BOTTLE,2021011SIOJHS,,,,,,,,,,,,,,,,,,,,,,,,,,,,,,,,,,,,,,
EXPOCODE,SECT_ID,STNNBR,CASTNO,SAMPNO,BTLNBR,BTLNBR_FLAG_W,DATE,TIME,LATITUDE,LONGITUDE,DEPTH,CTDPRS,CTDTMP,CTDSAL,CTDSAL_FLAG_W,SALNTY,SALNTY_FLAG_W,CTDOXY,CTDOXY_FLAG_W,OXYGEN,OXYGEN_FLAG_W,SILCAT,SILCAT_FLAG_W,NITRAT,NITRAT_FLAG_W,NITRIT,NITRIT_FLAG_W,PHSPHT,PHSPHT_FLAG_W,CFC-11,CFC-11_FLAG_W,CFC-12,CFC-12_FLAG_W,SF6,SF6_FLAG_W,TCARBN,TCARBN_FLAG_W,ALKALI,ALKALI_FLAG_W
,,,,,,,,,,,,DBAR,DEG C,PSS-78,,PSS-78,,UMOL/KG,,UMOL/KG,,UMOL/KG,,UMOL/KG,,UMOL/KG,,UMOL/KG,,PMOL/KG,,PMOL/KG,,NMOL/KG,,UMOL/KG,,UMOL/KG,
    09AR9604_1,   UNK,27,1,24,24,2,19960206,457,-63.0043,89.8908,3931,14.5,0.363,33.848,2,33.856,2,354.9,3,352,2,31.9,2,23,2,-999,9,1.46,2,-999,9,-999,9,-999,9,-999,9,-999,9
    09AR9604_1,   UNK,27,1,23,23,2,19960206,457,-63.0043,89.8908,3931,67.6,-0.623,34.165,2,34.155,2,292.8,2,296.8,2,51,2,29.9,2,-999,9,-999,9,-999,9,-999,9,-999,9,-999,9,-999,9
    09AR9604_1,   UNK,27,1,22,22,2,19960206,457,-63.0043,89.8908,3931,102.9,-0.549,34.351,2,34.35,2,259.9,2,260.8,2,58.6,2,31.6,2,-999,9,2.24,2,-999,9,-999,9,-999,9,-999,9,-999,9
    09AR9604_1,   UNK,27,1,21,21,2,19960206,457,-63.0043,89.8908,3931,152.4,0.36,34.494,2,34.497,2,233.7,2,228.1,2,61.1,2,32.5,2,-999,9,2.2,2,-999,9,-999,9,-999,9,-999,9,-999,9
    09AR9604_1,   UNK,27,1,20,20,2,19960206,457,-63.0043,89.8908,3931,200.6,0.937,34.574,3,34.577,2,215.7,2,210,2,71.1,2,32.5,2,-999,9,2.21,2,-999,9,-999,9,-999,9,-999,9,-999,9
    09AR9604_1,   UNK,27,1,19,119,2,19960206,457,-63.0043,89.8908,3931,253.2,1.306,34.631,2,34.63,2,201.2,2,199.5,2,71.1,2,31.5,2,-999,9,2.18,2,-999,9,-999,9,-999,9,-999,9,-999,9
    09AR9604_1,   UNK,27,1,18,118,2,19960206,457,-63.0043,89.8908,3931,355.7,1.394,34.675,3,34.673,2,196.3,2,199.2,2,70.9,2,31.5,2,-999,9,2.15,2,-999,9,-999,9,-999,9,-999,9,-999,9
    09AR9604_1,   UNK,27,1,17,17,2,19960206,457,-63.0043,89.8908,3931,454.5,1.388,34.7,3,34.691,3,197,2,201.4,2,67.1,2,30.8,2,-999,9,2.13,2,-999,9,-999,9,-999,9,-999,9,-999,9
    09AR9604_1,   UNK,27,1,16,216,2,19960206,457,-63.0043,89.8908,3931,601.9,1.457,34.725,2,34.725,2,200.3,2,199.6,2,75.6,2,30.6,2,-999,9,2.09,2,-999,9,-999,9,-999,9,-999,9,-999,9
    09AR9604_1,   UNK,27,1,15,215,2,19960206,457,-63.0043,89.8908,3931,701,1.363,34.728,2,34.727,2,201.2,2,201.2,2,86,2,30.3,2,-999,9,2.1,2,-999,9,-999,9,-999,9,-999,9,-999,9
    09AR9604_1,   UNK,27,1,14,114,2,19960206,457,-63.0043,89.8908,3931,854.1,1.143,34.716,2,34.717,2,203.6,2,204.8,2,90.2,2,30.6,2,-999,9,2.11,2,-999,9,-999,9,-999,9,-999,9,-999,9
    09AR9604_1,   UNK,27,1,13,113,2,19960206,457,-63.0043,89.8908,3931,1011.9,1.007,34.712,2,34.712,2,206.3,2,205.8,2,89.2,2,30.8,2,-999,9,2.14,2,-999,9,-999,9,-999,9,-999,9,-999,9
    09AR9604_1,   UNK,27,1,12,112,2,19960206,457,-63.0043,89.8908,3931,1191.3,0.851,34.705,2,34.706,2,209.7,2,207.1,2,97,2,31,2,-999,9,2.16,2,0.229,2,0.107,2,-999,9,-999,9,-999,9
    09AR9604_1,   UNK,27,1,11,11,2,19960206,457,-63.0043,89.8908,3931,1400.3,0.68,34.696,2,34.698,2,212,2,209.4,2,99.9,2,31.8,2,-999,9,2.14,2,-999,9,-999,9,-999,9,-999,9,-999,9
    09AR9604_1,   UNK,27,1,10,10,2,19960206,457,-63.0043,89.8908,3931,1606.4,0.518,34.689,2,34.689,2,213.1,2,211.3,2,99.4,2,31.8,2,-999,9,2.23,2,0.204,2,0.098,2,-999,9,-999,9,-999,9
    09AR9604_1,   UNK,27,1,9,9,2,19960206,457,-63.0043,89.8908,3931,1805.1,0.394,34.682,2,34.684,2,216.1,2,213.2,2,107.7,2,31.8,2,-999,9,2.22,2,-999,9,-999,9,-999,9,-999,9,-999,9
    09AR9604_1,   UNK,27,1,8,8,2,19960206,457,-63.0043,89.8908,3931,2004.6,0.276,34.679,2,34.678,2,218.1,2,216.4,2,105.4,2,32.2,2,-999,9,2.2,2,0.234,2,0.11,2,-999,9,-999,9,-999,9
    09AR9604_1,   UNK,27,1,7,7,2,19960206,457,-63.0043,89.8908,3931,2305.7,0.159,34.676,2,34.675,2,222.1,2,221,2,109.8,2,31.9,2,-999,9,2.25,2,-999,9,-999,9,-999,9,-999,9,-999,9
    09AR9604_1,   UNK,27,1,6,6,2,19960206,457,-63.0043,89.8908,3931,2606.6,0.046,34.674,2,34.672,2,225.7,2,225.6,2,110.9,2,32.3,2,-999,9,2.2,2,0.451,2,0.218,2,-999,9,-999,9,-999,9
    09AR9604_1,   UNK,27,1,5,5,2,19960206,457,-63.0043,89.8908,3931,2905.6,-0.031,34.67,2,34.671,2,229.9,2,229.2,2,110,2,31.9,2,-999,9,2.22,2,-999,9,-999,9,-999,9,-999,9,-999,9
    09AR9604_1,   UNK,27,1,4,4,2,19960206,457,-63.0043,89.8908,3931,3206.8,-0.087,34.667,2,34.669,2,232.5,2,232.1,2,107.2,2,32.1,2,-999,9,2.24,2,0.78,2,0.37,2,-999,9,-999,9,-999,9
    09AR9604_1,   UNK,27,1,3,3,2,19960206,457,-63.0043,89.8908,3931,3507.4,-0.119,34.667,2,34.668,2,236.1,2,234.4,2,105,2,32,2,-999,9,2.2,2,-999,9,-999,9,-999,9,-999,9,-999,9
    09AR9604_1,   UNK,27,1,2,2,2,19960206,457,-63.0043,89.8908,3931,3809,-0.155,34.666,2,34.666,2,239.7,2,236.5,2,113.9,2,32.1,2,-999,9,2.2,2,1.196,2,0.549,2,-999,9,-999,9,-999,9
    09AR9604_1,   UNK,27,1,1,1,2,19960206,457,-63.0043,89.8908,3931,4008.4,-0.168,34.663,2,34.664,2,240.9,2,237.2,2,114.5,2,31.7,2,-999,9,2.22,2,1.395,2,0.639,2,-999,9,-999,9,-999,9
    09AR9604_1,   UNK,28,1,24,24,2,19960206,1247,-63.0007,91.7335,4095,11.2,0.403,33.744,2,33.747,2,357,2,356.1,2,36.8,2,22,2,-999,9,1.51,4,6.587,2,3.185,2,-999,9,-999,9,-999,9
    09AR9604_1,   UNK,28,1,23,23,2,19960206,1247,-63.0007,91.7335,4095,52.3,-0.824,34.042,4,34.053,2,303.4,3,319.7,2,51.1,2,27.2,2,-999,9,2.13,4,-999,9,-999,9,-999,9,-999,9,-999,9
    09AR9604_1,   UNK,28,1,22,22,2,19960206,1247,-63.0007,91.7335,4095,102.8,-0.719,34.435,2,34.433,2,278.8,2,267.2,2,66.2,2,31.2,2,-999,9,2.37,4,-999,9,-999,9,-999,9,-999,9,-999,9
    09AR9604_1,   UNK,28,1,21,21,2,19960206,1247,-63.0007,91.7335,4095,153.1,0.043,34.542,2,34.539,2,245.8,2,240.1,2,66.6,2,30.9,2,-999,9,2.36,4,2.581,2,1.215,2,-999,9,-999,9,-999,9
    09AR9604_1,   UNK,28,1,20,20,2,19960206,1247,-63.0007,91.7335,4095,201.3,0.75,34.628,3,34.624,2,218.2,2,216.6,2,75.3,2,31.2,2,-999,9,2.4,4,-999,9,-999,9,-999,9,-999,9,-999,9
    09AR9604_1,   UNK,28,1,19,119,2,19960206,1247,-63.0007,91.7335,4095,302.8,1.159,34.69,2,34.688,2,201.2,2,202.1,2,84.5,2,30.7,2,-999,9,2.38,4,0.688,2,0.318,2,-999,9,-999,9,-999,9
    09AR9604_1,   UNK,28,1,18,118,2,19960206,1247,-63.0007,91.7335,4095,405.3,1.157,34.705,2,34.704,2,200.8,2,203,2,82.1,2,30.9,2,-999,9,2.39,4,-999,9,-999,9,-999,9,-999,9,-999,9
    09AR9604_1,   UNK,28,1,17,17,2,19960206,1247,-63.0007,91.7335,4095,501.3,1.124,34.71,2,34.712,2,200.5,2,202.4,2,91,2,30.9,2,-999,9,2.4,4,0.362,2,0.173,2,-999,9,-999,9,-999,9
    09AR9604_1,   UNK,28,1,16,216,2,19960206,1247,-63.0007,91.7335,4095,602.6,1.066,34.712,2,34.713,2,202.5,2,202.5,2,93,2,30.9,2,-999,9,2.4,4,0.292,2,0.139,2,-999,9,-999,9,-999,9
    09AR9604_1,   UNK,28,1,15,215,2,19960206,1247,-63.0007,91.7335,4095,701.9,0.997,34.712,2,34.711,2,203.9,2,203.6,2,95.2,2,30.6,2,-999,9,2.37,4,0.255,2,0.119,2,-999,9,-999,9,-999,9
    09AR9604_1,   UNK,28,1,14,114,2,19960206,1247,-63.0007,91.7335,4095,804.8,0.912,34.708,2,34.708,2,202.5,2,204.6,2,95.5,2,31.3,2,-999,9,2.41,4,-999,9,-999,9,-999,9,-999,9,-999,9
    09AR9604_1,   UNK,28,1,13,113,2,19960206,1247,-63.0007,91.7335,4095,905.7,0.829,34.704,2,34.704,2,203.1,2,205.3,2,92.9,2,31,2,-999,9,2.41,4,0.197,2,0.098,2,-999,9,-999,9,-999,9
    09AR9604_1,   UNK,28,1,12,112,2,19960206,1247,-63.0007,91.7335,4095,1004,0.755,34.7,4,34.701,2,207,2,206.1,2,99.5,2,31.2,2,-999,9,2.42,4,-999,9,-999,9,-999,9,-999,9,-999,9
    09AR9604_1,   UNK,28,1,11,11,2,19960206,1247,-63.0007,91.7335,4095,1201.1,0.624,34.695,2,34.694,2,209.4,2,208,2,103.6,2,31.2,2,-999,9,2.43,4,-999,9,-999,9,-999,9,-999,9,-999,9
    09AR9604_1,   UNK,28,1,10,10,2,19960206,1247,-63.0007,91.7335,4095,1402.8,0.466,34.687,2,34.687,2,213.1,2,211.1,2,110.8,2,31.7,2,-999,9,2.48,4,-999,9,-999,9,-999,9,-999,9,-999,9
    09AR9604_1,   UNK,28,1,9,9,2,19960206,1247,-63.0007,91.7335,4095,1604.4,0.343,34.683,2,34.682,2,215.7,2,214.1,2,108.8,2,31.6,2,-999,9,2.48,4,0.213,2,0.104,2,-999,9,-999,9,-999,9
    09AR9604_1,   UNK,28,1,8,8,2,19960206,1247,-63.0007,91.7335,4095,1804.6,0.233,34.677,2,34.677,2,218.7,2,218.1,2,115.2,2,31.7,2,-999,9,2.48,4,-999,9,-999,9,-999,9,-999,9,-999,9
    09AR9604_1,   UNK,28,1,7,7,2,19960206,1247,-63.0007,91.7335,4095,2005.9,0.133,34.673,2,34.672,2,222.4,2,222.1,2,111.3,2,31.4,2,-999,9,2.45,4,-999,9,-999,9,-999,9,-999,9,-999,9
    09AR9604_1,   UNK,28,1,6,6,2,19960206,1247,-63.0007,91.7335,4095,2304,0.027,34.672,2,34.671,2,227.3,2,226,2,112.3,2,31.7,2,-999,9,2.48,4,-999,9,-999,9,-999,9,-999,9,-999,9
    09AR9604_1,   UNK,28,1,5,5,2,19960206,1247,-63.0007,91.7335,4095,2607.9,-0.051,34.668,2,34.67,2,230.5,2,229.6,2,114.9,2,31.7,2,-999,9,2.45,4,0.765,2,0.358,2,-999,9,-999,9,-999,9
    09AR9604_1,   UNK,28,1,4,4,2,19960206,1247,-63.0007,91.7335,4095,2908,-0.103,34.666,2,34.669,2,233.3,2,232.4,2,109.4,2,31.3,2,-999,9,2.45,4,-999,9,-999,9,-999,9,-999,9,-999,9
    09AR9604_1,   UNK,28,1,3,3,2,19960206,1247,-63.0007,91.7335,4095,3209.8,-0.131,34.667,2,34.668,2,234,2,234.3,2,111.4,2,31.3,2,-999,9,2.46,4,1.071,2,0.505,2,-999,9,-999,9,-999,9
    09AR9604_1,   UNK,28,1,2,2,2,19960206,1247,-63.0007,91.7335,4095,3598.9,-0.174,34.662,2,34.664,2,237.2,2,236.6,2,114.9,2,31.1,2,-999,9,2.43,4,-999,9,-999,9,-999,9,-999,9,-999,9
    09AR9604_1,   UNK,28,1,1,1,2,19960206,1247,-63.0007,91.7335,4095,3710,-0.196,34.662,2,34.663,2,238.1,2,237.2,2,116.2,2,31.1,2,-999,9,2.48,4,1.413,6,0.648,6,-999,9,-999,9,-999,9
    09AR9604_1,   UNK,30,1,24,24,2,19960206,2134,-63.0057,93.5495,3327,10.2,0.528,33.787,2,33.791,2,358.9,2,354.1,2,37.5,2,21.6,2,-999,9,1.39,2,6.718,2,3.184,2,-999,9,-999,9,-999,9
    09AR9604_1,   UNK,30,1,23,23,2,19960206,2134,-63.0057,93.5495,3327,40,0.249,33.791,2,33.793,2,342.8,2,349.3,2,38.3,2,22.1,2,-999,9,1.47,2,6.603,2,3.176,2,-999,9,-999,9,-999,9
    09AR9604_1,   UNK,30,1,22,22,2,19960206,2134,-63.0057,93.5495,3327,102.1,0.449,34.584,3,34.581,2,221.6,2,224.3,2,77.3,2,31.2,2,-999,9,2.26,2,2.013,2,0.924,2,-999,9,-999,9,-999,9
    09AR9604_1,   UNK,30,1,21,21,2,19960206,2134,-63.0057,93.5495,3327,155,1.035,34.668,2,34.664,2,207.3,2,204.9,2,81.9,2,31.3,2,-999,9,2.24,2,1.072,2,0.48,2,-999,9,-999,9,-999,9
    09AR9604_1,   UNK,30,1,20,20,2,19960206,2134,-63.0057,93.5495,3327,201.2,1.185,34.692,2,34.692,2,201.9,2,201,2,83.9,2,30.9,2,-999,9,2.25,2,0.749,2,0.341,2,-999,9,-999,9,-999,9
    09AR9604_1,   UNK,30,1,19,119,2,19960206,2134,-63.0057,93.5495,3327,280.5,1.217,34.708,2,34.708,2,199,2,200.9,2,86.7,2,30.8,2,-999,9,2.24,2,0.57,2,0.258,2,-999,9,-999,9,-999,9
    09AR9604_1,   UNK,30,1,18,118,2,19960206,2134,-63.0057,93.5495,3327,400.4,1.19,34.719,2,34.717,2,199.7,2,201,2,91.2,2,30.9,2,-999,9,2.23,2,0.368,2,0.175,2,-999,9,-999,9,-999,9
    09AR9604_1,   UNK,30,1,17,17,2,19960206,2134,-63.0057,93.5495,3327,501,1.109,34.721,2,34.721,2,198.9,2,201.9,2,89.1,2,30.6,2,-999,9,2.22,2,0.31,2,0.144,2,-999,9,-999,9,-999,9
    09AR9604_1,   UNK,30,1,16,216,2,19960206,2134,-63.0057,93.5495,3327,603.6,1.018,34.718,2,34.721,2,202.8,2,203.1,2,97.1,2,30.6,2,-999,9,2.23,2,0.254,2,0.117,2,-999,9,-999,9,-999,9
    09AR9604_1,   UNK,30,1,15,215,2,19960206,2134,-63.0057,93.5495,3327,704.2,0.941,34.715,2,34.716,2,204.5,2,204,2,102.1,2,30.9,2,-999,9,2.25,2,0.221,2,0.101,2,-999,9,-999,9,-999,9
    09AR9604_1,   UNK,30,1,14,114,2,19960206,2134,-63.0057,93.5495,3327,800.7,0.86,34.713,2,34.714,2,204.8,2,205.2,2,99.3,2,30.9,2,-999,9,2.25,2,0.198,2,0.091,2,-999,9,-999,9,-999,9
    09AR9604_1,   UNK,30,1,13,113,2,19960206,2134,-63.0057,93.5495,3327,900.8,0.778,34.709,2,34.709,2,205.1,2,206.5,2,99.5,2,31.2,2,-999,9,2.26,2,0.177,2,0.085,2,-999,9,-999,9,-999,9
    09AR9604_1,   UNK,30,1,12,112,2,19960206,2134,-63.0057,93.5495,3327,1015.4,0.69,34.705,2,34.705,2,208.5,2,207.5,2,108,2,31,2,-999,9,2.27,2,0.169,2,0.076,2,-999,9,-999,9,-999,9
    09AR9604_1,   UNK,30,1,11,11,2,19960206,2134,-63.0057,93.5495,3327,1202,0.557,34.697,2,34.698,2,212,2,209.8,2,113.4,2,31.6,2,-999,9,2.3,2,0.208,2,0.094,2,-999,9,-999,9,-999,9
    09AR9604_1,   UNK,30,1,10,10,2,19960206,2134,-63.0057,93.5495,3327,1403.3,0.387,34.69,2,34.689,2,216.4,2,213.4,2,111.6,2,31.9,2,-999,9,1.83,4,0.238,2,0.111,2,-999,9,-999,9,-999,9
    09AR9604_1,   UNK,30,1,9,9,2,19960206,2134,-63.0057,93.5495,3327,1603.6,0.258,34.685,2,34.684,2,220.2,2,217.5,2,115.3,2,31.6,2,-999,9,2.29,2,0.368,2,0.17,2,-999,9,-999,9,-999,9
    09AR9604_1,   UNK,30,1,8,8,2,19960206,2134,-63.0057,93.5495,3327,1804.5,0.147,34.681,2,34.681,2,223,2,220.9,2,117.2,2,31.5,2,-999,9,2.33,2,0.392,2,0.183,2,-999,9,-999,9,-999,9
    09AR9604_1,   UNK,30,1,7,7,2,19960206,2134,-63.0057,93.5495,3327,2002.9,0.064,34.679,2,34.678,2,225.5,2,224.3,2,118.2,2,31.5,2,-999,9,2.3,2,0.505,2,0.234,2,-999,9,-999,9,-999,9
    09AR9604_1,   UNK,30,1,6,6,2,19960206,2134,-63.0057,93.5495,3327,2303,-0.045,34.676,2,34.676,2,228.6,2,228.6,2,114.5,2,31.4,2,-999,9,2.3,2,0.733,2,0.334,2,-999,9,-999,9,-999,9
    09AR9604_1,   UNK,30,1,5,5,2,19960206,2134,-63.0057,93.5495,3327,2610.5,-0.112,34.674,2,34.675,2,232.1,2,231.9,2,113.4,2,31.4,2,-999,9,2.27,2,0.957,2,0.436,2,-999,9,-999,9,-999,9
    09AR9604_1,   UNK,30,1,4,4,2,19960206,2134,-63.0057,93.5495,3327,2857.3,-0.147,34.673,2,34.674,2,233.5,2,234,2,111.4,2,31,2,-999,9,2.29,2,1.115,2,0.505,2,-999,9,-999,9,-999,9
    09AR9604_1,   UNK,30,1,3,3,2,19960206,2134,-63.0057,93.5495,3327,3106.1,-0.181,34.672,2,34.672,2,235.2,2,235.8,2,119.3,2,31.3,2,-999,9,2.31,2,1.196,2,0.545,2,-999,9,-999,9,-999,9
    09AR9604_1,   UNK,30,1,2,2,2,19960206,2134,-63.0057,93.5495,3327,3233.9,-0.219,34.67,2,34.671,2,236.8,2,237.1,2,116.4,2,31.3,2,-999,9,2.24,2,1.344,2,0.614,2,-999,9,-999,9,-999,9
    09AR9604_1,   UNK,30,1,1,1,2,19960206,2134,-63.0057,93.5495,3327,3319.3,-0.244,34.668,2,-999,9,236.6,2,238.1,2,118.3,2,31.5,2,-999,9,2.28,2,1.511,2,0.688,2,-999,9,-999,9,-999,9
    09AR9604_1,   UNK,31,1,24,24,2,19960207,436,-63.5027,93.5677,3194,12.2,0.509,33.741,4,33.739,2,358.1,3,353.2,2,38.4,2,22.6,2,-999,9,1.35,2,6.594,2,3.18,2,-999,9,-999,9,-999,9
    09AR9604_1,   UNK,31,1,23,23,2,19960207,436,-63.5027,93.5677,3194,52.4,-0.641,34.028,4,34.032,2,314.9,2,319.2,2,52.1,2,27.1,2,-999,9,2.01,2,-999,9,-999,9,-999,9,-999,9,-999,9
    09AR9604_1,   UNK,31,1,22,22,2,19960207,436,-63.5027,93.5677,3194,102.3,-0.04,34.525,2,34.524,2,247.2,2,241.1,2,75.2,2,31.6,2,-999,9,2.23,2,-999,9,-999,9,-999,9,-999,9,-999,9
    09AR9604_1,   UNK,31,1,21,21,2,19960207,436,-63.5027,93.5677,3194,152.3,0.791,34.638,2,34.638,2,212.3,2,212.1,2,79.6,2,31.6,2,-999,9,2.24,2,1.401,2,0.635,2,-999,9,-999,9,-999,9
    09AR9604_1,   UNK,31,1,20,20,2,19960207,436,-63.5027,93.5677,3194,203.5,1.142,34.691,2,34.689,2,202.9,2,201.6,2,85,2,31.4,2,-999,9,2.26,2,-999,9,-999,9,-999,9,-999,9,-999,9
    09AR9604_1,   UNK,31,1,19,119,2,19960207,436,-63.5027,93.5677,3194,282,1.19,34.707,2,34.708,2,196,2,200.3,2,87.4,2,31.3,2,-999,9,2.23,2,0.54,2,0.25,2,-999,9,-999,9,-999,9
    09AR9604_1,   UNK,31,1,18,118,2,19960207,436,-63.5027,93.5677,3194,411,1.172,34.719,2,34.721,2,201.1,2,200.7,2,92.2,2,31.1,2,-999,9,2.24,2,-999,9,-999,9,-999,9,-999,9,-999,9
    09AR9604_1,   UNK,31,1,17,17,2,19960207,436,-63.5027,93.5677,3194,505.5,1.103,34.721,2,34.721,2,201.1,2,201.6,2,93.5,2,31.1,2,-999,9,2.22,2,0.288,2,0.135,2,-999,9,-999,9,-999,9
    09AR9604_1,   UNK,31,1,16,216,2,19960207,436,-63.5027,93.5677,3194,601.8,1.031,34.72,2,34.721,2,201.9,2,202.7,2,95.4,2,31.1,2,-999,9,2.2,2,-999,9,-999,9,-999,9,-999,9,-999,9
    09AR9604_1,   UNK,31,1,15,215,2,19960207,436,-63.5027,93.5677,3194,702.8,0.955,34.717,2,34.713,2,202.7,2,203.5,2,98,2,31.4,2,-999,9,2.24,2,0.219,2,0.103,2,-999,9,-999,9,-999,9
    09AR9604_1,   UNK,31,1,14,114,2,19960207,436,-63.5027,93.5677,3194,801.6,0.864,34.713,2,34.711,2,205.5,2,205.1,2,99.4,2,31.6,2,-999,9,2.24,2,0.215,6,0.098,6,-999,9,-999,9,-999,9
    09AR9604_1,   UNK,31,1,13,113,2,19960207,436,-63.5027,93.5677,3194,901.5,0.789,34.709,2,34.708,2,205.4,2,205.9,2,102.6,2,31.6,2,-999,9,2.26,2,-999,9,-999,9,-999,9,-999,9,-999,9
    09AR9604_1,   UNK,31,1,12,112,2,19960207,436,-63.5027,93.5677,3194,1000.1,0.689,34.704,2,34.704,2,207.7,2,208.1,2,103.9,2,31.8,2,-999,9,2.23,2,0.25,2,0.115,2,-999,9,-999,9,-999,9
    09AR9604_1,   UNK,31,1,11,11,2,19960207,436,-63.5027,93.5677,3194,1102.8,0.598,34.7,2,34.698,2,210.8,2,209.5,2,108.2,2,30.8,2,-999,9,2.27,2,-999,9,-999,9,-999,9,-999,9,-999,9
    09AR9604_1,   UNK,31,1,10,10,2,19960207,436,-63.5027,93.5677,3194,1303.5,0.42,34.692,2,34.689,2,214,2,213.4,2,111.4,2,31.2,2,-999,9,2.29,2,0.293,2,0.137,2,-999,9,-999,9,-999,9
    09AR9604_1,   UNK,31,1,9,9,2,19960207,436,-63.5027,93.5677,3194,1503.9,0.273,34.685,2,34.684,2,217,2,217.3,2,113.3,2,31.9,2,-999,9,2.28,2,-999,9,-999,9,-999,9,-999,9,-999,9
    09AR9604_1,   UNK,31,1,8,8,2,19960207,436,-63.5027,93.5677,3194,1704.2,0.166,34.681,2,34.68,2,220.6,2,220.9,2,109.8,2,31.5,2,-999,9,2.27,2,0.458,2,0.215,2,-999,9,-999,9,-999,9
    09AR9604_1,   UNK,31,1,7,7,2,19960207,436,-63.5027,93.5677,3194,1904.4,0.064,34.678,2,34.676,2,223.1,2,224.5,2,107.3,2,31.6,2,-999,9,2.29,2,-999,9,-999,9,-999,9,-999,9,-999,9
    09AR9604_1,   UNK,31,1,6,6,2,19960207,436,-63.5027,93.5677,3194,2105.4,0.003,34.676,2,34.676,2,225.4,2,227,2,114.2,2,31.5,2,-999,9,2.28,2,0.683,2,0.317,2,-999,9,-999,9,-999,9
    09AR9604_1,   UNK,31,1,5,5,2,19960207,436,-63.5027,93.5677,3194,2405.7,-0.071,34.675,2,34.675,2,229,2,230.1,2,109.1,2,31.9,2,-999,9,2.26,2,-999,9,-999,9,-999,9,-999,9,-999,9
    09AR9604_1,   UNK,31,1,4,4,2,19960207,436,-63.5027,93.5677,3194,2705.9,-0.109,34.674,2,34.675,2,232.2,2,232.3,2,105.8,2,30.7,2,-999,9,2.21,2,1.07,2,0.488,2,-999,9,-999,9,-999,9
    09AR9604_1,   UNK,31,1,3,3,2,19960207,436,-63.5027,93.5677,3194,3005.1,-0.138,34.672,2,34.674,2,234.8,2,234.3,2,108.2,2,30.6,2,-999,9,2.22,2,-999,9,-999,9,-999,9,-999,9,-999,9
    09AR9604_1,   UNK,31,1,2,2,2,19960207,436,-63.5027,93.5677,3194,3104.4,-0.21,34.671,2,34.671,2,236.6,2,236.5,2,111.4,2,31,2,-999,9,2.26,2,1.284,2,0.592,2,-999,9,-999,9,-999,9
    09AR9604_1,   UNK,31,1,1,1,2,19960207,436,-63.5027,93.5677,3194,3182,-0.227,34.668,2,34.671,2,237.1,2,236.8,2,116.4,2,30.5,2,-999,9,2.17,2,1.37,2,0.627,2,-999,9,-999,9,-999,9