BOTTLE,2021011SIOJHS,,,,,,,,,,,,,,,,,,,,,,,,,,,,,,,,,,,,,,
EXPOCODE,SECT_ID,STNNBR,CASTNO,SAMPNO,BTLNBR,BTLNBR_FLAG_W,DATE,TIME,LATITUDE,LONGITUDE,DEPTH,CTDPRS,CTDTMP,CTDSAL,CTDSAL_FLAG_W,SALNTY,SALNTY_FLAG_W,CTDOXY,CTDOXY_FLAG_W,OXYGEN,OXYGEN_FLAG_W,SILCAT,SILCAT_FLAG_W,NITRAT,NITRAT_FLAG_W,NITRIT,NITRIT_FLAG_W,PHSPHT,PHSPHT_FLAG_W,CFC-11,CFC-11_FLAG_W,CFC-12,CFC-12_FLAG_W,SF6,SF6_FLAG_W,TCARBN,TCARBN_FLAG_W,ALKALI,ALKALI_FLAG_W
,,,,,,,,,,,,DBAR,DEG C,PSS-78,,PSS-78,,UMOL/KG,,UMOL/KG,,UMOL/KG,,UMOL/KG,,UMOL/KG,,UMOL/KG,,PMOL/KG,,PMOL/KG,,NMOL/KG,,UMOL/KG,,UMOL/KG,
    09AR9604_1,   UNK,104,1,23,23,2,19960304,2217,-65.1662,128.3602,1269,10.5,-0.286,33.702,2,33.701,2,-999,5,344.4,2,34.8,2,25.4,2,-999,9,1.62,2,-999,9,-999,9,-999,9,-999,9,-999,9
    09AR9604_1,   UNK,104,1,18,118,2,19960304,2217,-65.1662,128.3602,1269,61.5,-1.53,34.229,2,34.224,2,-999,5,332.8,2,52.2,2,27,2,-999,9,1.93,2,-999,9,-999,9,-999,9,-999,9,-999,9
    09AR9604_1,   UNK,104,1,15,215,2,19960304,2217,-65.1662,128.3602,1269,107.5,-1.728,34.325,2,34.324,2,-999,5,324.1,2,56.8,2,29.6,2,-999,9,2.03,2,-999,9,-999,9,-999,9,-999,9,-999,9
    09AR9604_1,   UNK,104,1,12,112,2,19960304,2217,-65.1662,128.3602,1269,152,-1.782,34.351,2,34.35,2,-999,5,316.6,2,58.5,2,29.8,2,-999,9,2.05,2,5.574,2,2.656,2,-999,9,-999,9,-999,9
    09AR9604_1,   UNK,104,1,6,6,2,19960304,2217,-65.1662,128.3602,1269,201.4,-1.554,34.394,3,34.395,2,-999,5,305.8,2,62.1,2,30.4,2,-999,9,2.07,2,5.063,2,2.419,2,-999,9,-999,9,-999,9
    09AR9604_1,   UNK,104,1,5,5,2,19960304,2217,-65.1662,128.3602,1269,402.4,-0.011,34.605,3,34.603,2,-999,5,243.3,2,80.6,2,31,2,-999,9,2.13,2,2.493,2,1.164,2,-999,9,-999,9,-999,9
    09AR9604_1,   UNK,104,1,4,4,2,19960304,2217,-65.1662,128.3602,1269,655.2,-0.248,34.628,3,34.626,2,-999,5,245,2,91.1,2,31.5,2,-999,9,2.13,2,2.148,2,1.04,2,-999,9,-999,9,-999,9
    09AR9604_1,   UNK,104,1,3,3,2,19960304,2217,-65.1662,128.3602,1269,901.3,-0.012,34.666,2,34.663,2,-999,5,228.6,2,103.8,2,31.7,2,-999,9,2.2,2,1.157,2,0.544,2,-999,9,-999,9,-999,9
    09AR9604_1,   UNK,104,1,2,2,2,19960304,2217,-65.1662,128.3602,1269,1104.3,-0.069,34.665,2,34.664,2,-999,5,229.6,2,103.8,2,31.9,2,-999,9,2.21,2,1.222,2,0.592,2,-999,9,-999,9,-999,9
    09AR9604_1,   UNK,104,1,1,1,2,19960304,2217,-65.1662,128.3602,1269,1273.1,-0.137,34.665,2,34.664,2,-999,5,231.6,2,102.2,2,31.6,2,-999,9,2.19,2,1.386,2,0.643,2,-999,9,-999,9,-999,9
    09AR9604_1,   UNK,105,1,23,23,2,19960305,39,-65.1555,128.3687,1474,11.6,-0.237,33.698,2,33.697,2,-999,5,345.2,2,35.7,2,25.5,2,-999,9,1.61,2,6.431,2,3.078,2,-999,9,-999,9,-999,9
    09AR9604_1,   UNK,105,1,17,17,2,19960305,39,-65.1555,128.3687,1474,76.4,-1.671,34.309,2,34.309,2,-999,5,323.3,2,56.3,2,29.6,2,-999,9,2.05,2,5.62,2,2.721,2,-999,9,-999,9,-999,9
    09AR9604_1,   UNK,105,1,12,112,2,19960305,39,-65.1555,128.3687,1474,153.3,-1.75,34.358,2,34.359,2,-999,5,314.3,2,60.6,2,30.4,2,-999,9,2.03,2,5.413,2,2.588,2,-999,9,-999,9,-999,9
    09AR9604_1,   UNK,105,1,9,9,2,19960305,39,-65.1555,128.3687,1474,201.8,-1.478,34.409,2,34.407,2,-999,5,301.3,2,65.2,2,30.4,2,-999,9,2.09,2,4.807,2,2.352,2,-999,9,-999,9,-999,9
    09AR9604_1,   UNK,105,1,8,8,2,19960305,39,-65.1555,128.3687,1474,252.8,-0.965,34.482,2,34.481,2,-999,5,283.7,2,69,2,31.1,2,-999,9,2.05,2,-999,9,-999,9,-999,9,-999,9,-999,9
    09AR9604_1,   UNK,105,1,7,7,2,19960305,39,-65.1555,128.3687,1474,302.8,-0.372,34.549,2,34.546,2,-999,5,258.3,2,74.5,2,31.1,2,-999,9,2.17,2,3.209,2,1.519,2,-999,9,-999,9,-999,9
    09AR9604_1,   UNK,105,1,6,6,2,19960305,39,-65.1555,128.3687,1474,503.4,-0.18,34.618,3,34.615,2,-999,5,245.4,2,87.1,2,31.3,2,-999,9,2.15,2,2.356,2,1.116,2,-999,9,-999,9,-999,9
    09AR9604_1,   UNK,105,1,5,5,2,19960305,39,-65.1555,128.3687,1474,703,0.11,34.679,4,34.66,2,-999,5,229.7,2,102.2,2,31.4,2,-999,9,2.17,2,1.297,2,0.605,2,-999,9,-999,9,-999,9
    09AR9604_1,   UNK,105,1,4,4,2,19960305,39,-65.1555,128.3687,1474,904,-0.063,34.662,2,34.661,2,-999,5,230.9,2,105.5,2,32.2,2,-999,9,2.2,2,1.301,2,0.616,2,-999,9,-999,9,-999,9
    09AR9604_1,   UNK,105,1,3,3,2,19960305,39,-65.1555,128.3687,1474,1104.1,-0.105,34.666,2,34.666,2,-999,5,231.2,2,105.5,2,32,2,-999,9,2.19,2,1.301,2,0.613,2,-999,9,-999,9,-999,9
    09AR9604_1,   UNK,105,1,2,2,2,19960305,39,-65.1555,128.3687,1474,1305.3,-0.218,34.668,2,34.668,2,-999,5,235.2,2,105.5,2,32.4,2,-999,9,2.2,2,1.428,2,0.685,2,-999,9,-999,9,-999,9
    09AR9604_1,   UNK,105,1,1,1,2,19960305,39,-65.1555,128.3687,1474,1484.3,-0.306,34.665,2,34.665,2,-999,5,238.6,2,104.2,2,31.7,2,-999,9,2.19,2,1.669,2,0.796,2,-999,9,-999,9,-999,9
    09AR9604_1,   UNK,106,1,23,23,2,19960305,327,-65.0863,128.3733,1843,10.9,-0.331,33.781,2,33.786,2,-999,5,346.9,2,35.1,2,24.7,2,-999,9,1.46,2,6.45,2,3.122,2,-999,9,-999,9,-999,9
    09AR9604_1,   UNK,106,1,20,20,2,19960305,327,-65.0863,128.3733,1843,45.4,-1.536,34.172,3,34.173,2,-999,5,333.5,2,50.3,2,28.8,2,-999,9,1.97,2,5.668,2,2.759,2,-999,9,-999,9,-999,9
    09AR9604_1,   UNK,106,1,17,17,2,19960305,327,-65.0863,128.3733,1843,90.1,-1.753,34.32,2,34.319,2,-999,5,315.2,2,58.5,2,30.4,2,-999,9,2.09,2,5.437,2,2.603,2,-999,9,-999,9,-999,9
    09AR9604_1,   UNK,106,1,14,114,2,19960305,327,-65.0863,128.3733,1843,136.4,-1.462,34.389,2,34.391,2,-999,5,301.9,2,63.5,2,31.1,2,-999,9,2.09,2,4.889,2,2.372,2,-999,9,-999,9,-999,9
    09AR9604_1,   UNK,106,1,12,112,2,19960305,327,-65.0863,128.3733,1843,201.3,-1.387,34.441,2,34.439,2,-999,5,301.2,2,65.9,2,30.8,2,-999,9,2.11,2,4.818,2,2.33,2,-999,9,-999,9,-999,9
    09AR9604_1,   UNK,106,1,11,11,2,19960305,327,-65.0863,128.3733,1843,301.3,-0.372,34.565,2,34.564,2,-999,5,257.1,2,77.7,2,31.8,2,-999,9,2.16,2,3.111,2,1.466,2,-999,9,-999,9,-999,9
    09AR9604_1,   UNK,106,1,10,10,2,19960305,327,-65.0863,128.3733,1843,402.2,0.112,34.634,2,34.631,2,-999,5,237.6,2,87.6,2,31.2,2,-999,9,2.18,2,2.066,2,0.997,2,-999,9,-999,9,-999,9
    09AR9604_1,   UNK,106,1,9,9,2,19960305,327,-65.0863,128.3733,1843,502.7,-0.071,34.63,2,34.631,2,-999,5,241.4,2,89.8,2,31.7,2,-999,9,2.17,2,2.148,2,1.017,2,-999,9,-999,9,-999,9
    09AR9604_1,   UNK,106,1,8,8,2,19960305,327,-65.0863,128.3733,1843,601.2,-0.11,34.635,2,34.636,2,-999,5,241.1,2,89.8,2,31.4,2,-999,9,2.18,2,2.02,2,0.965,2,-999,9,-999,9,-999,9
    09AR9604_1,   UNK,106,1,7,7,2,19960305,327,-65.0863,128.3733,1843,700.2,0.281,34.679,2,34.678,2,-999,5,221,2,104.2,2,31.9,2,-999,9,2.21,2,0.918,2,0.424,2,-999,9,-999,9,-999,9
    09AR9604_1,   UNK,106,1,6,6,2,19960305,327,-65.0863,128.3733,1843,902.7,0.107,34.679,2,34.675,2,-999,5,222.9,2,111.2,2,32,2,-999,9,2.21,2,0.852,2,0.399,2,-999,9,-999,9,-999,9
    09AR9604_1,   UNK,106,1,5,5,2,19960305,327,-65.0863,128.3733,1843,1102.4,-0.092,34.67,2,34.671,2,-999,5,229.8,2,110.1,2,31.7,2,-999,9,2.21,2,1.155,2,0.55,2,-999,9,-999,9,-999,9
    09AR9604_1,   UNK,106,1,4,4,2,19960305,327,-65.0863,128.3733,1843,1302.2,-0.219,34.668,2,34.671,2,-999,5,234.7,2,108.7,2,31.7,2,-999,9,2.2,2,1.406,2,0.659,2,-999,9,-999,9,-999,9
    09AR9604_1,   UNK,106,1,3,3,2,19960305,327,-65.0863,128.3733,1843,1503,-0.264,34.67,2,34.673,2,-999,5,235.9,2,108.7,2,32,2,-999,9,2.21,2,1.447,2,0.672,2,-999,9,-999,9,-999,9
    09AR9604_1,   UNK,106,1,2,2,2,19960305,327,-65.0863,128.3733,1843,1705,-0.333,34.664,2,34.667,2,-999,5,239.5,2,104.2,2,31.9,2,-999,9,2.21,2,1.748,2,0.829,2,-999,9,-999,9,-999,9
    09AR9604_1,   UNK,106,1,1,1,2,19960305,327,-65.0863,128.3733,1843,1804.1,-0.329,34.664,2,34.668,2,-999,5,239.6,2,104.2,2,31.8,2,-999,9,2.2,2,1.757,2,0.825,2,-999,9,-999,9,-999,9
    09AR9604_1,   UNK,107,1,23,23,2,19960305,827,-64.835,128.3948,1894,11,-0.202,33.776,2,33.774,2,-999,5,347.2,2,35.5,2,24.8,2,-999,9,1.49,2,-999,9,-999,9,-999,9,-999,9,-999,9
    09AR9604_1,   UNK,107,1,20,20,2,19960305,827,-64.835,128.3948,1894,61.5,-1.796,34.288,2,34.286,2,-999,5,322,2,60.3,2,30.1,2,-999,9,2.08,2,-999,9,-999,9,-999,9,-999,9,-999,9
    09AR9604_1,   UNK,107,1,17,17,2,19960305,827,-64.835,128.3948,1894,106.4,-1.789,34.332,2,34.33,2,-999,5,318,2,62.5,2,30.5,2,-999,9,2.06,2,-999,9,-999,9,-999,9,-999,9,-999,9
    09AR9604_1,   UNK,107,1,14,114,2,19960305,827,-64.835,128.3948,1894,151.1,-1.769,34.356,2,34.36,2,-999,5,317.6,2,63.8,2,30.2,2,-999,9,2.05,2,-999,9,-999,9,-999,9,-999,9,-999,9
    09AR9604_1,   UNK,107,1,13,113,2,19960305,827,-64.835,128.3948,1894,201.4,-1.688,34.393,2,34.393,2,-999,5,314.8,2,64.6,2,30.5,2,-999,9,2.06,2,-999,9,-999,9,-999,9,-999,9,-999,9
    09AR9604_1,   UNK,107,1,12,112,2,19960305,827,-64.835,128.3948,1894,302.3,-0.588,34.532,4,34.53,2,-999,5,270.2,2,77.9,2,31,2,-999,9,2.15,2,-999,9,-999,9,-999,9,-999,9,-999,9
    09AR9604_1,   UNK,107,1,11,11,2,19960305,827,-64.835,128.3948,1894,402.6,0.219,34.63,2,34.628,2,-999,5,235,2,88.5,2,31.2,2,-999,9,2.16,2,-999,9,-999,9,-999,9,-999,9,-999,9
    09AR9604_1,   UNK,107,1,10,10,2,19960305,827,-64.835,128.3948,1894,501.6,0.435,34.664,2,34.665,2,-999,5,224.2,2,96.6,2,31.4,2,-999,9,2.18,2,1.333,2,0.632,2,-999,9,-999,9,-999,9
    09AR9604_1,   UNK,107,1,9,9,2,19960305,827,-64.835,128.3948,1894,602,0.369,34.671,2,34.67,2,-999,5,222.9,2,100,2,31.2,2,-999,9,2.18,2,-999,9,-999,9,-999,9,-999,9,-999,9
    09AR9604_1,   UNK,107,1,8,8,2,19960305,827,-64.835,128.3948,1894,702.5,0.345,34.676,2,34.676,2,-999,5,220.3,2,107.7,2,31.9,2,-999,9,2.18,2,0.894,2,0.438,2,-999,9,-999,9,-999,9
    09AR9604_1,   UNK,107,1,7,7,2,19960305,827,-64.835,128.3948,1894,802.8,0.172,34.667,2,34.665,2,-999,5,224.9,2,105.9,2,32.2,2,-999,9,2.19,2,-999,9,-999,9,-999,9,-999,9,-999,9
    09AR9604_1,   UNK,107,1,6,6,2,19960305,827,-64.835,128.3948,1894,1001.6,0.124,34.679,2,34.678,2,-999,5,221.6,2,114.3,2,32,2,-999,9,2.21,2,0.694,2,0.326,2,-999,9,-999,9,-999,9
    09AR9604_1,   UNK,107,1,5,5,2,19960305,827,-64.835,128.3948,1894,1202.3,-0.094,34.668,2,34.669,2,-999,5,229.9,2,113.4,2,32.2,2,-999,9,2.21,2,-999,9,-999,9,-999,9,-999,9,-999,9
    09AR9604_1,   UNK,107,1,4,4,2,19960305,827,-64.835,128.3948,1894,1402.2,-0.18,34.669,2,34.671,2,-999,5,232.6,2,112.3,2,31.7,2,-999,9,2.19,2,1.232,2,0.585,2,-999,9,-999,9,-999,9
    09AR9604_1,   UNK,107,1,3,3,2,19960305,827,-64.835,128.3948,1894,1604.8,-0.276,34.665,2,34.667,2,-999,5,237.2,2,105.9,2,31.9,2,-999,9,2.19,2,1.587,2,0.748,2,-999,9,-999,9,-999,9
    09AR9604_1,   UNK,107,1,2,2,2,19960305,827,-64.835,128.3948,1894,1821.8,-0.346,34.661,2,34.661,2,-999,5,240.8,2,105.3,2,31.9,2,-999,9,2.19,2,1.845,2,0.868,2,-999,9,-999,9,-999,9
    09AR9604_1,   UNK,107,1,1,1,2,19960305,827,-64.835,128.3948,1894,1877.7,-0.35,34.659,2,34.661,2,-999,5,240.8,2,107.3,2,32.2,2,-999,9,2.2,2,1.779,2,0.874,2,-999,9,-999,9,-999,9
    09AR9604_1,   UNK,108,1,24,24,2,19960305,1322,-64.6687,128.3712,2539,12.2,0.245,33.808,2,33.808,2,-999,5,343.7,2,33.3,2,25.4,2,-999,9,1.54,2,6.34,2,3.023,2,-999,9,-999,9,-999,9
    09AR9604_1,   UNK,108,1,22,22,2,19960305,1322,-64.6687,128.3712,2539,45.3,-1.718,34.221,2,34.22,2,-999,5,328.8,2,53.2,2,29.4,2,-999,9,2.05,2,-999,9,-999,9,-999,9,-999,9,-999,9
    09AR9604_1,   UNK,108,1,19,119,2,19960305,1322,-64.6687,128.3712,2539,105.5,-1.798,34.327,2,34.329,2,-999,5,317.7,2,58.3,2,30.9,2,-999,9,2.07,2,-999,9,-999,9,-999,9,-999,9,-999,9
    09AR9604_1,   UNK,108,1,17,17,2,19960305,1322,-64.6687,128.3712,2539,151.6,-1.798,34.362,2,34.362,2,-999,5,319.8,2,59.9,2,30.4,2,-999,9,2.06,2,-999,9,-999,9,-999,9,-999,9,-999,9
    09AR9604_1,   UNK,108,1,16,216,2,19960305,1322,-64.6687,128.3712,2539,200.5,-1.653,34.395,2,34.395,2,-999,5,314.3,2,59,2,30.9,2,-999,9,2.07,2,5.419,2,2.626,2,-999,9,-999,9,-999,9
    09AR9604_1,   UNK,108,1,15,215,2,19960305,1322,-64.6687,128.3712,2539,301.8,0.372,34.615,3,34.612,2,-999,5,231.4,2,78.1,2,31.7,2,-999,9,2.17,2,-999,9,-999,9,-999,9,-999,9,-999,9
    09AR9604_1,   UNK,108,1,14,114,2,19960305,1322,-64.6687,128.3712,2539,402.1,0.863,34.683,4,34.682,2,-999,5,213.2,2,84.2,2,31.7,2,-999,9,2.14,2,1.041,2,0.493,2,-999,9,-999,9,-999,9
    09AR9604_1,   UNK,108,1,13,113,2,19960305,1322,-64.6687,128.3712,2539,501.7,0.913,34.703,2,34.702,2,-999,5,209.1,2,94.2,2,31.6,2,-999,9,2.14,2,-999,9,-999,9,-999,9,-999,9,-999,9
    09AR9604_1,   UNK,108,1,12,112,2,19960305,1322,-64.6687,128.3712,2539,602.4,0.749,34.695,2,34.691,2,-999,5,212.3,2,91.9,2,31.7,2,-999,9,2.15,2,0.681,2,0.315,2,-999,9,-999,9,-999,9
    09AR9604_1,   UNK,108,1,11,11,2,19960305,1322,-64.6687,128.3712,2539,703.2,0.628,34.693,2,34.691,2,-999,5,213.4,2,95.5,2,31.7,2,-999,9,2.18,2,-999,9,-999,9,-999,9,-999,9,-999,9
    09AR9604_1,   UNK,108,1,10,10,2,19960305,1322,-64.6687,128.3712,2539,802.5,0.62,34.699,2,34.698,2,-999,5,210.9,2,103.4,2,32.2,2,-999,9,2.19,2,0.383,2,0.182,2,-999,9,-999,9,-999,9
    09AR9604_1,   UNK,108,1,9,9,2,19960305,1322,-64.6687,128.3712,2539,1003.6,0.326,34.684,2,34.683,2,-999,5,216.5,2,108.2,2,32.4,2,-999,9,2.19,2,0.541,2,0.249,2,-999,9,-999,9,-999,9
    09AR9604_1,   UNK,108,1,8,8,2,19960305,1322,-64.6687,128.3712,2539,1204,0.17,34.681,2,34.681,2,-999,5,220,2,114.4,2,33.6,4,-999,9,2.23,2,0.516,2,0.25,2,-999,9,-999,9,-999,9
    09AR9604_1,   UNK,108,1,7,7,2,19960305,1322,-64.6687,128.3712,2539,1405,0.062,34.68,2,34.679,2,-999,5,223.4,2,112.8,2,31.9,2,-999,9,2.22,2,0.532,2,0.245,2,-999,9,-999,9,-999,9
    09AR9604_1,   UNK,108,1,6,6,2,19960305,1322,-64.6687,128.3712,2539,1605.2,-0.033,34.677,2,34.675,2,-999,5,226.3,2,115.9,2,32.5,2,-999,9,2.18,2,0.584,2,0.28,2,-999,9,-999,9,-999,9
    09AR9604_1,   UNK,108,1,5,5,2,19960305,1322,-64.6687,128.3712,2539,1805.8,-0.182,34.668,2,34.67,2,-999,5,233.4,2,109.2,2,32,2,-999,9,2.19,2,1.269,2,0.593,2,-999,9,-999,9,-999,9
    09AR9604_1,   UNK,108,1,4,4,2,19960305,1322,-64.6687,128.3712,2539,2005.2,-0.254,34.666,2,34.668,2,-999,5,236.6,2,104.2,2,31.7,2,-999,9,2.19,2,1.437,2,0.68,2,-999,9,-999,9,-999,9
    09AR9604_1,   UNK,108,1,3,3,2,19960305,1322,-64.6687,128.3712,2539,2204.4,-0.323,34.66,2,34.664,2,-999,5,240.4,2,102.2,2,31.7,2,-999,9,2.18,2,1.72,2,0.815,2,-999,9,-999,9,-999,9
    09AR9604_1,   UNK,108,1,2,2,2,19960305,1322,-64.6687,128.3712,2539,2400,-0.336,34.659,2,34.661,2,-999,5,241.6,2,100.8,2,31.4,2,-999,9,2.17,2,1.843,2,0.879,2,-999,9,-999,9,-999,9
    09AR9604_1,   UNK,108,1,1,1,2,19960305,1322,-64.6687,128.3712,2539,2520.7,-0.327,34.659,2,34.661,2,-999,5,241.8,2,104.5,2,31.9,2,-999,9,2.18,2,1.864,2,0.88,2,-999,9,-999,9,-999,9
    09AR9604_1,   UNK,109,1,24,24,2,19960305,1824,-64.4592,128.377,2672,11.2,0.535,33.895,2,33.898,2,-999,5,-999,9,35.1,2,25.8,2,-999,9,1.63,2,6.263,2,3.017,2,-999,9,-999,9,-999,9
    09AR9604_1,   UNK,109,1,23,23,2,19960305,1824,-64.4592,128.377,2672,31,0.519,33.901,3,33.904,2,-999,5,340,2,35,2,25.8,2,-999,9,1.65,2,6.207,2,3.003,2,-999,9,-999,9,-999,9
    09AR9604_1,   UNK,109,1,22,22,2,19960305,1824,-64.4592,128.377,2672,50.3,-1.607,34.284,3,34.283,2,-999,5,326.6,2,54,2,29,2,-999,9,2.01,2,5.34,2,2.562,2,-999,9,-999,9,-999,9
    09AR9604_1,   UNK,109,1,21,21,2,19960305,1824,-64.4592,128.377,2672,76.4,-1.643,34.353,3,34.353,2,-999,5,310.9,2,61.8,2,30.8,2,-999,9,2.1,2,5.198,2,2.505,2,-999,9,-999,9,-999,9
    09AR9604_1,   UNK,109,1,20,20,2,19960305,1824,-64.4592,128.377,2672,101,-1.691,34.368,2,34.37,2,-999,5,314.2,2,59.2,2,30.8,2,-999,9,2.06,2,5.32,2,2.565,2,-999,9,-999,9,-999,9
    09AR9604_1,   UNK,109,1,19,119,2,19960305,1824,-64.4592,128.377,2672,126.3,-1.374,34.406,3,34.405,2,-999,5,302.5,2,61.8,2,30.6,2,-999,9,2.11,2,4.933,2,2.377,2,-999,9,-999,9,-999,9
    09AR9604_1,   UNK,109,1,18,118,2,19960305,1824,-64.4592,128.377,2672,151.3,-1.235,34.444,4,34.447,2,-999,5,296.4,2,64.9,2,30.5,2,-999,9,2.08,2,4.723,2,2.256,2,-999,9,-999,9,-999,9
    09AR9604_1,   UNK,109,1,17,17,2,19960305,1824,-64.4592,128.377,2672,202.3,1.101,34.662,4,34.66,2,-999,5,203.4,2,77.4,2,32,2,-999,9,2.2,2,1.13,2,0.533,2,-999,9,-999,9,-999,9
    09AR9604_1,   UNK,109,1,16,216,2,19960305,1824,-64.4592,128.377,2672,302.2,1.407,34.717,2,34.718,2,-999,5,195.9,2,86.6,2,31.7,2,-999,9,2.14,2,0.476,2,0.217,2,-999,9,-999,9,-999,9
    09AR9604_1,   UNK,109,1,15,215,2,19960305,1824,-64.4592,128.377,2672,402,1.286,34.721,2,34.72,2,-999,5,199.8,2,87.7,2,31.2,2,-999,9,2.12,2,0.457,2,0.209,2,-999,9,-999,9,-999,9
    09AR9604_1,   UNK,109,1,14,114,2,19960305,1824,-64.4592,128.377,2672,501.8,1.127,34.716,2,34.717,2,-999,5,204.1,2,92.6,2,31,2,-999,9,2.15,2,0.505,2,0.231,2,-999,9,-999,9,-999,9
    09AR9604_1,   UNK,109,1,13,113,2,19960305,1824,-64.4592,128.377,2672,601.9,1.042,34.72,2,34.717,2,-999,5,204.9,2,93.9,2,31.7,2,-999,9,2.14,2,0.36,2,0.171,2,-999,9,-999,9,-999,9
    09AR9604_1,   UNK,109,1,12,112,2,19960305,1824,-64.4592,128.377,2672,702.2,0.876,34.713,2,34.711,2,-999,5,208.3,2,101.2,2,31.6,2,-999,9,2.15,2,0.425,2,0.195,2,-999,9,-999,9,-999,9
    09AR9604_1,   UNK,109,1,11,11,2,19960305,1824,-64.4592,128.377,2672,803.5,0.773,34.709,2,34.71,2,-999,5,208.5,2,104.5,2,31.8,2,-999,9,2.15,2,0.342,2,0.16,2,-999,9,-999,9,-999,9
    09AR9604_1,   UNK,109,1,10,10,2,19960305,1824,-64.4592,128.377,2672,905,0.678,34.705,2,34.706,2,-999,5,209.6,2,107.3,2,32.1,2,-999,9,2.17,2,0.293,2,0.135,2,-999,9,-999,9,-999,9
    09AR9604_1,   UNK,109,1,9,9,2,19960305,1824,-64.4592,128.377,2672,1105.6,0.468,34.696,2,34.696,2,-999,5,212.9,2,111.9,2,31.9,2,-999,9,2.19,2,0.325,2,0.148,2,-999,9,-999,9,-999,9
    09AR9604_1,   UNK,109,1,8,8,2,19960305,1824,-64.4592,128.377,2672,1306.4,0.305,34.691,2,34.69,2,-999,5,215.8,2,119.4,2,32.3,2,-999,9,2.22,2,0.284,2,0.136,2,-999,9,-999,9,-999,9
    09AR9604_1,   UNK,109,1,7,7,2,19960305,1824,-64.4592,128.377,2672,1505.7,0.152,34.686,2,34.682,2,-999,5,220.6,2,117.7,2,32.6,2,-999,9,2.21,2,0.417,2,0.196,2,-999,9,-999,9,-999,9
    09AR9604_1,   UNK,109,1,6,6,2,19960305,1824,-64.4592,128.377,2672,1705.6,-0.011,34.675,2,34.677,2,-999,5,226.8,2,114.8,2,32.6,2,-999,9,2.17,2,0.83,2,0.393,2,-999,9,-999,9,-999,9
    09AR9604_1,   UNK,109,1,5,5,2,19960305,1824,-64.4592,128.377,2672,1903.8,-0.084,34.676,2,34.677,2,-999,5,229.4,2,117.5,2,32.4,2,-999,9,2.17,2,0.859,2,0.404,2,-999,9,-999,9,-999,9
    09AR9604_1,   UNK,109,1,4,4,2,19960305,1824,-64.4592,128.377,2672,2104,-0.156,34.675,2,34.676,2,-999,5,232.2,2,117.7,2,32.7,2,-999,9,2.2,2,0.94,2,0.441,2,-999,9,-999,9,-999,9
    09AR9604_1,   UNK,109,1,3,3,2,19960305,1824,-64.4592,128.377,2672,2304.1,-0.267,34.666,2,34.666,2,-999,5,238.4,2,107.5,2,31.8,2,-999,9,2.18,2,1.566,2,0.742,2,-999,9,-999,9,-999,9
    09AR9604_1,   UNK,109,1,2,2,2,19960305,1824,-64.4592,128.377,2672,2503.9,-0.306,34.664,2,34.663,2,-999,5,240.6,2,106.1,2,32.6,2,-999,9,2.17,2,1.721,2,0.811,2,-999,9,-999,9,-999,9
    09AR9604_1,   UNK,109,1,1,1,2,19960305,1824,-64.4592,128.377,2672,2678.6,-0.313,34.664,2,34.661,2,-999,5,241.3,2,105.4,2,31.9,2,-999,9,2.17,2,1.722,2,0.821,2,-999,9,-999,9,-999,9