BOTTLE,2021011SIOJHS,,,,,,,,,,,,,,,,,,,,,,,,,,,,,,,,,,,,,,
EXPOCODE,SECT_ID,STNNBR,CASTNO,SAMPNO,BTLNBR,BTLNBR_FLAG_W,DATE,TIME,LATITUDE,LONGITUDE,DEPTH,CTDPRS,CTDTMP,CTDSAL,CTDSAL_FLAG_W,SALNTY,SALNTY_FLAG_W,CTDOXY,CTDOXY_FLAG_W,OXYGEN,OXYGEN_FLAG_W,SILCAT,SILCAT_FLAG_W,NITRAT,NITRAT_FLAG_W,NITRIT,NITRIT_FLAG_W,PHSPHT,PHSPHT_FLAG_W,CFC-11,CFC-11_FLAG_W,CFC-12,CFC-12_FLAG_W,SF6,SF6_FLAG_W,TCARBN,TCARBN_FLAG_W,ALKALI,ALKALI_FLAG_W
,,,,,,,,,,,,DBAR,DEG C,PSS-78,,PSS-78,,UMOL/KG,,UMOL/KG,,UMOL/KG,,UMOL/KG,,UMOL/KG,,UMOL/KG,,PMOL/KG,,PMOL/KG,,NMOL/KG,,UMOL/KG,,UMOL/KG,
    09AR9604_1,   UNK,140,1,24,24,2,19960321,440,-64.611,150.0068,3481,11.4,-0.903,33.318,2,33.319,2,-999,5,355.7,2,32.3,2,25,2,-999,9,1.55,2,6.464,2,3.219,2,-999,9,-999,9,-999,9
    09AR9604_1,   UNK,140,1,23,23,2,19960321,440,-64.611,150.0068,3481,30.2,-1.177,33.417,2,33.418,2,-999,5,355.8,2,31.6,2,24.7,2,-999,9,1.58,2,6.406,2,3.176,2,-999,9,-999,9,-999,9
    09AR9604_1,   UNK,140,1,22,22,2,19960321,440,-64.611,150.0068,3481,45.3,-0.597,33.555,2,33.562,2,-999,5,346.9,2,32.3,2,25.3,2,-999,9,1.66,2,6.253,2,3.101,2,-999,9,-999,9,-999,9
    09AR9604_1,   UNK,140,1,21,21,2,19960321,440,-64.611,150.0068,3481,98.8,-1.542,34.266,2,34.264,2,-999,5,312.7,2,55.8,2,30.3,2,-999,9,2.13,2,4.927,2,2.438,2,-999,9,-999,9,-999,9
    09AR9604_1,   UNK,140,1,20,20,2,19960321,440,-64.611,150.0068,3481,150.7,-1.179,34.393,4,34.392,2,-999,5,282.7,2,65.8,2,31,2,-999,9,2.21,2,4.088,2,2.032,2,-999,9,-999,9,-999,9
    09AR9604_1,   UNK,140,1,19,119,2,19960321,440,-64.611,150.0068,3481,198.9,-1.523,34.422,4,34.421,2,-999,5,290.8,2,71.5,2,30.3,2,-999,9,2.11,2,4.325,2,2.13,2,-999,9,-999,9,-999,9
    09AR9604_1,   UNK,140,1,18,118,2,19960321,440,-64.611,150.0068,3481,299.6,0.678,34.62,2,34.62,2,-999,5,214.3,2,78.4,2,31.8,2,-999,9,2.24,2,1.559,2,0.751,2,-999,9,-999,9,-999,9
    09AR9604_1,   UNK,140,1,17,17,2,19960321,440,-64.611,150.0068,3481,399,1.033,34.673,2,34.674,2,-999,5,205.5,2,81.6,2,31.1,2,-999,9,2.21,2,1.012,2,0.485,2,-999,9,-999,9,-999,9
    09AR9604_1,   UNK,140,1,16,216,2,19960321,440,-64.611,150.0068,3481,498.1,1.09,34.696,2,34.698,2,-999,5,204.6,2,85.7,2,31,2,-999,9,2.17,2,0.765,2,0.353,2,-999,9,-999,9,-999,9
    09AR9604_1,   UNK,140,1,15,215,2,19960321,440,-64.611,150.0068,3481,599.3,1.082,34.707,2,34.705,2,-999,5,204.3,2,87.6,2,31.1,2,-999,9,2.18,2,0.617,2,0.282,2,-999,9,-999,9,-999,9
    09AR9604_1,   UNK,140,1,14,114,2,19960321,440,-64.611,150.0068,3481,701.5,1.052,34.714,2,34.714,2,-999,5,203.5,2,92.4,2,31.2,2,-999,9,2.19,2,0.482,2,0.223,2,-999,9,-999,9,-999,9
    09AR9604_1,   UNK,140,1,13,113,2,19960321,440,-64.611,150.0068,3481,801.6,0.939,34.709,2,34.708,2,-999,5,204,2,94.7,2,31.2,2,-999,9,2.2,2,0.501,2,0.229,2,-999,9,-999,9,-999,9
    09AR9604_1,   UNK,140,1,12,112,2,19960321,440,-64.611,150.0068,3481,1003.1,0.852,34.711,2,34.708,2,-999,5,204.8,2,101.3,2,31,2,-999,9,2.17,2,0.38,2,0.177,2,-999,9,-999,9,-999,9
    09AR9604_1,   UNK,140,1,11,11,2,19960321,440,-64.611,150.0068,3481,1202.2,0.708,34.705,2,34.708,2,-999,5,206.5,2,105.2,2,31.7,2,-999,9,2.18,2,0.355,2,0.162,2,-999,9,-999,9,-999,9
    09AR9604_1,   UNK,140,1,10,10,2,19960321,440,-64.611,150.0068,3481,1401.7,0.602,34.702,2,34.704,2,-999,5,208.5,2,108.1,2,31.7,2,-999,9,2.21,2,0.317,2,0.15,2,-999,9,-999,9,-999,9
    09AR9604_1,   UNK,140,1,9,9,2,19960321,440,-64.611,150.0068,3481,1602.6,0.465,34.699,2,34.7,2,-999,5,211.3,2,111.7,2,31.8,2,-999,9,2.23,2,0.329,2,0.151,2,-999,9,-999,9,-999,9
    09AR9604_1,   UNK,140,1,8,8,2,19960321,440,-64.611,150.0068,3481,1802.4,0.342,34.693,2,34.693,2,-999,5,214.5,2,112.2,2,31.9,2,-999,9,2.23,2,0.451,2,0.214,2,-999,9,-999,9,-999,9
    09AR9604_1,   UNK,140,1,7,7,2,19960321,440,-64.611,150.0068,3481,2003.3,0.253,34.691,2,34.694,2,-999,5,217.2,2,113.4,2,32.2,2,-999,9,2.23,2,0.49,2,0.23,2,-999,9,-999,9,-999,9
    09AR9604_1,   UNK,140,1,6,6,2,19960321,440,-64.611,150.0068,3481,2202.7,0.186,34.691,2,34.693,2,-999,5,219.7,2,117.3,2,31.9,2,-999,9,2.23,2,0.556,2,0.267,2,-999,9,-999,9,-999,9
    09AR9604_1,   UNK,140,1,5,5,2,19960321,440,-64.611,150.0068,3481,2505,0.089,34.689,2,34.691,2,-999,5,223.6,2,109.3,2,32.1,2,-999,9,2.24,2,0.84,2,0.393,2,-999,9,-999,9,-999,9
    09AR9604_1,   UNK,140,1,4,4,2,19960321,440,-64.611,150.0068,3481,2805.7,-0.013,34.689,2,34.691,2,-999,5,228.6,2,100.4,2,31.6,2,-999,9,2.21,2,1.407,2,0.673,2,-999,9,-999,9,-999,9
    09AR9604_1,   UNK,140,1,3,3,2,19960321,440,-64.611,150.0068,3481,3105.4,-0.098,34.693,2,34.696,2,-999,5,232.4,2,101.3,2,31.8,2,-999,9,2.23,2,1.608,2,0.753,2,-999,9,-999,9,-999,9
    09AR9604_1,   UNK,140,1,2,2,2,19960321,440,-64.611,150.0068,3481,3412.8,-0.155,34.705,2,34.704,2,-999,5,235,2,95.5,2,31.3,2,-999,9,2.2,2,1.933,2,0.928,2,-999,9,-999,9,-999,9
    09AR9604_1,   UNK,140,1,1,1,2,19960321,440,-64.611,150.0068,3481,3486.9,-0.151,34.705,2,34.707,2,-999,5,235.2,2,96.3,2,32,2,-999,9,2.2,2,1.973,2,0.946,2,-999,9,-999,9,-999,9
    09AR9604_1,   UNK,141,1,24,24,2,19960321,1345,-65.0042,149.9687,3317,9.7,0.359,33.845,3,33.853,2,-999,5,338.6,2,30.7,2,25.7,2,-999,9,1.66,2,-999,9,-999,9,-999,9,-999,9,-999,9
    09AR9604_1,   UNK,141,1,23,23,2,19960321,1345,-65.0042,149.9687,3317,29.5,0.529,33.915,2,33.915,2,-999,5,335.8,2,29.2,2,25.5,2,-999,9,1.66,2,-999,9,-999,9,-999,9,-999,9,-999,9
    09AR9604_1,   UNK,141,1,22,22,2,19960321,1345,-65.0042,149.9687,3317,69.2,0.302,34.388,4,34.36,2,-999,5,253.4,2,60.7,2,31.9,2,-999,9,2.24,2,-999,9,-999,9,-999,9,-999,9,-999,9
    09AR9604_1,   UNK,141,1,21,21,2,19960321,1345,-65.0042,149.9687,3317,101.2,1.739,34.58,2,34.58,2,-999,5,178.3,2,73.4,2,34.1,2,-999,9,2.38,2,0.916,2,0.426,2,-999,9,-999,9,-999,9
    09AR9604_1,   UNK,141,1,20,20,2,19960321,1345,-65.0042,149.9687,3317,150.2,1.796,34.635,2,34.634,2,-999,5,177.9,2,77.7,2,33.5,2,-999,9,2.33,2,-999,9,-999,9,-999,9,-999,9,-999,9
    09AR9604_1,   UNK,141,1,19,119,2,19960321,1345,-65.0042,149.9687,3317,200.8,1.376,34.625,2,34.626,2,-999,5,191.9,2,75.9,2,32.3,2,-999,9,2.27,2,1.044,2,0.493,2,-999,9,-999,9,-999,9
    09AR9604_1,   UNK,141,1,18,118,2,19960321,1345,-65.0042,149.9687,3317,249.4,1.628,34.671,4,34.672,2,-999,5,186.6,2,79.9,2,32.2,2,-999,9,2.21,2,-999,9,-999,9,-999,9,-999,9,-999,9
    09AR9604_1,   UNK,141,1,17,17,2,19960321,1345,-65.0042,149.9687,3317,301.3,1.434,34.675,2,34.674,2,-999,5,192.7,2,81,2,31.8,2,-999,9,2.23,2,0.781,2,0.37,2,-999,9,-999,9,-999,9
    09AR9604_1,   UNK,141,1,16,216,2,19960321,1345,-65.0042,149.9687,3317,401.1,1.576,34.712,2,34.711,2,-999,5,191.8,2,83.2,2,31.6,2,-999,9,2.19,2,-999,9,-999,9,-999,9,-999,9,-999,9
    09AR9604_1,   UNK,141,1,15,215,2,19960321,1345,-65.0042,149.9687,3317,501.7,1.507,34.718,2,34.719,2,-999,5,194.6,2,84.7,2,31.2,2,-999,9,2.17,2,0.428,2,0.193,2,-999,9,-999,9,-999,9
    09AR9604_1,   UNK,141,1,14,114,2,19960321,1345,-65.0042,149.9687,3317,602.1,1.421,34.721,2,34.723,2,-999,5,197.6,2,87.3,2,30.6,2,-999,9,2.14,2,-999,9,-999,9,-999,9,-999,9,-999,9
    09AR9604_1,   UNK,141,1,13,113,2,19960321,1345,-65.0042,149.9687,3317,703.1,1.344,34.726,2,34.724,2,-999,5,199.7,2,89.2,2,30.8,2,-999,9,2.14,2,0.331,2,0.147,2,-999,9,-999,9,-999,9
    09AR9604_1,   UNK,141,1,12,112,2,19960321,1345,-65.0042,149.9687,3317,805.3,1.349,34.734,2,34.724,2,-999,5,199.6,2,91.3,2,31.1,2,-999,9,2.12,2,-999,9,-999,9,-999,9,-999,9,-999,9
    09AR9604_1,   UNK,141,1,11,11,2,19960321,1345,-65.0042,149.9687,3317,1001.2,1.163,34.728,2,34.727,2,-999,5,202.4,2,97.9,2,30.8,2,-999,9,2.15,2,0.157,2,0.069,2,-999,9,-999,9,-999,9
    09AR9604_1,   UNK,141,1,10,10,2,19960321,1345,-65.0042,149.9687,3317,1203.7,0.998,34.72,2,34.721,2,-999,5,204.1,2,101.1,2,31.6,2,-999,9,2.16,2,-999,9,-999,9,-999,9,-999,9,-999,9
    09AR9604_1,   UNK,141,1,9,9,2,19960321,1345,-65.0042,149.9687,3317,1403,0.838,34.713,2,34.714,2,-999,5,205.8,2,105.7,2,31.5,2,-999,9,2.19,2,0.124,2,0.06,2,-999,9,-999,9,-999,9
    09AR9604_1,   UNK,141,1,8,8,2,19960321,1345,-65.0042,149.9687,3317,1604,0.648,34.703,2,34.706,2,-999,5,208.5,2,109.1,2,32.2,2,-999,9,2.21,2,-999,9,-999,9,-999,9,-999,9,-999,9
    09AR9604_1,   UNK,141,1,7,7,2,19960321,1345,-65.0042,149.9687,3317,1804.9,0.48,34.694,2,34.691,2,-999,5,211.9,2,111.1,2,32.5,2,-999,9,2.2,2,0.26,2,0.124,2,-999,9,-999,9,-999,9
    09AR9604_1,   UNK,141,1,6,6,2,19960321,1345,-65.0042,149.9687,3317,2106,0.268,34.685,2,34.68,2,-999,5,217.1,2,108.8,2,31.8,2,-999,9,2.23,2,0.678,2,0.315,2,-999,9,-999,9,-999,9
    09AR9604_1,   UNK,141,1,5,5,2,19960321,1345,-65.0042,149.9687,3317,2408.3,0.139,34.684,2,34.682,2,-999,5,221.8,2,111,2,32.4,2,-999,9,2.23,2,0.642,2,0.299,2,-999,9,-999,9,-999,9
    09AR9604_1,   UNK,141,1,4,4,2,19960321,1345,-65.0042,149.9687,3317,2706.3,0.033,34.685,2,34.684,2,-999,5,226.7,2,102.4,2,31.9,2,-999,9,2.22,2,1.195,2,0.556,2,-999,9,-999,9,-999,9
    09AR9604_1,   UNK,141,1,3,3,2,19960321,1345,-65.0042,149.9687,3317,3006.1,-0.119,34.679,2,34.683,2,-999,5,232.8,2,105.2,2,31.9,2,-999,9,2.21,2,1.362,2,0.639,2,-999,9,-999,9,-999,9
    09AR9604_1,   UNK,141,1,2,2,2,19960321,1345,-65.0042,149.9687,3317,3215.5,-0.134,34.695,2,34.695,2,-999,5,233.9,2,94.6,2,31.5,2,-999,9,2.2,2,1.844,2,0.867,2,-999,9,-999,9,-999,9
    09AR9604_1,   UNK,141,1,1,1,2,19960321,1345,-65.0042,149.9687,3317,3308,-0.15,34.697,2,34.7,2,-999,5,234.6,2,93.7,2,32,2,-999,9,2.19,2,1.924,2,0.912,2,-999,9,-999,9,-999,9
    09AR9604_1,   UNK,142,1,24,24,2,19960321,2018,-65.3955,149.9978,2918,11.1,-1.359,33.6,2,33.603,2,-999,5,361.7,2,38.9,2,24.5,2,-999,9,1.61,2,6.589,2,3.222,2,-999,9,-999,9,-999,9
    09AR9604_1,   UNK,142,1,23,23,2,19960321,2018,-65.3955,149.9978,2918,31.2,-1.609,33.813,4,33.819,2,-999,5,352.4,2,47.7,2,26,2,-999,9,1.82,2,-999,9,-999,9,-999,9,-999,9,-999,9
    09AR9604_1,   UNK,142,1,22,22,2,19960321,2018,-65.3955,149.9978,2918,70.7,-1.75,34.183,3,34.184,2,-999,5,318,2,61.7,2,29,2,-999,9,2.13,2,-999,9,-999,9,-999,9,-999,9,-999,9
    09AR9604_1,   UNK,142,1,21,21,2,19960321,2018,-65.3955,149.9978,2918,101.7,-1.661,34.317,2,34.316,2,-999,5,302.7,2,62.6,2,30.4,2,-999,9,2.2,2,-999,9,-999,9,-999,9,-999,9,-999,9
    09AR9604_1,   UNK,142,1,20,20,2,19960321,2018,-65.3955,149.9978,2918,151.4,-1.655,34.391,3,34.391,2,-999,5,295.6,2,71.7,2,30.7,2,-999,9,2.2,2,-999,9,-999,9,-999,9,-999,9,-999,9
    09AR9604_1,   UNK,142,1,18,118,2,19960321,2018,-65.3955,149.9978,2918,251.6,-1.686,34.414,2,34.412,2,-999,5,294.7,2,72.4,2,30.2,2,-999,9,2.17,2,-999,9,-999,9,-999,9,-999,9,-999,9
    09AR9604_1,   UNK,142,1,17,17,2,19960321,2018,-65.3955,149.9978,2918,303.2,-0.912,34.468,4,34.476,2,-999,5,264.7,2,74.8,2,31.2,2,-999,9,2.23,2,-999,9,-999,9,-999,9,-999,9,-999,9
    09AR9604_1,   UNK,142,1,16,216,2,19960321,2018,-65.3955,149.9978,2918,402.6,0.481,34.614,2,34.612,2,-999,5,220.4,2,80.6,2,31.5,2,-999,9,2.26,2,-999,9,-999,9,-999,9,-999,9,-999,9
    09AR9604_1,   UNK,142,1,15,215,2,19960321,2018,-65.3955,149.9978,2918,502.6,0.207,34.613,2,34.612,2,-999,5,225.3,2,83.9,2,31.1,2,-999,9,2.22,2,-999,9,-999,9,-999,9,-999,9,-999,9
    09AR9604_1,   UNK,142,1,14,114,2,19960321,2018,-65.3955,149.9978,2918,602.1,0.352,34.642,2,34.639,2,-999,5,217.2,2,90.5,2,31.8,2,-999,9,2.26,2,-999,9,-999,9,-999,9,-999,9,-999,9
    09AR9604_1,   UNK,142,1,13,113,2,19960321,2018,-65.3955,149.9978,2918,702.9,0.484,34.663,3,34.662,2,-999,5,212.1,2,94.5,2,31.7,2,-999,9,2.28,2,-999,9,-999,9,-999,9,-999,9,-999,9
    09AR9604_1,   UNK,142,1,12,112,2,19960321,2018,-65.3955,149.9978,2918,802.4,0.59,34.681,2,34.679,2,-999,5,208.7,2,103.8,2,31.5,2,-999,9,2.24,2,-999,9,-999,9,-999,9,-999,9,-999,9
    09AR9604_1,   UNK,142,1,11,11,2,19960321,2018,-65.3955,149.9978,2918,903.4,0.543,34.683,2,34.687,2,-999,5,209.7,2,104.3,2,31.8,2,-999,9,2.29,2,-999,9,-999,9,-999,9,-999,9,-999,9
    09AR9604_1,   UNK,142,1,10,10,2,19960321,2018,-65.3955,149.9978,2918,1002.8,0.349,34.671,2,34.671,2,-999,5,215.1,2,102.5,2,31.9,2,-999,9,2.27,2,0.945,2,0.446,2,-999,9,-999,9,-999,9
    09AR9604_1,   UNK,142,1,9,9,2,19960321,2018,-65.3955,149.9978,2918,1102.9,0.369,34.678,2,34.675,2,-999,5,213.9,2,106.4,2,31.6,2,-999,9,2.27,2,-999,9,-999,9,-999,9,-999,9,-999,9
    09AR9604_1,   UNK,142,1,8,8,2,19960321,2018,-65.3955,149.9978,2918,1301.4,0.273,34.678,3,34.679,2,-999,5,215.9,2,108,2,31.3,2,-999,9,2.27,2,-999,9,-999,9,-999,9,-999,9,-999,9
    09AR9604_1,   UNK,142,1,7,7,2,19960321,2018,-65.3955,149.9978,2918,1502.5,0.26,34.686,2,34.685,2,-999,5,215.9,2,112.5,2,31.9,2,-999,9,2.27,2,0.625,2,0.29,2,-999,9,-999,9,-999,9
    09AR9604_1,   UNK,142,1,6,6,2,19960321,2018,-65.3955,149.9978,2918,1703.8,0.179,34.685,2,34.688,2,-999,5,218.6,2,113.6,2,31.6,2,-999,9,2.32,2,-999,9,-999,9,-999,9,-999,9,-999,9
    09AR9604_1,   UNK,142,1,5,5,2,19960321,2018,-65.3955,149.9978,2918,1903.5,0.112,34.689,2,34.686,2,-999,5,221.2,2,109.3,2,31.6,2,-999,9,2.28,2,0.866,2,0.404,2,-999,9,-999,9,-999,9
    09AR9604_1,   UNK,142,1,4,4,2,19960321,2018,-65.3955,149.9978,2918,2204.6,0.004,34.681,2,34.685,2,-999,5,225.1,2,116.1,2,31.9,2,-999,9,2.3,2,-999,9,-999,9,-999,9,-999,9,-999,9
    09AR9604_1,   UNK,142,1,3,3,2,19960321,2018,-65.3955,149.9978,2918,2506.2,-0.092,34.682,2,34.685,2,-999,5,229.7,2,104,2,31.5,2,-999,9,2.28,2,1.178,2,0.543,2,-999,9,-999,9,-999,9
    09AR9604_1,   UNK,142,1,2,2,2,19960321,2018,-65.3955,149.9978,2918,2806.5,-0.168,34.691,2,34.692,2,-999,5,233.1,2,100.6,2,31.1,2,-999,9,2.26,2,1.744,2,0.818,2,-999,9,-999,9,-999,9
    09AR9604_1,   UNK,142,1,1,1,2,19960321,2018,-65.3955,149.9978,2918,2916.4,-0.175,34.697,2,34.698,2,-999,5,234.3,2,97.7,2,30.9,2,-999,9,2.28,2,1.887,2,0.892,2,-999,9,-999,9,-999,9
    09AR9604_1,   UNK,143,1,24,24,2,19960322,54,-65.614,150.007,2462,11.1,-1.725,33.847,2,33.849,2,-999,5,338.5,2,57.3,2,27.7,2,-999,9,1.93,2,5.789,2,2.85,2,-999,9,-999,9,-999,9
    09AR9604_1,   UNK,143,1,22,22,2,19960322,54,-65.614,150.007,2462,46.4,-1.86,34.231,2,34.229,2,-999,5,310.3,2,69.2,2,29.5,2,-999,9,2.12,2,4.887,2,2.385,2,-999,9,-999,9,-999,9
    09AR9604_1,   UNK,143,1,20,20,2,19960322,54,-65.614,150.007,2462,100.9,-1.868,34.29,2,34.29,2,-999,5,307.3,2,71.9,2,29.3,2,-999,9,2.12,2,4.798,2,2.376,2,-999,9,-999,9,-999,9
    09AR9604_1,   UNK,143,1,18,118,2,19960322,54,-65.614,150.007,2462,151.7,-1.84,34.37,2,34.372,2,-999,5,301.3,2,72.8,2,29.9,2,-999,9,2.11,2,4.706,2,2.307,2,-999,9,-999,9,-999,9
    09AR9604_1,   UNK,143,1,17,17,2,19960322,54,-65.614,150.007,2462,201.5,-1.845,34.395,2,34.395,2,-999,5,301.5,2,73.1,2,30.3,2,-999,9,2.13,2,4.694,2,2.289,2,-999,9,-999,9,-999,9
    09AR9604_1,   UNK,143,1,16,216,2,19960322,54,-65.614,150.007,2462,301,-1.803,34.405,2,34.404,2,-999,5,299.9,2,73.8,2,30.2,2,-999,9,2.13,2,4.631,2,2.285,2,-999,9,-999,9,-999,9
    09AR9604_1,   UNK,143,1,15,215,2,19960322,54,-65.614,150.007,2462,351.5,-1.431,34.438,3,34.438,2,-999,5,282.7,2,75.6,2,30.3,2,-999,9,2.19,2,4.046,2,1.967,2,-999,9,-999,9,-999,9
    09AR9604_1,   UNK,143,1,14,114,2,19960322,54,-65.614,150.007,2462,401.8,-0.515,34.519,3,34.518,2,-999,5,250.7,2,79.4,2,31.5,2,-999,9,2.24,2,2.876,2,1.392,2,-999,9,-999,9,-999,9
    09AR9604_1,   UNK,143,1,13,113,2,19960322,54,-65.614,150.007,2462,452.3,-0.403,34.546,3,34.547,2,-999,5,243.7,2,83.5,2,31.5,2,-999,9,2.24,2,2.562,2,1.227,2,-999,9,-999,9,-999,9
    09AR9604_1,   UNK,143,1,12,112,2,19960322,54,-65.614,150.007,2462,501.9,-0.101,34.584,2,34.587,2,-999,5,233.6,2,85.5,2,31.3,2,-999,9,2.22,2,2.026,4,0.962,4,-999,9,-999,9,-999,9
    09AR9604_1,   UNK,143,1,11,11,2,19960322,54,-65.614,150.007,2462,602.6,0.304,34.641,2,34.642,2,-999,5,218.7,2,94.6,2,31.3,2,-999,9,2.26,2,1.384,2,0.661,2,-999,9,-999,9,-999,9
    09AR9604_1,   UNK,143,1,10,10,2,19960322,54,-65.614,150.007,2462,702.2,0.196,34.644,3,34.642,2,-999,5,221.1,2,96.3,2,31.4,2,-999,9,2.24,2,1.413,2,0.676,2,-999,9,-999,9,-999,9
    09AR9604_1,   UNK,143,1,9,9,2,19960322,54,-65.614,150.007,2462,802.7,0.373,34.671,2,34.667,2,-999,5,214.6,2,103.4,2,31.5,2,-999,9,2.31,2,0.943,2,0.448,2,-999,9,-999,9,-999,9
    09AR9604_1,   UNK,143,1,8,8,2,19960322,54,-65.614,150.007,2462,902.5,0.245,34.666,4,34.673,2,-999,5,214.6,2,106.3,2,31.6,2,-999,9,2.29,2,0.838,2,0.402,2,-999,9,-999,9,-999,9
    09AR9604_1,   UNK,143,1,7,7,2,19960322,54,-65.614,150.007,2462,1103,0.199,34.674,2,34.672,2,-999,5,218.2,2,107.9,2,32,2,-999,9,2.29,2,0.923,2,0.441,2,-999,9,-999,9,-999,9
    09AR9604_1,   UNK,143,1,6,6,2,19960322,54,-65.614,150.007,2462,1303.1,0.11,34.677,2,34.677,2,-999,5,220.9,2,106.2,2,31.7,2,-999,9,2.28,2,1.079,2,0.511,2,-999,9,-999,9,-999,9
    09AR9604_1,   UNK,143,1,5,5,2,19960322,54,-65.614,150.007,2462,1504.1,0.074,34.68,2,34.68,2,-999,5,222.2,2,105.6,2,31.5,2,-999,9,2.28,2,1.163,2,0.547,2,-999,9,-999,9,-999,9
    09AR9604_1,   UNK,143,1,4,4,2,19960322,54,-65.614,150.007,2462,1805.3,0.012,34.683,2,34.683,2,-999,5,224.8,2,105.1,2,31.5,2,-999,9,2.29,2,1.231,2,0.59,2,-999,9,-999,9,-999,9
    09AR9604_1,   UNK,143,1,3,3,2,19960322,54,-65.614,150.007,2462,2106.5,-0.08,34.687,2,34.689,2,-999,5,228.7,2,101,2,31.4,2,-999,9,2.29,2,1.517,2,0.713,2,-999,9,-999,9,-999,9
    09AR9604_1,   UNK,143,1,2,2,2,19960322,54,-65.614,150.007,2462,2360.3,-0.188,34.695,3,34.696,2,-999,5,233.4,2,96,2,31.4,2,-999,9,2.28,2,1.91,2,0.904,2,-999,9,-999,9,-999,9
    09AR9604_1,   UNK,143,1,1,1,2,19960322,54,-65.614,150.007,2462,2449,-0.183,34.694,2,34.696,2,-999,5,233.1,2,95.1,2,31.8,2,-999,9,2.27,2,1.914,2,0.907,2,-999,9,-999,9,-999,9