BOTTLE,2021011SIOJHS,,,,,,,,,,,,,,,,,,,,,,,,,,,,,,,,,,,,,,
EXPOCODE,SECT_ID,STNNBR,CASTNO,SAMPNO,BTLNBR,BTLNBR_FLAG_W,DATE,TIME,LATITUDE,LONGITUDE,DEPTH,CTDPRS,CTDTMP,CTDSAL,CTDSAL_FLAG_W,SALNTY,SALNTY_FLAG_W,CTDOXY,CTDOXY_FLAG_W,OXYGEN,OXYGEN_FLAG_W,SILCAT,SILCAT_FLAG_W,NITRAT,NITRAT_FLAG_W,NITRIT,NITRIT_FLAG_W,PHSPHT,PHSPHT_FLAG_W,CFC-11,CFC-11_FLAG_W,CFC-12,CFC-12_FLAG_W,SF6,SF6_FLAG_W,TCARBN,TCARBN_FLAG_W,ALKALI,ALKALI_FLAG_W
,,,,,,,,,,,,DBAR,DEG C,PSS-78,,PSS-78,,UMOL/KG,,UMOL/KG,,UMOL/KG,,UMOL/KG,,UMOL/KG,,UMOL/KG,,PMOL/KG,,PMOL/KG,,NMOL/KG,,UMOL/KG,,UMOL/KG,
    09AR9604_1,   UNK,49,1,15,215,2,19960213,1125,-64.8897,104.6255,635,16.3,-1.633,33.316,2,33.339,4,362,2,359.1,2,47.4,2,24.4,2,-999,9,1.56,2,7.053,3,3.22,2,-999,9,-999,9,-999,9
    09AR9604_1,   UNK,49,1,12,112,2,19960213,1125,-64.8897,104.6255,635,61.7,-1.651,33.574,2,33.585,2,349.4,2,352.4,2,53.7,2,25.6,2,-999,9,1.69,2,-999,9,-999,9,-999,9,-999,9,-999,9
    09AR9604_1,   UNK,49,1,9,9,2,19960213,1125,-64.8897,104.6255,635,106,-1.655,34.169,2,34.167,2,327.2,2,327,2,62.3,2,28.6,2,-999,9,1.99,2,5.873,2,2.697,2,-999,9,-999,9,-999,9
    09AR9604_1,   UNK,49,1,6,6,2,19960213,1125,-64.8897,104.6255,635,151.5,-1.739,34.3,2,34.296,2,319.8,2,317.5,2,65.7,2,29.6,2,-999,9,2.07,2,-999,9,-999,9,-999,9,-999,9,-999,9
    09AR9604_1,   UNK,49,1,5,5,2,19960213,1125,-64.8897,104.6255,635,255.3,-1.687,34.405,2,34.4,2,313,2,313.2,2,65.7,2,30.1,2,-999,9,2.07,2,5.484,2,2.539,2,-999,9,-999,9,-999,9
    09AR9604_1,   UNK,49,1,4,4,2,19960213,1125,-64.8897,104.6255,635,351.2,-0.94,34.519,4,34.526,2,281.8,2,282.5,2,73.9,2,30.6,2,-999,9,2.12,2,4.072,2,1.887,2,-999,9,-999,9,-999,9
    09AR9604_1,   UNK,49,1,3,3,2,19960213,1125,-64.8897,104.6255,635,450.8,-1.408,34.524,2,34.524,2,307.2,2,307.3,2,69.9,2,30.2,2,-999,9,2.09,2,5.127,2,2.365,2,-999,9,-999,9,-999,9
    09AR9604_1,   UNK,49,1,2,2,2,19960213,1125,-64.8897,104.6255,635,563.7,-1.424,34.527,2,34.527,2,306.9,2,307.7,2,70.8,2,30.8,2,-999,9,2.11,2,5.18,2,2.369,2,-999,9,-999,9,-999,9
    09AR9604_1,   UNK,49,1,1,1,2,19960213,1125,-64.8897,104.6255,635,615.7,-1.421,34.528,2,34.528,2,308,2,307.7,2,70.8,2,30.6,2,-999,9,2.13,2,5.174,2,2.382,2,-999,9,-999,9,-999,9
    09AR9604_1,   UNK,50,1,17,17,2,19960213,1328,-64.8318,104.486,955,16.5,-1.485,33.317,2,33.318,2,363.8,2,361.8,2,47.5,2,24.2,2,-999,9,1.51,2,-999,9,-999,9,-999,9,-999,9,-999,9
    09AR9604_1,   UNK,50,1,16,216,2,19960213,1328,-64.8318,104.486,955,31.4,-1.632,33.325,2,33.322,2,360,2,361.7,2,47.4,2,24.2,2,-999,9,1.59,2,-999,9,-999,9,-999,9,-999,9,-999,9
    09AR9604_1,   UNK,50,1,14,114,2,19960213,1328,-64.8318,104.486,955,61.8,-1.709,33.423,3,33.451,2,357.7,2,357.2,2,49.5,2,25.7,2,-999,9,1.63,2,-999,9,-999,9,-999,9,-999,9,-999,9
    09AR9604_1,   UNK,50,1,11,11,2,19960213,1328,-64.8318,104.486,955,106.6,-1.75,34.234,2,34.231,2,324.8,2,325.3,2,62.9,2,29,2,-999,9,1.97,2,-999,9,-999,9,-999,9,-999,9,-999,9
    09AR9604_1,   UNK,50,1,7,7,2,19960213,1328,-64.8318,104.486,955,204.1,-1.781,34.364,2,34.362,2,321.4,2,317.6,2,64.4,2,29.8,2,-999,9,2.1,2,-999,9,-999,9,-999,9,-999,9,-999,9
    09AR9604_1,   UNK,50,1,6,6,2,19960213,1328,-64.8318,104.486,955,302.6,-1.71,34.426,2,34.364,4,315.5,2,316.7,2,65.3,2,30.1,2,-999,9,2.13,2,5.54,2,2.568,2,-999,9,-999,9,-999,9
    09AR9604_1,   UNK,50,1,5,5,2,19960213,1328,-64.8318,104.486,955,453.4,-1.624,34.494,2,34.493,2,313.1,2,317.3,2,66.3,2,29.8,2,-999,9,2.05,2,5.572,2,2.564,2,-999,9,-999,9,-999,9
    09AR9604_1,   UNK,50,1,4,4,2,19960213,1328,-64.8318,104.486,955,532.7,-0.683,34.575,3,34.577,2,273.1,2,274,2,77.5,2,30.2,2,-999,9,2.11,2,3.576,2,1.661,2,-999,9,-999,9,-999,9
    09AR9604_1,   UNK,50,1,3,3,2,19960213,1328,-64.8318,104.486,955,703.8,-1.115,34.558,2,34.559,2,295.3,2,293,2,75.2,2,30.4,2,-999,9,2.13,2,4.392,2,2.036,2,-999,9,-999,9,-999,9
    09AR9604_1,   UNK,50,1,2,2,2,19960213,1328,-64.8318,104.486,955,873.9,-1.208,34.565,3,34.57,2,290.3,2,289.7,2,77.5,2,30.7,2,-999,9,2.09,2,4.188,2,1.937,2,-999,9,-999,9,-999,9
    09AR9604_1,   UNK,50,1,1,1,2,19960213,1328,-64.8318,104.486,955,941.8,-1.184,34.563,2,34.561,2,295.7,2,296.6,2,73.5,2,30.1,2,-999,9,2.11,2,4.548,2,2.105,2,-999,9,-999,9,-999,9
    09AR9604_1,   UNK,51,1,22,22,2,19960213,1658,-64.7815,104.4438,1251,16,-1.348,33.387,2,33.394,2,357.9,2,357.7,2,45.2,2,24.9,2,-999,9,1.63,2,7.296,2,3.288,2,-999,9,-999,9,-999,9
    09AR9604_1,   UNK,51,1,17,17,2,19960213,1658,-64.7815,104.4438,1251,61.6,-1.223,33.468,3,33.474,2,357.1,2,357.1,2,46.5,2,24.9,2,-999,9,1.68,2,6.919,2,3.182,2,-999,9,-999,9,-999,9
    09AR9604_1,   UNK,51,1,14,114,2,19960213,1658,-64.7815,104.4438,1251,107,-1.727,34.221,2,34.219,2,326.3,2,324.9,2,60.5,2,29.4,2,-999,9,2.08,2,5.889,2,2.722,2,-999,9,-999,9,-999,9
    09AR9604_1,   UNK,51,1,10,10,2,19960213,1658,-64.7815,104.4438,1251,201.4,-1.786,34.38,2,34.379,2,320.5,2,318.8,2,63.4,2,30.4,2,-999,9,2.11,2,5.711,2,2.611,2,-999,9,-999,9,-999,9
    09AR9604_1,   UNK,51,1,9,9,2,19960213,1658,-64.7815,104.4438,1251,301.6,-1.73,34.43,2,34.428,2,315.5,2,317.9,2,64.1,2,30.4,2,-999,9,2.11,2,5.687,2,2.63,2,-999,9,-999,9,-999,9
    09AR9604_1,   UNK,51,1,8,8,2,19960213,1658,-64.7815,104.4438,1251,413.1,-0.853,34.534,2,34.532,2,280.4,2,282.4,2,71.6,2,31.1,2,-999,9,2.16,2,4.106,2,1.88,2,-999,9,-999,9,-999,9
    09AR9604_1,   UNK,51,1,7,7,2,19960213,1658,-64.7815,104.4438,1251,502.8,-0.115,34.621,2,34.619,2,252.7,2,250.2,2,84.6,2,31,2,-999,9,2.18,2,2.492,2,1.165,2,-999,9,-999,9,-999,9
    09AR9604_1,   UNK,51,1,6,6,2,19960213,1658,-64.7815,104.4438,1251,562.3,0.019,34.638,2,34.641,2,237.8,2,241.5,2,89.8,2,31.4,2,-999,9,2.18,2,2.003,2,0.925,2,-999,9,-999,9,-999,9
    09AR9604_1,   UNK,51,1,5,5,2,19960213,1658,-64.7815,104.4438,1251,653,-0.283,34.627,3,34.628,2,253.8,2,251.4,2,90.2,2,31.4,2,-999,9,2.21,2,2.436,2,1.115,2,-999,9,-999,9,-999,9
    09AR9604_1,   UNK,51,1,4,4,2,19960213,1658,-64.7815,104.4438,1251,803.1,-0.379,34.628,3,34.626,2,257.1,2,254.7,2,91.7,2,31.5,2,-999,9,2.22,2,2.47,2,1.138,2,-999,9,-999,9,-999,9
    09AR9604_1,   UNK,51,1,3,3,2,19960213,1658,-64.7815,104.4438,1251,953.3,-0.456,34.626,2,34.626,2,257.2,2,256.6,2,93.7,2,32,2,-999,9,2.2,2,2.577,2,1.181,2,-999,9,-999,9,-999,9
    09AR9604_1,   UNK,51,1,2,2,2,19960213,1658,-64.7815,104.4438,1251,1124.5,-0.476,34.628,3,34.629,2,253.7,2,256.1,2,94.6,2,31.5,2,-999,9,2.23,2,2.487,2,1.132,2,-999,9,-999,9,-999,9
    09AR9604_1,   UNK,51,1,1,1,2,19960213,1658,-64.7815,104.4438,1251,1238.7,-0.304,34.647,2,34.647,2,245.1,2,244.5,2,102,2,31.9,2,-999,9,2.22,2,1.853,2,0.847,2,-999,9,-999,9,-999,9
    09AR9604_1,   UNK,52,1,22,22,2,19960213,2017,-64.7277,104.396,1561,16.2,-1.506,33.325,2,33.338,2,361.3,2,360,2,46.8,2,24.5,2,-999,9,1.5,2,-999,9,-999,9,-999,9,-999,9,-999,9
    09AR9604_1,   UNK,52,1,19,119,2,19960213,2017,-64.7277,104.396,1561,45.4,-1.372,33.543,2,33.55,2,349.9,2,353.3,2,50,2,25.2,2,-999,9,1.65,2,-999,9,-999,9,-999,9,-999,9,-999,9
    09AR9604_1,   UNK,52,1,16,216,2,19960213,2017,-64.7277,104.396,1561,90.1,-1.756,34.133,2,34.151,2,335.7,2,330.2,2,63.5,2,28.7,2,-999,9,1.97,2,-999,9,-999,9,-999,9,-999,9,-999,9
    09AR9604_1,   UNK,52,1,12,112,2,19960213,2017,-64.7277,104.396,1561,150.8,-1.823,34.332,2,34.331,2,327.2,2,324.8,2,65.5,2,30.2,2,-999,9,2.02,2,-999,9,-999,9,-999,9,-999,9,-999,9
    09AR9604_1,   UNK,52,1,11,11,2,19960213,2017,-64.7277,104.396,1561,200.7,-1.831,34.363,2,34.363,2,323.6,2,320.5,2,65.5,2,30.2,2,-999,9,2.06,2,-999,9,-999,9,-999,9,-999,9,-999,9
    09AR9604_1,   UNK,52,1,10,10,2,19960213,2017,-64.7277,104.396,1561,302.1,-1.696,34.417,2,34.418,2,314.3,2,316.4,2,66,2,30.3,2,-999,9,2.07,2,-999,9,-999,9,-999,9,-999,9,-999,9
    09AR9604_1,   UNK,52,1,9,9,2,19960213,2017,-64.7277,104.396,1561,401.7,-1.305,34.486,2,34.487,2,293.3,2,301.3,2,70.5,2,30.4,2,-999,9,2.03,2,-999,9,-999,9,-999,9,-999,9,-999,9
    09AR9604_1,   UNK,52,1,7,7,2,19960213,2017,-64.7277,104.396,1561,601,0.078,34.641,2,34.638,2,241.9,2,237.7,2,95.2,2,31.3,2,-999,9,2.1,2,1.858,2,0.834,2,-999,9,-999,9,-999,9
    09AR9604_1,   UNK,52,1,6,6,2,19960213,2017,-64.7277,104.396,1561,701.6,0.136,34.657,2,34.656,2,226.8,2,229.9,2,103.3,2,31.4,2,-999,9,2.17,2,1.303,2,0.596,2,-999,9,-999,9,-999,9
    09AR9604_1,   UNK,52,1,5,5,2,19960213,2017,-64.7277,104.396,1561,852.7,-0.031,34.649,2,34.651,2,234.9,2,234.5,2,105.2,2,31.6,2,-999,9,2.19,2,1.451,2,0.659,2,-999,9,-999,9,-999,9
    09AR9604_1,   UNK,52,1,4,4,2,19960213,2017,-64.7277,104.396,1561,1002.7,-0.206,34.64,2,34.641,2,242.9,2,242.5,2,103.7,2,31.6,2,-999,9,2.17,2,1.806,2,0.819,2,-999,9,-999,9,-999,9
    09AR9604_1,   UNK,52,1,3,3,2,19960213,2017,-64.7277,104.396,1561,1201.8,-0.173,34.651,2,34.653,2,236.6,2,236.8,2,109.4,2,31.5,2,-999,9,2.19,2,1.426,2,0.643,2,-999,9,-999,9,-999,9
    09AR9604_1,   UNK,52,1,2,2,2,19960213,2017,-64.7277,104.396,1561,1404.4,-0.122,34.664,2,34.664,2,231.6,2,231.5,2,114.4,2,32.2,2,-999,9,2.2,2,1.093,2,0.494,2,-999,9,-999,9,-999,9
    09AR9604_1,   UNK,52,1,1,1,2,19960213,2017,-64.7277,104.396,1561,1556.4,-0.12,34.666,2,34.667,2,229.3,2,230.7,2,115.9,2,32.1,2,-999,9,2.23,2,1.067,2,0.476,2,-999,9,-999,9,-999,9
    09AR9604_1,   UNK,53,1,22,22,2,19960213,2315,-64.6373,104.4085,1761,16.2,-1.169,33.657,2,33.658,2,362.3,2,359.1,2,45.5,2,25.8,2,-999,9,1.59,2,-999,9,-999,9,-999,9,-999,9,-999,9
    09AR9604_1,   UNK,53,1,20,20,2,19960213,2315,-64.6373,104.4085,1761,46.6,-1.279,33.717,2,33.718,2,350.9,2,351.8,2,47.1,2,26,2,-999,9,1.87,3,-999,9,-999,9,-999,9,-999,9,-999,9
    09AR9604_1,   UNK,53,1,16,216,2,19960213,2315,-64.6373,104.4085,1761,107.5,-1.789,34.326,2,34.322,2,320.1,2,313,2,62.7,2,30.1,2,-999,9,2.1,2,-999,9,-999,9,-999,9,-999,9,-999,9
    09AR9604_1,   UNK,53,1,12,112,2,19960213,2315,-64.6373,104.4085,1761,201.5,-1.838,34.371,2,34.37,2,321.7,2,319.7,2,60.2,2,30.3,2,-999,9,2.06,2,-999,9,-999,9,-999,9,-999,9,-999,9
    09AR9604_1,   UNK,53,1,11,11,2,19960213,2315,-64.6373,104.4085,1761,301.8,-1.763,34.404,2,34.405,2,315.6,2,316.5,2,63.2,2,30.8,2,-999,9,2.09,2,-999,9,-999,9,-999,9,-999,9,-999,9
    09AR9604_1,   UNK,53,1,10,10,2,19960213,2315,-64.6373,104.4085,1761,402.4,-0.32,34.56,4,34.56,2,254.1,2,258.7,2,74.4,2,31.1,2,-999,9,2.16,2,3.038,2,1.407,2,-999,9,-999,9,-999,9
    09AR9604_1,   UNK,53,1,9,9,2,19960213,2315,-64.6373,104.4085,1761,503.1,0.766,34.682,2,34.681,2,215,2,212.4,2,91.3,2,31.4,2,-999,9,2.18,2,0.816,2,0.372,2,-999,9,-999,9,-999,9
    09AR9604_1,   UNK,53,1,8,8,2,19960213,2315,-64.6373,104.4085,1761,603.2,0.651,34.683,2,34.683,2,213.3,2,213.2,2,96.1,2,31.6,2,-999,9,2.21,2,0.701,2,0.319,2,-999,9,-999,9,-999,9
    09AR9604_1,   UNK,53,1,7,7,2,19960213,2315,-64.6373,104.4085,1761,752.7,0.546,34.685,2,34.685,2,211.8,2,212.5,2,98.6,2,31.7,2,-999,9,2.23,2,0.476,2,0.213,2,-999,9,-999,9,-999,9
    09AR9604_1,   UNK,53,1,6,6,2,19960213,2315,-64.6373,104.4085,1761,902.9,0.404,34.681,2,34.681,2,213.6,2,214.5,2,105.8,2,32.1,2,-999,9,2.25,2,0.44,2,0.199,2,-999,9,-999,9,-999,9
    09AR9604_1,   UNK,53,1,5,5,2,19960213,2315,-64.6373,104.4085,1761,1054.1,0.146,34.665,2,34.665,2,223.7,2,224.1,2,103.6,2,32,2,-999,9,2.24,2,0.85,2,0.39,2,-999,9,-999,9,-999,9
    09AR9604_1,   UNK,53,1,4,4,2,19960213,2315,-64.6373,104.4085,1761,1263.2,-0.387,34.623,2,34.623,2,252.5,2,253.3,2,91.4,2,31.5,2,-999,9,2.18,2,2.363,2,1.083,2,-999,9,-999,9,-999,9
    09AR9604_1,   UNK,53,1,3,3,2,19960213,2315,-64.6373,104.4085,1761,1404.3,-0.274,34.639,2,34.638,2,245.7,2,244.2,2,98.8,2,31.7,2,-999,9,2.2,2,1.813,2,0.833,2,-999,9,-999,9,-999,9
    09AR9604_1,   UNK,53,1,2,2,2,19960213,2315,-64.6373,104.4085,1761,1608.7,-0.091,34.665,2,34.665,2,231,2,230.3,2,107.8,2,31.8,2,-999,9,2.24,2,1.025,2,0.462,2,-999,9,-999,9,-999,9
    09AR9604_1,   UNK,53,1,1,1,2,19960213,2315,-64.6373,104.4085,1761,1787.4,-0.11,34.665,2,34.665,2,229.3,2,230.8,2,105.2,2,31.9,2,-999,9,2.24,2,1.036,2,0.48,2,-999,9,-999,9,-999,9
    09AR9604_1,   UNK,54,1,24,24,2,19960214,334,-64.4638,104.4267,2109,16.2,-0.977,33.376,2,33.384,2,357.1,2,358.1,2,46.4,2,26.1,2,-999,9,1.66,2,7.268,2,3.301,2,-999,9,-999,9,-999,9
    09AR9604_1,   UNK,54,1,22,22,2,19960214,334,-64.4638,104.4267,2109,46.1,-1.578,33.988,4,33.985,2,335.5,2,335.6,2,56.6,2,27.9,2,-999,9,1.9,2,5.919,2,2.726,2,-999,9,-999,9,-999,9
    09AR9604_1,   UNK,54,1,19,119,2,19960214,334,-64.4638,104.4267,2109,90.6,-1.814,34.33,2,34.329,2,321.6,2,320.5,2,64.4,2,29.8,2,-999,9,2.07,2,5.761,2,2.625,2,-999,9,-999,9,-999,9
    09AR9604_1,   UNK,54,1,15,215,2,19960214,334,-64.4638,104.4267,2109,151.7,-1.783,34.367,2,34.369,2,313.6,2,310.7,2,65.3,2,30.4,2,-999,9,2.09,2,5.399,2,2.474,2,-999,9,-999,9,-999,9
    09AR9604_1,   UNK,54,1,14,114,2,19960214,334,-64.4638,104.4267,2109,200.9,-1.753,34.395,2,34.395,2,305.2,2,313.1,2,65.1,2,30.3,2,-999,9,2.1,2,5.414,2,2.5,2,-999,9,-999,9,-999,9
    09AR9604_1,   UNK,54,1,13,113,2,19960214,334,-64.4638,104.4267,2109,302.7,-0.483,34.529,2,34.529,2,267.8,2,263.3,2,76.7,2,30.7,2,-999,9,2.15,2,3.326,2,1.538,2,-999,9,-999,9,-999,9
    09AR9604_1,   UNK,54,1,12,112,2,19960214,334,-64.4638,104.4267,2109,403.7,0.841,34.68,2,34.68,2,205.6,2,210.8,2,92.7,2,31.7,2,-999,9,2.21,2,0.885,2,0.398,2,-999,9,-999,9,-999,9
    09AR9604_1,   UNK,54,1,11,11,2,19960214,334,-64.4638,104.4267,2109,526.9,0.74,34.686,2,34.687,2,210,2,211.2,2,98.9,2,31.3,2,-999,9,2.19,2,0.688,2,0.313,2,-999,9,-999,9,-999,9
    09AR9604_1,   UNK,54,1,10,10,2,19960214,334,-64.4638,104.4267,2109,679.5,0.563,34.684,3,34.683,2,213.8,2,213.3,2,105.3,2,31.6,2,-999,9,2.21,2,-999,9,-999,9,-999,9,-999,9,-999,9
    09AR9604_1,   UNK,54,1,9,9,2,19960214,334,-64.4638,104.4267,2109,704,0.533,34.683,2,34.681,2,214.7,2,213.8,2,107.9,2,31.7,2,-999,9,2.19,2,0.554,2,0.26,2,-999,9,-999,9,-999,9
    09AR9604_1,   UNK,54,1,8,8,2,19960214,334,-64.4638,104.4267,2109,852.9,0.354,34.674,2,34.673,2,216.8,2,217.8,2,112,2,31.6,2,-999,9,2.21,2,0.644,2,0.296,2,-999,9,-999,9,-999,9
    09AR9604_1,   UNK,54,1,7,7,2,19960214,334,-64.4638,104.4267,2109,1002.5,0.269,34.676,2,34.673,2,220.6,2,217.9,2,116.1,2,31.9,2,-999,9,2.22,2,0.517,2,0.241,2,-999,9,-999,9,-999,9
    09AR9604_1,   UNK,54,1,6,6,2,19960214,334,-64.4638,104.4267,2109,1202.7,0.119,34.672,2,34.67,2,222.4,2,222.2,2,117.9,2,31.6,2,-999,9,2.24,2,0.634,2,0.295,2,-999,9,-999,9,-999,9
    09AR9604_1,   UNK,54,1,5,5,2,19960214,334,-64.4638,104.4267,2109,1403.5,0.012,34.666,2,34.668,2,226.5,2,226.1,2,117.3,2,32.2,2,-999,9,2.22,2,0.817,2,0.37,2,-999,9,-999,9,-999,9
    09AR9604_1,   UNK,54,1,4,4,2,19960214,334,-64.4638,104.4267,2109,1602.9,-0.072,34.665,2,34.666,2,229.6,2,229,2,117.3,2,31.6,2,-999,9,2.22,2,0.931,2,0.43,2,-999,9,-999,9,-999,9
    09AR9604_1,   UNK,54,1,3,3,2,19960214,334,-64.4638,104.4267,2109,1804.6,-0.128,34.663,2,34.664,2,231.1,2,231.3,2,115.3,2,32,2,-999,9,2.21,2,1.098,2,0.495,2,-999,9,-999,9,-999,9
    09AR9604_1,   UNK,54,1,2,2,2,19960214,334,-64.4638,104.4267,2109,2004.5,-0.133,34.664,2,34.664,2,231,2,231.7,2,114.8,2,31.6,2,-999,9,2.22,2,1.13,2,0.515,2,-999,9,-999,9,-999,9
    09AR9604_1,   UNK,54,1,1,1,2,19960214,334,-64.4638,104.4267,2109,2114.5,-0.141,34.661,2,34.663,2,230.3,2,232.4,2,115.8,2,31.6,2,-999,9,2.21,2,1.155,2,0.53,2,-999,9,-999,9,-999,9
    09AR9604_1,   UNK,55,1,24,24,2,19960214,835,-64.2937,104.4282,2570,16.5,-0.925,33.357,2,33.366,2,361.2,2,359.8,2,46,2,25.6,2,-999,9,1.6,2,-999,9,-999,9,-999,9,-999,9,-999,9
    09AR9604_1,   UNK,55,1,22,22,2,19960214,835,-64.2937,104.4282,2570,46.2,-1.665,34.089,3,34.106,2,324.9,2,328.6,2,58.3,2,28.1,2,-999,9,1.94,2,-999,9,-999,9,-999,9,-999,9,-999,9
    09AR9604_1,   UNK,55,1,19,119,2,19960214,835,-64.2937,104.4282,2570,92.1,-1.78,34.323,2,34.322,2,311.7,2,306.9,2,64.7,2,30.3,2,-999,9,2.08,2,-999,9,-999,9,-999,9,-999,9,-999,9
    09AR9604_1,   UNK,55,1,16,216,2,19960214,835,-64.2937,104.4282,2570,151.7,-1.571,34.402,2,34.404,2,299.6,2,298.2,2,68.7,2,30.4,2,-999,9,2.05,2,-999,9,-999,9,-999,9,-999,9,-999,9
    09AR9604_1,   UNK,55,1,15,215,2,19960214,835,-64.2937,104.4282,2570,202.8,-1.54,34.434,3,34.436,2,300.6,2,305,2,68.7,2,30.3,2,-999,9,2.09,2,4.971,2,2.327,2,-999,9,-999,9,-999,9
    09AR9604_1,   UNK,55,1,14,114,2,19960214,835,-64.2937,104.4282,2570,301.6,0.591,34.649,2,34.645,2,218.1,2,219.7,2,88.8,2,31,2,-999,9,2.13,2,-999,9,-999,9,-999,9,-999,9,-999,9
    09AR9604_1,   UNK,55,1,13,113,2,19960214,835,-64.2937,104.4282,2570,401.8,0.91,34.699,2,34.699,2,203.5,2,206.9,2,95.4,2,31.4,2,-999,9,2.14,2,0.6,2,0.269,2,-999,9,-999,9,-999,9
    09AR9604_1,   UNK,55,1,12,112,2,19960214,835,-64.2937,104.4282,2570,501.8,0.783,34.696,2,34.698,2,210.8,2,209.2,2,99.5,2,31.4,2,-999,9,2.18,2,-999,9,-999,9,-999,9,-999,9,-999,9
    09AR9604_1,   UNK,55,1,11,11,2,19960214,835,-64.2937,104.4282,2570,601.5,0.703,34.698,2,34.698,2,210.7,2,209.6,2,104.4,2,31,2,-999,9,2.17,2,0.449,2,0.203,2,-999,9,-999,9,-999,9
    09AR9604_1,   UNK,55,1,10,10,2,19960214,835,-64.2937,104.4282,2570,702,0.617,34.696,2,34.697,2,207.7,2,210.3,2,107,2,31.3,2,-999,9,2.2,2,-999,9,-999,9,-999,9,-999,9,-999,9
    09AR9604_1,   UNK,55,1,9,9,2,19960214,835,-64.2937,104.4282,2570,901.7,0.435,34.69,2,34.689,2,212.8,2,212.9,2,111.1,2,31.7,2,-999,9,2.23,2,0.349,2,0.164,2,-999,9,-999,9,-999,9
    09AR9604_1,   UNK,55,1,8,8,2,19960214,835,-64.2937,104.4282,2570,1102.4,0.272,34.684,2,34.682,2,217.8,2,216.9,2,112.1,2,31.5,2,-999,9,2.23,2,-999,9,-999,9,-999,9,-999,9,-999,9
    09AR9604_1,   UNK,55,1,7,7,2,19960214,835,-64.2937,104.4282,2570,1302.6,0.163,34.68,2,34.679,2,221.6,2,220.2,2,117.8,2,32,2,-999,9,2.24,2,0.464,2,0.21,2,-999,9,-999,9,-999,9
    09AR9604_1,   UNK,55,1,6,6,2,19960214,835,-64.2937,104.4282,2570,1502.6,0.064,34.678,2,34.676,2,224.1,2,223.2,2,117.2,2,31.9,2,-999,9,2.23,2,-999,9,-999,9,-999,9,-999,9,-999,9
    09AR9604_1,   UNK,55,1,5,5,2,19960214,835,-64.2937,104.4282,2570,1704.1,-0.014,34.676,2,34.678,2,225.9,2,226.1,2,117.1,2,31.8,2,-999,9,2.23,2,0.61,2,0.286,2,-999,9,-999,9,-999,9
    09AR9604_1,   UNK,55,1,4,4,2,19960214,835,-64.2937,104.4282,2570,1903.4,-0.097,34.673,2,34.674,2,229.5,2,229.5,2,116,2,31.5,2,-999,9,2.23,2,0.769,2,0.368,2,-999,9,-999,9,-999,9
    09AR9604_1,   UNK,55,1,3,3,2,19960214,835,-64.2937,104.4282,2570,2204.8,-0.212,34.668,2,34.67,2,234.5,2,235.4,2,110.6,2,31.7,2,-999,9,2.19,2,1.252,2,0.571,2,-999,9,-999,9,-999,9
    09AR9604_1,   UNK,55,1,2,2,2,19960214,835,-64.2937,104.4282,2570,2509.6,-0.25,34.664,2,34.665,2,237.9,2,238,2,107,2,31.3,2,-999,9,2.19,2,1.501,2,0.681,2,-999,9,-999,9,-999,9
    09AR9604_1,   UNK,55,1,1,1,2,19960214,835,-64.2937,104.4282,2570,2572.6,-0.245,34.664,2,34.665,2,235.7,2,238,2,107.8,2,31.8,2,-999,9,2.19,2,1.509,2,0.686,2,-999,9,-999,9,-999,9