BOTTLE,2021011SIOJHS,,,,,,,,,,,,,,,,,,,,,,,,,,,,,,,,,,,,,,
EXPOCODE,SECT_ID,STNNBR,CASTNO,SAMPNO,BTLNBR,BTLNBR_FLAG_W,DATE,TIME,LATITUDE,LONGITUDE,DEPTH,CTDPRS,CTDTMP,CTDSAL,CTDSAL_FLAG_W,SALNTY,SALNTY_FLAG_W,CTDOXY,CTDOXY_FLAG_W,OXYGEN,OXYGEN_FLAG_W,SILCAT,SILCAT_FLAG_W,NITRAT,NITRAT_FLAG_W,NITRIT,NITRIT_FLAG_W,PHSPHT,PHSPHT_FLAG_W,CFC-11,CFC-11_FLAG_W,CFC-12,CFC-12_FLAG_W,SF6,SF6_FLAG_W,TCARBN,TCARBN_FLAG_W,ALKALI,ALKALI_FLAG_W
,,,,,,,,,,,,DBAR,DEG C,PSS-78,,PSS-78,,UMOL/KG,,UMOL/KG,,UMOL/KG,,UMOL/KG,,UMOL/KG,,UMOL/KG,,PMOL/KG,,PMOL/KG,,NMOL/KG,,UMOL/KG,,UMOL/KG,
    09AR9604_1,   UNK,110,1,24,24,2,19960306,112,-64.0497,128.3842,3583,13.9,0.687,33.883,2,33.883,2,-999,5,338.6,2,32.5,2,25.6,2,-999,9,1.67,2,-999,9,-999,9,-999,9,-999,9,-999,9
    09AR9604_1,   UNK,110,1,23,23,2,19960306,112,-64.0497,128.3842,3583,51.4,-1.215,34.233,4,34.226,2,-999,5,323.2,2,51.5,2,28.9,2,-999,9,2.01,2,-999,9,-999,9,-999,9,-999,9,-999,9
    09AR9604_1,   UNK,110,1,22,22,2,19960306,112,-64.0497,128.3842,3583,100.7,-1.156,34.378,2,34.375,2,-999,5,291.6,2,63.6,2,31.1,2,-999,9,2.15,2,-999,9,-999,9,-999,9,-999,9,-999,9
    09AR9604_1,   UNK,110,1,21,21,2,19960306,112,-64.0497,128.3842,3583,151.5,-0.42,34.475,4,34.474,2,-999,5,264.3,2,69,2,31.6,2,-999,9,2.19,2,-999,9,-999,9,-999,9,-999,9,-999,9
    09AR9604_1,   UNK,110,1,20,20,2,19960306,112,-64.0497,128.3842,3583,200.6,0.616,34.598,2,34.596,2,-999,5,221.2,2,77.7,2,32.1,2,-999,9,2.24,2,-999,9,-999,9,-999,9,-999,9,-999,9
    09AR9604_1,   UNK,110,1,19,119,2,19960306,112,-64.0497,128.3842,3583,301.6,1.114,34.669,2,34.664,2,-999,5,204.5,2,82.9,2,31.4,2,-999,9,2.22,2,-999,9,-999,9,-999,9,-999,9,-999,9
    09AR9604_1,   UNK,110,1,18,118,2,19960306,112,-64.0497,128.3842,3583,400.5,1.275,34.705,2,34.708,2,-999,5,200.6,2,86.3,2,31.1,2,-999,9,2.15,2,0.607,2,0.28,2,-999,9,-999,9,-999,9
    09AR9604_1,   UNK,110,1,17,17,2,19960306,112,-64.0497,128.3842,3583,502.3,1.227,34.71,2,34.711,2,-999,5,202.1,2,89.7,2,31.2,2,-999,9,2.14,2,-999,9,-999,9,-999,9,-999,9,-999,9
    09AR9604_1,   UNK,110,1,16,216,2,19960306,112,-64.0497,128.3842,3583,601.4,1.222,34.718,2,34.717,2,-999,5,201.8,2,93.4,2,31,2,-999,9,2.15,2,0.388,2,0.181,2,-999,9,-999,9,-999,9
    09AR9604_1,   UNK,110,1,15,215,2,19960306,112,-64.0497,128.3842,3583,701,1.166,34.72,2,34.718,2,-999,5,202.3,2,96.6,2,31.1,2,-999,9,2.18,2,-999,9,-999,9,-999,9,-999,9,-999,9
    09AR9604_1,   UNK,110,1,14,114,2,19960306,112,-64.0497,128.3842,3583,802.7,1.1,34.719,2,34.717,2,-999,5,203.1,2,98.6,2,31.2,2,-999,9,2.15,2,0.26,2,0.125,2,-999,9,-999,9,-999,9
    09AR9604_1,   UNK,110,1,13,113,2,19960306,112,-64.0497,128.3842,3583,902.1,0.99,34.713,2,34.712,2,-999,5,204.7,2,101.9,2,31.2,2,-999,9,2.15,2,0.26,2,0.126,2,-999,9,-999,9,-999,9
    09AR9604_1,   UNK,110,1,12,112,2,19960306,112,-64.0497,128.3842,3583,1004.3,0.935,34.712,2,34.713,2,-999,5,205,2,104,2,31.5,2,-999,9,2.19,2,0.227,2,0.109,2,-999,9,-999,9,-999,9
    09AR9604_1,   UNK,110,1,11,11,2,19960306,112,-64.0497,128.3842,3583,1203.1,0.753,34.704,2,34.706,2,-999,5,207.9,2,108.7,2,31.7,2,-999,9,2.22,2,0.247,2,0.116,2,-999,9,-999,9,-999,9
    09AR9604_1,   UNK,110,1,10,10,2,19960306,112,-64.0497,128.3842,3583,1403,0.586,34.694,2,34.698,2,-999,5,210.1,2,113.1,2,32,2,-999,9,2.23,2,-999,9,-999,9,-999,9,-999,9,-999,9
    09AR9604_1,   UNK,110,1,9,9,2,19960306,112,-64.0497,128.3842,3583,1602.2,0.452,34.69,2,34.691,2,-999,5,212.2,2,117,2,32.4,2,-999,9,2.23,2,0.225,2,0.11,2,-999,9,-999,9,-999,9
    09AR9604_1,   UNK,110,1,8,8,2,19960306,112,-64.0497,128.3842,3583,1803.5,0.338,34.685,2,34.686,2,-999,5,215.6,2,117.5,2,32.2,2,-999,9,2.25,2,-999,9,-999,9,-999,9,-999,9,-999,9
    09AR9604_1,   UNK,110,1,7,7,2,19960306,112,-64.0497,128.3842,3583,2004.9,0.178,34.68,2,34.679,2,-999,5,220.4,2,120.9,2,32.8,2,-999,9,2.25,2,0.42,2,0.192,2,-999,9,-999,9,-999,9
    09AR9604_1,   UNK,110,1,6,6,2,19960306,112,-64.0497,128.3842,3583,2303.6,0.06,34.677,2,34.674,2,-999,5,224.4,2,120.9,2,32.7,2,-999,9,2.24,2,0.529,2,0.248,2,-999,9,-999,9,-999,9
    09AR9604_1,   UNK,110,1,5,5,2,19960306,112,-64.0497,128.3842,3583,2606.6,-0.055,34.672,2,34.673,2,-999,5,229.5,2,118,2,32.5,2,-999,9,2.22,2,0.823,2,0.392,2,-999,9,-999,9,-999,9
    09AR9604_1,   UNK,110,1,4,4,2,19960306,112,-64.0497,128.3842,3583,2905.2,-0.147,34.671,2,34.673,2,-999,5,233,2,119.6,2,32.5,2,-999,9,2.23,2,0.869,2,0.406,2,-999,9,-999,9,-999,9
    09AR9604_1,   UNK,110,1,3,3,2,19960306,112,-64.0497,128.3842,3583,3207.4,-0.269,34.66,2,34.662,2,-999,5,241,2,106.3,2,31.7,2,-999,9,2.18,2,1.735,2,0.829,2,-999,9,-999,9,-999,9
    09AR9604_1,   UNK,110,1,2,2,2,19960306,112,-64.0497,128.3842,3583,3508.1,-0.319,34.656,2,34.657,2,-999,5,243.9,2,108.4,2,31.7,2,-999,9,2.19,2,1.956,2,0.936,2,-999,9,-999,9,-999,9
    09AR9604_1,   UNK,110,1,1,1,2,19960306,112,-64.0497,128.3842,3583,3605.7,-0.336,34.651,2,34.652,2,-999,5,245.4,2,105.5,2,31.5,2,-999,9,2.19,2,2.108,2,0.992,2,-999,9,-999,9,-999,9
    09AR9604_1,   UNK,111,1,23,23,2,19960306,847,-63.6557,128.4147,3993,40.1,1.527,33.892,4,33.896,2,-999,5,336.8,2,22.1,2,25.2,2,-999,9,1.69,2,6.095,2,2.998,2,-999,9,-999,9,-999,9
    09AR9604_1,   UNK,111,1,22,22,2,19960306,847,-63.6557,128.4147,3993,60.9,-0.281,34.044,3,34.045,2,-999,5,329.4,2,43.1,2,28.6,2,-999,9,2.05,2,-999,9,-999,9,-999,9,-999,9,-999,9
    09AR9604_1,   UNK,111,1,20,20,2,19960306,847,-63.6557,128.4147,3993,152.5,1.597,34.585,3,34.58,2,-999,5,185.4,2,76,2,33.6,2,-999,9,2.34,2,1.047,2,0.5,2,-999,9,-999,9,-999,9
    09AR9604_1,   UNK,111,1,19,119,2,19960306,847,-63.6557,128.4147,3993,201.2,1.729,34.639,3,34.638,2,-999,5,181.1,2,78.3,2,33.7,2,-999,9,2.3,2,0.693,2,0.327,2,-999,9,-999,9,-999,9
    09AR9604_1,   UNK,111,1,17,17,2,19960306,847,-63.6557,128.4147,3993,402.4,1.68,34.703,2,34.703,2,-999,5,188,2,81.5,2,32,2,-999,9,2.21,2,0.439,2,0.21,2,-999,9,-999,9,-999,9
    09AR9604_1,   UNK,111,1,16,216,2,19960306,847,-63.6557,128.4147,3993,502.3,1.738,34.725,2,34.726,2,-999,5,189.4,2,84.5,2,31.3,2,-999,9,2.17,2,0.266,2,0.122,2,-999,9,-999,9,-999,9
    09AR9604_1,   UNK,111,1,15,215,2,19960306,847,-63.6557,128.4147,3993,602.6,1.668,34.732,2,34.734,2,-999,5,192.4,2,86.2,2,30.9,2,-999,9,2.14,2,0.243,2,0.106,2,-999,9,-999,9,-999,9
    09AR9604_1,   UNK,111,1,14,114,2,19960306,847,-63.6557,128.4147,3993,802.6,1.509,34.739,2,34.74,2,-999,5,196.5,2,90.7,2,31,2,-999,9,2.14,2,0.178,2,0.078,2,-999,9,-999,9,-999,9
    09AR9604_1,   UNK,111,1,13,113,2,19960306,847,-63.6557,128.4147,3993,1003.3,1.353,34.738,2,34.737,2,-999,5,200,2,95,2,30.9,2,-999,9,2.11,2,-999,9,-999,9,-999,9,-999,9,-999,9
    09AR9604_1,   UNK,111,1,12,112,2,19960306,847,-63.6557,128.4147,3993,1209.7,1.167,34.73,2,34.731,2,-999,5,202.2,2,100.9,2,31.4,2,-999,9,2.16,2,0.124,2,0.06,2,-999,9,-999,9,-999,9
    09AR9604_1,   UNK,111,1,11,11,2,19960306,847,-63.6557,128.4147,3993,1404.6,1.005,34.723,2,34.724,2,-999,5,203.4,2,106,2,32.1,2,-999,9,2.18,2,0.121,2,0.055,2,-999,9,-999,9,-999,9
    09AR9604_1,   UNK,111,1,10,10,2,19960306,847,-63.6557,128.4147,3993,1705.5,0.779,34.712,2,34.714,2,-999,5,206.6,2,111.9,2,31.5,2,-999,9,2.21,2,-999,9,-999,9,-999,9,-999,9,-999,9
    09AR9604_1,   UNK,111,1,9,9,2,19960306,847,-63.6557,128.4147,3993,2006.7,0.569,34.702,2,34.703,2,-999,5,209.9,2,119.1,2,31.7,2,-999,9,2.23,2,0.104,2,0.054,2,-999,9,-999,9,-999,9
    09AR9604_1,   UNK,111,1,8,8,2,19960306,847,-63.6557,128.4147,3993,2306.1,0.361,34.693,2,34.693,2,-999,5,214.8,2,123.4,2,32.2,2,-999,9,2.24,2,-999,9,-999,9,-999,9,-999,9,-999,9
    09AR9604_1,   UNK,111,1,7,7,2,19960306,847,-63.6557,128.4147,3993,2605.3,0.198,34.686,2,34.686,2,-999,5,220,2,124,2,32.1,2,-999,9,2.24,2,0.282,2,0.137,2,-999,9,-999,9,-999,9
    09AR9604_1,   UNK,111,1,6,6,2,19960306,847,-63.6557,128.4147,3993,2906.6,0.088,34.684,2,34.681,2,-999,5,224.2,2,124,2,31.9,2,-999,9,2.24,2,0.388,2,0.183,2,-999,9,-999,9,-999,9
    09AR9604_1,   UNK,111,1,5,5,2,19960306,847,-63.6557,128.4147,3993,3108.1,0.014,34.679,2,34.68,2,-999,5,227.7,2,125,2,32.5,2,-999,9,2.2,2,0.521,2,0.253,2,-999,9,-999,9,-999,9
    09AR9604_1,   UNK,111,1,4,4,2,19960306,847,-63.6557,128.4147,3993,3307.5,-0.064,34.675,2,34.676,2,-999,5,231.5,2,119.3,2,32.3,2,-999,9,2.2,2,0.87,2,0.403,2,-999,9,-999,9,-999,9
    09AR9604_1,   UNK,111,1,3,3,2,19960306,847,-63.6557,128.4147,3993,3607.3,-0.137,34.675,2,34.674,2,-999,5,234.8,2,123.4,2,32.3,2,-999,9,2.2,2,0.928,2,0.47,2,-999,9,-999,9,-999,9
    09AR9604_1,   UNK,111,1,2,2,2,19960306,847,-63.6557,128.4147,3993,3907,-0.237,34.665,2,34.667,2,-999,5,240.2,2,119,2,32.3,2,-999,9,2.2,2,1.746,2,0.812,2,-999,9,-999,9,-999,9
    09AR9604_1,   UNK,111,1,1,1,2,19960306,847,-63.6557,128.4147,3993,4006.9,-0.29,34.658,2,34.658,2,-999,5,242.6,2,109.4,2,31.8,2,-999,9,2.18,2,2.028,2,0.976,2,-999,9,-999,9,-999,9
    09AR9604_1,   UNK,113,1,24,24,2,19960306,1740,-63.2595,128.377,4218,10.4,1.669,33.882,2,33.891,2,-999,5,331.3,2,21.4,2,26.2,2,-999,9,1.64,2,6.176,2,2.955,2,-999,9,-999,9,-999,9
    09AR9604_1,   UNK,113,1,23,23,2,19960306,1740,-63.2595,128.377,4218,49.7,0.099,34.013,4,34.012,2,-999,5,336.1,2,32,2,27.6,2,-999,9,1.92,2,6.219,2,2.955,2,-999,9,-999,9,-999,9
    09AR9604_1,   UNK,113,1,22,22,2,19960306,1740,-63.2595,128.377,4218,101,0.518,34.376,4,34.404,2,-999,5,226.5,2,61.5,2,33.3,2,-999,9,2.31,2,2.763,2,1.313,2,-999,9,-999,9,-999,9
    09AR9604_1,   UNK,113,1,21,21,2,19960306,1740,-63.2595,128.377,4218,150.9,1.641,34.566,2,34.566,2,-999,5,181.3,2,72.6,2,34.2,2,-999,9,2.36,2,1.063,2,0.5,2,-999,9,-999,9,-999,9
    09AR9604_1,   UNK,113,1,20,20,2,19960306,1740,-63.2595,128.377,4218,201.1,1.783,34.618,2,34.616,2,-999,5,177.8,2,76.3,2,33.7,2,-999,9,2.33,2,0.73,2,0.329,2,-999,9,-999,9,-999,9
    09AR9604_1,   UNK,113,1,19,119,2,19960306,1740,-63.2595,128.377,4218,302.1,1.859,34.668,2,34.66,2,-999,5,177.6,2,76.9,2,32.8,2,-999,9,2.26,2,0.46,2,0.238,3,-999,9,-999,9,-999,9
    09AR9604_1,   UNK,113,1,18,118,2,19960306,1740,-63.2595,128.377,4218,400.5,1.714,34.681,2,34.687,2,-999,5,185,2,78.3,2,32.3,2,-999,9,2.23,2,0.542,2,0.25,2,-999,9,-999,9,-999,9
    09AR9604_1,   UNK,113,1,17,17,2,19960306,1740,-63.2595,128.377,4218,501,1.773,34.713,2,34.717,2,-999,5,186.8,2,79.9,2,31.5,2,-999,9,2.18,2,-999,9,-999,9,-999,9,-999,9,-999,9
    09AR9604_1,   UNK,113,1,16,216,2,19960306,1740,-63.2595,128.377,4218,603.1,1.781,34.733,2,34.735,2,-999,5,189.9,2,83.1,2,31.3,2,-999,9,2.13,2,0.2,2,0.094,2,-999,9,-999,9,-999,9
    09AR9604_1,   UNK,113,1,15,215,2,19960306,1740,-63.2595,128.377,4218,701.1,1.737,34.738,2,34.74,2,-999,5,192.7,2,83.6,2,30.5,2,-999,9,2.11,2,0.169,2,0.081,2,-999,9,-999,9,-999,9
    09AR9604_1,   UNK,113,1,14,114,2,19960306,1740,-63.2595,128.377,4218,801.9,1.652,34.74,2,34.738,2,-999,5,194.1,2,85.9,2,30.9,2,-999,9,2.11,2,0.169,2,0.082,2,-999,9,-999,9,-999,9
    09AR9604_1,   UNK,113,1,13,113,2,19960306,1740,-63.2595,128.377,4218,1002.4,1.479,34.742,2,34.735,2,-999,5,197.9,2,92.9,2,30.7,2,-999,9,2.11,2,0.143,2,0.064,2,-999,9,-999,9,-999,9
    09AR9604_1,   UNK,113,1,12,112,2,19960306,1740,-63.2595,128.377,4218,1204.1,1.326,34.738,2,34.744,2,-999,5,200.2,2,96.8,2,31.2,2,-999,9,2.11,2,0.133,2,0.055,3,-999,9,-999,9,-999,9
    09AR9604_1,   UNK,113,1,11,11,2,19960306,1740,-63.2595,128.377,4218,1403.3,1.168,34.731,2,34.734,2,-999,5,202,2,99.8,2,30.8,2,-999,9,2.15,2,0.119,2,0.051,3,-999,9,-999,9,-999,9
    09AR9604_1,   UNK,113,1,10,10,2,19960306,1740,-63.2595,128.377,4218,1703,0.939,34.719,2,34.721,2,-999,5,204.9,2,108.6,2,31.9,2,-999,9,2.15,2,0.102,2,0.043,3,-999,9,-999,9,-999,9
    09AR9604_1,   UNK,113,1,9,9,2,19960306,1740,-63.2595,128.377,4218,2004.3,0.71,34.709,2,34.709,2,-999,5,207.8,2,116.4,2,31.5,2,-999,9,2.22,2,0.108,2,0.046,3,-999,9,-999,9,-999,9
    09AR9604_1,   UNK,113,1,8,8,2,19960306,1740,-63.2595,128.377,4218,2304.4,0.532,34.702,2,34.7,2,-999,5,211.4,2,120.8,2,31.8,2,-999,9,2.22,2,0.114,2,0.053,2,-999,9,-999,9,-999,9
    09AR9604_1,   UNK,113,1,7,7,2,19960306,1740,-63.2595,128.377,4218,2605.8,0.358,34.694,2,34.688,2,-999,5,215.7,2,123.7,2,32.2,2,-999,9,2.22,2,0.167,2,0.084,2,-999,9,-999,9,-999,9
    09AR9604_1,   UNK,113,1,6,6,2,19960306,1740,-63.2595,128.377,4218,2904.7,0.213,34.687,2,-999,9,-999,5,220.5,2,124.9,2,32.3,2,-999,9,2.24,2,0.255,2,0.126,2,-999,9,-999,9,-999,9
    09AR9604_1,   UNK,113,1,5,5,2,19960306,1740,-63.2595,128.377,4218,3205.3,0.082,34.681,2,-999,9,-999,5,225.8,2,121,2,31.9,2,-999,9,2.22,2,0.678,2,0.318,2,-999,9,-999,9,-999,9
    09AR9604_1,   UNK,113,1,4,4,2,19960306,1740,-63.2595,128.377,4218,3504.7,-0.016,34.675,2,-999,9,-999,5,230.8,2,115.5,2,31.8,2,-999,9,2.22,2,1.023,2,0.493,2,-999,9,-999,9,-999,9
    09AR9604_1,   UNK,113,1,3,3,2,19960306,1740,-63.2595,128.377,4218,3805.7,-0.118,34.67,2,-999,9,-999,5,236,2,110.5,2,31.4,2,-999,9,2.2,2,1.485,2,0.69,2,-999,9,-999,9,-999,9
    09AR9604_1,   UNK,113,1,2,2,2,19960306,1740,-63.2595,128.377,4218,4110.3,-0.191,34.668,2,-999,9,-999,5,239.5,2,117.8,2,31.6,2,-999,9,2.22,2,1.678,2,0.788,2,-999,9,-999,9,-999,9
    09AR9604_1,   UNK,113,1,1,1,2,19960306,1740,-63.2595,128.377,4218,4268.4,-0.27,34.658,3,34.659,2,-999,5,244.4,2,111.9,2,31.9,2,-999,9,2.17,2,2.104,2,0.993,2,-999,9,-999,9,-999,9
    09AR9604_1,   UNK,114,1,24,24,2,19960307,214,-63.2453,130.2512,4249,9.8,1.807,33.851,2,33.857,2,-999,5,-999,9,18,2,25.7,2,-999,9,1.7,2,6.095,2,2.987,2,-999,9,-999,9,-999,9
    09AR9604_1,   UNK,114,1,23,23,2,19960307,214,-63.2453,130.2512,4249,51.5,1.524,33.87,4,33.869,2,-999,5,332.7,2,19.2,2,25.8,2,-999,9,1.7,2,-999,9,-999,9,-999,9,-999,9,-999,9
    09AR9604_1,   UNK,114,1,22,22,2,19960307,214,-63.2453,130.2512,4249,106.8,-0.238,34.21,4,34.21,2,-999,5,278.9,2,51.4,2,31.5,2,-999,9,2.24,2,4.465,2,2.173,2,-999,9,-999,9,-999,9
    09AR9604_1,   UNK,114,1,21,21,2,19960307,214,-63.2453,130.2512,4249,152.3,1.663,34.499,4,34.5,2,-999,5,186.4,2,68.4,2,33.9,2,-999,9,2.37,2,-999,9,-999,9,-999,9,-999,9,-999,9
    09AR9604_1,   UNK,114,1,20,20,2,19960307,214,-63.2453,130.2512,4249,201.8,1.791,34.573,2,34.569,2,-999,5,177.4,2,72.7,2,33.9,2,-999,9,2.39,2,-999,9,-999,9,-999,9,-999,9,-999,9
    09AR9604_1,   UNK,114,1,19,119,2,19960307,214,-63.2453,130.2512,4249,299.9,1.968,34.649,2,34.645,2,-999,5,175.9,2,76,2,32.7,2,-999,9,2.31,2,0.477,2,0.214,2,-999,9,-999,9,-999,9
    09AR9604_1,   UNK,114,1,18,118,2,19960307,214,-63.2453,130.2512,4249,402.5,1.912,34.681,2,34.682,2,-999,5,179.3,2,79.2,2,32.2,2,-999,9,2.25,2,-999,9,-999,9,-999,9,-999,9,-999,9
    09AR9604_1,   UNK,114,1,17,17,2,19960307,214,-63.2453,130.2512,4249,499,1.907,34.707,2,34.707,2,-999,5,183.6,2,79.9,2,31.7,2,-999,9,2.17,2,0.285,2,0.129,2,-999,9,-999,9,-999,9
    09AR9604_1,   UNK,114,1,16,216,2,19960307,214,-63.2453,130.2512,4249,603.1,1.844,34.723,2,34.722,2,-999,5,187.3,2,80.2,2,31,2,-999,9,2.15,2,-999,9,-999,9,-999,9,-999,9,-999,9
    09AR9604_1,   UNK,114,1,15,215,2,19960307,214,-63.2453,130.2512,4249,703,1.794,34.731,2,34.732,2,-999,5,189.8,2,81.3,2,30.7,2,-999,9,2.13,2,0.188,2,0.083,2,-999,9,-999,9,-999,9
    09AR9604_1,   UNK,114,1,11,11,2,19960307,214,-63.2453,130.2512,4249,1406.8,1.217,34.73,2,34.736,2,-999,5,201.7,2,99.3,2,31,2,-999,9,2.14,2,0.095,2,0.043,2,-999,9,-999,9,-999,9
    09AR9604_1,   UNK,114,1,10,10,2,19960307,214,-63.2453,130.2512,4249,1704.4,0.983,34.72,2,34.721,2,-999,5,204.5,2,105.8,2,31.2,2,-999,9,2.18,2,0.091,2,0.048,3,-999,9,-999,9,-999,9
    09AR9604_1,   UNK,114,1,9,9,2,19960307,214,-63.2453,130.2512,4249,2004.5,0.752,34.708,2,34.708,2,-999,5,207.4,2,111.7,2,31.8,2,-999,9,2.22,2,0.102,2,0.043,3,-999,9,-999,9,-999,9
    09AR9604_1,   UNK,114,1,6,6,2,19960307,214,-63.2453,130.2512,4249,2908,0.21,34.687,2,34.685,2,-999,5,220.5,2,122.5,2,32,2,-999,9,2.25,2,0.254,2,0.13,2,-999,9,-999,9,-999,9
    09AR9604_1,   UNK,114,1,4,4,2,19960307,214,-63.2453,130.2512,4249,3607.8,-0.045,34.677,2,34.675,2,-999,5,230.8,2,121,2,31.5,2,-999,9,2.22,2,0.706,6,0.333,6,-999,9,-999,9,-999,9
    09AR9604_1,   UNK,114,1,3,3,2,19960307,214,-63.2453,130.2512,4249,4009.2,-0.211,34.665,2,34.662,2,-999,5,241.4,2,104,2,31.9,2,-999,9,2.17,2,1.863,2,0.88,2,-999,9,-999,9,-999,9
    09AR9604_1,   UNK,114,1,2,2,2,19960307,214,-63.2453,130.2512,4249,4204.6,-0.236,34.662,2,34.658,2,-999,5,243.6,2,104.5,2,31.9,2,-999,9,2.19,2,1.975,2,0.933,2,-999,9,-999,9,-999,9
    09AR9604_1,   UNK,114,1,1,1,2,19960307,214,-63.2453,130.2512,4249,4301.1,-0.266,34.658,2,34.653,2,-999,5,245.8,2,105.6,2,31.4,2,-999,9,2.22,2,2.099,2,0.996,2,-999,9,-999,9,-999,9