BOTTLE,2021011SIOJHS,,,,,,,,,,,,,,,,,,,,,,,,,,,,,,,,,,,,,,
EXPOCODE,SECT_ID,STNNBR,CASTNO,SAMPNO,BTLNBR,BTLNBR_FLAG_W,DATE,TIME,LATITUDE,LONGITUDE,DEPTH,CTDPRS,CTDTMP,CTDSAL,CTDSAL_FLAG_W,SALNTY,SALNTY_FLAG_W,CTDOXY,CTDOXY_FLAG_W,OXYGEN,OXYGEN_FLAG_W,SILCAT,SILCAT_FLAG_W,NITRAT,NITRAT_FLAG_W,NITRIT,NITRIT_FLAG_W,PHSPHT,PHSPHT_FLAG_W,CFC-11,CFC-11_FLAG_W,CFC-12,CFC-12_FLAG_W,SF6,SF6_FLAG_W,TCARBN,TCARBN_FLAG_W,ALKALI,ALKALI_FLAG_W
,,,,,,,,,,,,DBAR,DEG C,PSS-78,,PSS-78,,UMOL/KG,,UMOL/KG,,UMOL/KG,,UMOL/KG,,UMOL/KG,,UMOL/KG,,PMOL/KG,,PMOL/KG,,NMOL/KG,,UMOL/KG,,UMOL/KG,
    09AR9604_1,   UNK,13,1,24,24,2,19960131,701,-65.7457,79.9523,2816,11.6,-0.13,19.024,4,33.664,2,347.2,2,347,2,40.5,2,27.4,2,-999,9,1.86,2,-999,9,-999,9,-999,9,-999,9,-999,9
    09AR9604_1,   UNK,13,1,23,23,2,19960131,701,-65.7457,79.9523,2816,26.9,-0.129,19.022,4,33.662,2,333.3,2,346.9,2,40.5,2,27.4,2,-999,9,1.86,2,-999,9,-999,9,-999,9,-999,9,-999,9
    09AR9604_1,   UNK,13,1,22,22,2,19960131,701,-65.7457,79.9523,2816,52.1,-0.194,19.024,4,33.673,2,342.4,2,346.3,2,41.4,2,27.5,2,-999,9,1.86,2,-999,9,-999,9,-999,9,-999,9,-999,9
    09AR9604_1,   UNK,13,1,21,21,2,19960131,701,-65.7457,79.9523,2816,77,-1.662,19.107,4,34.275,2,313.5,2,315.7,2,57.5,2,30.4,2,-999,9,2.12,2,-999,9,-999,9,-999,9,-999,9,-999,9
    09AR9604_1,   UNK,13,1,20,20,2,19960131,701,-65.7457,79.9523,2816,102.4,-1.722,19.119,4,34.367,2,314.1,2,315.9,2,58.6,2,30.5,2,-999,9,2.08,2,-999,9,-999,9,-999,9,-999,9,-999,9
    09AR9604_1,   UNK,13,1,19,119,2,19960131,701,-65.7457,79.9523,2816,203.1,-1.834,19.118,4,34.403,2,322.6,2,323.7,2,59.9,2,29.9,2,-999,9,2.06,2,-999,9,-999,9,-999,9,-999,9,-999,9
    09AR9604_1,   UNK,13,1,18,118,2,19960131,701,-65.7457,79.9523,2816,302.9,-1.604,19.117,4,34.425,2,304.1,2,312.1,2,62.7,2,30.7,2,-999,9,2.11,2,-999,9,-999,9,-999,9,-999,9,-999,9
    09AR9604_1,   UNK,13,1,17,17,2,19960131,701,-65.7457,79.9523,2816,403.2,-0.427,19.122,4,34.537,2,258,2,264.7,2,68.1,2,31.7,2,-999,9,2.17,2,-999,9,-999,9,-999,9,-999,9,-999,9
    09AR9604_1,   UNK,13,1,16,216,2,19960131,701,-65.7457,79.9523,2816,443,0.143,19.12,4,34.595,2,277.3,2,-999,9,74,2,31.9,2,-999,9,2.18,2,-999,9,-999,9,-999,9,-999,9,-999,9
    09AR9604_1,   UNK,13,1,15,215,2,19960131,701,-65.7457,79.9523,2816,502.5,-0.376,19.12,4,34.571,2,258.8,2,261.8,2,75.7,2,31.4,2,-999,9,2.18,2,-999,9,-999,9,-999,9,-999,9,-999,9
    09AR9604_1,   UNK,13,1,14,114,2,19960131,701,-65.7457,79.9523,2816,603,0.258,19.121,4,34.644,2,238.4,2,235.7,2,83.3,2,32,2,-999,9,2.21,2,-999,9,-999,9,-999,9,-999,9,-999,9
    09AR9604_1,   UNK,13,1,13,113,2,19960131,701,-65.7457,79.9523,2816,703.9,0.511,19.12,4,34.676,2,222.8,2,224.2,2,87.3,2,32.2,2,-999,9,2.22,2,-999,9,-999,9,-999,9,-999,9,-999,9
    09AR9604_1,   UNK,13,1,12,112,2,19960131,701,-65.7457,79.9523,2816,804.7,0.438,19.112,4,34.668,2,219.8,2,225.3,2,93.9,2,32.2,2,-999,9,2.21,2,-999,9,-999,9,-999,9,-999,9,-999,9
    09AR9604_1,   UNK,13,1,11,11,2,19960131,701,-65.7457,79.9523,2816,905.2,0.474,19.106,4,34.683,2,219.4,2,221.9,2,95.5,2,32.3,2,-999,9,2.24,2,-999,9,-999,9,-999,9,-999,9,-999,9
    09AR9604_1,   UNK,13,1,10,10,2,19960131,701,-65.7457,79.9523,2816,1104.9,0.413,19.092,4,34.691,2,218.3,2,219.9,2,101.9,2,32.7,2,-999,9,2.22,2,-999,9,-999,9,-999,9,-999,9,-999,9
    09AR9604_1,   UNK,13,1,9,9,2,19960131,701,-65.7457,79.9523,2816,1305.2,0.275,19.065,4,34.685,2,217.9,2,223.4,2,103.1,2,32.7,2,-999,9,2.26,2,-999,9,-999,9,-999,9,-999,9,-999,9
    09AR9604_1,   UNK,13,1,8,8,2,19960131,701,-65.7457,79.9523,2816,1506,0.202,19.05,4,34.688,2,221.2,2,223,2,104.6,2,32.5,2,-999,9,2.29,2,-999,9,-999,9,-999,9,-999,9,-999,9
    09AR9604_1,   UNK,13,1,7,7,2,19960131,701,-65.7457,79.9523,2816,1705.3,0.126,19.036,4,34.686,2,220.5,2,223.8,2,108.6,2,32.8,2,-999,9,2.29,2,-999,9,-999,9,-999,9,-999,9,-999,9
    09AR9604_1,   UNK,13,1,6,6,2,19960131,701,-65.7457,79.9523,2816,1904.9,0.065,18.993,4,34.675,2,224.5,2,226.6,2,110.6,2,32.7,2,-999,9,2.29,2,0.471,2,0.218,2,-999,9,-999,9,-999,9
    09AR9604_1,   UNK,13,1,5,5,2,19960131,701,-65.7457,79.9523,2816,2106.1,-0.036,18.966,4,34.679,2,229.3,2,233.1,2,110.8,2,32.4,2,-999,9,2.29,2,0.817,2,0.39,2,-999,9,-999,9,-999,9
    09AR9604_1,   UNK,13,1,4,4,2,19960131,701,-65.7457,79.9523,2816,2305.5,-0.058,18.92,4,34.683,2,230.5,2,232.1,2,111.7,2,32.6,2,-999,9,2.29,2,0.674,2,0.315,2,-999,9,-999,9,-999,9
    09AR9604_1,   UNK,13,1,3,3,2,19960131,701,-65.7457,79.9523,2816,2506.7,-0.113,18.842,4,34.683,2,232.6,2,234.6,2,114.7,2,32.5,2,-999,9,2.26,2,0.793,2,0.365,2,-999,9,-999,9,-999,9
    09AR9604_1,   UNK,13,1,2,2,2,19960131,701,-65.7457,79.9523,2816,2730.1,-0.162,18.694,4,34.684,2,234.5,2,236.7,2,110.6,2,32.7,2,-999,9,2.26,2,0.936,6,0.437,6,-999,9,-999,9,-999,9
    09AR9604_1,   UNK,13,1,1,1,2,19960131,701,-65.7457,79.9523,2816,2782.7,-0.161,34.673,4,34.684,2,233.6,2,234,2,110,2,32.4,2,-999,9,2.23,2,0.914,2,0.435,2,-999,9,-999,9,-999,9
    09AR9604_1,   UNK,14,1,24,24,2,19960131,1319,-65.642,79.9767,3174,10.2,-0.081,33.633,2,33.635,2,347,2,344.7,2,36.2,2,27,2,-999,9,1.8,2,6.026,2,3.048,2,-999,9,-999,9,-999,9
    09AR9604_1,   UNK,14,1,23,23,2,19960131,1319,-65.642,79.9767,3174,25.7,-0.079,33.633,2,33.631,2,339.1,2,343.7,2,36.2,2,27.1,2,-999,9,1.81,2,-999,9,-999,9,-999,9,-999,9,-999,9
    09AR9604_1,   UNK,14,1,22,22,2,19960131,1319,-65.642,79.9767,3174,52.3,-0.57,33.806,4,34.652,2,320.2,2,206.1,2,58.6,2,31.5,2,-999,9,2.19,2,-999,9,-999,9,-999,9,-999,9,-999,9
    09AR9604_1,   UNK,14,1,21,21,2,19960131,1319,-65.642,79.9767,3174,99.4,-0.912,34.345,3,34.343,2,268.3,2,269.7,2,49.7,2,32.1,2,-999,9,2.2,2,3.783,6,1.865,6,-999,9,-999,9,-999,9
    09AR9604_1,   UNK,14,1,20,20,2,19960131,1319,-65.642,79.9767,3174,150.5,0.015,34.492,3,34.489,2,242.8,2,243,2,57.1,2,29.1,4,-999,9,2.2,2,2.856,2,1.375,2,-999,9,-999,9,-999,9
    09AR9604_1,   UNK,14,1,19,119,2,19960131,1319,-65.642,79.9767,3174,200.7,0.957,34.612,3,34.606,2,210.6,2,209.5,2,59.4,2,32.2,2,-999,9,2.24,2,1.471,2,0.689,2,-999,9,-999,9,-999,9
    09AR9604_1,   UNK,14,1,18,118,2,19960131,1319,-65.642,79.9767,3174,301.2,1.609,34.709,2,34.701,2,196.5,2,192.2,2,64.8,2,31.9,2,-999,9,2.18,2,0.417,2,0.198,2,-999,9,-999,9,-999,9
    09AR9604_1,   UNK,14,1,17,17,2,19960131,1319,-65.642,79.9767,3174,401.1,1.429,34.712,2,34.71,2,200,2,198.7,2,66.6,2,31.1,2,-999,9,2.14,2,-999,9,-999,9,-999,9,-999,9,-999,9
    09AR9604_1,   UNK,14,1,16,216,2,19960131,1319,-65.642,79.9767,3174,503.1,1.405,34.729,2,34.728,2,197.4,2,199.8,2,70.8,2,30.8,2,-999,9,2.13,2,0.314,2,0.147,2,-999,9,-999,9,-999,9
    09AR9604_1,   UNK,14,1,15,215,2,19960131,1319,-65.642,79.9767,3174,601.3,1.296,34.73,2,34.734,2,199.5,2,201.4,2,70.8,2,31,2,-999,9,2.13,2,0.243,2,0.116,2,-999,9,-999,9,-999,9
    09AR9604_1,   UNK,14,1,14,114,2,19960131,1319,-65.642,79.9767,3174,702,1.196,34.731,2,34.731,2,202,2,203.7,2,71.1,2,31.3,2,-999,9,2.13,2,-999,9,-999,9,-999,9,-999,9,-999,9
    09AR9604_1,   UNK,14,1,13,113,2,19960131,1319,-65.642,79.9767,3174,801.6,1.016,34.718,2,34.716,2,204.2,2,206.3,2,80,2,31.2,2,-999,9,2.17,2,0.291,2,0.139,2,-999,9,-999,9,-999,9
    09AR9604_1,   UNK,14,1,12,112,2,19960131,1319,-65.642,79.9767,3174,900.9,0.924,34.716,2,34.709,2,205.8,2,207.1,2,84.6,2,30.7,2,-999,9,2.16,2,-999,9,-999,9,-999,9,-999,9,-999,9
    09AR9604_1,   UNK,14,1,11,11,2,19960131,1319,-65.642,79.9767,3174,1002.4,0.8,34.709,2,34.709,2,206.9,2,207.9,2,86.9,2,31.4,2,-999,9,2.21,2,0.259,2,0.124,2,-999,9,-999,9,-999,9
    09AR9604_1,   UNK,14,1,10,10,2,19960131,1319,-65.642,79.9767,3174,1103.5,0.726,34.705,2,34.71,2,208.3,2,208.6,2,89,2,31.5,2,-999,9,2.21,2,0.242,2,0.107,3,-999,9,-999,9,-999,9
    09AR9604_1,   UNK,14,1,9,9,2,19960131,1319,-65.642,79.9767,3174,1301.7,0.576,34.701,2,34.704,2,211,2,209.9,2,99.9,2,32,2,-999,9,2.24,2,-999,9,-999,9,-999,9,-999,9,-999,9
    09AR9604_1,   UNK,14,1,8,8,2,19960131,1319,-65.642,79.9767,3174,1503.1,0.4,34.69,2,34.693,2,214.6,2,213.3,2,101.1,2,32.2,2,-999,9,2.24,2,0.236,2,0.11,2,-999,9,-999,9,-999,9
    09AR9604_1,   UNK,14,1,7,7,2,19960131,1319,-65.642,79.9767,3174,1702.8,0.265,34.682,2,34.682,2,218.4,2,216.9,2,100.2,2,32.2,2,-999,9,2.26,2,0.31,2,0.144,2,-999,9,-999,9,-999,9
    09AR9604_1,   UNK,14,1,6,6,2,19960131,1319,-65.642,79.9767,3174,1902.9,0.123,34.675,2,34.669,2,224.4,2,223.1,2,99.6,2,32.1,2,-999,9,2.25,2,0.57,2,0.261,2,-999,9,-999,9,-999,9
    09AR9604_1,   UNK,14,1,5,5,2,19960131,1319,-65.642,79.9767,3174,2104.8,0.067,34.675,2,34.674,2,224.5,2,225.1,2,101.8,2,32,2,-999,9,2.26,2,0.588,2,0.267,2,-999,9,-999,9,-999,9
    09AR9604_1,   UNK,14,1,4,4,2,19960131,1319,-65.642,79.9767,3174,2406.3,-0.018,34.673,2,34.675,2,229.7,2,228,2,97.9,2,32,2,-999,9,2.26,2,0.638,2,0.297,2,-999,9,-999,9,-999,9
    09AR9604_1,   UNK,14,1,3,3,2,19960131,1319,-65.642,79.9767,3174,2704.6,-0.077,34.671,2,34.675,2,232.4,2,230.9,2,102.9,2,31.8,2,-999,9,2.24,2,0.767,2,0.343,2,-999,9,-999,9,-999,9
    09AR9604_1,   UNK,14,1,2,2,2,19960131,1319,-65.642,79.9767,3174,3060.1,-0.152,34.671,2,34.673,2,236,2,234.3,2,97.8,2,31.8,2,-999,9,2.24,2,1.013,2,0.462,2,-999,9,-999,9,-999,9
    09AR9604_1,   UNK,14,1,1,1,2,19960131,1319,-65.642,79.9767,3174,3141.5,-0.176,34.671,2,34.671,2,237.1,2,235.1,2,103.7,2,31.8,2,-999,9,2.1,4,1.101,2,0.502,2,-999,9,-999,9,-999,9
    09AR9604_1,   UNK,15,1,24,24,2,19960131,1829,-65.3635,79.9753,3384,13.8,-0.26,33.693,2,33.694,2,344.5,2,344.9,2,41.6,2,26.8,2,-999,9,1.61,2,-999,9,-999,9,-999,9,-999,9,-999,9
    09AR9604_1,   UNK,15,1,23,23,2,19960131,1829,-65.3635,79.9753,3384,52.6,-1.724,34.217,3,34.211,2,327.6,2,324.4,2,56.8,2,28.9,2,-999,9,2,2,-999,9,-999,9,-999,9,-999,9,-999,9
    09AR9604_1,   UNK,15,1,22,22,2,19960131,1829,-65.3635,79.9753,3384,104.6,-1.738,34.378,2,34.51,4,301.5,2,266.1,2,67.6,2,30.6,2,-999,9,2.12,2,-999,9,-999,9,-999,9,-999,9,-999,9
    09AR9604_1,   UNK,15,1,21,21,2,19960131,1829,-65.3635,79.9753,3384,153.7,-1.804,34.394,2,34.406,2,300.2,2,315.9,2,61.3,2,30.1,2,-999,9,2.09,2,-999,9,-999,9,-999,9,-999,9,-999,9
    09AR9604_1,   UNK,15,1,20,20,2,19960131,1829,-65.3635,79.9753,3384,204.8,-1.751,34.405,2,34.411,2,311.2,2,313.6,2,62.3,2,30.3,2,-999,9,2.08,2,-999,9,-999,9,-999,9,-999,9,-999,9
    09AR9604_1,   UNK,15,1,19,119,2,19960131,1829,-65.3635,79.9753,3384,324.4,-1.112,34.472,2,34.472,2,290.4,2,287.5,2,65.8,2,30.6,2,-999,9,2.12,2,-999,9,-999,9,-999,9,-999,9,-999,9
    09AR9604_1,   UNK,15,1,18,118,2,19960131,1829,-65.3635,79.9753,3384,404.5,-0.617,34.526,3,34.475,4,273.7,2,268.5,2,69.5,2,30.7,2,-999,9,2.15,2,-999,9,-999,9,-999,9,-999,9,-999,9
    09AR9604_1,   UNK,15,1,17,17,2,19960131,1829,-65.3635,79.9753,3384,505.9,0.148,34.611,3,34.605,2,237.3,2,240.8,2,74.2,2,31,2,-999,9,2.15,2,-999,9,-999,9,-999,9,-999,9,-999,9
    09AR9604_1,   UNK,15,1,16,216,2,19960131,1829,-65.3635,79.9753,3384,603.5,0.361,34.641,2,34.639,2,221.7,2,230.8,2,78.4,2,31.1,2,-999,9,2.18,2,-999,9,-999,9,-999,9,-999,9,-999,9
    09AR9604_1,   UNK,15,1,15,215,2,19960131,1829,-65.3635,79.9753,3384,704.3,0.787,34.692,2,34.689,2,212.7,2,214.3,2,84.8,2,31.1,2,-999,9,2.15,2,-999,9,-999,9,-999,9,-999,9,-999,9
    09AR9604_1,   UNK,15,1,14,114,2,19960131,1829,-65.3635,79.9753,3384,783.2,0.89,34.708,2,34.708,2,210.2,2,209.3,2,81.6,2,31.2,2,-999,9,2.16,2,-999,9,-999,9,-999,9,-999,9,-999,9
    09AR9604_1,   UNK,15,1,13,113,2,19960131,1829,-65.3635,79.9753,3384,905.2,0.829,34.708,2,34.705,2,214.5,2,209.4,2,91.8,2,31.3,2,-999,9,2.19,2,-999,9,-999,9,-999,9,-999,9,-999,9
    09AR9604_1,   UNK,15,1,12,112,2,19960131,1829,-65.3635,79.9753,3384,1007.8,0.767,34.707,2,34.707,2,212.1,2,209.2,2,94.1,2,31.5,2,-999,9,2.15,2,-999,9,-999,9,-999,9,-999,9,-999,9
    09AR9604_1,   UNK,15,1,11,11,2,19960131,1829,-65.3635,79.9753,3384,1105.9,0.461,34.678,2,34.678,2,219.9,2,220.5,2,100,2,31.8,2,-999,9,2.19,2,-999,9,-999,9,-999,9,-999,9,-999,9
    09AR9604_1,   UNK,15,1,10,10,2,19960131,1829,-65.3635,79.9753,3384,1203.1,0.381,34.676,2,34.674,2,220.5,2,220.8,2,96.2,2,31.8,2,-999,9,2.19,2,-999,9,-999,9,-999,9,-999,9,-999,9
    09AR9604_1,   UNK,15,1,9,9,2,19960131,1829,-65.3635,79.9753,3384,1404.2,0.304,34.677,2,34.677,2,222,2,220.4,2,99.6,2,32,2,-999,9,2.23,2,0.707,2,0.319,2,-999,9,-999,9,-999,9
    09AR9604_1,   UNK,15,1,8,8,2,19960131,1829,-65.3635,79.9753,3384,1607,0.254,34.68,2,34.68,2,219.7,2,218.7,2,107.9,2,32.2,2,-999,9,2.24,2,-999,9,-999,9,-999,9,-999,9,-999,9
    09AR9604_1,   UNK,15,1,7,7,2,19960131,1829,-65.3635,79.9753,3384,1805.5,0.168,34.679,2,34.678,2,220.4,2,220,2,104.7,2,32.2,2,-999,9,2.25,2,-999,9,-999,9,-999,9,-999,9,-999,9
    09AR9604_1,   UNK,15,1,6,6,2,19960131,1829,-65.3635,79.9753,3384,1955.5,0.06,34.673,2,34.67,2,229.7,2,226.2,2,100.7,2,32.1,2,-999,9,2.22,2,0.735,2,0.339,2,-999,9,-999,9,-999,9
    09AR9604_1,   UNK,15,1,5,5,2,19960131,1829,-65.3635,79.9753,3384,2308.8,-0.007,34.674,2,34.671,2,229,2,228.4,2,107,2,32.1,2,-999,9,2.22,2,0.746,2,0.334,2,-999,9,-999,9,-999,9
    09AR9604_1,   UNK,15,1,4,4,2,19960131,1829,-65.3635,79.9753,3384,2607,-0.078,34.673,2,34.671,2,230.5,2,230.9,2,107.2,2,32.1,2,-999,9,2.22,2,0.772,2,0.353,2,-999,9,-999,9,-999,9
    09AR9604_1,   UNK,15,1,3,3,2,19960131,1829,-65.3635,79.9753,3384,2907.9,-0.123,34.672,2,34.672,2,232.8,2,233.3,2,108.8,2,32.2,2,-999,9,2.22,2,0.947,2,0.424,2,-999,9,-999,9,-999,9
    09AR9604_1,   UNK,15,1,2,2,2,19960131,1829,-65.3635,79.9753,3384,3200.8,-0.154,34.671,2,34.673,2,234.6,2,235.4,2,107,2,32,2,-999,9,2.22,2,1.124,2,0.511,2,-999,9,-999,9,-999,9
    09AR9604_1,   UNK,15,1,1,1,2,19960131,1829,-65.3635,79.9753,3384,3395.6,-0.168,34.67,2,34.671,2,234.3,2,235.5,2,110.2,2,32.2,2,-999,9,2.13,4,1.123,2,0.501,2,-999,9,-999,9,-999,9
    09AR9604_1,   UNK,17,1,24,24,2,19960201,526,-64.8517,79.9787,3634,10.8,-0.179,33.607,2,33.617,2,-999,5,343.2,2,35.2,2,26.5,2,-999,9,1.75,2,6.128,2,3.078,2,-999,9,-999,9,-999,9
    09AR9604_1,   UNK,17,1,23,23,2,19960201,526,-64.8517,79.9787,3634,53.8,-1.007,33.942,4,33.936,2,-999,5,343.8,2,38,2,28.2,2,-999,9,1.91,2,5.151,2,2.602,2,-999,9,-999,9,-999,9
    09AR9604_1,   UNK,17,1,22,22,2,19960201,526,-64.8517,79.9787,3634,103,-1.31,34.318,3,34.314,2,-999,5,277.9,2,58.2,2,31.4,2,-999,9,2.16,2,4.207,2,2.099,2,-999,9,-999,9,-999,9
    09AR9604_1,   UNK,17,1,21,21,2,19960201,526,-64.8517,79.9787,3634,152.5,-0.527,34.417,4,34.417,2,-999,5,204.8,2,63.5,2,32,2,-999,9,2.19,2,-999,9,-999,9,-999,9,-999,9,-999,9
    09AR9604_1,   UNK,17,1,20,20,2,19960201,526,-64.8517,79.9787,3634,202.8,0.298,34.529,3,-999,9,-999,5,181.1,2,70.1,2,32,2,-999,9,2.22,2,2.385,2,1.127,2,-999,9,-999,9,-999,9
    09AR9604_1,   UNK,17,1,19,119,2,19960201,526,-64.8517,79.9787,3634,303.2,0.866,34.625,2,34.623,2,-999,5,177.5,2,76.4,2,32,2,-999,9,2.21,2,1.553,2,0.712,2,-999,9,-999,9,-999,9
    09AR9604_1,   UNK,17,1,18,118,2,19960201,526,-64.8517,79.9787,3634,401.8,0.977,34.66,2,34.659,2,-999,5,183.6,2,80.1,2,31.7,2,-999,9,2.17,2,1.231,2,0.569,2,-999,9,-999,9,-999,9
    09AR9604_1,   UNK,17,1,17,17,2,19960201,526,-64.8517,79.9787,3634,502.2,1.117,34.69,2,34.689,2,-999,5,187.3,2,81.3,2,31.1,2,-999,9,2.17,2,0.817,2,0.389,2,-999,9,-999,9,-999,9
    09AR9604_1,   UNK,17,1,16,216,2,19960201,526,-64.8517,79.9787,3634,602.7,1.075,34.699,2,34.698,2,-999,5,192.3,2,81.5,2,31.4,2,-999,9,2.12,2,0.786,2,0.351,2,-999,9,-999,9,-999,9
    09AR9604_1,   UNK,17,1,15,215,2,19960201,526,-64.8517,79.9787,3634,701.2,1.004,34.702,2,34.702,2,-999,5,196.4,2,86.4,2,31.4,2,-999,9,2.13,2,-999,9,-999,9,-999,9,-999,9,-999,9
    09AR9604_1,   UNK,17,1,14,114,2,19960201,526,-64.8517,79.9787,3634,802.9,0.965,34.706,2,34.706,2,-999,5,205.6,3,89.6,2,31.2,2,-999,9,2.15,2,0.595,2,0.279,2,-999,9,-999,9,-999,9
    09AR9604_1,   UNK,17,1,13,113,2,19960201,526,-64.8517,79.9787,3634,903.7,0.874,34.701,2,34.704,2,-999,5,205.1,2,93,2,31.3,2,-999,9,2.16,2,-999,9,-999,9,-999,9,-999,9,-999,9
    09AR9604_1,   UNK,17,1,12,112,2,19960201,526,-64.8517,79.9787,3634,1004.2,0.844,34.706,2,34.708,2,-999,5,206.7,2,96.7,2,31.8,2,-999,9,2.15,2,0.41,2,0.197,2,-999,9,-999,9,-999,9
    09AR9604_1,   UNK,17,1,11,11,2,19960201,526,-64.8517,79.9787,3634,1203.4,0.706,34.702,2,34.704,2,-999,5,207.9,2,102.8,2,32.1,2,-999,9,2.13,2,0.358,2,0.171,2,-999,9,-999,9,-999,9
    09AR9604_1,   UNK,17,1,10,10,2,19960201,526,-64.8517,79.9787,3634,1405.7,0.569,34.696,2,34.697,2,-999,5,212.8,2,108.5,2,31.9,2,-999,9,2.19,2,0.333,2,0.152,2,-999,9,-999,9,-999,9
    09AR9604_1,   UNK,17,1,9,9,2,19960201,526,-64.8517,79.9787,3634,1602.8,0.439,34.69,2,34.69,2,-999,5,212.1,2,109.6,2,32.3,2,-999,9,2.2,2,0.32,2,0.147,2,-999,9,-999,9,-999,9
    09AR9604_1,   UNK,17,1,8,8,2,19960201,526,-64.8517,79.9787,3634,1803.3,0.335,34.687,2,34.688,2,-999,5,214.4,2,113.5,2,32.7,2,-999,9,2.22,2,0.257,2,0.12,2,-999,9,-999,9,-999,9
    09AR9604_1,   UNK,17,1,7,7,2,19960201,526,-64.8517,79.9787,3634,2105.6,0.184,34.679,2,34.68,2,-999,5,217.5,2,114,2,32.8,2,-999,9,2.22,2,0.458,2,0.21,2,-999,9,-999,9,-999,9
    09AR9604_1,   UNK,17,1,6,6,2,19960201,526,-64.8517,79.9787,3634,2407.2,0.082,34.678,2,34.68,2,-999,5,220.1,2,115.2,2,32.4,2,-999,9,2.21,2,0.474,2,0.22,2,-999,9,-999,9,-999,9
    09AR9604_1,   UNK,17,1,5,5,2,19960201,526,-64.8517,79.9787,3634,2707.1,-0.008,34.675,2,34.676,2,-999,5,224.6,2,115.2,2,32.6,2,-999,9,2.22,2,0.562,2,0.256,2,-999,9,-999,9,-999,9
    09AR9604_1,   UNK,17,1,4,4,2,19960201,526,-64.8517,79.9787,3634,3006.6,-0.075,34.674,2,34.676,2,-999,5,228.6,2,113.2,2,32.4,2,-999,9,2.19,2,0.807,2,0.37,2,-999,9,-999,9,-999,9
    09AR9604_1,   UNK,17,1,3,3,2,19960201,526,-64.8517,79.9787,3634,3306.8,-0.125,34.673,2,34.676,2,-999,5,232.5,2,110.9,2,32,2,-999,9,2.21,2,1.065,2,0.484,2,-999,9,-999,9,-999,9
    09AR9604_1,   UNK,17,1,2,2,2,19960201,526,-64.8517,79.9787,3634,3594.4,-0.163,34.672,2,34.675,2,-999,5,235,2,112.6,2,32.1,2,-999,9,2.19,2,1.18,2,0.532,2,-999,9,-999,9,-999,9
    09AR9604_1,   UNK,17,1,1,1,2,19960201,526,-64.8517,79.9787,3634,3638.9,-0.171,34.671,2,34.672,2,-999,5,234.8,2,112.9,2,32.1,2,-999,9,2.19,2,1.208,2,0.551,2,-999,9,-999,9,-999,9