BOTTLE,2021011SIOJHS,,,,,,,,,,,,,,,,,,,,,,,,,,,,,,,,,,,,,,
EXPOCODE,SECT_ID,STNNBR,CASTNO,SAMPNO,BTLNBR,BTLNBR_FLAG_W,DATE,TIME,LATITUDE,LONGITUDE,DEPTH,CTDPRS,CTDTMP,CTDSAL,CTDSAL_FLAG_W,SALNTY,SALNTY_FLAG_W,CTDOXY,CTDOXY_FLAG_W,OXYGEN,OXYGEN_FLAG_W,SILCAT,SILCAT_FLAG_W,NITRAT,NITRAT_FLAG_W,NITRIT,NITRIT_FLAG_W,PHSPHT,PHSPHT_FLAG_W,CFC-11,CFC-11_FLAG_W,CFC-12,CFC-12_FLAG_W,SF6,SF6_FLAG_W,TCARBN,TCARBN_FLAG_W,ALKALI,ALKALI_FLAG_W
,,,,,,,,,,,,DBAR,DEG C,PSS-78,,PSS-78,,UMOL/KG,,UMOL/KG,,UMOL/KG,,UMOL/KG,,UMOL/KG,,UMOL/KG,,PMOL/KG,,PMOL/KG,,NMOL/KG,,UMOL/KG,,UMOL/KG,
    09AR9604_1,   UNK,80,1,24,24,2,19960226,1443,-63.1592,115.9423,3512,11.2,1.016,33.363,2,33.364,2,348.8,2,348.3,2,32.8,2,22.9,2,-999,9,1.48,2,6.34,2,3.059,2,-999,9,-999,9,-999,9
    09AR9604_1,   UNK,80,1,23,23,2,19960226,1443,-63.1592,115.9423,3512,32,-0.311,33.852,4,33.866,2,330.6,2,355.6,2,37.9,2,25.7,2,-999,9,1.74,2,-999,9,-999,9,-999,9,-999,9,-999,9
    09AR9604_1,   UNK,80,1,22,22,2,19960226,1443,-63.1592,115.9423,3512,61.9,-0.492,34.425,4,34.429,2,271.1,2,268.6,2,61.1,2,31,2,-999,9,2.13,2,-999,9,-999,9,-999,9,-999,9,-999,9
    09AR9604_1,   UNK,80,1,21,21,2,19960226,1443,-63.1592,115.9423,3512,91.5,1.003,34.649,4,34.648,2,218,2,204.4,2,74.3,2,31.9,2,-999,9,2.24,2,1.205,2,0.553,2,-999,9,-999,9,-999,9
    09AR9604_1,   UNK,80,1,20,20,2,19960226,1443,-63.1592,115.9423,3512,121.4,1.208,34.682,2,34.678,2,199,2,199.3,2,77,2,31.6,2,-999,9,2.22,2,-999,9,-999,9,-999,9,-999,9,-999,9
    09AR9604_1,   UNK,80,1,19,119,2,19960226,1443,-63.1592,115.9423,3512,181.9,1.319,34.705,2,34.702,2,195.4,2,196.2,2,81.7,2,31.8,2,-999,9,2.21,2,-999,9,-999,9,-999,9,-999,9,-999,9
    09AR9604_1,   UNK,80,1,18,118,2,19960226,1443,-63.1592,115.9423,3512,253.1,1.364,34.719,2,34.726,2,197.5,2,195.6,2,83,2,31.6,2,-999,9,2.18,2,0.404,2,0.191,2,-999,9,-999,9,-999,9
    09AR9604_1,   UNK,80,1,17,17,2,19960226,1443,-63.1592,115.9423,3512,303.6,1.391,34.728,2,34.732,2,196.4,2,196,2,83.9,2,31.1,2,-999,9,2.13,2,-999,9,-999,9,-999,9,-999,9,-999,9
    09AR9604_1,   UNK,80,1,16,216,2,19960226,1443,-63.1592,115.9423,3512,403.7,1.32,34.73,2,34.732,2,197.9,2,197.1,2,83.9,2,31.3,2,-999,9,2.18,2,0.257,2,0.115,2,-999,9,-999,9,-999,9
    09AR9604_1,   UNK,80,1,15,215,2,19960226,1443,-63.1592,115.9423,3512,504.1,1.256,34.732,2,34.732,2,198.4,2,198.5,2,86.5,2,30.9,2,-999,9,2.17,2,-999,9,-999,9,-999,9,-999,9,-999,9
    09AR9604_1,   UNK,80,1,14,114,2,19960226,1443,-63.1592,115.9423,3512,602.4,1.171,34.73,2,34.728,2,201.7,2,200,2,92.5,2,31.4,2,-999,9,2.21,2,0.176,2,0.081,2,-999,9,-999,9,-999,9
    09AR9604_1,   UNK,80,1,13,113,2,19960226,1443,-63.1592,115.9423,3512,802.8,0.999,34.722,2,34.716,2,202.7,2,202.9,2,94,2,31.2,2,-999,9,2.19,2,0.149,2,0.071,2,-999,9,-999,9,-999,9
    09AR9604_1,   UNK,80,1,12,112,2,19960226,1443,-63.1592,115.9423,3512,1008.7,0.832,34.715,2,34.72,2,205.7,2,205.2,2,102.7,2,31.2,2,-999,9,2.19,2,-999,9,-999,9,-999,9,-999,9,-999,9
    09AR9604_1,   UNK,80,1,11,11,2,19960226,1443,-63.1592,115.9423,3512,1204.4,0.67,34.706,2,34.71,2,207.9,2,207.8,2,107.3,2,31.4,2,-999,9,2.23,2,0.193,2,0.089,2,-999,9,-999,9,-999,9
    09AR9604_1,   UNK,80,1,10,10,2,19960226,1443,-63.1592,115.9423,3512,1404.7,0.512,34.698,2,34.7,2,211.8,2,211,2,110.6,2,31.8,2,-999,9,2.23,2,-999,9,-999,9,-999,9,-999,9,-999,9
    09AR9604_1,   UNK,80,1,9,9,2,19960226,1443,-63.1592,115.9423,3512,1604.4,0.367,34.693,2,34.693,2,214.8,2,214.1,2,108,2,32.2,2,-999,9,2.23,2,0.247,2,0.12,2,-999,9,-999,9,-999,9
    09AR9604_1,   UNK,80,1,8,8,2,19960226,1443,-63.1592,115.9423,3512,1905.4,0.162,34.685,2,34.682,2,220,2,220.7,2,111.5,2,31.8,2,-999,9,2.25,2,-999,9,-999,9,-999,9,-999,9,-999,9
    09AR9604_1,   UNK,80,1,7,7,2,19960226,1443,-63.1592,115.9423,3512,2205.6,0.02,34.678,2,34.672,2,225,2,226.3,2,111.5,2,32,2,-999,9,2.23,2,0.768,2,0.36,2,-999,9,-999,9,-999,9
    09AR9604_1,   UNK,80,1,6,6,2,19960226,1443,-63.1592,115.9423,3512,2506.6,-0.08,34.676,2,34.679,2,229.3,2,230.6,2,110.3,2,31.9,2,-999,9,2.24,2,-999,9,-999,9,-999,9,-999,9,-999,9
    09AR9604_1,   UNK,80,1,5,5,2,19960226,1443,-63.1592,115.9423,3512,2807,-0.148,34.675,2,34.678,2,234,2,233.9,2,107,2,31.9,2,-999,9,2.24,2,1.229,2,0.573,2,-999,9,-999,9,-999,9
    09AR9604_1,   UNK,80,1,4,4,2,19960226,1443,-63.1592,115.9423,3512,3105.6,-0.198,34.674,2,34.674,2,238.3,2,236.7,2,100.2,2,31.6,2,-999,9,2.23,2,1.502,2,0.697,2,-999,9,-999,9,-999,9
    09AR9604_1,   UNK,80,1,3,3,2,19960226,1443,-63.1592,115.9423,3512,3308.1,-0.255,34.667,2,34.668,2,242.6,2,240.5,2,100.3,2,31.4,2,-999,9,2.21,2,1.729,2,0.805,2,-999,9,-999,9,-999,9
    09AR9604_1,   UNK,80,1,2,2,2,19960226,1443,-63.1592,115.9423,3512,3441.1,-0.292,34.663,2,34.661,2,244.4,2,243,2,101,2,31.4,2,-999,9,2.22,2,1.904,2,0.884,2,-999,9,-999,9,-999,9
    09AR9604_1,   UNK,80,1,1,1,2,19960226,1443,-63.1592,115.9423,3512,3493.3,-0.279,34.664,2,34.66,2,242.9,2,241.7,2,108,2,31.4,2,-999,9,2.24,2,1.857,2,0.858,2,-999,9,-999,9,-999,9
    09AR9604_1,   UNK,81,1,24,24,2,19960226,2243,-63.23,117.7842,3512,11.6,1.079,33.32,2,33.321,2,-999,5,351.3,2,28.3,2,20.8,2,-999,9,1.32,2,6.147,2,3.052,2,-999,9,-999,9,-999,9
    09AR9604_1,   UNK,81,1,23,23,2,19960226,2243,-63.23,117.7842,3512,52.7,-0.66,34.284,4,34.278,2,-999,5,305.8,2,54.2,2,28.9,2,-999,9,2.1,2,4.666,2,2.268,2,-999,9,-999,9,-999,9
    09AR9604_1,   UNK,81,1,22,22,2,19960226,2243,-63.23,117.7842,3512,100.9,0.954,34.641,2,34.639,2,-999,5,205.2,2,70.9,2,32.5,2,-999,9,2.28,2,1.267,2,0.601,2,-999,9,-999,9,-999,9
    09AR9604_1,   UNK,81,1,21,21,2,19960226,2243,-63.23,117.7842,3512,152.7,1.375,34.698,2,34.698,2,-999,5,193.5,2,75.2,2,31.5,2,-999,9,2.25,2,0.595,2,0.279,2,-999,9,-999,9,-999,9
    09AR9604_1,   UNK,81,1,20,20,2,19960226,2243,-63.23,117.7842,3512,201.6,1.426,34.713,2,34.713,2,-999,5,192.2,2,79.5,2,32.1,2,-999,9,2.24,2,0.438,2,0.213,2,-999,9,-999,9,-999,9
    09AR9604_1,   UNK,81,1,19,119,2,19960226,2243,-63.23,117.7842,3512,303.2,1.43,34.726,2,34.724,2,-999,5,194.2,2,80.3,2,31.3,2,-999,9,2.18,2,0.302,2,0.145,2,-999,9,-999,9,-999,9
    09AR9604_1,   UNK,81,1,17,17,2,19960226,2243,-63.23,117.7842,3512,500.4,1.215,34.723,2,34.721,2,-999,5,199.8,2,86.2,2,31.3,2,-999,9,2.19,2,0.302,2,0.142,2,-999,9,-999,9,-999,9
    09AR9604_1,   UNK,81,1,16,216,2,19960226,2243,-63.23,117.7842,3512,601.3,1.12,34.721,2,34.721,2,-999,5,202.1,2,84.4,2,31.3,2,-999,9,2.22,2,0.306,2,0.148,2,-999,9,-999,9,-999,9
    09AR9604_1,   UNK,81,1,15,215,2,19960226,2243,-63.23,117.7842,3512,702.2,1.045,34.718,2,34.721,2,-999,5,-999,9,89.5,2,31.4,2,-999,9,2.22,2,0.28,2,0.134,2,-999,9,-999,9,-999,9
    09AR9604_1,   UNK,81,1,14,114,2,19960226,2243,-63.23,117.7842,3512,802.5,0.968,34.716,2,34.719,2,-999,5,204,2,90,2,31.9,2,-999,9,2.24,2,0.234,6,0.118,6,-999,9,-999,9,-999,9
    09AR9604_1,   UNK,81,1,13,113,2,19960226,2243,-63.23,117.7842,3512,904,0.87,34.712,2,34.71,2,-999,5,205.8,2,90.2,2,31.6,2,-999,9,2.23,2,0.272,2,0.134,2,-999,9,-999,9,-999,9
    09AR9604_1,   UNK,81,1,12,112,2,19960226,2243,-63.23,117.7842,3512,1008.6,0.763,34.705,2,34.701,2,-999,5,207.8,2,93.8,2,32.2,2,-999,9,2.23,2,0.31,2,0.141,2,-999,9,-999,9,-999,9
    09AR9604_1,   UNK,81,1,11,11,2,19960226,2243,-63.23,117.7842,3512,1105.1,0.695,34.702,2,34.701,2,-999,5,208.5,2,94.4,2,32.4,2,-999,9,2.23,2,0.286,2,0.138,2,-999,9,-999,9,-999,9
    09AR9604_1,   UNK,81,1,10,10,2,19960226,2243,-63.23,117.7842,3512,1305.7,0.552,34.697,2,34.698,2,-999,5,210.2,2,102.3,2,32.1,2,-999,9,2.26,2,0.258,2,0.124,2,-999,9,-999,9,-999,9
    09AR9604_1,   UNK,81,1,9,9,2,19960226,2243,-63.23,117.7842,3512,1506.1,0.406,34.689,2,34.692,2,-999,5,213.6,2,99.5,2,32.4,2,-999,9,2.28,2,0.308,2,0.144,2,-999,9,-999,9,-999,9
    09AR9604_1,   UNK,81,1,8,8,2,19960226,2243,-63.23,117.7842,3512,1756.1,0.212,34.681,2,34.682,2,-999,5,219.4,2,102.8,2,32.3,2,-999,9,2.28,2,0.498,2,0.244,2,-999,9,-999,9,-999,9
    09AR9604_1,   UNK,81,1,7,7,2,19960226,2243,-63.23,117.7842,3512,1906.8,0.148,34.681,2,34.68,2,-999,5,220.9,2,105.3,2,32.2,2,-999,9,2.29,2,0.476,2,0.216,2,-999,9,-999,9,-999,9
    09AR9604_1,   UNK,81,1,6,6,2,19960226,2243,-63.23,117.7842,3512,2205.9,0.031,34.678,2,34.673,2,-999,5,225.2,2,108.5,2,31.9,2,-999,9,2.29,2,0.576,2,0.276,2,-999,9,-999,9,-999,9
    09AR9604_1,   UNK,81,1,5,5,2,19960226,2243,-63.23,117.7842,3512,2503.9,-0.051,34.677,2,34.677,2,-999,5,228.3,2,111.1,2,31.8,2,-999,9,2.29,2,0.555,2,0.272,2,-999,9,-999,9,-999,9
    09AR9604_1,   UNK,81,1,4,4,2,19960226,2243,-63.23,117.7842,3512,2807.7,-0.165,34.669,2,34.671,2,-999,5,234.8,2,98.2,2,31.6,2,-999,9,2.24,2,1.31,2,0.622,2,-999,9,-999,9,-999,9
    09AR9604_1,   UNK,81,1,3,3,2,19960226,2243,-63.23,117.7842,3512,3107.5,-0.207,34.669,2,34.672,2,-999,5,236.8,2,97.3,2,31.7,2,-999,9,2.24,2,1.403,2,0.649,2,-999,9,-999,9,-999,9
    09AR9604_1,   UNK,81,1,2,2,2,19960226,2243,-63.23,117.7842,3512,3410,-0.28,34.663,2,34.666,2,-999,5,240.7,2,96.1,2,32,2,-999,9,2.28,2,1.744,2,0.831,2,-999,9,-999,9,-999,9
    09AR9604_1,   UNK,81,1,1,1,2,19960226,2243,-63.23,117.7842,3512,3526.1,-0.28,34.664,2,34.664,2,-999,5,240.5,2,98.5,2,31.3,2,-999,9,2.27,2,1.809,2,0.836,2,-999,9,-999,9,-999,9
    09AR9604_1,   UNK,82,1,16,216,2,19960228,557,-65.774,119.1392,614,11,-1.5,33.495,2,33.505,2,-999,5,369.5,2,28.9,2,20.3,2,-999,9,0.73,2,6.817,2,3.267,2,-999,9,-999,9,-999,9
    09AR9604_1,   UNK,82,1,15,215,2,19960228,557,-65.774,119.1392,614,31.1,-1.055,33.613,2,33.648,2,-999,5,354.2,2,35.6,2,22.1,2,-999,9,1.1,2,-999,9,-999,9,-999,9,-999,9,-999,9
    09AR9604_1,   UNK,82,1,13,113,2,19960228,557,-65.774,119.1392,614,61.2,-1.787,34.265,2,34.264,2,-999,5,310.8,2,67.3,2,30.2,2,-999,9,2.16,2,-999,9,-999,9,-999,9,-999,9,-999,9
    09AR9604_1,   UNK,82,1,10,10,2,19960228,557,-65.774,119.1392,614,105.6,-1.798,34.282,2,34.282,2,-999,5,311,2,66.9,2,30,2,-999,9,2.21,2,5.052,2,2.388,2,-999,9,-999,9,-999,9
    09AR9604_1,   UNK,82,1,5,5,2,19960228,557,-65.774,119.1392,614,200.6,-1.782,34.317,2,34.318,2,-999,5,315.1,2,64.6,2,30.2,2,-999,9,2.08,2,5.309,2,2.508,2,-999,9,-999,9,-999,9
    09AR9604_1,   UNK,82,1,4,4,2,19960228,557,-65.774,119.1392,614,401.1,-1.801,34.362,2,34.362,2,-999,5,318.4,2,63.3,2,30.5,2,-999,9,2.21,2,5.48,2,2.591,2,-999,9,-999,9,-999,9
    09AR9604_1,   UNK,82,1,3,3,2,19960228,557,-65.774,119.1392,614,501.6,-0.961,34.476,2,34.475,2,-999,5,282.3,2,74.2,2,31.3,2,-999,9,2.23,2,3.987,2,1.895,2,-999,9,-999,9,-999,9
    09AR9604_1,   UNK,82,1,2,2,2,19960228,557,-65.774,119.1392,614,552.2,0.321,34.643,4,34.644,2,-999,5,225.9,2,93.9,2,31.7,2,-999,9,2.28,2,1.473,2,0.676,2,-999,9,-999,9,-999,9
    09AR9604_1,   UNK,82,1,1,1,2,19960228,557,-65.774,119.1392,614,596.7,0.579,34.685,2,34.684,2,-999,5,214.3,2,100.8,2,31.8,2,-999,9,2.25,2,0.803,2,0.375,2,-999,9,-999,9,-999,9
    09AR9604_1,   UNK,83,1,17,17,2,19960228,1331,-65.7125,120.3107,450,10.4,-1.242,33.503,4,33.505,2,-999,5,362.3,2,33.1,2,23.1,2,-999,9,1.43,2,6.703,2,3.185,2,-999,9,-999,9,-999,9
    09AR9604_1,   UNK,83,1,15,215,2,19960228,1331,-65.7125,120.3107,450,30.6,-1.02,33.66,4,33.679,2,-999,5,359.5,2,35.3,2,23.7,2,-999,9,1.5,2,-999,9,-999,9,-999,9,-999,9,-999,9
    09AR9604_1,   UNK,83,1,14,114,2,19960228,1331,-65.7125,120.3107,450,44.3,-0.892,33.764,2,33.768,2,-999,5,356.5,2,36.4,2,25.9,2,-999,9,1.57,2,-999,9,-999,9,-999,9,-999,9,-999,9
    09AR9604_1,   UNK,83,1,9,9,2,19960228,1331,-65.7125,120.3107,450,119.9,-1.825,34.252,2,34.251,2,-999,5,324.2,2,60.4,2,29.8,2,-999,9,2.14,2,5.719,2,2.681,2,-999,9,-999,9,-999,9
    09AR9604_1,   UNK,83,1,5,5,2,19960228,1331,-65.7125,120.3107,450,200.4,-1.852,34.3,2,34.297,2,-999,5,321.3,2,60.5,2,30,2,-999,9,2.14,2,5.639,2,2.644,2,-999,9,-999,9,-999,9
    09AR9604_1,   UNK,83,1,4,4,2,19960228,1331,-65.7125,120.3107,450,301.2,-1.818,34.337,2,34.339,2,-999,5,317.2,2,60.6,2,30.9,2,-999,9,2.14,2,-999,9,-999,9,-999,9,-999,9,-999,9
    09AR9604_1,   UNK,83,1,3,3,2,19960228,1331,-65.7125,120.3107,450,350.7,-1.794,34.357,2,34.357,2,-999,5,316.7,2,61.7,2,30.7,2,-999,9,2.14,2,5.458,2,2.571,2,-999,9,-999,9,-999,9
    09AR9604_1,   UNK,83,1,2,2,2,19960228,1331,-65.7125,120.3107,450,399.8,-1.063,34.443,3,34.445,2,-999,5,286.1,2,68.2,2,31.3,2,-999,9,2.25,2,4.325,2,2.041,2,-999,9,-999,9,-999,9
    09AR9604_1,   UNK,83,1,1,1,2,19960228,1331,-65.7125,120.3107,450,436.7,-0.655,34.496,4,34.492,2,-999,5,269.3,2,72.9,2,31.4,2,-999,9,2.25,2,3.711,2,1.729,2,-999,9,-999,9,-999,9
    09AR9604_1,   UNK,84,1,22,22,2,19960228,1713,-65.5427,120.3098,584,10.9,-0.488,33.763,2,33.764,2,-999,5,352.6,2,34,2,24.6,2,-999,9,1.54,2,-999,9,-999,9,-999,9,-999,9,-999,9
    09AR9604_1,   UNK,84,1,17,17,2,19960228,1713,-65.5427,120.3098,584,76.3,-1.688,34.187,2,34.187,2,-999,5,327.5,2,55.6,2,28.3,2,-999,9,2.12,2,5.519,2,2.676,2,-999,9,-999,9,-999,9
    09AR9604_1,   UNK,84,1,12,112,2,19960228,1713,-65.5427,120.3098,584,152.2,-1.829,34.328,2,34.326,2,-999,5,317.1,2,60.9,2,30.2,2,-999,9,2.16,2,5.417,2,2.594,2,-999,9,-999,9,-999,9
    09AR9604_1,   UNK,84,1,5,5,2,19960228,1713,-65.5427,120.3098,584,202.1,-1.794,34.356,2,34.356,2,-999,5,316.3,2,62.9,2,30.7,2,-999,9,2.15,2,5.391,2,2.602,2,-999,9,-999,9,-999,9
    09AR9604_1,   UNK,84,1,4,4,2,19960228,1713,-65.5427,120.3098,584,302.4,-0.194,34.542,2,34.541,2,-999,5,252,2,76.3,2,31.2,2,-999,9,2.21,2,2.886,2,1.396,2,-999,9,-999,9,-999,9
    09AR9604_1,   UNK,84,1,3,3,2,19960228,1713,-65.5427,120.3098,584,401.8,0.869,34.677,2,34.676,2,-999,5,211.1,2,87,2,31.4,2,-999,9,2.2,2,1.043,2,0.494,2,-999,9,-999,9,-999,9
    09AR9604_1,   UNK,84,1,2,2,2,19960228,1713,-65.5427,120.3098,584,501.3,0.895,34.692,2,34.693,2,-999,5,209.8,2,91.5,2,30.9,2,-999,9,2.25,2,0.789,2,0.374,2,-999,9,-999,9,-999,9
    09AR9604_1,   UNK,84,1,1,1,2,19960228,1713,-65.5427,120.3098,584,576.6,0.738,34.685,2,34.685,2,-999,5,213.2,2,94.1,2,31.2,2,-999,9,2.26,2,0.834,2,0.398,2,-999,9,-999,9,-999,9
    09AR9604_1,   UNK,85,1,22,22,2,19960228,1934,-65.5255,120.3195,953,10.7,-0.478,33.749,2,33.749,2,-999,5,352.5,2,34.4,2,23.5,2,-999,9,1.54,2,-999,9,-999,9,-999,9,-999,9,-999,9
    09AR9604_1,   UNK,85,1,19,119,2,19960228,1934,-65.5255,120.3195,953,46.9,-0.533,33.81,2,33.808,2,-999,5,349.9,2,35.9,2,24.5,2,-999,9,1.64,2,-999,9,-999,9,-999,9,-999,9,-999,9
    09AR9604_1,   UNK,85,1,16,216,2,19960228,1934,-65.5255,120.3195,953,92,-1.752,34.269,2,34.265,2,-999,5,321,2,57.8,2,29.5,2,-999,9,2.16,2,-999,9,-999,9,-999,9,-999,9,-999,9
    09AR9604_1,   UNK,85,1,12,112,2,19960228,1934,-65.5255,120.3195,953,151.6,-1.819,34.331,2,34.332,2,-999,5,317.9,2,60.3,2,30.7,2,-999,9,2.16,2,-999,9,-999,9,-999,9,-999,9,-999,9
    09AR9604_1,   UNK,85,1,8,8,2,19960228,1934,-65.5255,120.3195,953,209.3,-1.725,34.362,2,34.36,2,-999,5,313.7,2,62.9,2,30.3,2,-999,9,2.19,2,-999,9,-999,9,-999,9,-999,9,-999,9
    09AR9604_1,   UNK,85,1,7,7,2,19960228,1934,-65.5255,120.3195,953,303.8,-0.441,34.516,2,34.511,2,-999,5,263.2,2,74.6,2,31,2,-999,9,2.23,2,-999,9,-999,9,-999,9,-999,9,-999,9
    09AR9604_1,   UNK,85,1,6,6,2,19960228,1934,-65.5255,120.3195,953,398.7,1.113,34.692,2,34.693,2,-999,5,203.1,2,87.5,2,31,2,-999,9,2.25,2,0.787,2,0.355,2,-999,9,-999,9,-999,9
    09AR9604_1,   UNK,85,1,5,5,2,19960228,1934,-65.5255,120.3195,953,549.3,0.926,34.698,2,34.697,2,-999,5,208.5,2,94,2,31.4,2,-999,9,2.23,2,0.687,2,0.323,2,-999,9,-999,9,-999,9
    09AR9604_1,   UNK,85,1,4,4,2,19960228,1934,-65.5255,120.3195,953,600.2,0.903,34.702,2,34.701,2,-999,5,208.2,2,94.8,2,31.4,2,-999,9,2.24,2,0.585,2,0.273,2,-999,9,-999,9,-999,9
    09AR9604_1,   UNK,85,1,3,3,2,19960228,1934,-65.5255,120.3195,953,752.7,0.644,34.691,2,34.692,2,-999,5,211.8,2,103.2,2,31.3,2,-999,9,2.27,2,0.579,2,0.271,2,-999,9,-999,9,-999,9
    09AR9604_1,   UNK,85,1,2,2,2,19960228,1934,-65.5255,120.3195,953,898.1,0.386,34.685,2,34.685,2,-999,5,215.7,2,110.9,2,31.4,2,-999,9,2.26,2,0.567,2,0.261,2,-999,9,-999,9,-999,9
    09AR9604_1,   UNK,85,1,1,1,2,19960228,1934,-65.5255,120.3195,953,949.8,0.32,34.681,2,34.685,2,-999,5,216.9,2,111.9,2,31.8,2,-999,9,2.27,2,0.563,2,0.262,2,-999,9,-999,9,-999,9
    09AR9604_1,   UNK,86,1,22,22,2,19960228,2149,-65.5127,120.3145,1198,11.3,-0.803,33.699,2,33.707,2,-999,5,352.8,2,36.7,2,23.4,2,-999,9,1.53,2,6.585,2,3.242,2,-999,9,-999,9,-999,9
    09AR9604_1,   UNK,86,1,19,119,2,19960228,2149,-65.5127,120.3145,1198,46.5,-0.615,33.825,2,33.823,2,-999,5,351.3,2,38.2,2,24.2,2,-999,9,1.62,2,6.357,2,3.113,2,-999,9,-999,9,-999,9
    09AR9604_1,   UNK,86,1,16,216,2,19960228,2149,-65.5127,120.3145,1198,91.2,-1.785,34.266,2,34.267,2,-999,5,321.9,2,59.9,2,29.5,2,-999,9,2.11,2,5.425,2,2.652,2,-999,9,-999,9,-999,9
    09AR9604_1,   UNK,86,1,12,112,2,19960228,2149,-65.5127,120.3145,1198,151.9,-1.814,34.331,2,34.329,2,-999,5,316.4,2,60.7,2,30.7,2,-999,9,2.14,2,5.278,2,2.593,2,-999,9,-999,9,-999,9
    09AR9604_1,   UNK,86,1,8,8,2,19960228,2149,-65.5127,120.3145,1198,204.3,-1.783,34.351,2,34.35,2,-999,5,315.1,2,61.7,2,30.8,2,-999,9,2.13,2,5.309,2,2.585,2,-999,9,-999,9,-999,9
    09AR9604_1,   UNK,86,1,7,7,2,19960228,2149,-65.5127,120.3145,1198,302,-0.713,34.489,3,34.489,2,-999,5,272.6,2,73.3,2,31.3,2,-999,9,2.15,2,3.624,2,1.75,2,-999,9,-999,9,-999,9
    09AR9604_1,   UNK,86,1,6,6,2,19960228,2149,-65.5127,120.3145,1198,452,0.967,34.704,2,34.703,2,-999,5,206.7,2,91.3,2,31.4,2,-999,9,2.18,2,0.602,2,0.284,2,-999,9,-999,9,-999,9
    09AR9604_1,   UNK,86,1,5,5,2,19960228,2149,-65.5127,120.3145,1198,552.2,0.894,34.706,2,34.707,2,-999,5,207.1,2,91.4,2,31.3,2,-999,9,2.2,2,0.452,2,0.223,2,-999,9,-999,9,-999,9
    09AR9604_1,   UNK,86,1,4,4,2,19960228,2149,-65.5127,120.3145,1198,704.1,0.695,34.699,2,34.7,2,-999,5,210,2,96.6,2,31.8,2,-999,9,2.22,2,0.434,2,0.209,2,-999,9,-999,9,-999,9
    09AR9604_1,   UNK,86,1,3,3,2,19960228,2149,-65.5127,120.3145,1198,952.1,0.294,34.683,2,34.682,2,-999,5,216.5,2,103.3,2,32.6,2,-999,9,2.26,2,0.456,2,0.228,2,-999,9,-999,9,-999,9
    09AR9604_1,   UNK,86,1,2,2,2,19960228,2149,-65.5127,120.3145,1198,1121.8,0.061,34.676,2,34.677,2,-999,5,223,2,102,2,32,2,-999,9,2.26,2,0.709,2,0.338,2,-999,9,-999,9,-999,9
    09AR9604_1,   UNK,86,1,1,1,2,19960228,2149,-65.5127,120.3145,1198,1181.6,-0.004,34.673,2,34.673,2,-999,5,225.2,2,103.1,2,32.4,2,-999,9,2.29,2,0.809,2,0.387,2,-999,9,-999,9,-999,9