BOTTLE,2021011SIOJHS,,,,,,,,,,,,,,,,,,,,,,,,,,,,,,,,,,,,,,
EXPOCODE,SECT_ID,STNNBR,CASTNO,SAMPNO,BTLNBR,BTLNBR_FLAG_W,DATE,TIME,LATITUDE,LONGITUDE,DEPTH,CTDPRS,CTDTMP,CTDSAL,CTDSAL_FLAG_W,SALNTY,SALNTY_FLAG_W,CTDOXY,CTDOXY_FLAG_W,OXYGEN,OXYGEN_FLAG_W,SILCAT,SILCAT_FLAG_W,NITRAT,NITRAT_FLAG_W,NITRIT,NITRIT_FLAG_W,PHSPHT,PHSPHT_FLAG_W,CFC-11,CFC-11_FLAG_W,CFC-12,CFC-12_FLAG_W,SF6,SF6_FLAG_W,TCARBN,TCARBN_FLAG_W,ALKALI,ALKALI_FLAG_W
,,,,,,,,,,,,DBAR,DEG C,PSS-78,,PSS-78,,UMOL/KG,,UMOL/KG,,UMOL/KG,,UMOL/KG,,UMOL/KG,,UMOL/KG,,PMOL/KG,,PMOL/KG,,NMOL/KG,,UMOL/KG,,UMOL/KG,
    09AR9604_1,   UNK,18,1,24,24,2,19960201,1303,-64.4853,80.0087,3634,10.7,-0.166,33.615,2,33.614,2,342.8,2,346.1,2,35.2,2,27,2,-999,9,1.78,2,-999,9,-999,9,-999,9,-999,9,-999,9
    09AR9604_1,   UNK,18,1,23,23,2,19960201,1303,-64.4853,80.0087,3634,25.2,-0.165,33.615,2,33.614,2,328.7,2,325.3,2,36,2,27.1,2,-999,9,1.82,2,-999,9,-999,9,-999,9,-999,9,-999,9
    09AR9604_1,   UNK,18,1,22,22,2,19960201,1303,-64.4853,80.0087,3634,61.6,-0.852,34.229,4,34.218,2,281,2,281.8,2,46.1,2,30.9,2,-999,9,2.13,2,-999,9,-999,9,-999,9,-999,9,-999,9
    09AR9604_1,   UNK,18,1,21,21,2,19960201,1303,-64.4853,80.0087,3634,102,0.919,34.477,4,34.472,2,212.3,2,258,2,60.7,2,33.1,2,-999,9,2.34,2,-999,9,-999,9,-999,9,-999,9,-999,9
    09AR9604_1,   UNK,18,1,20,20,2,19960201,1303,-64.4853,80.0087,3634,150.7,1.681,34.606,4,34.604,2,225,2,230.9,2,61.6,2,34,2,-999,9,2.33,2,-999,9,-999,9,-999,9,-999,9,-999,9
    09AR9604_1,   UNK,18,1,19,119,2,19960201,1303,-64.4853,80.0087,3634,200.4,1.856,34.646,2,34.644,2,193.7,2,213.7,2,67.3,2,33.3,2,-999,9,2.32,2,-999,9,-999,9,-999,9,-999,9,-999,9
    09AR9604_1,   UNK,18,1,18,118,2,19960201,1303,-64.4853,80.0087,3634,302.5,1.75,34.681,2,34.682,2,205.2,2,211.6,2,67.2,2,32.4,2,-999,9,2.24,2,-999,9,-999,9,-999,9,-999,9,-999,9
    09AR9604_1,   UNK,18,1,17,17,2,19960201,1303,-64.4853,80.0087,3634,402.2,1.767,34.71,3,34.709,2,207.6,2,207.2,2,75.7,2,31.5,2,-999,9,2.21,2,-999,9,-999,9,-999,9,-999,9,-999,9
    09AR9604_1,   UNK,18,1,16,216,2,19960201,1303,-64.4853,80.0087,3634,502.2,1.662,34.719,2,34.72,2,206.6,2,208.4,2,73.8,2,31,2,-999,9,2.2,2,-999,9,-999,9,-999,9,-999,9,-999,9
    09AR9604_1,   UNK,18,1,15,215,2,19960201,1303,-64.4853,80.0087,3634,602.6,1.53,34.721,2,34.722,2,208.6,2,209.4,2,74,2,30.6,2,-999,9,2.15,2,-999,9,-999,9,-999,9,-999,9,-999,9
    09AR9604_1,   UNK,18,1,14,114,2,19960201,1303,-64.4853,80.0087,3634,703.5,1.196,34.7,2,34.7,2,212.1,2,209.4,2,75.7,2,30.8,2,-999,9,2.16,2,-999,9,-999,9,-999,9,-999,9,-999,9
    09AR9604_1,   UNK,18,1,13,113,2,19960201,1303,-64.4853,80.0087,3634,902.5,1.172,34.721,3,34.72,2,213.4,2,210.4,2,77.3,2,30.6,2,-999,9,2.16,2,-999,9,-999,9,-999,9,-999,9,-999,9
    09AR9604_1,   UNK,18,1,12,112,2,19960201,1303,-64.4853,80.0087,3634,1102.6,1.017,34.716,2,34.717,2,214.3,2,209.2,2,85.5,2,30.9,2,-999,9,2.16,2,-999,9,-999,9,-999,9,-999,9,-999,9
    09AR9604_1,   UNK,18,1,11,11,2,19960201,1303,-64.4853,80.0087,3634,1302.9,0.854,34.712,2,34.711,2,213,2,210.4,2,98.6,2,31.1,2,-999,9,2.2,2,0.251,6,0.118,6,-999,9,-999,9,-999,9
    09AR9604_1,   UNK,18,1,10,10,2,19960201,1303,-64.4853,80.0087,3634,1503.9,0.625,34.694,2,34.693,2,218.3,2,211.8,2,101.4,2,31.5,2,-999,9,2.19,2,-999,9,-999,9,-999,9,-999,9,-999,9
    09AR9604_1,   UNK,18,1,9,9,2,19960201,1303,-64.4853,80.0087,3634,1703.2,0.521,34.693,2,34.693,2,215.8,2,213.3,2,106.9,2,31.9,2,-999,9,2.22,2,0.283,2,0.129,2,-999,9,-999,9,-999,9
    09AR9604_1,   UNK,18,1,8,8,2,19960201,1303,-64.4853,80.0087,3634,1906.4,0.395,34.687,2,34.686,2,219.2,2,214.6,2,108.1,2,32,2,-999,9,2.25,2,-999,9,-999,9,-999,9,-999,9,-999,9
    09AR9604_1,   UNK,18,1,7,7,2,19960201,1303,-64.4853,80.0087,3634,2104.9,0.277,34.681,2,34.679,2,220.3,2,220.5,2,109.6,2,32.1,2,-999,9,2.25,2,0.351,2,0.166,2,-999,9,-999,9,-999,9
    09AR9604_1,   UNK,18,1,6,6,2,19960201,1303,-64.4853,80.0087,3634,2406.4,0.165,34.677,2,34.678,2,221.7,2,224.2,2,111.1,2,32.2,2,-999,9,2.25,2,-999,9,-999,9,-999,9,-999,9,-999,9
    09AR9604_1,   UNK,18,1,5,5,2,19960201,1303,-64.4853,80.0087,3634,2708.5,0.058,34.675,2,34.673,2,225.5,2,227.7,2,113.9,2,32.5,2,-999,9,2.24,2,0.337,2,0.155,2,-999,9,-999,9,-999,9
    09AR9604_1,   UNK,18,1,4,4,2,19960201,1303,-64.4853,80.0087,3634,3007.6,-0.019,34.671,2,34.673,2,228.8,2,231.6,2,116.7,2,32.3,2,-999,9,2.25,2,-999,9,-999,9,-999,9,-999,9,-999,9
    09AR9604_1,   UNK,18,1,3,3,2,19960201,1303,-64.4853,80.0087,3634,3305.3,-0.08,34.672,2,34.673,2,232.7,2,234.6,2,114.6,2,31.8,2,-999,9,2.21,2,0.83,2,0.387,2,-999,9,-999,9,-999,9
    09AR9604_1,   UNK,18,1,2,2,2,19960201,1303,-64.4853,80.0087,3634,3627,-0.166,34.669,2,34.671,2,234.2,2,236.1,2,120.5,2,31.9,2,-999,9,2.24,2,-999,9,-999,9,-999,9,-999,9,-999,9
    09AR9604_1,   UNK,18,1,1,1,2,19960201,1303,-64.4853,80.0087,3634,3667.1,-0.162,34.668,2,34.669,2,235.4,2,236,2,116.6,2,32.4,2,-999,9,2.25,2,0.969,2,0.45,2,-999,9,-999,9,-999,9
    09AR9604_1,   UNK,19,1,24,24,2,19960201,2020,-63.9947,79.9903,3686,12.2,-0.069,33.655,2,33.66,2,346.5,2,342.6,2,34.7,2,26.3,2,-999,9,1.7,2,6.025,2,3.047,2,-999,9,-999,9,-999,9
    09AR9604_1,   UNK,19,1,23,23,2,19960201,2020,-63.9947,79.9903,3686,40.6,-0.133,33.686,4,33.704,2,329.3,2,338.2,2,35.1,2,26.9,2,-999,9,1.74,2,5.903,2,2.948,2,-999,9,-999,9,-999,9
    09AR9604_1,   UNK,19,1,22,22,2,19960201,2020,-63.9947,79.9903,3686,102.6,0.665,34.403,4,34.396,2,219.6,2,216.3,2,59.4,2,33.7,2,-999,9,2.29,2,2.302,2,1.083,2,-999,9,-999,9,-999,9
    09AR9604_1,   UNK,19,1,21,21,2,19960201,2020,-63.9947,79.9903,3686,152.6,1.672,34.559,2,34.559,2,198.3,2,181.3,2,66.5,2,34.7,2,-999,9,2.35,2,1.054,2,0.476,2,-999,9,-999,9,-999,9
    09AR9604_1,   UNK,19,1,20,20,2,19960201,2020,-63.9947,79.9903,3686,201.8,1.885,34.618,2,34.621,2,193.9,2,175.1,2,66.3,2,34.2,2,-999,9,2.33,2,0.592,2,0.282,2,-999,9,-999,9,-999,9
    09AR9604_1,   UNK,19,1,19,119,2,19960201,2020,-63.9947,79.9903,3686,272.6,1.961,34.667,2,34.667,2,189.9,2,175.5,2,73.4,2,33.4,2,-999,9,2.24,2,0.386,2,0.173,2,-999,9,-999,9,-999,9
    09AR9604_1,   UNK,19,1,17,17,2,19960201,2020,-63.9947,79.9903,3686,502.2,1.865,34.729,2,34.732,2,190.2,2,187.2,2,77.1,2,31.5,2,-999,9,2.12,2,0.205,2,0.098,2,-999,9,-999,9,-999,9
    09AR9604_1,   UNK,19,1,16,216,2,19960201,2020,-63.9947,79.9903,3686,604,1.8,34.741,2,34.744,2,190.4,2,191.2,2,79.3,2,30.8,2,-999,9,2.12,2,0.173,2,0.077,2,-999,9,-999,9,-999,9
    09AR9604_1,   UNK,19,1,15,215,2,19960201,2020,-63.9947,79.9903,3686,703.3,1.725,34.748,2,34.75,2,193,2,194.7,2,77.3,2,30.5,2,-999,9,2.12,2,0.155,2,0.069,2,-999,9,-999,9,-999,9
    09AR9604_1,   UNK,19,1,14,114,2,19960201,2020,-63.9947,79.9903,3686,803.1,1.654,34.751,2,34.755,2,194.8,2,197.3,2,82.9,2,30.3,2,-999,9,2.1,2,0.127,2,0.058,2,-999,9,-999,9,-999,9
    09AR9604_1,   UNK,19,1,13,113,2,19960201,2020,-63.9947,79.9903,3686,902.5,1.562,34.752,2,34.753,2,196.7,2,199.6,2,83,2,30.3,2,-999,9,2.08,2,0.121,2,0.054,2,-999,9,-999,9,-999,9
    09AR9604_1,   UNK,19,1,12,112,2,19960201,2020,-63.9947,79.9903,3686,1006.5,1.469,34.749,2,34.749,2,198.9,2,200.8,2,85.6,2,30.7,2,-999,9,1.99,4,0.119,2,0.054,2,-999,9,-999,9,-999,9
    09AR9604_1,   UNK,19,1,11,11,2,19960201,2020,-63.9947,79.9903,3686,1204.5,1.221,34.739,2,34.74,2,202.3,2,203.6,2,94.3,2,30.7,2,-999,9,2.11,2,0.126,2,0.058,2,-999,9,-999,9,-999,9
    09AR9604_1,   UNK,19,1,10,10,2,19960201,2020,-63.9947,79.9903,3686,1404.4,1.024,34.731,2,34.729,2,204.9,2,205.5,2,97.9,2,31.1,2,-999,9,2.15,2,0.112,2,0.049,3,-999,9,-999,9,-999,9
    09AR9604_1,   UNK,19,1,9,9,2,19960201,2020,-63.9947,79.9903,3686,1604.7,0.858,34.721,2,34.718,2,208.8,2,207.1,2,101.8,2,31.8,2,-999,9,2.19,2,0.106,2,0.05,2,-999,9,-999,9,-999,9
    09AR9604_1,   UNK,19,1,8,8,2,19960201,2020,-63.9947,79.9903,3686,1804.3,0.702,34.712,2,34.708,2,211.2,2,208.7,2,106.7,2,32.2,2,-999,9,2.19,2,0.095,2,0.046,2,-999,9,-999,9,-999,9
    09AR9604_1,   UNK,19,1,7,7,2,19960201,2020,-63.9947,79.9903,3686,2005.4,0.547,34.702,2,34.699,2,214,2,210.1,2,111.5,2,32.2,2,-999,9,2.19,2,0.101,2,0.049,2,-999,9,-999,9,-999,9
    09AR9604_1,   UNK,19,1,6,6,2,19960201,2020,-63.9947,79.9903,3686,2307.5,0.37,34.693,2,34.689,2,217.7,2,213.6,2,114.5,2,32.4,2,-999,9,2.23,2,0.136,2,0.064,2,-999,9,-999,9,-999,9
    09AR9604_1,   UNK,19,1,5,5,2,19960201,2020,-63.9947,79.9903,3686,2605.2,0.223,34.686,2,34.682,2,221,2,218.1,2,117.4,2,32.6,2,-999,9,2.24,2,0.167,2,0.084,2,-999,9,-999,9,-999,9
    09AR9604_1,   UNK,19,1,4,4,2,19960201,2020,-63.9947,79.9903,3686,2906.2,0.094,34.681,2,34.678,2,225,2,223.6,2,119.9,2,32.7,2,-999,9,2.24,2,0.301,2,0.143,2,-999,9,-999,9,-999,9
    09AR9604_1,   UNK,19,1,3,3,2,19960201,2020,-63.9947,79.9903,3686,3206.4,0.01,34.678,2,34.678,2,228.3,2,228,2,120,2,32.9,2,-999,9,2.24,2,0.416,2,0.2,2,-999,9,-999,9,-999,9
    09AR9604_1,   UNK,19,1,2,2,2,19960201,2020,-63.9947,79.9903,3686,3510.2,-0.093,34.676,2,34.677,2,232.1,2,233.1,2,114.8,2,32.1,2,-999,9,2.23,2,0.797,2,0.364,2,-999,9,-999,9,-999,9
    09AR9604_1,   UNK,19,1,1,1,2,19960201,2020,-63.9947,79.9903,3686,3705.4,-0.149,34.675,2,-999,9,232.4,2,247.5,4,124.4,2,32.5,2,-999,9,2.25,2,0.805,2,0.376,2,-999,9,-999,9,-999,9
    09AR9604_1,   UNK,20,1,24,24,2,19960202,447,-63.487,79.9808,3737,11,0.045,33.697,2,33.698,2,346.6,2,344.9,2,37.7,2,27.3,2,-999,9,1.78,2,6.233,6,3.131,6,-999,9,-999,9,-999,9
    09AR9604_1,   UNK,20,1,23,23,2,19960202,447,-63.487,79.9808,3737,60.7,-1.072,34.032,3,34.03,2,310,2,311.9,2,46.4,2,29.3,2,-999,9,2,2,-999,9,-999,9,-999,9,-999,9,-999,9
    09AR9604_1,   UNK,20,1,22,22,2,19960202,447,-63.487,79.9808,3737,101.6,0.565,34.425,2,34.421,2,227.9,2,216.9,2,67,2,33.3,2,-999,9,2.31,2,-999,9,-999,9,-999,9,-999,9,-999,9
    09AR9604_1,   UNK,20,1,21,21,2,19960202,447,-63.487,79.9808,3737,152.2,1.608,34.592,2,34.589,2,194.9,2,183.2,2,75.6,2,33.6,2,-999,9,2.34,2,0.888,2,0.417,2,-999,9,-999,9,-999,9
    09AR9604_1,   UNK,20,1,20,20,2,19960202,447,-63.487,79.9808,3737,201.1,1.751,34.631,2,34.627,2,192.3,2,179.7,2,77.5,2,33.4,2,-999,9,2.31,2,-999,9,-999,9,-999,9,-999,9,-999,9
    09AR9604_1,   UNK,20,1,19,119,2,19960202,447,-63.487,79.9808,3737,312.8,1.848,34.684,2,34.683,2,187.3,2,181.2,2,78.8,2,32.4,2,-999,9,2.24,2,0.365,2,0.168,2,-999,9,-999,9,-999,9
    09AR9604_1,   UNK,20,1,18,118,2,19960202,447,-63.487,79.9808,3737,401.4,1.817,34.707,2,34.709,2,189.5,2,185.5,2,78.6,2,31.8,2,-999,9,2.21,2,-999,9,-999,9,-999,9,-999,9,-999,9
    09AR9604_1,   UNK,20,1,17,17,2,19960202,447,-63.487,79.9808,3737,501.8,1.821,34.728,2,34.727,2,188.7,2,188.9,2,80.9,2,31.2,2,-999,9,2.15,2,0.205,2,0.092,2,-999,9,-999,9,-999,9
    09AR9604_1,   UNK,20,1,16,216,2,19960202,447,-63.487,79.9808,3737,601.4,1.757,34.734,2,34.735,2,190.3,2,191.5,2,83,2,30.8,2,-999,9,2.14,2,-999,9,-999,9,-999,9,-999,9,-999,9
    09AR9604_1,   UNK,20,1,15,215,2,19960202,447,-63.487,79.9808,3737,701.4,1.658,34.74,2,34.735,2,192.8,2,-999,9,85.5,2,30.6,2,-999,9,2.1,2,0.168,2,0.08,2,-999,9,-999,9,-999,9
    09AR9604_1,   UNK,20,1,14,114,2,19960202,447,-63.487,79.9808,3737,802.8,1.526,34.739,2,34.739,2,196.3,2,198,2,87.7,2,30.6,2,-999,9,2.11,2,0.161,2,0.076,2,-999,9,-999,9,-999,9
    09AR9604_1,   UNK,20,1,13,113,2,19960202,447,-63.487,79.9808,3737,902.9,1.446,34.74,2,34.739,2,195.7,2,199.6,2,90.2,2,30.5,2,-999,9,2.11,2,0.137,2,0.064,2,-999,9,-999,9,-999,9
    09AR9604_1,   UNK,20,1,12,112,2,19960202,447,-63.487,79.9808,3737,1103.7,1.286,34.736,2,34.738,2,200,2,202.7,2,94.1,2,30.8,2,-999,9,2.09,2,-999,9,-999,9,-999,9,-999,9,-999,9
    09AR9604_1,   UNK,20,1,11,11,2,19960202,447,-63.487,79.9808,3737,1252.9,1.165,34.731,2,34.73,2,202.4,2,203.7,2,95.6,2,31.1,2,-999,9,2.14,2,0.134,2,0.064,2,-999,9,-999,9,-999,9
    09AR9604_1,   UNK,20,1,10,10,2,19960202,447,-63.487,79.9808,3737,1503.8,0.867,34.713,2,34.714,2,205.4,2,207.2,2,103.4,2,31.3,2,-999,9,2.19,2,-999,9,-999,9,-999,9,-999,9,-999,9
    09AR9604_1,   UNK,20,1,9,9,2,19960202,447,-63.487,79.9808,3737,1754.9,0.705,34.707,2,34.706,2,207.9,2,208.5,2,108.4,2,32,2,-999,9,2.23,2,0.124,2,0.055,2,-999,9,-999,9,-999,9
    09AR9604_1,   UNK,20,1,8,8,2,19960202,447,-63.487,79.9808,3737,2004.7,0.557,34.697,2,34.695,2,210.5,2,210.4,2,113.7,2,32.2,2,-999,9,2.25,2,-999,9,-999,9,-999,9,-999,9,-999,9
    09AR9604_1,   UNK,20,1,7,7,2,19960202,447,-63.487,79.9808,3737,2306.8,0.35,34.686,2,34.685,2,215.3,2,214.5,2,116.7,2,32.2,2,-999,9,2.26,2,0.177,2,0.087,2,-999,9,-999,9,-999,9
    09AR9604_1,   UNK,20,1,6,6,2,19960202,447,-63.487,79.9808,3737,2605.9,0.2,34.679,2,34.681,2,219,2,219.4,2,119.9,2,32.9,2,-999,9,2.26,2,-999,9,-999,9,-999,9,-999,9,-999,9
    09AR9604_1,   UNK,20,1,5,5,2,19960202,447,-63.487,79.9808,3737,2805.9,0.124,34.676,2,34.678,2,222.3,2,222.7,2,120,2,32.5,2,-999,9,2.24,2,0.338,2,0.164,2,-999,9,-999,9,-999,9
    09AR9604_1,   UNK,20,1,4,4,2,19960202,447,-63.487,79.9808,3737,3066.5,0.065,34.675,2,34.678,2,224.6,2,224.8,2,122.9,2,32.5,2,-999,9,2.24,2,-999,9,-999,9,-999,9,-999,9,-999,9
    09AR9604_1,   UNK,20,1,3,3,2,19960202,447,-63.487,79.9808,3737,3306.9,-0.025,34.673,2,34.675,2,229.6,2,229.7,2,121.9,2,32,2,-999,9,2.24,2,0.57,2,0.273,2,-999,9,-999,9,-999,9
    09AR9604_1,   UNK,20,1,2,2,2,19960202,447,-63.487,79.9808,3737,3609.8,-0.122,34.67,2,34.675,2,234.4,2,233.9,2,122.9,2,32.2,2,-999,9,2.22,2,-999,9,-999,9,-999,9,-999,9,-999,9
    09AR9604_1,   UNK,20,1,1,1,2,19960202,447,-63.487,79.9808,3737,3756.6,-0.118,34.67,2,34.672,2,234.7,2,234.4,2,122.6,2,32,2,-999,9,2.24,2,0.908,2,0.421,2,-999,9,-999,9,-999,9
    09AR9604_1,   UNK,22,1,24,24,2,19960202,1347,-63.0062,79.9972,3583,12.2,0.336,33.778,2,33.78,4,348.7,2,342.6,2,33.5,2,28.2,2,-999,9,1.69,2,6.275,2,3.155,2,-999,9,-999,9,-999,9
    09AR9604_1,   UNK,22,1,23,23,2,19960202,1347,-63.0062,79.9972,3583,51.7,0.224,33.782,4,33.783,4,331.6,2,341.4,2,33.9,2,28.2,2,-999,9,1.74,2,6.178,2,3.092,2,-999,9,-999,9,-999,9
    09AR9604_1,   UNK,22,1,22,22,2,19960202,1347,-63.0062,79.9972,3583,101.2,-0.661,34.198,3,34.22,4,275,2,271.4,2,55.2,2,32.3,2,-999,9,2.25,2,3.926,2,1.926,2,-999,9,-999,9,-999,9
    09AR9604_1,   UNK,22,1,21,21,2,19960202,1347,-63.0062,79.9972,3583,151,1.235,34.496,4,34.528,4,188.2,2,193.2,2,70.1,2,34.2,2,-999,9,2.36,2,1.458,2,0.671,2,-999,9,-999,9,-999,9
    09AR9604_1,   UNK,22,1,20,20,2,19960202,1347,-63.0062,79.9972,3583,202.3,1.758,34.603,3,34.63,4,185.7,2,177.5,2,73.5,2,33.8,2,-999,9,2.32,2,0.754,2,0.343,2,-999,9,-999,9,-999,9
    09AR9604_1,   UNK,22,1,19,119,2,19960202,1347,-63.0062,79.9972,3583,302.3,1.89,34.661,2,34.687,4,177,2,177.6,2,74.6,2,33,2,-999,9,2.25,2,0.423,2,0.196,2,-999,9,-999,9,-999,9
    09AR9604_1,   UNK,22,1,18,118,2,19960202,1347,-63.0062,79.9972,3583,402,1.891,34.701,2,34.721,4,181.3,2,182,2,78.1,2,32.1,2,-999,9,2.23,2,0.276,6,0.13,6,-999,9,-999,9,-999,9
    09AR9604_1,   UNK,22,1,17,17,2,19960202,1347,-63.0062,79.9972,3583,501.6,1.886,34.721,2,34.741,4,184.2,2,185.7,2,77.5,2,31.5,2,-999,9,2.15,2,0.207,2,0.099,2,-999,9,-999,9,-999,9
    09AR9604_1,   UNK,22,1,16,216,2,19960202,1347,-63.0062,79.9972,3583,601.8,1.813,34.733,2,34.753,4,188,2,-999,9,79,2,31.2,2,-999,9,2.12,2,0.175,2,0.08,2,-999,9,-999,9,-999,9
    09AR9604_1,   UNK,22,1,15,215,2,19960202,1347,-63.0062,79.9972,3583,703.4,1.749,34.741,2,34.761,4,188.5,2,192.7,2,79.7,2,30.8,2,-999,9,2.1,2,0.149,2,0.07,2,-999,9,-999,9,-999,9
    09AR9604_1,   UNK,22,1,14,114,2,19960202,1347,-63.0062,79.9972,3583,803.5,1.681,34.746,2,34.763,4,194.1,2,195.8,2,79.8,2,30.6,2,-999,9,2.08,2,0.133,2,0.061,2,-999,9,-999,9,-999,9
    09AR9604_1,   UNK,22,1,13,113,2,19960202,1347,-63.0062,79.9972,3583,1003.7,1.477,34.744,2,34.764,4,198.3,2,199.6,2,82.8,2,30.4,2,-999,9,2.11,2,0.135,2,0.062,2,-999,9,-999,9,-999,9
    09AR9604_1,   UNK,22,1,12,112,2,19960202,1347,-63.0062,79.9972,3583,1211.9,1.252,34.735,2,34.755,4,201.4,2,202.6,2,85.2,2,30.8,2,-999,9,2.07,2,0.13,2,0.058,2,-999,9,-999,9,-999,9
    09AR9604_1,   UNK,22,1,11,11,2,19960202,1347,-63.0062,79.9972,3583,1405.9,1.095,34.728,2,34.746,4,204.4,2,204.3,2,93.8,2,31,2,-999,9,2.1,2,0.128,2,0.058,2,-999,9,-999,9,-999,9
    09AR9604_1,   UNK,22,1,10,10,2,19960202,1347,-63.0062,79.9972,3583,1605.9,0.945,34.721,2,34.736,4,206.5,2,206.3,2,96.6,2,31.3,2,-999,9,2.13,2,0.093,2,0.043,2,-999,9,-999,9,-999,9
    09AR9604_1,   UNK,22,1,9,9,2,19960202,1347,-63.0062,79.9972,3583,1805.7,0.761,34.709,2,34.726,4,209,2,207.9,2,92.1,2,31.8,2,-999,9,2.14,2,0.137,2,0.066,2,-999,9,-999,9,-999,9
    09AR9604_1,   UNK,22,1,8,8,2,19960202,1347,-63.0062,79.9972,3583,2105.5,0.543,34.697,2,34.709,4,211.4,2,210.8,2,99.2,2,32.2,2,-999,9,2.21,2,0.176,2,0.083,2,-999,9,-999,9,-999,9
    09AR9604_1,   UNK,22,1,7,7,2,19960202,1347,-63.0062,79.9972,3583,2305.7,0.434,34.691,2,34.706,4,213.4,2,212.3,2,100.6,2,32.3,2,-999,9,2.21,2,0.135,2,0.067,2,-999,9,-999,9,-999,9
    09AR9604_1,   UNK,22,1,6,6,2,19960202,1347,-63.0062,79.9972,3583,2505,0.331,34.687,2,34.7,4,215.6,2,214.6,2,104.5,2,32.5,2,-999,9,2.23,2,0.134,2,0.065,2,-999,9,-999,9,-999,9
    09AR9604_1,   UNK,22,1,5,5,2,19960202,1347,-63.0062,79.9972,3583,2705.4,0.233,34.682,2,34.699,4,218.8,2,217.9,2,102.6,2,32.3,2,-999,9,2.22,2,0.17,2,0.085,2,-999,9,-999,9,-999,9
    09AR9604_1,   UNK,22,1,4,4,2,19960202,1347,-63.0062,79.9972,3583,2906.7,0.153,34.68,2,34.695,4,222.8,2,221.1,2,105,2,32.4,2,-999,9,2.24,2,0.213,2,0.104,2,-999,9,-999,9,-999,9
    09AR9604_1,   UNK,22,1,3,3,2,19960202,1347,-63.0062,79.9972,3583,3205.1,0.02,34.674,2,34.691,4,227.5,2,226.8,2,106.7,2,32.3,2,-999,9,2.23,2,0.325,2,0.159,2,-999,9,-999,9,-999,9
    09AR9604_1,   UNK,22,1,2,2,2,19960202,1347,-63.0062,79.9972,3583,3501.4,-0.087,34.674,2,34.691,4,232.8,2,232.1,2,107.4,2,32.1,2,-999,9,2.22,2,0.645,2,0.301,2,-999,9,-999,9,-999,9
    09AR9604_1,   UNK,22,1,1,1,2,19960202,1347,-63.0062,79.9972,3583,3572.1,-0.152,34.671,2,34.688,4,236.1,2,234.4,2,110.3,2,32.1,2,-999,9,2.22,2,0.871,2,0.403,2,-999,9,-999,9,-999,9