BOTTLE,2021011SIOJHS,,,,,,,,,,,,,,,,,,,,,,,,,,,,,,,,,,,,,,
EXPOCODE,SECT_ID,STNNBR,CASTNO,SAMPNO,BTLNBR,BTLNBR_FLAG_W,DATE,TIME,LATITUDE,LONGITUDE,DEPTH,CTDPRS,CTDTMP,CTDSAL,CTDSAL_FLAG_W,SALNTY,SALNTY_FLAG_W,CTDOXY,CTDOXY_FLAG_W,OXYGEN,OXYGEN_FLAG_W,SILCAT,SILCAT_FLAG_W,NITRAT,NITRAT_FLAG_W,NITRIT,NITRIT_FLAG_W,PHSPHT,PHSPHT_FLAG_W,CFC-11,CFC-11_FLAG_W,CFC-12,CFC-12_FLAG_W,SF6,SF6_FLAG_W,TCARBN,TCARBN_FLAG_W,ALKALI,ALKALI_FLAG_W
,,,,,,,,,,,,DBAR,DEG C,PSS-78,,PSS-78,,UMOL/KG,,UMOL/KG,,UMOL/KG,,UMOL/KG,,UMOL/KG,,UMOL/KG,,PMOL/KG,,PMOL/KG,,NMOL/KG,,UMOL/KG,,UMOL/KG,
    09AR9604_1,   UNK,36,1,18,118,2,19960208,905,-64.787,93.5483,1730,12,-0.283,33.821,3,33.826,2,360.5,2,359.4,2,43,2,22.8,2,-999,9,1.39,2,6.726,2,3.216,2,-999,9,-999,9,-999,9
    09AR9604_1,   UNK,36,1,17,17,2,19960208,905,-64.787,93.5483,1730,26,-0.265,33.959,2,33.961,2,357.9,2,359.1,2,44,2,23,2,-999,9,1.45,2,-999,9,-999,9,-999,9,-999,9,-999,9
    09AR9604_1,   UNK,36,1,16,216,2,19960208,905,-64.787,93.5483,1730,50,-0.738,34.04,4,34.032,2,339.4,2,345.2,2,46.8,2,25.5,2,-999,9,1.71,2,6.403,2,3.031,2,-999,9,-999,9,-999,9
    09AR9604_1,   UNK,36,1,15,215,2,19960208,905,-64.787,93.5483,1730,75.5,-1.719,34.276,2,34.28,2,324.8,2,321.3,2,53.6,2,29.1,2,-999,9,2.07,2,-999,9,-999,9,-999,9,-999,9,-999,9
    09AR9604_1,   UNK,36,1,14,114,2,19960208,905,-64.787,93.5483,1730,101.2,-1.781,34.324,2,34.325,2,317.5,2,312.2,2,55.1,2,30,2,-999,9,2.07,2,5.36,2,2.564,2,-999,9,-999,9,-999,9
    09AR9604_1,   UNK,36,1,13,113,2,19960208,905,-64.787,93.5483,1730,151.2,-1.846,34.358,2,34.356,2,316.9,2,317.8,2,55.9,2,29.9,2,-999,9,2.06,2,5.604,2,2.65,2,-999,9,-999,9,-999,9
    09AR9604_1,   UNK,36,1,12,112,2,19960208,905,-64.787,93.5483,1730,220.9,-1.701,34.399,2,34.399,2,307.6,2,310.6,2,59.4,2,29.9,2,-999,9,2.05,2,5.449,2,2.584,2,-999,9,-999,9,-999,9
    09AR9604_1,   UNK,36,1,11,11,2,19960208,905,-64.787,93.5483,1730,401.5,0.108,34.609,2,34.609,2,233,2,240.3,2,79.4,2,31.1,2,-999,9,2.12,2,2.192,2,1.02,2,-999,9,-999,9,-999,9
    09AR9604_1,   UNK,36,1,10,10,2,19960208,905,-64.787,93.5483,1730,501.9,0.236,34.635,2,34.632,2,231.6,2,233.2,2,80.2,2,31.1,2,-999,9,2.12,2,1.764,2,0.816,2,-999,9,-999,9,-999,9
    09AR9604_1,   UNK,36,1,9,9,2,19960208,905,-64.787,93.5483,1730,602.8,0.352,34.658,2,34.655,2,229.5,2,225.8,2,85.1,2,31.3,2,-999,9,2.16,2,1.312,2,0.602,2,-999,9,-999,9,-999,9
    09AR9604_1,   UNK,36,1,8,8,2,19960208,905,-64.787,93.5483,1730,702,0.659,34.694,2,34.693,2,214.7,2,210.4,2,87.2,2,31.4,2,-999,9,2.2,2,-999,9,-999,9,-999,9,-999,9,-999,9
    09AR9604_1,   UNK,36,1,7,7,2,19960208,905,-64.787,93.5483,1730,802.2,0.61,34.696,2,34.694,2,211.7,2,210,2,96.6,2,31.6,2,-999,9,2.19,2,0.324,2,0.152,2,-999,9,-999,9,-999,9
    09AR9604_1,   UNK,36,1,6,6,2,19960208,905,-64.787,93.5483,1730,903.2,0.392,34.684,4,34.681,2,213.6,2,217.2,2,94.3,2,31.6,2,-999,9,2.19,2,0.608,2,0.29,2,-999,9,-999,9,-999,9
    09AR9604_1,   UNK,36,1,5,5,2,19960208,905,-64.787,93.5483,1730,1002.2,0.256,34.668,2,34.678,2,221.3,2,222.8,2,89.6,2,31.5,2,-999,9,2.19,2,0.879,2,0.403,2,-999,9,-999,9,-999,9
    09AR9604_1,   UNK,36,1,4,4,2,19960208,905,-64.787,93.5483,1730,1203.8,0.175,34.67,2,34.671,2,224.9,2,223.6,2,89.5,2,31.8,2,-999,9,2.18,2,-999,9,-999,9,-999,9,-999,9,-999,9
    09AR9604_1,   UNK,36,1,3,3,2,19960208,905,-64.787,93.5483,1730,1403.5,0.116,34.674,2,34.673,2,226.1,2,223.2,2,99.1,2,31.8,2,-999,9,2.21,2,0.622,2,0.29,2,-999,9,-999,9,-999,9
    09AR9604_1,   UNK,36,1,2,2,2,19960208,905,-64.787,93.5483,1730,1653.3,0.012,34.666,2,34.666,2,228.2,2,228,2,102.7,2,31.6,2,-999,9,2.21,2,0.895,2,0.408,2,-999,9,-999,9,-999,9
    09AR9604_1,   UNK,36,1,1,1,2,19960208,905,-64.787,93.5483,1730,1729.6,0.007,34.667,2,34.666,2,222.7,2,228.2,2,105.2,2,31.7,2,-999,9,2.23,2,0.891,2,0.411,2,-999,9,-999,9,-999,9
    09AR9604_1,   UNK,37,1,18,118,2,19960208,1227,-64.8073,93.527,1413,9.3,-0.495,33.769,4,33.755,3,357.8,2,357.1,2,50.6,2,23.1,2,-999,9,1.42,2,-999,9,-999,9,-999,9,-999,9,-999,9
    09AR9604_1,   UNK,37,1,17,17,2,19960208,1227,-64.8073,93.527,1413,25.5,-0.502,33.977,2,33.977,2,354.2,2,352.8,2,52.8,2,23.9,2,-999,9,1.56,2,-999,9,-999,9,-999,9,-999,9,-999,9
    09AR9604_1,   UNK,37,1,16,216,2,19960208,1227,-64.8073,93.527,1413,52.5,-1.117,34.118,3,34.114,2,328.4,2,333.8,2,59.1,2,26.7,2,-999,9,1.86,2,-999,9,-999,9,-999,9,-999,9,-999,9
    09AR9604_1,   UNK,37,1,15,215,2,19960208,1227,-64.8073,93.527,1413,75.9,-1.756,34.311,2,34.307,2,319,2,313.6,2,64.9,2,30.2,2,-999,9,2.1,2,-999,9,-999,9,-999,9,-999,9,-999,9
    09AR9604_1,   UNK,37,1,14,114,2,19960208,1227,-64.8073,93.527,1413,101.5,-1.849,34.334,2,34.334,2,315.5,2,319,2,66.9,2,29.9,2,-999,9,2.08,2,-999,9,-999,9,-999,9,-999,9,-999,9
    09AR9604_1,   UNK,37,1,13,113,2,19960208,1227,-64.8073,93.527,1413,125.6,-1.854,34.344,2,34.343,2,319.1,2,318,2,67.9,2,29.8,2,-999,9,2.11,2,-999,9,-999,9,-999,9,-999,9,-999,9
    09AR9604_1,   UNK,37,1,12,112,2,19960208,1227,-64.8073,93.527,1413,152.8,-1.837,34.356,2,34.355,2,317.2,2,316.3,2,66.1,2,30.3,2,-999,9,2.11,2,-999,9,-999,9,-999,9,-999,9,-999,9
    09AR9604_1,   UNK,37,1,11,11,2,19960208,1227,-64.8073,93.527,1413,200.8,-1.819,34.373,2,34.374,2,313.7,2,316.4,2,67.9,2,29.9,2,-999,9,2.1,2,-999,9,-999,9,-999,9,-999,9,-999,9
    09AR9604_1,   UNK,37,1,10,10,2,19960208,1227,-64.8073,93.527,1413,300.5,-1.249,34.442,4,34.437,2,297.3,2,294.8,2,74.2,2,30.6,2,-999,9,2.14,2,-999,9,-999,9,-999,9,-999,9,-999,9
    09AR9604_1,   UNK,37,1,9,9,2,19960208,1227,-64.8073,93.527,1413,402.1,0.065,34.597,2,34.599,2,234,2,-999,9,88.6,2,30.8,2,-999,9,2.18,2,-999,9,-999,9,-999,9,-999,9,-999,9
    09AR9604_1,   UNK,37,1,8,8,2,19960208,1227,-64.8073,93.527,1413,482.4,0.929,34.692,2,34.691,2,204.5,2,207.2,2,100.3,2,31,2,-999,9,2.21,2,-999,9,-999,9,-999,9,-999,9,-999,9
    09AR9604_1,   UNK,37,1,7,7,2,19960208,1227,-64.8073,93.527,1413,603.4,0.942,34.707,2,34.707,2,205.9,2,204,2,108.6,2,30.9,2,-999,9,2.2,2,-999,9,-999,9,-999,9,-999,9,-999,9
    09AR9604_1,   UNK,37,1,6,6,2,19960208,1227,-64.8073,93.527,1413,704.3,0.812,34.701,2,34.702,2,207.5,2,205.8,2,112.4,2,31.5,2,-999,9,2.23,2,-999,9,-999,9,-999,9,-999,9,-999,9
    09AR9604_1,   UNK,37,1,5,5,2,19960208,1227,-64.8073,93.527,1413,801.3,0.653,34.692,2,34.694,2,208.1,2,209.3,2,115.4,2,31.4,2,-999,9,2.23,2,-999,9,-999,9,-999,9,-999,9,-999,9
    09AR9604_1,   UNK,37,1,4,4,2,19960208,1227,-64.8073,93.527,1413,1003.9,0.284,34.667,2,34.668,2,221.4,2,221,2,115,2,31.7,2,-999,9,2.24,2,0.772,2,0.364,2,-999,9,-999,9,-999,9
    09AR9604_1,   UNK,37,1,3,3,2,19960208,1227,-64.8073,93.527,1413,1202.8,0.19,34.666,2,34.666,2,225.2,2,222.8,2,115.3,2,31.6,2,-999,9,2.24,2,0.742,2,0.351,2,-999,9,-999,9,-999,9
    09AR9604_1,   UNK,37,1,2,2,2,19960208,1227,-64.8073,93.527,1413,1403.8,0.095,34.665,2,34.666,2,222.5,2,224.7,2,117,2,31.5,2,-999,9,2.24,2,0.774,2,0.356,2,-999,9,-999,9,-999,9
    09AR9604_1,   UNK,37,1,1,1,2,19960208,1227,-64.8073,93.527,1413,1439.1,0.092,34.664,2,34.665,2,225.9,2,225.4,2,116.9,2,31.8,2,-999,9,2.25,2,0.794,2,0.371,2,-999,9,-999,9,-999,9
    09AR9604_1,   UNK,38,1,15,215,2,19960208,1506,-64.82,93.5402,1229,11.1,-0.626,33.701,3,33.702,2,358.1,2,356.3,2,47.7,2,23.5,2,-999,9,1.42,2,-999,9,-999,9,-999,9,-999,9,-999,9
    09AR9604_1,   UNK,38,1,14,114,2,19960208,1506,-64.82,93.5402,1229,26,-0.413,33.964,2,33.962,2,350.7,2,355.6,2,48,2,23.7,2,-999,9,1.53,2,-999,9,-999,9,-999,9,-999,9,-999,9
    09AR9604_1,   UNK,38,1,13,113,2,19960208,1506,-64.82,93.5402,1229,51.7,-1.153,34.14,2,34.15,2,324.3,2,331.2,2,57.1,2,27.2,2,-999,9,1.94,2,-999,9,-999,9,-999,9,-999,9,-999,9
    09AR9604_1,   UNK,38,1,12,112,2,19960208,1506,-64.82,93.5402,1229,76.1,-1.716,34.296,2,34.298,2,316.2,2,315.5,2,60.8,2,29.7,2,-999,9,2.15,2,-999,9,-999,9,-999,9,-999,9,-999,9
    09AR9604_1,   UNK,38,1,11,11,2,19960208,1506,-64.82,93.5402,1229,102,-1.765,34.333,2,34.332,2,313.8,2,310.7,2,59.6,2,30.2,2,-999,9,2.15,2,-999,9,-999,9,-999,9,-999,9,-999,9
    09AR9604_1,   UNK,38,1,10,10,2,19960208,1506,-64.82,93.5402,1229,152.8,-1.797,34.364,2,34.365,2,309.9,2,311.5,2,60.4,2,30.6,2,-999,9,2.15,2,-999,9,-999,9,-999,9,-999,9,-999,9
    09AR9604_1,   UNK,38,1,9,9,2,19960208,1506,-64.82,93.5402,1229,204.5,-1.693,34.386,2,34.387,2,315.3,2,309.6,2,63.7,2,30.4,2,-999,9,2.13,2,-999,9,-999,9,-999,9,-999,9,-999,9
    09AR9604_1,   UNK,38,1,8,8,2,19960208,1506,-64.82,93.5402,1229,305.6,-0.938,34.481,2,34.479,2,279.7,2,282,2,69.5,2,31.1,2,-999,9,2.22,2,-999,9,-999,9,-999,9,-999,9,-999,9
    09AR9604_1,   UNK,38,1,7,7,2,19960208,1506,-64.82,93.5402,1229,406.2,0.071,34.603,2,34.6,2,242.2,2,242.5,2,77.8,2,31.2,2,-999,9,2.21,2,-999,9,-999,9,-999,9,-999,9,-999,9
    09AR9604_1,   UNK,38,1,6,6,2,19960208,1506,-64.82,93.5402,1229,505.5,0.404,34.65,2,34.65,2,232.1,2,227.8,2,88.4,2,31.5,2,-999,9,2.23,2,-999,9,-999,9,-999,9,-999,9,-999,9
    09AR9604_1,   UNK,38,1,5,5,2,19960208,1506,-64.82,93.5402,1229,606.2,0.346,34.658,2,34.659,2,225,2,227.7,2,92.8,2,31.3,2,-999,9,2.24,2,1.454,2,0.658,2,-999,9,-999,9,-999,9
    09AR9604_1,   UNK,38,1,4,4,2,19960208,1506,-64.82,93.5402,1229,702.1,0.367,34.667,2,34.667,2,224.9,2,-999,9,94.3,2,31.3,2,-999,9,2.24,2,1.216,2,0.558,2,-999,9,-999,9,-999,9
    09AR9604_1,   UNK,38,1,3,3,2,19960208,1506,-64.82,93.5402,1229,904.4,0.388,34.679,2,34.679,2,225.1,2,219.3,2,103.8,2,31.4,2,-999,9,2.27,2,0.83,2,0.376,2,-999,9,-999,9,-999,9
    09AR9604_1,   UNK,38,1,2,2,2,19960208,1506,-64.82,93.5402,1229,1106.8,0.162,34.667,2,34.668,2,226,2,225.8,2,106.9,2,31.7,2,-999,9,2.24,2,1.025,2,0.47,2,-999,9,-999,9,-999,9
    09AR9604_1,   UNK,38,1,1,1,2,19960208,1506,-64.82,93.5402,1229,1208.3,0.162,34.668,2,34.669,2,223.4,2,225.1,2,107.8,2,31.7,2,-999,9,2.21,2,0.948,2,0.439,2,-999,9,-999,9,-999,9
    09AR9604_1,   UNK,39,1,18,118,2,19960208,1728,-64.8405,93.5128,870,17.6,-0.649,33.725,4,33.695,2,358.7,2,356.3,2,45.3,2,23.1,2,-999,9,1.44,2,6.883,2,3.203,2,-999,9,-999,9,-999,9
    09AR9604_1,   UNK,39,1,16,216,2,19960208,1728,-64.8405,93.5128,870,47.2,-0.909,34.067,4,34.062,2,333.1,2,339.1,2,49.5,2,25.9,2,-999,9,1.8,2,6.542,2,3.053,2,-999,9,-999,9,-999,9
    09AR9604_1,   UNK,39,1,12,112,2,19960208,1728,-64.8405,93.5128,870,106.9,-1.809,34.338,2,34.338,2,320.2,2,314.1,2,60,2,30,2,-999,9,2.09,2,5.565,2,2.597,2,-999,9,-999,9,-999,9
    09AR9604_1,   UNK,39,1,9,9,2,19960208,1728,-64.8405,93.5128,870,152.9,-1.829,34.357,2,34.356,2,314.8,2,312.5,2,60,2,30.6,2,-999,9,2.09,2,-999,9,-999,9,-999,9,-999,9,-999,9
    09AR9604_1,   UNK,39,1,8,8,2,19960208,1728,-64.8405,93.5128,870,203.3,-1.79,34.377,2,34.378,2,313.7,2,315.1,2,61,2,30.2,2,-999,9,2.08,2,5.673,2,2.645,2,-999,9,-999,9,-999,9
    09AR9604_1,   UNK,39,1,7,7,2,19960208,1728,-64.8405,93.5128,870,304.4,-1.151,34.46,2,34.456,2,282.5,2,-999,9,66.7,2,31.1,2,-999,9,2.12,2,-999,9,-999,9,-999,9,-999,9,-999,9
    09AR9604_1,   UNK,39,1,6,6,2,19960208,1728,-64.8405,93.5128,870,404.9,-0.213,34.577,3,34.573,2,252.3,2,256.8,2,77,2,31.1,2,-999,9,2.08,2,2.954,2,1.36,2,-999,9,-999,9,-999,9
    09AR9604_1,   UNK,39,1,5,5,2,19960208,1728,-64.8405,93.5128,870,507.2,0.55,34.662,3,34.669,2,220.8,2,222.8,2,87.8,2,31.9,2,-999,9,2.14,2,-999,9,-999,9,-999,9,-999,9,-999,9
    09AR9604_1,   UNK,39,1,4,4,2,19960208,1728,-64.8405,93.5128,870,605.7,0.901,34.708,2,34.708,2,210.7,2,207.6,2,94.7,2,31.4,2,-999,9,2.13,2,0.499,2,0.23,2,-999,9,-999,9,-999,9
    09AR9604_1,   UNK,39,1,3,3,2,19960208,1728,-64.8405,93.5128,870,704.2,0.484,34.674,2,34.674,2,223.1,2,221.8,2,91.9,2,31.4,2,-999,9,2.18,2,1.055,2,0.482,2,-999,9,-999,9,-999,9
    09AR9604_1,   UNK,39,1,2,2,2,19960208,1728,-64.8405,93.5128,870,803.5,0.27,34.66,2,34.662,2,224.7,2,226.9,2,95.8,2,31.6,2,-999,9,2.14,2,1.289,2,0.594,2,-999,9,-999,9,-999,9
    09AR9604_1,   UNK,39,1,1,1,2,19960208,1728,-64.8405,93.5128,870,888.1,0.233,34.656,2,34.658,2,222.4,2,-999,9,93.3,2,31.4,2,-999,9,2.16,2,1.371,2,0.628,2,-999,9,-999,9,-999,9
    09AR9604_1,   UNK,40,1,24,24,2,19960208,2059,-64.8557,93.5347,532,5.5,-0.887,33.626,2,33.626,2,356.3,2,356,2,44.9,2,23.2,2,-999,9,1.39,2,-999,9,-999,9,-999,9,-999,9,-999,9
    09AR9604_1,   UNK,40,1,14,114,2,19960208,2059,-64.8557,93.5347,532,45.2,-1.337,34,2,34.022,2,342.4,2,340.5,2,50.3,2,26.4,2,-999,9,1.82,2,-999,9,-999,9,-999,9,-999,9,-999,9
    09AR9604_1,   UNK,40,1,10,10,2,19960208,2059,-64.8557,93.5347,532,107.4,-1.778,34.321,2,34.32,2,321.3,2,318.6,2,56.3,2,30.1,2,-999,9,2.04,2,5.694,2,2.672,2,-999,9,-999,9,-999,9
    09AR9604_1,   UNK,40,1,7,7,2,19960208,2059,-64.8557,93.5347,532,150.9,-1.814,34.359,2,34.36,2,316.1,2,316.7,2,57.5,2,30,2,-999,9,2.04,2,5.718,2,2.649,2,-999,9,-999,9,-999,9
    09AR9604_1,   UNK,40,1,6,6,2,19960208,2059,-64.8557,93.5347,532,200.5,-1.779,34.378,2,34.379,2,312.9,2,314,2,58.8,2,30.5,2,-999,9,2.07,2,5.558,2,2.612,2,-999,9,-999,9,-999,9
    09AR9604_1,   UNK,40,1,5,5,2,19960208,2059,-64.8557,93.5347,532,250.5,-1.763,34.391,2,34.392,2,310.5,2,313.9,2,58.8,2,30.3,2,-999,9,2,3,-999,9,-999,9,-999,9,-999,9,-999,9
    09AR9604_1,   UNK,40,1,4,4,2,19960208,2059,-64.8557,93.5347,532,300.7,-1.476,34.428,2,34.428,2,303.3,2,303.2,2,62.5,2,30.8,2,-999,9,2.09,2,4.745,2,2.222,2,-999,9,-999,9,-999,9
    09AR9604_1,   UNK,40,1,3,3,2,19960208,2059,-64.8557,93.5347,532,350.6,-1.064,34.48,2,34.479,2,294.3,2,287.2,2,66,2,31.1,2,-999,9,2.1,2,4.368,2,2.044,2,-999,9,-999,9,-999,9
    09AR9604_1,   UNK,40,1,2,2,2,19960208,2059,-64.8557,93.5347,532,451.1,-0.889,34.514,2,34.514,2,274.7,2,278.7,2,71.4,2,30.7,2,-999,9,2.1,2,3.872,2,1.821,2,-999,9,-999,9,-999,9
    09AR9604_1,   UNK,40,1,1,1,2,19960208,2059,-64.8557,93.5347,532,520.6,0.059,34.611,2,34.61,2,241,2,242.3,2,75.8,2,31.1,2,-999,9,2.16,2,2.3,2,1.065,2,-999,9,-999,9,-999,9
    09AR9604_1,   UNK,41,1,16,216,2,19960209,128,-65.027,93.5387,463,16.9,-1.546,33.611,2,33.611,2,-999,5,352.3,2,40.8,2,23.5,2,-999,9,1.54,2,-999,9,-999,9,-999,9,-999,9,-999,9
    09AR9604_1,   UNK,41,1,12,112,2,19960209,128,-65.027,93.5387,463,61.8,-1.535,34.207,2,34.202,2,329.4,2,328.3,2,50.4,2,27.6,2,-999,9,1.95,2,6.012,2,2.812,2,-999,9,-999,9,-999,9
    09AR9604_1,   UNK,41,1,9,9,2,19960209,128,-65.027,93.5387,463,106.2,-1.763,34.342,2,34.343,2,318.6,2,317.9,2,50.4,2,29.8,2,-999,9,2.06,2,-999,9,-999,9,-999,9,-999,9,-999,9
    09AR9604_1,   UNK,41,1,6,6,2,19960209,128,-65.027,93.5387,463,151.9,-1.84,34.367,2,34.367,2,317.9,2,315.5,2,55,2,30.2,2,-999,9,2.07,2,5.658,2,2.64,2,-999,9,-999,9,-999,9
    09AR9604_1,   UNK,41,1,5,5,2,19960209,128,-65.027,93.5387,463,202,-1.835,34.374,2,34.375,2,315.1,2,316.2,2,52.6,2,30.1,2,-999,9,2.06,2,5.651,2,2.644,2,-999,9,-999,9,-999,9
    09AR9604_1,   UNK,41,1,4,4,2,19960209,128,-65.027,93.5387,463,252.5,-1.789,34.389,2,34.388,2,316.6,2,-999,9,54.2,2,30.4,2,-999,9,2.06,2,5.7,2,2.634,2,-999,9,-999,9,-999,9
    09AR9604_1,   UNK,41,1,3,3,2,19960209,128,-65.027,93.5387,463,301.9,-1.676,34.413,2,34.412,2,313.1,2,315.6,2,55.5,2,29.9,2,-999,9,2.07,2,5.608,2,2.632,2,-999,9,-999,9,-999,9
    09AR9604_1,   UNK,41,1,2,2,2,19960209,128,-65.027,93.5387,463,405.7,-1.012,34.52,2,34.521,2,282.5,2,282.2,2,63,2,30.7,2,-999,9,2.14,2,4.318,2,2.005,2,-999,9,-999,9,-999,9
    09AR9604_1,   UNK,41,1,1,1,2,19960209,128,-65.027,93.5387,463,451.3,-1.844,34.524,2,34.526,2,317,2,316.7,2,56.6,2,30.9,2,-999,9,2.1,2,6.029,2,2.78,2,-999,9,-999,9,-999,9
    09AR9604_1,   UNK,42,1,18,118,2,19960209,1253,-65.998,93.5467,1228,16,-1.29,33.839,2,-999,9,377.1,2,377.6,2,50.2,2,21.5,2,-999,9,1.76,4,7.082,2,3.302,2,-999,9,-999,9,-999,9
    09AR9604_1,   UNK,42,1,15,215,2,19960209,1253,-65.998,93.5467,1228,61.8,-1.586,33.958,2,33.962,2,359.6,2,360,2,52.3,2,25.3,2,-999,9,1.98,4,-999,9,-999,9,-999,9,-999,9,-999,9
    09AR9604_1,   UNK,42,1,12,112,2,19960209,1253,-65.998,93.5467,1228,106.5,-1.767,34.361,2,34.36,2,322.6,2,318.2,2,57.8,2,29.3,2,-999,9,2.31,4,5.778,2,2.692,2,-999,9,-999,9,-999,9
    09AR9604_1,   UNK,42,1,9,9,2,19960209,1253,-65.998,93.5467,1228,152.4,-1.76,34.388,2,34.386,2,324,2,316.8,2,60.4,2,29.9,2,-999,9,2.33,4,-999,9,-999,9,-999,9,-999,9,-999,9
    09AR9604_1,   UNK,42,1,8,8,2,19960209,1253,-65.998,93.5467,1228,202.7,-1.713,34.424,2,34.423,2,316.2,2,315.6,2,62,2,30,2,-999,9,2.31,4,5.672,2,2.652,2,-999,9,-999,9,-999,9
    09AR9604_1,   UNK,42,1,7,7,2,19960209,1253,-65.998,93.5467,1228,301.3,-1.826,34.454,2,34.453,2,317.5,2,318.9,2,62.3,2,30.2,2,-999,9,2.31,4,5.849,2,2.724,2,-999,9,-999,9,-999,9
    09AR9604_1,   UNK,42,1,6,6,2,19960209,1253,-65.998,93.5467,1228,401.9,-1.844,34.462,2,34.463,2,317.6,2,320.7,2,61.6,2,30.1,2,-999,9,2.34,4,5.922,2,2.776,2,-999,9,-999,9,-999,9
    09AR9604_1,   UNK,42,1,5,5,2,19960209,1253,-65.998,93.5467,1228,503,-1.866,34.488,2,34.487,2,316.6,2,320.8,2,61.2,2,29.9,2,-999,9,2.3,4,5.998,2,2.777,2,-999,9,-999,9,-999,9
    09AR9604_1,   UNK,42,1,4,4,2,19960209,1253,-65.998,93.5467,1228,603,-1.871,34.499,2,34.499,2,319.4,2,321.1,2,61.7,2,30.5,2,-999,9,2.33,4,5.951,2,2.796,2,-999,9,-999,9,-999,9
    09AR9604_1,   UNK,42,1,3,3,2,19960209,1253,-65.998,93.5467,1228,802.1,-1.87,34.514,2,34.514,2,320.9,2,322,2,60.9,2,30.2,2,-999,9,2.33,4,5.975,2,2.822,2,-999,9,-999,9,-999,9
    09AR9604_1,   UNK,42,1,2,2,2,19960209,1253,-65.998,93.5467,1228,1004.2,-1.862,34.527,2,34.527,2,321.8,2,321.9,2,62,2,29.9,2,-999,9,2.25,4,6.093,2,2.806,2,-999,9,-999,9,-999,9
    09AR9604_1,   UNK,42,1,1,1,2,19960209,1253,-65.998,93.5467,1228,1197.9,-1.854,34.531,2,34.531,2,324.1,2,320.9,2,62.4,2,30.5,2,-999,9,2.25,4,6.079,2,2.822,2,-999,9,-999,9,-999,9