BOTTLE,2021011SIOJHS,,,,,,,,,,,,,,,,,,,,,,,,,,,,,,,,,,,,,,
EXPOCODE,SECT_ID,STNNBR,CASTNO,SAMPNO,BTLNBR,BTLNBR_FLAG_W,DATE,TIME,LATITUDE,LONGITUDE,DEPTH,CTDPRS,CTDTMP,CTDSAL,CTDSAL_FLAG_W,SALNTY,SALNTY_FLAG_W,CTDOXY,CTDOXY_FLAG_W,OXYGEN,OXYGEN_FLAG_W,SILCAT,SILCAT_FLAG_W,NITRAT,NITRAT_FLAG_W,NITRIT,NITRIT_FLAG_W,PHSPHT,PHSPHT_FLAG_W,CFC-11,CFC-11_FLAG_W,CFC-12,CFC-12_FLAG_W,SF6,SF6_FLAG_W,TCARBN,TCARBN_FLAG_W,ALKALI,ALKALI_FLAG_W
,,,,,,,,,,,,DBAR,DEG C,PSS-78,,PSS-78,,UMOL/KG,,UMOL/KG,,UMOL/KG,,UMOL/KG,,UMOL/KG,,UMOL/KG,,PMOL/KG,,PMOL/KG,,NMOL/KG,,UMOL/KG,,UMOL/KG,
    09AR9604_1,  SR03,120,1,24,24,2,19960312,1952,-63.4925,139.843,3788,11.5,0.964,33.859,2,33.86,2,-999,5,333,2,22.9,2,26.3,2,-999,9,1.76,2,6.242,2,3.008,2,-999,9,-999,9,-999,9
    09AR9604_1,  SR03,120,1,23,23,2,19960312,1952,-63.4925,139.843,3788,48.9,0.381,33.967,4,33.916,2,-999,5,332.3,2,27.8,2,27,2,-999,9,1.85,2,6.272,2,2.973,2,-999,9,-999,9,-999,9
    09AR9604_1,  SR03,120,1,22,22,2,19960312,1952,-63.4925,139.843,3788,101.4,1.232,34.423,3,34.419,2,-999,5,207.1,2,61.7,2,33.7,2,-999,9,2.4,2,2.141,2,1.008,2,-999,9,-999,9,-999,9
    09AR9604_1,  SR03,120,1,21,21,2,19960312,1952,-63.4925,139.843,3788,152.6,1.887,34.562,2,34.56,2,-999,5,176.7,2,69.1,2,33.6,2,-999,9,2.4,2,0.882,2,0.415,2,-999,9,-999,9,-999,9
    09AR9604_1,  SR03,120,1,20,20,2,19960312,1952,-63.4925,139.843,3788,201.8,1.94,34.617,2,34.617,2,-999,5,174.7,2,69.2,2,33.2,2,-999,9,2.36,2,0.614,2,0.287,2,-999,9,-999,9,-999,9
    09AR9604_1,  SR03,120,1,19,119,2,19960312,1952,-63.4925,139.843,3788,303.6,1.947,34.666,2,34.666,2,-999,5,177.3,2,75.8,2,32.3,2,-999,9,2.28,2,0.428,2,0.2,2,-999,9,-999,9,-999,9
    09AR9604_1,  SR03,120,1,18,118,2,19960312,1952,-63.4925,139.843,3788,401.4,1.929,34.697,2,34.687,2,-999,5,181.4,2,75.1,2,32.2,2,-999,9,2.25,2,0.328,2,0.15,2,-999,9,-999,9,-999,9
    09AR9604_1,  SR03,120,1,17,17,2,19960312,1952,-63.4925,139.843,3788,500.1,1.922,34.725,2,34.721,2,-999,5,186.8,2,76.2,2,30.9,2,-999,9,2.19,2,0.211,2,0.093,2,-999,9,-999,9,-999,9
    09AR9604_1,  SR03,120,1,16,216,2,19960312,1952,-63.4925,139.843,3788,602.4,1.78,34.727,2,34.742,2,-999,5,188.4,2,75.5,2,31.1,2,-999,9,2.18,2,0.253,2,0.124,2,-999,9,-999,9,-999,9
    09AR9604_1,  SR03,120,1,15,215,2,19960312,1952,-63.4925,139.843,3788,702.6,1.757,34.741,2,34.742,2,-999,5,192.5,2,75,2,30.8,2,-999,9,2.14,2,0.17,2,0.074,2,-999,9,-999,9,-999,9
    09AR9604_1,  SR03,120,1,14,114,2,19960312,1952,-63.4925,139.843,3788,799.6,1.682,34.744,2,34.746,2,-999,5,194.4,2,79.1,2,30.5,2,-999,9,2.15,2,0.154,2,0.074,2,-999,9,-999,9,-999,9
    09AR9604_1,  SR03,120,1,13,113,2,19960312,1952,-63.4925,139.843,3788,902.3,1.594,34.745,2,34.747,2,-999,5,196.4,2,82,2,30.4,2,-999,9,2.14,2,0.131,2,0.058,2,-999,9,-999,9,-999,9
    09AR9604_1,  SR03,120,1,12,112,2,19960312,1952,-63.4925,139.843,3788,999.4,1.518,34.743,2,34.737,2,-999,5,198.3,2,80.5,2,30.6,2,-999,9,2.14,2,0.126,2,0.059,2,-999,9,-999,9,-999,9
    09AR9604_1,  SR03,120,1,11,11,2,19960312,1952,-63.4925,139.843,3788,1202.5,1.329,34.739,2,34.737,2,-999,5,200.8,2,84.2,2,30.6,2,-999,9,2.13,2,0.119,3,0.052,2,-999,9,-999,9,-999,9
    09AR9604_1,  SR03,120,1,10,10,2,19960312,1952,-63.4925,139.843,3788,1403,1.157,34.732,2,34.734,2,-999,5,202.7,2,95.8,2,30.8,2,-999,9,2.17,2,0.097,2,0.048,2,-999,9,-999,9,-999,9
    09AR9604_1,  SR03,120,1,9,9,2,19960312,1952,-63.4925,139.843,3788,1703.6,0.907,34.72,2,34.722,2,-999,5,205.2,2,101.4,2,31.7,2,-999,9,2.19,2,0.092,2,0.048,2,-999,9,-999,9,-999,9
    09AR9604_1,  SR03,120,1,8,8,2,19960312,1952,-63.4925,139.843,3788,2004.1,0.661,34.707,2,34.709,2,-999,5,208.4,2,106.9,2,31.6,2,-999,9,2.23,2,0.111,2,0.055,2,-999,9,-999,9,-999,9
    09AR9604_1,  SR03,120,1,6,6,2,19960312,1952,-63.4925,139.843,3788,2603.8,0.27,34.69,2,34.682,2,-999,5,218.2,2,107.7,2,32.2,2,-999,9,2.25,2,0.288,2,0.141,2,-999,9,-999,9,-999,9
    09AR9604_1,  SR03,120,1,5,5,2,19960312,1952,-63.4925,139.843,3788,2905.3,0.149,34.687,2,34.684,2,-999,5,222.7,2,108.9,2,32.2,2,-999,9,2.25,2,0.312,2,0.152,2,-999,9,-999,9,-999,9
    09AR9604_1,  SR03,120,1,4,4,2,19960312,1952,-63.4925,139.843,3788,3206.4,0.027,34.685,2,34.684,2,-999,5,227.5,2,108.7,2,31.9,2,-999,9,2.24,2,0.525,2,0.256,2,-999,9,-999,9,-999,9
    09AR9604_1,  SR03,120,1,3,3,2,19960312,1952,-63.4925,139.843,3788,3507.1,-0.085,34.68,2,34.68,2,-999,5,232.7,2,111.2,2,31.7,2,-999,9,2.22,2,0.961,2,0.456,2,-999,9,-999,9,-999,9
    09AR9604_1,  SR03,120,1,2,2,2,19960312,1952,-63.4925,139.843,3788,3757.4,-0.191,34.673,2,34.675,2,-999,5,237.6,2,103.4,2,31.4,2,-999,9,2.22,2,1.57,2,0.737,2,-999,9,-999,9,-999,9
    09AR9604_1,  SR03,120,1,1,1,2,19960312,1952,-63.4925,139.843,3788,3826.5,-0.326,34.661,2,34.663,2,-999,5,245.3,2,96.1,2,31.8,2,-999,9,2.2,2,2.191,2,1.037,2,-999,9,-999,9,-999,9
    09AR9604_1,  SR03,121,1,24,24,2,19960313,516,-63.8937,139.8762,3727,11.3,0.966,33.922,2,33.923,2,-999,5,336.4,2,25.4,2,25.3,2,-999,9,1.67,2,6.154,2,2.95,2,-999,9,-999,9,-999,9
    09AR9604_1,  SR03,121,1,23,23,2,19960313,516,-63.8937,139.8762,3727,25.9,0.962,33.925,2,33.922,2,-999,5,336.4,2,26,2,25.6,2,-999,9,1.71,2,-999,9,-999,9,-999,9,-999,9,-999,9
    09AR9604_1,  SR03,121,1,22,22,2,19960313,516,-63.8937,139.8762,3727,51.6,-0.123,34.176,4,34.171,2,-999,5,314.7,2,43.5,2,28.8,2,-999,9,2.08,2,-999,9,-999,9,-999,9,-999,9,-999,9
    09AR9604_1,  SR03,121,1,21,21,2,19960313,516,-63.8937,139.8762,3727,100.4,-0.369,34.455,3,34.455,2,-999,5,258.2,2,65.8,2,32.1,2,-999,9,2.28,2,3.516,2,1.667,2,-999,9,-999,9,-999,9
    09AR9604_1,  SR03,121,1,20,20,2,19960313,516,-63.8937,139.8762,3727,151.1,1.067,34.608,3,34.607,2,-999,5,203.3,2,74.7,2,32.5,2,-999,9,2.32,2,-999,9,-999,9,-999,9,-999,9,-999,9
    09AR9604_1,  SR03,121,1,19,119,2,19960313,516,-63.8937,139.8762,3727,201.4,1.387,34.659,2,34.657,2,-999,5,193.2,2,78.1,2,32.2,2,-999,9,2.3,2,0.896,2,0.417,2,-999,9,-999,9,-999,9
    09AR9604_1,  SR03,121,1,18,118,2,19960313,516,-63.8937,139.8762,3727,302.7,1.518,34.693,2,34.689,2,-999,5,191.3,2,80.4,2,31.7,2,-999,9,2.25,2,0.6,2,0.273,2,-999,9,-999,9,-999,9
    09AR9604_1,  SR03,121,1,17,17,2,19960313,516,-63.8937,139.8762,3727,404,1.555,34.713,3,34.712,2,-999,5,193.4,2,81.4,2,31.6,2,-999,9,2.23,2,-999,9,-999,9,-999,9,-999,9,-999,9
    09AR9604_1,  SR03,121,1,16,216,2,19960313,516,-63.8937,139.8762,3727,503.7,1.446,34.716,2,34.717,2,-999,5,196.1,2,83.8,2,31.1,2,-999,9,2.23,2,0.45,2,0.199,2,-999,9,-999,9,-999,9
    09AR9604_1,  SR03,121,1,15,215,2,19960313,516,-63.8937,139.8762,3727,605.2,1.427,34.727,2,34.726,2,-999,5,197.3,2,86.6,2,30.7,2,-999,9,2.2,2,-999,9,-999,9,-999,9,-999,9,-999,9
    09AR9604_1,  SR03,121,1,14,114,2,19960313,516,-63.8937,139.8762,3727,702.8,1.409,34.733,2,34.733,2,-999,5,197.2,2,88.5,2,30.7,2,-999,9,2.23,2,0.222,2,0.1,2,-999,9,-999,9,-999,9
    09AR9604_1,  SR03,121,1,13,113,2,19960313,516,-63.8937,139.8762,3727,801.8,1.33,34.732,2,34.733,2,-999,5,199.2,2,90.5,2,31,2,-999,9,2.23,2,-999,9,-999,9,-999,9,-999,9,-999,9
    09AR9604_1,  SR03,121,1,12,112,2,19960313,516,-63.8937,139.8762,3727,901.6,1.234,34.728,2,34.729,2,-999,5,201.3,2,91.5,2,30.8,2,-999,9,2.22,2,0.227,2,0.104,2,-999,9,-999,9,-999,9
    09AR9604_1,  SR03,121,1,11,11,2,19960313,516,-63.8937,139.8762,3727,1002.4,1.155,34.725,2,34.726,2,-999,5,202.3,2,93.7,2,31.1,2,-999,9,2.23,2,-999,9,-999,9,-999,9,-999,9,-999,9
    09AR9604_1,  SR03,121,1,10,10,2,19960313,516,-63.8937,139.8762,3727,1202.6,1.018,34.721,2,34.722,2,-999,5,204.1,2,98,2,31.1,2,-999,9,2.23,2,0.171,2,0.076,2,-999,9,-999,9,-999,9
    09AR9604_1,  SR03,121,1,9,9,2,19960313,516,-63.8937,139.8762,3727,1403.9,0.843,34.711,2,34.713,2,-999,5,206.6,2,102.1,2,31.4,2,-999,9,2.3,2,0.214,2,0.097,2,-999,9,-999,9,-999,9
    09AR9604_1,  SR03,121,1,8,8,4,19960313,516,-63.8937,139.8762,3727,1706.2,0.637,34.703,2,-999,9,-999,5,206.2,4,-999,9,-999,9,-999,9,-999,9,-999,9,-999,9,-999,9,-999,9,-999,9
    09AR9604_1,  SR03,121,1,7,7,2,19960313,516,-63.8937,139.8762,3727,2004.4,0.394,34.687,2,34.687,2,-999,5,215.4,2,110,2,31.7,2,-999,9,2.31,2,0.463,6,0.216,6,-999,9,-999,9,-999,9
    09AR9604_1,  SR03,121,1,6,6,2,19960313,516,-63.8937,139.8762,3727,2304.9,0.249,34.686,2,34.682,2,-999,5,218.4,2,112.7,2,32.2,2,-999,9,2.34,2,0.446,2,0.213,2,-999,9,-999,9,-999,9
    09AR9604_1,  SR03,121,1,5,5,2,19960313,516,-63.8937,139.8762,3727,2603.8,0.114,34.682,2,34.681,2,-999,5,223.3,2,114.9,2,31.6,2,-999,9,2.31,2,0.529,2,0.247,2,-999,9,-999,9,-999,9
    09AR9604_1,  SR03,121,1,4,4,2,19960313,516,-63.8937,139.8762,3727,2906,-0.005,34.678,2,34.68,2,-999,5,228.8,2,107.7,2,32.1,2,-999,9,2.28,2,1.075,2,0.51,2,-999,9,-999,9,-999,9
    09AR9604_1,  SR03,121,1,3,3,2,19960313,516,-63.8937,139.8762,3727,3205.6,-0.106,34.678,2,34.678,2,-999,5,233.2,2,105.1,2,31.6,2,-999,9,2.27,2,1.382,2,0.641,2,-999,9,-999,9,-999,9
    09AR9604_1,  SR03,121,1,2,2,2,19960313,516,-63.8937,139.8762,3727,3659.1,-0.313,34.663,2,34.663,2,-999,5,244.3,2,96.6,2,31.6,2,-999,9,2.27,2,2.175,2,1.014,2,-999,9,-999,9,-999,9
    09AR9604_1,  SR03,121,1,1,1,2,19960313,516,-63.8937,139.8762,3727,3748.8,-0.347,34.66,2,34.659,2,-999,5,246.3,2,97.1,2,31.4,2,-999,9,2.24,2,2.311,2,1.085,2,-999,9,-999,9,-999,9
    09AR9604_1,  SR03,122,1,24,24,2,19960313,1258,-64.2972,139.8432,3460,10.5,0.824,33.858,2,33.863,2,-999,5,334.6,2,27.3,2,24.8,2,-999,9,1.68,2,-999,9,-999,9,-999,9,-999,9,-999,9
    09AR9604_1,  SR03,122,1,23,23,2,19960313,1258,-64.2972,139.8432,3460,25,0.818,33.859,2,33.859,2,-999,5,334.4,2,27.1,2,25.2,2,-999,9,1.66,2,-999,9,-999,9,-999,9,-999,9,-999,9
    09AR9604_1,  SR03,122,1,22,22,2,19960313,1258,-64.2972,139.8432,3460,50.9,-0.681,34.187,4,34.14,2,-999,5,325.2,2,43,2,27.6,2,-999,9,2,2,-999,9,-999,9,-999,9,-999,9,-999,9
    09AR9604_1,  SR03,122,1,21,21,2,19960313,1258,-64.2972,139.8432,3460,101,-0.523,34.431,2,34.429,2,-999,5,265.4,2,64.9,2,31.4,2,-999,9,2.23,2,-999,9,-999,9,-999,9,-999,9,-999,9
    09AR9604_1,  SR03,122,1,20,20,2,19960313,1258,-64.2972,139.8432,3460,151,0.643,34.582,2,34.579,2,-999,5,218.7,2,75.6,2,32.4,2,-999,9,2.28,2,-999,9,-999,9,-999,9,-999,9,-999,9
    09AR9604_1,  SR03,122,1,19,119,2,19960313,1258,-64.2972,139.8432,3460,201.1,1.168,34.65,2,34.647,2,-999,5,200.5,2,78.7,2,31.9,2,-999,9,2.24,2,-999,9,-999,9,-999,9,-999,9,-999,9
    09AR9604_1,  SR03,122,1,18,118,2,19960313,1258,-64.2972,139.8432,3460,300.6,1.22,34.68,2,34.687,2,-999,5,201.4,2,81.3,2,31,2,-999,9,2.23,2,-999,9,-999,9,-999,9,-999,9,-999,9
    09AR9604_1,  SR03,122,1,17,17,2,19960313,1258,-64.2972,139.8432,3460,400.1,1.414,34.713,2,34.717,2,-999,5,196.3,2,85,2,30.9,2,-999,9,2.23,2,0.467,2,0.218,2,-999,9,-999,9,-999,9
    09AR9604_1,  SR03,122,1,16,216,2,19960313,1258,-64.2972,139.8432,3460,500.2,1.367,34.722,2,34.723,2,-999,5,198.4,2,88.1,2,30.6,2,-999,9,2.15,2,-999,9,-999,9,-999,9,-999,9,-999,9
    09AR9604_1,  SR03,122,1,15,215,2,19960313,1258,-64.2972,139.8432,3460,601.2,1.304,34.725,2,34.726,2,-999,5,199.6,2,90.7,2,30.6,2,-999,9,2.16,2,-999,9,-999,9,-999,9,-999,9,-999,9
    09AR9604_1,  SR03,122,1,14,114,2,19960313,1258,-64.2972,139.8432,3460,701.6,1.224,34.724,2,34.722,2,-999,5,201.2,2,93.1,2,30.6,2,-999,9,2.18,2,-999,9,-999,9,-999,9,-999,9,-999,9
    09AR9604_1,  SR03,122,1,13,113,2,19960313,1258,-64.2972,139.8432,3460,801,1.17,34.722,2,34.719,2,-999,5,202.2,2,93.6,2,31.2,2,-999,9,2.17,2,0.276,2,0.133,2,-999,9,-999,9,-999,9
    09AR9604_1,  SR03,122,1,12,112,2,19960313,1258,-64.2972,139.8432,3460,1001.8,0.998,34.716,2,34.722,2,-999,5,204.5,2,96.8,2,31.5,2,-999,9,2.18,2,0.246,2,0.119,2,-999,9,-999,9,-999,9
    09AR9604_1,  SR03,122,1,11,11,2,19960313,1258,-64.2972,139.8432,3460,1202.8,0.84,34.71,2,34.713,2,-999,5,206.3,2,101.1,2,31.3,2,-999,9,2.22,2,0.225,2,0.11,2,-999,9,-999,9,-999,9
    09AR9604_1,  SR03,122,1,10,10,2,19960313,1258,-64.2972,139.8432,3460,1402.4,0.646,34.698,2,34.7,2,-999,5,209.2,2,104,2,31.2,2,-999,9,2.24,2,-999,9,-999,9,-999,9,-999,9,-999,9
    09AR9604_1,  SR03,122,1,9,9,2,19960313,1258,-64.2972,139.8432,3460,1602.9,0.505,34.692,2,34.693,2,-999,5,211.8,2,107.6,2,31.2,2,-999,9,2.25,2,-999,9,-999,9,-999,9,-999,9,-999,9
    09AR9604_1,  SR03,122,1,8,8,2,19960313,1258,-64.2972,139.8432,3460,1803.2,0.383,34.687,2,34.687,2,-999,5,214,2,109.9,2,32.2,2,-999,9,2.25,2,0.328,2,0.157,2,-999,9,-999,9,-999,9
    09AR9604_1,  SR03,122,1,7,7,2,19960313,1258,-64.2972,139.8432,3460,2004.1,0.259,34.684,2,34.681,2,-999,5,217.8,2,111.8,2,31.5,2,-999,9,2.25,2,0.37,2,0.181,2,-999,9,-999,9,-999,9
    09AR9604_1,  SR03,122,1,6,6,2,19960313,1258,-64.2972,139.8432,3460,2205.6,0.182,34.683,2,34.687,2,-999,5,220.2,2,114,2,31.8,2,-999,9,2.23,2,0.433,2,0.208,2,-999,9,-999,9,-999,9
    09AR9604_1,  SR03,122,1,5,5,2,19960313,1258,-64.2972,139.8432,3460,2505.5,0.033,34.68,2,34.681,2,-999,5,226.9,2,108.3,2,31.7,2,-999,9,2.24,2,0.855,2,0.402,2,-999,9,-999,9,-999,9
    09AR9604_1,  SR03,122,1,4,4,2,19960313,1258,-64.2972,139.8432,3460,2804.7,-0.129,34.671,2,34.672,2,-999,5,233.6,2,102.1,2,31.3,2,-999,9,2.24,2,1.385,2,0.66,2,-999,9,-999,9,-999,9
    09AR9604_1,  SR03,122,1,3,3,2,19960313,1258,-64.2972,139.8432,3460,3105.4,-0.227,34.667,2,-999,9,-999,5,238.7,2,97.7,2,31.7,2,-999,9,2.23,2,1.817,2,0.86,2,-999,9,-999,9,-999,9
    09AR9604_1,  SR03,122,1,2,2,2,19960313,1258,-64.2972,139.8432,3460,3407.4,-0.372,34.657,2,-999,9,-999,5,246.2,2,95.1,2,31.6,2,-999,9,2.21,2,2.288,2,1.071,2,-999,9,-999,9,-999,9
    09AR9604_1,  SR03,122,1,1,1,2,19960313,1258,-64.2972,139.8432,3460,3456.3,-0.369,34.657,2,34.657,2,-999,5,246.3,2,95.5,2,31.1,2,-999,9,2.17,2,2.302,2,1.069,2,-999,9,-999,9,-999,9
    09AR9604_1,  SR03,123,1,24,24,2,19960313,2026,-64.7033,139.8667,2918,9.5,0.545,33.854,2,33.858,2,-999,5,337.9,2,24.7,2,24.4,2,-999,9,1.52,2,6.135,2,2.979,2,-999,9,-999,9,-999,9
    09AR9604_1,  SR03,123,1,23,23,2,19960313,2026,-64.7033,139.8667,2918,30.3,0.499,33.865,3,33.866,2,-999,5,338.4,2,25.1,2,24.4,2,-999,9,1.52,2,6.157,2,2.978,2,-999,9,-999,9,-999,9
    09AR9604_1,  SR03,123,1,22,22,2,19960313,2026,-64.7033,139.8667,2918,60.9,-1.103,34.268,2,34.268,2,-999,5,311.7,2,54.8,2,29.8,2,-999,9,2.12,2,4.94,2,2.447,2,-999,9,-999,9,-999,9
    09AR9604_1,  SR03,123,1,21,21,2,19960313,2026,-64.7033,139.8667,2918,101.5,-0.799,34.398,3,34.398,2,-999,5,275.7,2,62.9,2,32.3,2,-999,9,2.22,2,4.112,2,1.985,2,-999,9,-999,9,-999,9
    09AR9604_1,  SR03,123,1,20,20,2,19960313,2026,-64.7033,139.8667,2918,151.9,0.024,34.516,2,34.514,2,-999,5,239.8,2,69.8,2,32.4,2,-999,9,2.26,2,2.76,2,1.322,2,-999,9,-999,9,-999,9
    09AR9604_1,  SR03,123,1,19,119,2,19960313,2026,-64.7033,139.8667,2918,220.7,0.913,34.633,2,34.63,2,-999,5,208.9,2,75.3,2,32.5,2,-999,9,2.25,2,1.375,2,0.654,2,-999,9,-999,9,-999,9
    09AR9604_1,  SR03,123,1,18,118,2,19960313,2026,-64.7033,139.8667,2918,301,1.147,34.676,3,34.675,2,-999,5,203.9,2,80,2,32.1,2,-999,9,2.22,2,0.918,2,0.434,2,-999,9,-999,9,-999,9
    09AR9604_1,  SR03,123,1,17,17,2,19960313,2026,-64.7033,139.8667,2918,402,1.223,34.703,3,34.702,2,-999,5,203.1,2,81.8,2,32.2,2,-999,9,2.18,2,0.615,2,0.298,2,-999,9,-999,9,-999,9
    09AR9604_1,  SR03,123,1,16,216,2,19960313,2026,-64.7033,139.8667,2918,501.9,1.145,34.705,2,34.705,2,-999,5,204,2,86.3,2,31.8,2,-999,9,2.17,2,0.532,2,0.248,2,-999,9,-999,9,-999,9
    09AR9604_1,  SR03,123,1,15,215,2,19960313,2026,-64.7033,139.8667,2918,602.1,1.186,34.719,2,34.718,2,-999,5,202.2,2,86.2,2,31.8,2,-999,9,2.17,2,0.292,2,0.138,2,-999,9,-999,9,-999,9
    09AR9604_1,  SR03,123,1,14,114,2,19960313,2026,-64.7033,139.8667,2918,703.7,1.095,34.717,2,34.716,2,-999,5,203.4,2,93.2,2,32.4,2,-999,9,2.2,2,0.245,2,0.116,2,-999,9,-999,9,-999,9
    09AR9604_1,  SR03,123,1,12,112,2,19960313,2026,-64.7033,139.8667,2918,1001.5,0.774,34.7,2,34.7,2,-999,5,207.4,2,100.4,2,31.6,2,-999,9,2.23,2,0.309,2,0.15,2,-999,9,-999,9,-999,9
    09AR9604_1,  SR03,123,1,11,11,2,19960313,2026,-64.7033,139.8667,2918,1103.9,0.686,34.697,2,34.698,2,-999,5,208.5,2,104.3,2,31.7,2,-999,9,2.24,2,0.29,2,0.137,2,-999,9,-999,9,-999,9
    09AR9604_1,  SR03,123,1,10,10,2,19960313,2026,-64.7033,139.8667,2918,1204.6,0.586,34.692,2,34.692,2,-999,5,209.9,2,107.7,2,31.8,2,-999,9,2.24,2,0.313,2,0.146,2,-999,9,-999,9,-999,9
    09AR9604_1,  SR03,123,1,9,9,2,19960313,2026,-64.7033,139.8667,2918,1402.6,0.441,34.687,2,34.686,2,-999,5,212.3,2,111.2,2,32.1,2,-999,9,2.24,2,0.276,2,0.132,2,-999,9,-999,9,-999,9
    09AR9604_1,  SR03,123,1,8,8,2,19960313,2026,-64.7033,139.8667,2918,1601.3,0.141,34.665,2,34.663,2,-999,5,221.5,2,102.3,2,32.4,2,-999,9,2.24,2,1.005,2,0.476,2,-999,9,-999,9,-999,9
    09AR9604_1,  SR03,123,1,7,7,2,19960313,2026,-64.7033,139.8667,2918,1802.4,0.108,34.673,2,34.669,2,-999,5,222.4,2,106.6,2,32.4,2,-999,9,2.26,2,0.836,2,0.394,2,-999,9,-999,9,-999,9
    09AR9604_1,  SR03,123,1,6,6,2,19960313,2026,-64.7033,139.8667,2918,2003.7,0.065,34.676,2,34.676,2,-999,5,223.5,2,113.9,2,32.1,2,-999,9,2.27,2,0.512,2,0.249,2,-999,9,-999,9,-999,9
    09AR9604_1,  SR03,123,1,5,5,2,19960313,2026,-64.7033,139.8667,2918,2204,-0.031,34.671,2,34.674,2,-999,5,227.4,2,109.7,2,32.4,2,-999,9,2.26,2,0.856,2,0.407,2,-999,9,-999,9,-999,9
    09AR9604_1,  SR03,123,1,4,4,2,19960313,2026,-64.7033,139.8667,2918,2405.5,-0.123,34.67,2,34.671,2,-999,5,231.7,2,102.7,2,32,2,-999,9,2.25,2,1.331,2,0.645,2,-999,9,-999,9,-999,9
    09AR9604_1,  SR03,123,1,3,3,2,19960313,2026,-64.7033,139.8667,2918,2606.5,-0.157,34.674,2,34.675,2,-999,5,233.1,2,104.2,2,32.3,2,-999,9,2.23,2,1.413,2,0.703,2,-999,9,-999,9,-999,9
    09AR9604_1,  SR03,123,1,2,2,2,19960313,2026,-64.7033,139.8667,2918,2807.2,-0.219,34.676,2,34.675,2,-999,5,236.4,2,102.4,2,31.6,2,-999,9,2.25,2,1.799,2,0.843,2,-999,9,-999,9,-999,9
    09AR9604_1,  SR03,123,1,1,1,2,19960313,2026,-64.7033,139.8667,2918,2910,-0.222,34.675,2,34.675,2,-999,5,236.6,2,101.4,2,31.8,2,-999,9,2.23,2,1.79,2,0.858,2,-999,9,-999,9,-999,9