BOTTLE,2021011SIOJHS,,,,,,,,,,,,,,,,,,,,,,,,,,,,,,,,,,,,,,
EXPOCODE,SECT_ID,STNNBR,CASTNO,SAMPNO,BTLNBR,BTLNBR_FLAG_W,DATE,TIME,LATITUDE,LONGITUDE,DEPTH,CTDPRS,CTDTMP,CTDSAL,CTDSAL_FLAG_W,SALNTY,SALNTY_FLAG_W,CTDOXY,CTDOXY_FLAG_W,OXYGEN,OXYGEN_FLAG_W,SILCAT,SILCAT_FLAG_W,NITRAT,NITRAT_FLAG_W,NITRIT,NITRIT_FLAG_W,PHSPHT,PHSPHT_FLAG_W,CFC-11,CFC-11_FLAG_W,CFC-12,CFC-12_FLAG_W,SF6,SF6_FLAG_W,TCARBN,TCARBN_FLAG_W,ALKALI,ALKALI_FLAG_W
,,,,,,,,,,,,DBAR,DEG C,PSS-78,,PSS-78,,UMOL/KG,,UMOL/KG,,UMOL/KG,,UMOL/KG,,UMOL/KG,,UMOL/KG,,PMOL/KG,,PMOL/KG,,NMOL/KG,,UMOL/KG,,UMOL/KG,
    09AR9604_1,   UNK,61,1,24,24,2,19960215,1846,-63.0048,104.445,3901,11.5,1.276,33.834,2,33.836,2,343.1,2,343.2,2,30.1,2,24.1,2,-999,9,1.51,2,6.869,2,3.126,2,-999,9,-999,9,-999,9
    09AR9604_1,   UNK,61,1,23,23,2,19960215,1846,-63.0048,104.445,3901,49.5,-0.313,34.055,4,34.054,2,333.3,2,327.1,2,43.7,2,27.1,2,-999,9,2.01,2,6.372,2,2.916,2,-999,9,-999,9,-999,9
    09AR9604_1,   UNK,61,1,22,22,2,19960215,1846,-63.0048,104.445,3901,99.9,-0.103,34.366,4,34.36,2,253.9,2,253.3,2,57.9,2,32.1,2,-999,9,2.26,2,3.552,2,1.67,2,-999,9,-999,9,-999,9
    09AR9604_1,   UNK,61,1,21,21,2,19960215,1846,-63.0048,104.445,3901,151.1,1.175,34.579,2,34.578,2,193.1,2,199.6,2,67.5,2,32.5,2,-999,9,2.26,2,1.464,2,0.658,2,-999,9,-999,9,-999,9
    09AR9604_1,   UNK,61,1,20,20,2,19960215,1846,-63.0048,104.445,3901,199.5,1.373,34.626,2,34.625,2,198.4,2,193.8,2,70.2,2,32.8,2,-999,9,2.25,2,1.071,2,0.486,2,-999,9,-999,9,-999,9
    09AR9604_1,   UNK,61,1,19,119,2,19960215,1846,-63.0048,104.445,3901,299.2,1.578,34.687,2,34.684,2,194.7,2,191.1,2,70.7,2,31.5,2,-999,9,2.16,2,0.612,2,0.28,2,-999,9,-999,9,-999,9
    09AR9604_1,   UNK,61,1,18,118,2,19960215,1846,-63.0048,104.445,3901,399.8,1.555,34.707,2,34.707,2,195.3,2,193.7,2,71.2,2,31.1,2,-999,9,2.17,2,0.506,2,0.235,2,-999,9,-999,9,-999,9
    09AR9604_1,   UNK,61,1,17,17,2,19960215,1846,-63.0048,104.445,3901,500,1.547,34.724,2,34.723,2,195.9,2,196.1,2,73.4,2,30.6,2,-999,9,2.14,2,0.368,2,0.173,2,-999,9,-999,9,-999,9
    09AR9604_1,   UNK,61,1,16,216,2,19960215,1846,-63.0048,104.445,3901,602.3,1.457,34.726,2,34.727,2,196.3,2,198.1,2,75.8,2,30.5,2,-999,9,2.14,2,0.328,2,0.152,2,-999,9,-999,9,-999,9
    09AR9604_1,   UNK,61,1,15,215,2,19960215,1846,-63.0048,104.445,3901,703.1,1.381,34.73,2,34.731,2,197.6,2,199.6,2,80.9,2,30.6,2,-999,9,2.13,2,0.278,2,0.128,2,-999,9,-999,9,-999,9
    09AR9604_1,   UNK,61,1,14,114,2,19960215,1846,-63.0048,104.445,3901,802.8,1.317,34.733,2,34.732,2,198.9,2,200.4,2,86.4,2,30.5,2,-999,9,2.14,2,0.209,2,0.098,2,-999,9,-999,9,-999,9
    09AR9604_1,   UNK,61,1,13,113,2,19960215,1846,-63.0048,104.445,3901,902.3,1.234,34.732,2,34.731,2,201.3,2,201.8,2,87.1,2,30.4,2,-999,9,2.13,2,0.18,2,0.085,2,-999,9,-999,9,-999,9
    09AR9604_1,   UNK,61,1,12,112,2,19960215,1846,-63.0048,104.445,3901,997.4,1.17,34.731,2,34.732,2,202.6,2,202.5,2,90.8,2,30.4,2,-999,9,2.15,2,0.142,2,0.066,2,-999,9,-999,9,-999,9
    09AR9604_1,   UNK,61,1,11,11,2,19960215,1846,-63.0048,104.445,3901,1200.1,0.986,34.722,2,34.722,2,204.8,2,204.7,2,96,2,30.8,2,-999,9,2.17,2,0.14,2,0.064,2,-999,9,-999,9,-999,9
    09AR9604_1,   UNK,61,1,10,10,2,19960215,1846,-63.0048,104.445,3901,1402.9,0.808,34.712,2,34.712,2,210,2,206.6,2,104.1,2,31.1,2,-999,9,2.17,2,0.155,2,0.073,2,-999,9,-999,9,-999,9
    09AR9604_1,   UNK,61,1,9,9,2,19960215,1846,-63.0048,104.445,3901,1703.7,0.542,34.699,2,34.697,2,211,2,211,2,107.9,2,31.9,2,-999,9,2.2,2,0.21,2,0.097,2,-999,9,-999,9,-999,9
    09AR9604_1,   UNK,61,1,8,8,2,19960215,1846,-63.0048,104.445,3901,2004,0.358,34.691,2,34.69,2,214.6,2,215.1,2,111.2,2,31.8,2,-999,9,2.23,2,0.249,2,0.117,2,-999,9,-999,9,-999,9
    09AR9604_1,   UNK,61,1,7,7,2,19960215,1846,-63.0048,104.445,3901,2305.1,0.194,34.686,2,34.685,2,220.4,2,220.3,2,114.8,2,32,2,-999,9,2.23,2,0.294,2,0.143,2,-999,9,-999,9,-999,9
    09AR9604_1,   UNK,61,1,6,6,2,19960215,1846,-63.0048,104.445,3901,2607.4,0.072,34.682,2,34.682,2,224.8,2,224.7,2,117.6,2,31.7,2,-999,9,2.24,2,0.414,2,0.197,2,-999,9,-999,9,-999,9
    09AR9604_1,   UNK,61,1,5,5,2,19960215,1846,-63.0048,104.445,3901,2903.7,-0.026,34.678,2,34.679,2,229,2,228.9,2,116.2,2,31.9,2,-999,9,2.25,2,0.575,2,0.268,2,-999,9,-999,9,-999,9
    09AR9604_1,   UNK,61,1,4,4,2,19960215,1846,-63.0048,104.445,3901,3204.4,-0.094,34.675,2,34.676,2,231.1,2,232.3,2,111.9,2,31.5,2,-999,9,2.25,2,0.804,2,0.366,2,-999,9,-999,9,-999,9
    09AR9604_1,   UNK,61,1,3,3,2,19960215,1846,-63.0048,104.445,3901,3507.7,-0.151,34.672,2,34.673,2,234,2,235.8,2,110.3,2,31.9,2,-999,9,2.23,2,1.097,2,0.5,2,-999,9,-999,9,-999,9
    09AR9604_1,   UNK,61,1,2,2,2,19960215,1846,-63.0048,104.445,3901,3815.7,-0.231,34.667,2,34.669,2,238.7,2,239.8,2,109,2,31.5,2,-999,9,2.25,2,1.694,2,0.756,2,-999,9,-999,9,-999,9
    09AR9604_1,   UNK,61,1,1,1,2,19960215,1846,-63.0048,104.445,3901,3926.6,-0.233,34.666,2,34.669,2,239.8,6,239.9,2,110.3,2,32,2,-999,9,2.23,2,1.647,2,0.753,2,-999,9,-999,9,-999,9
    09AR9604_1,   UNK,62,1,24,24,2,19960216,318,-63.1097,106.1947,3727,12.8,-0.05,33.145,3,33.145,2,363.5,2,365.1,2,35.3,2,22.7,2,-999,9,1.36,2,7.298,2,3.29,2,-999,9,-999,9,-999,9
    09AR9604_1,   UNK,62,1,23,23,2,19960216,318,-63.1097,106.1947,3727,52.7,-0.768,34.201,4,34.204,2,288.8,2,293.9,2,57,2,29.6,2,-999,9,2.08,2,-999,9,-999,9,-999,9,-999,9,-999,9
    09AR9604_1,   UNK,62,1,22,22,2,19960216,318,-63.1097,106.1947,3727,103.4,0.979,34.539,3,34.539,2,211.8,2,208.6,2,73.6,2,32.6,2,-999,9,2.28,2,-999,9,-999,9,-999,9,-999,9,-999,9
    09AR9604_1,   UNK,62,1,21,21,2,19960216,318,-63.1097,106.1947,3727,153.2,1.247,34.608,2,34.611,2,211.1,2,197.7,2,75.7,2,32.8,2,-999,9,2.26,2,-999,9,-999,9,-999,9,-999,9,-999,9
    09AR9604_1,   UNK,62,1,20,20,2,19960216,318,-63.1097,106.1947,3727,203.8,1.435,34.657,2,34.659,2,204,2,194.4,2,79,2,32,2,-999,9,2.24,2,0.886,2,0.405,2,-999,9,-999,9,-999,9
    09AR9604_1,   UNK,62,1,19,119,2,19960216,318,-63.1097,106.1947,3727,303.1,1.537,34.698,2,34.698,2,198.4,2,193.5,2,80.6,2,32,2,-999,9,2.21,2,-999,9,-999,9,-999,9,-999,9,-999,9
    09AR9604_1,   UNK,62,1,18,118,2,19960216,318,-63.1097,106.1947,3727,405.2,1.433,34.709,2,34.71,2,194.6,2,197.1,2,84.2,2,31.3,2,-999,9,2.17,2,0.516,2,0.237,2,-999,9,-999,9,-999,9
    09AR9604_1,   UNK,62,1,17,117,2,19960216,318,-63.1097,106.1947,3727,503.3,1.467,34.729,2,34.729,2,196.1,2,197.7,2,87.4,2,31.1,2,-999,9,2.13,2,-999,9,-999,9,-999,9,-999,9,-999,9
    09AR9604_1,   UNK,62,1,16,216,2,19960216,318,-63.1097,106.1947,3727,606,1.394,34.732,2,34.733,2,196,2,-999,9,90.6,2,30.6,2,-999,9,2.15,2,0.249,2,0.114,2,-999,9,-999,9,-999,9
    09AR9604_1,   UNK,62,1,15,215,2,19960216,318,-63.1097,106.1947,3727,705.6,1.309,34.731,2,34.732,2,195.5,2,200.6,2,91.6,2,30.6,2,-999,9,2.14,2,-999,9,-999,9,-999,9,-999,9,-999,9
    09AR9604_1,   UNK,62,1,14,114,2,19960216,318,-63.1097,106.1947,3727,803.3,1.234,34.731,2,34.731,2,198,2,201.5,2,95.9,2,30.8,2,-999,9,2.15,2,0.18,2,0.086,2,-999,9,-999,9,-999,9
    09AR9604_1,   UNK,62,1,13,113,2,19960216,318,-63.1097,106.1947,3727,903,1.114,34.725,2,34.724,2,200,2,202.9,2,99.2,2,31.3,2,-999,9,2.18,2,-999,9,-999,9,-999,9,-999,9,-999,9
    09AR9604_1,   UNK,62,1,12,112,2,19960216,318,-63.1097,106.1947,3727,1003.9,1.008,34.72,2,34.72,2,202.6,2,204.3,2,101.9,2,31,2,-999,9,2.17,2,0.2,2,0.094,2,-999,9,-999,9,-999,9
    09AR9604_1,   UNK,62,1,11,11,2,19960216,318,-63.1097,106.1947,3727,1204.5,0.846,34.715,2,34.713,2,205.9,2,206,2,106.9,2,31.8,2,-999,9,2.22,2,-999,9,-999,9,-999,9,-999,9,-999,9
    09AR9604_1,   UNK,62,1,10,10,2,19960216,318,-63.1097,106.1947,3727,1405,0.686,34.705,2,34.705,2,209.7,2,207.9,2,112.2,2,32.1,2,-999,9,2.21,2,0.138,2,0.064,2,-999,9,-999,9,-999,9
    09AR9604_1,   UNK,62,1,9,9,2,19960216,318,-63.1097,106.1947,3727,1605.7,0.541,34.699,2,34.696,2,213.8,2,210.1,2,115.5,2,32.2,2,-999,9,2.23,2,-999,9,-999,9,-999,9,-999,9,-999,9
    09AR9604_1,   UNK,62,1,8,8,2,19960216,318,-63.1097,106.1947,3727,1806,0.395,34.691,2,34.688,2,218.1,2,213.8,2,116.9,2,32.5,2,-999,9,2.24,2,0.217,2,0.103,2,-999,9,-999,9,-999,9
    09AR9604_1,   UNK,62,1,7,7,2,19960216,318,-63.1097,106.1947,3727,2108.1,0.208,34.684,2,34.682,2,222.9,2,219.8,2,119.2,2,32.5,2,-999,9,2.17,3,0.357,2,0.167,2,-999,9,-999,9,-999,9
    09AR9604_1,   UNK,62,1,6,6,2,19960216,318,-63.1097,106.1947,3727,2407.5,0.089,34.681,2,34.68,2,225.6,2,223.7,2,123.5,2,32.1,2,-999,9,2.24,2,0.352,6,0.169,6,-999,9,-999,9,-999,9
    09AR9604_1,   UNK,62,1,5,5,2,19960216,318,-63.1097,106.1947,3727,2709.3,-0.008,34.677,2,34.677,2,228,2,227.8,2,123,2,32,2,-999,9,2.24,2,-999,9,-999,9,-999,9,-999,9,-999,9
    09AR9604_1,   UNK,62,1,4,4,2,19960216,318,-63.1097,106.1947,3727,3008.1,-0.098,34.675,2,34.674,2,231.2,2,231.7,2,120.5,2,31.8,2,-999,9,2.24,2,0.747,2,0.345,2,-999,9,-999,9,-999,9
    09AR9604_1,   UNK,62,1,3,3,2,19960216,318,-63.1097,106.1947,3727,3307.3,-0.162,34.67,2,34.671,2,234.6,2,235.4,2,119.6,2,32.3,2,-999,9,2.24,2,-999,9,-999,9,-999,9,-999,9,-999,9
    09AR9604_1,   UNK,62,1,2,2,2,19960216,318,-63.1097,106.1947,3727,3609.4,-0.208,34.667,2,34.667,2,237.7,2,238.3,2,118.5,2,31.8,2,-999,9,2.22,2,1.435,2,0.645,2,-999,9,-999,9,-999,9
    09AR9604_1,   UNK,62,1,1,1,2,19960216,318,-63.1097,106.1947,3727,3726.6,-0.248,34.664,2,34.668,2,239.5,2,238,2,119.2,2,32.2,2,-999,9,2.22,2,1.416,2,0.647,2,-999,9,-999,9,-999,9
    09AR9604_1,   UNK,63,1,24,24,2,19960216,1031,-63.2317,107.9397,3327,11.5,0.289,32.992,2,32.995,2,351.5,3,351.4,2,41.9,2,25.1,2,-999,9,1.63,2,7.236,2,3.275,2,-999,9,-999,9,-999,9
    09AR9604_1,   UNK,63,1,23,23,2,19960216,1031,-63.2317,107.9397,3327,31,-0.796,33.724,4,33.718,2,350.3,2,354.6,2,44.1,2,26.2,2,-999,9,1.76,2,-999,9,-999,9,-999,9,-999,9,-999,9
    09AR9604_1,   UNK,63,1,22,22,2,19960216,1031,-63.2317,107.9397,3327,50.9,-1.138,34.216,4,34.215,2,305.6,2,309.6,2,58.1,2,29.5,2,-999,9,2.05,2,-999,9,-999,9,-999,9,-999,9,-999,9
    09AR9604_1,   UNK,63,1,21,21,2,19960216,1031,-63.2317,107.9397,3327,76.9,-1.129,34.35,3,34.349,2,294.3,2,287.7,2,65,2,30.6,2,-999,9,2.13,2,-999,9,-999,9,-999,9,-999,9,-999,9
    09AR9604_1,   UNK,63,1,20,20,2,19960216,1031,-63.2317,107.9397,3327,101.4,-0.772,34.421,4,34.418,2,272.6,2,270.3,2,68.3,2,31.1,2,-999,9,2.16,2,3.885,2,1.811,2,-999,9,-999,9,-999,9
    09AR9604_1,   UNK,63,1,19,119,2,19960216,1031,-63.2317,107.9397,3327,150.8,0.525,34.576,3,34.575,2,217.3,2,224.2,2,78.5,2,31.6,2,-999,9,2.22,2,-999,9,-999,9,-999,9,-999,9,-999,9
    09AR9604_1,   UNK,63,1,18,118,2,19960216,1031,-63.2317,107.9397,3327,202.1,1.168,34.662,3,34.662,2,203.4,2,203.2,2,83.8,2,31.3,2,-999,9,2.2,2,1.017,2,0.459,2,-999,9,-999,9,-999,9
    09AR9604_1,   UNK,63,1,17,117,2,19960216,1031,-63.2317,107.9397,3327,304.2,1.309,34.704,2,34.702,2,197.7,2,200.7,2,88.2,2,31.4,2,-999,9,2.16,2,0.596,2,0.27,2,-999,9,-999,9,-999,9
    09AR9604_1,   UNK,63,1,16,216,2,19960216,1031,-63.2317,107.9397,3327,401.4,1.307,34.718,2,34.718,2,198.1,2,200.2,2,92,2,30.8,2,-999,9,2.15,2,0.401,2,0.185,2,-999,9,-999,9,-999,9
    09AR9604_1,   UNK,63,1,15,215,2,19960216,1031,-63.2317,107.9397,3327,601.3,1.159,34.723,2,34.721,2,200.6,2,200.6,2,99.3,2,30.9,2,-999,9,2.17,2,0.245,2,0.113,2,-999,9,-999,9,-999,9
    09AR9604_1,   UNK,63,1,14,114,2,19960216,1031,-63.2317,107.9397,3327,701.7,1.079,34.72,2,34.72,2,202.2,2,206.7,4,101.3,2,31.1,2,-999,9,2.2,2,-999,9,-999,9,-999,9,-999,9,-999,9
    09AR9604_1,   UNK,63,1,13,113,2,19960216,1031,-63.2317,107.9397,3327,902.4,0.906,34.713,2,34.713,2,204.2,2,204.7,2,107.7,2,31.7,2,-999,9,2.19,2,0.177,2,0.081,2,-999,9,-999,9,-999,9
    09AR9604_1,   UNK,63,1,12,112,2,19960216,1031,-63.2317,107.9397,3327,1104,0.736,34.704,2,34.704,2,207.9,2,207.1,2,111.9,2,31.7,2,-999,9,2.19,2,0.194,2,0.088,2,-999,9,-999,9,-999,9
    09AR9604_1,   UNK,63,1,11,11,2,19960216,1031,-63.2317,107.9397,3327,1302.8,0.573,34.695,2,34.696,2,211.3,2,209.9,2,116.2,2,31.6,2,-999,9,2.23,2,-999,9,-999,9,-999,9,-999,9,-999,9
    09AR9604_1,   UNK,63,1,10,10,2,19960216,1031,-63.2317,107.9397,3327,1504.7,0.411,34.687,2,34.687,2,215.1,2,213.7,2,116.9,2,32.1,2,-999,9,2.23,2,0.296,2,0.14,2,-999,9,-999,9,-999,9
    09AR9604_1,   UNK,63,1,9,9,2,19960216,1031,-63.2317,107.9397,3327,1702.7,0.279,34.682,2,34.683,2,218.2,2,217.2,2,121.2,2,31.8,2,-999,9,2.26,2,-999,9,-999,9,-999,9,-999,9,-999,9
    09AR9604_1,   UNK,63,1,8,8,2,19960216,1031,-63.2317,107.9397,3327,1903.1,0.177,34.681,2,34.68,2,221.2,2,220.4,2,121.6,2,31.8,2,-999,9,2.24,2,0.402,2,0.192,2,-999,9,-999,9,-999,9
    09AR9604_1,   UNK,63,1,7,7,2,19960216,1031,-63.2317,107.9397,3327,2104.1,0.089,34.678,2,34.677,2,223.7,2,223.7,2,120.5,2,32,2,-999,9,2.26,2,-999,9,-999,9,-999,9,-999,9,-999,9
    09AR9604_1,   UNK,63,1,6,6,2,19960216,1031,-63.2317,107.9397,3327,2304.5,0.013,34.676,2,34.675,2,225.9,2,226.4,2,121.7,2,32.1,2,-999,9,2.25,2,-999,9,-999,9,-999,9,-999,9,-999,9
    09AR9604_1,   UNK,63,1,5,5,2,19960216,1031,-63.2317,107.9397,3327,2503.6,-0.063,34.674,2,34.675,2,228.9,2,229.6,2,121.8,2,31.7,2,-999,9,2.24,2,0.74,2,0.343,2,-999,9,-999,9,-999,9
    09AR9604_1,   UNK,63,1,4,4,2,19960216,1031,-63.2317,107.9397,3327,2805.6,-0.16,34.669,2,34.669,2,233.5,2,234.6,2,117.4,2,31.9,2,-999,9,2.24,2,-999,9,-999,9,-999,9,-999,9,-999,9
    09AR9604_1,   UNK,63,1,3,3,2,19960216,1031,-63.2317,107.9397,3327,3105.7,-0.216,34.668,2,34.667,2,236.6,2,237.9,2,113,2,31.6,2,-999,9,2.24,2,1.499,2,0.669,2,-999,9,-999,9,-999,9
    09AR9604_1,   UNK,63,1,2,2,2,19960216,1031,-63.2317,107.9397,3327,3287.2,-0.259,34.664,2,34.666,2,238.4,2,239.2,2,115.5,2,32.1,2,-999,9,2.24,2,1.684,2,0.757,2,-999,9,-999,9,-999,9
    09AR9604_1,   UNK,63,1,1,1,2,19960216,1031,-63.2317,107.9397,3327,3359.6,-0.275,34.663,2,34.664,2,239.2,2,239.8,2,120,2,31.5,2,-999,9,2.25,2,1.754,2,0.786,2,-999,9,-999,9,-999,9
    09AR9604_1,   UNK,64,1,24,24,2,19960216,1822,-63.342,109.6818,3716,10.4,1.109,33.365,2,33.374,2,343.9,2,345.1,2,37.5,2,26,2,-999,9,1.68,2,7.076,2,3.179,2,-999,9,-999,9,-999,9
    09AR9604_1,   UNK,64,1,23,23,2,19960216,1822,-63.342,109.6818,3716,52.2,-0.519,34.234,3,34.232,2,308.8,2,309.7,2,49,2,28.8,2,-999,9,2.03,2,4.843,2,2.262,2,-999,9,-999,9,-999,9
    09AR9604_1,   UNK,64,1,22,22,2,19960216,1822,-63.342,109.6818,3716,101,0.747,34.574,4,34.57,2,209.1,2,215.2,2,71.3,2,32.6,2,-999,9,2.28,2,1.83,2,0.838,2,-999,9,-999,9,-999,9
    09AR9604_1,   UNK,64,1,21,21,2,19960216,1822,-63.342,109.6818,3716,151.8,1.196,34.638,3,34.639,2,202.1,2,200.5,2,74.3,2,32.2,2,-999,9,2.25,2,1.131,2,0.513,2,-999,9,-999,9,-999,9
    09AR9604_1,   UNK,64,1,20,20,2,19960216,1822,-63.342,109.6818,3716,201.4,1.313,34.662,2,34.664,2,197.6,2,197.6,2,71.8,2,31.9,2,-999,9,2.24,2,0.869,2,0.414,2,-999,9,-999,9,-999,9
    09AR9604_1,   UNK,64,1,19,119,2,19960216,1822,-63.342,109.6818,3716,300.2,1.418,34.693,2,34.694,2,198.8,2,196.3,2,77.1,2,31.4,2,-999,9,2.23,2,0.579,2,0.264,2,-999,9,-999,9,-999,9
    09AR9604_1,   UNK,64,1,18,118,2,19960216,1822,-63.342,109.6818,3716,400.5,1.413,34.707,2,34.71,2,196.7,2,197.2,2,79.3,2,31.8,2,-999,9,2.19,2,0.424,2,0.198,2,-999,9,-999,9,-999,9
    09AR9604_1,   UNK,64,1,17,117,2,19960216,1822,-63.342,109.6818,3716,501.7,1.388,34.717,2,34.719,2,196.1,2,197.9,2,85.4,2,31.1,2,-999,9,2.19,2,0.301,2,0.143,2,-999,9,-999,9,-999,9
    09AR9604_1,   UNK,64,1,16,216,2,19960216,1822,-63.342,109.6818,3716,602.7,1.324,34.72,2,34.72,2,199.2,2,199.2,2,91.1,2,31,2,-999,9,2.18,2,0.249,2,0.115,2,-999,9,-999,9,-999,9
    09AR9604_1,   UNK,64,1,15,215,2,19960216,1822,-63.342,109.6818,3716,705.2,1.26,34.721,2,34.721,2,199.4,2,200,2,90.1,2,31,2,-999,9,2.19,2,0.208,2,0.097,2,-999,9,-999,9,-999,9
    09AR9604_1,   UNK,64,1,14,114,2,19960216,1822,-63.342,109.6818,3716,802.3,1.18,34.72,2,34.719,2,201,2,201.3,2,89.1,2,31,2,-999,9,2.18,2,0.177,2,0.081,2,-999,9,-999,9,-999,9
    09AR9604_1,   UNK,64,1,13,113,2,19960216,1822,-63.342,109.6818,3716,902.1,1.103,34.718,2,-999,9,201.7,2,202.4,2,92.3,2,31.2,2,-999,9,2.21,2,0.159,6,0.07,6,-999,9,-999,9,-999,9
    09AR9604_1,   UNK,64,1,12,112,2,19960216,1822,-63.342,109.6818,3716,1003.3,1.02,34.715,2,34.712,2,204.2,2,203.7,2,96.9,2,31.2,2,-999,9,2.17,2,0.152,2,0.068,2,-999,9,-999,9,-999,9
    09AR9604_1,   UNK,64,1,11,11,2,19960216,1822,-63.342,109.6818,3716,1203.8,0.862,34.706,2,-999,9,206.3,2,205.4,2,97.9,2,31.6,2,-999,9,2.23,2,0.144,2,0.069,2,-999,9,-999,9,-999,9
    09AR9604_1,   UNK,64,1,10,10,2,19960216,1822,-63.342,109.6818,3716,1403.1,0.706,34.699,2,34.698,2,208.6,2,207.3,2,110.3,2,32.1,2,-999,9,2.23,2,0.12,2,0.06,2,-999,9,-999,9,-999,9
    09AR9604_1,   UNK,64,1,9,9,2,19960216,1822,-63.342,109.6818,3716,1604.3,0.562,34.692,2,34.691,2,211.4,2,209.8,2,109.5,2,31.9,2,-999,9,2.26,2,0.137,2,0.068,2,-999,9,-999,9,-999,9
    09AR9604_1,   UNK,64,1,8,8,2,19960216,1822,-63.342,109.6818,3716,1805,0.417,34.685,2,34.683,2,214.5,2,213.3,2,112.7,2,32.6,2,-999,9,2.28,2,0.191,2,0.091,2,-999,9,-999,9,-999,9
    09AR9604_1,   UNK,64,1,7,7,2,19960216,1822,-63.342,109.6818,3716,2104.5,0.242,34.678,2,34.676,2,219.1,2,218.4,2,114.8,2,32.7,2,-999,9,2.28,2,0.254,2,0.128,2,-999,9,-999,9,-999,9
    09AR9604_1,   UNK,64,1,6,6,2,19960216,1822,-63.342,109.6818,3716,2405.5,0.112,34.674,2,34.671,2,223.7,2,222.9,2,115,2,32,2,-999,9,2.27,2,0.353,2,0.167,2,-999,9,-999,9,-999,9
    09AR9604_1,   UNK,64,1,5,5,2,19960216,1822,-63.342,109.6818,3716,2706.2,0.007,34.67,2,34.67,2,227.1,2,227.3,2,115.6,2,32.2,2,-999,9,2.28,2,0.506,2,0.24,2,-999,9,-999,9,-999,9
    09AR9604_1,   UNK,64,1,4,4,2,19960216,1822,-63.342,109.6818,3716,3006.9,-0.085,34.666,2,34.667,2,232,2,231.6,2,112.7,2,31.8,2,-999,9,2.23,2,0.745,2,0.341,2,-999,9,-999,9,-999,9
    09AR9604_1,   UNK,64,1,3,3,2,19960216,1822,-63.342,109.6818,3716,3306.7,-0.153,34.664,2,34.665,2,235,2,235.2,2,116.4,2,31.8,2,-999,9,2.24,2,1.031,2,0.468,2,-999,9,-999,9,-999,9
    09AR9604_1,   UNK,64,1,2,2,2,19960216,1822,-63.342,109.6818,3716,3609.5,-0.237,34.658,2,34.659,2,240,2,239.8,2,112.6,2,31.8,2,-999,9,2.24,2,1.642,2,0.734,2,-999,9,-999,9,-999,9
    09AR9604_1,   UNK,64,1,1,1,2,19960216,1822,-63.342,109.6818,3716,3727.1,-0.251,34.656,2,-999,9,239.8,2,239.7,2,114.1,2,31.8,2,-999,9,2.26,2,1.603,2,0.733,2,-999,9,-999,9,-999,9
    09AR9604_1,   UNK,66,1,16,216,2,19960223,1228,-65.757,112.2522,438,5.8,-1.653,33.399,2,33.403,2,358.8,2,358.6,2,51,2,23.5,2,-999,9,1.56,2,6.306,2,3.139,2,-999,9,-999,9,-999,9
    09AR9604_1,   UNK,66,1,11,11,2,19960223,1228,-65.757,112.2522,438,75.7,-1.669,33.43,2,33.428,2,354.1,2,355.3,2,53.1,2,26,2,-999,9,1.59,2,6.151,2,3.006,2,-999,9,-999,9,-999,9
    09AR9604_1,   UNK,66,1,10,10,2,19960223,1228,-65.757,112.2522,438,90.7,-1.565,33.559,3,33.556,2,345.5,2,348.1,2,55.4,2,26,2,-999,9,1.73,2,-999,9,-999,9,-999,9,-999,9,-999,9
    09AR9604_1,   UNK,66,1,7,7,2,19960223,1228,-65.757,112.2522,438,135.9,-1.595,34.127,2,34.127,2,327.1,2,325.8,2,69.4,2,28.6,2,-999,9,2.05,2,5.179,2,2.497,2,-999,9,-999,9,-999,9
    09AR9604_1,   UNK,66,1,4,4,2,19960223,1228,-65.757,112.2522,438,201.8,-1.65,34.173,2,34.171,2,318.5,2,316.7,2,71,2,29.8,2,-999,9,2.08,2,-999,9,-999,9,-999,9,-999,9,-999,9
    09AR9604_1,   UNK,66,1,3,3,2,19960223,1228,-65.757,112.2522,438,300.4,-1.647,34.27,2,34.269,2,311.9,2,312.4,2,66.1,2,30,2,-999,9,2.16,2,4.934,2,2.388,2,-999,9,-999,9,-999,9
    09AR9604_1,   UNK,66,1,2,2,2,19960223,1228,-65.757,112.2522,438,380.8,-1.797,34.35,2,34.35,2,318.3,2,317.6,2,66.6,2,30.6,2,-999,9,2.19,2,5.303,2,2.558,2,-999,9,-999,9,-999,9
    09AR9604_1,   UNK,66,1,1,1,2,19960223,1228,-65.757,112.2522,438,419.9,-1.796,34.346,2,34.35,2,317.5,2,317.3,2,70,2,30.4,2,-999,9,2.2,2,5.318,2,2.54,2,-999,9,-999,9,-999,9