BOTTLE,2021011SIOJHS,,,,,,,,,,,,,,,,,,,,,,,,,,,,,,,,,,,,,,
EXPOCODE,SECT_ID,STNNBR,CASTNO,SAMPNO,BTLNBR,BTLNBR_FLAG_W,DATE,TIME,LATITUDE,LONGITUDE,DEPTH,CTDPRS,CTDTMP,CTDSAL,CTDSAL_FLAG_W,SALNTY,SALNTY_FLAG_W,CTDOXY,CTDOXY_FLAG_W,OXYGEN,OXYGEN_FLAG_W,SILCAT,SILCAT_FLAG_W,NITRAT,NITRAT_FLAG_W,NITRIT,NITRIT_FLAG_W,PHSPHT,PHSPHT_FLAG_W,CFC-11,CFC-11_FLAG_W,CFC-12,CFC-12_FLAG_W,SF6,SF6_FLAG_W,TCARBN,TCARBN_FLAG_W,ALKALI,ALKALI_FLAG_W
,,,,,,,,,,,,DBAR,DEG C,PSS-78,,PSS-78,,UMOL/KG,,UMOL/KG,,UMOL/KG,,UMOL/KG,,UMOL/KG,,UMOL/KG,,PMOL/KG,,PMOL/KG,,NMOL/KG,,UMOL/KG,,UMOL/KG,
    09AR9604_1,   UNK,75,1,24,24,2,19960225,315,-64.0837,112.2605,2518,11.3,0.028,33.832,4,33.834,2,342.5,2,342.7,2,41.5,2,26,2,-999,9,1.73,2,6.008,2,2.949,2,-999,9,-999,9,-999,9
    09AR9604_1,   UNK,75,1,23,23,2,19960225,315,-64.0837,112.2605,2518,50.4,-0.885,34.201,4,34.197,2,307.1,2,307.4,2,59.6,2,28.8,2,-999,9,2.03,2,-999,9,-999,9,-999,9,-999,9,-999,9
    09AR9604_1,   UNK,75,1,22,22,2,19960225,315,-64.0837,112.2605,2518,91.9,0.072,34.57,2,34.566,2,239.4,2,236.4,2,80.1,2,31.2,2,-999,9,2.17,2,2.255,2,1.072,2,-999,9,-999,9,-999,9
    09AR9604_1,   UNK,75,1,21,21,2,19960225,315,-64.0837,112.2605,2518,122.7,0.417,34.622,3,34.618,2,219.3,2,225.5,2,84.1,2,31.9,2,-999,9,2.17,2,-999,9,-999,9,-999,9,-999,9,-999,9
    09AR9604_1,   UNK,75,1,20,20,2,19960225,315,-64.0837,112.2605,2518,152.6,0.924,34.68,3,34.678,2,206.4,2,206.9,2,89.6,2,31.5,2,-999,9,2.16,2,-999,9,-999,9,-999,9,-999,9,-999,9
    09AR9604_1,   UNK,75,1,19,119,2,19960225,315,-64.0837,112.2605,2518,200,1.123,34.709,2,34.706,2,200.4,2,200.8,2,91.7,2,31.5,2,-999,9,2.16,2,0.58,2,0.272,2,-999,9,-999,9,-999,9
    09AR9604_1,   UNK,75,1,18,118,2,19960225,315,-64.0837,112.2605,2518,261.5,1.139,34.716,2,34.716,2,199.6,2,200.7,2,93,2,31.3,2,-999,9,2.16,2,-999,9,-999,9,-999,9,-999,9,-999,9
    09AR9604_1,   UNK,75,1,17,17,2,19960225,315,-64.0837,112.2605,2518,302.6,1.12,34.717,2,34.717,2,201.7,2,201.2,2,93.5,2,31.7,2,-999,9,-999,9,-999,9,-999,9,-999,9,-999,9,-999,9
    09AR9604_1,   UNK,75,1,16,216,2,19960225,315,-64.0837,112.2605,2518,403.6,1.071,34.721,2,34.72,2,201.3,2,202,2,97.2,2,31.4,2,-999,9,-999,9,0.376,2,0.175,2,-999,9,-999,9,-999,9
    09AR9604_1,   UNK,75,1,15,215,2,19960225,315,-64.0837,112.2605,2518,502.1,1.004,34.72,2,34.719,2,203,2,203.5,2,99.3,2,31.6,2,-999,9,2.16,2,-999,9,-999,9,-999,9,-999,9,-999,9
    09AR9604_1,   UNK,75,1,14,114,2,19960225,315,-64.0837,112.2605,2518,602,0.851,34.711,2,34.711,2,206.1,2,206.7,2,101.6,2,31.6,2,-999,9,2.17,2,0.396,2,0.197,2,-999,9,-999,9,-999,9
    09AR9604_1,   UNK,75,1,13,113,2,19960225,315,-64.0837,112.2605,2518,701.3,0.745,34.706,2,34.706,2,207.8,2,208.7,2,104.3,2,31.7,2,-999,9,2.15,2,-999,9,-999,9,-999,9,-999,9,-999,9
    09AR9604_1,   UNK,75,1,12,112,2,19960225,315,-64.0837,112.2605,2518,799.6,0.653,34.702,2,34.705,2,209.8,2,210.4,2,106.1,2,31.6,2,-999,9,2.17,2,0.414,2,0.201,2,-999,9,-999,9,-999,9
    09AR9604_1,   UNK,75,1,11,11,2,19960225,315,-64.0837,112.2605,2518,901.5,0.59,34.702,2,34.702,2,210.9,2,210.3,2,108.3,2,31.6,2,-999,9,2.15,2,0.347,2,0.169,2,-999,9,-999,9,-999,9
    09AR9604_1,   UNK,75,1,10,10,2,19960225,315,-64.0837,112.2605,2518,1002.8,0.497,34.697,2,34.697,2,212.9,2,212.5,2,110.2,2,31.9,2,-999,9,2.17,2,0.409,2,0.187,2,-999,9,-999,9,-999,9
    09AR9604_1,   UNK,75,1,9,9,2,19960225,315,-64.0837,112.2605,2518,1202.7,0.332,34.688,2,34.689,2,217.4,2,216.3,2,111.7,2,32,2,-999,9,2.17,2,0.493,2,0.243,2,-999,9,-999,9,-999,9
    09AR9604_1,   UNK,75,1,8,8,2,19960225,315,-64.0837,112.2605,2518,1402.1,0.231,34.686,2,34.686,2,220,2,218.9,2,115,2,32.1,2,-999,9,2.17,2,0.523,2,0.243,2,-999,9,-999,9,-999,9
    09AR9604_1,   UNK,75,1,7,7,2,19960225,315,-64.0837,112.2605,2518,1603,0.146,34.686,2,34.685,2,222,2,221,2,116.5,2,32.5,2,-999,9,2.19,2,0.48,2,0.237,2,-999,9,-999,9,-999,9
    09AR9604_1,   UNK,75,1,5,5,2,19960225,315,-64.0837,112.2605,2518,2004.1,-0.031,34.679,2,34.683,2,228.4,2,227.8,2,118.1,2,32.3,2,-999,9,2.19,2,0.73,2,0.342,2,-999,9,-999,9,-999,9
    09AR9604_1,   UNK,75,1,4,4,2,19960225,315,-64.0837,112.2605,2518,2116.3,-0.073,34.678,2,34.68,2,229.4,2,229.7,2,115.5,2,32.3,2,-999,9,2.2,2,0.901,2,0.42,2,-999,9,-999,9,-999,9
    09AR9604_1,   UNK,75,1,3,3,2,19960225,315,-64.0837,112.2605,2518,2204.7,-0.124,34.674,2,34.677,2,231.8,2,231.8,2,111.5,2,31.7,2,-999,9,2.19,2,1.12,2,0.522,2,-999,9,-999,9,-999,9
    09AR9604_1,   UNK,75,1,2,2,2,19960225,315,-64.0837,112.2605,2518,2400.7,-0.194,34.671,2,34.673,2,235.2,2,235.1,2,108.8,2,31.5,2,-999,9,2.17,2,1.363,2,0.65,2,-999,9,-999,9,-999,9
    09AR9604_1,   UNK,75,1,1,1,2,19960225,315,-64.0837,112.2605,2518,2539.7,-0.213,34.672,2,34.674,2,235.7,2,235.7,2,110.9,2,31.7,2,-999,9,2.17,2,1.431,2,0.678,2,-999,9,-999,9,-999,9
    09AR9604_1,   UNK,76,1,24,24,2,19960225,1149,-63.5897,112.2585,3276,11.3,0.686,33.974,2,34.763,4,341.4,2,338.6,2,41.8,2,26.4,2,-999,9,1.77,2,6.021,2,2.942,2,-999,9,-999,9,-999,9
    09AR9604_1,   UNK,76,1,23,23,2,19960225,1149,-63.5897,112.2585,3276,45.2,-0.164,34.231,2,34.232,2,286.5,2,313.1,2,52.8,2,28.4,2,-999,9,1.97,2,4.865,2,2.368,2,-999,9,-999,9,-999,9
    09AR9604_1,   UNK,76,1,22,22,2,19960225,1149,-63.5897,112.2585,3276,60.7,0.1,34.502,4,34.506,2,247.9,2,244.2,2,71.9,2,31,2,-999,9,2.18,2,-999,9,-999,9,-999,9,-999,9,-999,9
    09AR9604_1,   UNK,76,1,21,21,2,19960225,1149,-63.5897,112.2585,3276,75.9,0.585,34.588,4,34.59,2,219.7,2,220.3,2,77.9,2,31.7,2,-999,9,2.17,2,-999,9,-999,9,-999,9,-999,9,-999,9
    09AR9604_1,   UNK,76,1,20,20,2,19960225,1149,-63.5897,112.2585,3276,99.9,1.026,34.651,4,34.645,2,207.1,2,206.3,2,81.5,2,31.7,2,-999,9,2.18,2,1.319,2,0.607,2,-999,9,-999,9,-999,9
    09AR9604_1,   UNK,76,1,19,119,2,19960225,1149,-63.5897,112.2585,3276,151,1.272,34.687,2,34.686,2,195.8,2,198.7,2,83.3,2,31.5,2,-999,9,2.17,2,-999,9,-999,9,-999,9,-999,9,-999,9
    09AR9604_1,   UNK,76,1,18,118,2,19960225,1149,-63.5897,112.2585,3276,202,1.356,34.707,2,34.707,2,195.2,2,197.6,2,85.8,2,31.6,2,-999,9,2.14,2,0.638,2,0.295,2,-999,9,-999,9,-999,9
    09AR9604_1,   UNK,76,1,17,17,2,19960225,1149,-63.5897,112.2585,3276,300.6,1.416,34.729,2,34.728,2,198,2,195.2,2,88.6,2,31.2,2,-999,9,2.13,2,0.344,2,0.162,2,-999,9,-999,9,-999,9
    09AR9604_1,   UNK,76,1,16,216,2,19960225,1149,-63.5897,112.2585,3276,400.9,1.344,34.732,2,34.729,2,197.6,2,197.6,2,90.8,2,31,2,-999,9,2.13,2,-999,9,-999,9,-999,9,-999,9,-999,9
    09AR9604_1,   UNK,76,1,15,215,2,19960225,1149,-63.5897,112.2585,3276,500.7,1.285,34.735,2,34.734,2,197.7,2,198.3,2,93.7,2,31.3,2,-999,9,2.13,2,0.23,2,0.109,2,-999,9,-999,9,-999,9
    09AR9604_1,   UNK,76,1,14,114,2,19960225,1149,-63.5897,112.2585,3276,601.7,1.21,34.734,2,34.734,2,199.1,2,200,2,97.1,2,31,2,-999,9,2.12,2,-999,9,-999,9,-999,9,-999,9,-999,9
    09AR9604_1,   UNK,76,1,13,113,2,19960225,1149,-63.5897,112.2585,3276,700.8,1.122,34.733,2,34.732,2,201.1,2,201.4,2,99.6,2,31.1,2,-999,9,2.13,2,0.143,2,0.074,2,-999,9,-999,9,-999,9
    09AR9604_1,   UNK,76,1,12,112,2,19960225,1149,-63.5897,112.2585,3276,903.4,0.94,34.726,2,34.726,2,204,2,203.8,2,104,2,31.6,2,-999,9,2.14,2,0.13,2,0.066,2,-999,9,-999,9,-999,9
    09AR9604_1,   UNK,76,1,11,11,2,19960225,1149,-63.5897,112.2585,3276,1103.8,0.771,34.716,2,34.716,2,205.2,2,205.9,2,109.7,2,31.6,2,-999,9,2.18,2,0.123,2,0.06,2,-999,9,-999,9,-999,9
    09AR9604_1,   UNK,76,1,10,10,2,19960225,1149,-63.5897,112.2585,3276,1304.1,0.608,34.707,2,34.708,2,208.7,2,208.9,2,112.5,2,32.1,2,-999,9,2.19,2,-999,9,-999,9,-999,9,-999,9,-999,9
    09AR9604_1,   UNK,76,1,9,9,2,19960225,1149,-63.5897,112.2585,3276,1506,0.467,34.7,2,34.701,2,211.7,2,211.8,2,114.6,2,32.2,2,-999,9,2.21,2,0.197,2,0.099,2,-999,9,-999,9,-999,9
    09AR9604_1,   UNK,76,1,8,8,2,19960225,1149,-63.5897,112.2585,3276,1703.5,0.323,34.694,2,34.694,2,213.9,2,215.5,2,117.3,2,32.3,2,-999,9,2.19,2,-999,9,-999,9,-999,9,-999,9,-999,9
    09AR9604_1,   UNK,76,1,7,7,2,19960225,1149,-63.5897,112.2585,3276,1902.3,0.202,34.689,2,34.69,2,216.7,2,219.5,2,117.9,2,32.2,2,-999,9,2.19,2,0.36,2,0.177,2,-999,9,-999,9,-999,9
    09AR9604_1,   UNK,76,1,6,6,2,19960225,1149,-63.5897,112.2585,3276,2103.8,0.081,34.685,2,34.685,2,222.2,2,224.2,2,116.2,2,32.4,2,-999,9,2.19,2,0.621,2,0.298,2,-999,9,-999,9,-999,9
    09AR9604_1,   UNK,76,1,5,5,2,19960225,1149,-63.5897,112.2585,3276,2406.1,-0.038,34.679,2,34.682,2,227.9,2,228.8,2,113.1,2,32.1,2,-999,9,2.2,2,0.824,2,0.378,2,-999,9,-999,9,-999,9
    09AR9604_1,   UNK,76,1,4,4,2,19960225,1149,-63.5897,112.2585,3276,2704.6,-0.134,34.677,2,34.678,2,232,2,233.2,2,112.5,2,32.3,2,-999,9,2.19,2,1.121,2,0.525,2,-999,9,-999,9,-999,9
    09AR9604_1,   UNK,76,1,3,3,2,19960225,1149,-63.5897,112.2585,3276,3004.8,-0.173,34.681,2,34.679,2,235.2,2,235.2,2,109.8,2,31.9,2,-999,9,2.18,2,1.37,2,0.629,2,-999,9,-999,9,-999,9
    09AR9604_1,   UNK,76,1,2,2,2,19960225,1149,-63.5897,112.2585,3276,3186.7,-0.195,34.679,2,34.679,2,238.6,2,236.3,2,112.4,2,32,2,-999,9,2.18,2,1.486,2,0.688,2,-999,9,-999,9,-999,9
    09AR9604_1,   UNK,76,1,1,1,2,19960225,1149,-63.5897,112.2585,3276,3257.5,-0.211,34.679,2,34.679,2,238.5,2,236.6,2,114.7,2,31.8,2,-999,9,2.19,2,1.545,2,0.711,2,-999,9,-999,9,-999,9
    09AR9604_1,   UNK,78,1,24,24,2,19960225,2206,-63.0008,112.299,3768,12,1.06,33.482,2,33.479,2,337.4,2,339.5,2,39.2,2,25.9,2,-999,9,1.75,2,6.26,2,3.048,2,-999,9,-999,9,-999,9
    09AR9604_1,   UNK,78,1,23,23,2,19960225,2206,-63.0008,112.299,3768,49.8,-0.284,34.14,3,34.142,2,336.4,2,335.5,2,42.1,2,27.9,2,-999,9,1.88,2,5.446,2,2.643,2,-999,9,-999,9,-999,9
    09AR9604_1,   UNK,78,1,22,22,2,19960225,2206,-63.0008,112.299,3768,101.4,-0.214,34.475,4,34.476,2,230.2,2,251.4,2,67.2,2,31.3,2,-999,9,2.18,2,3.041,2,1.461,2,-999,9,-999,9,-999,9
    09AR9604_1,   UNK,78,1,21,21,2,19960225,2206,-63.0008,112.299,3768,151.2,0.836,34.608,4,34.608,2,207.1,2,211.6,2,76.6,2,32.2,2,-999,9,2.24,2,1.598,2,0.751,2,-999,9,-999,9,-999,9
    09AR9604_1,   UNK,78,1,20,20,2,19960225,2206,-63.0008,112.299,3768,201.7,1.194,34.664,2,34.663,2,199.7,2,201.2,2,79.4,2,31.7,2,-999,9,2.21,2,1.042,2,0.483,2,-999,9,-999,9,-999,9
    09AR9604_1,   UNK,78,1,19,119,2,19960225,2206,-63.0008,112.299,3768,302.8,1.323,34.697,2,34.697,2,198.9,2,199.3,2,81.2,2,31.6,2,-999,9,2.18,2,0.674,2,0.319,2,-999,9,-999,9,-999,9
    09AR9604_1,   UNK,78,1,18,118,2,19960225,2206,-63.0008,112.299,3768,402.2,1.381,34.719,2,34.716,2,199.6,2,197.8,2,85.7,2,30.8,2,-999,9,2.16,2,0.433,2,0.208,2,-999,9,-999,9,-999,9
    09AR9604_1,   UNK,78,1,17,17,2,19960225,2206,-63.0008,112.299,3768,503.1,1.354,34.728,2,34.728,2,199.6,2,198.8,2,86.7,2,30.9,2,-999,9,2.17,2,0.302,2,0.147,2,-999,9,-999,9,-999,9
    09AR9604_1,   UNK,78,1,16,216,2,19960225,2206,-63.0008,112.299,3768,603.5,1.291,34.73,2,34.731,2,199,2,199.4,2,90.1,2,30.8,2,-999,9,2.14,2,0.249,2,0.119,2,-999,9,-999,9,-999,9
    09AR9604_1,   UNK,78,1,15,215,2,19960225,2206,-63.0008,112.299,3768,702.7,1.227,34.731,2,34.731,2,200,2,201.2,2,94.1,2,31.3,2,-999,9,2.16,2,0.215,2,0.108,2,-999,9,-999,9,-999,9
    09AR9604_1,   UNK,78,1,14,114,2,19960225,2206,-63.0008,112.299,3768,803.7,1.162,34.729,2,34.731,2,201.7,2,201.1,2,95.5,2,31,2,-999,9,2.17,2,0.187,2,0.081,3,-999,9,-999,9,-999,9
    09AR9604_1,   UNK,78,1,13,113,2,19960225,2206,-63.0008,112.299,3768,904.9,1.085,34.726,2,34.727,2,203.4,2,202.3,2,98.7,2,30.9,2,-999,9,2.2,2,0.172,2,0.074,3,-999,9,-999,9,-999,9
    09AR9604_1,   UNK,78,1,12,112,2,19960225,2206,-63.0008,112.299,3768,1015.4,0.996,34.722,2,34.72,2,204,2,203.5,2,103.3,2,31.4,2,-999,9,2.17,2,0.16,2,0.078,2,-999,9,-999,9,-999,9
    09AR9604_1,   UNK,78,1,11,11,2,19960225,2206,-63.0008,112.299,3768,1204.6,0.858,34.715,2,34.716,2,207.7,2,205.2,2,106.3,2,31.4,2,-999,9,2.19,2,0.154,2,0.082,2,-999,9,-999,9,-999,9
    09AR9604_1,   UNK,78,1,10,10,2,19960225,2206,-63.0008,112.299,3768,1403.3,0.707,34.707,2,34.709,2,209.7,2,207.4,2,110.3,2,31.7,2,-999,9,2.22,2,0.158,2,0.078,2,-999,9,-999,9,-999,9
    09AR9604_1,   UNK,78,1,9,9,2,19960225,2206,-63.0008,112.299,3768,1603.5,0.553,34.699,2,34.701,2,211.9,2,210.2,2,113.6,2,31.8,2,-999,9,2.23,2,0.194,2,0.092,2,-999,9,-999,9,-999,9
    09AR9604_1,   UNK,78,1,8,8,2,19960225,2206,-63.0008,112.299,3768,1907.1,0.335,34.691,2,34.689,2,216.2,2,215.8,2,116,2,31.8,2,-999,9,2.24,2,0.32,2,0.158,2,-999,9,-999,9,-999,9
    09AR9604_1,   UNK,78,1,7,7,2,19960225,2206,-63.0008,112.299,3768,2206.3,0.196,34.686,2,34.686,2,219.3,2,220.3,2,118.4,2,31.9,2,-999,9,2.24,2,0.379,2,0.189,2,-999,9,-999,9,-999,9
    09AR9604_1,   UNK,78,1,6,6,2,19960225,2206,-63.0008,112.299,3768,2507.9,0.068,34.682,2,34.679,2,223.5,2,224.9,2,118.4,2,32.2,2,-999,9,2.23,2,0.51,2,0.241,2,-999,9,-999,9,-999,9
    09AR9604_1,   UNK,78,1,5,5,2,19960225,2206,-63.0008,112.299,3768,2806.8,-0.039,34.678,2,34.679,2,228.1,2,229.8,2,115.5,2,32.1,2,-999,9,2.22,2,0.736,2,0.359,2,-999,9,-999,9,-999,9
    09AR9604_1,   UNK,78,1,4,4,2,19960225,2206,-63.0008,112.299,3768,3057.6,-0.098,34.678,2,34.679,2,231.1,2,232.2,2,117,2,31.7,2,-999,9,2.23,2,0.786,2,0.387,2,-999,9,-999,9,-999,9
    09AR9604_1,   UNK,78,1,3,3,2,19960225,2206,-63.0008,112.299,3768,3406.7,-0.172,34.676,2,34.677,2,235.7,2,235.7,2,116.1,2,32.1,2,-999,9,2.22,2,1.106,2,0.521,2,-999,9,-999,9,-999,9
    09AR9604_1,   UNK,78,1,2,2,2,19960225,2206,-63.0008,112.299,3768,3721.2,-0.247,34.669,2,34.67,2,240,2,239.7,2,117.3,2,32.1,2,-999,9,2.22,2,1.728,2,0.805,2,-999,9,-999,9,-999,9
    09AR9604_1,   UNK,78,1,1,1,2,19960225,2206,-63.0008,112.299,3768,3812.5,-0.247,34.668,2,34.669,2,240,6,240.4,2,117,2,31.7,2,-999,9,2.2,2,1.706,2,0.83,2,-999,9,-999,9,-999,9
    09AR9604_1,   UNK,79,1,24,24,2,19960226,719,-63.0802,114.0928,3604,10.8,1.3,33.876,2,33.88,2,-999,5,339.2,2,39.8,2,26.3,2,-999,9,1.78,2,6.105,2,2.983,2,-999,9,-999,9,-999,9
    09AR9604_1,   UNK,79,1,23,23,2,19960226,719,-63.0802,114.0928,3604,31.4,1.219,34.006,4,33.877,2,-999,5,342.3,2,39.5,2,26.8,2,-999,9,1.85,2,-999,9,-999,9,-999,9,-999,9,-999,9
    09AR9604_1,   UNK,79,1,22,22,2,19960226,719,-63.0802,114.0928,3604,51.3,0.055,34.305,2,34.304,2,-999,5,298,2,56.1,2,29.4,2,-999,9,2.1,2,-999,9,-999,9,-999,9,-999,9,-999,9
    09AR9604_1,   UNK,79,1,21,21,2,19960226,719,-63.0802,114.0928,3604,76.7,0.674,34.522,4,34.51,2,222.1,2,225.5,2,73,2,32.3,2,-999,9,2.29,2,-999,9,-999,9,-999,9,-999,9,-999,9
    09AR9604_1,   UNK,79,1,20,20,2,19960226,719,-63.0802,114.0928,3604,102.4,1.073,34.603,3,34.6,2,203.6,2,202.3,2,78.2,2,32.8,2,-999,9,2.3,2,-999,9,-999,9,-999,9,-999,9,-999,9
    09AR9604_1,   UNK,79,1,19,119,2,19960226,719,-63.0802,114.0928,3604,152.1,1.349,34.656,2,34.655,2,198.4,2,194.1,2,81.5,2,32.6,2,-999,9,2.27,2,0.918,2,0.428,2,-999,9,-999,9,-999,9
    09AR9604_1,   UNK,79,1,18,118,2,19960226,719,-63.0802,114.0928,3604,202.2,1.464,34.684,2,34.684,2,195.7,2,191.6,2,82.7,2,32.1,2,-999,9,2.25,2,-999,9,-999,9,-999,9,-999,9,-999,9
    09AR9604_1,   UNK,79,1,17,17,2,19960226,719,-63.0802,114.0928,3604,303,1.501,34.709,2,34.709,2,193.5,2,193.1,2,86,2,32,2,-999,9,2.24,2,-999,9,-999,9,-999,9,-999,9,-999,9
    09AR9604_1,   UNK,79,1,16,216,2,19960226,719,-63.0802,114.0928,3604,351.8,1.512,34.718,2,34.718,2,191.7,2,193.8,2,86.7,2,31.7,2,-999,9,2.23,2,0.365,2,0.174,2,-999,9,-999,9,-999,9
    09AR9604_1,   UNK,79,1,15,215,2,19960226,719,-63.0802,114.0928,3604,451.5,1.492,34.729,2,34.729,2,191.2,2,194.8,2,89.4,2,32,2,-999,9,2.2,2,-999,9,-999,9,-999,9,-999,9,-999,9
    09AR9604_1,   UNK,79,1,14,114,2,19960226,719,-63.0802,114.0928,3604,602.8,1.366,34.733,2,34.733,2,192.9,2,198.4,2,94.3,2,31.6,2,-999,9,2.21,2,0.195,2,0.091,2,-999,9,-999,9,-999,9
    09AR9604_1,   UNK,79,1,13,113,2,19960226,719,-63.0802,114.0928,3604,802.8,1.205,34.73,2,34.729,2,196.6,2,201.3,2,99.4,2,31.9,2,-999,9,2.19,2,0.145,2,0.074,2,-999,9,-999,9,-999,9
    09AR9604_1,   UNK,79,1,12,112,2,19960226,719,-63.0802,114.0928,3604,1002.3,1.045,34.723,2,34.725,2,200.4,2,203.1,2,104.4,2,32.8,3,-999,9,2.21,2,0.115,2,0.056,6,-999,9,-999,9,-999,9
    09AR9604_1,   UNK,79,1,11,11,2,19960226,719,-63.0802,114.0928,3604,1203.2,0.862,34.715,2,34.715,2,204.3,2,205.2,2,109.9,2,32.9,3,-999,9,2.21,2,-999,9,-999,9,-999,9,-999,9,-999,9
    09AR9604_1,   UNK,79,1,10,10,2,19960226,719,-63.0802,114.0928,3604,1403.8,0.695,34.707,2,34.706,2,207.8,2,207.2,2,113.5,2,33.3,3,-999,9,2.25,2,0.128,2,0.07,2,-999,9,-999,9,-999,9
    09AR9604_1,   UNK,79,1,9,9,2,19960226,719,-63.0802,114.0928,3604,1604,0.536,34.698,2,34.698,2,210.6,2,210.2,2,119.7,2,32.7,3,-999,9,2.27,2,-999,9,-999,9,-999,9,-999,9,-999,9
    09AR9604_1,   UNK,79,1,8,8,2,19960226,719,-63.0802,114.0928,3604,1804.8,0.379,34.691,2,34.689,2,214.5,2,214.3,2,118.7,2,32.2,2,-999,9,2.28,2,0.233,2,0.124,2,-999,9,-999,9,-999,9
    09AR9604_1,   UNK,79,1,7,7,2,19960226,719,-63.0802,114.0928,3604,2005.2,0.272,34.688,2,34.686,2,217,2,217.2,2,122,2,32.3,2,-999,9,2.3,2,-999,9,-999,9,-999,9,-999,9,-999,9
    09AR9604_1,   UNK,79,1,6,6,2,19960226,719,-63.0802,114.0928,3604,2306,0.114,34.682,2,34.683,2,221.7,2,222.9,2,122.4,2,32.7,2,-999,9,2.29,2,0.413,2,0.202,2,-999,9,-999,9,-999,9
    09AR9604_1,   UNK,79,1,5,5,2,19960226,719,-63.0802,114.0928,3604,2607,0.012,34.678,2,34.68,2,225.9,2,226.7,2,125.1,2,32.5,2,-999,9,2.28,2,-999,9,-999,9,-999,9,-999,9,-999,9
    09AR9604_1,   UNK,79,1,4,4,2,19960226,719,-63.0802,114.0928,3604,2905.6,-0.088,34.676,2,34.677,2,230.7,2,231.1,2,122.1,2,32.3,2,-999,9,2.29,2,0.674,2,0.323,2,-999,9,-999,9,-999,9
    09AR9604_1,   UNK,79,1,3,3,2,19960226,719,-63.0802,114.0928,3604,3207.2,-0.156,34.674,2,34.673,2,234.9,2,235.1,2,116.8,2,32,2,-999,9,2.25,2,1.125,2,0.525,2,-999,9,-999,9,-999,9
    09AR9604_1,   UNK,79,1,2,2,2,19960226,719,-63.0802,114.0928,3604,3508.5,-0.237,34.667,2,34.668,2,239.9,2,239.6,2,112.9,2,32,2,-999,9,2.26,2,1.706,2,0.795,2,-999,9,-999,9,-999,9
    09AR9604_1,   UNK,79,1,1,1,2,19960226,719,-63.0802,114.0928,3604,3617.5,-0.254,34.665,2,34.666,2,241.6,2,239.7,2,120.7,2,32.4,2,-999,9,2.25,2,1.737,2,0.809,2,-999,9,-999,9,-999,9