BOTTLE,2021011SIOJHS,,,,,,,,,,,,,,,,,,,,,,,,,,,,,,,,,,,,,,
EXPOCODE,SECT_ID,STNNBR,CASTNO,SAMPNO,BTLNBR,BTLNBR_FLAG_W,DATE,TIME,LATITUDE,LONGITUDE,DEPTH,CTDPRS,CTDTMP,CTDSAL,CTDSAL_FLAG_W,SALNTY,SALNTY_FLAG_W,CTDOXY,CTDOXY_FLAG_W,OXYGEN,OXYGEN_FLAG_W,SILCAT,SILCAT_FLAG_W,NITRAT,NITRAT_FLAG_W,NITRIT,NITRIT_FLAG_W,PHSPHT,PHSPHT_FLAG_W,CFC-11,CFC-11_FLAG_W,CFC-12,CFC-12_FLAG_W,SF6,SF6_FLAG_W,TCARBN,TCARBN_FLAG_W,ALKALI,ALKALI_FLAG_W
,,,,,,,,,,,,DBAR,DEG C,PSS-78,,PSS-78,,UMOL/KG,,UMOL/KG,,UMOL/KG,,UMOL/KG,,UMOL/KG,,UMOL/KG,,PMOL/KG,,PMOL/KG,,NMOL/KG,,UMOL/KG,,UMOL/KG,
    09AR9604_1,   UNK,87,1,23,23,2,19960229,30,-65.4925,120.336,1838,11.2,-0.754,33.733,3,33.74,2,-999,5,354.5,2,36,2,23.5,2,-999,9,1.51,2,6.497,2,3.201,2,-999,9,-999,9,-999,9
    09AR9604_1,   UNK,87,1,21,21,2,19960229,30,-65.4925,120.336,1838,45.8,-0.777,33.828,4,33.832,2,-999,5,352.8,2,38.5,2,24.2,2,-999,9,1.61,2,-999,9,-999,9,-999,9,-999,9,-999,9
    09AR9604_1,   UNK,87,1,18,118,2,19960229,30,-65.4925,120.336,1838,90.9,-1.816,34.268,2,34.271,2,-999,5,321.6,2,60.7,2,29.9,2,-999,9,2.12,2,5.429,2,2.65,2,-999,9,-999,9,-999,9
    09AR9604_1,   UNK,87,1,14,114,2,19960229,30,-65.4925,120.336,1838,150.8,-1.817,34.327,2,34.329,2,-999,5,316.5,2,62.2,2,30.9,2,-999,9,2.14,2,-999,9,-999,9,-999,9,-999,9,-999,9
    09AR9604_1,   UNK,87,1,12,112,2,19960229,30,-65.4925,120.336,1838,200.6,-1.78,34.349,2,34.345,2,-999,5,315,2,62.1,2,30.8,2,-999,9,2.14,2,5.234,2,2.569,2,-999,9,-999,9,-999,9
    09AR9604_1,   UNK,87,1,11,11,2,19960229,30,-65.4925,120.336,1838,303.5,-0.477,34.505,3,34.5,2,-999,5,264.4,2,73.1,2,31.6,2,-999,9,2.19,2,3.432,2,1.653,2,-999,9,-999,9,-999,9
    09AR9604_1,   UNK,87,1,10,10,2,19960229,30,-65.4925,120.336,1838,406,0.881,34.675,2,34.672,2,-999,5,210.5,2,85.6,2,31.2,2,-999,9,2.21,2,-999,9,-999,9,-999,9,-999,9,-999,9
    09AR9604_1,   UNK,87,1,9,9,2,19960229,30,-65.4925,120.336,1838,501.1,0.924,34.706,2,34.709,2,-999,5,206.6,2,91.2,2,31.6,2,-999,9,2.17,2,0.503,2,0.246,2,-999,9,-999,9,-999,9
    09AR9604_1,   UNK,87,1,8,8,2,19960229,30,-65.4925,120.336,1838,601.5,0.829,34.703,2,34.705,2,-999,5,208.1,2,98.2,2,31.5,2,-999,9,2.22,2,-999,9,-999,9,-999,9,-999,9,-999,9
    09AR9604_1,   UNK,87,1,7,7,2,19960229,30,-65.4925,120.336,1838,701.7,0.574,34.696,2,34.696,2,-999,5,211.2,2,100.5,2,31.9,2,-999,9,2.23,2,0.414,2,0.203,2,-999,9,-999,9,-999,9
    09AR9604_1,   UNK,87,1,6,6,2,19960229,30,-65.4925,120.336,1838,904.7,0.287,34.683,2,34.676,2,-999,5,216.3,2,108.6,2,32.1,2,-999,9,2.26,2,-999,9,-999,9,-999,9,-999,9,-999,9
    09AR9604_1,   UNK,87,1,5,5,2,19960229,30,-65.4925,120.336,1838,1103.9,0.05,34.676,2,34.675,2,-999,5,223,2,112.6,2,32.4,2,-999,9,2.26,2,0.665,2,0.335,2,-999,9,-999,9,-999,9
    09AR9604_1,   UNK,87,1,4,4,2,19960229,30,-65.4925,120.336,1838,1303.3,-0.073,34.671,2,34.673,2,-999,5,227.7,2,102.3,2,32.1,2,-999,9,2.25,2,0.985,2,0.47,2,-999,9,-999,9,-999,9
    09AR9604_1,   UNK,87,1,3,3,2,19960229,30,-65.4925,120.336,1838,1504,-0.166,34.664,2,34.668,2,-999,5,231.8,2,105.3,2,32.4,2,-999,9,2.23,2,1.298,2,0.622,2,-999,9,-999,9,-999,9
    09AR9604_1,   UNK,87,1,2,2,2,19960229,30,-65.4925,120.336,1838,1705,-0.194,34.664,2,34.668,2,-999,5,233.2,2,100.9,2,32.1,2,-999,9,2.24,2,1.397,2,0.662,2,-999,9,-999,9,-999,9
    09AR9604_1,   UNK,87,1,1,1,2,19960229,30,-65.4925,120.336,1838,1824.8,-0.211,34.661,2,-999,9,-999,5,234.7,2,99,2,31.9,2,-999,9,2.23,2,1.486,2,0.706,2,-999,9,-999,9,-999,9
    09AR9604_1,   UNK,88,1,24,24,2,19960229,337,-65.4698,120.315,2212,10.7,-0.882,33.663,2,33.659,2,-999,5,352.8,2,37.6,2,23.7,2,-999,9,1.59,2,-999,9,-999,9,-999,9,-999,9,-999,9
    09AR9604_1,   UNK,88,1,22,22,2,19960229,337,-65.4698,120.315,2212,45.8,-0.696,33.854,2,34.211,4,-999,5,350,2,38.6,2,25,2,-999,9,1.71,2,-999,9,-999,9,-999,9,-999,9,-999,9
    09AR9604_1,   UNK,88,1,20,20,2,19960229,337,-65.4698,120.315,2212,75.8,-1.647,34.222,3,-999,9,-999,5,325.6,2,57.6,2,28.9,2,-999,9,2.14,2,-999,9,-999,9,-999,9,-999,9,-999,9
    09AR9604_1,   UNK,88,1,18,118,2,19960229,337,-65.4698,120.315,2212,105.9,-1.814,34.289,2,34.293,2,-999,5,319.3,2,60.2,2,30.2,2,-999,9,2.15,2,-999,9,-999,9,-999,9,-999,9,-999,9
    09AR9604_1,   UNK,88,1,16,216,2,19960229,337,-65.4698,120.315,2212,151.9,-1.82,34.329,2,34.329,2,-999,5,316.5,2,62,2,30.7,2,-999,9,2.2,2,-999,9,-999,9,-999,9,-999,9,-999,9
    09AR9604_1,   UNK,88,1,15,215,2,19960229,337,-65.4698,120.315,2212,203.1,-1.778,34.35,2,34.351,2,-999,5,315.1,2,63,2,30.8,2,-999,9,2.2,2,-999,9,-999,9,-999,9,-999,9,-999,9
    09AR9604_1,   UNK,88,1,14,114,2,19960229,337,-65.4698,120.315,2212,302.8,-0.666,34.484,3,34.481,2,-999,5,270.9,2,73.5,2,31.3,2,-999,9,2.23,2,-999,9,-999,9,-999,9,-999,9,-999,9
    09AR9604_1,   UNK,88,1,13,113,2,19960229,337,-65.4698,120.315,2212,401.3,0.673,34.64,2,34.634,2,-999,5,217.8,2,83,2,32.3,2,-999,9,2.63,4,-999,9,-999,9,-999,9,-999,9,-999,9
    09AR9604_1,   UNK,88,1,12,112,2,19960229,337,-65.4698,120.315,2212,500.7,0.784,34.675,2,34.678,2,-999,5,213.1,2,89.6,2,31.7,2,-999,9,2.26,2,-999,9,-999,9,-999,9,-999,9,-999,9
    09AR9604_1,   UNK,88,1,11,11,2,19960229,337,-65.4698,120.315,2212,602.5,0.831,34.694,2,34.695,2,-999,5,210.4,2,94.2,2,31.5,2,-999,9,2.28,2,-999,9,-999,9,-999,9,-999,9,-999,9
    09AR9604_1,   UNK,88,1,10,10,2,19960229,337,-65.4698,120.315,2212,701.9,0.643,34.686,3,34.686,2,-999,5,-999,9,98.3,2,31.6,2,-999,9,2.28,2,-999,9,-999,9,-999,9,-999,9,-999,9
    09AR9604_1,   UNK,88,1,9,9,2,19960229,337,-65.4698,120.315,2212,802.8,0.568,34.693,2,34.691,2,-999,5,212.2,2,104.9,2,32.1,2,-999,9,2.3,2,0.5,2,0.232,2,-999,9,-999,9,-999,9
    09AR9604_1,   UNK,88,1,8,8,2,19960229,337,-65.4698,120.315,2212,902.8,0.13,34.678,2,34.677,2,-999,5,221,2,109.7,2,32.3,2,-999,9,2.31,2,-999,9,-999,9,-999,9,-999,9,-999,9
    09AR9604_1,   UNK,88,1,7,7,2,19960229,337,-65.4698,120.315,2212,1004.3,0.027,34.675,2,34.669,2,-999,5,223.7,2,113.2,2,31.7,2,-999,9,2.31,2,0.762,2,0.367,2,-999,9,-999,9,-999,9
    09AR9604_1,   UNK,88,1,6,6,2,19960229,337,-65.4698,120.315,2212,1202.9,-0.069,34.671,2,34.673,2,-999,5,227.3,2,110.4,2,32.2,2,-999,9,2.3,2,-999,9,-999,9,-999,9,-999,9,-999,9
    09AR9604_1,   UNK,88,1,5,5,2,19960229,337,-65.4698,120.315,2212,1403.5,-0.124,34.667,2,34.669,2,-999,5,229.8,2,108.7,2,31.7,2,-999,9,2.31,2,1.174,2,0.563,2,-999,9,-999,9,-999,9
    09AR9604_1,   UNK,88,1,4,4,2,19960229,337,-65.4698,120.315,2212,1603.8,-0.143,34.668,2,34.671,2,-999,5,230.8,2,108,2,31.7,2,-999,9,2.31,2,1.163,2,0.567,2,-999,9,-999,9,-999,9
    09AR9604_1,   UNK,88,1,3,3,2,19960229,337,-65.4698,120.315,2212,1804.9,-0.165,34.666,2,34.669,2,-999,5,232.3,2,108.9,2,31.6,2,-999,9,2.31,2,1.285,2,0.607,2,-999,9,-999,9,-999,9
    09AR9604_1,   UNK,88,1,2,2,2,19960229,337,-65.4698,120.315,2212,2001.2,-0.185,34.666,2,34.665,2,-999,5,233.4,2,108,2,32.2,2,-999,9,2.3,2,1.383,2,0.66,2,-999,9,-999,9,-999,9
    09AR9604_1,   UNK,88,1,1,1,2,19960229,337,-65.4698,120.315,2212,2210.1,-0.204,34.665,2,34.661,2,-999,5,234.5,2,107.9,2,31.8,2,-999,9,2.31,2,1.488,2,0.699,2,-999,9,-999,9,-999,9
    09AR9604_1,   UNK,89,1,24,24,2,19960229,816,-65.3815,120.3335,2764,10.7,-0.694,33.699,2,33.705,2,-999,5,353.5,2,35.4,2,23.3,2,-999,9,1.53,2,6.711,2,3.178,2,-999,9,-999,9,-999,9
    09AR9604_1,   UNK,89,1,23,23,2,19960229,816,-65.3815,120.3335,2764,30.7,-0.552,33.79,2,33.793,2,-999,5,350.8,2,34.3,2,24.5,2,-999,9,1.61,2,-999,9,-999,9,-999,9,-999,9,-999,9
    09AR9604_1,   UNK,89,1,22,22,2,19960229,816,-65.3815,120.3335,2764,46.1,-1.228,33.978,3,34.003,2,-999,5,337.6,2,48.8,2,26.6,2,-999,9,1.97,2,-999,9,-999,9,-999,9,-999,9,-999,9
    09AR9604_1,   UNK,89,1,21,21,2,19960229,816,-65.3815,120.3335,2764,75.9,-1.816,34.3,2,34.299,2,-999,5,319.9,2,60.5,2,29.6,2,-999,9,2.18,2,5.537,2,2.618,2,-999,9,-999,9,-999,9
    09AR9604_1,   UNK,89,1,20,20,2,19960229,816,-65.3815,120.3335,2764,100.7,-1.832,34.325,2,34.323,2,-999,5,318.2,2,61.3,2,30,2,-999,9,2.16,2,-999,9,-999,9,-999,9,-999,9,-999,9
    09AR9604_1,   UNK,89,1,19,119,2,19960229,816,-65.3815,120.3335,2764,153.1,-1.833,34.347,2,34.344,2,-999,5,317.7,2,61.5,2,30.6,2,-999,9,2.16,2,5.334,2,2.612,2,-999,9,-999,9,-999,9
    09AR9604_1,   UNK,89,1,18,118,2,19960229,816,-65.3815,120.3335,2764,226.1,-1.597,34.386,2,34.384,2,-999,5,308.9,2,63.6,2,30.4,2,-999,9,2.19,2,-999,9,-999,9,-999,9,-999,9,-999,9
    09AR9604_1,   UNK,89,1,17,17,2,19960229,816,-65.3815,120.3335,2764,303.7,0.977,34.672,2,34.67,2,-999,5,206.7,2,82.7,2,31.8,2,-999,9,2.27,2,1.08,2,0.516,2,-999,9,-999,9,-999,9
    09AR9604_1,   UNK,89,1,16,216,2,19960229,816,-65.3815,120.3335,2764,402,1.188,34.712,2,34.71,2,-999,5,203.7,2,88.2,2,31.2,2,-999,9,2.24,2,0.554,2,0.259,2,-999,9,-999,9,-999,9
    09AR9604_1,   UNK,89,1,15,215,2,19960229,816,-65.3815,120.3335,2764,501,1.057,34.711,2,34.71,2,-999,5,205.5,2,88.3,2,30.7,2,-999,9,2.22,2,0.535,2,0.252,2,-999,9,-999,9,-999,9
    09AR9604_1,   UNK,89,1,14,114,2,19960229,816,-65.3815,120.3335,2764,600.3,0.98,34.714,2,34.71,2,-999,5,205.6,2,96,2,31.3,2,-999,9,2.24,2,0.446,2,0.219,2,-999,9,-999,9,-999,9
    09AR9604_1,   UNK,89,1,12,112,2,19960229,816,-65.3815,120.3335,2764,807,0.781,34.71,2,34.708,2,-999,5,206.8,2,103.5,2,31,2,-999,9,2.24,2,0.277,2,0.129,2,-999,9,-999,9,-999,9
    09AR9604_1,   UNK,89,1,11,11,2,19960229,816,-65.3815,120.3335,2764,903.3,0.64,34.7,2,34.7,2,-999,5,209.7,2,106,2,31.1,2,-999,9,2.27,2,0.357,2,0.174,2,-999,9,-999,9,-999,9
    09AR9604_1,   UNK,89,1,10,10,2,19960229,816,-65.3815,120.3335,2764,1002.9,0.511,34.694,2,34.692,2,-999,5,212.4,2,107.2,2,31.7,2,-999,9,2.27,2,0.417,2,0.193,2,-999,9,-999,9,-999,9
    09AR9604_1,   UNK,89,1,9,9,2,19960229,816,-65.3815,120.3335,2764,1202.5,0.309,34.686,2,34.684,2,-999,5,216.6,2,111.7,2,31.3,2,-999,9,2.27,2,0.452,2,0.216,2,-999,9,-999,9,-999,9
    09AR9604_1,   UNK,89,1,8,8,2,19960229,816,-65.3815,120.3335,2764,1403.8,0.17,34.683,2,34.68,2,-999,5,220.3,2,113.4,2,31.4,2,-999,9,2.3,2,0.505,2,0.238,2,-999,9,-999,9,-999,9
    09AR9604_1,   UNK,89,1,7,7,2,19960229,816,-65.3815,120.3335,2764,1604,0.015,34.676,2,34.673,2,-999,5,225.5,2,108.5,2,31.6,2,-999,9,2.31,2,0.906,2,-999,9,-999,9,-999,9,-999,9
    09AR9604_1,   UNK,89,1,6,6,2,19960229,816,-65.3815,120.3335,2764,1803.9,-0.051,34.674,2,34.673,2,-999,5,228,2,108.4,2,31.8,2,-999,9,2.24,2,0.913,2,0.429,2,-999,9,-999,9,-999,9
    09AR9604_1,   UNK,89,1,5,5,2,19960229,816,-65.3815,120.3335,2764,2006.6,-0.117,34.671,2,34.672,2,-999,5,231.1,2,106.9,2,31.4,2,-999,9,2.26,2,1.163,2,0.552,2,-999,9,-999,9,-999,9
    09AR9604_1,   UNK,89,1,4,4,2,19960229,816,-65.3815,120.3335,2764,2206.1,-0.162,34.67,2,34.67,2,-999,5,233.3,2,104.6,2,31.2,2,-999,9,2.27,2,1.333,2,0.625,2,-999,9,-999,9,-999,9
    09AR9604_1,   UNK,89,1,3,3,2,19960229,816,-65.3815,120.3335,2764,2402.2,-0.188,34.669,2,34.67,2,-999,5,234.9,2,102.1,2,31.1,2,-999,9,2.25,2,1.464,2,0.69,2,-999,9,-999,9,-999,9
    09AR9604_1,   UNK,89,1,2,2,2,19960229,816,-65.3815,120.3335,2764,2606.3,-0.203,34.67,2,34.67,2,-999,5,235.5,2,102.8,2,31.3,2,-999,9,2.27,2,1.527,2,0.709,2,-999,9,-999,9,-999,9
    09AR9604_1,   UNK,89,1,1,1,2,19960229,816,-65.3815,120.3335,2764,2762.6,-0.235,34.667,2,34.666,2,-999,5,237.3,2,105,2,31.4,2,-999,9,2.27,2,1.598,2,0.765,2,-999,9,-999,9,-999,9
    09AR9604_1,   UNK,90,1,23,23,2,19960229,1225,-65.25,120.334,3071,30,-0.7,33.971,2,33.978,2,-999,5,347.5,2,39.3,2,25.1,2,-999,9,1.76,2,-999,9,-999,9,-999,9,-999,9,-999,9
    09AR9604_1,   UNK,90,1,22,22,2,19960229,1225,-65.25,120.334,3071,44.8,-1.766,34.244,2,34.246,2,-999,5,325,2,55.1,2,29,2,-999,9,2.12,2,-999,9,-999,9,-999,9,-999,9,-999,9
    09AR9604_1,   UNK,90,1,21,21,2,19960229,1225,-65.25,120.334,3071,61.2,-1.819,34.279,2,34.279,2,-999,5,329.9,2,57.5,2,29.7,2,-999,9,2.1,2,-999,9,-999,9,-999,9,-999,9,-999,9
    09AR9604_1,   UNK,90,1,20,20,2,19960229,1225,-65.25,120.334,3071,75,-1.833,34.295,2,34.294,2,-999,5,320.8,2,58.6,2,29.6,2,-999,9,2.12,2,-999,9,-999,9,-999,9,-999,9,-999,9
    09AR9604_1,   UNK,90,1,19,119,2,19960229,1225,-65.25,120.334,3071,101.3,-1.832,34.316,2,34.308,2,-999,5,319,2,58.4,2,29.9,2,-999,9,2.13,2,-999,9,-999,9,-999,9,-999,9,-999,9
    09AR9604_1,   UNK,90,1,18,118,2,19960229,1225,-65.25,120.334,3071,149.7,-1.81,34.344,2,34.349,2,-999,5,317.9,2,57.6,2,30.1,2,-999,9,2.11,2,-999,9,-999,9,-999,9,-999,9,-999,9
    09AR9604_1,   UNK,90,1,17,17,2,19960229,1225,-65.25,120.334,3071,200.5,-1.456,34.396,2,34.404,2,-999,5,302.8,2,62.2,2,30.3,2,-999,9,2.09,2,-999,9,-999,9,-999,9,-999,9,-999,9
    09AR9604_1,   UNK,90,1,16,216,2,19960229,1225,-65.25,120.334,3071,301.5,1.133,34.685,2,34.686,2,-999,5,201.7,2,78.7,2,31.5,2,-999,9,2.23,2,0.881,2,0.417,2,-999,9,-999,9,-999,9
    09AR9604_1,   UNK,90,1,15,215,2,19960229,1225,-65.25,120.334,3071,401.9,1.131,34.702,2,34.703,2,-999,5,203.2,2,83.2,2,30.7,2,-999,9,2.21,2,-999,9,-999,9,-999,9,-999,9,-999,9
    09AR9604_1,   UNK,90,1,14,114,2,19960229,1225,-65.25,120.334,3071,500.7,1.112,34.713,2,34.713,2,-999,5,203.2,2,86.4,2,30.7,2,-999,9,2.19,2,0.491,2,0.237,2,-999,9,-999,9,-999,9
    09AR9604_1,   UNK,90,1,13,113,2,19960229,1225,-65.25,120.334,3071,602.2,1.004,34.71,2,34.706,2,-999,5,205.2,2,87.4,2,30.8,2,-999,9,2.2,2,-999,9,-999,9,-999,9,-999,9,-999,9
    09AR9604_1,   UNK,90,1,12,112,2,19960229,1225,-65.25,120.334,3071,803,0.865,34.71,2,34.716,2,-999,5,206,2,96.5,2,30.8,2,-999,9,2.15,2,0.294,2,0.147,2,-999,9,-999,9,-999,9
    09AR9604_1,   UNK,90,1,11,11,2,19960229,1225,-65.25,120.334,3071,1002.3,0.644,34.699,2,34.704,2,-999,5,209.5,2,101.1,2,31.5,2,-999,9,2.19,2,-999,9,-999,9,-999,9,-999,9,-999,9
    09AR9604_1,   UNK,90,1,10,10,2,19960229,1225,-65.25,120.334,3071,1201.6,0.44,34.69,2,34.692,2,-999,5,213.4,2,107.4,2,31.4,2,-999,9,2.24,2,0.492,2,0.24,2,-999,9,-999,9,-999,9
    09AR9604_1,   UNK,90,1,9,9,2,19960229,1225,-65.25,120.334,3071,1403,0.255,34.682,2,34.682,2,-999,5,217.9,2,108.1,2,31.5,2,-999,9,2.28,2,0.925,2,0.455,2,-999,9,-999,9,-999,9
    09AR9604_1,   UNK,90,1,6,6,2,19960229,1225,-65.25,120.334,3071,2002.4,-0.043,34.671,2,34.674,2,-999,5,227.9,2,107.3,2,31.6,2,-999,9,2.24,2,1.334,2,0.638,2,-999,9,-999,9,-999,9
    09AR9604_1,   UNK,90,1,5,5,2,19960229,1225,-65.25,120.334,3071,2202.1,-0.1,34.67,2,34.673,2,-999,5,229.8,2,103.7,2,31.6,2,-999,9,2.24,2,-999,9,-999,9,-999,9,-999,9,-999,9
    09AR9604_1,   UNK,90,1,4,4,2,19960229,1225,-65.25,120.334,3071,2402.4,-0.15,34.667,2,34.671,2,-999,5,233.1,2,101.5,2,31,2,-999,9,2.24,2,1.434,2,0.683,2,-999,9,-999,9,-999,9
    09AR9604_1,   UNK,90,1,3,3,2,19960229,1225,-65.25,120.334,3071,2604.3,-0.174,34.668,2,34.67,2,-999,5,234.5,2,101.6,2,31.6,2,-999,9,2.23,2,1.622,2,0.779,2,-999,9,-999,9,-999,9
    09AR9604_1,   UNK,90,1,2,2,2,19960229,1225,-65.25,120.334,3071,2905.2,-0.23,34.666,2,34.667,2,-999,5,237.8,2,99.4,2,31.3,2,-999,9,2.22,2,0.399,4,0.196,4,-999,9,-999,9,-999,9
    09AR9604_1,   UNK,90,1,1,1,2,19960229,1225,-65.25,120.334,3071,3065.4,-0.286,34.661,2,34.661,2,-999,5,240.7,2,100.8,2,31.3,2,-999,9,2.23,2,1.791,2,0.848,2,-999,9,-999,9,-999,9
    09AR9604_1,   UNK,91,1,24,24,2,19960229,1913,-64.8552,120.3085,3061,11.5,0.384,33.804,2,33.814,2,-999,5,353.9,2,25.7,2,22,2,-999,9,1.41,2,-999,9,-999,9,-999,9,-999,9,-999,9
    09AR9604_1,   UNK,91,1,23,23,2,19960229,1913,-64.8552,120.3085,3061,31.2,0.258,33.817,3,33.818,2,-999,5,353.5,2,28.1,2,22.9,2,-999,9,1.42,2,-999,9,-999,9,-999,9,-999,9,-999,9
    09AR9604_1,   UNK,91,1,22,22,2,19960229,1913,-64.8552,120.3085,3061,62.4,-1.736,34.313,2,34.307,2,-999,5,315.6,2,59.3,2,30.2,2,-999,9,2.1,2,-999,9,-999,9,-999,9,-999,9,-999,9
    09AR9604_1,   UNK,91,1,21,21,2,19960229,1913,-64.8552,120.3085,3061,91.5,-1.805,34.335,2,34.333,2,-999,5,313.4,2,61,2,30.8,2,-999,9,2.15,2,-999,9,-999,9,-999,9,-999,9,-999,9
    09AR9604_1,   UNK,91,1,20,20,2,19960229,1913,-64.8552,120.3085,3061,152.5,-1.381,34.405,3,34.395,2,-999,5,299.4,2,65.8,2,30.9,2,-999,9,2.15,2,-999,9,-999,9,-999,9,-999,9,-999,9
    09AR9604_1,   UNK,91,1,19,119,2,19960229,1913,-64.8552,120.3085,3061,228.6,1.142,34.681,3,34.672,2,-999,5,199.8,2,83.1,2,31.8,2,-999,9,2.21,2,0.908,2,0.419,2,-999,9,-999,9,-999,9
    09AR9604_1,   UNK,91,1,18,118,2,19960229,1913,-64.8552,120.3085,3061,303.2,1.339,34.709,2,34.713,2,-999,5,195.6,2,85.5,2,31.4,2,-999,9,2.19,2,-999,9,-999,9,-999,9,-999,9,-999,9
    09AR9604_1,   UNK,91,1,17,17,2,19960229,1913,-64.8552,120.3085,3061,404.6,1.224,34.713,2,34.716,2,-999,5,200.1,2,85.6,2,31.3,2,-999,9,2.17,2,-999,9,-999,9,-999,9,-999,9,-999,9
    09AR9604_1,   UNK,91,1,16,216,2,19960229,1913,-64.8552,120.3085,3061,504.8,1.161,34.718,2,34.721,2,-999,5,201,2,87.6,2,31,2,-999,9,2.18,2,0.346,2,0.166,2,-999,9,-999,9,-999,9
    09AR9604_1,   UNK,91,1,15,215,2,19960229,1913,-64.8552,120.3085,3061,603.7,0.977,34.708,2,34.708,2,-999,5,206.1,2,89.7,2,31.1,2,-999,9,2.19,2,-999,9,-999,9,-999,9,-999,9,-999,9
    09AR9604_1,   UNK,91,1,14,114,2,19960229,1913,-64.8552,120.3085,3061,703.4,0.889,34.705,2,34.702,2,-999,5,207.3,2,91.4,2,31.3,2,-999,9,2.19,2,-999,9,-999,9,-999,9,-999,9,-999,9
    09AR9604_1,   UNK,91,1,13,113,2,19960229,1913,-64.8552,120.3085,3061,803.5,0.778,34.702,2,34.695,2,-999,5,208.7,2,98.4,2,31.3,2,-999,9,2.2,2,-999,9,-999,9,-999,9,-999,9,-999,9
    09AR9604_1,   UNK,91,1,12,112,2,19960229,1913,-64.8552,120.3085,3061,908.2,0.69,34.701,2,34.704,2,-999,5,209.3,2,97.5,2,31.7,2,-999,9,2.22,2,-999,9,-999,9,-999,9,-999,9,-999,9
    09AR9604_1,   UNK,91,1,11,11,2,19960229,1913,-64.8552,120.3085,3061,1004.2,0.539,34.69,3,34.693,2,-999,5,212.7,2,104.1,2,31.5,2,-999,9,2.21,2,0.498,2,0.231,2,-999,9,-999,9,-999,9
    09AR9604_1,   UNK,91,1,10,10,2,19960229,1913,-64.8552,120.3085,3061,1205.5,0.43,34.69,2,34.691,2,-999,5,213.1,2,109.2,2,32.1,2,-999,9,2.23,2,-999,9,-999,9,-999,9,-999,9,-999,9
    09AR9604_1,   UNK,91,1,9,9,2,19960229,1913,-64.8552,120.3085,3061,1404,0.274,34.681,2,34.682,2,-999,5,217.3,2,109.6,2,31.8,2,-999,9,2.26,2,0.475,2,0.231,2,-999,9,-999,9,-999,9
    09AR9604_1,   UNK,91,1,8,8,2,19960229,1913,-64.8552,120.3085,3061,1603.5,0.159,34.679,2,34.677,2,-999,5,220.4,2,112.9,2,31.8,2,-999,9,2.25,2,0.512,2,0.235,2,-999,9,-999,9,-999,9
    09AR9604_1,   UNK,91,1,7,7,2,19960229,1913,-64.8552,120.3085,3061,1804.7,0.08,34.679,2,34.672,2,-999,5,222.8,2,111.8,2,32.1,2,-999,9,2.24,2,0.47,2,0.229,2,-999,9,-999,9,-999,9
    09AR9604_1,   UNK,91,1,6,6,2,19960229,1913,-64.8552,120.3085,3061,2005.6,-0.053,34.671,2,34.673,2,-999,5,228.6,2,102.6,2,32.3,2,-999,9,2.22,2,1.029,2,0.486,2,-999,9,-999,9,-999,9
    09AR9604_1,   UNK,91,1,5,5,2,19960229,1913,-64.8552,120.3085,3061,2204.5,-0.11,34.669,2,34.672,2,-999,5,231.4,2,105.8,2,32,2,-999,9,2.21,2,1.106,2,0.513,2,-999,9,-999,9,-999,9
    09AR9604_1,   UNK,91,1,4,4,2,19960229,1913,-64.8552,120.3085,3061,2405.6,-0.159,34.67,2,34.67,2,-999,5,233.3,2,107.7,2,31.8,2,-999,9,2.22,2,1.121,2,0.514,2,-999,9,-999,9,-999,9
    09AR9604_1,   UNK,91,1,3,3,2,19960229,1913,-64.8552,120.3085,3061,2705.4,-0.26,34.663,2,34.663,2,-999,5,238.8,2,100,2,31.6,2,-999,9,2.18,2,1.653,2,0.758,2,-999,9,-999,9,-999,9
    09AR9604_1,   UNK,91,1,2,2,2,19960229,1913,-64.8552,120.3085,3061,2956.4,-0.318,34.658,2,34.656,2,-999,5,242.6,2,98.3,2,31.4,2,-999,9,2.22,2,1.888,2,0.88,2,-999,9,-999,9,-999,9
    09AR9604_1,   UNK,91,1,1,1,2,19960229,1913,-64.8552,120.3085,3061,3064.4,-0.317,34.659,2,34.654,2,-999,5,242.2,2,100.3,2,32,2,-999,9,2.21,2,1.903,2,0.883,2,-999,9,-999,9,-999,9