BOTTLE,2021011SIOJHS,,,,,,,,,,,,,,,,,,,,,,,,,,,,,,,,,,,,,,
EXPOCODE,SECT_ID,STNNBR,CASTNO,SAMPNO,BTLNBR,BTLNBR_FLAG_W,DATE,TIME,LATITUDE,LONGITUDE,DEPTH,CTDPRS,CTDTMP,CTDSAL,CTDSAL_FLAG_W,SALNTY,SALNTY_FLAG_W,CTDOXY,CTDOXY_FLAG_W,OXYGEN,OXYGEN_FLAG_W,SILCAT,SILCAT_FLAG_W,NITRAT,NITRAT_FLAG_W,NITRIT,NITRIT_FLAG_W,PHSPHT,PHSPHT_FLAG_W,CFC-11,CFC-11_FLAG_W,CFC-12,CFC-12_FLAG_W,SF6,SF6_FLAG_W,TCARBN,TCARBN_FLAG_W,ALKALI,ALKALI_FLAG_W
,,,,,,,,,,,,DBAR,DEG C,PSS-78,,PSS-78,,UMOL/KG,,UMOL/KG,,UMOL/KG,,UMOL/KG,,UMOL/KG,,UMOL/KG,,PMOL/KG,,PMOL/KG,,NMOL/KG,,UMOL/KG,,UMOL/KG,
    09AR9604_1,   UNK,32,1,24,24,2,19960207,1218,-64.0012,93.5643,3297,10.8,0.379,33.865,4,33.862,2,352.5,2,352.8,2,44.8,2,24,2,-999,9,1.41,2,6.5,2,3.16,2,-999,9,-999,9,-999,9
    09AR9604_1,   UNK,32,1,23,23,2,19960207,1218,-64.0012,93.5643,3297,51.3,0.021,33.868,2,33.875,2,308.7,2,347.6,2,46.3,2,24.5,2,-999,9,1.49,2,-999,9,-999,9,-999,9,-999,9,-999,9
    09AR9604_1,   UNK,32,1,22,22,2,19960207,1218,-64.0012,93.5643,3297,101.7,-1.068,34.412,2,34.411,2,278,2,283.8,2,67.2,2,30.7,2,-999,9,2.13,2,4.304,2,2.048,2,-999,9,-999,9,-999,9
    09AR9604_1,   UNK,32,1,21,21,2,19960207,1218,-64.0012,93.5643,3297,151.8,0.131,34.561,2,34.561,2,245.9,2,237.3,2,76.5,2,31.5,2,-999,9,2.13,2,-999,9,-999,9,-999,9,-999,9,-999,9
    09AR9604_1,   UNK,32,1,20,20,2,19960207,1218,-64.0012,93.5643,3297,201.6,0.643,34.628,2,34.627,2,216.9,2,217.6,2,80.2,2,31.5,2,-999,9,2.18,2,1.58,2,0.718,2,-999,9,-999,9,-999,9
    09AR9604_1,   UNK,32,1,19,119,2,19960207,1218,-64.0012,93.5643,3297,302.4,1.15,34.699,2,34.698,2,200.1,2,201.7,2,86.8,2,31.1,2,-999,9,2.16,2,0.62,2,0.292,2,-999,9,-999,9,-999,9
    09AR9604_1,   UNK,32,1,18,118,2,19960207,1218,-64.0012,93.5643,3297,352.7,1.161,34.706,2,34.708,2,198.9,2,200.9,2,87.6,2,31.2,2,-999,9,2.15,2,0.532,2,0.237,2,-999,9,-999,9,-999,9
    09AR9604_1,   UNK,32,1,17,17,2,19960207,1218,-64.0012,93.5643,3297,402,1.154,34.713,2,34.714,2,199.1,2,200.9,2,90.3,2,31.2,2,-999,9,2.16,2,0.434,2,0.194,2,-999,9,-999,9,-999,9
    09AR9604_1,   UNK,32,1,16,216,2,19960207,1218,-64.0012,93.5643,3297,502.8,1.09,34.717,2,34.716,2,200.8,2,201.7,2,93.3,2,31.2,2,-999,9,2.17,2,-999,9,-999,9,-999,9,-999,9,-999,9
    09AR9604_1,   UNK,32,1,15,215,2,19960207,1218,-64.0012,93.5643,3297,603.1,1.017,34.716,2,34.717,2,201.9,2,202.5,2,95.9,2,31.1,2,-999,9,2.15,2,0.249,2,0.118,2,-999,9,-999,9,-999,9
    09AR9604_1,   UNK,32,1,14,114,2,19960207,1218,-64.0012,93.5643,3297,702.8,0.938,34.713,2,34.714,2,204.6,2,203.7,2,98.3,2,31.3,2,-999,9,2.18,2,-999,9,-999,9,-999,9,-999,9,-999,9
    09AR9604_1,   UNK,32,1,13,113,2,19960207,1218,-64.0012,93.5643,3297,803.2,0.852,34.709,2,34.71,2,205.5,2,204.9,2,101.3,2,31.3,2,-999,9,2.18,2,0.202,2,0.094,2,-999,9,-999,9,-999,9
    09AR9604_1,   UNK,32,1,12,112,2,19960207,1218,-64.0012,93.5643,3297,903.8,0.771,34.706,2,34.706,2,207.3,2,206.1,2,103,2,31.5,2,-999,9,2.21,2,0.196,2,0.09,2,-999,9,-999,9,-999,9
    09AR9604_1,   UNK,32,1,11,11,2,19960207,1218,-64.0012,93.5643,3297,1005.5,0.707,34.704,2,34.705,2,208.2,2,206.9,2,104.4,2,31.6,2,-999,9,2.21,2,0.2,2,0.092,2,-999,9,-999,9,-999,9
    09AR9604_1,   UNK,32,1,10,10,2,19960207,1218,-64.0012,93.5643,3297,1203.3,0.529,34.694,2,34.698,2,212,2,210.2,2,109.1,2,31.9,2,-999,9,2.21,2,0.2,2,0.094,2,-999,9,-999,9,-999,9
    09AR9604_1,   UNK,32,1,9,9,2,19960207,1218,-64.0012,93.5643,3297,1403.5,0.377,34.687,2,34.689,2,214.7,2,214,2,110.6,2,32,2,-999,9,2.22,2,0.284,2,0.133,2,-999,9,-999,9,-999,9
    09AR9604_1,   UNK,32,1,8,8,2,19960207,1218,-64.0012,93.5643,3297,1604.3,0.256,34.683,2,34.683,2,217.9,2,217.4,2,101.2,4,32,2,-999,9,2.23,2,0.329,2,0.158,2,-999,9,-999,9,-999,9
    09AR9604_1,   UNK,32,1,7,7,2,19960207,1218,-64.0012,93.5643,3297,1804.5,0.141,34.679,2,34.679,2,220.9,2,221.2,2,105.2,4,32,2,-999,9,2.21,2,0.437,2,0.208,2,-999,9,-999,9,-999,9
    09AR9604_1,   UNK,32,1,6,6,2,19960207,1218,-64.0012,93.5643,3297,2104.9,0.027,34.677,2,34.676,2,225.5,2,225.8,2,113.1,2,31.8,2,-999,9,2.22,2,0.588,2,0.273,2,-999,9,-999,9,-999,9
    09AR9604_1,   UNK,32,1,5,5,2,19960207,1218,-64.0012,93.5643,3297,2405.1,-0.06,34.674,2,34.674,2,229.4,2,229.5,2,111.7,2,31.7,2,-999,9,2.21,2,0.793,2,0.376,2,-999,9,-999,9,-999,9
    09AR9604_1,   UNK,32,1,4,4,2,19960207,1218,-64.0012,93.5643,3297,2705.3,-0.101,34.673,2,34.674,2,233,2,231.9,2,109.1,2,31.5,2,-999,9,2.21,2,1.024,2,0.462,2,-999,9,-999,9,-999,9
    09AR9604_1,   UNK,32,1,3,3,2,19960207,1218,-64.0012,93.5643,3297,3006.1,-0.127,34.67,2,34.672,2,236.2,2,233.8,2,108.2,2,31.5,2,-999,9,2.2,2,1.154,2,0.52,2,-999,9,-999,9,-999,9
    09AR9604_1,   UNK,32,1,2,2,2,19960207,1218,-64.0012,93.5643,3297,3209.5,-0.203,34.668,2,34.669,2,238.3,2,236.3,2,113.7,2,31.7,2,-999,9,2.21,2,-999,9,-999,9,-999,9,-999,9,-999,9
    09AR9604_1,   UNK,32,1,1,1,2,19960207,1218,-64.0012,93.5643,3297,3262.2,-0.216,34.668,2,34.669,2,239,2,236.7,2,112.4,2,31.6,2,-999,9,2.21,2,1.326,2,0.603,2,-999,9,-999,9,-999,9
    09AR9604_1,   UNK,33,1,24,24,2,19960207,1804,-64.297,93.5697,3051,11.5,-0.067,33.942,3,33.949,2,356,2,354.9,2,45.7,2,24.4,2,-999,9,1.54,2,-999,9,-999,9,-999,9,-999,9,-999,9
    09AR9604_1,   UNK,33,1,23,23,2,19960207,1804,-64.297,93.5697,3051,51.8,-0.619,34.001,2,34.003,2,340,2,344.7,2,48.9,2,24,2,-999,9,1.73,2,-999,9,-999,9,-999,9,-999,9,-999,9
    09AR9604_1,   UNK,33,1,22,22,2,19960207,1804,-64.297,93.5697,3051,82.1,-1.295,34.337,2,34.336,2,302.4,2,295.6,2,59.2,2,29.8,2,-999,9,2.15,2,4.768,2,2.299,2,-999,9,-999,9,-999,9
    09AR9604_1,   UNK,33,1,21,21,2,19960207,1804,-64.297,93.5697,3051,121.6,-1.243,34.415,2,34.416,2,287.3,2,291.1,2,61.8,2,30.5,2,-999,9,2.15,2,-999,9,-999,9,-999,9,-999,9,-999,9
    09AR9604_1,   UNK,33,1,20,20,2,19960207,1804,-64.297,93.5697,3051,202,-0.177,34.547,2,34.548,2,252,2,251.2,2,70.3,2,30.8,2,-999,9,2.18,2,2.823,2,1.345,2,-999,9,-999,9,-999,9
    09AR9604_1,   UNK,33,1,19,119,2,19960207,1804,-64.297,93.5697,3051,252.2,0.122,34.593,3,34.596,2,235.9,2,239.3,2,79.4,2,31.2,2,-999,9,2.18,2,-999,9,-999,9,-999,9,-999,9,-999,9
    09AR9604_1,   UNK,33,1,18,118,2,19960207,1804,-64.297,93.5697,3051,302.1,0.271,34.62,2,34.618,2,229.9,2,233.9,2,81,2,30.9,2,-999,9,2.17,2,-999,9,-999,9,-999,9,-999,9,-999,9
    09AR9604_1,   UNK,33,1,17,17,2,19960207,1804,-64.297,93.5697,3051,402.1,0.882,34.691,2,34.69,2,211.8,2,209.8,2,87.9,2,30.8,2,-999,9,2.18,2,-999,9,-999,9,-999,9,-999,9,-999,9
    09AR9604_1,   UNK,33,1,16,216,2,19960207,1804,-64.297,93.5697,3051,502.6,0.838,34.696,2,34.695,2,209.8,2,209.3,2,91,2,30.9,2,-999,9,2.19,2,0.616,2,0.29,2,-999,9,-999,9,-999,9
    09AR9604_1,   UNK,33,1,15,215,2,19960207,1804,-64.297,93.5697,3051,602.2,0.718,34.693,2,34.691,2,210.3,2,211.3,2,95.9,2,30.9,2,-999,9,2.19,2,-999,9,-999,9,-999,9,-999,9,-999,9
    09AR9604_1,   UNK,33,1,14,114,2,19960207,1804,-64.297,93.5697,3051,702.8,0.711,34.697,2,34.696,2,207.7,2,208.9,2,100.6,2,31.7,2,-999,9,2.2,2,-999,9,-999,9,-999,9,-999,9,-999,9
    09AR9604_1,   UNK,33,1,13,113,2,19960207,1804,-64.297,93.5697,3051,802.8,0.64,34.696,2,34.694,2,205.3,2,209.8,2,104,2,31.2,2,-999,9,2.2,2,-999,9,-999,9,-999,9,-999,9,-999,9
    09AR9604_1,   UNK,33,1,12,112,2,19960207,1804,-64.297,93.5697,3051,910.2,0.564,34.693,2,34.69,2,209.1,2,210.6,2,101.8,2,31.2,2,-999,9,2.21,2,0.349,2,0.165,2,-999,9,-999,9,-999,9
    09AR9604_1,   UNK,33,1,11,11,2,19960207,1804,-64.297,93.5697,3051,1003.4,0.463,34.686,2,34.686,2,210.3,2,213.8,2,104.9,2,31.7,2,-999,9,2.19,2,0.444,2,0.208,2,-999,9,-999,9,-999,9
    09AR9604_1,   UNK,33,1,10,10,2,19960207,1804,-64.297,93.5697,3051,1203.3,0.328,34.683,2,34.681,2,219.4,2,216,2,111.3,2,31.4,2,-999,9,2.22,2,0.39,2,0.185,2,-999,9,-999,9,-999,9
    09AR9604_1,   UNK,33,1,9,9,2,19960207,1804,-64.297,93.5697,3051,1404.1,0.196,34.677,2,34.676,2,220.4,2,220.1,2,111.5,2,32.2,2,-999,9,2.23,2,0.478,2,0.227,2,-999,9,-999,9,-999,9
    09AR9604_1,   UNK,33,1,8,8,2,19960207,1804,-64.297,93.5697,3051,1604.3,0.132,34.677,2,34.676,2,222.6,2,221.4,2,111.3,2,31.9,2,-999,9,2.23,2,-999,9,-999,9,-999,9,-999,9,-999,9
    09AR9604_1,   UNK,33,1,7,7,2,19960207,1804,-64.297,93.5697,3051,1804.6,0.019,34.671,2,34.67,2,226.6,2,226.3,2,113.9,2,32.2,2,-999,9,2.21,2,-999,9,-999,9,-999,9,-999,9,-999,9
    09AR9604_1,   UNK,33,1,6,6,2,19960207,1804,-64.297,93.5697,3051,2006.2,-0.029,34.67,2,34.67,2,230.9,2,228.1,2,110.4,2,31.6,2,-999,9,2.23,2,0.767,2,0.359,2,-999,9,-999,9,-999,9
    09AR9604_1,   UNK,33,1,5,5,2,19960207,1804,-64.297,93.5697,3051,2205.9,-0.067,34.67,2,34.67,2,230.4,2,229.7,2,108.7,2,34.4,4,-999,9,2.22,2,-999,9,-999,9,-999,9,-999,9,-999,9
    09AR9604_1,   UNK,33,1,4,4,2,19960207,1804,-64.297,93.5697,3051,2455.7,-0.099,34.67,2,34.67,2,232.6,2,231.2,2,107.2,2,31.4,2,-999,9,2.13,4,-999,9,-999,9,-999,9,-999,9,-999,9
    09AR9604_1,   UNK,33,1,3,3,2,19960207,1804,-64.297,93.5697,3051,2706.7,-0.125,34.669,2,34.67,2,234.6,2,233,2,104.9,2,31.2,2,-999,9,2.21,2,-999,9,-999,9,-999,9,-999,9,-999,9
    09AR9604_1,   UNK,33,1,2,2,2,19960207,1804,-64.297,93.5697,3051,2961.1,-0.153,34.668,2,34.67,2,232.3,2,234.6,2,107.6,2,31.2,2,-999,9,2.22,2,1.134,2,0.536,2,-999,9,-999,9,-999,9
    09AR9604_1,   UNK,33,1,1,1,2,19960207,1804,-64.297,93.5697,3051,3033.1,-0.166,34.667,2,34.668,2,238.1,2,235.1,2,108.2,2,31.7,2,-999,9,2.22,2,1.175,2,0.547,2,-999,9,-999,9,-999,9
    09AR9604_1,   UNK,34,1,24,24,2,19960208,159,-64.636,93.563,2651,12.1,-0.323,33.918,4,33.916,2,384,3,364,2,43.8,2,22.5,2,-999,9,1.49,2,6.737,2,3.2,2,-999,9,-999,9,-999,9
    09AR9604_1,   UNK,34,1,23,23,2,19960208,159,-64.636,93.563,2651,41.8,-0.531,33.955,3,33.956,2,358.8,2,360.3,2,45.6,2,23.2,2,-999,9,1.63,2,6.745,2,3.198,2,-999,9,-999,9,-999,9
    09AR9604_1,   UNK,34,1,22,22,2,19960208,159,-64.636,93.563,2651,82.2,-1.836,34.327,2,34.324,2,325.1,2,317.5,2,56.1,2,30.2,2,-999,9,2.18,3,-999,9,-999,9,-999,9,-999,9,-999,9
    09AR9604_1,   UNK,34,1,21,21,2,19960208,159,-64.636,93.563,2651,121.6,-1.845,34.347,2,34.347,2,320.6,2,316.6,2,59.8,2,30.2,2,-999,9,2.1,2,-999,9,-999,9,-999,9,-999,9,-999,9
    09AR9604_1,   UNK,34,1,20,20,2,19960208,159,-64.636,93.563,2651,150.8,-1.841,34.358,2,34.357,2,318,2,317.6,2,61,2,30.3,2,-999,9,2.14,2,5.624,2,2.657,2,-999,9,-999,9,-999,9
    09AR9604_1,   UNK,34,1,19,119,2,19960208,159,-64.636,93.563,2651,201.5,-1.818,34.371,2,34.369,2,319.7,2,318.4,2,60.4,2,30.4,2,-999,9,2.13,2,-999,9,-999,9,-999,9,-999,9,-999,9
    09AR9604_1,   UNK,34,1,18,118,2,19960208,159,-64.636,93.563,2651,251.6,-1.766,34.385,2,34.387,2,314.1,2,317.6,2,60.2,2,30.2,2,-999,9,2.14,2,-999,9,-999,9,-999,9,-999,9,-999,9
    09AR9604_1,   UNK,34,1,17,17,2,19960208,159,-64.636,93.563,2651,301,-1.524,34.419,4,34.422,2,306,2,306.7,2,63.5,2,30.4,2,-999,9,2.16,2,5.106,2,2.42,2,-999,9,-999,9,-999,9
    09AR9604_1,   UNK,34,1,16,216,2,19960208,159,-64.636,93.563,2651,402.6,-0.144,34.568,2,34.566,2,253.7,2,251.4,2,73.1,2,31.5,2,-999,9,2.22,2,2.783,2,1.302,2,-999,9,-999,9,-999,9
    09AR9604_1,   UNK,34,1,15,215,2,19960208,159,-64.636,93.563,2651,504.6,0.2,34.625,2,34.622,2,237.9,2,235.7,2,81.9,2,31.2,2,-999,9,2.27,2,-999,9,-999,9,-999,9,-999,9,-999,9
    09AR9604_1,   UNK,34,1,14,114,2,19960208,159,-64.636,93.563,2651,603.4,0.482,34.663,2,34.663,2,219.9,2,222.6,2,88.7,2,31.6,2,-999,9,2.24,2,1.232,2,0.561,2,-999,9,-999,9,-999,9
    09AR9604_1,   UNK,34,1,13,113,2,19960208,159,-64.636,93.563,2651,702,0.479,34.669,3,34.669,2,216.8,2,220.2,2,95.7,2,31.5,2,-999,9,2.24,2,1.002,2,0.46,2,-999,9,-999,9,-999,9
    09AR9604_1,   UNK,34,1,12,112,2,19960208,159,-64.636,93.563,2651,803.3,0.44,34.673,2,34.673,2,215.8,2,218.8,2,94.9,2,31.5,2,-999,9,2.24,2,0.815,2,0.388,2,-999,9,-999,9,-999,9
    09AR9604_1,   UNK,34,1,11,11,2,19960208,159,-64.636,93.563,2651,904.4,0.36,34.671,2,34.671,2,221.3,2,220.2,2,97.4,2,32,2,-999,9,2.2,3,-999,9,-999,9,-999,9,-999,9,-999,9
    09AR9604_1,   UNK,34,1,10,10,2,19960208,159,-64.636,93.563,2651,1003.4,0.29,34.668,2,34.67,2,218.6,2,221.4,2,101.5,2,32.1,2,-999,9,2.26,2,0.803,6,0.373,6,-999,9,-999,9,-999,9
    09AR9604_1,   UNK,34,1,9,9,2,19960208,159,-64.636,93.563,2651,1203.6,0.269,34.677,2,34.678,2,219.6,2,218,2,106.7,2,32,2,-999,9,2.27,2,0.466,2,0.221,2,-999,9,-999,9,-999,9
    09AR9604_1,   UNK,34,1,8,8,2,19960208,159,-64.636,93.563,2651,1407.5,0.14,34.673,2,34.673,2,227.4,2,222.1,2,108,2,32,2,-999,9,2.25,2,-999,9,-999,9,-999,9,-999,9,-999,9
    09AR9604_1,   UNK,34,1,7,7,2,19960208,159,-64.636,93.563,2651,1605.6,0.076,34.672,2,34.672,2,225.5,2,223.9,2,108.7,2,32,2,-999,9,2.31,3,0.577,2,0.269,2,-999,9,-999,9,-999,9
    09AR9604_1,   UNK,34,1,6,6,2,19960208,159,-64.636,93.563,2651,1801.4,0.013,34.67,2,34.669,2,228.1,2,226.4,2,111.4,2,32.4,2,-999,9,2.25,2,-999,9,-999,9,-999,9,-999,9,-999,9
    09AR9604_1,   UNK,34,1,5,5,2,19960208,159,-64.636,93.563,2651,2004.6,-0.045,34.669,2,34.67,2,227.7,2,228.7,2,107.9,2,32.2,2,-999,9,2.28,2,0.763,2,0.358,2,-999,9,-999,9,-999,9
    09AR9604_1,   UNK,34,1,4,4,2,19960208,159,-64.636,93.563,2651,2205.7,-0.079,34.668,2,34.67,2,228.8,2,230.3,2,106.6,2,31.9,2,-999,9,2.28,2,-999,9,-999,9,-999,9,-999,9,-999,9
    09AR9604_1,   UNK,34,1,3,3,2,19960208,159,-64.636,93.563,2651,2404.6,-0.108,34.668,2,34.67,2,231.2,2,231.7,2,98.4,2,32.2,2,-999,9,2.28,2,1.004,2,0.468,2,-999,9,-999,9,-999,9
    09AR9604_1,   UNK,34,1,2,2,2,19960208,159,-64.636,93.563,2651,2556.4,-0.123,34.668,2,34.67,2,231.7,2,232.3,2,102.5,2,31.7,2,-999,9,2.28,2,1.069,2,0.495,2,-999,9,-999,9,-999,9
    09AR9604_1,   UNK,34,1,1,1,2,19960208,159,-64.636,93.563,2651,2639.4,-0.137,34.668,2,34.67,2,232.4,2,233.1,2,105.6,2,31.8,2,-999,9,2.26,2,1.101,2,0.508,2,-999,9,-999,9,-999,9
    09AR9604_1,   UNK,35,1,22,22,2,19960208,537,-64.7322,93.5435,2260,11.2,-0.287,33.79,2,33.804,2,365.8,2,361.2,2,48,2,22.9,2,-999,9,1.37,2,-999,9,-999,9,-999,9,-999,9,-999,9
    09AR9604_1,   UNK,35,1,21,21,2,19960208,537,-64.7322,93.5435,2260,26.7,-0.346,33.887,2,33.889,2,363.8,2,361.5,2,48,2,22.9,2,-999,9,1.4,2,-999,9,-999,9,-999,9,-999,9,-999,9
    09AR9604_1,   UNK,35,1,20,20,2,19960208,537,-64.7322,93.5435,2260,50.5,-0.517,33.94,2,33.939,2,339.2,2,351.2,2,51.5,2,23.9,2,-999,9,1.55,2,-999,9,-999,9,-999,9,-999,9,-999,9
    09AR9604_1,   UNK,35,1,19,119,2,19960208,537,-64.7322,93.5435,2260,75.5,-1.175,34.124,3,34.127,2,325.6,2,331.1,2,58.5,2,27,2,-999,9,1.91,2,-999,9,-999,9,-999,9,-999,9,-999,9
    09AR9604_1,   UNK,35,1,18,118,2,19960208,537,-64.7322,93.5435,2260,100.6,-1.661,34.309,2,34.312,2,315.7,2,309.7,2,64.2,2,30.1,2,-999,9,2.11,2,-999,9,-999,9,-999,9,-999,9,-999,9
    09AR9604_1,   UNK,35,1,16,216,2,19960208,537,-64.7322,93.5435,2260,151.5,-1.527,34.38,3,34.381,2,303.5,2,302.6,2,64.4,2,30.7,2,-999,9,2.12,2,-999,9,-999,9,-999,9,-999,9,-999,9
    09AR9604_1,   UNK,35,1,15,215,2,19960208,537,-64.7322,93.5435,2260,202.1,-1.195,34.433,4,34.434,2,295.6,2,291.1,2,69.3,2,30.8,2,-999,9,2.12,2,-999,9,-999,9,-999,9,-999,9,-999,9
    09AR9604_1,   UNK,35,1,14,114,2,19960208,537,-64.7322,93.5435,2260,300.9,-0.199,34.56,2,34.556,2,252.2,2,253,2,82.5,2,31.1,2,-999,9,2.13,2,-999,9,-999,9,-999,9,-999,9,-999,9
    09AR9604_1,   UNK,35,1,13,113,2,19960208,537,-64.7322,93.5435,2260,401.3,0.461,34.638,2,34.638,2,225.7,2,226.5,2,89.5,2,31.1,2,-999,9,2.17,2,-999,9,-999,9,-999,9,-999,9,-999,9
    09AR9604_1,   UNK,35,1,12,112,2,19960208,537,-64.7322,93.5435,2260,502,0.242,34.635,2,34.635,2,224.6,2,232,2,95.3,2,31.2,2,-999,9,2.17,2,1.659,2,0.774,2,-999,9,-999,9,-999,9
    09AR9604_1,   UNK,35,1,11,11,2,19960208,537,-64.7322,93.5435,2260,603.1,0.254,34.645,3,34.645,2,231.8,2,228.5,2,100.4,2,31.4,2,-999,9,2.17,2,1.382,2,0.637,2,-999,9,-999,9,-999,9
    09AR9604_1,   UNK,35,1,10,10,2,19960208,537,-64.7322,93.5435,2260,703.4,0.511,34.675,2,34.674,2,215.6,2,215.4,2,108,2,32.6,4,-999,9,2.2,2,0.643,2,0.298,2,-999,9,-999,9,-999,9
    09AR9604_1,   UNK,35,1,9,9,2,19960208,537,-64.7322,93.5435,2260,803.4,0.442,34.673,2,34.672,2,214.4,2,216.5,2,110.3,2,31.7,2,-999,9,2.22,2,-999,9,-999,9,-999,9,-999,9,-999,9
    09AR9604_1,   UNK,35,1,8,8,2,19960208,537,-64.7322,93.5435,2260,902.7,0.398,34.673,2,34.673,2,218,2,216.4,2,114.5,2,31.8,2,-999,9,2.21,2,-999,9,-999,9,-999,9,-999,9,-999,9
    09AR9604_1,   UNK,35,1,7,7,2,19960208,537,-64.7322,93.5435,2260,1103.1,0.218,34.663,2,34.662,2,221.6,2,222.1,2,114.6,2,31.7,2,-999,9,2.23,2,0.753,2,0.351,2,-999,9,-999,9,-999,9
    09AR9604_1,   UNK,35,1,6,6,2,19960208,537,-64.7322,93.5435,2260,1304.2,0.219,34.671,2,34.672,2,221.7,2,219.1,2,116.7,2,32.1,2,-999,9,2.24,2,-999,9,-999,9,-999,9,-999,9,-999,9
    09AR9604_1,   UNK,35,1,5,5,2,19960208,537,-64.7322,93.5435,2260,1504.7,0.114,34.668,2,34.667,2,224.1,2,222.5,2,118.3,2,31.9,2,-999,9,2.24,2,-999,9,-999,9,-999,9,-999,9,-999,9
    09AR9604_1,   UNK,35,1,4,4,2,19960208,537,-64.7322,93.5435,2260,1703.9,0.039,34.665,2,34.665,2,226.6,2,225.5,2,120.7,2,31.9,2,-999,9,2.25,2,0.66,2,0.309,2,-999,9,-999,9,-999,9
    09AR9604_1,   UNK,35,1,3,3,2,19960208,537,-64.7322,93.5435,2260,1908.3,-0.031,34.662,2,34.659,2,228.4,2,228.9,2,119,2,32.2,2,-999,9,2.24,2,-999,9,-999,9,-999,9,-999,9,-999,9
    09AR9604_1,   UNK,35,1,2,2,2,19960208,537,-64.7322,93.5435,2260,2142,-0.06,34.661,2,34.661,2,227.2,2,230.1,2,115.6,2,32.3,2,-999,9,2.24,2,0.931,2,0.432,2,-999,9,-999,9,-999,9
    09AR9604_1,   UNK,35,1,1,1,2,19960208,537,-64.7322,93.5435,2260,2253.8,-0.053,34.658,2,34.661,2,227.5,2,230.2,2,115.2,2,31.9,2,-999,9,2.24,2,0.929,2,0.433,2,-999,9,-999,9,-999,9