BOTTLE,2021011SIOJHS,,,,,,,,,,,,,,,,,,,,,,,,,,,,,,,,,,,,,,
EXPOCODE,SECT_ID,STNNBR,CASTNO,SAMPNO,BTLNBR,BTLNBR_FLAG_W,DATE,TIME,LATITUDE,LONGITUDE,DEPTH,CTDPRS,CTDTMP,CTDSAL,CTDSAL_FLAG_W,SALNTY,SALNTY_FLAG_W,CTDOXY,CTDOXY_FLAG_W,OXYGEN,OXYGEN_FLAG_W,SILCAT,SILCAT_FLAG_W,NITRAT,NITRAT_FLAG_W,NITRIT,NITRIT_FLAG_W,PHSPHT,PHSPHT_FLAG_W,CFC-11,CFC-11_FLAG_W,CFC-12,CFC-12_FLAG_W,SF6,SF6_FLAG_W,TCARBN,TCARBN_FLAG_W,ALKALI,ALKALI_FLAG_W
,,,,,,,,,,,,DBAR,DEG C,PSS-78,,PSS-78,,UMOL/KG,,UMOL/KG,,UMOL/KG,,UMOL/KG,,UMOL/KG,,UMOL/KG,,PMOL/KG,,PMOL/KG,,NMOL/KG,,UMOL/KG,,UMOL/KG,
    09AR9604_1,   UNK,97,1,24,24,2,19960302,955,-63.2452,122.1682,3839,10.3,1.719,33.788,2,33.791,2,-999,5,342.3,2,22.9,2,25.1,2,-999,9,1.47,2,6.13,2,2.964,2,-999,9,-999,9,-999,9
    09AR9604_1,   UNK,97,1,23,23,2,19960302,955,-63.2452,122.1682,3839,40.5,-0.119,33.953,4,33.95,2,-999,5,343.6,2,37.8,2,27.5,2,-999,9,1.95,2,-999,9,-999,9,-999,9,-999,9,-999,9
    09AR9604_1,   UNK,97,1,22,22,2,19960302,955,-63.2452,122.1682,3839,69.9,-0.239,34.218,4,34.227,2,-999,5,284.7,2,55.3,2,30.8,2,-999,9,2.27,2,4.505,2,2.162,2,-999,9,-999,9,-999,9
    09AR9604_1,   UNK,97,1,21,21,2,19960302,955,-63.2452,122.1682,3839,99.8,0.716,34.504,4,34.499,2,-999,5,218.8,2,70.1,2,32.5,2,-999,9,2.28,2,-999,9,-999,9,-999,9,-999,9,-999,9
    09AR9604_1,   UNK,97,1,20,20,2,19960302,955,-63.2452,122.1682,3839,179.9,1.437,34.637,2,34.637,2,-999,5,191.3,2,77.8,2,32.5,2,-999,9,2.27,2,0.953,6,0.441,6,-999,9,-999,9,-999,9
    09AR9604_1,   UNK,97,1,19,119,2,19960302,955,-63.2452,122.1682,3839,249.8,1.482,34.667,2,34.666,2,-999,5,191.7,2,79.2,2,32,2,-999,9,2.24,2,-999,9,-999,9,-999,9,-999,9,-999,9
    09AR9604_1,   UNK,97,1,18,118,2,19960302,955,-63.2452,122.1682,3839,300.7,1.482,34.682,2,34.678,2,-999,5,192.8,2,80.3,2,32,2,-999,9,2.18,2,-999,9,-999,9,-999,9,-999,9,-999,9
    09AR9604_1,   UNK,97,1,17,17,2,19960302,955,-63.2452,122.1682,3839,401.4,1.57,34.71,2,34.709,2,-999,5,192.9,2,81.9,2,31.2,2,-999,9,2.18,2,0.449,2,0.207,2,-999,9,-999,9,-999,9
    09AR9604_1,   UNK,97,1,16,216,2,19960302,955,-63.2452,122.1682,3839,501.9,1.547,34.724,2,34.725,2,-999,5,194.9,2,84.7,2,30.8,2,-999,9,2.16,2,-999,9,-999,9,-999,9,-999,9,-999,9
    09AR9604_1,   UNK,97,1,15,215,2,19960302,955,-63.2452,122.1682,3839,600.5,1.5,34.73,2,34.731,2,-999,5,196.6,2,87.6,2,30.7,2,-999,9,2.17,2,-999,9,-999,9,-999,9,-999,9,-999,9
    09AR9604_1,   UNK,97,1,14,114,2,19960302,955,-63.2452,122.1682,3839,701.1,1.431,34.733,2,34.733,2,-999,5,198.3,2,90.3,2,30.4,2,-999,9,2.16,2,0.207,2,0.092,2,-999,9,-999,9,-999,9
    09AR9604_1,   UNK,97,1,13,113,2,19960302,955,-63.2452,122.1682,3839,902.3,1.279,34.731,2,34.733,2,-999,5,201,2,95.4,2,30.3,2,-999,9,2.16,2,-999,9,-999,9,-999,9,-999,9,-999,9
    09AR9604_1,   UNK,97,1,12,112,2,19960302,955,-63.2452,122.1682,3839,1108,1.095,34.724,2,34.72,2,-999,5,202.6,2,99.1,2,31,2,-999,9,2.18,2,0.146,2,0.067,2,-999,9,-999,9,-999,9
    09AR9604_1,   UNK,97,1,11,11,2,19960302,955,-63.2452,122.1682,3839,1303.8,0.933,34.717,2,34.716,2,-999,5,204.8,2,105.1,2,30.7,2,-999,9,2.21,2,-999,9,-999,9,-999,9,-999,9,-999,9
    09AR9604_1,   UNK,97,1,10,10,2,19960302,955,-63.2452,122.1682,3839,1503.3,0.781,34.709,2,34.71,2,-999,5,206.7,2,109.1,2,31.1,2,-999,9,2.23,2,0.123,2,0.053,3,-999,9,-999,9,-999,9
    09AR9604_1,   UNK,97,1,9,9,2,19960302,955,-63.2452,122.1682,3839,1704,0.628,34.7,2,34.702,2,-999,5,208.7,2,112.7,2,31.2,2,-999,9,2.19,2,-999,9,-999,9,-999,9,-999,9,-999,9
    09AR9604_1,   UNK,97,1,8,8,2,19960302,955,-63.2452,122.1682,3839,2005.1,0.426,34.691,2,34.691,2,-999,5,213.1,2,117.8,2,31.8,2,-999,9,2.24,2,0.18,2,0.081,2,-999,9,-999,9,-999,9
    09AR9604_1,   UNK,97,1,7,7,2,19960302,955,-63.2452,122.1682,3839,2304.3,0.249,34.684,2,34.684,2,-999,5,218.6,2,118.4,2,31.6,2,-999,9,2.25,2,-999,9,-999,9,-999,9,-999,9,-999,9
    09AR9604_1,   UNK,97,1,6,6,2,19960302,955,-63.2452,122.1682,3839,2606.5,0.105,34.678,2,34.675,2,-999,5,224.1,2,117.1,2,31.8,2,-999,9,2.24,2,0.524,2,0.255,2,-999,9,-999,9,-999,9
    09AR9604_1,   UNK,97,1,5,5,2,19960302,955,-63.2452,122.1682,3839,2906,0.002,34.675,2,34.675,2,-999,5,228,2,118.7,2,31.3,2,-999,9,2.24,2,-999,9,-999,9,-999,9,-999,9,-999,9
    09AR9604_1,   UNK,97,1,4,4,2,19960302,955,-63.2452,122.1682,3839,3204.8,-0.108,34.669,2,34.671,2,-999,5,233.7,2,113.5,2,31.5,2,-999,9,2.23,2,1.106,2,0.518,2,-999,9,-999,9,-999,9
    09AR9604_1,   UNK,97,1,3,3,2,19960302,955,-63.2452,122.1682,3839,3489.4,-0.198,34.665,2,34.667,2,-999,5,238.4,2,109.4,2,31.5,2,-999,9,2.21,2,1.449,2,0.681,2,-999,9,-999,9,-999,9
    09AR9604_1,   UNK,97,1,2,2,2,19960302,955,-63.2452,122.1682,3839,3812,-0.281,34.656,2,34.658,2,-999,5,243.5,2,107.5,2,31.1,2,-999,9,2.21,2,1.977,2,0.919,2,-999,9,-999,9,-999,9
    09AR9604_1,   UNK,97,1,1,1,2,19960302,955,-63.2452,122.1682,3839,3885.7,-0.279,34.656,2,34.658,2,-999,5,243.5,2,108.9,2,31.6,2,-999,9,2.22,2,1.999,2,0.937,2,-999,9,-999,9,-999,9
    09AR9604_1,   UNK,98,1,24,24,2,19960302,1825,-63.245,123.9918,3983,11.1,1.611,33.893,2,33.897,2,-999,5,341.7,2,26.7,2,23.9,2,-999,9,1.65,2,-999,9,-999,9,-999,9,-999,9,-999,9
    09AR9604_1,   UNK,98,1,23,23,2,19960302,1825,-63.245,123.9918,3983,52.1,-0.095,34.149,2,34.146,2,-999,5,334,2,43.4,2,27.9,2,-999,9,1.97,2,-999,9,-999,9,-999,9,-999,9,-999,9
    09AR9604_1,   UNK,98,1,22,22,2,19960302,1825,-63.245,123.9918,3983,102.4,0.948,34.553,4,34.547,2,-999,5,208,2,71.7,2,32.7,2,-999,9,2.33,2,-999,9,-999,9,-999,9,-999,9,-999,9
    09AR9604_1,   UNK,98,1,21,21,2,19960302,1825,-63.245,123.9918,3983,202.5,1.367,34.658,2,34.658,2,-999,5,194.6,2,79.5,2,31.8,2,-999,9,2.29,2,-999,9,-999,9,-999,9,-999,9,-999,9
    09AR9604_1,   UNK,98,1,20,20,2,19960302,1825,-63.245,123.9918,3983,303.3,1.483,34.692,2,34.693,2,-999,5,193.9,2,81.5,2,31.6,2,-999,9,2.23,2,0.646,2,0.297,2,-999,9,-999,9,-999,9
    09AR9604_1,   UNK,98,1,19,119,2,19960302,1825,-63.245,123.9918,3983,401.9,1.499,34.711,2,34.712,2,-999,5,194.7,2,83.7,2,30.9,2,-999,9,2.22,2,-999,9,-999,9,-999,9,-999,9,-999,9
    09AR9604_1,   UNK,98,1,18,118,2,19960302,1825,-63.245,123.9918,3983,501.8,1.521,34.728,2,34.727,2,-999,5,195.7,2,85.3,2,31,2,-999,9,2.19,2,0.285,2,0.137,2,-999,9,-999,9,-999,9
    09AR9604_1,   UNK,98,1,17,17,2,19960302,1825,-63.245,123.9918,3983,602.2,1.457,34.732,2,34.733,2,-999,5,197.6,2,87.5,2,30.5,2,-999,9,2.18,2,-999,9,-999,9,-999,9,-999,9,-999,9
    09AR9604_1,   UNK,98,1,16,216,2,19960302,1825,-63.245,123.9918,3983,703,1.362,34.732,2,34.732,2,-999,5,199.3,2,89.7,2,30.6,2,-999,9,2.14,2,-999,9,-999,9,-999,9,-999,9,-999,9
    09AR9604_1,   UNK,98,1,15,215,2,19960302,1825,-63.245,123.9918,3983,804.2,1.289,34.732,2,34.732,2,-999,5,200.7,2,92.3,2,30.7,2,-999,9,2.17,2,-999,9,-999,9,-999,9,-999,9,-999,9
    09AR9604_1,   UNK,98,1,14,114,2,19960302,1825,-63.245,123.9918,3983,903.7,1.213,34.729,2,34.728,2,-999,5,201.6,2,94.4,2,31.1,2,-999,9,2.18,2,0.177,6,0.082,6,-999,9,-999,9,-999,9
    09AR9604_1,   UNK,98,1,13,113,2,19960302,1825,-63.245,123.9918,3983,1003.3,1.13,34.727,2,34.724,2,-999,5,202.7,2,97.2,2,30.9,2,-999,9,2.12,2,-999,9,-999,9,-999,9,-999,9,-999,9
    09AR9604_1,   UNK,98,1,12,112,2,19960302,1825,-63.245,123.9918,3983,1203.1,0.96,34.719,2,34.717,2,-999,5,204.6,2,102.6,2,31.5,2,-999,9,2.18,2,0.145,2,0.068,2,-999,9,-999,9,-999,9
    09AR9604_1,   UNK,98,1,11,11,2,19960302,1825,-63.245,123.9918,3983,1505,0.74,34.707,2,34.706,2,-999,5,207.3,2,108.3,2,31.6,2,-999,9,2.19,2,-999,9,-999,9,-999,9,-999,9,-999,9
    09AR9604_1,   UNK,98,1,10,10,2,19960302,1825,-63.245,123.9918,3983,1805,0.537,34.697,2,34.697,2,-999,5,210.9,2,111.3,2,31.8,2,-999,9,2.24,2,0.136,2,0.073,3,-999,9,-999,9,-999,9
    09AR9604_1,   UNK,98,1,9,9,2,19960302,1825,-63.245,123.9918,3983,2053.9,0.396,34.69,2,34.689,2,-999,5,213.9,2,113.8,2,32.4,2,-999,9,2.25,2,-999,9,-999,9,-999,9,-999,9,-999,9
    09AR9604_1,   UNK,98,1,8,8,2,19960302,1825,-63.245,123.9918,3983,2205.4,0.312,34.689,2,34.686,2,-999,5,216.8,2,116.5,2,32.2,2,-999,9,2.23,2,0.206,2,0.098,2,-999,9,-999,9,-999,9
    09AR9604_1,   UNK,98,1,7,7,2,19960302,1825,-63.245,123.9918,3983,2506.5,0.168,34.684,2,34.68,2,-999,5,221.7,2,119.2,2,32.2,2,-999,9,2.24,2,0.284,2,0.137,2,-999,9,-999,9,-999,9
    09AR9604_1,   UNK,98,1,6,6,2,19960302,1825,-63.245,123.9918,3983,2807.1,0.054,34.68,2,34.675,2,-999,5,226.1,2,116.4,2,31.9,2,-999,9,2.24,2,0.467,2,0.225,2,-999,9,-999,9,-999,9
    09AR9604_1,   UNK,98,1,5,5,2,19960302,1825,-63.245,123.9918,3983,3105.8,-0.033,34.675,2,34.677,2,-999,5,229.8,2,119.5,2,32.4,2,-999,9,2.24,2,0.555,2,0.266,2,-999,9,-999,9,-999,9
    09AR9604_1,   UNK,98,1,4,4,2,19960302,1825,-63.245,123.9918,3983,3408,-0.136,34.668,2,34.67,2,-999,5,235.8,2,109.5,2,31.8,2,-999,9,2.19,2,1.27,2,0.596,2,-999,9,-999,9,-999,9
    09AR9604_1,   UNK,98,1,3,3,2,19960302,1825,-63.245,123.9918,3983,3706.4,-0.179,34.67,2,34.67,2,-999,5,238.2,2,111.5,2,32.1,2,-999,9,2.22,2,1.464,2,0.68,2,-999,9,-999,9,-999,9
    09AR9604_1,   UNK,98,1,2,2,2,19960302,1825,-63.245,123.9918,3983,3919.1,-0.231,34.664,2,34.663,2,-999,5,240.4,2,115.5,2,31.6,2,-999,9,2.23,2,1.759,2,0.807,2,-999,9,-999,9,-999,9
    09AR9604_1,   UNK,98,1,1,1,2,19960302,1825,-63.245,123.9918,3983,4012.3,-0.227,34.664,2,34.662,2,-999,5,240.1,2,113.7,2,32.2,2,-999,9,2.2,2,1.764,2,0.822,2,-999,9,-999,9,-999,9
    09AR9604_1,   UNK,99,1,24,24,2,19960303,144,-63.2585,125.8483,4111,11.1,1.763,33.854,2,33.859,2,-999,5,333.8,2,19.1,2,26,2,-999,9,1.67,2,6.072,2,2.948,2,-999,9,-999,9,-999,9
    09AR9604_1,   UNK,99,1,23,23,2,19960303,144,-63.2585,125.8483,4111,51.1,0.459,33.93,4,33.923,2,-999,5,349,2,23.2,2,26.4,2,-999,9,1.79,2,6.542,2,3.104,2,-999,9,-999,9,-999,9
    09AR9604_1,   UNK,99,1,22,22,2,19960303,144,-63.2585,125.8483,4111,101.1,-0.364,34.217,4,34.212,2,-999,5,278.1,2,52.8,2,31.6,2,-999,9,2.25,2,4.446,2,2.167,2,-999,9,-999,9,-999,9
    09AR9604_1,   UNK,99,1,21,21,2,19960303,144,-63.2585,125.8483,4111,200.8,1.88,34.602,3,34.598,2,-999,5,175.5,2,73.2,2,34.2,2,-999,9,2.4,2,0.721,2,0.333,2,-999,9,-999,9,-999,9
    09AR9604_1,   UNK,99,1,20,20,2,19960303,144,-63.2585,125.8483,4111,301.6,1.908,34.663,2,34.662,2,-999,5,177.6,2,78.8,2,33.1,2,-999,9,2.32,2,0.449,2,0.211,2,-999,9,-999,9,-999,9
    09AR9604_1,   UNK,99,1,19,119,2,19960303,144,-63.2585,125.8483,4111,401.9,1.903,34.694,2,34.694,2,-999,5,181.3,2,78.7,2,32.6,2,-999,9,2.26,2,-999,9,-999,9,-999,9,-999,9,-999,9
    09AR9604_1,   UNK,99,1,18,118,2,19960303,144,-63.2585,125.8483,4111,501.4,1.872,34.712,2,34.711,2,-999,5,185.1,2,80.6,2,31.8,2,-999,9,2.23,2,0.265,2,0.118,2,-999,9,-999,9,-999,9
    09AR9604_1,   UNK,99,1,17,17,2,19960303,144,-63.2585,125.8483,4111,602,1.808,34.727,2,34.727,2,-999,5,188.8,2,81.8,2,31.3,2,-999,9,2.16,2,0.217,2,0.098,2,-999,9,-999,9,-999,9
    09AR9604_1,   UNK,99,1,16,216,2,19960303,144,-63.2585,125.8483,4111,701.4,1.753,34.735,2,34.736,2,-999,5,191.8,2,83.4,2,31.3,2,-999,9,2.14,2,0.179,2,0.083,2,-999,9,-999,9,-999,9
    09AR9604_1,   UNK,99,1,15,215,2,19960303,144,-63.2585,125.8483,4111,802.5,1.674,34.74,2,34.742,2,-999,5,194.3,2,84.9,2,30.8,2,-999,9,2.15,2,0.156,2,0.07,2,-999,9,-999,9,-999,9
    09AR9604_1,   UNK,99,1,14,114,2,19960303,144,-63.2585,125.8483,4111,901.4,1.598,34.741,2,34.742,2,-999,5,196.1,2,87.9,2,31.2,2,-999,9,2.15,2,0.146,2,0.065,2,-999,9,-999,9,-999,9
    09AR9604_1,   UNK,99,1,13,113,2,19960303,144,-63.2585,125.8483,4111,1002.8,1.507,34.741,2,34.742,2,-999,5,198.2,2,90,2,30.7,2,-999,9,2.12,2,0.126,2,0.06,2,-999,9,-999,9,-999,9
    09AR9604_1,   UNK,99,1,12,112,2,19960303,144,-63.2585,125.8483,4111,1202.9,1.319,34.736,2,34.735,2,-999,5,201.1,2,96.9,2,30.8,2,-999,9,2.13,2,0.11,2,0.055,2,-999,9,-999,9,-999,9
    09AR9604_1,   UNK,99,1,11,11,2,19960303,144,-63.2585,125.8483,4111,1402.9,1.137,34.728,2,34.73,2,-999,5,203.1,2,99.3,2,31.6,2,-999,9,2.19,2,0.095,2,0.048,2,-999,9,-999,9,-999,9
    09AR9604_1,   UNK,99,1,10,10,2,19960303,144,-63.2585,125.8483,4111,1605.2,0.983,34.721,2,34.723,2,-999,5,205,2,105.9,2,31.5,2,-999,9,2.2,2,0.094,2,0.047,2,-999,9,-999,9,-999,9
    09AR9604_1,   UNK,99,1,9,9,2,19960303,144,-63.2585,125.8483,4111,1903.3,0.748,34.71,2,34.711,2,-999,5,207.9,2,113.9,2,31.8,2,-999,9,2.23,2,0.089,2,0.045,2,-999,9,-999,9,-999,9
    09AR9604_1,   UNK,99,1,8,8,2,19960303,144,-63.2585,125.8483,4111,2205.7,0.533,34.699,2,34.699,2,-999,5,211.4,2,117.5,2,32,2,-999,9,2.23,2,0.121,2,0.059,2,-999,9,-999,9,-999,9
    09AR9604_1,   UNK,99,1,7,7,2,19960303,144,-63.2585,125.8483,4111,2505.1,0.334,34.69,2,34.689,2,-999,5,217.3,2,120.6,2,32.8,2,-999,9,2.26,2,0.209,2,0.105,2,-999,9,-999,9,-999,9
    09AR9604_1,   UNK,99,1,6,6,2,19960303,144,-63.2585,125.8483,4111,2806.4,0.201,34.686,2,34.682,2,-999,5,225.9,2,124.4,2,32.3,2,-999,9,2.27,2,0.268,2,0.128,2,-999,9,-999,9,-999,9
    09AR9604_1,   UNK,99,1,5,5,2,19960303,144,-63.2585,125.8483,4111,3106.9,0.081,34.683,2,34.682,2,-999,5,230.6,2,123.1,2,32.9,2,-999,9,2.27,2,0.382,2,0.192,2,-999,9,-999,9,-999,9
    09AR9604_1,   UNK,99,1,4,4,2,19960303,144,-63.2585,125.8483,4111,3406.7,-0.014,34.678,3,34.678,2,-999,5,234.4,2,120.6,2,32.3,2,-999,9,2.26,2,0.689,2,0.334,2,-999,9,-999,9,-999,9
    09AR9604_1,   UNK,99,1,3,3,2,19960303,144,-63.2585,125.8483,4111,3706.9,-0.096,34.675,2,34.676,2,-999,5,239.3,2,120.4,2,32.3,2,-999,9,2.26,2,0.912,2,0.429,2,-999,9,-999,9,-999,9
    09AR9604_1,   UNK,99,1,2,2,2,19960303,144,-63.2585,125.8483,4111,4010.3,-0.183,34.669,2,34.67,2,-999,5,240.3,2,114.5,2,32.1,2,-999,9,2.18,2,1.593,2,0.735,2,-999,9,-999,9,-999,9
    09AR9604_1,   UNK,99,1,1,1,2,19960303,144,-63.2585,125.8483,4111,4148.7,-0.209,34.665,2,34.668,2,-999,5,240.6,2,119.2,2,32.4,2,-999,9,2.23,2,1.745,2,0.816,2,-999,9,-999,9,-999,9
    09AR9604_1,   UNK,100,1,17,17,2,19960304,757,-65.5985,128.3655,378,11.8,-1.575,33.395,2,33.398,2,-999,5,360.1,2,34.1,2,22.7,2,-999,9,1.37,2,6.723,2,3.255,2,-999,9,-999,9,-999,9
    09AR9604_1,   UNK,100,1,16,216,2,19960304,757,-65.5985,128.3655,378,31.8,-0.99,33.535,4,33.529,2,-999,5,349.8,2,36.9,2,24.2,2,-999,9,1.49,2,-999,9,-999,9,-999,9,-999,9,-999,9
    09AR9604_1,   UNK,100,1,14,114,2,19960304,757,-65.5985,128.3655,378,61.4,-0.684,33.669,3,33.667,2,-999,5,347.7,2,40,2,24.9,2,-999,9,1.58,2,6.549,2,3.142,2,-999,9,-999,9,-999,9
    09AR9604_1,   UNK,100,1,9,9,2,19960304,757,-65.5985,128.3655,378,106,-1.281,34.028,2,34.023,2,-999,5,341.5,2,47.3,2,25.1,2,-999,9,1.81,2,-999,9,-999,9,-999,9,-999,9,-999,9
    09AR9604_1,   UNK,100,1,6,6,2,19960304,757,-65.5985,128.3655,378,151.1,-1.738,34.292,2,34.285,2,-999,5,324.8,2,54.9,2,29.5,2,-999,9,2.05,2,5.704,2,2.741,2,-999,9,-999,9,-999,9
    09AR9604_1,   UNK,100,1,4,4,2,19960304,757,-65.5985,128.3655,378,200.3,-1.803,34.343,2,34.344,2,-999,5,322.4,2,57.6,2,30,2,-999,9,2.07,2,5.733,2,2.735,2,-999,9,-999,9,-999,9
    09AR9604_1,   UNK,100,1,3,3,2,19960304,757,-65.5985,128.3655,378,251.4,-1.826,34.371,2,34.375,2,-999,5,322.8,2,55.7,2,30.5,2,-999,9,2.11,2,-999,9,-999,9,-999,9,-999,9,-999,9
    09AR9604_1,   UNK,100,1,2,2,2,19960304,757,-65.5985,128.3655,378,301.5,-1.751,34.404,2,34.408,2,-999,5,317.7,2,58.5,2,30.6,2,-999,9,2.11,2,5.573,2,2.661,2,-999,9,-999,9,-999,9
    09AR9604_1,   UNK,100,1,1,1,2,19960304,757,-65.5985,128.3655,378,371.8,-1.379,34.478,2,34.481,2,-999,5,298.2,2,64.2,2,31.5,2,-999,9,2.21,2,4.799,2,2.317,2,-999,9,-999,9,-999,9
    09AR9604_1,   UNK,101,1,15,215,2,19960304,1235,-65.27,128.471,358,6.8,-0.518,33.658,2,33.659,2,-999,5,347.7,2,37.1,2,24.6,2,-999,9,1.56,2,6.464,2,3.127,2,-999,9,-999,9,-999,9
    09AR9604_1,   UNK,101,1,12,112,2,19960304,1235,-65.27,128.471,358,46.3,-1.239,33.969,2,33.967,2,-999,5,343.7,2,44.9,2,24.2,3,-999,9,1.76,2,-999,9,-999,9,-999,9,-999,9,-999,9
    09AR9604_1,   UNK,101,1,10,10,2,19960304,1235,-65.27,128.471,358,76,-1.567,34.247,2,34.246,2,-999,5,331.4,2,54.1,2,27.1,2,-999,9,1.97,2,-999,9,-999,9,-999,9,-999,9,-999,9
    09AR9604_1,   UNK,101,1,8,8,2,19960304,1235,-65.27,128.471,358,105.4,-1.792,34.324,2,34.324,2,-999,5,318.6,2,56.1,2,29.7,2,-999,9,2.06,2,5.534,2,2.677,2,-999,9,-999,9,-999,9
    09AR9604_1,   UNK,101,1,5,5,2,19960304,1235,-65.27,128.471,358,151,-1.82,34.338,2,34.34,2,-999,5,318.6,3,57.4,2,29.7,2,-999,9,2.05,2,-999,9,-999,9,-999,9,-999,9,-999,9
    09AR9604_1,   UNK,101,1,3,3,2,19960304,1235,-65.27,128.471,358,202.1,-1.679,34.364,2,34.363,2,-999,5,284.2,3,60.4,2,29.9,2,-999,9,2.06,2,5.179,2,2.515,2,-999,9,-999,9,-999,9
    09AR9604_1,   UNK,101,1,2,2,2,19960304,1235,-65.27,128.471,358,303.1,-1.036,34.46,2,34.461,2,-999,5,284.2,2,67.4,2,30.9,2,-999,9,2.1,2,4.176,2,2.025,2,-999,9,-999,9,-999,9
    09AR9604_1,   UNK,101,1,1,1,2,19960304,1235,-65.27,128.471,358,351.7,-0.915,34.506,4,34.501,2,-999,5,279.2,2,69.7,2,30.4,2,-999,9,2.11,2,3.982,6,1.922,6,-999,9,-999,9,-999,9
    09AR9604_1,   UNK,102,1,23,23,2,19960304,1632,-65.1958,128.3575,614,11,-0.241,33.693,2,33.693,2,-999,5,344.6,2,35.8,2,25.2,2,-999,9,1.61,2,-999,9,-999,9,-999,9,-999,9,-999,9
    09AR9604_1,   UNK,102,1,15,215,2,19960304,1632,-65.1958,128.3575,614,61,-1.505,34.227,2,34.227,2,-999,5,332.9,2,52.5,2,27,2,-999,9,1.93,2,-999,9,-999,9,-999,9,-999,9,-999,9
    09AR9604_1,   UNK,102,1,12,112,2,19960304,1632,-65.1958,128.3575,614,107.4,-1.796,34.333,2,34.333,2,-999,5,318.6,2,56.2,2,30.1,2,-999,9,2.03,2,5.583,2,2.676,2,-999,9,-999,9,-999,9
    09AR9604_1,   UNK,102,1,6,6,2,19960304,1632,-65.1958,128.3575,614,151.2,-1.811,34.345,2,34.347,2,-999,5,318,2,57.1,2,29.7,2,-999,9,2.02,2,5.597,2,2.666,2,-999,9,-999,9,-999,9
    09AR9604_1,   UNK,102,1,4,4,2,19960304,1632,-65.1958,128.3575,614,252.8,-1.261,34.435,2,34.436,2,-999,5,291.2,2,64.8,2,31,2,-999,9,2.15,2,4.534,2,2.169,2,-999,9,-999,9,-999,9
    09AR9604_1,   UNK,102,1,3,3,2,19960304,1632,-65.1958,128.3575,614,352.2,-0.562,34.542,2,34.544,2,-999,5,263.3,2,73.2,2,30.8,2,-999,9,2.18,2,3.33,2,1.595,2,-999,9,-999,9,-999,9
    09AR9604_1,   UNK,102,1,2,2,2,19960304,1632,-65.1958,128.3575,614,452.4,0.056,34.614,2,34.613,2,-999,5,240.8,2,79.7,2,30.9,2,-999,9,2.19,2,2.3,2,1.098,2,-999,9,-999,9,-999,9
    09AR9604_1,   UNK,102,1,1,1,2,19960304,1632,-65.1958,128.3575,614,591.6,-0.209,34.598,2,34.604,2,-999,5,250,2,80.7,2,30.7,2,-999,9,2.15,2,2.642,2,1.255,2,-999,9,-999,9,-999,9
    09AR9604_1,   UNK,103,1,23,23,2,19960304,1923,-65.1782,128.3667,921,11.4,-0.285,33.697,2,33.699,2,-999,5,344.8,2,35.2,2,25.4,2,-999,9,1.6,2,6.606,2,3.082,2,-999,9,-999,9,-999,9
    09AR9604_1,   UNK,103,1,20,20,2,19960304,1923,-65.1782,128.3667,921,32.9,-1.275,33.95,4,33.923,2,-999,5,344.4,2,40.7,2,24.2,4,-999,9,1.75,2,6.411,2,3.021,2,-999,9,-999,9,-999,9
    09AR9604_1,   UNK,103,1,16,216,2,19960304,1923,-65.1782,128.3667,921,91.9,-1.728,34.305,2,34.305,2,-999,5,322.2,2,53,2,29.3,2,-999,9,2.05,2,5.669,2,2.655,2,-999,9,-999,9,-999,9
    09AR9604_1,   UNK,103,1,12,112,2,19960304,1923,-65.1782,128.3667,921,151,-1.739,34.356,2,34.356,2,-999,5,318.1,2,55.3,2,29.6,2,-999,9,2.05,2,5.568,2,2.639,2,-999,9,-999,9,-999,9
    09AR9604_1,   UNK,103,1,6,6,2,19960304,1923,-65.1782,128.3667,921,202.5,-1.715,34.375,2,34.374,2,-999,5,315.2,2,59.5,2,29.8,2,-999,9,2.06,2,5.565,2,2.595,2,-999,9,-999,9,-999,9
    09AR9604_1,   UNK,103,1,5,5,2,19960304,1923,-65.1782,128.3667,921,351.3,-0.322,34.555,2,34.554,2,-999,5,255.9,2,71.5,2,31.3,2,-999,9,2.15,2,3.174,2,1.472,2,-999,9,-999,9,-999,9
    09AR9604_1,   UNK,103,1,4,4,2,19960304,1923,-65.1782,128.3667,921,551.8,0.204,34.65,2,34.647,2,-999,5,232.2,2,84.9,2,31.1,2,-999,9,2.15,2,1.71,2,0.811,2,-999,9,-999,9,-999,9
    09AR9604_1,   UNK,103,1,3,3,2,19960304,1923,-65.1782,128.3667,921,702.2,-0.167,34.632,2,34.633,2,-999,5,242,2,86.5,2,31.3,2,-999,9,2.15,2,2.131,2,0.975,2,-999,9,-999,9,-999,9
    09AR9604_1,   UNK,103,1,2,2,2,19960304,1923,-65.1782,128.3667,921,854.4,-0.128,34.646,2,34.646,2,-999,5,236.7,2,91.6,2,31.3,2,-999,9,2.17,2,1.729,2,0.797,2,-999,9,-999,9,-999,9
    09AR9604_1,   UNK,103,1,1,1,2,19960304,1923,-65.1782,128.3667,921,952.8,-0.063,34.657,2,34.658,2,-999,5,231.7,2,97.4,2,31.3,2,-999,9,2.2,2,1.443,2,0.652,2,-999,9,-999,9,-999,9