BOTTLE,2021011SIOJHS,,,,,,,,,,,,,,,,,,,,,,,,,,,,,,,,,,,,,,
EXPOCODE,SECT_ID,STNNBR,CASTNO,SAMPNO,BTLNBR,BTLNBR_FLAG_W,DATE,TIME,LATITUDE,LONGITUDE,DEPTH,CTDPRS,CTDTMP,CTDSAL,CTDSAL_FLAG_W,SALNTY,SALNTY_FLAG_W,CTDOXY,CTDOXY_FLAG_W,OXYGEN,OXYGEN_FLAG_W,SILCAT,SILCAT_FLAG_W,NITRAT,NITRAT_FLAG_W,NITRIT,NITRIT_FLAG_W,PHSPHT,PHSPHT_FLAG_W,CFC-11,CFC-11_FLAG_W,CFC-12,CFC-12_FLAG_W,SF6,SF6_FLAG_W,TCARBN,TCARBN_FLAG_W,ALKALI,ALKALI_FLAG_W
,,,,,,,,,,,,DBAR,DEG C,PSS-78,,PSS-78,,UMOL/KG,,UMOL/KG,,UMOL/KG,,UMOL/KG,,UMOL/KG,,UMOL/KG,,PMOL/KG,,PMOL/KG,,NMOL/KG,,UMOL/KG,,UMOL/KG,
    09AR9604_1,   UNK,56,1,24,24,2,19960214,1217,-64.2422,104.4367,2774,15.2,-0.862,33.333,2,33.339,2,361,2,360.1,2,45.5,2,25.4,2,-999,9,1.57,2,8.549,2,3.816,2,-999,9,-999,9,-999,9
    09AR9604_1,   UNK,56,1,23,23,2,19960214,1217,-64.2422,104.4367,2774,30.5,-0.868,33.347,2,33.349,2,357,2,359.2,2,46.1,2,25.9,2,-999,9,1.57,2,-999,9,-999,9,-999,9,-999,9,-999,9
    09AR9604_1,   UNK,56,1,22,22,2,19960214,1217,-64.2422,104.4367,2774,47.1,-1.683,34.043,3,34.043,2,328.8,2,330.8,2,57.7,2,28.4,2,-999,9,1.92,2,-999,9,-999,9,-999,9,-999,9,-999,9
    09AR9604_1,   UNK,56,1,21,21,2,19960214,1217,-64.2422,104.4367,2774,61.4,-1.745,34.251,2,34.251,2,321.4,2,315.4,2,62.2,2,29.4,2,-999,9,2.03,2,-999,9,-999,9,-999,9,-999,9,-999,9
    09AR9604_1,   UNK,56,1,20,20,2,19960214,1217,-64.2422,104.4367,2774,76.1,-1.773,34.291,2,34.292,2,308.5,2,308.4,2,64.7,2,30,2,-999,9,2.08,2,-999,9,-999,9,-999,9,-999,9,-999,9
    09AR9604_1,   UNK,56,1,19,119,2,19960214,1217,-64.2422,104.4367,2774,102.5,-1.767,34.327,2,34.329,2,303,2,300.3,2,64.8,2,30.6,2,-999,9,2.11,2,4.832,2,2.251,2,-999,9,-999,9,-999,9
    09AR9604_1,   UNK,56,1,18,118,2,19960214,1217,-64.2422,104.4367,2774,153.2,-1.434,34.416,2,34.418,2,285.7,2,293.5,2,68.6,2,30.6,2,-999,9,2.12,2,-999,9,-999,9,-999,9,-999,9,-999,9
    09AR9604_1,   UNK,56,1,17,17,2,19960214,1217,-64.2422,104.4367,2774,202.1,-0.633,34.505,2,34.508,2,249.3,2,265.4,2,75.6,2,30.9,2,-999,9,2.13,2,3.45,2,1.584,2,-999,9,-999,9,-999,9
    09AR9604_1,   UNK,56,1,16,216,2,19960214,1217,-64.2422,104.4367,2774,303.1,0.801,34.679,2,34.678,2,212.1,2,212.1,2,92,2,31.2,2,-999,9,2.17,2,-999,9,-999,9,-999,9,-999,9,-999,9
    09AR9604_1,   UNK,56,1,15,215,2,19960214,1217,-64.2422,104.4367,2774,383.3,0.829,34.693,2,34.693,2,208.2,2,210.2,2,93.5,2,31.4,2,-999,9,2.17,2,0.725,2,0.34,2,-999,9,-999,9,-999,9
    09AR9604_1,   UNK,56,1,14,114,2,19960214,1217,-64.2422,104.4367,2774,503,0.807,34.701,2,34.702,2,208.4,2,208.6,2,100.4,2,31.3,2,-999,9,2.18,2,0.517,2,0.236,2,-999,9,-999,9,-999,9
    09AR9604_1,   UNK,56,1,13,113,2,19960214,1217,-64.2422,104.4367,2774,604.5,0.694,34.697,2,34.697,2,210.3,2,210.7,2,103.2,2,31.5,2,-999,9,2.18,2,-999,9,-999,9,-999,9,-999,9,-999,9
    09AR9604_1,   UNK,56,1,12,112,2,19960214,1217,-64.2422,104.4367,2774,750.8,0.558,34.694,2,34.695,2,211.4,2,211.8,2,108.6,2,31.6,2,-999,9,2.19,2,0.423,2,0.198,2,-999,9,-999,9,-999,9
    09AR9604_1,   UNK,56,1,11,11,2,19960214,1217,-64.2422,104.4367,2774,903.6,0.484,34.695,2,34.695,2,214.1,2,211.9,2,111.1,2,32,2,-999,9,2.19,2,-999,9,-999,9,-999,9,-999,9,-999,9
    09AR9604_1,   UNK,56,1,10,10,2,19960214,1217,-64.2422,104.4367,2774,1107.4,0.352,34.69,2,34.687,2,218.6,2,215.1,2,116.7,2,31.9,2,-999,9,2.21,2,0.337,2,0.152,2,-999,9,-999,9,-999,9
    09AR9604_1,   UNK,56,1,9,9,2,19960214,1217,-64.2422,104.4367,2774,1300.5,0.219,34.685,2,34.682,2,221.2,2,218.4,2,117.8,2,31.9,2,-999,9,2.22,2,-999,9,-999,9,-999,9,-999,9,-999,9
    09AR9604_1,   UNK,56,1,8,8,2,19960214,1217,-64.2422,104.4367,2774,1505.3,0.12,34.683,2,34.68,2,224.2,2,221.5,2,119.4,2,31.9,2,-999,9,2.22,2,0.458,2,0.213,2,-999,9,-999,9,-999,9
    09AR9604_1,   UNK,56,1,7,7,2,19960214,1217,-64.2422,104.4367,2774,1705.6,0.013,34.677,2,34.676,2,226.6,2,-999,9,118,2,31.8,2,-999,9,2.22,2,-999,9,-999,9,-999,9,-999,9,-999,9
    09AR9604_1,   UNK,56,1,6,6,2,19960214,1217,-64.2422,104.4367,2774,1905.5,-0.036,34.677,2,34.676,2,229.6,2,227.8,2,117.8,2,31.8,2,-999,9,2.21,2,0.727,2,0.339,2,-999,9,-999,9,-999,9
    09AR9604_1,   UNK,56,1,5,5,2,19960214,1217,-64.2422,104.4367,2774,2105.1,-0.124,34.675,2,34.674,2,233.1,2,231.4,2,115.7,2,31.6,2,-999,9,2.22,2,0.844,2,0.394,2,-999,9,-999,9,-999,9
    09AR9604_1,   UNK,56,1,4,4,2,19960214,1217,-64.2422,104.4367,2774,2306.4,-0.205,34.671,2,34.671,2,236.7,2,234.9,2,115.9,2,31.5,2,-999,9,2.21,2,1.08,2,0.498,2,-999,9,-999,9,-999,9
    09AR9604_1,   UNK,56,1,3,3,2,19960214,1217,-64.2422,104.4367,2774,2506.6,-0.277,34.668,2,34.667,2,239.5,2,238.7,2,110.6,2,31.5,2,-999,9,2.2,2,1.464,2,0.683,2,-999,9,-999,9,-999,9
    09AR9604_1,   UNK,56,1,2,2,2,19960214,1217,-64.2422,104.4367,2774,2703.3,-0.28,34.667,2,34.666,2,239.3,2,239.3,2,110.5,2,31.6,2,-999,9,2.21,2,1.577,2,0.709,2,-999,9,-999,9,-999,9
    09AR9604_1,   UNK,56,1,1,1,2,19960214,1217,-64.2422,104.4367,2774,2806,-0.269,34.667,2,34.666,2,239.2,2,239.3,2,109.1,2,31.4,2,-999,9,2.2,2,1.599,2,0.721,2,-999,9,-999,9,-999,9
    09AR9604_1,   UNK,57,1,24,24,2,19960214,2053,-63.9082,104.4255,3327,10.7,-0.396,33.314,2,33.314,2,357.2,2,359.9,2,35.7,3,23.2,2,-999,9,1.4,2,7.056,6,3.224,6,-999,9,-999,9,-999,9
    09AR9604_1,   UNK,57,1,23,23,2,19960214,2053,-63.9082,104.4255,3327,50.3,-1.803,34.292,2,34.289,2,304,2,304.7,2,53.4,3,30.1,2,-999,9,2.06,2,4.99,2,2.32,2,-999,9,-999,9,-999,9
    09AR9604_1,   UNK,57,1,22,22,2,19960214,2053,-63.9082,104.4255,3327,100.3,-1.824,34.349,2,34.347,2,301.3,2,301.2,2,56.6,3,30.6,2,-999,9,2.09,2,5.001,2,2.316,2,-999,9,-999,9,-999,9
    09AR9604_1,   UNK,57,1,21,21,2,19960214,2053,-63.9082,104.4255,3327,150.5,-1.753,34.378,2,34.376,2,302.6,2,303.2,2,59,3,30.6,2,-999,9,2.1,2,5.072,2,2.364,2,-999,9,-999,9,-999,9
    09AR9604_1,   UNK,57,1,20,20,2,19960214,2053,-63.9082,104.4255,3327,200.4,-1.343,34.424,2,34.423,2,293,2,291.8,2,57.6,3,30.9,2,-999,9,2.1,2,4.629,2,2.137,2,-999,9,-999,9,-999,9
    09AR9604_1,   UNK,57,1,19,119,2,19960214,2053,-63.9082,104.4255,3327,250.5,-0.255,34.528,2,34.526,2,250.2,2,252,2,64.3,3,31.2,2,-999,9,2.17,2,2.961,2,1.378,2,-999,9,-999,9,-999,9
    09AR9604_1,   UNK,57,1,18,118,2,19960214,2053,-63.9082,104.4255,3327,300.2,0.272,34.602,3,34.6,2,224.9,2,234.2,2,69.2,3,31.4,2,-999,9,2.17,2,2.124,2,0.965,2,-999,9,-999,9,-999,9
    09AR9604_1,   UNK,57,1,17,17,2,19960214,2053,-63.9082,104.4255,3327,399.9,0.851,34.681,2,34.678,2,210.1,2,212.7,2,81.7,3,31.1,2,-999,9,2.18,2,0.985,2,0.457,2,-999,9,-999,9,-999,9
    09AR9604_1,   UNK,57,1,16,216,2,19960214,2053,-63.9082,104.4255,3327,500.5,1.013,34.709,2,34.709,2,200.7,2,205.7,2,71.3,3,31,2,-999,9,2.19,2,0.536,2,0.243,2,-999,9,-999,9,-999,9
    09AR9604_1,   UNK,57,1,15,215,2,19960214,2053,-63.9082,104.4255,3327,601.2,1.041,34.718,2,34.719,2,202.1,2,203.8,2,80.1,3,31.3,2,-999,9,2.17,2,0.331,2,0.153,2,-999,9,-999,9,-999,9
    09AR9604_1,   UNK,57,1,14,114,2,19960214,2053,-63.9082,104.4255,3327,702.1,1.001,34.721,2,34.72,2,205.2,2,203.5,2,84.3,3,31.6,2,-999,9,2.19,2,0.23,2,0.106,2,-999,9,-999,9,-999,9
    09AR9604_1,   UNK,57,1,13,113,2,19960214,2053,-63.9082,104.4255,3327,802.5,0.918,34.717,2,34.718,2,204.8,2,204.7,2,94,3,32,2,-999,9,2.17,2,0.206,2,0.093,2,-999,9,-999,9,-999,9
    09AR9604_1,   UNK,57,1,12,112,2,19960214,2053,-63.9082,104.4255,3327,896.8,0.83,34.713,2,34.715,2,206.1,2,206,2,88.6,3,31.5,2,-999,9,2.17,2,0.209,2,0.098,2,-999,9,-999,9,-999,9
    09AR9604_1,   UNK,57,1,11,11,2,19960214,2053,-63.9082,104.4255,3327,1001.8,0.739,34.709,2,34.709,2,208.8,2,207.2,2,90.7,3,31.6,2,-999,9,2.18,2,0.199,2,0.092,2,-999,9,-999,9,-999,9
    09AR9604_1,   UNK,57,1,10,10,2,19960214,2053,-63.9082,104.4255,3327,1203,0.567,34.7,2,34.701,2,213.6,2,209.9,2,103.8,3,32,2,-999,9,2.23,2,0.204,2,0.092,2,-999,9,-999,9,-999,9
    09AR9604_1,   UNK,57,1,9,9,2,19960214,2053,-63.9082,104.4255,3327,1403.1,0.398,34.692,2,34.693,2,217.3,2,213.7,2,105.2,3,31.9,2,-999,9,2.23,2,0.17,4,0.071,4,-999,9,-999,9,-999,9
    09AR9604_1,   UNK,57,1,8,8,2,19960214,2053,-63.9082,104.4255,3327,1603.5,0.257,34.688,2,34.687,2,219.9,2,217.5,2,104.8,3,31.9,2,-999,9,2.22,2,0.362,2,0.167,2,-999,9,-999,9,-999,9
    09AR9604_1,   UNK,57,1,7,7,2,19960214,2053,-63.9082,104.4255,3327,1803.2,0.167,34.685,2,34.687,2,221.5,2,220.5,2,103.4,3,31.9,2,-999,9,2.21,2,0.308,4,0.142,4,-999,9,-999,9,-999,9
    09AR9604_1,   UNK,57,1,6,6,2,19960214,2053,-63.9082,104.4255,3327,2004.8,0.078,34.683,2,34.686,2,224.4,2,223.6,2,103.1,3,32.1,2,-999,9,2.24,2,0.478,2,0.225,2,-999,9,-999,9,-999,9
    09AR9604_1,   UNK,57,1,5,5,2,19960214,2053,-63.9082,104.4255,3327,2304.3,-0.026,34.679,2,34.681,2,227.3,2,228,2,106.9,3,32.1,2,-999,9,2.23,2,0.653,2,0.3,2,-999,9,-999,9,-999,9
    09AR9604_1,   UNK,57,1,4,4,2,19960214,2053,-63.9082,104.4255,3327,2603.6,-0.123,34.676,2,34.677,2,231.5,2,232.5,2,104.9,3,32,2,-999,9,2.23,2,0.943,2,0.429,2,-999,9,-999,9,-999,9
    09AR9604_1,   UNK,57,1,3,3,2,19960214,2053,-63.9082,104.4255,3327,2905.1,-0.215,34.67,2,34.671,2,235.9,2,237.3,2,102.2,3,31.5,2,-999,9,2.22,2,1.374,2,0.625,2,-999,9,-999,9,-999,9
    09AR9604_1,   UNK,57,1,2,2,2,19960214,2053,-63.9082,104.4255,3327,3209.6,-0.273,34.667,2,34.669,2,238.3,2,240.2,2,102.5,3,31.4,2,-999,9,2.21,2,1.68,2,0.769,2,-999,9,-999,9,-999,9
    09AR9604_1,   UNK,57,1,1,1,2,19960214,2053,-63.9082,104.4255,3327,3334.4,-0.272,34.667,2,34.671,2,235.7,2,240.4,2,107.3,3,31.5,2,-999,9,2.22,2,1.73,2,0.782,2,-999,9,-999,9,-999,9
    09AR9604_1,   UNK,58,1,24,24,2,19960215,331,-63.5957,104.4343,3707,11.1,-0.186,33.556,4,33.555,2,357.2,2,357.9,2,40,2,25.1,2,-999,9,1.34,2,-999,9,-999,9,-999,9,-999,9,-999,9
    09AR9604_1,   UNK,58,1,23,23,2,19960215,331,-63.5957,104.4343,3707,50.8,-1.485,34.148,2,34.152,2,313.3,2,320.1,2,56.9,2,28.8,2,-999,9,1.9,2,-999,9,-999,9,-999,9,-999,9,-999,9
    09AR9604_1,   UNK,58,1,22,22,2,19960215,331,-63.5957,104.4343,3707,101.5,-1.65,34.345,2,34.341,2,300.6,2,296.4,2,64.2,2,30.3,2,-999,9,2.02,2,-999,9,-999,9,-999,9,-999,9,-999,9
    09AR9604_1,   UNK,58,1,21,21,2,19960215,331,-63.5957,104.4343,3707,201.7,-0.86,34.458,4,34.457,2,270,2,273.7,2,69.4,2,31,2,-999,9,2.07,2,3.874,2,1.805,2,-999,9,-999,9,-999,9
    09AR9604_1,   UNK,58,1,20,20,2,19960215,331,-63.5957,104.4343,3707,251.8,-0.017,34.542,4,34.546,2,214.8,2,243.7,2,75.4,2,31,2,-999,9,2.09,2,-999,9,-999,9,-999,9,-999,9,-999,9
    09AR9604_1,   UNK,58,1,19,119,2,19960215,331,-63.5957,104.4343,3707,301.4,1.108,34.66,4,34.658,2,199.5,2,206.2,2,81.1,2,31,2,-999,9,2.12,2,-999,9,-999,9,-999,9,-999,9,-999,9
    09AR9604_1,   UNK,58,1,18,118,2,19960215,331,-63.5957,104.4343,3707,402.6,1.263,34.705,2,34.705,2,200.7,2,201.8,2,86.2,2,31,2,-999,9,2.09,2,0.573,2,0.267,2,-999,9,-999,9,-999,9
    09AR9604_1,   UNK,58,1,17,17,2,19960215,331,-63.5957,104.4343,3707,501.5,1.212,34.712,2,34.711,2,200.1,2,200.7,2,90.8,2,30.6,2,-999,9,2.07,2,-999,9,-999,9,-999,9,-999,9,-999,9
    09AR9604_1,   UNK,58,1,16,216,2,19960215,331,-63.5957,104.4343,3707,600.8,1.213,34.721,2,34.722,2,200.5,2,200.7,2,93.8,2,30.7,2,-999,9,2.07,2,0.286,2,0.134,2,-999,9,-999,9,-999,9
    09AR9604_1,   UNK,58,1,15,215,2,19960215,331,-63.5957,104.4343,3707,701.5,1.128,34.72,2,34.721,2,202.2,2,202.1,2,97.1,2,30.5,2,-999,9,2.15,2,-999,9,-999,9,-999,9,-999,9,-999,9
    09AR9604_1,   UNK,58,1,14,114,2,19960215,331,-63.5957,104.4343,3707,802.2,1.04,34.717,2,34.717,2,202,2,203.1,2,99.5,2,30.4,2,-999,9,2.18,2,0.229,2,0.107,2,-999,9,-999,9,-999,9
    09AR9604_1,   UNK,58,1,13,113,2,19960215,331,-63.5957,104.4343,3707,902.4,0.968,34.716,2,34.715,2,204.9,2,204,2,101.9,2,30.8,2,-999,9,2.17,2,-999,9,-999,9,-999,9,-999,9,-999,9
    09AR9604_1,   UNK,58,1,12,112,2,19960215,331,-63.5957,104.4343,3707,1003.7,0.883,34.711,2,34.713,2,206.3,2,205.3,2,104.1,2,31.4,2,-999,9,2.29,3,0.21,2,0.1,2,-999,9,-999,9,-999,9
    09AR9604_1,   UNK,58,1,11,11,2,19960215,331,-63.5957,104.4343,3707,1203.3,0.703,34.702,2,34.703,2,209.3,2,208,2,109.6,2,31.5,2,-999,9,2.2,2,-999,9,-999,9,-999,9,-999,9,-999,9
    09AR9604_1,   UNK,58,1,10,10,2,19960215,331,-63.5957,104.4343,3707,1405.4,0.54,34.695,2,34.693,2,213.9,2,210.9,2,112.6,2,31.9,2,-999,9,2.26,2,0.241,2,0.119,2,-999,9,-999,9,-999,9
    09AR9604_1,   UNK,58,1,9,9,2,19960215,331,-63.5957,104.4343,3707,1605.2,0.388,34.687,2,34.686,2,217.9,2,214.5,2,115.1,2,32,2,-999,9,2.26,2,-999,9,-999,9,-999,9,-999,9,-999,9
    09AR9604_1,   UNK,58,1,8,8,2,19960215,331,-63.5957,104.4343,3707,1803,0.272,34.684,2,34.683,2,220.2,2,217.2,2,117.5,2,32.1,2,-999,9,2.25,2,0.301,2,0.144,2,-999,9,-999,9,-999,9
    09AR9604_1,   UNK,58,1,7,7,2,19960215,331,-63.5957,104.4343,3707,2004.1,0.168,34.681,2,34.68,2,222,2,220.8,2,118,2,32.1,2,-999,9,2.29,2,-999,9,-999,9,-999,9,-999,9,-999,9
    09AR9604_1,   UNK,58,1,6,6,2,19960215,331,-63.5957,104.4343,3707,2303.9,0.059,34.678,2,34.678,2,225.2,2,224.7,2,119,2,31.9,2,-999,9,2.26,2,0.454,2,0.214,2,-999,9,-999,9,-999,9
    09AR9604_1,   UNK,58,1,5,5,2,19960215,331,-63.5957,104.4343,3707,2606,-0.033,34.675,2,34.675,2,229.3,2,228.6,2,117.8,2,31.8,2,-999,9,2.25,2,-999,9,-999,9,-999,9,-999,9,-999,9
    09AR9604_1,   UNK,58,1,4,4,2,19960215,331,-63.5957,104.4343,3707,2904.5,-0.121,34.672,2,34.672,2,232.2,2,232.5,2,118.3,2,32.3,2,-999,9,2.24,2,0.783,2,0.37,2,-999,9,-999,9,-999,9
    09AR9604_1,   UNK,58,1,3,3,2,19960215,331,-63.5957,104.4343,3707,3207.8,-0.175,34.67,2,34.67,2,235.2,2,235.5,2,120.6,2,31.8,2,-999,9,2.24,2,0.997,2,0.453,2,-999,9,-999,9,-999,9
    09AR9604_1,   UNK,58,1,2,2,2,19960215,331,-63.5957,104.4343,3707,3509,-0.247,34.665,2,34.665,2,240.5,2,239.8,2,112.3,2,32,2,-999,9,2.21,2,1.601,2,0.738,2,-999,9,-999,9,-999,9
    09AR9604_1,   UNK,58,1,1,1,2,19960215,331,-63.5957,104.4343,3707,3645.5,-0.259,34.663,2,34.663,2,241,2,240.6,2,112.8,2,31.6,2,-999,9,2.24,2,1.722,2,0.798,2,-999,9,-999,9,-999,9
    09AR9604_1,   UNK,59,1,24,24,2,19960215,1111,-63.3033,104.4465,3942,11,1.388,33.915,2,33.922,2,345.2,2,339.3,2,25.6,2,24.5,2,-999,9,1.44,2,6.62,2,3.081,2,-999,9,-999,9,-999,9
    09AR9604_1,   UNK,59,1,23,23,2,19960215,1111,-63.3033,104.4465,3942,31,1.249,33.935,3,33.935,2,334.2,2,339,2,25.5,2,24.5,2,-999,9,1.45,2,-999,9,-999,9,-999,9,-999,9,-999,9
    09AR9604_1,   UNK,59,1,22,22,2,19960215,1111,-63.3033,104.4465,3942,70.5,-0.529,34.182,3,34.192,2,295,2,293.6,2,55.3,2,30.5,2,-999,9,2.08,2,-999,9,-999,9,-999,9,-999,9,-999,9
    09AR9604_1,   UNK,59,1,21,21,2,19960215,1111,-63.3033,104.4465,3942,102.7,0.509,34.441,4,34.45,2,226.6,2,223.5,2,68.2,2,33.3,2,-999,9,2.21,2,-999,9,-999,9,-999,9,-999,9,-999,9
    09AR9604_1,   UNK,59,1,20,20,2,19960215,1111,-63.3033,104.4465,3942,151.1,0.758,34.538,4,34.536,2,211.8,2,213.9,2,72.9,2,32.7,2,-999,9,2.17,2,1.948,2,0.897,2,-999,9,-999,9,-999,9
    09AR9604_1,   UNK,59,1,19,119,2,19960215,1111,-63.3033,104.4465,3942,200.8,0.913,34.578,4,34.572,2,206.5,2,208.8,2,74.5,2,32.4,2,-999,9,2.16,2,-999,9,-999,9,-999,9,-999,9,-999,9
    09AR9604_1,   UNK,59,1,18,118,2,19960215,1111,-63.3033,104.4465,3942,302.7,1.401,34.657,2,34.655,2,191.5,2,195.1,2,79.6,2,32.1,2,-999,9,2.14,2,-999,9,-999,9,-999,9,-999,9,-999,9
    09AR9604_1,   UNK,59,1,17,17,2,19960215,1111,-63.3033,104.4465,3942,401.2,1.512,34.693,2,34.692,2,194.1,2,194.5,2,81.6,2,31.4,2,-999,9,2.09,2,0.593,2,0.273,2,-999,9,-999,9,-999,9
    09AR9604_1,   UNK,59,1,16,216,2,19960215,1111,-63.3033,104.4465,3942,502.1,1.539,34.714,2,34.715,2,196.5,2,195.1,2,83.9,2,31.1,2,-999,9,2.08,2,-999,9,-999,9,-999,9,-999,9,-999,9
    09AR9604_1,   UNK,59,1,15,215,2,19960215,1111,-63.3033,104.4465,3942,602.6,1.501,34.725,2,34.725,2,198.3,2,197.1,2,87.2,2,31.3,2,-999,9,2.06,2,-999,9,-999,9,-999,9,-999,9,-999,9
    09AR9604_1,   UNK,59,1,14,114,2,19960215,1111,-63.3033,104.4465,3942,703,1.398,34.727,2,34.726,2,200,2,199.2,2,89.2,2,31,2,-999,9,2.06,2,0.282,2,0.131,2,-999,9,-999,9,-999,9
    09AR9604_1,   UNK,59,1,13,113,2,19960215,1111,-63.3033,104.4465,3942,801.9,1.345,34.729,2,34.729,2,203.6,2,200.2,2,90.9,2,30.8,2,-999,9,2.06,2,0.229,2,0.104,2,-999,9,-999,9,-999,9
    09AR9604_1,   UNK,59,1,12,112,2,19960215,1111,-63.3033,104.4465,3942,1003.6,1.171,34.726,2,34.723,2,202.8,2,202.5,2,96.6,2,30.9,2,-999,9,2.1,2,0.175,2,0.081,2,-999,9,-999,9,-999,9
    09AR9604_1,   UNK,59,1,11,11,2,19960215,1111,-63.3033,104.4465,3942,1203.3,1.001,34.718,2,34.718,2,207.4,2,204.4,2,102.5,2,31.6,2,-999,9,2.12,2,-999,9,-999,9,-999,9,-999,9,-999,9
    09AR9604_1,   UNK,59,1,10,10,2,19960215,1111,-63.3033,104.4465,3942,1503.7,0.757,34.707,2,34.707,2,210.1,2,207.2,2,110.2,2,31.7,2,-999,9,2.16,2,0.129,2,0.061,2,-999,9,-999,9,-999,9
    09AR9604_1,   UNK,59,1,9,9,2,19960215,1111,-63.3033,104.4465,3942,1804.7,0.499,34.693,2,34.692,2,213.7,2,211.8,2,114.8,2,32.2,2,-999,9,2.18,2,-999,9,-999,9,-999,9,-999,9,-999,9
    09AR9604_1,   UNK,59,1,8,8,2,19960215,1111,-63.3033,104.4465,3942,2104.3,0.297,34.685,2,34.684,2,218.3,2,217.3,2,118.2,2,32,2,-999,9,2.16,2,0.316,2,0.147,2,-999,9,-999,9,-999,9
    09AR9604_1,   UNK,59,1,7,7,2,19960215,1111,-63.3033,104.4465,3942,2404.3,0.159,34.68,2,34.68,2,222,2,221.8,2,119.9,2,32.1,2,-999,9,2.19,2,-999,9,-999,9,-999,9,-999,9,-999,9
    09AR9604_1,   UNK,59,1,6,6,2,19960215,1111,-63.3033,104.4465,3942,2704.1,0.057,34.677,2,34.675,2,225.2,2,226.1,2,118.8,2,31.9,2,-999,9,2.2,2,0.575,2,0.269,2,-999,9,-999,9,-999,9
    09AR9604_1,   UNK,59,1,5,5,2,19960215,1111,-63.3033,104.4465,3942,3007.3,-0.032,34.674,2,34.675,2,228.3,2,229.7,2,121,2,32.4,2,-999,9,2.19,2,0.638,2,0.298,2,-999,9,-999,9,-999,9
    09AR9604_1,   UNK,59,1,4,4,2,19960215,1111,-63.3033,104.4465,3942,3306.5,-0.105,34.671,2,34.673,2,232.2,2,233.1,2,124,2,32.3,2,-999,9,2.19,2,0.786,2,0.366,2,-999,9,-999,9,-999,9
    09AR9604_1,   UNK,59,1,3,3,2,19960215,1111,-63.3033,104.4465,3942,3608.1,-0.165,34.668,2,34.67,2,236,2,237,2,117.2,2,31.8,2,-999,9,2.14,2,1.242,2,0.561,2,-999,9,-999,9,-999,9
    09AR9604_1,   UNK,59,1,2,2,2,19960215,1111,-63.3033,104.4465,3942,3909.2,-0.236,34.661,2,34.664,2,240.4,2,241,2,114.6,2,32.2,2,-999,9,2.15,2,1.805,2,0.808,2,-999,9,-999,9,-999,9
    09AR9604_1,   UNK,59,1,1,1,2,19960215,1111,-63.3033,104.4465,3942,3986,-0.229,34.662,2,34.663,2,238.3,2,240.9,2,115.2,2,31.6,2,-999,9,2.18,2,1.818,2,0.812,2,-999,9,-999,9,-999,9