BOTTLE,2021011SIOJHS,,,,,,,,,,,,,,,,,,,,,,,,,,,,,,,,,,,,,,
EXPOCODE,SECT_ID,STNNBR,CASTNO,SAMPNO,BTLNBR,BTLNBR_FLAG_W,DATE,TIME,LATITUDE,LONGITUDE,DEPTH,CTDPRS,CTDTMP,CTDSAL,CTDSAL_FLAG_W,SALNTY,SALNTY_FLAG_W,CTDOXY,CTDOXY_FLAG_W,OXYGEN,OXYGEN_FLAG_W,SILCAT,SILCAT_FLAG_W,NITRAT,NITRAT_FLAG_W,NITRIT,NITRIT_FLAG_W,PHSPHT,PHSPHT_FLAG_W,CFC-11,CFC-11_FLAG_W,CFC-12,CFC-12_FLAG_W,SF6,SF6_FLAG_W,TCARBN,TCARBN_FLAG_W,ALKALI,ALKALI_FLAG_W
,,,,,,,,,,,,DBAR,DEG C,PSS-78,,PSS-78,,UMOL/KG,,UMOL/KG,,UMOL/KG,,UMOL/KG,,UMOL/KG,,UMOL/KG,,PMOL/KG,,PMOL/KG,,NMOL/KG,,UMOL/KG,,UMOL/KG,
    09AR9604_1,   UNK,144,1,24,24,2,19960322,954,-65.7215,149.9037,2099,11.3,-1.868,34.164,2,34.161,2,-999,5,319.9,2,66,2,29.6,2,-999,9,2.09,2,5.036,2,2.504,2,-999,9,-999,9,-999,9
    09AR9604_1,   UNK,144,1,22,22,2,19960322,954,-65.7215,149.9037,2099,45.6,-1.87,34.258,2,34.26,2,-999,5,312.6,2,66.2,2,29.4,2,-999,9,2.09,2,4.914,2,2.455,2,-999,9,-999,9,-999,9
    09AR9604_1,   UNK,144,1,20,20,2,19960322,954,-65.7215,149.9037,2099,76,-1.87,34.302,2,34.302,2,-999,5,308.5,2,70.4,2,29.1,2,-999,9,2.09,2,4.793,2,2.355,2,-999,9,-999,9,-999,9
    09AR9604_1,   UNK,144,1,18,118,2,19960322,954,-65.7215,149.9037,2099,106,-1.859,34.339,2,34.336,2,-999,5,304.4,2,69.9,2,29.7,2,-999,9,2.14,2,4.72,2,2.325,2,-999,9,-999,9,-999,9
    09AR9604_1,   UNK,144,1,16,216,2,19960322,954,-65.7215,149.9037,2099,150.7,-1.853,34.394,2,34.395,2,-999,5,302.3,2,71.3,2,29.7,2,-999,9,2.13,2,4.709,2,2.301,2,-999,9,-999,9,-999,9
    09AR9604_1,   UNK,144,1,15,215,2,19960322,954,-65.7215,149.9037,2099,201.3,-1.844,34.403,2,34.403,2,-999,5,304.1,2,72.5,2,30,2,-999,9,2.14,2,4.795,2,2.347,2,-999,9,-999,9,-999,9
    09AR9604_1,   UNK,144,1,14,114,2,19960322,954,-65.7215,149.9037,2099,301.1,-1.688,34.418,2,34.421,2,-999,5,294.5,2,71.7,2,30.6,2,-999,9,2.17,2,4.429,2,2.198,2,-999,9,-999,9,-999,9
    09AR9604_1,   UNK,144,1,13,113,2,19960322,954,-65.7215,149.9037,2099,401.8,-0.712,34.517,2,34.517,2,-999,5,254.9,2,77.7,2,30.6,2,-999,9,2.25,2,2.992,2,1.441,2,-999,9,-999,9,-999,9
    09AR9604_1,   UNK,144,1,12,112,2,19960322,954,-65.7215,149.9037,2099,502.3,0.11,34.617,2,34.614,2,-999,5,226.6,2,85.7,2,31.9,2,-999,9,2.24,2,1.801,2,0.852,2,-999,9,-999,9,-999,9
    09AR9604_1,   UNK,144,1,11,11,2,19960322,954,-65.7215,149.9037,2099,601.6,0.401,34.66,2,34.66,2,-999,5,215.2,2,92.8,2,31.9,2,-999,9,2.25,2,1.175,2,0.546,2,-999,9,-999,9,-999,9
    09AR9604_1,   UNK,144,1,10,10,2,19960322,954,-65.7215,149.9037,2099,702.7,0.307,34.666,2,34.664,2,-999,5,217,2,96.9,2,30.6,3,-999,9,2.26,2,1.125,2,0.536,2,-999,9,-999,9,-999,9
    09AR9604_1,   UNK,144,1,9,9,2,19960322,954,-65.7215,149.9037,2099,802.8,0.376,34.68,2,34.681,2,-999,5,213.3,2,103.4,2,31.7,2,-999,9,2.28,2,0.772,2,0.358,2,-999,9,-999,9,-999,9
    09AR9604_1,   UNK,144,1,8,8,2,19960322,954,-65.7215,149.9037,2099,902.9,0.465,34.698,2,34.698,2,-999,5,210.4,2,110.1,2,31.2,2,-999,9,2.29,2,0.377,2,0.17,2,-999,9,-999,9,-999,9
    09AR9604_1,   UNK,144,1,7,7,2,19960322,954,-65.7215,149.9037,2099,1002.1,0.178,34.675,2,34.674,2,-999,5,219.1,2,102.6,2,31.6,2,-999,9,2.26,2,1.023,2,0.479,2,-999,9,-999,9,-999,9
    09AR9604_1,   UNK,144,1,6,6,2,19960322,954,-65.7215,149.9037,2099,1203.6,0.214,34.69,2,34.689,2,-999,5,217.3,2,111.1,2,31.9,2,-999,9,2.29,2,0.587,2,0.276,2,-999,9,-999,9,-999,9
    09AR9604_1,   UNK,144,1,5,5,2,19960322,954,-65.7215,149.9037,2099,1403.4,0.085,34.687,2,34.687,2,-999,5,221.6,2,104.4,2,31.6,2,-999,9,2.29,2,1.056,2,0.489,2,-999,9,-999,9,-999,9
    09AR9604_1,   UNK,144,1,4,4,2,19960322,954,-65.7215,149.9037,2099,1603.3,0.033,34.689,2,34.689,2,-999,5,223.9,2,102.9,2,31.6,2,-999,9,2.29,2,1.153,2,0.531,2,-999,9,-999,9,-999,9
    09AR9604_1,   UNK,144,1,3,3,2,19960322,954,-65.7215,149.9037,2099,1803.6,-0.034,34.689,2,34.69,2,-999,5,227.3,2,98.4,2,31.3,2,-999,9,2.24,3,1.43,2,0.665,2,-999,9,-999,9,-999,9
    09AR9604_1,   UNK,144,1,2,2,2,19960322,954,-65.7215,149.9037,2099,2005.3,-0.096,34.692,2,34.695,2,-999,5,230.1,2,95.5,2,30.7,2,-999,9,2.25,2,1.635,2,0.769,2,-999,9,-999,9,-999,9
    09AR9604_1,   UNK,144,1,1,1,2,19960322,954,-65.7215,149.9037,2099,2095.2,-0.114,34.693,2,34.695,2,-999,5,230.4,2,94.4,2,31.3,2,-999,9,2.29,2,1.685,2,0.805,2,-999,9,-999,9,-999,9
    09AR9604_1,   UNK,145,1,24,24,2,19960323,938,-65.9335,145.3987,676,11.1,-1.822,34.134,2,-999,9,349.8,2,349,2,57.2,2,26.3,2,-999,9,1.82,2,6.207,2,3.032,2,-999,9,-999,9,-999,9
    09AR9604_1,   UNK,145,1,22,22,2,19960323,938,-65.9335,145.3987,676,102.1,-1.812,34.395,2,34.396,2,304.3,2,301.5,2,72.6,2,30.2,2,-999,9,2.07,2,4.734,6,2.313,6,-999,9,-999,9,-999,9
    09AR9604_1,   UNK,145,1,21,21,2,19960323,938,-65.9335,145.3987,676,151.3,-1.811,34.408,4,34.407,2,299.9,2,299.7,2,73.5,2,30.8,2,-999,9,2.07,2,4.72,2,2.292,2,-999,9,-999,9,-999,9
    09AR9604_1,   UNK,145,1,20,20,2,19960323,938,-65.9335,145.3987,676,202.7,-1.793,34.412,2,34.411,2,298.4,2,297.8,2,74.1,2,30.2,2,-999,9,2.08,2,4.617,2,2.25,2,-999,9,-999,9,-999,9
    09AR9604_1,   UNK,145,1,19,119,2,19960323,938,-65.9335,145.3987,676,302.3,-1.481,34.45,4,34.446,2,282.6,2,283.8,2,76.3,2,30.8,2,-999,9,2.11,2,4.115,2,1.989,2,-999,9,-999,9,-999,9
    09AR9604_1,   UNK,145,1,12,112,2,19960323,938,-65.9335,145.3987,676,404.3,-1.171,34.494,2,34.493,2,271.7,2,272.1,2,80.3,2,30.8,2,-999,9,2.13,2,3.641,2,1.74,2,-999,9,-999,9,-999,9
    09AR9604_1,   UNK,145,1,3,3,2,19960323,938,-65.9335,145.3987,676,502.8,-1.072,34.521,2,34.521,2,272.4,2,270,2,81,2,31.5,2,-999,9,2.13,2,3.506,2,1.667,2,-999,9,-999,9,-999,9
    09AR9604_1,   UNK,145,1,2,2,2,19960323,938,-65.9335,145.3987,676,633.6,-1.568,34.522,2,34.522,2,287.5,2,288.5,2,77.5,2,31.8,2,-999,9,2.12,2,4.193,2,2.019,2,-999,9,-999,9,-999,9
    09AR9604_1,   UNK,145,1,1,1,2,19960323,938,-65.9335,145.3987,676,687.8,-1.593,34.52,2,34.52,2,290.9,2,289.2,2,78.5,2,31,2,-999,9,2.13,2,4.256,2,2.036,2,-999,9,-999,9,-999,9