BOTTLE,2021011SIOJHS,,,,,,,,,,,,,,,,,,,,,,,,,,,,,,,,,,,,,,
EXPOCODE,SECT_ID,STNNBR,CASTNO,SAMPNO,BTLNBR,BTLNBR_FLAG_W,DATE,TIME,LATITUDE,LONGITUDE,DEPTH,CTDPRS,CTDTMP,CTDSAL,CTDSAL_FLAG_W,SALNTY,SALNTY_FLAG_W,CTDOXY,CTDOXY_FLAG_W,OXYGEN,OXYGEN_FLAG_W,SILCAT,SILCAT_FLAG_W,NITRAT,NITRAT_FLAG_W,NITRIT,NITRIT_FLAG_W,PHSPHT,PHSPHT_FLAG_W,CFC-11,CFC-11_FLAG_W,CFC-12,CFC-12_FLAG_W,SF6,SF6_FLAG_W,TCARBN,TCARBN_FLAG_W,ALKALI,ALKALI_FLAG_W
,,,,,,,,,,,,DBAR,DEG C,PSS-78,,PSS-78,,UMOL/KG,,UMOL/KG,,UMOL/KG,,UMOL/KG,,UMOL/KG,,UMOL/KG,,PMOL/KG,,PMOL/KG,,NMOL/KG,,UMOL/KG,,UMOL/KG,
    09AR9604_1,  SR03,124,1,23,23,2,19960314,451,-65.0855,139.8645,2764,11.7,-0.124,33.999,2,34.018,3,-999,5,340.7,2,32.3,2,25.8,2,-999,9,1.68,2,-999,9,-999,9,-999,9,-999,9,-999,9
    09AR9604_1,  SR03,124,1,22,22,2,19960314,451,-65.0855,139.8645,2764,25.6,-0.149,34.003,2,34.004,2,-999,5,340.9,2,32.4,2,26.2,2,-999,9,1.69,2,-999,9,-999,9,-999,9,-999,9,-999,9
    09AR9604_1,  SR03,124,1,21,21,2,19960314,451,-65.0855,139.8645,2764,60.5,-1.736,34.327,2,34.328,2,-999,5,321.8,2,57,2,29.6,2,-999,9,2.1,2,-999,9,-999,9,-999,9,-999,9,-999,9
    09AR9604_1,  SR03,124,1,20,20,2,19960314,451,-65.0855,139.8645,2764,75.8,-1.785,34.339,2,34.337,2,-999,5,316.6,2,60,2,30.3,2,-999,9,2.11,2,-999,9,-999,9,-999,9,-999,9,-999,9
    09AR9604_1,  SR03,124,1,19,119,2,19960314,451,-65.0855,139.8645,2764,105.6,-1.784,34.351,2,34.348,2,-999,5,314.1,2,61.3,2,30.7,2,-999,9,2.14,2,5.529,2,2.63,2,-999,9,-999,9,-999,9
    09AR9604_1,  SR03,124,1,18,118,2,19960314,451,-65.0855,139.8645,2764,152,-1.654,34.391,2,34.395,2,-999,5,302.3,2,65.8,2,30.6,2,-999,9,2.14,2,-999,9,-999,9,-999,9,-999,9,-999,9
    09AR9604_1,  SR03,124,1,17,17,2,19960314,451,-65.0855,139.8645,2764,202.2,-0.454,34.495,3,34.49,2,-999,5,260,2,70.9,2,32.2,2,-999,9,2.23,2,-999,9,-999,9,-999,9,-999,9,-999,9
    09AR9604_1,  SR03,124,1,16,216,2,19960314,451,-65.0855,139.8645,2764,301.3,-0.49,34.543,2,34.544,2,-999,5,256.2,2,77,2,31.9,2,-999,9,2.21,2,3.146,2,1.487,2,-999,9,-999,9,-999,9
    09AR9604_1,  SR03,124,1,15,215,2,19960314,451,-65.0855,139.8645,2764,421.2,0.518,34.649,2,34.647,2,-999,5,218.5,2,89.7,2,32,2,-999,9,2.24,2,-999,9,-999,9,-999,9,-999,9,-999,9
    09AR9604_1,  SR03,124,1,14,114,2,19960314,451,-65.0855,139.8645,2764,500.9,0.589,34.665,2,34.661,2,-999,5,214.6,2,92.9,2,31.7,2,-999,9,2.24,2,1.122,2,0.532,2,-999,9,-999,9,-999,9
    09AR9604_1,  SR03,124,1,13,113,2,19960314,451,-65.0855,139.8645,2764,601.3,0.627,34.68,2,34.674,2,-999,5,210.4,2,98.4,2,31.5,2,-999,9,2.24,2,-999,9,-999,9,-999,9,-999,9,-999,9
    09AR9604_1,  SR03,124,1,12,112,2,19960314,451,-65.0855,139.8645,2764,703.9,0.607,34.687,2,34.692,2,-999,5,209.8,2,103.6,2,32.4,2,-999,9,2.24,2,0.696,2,0.324,2,-999,9,-999,9,-999,9
    09AR9604_1,  SR03,124,1,11,11,2,19960314,451,-65.0855,139.8645,2764,803.3,0.542,34.691,2,34.69,2,-999,5,210.1,2,106.2,2,31.9,2,-999,9,2.25,2,-999,9,-999,9,-999,9,-999,9,-999,9
    09AR9604_1,  SR03,124,1,10,10,2,19960314,451,-65.0855,139.8645,2764,901.3,0.604,34.703,2,34.701,2,-999,5,208.7,2,109.7,2,32.5,2,-999,9,2.27,2,0.337,2,0.157,2,-999,9,-999,9,-999,9
    09AR9604_1,  SR03,124,1,9,9,2,19960314,451,-65.0855,139.8645,2764,1103.5,0.47,34.696,2,34.696,2,-999,5,211.3,2,113.6,2,32,2,-999,9,2.28,2,-999,9,-999,9,-999,9,-999,9,-999,9
    09AR9604_1,  SR03,124,1,8,8,2,19960314,451,-65.0855,139.8645,2764,1308.8,0.348,34.692,2,34.692,2,-999,5,213.8,2,117.1,2,32.6,2,-999,9,2.27,2,0.216,2,0.106,2,-999,9,-999,9,-999,9
    09AR9604_1,  SR03,124,1,7,7,2,19960314,451,-65.0855,139.8645,2764,1500.1,0.121,34.677,2,34.674,2,-999,5,221.2,2,110.4,2,32.4,2,-999,9,2.26,2,0.856,2,0.408,2,-999,9,-999,9,-999,9
    09AR9604_1,  SR03,124,1,6,6,2,19960314,451,-65.0855,139.8645,2764,1702.6,0.143,34.684,2,34.689,2,-999,5,220.1,2,120.3,2,32.7,2,-999,9,2.28,2,0.375,2,0.178,2,-999,9,-999,9,-999,9
    09AR9604_1,  SR03,124,1,5,5,2,19960314,451,-65.0855,139.8645,2764,1904.7,0.015,34.681,2,34.685,2,-999,5,224.9,2,110.1,2,32.4,2,-999,9,2.27,2,0.992,2,0.468,2,-999,9,-999,9,-999,9
    09AR9604_1,  SR03,124,1,4,4,2,19960314,451,-65.0855,139.8645,2764,2104.5,-0.055,34.675,2,34.681,2,-999,5,228.6,2,107.1,2,32.3,2,-999,9,2.27,2,1.311,2,0.609,2,-999,9,-999,9,-999,9
    09AR9604_1,  SR03,124,1,3,3,2,19960314,451,-65.0855,139.8645,2764,2304.9,-0.133,34.678,2,34.681,2,-999,5,231.6,2,105.4,2,31.8,2,-999,9,2.26,2,1.462,2,0.699,2,-999,9,-999,9,-999,9
    09AR9604_1,  SR03,124,1,2,2,2,19960314,451,-65.0855,139.8645,2764,2504.9,-0.177,34.68,2,34.685,2,-999,5,234,2,103.7,2,32.4,2,-999,9,2.24,2,1.652,2,0.778,2,-999,9,-999,9,-999,9
    09AR9604_1,  SR03,124,1,1,1,2,19960314,451,-65.0855,139.8645,2764,2706.5,-0.182,34.679,2,34.68,2,-999,5,234.7,2,101.6,2,31.8,2,-999,9,2.26,2,1.765,2,0.832,2,-999,9,-999,9,-999,9
    09AR9604_1,  SR03,124,1,24,24,2,19960314,451,-65.0855,139.8645,2764,2767,-0.185,34.678,2,34.687,3,-999,5,234.7,2,99.9,2,31.5,2,-999,9,2.23,2,1.831,2,0.848,2,-999,9,-999,9,-999,9
    09AR9604_1,  SR03,125,1,24,24,2,19960314,1113,-65.3707,139.83,2518,10.4,-0.486,34.043,2,34.046,2,-999,5,343.4,2,34.7,2,25.8,2,-999,9,1.7,2,-999,9,-999,9,-999,9,-999,9,-999,9
    09AR9604_1,  SR03,125,1,23,23,2,19960314,1113,-65.3707,139.83,2518,26.1,-0.473,34.044,2,34.044,2,-999,5,342.7,2,34.5,2,25.9,2,-999,9,1.7,2,-999,9,-999,9,-999,9,-999,9,-999,9
    09AR9604_1,  SR03,125,1,22,22,2,19960314,1113,-65.3707,139.83,2518,45.4,-0.479,34.044,2,34.044,2,-999,5,342.8,2,34.7,2,26.3,2,-999,9,1.71,2,-999,9,-999,9,-999,9,-999,9,-999,9
    09AR9604_1,  SR03,125,1,21,21,2,19960314,1113,-65.3707,139.83,2518,59.8,-0.705,34.135,4,34.161,2,-999,5,331.5,2,42.9,2,27.2,2,-999,9,1.86,2,-999,9,-999,9,-999,9,-999,9,-999,9
    09AR9604_1,  SR03,125,1,20,20,2,19960314,1113,-65.3707,139.83,2518,105.5,-1.597,34.409,2,34.408,2,-999,5,294.8,2,65.4,2,30.6,2,-999,9,2.2,2,-999,9,-999,9,-999,9,-999,9,-999,9
    09AR9604_1,  SR03,125,1,19,119,2,19960314,1113,-65.3707,139.83,2518,151,-1.12,34.465,3,34.463,2,-999,5,274.1,2,70.7,2,31,2,-999,9,2.22,2,-999,9,-999,9,-999,9,-999,9,-999,9
    09AR9604_1,  SR03,125,1,18,118,2,19960314,1113,-65.3707,139.83,2518,200.8,-0.423,34.533,2,34.535,2,-999,5,248.8,2,76.4,2,31.7,2,-999,9,2.23,2,-999,9,-999,9,-999,9,-999,9,-999,9
    09AR9604_1,  SR03,125,1,17,17,2,19960314,1113,-65.3707,139.83,2518,300.9,0.366,34.626,2,34.625,2,-999,5,224.2,2,84.4,2,30.8,2,-999,9,2.22,2,-999,9,-999,9,-999,9,-999,9,-999,9
    09AR9604_1,  SR03,125,1,16,216,2,19960314,1113,-65.3707,139.83,2518,402.9,0.671,34.67,2,34.666,2,-999,5,213.8,2,90,2,31.2,2,-999,9,2.22,2,-999,9,-999,9,-999,9,-999,9,-999,9
    09AR9604_1,  SR03,125,1,15,215,2,19960314,1113,-65.3707,139.83,2518,503.9,0.678,34.682,2,34.678,2,-999,5,211.1,2,95.6,2,31.2,2,-999,9,2.21,2,-999,9,-999,9,-999,9,-999,9,-999,9
    09AR9604_1,  SR03,125,1,14,114,2,19960314,1113,-65.3707,139.83,2518,616.9,0.564,34.68,2,34.679,2,-999,5,210.8,2,96.7,2,31.7,2,-999,9,2.2,2,-999,9,-999,9,-999,9,-999,9,-999,9
    09AR9604_1,  SR03,125,1,13,113,2,19960314,1113,-65.3707,139.83,2518,691.1,0.528,34.682,2,34.677,2,-999,5,210.7,2,101.2,2,31.4,2,-999,9,2.23,2,-999,9,-999,9,-999,9,-999,9,-999,9
    09AR9604_1,  SR03,125,1,12,112,2,19960314,1113,-65.3707,139.83,2518,801.1,0.412,34.68,2,34.68,2,-999,5,213.9,2,103.8,2,31.2,2,-999,9,2.25,2,-999,9,-999,9,-999,9,-999,9,-999,9
    09AR9604_1,  SR03,125,1,11,11,2,19960314,1113,-65.3707,139.83,2518,903.3,0.306,34.674,2,34.674,2,-999,5,216.3,2,103.8,2,31.3,2,-999,9,2.25,2,-999,9,-999,9,-999,9,-999,9,-999,9
    09AR9604_1,  SR03,125,1,10,10,2,19960314,1113,-65.3707,139.83,2518,1005.5,0.363,34.686,2,34.685,2,-999,5,213.7,2,109.8,2,31.8,2,-999,9,2.28,2,-999,9,-999,9,-999,9,-999,9,-999,9
    09AR9604_1,  SR03,125,1,9,9,2,19960314,1113,-65.3707,139.83,2518,1104.6,0.183,34.673,2,34.672,2,-999,5,219.4,2,106.1,2,31.7,2,-999,9,2.29,2,0.878,2,0.415,2,-999,9,-999,9,-999,9
    09AR9604_1,  SR03,125,1,8,8,2,19960314,1113,-65.3707,139.83,2518,1203.3,0.129,34.675,2,34.672,2,-999,5,221,2,106.1,2,31.4,2,-999,9,2.25,2,-999,9,-999,9,-999,9,-999,9,-999,9
    09AR9604_1,  SR03,125,1,7,7,2,19960314,1113,-65.3707,139.83,2518,1401.4,0.068,34.676,2,34.672,2,-999,5,223.1,2,108.8,2,31.3,2,-999,9,2.29,2,1.005,2,0.477,2,-999,9,-999,9,-999,9
    09AR9604_1,  SR03,125,1,6,6,2,19960314,1113,-65.3707,139.83,2518,1602.1,0.024,34.677,2,34.678,2,-999,5,224.7,2,107.7,2,31.4,2,-999,9,2.28,2,1.088,2,0.512,2,-999,9,-999,9,-999,9
    09AR9604_1,  SR03,125,1,5,5,2,19960314,1113,-65.3707,139.83,2518,1804.3,-0.107,34.67,2,34.671,2,-999,5,230.3,2,102.8,2,31.7,2,-999,9,2.28,2,1.398,2,0.665,2,-999,9,-999,9,-999,9
    09AR9604_1,  SR03,125,1,4,4,2,19960314,1113,-65.3707,139.83,2518,2003.4,-0.143,34.672,2,34.672,2,-999,5,232,2,101.8,2,31.3,2,-999,9,2.26,2,-999,9,-999,9,-999,9,-999,9,-999,9
    09AR9604_1,  SR03,125,1,3,3,2,19960314,1113,-65.3707,139.83,2518,2204.3,-0.195,34.672,2,34.672,2,-999,5,234.4,2,100,2,31,2,-999,9,2.27,2,1.689,2,0.797,2,-999,9,-999,9,-999,9
    09AR9604_1,  SR03,125,1,2,2,2,19960314,1113,-65.3707,139.83,2518,2409.4,-0.301,34.66,2,34.66,2,-999,5,240,2,96.8,2,31.6,2,-999,9,2.27,2,1.977,2,0.946,2,-999,9,-999,9,-999,9
    09AR9604_1,  SR03,125,1,1,1,2,19960314,1113,-65.3707,139.83,2518,2485.7,-0.347,34.654,2,34.653,2,-999,5,242.7,2,95.7,2,31.3,2,-999,9,2.22,2,2.121,2,1.006,2,-999,9,-999,9,-999,9
    09AR9604_1,  SR03,126,1,24,24,2,19960315,1612,-65.4182,139.8393,2150,8.6,-0.713,34.025,2,34.029,2,-999,5,342.3,2,37.7,2,26.5,2,-999,9,1.7,2,6.114,2,3.002,2,-999,9,-999,9,-999,9
    09AR9604_1,  SR03,126,1,22,22,2,19960315,1612,-65.4182,139.8393,2150,45.6,-0.903,34.134,4,34.102,2,-999,5,336.6,2,41.5,2,27.5,2,-999,9,1.78,2,5.887,2,2.881,2,-999,9,-999,9,-999,9
    09AR9604_1,  SR03,126,1,19,119,2,19960315,1612,-65.4182,139.8393,2150,91,-1.545,34.415,2,34.412,2,-999,5,289.4,2,69,2,31.1,2,-999,9,2.17,2,4.315,2,2.13,2,-999,9,-999,9,-999,9
    09AR9604_1,  SR03,126,1,15,215,2,19960315,1612,-65.4182,139.8393,2150,150.5,-1.144,34.47,4,34.468,2,-999,5,278.4,2,71.1,2,31.4,2,-999,9,2.15,2,3.971,2,1.905,2,-999,9,-999,9,-999,9
    09AR9604_1,  SR03,126,1,14,114,2,19960315,1612,-65.4182,139.8393,2150,202.7,-0.24,34.553,3,34.551,2,-999,5,242.9,2,78.3,2,31.1,2,-999,9,2.18,2,2.61,2,1.23,2,-999,9,-999,9,-999,9
    09AR9604_1,  SR03,126,1,13,113,2,19960315,1612,-65.4182,139.8393,2150,299.6,0.543,34.646,2,34.64,2,-999,5,220.5,2,85.6,2,31.2,2,-999,9,2.17,2,1.514,2,0.694,2,-999,9,-999,9,-999,9
    09AR9604_1,  SR03,126,1,12,112,2,19960315,1612,-65.4182,139.8393,2150,401.2,0.845,34.688,2,34.691,2,-999,5,210,2,92.3,2,31.1,2,-999,9,2.17,2,0.8,2,0.375,2,-999,9,-999,9,-999,9
    09AR9604_1,  SR03,126,1,11,11,2,19960315,1612,-65.4182,139.8393,2150,504.1,0.815,34.694,2,34.699,2,-999,5,208,2,100.4,2,31.5,2,-999,9,2.16,2,0.617,2,0.284,2,-999,9,-999,9,-999,9
    09AR9604_1,  SR03,126,1,10,10,2,19960315,1612,-65.4182,139.8393,2150,600.5,0.815,34.702,2,34.705,2,-999,5,206.6,2,102.3,2,31.5,2,-999,9,2.15,2,0.417,2,0.184,2,-999,9,-999,9,-999,9
    09AR9604_1,  SR03,126,1,9,9,2,19960315,1612,-65.4182,139.8393,2150,701,0.659,34.692,2,34.693,2,-999,5,209.3,2,103.7,2,31.5,2,-999,9,2.17,2,0.515,2,0.242,2,-999,9,-999,9,-999,9
    09AR9604_1,  SR03,126,1,8,8,2,19960315,1612,-65.4182,139.8393,2150,801.3,0.58,34.695,2,34.694,2,-999,5,209.4,2,109.1,2,31.8,2,-999,9,2.19,2,0.362,2,0.16,2,-999,9,-999,9,-999,9
    09AR9604_1,  SR03,126,1,7,7,2,19960315,1612,-65.4182,139.8393,2150,1000.9,0.298,34.677,3,34.674,2,-999,5,216,2,108.1,2,32.5,3,-999,9,2.22,2,0.71,2,0.336,2,-999,9,-999,9,-999,9
    09AR9604_1,  SR03,126,1,6,6,2,19960315,1612,-65.4182,139.8393,2150,1203.7,0.138,34.672,2,34.675,2,-999,5,220.5,2,108.8,2,31.7,2,-999,9,2.22,2,0.933,2,0.431,2,-999,9,-999,9,-999,9
    09AR9604_1,  SR03,126,1,5,5,2,19960315,1612,-65.4182,139.8393,2150,1401.8,-0.024,34.666,2,34.671,2,-999,5,226.8,2,108.2,2,31.8,2,-999,9,2.22,2,1.198,2,0.573,2,-999,9,-999,9,-999,9
    09AR9604_1,  SR03,126,1,4,4,2,19960315,1612,-65.4182,139.8393,2150,1601.9,-0.215,34.658,2,34.662,2,-999,5,234.9,2,102.1,2,31.5,2,-999,9,2.22,2,1.654,2,0.768,2,-999,9,-999,9,-999,9
    09AR9604_1,  SR03,126,1,3,3,2,19960315,1612,-65.4182,139.8393,2150,1806.5,-0.268,34.654,3,34.657,2,-999,5,237.7,2,100.2,2,31.6,2,-999,9,2.21,2,1.827,2,0.846,2,-999,9,-999,9,-999,9
    09AR9604_1,  SR03,126,1,2,2,2,19960315,1612,-65.4182,139.8393,2150,2105,-0.3,34.651,2,34.651,2,-999,5,239.8,2,99.1,2,31.6,2,-999,9,2.18,2,1.945,2,0.905,2,-999,9,-999,9,-999,9
    09AR9604_1,  SR03,126,1,1,1,2,19960315,1612,-65.4182,139.8393,2150,2293.6,-0.273,34.648,2,34.65,2,-999,5,239.6,2,99.6,2,31.5,2,-999,9,2.2,2,1.907,2,0.906,2,-999,9,-999,9,-999,9
    09AR9604_1,  SR03,127,1,24,24,2,19960315,1918,-65.4312,139.8362,1843,10.4,-0.732,34.053,3,34.057,2,-999,5,341.7,2,38.1,2,26.5,2,-999,9,1.69,2,6.031,2,2.973,2,-999,9,-999,9,-999,9
    09AR9604_1,  SR03,127,1,22,22,2,19960315,1918,-65.4312,139.8362,1843,46.3,-0.791,34.098,2,34.097,2,-999,5,340.9,2,41.3,2,27.5,2,-999,9,1.78,2,-999,9,-999,9,-999,9,-999,9,-999,9
    09AR9604_1,  SR03,127,1,19,119,2,19960315,1918,-65.4312,139.8362,1843,93,-1.597,34.411,3,34.404,2,-999,5,293.3,2,68.1,2,31.6,2,-999,9,2.16,2,4.389,2,2.189,2,-999,9,-999,9,-999,9
    09AR9604_1,  SR03,127,1,15,215,2,19960315,1918,-65.4312,139.8362,1843,152,-1.112,34.469,3,34.473,2,-999,5,271.3,2,72.9,2,31.8,2,-999,9,2.17,2,3.644,2,1.778,2,-999,9,-999,9,-999,9
    09AR9604_1,  SR03,127,1,14,114,2,19960315,1918,-65.4312,139.8362,1843,199.3,-0.54,34.526,3,34.526,2,-999,5,251.4,2,77.3,2,31.7,2,-999,9,2.18,2,-999,9,-999,9,-999,9,-999,9,-999,9
    09AR9604_1,  SR03,127,1,13,113,2,19960315,1918,-65.4312,139.8362,1843,301.7,0.431,34.636,2,34.632,2,-999,5,220.4,2,86.3,2,31.6,2,-999,9,2.19,2,-999,9,-999,9,-999,9,-999,9,-999,9
    09AR9604_1,  SR03,127,1,12,112,2,19960315,1918,-65.4312,139.8362,1843,397.9,0.708,34.681,4,34.676,2,-999,5,211.8,2,92.8,2,31.5,2,-999,9,2.19,2,-999,9,-999,9,-999,9,-999,9,-999,9
    09AR9604_1,  SR03,127,1,11,11,2,19960315,1918,-65.4312,139.8362,1843,501.8,0.782,34.697,2,34.697,2,-999,5,208.1,2,97.9,2,32.1,2,-999,9,2.18,2,0.588,2,0.283,2,-999,9,-999,9,-999,9
    09AR9604_1,  SR03,127,1,10,10,2,19960315,1918,-65.4312,139.8362,1843,602.6,0.684,34.695,3,34.696,2,-999,5,208.2,2,103.1,2,31.5,2,-999,9,2.22,2,-999,9,-999,9,-999,9,-999,9,-999,9
    09AR9604_1,  SR03,127,1,9,9,2,19960315,1918,-65.4312,139.8362,1843,701.3,0.599,34.694,4,34.694,2,-999,5,209.3,2,104.9,2,31.7,2,-999,9,2.2,2,-999,9,-999,9,-999,9,-999,9,-999,9
    09AR9604_1,  SR03,127,1,8,8,2,19960315,1918,-65.4312,139.8362,1843,803.4,0.487,34.687,3,34.681,2,-999,5,211.7,2,107.7,2,31.5,2,-999,9,2.22,2,-999,9,-999,9,-999,9,-999,9,-999,9
    09AR9604_1,  SR03,127,1,7,7,2,19960315,1918,-65.4312,139.8362,1843,901.2,0.412,34.685,2,34.672,2,-999,5,213.1,2,108.6,2,31.9,2,-999,9,2.24,2,0.554,2,0.251,2,-999,9,-999,9,-999,9
    09AR9604_1,  SR03,127,1,6,6,2,19960315,1918,-65.4312,139.8362,1843,1101.5,0.165,34.672,2,34.672,2,-999,5,220.1,2,105.5,2,31.5,2,-999,9,2.24,2,0.892,2,0.431,2,-999,9,-999,9,-999,9
    09AR9604_1,  SR03,127,1,5,5,2,19960315,1918,-65.4312,139.8362,1843,1304.3,0.111,34.676,2,34.677,2,-999,5,221.4,2,108,2,31.8,2,-999,9,2.24,2,0.864,2,0.399,2,-999,9,-999,9,-999,9
    09AR9604_1,  SR03,127,1,4,4,2,19960315,1918,-65.4312,139.8362,1843,1504,-0.121,34.664,2,34.665,2,-999,5,230.7,2,102.4,2,31.5,2,-999,9,2.22,2,1.378,2,0.676,2,-999,9,-999,9,-999,9
    09AR9604_1,  SR03,127,1,3,3,2,19960315,1918,-65.4312,139.8362,1843,1704.1,-0.213,34.659,2,34.658,2,-999,5,235.2,2,101,2,31.3,2,-999,9,2.22,2,1.659,2,0.789,2,-999,9,-999,9,-999,9
    09AR9604_1,  SR03,127,1,2,2,2,19960315,1918,-65.4312,139.8362,1843,1999.3,-0.309,34.653,2,34.65,2,-999,5,240.4,2,97.2,2,31,2,-999,9,2.22,2,1.916,2,0.933,2,-999,9,-999,9,-999,9
    09AR9604_1,  SR03,127,1,1,1,2,19960315,1918,-65.4312,139.8362,1843,2135,-0.315,34.65,2,34.646,2,-999,5,241.2,2,96.2,2,31.1,2,-999,9,2.21,2,1.986,2,0.95,2,-999,9,-999,9,-999,9
    09AR9604_1,  SR03,128,1,24,24,2,19960316,139,-65.5025,139.8522,1535,9.3,-0.735,34.075,2,34.074,2,-999,5,342.6,2,41.1,2,26.7,2,-999,9,1.74,2,-999,9,-999,9,-999,9,-999,9,-999,9
    09AR9604_1,  SR03,128,1,18,118,2,19960316,139,-65.5025,139.8522,1535,45.1,-0.775,34.109,2,34.107,2,-999,5,340.8,2,42.4,2,27.2,2,-999,9,1.77,2,-999,9,-999,9,-999,9,-999,9,-999,9
    09AR9604_1,  SR03,128,1,14,114,2,19960316,139,-65.5025,139.8522,1535,104.6,-1.593,34.409,2,34.408,2,-999,5,291.8,2,67.8,2,30.6,2,-999,9,2.16,2,-999,9,-999,9,-999,9,-999,9,-999,9
    09AR9604_1,  SR03,128,1,11,11,2,19960316,139,-65.5025,139.8522,1535,150.1,-1.325,34.447,4,34.443,2,-999,5,280.2,2,70.5,2,30.6,2,-999,9,2.17,2,-999,9,-999,9,-999,9,-999,9,-999,9
    09AR9604_1,  SR03,128,1,9,9,2,19960316,139,-65.5025,139.8522,1535,202.3,-0.544,34.52,4,34.516,2,-999,5,252.4,2,77.2,2,31.3,2,-999,9,2.17,2,-999,9,-999,9,-999,9,-999,9,-999,9
    09AR9604_1,  SR03,128,1,8,8,2,19960316,139,-65.5025,139.8522,1535,302.8,0.3,34.621,2,34.619,2,-999,5,224.2,2,85.5,2,31.2,2,-999,9,2.2,2,-999,9,-999,9,-999,9,-999,9,-999,9
    09AR9604_1,  SR03,128,1,7,7,2,19960316,139,-65.5025,139.8522,1535,400,0.542,34.661,2,34.661,2,-999,5,214.7,2,91.8,2,31.3,2,-999,9,2.21,2,1.094,2,0.521,2,-999,9,-999,9,-999,9
    09AR9604_1,  SR03,128,1,6,6,2,19960316,139,-65.5025,139.8522,1535,602.6,0.313,34.661,2,34.658,2,-999,5,219.2,2,98.4,2,31,2,-999,9,2.22,2,1.138,2,0.535,2,-999,9,-999,9,-999,9
    09AR9604_1,  SR03,128,1,5,5,2,19960316,139,-65.5025,139.8522,1535,801.3,0.304,34.675,2,34.674,2,-999,5,215.6,2,106.6,2,31.1,2,-999,9,2.24,2,0.777,2,0.36,2,-999,9,-999,9,-999,9
    09AR9604_1,  SR03,128,1,4,4,2,19960316,139,-65.5025,139.8522,1535,1002.4,0.037,34.664,2,34.665,2,-999,5,224.7,2,105.4,2,31.3,2,-999,9,2.23,2,-999,9,-999,9,-999,9,-999,9,-999,9
    09AR9604_1,  SR03,128,1,3,3,2,19960316,139,-65.5025,139.8522,1535,1203,-0.182,34.654,3,34.655,2,-999,5,233.6,2,100.4,2,31.2,2,-999,9,2.21,2,1.605,2,0.755,2,-999,9,-999,9,-999,9
    09AR9604_1,  SR03,128,1,2,2,2,19960316,139,-65.5025,139.8522,1535,1406.7,-0.347,34.646,2,34.648,2,-999,5,240.8,2,98.7,2,31,2,-999,9,2.22,2,1.966,2,0.927,2,-999,9,-999,9,-999,9
    09AR9604_1,  SR03,128,1,1,1,2,19960316,139,-65.5025,139.8522,1535,1480.2,-0.334,34.646,3,34.649,2,-999,5,240.8,2,99.5,2,31.3,2,-999,9,2.18,2,1.931,2,0.925,2,-999,9,-999,9,-999,9