BOTTLE,2021011SIOJHS,,,,,,,,,,,,,,,,,,,,,,,,,,,,,,,,,,,,,,
EXPOCODE,SECT_ID,STNNBR,CASTNO,SAMPNO,BTLNBR,BTLNBR_FLAG_W,DATE,TIME,LATITUDE,LONGITUDE,DEPTH,CTDPRS,CTDTMP,CTDSAL,CTDSAL_FLAG_W,SALNTY,SALNTY_FLAG_W,CTDOXY,CTDOXY_FLAG_W,OXYGEN,OXYGEN_FLAG_W,SILCAT,SILCAT_FLAG_W,NITRAT,NITRAT_FLAG_W,NITRIT,NITRIT_FLAG_W,PHSPHT,PHSPHT_FLAG_W,CFC-11,CFC-11_FLAG_W,CFC-12,CFC-12_FLAG_W,SF6,SF6_FLAG_W,TCARBN,TCARBN_FLAG_W,ALKALI,ALKALI_FLAG_W
,,,,,,,,,,,,DBAR,DEG C,PSS-78,,PSS-78,,UMOL/KG,,UMOL/KG,,UMOL/KG,,UMOL/KG,,UMOL/KG,,UMOL/KG,,PMOL/KG,,PMOL/KG,,NMOL/KG,,UMOL/KG,,UMOL/KG,
    09AR9604_1,   UNK,44,1,24,24,2,19960211,142,-62.7022,96.1237,3614,12.2,0.739,33.907,2,33.918,2,-999,5,344,2,38.1,2,23.4,2,-999,9,1.44,2,6.713,2,3.172,2,-999,9,-999,9,-999,9
    09AR9604_1,   UNK,44,1,23,23,2,19960211,142,-62.7022,96.1237,3614,51.4,-0.893,34.184,2,34.185,2,-999,5,311.6,2,51.6,2,28.4,2,-999,9,2.03,2,5.489,6,2.599,6,-999,9,-999,9,-999,9
    09AR9604_1,   UNK,44,1,22,22,2,19960211,142,-62.7022,96.1237,3614,75.9,-0.868,34.388,3,34.389,2,-999,5,275.9,2,59.6,2,30.5,2,-999,9,2.16,2,4.177,2,1.973,2,-999,9,-999,9,-999,9
    09AR9604_1,   UNK,44,1,21,21,2,19960211,142,-62.7022,96.1237,3614,101,0.136,34.532,3,34.529,2,-999,5,235.2,2,63.4,2,31.7,2,-999,9,2.19,2,2.536,2,1.192,2,-999,9,-999,9,-999,9
    09AR9604_1,   UNK,44,1,20,20,2,19960211,142,-62.7022,96.1237,3614,151.1,0.469,34.594,2,34.593,2,-999,5,223.9,2,70.3,2,31.6,2,-999,9,2.18,2,2.017,2,0.908,2,-999,9,-999,9,-999,9
    09AR9604_1,   UNK,44,1,19,119,2,19960211,142,-62.7022,96.1237,3614,241.7,0.947,34.664,2,34.659,2,-999,5,208.4,2,70.8,2,31.8,2,-999,9,2.16,2,1.184,2,0.528,2,-999,9,-999,9,-999,9
    09AR9604_1,   UNK,44,1,18,118,2,19960211,142,-62.7022,96.1237,3614,331.3,1.251,34.71,2,34.71,2,-999,5,199.7,2,70.1,2,31.1,2,-999,9,2.14,2,0.565,2,0.256,2,-999,9,-999,9,-999,9
    09AR9604_1,   UNK,44,1,17,17,2,19960211,142,-62.7022,96.1237,3614,401.4,1.253,34.72,2,34.719,2,-999,5,199.9,2,75.5,2,31.2,2,-999,9,2.15,2,0.402,2,0.192,2,-999,9,-999,9,-999,9
    09AR9604_1,   UNK,44,1,16,216,2,19960211,142,-62.7022,96.1237,3614,503.6,1.176,34.722,2,34.722,2,-999,5,201.4,2,78.7,2,31.1,2,-999,9,2.15,2,0.348,2,0.156,2,-999,9,-999,9,-999,9
    09AR9604_1,   UNK,44,1,15,215,2,19960211,142,-62.7022,96.1237,3614,603.8,1.099,34.722,2,34.722,2,-999,5,202,2,76.9,2,30.8,2,-999,9,2.17,2,0.287,2,0.137,2,-999,9,-999,9,-999,9
    09AR9604_1,   UNK,44,1,14,114,2,19960211,142,-62.7022,96.1237,3614,702.4,1.013,34.72,2,34.719,2,-999,5,203.1,2,82.8,2,31.1,2,-999,9,2.18,2,0.262,2,0.115,3,-999,9,-999,9,-999,9
    09AR9604_1,   UNK,44,1,13,113,2,19960211,142,-62.7022,96.1237,3614,802.2,0.919,34.716,2,34.716,2,-999,5,204.1,2,90.7,2,31.1,2,-999,9,2.2,2,0.231,2,0.107,2,-999,9,-999,9,-999,9
    09AR9604_1,   UNK,44,1,12,112,2,19960211,142,-62.7022,96.1237,3614,1005.9,0.745,34.707,2,34.71,2,-999,5,207.1,2,96.4,2,31.4,2,-999,9,2.19,2,0.252,2,0.117,2,-999,9,-999,9,-999,9
    09AR9604_1,   UNK,44,1,11,11,2,19960211,142,-62.7022,96.1237,3614,1203,0.589,34.7,2,34.701,2,-999,5,209.4,2,96.9,2,31.9,2,-999,9,2.21,2,0.221,2,0.113,2,-999,9,-999,9,-999,9
    09AR9604_1,   UNK,44,1,10,10,2,19960211,142,-62.7022,96.1237,3614,1405.1,0.439,34.692,2,34.693,2,-999,5,212.6,2,102.5,2,31.7,2,-999,9,2.22,2,0.281,2,0.128,2,-999,9,-999,9,-999,9
    09AR9604_1,   UNK,44,1,9,9,2,19960211,142,-62.7022,96.1237,3614,1605.1,0.302,34.687,2,34.686,2,-999,5,216.4,2,107.6,2,31.7,2,-999,9,2.23,2,0.316,2,0.154,2,-999,9,-999,9,-999,9
    09AR9604_1,   UNK,44,1,8,8,2,19960211,142,-62.7022,96.1237,3614,1804.6,0.18,34.683,2,34.682,2,-999,5,220.4,2,103.9,2,31.9,2,-999,9,2.24,2,0.439,2,0.2,2,-999,9,-999,9,-999,9
    09AR9604_1,   UNK,44,1,7,7,2,19960211,142,-62.7022,96.1237,3614,2003.9,0.079,34.679,2,34.678,2,-999,5,224.4,2,106.1,2,32.1,2,-999,9,2.24,2,0.597,2,0.279,2,-999,9,-999,9,-999,9
    09AR9604_1,   UNK,44,1,6,6,2,19960211,142,-62.7022,96.1237,3614,2306.1,-0.011,34.676,2,34.679,2,-999,5,227.7,2,107.1,2,32,2,-999,9,2.24,2,0.733,2,0.338,2,-999,9,-999,9,-999,9
    09AR9604_1,   UNK,44,1,5,5,2,19960211,142,-62.7022,96.1237,3614,2603.9,-0.072,34.676,2,34.679,2,-999,5,230.3,2,101.5,2,32.1,2,-999,9,2.24,2,0.792,2,0.366,2,-999,9,-999,9,-999,9
    09AR9604_1,   UNK,44,1,4,4,2,19960211,142,-62.7022,96.1237,3614,2904.8,-0.135,34.673,2,34.674,2,-999,5,233.3,2,106.4,2,31.6,2,-999,9,2.23,2,1.034,2,0.467,2,-999,9,-999,9,-999,9
    09AR9604_1,   UNK,44,1,3,3,2,19960211,142,-62.7022,96.1237,3614,3204.9,-0.162,34.672,2,34.671,2,-999,5,235.3,2,107.8,2,31.5,2,-999,9,2.22,2,1.161,2,0.535,2,-999,9,-999,9,-999,9
    09AR9604_1,   UNK,44,1,2,2,2,19960211,142,-62.7022,96.1237,3614,3509.8,-0.179,34.672,2,34.671,2,-999,5,236.2,2,107.9,2,31.9,2,-999,9,2.24,2,1.27,2,0.572,2,-999,9,-999,9,-999,9
    09AR9604_1,   UNK,44,1,1,1,2,19960211,142,-62.7022,96.1237,3614,3621.6,-0.212,34.668,2,34.669,2,-999,5,237.8,2,111,2,31.5,2,-999,9,2.22,2,1.483,2,0.675,2,-999,9,-999,9,-999,9
    09AR9604_1,   UNK,45,1,24,24,2,19960211,955,-62.6723,97.9187,3839,11.3,1.058,33.943,2,33.948,2,343.1,2,341.5,2,31.2,2,23.5,2,-999,9,1.45,2,6.682,2,3.159,2,-999,9,-999,9,-999,9
    09AR9604_1,   UNK,45,1,23,23,2,19960211,955,-62.6723,97.9187,3839,51,0.052,34.094,4,34.123,2,313.2,2,317.3,2,43.6,2,27.2,2,-999,9,2,2,-999,9,-999,9,-999,9,-999,9,-999,9
    09AR9604_1,   UNK,45,1,22,22,2,19960211,955,-62.6723,97.9187,3839,75.2,-0.529,34.3,2,34.307,2,278.4,2,277.5,2,51.4,2,30.6,2,-999,9,2.14,2,-999,9,-999,9,-999,9,-999,9,-999,9
    09AR9604_1,   UNK,45,1,21,21,2,19960211,955,-62.6723,97.9187,3839,101.1,-0.035,34.467,4,34.461,2,225.5,2,242.7,2,58.1,2,32.1,2,-999,9,2.19,2,2.987,2,1.405,2,-999,9,-999,9,-999,9
    09AR9604_1,   UNK,45,1,20,20,2,19960211,955,-62.6723,97.9187,3839,201.5,1.258,34.668,2,34.667,2,202.1,2,197.7,2,67.5,2,32.5,2,-999,9,2.22,2,-999,9,-999,9,-999,9,-999,9,-999,9
    09AR9604_1,   UNK,45,1,19,119,2,19960211,955,-62.6723,97.9187,3839,302.2,1.371,34.701,2,34.699,2,196.5,2,197.5,2,68,2,31.5,2,-999,9,2.12,2,0.61,2,0.273,2,-999,9,-999,9,-999,9
    09AR9604_1,   UNK,45,1,18,118,2,19960211,955,-62.6723,97.9187,3839,402.3,1.34,34.712,2,34.71,2,196.9,2,198.8,2,73.3,2,31,2,-999,9,2.14,2,-999,9,-999,9,-999,9,-999,9,-999,9
    09AR9604_1,   UNK,45,1,17,17,2,19960211,955,-62.6723,97.9187,3839,500.8,1.304,34.72,2,34.72,2,196.6,2,200.2,2,70.8,2,31.3,2,-999,9,2.14,2,0.381,2,0.177,2,-999,9,-999,9,-999,9
    09AR9604_1,   UNK,45,1,16,216,2,19960211,955,-62.6723,97.9187,3839,702.7,1.143,34.722,2,34.723,2,199.6,2,203,2,81.6,2,31.1,2,-999,9,2.14,2,0.276,2,0.13,2,-999,9,-999,9,-999,9
    09AR9604_1,   UNK,45,1,15,215,2,19960211,955,-62.6723,97.9187,3839,903.8,0.973,34.717,2,34.719,2,204.1,2,204.8,2,83.2,2,31.3,2,-999,9,2.11,2,0.211,2,0.098,2,-999,9,-999,9,-999,9
    09AR9604_1,   UNK,45,1,14,114,2,19960211,955,-62.6723,97.9187,3839,1102.8,0.804,34.709,2,34.711,2,208,2,206.4,2,90.1,2,32,2,-999,9,2.18,2,0.175,2,0.077,2,-999,9,-999,9,-999,9
    09AR9604_1,   UNK,45,1,13,113,2,19960211,955,-62.6723,97.9187,3839,1304.9,0.643,34.702,2,34.701,2,210.9,2,208.6,2,92.6,2,31.9,2,-999,9,2.21,2,-999,9,-999,9,-999,9,-999,9,-999,9
    09AR9604_1,   UNK,45,1,12,112,2,19960211,955,-62.6723,97.9187,3839,1505.8,0.507,34.696,2,34.693,2,213.6,2,211.1,2,101.6,2,32.1,2,-999,9,2.22,2,0.17,2,0.08,2,-999,9,-999,9,-999,9
    09AR9604_1,   UNK,45,1,11,11,2,19960211,955,-62.6723,97.9187,3839,1705.7,0.389,34.69,2,34.689,2,216.1,2,213.5,2,104,2,32.1,2,-999,9,2.23,2,-999,9,-999,9,-999,9,-999,9,-999,9
    09AR9604_1,   UNK,45,1,10,10,2,19960211,955,-62.6723,97.9187,3839,1904.9,0.277,34.684,2,34.687,2,218.5,2,216.5,2,103.4,2,32.3,2,-999,9,2.24,2,-999,9,-999,9,-999,9,-999,9,-999,9
    09AR9604_1,   UNK,45,1,9,9,2,19960211,955,-62.6723,97.9187,3839,2107.4,0.147,34.68,2,34.679,2,222.2,2,222.5,2,102.8,2,32,2,-999,9,2.23,2,0.542,2,0.25,2,-999,9,-999,9,-999,9
    09AR9604_1,   UNK,45,1,8,8,2,19960211,955,-62.6723,97.9187,3839,2305.2,0.089,34.679,2,34.679,2,223.6,2,223.5,2,107.2,2,32.2,2,-999,9,2.24,2,-999,9,-999,9,-999,9,-999,9,-999,9
    09AR9604_1,   UNK,45,1,7,7,2,19960211,955,-62.6723,97.9187,3839,2506.1,0.023,34.677,2,34.679,2,226.7,2,226.3,2,109.2,2,32.6,2,-999,9,2.23,2,-999,9,-999,9,-999,9,-999,9,-999,9
    09AR9604_1,   UNK,45,1,6,6,2,19960211,955,-62.6723,97.9187,3839,2704.1,-0.035,34.676,2,34.671,2,228.6,2,228.9,2,109.4,2,32.1,2,-999,9,2.23,2,0.606,2,0.288,2,-999,9,-999,9,-999,9
    09AR9604_1,   UNK,45,1,5,5,2,19960211,955,-62.6723,97.9187,3839,2903.7,-0.079,34.674,2,34.674,2,231.2,2,231,2,115.8,2,32.5,2,-999,9,2.21,2,-999,9,-999,9,-999,9,-999,9,-999,9
    09AR9604_1,   UNK,45,1,4,4,2,19960211,955,-62.6723,97.9187,3839,3106.3,-0.107,34.673,2,34.674,2,233,2,236.9,4,111.8,2,32,2,-999,9,2.22,2,-999,9,-999,9,-999,9,-999,9,-999,9
    09AR9604_1,   UNK,45,1,3,3,2,19960211,955,-62.6723,97.9187,3839,3407,-0.141,34.671,2,34.674,2,236,2,234.9,2,109.9,2,31.9,2,-999,9,2.22,2,1.025,2,0.469,2,-999,9,-999,9,-999,9
    09AR9604_1,   UNK,45,1,2,2,2,19960211,955,-62.6723,97.9187,3839,3709.5,-0.165,34.67,2,34.67,2,238.7,2,237.2,2,105.3,2,32.2,2,-999,9,2.22,2,1.354,2,0.604,2,-999,9,-999,9,-999,9
    09AR9604_1,   UNK,45,1,1,1,2,19960211,955,-62.6723,97.9187,3839,3885.5,-0.183,34.668,2,34.669,2,239.9,2,238,2,109.7,2,32,2,-999,9,2.22,2,1.467,2,0.672,2,-999,9,-999,9,-999,9
    09AR9604_1,   UNK,46,1,24,24,2,19960211,1805,-62.622,99.795,4095,11.7,1.124,33.804,2,33.808,2,342.3,2,343,2,22.6,2,22.1,2,-999,9,1.36,2,6.767,2,3.146,2,-999,9,-999,9,-999,9
    09AR9604_1,   UNK,46,1,23,23,2,19960211,1805,-62.622,99.795,4095,51,-0.05,33.948,4,33.945,2,331,2,332,2,29.4,2,25.2,2,-999,9,1.92,2,6.562,2,3.078,2,-999,9,-999,9,-999,9
    09AR9604_1,   UNK,46,1,22,22,2,19960211,1805,-62.622,99.795,4095,100.5,-0.715,34.347,2,34.341,2,269.6,2,267.8,2,47,2,31.5,2,-999,9,2.25,2,-999,9,-999,9,-999,9,-999,9,-999,9
    09AR9604_1,   UNK,46,1,21,21,2,19960211,1805,-62.622,99.795,4095,150,0.634,34.531,2,34.524,2,215,2,218,2,51.3,2,32.1,2,-999,9,2.24,2,-999,9,-999,9,-999,9,-999,9,-999,9
    09AR9604_1,   UNK,46,1,20,20,2,19960211,1805,-62.622,99.795,4095,201.6,0.999,34.602,2,34.6,2,204.5,2,207.4,2,52.5,2,31.8,2,-999,9,2.19,2,1.528,2,0.699,2,-999,9,-999,9,-999,9
    09AR9604_1,   UNK,46,1,19,119,2,19960211,1805,-62.622,99.795,4095,301.4,1.563,34.692,2,34.69,2,193.1,2,193.4,2,55.1,2,31.5,2,-999,9,2.18,2,-999,9,-999,9,-999,9,-999,9,-999,9
    09AR9604_1,   UNK,46,1,18,118,2,19960211,1805,-62.622,99.795,4095,401.5,1.565,34.714,2,34.711,2,195.7,2,195.4,2,57.4,2,30.7,2,-999,9,2.15,2,0.45,2,0.201,2,-999,9,-999,9,-999,9
    09AR9604_1,   UNK,46,1,17,17,2,19960211,1805,-62.622,99.795,4095,550.8,1.41,34.723,2,34.725,2,199,2,199.5,2,60.5,2,30.5,2,-999,9,2.15,2,0.374,2,0.17,2,-999,9,-999,9,-999,9
    09AR9604_1,   UNK,46,1,16,216,2,19960211,1805,-62.622,99.795,4095,701.8,1.301,34.729,2,34.729,2,202.1,2,201.8,2,66,2,30.4,2,-999,9,2.15,2,0.295,6,0.135,6,-999,9,-999,9,-999,9
    09AR9604_1,   UNK,46,1,15,215,2,19960211,1805,-62.622,99.795,4095,853.1,1.128,34.724,2,34.722,2,203.4,2,199.6,2,69.1,2,30.9,2,-999,9,2.17,2,-999,9,-999,9,-999,9,-999,9,-999,9
    09AR9604_1,   UNK,46,1,14,114,2,19960211,1805,-62.622,99.795,4095,1002.7,1.018,34.721,2,34.722,2,205.3,2,204.3,2,72.2,2,30.7,2,-999,9,2.17,2,0.194,2,0.084,2,-999,9,-999,9,-999,9
    09AR9604_1,   UNK,46,1,13,113,2,19960211,1805,-62.622,99.795,4095,1203.8,0.856,34.714,2,34.709,2,207,2,206.4,2,74.2,2,31.4,2,-999,9,2.19,2,-999,9,-999,9,-999,9,-999,9,-999,9
    09AR9604_1,   UNK,46,1,12,112,2,19960211,1805,-62.622,99.795,4095,1455.2,0.661,34.704,2,34.701,2,210.7,2,208.5,2,80,2,31.2,2,-999,9,2.23,2,0.152,2,0.071,2,-999,9,-999,9,-999,9
    09AR9604_1,   UNK,46,1,11,11,2,19960211,1805,-62.622,99.795,4095,1634.5,0.538,34.699,2,34.697,2,207,2,210.2,2,87.8,2,31.4,2,-999,9,2.23,2,-999,9,-999,9,-999,9,-999,9,-999,9
    09AR9604_1,   UNK,46,1,10,10,2,19960211,1805,-62.622,99.795,4095,1704.9,0.482,34.695,2,34.697,2,214.7,2,211.4,2,87.3,2,31.5,2,-999,9,2.23,2,-999,9,-999,9,-999,9,-999,9,-999,9
    09AR9604_1,   UNK,46,1,9,9,2,19960211,1805,-62.622,99.795,4095,1905.3,0.353,34.691,2,34.689,2,216,2,214.8,2,92.4,2,31.4,2,-999,9,2.24,2,0.242,2,0.117,2,-999,9,-999,9,-999,9
    09AR9604_1,   UNK,46,1,8,8,2,19960211,1805,-62.622,99.795,4095,2205.7,0.177,34.683,2,34.682,2,220.9,2,220.3,2,93.6,2,31.6,2,-999,9,2.24,2,-999,9,-999,9,-999,9,-999,9,-999,9
    09AR9604_1,   UNK,46,1,7,7,2,19960211,1805,-62.622,99.795,4095,2506.2,0.071,34.681,2,34.679,2,224.3,2,224.6,2,93.6,2,31.4,2,-999,9,2.24,2,-999,9,-999,9,-999,9,-999,9,-999,9
    09AR9604_1,   UNK,46,1,6,6,2,19960211,1805,-62.622,99.795,4095,2805.9,-0.018,34.676,2,34.675,2,227.4,2,228.4,2,96.4,2,31.3,2,-999,9,2.26,2,0.581,2,0.271,2,-999,9,-999,9,-999,9
    09AR9604_1,   UNK,46,1,5,5,2,19960211,1805,-62.622,99.795,4095,3106,-0.09,34.674,2,34.675,2,231.7,2,232.1,2,100.3,2,31.3,2,-999,9,2.26,2,-999,9,-999,9,-999,9,-999,9,-999,9
    09AR9604_1,   UNK,46,1,4,4,2,19960211,1805,-62.622,99.795,4095,3404.6,-0.13,34.672,2,34.675,2,234.5,2,234.9,2,94.9,2,31.3,2,-999,9,2.25,2,-999,9,-999,9,-999,9,-999,9,-999,9
    09AR9604_1,   UNK,46,1,3,3,2,19960211,1805,-62.622,99.795,4095,3707,-0.141,34.67,2,34.671,2,238.4,2,236.6,2,94.6,2,31.1,2,-999,9,2.25,2,1.237,2,0.559,2,-999,9,-999,9,-999,9
    09AR9604_1,   UNK,46,1,2,2,2,19960211,1805,-62.622,99.795,4095,4011.8,-0.154,34.669,2,34.671,2,240.1,2,237.6,2,95.3,2,31.1,2,-999,9,2.24,2,1.358,2,0.619,2,-999,9,-999,9,-999,9
    09AR9604_1,   UNK,46,1,1,1,2,19960211,1805,-62.622,99.795,4095,4129,-0.181,34.667,2,34.669,2,241.3,6,239.2,2,95.3,2,31.5,2,-999,9,2.24,2,1.614,2,0.724,2,-999,9,-999,9,-999,9
    09AR9604_1,   UNK,47,1,24,24,2,19960212,150,-62.5602,101.627,4761,11.7,1.01,33.9,2,33.905,2,341.9,2,342.3,2,24.2,2,21.8,2,-999,9,1.43,2,6.811,2,3.159,2,-999,9,-999,9,-999,9
    09AR9604_1,   UNK,47,1,23,23,2,19960212,150,-62.5602,101.627,4761,50.4,0.494,33.982,2,33.979,2,333.7,2,335.4,2,28.7,2,24.2,2,-999,9,1.67,2,6.533,2,3.046,2,-999,9,-999,9,-999,9
    09AR9604_1,   UNK,47,1,22,22,2,19960212,150,-62.5602,101.627,4761,101.6,-0.262,34.408,3,34.406,2,255.2,2,252.4,2,42.9,2,30.7,2,-999,9,2.28,2,3.419,2,1.598,2,-999,9,-999,9,-999,9
    09AR9604_1,   UNK,47,1,21,21,2,19960212,150,-62.5602,101.627,4761,151.3,0.824,34.571,2,34.57,2,218.8,2,210.9,2,45.7,2,31.7,2,-999,9,2.3,2,1.757,2,0.812,2,-999,9,-999,9,-999,9
    09AR9604_1,   UNK,47,1,20,20,2,19960212,150,-62.5602,101.627,4761,201.4,1.183,34.635,2,34.635,2,212.4,2,200.6,2,48.3,2,31.4,2,-999,9,2.23,2,1.189,2,0.54,2,-999,9,-999,9,-999,9
    09AR9604_1,   UNK,47,1,19,119,2,19960212,150,-62.5602,101.627,4761,303.4,1.396,34.684,2,34.682,2,205.8,2,196.4,2,49.9,2,31.2,2,-999,9,2.21,2,0.751,2,0.344,2,-999,9,-999,9,-999,9
    09AR9604_1,   UNK,47,1,18,118,2,19960212,150,-62.5602,101.627,4761,452.3,1.372,34.71,2,34.71,2,203.6,2,198.7,2,54.4,2,30.3,2,-999,9,2.16,2,0.521,2,0.24,2,-999,9,-999,9,-999,9
    09AR9604_1,   UNK,47,1,17,17,2,19960212,150,-62.5602,101.627,4761,602.5,1.236,34.718,2,34.719,2,202.5,2,201.3,2,55.3,2,30.6,2,-999,9,2.12,2,0.39,2,0.182,2,-999,9,-999,9,-999,9
    09AR9604_1,   UNK,47,1,16,216,2,19960212,150,-62.5602,101.627,4761,702.9,1.172,34.721,2,34.721,2,201.6,2,202.5,2,57.8,2,30.4,2,-999,9,2.14,2,0.335,2,0.156,2,-999,9,-999,9,-999,9
    09AR9604_1,   UNK,47,1,15,215,2,19960212,150,-62.5602,101.627,4761,802.4,1.094,34.72,2,34.721,2,200.9,2,202.8,2,61,2,30.8,2,-999,9,2.11,2,0.297,2,0.135,2,-999,9,-999,9,-999,9
    09AR9604_1,   UNK,47,1,14,114,2,19960212,150,-62.5602,101.627,4761,902.7,1.015,34.717,2,34.715,2,202.5,2,203.9,2,58.8,2,30.5,2,-999,9,2.14,2,0.27,2,0.124,2,-999,9,-999,9,-999,9
    09AR9604_1,   UNK,47,1,13,113,2,19960212,150,-62.5602,101.627,4761,1004.6,0.9,34.713,2,34.713,2,202.3,2,205.4,2,64.6,2,30.6,2,-999,9,2.15,2,0.263,6,0.12,6,-999,9,-999,9,-999,9
    09AR9604_1,   UNK,47,1,12,112,2,19960212,150,-62.5602,101.627,4761,1205.8,0.698,34.704,2,34.705,2,206.6,2,208.5,2,74.7,2,30.9,2,-999,9,2.14,2,0.244,2,0.111,2,-999,9,-999,9,-999,9
    09AR9604_1,   UNK,47,1,11,11,2,19960212,150,-62.5602,101.627,4761,1405.1,0.537,34.696,2,34.697,2,210.4,2,211.1,2,75,2,31.1,2,-999,9,2.13,2,0.248,2,0.115,2,-999,9,-999,9,-999,9
    09AR9604_1,   UNK,47,1,10,10,2,19960212,150,-62.5602,101.627,4761,1705.9,0.275,34.681,2,34.68,2,218.5,2,219.3,2,76.1,2,31,2,-999,9,2.17,2,0.525,2,0.251,2,-999,9,-999,9,-999,9
    09AR9604_1,   UNK,47,1,9,9,2,19960212,150,-62.5602,101.627,4761,2004.6,0.152,34.681,2,34.68,2,221.7,2,222.1,2,82.9,2,31.3,2,-999,9,2.22,2,0.488,2,0.233,2,-999,9,-999,9,-999,9
    09AR9604_1,   UNK,47,1,8,8,2,19960212,150,-62.5602,101.627,4761,2305.3,0.032,34.679,2,34.68,2,225.1,2,225.9,2,84.9,2,31.2,2,-999,9,2.22,2,0.569,2,0.264,2,-999,9,-999,9,-999,9
    09AR9604_1,   UNK,47,1,7,7,2,19960212,150,-62.5602,101.627,4761,2606.9,-0.063,34.675,2,34.676,2,228.3,2,229.8,2,91.5,2,31.6,2,-999,9,2.21,2,0.728,2,0.335,2,-999,9,-999,9,-999,9
    09AR9604_1,   UNK,47,1,6,6,2,19960212,150,-62.5602,101.627,4761,2907.9,-0.123,34.673,2,34.676,2,231.1,2,232.9,2,84.4,3,31.1,2,-999,9,2.21,2,0.917,2,0.417,2,-999,9,-999,9,-999,9
    09AR9604_1,   UNK,47,1,5,5,2,19960212,150,-62.5602,101.627,4761,3207.2,-0.171,34.669,2,34.672,2,234.2,2,235.9,2,91.4,2,31.3,2,-999,9,2.21,2,1.198,2,0.548,2,-999,9,-999,9,-999,9
    09AR9604_1,   UNK,47,1,4,4,2,19960212,150,-62.5602,101.627,4761,3509.9,-0.184,34.669,2,34.669,2,236.3,2,237.7,2,91.5,2,31.1,2,-999,9,2.18,2,1.413,2,0.636,2,-999,9,-999,9,-999,9
    09AR9604_1,   UNK,47,1,3,3,2,19960212,150,-62.5602,101.627,4761,3807.3,-0.191,34.665,2,34.668,2,239.2,2,239.1,2,83.6,3,31.3,2,-999,9,2.19,2,1.557,2,0.706,2,-999,9,-999,9,-999,9
    09AR9604_1,   UNK,47,1,2,2,2,19960212,150,-62.5602,101.627,4761,4118.3,-0.186,34.665,2,34.668,2,242.3,2,240,2,88,2,30.8,2,-999,9,2.2,2,1.686,2,0.762,2,-999,9,-999,9,-999,9
    09AR9604_1,   UNK,47,1,1,1,2,19960212,150,-62.5602,101.627,4761,4243.9,-0.173,34.666,2,34.665,2,242.8,2,240.3,2,86.7,2,30.7,2,-999,9,2.21,2,1.679,2,0.763,2,-999,9,-999,9,-999,9
    09AR9604_1,   UNK,48,1,15,215,2,19960213,857,-65.0032,104.665,356,6.5,-1.447,33.354,3,33.389,3,358.7,2,359.3,2,50.6,2,24.8,2,-999,9,1.62,2,-999,9,-999,9,-999,9,-999,9,-999,9
    09AR9604_1,   UNK,48,1,10,10,2,19960213,857,-65.0032,104.665,356,61.2,-1.615,33.87,4,33.777,2,364.5,2,364,2,56.7,2,25.5,2,-999,9,1.68,2,6.803,6,3.124,6,-999,9,-999,9,-999,9
    09AR9604_1,   UNK,48,1,8,8,2,19960213,857,-65.0032,104.665,356,91.4,-1.8,34.29,2,34.289,2,334.7,2,331,2,63.4,2,29.3,2,-999,9,2,2,-999,9,-999,9,-999,9,-999,9,-999,9
    09AR9604_1,   UNK,48,1,4,4,2,19960213,857,-65.0032,104.665,356,152.2,-1.821,34.368,2,34.369,2,324.6,2,325.2,2,65.1,2,30,2,-999,9,2.06,2,5.925,2,2.746,2,-999,9,-999,9,-999,9
    09AR9604_1,   UNK,48,1,2,2,2,19960213,857,-65.0032,104.665,356,251,-1.797,34.411,2,34.412,2,320.7,2,323.3,2,65.6,2,30.6,2,-999,9,2.1,2,5.896,2,2.703,2,-999,9,-999,9,-999,9
    09AR9604_1,   UNK,48,1,1,1,2,19960213,857,-65.0032,104.665,356,343.3,-1.748,34.458,2,34.465,2,320.3,2,321.1,2,66.7,2,30.2,2,-999,9,2.09,2,5.814,2,2.656,2,-999,9,-999,9,-999,9