BOTTLE,2021011SIOJHS,,,,,,,,,,,,,,,,,,,,,,,,,,,,,,,,,,,,,,
#BOTTLE,20061213WHPSIODBK,,,,,,,,,,,,,,,,,,,,,,,,,,,,,,,,,,,,,,
#code : jjward hyd_to_exchange.pl ,,,,,,,,,,,,,,,,,,,,,,,,,,,,,,,,,,,,,,,
#original files copied from HTML directory: 20061213,,,,,,,,,,,,,,,,,,,,,,,,,,,,,,,,,,,,,,,
#original HYD file: sr03_ehy.txt   Wed Nov 29 12:00:44 2006,,,,,,,,,,,,,,,,,,,,,,,,,,,,,,,,,,,,,,,
#original SUM file: sr03_esu_edt.txt   Wed Dec 13 12:40:51 2006,,,,,,,,,,,,,,,,,,,,,,,,,,,,,,,,,,,,,,,
EXPOCODE,SECT_ID,STNNBR,CASTNO,SAMPNO,BTLNBR,BTLNBR_FLAG_W,DATE,TIME,LATITUDE,LONGITUDE,DEPTH,CTDPRS,CTDTMP,CTDSAL,CTDSAL_FLAG_W,SALNTY,SALNTY_FLAG_W,CTDOXY,CTDOXY_FLAG_W,OXYGEN,OXYGEN_FLAG_W,SILCAT,SILCAT_FLAG_W,NITRAT,NITRAT_FLAG_W,NITRIT,NITRIT_FLAG_W,PHSPHT,PHSPHT_FLAG_W,CFC-11,CFC-11_FLAG_W,CFC-12,CFC-12_FLAG_W,SF6,SF6_FLAG_W,TCARBN,TCARBN_FLAG_W,ALKALI,ALKALI_FLAG_W
,,,,,,,,,,,,DBAR,DEG C,PSS-78,,PSS-78,,UMOL/KG,,UMOL/KG,,UMOL/KG,,UMOL/KG,,UMOL/KG,,UMOL/KG,,PMOL/KG,,PMOL/KG,,NMOL/KG,,UMOL/KG,,UMOL/KG,
    09AR9604_1,   UNK,6,1,13,113,2,19960130,400,-66.2368,79.9952,396,12.4,-1.772,33.431,2,33.431,2,347.6,2,347.5,2,49.4,2,25.9,2,-999,9,1.64,2,-999,9,-999,9,-999,9,-999,9,-999,9
    09AR9604_1,   UNK,6,1,11,11,2,19960130,400,-66.2368,79.9952,396,47.9,-1.76,33.965,2,33.995,2,343.9,2,344.1,2,54.8,2,26.7,2,-999,9,1.81,2,6.066,3,2.912,3,-999,9,-999,9,-999,9
    09AR9604_1,   UNK,6,1,7,7,2,19960130,400,-66.2368,79.9952,396,108.3,-1.822,34.362,2,34.356,2,325.4,2,326.6,2,58.9,2,28.9,2,-999,9,1.99,2,5.956,3,2.828,3,-999,9,-999,9,-999,9
    09AR9604_1,   UNK,6,1,4,4,2,19960130,400,-66.2368,79.9952,396,152.7,-1.834,34.388,2,34.386,2,325.7,2,326.5,2,58.7,2,29.1,2,-999,9,2.01,2,-999,9,-999,9,-999,9,-999,9,-999,9
    09AR9604_1,   UNK,6,1,3,3,2,19960130,400,-66.2368,79.9952,396,203.3,-1.824,34.397,2,34.399,2,323.2,2,322.6,2,59.7,2,29.7,2,-999,9,2.01,2,-999,9,-999,9,-999,9,-999,9,-999,9
    09AR9604_1,   UNK,6,1,2,2,2,19960130,400,-66.2368,79.9952,396,303.5,-1.711,34.44,2,34.438,2,316.9,2,314.8,2,63.3,2,29.8,2,-999,9,2.04,2,5.494,3,2.62,3,-999,9,-999,9,-999,9
    09AR9604_1,   UNK,6,1,1,1,2,19960130,400,-66.2368,79.9952,396,382.7,-1.697,34.443,2,34.443,2,312.4,2,313.7,2,64,2,29.8,2,-999,9,2.06,2,5.412,3,2.585,3,-999,9,-999,9,-999,9
    09AR9604_1,   UNK,7,1,18,118,2,19960130,653,-66.1148,79.9802,638,8,-1.6,33.378,3,33.38,2,350.6,2,348.8,2,48.9,2,25.7,2,-999,9,1.59,2,-999,9,-999,9,-999,9,-999,9,-999,9
    09AR9604_1,   UNK,7,1,14,114,2,19960130,653,-66.1148,79.9802,638,63.1,-1.799,34.32,2,34.32,2,325.6,2,329.4,2,58.5,2,28.4,2,-999,9,1.95,2,-999,9,-999,9,-999,9,-999,9,-999,9
    09AR9604_1,   UNK,7,1,11,11,2,19960130,653,-66.1148,79.9802,638,108.8,-1.84,34.372,2,34.371,2,324.9,2,324,2,60.4,2,29.3,2,-999,9,2.01,2,-999,9,-999,9,-999,9,-999,9,-999,9
    09AR9604_1,   UNK,7,1,8,8,2,19960130,653,-66.1148,79.9802,638,153.6,-1.835,34.386,2,34.385,2,323.2,2,320.4,2,61.6,2,29.6,2,-999,9,2.01,2,-999,9,-999,9,-999,9,-999,9,-999,9
    09AR9604_1,   UNK,7,1,7,7,2,19960130,653,-66.1148,79.9802,638,204.1,-1.821,34.394,2,34.396,2,320.8,2,320.3,2,61.6,2,29.7,2,-999,9,2.03,2,-999,9,-999,9,-999,9,-999,9,-999,9
    09AR9604_1,   UNK,7,1,6,6,2,19960130,653,-66.1148,79.9802,638,304.1,-1.77,34.426,2,34.428,2,316.8,2,318,2,62.6,2,29.8,2,-999,9,2.03,2,-999,9,-999,9,-999,9,-999,9,-999,9
    09AR9604_1,   UNK,7,1,5,5,2,19960130,653,-66.1148,79.9802,638,404.2,-1.556,34.471,2,34.473,2,309.6,2,307.4,2,66.7,2,30.2,2,-999,9,2.06,2,-999,9,-999,9,-999,9,-999,9,-999,9
    09AR9604_1,   UNK,7,1,4,4,2,19960130,653,-66.1148,79.9802,638,454.4,-1.312,34.503,2,34.505,2,284.2,2,296.5,2,69.4,2,30.8,2,-999,9,2.09,2,-999,9,-999,9,-999,9,-999,9,-999,9
    09AR9604_1,   UNK,7,1,3,3,2,19960130,653,-66.1148,79.9802,638,535.5,-0.593,34.571,3,34.574,2,265.2,2,265.2,2,81.2,2,31.3,2,-999,9,2.14,2,3.301,3,1.539,3,-999,9,-999,9,-999,9
    09AR9604_1,   UNK,7,1,2,2,2,19960130,653,-66.1148,79.9802,638,585.1,-0.697,34.564,2,34.564,2,266.3,2,269.6,2,77.8,2,31.4,2,-999,9,2.14,2,3.481,3,1.632,3,-999,9,-999,9,-999,9
    09AR9604_1,   UNK,7,1,1,1,2,19960130,653,-66.1148,79.9802,638,624.6,-0.692,34.573,3,34.566,2,269.7,2,268.8,2,79.7,2,31.2,2,-999,9,2.12,2,3.494,3,1.625,3,-999,9,-999,9,-999,9
    09AR9604_1,   UNK,8,1,16,216,2,19960130,1058,-66.033,80.0048,870,18.5,-0.767,33.442,3,33.445,2,353.3,2,353.2,2,45.1,2,25.5,2,-999,9,1.69,2,-999,9,-999,9,-999,9,-999,9,-999,9
    09AR9604_1,   UNK,8,1,13,113,2,19960130,1058,-66.033,80.0048,870,52.3,-1.719,34.285,2,34.282,2,316.8,2,322.4,2,60.9,2,28.8,2,-999,9,2.01,2,-999,9,-999,9,-999,9,-999,9,-999,9
    09AR9604_1,   UNK,8,1,10,10,2,19960130,1058,-66.033,80.0048,870,103.5,-1.827,34.378,2,34.379,2,323.2,2,316.3,2,63.6,2,30.2,2,-999,9,2.07,2,-999,9,-999,9,-999,9,-999,9,-999,9
    09AR9604_1,   UNK,8,1,8,8,2,19960130,1058,-66.033,80.0048,870,204,-1.803,34.397,2,34.397,2,316.8,2,316.5,2,63.6,2,30.5,2,-999,9,2.04,2,-999,9,-999,9,-999,9,-999,9,-999,9
    09AR9604_1,   UNK,8,1,7,7,2,19960130,1058,-66.033,80.0048,870,306.6,-1.597,34.424,2,34.422,2,306.4,2,308.5,2,65.2,2,30.7,2,-999,9,2.04,2,-999,9,-999,9,-999,9,-999,9,-999,9
    09AR9604_1,   UNK,8,1,6,6,2,19960130,1058,-66.033,80.0048,870,402.8,-0.731,34.509,2,34.5,2,273.6,2,275.6,2,71.6,2,31.2,2,-999,9,2.1,2,-999,9,-999,9,-999,9,-999,9,-999,9
    09AR9604_1,   UNK,8,1,5,5,2,19960130,1058,-66.033,80.0048,870,493,-0.189,34.573,2,34.577,2,253,2,251.4,2,80.5,2,31.3,2,-999,9,2.14,2,-999,9,-999,9,-999,9,-999,9,-999,9
    09AR9604_1,   UNK,8,1,4,4,2,19960130,1058,-66.033,80.0048,870,585,-0.75,34.553,2,34.562,2,270.3,2,271.1,2,80.3,2,31,2,-999,9,2.12,2,-999,9,-999,9,-999,9,-999,9,-999,9
    09AR9604_1,   UNK,8,1,3,3,2,19960130,1058,-66.033,80.0048,870,734.8,-0.165,34.612,2,34.619,2,240.7,2,244.7,2,91.3,2,31.7,2,-999,9,2.15,2,-999,9,-999,9,-999,9,-999,9,-999,9
    09AR9604_1,   UNK,8,1,2,2,2,19960130,1058,-66.033,80.0048,870,835.8,0.169,34.666,2,34.66,2,227,2,225.3,2,104.1,2,32.5,2,-999,9,2.2,2,-999,9,-999,9,-999,9,-999,9,-999,9
    09AR9604_1,   UNK,8,1,1,1,2,19960130,1058,-66.033,80.0048,870,873.8,0.151,34.667,2,34.664,2,225.7,2,226.2,2,105.4,2,32.1,2,-999,9,2.2,2,-999,9,-999,9,-999,9,-999,9,-999,9
    09AR9604_1,   UNK,9,1,18,118,2,19960130,1407,-66.01,79.997,1249,13.9,-0.738,33.47,3,33.469,2,353.9,2,353.2,2,42.8,2,25,2,-999,9,1.57,2,6.899,2,3.427,2,-999,9,-999,9,-999,9
    09AR9604_1,   UNK,9,1,16,216,2,19960130,1407,-66.01,79.997,1249,28.4,-0.689,33.495,2,33.503,2,345.4,2,350.8,2,45.6,2,26.3,2,-999,9,1.62,2,-999,9,-999,9,-999,9,-999,9,-999,9
    09AR9604_1,   UNK,9,1,14,114,2,19960130,1407,-66.01,79.997,1249,79.3,-1.721,34.354,2,34.347,2,323.4,2,315.3,2,62.4,2,29.7,2,-999,9,2.01,2,-999,9,-999,9,-999,9,-999,9,-999,9
    09AR9604_1,   UNK,9,1,11,11,2,19960130,1407,-66.01,79.997,1249,155.1,-1.829,34.384,2,34.387,2,318.5,2,315.9,2,63.8,2,30.8,2,-999,9,2.03,2,5.476,2,2.698,2,-999,9,-999,9,-999,9
    09AR9604_1,   UNK,9,1,10,10,2,19960130,1407,-66.01,79.997,1249,203.5,-1.821,34.392,2,34.395,2,310.5,2,316.6,2,62,2,30.8,2,-999,9,2.04,2,5.529,2,2.72,2,-999,9,-999,9,-999,9
    09AR9604_1,   UNK,9,1,9,9,2,19960130,1407,-66.01,79.997,1249,407.4,-0.507,34.537,2,34.533,2,265.9,2,265.5,2,73.8,2,31.2,2,-999,9,2.1,2,3.422,2,1.622,2,-999,9,-999,9,-999,9
    09AR9604_1,   UNK,9,1,8,8,2,19960130,1407,-66.01,79.997,1249,503.1,-0.032,34.601,2,34.599,2,240.7,2,244.3,2,83.3,2,31.6,2,-999,9,2.14,2,-999,9,-999,9,-999,9,-999,9,-999,9
    09AR9604_1,   UNK,9,1,7,7,2,19960130,1407,-66.01,79.997,1249,603.2,0.244,34.639,2,34.636,2,233.8,2,232.5,2,87.7,2,31.8,2,-999,9,2.14,2,1.902,2,0.895,2,-999,9,-999,9,-999,9
    09AR9604_1,   UNK,9,1,6,6,2,19960130,1407,-66.01,79.997,1249,704.9,0.27,34.651,2,34.649,2,226.1,2,228.3,2,91.8,2,32.2,2,-999,9,2.17,2,1.451,2,0.682,2,-999,9,-999,9,-999,9
    09AR9604_1,   UNK,9,1,5,5,2,19960130,1407,-66.01,79.997,1249,833.1,0.273,34.661,2,34.66,2,239.3,2,225.2,2,94.7,2,32.2,2,-999,9,2.17,2,1.211,2,0.567,2,-999,9,-999,9,-999,9
    09AR9604_1,   UNK,9,1,4,4,2,19960130,1407,-66.01,79.997,1249,961.7,0.183,34.663,2,34.665,2,226.5,2,225.5,2,99.6,2,32.2,2,-999,9,2.19,2,1.029,2,0.488,2,-999,9,-999,9,-999,9
    09AR9604_1,   UNK,9,1,3,3,2,19960130,1407,-66.01,79.997,1249,1054.2,0.163,34.666,2,34.669,2,224.7,2,225.2,2,103.4,2,32.6,2,-999,9,2.2,2,0.925,2,0.437,2,-999,9,-999,9,-999,9
    09AR9604_1,   UNK,9,1,2,2,2,19960130,1407,-66.01,79.997,1249,1152.3,0.15,34.668,2,34.67,2,224.8,2,224.6,2,103.7,2,32.3,2,-999,9,2.19,2,-999,9,-999,9,-999,9,-999,9,-999,9
    09AR9604_1,   UNK,9,1,1,1,2,19960130,1407,-66.01,79.997,1249,1206.3,0.056,34.67,2,34.671,2,227.5,2,225.8,2,108.1,2,32.2,2,-999,9,2.2,2,0.781,2,0.368,2,-999,9,-999,9,-999,9
    09AR9604_1,   UNK,10,1,24,24,2,19960130,1731,-65.9448,79.9955,1668,11.3,-0.418,33.537,2,33.53,2,348.6,2,349.2,2,40.9,2,25.8,2,-999,9,1.7,2,-999,9,-999,9,-999,9,-999,9,-999,9
    09AR9604_1,   UNK,10,1,20,20,2,19960130,1731,-65.9448,79.9955,1668,62.1,-1.78,34.311,2,34.313,2,325.3,2,324.2,2,59.4,2,28.7,2,-999,9,2.02,2,-999,9,-999,9,-999,9,-999,9,-999,9
    09AR9604_1,   UNK,10,1,17,17,2,19960130,1731,-65.9448,79.9955,1668,107.8,-1.831,34.379,2,34.373,2,322.7,2,319.2,2,58.8,2,29.7,2,-999,9,2.05,2,-999,9,-999,9,-999,9,-999,9,-999,9
    09AR9604_1,   UNK,10,1,14,114,2,19960130,1731,-65.9448,79.9955,1668,152.6,-1.845,34.386,2,34.39,2,321.7,2,320.8,2,58.8,2,29.1,2,-999,9,2.05,2,-999,9,-999,9,-999,9,-999,9,-999,9
    09AR9604_1,   UNK,10,1,13,113,2,19960130,1731,-65.9448,79.9955,1668,201.7,-1.842,34.393,2,34.396,2,318.8,2,320.5,2,59.5,2,29.2,2,-999,9,2.02,2,-999,9,-999,9,-999,9,-999,9,-999,9
    09AR9604_1,   UNK,10,1,12,112,2,19960130,1731,-65.9448,79.9955,1668,305.6,-1.72,34.416,2,34.416,2,310.8,2,313,2,61.5,2,29.9,2,-999,9,2.07,2,-999,9,-999,9,-999,9,-999,9,-999,9
    09AR9604_1,   UNK,10,1,11,11,2,19960130,1731,-65.9448,79.9955,1668,403.2,-0.896,34.497,3,34.496,2,282.9,2,279.8,2,67.5,2,30.3,2,-999,9,2.13,2,-999,9,-999,9,-999,9,-999,9,-999,9
    09AR9604_1,   UNK,10,1,10,10,2,19960130,1731,-65.9448,79.9955,1668,502.3,-0.278,34.573,2,34.575,2,252.9,2,254.3,2,76,2,31,2,-999,9,2.18,2,-999,9,-999,9,-999,9,-999,9,-999,9
    09AR9604_1,   UNK,10,1,9,9,2,19960130,1731,-65.9448,79.9955,1668,603.6,0.526,34.664,2,34.663,2,221.3,2,221.6,2,86.1,2,31.3,2,-999,9,2.19,2,-999,9,-999,9,-999,9,-999,9,-999,9
    09AR9604_1,   UNK,10,1,8,8,2,19960130,1731,-65.9448,79.9955,1668,704.3,0.64,34.686,2,34.684,2,213,2,214.8,2,91.9,2,31.1,2,-999,9,2.21,2,-999,9,-999,9,-999,9,-999,9,-999,9
    09AR9604_1,   UNK,10,1,7,7,2,19960130,1731,-65.9448,79.9955,1668,804.1,0.621,34.69,2,34.688,2,214.4,2,213.5,2,95,2,31.2,2,-999,9,2.21,2,-999,9,-999,9,-999,9,-999,9,-999,9
    09AR9604_1,   UNK,10,1,6,6,2,19960130,1731,-65.9448,79.9955,1668,904.1,0.543,34.687,2,34.686,2,215.2,2,214.7,2,94.2,2,31.4,2,-999,9,2.22,2,-999,9,-999,9,-999,9,-999,9,-999,9
    09AR9604_1,   UNK,10,1,5,5,2,19960130,1731,-65.9448,79.9955,1668,1004.3,0.455,34.685,2,34.686,2,214.4,2,215.7,2,98.7,2,31.4,2,-999,9,2.22,2,-999,9,-999,9,-999,9,-999,9,-999,9
    09AR9604_1,   UNK,10,1,4,4,2,19960130,1731,-65.9448,79.9955,1668,1104,0.372,34.681,2,34.682,2,217.5,2,217.2,2,97.4,2,31.6,2,-999,9,2.23,2,-999,9,-999,9,-999,9,-999,9,-999,9
    09AR9604_1,   UNK,10,1,3,3,2,19960130,1731,-65.9448,79.9955,1668,1306,0.211,34.674,2,34.676,2,220.9,2,221.5,2,98.6,2,31.6,2,-999,9,2.24,2,-999,9,-999,9,-999,9,-999,9,-999,9
    09AR9604_1,   UNK,10,1,2,2,2,19960130,1731,-65.9448,79.9955,1668,1504.4,0.106,34.671,2,34.674,2,224.3,2,224.6,2,102.8,2,31.8,2,-999,9,2.25,2,0.724,2,0.354,2,-999,9,-999,9,-999,9
    09AR9604_1,   UNK,10,1,1,1,2,19960130,1731,-65.9448,79.9955,1668,1655.3,0.063,34.67,2,34.672,2,226.3,2,226.1,2,102.6,2,32.2,2,-999,9,2.24,2,0.783,6,0.37,6,-999,9,-999,9,-999,9
    09AR9604_1,   UNK,11,1,24,24,2,19960130,2115,-65.921,80.0057,2089,12.7,-0.175,33.628,2,33.628,2,346.4,2,346.6,2,39.4,2,26,2,-999,9,1.73,2,-999,9,-999,9,-999,9,-999,9,-999,9
    09AR9604_1,   UNK,11,1,21,21,2,19960130,2115,-65.921,80.0057,2089,64.5,-1.735,34.291,4,34.279,2,322.6,2,321.6,2,60.1,2,29.2,2,-999,9,2.04,2,-999,9,-999,9,-999,9,-999,9,-999,9
    09AR9604_1,   UNK,11,1,18,118,2,19960130,2115,-65.921,80.0057,2089,109,-1.79,34.38,2,34.378,2,312.5,2,314.6,2,62.7,2,29.9,2,-999,9,2.08,2,-999,9,-999,9,-999,9,-999,9,-999,9
    09AR9604_1,   UNK,11,1,15,215,2,19960130,2115,-65.921,80.0057,2089,154.8,-1.832,34.388,2,34.39,2,324.5,2,320.5,2,59.6,2,29.4,2,-999,9,2.05,2,-999,9,-999,9,-999,9,-999,9,-999,9
    09AR9604_1,   UNK,11,1,14,114,2,19960130,2115,-65.921,80.0057,2089,204.3,-1.835,34.395,2,34.396,2,318.7,2,319.8,2,60.8,2,29.4,2,-999,9,2.01,2,-999,9,-999,9,-999,9,-999,9,-999,9
    09AR9604_1,   UNK,11,1,13,113,2,19960130,2115,-65.921,80.0057,2089,304.5,-1.542,34.427,4,34.424,2,302.7,2,304.7,2,64.5,2,30.6,2,-999,9,2.08,2,-999,9,-999,9,-999,9,-999,9,-999,9
    09AR9604_1,   UNK,11,1,12,112,2,19960130,2115,-65.921,80.0057,2089,404.7,-0.923,34.496,2,34.495,2,282.8,2,281.1,2,70.2,2,30.9,2,-999,9,2.13,2,-999,9,-999,9,-999,9,-999,9,-999,9
    09AR9604_1,   UNK,11,1,11,11,2,19960130,2115,-65.921,80.0057,2089,504.8,-0.263,34.583,2,34.665,4,247.3,2,224.5,2,94,2,31.8,2,-999,9,2.22,2,-999,9,-999,9,-999,9,-999,9,-999,9
    09AR9604_1,   UNK,11,1,10,10,2,19960130,2115,-65.921,80.0057,2089,605.2,0.461,34.662,3,34.66,2,225.4,2,223.9,2,91,2,31.5,2,-999,9,2.18,2,-999,9,-999,9,-999,9,-999,9,-999,9
    09AR9604_1,   UNK,11,1,9,9,2,19960130,2115,-65.921,80.0057,2089,705.2,0.564,34.675,3,34.677,2,216.3,2,218.6,2,96.3,2,31.2,2,-999,9,2.2,2,-999,9,-999,9,-999,9,-999,9,-999,9
    09AR9604_1,   UNK,11,1,8,8,2,19960130,2115,-65.921,80.0057,2089,805.7,0.632,34.692,2,34.689,2,213.1,2,214,2,97.6,2,31.5,2,-999,9,2.2,2,-999,9,-999,9,-999,9,-999,9,-999,9
    09AR9604_1,   UNK,11,1,7,7,2,19960130,2115,-65.921,80.0057,2089,905.5,0.544,34.689,2,34.69,2,214.5,2,214.3,2,103.6,2,32.2,2,-999,9,2.22,2,-999,9,-999,9,-999,9,-999,9,-999,9
    09AR9604_1,   UNK,11,1,6,6,2,19960130,2115,-65.921,80.0057,2089,1106.8,0.394,34.684,2,34.682,2,218.7,2,217,2,109.5,2,31.7,2,-999,9,2.23,2,-999,9,-999,9,-999,9,-999,9,-999,9
    09AR9604_1,   UNK,11,1,5,5,2,19960130,2115,-65.921,80.0057,2089,1304.6,0.253,34.679,2,34.68,2,220.7,2,220.2,2,111.1,2,32,2,-999,9,2.24,2,-999,9,-999,9,-999,9,-999,9,-999,9
    09AR9604_1,   UNK,11,1,4,4,2,19960130,2115,-65.921,80.0057,2089,1506.9,0.128,34.675,2,34.674,2,224.8,2,224.3,2,110.1,2,31.5,2,-999,9,2.18,2,0.745,2,0.342,2,-999,9,-999,9,-999,9
    09AR9604_1,   UNK,11,1,3,3,2,19960130,2115,-65.921,80.0057,2089,1706.7,0.058,34.674,2,34.675,2,226.3,2,226.1,2,113.2,2,32,2,-999,9,2.23,2,0.801,2,0.366,2,-999,9,-999,9,-999,9
    09AR9604_1,   UNK,11,1,2,2,2,19960130,2115,-65.921,80.0057,2089,1906.3,0.024,34.673,2,34.675,2,227.6,2,227.2,2,111.9,2,32,2,-999,9,2.24,2,0.798,2,0.374,2,-999,9,-999,9,-999,9
    09AR9604_1,   UNK,11,1,1,1,2,19960130,2115,-65.921,80.0057,2089,2047,-0.007,34.672,2,34.675,2,228.7,2,228.5,2,114,2,32.2,2,-999,9,2.24,2,0.788,2,0.374,2,-999,9,-999,9,-999,9
    09AR9604_1,   UNK,12,1,24,24,2,19960131,108,-65.7998,79.994,2457,11.9,-0.112,33.645,2,33.648,2,349.7,2,344.9,2,38.2,2,27,2,-999,9,1.78,2,5.983,2,3.104,2,-999,9,-999,9,-999,9
    09AR9604_1,   UNK,12,1,23,23,2,19960131,108,-65.7998,79.994,2457,32,-0.116,33.646,2,33.649,2,340.5,2,344.1,2,38.8,2,26.9,2,-999,9,1.79,2,-999,9,-999,9,-999,9,-999,9,-999,9
    09AR9604_1,   UNK,12,1,22,22,2,19960131,108,-65.7998,79.994,2457,45.5,-0.254,33.67,4,33.669,2,337.7,2,343.3,2,39.7,2,27.1,2,-999,9,1.8,2,5.916,2,3.075,2,-999,9,-999,9,-999,9
    09AR9604_1,   UNK,12,1,21,21,2,19960131,108,-65.7998,79.994,2457,63.1,-1.709,34.219,2,34.19,2,329.8,2,327,2,56.2,2,28.6,2,-999,9,1.99,2,-999,9,-999,9,-999,9,-999,9,-999,9
    09AR9604_1,   UNK,12,1,20,20,2,19960131,108,-65.7998,79.994,2457,81.4,-1.753,34.282,2,34.282,2,316.5,2,316.8,2,60.2,2,29.6,2,-999,9,2.06,2,5.03,2,2.57,2,-999,9,-999,9,-999,9
    09AR9604_1,   UNK,12,1,19,119,2,19960131,108,-65.7998,79.994,2457,101.5,-1.764,34.349,2,34.35,2,312,2,316.6,2,60.9,2,29.9,2,-999,9,2.05,2,-999,9,-999,9,-999,9,-999,9,-999,9
    09AR9604_1,   UNK,12,1,18,118,2,19960131,108,-65.7998,79.994,2457,121.9,-1.771,34.372,2,34.373,2,321.5,2,313.4,2,61.5,2,30.6,2,-999,9,2.06,2,5.082,2,2.558,2,-999,9,-999,9,-999,9
    09AR9604_1,   UNK,12,1,17,17,2,19960131,108,-65.7998,79.994,2457,151.9,-1.814,34.383,2,34.384,2,316.7,2,315.7,2,61.5,2,30.2,2,-999,9,2.06,2,-999,9,-999,9,-999,9,-999,9,-999,9
    09AR9604_1,   UNK,12,1,16,216,2,19960131,108,-65.7998,79.994,2457,202.1,-1.816,34.397,2,34.398,2,319,2,318.6,2,61.2,2,29.9,2,-999,9,2.03,2,5.205,2,2.644,2,-999,9,-999,9,-999,9
    09AR9604_1,   UNK,12,1,15,215,2,19960131,108,-65.7998,79.994,2457,302.8,-1.702,34.42,2,34.423,2,315.1,2,313.4,2,61.1,2,30.1,2,-999,9,2.05,2,5.111,2,2.604,2,-999,9,-999,9,-999,9
    09AR9604_1,   UNK,12,1,14,114,2,19960131,108,-65.7998,79.994,2457,402.5,-0.898,34.504,2,34.502,2,280.7,2,280.1,2,71.2,2,31.2,2,-999,9,2.09,2,3.888,2,1.905,2,-999,9,-999,9,-999,9
    09AR9604_1,   UNK,12,1,13,113,2,19960131,108,-65.7998,79.994,2457,502.1,-0.146,34.586,4,34.575,2,248.1,2,250.2,2,78.7,2,31.5,2,-999,9,2.13,2,2.612,2,1.254,2,-999,9,-999,9,-999,9
    09AR9604_1,   UNK,12,1,12,112,2,19960131,108,-65.7998,79.994,2457,608.7,0.479,34.659,2,34.653,2,229,2,224.8,2,90.1,2,31.7,2,-999,9,2.17,2,-999,9,-999,9,-999,9,-999,9,-999,9
    09AR9604_1,   UNK,12,1,11,11,2,19960131,108,-65.7998,79.994,2457,702.3,0.49,34.673,2,34.672,2,224.6,2,221.4,2,94.4,2,31.5,2,-999,9,2.16,2,1.157,2,0.534,2,-999,9,-999,9,-999,9
    09AR9604_1,   UNK,12,1,10,10,2,19960131,108,-65.7998,79.994,2457,805.6,0.453,34.672,2,34.674,2,220.9,2,221.5,2,98,2,32.1,2,-999,9,2.19,2,-999,9,-999,9,-999,9,-999,9,-999,9
    09AR9604_1,   UNK,12,1,9,9,2,19960131,108,-65.7998,79.994,2457,903.9,0.356,34.671,2,34.672,2,222.2,2,223.5,2,98.7,2,31.2,3,-999,9,2.2,2,1.111,2,0.515,2,-999,9,-999,9,-999,9
    09AR9604_1,   UNK,12,1,8,8,2,19960131,108,-65.7998,79.994,2457,1104.2,0.254,34.669,2,34.67,2,223,2,224.7,2,103.7,2,31.5,3,-999,9,2.21,2,1.063,2,0.489,2,-999,9,-999,9,-999,9
    09AR9604_1,   UNK,12,1,7,7,2,19960131,108,-65.7998,79.994,2457,1304.6,0.233,34.678,2,34.678,2,222.9,2,220.9,2,109.7,2,32,2,-999,9,2.22,2,-999,9,-999,9,-999,9,-999,9,-999,9
    09AR9604_1,   UNK,12,1,6,6,2,19960131,108,-65.7998,79.994,2457,1505.7,0.081,34.671,2,34.672,2,225.9,2,226.6,2,113.9,2,32,2,-999,9,2.19,2,0.872,2,0.403,2,-999,9,-999,9,-999,9
    09AR9604_1,   UNK,12,1,5,5,2,19960131,108,-65.7998,79.994,2457,1705.2,0.082,34.679,2,34.678,2,221.6,2,222.7,2,119.4,2,32.8,2,-999,9,2.25,2,-999,9,-999,9,-999,9,-999,9,-999,9
    09AR9604_1,   UNK,12,1,4,4,2,19960131,108,-65.7998,79.994,2457,1905.8,-0.018,34.673,2,34.673,2,229.3,2,228.2,2,117.5,2,32.1,2,-999,9,2.23,2,-999,9,-999,9,-999,9,-999,9,-999,9
    09AR9604_1,   UNK,12,1,3,3,2,19960131,108,-65.7998,79.994,2457,2106.5,-0.058,34.675,2,34.675,2,230.8,2,228.9,2,119.6,2,32.5,2,-999,9,2.23,2,0.669,2,0.323,2,-999,9,-999,9,-999,9
    09AR9604_1,   UNK,12,1,2,2,2,19960131,108,-65.7998,79.994,2457,2355.9,-0.084,34.674,2,34.675,2,232.2,2,231.2,2,117.6,2,32,2,-999,9,2.23,2,0.86,2,0.396,2,-999,9,-999,9,-999,9
    09AR9604_1,   UNK,12,1,1,1,2,19960131,108,-65.7998,79.994,2457,2522.3,-0.075,34.674,2,34.672,2,231.5,2,231.2,2,118.2,2,32.5,2,-999,9,2.23,2,0.846,2,0.394,2,-999,9,-999,9,-999,9