BOTTLE,2021011SIOJHS,,,,,,,,,,,,,,,,,,,,,,,,,,,,,,,,,,,,,,
EXPOCODE,SECT_ID,STNNBR,CASTNO,SAMPNO,BTLNBR,BTLNBR_FLAG_W,DATE,TIME,LATITUDE,LONGITUDE,DEPTH,CTDPRS,CTDTMP,CTDSAL,CTDSAL_FLAG_W,SALNTY,SALNTY_FLAG_W,CTDOXY,CTDOXY_FLAG_W,OXYGEN,OXYGEN_FLAG_W,SILCAT,SILCAT_FLAG_W,NITRAT,NITRAT_FLAG_W,NITRIT,NITRIT_FLAG_W,PHSPHT,PHSPHT_FLAG_W,CFC-11,CFC-11_FLAG_W,CFC-12,CFC-12_FLAG_W,SF6,SF6_FLAG_W,TCARBN,TCARBN_FLAG_W,ALKALI,ALKALI_FLAG_W
,,,,,,,,,,,,DBAR,DEG C,PSS-78,,PSS-78,,UMOL/KG,,UMOL/KG,,UMOL/KG,,UMOL/KG,,UMOL/KG,,UMOL/KG,,PMOL/KG,,PMOL/KG,,NMOL/KG,,UMOL/KG,,UMOL/KG,
    09AR9604_1,   UNK,67,1,24,24,2,19960223,1659,-65.4172,112.2637,328,7.1,-1.693,33.337,2,33.335,2,350.9,2,350.6,2,50.9,2,25.4,2,-999,9,1.5,2,6.382,2,3.046,2,-999,9,-999,9,-999,9
    09AR9604_1,   UNK,67,1,17,117,2,19960223,1659,-65.4172,112.2637,328,61.6,-1.68,33.532,2,33.551,4,324.8,2,344.9,2,56.6,2,25.4,2,-999,9,1.62,2,6.245,2,2.928,2,-999,9,-999,9,-999,9
    09AR9604_1,   UNK,67,1,11,11,2,19960223,1659,-65.4172,112.2637,328,104.9,-1.757,34.273,2,34.27,2,309,2,313.4,2,68,2,29.9,2,-999,9,2.09,2,5.174,6,2.412,6,-999,9,-999,9,-999,9
    09AR9604_1,   UNK,67,1,5,5,2,19960223,1659,-65.4172,112.2637,328,152.1,-1.779,34.288,2,34.289,2,314.5,2,314.4,2,67.7,2,30.3,2,-999,9,2.09,2,5.268,2,2.457,2,-999,9,-999,9,-999,9
    09AR9604_1,   UNK,67,1,2,2,2,19960223,1659,-65.4172,112.2637,328,201.8,-1.782,34.299,2,34.298,2,315.3,2,314,2,69.1,2,30.2,2,-999,9,2.09,2,5.299,2,2.455,2,-999,9,-999,9,-999,9
    09AR9604_1,   UNK,67,1,1,1,2,19960223,1659,-65.4172,112.2637,328,313.5,-1.788,34.325,2,34.329,2,311.3,2,314.8,2,67.8,2,30.3,2,-999,9,2.09,2,5.361,2,2.501,2,-999,9,-999,9,-999,9
    09AR9604_1,   UNK,68,1,16,216,2,19960223,1940,-65.3957,112.2045,584,16.1,-1.705,33.325,2,33.326,2,356.4,2,352.6,2,51.9,2,25.4,2,-999,9,1.48,2,-999,9,-999,9,-999,9,-999,9,-999,9
    09AR9604_1,   UNK,68,1,14,114,2,19960223,1940,-65.3957,112.2045,584,46.2,-1.694,33.397,2,33.406,2,347.6,2,350.9,2,53.7,2,25.4,2,-999,9,1.51,2,-999,9,-999,9,-999,9,-999,9,-999,9
    09AR9604_1,   UNK,68,1,11,11,2,19960223,1940,-65.3957,112.2045,584,91.7,-1.749,34.234,2,34.224,2,311.7,2,-999,9,69.4,2,29.9,2,-999,9,2.05,2,5.25,2,2.443,2,-999,9,-999,9,-999,9
    09AR9604_1,   UNK,68,1,8,8,2,19960223,1940,-65.3957,112.2045,584,136.7,-1.772,34.291,2,34.29,2,313,2,313.1,2,69.4,2,30.1,2,-999,9,2.06,2,5.138,2,2.436,2,-999,9,-999,9,-999,9
    09AR9604_1,   UNK,68,1,5,5,2,19960223,1940,-65.3957,112.2045,584,201.8,-1.781,34.306,2,34.304,2,312.8,2,314.4,2,68,2,30.2,2,-999,9,2.08,2,5.311,2,2.485,2,-999,9,-999,9,-999,9
    09AR9604_1,   UNK,68,1,4,4,2,19960223,1940,-65.3957,112.2045,584,301.8,-1.802,34.332,2,34.331,2,315.7,2,314.1,2,68.4,2,30.6,2,-999,9,2.08,2,5.239,2,2.49,2,-999,9,-999,9,-999,9
    09AR9604_1,   UNK,68,1,3,3,2,19960223,1940,-65.3957,112.2045,584,403.3,-1.62,34.375,2,34.378,2,307.1,2,307,2,69.6,2,30.8,2,-999,9,2.09,2,5.092,2,2.374,2,-999,9,-999,9,-999,9
    09AR9604_1,   UNK,68,1,2,2,2,19960223,1940,-65.3957,112.2045,584,501,-0.035,34.578,2,34.58,2,247.8,2,243.1,2,86.2,2,31.2,2,-999,9,2.15,2,2.425,2,1.122,2,-999,9,-999,9,-999,9
    09AR9604_1,   UNK,68,1,1,1,2,19960223,1940,-65.3957,112.2045,584,576.7,0.471,34.649,3,34.576,4,238.2,2,242.8,2,86.2,2,31.4,2,-999,9,2.15,2,2.437,2,1.132,2,-999,9,-999,9,-999,9
    09AR9604_1,   UNK,69,1,22,22,2,19960223,2301,-65.3253,112.211,1106,15.5,-1.704,33.384,2,33.382,2,344.7,2,345.6,2,53.6,2,26.1,2,-999,9,1.84,2,-999,9,-999,9,-999,9,-999,9,-999,9
    09AR9604_1,   UNK,69,1,16,216,2,19960223,2301,-65.3253,112.211,1106,60.3,-1.377,33.541,2,33.559,2,340.8,2,342.2,2,54.9,2,26.9,2,-999,9,1.88,2,-999,9,-999,9,-999,9,-999,9,-999,9
    09AR9604_1,   UNK,69,1,13,113,2,19960223,2301,-65.3253,112.211,1106,105.8,-1.711,34.299,2,34.298,2,315.1,2,313.4,2,66,2,30,2,-999,9,2.13,2,-999,9,-999,9,-999,9,-999,9,-999,9
    09AR9604_1,   UNK,69,1,10,10,2,19960223,2301,-65.3253,112.211,1106,152.1,-1.618,34.362,3,34.361,2,305.1,2,303.3,2,68.2,2,30.8,2,-999,9,2.21,2,-999,9,-999,9,-999,9,-999,9,-999,9
    09AR9604_1,   UNK,69,1,8,8,2,19960223,2301,-65.3253,112.211,1106,202.8,-1.199,34.435,2,34.435,2,282.2,2,284.9,2,74.2,2,31.1,2,-999,9,2.21,2,-999,9,-999,9,-999,9,-999,9,-999,9
    09AR9604_1,   UNK,69,1,7,7,2,19960223,2301,-65.3253,112.211,1106,302.2,0.778,34.664,2,34.663,2,212.9,2,213.1,2,83.3,2,31.4,2,-999,9,2.25,2,-999,9,-999,9,-999,9,-999,9,-999,9
    09AR9604_1,   UNK,69,1,6,6,2,19960223,2301,-65.3253,112.211,1106,405.5,0.937,34.695,2,34.694,2,211.6,2,207.7,2,93.1,2,31.4,2,-999,9,2.23,2,0.792,2,0.376,2,-999,9,-999,9,-999,9
    09AR9604_1,   UNK,69,1,5,5,2,19960223,2301,-65.3253,112.211,1106,503.5,0.739,34.687,2,34.688,2,211.9,2,213.5,2,95.2,2,31.3,2,-999,9,2.24,2,0.896,2,0.426,2,-999,9,-999,9,-999,9
    09AR9604_1,   UNK,69,1,4,4,2,19960223,2301,-65.3253,112.211,1106,601.8,0.632,34.687,2,34.686,2,212.6,2,214.9,2,99,2,31.8,2,-999,9,2.25,2,0.825,2,0.383,2,-999,9,-999,9,-999,9
    09AR9604_1,   UNK,69,1,3,3,2,19960223,2301,-65.3253,112.211,1106,753.3,0.377,34.683,2,34.681,2,218.1,2,218.1,2,107.2,2,32.2,2,-999,9,2.25,2,0.729,2,0.35,2,-999,9,-999,9,-999,9
    09AR9604_1,   UNK,69,1,2,2,2,19960223,2301,-65.3253,112.211,1106,906,0.244,34.68,2,34.681,2,217.9,2,220.3,2,110.4,2,31.8,2,-999,9,2.27,2,0.72,2,0.345,2,-999,9,-999,9,-999,9
    09AR9604_1,   UNK,69,1,1,1,2,19960223,2301,-65.3253,112.211,1106,1089.2,0.123,34.678,2,34.682,2,226.5,2,222.6,2,112.6,2,32.3,2,-999,9,2.29,2,0.73,2,0.353,2,-999,9,-999,9,-999,9
    09AR9604_1,   UNK,70,1,24,24,2,19960224,144,-65.3157,112.2302,1222,11.7,-1.704,33.351,2,33.356,2,351.2,2,345.8,2,52.6,2,25.9,2,-999,9,1.83,2,6.345,2,3.026,2,-999,9,-999,9,-999,9
    09AR9604_1,   UNK,70,1,19,119,2,19960224,144,-65.3157,112.2302,1222,46.2,-1.271,33.611,2,33.611,2,338.5,2,344,2,53.1,2,26.9,2,-999,9,1.87,2,6.166,2,2.979,2,-999,9,-999,9,-999,9
    09AR9604_1,   UNK,70,1,15,215,2,19960224,144,-65.3157,112.2302,1222,106.3,-1.67,34.334,2,34.333,2,307.4,2,306.5,2,66.4,2,30.5,2,-999,9,2.14,2,4.858,2,2.321,2,-999,9,-999,9,-999,9
    09AR9604_1,   UNK,70,1,12,112,2,19960224,144,-65.3157,112.2302,1222,152.2,-1.633,34.384,2,34.384,2,298.4,2,300.7,2,69.5,2,31,2,-999,9,2.2,2,4.721,2,2.259,2,-999,9,-999,9,-999,9
    09AR9604_1,   UNK,70,1,8,8,2,19960224,144,-65.3157,112.2302,1222,203.5,-0.322,34.542,4,34.537,2,264.6,2,251.1,2,78,2,31.5,2,-999,9,2.24,2,2.842,2,1.345,2,-999,9,-999,9,-999,9
    09AR9604_1,   UNK,70,1,7,7,2,19960224,144,-65.3157,112.2302,1222,305.5,0.909,34.684,2,34.682,2,212.9,2,208.6,2,89.4,2,31.7,2,-999,9,2.23,2,0.96,2,0.448,2,-999,9,-999,9,-999,9
    09AR9604_1,   UNK,70,1,6,6,2,19960224,144,-65.3157,112.2302,1222,407.8,0.832,34.689,2,34.688,2,209.3,2,211.1,2,92.8,2,31.2,2,-999,9,2.22,2,0.872,2,0.413,2,-999,9,-999,9,-999,9
    09AR9604_1,   UNK,70,1,5,5,2,19960224,144,-65.3157,112.2302,1222,550.9,0.624,34.687,2,34.687,2,212.3,2,214.8,2,98.9,2,31.6,2,-999,9,2.24,2,0.82,2,0.385,2,-999,9,-999,9,-999,9
    09AR9604_1,   UNK,70,1,4,4,2,19960224,144,-65.3157,112.2302,1222,703.2,0.431,34.685,2,34.683,2,214.3,2,216.7,2,107,2,31.8,2,-999,9,2.24,2,0.702,2,0.328,2,-999,9,-999,9,-999,9
    09AR9604_1,   UNK,70,1,3,3,2,19960224,144,-65.3157,112.2302,1222,854,0.239,34.68,2,34.682,2,218.9,2,220.2,2,109.8,2,32.1,2,-999,9,2.26,2,0.721,2,0.338,2,-999,9,-999,9,-999,9
    09AR9604_1,   UNK,70,1,2,2,2,19960224,144,-65.3157,112.2302,1222,1012,0.13,34.678,2,34.679,2,223.7,2,222.2,2,112.1,2,32.4,2,-999,9,2.25,2,0.718,2,0.336,2,-999,9,-999,9,-999,9
    09AR9604_1,   UNK,70,1,1,1,2,19960224,144,-65.3157,112.2302,1222,1182.7,0.024,34.677,2,34.679,2,224.4,2,224.9,2,112.5,2,32,2,-999,9,2.28,2,0.806,2,0.381,2,-999,9,-999,9,-999,9
    09AR9604_1,   UNK,71,1,24,24,2,19960224,501,-65.2367,112.2507,1587,6.7,-1.626,33.659,3,33.651,2,347.5,2,346.1,2,56.6,2,27.3,2,-999,9,1.86,2,-999,9,-999,9,-999,9,-999,9,-999,9
    09AR9604_1,   UNK,71,1,18,118,2,19960224,501,-65.2367,112.2507,1587,61.6,-1.463,33.951,3,33.981,2,324.2,2,331.2,2,58.4,2,28.7,2,-999,9,1.94,2,-999,9,-999,9,-999,9,-999,9,-999,9
    09AR9604_1,   UNK,71,1,15,215,2,19960224,501,-65.2367,112.2507,1587,106.6,-1.484,34.408,2,34.41,2,294.9,2,293.2,2,70.4,2,30.9,2,-999,9,2.15,2,-999,9,-999,9,-999,9,-999,9,-999,9
    09AR9604_1,   UNK,71,1,12,112,2,19960224,501,-65.2367,112.2507,1587,151.5,0.039,34.583,3,34.578,2,242.6,2,238.9,2,80,2,31.4,2,-999,9,2.18,2,-999,9,-999,9,-999,9,-999,9,-999,9
    09AR9604_1,   UNK,71,1,10,10,2,19960224,501,-65.2367,112.2507,1587,201.9,0.896,34.675,2,34.678,2,213.2,2,208.8,2,87.7,2,31.4,2,-999,9,2.23,2,-999,9,-999,9,-999,9,-999,9,-999,9
    09AR9604_1,   UNK,71,1,9,9,2,19960224,501,-65.2367,112.2507,1587,252.9,0.965,34.689,2,34.69,2,203.2,2,207.1,2,88.9,2,31.4,2,-999,9,2.19,2,-999,9,-999,9,-999,9,-999,9,-999,9
    09AR9604_1,   UNK,71,1,8,8,2,19960224,501,-65.2367,112.2507,1587,301.8,0.9,34.689,2,34.69,2,209.4,2,209.8,2,91,2,31.5,2,-999,9,2.21,2,-999,9,-999,9,-999,9,-999,9,-999,9
    09AR9604_1,   UNK,71,1,7,7,2,19960224,501,-65.2367,112.2507,1587,401.9,0.679,34.684,2,34.68,2,209.4,2,214.9,2,95.4,2,31.1,2,-999,9,2.17,2,0.951,2,0.433,2,-999,9,-999,9,-999,9
    09AR9604_1,   UNK,71,1,6,6,2,19960224,501,-65.2367,112.2507,1587,603.4,0.544,34.692,2,34.69,2,211.8,2,213.7,2,105.1,2,31.5,2,-999,9,2.14,2,0.627,2,0.286,2,-999,9,-999,9,-999,9
    09AR9604_1,   UNK,71,1,5,5,2,19960224,501,-65.2367,112.2507,1587,803.3,0.371,34.686,2,34.687,2,215.7,2,216,2,110.7,2,31.8,2,-999,9,2.24,2,0.549,2,0.261,2,-999,9,-999,9,-999,9
    09AR9604_1,   UNK,71,1,4,4,2,19960224,501,-65.2367,112.2507,1587,1004.3,0.232,34.683,2,34.684,2,219.6,2,218.8,2,113.7,2,32.1,2,-999,9,2.23,2,0.561,2,0.265,2,-999,9,-999,9,-999,9
    09AR9604_1,   UNK,71,1,3,3,2,19960224,501,-65.2367,112.2507,1587,1204,0.127,34.68,2,34.68,2,222.7,2,221.7,2,117.8,2,32.1,2,-999,9,2.27,2,0.603,2,0.29,2,-999,9,-999,9,-999,9
    09AR9604_1,   UNK,71,1,2,2,2,19960224,501,-65.2367,112.2507,1587,1424.6,-0.011,34.677,2,34.675,2,227.3,2,226,2,115.3,2,32.3,2,-999,9,2.24,2,0.816,2,0.375,2,-999,9,-999,9,-999,9
    09AR9604_1,   UNK,71,1,1,1,2,19960224,501,-65.2367,112.2507,1587,1524.2,-0.037,34.676,2,34.673,2,228,2,227,2,116.3,2,31.8,2,-999,9,2.24,2,0.869,2,0.412,2,-999,9,-999,9,-999,9
    09AR9604_1,   UNK,72,1,23,23,2,19960224,830,-65.1575,112.2653,1843,11.6,-1.053,33.756,2,33.756,2,347.6,2,346.7,2,51.2,2,27.3,2,-999,9,1.84,2,6.289,2,3.051,2,-999,9,-999,9,-999,9
    09AR9604_1,   UNK,72,1,20,20,2,19960224,830,-65.1575,112.2653,1843,48.2,-1.469,34.13,2,34.126,2,318,2,322.5,2,61.3,2,29.3,2,-999,9,2.01,2,-999,9,-999,9,-999,9,-999,9,-999,9
    09AR9604_1,   UNK,72,1,17,17,2,19960224,830,-65.1575,112.2653,1843,92.7,-1.712,34.365,2,34.366,2,306.8,2,305.1,2,67.5,2,30.9,2,-999,9,2.2,2,4.798,2,2.323,2,-999,9,-999,9,-999,9
    09AR9604_1,   UNK,72,1,13,113,2,19960224,830,-65.1575,112.2653,1843,154.6,0.14,34.594,2,34.593,2,235.7,2,235.7,2,83.6,2,31.4,2,-999,9,2.18,2,-999,9,-999,9,-999,9,-999,9,-999,9
    09AR9604_1,   UNK,72,1,11,11,2,19960224,830,-65.1575,112.2653,1843,208.7,0.546,34.645,4,34.641,2,219.9,2,221.8,2,87,2,31.6,2,-999,9,2.22,2,1.556,2,0.732,2,-999,9,-999,9,-999,9
    09AR9604_1,   UNK,72,1,10,10,2,19960224,830,-65.1575,112.2653,1843,308.1,0.763,34.682,2,34.685,2,213.9,2,213.4,2,92.1,2,31.2,2,-999,9,2.21,2,1.003,6,0.474,6,-999,9,-999,9,-999,9
    09AR9604_1,   UNK,72,1,9,9,2,19960224,830,-65.1575,112.2653,1843,408.6,0.69,34.69,2,34.693,2,214.8,2,213.6,2,97.7,2,31.4,2,-999,9,2.22,2,-999,9,-999,9,-999,9,-999,9,-999,9
    09AR9604_1,   UNK,72,1,8,8,2,19960224,830,-65.1575,112.2653,1843,509.5,0.63,34.693,2,34.695,2,211.8,2,213.2,2,101.3,2,31.9,2,-999,9,2.18,2,0.643,2,0.306,2,-999,9,-999,9,-999,9
    09AR9604_1,   UNK,72,1,7,7,2,19960224,830,-65.1575,112.2653,1843,696.3,0.47,34.688,2,34.689,2,217.1,2,215.2,2,108.7,2,31.6,2,-999,9,2.24,2,0.6,2,0.279,2,-999,9,-999,9,-999,9
    09AR9604_1,   UNK,72,1,6,6,2,19960224,830,-65.1575,112.2653,1843,898.5,0.325,34.685,2,34.684,2,220.7,2,217.3,2,112.1,2,31.6,2,-999,9,2.24,2,-999,9,-999,9,-999,9,-999,9,-999,9
    09AR9604_1,   UNK,72,1,5,5,2,19960224,830,-65.1575,112.2653,1843,1104.7,0.202,34.683,2,34.684,2,222.4,2,219.4,2,114.7,2,31.6,2,-999,9,2.25,2,0.528,2,0.261,2,-999,9,-999,9,-999,9
    09AR9604_1,   UNK,72,1,4,4,2,19960224,830,-65.1575,112.2653,1843,1303.7,0.107,34.682,2,34.685,2,224,2,221.8,2,117.8,2,31.9,2,-999,9,2.27,2,0.509,2,0.248,2,-999,9,-999,9,-999,9
    09AR9604_1,   UNK,72,1,3,3,2,19960224,830,-65.1575,112.2653,1843,1503.3,-0.006,34.676,2,34.68,2,227.2,2,226,2,116.1,2,32,2,-999,9,2.25,2,0.76,2,0.356,2,-999,9,-999,9,-999,9
    09AR9604_1,   UNK,72,1,2,2,2,19960224,830,-65.1575,112.2653,1843,1709.9,-0.128,34.673,2,34.676,2,230.7,2,230.8,2,113.6,2,31.7,2,-999,9,2.26,2,1.023,2,0.489,2,-999,9,-999,9,-999,9
    09AR9604_1,   UNK,72,1,1,1,2,19960224,830,-65.1575,112.2653,1843,1830.1,-0.219,34.669,2,34.672,2,233.3,2,234.2,2,109.5,2,31.8,2,-999,9,2.23,2,1.326,2,0.625,2,-999,9,-999,9,-999,9
    09AR9604_1,   UNK,73,1,23,23,2,19960224,1237,-65.0237,112.2652,2211,11.7,-0.953,33.878,2,33.875,2,341.3,2,340.1,2,52,2,27.5,2,-999,9,1.85,2,6.042,2,2.928,2,-999,9,-999,9,-999,9
    09AR9604_1,   UNK,73,1,20,20,2,19960224,1237,-65.0237,112.2652,2211,60,-1.54,34.335,3,34.33,2,304.1,2,305.6,2,63.9,2,29.6,2,-999,9,2.09,2,4.683,2,2.234,2,-999,9,-999,9,-999,9
    09AR9604_1,   UNK,73,1,18,118,2,19960224,1237,-65.0237,112.2652,2211,91.1,-1.535,34.394,2,34.394,2,295.1,2,296.5,2,67.2,2,30.3,2,-999,9,2.11,2,4.466,2,2.152,2,-999,9,-999,9,-999,9
    09AR9604_1,   UNK,73,1,15,215,2,19960224,1237,-65.0237,112.2652,2211,136.4,-0.64,34.507,4,34.501,2,265.9,2,264.3,2,74.4,2,30.9,2,-999,9,2.13,2,3.332,2,1.589,2,-999,9,-999,9,-999,9
    09AR9604_1,   UNK,73,1,14,114,2,19960224,1237,-65.0237,112.2652,2211,201.3,0.914,34.676,2,34.673,2,212.6,2,207.5,2,86.1,2,31.1,2,-999,9,2.18,2,0.967,2,0.457,2,-999,9,-999,9,-999,9
    09AR9604_1,   UNK,73,1,13,113,2,19960224,1237,-65.0237,112.2652,2211,251.5,1.082,34.706,2,34.701,2,196.7,2,202.9,2,91.7,2,31.2,2,-999,9,2.16,2,0.6,2,0.278,2,-999,9,-999,9,-999,9
    09AR9604_1,   UNK,73,1,12,112,2,19960224,1237,-65.0237,112.2652,2211,302.8,1.105,34.713,2,34.714,2,199.2,2,201.5,2,92.9,2,31.5,2,-999,9,2.18,2,0.464,2,0.218,2,-999,9,-999,9,-999,9
    09AR9604_1,   UNK,73,1,11,11,2,19960224,1237,-65.0237,112.2652,2211,401.3,1.038,34.719,2,34.718,2,201.4,2,202.4,2,97.4,2,31,2,-999,9,-999,9,0.327,2,0.146,2,-999,9,-999,9,-999,9
    09AR9604_1,   UNK,73,1,10,10,2,19960224,1237,-65.0237,112.2652,2211,701.9,0.739,34.706,2,34.714,2,205.3,2,203.8,2,99.5,2,31.2,2,-999,9,2.17,2,0.276,2,0.136,2,-999,9,-999,9,-999,9
    09AR9604_1,   UNK,73,1,9,9,2,19960224,1237,-65.0237,112.2652,2211,902.7,0.524,34.698,2,34.695,2,210.6,2,210.8,2,109,2,32.1,2,-999,9,2.21,2,0.313,2,0.148,2,-999,9,-999,9,-999,9
    09AR9604_1,   UNK,73,1,8,8,2,19960224,1237,-65.0237,112.2652,2211,1003.7,0.424,34.692,2,34.69,2,214,2,213.2,2,111.1,2,31.6,2,-999,9,2.2,2,0.337,2,0.168,2,-999,9,-999,9,-999,9
    09AR9604_1,   UNK,73,1,7,7,2,19960224,1237,-65.0237,112.2652,2211,1102.4,0.303,34.684,2,34.682,2,216.6,2,216.7,2,111.1,2,32,2,-999,9,2.2,2,0.477,2,0.232,2,-999,9,-999,9,-999,9
    09AR9604_1,   UNK,73,1,6,6,2,19960224,1237,-65.0237,112.2652,2211,1203.8,0.273,34.687,2,34.686,2,217.9,2,216.5,2,113.7,2,31.7,2,-999,9,2.21,2,0.363,2,0.18,2,-999,9,-999,9,-999,9
    09AR9604_1,   UNK,73,1,5,5,2,19960224,1237,-65.0237,112.2652,2211,1403.6,0.175,34.683,2,34.681,2,220.1,2,219.7,2,115.8,2,32.2,2,-999,9,2.21,2,0.419,2,0.203,2,-999,9,-999,9,-999,9
    09AR9604_1,   UNK,73,1,4,4,2,19960224,1237,-65.0237,112.2652,2211,1601.8,0.056,34.679,2,34.678,2,224.4,2,224.1,2,113.7,2,31.6,2,-999,9,2.21,2,0.658,2,0.319,2,-999,9,-999,9,-999,9
    09AR9604_1,   UNK,73,1,3,3,2,19960224,1237,-65.0237,112.2652,2211,1803.7,-0.039,34.674,2,34.674,2,228.2,2,227.8,2,112.3,2,31.9,2,-999,9,2.21,2,0.845,2,0.402,2,-999,9,-999,9,-999,9
    09AR9604_1,   UNK,73,1,2,2,2,19960224,1237,-65.0237,112.2652,2211,2017.6,-0.159,34.671,2,34.671,2,232,2,232.7,2,109.8,2,31.6,2,-999,9,2.19,2,1.164,2,0.542,2,-999,9,-999,9,-999,9
    09AR9604_1,   UNK,73,1,1,1,2,19960224,1237,-65.0237,112.2652,2211,2149.6,-0.221,34.668,2,34.668,2,234.2,2,235.2,2,107.8,2,31.4,2,-999,9,2.17,2,1.395,2,0.648,2,-999,9,-999,9,-999,9
    09AR9604_1,   UNK,74,1,24,24,2,19960224,1903,-64.5845,112.2575,1893,11.4,-0.614,33.87,3,33.869,2,343,2,340.7,2,48.2,2,27.2,2,-999,9,1.88,3,6.016,2,2.961,2,-999,9,-999,9,-999,9
    09AR9604_1,   UNK,74,1,23,23,2,19960224,1903,-64.5845,112.2575,1893,31.6,-0.74,33.877,2,33.879,2,337.1,2,340.9,2,49.8,2,27.6,2,-999,9,1.88,3,-999,9,-999,9,-999,9,-999,9,-999,9
    09AR9604_1,   UNK,74,1,20,20,2,19960224,1903,-64.5845,112.2575,1893,76.5,-1.635,34.345,2,34.347,2,308.4,2,305.4,2,66.3,2,30.3,2,-999,9,2.15,3,4.794,2,2.308,2,-999,9,-999,9,-999,9
    09AR9604_1,   UNK,74,1,16,216,2,19960224,1903,-64.5845,112.2575,1893,136.1,-1.165,34.442,2,34.446,2,278.9,2,281.3,2,70.5,2,31,2,-999,9,2.19,3,3.989,2,1.92,2,-999,9,-999,9,-999,9
    09AR9604_1,   UNK,74,1,14,114,2,19960224,1903,-64.5845,112.2575,1893,201.8,0.198,34.604,2,34.604,2,239.1,2,233,2,83.2,2,31.6,2,-999,9,2.24,3,2.073,2,0.964,2,-999,9,-999,9,-999,9
    09AR9604_1,   UNK,74,1,13,113,2,19960224,1903,-64.5845,112.2575,1893,302.5,0.647,34.666,2,34.666,2,218.5,2,217.5,2,90.2,2,31.6,2,-999,9,2.24,3,-999,9,-999,9,-999,9,-999,9,-999,9
    09AR9604_1,   UNK,74,1,12,112,2,19960224,1903,-64.5845,112.2575,1893,402.3,0.623,34.684,2,34.679,2,216.1,2,216,2,97.1,2,31.6,2,-999,9,2.23,3,0.876,2,0.42,2,-999,9,-999,9,-999,9
    09AR9604_1,   UNK,74,1,11,11,2,19960224,1903,-64.5845,112.2575,1893,501.6,0.543,34.685,2,34.684,2,213,2,215.4,2,101.6,2,32,2,-999,9,2.23,3,-999,9,-999,9,-999,9,-999,9,-999,9
    09AR9604_1,   UNK,74,1,10,10,2,19960224,1903,-64.5845,112.2575,1893,602,0.442,34.684,2,34.684,2,215.2,2,216.3,2,105.5,2,32,2,-999,9,2.25,3,-999,9,-999,9,-999,9,-999,9,-999,9
    09AR9604_1,   UNK,74,1,9,9,2,19960224,1903,-64.5845,112.2575,1893,703.2,0.363,34.682,2,34.683,2,215.6,2,217.2,2,108.3,2,31.9,2,-999,9,2.27,3,0.632,2,0.306,2,-999,9,-999,9,-999,9
    09AR9604_1,   UNK,74,1,8,8,2,19960224,1903,-64.5845,112.2575,1893,802.2,0.296,34.682,2,34.683,2,216.7,2,217.6,2,111.6,2,31.8,2,-999,9,2.29,3,0.58,2,0.284,2,-999,9,-999,9,-999,9
    09AR9604_1,   UNK,74,1,7,7,2,19960224,1903,-64.5845,112.2575,1893,903.2,0.243,34.68,2,34.682,2,215.4,2,218.7,2,112.6,2,32.1,2,-999,9,2.27,3,0.585,2,0.278,2,-999,9,-999,9,-999,9
    09AR9604_1,   UNK,74,1,6,6,2,19960224,1903,-64.5845,112.2575,1893,1002.9,0.201,34.681,2,34.677,2,217.9,2,218.9,2,114.7,2,32.3,2,-999,9,2.29,3,0.509,2,0.253,2,-999,9,-999,9,-999,9
    09AR9604_1,   UNK,74,1,5,5,2,19960224,1903,-64.5845,112.2575,1893,1103.2,0.137,34.679,2,34.678,2,221.1,2,221.1,2,115.7,2,32,2,-999,9,2.25,3,0.605,2,0.288,2,-999,9,-999,9,-999,9
    09AR9604_1,   UNK,74,1,4,4,2,19960224,1903,-64.5845,112.2575,1893,1305.1,0.067,34.679,2,34.679,2,222.6,2,222.7,2,118.8,2,32.5,2,-999,9,2.28,3,0.566,2,0.269,2,-999,9,-999,9,-999,9
    09AR9604_1,   UNK,74,1,3,3,2,19960224,1903,-64.5845,112.2575,1893,1504.6,-0.026,34.676,2,34.678,2,227.6,2,226.3,2,117.4,2,32,2,-999,9,2.25,3,0.717,2,0.341,2,-999,9,-999,9,-999,9
    09AR9604_1,   UNK,74,1,2,2,2,19960224,1903,-64.5845,112.2575,1893,1705.5,-0.136,34.67,2,34.673,2,231.6,2,231.1,2,113.8,2,32.2,2,-999,9,2.28,3,1.072,2,0.505,2,-999,9,-999,9,-999,9
    09AR9604_1,   UNK,74,1,1,1,2,19960224,1903,-64.5845,112.2575,1893,1864.3,-0.207,34.668,2,34.671,2,234.6,2,233.9,2,111.5,2,31.7,2,-999,9,2.27,3,1.316,2,0.615,2,-999,9,-999,9,-999,9