BOTTLE,2021011SIOJHS,,,,,,,,,,,,,,,,,,,,,,,,,,,,,,,,,,,,,,
EXPOCODE,SECT_ID,STNNBR,CASTNO,SAMPNO,BTLNBR,BTLNBR_FLAG_W,DATE,TIME,LATITUDE,LONGITUDE,DEPTH,CTDPRS,CTDTMP,CTDSAL,CTDSAL_FLAG_W,SALNTY,SALNTY_FLAG_W,CTDOXY,CTDOXY_FLAG_W,OXYGEN,OXYGEN_FLAG_W,SILCAT,SILCAT_FLAG_W,NITRAT,NITRAT_FLAG_W,NITRIT,NITRIT_FLAG_W,PHSPHT,PHSPHT_FLAG_W,CFC-11,CFC-11_FLAG_W,CFC-12,CFC-12_FLAG_W,SF6,SF6_FLAG_W,TCARBN,TCARBN_FLAG_W,ALKALI,ALKALI_FLAG_W
,,,,,,,,,,,,DBAR,DEG C,PSS-78,,PSS-78,,UMOL/KG,,UMOL/KG,,UMOL/KG,,UMOL/KG,,UMOL/KG,,UMOL/KG,,PMOL/KG,,PMOL/KG,,NMOL/KG,,UMOL/KG,,UMOL/KG,
    09AR9604_1,   UNK,23,1,24,24,2,19960202,2304,-62.996,81.8247,2866,9.5,0.128,33.795,2,33.797,2,376.7,3,343.5,2,29,7,25.9,2,-999,9,1.69,2,6.331,2,3.193,2,-999,9,-999,9,-999,9
    09AR9604_1,   UNK,23,1,23,23,2,19960202,2304,-62.996,81.8247,2866,51.3,0.069,33.803,2,33.801,2,342.6,2,342.9,2,30.5,7,26.1,2,-999,9,1.75,2,6.278,2,3.161,2,-999,9,-999,9,-999,9
    09AR9604_1,   UNK,23,1,22,22,2,19960202,2304,-62.996,81.8247,2866,72.1,-0.91,34.018,2,34.019,2,314.8,2,314.2,2,43.1,7,29.5,2,-999,9,2.09,2,-999,9,-999,9,-999,9,-999,9,-999,9
    09AR9604_1,   UNK,23,1,21,21,2,19960202,2304,-62.996,81.8247,2866,153.5,1.554,34.453,2,34.448,2,185.2,2,191,2,64.5,7,34.6,2,-999,9,2.46,2,1.652,6,0.772,6,-999,9,-999,9,-999,9
    09AR9604_1,   UNK,23,1,20,20,2,19960202,2304,-62.996,81.8247,2866,205.7,1.858,34.526,2,34.526,2,177.9,2,177.4,2,67.8,7,34.5,2,-999,9,2.42,2,-999,9,-999,9,-999,9,-999,9,-999,9
    09AR9604_1,   UNK,23,1,19,119,2,19960202,2304,-62.996,81.8247,2866,301.8,2.015,34.604,2,34.603,2,174.6,2,171.5,2,71,7,33.9,2,-999,9,2.43,2,-999,9,-999,9,-999,9,-999,9,-999,9
    09AR9604_1,   UNK,23,1,18,118,2,19960202,2304,-62.996,81.8247,2866,401.6,2.052,34.654,2,34.656,2,175.5,2,173.2,2,71,7,33.2,2,-999,9,2.28,2,-999,9,-999,9,-999,9,-999,9,-999,9
    09AR9604_1,   UNK,23,1,17,17,2,19960202,2304,-62.996,81.8247,2866,503,2.039,34.688,2,34.69,2,178,2,178.3,2,72.9,7,32.2,2,-999,9,2.25,2,0.263,2,0.12,2,-999,9,-999,9,-999,9
    09AR9604_1,   UNK,23,1,16,216,2,19960202,2304,-62.996,81.8247,2866,603,2.007,34.713,2,34.716,2,182.1,2,182.9,2,75.3,7,31.4,2,-999,9,2.22,2,0.204,2,0.096,2,-999,9,-999,9,-999,9
    09AR9604_1,   UNK,23,1,14,114,2,19960202,2304,-62.996,81.8247,2866,802.5,1.902,34.741,2,34.741,2,188.3,2,191.3,2,72.4,7,30.6,2,-999,9,2.12,2,-999,9,-999,9,-999,9,-999,9,-999,9
    09AR9604_1,   UNK,23,1,13,113,2,19960202,2304,-62.996,81.8247,2866,901,1.839,34.748,2,34.747,2,193.5,2,194.4,2,79.4,7,30.4,2,-999,9,2.15,2,0.129,2,0.06,2,-999,9,-999,9,-999,9
    09AR9604_1,   UNK,23,1,12,112,2,19960202,2304,-62.996,81.8247,2866,1004.8,1.727,34.749,2,34.753,2,196.4,2,197,2,78,7,30.4,2,-999,9,2.07,2,-999,9,-999,9,-999,9,-999,9,-999,9
    09AR9604_1,   UNK,23,1,11,11,2,19960202,2304,-62.996,81.8247,2866,1105,1.636,34.752,2,34.756,2,197.4,2,199.4,2,81.7,7,30.1,2,-999,9,2.11,2,0.105,2,0.05,2,-999,9,-999,9,-999,9
    09AR9604_1,   UNK,23,1,10,10,2,19960202,2304,-62.996,81.8247,2866,1204.8,1.544,34.749,2,34.749,2,199.6,2,200.1,2,83.7,7,29.9,2,-999,9,2.13,2,-999,9,-999,9,-999,9,-999,9,-999,9
    09AR9604_1,   UNK,23,1,9,9,2,19960202,2304,-62.996,81.8247,2866,1404.2,1.35,34.741,2,34.742,2,202.5,2,202.4,2,91.3,7,30.2,2,-999,9,2.14,2,0.107,2,0.05,2,-999,9,-999,9,-999,9
    09AR9604_1,   UNK,23,1,8,8,2,19960202,2304,-62.996,81.8247,2866,1604.8,1.193,34.735,2,34.734,2,203.5,2,204.1,2,95.5,7,30.6,2,-999,9,2.15,2,-999,9,-999,9,-999,9,-999,9,-999,9
    09AR9604_1,   UNK,23,1,7,7,2,19960202,2304,-62.996,81.8247,2866,1805.2,1.001,34.725,2,34.722,2,206.1,2,206.3,2,99.9,7,31.4,2,-999,9,2.18,2,0.09,2,0.044,2,-999,9,-999,9,-999,9
    09AR9604_1,   UNK,23,1,6,6,2,19960202,2304,-62.996,81.8247,2866,2004.7,0.847,34.715,2,34.719,2,208.5,2,207.7,2,102.4,7,31.4,2,-999,9,2.21,2,-999,9,-999,9,-999,9,-999,9,-999,9
    09AR9604_1,   UNK,23,1,5,5,2,19960202,2304,-62.996,81.8247,2866,2206,0.679,34.705,2,34.709,2,209.3,2,209.4,2,105.8,7,31.5,2,-999,9,2.25,2,0.085,2,0.043,2,-999,9,-999,9,-999,9
    09AR9604_1,   UNK,23,1,4,4,2,19960202,2304,-62.996,81.8247,2866,2405.8,0.552,34.698,2,34.7,2,209.3,2,211.2,2,109.2,4,31.8,2,-999,9,2.25,2,0.074,2,0.036,2,-999,9,-999,9,-999,9
    09AR9604_1,   UNK,23,1,3,3,2,19960202,2304,-62.996,81.8247,2866,2556.2,0.465,34.694,2,34.691,2,211.9,2,212.8,2,113.5,4,31.9,2,-999,9,2.26,2,0.072,2,0.035,2,-999,9,-999,9,-999,9
    09AR9604_1,   UNK,23,1,2,2,2,19960202,2304,-62.996,81.8247,2866,2709.2,0.39,34.691,2,34.691,2,214.1,2,214.2,2,118.5,4,32.5,2,-999,9,2.27,2,0.062,2,0.034,2,-999,9,-999,9,-999,9
    09AR9604_1,   UNK,23,1,1,1,2,19960202,2304,-62.996,81.8247,2866,2860.7,0.333,34.686,2,34.686,2,215.5,2,215.1,2,123.6,4,32.2,2,-999,9,2.28,2,0.068,2,0.035,2,-999,9,-999,9,-999,9
    09AR9604_1,   UNK,24,1,24,24,2,19960203,628,-62.9963,83.6682,2508,11.4,0.066,33.811,2,33.826,2,350.9,2,344.8,2,29.6,7,26,2,-999,9,1.7,2,6.314,2,3.126,2,-999,9,-999,9,-999,9
    09AR9604_1,   UNK,24,1,23,23,2,19960203,628,-62.9963,83.6682,2508,26.3,0.044,33.817,2,-999,9,343.5,2,344,2,30.3,7,26.3,2,-999,9,1.72,2,-999,9,-999,9,-999,9,-999,9,-999,9
    09AR9604_1,   UNK,24,1,22,22,2,19960203,628,-62.9963,83.6682,2508,51,0.005,33.827,3,33.834,2,329.9,2,341.4,2,30.7,7,26.2,2,-999,9,1.77,2,-999,9,-999,9,-999,9,-999,9,-999,9
    09AR9604_1,   UNK,24,1,21,21,2,19960203,628,-62.9963,83.6682,2508,76.4,-0.758,34.089,3,34.088,2,290.3,2,293.3,2,38.7,7,30.2,2,-999,9,2.17,2,-999,9,-999,9,-999,9,-999,9,-999,9
    09AR9604_1,   UNK,24,1,20,20,2,19960203,628,-62.9963,83.6682,2508,101.9,0.604,34.36,4,-999,9,225.8,2,223,2,51.5,7,33.4,2,-999,9,2.37,2,2.644,2,1.264,2,-999,9,-999,9,-999,9
    09AR9604_1,   UNK,24,1,19,119,2,19960203,628,-62.9963,83.6682,2508,151.9,1.803,34.541,2,34.533,2,185.9,2,177.6,2,60.1,7,34.3,2,-999,9,2.42,2,-999,9,-999,9,-999,9,-999,9,-999,9
    09AR9604_1,   UNK,24,1,18,118,2,19960203,628,-62.9963,83.6682,2508,201.8,1.943,34.587,2,34.588,2,179.6,2,173.2,2,67.2,7,34.2,2,-999,9,2.37,2,0.701,2,0.318,2,-999,9,-999,9,-999,9
    09AR9604_1,   UNK,24,1,17,17,2,19960203,628,-62.9963,83.6682,2508,302.2,1.99,34.644,2,34.642,2,177.5,2,173.2,2,57.5,3,33.5,2,-999,9,2.34,2,-999,9,-999,9,-999,9,-999,9,-999,9
    09AR9604_1,   UNK,24,1,16,216,2,19960203,628,-62.9963,83.6682,2508,402.1,1.988,34.688,2,34.69,2,176.2,2,178.2,2,65.1,3,32.4,2,-999,9,2.25,2,0.275,2,0.128,2,-999,9,-999,9,-999,9
    09AR9604_1,   UNK,24,1,15,215,2,19960203,628,-62.9963,83.6682,2508,502.7,1.968,34.714,2,34.713,2,180,2,182.9,2,64.1,3,31.4,2,-999,9,2.21,2,-999,9,-999,9,-999,9,-999,9,-999,9
    09AR9604_1,   UNK,24,1,14,114,2,19960203,628,-62.9963,83.6682,2508,602.8,1.923,34.735,2,34.73,2,183.9,2,188.1,2,67.7,3,30.5,2,-999,9,2.11,2,0.162,2,0.074,2,-999,9,-999,9,-999,9
    09AR9604_1,   UNK,24,1,13,113,2,19960203,628,-62.9963,83.6682,2508,702.6,1.87,34.744,2,34.744,2,186.6,2,191.8,2,70.7,3,30.4,2,-999,9,2.11,2,-999,9,-999,9,-999,9,-999,9,-999,9
    09AR9604_1,   UNK,24,1,12,112,2,19960203,628,-62.9963,83.6682,2508,804.3,1.792,34.749,2,34.75,2,192.2,2,194.9,2,72.3,3,29.9,2,-999,9,2.07,2,0.123,2,0.056,2,-999,9,-999,9,-999,9
    09AR9604_1,   UNK,24,1,11,11,2,19960203,628,-62.9963,83.6682,2508,902,1.703,34.75,2,34.751,2,194.3,2,196.9,2,73.6,3,29.7,2,-999,9,2.11,2,-999,9,-999,9,-999,9,-999,9,-999,9
    09AR9604_1,   UNK,24,1,10,10,2,19960203,628,-62.9963,83.6682,2508,1002.7,1.61,34.753,2,34.754,2,195.2,2,199.4,2,68.5,3,30.1,2,-999,9,-999,9,0.112,2,0.05,2,-999,9,-999,9,-999,9
    09AR9604_1,   UNK,24,1,9,9,2,19960203,628,-62.9963,83.6682,2508,1101.9,1.523,34.753,2,34.754,2,199.3,2,201.3,2,72,3,29.9,2,-999,9,2.23,2,-999,9,-999,9,-999,9,-999,9,-999,9
    09AR9604_1,   UNK,24,1,8,8,2,19960203,628,-62.9963,83.6682,2508,1202.7,1.424,34.748,2,34.749,2,200,2,202.5,2,77,3,29.8,2,-999,9,2.18,2,0.097,2,0.043,2,-999,9,-999,9,-999,9
    09AR9604_1,   UNK,24,1,7,7,2,19960203,628,-62.9963,83.6682,2508,1403.4,1.24,34.741,2,34.741,2,202,2,204.3,2,79.5,3,30.4,2,-999,9,2.14,2,0.091,2,0.039,2,-999,9,-999,9,-999,9
    09AR9604_1,   UNK,24,1,6,6,2,19960203,628,-62.9963,83.6682,2508,1603.8,1.055,34.731,2,34.729,2,205.1,2,205.8,2,93.8,7,30.6,2,-999,9,2.37,4,0.091,2,0.041,2,-999,9,-999,9,-999,9
    09AR9604_1,   UNK,24,1,5,5,2,19960203,628,-62.9963,83.6682,2508,1803.4,0.857,34.718,2,34.717,2,207.8,2,207.2,2,96.4,7,30.9,2,-999,9,2.14,2,0.095,2,0.042,2,-999,9,-999,9,-999,9
    09AR9604_1,   UNK,24,1,4,4,2,19960203,628,-62.9963,83.6682,2508,2003.8,0.69,34.709,2,34.705,2,210,2,208.9,2,100.7,7,31.1,2,-999,9,2.26,2,0.09,2,0.041,2,-999,9,-999,9,-999,9
    09AR9604_1,   UNK,24,1,3,3,2,19960203,628,-62.9963,83.6682,2508,2204.6,0.53,34.699,2,34.696,2,212.1,2,210.7,2,102.2,7,32.1,2,-999,9,2.24,2,0.101,2,0.045,2,-999,9,-999,9,-999,9
    09AR9604_1,   UNK,24,1,2,2,2,19960203,628,-62.9963,83.6682,2508,2457.7,0.396,34.693,2,34.69,2,217.3,2,213.1,2,103.6,7,32.2,2,-999,9,2.26,2,-999,9,-999,9,-999,9,-999,9,-999,9
    09AR9604_1,   UNK,24,1,1,1,2,19960203,628,-62.9963,83.6682,2508,2490.4,0.404,34.694,2,34.69,2,214.3,2,213,2,106.2,7,32.2,2,-999,9,2.26,2,0.075,2,0.036,2,-999,9,-999,9,-999,9
    09AR9604_1,   UNK,25,1,24,24,2,19960203,1705,-62.992,85.507,3757,11.2,0.08,33.687,2,33.69,2,350.7,2,347.8,2,31.8,7,25.4,2,-999,9,1.59,2,6.236,2,3.044,2,-999,9,-999,9,-999,9
    09AR9604_1,   UNK,25,1,23,23,2,19960203,1705,-62.992,85.507,3757,50.8,-0.102,33.767,4,33.764,2,323,2,339.6,2,33.2,7,26,2,-999,9,1.71,2,5.993,2,2.955,2,-999,9,-999,9,-999,9
    09AR9604_1,   UNK,25,1,22,22,2,19960203,1705,-62.992,85.507,3757,81.1,-0.701,34.257,4,34.257,2,271.4,2,267.5,2,52.4,7,31.1,2,-999,9,2.21,2,3.717,2,1.814,2,-999,9,-999,9,-999,9
    09AR9604_1,   UNK,25,1,21,21,2,19960203,1705,-62.992,85.507,3757,151.9,1.581,34.613,3,34.61,2,224,2,186.3,2,63.8,7,32.7,2,-999,9,2.3,2,0.894,2,0.402,2,-999,9,-999,9,-999,9
    09AR9604_1,   UNK,25,1,20,20,2,19960203,1705,-62.992,85.507,3757,202.5,0.448,34.536,2,34.538,2,220.9,2,226.3,2,65.4,7,32.2,2,-999,9,2.22,2,2.336,2,1.087,2,-999,9,-999,9,-999,9
    09AR9604_1,   UNK,25,1,19,119,2,19960203,1705,-62.992,85.507,3757,251.1,0.646,34.573,3,34.575,2,200.3,2,221.5,2,64.5,7,31.5,2,-999,9,2.2,2,2.043,2,0.935,2,-999,9,-999,9,-999,9
    09AR9604_1,   UNK,25,1,18,118,2,19960203,1705,-62.992,85.507,3757,301.9,1.341,34.648,2,34.645,2,204.6,2,198.1,2,68.6,7,31.8,2,-999,9,2.2,2,1.005,2,0.467,2,-999,9,-999,9,-999,9
    09AR9604_1,   UNK,25,1,17,17,2,19960203,1705,-62.992,85.507,3757,402.4,1.335,34.67,3,34.67,2,202.9,2,200.9,2,67.5,7,31.6,2,-999,9,2.15,2,0.931,2,0.423,2,-999,9,-999,9,-999,9
    09AR9604_1,   UNK,25,1,16,216,2,19960203,1705,-62.992,85.507,3757,502.4,1.44,34.703,2,34.705,2,199.4,2,199.4,2,67.3,7,30.8,2,-999,9,2.12,2,0.605,2,0.277,2,-999,9,-999,9,-999,9
    09AR9604_1,   UNK,25,1,15,215,2,19960203,1705,-62.992,85.507,3757,652.7,1.517,34.73,2,34.732,2,195.5,2,197.8,2,72.7,7,30.5,2,-999,9,2.12,2,0.26,6,0.119,6,-999,9,-999,9,-999,9
    09AR9604_1,   UNK,25,1,14,114,2,19960203,1705,-62.992,85.507,3757,753.1,1.491,34.741,2,34.744,2,200.2,2,199.2,2,75.7,7,30.1,2,-999,9,2.12,2,0.136,2,0.06,2,-999,9,-999,9,-999,9
    09AR9604_1,   UNK,25,1,13,113,2,19960203,1705,-62.992,85.507,3757,906,1.306,34.735,2,34.737,2,205.2,2,202.2,2,78.8,7,30,2,-999,9,2.12,2,0.152,2,0.07,2,-999,9,-999,9,-999,9
    09AR9604_1,   UNK,25,1,12,112,2,19960203,1705,-62.992,85.507,3757,1094.7,1.056,34.723,2,34.723,2,205.3,2,206,2,78.5,7,30.5,2,-999,9,2.09,2,0.214,2,0.102,2,-999,9,-999,9,-999,9
    09AR9604_1,   UNK,25,1,11,11,2,19960203,1705,-62.992,85.507,3757,1304.1,0.917,34.72,2,34.719,2,206.7,2,206.6,2,88.6,7,30.7,2,-999,9,2.15,2,0.089,2,0.043,2,-999,9,-999,9,-999,9
    09AR9604_1,   UNK,25,1,10,10,2,19960203,1705,-62.992,85.507,3757,1504.7,0.742,34.709,2,34.71,2,208.6,2,208,2,96.1,7,31.1,2,-999,9,2.19,2,0.094,2,0.047,2,-999,9,-999,9,-999,9
    09AR9604_1,   UNK,25,1,9,9,2,19960203,1705,-62.992,85.507,3757,1704.2,0.564,34.697,2,34.688,2,210.3,2,210.2,2,96.2,7,31.5,2,-999,9,2.2,2,0.155,2,0.07,2,-999,9,-999,9,-999,9
    09AR9604_1,   UNK,25,1,8,8,2,19960203,1705,-62.992,85.507,3757,1905.5,0.409,34.688,2,34.686,2,215,2,213.9,2,94.5,7,31.6,2,-999,9,2.24,2,0.253,2,0.121,2,-999,9,-999,9,-999,9
    09AR9604_1,   UNK,25,1,7,7,2,19960203,1705,-62.992,85.507,3757,2106,0.325,34.686,2,34.686,2,214.9,2,214.5,2,99.9,7,31.7,2,-999,9,2.23,2,0.106,2,0.051,2,-999,9,-999,9,-999,9
    09AR9604_1,   UNK,25,1,6,6,2,19960203,1705,-62.992,85.507,3757,2407.1,0.168,34.678,2,34.677,2,220.9,2,220.6,2,100.1,7,31.8,2,-999,9,2.26,2,0.357,2,0.17,2,-999,9,-999,9,-999,9
    09AR9604_1,   UNK,25,1,5,5,2,19960203,1705,-62.992,85.507,3757,2707.1,0.056,34.676,2,34.674,2,226.2,2,225.8,2,101.6,7,32,2,-999,9,2.24,2,0.5,2,0.235,2,-999,9,-999,9,-999,9
    09AR9604_1,   UNK,25,1,4,4,2,19960203,1705,-62.992,85.507,3757,3008.2,-0.036,34.673,2,34.674,2,229.5,2,229.8,2,99.6,7,32,2,-999,9,2.24,2,0.688,2,0.319,2,-999,9,-999,9,-999,9
    09AR9604_1,   UNK,25,1,3,3,2,19960203,1705,-62.992,85.507,3757,3308.1,-0.102,34.671,2,34.674,2,234.3,2,233.3,2,97,7,31.8,2,-999,9,2.21,2,0.917,2,0.418,2,-999,9,-999,9,-999,9
    09AR9604_1,   UNK,25,1,2,2,2,19960203,1705,-62.992,85.507,3757,3612.5,-0.15,34.671,2,34.672,2,236.5,2,235.5,2,99.7,7,31.7,2,-999,9,2.22,2,1.11,2,0.508,2,-999,9,-999,9,-999,9
    09AR9604_1,   UNK,25,1,1,1,2,19960203,1705,-62.992,85.507,3757,3783,-0.176,34.67,2,34.67,2,237.7,2,236.6,2,104.1,7,31.7,2,-999,9,2.24,2,1.277,2,0.576,2,-999,9,-999,9,-999,9
    09AR9604_1,   UNK,26,1,24,24,2,19960205,2137,-63.0107,88.0485,3788,11.5,-0.028,33.93,3,33.932,2,-999,5,342.6,2,37.8,7,25.5,2,-999,9,1.69,2,6.315,2,3.072,2,-999,9,-999,9,-999,9
    09AR9604_1,   UNK,26,1,23,23,2,19960205,2137,-63.0107,88.0485,3788,59.9,-1.436,34.309,2,34.307,2,288,2,297.4,2,55.4,7,29.9,2,-999,9,2.08,2,4.737,2,2.303,2,-999,9,-999,9,-999,9
    09AR9604_1,   UNK,26,1,22,22,2,19960205,2137,-63.0107,88.0485,3788,100.8,-1.109,34.387,2,34.386,2,265.2,2,281.1,2,58.9,7,30.8,2,-999,9,2.15,2,4.229,2,2.031,2,-999,9,-999,9,-999,9
    09AR9604_1,   UNK,26,1,21,21,2,19960205,2137,-63.0107,88.0485,3788,150.9,-0.28,34.466,4,34.462,2,257.6,2,253.4,2,60.5,7,31,2,-999,9,2.15,2,3.267,2,1.549,2,-999,9,-999,9,-999,9
    09AR9604_1,   UNK,26,1,20,20,2,19960205,2137,-63.0107,88.0485,3788,201.3,0.304,34.539,2,34.535,2,247,2,233.2,2,65,7,31.2,2,-999,9,2.2,2,2.488,2,1.167,2,-999,9,-999,9,-999,9
    09AR9604_1,   UNK,26,1,19,119,2,19960205,2137,-63.0107,88.0485,3788,252.1,0.92,34.611,2,34.609,2,219.1,2,212.7,2,67.6,7,31.2,2,-999,9,2.21,2,1.529,2,0.712,2,-999,9,-999,9,-999,9
    09AR9604_1,   UNK,26,1,18,118,2,19960205,2137,-63.0107,88.0485,3788,302.7,1.197,34.652,2,34.651,2,211.3,2,203.8,2,70.3,7,31,2,-999,9,2.2,2,1.089,2,0.501,2,-999,9,-999,9,-999,9
    09AR9604_1,   UNK,26,1,17,17,2,19960205,2137,-63.0107,88.0485,3788,403.1,1.25,34.681,2,34.68,2,199,2,204.7,2,72.5,7,30.7,2,-999,9,2.18,2,0.871,2,0.402,2,-999,9,-999,9,-999,9
    09AR9604_1,   UNK,26,1,16,216,2,19960205,2137,-63.0107,88.0485,3788,503.2,1.259,34.697,2,34.697,2,200.6,2,205.6,2,74.4,7,30.2,2,-999,9,2.15,2,0.708,2,0.327,2,-999,9,-999,9,-999,9
    09AR9604_1,   UNK,26,1,15,215,2,19960205,2137,-63.0107,88.0485,3788,604.5,1.315,34.72,2,34.717,2,200,2,202.8,2,77.5,7,30.5,2,-999,9,2.13,2,0.407,2,0.185,2,-999,9,-999,9,-999,9
    09AR9604_1,   UNK,26,1,14,114,2,19960205,2137,-63.0107,88.0485,3788,703.2,1.26,34.724,2,34.725,2,200.9,2,203.3,2,79.5,7,30,2,-999,9,2.13,2,0.295,2,0.137,2,-999,9,-999,9,-999,9
    09AR9604_1,   UNK,26,1,13,113,2,19960205,2137,-63.0107,88.0485,3788,804.4,1.101,34.716,2,34.715,2,201,2,205.1,2,79.5,7,30.3,2,-999,9,2.14,2,0.364,3,0.158,3,-999,9,-999,9,-999,9
    09AR9604_1,   UNK,26,1,12,112,2,19960205,2137,-63.0107,88.0485,3788,1014.7,0.939,34.714,2,34.713,2,203.8,2,206,2,88.2,7,31,2,-999,9,2.16,2,0.208,6,0.097,6,-999,9,-999,9,-999,9
    09AR9604_1,   UNK,26,1,11,11,2,19960205,2137,-63.0107,88.0485,3788,1206.7,0.773,34.705,2,34.705,2,206.3,2,207.5,2,93.8,7,31.2,2,-999,9,2.16,2,-999,9,-999,9,-999,9,-999,9,-999,9
    09AR9604_1,   UNK,26,1,10,10,2,19960205,2137,-63.0107,88.0485,3788,1406.6,0.619,34.697,2,34.696,2,210,2,209.3,2,97,7,31.5,2,-999,9,2.22,2,0.179,2,0.086,2,-999,9,-999,9,-999,9
    09AR9604_1,   UNK,26,1,9,9,2,19960205,2137,-63.0107,88.0485,3788,1605.7,0.471,34.69,2,34.688,2,213,2,211.5,2,101.3,7,31.9,2,-999,9,2.24,2,-999,9,-999,9,-999,9,-999,9,-999,9
    09AR9604_1,   UNK,26,1,8,8,2,19960205,2137,-63.0107,88.0485,3788,1808.2,0.337,34.684,2,34.683,2,216.6,2,214.6,2,104,7,31.9,2,-999,9,2.25,2,0.207,2,0.102,2,-999,9,-999,9,-999,9
    09AR9604_1,   UNK,26,1,7,7,2,19960205,2137,-63.0107,88.0485,3788,2107.4,0.18,34.678,2,34.677,2,221.3,2,219.9,2,105.7,7,31.8,2,-999,9,2.24,2,-999,9,-999,9,-999,9,-999,9,-999,9
    09AR9604_1,   UNK,26,1,6,6,2,19960205,2137,-63.0107,88.0485,3788,2408.4,0.065,34.675,2,34.675,2,225.1,2,224.8,2,97.4,3,31.8,3,-999,9,2.18,3,0.416,2,0.203,2,-999,9,-999,9,-999,9
    09AR9604_1,   UNK,26,1,5,5,2,19960205,2137,-63.0107,88.0485,3788,2708.2,-0.011,34.672,2,34.673,2,228.9,2,228.5,2,106.2,7,31.6,2,-999,9,2.24,2,0.556,2,0.265,2,-999,9,-999,9,-999,9
    09AR9604_1,   UNK,26,1,4,4,2,19960205,2137,-63.0107,88.0485,3788,3007.5,-0.092,34.67,2,34.67,2,232.3,2,232,2,104,7,31.6,2,-999,9,2.22,2,0.769,2,0.357,2,-999,9,-999,9,-999,9
    09AR9604_1,   UNK,26,1,3,3,2,19960205,2137,-63.0107,88.0485,3788,3307.5,-0.135,34.67,2,34.668,2,234.4,2,234.8,2,103.7,7,31.7,2,-999,9,2.22,2,0.979,2,0.452,2,-999,9,-999,9,-999,9
    09AR9604_1,   UNK,26,1,2,2,2,19960205,2137,-63.0107,88.0485,3788,3615.3,-0.17,34.668,2,34.666,2,236.3,2,236.6,2,103.1,7,31.6,2,-999,9,2.21,2,1.159,2,0.532,2,-999,9,-999,9,-999,9
    09AR9604_1,   UNK,26,1,1,1,2,19960205,2137,-63.0107,88.0485,3788,3800.2,-0.189,34.665,2,34.666,2,235.8,2,236.9,2,108.4,7,26.8,4,-999,9,2.2,2,1.337,2,0.612,2,-999,9,-999,9,-999,9