BOTTLE,2021011SIOJHS,,,,,,,,,,,,,,,,,,,,,,,,,,,,,,,,,,,,,,
EXPOCODE,SECT_ID,STNNBR,CASTNO,SAMPNO,BTLNBR,BTLNBR_FLAG_W,DATE,TIME,LATITUDE,LONGITUDE,DEPTH,CTDPRS,CTDTMP,CTDSAL,CTDSAL_FLAG_W,SALNTY,SALNTY_FLAG_W,CTDOXY,CTDOXY_FLAG_W,OXYGEN,OXYGEN_FLAG_W,SILCAT,SILCAT_FLAG_W,NITRAT,NITRAT_FLAG_W,NITRIT,NITRIT_FLAG_W,PHSPHT,PHSPHT_FLAG_W,CFC-11,CFC-11_FLAG_W,CFC-12,CFC-12_FLAG_W,SF6,SF6_FLAG_W,TCARBN,TCARBN_FLAG_W,ALKALI,ALKALI_FLAG_W
,,,,,,,,,,,,DBAR,DEG C,PSS-78,,PSS-78,,UMOL/KG,,UMOL/KG,,UMOL/KG,,UMOL/KG,,UMOL/KG,,UMOL/KG,,PMOL/KG,,PMOL/KG,,NMOL/KG,,UMOL/KG,,UMOL/KG,
    09AR9604_1,   UNK,115,1,24,24,2,19960307,1026,-63.26,132.0767,4198,9.9,1.463,33.891,2,33.892,2,-999,5,337.4,2,20.7,2,24.5,2,-999,9,1.56,2,-999,9,-999,9,-999,9,-999,9,-999,9
    09AR9604_1,   UNK,115,1,23,23,2,19960307,1026,-63.26,132.0767,4198,29.6,1.456,33.895,2,33.894,2,-999,5,337.7,2,21.2,2,24.7,2,-999,9,1.59,2,-999,9,-999,9,-999,9,-999,9,-999,9
    09AR9604_1,   UNK,115,1,22,22,2,19960307,1026,-63.26,132.0767,4198,50.5,0.725,33.903,4,33.934,2,-999,5,334,2,22.9,2,25.7,2,-999,9,1.73,2,6.162,2,2.962,2,-999,9,-999,9,-999,9
    09AR9604_1,   UNK,115,1,21,21,2,19960307,1026,-63.26,132.0767,4198,99.4,1.177,34.473,3,34.473,2,-999,5,203,2,66.3,2,33.7,2,-999,9,2.4,2,-999,9,-999,9,-999,9,-999,9,-999,9
    09AR9604_1,   UNK,115,1,19,119,2,19960307,1026,-63.26,132.0767,4198,200.3,1.772,34.622,2,34.624,2,-999,5,177.9,2,75.2,2,33.2,2,-999,9,2.36,2,0.71,2,0.329,2,-999,9,-999,9,-999,9
    09AR9604_1,   UNK,115,1,18,118,2,19960307,1026,-63.26,132.0767,4198,301.4,1.798,34.666,2,34.659,2,-999,5,180.6,2,76.7,2,32.3,2,-999,9,2.28,2,-999,9,-999,9,-999,9,-999,9,-999,9
    09AR9604_1,   UNK,115,1,17,17,2,19960307,1026,-63.26,132.0767,4198,404,1.72,34.689,3,34.684,2,-999,5,186.1,2,78.6,2,31.6,2,-999,9,2.22,2,0.508,2,0.227,2,-999,9,-999,9,-999,9
    09AR9604_1,   UNK,115,1,16,216,2,19960307,1026,-63.26,132.0767,4198,504.8,1.761,34.713,2,34.711,2,-999,5,187.2,2,80.5,2,31.6,2,-999,9,2.21,2,-999,9,-999,9,-999,9,-999,9,-999,9
    09AR9604_1,   UNK,115,1,15,215,2,19960307,1026,-63.26,132.0767,4198,605.6,1.698,34.722,2,34.722,2,-999,5,190.4,2,81.6,2,30.7,2,-999,9,2.19,2,0.315,2,0.137,3,-999,9,-999,9,-999,9
    09AR9604_1,   UNK,115,1,14,114,2,19960307,1026,-63.26,132.0767,4198,706.9,1.625,34.726,2,34.727,2,-999,5,192.9,2,82.4,2,30.3,2,-999,9,2.17,2,-999,9,-999,9,-999,9,-999,9,-999,9
    09AR9604_1,   UNK,115,1,13,113,2,19960307,1026,-63.26,132.0767,4198,905.7,1.505,34.736,2,34.738,2,-999,5,196.9,2,86.6,2,30.5,2,-999,9,2.15,2,0.218,2,0.098,2,-999,9,-999,9,-999,9
    09AR9604_1,   UNK,115,1,12,112,2,19960307,1026,-63.26,132.0767,4198,1110.6,1.379,34.736,2,34.731,2,-999,5,199.7,2,90,2,30.2,2,-999,9,2.12,2,0.162,6,0.075,6,-999,9,-999,9,-999,9
    09AR9604_1,   UNK,115,1,11,11,2,19960307,1026,-63.26,132.0767,4198,1306.6,1.22,34.732,2,34.73,2,-999,5,201.8,2,97.5,2,30.5,2,-999,9,2.15,2,-999,9,-999,9,-999,9,-999,9,-999,9
    09AR9604_1,   UNK,115,1,10,10,2,19960307,1026,-63.26,132.0767,4198,1606.6,1.017,34.723,2,34.723,2,-999,5,204,2,105,2,30.7,2,-999,9,2.19,2,-999,9,-999,9,-999,9,-999,9,-999,9
    09AR9604_1,   UNK,115,1,9,9,2,19960307,1026,-63.26,132.0767,4198,1907.6,0.8,34.711,2,34.713,2,-999,5,206.5,2,110.9,2,30.9,2,-999,9,2.22,2,0.099,2,0.046,2,-999,9,-999,9,-999,9
    09AR9604_1,   UNK,115,1,8,8,2,19960307,1026,-63.26,132.0767,4198,2208.2,0.577,34.699,2,34.701,2,-999,5,210,2,115,2,31.2,2,-999,9,2.2,2,-999,9,-999,9,-999,9,-999,9,-999,9
    09AR9604_1,   UNK,115,1,7,7,2,19960307,1026,-63.26,132.0767,4198,2503.9,0.421,34.694,2,34.696,2,-999,5,213.6,2,120.8,2,31.5,2,-999,9,2.23,2,0.154,2,0.069,2,-999,9,-999,9,-999,9
    09AR9604_1,   UNK,115,1,6,6,2,19960307,1026,-63.26,132.0767,4198,2806.1,0.271,34.687,2,34.678,2,-999,5,218.6,2,122.7,2,32,2,-999,9,2.23,2,-999,9,-999,9,-999,9,-999,9,-999,9
    09AR9604_1,   UNK,115,1,5,5,2,19960307,1026,-63.26,132.0767,4198,3108.8,0.142,34.681,2,34.677,2,-999,5,224,2,118.3,2,31.4,2,-999,9,2.22,2,0.577,2,0.274,2,-999,9,-999,9,-999,9
    09AR9604_1,   UNK,115,1,4,4,2,19960307,1026,-63.26,132.0767,4198,3407.9,-0.003,34.672,2,34.673,2,-999,5,230.9,2,108.1,2,31.4,2,-999,9,2.19,2,1.268,2,0.58,2,-999,9,-999,9,-999,9
    09AR9604_1,   UNK,115,1,3,3,2,19960307,1026,-63.26,132.0767,4198,3807.4,-0.11,34.672,2,34.674,2,-999,5,234.9,2,115.9,2,31.1,2,-999,9,2.21,2,1.163,2,0.544,2,-999,9,-999,9,-999,9
    09AR9604_1,   UNK,115,1,2,2,2,19960307,1026,-63.26,132.0767,4198,4111.9,-0.195,34.668,2,34.669,2,-999,5,238.6,2,119.1,2,31.8,2,-999,9,2.21,2,1.707,2,0.773,2,-999,9,-999,9,-999,9
    09AR9604_1,   UNK,115,1,1,1,2,19960307,1026,-63.26,132.0767,4198,4247.9,-0.288,34.656,2,34.656,2,-999,5,245.4,2,104.4,2,31.1,2,-999,9,2.2,2,2.197,2,1.023,2,-999,9,-999,9,-999,9
    09AR9604_1,   UNK,116,1,24,24,2,19960307,1937,-63.2602,133.8938,4208,16.3,1.749,33.849,2,33.843,2,-999,5,330.6,2,16.7,2,26.5,2,-999,9,1.77,2,6.144,2,2.965,2,-999,9,-999,9,-999,9
    09AR9604_1,   UNK,116,1,23,23,2,19960307,1937,-63.2602,133.8938,4208,49.9,1.742,33.852,2,33.848,2,-999,5,330,2,16.5,2,26.3,2,-999,9,1.78,2,6.051,2,2.957,2,-999,9,-999,9,-999,9
    09AR9604_1,   UNK,116,1,22,22,2,19960307,1937,-63.2602,133.8938,4208,101.7,-0.563,34.066,4,34.064,2,-999,5,327.8,2,34.1,2,29.4,2,-999,9,2.14,2,6.159,2,2.96,2,-999,9,-999,9,-999,9
    09AR9604_1,   UNK,116,1,21,21,2,19960307,1937,-63.2602,133.8938,4208,151.9,1.283,34.397,4,34.385,2,-999,5,213.8,2,57.5,2,34,2,-999,9,2.43,2,2.339,2,1.108,2,-999,9,-999,9,-999,9
    09AR9604_1,   UNK,116,1,20,20,2,19960307,1937,-63.2602,133.8938,4208,201.4,1.88,34.527,3,34.526,2,-999,5,180.9,2,65.8,2,34.4,2,-999,9,2.48,2,1.05,2,0.491,2,-999,9,-999,9,-999,9
    09AR9604_1,   UNK,116,1,19,119,2,19960307,1937,-63.2602,133.8938,4208,322.2,2.009,34.624,2,34.626,2,-999,5,175.3,2,71.1,2,34.3,2,-999,9,2.39,2,0.533,2,0.256,2,-999,9,-999,9,-999,9
    09AR9604_1,   UNK,116,1,18,118,2,19960307,1937,-63.2602,133.8938,4208,401.8,1.98,34.664,2,34.657,2,-999,5,177.4,2,73.3,2,33.1,2,-999,9,2.33,2,0.414,2,0.191,2,-999,9,-999,9,-999,9
    09AR9604_1,   UNK,116,1,17,17,2,19960307,1937,-63.2602,133.8938,4208,500.7,1.943,34.693,2,34.692,2,-999,5,181.3,2,75.9,2,32,2,-999,9,2.3,2,0.314,2,0.144,2,-999,9,-999,9,-999,9
    09AR9604_1,   UNK,116,1,16,216,2,19960307,1937,-63.2602,133.8938,4208,604.1,1.83,34.705,2,34.707,2,-999,5,184.4,2,77.6,2,31.8,2,-999,9,2.28,2,0.333,2,0.145,3,-999,9,-999,9,-999,9
    09AR9604_1,   UNK,116,1,15,215,2,19960307,1937,-63.2602,133.8938,4208,701.1,1.822,34.722,2,34.726,2,-999,5,187.4,2,79.3,2,32,2,-999,9,2.24,2,0.247,2,0.112,2,-999,9,-999,9,-999,9
    09AR9604_1,   UNK,116,1,14,114,2,19960307,1937,-63.2602,133.8938,4208,802,1.794,34.736,2,34.74,2,-999,5,191.3,2,78.2,2,30.8,2,-999,9,2.22,2,0.181,2,0.077,3,-999,9,-999,9,-999,9
    09AR9604_1,   UNK,116,1,13,113,2,19960307,1937,-63.2602,133.8938,4208,1001.5,1.64,34.741,2,34.743,2,-999,5,195,2,80.8,2,30.7,2,-999,9,2.18,2,0.152,2,0.07,2,-999,9,-999,9,-999,9
    09AR9604_1,   UNK,116,1,12,112,2,19960307,1937,-63.2602,133.8938,4208,1203.6,1.484,34.742,2,34.74,2,-999,5,198.9,2,86.1,2,30.7,2,-999,9,2.18,2,0.149,2,0.054,3,-999,9,-999,9,-999,9
    09AR9604_1,   UNK,116,1,11,11,2,19960307,1937,-63.2602,133.8938,4208,1503.4,1.228,34.732,2,34.733,2,-999,5,202.1,2,94.2,2,30.9,2,-999,9,2.2,2,0.101,2,0.053,2,-999,9,-999,9,-999,9
    09AR9604_1,   UNK,116,1,10,10,2,19960307,1937,-63.2602,133.8938,4208,1803.8,0.998,34.72,2,34.725,2,-999,5,204.6,2,97.2,2,31.8,2,-999,9,2.24,2,0.08,2,0.037,2,-999,9,-999,9,-999,9
    09AR9604_1,   UNK,116,1,9,9,2,19960307,1937,-63.2602,133.8938,4208,2105.6,0.764,34.708,2,34.713,2,-999,5,206.9,2,106.3,2,31.8,2,-999,9,2.27,2,0.088,2,0.047,2,-999,9,-999,9,-999,9
    09AR9604_1,   UNK,116,1,8,8,2,19960307,1937,-63.2602,133.8938,4208,2407.8,0.547,34.699,2,34.702,2,-999,5,210.6,2,110.9,2,32.8,2,-999,9,2.3,2,0.119,2,0.054,2,-999,9,-999,9,-999,9
    09AR9604_1,   UNK,116,1,7,7,2,19960307,1937,-63.2602,133.8938,4208,2706.8,0.369,34.691,2,34.694,2,-999,5,215.7,2,112.1,2,32.4,2,-999,9,2.31,2,0.164,2,0.085,2,-999,9,-999,9,-999,9
    09AR9604_1,   UNK,116,1,6,6,2,19960307,1937,-63.2602,133.8938,4208,3007.2,0.225,34.686,2,34.684,2,-999,5,220.3,2,116.3,2,32.7,2,-999,9,2.31,2,0.238,2,0.113,2,-999,9,-999,9,-999,9
    09AR9604_1,   UNK,116,1,5,5,2,19960307,1937,-63.2602,133.8938,4208,3307.2,0.118,34.684,2,34.684,2,-999,5,224.4,2,116.3,2,32.2,2,-999,9,2.32,2,0.317,2,0.155,2,-999,9,-999,9,-999,9
    09AR9604_1,   UNK,116,1,4,4,2,19960307,1937,-63.2602,133.8938,4208,3608.8,0.024,34.68,2,34.682,2,-999,5,228.6,2,117.9,2,32.2,2,-999,9,2.31,2,0.471,2,0.219,2,-999,9,-999,9,-999,9
    09AR9604_1,   UNK,116,1,3,3,2,19960307,1937,-63.2602,133.8938,4208,3908.9,-0.065,34.677,2,34.679,2,-999,5,233,2,114,2,32.2,2,-999,9,2.31,2,0.802,2,0.373,2,-999,9,-999,9,-999,9
    09AR9604_1,   UNK,116,1,2,2,2,19960307,1937,-63.2602,133.8938,4208,4218,-0.167,34.67,2,34.673,2,-999,5,236.6,2,122.2,2,32.2,2,-999,9,2.28,2,1.516,2,0.713,2,-999,9,-999,9,-999,9
    09AR9604_1,   UNK,116,1,1,1,2,19960307,1937,-63.2602,133.8938,4208,4263.7,-0.283,34.655,2,34.659,2,-999,5,245.8,2,100.9,2,31.8,2,-999,9,2.27,2,2.171,2,1.017,2,-999,9,-999,9,-999,9
    09AR9604_1,   UNK,117,1,24,24,2,19960312,10,-63.2528,136.4607,3993,11,1.43,33.843,2,33.84,2,-999,5,331.6,2,17.1,2,26.6,2,-999,9,1.78,2,6.499,2,2.992,2,-999,9,-999,9,-999,9
    09AR9604_1,   UNK,117,1,23,23,2,19960312,10,-63.2528,136.4607,3993,51.4,1.362,33.851,3,33.848,2,-999,5,332.3,2,17.5,2,26.1,2,-999,9,1.83,2,6.547,2,2.999,2,-999,9,-999,9,-999,9
    09AR9604_1,   UNK,117,1,22,22,2,19960312,10,-63.2528,136.4607,3993,100.9,-0.328,34.149,4,34.144,2,-999,5,291.7,2,43.1,2,31.4,2,-999,9,2.26,2,5.174,2,2.407,2,-999,9,-999,9,-999,9
    09AR9604_1,   UNK,117,1,21,21,2,19960312,10,-63.2528,136.4607,3993,176.3,1.816,34.54,2,34.539,2,-999,5,179.9,2,66.2,2,34.8,2,-999,9,2.48,2,1.034,2,0.499,2,-999,9,-999,9,-999,9
    09AR9604_1,   UNK,117,1,20,20,2,19960312,10,-63.2528,136.4607,3993,251.2,1.95,34.616,2,34.615,2,-999,5,174,2,70.9,2,34.3,2,-999,9,2.43,2,0.606,2,0.279,2,-999,9,-999,9,-999,9
    09AR9604_1,   UNK,117,1,19,119,2,19960312,10,-63.2528,136.4607,3993,304.6,1.957,34.645,2,34.642,2,-999,5,175.1,2,72.3,2,33.1,2,-999,9,2.38,2,0.498,2,0.239,2,-999,9,-999,9,-999,9
    09AR9604_1,   UNK,117,1,18,118,2,19960312,10,-63.2528,136.4607,3993,399.4,1.925,34.683,2,34.681,2,-999,5,178.8,2,70.7,2,32.9,2,-999,9,2.31,2,0.36,2,0.166,2,-999,9,-999,9,-999,9
    09AR9604_1,   UNK,117,1,17,17,2,19960312,10,-63.2528,136.4607,3993,502.1,1.901,34.71,2,34.708,2,-999,5,183.4,2,73.8,2,32.4,2,-999,9,2.27,2,0.281,2,0.129,2,-999,9,-999,9,-999,9
    09AR9604_1,   UNK,117,1,16,216,2,19960312,10,-63.2528,136.4607,3993,601.3,1.843,34.722,2,34.722,2,-999,5,186.7,2,73.7,2,31.6,2,-999,9,2.24,2,0.249,2,0.116,2,-999,9,-999,9,-999,9
    09AR9604_1,   UNK,117,1,15,215,2,19960312,10,-63.2528,136.4607,3993,703.2,1.795,34.734,2,34.736,2,-999,5,190.3,2,76.5,2,31.4,2,-999,9,2.22,2,0.194,2,0.088,2,-999,9,-999,9,-999,9
    09AR9604_1,   UNK,117,1,14,114,2,19960312,10,-63.2528,136.4607,3993,801.3,1.725,34.74,2,34.742,2,-999,5,192.9,2,78.7,2,31.2,2,-999,9,2.21,2,0.161,2,0.079,2,-999,9,-999,9,-999,9
    09AR9604_1,   UNK,117,1,13,113,2,19960312,10,-63.2528,136.4607,3993,902.4,1.657,34.743,2,34.744,2,-999,5,195.4,2,80.1,2,31,2,-999,9,2.21,2,0.133,2,0.062,2,-999,9,-999,9,-999,9
    09AR9604_1,   UNK,117,1,12,112,2,19960312,10,-63.2528,136.4607,3993,1108.7,1.496,34.744,2,34.745,2,-999,5,198.2,2,85.2,2,30.6,2,-999,9,2.14,2,0.104,2,0.05,2,-999,9,-999,9,-999,9
    09AR9604_1,   UNK,117,1,11,11,2,19960312,10,-63.2528,136.4607,3993,1306.1,1.306,34.738,2,34.739,2,-999,5,200.8,2,90.1,2,30.7,2,-999,9,2.17,2,0.096,2,0.047,2,-999,9,-999,9,-999,9
    09AR9604_1,   UNK,117,1,10,10,2,19960312,10,-63.2528,136.4607,3993,1603.6,1.059,34.727,2,34.728,2,-999,5,203.6,2,94.3,2,30.6,2,-999,9,2.22,2,0.087,2,0.039,2,-999,9,-999,9,-999,9
    09AR9604_1,   UNK,117,1,9,9,2,19960312,10,-63.2528,136.4607,3993,1906.3,0.818,34.712,2,34.715,2,-999,5,206.6,2,99.1,2,31.7,2,-999,9,2.25,2,0.09,2,0.041,2,-999,9,-999,9,-999,9
    09AR9604_1,   UNK,117,1,8,8,2,19960312,10,-63.2528,136.4607,3993,2204.9,0.596,34.703,2,34.705,2,-999,5,209.7,2,106.1,2,31.6,2,-999,9,2.24,2,0.101,2,0.053,2,-999,9,-999,9,-999,9
    09AR9604_1,   UNK,117,1,7,7,2,19960312,10,-63.2528,136.4607,3993,2504.3,0.394,34.694,2,34.695,2,-999,5,214.6,2,107.2,2,32.1,2,-999,9,2.28,2,0.141,2,0.068,2,-999,9,-999,9,-999,9
    09AR9604_1,   UNK,117,1,6,6,2,19960312,10,-63.2528,136.4607,3993,2807.6,0.235,34.689,2,34.689,2,-999,5,219.4,2,106.5,2,31.7,2,-999,9,2.27,2,0.199,2,0.103,2,-999,9,-999,9,-999,9
    09AR9604_1,   UNK,117,1,5,5,2,19960312,10,-63.2528,136.4607,3993,3107.9,0.106,34.683,2,34.683,2,-999,5,224.7,2,110.8,2,31.6,2,-999,9,2.24,2,0.446,2,0.217,2,-999,9,-999,9,-999,9
    09AR9604_1,   UNK,117,1,4,4,2,19960312,10,-63.2528,136.4607,3993,3412.8,-0.023,34.678,2,34.678,2,-999,5,230.8,2,103.1,2,31.3,2,-999,9,2.27,2,0.954,2,0.454,2,-999,9,-999,9,-999,9
    09AR9604_1,   UNK,117,1,3,3,2,19960312,10,-63.2528,136.4607,3993,3706.2,-0.14,34.674,2,34.674,2,-999,5,237.2,2,94,2,31.1,2,-999,9,2.22,2,1.777,2,0.829,2,-999,9,-999,9,-999,9
    09AR9604_1,   UNK,117,1,2,2,2,19960312,10,-63.2528,136.4607,3993,3944.2,-0.214,34.667,2,34.668,2,-999,5,241.9,2,89.8,2,31.1,2,-999,9,2.23,2,2.075,2,0.973,2,-999,9,-999,9,-999,9
    09AR9604_1,   UNK,117,1,1,1,2,19960312,10,-63.2528,136.4607,3993,4036.6,-0.206,34.671,4,34.672,2,-999,5,241.8,2,91.2,2,31.5,2,-999,9,2.24,2,2.055,2,0.954,2,-999,9,-999,9,-999,9
    09AR9604_1,   UNK,118,1,24,24,2,19960312,909,-63.3722,138.1405,3880,10.8,0.979,33.865,2,33.871,2,-999,5,334,2,21.9,2,26.2,2,-999,9,1.8,2,-999,9,-999,9,-999,9,-999,9,-999,9
    09AR9604_1,   UNK,118,1,23,23,2,19960312,909,-63.3722,138.1405,3880,45.2,0.949,33.866,2,33.866,2,-999,5,334.1,2,21.9,2,25.9,2,-999,9,1.8,2,-999,9,-999,9,-999,9,-999,9,-999,9
    09AR9604_1,   UNK,118,1,22,22,2,19960312,909,-63.3722,138.1405,3880,100.2,1.437,34.463,4,34.467,2,-999,5,195,2,58.8,2,34.4,2,-999,9,2.42,2,-999,9,-999,9,-999,9,-999,9,-999,9
    09AR9604_1,   UNK,118,1,21,21,2,19960312,909,-63.3722,138.1405,3880,151.5,1.874,34.566,3,34.564,2,-999,5,176.4,2,65,2,34,2,-999,9,2.41,2,-999,9,-999,9,-999,9,-999,9,-999,9
    09AR9604_1,   UNK,118,1,20,20,2,19960312,909,-63.3722,138.1405,3880,201.9,1.986,34.611,2,34.611,2,-999,5,175.1,2,65.4,2,33.4,2,-999,9,2.34,2,-999,9,-999,9,-999,9,-999,9,-999,9
    09AR9604_1,   UNK,118,1,19,119,2,19960312,909,-63.3722,138.1405,3880,300.5,1.942,34.66,2,34.656,2,-999,5,176.7,2,63.7,2,32.5,2,-999,9,2.31,2,-999,9,-999,9,-999,9,-999,9,-999,9
    09AR9604_1,   UNK,118,1,18,118,2,19960312,909,-63.3722,138.1405,3880,402,1.901,34.693,2,34.694,2,-999,5,181.3,2,64.3,2,31.8,2,-999,9,2.26,2,-999,9,-999,9,-999,9,-999,9,-999,9
    09AR9604_1,   UNK,118,1,17,17,2,19960312,909,-63.3722,138.1405,3880,503.6,1.874,34.712,2,34.711,2,-999,5,184.6,2,71.8,2,31.9,2,-999,9,2.22,2,0.291,2,0.135,2,-999,9,-999,9,-999,9
    09AR9604_1,   UNK,118,1,16,216,2,19960312,909,-63.3722,138.1405,3880,601.8,1.818,34.727,2,34.727,2,-999,5,188.3,2,74.6,2,30.8,2,-999,9,2.18,2,-999,9,-999,9,-999,9,-999,9,-999,9
    09AR9604_1,   UNK,118,1,15,215,2,19960312,909,-63.3722,138.1405,3880,702.3,1.791,34.739,2,34.74,2,-999,5,191.9,2,77.7,2,30.2,2,-999,9,2.14,2,0.168,2,0.076,2,-999,9,-999,9,-999,9
    09AR9604_1,   UNK,118,1,14,114,2,19960312,909,-63.3722,138.1405,3880,902.8,1.641,34.748,2,34.746,2,-999,5,196.2,2,75.6,2,29.9,2,-999,9,2.13,2,-999,9,-999,9,-999,9,-999,9,-999,9
    09AR9604_1,   UNK,118,1,13,113,2,19960312,909,-63.3722,138.1405,3880,1002,1.567,34.747,2,34.744,2,-999,5,197.5,2,78.6,2,30.2,2,-999,9,2.13,2,0.114,2,0.048,2,-999,9,-999,9,-999,9
    09AR9604_1,   UNK,118,1,12,112,2,19960312,909,-63.3722,138.1405,3880,1201.4,1.383,34.74,2,34.744,2,-999,5,200.2,2,85.3,2,30.1,2,-999,9,2.15,2,-999,9,-999,9,-999,9,-999,9,-999,9
    09AR9604_1,   UNK,118,1,11,11,2,19960312,909,-63.3722,138.1405,3880,1401.9,1.199,34.733,2,34.735,2,-999,5,202.4,2,92,2,30.8,2,-999,9,2.16,2,0.101,2,0.049,2,-999,9,-999,9,-999,9
    09AR9604_1,   UNK,118,1,10,10,2,19960312,909,-63.3722,138.1405,3880,1604.2,1.019,34.725,2,34.725,2,-999,5,204.2,2,99.2,2,30.6,2,-999,9,2.17,2,-999,9,-999,9,-999,9,-999,9,-999,9
    09AR9604_1,   UNK,118,1,9,9,2,19960312,909,-63.3722,138.1405,3880,1804.4,0.851,34.716,2,34.717,2,-999,5,205.6,2,99,2,31.2,2,-999,9,2.2,2,0.084,2,0.038,2,-999,9,-999,9,-999,9
    09AR9604_1,   UNK,118,1,8,8,2,19960312,909,-63.3722,138.1405,3880,2104.4,0.621,34.705,2,34.704,2,-999,5,209,2,105.5,2,31.9,2,-999,9,2.25,2,-999,9,-999,9,-999,9,-999,9,-999,9
    09AR9604_1,   UNK,118,1,7,7,2,19960312,909,-63.3722,138.1405,3880,2405.1,0.423,34.696,2,34.693,2,-999,5,213.4,2,110.9,2,31.5,2,-999,9,2.26,2,0.143,2,0.069,2,-999,9,-999,9,-999,9
    09AR9604_1,   UNK,118,1,6,6,2,19960312,909,-63.3722,138.1405,3880,2706.9,0.259,34.691,2,34.69,2,-999,5,218.7,2,108.7,2,31.7,2,-999,9,2.26,2,0.208,2,0.102,2,-999,9,-999,9,-999,9
    09AR9604_1,   UNK,118,1,5,5,4,19960312,909,-63.3722,138.1405,3880,3006.3,0.098,34.681,2,-999,9,-999,5,-999,9,103.3,3,31.4,3,-999,9,2.24,3,-999,9,-999,9,-999,9,-999,9,-999,9
    09AR9604_1,   UNK,118,1,4,4,2,19960312,909,-63.3722,138.1405,3880,3306.6,-0.004,34.679,2,34.682,2,-999,5,229.5,2,107.7,2,31.7,2,-999,9,2.24,2,0.9,2,0.423,2,-999,9,-999,9,-999,9
    09AR9604_1,   UNK,118,1,3,3,2,19960312,909,-63.3722,138.1405,3880,3607.4,-0.134,34.676,2,34.674,2,-999,5,235.4,2,105.5,2,31.1,2,-999,9,2.24,2,1.253,2,0.588,2,-999,9,-999,9,-999,9
    09AR9604_1,   UNK,118,1,2,2,2,19960312,909,-63.3722,138.1405,3880,3812.6,-0.258,34.664,2,34.664,2,-999,5,241.3,2,99.2,2,31.7,2,-999,9,2.23,2,1.894,2,0.882,2,-999,9,-999,9,-999,9
    09AR9604_1,   UNK,118,1,1,1,2,19960312,909,-63.3722,138.1405,3880,3909.5,-0.335,34.658,2,34.655,2,-999,5,246.6,2,92.4,2,31.1,2,-999,9,2.21,2,2.319,6,1.078,6,-999,9,-999,9,-999,9