BOTTLE,2021011SIOJHS,,,,,,,,,,,,,,,,,,,,,,,,,,,,,,,,,,,,,,
EXPOCODE,SECT_ID,STNNBR,CASTNO,SAMPNO,BTLNBR,BTLNBR_FLAG_W,DATE,TIME,LATITUDE,LONGITUDE,DEPTH,CTDPRS,CTDTMP,CTDSAL,CTDSAL_FLAG_W,SALNTY,SALNTY_FLAG_W,CTDOXY,CTDOXY_FLAG_W,OXYGEN,OXYGEN_FLAG_W,SILCAT,SILCAT_FLAG_W,NITRAT,NITRAT_FLAG_W,NITRIT,NITRIT_FLAG_W,PHSPHT,PHSPHT_FLAG_W,CFC-11,CFC-11_FLAG_W,CFC-12,CFC-12_FLAG_W,SF6,SF6_FLAG_W,TCARBN,TCARBN_FLAG_W,ALKALI,ALKALI_FLAG_W
,,,,,,,,,,,,DBAR,DEG C,PSS-78,,PSS-78,,UMOL/KG,,UMOL/KG,,UMOL/KG,,UMOL/KG,,UMOL/KG,,UMOL/KG,,PMOL/KG,,PMOL/KG,,NMOL/KG,,UMOL/KG,,UMOL/KG,
    09AR9604_1,   UNK,135,1,24,24,2,19960320,15,-63.498,148.1642,3839,10.1,0.782,33.823,2,33.824,2,-999,5,337.4,2,31,2,26.7,2,-999,9,1.71,2,5.925,2,2.999,2,-999,9,-999,9,-999,9
    09AR9604_1,   UNK,135,1,22,22,2,19960320,15,-63.498,148.1642,3839,101.9,1.042,34.513,4,34.515,2,-999,5,215.2,2,66.2,2,34,2,-999,9,2.3,2,-999,9,-999,9,-999,9,-999,9,-999,9
    09AR9604_1,   UNK,135,1,21,21,2,19960320,15,-63.498,148.1642,3839,151.8,1.678,34.613,2,34.612,2,-999,5,179.3,2,74.9,2,35.8,3,-999,9,2.4,2,-999,9,-999,9,-999,9,-999,9,-999,9
    09AR9604_1,   UNK,135,1,20,20,2,19960320,15,-63.498,148.1642,3839,201.1,1.808,34.652,2,34.65,2,-999,5,176.9,2,77.1,2,33.6,2,-999,9,2.34,2,-999,9,-999,9,-999,9,-999,9,-999,9
    09AR9604_1,   UNK,135,1,19,119,2,19960320,15,-63.498,148.1642,3839,252.5,1.708,34.663,3,34.656,2,-999,5,182.2,2,77.5,2,32.9,2,-999,9,2.3,2,0.634,2,0.295,2,-999,9,-999,9,-999,9
    09AR9604_1,   UNK,135,1,18,118,2,19960320,15,-63.498,148.1642,3839,302.3,1.829,34.691,2,34.694,2,-999,5,180.2,2,79.2,2,32.9,2,-999,9,2.28,2,-999,9,-999,9,-999,9,-999,9,-999,9
    09AR9604_1,   UNK,135,1,17,17,2,19960320,15,-63.498,148.1642,3839,403.2,1.824,34.713,2,34.715,2,-999,5,183.6,2,80.1,2,32.3,2,-999,9,2.22,2,0.304,6,0.131,6,-999,9,-999,9,-999,9
    09AR9604_1,   UNK,135,1,16,216,2,19960320,15,-63.498,148.1642,3839,502.2,1.779,34.727,2,34.728,2,-999,5,187.2,2,81.2,2,32.2,2,-999,9,2.18,2,-999,9,-999,9,-999,9,-999,9,-999,9
    09AR9604_1,   UNK,135,1,15,215,2,19960320,15,-63.498,148.1642,3839,602.8,1.726,34.735,2,34.734,2,-999,5,189.9,2,83.3,2,32.2,2,-999,9,2.2,2,0.216,2,0.106,2,-999,9,-999,9,-999,9
    09AR9604_1,   UNK,135,1,14,114,2,19960320,15,-63.498,148.1642,3839,701.9,1.661,34.738,2,34.736,2,-999,5,193.1,2,85.5,2,31.4,2,-999,9,2.17,2,-999,9,-999,9,-999,9,-999,9,-999,9
    09AR9604_1,   UNK,135,1,13,113,2,19960320,15,-63.498,148.1642,3839,854,1.544,34.743,2,34.737,2,-999,5,195.7,2,87.8,2,31.2,2,-999,9,2.17,2,0.153,2,0.074,2,-999,9,-999,9,-999,9
    09AR9604_1,   UNK,135,1,12,112,2,19960320,15,-63.498,148.1642,3839,1002,1.435,34.741,2,34.746,2,-999,5,198.6,2,89.6,2,31.2,2,-999,9,2.13,2,-999,9,-999,9,-999,9,-999,9,-999,9
    09AR9604_1,   UNK,135,1,11,11,2,19960320,15,-63.498,148.1642,3839,1202.4,1.278,34.736,2,34.739,2,-999,5,200.8,2,94.1,2,31.7,2,-999,9,2.16,2,0.129,2,0.06,2,-999,9,-999,9,-999,9
    09AR9604_1,   UNK,135,1,10,10,2,19960320,15,-63.498,148.1642,3839,1403.1,1.126,34.73,2,34.732,2,-999,5,202.6,2,98.5,2,31.5,2,-999,9,2.17,2,-999,9,-999,9,-999,9,-999,9,-999,9
    09AR9604_1,   UNK,135,1,9,9,2,19960320,15,-63.498,148.1642,3839,1704.1,0.906,34.719,2,34.719,2,-999,5,204.9,2,104.6,2,32.3,2,-999,9,2.2,2,0.104,2,0.059,3,-999,9,-999,9,-999,9
    09AR9604_1,   UNK,135,1,8,8,2,19960320,15,-63.498,148.1642,3839,2006.5,0.695,34.708,2,34.707,2,-999,5,207.8,2,110.6,2,32.6,2,-999,9,2.23,2,-999,9,-999,9,-999,9,-999,9,-999,9
    09AR9604_1,   UNK,135,1,7,7,2,19960320,15,-63.498,148.1642,3839,2306,0.492,34.699,2,34.694,2,-999,5,211.9,2,115.8,2,33.2,2,-999,9,2.26,2,0.155,2,0.072,2,-999,9,-999,9,-999,9
    09AR9604_1,   UNK,135,1,6,6,2,19960320,15,-63.498,148.1642,3839,2607.6,0.326,34.692,2,34.696,2,-999,5,216.6,2,117.7,2,32.8,2,-999,9,2.24,2,-999,9,-999,9,-999,9,-999,9,-999,9
    09AR9604_1,   UNK,135,1,5,5,2,19960320,15,-63.498,148.1642,3839,2906,0.196,34.688,2,34.691,2,-999,5,220.9,2,119.4,2,32.8,2,-999,9,2.24,2,0.424,2,0.206,2,-999,9,-999,9,-999,9
    09AR9604_1,   UNK,135,1,4,4,2,19960320,15,-63.498,148.1642,3839,3206.6,0.084,34.687,2,34.688,2,-999,5,225.6,2,110.4,2,32.5,2,-999,9,2.23,2,0.827,2,0.386,2,-999,9,-999,9,-999,9
    09AR9604_1,   UNK,135,1,3,3,2,19960320,15,-63.498,148.1642,3839,3506.9,-0.018,34.686,2,34.687,2,-999,5,230.3,2,109.5,2,32.6,2,-999,9,2.24,2,1.106,2,0.524,2,-999,9,-999,9,-999,9
    09AR9604_1,   UNK,135,1,2,2,2,19960320,15,-63.498,148.1642,3839,3757.7,-0.071,34.693,2,34.693,2,-999,5,232.8,2,102.8,2,32.4,2,-999,9,2.23,2,1.624,2,0.769,2,-999,9,-999,9,-999,9
    09AR9604_1,   UNK,135,1,1,1,2,19960320,15,-63.498,148.1642,3839,3868.9,-0.098,34.701,3,34.698,2,-999,5,234.3,2,100.4,2,32.8,2,-999,9,2.23,2,1.904,2,0.91,2,-999,9,-999,9,-999,9
    09AR9604_1,   UNK,137,1,24,24,2,19960320,902,-63.5075,149.9985,3737,9.9,1.009,33.84,4,33.872,2,-999,5,335.2,2,29.9,2,26.3,2,-999,9,1.71,2,6.038,2,2.962,2,-999,9,-999,9,-999,9
    09AR9604_1,   UNK,137,1,23,23,2,19960320,902,-63.5075,149.9985,3737,24.4,0.962,33.866,4,33.883,2,-999,5,335.6,2,29.4,2,26.8,2,-999,9,1.7,2,5.904,2,2.937,2,-999,9,-999,9,-999,9
    09AR9604_1,   UNK,137,1,22,22,2,19960320,902,-63.5075,149.9985,3737,50.9,0.905,33.873,4,33.891,2,-999,5,334.9,2,30.7,2,26.4,2,-999,9,1.73,2,5.979,2,2.954,2,-999,9,-999,9,-999,9
    09AR9604_1,   UNK,137,1,21,21,2,19960320,902,-63.5075,149.9985,3737,101,1.211,34.489,4,34.503,2,-999,5,199.2,2,68.2,2,34.1,2,-999,9,2.39,2,1.717,2,0.834,2,-999,9,-999,9,-999,9
    09AR9604_1,   UNK,137,1,20,20,2,19960320,902,-63.5075,149.9985,3737,150.9,1.825,34.597,4,34.619,2,-999,5,175.1,2,75.7,2,34.2,2,-999,9,2.37,2,0.715,2,0.327,2,-999,9,-999,9,-999,9
    09AR9604_1,   UNK,137,1,19,119,2,19960320,902,-63.5075,149.9985,3737,200.8,1.839,34.625,4,34.65,2,-999,5,175.4,2,74.5,2,33.9,2,-999,9,2.34,2,0.573,2,0.27,2,-999,9,-999,9,-999,9
    09AR9604_1,   UNK,137,1,18,118,2,19960320,902,-63.5075,149.9985,3737,301.1,1.887,34.66,4,34.681,2,-999,5,178.7,2,78.5,2,33.2,2,-999,9,2.24,2,0.397,2,0.182,2,-999,9,-999,9,-999,9
    09AR9604_1,   UNK,137,1,17,17,2,19960320,902,-63.5075,149.9985,3737,401.5,1.872,34.678,4,34.711,2,-999,5,183.2,2,78.6,2,31.8,2,-999,9,2.21,2,0.286,2,0.129,2,-999,9,-999,9,-999,9
    09AR9604_1,   UNK,137,1,16,216,2,19960320,902,-63.5075,149.9985,3737,502,1.765,34.722,2,34.721,2,-999,5,187.1,2,81,2,31.4,2,-999,9,2.19,2,0.328,2,0.147,2,-999,9,-999,9,-999,9
    09AR9604_1,   UNK,137,1,15,215,2,19960320,902,-63.5075,149.9985,3737,603.7,1.749,34.735,2,34.736,2,-999,5,189.3,2,82.9,2,31.4,2,-999,9,2.18,2,0.243,2,0.105,2,-999,9,-999,9,-999,9
    09AR9604_1,   UNK,137,1,14,114,2,19960320,902,-63.5075,149.9985,3737,702.9,1.682,34.742,2,34.743,2,-999,5,192.4,2,85.3,2,30.7,2,-999,9,2.15,2,0.212,2,0.096,2,-999,9,-999,9,-999,9
    09AR9604_1,   UNK,137,1,13,113,2,19960320,902,-63.5075,149.9985,3737,900.9,1.533,34.749,2,34.751,2,-999,5,196.7,2,89,2,30.9,2,-999,9,2.13,2,0.14,2,0.059,3,-999,9,-999,9,-999,9
    09AR9604_1,   UNK,137,1,12,112,2,19960320,902,-63.5075,149.9985,3737,1103.8,1.356,34.744,2,34.734,4,-999,5,199.8,2,92.9,2,30.9,2,-999,9,2.13,2,0.116,2,0.056,2,-999,9,-999,9,-999,9
    09AR9604_1,   UNK,137,1,11,11,2,19960320,902,-63.5075,149.9985,3737,1303.8,1.187,34.739,2,34.734,2,-999,5,202,2,98.2,2,31.6,2,-999,9,2.17,2,0.101,2,0.044,2,-999,9,-999,9,-999,9
    09AR9604_1,   UNK,137,1,10,10,2,19960320,902,-63.5075,149.9985,3737,1502.8,1.018,34.73,2,34.729,2,-999,5,203.9,2,101.1,2,31.8,2,-999,9,2.18,2,0.103,2,0.045,2,-999,9,-999,9,-999,9
    09AR9604_1,   UNK,137,1,9,9,2,19960320,902,-63.5075,149.9985,3737,1703.2,0.879,34.723,2,34.725,2,-999,5,205.6,2,106.1,2,31.2,2,-999,9,2.18,2,0.084,2,0.032,3,-999,9,-999,9,-999,9
    09AR9604_1,   UNK,137,1,8,8,2,19960320,902,-63.5075,149.9985,3737,1903,0.73,34.715,2,34.718,2,-999,5,207.4,2,111.4,2,32,2,-999,9,2.21,2,0.1,2,0.048,2,-999,9,-999,9,-999,9
    09AR9604_1,   UNK,137,1,7,7,2,19960320,902,-63.5075,149.9985,3737,2204.8,0.516,34.706,2,34.708,2,-999,5,211.4,2,115.8,2,32,2,-999,9,2.2,2,0.054,2,0.024,2,-999,9,-999,9,-999,9
    09AR9604_1,   UNK,137,1,6,6,2,19960320,902,-63.5075,149.9985,3737,2504.9,0.34,34.698,2,34.685,2,-999,5,215.9,2,116,2,32,2,-999,9,2.23,2,0.183,2,0.087,2,-999,9,-999,9,-999,9
    09AR9604_1,   UNK,137,1,5,5,2,19960320,902,-63.5075,149.9985,3737,2804.9,0.201,34.694,2,34.687,2,-999,5,220.8,2,120.1,2,31.8,2,-999,9,2.23,2,0.314,2,0.149,2,-999,9,-999,9,-999,9
    09AR9604_1,   UNK,137,1,4,4,2,19960320,902,-63.5075,149.9985,3737,3107.7,0.083,34.691,2,34.687,2,-999,5,225,2,119.3,2,32.1,2,-999,9,2.24,2,0.509,2,0.239,2,-999,9,-999,9,-999,9
    09AR9604_1,   UNK,137,1,3,3,2,19960320,902,-63.5075,149.9985,3737,3405.8,-0.008,34.689,2,34.69,2,-999,5,229.6,2,112.7,2,31.7,2,-999,9,2.22,2,0.99,2,0.461,2,-999,9,-999,9,-999,9
    09AR9604_1,   UNK,137,1,2,2,2,19960320,902,-63.5075,149.9985,3737,3707.4,-0.102,34.69,2,34.692,2,-999,5,233.4,2,108.3,2,31.4,2,-999,9,2.21,2,1.483,2,0.698,2,-999,9,-999,9,-999,9
    09AR9604_1,   UNK,137,1,1,1,2,19960320,902,-63.5075,149.9985,3737,3758.8,-0.111,34.696,2,34.699,2,-999,5,233.9,2,104.9,2,32,2,-999,9,2.2,2,1.723,2,0.812,2,-999,9,-999,9,-999,9
    09AR9604_1,   UNK,138,1,24,24,2,19960320,1634,-63.896,150.0007,3675,11.1,0.758,33.727,3,33.72,2,-999,5,340.5,2,36.1,2,26.8,2,-999,9,1.72,2,6.06,2,3.008,2,-999,9,-999,9,-999,9
    09AR9604_1,   UNK,138,1,23,23,2,19960320,1634,-63.896,150.0007,3675,35.7,0.686,33.756,2,33.754,2,-999,5,339.4,2,36.1,2,27,2,-999,9,1.75,2,-999,9,-999,9,-999,9,-999,9,-999,9
    09AR9604_1,   UNK,138,1,22,22,2,19960320,1634,-63.896,150.0007,3675,70.7,0.54,34.446,3,34.444,2,-999,5,243.2,2,61.5,2,31.8,2,-999,9,2.23,2,2.577,2,1.245,2,-999,9,-999,9,-999,9
    09AR9604_1,   UNK,138,1,21,21,2,19960320,1634,-63.896,150.0007,3675,101.4,1.554,34.599,4,34.595,2,-999,5,187.9,2,73.5,2,33,2,-999,9,2.36,2,-999,9,-999,9,-999,9,-999,9,-999,9
    09AR9604_1,   UNK,138,1,20,20,2,19960320,1634,-63.896,150.0007,3675,152,1.821,34.652,2,34.651,2,-999,5,175.3,2,77.1,2,33.2,2,-999,9,2.36,2,0.568,2,0.254,2,-999,9,-999,9,-999,9
    09AR9604_1,   UNK,138,1,19,119,2,19960320,1634,-63.896,150.0007,3675,201.4,1.851,34.677,2,34.676,2,-999,5,177,2,78.8,2,32.8,2,-999,9,2.29,2,-999,9,-999,9,-999,9,-999,9,-999,9
    09AR9604_1,   UNK,138,1,18,118,2,19960320,1634,-63.896,150.0007,3675,302.7,1.837,34.703,2,34.708,2,-999,5,181.3,2,80.6,2,32.1,2,-999,9,2.25,2,0.349,2,0.156,2,-999,9,-999,9,-999,9
    09AR9604_1,   UNK,138,1,17,17,2,19960320,1634,-63.896,150.0007,3675,401.3,1.792,34.721,2,34.724,2,-999,5,185.1,2,81.7,2,31.6,2,-999,9,2.21,2,-999,9,-999,9,-999,9,-999,9,-999,9
    09AR9604_1,   UNK,138,1,16,216,2,19960320,1634,-63.896,150.0007,3675,501.6,1.752,34.732,2,34.734,2,-999,5,188.3,2,82,2,31.6,2,-999,9,2.2,2,0.241,2,0.109,2,-999,9,-999,9,-999,9
    09AR9604_1,   UNK,138,1,15,215,2,19960320,1634,-63.896,150.0007,3675,602.3,1.687,34.739,2,34.742,2,-999,5,191.4,2,84.8,2,31,2,-999,9,2.14,2,-999,9,-999,9,-999,9,-999,9,-999,9
    09AR9604_1,   UNK,138,1,14,114,2,19960320,1634,-63.896,150.0007,3675,702.3,1.629,34.745,2,34.746,2,-999,5,193.7,2,89,2,30.8,2,-999,9,2.16,2,0.169,2,0.076,2,-999,9,-999,9,-999,9
    09AR9604_1,   UNK,138,1,13,113,2,19960320,1634,-63.896,150.0007,3675,802,1.549,34.745,2,34.746,2,-999,5,196,2,89.4,2,30.6,2,-999,9,2.13,2,-999,9,-999,9,-999,9,-999,9,-999,9
    09AR9604_1,   UNK,138,1,12,112,2,19960320,1634,-63.896,150.0007,3675,1013.9,1.367,34.744,2,34.749,2,-999,5,199.5,2,95.2,2,30.8,2,-999,9,2.14,2,0.135,2,0.06,2,-999,9,-999,9,-999,9
    09AR9604_1,   UNK,138,1,11,11,2,19960320,1634,-63.896,150.0007,3675,1201.4,1.201,34.737,2,34.742,2,-999,5,201.6,2,99.3,2,31.4,2,-999,9,2.13,2,-999,9,-999,9,-999,9,-999,9,-999,9
    09AR9604_1,   UNK,138,1,10,10,2,19960320,1634,-63.896,150.0007,3675,1401.2,1.058,34.731,2,34.734,2,-999,5,203.1,2,104.8,2,31,2,-999,9,2.17,2,0.113,2,0.05,2,-999,9,-999,9,-999,9
    09AR9604_1,   UNK,138,1,9,9,2,19960320,1634,-63.896,150.0007,3675,1602.6,0.914,34.723,2,34.726,2,-999,5,204.9,2,111.4,2,31.4,2,-999,9,2.2,2,0.107,2,0.052,2,-999,9,-999,9,-999,9
    09AR9604_1,   UNK,138,1,8,8,2,19960320,1634,-63.896,150.0007,3675,1802.4,0.756,34.715,2,34.717,2,-999,5,206.8,2,114,2,31.8,2,-999,9,2.22,2,0.106,2,0.049,2,-999,9,-999,9,-999,9
    09AR9604_1,   UNK,138,1,7,7,2,19960320,1634,-63.896,150.0007,3675,2102.3,0.532,34.704,2,34.703,2,-999,5,211,2,117.6,2,32,2,-999,9,2.24,2,0.158,2,0.075,2,-999,9,-999,9,-999,9
    09AR9604_1,   UNK,138,1,6,6,2,19960320,1634,-63.896,150.0007,3675,2404.3,0.343,34.697,2,34.697,2,-999,5,215.6,2,119.4,2,31.9,2,-999,9,2.24,2,0.239,2,0.111,2,-999,9,-999,9,-999,9
    09AR9604_1,   UNK,138,1,5,5,2,19960320,1634,-63.896,150.0007,3675,2703.5,0.205,34.694,2,34.694,2,-999,5,220.4,2,121.8,2,32.3,2,-999,9,2.25,2,0.304,2,0.143,2,-999,9,-999,9,-999,9
    09AR9604_1,   UNK,138,1,4,4,2,19960320,1634,-63.896,150.0007,3675,3002.6,0.098,34.691,2,34.69,2,-999,5,224.3,2,119.7,2,31.8,2,-999,9,2.24,2,0.57,2,0.274,2,-999,9,-999,9,-999,9
    09AR9604_1,   UNK,138,1,3,3,2,19960320,1634,-63.896,150.0007,3675,3304.4,-0.001,34.69,2,34.692,2,-999,5,228.8,2,115.7,2,31.7,2,-999,9,2.22,2,0.959,2,0.447,2,-999,9,-999,9,-999,9
    09AR9604_1,   UNK,138,1,2,2,2,19960320,1634,-63.896,150.0007,3675,3598.8,-0.087,34.69,2,34.692,2,-999,5,232.7,2,112.5,2,31.6,2,-999,9,2.24,2,1.398,2,0.657,2,-999,9,-999,9,-999,9
    09AR9604_1,   UNK,138,1,1,1,2,19960320,1634,-63.896,150.0007,3675,3699.9,-0.088,34.7,2,34.7,2,-999,5,233.3,2,104.4,2,31.9,2,-999,9,2.22,2,1.741,2,0.82,2,-999,9,-999,9,-999,9
    09AR9604_1,   UNK,139,1,24,24,2,19960320,2301,-64.3012,150.0062,3573,10.4,0.673,33.875,2,33.873,2,-999,5,334.4,2,27.5,2,25.4,2,-999,9,1.7,2,-999,9,-999,9,-999,9,-999,9,-999,9
    09AR9604_1,   UNK,139,1,23,23,2,19960320,2301,-64.3012,150.0062,3573,31,0.643,33.909,2,33.906,2,-999,5,334.9,2,27.8,2,25.4,2,-999,9,1.67,2,-999,9,-999,9,-999,9,-999,9,-999,9
    09AR9604_1,   UNK,139,1,22,22,2,19960320,2301,-64.3012,150.0062,3573,76.4,-0.259,34.332,4,34.328,2,-999,5,273.7,2,56.3,2,30.9,2,-999,9,2.23,2,-999,9,-999,9,-999,9,-999,9,-999,9
    09AR9604_1,   UNK,139,1,21,21,2,19960320,2301,-64.3012,150.0062,3573,101.3,0.228,34.43,4,34.435,2,-999,5,239.7,2,64.7,2,32.3,2,-999,9,2.28,2,-999,9,-999,9,-999,9,-999,9,-999,9
    09AR9604_1,   UNK,139,1,20,20,2,19960320,2301,-64.3012,150.0062,3573,151.3,1.262,34.575,2,34.57,2,-999,5,195.6,2,72.6,2,33.3,2,-999,9,2.32,2,-999,9,-999,9,-999,9,-999,9,-999,9
    09AR9604_1,   UNK,139,1,19,119,2,19960320,2301,-64.3012,150.0062,3573,201.2,1.634,34.634,3,34.631,2,-999,5,183,2,75.5,2,33.4,2,-999,9,2.31,2,0.819,2,0.384,2,-999,9,-999,9,-999,9
    09AR9604_1,   UNK,139,1,18,118,2,19960320,2301,-64.3012,150.0062,3573,251.6,1.844,34.675,2,34.669,2,-999,5,179.3,2,78.1,2,32.4,2,-999,9,2.28,2,-999,9,-999,9,-999,9,-999,9,-999,9
    09AR9604_1,   UNK,139,1,17,17,2,19960320,2301,-64.3012,150.0062,3573,301.7,1.793,34.685,2,34.682,2,-999,5,182.4,2,78.2,2,32.5,2,-999,9,2.24,2,0.488,2,0.216,2,-999,9,-999,9,-999,9
    09AR9604_1,   UNK,139,1,16,216,2,19960320,2301,-64.3012,150.0062,3573,401.5,1.766,34.707,2,34.707,2,-999,5,185.9,2,80,2,31.5,2,-999,9,2.21,2,-999,9,-999,9,-999,9,-999,9,-999,9
    09AR9604_1,   UNK,139,1,15,215,2,19960320,2301,-64.3012,150.0062,3573,501.7,1.659,34.714,2,34.713,2,-999,5,189.5,2,81.2,2,31.7,2,-999,9,2.17,2,0.415,2,0.193,2,-999,9,-999,9,-999,9
    09AR9604_1,   UNK,139,1,14,114,2,19960320,2301,-64.3012,150.0062,3573,602.2,1.709,34.738,2,34.736,2,-999,5,191.3,2,82.7,2,30.6,2,-999,9,2.14,2,-999,9,-999,9,-999,9,-999,9,-999,9
    09AR9604_1,   UNK,139,1,13,113,2,19960320,2301,-64.3012,150.0062,3573,701.4,1.614,34.738,2,34.738,2,-999,5,194.3,2,84.8,2,30.5,2,-999,9,2.15,2,0.234,2,0.1,2,-999,9,-999,9,-999,9
    09AR9604_1,   UNK,139,1,12,112,2,19960320,2301,-64.3012,150.0062,3573,802.1,1.551,34.743,2,34.737,2,-999,5,196.2,2,87.2,2,30.5,2,-999,9,2.09,2,-999,9,-999,9,-999,9,-999,9,-999,9
    09AR9604_1,   UNK,139,1,11,11,2,19960320,2301,-64.3012,150.0062,3573,902.8,1.456,34.743,2,34.739,2,-999,5,198.6,2,90.1,2,30.5,2,-999,9,2.11,2,0.175,2,0.084,2,-999,9,-999,9,-999,9
    09AR9604_1,   UNK,139,1,10,10,2,19960320,2301,-64.3012,150.0062,3573,1103,1.289,34.74,2,34.739,2,-999,5,201.2,2,94,2,30.6,2,-999,9,2.14,2,-999,9,-999,9,-999,9,-999,9,-999,9
    09AR9604_1,   UNK,139,1,9,9,2,19960320,2301,-64.3012,150.0062,3573,1403.4,1.01,34.727,2,34.729,2,-999,5,204,2,102.5,2,31.6,2,-999,9,2.14,2,0.089,3,0.034,2,-999,9,-999,9,-999,9
    09AR9604_1,   UNK,139,1,8,8,2,19960320,2301,-64.3012,150.0062,3573,1703.4,0.783,34.715,2,34.717,2,-999,5,206.8,2,107,2,31.4,2,-999,9,2.19,2,0.128,2,0.056,2,-999,9,-999,9,-999,9
    09AR9604_1,   UNK,139,1,7,7,2,19960320,2301,-64.3012,150.0062,3573,2005.3,0.525,34.701,2,34.697,2,-999,5,211.9,2,112,2,31.9,2,-999,9,2.21,2,0.237,2,0.109,2,-999,9,-999,9,-999,9
    09AR9604_1,   UNK,139,1,6,6,2,19960320,2301,-64.3012,150.0062,3573,2304.7,0.323,34.693,2,34.688,2,-999,5,217,2,116.9,2,31.6,2,-999,9,2.23,2,0.285,2,0.134,2,-999,9,-999,9,-999,9
    09AR9604_1,   UNK,139,1,5,5,2,19960320,2301,-64.3012,150.0062,3573,2605.6,0.175,34.69,2,34.687,2,-999,5,221.7,2,115.8,2,32,2,-999,9,2.24,2,0.438,2,0.204,2,-999,9,-999,9,-999,9
    09AR9604_1,   UNK,139,1,4,4,2,19960320,2301,-64.3012,150.0062,3573,2906.6,0.063,34.688,2,34.686,2,-999,5,226,2,117.9,2,32.3,2,-999,9,2.2,2,0.566,2,0.263,2,-999,9,-999,9,-999,9
    09AR9604_1,   UNK,139,1,3,3,2,19960320,2301,-64.3012,150.0062,3573,3207,-0.054,34.686,2,34.686,2,-999,5,231,2,110.8,2,32.3,2,-999,9,2.21,2,1.03,2,0.483,2,-999,9,-999,9,-999,9
    09AR9604_1,   UNK,139,1,2,2,2,19960320,2301,-64.3012,150.0062,3573,3509.2,-0.123,34.702,2,34.701,2,-999,5,234.9,2,97,2,31.5,2,-999,9,2.19,2,1.838,2,0.879,2,-999,9,-999,9,-999,9
    09AR9604_1,   UNK,139,1,1,1,2,19960320,2301,-64.3012,150.0062,3573,3599.7,-0.129,34.704,2,34.704,2,-999,5,235.7,2,96.4,2,32.1,2,-999,9,2.19,2,1.924,2,0.912,2,-999,9,-999,9,-999,9