BOTTLE,2021011SIOJHS,,,,,,,,,,,,,,,,,,,,,,,,,,,,,,,,,,,,,,
EXPOCODE,SECT_ID,STNNBR,CASTNO,SAMPNO,BTLNBR,BTLNBR_FLAG_W,DATE,TIME,LATITUDE,LONGITUDE,DEPTH,CTDPRS,CTDTMP,CTDSAL,CTDSAL_FLAG_W,SALNTY,SALNTY_FLAG_W,CTDOXY,CTDOXY_FLAG_W,OXYGEN,OXYGEN_FLAG_W,SILCAT,SILCAT_FLAG_W,NITRAT,NITRAT_FLAG_W,NITRIT,NITRIT_FLAG_W,PHSPHT,PHSPHT_FLAG_W,CFC-11,CFC-11_FLAG_W,CFC-12,CFC-12_FLAG_W,SF6,SF6_FLAG_W,TCARBN,TCARBN_FLAG_W,ALKALI,ALKALI_FLAG_W
,,,,,,,,,,,,DBAR,DEG C,PSS-78,,PSS-78,,UMOL/KG,,UMOL/KG,,UMOL/KG,,UMOL/KG,,UMOL/KG,,UMOL/KG,,PMOL/KG,,PMOL/KG,,NMOL/KG,,UMOL/KG,,UMOL/KG,
    09AR9604_1,   UNK,92,1,24,24,2,19960301,154,-64.4557,120.2927,3497,11.2,0.534,33.676,4,33.675,2,-999,5,354.5,2,26.5,2,21.2,2,-999,9,1.33,2,6.269,2,3.019,2,-999,9,-999,9,-999,9
    09AR9604_1,   UNK,92,1,23,23,2,19960301,154,-64.4557,120.2927,3497,60.6,-1.719,34.334,2,34.332,2,-999,5,312.6,2,61.4,2,30.8,2,-999,9,2.16,2,5.24,2,2.52,2,-999,9,-999,9,-999,9
    09AR9604_1,   UNK,92,1,22,22,2,19960301,154,-64.4557,120.2927,3497,101,-1.66,34.372,4,34.369,2,-999,5,310.2,2,62.3,2,31.2,2,-999,9,2.16,2,5.252,2,2.495,2,-999,9,-999,9,-999,9
    09AR9604_1,   UNK,92,1,21,21,2,19960301,154,-64.4557,120.2927,3497,161.1,-0.927,34.453,3,34.455,2,-999,5,281.3,2,70.3,2,31.2,2,-999,9,2.17,2,4.128,2,1.963,2,-999,9,-999,9,-999,9
    09AR9604_1,   UNK,92,1,20,20,2,19960301,154,-64.4557,120.2927,3497,201.3,0.233,34.586,2,34.584,2,-999,5,235.5,2,78.9,2,31.7,2,-999,9,2.24,2,2.401,2,1.118,2,-999,9,-999,9,-999,9
    09AR9604_1,   UNK,92,1,19,119,2,19960301,154,-64.4557,120.2927,3497,301.1,1.13,34.693,2,34.691,2,-999,5,201.8,2,86.4,2,31.8,2,-999,9,2.23,2,0.813,2,0.376,2,-999,9,-999,9,-999,9
    09AR9604_1,   UNK,92,1,18,118,2,19960301,154,-64.4557,120.2927,3497,401.3,1.261,34.721,2,34.716,2,-999,5,198.9,2,90.6,2,31.7,2,-999,9,2.19,2,0.423,2,0.192,2,-999,9,-999,9,-999,9
    09AR9604_1,   UNK,92,1,17,17,2,19960301,154,-64.4557,120.2927,3497,501.6,1.194,34.724,2,34.724,2,-999,5,200.9,2,93.9,2,31.2,2,-999,9,2.21,2,0.348,2,0.169,2,-999,9,-999,9,-999,9
    09AR9604_1,   UNK,92,1,16,216,2,19960301,154,-64.4557,120.2927,3497,601.2,1.085,34.721,2,34.723,2,-999,5,202.7,2,96.5,2,31.5,2,-999,9,2.23,2,0.351,2,0.162,2,-999,9,-999,9,-999,9
    09AR9604_1,   UNK,92,1,15,215,2,19960301,154,-64.4557,120.2927,3497,703.1,0.985,34.719,2,34.721,2,-999,5,204.4,2,99.8,2,31.5,2,-999,9,2.23,2,0.337,2,0.154,2,-999,9,-999,9,-999,9
    09AR9604_1,   UNK,92,1,14,114,2,19960301,154,-64.4557,120.2927,3497,802.9,0.899,34.715,2,34.717,2,-999,5,205.9,2,101.8,2,31.9,2,-999,9,2.23,2,0.315,6,0.145,6,-999,9,-999,9,-999,9
    09AR9604_1,   UNK,92,1,12,112,2,19960301,154,-64.4557,120.2927,3497,1003.9,0.738,34.709,2,34.705,2,-999,5,207.4,2,108.7,2,31.8,2,-999,9,2.22,2,0.256,2,0.123,2,-999,9,-999,9,-999,9
    09AR9604_1,   UNK,92,1,11,11,2,19960301,154,-64.4557,120.2927,3497,1102.4,0.604,34.702,2,34.701,2,-999,5,210.5,2,109.5,2,32,2,-999,9,2.23,2,0.335,2,0.165,2,-999,9,-999,9,-999,9
    09AR9604_1,   UNK,92,1,10,10,2,19960301,154,-64.4557,120.2927,3497,1202.8,0.554,34.702,2,34.703,2,-999,5,210.2,2,114.3,2,32.2,2,-999,9,2.25,2,0.235,2,0.107,2,-999,9,-999,9,-999,9
    09AR9604_1,   UNK,92,1,9,9,2,19960301,154,-64.4557,120.2927,3497,1404.2,0.391,34.692,2,34.694,2,-999,5,214,2,115.3,2,32.6,2,-999,9,2.26,2,0.324,2,0.153,2,-999,9,-999,9,-999,9
    09AR9604_1,   UNK,92,1,8,8,2,19960301,154,-64.4557,120.2927,3497,1604.1,0.248,34.687,2,34.689,2,-999,5,218.1,2,117.2,2,32.3,2,-999,9,2.24,2,0.445,2,0.205,2,-999,9,-999,9,-999,9
    09AR9604_1,   UNK,92,1,7,7,2,19960301,154,-64.4557,120.2927,3497,1904.3,0.084,34.68,2,34.68,2,-999,5,223.9,2,116.2,2,32.5,2,-999,9,2.25,2,0.653,2,0.307,2,-999,9,-999,9,-999,9
    09AR9604_1,   UNK,92,1,6,6,2,19960301,154,-64.4557,120.2927,3497,2204.5,-0.041,34.674,2,34.671,2,-999,5,228.6,2,112.4,2,32.1,2,-999,9,2.23,2,0.967,2,0.449,2,-999,9,-999,9,-999,9
    09AR9604_1,   UNK,92,1,5,5,2,19960301,154,-64.4557,120.2927,3497,2503.6,-0.121,34.672,2,34.673,2,-999,5,232.5,2,108.8,2,32.3,2,-999,9,2.23,2,1.197,2,0.58,2,-999,9,-999,9,-999,9
    09AR9604_1,   UNK,92,1,4,4,2,19960301,154,-64.4557,120.2927,3497,2805.4,-0.181,34.67,2,34.673,2,-999,5,235.9,2,109.8,2,32.5,2,-999,9,2.22,2,1.356,2,0.644,2,-999,9,-999,9,-999,9
    09AR9604_1,   UNK,92,1,3,3,2,19960301,154,-64.4557,120.2927,3497,3105.9,-0.24,34.67,2,34.671,2,-999,5,238.8,2,110.9,2,32.3,2,-999,9,2.23,2,1.534,2,0.701,2,-999,9,-999,9,-999,9
    09AR9604_1,   UNK,92,1,2,2,2,19960301,154,-64.4557,120.2927,3497,3409.2,-0.3,34.662,2,34.663,2,-999,5,242.4,2,110.3,2,32.5,2,-999,9,2.23,2,1.886,2,0.875,2,-999,9,-999,9,-999,9
    09AR9604_1,   UNK,92,1,1,1,2,19960301,154,-64.4557,120.2927,3497,3517.1,-0.313,34.66,2,34.661,2,-999,5,243.4,2,110.9,2,32.1,2,-999,9,2.24,2,1.964,2,0.913,2,-999,9,-999,9,-999,9
    09AR9604_1,   UNK,93,1,24,24,2,19960301,1135,-64.0612,120.2983,3410,10.5,1.117,33.852,3,33.853,2,-999,5,345.2,2,25.1,2,23.2,2,-999,9,1.45,2,6.15,2,2.997,2,-999,9,-999,9,-999,9
    09AR9604_1,   UNK,93,1,23,23,2,19960301,1135,-64.0612,120.2983,3410,31.3,-0.289,34.114,4,34.105,2,-999,5,339,2,42.5,2,27.1,2,-999,9,1.9,2,-999,9,-999,9,-999,9,-999,9,-999,9
    09AR9604_1,   UNK,93,1,22,22,2,19960301,1135,-64.0612,120.2983,3410,60.1,-1.734,34.307,4,34.305,2,-999,5,317.3,2,60.6,2,30.2,2,-999,9,2.13,2,-999,9,-999,9,-999,9,-999,9,-999,9
    09AR9604_1,   UNK,93,1,21,21,2,19960301,1135,-64.0612,120.2983,3410,99.8,-1.787,34.361,2,34.36,2,-999,5,315.5,2,62.2,2,30.6,2,-999,9,2.12,2,5.322,2,2.543,2,-999,9,-999,9,-999,9
    09AR9604_1,   UNK,93,1,20,20,2,19960301,1135,-64.0612,120.2983,3410,150.3,1.221,34.648,2,34.645,2,-999,5,196.8,2,80.3,2,31.9,2,-999,9,2.26,2,-999,9,-999,9,-999,9,-999,9,-999,9
    09AR9604_1,   UNK,93,1,19,119,2,19960301,1135,-64.0612,120.2983,3410,201.5,1.473,34.695,2,34.689,2,-999,5,191.2,2,84.1,2,31.9,2,-999,9,2.23,2,0.614,2,0.286,2,-999,9,-999,9,-999,9
    09AR9604_1,   UNK,93,1,18,118,2,19960301,1135,-64.0612,120.2983,3410,301,1.494,34.719,2,34.719,2,-999,5,193.6,2,86.9,2,31.2,2,-999,9,2.18,2,-999,9,-999,9,-999,9,-999,9,-999,9
    09AR9604_1,   UNK,93,1,17,17,2,19960301,1135,-64.0612,120.2983,3410,402.2,1.456,34.731,2,34.729,2,-999,5,195.9,2,88.1,2,31.7,2,-999,9,2.18,2,0.301,2,0.14,2,-999,9,-999,9,-999,9
    09AR9604_1,   UNK,93,1,16,216,2,19960301,1135,-64.0612,120.2983,3410,503.6,1.358,34.732,2,34.732,2,-999,5,198.3,2,91.8,2,31.4,2,-999,9,2.17,2,-999,9,-999,9,-999,9,-999,9,-999,9
    09AR9604_1,   UNK,93,1,15,215,2,19960301,1135,-64.0612,120.2983,3410,602.6,1.248,34.729,2,34.728,2,-999,5,200.5,2,94.3,2,31.2,2,-999,9,2.17,2,0.258,2,0.124,2,-999,9,-999,9,-999,9
    09AR9604_1,   UNK,93,1,14,114,2,19960301,1135,-64.0612,120.2983,3410,702.3,1.152,34.729,2,34.726,2,-999,5,202,2,98,2,31.4,2,-999,9,2.2,2,-999,9,-999,9,-999,9,-999,9,-999,9
    09AR9604_1,   UNK,93,1,13,113,2,19960301,1135,-64.0612,120.2983,3410,802.8,1.066,34.725,2,34.721,2,-999,5,203.2,2,100.9,2,32,2,-999,9,2.2,2,-999,9,-999,9,-999,9,-999,9,-999,9
    09AR9604_1,   UNK,93,1,12,112,2,19960301,1135,-64.0612,120.2983,3410,1000.2,0.888,34.714,2,34.718,2,-999,5,205.5,2,105.7,2,31.6,2,-999,9,2.23,2,0.183,2,0.096,2,-999,9,-999,9,-999,9
    09AR9604_1,   UNK,93,1,11,11,2,19960301,1135,-64.0612,120.2983,3410,1204.5,0.67,34.701,2,34.703,2,-999,5,209.7,2,109,2,32.4,2,-999,9,2.23,2,-999,9,-999,9,-999,9,-999,9,-999,9
    09AR9604_1,   UNK,93,1,10,10,2,19960301,1135,-64.0612,120.2983,3410,1404.5,0.542,34.696,2,34.699,2,-999,5,210.6,2,114.1,2,32.3,2,-999,9,2.25,2,0.245,2,0.124,2,-999,9,-999,9,-999,9
    09AR9604_1,   UNK,93,1,9,9,2,19960301,1135,-64.0612,120.2983,3410,1603.3,0.34,34.686,2,34.686,2,-999,5,216.2,2,114.8,2,32.8,2,-999,9,2.25,2,-999,9,-999,9,-999,9,-999,9,-999,9
    09AR9604_1,   UNK,93,1,8,8,2,19960301,1135,-64.0612,120.2983,3410,1805.8,0.182,34.681,2,34.68,2,-999,5,220.6,2,116.7,2,32.5,2,-999,9,2.27,2,-999,9,-999,9,-999,9,-999,9,-999,9
    09AR9604_1,   UNK,93,1,7,7,2,19960301,1135,-64.0612,120.2983,3410,2004.7,0.074,34.678,2,34.676,2,-999,5,224.1,2,115.1,2,32.9,2,-999,9,2.25,2,0.677,2,0.319,2,-999,9,-999,9,-999,9
    09AR9604_1,   UNK,93,1,6,6,2,19960301,1135,-64.0612,120.2983,3410,2305,-0.021,34.675,2,34.678,2,-999,5,227.8,2,118.4,2,32.4,2,-999,9,2.27,2,0.731,2,0.354,2,-999,9,-999,9,-999,9
    09AR9604_1,   UNK,93,1,5,5,2,19960301,1135,-64.0612,120.2983,3410,2603.2,-0.125,34.671,2,34.674,2,-999,5,232.5,2,116.8,2,32.3,2,-999,9,2.25,2,0.97,2,0.466,2,-999,9,-999,9,-999,9
    09AR9604_1,   UNK,93,1,4,4,2,19960301,1135,-64.0612,120.2983,3410,2905.2,-0.205,34.669,2,34.673,2,-999,5,236.3,2,114.2,2,31.8,2,-999,9,2.25,2,1.245,2,0.586,2,-999,9,-999,9,-999,9
    09AR9604_1,   UNK,93,1,3,3,2,19960301,1135,-64.0612,120.2983,3410,3103.7,-0.287,34.662,2,34.664,2,-999,5,241.2,2,108.2,2,31.8,2,-999,9,2.22,2,1.73,2,0.809,2,-999,9,-999,9,-999,9
    09AR9604_1,   UNK,93,1,2,2,2,19960301,1135,-64.0612,120.2983,3410,3312.2,-0.325,34.658,2,34.659,2,-999,5,243.6,2,107,2,31.7,2,-999,9,2.22,2,1.977,2,0.928,2,-999,9,-999,9,-999,9
    09AR9604_1,   UNK,93,1,1,1,2,19960301,1135,-64.0612,120.2983,3410,3412.3,-0.319,34.657,2,34.659,2,-999,5,243.6,2,109.5,2,32.1,2,-999,9,2.23,2,1.937,2,0.928,2,-999,9,-999,9,-999,9
    09AR9604_1,   UNK,94,1,24,24,2,19960301,1818,-63.6617,120.3262,3635,15.6,1.519,33.834,2,33.833,2,-999,5,345.1,2,27.3,2,23,2,-999,9,1.52,2,-999,9,-999,9,-999,9,-999,9,-999,9
    09AR9604_1,   UNK,94,1,23,23,2,19960301,1818,-63.6617,120.3262,3635,52.8,-0.679,34.2,4,34.181,2,-999,5,327.7,2,47.6,2,27.7,2,-999,9,2.01,2,5.32,2,2.571,2,-999,9,-999,9,-999,9
    09AR9604_1,   UNK,94,1,22,22,2,19960301,1818,-63.6617,120.3262,3635,100.8,0.574,34.593,4,34.58,2,-999,5,220.8,2,73.4,2,32.3,2,-999,9,2.24,2,-999,9,-999,9,-999,9,-999,9,-999,9
    09AR9604_1,   UNK,94,1,21,21,2,19960301,1818,-63.6617,120.3262,3635,150.8,1.307,34.685,2,34.682,2,-999,5,194.8,2,75.7,2,31.9,2,-999,9,2.25,2,0.757,2,0.356,2,-999,9,-999,9,-999,9
    09AR9604_1,   UNK,94,1,20,20,2,19960301,1818,-63.6617,120.3262,3635,202.5,1.46,34.71,2,34.708,2,-999,5,192,2,77.7,2,31.6,2,-999,9,2.23,2,-999,9,-999,9,-999,9,-999,9,-999,9
    09AR9604_1,   UNK,94,1,19,119,2,19960301,1818,-63.6617,120.3262,3635,302.5,1.509,34.729,2,34.727,2,-999,5,192.7,2,80.2,2,31.2,2,-999,9,2.22,2,0.302,2,0.137,2,-999,9,-999,9,-999,9
    09AR9604_1,   UNK,94,1,18,118,2,19960301,1818,-63.6617,120.3262,3635,401.8,1.437,34.732,2,34.731,2,-999,5,195.3,2,81.5,2,31.5,2,-999,9,2.19,2,-999,9,-999,9,-999,9,-999,9,-999,9
    09AR9604_1,   UNK,94,1,17,17,2,19960301,1818,-63.6617,120.3262,3635,501,1.368,34.735,2,34.735,2,-999,5,197.6,2,85.9,2,30.8,2,-999,9,2.17,2,0.222,2,0.114,2,-999,9,-999,9,-999,9
    09AR9604_1,   UNK,94,1,16,216,2,19960301,1818,-63.6617,120.3262,3635,602.8,1.29,34.735,2,34.735,2,-999,5,199,2,84.5,2,31.2,2,-999,9,2.17,2,-999,9,-999,9,-999,9,-999,9,-999,9
    09AR9604_1,   UNK,94,1,15,215,2,19960301,1818,-63.6617,120.3262,3635,701.6,1.204,34.734,2,34.734,2,-999,5,200.5,2,90.9,2,31,2,-999,9,2.18,2,0.158,2,0.074,2,-999,9,-999,9,-999,9
    09AR9604_1,   UNK,94,1,14,114,2,19960301,1818,-63.6617,120.3262,3635,804.3,1.13,34.731,2,34.73,2,-999,5,201.9,2,93.5,2,31.1,2,-999,9,2.18,2,0.15,2,0.067,2,-999,9,-999,9,-999,9
    09AR9604_1,   UNK,94,1,13,113,2,19960301,1818,-63.6617,120.3262,3635,900.6,1.055,34.727,2,34.727,2,-999,5,203.8,2,96.6,2,31.1,2,-999,9,2.2,2,0.127,3,0.059,3,-999,9,-999,9,-999,9
    09AR9604_1,   UNK,94,1,12,112,2,19960301,1818,-63.6617,120.3262,3635,1004.7,0.974,34.722,2,34.722,2,-999,5,204,2,97.3,2,31.1,2,-999,9,2.19,2,-999,9,-999,9,-999,9,-999,9,-999,9
    09AR9604_1,   UNK,94,1,11,11,2,19960301,1818,-63.6617,120.3262,3635,1204.1,0.821,34.715,2,34.716,2,-999,5,206.1,2,104,2,31.6,2,-999,9,2.23,2,0.142,2,0.071,2,-999,9,-999,9,-999,9
    09AR9604_1,   UNK,94,1,10,10,2,19960301,1818,-63.6617,120.3262,3635,1404.8,0.654,34.707,2,34.708,2,-999,5,208.6,2,105.3,2,32,2,-999,9,2.23,2,-999,9,-999,9,-999,9,-999,9,-999,9
    09AR9604_1,   UNK,94,1,9,9,2,19960301,1818,-63.6617,120.3262,3635,1603.4,0.504,34.699,2,34.701,2,-999,5,211.2,2,106.5,2,31.8,2,-999,9,2.24,2,0.196,2,0.092,2,-999,9,-999,9,-999,9
    09AR9604_1,   UNK,94,1,8,8,2,19960301,1818,-63.6617,120.3262,3635,1802.7,0.376,34.694,2,34.695,2,-999,5,214.1,2,109.5,2,32.3,2,-999,9,2.28,2,0.19,2,0.098,2,-999,9,-999,9,-999,9
    09AR9604_1,   UNK,94,1,7,7,2,19960301,1818,-63.6617,120.3262,3635,2006.4,0.229,34.687,2,34.686,2,-999,5,219,2,110,2,31.8,2,-999,9,2.25,2,0.386,2,0.187,2,-999,9,-999,9,-999,9
    09AR9604_1,   UNK,94,1,6,6,2,19960301,1818,-63.6617,120.3262,3635,2304.8,0.11,34.686,2,34.682,2,-999,5,222.9,2,112.3,2,32.3,2,-999,9,2.26,2,0.354,2,0.182,2,-999,9,-999,9,-999,9
    09AR9604_1,   UNK,94,1,5,5,2,19960301,1818,-63.6617,120.3262,3635,2606.1,0.005,34.681,2,34.682,2,-999,5,227,2,118.2,2,32.3,2,-999,9,2.25,2,0.46,2,0.219,2,-999,9,-999,9,-999,9
    09AR9604_1,   UNK,94,1,4,4,2,19960301,1818,-63.6617,120.3262,3635,2907.1,-0.111,34.674,2,34.676,2,-999,5,233,2,110.8,2,31.7,2,-999,9,2.24,2,0.987,2,0.478,2,-999,9,-999,9,-999,9
    09AR9604_1,   UNK,94,1,3,3,2,19960301,1818,-63.6617,120.3262,3635,3209.4,-0.179,34.673,2,34.676,2,-999,5,236.3,2,104.8,2,31.8,2,-999,9,2.22,2,1.189,2,0.553,2,-999,9,-999,9,-999,9
    09AR9604_1,   UNK,94,1,2,2,2,19960301,1818,-63.6617,120.3262,3635,3509.8,-0.251,34.67,2,34.671,2,-999,5,239.6,2,111.3,2,31.6,2,-999,9,2.22,2,1.581,2,0.748,2,-999,9,-999,9,-999,9
    09AR9604_1,   UNK,94,1,1,1,2,19960301,1818,-63.6617,120.3262,3635,3655,-0.297,34.661,2,34.664,2,-999,5,243.1,2,107.1,2,31.5,2,-999,9,2.22,2,1.964,2,0.908,2,-999,9,-999,9,-999,9
    09AR9604_1,   UNK,96,1,24,24,2,19960302,147,-63.2397,120.3192,3737,11.1,1.575,33.831,2,33.831,2,-999,5,341.4,2,26.9,3,23.5,2,-999,9,1.47,2,6.001,2,2.93,2,-999,9,-999,9,-999,9
    09AR9604_1,   UNK,96,1,23,23,2,19960302,147,-63.2397,120.3192,3737,51.2,-0.253,34.243,3,34.244,2,-999,5,309.3,2,52.2,3,28.8,2,-999,9,2.1,2,5.116,2,2.44,2,-999,9,-999,9,-999,9
    09AR9604_1,   UNK,96,1,22,22,2,19960302,147,-63.2397,120.3192,3737,100.7,1.238,34.636,2,34.634,2,-999,5,195.9,2,80.6,3,32.7,2,-999,9,2.25,2,1.084,2,0.518,2,-999,9,-999,9,-999,9
    09AR9604_1,   UNK,96,1,21,21,2,19960302,147,-63.2397,120.3192,3737,151,1.437,34.677,2,34.678,2,-999,5,189.1,2,83.3,3,32.6,2,-999,9,2.22,2,0.728,2,0.336,2,-999,9,-999,9,-999,9
    09AR9604_1,   UNK,96,1,20,20,2,19960302,147,-63.2397,120.3192,3737,200.2,1.52,34.697,2,34.698,2,-999,5,189,2,85.2,3,31.6,2,-999,9,2.21,2,0.529,2,0.255,2,-999,9,-999,9,-999,9
    09AR9604_1,   UNK,96,1,19,119,2,19960302,147,-63.2397,120.3192,3737,300,1.559,34.719,2,34.72,2,-999,5,190.6,2,86.9,3,30.8,2,-999,9,2.16,2,0.354,2,0.166,2,-999,9,-999,9,-999,9
    09AR9604_1,   UNK,96,1,18,118,2,19960302,147,-63.2397,120.3192,3737,400.3,1.51,34.73,2,34.73,2,-999,5,193.9,2,89.3,3,31.2,2,-999,9,2.16,2,0.267,2,0.128,2,-999,9,-999,9,-999,9
    09AR9604_1,   UNK,96,1,17,17,2,19960302,147,-63.2397,120.3192,3737,501.3,1.439,34.734,2,34.736,2,-999,5,195.9,2,91.3,3,30.7,2,-999,9,2.14,2,0.227,2,0.108,2,-999,9,-999,9,-999,9
    09AR9604_1,   UNK,96,1,16,216,2,19960302,147,-63.2397,120.3192,3737,600.2,1.372,34.735,2,34.737,2,-999,5,197.6,2,93.7,3,30.9,2,-999,9,2.16,2,0.193,2,0.087,2,-999,9,-999,9,-999,9
    09AR9604_1,   UNK,96,1,15,215,2,19960302,147,-63.2397,120.3192,3737,701.4,1.286,34.734,2,34.737,2,-999,5,199.4,2,96,3,30.8,2,-999,9,2.16,2,0.169,2,0.08,2,-999,9,-999,9,-999,9
    09AR9604_1,   UNK,96,1,14,114,2,19960302,147,-63.2397,120.3192,3737,802.3,1.208,34.731,2,34.731,2,-999,5,200.5,2,98.8,3,31.3,2,-999,9,2.15,2,0.169,2,0.077,2,-999,9,-999,9,-999,9
    09AR9604_1,   UNK,96,1,13,113,2,19960302,147,-63.2397,120.3192,3737,901.1,1.124,34.728,2,34.726,2,-999,5,202.1,2,100.8,3,30.7,2,-999,9,2.14,2,0.161,2,0.077,2,-999,9,-999,9,-999,9
    09AR9604_1,   UNK,96,1,12,112,2,19960302,147,-63.2397,120.3192,3737,1002.8,1.04,34.725,2,34.724,2,-999,5,203.3,2,104.4,3,30.7,2,-999,9,2.17,2,0.157,2,0.074,2,-999,9,-999,9,-999,9
    09AR9604_1,   UNK,96,1,11,11,2,19960302,147,-63.2397,120.3192,3737,1202,0.903,34.718,2,34.72,2,-999,5,204.6,2,109.6,3,31,2,-999,9,2.19,2,0.124,2,0.06,2,-999,9,-999,9,-999,9
    09AR9604_1,   UNK,96,1,10,10,2,19960302,147,-63.2397,120.3192,3737,1402.2,0.741,34.708,2,34.711,2,-999,5,207.1,2,114.2,3,31.2,2,-999,9,2.16,2,0.146,2,0.076,2,-999,9,-999,9,-999,9
    09AR9604_1,   UNK,96,1,9,9,2,19960302,147,-63.2397,120.3192,3737,1603.9,0.581,34.701,2,34.701,2,-999,5,210,2,117.1,3,31.7,2,-999,9,2.21,2,0.183,2,0.097,2,-999,9,-999,9,-999,9
    09AR9604_1,   UNK,96,1,8,8,2,19960302,147,-63.2397,120.3192,3737,1802.5,0.431,34.693,2,34.692,2,-999,5,213.2,2,121,3,31.7,2,-999,9,2.23,2,0.247,2,0.123,2,-999,9,-999,9,-999,9
    09AR9604_1,   UNK,96,1,7,7,2,19960302,147,-63.2397,120.3192,3737,2103.9,0.256,34.689,2,34.686,2,-999,5,217.8,2,127,3,31.9,2,-999,9,2.24,2,0.231,2,0.118,2,-999,9,-999,9,-999,9
    09AR9604_1,   UNK,96,1,6,6,2,19960302,147,-63.2397,120.3192,3737,2405,0.122,34.684,2,34.684,2,-999,5,222.5,2,129.2,3,31.4,2,-999,9,2.25,2,0.338,2,0.168,2,-999,9,-999,9,-999,9
    09AR9604_1,   UNK,96,1,5,5,2,19960302,147,-63.2397,120.3192,3737,2706.1,0.013,34.68,2,34.681,2,-999,5,226.9,2,129.9,3,31.6,2,-999,9,2.24,2,0.459,2,0.226,2,-999,9,-999,9,-999,9
    09AR9604_1,   UNK,96,1,4,4,2,19960302,147,-63.2397,120.3192,3737,3005.3,-0.081,34.678,2,34.676,2,-999,5,231.1,2,128.2,3,31.6,2,-999,9,2.18,2,0.687,2,0.325,2,-999,9,-999,9,-999,9
    09AR9604_1,   UNK,96,1,3,3,2,19960302,147,-63.2397,120.3192,3737,3306.9,-0.151,34.675,2,34.673,2,-999,5,234.7,2,127.6,3,31.4,2,-999,9,2.21,2,0.916,2,0.447,2,-999,9,-999,9,-999,9
    09AR9604_1,   UNK,96,1,2,2,2,19960302,147,-63.2397,120.3192,3737,3657,-0.251,34.669,2,34.666,2,-999,5,239.9,2,124.1,3,31.2,2,-999,9,2.23,2,1.689,2,0.777,2,-999,9,-999,9,-999,9
    09AR9604_1,   UNK,96,1,1,1,2,19960302,147,-63.2397,120.3192,3737,3747.6,-0.252,34.668,2,34.664,2,-999,5,240,2,124.9,3,31.6,2,-999,9,2.23,2,1.755,2,0.813,2,-999,9,-999,9,-999,9