BOTTLE,2021011SIOJHS,,,,,,,,,,,,,,,,,,,,,,,,,,,,,,,,,,,,,,
EXPOCODE,SECT_ID,STNNBR,CASTNO,SAMPNO,BTLNBR,BTLNBR_FLAG_W,DATE,TIME,LATITUDE,LONGITUDE,DEPTH,CTDPRS,CTDTMP,CTDSAL,CTDSAL_FLAG_W,SALNTY,SALNTY_FLAG_W,CTDOXY,CTDOXY_FLAG_W,OXYGEN,OXYGEN_FLAG_W,SILCAT,SILCAT_FLAG_W,NITRAT,NITRAT_FLAG_W,NITRIT,NITRIT_FLAG_W,PHSPHT,PHSPHT_FLAG_W,CFC-11,CFC-11_FLAG_W,CFC-12,CFC-12_FLAG_W,SF6,SF6_FLAG_W,TCARBN,TCARBN_FLAG_W,ALKALI,ALKALI_FLAG_W
,,,,,,,,,,,,DBAR,DEG C,PSS-78,,PSS-78,,UMOL/KG,,UMOL/KG,,UMOL/KG,,UMOL/KG,,UMOL/KG,,UMOL/KG,,PMOL/KG,,PMOL/KG,,NMOL/KG,,UMOL/KG,,UMOL/KG,
    09AR9604_1,  SR03,129,1,24,24,2,19960316,426,-65.5477,139.8662,1177,8.9,-0.845,34.08,3,34.079,2,-999,5,343.1,2,42.3,2,27,2,-999,9,1.79,2,6.164,2,3.005,2,-999,9,-999,9,-999,9
    09AR9604_1,  SR03,129,1,18,118,2,19960316,426,-65.5477,139.8662,1177,48.8,-1.089,34.118,4,34.115,2,-999,5,341.9,2,47.8,2,27.5,2,-999,9,1.86,2,6.135,2,2.994,2,-999,9,-999,9,-999,9
    09AR9604_1,  SR03,129,1,14,114,2,19960316,426,-65.5477,139.8662,1177,106.7,-1.593,34.393,2,34.389,2,-999,5,297.6,2,65.4,2,30.1,2,-999,9,2.17,2,4.535,2,2.25,2,-999,9,-999,9,-999,9
    09AR9604_1,  SR03,129,1,11,11,2,19960316,426,-65.5477,139.8662,1177,151.1,-1.497,34.432,3,34.434,2,-999,5,285.9,2,69.8,2,31,2,-999,9,2.17,2,4.162,2,2.035,2,-999,9,-999,9,-999,9
    09AR9604_1,  SR03,129,1,9,9,2,19960316,426,-65.5477,139.8662,1177,202.7,-1.203,34.467,2,34.47,2,-999,5,275.9,2,72.4,2,30.6,2,-999,9,2.18,2,3.792,2,1.831,2,-999,9,-999,9,-999,9
    09AR9604_1,  SR03,129,1,8,8,2,19960316,426,-65.5477,139.8662,1177,301.7,-0.325,34.56,4,34.561,2,-999,5,246.4,2,80.1,2,31,2,-999,9,2.19,2,2.606,2,1.271,2,-999,9,-999,9,-999,9
    09AR9604_1,  SR03,129,1,7,7,2,19960316,426,-65.5477,139.8662,1177,403.3,0.203,34.629,2,34.63,2,-999,5,227.5,2,87.9,2,30.6,2,-999,9,2.21,2,1.672,2,0.788,2,-999,9,-999,9,-999,9
    09AR9604_1,  SR03,129,1,6,6,2,19960316,426,-65.5477,139.8662,1177,452.6,0.319,34.649,2,34.642,2,-999,5,223.2,2,92.3,2,31,2,-999,9,2.24,2,1.396,2,0.649,2,-999,9,-999,9,-999,9
    09AR9604_1,  SR03,129,1,5,5,2,19960316,426,-65.5477,139.8662,1177,551.7,0.373,34.67,2,34.67,2,-999,5,217.3,2,99.9,2,31.4,2,-999,9,2.25,2,-999,9,-999,9,-999,9,-999,9,-999,9
    09AR9604_1,  SR03,129,1,4,4,2,19960316,426,-65.5477,139.8662,1177,652.7,0.214,34.665,4,34.667,2,-999,5,219.6,2,101.3,2,31.4,2,-999,9,2.26,2,1.026,2,0.478,2,-999,9,-999,9,-999,9
    09AR9604_1,  SR03,129,1,3,3,2,19960316,426,-65.5477,139.8662,1177,802.5,-0.729,34.592,2,34.594,2,-999,5,258.5,2,85.2,2,30.9,2,-999,9,2.19,2,2.902,2,1.411,2,-999,9,-999,9,-999,9
    09AR9604_1,  SR03,129,1,2,2,2,19960316,426,-65.5477,139.8662,1177,1054.1,-0.729,34.595,3,34.6,2,-999,5,258.6,2,86.4,2,31.3,2,-999,9,2.18,2,2.884,2,1.395,2,-999,9,-999,9,-999,9
    09AR9604_1,  SR03,129,1,1,1,2,19960316,426,-65.5477,139.8662,1177,1129,-0.66,34.606,2,34.611,2,-999,5,255.8,2,88.5,2,31.1,2,-999,9,2.2,2,2.767,2,1.3,2,-999,9,-999,9,-999,9
    09AR9604_1,  SR03,130,1,24,24,2,19960316,829,-65.5645,139.8375,932,10.7,-0.76,34.06,2,34.058,2,-999,5,343.2,2,41.7,2,29.3,2,-999,9,1.75,2,-999,9,-999,9,-999,9,-999,9,-999,9
    09AR9604_1,  SR03,130,1,18,118,2,19960316,829,-65.5645,139.8375,932,45.6,-1.057,34.106,3,34.107,2,-999,5,342.9,2,47.2,2,27.2,4,-999,9,1.83,2,-999,9,-999,9,-999,9,-999,9,-999,9
    09AR9604_1,  SR03,130,1,14,114,2,19960316,829,-65.5645,139.8375,932,107.4,-1.57,34.376,2,34.377,2,-999,5,300,2,66,2,29.7,2,-999,9,2.11,2,-999,9,-999,9,-999,9,-999,9,-999,9
    09AR9604_1,  SR03,130,1,9,9,2,19960316,829,-65.5645,139.8375,932,200.7,-1.023,34.483,4,34.486,2,-999,5,270,2,74.3,2,30.5,2,-999,9,2.17,2,3.666,2,1.76,2,-999,9,-999,9,-999,9
    09AR9604_1,  SR03,130,1,8,8,2,19960316,829,-65.5645,139.8375,932,301.5,-0.244,34.575,3,34.573,2,-999,5,242.9,2,81.8,2,31,2,-999,9,2.19,2,-999,9,-999,9,-999,9,-999,9,-999,9
    09AR9604_1,  SR03,130,1,7,7,2,19960316,829,-65.5645,139.8375,932,403.2,0.023,34.615,4,34.608,2,-999,5,235,2,86.1,2,30.7,2,-999,9,2.17,2,2.031,2,0.992,2,-999,9,-999,9,-999,9
    09AR9604_1,  SR03,130,1,6,6,2,19960316,829,-65.5645,139.8375,932,501.5,0.024,34.645,4,34.63,2,-999,5,228.8,2,92.5,2,31,2,-999,9,2.2,2,1.676,2,0.789,2,-999,9,-999,9,-999,9
    09AR9604_1,  SR03,130,1,4,4,2,19960316,829,-65.5645,139.8375,932,601.3,-0.233,34.624,4,34.62,2,-999,5,241.4,2,90.5,2,30.5,2,-999,9,2.17,2,2.136,2,1.036,2,-999,9,-999,9,-999,9
    09AR9604_1,  SR03,130,1,3,3,2,19960316,829,-65.5645,139.8375,932,752.7,-0.548,34.61,3,34.61,2,-999,5,251.6,2,88.6,2,31,2,-999,9,2.17,2,2.639,2,1.258,2,-999,9,-999,9,-999,9
    09AR9604_1,  SR03,130,1,2,2,2,19960316,829,-65.5645,139.8375,932,851.8,-0.56,34.611,2,34.612,2,-999,5,251.7,2,89.5,2,30.6,2,-999,9,2.16,2,2.601,2,1.261,2,-999,9,-999,9,-999,9
    09AR9604_1,  SR03,130,1,1,1,2,19960316,829,-65.5645,139.8375,932,911.8,-0.556,34.611,2,34.612,2,-999,5,251.2,2,89.4,2,30.5,2,-999,9,2.19,2,2.573,2,1.267,2,-999,9,-999,9,-999,9
    09AR9604_1,  SR03,131,1,23,23,2,19960316,1151,-65.5852,139.8453,543,10.6,-1.062,34.09,2,34.092,2,-999,5,344.2,2,46.1,2,27.8,2,-999,9,1.84,2,-999,9,-999,9,-999,9,-999,9,-999,9
    09AR9604_1,  SR03,131,1,14,114,2,19960316,1151,-65.5852,139.8453,543,30,-1.059,34.088,2,34.088,2,-999,5,344.5,2,46.9,2,27.6,2,-999,9,1.84,2,-999,9,-999,9,-999,9,-999,9,-999,9
    09AR9604_1,  SR03,131,1,10,10,2,19960316,1151,-65.5852,139.8453,543,92.4,-1.693,34.378,2,34.377,2,-999,5,298.1,2,70.5,2,29.8,2,-999,9,2.12,2,4.453,2,2.242,2,-999,9,-999,9,-999,9
    09AR9604_1,  SR03,131,1,6,6,2,19960316,1151,-65.5852,139.8453,543,152.1,-1.634,34.419,3,34.416,2,-999,5,289.1,2,73.4,2,30.4,2,-999,9,2.13,2,-999,9,-999,9,-999,9,-999,9,-999,9
    09AR9604_1,  SR03,131,1,5,5,2,19960316,1151,-65.5852,139.8453,543,165.4,-1.579,34.429,3,34.43,2,-999,5,288.8,2,72.9,2,30.4,2,-999,9,2.13,2,-999,9,-999,9,-999,9,-999,9,-999,9
    09AR9604_1,  SR03,131,1,4,4,2,19960316,1151,-65.5852,139.8453,543,199.8,-1.662,34.445,2,34.447,2,-999,5,297.1,2,73.4,2,29.7,2,-999,9,2.11,2,4.2,2,2.179,2,-999,9,-999,9,-999,9
    09AR9604_1,  SR03,131,1,3,3,2,19960316,1151,-65.5852,139.8453,543,302.1,-1.474,34.486,3,34.485,2,-999,5,288.6,2,76.4,2,30.2,2,-999,9,2.16,2,4.112,2,2.049,2,-999,9,-999,9,-999,9
    09AR9604_1,  SR03,131,1,2,2,2,19960316,1151,-65.5852,139.8453,543,404.1,-1.15,34.522,2,34.522,2,-999,5,275.3,2,79.8,2,30.6,2,-999,9,2.16,2,3.613,2,1.804,2,-999,9,-999,9,-999,9
    09AR9604_1,  SR03,131,1,1,1,2,19960316,1151,-65.5852,139.8453,543,502.3,-1.033,34.548,3,-999,9,-999,5,271.3,2,80.1,2,30.7,2,-999,9,2.17,2,3.42,2,1.7,2,-999,9,-999,9,-999,9
    09AR9604_1,  SR03,131,1,24,24,2,19960316,1151,-65.5852,139.8453,543,545,-0.938,34.559,3,34.559,2,-999,5,266.1,2,81.8,2,30.7,2,-999,9,2.16,2,3.248,2,1.604,2,-999,9,-999,9,-999,9
    09AR9604_1,  SR03,132,1,24,24,2,19960316,1407,-65.7187,139.839,307,11.8,-1.489,34.09,2,34.078,2,-999,5,345,2,52.2,2,26.9,2,-999,9,1.83,2,5.92,2,3.025,2,-999,9,-999,9,-999,9
    09AR9604_1,  SR03,132,1,12,112,2,19960316,1407,-65.7187,139.839,307,48.1,-1.484,34.096,2,34.089,2,-999,5,343.8,2,52.3,2,26.7,2,-999,9,1.83,2,5.959,2,3.017,2,-999,9,-999,9,-999,9
    09AR9604_1,  SR03,132,1,9,9,2,19960316,1407,-65.7187,139.839,307,93.8,-1.577,34.271,4,34.241,2,-999,5,321,2,58,2,28.2,2,-999,9,1.96,2,5.188,2,2.656,2,-999,9,-999,9,-999,9
    09AR9604_1,  SR03,132,1,5,5,2,19960316,1407,-65.7187,139.839,307,152.5,-1.675,34.418,3,34.418,2,-999,5,289.4,2,74.3,2,30,2,-999,9,2.11,2,4.151,6,2.077,6,-999,9,-999,9,-999,9
    09AR9604_1,  SR03,132,1,2,2,2,19960316,1407,-65.7187,139.839,307,233.6,-1.107,34.483,4,34.481,2,-999,5,272.2,2,76.7,2,30.5,2,-999,9,2.15,2,3.612,2,1.767,2,-999,9,-999,9,-999,9
    09AR9604_1,  SR03,132,1,1,1,2,19960316,1407,-65.7187,139.839,307,286.7,-1.169,34.501,3,34.5,2,-999,5,274.2,2,78.2,2,30.3,2,-999,9,2.16,2,3.6,2,1.792,2,-999,9,-999,9,-999,9
    09AR9604_1,   UNK,133,1,24,24,2,19960319,642,-63.5028,144.4845,3906,11,1.154,33.866,2,33.87,2,-999,5,331.4,2,27.5,2,26.4,2,-999,9,1.72,2,5.731,2,2.934,2,-999,9,-999,9,-999,9
    09AR9604_1,   UNK,133,1,23,23,2,19960319,642,-63.5028,144.4845,3906,25.5,1.148,33.868,2,33.868,2,-999,5,333.4,2,27.5,2,26,2,-999,9,1.71,2,5.808,2,2.943,2,-999,9,-999,9,-999,9
    09AR9604_1,   UNK,133,1,22,22,2,19960319,642,-63.5028,144.4845,3906,51.4,1.116,33.872,2,33.872,2,-999,5,333.1,2,28.1,2,26.2,2,-999,9,1.71,2,5.774,2,2.932,2,-999,9,-999,9,-999,9
    09AR9604_1,   UNK,133,1,21,21,2,19960319,642,-63.5028,144.4845,3906,106.9,1.122,34.485,4,34.48,2,-999,5,211.9,2,67,2,33.9,2,-999,9,2.38,2,1.925,2,0.942,2,-999,9,-999,9,-999,9
    09AR9604_1,   UNK,133,1,20,20,2,19960319,642,-63.5028,144.4845,3906,153.5,1.737,34.594,2,34.592,2,-999,5,177.1,2,75.5,2,34.4,2,-999,9,2.41,2,0.846,2,0.399,2,-999,9,-999,9,-999,9
    09AR9604_1,   UNK,133,1,19,119,2,19960319,642,-63.5028,144.4845,3906,204.5,1.815,34.631,4,34.625,2,-999,5,176,2,77.3,2,33.5,2,-999,9,2.37,2,0.635,2,0.303,2,-999,9,-999,9,-999,9
    09AR9604_1,   UNK,133,1,18,118,2,19960319,642,-63.5028,144.4845,3906,304,1.878,34.674,2,34.675,2,-999,5,177.9,2,79.2,2,32.6,2,-999,9,2.3,2,0.407,2,0.188,2,-999,9,-999,9,-999,9
    09AR9604_1,   UNK,133,1,17,17,2,19960319,642,-63.5028,144.4845,3906,401.8,1.869,34.701,2,34.7,2,-999,5,182,2,80.3,2,31.8,2,-999,9,2.23,2,0.296,2,0.141,2,-999,9,-999,9,-999,9
    09AR9604_1,   UNK,133,1,16,216,2,19960319,642,-63.5028,144.4845,3906,501.4,1.839,34.718,2,34.717,2,-999,5,186.3,2,80,2,31.5,2,-999,9,2.19,2,0.243,2,0.115,2,-999,9,-999,9,-999,9
    09AR9604_1,   UNK,133,1,15,215,2,19960319,642,-63.5028,144.4845,3906,602.3,1.781,34.727,2,34.726,2,-999,5,189.3,2,82.8,2,31.3,2,-999,9,2.18,2,0.202,2,0.096,2,-999,9,-999,9,-999,9
    09AR9604_1,   UNK,133,1,14,114,2,19960319,642,-63.5028,144.4845,3906,703.6,1.726,34.735,2,34.733,2,-999,5,191.7,2,87.2,2,31.1,2,-999,9,2.15,2,0.163,2,0.075,2,-999,9,-999,9,-999,9
    09AR9604_1,   UNK,133,1,13,113,2,19960319,642,-63.5028,144.4845,3906,802.4,1.653,34.736,2,34.734,2,-999,5,194,2,87,2,30.7,2,-999,9,2.16,2,0.142,2,0.063,2,-999,9,-999,9,-999,9
    09AR9604_1,   UNK,133,1,12,112,2,19960319,642,-63.5028,144.4845,3906,1002,1.487,34.737,2,34.74,2,-999,5,198,2,92.3,2,31.7,3,-999,9,2.15,2,0.132,2,0.056,3,-999,9,-999,9,-999,9
    09AR9604_1,   UNK,133,1,11,11,2,19960319,642,-63.5028,144.4845,3906,1203.3,1.33,34.732,2,34.734,2,-999,5,200.4,2,94.9,2,30.5,2,-999,9,2.15,2,0.109,2,0.044,3,-999,9,-999,9,-999,9
    09AR9604_1,   UNK,133,1,10,10,2,19960319,642,-63.5028,144.4845,3906,1504.5,1.087,34.722,2,34.722,2,-999,5,203.1,2,103.5,2,31.7,2,-999,9,2.17,2,0.1,2,0.047,2,-999,9,-999,9,-999,9
    09AR9604_1,   UNK,133,1,9,9,2,19960319,642,-63.5028,144.4845,3906,1803.5,0.879,34.712,2,34.712,2,-999,5,205.7,2,109.8,2,32,2,-999,9,2.18,2,0.087,2,0.049,3,-999,9,-999,9,-999,9
    09AR9604_1,   UNK,133,1,8,8,2,19960319,642,-63.5028,144.4845,3906,2105.7,0.656,34.7,2,34.7,2,-999,5,208.6,2,114.9,2,32.4,2,-999,9,2.2,2,0.112,2,0.051,2,-999,9,-999,9,-999,9
    09AR9604_1,   UNK,133,1,7,7,2,19960319,642,-63.5028,144.4845,3906,2407.5,0.444,34.69,2,34.688,2,-999,5,213.6,2,119.3,2,32.2,2,-999,9,2.24,2,0.175,2,0.08,2,-999,9,-999,9,-999,9
    09AR9604_1,   UNK,133,1,6,6,2,19960319,642,-63.5028,144.4845,3906,2708,0.285,34.685,2,34.686,2,-999,5,218.1,2,122.1,2,32.5,2,-999,9,2.25,2,0.243,2,0.113,2,-999,9,-999,9,-999,9
    09AR9604_1,   UNK,133,1,5,5,2,19960319,642,-63.5028,144.4845,3906,3004.1,0.147,34.677,2,34.679,2,-999,5,223.1,2,119.3,2,32.1,2,-999,9,2.26,2,0.563,2,0.272,2,-999,9,-999,9,-999,9
    09AR9604_1,   UNK,133,1,4,4,2,19960319,642,-63.5028,144.4845,3906,3307.6,0.011,34.672,2,34.673,2,-999,5,229.4,2,108.8,2,32.3,2,-999,9,2.23,2,1.212,2,0.578,2,-999,9,-999,9,-999,9
    09AR9604_1,   UNK,133,1,3,3,2,19960319,642,-63.5028,144.4845,3906,3607,-0.078,34.671,2,34.672,2,-999,5,233.5,2,110.8,2,31.7,2,-999,9,2.24,2,1.294,2,0.617,2,-999,9,-999,9,-999,9
    09AR9604_1,   UNK,133,1,2,2,2,19960319,642,-63.5028,144.4845,3906,3851.1,-0.162,34.675,2,34.671,2,-999,5,236.1,2,113.5,2,31.8,2,-999,9,2.24,2,1.664,2,0.799,2,-999,9,-999,9,-999,9
    09AR9604_1,   UNK,133,1,1,1,2,19960319,642,-63.5028,144.4845,3906,3949,-0.257,34.665,2,34.664,2,-999,5,241.5,2,105.2,2,31.6,2,-999,9,2.22,2,2.128,2,1.018,2,-999,9,-999,9,-999,9
    09AR9604_1,   UNK,134,1,24,24,2,19960319,1627,-63.5117,146.3473,3890,11.2,1.202,33.856,2,33.851,2,-999,5,333.9,2,34.2,2,26.8,2,-999,9,1.77,2,5.856,2,2.963,2,-999,9,-999,9,-999,9
    09AR9604_1,   UNK,134,1,23,23,2,19960319,1627,-63.5117,146.3473,3890,49.8,1.153,33.877,2,33.876,2,-999,5,333.5,2,35.4,2,26.6,2,-999,9,1.76,2,-999,9,-999,9,-999,9,-999,9,-999,9
    09AR9604_1,   UNK,134,1,22,22,2,19960319,1627,-63.5117,146.3473,3890,101.1,1.378,34.508,4,34.506,2,-999,5,195.2,2,71,2,34.1,2,-999,9,2.4,2,1.551,2,0.74,2,-999,9,-999,9,-999,9
    09AR9604_1,   UNK,134,1,20,20,2,19960319,1627,-63.5117,146.3473,3890,172.5,1.839,34.611,3,34.61,2,-999,5,174,2,77.2,2,34,2,-999,9,2.39,2,0.673,2,0.318,2,-999,9,-999,9,-999,9
    09AR9604_1,   UNK,134,1,19,119,2,19960319,1627,-63.5117,146.3473,3890,219.4,1.917,34.641,2,34.64,2,-999,5,173.3,2,78.3,2,33.5,2,-999,9,2.35,2,-999,9,-999,9,-999,9,-999,9,-999,9
    09AR9604_1,   UNK,134,1,18,118,2,19960319,1627,-63.5117,146.3473,3890,299.1,1.925,34.674,2,34.673,2,-999,5,177.5,2,79.9,2,32.7,2,-999,9,2.24,2,0.376,2,0.173,2,-999,9,-999,9,-999,9
    09AR9604_1,   UNK,134,1,17,17,2,19960319,1627,-63.5117,146.3473,3890,400.1,1.851,34.691,2,34.691,2,-999,5,182,2,81.6,2,32.3,2,-999,9,2.23,2,-999,9,-999,9,-999,9,-999,9,-999,9
    09AR9604_1,   UNK,134,1,16,216,2,19960319,1627,-63.5117,146.3473,3890,501.8,1.837,34.711,2,34.713,2,-999,5,185.6,2,83.2,2,31.4,2,-999,9,2.18,2,0.257,6,0.12,6,-999,9,-999,9,-999,9
    09AR9604_1,   UNK,134,1,15,215,2,19960319,1627,-63.5117,146.3473,3890,600.2,1.806,34.725,2,34.725,2,-999,5,188.6,2,84.7,2,31.2,2,-999,9,2.15,2,-999,9,-999,9,-999,9,-999,9,-999,9
    09AR9604_1,   UNK,134,1,14,114,2,19960319,1627,-63.5117,146.3473,3890,701.5,1.742,34.732,2,34.733,2,-999,5,191.3,2,86.4,2,30.4,2,-999,9,2.14,2,0.173,2,0.078,2,-999,9,-999,9,-999,9
    09AR9604_1,   UNK,134,1,13,113,2,19960319,1627,-63.5117,146.3473,3890,850.7,1.635,34.736,2,34.736,2,-999,5,194.6,2,89.7,2,30.5,2,-999,9,2.12,2,-999,9,-999,9,-999,9,-999,9,-999,9
    09AR9604_1,   UNK,134,1,12,112,2,19960319,1627,-63.5117,146.3473,3890,1003,1.511,34.734,2,34.734,2,-999,5,197.5,2,93,2,30.7,2,-999,9,2.08,2,0.131,2,0.063,2,-999,9,-999,9,-999,9
    09AR9604_1,   UNK,134,1,11,11,2,19960319,1627,-63.5117,146.3473,3890,1202,1.348,34.732,2,34.73,2,-999,5,200.1,2,96.8,2,30.9,2,-999,9,2.11,2,-999,9,-999,9,-999,9,-999,9,-999,9
    09AR9604_1,   UNK,134,1,10,10,2,19960319,1627,-63.5117,146.3473,3890,1402.2,1.187,34.726,2,34.726,2,-999,5,202.6,2,101.5,2,30.9,2,-999,9,2.15,2,0.069,2,0.03,2,-999,9,-999,9,-999,9
    09AR9604_1,   UNK,134,1,9,9,2,19960319,1627,-63.5117,146.3473,3890,1702.4,0.958,34.714,2,34.716,2,-999,5,204.9,2,107.5,2,31.5,2,-999,9,2.15,2,-999,9,-999,9,-999,9,-999,9,-999,9
    09AR9604_1,   UNK,134,1,8,8,2,19960319,1627,-63.5117,146.3473,3890,2002.8,0.726,34.7,2,34.704,2,-999,5,207.9,2,112.3,2,31.7,2,-999,9,2.17,2,-999,9,-999,9,-999,9,-999,9,-999,9
    09AR9604_1,   UNK,134,1,7,7,2,19960319,1627,-63.5117,146.3473,3890,2303.6,0.524,34.692,2,34.692,2,-999,5,211.7,2,118.8,2,31.4,2,-999,9,2.22,2,-999,9,-999,9,-999,9,-999,9,-999,9
    09AR9604_1,   UNK,134,1,6,6,2,19960319,1627,-63.5117,146.3473,3890,2605.2,0.341,34.685,2,34.684,2,-999,5,216.8,2,121.5,2,32.1,2,-999,9,2.24,2,-999,9,-999,9,-999,9,-999,9,-999,9
    09AR9604_1,   UNK,134,1,5,5,2,19960319,1627,-63.5117,146.3473,3890,2905.4,0.217,34.681,2,34.682,2,-999,5,221.4,2,123,2,32.1,2,-999,9,2.24,2,0.28,2,0.134,2,-999,9,-999,9,-999,9
    09AR9604_1,   UNK,134,1,4,4,2,19960319,1627,-63.5117,146.3473,3890,3206.3,0.103,34.675,2,34.678,2,-999,5,225.2,2,124,2,32.1,2,-999,9,2.23,2,0.472,2,0.227,2,-999,9,-999,9,-999,9
    09AR9604_1,   UNK,134,1,3,3,2,19960319,1627,-63.5117,146.3473,3890,3506.9,-0.001,34.674,2,34.675,2,-999,5,229.8,2,119.3,2,31.5,2,-999,9,2.21,2,0.835,2,0.389,2,-999,9,-999,9,-999,9
    09AR9604_1,   UNK,134,1,2,2,2,19960319,1627,-63.5117,146.3473,3890,3823.3,-0.095,34.674,2,34.674,2,-999,5,234.2,2,111.1,2,31.5,2,-999,9,2.21,2,1.411,2,0.667,2,-999,9,-999,9,-999,9
    09AR9604_1,   UNK,134,1,1,1,2,19960319,1627,-63.5117,146.3473,3890,3923.3,-0.096,34.685,2,34.683,2,-999,5,234.7,2,104.9,2,31.7,2,-999,9,2.21,2,1.766,2,0.823,2,-999,9,-999,9,-999,9