BOTTLE,20211105CCHSIORKP
EXPOCODE,SECT_ID,STNNBR,CASTNO,SAMPNO,BTLNBR,BTLNBR_FLAG_W,DATE,TIME,LATITUDE,LONGITUDE,DEPTH,CTDPRS,CTDTMP,CTDSAL,CTDSAL_FLAG_W,SALNTY,SALNTY_FLAG_W,CTDOXY,CTDOXY_FLAG_W,OXYGEN,OXYGEN_FLAG_W,SILCAT,SILCAT_FLAG_W,NITRAT,NITRAT_FLAG_W,NITRIT,NITRIT_FLAG_W,PHSPHT,PHSPHT_FLAG_W,CFC-11,CFC-11_FLAG_W,CFC-12,CFC-12_FLAG_W,TRITUM,TRITUM_FLAG_W,HELIUM,HELIUM_FLAG_W,DELHE3,DELHE3_FLAG_W,DELC13,DELC13_FLAG_W,DELC14,DELC14_FLAG_W,C14ERR,NEON,NEON_FLAG_W,NEONER,HELIER,DELHER,THETA,TRITER
,,,,,,,,,,,METERS,DBAR,ITS-90,PSS-78,,PSS-78,,UMOL/KG,,UMOL/KG,,UMOL/KG,,UMOL/KG,,UMOL/KG,,UMOL/KG,,PMOL/KG,,PMOL/KG,,TU,,NMOL/KG,,PERCNT,,/MILLE,,/MILLE,,/MILLE,NMOL/KG,,NMOL/KG,NMOL/KG,PERCNT,DEG C,TU
  316N138_7,       P14C,      47,          1,          4,          4,2,19920911,       0953,   -19.0500,   177.6433,       2570,     2.1,  25.0504,  35.6620,2,  35.6626,2,    203.3,2,   210.0,2,    1.84,2,    0.05,2,    0.00,2,    0.14,2,   1.831,2,   1.034,2,-999.000,9,-999.0000,9, -999.00,9,    1.06,3,   101.0,2,     4.8,-999.000,9,-999.000,-999.0000,-999.000,  25.0499,-999.000
  316N138_7,       P14C,      47,          1,          5,          5,2,19920911,       0953,   -19.0500,   177.6433,       2570,    14.2,  25.0273,  35.6681,2,  35.6742,2,    201.3,2,   211.2,2,    1.82,2,    0.05,2,    0.00,2,    0.14,2,   1.806,2,   1.000,2,   0.976,2,   1.7880,2,   -1.21,2, -999.00,9,  -999.0,9,  -999.0,   7.074,2,   0.035,   0.0070,   0.110,  25.0243,   0.004
  316N138_7,       P14C,      47,          1,          6,          6,2,19920911,       0953,   -19.0500,   177.6433,       2570,    54.1,  24.5872,  35.7016,2,  35.6993,2,    218.1,2,   209.5,2,    1.81,2,    0.05,2,    0.00,2,    0.14,2,   1.854,2,   0.981,2,-999.000,5,   1.7870,2,   -1.04,2, -999.00,9,  -999.0,9,  -999.0,   7.089,2,   0.035,   0.0070,   0.110,  24.5756,-999.000
  316N138_7,       P14C,      47,          1,         13,         13,2,19920911,       0953,   -19.0500,   177.6433,       2570,   104.8,  23.8290,  35.6413,2,  35.6588,2,    213.0,2,   208.6,2,    1.80,2,    0.03,2,    0.02,2,    0.14,2,   1.881,2,   1.068,2,   1.015,2,   1.8000,2,   -0.97,2,    1.16,3,   114.1,2,     9.4,   7.165,2,   0.036,   0.0070,   0.110,  23.8070,   0.008
  316N138_7,       P14C,      47,          1,         14,         14,2,19920911,       0953,   -19.0500,   177.6433,       2570,   154.5,  22.4877,  35.6782,2,  35.6750,2,    181.5,2,   186.6,2,    1.78,2,    2.03,2,    0.04,2,    0.27,2,   1.859,2,   0.986,2,   0.777,2,   1.7950,2,   -0.50,2, -999.00,9,  -999.0,9,  -999.0,   7.211,2,   0.036,   0.0070,   0.110,  22.4566,   0.006
  316N138_7,       P14C,      47,          1,         15,         15,2,19920911,       0953,   -19.0500,   177.6433,       2570,   204.2,  20.8385,  35.7072,2,  35.6997,2,    174.9,2,   176.0,2,    1.96,2,    3.68,2,    0.02,2,    0.40,2,   1.842,2,   0.976,2,   0.494,2,   1.8030,2,   -0.18,2,    0.89,3,   120.4,2,     5.0,   7.273,2,   0.036,   0.0070,   0.110,  20.7994,   0.005
  316N138_7,       P14C,      47,          1,         16,         16,2,19920911,       0953,   -19.0500,   177.6433,       2570,   254.0,  19.1953,  35.6156,2,  35.6153,2,    176.6,2,   173.9,2,    2.14,2,    5.04,2,    0.01,2,    0.51,2,   1.749,2,   0.911,2,-999.000,9,-999.0000,9, -999.00,9, -999.00,9,  -999.0,9,  -999.0,-999.000,9,-999.000,-999.0000,-999.000,  19.1495,-999.000
  316N138_7,       P14C,      47,          1,         17,         17,2,19920911,       0953,   -19.0500,   177.6433,       2570,   305.1,  17.1014,  35.4448,2,  35.4475,2,    179.3,2,   176.7,2,    3.11,2,    6.84,2,    0.00,2,    0.63,2,   1.634,2,   0.846,2,   0.502,2,   1.8250,2,    0.73,2,    0.58,3,   100.9,2,     5.0,   7.504,2,   0.038,   0.0070,   0.110,  17.0505,   0.005
  316N138_7,       P14C,      47,          1,         18,         18,2,19920911,       0953,   -19.0500,   177.6433,       2570,   355.3,  14.9016,  35.2050,2,  35.2072,2,    172.5,2,   176.4,2,    4.46,2,   10.41,2,    0.00,2,    0.86,2,   1.366,2,   0.710,2,-999.000,9,-999.0000,9, -999.00,9, -999.00,9,  -999.0,9,  -999.0,-999.000,9,-999.000,-999.0000,-999.000,  14.8477,-999.000
  316N138_7,       P14C,      47,          1,         19,         19,2,19920911,       0953,   -19.0500,   177.6433,       2570,   404.7,  12.8910,  34.9941,2,  34.9868,2,    174.1,2,   174.7,2,    6.60,2,   13.90,2,    0.00,2,    1.10,2,   1.107,2,   0.579,2,   0.273,2,   1.8540,2,    1.51,2,    0.77,3,    66.2,2,     5.6,   7.757,2,   0.039,   0.0080,   0.110,  12.8352,   0.004
  316N138_7,       P14C,      47,          1,         20,         20,2,19920911,       0953,   -19.0500,   177.6433,       2570,   505.1,   9.5620,  34.6564,2,  34.6529,2,    183.2,2,   182.1,2,   11.09,2,   20.22,2,    0.00,2,    1.48,2,   0.674,2,   0.361,2,-999.000,9,   1.8720,2,    1.72,2,    0.34,3,   -25.6,2,     4.5,   7.946,2,   0.040,   0.0080,   0.110,   9.5043,-999.000
  316N138_7,       P14C,      47,          1,         21,         21,2,19920911,       0953,   -19.0500,   177.6433,       2570,   605.6,   7.6968,  34.4947,2,  34.4958,2,    187.5,2,   188.9,2,   15.58,2,   24.10,2,    0.00,2,    1.72,2,   0.440,2,   0.239,2,   0.104,2,   1.8840,2,    2.40,2,    0.44,3,   -40.2,6,     4.4,   8.040,2,   0.040,   0.0080,   0.110,   7.6357,   0.003
  316N138_7,       P14C,      47,          1,         22,         22,2,19920911,       0953,   -19.0500,   177.6433,       2570,   705.5,   6.0187,  34.3997,2,  34.4007,2,    189.1,2,   190.8,2,   24.96,2,   28.13,2,    0.00,2,    1.96,2,   0.176,2,   0.097,2,   0.036,2,   1.8990,2,    3.46,2,    0.19,3,   -91.4,2,     3.4,   8.141,2,   0.041,   0.0080,   0.110,   5.9560,   0.002
  316N138_7,       P14C,      47,          1,         23,         23,2,19920911,       0953,   -19.0500,   177.6433,       2570,   805.7,   5.0392,  34.4050,2,  34.4052,2,    177.0,2,   178.9,2,   39.04,2,   30.78,2,    0.00,2,    2.16,2,   0.062,2,   0.034,2,   0.018,2,   1.9150,2,    6.85,2,   -0.67,3,  -134.3,3,     2.6,   8.238,2,   0.041,   0.0080,   0.110,   4.9731,   0.002
  316N138_7,       P14C,      47,          1,         24,         24,2,19920911,       0953,   -19.0500,   177.6433,       2570,   906.2,   4.3307,  34.4492,2,  34.4474,2,    164.8,2,   164.2,2,   54.89,2,   33.01,2,    0.00,2,    2.31,2,   0.014,2,   0.005,2,   0.021,2,   1.9320,2,   11.79,2,    0.23,3,  -134.8,2,     2.7,   8.277,2,   0.041,   0.0080,   0.110,   4.2605,   0.002
  316N138_7,       P14C,      47,          1,         25,         25,2,19920911,       0953,   -19.0500,   177.6433,       2570,  1005.1,   4.0239,  34.4708,2,  34.4715,2,    156.0,2,   159.1,2,   63.90,2,   33.80,2,    0.00,2,    2.37,2,   0.009,2,   0.003,2,   0.011,2,   1.9460,2,   14.77,2,    0.34,3,  -151.2,2,     2.7,   8.298,2,   0.041,   0.0080,   0.110,   3.9476,   0.002
  316N138_7,       P14C,      47,          1,         26,         26,2,19920911,       0953,   -19.0500,   177.6433,       2570,  1105.1,   3.7181,  34.4975,2,  34.4952,2,    154.3,2,   155.6,2,   72.14,2,   34.19,2,    0.00,2,    2.40,2,   0.002,2,   0.000,2,-999.000,9,-999.0000,9, -999.00,9, -999.00,9,  -999.0,9,  -999.0,-999.000,9,-999.000,-999.0000,-999.000,   3.6360,-999.000
  316N138_7,       P14C,      47,          1,         27,         27,2,19920911,       0953,   -19.0500,   177.6433,       2570,  1206.1,   3.4352,  34.5231,2,  34.5226,2,    151.9,2,   151.9,2,   81.59,2,   34.77,2,    0.00,2,    2.43,2,   0.008,4,   0.013,4,   0.010,2,   1.9070,2,   21.49,2,    0.13,3,  -177.9,2,     3.3,   8.074,2,   0.040,   0.0080,   0.110,   3.3473,   0.002
  316N138_7,       P14C,      47,          1,         28,         28,2,19920911,       0953,   -19.0500,   177.6433,       2570,  1307.3,   3.2124,  34.5440,2,  34.5442,2,    151.1,2,   150.9,2,   88.10,2,   35.00,2,    0.00,2,    2.46,2,   0.001,2,  -0.002,2,-999.000,9,-999.0000,9, -999.00,9, -999.00,9,  -999.0,9,  -999.0,-999.000,9,-999.000,-999.0000,-999.000,   3.1183,-999.000
  316N138_7,       P14C,      47,          1,         29,         29,2,19920911,       0953,   -19.0500,   177.6433,       2570,  1408.6,   2.9296,  34.5704,2,  34.5709,2,    147.9,2,   147.7,2,   97.63,2,   35.27,2,    0.00,2,    2.48,2,  -0.003,2,  -0.004,2,  -0.001,2,   2.0090,2,   27.19,2,   -0.42,3,  -206.9,3,     3.2,   8.479,2,   0.042,   0.0080,   0.110,   2.8301,   0.002
  316N138_7,       P14C,      47,          1,         30,         30,2,19920911,       0953,   -19.0500,   177.6433,       2570,  1509.3,   2.8306,  34.5810,2,  34.5801,2,    148.2,2,   147.6,2,  100.01,2,   35.36,2,    0.00,2,    2.49,2,-999.000,9,-999.000,9,-999.000,9,-999.0000,9, -999.00,9, -999.00,9,  -999.0,9,  -999.0,-999.000,9,-999.000,-999.0000,-999.000,   2.7240,-999.000
  316N138_7,       P14C,      47,          1,         31,         31,2,19920911,       0953,   -19.0500,   177.6433,       2570,  1610.1,   2.6748,  34.5954,2,  34.5940,2,    147.7,2,   147.8,2,  105.01,2,   35.55,2,    0.00,2,    2.49,2,-999.000,9,-999.000,9,   0.029,2,   1.8380,2,   27.85,2, -999.00,9,  -999.0,9,  -999.0,   7.729,2,   0.039,   0.0080,   0.110,   2.5616,   0.003
  316N138_7,       P14C,      47,          1,         32,         32,2,19920911,       0953,   -19.0500,   177.6433,       2570,  1816.8,   2.4369,  34.6164,2,  34.6168,2,    150.1,2,   148.6,2,  111.04,2,   35.43,2,    0.00,2,    2.50,2,   0.001,2,   0.000,2,-999.000,9,-999.0000,9, -999.00,9,   -0.57,3,  -207.5,2,     3.5,-999.000,9,-999.000,-999.0000,-999.000,   2.3096,-999.000
  316N138_7,       P14C,      47,          1,         33,         33,2,19920911,       0953,   -19.0500,   177.6433,       2570,  2016.1,   2.2940,  34.6314,2,  34.6311,2,    150.9,2,   153.6,4,  114.46,2,   35.31,2,    0.00,2,    2.48,2,   0.000,2,   0.000,2,-999.000,9,-999.0000,9, -999.00,9, -999.00,9,  -999.0,9,  -999.0,-999.000,9,-999.000,-999.0000,-999.000,   2.1517,-999.000
  316N138_7,       P14C,      47,          1,         34,         34,2,19920911,       0953,   -19.0500,   177.6433,       2570,  2217.1,   2.1271,  34.6466,2,  34.6476,2,    150.7,2,   150.2,2,  119.74,2,   35.32,2,    0.00,2,    2.48,2,-999.000,9,-999.000,9,-999.000,9,-999.0000,9, -999.00,9,   -0.35,3,  -207.0,2,     2.5,-999.000,9,-999.000,-999.0000,-999.000,   1.9700,-999.000
  316N138_7,       P14C,      47,          1,         35,         35,2,19920911,       0953,   -19.0500,   177.6433,       2570,  2417.3,   2.0272,  34.6582,2,  34.6574,2,    150.4,2,   150.3,2,  122.59,2,   35.38,2,    0.00,2,    2.49,2,-999.000,9,-999.000,9,-999.000,9,-999.0000,9, -999.00,9, -999.00,9,  -999.0,9,  -999.0,-999.000,9,-999.000,-999.0000,-999.000,   1.8539,-999.000
  316N138_7,       P14C,      47,          1,         37,         37,2,19920911,       0953,   -19.0500,   177.6433,       2570,  2592.3,   2.0002,  34.6615,2,  34.6609,2,    148.8,2,   150.2,2,  123.81,2,   35.34,2,    0.00,2,    2.49,2,   0.001,2,  -0.004,2,-999.000,9,-999.0000,9, -999.00,9,   -1.73,3,  -235.7,3,     2.8,-999.000,9,-999.000,-999.0000,-999.000,   1.8114,-999.000