BOTTLE,20211105CCHSIORKP
EXPOCODE,SECT_ID,STNNBR,CASTNO,SAMPNO,BTLNBR,BTLNBR_FLAG_W,DATE,TIME,LATITUDE,LONGITUDE,DEPTH,CTDPRS,CTDTMP,CTDSAL,CTDSAL_FLAG_W,SALNTY,SALNTY_FLAG_W,CTDOXY,CTDOXY_FLAG_W,OXYGEN,OXYGEN_FLAG_W,SILCAT,SILCAT_FLAG_W,NITRAT,NITRAT_FLAG_W,NITRIT,NITRIT_FLAG_W,PHSPHT,PHSPHT_FLAG_W,CFC-11,CFC-11_FLAG_W,CFC-12,CFC-12_FLAG_W,TRITUM,TRITUM_FLAG_W,HELIUM,HELIUM_FLAG_W,DELHE3,DELHE3_FLAG_W,DELC13,DELC13_FLAG_W,DELC14,DELC14_FLAG_W,C14ERR,NEON,NEON_FLAG_W,NEONER,HELIER,DELHER,THETA,TRITER
,,,,,,,,,,,METERS,DBAR,ITS-90,PSS-78,,PSS-78,,UMOL/KG,,UMOL/KG,,UMOL/KG,,UMOL/KG,,UMOL/KG,,UMOL/KG,,PMOL/KG,,PMOL/KG,,TU,,NMOL/KG,,PERCNT,,/MILLE,,/MILLE,,/MILLE,NMOL/KG,,NMOL/KG,NMOL/KG,PERCNT,DEG C,TU
  316N138_7,       P14C,      21,          1,          1,          1,2,19920905,       1023,   -28.2767,   176.3000,       4473,     0.5,  19.0897,  35.6897,2,  35.6910,2,    230.8,2,   231.9,2,    1.68,2,    0.03,2,    0.01,2,    0.11,2,-999.000,9,-999.000,9,-999.000,9,-999.0000,9, -999.00,9,    1.44,2,   113.8,6,     2.4,-999.000,9,-999.000,-999.0000,-999.000,  19.0897,-999.000
  316N138_7,       P14C,      21,          1,          2,          2,2,19920905,       1023,   -28.2767,   176.3000,       4473,    16.8,  18.5054,  35.6977,2,  35.6782,2,    227.5,2,   233.0,2,   22.72,4,    0.14,2,    0.03,2,    0.14,2,   2.323,2,   1.216,2,-999.000,9,-999.0000,9, -999.00,9, -999.00,9,  -999.0,9,  -999.0,-999.000,9,-999.000,-999.0000,-999.000,  18.5025,-999.000
  316N138_7,       P14C,      21,          1,          3,          3,2,19920905,       1023,   -28.2767,   176.3000,       4473,    56.5,  18.0390,  35.6683,2,  35.6696,2,    229.8,2,   226.3,2,   23.08,4,    0.96,2,    0.12,2,    0.21,2,-999.000,9,-999.000,9,-999.000,9,-999.0000,9, -999.00,9, -999.00,9,  -999.0,9,  -999.0,-999.000,9,-999.000,-999.0000,-999.000,  18.0293,-999.000
  316N138_7,       P14C,      21,          1,          4,          4,2,19920905,       1023,   -28.2767,   176.3000,       4473,   106.5,  17.6886,  35.6537,2,  35.6564,2,    221.3,2,   224.3,2,   23.44,4,    1.48,2,    0.21,2,    0.25,2,   2.373,2,   1.260,2,-999.000,9,-999.0000,9, -999.00,9,    1.34,2,   112.6,2,     3.5,-999.000,9,-999.000,-999.0000,-999.000,  17.6705,-999.000
  316N138_7,       P14C,      21,          1,          5,          5,2,19920905,       1023,   -28.2767,   176.3000,       4473,   156.2,  16.9713,  35.5503,2,  35.5504,2,    207.6,2,   211.3,2,   23.60,4,    3.94,2,    0.02,2,    0.40,2,   2.292,2,   1.176,2,-999.000,9,-999.0000,9, -999.00,9, -999.00,9,  -999.0,9,  -999.0,-999.000,9,-999.000,-999.0000,-999.000,  16.9454,-999.000
  316N138_7,       P14C,      21,          1,          6,          6,2,19920905,       1023,   -28.2767,   176.3000,       4473,   206.3,  16.4180,  35.4945,2,  35.4923,2,    205.0,2,   200.7,2,   23.97,4,    5.69,2,    0.02,2,    0.51,2,   2.188,2,   1.124,2,-999.000,9,-999.0000,9, -999.00,9,    1.15,2,   106.2,2,     4.3,-999.000,9,-999.000,-999.0000,-999.000,  16.3846,-999.000
  316N138_7,       P14C,      21,          1,          7,          7,2,19920905,       1023,   -28.2767,   176.3000,       4473,   256.9,  15.3252,  35.3887,2,  35.3917,2,    198.5,2,   198.9,2,   24.53,4,    7.00,2,    0.01,2,    0.63,2,-999.000,9,-999.000,9,-999.000,9,-999.0000,9, -999.00,9, -999.00,9,  -999.0,9,  -999.0,-999.000,9,-999.000,-999.0000,-999.000,  15.2856,-999.000
  316N138_7,       P14C,      21,          1,          8,          8,2,19920905,       1023,   -28.2767,   176.3000,       4473,   306.5,  13.9339,  35.2213,2,  35.2432,2,    192.3,2,   187.7,2,   25.50,4,   10.49,2,    0.01,2,    0.81,2,   1.706,2,   0.873,2,-999.000,9,-999.0000,9, -999.00,9,    1.19,2,    87.1,2,     4.2,-999.000,9,-999.000,-999.0000,-999.000,  13.8894,-999.000
  316N138_7,       P14C,      21,          1,          9,          9,2,19920905,       1023,   -28.2767,   176.3000,       4473,   356.3,  12.9838,  35.1360,2,  35.1380,2,    195.6,2,   192.8,2,   26.67,4,   12.20,2,    0.01,2,    0.93,2,   1.790,2,   0.914,2,-999.000,9,-999.0000,9, -999.00,9, -999.00,9,  -999.0,9,  -999.0,-999.000,9,-999.000,-999.0000,-999.000,  12.9344,-999.000
  316N138_7,       P14C,      21,          1,         10,         10,2,19920905,       1023,   -28.2767,   176.3000,       4473,   406.2,  11.9648,  35.0143,2,  35.0189,2,    192.9,2,   191.7,2,   27.43,4,   14.30,2,    0.01,2,    1.06,2,   1.602,2,   0.806,2,-999.000,9,-999.0000,9, -999.00,9,    1.20,2,    48.8,2,     3.6,-999.000,9,-999.000,-999.0000,-999.000,  11.9115,-999.000
  316N138_7,       P14C,      21,          1,         11,         11,2,19920905,       1023,   -28.2767,   176.3000,       4473,   505.7,  10.0574,  34.7924,2,  34.7922,2,    190.4,2,   194.0,2,   29.61,4,   18.37,2,    0.01,2,    1.32,2,   1.223,2,   0.630,2,-999.000,9,-999.0000,9, -999.00,9,    1.24,2,    20.5,2,     4.4,-999.000,9,-999.000,-999.0000,-999.000,   9.9978,-999.000
  316N138_7,       P14C,      21,          1,         12,         12,2,19920905,       1023,   -28.2767,   176.3000,       4473,   605.0,   8.5757,  34.6224,2,  34.6204,2,    198.6,2,   201.9,2,   31.58,4,   21.35,2,    0.01,2,    1.49,2,   0.964,2,   0.487,2,-999.000,9,-999.0000,9, -999.00,9,    1.25,2,    -5.0,2,     3.4,-999.000,9,-999.000,-999.0000,-999.000,   8.5107,-999.000
  316N138_7,       P14C,      21,          1,         13,         13,2,19920905,       1023,   -28.2767,   176.3000,       4473,   705.3,   7.4710,  34.5043,2,  34.5106,2,    206.1,2,   206.9,2,   33.56,4,   23.37,2,    0.00,2,    1.63,2,   0.623,2,   0.335,2,-999.000,9,-999.0000,9, -999.00,9, -999.00,9,  -999.0,9,  -999.0,-999.000,9,-999.000,-999.0000,-999.000,   7.4006,-999.000
  316N138_7,       P14C,      21,          1,         14,         14,2,19920905,       1023,   -28.2767,   176.3000,       4473,   803.4,   6.5101,  34.4177,2,  34.4177,2,    208.2,2,   211.3,2,   36.54,4,   25.62,2,    0.00,2,    1.78,2,   0.367,2,   0.224,2,-999.000,9,-999.0000,9, -999.00,9,    1.26,2,   -51.3,2,     3.4,-999.000,9,-999.000,-999.0000,-999.000,   6.4352,-999.000
  316N138_7,       P14C,      21,          1,         15,         15,2,19920905,       1023,   -28.2767,   176.3000,       4473,   906.1,   5.9020,  34.4085,2,  34.4077,2,    202.0,2,   200.9,2,   43.14,4,   27.74,2,    0.00,2,    1.93,2,   0.207,2,   0.123,2,-999.000,9,-999.0000,9, -999.00,9, -999.00,9,  -999.0,9,  -999.0,-999.000,9,-999.000,-999.0000,-999.000,   5.8211,-999.000
  316N138_7,       P14C,      21,          1,         16,         16,2,19920905,       1023,   -28.2767,   176.3000,       4473,  1007.8,   5.1547,  34.4011,2,  34.3989,2,    190.8,2,   192.1,2,   51.15,4,   29.91,2,    0.00,2,    2.08,2,   0.101,2,   0.069,2,-999.000,9,-999.0000,9, -999.00,9,    1.02,2,  -103.5,2,     4.2,-999.000,9,-999.000,-999.0000,-999.000,   5.0696,-999.000
  316N138_7,       P14C,      21,          1,         17,         17,2,19920905,       1023,   -28.2767,   176.3000,       4473,  1109.2,   4.6125,  34.4173,2,  34.4164,2,    185.6,2,   184.3,2,   59.37,4,   31.46,2,    0.00,2,    2.18,2,-999.000,9,-999.000,9,-999.000,9,-999.0000,9, -999.00,9, -999.00,9,  -999.0,9,  -999.0,-999.000,9,-999.000,-999.0000,-999.000,   4.5226,-999.000
  316N138_7,       P14C,      21,          1,         18,         18,2,19920905,       1023,   -28.2767,   176.3000,       4473,  1211.1,   4.0218,  34.4407,2,  34.4385,2,    175.8,2,   177.1,2,   69.02,4,   32.89,2,    0.00,2,    2.29,2,   0.022,2,   0.017,2,-999.000,9,-999.0000,9, -999.00,9, -999.00,9,  -999.0,9,  -999.0,-999.000,9,-999.000,-999.0000,-999.000,   3.9281,-999.000
  316N138_7,       P14C,      21,          1,         19,         19,2,19920905,       1023,   -28.2767,   176.3000,       4473,  1314.0,   3.5101,  34.4909,2,  34.4913,2,    168.5,2,   168.7,2,   82.54,4,   33.83,2,    0.00,2,    2.37,2,   0.010,4,   0.016,4,-999.000,9,-999.0000,9, -999.00,9, -999.00,9,  -999.0,9,  -999.0,-999.000,9,-999.000,-999.0000,-999.000,   3.4125,-999.000
  316N138_7,       P14C,      21,          1,         20,         20,2,19920905,       1023,   -28.2767,   176.3000,       4473,  1415.3,   3.1885,  34.5392,2,  34.5380,2,    164.0,2,   162.5,2,   93.09,4,   34.33,2,    0.01,2,    2.41,2,   0.006,2,   0.006,2,-999.000,9,-999.0000,9, -999.00,9,    0.57,2,  -163.4,2,     3.5,-999.000,9,-999.000,-999.0000,-999.000,   3.0857,-999.000
  316N138_7,       P14C,      21,          1,         21,         21,2,19920905,       1023,   -28.2767,   176.3000,       4473,  1517.9,   2.9602,  34.5693,2,  34.5641,2,    159.2,2,   159.6,2,  100.01,4,   34.60,2,    0.00,2,    2.43,2,   0.004,2,   0.014,2,-999.000,9,-999.0000,9, -999.00,9, -999.00,9,  -999.0,9,  -999.0,-999.000,9,-999.000,-999.0000,-999.000,   2.8513,-999.000
  316N138_7,       P14C,      21,          1,         22,         22,2,19920905,       1023,   -28.2767,   176.3000,       4473,  1618.5,   2.7478,  34.5925,2,  34.5911,2,    155.9,2,   156.7,2,  106.14,4,   34.93,2,    0.00,2,    2.46,2,   0.002,2,  -0.001,2,-999.000,9,-999.0000,9, -999.00,9, -999.00,9,  -999.0,9,  -999.0,-999.000,9,-999.000,-999.0000,-999.000,   2.6331,-999.000
  316N138_7,       P14C,      21,          1,         23,         23,2,19920905,       1023,   -28.2767,   176.3000,       4473,  1819.5,   2.4762,  34.6181,2,  34.6169,2,    153.3,2,   154.0,2,  112.93,4,   35.16,2,    0.00,2,    2.47,2,-999.000,9,-999.000,9,-999.000,9,-999.0000,9, -999.00,9,    0.36,2,  -190.4,2,     2.9,-999.000,9,-999.000,-999.0000,-999.000,   2.3481,-999.000
  316N138_7,       P14C,      21,          1,         24,         24,2,19920905,       1023,   -28.2767,   176.3000,       4473,  2019.4,   2.2794,  34.6364,2,  34.6375,2,    153.1,2,   153.1,2,  117.89,4,   35.48,2,    0.00,2,    2.48,2,  -0.001,2,  -0.005,2,-999.000,9,-999.0000,9, -999.00,9, -999.00,9,  -999.0,9,  -999.0,-999.000,9,-999.000,-999.0000,-999.000,   2.1371,-999.000
  316N138_7,       P14C,      21,          1,         25,         25,2,19920905,       1023,   -28.2767,   176.3000,       4473,  2216.5,   2.1452,  34.6491,2,  34.6495,2,    153.2,2,   153.3,2,  120.58,4,   35.49,2,    0.00,2,    2.49,2,-999.000,9,-999.000,9,-999.000,9,-999.0000,9, -999.00,9,    0.27,2,  -201.0,2,     3.1,-999.000,9,-999.000,-999.0000,-999.000,   1.9878,-999.000
  316N138_7,       P14C,      21,          1,         26,         26,2,19920905,       1023,   -28.2767,   176.3000,       4473,  2413.7,   2.0389,  34.6591,2,  34.6595,2,    153.6,2,   153.6,2,  123.27,4,   35.58,2,    0.00,2,    2.50,2,  -0.002,2,   0.003,2,-999.000,9,-999.0000,9, -999.00,9, -999.00,9,  -999.0,9,  -999.0,-999.000,9,-999.000,-999.0000,-999.000,   1.8657,-999.000
  316N138_7,       P14C,      21,          1,         27,         27,2,19920905,       1023,   -28.2767,   176.3000,       4473,  2618.0,   1.9227,  34.6699,2,  34.6701,2,    154.5,2,   155.2,2,  125.34,4,   35.59,2,    0.00,2,    2.49,2,  -0.001,2,   0.001,2,-999.000,9,-999.0000,9, -999.00,9, -999.00,9,  -999.0,9,  -999.0,-999.000,9,-999.000,-999.0000,-999.000,   1.7330,-999.000
  316N138_7,       P14C,      21,          1,         28,         28,2,19920905,       1023,   -28.2767,   176.3000,       4473,  2823.2,   1.8839,  34.6743,2,  34.6739,2,    154.7,2,   155.0,2,  124.67,2,   35.55,2,    0.00,2,    2.47,2,-999.000,9,-999.000,9,-999.000,9,-999.0000,9, -999.00,9,    0.26,2,  -198.3,2,     3.5,-999.000,9,-999.000,-999.0000,-999.000,   1.6757,-999.000
  316N138_7,       P14C,      21,          1,         29,         29,2,19920905,       1023,   -28.2767,   176.3000,       4473,  3027.5,   1.8615,  34.6775,2,  34.6774,2,    156.0,2,   156.5,2,  126.11,2,   35.56,2,    0.00,2,    2.48,2,  -0.003,2,  -0.006,2,-999.000,9,-999.0000,9, -999.00,9, -999.00,9,  -999.0,9,  -999.0,-999.000,9,-999.000,-999.0000,-999.000,   1.6341,-999.000
  316N138_7,       P14C,      21,          1,         30,         30,2,19920905,       1023,   -28.2767,   176.3000,       4473,  3233.5,   1.8481,  34.6799,2,  34.6798,2,    156.1,2,   155.8,2,  126.71,2,   35.48,2,    0.00,2,    2.48,2,-999.000,9,-999.000,9,-999.000,9,-999.0000,9, -999.00,9, -999.00,9,  -999.0,9,  -999.0,-999.000,9,-999.000,-999.0000,-999.000,   1.6006,-999.000
  316N138_7,       P14C,      21,          1,         31,         31,2,19920905,       1023,   -28.2767,   176.3000,       4473,  3439.8,   1.8473,  34.6819,2,  34.6810,2,    156.0,2,   156.1,2,  127.09,2,   35.58,2,    0.00,2,    2.47,2,-999.000,9,-999.000,9,-999.000,9,-999.0000,9, -999.00,9,    0.21,2,  -207.2,2,     4.6,-999.000,9,-999.000,-999.0000,-999.000,   1.5787,-999.000
  316N138_7,       P14C,      21,          1,         32,         32,2,19920905,       1023,   -28.2767,   176.3000,       4473,  3647.4,   1.8556,  34.6825,2,  34.6824,2,    156.3,2,   156.0,2,  127.69,2,   35.49,2,    0.00,2,    2.47,2,  -0.002,2,   0.001,2,-999.000,9,-999.0000,9, -999.00,9, -999.00,9,  -999.0,9,  -999.0,-999.000,9,-999.000,-999.0000,-999.000,   1.5650,-999.000
  316N138_7,       P14C,      21,          1,         33,         33,2,19920905,       1023,   -28.2767,   176.3000,       4473,  3852.8,   1.8663,  34.6832,2,  34.6832,2,    157.0,2,   156.9,2,  128.29,2,   35.59,2,    0.00,2,    2.47,2,-999.000,9,-999.000,9,-999.000,9,-999.0000,9, -999.00,9,    0.16,2,  -205.7,2,     4.6,-999.000,9,-999.000,-999.0000,-999.000,   1.5533,-999.000
  316N138_7,       P14C,      21,          1,         34,         34,2,19920905,       1023,   -28.2767,   176.3000,       4473,  4056.1,   1.8819,  34.6835,2,  34.6828,2,    157.1,2,   156.3,2,  128.25,2,   35.51,2,    0.00,2,    2.48,2,-999.000,9,-999.000,9,-999.000,9,-999.0000,9, -999.00,9, -999.00,9,  -999.0,9,  -999.0,-999.000,9,-999.000,-999.0000,-999.000,   1.5460,-999.000
  316N138_7,       P14C,      21,          1,         35,         35,2,19920905,       1023,   -28.2767,   176.3000,       4473,  4258.3,   1.8997,  34.6840,2,  34.6832,2,    156.7,2,   156.2,2,  128.21,2,   35.43,2,    0.00,2,    2.47,2,   0.009,4,   0.022,4,-999.000,9,-999.0000,9, -999.00,9, -999.00,9,  -999.0,9,  -999.0,-999.000,9,-999.000,-999.0000,-999.000,   1.5404,-999.000
  316N138_7,       P14C,      21,          1,         37,         37,2,19920905,       1023,   -28.2767,   176.3000,       4473,  4528.8,   1.9292,  34.6840,2,  34.6840,2,    155.3,2,   156.5,2,  128.39,2,   35.48,2,    0.00,2,    2.48,2,   0.002,2,   0.001,2,-999.000,9,-999.0000,9, -999.00,9,    0.19,2,  -197.6,2,     3.3,-999.000,9,-999.000,-999.0000,-999.000,   1.5375,-999.000