BOTTLE,20211105CCHSIORKP
EXPOCODE,SECT_ID,STNNBR,CASTNO,SAMPNO,BTLNBR,BTLNBR_FLAG_W,DATE,TIME,LATITUDE,LONGITUDE,DEPTH,CTDPRS,CTDTMP,CTDSAL,CTDSAL_FLAG_W,SALNTY,SALNTY_FLAG_W,CTDOXY,CTDOXY_FLAG_W,OXYGEN,OXYGEN_FLAG_W,SILCAT,SILCAT_FLAG_W,NITRAT,NITRAT_FLAG_W,NITRIT,NITRIT_FLAG_W,PHSPHT,PHSPHT_FLAG_W,CFC-11,CFC-11_FLAG_W,CFC-12,CFC-12_FLAG_W,TRITUM,TRITUM_FLAG_W,HELIUM,HELIUM_FLAG_W,DELHE3,DELHE3_FLAG_W,DELC13,DELC13_FLAG_W,DELC14,DELC14_FLAG_W,C14ERR,NEON,NEON_FLAG_W,NEONER,HELIER,DELHER,THETA,TRITER
,,,,,,,,,,,METERS,DBAR,ITS-90,PSS-78,,PSS-78,,UMOL/KG,,UMOL/KG,,UMOL/KG,,UMOL/KG,,UMOL/KG,,UMOL/KG,,PMOL/KG,,PMOL/KG,,TU,,NMOL/KG,,PERCNT,,/MILLE,,/MILLE,,/MILLE,NMOL/KG,,NMOL/KG,NMOL/KG,PERCNT,DEG C,TU
  316N138_7,       P14C,      48,          1,          6,          6,2,19920911,       1437,   -18.8817,   177.7483,       2072,     2.2,  25.1174,  35.6735,2,  35.6752,2,    201.9,2,   206.7,2,    2.13,2,    0.07,2,    0.00,2,    0.15,2,-999.000,9,-999.000,9,-999.000,9,-999.0000,9, -999.00,9, -999.00,9,  -999.0,9,  -999.0,-999.000,9,-999.000,-999.0000,-999.000,  25.1169,-999.000
  316N138_7,       P14C,      48,          1,         13,         13,2,19920911,       1437,   -18.8817,   177.7483,       2072,    14.7,  25.1234,  35.6736,2,  35.6748,2,    196.9,2,   206.7,2,    2.10,2,    0.07,2,    0.00,2,    0.15,2,-999.000,9,-999.000,9,-999.000,9,-999.0000,9, -999.00,9, -999.00,9,  -999.0,9,  -999.0,-999.000,9,-999.000,-999.0000,-999.000,  25.1202,-999.000
  316N138_7,       P14C,      48,          1,         14,         14,2,19920911,       1437,   -18.8817,   177.7483,       2072,    53.8,  24.9783,  35.6871,2,  35.6880,2,    205.7,2,   205.9,2,    2.08,2,    0.07,2,    0.00,2,    0.15,2,-999.000,9,-999.000,9,-999.000,9,-999.0000,9, -999.00,9, -999.00,9,  -999.0,9,  -999.0,-999.000,9,-999.000,-999.0000,-999.000,  24.9666,-999.000
  316N138_7,       P14C,      48,          1,         15,         15,2,19920911,       1437,   -18.8817,   177.7483,       2072,   103.2,  24.3291,  35.7287,2,  35.7287,2,    210.7,2,   204.8,2,    2.05,2,    0.06,2,    0.01,2,    0.15,2,-999.000,9,-999.000,9,-999.000,9,-999.0000,9, -999.00,9, -999.00,9,  -999.0,9,  -999.0,-999.000,9,-999.000,-999.0000,-999.000,  24.3071,-999.000
  316N138_7,       P14C,      48,          1,         16,         16,2,19920911,       1437,   -18.8817,   177.7483,       2072,   153.3,  23.7580,  35.7155,2,  35.7177,2,    191.2,2,   196.4,2,    2.03,2,    0.58,2,    0.11,2,    0.19,2,-999.000,9,-999.000,9,-999.000,9,-999.0000,9, -999.00,9, -999.00,9,  -999.0,9,  -999.0,-999.000,9,-999.000,-999.0000,-999.000,  23.7259,-999.000
  316N138_7,       P14C,      48,          1,         17,         17,2,19920911,       1437,   -18.8817,   177.7483,       2072,   202.9,  21.0365,  35.7461,2,  35.7360,2,    169.8,2,   170.8,2,    1.81,2,    3.80,2,    0.01,2,    0.43,2,-999.000,9,-999.000,9,-999.000,9,-999.0000,9, -999.00,9, -999.00,9,  -999.0,9,  -999.0,-999.000,9,-999.000,-999.0000,-999.000,  20.9974,-999.000
  316N138_7,       P14C,      48,          1,         18,         18,2,19920911,       1437,   -18.8817,   177.7483,       2072,   252.6,  18.8393,  35.5915,2,  35.5893,2,    177.7,2,   177.0,2,    2.17,2,    4.97,2,    0.01,2,    0.49,2,-999.000,9,-999.000,9,-999.000,9,-999.0000,9, -999.00,9, -999.00,9,  -999.0,9,  -999.0,-999.000,9,-999.000,-999.0000,-999.000,  18.7943,-999.000
  316N138_7,       P14C,      48,          1,         19,         19,2,19920911,       1437,   -18.8817,   177.7483,       2072,   302.5,  16.9954,  35.4419,2,  35.4422,2,    177.7,2,   180.3,2,    3.31,2,    6.81,2,    0.01,2,    0.61,2,-999.000,9,-999.000,9,-999.000,9,-999.0000,9, -999.00,9, -999.00,9,  -999.0,9,  -999.0,-999.000,9,-999.000,-999.0000,-999.000,  16.9452,-999.000
  316N138_7,       P14C,      48,          1,         20,         20,2,19920911,       1437,   -18.8817,   177.7483,       2072,   352.3,  15.3225,  35.2652,2,  35.2572,2,    179.5,2,   176.3,2,    4.06,2,    9.56,2,    0.01,2,    0.80,2,-999.000,9,-999.000,9,-999.000,9,-999.0000,9, -999.00,9, -999.00,9,  -999.0,9,  -999.0,-999.000,9,-999.000,-999.0000,-999.000,  15.2680,-999.000
  316N138_7,       P14C,      48,          1,         21,         21,2,19920911,       1437,   -18.8817,   177.7483,       2072,   400.9,  13.3609,  35.0673,2,  35.0611,2,    178.9,2,   178.5,2,    5.59,2,   12.48,2,    0.01,2,    0.99,2,-999.000,9,-999.000,9,-999.000,9,-999.0000,9, -999.00,9, -999.00,9,  -999.0,9,  -999.0,-999.000,9,-999.000,-999.0000,-999.000,  13.3043,-999.000
  316N138_7,       P14C,      48,          1,         22,         22,2,19920911,       1437,   -18.8817,   177.7483,       2072,   500.5,   8.9773,  34.5993,2,  34.5977,2,    184.9,2,   186.7,2,   11.21,2,   20.97,2,    0.00,2,    1.52,2,-999.000,9,-999.000,9,-999.000,9,-999.0000,9, -999.00,9, -999.00,9,  -999.0,9,  -999.0,-999.000,9,-999.000,-999.0000,-999.000,   8.9223,-999.000
  316N138_7,       P14C,      48,          1,         23,         23,2,19920911,       1437,   -18.8817,   177.7483,       2072,   599.6,   7.2061,  34.4590,2,  34.4596,2,    188.8,2,   191.3,2,   17.21,2,   25.04,2,    0.00,2,    1.79,2,   0.372,2,   0.203,2,-999.000,9,-999.0000,9, -999.00,9, -999.00,9,  -999.0,9,  -999.0,-999.000,9,-999.000,-999.0000,-999.000,   7.1478,-999.000
  316N138_7,       P14C,      48,          1,         24,         24,2,19920911,       1437,   -18.8817,   177.7483,       2072,   700.3,   5.7808,  34.4121,2,  34.4153,2,    183.1,2,   182.8,2,   30.80,2,   28.83,2,    0.00,2,    2.03,2,   0.157,2,   0.089,2,-999.000,9,-999.0000,9, -999.00,9, -999.00,9,  -999.0,9,  -999.0,-999.000,9,-999.000,-999.0000,-999.000,   5.7199,-999.000
  316N138_7,       P14C,      48,          1,         25,         25,2,19920911,       1437,   -18.8817,   177.7483,       2072,   801.0,   4.9333,  34.4146,2,  34.4125,2,    180.2,2,    57.2,4,   41.08,2,   31.00,2,    0.00,2,    2.17,2,   0.056,2,   0.031,2,-999.000,9,-999.0000,9, -999.00,9, -999.00,9,  -999.0,9,  -999.0,-999.000,9,-999.000,-999.0000,-999.000,   4.8682,-999.000
  316N138_7,       P14C,      48,          1,         26,         26,2,19920911,       1437,   -18.8817,   177.7483,       2072,   902.5,   4.2907,  34.4502,2,  34.4500,2,    164.7,2,   166.4,2,   56.23,2,   32.66,2,    0.00,2,    2.29,2,   0.021,2,   0.010,2,-999.000,9,-999.0000,9, -999.00,9, -999.00,9,  -999.0,9,  -999.0,-999.000,9,-999.000,-999.0000,-999.000,   4.2211,-999.000
  316N138_7,       P14C,      48,          1,         27,         27,2,19920911,       1437,   -18.8817,   177.7483,       2072,  1004.4,   3.8879,  34.4829,2,  34.4811,2,    155.9,2,   157.0,2,   67.32,2,   33.91,2,    0.00,2,    2.38,2,   0.008,2,   0.006,2,-999.000,9,-999.0000,9, -999.00,9, -999.00,9,  -999.0,9,  -999.0,-999.000,9,-999.000,-999.0000,-999.000,   3.8128,-999.000
  316N138_7,       P14C,      48,          1,         28,         28,2,19920911,       1437,   -18.8817,   177.7483,       2072,  1105.9,   3.6441,  34.5031,2,  34.5046,2,    153.0,2,   155.1,2,   73.94,2,   34.13,2,    0.00,2,    2.40,2,-999.000,9,-999.000,9,-999.000,9,-999.0000,9, -999.00,9, -999.00,9,  -999.0,9,  -999.0,-999.000,9,-999.000,-999.0000,-999.000,   3.5626,-999.000
  316N138_7,       P14C,      48,          1,         29,         29,2,19920911,       1437,   -18.8817,   177.7483,       2072,  1207.1,   3.4242,  34.5232,2,  34.5240,2,    151.9,2,   152.6,2,   81.56,2,   34.48,2,    0.00,2,    2.43,2,-999.000,9,-999.000,9,-999.000,9,-999.0000,9, -999.00,9, -999.00,9,  -999.0,9,  -999.0,-999.000,9,-999.000,-999.0000,-999.000,   3.3363,-999.000
  316N138_7,       P14C,      48,          1,         30,         30,2,19920911,       1437,   -18.8817,   177.7483,       2072,  1308.4,   3.2164,  34.5438,2,  34.5428,2,    149.9,2,   150.0,2,   87.63,2,   34.83,2,    0.00,2,    2.46,2,-999.000,9,-999.000,9,-999.000,9,-999.0000,9, -999.00,9, -999.00,9,  -999.0,9,  -999.0,-999.000,9,-999.000,-999.0000,-999.000,   3.1221,-999.000
  316N138_7,       P14C,      48,          1,         31,         31,2,19920911,       1437,   -18.8817,   177.7483,       2072,  1410.1,   3.0415,  34.5606,2,  34.5600,2,    148.4,2,   148.3,2,   93.72,2,   35.10,2,    0.00,2,    2.47,2,-999.000,9,-999.000,9,-999.000,9,-999.0000,9, -999.00,9, -999.00,9,  -999.0,9,  -999.0,-999.000,9,-999.000,-999.0000,-999.000,   2.9407,-999.000
  316N138_7,       P14C,      48,          1,         32,         32,2,19920911,       1437,   -18.8817,   177.7483,       2072,  1510.3,   2.8736,  34.5758,2,  34.5765,2,    148.9,2,   148.2,2,   98.84,2,   35.15,2,    0.00,2,    2.47,2,-999.000,9,-999.000,9,-999.000,9,-999.0000,9, -999.00,9, -999.00,9,  -999.0,9,  -999.0,-999.000,9,-999.000,-999.0000,-999.000,   2.7664,-999.000
  316N138_7,       P14C,      48,          1,         33,         33,2,19920911,       1437,   -18.8817,   177.7483,       2072,  1610.5,   2.7237,  34.5890,2,  34.5908,2,    148.7,2,   148.0,2,  102.99,2,   35.28,2,    0.00,2,    2.48,2,-999.000,9,-999.000,9,-999.000,9,-999.0000,9, -999.00,9, -999.00,9,  -999.0,9,  -999.0,-999.000,9,-999.000,-999.0000,-999.000,   2.6099,-999.000
  316N138_7,       P14C,      48,          1,         34,         34,2,19920911,       1437,   -18.8817,   177.7483,       2072,  1812.3,   2.4819,  34.6132,2,  34.6178,2,    149.1,2,   148.6,2,  109.36,2,   35.25,2,    0.00,2,    2.48,2,-999.000,9,-999.000,9,-999.000,9,-999.0000,9, -999.00,9, -999.00,9,  -999.0,9,  -999.0,-999.000,9,-999.000,-999.0000,-999.000,   2.3543,-999.000
  316N138_7,       P14C,      48,          1,         35,         35,2,19920911,       1437,   -18.8817,   177.7483,       2072,  2013.0,   2.2680,  34.6335,2,  34.6345,2,    148.8,2,   149.3,2,  114.98,2,   35.21,2,    0.00,2,    2.47,2,-999.000,9,-999.000,9,-999.000,9,-999.0000,9, -999.00,9, -999.00,9,  -999.0,9,  -999.0,-999.000,9,-999.000,-999.0000,-999.000,   2.1264,-999.000
  316N138_7,       P14C,      48,          1,         37,         37,2,19920911,       1437,   -18.8817,   177.7483,       2072,  2104.8,   2.1821,  34.6423,2,  34.6411,2,    148.5,2,   149.4,2,  117.37,2,   35.26,2,    0.00,2,    2.48,2,-999.000,9,-999.000,9,-999.000,9,-999.0000,9, -999.00,9, -999.00,9,  -999.0,9,  -999.0,-999.000,9,-999.000,-999.0000,-999.000,   2.0339,-999.000
  316N138_7,       P14C,      49,          1,         13,         13,2,19920911,       1808,   -18.7500,   177.8300,       1878,     3.5,  25.0357,  35.6701,2,  35.6734,2,    205.9,2,   206.3,2,    2.19,2,    0.07,2,    0.00,2,    0.15,2,   1.802,2,   1.052,2,-999.000,9,-999.0000,9, -999.00,9, -999.00,9,  -999.0,9,  -999.0,-999.000,9,-999.000,-999.0000,-999.000,  25.0350,-999.000
  316N138_7,       P14C,      49,          1,         41,         41,2,19920911,       1808,   -18.7500,   177.8300,       1878,    14.0,  25.0397,  35.6701,2,  35.6729,2,    204.4,2,   206.9,2,    2.18,2,    0.07,2,    0.00,2,    0.15,2,-999.000,9,-999.000,9,-999.000,9,-999.0000,9, -999.00,9, -999.00,9,  -999.0,9,  -999.0,-999.000,9,-999.000,-999.0000,-999.000,  25.0367,-999.000
  316N138_7,       P14C,      49,          1,         15,         15,2,19920911,       1808,   -18.7500,   177.8300,       1878,    54.0,  25.0515,  35.6698,2,  35.6713,2,    211.1,2,   207.2,2,    2.16,2,    0.07,2,    0.00,2,    0.14,2,   1.839,2,   1.013,2,-999.000,9,-999.0000,9, -999.00,9, -999.00,9,  -999.0,9,  -999.0,-999.000,9,-999.000,-999.0000,-999.000,  25.0397,-999.000
  316N138_7,       P14C,      49,          1,         16,         16,2,19920911,       1808,   -18.7500,   177.8300,       1878,   102.3,  24.2875,  35.6304,2,  35.6376,2,    198.8,2,   206.9,2,    2.14,2,    0.07,2,    0.00,2,    0.11,2,   1.879,2,   1.009,2,-999.000,9,-999.0000,9, -999.00,9, -999.00,9,  -999.0,9,  -999.0,-999.000,9,-999.000,-999.0000,-999.000,  24.2658,-999.000
  316N138_7,       P14C,      49,          1,         17,         17,2,19920911,       1808,   -18.7500,   177.8300,       1878,   153.0,  23.6264,  35.7019,2,  35.7019,2,    204.6,2,   197.7,2,    2.13,2,    0.51,2,    0.10,2,    0.15,2,   1.869,2,   1.012,2,-999.000,9,-999.0000,9, -999.00,9, -999.00,9,  -999.0,9,  -999.0,-999.000,9,-999.000,-999.0000,-999.000,  23.5944,-999.000
  316N138_7,       P14C,      49,          1,         18,         18,2,19920911,       1808,   -18.7500,   177.8300,       1878,   201.9,  21.7760,  35.7648,2,  35.7642,2,    169.9,2,   171.5,2,    1.92,2,    3.38,2,    0.02,2,    0.39,2,   1.800,2,   0.932,2,-999.000,9,-999.0000,9, -999.00,9, -999.00,9,  -999.0,9,  -999.0,-999.000,9,-999.000,-999.0000,-999.000,  21.7362,-999.000
  316N138_7,       P14C,      49,          1,         19,         19,2,19920911,       1808,   -18.7500,   177.8300,       1878,   252.3,  19.1460,  35.6401,2,  35.7640,4,    176.6,2,   174.8,2,    2.29,2,    4.89,2,    0.01,2,    0.48,2,   1.736,2,   0.902,2,-999.000,9,-999.0000,9, -999.00,9, -999.00,9,  -999.0,9,  -999.0,-999.000,9,-999.000,-999.0000,-999.000,  19.1006,-999.000
  316N138_7,       P14C,      49,          1,         20,         20,2,19920911,       1808,   -18.7500,   177.8300,       1878,   303.2,  16.9107,  35.4258,2,  35.4261,2,    183.0,2,   177.8,2,    3.05,2,    6.98,2,    0.01,2,    0.62,2,   1.617,2,   0.834,2,-999.000,9,-999.0000,9, -999.00,9, -999.00,9,  -999.0,9,  -999.0,-999.000,9,-999.000,-999.0000,-999.000,  16.8605,-999.000
  316N138_7,       P14C,      49,          1,         21,         21,2,19920911,       1808,   -18.7500,   177.8300,       1878,   353.4,  14.9920,  35.2000,2,  35.1894,2,    167.2,2,   168.9,2,    4.97,2,   10.90,2,    0.00,2,    0.90,2,   1.293,2,   0.668,2,-999.000,9,-999.0000,9, -999.00,9, -999.00,9,  -999.0,9,  -999.0,-999.000,9,-999.000,-999.0000,-999.000,  14.9381,-999.000
  316N138_7,       P14C,      49,          1,         22,         22,2,19920911,       1808,   -18.7500,   177.8300,       1878,   404.4,  13.0191,  34.9952,2,  34.9948,2,    172.1,2,   172.2,2,    6.69,2,   13.82,2,    0.00,2,    1.09,2,   1.095,2,   0.568,2,-999.000,9,-999.0000,9, -999.00,9, -999.00,9,  -999.0,9,  -999.0,-999.000,9,-999.000,-999.0000,-999.000,  12.9630,-999.000
  316N138_7,       P14C,      49,          1,         23,         23,2,19920911,       1808,   -18.7500,   177.8300,       1878,   505.8,   9.0653,  34.6019,2,  34.6061,2,    184.3,2,   185.6,2,   11.13,2,   20.89,2,    0.00,2,    1.51,2,   0.649,2,   0.344,2,-999.000,9,-999.0000,9, -999.00,9, -999.00,9,  -999.0,9,  -999.0,-999.000,9,-999.000,-999.0000,-999.000,   9.0094,-999.000
  316N138_7,       P14C,      49,          1,         24,         24,2,19920911,       1808,   -18.7500,   177.8300,       1878,   606.2,   7.0662,  34.4536,2,  34.4563,2,    189.1,2,   189.5,2,   18.47,2,   25.50,2,    0.00,2,    1.80,2,   0.378,2,   0.194,2,-999.000,9,-999.0000,9, -999.00,9, -999.00,9,  -999.0,9,  -999.0,-999.000,9,-999.000,-999.0000,-999.000,   7.0080,-999.000
  316N138_7,       P14C,      49,          1,         25,         25,2,19920911,       1808,   -18.7500,   177.8300,       1878,   704.9,   5.7950,  34.4081,2,  34.4088,2,    182.8,2,   185.3,2,   29.10,2,   28.80,2,    0.00,2,    2.01,2,-999.000,9,-999.000,9,-999.000,9,-999.0000,9, -999.00,9, -999.00,9,  -999.0,9,  -999.0,-999.000,9,-999.000,-999.0000,-999.000,   5.7336,-999.000
  316N138_7,       P14C,      49,          1,         26,         26,2,19920911,       1808,   -18.7500,   177.8300,       1878,   807.3,   4.9533,  34.4187,2,  34.4200,2,    173.4,2,   175.1,2,   42.25,2,   31.13,2,    0.00,2,    2.17,2,   0.055,2,   0.033,2,-999.000,9,-999.0000,9, -999.00,9, -999.00,9,  -999.0,9,  -999.0,-999.000,9,-999.000,-999.0000,-999.000,   4.8876,-999.000
  316N138_7,       P14C,      49,          1,         27,         27,2,19920911,       1808,   -18.7500,   177.8300,       1878,   909.4,   4.3796,  34.4448,2,  34.4463,2,    164.2,2,   166.6,2,   54.44,2,   32.67,2,    0.00,2,    2.27,2,   0.026,2,   0.009,2,-999.000,9,-999.0000,9, -999.00,9, -999.00,9,  -999.0,9,  -999.0,-999.000,9,-999.000,-999.0000,-999.000,   4.3089,-999.000
  316N138_7,       P14C,      49,          1,         40,         40,2,19920911,       1808,   -18.7500,   177.8300,       1878,  1008.0,   4.0430,  34.4706,2,  34.4704,2,    159.5,2,   161.8,2,   63.15,2,   33.36,2,    0.00,2,    2.32,2,   0.016,2,   0.005,2,-999.000,9,-999.0000,9, -999.00,9, -999.00,9,  -999.0,9,  -999.0,-999.000,9,-999.000,-999.0000,-999.000,   3.9664,-999.000
  316N138_7,       P14C,      49,          1,         29,         29,2,19920911,       1808,   -18.7500,   177.8300,       1878,  1110.0,   3.6856,  34.5015,2,  34.4951,3,    155.2,2,   156.9,2,   71.88,2,   34.01,2,    0.00,2,    2.37,2,   0.005,2,   0.004,2,-999.000,9,-999.0000,9, -999.00,9, -999.00,9,  -999.0,9,  -999.0,-999.000,9,-999.000,-999.0000,-999.000,   3.6034,-999.000
  316N138_7,       P14C,      49,          1,         30,         30,2,19920911,       1808,   -18.7500,   177.8300,       1878,  1211.6,   3.4654,  34.5205,2,  34.5196,2,    153.1,2,   153.0,2, -999.00,9, -999.00,9, -999.00,9, -999.00,9,   0.002,2,  -0.001,2,-999.000,9,-999.0000,9, -999.00,9, -999.00,9,  -999.0,9,  -999.0,-999.000,9,-999.000,-999.0000,-999.000,   3.3768,-999.000
  316N138_7,       P14C,      49,          1,         31,         31,2,19920911,       1808,   -18.7500,   177.8300,       1878,  1312.8,   3.2302,  34.5422,2,  34.5430,2,    150.7,2,   150.4,2,   87.69,2,   34.88,2,    0.00,2,    2.41,2,-999.000,9,-999.000,9,-999.000,9,-999.0000,9, -999.00,9, -999.00,9,  -999.0,9,  -999.0,-999.000,9,-999.000,-999.0000,-999.000,   3.1354,-999.000
  316N138_7,       P14C,      49,          1,         32,         32,2,19920911,       1808,   -18.7500,   177.8300,       1878,  1414.2,   3.0202,  34.5623,2,  34.5634,2,    149.7,2,   149.6,2,   94.16,2,   34.97,2,    0.00,2,    2.44,2,   0.000,2,  -0.003,2,-999.000,9,-999.0000,9, -999.00,9, -999.00,9,  -999.0,9,  -999.0,-999.000,9,-999.000,-999.0000,-999.000,   2.9193,-999.000
  316N138_7,       P14C,      49,          1,         33,         33,2,19920911,       1808,   -18.7500,   177.8300,       1878,  1514.7,   2.8427,  34.5785,2,  34.5783,2,    149.8,2,   148.4,2,   99.27,2,   35.24,2,    0.00,2,    2.45,2,-999.000,9,-999.000,9,-999.000,9,-999.0000,9, -999.00,9, -999.00,9,  -999.0,9,  -999.0,-999.000,9,-999.000,-999.0000,-999.000,   2.7355,-999.000
  316N138_7,       P14C,      49,          1,         34,         34,2,19920911,       1808,   -18.7500,   177.8300,       1878,  1615.4,   2.7070,  34.5916,2,  34.5912,2,    149.6,2,   148.9,2,  103.61,2,   35.29,2,    0.00,2,    2.47,2,   0.002,2,   0.001,2,-999.000,9,-999.0000,9, -999.00,9, -999.00,9,  -999.0,9,  -999.0,-999.000,9,-999.000,-999.0000,-999.000,   2.5930,-999.000
  316N138_7,       P14C,      49,          1,         35,         35,2,19920911,       1808,   -18.7500,   177.8300,       1878,  1767.3,   2.5219,  34.6093,2,  34.6093,2,    148.2,2,   149.1,2,  108.17,2,   35.30,2,    0.00,2,    2.46,2,-999.000,9,-999.000,9,-999.000,9,-999.0000,9, -999.00,9, -999.00,9,  -999.0,9,  -999.0,-999.000,9,-999.000,-999.0000,-999.000,   2.3975,-999.000
  316N138_7,       P14C,      49,          1,         37,         37,2,19920911,       1808,   -18.7500,   177.8300,       1878,  1883.5,   2.3885,  34.6221,2,  34.6221,2,    148.3,2,   149.1,2,  111.96,2,   35.31,2,    0.00,2,    2.46,2,   0.003,2,  -0.004,2,-999.000,9,-999.0000,9, -999.00,9, -999.00,9,  -999.0,9,  -999.0,-999.000,9,-999.000,-999.0000,-999.000,   2.2561,-999.000