BOTTLE,20211105CCHSIORKP
EXPOCODE,SECT_ID,STNNBR,CASTNO,SAMPNO,BTLNBR,BTLNBR_FLAG_W,DATE,TIME,LATITUDE,LONGITUDE,DEPTH,CTDPRS,CTDTMP,CTDSAL,CTDSAL_FLAG_W,SALNTY,SALNTY_FLAG_W,CTDOXY,CTDOXY_FLAG_W,OXYGEN,OXYGEN_FLAG_W,SILCAT,SILCAT_FLAG_W,NITRAT,NITRAT_FLAG_W,NITRIT,NITRIT_FLAG_W,PHSPHT,PHSPHT_FLAG_W,CFC-11,CFC-11_FLAG_W,CFC-12,CFC-12_FLAG_W,TRITUM,TRITUM_FLAG_W,HELIUM,HELIUM_FLAG_W,DELHE3,DELHE3_FLAG_W,DELC13,DELC13_FLAG_W,DELC14,DELC14_FLAG_W,C14ERR,NEON,NEON_FLAG_W,NEONER,HELIER,DELHER,THETA,TRITER
,,,,,,,,,,,METERS,DBAR,ITS-90,PSS-78,,PSS-78,,UMOL/KG,,UMOL/KG,,UMOL/KG,,UMOL/KG,,UMOL/KG,,UMOL/KG,,PMOL/KG,,PMOL/KG,,TU,,NMOL/KG,,PERCNT,,/MILLE,,/MILLE,,/MILLE,NMOL/KG,,NMOL/KG,NMOL/KG,PERCNT,DEG C,TU
  316N138_7,       P14C,      46,          1,          1,          1,2,19920911,       0436,   -19.2150,   177.5817,       3001,     2.3,  24.8690,  35.7099,2,  35.7117,2,    195.8,2,   208.6,2,    2.18,2,    0.07,2,    0.00,2,    0.14,2,   1.835,2,   1.022,2,-999.000,9,-999.0000,9, -999.00,9, -999.00,9,  -999.0,9,  -999.0,-999.000,9,-999.000,-999.0000,-999.000,  24.8685,-999.000
  316N138_7,       P14C,      46,          1,          3,          3,2,19920911,       0436,   -19.2150,   177.5817,       3001,    15.0,  24.8705,  35.7083,2,  35.7183,2,    205.4,2,  -999.0,9, -999.00,9, -999.00,9, -999.00,9, -999.00,9,-999.000,9,-999.000,9,-999.000,9,-999.0000,9, -999.00,9, -999.00,9,  -999.0,9,  -999.0,-999.000,9,-999.000,-999.0000,-999.000,  24.8673,-999.000
  316N138_7,       P14C,      46,          1,          2,          2,2,19920911,       0436,   -19.2150,   177.5817,       3001,    15.4,  24.8722,  35.7090,2,  35.7091,2,    205.6,2,   208.6,2,    2.16,2,    0.06,2,    0.00,2,    0.13,2,-999.000,9,-999.000,9,-999.000,9,-999.0000,9, -999.00,9, -999.00,9,  -999.0,9,  -999.0,-999.000,9,-999.000,-999.0000,-999.000,  24.8689,-999.000
  316N138_7,       P14C,      46,          1,          4,          4,2,19920911,       0436,   -19.2150,   177.5817,       3001,    54.2,  24.3606,  35.7183,2,  35.7211,2,    204.9,2,   210.8,2,    2.13,2,    0.06,2,    0.00,2,    0.13,2,   1.891,2,   1.050,2,-999.000,9,-999.0000,9, -999.00,9, -999.00,9,  -999.0,9,  -999.0,-999.000,9,-999.000,-999.0000,-999.000,  24.3490,-999.000
  316N138_7,       P14C,      46,          1,          5,          5,9,19920911,       0436,   -19.2150,   177.5817,       3001,   105.3,  23.6005,  35.6721,2,-999.0000,9,    208.4,2,  -999.0,9, -999.00,9, -999.00,9, -999.00,9, -999.00,9,-999.000,9,-999.000,9,-999.000,9,-999.0000,9, -999.00,9, -999.00,9,  -999.0,9,  -999.0,-999.000,9,-999.000,-999.0000,-999.000,  23.5785,-999.000
  316N138_7,       P14C,      46,          1,          6,          6,2,19920911,       0436,   -19.2150,   177.5817,       3001,   155.2,  22.3134,  35.7004,2,  35.6952,2,    180.9,2,   180.0,2,    2.11,2,    2.37,2,    0.03,2,    0.30,2,   1.864,2,   0.998,2,-999.000,9,-999.0000,9, -999.00,9, -999.00,9,  -999.0,9,  -999.0,-999.000,9,-999.000,-999.0000,-999.000,  22.2823,-999.000
  316N138_7,       P14C,      46,          1,         13,         13,2,19920911,       0436,   -19.2150,   177.5817,       3001,   205.5,  20.5470,  35.6909,2,  35.6883,2,    174.2,2,   175.1,2,    2.08,2,    3.79,2,    0.01,2,    0.40,2,   1.840,2,   0.977,2,-999.000,9,-999.0000,9, -999.00,9, -999.00,9,  -999.0,9,  -999.0,-999.000,9,-999.000,-999.0000,-999.000,  20.5082,-999.000
  316N138_7,       P14C,      46,          1,         14,         14,2,19920911,       0436,   -19.2150,   177.5817,       3001,   255.3,  18.2556,  35.5439,2,  35.6867,4,    175.1,2,   175.0,2,    2.06,2,    3.79,2,    0.01,2,    0.40,4,-999.000,9,-999.000,9,-999.000,9,-999.0000,9, -999.00,9, -999.00,9,  -999.0,9,  -999.0,-999.000,9,-999.000,-999.0000,-999.000,  18.2111,-999.000
  316N138_7,       P14C,      46,          1,         15,         15,2,19920911,       0436,   -19.2150,   177.5817,       3001,   306.2,  16.2013,  35.3447,2,  35.3312,2,    174.8,2,   173.7,2,    4.02,2,    8.73,2,    0.01,2,    0.75,2,   1.488,2,   0.788,2,-999.000,9,-999.0000,9, -999.00,9, -999.00,9,  -999.0,9,  -999.0,-999.000,9,-999.000,-999.0000,-999.000,  16.1522,-999.000
  316N138_7,       P14C,      46,          1,         16,         16,2,19920911,       0436,   -19.2150,   177.5817,       3001,   354.4,  14.4725,  35.1634,2,  35.1563,2,    174.6,2,   172.7,2,    5.38,2,   11.41,2,    0.01,2,    0.93,2,-999.000,9,-999.000,9,-999.000,9,-999.0000,9, -999.00,9, -999.00,9,  -999.0,9,  -999.0,-999.000,9,-999.000,-999.0000,-999.000,  14.4197,-999.000
  316N138_7,       P14C,      46,          1,         17,         17,2,19920911,       0436,   -19.2150,   177.5817,       3001,   406.4,  12.5979,  34.9574,2,  34.9531,2,    175.3,2,   176.3,2,    7.13,2,   14.65,2,    0.01,2,    1.13,2,   1.060,2,   0.565,2,-999.000,9,-999.0000,9, -999.00,9, -999.00,9,  -999.0,9,  -999.0,-999.000,9,-999.000,-999.0000,-999.000,  12.5428,-999.000
  316N138_7,       P14C,      46,          1,         18,         18,2,19920911,       0436,   -19.2150,   177.5817,       3001,   507.8,   9.8995,  34.6875,2,  34.6845,2,    179.5,2,   180.9,2,   10.48,2,   19.77,2,    0.01,2,    1.45,2,-999.000,9,-999.000,9,-999.000,9,-999.0000,9, -999.00,9, -999.00,9,  -999.0,9,  -999.0,-999.000,9,-999.000,-999.0000,-999.000,   9.8402,-999.000
  316N138_7,       P14C,      46,          1,         19,         19,2,19920911,       0436,   -19.2150,   177.5817,       3001,   607.9,   7.5222,  34.4841,2,  34.4868,2,    190.3,2,   189.3,2,   16.79,2,   24.73,2,    0.01,2,    1.75,2,-999.000,9,-999.000,9,-999.000,9,-999.0000,9, -999.00,9, -999.00,9,  -999.0,9,  -999.0,-999.000,9,-999.000,-999.0000,-999.000,   7.4617,-999.000
  316N138_7,       P14C,      46,          1,         20,         20,2,19920911,       0436,   -19.2150,   177.5817,       3001,   708.6,   6.1619,  34.4093,2,  34.4109,2,    187.5,2,   188.1,2,   24.68,2,   28.12,2,    0.01,2,    1.96,2,-999.000,9,-999.000,9,-999.000,9,-999.0000,9, -999.00,9, -999.00,9,  -999.0,9,  -999.0,-999.000,9,-999.000,-999.0000,-999.000,   6.0982,-999.000
  316N138_7,       P14C,      46,          1,         21,         21,2,19920911,       0436,   -19.2150,   177.5817,       3001,   809.3,   5.2443,  34.4133,2,  34.4148,2,    176.7,2,   178.6,2,   38.12,2,   30.71,2,    0.01,2,    2.14,2,-999.000,9,-999.000,9,-999.000,9,-999.0000,9, -999.00,9, -999.00,9,  -999.0,9,  -999.0,-999.000,9,-999.000,-999.0000,-999.000,   5.1766,-999.000
  316N138_7,       P14C,      46,          1,         22,         22,2,19920911,       0436,   -19.2150,   177.5817,       3001,   910.6,   4.4966,  34.4284,2,  34.4254,2,    171.3,2,   172.7,2,   49.58,2,   32.45,2,    0.01,2,    2.26,2,-999.000,9,-999.000,9,-999.000,9,-999.0000,9, -999.00,9, -999.00,9,  -999.0,9,  -999.0,-999.000,9,-999.000,-999.0000,-999.000,   4.4249,-999.000
  316N138_7,       P14C,      46,          1,         23,         23,2,19920911,       0436,   -19.2150,   177.5817,       3001,  1010.7,   4.0977,  34.4637,2,  34.4624,2,    161.7,2,   163.0,2,   61.85,2,   33.71,2,    0.01,2,    2.34,2,-999.000,9,-999.000,9,-999.000,9,-999.0000,9, -999.00,9, -999.00,9,  -999.0,9,  -999.0,-999.000,9,-999.000,-999.0000,-999.000,   4.0205,-999.000
  316N138_7,       P14C,      46,          1,         24,         24,2,19920911,       0436,   -19.2150,   177.5817,       3001,  1111.3,   3.7456,  34.4933,2,  34.4926,2,    153.8,2,   157.0,2,   71.96,2,   34.49,2,    0.00,2,    2.40,2,-999.000,9,-999.000,9,-999.000,9,-999.0000,9, -999.00,9, -999.00,9,  -999.0,9,  -999.0,-999.000,9,-999.000,-999.0000,-999.000,   3.6628,-999.000
  316N138_7,       P14C,      46,          1,         25,         25,2,19920911,       0436,   -19.2150,   177.5817,       3001,  1212.2,   3.5058,  34.5162,2,  34.5157,2,    149.9,2,   154.0,2,   79.70,2,   34.76,2,    0.00,2,    2.44,2,-999.000,9,-999.000,9,-999.000,9,-999.0000,9, -999.00,9, -999.00,9,  -999.0,9,  -999.0,-999.000,9,-999.000,-999.0000,-999.000,   3.4167,-999.000
  316N138_7,       P14C,      46,          1,         26,         26,2,19920911,       0436,   -19.2150,   177.5817,       3001,  1314.3,   3.2308,  34.5428,2,  34.5416,2,    150.6,2,   151.0,2,   88.47,2,   35.11,2,    0.00,2,    2.46,2,-999.000,9,-999.000,9,-999.000,9,-999.0000,9, -999.00,9, -999.00,9,  -999.0,9,  -999.0,-999.000,9,-999.000,-999.0000,-999.000,   3.1359,-999.000
  316N138_7,       P14C,      46,          1,         27,         27,2,19920911,       0436,   -19.2150,   177.5817,       3001,  1415.8,   3.0326,  34.5618,2,  34.5604,2,    148.0,2,   149.2,2,   94.87,2,   35.33,2,    0.00,2,    2.49,2,-999.000,9,-999.000,9,-999.000,9,-999.0000,9, -999.00,9, -999.00,9,  -999.0,9,  -999.0,-999.000,9,-999.000,-999.0000,-999.000,   2.9314,-999.000
  316N138_7,       P14C,      46,          1,         28,         28,2,19920911,       0436,   -19.2150,   177.5817,       3001,  1516.7,   2.8220,  34.5807,2,  34.5816,2,    149.7,2,   149.0,2,  101.09,2,   35.60,2,    0.00,2,    2.49,2,-999.000,9,-999.000,9,-999.000,9,-999.0000,9, -999.00,9, -999.00,9,  -999.0,9,  -999.0,-999.000,9,-999.000,-999.0000,-999.000,   2.7148,-999.000
  316N138_7,       P14C,      46,          1,         29,         29,2,19920911,       0436,   -19.2150,   177.5817,       3001,  1617.5,   2.6798,  34.5944,2,  34.5927,2,    150.0,2,   149.2,2,  104.71,2,   35.60,2,    0.00,2,    2.49,2,-999.000,9,-999.000,9,-999.000,9,-999.0000,9, -999.00,9, -999.00,9,  -999.0,9,  -999.0,-999.000,9,-999.000,-999.0000,-999.000,   2.5659,-999.000
  316N138_7,       P14C,      46,          1,         30,         30,2,19920911,       0436,   -19.2150,   177.5817,       3001,  1819.9,   2.3950,  34.6210,2,  34.6210,2,    151.8,2,   149.9,2,  113.04,2,   35.60,2,    0.00,2,    2.49,2,-999.000,9,-999.000,9,-999.000,9,-999.0000,9, -999.00,9, -999.00,9,  -999.0,9,  -999.0,-999.000,9,-999.000,-999.0000,-999.000,   2.2679,-999.000
  316N138_7,       P14C,      46,          1,         31,         31,2,19920911,       0436,   -19.2150,   177.5817,       3001,  2022.3,   2.2344,  34.6366,2,  34.6363,2,    150.9,2,   149.9,2,  117.31,2,   35.64,2,    0.00,2,    2.50,2,-999.000,9,-999.000,9,-999.000,9,-999.0000,9, -999.00,9, -999.00,9,  -999.0,9,  -999.0,-999.000,9,-999.000,-999.0000,-999.000,   2.0924,-999.000
  316N138_7,       P14C,      46,          1,         32,         32,2,19920911,       0436,   -19.2150,   177.5817,       3001,  2225.2,   2.0977,  34.6500,2,  34.6500,2,    151.5,2,   150.7,2,  121.20,2,   35.65,2,    0.00,2,    2.49,2,-999.000,9,-999.000,9,-999.000,9,-999.0000,9, -999.00,9, -999.00,9,  -999.0,9,  -999.0,-999.000,9,-999.000,-999.0000,-999.000,   1.9403,-999.000
  316N138_7,       P14C,      46,          1,         33,         33,2,19920911,       0436,   -19.2150,   177.5817,       3001,  2428.2,   2.0357,  34.6567,2,  34.6578,2,    151.9,2,   150.5,2,  123.66,2,   35.82,2,    0.00,2,    2.49,2,-999.000,9,-999.000,9,-999.000,9,-999.0000,9, -999.00,9, -999.00,9,  -999.0,9,  -999.0,-999.000,9,-999.000,-999.0000,-999.000,   1.8613,-999.000
  316N138_7,       P14C,      46,          1,         34,         34,2,19920911,       0436,   -19.2150,   177.5817,       3001,  2631.8,   2.0144,  34.6594,2,  34.6604,2,    151.7,2,   150.6,2,  124.45,2,   35.69,2,    0.00,2,    2.49,2,-999.000,9,-999.000,9,-999.000,9,-999.0000,9, -999.00,9, -999.00,9,  -999.0,9,  -999.0,-999.000,9,-999.000,-999.0000,-999.000,   1.8217,-999.000
  316N138_7,       P14C,      46,          1,         35,         35,2,19920911,       0436,   -19.2150,   177.5817,       3001,  2835.1,   2.0081,  34.6620,2,  34.6623,2,    149.8,2,   150.9,2,  125.25,2,   35.65,2,    0.00,2,    2.49,2,-999.000,9,-999.000,9,-999.000,9,-999.0000,9, -999.00,9, -999.00,9,  -999.0,9,  -999.0,-999.000,9,-999.000,-999.0000,-999.000,   1.7963,-999.000
  316N138_7,       P14C,      46,          1,         37,         37,2,19920911,       0436,   -19.2150,   177.5817,       3001,  3034.2,   2.0156,  34.6636,2,  34.6633,2,    149.7,2,   150.6,2,  125.22,2,   35.70,2,    0.00,2,    2.50,2,-999.000,9,-999.000,9,-999.000,9,-999.0000,9, -999.00,9, -999.00,9,  -999.0,9,  -999.0,-999.000,9,-999.000,-999.0000,-999.000,   1.7842,-999.000