BOTTLE,20211105CCHSIORKP
EXPOCODE,SECT_ID,STNNBR,CASTNO,SAMPNO,BTLNBR,BTLNBR_FLAG_W,DATE,TIME,LATITUDE,LONGITUDE,DEPTH,CTDPRS,CTDTMP,CTDSAL,CTDSAL_FLAG_W,SALNTY,SALNTY_FLAG_W,CTDOXY,CTDOXY_FLAG_W,OXYGEN,OXYGEN_FLAG_W,SILCAT,SILCAT_FLAG_W,NITRAT,NITRAT_FLAG_W,NITRIT,NITRIT_FLAG_W,PHSPHT,PHSPHT_FLAG_W,CFC-11,CFC-11_FLAG_W,CFC-12,CFC-12_FLAG_W,TRITUM,TRITUM_FLAG_W,HELIUM,HELIUM_FLAG_W,DELHE3,DELHE3_FLAG_W,DELC13,DELC13_FLAG_W,DELC14,DELC14_FLAG_W,C14ERR,NEON,NEON_FLAG_W,NEONER,HELIER,DELHER,THETA,TRITER
,,,,,,,,,,,METERS,DBAR,ITS-90,PSS-78,,PSS-78,,UMOL/KG,,UMOL/KG,,UMOL/KG,,UMOL/KG,,UMOL/KG,,UMOL/KG,,PMOL/KG,,PMOL/KG,,TU,,NMOL/KG,,PERCNT,,/MILLE,,/MILLE,,/MILLE,NMOL/KG,,NMOL/KG,NMOL/KG,PERCNT,DEG C,TU
  316N138_7,       P14C,      20,          1,          3,          3,4,19920905,       0324,   -28.7083,   176.2250,       4189,     1.6,  18.2890,  35.6847,2,  35.6849,2,    235.4,2,   234.5,2,    1.28,2,    0.28,2,    0.07,2,    0.15,2,-999.000,9,-999.000,9,-999.000,9,-999.0000,9, -999.00,9, -999.00,9,  -999.0,9,  -999.0,-999.000,9,-999.000,-999.0000,-999.000,  18.2888,-999.000
  316N138_7,       P14C,      20,          1,          4,          4,4,19920905,       0324,   -28.7083,   176.2250,       4189,    16.7,  18.1768,  35.6857,2,  35.6837,2,    232.9,2,   233.7,2,    1.07,2,    0.30,2,    0.09,2,    0.15,2,   2.373,2,   1.246,2,-999.000,9,-999.0000,9, -999.00,9, -999.00,9,  -999.0,9,  -999.0,-999.000,9,-999.000,-999.0000,-999.000,  18.1739,-999.000
  316N138_7,       P14C,      20,          1,          5,          5,4,19920905,       0324,   -28.7083,   176.2250,       4189,    56.5,  17.9996,  35.6843,2,  35.6835,2,    234.4,2,   233.1,2,    1.06,2,    0.31,2,    0.08,2,    0.15,2,-999.000,9,-999.000,9,-999.000,9,-999.0000,9, -999.00,9, -999.00,9,  -999.0,9,  -999.0,-999.000,9,-999.000,-999.0000,-999.000,  17.9899,-999.000
  316N138_7,       P14C,      20,          1,          6,          6,4,19920905,       0324,   -28.7083,   176.2250,       4189,   105.2,  17.9003,  35.6801,2,  35.6806,2,    228.1,2,   228.9,2,    1.04,2,    0.76,2,    0.15,2,    0.20,2,   2.382,2,   1.243,2,-999.000,9,-999.0000,9, -999.00,9, -999.00,9,  -999.0,9,  -999.0,-999.000,9,-999.000,-999.0000,-999.000,  17.8823,-999.000
  316N138_7,       P14C,      20,          1,          7,          7,4,19920905,       0324,   -28.7083,   176.2250,       4189,   155.1,  17.5945,  35.6229,2,  35.6362,2,    218.9,2,   219.1,2,    1.62,2,    2.19,2,    0.07,2,    0.28,2,-999.000,9,-999.000,9,-999.000,9,-999.0000,9, -999.00,9, -999.00,9,  -999.0,9,  -999.0,-999.000,9,-999.000,-999.0000,-999.000,  17.5682,-999.000
  316N138_7,       P14C,      20,          1,          8,          8,4,19920905,       0324,   -28.7083,   176.2250,       4189,   205.0,  16.2163,  35.4639,2,  35.4653,2,    196.3,2,   196.2,2,    2.40,2,    6.41,2,    0.01,2,    0.55,2,   2.099,2,   1.072,2,-999.000,9,-999.0000,9, -999.00,9, -999.00,9,  -999.0,9,  -999.0,-999.000,9,-999.000,-999.0000,-999.000,  16.1835,-999.000
  316N138_7,       P14C,      20,          1,          9,          9,4,19920905,       0324,   -28.7083,   176.2250,       4189,   254.9,  15.4456,  35.3907,2,  35.3881,2,    192.2,2,   193.3,2,    2.78,2,    7.80,2,    0.01,2,    0.64,2,-999.000,9,-999.000,9,-999.000,9,-999.0000,9, -999.00,9, -999.00,9,  -999.0,9,  -999.0,-999.000,9,-999.000,-999.0000,-999.000,  15.4060,-999.000
  316N138_7,       P14C,      20,          1,         10,         10,4,19920905,       0324,   -28.7083,   176.2250,       4189,   304.2,  14.4064,  35.2888,2,  35.2885,2,    194.4,2,   194.6,2,    3.95,2,    9.40,2,    0.01,2,    0.74,2,   1.961,2,   1.002,2,-999.000,9,-999.0000,9, -999.00,9, -999.00,9,  -999.0,9,  -999.0,-999.000,9,-999.000,-999.0000,-999.000,  14.3613,-999.000
  316N138_7,       P14C,      20,          1,         11,         11,4,19920905,       0324,   -28.7083,   176.2250,       4189,   352.6,  13.5439,  35.1840,2,  35.1855,2,    191.7,2,   191.6,2,    4.33,2,   10.93,2,    0.01,2,    0.83,2,-999.000,9,-999.000,9,-999.000,9,-999.0000,9, -999.00,9, -999.00,9,  -999.0,9,  -999.0,-999.000,9,-999.000,-999.0000,-999.000,  13.4937,-999.000
  316N138_7,       P14C,      20,          1,         12,         12,4,19920905,       0324,   -28.7083,   176.2250,       4189,   403.0,  12.2032,  35.0388,2,  35.0453,2,    189.9,2,   191.2,2,    5.89,2,   13.66,2,    0.01,2,    1.00,2,   1.630,2,   0.817,2,-999.000,9,-999.0000,9, -999.00,9, -999.00,9,  -999.0,9,  -999.0,-999.000,9,-999.000,-999.0000,-999.000,  12.1495,-999.000
  316N138_7,       P14C,      20,          1,          1,          1,4,19920905,       0324,   -28.7083,   176.2250,       4189,   501.9,  10.2735,  34.8023,2,  34.8025,2,    195.4,2,   194.2,2,    7.65,2,   17.62,2,    0.00,2,    1.25,2,-999.000,9,-999.000,9,-999.000,9,-999.0000,9, -999.00,9, -999.00,9,  -999.0,9,  -999.0,-999.000,9,-999.000,-999.0000,-999.000,  10.2135,-999.000
  316N138_7,       P14C,      20,          1,         13,         13,2,19920905,       0324,   -28.7083,   176.2250,       4189,   600.8,   8.5256,  34.6069,2,  34.6059,2,    201.9,2,   201.8,2,   10.20,2,   21.06,2,    0.00,2,    1.47,2,-999.000,9,-999.000,9,-999.000,9,-999.0000,9, -999.00,9, -999.00,9,  -999.0,9,  -999.0,-999.000,9,-999.000,-999.0000,-999.000,   8.4613,-999.000
  316N138_7,       P14C,      20,          1,         14,         14,2,19920905,       0324,   -28.7083,   176.2250,       4189,   699.3,   7.5773,  34.5075,2,  34.5049,2,    208.0,2,   208.7,2,   11.97,2,   22.80,2,    0.00,2,    1.58,2,-999.000,9,-999.000,9,-999.000,9,-999.0000,9, -999.00,9, -999.00,9,  -999.0,9,  -999.0,-999.000,9,-999.000,-999.0000,-999.000,   7.5069,-999.000
  316N138_7,       P14C,      20,          1,         15,         15,2,19920905,       0324,   -28.7083,   176.2250,       4189,   798.2,   6.7904,  34.4493,2,  34.4473,2,    206.8,2,   207.6,2,   16.09,2,   24.81,2,    0.00,2,    1.72,2,   0.399,2,   0.224,2,-999.000,9,-999.0000,9, -999.00,9, -999.00,9,  -999.0,9,  -999.0,-999.000,9,-999.000,-999.0000,-999.000,   6.7143,-999.000
  316N138_7,       P14C,      20,          1,         16,         16,2,19920905,       0324,   -28.7083,   176.2250,       4189,   896.6,   5.9542,  34.4035,2,  34.4032,2,    201.0,2,   202.7,2,   22.38,2,   27.21,2,    0.00,2,    1.88,2,-999.000,9,-999.000,9,-999.000,9,-999.0000,9, -999.00,9, -999.00,9,  -999.0,9,  -999.0,-999.000,9,-999.000,-999.0000,-999.000,   5.8738,-999.000
  316N138_7,       P14C,      20,          1,         17,         17,2,19920905,       0324,   -28.7083,   176.2250,       4189,   996.1,   5.3596,  34.3986,2,  34.3977,2,    195.7,2,   194.7,2,   30.45,2,   29.05,2,    0.00,2,    2.00,2,-999.000,9,-999.000,9,-999.000,9,-999.0000,9, -999.00,9, -999.00,9,  -999.0,9,  -999.0,-999.000,9,-999.000,-999.0000,-999.000,   5.2741,-999.000
  316N138_7,       P14C,      20,          1,         18,         18,2,19920905,       0324,   -28.7083,   176.2250,       4189,  1096.2,   4.6389,  34.4058,2,  34.4064,2,    183.5,2,   184.6,2,   41.87,2,   31.03,2,    0.00,2,    2.15,2,-999.000,9,-999.000,9,-999.000,9,-999.0000,9, -999.00,9, -999.00,9,  -999.0,9,  -999.0,-999.000,9,-999.000,-999.0000,-999.000,   4.5500,-999.000
  316N138_7,       P14C,      20,          1,         19,         19,2,19920905,       0324,   -28.7083,   176.2250,       4189,  1195.2,   4.0470,  34.4534,2,  34.4538,2,    175.0,2,   175.7,2,   56.46,2,   32.27,2,    0.00,2,    2.25,2,   0.027,2,   0.020,2,-999.000,9,-999.0000,9, -999.00,9, -999.00,9,  -999.0,9,  -999.0,-999.000,9,-999.000,-999.0000,-999.000,   3.9545,-999.000
  316N138_7,       P14C,      20,          1,         20,         20,2,19920905,       0324,   -28.7083,   176.2250,       4189,  1294.6,   3.5694,  34.4912,2,  34.4913,2,    168.6,2,   169.0,2,   69.11,2,   33.15,2,    0.00,2,    2.31,2,-999.000,9,-999.000,9,-999.000,9,-999.0000,9, -999.00,9, -999.00,9,  -999.0,9,  -999.0,-999.000,9,-999.000,-999.0000,-999.000,   3.4728,-999.000
  316N138_7,       P14C,      20,          1,         21,         21,2,19920905,       0324,   -28.7083,   176.2250,       4189,  1394.9,   3.2078,  34.5348,2,  34.5372,2,    165.0,2,   163.9,2,   81.41,2,   33.82,2,    0.00,2,    2.35,2,-999.000,9,-999.000,9,-999.000,9,-999.0000,9, -999.00,9, -999.00,9,  -999.0,9,  -999.0,-999.000,9,-999.000,-999.0000,-999.000,   3.1065,-999.000
  316N138_7,       P14C,      20,          1,         38,         38,2,19920905,       0324,   -28.7083,   176.2250,       4189,  1493.2,   2.9989,  34.5654,2,  34.5662,2,    161.3,2,   160.2,2,   89.98,2,   33.99,2,    0.00,2,    2.37,2,-999.000,9,-999.000,9,-999.000,9,-999.0000,9, -999.00,9, -999.00,9,  -999.0,9,  -999.0,-999.000,9,-999.000,-999.0000,-999.000,   2.8917,-999.000
  316N138_7,       P14C,      20,          1,         23,         23,2,19920905,       0324,   -28.7083,   176.2250,       4189,  1592.3,   2.7943,  34.5887,2,  34.5888,2,    158.1,2,   157.6,2,   97.39,2,   34.30,2,    0.00,2,    2.39,2,-999.000,9,-999.000,9,-999.000,9,-999.0000,9, -999.00,9, -999.00,9,  -999.0,9,  -999.0,-999.000,9,-999.000,-999.0000,-999.000,   2.6811,-999.000
  316N138_7,       P14C,      20,          1,         24,         24,2,19920905,       0324,   -28.7083,   176.2250,       4189,  1790.5,   2.4869,  34.6169,2,  34.6178,2,    154.5,2,   154.7,2,  107.27,2,   34.79,2,    0.00,2,    2.42,2,-999.000,9,-999.000,9,-999.000,9,-999.0000,9, -999.00,9, -999.00,9,  -999.0,9,  -999.0,-999.000,9,-999.000,-999.0000,-999.000,   2.3611,-999.000
  316N138_7,       P14C,      20,          1,         25,         25,2,19920905,       0324,   -28.7083,   176.2250,       4189,  1992.4,   2.2784,  34.6363,2,  34.6378,2,    152.5,2,   153.9,2,  113.17,2,   34.97,2,    0.00,2,    2.44,2,-999.000,9,-999.000,9,-999.000,9,-999.0000,9, -999.00,9, -999.00,9,  -999.0,9,  -999.0,-999.000,9,-999.000,-999.0000,-999.000,   2.1384,-999.000
  316N138_7,       P14C,      20,          1,         26,         26,2,19920905,       0324,   -28.7083,   176.2250,       4189,  2194.4,   2.1239,  34.6505,2,  34.6506,2,    153.7,2,   152.9,2,  117.26,2,   34.93,2,    0.00,2,    2.44,2,-999.000,9,-999.000,9,-999.000,9,-999.0000,9, -999.00,9, -999.00,9,  -999.0,9,  -999.0,-999.000,9,-999.000,-999.0000,-999.000,   1.9688,-999.000
  316N138_7,       P14C,      20,          1,         27,         27,2,19920905,       0324,   -28.7083,   176.2250,       4189,  2396.3,   2.0117,  34.6611,2,  34.6616,2,    153.6,2,   153.6,2,  119.93,2,   34.93,2,    0.00,2,    2.43,2,-999.000,9,-999.000,9,-999.000,9,-999.0000,9, -999.00,9, -999.00,9,  -999.0,9,  -999.0,-999.000,9,-999.000,-999.0000,-999.000,   1.8406,-999.000
  316N138_7,       P14C,      20,          1,         28,         28,2,19920905,       0324,   -28.7083,   176.2250,       4189,  2599.4,   1.9448,  34.6683,2,  34.6694,2,    153.9,2,   154.2,2,  121.99,2,   34.93,2,    0.00,2,    2.44,2,-999.000,9,-999.000,9,-999.000,9,-999.0000,9, -999.00,9, -999.00,9,  -999.0,9,  -999.0,-999.000,9,-999.000,-999.0000,-999.000,   1.7564,-999.000
  316N138_7,       P14C,      20,          1,         29,         29,2,19920905,       0324,   -28.7083,   176.2250,       4189,  2803.2,   1.8903,  34.6742,2,  34.6749,2,    154.8,2,   154.5,2,  124.05,2,   35.02,2,    0.00,2,    2.44,2,-999.000,9,-999.000,9,-999.000,9,-999.0000,9, -999.00,9, -999.00,9,  -999.0,9,  -999.0,-999.000,9,-999.000,-999.0000,-999.000,   1.6839,-999.000
  316N138_7,       P14C,      20,          1,         30,         30,2,19920905,       0324,   -28.7083,   176.2250,       4189,  3007.4,   1.8681,  34.6769,2,  34.6775,2,    154.2,2,   155.3,2,  124.88,2,   35.02,2,    0.00,2,    2.43,2,-999.000,9,-999.000,9,-999.000,9,-999.0000,9, -999.00,9, -999.00,9,  -999.0,9,  -999.0,-999.000,9,-999.000,-999.0000,-999.000,   1.6425,-999.000
  316N138_7,       P14C,      20,          1,         31,         31,2,19920905,       0324,   -28.7083,   176.2250,       4189,  3213.1,   1.8476,  34.6797,2,  34.6809,2,    155.4,2,   155.5,2,  125.70,2,   34.94,2,    0.00,2,    2.44,2,-999.000,9,-999.000,9,-999.000,9,-999.0000,9, -999.00,9, -999.00,9,  -999.0,9,  -999.0,-999.000,9,-999.000,-999.0000,-999.000,   1.6021,-999.000
  316N138_7,       P14C,      20,          1,         32,         32,2,19920905,       0324,   -28.7083,   176.2250,       4189,  3416.4,   1.8463,  34.6812,2,  34.6818,2,    155.4,2,   155.9,2,  126.11,2,   34.98,2,    0.00,2,    2.45,2,-999.000,9,-999.000,9,-999.000,9,-999.0000,9, -999.00,9, -999.00,9,  -999.0,9,  -999.0,-999.000,9,-999.000,-999.0000,-999.000,   1.5802,-999.000
  316N138_7,       P14C,      20,          1,         33,         33,2,19920905,       0324,   -28.7083,   176.2250,       4189,  3621.0,   1.8524,  34.6826,2,  34.6838,2,    155.8,2,   155.9,2,  126.73,2,   34.94,2,    0.00,2,    2.44,2,-999.000,9,-999.000,9,-999.000,9,-999.0000,9, -999.00,9, -999.00,9,  -999.0,9,  -999.0,-999.000,9,-999.000,-999.0000,-999.000,   1.5647,-999.000
  316N138_7,       P14C,      20,          1,         34,         34,2,19920905,       0324,   -28.7083,   176.2250,       4189,  3826.2,   1.8673,  34.6825,2,  34.6830,2,    156.0,2,   156.1,2,  126.94,2,   34.99,2,    0.00,2,    2.44,2,-999.000,9,-999.000,9,-999.000,9,-999.0000,9, -999.00,9, -999.00,9,  -999.0,9,  -999.0,-999.000,9,-999.000,-999.0000,-999.000,   1.5572,-999.000
  316N138_7,       P14C,      20,          1,         35,         35,2,19920905,       0324,   -28.7083,   176.2250,       4189,  4031.5,   1.8841,  34.6829,2,  34.6980,4,    157.5,2,   156.0,2,  127.35,2,   34.90,2,    0.00,2,    2.44,2,-999.000,9,-999.000,9,-999.000,9,-999.0000,9, -999.00,9, -999.00,9,  -999.0,9,  -999.0,-999.000,9,-999.000,-999.0000,-999.000,   1.5509,-999.000
  316N138_7,       P14C,      20,          1,         37,         37,2,19920905,       0324,   -28.7083,   176.2250,       4189,  4231.1,   1.9063,  34.6835,2,  34.6837,2,    156.7,2,   156.8,2,  127.34,2,   34.95,2,    0.00,2,    2.44,2,-999.000,9,-999.000,9,-999.000,9,-999.0000,9, -999.00,9, -999.00,9,  -999.0,9,  -999.0,-999.000,9,-999.000,-999.0000,-999.000,   1.5499,-999.000