BOTTLE,20211105CCHSIORKP
EXPOCODE,SECT_ID,STNNBR,CASTNO,SAMPNO,BTLNBR,BTLNBR_FLAG_W,DATE,TIME,LATITUDE,LONGITUDE,DEPTH,CTDPRS,CTDTMP,CTDSAL,CTDSAL_FLAG_W,SALNTY,SALNTY_FLAG_W,CTDOXY,CTDOXY_FLAG_W,OXYGEN,OXYGEN_FLAG_W,SILCAT,SILCAT_FLAG_W,NITRAT,NITRAT_FLAG_W,NITRIT,NITRIT_FLAG_W,PHSPHT,PHSPHT_FLAG_W,CFC-11,CFC-11_FLAG_W,CFC-12,CFC-12_FLAG_W,TRITUM,TRITUM_FLAG_W,HELIUM,HELIUM_FLAG_W,DELHE3,DELHE3_FLAG_W,DELC13,DELC13_FLAG_W,DELC14,DELC14_FLAG_W,C14ERR,NEON,NEON_FLAG_W,NEONER,HELIER,DELHER,THETA,TRITER
,,,,,,,,,,,METERS,DBAR,ITS-90,PSS-78,,PSS-78,,UMOL/KG,,UMOL/KG,,UMOL/KG,,UMOL/KG,,UMOL/KG,,UMOL/KG,,PMOL/KG,,PMOL/KG,,TU,,NMOL/KG,,PERCNT,,/MILLE,,/MILLE,,/MILLE,NMOL/KG,,NMOL/KG,NMOL/KG,PERCNT,DEG C,TU
  316N138_7,       P14C,      16,          1,          1,          1,2,19920904,       0510,   -30.4483,   175.9333,     -999.0,     1.4,  17.8048,  35.6564,2,  35.6551,2,    234.5,2,   231.6,2,    1.73,2,    1.07,2,    0.09,2,    0.22,2,-999.000,9,-999.000,9,-999.000,9,-999.0000,9, -999.00,9, -999.00,9,  -999.0,9,  -999.0,-999.000,9,-999.000,-999.0000,-999.000,  17.8046,-999.000
  316N138_7,       P14C,      16,          1,          2,          2,2,19920904,       0510,   -30.4483,   175.9333,     -999.0,    15.3,  17.7899,  35.6619,2,  35.6604,2,    234.9,2,   229.3,2,    1.72,2,    1.22,2,    0.11,2,    0.22,2,-999.000,9,-999.000,9,   0.735,2,   1.8030,2,   -1.29,2, -999.00,9,  -999.0,9,  -999.0,   7.381,2,   0.037,   0.0070,   0.110,  17.7873,   0.007
  316N138_7,       P14C,      16,          1,          3,          3,2,19920904,       0510,   -30.4483,   175.9333,     -999.0,    56.3,  17.7079,  35.6545,2,  35.6535,2,    223.8,2,   227.1,2,    1.72,2,    1.42,2,    0.13,2,    0.25,2,-999.000,9,-999.000,9,-999.000,9,-999.0000,9, -999.00,9, -999.00,9,  -999.0,9,  -999.0,-999.000,9,-999.000,-999.0000,-999.000,  17.6984,-999.000
  316N138_7,       P14C,      16,          1,          4,          4,2,19920904,       0510,   -30.4483,   175.9333,     -999.0,   105.4,  16.8968,  35.5392,2,  35.5328,2,    209.3,2,   201.8,2,    2.31,2,    5.00,2,    0.02,2,    0.46,2,-999.000,9,-999.000,9,-999.000,9,   1.8180,2,   -0.43,2, -999.00,9,  -999.0,9,  -999.0,   7.476,2,   0.037,   0.0070,   0.110,  16.8794,-999.000
  316N138_7,       P14C,      16,          1,          5,          5,2,19920904,       0510,   -30.4483,   175.9333,     -999.0,   156.0,  16.2682,  35.4765,2,  35.4886,2,    211.3,2,   211.1,2,    2.50,2,    5.06,3,    0.05,2,    0.56,2,   2.231,2,   1.152,2,-999.000,9,-999.0000,9, -999.00,9, -999.00,9,  -999.0,9,  -999.0,-999.000,9,-999.000,-999.0000,-999.000,  16.2432,-999.000
  316N138_7,       P14C,      16,          1,          6,          6,4,19920904,       0510,   -30.4483,   175.9333,     -999.0,   206.6,  15.6258,  35.4093,2,  35.0766,4,    194.6,2,   194.3,4,   11.28,4,   14.30,4,    0.00,4,    1.06,4,-999.000,9,-999.000,9,-999.000,9,-999.0000,9, -999.00,9, -999.00,9,  -999.0,9,  -999.0,-999.000,9,-999.000,-999.0000,-999.000,  15.5935,-999.000
  316N138_7,       P14C,      16,          1,          7,          7,2,19920904,       0510,   -30.4483,   175.9333,     -999.0,   257.1,  14.7704,  35.3275,2,  35.3349,2,    194.6,2,   195.9,2,    3.68,2,    8.66,2,    0.01,2,    0.70,2,-999.000,9,-999.000,9,-999.000,9,-999.0000,9, -999.00,9, -999.00,9,  -999.0,9,  -999.0,-999.000,9,-999.000,-999.0000,-999.000,  14.7317,-999.000
  316N138_7,       P14C,      16,          1,          9,          9,2,19920904,       0510,   -30.4483,   175.9333,     -999.0,   306.7,  13.3486,  35.1737,2,  35.1763,2,    190.0,2,   192.8,2,    4.86,2,   11.43,2,    0.00,2,    0.88,2,-999.000,9,-999.000,9,   0.511,2,   1.8390,2,    0.30,2, -999.00,9,  -999.0,9,  -999.0,   7.689,2,   0.038,   0.0080,   0.110,  13.3054,   0.004
  316N138_7,       P14C,      16,          1,          8,          8,2,19920904,       0510,   -30.4483,   175.9333,     -999.0,   307.2,  13.4204,  35.1821,2,  35.1848,2,    190.7,2,   192.8,2,    4.87,2,   11.30,2,    0.00,2,    0.86,2,   1.829,2,   0.942,2,-999.000,9,-999.0000,9, -999.00,9, -999.00,9,  -999.0,9,  -999.0,-999.000,9,-999.000,-999.0000,-999.000,  13.3770,-999.000
  316N138_7,       P14C,      16,          1,         10,         10,2,19920904,       0510,   -30.4483,   175.9333,     -999.0,   357.4,  12.4091,  35.0681,2,  35.0682,2,    195.9,2,   192.9,2,    5.85,2,   13.34,2,    0.00,2,    0.98,2,-999.000,9,-999.000,9,-999.000,9,-999.0000,9, -999.00,9, -999.00,9,  -999.0,9,  -999.0,-999.000,9,-999.000,-999.0000,-999.000,  12.3611,-999.000
  316N138_7,       P14C,      16,          1,         11,         11,2,19920904,       0510,   -30.4483,   175.9333,     -999.0,   407.1,  11.5992,  34.9748,2,  34.9796,2,    193.8,2,   192.6,2,    6.84,2,   14.98,2,    0.00,2,    1.09,2,-999.000,9,-999.000,9,   0.441,2,   1.8430,2,    0.74,2, -999.00,9,  -999.0,9,  -999.0,   7.767,2,   0.039,   0.0080,   0.110,  11.5468,   0.004
  316N138_7,       P14C,      16,          1,         12,         12,2,19920904,       0510,   -30.4483,   175.9333,     -999.0,   507.1,  10.1882,  34.8065,2,  34.8205,4,    194.9,2,   192.9,2,    8.83,2,   18.10,2,    0.00,2,    1.28,2,   1.539,4,   0.659,2,   0.343,2,   1.8320,2,    1.06,2, -999.00,9,  -999.0,9,  -999.0,   7.764,2,   0.039,   0.0080,   0.110,  10.1279,   0.003
  316N138_7,       P14C,      16,          1,         13,         13,2,19920904,       0510,   -30.4483,   175.9333,     -999.0,   710.1,   7.8643,  34.5728,2,  34.5766,2,    197.5,2,   199.7,2,   15.22,2,   23.05,2,    0.00,2,    1.60,2,-999.000,9,-999.000,9,-999.000,9,-999.0000,9, -999.00,9, -999.00,9,  -999.0,9,  -999.0,-999.000,9,-999.000,-999.0000,-999.000,   7.7913,-999.000
  316N138_7,       P14C,      16,          1,         14,         14,2,19920904,       0510,   -30.4483,   175.9333,     -999.0,   809.8,   6.8216,  34.4617,2,  34.4609,2,    207.2,2,   205.7,2,   17.21,2,   25.14,2,    0.00,2,    1.73,2,   0.423,2,   0.233,2,-999.000,9,   1.8810,2,    2.19,2, -999.00,9,  -999.0,9,  -999.0,   8.112,2,   0.041,   0.0080,   0.110,   6.7441,-999.000
  316N138_7,       P14C,      16,          1,         15,         15,2,19920904,       0510,   -30.4483,   175.9333,     -999.0,   860.0,   6.4195,  34.4383,2,  34.4387,2,    203.0,2,   203.7,2,   20.60,2,   26.27,2,    0.00,2,    1.81,2,-999.000,9,-999.000,9,-999.000,9,-999.0000,9, -999.00,9, -999.00,9,  -999.0,9,  -999.0,-999.000,9,-999.000,-999.0000,-999.000,   6.3395,-999.000
  316N138_7,       P14C,      16,          1,         16,         16,2,19920904,       0510,   -30.4483,   175.9333,     -999.0,   909.4,   6.1331,  34.4435,2,  34.4452,2,    198.7,2,   200.1,2,   24.38,2,   27.04,2,    0.00,2,    1.87,2,-999.000,9,-999.000,9,-999.000,9,-999.0000,9, -999.00,9, -999.00,9,  -999.0,9,  -999.0,-999.000,9,-999.000,-999.0000,-999.000,   6.0502,-999.000
  316N138_7,       P14C,      16,          1,         17,         17,2,19920904,       0510,   -30.4483,   175.9333,     -999.0,  1009.8,   5.5148,  34.4384,2,  34.4368,2,    190.0,2,   191.2,2,   33.56,2,   28.96,2,    0.00,2,    2.00,2,   0.161,2,   0.096,2,   0.058,2,   1.9000,2,    5.24,2, -999.00,9,  -999.0,9,  -999.0,   8.202,2,   0.041,   0.0080,   0.110,   5.4267,   0.002
  316N138_7,       P14C,      16,          1,         18,         18,2,19920904,       0510,   -30.4483,   175.9333,     -999.0,  1111.4,   4.7702,  34.4469,2,  34.4470,2,    182.5,2,   183.0,2,   45.14,2,   30.84,2,    0.00,2,    2.14,2,-999.000,9,-999.000,9,-999.000,9,-999.0000,9, -999.00,9, -999.00,9,  -999.0,9,  -999.0,-999.000,9,-999.000,-999.0000,-999.000,   4.6788,-999.000
  316N138_7,       P14C,      16,          1,         19,         19,2,19920904,       0510,   -30.4483,   175.9333,     -999.0,  1213.3,   4.2041,  34.4643,2,  34.4636,2,    177.2,2,   177.0,2,   55.93,2,   32.10,2,    0.00,2,    2.23,2,   0.051,2,   0.024,2,   0.025,2,   1.9340,2,    9.68,2, -999.00,9,  -999.0,9,  -999.0,   8.307,2,   0.042,   0.0080,   0.110,   4.1086,   0.002
  316N138_7,       P14C,      16,          1,         20,         20,2,19920904,       0510,   -30.4483,   175.9333,     -999.0,  1313.6,   3.7830,  34.5036,2,  34.5019,2,    170.5,2,   170.2,2,   68.54,2,   32.97,2,    0.00,2,    2.29,2,-999.000,9,-999.000,9,-999.000,9,-999.0000,9, -999.00,9, -999.00,9,  -999.0,9,  -999.0,-999.000,9,-999.000,-999.0000,-999.000,   3.6827,-999.000
  316N138_7,       P14C,      16,          1,         21,         21,2,19920904,       0510,   -30.4483,   175.9333,     -999.0,  1415.9,   3.4388,  34.5382,2,  34.5369,2,    165.2,2,   165.1,2,   78.98,2,   33.50,2,    0.00,2,    2.33,2,-999.000,9,-999.000,9,   0.019,2,   1.9690,2,   14.26,2, -999.00,9,  -999.0,9,  -999.0,   8.440,2,   0.042,   0.0080,   0.110,   3.3333,   0.002
  316N138_7,       P14C,      16,          1,         38,         38,2,19920904,       0510,   -30.4483,   175.9333,     -999.0,  1516.6,   3.1157,  34.5762,2,-999.0000,9,    161.9,2,   161.4,2,   89.26,2,   33.88,2,    0.00,2,    2.37,2,-999.000,9,-999.000,9,-999.000,9,-999.0000,9, -999.00,9, -999.00,9,  -999.0,9,  -999.0,-999.000,9,-999.000,-999.0000,-999.000,   3.0051,-999.000
  316N138_7,       P14C,      16,          1,         23,         23,2,19920904,       0510,   -30.4483,   175.9333,     -999.0,  1617.0,   2.8763,  34.5933,2,  34.5962,2,    159.6,2,   159.1,2,   96.95,2,   34.32,2,    0.00,2,    2.41,2,-999.000,9,-999.000,9,   0.012,2,   1.9970,2,   17.02,2, -999.00,9,  -999.0,9,  -999.0,   8.510,2,   0.043,   0.0080,   0.110,   2.7601,   0.002
  316N138_7,       P14C,      16,          1,         24,         24,2,19920904,       0510,   -30.4483,   175.9333,     -999.0,  1820.0,   2.5505,  34.6154,2,-999.0000,9,    156.0,2,   156.2,2,  106.12,2,   34.80,2,    0.00,2,    2.44,2,-999.000,9,-999.000,9,   0.003,2,   1.9820,2,   19.12,2, -999.00,9,  -999.0,9,  -999.0,   8.461,2,   0.042,   0.0080,   0.110,   2.4214,   0.002
  316N138_7,       P14C,      16,          1,         25,         25,2,19920904,       0510,   -30.4483,   175.9333,     -999.0,  2023.3,   2.3154,  34.6347,2,  34.6399,2,    155.0,2,   154.5,2,  112.90,2,   35.14,2,    0.00,2,    2.45,2,-999.000,9,-999.000,9,-999.000,9,   2.0050,2,   20.38,2, -999.00,9,  -999.0,9,  -999.0,   8.525,2,   0.043,   0.0080,   0.110,   2.1722,-999.000
  316N138_7,       P14C,      16,          1,         26,         26,2,19920904,       0510,   -30.4483,   175.9333,     -999.0,  2226.5,   2.1594,  34.6484,2,  34.6529,2,    153.9,2,   153.7,2,  117.23,2,   35.22,2,    0.00,2,    2.46,2,-999.000,9,-999.000,9,   0.006,2,   2.0040,2,   20.49,2, -999.00,9,  -999.0,9,  -999.0,   8.545,2,   0.043,   0.0080,   0.110,   2.0009,   0.002
  316N138_7,       P14C,      16,          1,         27,         27,2,19920904,       0510,   -30.4483,   175.9333,     -999.0,  2429.8,   2.0330,  34.6599,2,  34.6601,2,    153.6,2,   153.9,2,  120.96,2,   35.30,2,    0.00,2,    2.45,2,-999.000,9,-999.000,9,   0.008,2,   2.0020,2,   20.37,2, -999.00,9,  -999.0,9,  -999.0,   8.513,2,   0.043,   0.0080,   0.110,   1.8585,   0.002
  316N138_7,       P14C,      16,          1,         28,         28,2,19920904,       0510,   -30.4483,   175.9333,     -999.0,  2633.6,   1.9330,  34.6694,2,  34.6697,2,    154.2,2,   154.7,2,  123.45,2,   35.30,2,    0.00,2,    2.46,2,-999.000,9,-999.000,9,   0.005,2,   1.9990,2,   19.71,2, -999.00,9,  -999.0,9,  -999.0,   8.552,2,   0.043,   0.0080,   0.110,   1.7416,   0.002
  316N138_7,       P14C,      16,          1,         29,         29,2,19920904,       0510,   -30.4483,   175.9333,     -999.0,  2836.5,   1.8871,  34.6740,2,  34.6756,2,    155.0,2,   155.6,2,  125.11,2,   35.38,2,    0.00,2,    2.46,2,-999.000,9,-999.000,9,-999.000,9,-999.0000,9, -999.00,9, -999.00,9,  -999.0,9,  -999.0,-999.000,9,-999.000,-999.0000,-999.000,   1.6776,-999.000
  316N138_7,       P14C,      16,          1,         30,         30,2,19920904,       0510,   -30.4483,   175.9333,     -999.0,  3041.3,   1.8615,  34.6771,2,  34.6827,2,    155.8,2,   155.6,2,  125.93,2,   35.28,2,    0.00,2,    2.45,2,-999.000,9,-999.000,9,-999.000,9,-999.0000,9, -999.00,9, -999.00,9,  -999.0,9,  -999.0,-999.000,9,-999.000,-999.0000,-999.000,   1.6328,-999.000
  316N138_7,       P14C,      16,          1,         31,         31,2,19920904,       0510,   -30.4483,   175.9333,     -999.0,  3244.2,   1.8513,  34.6794,2,  34.6799,2,    155.1,2,   155.9,2,  126.55,2,   35.27,2,    0.00,2,    2.45,2,-999.000,9,-999.000,9,-999.000,9,-999.0000,9, -999.00,9, -999.00,9,  -999.0,9,  -999.0,-999.000,9,-999.000,-999.0000,-999.000,   1.6026,-999.000
  316N138_7,       P14C,      16,          1,         32,         32,2,19920904,       0510,   -30.4483,   175.9333,     -999.0,  3447.7,   1.8532,  34.6817,2,-999.0000,9,    156.3,2,   155.7,2,  127.17,2,   35.27,2,    0.00,2,    2.45,2,-999.000,9,-999.000,9,-999.000,9,-999.0000,9, -999.00,9, -999.00,9,  -999.0,9,  -999.0,-999.000,9,-999.000,-999.0000,-999.000,   1.5837,-999.000
  316N138_7,       P14C,      16,          1,         33,         33,2,19920904,       0510,   -30.4483,   175.9333,     -999.0,  3652.5,   1.8611,  34.6823,2,  34.6813,2,    155.7,2,   155.8,2,  127.36,2,   35.35,2,    0.00,2,    2.46,2,-999.000,9,-999.000,9,-999.000,9,-999.0000,9, -999.00,9, -999.00,9,  -999.0,9,  -999.0,-999.000,9,-999.000,-999.0000,-999.000,   1.5699,-999.000
  316N138_7,       P14C,      16,          1,         34,         34,2,19920904,       0510,   -30.4483,   175.9333,     -999.0,  3856.6,   1.8743,  34.6824,2,  34.6815,2,    156.2,2,   157.1,3,  127.77,2,   35.38,2,    0.00,2,    2.46,2,-999.000,9,-999.000,9,-999.000,9,-999.0000,9, -999.00,9, -999.00,9,  -999.0,9,  -999.0,-999.000,9,-999.000,-999.0000,-999.000,   1.5607,-999.000
  316N138_7,       P14C,      16,          1,         35,         35,2,19920904,       0510,   -30.4483,   175.9333,     -999.0,  4060.9,   1.8919,  34.6829,2,  34.6813,2,    156.2,2,   155.6,2,  127.96,2,   35.33,2,    0.00,2,    2.47,2,-999.000,9,-999.000,9,-999.000,9,-999.0000,9, -999.00,9, -999.00,9,  -999.0,9,  -999.0,-999.000,9,-999.000,-999.0000,-999.000,   1.5552,-999.000
  316N138_7,       P14C,      16,          1,         37,         37,2,19920904,       0510,   -30.4483,   175.9333,     -999.0,  4286.6,   1.9138,  34.6834,2,  34.6815,2,    155.5,2,   155.9,2,  128.16,2,   35.41,2,    0.00,2,    2.46,2,-999.000,9,-999.000,9,-999.000,9,-999.0000,9, -999.00,9, -999.00,9,  -999.0,9,  -999.0,-999.000,9,-999.000,-999.0000,-999.000,   1.5509,-999.000