BOTTLE,20211105CCHSIORKP
EXPOCODE,SECT_ID,STNNBR,CASTNO,SAMPNO,BTLNBR,BTLNBR_FLAG_W,DATE,TIME,LATITUDE,LONGITUDE,DEPTH,CTDPRS,CTDTMP,CTDSAL,CTDSAL_FLAG_W,SALNTY,SALNTY_FLAG_W,CTDOXY,CTDOXY_FLAG_W,OXYGEN,OXYGEN_FLAG_W,SILCAT,SILCAT_FLAG_W,NITRAT,NITRAT_FLAG_W,NITRIT,NITRIT_FLAG_W,PHSPHT,PHSPHT_FLAG_W,CFC-11,CFC-11_FLAG_W,CFC-12,CFC-12_FLAG_W,TRITUM,TRITUM_FLAG_W,HELIUM,HELIUM_FLAG_W,DELHE3,DELHE3_FLAG_W,DELC13,DELC13_FLAG_W,DELC14,DELC14_FLAG_W,C14ERR,NEON,NEON_FLAG_W,NEONER,HELIER,DELHER,THETA,TRITER
,,,,,,,,,,,METERS,DBAR,ITS-90,PSS-78,,PSS-78,,UMOL/KG,,UMOL/KG,,UMOL/KG,,UMOL/KG,,UMOL/KG,,UMOL/KG,,PMOL/KG,,PMOL/KG,,TU,,NMOL/KG,,PERCNT,,/MILLE,,/MILLE,,/MILLE,NMOL/KG,,NMOL/KG,NMOL/KG,PERCNT,DEG C,TU
  316N138_7,       P14C,      24,          1,          1,          1,2,19920906,       0400,   -26.9733,   176.5217,       4401,     3.4,  18.6852,  35.6578,2,  35.6608,2,    239.9,2,   234.2,2,    1.62,2,    0.31,2,    0.05,2,    0.14,2,-999.000,9,-999.000,9,-999.000,9,-999.0000,9, -999.00,9,    1.42,2,   118.2,2,     3.0,-999.000,9,-999.000,-999.0000,-999.000,  18.6846,-999.000
  316N138_7,       P14C,      24,          1,          2,          2,2,19920906,       0400,   -26.9733,   176.5217,       4401,    17.0,  18.1701,  35.6879,2,  35.6869,2,    232.6,2,   227.7,2,    1.60,2,    0.78,2,    0.22,2,    0.20,2,-999.000,9,-999.000,9,-999.000,9,-999.0000,9, -999.00,9, -999.00,9,  -999.0,9,  -999.0,-999.000,9,-999.000,-999.0000,-999.000,  18.1672,-999.000
  316N138_7,       P14C,      24,          1,          3,          3,2,19920906,       0400,   -26.9733,   176.5217,       4401,    57.2,  17.8506,  35.6600,2,  35.6605,2,    223.8,2,   222.9,2,    1.58,2,    1.59,2,    0.23,2,    0.26,2,-999.000,9,-999.000,9,-999.000,9,-999.0000,9, -999.00,9, -999.00,9,  -999.0,9,  -999.0,-999.000,9,-999.000,-999.0000,-999.000,  17.8409,-999.000
  316N138_7,       P14C,      24,          1,          4,          4,2,19920906,       0400,   -26.9733,   176.5217,       4401,   106.2,  17.4009,  35.6085,2,  35.6075,2,    216.8,2,   220.0,2,    1.76,2,    2.54,2,    0.10,2,    0.31,2,-999.000,9,-999.000,9,-999.000,9,-999.0000,9, -999.00,9,    1.24,2,   120.7,2,     5.3,-999.000,9,-999.000,-999.0000,-999.000,  17.3831,-999.000
  316N138_7,       P14C,      24,          1,          5,          5,2,19920906,       0400,   -26.9733,   176.5217,       4401,   155.3,  16.7666,  35.5282,2,  35.5273,2,    209.1,2,   206.7,2,    2.14,2,    4.67,2,    0.02,2,    0.45,2,-999.000,9,-999.000,9,-999.000,9,-999.0000,9, -999.00,9, -999.00,9,  -999.0,9,  -999.0,-999.000,9,-999.000,-999.0000,-999.000,  16.7411,-999.000
  316N138_7,       P14C,      24,          1,          6,          6,2,19920906,       0400,   -26.9733,   176.5217,       4401,   205.1,  15.8400,  35.4413,2,  35.4372,2,    197.3,2,   199.9,2,    2.91,2,    6.61,2,    0.01,2,    0.57,2,-999.000,9,-999.000,9,-999.000,9,-999.0000,9, -999.00,9,    1.20,2,    91.0,2,     3.6,-999.000,9,-999.000,-999.0000,-999.000,  15.8076,-999.000
  316N138_7,       P14C,      24,          1,          7,          7,2,19920906,       0400,   -26.9733,   176.5217,       4401,   254.4,  15.0077,  35.3561,2,  35.3620,2,    194.8,2,   197.2,2,    3.29,2,    8.11,2,    0.01,2,    0.67,2,-999.000,9,-999.000,9,-999.000,9,-999.0000,9, -999.00,9, -999.00,9,  -999.0,9,  -999.0,-999.000,9,-999.000,-999.0000,-999.000,  14.9689,-999.000
  316N138_7,       P14C,      24,          1,          8,          8,2,19920906,       0400,   -26.9733,   176.5217,       4401,   304.9,  14.0541,  35.2520,2,  35.2308,2,    192.9,2,   192.1,2,    4.26,2,   10.43,2,    0.01,2,    0.82,2,-999.000,9,-999.000,9,-999.000,9,-999.0000,9, -999.00,9,    1.21,2,    79.9,2,     4.8,-999.000,9,-999.000,-999.0000,-999.000,  14.0097,-999.000
  316N138_7,       P14C,      24,          1,          9,          9,2,19920906,       0400,   -26.9733,   176.5217,       4401,   354.7,  12.8763,  35.1240,2,  35.1158,2,    192.6,2,   192.5,2,    5.24,2,   12.36,2,    0.01,2,    0.94,2,-999.000,9,-999.000,9,-999.000,9,-999.0000,9, -999.00,9, -999.00,9,  -999.0,9,  -999.0,-999.000,9,-999.000,-999.0000,-999.000,  12.8275,-999.000
  316N138_7,       P14C,      24,          1,         10,         10,2,19920906,       0400,   -26.9733,   176.5217,       4401,   406.1,  11.6309,  34.9727,2,  34.9721,2,    192.0,2,   191.2,2,    6.81,2,   15.07,2,    0.00,2,    1.10,2,   1.511,2,   0.781,2,-999.000,9,-999.0000,9, -999.00,9,    1.14,2,    41.3,2,     4.0,-999.000,9,-999.000,-999.0000,-999.000,  11.5786,-999.000
  316N138_7,       P14C,      24,          1,         11,         11,2,19920906,       0400,   -26.9733,   176.5217,       4401,   506.5,   9.3253,  34.6790,2,  34.7561,2,    197.6,2,   195.5,2,    7.78,2,   18.25,2,    0.00,2,    1.30,2,-999.000,9,-999.000,9,-999.000,9,-999.0000,9, -999.00,9,    1.21,2,    11.4,6,     3.3,-999.000,9,-999.000,-999.0000,-999.000,   9.2683,-999.000
  316N138_7,       P14C,      24,          1,         12,         12,2,19920906,       0400,   -26.9733,   176.5217,       4401,   606.5,   7.9903,  34.5421,2,  34.5397,2,    204.1,2,   206.1,2,   10.55,2,   21.95,2,    0.00,2,    1.54,2,   0.725,2,   0.375,2,-999.000,9,-999.0000,9, -999.00,9,    1.23,2,   -13.2,2,     3.2,-999.000,9,-999.000,-999.0000,-999.000,   7.9277,-999.000
  316N138_7,       P14C,      24,          1,         13,         13,2,19920906,       0400,   -26.9733,   176.5217,       4401,   704.8,   6.7986,  34.4340,2,  34.4353,2,    212.5,2,   212.0,2,   14.70,2,   24.66,2,    0.00,2,    1.72,2,-999.000,9,-999.000,9,-999.000,9,-999.0000,9, -999.00,9, -999.00,9,  -999.0,9,  -999.0,-999.000,9,-999.000,-999.0000,-999.000,   6.7318,-999.000
  316N138_7,       P14C,      24,          1,         14,         14,2,19920906,       0400,   -26.9733,   176.5217,       4401,   804.1,   6.1592,  34.4039,2,  34.4018,2,    204.3,2,   205.2,2,   19.85,2,   26.52,2,    0.00,2,    1.85,2,   0.251,2,   0.142,2,-999.000,9,-999.0000,9, -999.00,9,    1.23,2,   -69.3,2,     3.0,-999.000,9,-999.000,-999.0000,-999.000,   6.0864,-999.000
  316N138_7,       P14C,      24,          1,         15,         15,2,19920906,       0400,   -26.9733,   176.5217,       4401,   904.7,   5.6655,  34.3978,2,  34.3965,2,    196.1,2,   198.0,2,   26.59,2,   28.25,2,    0.00,2,    1.97,2,-999.000,9,-999.000,9,-999.000,9,-999.0000,9, -999.00,9, -999.00,9,  -999.0,9,  -999.0,-999.000,9,-999.000,-999.0000,-999.000,   5.5863,-999.000
  316N138_7,       P14C,      24,          1,         16,         16,2,19920906,       0400,   -26.9733,   176.5217,       4401,  1005.4,   4.9348,  34.4002,2,  34.3999,2,    189.0,2,   188.2,2,   37.71,2,   30.42,2,    0.00,2,    2.12,2,   0.063,2,   0.037,2,-999.000,9,-999.0000,9, -999.00,9,    0.99,2,  -111.2,6,     6.4,-999.000,9,-999.000,-999.0000,-999.000,   4.8517,-999.000
  316N138_7,       P14C,      24,          1,         17,         17,2,19920906,       0400,   -26.9733,   176.5217,       4401,  1106.4,   4.2109,  34.4350,2,  34.4326,2,    178.4,2,   177.9,2,   52.22,2,   32.16,2,    0.00,2,    2.25,2,-999.000,9,-999.000,9,-999.000,9,-999.0000,9, -999.00,9, -999.00,9,  -999.0,9,  -999.0,-999.000,9,-999.000,-999.0000,-999.000,   4.1247,-999.000
  316N138_7,       P14C,      24,          1,         18,         18,2,19920906,       0400,   -26.9733,   176.5217,       4401,  1207.0,   3.7032,  34.4785,2,  34.4748,2,    171.8,2,   171.1,2,   65.16,2,   33.08,2,    0.00,2,    2.32,2,   0.016,2,   0.005,2,-999.000,9,-999.0000,9, -999.00,9, -999.00,9,  -999.0,9,  -999.0,-999.000,9,-999.000,-999.0000,-999.000,   3.6128,-999.000
  316N138_7,       P14C,      24,          1,         19,         19,2,19920906,       0400,   -26.9733,   176.5217,       4401,  1307.7,   3.3341,  34.5229,2,  34.5224,2,    163.5,2,   164.5,2,   78.74,2,   33.65,2,    0.00,2,    2.37,2,-999.000,9,-999.000,9,-999.000,9,-999.0000,9, -999.00,9, -999.00,9,  -999.0,9,  -999.0,-999.000,9,-999.000,-999.0000,-999.000,   3.2388,-999.000
  316N138_7,       P14C,      24,          1,         20,         20,2,19920906,       0400,   -26.9733,   176.5217,       4401,  1408.4,   3.0621,  34.5597,2,  34.5580,2,    159.2,2,   159.8,2,   89.17,2,   34.13,2,    0.00,2,    2.40,2,   0.011,2,   0.004,2,-999.000,9,-999.0000,9, -999.00,9,    0.52,2,  -161.3,6,     3.8,-999.000,9,-999.000,-999.0000,-999.000,   2.9612,-999.000
  316N138_7,       P14C,      24,          1,         21,         21,2,19920906,       0400,   -26.9733,   176.5217,       4401,  1508.5,   2.8106,  34.5865,2,  34.5866,2,    156.9,2,   156.8,2,   97.85,2,   34.48,2,    0.00,2,    2.43,2,-999.000,9,-999.000,9,-999.000,9,-999.0000,9, -999.00,9, -999.00,9,  -999.0,9,  -999.0,-999.000,9,-999.000,-999.0000,-999.000,   2.7042,-999.000
  316N138_7,       P14C,      24,          1,         22,         22,2,19920906,       0400,   -26.9733,   176.5217,       4401,  1606.7,   2.6614,  34.6007,2,  34.6004,2,    154.9,2,   154.9,2,  102.71,2,   34.75,2,    0.00,2,    2.44,2,   0.003,2,   0.004,2,-999.000,9,-999.0000,9, -999.00,9, -999.00,9,  -999.0,9,  -999.0,-999.000,9,-999.000,-999.0000,-999.000,   2.5486,-999.000
  316N138_7,       P14C,      24,          1,         23,         23,2,19920906,       0400,   -26.9733,   176.5217,       4401,  1806.5,   2.4161,  34.6225,2,  34.6218,2,    152.4,2,   152.2,2,  110.25,2,   35.15,2,    0.00,2,    2.47,2,-999.000,9,-999.000,9,-999.000,9,-999.0000,9, -999.00,9,    0.35,2,  -185.4,2,     2.7,-999.000,9,-999.000,-999.0000,-999.000,   2.2899,-999.000
  316N138_7,       P14C,      24,          1,         24,         24,2,19920906,       0400,   -26.9733,   176.5217,       4401,  2009.7,   2.2433,  34.6386,2,  34.6387,2,    151.6,2,   151.8,2,  115.17,2,   35.24,2,    0.00,2,    2.48,2,-999.000,9,-999.000,9,-999.000,9,-999.0000,9, -999.00,9, -999.00,9,  -999.0,9,  -999.0,-999.000,9,-999.000,-999.0000,-999.000,   2.1023,-999.000
  316N138_7,       P14C,      24,          1,         25,         25,2,19920906,       0400,   -26.9733,   176.5217,       4401,  2210.6,   2.1121,  34.6510,2,  34.6516,2,    152.4,2,   152.3,2,  118.05,2,   35.24,2,    0.00,2,    2.48,2,-999.000,9,-999.000,9,-999.000,9,-999.0000,9, -999.00,9,    0.31,2,  -183.1,2,     3.0,-999.000,9,-999.000,-999.0000,-999.000,   1.9557,-999.000
  316N138_7,       P14C,      24,          1,         26,         26,2,19920906,       0400,   -26.9733,   176.5217,       4401,  2412.5,   2.0039,  34.6616,2,  34.6613,2,    153.0,2,   153.4,2,  120.94,2,   35.19,2,    0.00,2,    2.48,2,-999.000,9,-999.000,9,-999.000,9,-999.0000,9, -999.00,9, -999.00,9,  -999.0,9,  -999.0,-999.000,9,-999.000,-999.0000,-999.000,   1.8315,-999.000
  316N138_7,       P14C,      24,          1,         27,         27,2,19920906,       0400,   -26.9733,   176.5217,       4401,  2614.2,   1.9338,  34.6686,2,  34.6666,2,    154.4,2,   154.2,2,  122.80,2,   35.02,2,    0.00,2,    2.46,2,-999.000,9,-999.000,9,-999.000,9,-999.0000,9, -999.00,9, -999.00,9,  -999.0,9,  -999.0,-999.000,9,-999.000,-999.0000,-999.000,   1.7442,-999.000
  316N138_7,       P14C,      24,          1,         28,         28,2,19920906,       0400,   -26.9733,   176.5217,       4401,  2815.0,   1.8838,  34.6742,2,  34.6741,2,    154.8,2,   155.1,2,  124.03,2,   35.11,2,    0.00,2,    2.47,2,-999.000,9,-999.000,9,-999.000,9,-999.0000,9, -999.00,9,    0.19,2,  -189.2,2,     2.9,-999.000,9,-999.000,-999.0000,-999.000,   1.6764,-999.000
  316N138_7,       P14C,      24,          1,         29,         29,2,19920906,       0400,   -26.9733,   176.5217,       4401,  3017.8,   1.8521,  34.6777,2,  34.6776,2,    155.5,2,   155.5,2,  125.06,2,   35.16,2,    0.00,2,    2.47,2,-999.000,9,-999.000,9,-999.000,9,-999.0000,9, -999.00,9, -999.00,9,  -999.0,9,  -999.0,-999.000,9,-999.000,-999.0000,-999.000,   1.6259,-999.000
  316N138_7,       P14C,      24,          1,         30,         30,2,19920906,       0400,   -26.9733,   176.5217,       4401,  3219.5,   1.8366,  34.6799,2,  34.6804,2,    155.8,2,   155.9,2,  126.09,2,   35.07,2,    0.00,2,    2.46,2,-999.000,9,-999.000,9,-999.000,9,-999.0000,9, -999.00,9, -999.00,9,  -999.0,9,  -999.0,-999.000,9,-999.000,-999.0000,-999.000,   1.5907,-999.000
  316N138_7,       P14C,      24,          1,         31,         31,2,19920906,       0400,   -26.9733,   176.5217,       4401,  3421.7,   1.8357,  34.6814,2,  34.6816,2,    156.2,2,   156.1,2,  126.50,2,   35.03,2,    0.00,2,    2.46,2,-999.000,9,-999.000,9,-999.000,9,-999.0000,9, -999.00,9,    0.22,2,  -190.9,2,     2.8,-999.000,9,-999.000,-999.0000,-999.000,   1.5692,-999.000
  316N138_7,       P14C,      24,          1,         32,         32,2,19920906,       0400,   -26.9733,   176.5217,       4401,  3622.4,   1.8407,  34.6827,2,  34.6822,2,    156.4,2,   156.2,2,  127.11,2,   35.07,2,    0.00,2,    2.46,2,-999.000,9,-999.000,9,-999.000,9,-999.0000,9, -999.00,9, -999.00,9,  -999.0,9,  -999.0,-999.000,9,-999.000,-999.0000,-999.000,   1.5531,-999.000
  316N138_7,       P14C,      24,          1,         33,         33,2,19920906,       0400,   -26.9733,   176.5217,       4401,  3827.7,   1.8538,  34.6825,2,  34.6830,2,    156.1,2,   156.0,2,  127.52,2,   34.99,2,    0.00,2,    2.47,2,-999.000,9,-999.000,9,-999.000,9,-999.0000,9, -999.00,9,    0.19,2,  -189.9,2,     4.1,-999.000,9,-999.000,-999.0000,-999.000,   1.5439,-999.000
  316N138_7,       P14C,      24,          1,         34,         34,2,19920906,       0400,   -26.9733,   176.5217,       4401,  4030.6,   1.8704,  34.6828,2,  34.6834,2,    156.5,2,   156.6,2,  127.71,2,   35.08,2,    0.00,2,    2.47,2,-999.000,9,-999.000,9,-999.000,9,-999.0000,9, -999.00,9, -999.00,9,  -999.0,9,  -999.0,-999.000,9,-999.000,-999.0000,-999.000,   1.5377,-999.000
  316N138_7,       P14C,      24,          1,         35,         35,2,19920906,       0400,   -26.9733,   176.5217,       4401,  4235.3,   1.8898,  34.6832,2,  34.6838,2,    156.1,2,   156.4,2,  127.69,2,   35.12,2,    0.00,2,    2.47,2,-999.000,9,-999.000,9,-999.000,9,-999.0000,9, -999.00,9, -999.00,9,  -999.0,9,  -999.0,-999.000,9,-999.000,-999.0000,-999.000,   1.5335,-999.000
  316N138_7,       P14C,      24,          1,         37,         37,2,19920906,       0400,   -26.9733,   176.5217,       4401,  4440.3,   1.9123,  34.6839,2,  34.6889,4,    156.6,2,   156.4,2,  127.89,2,   35.04,2,    0.00,2,    2.47,2,-999.000,9,-999.000,9,-999.000,9,-999.0000,9, -999.00,9,    0.22,2,  -196.5,2,     2.9,-999.000,9,-999.000,-999.0000,-999.000,   1.5316,-999.000