BOTTLE,20211105CCHSIORKP
EXPOCODE,SECT_ID,STNNBR,CASTNO,SAMPNO,BTLNBR,BTLNBR_FLAG_W,DATE,TIME,LATITUDE,LONGITUDE,DEPTH,CTDPRS,CTDTMP,CTDSAL,CTDSAL_FLAG_W,SALNTY,SALNTY_FLAG_W,CTDOXY,CTDOXY_FLAG_W,OXYGEN,OXYGEN_FLAG_W,SILCAT,SILCAT_FLAG_W,NITRAT,NITRAT_FLAG_W,NITRIT,NITRIT_FLAG_W,PHSPHT,PHSPHT_FLAG_W,CFC-11,CFC-11_FLAG_W,CFC-12,CFC-12_FLAG_W,TRITUM,TRITUM_FLAG_W,HELIUM,HELIUM_FLAG_W,DELHE3,DELHE3_FLAG_W,DELC13,DELC13_FLAG_W,DELC14,DELC14_FLAG_W,C14ERR,NEON,NEON_FLAG_W,NEONER,HELIER,DELHER,THETA,TRITER
,,,,,,,,,,,METERS,DBAR,ITS-90,PSS-78,,PSS-78,,UMOL/KG,,UMOL/KG,,UMOL/KG,,UMOL/KG,,UMOL/KG,,UMOL/KG,,PMOL/KG,,PMOL/KG,,TU,,NMOL/KG,,PERCNT,,/MILLE,,/MILLE,,/MILLE,NMOL/KG,,NMOL/KG,NMOL/KG,PERCNT,DEG C,TU
  316N138_7,       P14C,      34,          1,          1,          1,2,19920908,       1455,   -22.6350,   177.2567,       4192,     2.1,  22.3265,  35.6553,2,  35.6573,2,    199.4,2,  -999.0,9,    1.90,2,    0.08,2,    0.00,2,    0.07,2,-999.000,9,-999.000,9,-999.000,9,-999.0000,9, -999.00,9, -999.00,9,  -999.0,9,  -999.0,-999.000,9,-999.000,-999.0000,-999.000,  22.3261,-999.000
  316N138_7,       P14C,      34,          1,          2,          2,2,19920908,       1455,   -22.6350,   177.2567,       4192,    15.8,  22.3333,  35.6548,2,  35.6571,2,    207.8,2,   216.6,2,    1.88,2,    0.08,2,    0.00,2,    0.07,2,-999.000,9,-999.000,9,-999.000,9,-999.0000,9, -999.00,9, -999.00,9,  -999.0,9,  -999.0,-999.000,9,-999.000,-999.0000,-999.000,  22.3301,-999.000
  316N138_7,       P14C,      34,          1,          3,          3,2,19920908,       1455,   -22.6350,   177.2567,       4192,    55.6,  21.9765,  35.6241,2,  35.6281,2,    209.8,2,   216.4,2,    1.67,2,    0.08,2,    0.00,2,    0.05,2,-999.000,9,-999.000,9,-999.000,9,-999.0000,9, -999.00,9, -999.00,9,  -999.0,9,  -999.0,-999.000,9,-999.000,-999.0000,-999.000,  21.9655,-999.000
  316N138_7,       P14C,      34,          1,          4,          4,2,19920908,       1455,   -22.6350,   177.2567,       4192,   105.6,  21.8268,  35.6249,2,  35.6291,2,    207.7,2,   210.8,2,    1.66,2,    0.22,2,    0.11,2,    0.07,2,-999.000,9,-999.000,9,-999.000,9,-999.0000,9, -999.00,9, -999.00,9,  -999.0,9,  -999.0,-999.000,9,-999.000,-999.0000,-999.000,  21.8060,-999.000
  316N138_7,       P14C,      34,          1,          5,          5,2,19920908,       1455,   -22.6350,   177.2567,       4192,   155.6,  21.2142,  35.6142,2,  35.6224,2,    202.6,2,   207.8,2,    1.65,2,    0.55,2,    0.12,2,    0.10,2,-999.000,9,-999.000,9,-999.000,9,-999.0000,9, -999.00,9, -999.00,9,  -999.0,9,  -999.0,-999.000,9,-999.000,-999.0000,-999.000,  21.1841,-999.000
  316N138_7,       P14C,      34,          1,          6,          6,2,19920908,       1455,   -22.6350,   177.2567,       4192,   205.5,  20.2232,  35.6160,2,  35.6222,2,    185.9,2,   183.5,2,    1.63,2,    3.22,2,    0.02,2,    0.30,2,-999.000,9,-999.000,9,-999.000,9,-999.0000,9, -999.00,9, -999.00,9,  -999.0,9,  -999.0,-999.000,9,-999.000,-999.0000,-999.000,  20.1848,-999.000
  316N138_7,       P14C,      34,          1,          7,          7,2,19920908,       1455,   -22.6350,   177.2567,       4192,   255.5,  18.9682,  35.5920,2,  35.6015,2,    191.5,2,   186.7,2,    1.82,2,    4.11,2,    0.01,2,    0.37,2,-999.000,9,-999.000,9,-999.000,9,-999.0000,9, -999.00,9, -999.00,9,  -999.0,9,  -999.0,-999.000,9,-999.000,-999.0000,-999.000,  18.9225,-999.000
  316N138_7,       P14C,      34,          1,          8,          8,2,19920908,       1455,   -22.6350,   177.2567,       4192,   306.2,  17.6353,  35.5603,2,  35.5592,2,    197.1,2,   192.4,2,    2.01,2,    4.87,2,    0.01,2,    0.42,2,-999.000,9,-999.000,9,-999.000,9,-999.0000,9, -999.00,9, -999.00,9,  -999.0,9,  -999.0,-999.000,9,-999.000,-999.0000,-999.000,  17.5832,-999.000
  316N138_7,       P14C,      34,          1,          9,          9,2,19920908,       1455,   -22.6350,   177.2567,       4192,   356.7,  16.0365,  35.4091,2,  35.4044,2,    188.6,2,   186.3,2,    3.39,2,    7.61,2,    0.01,2,    0.62,2,-999.000,9,-999.000,9,-999.000,9,-999.0000,9, -999.00,9, -999.00,9,  -999.0,9,  -999.0,-999.000,9,-999.000,-999.0000,-999.000,  15.9796,-999.000
  316N138_7,       P14C,      34,          1,         10,         10,2,19920908,       1455,   -22.6350,   177.2567,       4192,   407.1,  13.7260,  35.1569,2,  35.1561,2,    184.7,2,   183.7,2,    4.58,2,   11.44,2,    0.01,2,    0.86,2,-999.000,9,-999.000,9,-999.000,9,-999.0000,9, -999.00,9, -999.00,9,  -999.0,9,  -999.0,-999.000,9,-999.000,-999.0000,-999.000,  13.6674,-999.000
  316N138_7,       P14C,      34,          1,         11,         11,2,19920908,       1455,   -22.6350,   177.2567,       4192,   507.1,   9.3550,  34.6476,2,  34.6743,3,    194.4,2,   195.3,2,    7.97,2,   19.04,2,    0.01,2,    1.34,2,-999.000,9,-999.000,9,-999.000,9,-999.0000,9, -999.00,9, -999.00,9,  -999.0,9,  -999.0,-999.000,9,-999.000,-999.0000,-999.000,   9.2979,-999.000
  316N138_7,       P14C,      34,          1,         12,         12,9,19920908,       1455,   -22.6350,   177.2567,       4192,   607.2,   7.0662,  34.4358,2,-999.0000,9,    207.7,2,  -999.0,9, -999.00,9, -999.00,9, -999.00,9, -999.00,9,-999.000,9,-999.000,9,-999.000,9,-999.0000,9, -999.00,9, -999.00,9,  -999.0,9,  -999.0,-999.000,9,-999.000,-999.0000,-999.000,   7.0079,-999.000
  316N138_7,       P14C,      34,          1,         13,         13,2,19920908,       1455,   -22.6350,   177.2567,       4192,   706.9,   6.0881,  34.3741,2,  34.3753,2,    203.3,2,   206.0,2,   19.54,2,   26.92,2,    0.01,2,    1.84,2,-999.000,9,-999.000,9,-999.000,9,-999.0000,9, -999.00,9, -999.00,9,  -999.0,9,  -999.0,-999.000,9,-999.000,-999.0000,-999.000,   6.0250,-999.000
  316N138_7,       P14C,      34,          1,         14,         14,2,19920908,       1455,   -22.6350,   177.2567,       4192,   807.5,   5.6912,  34.3660,2,  34.3665,2,    197.0,2,   199.9,2,   23.92,2,   28.41,2,    0.00,2,    1.95,2,-999.000,9,-999.000,9,-999.000,9,-999.0000,9, -999.00,9, -999.00,9,  -999.0,9,  -999.0,-999.000,9,-999.000,-999.0000,-999.000,   5.6209,-999.000
  316N138_7,       P14C,      34,          1,         15,         15,2,19920908,       1455,   -22.6350,   177.2567,       4192,   908.1,   5.3566,  34.3675,2,  34.3669,2,    191.8,2,   194.7,2,   28.51,2,   29.48,2,    0.00,2,    2.02,2,-999.000,9,-999.000,9,-999.000,9,-999.0000,9, -999.00,9, -999.00,9,  -999.0,9,  -999.0,-999.000,9,-999.000,-999.0000,-999.000,   5.2792,-999.000
  316N138_7,       P14C,      34,          1,         16,         16,2,19920908,       1455,   -22.6350,   177.2567,       4192,  1008.6,   4.9654,  34.3778,2,  34.3767,2,    186.8,2,   188.0,2,   35.48,2,   30.72,2,    0.00,2,    2.11,2,   0.062,2,   0.039,2,-999.000,9,-999.0000,9, -999.00,9, -999.00,9,  -999.0,9,  -999.0,-999.000,9,-999.000,-999.0000,-999.000,   4.8818,-999.000
  316N138_7,       P14C,      34,          1,         17,         17,2,19920908,       1455,   -22.6350,   177.2567,       4192,  1109.9,   4.6656,  34.3846,2,  34.3855,2,    183.0,2,   183.9,2,   40.67,2,   31.67,2,    0.00,2,    2.17,2,   0.033,2,   0.024,2,-999.000,9,-999.0000,9, -999.00,9, -999.00,9,  -999.0,9,  -999.0,-999.000,9,-999.000,-999.0000,-999.000,   4.5752,-999.000
  316N138_7,       P14C,      34,          1,         18,         18,2,19920908,       1455,   -22.6350,   177.2567,       4192,  1211.0,   4.2586,  34.4167,2,  34.4186,2,    177.6,2,   174.6,2,   51.45,2,   32.75,2,    0.00,2,    2.24,2,   0.018,2,   0.016,2,-999.000,9,-999.0000,9, -999.00,9, -999.00,9,  -999.0,9,  -999.0,-999.000,9,-999.000,-999.0000,-999.000,   4.1629,-999.000
  316N138_7,       P14C,      34,          1,         19,         19,2,19920908,       1455,   -22.6350,   177.2567,       4192,  1311.9,   3.8725,  34.4620,2,  34.4616,2,    170.5,2,   168.9,2,   63.64,2,   33.44,2,    0.00,2,    2.30,2,   0.010,2,   0.013,2,-999.000,9,-999.0000,9, -999.00,9, -999.00,9,  -999.0,9,  -999.0,-999.000,9,-999.000,-999.0000,-999.000,   3.7715,-999.000
  316N138_7,       P14C,      34,          1,         20,         20,2,19920908,       1455,   -22.6350,   177.2567,       4192,  1413.2,   3.4277,  34.5191,2,  34.5186,2,    162.0,2,   159.1,2,   80.30,2,   34.48,2,    0.00,2,    2.37,2,-999.000,9,-999.000,9,-999.000,9,-999.0000,9, -999.00,9, -999.00,9,  -999.0,9,  -999.0,-999.000,9,-999.000,-999.0000,-999.000,   3.3226,-999.000
  316N138_7,       P14C,      34,          1,         21,         21,2,19920908,       1455,   -22.6350,   177.2567,       4192,  1515.4,   3.1694,  34.5458,2,  34.5449,2,    157.2,2,   156.9,2,   88.15,2,   34.66,2,    0.00,2,    2.40,2,   0.002,2,   0.005,2,-999.000,9,-999.0000,9, -999.00,9, -999.00,9,  -999.0,9,  -999.0,-999.000,9,-999.000,-999.0000,-999.000,   3.0584,-999.000
  316N138_7,       P14C,      34,          1,         22,         22,2,19920908,       1455,   -22.6350,   177.2567,       4192,  1616.3,   2.8794,  34.5752,2,  34.5759,2,    153.1,2,   153.1,2,   98.07,2,   35.10,2,    0.00,2,    2.43,2,-999.000,9,-999.000,9,-999.000,9,-999.0000,9, -999.00,9, -999.00,9,  -999.0,9,  -999.0,-999.000,9,-999.000,-999.0000,-999.000,   2.7633,-999.000
  316N138_7,       P14C,      34,          1,         23,         23,2,19920908,       1455,   -22.6350,   177.2567,       4192,  1818.3,   2.5556,  34.6075,2,  34.6065,2,    150.9,2,   151.7,2,  107.66,2,   35.41,2,    0.00,2,    2.44,2,-999.000,9,-999.000,9,-999.000,9,-999.0000,9, -999.00,9, -999.00,9,  -999.0,9,  -999.0,-999.000,9,-999.000,-999.0000,-999.000,   2.4265,-999.000
  316N138_7,       P14C,      34,          1,         24,         24,2,19920908,       1455,   -22.6350,   177.2567,       4192,  1918.0,   2.4611,  34.6166,2,  34.6181,2,    150.9,2,   152.1,2,  110.31,2,   35.46,2,    0.00,2,    2.45,2,  -0.003,2,  -0.002,2,-999.000,9,-999.0000,9, -999.00,9, -999.00,9,  -999.0,9,  -999.0,-999.000,9,-999.000,-999.0000,-999.000,   2.3248,-999.000
  316N138_7,       P14C,      34,          1,         25,         25,2,19920908,       1455,   -22.6350,   177.2567,       4192,  2021.6,   2.3398,  34.6282,2,  34.6293,2,    150.6,2,   151.6,2,  114.01,2,   35.50,2,    0.00,2,    2.45,2,-999.000,9,-999.000,9,-999.000,9,-999.0000,9, -999.00,9, -999.00,9,  -999.0,9,  -999.0,-999.000,9,-999.000,-999.0000,-999.000,   2.1963,-999.000
  316N138_7,       P14C,      34,          1,         26,         26,2,19920908,       1455,   -22.6350,   177.2567,       4192,  2223.2,   2.2022,  34.6421,2,  34.6428,2,    151.5,2,   151.8,2,  117.72,2,   35.51,2,    0.00,2,    2.45,2,-999.000,9,-999.000,9,-999.000,9,-999.0000,9, -999.00,9, -999.00,9,  -999.0,9,  -999.0,-999.000,9,-999.000,-999.0000,-999.000,   2.0433,-999.000
  316N138_7,       P14C,      34,          1,         27,         27,2,19920908,       1455,   -22.6350,   177.2567,       4192,  2426.7,   2.0858,  34.6540,2,  34.6548,2,    152.3,2,   152.7,2,  120.40,2,   35.47,2,    0.00,2,    2.45,2,-999.000,9,-999.000,9,-999.000,9,-999.0000,9, -999.00,9, -999.00,9,  -999.0,9,  -999.0,-999.000,9,-999.000,-999.0000,-999.000,   1.9106,-999.000
  316N138_7,       P14C,      34,          1,         28,         28,2,19920908,       1455,   -22.6350,   177.2567,       4192,  2629.7,   1.9482,  34.6672,2,  34.6671,2,    154.1,2,   154.2,2,  124.14,2,   35.48,2,    0.00,2,    2.44,2,-999.000,9,-999.000,9,-999.000,9,-999.0000,9, -999.00,9, -999.00,9,  -999.0,9,  -999.0,-999.000,9,-999.000,-999.0000,-999.000,   1.7569,-999.000
  316N138_7,       P14C,      34,          1,         29,         29,2,19920908,       1455,   -22.6350,   177.2567,       4192,  2832.1,   1.8907,  34.6731,2,  34.6738,2,    154.8,2,   155.6,2,  125.17,2,   35.48,2,    0.00,2,    2.44,2,-999.000,9,-999.000,9,-999.000,9,-999.0000,9, -999.00,9, -999.00,9,  -999.0,9,  -999.0,-999.000,9,-999.000,-999.0000,-999.000,   1.6815,-999.000
  316N138_7,       P14C,      34,          1,         30,         30,2,19920908,       1455,   -22.6350,   177.2567,       4192,  3037.2,   1.8569,  34.6769,2,  34.6779,2,    155.9,2,   155.6,2,  126.62,2,   35.44,2,    0.00,2,    2.43,2,-999.000,9,-999.000,9,-999.000,9,-999.0000,9, -999.00,9, -999.00,9,  -999.0,9,  -999.0,-999.000,9,-999.000,-999.0000,-999.000,   1.6287,-999.000
  316N138_7,       P14C,      34,          1,         31,         31,2,19920908,       1455,   -22.6350,   177.2567,       4192,  3240.5,   1.8391,  34.6791,2,  34.6801,2,    156.1,2,   156.3,2,  127.23,2,   35.45,2,    0.00,2,    2.43,2,-999.000,9,-999.000,9,-999.000,9,-999.0000,9, -999.00,9, -999.00,9,  -999.0,9,  -999.0,-999.000,9,-999.000,-999.0000,-999.000,   1.5910,-999.000
  316N138_7,       P14C,      34,          1,         32,         32,2,19920908,       1455,   -22.6350,   177.2567,       4192,  3482.4,   1.8331,  34.6816,2,  34.6825,2,    156.6,2,   156.5,2,  128.48,2,   35.50,2,    0.00,2,    2.43,2,-999.000,9,-999.000,9,-999.000,9,-999.0000,9, -999.00,9, -999.00,9,  -999.0,9,  -999.0,-999.000,9,-999.000,-999.0000,-999.000,   1.5604,-999.000
  316N138_7,       P14C,      34,          1,         33,         33,2,19920908,       1455,   -22.6350,   177.2567,       4192,  3649.3,   1.8349,  34.6820,2,  34.6827,2,    156.8,2,   156.2,2,  128.67,2,   35.37,2,    0.00,2,    2.44,2,-999.000,9,-999.000,9,-999.000,9,-999.0000,9, -999.00,9, -999.00,9,  -999.0,9,  -999.0,-999.000,9,-999.000,-999.0000,-999.000,   1.5446,-999.000
  316N138_7,       P14C,      34,          1,         34,         34,2,19920908,       1455,   -22.6350,   177.2567,       4192,  3853.6,   1.8463,  34.6826,2,  34.6833,2,    157.1,2,   156.7,2,  128.86,2,   35.51,2,    0.00,2,    2.44,2,-999.000,9,-999.000,9,-999.000,9,-999.0000,9, -999.00,9, -999.00,9,  -999.0,9,  -999.0,-999.000,9,-999.000,-999.0000,-999.000,   1.5338,-999.000
  316N138_7,       P14C,      34,          1,         35,         35,2,19920908,       1455,   -22.6350,   177.2567,       4192,  4057.1,   1.8623,  34.6833,2,  34.6838,2,    156.7,2,   156.7,2,  129.05,2,   35.51,2,    0.00,2,    2.43,2,-999.000,9,-999.000,9,-999.000,9,-999.0000,9, -999.00,9, -999.00,9,  -999.0,9,  -999.0,-999.000,9,-999.000,-999.0000,-999.000,   1.5269,-999.000
  316N138_7,       P14C,      34,          1,         37,         37,2,19920908,       1455,   -22.6350,   177.2567,       4192,  4251.1,   1.8813,  34.6834,2,  34.6837,2,    155.1,2,   156.2,2,  129.24,2,   35.52,2,    0.00,2,    2.44,2,-999.000,9,-999.000,9,-999.000,9,-999.0000,9, -999.00,9, -999.00,9,  -999.0,9,  -999.0,-999.000,9,-999.000,-999.0000,-999.000,   1.5234,-999.000