BOTTLE,20211105CCHSIORKP
EXPOCODE,SECT_ID,STNNBR,CASTNO,SAMPNO,BTLNBR,BTLNBR_FLAG_W,DATE,TIME,LATITUDE,LONGITUDE,DEPTH,CTDPRS,CTDTMP,CTDSAL,CTDSAL_FLAG_W,SALNTY,SALNTY_FLAG_W,CTDOXY,CTDOXY_FLAG_W,OXYGEN,OXYGEN_FLAG_W,SILCAT,SILCAT_FLAG_W,NITRAT,NITRAT_FLAG_W,NITRIT,NITRIT_FLAG_W,PHSPHT,PHSPHT_FLAG_W,CFC-11,CFC-11_FLAG_W,CFC-12,CFC-12_FLAG_W,TRITUM,TRITUM_FLAG_W,HELIUM,HELIUM_FLAG_W,DELHE3,DELHE3_FLAG_W,DELC13,DELC13_FLAG_W,DELC14,DELC14_FLAG_W,C14ERR,NEON,NEON_FLAG_W,NEONER,HELIER,DELHER,THETA,TRITER
,,,,,,,,,,,METERS,DBAR,ITS-90,PSS-78,,PSS-78,,UMOL/KG,,UMOL/KG,,UMOL/KG,,UMOL/KG,,UMOL/KG,,UMOL/KG,,PMOL/KG,,PMOL/KG,,TU,,NMOL/KG,,PERCNT,,/MILLE,,/MILLE,,/MILLE,NMOL/KG,,NMOL/KG,NMOL/KG,PERCNT,DEG C,TU
  316N138_7,       P14C,      14,          1,          1,          1,2,19920903,       1746,   -31.3117,   175.7850,     -999.0,     1.9,  16.6087,  35.5399,2,  35.5412,2,    229.5,2,   238.6,2,    2.33,2,    2.20,2,    0.11,2,    0.30,2,-999.000,9,-999.000,9,-999.000,9,-999.0000,9, -999.00,9, -999.00,9,  -999.0,9,  -999.0,-999.000,9,-999.000,-999.0000,-999.000,  16.6084,-999.000
  316N138_7,       P14C,      14,          1,          2,          2,2,19920903,       1746,   -31.3117,   175.7850,     -999.0,    19.8,  16.5347,  35.5244,2,  35.5258,2,    238.8,2,   238.3,2,    2.32,2,    2.37,2,    0.11,2,    0.31,2,-999.000,9,-999.000,9,-999.000,9,-999.0000,9, -999.00,9, -999.00,9,  -999.0,9,  -999.0,-999.000,9,-999.000,-999.0000,-999.000,  16.5315,-999.000
  316N138_7,       P14C,      14,          1,          3,          3,2,19920903,       1746,   -31.3117,   175.7850,     -999.0,    59.7,  16.1406,  35.4941,2,  35.4988,2,    231.3,2,   235.8,2,    2.51,2,    2.88,2,    0.21,2,    0.35,2,-999.000,9,-999.000,9,-999.000,9,-999.0000,9, -999.00,9, -999.00,9,  -999.0,9,  -999.0,-999.000,9,-999.000,-999.0000,-999.000,  16.1311,-999.000
  316N138_7,       P14C,      14,          1,          4,          4,2,19920903,       1746,   -31.3117,   175.7850,     -999.0,   110.3,  15.7849,  35.4456,2,  35.4470,2,    219.4,2,   223.4,2,    2.70,2,    4.64,2,    0.19,2,    0.45,2,-999.000,9,-999.000,9,-999.000,9,-999.0000,9, -999.00,9, -999.00,9,  -999.0,9,  -999.0,-999.000,9,-999.000,-999.0000,-999.000,  15.7676,-999.000
  316N138_7,       P14C,      14,          1,          5,          5,2,19920903,       1746,   -31.3117,   175.7850,     -999.0,   160.1,  15.3317,  35.3997,2,  35.3962,2,    220.7,2,   220.3,2,    2.89,2,    5.65,2,    0.05,2,    0.51,2,-999.000,9,-999.000,9,-999.000,9,-999.0000,9, -999.00,9, -999.00,9,  -999.0,9,  -999.0,-999.000,9,-999.000,-999.0000,-999.000,  15.3071,-999.000
  316N138_7,       P14C,      14,          1,          6,          6,2,19920903,       1746,   -31.3117,   175.7850,     -999.0,   210.2,  14.8407,  35.3454,2,  35.3449,2,    198.1,2,   211.5,2,    3.69,2,    7.21,2,    0.02,2,    0.60,2,-999.000,9,-999.000,9,-999.000,9,-999.0000,9, -999.00,9, -999.00,9,  -999.0,9,  -999.0,-999.000,9,-999.000,-999.0000,-999.000,  14.8090,-999.000
  316N138_7,       P14C,      14,          1,          7,          7,2,19920903,       1746,   -31.3117,   175.7850,     -999.0,   260.1,  13.8980,  35.2349,2,  35.2435,2,    195.4,2,   193.1,2,    4.69,2,   10.75,2,    0.01,2,    0.81,2,-999.000,9,-999.000,9,-999.000,9,-999.0000,9, -999.00,9, -999.00,9,  -999.0,9,  -999.0,-999.000,9,-999.000,-999.0000,-999.000,  13.8604,-999.000
  316N138_7,       P14C,      14,          1,          8,          8,2,19920903,       1746,   -31.3117,   175.7850,     -999.0,   310.4,  12.5900,  35.0946,2,  35.1017,2,    195.6,2,   194.2,2,    6.30,2,   12.97,2,    0.01,2,    0.94,2,-999.000,9,-999.000,9,-999.000,9,-999.0000,9, -999.00,9, -999.00,9,  -999.0,9,  -999.0,-999.000,9,-999.000,-999.0000,-999.000,  12.5479,-999.000
  316N138_7,       P14C,      14,          1,          9,          9,2,19920903,       1746,   -31.3117,   175.7850,     -999.0,   361.4,  11.6564,  34.9771,2,  34.9704,2,    192.0,2,   191.9,2,    6.89,2,   15.24,2,    0.00,2,    1.09,2,-999.000,9,-999.000,9,-999.000,9,-999.0000,9, -999.00,9, -999.00,9,  -999.0,9,  -999.0,-999.000,9,-999.000,-999.0000,-999.000,  11.6098,-999.000
  316N138_7,       P14C,      14,          1,         10,         10,2,19920903,       1746,   -31.3117,   175.7850,     -999.0,   410.9,  10.8766,  34.8932,2,  34.8905,2,    190.5,2,   192.6,2,    8.30,2,   16.81,2,    0.00,2,    1.19,2,-999.000,9,-999.000,9,-999.000,9,-999.0000,9, -999.00,9, -999.00,9,  -999.0,9,  -999.0,-999.000,9,-999.000,-999.0000,-999.000,  10.8258,-999.000
  316N138_7,       P14C,      14,          1,         11,         11,2,19920903,       1746,   -31.3117,   175.7850,     -999.0,   511.5,   9.2979,  34.7012,2,  34.7000,2,    199.0,2,   198.5,2,   10.11,2,   19.86,2,    0.00,2,    1.37,2,-999.000,9,-999.000,9,-999.000,9,-999.0000,9, -999.00,9, -999.00,9,  -999.0,9,  -999.0,-999.000,9,-999.000,-999.0000,-999.000,   9.2405,-999.000
  316N138_7,       P14C,      14,          1,         12,         12,2,19920903,       1746,   -31.3117,   175.7850,     -999.0,   611.3,   7.6708,  34.5126,2,  34.5150,2,    207.9,2,   209.8,2,   11.72,2,   22.74,2,    0.00,2,    1.56,2,   0.875,4,   0.372,2,-999.000,9,-999.0000,9, -999.00,9, -999.00,9,  -999.0,9,  -999.0,-999.000,9,-999.000,-999.0000,-999.000,   7.6093,-999.000
  316N138_7,       P14C,      14,          1,         13,         13,2,19920903,       1746,   -31.3117,   175.7850,     -999.0,   712.4,   6.8616,  34.4415,2,  34.4443,2,    212.1,2,   211.9,2,   14.74,2,   24.57,2,    0.00,2,    1.68,2,   0.483,2,   0.264,2,-999.000,9,-999.0000,9, -999.00,9, -999.00,9,  -999.0,9,  -999.0,-999.000,9,-999.000,-999.0000,-999.000,   6.7938,-999.000
  316N138_7,       P14C,      14,          1,         14,         14,2,19920903,       1746,   -31.3117,   175.7850,     -999.0,   813.0,   6.4135,  34.4310,2,  34.4298,2,    205.3,2,   206.0,2,   19.79,2,   26.14,2,    0.00,2,    1.80,2,   0.339,2,   0.196,2,-999.000,9,-999.0000,9, -999.00,9, -999.00,9,  -999.0,9,  -999.0,-999.000,9,-999.000,-999.0000,-999.000,   6.3382,-999.000
  316N138_7,       P14C,      14,          1,         15,         15,2,19920903,       1746,   -31.3117,   175.7850,     -999.0,   863.9,   6.2003,  34.4352,2,  34.4329,2,    195.9,2,   201.7,2,   23.02,2,   26.96,2,    0.00,2,    1.85,2,   0.287,2,   0.170,2,-999.000,9,-999.0000,9, -999.00,9, -999.00,9,  -999.0,9,  -999.0,-999.000,9,-999.000,-999.0000,-999.000,   6.1214,-999.000
  316N138_7,       P14C,      14,          1,         16,         16,2,19920903,       1746,   -31.3117,   175.7850,     -999.0,   913.8,   5.8698,  34.4501,2,  34.4505,2,    195.6,2,   194.4,2,   29.89,2,   28.01,2,    0.00,2,    1.92,2,   0.240,2,   0.136,2,-999.000,9,-999.0000,9, -999.00,9, -999.00,9,  -999.0,9,  -999.0,-999.000,9,-999.000,-999.0000,-999.000,   5.7883,-999.000
  316N138_7,       P14C,      14,          1,         17,         17,2,19920903,       1746,   -31.3117,   175.7850,     -999.0,  1013.0,   5.2100,  34.4527,2,  34.4499,2,    185.8,2,   186.6,2,   39.59,2,   29.89,2,    0.00,2,    2.04,2,   0.142,2,   0.077,2,-999.000,9,-999.0000,9, -999.00,9, -999.00,9,  -999.0,9,  -999.0,-999.000,9,-999.000,-999.0000,-999.000,   5.1240,-999.000
  316N138_7,       P14C,      14,          1,         18,         18,2,19920903,       1746,   -31.3117,   175.7850,     -999.0,  1115.5,   4.7801,  34.4750,2,  34.4742,2,    178.8,2,   179.9,2,   49.70,2,   30.94,2,    0.00,2,    2.12,2,-999.000,9,-999.000,9,-999.000,9,-999.0000,9, -999.00,9, -999.00,9,  -999.0,9,  -999.0,-999.000,9,-999.000,-999.0000,-999.000,   4.6881,-999.000
  316N138_7,       P14C,      14,          1,         19,         19,2,19920903,       1746,   -31.3117,   175.7850,     -999.0,  1216.6,   4.3949,  34.5074,2,  34.5056,2,    174.7,2,   173.9,2,   60.43,2,   31.68,2,    0.00,2,    2.17,2,-999.000,9,-999.000,9,-999.000,9,-999.0000,9, -999.00,9, -999.00,9,  -999.0,9,  -999.0,-999.000,9,-999.000,-999.0000,-999.000,   4.2972,-999.000
  316N138_7,       P14C,      14,          1,         20,         20,2,19920903,       1746,   -31.3117,   175.7850,     -999.0,  1316.6,   4.0214,  34.5287,2,  34.5273,2,    170.7,2,   169.6,2,   69.34,2,   32.51,2,    0.00,2,    2.23,2,-999.000,9,-999.000,9,-999.000,9,-999.0000,9, -999.00,9, -999.00,9,  -999.0,9,  -999.0,-999.000,9,-999.000,-999.0000,-999.000,   3.9184,-999.000
  316N138_7,       P14C,      14,          1,         21,         21,2,19920903,       1746,   -31.3117,   175.7850,     -999.0,  1417.7,   3.7003,  34.5444,2,  34.5430,2,    166.7,2,   166.3,2,   76.85,2,   33.03,2,    0.00,2,    2.27,2,-999.000,9,-999.000,9,-999.000,9,-999.0000,9, -999.00,9, -999.00,9,  -999.0,9,  -999.0,-999.000,9,-999.000,-999.0000,-999.000,   3.5917,-999.000
  316N138_7,       P14C,      14,          1,         22,         22,2,19920903,       1746,   -31.3117,   175.7850,     -999.0,  1518.3,   3.3938,  34.5621,2,  34.5598,2,    162.7,2,   163.4,2,   83.75,2,   33.51,2,    0.00,2,    2.32,2,-999.000,9,-999.000,9,-999.000,9,-999.0000,9, -999.00,9, -999.00,9,  -999.0,9,  -999.0,-999.000,9,-999.000,-999.0000,-999.000,   3.2799,-999.000
  316N138_7,       P14C,      14,          1,         23,         23,2,19920903,       1746,   -31.3117,   175.7850,     -999.0,  1619.5,   3.0941,  34.5767,2,-999.0000,9,    160.1,2,   160.9,2,   91.09,2,   33.98,2,    0.00,2,    2.36,2,-999.000,9,-999.000,9,-999.000,9,-999.0000,9, -999.00,9, -999.00,9,  -999.0,9,  -999.0,-999.000,9,-999.000,-999.0000,-999.000,   2.9750,-999.000
  316N138_7,       P14C,      14,          1,         24,         24,2,19920903,       1746,   -31.3117,   175.7850,     -999.0,  1822.1,   2.6480,  34.6085,2,  34.6104,2,    155.7,2,   156.5,2,  103.41,2,   34.73,2,    0.00,2,    2.40,2,-999.000,9,-999.000,9,-999.000,9,-999.0000,9, -999.00,9, -999.00,9,  -999.0,9,  -999.0,-999.000,9,-999.000,-999.0000,-999.000,   2.5173,-999.000
  316N138_7,       P14C,      14,          1,         25,         25,2,19920903,       1746,   -31.3117,   175.7850,     -999.0,  2025.5,   2.3949,  34.6282,2,  34.6283,2,    153.3,2,   154.2,2, -999.00,9, -999.00,9, -999.00,9, -999.00,9,-999.000,9,-999.000,9,-999.000,9,-999.0000,9, -999.00,9, -999.00,9,  -999.0,9,  -999.0,-999.000,9,-999.000,-999.0000,-999.000,   2.2502,-999.000
  316N138_7,       P14C,      14,          1,         26,         26,2,19920903,       1746,   -31.3117,   175.7850,     -999.0,  2229.7,   2.2333,  34.6428,2,  34.6418,2,    153.4,2,   153.7,2,  116.28,2,   35.30,2,    0.00,2,    2.44,2,-999.000,9,-999.000,9,-999.000,9,-999.0000,9, -999.00,9, -999.00,9,  -999.0,9,  -999.0,-999.000,9,-999.000,-999.0000,-999.000,   2.0732,-999.000
  316N138_7,       P14C,      14,          1,         27,         27,2,19920903,       1746,   -31.3117,   175.7850,     -999.0,  2433.3,   2.0989,  34.6550,2,  34.6547,2,    153.3,2,   153.6,2,  119.60,2,   35.29,2,    0.00,2,    2.44,2,-999.000,9,-999.000,9,-999.000,9,-999.0000,9, -999.00,9, -999.00,9,  -999.0,9,  -999.0,-999.000,9,-999.000,-999.0000,-999.000,   1.9228,-999.000
  316N138_7,       P14C,      14,          1,         28,         28,2,19920903,       1746,   -31.3117,   175.7850,     -999.0,  2636.7,   1.9914,  34.6653,2,  34.6649,2,    154.9,2,   154.2,2,  122.52,2,   35.36,2,    0.00,2,    2.45,2,-999.000,9,-999.000,9,-999.000,9,-999.0000,9, -999.00,9, -999.00,9,  -999.0,9,  -999.0,-999.000,9,-999.000,-999.0000,-999.000,   1.7987,-999.000
  316N138_7,       P14C,      14,          1,         29,         29,2,19920903,       1746,   -31.3117,   175.7850,     -999.0,  2840.7,   1.9019,  34.6737,2,  34.6741,2,    154.4,2,   154.7,2,  124.81,2,   35.35,2,    0.00,2,    2.45,2,-999.000,9,-999.000,9,-999.000,9,-999.0000,9, -999.00,9, -999.00,9,  -999.0,9,  -999.0,-999.000,9,-999.000,-999.0000,-999.000,   1.6917,-999.000
  316N138_7,       P14C,      14,          1,         30,         30,2,19920903,       1746,   -31.3117,   175.7850,     -999.0,  3044.3,   1.8659,  34.6778,2,  34.6777,2,    154.6,2,   155.0,2,  126.26,2,   35.26,2,    0.00,2,    2.45,2,-999.000,9,-999.000,9,-999.000,9,-999.0000,9, -999.00,9, -999.00,9,  -999.0,9,  -999.0,-999.000,9,-999.000,-999.0000,-999.000,   1.6368,-999.000
  316N138_7,       P14C,      14,          1,         31,         31,2,19920903,       1746,   -31.3117,   175.7850,     -999.0,  3248.4,   1.8547,  34.6801,2,  34.6812,2,    155.7,2,   154.6,2,  126.65,2,   35.38,2,    0.00,2,    2.45,2,-999.000,9,-999.000,9,-999.000,9,-999.0000,9, -999.00,9, -999.00,9,  -999.0,9,  -999.0,-999.000,9,-999.000,-999.0000,-999.000,   1.6055,-999.000
  316N138_7,       P14C,      14,          1,         32,         32,2,19920903,       1746,   -31.3117,   175.7850,     -999.0,  3452.3,   1.8554,  34.6822,2,  34.6827,2,    156.2,2,   154.6,2,  127.25,2,   35.37,2,    0.00,2,    2.45,2,-999.000,9,-999.000,9,-999.000,9,-999.0000,9, -999.00,9, -999.00,9,  -999.0,9,  -999.0,-999.000,9,-999.000,-999.0000,-999.000,   1.5853,-999.000
  316N138_7,       P14C,      14,          1,         33,         33,2,19920903,       1746,   -31.3117,   175.7850,     -999.0,  3654.7,   1.8668,  34.6829,2,  34.6831,2,    156.1,2,   155.4,2,  128.06,2,   35.41,2,    0.00,2,    2.45,2,-999.000,9,-999.000,9,-999.000,9,-999.0000,9, -999.00,9, -999.00,9,  -999.0,9,  -999.0,-999.000,9,-999.000,-999.0000,-999.000,   1.5752,-999.000
  316N138_7,       P14C,      14,          1,         34,         34,2,19920903,       1746,   -31.3117,   175.7850,     -999.0,  3858.9,   1.8809,  34.6833,2,  34.6831,2,    155.2,2,   155.1,2,  128.03,2,   35.44,2,    0.00,2,    2.45,2,-999.000,9,-999.000,9,-999.000,9,-999.0000,9, -999.00,9, -999.00,9,  -999.0,9,  -999.0,-999.000,9,-999.000,-999.0000,-999.000,   1.5669,-999.000
  316N138_7,       P14C,      14,          1,         35,         35,2,19920903,       1746,   -31.3117,   175.7850,     -999.0,  4063.7,   1.8963,  34.6839,2,  34.6835,2,    154.6,2,   155.7,2,  128.42,2,   35.47,2,    0.00,2,    2.45,2,-999.000,9,-999.000,9,-999.000,9,-999.0000,9, -999.00,9, -999.00,9,  -999.0,9,  -999.0,-999.000,9,-999.000,-999.0000,-999.000,   1.5592,-999.000
  316N138_7,       P14C,      14,          1,         37,         37,2,19920903,       1746,   -31.3117,   175.7850,     -999.0,  4145.7,   1.9038,  34.6840,2,  34.6837,2,    153.5,2,   154.6,2,  128.39,2,   35.51,2,    0.00,2,    2.47,2,-999.000,9,-999.000,9,-999.000,9,-999.0000,9, -999.00,9, -999.00,9,  -999.0,9,  -999.0,-999.000,9,-999.000,-999.0000,-999.000,   1.5572,-999.000