BOTTLE,20211105CCHSIORKP
EXPOCODE,SECT_ID,STNNBR,CASTNO,SAMPNO,BTLNBR,BTLNBR_FLAG_W,DATE,TIME,LATITUDE,LONGITUDE,DEPTH,CTDPRS,CTDTMP,CTDSAL,CTDSAL_FLAG_W,SALNTY,SALNTY_FLAG_W,CTDOXY,CTDOXY_FLAG_W,OXYGEN,OXYGEN_FLAG_W,SILCAT,SILCAT_FLAG_W,NITRAT,NITRAT_FLAG_W,NITRIT,NITRIT_FLAG_W,PHSPHT,PHSPHT_FLAG_W,CFC-11,CFC-11_FLAG_W,CFC-12,CFC-12_FLAG_W,TRITUM,TRITUM_FLAG_W,HELIUM,HELIUM_FLAG_W,DELHE3,DELHE3_FLAG_W,DELC13,DELC13_FLAG_W,DELC14,DELC14_FLAG_W,C14ERR,NEON,NEON_FLAG_W,NEONER,HELIER,DELHER,THETA,TRITER
,,,,,,,,,,,METERS,DBAR,ITS-90,PSS-78,,PSS-78,,UMOL/KG,,UMOL/KG,,UMOL/KG,,UMOL/KG,,UMOL/KG,,UMOL/KG,,PMOL/KG,,PMOL/KG,,TU,,NMOL/KG,,PERCNT,,/MILLE,,/MILLE,,/MILLE,NMOL/KG,,NMOL/KG,NMOL/KG,PERCNT,DEG C,TU
  316N138_7,       P14C,      30,          1,          1,          1,2,19920907,       1551,   -24.3650,   176.9550,       4447,     2.9,  21.3778,  35.6356,2,  35.6374,2,    200.5,2,   219.7,2,    1.66,2,    0.03,2,    0.01,2,    0.10,2,-999.000,9,-999.000,9,-999.000,9,-999.0000,9, -999.00,9,    1.47,2,   117.3,2,     5.0,-999.000,9,-999.000,-999.0000,-999.000,  21.3773,-999.000
  316N138_7,       P14C,      30,          1,          2,          2,2,19920907,       1551,   -24.3650,   176.9550,       4447,    18.2,  21.3777,  35.6344,2,  35.6342,2,    221.8,2,   221.4,2,    1.45,2,    0.03,2,    0.01,2,    0.10,2,-999.000,9,-999.000,9,   0.706,2,   1.7880,2,   -1.32,2, -999.00,9,  -999.0,9,  -999.0,   7.194,2,   0.036,   0.0070,   0.110,  21.3742,   0.006
  316N138_7,       P14C,      30,          1,          3,          3,2,19920907,       1551,   -24.3650,   176.9550,       4447,    57.6,  21.2189,  35.6133,2,  35.6157,2,    211.4,2,   220.7,2,    1.43,2,    0.03,2,    0.01,2,    0.11,2,-999.000,9,-999.000,9,-999.000,9,-999.0000,9, -999.00,9, -999.00,9,  -999.0,9,  -999.0,-999.000,9,-999.000,-999.0000,-999.000,  21.2078,-999.000
  316N138_7,       P14C,      30,          1,          4,          4,2,19920907,       1551,   -24.3650,   176.9550,       4447,   107.4,  20.6304,  35.6372,2,  35.6399,2,    225.7,2,   219.8,2,    1.41,2,    0.00,2,    0.05,2,    0.12,2,-999.000,9,-999.000,9,   0.702,2,   1.7980,2,   -1.30,2,    1.29,2,   120.5,2,     3.6,   7.277,2,   0.036,   0.0070,   0.110,  20.6100,   0.006
  316N138_7,       P14C,      30,          1,          5,          5,2,19920907,       1551,   -24.3650,   176.9550,       4447,   166.3,  19.4961,  35.6497,2,  35.6498,2,    180.3,2,   201.2,2,    1.40,2,    2.15,2,    0.07,2,    0.29,2,-999.000,9,-999.000,9,-999.000,9,-999.0000,9, -999.00,9, -999.00,9,  -999.0,9,  -999.0,-999.000,9,-999.000,-999.0000,-999.000,  19.4658,-999.000
  316N138_7,       P14C,      30,          1,          6,          6,2,19920907,       1551,   -24.3650,   176.9550,       4447,   223.0,  18.1413,  35.5687,2,  35.5700,2,    186.9,2,   186.1,2,    1.78,2,    4.58,2,    0.01,2,    0.45,2,-999.000,9,-999.000,9,   0.749,2,   1.8200,2,   -0.10,2,    1.12,2,   106.2,2,     3.4,   7.449,2,   0.037,   0.0070,   0.110,  18.1027,   0.005
  316N138_7,       P14C,      30,          1,          7,          7,2,19920907,       1551,   -24.3650,   176.9550,       4447,   270.8,  16.9287,  35.4794,2,  35.4815,2,    186.7,2,   186.4,2,    2.16,2,    5.89,2,    0.01,2,    0.54,2,-999.000,9,-999.000,9,-999.000,9,-999.0000,9, -999.00,9, -999.00,9,  -999.0,9,  -999.0,-999.000,9,-999.000,-999.0000,-999.000,  16.8839,-999.000
  316N138_7,       P14C,      30,          1,          8,          8,2,19920907,       1551,   -24.3650,   176.9550,       4447,   325.1,  15.4856,  35.3332,2,  35.3361,2,    184.9,2,   184.3,2,    3.15,2,    8.17,2,    0.01,2,    0.70,2,-999.000,9,-999.000,9,   0.592,2,   1.8320,2,    0.38,2,    1.19,2,    85.6,2,     4.9,   7.595,2,   0.038,   0.0080,   0.110,  15.4350,   0.004
  316N138_7,       P14C,      30,          1,          9,          9,2,19920907,       1551,   -24.3650,   176.9550,       4447,   370.9,  14.1775,  35.2036,2,  35.2048,2,    179.8,2,   184.2,2,    3.73,2,   10.49,2,    0.01,2,    0.84,2,-999.000,9,-999.000,9,-999.000,9,-999.0000,9, -999.00,9, -999.00,9,  -999.0,9,  -999.0,-999.000,9,-999.000,-999.0000,-999.000,  14.1230,-999.000
  316N138_7,       P14C,      30,          1,         10,         10,2,19920907,       1551,   -24.3650,   176.9550,       4447,   426.2,  12.9634,  35.0942,2,  35.0953,2,    187.0,2,   184.5,2,    5.31,2,   12.98,2,    0.00,2,    1.00,2,   1.415,2,   0.734,2,   0.475,2,   1.8460,2,    0.77,2,    1.17,2,    50.7,2,     4.4,   7.714,2,   0.039,   0.0080,   0.110,  12.9043,   0.004
  316N138_7,       P14C,      30,          1,         11,         11,2,19920907,       1551,   -24.3650,   176.9550,       4447,   513.5,  10.7741,  34.8419,2,  34.8381,2,    191.5,2,   191.1,2,    6.90,2,   16.74,2,    0.00,2,    1.23,2,   1.190,2,   0.598,2,-999.000,9,-999.0000,9, -999.00,9,    1.18,2,    17.4,2,     3.4,-999.000,9,-999.000,-999.0000,-999.000,  10.7108,-999.000
  316N138_7,       P14C,      30,          1,         12,         12,2,19920907,       1551,   -24.3650,   176.9550,       4447,   606.0,   8.8350,  34.6102,2,  34.6129,2,    199.5,2,   200.9,2,    8.48,2,   20.21,2,    0.00,2,    1.44,2,   0.855,2,   0.442,2,   0.257,2,   1.8640,2,    1.09,2,    1.22,2,    -6.1,2,     3.8,   7.959,2,   0.040,   0.0080,   0.110,   8.7687,   0.003
  316N138_7,       P14C,      30,          1,         13,         13,9,19920907,       1551,   -24.3650,   176.9550,       4447,   690.3,   7.6463,  34.4984,2,-999.0000,9,    211.5,2,  -999.0,9, -999.00,9, -999.00,9, -999.00,9, -999.00,9,-999.000,9,-999.000,9,-999.000,9,-999.0000,9, -999.00,9, -999.00,9,  -999.0,9,  -999.0,-999.000,9,-999.000,-999.0000,-999.000,   7.5766,-999.000
  316N138_7,       P14C,      30,          1,         14,         14,2,19920907,       1551,   -24.3650,   176.9550,       4447,   780.4,   6.6298,  34.4103,2,  34.4113,2,    213.0,2,   211.4,2,   14.66,2,   24.95,2,    0.00,2,    1.76,2,   0.360,2,   0.193,2,   0.106,2,   1.8790,2,    1.46,2,    1.24,2,   -57.6,2,     6.0,   8.076,2,   0.040,   0.0080,   0.110,   6.5565,   0.002
  316N138_7,       P14C,      30,          1,         15,         15,2,19920907,       1551,   -24.3650,   176.9550,       4447,   875.6,   5.8257,  34.3748,2,  34.3762,2,    203.7,2,   204.2,2,   21.44,2,   27.46,2,    0.00,2,    1.93,2,   0.175,2,   0.101,2,-999.000,9,-999.0000,9, -999.00,9,    1.18,2,   -82.6,2,     5.6,-999.000,9,-999.000,-999.0000,-999.000,   5.7482,-999.000
  316N138_7,       P14C,      30,          1,         16,         16,2,19920907,       1551,   -24.3650,   176.9550,       4447,   969.5,   5.0616,  34.3773,2,  34.3784,2,    189.5,2,   192.1,2,   33.02,2,   30.02,2,    0.00,2,    2.10,2,-999.000,9,-999.000,9,   0.030,2,   1.9010,2,    4.54,2, -999.00,9,  -999.0,9,  -999.0,   8.192,2,   0.041,   0.0080,   0.110,   4.9808,   0.002
  316N138_7,       P14C,      30,          1,         17,         17,2,19920907,       1551,   -24.3650,   176.9550,       4447,  1063.5,   4.3492,  34.4255,2,  34.4266,2,    177.1,2,   178.0,2,   49.61,2,   32.08,2,    0.00,2,    2.24,2,-999.000,9,-999.000,9,-999.000,9,-999.0000,9, -999.00,9, -999.00,9,  -999.0,9,  -999.0,-999.000,9,-999.000,-999.0000,-999.000,   4.2655,-999.000
  316N138_7,       P14C,      30,          1,         18,         18,2,19920907,       1551,   -24.3650,   176.9550,       4447,  1155.7,   3.9345,  34.4592,2,  34.4591,2,    170.1,2,   171.0,2,   61.21,2,   32.98,2,    0.00,2,    2.32,2,-999.000,9,-999.000,9,-999.000,9,-999.0000,9, -999.00,9,    0.51,2,  -149.4,2,     4.3,-999.000,9,-999.000,-999.0000,-999.000,   3.8464,-999.000
  316N138_7,       P14C,      30,          1,         19,         19,2,19920907,       1551,   -24.3650,   176.9550,       4447,  1248.8,   3.5494,  34.5036,2,  34.5034,2,    163.2,2,   163.5,2,   73.84,2,   33.75,2,    0.00,2,    2.37,2,-999.000,9,-999.000,9,-999.000,9,-999.0000,9, -999.00,9, -999.00,9,  -999.0,9,  -999.0,-999.000,9,-999.000,-999.0000,-999.000,   3.4569,-999.000
  316N138_7,       P14C,      30,          1,         20,         20,2,19920907,       1551,   -24.3650,   176.9550,       4447,  1341.8,   3.2412,  34.5381,2,  34.5375,2,    157.9,2,   159.5,2,   84.71,2,   34.01,2,    0.00,2,    2.41,2,-999.000,9,-999.000,9,-999.000,9,-999.0000,9, -999.00,9, -999.00,9,  -999.0,9,  -999.0,-999.000,9,-999.000,-999.0000,-999.000,   3.1439,-999.000
  316N138_7,       P14C,      30,          1,         21,         21,2,19920907,       1551,   -24.3650,   176.9550,       4447,  1427.2,   3.0523,  34.5576,2,  34.5579,2,    154.6,2,   155.8,2,   91.17,2,   34.57,2,    0.00,2,    2.44,2,-999.000,9,-999.000,9,-999.000,9,-999.0000,9, -999.00,9,    0.40,2,  -163.4,2,     2.4,-999.000,9,-999.000,-999.0000,-999.000,   2.9500,-999.000
  316N138_7,       P14C,      30,          1,         22,         22,2,19920907,       1551,   -24.3650,   176.9550,       4447,  1621.4,   2.7107,  34.5919,2,  34.5921,2,    152.9,2,   152.8,2,  101.53,2,   34.92,2,    0.00,2,    2.47,2,-999.000,9,-999.000,9,-999.000,9,-999.0000,9, -999.00,9, -999.00,9,  -999.0,9,  -999.0,-999.000,9,-999.000,-999.0000,-999.000,   2.5962,-999.000
  316N138_7,       P14C,      30,          1,         23,         23,2,19920907,       1551,   -24.3650,   176.9550,       4447,  1812.6,   2.4834,  34.6141,2,  34.6146,2,    152.5,2,   151.5,2,  108.48,2,   35.13,2,    0.00,2,    2.49,2,-999.000,9,-999.000,9,-999.000,9,-999.0000,9, -999.00,9, -999.00,9,  -999.0,9,  -999.0,-999.000,9,-999.000,-999.0000,-999.000,   2.3558,-999.000
  316N138_7,       P14C,      30,          1,         24,         24,2,19920907,       1551,   -24.3650,   176.9550,       4447,  2008.5,   2.3047,  34.6318,2,  34.6244,2,    151.0,2,   151.3,2,  113.83,2,   35.18,2,    0.00,2,    2.49,2,-999.000,9,-999.000,9,-999.000,9,-999.0000,9, -999.00,9,    0.28,2,  -203.4,2,     4.8,-999.000,9,-999.000,-999.0000,-999.000,   2.1629,-999.000
  316N138_7,       P14C,      30,          1,         25,         25,2,19920907,       1551,   -24.3650,   176.9550,       4447,  2216.5,   2.1647,  34.6455,2,  34.6464,2,    152.9,2,   151.9,2,  117.33,2,   35.17,2,    0.00,2,    2.49,2,-999.000,9,-999.000,9,-999.000,9,-999.0000,9, -999.00,9, -999.00,9,  -999.0,9,  -999.0,-999.000,9,-999.000,-999.0000,-999.000,   2.0070,-999.000
  316N138_7,       P14C,      30,          1,         26,         26,2,19920907,       1551,   -24.3650,   176.9550,       4447,  2411.4,   2.0312,  34.6588,2,  34.6589,2,    152.8,2,   153.0,2,  120.44,2,   35.13,2,    0.00,2,    2.49,2,-999.000,9,-999.000,9,-999.000,9,-999.0000,9, -999.00,9, -999.00,9,  -999.0,9,  -999.0,-999.000,9,-999.000,-999.0000,-999.000,   1.8584,-999.000
  316N138_7,       P14C,      30,          1,         27,         27,2,19920907,       1551,   -24.3650,   176.9550,       4447,  2600.4,   1.9681,  34.6650,2,  34.6660,2,    154.1,2,   153.9,2,  122.30,2,   35.17,2,    0.00,2,    2.49,2,-999.000,9,-999.000,9,-999.000,9,-999.0000,9, -999.00,9,    0.23,2,  -205.5,2,     2.1,-999.000,9,-999.000,-999.0000,-999.000,   1.7791,-999.000
  316N138_7,       P14C,      30,          1,         28,         28,2,19920907,       1551,   -24.3650,   176.9550,       4447,  2799.9,   1.9063,  34.6716,2,  34.6723,2,    155.9,2,   155.3,2,  123.96,2,   35.17,2,    0.00,2,    2.49,2,-999.000,9,-999.000,9,-999.000,9,-999.0000,9, -999.00,9, -999.00,9,  -999.0,9,  -999.0,-999.000,9,-999.000,-999.0000,-999.000,   1.6999,-999.000
  316N138_7,       P14C,      30,          1,         29,         29,2,19920907,       1551,   -24.3650,   176.9550,       4447,  2993.9,   1.8688,  34.6750,2,  34.6764,2,    156.3,2,   157.3,3,  124.57,2,   35.13,2,    0.00,2,    2.48,2,-999.000,9,-999.000,9,-999.000,9,-999.0000,9, -999.00,9, -999.00,9,  -999.0,9,  -999.0,-999.000,9,-999.000,-999.0000,-999.000,   1.6445,-999.000
  316N138_7,       P14C,      30,          1,         30,         30,2,19920907,       1551,   -24.3650,   176.9550,       4447,  3184.8,   1.8508,  34.6783,2,  34.6786,2,    155.8,2,  -999.0,9,  125.39,2,   35.13,2,    0.00,2,    2.47,2,-999.000,9,-999.000,9,-999.000,9,-999.0000,9, -999.00,9,    0.20,2,  -206.9,2,     2.4,-999.000,9,-999.000,-999.0000,-999.000,   1.6081,-999.000
  316N138_7,       P14C,      30,          1,         31,         31,2,19920907,       1551,   -24.3650,   176.9550,       4447,  3386.4,   1.8441,  34.6798,2,  34.6805,2,    156.0,2,   156.1,2,  126.42,2,   35.13,2,    0.00,2,    2.48,2,-999.000,9,-999.000,9,-999.000,9,-999.0000,9, -999.00,9, -999.00,9,  -999.0,9,  -999.0,-999.000,9,-999.000,-999.0000,-999.000,   1.5810,-999.000
  316N138_7,       P14C,      30,          1,         32,         32,2,19920907,       1551,   -24.3650,   176.9550,       4447,  3587.3,   1.8424,  34.6809,2,  34.6819,2,    156.6,2,   156.2,2,  127.46,2,   35.17,2,    0.00,2,    2.48,2,-999.000,9,-999.000,9,-999.000,9,-999.0000,9, -999.00,9, -999.00,9,  -999.0,9,  -999.0,-999.000,9,-999.000,-999.0000,-999.000,   1.5585,-999.000
  316N138_7,       P14C,      30,          1,         33,         33,2,19920907,       1551,   -24.3650,   176.9550,       4447,  3790.1,   1.8492,  34.6818,2,  34.6827,2,    156.6,2,   156.4,2,  128.29,2,   35.17,2,    0.00,2,    2.48,2,-999.000,9,-999.000,9,-999.000,9,-999.0000,9, -999.00,9,    0.23,2,  -202.2,2,     3.8,-999.000,9,-999.000,-999.0000,-999.000,   1.5435,-999.000
  316N138_7,       P14C,      30,          1,         34,         34,2,19920907,       1551,   -24.3650,   176.9550,       4447,  4043.3,   1.8664,  34.6826,2,  34.6825,2,    156.2,2,   156.5,2,  128.27,2,   35.12,2,    0.00,2,    2.49,2,-999.000,9,-999.000,9,-999.000,9,-999.0000,9, -999.00,9, -999.00,9,  -999.0,9,  -999.0,-999.000,9,-999.000,-999.0000,-999.000,   1.5324,-999.000
  316N138_7,       P14C,      30,          1,         35,         35,2,19920907,       1551,   -24.3650,   176.9550,       4447,  4249.5,   1.8847,  34.6833,2,  34.6831,2,    156.9,2,   156.7,2,  128.46,2,   35.12,2,    0.00,2,    2.48,2,-999.000,9,-999.000,9,-999.000,9,-999.0000,9, -999.00,9, -999.00,9,  -999.0,9,  -999.0,-999.000,9,-999.000,-999.0000,-999.000,   1.5269,-999.000
  316N138_7,       P14C,      30,          1,         37,         37,2,19920907,       1551,   -24.3650,   176.9550,       4447,  4474.1,   1.9064,  34.6834,2,  34.6829,2,    156.5,2,   156.7,2,  128.65,2,   35.12,2,    0.00,2,    2.48,2,   0.001,2,  -0.002,2,-999.000,9,-999.0000,9, -999.00,9,    0.20,2,  -218.2,2,     3.9,-999.000,9,-999.000,-999.0000,-999.000,   1.5219,-999.000