BOTTLE,20211105CCHSIORKP
EXPOCODE,SECT_ID,STNNBR,CASTNO,SAMPNO,BTLNBR,BTLNBR_FLAG_W,DATE,TIME,LATITUDE,LONGITUDE,DEPTH,CTDPRS,CTDTMP,CTDSAL,CTDSAL_FLAG_W,SALNTY,SALNTY_FLAG_W,CTDOXY,CTDOXY_FLAG_W,OXYGEN,OXYGEN_FLAG_W,SILCAT,SILCAT_FLAG_W,NITRAT,NITRAT_FLAG_W,NITRIT,NITRIT_FLAG_W,PHSPHT,PHSPHT_FLAG_W,CFC-11,CFC-11_FLAG_W,CFC-12,CFC-12_FLAG_W,TRITUM,TRITUM_FLAG_W,HELIUM,HELIUM_FLAG_W,DELHE3,DELHE3_FLAG_W,DELC13,DELC13_FLAG_W,DELC14,DELC14_FLAG_W,C14ERR,NEON,NEON_FLAG_W,NEONER,HELIER,DELHER,THETA,TRITER
,,,,,,,,,,,METERS,DBAR,ITS-90,PSS-78,,PSS-78,,UMOL/KG,,UMOL/KG,,UMOL/KG,,UMOL/KG,,UMOL/KG,,UMOL/KG,,PMOL/KG,,PMOL/KG,,TU,,NMOL/KG,,PERCNT,,/MILLE,,/MILLE,,/MILLE,NMOL/KG,,NMOL/KG,NMOL/KG,PERCNT,DEG C,TU
  316N138_7,       P14C,       7,          2,         13,         13,2,19920902,       0542,   -34.1333,   175.3017,     -999.0,     2.5,  15.5105,  35.4606,2,  35.4646,2,    246.0,2,   240.6,2,    2.85,2,    3.57,2,    0.24,2,    0.40,2,-999.000,9,-999.000,9,-999.000,9,-999.0000,9, -999.00,9, -999.00,9,  -999.0,9,  -999.0,-999.000,9,-999.000,-999.0000,-999.000,  15.5101,-999.000
  316N138_7,       P14C,       7,          2,         14,         14,2,19920902,       0542,   -34.1333,   175.3017,     -999.0,    15.6,  15.5145,  35.4607,2,  35.4784,2,    243.8,2,   240.9,2,    2.82,2,    3.56,2,    0.24,2,    0.41,2,   2.572,6,   1.355,6,-999.000,9,   1.8250,2,   -1.40,2, -999.00,9,  -999.0,9,  -999.0,   7.412,2,   0.037,   0.0070,   0.110,  15.5121,-999.000
  316N138_7,       P14C,       7,          2,         15,         15,2,19920902,       0542,   -34.1333,   175.3017,     -999.0,    54.9,  15.5015,  35.4600,2,  35.4674,2,    236.3,2,   240.8,2,    2.79,2,    3.56,2,    0.24,2,    0.40,2,   2.577,2,   1.354,2,-999.000,9,-999.0000,9, -999.00,9, -999.00,9,  -999.0,9,  -999.0,-999.000,9,-999.000,-999.0000,-999.000,  15.4930,-999.000
  316N138_7,       P14C,       7,          2,         16,         16,2,19920902,       0542,   -34.1333,   175.3017,     -999.0,   103.8,  15.4575,  35.4881,2,  35.4942,2,    238.2,2,   240.0,2,    2.76,2,    3.23,2,    0.28,2,    0.38,2,   2.599,2,   1.350,2,   0.727,2,   1.8160,2,   -1.45,2, -999.00,9,  -999.0,9,  -999.0,   7.486,2,   0.037,   0.0070,   0.110,  15.4414,   0.007
  316N138_7,       P14C,       7,          2,         17,         17,2,19920902,       0542,   -34.1333,   175.3017,     -999.0,   150.0,  15.3865,  35.4711,2,  35.4714,2,    239.3,2,   236.5,2,    2.73,2,    3.75,2,    0.26,2,    0.40,2,   2.545,2,   1.331,2,-999.000,9,-999.0000,9, -999.00,9, -999.00,9,  -999.0,9,  -999.0,-999.000,9,-999.000,-999.0000,-999.000,  15.3633,-999.000
  316N138_7,       P14C,       7,          2,         18,         18,2,19920902,       0542,   -34.1333,   175.3017,     -999.0,   200.3,  15.0216,  35.4339,2,  35.4405,2,    230.2,2,   233.3,2,    2.91,2,    4.49,2,    0.20,2,    0.45,2,   2.572,2,   1.341,2,   0.758,2,   1.8260,2,   -1.22,2, -999.00,9,  -999.0,9,  -999.0,   7.550,2,   0.038,   0.0070,   0.110,  14.9911,   0.007
  316N138_7,       P14C,       7,          2,         19,         19,2,19920902,       0542,   -34.1333,   175.3017,     -999.0,   250.6,  14.5046,  35.3496,2,  35.3657,2,    210.5,2,   220.4,2,    3.50,2,    6.63,2,    0.05,2,    0.58,2,   2.391,2,   1.251,2,-999.000,9,-999.0000,9, -999.00,9, -999.00,9,  -999.0,9,  -999.0,-999.000,9,-999.000,-999.0000,-999.000,  14.4674,-999.000
  316N138_7,       P14C,       7,          2,         20,         20,2,19920902,       0542,   -34.1333,   175.3017,     -999.0,   297.3,  13.6068,  35.2272,2,  35.2352,2,    199.1,2,   204.3,2,    4.69,2,    9.63,2,    0.02,2,    0.76,2,   2.180,2,   1.124,2,   0.558,2,   1.8390,2,   -0.28,2, -999.00,9,  -999.0,9,  -999.0,   7.689,2,   0.038,   0.0080,   0.110,  13.5644,   0.006
  316N138_7,       P14C,       7,          2,         21,         21,2,19920902,       0542,   -34.1333,   175.3017,     -999.0,   342.7,  13.0429,  35.1547,2,  35.1589,2,    197.4,2,   196.5,2,    5.48,2,   11.80,2,    0.01,2,    0.90,2,   1.937,2,   0.992,2,-999.000,9,-999.0000,9, -999.00,9, -999.00,9,  -999.0,9,  -999.0,-999.000,9,-999.000,-999.0000,-999.000,  12.9954,-999.000
  316N138_7,       P14C,       7,          2,         22,         22,2,19920902,       0542,   -34.1333,   175.3017,     -999.0,   385.6,  12.4391,  35.0769,2,  35.0826,2,    192.5,2,   192.1,2,    6.48,2,   13.62,2,    0.01,2,    1.01,2,   1.651,2,   0.851,2,-999.000,9,   1.8470,2,    0.42,2, -999.00,9,  -999.0,9,  -999.0,   7.732,2,   0.039,   0.0080,   0.110,  12.3872,-999.000
  316N138_7,       P14C,       7,          2,         23,         23,2,19920902,       0542,   -34.1333,   175.3017,     -999.0,   473.3,  10.9325,  34.9077,2,  34.9843,4,    191.6,2,   192.1,2,    8.70,2,   16.71,2,    0.01,2,    1.20,2,   1.392,2,   0.698,2,-999.000,9,   1.8660,2,    1.02,2, -999.00,9,  -999.0,9,  -999.0,   7.868,2,   0.039,   0.0080,   0.110,  10.8737,-999.000
  316N138_7,       P14C,       7,          2,         24,         24,2,19920902,       0542,   -34.1333,   175.3017,     -999.0,   562.8,   9.6620,  34.7705,2,  34.7700,2,    191.2,2,   192.5,2,   11.33,2,   19.60,2,    0.00,2,    1.38,2,   1.121,2,   0.575,2,   0.304,2,   1.8770,2,    1.30,2, -999.00,9,  -999.0,9,  -999.0,   7.946,2,   0.040,   0.0080,   0.110,   9.5970,   0.004
  316N138_7,       P14C,       7,          2,         25,         25,2,19920902,       0542,   -34.1333,   175.3017,     -999.0,   652.3,   8.4875,  34.6466,2,  34.6448,2,    194.9,2,   195.0,2,   14.98,2,   22.02,2,    0.00,2,    1.54,2,   0.852,2,   0.441,2,   0.216,2,   1.8790,2,    1.77,2, -999.00,9,  -999.0,9,  -999.0,   8.004,2,   0.040,   0.0080,   0.110,   8.4175,   0.004
  316N138_7,       P14C,       7,          2,         26,         26,2,19920902,       0542,   -34.1333,   175.3017,     -999.0,   744.9,   7.7048,  34.5877,2,  34.5891,2,    191.3,2,   192.2,2,   19.24,2,   23.97,2,    0.00,2,    1.67,2,   0.611,2,   0.315,2,   0.167,2,   1.8360,2,    2.65,2, -999.00,9,  -999.0,9,  -999.0,   7.850,2,   0.039,   0.0080,   0.110,   7.6289,   0.004
  316N138_7,       P14C,       7,          2,         27,         27,2,19920902,       0542,   -34.1333,   175.3017,     -999.0,   840.4,   6.6244,  34.4955,2,  34.4922,2,    193.4,2,   195.4,2,   24.93,2,   26.18,2,    0.00,2,    1.82,2,   0.380,2,   0.199,2,   0.104,2,   1.9180,2,    3.38,2, -999.00,9,  -999.0,9,  -999.0,   8.199,2,   0.041,   0.0080,   0.110,   6.5450,   0.003
  316N138_7,       P14C,       7,          2,         28,         28,2,19920902,       0542,   -34.1333,   175.3017,     -999.0,   929.5,   6.0227,  34.4901,2,  34.4908,2,    186.7,2,   188.5,2,   33.48,2,   27.76,2,    0.00,2,    1.93,2,   0.266,2,   0.148,2,   0.085,2,   1.8950,2,    4.95,2, -999.00,9,  -999.0,9,  -999.0,   8.037,2,   0.040,   0.0080,   0.110,   5.9385,   0.002
  316N138_7,       P14C,       7,          2,         29,         29,2,19920902,       0542,   -34.1333,   175.3017,     -999.0,  1024.5,   5.5459,  34.4829,2,  34.4832,2,    184.6,2,   184.9,2,   39.59,2,   28.95,2,    0.00,2,    2.01,2,   0.195,2,   0.109,2,   0.061,2,   1.9070,2,    6.29,2, -999.00,9,  -999.0,9,  -999.0,   8.155,2,   0.041,   0.0080,   0.110,   5.4562,   0.002
  316N138_7,       P14C,       7,          2,         30,         30,2,19920902,       0542,   -34.1333,   175.3017,     -999.0,  1119.6,   4.8484,  34.4851,2,  34.5088,2,    180.5,2,   180.5,2,   48.34,2,   29.80,2,    0.00,2,    2.09,2,   0.213,3,   0.105,2,   0.067,2,   1.9250,2,    7.98,2, -999.00,9,  -999.0,9,  -999.0,   8.232,2,   0.041,   0.0080,   0.110,   4.7554,   0.002
  316N138_7,       P14C,       7,          2,         31,         31,2,19920902,       0542,   -34.1333,   175.3017,     -999.0,  1209.2,   4.4196,  34.4953,2,  34.4967,2,    175.1,2,   174.8,2,   57.93,2,   31.52,2,    0.00,2,    2.20,2,   0.089,2,   0.035,2,-999.000,9,-999.0000,9, -999.00,9, -999.00,9,  -999.0,9,  -999.0,-999.000,9,-999.000,-999.0000,-999.000,   4.3224,-999.000
  316N138_7,       P14C,       7,          2,         32,         32,2,19920902,       0542,   -34.1333,   175.3017,     -999.0,  1304.3,   4.0488,  34.5115,2,  34.5096,2,    171.5,2,   171.0,2,   65.68,2,   32.20,2,    0.00,2,    2.26,2,   0.060,2,   0.030,2,   0.025,2,   1.9470,2,   11.15,2, -999.00,9,  -999.0,9,  -999.0,   8.344,2,   0.042,   0.0080,   0.110,   3.9467,   0.002
  316N138_7,       P14C,       7,          2,         33,         33,2,19920902,       0542,   -34.1333,   175.3017,     -999.0,  1396.7,   3.7390,  34.5450,2,  34.5435,2,    166.8,2,   166.4,2,   75.70,2,   32.71,2,    0.00,2,    2.30,2,   0.053,2,   0.020,2,-999.000,9,-999.0000,9, -999.00,9, -999.00,9,  -999.0,9,  -999.0,-999.000,9,-999.000,-999.0000,-999.000,   3.6319,-999.000
  316N138_7,       P14C,       7,          2,         34,         34,2,19920902,       0542,   -34.1333,   175.3017,     -999.0,  1493.8,   3.3033,  34.5733,2,  34.5731,2,    163.3,2,   161.6,2,   86.37,2,   33.48,2,    0.00,2,    2.35,2,   0.040,2,   0.015,2,   0.018,2,   1.9730,2,   14.59,2, -999.00,9,  -999.0,9,  -999.0,   8.425,2,   0.042,   0.0080,   0.110,   3.1926,   0.002
  316N138_7,       P14C,       7,          2,         35,         35,2,19920902,       0542,   -34.1333,   175.3017,     -999.0,  1689.5,   2.8306,  34.6052,2,  34.6052,2,    158.1,2,   158.2,2,   98.75,2,   34.13,2,    0.00,2,    2.41,2,   0.030,2,   0.007,2,   0.008,2,-999.0000,9, -999.00,9, -999.00,9,  -999.0,9,  -999.0,-999.000,9,-999.000,-999.0000,-999.000,   2.7088,   0.002
  316N138_7,       P14C,       7,          2,         36,         36,2,19920902,       0542,   -34.1333,   175.3017,     -999.0,  1987.5,   2.1321,  34.6509,2,  34.6523,2,    152.9,2,   154.7,2,  117.57,2,   34.99,2,    0.00,2,    2.46,2,   0.001,2,  -0.003,2,-999.000,9,-999.0000,9, -999.00,9, -999.00,9,  -999.0,9,  -999.0,-999.000,9,-999.000,-999.0000,-999.000,   1.9947,-999.000
  316N138_7,       P14C,       8,          1,         13,         13,2,19920902,       0949,   -33.7017,   175.3817,       2319,     1.9,  15.5132,  35.4740,2,  35.4729,2,    243.4,2,   243.8,2,    2.40,2,    3.15,2,    0.18,2,    0.35,2,-999.000,9,-999.000,9,-999.000,9,-999.0000,9, -999.00,9,    1.41,2,   118.2,2,     4.9,-999.000,9,-999.000,-999.0000,-999.000,  15.5129,-999.000
  316N138_7,       P14C,       8,          1,         14,         14,2,19920902,       0949,   -33.7017,   175.3817,       2319,    14.2,  15.5201,  35.4799,2,  35.4788,2,    248.1,2,   244.2,2,    2.57,2,    3.03,2,    0.18,2,    0.35,2,-999.000,9,-999.000,9,-999.000,9,-999.0000,9, -999.00,9,    1.43,2,   117.9,2,     5.2,-999.000,9,-999.000,-999.0000,-999.000,  15.5179,-999.000
  316N138_7,       P14C,       8,          1,         15,         15,2,19920902,       0949,   -33.7017,   175.3817,       2319,    54.3,  15.4706,  35.4951,2,  35.4941,2,    245.7,2,   243.8,2,    2.34,2,    2.85,2,    0.19,2,    0.35,2,-999.000,9,-999.000,9,-999.000,9,-999.0000,9, -999.00,9,    1.42,2,   115.5,2,     4.9,-999.000,9,-999.000,-999.0000,-999.000,  15.4622,-999.000
  316N138_7,       P14C,       8,          1,         16,         16,2,19920902,       0949,   -33.7017,   175.3817,       2319,   105.2,  15.4740,  35.4988,2,  35.4953,2,    233.9,2,   243.8,2,    2.31,2,    2.84,2,    0.19,2,    0.33,2,-999.000,9,-999.000,9,-999.000,9,-999.0000,9, -999.00,9,    1.42,2,   111.1,2,     3.5,-999.000,9,-999.000,-999.0000,-999.000,  15.4577,-999.000
  316N138_7,       P14C,       8,          1,         17,         17,2,19920902,       0949,   -33.7017,   175.3817,       2319,   154.2,  15.4473,  35.5003,2,  35.4993,2,    238.5,2,   241.3,2,    2.28,2,    3.04,2,    0.21,2,    0.35,2,-999.000,9,-999.000,9,-999.000,9,-999.0000,9, -999.00,9,    1.42,2,   114.7,2,     5.6,-999.000,9,-999.000,-999.0000,-999.000,  15.4234,-999.000
  316N138_7,       P14C,       8,          1,         18,         18,2,19920902,       0949,   -33.7017,   175.3817,       2319,   203.4,  14.7495,  35.4091,2,  35.4071,2,    238.3,2,   230.7,2,    2.65,2,    5.10,2,    0.09,2,    0.47,2,-999.000,9,-999.000,9,-999.000,9,-999.0000,9, -999.00,9,    1.14,2,   108.2,2,     5.2,-999.000,9,-999.000,-999.0000,-999.000,  14.7189,-999.000
  316N138_7,       P14C,       8,          1,         19,         19,3,19920902,       0949,   -33.7017,   175.3817,       2319,   254.0,  14.5264,  35.4053,2,  35.4103,4,    237.4,2,   240.7,4,    2.62,4,    3.97,4,    0.33,4,    0.43,4,-999.000,9,-999.000,9,-999.000,9,-999.0000,9, -999.00,9,    1.37,2,   115.7,2,     6.3,-999.000,9,-999.000,-999.0000,-999.000,  14.4886,-999.000
  316N138_7,       P14C,       8,          1,         20,         20,2,19920902,       0949,   -33.7017,   175.3817,       2319,   304.2,  14.1149,  35.3209,2,  35.3182,2,    243.3,2,   228.7,2,    3.20,2,    6.10,2,    0.23,2,    0.56,2,-999.000,9,-999.000,9,-999.000,9,-999.0000,9, -999.00,9,    1.36,2,   109.8,2,     5.0,-999.000,9,-999.000,-999.0000,-999.000,  14.0704,-999.000
  316N138_7,       P14C,       8,          1,         21,         21,2,19920902,       0949,   -33.7017,   175.3817,       2319,   403.7,  12.2401,  35.0708,2,  35.0639,2,    199.3,2,   197.6,2,    7.23,2,   13.60,2,    0.01,2,    0.98,2,-999.000,9,-999.000,9,-999.000,9,-999.0000,9, -999.00,9,    1.12,2,    47.2,2,     5.0,-999.000,9,-999.000,-999.0000,-999.000,  12.1863,-999.000
  316N138_7,       P14C,       8,          1,         22,         22,2,19920902,       0949,   -33.7017,   175.3817,       2319,   504.2,  10.5414,  34.8725,2,  34.8694,2,    193.2,2,   191.0,2,    9.63,2,   17.83,2,    0.01,2,    1.24,2,-999.000,9,-999.000,9,-999.000,9,-999.0000,9, -999.00,9,    1.10,2,    21.3,2,     3.6,-999.000,9,-999.000,-999.0000,-999.000,  10.4801,-999.000
  316N138_7,       P14C,       8,          1,         23,         23,2,19920902,       0949,   -33.7017,   175.3817,       2319,   604.0,   8.8007,  34.6746,2,  34.6721,2,    195.9,2,   195.0,2,   13.05,2,   21.31,2,    0.00,2,    1.47,2,-999.000,9,-999.000,9,-999.000,9,-999.0000,9, -999.00,9,    1.16,2,   -29.8,2,     4.4,-999.000,9,-999.000,-999.0000,-999.000,   8.7347,-999.000
  316N138_7,       P14C,       8,          1,         24,         24,2,19920902,       0949,   -33.7017,   175.3817,       2319,   702.4,   7.6703,  34.5635,2,  34.5646,2,    196.9,2,   198.4,2,   16.87,2,   23.64,2,    0.00,2,    1.62,2,-999.000,9,-999.000,9,-999.000,9,-999.0000,9, -999.00,9,    1.18,2,   -27.1,2,     2.8,-999.000,9,-999.000,-999.0000,-999.000,   7.5991,-999.000
  316N138_7,       P14C,       8,          1,         25,         25,2,19920902,       0949,   -33.7017,   175.3817,       2319,   802.4,   6.5464,  34.4681,2,  34.4803,2,    195.2,2,   198.0,2,   22.93,2,   26.19,2,    0.00,2,    1.80,2,-999.000,9,-999.000,9,-999.000,9,-999.0000,9, -999.00,9,    1.12,2,   -52.5,2,     5.8,-999.000,9,-999.000,-999.0000,-999.000,   6.4713,-999.000
  316N138_7,       P14C,       8,          1,         26,         26,2,19920902,       0949,   -33.7017,   175.3817,       2319,   903.0,   5.6848,  34.4191,2,  34.4217,2,    194.5,2,   195.8,2,   28.57,2,   28.37,2,    0.00,2,    1.94,2,-999.000,9,-999.000,9,-999.000,9,-999.0000,9, -999.00,9,    1.02,2,   -83.6,2,     4.4,-999.000,9,-999.000,-999.0000,-999.000,   5.6056,-999.000
  316N138_7,       P14C,       8,          1,         27,         27,2,19920902,       0949,   -33.7017,   175.3817,       2319,  1004.3,   5.1648,  34.4251,2,  34.4264,2,    188.0,2,   188.9,2,   36.86,2,   29.86,2,    0.00,2,    2.05,2,-999.000,9,-999.000,9,-999.000,9,-999.0000,9, -999.00,9,    0.97,2,   -99.5,2,     3.8,-999.000,9,-999.000,-999.0000,-999.000,   5.0799,-999.000
  316N138_7,       P14C,       8,          1,         28,         28,2,19920902,       0949,   -33.7017,   175.3817,       2319,  1103.5,   4.8636,  34.4338,2,  34.4321,2,    183.0,2,   184.9,2,   42.24,2,   30.59,2,    0.00,2,    2.10,2,   0.092,2,   0.059,2,-999.000,9,-999.0000,9, -999.00,9,    0.85,2,  -106.7,6,     1.9,-999.000,9,-999.000,-999.0000,-999.000,   4.7722,-999.000
  316N138_7,       P14C,       8,          1,         29,         29,2,19920902,       0949,   -33.7017,   175.3817,       2319,  1202.9,   4.6149,  34.5068,2,  34.5042,2,    176.3,2,   174.8,2,   55.61,2,   31.01,2,    0.00,2,    2.15,2,-999.000,9,-999.000,9,-999.000,9,-999.0000,9, -999.00,9,    0.78,2,   -96.1,3,     2.8,-999.000,9,-999.000,-999.0000,-999.000,   4.5164,-999.000
  316N138_7,       P14C,       8,          1,         30,         30,2,19920902,       0949,   -33.7017,   175.3817,       2319,  1303.1,   4.1548,  34.5218,2,  34.5222,2,    171.9,2,   169.8,2,   65.54,2,   32.12,2,    0.00,2,    2.21,2,   0.074,2,   0.041,2,-999.000,9,-999.0000,9, -999.00,9,    0.70,2,  -147.1,2,     6.1,-999.000,9,-999.000,-999.0000,-999.000,   4.0517,-999.000
  316N138_7,       P14C,       8,          1,         31,         31,2,19920902,       0949,   -33.7017,   175.3817,       2319,  1404.6,   3.6840,  34.5466,2,  34.5415,2,    166.2,2,   165.8,2,   76.10,2,   32.85,2,    0.00,2,    2.27,2,-999.000,9,-999.000,9,-999.000,9,-999.0000,9, -999.00,9,    0.61,2,  -161.8,2,     4.7,-999.000,9,-999.000,-999.0000,-999.000,   3.5767,-999.000
  316N138_7,       P14C,       8,          1,         32,         32,2,19920902,       0949,   -33.7017,   175.3817,       2319,  1605.6,   3.0714,  34.5792,2,  34.5795,2,    160.9,2,   160.4,2,   91.29,2,   33.92,2,    0.00,2,    2.35,2,   0.025,2,   0.023,2,-999.000,9,-999.0000,9, -999.00,9,    0.45,2,  -181.6,2,     4.2,-999.000,9,-999.000,-999.0000,-999.000,   2.9538,-999.000
  316N138_7,       P14C,       8,          1,         33,         33,2,19920902,       0949,   -33.7017,   175.3817,       2319,  1798.7,   2.6577,  34.6098,2,  34.6068,2,    156.4,2,   156.9,2,  103.01,2,   34.57,2,    0.00,2,    2.40,2,-999.000,9,-999.000,9,-999.000,9,-999.0000,9, -999.00,9,    0.30,2,  -200.4,2,     3.5,-999.000,9,-999.000,-999.0000,-999.000,   2.5288,-999.000
  316N138_7,       P14C,       8,          1,         34,         34,2,19920902,       0949,   -33.7017,   175.3817,       2319,  1999.5,   2.3750,  34.6314,2,  34.6321,2,    154.0,2,   154.5,2,  111.30,2,   35.00,2,    0.00,2,    2.42,2,   0.005,2,  -0.001,2,-999.000,9,-999.0000,9, -999.00,9,    0.37,2,  -206.4,2,     2.9,-999.000,9,-999.000,-999.0000,-999.000,   2.2329,-999.000
  316N138_7,       P14C,       8,          1,         35,         35,2,19920902,       0949,   -33.7017,   175.3817,       2319,  2202.8,   2.1743,  34.6491,2,  34.6501,2,    154.5,2,   154.7,2,  116.29,2,   35.08,2,    0.00,2,    2.43,2,   0.000,2,   0.006,2,-999.000,9,-999.0000,9, -999.00,9,    0.31,2,  -213.3,2,     3.0,-999.000,9,-999.000,-999.0000,-999.000,   2.0176,-999.000
  316N138_7,       P14C,       8,          1,         36,         36,2,19920902,       0949,   -33.7017,   175.3817,       2319,  2383.8,   1.9620,  34.6663,2,  34.6652,2,    154.4,2,   154.5,2,  121.31,2,   35.16,2,    0.00,2,    2.45,2,  -0.002,2,  -0.002,2,-999.000,9,-999.0000,9, -999.00,9,    0.28,2,  -211.3,2,     3.0,-999.000,9,-999.000,-999.0000,-999.000,   1.7928,-999.000