BOTTLE,20211105CCHSIORKP
EXPOCODE,SECT_ID,STNNBR,CASTNO,SAMPNO,BTLNBR,BTLNBR_FLAG_W,DATE,TIME,LATITUDE,LONGITUDE,DEPTH,CTDPRS,CTDTMP,CTDSAL,CTDSAL_FLAG_W,SALNTY,SALNTY_FLAG_W,CTDOXY,CTDOXY_FLAG_W,OXYGEN,OXYGEN_FLAG_W,SILCAT,SILCAT_FLAG_W,NITRAT,NITRAT_FLAG_W,NITRIT,NITRIT_FLAG_W,PHSPHT,PHSPHT_FLAG_W,CFC-11,CFC-11_FLAG_W,CFC-12,CFC-12_FLAG_W,TRITUM,TRITUM_FLAG_W,HELIUM,HELIUM_FLAG_W,DELHE3,DELHE3_FLAG_W,DELC13,DELC13_FLAG_W,DELC14,DELC14_FLAG_W,C14ERR,NEON,NEON_FLAG_W,NEONER,HELIER,DELHER,THETA,TRITER
,,,,,,,,,,,METERS,DBAR,ITS-90,PSS-78,,PSS-78,,UMOL/KG,,UMOL/KG,,UMOL/KG,,UMOL/KG,,UMOL/KG,,UMOL/KG,,PMOL/KG,,PMOL/KG,,TU,,NMOL/KG,,PERCNT,,/MILLE,,/MILLE,,/MILLE,NMOL/KG,,NMOL/KG,NMOL/KG,PERCNT,DEG C,TU
  316N138_7,       P14C,      44,          1,          9,          9,2,19920910,       1949,   -19.6317,   177.3667,       2485,     1.8,  24.6840,  35.6309,2,  35.6348,2,    203.0,2,   208.0,2,    1.89,2,    0.12,2,    0.00,2,    0.13,2,-999.000,9,-999.000,9,-999.000,9,-999.0000,9, -999.00,9, -999.00,9,  -999.0,9,  -999.0,-999.000,9,-999.000,-999.0000,-999.000,  24.6837,-999.000
  316N138_7,       P14C,      44,          1,         10,         10,2,19920910,       1949,   -19.6317,   177.3667,       2485,    14.8,  24.6815,  35.6400,2,  35.6407,2,    202.6,2,  -999.0,9,    1.88,2,    0.12,2,    0.00,2,    0.12,2,-999.000,9,-999.000,9,-999.000,9,   1.7580,2,   -1.35,2, -999.00,9,  -999.0,9,  -999.0,   7.047,2,   0.035,   0.0070,   0.110,  24.6784,-999.000
  316N138_7,       P14C,      44,          1,         11,         11,2,19920910,       1949,   -19.6317,   177.3667,       2485,    54.2,  24.2680,  35.6789,2,  35.6807,2,    206.9,2,   210.8,2,    1.67,2,    0.07,2,    0.00,2,    0.10,2,-999.000,9,-999.000,9,   0.950,2,   1.7960,2,   -0.99,2, -999.00,9,  -999.0,9,  -999.0,   7.142,2,   0.036,   0.0070,   0.110,  24.2565,   0.007
  316N138_7,       P14C,      44,          1,         12,         12,2,19920910,       1949,   -19.6317,   177.3667,       2485,   104.2,  23.8349,  35.6927,2,  35.6906,2,    210.0,2,   205.8,2,    1.66,2,    0.10,2,    0.02,2,    0.09,2,-999.000,9,-999.000,9,-999.000,9,   1.7840,2,   -1.13,2, -999.00,9,  -999.0,9,  -999.0,   7.148,2,   0.036,   0.0070,   0.110,  23.8130,-999.000
  316N138_7,       P14C,      44,          1,         13,         13,2,19920910,       1949,   -19.6317,   177.3667,       2485,   154.2,  22.9152,  35.6801,2,  35.6839,2,    186.8,2,   189.0,2,    1.65,2,    1.24,2,    0.05,2,    0.19,2,-999.000,9,-999.000,9,-999.000,9,-999.0000,9, -999.00,9, -999.00,9,  -999.0,9,  -999.0,-999.000,9,-999.000,-999.0000,-999.000,  22.8837,-999.000
  316N138_7,       P14C,      44,          1,         14,         14,2,19920910,       1949,   -19.6317,   177.3667,       2485,   204.5,  20.8103,  35.7000,2,  35.6880,2,    170.8,2,   175.4,2,    1.64,2,    3.55,2,    0.01,2,    0.37,2,-999.000,9,-999.000,9,-999.000,9,   1.8010,2,   -0.38,2, -999.00,9,  -999.0,9,  -999.0,   7.296,2,   0.036,   0.0070,   0.110,  20.7712,-999.000
  316N138_7,       P14C,      44,          1,         15,         15,2,19920910,       1949,   -19.6317,   177.3667,       2485,   254.7,  19.4627,  35.6317,2,  35.6230,2,    176.7,2,   174.2,2,    2.03,2,    4.65,2,    0.01,2,    0.45,2,-999.000,9,-999.000,9,-999.000,9,   1.8220,2,    0.32,2, -999.00,9,  -999.0,9,  -999.0,   7.407,2,   0.037,   0.0070,   0.110,  19.4162,-999.000
  316N138_7,       P14C,      44,          1,         16,         16,2,19920910,       1949,   -19.6317,   177.3667,       2485,   304.5,  17.7262,  35.5002,2,  35.4967,2,    177.4,2,   175.5,2,    2.41,2,    6.33,2,    0.01,2,    0.57,2,-999.000,9,-999.000,9,   0.700,2,   1.8260,2,    0.54,2, -999.00,9,  -999.0,9,  -999.0,   7.465,2,   0.037,   0.0070,   0.110,  17.6742,   0.004
  316N138_7,       P14C,      44,          1,         17,         17,2,19920910,       1949,   -19.6317,   177.3667,       2485,   355.4,  15.8723,  35.3318,2,  35.3278,2,    181.1,2,   177.2,2,    3.58,2,    8.44,2,    0.01,2,    0.72,2,-999.000,9,-999.000,9,-999.000,9,-999.0000,9, -999.00,9, -999.00,9,  -999.0,9,  -999.0,-999.000,9,-999.000,-999.0000,-999.000,  15.8159,-999.000
  316N138_7,       P14C,      44,          1,         18,         18,2,19920910,       1949,   -19.6317,   177.3667,       2485,   405.1,  13.9117,  35.1355,2,  35.1191,2,    179.5,2,   180.6,2,    4.75,2,   11.60,2,    0.01,2,    0.90,2,-999.000,9,-999.000,9,   0.484,2,   1.8470,2,    0.99,2, -999.00,9,  -999.0,9,  -999.0,   7.690,2,   0.038,   0.0080,   0.110,  13.8529,   0.004
  316N138_7,       P14C,      44,          1,         19,         19,2,19920910,       1949,   -19.6317,   177.3667,       2485,   455.6,  11.5475,  34.8614,2,  34.8627,2,    181.0,2,   180.0,2,    7.49,2,   15.89,2,    0.01,2,    1.19,2,-999.000,9,-999.000,9,-999.000,9,-999.0000,9, -999.00,9, -999.00,9,  -999.0,9,  -999.0,-999.000,9,-999.000,-999.0000,-999.000,  11.4890,-999.000
  316N138_7,       P14C,      44,          1,         20,         20,2,19920910,       1949,   -19.6317,   177.3667,       2485,   504.5,   9.8429,  34.6834,2,  34.6825,2,    182.2,2,   182.6,2,    9.83,2,   19.52,2,    0.00,2,    1.41,2,-999.000,9,-999.000,9,   0.255,2,   1.8610,2,    1.57,2, -999.00,9,  -999.0,9,  -999.0,   7.890,2,   0.039,   0.0080,   0.110,   9.7843,   0.003
  316N138_7,       P14C,      44,          1,         21,         21,2,19920910,       1949,   -19.6317,   177.3667,       2485,   605.9,   7.4269,  34.4701,2,  34.4683,2,    190.5,2,   191.1,2,   15.91,2,   24.69,2,    0.00,2,    1.74,2,-999.000,9,-999.000,9,   0.122,2,   1.8880,2,    2.01,2, -999.00,9,  -999.0,9,  -999.0,   8.084,2,   0.040,   0.0080,   0.110,   7.3670,   0.002
  316N138_7,       P14C,      44,          1,         22,         22,2,19920910,       1949,   -19.6317,   177.3667,       2485,   706.4,   5.6384,  34.3996,2,  34.4009,2,    181.1,2,   184.5,2,   30.04,2,   29.28,2,    0.00,2,    2.03,2,-999.000,9,-999.000,9,   0.047,2,   2.0010,3,    4.86,3, -999.00,9,  -999.0,9,  -999.0,   8.535,3,   0.043,   0.0080,   0.110,   5.5777,   0.002
  316N138_7,       P14C,      44,          1,         23,         23,2,19920910,       1949,   -19.6317,   177.3667,       2485,   807.7,   4.9813,  34.4013,2,  34.4007,2,    177.8,2,   180.1,2,   38.87,2,   30.95,2,    0.00,2,    2.13,2,-999.000,9,-999.000,9,   0.027,2,   1.9180,2,    6.53,2, -999.00,9,  -999.0,9,  -999.0,   8.251,2,   0.041,   0.0080,   0.110,   4.9154,   0.002
  316N138_7,       P14C,      44,          1,         24,         24,2,19920910,       1949,   -19.6317,   177.3667,       2485,   908.5,   4.4923,  34.4281,2,  34.4285,2,    171.5,2,   172.3,2,   49.46,2,   32.19,2,    0.00,2,    2.22,2,-999.000,9,-999.000,9,   0.019,2,   1.9260,2,    9.59,2, -999.00,9,  -999.0,9,  -999.0,   8.266,2,   0.041,   0.0080,   0.110,   4.4208,   0.002
  316N138_7,       P14C,      44,          1,         25,         25,2,19920910,       1949,   -19.6317,   177.3667,       2485,  1009.1,   4.1038,  34.4537,2,  34.4524,2,    165.8,2,   167.5,2,   58.88,2,   33.01,2,    0.00,2,    2.28,2,-999.000,9,-999.000,9,   0.015,2,   1.6560,4,   12.84,4, -999.00,9,  -999.0,9,  -999.0,   6.733,4,   0.034,   0.0070,   0.110,   4.0267,   0.002
  316N138_7,       P14C,      44,          1,         26,         26,2,19920910,       1949,   -19.6317,   177.3667,       2485,  1109.6,   3.7853,  34.4826,2,  34.4809,2,    161.9,2,   163.1,2,   68.12,2,   33.62,2,    0.00,2,    2.33,2,   0.007,2,   0.002,2,   0.016,2,   1.9510,2,   14.88,2, -999.00,9,  -999.0,9,  -999.0,   8.318,2,   0.042,   0.0080,   0.110,   3.7023,   0.002
  316N138_7,       P14C,      44,          1,         27,         27,2,19920910,       1949,   -19.6317,   177.3667,       2485,  1210.7,   3.4389,  34.5190,2,  34.5173,2,    155.0,2,   156.7,2,   79.37,2,   34.27,2,    0.00,2,    2.38,2,-999.000,9,-999.000,9,-999.000,9,-999.0000,9, -999.00,9, -999.00,9,  -999.0,9,  -999.0,-999.000,9,-999.000,-999.0000,-999.000,   3.3506,-999.000
  316N138_7,       P14C,      44,          1,         40,         40,2,19920910,       1949,   -19.6317,   177.3667,       2485,  1312.7,   3.1881,  34.5452,2,  34.5444,2,    151.0,2,   151.9,2,   88.47,2,   34.75,2,    0.00,2,    2.42,2,   0.000,2,   0.004,2,-999.000,9,-999.0000,9, -999.00,9, -999.00,9,  -999.0,9,  -999.0,-999.000,9,-999.000,-999.0000,-999.000,   3.0938,-999.000
  316N138_7,       P14C,      44,          1,         29,         29,2,19920910,       1949,   -19.6317,   177.3667,       2485,  1413.9,   2.9648,  34.5668,2,  34.5660,2,    149.2,2,   150.3,2,   95.63,2,   35.05,2,    0.00,2,    2.45,2,-999.000,9,-999.000,9,   0.002,2,   1.9880,2,   24.11,2, -999.00,9,  -999.0,9,  -999.0,   8.414,2,   0.042,   0.0080,   0.110,   2.8644,   0.002
  316N138_7,       P14C,      44,          1,         30,         30,2,19920910,       1949,   -19.6317,   177.3667,       2485,  1514.9,   2.7900,  34.5834,2,  34.5826,2,    147.8,2,   149.7,2,  100.62,2,   35.10,2,    0.00,2,    2.45,2,   0.003,2,   0.004,2,-999.000,9,-999.0000,9, -999.00,9, -999.00,9,  -999.0,9,  -999.0,-999.000,9,-999.000,-999.0000,-999.000,   2.6833,-999.000
  316N138_7,       P14C,      44,          1,         31,         31,2,19920910,       1949,   -19.6317,   177.3667,       2485,  1615.5,   2.6652,  34.5952,2,  34.5966,2,    149.2,2,   148.8,2,  104.41,2,   35.32,2,    0.00,2,    2.45,2,-999.000,9,-999.000,9,   0.005,2,   2.0030,2,   25.67,2, -999.00,9,  -999.0,9,  -999.0,   8.481,2,   0.042,   0.0080,   0.110,   2.5517,   0.002
  316N138_7,       P14C,      44,          1,         32,         32,2,19920910,       1949,   -19.6317,   177.3667,       2485,  1818.6,   2.4225,  34.6191,2,  34.6197,2,    151.5,2,   150.0,2,  110.85,2,   35.28,2,    0.00,2,    2.45,2,  -0.001,2,  -0.002,2,-999.000,9,-999.0000,9, -999.00,9, -999.00,9,  -999.0,9,  -999.0,-999.000,9,-999.000,-999.0000,-999.000,   2.2952,-999.000
  316N138_7,       P14C,      44,          1,         33,         33,2,19920910,       1949,   -19.6317,   177.3667,       2485,  2022.0,   2.2881,  34.6324,2,  34.6321,2,    151.5,2,   150.8,2,  114.69,2,   35.37,2,    0.00,2,    2.45,2,-999.000,9,-999.000,9,-999.000,9,-999.0000,9, -999.00,9, -999.00,9,  -999.0,9,  -999.0,-999.000,9,-999.000,-999.0000,-999.000,   2.1454,-999.000
  316N138_7,       P14C,      44,          1,         34,         34,2,19920910,       1949,   -19.6317,   177.3667,       2485,  2223.6,   2.1756,  34.6433,2,  34.6431,2,    148.5,2,   150.5,2,  118.14,2,   35.33,2,    0.00,2,    2.45,2,   0.001,2,   0.001,2,-999.000,9,-999.0000,9, -999.00,9, -999.00,9,  -999.0,9,  -999.0,-999.000,9,-999.000,-999.0000,-999.000,   2.0171,-999.000
  316N138_7,       P14C,      44,          1,         35,         35,2,19920910,       1949,   -19.6317,   177.3667,       2485,  2427.2,   2.0706,  34.6536,2,  34.6540,2,    151.1,2,   150.5,2,  121.60,2,   35.37,2,    0.00,2,    2.46,2,-999.000,9,-999.000,9,-999.000,9,-999.0000,9, -999.00,9, -999.00,9,  -999.0,9,  -999.0,-999.000,9,-999.000,-999.0000,-999.000,   1.8956,-999.000
  316N138_7,       P14C,      44,          1,         37,         37,2,19920910,       1949,   -19.6317,   177.3667,       2485,  2503.4,   2.0384,  34.6573,2,  34.6570,2,    150.2,2,   151.2,2,  122.60,2,   35.42,2,    0.00,2,    2.45,2,   0.001,2,   0.001,2,-999.000,9,-999.0000,9, -999.00,9, -999.00,9,  -999.0,9,  -999.0,-999.000,9,-999.000,-999.0000,-999.000,   1.8571,-999.000