BOTTLE,20211105CCHSIORKP
EXPOCODE,SECT_ID,STNNBR,CASTNO,SAMPNO,BTLNBR,BTLNBR_FLAG_W,DATE,TIME,LATITUDE,LONGITUDE,DEPTH,CTDPRS,CTDTMP,CTDSAL,CTDSAL_FLAG_W,SALNTY,SALNTY_FLAG_W,CTDOXY,CTDOXY_FLAG_W,OXYGEN,OXYGEN_FLAG_W,SILCAT,SILCAT_FLAG_W,NITRAT,NITRAT_FLAG_W,NITRIT,NITRIT_FLAG_W,PHSPHT,PHSPHT_FLAG_W,CFC-11,CFC-11_FLAG_W,CFC-12,CFC-12_FLAG_W,TRITUM,TRITUM_FLAG_W,HELIUM,HELIUM_FLAG_W,DELHE3,DELHE3_FLAG_W,DELC13,DELC13_FLAG_W,DELC14,DELC14_FLAG_W,C14ERR,NEON,NEON_FLAG_W,NEONER,HELIER,DELHER,THETA,TRITER
,,,,,,,,,,,METERS,DBAR,ITS-90,PSS-78,,PSS-78,,UMOL/KG,,UMOL/KG,,UMOL/KG,,UMOL/KG,,UMOL/KG,,UMOL/KG,,PMOL/KG,,PMOL/KG,,TU,,NMOL/KG,,PERCNT,,/MILLE,,/MILLE,,/MILLE,NMOL/KG,,NMOL/KG,NMOL/KG,PERCNT,DEG C,TU
  316N138_7,       P14C,      36,          2,          3,          3,2,19920909,       0337,   -21.7667,   177.4033,       3977,     1.6,  23.4769,  35.6755,2,  35.6787,2,    205.5,2,   213.5,2,    1.74,2,    0.08,2,    0.00,2,    0.09,2,-999.000,9,-999.000,9,-999.000,9,-999.0000,9, -999.00,9, -999.00,9,  -999.0,9,  -999.0,-999.000,9,-999.000,-999.0000,-999.000,  23.4766,-999.000
  316N138_7,       P14C,      36,          2,          4,          4,2,19920909,       0337,   -21.7667,   177.4033,       3977,    15.9,  23.0988,  35.6877,2,  35.6878,2,    207.7,2,   214.0,2,    1.73,2,    0.08,2,    0.00,2,    0.08,2,-999.000,9,-999.000,9,-999.000,9,-999.0000,9, -999.00,9, -999.00,9,  -999.0,9,  -999.0,-999.000,9,-999.000,-999.0000,-999.000,  23.0956,-999.000
  316N138_7,       P14C,      36,          2,          5,          5,2,19920909,       0337,   -21.7667,   177.4033,       3977,    55.6,  22.4427,  35.6655,2,  35.6679,2,    210.7,2,   214.1,2,    1.52,2,    0.08,2,    0.00,2,    0.07,2,-999.000,9,-999.000,9,-999.000,9,-999.0000,9, -999.00,9, -999.00,9,  -999.0,9,  -999.0,-999.000,9,-999.000,-999.0000,-999.000,  22.4315,-999.000
  316N138_7,       P14C,      36,          2,          6,          6,2,19920909,       0337,   -21.7667,   177.4033,       3977,   105.5,  22.0156,  35.6356,2,  35.6363,2,    209.7,2,   204.5,2,    1.51,2,    0.52,2,    0.16,2,    0.13,2,-999.000,9,-999.000,9,-999.000,9,-999.0000,9, -999.00,9, -999.00,9,  -999.0,9,  -999.0,-999.000,9,-999.000,-999.0000,-999.000,  21.9947,-999.000
  316N138_7,       P14C,      36,          2,          7,          7,2,19920909,       0337,   -21.7667,   177.4033,       3977,   155.1,  20.9755,  35.6343,2,  35.6330,2,    190.4,2,   187.2,2,    1.50,2,    2.30,2,    0.03,2,    0.27,2,-999.000,9,-999.000,9,-999.000,9,-999.0000,9, -999.00,9, -999.00,9,  -999.0,9,  -999.0,-999.000,9,-999.000,-999.0000,-999.000,  20.9457,-999.000
  316N138_7,       P14C,      36,          2,          8,          8,2,19920909,       0337,   -21.7667,   177.4033,       3977,   205.8,  19.9684,  35.6393,2,  35.6359,2,    188.7,2,   188.5,2,    1.69,2,    3.08,2,    0.02,2,    0.32,2,   1.950,2,   1.045,2,-999.000,9,-999.0000,9, -999.00,9, -999.00,9,  -999.0,9,  -999.0,-999.000,9,-999.000,-999.0000,-999.000,  19.9302,-999.000
  316N138_7,       P14C,      36,          2,          9,          9,2,19920909,       0337,   -21.7667,   177.4033,       3977,   255.8,  18.7103,  35.6059,2,  35.6020,2,    192.7,2,   187.4,2,    1.89,2,    4.28,2,    0.01,2,    0.40,2,-999.000,9,-999.000,9,-999.000,9,-999.0000,9, -999.00,9, -999.00,9,  -999.0,9,  -999.0,-999.000,9,-999.000,-999.0000,-999.000,  18.6650,-999.000
  316N138_7,       P14C,      36,          2,         10,         10,2,19920909,       0337,   -21.7667,   177.4033,       3977,   305.9,  17.4973,  35.5404,2,  35.5407,2,    194.3,2,   190.2,2,    2.28,2,    5.31,2,    0.01,2,    0.47,2,   1.909,2,   0.997,2,-999.000,9,-999.0000,9, -999.00,9, -999.00,9,  -999.0,9,  -999.0,-999.000,9,-999.000,-999.0000,-999.000,  17.4455,-999.000
  316N138_7,       P14C,      36,          2,         11,         11,2,19920909,       0337,   -21.7667,   177.4033,       3977,   355.8,  16.2314,  35.4258,2,  35.4308,2,    189.0,2,   186.4,2,    3.07,2,    7.15,2,    0.01,2,    0.60,2,-999.000,9,-999.000,9,-999.000,9,-999.0000,9, -999.00,9, -999.00,9,  -999.0,9,  -999.0,-999.000,9,-999.000,-999.0000,-999.000,  16.1741,-999.000
  316N138_7,       P14C,      36,          2,         12,         12,2,19920909,       0337,   -21.7667,   177.4033,       3977,   406.2,  14.3977,  35.2311,2,  35.2319,2,    186.0,2,   184.6,2,    4.07,2,   10.23,2,    0.00,2,    0.79,2,   1.600,2,   0.830,2,-999.000,9,-999.0000,9, -999.00,9, -999.00,9,  -999.0,9,  -999.0,-999.000,9,-999.000,-999.0000,-999.000,  14.3373,-999.000
  316N138_7,       P14C,      36,          2,         13,         13,2,19920909,       0337,   -21.7667,   177.4033,       3977,   507.4,  11.2324,  34.8707,2,  34.8624,2,    190.1,2,   188.4,2,    6.67,2,   16.29,2,    0.00,2,    1.17,2,   1.166,2,   0.604,2,-999.000,9,-999.0000,9, -999.00,9, -999.00,9,  -999.0,9,  -999.0,-999.000,9,-999.000,-999.0000,-999.000,  11.1682,-999.000
  316N138_7,       P14C,      36,          2,         14,         14,2,19920909,       0337,   -21.7667,   177.4033,       3977,   607.8,   8.8053,  34.6113,2,  34.5925,2,    198.6,2,   201.0,2,    8.87,2,   20.66,2,    0.00,2,    1.44,2,-999.000,9,-999.000,9,-999.000,9,-999.0000,9, -999.00,9, -999.00,9,  -999.0,9,  -999.0,-999.000,9,-999.000,-999.0000,-999.000,   8.7389,-999.000
  316N138_7,       P14C,      36,          2,         15,         15,2,19920909,       0337,   -21.7667,   177.4033,       3977,   708.0,   6.9852,  34.4268,2,  34.4307,2,    209.2,2,   211.3,2,   13.48,2,   24.51,2,    0.00,2,    1.69,2,   0.466,2,   0.261,2,-999.000,9,-999.0000,9, -999.00,9, -999.00,9,  -999.0,9,  -999.0,-999.000,9,-999.000,-999.0000,-999.000,   6.9171,-999.000
  316N138_7,       P14C,      36,          2,         16,         16,2,19920909,       0337,   -21.7667,   177.4033,       3977,   808.8,   6.0247,  34.3785,2,  34.3778,2,    203.5,2,   204.8,2,   20.49,2,   27.57,2,    0.00,2,    1.87,2,-999.000,9,-999.000,9,-999.000,9,-999.0000,9, -999.00,9, -999.00,9,  -999.0,9,  -999.0,-999.000,9,-999.000,-999.0000,-999.000,   5.9523,-999.000
  316N138_7,       P14C,      36,          2,         17,         17,2,19920909,       0337,   -21.7667,   177.4033,       3977,   909.6,   5.2561,  34.3784,2,  34.3774,2,    187.4,2,   191.7,2,   31.12,2,   30.20,2,    0.00,2,    2.06,2,-999.000,9,-999.000,9,-999.000,9,-999.0000,9, -999.00,9, -999.00,9,  -999.0,9,  -999.0,-999.000,9,-999.000,-999.0000,-999.000,   5.1793,-999.000
  316N138_7,       P14C,      36,          2,         18,         18,2,19920909,       0337,   -21.7667,   177.4033,       3977,  1011.1,   4.5545,  34.4101,2,  34.4082,2,    173.5,2,   178.7,2,   45.97,2,   32.41,2,    0.00,2,    2.21,2,   0.034,2,   0.023,2,-999.000,9,-999.0000,9, -999.00,9, -999.00,9,  -999.0,9,  -999.0,-999.000,9,-999.000,-999.0000,-999.000,   4.4738,-999.000
  316N138_7,       P14C,      36,          2,         19,         19,2,19920909,       0337,   -21.7667,   177.4033,       3977,  1112.1,   4.0319,  34.4442,2,  34.4444,2,    170.3,2,   171.4,2,   59.22,2,   33.62,2,    0.00,2,    2.30,2,-999.000,9,-999.000,9,-999.000,9,-999.0000,9, -999.00,9, -999.00,9,  -999.0,9,  -999.0,-999.000,9,-999.000,-999.0000,-999.000,   3.9466,-999.000
  316N138_7,       P14C,      36,          2,         20,         20,2,19920909,       0337,   -21.7667,   177.4033,       3977,  1213.4,   3.6371,  34.4911,2,  34.4915,2,    162.6,2,   164.1,2,   73.51,2,   34.41,2,    0.00,2,    2.36,2,-999.000,9,-999.000,9,-999.000,9,-999.0000,9, -999.00,9, -999.00,9,  -999.0,9,  -999.0,-999.000,9,-999.000,-999.0000,-999.000,   3.5468,-999.000
  316N138_7,       P14C,      36,          2,         21,         21,2,19920909,       0337,   -21.7667,   177.4033,       3977,  1314.2,   3.2544,  34.5359,2,  34.5346,2,    156.7,2,   160.1,2,   86.24,2,   34.93,2,    0.00,2,    2.42,2,-999.000,9,-999.000,9,-999.000,9,-999.0000,9, -999.00,9, -999.00,9,  -999.0,9,  -999.0,-999.000,9,-999.000,-999.0000,-999.000,   3.1593,-999.000
  316N138_7,       P14C,      36,          2,         22,         22,2,19920909,       0337,   -21.7667,   177.4033,       3977,  1415.1,   2.9536,  34.5682,2,  34.5671,2,    152.5,2,   155.2,2,   96.61,2,   35.46,2,    0.00,2,    2.45,2,-999.000,9,-999.000,9,-999.000,9,-999.0000,9, -999.00,9, -999.00,9,  -999.0,9,  -999.0,-999.000,9,-999.000,-999.0000,-999.000,   2.8533,-999.000
  316N138_7,       P14C,      36,          2,         23,         23,2,19920909,       0337,   -21.7667,   177.4033,       3977,  1516.6,   2.8436,  34.5793,2,  34.5775,2,    152.1,2,   153.3,2,  100.07,2,   35.59,2,    0.00,2,    2.46,2,-999.000,9,-999.000,9,-999.000,9,-999.0000,9, -999.00,9, -999.00,9,  -999.0,9,  -999.0,-999.000,9,-999.000,-999.0000,-999.000,   2.7362,-999.000
  316N138_7,       P14C,      36,          2,         24,         24,2,19920909,       0337,   -21.7667,   177.4033,       3977,  1618.1,   2.6977,  34.5936,2,  34.6389,4,    150.9,2,   151.5,2,  104.97,2,   35.80,2,    0.00,2,    2.48,2,-999.000,9,-999.000,9,-999.000,9,-999.0000,9, -999.00,9, -999.00,9,  -999.0,9,  -999.0,-999.000,9,-999.000,-999.0000,-999.000,   2.5836,-999.000
  316N138_7,       P14C,      36,          2,         25,         25,2,19920909,       0337,   -21.7667,   177.4033,       3977,  1821.4,   2.4459,  34.6180,2,  34.6185,2,    151.1,2,   151.2,2,  112.59,2,   35.89,2,    0.00,2,    2.50,2,-999.000,9,-999.000,9,-999.000,9,-999.0000,9, -999.00,9, -999.00,9,  -999.0,9,  -999.0,-999.000,9,-999.000,-999.0000,-999.000,   2.3181,-999.000
  316N138_7,       P14C,      36,          2,         26,         26,2,19920909,       0337,   -21.7667,   177.4033,       3977,  2024.3,   2.2800,  34.6350,2,  34.6347,2,    151.0,2,   151.0,2,  117.35,2,   35.94,2,    0.00,2,    2.50,2,-999.000,9,-999.000,9,-999.000,9,-999.0000,9, -999.00,9, -999.00,9,  -999.0,9,  -999.0,-999.000,9,-999.000,-999.0000,-999.000,   2.1372,-999.000
  316N138_7,       P14C,      36,          2,         27,         27,2,19920909,       0337,   -21.7667,   177.4033,       3977,  2226.9,   2.1042,  34.6517,2,  34.6514,2,    152.5,2,   152.0,2,  121.72,2,   35.93,2,    0.00,2,    2.51,2,-999.000,9,-999.000,9,-999.000,9,-999.0000,9, -999.00,9, -999.00,9,  -999.0,9,  -999.0,-999.000,9,-999.000,-999.0000,-999.000,   1.9465,-999.000
  316N138_7,       P14C,      36,          2,         28,         28,2,19920909,       0337,   -21.7667,   177.4033,       3977,  2430.4,   1.9922,  34.6635,2,  34.6632,2,    153.8,2,   153.0,2,  124.01,2,   35.89,2,    0.00,2,    2.51,2,-999.000,9,-999.000,9,-999.000,9,-999.0000,9, -999.00,9, -999.00,9,  -999.0,9,  -999.0,-999.000,9,-999.000,-999.0000,-999.000,   1.8184,-999.000
  316N138_7,       P14C,      36,          2,         29,         29,2,19920909,       0337,   -21.7667,   177.4033,       3977,  2634.0,   1.9133,  34.6708,2,  34.6704,2,    155.3,2,   154.3,2,  125.68,2,   35.93,2,    0.00,2,    2.50,2,-999.000,9,-999.000,9,-999.000,9,-999.0000,9, -999.00,9, -999.00,9,  -999.0,9,  -999.0,-999.000,9,-999.000,-999.0000,-999.000,   1.7223,-999.000
  316N138_7,       P14C,      36,          2,         30,         30,2,19920909,       0337,   -21.7667,   177.4033,       3977,  2837.3,   1.8633,  34.6757,2,  34.6763,2,    155.2,2,   155.5,2,  127.35,2,   35.84,2,    0.00,2,    2.50,2,-999.000,9,-999.000,9,-999.000,9,-999.0000,9, -999.00,9, -999.00,9,  -999.0,9,  -999.0,-999.000,9,-999.000,-999.0000,-999.000,   1.6542,-999.000
  316N138_7,       P14C,      36,          2,         31,         31,2,19920909,       0337,   -21.7667,   177.4033,       3977,  3041.8,   1.8314,  34.6795,2,  34.6798,2,    155.5,2,   155.9,2,  128.60,2,   35.89,2,    0.00,2,    2.49,2,-999.000,9,-999.000,9,-999.000,9,-999.0000,9, -999.00,9, -999.00,9,  -999.0,9,  -999.0,-999.000,9,-999.000,-999.0000,-999.000,   1.6032,-999.000
  316N138_7,       P14C,      36,          2,         32,         32,2,19920909,       0337,   -21.7667,   177.4033,       3977,  3244.5,   1.8214,  34.6817,2,  34.6818,2,    156.5,2,   156.3,2,  129.22,2,   35.84,2,    0.00,2,    2.49,2,-999.000,9,-999.000,9,-999.000,9,-999.0000,9, -999.00,9, -999.00,9,  -999.0,9,  -999.0,-999.000,9,-999.000,-999.0000,-999.000,   1.5733,-999.000
  316N138_7,       P14C,      36,          2,         33,         33,3,19920909,       0337,   -21.7667,   177.4033,       3977,  3448.9,   1.8214,  34.6825,2,  34.6831,2,    156.2,2,   165.7,4,  129.84,2,   35.84,2,    0.00,2,    2.50,2,-999.000,9,-999.000,9,-999.000,9,-999.0000,9, -999.00,9, -999.00,9,  -999.0,9,  -999.0,-999.000,9,-999.000,-999.0000,-999.000,   1.5525,-999.000
  316N138_7,       P14C,      36,          2,         34,         34,2,19920909,       0337,   -21.7667,   177.4033,       3977,  3653.1,   1.8304,  34.6839,2,  34.6833,2,    156.5,2,   156.3,2,  130.24,2,   35.88,2,    0.00,2,    2.49,2,-999.000,9,-999.000,9,-999.000,9,-999.0000,9, -999.00,9, -999.00,9,  -999.0,9,  -999.0,-999.000,9,-999.000,-999.0000,-999.000,   1.5398,-999.000
  316N138_7,       P14C,      36,          2,         35,         35,2,19920909,       0337,   -21.7667,   177.4033,       3977,  3857.3,   1.8434,  34.6824,2,  34.6837,2,    156.3,2,   156.6,2,  130.65,2,   35.84,2,    0.00,2,    2.49,2,-999.000,9,-999.000,9,-999.000,9,-999.0000,9, -999.00,9, -999.00,9,  -999.0,9,  -999.0,-999.000,9,-999.000,-999.0000,-999.000,   1.5305,-999.000
  316N138_7,       P14C,      36,          2,         37,         37,2,19920909,       0337,   -21.7667,   177.4033,       3977,  4020.9,   1.8583,  34.6838,2,  34.6841,2,    155.9,2,   156.5,2,  130.85,2,   35.88,2,    0.00,2,    2.50,2,-999.000,9,-999.000,9,-999.000,9,-999.0000,9, -999.00,9, -999.00,9,  -999.0,9,  -999.0,-999.000,9,-999.000,-999.0000,-999.000,   1.5270,-999.000