BOTTLE,20211105CCHSIORKP
EXPOCODE,SECT_ID,STNNBR,CASTNO,SAMPNO,BTLNBR,BTLNBR_FLAG_W,DATE,TIME,LATITUDE,LONGITUDE,DEPTH,CTDPRS,CTDTMP,CTDSAL,CTDSAL_FLAG_W,SALNTY,SALNTY_FLAG_W,CTDOXY,CTDOXY_FLAG_W,OXYGEN,OXYGEN_FLAG_W,SILCAT,SILCAT_FLAG_W,NITRAT,NITRAT_FLAG_W,NITRIT,NITRIT_FLAG_W,PHSPHT,PHSPHT_FLAG_W,CFC-11,CFC-11_FLAG_W,CFC-12,CFC-12_FLAG_W,TRITUM,TRITUM_FLAG_W,HELIUM,HELIUM_FLAG_W,DELHE3,DELHE3_FLAG_W,DELC13,DELC13_FLAG_W,DELC14,DELC14_FLAG_W,C14ERR,NEON,NEON_FLAG_W,NEONER,HELIER,DELHER,THETA,TRITER
,,,,,,,,,,,METERS,DBAR,ITS-90,PSS-78,,PSS-78,,UMOL/KG,,UMOL/KG,,UMOL/KG,,UMOL/KG,,UMOL/KG,,UMOL/KG,,PMOL/KG,,PMOL/KG,,TU,,NMOL/KG,,PERCNT,,/MILLE,,/MILLE,,/MILLE,NMOL/KG,,NMOL/KG,NMOL/KG,PERCNT,DEG C,TU
  316N138_7,       P14C,      17,          1,          1,          1,2,19920904,       1040,   -30.0083,   176.0100,       4289,     1.5,  17.9473,  35.6576,2,  35.6632,2,    239.3,2,   231.7,2,    1.72,2,    0.79,2,    0.09,2,    0.19,2,-999.000,9,-999.000,9,-999.000,9,-999.0000,9, -999.00,9, -999.00,9,  -999.0,9,  -999.0,-999.000,9,-999.000,-999.0000,-999.000,  17.9471,-999.000
  316N138_7,       P14C,      17,          1,          2,          2,2,19920904,       1040,   -30.0083,   176.0100,       4289,    16.6,  17.9323,  35.6546,2,  35.6555,2,    240.5,2,   230.7,2,    1.70,2,    0.91,2,    0.10,2,    0.20,2,   2.346,2,   1.253,2,-999.000,9,-999.0000,9, -999.00,9, -999.00,9,  -999.0,9,  -999.0,-999.000,9,-999.000,-999.0000,-999.000,  17.9295,-999.000
  316N138_7,       P14C,      17,          1,          3,          3,2,19920904,       1040,   -30.0083,   176.0100,       4289,    55.9,  17.5263,  35.6224,2,  35.6238,2,    225.3,2,   224.9,2,    1.69,2,    1.93,2,    0.18,2,    0.28,2,-999.000,9,-999.000,9,-999.000,9,-999.0000,9, -999.00,9, -999.00,9,  -999.0,9,  -999.0,-999.000,9,-999.000,-999.0000,-999.000,  17.5169,-999.000
  316N138_7,       P14C,      17,          1,          4,          4,2,19920904,       1040,   -30.0083,   176.0100,       4289,   105.6,  17.0164,  35.5438,2,-999.0000,9,    200.0,2,   205.0,2,    2.08,2,    4.44,2,    0.05,2,    0.43,2,   2.178,2,   1.150,2,-999.000,9,-999.0000,9, -999.00,9, -999.00,9,  -999.0,9,  -999.0,-999.000,9,-999.000,-999.0000,-999.000,  16.9989,-999.000
  316N138_7,       P14C,      17,          1,          5,          5,2,19920904,       1040,   -30.0083,   176.0100,       4289,   154.6,  16.5554,  35.5062,2,  35.5077,2,    229.5,2,   204.8,4,    2.48,2,    5.24,2,    0.05,2,    0.48,2,   2.180,2,   1.131,2,-999.000,9,-999.0000,9, -999.00,9, -999.00,9,  -999.0,9,  -999.0,-999.000,9,-999.000,-999.0000,-999.000,  16.5303,-999.000
  316N138_7,       P14C,      17,          1,          6,          6,2,19920904,       1040,   -30.0083,   176.0100,       4289,   205.1,  16.3824,  35.5422,2,  35.5438,2,    227.9,2,   232.0,2,    1.86,2,    2.57,2,    0.24,2,    0.34,2,   2.487,2,   1.292,2,-999.000,9,-999.0000,9, -999.00,9, -999.00,9,  -999.0,9,  -999.0,-999.000,9,-999.000,-999.0000,-999.000,  16.3493,-999.000
  316N138_7,       P14C,      17,          1,          7,          7,2,19920904,       1040,   -30.0083,   176.0100,       4289,   256.1,  15.8335,  35.4738,2,  35.4660,2,    196.8,2,   216.6,3,    2.65,2,    4.99,2,    0.07,2,    0.48,2,   2.342,2,   1.231,2,-999.000,9,-999.0000,9, -999.00,9, -999.00,9,  -999.0,9,  -999.0,-999.000,9,-999.000,-999.0000,-999.000,  15.7930,-999.000
  316N138_7,       P14C,      17,          1,          8,          8,2,19920904,       1040,   -30.0083,   176.0100,       4289,   306.2,  14.4337,  35.2955,2,  35.2863,2,    195.7,2,   198.1,2,    4.06,2,    9.29,2,    0.01,2,    0.75,2,-999.000,9,-999.000,9,-999.000,9,-999.0000,9, -999.00,9, -999.00,9,  -999.0,9,  -999.0,-999.000,9,-999.000,-999.0000,-999.000,  14.3882,-999.000
  316N138_7,       P14C,      17,          1,          9,          9,2,19920904,       1040,   -30.0083,   176.0100,       4289,   357.1,  13.1449,  35.1644,2,  35.1321,2,    191.1,2,   192.6,2,    5.46,2,   12.29,2,    0.01,2,    0.93,2,   1.794,2,   0.931,2,-999.000,9,-999.0000,9, -999.00,9, -999.00,9,  -999.0,9,  -999.0,-999.000,9,-999.000,-999.0000,-999.000,  13.0951,-999.000
  316N138_7,       P14C,      17,          1,         10,         10,2,19920904,       1040,   -30.0083,   176.0100,       4289,   407.4,  11.8353,  34.9946,2,  34.9971,2,    193.7,2,   192.0,2,    6.46,2,   14.59,2,    0.01,2,    1.07,2,   1.556,2,   0.797,2,-999.000,9,-999.0000,9, -999.00,9, -999.00,9,  -999.0,9,  -999.0,-999.000,9,-999.000,-999.0000,-999.000,  11.7821,-999.000
  316N138_7,       P14C,      17,          1,         11,         11,2,19920904,       1040,   -30.0083,   176.0100,       4289,   507.0,  10.3587,  34.8430,2,  34.8444,2,    194.0,2,   191.2,2,    9.48,2,   18.08,2,    0.01,2,    1.29,2,   1.319,2,   0.672,2,-999.000,9,-999.0000,9, -999.00,9, -999.00,9,  -999.0,9,  -999.0,-999.000,9,-999.000,-999.0000,-999.000,  10.2978,-999.000
  316N138_7,       P14C,      17,          1,         12,         12,2,19920904,       1040,   -30.0083,   176.0100,       4289,   606.7,   8.8303,  34.6749,2,  34.6825,2,    197.6,2,   195.2,2,   13.31,2,   21.31,2,    0.01,2,    1.50,2,   1.195,4,   0.483,2,-999.000,9,-999.0000,9, -999.00,9, -999.00,9,  -999.0,9,  -999.0,-999.000,9,-999.000,-999.0000,-999.000,   8.7639,-999.000
  316N138_7,       P14C,      17,          1,         37,         37,4,19920904,       1040,   -30.0083,   176.0100,       4289,   705.8,   7.9197,  34.5969,2,  34.5975,2,    198.3,2,   195.8,2,   17.33,2,   23.38,3,    0.00,2,    1.63,2,   0.701,2,   0.373,2,-999.000,9,-999.0000,9, -999.00,9, -999.00,9,  -999.0,9,  -999.0,-999.000,9,-999.000,-999.0000,-999.000,   7.8468,-999.000
  316N138_7,       P14C,      17,          1,         13,         13,4,19920904,       1040,   -30.0083,   176.0100,       4289,   805.3,   6.9942,  34.5089,2,  34.5107,2,    199.9,2,   198.8,2,   20.38,2,   25.17,2,    0.01,2,    1.76,2,   0.478,2,   0.263,2,-999.000,9,-999.0000,9, -999.00,9, -999.00,9,  -999.0,9,  -999.0,-999.000,9,-999.000,-999.0000,-999.000,   6.9161,-999.000
  316N138_7,       P14C,      17,          1,         14,         14,4,19920904,       1040,   -30.0083,   176.0100,       4289,   855.3,   6.4435,  34.4489,2,  34.4548,2,    201.8,2,   202.2,2,   21.39,2,   26.23,2,    0.01,2,    1.83,2,   0.330,2,   0.183,2,-999.000,9,-999.0000,9, -999.00,9, -999.00,9,  -999.0,9,  -999.0,-999.000,9,-999.000,-999.0000,-999.000,   6.3638,-999.000
  316N138_7,       P14C,      17,          1,         15,         15,4,19920904,       1040,   -30.0083,   176.0100,       4289,   904.4,   6.0117,  34.4320,2,  34.4323,2,    199.1,2,   203.0,2,   25.63,2,   27.43,2,    0.01,2,    1.92,2,   0.234,2,   0.129,2,-999.000,9,-999.0000,9, -999.00,9, -999.00,9,  -999.0,9,  -999.0,-999.000,9,-999.000,-999.0000,-999.000,   5.9301,-999.000
  316N138_7,       P14C,      17,          1,         16,         16,4,19920904,       1040,   -30.0083,   176.0100,       4289,  1002.8,   5.2671,  34.4233,2,  34.4230,2,    191.7,2,   190.2,2,   35.34,2,   29.61,2,    0.01,2,    2.06,2,   0.126,2,   0.066,2,-999.000,9,-999.0000,9, -999.00,9, -999.00,9,  -999.0,9,  -999.0,-999.000,9,-999.000,-999.0000,-999.000,   5.1816,-999.000
  316N138_7,       P14C,      17,          1,         17,         17,4,19920904,       1040,   -30.0083,   176.0100,       4289,  1102.9,   4.5615,  34.4296,2,  34.4311,2,    182.5,2,   182.0,2,   46.67,2,   31.44,2,    0.01,2,    2.19,2,   0.057,2,   0.032,2,-999.000,9,-999.0000,9, -999.00,9, -999.00,9,  -999.0,9,  -999.0,-999.000,9,-999.000,-999.0000,-999.000,   4.4726,-999.000
  316N138_7,       P14C,      17,          1,         18,         18,4,19920904,       1040,   -30.0083,   176.0100,       4289,  1205.9,   4.0888,  34.4453,2,  34.4472,2,    176.7,2,   176.6,2,   55.99,2,   32.70,2,    0.01,2,    2.27,2,-999.000,9,-999.000,9,-999.000,9,-999.0000,9, -999.00,9, -999.00,9,  -999.0,9,  -999.0,-999.000,9,-999.000,-999.0000,-999.000,   3.9950,-999.000
  316N138_7,       P14C,      17,          1,         19,         19,4,19920904,       1040,   -30.0083,   176.0100,       4289,  1307.7,   3.5602,  34.4864,2,-999.0000,9,    166.1,2,   169.1,2,   69.80,2,   33.73,2,    0.01,2,    2.35,2,   0.012,2,   0.007,2,-999.000,9,-999.0000,9, -999.00,9, -999.00,9,  -999.0,9,  -999.0,-999.000,9,-999.000,-999.0000,-999.000,   3.4626,-999.000
  316N138_7,       P14C,      17,          1,         20,         20,4,19920904,       1040,   -30.0083,   176.0100,       4289,  1409.9,   3.2394,  34.5335,2,  34.5309,2,    163.1,2,   163.6,2,   82.44,2,   34.22,2,    0.01,2,    2.39,2,   0.006,2,   0.003,2,-999.000,9,-999.0000,9, -999.00,9, -999.00,9,  -999.0,9,  -999.0,-999.000,9,-999.000,-999.0000,-999.000,   3.1365,-999.000
  316N138_7,       P14C,      17,          1,         21,         21,4,19920904,       1040,   -30.0083,   176.0100,       4289,  1512.3,   3.0275,  34.5689,2,  34.5671,2,    160.2,2,   160.7,2,   90.42,2,   34.31,2,    0.01,2,    2.40,2,   0.010,4,   0.017,4,-999.000,9,-999.0000,9, -999.00,9, -999.00,9,  -999.0,9,  -999.0,-999.000,9,-999.000,-999.0000,-999.000,   2.9184,-999.000
  316N138_7,       P14C,      17,          1,         38,         38,4,19920904,       1040,   -30.0083,   176.0100,       4289,  1615.0,   2.8197,  34.5917,2,  34.5903,2,    158.5,2,   157.9,2,   98.24,2,   34.62,2,    0.01,2,    2.43,2,   0.006,2,  -0.001,2,-999.000,9,-999.0000,9, -999.00,9, -999.00,9,  -999.0,9,  -999.0,-999.000,9,-999.000,-999.0000,-999.000,   2.7043,-999.000
  316N138_7,       P14C,      17,          1,         23,         23,4,19920904,       1040,   -30.0083,   176.0100,       4289,  1818.7,   2.4729,  34.6209,2,  34.6209,2,    154.4,2,   154.9,2,  109.22,2,   35.12,2,    0.00,2,    2.47,2,   0.003,2,   0.003,2,-999.000,9,-999.0000,9, -999.00,9, -999.00,9,  -999.0,9,  -999.0,-999.000,9,-999.000,-999.0000,-999.000,   2.3449,-999.000
  316N138_7,       P14C,      17,          1,         24,         24,4,19920904,       1040,   -30.0083,   176.0100,       4289,  2017.4,   2.2610,  34.6389,2,  34.6415,2,    152.9,2,   153.5,2,  115.08,2,   35.34,2,    0.00,2,    2.48,2,  -0.004,2,   0.000,2,-999.000,9,-999.0000,9, -999.00,9, -999.00,9,  -999.0,9,  -999.0,-999.000,9,-999.000,-999.0000,-999.000,   2.1191,-999.000
  316N138_7,       P14C,      17,          1,         25,         25,4,19920904,       1040,   -30.0083,   176.0100,       4289,  2220.8,   2.1052,  34.6522,2,  34.6544,2,    154.1,2,   153.4,2,  119.49,2,   35.38,2,    0.00,2,    2.48,2,-999.000,9,-999.000,9,-999.000,9,-999.0000,9, -999.00,9, -999.00,9,  -999.0,9,  -999.0,-999.000,9,-999.000,-999.0000,-999.000,   1.9480,-999.000
  316N138_7,       P14C,      17,          1,         26,         26,4,19920904,       1040,   -30.0083,   176.0100,       4289,  2424.7,   2.0162,  34.6600,2,  34.6633,2,    154.1,2,   153.7,2,  121.82,2,   35.38,2,    0.00,2,    2.48,2,-999.000,9,-999.000,9,-999.000,9,-999.0000,9, -999.00,9, -999.00,9,  -999.0,9,  -999.0,-999.000,9,-999.000,-999.0000,-999.000,   1.8424,-999.000
  316N138_7,       P14C,      17,          1,         27,         27,4,19920904,       1040,   -30.0083,   176.0100,       4289,  2630.6,   1.9313,  34.6690,2,  34.6709,2,    154.9,2,   154.4,2,  124.37,2,   35.38,2,    0.00,2,    2.48,2,   0.007,2,  -0.001,2,-999.000,9,-999.0000,9, -999.00,9, -999.00,9,  -999.0,9,  -999.0,-999.000,9,-999.000,-999.0000,-999.000,   1.7402,-999.000
  316N138_7,       P14C,      17,          1,         28,         28,4,19920904,       1040,   -30.0083,   176.0100,       4289,  2834.2,   1.8883,  34.6736,2,  34.6762,2,    155.0,2,   154.9,2,  126.07,2,   35.43,2,    0.00,2,    2.48,2,-999.000,9,-999.000,9,-999.000,9,-999.0000,9, -999.00,9, -999.00,9,  -999.0,9,  -999.0,-999.000,9,-999.000,-999.0000,-999.000,   1.6790,-999.000
  316N138_7,       P14C,      17,          1,         29,         29,4,19920904,       1040,   -30.0083,   176.0100,       4289,  3039.2,   1.8663,  34.6764,2,  34.6790,2,    155.7,2,   155.3,2,  126.50,2,   35.38,2,    0.00,2,    2.48,2,   0.000,2,   0.009,2,-999.000,9,-999.0000,9, -999.00,9, -999.00,9,  -999.0,9,  -999.0,-999.000,9,-999.000,-999.0000,-999.000,   1.6377,-999.000
  316N138_7,       P14C,      17,          1,         30,         30,4,19920904,       1040,   -30.0083,   176.0100,       4289,  3242.7,   1.8533,  34.6790,2,  34.6811,2,    155.2,2,   155.5,2,  127.58,2,   35.38,2,    0.00,2,    2.48,2,-999.000,9,-999.000,9,-999.000,9,-999.0000,9, -999.00,9, -999.00,9,  -999.0,9,  -999.0,-999.000,9,-999.000,-999.0000,-999.000,   1.6047,-999.000
  316N138_7,       P14C,      17,          1,         31,         31,4,19920904,       1040,   -30.0083,   176.0100,       4289,  3447.3,   1.8543,  34.6811,2,  34.6852,3,    155.1,2,   155.8,2,  128.01,2,   35.38,2,    0.00,2,    2.47,2,-999.000,9,-999.000,9,-999.000,9,-999.0000,9, -999.00,9, -999.00,9,  -999.0,9,  -999.0,-999.000,9,-999.000,-999.0000,-999.000,   1.5848,-999.000
  316N138_7,       P14C,      17,          1,         32,         32,4,19920904,       1040,   -30.0083,   176.0100,       4289,  3650.5,   1.8623,  34.6815,2,  34.6848,2,    155.5,2,   155.8,2,  128.23,2,   35.38,2,    0.00,2,    2.47,2,   0.000,2,  -0.007,2,-999.000,9,-999.0000,9, -999.00,9, -999.00,9,  -999.0,9,  -999.0,-999.000,9,-999.000,-999.0000,-999.000,   1.5712,-999.000
  316N138_7,       P14C,      17,          1,         33,         33,4,19920904,       1040,   -30.0083,   176.0100,       4289,  3855.2,   1.8723,  34.6830,2,  34.6843,2,    156.1,2,   155.6,2,  128.88,2,   35.38,2,    0.00,2,    2.47,2,-999.000,9,-999.000,9,-999.000,9,-999.0000,9, -999.00,9, -999.00,9,  -999.0,9,  -999.0,-999.000,9,-999.000,-999.0000,-999.000,   1.5589,-999.000
  316N138_7,       P14C,      17,          1,         34,         34,4,19920904,       1040,   -30.0083,   176.0100,       4289,  4057.0,   1.8893,  34.6821,2,  34.6860,2,    156.0,2,   155.8,2,  129.32,2,   35.38,2,    0.00,2,    2.48,2,-999.000,9,-999.000,9,-999.000,9,-999.0000,9, -999.00,9, -999.00,9,  -999.0,9,  -999.0,-999.000,9,-999.000,-999.0000,-999.000,   1.5531,-999.000
  316N138_7,       P14C,      17,          1,         35,         35,4,19920904,       1040,   -30.0083,   176.0100,       4289,  4331.3,   1.9163,  34.6837,2,  34.6841,2,    153.8,2,   155.8,2,  129.11,2,   35.38,2,    0.00,2,    2.48,2,  -0.001,2,   0.007,2,-999.000,9,-999.0000,9, -999.00,9, -999.00,9,  -999.0,9,  -999.0,-999.000,9,-999.000,-999.0000,-999.000,   1.5481,-999.000