BOTTLE,20211105CCHSIORKP
EXPOCODE,SECT_ID,STNNBR,CASTNO,SAMPNO,BTLNBR,BTLNBR_FLAG_W,DATE,TIME,LATITUDE,LONGITUDE,DEPTH,CTDPRS,CTDTMP,CTDSAL,CTDSAL_FLAG_W,SALNTY,SALNTY_FLAG_W,CTDOXY,CTDOXY_FLAG_W,OXYGEN,OXYGEN_FLAG_W,SILCAT,SILCAT_FLAG_W,NITRAT,NITRAT_FLAG_W,NITRIT,NITRIT_FLAG_W,PHSPHT,PHSPHT_FLAG_W,CFC-11,CFC-11_FLAG_W,CFC-12,CFC-12_FLAG_W,TRITUM,TRITUM_FLAG_W,HELIUM,HELIUM_FLAG_W,DELHE3,DELHE3_FLAG_W,DELC13,DELC13_FLAG_W,DELC14,DELC14_FLAG_W,C14ERR,NEON,NEON_FLAG_W,NEONER,HELIER,DELHER,THETA,TRITER
,,,,,,,,,,,METERS,DBAR,ITS-90,PSS-78,,PSS-78,,UMOL/KG,,UMOL/KG,,UMOL/KG,,UMOL/KG,,UMOL/KG,,UMOL/KG,,PMOL/KG,,PMOL/KG,,TU,,NMOL/KG,,PERCNT,,/MILLE,,/MILLE,,/MILLE,NMOL/KG,,NMOL/KG,NMOL/KG,PERCNT,DEG C,TU
  316N138_7,       P14C,      18,          1,          1,          1,2,19920904,       1633,   -29.5717,   176.0817,       4277,     1.8,  18.1587,  35.6580,2,  35.6565,2,    224.7,2,   228.1,2,    1.63,2,    0.73,2,    0.14,2,    0.19,2,-999.000,9,-999.000,9,-999.000,9,-999.0000,9, -999.00,9,    1.41,2,   123.1,2,     3.5,-999.000,9,-999.000,-999.0000,-999.000,  18.1584,-999.000
  316N138_7,       P14C,      18,          1,          2,          2,2,19920904,       1633,   -29.5717,   176.0817,       4277,    17.9,  18.1662,  35.6609,2,  35.6591,2,    223.2,2,   228.0,2,    1.61,2,    0.73,2,    0.14,2,    0.18,2,-999.000,9,-999.000,9,-999.000,9,-999.0000,9, -999.00,9, -999.00,9,  -999.0,9,  -999.0,-999.000,9,-999.000,-999.0000,-999.000,  18.1631,-999.000
  316N138_7,       P14C,      18,          1,          3,          3,4,19920904,       1633,   -29.5717,   176.0817,       4277,    57.4,  18.0310,  35.6584,2,  35.3765,4,    227.1,2,   207.5,4,    5.79,4,    7.23,4,    0.08,4,    0.58,4,-999.000,9,-999.000,9,-999.000,9,-999.0000,9, -999.00,9,    1.22,2,    82.8,4,     3.5,-999.000,9,-999.000,-999.0000,-999.000,  18.0211,-999.000
  316N138_7,       P14C,      18,          1,          4,          4,2,19920904,       1633,   -29.5717,   176.0817,       4277,   106.8,  17.8007,  35.6406,2,  35.6382,2,    226.6,2,   225.1,2,    2.17,2,    1.53,2,    0.18,2,    0.24,2,-999.000,9,-999.000,9,-999.000,9,-999.0000,9, -999.00,9,    1.37,2,   103.1,2,     3.6,-999.000,9,-999.000,-999.0000,-999.000,  17.7825,-999.000
  316N138_7,       P14C,      18,          1,          5,          5,2,19920904,       1633,   -29.5717,   176.0817,       4277,   155.5,  17.0518,  35.5607,2,  35.5595,2,    231.2,2,   219.1,2,    2.15,2,    3.06,2,    0.18,2,    0.35,2,-999.000,9,-999.000,9,-999.000,9,-999.0000,9, -999.00,9,    1.25,2,   114.1,2,     4.2,-999.000,9,-999.000,-999.0000,-999.000,  17.0260,-999.000
  316N138_7,       P14C,      18,          1,          6,          6,2,19920904,       1633,   -29.5717,   176.0817,       4277,   203.6,  16.7997,  35.5432,2,  35.5408,2,    224.8,2,   223.8,2,    2.13,2,    2.99,2,    0.21,2,    0.34,2,-999.000,9,-999.000,9,-999.000,9,-999.0000,9, -999.00,9,    1.31,2,   109.9,2,     3.4,-999.000,9,-999.000,-999.0000,-999.000,  16.7662,-999.000
  316N138_7,       P14C,      18,          1,          7,          7,2,19920904,       1633,   -29.5717,   176.0817,       4277,   250.4,  15.9645,  35.4504,2,  35.4543,2,    199.3,2,   199.3,2,    3.11,2,    6.37,2,    0.02,2,    0.55,2,-999.000,9,-999.000,9,-999.000,9,-999.0000,9, -999.00,9, -999.00,9,  -999.0,9,  -999.0,-999.000,9,-999.000,-999.0000,-999.000,  15.9248,-999.000
  316N138_7,       P14C,      18,          1,          8,          8,2,19920904,       1633,   -29.5717,   176.0817,       4277,   297.6,  15.0004,  35.3528,2,  35.3516,2,    198.9,2,   195.6,2,    3.68,2,    8.26,2,    0.01,2,    0.66,2,-999.000,9,-999.000,9,-999.000,9,-999.0000,9, -999.00,9,    1.18,2,    90.7,2,     3.4,-999.000,9,-999.000,-999.0000,-999.000,  14.9550,-999.000
  316N138_7,       P14C,      18,          1,          9,          9,2,19920904,       1633,   -29.5717,   176.0817,       4277,   340.9,  14.0831,  35.2504,2,  35.2469,2,    194.9,2,   192.5,2,    4.86,2,   10.14,2,    0.01,2,    0.78,2,   1.871,2,   0.972,2,-999.000,9,-999.0000,9, -999.00,9, -999.00,9,  -999.0,9,  -999.0,-999.000,9,-999.000,-999.0000,-999.000,  14.0333,-999.000
  316N138_7,       P14C,      18,          1,         10,         10,2,19920904,       1633,   -29.5717,   176.0817,       4277,   379.2,  13.4933,  35.1765,2,  35.1736,2,    189.5,2,   188.3,2,    5.04,2,   11.62,2,    0.01,2,    0.88,2,-999.000,9,-999.000,9,-999.000,9,-999.0000,9, -999.00,9,    1.17,2,    67.5,2,     4.0,-999.000,9,-999.000,-999.0000,-999.000,  13.4394,-999.000
  316N138_7,       P14C,      18,          1,         39,         39,2,19920904,       1633,   -29.5717,   176.0817,       4277,   463.9,  11.9538,  35.0167,2,  35.0165,2,    193.6,2,   192.3,2,    7.02,2,   14.29,2,    0.01,2,    1.04,2,   1.640,2,   0.864,2,-999.000,9,-999.0000,9, -999.00,9,    1.10,2,    49.5,2,     3.0,-999.000,9,-999.000,-999.0000,-999.000,  11.8928,-999.000
  316N138_7,       P14C,      18,          1,         12,         12,2,19920904,       1633,   -29.5717,   176.0817,       4277,   545.0,  10.4165,  34.8483,2,  34.8459,2,    191.2,2,   191.5,2,    9.59,2,   17.83,2,    0.00,2,    1.26,2,-999.000,9,-999.000,9,-999.000,9,-999.0000,9, -999.00,9,    1.10,2,    25.9,2,     3.0,-999.000,9,-999.000,-999.0000,-999.000,  10.3506,-999.000
  316N138_7,       P14C,      18,          1,         13,         13,2,19920904,       1633,   -29.5717,   176.0817,       4277,   630.7,   8.4490,  34.5728,2,  34.5708,2,    202.7,2,   208.5,2,    8.97,2,   20.46,2,    0.00,2,    1.43,2,   1.002,2,   0.515,2,-999.000,9,-999.0000,9, -999.00,9,    1.24,2,     3.4,2,     3.4,-999.000,9,-999.000,-999.0000,-999.000,   8.3817,-999.000
  316N138_7,       P14C,      18,          1,         14,         14,2,19920904,       1633,   -29.5717,   176.0817,       4277,   721.8,   7.7451,  34.5068,2,  34.5041,2,    208.5,2,   211.4,2,   10.75,2,   22.16,2,    0.00,2,    1.54,2,-999.000,9,-999.000,9,-999.000,9,-999.0000,9, -999.00,9,    1.28,2,    -4.2,2,     3.1,-999.000,9,-999.000,-999.0000,-999.000,   7.6715,-999.000
  316N138_7,       P14C,      18,          1,         15,         15,2,19920904,       1633,   -29.5717,   176.0817,       4277,   811.9,   6.6657,  34.4352,2,  34.4326,2,    209.3,2,   200.9,3,   17.11,2,   25.22,2,    0.00,2,    1.75,2,   0.350,2,   0.196,2,-999.000,9,-999.0000,9, -999.00,9,    1.19,2,   -58.2,2,     3.2,-999.000,9,-999.000,-999.0000,-999.000,   6.5891,-999.000
  316N138_7,       P14C,      18,          1,         16,         16,2,19920904,       1633,   -29.5717,   176.0817,       4277,   902.6,   5.9633,  34.3967,2,  34.3938,2,    204.7,2,   203.3,2,   22.68,2,   27.15,2,    0.00,2,    1.89,2,-999.000,9,-999.000,9,-999.000,9,-999.0000,9, -999.00,9,    1.13,2,   -77.1,6,     3.7,-999.000,9,-999.000,-999.0000,-999.000,   5.8823,-999.000
  316N138_7,       P14C,      18,          1,         17,         17,2,19920904,       1633,   -29.5717,   176.0817,       4277,   997.0,   5.2316,  34.3849,2,  34.3836,2,    195.1,2,   195.4,2,   31.24,2,   29.38,2,    0.00,2,    2.02,2,   0.095,2,   0.069,2,-999.000,9,-999.0000,9, -999.00,9, -999.00,9,  -999.0,5,  -999.0,-999.000,9,-999.000,-999.0000,-999.000,   5.1470,-999.000
  316N138_7,       P14C,      18,          1,         18,         18,2,19920904,       1633,   -29.5717,   176.0817,       4277,  1090.7,   4.7340,  34.3999,2,  34.3976,2,    188.7,2,   187.1,2,   40.59,2,   30.79,2,    0.00,2,    2.14,2,-999.000,9,-999.000,9,-999.000,9,-999.0000,9, -999.00,9,    0.91,2,  -105.1,2,     2.8,-999.000,9,-999.000,-999.0000,-999.000,   4.6448,-999.000
  316N138_7,       P14C,      18,          1,         19,         19,2,19920904,       1633,   -29.5717,   176.0817,       4277,  1184.9,   4.1424,  34.4295,2,  34.4258,2,    177.8,2,   178.4,2,   52.54,2,   32.37,2,    0.00,2,    2.23,2,   0.021,2,   0.017,2,-999.000,9,-999.0000,9, -999.00,9,    0.80,2,  -121.4,2,     3.0,-999.000,9,-999.000,-999.0000,-999.000,   4.0500,-999.000
  316N138_7,       P14C,      18,          1,         20,         20,2,19920904,       1633,   -29.5717,   176.0817,       4277,  1280.5,   3.6953,  34.4687,2,  34.4656,2,    170.5,2,   171.3,2,   64.70,2,   33.16,2,    0.00,2,    2.31,2,-999.000,9,-999.000,9,-999.000,9,-999.0000,9, -999.00,9,    0.70,2,  -151.9,2,     4.4,-999.000,9,-999.000,-999.0000,-999.000,   3.5988,-999.000
  316N138_7,       P14C,      18,          1,         21,         21,2,19920904,       1633,   -29.5717,   176.0817,       4277,  1377.1,   3.3524,  34.5141,2,  34.5121,2,    165.0,2,   165.4,2,   76.90,2,   33.68,2,    0.00,2,    2.35,2,   0.007,2,   0.003,2,-999.000,9,-999.0000,9, -999.00,9,    0.54,2,  -167.8,2,     6.5,-999.000,9,-999.000,-999.0000,-999.000,   3.2511,-999.000
  316N138_7,       P14C,      18,          1,         38,         38,2,19920904,       1633,   -29.5717,   176.0817,       4277,  1470.1,   3.0486,  34.5565,2,  34.5543,2,    159.7,2,   161.0,2,   88.74,2,   34.07,2,    0.00,2,    2.38,2,-999.000,9,-999.000,9,-999.000,9,-999.0000,9, -999.00,9,    0.54,2,  -170.3,2,     4.3,-999.000,9,-999.000,-999.0000,-999.000,   2.9428,-999.000
  316N138_7,       P14C,      18,          1,         23,         23,2,19920904,       1633,   -29.5717,   176.0817,       4277,  1656.5,   2.6503,  34.6048,2,  34.6020,2,    156.4,2,   156.5,2,  102.90,2,   34.50,2,    0.00,2,    2.41,2,-999.000,9,-999.000,9,-999.000,9,-999.0000,9, -999.00,9,    0.42,2,  -179.0,2,     3.6,-999.000,9,-999.000,-999.0000,-999.000,   2.5335,-999.000
  316N138_7,       P14C,      18,          1,         24,         24,2,19920904,       1633,   -29.5717,   176.0817,       4277,  1854.2,   2.4187,  34.6248,2,  34.6232,2,    153.7,2,   154.5,2,  109.61,2,   34.85,2,    0.00,2,    2.44,2,-999.000,9,-999.000,9,-999.000,9,-999.0000,9, -999.00,9,    0.38,2,  -194.7,2,     3.5,-999.000,9,-999.000,-999.0000,-999.000,   2.2885,-999.000
  316N138_7,       P14C,      18,          1,         25,         25,2,19920904,       1633,   -29.5717,   176.0817,       4277,  2052.1,   2.2249,  34.6420,2,  34.6410,2,    153.2,2,   153.8,2,  115.12,2,   35.02,2,    0.00,2,    2.45,2,-999.000,9,-999.000,9,-999.000,9,-999.0000,9, -999.00,9,    0.30,2,  -195.5,2,     3.7,-999.000,9,-999.000,-999.0000,-999.000,   2.0805,-999.000
  316N138_7,       P14C,      18,          1,         26,         26,2,19920904,       1633,   -29.5717,   176.0817,       4277,  2253.6,   2.0949,  34.6539,2,  34.6523,2,    153.7,2,   153.5,2,  118.59,2,   34.96,2,    0.00,2,    2.45,2,-999.000,9,-999.000,9,-999.000,9,-999.0000,9, -999.00,9,    0.31,2,  -192.0,2,     3.7,-999.000,9,-999.000,-999.0000,-999.000,   1.9350,-999.000
  316N138_7,       P14C,      18,          1,         27,         27,2,19920904,       1633,   -29.5717,   176.0817,       4277,  2456.5,   2.0051,  34.6622,2,  34.6615,2,    153.8,2,   154.4,2,  121.24,2,   35.00,2,    0.00,2,    2.45,2,-999.000,9,-999.000,9,-999.000,9,-999.0000,9, -999.00,9,    0.25,2,  -194.6,2,     3.6,-999.000,9,-999.000,-999.0000,-999.000,   1.8287,-999.000
  316N138_7,       P14C,      18,          1,         28,         28,2,19920904,       1633,   -29.5717,   176.0817,       4277,  2658.2,   1.9360,  34.6690,2,  34.6676,2,    154.5,2,   154.8,2,  123.07,2,   34.94,2,    0.00,2,    2.46,2,-999.000,9,-999.000,9,-999.000,9,-999.0000,9, -999.00,9,    0.23,2,  -195.9,2,     3.6,-999.000,9,-999.000,-999.0000,-999.000,   1.7423,-999.000
  316N138_7,       P14C,      18,          1,         29,         29,2,19920904,       1633,   -29.5717,   176.0817,       4277,  2858.2,   1.8856,  34.6747,2,  34.6733,2,    154.9,2,   155.0,2,  124.48,2,   34.98,2,    0.00,2,    2.45,2,-999.000,9,-999.000,9,-999.000,9,-999.0000,9, -999.00,9,    0.28,2,  -196.6,2,     5.0,-999.000,9,-999.000,-999.0000,-999.000,   1.6741,-999.000
  316N138_7,       P14C,      18,          1,         30,         30,2,19920904,       1633,   -29.5717,   176.0817,       4277,  3059.9,   1.8572,  34.6778,2,  34.6769,2,    156.0,2,   155.8,2,  125.48,2,   34.96,2,    0.00,2,    2.45,2,-999.000,9,-999.000,9,-999.000,9,-999.0000,9, -999.00,9,    0.26,2,  -203.4,2,     3.7,-999.000,9,-999.000,-999.0000,-999.000,   1.6267,-999.000
  316N138_7,       P14C,      18,          1,         31,         31,2,19920904,       1633,   -29.5717,   176.0817,       4277,  3259.5,   1.8490,  34.6796,2,  34.6796,2,    155.8,2,   155.7,2,  125.85,2,   34.95,2,    0.00,2,    2.44,2,-999.000,9,-999.000,9,-999.000,9,-999.0000,9, -999.00,9,    0.24,2,  -208.1,2,     2.4,-999.000,9,-999.000,-999.0000,-999.000,   1.5988,-999.000
  316N138_7,       P14C,      18,          1,         32,         32,9,19920904,       1633,   -29.5717,   176.0817,       4277,  3461.1,   1.8519,  34.6813,2,-999.0000,9,    156.1,2,  -999.0,9, -999.00,9, -999.00,9, -999.00,9, -999.00,9,-999.000,9,-999.000,9,-999.000,9,-999.0000,9, -999.00,9, -999.00,9,  -999.0,9,  -999.0,-999.000,9,-999.000,-999.0000,-999.000,   1.5810,-999.000
  316N138_7,       P14C,      18,          1,         33,         33,2,19920904,       1633,   -29.5717,   176.0817,       4277,  3668.6,   1.8613,  34.6824,2,  34.6795,2,    156.4,2,   156.2,2,  127.27,2,   34.90,2,    0.00,2,    2.45,2,-999.000,9,-999.000,9,-999.000,9,-999.0000,9, -999.00,9,    0.10,3,  -215.4,6,     4.5,-999.000,9,-999.000,-999.0000,-999.000,   1.5683,-999.000
  316N138_7,       P14C,      18,          1,         34,         34,2,19920904,       1633,   -29.5717,   176.0817,       4277,  3874.9,   1.8727,  34.6829,2,  34.6816,2,    156.8,2,   156.2,2,  127.22,2,   34.89,2,    0.00,2,    2.45,2,-999.000,9,-999.000,9,-999.000,9,-999.0000,9, -999.00,9,    0.26,2,  -211.5,2,     2.7,-999.000,9,-999.000,-999.0000,-999.000,   1.5571,-999.000
  316N138_7,       P14C,      18,          1,         35,         35,2,19920904,       1633,   -29.5717,   176.0817,       4277,  4078.8,   1.8923,  34.6833,2,  34.6824,2,    155.9,2,   156.0,2,  127.17,2,   34.88,2,    0.00,2,    2.45,2,-999.000,9,-999.000,9,-999.000,9,-999.0000,9, -999.00,9,    0.20,2,  -212.7,2,     2.7,-999.000,9,-999.000,-999.0000,-999.000,   1.5536,-999.000
  316N138_7,       P14C,      18,          1,         37,         37,2,19920904,       1633,   -29.5717,   176.0817,       4277,  4333.3,   1.9121,  34.6831,2,  34.6836,2,    155.4,2,   156.2,2,  127.54,2,   34.87,2,    0.00,2,    2.45,2,-999.000,9,-999.000,9,-999.000,9,-999.0000,9, -999.00,9,    0.24,2,  -209.5,2,     2.7,-999.000,9,-999.000,-999.0000,-999.000,   1.5438,-999.000