BOTTLE,20211105CCHSIORKP
EXPOCODE,SECT_ID,STNNBR,CASTNO,SAMPNO,BTLNBR,BTLNBR_FLAG_W,DATE,TIME,LATITUDE,LONGITUDE,DEPTH,CTDPRS,CTDTMP,CTDSAL,CTDSAL_FLAG_W,SALNTY,SALNTY_FLAG_W,CTDOXY,CTDOXY_FLAG_W,OXYGEN,OXYGEN_FLAG_W,SILCAT,SILCAT_FLAG_W,NITRAT,NITRAT_FLAG_W,NITRIT,NITRIT_FLAG_W,PHSPHT,PHSPHT_FLAG_W,CFC-11,CFC-11_FLAG_W,CFC-12,CFC-12_FLAG_W,TRITUM,TRITUM_FLAG_W,HELIUM,HELIUM_FLAG_W,DELHE3,DELHE3_FLAG_W,DELC13,DELC13_FLAG_W,DELC14,DELC14_FLAG_W,C14ERR,NEON,NEON_FLAG_W,NEONER,HELIER,DELHER,THETA,TRITER
,,,,,,,,,,,METERS,DBAR,ITS-90,PSS-78,,PSS-78,,UMOL/KG,,UMOL/KG,,UMOL/KG,,UMOL/KG,,UMOL/KG,,UMOL/KG,,PMOL/KG,,PMOL/KG,,TU,,NMOL/KG,,PERCNT,,/MILLE,,/MILLE,,/MILLE,NMOL/KG,,NMOL/KG,NMOL/KG,PERCNT,DEG C,TU
  316N138_7,       P14C,      11,          1,          4,          4,2,19920903,       0053,   -32.6117,   175.5533,     -999.0,     1.6,  15.9124,  35.4760,2,  35.4772,2,    243.6,2,   245.5,2,    2.47,2,    2.88,2,    0.16,2,    0.34,2,   2.652,2,   1.386,2,-999.000,9,-999.0000,9, -999.00,9, -999.00,9,  -999.0,9,  -999.0,-999.000,9,-999.000,-999.0000,-999.000,  15.9121,-999.000
  316N138_7,       P14C,      11,          1,          5,          5,2,19920903,       0053,   -32.6117,   175.5533,     -999.0,    16.0,  15.6993,  35.4765,2,  35.4758,2,    245.8,2,   245.3,2,    2.46,2,    2.88,2,    0.16,2,    0.40,2,   2.621,2,   1.416,2,   0.755,2,   1.8160,2,   -1.49,2, -999.00,9,  -999.0,9,  -999.0,   7.523,2,   0.038,   0.0070,   0.110,  15.6968,   0.003
  316N138_7,       P14C,      11,          1,          6,          6,9,19920903,       0053,   -32.6117,   175.5533,     -999.0,    56.0,  15.4123,  35.4519,2,-999.0000,9,    244.8,2,  -999.0,9, -999.00,9, -999.00,9, -999.00,9, -999.00,9,-999.000,9,-999.000,9,-999.000,9,-999.0000,9, -999.00,9, -999.00,9,  -999.0,9,  -999.0,-999.000,9,-999.000,-999.0000,-999.000,  15.4037,-999.000
  316N138_7,       P14C,      11,          1,          7,          7,4,19920903,       0053,   -32.6117,   175.5533,     -999.0,   104.8,  15.3059,  35.4866,2,  35.2751,4,    231.4,2,   222.1,4,    4.23,4,    7.66,4,    0.19,4,    0.64,4,   2.368,2,   1.192,2,   0.551,2,   1.8290,2,   -0.61,2, -999.00,9,  -999.0,9,  -999.0,   7.635,2,   0.038,   0.0070,   0.110,  15.2898,   0.006
  316N138_7,       P14C,      11,          1,          8,          8,4,19920903,       0053,   -32.6117,   175.5533,     -999.0,   156.8,  15.1745,  35.4717,2,  35.2688,4,    236.9,2,   217.1,4,    4.22,4,    8.02,4,    0.13,4,    0.67,4,-999.000,9,-999.000,9,   0.454,2,   1.8330,2,   -0.62,2, -999.00,9,  -999.0,9,  -999.0,   7.626,2,   0.038,   0.0080,   0.110,  15.1505,   0.005
  316N138_7,       P14C,      11,          1,          9,          9,4,19920903,       0053,   -32.6117,   175.5533,     -999.0,   206.0,  14.6945,  35.4104,2,  35.4058,4,    230.9,2,   237.0,4,    2.62,4,    4.22,4,    0.25,4,    0.45,4,   2.659,2,   1.366,2,   0.475,2,   1.8200,2,   -1.35,2, -999.00,9,  -999.0,9,  -999.0,   7.555,2,   0.038,   0.0070,   0.110,  14.6636,   0.005
  316N138_7,       P14C,      11,          1,         10,         10,2,19920903,       0053,   -32.6117,   175.5533,     -999.0,   256.1,  13.2925,  35.1825,2,  35.1726,2,    206.1,2,   197.7,2,    5.39,2,   11.10,2,    0.01,2,    0.84,2,-999.000,9,-999.000,9,-999.000,9,-999.0000,9, -999.00,9, -999.00,9,  -999.0,9,  -999.0,-999.000,9,-999.000,-999.0000,-999.000,  13.2566,-999.000
  316N138_7,       P14C,      11,          1,         11,         11,2,19920903,       0053,   -32.6117,   175.5533,     -999.0,   307.5,  12.2818,  35.0635,2,  35.0610,2,    201.6,2,   203.2,2,    5.37,2,   11.94,2,    0.01,2,    0.91,2,   2.200,2,   1.117,2,   0.322,2,   1.8470,2,   -0.01,2, -999.00,9,  -999.0,9,  -999.0,   7.736,2,   0.039,   0.0080,   0.110,  12.2409,   0.004
  316N138_7,       P14C,      11,          1,         12,         12,9,19920903,       0053,   -32.6117,   175.5533,     -999.0,   356.0,  11.3514,  34.9419,2,-999.0000,9,    199.3,2,  -999.0,9, -999.00,9, -999.00,9, -999.00,9, -999.00,9,-999.000,9,-999.000,9,-999.000,9,-999.0000,9, -999.00,9, -999.00,9,  -999.0,9,  -999.0,-999.000,9,-999.000,-999.0000,-999.000,  11.3063,-999.000
  316N138_7,       P14C,      11,          1,         13,         13,2,19920903,       0053,   -32.6117,   175.5533,     -999.0,   406.8,  10.4407,  34.8248,2,  34.8260,2,    197.7,2,   196.9,2,    7.55,2,   16.72,2,    0.01,2,    1.20,2,   1.757,2,   0.876,2,   0.381,2,   1.8640,2,    0.63,2, -999.00,9,  -999.0,9,  -999.0,   7.908,2,   0.040,   0.0080,   0.110,  10.3918,   0.005
  316N138_7,       P14C,      11,          1,         14,         14,2,19920903,       0053,   -32.6117,   175.5533,     -999.0,   506.5,   9.0229,  34.6593,2,  34.6590,2,    205.2,2,   203.0,2,    9.52,2,   19.83,2,    0.00,2,    1.38,2,   1.446,2,   0.711,2,   0.289,2,   1.8750,2,    1.13,2, -999.00,9,  -999.0,9,  -999.0,   7.998,2,   0.040,   0.0080,   0.110,   8.9671,   0.004
  316N138_7,       P14C,      11,          1,         15,         15,2,19920903,       0053,   -32.6117,   175.5533,     -999.0,   606.7,   8.0594,  34.5632,2,  34.5625,2,    205.9,2,   206.5,2,   11.70,2,   21.76,2,    0.00,2,    1.51,2,   0.899,2,   0.464,2,   0.216,2,   1.8780,2,    1.52,2, -999.00,9,  -999.0,9,  -999.0,   8.044,2,   0.040,   0.0080,   0.110,   7.9965,   0.004
  316N138_7,       P14C,      11,          1,         16,         16,2,19920903,       0053,   -32.6117,   175.5533,     -999.0,   708.3,   7.2481,  34.4873,2,  34.4874,2,    209.8,2,   209.0,2,   14.27,2,   23.53,2,    0.00,2,    1.63,2,   0.612,2,   0.300,2,   0.159,2,   1.8920,2,    1.93,2, -999.00,9,  -999.0,9,  -999.0,   8.099,2,   0.040,   0.0080,   0.110,   7.1786,   0.004
  316N138_7,       P14C,      11,          1,         17,         17,2,19920903,       0053,   -32.6117,   175.5533,     -999.0,   808.0,   6.4437,  34.4272,2,  34.4276,2,    208.7,2,   208.1,2,   18.43,2,   25.43,2,    0.00,2,    1.76,2,   0.372,2,   0.191,2,   0.097,2,   1.8920,2,    2.49,2, -999.00,9,  -999.0,9,  -999.0,   8.118,2,   0.041,   0.0080,   0.110,   6.3687,   0.003
  316N138_7,       P14C,      11,          1,         18,         18,2,19920903,       0053,   -32.6117,   175.5533,     -999.0,   910.5,   5.8584,  34.4107,2,  34.4108,2,    202.7,2,   201.6,2,   24.78,2,   27.25,2,    0.00,2,    1.89,2,   0.232,2,   0.128,2,   0.071,2,   1.8880,2,    3.64,2, -999.00,9,  -999.0,9,  -999.0,   8.144,2,   0.041,   0.0080,   0.110,   5.7773,   0.002
  316N138_7,       P14C,      11,          1,         19,         19,2,19920903,       0053,   -32.6117,   175.5533,     -999.0,  1010.7,   5.2437,  34.4117,2,  34.4116,2,    191.5,2,   193.3,2,   33.72,2,   29.24,2,    0.00,2,    2.00,2,   0.135,2,   0.086,2,   0.048,2,   1.9050,2,    5.48,2, -999.00,9,  -999.0,9,  -999.0,   8.202,2,   0.041,   0.0080,   0.110,   5.1577,   0.002
  316N138_7,       P14C,      11,          1,         20,         20,2,19920903,       0053,   -32.6117,   175.5533,     -999.0,  1111.2,   4.6002,  34.4362,2,  34.4365,2,    182.9,2,   183.5,2,   45.84,2,   30.85,2,    0.00,2,    2.11,2,   0.074,2,   0.045,2,-999.000,9,-999.0000,9, -999.00,9, -999.00,9,  -999.0,9,  -999.0,-999.000,9,-999.000,-999.0000,-999.000,   4.5102,-999.000
  316N138_7,       P14C,      11,          1,         21,         21,2,19920903,       0053,   -32.6117,   175.5533,     -999.0,  1212.9,   4.0645,  34.4679,2,  34.4661,2,    173.4,2,   175.9,2,   57.78,2,   31.92,2,    0.00,2,    2.22,2,   0.041,2,   0.022,2,   0.032,2,   1.9370,2,   10.25,2, -999.00,9,  -999.0,9,  -999.0,   8.324,2,   0.042,   0.0080,   0.110,   3.9703,   0.002
  316N138_7,       P14C,      11,          1,         22,         22,2,19920903,       0053,   -32.6117,   175.5533,     -999.0,  1312.2,   3.7324,  34.5351,2,  34.5316,2,    168.5,2,   167.3,2,   72.54,2,   32.52,2,    0.00,2,    2.26,2,   0.044,2,   0.022,2,-999.000,9,-999.0000,9, -999.00,9, -999.00,9,  -999.0,9,  -999.0,-999.000,9,-999.000,-999.0000,-999.000,   3.6327,-999.000
  316N138_7,       P14C,      11,          1,         23,         23,2,19920903,       0053,   -32.6117,   175.5533,     -999.0,  1414.2,   3.4851,  34.5601,2,  34.5590,2,    163.0,2,   164.7,2,   81.34,2,   32.78,2,    0.00,2,    2.30,2,   0.041,2,   0.018,2,   0.013,2,   1.9570,2,   14.10,2, -999.00,9,  -999.0,9,  -999.0,   8.370,2,   0.042,   0.0080,   0.110,   3.3792,   0.002
  316N138_7,       P14C,      11,          1,         24,         24,2,19920903,       0053,   -32.6117,   175.5533,     -999.0,  1514.8,   3.2112,  34.5774,2,  34.5826,2,    161.2,2,   161.1,2,   87.77,2,   33.29,2,    0.00,2,    2.34,2,   0.033,2,   0.023,2,-999.000,9,-999.0000,9, -999.00,9, -999.00,9,  -999.0,9,  -999.0,-999.000,9,-999.000,-999.0000,-999.000,   3.0997,-999.000
  316N138_7,       P14C,      11,          1,         25,         25,2,19920903,       0053,   -32.6117,   175.5533,     -999.0,  1617.8,   2.9943,  34.5901,2,  34.5896,2,    160.7,2,   159.7,2,   93.61,2,   33.60,2,    0.00,2,    2.36,2,   0.021,2,   0.008,2,   0.023,2,   1.9780,2,   16.09,2, -999.00,9,  -999.0,9,  -999.0,   8.475,2,   0.042,   0.0080,   0.110,   2.8766,   0.002
  316N138_7,       P14C,      11,          1,         26,         26,2,19920903,       0053,   -32.6117,   175.5533,     -999.0,  1821.5,   2.6205,  34.6104,2,  34.6102,2,    156.3,2,   156.4,2,  103.34,2,   34.33,2,    0.00,2,    2.42,2,   0.004,2,  -0.003,2,   0.001,2,   1.9890,2,   18.70,2, -999.00,9,  -999.0,9,  -999.0,   8.509,2,   0.043,   0.0080,   0.110,   2.4902,   0.002
  316N138_7,       P14C,      11,          1,         27,         27,2,19920903,       0053,   -32.6117,   175.5533,     -999.0,  2024.1,   2.3408,  34.6335,2,  34.6326,2,    155.0,2,   154.3,2,  110.90,2,   34.67,2,    0.00,2,    2.43,2,-999.000,9,-999.000,9,-999.000,9,-999.0000,9, -999.00,9, -999.00,9,  -999.0,9,  -999.0,-999.000,9,-999.000,-999.0000,-999.000,   2.1971,-999.000
  316N138_7,       P14C,      11,          1,         28,         28,2,19920903,       0053,   -32.6117,   175.5533,     -999.0,  2226.7,   2.1520,  34.6494,2,  34.6491,2,    154.1,2,   153.4,2,  116.24,2,   34.81,2,    0.00,2,    2.45,2,   0.004,2,   0.001,2,-999.000,9,-999.0000,9, -999.00,9, -999.00,9,  -999.0,9,  -999.0,-999.000,9,-999.000,-999.0000,-999.000,   1.9936,-999.000
  316N138_7,       P14C,      11,          1,         29,         29,2,19920903,       0053,   -32.6117,   175.5533,     -999.0,  2430.0,   2.0088,  34.6624,2,  34.6675,4,    154.7,2,   154.2,2,  119.76,2,   34.81,2,    0.00,2,    2.45,2,-999.000,9,-999.000,9,-999.000,9,-999.0000,9, -999.00,9, -999.00,9,  -999.0,9,  -999.0,-999.000,9,-999.000,-999.0000,-999.000,   1.8347,-999.000
  316N138_7,       P14C,      11,          1,         30,         30,2,19920903,       0053,   -32.6117,   175.5533,     -999.0,  2630.1,   1.9089,  34.6713,2,  34.6720,2,    154.5,2,   154.4,2,  122.45,2,   34.85,2,    0.00,2,    2.45,2,  -0.002,2,  -0.002,2,-999.000,9,-999.0000,9, -999.00,9, -999.00,9,  -999.0,9,  -999.0,-999.000,9,-999.000,-999.0000,-999.000,   1.7183,-999.000
  316N138_7,       P14C,      11,          1,         31,         31,2,19920903,       0053,   -32.6117,   175.5533,     -999.0,  2831.8,   1.8626,  34.6763,2,  34.6777,2,    154.7,2,   154.9,2,  124.11,2,   34.86,2,    0.00,2,    2.46,2,-999.000,9,-999.000,9,-999.000,9,-999.0000,9, -999.00,9, -999.00,9,  -999.0,9,  -999.0,-999.000,9,-999.000,-999.0000,-999.000,   1.6541,-999.000
  316N138_7,       P14C,      11,          1,         32,         32,2,19920903,       0053,   -32.6117,   175.5533,     -999.0,  3031.6,   1.8426,  34.6794,2,  34.6797,2,    155.2,2,   155.1,2,  124.94,2,   34.86,2,    0.00,2,    2.46,2,   0.003,2,  -0.003,2,-999.000,9,-999.0000,9, -999.00,9, -999.00,9,  -999.0,9,  -999.0,-999.000,9,-999.000,-999.0000,-999.000,   1.6151,-999.000
  316N138_7,       P14C,      11,          1,         33,         33,2,19920903,       0053,   -32.6117,   175.5533,     -999.0,  3231.5,   1.8404,  34.6814,2,  34.6813,2,    153.8,2,   155.1,2,  124.93,2,   34.86,2,    0.00,2,    2.46,2,-999.000,9,-999.000,9,-999.000,9,-999.0000,9, -999.00,9, -999.00,9,  -999.0,9,  -999.0,-999.000,9,-999.000,-999.0000,-999.000,   1.5932,-999.000
  316N138_7,       P14C,      11,          1,         34,         34,2,19920903,       0053,   -32.6117,   175.5533,     -999.0,  3431.4,   1.8463,  34.6823,2,  34.6827,2,    155.2,2,   154.7,2,  125.97,2,   34.91,2,    0.00,2,    2.45,2,   0.004,2,  -0.002,2,-999.000,9,-999.0000,9, -999.00,9, -999.00,9,  -999.0,9,  -999.0,-999.000,9,-999.000,-999.0000,-999.000,   1.5786,-999.000
  316N138_7,       P14C,      11,          1,         35,         35,2,19920903,       0053,   -32.6117,   175.5533,     -999.0,  3628.6,   1.8601,  34.6833,2,  34.6831,2,    154.9,2,   154.6,2,  125.96,2,   34.87,2,    0.00,2,    2.45,2,-999.000,9,-999.000,9,-999.000,9,-999.0000,9, -999.00,9, -999.00,9,  -999.0,9,  -999.0,-999.000,9,-999.000,-999.0000,-999.000,   1.5714,-999.000
  316N138_7,       P14C,      11,          1,         36,         36,2,19920903,       0053,   -32.6117,   175.5533,     -999.0,  3905.2,   1.8848,  34.6837,2,  34.6835,2,    154.1,2,   154.3,2,  126.17,2,   34.87,2,    0.00,2,    2.45,2,   0.002,2,  -0.011,2,-999.000,9,-999.0000,9, -999.00,9, -999.00,9,  -999.0,9,  -999.0,-999.000,9,-999.000,-999.0000,-999.000,   1.5656,-999.000