BOTTLE,20211105CCHSIORKP
EXPOCODE,SECT_ID,STNNBR,CASTNO,SAMPNO,BTLNBR,BTLNBR_FLAG_W,DATE,TIME,LATITUDE,LONGITUDE,DEPTH,CTDPRS,CTDTMP,CTDSAL,CTDSAL_FLAG_W,SALNTY,SALNTY_FLAG_W,CTDOXY,CTDOXY_FLAG_W,OXYGEN,OXYGEN_FLAG_W,SILCAT,SILCAT_FLAG_W,NITRAT,NITRAT_FLAG_W,NITRIT,NITRIT_FLAG_W,PHSPHT,PHSPHT_FLAG_W,CFC-11,CFC-11_FLAG_W,CFC-12,CFC-12_FLAG_W,TRITUM,TRITUM_FLAG_W,HELIUM,HELIUM_FLAG_W,DELHE3,DELHE3_FLAG_W,DELC13,DELC13_FLAG_W,DELC14,DELC14_FLAG_W,C14ERR,NEON,NEON_FLAG_W,NEONER,HELIER,DELHER,THETA,TRITER
,,,,,,,,,,,METERS,DBAR,ITS-90,PSS-78,,PSS-78,,UMOL/KG,,UMOL/KG,,UMOL/KG,,UMOL/KG,,UMOL/KG,,UMOL/KG,,PMOL/KG,,PMOL/KG,,TU,,NMOL/KG,,PERCNT,,/MILLE,,/MILLE,,/MILLE,NMOL/KG,,NMOL/KG,NMOL/KG,PERCNT,DEG C,TU
  316N138_7,       P14C,      26,          1,          1,          1,4,19920906,       1558,   -26.1033,   176.6650,       4411,     3.1,  20.0805,  35.6738,2,  35.5806,4,    225.8,2,   212.7,4,    2.16,4,    2.27,4,    0.05,4,    0.28,4,-999.000,9,-999.000,9,   0.844,2,   1.8060,2,   -0.80,2, -999.00,9,  -999.0,9,  -999.0,   7.331,2,   0.037,   0.0070,   0.110,  20.0799,   0.005
  316N138_7,       P14C,      26,          1,          2,          2,2,19920906,       1558,   -26.1033,   176.6650,       4411,    17.6,  20.0794,  35.6751,2,  35.6768,2,    224.2,2,   226.1,2,    1.53,2,    0.00,2,    0.00,2,    0.10,2,-999.000,9,-999.000,9,   0.988,2,   1.8040,2,   -0.91,2, -999.00,9,  -999.0,9,  -999.0,   7.267,2,   0.036,   0.0070,   0.110,  20.0761,   0.007
  316N138_7,       P14C,      26,          1,          3,          3,2,19920906,       1558,   -26.1033,   176.6650,       4411,    57.0,  19.5420,  35.6939,2,  35.6951,2,    222.2,2,   222.9,2,    1.51,2,    0.04,2,    0.08,2,    0.12,2,-999.000,9,-999.000,9,   0.726,2,   1.8010,2,   -1.00,2, -999.00,9,  -999.0,9,  -999.0,   7.272,2,   0.036,   0.0070,   0.110,  19.5316,   0.007
  316N138_7,       P14C,      26,          1,          4,          4,2,19920906,       1558,   -26.1033,   176.6650,       4411,   105.9,  19.1001,  35.6841,2,  35.6845,2,    213.7,2,   214.8,2,    1.48,2,    1.04,2,    0.18,2,    0.20,2,-999.000,9,-999.000,9,   0.796,2,   1.8120,2,   -0.72,2, -999.00,9,  -999.0,9,  -999.0,   7.359,2,   0.037,   0.0070,   0.110,  19.0811,   0.007
  316N138_7,       P14C,      26,          1,          5,          5,2,19920906,       1558,   -26.1033,   176.6650,       4411,   153.9,  18.5358,  35.6815,2,  35.6839,2,    209.0,2,   216.1,2,    1.45,2,    1.26,2,    0.21,2,    0.23,2,-999.000,9,-999.000,9,   0.726,2,   1.8400,2,   -0.85,2, -999.00,9,  -999.0,9,  -999.0,   7.465,2,   0.037,   0.0080,   0.110,  18.5088,   0.007
  316N138_7,       P14C,      26,          1,          6,          6,3,19920906,       1558,   -26.1033,   176.6650,       4411,   202.5,  18.1837,  35.6808,2,  35.6813,4,    222.9,2,   219.8,4,    1.42,4,    1.29,4,    0.22,4,    0.23,4,-999.000,9,-999.000,9,-999.000,9,-999.0000,9, -999.00,9, -999.00,9,  -999.0,9,  -999.0,-999.000,9,-999.000,-999.0000,-999.000,  18.1485,-999.000
  316N138_7,       P14C,      26,          1,          7,          7,3,19920906,       1558,   -26.1033,   176.6650,       4411,   249.9,  17.3365,  35.5733,2,  35.5771,4,    211.8,2,   205.9,4,    1.79,4,    3.79,4,    0.01,4,    0.38,4,-999.000,9,-999.000,9,-999.000,9,-999.0000,9, -999.00,9, -999.00,9,  -999.0,9,  -999.0,-999.000,9,-999.000,-999.0000,-999.000,  17.2944,-999.000
  316N138_7,       P14C,      26,          1,          8,          8,2,19920906,       1558,   -26.1033,   176.6650,       4411,   296.0,  15.9860,  35.4393,2,  35.4392,2,    195.1,2,   194.7,2,    2.96,2,    6.80,2,    0.01,2,    0.58,2,-999.000,9,-999.000,9,   0.656,2,   1.8230,2,   -0.31,2, -999.00,9,  -999.0,9,  -999.0,   7.517,2,   0.038,   0.0070,   0.110,  15.9389,   0.005
  316N138_7,       P14C,      26,          1,          9,          9,2,19920906,       1558,   -26.1033,   176.6650,       4411,   345.6,  14.8889,  35.3360,2,  35.3353,2,    194.1,2,   194.0,2,    3.33,2,    8.54,2,    0.01,2,    0.70,2,-999.000,9,-999.000,9,-999.000,9,-999.0000,9, -999.00,9, -999.00,9,  -999.0,9,  -999.0,-999.000,9,-999.000,-999.0000,-999.000,  14.8364,-999.000
  316N138_7,       P14C,      26,          1,         10,         10,2,19920906,       1558,   -26.1033,   176.6650,       4411,   392.7,  13.2468,  35.1260,2,  35.1307,2,    185.5,2,   185.6,2,    4.89,2,   12.01,2,    0.01,2,    0.92,2,-999.000,9,-999.000,9,   0.499,2,   1.8450,2,    0.85,2, -999.00,9,  -999.0,9,  -999.0,   7.716,2,   0.039,   0.0080,   0.110,  13.1916,   0.004
  316N138_7,       P14C,      26,          1,         11,         11,2,19920906,       1558,   -26.1033,   176.6650,       4411,   489.0,  11.2253,  34.8896,2,  34.8894,2,    187.9,2,   188.8,2,    6.46,2,   15.83,2,    0.01,2,    1.17,2,-999.000,9,-999.000,9,   0.367,2,   1.8650,2,    1.05,2, -999.00,9,  -999.0,9,  -999.0,   7.825,2,   0.039,   0.0080,   0.110,  11.1635,   0.004
  316N138_7,       P14C,      26,          1,         12,         12,2,19920906,       1558,   -26.1033,   176.6650,       4411,   587.4,   9.1197,  34.6427,2,  34.6433,2,    197.0,2,   197.6,2,    8.62,2,   19.74,2,    0.00,2,    1.43,2,-999.000,9,-999.000,9,-999.000,9,-999.0000,9, -999.00,9, -999.00,9,  -999.0,9,  -999.0,-999.000,9,-999.000,-999.0000,-999.000,   9.0542,-999.000
  316N138_7,       P14C,      26,          1,         13,         13,2,19920906,       1558,   -26.1033,   176.6650,       4411,   682.9,   7.3842,  34.4676,2,  34.4689,2,    205.9,2,   206.2,2,   12.18,2,   23.36,2,    0.00,2,    1.65,2,-999.000,9,-999.000,9,   0.159,2,   1.8690,2,    1.18,2, -999.00,9,  -999.0,9,  -999.0,   8.022,2,   0.040,   0.0080,   0.110,   7.3166,   0.003
  316N138_7,       P14C,      26,          1,         14,         14,2,19920906,       1558,   -26.1033,   176.6650,       4411,   779.4,   6.4140,  34.3996,2,  34.4003,2,    201.9,2,   204.6,2,   17.33,2,   26.01,2,    0.00,2,    1.82,2,-999.000,9,-999.000,9,   0.090,2,   1.8880,2,    2.00,2, -999.00,9,  -999.0,9,  -999.0,   8.153,2,   0.041,   0.0080,   0.110,   6.3420,   0.002
  316N138_7,       P14C,      26,          1,         15,         15,2,19920906,       1558,   -26.1033,   176.6650,       4411,   875.7,   5.6926,  34.3774,2,  34.3772,2,    198.0,2,   198.0,2,   24.88,2,   28.23,2,    0.00,2,    1.99,2,-999.000,9,-999.000,9,-999.000,9,-999.0000,9, -999.00,9, -999.00,9,  -999.0,9,  -999.0,-999.000,9,-999.000,-999.0000,-999.000,   5.6160,-999.000
  316N138_7,       P14C,      26,          1,         16,         16,2,19920906,       1558,   -26.1033,   176.6650,       4411,   974.4,   4.9283,  34.3857,2,  34.3864,2,    187.3,2,   189.4,2,   35.41,2,   30.33,2,    0.00,2,    2.12,2,-999.000,9,-999.000,9,   0.030,2,   1.9140,2,    5.24,2, -999.00,9,  -999.0,9,  -999.0,   8.252,2,   0.041,   0.0080,   0.110,   4.8480,   0.002
  316N138_7,       P14C,      26,          1,         17,         17,2,19920906,       1558,   -26.1033,   176.6650,       4411,  1075.5,   4.2236,  34.4322,2,  34.4321,2,    179.8,2,   178.0,2,   52.34,2,   32.10,2,    0.00,2,    2.24,2,-999.000,9,-999.000,9,-999.000,9,-999.0000,9, -999.00,9, -999.00,9,  -999.0,9,  -999.0,-999.000,9,-999.000,-999.0000,-999.000,   4.1399,-999.000
  316N138_7,       P14C,      26,          1,         18,         18,2,19920906,       1558,   -26.1033,   176.6650,       4411,  1171.7,   3.7086,  34.4739,2,  34.4752,2,    169.9,2,   169.7,2,   66.50,2,   33.22,2,    0.00,2,    2.33,2,-999.000,9,-999.000,9,   0.012,2,   1.9510,2,   12.45,2, -999.00,9,  -999.0,9,  -999.0,   8.358,2,   0.042,   0.0080,   0.110,   3.6211,   0.002
  316N138_7,       P14C,      26,          1,         19,         19,2,19920906,       1558,   -26.1033,   176.6650,       4411,  1268.1,   3.3809,  34.5190,2,  34.5199,2,    163.6,2,   164.1,2,   78.10,2,   33.70,2,    0.00,2,    2.37,2,-999.000,9,-999.000,9,-999.000,9,-999.0000,9, -999.00,9, -999.00,9,  -999.0,9,  -999.0,-999.000,9,-999.000,-999.0000,-999.000,   3.2884,-999.000
  316N138_7,       P14C,      26,          1,         20,         20,2,19920906,       1558,   -26.1033,   176.6650,       4411,  1361.8,   3.1149,  34.5529,2,  34.5530,2,    158.4,2,   158.8,2,   88.55,2,   34.22,2,    0.00,2,    2.41,2,-999.000,9,-999.000,9,   0.009,2,   1.9710,2,   18.10,2, -999.00,9,  -999.0,9,  -999.0,   8.417,2,   0.042,   0.0080,   0.110,   3.0172,   0.002
  316N138_7,       P14C,      26,          1,         21,         21,2,19920906,       1558,   -26.1033,   176.6650,       4411,  1458.2,   2.9477,  34.5721,2,  34.5718,2,    155.6,2,   156.7,2,   93.78,2,   34.44,2,    0.00,2,    2.42,2,-999.000,9,-999.000,9,-999.000,9,-999.0000,9, -999.00,9, -999.00,9,  -999.0,9,  -999.0,-999.000,9,-999.000,-999.0000,-999.000,   2.8439,-999.000
  316N138_7,       P14C,      26,          1,         22,         22,2,19920906,       1558,   -26.1033,   176.6650,       4411,  1555.6,   2.7757,  34.5882,2,  34.5879,2,    154.6,2,   154.5,2,   99.24,2,   34.61,2,    0.00,2,    2.45,2,-999.000,9,-999.000,9,   0.009,2,   1.9860,2,   20.68,2, -999.00,9,  -999.0,9,  -999.0,   8.447,2,   0.042,   0.0080,   0.110,   2.6658,   0.002
  316N138_7,       P14C,      26,          1,         23,         23,2,19920906,       1558,   -26.1033,   176.6650,       4411,  1747.3,   2.5027,  34.6139,2,  34.6142,2,    151.8,2,   152.3,2,  107.79,2,   35.01,2,    0.00,2,    2.46,2,-999.000,9,-999.000,9,   0.010,2,   1.9890,2,   22.18,2, -999.00,9,  -999.0,9,  -999.0,   8.429,2,   0.042,   0.0080,   0.110,   2.3803,   0.002
  316N138_7,       P14C,      26,          1,         24,         24,2,19920906,       1558,   -26.1033,   176.6650,       4411,  1946.3,   2.3296,  34.6301,2,  34.6313,2,    151.3,2,   152.0,2,  113.11,2,   35.09,2,    0.00,2,    2.48,2,-999.000,9,-999.000,9,-999.000,9,-999.0000,9, -999.00,9, -999.00,9,  -999.0,9,  -999.0,-999.000,9,-999.000,-999.0000,-999.000,   2.1928,-999.000
  316N138_7,       P14C,      26,          1,         25,         25,2,19920906,       1558,   -26.1033,   176.6650,       4411,  2142.9,   2.1793,  34.6449,2,  34.6452,2,    152.4,2,   151.9,2,  117.01,2,   35.31,2,    0.00,2,    2.49,2,-999.000,9,-999.000,9,-999.000,9,-999.0000,9, -999.00,9, -999.00,9,  -999.0,9,  -999.0,-999.000,9,-999.000,-999.0000,-999.000,   2.0278,-999.000
  316N138_7,       P14C,      26,          1,         26,         26,2,19920906,       1558,   -26.1033,   176.6650,       4411,  2338.3,   2.0532,  34.6571,2,  34.6574,2,    153.0,2,   152.9,2,  120.10,2,   35.23,2,    0.00,2,    2.49,2,-999.000,9,-999.000,9,-999.000,9,-999.0000,9, -999.00,9, -999.00,9,  -999.0,9,  -999.0,-999.000,9,-999.000,-999.0000,-999.000,   1.8865,-999.000
  316N138_7,       P14C,      26,          1,         27,         27,2,19920906,       1558,   -26.1033,   176.6650,       4411,  2531.6,   1.9771,  34.6647,2,  34.6650,2,    154.3,2,   153.9,2,  121.54,2,   35.14,2,    0.00,2,    2.48,2,-999.000,9,-999.000,9,-999.000,9,-999.0000,9, -999.00,9, -999.00,9,  -999.0,9,  -999.0,-999.000,9,-999.000,-999.0000,-999.000,   1.7943,-999.000
  316N138_7,       P14C,      26,          1,         28,         28,2,19920906,       1558,   -26.1033,   176.6650,       4411,  2733.2,   1.9113,  34.6714,2,  34.6719,2,    154.6,2,   155.0,2,  123.39,2,   35.19,2,    0.00,2,    2.46,2,-999.000,9,-999.000,9,-999.000,9,-999.0000,9, -999.00,9, -999.00,9,  -999.0,9,  -999.0,-999.000,9,-999.000,-999.0000,-999.000,   1.7111,-999.000
  316N138_7,       P14C,      26,          1,         29,         29,2,19920906,       1558,   -26.1033,   176.6650,       4411,  2935.0,   1.8623,  34.6762,2,  34.6768,2,    155.4,2,   156.9,3,  125.04,2,   35.19,2,    0.00,2,    2.47,2,-999.000,9,-999.000,9,-999.000,9,-999.0000,9, -999.00,9, -999.00,9,  -999.0,9,  -999.0,-999.000,9,-999.000,-999.0000,-999.000,   1.6439,-999.000
  316N138_7,       P14C,      26,          1,         30,         30,2,19920906,       1558,   -26.1033,   176.6650,       4411,  3135.9,   1.8435,  34.6793,2,  34.6792,2,    155.8,2,   156.1,2,  125.86,2,   35.14,2,    0.00,2,    2.47,2,-999.000,9,-999.000,9,-999.000,9,-999.0000,9, -999.00,9, -999.00,9,  -999.0,9,  -999.0,-999.000,9,-999.000,-999.0000,-999.000,   1.6057,-999.000
  316N138_7,       P14C,      26,          1,         31,         31,2,19920906,       1558,   -26.1033,   176.6650,       4411,  3337.2,   1.8369,  34.6807,2,  34.6813,2,    156.2,2,   156.3,2,  126.68,2,   35.10,2,    0.00,2,    2.47,2,   0.001,2,   0.001,2,-999.000,9,-999.0000,9, -999.00,9, -999.00,9,  -999.0,9,  -999.0,-999.000,9,-999.000,-999.0000,-999.000,   1.5790,-999.000
  316N138_7,       P14C,      26,          1,         32,         32,2,19920906,       1558,   -26.1033,   176.6650,       4411,  3539.5,   1.8390,  34.6823,2,  34.6825,2,    155.8,2,   156.3,2,  127.29,2,   35.10,2,    0.00,2,    2.47,2,  -0.002,2,  -0.002,2,-999.000,9,-999.0000,9, -999.00,9, -999.00,9,  -999.0,9,  -999.0,-999.000,9,-999.000,-999.0000,-999.000,   1.5602,-999.000
  316N138_7,       P14C,      26,          1,         33,         33,2,19920906,       1558,   -26.1033,   176.6650,       4411,  3744.2,   1.8473,  34.6825,2,  34.6827,2,    156.9,2,   156.4,2,  127.26,2,   35.10,2,    0.00,2,    2.46,2,   0.000,2,  -0.003,2,-999.000,9,-999.0000,9, -999.00,9, -999.00,9,  -999.0,9,  -999.0,-999.000,9,-999.000,-999.0000,-999.000,   1.5466,-999.000
  316N138_7,       P14C,      26,          1,         34,         34,2,19920906,       1558,   -26.1033,   176.6650,       4411,  3950.6,   1.8603,  34.6831,2,  34.6837,2,    156.4,2,   156.4,2,  127.66,2,   35.10,2,    0.00,2,    2.45,2,   0.000,2,   0.002,2,-999.000,9,-999.0000,9, -999.00,9, -999.00,9,  -999.0,9,  -999.0,-999.000,9,-999.000,-999.0000,-999.000,   1.5368,-999.000
  316N138_7,       P14C,      26,          1,         35,         35,2,19920906,       1558,   -26.1033,   176.6650,       4411,  4158.5,   1.8774,  34.6840,2,  34.6839,2,    157.2,2,   156.4,2,  127.85,2,   35.15,2,    0.00,2,    2.47,2,   0.002,2,   0.004,2,-999.000,9,-999.0000,9, -999.00,9, -999.00,9,  -999.0,9,  -999.0,-999.000,9,-999.000,-999.0000,-999.000,   1.5302,-999.000
  316N138_7,       P14C,      26,          1,         37,         37,2,19920906,       1558,   -26.1033,   176.6650,       4411,  4454.5,   1.9048,  34.6846,2,  34.6843,2,    155.7,2,   156.8,2,  127.62,2,   35.10,2,    0.00,2,    2.47,2,   0.000,2,  -0.001,2,-999.000,9,-999.0000,9, -999.00,9, -999.00,9,  -999.0,9,  -999.0,-999.000,9,-999.000,-999.0000,-999.000,   1.5226,-999.000