BOTTLE,20211105CCHSIORKP
EXPOCODE,SECT_ID,STNNBR,CASTNO,SAMPNO,BTLNBR,BTLNBR_FLAG_W,DATE,TIME,LATITUDE,LONGITUDE,DEPTH,CTDPRS,CTDTMP,CTDSAL,CTDSAL_FLAG_W,SALNTY,SALNTY_FLAG_W,CTDOXY,CTDOXY_FLAG_W,OXYGEN,OXYGEN_FLAG_W,SILCAT,SILCAT_FLAG_W,NITRAT,NITRAT_FLAG_W,NITRIT,NITRIT_FLAG_W,PHSPHT,PHSPHT_FLAG_W,CFC-11,CFC-11_FLAG_W,CFC-12,CFC-12_FLAG_W,TRITUM,TRITUM_FLAG_W,HELIUM,HELIUM_FLAG_W,DELHE3,DELHE3_FLAG_W,DELC13,DELC13_FLAG_W,DELC14,DELC14_FLAG_W,C14ERR,NEON,NEON_FLAG_W,NEONER,HELIER,DELHER,THETA,TRITER
,,,,,,,,,,,METERS,DBAR,ITS-90,PSS-78,,PSS-78,,UMOL/KG,,UMOL/KG,,UMOL/KG,,UMOL/KG,,UMOL/KG,,UMOL/KG,,PMOL/KG,,PMOL/KG,,TU,,NMOL/KG,,PERCNT,,/MILLE,,/MILLE,,/MILLE,NMOL/KG,,NMOL/KG,NMOL/KG,PERCNT,DEG C,TU
  316N138_7,       P14C,      31,          1,          1,          1,2,19920907,       2203,   -23.9600,   177.0283,       4441,     1.8,  22.5188,  35.6969,2,  35.6995,2,    212.3,2,   217.0,2,    1.58,2,    0.04,2,    0.00,2,    0.09,2,   1.965,2,   1.102,2,-999.000,9,-999.0000,9, -999.00,9, -999.00,9,  -999.0,9,  -999.0,-999.000,9,-999.000,-999.0000,-999.000,  22.5185,-999.000
  316N138_7,       P14C,      31,          1,          2,          2,2,19920907,       2203,   -23.9600,   177.0283,       4441,    16.1,  22.5188,  35.6963,2,  35.6983,2,    211.1,2,   214.4,4,    1.55,2,    0.04,2,    0.00,2,    0.09,2,-999.000,9,-999.000,9,-999.000,9,-999.0000,9, -999.00,9, -999.00,9,  -999.0,9,  -999.0,-999.000,9,-999.000,-999.0000,-999.000,  22.5156,-999.000
  316N138_7,       P14C,      31,          1,          3,          3,2,19920907,       2203,   -23.9600,   177.0283,       4441,    56.0,  22.4027,  35.6845,2,  35.6845,2,    215.9,2,   217.5,2,    1.53,2,    0.04,2,    0.00,2,    0.09,2,   2.044,2,   1.071,2,-999.000,9,-999.0000,9, -999.00,9, -999.00,9,  -999.0,9,  -999.0,-999.000,9,-999.000,-999.0000,-999.000,  22.3915,-999.000
  316N138_7,       P14C,      31,          1,          4,          4,2,19920907,       2203,   -23.9600,   177.0283,       4441,   105.9,  21.9949,  35.6516,2,  35.6553,2,    203.8,2,   215.1,2,    1.30,2,    0.04,2,    0.01,2,    0.08,2,   2.024,2,   1.100,2,-999.000,9,-999.0000,9, -999.00,9, -999.00,9,  -999.0,9,  -999.0,-999.000,9,-999.000,-999.0000,-999.000,  21.9739,-999.000
  316N138_7,       P14C,      31,          1,          5,          5,2,19920907,       2203,   -23.9600,   177.0283,       4441,   156.1,  20.7622,  35.6376,2,  35.6383,2,    190.1,2,   184.4,2,    1.48,2,    2.68,2,    0.03,2,    0.30,2,   1.907,2,   1.016,2,-999.000,9,-999.0000,9, -999.00,9, -999.00,9,  -999.0,9,  -999.0,-999.000,9,-999.000,-999.0000,-999.000,  20.7324,-999.000
  316N138_7,       P14C,      31,          1,          6,          6,2,19920907,       2203,   -23.9600,   177.0283,       4441,   206.4,  19.7435,  35.6174,2,  35.6182,2,    188.8,2,   184.1,4,    1.45,2,    3.66,2,    0.01,2,    0.37,2,   1.969,2,   1.027,2,-999.000,9,-999.0000,9, -999.00,9, -999.00,9,  -999.0,9,  -999.0,-999.000,9,-999.000,-999.0000,-999.000,  19.7055,-999.000
  316N138_7,       P14C,      31,          1,          7,          7,2,19920907,       2203,   -23.9600,   177.0283,       4441,   256.9,  18.5083,  35.5828,2,  35.5887,2,    185.4,2,   184.5,2,    1.82,2,    4.58,2,    0.01,2,    0.44,2,   1.909,2,   0.998,2,-999.000,9,-999.0000,9, -999.00,9, -999.00,9,  -999.0,9,  -999.0,-999.000,9,-999.000,-999.0000,-999.000,  18.4631,-999.000
  316N138_7,       P14C,      31,          1,          8,          8,2,19920907,       2203,   -23.9600,   177.0283,       4441,   307.0,  17.3043,  35.5067,2,  35.5134,2,    189.2,2,   188.6,2,    2.39,2,    5.62,2,    0.01,2,    0.51,2,   1.838,2,   0.960,2,-999.000,9,-999.0000,9, -999.00,9, -999.00,9,  -999.0,9,  -999.0,-999.000,9,-999.000,-999.0000,-999.000,  17.2527,-999.000
  316N138_7,       P14C,      31,          1,          9,          9,2,19920907,       2203,   -23.9600,   177.0283,       4441,   357.0,  15.8569,  35.3666,2,  35.3620,2,    186.7,2,   183.9,2,    2.95,2,    7.96,2,    0.01,2,    0.67,2,-999.000,9,-999.000,9,-999.000,9,-999.0000,9, -999.00,9, -999.00,9,  -999.0,9,  -999.0,-999.000,9,-999.000,-999.0000,-999.000,  15.8003,-999.000
  316N138_7,       P14C,      31,          1,         10,         10,2,19920907,       2203,   -23.9600,   177.0283,       4441,   407.0,  14.4787,  35.2056,2,  35.2056,2,    182.7,2,   181.2,2,    4.11,2,   10.30,2,    0.01,2,    0.83,2,   1.462,2,   0.749,2,-999.000,9,-999.0000,9, -999.00,9, -999.00,9,  -999.0,9,  -999.0,-999.000,9,-999.000,-999.0000,-999.000,  14.4180,-999.000
  316N138_7,       P14C,      31,          1,         11,         11,2,19920907,       2203,   -23.9600,   177.0283,       4441,   506.9,  11.5046,  34.8860,2,  34.8840,2,    184.3,2,   186.1,2,    6.25,2,   15.22,2,    0.01,2,    1.13,2,   1.132,2,   0.577,2,-999.000,9,-999.0000,9, -999.00,9, -999.00,9,  -999.0,9,  -999.0,-999.000,9,-999.000,-999.0000,-999.000,  11.4394,-999.000
  316N138_7,       P14C,      31,          1,         12,         12,2,19920907,       2203,   -23.9600,   177.0283,       4441,   606.6,   8.7394,  34.5831,2,  34.5790,2,    200.9,2,   202.2,2,    8.39,2,   20.24,2,    0.01,2,    1.44,2,   0.800,2,   0.416,2,-999.000,9,-999.0000,9, -999.00,9, -999.00,9,  -999.0,9,  -999.0,-999.000,9,-999.000,-999.0000,-999.000,   8.6734,-999.000
  316N138_7,       P14C,      31,          1,         13,         13,2,19920907,       2203,   -23.9600,   177.0283,       4441,   707.3,   7.0643,  34.4336,2,  34.4330,2,    206.4,2,   208.9,2,   12.69,2,   23.93,2,    0.00,2,    1.68,2,   0.471,2,   0.255,2,-999.000,9,-999.0000,9, -999.00,9, -999.00,9,  -999.0,9,  -999.0,-999.000,9,-999.000,-999.0000,-999.000,   6.9959,-999.000
  316N138_7,       P14C,      31,          1,         14,         14,2,19920907,       2203,   -23.9600,   177.0283,       4441,   807.3,   6.0035,  34.3812,2,  34.3830,2,    200.4,2,   199.4,2,   21.52,2,   27.42,2,    0.00,2,    1.91,2,   0.196,2,   0.112,2,-999.000,9,-999.0000,9, -999.00,9, -999.00,9,  -999.0,9,  -999.0,-999.000,9,-999.000,-999.0000,-999.000,   5.9314,-999.000
  316N138_7,       P14C,      31,          1,         15,         15,2,19920907,       2203,   -23.9600,   177.0283,       4441,   908.4,   5.2533,  34.3814,2,  34.3803,2,    189.6,2,   188.4,2,   31.52,2,   29.82,2,    0.00,2,    2.07,2,   0.086,2,   0.049,2,-999.000,9,-999.0000,9, -999.00,9, -999.00,9,  -999.0,9,  -999.0,-999.000,9,-999.000,-999.0000,-999.000,   5.1767,-999.000
  316N138_7,       P14C,      31,          1,         16,         16,2,19920907,       2203,   -23.9600,   177.0283,       4441,  1009.7,   4.6809,  34.4056,2,  34.4042,2,    180.8,2,   180.5,2,   42.31,2,   31.35,2,    0.00,2,    2.18,2,   0.039,2,   0.022,2,-999.000,9,-999.0000,9, -999.00,9, -999.00,9,  -999.0,9,  -999.0,-999.000,9,-999.000,-999.0000,-999.000,   4.5993,-999.000
  316N138_7,       P14C,      31,          1,         17,         17,2,19920907,       2203,   -23.9600,   177.0283,       4441,  1110.3,   4.2438,  34.4328,2,  34.4337,2,    173.8,2,   175.1,2,   52.72,2,   32.24,2,    0.00,2,    2.25,2,   0.028,2,   0.030,2,-999.000,9,-999.0000,9, -999.00,9, -999.00,9,  -999.0,9,  -999.0,-999.000,9,-999.000,-999.0000,-999.000,   4.1570,-999.000
  316N138_7,       P14C,      31,          1,         18,         18,2,19920907,       2203,   -23.9600,   177.0283,       4441,  1210.9,   3.7354,  34.4826,2,  34.4804,2,    166.2,2,   167.5,2,   67.27,2,   33.22,2,    0.00,2,    2.31,2,   0.007,2,   0.003,2,-999.000,9,-999.0000,9, -999.00,9, -999.00,9,  -999.0,9,  -999.0,-999.000,9,-999.000,-999.0000,-999.000,   3.6444,-999.000
  316N138_7,       P14C,      31,          1,         19,         19,2,19920907,       2203,   -23.9600,   177.0283,       4441,  1312.0,   3.3896,  34.5231,2,  34.5229,2,    161.3,2,   160.9,2,   79.30,2,   33.73,2,    0.00,2,    2.37,2,   0.004,2,  -0.002,2,-999.000,9,-999.0000,9, -999.00,9, -999.00,9,  -999.0,9,  -999.0,-999.000,9,-999.000,-999.0000,-999.000,   3.2933,-999.000
  316N138_7,       P14C,      31,          1,         20,         20,2,19920907,       2203,   -23.9600,   177.0283,       4441,  1411.8,   3.0734,  34.5557,2,  34.5559,2,    156.4,2,   156.4,2,   89.60,2,   34.29,2,    0.00,2,    2.41,2,  -0.002,2,   0.001,2,-999.000,9,-999.0000,9, -999.00,9, -999.00,9,  -999.0,9,  -999.0,-999.000,9,-999.000,-999.0000,-999.000,   2.9721,-999.000
  316N138_7,       P14C,      31,          1,         21,         21,2,19920907,       2203,   -23.9600,   177.0283,       4441,  1512.4,   2.8817,  34.5757,2,  34.5759,2,    153.9,2,   155.4,2,   95.96,2,   34.59,2,    0.00,2,    2.43,2,   0.002,2,   0.004,2,-999.000,9,-999.0000,9, -999.00,9, -999.00,9,  -999.0,9,  -999.0,-999.000,9,-999.000,-999.0000,-999.000,   2.7742,-999.000
  316N138_7,       P14C,      31,          1,         22,         22,2,19920907,       2203,   -23.9600,   177.0283,       4441,  1614.7,   2.7553,  34.5888,2,  34.5890,2,    151.8,2,   153.5,2,   99.72,2,   34.72,2,    0.00,2,    2.44,2,  -0.001,2,   0.000,2,-999.000,9,-999.0000,9, -999.00,9, -999.00,9,  -999.0,9,  -999.0,-999.000,9,-999.000,-999.0000,-999.000,   2.6408,-999.000
  316N138_7,       P14C,      31,          1,         23,         23,2,19920907,       2203,   -23.9600,   177.0283,       4441,  1817.9,   2.5085,  34.6121,2,  34.6127,2,    151.8,2,   151.7,2,  107.34,2,   35.02,2,    0.00,2,    2.46,2,-999.000,9,-999.000,9,-999.000,9,-999.0000,9, -999.00,9, -999.00,9,  -999.0,9,  -999.0,-999.000,9,-999.000,-999.0000,-999.000,   2.3801,-999.000
  316N138_7,       P14C,      31,          1,         24,         24,2,19920907,       2203,   -23.9600,   177.0283,       4441,  2020.3,   2.3116,  34.6310,2,  34.6321,2,    151.2,2,   151.6,2,  113.18,2,   35.10,2,    0.00,2,    2.47,2,  -0.001,2,   0.000,2,-999.000,9,-999.0000,9, -999.00,9, -999.00,9,  -999.0,9,  -999.0,-999.000,9,-999.000,-999.0000,-999.000,   2.1687,-999.000
  316N138_7,       P14C,      31,          1,         25,         25,2,19920907,       2203,   -23.9600,   177.0283,       4441,  2219.9,   2.1562,  34.6462,2,  34.6469,2,    151.8,2,   152.0,2,  117.63,2,   35.15,2,    0.00,2,    2.46,2,-999.000,9,-999.000,9,-999.000,9,-999.0000,9, -999.00,9, -999.00,9,  -999.0,9,  -999.0,-999.000,9,-999.000,-999.0000,-999.000,   1.9983,-999.000
  316N138_7,       P14C,      31,          1,         26,         26,2,19920907,       2203,   -23.9600,   177.0283,       4441,  2422.1,   2.0415,  34.6574,2,  34.6584,2,    153.8,2,   152.9,2,  119.84,2,   35.10,2,    0.00,2,    2.46,2,-999.000,9,-999.000,9,-999.000,9,-999.0000,9, -999.00,9, -999.00,9,  -999.0,9,  -999.0,-999.000,9,-999.000,-999.0000,-999.000,   1.8675,-999.000
  316N138_7,       P14C,      31,          1,         27,         27,2,19920907,       2203,   -23.9600,   177.0283,       4441,  2622.1,   1.9572,  34.6662,2,  34.6672,2,    154.2,2,   154.1,2,  121.64,2,   35.02,2,    0.00,2,    2.45,2,   0.001,2,  -0.007,2,-999.000,9,-999.0000,9, -999.00,9, -999.00,9,  -999.0,9,  -999.0,-999.000,9,-999.000,-999.0000,-999.000,   1.7664,-999.000
  316N138_7,       P14C,      31,          1,         28,         28,2,19920907,       2203,   -23.9600,   177.0283,       4441,  2820.1,   1.8980,  34.6724,2,  34.6731,2,    155.6,2,   154.9,2,  123.45,2,   35.02,2,    0.00,2,    2.45,2,-999.000,9,-999.000,9,-999.000,9,-999.0000,9, -999.00,9, -999.00,9,  -999.0,9,  -999.0,-999.000,9,-999.000,-999.0000,-999.000,   1.6898,-999.000
  316N138_7,       P14C,      31,          1,         29,         29,2,19920907,       2203,   -23.9600,   177.0283,       4441,  3019.0,   1.8631,  34.6761,2,  34.6770,2,    155.8,2,   155.6,2,  124.23,2,   35.02,2,    0.00,2,    2.45,2,-999.000,9,-999.000,9,-999.000,9,-999.0000,9, -999.00,9, -999.00,9,  -999.0,9,  -999.0,-999.000,9,-999.000,-999.0000,-999.000,   1.6365,-999.000
  316N138_7,       P14C,      31,          1,         30,         30,2,19920907,       2203,   -23.9600,   177.0283,       4441,  3220.1,   1.8414,  34.6788,2,  34.6790,2,    156.4,2,   156.8,2,  125.63,2,   35.10,2,    0.00,2,    2.45,2,   0.001,2,   0.002,2,-999.000,9,-999.0000,9, -999.00,9, -999.00,9,  -999.0,9,  -999.0,-999.000,9,-999.000,-999.0000,-999.000,   1.5953,-999.000
  316N138_7,       P14C,      31,          1,         31,         31,2,19920907,       2203,   -23.9600,   177.0283,       4441,  3419.3,   1.8322,  34.6809,2,  34.6817,2,    156.6,2,   156.6,2, -999.00,9, -999.00,9, -999.00,9, -999.00,9,-999.000,9,-999.000,9,-999.000,9,-999.0000,9, -999.00,9, -999.00,9,  -999.0,9,  -999.0,-999.000,9,-999.000,-999.0000,-999.000,   1.5660,-999.000
  316N138_7,       P14C,      31,          1,         32,         32,2,19920907,       2203,   -23.9600,   177.0283,       4441,  3629.9,   1.8364,  34.6819,2,  34.6827,2,    156.6,2,   157.6,3,  127.03,2,   35.02,2,    0.00,2,    2.44,2,-999.000,9,-999.000,9,-999.000,9,-999.0000,9, -999.00,9, -999.00,9,  -999.0,9,  -999.0,-999.000,9,-999.000,-999.0000,-999.000,   1.5481,-999.000
  316N138_7,       P14C,      31,          1,         33,         33,2,19920907,       2203,   -23.9600,   177.0283,       4441,  3844.0,   1.8484,  34.6826,2,  34.6829,2,    156.4,2,   156.5,2,  127.19,2,   35.06,2,    0.00,2,    2.45,2,   0.002,2,  -0.007,2,-999.000,9,-999.0000,9, -999.00,9, -999.00,9,  -999.0,9,  -999.0,-999.000,9,-999.000,-999.0000,-999.000,   1.5369,-999.000
  316N138_7,       P14C,      31,          1,         34,         34,2,19920907,       2203,   -23.9600,   177.0283,       4441,  4056.0,   1.8658,  34.6827,2,  34.6829,2,    156.6,2,   156.5,2,  127.35,2,   35.02,2,    0.00,2,    2.44,2,-999.000,9,-999.000,9,-999.000,9,-999.0000,9, -999.00,9, -999.00,9,  -999.0,9,  -999.0,-999.000,9,-999.000,-999.0000,-999.000,   1.5304,-999.000
  316N138_7,       P14C,      31,          1,         35,         35,2,19920907,       2203,   -23.9600,   177.0283,       4441,  4260.7,   1.8863,  34.6833,2,  34.6845,2,    156.8,2,   156.5,2,  127.31,2,   35.10,2,    0.00,2,    2.45,2,-999.000,9,-999.000,9,-999.000,9,-999.0000,9, -999.00,9, -999.00,9,  -999.0,9,  -999.0,-999.000,9,-999.000,-999.0000,-999.000,   1.5272,-999.000
  316N138_7,       P14C,      31,          1,         37,         37,2,19920907,       2203,   -23.9600,   177.0283,       4441,  4482.1,   1.9120,  34.6827,2,  34.6835,2,    156.8,2,   156.6,2,  127.26,2,   35.02,2,    0.00,2,    2.45,2,   0.000,2,   0.003,2,-999.000,9,-999.0000,9, -999.00,9, -999.00,9,  -999.0,9,  -999.0,-999.000,9,-999.000,-999.0000,-999.000,   1.5264,-999.000