BOTTLE,20211105CCHSIORKP
EXPOCODE,SECT_ID,STNNBR,CASTNO,SAMPNO,BTLNBR,BTLNBR_FLAG_W,DATE,TIME,LATITUDE,LONGITUDE,DEPTH,CTDPRS,CTDTMP,CTDSAL,CTDSAL_FLAG_W,SALNTY,SALNTY_FLAG_W,CTDOXY,CTDOXY_FLAG_W,OXYGEN,OXYGEN_FLAG_W,SILCAT,SILCAT_FLAG_W,NITRAT,NITRAT_FLAG_W,NITRIT,NITRIT_FLAG_W,PHSPHT,PHSPHT_FLAG_W,CFC-11,CFC-11_FLAG_W,CFC-12,CFC-12_FLAG_W,TRITUM,TRITUM_FLAG_W,HELIUM,HELIUM_FLAG_W,DELHE3,DELHE3_FLAG_W,DELC13,DELC13_FLAG_W,DELC14,DELC14_FLAG_W,C14ERR,NEON,NEON_FLAG_W,NEONER,HELIER,DELHER,THETA,TRITER
,,,,,,,,,,,METERS,DBAR,ITS-90,PSS-78,,PSS-78,,UMOL/KG,,UMOL/KG,,UMOL/KG,,UMOL/KG,,UMOL/KG,,UMOL/KG,,PMOL/KG,,PMOL/KG,,TU,,NMOL/KG,,PERCNT,,/MILLE,,/MILLE,,/MILLE,NMOL/KG,,NMOL/KG,NMOL/KG,PERCNT,DEG C,TU
  316N138_7,       P14C,      43,          1,          7,          7,2,19920910,       1453,   -19.8183,   177.4017,       3232,     3.2,  25.1034,  35.5815,2,  35.5846,2,    201.9,2,   205.9,2,    2.00,2,    0.19,2,    0.00,2,    0.14,2,   1.870,2,   0.990,2,-999.000,9,-999.0000,9, -999.00,9, -999.00,9,  -999.0,9,  -999.0,-999.000,9,-999.000,-999.0000,-999.000,  25.1027,-999.000
  316N138_7,       P14C,      43,          1,          8,          8,2,19920910,       1453,   -19.8183,   177.4017,       3232,    14.4,  25.1034,  35.5816,2,  35.5836,2,    195.7,2,   206.2,2,    1.98,2,    0.19,2,    0.00,2,    0.14,2,-999.000,9,-999.000,9,-999.000,9,-999.0000,9, -999.00,9, -999.00,9,  -999.0,9,  -999.0,-999.000,9,-999.000,-999.0000,-999.000,  25.1002,-999.000
  316N138_7,       P14C,      43,          1,          9,          9,2,19920910,       1453,   -19.8183,   177.4017,       3232,    54.5,  24.3572,  35.5751,2,  35.5771,2,    208.3,2,   208.8,2,    1.95,2,    0.18,2,    0.00,2,    0.12,2,   1.842,2,   1.009,2,-999.000,9,-999.0000,9, -999.00,9, -999.00,9,  -999.0,9,  -999.0,-999.000,9,-999.000,-999.0000,-999.000,  24.3455,-999.000
  316N138_7,       P14C,      43,          1,         10,         10,2,19920910,       1453,   -19.8183,   177.4017,       3232,   104.5,  23.8630,  35.6606,2,  35.6538,2,    214.6,2,   209.3,2,    1.93,2,    0.18,2,    0.00,2,    0.11,2,   1.891,2,   1.031,2,-999.000,9,-999.0000,9, -999.00,9, -999.00,9,  -999.0,9,  -999.0,-999.000,9,-999.000,-999.0000,-999.000,  23.8411,-999.000
  316N138_7,       P14C,      43,          1,         11,         11,9,19920910,       1453,   -19.8183,   177.4017,       3232,   154.1,  22.4337,  35.7008,2,-999.0000,9,    183.8,2,  -999.0,9, -999.00,9, -999.00,9, -999.00,9, -999.00,9,-999.000,9,-999.000,9,-999.000,9,-999.0000,9, -999.00,9, -999.00,9,  -999.0,9,  -999.0,-999.000,9,-999.000,-999.0000,-999.000,  22.4027,-999.000
  316N138_7,       P14C,      43,          1,         12,         12,2,19920910,       1453,   -19.8183,   177.4017,       3232,   204.6,  20.5544,  35.6227,2,  35.6214,2,    188.1,2,   186.7,2,    1.71,2,    2.51,2,    0.01,2,    0.30,2,   1.939,2,   1.019,2,-999.000,9,-999.0000,9, -999.00,9, -999.00,9,  -999.0,9,  -999.0,-999.000,9,-999.000,-999.0000,-999.000,  20.5157,-999.000
  316N138_7,       P14C,      43,          1,         13,         13,2,19920910,       1453,   -19.8183,   177.4017,       3232,   254.1,  19.2534,  35.6135,2,  35.6142,2,    187.5,2,   186.0,2,    1.29,2,    3.75,2,    0.00,2,    0.37,2,   1.964,2,   1.042,2,-999.000,9,-999.0000,9, -999.00,9, -999.00,9,  -999.0,9,  -999.0,-999.000,9,-999.000,-999.0000,-999.000,  19.2074,-999.000
  316N138_7,       P14C,      43,          1,         14,         14,2,19920910,       1453,   -19.8183,   177.4017,       3232,   304.6,  17.8903,  35.5428,2,  35.5511,2,    185.6,2,   185.6,2,    1.86,2,    5.33,2,    0.00,2,    0.48,2,   1.883,2,   0.984,2,-999.000,9,-999.0000,9, -999.00,9, -999.00,9,  -999.0,9,  -999.0,-999.000,9,-999.000,-999.0000,-999.000,  17.8379,-999.000
  316N138_7,       P14C,      43,          1,         15,         15,2,19920910,       1453,   -19.8183,   177.4017,       3232,   354.4,  15.4265,  35.2861,2,  35.2722,2,    178.5,2,   180.4,2,    4.23,2,    9.35,2,    0.00,2,    0.76,2,   1.521,2,   0.801,2,-999.000,9,-999.0000,9, -999.00,9, -999.00,9,  -999.0,9,  -999.0,-999.000,9,-999.000,-999.0000,-999.000,  15.3714,-999.000
  316N138_7,       P14C,      43,          1,         16,         16,2,19920910,       1453,   -19.8183,   177.4017,       3232,   405.2,  13.1519,  35.0489,2,  35.0390,2,    181.6,2,   180.1,2,    5.80,2,   13.07,2,    0.00,2,    1.00,2,   1.245,2,   0.651,2,-999.000,9,-999.0000,9, -999.00,9, -999.00,9,  -999.0,9,  -999.0,-999.000,9,-999.000,-999.0000,-999.000,  13.0953,-999.000
  316N138_7,       P14C,      43,          1,         17,         17,2,19920910,       1453,   -19.8183,   177.4017,       3232,   504.6,   9.8169,  34.6732,2,  34.6749,2,    183.0,2,   183.6,2,   10.36,2,   19.87,2,    0.00,2,    1.43,2,   0.739,2,   0.390,2,-999.000,9,-999.0000,9, -999.00,9, -999.00,9,  -999.0,9,  -999.0,-999.000,9,-999.000,-999.0000,-999.000,   9.7584,-999.000
  316N138_7,       P14C,      43,          1,         18,         18,2,19920910,       1453,   -19.8183,   177.4017,       3232,   604.2,   7.7388,  34.4956,2,  34.4943,2,    190.1,2,   191.8,2,   14.52,2,   24.04,2,    0.00,2,    1.71,2,   0.468,2,   0.255,2,-999.000,9,-999.0000,9, -999.00,9, -999.00,9,  -999.0,9,  -999.0,-999.000,9,-999.000,-999.0000,-999.000,   7.6777,-999.000
  316N138_7,       P14C,      43,          1,         19,         19,2,19920910,       1453,   -19.8183,   177.4017,       3232,   703.9,   6.3405,  34.4032,2,  34.4026,2,    195.8,2,   195.9,2,   20.88,2,   27.27,2,    0.00,2,    1.90,2,   0.247,2,   0.137,2,-999.000,9,-999.0000,9, -999.00,9, -999.00,9,  -999.0,9,  -999.0,-999.000,9,-999.000,-999.0000,-999.000,   6.2763,-999.000
  316N138_7,       P14C,      43,          1,         20,         20,2,19920910,       1453,   -19.8183,   177.4017,       3232,   805.0,   5.3690,  34.3962,2,  34.3967,2,    184.5,2,   183.7,2,   33.41,2,   30.31,2,    0.00,2,    2.11,2,   0.091,2,   0.060,2,-999.000,9,-999.0000,9, -999.00,9, -999.00,9,  -999.0,9,  -999.0,-999.000,9,-999.000,-999.0000,-999.000,   5.3010,-999.000
  316N138_7,       P14C,      43,          1,         21,         21,2,19920910,       1453,   -19.8183,   177.4017,       3232,   906.2,   4.6854,  34.4126,2,  34.4116,2,    176.3,2,   176.4,2,   44.75,2,   32.10,2,    0.00,2,    2.22,2,   0.044,2,   0.025,2,-999.000,9,-999.0000,9, -999.00,9, -999.00,9,  -999.0,9,  -999.0,-999.000,9,-999.000,-999.0000,-999.000,   4.6129,-999.000
  316N138_7,       P14C,      43,          1,         22,         22,2,19920910,       1453,   -19.8183,   177.4017,       3232,  1006.8,   4.2217,  34.4458,2,  34.4410,2,    167.1,2,   170.5,2,   55.90,2,   33.11,2,    0.00,2,    2.31,2,   0.021,2,   0.014,2,-999.000,9,-999.0000,9, -999.00,9, -999.00,9,  -999.0,9,  -999.0,-999.000,9,-999.000,-999.0000,-999.000,   4.1439,-999.000
  316N138_7,       P14C,      43,          1,         23,         23,2,19920910,       1453,   -19.8183,   177.4017,       3232,  1107.2,   3.7730,  34.4824,2,  34.4820,2,    161.0,2,   163.6,2,   69.47,2,   34.04,2,    0.00,2,    2.36,2,   0.007,2,   0.007,2,-999.000,9,-999.0000,9, -999.00,9, -999.00,9,  -999.0,9,  -999.0,-999.000,9,-999.000,-999.0000,-999.000,   3.6903,-999.000
  316N138_7,       P14C,      43,          1,         24,         24,2,19920910,       1453,   -19.8183,   177.4017,       3232,  1208.4,   3.4312,  34.5186,2,  34.5188,2,    156.8,2,   157.1,2,   80.47,2,   34.71,2,    0.00,2,    2.43,2,   0.002,2,   0.006,2,-999.000,9,-999.0000,9, -999.00,9, -999.00,9,  -999.0,9,  -999.0,-999.000,9,-999.000,-999.0000,-999.000,   3.3432,-999.000
  316N138_7,       P14C,      43,          1,         25,         25,2,19920910,       1453,   -19.8183,   177.4017,       3232,  1309.6,   3.1984,  34.5440,2,  34.5418,2,    154.4,2,   154.6,2,   88.29,2,   35.07,2,    0.00,2,    2.45,2,   0.000,2,   0.000,2,-999.000,9,-999.0000,9, -999.00,9, -999.00,9,  -999.0,9,  -999.0,-999.000,9,-999.000,-999.0000,-999.000,   3.1042,-999.000
  316N138_7,       P14C,      43,          1,         26,         26,2,19920910,       1453,   -19.8183,   177.4017,       3232,  1409.1,   2.9266,  34.5693,2,  34.5692,2,    150.1,2,   152.4,2,   97.17,2,   35.52,2,    0.00,2,    2.48,2,  -0.001,2,   0.000,2,-999.000,9,-999.0000,9, -999.00,9, -999.00,9,  -999.0,9,  -999.0,-999.000,9,-999.000,-999.0000,-999.000,   2.8271,-999.000
  316N138_7,       P14C,      43,          1,         27,         27,2,19920910,       1453,   -19.8183,   177.4017,       3232,  1502.7,   2.8097,  34.5820,2,  34.5802,2,    150.9,2,   151.5,2,  101.20,2,   35.58,2,    0.00,2,    2.49,2,   0.002,2,  -0.001,2,-999.000,9,-999.0000,9, -999.00,9, -999.00,9,  -999.0,9,  -999.0,-999.000,9,-999.000,-999.0000,-999.000,   2.7038,-999.000
  316N138_7,       P14C,      43,          1,         28,         28,3,19920910,       1453,   -19.8183,   177.4017,       3232,  1608.2,   2.6857,  34.5939,2,  34.6273,4,    150.2,2,   152.9,4,   98.52,4,   34.18,4,    0.00,4,    2.40,4,-999.000,9,-999.000,9,-999.000,9,-999.0000,9, -999.00,9, -999.00,9,  -999.0,9,  -999.0,-999.000,9,-999.000,-999.0000,-999.000,   2.5726,-999.000
  316N138_7,       P14C,      43,          1,         29,         29,2,19920910,       1453,   -19.8183,   177.4017,       3232,  1811.4,   2.4569,  34.6157,2,  34.6157,2,    150.7,2,   150.3,2,  111.36,2,   35.68,2,    0.00,2,    2.48,2,-999.000,9,-999.000,9,-999.000,9,-999.0000,9, -999.00,9, -999.00,9,  -999.0,9,  -999.0,-999.000,9,-999.000,-999.0000,-999.000,   2.3297,-999.000
  316N138_7,       P14C,      43,          1,         30,         30,3,19920910,       1453,   -19.8183,   177.4017,       3232,  2010.8,   2.3260,  34.6301,2,  34.6487,4,    153.3,2,   152.4,4,  108.25,4,   34.42,4,    0.00,4,    2.40,4,-999.000,9,-999.000,9,-999.000,9,-999.0000,9, -999.00,9, -999.00,9,  -999.0,9,  -999.0,-999.000,9,-999.000,-999.0000,-999.000,   2.1837,-999.000
  316N138_7,       P14C,      43,          1,         31,         31,2,19920910,       1453,   -19.8183,   177.4017,       3232,  2211.2,   2.1511,  34.6455,2,  34.6448,2,    152.5,2,   150.4,2,  120.39,2,   35.75,2,    0.00,2,    2.48,2,   0.001,2,  -0.001,2,-999.000,9,-999.0000,9, -999.00,9, -999.00,9,  -999.0,9,  -999.0,-999.000,9,-999.000,-999.0000,-999.000,   1.9941,-999.000
  316N138_7,       P14C,      43,          1,         32,         32,2,19920910,       1453,   -19.8183,   177.4017,       3232,  2413.1,   2.0672,  34.6539,2,  34.6534,2,    151.4,2,   150.6,2,  122.86,2,   35.76,2,    0.00,2,    2.49,2,-999.000,9,-999.000,9,-999.000,9,-999.0000,9, -999.00,9, -999.00,9,  -999.0,9,  -999.0,-999.000,9,-999.000,-999.0000,-999.000,   1.8936,-999.000
  316N138_7,       P14C,      43,          1,         33,         33,2,19920910,       1453,   -19.8183,   177.4017,       3232,  2616.4,   2.0222,  34.6606,2,  34.6599,2,    152.3,2,   152.2,2,  123.24,2,   35.73,2,    0.00,2,    2.48,2,-999.000,9,-999.000,9,-999.000,9,-999.0000,9, -999.00,9, -999.00,9,  -999.0,9,  -999.0,-999.000,9,-999.000,-999.0000,-999.000,   1.8308,-999.000
  316N138_7,       P14C,      43,          1,         34,         34,2,19920910,       1453,   -19.8183,   177.4017,       3232,  2818.0,   2.0162,  34.6623,2,  34.6625,2,    152.8,2,   151.7,2,  124.46,2,   35.69,2,    0.00,2,    2.48,2,   0.004,2,   0.002,2,-999.000,9,-999.0000,9, -999.00,9, -999.00,9,  -999.0,9,  -999.0,-999.000,9,-999.000,-999.0000,-999.000,   1.8058,-999.000
  316N138_7,       P14C,      43,          1,         35,         35,2,19920910,       1453,   -19.8183,   177.4017,       3232,  3022.9,   2.0252,  34.6626,2,  34.6625,2,    150.6,2,   150.9,2,  125.27,2,   35.79,2,    0.00,2,    2.48,2,-999.000,9,-999.000,9,-999.000,9,-999.0000,9, -999.00,9, -999.00,9,  -999.0,9,  -999.0,-999.000,9,-999.000,-999.0000,-999.000,   1.7947,-999.000
  316N138_7,       P14C,      43,          1,         37,         37,2,19920910,       1453,   -19.8183,   177.4017,       3232,  3245.8,   2.0472,  34.6644,2,  34.6632,2,    151.4,2,   152.7,2,  124.39,2,   35.72,2,    0.00,2,    2.48,2,   0.001,2,   0.000,2,-999.000,9,-999.0000,9, -999.00,9, -999.00,9,  -999.0,9,  -999.0,-999.000,9,-999.000,-999.0000,-999.000,   1.7938,-999.000