BOTTLE,20211105CCHSIORKP
EXPOCODE,SECT_ID,STNNBR,CASTNO,SAMPNO,BTLNBR,BTLNBR_FLAG_W,DATE,TIME,LATITUDE,LONGITUDE,DEPTH,CTDPRS,CTDTMP,CTDSAL,CTDSAL_FLAG_W,SALNTY,SALNTY_FLAG_W,CTDOXY,CTDOXY_FLAG_W,OXYGEN,OXYGEN_FLAG_W,SILCAT,SILCAT_FLAG_W,NITRAT,NITRAT_FLAG_W,NITRIT,NITRIT_FLAG_W,PHSPHT,PHSPHT_FLAG_W,CFC-11,CFC-11_FLAG_W,CFC-12,CFC-12_FLAG_W,TRITUM,TRITUM_FLAG_W,HELIUM,HELIUM_FLAG_W,DELHE3,DELHE3_FLAG_W,DELC13,DELC13_FLAG_W,DELC14,DELC14_FLAG_W,C14ERR,NEON,NEON_FLAG_W,NEONER,HELIER,DELHER,THETA,TRITER
,,,,,,,,,,,METERS,DBAR,ITS-90,PSS-78,,PSS-78,,UMOL/KG,,UMOL/KG,,UMOL/KG,,UMOL/KG,,UMOL/KG,,UMOL/KG,,PMOL/KG,,PMOL/KG,,TU,,NMOL/KG,,PERCNT,,/MILLE,,/MILLE,,/MILLE,NMOL/KG,,NMOL/KG,NMOL/KG,PERCNT,DEG C,TU
  316N138_7,       P14C,      32,          1,          2,          2,2,19920908,       0345,   -23.4867,   177.1133,       4164,     1.2,  22.7055,  35.7097,2,  35.7134,2,    204.4,2,   214.2,2,    1.54,2,    0.03,2,    0.00,2,    0.10,2,-999.000,9,-999.000,9,-999.000,9,-999.0000,9, -999.00,9, -999.00,9,  -999.0,9,  -999.0,-999.000,9,-999.000,-999.0000,-999.000,  22.7052,-999.000
  316N138_7,       P14C,      32,          1,          3,          3,2,19920908,       0345,   -23.4867,   177.1133,       4164,    16.8,  22.5805,  35.6994,2,  35.7020,2,    215.3,2,   214.6,2,    1.52,2,    0.02,2,    0.00,2,    0.10,2,   1.982,2,   1.096,2,-999.000,9,-999.0000,9, -999.00,9, -999.00,9,  -999.0,9,  -999.0,-999.000,9,-999.000,-999.0000,-999.000,  22.5772,-999.000
  316N138_7,       P14C,      32,          1,          4,          4,2,19920908,       0345,   -23.4867,   177.1133,       4164,    56.7,  22.3394,  35.6837,2,  35.6866,2,    205.7,2,   215.3,2,    1.29,2,    0.01,2,    0.01,2,    0.09,2,-999.000,9,-999.000,9,-999.000,9,-999.0000,9, -999.00,9, -999.00,9,  -999.0,9,  -999.0,-999.000,9,-999.000,-999.0000,-999.000,  22.3280,-999.000
  316N138_7,       P14C,      32,          1,          5,          5,2,19920908,       0345,   -23.4867,   177.1133,       4164,   106.9,  21.5674,  35.6388,2,  35.6403,2,    198.1,2,   203.4,2,    1.26,2,    0.78,2,    0.08,2,    0.17,2,   1.949,2,   1.036,2,-999.000,9,-999.0000,9, -999.00,9, -999.00,9,  -999.0,9,  -999.0,-999.000,9,-999.000,-999.0000,-999.000,  21.5465,-999.000
  316N138_7,       P14C,      32,          1,          6,          6,2,19920908,       0345,   -23.4867,   177.1133,       4164,   157.4,  20.5277,  35.6732,2,  35.6758,2,    212.1,2,   219.4,2,    1.23,2,    0.13,2,    0.06,2,    0.12,2,-999.000,9,-999.000,9,-999.000,9,-999.0000,9, -999.00,9, -999.00,9,  -999.0,9,  -999.0,-999.000,9,-999.000,-999.0000,-999.000,  20.4980,-999.000
  316N138_7,       P14C,      32,          1,          7,          7,2,19920908,       0345,   -23.4867,   177.1133,       4164,   207.2,  19.9110,  35.6995,2,  35.7004,2,    223.4,2,   221.8,2,    1.20,2,    0.05,2,    0.09,2,    0.11,2,   2.203,2,   1.159,2,-999.000,9,-999.0000,9, -999.00,9, -999.00,9,  -999.0,9,  -999.0,-999.000,9,-999.000,-999.0000,-999.000,  19.8726,-999.000
  316N138_7,       P14C,      32,          1,          8,          8,2,19920908,       0345,   -23.4867,   177.1133,       4164,   257.8,  18.3599,  35.5671,2,  35.5684,2,    180.9,2,   180.8,2,    1.96,2,    4.96,2,    0.01,2,    0.49,2,-999.000,9,-999.000,9,-999.000,9,-999.0000,9, -999.00,9, -999.00,9,  -999.0,9,  -999.0,-999.000,9,-999.000,-999.0000,-999.000,  18.3148,-999.000
  316N138_7,       P14C,      32,          1,          9,          9,2,19920908,       0345,   -23.4867,   177.1133,       4164,   307.3,  17.3525,  35.5150,2,  35.5083,2,    192.8,2,   186.6,2,    2.13,2,    5.76,2,    0.01,2,    0.54,2,   1.848,2,   0.977,2,-999.000,9,-999.0000,9, -999.00,9, -999.00,9,  -999.0,9,  -999.0,-999.000,9,-999.000,-999.0000,-999.000,  17.3008,-999.000
  316N138_7,       P14C,      32,          1,         10,         10,2,19920908,       0345,   -23.4867,   177.1133,       4164,   357.3,  15.8351,  35.3698,2,  35.3709,2,    187.8,2,   184.5,2,    2.70,2,    7.84,2,    0.01,2,    0.67,2,-999.000,9,-999.000,9,-999.000,9,-999.0000,9, -999.00,9, -999.00,9,  -999.0,9,  -999.0,-999.000,9,-999.000,-999.0000,-999.000,  15.7785,-999.000
  316N138_7,       P14C,      32,          1,         11,         11,2,19920908,       0345,   -23.4867,   177.1133,       4164,   407.7,  14.7208,  35.2689,2,  35.2807,2,    182.2,2,   184.1,2,    3.46,2,    9.47,2,    0.01,2,    0.77,2,   1.630,2,   0.842,2,-999.000,9,-999.0000,9, -999.00,9, -999.00,9,  -999.0,9,  -999.0,-999.000,9,-999.000,-999.0000,-999.000,  14.6593,-999.000
  316N138_7,       P14C,      32,          1,         12,         12,2,19920908,       0345,   -23.4867,   177.1133,       4164,   507.9,  11.5026,  34.8958,2,  34.8966,2,    186.7,2,   187.4,2,    5.80,2,   15.18,2,    0.01,2,    1.13,2,   1.190,2,   0.613,2,-999.000,9,-999.0000,9, -999.00,9, -999.00,9,  -999.0,9,  -999.0,-999.000,9,-999.000,-999.0000,-999.000,  11.4373,-999.000
  316N138_7,       P14C,      32,          1,         13,         13,2,19920908,       0345,   -23.4867,   177.1133,       4164,   609.0,   8.8842,  34.6087,2,  34.6116,2,    199.9,2,   199.0,2,    8.34,2,   20.03,2,    0.01,2,    1.44,2,-999.000,9,-999.000,9,-999.000,9,-999.0000,9, -999.00,9, -999.00,9,  -999.0,9,  -999.0,-999.000,9,-999.000,-999.0000,-999.000,   8.8173,-999.000
  316N138_7,       P14C,      32,          1,         14,         14,2,19920908,       0345,   -23.4867,   177.1133,       4164,   709.5,   7.2970,  34.4570,2,  34.4532,2,    212.0,2,   209.9,2,   11.66,2,   23.30,2,    0.01,2,    1.64,2,-999.000,9,-999.000,9,-999.000,9,-999.0000,9, -999.00,9, -999.00,9,  -999.0,9,  -999.0,-999.000,9,-999.000,-999.0000,-999.000,   7.2271,-999.000
  316N138_7,       P14C,      32,          1,         15,         15,2,19920908,       0345,   -23.4867,   177.1133,       4164,   810.0,   6.2806,  34.3907,2,  34.3906,2,    200.2,2,   203.9,2,   18.15,2,   26.32,2,    0.00,2,    1.85,2,-999.000,9,-999.000,9,-999.000,9,-999.0000,9, -999.00,9, -999.00,9,  -999.0,9,  -999.0,-999.000,9,-999.000,-999.0000,-999.000,   6.2065,-999.000
  316N138_7,       P14C,      32,          1,         16,         16,2,19920908,       0345,   -23.4867,   177.1133,       4164,   910.7,   5.4952,  34.3946,2,  34.3944,2,    182.6,2,   185.1,2,   31.16,2,   29.53,2,    0.00,2,    2.08,2,-999.000,9,-999.000,9,-999.000,9,-999.0000,9, -999.00,9, -999.00,9,  -999.0,9,  -999.0,-999.000,9,-999.000,-999.0000,-999.000,   5.4166,-999.000
  316N138_7,       P14C,      32,          1,         17,         17,2,19920908,       0345,   -23.4867,   177.1133,       4164,  1011.5,   4.8064,  34.4123,2,  34.4116,2,    175.2,2,   176.9,2,   42.39,2,   31.26,2,    0.00,2,    2.19,2,-999.000,9,-999.000,9,-999.000,9,-999.0000,9, -999.00,9, -999.00,9,  -999.0,9,  -999.0,-999.000,9,-999.000,-999.0000,-999.000,   4.7237,-999.000
  316N138_7,       P14C,      32,          1,         18,         18,2,19920908,       0345,   -23.4867,   177.1133,       4164,  1112.5,   4.1475,  34.4327,2,  34.4300,2,    174.6,2,   173.4,2,   53.43,2,   32.45,2,    0.00,2,    2.28,2,-999.000,9,-999.000,9,-999.000,9,-999.0000,9, -999.00,9, -999.00,9,  -999.0,9,  -999.0,-999.000,9,-999.000,-999.0000,-999.000,   4.0612,-999.000
  316N138_7,       P14C,      32,          1,         19,         19,2,19920908,       0345,   -23.4867,   177.1133,       4164,  1211.9,   3.7229,  34.4829,2,  34.4780,2,    164.2,2,   166.1,2,   67.27,2,   33.27,2,    0.00,2,    2.33,2,-999.000,9,-999.000,9,-999.000,9,-999.0000,9, -999.00,9, -999.00,9,  -999.0,9,  -999.0,-999.000,9,-999.000,-999.0000,-999.000,   3.6319,-999.000
  316N138_7,       P14C,      32,          1,         20,         20,2,19920908,       0345,   -23.4867,   177.1133,       4164,  1313.3,   3.3877,  34.5227,2,  34.5212,2,    160.0,2,   160.7,2,   79.57,2,   33.82,2,    0.00,2,    2.39,2,-999.000,9,-999.000,9,-999.000,9,-999.0000,9, -999.00,9, -999.00,9,  -999.0,9,  -999.0,-999.000,9,-999.000,-999.0000,-999.000,   3.2913,-999.000
  316N138_7,       P14C,      32,          1,         21,         21,2,19920908,       0345,   -23.4867,   177.1133,       4164,  1414.1,   3.1264,  34.5507,2,  34.5484,2,    157.4,2,   156.4,2,   88.73,2,   34.25,2,    0.00,2,    2.42,2,-999.000,9,-999.000,9,-999.000,9,-999.0000,9, -999.00,9, -999.00,9,  -999.0,9,  -999.0,-999.000,9,-999.000,-999.0000,-999.000,   3.0244,-999.000
  316N138_7,       P14C,      32,          1,         22,         22,2,19920908,       0345,   -23.4867,   177.1133,       4164,  1514.9,   2.8971,  34.5733,2,  34.5715,2,    154.3,2,   153.9,2,   95.93,2,   34.60,2,    0.00,2,    2.44,2,-999.000,9,-999.000,9,-999.000,9,-999.0000,9, -999.00,9, -999.00,9,  -999.0,9,  -999.0,-999.000,9,-999.000,-999.0000,-999.000,   2.7892,-999.000
  316N138_7,       P14C,      32,          1,         23,         23,2,19920908,       0345,   -23.4867,   177.1133,       4164,  1616.9,   2.7429,  34.5892,2,  34.5890,2,    152.0,2,   152.4,2,  101.35,2,   34.73,2,    0.00,2,    2.44,2,-999.000,9,-999.000,9,-999.000,9,-999.0000,9, -999.00,9, -999.00,9,  -999.0,9,  -999.0,-999.000,9,-999.000,-999.0000,-999.000,   2.6284,-999.000
  316N138_7,       P14C,      32,          1,         24,         24,2,19920908,       0345,   -23.4867,   177.1133,       4164,  1819.5,   2.5038,  34.6129,2,  34.6117,2,    151.9,2,   151.8,2,  108.01,2,   34.94,2,    0.00,2,    2.47,2,-999.000,9,-999.000,9,-999.000,9,-999.0000,9, -999.00,9, -999.00,9,  -999.0,9,  -999.0,-999.000,9,-999.000,-999.0000,-999.000,   2.3753,-999.000
  316N138_7,       P14C,      32,          1,         25,         25,2,19920908,       0345,   -23.4867,   177.1133,       4164,  2021.7,   2.3379,  34.6293,2,  34.6294,2,    152.9,2,   152.2,2,  112.89,2,   35.03,2,    0.00,2,    2.47,2,-999.000,9,-999.000,9,-999.000,9,-999.0000,9, -999.00,9, -999.00,9,  -999.0,9,  -999.0,-999.000,9,-999.000,-999.0000,-999.000,   2.1945,-999.000
  316N138_7,       P14C,      32,          1,         26,         26,2,19920908,       0345,   -23.4867,   177.1133,       4164,  2225.2,   2.1865,  34.6433,2,  34.6445,2,    151.3,2,   151.2,2,  117.37,2,   35.12,2,    0.00,2,    2.47,2,-999.000,9,-999.000,9,-999.000,9,-999.0000,9, -999.00,9, -999.00,9,  -999.0,9,  -999.0,-999.000,9,-999.000,-999.0000,-999.000,   2.0276,-999.000
  316N138_7,       P14C,      32,          1,         27,         27,2,19920908,       0345,   -23.4867,   177.1133,       4164,  2427.6,   2.0667,  34.6558,2,  34.6564,2,    151.6,2,   152.3,2,  120.65,2,   35.03,2,    0.00,2,    2.47,2,-999.000,9,-999.000,9,-999.000,9,-999.0000,9, -999.00,9, -999.00,9,  -999.0,9,  -999.0,-999.000,9,-999.000,-999.0000,-999.000,   1.8917,-999.000
  316N138_7,       P14C,      32,          1,         28,         28,2,19920908,       0345,   -23.4867,   177.1133,       4164,  2631.2,   1.9654,  34.6661,2,  34.6663,2,    153.2,2,   153.6,2,  122.90,2,   35.03,2,    0.00,2,    2.46,2,-999.000,9,-999.000,9,-999.000,9,-999.0000,9, -999.00,9, -999.00,9,  -999.0,9,  -999.0,-999.000,9,-999.000,-999.0000,-999.000,   1.7736,-999.000
  316N138_7,       P14C,      32,          1,         29,         29,2,19920908,       0345,   -23.4867,   177.1133,       4164,  2833.8,   1.9037,  34.6728,2,  34.6731,2,    155.1,2,   154.9,2,  123.91,2,   34.99,2,    0.00,2,    2.45,2,-999.000,9,-999.000,9,-999.000,9,-999.0000,9, -999.00,9, -999.00,9,  -999.0,9,  -999.0,-999.000,9,-999.000,-999.0000,-999.000,   1.6941,-999.000
  316N138_7,       P14C,      32,          1,         30,         30,2,19920908,       0345,   -23.4867,   177.1133,       4164,  3036.3,   1.8640,  34.6773,2,  34.6772,2,    155.2,2,   155.5,2,  125.76,2,   34.99,2,    0.00,2,    2.46,2,-999.000,9,-999.000,9,-999.000,9,-999.0000,9, -999.00,9, -999.00,9,  -999.0,9,  -999.0,-999.000,9,-999.000,-999.0000,-999.000,   1.6357,-999.000
  316N138_7,       P14C,      32,          1,         31,         31,2,19920908,       0345,   -23.4867,   177.1133,       4164,  3239.8,   1.8483,  34.6795,2,  34.6796,2,    155.7,2,   155.8,2,  126.36,2,   35.04,2,    0.00,2,    2.46,2,-999.000,9,-999.000,9,-999.000,9,-999.0000,9, -999.00,9, -999.00,9,  -999.0,9,  -999.0,-999.000,9,-999.000,-999.0000,-999.000,   1.6001,-999.000
  316N138_7,       P14C,      32,          1,         32,         32,2,19920908,       0345,   -23.4867,   177.1133,       4164,  3443.8,   1.8414,  34.6813,2,  34.6815,2,    155.9,2,   156.3,2,  127.38,2,   35.00,2,    0.00,2,    2.45,2,-999.000,9,-999.000,9,-999.000,9,-999.0000,9, -999.00,9, -999.00,9,  -999.0,9,  -999.0,-999.000,9,-999.000,-999.0000,-999.000,   1.5725,-999.000
  316N138_7,       P14C,      32,          1,         33,         33,2,19920908,       0345,   -23.4867,   177.1133,       4164,  3647.8,   1.8413,  34.6822,2,  34.6825,2,    158.0,2,   157.1,2,  127.77,2,   35.04,2,    0.00,2,    2.46,2,-999.000,9,-999.000,9,-999.000,9,-999.0000,9, -999.00,9, -999.00,9,  -999.0,9,  -999.0,-999.000,9,-999.000,-999.0000,-999.000,   1.5510,-999.000
  316N138_7,       P14C,      32,          1,         34,         34,2,19920908,       0345,   -23.4867,   177.1133,       4164,  3852.3,   1.8507,  34.6829,2,  34.6835,2,    157.2,2,   156.5,2,  127.75,2,   35.00,2,    0.00,2,    2.44,2,-999.000,9,-999.000,9,-999.000,9,-999.0000,9, -999.00,9, -999.00,9,  -999.0,9,  -999.0,-999.000,9,-999.000,-999.0000,-999.000,   1.5382,-999.000
  316N138_7,       P14C,      32,          1,         35,         35,2,19920908,       0345,   -23.4867,   177.1133,       4164,  4055.5,   1.8629,  34.6835,2,  34.6835,2,    155.7,2,   156.3,2,  127.93,2,   34.96,2,    0.00,2,    2.45,2,-999.000,9,-999.000,9,-999.000,9,-999.0000,9, -999.00,9, -999.00,9,  -999.0,9,  -999.0,-999.000,9,-999.000,-999.0000,-999.000,   1.5277,-999.000
  316N138_7,       P14C,      32,          1,         37,         37,2,19920908,       0345,   -23.4867,   177.1133,       4164,  4180.2,   1.8758,  34.6838,2,  34.6841,2,    152.9,2,   156.9,2,  128.33,2,   35.05,2,    0.00,2,    2.45,2,-999.000,9,-999.000,9,-999.000,9,-999.0000,9, -999.00,9, -999.00,9,  -999.0,9,  -999.0,-999.000,9,-999.000,-999.0000,-999.000,   1.5261,-999.000