BOTTLE,20211105CCHSIORKP
EXPOCODE,SECT_ID,STNNBR,CASTNO,SAMPNO,BTLNBR,BTLNBR_FLAG_W,DATE,TIME,LATITUDE,LONGITUDE,DEPTH,CTDPRS,CTDTMP,CTDSAL,CTDSAL_FLAG_W,SALNTY,SALNTY_FLAG_W,CTDOXY,CTDOXY_FLAG_W,OXYGEN,OXYGEN_FLAG_W,SILCAT,SILCAT_FLAG_W,NITRAT,NITRAT_FLAG_W,NITRIT,NITRIT_FLAG_W,PHSPHT,PHSPHT_FLAG_W,CFC-11,CFC-11_FLAG_W,CFC-12,CFC-12_FLAG_W,TRITUM,TRITUM_FLAG_W,HELIUM,HELIUM_FLAG_W,DELHE3,DELHE3_FLAG_W,DELC13,DELC13_FLAG_W,DELC14,DELC14_FLAG_W,C14ERR,NEON,NEON_FLAG_W,NEONER,HELIER,DELHER,THETA,TRITER
,,,,,,,,,,,METERS,DBAR,ITS-90,PSS-78,,PSS-78,,UMOL/KG,,UMOL/KG,,UMOL/KG,,UMOL/KG,,UMOL/KG,,UMOL/KG,,PMOL/KG,,PMOL/KG,,TU,,NMOL/KG,,PERCNT,,/MILLE,,/MILLE,,/MILLE,NMOL/KG,,NMOL/KG,NMOL/KG,PERCNT,DEG C,TU
  316N138_7,       P14C,      42,          1,          5,          5,2,19920910,       0942,   -20.1300,   177.5367,       2520,     1.7,  25.1010,  35.6063,2,  35.6098,2,    196.4,2,   207.0,2,    1.77,2,    0.03,2,    0.00,2,    0.14,2,-999.000,9,-999.000,9,-999.000,9,-999.0000,9, -999.00,9, -999.00,9,  -999.0,9,  -999.0,-999.000,9,-999.000,-999.0000,-999.000,  25.1006,-999.000
  316N138_7,       P14C,      42,          1,          6,          6,2,19920910,       0942,   -20.1300,   177.5367,       2520,    14.0,  25.1063,  35.6063,2,  35.6108,2,    199.2,2,   206.7,2,    1.74,2,    0.03,2,    0.00,2,    0.13,2,   1.834,2,   0.995,2,-999.000,9,-999.0000,9, -999.00,9, -999.00,9,  -999.0,9,  -999.0,-999.000,9,-999.000,-999.0000,-999.000,  25.1032,-999.000
  316N138_7,       P14C,      42,          1,          7,          7,2,19920910,       0942,   -20.1300,   177.5367,       2520,    54.0,  24.4174,  35.6047,2,  35.6108,2,    205.2,2,   206.8,2,    1.72,2,    0.03,2,    0.00,2,    0.12,2,   1.800,2,   0.980,2,-999.000,9,-999.0000,9, -999.00,9, -999.00,9,  -999.0,9,  -999.0,-999.000,9,-999.000,-999.0000,-999.000,  24.4058,-999.000
  316N138_7,       P14C,      42,          1,         13,         13,2,19920910,       0942,   -20.1300,   177.5367,       2520,   103.6,  23.2106,  35.5941,2,  35.5947,2,    216.8,2,   209.3,2,    1.70,2,    0.03,2,    0.01,2,    0.09,2,   1.903,2,   1.032,2,-999.000,9,-999.0000,9, -999.00,9, -999.00,9,  -999.0,9,  -999.0,-999.000,9,-999.000,-999.0000,-999.000,  23.1892,-999.000
  316N138_7,       P14C,      42,          1,         14,         14,2,19920910,       0942,   -20.1300,   177.5367,       2520,   153.5,  22.7244,  35.6430,2,  35.6467,2,    213.2,2,   211.0,2,    1.67,2,    0.00,2,    0.03,2,    0.08,2,   1.967,2,   1.065,2,-999.000,9,-999.0000,9, -999.00,9, -999.00,9,  -999.0,9,  -999.0,-999.000,9,-999.000,-999.0000,-999.000,  22.6932,-999.000
  316N138_7,       P14C,      42,          1,         15,         15,2,19920910,       0942,   -20.1300,   177.5367,       2520,   203.8,  21.3094,  35.7152,2,  35.7133,2,    174.5,2,   174.6,2,    1.65,2,    3.24,2,    0.02,2,    0.37,2,   1.810,2,   0.966,2,-999.000,9,-999.0000,9, -999.00,9, -999.00,9,  -999.0,9,  -999.0,-999.000,9,-999.000,-999.0000,-999.000,  21.2699,-999.000
  316N138_7,       P14C,      42,          1,         16,         16,2,19920910,       0942,   -20.1300,   177.5367,       2520,   253.3,  19.2928,  35.6173,2,  35.6138,2,    182.2,2,   184.8,2,    1.82,2,    3.72,2,    0.01,2,    0.37,2,-999.000,9,-999.000,9,-999.000,9,-999.0000,9, -999.00,9, -999.00,9,  -999.0,9,  -999.0,-999.000,9,-999.000,-999.0000,-999.000,  19.2469,-999.000
  316N138_7,       P14C,      42,          1,         17,         17,2,19920910,       0942,   -20.1300,   177.5367,       2520,   303.6,  17.4873,  35.5165,2,  35.5173,2,    185.0,2,   186.1,2,    2.19,2,    5.45,2,    0.01,2,    0.50,2,   1.849,2,   0.966,2,-999.000,9,-999.0000,9, -999.00,9, -999.00,9,  -999.0,9,  -999.0,-999.000,9,-999.000,-999.0000,-999.000,  17.4359,-999.000
  316N138_7,       P14C,      42,          1,         18,         18,2,19920910,       0942,   -20.1300,   177.5367,       2520,   353.1,  15.9911,  35.3878,2,  35.3807,2,    186.3,2,   184.6,2,    3.14,2,    7.51,2,    0.00,2,    0.64,2,-999.000,9,-999.000,9,-999.000,9,-999.0000,9, -999.00,9, -999.00,9,  -999.0,9,  -999.0,-999.000,9,-999.000,-999.0000,-999.000,  15.9349,-999.000
  316N138_7,       P14C,      42,          1,         19,         19,2,19920910,       0942,   -20.1300,   177.5367,       2520,   402.5,  14.4631,  35.2248,2,  35.2154,2,    185.4,2,   183.5,2,    3.91,2,   10.08,2,    0.00,2,    0.81,2,-999.000,9,-999.000,9,-999.000,9,-999.0000,9, -999.00,9, -999.00,9,  -999.0,9,  -999.0,-999.000,9,-999.000,-999.0000,-999.000,  14.4031,-999.000
  316N138_7,       P14C,      42,          1,         20,         20,2,19920910,       0942,   -20.1300,   177.5367,       2520,   501.5,  10.9764,  34.7975,2,  34.7959,2,    179.0,2,   180.0,2,    8.21,2,   17.21,2,    0.00,2,    1.28,2,-999.000,9,-999.000,9,-999.000,9,-999.0000,9, -999.00,9, -999.00,9,  -999.0,9,  -999.0,-999.000,9,-999.000,-999.0000,-999.000,  10.9140,-999.000
  316N138_7,       P14C,      42,          1,         21,         21,2,19920910,       0942,   -20.1300,   177.5367,       2520,   601.4,   8.1100,  34.5262,2,  34.5212,2,    190.5,2,   191.2,2,   13.10,2,   23.09,2,    0.00,2,    1.64,2,-999.000,9,-999.000,9,-999.000,9,-999.0000,9, -999.00,9, -999.00,9,  -999.0,9,  -999.0,-999.000,9,-999.000,-999.0000,-999.000,   8.0475,-999.000
  316N138_7,       P14C,      42,          1,         22,         22,2,19920910,       0942,   -20.1300,   177.5367,       2520,   701.6,   6.3649,  34.4010,2,  34.4030,2,    197.1,2,   198.5,2,   19.17,2,   26.62,2,    0.00,2,    1.86,2,-999.000,9,-999.000,9,-999.000,9,-999.0000,9, -999.00,9, -999.00,9,  -999.0,9,  -999.0,-999.000,9,-999.000,-999.0000,-999.000,   6.3008,-999.000
  316N138_7,       P14C,      42,          1,         23,         23,2,19920910,       0942,   -20.1300,   177.5367,       2520,   802.5,   5.3709,  34.3934,2,  34.3929,2,    185.2,2,   184.9,2,   32.51,2,   29.99,2,    0.00,2,    2.07,2,-999.000,9,-999.000,9,-999.000,9,-999.0000,9, -999.00,9, -999.00,9,  -999.0,9,  -999.0,-999.000,9,-999.000,-999.0000,-999.000,   5.3031,-999.000
  316N138_7,       P14C,      42,          1,         24,         24,2,19920910,       0942,   -20.1300,   177.5367,       2520,   902.6,   4.7484,  34.4136,2,  34.4150,2,    175.4,2,   176.2,2,   44.29,2,   31.67,2,    0.00,2,    2.20,2,-999.000,9,-999.000,9,-999.000,9,-999.0000,9, -999.00,9, -999.00,9,  -999.0,9,  -999.0,-999.000,9,-999.000,-999.0000,-999.000,   4.6757,-999.000
  316N138_7,       P14C,      42,          1,         25,         25,2,19920910,       0942,   -20.1300,   177.5367,       2520,  1002.8,   4.0859,  34.4487,2,  34.4489,2,    167.4,2,   168.6,2,   58.24,2,   33.09,2,    0.00,2,    2.29,2,-999.000,9,-999.000,9,-999.000,9,-999.0000,9, -999.00,9, -999.00,9,  -999.0,9,  -999.0,-999.000,9,-999.000,-999.0000,-999.000,   4.0095,-999.000
  316N138_7,       P14C,      42,          1,         26,         26,2,19920910,       0942,   -20.1300,   177.5367,       2520,  1103.5,   3.7975,  34.4739,2,  34.4721,2,    163.9,2,   164.7,2,   66.30,2,   33.79,2,    0.00,2,    2.34,2,-999.000,9,-999.000,9,-999.000,9,-999.0000,9, -999.00,9, -999.00,9,  -999.0,9,  -999.0,-999.000,9,-999.000,-999.0000,-999.000,   3.7149,-999.000
  316N138_7,       P14C,      42,          1,         27,         27,2,19920910,       0942,   -20.1300,   177.5367,       2520,  1203.2,   3.5701,  34.5037,2,  34.5035,2,    157.7,2,   159.7,2,   75.56,2,   34.19,2,    0.00,2,    2.37,2,-999.000,9,-999.000,9,-999.000,9,-999.0000,9, -999.00,9, -999.00,9,  -999.0,9,  -999.0,-999.000,9,-999.000,-999.0000,-999.000,   3.4812,-999.000
  316N138_7,       P14C,      42,          1,         28,         28,2,19920910,       0942,   -20.1300,   177.5367,       2520,  1301.3,   3.2539,  34.5374,2,  34.5384,2,    154.9,2,   155.1,2,   85.85,2,   34.68,2,    0.00,2,    2.41,2,-999.000,9,-999.000,9,-999.000,9,-999.0000,9, -999.00,9, -999.00,9,  -999.0,9,  -999.0,-999.000,9,-999.000,-999.0000,-999.000,   3.1598,-999.000
  316N138_7,       P14C,      42,          1,         29,         29,2,19920910,       0942,   -20.1300,   177.5367,       2520,  1399.5,   3.0827,  34.5550,2,  34.5559,2,    153.6,2,   152.9,2,   91.60,2,   35.03,2,    0.00,2,    2.44,2,-999.000,9,-999.000,9,-999.000,9,-999.0000,9, -999.00,9, -999.00,9,  -999.0,9,  -999.0,-999.000,9,-999.000,-999.0000,-999.000,   2.9823,-999.000
  316N138_7,       P14C,      42,          1,         30,         30,2,19920910,       0942,   -20.1300,   177.5367,       2520,  1497.9,   2.8483,  34.5785,2,  34.5778,2,    152.4,2,   152.0,2,   97.97,2,   35.17,2,    0.00,2,    2.45,2,-999.000,9,-999.000,9,-999.000,9,-999.0000,9, -999.00,9, -999.00,9,  -999.0,9,  -999.0,-999.000,9,-999.000,-999.0000,-999.000,   2.7424,-999.000
  316N138_7,       P14C,      42,          1,         31,         31,2,19920910,       0942,   -20.1300,   177.5367,       2520,  1598.8,   2.7260,  34.5901,2,  34.5902,2,    150.5,2,   151.0,2,  101.96,2,   35.22,2,    0.00,2,    2.46,2,-999.000,9,-999.000,9,-999.000,9,-999.0000,9, -999.00,9, -999.00,9,  -999.0,9,  -999.0,-999.000,9,-999.000,-999.0000,-999.000,   2.6132,-999.000
  316N138_7,       P14C,      42,          1,         32,         32,2,19920910,       0942,   -20.1300,   177.5367,       2520,  1803.8,   2.4288,  34.6199,2,  34.6194,2,    151.0,2,   150.7,2,  110.21,2,   35.45,2,    0.00,2,    2.47,2,-999.000,9,-999.000,9,-999.000,9,-999.0000,9, -999.00,9, -999.00,9,  -999.0,9,  -999.0,-999.000,9,-999.000,-999.0000,-999.000,   2.3027,-999.000
  316N138_7,       P14C,      42,          1,         33,         33,2,19920910,       0942,   -20.1300,   177.5367,       2520,  2009.6,   2.2433,  34.6372,2,  34.6373,2,    151.0,2,   150.7,2,  115.68,2,   35.55,2,    0.00,2,    2.48,2,-999.000,9,-999.000,9,-999.000,9,-999.0000,9, -999.00,9, -999.00,9,  -999.0,9,  -999.0,-999.000,9,-999.000,-999.0000,-999.000,   2.1023,-999.000
  316N138_7,       P14C,      42,          1,         34,         34,2,19920910,       0942,   -20.1300,   177.5367,       2520,  2215.1,   2.1450,  34.6468,2,  34.6475,2,    152.0,2,   151.2,2,  117.90,2,   35.51,2,    0.00,2,    2.47,2,-999.000,9,-999.000,9,-999.000,9,-999.0000,9, -999.00,9, -999.00,9,  -999.0,9,  -999.0,-999.000,9,-999.000,-999.0000,-999.000,   1.9877,-999.000
  316N138_7,       P14C,      42,          1,         35,         35,2,19920910,       0942,   -20.1300,   177.5367,       2520,  2420.6,   2.0371,  34.6578,2,  34.6570,2,    152.1,2,   152.1,2,  120.53,2,   35.52,2,    0.00,2,    2.47,2,-999.000,9,-999.000,9,-999.000,9,-999.0000,9, -999.00,9, -999.00,9,  -999.0,9,  -999.0,-999.000,9,-999.000,-999.0000,-999.000,   1.8633,-999.000
  316N138_7,       P14C,      42,          1,         37,         37,2,19920910,       0942,   -20.1300,   177.5367,       2520,  2538.5,   1.9657,  34.6652,2,  34.6648,2,    152.6,2,   153.3,2,  122.15,2,   35.36,2,    0.00,2,    2.47,2,-999.000,9,-999.000,9,-999.000,9,-999.0000,9, -999.00,9, -999.00,9,  -999.0,9,  -999.0,-999.000,9,-999.000,-999.0000,-999.000,   1.7825,-999.000