BOTTLE,20211105CCHSIORKP
EXPOCODE,SECT_ID,STNNBR,CASTNO,SAMPNO,BTLNBR,BTLNBR_FLAG_W,DATE,TIME,LATITUDE,LONGITUDE,DEPTH,CTDPRS,CTDTMP,CTDSAL,CTDSAL_FLAG_W,SALNTY,SALNTY_FLAG_W,CTDOXY,CTDOXY_FLAG_W,OXYGEN,OXYGEN_FLAG_W,SILCAT,SILCAT_FLAG_W,NITRAT,NITRAT_FLAG_W,NITRIT,NITRIT_FLAG_W,PHSPHT,PHSPHT_FLAG_W,CFC-11,CFC-11_FLAG_W,CFC-12,CFC-12_FLAG_W,TRITUM,TRITUM_FLAG_W,HELIUM,HELIUM_FLAG_W,DELHE3,DELHE3_FLAG_W,DELC13,DELC13_FLAG_W,DELC14,DELC14_FLAG_W,C14ERR,NEON,NEON_FLAG_W,NEONER,HELIER,DELHER,THETA,TRITER
,,,,,,,,,,,METERS,DBAR,ITS-90,PSS-78,,PSS-78,,UMOL/KG,,UMOL/KG,,UMOL/KG,,UMOL/KG,,UMOL/KG,,UMOL/KG,,PMOL/KG,,PMOL/KG,,TU,,NMOL/KG,,PERCNT,,/MILLE,,/MILLE,,/MILLE,NMOL/KG,,NMOL/KG,NMOL/KG,PERCNT,DEG C,TU
  316N138_7,       P14C,      25,          1,          1,          1,2,19920906,       1008,   -26.5417,   176.5950,       4421,     2.0,  19.6754,  35.6494,2,  35.6561,2,    219.9,2,   226.8,2,    1.46,2,    0.01,2,    0.02,2,    0.12,2,   2.219,2,   1.187,2,-999.000,9,-999.0000,9, -999.00,9, -999.00,9,  -999.0,9,  -999.0,-999.000,9,-999.000,-999.0000,-999.000,  19.6750,-999.000
  316N138_7,       P14C,      25,          1,          2,          2,2,19920906,       1008,   -26.5417,   176.5950,       4421,    17.5,  19.6729,  35.6554,2,  35.6550,2,    222.3,2,   225.7,2,    1.45,2,    0.04,2,    0.03,2,    0.12,2,-999.000,9,-999.000,9,-999.000,9,-999.0000,9, -999.00,9, -999.00,9,  -999.0,9,  -999.0,-999.000,9,-999.000,-999.0000,-999.000,  19.6697,-999.000
  316N138_7,       P14C,      25,          1,          3,          3,2,19920906,       1008,   -26.5417,   176.5950,       4421,    55.5,  19.3222,  35.6763,2,  35.6754,2,    212.2,2,   212.5,2,    1.43,2,    1.17,2,    0.09,2,    0.20,2,   2.207,2,   1.124,2,-999.000,9,-999.0000,9, -999.00,9, -999.00,9,  -999.0,9,  -999.0,-999.000,9,-999.000,-999.0000,-999.000,  19.3121,-999.000
  316N138_7,       P14C,      25,          1,          4,          4,2,19920906,       1008,   -26.5417,   176.5950,       4421,    95.4,  18.6508,  35.6504,2,  35.6488,2,    205.3,2,   206.9,2,    1.61,2,    2.38,2,    0.02,2,    0.28,2,   2.185,2,   1.161,2,-999.000,9,-999.0000,9, -999.00,9, -999.00,9,  -999.0,9,  -999.0,-999.000,9,-999.000,-999.0000,-999.000,  18.6340,-999.000
  316N138_7,       P14C,      25,          1,          5,          5,2,19920906,       1008,   -26.5417,   176.5950,       4421,   143.4,  17.6121,  35.5585,2,  35.5584,2,    192.3,2,   193.3,2,    1.80,2,    4.71,2,    0.01,2,    0.44,2,   2.039,2,   1.066,2,-999.000,9,-999.0000,9, -999.00,9, -999.00,9,  -999.0,9,  -999.0,-999.000,9,-999.000,-999.0000,-999.000,  17.5878,-999.000
  316N138_7,       P14C,      25,          1,          6,          6,2,19920906,       1008,   -26.5417,   176.5950,       4421,   188.6,  16.9575,  35.5489,2,  35.5470,2,    200.3,2,   211.7,3,    1.78,2,    3.87,2,    0.01,2,    0.39,2,   2.223,2,   1.168,2,-999.000,9,-999.0000,9, -999.00,9, -999.00,9,  -999.0,9,  -999.0,-999.000,9,-999.000,-999.0000,-999.000,  16.9263,-999.000
  316N138_7,       P14C,      25,          1,          7,          7,2,19920906,       1008,   -26.5417,   176.5950,       4421,   240.6,  16.0948,  35.4573,2,  35.4600,2,    200.4,2,   198.8,2,    2.56,2,    6.27,2,    0.01,2,    0.54,2,   2.105,2,   1.080,2,-999.000,9,-999.0000,9, -999.00,9, -999.00,9,  -999.0,9,  -999.0,-999.000,9,-999.000,-999.0000,-999.000,  16.0564,-999.000
  316N138_7,       P14C,      25,          1,          8,          8,2,19920906,       1008,   -26.5417,   176.5950,       4421,   296.5,  15.0376,  35.3471,2,  35.3447,2,    195.9,2,   192.5,2,    3.34,2,    8.56,2,    0.01,2,    0.68,2,   1.908,2,   0.993,2,-999.000,9,-999.0000,9, -999.00,9, -999.00,9,  -999.0,9,  -999.0,-999.000,9,-999.000,-999.0000,-999.000,  14.9923,-999.000
  316N138_7,       P14C,      25,          1,          9,          9,2,19920906,       1008,   -26.5417,   176.5950,       4421,   351.0,  13.8459,  35.2315,2,  35.2273,2,    193.1,2,   193.5,2,    4.12,2,   10.29,2,    0.01,2,    0.80,2,-999.000,9,-999.000,9,-999.000,9,-999.0000,9, -999.00,9, -999.00,9,  -999.0,9,  -999.0,-999.000,9,-999.000,-999.0000,-999.000,  13.7951,-999.000
  316N138_7,       P14C,      25,          1,         10,         10,2,19920906,       1008,   -26.5417,   176.5950,       4421,   406.0,  12.3952,  35.0455,2,  35.0445,2,    187.5,2,   187.8,2,    5.50,2,   13.55,2,    0.00,2,    1.00,2,   1.460,2,   0.748,2,-999.000,9,-999.0000,9, -999.00,9, -999.00,9,  -999.0,9,  -999.0,-999.000,9,-999.000,-999.0000,-999.000,  12.3406,-999.000
  316N138_7,       P14C,      25,          1,         11,         11,2,19920906,       1008,   -26.5417,   176.5950,       4421,   508.4,  10.3488,  34.7948,2,  34.8756,2,    191.9,2,   191.1,2,    7.28,2,   16.43,2,    0.00,2,    1.18,2,   1.281,2,   0.650,2,-999.000,9,-999.0000,9, -999.00,9, -999.00,9,  -999.0,9,  -999.0,-999.000,9,-999.000,-999.0000,-999.000,  10.2878,-999.000
  316N138_7,       P14C,      25,          1,         12,         12,2,19920906,       1008,   -26.5417,   176.5950,       4421,   608.0,   8.4942,  34.5935,2,  34.5909,2,    201.8,2,   203.7,2,    9.65,2,   21.05,2,    0.00,2,    1.47,2,   0.819,2,   0.428,2,-999.000,9,-999.0000,9, -999.00,9, -999.00,9,  -999.0,9,  -999.0,-999.000,9,-999.000,-999.0000,-999.000,   8.4292,-999.000
  316N138_7,       P14C,      25,          1,         13,         13,2,19920906,       1008,   -26.5417,   176.5950,       4421,   707.3,   7.4167,  34.4900,2,  34.4899,2,    207.5,2,   207.1,2,   12.42,2,   23.26,2,    0.00,2,    1.61,2,   0.538,2,   0.294,2,-999.000,9,-999.0000,9, -999.00,9, -999.00,9,  -999.0,9,  -999.0,-999.000,9,-999.000,-999.0000,-999.000,   7.3463,-999.000
  316N138_7,       P14C,      25,          1,         14,         14,2,19920906,       1008,   -26.5417,   176.5950,       4421,   807.1,   6.4840,  34.4236,2,  34.4274,2,    204.0,2,   204.6,2,   18.38,2,   25.81,2,    0.00,2,    1.78,2,   0.282,2,   0.154,2,-999.000,9,-999.0000,9, -999.00,9, -999.00,9,  -999.0,9,  -999.0,-999.000,9,-999.000,-999.0000,-999.000,   6.4089,-999.000
  316N138_7,       P14C,      25,          1,         15,         15,2,19920906,       1008,   -26.5417,   176.5950,       4421,   907.0,   5.4624,  34.3804,2,  34.3795,2,    198.9,2,   198.9,2,   26.33,2,   28.45,2,    0.00,2,    1.97,2,   0.133,2,   0.080,2,-999.000,9,-999.0000,9, -999.00,9, -999.00,9,  -999.0,9,  -999.0,-999.000,9,-999.000,-999.0000,-999.000,   5.3844,-999.000
  316N138_7,       P14C,      25,          1,         16,         16,2,19920906,       1008,   -26.5417,   176.5950,       4421,  1005.0,   4.8513,  34.3837,2,  34.3833,2,    189.1,2,   189.2,2,   36.27,2,   30.47,2,    0.00,2,    2.11,2,-999.000,9,-999.000,9,-999.000,9,-999.0000,9, -999.00,9, -999.00,9,  -999.0,9,  -999.0,-999.000,9,-999.000,-999.0000,-999.000,   4.7689,-999.000
  316N138_7,       P14C,      25,          1,         17,         17,2,19920906,       1008,   -26.5417,   176.5950,       4421,  1104.6,   4.2459,  34.4268,2,  34.4254,2,    178.0,2,   178.5,2,   51.00,2,   32.01,2,    0.00,2,    2.23,2,   0.026,2,   0.013,2,-999.000,9,-999.0000,9, -999.00,9, -999.00,9,  -999.0,9,  -999.0,-999.000,9,-999.000,-999.0000,-999.000,   4.1595,-999.000
  316N138_7,       P14C,      25,          1,         18,         18,2,19920906,       1008,   -26.5417,   176.5950,       4421,  1206.0,   3.7328,  34.4802,2,  34.4772,2,    167.7,2,   169.5,2,   65.55,2,   33.13,2,    0.00,2,    2.31,2,   0.009,2,   0.009,2,-999.000,9,-999.0000,9, -999.00,9, -999.00,9,  -999.0,9,  -999.0,-999.000,9,-999.000,-999.0000,-999.000,   3.6423,-999.000
  316N138_7,       P14C,      25,          1,         19,         19,2,19920906,       1008,   -26.5417,   176.5950,       4421,  1309.3,   3.4302,  34.5158,2,  34.5149,2,    162.3,2,   164.3,2,   76.93,2,   33.82,2,    0.00,2,    2.35,2,-999.000,9,-999.000,9,-999.000,9,-999.0000,9, -999.00,9, -999.00,9,  -999.0,9,  -999.0,-999.000,9,-999.000,-999.0000,-999.000,   3.3338,-999.000
  316N138_7,       P14C,      25,          1,         20,         20,2,19920906,       1008,   -26.5417,   176.5950,       4421,  1412.2,   3.1369,  34.5507,2,  34.5497,2,    157.1,2,   158.9,2,   87.16,2,   34.12,2,    0.00,2,    2.40,2,  -0.001,2,   0.001,2,-999.000,9,-999.0000,9, -999.00,9, -999.00,9,  -999.0,9,  -999.0,-999.000,9,-999.000,-999.0000,-999.000,   3.0349,-999.000
  316N138_7,       P14C,      25,          1,         21,         21,2,19920906,       1008,   -26.5417,   176.5950,       4421,  1617.3,   2.7611,  34.5912,2,  34.5891,2,    153.9,2,   154.9,2,   99.47,2,   34.64,2,    0.00,2,    2.43,2,   0.001,2,  -0.001,2,-999.000,9,-999.0000,9, -999.00,9, -999.00,9,  -999.0,9,  -999.0,-999.000,9,-999.000,-999.0000,-999.000,   2.6463,-999.000
  316N138_7,       P14C,      25,          1,         22,         22,2,19920906,       1008,   -26.5417,   176.5950,       4421,  1820.2,   2.4566,  34.6184,2,  34.6168,2,    152.9,2,   152.5,2,  109.23,2,   34.99,2,    0.00,2,    2.45,2,  -0.005,2,   0.002,2,-999.000,9,-999.0000,9, -999.00,9, -999.00,9,  -999.0,9,  -999.0,-999.000,9,-999.000,-999.0000,-999.000,   2.3287,-999.000
  316N138_7,       P14C,      25,          1,         24,         24,2,19920906,       1008,   -26.5417,   176.5950,       4421,  2019.5,   2.2680,  34.6359,2,  34.6354,2,    152.4,2,   151.9,2,  114.11,2,   35.16,2,    0.00,2,    2.46,2,  -0.005,2,  -0.001,2,-999.000,9,-999.0000,9, -999.00,9, -999.00,9,  -999.0,9,  -999.0,-999.000,9,-999.000,-999.0000,-999.000,   2.1258,-999.000
  316N138_7,       P14C,      25,          1,         23,         23,2,19920906,       1008,   -26.5417,   176.5950,       4421,  2022.3,   2.2749,  34.6356,2,  34.6355,2,    153.3,2,   152.1,2,  114.35,2,   35.16,2,    0.00,2,    2.46,2,-999.000,9,-999.000,9,-999.000,9,-999.0000,9, -999.00,9, -999.00,9,  -999.0,9,  -999.0,-999.000,9,-999.000,-999.0000,-999.000,   2.1324,-999.000
  316N138_7,       P14C,      25,          1,         25,         25,2,19920906,       1008,   -26.5417,   176.5950,       4421,  2222.7,   2.1387,  34.6487,2,  34.6480,2,    153.4,2,   152.6,2,  117.38,2,   35.16,2,    0.00,2,    2.46,2,  -0.001,2,   0.001,2,-999.000,9,-999.0000,9, -999.00,9, -999.00,9,  -999.0,9,  -999.0,-999.000,9,-999.000,-999.0000,-999.000,   1.9809,-999.000
  316N138_7,       P14C,      25,          1,         26,         26,2,19920906,       1008,   -26.5417,   176.5950,       4421,  2428.1,   2.0414,  34.6587,2,  34.6580,2,    154.0,2,   153.5,2,  119.63,2,   35.11,2,    0.00,2,    2.45,2,-999.000,9,-999.000,9,-999.000,9,-999.0000,9, -999.00,9, -999.00,9,  -999.0,9,  -999.0,-999.000,9,-999.000,-999.0000,-999.000,   1.8669,-999.000
  316N138_7,       P14C,      25,          1,         27,         27,2,19920906,       1008,   -26.5417,   176.5950,       4421,  2633.2,   1.9486,  34.6677,2,  34.6669,2,    154.8,2,   154.4,2,  122.10,2,   35.11,2,    0.00,2,    2.46,2,   0.001,2,   0.003,2,-999.000,9,-999.0000,9, -999.00,9, -999.00,9,  -999.0,9,  -999.0,-999.000,9,-999.000,-999.0000,-999.000,   1.7570,-999.000
  316N138_7,       P14C,      25,          1,         28,         28,2,19920906,       1008,   -26.5417,   176.5950,       4421,  2837.6,   1.8869,  34.6740,2,  34.6732,2,    155.3,2,   155.1,2,  123.94,2,   35.11,2,    0.00,2,    2.46,2,  -0.006,2,  -0.005,2,-999.000,9,-999.0000,9, -999.00,9, -999.00,9,  -999.0,9,  -999.0,-999.000,9,-999.000,-999.0000,-999.000,   1.6773,-999.000
  316N138_7,       P14C,      25,          1,         29,         29,2,19920906,       1008,   -26.5417,   176.5950,       4421,  3041.6,   1.8536,  34.6775,2,  34.6782,2,    155.8,2,   155.4,2,  125.38,2,   35.07,2,    0.00,2,    2.45,2,-999.000,9,-999.000,9,-999.000,9,-999.0000,9, -999.00,9, -999.00,9,  -999.0,9,  -999.0,-999.000,9,-999.000,-999.0000,-999.000,   1.6250,-999.000
  316N138_7,       P14C,      25,          1,         30,         30,2,19920906,       1008,   -26.5417,   176.5950,       4421,  3243.3,   1.8396,  34.6800,2,  34.6804,2,    155.9,2,   156.0,2,  125.97,2,   35.07,2,    0.00,2,    2.45,2,-999.000,9,-999.000,9,-999.000,9,-999.0000,9, -999.00,9, -999.00,9,  -999.0,9,  -999.0,-999.000,9,-999.000,-999.0000,-999.000,   1.5912,-999.000
  316N138_7,       P14C,      25,          1,         31,         31,2,19920906,       1008,   -26.5417,   176.5950,       4421,  3443.8,   1.8417,  34.6818,2,  34.6814,2,    156.5,2,   156.2,2,  126.15,2,   35.06,2,    0.00,2,    2.45,2,  -0.003,2,   0.005,2,-999.000,9,-999.0000,9, -999.00,9, -999.00,9,  -999.0,9,  -999.0,-999.000,9,-999.000,-999.0000,-999.000,   1.5728,-999.000
  316N138_7,       P14C,      25,          1,         32,         32,2,19920906,       1008,   -26.5417,   176.5950,       4421,  3642.0,   1.8495,  34.6823,2,  34.6823,2,    156.1,2,   156.1,2,  126.54,2,   35.06,2,    0.00,2,    2.45,2,-999.000,9,-999.000,9,-999.000,9,-999.0000,9, -999.00,9, -999.00,9,  -999.0,9,  -999.0,-999.000,9,-999.000,-999.0000,-999.000,   1.5597,-999.000
  316N138_7,       P14C,      25,          1,         33,         33,2,19920906,       1008,   -26.5417,   176.5950,       4421,  3841.2,   1.8611,  34.6824,2,  34.6831,2,    156.0,2,   156.3,2,  126.72,2,   35.02,2,    0.00,2,    2.45,2,-999.000,9,-999.000,9,-999.000,9,-999.0000,9, -999.00,9, -999.00,9,  -999.0,9,  -999.0,-999.000,9,-999.000,-999.0000,-999.000,   1.5496,-999.000
  316N138_7,       P14C,      25,          1,         34,         34,2,19920906,       1008,   -26.5417,   176.5950,       4421,  4037.5,   1.8766,  34.6830,2,  34.6831,2,    156.7,2,   156.3,2,  127.11,2,   34.97,2,    0.00,2,    2.46,2,  -0.002,2,   0.002,2,-999.000,9,-999.0000,9, -999.00,9, -999.00,9,  -999.0,9,  -999.0,-999.000,9,-999.000,-999.0000,-999.000,   1.5430,-999.000
  316N138_7,       P14C,      25,          1,         35,         35,2,19920906,       1008,   -26.5417,   176.5950,       4421,  4235.2,   1.8938,  34.6832,2,  34.6834,2,    156.9,2,   156.3,2,  127.50,2,   35.02,2,    0.00,2,    2.46,2,-999.000,9,-999.000,9,-999.000,9,-999.0000,9, -999.00,9, -999.00,9,  -999.0,9,  -999.0,-999.000,9,-999.000,-999.0000,-999.000,   1.5373,-999.000
  316N138_7,       P14C,      25,          1,         37,         37,2,19920906,       1008,   -26.5417,   176.5950,       4421,  4491.9,   1.9206,  34.6834,2,  34.6836,2,    155.5,2,   156.3,2,  127.46,2,   34.97,2,    0.00,2,    2.46,2,   0.005,2,   0.000,2,-999.000,9,-999.0000,9, -999.00,9, -999.00,9,  -999.0,9,  -999.0,-999.000,9,-999.000,-999.0000,-999.000,   1.5336,-999.000