BOTTLE,20211105CCHSIORKP
EXPOCODE,SECT_ID,STNNBR,CASTNO,SAMPNO,BTLNBR,BTLNBR_FLAG_W,DATE,TIME,LATITUDE,LONGITUDE,DEPTH,CTDPRS,CTDTMP,CTDSAL,CTDSAL_FLAG_W,SALNTY,SALNTY_FLAG_W,CTDOXY,CTDOXY_FLAG_W,OXYGEN,OXYGEN_FLAG_W,SILCAT,SILCAT_FLAG_W,NITRAT,NITRAT_FLAG_W,NITRIT,NITRIT_FLAG_W,PHSPHT,PHSPHT_FLAG_W,CFC-11,CFC-11_FLAG_W,CFC-12,CFC-12_FLAG_W,TRITUM,TRITUM_FLAG_W,HELIUM,HELIUM_FLAG_W,DELHE3,DELHE3_FLAG_W,DELC13,DELC13_FLAG_W,DELC14,DELC14_FLAG_W,C14ERR,NEON,NEON_FLAG_W,NEONER,HELIER,DELHER,THETA,TRITER
,,,,,,,,,,,METERS,DBAR,ITS-90,PSS-78,,PSS-78,,UMOL/KG,,UMOL/KG,,UMOL/KG,,UMOL/KG,,UMOL/KG,,UMOL/KG,,PMOL/KG,,PMOL/KG,,TU,,NMOL/KG,,PERCNT,,/MILLE,,/MILLE,,/MILLE,NMOL/KG,,NMOL/KG,NMOL/KG,PERCNT,DEG C,TU
  316N138_7,       P14C,      15,          1,          1,          1,2,19920903,       2316,   -30.8817,   175.8583,     -999.0,     0.7,  17.1835,  35.5910,2,  35.5899,2,    241.4,2,   235.5,2,    2.11,2,    1.49,2,    0.27,2,    0.26,2,-999.000,9,-999.000,9,-999.000,9,-999.0000,9, -999.00,9,    1.32,2,   138.4,2,     9.2,-999.000,9,-999.000,-999.0000,-999.000,  17.1833,-999.000
  316N138_7,       P14C,      15,          1,          2,          2,2,19920903,       2316,   -30.8817,   175.8583,     -999.0,    15.7,  17.1598,  35.5911,2,  35.5904,2,    242.8,2,   235.6,2,    1.90,2,    1.50,2,    0.26,2,    0.27,2,   2.449,2,   1.290,2,-999.000,9,-999.0000,9, -999.00,9, -999.00,9,  -999.0,9,  -999.0,-999.000,9,-999.000,-999.0000,-999.000,  17.1572,-999.000
  316N138_7,       P14C,      15,          1,          3,          3,2,19920903,       2316,   -30.8817,   175.8583,     -999.0,    56.1,  17.0294,  35.5797,2,  35.5778,2,    235.9,2,   236.8,2,    1.88,2,    1.52,2,    0.24,2,    0.28,2,   2.511,2,   1.306,2,-999.000,9,-999.0000,9, -999.00,9,    1.41,2,   131.3,2,     4.7,-999.000,9,-999.000,-999.0000,-999.000,  17.0201,-999.000
  316N138_7,       P14C,      15,          1,          4,          4,2,19920903,       2316,   -30.8817,   175.8583,     -999.0,   105.8,  16.8527,  35.5616,2,  35.5603,2,    230.3,2,   233.3,2,    2.07,2,    2.21,2,    0.20,2,    0.31,2,   2.452,2,   1.292,2,-999.000,9,-999.0000,9, -999.00,9,    1.34,2,   129.2,2,     3.5,-999.000,9,-999.000,-999.0000,-999.000,  16.8353,-999.000
  316N138_7,       P14C,      15,          1,          5,          5,2,19920903,       2316,   -30.8817,   175.8583,     -999.0,   155.8,  16.4577,  35.4970,2,  35.4980,2,    220.9,2,   219.5,2,    2.46,2,    4.16,2,    0.11,2,    0.42,2,   2.333,2,   1.226,2,-999.000,9,-999.0000,9, -999.00,9, -999.00,9,  -999.0,9,  -999.0,-999.000,9,-999.000,-999.0000,-999.000,  16.4325,-999.000
  316N138_7,       P14C,      15,          1,          6,          6,2,19920903,       2316,   -30.8817,   175.8583,     -999.0,   205.4,  16.0811,  35.4917,2,  35.3836,4,    231.0,2,   233.7,2,    2.25,2,    3.22,2,    0.22,2,    0.39,2,   2.532,2,   1.319,2,-999.000,9,-999.0000,9, -999.00,9,    1.38,2,   112.4,2,     3.6,-999.000,9,-999.000,-999.0000,-999.000,  16.0484,-999.000
  316N138_7,       P14C,      15,          1,          7,          7,2,19920903,       2316,   -30.8817,   175.8583,     -999.0,   256.6,  15.2632,  35.3816,2,  35.3838,2,    197.2,2,   197.3,2,    3.44,2,    7.75,2,    0.02,2,    0.66,2,-999.000,9,-999.000,9,-999.000,9,-999.0000,9, -999.00,9, -999.00,9,  -999.0,9,  -999.0,-999.000,9,-999.000,-999.0000,-999.000,  15.2237,-999.000
  316N138_7,       P14C,      15,          1,          8,          8,2,19920903,       2316,   -30.8817,   175.8583,     -999.0,   306.0,  13.8435,  35.2259,2,  35.1127,4,    193.3,2,   194.2,2,    4.63,2,   10.35,2,    0.01,2,    0.81,2,   1.905,2,   0.988,2,-999.000,9,-999.0000,9, -999.00,9,    1.19,2,    84.4,2,     3.5,-999.000,9,-999.000,-999.0000,-999.000,  13.7993,-999.000
  316N138_7,       P14C,      15,          1,          9,          9,2,19920903,       2316,   -30.8817,   175.8583,     -999.0,   356.3,  12.7608,  35.1041,2,  35.1113,2,    192.3,2,   192.7,2,    5.62,2,   12.60,2,    0.01,2,    0.95,2,   1.750,2,   0.892,2,-999.000,9,-999.0000,9, -999.00,9, -999.00,9,  -999.0,9,  -999.0,-999.000,9,-999.000,-999.0000,-999.000,  12.7121,-999.000
  316N138_7,       P14C,      15,          1,         10,         10,2,19920903,       2316,   -30.8817,   175.8583,     -999.0,   406.9,  11.7900,  34.9858,2,  34.9802,2,    189.5,2,   190.7,2,    6.41,2,   14.85,2,    0.01,2,    1.09,2,   1.498,2,   0.754,2,-999.000,9,-999.0000,9, -999.00,9,    1.21,2,    54.2,2,     4.8,-999.000,9,-999.000,-999.0000,-999.000,  11.7370,-999.000
  316N138_7,       P14C,      15,          1,         11,         11,2,19920903,       2316,   -30.8817,   175.8583,     -999.0,   507.1,  10.0766,  34.7859,2,  34.7783,2,    196.6,2,   195.7,2,    8.20,2,   18.14,2,    0.00,2,    1.31,2,   1.241,2,   0.630,2,-999.000,9,-999.0000,9, -999.00,9,    1.23,2,    39.4,2,     3.3,-999.000,9,-999.000,-999.0000,-999.000,  10.0167,-999.000
  316N138_7,       P14C,      15,          1,         12,         12,2,19920903,       2316,   -30.8817,   175.8583,     -999.0,   607.8,   8.4869,  34.6034,2,  34.6042,2,    204.6,2,   203.7,2,   10.80,2,   21.21,2,    0.00,2,    1.49,2,-999.000,9,-999.000,9,-999.000,9,-999.0000,9, -999.00,9,    1.27,2,    -6.1,2,     4.8,-999.000,9,-999.000,-999.0000,-999.000,   8.4219,-999.000
  316N138_7,       P14C,      15,          1,         13,         13,2,19920903,       2316,   -30.8817,   175.8583,     -999.0,   707.1,   7.2973,  34.4917,2,  34.4958,2,    207.0,2,   207.0,2,   14.19,2,   23.81,2,    0.00,2,    1.66,2,   0.571,2,   0.329,2,-999.000,9,-999.0000,9, -999.00,9,    1.27,2,   -28.4,2,     4.8,-999.000,9,-999.000,-999.0000,-999.000,   7.2276,-999.000
  316N138_7,       P14C,      15,          1,         14,         14,2,19920903,       2316,   -30.8817,   175.8583,     -999.0,   806.3,   6.6161,  34.4559,2,  34.4552,2,    202.9,2,   204.0,2,   19.59,2,   25.80,2,    0.00,2,    1.80,2,   0.377,2,   0.204,2,-999.000,9,-999.0000,9, -999.00,9,    1.22,2,   -54.8,2,     3.3,-999.000,9,-999.000,-999.0000,-999.000,   6.5402,-999.000
  316N138_7,       P14C,      15,          1,         15,         15,2,19920903,       2316,   -30.8817,   175.8583,     -999.0,   904.5,   5.9923,  34.4474,2,  34.4475,2,    194.0,2,   195.7,2,   27.80,2,   27.71,2,    0.00,2,    1.92,2,   0.238,2,   0.141,2,-999.000,9,-999.0000,9, -999.00,9,    1.09,2,   -78.4,2,     3.0,-999.000,9,-999.000,-999.0000,-999.000,   5.9108,-999.000
  316N138_7,       P14C,      15,          1,         16,         16,2,19920903,       2316,   -30.8817,   175.8583,     -999.0,  1007.0,   5.4360,  34.4583,2,  34.4579,2,    187.7,2,   188.1,2,   37.21,2,   29.32,2,    0.00,2,    2.04,2,   0.164,2,   0.083,2,-999.000,9,-999.0000,9, -999.00,9,    0.97,2,   -97.5,2,     3.0,-999.000,9,-999.000,-999.0000,-999.000,   5.3488,-999.000
  316N138_7,       P14C,      15,          1,         17,         17,2,19920903,       2316,   -30.8817,   175.8583,     -999.0,  1058.6,   5.1594,  34.4652,2,  34.4645,2,    184.2,2,   184.4,2,   42.00,2,   29.88,2,    0.00,2,    2.09,2,   0.140,2,   0.087,2,-999.000,9,-999.0000,9, -999.00,9, -999.00,9,  -999.0,9,  -999.0,-999.000,9,-999.000,-999.0000,-999.000,   5.0695,-999.000
  316N138_7,       P14C,      15,          1,         18,         18,2,19920903,       2316,   -30.8817,   175.8583,     -999.0,  1111.6,   4.8099,  34.4534,2,  34.4539,2,    182.0,2,   182.5,2,   46.00,2,   30.79,2,    0.00,2,    2.15,2,   0.096,2,   0.046,2,-999.000,9,-999.0000,9, -999.00,9, -999.00,9,  -999.0,9,  -999.0,-999.000,9,-999.000,-999.0000,-999.000,   4.7181,-999.000
  316N138_7,       P14C,      15,          1,         19,         19,2,19920903,       2316,   -30.8817,   175.8583,     -999.0,  1210.2,   4.3210,  34.4687,2,  34.4704,2,    176.8,2,   177.0,2,   55.41,2,   31.97,2,    0.00,2,    2.23,2,   0.059,2,   0.039,2,-999.000,9,-999.0000,9, -999.00,9,    0.81,2,  -123.1,2,     3.2,-999.000,9,-999.000,-999.0000,-999.000,   4.2246,-999.000
  316N138_7,       P14C,      15,          1,         20,         20,2,19920903,       2316,   -30.8817,   175.8583,     -999.0,  1304.8,   3.7757,  34.4892,2,  34.4886,2,    170.6,2,   171.0,2,   65.84,2,   33.06,2,    0.00,2,    2.30,2,   0.028,2,   0.029,2,-999.000,9,-999.0000,9, -999.00,9, -999.00,9,  -999.0,9,  -999.0,-999.000,9,-999.000,-999.0000,-999.000,   3.6763,-999.000
  316N138_7,       P14C,      15,          1,         21,         21,2,19920903,       2316,   -30.8817,   175.8583,     -999.0,  1400.1,   3.4355,  34.5275,2,  34.5266,2,    166.6,2,   165.6,2,   77.50,2,   33.71,2,    0.00,2,    2.37,2,-999.000,9,-999.000,9,-999.000,9,-999.0000,9, -999.00,9,    0.64,2,  -166.0,2,     4.5,-999.000,9,-999.000,-999.0000,-999.000,   3.3314,-999.000
  316N138_7,       P14C,      15,          1,         22,         22,2,19920903,       2316,   -30.8817,   175.8583,     -999.0,  1501.0,   3.1965,  34.5583,2,  34.5572,2,    162.2,2,   162.3,2,   85.77,2,   34.01,2,    0.00,2,    2.38,2,   0.022,2,   0.015,2,-999.000,9,-999.0000,9, -999.00,9, -999.00,9,  -999.0,9,  -999.0,-999.000,9,-999.000,-999.0000,-999.000,   3.0864,-999.000
  316N138_7,       P14C,      15,          1,         23,         23,2,19920903,       2316,   -30.8817,   175.8583,     -999.0,  1607.6,   2.9109,  34.5864,2,  34.5903,2,    158.8,2,   158.8,2,   95.50,2,   34.35,2,    0.00,2,    2.42,2,   0.011,2,   0.010,2,-999.000,9,-999.0000,9, -999.00,9,    0.47,2,  -176.1,2,     5.4,-999.000,9,-999.000,-999.0000,-999.000,   2.7951,-999.000
  316N138_7,       P14C,      15,          1,         24,         24,2,19920903,       2316,   -30.8817,   175.8583,     -999.0,  1812.1,   2.5340,  34.6165,2,  34.6166,2,    155.1,2,   155.7,2,  106.31,2,   34.87,2,    0.00,2,    2.45,2,   0.001,2,   0.007,2,-999.000,9,-999.0000,9, -999.00,9,    0.40,2,  -184.9,2,     2.7,-999.000,9,-999.000,-999.0000,-999.000,   2.4057,-999.000
  316N138_7,       P14C,      15,          1,         25,         25,2,19920903,       2316,   -30.8817,   175.8583,     -999.0,  2015.9,   2.2938,  34.6359,2,  34.6372,2,    153.9,2,   154.4,2,  113.71,2,   35.13,2,    0.00,2,    2.46,2,-999.000,9,-999.000,9,-999.000,9,-999.0000,9, -999.00,9,    0.35,2,  -192.9,2,     3.7,-999.000,9,-999.000,-999.0000,-999.000,   2.1515,-999.000
  316N138_7,       P14C,      15,          1,         26,         26,2,19920903,       2316,   -30.8817,   175.8583,     -999.0,  2219.1,   2.1212,  34.6513,2,  34.6517,2,    152.8,2,   153.5,2,  118.26,2,   35.39,2,    0.00,2,    2.48,2,-999.000,9,-999.000,9,-999.000,9,-999.0000,9, -999.00,9,    0.31,2,  -213.4,2,     3.6,-999.000,9,-999.000,-999.0000,-999.000,   1.9640,-999.000
  316N138_7,       P14C,      15,          1,         27,         27,2,19920903,       2316,   -30.8817,   175.8583,     -999.0,  2424.0,   2.0098,  34.6617,2,  34.6617,2,    153.7,2,   154.0,2,  121.57,2,   35.38,2,    0.00,2,    2.49,2,   0.006,2,  -0.004,2,-999.000,9,-999.0000,9, -999.00,9, -999.00,9,  -999.0,9,  -999.0,-999.000,9,-999.000,-999.0000,-999.000,   1.8362,-999.000
  316N138_7,       P14C,      15,          1,         28,         28,2,19920903,       2316,   -30.8817,   175.8583,     -999.0,  2630.7,   1.9236,  34.6706,2,  34.6695,2,    154.1,2,   154.7,2,  123.63,2,   35.37,2,    0.00,2,    2.47,2,-999.000,9,-999.000,9,-999.000,9,-999.0000,9, -999.00,9,    0.26,2,  -203.7,2,     3.7,-999.000,9,-999.000,-999.0000,-999.000,   1.7327,-999.000
  316N138_7,       P14C,      15,          1,         29,         29,2,19920903,       2316,   -30.8817,   175.8583,     -999.0,  2835.9,   1.8804,  34.6750,2,  34.6759,2,    155.4,2,   155.1,2,  124.87,2,   35.36,2,    0.00,2,    2.49,2,-999.000,9,-999.000,9,-999.000,9,-999.0000,9, -999.00,9, -999.00,9,  -999.0,9,  -999.0,-999.000,9,-999.000,-999.0000,-999.000,   1.6711,-999.000
  316N138_7,       P14C,      15,          1,         30,         30,2,19920903,       2316,   -30.8817,   175.8583,     -999.0,  3039.5,   1.8561,  34.6782,2,  34.6797,2,    155.2,2,   155.6,2,  126.10,2,   35.26,2,    0.00,2,    2.48,2,   0.011,4,   0.017,4,-999.000,9,-999.0000,9, -999.00,9,    0.28,2,  -200.0,2,     3.6,-999.000,9,-999.000,-999.0000,-999.000,   1.6276,-999.000
  316N138_7,       P14C,      15,          1,         31,         31,2,19920903,       2316,   -30.8817,   175.8583,     -999.0,  3244.2,   1.8523,  34.6803,2,  34.6822,2,    155.5,2,   155.6,2,  126.49,2,   35.25,2,    0.00,2,    2.46,2,-999.000,9,-999.000,9,-999.000,9,-999.0000,9, -999.00,9,    0.27,2,  -199.3,2,     4.2,-999.000,9,-999.000,-999.0000,-999.000,   1.6036,-999.000
  316N138_7,       P14C,      15,          1,         32,         32,2,19920903,       2316,   -30.8817,   175.8583,     -999.0,  3447.9,   1.8533,  34.6820,2,  34.6843,2,    155.3,2,   155.7,2,  126.89,2,   35.33,2,    0.00,2,    2.48,2,-999.000,9,-999.000,9,-999.000,9,-999.0000,9, -999.00,9, -999.00,9,  -999.0,9,  -999.0,-999.000,9,-999.000,-999.0000,-999.000,   1.5837,-999.000
  316N138_7,       P14C,      15,          1,         33,         33,2,19920903,       2316,   -30.8817,   175.8583,     -999.0,  3652.1,   1.8632,  34.6825,2,  34.6839,2,    155.9,2,   155.8,2,  126.86,2,   35.24,2,    0.00,2,    2.48,2,   0.002,2,   0.002,2,-999.000,9,-999.0000,9, -999.00,9,    0.24,2,  -191.9,2,     3.6,-999.000,9,-999.000,-999.0000,-999.000,   1.5719,-999.000
  316N138_7,       P14C,      15,          1,         34,         34,2,19920903,       2316,   -30.8817,   175.8583,     -999.0,  3857.2,   1.8762,  34.6832,2,  34.6833,2,    156.0,2,   155.7,2,  127.67,2,   35.32,2,    0.00,2,    2.47,2,-999.000,9,-999.000,9,-999.000,9,-999.0000,9, -999.00,9,    0.19,2,  -204.5,2,     7.2,-999.000,9,-999.000,-999.0000,-999.000,   1.5625,-999.000
  316N138_7,       P14C,      15,          1,         35,         35,2,19920903,       2316,   -30.8817,   175.8583,     -999.0,  4061.6,   1.8924,  34.6836,2,  34.6855,2,    155.9,2,   155.4,2,  128.07,2,   35.35,2,    0.00,2,    2.48,2,   0.001,2,  -0.001,2,-999.000,9,-999.0000,9, -999.00,9, -999.00,9,  -999.0,9,  -999.0,-999.000,9,-999.000,-999.0000,-999.000,   1.5556,-999.000
  316N138_7,       P14C,      15,          1,         37,         37,2,19920903,       2316,   -30.8817,   175.8583,     -999.0,  4198.8,   1.9057,  34.6836,2,  34.6841,2,    155.3,2,   155.7,2,  128.04,2,   35.30,2,    0.00,2,    2.46,2,   0.007,2,   0.005,2,-999.000,9,-999.0000,9, -999.00,9,    0.26,2,  -213.4,2,     3.5,-999.000,9,-999.000,-999.0000,-999.000,   1.5530,-999.000