BOTTLE,20211105CCHSIORKP
EXPOCODE,SECT_ID,STNNBR,CASTNO,SAMPNO,BTLNBR,BTLNBR_FLAG_W,DATE,TIME,LATITUDE,LONGITUDE,DEPTH,CTDPRS,CTDTMP,CTDSAL,CTDSAL_FLAG_W,SALNTY,SALNTY_FLAG_W,CTDOXY,CTDOXY_FLAG_W,OXYGEN,OXYGEN_FLAG_W,SILCAT,SILCAT_FLAG_W,NITRAT,NITRAT_FLAG_W,NITRIT,NITRIT_FLAG_W,PHSPHT,PHSPHT_FLAG_W,CFC-11,CFC-11_FLAG_W,CFC-12,CFC-12_FLAG_W,TRITUM,TRITUM_FLAG_W,HELIUM,HELIUM_FLAG_W,DELHE3,DELHE3_FLAG_W,DELC13,DELC13_FLAG_W,DELC14,DELC14_FLAG_W,C14ERR,NEON,NEON_FLAG_W,NEONER,HELIER,DELHER,THETA,TRITER
,,,,,,,,,,,METERS,DBAR,ITS-90,PSS-78,,PSS-78,,UMOL/KG,,UMOL/KG,,UMOL/KG,,UMOL/KG,,UMOL/KG,,UMOL/KG,,PMOL/KG,,PMOL/KG,,TU,,NMOL/KG,,PERCNT,,/MILLE,,/MILLE,,/MILLE,NMOL/KG,,NMOL/KG,NMOL/KG,PERCNT,DEG C,TU
  316N138_7,       P14C,      35,          1,          2,          2,2,19920908,       2018,   -22.2017,   177.3283,       4162,     1.1,  22.9534,  35.7341,2,  35.7367,2,    193.8,2,   212.3,2,    1.77,2,    0.07,2,    0.00,2,    0.08,2,   1.932,2,   1.078,2,-999.000,9,-999.0000,9, -999.00,9, -999.00,9,  -999.0,9,  -999.0,-999.000,9,-999.000,-999.0000,-999.000,  22.9532,-999.000
  316N138_7,       P14C,      35,          1,          3,          3,2,19920908,       2018,   -22.2017,   177.3283,       4162,    14.7,  22.9109,  35.7307,2,  35.7359,2,    199.5,2,   212.5,2,    1.74,2,    0.07,2,    0.00,2,    0.08,2,   1.961,2,   1.035,2,-999.000,9,-999.0000,9, -999.00,9, -999.00,9,  -999.0,9,  -999.0,-999.000,9,-999.000,-999.0000,-999.000,  22.9079,-999.000
  316N138_7,       P14C,      35,          1,          4,          4,2,19920908,       2018,   -22.2017,   177.3283,       4162,    54.2,  22.8339,  35.7194,2,  35.7219,2,    197.8,2,   212.3,2,    1.71,2,    0.07,2,    0.00,2,    0.07,2,   1.948,2,   1.104,2,-999.000,9,-999.0000,9, -999.00,9, -999.00,9,  -999.0,9,  -999.0,-999.000,9,-999.000,-999.0000,-999.000,  22.8229,-999.000
  316N138_7,       P14C,      35,          1,          5,          5,2,19920908,       2018,   -22.2017,   177.3283,       4162,   103.8,  22.1742,  35.6432,2,  35.6474,2,    214.6,2,   215.1,2,    1.48,2,    0.11,2,    0.00,2,    0.07,2,   1.965,2,   1.066,2,-999.000,9,-999.0000,9, -999.00,9, -999.00,9,  -999.0,9,  -999.0,-999.000,9,-999.000,-999.0000,-999.000,  22.1535,-999.000
  316N138_7,       P14C,      35,          1,          6,          6,2,19920908,       2018,   -22.2017,   177.3283,       4162,   153.9,  21.9032,  35.6354,2,  35.6379,2,    212.7,2,   211.7,2,    1.45,2,    0.12,2,    0.16,2,    0.07,2,   2.034,2,   1.080,2,-999.000,9,-999.0000,9, -999.00,9, -999.00,9,  -999.0,9,  -999.0,-999.000,9,-999.000,-999.0000,-999.000,  21.8728,-999.000
  316N138_7,       P14C,      35,          1,          7,          7,2,19920908,       2018,   -22.2017,   177.3283,       4162,   204.1,  20.6372,  35.6381,2,  35.6267,2,    193.4,2,   189.1,2,    1.42,2,    2.35,2,    0.04,2,    0.26,2,   1.910,2,   1.006,2,-999.000,9,-999.0000,9, -999.00,9, -999.00,9,  -999.0,9,  -999.0,-999.000,9,-999.000,-999.0000,-999.000,  20.5984,-999.000
  316N138_7,       P14C,      35,          1,          8,          8,2,19920908,       2018,   -22.2017,   177.3283,       4162,   254.9,  19.2413,  35.6162,2,  35.6166,2,    186.4,2,   185.4,2,    1.59,2,    3.68,2,    0.01,2,    0.36,2,   1.930,2,   1.040,2,-999.000,9,-999.0000,9, -999.00,9, -999.00,9,  -999.0,9,  -999.0,-999.000,9,-999.000,-999.0000,-999.000,  19.1952,-999.000
  316N138_7,       P14C,      35,          1,          9,          9,2,19920908,       2018,   -22.2017,   177.3283,       4162,   304.1,  18.0696,  35.5696,2,  35.5605,2,    189.1,2,   186.4,2,    1.76,2,    4.86,2,    0.01,2,    0.44,2,   1.889,2,   1.009,2,-999.000,9,-999.0000,9, -999.00,9, -999.00,9,  -999.0,9,  -999.0,-999.000,9,-999.000,-999.0000,-999.000,  18.0169,-999.000
  316N138_7,       P14C,      35,          1,         10,         10,2,19920908,       2018,   -22.2017,   177.3283,       4162,   355.1,  16.1062,  35.3938,2,  35.3917,2,    186.9,2,   184.3,2,    2.93,2,    7.44,2,    0.01,2,    0.62,2,   1.701,2,   0.886,2,-999.000,9,-999.0000,9, -999.00,9, -999.00,9,  -999.0,9,  -999.0,-999.000,9,-999.000,-999.0000,-999.000,  16.0494,-999.000
  316N138_7,       P14C,      35,          1,         11,         11,2,19920908,       2018,   -22.2017,   177.3283,       4162,   404.3,  14.4852,  35.2298,2,  35.2300,2,    184.2,2,   184.4,2,    3.70,2,    9.88,2,    0.01,2,    0.77,2,   1.528,2,   0.792,2,-999.000,9,-999.0000,9, -999.00,9, -999.00,9,  -999.0,9,  -999.0,-999.000,9,-999.000,-999.0000,-999.000,  14.4248,-999.000
  316N138_7,       P14C,      35,          1,         12,         12,2,19920908,       2018,   -22.2017,   177.3283,       4162,   505.1,  11.0762,  34.8456,2,  34.8332,2,    190.6,2,   189.2,2,    6.67,2,   16.38,2,    0.00,2,    1.18,2,   1.130,2,   0.586,2,-999.000,9,-999.0000,9, -999.00,9, -999.00,9,  -999.0,9,  -999.0,-999.000,9,-999.000,-999.0000,-999.000,  11.0129,-999.000
  316N138_7,       P14C,      35,          1,         13,         13,2,19920908,       2018,   -22.2017,   177.3283,       4162,   604.6,   8.1959,  34.5387,2,  34.5385,2,    199.3,2,   203.2,2,    9.64,2,   21.70,2,    0.00,2,    1.51,2,   0.709,2,   0.379,2,-999.000,9,-999.0000,9, -999.00,9, -999.00,9,  -999.0,9,  -999.0,-999.000,9,-999.000,-999.0000,-999.000,   8.1326,-999.000
  316N138_7,       P14C,      35,          1,         14,         14,2,19920908,       2018,   -22.2017,   177.3283,       4162,   705.9,   6.8506,  34.4191,2,  34.4204,2,    207.5,2,   210.5,2,   13.61,2,   24.58,2,    0.00,2,    1.69,2,   0.435,2,   0.239,2,-999.000,9,-999.0000,9, -999.00,9, -999.00,9,  -999.0,9,  -999.0,-999.000,9,-999.000,-999.0000,-999.000,   6.7835,-999.000
  316N138_7,       P14C,      35,          1,         15,         15,2,19920908,       2018,   -22.2017,   177.3283,       4162,   805.2,   6.0095,  34.3808,2,  34.3801,2,    201.8,2,   201.9,2,   20.97,2,   27.34,2,    0.00,2,    1.88,2,   0.207,2,   0.124,2,-999.000,9,-999.0000,9, -999.00,9, -999.00,9,  -999.0,9,  -999.0,-999.000,9,-999.000,-999.0000,-999.000,   5.9375,-999.000
  316N138_7,       P14C,      35,          1,         16,         16,2,19920908,       2018,   -22.2017,   177.3283,       4162,   906.1,   5.3591,  34.3813,2,  34.3806,2,    190.5,2,   190.6,2,   30.73,2,   29.73,2,    0.00,2,    2.04,2,   0.094,2,   0.059,2,-999.000,9,-999.0000,9, -999.00,9, -999.00,9,  -999.0,9,  -999.0,-999.000,9,-999.000,-999.0000,-999.000,   5.2819,-999.000
  316N138_7,       P14C,      35,          1,         17,         17,2,19920908,       2018,   -22.2017,   177.3283,       4162,  1006.5,   4.7100,  34.3968,2,  34.3967,2,    181.2,2,   182.1,2,   41.49,2,   31.53,2,    0.00,2,    2.15,2,   0.041,2,   0.026,2,-999.000,9,-999.0000,9, -999.00,9, -999.00,9,  -999.0,9,  -999.0,-999.000,9,-999.000,-999.0000,-999.000,   4.6285,-999.000
  316N138_7,       P14C,      35,          1,         18,         18,2,19920908,       2018,   -22.2017,   177.3283,       4162,  1107.3,   4.2108,  34.4331,2,  34.4675,4,    173.0,2,   173.5,2,   53.65,2,   32.77,2,    0.00,2,    2.24,2,   0.020,2,   0.015,2,-999.000,9,-999.0000,9, -999.00,9, -999.00,9,  -999.0,9,  -999.0,-999.000,9,-999.000,-999.0000,-999.000,   4.1245,-999.000
  316N138_7,       P14C,      35,          1,         19,         19,2,19920908,       2018,   -22.2017,   177.3283,       4162,  1208.4,   3.8675,  34.4670,2,  34.4698,2,    167.0,2,   167.8,2,   64.63,2,   33.51,2,    0.00,2,    2.31,2,   0.011,2,   0.006,2,-999.000,9,-999.0000,9, -999.00,9, -999.00,9,  -999.0,9,  -999.0,-999.000,9,-999.000,-999.0000,-999.000,   3.7754,-999.000
  316N138_7,       P14C,      35,          1,         20,         20,2,19920908,       2018,   -22.2017,   177.3283,       4162,  1310.7,   3.5550,  34.5029,2,  34.5014,2,    161.7,2,   163.4,2,   75.22,2,   34.07,2,    0.00,2,    2.35,2,   0.007,2,   0.004,2,-999.000,9,-999.0000,9, -999.00,9, -999.00,9,  -999.0,9,  -999.0,-999.000,9,-999.000,-999.0000,-999.000,   3.4572,-999.000
  316N138_7,       P14C,      35,          1,         21,         21,2,19920908,       2018,   -22.2017,   177.3283,       4162,  1412.7,   3.2563,  34.5378,2,  34.5378,2,    155.4,2,   157.5,2,   85.86,2,   34.59,2,    0.00,2,    2.39,2,   0.007,2,   0.000,2,-999.000,9,-999.0000,9, -999.00,9, -999.00,9,  -999.0,9,  -999.0,-999.000,9,-999.000,-999.0000,-999.000,   3.1530,-999.000
  316N138_7,       P14C,      35,          1,         22,         22,2,19920908,       2018,   -22.2017,   177.3283,       4162,  1513.8,   2.9798,  34.5648,2,  34.5649,2,    153.7,2,   154.5,2,   94.72,2,   34.94,2,    0.00,2,    2.41,2,-999.000,9,-999.000,9,-999.000,9,-999.0000,9, -999.00,9, -999.00,9,  -999.0,9,  -999.0,-999.000,9,-999.000,-999.0000,-999.000,   2.8711,-999.000
  316N138_7,       P14C,      35,          1,         23,         23,2,19920908,       2018,   -22.2017,   177.3283,       4162,  1614.6,   2.7673,  34.5857,2,  34.5859,2,    152.6,2,   152.8,2,  100.98,2,   35.15,2,    0.00,2,    2.42,2,  -0.003,2,   0.002,2,-999.000,9,-999.0000,9, -999.00,9, -999.00,9,  -999.0,9,  -999.0,-999.000,9,-999.000,-999.0000,-999.000,   2.6526,-999.000
  316N138_7,       P14C,      35,          1,         24,         24,2,19920908,       2018,   -22.2017,   177.3283,       4162,  1816.6,   2.5239,  34.6103,2,  34.6108,2,    151.3,2,   151.6,2,  108.71,2,   35.37,2,    0.00,2,    2.45,2,-999.000,9,-999.000,9,-999.000,9,-999.0000,9, -999.00,9, -999.00,9,  -999.0,9,  -999.0,-999.000,9,-999.000,-999.0000,-999.000,   2.3953,-999.000
  316N138_7,       P14C,      35,          1,         25,         25,2,19920908,       2018,   -22.2017,   177.3283,       4162,  2020.3,   2.3310,  34.6298,2,  34.6298,2,    152.4,2,   151.4,2,  113.80,2,   35.46,2,    0.00,2,    2.45,2,  -0.003,2,   0.002,2,-999.000,9,-999.0000,9, -999.00,9, -999.00,9,  -999.0,9,  -999.0,-999.000,9,-999.000,-999.0000,-999.000,   2.1878,-999.000
  316N138_7,       P14C,      35,          1,         26,         26,2,19920908,       2018,   -22.2017,   177.3283,       4162,  2223.7,   2.1553,  34.6468,2,  34.6474,2,    152.3,2,   152.1,2,  118.93,2,   35.50,2,    0.00,2,    2.45,2,-999.000,9,-999.000,9,-999.000,9,-999.0000,9, -999.00,9, -999.00,9,  -999.0,9,  -999.0,-999.000,9,-999.000,-999.0000,-999.000,   1.9971,-999.000
  316N138_7,       P14C,      35,          1,         27,         27,2,19920908,       2018,   -22.2017,   177.3283,       4162,  2426.7,   2.0357,  34.6585,2,  34.6590,2,    155.2,2,   153.4,2,  121.38,2,   35.46,2,    0.00,2,    2.45,2,-999.000,9,-999.000,9,-999.000,9,-999.0000,9, -999.00,9, -999.00,9,  -999.0,9,  -999.0,-999.000,9,-999.000,-999.0000,-999.000,   1.8614,-999.000
  316N138_7,       P14C,      35,          1,         28,         28,2,19920908,       2018,   -22.2017,   177.3283,       4162,  2629.5,   1.9429,  34.6675,2,  34.6684,2,    155.2,2,   154.1,2,  123.62,2,   35.46,2,    0.00,2,    2.44,2,   0.002,2,   0.000,2,-999.000,9,-999.0000,9, -999.00,9, -999.00,9,  -999.0,9,  -999.0,-999.000,9,-999.000,-999.0000,-999.000,   1.7517,-999.000
  316N138_7,       P14C,      35,          1,         29,         29,2,19920908,       2018,   -22.2017,   177.3283,       4162,  2832.6,   1.8939,  34.6728,2,  34.6735,2,    156.2,2,   154.9,2,  125.25,2,   35.46,2,    0.00,2,    2.44,2,-999.000,9,-999.000,9,-999.000,9,-999.0000,9, -999.00,9, -999.00,9,  -999.0,9,  -999.0,-999.000,9,-999.000,-999.0000,-999.000,   1.6846,-999.000
  316N138_7,       P14C,      35,          1,         30,         30,2,19920908,       2018,   -22.2017,   177.3283,       4162,  3035.0,   1.8557,  34.6773,2,  34.6778,2,    156.1,2,   155.5,2,  126.45,2,   35.42,2,    0.00,2,    2.44,2,-999.000,9,-999.000,9,-999.000,9,-999.0000,9, -999.00,9, -999.00,9,  -999.0,9,  -999.0,-999.000,9,-999.000,-999.0000,-999.000,   1.6277,-999.000
  316N138_7,       P14C,      35,          1,         31,         31,2,19920908,       2018,   -22.2017,   177.3283,       4162,  3236.7,   1.8365,  34.6799,2,  34.6804,2,    155.8,2,   156.1,2,  127.45,2,   35.42,2,    0.00,2,    2.43,2,-999.000,9,-999.000,9,-999.000,9,-999.0000,9, -999.00,9, -999.00,9,  -999.0,9,  -999.0,-999.000,9,-999.000,-999.0000,-999.000,   1.5888,-999.000
  316N138_7,       P14C,      35,          1,         32,         32,2,19920908,       2018,   -22.2017,   177.3283,       4162,  3441.2,   1.8323,  34.6814,2,  34.6823,2,    156.2,2,   156.1,2,  127.82,2,   35.38,2,    0.00,2,    2.44,2,  -0.001,2,  -0.001,2,-999.000,9,-999.0000,9, -999.00,9, -999.00,9,  -999.0,9,  -999.0,-999.000,9,-999.000,-999.0000,-999.000,   1.5639,-999.000
  316N138_7,       P14C,      35,          1,         33,         33,2,19920908,       2018,   -22.2017,   177.3283,       4162,  3645.2,   1.8358,  34.6824,2,  34.6829,2,    156.3,2,   156.5,2,  128.40,2,   35.38,2,    0.00,2,    2.44,2,-999.000,9,-999.000,9,-999.000,9,-999.0000,9, -999.00,9, -999.00,9,  -999.0,9,  -999.0,-999.000,9,-999.000,-999.0000,-999.000,   1.5459,-999.000
  316N138_7,       P14C,      35,          1,         34,         34,2,19920908,       2018,   -22.2017,   177.3283,       4162,  3850.5,   1.8468,  34.6830,2,  34.6837,2,    156.1,2,   156.3,2,  128.76,2,   35.38,2,    0.00,2,    2.44,2,-999.000,9,-999.000,9,-999.000,9,-999.0000,9, -999.00,9, -999.00,9,  -999.0,9,  -999.0,-999.000,9,-999.000,-999.0000,-999.000,   1.5346,-999.000
  316N138_7,       P14C,      35,          1,         35,         35,2,19920908,       2018,   -22.2017,   177.3283,       4162,  4055.5,   1.8633,  34.6835,2,  34.6839,2,    156.0,2,   156.4,2,  129.13,2,   35.42,2,    0.00,2,    2.44,2,-999.000,9,-999.000,9,-999.000,9,-999.0000,9, -999.00,9, -999.00,9,  -999.0,9,  -999.0,-999.000,9,-999.000,-999.0000,-999.000,   1.5280,-999.000
  316N138_7,       P14C,      35,          1,         37,         37,2,19920908,       2018,   -22.2017,   177.3283,       4162,  4202.7,   1.8756,  34.6841,2,  34.6849,2,    156.0,2,   156.3,2,  129.08,2,   35.42,2,    0.00,2,    2.44,2,   0.001,2,   0.002,2,-999.000,9,-999.0000,9, -999.00,9, -999.00,9,  -999.0,9,  -999.0,-999.000,9,-999.000,-999.0000,-999.000,   1.5234,-999.000