BOTTLE,20211105CCHSIORKP
EXPOCODE,SECT_ID,STNNBR,CASTNO,SAMPNO,BTLNBR,BTLNBR_FLAG_W,DATE,TIME,LATITUDE,LONGITUDE,DEPTH,CTDPRS,CTDTMP,CTDSAL,CTDSAL_FLAG_W,SALNTY,SALNTY_FLAG_W,CTDOXY,CTDOXY_FLAG_W,OXYGEN,OXYGEN_FLAG_W,SILCAT,SILCAT_FLAG_W,NITRAT,NITRAT_FLAG_W,NITRIT,NITRIT_FLAG_W,PHSPHT,PHSPHT_FLAG_W,CFC-11,CFC-11_FLAG_W,CFC-12,CFC-12_FLAG_W,TRITUM,TRITUM_FLAG_W,HELIUM,HELIUM_FLAG_W,DELHE3,DELHE3_FLAG_W,DELC13,DELC13_FLAG_W,DELC14,DELC14_FLAG_W,C14ERR,NEON,NEON_FLAG_W,NEONER,HELIER,DELHER,THETA,TRITER
,,,,,,,,,,,METERS,DBAR,ITS-90,PSS-78,,PSS-78,,UMOL/KG,,UMOL/KG,,UMOL/KG,,UMOL/KG,,UMOL/KG,,UMOL/KG,,PMOL/KG,,PMOL/KG,,TU,,NMOL/KG,,PERCNT,,/MILLE,,/MILLE,,/MILLE,NMOL/KG,,NMOL/KG,NMOL/KG,PERCNT,DEG C,TU
  316N138_7,       P14C,      28,          1,          1,          1,9,19920907,       0340,   -25.2367,   176.8117,       4483,     1.5,  20.3489,  35.6693,2,-999.0000,9,    223.8,2,  -999.0,9, -999.00,9, -999.00,9, -999.00,9, -999.00,9,-999.000,9,-999.000,9,-999.000,9,-999.0000,9, -999.00,9, -999.00,9,  -999.0,9,  -999.0,-999.000,9,-999.000,-999.0000,-999.000,  20.3486,-999.000
  316N138_7,       P14C,      28,          1,          2,          2,2,19920907,       0340,   -25.2367,   176.8117,       4483,    17.7,  20.3566,  35.6695,2,  35.6705,2,    221.3,2,   224.3,2,    1.66,2,    0.00,2,    0.01,2,    0.09,2,   2.153,2,   1.148,2,-999.000,9,-999.0000,9, -999.00,9, -999.00,9,  -999.0,9,  -999.0,-999.000,9,-999.000,-999.0000,-999.000,  20.3533,-999.000
  316N138_7,       P14C,      28,          1,          3,          3,2,19920907,       0340,   -25.2367,   176.8117,       4483,    57.4,  19.8384,  35.6964,2,  35.6975,2,    206.2,2,   221.7,2,    1.64,2,    0.08,2,    0.13,2,    0.11,2,   2.185,2,   1.174,2,-999.000,9,-999.0000,9, -999.00,9, -999.00,9,  -999.0,9,  -999.0,-999.000,9,-999.000,-999.0000,-999.000,  19.8278,-999.000
  316N138_7,       P14C,      28,          1,          4,          4,2,19920907,       0340,   -25.2367,   176.8117,       4483,   107.3,  18.7898,  35.5992,2,  35.6023,2,    189.7,2,   184.8,2,    2.02,2,    4.33,2,    0.02,2,    0.41,2,   1.861,2,   0.984,2,-999.000,9,-999.0000,9, -999.00,9, -999.00,9,  -999.0,9,  -999.0,-999.000,9,-999.000,-999.0000,-999.000,  18.7708,-999.000
  316N138_7,       P14C,      28,          1,          5,          5,2,19920907,       0340,   -25.2367,   176.8117,       4483,   158.1,  17.8771,  35.6294,2,  35.6287,2,    208.9,2,   208.5,2,    1.81,2,    2.95,2,    0.04,2,    0.33,2,   2.122,2,   1.110,2,-999.000,9,-999.0000,9, -999.00,9, -999.00,9,  -999.0,9,  -999.0,-999.000,9,-999.000,-999.0000,-999.000,  17.8500,-999.000
  316N138_7,       P14C,      28,          1,          6,          6,2,19920907,       0340,   -25.2367,   176.8117,       4483,   207.0,  16.9494,  35.5225,2,  35.5361,2,    198.8,2,   197.9,2,    2.39,2,    5.05,2,    0.01,2,    0.46,2,   2.081,2,   1.103,2,-999.000,9,-999.0000,9, -999.00,9, -999.00,9,  -999.0,9,  -999.0,-999.000,9,-999.000,-999.0000,-999.000,  16.9151,-999.000
  316N138_7,       P14C,      28,          1,          7,          7,2,19920907,       0340,   -25.2367,   176.8117,       4483,   257.8,  15.6278,  35.3710,2,  35.3813,2,    186.5,2,   184.3,2,    3.16,2,    8.22,2,    0.01,2,    0.68,2,   1.743,2,   0.912,2,-999.000,9,-999.0000,9, -999.00,9, -999.00,9,  -999.0,9,  -999.0,-999.000,9,-999.000,-999.0000,-999.000,  15.5874,-999.000
  316N138_7,       P14C,      28,          1,          8,          8,2,19920907,       0340,   -25.2367,   176.8117,       4483,   308.5,  14.6561,  35.2820,2,  35.2877,2,    184.9,2,   186.5,2,    3.55,2,    9.49,2,    0.01,2,    0.76,2,-999.000,9,-999.000,9,-999.000,9,-999.0000,9, -999.00,9, -999.00,9,  -999.0,9,  -999.0,-999.000,9,-999.000,-999.0000,-999.000,  14.6099,-999.000
  316N138_7,       P14C,      28,          1,          9,          9,2,19920907,       0340,   -25.2367,   176.8117,       4483,   358.8,  13.7750,  35.1913,2,  35.1866,2,    184.8,2,   186.1,2,    4.32,2,   11.27,2,    0.01,2,    0.86,2,-999.000,9,-999.000,9,-999.000,9,-999.0000,9, -999.00,9, -999.00,9,  -999.0,9,  -999.0,-999.000,9,-999.000,-999.0000,-999.000,  13.7233,-999.000
  316N138_7,       P14C,      28,          1,         10,         10,2,19920907,       0340,   -25.2367,   176.8117,       4483,   408.6,  12.6550,  35.0562,2,  35.0540,2,    187.6,2,   186.6,2,    5.10,2,   13.30,2,    0.01,2,    0.99,2,-999.000,9,-999.000,9,-999.000,9,-999.0000,9, -999.00,9, -999.00,9,  -999.0,9,  -999.0,-999.000,9,-999.000,-999.0000,-999.000,  12.5993,-999.000
  316N138_7,       P14C,      28,          1,         11,         11,2,19920907,       0340,   -25.2367,   176.8117,       4483,   509.3,   9.8983,  34.7435,2,  34.7333,2,    198.4,2,   194.6,2,    7.67,2,   18.51,2,    0.00,2,    1.31,2,-999.000,9,-999.000,9,-999.000,9,-999.0000,9, -999.00,9, -999.00,9,  -999.0,9,  -999.0,-999.000,9,-999.000,-999.0000,-999.000,   9.8388,-999.000
  316N138_7,       P14C,      28,          1,         12,         12,2,19920907,       0340,   -25.2367,   176.8117,       4483,   609.6,   7.8421,  34.5073,2,  34.5103,2,    208.7,2,   207.0,2,   10.24,2,   22.28,2,    0.00,2,    1.56,2,-999.000,9,-999.000,9,-999.000,9,-999.0000,9, -999.00,9, -999.00,9,  -999.0,9,  -999.0,-999.000,9,-999.000,-999.0000,-999.000,   7.7799,-999.000
  316N138_7,       P14C,      28,          1,         13,         13,2,19920907,       0340,   -25.2367,   176.8117,       4483,   710.3,   6.6379,  34.4114,2,  34.4111,2,    208.7,2,   210.6,2,   15.00,2,   25.18,2,    0.00,2,    1.74,2,-999.000,9,-999.000,9,-999.000,9,-999.0000,9, -999.00,9, -999.00,9,  -999.0,9,  -999.0,-999.000,9,-999.000,-999.0000,-999.000,   6.5715,-999.000
  316N138_7,       P14C,      28,          1,         14,         14,2,19920907,       0340,   -25.2367,   176.8117,       4483,   811.0,   5.8091,  34.3812,2,  34.3813,2,    201.8,2,   203.7,2,   22.14,2,   27.56,2,    0.00,2,    1.91,2,-999.000,9,-999.000,9,-999.000,9,-999.0000,9, -999.00,9, -999.00,9,  -999.0,9,  -999.0,-999.000,9,-999.000,-999.0000,-999.000,   5.7378,-999.000
  316N138_7,       P14C,      28,          1,         15,         15,2,19920907,       0340,   -25.2367,   176.8117,       4483,   912.2,   5.1534,  34.3893,2,  34.3893,2,    190.2,2,   192.0,2,   33.27,2,   29.92,2,    0.00,2,    2.07,2,-999.000,9,-999.000,9,-999.000,9,-999.0000,9, -999.00,9, -999.00,9,  -999.0,9,  -999.0,-999.000,9,-999.000,-999.0000,-999.000,   5.0771,-999.000
  316N138_7,       P14C,      28,          1,         16,         16,2,19920907,       0340,   -25.2367,   176.8117,       4483,  1012.6,   4.5368,  34.4027,2,  34.4058,2,    180.9,2,   183.4,2,   44.39,2,   31.68,2,    0.00,2,    2.19,2,-999.000,9,-999.000,9,-999.000,9,-999.0000,9, -999.00,9, -999.00,9,  -999.0,9,  -999.0,-999.000,9,-999.000,-999.0000,-999.000,   4.4561,-999.000
  316N138_7,       P14C,      28,          1,         17,         17,2,19920907,       0340,   -25.2367,   176.8117,       4483,  1113.9,   3.9593,  34.4522,2,  34.4509,2,    173.8,2,   173.4,2,   58.71,2,   32.89,2,    0.00,2,    2.28,2,-999.000,9,-999.000,9,-999.000,9,-999.0000,9, -999.00,9, -999.00,9,  -999.0,9,  -999.0,-999.000,9,-999.000,-999.0000,-999.000,   3.8745,-999.000
  316N138_7,       P14C,      28,          1,         18,         18,2,19920907,       0340,   -25.2367,   176.8117,       4483,  1215.0,   3.5405,  34.5011,2,  34.5009,2,    165.2,2,   166.3,2,   72.67,2,   33.58,2,    0.00,2,    2.34,2,-999.000,9,-999.000,9,-999.000,9,-999.0000,9, -999.00,9, -999.00,9,  -999.0,9,  -999.0,-999.000,9,-999.000,-999.0000,-999.000,   3.4509,-999.000
  316N138_7,       P14C,      28,          1,         19,         19,2,19920907,       0340,   -25.2367,   176.8117,       4483,  1315.1,   3.1675,  34.5440,2,  34.5424,2,    159.0,2,   159.9,2,   85.88,2,   34.32,2,    0.00,2,    2.39,2,-999.000,9,-999.000,9,-999.000,9,-999.0000,9, -999.00,9, -999.00,9,  -999.0,9,  -999.0,-999.000,9,-999.000,-999.0000,-999.000,   3.0732,-999.000
  316N138_7,       P14C,      28,          1,         20,         20,2,19920907,       0340,   -25.2367,   176.8117,       4483,  1416.5,   2.9415,  34.5702,2,  34.5703,2,    154.8,2,   156.6,2,   93.92,2,   34.58,2,    0.00,2,    2.42,2,-999.000,9,-999.000,9,-999.000,9,-999.0000,9, -999.00,9, -999.00,9,  -999.0,9,  -999.0,-999.000,9,-999.000,-999.0000,-999.000,   2.8412,-999.000
  316N138_7,       P14C,      28,          1,         21,         21,2,19920907,       0340,   -25.2367,   176.8117,       4483,  1517.3,   2.7888,  34.5846,2,  34.5840,2,    153.6,2,   154.0,2,   98.76,2,   34.93,2,    0.00,2,    2.44,2,-999.000,9,-999.000,9,-999.000,9,-999.0000,9, -999.00,9, -999.00,9,  -999.0,9,  -999.0,-999.000,9,-999.000,-999.0000,-999.000,   2.6819,-999.000
  316N138_7,       P14C,      28,          1,         22,         22,2,19920907,       0340,   -25.2367,   176.8117,       4483,  1618.5,   2.6440,  34.5988,2,  34.5987,2,    152.1,2,   153.1,2,  103.82,2,   35.15,2,    0.00,2,    2.45,2,-999.000,9,-999.000,9,-999.000,9,-999.0000,9, -999.00,9, -999.00,9,  -999.0,9,  -999.0,-999.000,9,-999.000,-999.0000,-999.000,   2.5305,-999.000
  316N138_7,       P14C,      28,          1,         23,         23,2,19920907,       0340,   -25.2367,   176.8117,       4483,  1821.7,   2.4267,  34.6191,2,  34.6195,2,    151.9,2,   152.2,2,  110.14,2,   35.24,2,    0.00,2,    2.46,2,-999.000,9,-999.000,9,-999.000,9,-999.0000,9, -999.00,9, -999.00,9,  -999.0,9,  -999.0,-999.000,9,-999.000,-999.0000,-999.000,   2.2991,-999.000
  316N138_7,       P14C,      28,          1,         24,         24,2,19920907,       0340,   -25.2367,   176.8117,       4483,  2025.2,   2.2606,  34.6361,2,  34.6362,2,    152.4,2,   151.3,2,  115.05,2,   35.33,2,    0.00,2,    2.48,2,-999.000,9,-999.000,9,-999.000,9,-999.0000,9, -999.00,9, -999.00,9,  -999.0,9,  -999.0,-999.000,9,-999.000,-999.0000,-999.000,   2.1181,-999.000
  316N138_7,       P14C,      28,          1,         25,         25,2,19920907,       0340,   -25.2367,   176.8117,       4483,  2228.1,   2.1398,  34.6482,2,  34.6480,2,    152.9,2,   151.7,2,  118.54,2,   35.33,2,    0.00,2,    2.47,2,-999.000,9,-999.000,9,-999.000,9,-999.0000,9, -999.00,9, -999.00,9,  -999.0,9,  -999.0,-999.000,9,-999.000,-999.0000,-999.000,   1.9815,-999.000
  316N138_7,       P14C,      28,          1,         26,         26,2,19920907,       0340,   -25.2367,   176.8117,       4483,  2431.0,   2.0273,  34.6594,2,  34.6593,2,    152.9,2,   153.2,2,  120.79,2,   35.29,2,    0.00,2,    2.47,2,-999.000,9,-999.000,9,-999.000,9,-999.0000,9, -999.00,9, -999.00,9,  -999.0,9,  -999.0,-999.000,9,-999.000,-999.0000,-999.000,   1.8528,-999.000
  316N138_7,       P14C,      28,          1,         27,         27,2,19920907,       0340,   -25.2367,   176.8117,       4483,  2635.0,   1.9425,  34.6680,2,  34.6670,2,    155.3,2,   154.1,2,  122.85,2,   35.25,2,    0.00,2,    2.46,2,-999.000,9,-999.000,9,-999.000,9,-999.0000,9, -999.00,9, -999.00,9,  -999.0,9,  -999.0,-999.000,9,-999.000,-999.0000,-999.000,   1.7508,-999.000
  316N138_7,       P14C,      28,          1,         28,         28,2,19920907,       0340,   -25.2367,   176.8117,       4483,  2839.3,   1.8841,  34.6737,2,  34.6735,2,    155.7,2,   154.8,2,  124.70,2,   35.30,2,    0.00,2,    2.46,2,-999.000,9,-999.000,9,-999.000,9,-999.0000,9, -999.00,9, -999.00,9,  -999.0,9,  -999.0,-999.000,9,-999.000,-999.0000,-999.000,   1.6744,-999.000
  316N138_7,       P14C,      28,          1,         29,         29,2,19920907,       0340,   -25.2367,   176.8117,       4483,  3042.0,   1.8521,  34.6769,2,  34.6772,2,    154.9,2,   155.3,2,  125.73,2,   35.26,2,    0.00,2,    2.46,2,-999.000,9,-999.000,9,-999.000,9,-999.0000,9, -999.00,9, -999.00,9,  -999.0,9,  -999.0,-999.000,9,-999.000,-999.0000,-999.000,   1.6235,-999.000
  316N138_7,       P14C,      28,          1,         30,         30,2,19920907,       0340,   -25.2367,   176.8117,       4483,  3246.3,   1.8394,  34.6790,2,  34.6797,2,    156.5,2,   155.9,2,  126.54,2,   35.31,2,    0.00,2,    2.46,2,-999.000,9,-999.000,9,-999.000,9,-999.0000,9, -999.00,9, -999.00,9,  -999.0,9,  -999.0,-999.000,9,-999.000,-999.0000,-999.000,   1.5907,-999.000
  316N138_7,       P14C,      28,          1,         31,         31,2,19920907,       0340,   -25.2367,   176.8117,       4483,  3448.1,   1.8351,  34.6811,2,  34.6813,2,    156.8,2,   155.9,2,  126.93,2,   35.27,2,    0.00,2,    2.46,2,-999.000,9,-999.000,9,-999.000,9,-999.0000,9, -999.00,9, -999.00,9,  -999.0,9,  -999.0,-999.000,9,-999.000,-999.0000,-999.000,   1.5659,-999.000
  316N138_7,       P14C,      28,          1,         32,         32,2,19920907,       0340,   -25.2367,   176.8117,       4483,  3653.3,   1.8405,  34.6822,2,  34.6815,2,    155.9,2,   156.2,2,  127.96,2,   35.31,2,    0.00,2,    2.46,2,-999.000,9,-999.000,9,-999.000,9,-999.0000,9, -999.00,9, -999.00,9,  -999.0,9,  -999.0,-999.000,9,-999.000,-999.0000,-999.000,   1.5496,-999.000
  316N138_7,       P14C,      28,          1,         33,         33,2,19920907,       0340,   -25.2367,   176.8117,       4483,  3857.1,   1.8518,  34.6829,2,  34.6829,2,    156.9,2,   156.1,2,  127.73,2,   35.27,2,    0.00,2,    2.46,2,-999.000,9,-999.000,9,-999.000,9,-999.0000,9, -999.00,9, -999.00,9,  -999.0,9,  -999.0,-999.000,9,-999.000,-999.0000,-999.000,   1.5388,-999.000
  316N138_7,       P14C,      28,          1,         34,         34,2,19920907,       0340,   -25.2367,   176.8117,       4483,  4062.1,   1.8678,  34.6827,2,  34.6831,2,    157.1,2,   156.6,2,  128.33,2,   35.28,2,    0.00,2,    2.46,2,-999.000,9,-999.000,9,-999.000,9,-999.0000,9, -999.00,9, -999.00,9,  -999.0,9,  -999.0,-999.000,9,-999.000,-999.0000,-999.000,   1.5317,-999.000
  316N138_7,       P14C,      28,          1,         35,         35,2,19920907,       0340,   -25.2367,   176.8117,       4483,  4266.0,   1.8873,  34.6831,2,  34.6825,2,    156.6,2,   156.2,2,  128.52,2,   35.32,2,    0.00,2,    2.45,2,-999.000,9,-999.000,9,-999.000,9,-999.0000,9, -999.00,9, -999.00,9,  -999.0,9,  -999.0,-999.000,9,-999.000,-999.0000,-999.000,   1.5275,-999.000
  316N138_7,       P14C,      28,          1,         37,         37,2,19920907,       0340,   -25.2367,   176.8117,       4483,  4527.1,   1.9128,  34.6834,2,  34.6835,2,    155.3,2,   156.5,2,  128.70,2,   35.28,2,    0.00,2,    2.45,2,-999.000,9,-999.000,9,-999.000,9,-999.0000,9, -999.00,9, -999.00,9,  -999.0,9,  -999.0,-999.000,9,-999.000,-999.0000,-999.000,   1.5219,-999.000