BOTTLE,20211105CCHSIORKP
EXPOCODE,SECT_ID,STNNBR,CASTNO,SAMPNO,BTLNBR,BTLNBR_FLAG_W,DATE,TIME,LATITUDE,LONGITUDE,DEPTH,CTDPRS,CTDTMP,CTDSAL,CTDSAL_FLAG_W,SALNTY,SALNTY_FLAG_W,CTDOXY,CTDOXY_FLAG_W,OXYGEN,OXYGEN_FLAG_W,SILCAT,SILCAT_FLAG_W,NITRAT,NITRAT_FLAG_W,NITRIT,NITRIT_FLAG_W,PHSPHT,PHSPHT_FLAG_W,CFC-11,CFC-11_FLAG_W,CFC-12,CFC-12_FLAG_W,TRITUM,TRITUM_FLAG_W,HELIUM,HELIUM_FLAG_W,DELHE3,DELHE3_FLAG_W,DELC13,DELC13_FLAG_W,DELC14,DELC14_FLAG_W,C14ERR,NEON,NEON_FLAG_W,NEONER,HELIER,DELHER,THETA,TRITER
,,,,,,,,,,,METERS,DBAR,ITS-90,PSS-78,,PSS-78,,UMOL/KG,,UMOL/KG,,UMOL/KG,,UMOL/KG,,UMOL/KG,,UMOL/KG,,PMOL/KG,,PMOL/KG,,TU,,NMOL/KG,,PERCNT,,/MILLE,,/MILLE,,/MILLE,NMOL/KG,,NMOL/KG,NMOL/KG,PERCNT,DEG C,TU
  316N138_7,       P14C,      41,          1,          8,          8,2,19920910,       0419,   -20.3717,   177.6350,     -999.0,     1.1,  25.1601,  35.5991,2,  35.6033,2,    209.6,2,   207.7,2,    1.85,2,    0.07,2,    0.00,2,    0.13,2,   1.780,2,   0.967,2,-999.000,9,-999.0000,9, -999.00,9, -999.00,9,  -999.0,9,  -999.0,-999.000,9,-999.000,-999.0000,-999.000,  25.1598,-999.000
  316N138_7,       P14C,      41,          1,          9,          9,2,19920910,       0419,   -20.3717,   177.6350,     -999.0,    14.8,  25.1143,  35.6002,2,  35.6009,2,    206.1,2,   206.6,2,    1.83,2,    0.07,2,    0.00,2,    0.13,2,-999.000,9,-999.000,9,-999.000,9,-999.0000,9, -999.00,9, -999.00,9,  -999.0,9,  -999.0,-999.000,9,-999.000,-999.0000,-999.000,  25.1110,-999.000
  316N138_7,       P14C,      41,          1,         10,         10,2,19920910,       0419,   -20.3717,   177.6350,     -999.0,    55.0,  23.7096,  35.5793,2,  35.5792,2,    213.9,2,   212.0,2,    1.61,2,    0.06,2,    0.00,2,    0.09,2,   1.922,2,   1.023,2,-999.000,9,-999.0000,9, -999.00,9, -999.00,9,  -999.0,9,  -999.0,-999.000,9,-999.000,-999.0000,-999.000,  23.6981,-999.000
  316N138_7,       P14C,      41,          1,         11,         11,2,19920910,       0419,   -20.3717,   177.6350,     -999.0,   105.3,  22.8713,  35.6079,2,  35.6027,2,    207.4,2,   210.9,2,    1.59,2,    0.08,2,    0.03,2,    0.09,2,   1.948,2,   1.045,2,-999.000,9,-999.0000,9, -999.00,9, -999.00,9,  -999.0,9,  -999.0,-999.000,9,-999.000,-999.0000,-999.000,  22.8498,-999.000
  316N138_7,       P14C,      41,          1,         12,         12,2,19920910,       0419,   -20.3717,   177.6350,     -999.0,   154.3,  22.1728,  35.6247,2,  35.6259,2,    203.6,2,   202.8,2,    1.57,2,    0.57,2,    0.13,2,    0.12,2,   2.005,2,   1.057,2,-999.000,9,-999.0000,9, -999.00,9, -999.00,9,  -999.0,9,  -999.0,-999.000,9,-999.000,-999.0000,-999.000,  22.1420,-999.000
  316N138_7,       P14C,      41,          1,         13,         13,2,19920910,       0419,   -20.3717,   177.6350,     -999.0,   203.3,  20.6790,  35.7041,2,  35.7044,2,    171.8,2,   174.2,2,    1.75,2,    3.86,2,    0.01,2,    0.40,2,   1.833,2,   0.977,2,-999.000,9,-999.0000,9, -999.00,9, -999.00,9,  -999.0,9,  -999.0,-999.000,9,-999.000,-999.0000,-999.000,  20.6403,-999.000
  316N138_7,       P14C,      41,          1,         14,         14,2,19920910,       0419,   -20.3717,   177.6350,     -999.0,   252.5,  18.8039,  35.5988,2,  35.5993,2,    188.2,2,   185.8,2,    1.73,2,    4.17,2,    0.01,2,    0.39,2,   1.939,2,   1.016,2,-999.000,9,-999.0000,9, -999.00,9, -999.00,9,  -999.0,9,  -999.0,-999.000,9,-999.000,-999.0000,-999.000,  18.7590,-999.000
  316N138_7,       P14C,      41,          1,         15,         15,2,19920910,       0419,   -20.3717,   177.6350,     -999.0,   302.3,  17.7828,  35.5578,2,  35.5497,2,    190.1,2,   187.9,2,    1.92,2,    5.06,2,    0.01,2,    0.45,2,   1.909,2,   0.999,2,-999.000,9,-999.0000,9, -999.00,9, -999.00,9,  -999.0,9,  -999.0,-999.000,9,-999.000,-999.0000,-999.000,  17.7310,-999.000
  316N138_7,       P14C,      41,          1,         16,         16,2,19920910,       0419,   -20.3717,   177.6350,     -999.0,   353.4,  15.6885,  35.3733,2,  35.3676,2,    186.3,2,   185.7,2,    3.10,2,    8.11,2,    0.00,2,    0.65,2,   1.779,2,   0.907,2,-999.000,9,-999.0000,9, -999.00,9, -999.00,9,  -999.0,9,  -999.0,-999.000,9,-999.000,-999.0000,-999.000,  15.6329,-999.000
  316N138_7,       P14C,      41,          1,         17,         17,2,19920910,       0419,   -20.3717,   177.6350,     -999.0,   404.9,  13.7736,  35.1587,2,  35.1653,2,    183.3,2,   184.6,2,    3.88,2,   11.11,2,    0.00,2,    0.86,2,   1.512,2,   0.784,2,-999.000,9,-999.0000,9, -999.00,9, -999.00,9,  -999.0,9,  -999.0,-999.000,9,-999.000,-999.0000,-999.000,  13.7152,-999.000
  316N138_7,       P14C,      41,          1,         18,         18,2,19920910,       0419,   -20.3717,   177.6350,     -999.0,   506.5,  10.3333,  34.7565,2,  34.7575,2,    189.8,2,   189.7,2,    7.46,2,   17.77,2,    0.00,2,    1.28,2,   0.991,2,   0.514,2,-999.000,9,-999.0000,9, -999.00,9, -999.00,9,  -999.0,9,  -999.0,-999.000,9,-999.000,-999.0000,-999.000,  10.2726,-999.000
  316N138_7,       P14C,      41,          1,         19,         19,2,19920910,       0419,   -20.3717,   177.6350,     -999.0,   607.4,   7.9226,  34.5086,2,  34.5158,2,    190.5,2,   191.6,2,   13.65,2,   23.66,2,    0.00,2,    1.65,2,   0.509,2,   0.277,2,-999.000,9,-999.0000,9, -999.00,9, -999.00,9,  -999.0,9,  -999.0,-999.000,9,-999.000,-999.0000,-999.000,   7.8603,-999.000
  316N138_7,       P14C,      41,          1,         20,         20,2,19920910,       0419,   -20.3717,   177.6350,     -999.0,   708.0,   6.4504,  34.4008,2,  34.4029,2,    202.6,2,   199.9,2,   19.44,2,   27.02,2,    0.00,2,    1.86,2,   0.270,2,   0.154,2,-999.000,9,-999.0000,9, -999.00,9, -999.00,9,  -999.0,9,  -999.0,-999.000,9,-999.000,-999.0000,-999.000,   6.3853,-999.000
  316N138_7,       P14C,      41,          1,         21,         21,2,19920910,       0419,   -20.3717,   177.6350,     -999.0,   809.2,   5.6440,  34.3849,2,  34.3882,2,    188.7,2,   189.8,2,   28.63,2,   29.62,2,    0.00,2,    2.04,2,   0.127,2,   0.074,2,-999.000,9,-999.0000,9, -999.00,9, -999.00,9,  -999.0,9,  -999.0,-999.000,9,-999.000,-999.0000,-999.000,   5.5739,-999.000
  316N138_7,       P14C,      41,          1,         22,         22,2,19920910,       0419,   -20.3717,   177.6350,     -999.0,   907.9,   4.9684,  34.3956,2,  34.3980,2,    180.4,2,   181.5,2,   39.03,2,   31.49,2,    0.00,2,    2.16,2,   0.061,2,   0.044,2,-999.000,9,-999.0000,9, -999.00,9, -999.00,9,  -999.0,9,  -999.0,-999.000,9,-999.000,-999.0000,-999.000,   4.8937,-999.000
  316N138_7,       P14C,      41,          1,         23,         23,2,19920910,       0419,   -20.3717,   177.6350,     -999.0,  1006.4,   4.3181,  34.4360,2,  34.4348,2,    170.8,2,   171.4,2,   53.83,2,   33.15,2,    0.00,2,    2.29,2,   0.027,2,   0.016,2,-999.000,9,-999.0000,9, -999.00,9, -999.00,9,  -999.0,9,  -999.0,-999.000,9,-999.000,-999.0000,-999.000,   4.2395,-999.000
  316N138_7,       P14C,      41,          1,         24,         24,2,19920910,       0419,   -20.3717,   177.6350,     -999.0,  1105.0,   3.8794,  34.4768,2,  34.4744,2,    161.3,2,   164.5,2,   66.66,2,   34.11,2,    0.00,2,    2.35,2,   0.017,4,   0.019,4,-999.000,9,-999.0000,9, -999.00,9, -999.00,9,  -999.0,9,  -999.0,-999.000,9,-999.000,-999.0000,-999.000,   3.7960,-999.000
  316N138_7,       P14C,      41,          1,         25,         25,2,19920910,       0419,   -20.3717,   177.6350,     -999.0,  1205.1,   3.5662,  34.5029,2,  34.5017,2,    158.6,2,   160.6,2,   75.69,2,   34.73,2,    0.00,2,    2.40,2,   0.005,2,   0.002,2,-999.000,9,-999.0000,9, -999.00,9, -999.00,9,  -999.0,9,  -999.0,-999.000,9,-999.000,-999.0000,-999.000,   3.4771,-999.000
  316N138_7,       P14C,      41,          1,         26,         26,2,19920910,       0419,   -20.3717,   177.6350,     -999.0,  1308.3,   3.2084,  34.5423,2,  34.5409,2,    152.4,2,   154.6,2,   88.60,2,   35.34,2,    0.00,2,    2.46,2,-999.000,9,-999.000,9,-999.000,9,-999.0000,9, -999.00,9, -999.00,9,  -999.0,9,  -999.0,-999.000,9,-999.000,-999.0000,-999.000,   3.1142,-999.000
  316N138_7,       P14C,      41,          1,         27,         27,2,19920910,       0419,   -20.3717,   177.6350,     -999.0,  1410.4,   2.9823,  34.5654,2,  34.5622,2,    152.1,2,   152.6,2,   95.48,2,   35.61,2,    0.00,2,    2.47,2,   0.018,4,   0.016,4,-999.000,9,-999.0000,9, -999.00,9, -999.00,9,  -999.0,9,  -999.0,-999.000,9,-999.000,-999.0000,-999.000,   2.8821,-999.000
  316N138_7,       P14C,      41,          1,         28,         28,2,19920910,       0419,   -20.3717,   177.6350,     -999.0,  1513.2,   2.7595,  34.5860,2,  34.5856,2,    151.1,2,   151.2,2,  102.81,2,   35.83,2,    0.00,2,    2.49,2,   0.000,2,  -0.002,2,-999.000,9,-999.0000,9, -999.00,9, -999.00,9,  -999.0,9,  -999.0,-999.000,9,-999.000,-999.0000,-999.000,   2.6533,-999.000
  316N138_7,       P14C,      41,          1,         29,         29,2,19920910,       0419,   -20.3717,   177.6350,     -999.0,  1613.2,   2.5948,  34.6016,2,  34.6009,2,    150.3,2,   149.9,2,  107.91,2,   36.00,2,    0.00,2,    2.50,2,-999.000,9,-999.000,9,-999.000,9,-999.0000,9, -999.00,9, -999.00,9,  -999.0,9,  -999.0,-999.000,9,-999.000,-999.0000,-999.000,   2.4824,-999.000
  316N138_7,       P14C,      41,          1,         30,         30,2,19920910,       0419,   -20.3717,   177.6350,     -999.0,  1819.7,   2.4236,  34.6197,2,  34.6201,2,    150.5,2,   150.3,2,  113.04,2,   35.96,2,    0.00,2,    2.49,2,   0.000,2,  -0.002,2,-999.000,9,-999.0000,9, -999.00,9, -999.00,9,  -999.0,9,  -999.0,-999.000,9,-999.000,-999.0000,-999.000,   2.2962,-999.000
  316N138_7,       P14C,      41,          1,         31,         31,2,19920910,       0419,   -20.3717,   177.6350,     -999.0,  2023.4,   2.2239,  34.6379,2,  34.6387,2,    153.0,2,   150.9,2,  118.20,2,   36.04,2,    0.00,2,    2.50,2,-999.000,9,-999.000,9,-999.000,9,-999.0000,9, -999.00,9, -999.00,9,  -999.0,9,  -999.0,-999.000,9,-999.000,-999.0000,-999.000,   2.0820,-999.000
  316N138_7,       P14C,      41,          1,         32,         32,2,19920910,       0419,   -20.3717,   177.6350,     -999.0,  2225.8,   2.1029,  34.6504,2,  34.6505,2,    150.6,2,   151.7,2,  121.51,2,   36.00,2,    0.00,2,    2.50,2,-999.000,9,-999.000,9,-999.000,9,-999.0000,9, -999.00,9, -999.00,9,  -999.0,9,  -999.0,-999.000,9,-999.000,-999.0000,-999.000,   1.9453,-999.000
  316N138_7,       P14C,      41,          1,         33,         33,2,19920910,       0419,   -20.3717,   177.6350,     -999.0,  2429.0,   2.0199,  34.6592,2,  34.6595,2,    152.0,2,   153.0,2,  123.16,2,   35.96,2,    0.00,2,    2.49,2,   0.003,2,  -0.001,2,-999.000,9,-999.0000,9, -999.00,9, -999.00,9,  -999.0,9,  -999.0,-999.000,9,-999.000,-999.0000,-999.000,   1.8457,-999.000
  316N138_7,       P14C,      41,          1,         34,         34,2,19920910,       0419,   -20.3717,   177.6350,     -999.0,  2632.1,   1.9579,  34.6662,2,  34.6666,2,    154.8,2,   153.7,2,  124.39,2,   35.87,2,    0.00,2,    2.50,2,-999.000,9,-999.000,9,-999.000,9,-999.0000,9, -999.00,9, -999.00,9,  -999.0,9,  -999.0,-999.000,9,-999.000,-999.0000,-999.000,   1.7662,-999.000
  316N138_7,       P14C,      41,          1,         35,         35,2,19920910,       0419,   -20.3717,   177.6350,     -999.0,  2835.9,   1.8848,  34.6735,2,  34.6741,2,    153.8,2,   154.7,2,  126.46,2,   35.87,2,    0.00,2,    2.49,2,-999.000,9,-999.000,9,-999.000,9,-999.0000,9, -999.00,9, -999.00,9,  -999.0,9,  -999.0,-999.000,9,-999.000,-999.0000,-999.000,   1.6754,-999.000
  316N138_7,       P14C,      41,          1,         37,         37,2,19920910,       0419,   -20.3717,   177.6350,     -999.0,  2954.0,   1.8618,  34.6769,2,  34.6768,2,    154.0,2,   155.3,2,  127.07,2,   35.86,2,    0.00,2,    2.50,2,   0.000,2,  -0.003,2,-999.000,9,-999.0000,9, -999.00,9, -999.00,9,  -999.0,9,  -999.0,-999.000,9,-999.000,-999.0000,-999.000,   1.6416,-999.000