BOTTLE,20211105CCHSIORKP
EXPOCODE,SECT_ID,STNNBR,CASTNO,SAMPNO,BTLNBR,BTLNBR_FLAG_W,DATE,TIME,LATITUDE,LONGITUDE,DEPTH,CTDPRS,CTDTMP,CTDSAL,CTDSAL_FLAG_W,SALNTY,SALNTY_FLAG_W,CTDOXY,CTDOXY_FLAG_W,OXYGEN,OXYGEN_FLAG_W,SILCAT,SILCAT_FLAG_W,NITRAT,NITRAT_FLAG_W,NITRIT,NITRIT_FLAG_W,PHSPHT,PHSPHT_FLAG_W,CFC-11,CFC-11_FLAG_W,CFC-12,CFC-12_FLAG_W,TRITUM,TRITUM_FLAG_W,HELIUM,HELIUM_FLAG_W,DELHE3,DELHE3_FLAG_W,DELC13,DELC13_FLAG_W,DELC14,DELC14_FLAG_W,C14ERR,NEON,NEON_FLAG_W,NEONER,HELIER,DELHER,THETA,TRITER
,,,,,,,,,,,METERS,DBAR,ITS-90,PSS-78,,PSS-78,,UMOL/KG,,UMOL/KG,,UMOL/KG,,UMOL/KG,,UMOL/KG,,UMOL/KG,,PMOL/KG,,PMOL/KG,,TU,,NMOL/KG,,PERCNT,,/MILLE,,/MILLE,,/MILLE,NMOL/KG,,NMOL/KG,NMOL/KG,PERCNT,DEG C,TU
  316N138_7,       P14C,      33,          1,          2,          2,2,19920908,       0910,   -23.0650,   177.1833,       4284,     1.9,  22.9598,  35.7128,2,  35.7154,2,    206.4,2,   213.5,2,    1.13,2,    0.05,2,    0.00,2,    0.08,2,-999.000,9,-999.000,9,-999.000,9,-999.0000,9, -999.00,9,    1.07,3,  -999.0,9,  -999.0,-999.000,9,-999.000,-999.0000,-999.000,  22.9594,-999.000
  316N138_7,       P14C,      33,          1,          3,          3,2,19920908,       0910,   -23.0650,   177.1833,       4284,    16.2,  22.9638,  35.7116,2,  35.7158,2,    205.3,2,   213.9,2,    0.92,2,    0.01,2,    0.00,2,    0.07,2,   1.994,6,   1.038,6,   1.058,2,   1.7710,2,   -1.15,2, -999.00,9,  -999.0,9,  -999.0,   7.151,2,   0.036,   0.0070,   0.110,  22.9605,   0.008
  316N138_7,       P14C,      33,          1,          4,          4,2,19920908,       0910,   -23.0650,   177.1833,       4284,    56.3,  22.1567,  35.6366,2,  35.6391,2,    212.6,2,   216.3,2,    0.91,2,    0.01,2,    0.00,2,    0.06,2,   2.023,2,   1.106,2,   0.795,2,   1.7750,2,   -1.26,2, -999.00,9,  -999.0,9,  -999.0,   7.204,2,   0.036,   0.0070,   0.110,  22.1455,   0.007
  316N138_7,       P14C,      33,          1,          5,          5,2,19920908,       0910,   -23.0650,   177.1833,       4284,   106.2,  22.0506,  35.6247,2,  35.6670,3,    216.8,2,   214.7,2,    0.90,2,    0.01,2,    0.00,2,    0.06,2,   1.935,2,   1.066,2,   0.796,2,   1.7490,2,   -1.09,2,    1.13,3,   127.4,2,    17.3,   7.098,2,   0.035,   0.0070,   0.110,  22.0296,   0.007
  316N138_7,       P14C,      33,          1,          6,          6,2,19920908,       0910,   -23.0650,   177.1833,       4284,   155.1,  21.8706,  35.6362,2,  35.6390,2,    211.8,2,   212.9,2,    0.90,2,    0.00,2,    0.05,2,    0.08,2,   2.020,2,   1.068,2,   0.711,2,   1.8090,2,   -1.02,2,    1.05,3,   127.6,2,    12.6,   7.227,2,   0.036,   0.0070,   0.110,  21.8400,   0.006
  316N138_7,       P14C,      33,          1,          7,          7,2,19920908,       0910,   -23.0650,   177.1833,       4284,   206.3,  19.9404,  35.6242,2,  35.6260,2,    188.1,2,   184.7,2,    0.89,2,    3.33,2,    0.01,2,    0.33,2,   1.945,2,   1.029,2,   0.854,2,   1.7930,2,   -0.26,2,    1.00,3,   139.9,3,    12.7,   7.265,2,   0.036,   0.0070,   0.110,  19.9022,   0.005
  316N138_7,       P14C,      33,          1,          8,          8,2,19920908,       0910,   -23.0650,   177.1833,       4284,   256.4,  18.7333,  35.5976,2,  35.5996,2,    190.9,2,   187.8,2,    1.08,2,    4.05,2,    0.01,2,    0.38,2,   1.976,2,   1.038,2,-999.000,9,-999.0000,9, -999.00,9, -999.00,9,  -999.0,9,  -999.0,-999.000,9,-999.000,-999.0000,-999.000,  18.6878,-999.000
  316N138_7,       P14C,      33,          1,          9,          9,2,19920908,       0910,   -23.0650,   177.1833,       4284,   306.8,  17.6823,  35.5739,2,  35.5566,2,    194.0,2,   191.7,2,    1.67,2,    4.90,2,    0.01,2,    0.44,2,   1.985,2,   1.045,2,   0.770,2,   1.8050,2,   -0.25,2,   -0.35,3,    87.7,2,    11.9,   7.402,2,   0.037,   0.0070,   0.110,  17.6300,   0.005
  316N138_7,       P14C,      33,          1,         10,         10,2,19920908,       0910,   -23.0650,   177.1833,       4284,   356.3,  15.8715,  35.3721,2,  35.3874,2,    186.1,2,   184.7,2,    2.26,2,    7.65,2,    0.01,2,    0.63,2,-999.000,9,-999.000,9,-999.000,9,-999.0000,9, -999.00,9,   -1.23,3,    38.4,3,    14.0,-999.000,9,-999.000,-999.0000,-999.000,  15.8150,-999.000
  316N138_7,       P14C,      33,          1,         11,         11,2,19920908,       0910,   -23.0650,   177.1833,       4284,   406.6,  14.1897,  35.2027,2,  35.2011,2,    185.1,2,   182.9,2,    3.84,2,   10.48,2,    0.01,2,    0.82,2,   1.473,2,   0.754,2,   0.517,2,   1.8330,2,    0.63,2,    0.89,3,    80.8,2,    14.9,   7.620,2,   0.038,   0.0080,   0.110,  14.1299,   0.004
  316N138_7,       P14C,      33,          1,         12,         12,3,19920908,       0910,   -23.0650,   177.1833,       4284,   507.2,  11.2394,  34.8650,2,  35.6413,4,    186.3,2,  -999.0,9,    6.42,4,    1.61,4,    0.01,4,    0.20,4,   1.888,4,   0.998,4,-999.000,9,-999.0000,9, -999.00,9,    0.26,3,    66.5,4,     8.7,-999.000,9,-999.000,-999.0000,-999.000,  11.1752,-999.000
  316N138_7,       P14C,      33,          1,         13,         13,2,19920908,       0910,   -23.0650,   177.1833,       4284,   608.0,   8.4465,  34.5555,2,  34.5565,2,    200.5,2,   202.4,2,    8.61,2,   21.06,2,    0.00,2,    1.46,2,   0.755,2,   0.386,2,   0.217,2,   1.8830,2,    1.17,2,    0.47,3,    -1.7,2,     9.6,   8.020,2,   0.040,   0.0080,   0.110,   8.3817,   0.003
  316N138_7,       P14C,      33,          1,         14,         14,2,19920908,       0910,   -23.0650,   177.1833,       4284,   707.7,   6.9092,  34.4300,2,  34.4245,2,    206.9,2,   209.6,2,   13.38,2,   24.63,2,    0.00,2,    1.69,2,   0.414,2,   0.230,2,   0.130,2,   1.8810,2,    1.46,2,    0.34,3,   -43.3,2,    10.4,   8.084,2,   0.040,   0.0080,   0.110,   6.8416,   0.002
  316N138_7,       P14C,      33,          1,         15,         15,2,19920908,       0910,   -23.0650,   177.1833,       4284,   808.6,   5.9637,  34.3714,2,  34.3720,2,    202.6,2,   204.2,2,   20.14,2,   27.44,2,    0.00,2,    1.89,2,   0.208,2,   0.129,2,   0.070,2,   1.8890,2,    2.37,2,    0.39,3,   -63.3,2,    13.4,   8.129,2,   0.041,   0.0080,   0.110,   5.8917,   0.002
  316N138_7,       P14C,      33,          1,         16,         16,2,19920908,       0910,   -23.0650,   177.1833,       4284,   909.8,   5.4420,  34.3675,2,  34.3684,2,    194.8,2,   194.2,2,   27.50,2,   29.40,2,    0.00,2,    2.02,2,   0.110,2,   0.060,2,-999.000,9,-999.0000,9, -999.00,9,   -0.22,3,  -103.4,2,    10.8,-999.000,9,-999.000,-999.0000,-999.000,   5.3639,-999.000
  316N138_7,       P14C,      33,          1,         17,         17,2,19920908,       0910,   -23.0650,   177.1833,       4284,  1010.2,   4.9293,  34.3855,2,  34.3837,2,    185.9,2,   186.5,2,   35.86,2,   30.78,2,    0.00,2,    2.12,2,   0.062,2,   0.038,2,   0.027,2,   1.9110,2,    5.81,2,    0.09,3,  -108.9,2,     8.2,   8.219,2,   0.041,   0.0080,   0.110,   4.8458,   0.002
  316N138_7,       P14C,      33,          1,         18,         18,2,19920908,       0910,   -23.0650,   177.1833,       4284,  1110.3,   4.4286,  34.4162,2,  34.4174,2,    175.9,2,   175.9,2,   48.00,2,   32.37,2,    0.00,2,    2.23,2,   0.030,2,   0.015,2,-999.000,9,-999.0000,9, -999.00,9,    0.10,3,  -120.5,2,     8.6,-999.000,9,-999.000,-999.0000,-999.000,   4.3402,-999.000
  316N138_7,       P14C,      33,          1,         19,         19,2,19920908,       0910,   -23.0650,   177.1833,       4284,  1211.5,   4.0149,  34.4532,2,  34.4523,2,    170.8,2,   169.4,2,   59.95,2,   33.32,2,    0.00,2,    2.30,2,   0.012,2,   0.007,2,   0.012,2,   1.9410,2,   11.96,2,   -1.69,3,  -176.4,3,     9.7,   8.313,2,   0.042,   0.0080,   0.110,   3.9213,   0.002
  316N138_7,       P14C,      33,          1,         20,         20,2,19920908,       0910,   -23.0650,   177.1833,       4284,  1312.7,   3.5672,  34.5012,2,  34.4993,2,    162.6,2,   163.1,2,   73.93,2,   33.93,2,    0.00,2,    2.35,2,  -0.002,2,  -0.001,2,   0.008,2,   1.9550,2,   15.87,2,   -0.13,3,  -160.6,2,     8.3,   8.340,2,   0.042,   0.0080,   0.110,   3.4691,   0.002
  316N138_7,       P14C,      33,          1,         21,         21,3,19920908,       0910,   -23.0650,   177.1833,       4284,  1413.3,   3.2434,  34.5380,2,  34.5512,4,    157.0,2,   159.0,4,   82.34,4,   33.97,4,    0.00,4,    2.36,4,-999.000,9,-999.000,9,-999.000,9,-999.0000,9, -999.00,9, -999.00,9,  -999.0,9,  -999.0,-999.000,9,-999.000,-999.0000,-999.000,   3.1402,-999.000
  316N138_7,       P14C,      33,          1,         22,         22,2,19920908,       0910,   -23.0650,   177.1833,       4284,  1514.7,   3.0035,  34.5639,2,  34.5594,2,    152.4,2,   153.9,2,   93.41,2,   35.01,2,    0.00,2,    2.43,2,-999.000,9,-999.000,9,-999.000,9,-999.0000,9, -999.00,9,   -0.18,3,  -172.1,2,    11.9,-999.000,9,-999.000,-999.0000,-999.000,   2.8945,-999.000
  316N138_7,       P14C,      33,          1,         23,         23,2,19920908,       0910,   -23.0650,   177.1833,       4284,  1616.5,   2.8596,  34.5785,2,  34.5778,2,    152.4,2,   153.6,2,   98.05,2,   35.06,2,    0.00,2,    2.44,2,   0.000,2,  -0.003,2,   0.008,2,   1.9910,2,   22.08,2,   -0.29,3,  -183.9,2,    12.9,   8.423,2,   0.042,   0.0080,   0.110,   2.7437,   0.002
  316N138_7,       P14C,      33,          1,         24,         24,2,19920908,       0910,   -23.0650,   177.1833,       4284,  1818.9,   2.5508,  34.6082,2,  34.6076,2,    150.7,2,   151.3,2,  107.81,2,   35.45,2,    0.00,2,    2.46,2,   0.001,2,  -0.003,2,   0.006,2,   1.9960,2,   23.32,2,   -0.61,3,  -186.5,2,    11.3,   8.451,2,   0.042,   0.0080,   0.110,   2.4218,   0.002
  316N138_7,       P14C,      33,          1,         25,         25,2,19920908,       0910,   -23.0650,   177.1833,       4284,  2021.8,   2.3800,  34.6269,2,  34.6261,2,    152.8,2,   154.6,4,  112.30,2,   35.45,2,    0.00,2,    2.46,2,-999.000,9,-999.000,9,-999.000,9,-999.0000,9, -999.00,9,   -2.56,3,  -232.4,3,     5.3,-999.000,9,-999.000,-999.0000,-999.000,   2.2359,-999.000
  316N138_7,       P14C,      33,          1,         26,         26,2,19920908,       0910,   -23.0650,   177.1833,       4284,  2224.2,   2.2191,  34.6414,2,  34.6405,2,    152.2,2,   151.9,2,  116.61,2,   35.50,2,    0.00,2,    2.47,2,  -0.002,2,   0.000,2,-999.000,9,-999.0000,9, -999.00,9,   -2.17,3,  -234.9,3,     5.6,-999.000,9,-999.000,-999.0000,-999.000,   2.0598,-999.000
  316N138_7,       P14C,      33,          1,         27,         27,2,19920908,       0910,   -23.0650,   177.1833,       4284,  2427.2,   2.0792,  34.6551,2,  34.6537,2,    153.4,2,   152.7,2,  120.52,2,   35.50,2,    0.00,2,    2.48,2,   0.001,2,   0.000,2,-999.000,9,-999.0000,9, -999.00,9,   -1.07,3,  -205.9,2,     6.5,-999.000,9,-999.000,-999.0000,-999.000,   1.9041,-999.000
  316N138_7,       P14C,      33,          1,         28,         28,2,19920908,       0910,   -23.0650,   177.1833,       4284,  2631.8,   1.9653,  34.6662,2,  34.6654,2,    154.7,2,   153.7,2,  123.41,2,   35.46,2,    0.00,2,    2.47,2,-999.000,9,-999.000,9,-999.000,9,-999.0000,9, -999.00,9,   -0.68,3,  -201.0,2,     5.6,-999.000,9,-999.000,-999.0000,-999.000,   1.7735,-999.000
  316N138_7,       P14C,      33,          1,         29,         29,2,19920908,       0910,   -23.0650,   177.1833,       4284,  2835.9,   1.9123,  34.6728,2,  34.6727,2,    155.7,2,   154.8,2,  124.64,2,   35.42,2,    0.00,2,    2.46,2,-999.000,9,-999.000,9,-999.000,9,-999.0000,9, -999.00,9,    0.27,3,  -202.5,2,     7.5,-999.000,9,-999.000,-999.0000,-999.000,   1.7023,-999.000
  316N138_7,       P14C,      33,          1,         30,         30,2,19920908,       0910,   -23.0650,   177.1833,       4284,  3039.9,   1.8703,  34.6764,2,  34.6768,2,    155.2,2,   155.5,2,  125.67,2,   35.29,2,    0.00,2,    2.46,2,  -0.006,2,  -0.005,2,-999.000,9,-999.0000,9, -999.00,9,   -0.64,3,  -194.8,3,     7.5,-999.000,9,-999.000,-999.0000,-999.000,   1.6415,-999.000
  316N138_7,       P14C,      33,          1,         31,         31,2,19920908,       0910,   -23.0650,   177.1833,       4284,  3243.6,   1.8473,  34.6797,2,  34.6801,2,    156.7,2,   156.0,2,  126.69,2,   35.25,2,    0.00,2,    2.45,2,-999.000,9,-999.000,9,-999.000,9,-999.0000,9, -999.00,9,   -0.52,3,  -195.6,3,     8.2,-999.000,9,-999.000,-999.0000,-999.000,   1.5988,-999.000
  316N138_7,       P14C,      33,          1,         32,         32,2,19920908,       0910,   -23.0650,   177.1833,       4284,  3446.8,   1.8374,  34.6807,2,  34.6814,2,    157.5,2,   156.6,2,  127.30,2,   35.25,2,    0.00,2,    2.45,2,-999.000,9,-999.000,9,-999.000,9,-999.0000,9, -999.00,9,   -0.09,3,  -201.2,2,     7.9,-999.000,9,-999.000,-999.0000,-999.000,   1.5683,-999.000
  316N138_7,       P14C,      33,          1,         33,         33,2,19920908,       0910,   -23.0650,   177.1833,       4284,  3651.2,   1.8404,  34.6822,2,  34.6822,2,    156.8,2,   156.5,2,  127.90,2,   35.43,2,    0.00,2,    2.46,2,   0.000,2,   0.003,2,-999.000,9,-999.0000,9, -999.00,9,   -0.50,3,  -196.8,2,     6.0,-999.000,9,-999.000,-999.0000,-999.000,   1.5498,-999.000
  316N138_7,       P14C,      33,          1,         34,         34,2,19920908,       0910,   -23.0650,   177.1833,       4284,  3853.5,   1.8503,  34.6823,2,  34.6835,2,    156.3,2,   156.9,2,  128.51,2,   35.34,2,    0.00,2,    2.46,2,-999.000,9,-999.000,9,-999.000,9,-999.0000,9, -999.00,9,   -0.60,3,  -197.4,6,     5.8,-999.000,9,-999.000,-999.0000,-999.000,   1.5377,-999.000
  316N138_7,       P14C,      33,          1,         35,         35,2,19920908,       0910,   -23.0650,   177.1833,       4284,  4059.1,   1.8643,  34.6830,2,  34.6841,2,    155.2,2,   156.5,2,  128.70,2,   35.35,2,    0.00,2,    2.45,2,-999.000,9,-999.000,9,-999.000,9,-999.0000,9, -999.00,9,   -0.71,3,  -197.4,2,    17.4,-999.000,9,-999.000,-999.0000,-999.000,   1.5286,-999.000
  316N138_7,       P14C,      33,          1,         37,         37,2,19920908,       0910,   -23.0650,   177.1833,       4284,  4396.7,   1.8973,  34.6840,2,  34.6847,2,    156.5,2,   156.6,2,  128.68,2,   35.31,2,    0.00,2,    2.46,2,  -0.001,2,  -0.001,2,-999.000,9,-999.0000,9, -999.00,9,   -0.69,3,  -197.5,2,     6.2,-999.000,9,-999.000,-999.0000,-999.000,   1.5221,-999.000