BOTTLE,20211105CCHSIORKP
EXPOCODE,SECT_ID,STNNBR,CASTNO,SAMPNO,BTLNBR,BTLNBR_FLAG_W,DATE,TIME,LATITUDE,LONGITUDE,DEPTH,CTDPRS,CTDTMP,CTDSAL,CTDSAL_FLAG_W,SALNTY,SALNTY_FLAG_W,CTDOXY,CTDOXY_FLAG_W,OXYGEN,OXYGEN_FLAG_W,SILCAT,SILCAT_FLAG_W,NITRAT,NITRAT_FLAG_W,NITRIT,NITRIT_FLAG_W,PHSPHT,PHSPHT_FLAG_W,CFC-11,CFC-11_FLAG_W,CFC-12,CFC-12_FLAG_W,TRITUM,TRITUM_FLAG_W,HELIUM,HELIUM_FLAG_W,DELHE3,DELHE3_FLAG_W,DELC13,DELC13_FLAG_W,DELC14,DELC14_FLAG_W,C14ERR,NEON,NEON_FLAG_W,NEONER,HELIER,DELHER,THETA,TRITER
,,,,,,,,,,,METERS,DBAR,ITS-90,PSS-78,,PSS-78,,UMOL/KG,,UMOL/KG,,UMOL/KG,,UMOL/KG,,UMOL/KG,,UMOL/KG,,PMOL/KG,,PMOL/KG,,TU,,NMOL/KG,,PERCNT,,/MILLE,,/MILLE,,/MILLE,NMOL/KG,,NMOL/KG,NMOL/KG,PERCNT,DEG C,TU
  316N138_7,       P14C,      23,          1,          2,          2,2,19920905,       2223,   -27.4067,   176.4450,       4228,     1.3,  18.8409,  35.6522,2,  35.6531,2,    230.6,2,   234.5,2,    1.52,2,    0.01,2,    0.00,2,    0.12,2,-999.000,9,-999.000,9,-999.000,9,-999.0000,9, -999.00,9, -999.00,9,  -999.0,9,  -999.0,-999.000,9,-999.000,-999.0000,-999.000,  18.8407,-999.000
  316N138_7,       P14C,      23,          1,          3,          3,2,19920905,       2223,   -27.4067,   176.4450,       4228,    15.2,  18.7179,  35.6675,2,  35.6667,2,    237.7,2,   235.4,2,    1.51,2,    0.01,2,    0.00,2,    0.12,2,   2.360,2,   1.239,2,   0.857,2,   1.8030,2,   -1.52,2, -999.00,9,  -999.0,9,  -999.0,   7.350,2,   0.037,   0.0070,   0.110,  18.7153,   0.007
  316N138_7,       P14C,      23,          1,          4,          4,2,19920905,       2223,   -27.4067,   176.4450,       4228,    55.5,  18.4943,  35.6745,2,  35.6768,2,    232.3,2,   231.6,2,    1.50,2,    0.05,2,    0.05,2,    0.15,2,   2.349,2,   1.235,2,   0.854,2,   1.8210,2,   -1.46,2, -999.00,9,  -999.0,9,  -999.0,   7.361,2,   0.037,   0.0070,   0.110,  18.4846,   0.007
  316N138_7,       P14C,      23,          1,          5,          5,2,19920905,       2223,   -27.4067,   176.4450,       4228,   105.4,  17.9086,  35.6658,2,  35.6640,2,    224.3,2,   225.4,2,    1.49,2,    0.86,2,    0.19,2,    0.22,2,   2.343,2,   1.229,2,   0.841,2,   1.7890,2,   -1.26,2, -999.00,9,  -999.0,9,  -999.0,   7.281,2,   0.036,   0.0070,   0.110,  17.8906,   0.007
  316N138_7,       P14C,      23,          1,          6,          6,2,19920905,       2223,   -27.4067,   176.4450,       4228,   155.2,  17.0684,  35.5627,2,  35.5651,2,    212.1,2,   216.1,2,    2.08,2,    3.18,2,    0.01,2,    0.35,2,-999.000,9,-999.000,9,-999.000,9,-999.0000,9, -999.00,9, -999.00,9,  -999.0,9,  -999.0,-999.000,9,-999.000,-999.0000,-999.000,  17.0426,-999.000
  316N138_7,       P14C,      23,          1,          7,          7,2,19920905,       2223,   -27.4067,   176.4450,       4228,   205.5,  16.2653,  35.4813,2,  35.4792,2,    201.7,2,   201.1,2,    2.66,2,    5.71,2,    0.01,2,    0.51,2,   2.198,2,   1.142,2,   0.726,2,   1.8490,2,   -0.60,2, -999.00,9,  -999.0,9,  -999.0,   7.608,2,   0.038,   0.0080,   0.110,  16.2323,   0.006
  316N138_7,       P14C,      23,          1,          8,          8,2,19920905,       2223,   -27.4067,   176.4450,       4228,   255.8,  15.4357,  35.3956,2,  35.3843,2,    195.7,2,   197.2,2,    3.45,2,    7.65,2,    0.01,2,    0.64,2,   2.073,2,   1.056,2,-999.000,9,-999.0000,9, -999.00,9, -999.00,9,  -999.0,9,  -999.0,-999.000,9,-999.000,-999.0000,-999.000,  15.3960,-999.000
  316N138_7,       P14C,      23,          1,          9,          9,2,19920905,       2223,   -27.4067,   176.4450,       4228,   306.1,  14.3516,  35.2848,2,  35.2861,2,    195.1,2,   196.8,2,    4.03,2,    9.19,2,    0.01,2,    0.74,2,   2.032,2,   1.028,2,   0.606,2,   1.8510,2,   -0.13,2, -999.00,9,  -999.0,9,  -999.0,   7.715,2,   0.039,   0.0080,   0.110,  14.3063,   0.004
  316N138_7,       P14C,      23,          1,         10,         10,2,19920905,       2223,   -27.4067,   176.4450,       4228,   356.5,  13.2898,  35.1708,2,  35.1572,2,    193.5,2,   193.2,2,    5.21,2,   11.69,2,    0.00,2,    0.89,2,   1.811,2,   0.924,2,-999.000,9,-999.0000,9, -999.00,9, -999.00,9,  -999.0,9,  -999.0,-999.000,9,-999.000,-999.0000,-999.000,  13.2397,-999.000
  316N138_7,       P14C,      23,          1,         11,         11,2,19920905,       2223,   -27.4067,   176.4450,       4228,   406.6,  12.4816,  35.0750,2,  35.0637,2,    191.5,2,   191.6,2,    6.00,2,   13.36,2,    0.00,2,    0.99,2,   1.677,2,   0.854,2,   0.470,2,   1.8440,2,    0.63,2, -999.00,9,  -999.0,9,  -999.0,   7.741,2,   0.039,   0.0080,   0.110,  12.4267,   0.004
  316N138_7,       P14C,      23,          1,         12,         12,2,19920905,       2223,   -27.4067,   176.4450,       4228,   507.1,  10.1585,  34.8080,2,  34.8008,2,    194.0,2,   194.2,2,    8.96,2,   18.09,2,    0.00,2,    1.28,2,   1.254,2,   0.649,2,   0.342,2,   1.8590,2,    1.02,2, -999.00,9,  -999.0,9,  -999.0,   7.888,2,   0.039,   0.0080,   0.110,  10.0983,   0.003
  316N138_7,       P14C,      23,          1,         13,         13,2,19920905,       2223,   -27.4067,   176.4450,       4228,   607.0,   8.4105,  34.5913,2,  34.5952,2,    204.6,2,   202.7,2,   10.53,2,   21.19,2,    0.00,2,    1.47,2,   0.834,2,   0.429,2,-999.000,9,   1.8810,2,    1.31,2, -999.00,9,  -999.0,9,  -999.0,   8.028,2,   0.040,   0.0080,   0.110,   8.3460,-999.000
  316N138_7,       P14C,      23,          1,         14,         14,2,19920905,       2223,   -27.4067,   176.4450,       4228,   707.4,   7.2136,  34.4683,2,  34.4638,2,    208.8,2,   210.7,2,   13.10,2,   23.65,2,    0.00,2,    1.62,2,   0.543,2,   0.286,2,-999.000,9,   1.8770,2,    1.50,2, -999.00,9,  -999.0,9,  -999.0,   8.073,2,   0.040,   0.0080,   0.110,   7.1443,-999.000
  316N138_7,       P14C,      23,          1,         15,         15,2,19920905,       2223,   -27.4067,   176.4450,       4228,   808.2,   6.1988,  34.4142,2,  34.3986,4,    204.9,2,   205.6,2,   20.22,2,   26.67,2,    0.00,2,    1.83,2,   0.230,2,   0.135,2,   0.077,2,   1.9040,2,    2.35,2, -999.00,9,  -999.0,9,  -999.0,   8.207,2,   0.041,   0.0080,   0.110,   6.1253,   0.002
  316N138_7,       P14C,      23,          1,         16,         16,2,19920905,       2223,   -27.4067,   176.4450,       4228,   909.1,   5.5196,  34.3990,2,-999.0000,9,    194.5,2,   196.2,2,   28.92,2,   28.66,2,    0.00,2,    1.96,2,   0.132,2,   0.078,2,   0.047,2,   1.9140,2,    4.01,2, -999.00,9,  -999.0,9,  -999.0,   8.229,2,   0.041,   0.0080,   0.110,   5.4410,   0.002
  316N138_7,       P14C,      23,          1,         17,         17,2,19920905,       2223,   -27.4067,   176.4450,       4228,  1010.1,   4.8688,  34.4083,2,  34.4140,2,    187.3,2,   186.7,2,   40.39,2,   30.66,2,    0.00,2,    2.11,2,   0.059,2,   0.037,2,   0.029,2,   1.8900,2,    6.40,2, -999.00,9,  -999.0,9,  -999.0,   8.173,2,   0.041,   0.0080,   0.110,   4.7858,   0.002
  316N138_7,       P14C,      23,          1,         18,         18,2,19920905,       2223,   -27.4067,   176.4450,       4228,  1111.5,   4.2228,  34.4325,2,  34.4336,2,    178.7,2,   178.7,2,   52.07,2,   32.23,2,    0.00,2,    2.21,2,   0.030,2,   0.013,2,-999.000,9,-999.0000,9, -999.00,9, -999.00,9,  -999.0,9,  -999.0,-999.000,9,-999.000,-999.0000,-999.000,   4.1360,-999.000
  316N138_7,       P14C,      23,          1,         19,         19,2,19920905,       2223,   -27.4067,   176.4450,       4228,  1212.8,   3.7173,  34.4772,2,  34.4797,2,    170.6,2,   170.5,2,   66.55,2,   33.24,2,    0.00,2,    2.29,2,   0.013,4,   0.017,4,   0.010,2,   1.9200,2,   11.94,2, -999.00,9,  -999.0,9,  -999.0,   8.246,2,   0.041,   0.0080,   0.110,   3.6262,   0.002
  316N138_7,       P14C,      23,          1,         20,         20,2,19920905,       2223,   -27.4067,   176.4450,       4228,  1313.3,   3.3686,  34.5182,2,  34.5179,2,    164.5,2,   165.4,2,   77.28,2,   33.81,2,    0.00,2,    2.33,2,   0.007,2,   0.005,2,-999.000,9,-999.0000,9, -999.00,9, -999.00,9,  -999.0,9,  -999.0,-999.000,9,-999.000,-999.0000,-999.000,   3.2725,-999.000
  316N138_7,       P14C,      23,          1,         21,         21,2,19920905,       2223,   -27.4067,   176.4450,       4228,  1413.9,   3.0646,  34.5558,2,  34.5562,2,    161.2,2,   160.7,2,   88.47,2,   34.17,2,    0.00,2,    2.38,2,   0.004,2,  -0.002,2,   0.006,2,   1.9730,2,   16.70,2, -999.00,9,  -999.0,9,  -999.0,   8.433,2,   0.042,   0.0080,   0.110,   2.9632,   0.002
  316N138_7,       P14C,      23,          1,         22,         22,2,19920905,       2223,   -27.4067,   176.4450,       4228,  1514.3,   2.8519,  34.5810,2,  34.5815,2,    157.3,2,   157.7,2,   96.09,2,   34.57,2,    0.00,2,    2.39,2,-999.000,9,-999.000,9,-999.000,9,-999.0000,9, -999.00,9, -999.00,9,  -999.0,9,  -999.0,-999.000,9,-999.000,-999.0000,-999.000,   2.7446,-999.000
  316N138_7,       P14C,      23,          1,         23,         23,2,19920905,       2223,   -27.4067,   176.4450,       4228,  1613.8,   2.6672,  34.6004,2,  34.6005,2,    156.0,2,   155.8,2,  102.14,2,   34.70,2,    0.00,2,    2.42,2,   0.002,2,  -0.002,2,   0.006,2,   1.8190,2,   19.57,2, -999.00,9,  -999.0,9,  -999.0,   7.807,2,   0.039,   0.0070,   0.110,   2.5538,   0.002
  316N138_7,       P14C,      23,          1,         24,         24,2,19920905,       2223,   -27.4067,   176.4450,       4228,  1814.1,   2.4170,  34.6231,2,  34.6230,2,    153.2,2,   153.1,2,  110.05,2,   35.19,2,    0.00,2,    2.45,2,-999.000,9,-999.000,9,   0.002,2,   1.9890,2,   21.58,2, -999.00,9,  -999.0,9,  -999.0,   8.460,2,   0.042,   0.0080,   0.110,   2.2902,   0.002
  316N138_7,       P14C,      23,          1,         25,         25,2,19920905,       2223,   -27.4067,   176.4450,       4228,  2016.8,   2.2249,  34.6404,2,  34.6433,2,    152.6,2,   153.5,2,  115.57,2,   35.28,2,    0.00,2,    2.46,2,   0.001,2,  -0.003,2,-999.000,9,-999.0000,9, -999.00,9, -999.00,9,  -999.0,9,  -999.0,-999.000,9,-999.000,-999.0000,-999.000,   2.0836,-999.000
  316N138_7,       P14C,      23,          1,         26,         26,2,19920905,       2223,   -27.4067,   176.4450,       4228,  2221.3,   2.1137,  34.6515,2,  34.6527,2,    152.9,2,   153.4,2,  118.02,2,   35.24,2,    0.00,2,    2.46,2,-999.000,9,-999.000,9,-999.000,9,-999.0000,9, -999.00,9, -999.00,9,  -999.0,9,  -999.0,-999.000,9,-999.000,-999.0000,-999.000,   1.9563,-999.000
  316N138_7,       P14C,      23,          1,         27,         27,2,19920905,       2223,   -27.4067,   176.4450,       4228,  2425.9,   2.0126,  34.6613,2,  34.6627,2,    153.6,2,   153.9,2,  120.90,2,   35.24,2,    0.00,2,    2.45,2,-999.000,9,-999.000,9,-999.000,9,-999.0000,9, -999.00,9, -999.00,9,  -999.0,9,  -999.0,-999.000,9,-999.000,-999.0000,-999.000,   1.8388,-999.000
  316N138_7,       P14C,      23,          1,         28,         28,2,19920905,       2223,   -27.4067,   176.4450,       4228,  2631.0,   1.9194,  34.6702,2,  34.6703,2,    155.4,2,   154.8,2,  123.37,2,   35.24,2,    0.00,2,    2.46,2,   0.001,2,  -0.006,2,-999.000,9,-999.0000,9, -999.00,9, -999.00,9,  -999.0,9,  -999.0,-999.000,9,-999.000,-999.0000,-999.000,   1.7285,-999.000
  316N138_7,       P14C,      23,          1,         29,         29,2,19920905,       2223,   -27.4067,   176.4450,       4228,  2835.9,   1.8768,  34.6746,2,  34.6748,2,    155.2,2,   155.1,2,  124.81,2,   35.25,2,    0.00,2,    2.46,2,-999.000,9,-999.000,9,-999.000,9,-999.0000,9, -999.00,9, -999.00,9,  -999.0,9,  -999.0,-999.000,9,-999.000,-999.0000,-999.000,   1.6676,-999.000
  316N138_7,       P14C,      23,          1,         30,         30,2,19920905,       2223,   -27.4067,   176.4450,       4228,  3037.8,   1.8442,  34.6788,2,  34.6805,2,    155.1,2,   155.6,2,  125.83,2,   35.34,2,    0.00,2,    2.46,2,-999.000,9,-999.000,9,-999.000,9,-999.0000,9, -999.00,9, -999.00,9,  -999.0,9,  -999.0,-999.000,9,-999.000,-999.0000,-999.000,   1.6161,-999.000
  316N138_7,       P14C,      23,          1,         31,         31,2,19920905,       2223,   -27.4067,   176.4450,       4228,  3239.1,   1.8421,  34.6800,2,  34.6809,2,    155.3,2,   155.7,2,  126.65,2,   35.30,2,    0.00,2,    2.45,2,  -0.002,2,  -0.001,2,-999.000,9,-999.0000,9, -999.00,9, -999.00,9,  -999.0,9,  -999.0,-999.000,9,-999.000,-999.0000,-999.000,   1.5941,-999.000
  316N138_7,       P14C,      23,          1,         32,         32,2,19920905,       2223,   -27.4067,   176.4450,       4228,  3444.2,   1.8460,  34.6813,2,  34.6819,2,    156.2,2,   155.8,2,  127.05,2,   35.39,2,    0.00,2,    2.46,2,-999.000,9,-999.000,9,-999.000,9,-999.0000,9, -999.00,9, -999.00,9,  -999.0,9,  -999.0,-999.000,9,-999.000,-999.0000,-999.000,   1.5770,-999.000
  316N138_7,       P14C,      23,          1,         33,         33,2,19920905,       2223,   -27.4067,   176.4450,       4228,  3651.4,   1.8579,  34.6820,2,  34.6823,2,    155.5,2,   156.0,2,  127.45,2,   35.35,2,    0.00,2,    2.46,2,  -0.001,2,  -0.001,2,-999.000,9,-999.0000,9, -999.00,9, -999.00,9,  -999.0,9,  -999.0,-999.000,9,-999.000,-999.0000,-999.000,   1.5669,-999.000
  316N138_7,       P14C,      23,          1,         34,         34,2,19920905,       2223,   -27.4067,   176.4450,       4228,  3856.2,   1.8706,  34.6828,2,  34.6827,2,    156.3,2,   156.0,2,  127.44,2,   35.31,2,    0.00,2,    2.46,2,-999.000,9,-999.000,9,-999.000,9,-999.0000,9, -999.00,9, -999.00,9,  -999.0,9,  -999.0,-999.000,9,-999.000,-999.0000,-999.000,   1.5571,-999.000
  316N138_7,       P14C,      23,          1,         35,         35,2,19920905,       2223,   -27.4067,   176.4450,       4228,  4061.7,   1.8870,  34.6827,2,  34.6827,2,    156.4,2,   156.1,2,  127.84,2,   35.36,2,    0.00,2,    2.46,2,   0.000,2,  -0.006,2,-999.000,9,-999.0000,9, -999.00,9, -999.00,9,  -999.0,9,  -999.0,-999.000,9,-999.000,-999.0000,-999.000,   1.5504,-999.000
  316N138_7,       P14C,      23,          1,         37,         37,2,19920905,       2223,   -27.4067,   176.4450,       4228,  4281.4,   1.9066,  34.6830,2,  34.6829,2,    156.1,2,   156.2,2,  127.82,2,   35.23,2,    0.00,2,    2.46,2,  -0.002,2,  -0.004,2,-999.000,9,-999.0000,9, -999.00,9, -999.00,9,  -999.0,9,  -999.0,-999.000,9,-999.000,-999.0000,-999.000,   1.5445,-999.000