BOTTLE,20211105CCHSIORKP
EXPOCODE,SECT_ID,STNNBR,CASTNO,SAMPNO,BTLNBR,BTLNBR_FLAG_W,DATE,TIME,LATITUDE,LONGITUDE,DEPTH,CTDPRS,CTDTMP,CTDSAL,CTDSAL_FLAG_W,SALNTY,SALNTY_FLAG_W,CTDOXY,CTDOXY_FLAG_W,OXYGEN,OXYGEN_FLAG_W,SILCAT,SILCAT_FLAG_W,NITRAT,NITRAT_FLAG_W,NITRIT,NITRIT_FLAG_W,PHSPHT,PHSPHT_FLAG_W,CFC-11,CFC-11_FLAG_W,CFC-12,CFC-12_FLAG_W,TRITUM,TRITUM_FLAG_W,HELIUM,HELIUM_FLAG_W,DELHE3,DELHE3_FLAG_W,DELC13,DELC13_FLAG_W,DELC14,DELC14_FLAG_W,C14ERR,NEON,NEON_FLAG_W,NEONER,HELIER,DELHER,THETA,TRITER
,,,,,,,,,,,METERS,DBAR,ITS-90,PSS-78,,PSS-78,,UMOL/KG,,UMOL/KG,,UMOL/KG,,UMOL/KG,,UMOL/KG,,UMOL/KG,,PMOL/KG,,PMOL/KG,,TU,,NMOL/KG,,PERCNT,,/MILLE,,/MILLE,,/MILLE,NMOL/KG,,NMOL/KG,NMOL/KG,PERCNT,DEG C,TU
  316N138_7,       P14C,       9,          1,          7,          7,4,19920902,       1430,   -33.2617,   175.4550,     -999.0,     2.0,  15.3873,  35.4945,2,  35.4983,2,    238.7,2,   245.4,2,    2.31,2,    2.77,2,    0.21,2,    0.36,2,-999.000,9,-999.000,9,-999.000,9,-999.0000,9, -999.00,9, -999.00,9,  -999.0,9,  -999.0,-999.000,9,-999.000,-999.0000,-999.000,  15.3870,-999.000
  316N138_7,       P14C,       9,          1,          8,          8,4,19920902,       1430,   -33.2617,   175.4550,     -999.0,    14.9,  15.3847,  35.4947,2,  35.4938,2,    242.4,2,   245.3,2,    2.29,2,    2.77,2,    0.21,2,    0.36,2,   2.679,2,   1.395,2,-999.000,9,-999.0000,9, -999.00,9, -999.00,9,  -999.0,9,  -999.0,-999.000,9,-999.000,-999.0000,-999.000,  15.3824,-999.000
  316N138_7,       P14C,       9,          1,          9,          9,4,19920902,       1430,   -33.2617,   175.4550,     -999.0,    54.9,  15.3597,  35.4965,2,  35.4958,2,    242.8,2,   242.9,2,    2.27,2,    2.89,2,    0.25,2,    0.36,2,   2.654,2,   1.372,2,-999.000,9,-999.0000,9, -999.00,9, -999.00,9,  -999.0,9,  -999.0,-999.000,9,-999.000,-999.0000,-999.000,  15.3513,-999.000
  316N138_7,       P14C,       9,          1,         10,         10,4,19920902,       1430,   -33.2617,   175.4550,     -999.0,   105.0,  15.3149,  35.4935,2,  35.4924,2,    246.5,2,   242.4,2,    2.25,2,    2.96,2,    0.27,2,    0.37,2,   2.657,2,   1.369,2,-999.000,9,-999.0000,9, -999.00,9, -999.00,9,  -999.0,9,  -999.0,-999.000,9,-999.000,-999.0000,-999.000,  15.2988,-999.000
  316N138_7,       P14C,       9,          1,         11,         11,4,19920902,       1430,   -33.2617,   175.4550,     -999.0,   154.7,  15.1133,  35.4781,2,  35.4777,2,    247.5,2,   241.7,2,    2.23,2,    3.26,2,    0.31,2,    0.39,2,   2.697,2,   1.410,2,-999.000,9,-999.0000,9, -999.00,9, -999.00,9,  -999.0,9,  -999.0,-999.000,9,-999.000,-999.0000,-999.000,  15.0896,-999.000
  316N138_7,       P14C,       9,          1,         12,         12,9,19920902,       1430,   -33.2617,   175.4550,     -999.0,   205.1,  14.8265,  35.4360,2,-999.0000,9,    244.0,2,  -999.0,9, -999.00,9, -999.00,9, -999.00,9, -999.00,9,-999.000,9,-999.000,9,-999.000,9,-999.0000,9, -999.00,9, -999.00,9,  -999.0,9,  -999.0,-999.000,9,-999.000,-999.0000,-999.000,  14.7956,-999.000
  316N138_7,       P14C,       9,          1,         13,         13,2,19920902,       1430,   -33.2617,   175.4550,     -999.0,   353.2,  12.2542,  35.0554,2,  35.0565,2,    207.8,2,   207.0,2,    4.68,2,   11.57,2,    0.01,2,    0.89,2,   2.369,2,   1.198,2,-999.000,9,-999.0000,9, -999.00,9, -999.00,9,  -999.0,9,  -999.0,-999.000,9,-999.000,-999.0000,-999.000,  12.2072,-999.000
  316N138_7,       P14C,       9,          1,         14,         14,2,19920902,       1430,   -33.2617,   175.4550,     -999.0,   402.3,  11.2914,  34.9364,2,  34.9341,2,    199.6,2,   198.7,2,    6.31,2,   14.91,2,    0.01,2,    1.09,2,   1.923,2,   0.969,2,-999.000,9,-999.0000,9, -999.00,9, -999.00,9,  -999.0,9,  -999.0,-999.000,9,-999.000,-999.0000,-999.000,  11.2405,-999.000
  316N138_7,       P14C,       9,          1,         15,         15,2,19920902,       1430,   -33.2617,   175.4550,     -999.0,   503.2,  10.1386,  34.8085,2,  34.8088,2,    193.9,2,   193.4,2,    9.79,2,   18.56,2,    0.00,2,    1.31,2,   1.351,2,   0.694,2,-999.000,9,-999.0000,9, -999.00,9, -999.00,9,  -999.0,9,  -999.0,-999.000,9,-999.000,-999.0000,-999.000,  10.0789,-999.000
  316N138_7,       P14C,       9,          1,         16,         16,2,19920902,       1430,   -33.2617,   175.4550,     -999.0,   604.6,   8.8626,  34.6836,2,  34.6820,2,    196.4,2,   194.1,2,   13.90,2,   21.69,2,    0.00,2,    1.51,2,   0.946,2,   0.495,2,-999.000,9,-999.0000,9, -999.00,9, -999.00,9,  -999.0,9,  -999.0,-999.000,9,-999.000,-999.0000,-999.000,   8.7963,-999.000
  316N138_7,       P14C,       9,          1,         17,         17,2,19920902,       1430,   -33.2617,   175.4550,     -999.0,   705.8,   7.7968,  34.5830,2,  34.5806,2,    192.7,2,   196.4,2,   17.39,2,   23.71,2,    0.00,2,    1.66,2,   0.629,2,   0.329,2,-999.000,9,-999.0000,9, -999.00,9, -999.00,9,  -999.0,9,  -999.0,-999.000,9,-999.000,-999.0000,-999.000,   7.7245,-999.000
  316N138_7,       P14C,       9,          1,         18,         18,2,19920902,       1430,   -33.2617,   175.4550,     -999.0,   807.6,   6.6311,  34.4933,2,  34.4938,2,    196.7,2,   196.3,2,   24.59,2,   26.42,2,    0.00,2,    1.83,2,   0.386,2,   0.200,2,-999.000,9,-999.0000,9, -999.00,9, -999.00,9,  -999.0,9,  -999.0,-999.000,9,-999.000,-999.0000,-999.000,   6.5549,-999.000
  316N138_7,       P14C,       9,          1,         19,         19,9,19920902,       1430,   -33.2617,   175.4550,     -999.0,   907.8,   5.7525,  34.4535,2,-999.0000,9,    192.1,2,  -999.0,9, -999.00,9, -999.00,9, -999.00,9, -999.00,9,-999.000,9,-999.000,9,-999.000,9,-999.0000,9, -999.00,9, -999.00,9,  -999.0,9,  -999.0,-999.000,9,-999.000,-999.0000,-999.000,   5.6724,-999.000
  316N138_7,       P14C,       9,          1,         20,         20,9,19920902,       1430,   -33.2617,   175.4550,     -999.0,  1008.3,   4.9032,  34.4113,2,-999.0000,9,    186.7,2,  -999.0,9, -999.00,9, -999.00,9, -999.00,9, -999.00,9,-999.000,9,-999.000,9,-999.000,9,-999.0000,9, -999.00,9, -999.00,9,  -999.0,9,  -999.0,-999.000,9,-999.000,-999.0000,-999.000,   4.8200,-999.000
  316N138_7,       P14C,       9,          1,         21,         21,2,19920902,       1430,   -33.2617,   175.4550,     -999.0,  1109.1,   4.5130,  34.4361,2,  34.4365,2,    179.5,2,   181.1,2,   48.72,2,   31.78,2,    0.00,2,    2.19,2,   0.063,4,   0.051,4,-999.000,9,-999.0000,9, -999.00,9, -999.00,9,  -999.0,9,  -999.0,-999.000,9,-999.000,-999.0000,-999.000,   4.4239,-999.000
  316N138_7,       P14C,       9,          1,         22,         22,2,19920902,       1430,   -33.2617,   175.4550,     -999.0,  1207.3,   4.2709,  34.5104,2,  34.5097,2,    170.8,2,   171.9,2,   63.58,2,   32.17,2,    0.00,2,    2.24,2,   0.079,2,   0.049,2,-999.000,9,-999.0000,9, -999.00,9, -999.00,9,  -999.0,9,  -999.0,-999.000,9,-999.000,-999.0000,-999.000,   4.1752,-999.000
  316N138_7,       P14C,       9,          1,         23,         23,2,19920902,       1430,   -33.2617,   175.4550,     -999.0,  1309.0,   3.8834,  34.5340,2,  34.5334,2,    167.4,2,   167.8,2,   72.67,2,   32.91,2,    0.00,2,    2.30,2,   0.060,2,   0.030,2,-999.000,9,-999.0000,9, -999.00,9, -999.00,9,  -999.0,9,  -999.0,-999.000,9,-999.000,-999.0000,-999.000,   3.7825,-999.000
  316N138_7,       P14C,       9,          1,         24,         24,2,19920902,       1430,   -33.2617,   175.4550,     -999.0,  1408.6,   3.5729,  34.5504,2,  34.5505,2,    163.2,2,   164.9,2,   80.34,2,   33.43,2,    0.00,2,    2.33,2,   0.045,2,   0.020,2,-999.000,9,-999.0000,9, -999.00,9, -999.00,9,  -999.0,9,  -999.0,-999.000,9,-999.000,-999.0000,-999.000,   3.4665,-999.000
  316N138_7,       P14C,       9,          1,         25,         25,2,19920902,       1430,   -33.2617,   175.4550,     -999.0,  1610.3,   3.1229,  34.5854,2,  34.5848,2,    158.7,2,   160.6,2,   81.99,2,   34.08,2,    0.00,2,    2.39,2,   0.031,2,   0.018,2,-999.000,9,-999.0000,9, -999.00,9, -999.00,9,  -999.0,9,  -999.0,-999.000,9,-999.000,-999.0000,-999.000,   3.0043,-999.000
  316N138_7,       P14C,       9,          1,         26,         26,2,19920902,       1430,   -33.2617,   175.4550,     -999.0,  1813.9,   2.6895,  34.6107,2,  34.6111,2,    156.1,2,   157.3,2,  103.94,2,   34.77,2,    0.00,2,    2.44,2,   0.014,2,   0.005,2,-999.000,9,-999.0000,9, -999.00,9, -999.00,9,  -999.0,9,  -999.0,-999.000,9,-999.000,-999.0000,-999.000,   2.5590,-999.000
  316N138_7,       P14C,       9,          1,         27,         27,2,19920902,       1430,   -33.2617,   175.4550,     -999.0,  2017.3,   2.4229,  34.6275,2,  34.6264,2,    155.4,2,   154.8,2,  111.74,2,   35.08,2,    0.00,2,    2.48,2,   0.008,2,  -0.002,2,-999.000,9,-999.0000,9, -999.00,9, -999.00,9,  -999.0,9,  -999.0,-999.000,9,-999.000,-999.0000,-999.000,   2.2786,-999.000
  316N138_7,       P14C,       9,          1,         28,         28,2,19920902,       1430,   -33.2617,   175.4550,     -999.0,  2222.4,   2.2252,  34.6439,2,  34.6431,2,    153.8,2,   153.9,2,  117.26,2,   35.43,2,    0.00,2,    2.48,2,   0.006,2,   0.001,2,-999.000,9,-999.0000,9, -999.00,9, -999.00,9,  -999.0,9,  -999.0,-999.000,9,-999.000,-999.0000,-999.000,   2.0659,-999.000
  316N138_7,       P14C,       9,          1,         29,         29,2,19920902,       1430,   -33.2617,   175.4550,     -999.0,  2425.0,   2.0494,  34.6594,2,  34.6592,2,    155.4,2,   154.0,2,  122.16,2,   35.55,2,    0.00,2,    2.48,2,  -0.001,2,   0.002,2,-999.000,9,-999.0000,9, -999.00,9, -999.00,9,  -999.0,9,  -999.0,-999.000,9,-999.000,-999.0000,-999.000,   1.8750,-999.000
  316N138_7,       P14C,       9,          1,         30,         30,2,19920902,       1430,   -33.2617,   175.4550,     -999.0,  2629.0,   1.9043,  34.6718,2,  34.6728,2,    156.3,2,   154.4,2,  125.37,2,   35.64,2,    0.00,2,    2.50,2,   0.000,2,   0.003,2,-999.000,9,-999.0000,9, -999.00,9, -999.00,9,  -999.0,9,  -999.0,-999.000,9,-999.000,-999.0000,-999.000,   1.7139,-999.000
  316N138_7,       P14C,       9,          1,         31,         31,2,19920902,       1430,   -33.2617,   175.4550,     -999.0,  2832.9,   1.8274,  34.6792,2,  34.6797,2,    155.9,2,   154.8,2,  127.30,2,   35.59,2,    0.00,2,    2.49,2,   0.005,2,   0.002,2,-999.000,9,-999.0000,9, -999.00,9, -999.00,9,  -999.0,9,  -999.0,-999.000,9,-999.000,-999.0000,-999.000,   1.6194,-999.000
  316N138_7,       P14C,       9,          1,         32,         32,2,19920902,       1430,   -33.2617,   175.4550,     -999.0,  3038.4,   1.8221,  34.6810,2,  34.6810,2,    154.6,2,   154.9,2,  128.59,2,   35.58,2,    0.00,2,    2.50,2,   0.003,2,   0.012,2,-999.000,9,-999.0000,9, -999.00,9, -999.00,9,  -999.0,9,  -999.0,-999.000,9,-999.000,-999.0000,-999.000,   1.5944,-999.000
  316N138_7,       P14C,       9,          1,         33,         33,2,19920902,       1430,   -33.2617,   175.4550,     -999.0,  3242.4,   1.8276,  34.6824,2,  34.6828,2,    155.2,2,   154.6,2,  129.01,2,   35.58,2,    0.00,2,    2.49,2,  -0.001,2,   0.001,2,-999.000,9,-999.0000,9, -999.00,9, -999.00,9,  -999.0,9,  -999.0,-999.000,9,-999.000,-999.0000,-999.000,   1.5796,-999.000
  316N138_7,       P14C,       9,          1,         34,         34,2,19920902,       1430,   -33.2617,   175.4550,     -999.0,  3443.1,   1.8402,  34.6832,2,  34.6830,2,    154.4,2,   154.8,2,  129.21,2,   35.57,2,    0.00,2,    2.49,2,   0.002,2,  -0.002,2,-999.000,9,-999.0000,9, -999.00,9, -999.00,9,  -999.0,9,  -999.0,-999.000,9,-999.000,-999.0000,-999.000,   1.5714,-999.000
  316N138_7,       P14C,       9,          1,         35,         35,2,19920902,       1430,   -33.2617,   175.4550,     -999.0,  3645.5,   1.8573,  34.6834,2,  34.6840,2,    154.0,2,   154.4,2,  129.85,2,   35.70,2,    0.00,2,    2.50,2,   0.000,2,   0.002,2,-999.000,9,-999.0000,9, -999.00,9, -999.00,9,  -999.0,9,  -999.0,-999.000,9,-999.000,-999.0000,-999.000,   1.5669,-999.000
  316N138_7,       P14C,       9,          1,         36,         36,2,19920902,       1430,   -33.2617,   175.4550,     -999.0,  3777.2,   1.8717,  34.6832,2,  34.6835,2,    152.0,2,   154.5,2,  129.62,2,   35.74,2,    0.00,2,    2.50,2,  -0.003,6,   0.000,6,-999.000,9,-999.0000,9, -999.00,9, -999.00,9,  -999.0,9,  -999.0,-999.000,9,-999.000,-999.0000,-999.000,   1.5668,-999.000