BOTTLE,20211105CCHSIORKP
EXPOCODE,SECT_ID,STNNBR,CASTNO,SAMPNO,BTLNBR,BTLNBR_FLAG_W,DATE,TIME,LATITUDE,LONGITUDE,DEPTH,CTDPRS,CTDTMP,CTDSAL,CTDSAL_FLAG_W,SALNTY,SALNTY_FLAG_W,CTDOXY,CTDOXY_FLAG_W,OXYGEN,OXYGEN_FLAG_W,SILCAT,SILCAT_FLAG_W,NITRAT,NITRAT_FLAG_W,NITRIT,NITRIT_FLAG_W,PHSPHT,PHSPHT_FLAG_W,CFC-11,CFC-11_FLAG_W,CFC-12,CFC-12_FLAG_W,TRITUM,TRITUM_FLAG_W,HELIUM,HELIUM_FLAG_W,DELHE3,DELHE3_FLAG_W,DELC13,DELC13_FLAG_W,DELC14,DELC14_FLAG_W,C14ERR,NEON,NEON_FLAG_W,NEONER,HELIER,DELHER,THETA,TRITER
,,,,,,,,,,,METERS,DBAR,ITS-90,PSS-78,,PSS-78,,UMOL/KG,,UMOL/KG,,UMOL/KG,,UMOL/KG,,UMOL/KG,,UMOL/KG,,PMOL/KG,,PMOL/KG,,TU,,NMOL/KG,,PERCNT,,/MILLE,,/MILLE,,/MILLE,NMOL/KG,,NMOL/KG,NMOL/KG,PERCNT,DEG C,TU
  316N138_7,       P14C,      45,          1,          6,          6,2,19920911,       0030,   -19.3983,   177.4900,       3148,     1.5,  24.6430,  35.6789,2,  35.6790,2,    209.3,2,   210.1,2,    1.91,2,    0.07,2,    0.00,2,    0.12,2,   1.887,2,   1.042,2,-999.000,9,-999.0000,9, -999.00,9, -999.00,9,  -999.0,9,  -999.0,-999.000,9,-999.000,-999.0000,-999.000,  24.6427,-999.000
  316N138_7,       P14C,      45,          1,          7,          7,2,19920911,       0030,   -19.3983,   177.4900,       3148,    17.3,  24.5748,  35.6727,2,  35.6734,2,    204.2,2,   210.5,2,    1.90,2,    0.07,2,    0.00,2,    0.12,2,   1.911,2,   1.009,2,-999.000,9,-999.0000,9, -999.00,9, -999.00,9,  -999.0,9,  -999.0,-999.000,9,-999.000,-999.0000,-999.000,  24.5711,-999.000
  316N138_7,       P14C,      45,          1,          8,          8,2,19920911,       0030,   -19.3983,   177.4900,       3148,    56.9,  24.2600,  35.6726,2,  35.6738,2,    208.4,2,   210.1,2,    1.89,2,    0.07,2,    0.00,2,    0.11,2,-999.000,9,-999.000,9,-999.000,9,-999.0000,9, -999.00,9, -999.00,9,  -999.0,9,  -999.0,-999.000,9,-999.000,-999.0000,-999.000,  24.2479,-999.000
  316N138_7,       P14C,      45,          1,          9,          9,2,19920911,       0030,   -19.3983,   177.4900,       3148,   106.6,  23.9802,  35.7044,2,  35.7022,2,    208.2,2,   207.3,2,    1.88,2,    0.06,2,    0.02,2,    0.11,2,   1.841,2,   0.986,2,-999.000,9,-999.0000,9, -999.00,9, -999.00,9,  -999.0,9,  -999.0,-999.000,9,-999.000,-999.0000,-999.000,  23.9577,-999.000
  316N138_7,       P14C,      45,          1,         10,         10,2,19920911,       0030,   -19.3983,   177.4900,       3148,   157.5,  22.6040,  35.6535,2,  35.6532,2,    192.9,2,   193.5,2,    1.87,2,    1.08,2,    0.05,2,    0.16,2,   1.936,2,   1.018,2,-999.000,9,-999.0000,9, -999.00,9, -999.00,9,  -999.0,9,  -999.0,-999.000,9,-999.000,-999.0000,-999.000,  22.5722,-999.000
  316N138_7,       P14C,      45,          1,         11,         11,2,19920911,       0030,   -19.3983,   177.4900,       3148,   207.8,  20.9104,  35.7267,2,  35.7225,2,    176.0,2,   173.2,2,    1.86,2,    3.62,2,    0.01,2,    0.39,2,   1.834,2,   0.966,2,-999.000,9,-999.0000,9, -999.00,9, -999.00,9,  -999.0,9,  -999.0,-999.000,9,-999.000,-999.0000,-999.000,  20.8706,-999.000
  316N138_7,       P14C,      45,          1,         12,         12,2,19920911,       0030,   -19.3983,   177.4900,       3148,   257.2,  19.5120,  35.6456,2,  35.6435,2,    174.6,2,   174.0,2,    2.05,2,    4.68,2,    0.01,2,    0.46,2,   1.771,2,   0.928,2,-999.000,9,-999.0000,9, -999.00,9, -999.00,9,  -999.0,9,  -999.0,-999.000,9,-999.000,-999.0000,-999.000,  19.4650,-999.000
  316N138_7,       P14C,      45,          1,         13,         13,2,19920911,       0030,   -19.3983,   177.4900,       3148,   308.5,  17.2064,  35.4478,2,  35.4434,2,    171.3,2,   173.9,2,    3.03,2,    7.23,2,    0.00,2,    0.64,2,   1.605,2,   0.859,2,-999.000,9,-999.0000,9, -999.00,9, -999.00,9,  -999.0,9,  -999.0,-999.000,9,-999.000,-999.0000,-999.000,  17.1547,-999.000
  316N138_7,       P14C,      45,          1,         14,         14,2,19920911,       0030,   -19.3983,   177.4900,       3148,   358.8,  14.2905,  35.1415,2,  35.1414,2,    174.9,2,   173.8,2,    5.20,2,   11.61,2,    0.00,2,    0.93,2,   1.301,2,   0.673,2,-999.000,9,-999.0000,9, -999.00,9, -999.00,9,  -999.0,9,  -999.0,-999.000,9,-999.000,-999.0000,-999.000,  14.2376,-999.000
  316N138_7,       P14C,      45,          1,         15,         15,2,19920911,       0030,   -19.3983,   177.4900,       3148,   409.2,  12.5870,  34.9597,2,  34.9568,2,    175.2,2,   174.4,2,    6.57,2,   14.63,2,    0.00,2,    1.12,2,   1.065,2,   0.559,2,-999.000,9,-999.0000,9, -999.00,9, -999.00,9,  -999.0,9,  -999.0,-999.000,9,-999.000,-999.0000,-999.000,  12.5314,-999.000
  316N138_7,       P14C,      45,          1,         16,         16,2,19920911,       0030,   -19.3983,   177.4900,       3148,   458.7,  10.8864,  34.7816,2,  34.7781,2,    178.8,2,   177.3,2,    9.33,2,   18.03,2,    0.00,2,    1.33,2,   0.854,2,   0.461,2,-999.000,9,-999.0000,9, -999.00,9, -999.00,9,  -999.0,9,  -999.0,-999.000,9,-999.000,-999.0000,-999.000,  10.8297,-999.000
  316N138_7,       P14C,      45,          1,         17,         17,2,19920911,       0030,   -19.3983,   177.4900,       3148,   509.3,   9.2220,  34.6220,2,  34.6351,2,    179.0,2,   183.3,2,   11.50,2,   20.93,2,    0.00,2,    1.49,2,   0.665,2,   0.350,2,-999.000,9,-999.0000,9, -999.00,9, -999.00,9,  -999.0,9,  -999.0,-999.000,9,-999.000,-999.0000,-999.000,   9.1651,-999.000
  316N138_7,       P14C,      45,          1,         18,         18,2,19920911,       0030,   -19.3983,   177.4900,       3148,   609.5,   7.3655,  34.4715,2,  34.4653,2,    191.1,2,   193.1,2,   16.04,2,   24.89,2,    0.00,2,    1.74,2,   0.411,2,   0.220,2,-999.000,9,-999.0000,9, -999.00,9, -999.00,9,  -999.0,9,  -999.0,-999.000,9,-999.000,-999.0000,-999.000,   7.3055,-999.000
  316N138_7,       P14C,      45,          1,         19,         19,2,19920911,       0030,   -19.3983,   177.4900,       3148,   710.1,   5.9059,  34.3958,2,  34.3951,2,    189.4,2,   190.4,2,   25.92,2,   28.71,2,    0.00,2,    1.98,2,   0.155,2,   0.090,2,-999.000,9,-999.0000,9, -999.00,9, -999.00,9,  -999.0,9,  -999.0,-999.000,9,-999.000,-999.0000,-999.000,   5.8435,-999.000
  316N138_7,       P14C,      45,          1,         20,         20,2,19920911,       0030,   -19.3983,   177.4900,       3148,   811.9,   5.2000,  34.4144,2,  34.4141,2,    175.9,2,   177.9,2,   39.16,2,   31.03,2,    0.00,2,    2.13,2,   0.076,2,   0.048,2,-999.000,9,-999.0000,9, -999.00,9, -999.00,9,  -999.0,9,  -999.0,-999.000,9,-999.000,-999.0000,-999.000,   5.1324,-999.000
  316N138_7,       P14C,      45,          1,         21,         21,2,19920911,       0030,   -19.3983,   177.4900,       3148,   911.1,   4.6302,  34.4304,2,  34.4302,2,    172.3,2,   171.2,2,   49.24,2,   32.42,2,    0.00,2,    2.24,2,   0.043,2,   0.020,2,-999.000,9,-999.0000,9, -999.00,9, -999.00,9,  -999.0,9,  -999.0,-999.000,9,-999.000,-999.0000,-999.000,   4.5575,-999.000
  316N138_7,       P14C,      45,          1,         22,         22,2,19920911,       0030,   -19.3983,   177.4900,       3148,  1011.9,   4.1136,  34.4610,2,  34.4600,2,    162.4,2,   163.1,2,   61.31,2,   33.86,2,    0.00,2,    2.33,2,   0.013,2,   0.006,2,-999.000,9,-999.0000,9, -999.00,9, -999.00,9,  -999.0,9,  -999.0,-999.000,9,-999.000,-999.0000,-999.000,   4.0361,-999.000
  316N138_7,       P14C,      45,          1,         23,         23,2,19920911,       0030,   -19.3983,   177.4900,       3148,  1112.1,   3.7461,  34.4907,2,  34.4890,2,    158.5,2,   158.2,2,   71.21,2,   34.51,2,    0.00,2,    2.38,2,   0.005,2,   0.006,2,-999.000,9,-999.0000,9, -999.00,9, -999.00,9,  -999.0,9,  -999.0,-999.000,9,-999.000,-999.0000,-999.000,   3.6633,-999.000
  316N138_7,       P14C,      45,          1,         24,         24,2,19920911,       0030,   -19.3983,   177.4900,       3148,  1212.9,   3.4622,  34.5204,2,  34.5247,2,    151.4,2,   153.6,2,   81.15,2,   35.13,2,    0.00,2,    2.42,2,   0.001,2,   0.004,2,-999.000,9,-999.0000,9, -999.00,9, -999.00,9,  -999.0,9,  -999.0,-999.000,9,-999.000,-999.0000,-999.000,   3.3735,-999.000
  316N138_7,       P14C,      45,          1,         25,         25,2,19920911,       0030,   -19.3983,   177.4900,       3148,  1313.2,   3.2428,  34.5417,2,  34.5408,2,    149.4,2,   150.7,2,   88.33,2,   35.44,2,    0.00,2,    2.45,2,  -0.001,2,   0.002,2,-999.000,9,-999.0000,9, -999.00,9, -999.00,9,  -999.0,9,  -999.0,-999.000,9,-999.000,-999.0000,-999.000,   3.1479,-999.000
  316N138_7,       P14C,      45,          1,         26,         26,2,19920911,       0030,   -19.3983,   177.4900,       3148,  1413.8,   3.0359,  34.5608,2,  34.5594,2,    151.0,2,   150.8,2,   94.13,2,   35.49,2,    0.00,2,    2.45,2,   0.003,2,   0.000,2,-999.000,9,-999.0000,9, -999.00,9, -999.00,9,  -999.0,9,  -999.0,-999.000,9,-999.000,-999.0000,-999.000,   2.9349,-999.000
  316N138_7,       P14C,      45,          1,         27,         27,2,19920911,       0030,   -19.3983,   177.4900,       3148,  1515.8,   2.8171,  34.5815,2,  34.5787,2,    150.0,2,   150.2,2,  100.15,2,   35.62,2,    0.00,2,    2.46,2,-999.000,9,-999.000,9,-999.000,9,-999.0000,9, -999.00,9, -999.00,9,  -999.0,9,  -999.0,-999.000,9,-999.000,-999.0000,-999.000,   2.7100,-999.000
  316N138_7,       P14C,      45,          1,         28,         28,2,19920911,       0030,   -19.3983,   177.4900,       3148,  1616.5,   2.6641,  34.5955,2,  34.5967,2,    149.0,2,   150.1,2,  104.98,2,   35.58,2,    0.00,2,    2.46,2,   0.001,2,   0.001,2,-999.000,9,-999.0000,9, -999.00,9, -999.00,9,  -999.0,9,  -999.0,-999.000,9,-999.000,-999.0000,-999.000,   2.5505,-999.000
  316N138_7,       P14C,      45,          1,         29,         29,2,19920911,       0030,   -19.3983,   177.4900,       3148,  1819.8,   2.4086,  34.6200,2,  34.6197,2,    150.0,2,   149.9,2,  112.70,2,   35.72,2,    0.00,2,    2.48,2,-999.000,9,-999.000,9,-999.000,9,-999.0000,9, -999.00,9, -999.00,9,  -999.0,9,  -999.0,-999.000,9,-999.000,-999.0000,-999.000,   2.2814,-999.000
  316N138_7,       P14C,      45,          1,         30,         30,2,19920911,       0030,   -19.3983,   177.4900,       3148,  2024.2,   2.2100,  34.6387,2,  34.6381,2,    151.0,2,   150.0,2,  117.80,2,   35.77,2,    0.00,2,    2.48,2,   0.002,2,  -0.002,2,-999.000,9,-999.0000,9, -999.00,9, -999.00,9,  -999.0,9,  -999.0,-999.000,9,-999.000,-999.0000,-999.000,   2.0683,-999.000
  316N138_7,       P14C,      45,          1,         31,         31,2,19920911,       0030,   -19.3983,   177.4900,       3148,  2226.5,   2.0926,  34.6502,2,  34.6503,2,    150.3,2,   150.4,2,  121.70,2,   35.77,2,    0.00,2,    2.48,2,-999.000,9,-999.000,9,-999.000,9,-999.0000,9, -999.00,9, -999.00,9,  -999.0,9,  -999.0,-999.000,9,-999.000,-999.0000,-999.000,   1.9351,-999.000
  316N138_7,       P14C,      45,          1,         32,         32,2,19920911,       0030,   -19.3983,   177.4900,       3148,  2429.3,   2.0312,  34.6573,2,  34.6573,2,    150.9,2,   151.1,2,  123.54,2,   35.69,2,    0.00,2,    2.48,2,-999.000,9,-999.000,9,-999.000,9,-999.0000,9, -999.00,9, -999.00,9,  -999.0,9,  -999.0,-999.000,9,-999.000,-999.0000,-999.000,   1.8568,-999.000
  316N138_7,       P14C,      45,          1,         33,         33,2,19920911,       0030,   -19.3983,   177.4900,       3148,  2633.2,   2.0085,  34.6605,2,  34.6607,2,    151.1,2,   150.7,2,  124.97,2,   35.78,2,    0.00,2,    2.48,2,   0.002,2,  -0.002,2,-999.000,9,-999.0000,9, -999.00,9, -999.00,9,  -999.0,9,  -999.0,-999.000,9,-999.000,-999.0000,-999.000,   1.8158,-999.000
  316N138_7,       P14C,      45,          1,         34,         34,2,19920911,       0030,   -19.3983,   177.4900,       3148,  2836.4,   2.0032,  34.6630,2,  34.6623,2,    150.6,2,   150.8,2,  125.57,2,   35.78,2,    0.00,2,    2.48,2,-999.000,9,-999.000,9,-999.000,9,-999.0000,9, -999.00,9, -999.00,9,  -999.0,9,  -999.0,-999.000,9,-999.000,-999.0000,-999.000,   1.7914,-999.000
  316N138_7,       P14C,      45,          1,         35,         35,2,19920911,       0030,   -19.3983,   177.4900,       3148,  3039.2,   2.0193,  34.6637,2,  34.6629,2,    150.4,2,   150.8,2,  125.54,2,   35.79,2,    0.00,2,    2.49,2,-999.000,9,-999.000,9,-999.000,9,-999.0000,9, -999.00,9, -999.00,9,  -999.0,9,  -999.0,-999.000,9,-999.000,-999.0000,-999.000,   1.7873,-999.000
  316N138_7,       P14C,      45,          1,         37,         37,2,19920911,       0030,   -19.3983,   177.4900,       3148,  3181.6,   2.0276,  34.6648,2,  34.6631,2,    150.4,2,   150.8,2,  125.52,2,   35.79,2,    0.00,2,    2.48,2,   0.003,2,  -0.003,2,-999.000,9,-999.0000,9, -999.00,9, -999.00,9,  -999.0,9,  -999.0,-999.000,9,-999.000,-999.0000,-999.000,   1.7812,-999.000