BOTTLE,20211105CCHSIORKP
EXPOCODE,SECT_ID,STNNBR,CASTNO,SAMPNO,BTLNBR,BTLNBR_FLAG_W,DATE,TIME,LATITUDE,LONGITUDE,DEPTH,CTDPRS,CTDTMP,CTDSAL,CTDSAL_FLAG_W,SALNTY,SALNTY_FLAG_W,CTDOXY,CTDOXY_FLAG_W,OXYGEN,OXYGEN_FLAG_W,SILCAT,SILCAT_FLAG_W,NITRAT,NITRAT_FLAG_W,NITRIT,NITRIT_FLAG_W,PHSPHT,PHSPHT_FLAG_W,CFC-11,CFC-11_FLAG_W,CFC-12,CFC-12_FLAG_W,TRITUM,TRITUM_FLAG_W,HELIUM,HELIUM_FLAG_W,DELHE3,DELHE3_FLAG_W,DELC13,DELC13_FLAG_W,DELC14,DELC14_FLAG_W,C14ERR,NEON,NEON_FLAG_W,NEONER,HELIER,DELHER,THETA,TRITER
,,,,,,,,,,,METERS,DBAR,ITS-90,PSS-78,,PSS-78,,UMOL/KG,,UMOL/KG,,UMOL/KG,,UMOL/KG,,UMOL/KG,,UMOL/KG,,PMOL/KG,,PMOL/KG,,TU,,NMOL/KG,,PERCNT,,/MILLE,,/MILLE,,/MILLE,NMOL/KG,,NMOL/KG,NMOL/KG,PERCNT,DEG C,TU
  316N138_7,       P14C,      37,          1,          4,          4,2,19920909,       0825,   -21.4217,   177.4633,       3793,     2.6,  22.7413,  35.6981,2,  35.7001,2,    215.2,2,   216.3,2,    1.69,2,    0.12,2,    0.00,2,    0.07,2,-999.000,9,-999.000,9,-999.000,9,-999.0000,9, -999.00,9,    1.10,3,   120.9,2,     9.7,-999.000,9,-999.000,-999.0000,-999.000,  22.7407,-999.000
  316N138_7,       P14C,      37,          1,          5,          5,2,19920909,       0825,   -21.4217,   177.4633,       3793,    16.2,  22.6402,  35.6920,2,  35.6941,2,    216.1,2,   216.9,2,    1.68,2,    0.12,2,    0.00,2,    0.06,2,   2.045,2,   1.105,2,   0.979,2,   1.7750,2,   -1.28,2, -999.00,9,  -999.0,9,  -999.0,   7.168,2,   0.036,   0.0070,   0.110,  22.6369,   0.007
  316N138_7,       P14C,      37,          1,          6,          6,2,19920909,       0825,   -21.4217,   177.4633,       3793,    55.9,  22.3030,  35.6779,2,  35.6797,2,    215.4,2,   217.3,2,    1.66,2,    0.12,2,    0.00,2,    0.08,2,   2.010,2,   1.065,2,-999.000,9,   1.7810,2,   -1.19,2,    1.08,3,   130.7,2,     9.5,   7.151,2,   0.036,   0.0070,   0.110,  22.2918,-999.000
  316N138_7,       P14C,      37,          1,          7,          7,2,19920909,       0825,   -21.4217,   177.4633,       3793,   104.7,  21.5638,  35.6429,2,  35.6439,2,    210.0,2,   213.2,2,    1.65,2,    0.12,2,    0.04,2,    0.10,2,   2.040,2,   1.072,2,-999.000,9,   1.7750,2,   -1.08,2,    0.93,3,   115.6,2,    11.5,   7.184,2,   0.036,   0.0070,   0.110,  21.5433,-999.000
  316N138_7,       P14C,      37,          1,          8,          8,2,19920909,       0825,   -21.4217,   177.4633,       3793,   153.1,  20.7177,  35.6359,2,  35.6364,2,    198.9,2,   199.7,2,    1.64,2,    1.49,2,    0.07,2,    0.21,2,   2.006,2,   1.073,2,-999.000,9,   1.8150,2,   -0.81,2,    0.91,3,   116.4,2,    13.3,   7.323,2,   0.037,   0.0070,   0.110,  20.6886,-999.000
  316N138_7,       P14C,      37,          1,          9,          9,2,19920909,       0825,   -21.4217,   177.4633,       3793,   200.8,  19.5778,  35.6175,2,  35.6169,2,    184.8,2,   183.1,2,    2.02,2,    3.97,2,    0.01,2,    0.38,2,   1.903,2,   1.006,2,   0.901,2,   1.8100,2,   -0.39,2,    0.73,3,   118.9,2,    10.8,   7.340,2,   0.037,   0.0070,   0.110,  19.5411,   0.005
  316N138_7,       P14C,      37,          1,         10,         10,2,19920909,       0825,   -21.4217,   177.4633,       3793,   248.8,  18.3045,  35.5820,2,  35.5813,2,    187.7,2,   186.7,2,    2.21,2,    4.78,2,    0.01,2,    0.44,2,   1.922,2,   1.014,2,-999.000,9,-999.0000,9, -999.00,9,    0.19,3,   108.9,2,    11.8,-999.000,9,-999.000,-999.0000,-999.000,  18.2611,-999.000
  316N138_7,       P14C,      37,          1,         11,         11,2,19920909,       0825,   -21.4217,   177.4633,       3793,   297.5,  17.0820,  35.5236,2,  35.5300,2,    194.5,2,   193.3,2,    2.40,2,    5.47,2,    0.01,2,    0.48,2,   2.010,2,   1.049,2,   0.785,2,   1.8240,2,   -0.27,2,    0.75,3,   116.9,3,    14.9,   7.499,2,   0.037,   0.0070,   0.110,  17.0324,   0.005
  316N138_7,       P14C,      37,          1,         12,         12,2,19920909,       0825,   -21.4217,   177.4633,       3793,   346.8,  15.5032,  35.3699,2,  35.3731,2,    191.2,2,   187.2,2,    3.38,2,    8.10,2,    0.00,2,    0.66,2,-999.000,9,-999.000,9,-999.000,9,-999.0000,9, -999.00,9,   -0.11,3,    68.4,2,     9.9,-999.000,9,-999.000,-999.0000,-999.000,  15.4491,-999.000
  316N138_7,       P14C,      37,          1,         13,         13,2,19920909,       0825,   -21.4217,   177.4633,       3793,   395.0,  14.2500,  35.2267,2,  35.2248,2,    187.4,2,   185.7,2,    3.97,2,   10.41,2,    0.00,2,    0.81,2,   1.602,2,   0.834,2,   0.567,2,   1.7750,2,    0.74,2,   -1.90,3,     4.5,3,    19.6,   7.384,2,   0.037,   0.0070,   0.110,  14.1917,   0.004
  316N138_7,       P14C,      37,          1,         14,         14,2,19920909,       0825,   -21.4217,   177.4633,       3793,   496.4,  11.1075,  34.8572,2,  34.8525,2,    190.8,2,   190.5,2,    6.15,2,   15.99,2,    0.00,2,    1.17,2,   1.187,2,   0.604,2,   0.358,2,   1.8570,2,    0.97,2,   -1.63,3,   -21.3,3,    26.8,   7.843,2,   0.039,   0.0080,   0.110,  11.0452,   0.003
  316N138_7,       P14C,      37,          1,         15,         15,2,19920909,       0825,   -21.4217,   177.4633,       3793,   599.7,   8.3994,  34.5597,2,  34.5535,2,    201.6,2,   203.0,2,    9.73,2,   21.54,2,    0.00,2,    1.51,2,   0.727,2,   0.380,2,   0.216,2,   1.8630,2,    1.19,2,    0.10,3,   -32.5,2,    14.7,   7.963,2,   0.040,   0.0080,   0.110,   8.3358,   0.003
  316N138_7,       P14C,      37,          1,         16,         16,2,19920909,       0825,   -21.4217,   177.4633,       3793,   703.3,   6.9162,  34.4243,2,  34.4229,2,    209.7,2,   210.6,2,   13.51,2,   24.62,2,    0.00,2,    1.71,2,   0.445,2,   0.242,2,   0.124,2,   1.2170,4,    0.79,4,    0.79,3,   -35.9,2,    11.0,   5.147,4,   0.026,   0.0050,   0.110,   6.8490,   0.002
  316N138_7,       P14C,      37,          1,         17,         17,2,19920909,       0825,   -21.4217,   177.4633,       3793,   805.3,   5.9229,  34.3776,2,  34.3767,2,    199.3,2,   202.1,2,   21.88,2,   27.97,2,    0.00,2,    1.93,2,   0.182,2,   0.102,2,   0.056,2,   1.8870,2,    2.69,2,   -1.13,3,  -130.7,3,    11.7,   8.161,2,   0.041,   0.0080,   0.110,   5.8515,   0.002
  316N138_7,       P14C,      37,          1,         18,         18,2,19920909,       0825,   -21.4217,   177.4633,       3793,   901.6,   5.0329,  34.3873,2,  34.3845,2,    185.4,2,   187.9,2,   35.43,2,   30.90,2,    0.00,2,    2.12,2,   0.073,2,   0.039,2,-999.000,9,-999.0000,9, -999.00,9,   -0.58,3,  -143.2,3,    12.9,-999.000,9,-999.000,-999.0000,-999.000,   4.9584,-999.000
  316N138_7,       P14C,      37,          1,         19,         19,2,19920909,       0825,   -21.4217,   177.4633,       3793,  1003.7,   4.3817,  34.4196,2,  34.4179,2,    173.4,2,   174.6,2,   50.00,2,   32.99,2,    0.00,2,    2.27,2,   0.024,2,   0.015,2,   0.013,2,   1.9170,2,    9.08,2,   -3.18,3,  -215.3,3,    14.9,   8.254,2,   0.041,   0.0080,   0.110,   4.3030,   0.002
  316N138_7,       P14C,      37,          1,         20,         20,2,19920909,       0825,   -21.4217,   177.4633,       3793,  1107.7,   3.9508,  34.4637,2,  34.4631,2,    169.0,2,   166.7,2,   64.18,2,   33.95,2,    0.00,2,    2.34,2,   0.011,2,   0.012,2,-999.000,9,-999.0000,9, -999.00,9,    0.37,3,  -126.7,2,    15.7,-999.000,9,-999.000,-999.0000,-999.000,   3.8666,-999.000
  316N138_7,       P14C,      37,          1,         21,         21,2,19920909,       0825,   -21.4217,   177.4633,       3793,  1203.6,   3.5891,  34.5020,2,  34.4998,2,    162.2,2,   162.8,2,   75.60,2,   34.48,2,    0.00,2,    2.38,2,   0.006,2,   0.004,2,   0.009,2,   1.9550,2,   15.96,2,   -0.61,3,  -151.8,2,     7.2,   8.375,2,   0.042,   0.0080,   0.110,   3.5000,   0.002
  316N138_7,       P14C,      37,          1,         22,         22,2,19920909,       0825,   -21.4217,   177.4633,       3793,  1299.0,   3.2902,  34.5342,2,  34.5325,2,    157.5,2,   158.0,2,   85.65,2,   34.92,2,    0.00,2,    2.43,2,   0.003,2,   0.001,2,-999.000,9,-999.0000,9, -999.00,9,   -0.40,3,  -157.7,2,     7.1,-999.000,9,-999.000,-999.0000,-999.000,   3.1960,-999.000
  316N138_7,       P14C,      37,          1,         23,         23,2,19920909,       0825,   -21.4217,   177.4633,       3793,  1398.7,   3.0342,  34.5604,2,  34.5594,2,    152.6,2,   154.7,2,   94.13,2,   35.32,2,    0.00,2,    2.45,2,   0.012,4,   0.026,4,   0.011,2,   1.9810,2,   21.06,2,   -2.03,3,  -201.2,3,     7.8,   8.423,2,   0.042,   0.0080,   0.110,   2.9344,   0.002
  316N138_7,       P14C,      37,          1,         24,         24,2,19920909,       0825,   -21.4217,   177.4633,       3793,  1501.1,   2.8172,  34.5820,2,  34.5816,2,    152.2,2,   152.6,2,  101.03,2,   35.72,2,    0.00,2,    2.45,2,  -0.004,2,  -0.004,2,-999.000,9,-999.0000,9, -999.00,9,   -0.88,3,  -188.2,2,     7.0,-999.000,9,-999.000,-999.0000,-999.000,   2.7113,-999.000
  316N138_7,       P14C,      37,          1,         25,         25,2,19920909,       0825,   -21.4217,   177.4633,       3793,  1598.3,   2.6705,  34.5955,2,  34.5951,2,    150.0,2,   151.4,2,  105.92,2,   35.90,2,    0.00,2,    2.47,2,  -0.002,2,  -0.005,2,   0.007,2,   1.9960,2,   23.04,2,   -0.28,3,  -180.7,2,     6.9,   8.485,2,   0.042,   0.0080,   0.110,   2.5583,   0.002
  316N138_7,       P14C,      37,          1,         26,         26,2,19920909,       0825,   -21.4217,   177.4633,       3793,  1802.6,   2.4440,  34.6181,2,  34.6181,2,    150.9,2,   151.3,2,  112.28,2,   36.00,2,    0.00,2,    2.48,2,  -0.002,2,  -0.003,2,   0.004,2,   2.0100,2,   23.26,2,   -0.49,3,  -184.7,2,     8.5,   8.516,2,   0.043,   0.0080,   0.110,   2.3178,   0.002
  316N138_7,       P14C,      37,          1,         27,         27,2,19920909,       0825,   -21.4217,   177.4633,       3793,  2006.4,   2.2632,  34.6355,2,  34.6357,2,    150.9,2,   151.0,2,  117.85,2,   36.09,2,    0.00,2,    2.48,2,  -0.003,2,  -0.001,2,-999.000,9,-999.0000,9, -999.00,9,   -1.51,3,  -208.0,3,     6.5,-999.000,9,-999.000,-999.0000,-999.000,   2.1223,-999.000
  316N138_7,       P14C,      37,          1,         28,         28,2,19920909,       0825,   -21.4217,   177.4633,       3793,  2210.8,   2.1376,  34.6478,2,  34.6479,2,    151.7,2,   151.4,2,  120.74,2,   36.23,3,    0.00,2,    2.49,2,-999.000,9,-999.000,9,-999.000,9,-999.0000,9, -999.00,9,   -0.56,3,  -193.4,2,     6.6,-999.000,9,-999.000,-999.0000,-999.000,   1.9808,-999.000
  316N138_7,       P14C,      37,          1,         29,         29,2,19920909,       0825,   -21.4217,   177.4633,       3793,  2414.6,   2.0178,  34.6603,2,  34.6595,2,    152.4,2,   153.0,2,  123.23,2,   35.93,2,    0.00,2,    2.49,2,-999.000,9,-999.000,9,-999.000,9,-999.0000,9, -999.00,9,   -0.70,3,  -196.5,2,     6.8,-999.000,9,-999.000,-999.0000,-999.000,   1.8449,-999.000
  316N138_7,       P14C,      37,          1,         30,         30,2,19920909,       0825,   -21.4217,   177.4633,       3793,  2618.3,   1.9348,  34.6684,2,  34.6689,2,    155.0,2,   154.3,2,  125.31,2,   35.89,2,    0.00,2,    2.48,2,   0.001,2,   0.003,2,-999.000,9,-999.0000,9, -999.00,9,   -0.16,3,  -211.2,2,     9.8,-999.000,9,-999.000,-999.0000,-999.000,   1.7448,-999.000
  316N138_7,       P14C,      37,          1,         31,         31,2,19920909,       0825,   -21.4217,   177.4633,       3793,  2824.0,   1.8796,  34.6747,2,  34.6750,2,    156.0,2,   155.3,2,  126.77,2,   35.85,2,    0.00,2,    2.48,2,-999.000,9,-999.000,9,-999.000,9,-999.0000,9, -999.00,9,   -1.43,3,  -220.3,3,     9.5,-999.000,9,-999.000,-999.0000,-999.000,   1.6714,-999.000
  316N138_7,       P14C,      37,          1,         32,         32,2,19920909,       0825,   -21.4217,   177.4633,       3793,  3028.7,   1.8414,  34.6788,2,  34.6785,2,    156.7,2,   155.7,2,  128.23,2,   35.81,2,    0.00,2,    2.48,2,-999.000,9,-999.000,9,-999.000,9,-999.0000,9, -999.00,9,   -0.94,3,  -208.0,2,     7.4,-999.000,9,-999.000,-999.0000,-999.000,   1.6142,-999.000
  316N138_7,       P14C,      37,          1,         33,         33,2,19920909,       0825,   -21.4217,   177.4633,       3793,  3232.7,   1.8294,  34.6815,2,  34.6807,2,    156.0,2,   156.1,2,  128.85,2,   35.82,2,    0.00,2,    2.48,2,   0.001,2,   0.000,2,-999.000,9,-999.0000,9, -999.00,9,   -0.86,3,  -207.1,2,     7.5,-999.000,9,-999.000,-999.0000,-999.000,   1.5823,-999.000
  316N138_7,       P14C,      37,          1,         34,         34,2,19920909,       0825,   -21.4217,   177.4633,       3793,  3438.5,   1.8328,  34.6824,2,  34.6815,2,    156.0,2,   156.1,2,  129.25,2,   35.87,2,    0.00,2,    2.48,2,-999.000,9,-999.000,9,-999.000,9,-999.0000,9, -999.00,9,   -1.84,3,  -214.7,3,     8.8,-999.000,9,-999.000,-999.0000,-999.000,   1.5646,-999.000
  316N138_7,       P14C,      37,          1,         35,         35,2,19920909,       0825,   -21.4217,   177.4633,       3793,  3642.6,   1.8380,  34.6834,2,  34.6827,2,    156.0,2,   155.9,2,  129.66,2,   35.88,2,    0.00,2,    2.48,2,-999.000,9,-999.000,9,-999.000,9,-999.0000,9, -999.00,9,   -1.16,3,  -201.9,2,     8.9,-999.000,9,-999.000,-999.0000,-999.000,   1.5483,-999.000
  316N138_7,       P14C,      37,          1,         37,         37,2,19920909,       0825,   -21.4217,   177.4633,       3793,  3828.3,   1.8376,  34.6841,2,  34.6831,2,    155.5,2,   156.5,2,  130.49,2,   35.84,2,    0.00,2,    2.48,2,  -0.001,2,  -0.002,2,-999.000,9,-999.0000,9, -999.00,9,    0.23,3,  -223.1,3,     8.2,-999.000,9,-999.000,-999.0000,-999.000,   1.5280,-999.000