BOTTLE,20211105CCHSIORKP
EXPOCODE,SECT_ID,STNNBR,CASTNO,SAMPNO,BTLNBR,BTLNBR_FLAG_W,DATE,TIME,LATITUDE,LONGITUDE,DEPTH,CTDPRS,CTDTMP,CTDSAL,CTDSAL_FLAG_W,SALNTY,SALNTY_FLAG_W,CTDOXY,CTDOXY_FLAG_W,OXYGEN,OXYGEN_FLAG_W,SILCAT,SILCAT_FLAG_W,NITRAT,NITRAT_FLAG_W,NITRIT,NITRIT_FLAG_W,PHSPHT,PHSPHT_FLAG_W,CFC-11,CFC-11_FLAG_W,CFC-12,CFC-12_FLAG_W,TRITUM,TRITUM_FLAG_W,HELIUM,HELIUM_FLAG_W,DELHE3,DELHE3_FLAG_W,DELC13,DELC13_FLAG_W,DELC14,DELC14_FLAG_W,C14ERR,NEON,NEON_FLAG_W,NEONER,HELIER,DELHER,THETA,TRITER
,,,,,,,,,,,METERS,DBAR,ITS-90,PSS-78,,PSS-78,,UMOL/KG,,UMOL/KG,,UMOL/KG,,UMOL/KG,,UMOL/KG,,UMOL/KG,,PMOL/KG,,PMOL/KG,,TU,,NMOL/KG,,PERCNT,,/MILLE,,/MILLE,,/MILLE,NMOL/KG,,NMOL/KG,NMOL/KG,PERCNT,DEG C,TU
  316N138_7,       P14C,      22,          1,          1,          1,2,19920905,       1624,   -27.8417,   176.3717,       4414,     2.1,  18.9703,  35.6822,2,  35.6839,2,    228.6,2,   232.5,2,    1.63,2,    0.06,2,    0.00,2,    0.11,2,-999.000,9,-999.000,9,-999.000,9,-999.0000,9, -999.00,9, -999.00,9,  -999.0,9,  -999.0,-999.000,9,-999.000,-999.0000,-999.000,  18.9700,-999.000
  316N138_7,       P14C,      22,          1,          2,          2,2,19920905,       1624,   -27.8417,   176.3717,       4414,    15.7,  18.9703,  35.6830,2,  35.6841,2,    224.6,2,   232.5,2,    1.61,2,    0.06,2,    0.00,2,    0.13,2,-999.000,9,-999.000,9,-999.000,9,-999.0000,9, -999.00,9, -999.00,9,  -999.0,9,  -999.0,-999.000,9,-999.000,-999.0000,-999.000,  18.9675,-999.000
  316N138_7,       P14C,      22,          1,          3,          3,2,19920905,       1624,   -27.8417,   176.3717,       4414,    56.1,  18.2883,  35.6889,2,  35.6884,2,    224.5,2,   219.4,2,    1.59,2,    1.27,2,    0.17,2,    0.21,2,-999.000,9,-999.000,9,-999.000,9,-999.0000,9, -999.00,9, -999.00,9,  -999.0,9,  -999.0,-999.000,9,-999.000,-999.0000,-999.000,  18.2786,-999.000
  316N138_7,       P14C,      22,          1,          4,          4,2,19920905,       1624,   -27.8417,   176.3717,       4414,   106.1,  18.0333,  35.6814,2,  35.6884,2,    229.9,2,   229.2,2,    1.57,2,    0.51,2,    0.11,2,    0.19,2,-999.000,9,-999.000,9,-999.000,9,-999.0000,9, -999.00,9, -999.00,9,  -999.0,9,  -999.0,-999.000,9,-999.000,-999.0000,-999.000,  18.0150,-999.000
  316N138_7,       P14C,      22,          1,          5,          5,2,19920905,       1624,   -27.8417,   176.3717,       4414,   155.2,  17.3223,  35.5835,2,  35.5867,2,    214.3,2,   215.0,2,    2.15,2,    3.07,2,    0.02,2,    0.34,2,-999.000,9,-999.000,9,-999.000,9,-999.0000,9, -999.00,9, -999.00,9,  -999.0,9,  -999.0,-999.000,9,-999.000,-999.0000,-999.000,  17.2963,-999.000
  316N138_7,       P14C,      22,          1,          6,          6,2,19920905,       1624,   -27.8417,   176.3717,       4414,   205.4,  16.6864,  35.5246,2,  35.5262,2,    206.4,2,   210.6,2,    2.33,2,    4.36,2,    0.01,2,    0.43,2,-999.000,9,-999.000,9,-999.000,9,-999.0000,9, -999.00,9, -999.00,9,  -999.0,9,  -999.0,-999.000,9,-999.000,-999.0000,-999.000,  16.6528,-999.000
  316N138_7,       P14C,      22,          1,          7,          7,2,19920905,       1624,   -27.8417,   176.3717,       4414,   254.9,  15.4215,  35.3776,2,  35.3817,2,    190.7,2,   190.8,2,    3.10,2,    8.08,2,    0.01,2,    0.65,2,-999.000,9,-999.000,9,-999.000,9,-999.0000,9, -999.00,9, -999.00,9,  -999.0,9,  -999.0,-999.000,9,-999.000,-999.0000,-999.000,  15.3820,-999.000
  316N138_7,       P14C,      22,          1,          8,          8,2,19920905,       1624,   -27.8417,   176.3717,       4414,   304.3,  14.4267,  35.2974,2,  35.2970,2,    196.4,2,   195.5,2,    4.08,2,    9.21,2,    0.01,2,    0.73,2,-999.000,9,-999.000,9,-999.000,9,-999.0000,9, -999.00,9, -999.00,9,  -999.0,9,  -999.0,-999.000,9,-999.000,-999.0000,-999.000,  14.3815,-999.000
  316N138_7,       P14C,      22,          1,          9,          9,2,19920905,       1624,   -27.8417,   176.3717,       4414,   352.9,  13.2879,  35.1682,2,  35.1711,2,    195.2,2,   193.1,2,    4.85,2,   11.50,2,    0.01,2,    0.87,2,-999.000,9,-999.000,9,-999.000,9,-999.0000,9, -999.00,9, -999.00,9,  -999.0,9,  -999.0,-999.000,9,-999.000,-999.0000,-999.000,  13.2383,-999.000
  316N138_7,       P14C,      22,          1,         10,         10,2,19920905,       1624,   -27.8417,   176.3717,       4414,   401.5,  12.1382,  35.0284,2,  35.0298,2,    192.1,2,   190.8,2,    6.23,2,   14.05,2,    0.00,2,    1.04,2,-999.000,9,-999.000,9,-999.000,9,-999.0000,9, -999.00,9, -999.00,9,  -999.0,9,  -999.0,-999.000,9,-999.000,-999.0000,-999.000,  12.0849,-999.000
  316N138_7,       P14C,      22,          1,         11,         11,3,19920905,       1624,   -27.8417,   176.3717,       4414,   501.5,  10.0179,  34.7817,2,  35.2342,4,    194.5,2,   201.8,4,    4.61,4,    9.95,4,    0.01,4,    0.78,4,-999.000,9,-999.000,9,-999.000,9,-999.0000,9, -999.00,9, -999.00,9,  -999.0,9,  -999.0,-999.000,9,-999.000,-999.0000,-999.000,   9.9588,-999.000
  316N138_7,       P14C,      22,          1,         12,         12,2,19920905,       1624,   -27.8417,   176.3717,       4414,   600.1,   8.4775,  34.6137,2,  34.6149,2,    199.3,2,   201.0,2,   11.37,2,   21.41,2,    0.00,2,    1.49,2,-999.000,9,-999.000,9,-999.000,9,-999.0000,9, -999.00,9, -999.00,9,  -999.0,9,  -999.0,-999.000,9,-999.000,-999.0000,-999.000,   8.4134,-999.000
  316N138_7,       P14C,      22,          1,         13,         13,2,19920905,       1624,   -27.8417,   176.3717,       4414,   700.5,   7.3030,  34.5059,2,  34.5052,2,    203.7,2,   204.2,2,   15.73,2,   23.93,2,    0.00,2,    1.66,2,-999.000,9,-999.000,9,-999.000,9,-999.0000,9, -999.00,9, -999.00,9,  -999.0,9,  -999.0,-999.000,9,-999.000,-999.0000,-999.000,   7.2340,-999.000
  316N138_7,       P14C,      22,          1,         14,         14,2,19920905,       1624,   -27.8417,   176.3717,       4414,   800.4,   6.2635,  34.4233,2,  34.4243,2,    203.6,2,   203.8,2,   20.69,2,   26.46,2,    0.00,2,    1.82,2,-999.000,9,-999.000,9,-999.000,9,-999.0000,9, -999.00,9, -999.00,9,  -999.0,9,  -999.0,-999.000,9,-999.000,-999.0000,-999.000,   6.1904,-999.000
  316N138_7,       P14C,      22,          1,         15,         15,2,19920905,       1624,   -27.8417,   176.3717,       4414,   901.1,   5.5419,  34.4098,2,  34.4094,2,    194.4,2,   195.4,2,   29.23,2,   28.64,2,    0.00,2,    1.98,2,-999.000,9,-999.000,9,-999.000,9,-999.0000,9, -999.00,9, -999.00,9,  -999.0,9,  -999.0,-999.000,9,-999.000,-999.0000,-999.000,   5.4639,-999.000
  316N138_7,       P14C,      22,          1,         16,         16,2,19920905,       1624,   -27.8417,   176.3717,       4414,   999.9,   4.9513,  34.3992,2,  34.4007,2,    187.8,2,   189.6,2,   36.38,2,   30.30,2,    0.00,2,    2.10,2,   0.080,2,   0.049,2,-999.000,9,-999.0000,9, -999.00,9, -999.00,9,  -999.0,9,  -999.0,-999.000,9,-999.000,-999.0000,-999.000,   4.8685,-999.000
  316N138_7,       P14C,      22,          1,         17,         17,2,19920905,       1624,   -27.8417,   176.3717,       4414,  1101.1,   4.1688,  34.4281,2,  34.4270,2,    180.5,2,   179.4,2,   51.30,2,   32.45,2,    0.00,2,    2.24,2,   0.022,2,   0.013,2,-999.000,9,-999.0000,9, -999.00,9, -999.00,9,  -999.0,9,  -999.0,-999.000,9,-999.000,-999.0000,-999.000,   4.0833,-999.000
  316N138_7,       P14C,      22,          1,         18,         18,2,19920905,       1624,   -27.8417,   176.3717,       4414,  1201.3,   3.7290,  34.4753,2,  34.4772,2,    171.7,2,   171.2,2,   64.24,2,   33.12,2,    0.00,2,    2.30,2,   0.016,2,   0.014,2,-999.000,9,-999.0000,9, -999.00,9, -999.00,9,  -999.0,9,  -999.0,-999.000,9,-999.000,-999.0000,-999.000,   3.6389,-999.000
  316N138_7,       P14C,      22,          1,         19,         19,2,19920905,       1624,   -27.8417,   176.3717,       4414,  1301.0,   3.3933,  34.5168,2,  34.5189,2,    163.9,2,   165.5,2,   76.42,2,   33.78,2,    0.00,2,    2.35,2,   0.008,2,   0.006,2,-999.000,9,-999.0000,9, -999.00,9, -999.00,9,  -999.0,9,  -999.0,-999.000,9,-999.000,-999.0000,-999.000,   3.2979,-999.000
  316N138_7,       P14C,      22,          1,         20,         20,2,19920905,       1624,   -27.8417,   176.3717,       4414,  1400.7,   3.1234,  34.5509,2,  34.5507,2,    161.2,2,   161.7,2,   85.84,2,   34.05,2,    0.00,2,    2.37,2,   0.002,2,   0.003,2,-999.000,9,-999.0000,9, -999.00,9, -999.00,9,  -999.0,9,  -999.0,-999.000,9,-999.000,-999.0000,-999.000,   3.0226,-999.000
  316N138_7,       P14C,      22,          1,         21,         21,2,19920905,       1624,   -27.8417,   176.3717,       4414,  1500.9,   2.8796,  34.5777,2,  34.5789,2,    157.2,2,   158.4,2,   94.08,2,   34.36,2,    0.00,2,    2.42,2,   0.005,2,   0.001,2,-999.000,9,-999.0000,9, -999.00,9, -999.00,9,  -999.0,9,  -999.0,-999.000,9,-999.000,-999.0000,-999.000,   2.7731,-999.000
  316N138_7,       P14C,      22,          1,         22,         22,2,19920905,       1624,   -27.8417,   176.3717,       4414,  1600.3,   2.7117,  34.5970,2,  34.5967,2,    156.1,2,   156.6,2,   99.93,2,   34.72,2,    0.00,2,    2.42,2,  -0.001,2,  -0.004,2,-999.000,9,-999.0000,9, -999.00,9, -999.00,9,  -999.0,9,  -999.0,-999.000,9,-999.000,-999.0000,-999.000,   2.5989,-999.000
  316N138_7,       P14C,      22,          1,         23,         23,2,19920905,       1624,   -27.8417,   176.3717,       4414,  1799.2,   2.4199,  34.6233,2,  34.6248,2,    153.9,2,   154.6,2,  108.47,2,   34.99,2,    0.00,2,    2.45,2,-999.000,9,-999.000,9,-999.000,9,-999.0000,9, -999.00,9, -999.00,9,  -999.0,9,  -999.0,-999.000,9,-999.000,-999.0000,-999.000,   2.2943,-999.000
  316N138_7,       P14C,      22,          1,         24,         24,2,19920905,       1624,   -27.8417,   176.3717,       4414,  1998.1,   2.2281,  34.6404,2,  34.6410,2,    154.0,2,   153.0,2,  114.39,2,   35.17,2,    0.00,2,    2.46,2,-999.000,9,-999.000,9,-999.000,9,-999.0000,9, -999.00,9, -999.00,9,  -999.0,9,  -999.0,-999.000,9,-999.000,-999.0000,-999.000,   2.0883,-999.000
  316N138_7,       P14C,      22,          1,         25,         25,2,19920905,       1624,   -27.8417,   176.3717,       4414,  2198.1,   2.1072,  34.6522,2,  34.6532,2,    153.5,2,   153.1,2,  118.08,2,   35.27,2,    0.00,2,    2.46,2,-999.000,9,-999.000,9,-999.000,9,-999.0000,9, -999.00,9, -999.00,9,  -999.0,9,  -999.0,-999.000,9,-999.000,-999.0000,-999.000,   1.9520,-999.000
  316N138_7,       P14C,      22,          1,         26,         26,2,19920905,       1624,   -27.8417,   176.3717,       4414,  2399.0,   2.0132,  34.6605,2,  34.6624,2,    152.7,2,   153.6,2,  120.32,2,   35.27,2,    0.00,2,    2.46,2,-999.000,9,-999.000,9,-999.000,9,-999.0000,9, -999.00,9, -999.00,9,  -999.0,9,  -999.0,-999.000,9,-999.000,-999.0000,-999.000,   1.8418,-999.000
  316N138_7,       P14C,      22,          1,         27,         27,2,19920905,       1624,   -27.8417,   176.3717,       4414,  2595.2,   1.9493,  34.6674,2,  34.6687,2,    154.0,2,   154.4,2,  121.95,2,   35.19,2,    0.00,2,    2.46,2,-999.000,9,-999.000,9,-999.000,9,-999.0000,9, -999.00,9, -999.00,9,  -999.0,9,  -999.0,-999.000,9,-999.000,-999.0000,-999.000,   1.7612,-999.000
  316N138_7,       P14C,      22,          1,         28,         28,2,19920905,       1624,   -27.8417,   176.3717,       4414,  2795.4,   1.8963,  34.6730,2,  34.6734,2,    155.2,2,   155.3,2,  123.17,2,   35.19,2,    0.00,2,    2.46,2,-999.000,9,-999.000,9,-999.000,9,-999.0000,9, -999.00,9, -999.00,9,  -999.0,9,  -999.0,-999.000,9,-999.000,-999.0000,-999.000,   1.6905,-999.000
  316N138_7,       P14C,      22,          1,         29,         29,2,19920905,       1624,   -27.8417,   176.3717,       4414,  2995.5,   1.8693,  34.6769,2,  34.6790,2,    155.2,2,   155.4,2,  124.39,2,   35.20,2,    0.00,2,    2.46,2,-999.000,9,-999.000,9,-999.000,9,-999.0000,9, -999.00,9, -999.00,9,  -999.0,9,  -999.0,-999.000,9,-999.000,-999.0000,-999.000,   1.6449,-999.000
  316N138_7,       P14C,      22,          1,         30,         30,2,19920905,       1624,   -27.8417,   176.3717,       4414,  3196.9,   1.8513,  34.6794,2,  34.6820,2,    156.0,2,   155.7,2,  124.98,2,   35.20,2,    0.00,2,    2.45,2,-999.000,9,-999.000,9,-999.000,9,-999.0000,9, -999.00,9, -999.00,9,  -999.0,9,  -999.0,-999.000,9,-999.000,-999.0000,-999.000,   1.6074,-999.000
  316N138_7,       P14C,      22,          1,         31,         31,2,19920905,       1624,   -27.8417,   176.3717,       4414,  3398.7,   1.8444,  34.6811,2,  34.6822,2,    156.4,2,   156.1,2,  125.99,2,   35.21,2,    0.00,2,    2.46,2,-999.000,9,-999.000,9,-999.000,9,-999.0000,9, -999.00,9, -999.00,9,  -999.0,9,  -999.0,-999.000,9,-999.000,-999.0000,-999.000,   1.5801,-999.000
  316N138_7,       P14C,      22,          1,         32,         32,2,19920905,       1624,   -27.8417,   176.3717,       4414,  3601.2,   1.8533,  34.6829,2,  34.6825,2,    156.5,2,   156.5,2,  126.16,2,   35.21,2,    0.00,2,    2.45,2,-999.000,9,-999.000,9,-999.000,9,-999.0000,9, -999.00,9, -999.00,9,  -999.0,9,  -999.0,-999.000,9,-999.000,-999.0000,-999.000,   1.5677,-999.000
  316N138_7,       P14C,      22,          1,         33,         33,2,19920905,       1624,   -27.8417,   176.3717,       4414,  3806.4,   1.8603,  34.6833,2,  34.6833,2,    156.7,2,   156.9,2,  126.55,2,   35.22,2,    0.00,2,    2.45,2,-999.000,9,-999.000,9,-999.000,9,-999.0000,9, -999.00,9, -999.00,9,  -999.0,9,  -999.0,-999.000,9,-999.000,-999.0000,-999.000,   1.5525,-999.000
  316N138_7,       P14C,      22,          1,         34,         34,2,19920905,       1624,   -27.8417,   176.3717,       4414,  4011.4,   1.8763,  34.6830,2,  34.6829,2,    156.9,2,   156.3,2,  126.72,2,   35.22,2,    0.00,2,    2.45,2,-999.000,9,-999.000,9,-999.000,9,-999.0000,9, -999.00,9, -999.00,9,  -999.0,9,  -999.0,-999.000,9,-999.000,-999.0000,-999.000,   1.5456,-999.000
  316N138_7,       P14C,      22,          1,         35,         35,2,19920905,       1624,   -27.8417,   176.3717,       4414,  4216.4,   1.8963,  34.6824,2,  34.6823,2,    157.1,2,   156.4,2,  126.69,2,   35.23,2,    0.00,2,    2.48,2,-999.000,9,-999.000,9,-999.000,9,-999.0000,9, -999.00,9, -999.00,9,  -999.0,9,  -999.0,-999.000,9,-999.000,-999.0000,-999.000,   1.5419,-999.000
  316N138_7,       P14C,      22,          1,         37,         37,2,19920905,       1624,   -27.8417,   176.3717,       4414,  4409.3,   1.9133,  34.6839,2,  34.6847,2,    156.1,2,   156.7,2,  127.07,2,   35.23,2,    0.00,2,    2.46,2,-999.000,9,-999.000,9,-999.000,9,-999.0000,9, -999.00,9, -999.00,9,  -999.0,9,  -999.0,-999.000,9,-999.000,-999.0000,-999.000,   1.5362,-999.000