BOTTLE,20211105CCHSIORKP
EXPOCODE,SECT_ID,STNNBR,CASTNO,SAMPNO,BTLNBR,BTLNBR_FLAG_W,DATE,TIME,LATITUDE,LONGITUDE,DEPTH,CTDPRS,CTDTMP,CTDSAL,CTDSAL_FLAG_W,SALNTY,SALNTY_FLAG_W,CTDOXY,CTDOXY_FLAG_W,OXYGEN,OXYGEN_FLAG_W,SILCAT,SILCAT_FLAG_W,NITRAT,NITRAT_FLAG_W,NITRIT,NITRIT_FLAG_W,PHSPHT,PHSPHT_FLAG_W,CFC-11,CFC-11_FLAG_W,CFC-12,CFC-12_FLAG_W,TRITUM,TRITUM_FLAG_W,HELIUM,HELIUM_FLAG_W,DELHE3,DELHE3_FLAG_W,DELC13,DELC13_FLAG_W,DELC14,DELC14_FLAG_W,C14ERR,NEON,NEON_FLAG_W,NEONER,HELIER,DELHER,THETA,TRITER
,,,,,,,,,,,METERS,DBAR,ITS-90,PSS-78,,PSS-78,,UMOL/KG,,UMOL/KG,,UMOL/KG,,UMOL/KG,,UMOL/KG,,UMOL/KG,,PMOL/KG,,PMOL/KG,,TU,,NMOL/KG,,PERCNT,,/MILLE,,/MILLE,,/MILLE,NMOL/KG,,NMOL/KG,NMOL/KG,PERCNT,DEG C,TU
  316N138_7,       P14C,      10,          1,          4,          4,9,19920902,       1955,   -32.8233,   175.5350,     -999.0,     2.1,  15.6903,  35.4650,2,-999.0000,9,    242.8,2,  -999.0,9, -999.00,9, -999.00,9, -999.00,9, -999.00,9,-999.000,9,-999.000,9,-999.000,9,-999.0000,9, -999.00,9, -999.00,9,  -999.0,9,  -999.0,-999.000,9,-999.000,-999.0000,-999.000,  15.6900,-999.000
  316N138_7,       P14C,      10,          1,          5,          5,9,19920902,       1955,   -32.8233,   175.5350,     -999.0,    16.4,  15.6777,  35.4644,2,-999.0000,9,    241.9,2,  -999.0,9, -999.00,9, -999.00,9, -999.00,9, -999.00,9,-999.000,9,-999.000,9,-999.000,9,-999.0000,9, -999.00,9, -999.00,9,  -999.0,9,  -999.0,-999.000,9,-999.000,-999.0000,-999.000,  15.6751,-999.000
  316N138_7,       P14C,      10,          1,          6,          6,9,19920902,       1955,   -32.8233,   175.5350,     -999.0,    55.3,  15.5285,  35.4592,2,-999.0000,9,    242.1,2,  -999.0,9, -999.00,9, -999.00,9, -999.00,9, -999.00,9,-999.000,9,-999.000,9,-999.000,9,-999.0000,9, -999.00,9, -999.00,9,  -999.0,9,  -999.0,-999.000,9,-999.000,-999.0000,-999.000,  15.5199,-999.000
  316N138_7,       P14C,      10,          1,          7,          7,9,19920902,       1955,   -32.8233,   175.5350,     -999.0,   104.2,  15.4932,  35.4780,2,-999.0000,9,    241.5,2,  -999.0,9, -999.00,9, -999.00,9, -999.00,9, -999.00,9,-999.000,9,-999.000,9,-999.000,9,-999.0000,9, -999.00,9, -999.00,9,  -999.0,9,  -999.0,-999.000,9,-999.000,-999.0000,-999.000,  15.4771,-999.000
  316N138_7,       P14C,      10,          1,          8,          8,9,19920902,       1955,   -32.8233,   175.5350,     -999.0,   156.0,  15.3555,  35.4806,2,-999.0000,9,    237.9,2,  -999.0,9, -999.00,9, -999.00,9, -999.00,9, -999.00,9,-999.000,9,-999.000,9,-999.000,9,-999.0000,9, -999.00,9, -999.00,9,  -999.0,9,  -999.0,-999.000,9,-999.000,-999.0000,-999.000,  15.3315,-999.000
  316N138_7,       P14C,      10,          1,          9,          9,9,19920902,       1955,   -32.8233,   175.5350,     -999.0,   205.7,  15.3046,  35.4830,2,-999.0000,9,    242.5,2,  -999.0,9, -999.00,9, -999.00,9, -999.00,9, -999.00,9,-999.000,9,-999.000,9,-999.000,9,-999.0000,9, -999.00,9, -999.00,9,  -999.0,9,  -999.0,-999.000,9,-999.000,-999.0000,-999.000,  15.2729,-999.000
  316N138_7,       P14C,      10,          1,         10,         10,9,19920902,       1955,   -32.8233,   175.5350,     -999.0,   254.9,  14.9813,  35.4358,2,-999.0000,9,    244.7,2,  -999.0,9, -999.00,9, -999.00,9, -999.00,9, -999.00,9,-999.000,9,-999.000,9,-999.000,9,-999.0000,9, -999.00,9, -999.00,9,  -999.0,9,  -999.0,-999.000,9,-999.000,-999.0000,-999.000,  14.9425,-999.000
  316N138_7,       P14C,      10,          1,         11,         11,9,19920902,       1955,   -32.8233,   175.5350,     -999.0,   306.7,  13.9886,  35.2789,2,-999.0000,9,    224.7,2,  -999.0,9, -999.00,9, -999.00,9, -999.00,9, -999.00,9,-999.000,9,-999.000,9,-999.000,9,-999.0000,9, -999.00,9, -999.00,9,  -999.0,9,  -999.0,-999.000,9,-999.000,-999.0000,-999.000,  13.9441,-999.000
  316N138_7,       P14C,      10,          1,         12,         12,9,19920902,       1955,   -32.8233,   175.5350,     -999.0,   356.4,  12.8469,  35.1306,2,-999.0000,9,    206.5,2,  -999.0,9, -999.00,9, -999.00,9, -999.00,9, -999.00,9,-999.000,9,-999.000,9,-999.000,9,-999.0000,9, -999.00,9, -999.00,9,  -999.0,9,  -999.0,-999.000,9,-999.000,-999.0000,-999.000,  12.7979,-999.000
  316N138_7,       P14C,      10,          1,         13,         13,2,19920902,       1955,   -32.8233,   175.5350,     -999.0,   405.2,  11.6735,  34.9847,2,  34.9848,2,    198.5,2,   196.1,2,    6.63,2,   14.35,2,    0.01,2,    1.02,2,   1.847,2,   0.945,2,-999.000,9,-999.0000,9, -999.00,9, -999.00,9,  -999.0,9,  -999.0,-999.000,9,-999.000,-999.0000,-999.000,  11.6211,-999.000
  316N138_7,       P14C,      10,          1,         14,         14,2,19920902,       1955,   -32.8233,   175.5350,     -999.0,   507.3,  10.1470,  34.8007,2,  34.8014,2,    196.5,2,   195.1,2,    8.65,2,   17.97,2,    0.00,2,    1.24,2,-999.000,9,-999.000,9,-999.000,9,-999.0000,9, -999.00,9, -999.00,9,  -999.0,9,  -999.0,-999.000,9,-999.000,-999.0000,-999.000,  10.0868,-999.000
  316N138_7,       P14C,      10,          1,         15,         15,2,19920902,       1955,   -32.8233,   175.5350,     -999.0,   607.1,   8.8195,  34.6773,2,  34.6752,2,    195.2,2,   194.9,2,   13.72,2,   21.33,2,    0.00,2,    1.45,2,   0.955,2,   0.486,2,-999.000,9,-999.0000,9, -999.00,9, -999.00,9,  -999.0,9,  -999.0,-999.000,9,-999.000,-999.0000,-999.000,   8.7531,-999.000
  316N138_7,       P14C,      10,          1,         16,         16,2,19920902,       1955,   -32.8233,   175.5350,     -999.0,   706.5,   7.8980,  34.5946,2,  34.6155,4,    197.7,2,   195.5,2,   17.58,2,   23.45,2,    0.00,2,    1.60,2,-999.000,9,-999.000,9,-999.000,9,-999.0000,9, -999.00,9, -999.00,9,  -999.0,9,  -999.0,-999.000,9,-999.000,-999.0000,-999.000,   7.8252,-999.000
  316N138_7,       P14C,      10,          1,         17,         17,3,19920902,       1955,   -32.8233,   175.5350,     -999.0,   807.0,   6.6583,  34.4629,2,  34.4655,2,    192.9,2,   207.2,4,   20.21,2,   25.67,2,    0.00,2,    1.75,2,   0.377,2,   0.199,2,-999.000,9,-999.0000,9, -999.00,9, -999.00,9,  -999.0,9,  -999.0,-999.000,9,-999.000,-999.0000,-999.000,   6.5822,-999.000
  316N138_7,       P14C,      10,          1,         18,         18,2,19920902,       1955,   -32.8233,   175.5350,     -999.0,   905.4,   5.9835,  34.4495,2,  34.4500,2,    194.4,2,   195.4,2,   28.33,2,   27.63,2,    0.00,2,    1.90,2,-999.000,9,-999.000,9,-999.000,9,-999.0000,9, -999.00,9, -999.00,9,  -999.0,9,  -999.0,-999.000,9,-999.000,-999.0000,-999.000,   5.9020,-999.000
  316N138_7,       P14C,      10,          1,         19,         19,2,19920902,       1955,   -32.8233,   175.5350,     -999.0,  1008.7,   5.3063,  34.4338,2,  34.4350,2,    190.0,2,   189.3,2,   36.25,2,   29.43,2,    0.00,2,    2.02,2,   0.138,2,   0.065,2,-999.000,9,-999.0000,9, -999.00,9, -999.00,9,  -999.0,9,  -999.0,-999.000,9,-999.000,-999.0000,-999.000,   5.2200,-999.000
  316N138_7,       P14C,      10,          1,         20,         20,2,19920902,       1955,   -32.8233,   175.5350,     -999.0,  1108.0,   4.6931,  34.4292,2,  34.4295,2,    183.6,2,   183.6,2,   44.57,2,   31.01,2,    0.00,2,    2.12,2,-999.000,9,-999.000,9,-999.000,9,-999.0000,9, -999.00,9, -999.00,9,  -999.0,9,  -999.0,-999.000,9,-999.000,-999.0000,-999.000,   4.6027,-999.000
  316N138_7,       P14C,      10,          1,         21,         21,2,19920902,       1955,   -32.8233,   175.5350,     -999.0,  1210.2,   4.2366,  34.4764,2,  34.4752,2,    172.9,2,   175.5,2,   57.58,2,   31.95,2,    0.00,2,    2.20,2,   0.059,2,   0.031,2,-999.000,9,-999.0000,9, -999.00,9, -999.00,9,  -999.0,9,  -999.0,-999.000,9,-999.000,-999.0000,-999.000,   4.1410,-999.000
  316N138_7,       P14C,      10,          1,         22,         22,2,19920902,       1955,   -32.8233,   175.5350,     -999.0,  1310.5,   3.9550,  34.4998,2,  34.4989,2,    170.2,2,   171.4,2,   65.51,2,   32.55,2,    0.00,2,    2.25,2,-999.000,9,-999.000,9,-999.000,9,-999.0000,9, -999.00,9, -999.00,9,  -999.0,9,  -999.0,-999.000,9,-999.000,-999.0000,-999.000,   3.8533,-999.000
  316N138_7,       P14C,      10,          1,         23,         23,2,19920902,       1955,   -32.8233,   175.5350,     -999.0,  1410.2,   3.6265,  34.5431,2,  34.5414,2,    165.2,2,   165.6,2,   77.34,2,   33.06,2,    0.00,2,    2.28,2,   0.041,2,   0.014,2,-999.000,9,-999.0000,9, -999.00,9, -999.00,9,  -999.0,9,  -999.0,-999.000,9,-999.000,-999.0000,-999.000,   3.5194,-999.000
  316N138_7,       P14C,      10,          1,         24,         24,2,19920902,       1955,   -32.8233,   175.5350,     -999.0,  1513.2,   3.2944,  34.5670,2,  34.5663,2,    160.7,2,   162.2,2,   86.33,2,   33.57,2,    0.00,2,    2.33,2,-999.000,9,-999.000,9,-999.000,9,-999.0000,9, -999.00,9, -999.00,9,  -999.0,9,  -999.0,-999.000,9,-999.000,-999.0000,-999.000,   3.1821,-999.000
  316N138_7,       P14C,      10,          1,         25,         25,2,19920902,       1955,   -32.8233,   175.5350,     -999.0,  1612.9,   3.0921,  34.5798,2,  34.5798,2,    159.2,2,   160.4,2,   91.45,2,   33.87,2,    0.00,2,    2.35,2,   0.020,2,   0.005,2,-999.000,9,-999.0000,9, -999.00,9, -999.00,9,  -999.0,9,  -999.0,-999.000,9,-999.000,-999.0000,-999.000,   2.9736,-999.000
  316N138_7,       P14C,      10,          1,         26,         26,2,19920902,       1955,   -32.8233,   175.5350,     -999.0,  1816.6,   2.6439,  34.6100,2,  34.6092,2,    156.3,2,   156.6,2,  103.62,2,   34.56,2,    0.00,2,    2.40,2,-999.000,9,-999.000,9,-999.000,9,-999.0000,9, -999.00,9, -999.00,9,  -999.0,9,  -999.0,-999.000,9,-999.000,-999.0000,-999.000,   2.5137,-999.000
  316N138_7,       P14C,      10,          1,         27,         27,2,19920902,       1955,   -32.8233,   175.5350,     -999.0,  2020.8,   2.4054,  34.6281,2,  34.6278,2,    155.6,2,   154.7,2,  110.67,2,   34.76,2,    0.00,2,    2.44,2,-999.000,9,-999.000,9,-999.000,9,-999.0000,9, -999.00,9, -999.00,9,  -999.0,9,  -999.0,-999.000,9,-999.000,-999.0000,-999.000,   2.2611,-999.000
  316N138_7,       P14C,      10,          1,         28,         28,2,19920902,       1955,   -32.8233,   175.5350,     -999.0,  2224.0,   2.2197,  34.6438,2,  34.6435,2,    152.5,2,   153.4,2,  116.30,2,   35.10,2,    0.00,2,    2.44,2,-999.000,9,-999.000,9,-999.000,9,-999.0000,9, -999.00,9, -999.00,9,  -999.0,9,  -999.0,-999.000,9,-999.000,-999.0000,-999.000,   2.0604,-999.000
  316N138_7,       P14C,      10,          1,         29,         29,2,19920902,       1955,   -32.8233,   175.5350,     -999.0,  2427.7,   2.0780,  34.6561,2,  34.6566,2,    154.8,2,   153.4,2,  120.28,2,   35.18,2,    0.00,2,    2.45,2,-999.000,9,-999.000,9,-999.000,9,-999.0000,9, -999.00,9, -999.00,9,  -999.0,9,  -999.0,-999.000,9,-999.000,-999.0000,-999.000,   1.9028,-999.000
  316N138_7,       P14C,      10,          1,         30,         30,2,19920902,       1955,   -32.8233,   175.5350,     -999.0,  2632.3,   1.9768,  34.6661,2,  34.6664,2,    154.8,2,   154.3,2,  122.78,2,   35.17,2,    0.00,2,    2.45,2,-999.000,9,-999.000,9,-999.000,9,-999.0000,9, -999.00,9, -999.00,9,  -999.0,9,  -999.0,-999.000,9,-999.000,-999.0000,-999.000,   1.7847,-999.000
  316N138_7,       P14C,      10,          1,         31,         31,3,19920902,       1955,   -32.8233,   175.5350,     -999.0,  2833.4,   1.8889,  34.6746,2,  34.6750,2,    154.4,2,   156.1,4,  122.54,4,   34.95,4,    0.00,4,    2.41,4,-999.000,9,-999.000,9,-999.000,9,-999.0000,9, -999.00,9, -999.00,9,  -999.0,9,  -999.0,-999.000,9,-999.000,-999.0000,-999.000,   1.6796,-999.000
  316N138_7,       P14C,      10,          1,         32,         32,2,19920902,       1955,   -32.8233,   175.5350,     -999.0,  3030.8,   1.8501,  34.6785,2,  34.6787,2,    155.6,2,   155.0,2,  126.55,2,   35.16,2,    0.00,2,    2.45,2,-999.000,9,-999.000,9,-999.000,9,-999.0000,9, -999.00,9, -999.00,9,  -999.0,9,  -999.0,-999.000,9,-999.000,-999.0000,-999.000,   1.6226,-999.000
  316N138_7,       P14C,      10,          1,         33,         33,2,19920902,       1955,   -32.8233,   175.5350,     -999.0,  3233.4,   1.8434,  34.6808,2,  34.6810,2,    155.8,2,   155.2,2,  126.94,2,   35.19,2,    0.00,2,    2.45,2,-999.000,9,-999.000,9,-999.000,9,-999.0000,9, -999.00,9, -999.00,9,  -999.0,9,  -999.0,-999.000,9,-999.000,-999.0000,-999.000,   1.5959,-999.000
  316N138_7,       P14C,      10,          1,         34,         34,2,19920902,       1955,   -32.8233,   175.5350,     -999.0,  3436.1,   1.8463,  34.6827,2,  34.6965,4,    154.9,2,   155.4,2,  127.34,2,   35.23,2,    0.00,2,    2.45,2,-999.000,9,-999.000,9,-999.000,9,-999.0000,9, -999.00,9, -999.00,9,  -999.0,9,  -999.0,-999.000,9,-999.000,-999.0000,-999.000,   1.5781,-999.000
  316N138_7,       P14C,      10,          1,         35,         35,2,19920902,       1955,   -32.8233,   175.5350,     -999.0,  3639.6,   1.8600,  34.6833,2,  34.6831,2,    155.4,2,   154.7,2,  128.59,2,   35.26,2,    0.00,2,    2.46,2,-999.000,9,-999.000,9,-999.000,9,-999.0000,9, -999.00,9, -999.00,9,  -999.0,9,  -999.0,-999.000,9,-999.000,-999.0000,-999.000,   1.5702,-999.000
  316N138_7,       P14C,      10,          1,         36,         36,2,19920902,       1955,   -32.8233,   175.5350,     -999.0,  3872.0,   1.8802,  34.6832,2,  34.6835,2,    154.7,2,   155.4,2,  128.77,2,   35.30,2,    0.00,2,    2.45,2,-999.000,9,-999.000,9,-999.000,9,-999.0000,9, -999.00,9, -999.00,9,  -999.0,9,  -999.0,-999.000,9,-999.000,-999.0000,-999.000,   1.5648,-999.000