BOTTLE,20211105CCHSIORKP
EXPOCODE,SECT_ID,STNNBR,CASTNO,SAMPNO,BTLNBR,BTLNBR_FLAG_W,DATE,TIME,LATITUDE,LONGITUDE,DEPTH,CTDPRS,CTDTMP,CTDSAL,CTDSAL_FLAG_W,SALNTY,SALNTY_FLAG_W,CTDOXY,CTDOXY_FLAG_W,OXYGEN,OXYGEN_FLAG_W,SILCAT,SILCAT_FLAG_W,NITRAT,NITRAT_FLAG_W,NITRIT,NITRIT_FLAG_W,PHSPHT,PHSPHT_FLAG_W,CFC-11,CFC-11_FLAG_W,CFC-12,CFC-12_FLAG_W,TRITUM,TRITUM_FLAG_W,HELIUM,HELIUM_FLAG_W,DELHE3,DELHE3_FLAG_W,DELC13,DELC13_FLAG_W,DELC14,DELC14_FLAG_W,C14ERR,NEON,NEON_FLAG_W,NEONER,HELIER,DELHER,THETA,TRITER
,,,,,,,,,,,METERS,DBAR,ITS-90,PSS-78,,PSS-78,,UMOL/KG,,UMOL/KG,,UMOL/KG,,UMOL/KG,,UMOL/KG,,UMOL/KG,,PMOL/KG,,PMOL/KG,,TU,,NMOL/KG,,PERCNT,,/MILLE,,/MILLE,,/MILLE,NMOL/KG,,NMOL/KG,NMOL/KG,PERCNT,DEG C,TU
  316N138_7,       P14C,      13,          1,          2,          2,2,19920903,       1201,   -31.7467,   175.7133,       3984,     2.6,  17.0794,  35.5822,2,  35.5828,2,    239.7,2,   237.5,2,    2.04,2,    1.54,2,    0.16,2,    0.25,2,-999.000,9,-999.000,9,-999.000,9,-999.0000,9, -999.00,9, -999.00,9,  -999.0,9,  -999.0,-999.000,9,-999.000,-999.0000,-999.000,  17.0789,-999.000
  316N138_7,       P14C,      13,          1,          3,          3,2,19920903,       1201,   -31.7467,   175.7133,       3984,    15.4,  17.0834,  35.5841,2,  35.5802,2,    240.1,2,   236.9,2,    2.04,2,    1.63,2,    0.16,2,    0.26,2,   2.470,2,   1.310,2,   0.861,2,   1.8140,2,   -1.20,2, -999.00,9,  -999.0,9,  -999.0,   7.462,2,   0.037,   0.0070,   0.110,  17.0808,   0.005
  316N138_7,       P14C,      13,          1,          4,          4,2,19920903,       1201,   -31.7467,   175.7133,       3984,    55.1,  16.3904,  35.5203,2,  35.5152,2,    227.1,2,   232.5,2,    2.45,2,    3.03,2,    0.20,2,    0.36,2,   2.464,2,   1.293,2,   0.799,2,   1.8210,2,   -1.14,2, -999.00,9,  -999.0,9,  -999.0,   7.474,2,   0.037,   0.0070,   0.110,  16.3815,   0.005
  316N138_7,       P14C,      13,          1,          5,          5,4,19920903,       1201,   -31.7467,   175.7133,       3984,   105.2,  15.9974,  35.4893,2,  34.9722,4,    236.1,2,   205.7,4,   23.67,4,   17.19,4,    0.10,4,    1.24,4,   1.155,4,   0.594,4,-999.000,9,-999.0000,9, -999.00,9, -999.00,9,  -999.0,9,  -999.0,-999.000,9,-999.000,-999.0000,-999.000,  15.9808,-999.000
  316N138_7,       P14C,      13,          1,          6,          6,4,19920903,       1201,   -31.7467,   175.7133,       3984,   156.3,  15.9744,  35.5119,2,  35.0235,4,    223.9,2,   204.4,4,   18.77,4,   15.68,4,    0.07,4,    1.16,4,-999.000,9,-999.000,9,-999.000,9,-999.0000,9, -999.00,9, -999.00,9,  -999.0,9,  -999.0,-999.000,9,-999.000,-999.0000,-999.000,  15.9497,-999.000
  316N138_7,       P14C,      13,          1,          7,          7,2,19920903,       1201,   -31.7467,   175.7133,       3984,   207.2,  14.5786,  35.3187,2,  35.3167,2,    201.0,2,   202.2,2,    4.90,2,    8.59,2,    0.02,2,    0.71,2,   2.155,2,   1.115,2,   0.658,2,   1.8380,2,   -0.35,2, -999.00,9,  -999.0,9,  -999.0,   7.608,2,   0.038,   0.0080,   0.110,  14.5478,   0.004
  316N138_7,       P14C,      13,          1,          8,          8,2,19920903,       1201,   -31.7467,   175.7133,       3984,   256.5,  13.3059,  35.1824,2,  35.1882,2,    193.4,2,   196.5,2,    5.71,2,   11.31,2,    0.01,2,    0.87,2,   1.959,2,   1.014,2,-999.000,9,-999.0000,9, -999.00,9, -999.00,9,  -999.0,9,  -999.0,-999.000,9,-999.000,-999.0000,-999.000,  13.2699,-999.000
  316N138_7,       P14C,      13,          1,          9,          9,2,19920903,       1201,   -31.7467,   175.7133,       3984,   306.2,  12.6540,  35.1118,2,  35.1035,2,    196.1,2,   194.7,2,    6.73,2,   13.01,2,    0.01,2,    0.98,2,   1.845,2,   0.937,2,   0.526,2,   1.8430,2,    0.32,2, -999.00,9,  -999.0,9,  -999.0,   7.731,2,   0.039,   0.0080,   0.110,  12.6124,   0.004
  316N138_7,       P14C,      13,          1,         10,         10,2,19920903,       1201,   -31.7467,   175.7133,       3984,   356.6,  11.6153,  34.9836,2,  34.9879,2,    193.0,2,   192.5,2,    7.75,2,   15.20,2,    0.01,2,    1.12,2,   1.587,2,   0.815,2,-999.000,9,-999.0000,9, -999.00,9, -999.00,9,  -999.0,9,  -999.0,-999.000,9,-999.000,-999.0000,-999.000,  11.5695,-999.000
  316N138_7,       P14C,      13,          1,         11,         11,9,19920903,       1201,   -31.7467,   175.7133,       3984,   407.8,  10.8056,  34.8946,2,-999.0000,9,    193.4,2,  -999.0,9, -999.00,9, -999.00,9, -999.00,9, -999.00,9,-999.000,9,-999.000,9,-999.000,9,-999.0000,9, -999.00,9, -999.00,9,  -999.0,9,  -999.0,-999.000,9,-999.000,-999.0000,-999.000,  10.7554,-999.000
  316N138_7,       P14C,      13,          1,         12,         12,2,19920903,       1201,   -31.7467,   175.7133,       3984,   457.3,   9.7859,  34.7708,2,  34.7776,2,    194.5,2,   193.6,2,   11.02,2,   19.13,2,    0.01,2,    1.35,2,   1.940,4,   0.608,4,   0.325,2,   1.8730,2,    1.50,2, -999.00,9,  -999.0,9,  -999.0,   7.927,2,   0.040,   0.0080,   0.110,   9.7330,   0.003
  316N138_7,       P14C,      13,          1,         13,         13,2,19920903,       1201,   -31.7467,   175.7133,       3984,   507.2,   9.0172,  34.6633,2,  34.6641,2,    198.4,2,   199.2,2,   10.61,2,   20.49,2,    0.01,2,    1.44,2,   0.995,2,   0.511,2,-999.000,9,-999.0000,9, -999.00,9, -999.00,9,  -999.0,9,  -999.0,-999.000,9,-999.000,-999.0000,-999.000,   8.9613,-999.000
  316N138_7,       P14C,      13,          1,         14,         14,2,19920903,       1201,   -31.7467,   175.7133,       3984,   606.2,   7.9057,  34.5568,2,  34.5560,2,    207.1,2,   205.0,2,   13.47,2,   22.63,2,    0.01,2,    1.60,2,   0.767,2,   0.404,2,   0.202,2,   1.8760,2,    1.65,2, -999.00,9,  -999.0,9,  -999.0,   8.008,2,   0.040,   0.0080,   0.110,   7.8436,   0.003
  316N138_7,       P14C,      13,          1,         15,         15,2,19920903,       1201,   -31.7467,   175.7133,       3984,   710.4,   7.0022,  34.4859,2,  34.4892,2,    204.6,2,   204.5,2,   17.96,2,   24.68,2,    0.01,2,    1.73,2,   0.495,2,   0.262,2,-999.000,9,-999.0000,9, -999.00,9, -999.00,9,  -999.0,9,  -999.0,-999.000,9,-999.000,-999.0000,-999.000,   6.9337,-999.000
  316N138_7,       P14C,      13,          1,         16,         16,2,19920903,       1201,   -31.7467,   175.7133,       3984,   809.5,   6.2236,  34.4342,2,  34.4345,2,    200.2,2,   202.2,2,   23.68,2,   26.87,2,    0.00,2,    1.88,2,   0.288,2,   0.181,2,   0.088,2,   1.8850,2,    2.96,2, -999.00,9,  -999.0,9,  -999.0,   8.106,2,   0.041,   0.0080,   0.110,   6.1498,   0.002
  316N138_7,       P14C,      13,          1,         17,         17,2,19920903,       1201,   -31.7467,   175.7133,       3984,   911.1,   5.8788,  34.4646,2,  34.4646,2,    188.8,2,   192.0,2,   32.25,2,   28.09,2,    0.00,2,    1.93,2,-999.000,9,-999.000,9,-999.000,9,-999.0000,9, -999.00,9, -999.00,9,  -999.0,9,  -999.0,-999.000,9,-999.000,-999.0000,-999.000,   5.7974,-999.000
  316N138_7,       P14C,      13,          1,         18,         18,2,19920903,       1201,   -31.7467,   175.7133,       3984,  1010.4,   5.2911,  34.4763,2,  34.4774,2,    185.4,2,   184.0,2,   43.28,2,   29.67,2,    0.00,2,    2.04,2,   0.162,2,   0.089,2,   0.052,2,   1.9230,2,    6.60,2, -999.00,9,  -999.0,9,  -999.0,   8.254,2,   0.041,   0.0080,   0.110,   5.2047,   0.002
  316N138_7,       P14C,      13,          1,         19,         19,2,19920903,       1201,   -31.7467,   175.7133,       3984,  1109.7,   4.7504,  34.4968,2,  34.4964,2,    178.9,2,   178.0,2,   54.31,2,   30.76,2,    0.00,2,    2.13,2,   0.125,2,   0.085,2,-999.000,9,-999.0000,9, -999.00,9, -999.00,9,  -999.0,9,  -999.0,-999.000,9,-999.000,-999.0000,-999.000,   4.6592,-999.000
  316N138_7,       P14C,      13,          1,         20,         20,2,19920903,       1201,   -31.7467,   175.7133,       3984,  1211.2,   4.3856,  34.5104,2,  34.5105,2,    172.7,2,   173.5,2,   62.29,2,   31.85,2,    0.00,2,    2.19,2,   0.092,2,   0.054,2,   0.036,2,   1.9420,2,   10.28,2, -999.00,9,  -999.0,9,  -999.0,   8.309,2,   0.042,   0.0080,   0.110,   4.2885,   0.002
  316N138_7,       P14C,      13,          1,         21,         21,2,19920903,       1201,   -31.7467,   175.7133,       3984,  1315.6,   4.0408,  34.5280,2,  34.5291,2,    169.6,2,   170.1,2,   70.28,2,   32.55,2,    0.00,2,    2.24,2,-999.000,9,-999.000,9,-999.000,9,-999.0000,9, -999.00,9, -999.00,9,  -999.0,9,  -999.0,-999.000,9,-999.000,-999.0000,-999.000,   3.9378,-999.000
  316N138_7,       P14C,      13,          1,         22,         22,2,19920903,       1201,   -31.7467,   175.7133,       3984,  1414.9,   3.6601,  34.5424,2,  34.5416,2,    167.6,2,   166.5,2,   77.87,2,   33.25,2,    0.00,2,    2.29,2,   0.044,2,   0.022,2,   0.019,2,   1.9570,2,   13.30,2, -999.00,9,  -999.0,9,  -999.0,   8.356,2,   0.042,   0.0080,   0.110,   3.5522,   0.002
  316N138_7,       P14C,      13,          1,         23,         23,2,19920903,       1201,   -31.7467,   175.7133,       3984,  1516.8,   3.4103,  34.5602,2,  34.5581,2,    162.9,2,   163.9,2,   85.79,2,   33.73,2,    0.00,2,    2.33,2,   0.034,6,   0.025,6,-999.000,9,-999.0000,9, -999.00,9, -999.00,9,  -999.0,9,  -999.0,-999.000,9,-999.000,-999.0000,-999.000,   3.2963,-999.000
  316N138_7,       P14C,      13,          1,         24,         24,2,19920903,       1201,   -31.7467,   175.7133,       3984,  1617.5,   3.1145,  34.5790,2,  34.5794,2,    160.4,2,   160.7,2,   91.84,2,   34.12,2,    0.00,2,    2.36,2,   0.023,4,   0.025,4,   0.016,2,   1.9680,2,   15.78,2, -999.00,9,  -999.0,9,  -999.0,   8.396,2,   0.042,   0.0080,   0.110,   2.9953,   0.002
  316N138_7,       P14C,      13,          1,         25,         25,2,19920903,       1201,   -31.7467,   175.7133,       3984,  1820.0,   2.7017,  34.6057,2,  34.6059,2,    157.6,2,   157.4,2,  102.67,2,   34.86,2,    0.00,2,    2.41,2,   0.009,2,   0.008,2,   0.008,2,   1.9840,2,   18.24,2, -999.00,9,  -999.0,9,  -999.0,   8.435,2,   0.042,   0.0080,   0.110,   2.5705,   0.002
  316N138_7,       P14C,      13,          1,         26,         26,2,19920903,       1201,   -31.7467,   175.7133,       3984,  2023.0,   2.3930,  34.6289,2,  34.6281,2,    155.0,2,   154.3,2,  111.35,2,   35.25,2,    0.00,2,    2.45,2,   0.001,2,   0.006,2,   0.007,2,   2.0040,2,   20.23,2, -999.00,9,  -999.0,9,  -999.0,   8.529,2,   0.043,   0.0080,   0.110,   2.2486,   0.002
  316N138_7,       P14C,      13,          1,         27,         27,2,19920903,       1201,   -31.7467,   175.7133,       3984,  2225.3,   2.1981,  34.6454,2,  34.6436,2,    154.6,2,   153.3,2,  116.93,2,   35.37,2,    0.00,2,    2.46,2,-999.000,9,-999.000,9,   0.002,2,   1.9960,2,   20.67,2, -999.00,9,  -999.0,9,  -999.0,   8.532,2,   0.043,   0.0080,   0.110,   2.0390,   0.002
  316N138_7,       P14C,      13,          1,         28,         28,2,19920903,       1201,   -31.7467,   175.7133,       3984,  2428.4,   2.0732,  34.6566,2,  34.6569,2,    154.1,2,   153.9,2,  119.79,2,   35.45,2,    0.00,2,    2.47,2,-999.000,9,-999.000,9,   0.014,2,   1.9930,2,   20.23,2, -999.00,9,  -999.0,9,  -999.0,   8.508,2,   0.043,   0.0080,   0.110,   1.8981,   0.002
  316N138_7,       P14C,      13,          1,         29,         29,2,19920903,       1201,   -31.7467,   175.7133,       3984,  2633.2,   1.9503,  34.6673,2,  34.6679,2,    153.5,2,   154.5,2,  123.14,2,   35.44,2,    0.00,2,    2.48,2,   0.000,2,   0.003,2,   0.014,2,   2.0070,2,   19.61,2, -999.00,9,  -999.0,9,  -999.0,   8.553,2,   0.043,   0.0080,   0.110,   1.7586,   0.002
  316N138_7,       P14C,      13,          1,         30,         30,2,19920903,       1201,   -31.7467,   175.7133,       3984,  2837.8,   1.8783,  34.6755,2,  34.6749,2,    155.3,2,   154.8,2,  124.88,2,   35.47,2,    0.00,2,    2.47,2,-999.000,9,-999.000,9,-999.000,9,-999.0000,9, -999.00,9, -999.00,9,  -999.0,9,  -999.0,-999.000,9,-999.000,-999.0000,-999.000,   1.6689,-999.000
  316N138_7,       P14C,      13,          1,         31,         31,2,19920903,       1201,   -31.7467,   175.7133,       3984,  3040.7,   1.8513,  34.6784,2,  34.6786,2,    153.9,2,   155.0,2,  125.94,2,   35.32,2,    0.00,2,    2.48,2,-999.000,9,-999.000,9,-999.000,9,-999.0000,9, -999.00,9, -999.00,9,  -999.0,9,  -999.0,-999.000,9,-999.000,-999.0000,-999.000,   1.6228,-999.000
  316N138_7,       P14C,      13,          1,         32,         32,2,19920903,       1201,   -31.7467,   175.7133,       3984,  3243.6,   1.8394,  34.6802,2,  34.6808,2,    155.0,2,   155.1,2,  127.00,2,   35.62,2,    0.00,2,    2.48,2,   0.004,2,   0.006,2,-999.000,9,-999.0000,9, -999.00,9, -999.00,9,  -999.0,9,  -999.0,-999.000,9,-999.000,-999.0000,-999.000,   1.5910,-999.000
  316N138_7,       P14C,      13,          1,         33,         33,2,19920903,       1201,   -31.7467,   175.7133,       3984,  3448.2,   1.8503,  34.6815,2,  34.6825,2,    154.7,2,   155.3,2,  127.37,2,   35.52,2,    0.00,2,    2.47,2,-999.000,9,-999.000,9,-999.000,9,-999.0000,9, -999.00,9, -999.00,9,  -999.0,9,  -999.0,-999.000,9,-999.000,-999.0000,-999.000,   1.5808,-999.000
  316N138_7,       P14C,      13,          1,         34,         34,2,19920903,       1201,   -31.7467,   175.7133,       3984,  3650.8,   1.8623,  34.6828,2,  34.6823,2,    155.0,2,   155.0,2,  127.49,2,   35.64,2,    0.00,2,    2.47,2,   0.004,2,   0.007,2,-999.000,9,-999.0000,9, -999.00,9, -999.00,9,  -999.0,9,  -999.0,-999.000,9,-999.000,-999.0000,-999.000,   1.5712,-999.000
  316N138_7,       P14C,      13,          1,         35,         35,9,19920903,       1201,   -31.7467,   175.7133,       3984,  3856.5,   1.8793,  34.6826,2,-999.0000,9,    155.5,2,  -999.0,9, -999.00,9, -999.00,9, -999.00,9, -999.00,9,-999.000,9,-999.000,9,-999.000,9,-999.0000,9, -999.00,9, -999.00,9,  -999.0,9,  -999.0,-999.000,9,-999.000,-999.0000,-999.000,   1.5656,-999.000
  316N138_7,       P14C,      13,          1,         37,         37,2,19920903,       1201,   -31.7467,   175.7133,       3984,  4028.3,   1.8993,  34.6838,2,  34.6833,2,    155.5,2,   154.9,2,  127.85,2,   35.50,2,    0.00,2,    2.48,2,   0.004,2,   0.006,2,-999.000,9,-999.0000,9, -999.00,9, -999.00,9,  -999.0,9,  -999.0,-999.000,9,-999.000,-999.0000,-999.000,   1.5660,-999.000