BOTTLE,20211105CCHSIORKP
EXPOCODE,SECT_ID,STNNBR,CASTNO,SAMPNO,BTLNBR,BTLNBR_FLAG_W,DATE,TIME,LATITUDE,LONGITUDE,DEPTH,CTDPRS,CTDTMP,CTDSAL,CTDSAL_FLAG_W,SALNTY,SALNTY_FLAG_W,CTDOXY,CTDOXY_FLAG_W,OXYGEN,OXYGEN_FLAG_W,SILCAT,SILCAT_FLAG_W,NITRAT,NITRAT_FLAG_W,NITRIT,NITRIT_FLAG_W,PHSPHT,PHSPHT_FLAG_W,CFC-11,CFC-11_FLAG_W,CFC-12,CFC-12_FLAG_W,TRITUM,TRITUM_FLAG_W,HELIUM,HELIUM_FLAG_W,DELHE3,DELHE3_FLAG_W,DELC13,DELC13_FLAG_W,DELC14,DELC14_FLAG_W,C14ERR,NEON,NEON_FLAG_W,NEONER,HELIER,DELHER,THETA,TRITER
,,,,,,,,,,,METERS,DBAR,ITS-90,PSS-78,,PSS-78,,UMOL/KG,,UMOL/KG,,UMOL/KG,,UMOL/KG,,UMOL/KG,,UMOL/KG,,PMOL/KG,,PMOL/KG,,TU,,NMOL/KG,,PERCNT,,/MILLE,,/MILLE,,/MILLE,NMOL/KG,,NMOL/KG,NMOL/KG,PERCNT,DEG C,TU
  316N138_7,       P14C,      12,          1,          2,          2,2,19920903,       0616,   -32.1800,   175.6383,     -999.0,     2.0,  16.6261,  35.5638,2,  35.5650,2,    241.7,2,  -999.0,9,    1.86,2,    1.76,2,    0.11,2,    0.26,2,-999.000,9,-999.000,9,-999.000,9,-999.0000,9, -999.00,9,    1.45,2,   105.6,2,     3.0,-999.000,9,-999.000,-999.0000,-999.000,  16.6258,-999.000
  316N138_7,       P14C,      12,          1,          3,          3,2,19920903,       0616,   -32.1800,   175.6383,     -999.0,    16.8,  16.4933,  35.5616,2,  35.5620,2,    246.9,2,   246.1,2,    1.66,2,    1.66,2,    0.11,2,    0.26,2,-999.000,9,-999.000,9,-999.000,9,-999.0000,9, -999.00,9, -999.00,9,  -999.0,9,  -999.0,-999.000,9,-999.000,-999.0000,-999.000,  16.4906,-999.000
  316N138_7,       P14C,      12,          1,          4,          4,2,19920903,       0616,   -32.1800,   175.6383,     -999.0,    57.1,  16.1816,  35.5295,2,  35.5260,2,    231.9,2,   242.8,2,    2.05,2,    2.25,2,    0.14,2,    0.31,2,-999.000,9,-999.000,9,-999.000,9,-999.0000,9, -999.00,9,    1.42,2,   106.1,2,     3.0,-999.000,9,-999.000,-999.0000,-999.000,  16.1725,-999.000
  316N138_7,       P14C,      12,          1,          5,          5,2,19920903,       0616,   -32.1800,   175.6383,     -999.0,   106.7,  16.0140,  35.5120,2,  35.5120,2,    235.4,2,   236.8,2,    2.25,2,    2.64,2,    0.21,2,    0.33,2,-999.000,9,-999.000,9,-999.000,9,-999.0000,9, -999.00,9,    1.33,2,   103.2,2,     2.8,-999.000,9,-999.000,-999.0000,-999.000,  15.9971,-999.000
  316N138_7,       P14C,      12,          1,          6,          6,2,19920903,       0616,   -32.1800,   175.6383,     -999.0,   157.3,  15.4466,  35.4279,2,  35.4220,2,    221.1,2,   219.9,2,    3.03,2,    5.47,2,    0.04,2,    0.49,2,-999.000,9,-999.000,9,-999.000,9,-999.0000,9, -999.00,9, -999.00,9,  -999.0,9,  -999.0,-999.000,9,-999.000,-999.0000,-999.000,  15.4223,-999.000
  316N138_7,       P14C,      12,          1,          7,          7,2,19920903,       0616,   -32.1800,   175.6383,     -999.0,   206.9,  14.2293,  35.2859,2,  35.2870,2,    204.8,2,   202.0,2,    4.20,2,    8.79,2,    0.02,2,    0.69,2,-999.000,9,-999.000,9,-999.000,9,-999.0000,9, -999.00,9,    1.23,2,    85.0,2,     2.7,-999.000,9,-999.000,-999.0000,-999.000,  14.1990,-999.000
  316N138_7,       P14C,      12,          1,          8,          8,2,19920903,       0616,   -32.1800,   175.6383,     -999.0,   257.2,  13.1297,  35.1619,2,  35.1560,2,    191.2,2,   195.6,2,    5.67,2,   11.82,2,    0.01,2,    0.88,2,-999.000,9,-999.000,9,-999.000,9,-999.0000,9, -999.00,9, -999.00,9,  -999.0,9,  -999.0,-999.000,9,-999.000,-999.0000,-999.000,  13.0940,-999.000
  316N138_7,       P14C,      12,          1,          9,          9,2,19920903,       0616,   -32.1800,   175.6383,     -999.0,   307.3,  12.1998,  35.0544,2,  35.0510,2,    195.7,2,   193.0,2,    6.25,2,   13.78,2,    0.01,2,    0.99,2,-999.000,9,-999.000,9,-999.000,9,-999.0000,9, -999.00,9,    1.20,2,    52.9,2,     2.7,-999.000,9,-999.000,-999.0000,-999.000,  12.1590,-999.000
  316N138_7,       P14C,      12,          1,         10,         10,2,19920903,       0616,   -32.1800,   175.6383,     -999.0,   358.1,  11.4233,  34.9602,2,  34.9610,2,    193.7,2,   192.7,2,    7.62,2,   15.34,2,    0.01,2,    1.10,2,-999.000,9,-999.000,9,-999.000,9,-999.0000,9, -999.00,9, -999.00,9,  -999.0,9,  -999.0,-999.000,9,-999.000,-999.0000,-999.000,  11.3777,-999.000
  316N138_7,       P14C,      12,          1,         11,         11,9,19920903,       0616,   -32.1800,   175.6383,     -999.0,   408.1,  10.5808,  34.8670,2,-999.0000,9,    192.5,2,  -999.0,9, -999.00,9, -999.00,9, -999.00,9, -999.00,9,-999.000,9,-999.000,9,-999.000,9,-999.0000,9, -999.00,9, -999.00,9,  -999.0,9,  -999.0,-999.000,9,-999.000,-999.0000,-999.000,  10.5313,-999.000
  316N138_7,       P14C,      12,          1,         13,         13,2,19920903,       0616,   -32.1800,   175.6383,     -999.0,   509.0,   9.1383,  34.6972,2,  34.6940,2,    197.9,2,   197.3,2,   11.44,2,   20.23,2,    0.01,2,    1.40,2,-999.000,9,-999.000,9,-999.000,9,-999.0000,9, -999.00,9,    1.24,2,     1.2,2,     3.7,-999.000,9,-999.000,-999.0000,-999.000,   9.0817,-999.000
  316N138_7,       P14C,      12,          1,         14,         14,2,19920903,       0616,   -32.1800,   175.6383,     -999.0,   608.3,   8.3531,  34.6379,2,  34.6440,2,    194.4,2,   194.7,2,   15.64,2,   22.19,2,    0.00,2,    1.52,2,-999.000,9,-999.000,9,-999.000,9,-999.0000,9, -999.00,9, -999.00,9,  -999.0,9,  -999.0,-999.000,9,-999.000,-999.0000,-999.000,   8.2887,-999.000
  316N138_7,       P14C,      12,          1,         15,         15,2,19920903,       0616,   -32.1800,   175.6383,     -999.0,   709.3,   7.1852,  34.5152,2,  34.5180,2,    201.4,2,   200.8,2,   18.28,2,   24.24,2,    0.00,2,    1.67,2,-999.000,9,-999.000,9,-999.000,9,-999.0000,9, -999.00,9,    1.19,2,   -47.1,2,     2.6,-999.000,9,-999.000,-999.0000,-999.000,   7.1158,-999.000
  316N138_7,       P14C,      12,          1,         16,         16,2,19920903,       0616,   -32.1800,   175.6383,     -999.0,   809.5,   6.4534,  34.4821,2,  34.4840,2,    194.4,2,   199.2,2,   25.03,2,   26.20,2,    0.00,2,    1.81,2,-999.000,9,-999.000,9,-999.000,9,-999.0000,9, -999.00,9, -999.00,9,  -999.0,9,  -999.0,-999.000,9,-999.000,-999.0000,-999.000,   6.3782,-999.000
  316N138_7,       P14C,      12,          1,         17,         17,2,19920903,       0616,   -32.1800,   175.6383,     -999.0,   910.9,   5.6214,  34.4398,2,  34.4400,2,    190.1,2,   192.3,2,   32.07,2,   28.45,2,    0.00,2,    1.95,2,-999.000,9,-999.000,9,-999.000,9,-999.0000,9, -999.00,9,    1.04,2,   -91.2,2,     2.5,-999.000,9,-999.000,-999.0000,-999.000,   5.5419,-999.000
  316N138_7,       P14C,      12,          1,         18,         18,2,19920903,       0616,   -32.1800,   175.6383,     -999.0,  1011.3,   5.1611,  34.4763,2,  34.4780,2,    185.1,2,   182.4,2,   43.89,2,   29.52,2,    0.00,2,    2.03,2,-999.000,9,-999.000,9,-999.000,9,-999.0000,9, -999.00,9, -999.00,9,  -999.0,9,  -999.0,-999.000,9,-999.000,-999.0000,-999.000,   5.0755,-999.000
  316N138_7,       P14C,      12,          1,         19,         19,2,19920903,       0616,   -32.1800,   175.6383,     -999.0,  1112.5,   4.6444,  34.4937,2,  34.4950,2,    177.2,2,   176.9,2,   54.16,2,   30.79,2,    0.00,2,    2.12,2,   0.097,2,   0.051,2,-999.000,9,-999.0000,9, -999.00,9, -999.00,9,  -999.0,9,  -999.0,-999.000,9,-999.000,-999.0000,-999.000,   4.5538,-999.000
  316N138_7,       P14C,      12,          1,         20,         20,2,19920903,       0616,   -32.1800,   175.6383,     -999.0,  1213.4,   4.1067,  34.5251,2,  34.5260,2,    169.2,2,   170.1,2,   67.06,2,   31.77,2,    0.00,2,    2.20,2,-999.000,9,-999.000,9,-999.000,9,-999.0000,9, -999.00,9,    0.71,2,  -147.3,2,     2.5,-999.000,9,-999.000,-999.0000,-999.000,   4.0119,-999.000
  316N138_7,       P14C,      12,          1,         21,         21,2,19920903,       0616,   -32.1800,   175.6383,     -999.0,  1316.2,   3.7221,  34.5419,2,  34.5390,2,    168.4,2,   166.8,2,   74.78,2,   32.45,2,    0.00,2,    2.26,2,-999.000,9,-999.000,9,-999.000,9,-999.0000,9, -999.00,9, -999.00,9,  -999.0,9,  -999.0,-999.000,9,-999.000,-999.0000,-999.000,   3.6221,-999.000
  316N138_7,       P14C,      12,          1,         22,         22,2,19920903,       0616,   -32.1800,   175.6383,     -999.0,  1415.5,   3.4090,  34.5602,2,  34.5580,2,    163.7,2,   163.9,2,   82.70,2,   32.94,2,    0.00,2,    2.28,2,-999.000,9,-999.000,9,-999.000,9,-999.0000,9, -999.00,9, -999.00,9,  -999.0,9,  -999.0,-999.000,9,-999.000,-999.0000,-999.000,   3.3037,-999.000
  316N138_7,       P14C,      12,          1,         23,         23,2,19920903,       0616,   -32.1800,   175.6383,     -999.0,  1515.6,   3.1153,  34.5781,2,  34.5780,2,    161.0,2,   160.8,2,   89.64,2,   33.43,2,    0.00,2,    2.32,2,   0.024,2,   0.009,2,-999.000,9,-999.0000,9, -999.00,9,    0.52,2,  -171.3,2,     3.9,-999.000,9,-999.000,-999.0000,-999.000,   3.0048,-999.000
  316N138_7,       P14C,      12,          1,         24,         24,2,19920903,       0616,   -32.1800,   175.6383,     -999.0,  1619.0,   2.8924,  34.5912,2,  34.5910,2,    160.1,2,   158.7,2,   95.70,2,   33.82,2,    0.00,2,    2.36,2,-999.000,9,-999.000,9,-999.000,9,-999.0000,9, -999.00,9, -999.00,9,  -999.0,9,  -999.0,-999.000,9,-999.000,-999.0000,-999.000,   2.7758,-999.000
  316N138_7,       P14C,      12,          1,         25,         25,2,19920903,       0616,   -32.1800,   175.6383,     -999.0,  1822.2,   2.5687,  34.6148,2,  34.6170,2,    154.6,2,   155.7,2,  104.78,2,   34.31,2,    0.00,2,    2.39,2,-999.000,9,-999.000,9,-999.000,9,-999.0000,9, -999.00,9,    0.41,2,  -188.5,2,     3.0,-999.000,9,-999.000,-999.0000,-999.000,   2.4391,-999.000
  316N138_7,       P14C,      12,          1,         26,         26,2,19920903,       0616,   -32.1800,   175.6383,     -999.0,  2025.9,   2.3532,  34.6323,2,  34.6330,2,    155.0,2,   154.0,2,  111.43,2,   34.70,2,    0.00,2,    2.41,2,-999.000,9,-999.000,9,-999.000,9,-999.0000,9, -999.00,9, -999.00,9,  -999.0,9,  -999.0,-999.000,9,-999.000,-999.0000,-999.000,   2.2091,-999.000
  316N138_7,       P14C,      12,          1,         27,         27,2,19920903,       0616,   -32.1800,   175.6383,     -999.0,  2228.8,   2.1822,  34.6473,2,  34.6470,2,    153.7,2,   153.7,2,  115.73,2,   34.70,2,    0.00,2,    2.42,2,   0.007,2,   0.005,2,-999.000,9,-999.0000,9, -999.00,9, -999.00,9,  -999.0,9,  -999.0,-999.000,9,-999.000,-999.0000,-999.000,   2.0231,-999.000
  316N138_7,       P14C,      12,          1,         28,         28,2,19920903,       0616,   -32.1800,   175.6383,     -999.0,  2430.8,   2.0316,  34.6610,2,  34.6630,2,    152.3,2,   154.0,2,  120.62,2,   34.89,2,    0.00,2,    2.42,2,-999.000,9,-999.000,9,-999.000,9,-999.0000,9, -999.00,9,    0.20,2,  -206.4,2,     2.4,-999.000,9,-999.000,-999.0000,-999.000,   1.8570,-999.000
  316N138_7,       P14C,      12,          1,         29,         29,2,19920903,       0616,   -32.1800,   175.6383,     -999.0,  2634.1,   1.9239,  34.6702,2,  34.6710,2,    153.6,2,   154.4,2,  122.96,2,   34.89,2,    0.00,2,    2.42,2,-999.000,9,-999.000,9,-999.000,9,-999.0000,9, -999.00,9, -999.00,9,  -999.0,9,  -999.0,-999.000,9,-999.000,-999.0000,-999.000,   1.7327,-999.000
  316N138_7,       P14C,      12,          1,         30,         30,2,19920903,       0616,   -32.1800,   175.6383,     -999.0,  2837.0,   1.8652,  34.6763,2,  34.6780,2,    153.8,2,   154.8,2,  124.82,2,   34.89,2,    0.00,2,    2.42,2,-999.000,9,-999.000,9,-999.000,9,-999.0000,9, -999.00,9,    0.26,2,  -201.4,2,     2.4,-999.000,9,-999.000,-999.0000,-999.000,   1.6561,-999.000
  316N138_7,       P14C,      12,          1,         31,         31,2,19920903,       0616,   -32.1800,   175.6383,     -999.0,  3040.8,   1.8424,  34.6794,2,  34.6790,2,    155.1,2,   155.3,2,  125.70,2,   34.89,2,    0.00,2,    2.42,2,  -0.002,2,  -0.006,2,-999.000,9,-999.0000,9, -999.00,9, -999.00,9,  -999.0,9,  -999.0,-999.000,9,-999.000,-999.0000,-999.000,   1.6140,-999.000
  316N138_7,       P14C,      12,          1,         32,         32,2,19920903,       0616,   -32.1800,   175.6383,     -999.0,  3244.9,   1.8452,  34.6806,2,  34.6810,2,    155.4,2,   155.0,2,  126.09,2,   34.89,2,    0.00,2,    2.42,2,-999.000,9,-999.000,9,-999.000,9,-999.0000,9, -999.00,9, -999.00,9,  -999.0,9,  -999.0,-999.000,9,-999.000,-999.0000,-999.000,   1.5966,-999.000
  316N138_7,       P14C,      12,          1,         33,         33,2,19920903,       0616,   -32.1800,   175.6383,     -999.0,  3447.4,   1.8485,  34.6828,2,  34.6830,2,    154.8,2,   155.0,2,  126.58,2,   34.89,2,    0.00,2,    2.42,2,-999.000,9,-999.000,9,-999.000,9,-999.0000,9, -999.00,9,    0.18,2,  -206.4,2,     2.2,-999.000,9,-999.000,-999.0000,-999.000,   1.5791,-999.000
  316N138_7,       P14C,      12,          1,         34,         34,2,19920903,       0616,   -32.1800,   175.6383,     -999.0,  3651.4,   1.8599,  34.6823,2,  34.6850,2,    155.2,2,   155.2,2,  127.36,2,   34.99,2,    0.00,2,    2.43,2,   0.002,2,   0.003,2,-999.000,9,-999.0000,9, -999.00,9,    0.23,2,  -201.7,2,     2.2,-999.000,9,-999.000,-999.0000,-999.000,   1.5688,-999.000
  316N138_7,       P14C,      12,          1,         35,         35,2,19920903,       0616,   -32.1800,   175.6383,     -999.0,  3855.3,   1.8773,  34.6828,2,  34.6830,2,    155.6,2,   154.7,2,  127.36,2,   34.99,2,    0.00,2,    2.43,2,-999.000,9,-999.000,9,-999.000,9,-999.0000,9, -999.00,9, -999.00,9,  -999.0,9,  -999.0,-999.000,9,-999.000,-999.0000,-999.000,   1.5638,-999.000
  316N138_7,       P14C,      12,          1,         36,         36,2,19920903,       0616,   -32.1800,   175.6383,     -999.0,  3970.4,   1.8901,  34.6837,2,-999.0000,9,    154.5,2,   154.3,2,  127.46,2,   34.99,2,    0.00,2,    2.43,2,  -0.002,2,  -0.001,2,-999.000,9,-999.0000,9, -999.00,9,    0.19,2,  -203.7,2,     2.2,-999.000,9,-999.000,-999.0000,-999.000,   1.5635,-999.000