BOTTLE,20211105CCHSIORKP
EXPOCODE,SECT_ID,STNNBR,CASTNO,SAMPNO,BTLNBR,BTLNBR_FLAG_W,DATE,TIME,LATITUDE,LONGITUDE,DEPTH,CTDPRS,CTDTMP,CTDSAL,CTDSAL_FLAG_W,SALNTY,SALNTY_FLAG_W,CTDOXY,CTDOXY_FLAG_W,OXYGEN,OXYGEN_FLAG_W,SILCAT,SILCAT_FLAG_W,NITRAT,NITRAT_FLAG_W,NITRIT,NITRIT_FLAG_W,PHSPHT,PHSPHT_FLAG_W,CFC-11,CFC-11_FLAG_W,CFC-12,CFC-12_FLAG_W,TRITUM,TRITUM_FLAG_W,HELIUM,HELIUM_FLAG_W,DELHE3,DELHE3_FLAG_W,DELC13,DELC13_FLAG_W,DELC14,DELC14_FLAG_W,C14ERR,NEON,NEON_FLAG_W,NEONER,HELIER,DELHER,THETA,TRITER
,,,,,,,,,,,METERS,DBAR,ITS-90,PSS-78,,PSS-78,,UMOL/KG,,UMOL/KG,,UMOL/KG,,UMOL/KG,,UMOL/KG,,UMOL/KG,,PMOL/KG,,PMOL/KG,,TU,,NMOL/KG,,PERCNT,,/MILLE,,/MILLE,,/MILLE,NMOL/KG,,NMOL/KG,NMOL/KG,PERCNT,DEG C,TU
  316N138_7,       P14C,      50,          1,         18,         18,2,19920911,       2038,   -18.6600,   177.8767,       1127,     2.2,  25.0375,  35.6745,2,  35.6764,2,    203.7,2,   208.3,2,    1.65,2,    0.04,2,    0.00,2,    0.15,2,-999.000,9,-999.000,9,-999.000,9,-999.0000,9, -999.00,9, -999.00,9,  -999.0,9,  -999.0,-999.000,9,-999.000,-999.0000,-999.000,  25.0371,-999.000
  316N138_7,       P14C,      50,          1,         20,         20,2,19920911,       2038,   -18.6600,   177.8767,       1127,    14.8,  25.0418,  35.6745,2,  35.6780,2,    207.4,2,  -999.0,9, -999.00,9, -999.00,9, -999.00,9, -999.00,9,-999.000,9,-999.000,9,-999.000,9,-999.0000,9, -999.00,9, -999.00,9,  -999.0,9,  -999.0,-999.000,9,-999.000,-999.0000,-999.000,  25.0386,-999.000
  316N138_7,       P14C,      50,          1,         19,         19,2,19920911,       2038,   -18.6600,   177.8767,       1127,    15.0,  25.0402,  35.6743,2,  35.6780,2,    207.4,2,   208.3,2,    1.64,2,    0.04,2,    0.00,2,    0.14,2,-999.000,9,-999.000,9,-999.000,9,-999.0000,9, -999.00,9, -999.00,9,  -999.0,9,  -999.0,-999.000,9,-999.000,-999.0000,-999.000,  25.0370,-999.000
  316N138_7,       P14C,      50,          1,         21,         21,2,19920911,       2038,   -18.6600,   177.8767,       1127,    54.6,  25.0516,  35.6741,2,  35.6791,2,    209.0,2,   207.7,2,    1.62,2,    0.04,2,    0.00,2,    0.14,2,-999.000,9,-999.000,9,-999.000,9,-999.0000,9, -999.00,9, -999.00,9,  -999.0,9,  -999.0,-999.000,9,-999.000,-999.0000,-999.000,  25.0397,-999.000
  316N138_7,       P14C,      50,          1,         22,         22,2,19920911,       2038,   -18.6600,   177.8767,       1127,   104.1,  24.5553,  35.7029,2,  35.7081,2,    201.9,2,   206.3,2,    1.42,2,    0.04,2,    0.00,2,    0.13,2,-999.000,9,-999.000,9,-999.000,9,-999.0000,9, -999.00,9, -999.00,9,  -999.0,9,  -999.0,-999.000,9,-999.000,-999.0000,-999.000,  24.5330,-999.000
  316N138_7,       P14C,      50,          1,         23,         23,2,19920911,       2038,   -18.6600,   177.8767,       1127,   154.0,  23.7276,  35.7232,2,  35.7239,2,    196.5,2,   194.9,2,    1.40,2,    0.74,2,    0.09,2,    0.19,2,-999.000,9,-999.000,9,-999.000,9,-999.0000,9, -999.00,9, -999.00,9,  -999.0,9,  -999.0,-999.000,9,-999.000,-999.0000,-999.000,  23.6953,-999.000
  316N138_7,       P14C,      50,          1,         24,         24,2,19920911,       2038,   -18.6600,   177.8767,       1127,   204.7,  21.2986,  35.7393,2,  35.7442,2,    169.4,2,   171.8,2,    1.39,2,    3.36,2,    0.01,2,    0.38,2,-999.000,9,-999.000,9,-999.000,9,-999.0000,9, -999.00,9, -999.00,9,  -999.0,9,  -999.0,-999.000,9,-999.000,-999.0000,-999.000,  21.2589,-999.000
  316N138_7,       P14C,      50,          1,         25,         25,2,19920911,       2038,   -18.6600,   177.8767,       1127,   254.3,  19.0090,  35.6096,2,  35.6137,2,    176.1,2,   174.2,2,    1.76,2,    4.96,2,    0.01,2,    0.49,2,-999.000,9,-999.000,9,-999.000,9,-999.0000,9, -999.00,9, -999.00,9,  -999.0,9,  -999.0,-999.000,9,-999.000,-999.0000,-999.000,  18.9634,-999.000
  316N138_7,       P14C,      50,          1,         26,         26,2,19920911,       2038,   -18.6600,   177.8767,       1127,   305.5,  16.5191,  35.3872,2,  35.3890,2,    176.0,2,   177.2,2,    2.92,2,    7.51,2,    0.00,2,    0.66,2,-999.000,9,-999.000,9,-999.000,9,-999.0000,9, -999.00,9, -999.00,9,  -999.0,9,  -999.0,-999.000,9,-999.000,-999.0000,-999.000,  16.4694,-999.000
  316N138_7,       P14C,      50,          1,         27,         27,2,19920911,       2038,   -18.6600,   177.8767,       1127,   355.6,  14.3692,  35.1350,2,  35.1407,2,    169.0,2,   169.5,2,    5.23,2,   11.70,2,    0.00,2,    0.95,2,-999.000,9,-999.000,9,-999.000,9,-999.0000,9, -999.00,9, -999.00,9,  -999.0,9,  -999.0,-999.000,9,-999.000,-999.0000,-999.000,  14.3165,-999.000
  316N138_7,       P14C,      50,          1,         40,         40,2,19920911,       2038,   -18.6600,   177.8767,       1127,   404.7,  11.9480,  34.8869,2,  34.9016,2,    174.3,2,   173.7,2,    7.54,2,   15.72,2,    0.00,2,    1.19,2,-999.000,9,-999.000,9,-999.000,9,-999.0000,9, -999.00,9, -999.00,9,  -999.0,9,  -999.0,-999.000,9,-999.000,-999.0000,-999.000,  11.8950,-999.000
  316N138_7,       P14C,      50,          1,         29,         29,2,19920911,       2038,   -18.6600,   177.8767,       1127,   455.9,  10.4420,  34.7384,2,  34.7408,2,    175.1,2,   178.6,2,    9.47,2,   18.45,2,    0.00,2,    1.35,2,-999.000,9,-999.000,9,-999.000,9,-999.0000,9, -999.00,9, -999.00,9,  -999.0,9,  -999.0,-999.000,9,-999.000,-999.0000,-999.000,  10.3871,-999.000
  316N138_7,       P14C,      50,          1,         30,         30,2,19920911,       2038,   -18.6600,   177.8767,       1127,   505.1,   9.2965,  34.6309,2,  34.6330,2,    185.2,2,   184.3,2,   11.00,2,   20.56,2,    0.00,2,    1.48,2,-999.000,9,-999.000,9,-999.000,9,-999.0000,9, -999.00,9, -999.00,9,  -999.0,9,  -999.0,-999.000,9,-999.000,-999.0000,-999.000,   9.2398,-999.000
  316N138_7,       P14C,      50,          1,         31,         31,2,19920911,       2038,   -18.6600,   177.8767,       1127,   606.0,   7.3417,  34.4735,2,  34.4775,2,    186.6,2,   189.1,2,   16.80,2,   24.86,2,    0.00,2,    1.75,2,-999.000,9,-999.000,9,-999.000,9,-999.0000,9, -999.00,9, -999.00,9,  -999.0,9,  -999.0,-999.000,9,-999.000,-999.0000,-999.000,   7.2822,-999.000
  316N138_7,       P14C,      50,          1,         32,         32,2,19920911,       2038,   -18.6600,   177.8767,       1127,   707.9,   5.6144,  34.3979,2,  34.4033,2,    185.3,2,   186.2,2,   29.97,2,   29.10,2,    0.00,2,    2.01,2,   0.131,2,   0.075,2,-999.000,9,-999.0000,9, -999.00,9, -999.00,9,  -999.0,9,  -999.0,-999.000,9,-999.000,-999.0000,-999.000,   5.5537,-999.000
  316N138_7,       P14C,      50,          1,         33,         33,2,19920911,       2038,   -18.6600,   177.8767,       1127,   806.2,   4.9881,  34.4141,2,  34.4150,2,    175.6,2,   176.3,2,   41.18,2,   31.11,2,    0.00,2,    2.15,2,   0.063,2,   0.044,2,-999.000,9,-999.0000,9, -999.00,9, -999.00,9,  -999.0,9,  -999.0,-999.000,9,-999.000,-999.0000,-999.000,   4.9222,-999.000
  316N138_7,       P14C,      50,          1,         34,         34,2,19920911,       2038,   -18.6600,   177.8767,       1127,   906.7,   4.4691,  34.4338,2,  34.4354,2,    166.4,2,   169.9,2,   51.24,2,   32.45,2,    0.00,2,    2.25,2,   0.030,2,   0.021,2,-999.000,9,-999.0000,9, -999.00,9, -999.00,9,  -999.0,9,  -999.0,-999.000,9,-999.000,-999.0000,-999.000,   4.3979,-999.000
  316N138_7,       P14C,      50,          1,         35,         35,2,19920911,       2038,   -18.6600,   177.8767,       1127,  1005.8,   4.1315,  34.4640,2,  34.4652,2,    162.8,2,   163.3,2,   60.92,2,   33.37,2,    0.00,2,    2.31,2,   0.019,2,   0.015,2,-999.000,9,-999.0000,9, -999.00,9, -999.00,9,  -999.0,9,  -999.0,-999.000,9,-999.000,-999.0000,-999.000,   4.0544,-999.000
  316N138_7,       P14C,      50,          1,         37,         37,2,19920911,       2038,   -18.6600,   177.8767,       1127,  1125.6,   3.7555,  34.4947,2,  34.4969,2,    157.5,2,   157.1,2,   72.36,2,   34.25,2,    0.00,2,    2.36,2,   0.010,2,   0.006,2,-999.000,9,-999.0000,9, -999.00,9, -999.00,9,  -999.0,9,  -999.0,-999.000,9,-999.000,-999.0000,-999.000,   3.6714,-999.000
  316N138_7,       P14C,      51,          1,         21,         21,2,19920911,       2314,   -18.5983,   177.9350,        937,     2.3,  25.1966,  35.6833,2,  35.6973,2,    194.8,2,   214.9,3,    2.22,2,    0.04,2,    0.00,2,    0.14,2,-999.000,9,-999.000,9,-999.000,9,-999.0000,9, -999.00,9, -999.00,9,  -999.0,9,  -999.0,-999.000,9,-999.000,-999.0000,-999.000,  25.1961,-999.000
  316N138_7,       P14C,      51,          1,         22,         22,2,19920911,       2314,   -18.5983,   177.9350,        937,    12.8,  25.2011,  35.6832,2,  35.6943,2,    203.3,2,   214.1,3,    2.00,2,    0.04,2,    0.00,2,    0.15,2,   1.869,2,   1.019,2,-999.000,9,-999.0000,9, -999.00,9, -999.00,9,  -999.0,9,  -999.0,-999.000,9,-999.000,-999.0000,-999.000,  25.1983,-999.000
  316N138_7,       P14C,      51,          1,         23,         23,2,19920911,       2314,   -18.5983,   177.9350,        937,    52.5,  25.1404,  35.6853,2,  35.6882,2,    207.6,2,   214.9,3,    1.78,2,    0.04,2,    0.00,2,    0.13,2,-999.000,9,-999.000,9,-999.000,9,-999.0000,9, -999.00,9, -999.00,9,  -999.0,9,  -999.0,-999.000,9,-999.000,-999.0000,-999.000,  25.1289,-999.000
  316N138_7,       P14C,      51,          1,         24,         24,2,19920911,       2314,   -18.5983,   177.9350,        937,   101.5,  24.4031,  35.7184,2,  35.7209,2,    204.8,2,   208.4,2,    1.75,2,    0.21,2,    0.04,2,    0.15,2,   1.846,2,   1.007,2,-999.000,9,-999.0000,9, -999.00,9, -999.00,9,  -999.0,9,  -999.0,-999.000,9,-999.000,-999.0000,-999.000,  24.3814,-999.000
  316N138_7,       P14C,      51,          1,         25,         25,2,19920911,       2314,   -18.5983,   177.9350,        937,   152.4,  23.4473,  35.7256,2,  35.7265,2,    189.8,2,   190.7,2,    1.72,2,    1.40,2,    0.06,2,    0.24,2,   1.818,2,   0.975,2,-999.000,9,-999.0000,9, -999.00,9, -999.00,9,  -999.0,9,  -999.0,-999.000,9,-999.000,-999.0000,-999.000,  23.4157,-999.000
  316N138_7,       P14C,      51,          1,         26,         26,2,19920911,       2314,   -18.5983,   177.9350,        937,   203.8,  21.3248,  35.7048,2,  35.7052,2,    175.9,2,   176.3,2,    1.69,2,    3.46,2,    0.02,2,    0.38,2,   1.827,2,   0.964,2,-999.000,9,-999.0000,9, -999.00,9, -999.00,9,  -999.0,9,  -999.0,-999.000,9,-999.000,-999.0000,-999.000,  21.2852,-999.000
  316N138_7,       P14C,      51,          1,         27,         27,2,19920911,       2314,   -18.5983,   177.9350,        937,   254.1,  18.5930,  35.5670,2,  35.5454,2,    169.9,2,   168.4,2,    2.83,2,    6.45,2,    0.01,2,    0.61,2,   1.600,2,   0.834,2,-999.000,9,-999.0000,9, -999.00,9, -999.00,9,  -999.0,9,  -999.0,-999.000,9,-999.000,-999.0000,-999.000,  18.5482,-999.000
  316N138_7,       P14C,      51,          1,         40,         40,2,19920911,       2314,   -18.5983,   177.9350,        937,   304.0,  16.6574,  35.3717,2,  35.3672,2,    169.6,2,   168.2,2,    3.57,2,    8.64,2,    0.01,2,    0.75,2,   1.466,2,   0.763,2,-999.000,9,-999.0000,9, -999.00,9, -999.00,9,  -999.0,9,  -999.0,-999.000,9,-999.000,-999.0000,-999.000,  16.6076,-999.000
  316N138_7,       P14C,      51,          1,         29,         29,2,19920911,       2314,   -18.5983,   177.9350,        937,   355.0,  14.5102,  35.1578,2,  35.1734,2,    170.8,2,   171.2,2,    4.90,2,   11.00,2,    0.00,2,    0.90,2,   1.295,2,   0.681,2,-999.000,9,-999.0000,9, -999.00,9, -999.00,9,  -999.0,9,  -999.0,-999.000,9,-999.000,-999.0000,-999.000,  14.4573,-999.000
  316N138_7,       P14C,      51,          1,         30,         30,2,19920911,       2314,   -18.5983,   177.9350,        937,   404.8,  12.0199,  34.8961,2,  34.8943,2,    172.4,2,   174.2,2,    7.60,2,   15.71,2,    0.00,2,    1.20,2,   0.984,2,   0.522,2,-999.000,9,-999.0000,9, -999.00,9, -999.00,9,  -999.0,9,  -999.0,-999.000,9,-999.000,-999.0000,-999.000,  11.9666,-999.000
  316N138_7,       P14C,      51,          1,         31,         31,2,19920911,       2314,   -18.5983,   177.9350,        937,   455.5,   9.8015,  34.6812,2,  34.6766,2,    178.8,2,   180.8,2,   10.67,2,   19.85,2,    0.00,2,    1.43,2,-999.000,9,-999.000,9,-999.000,9,-999.0000,9, -999.00,9, -999.00,9,  -999.0,9,  -999.0,-999.000,9,-999.000,-999.0000,-999.000,   9.7488,-999.000
  316N138_7,       P14C,      51,          1,         32,         32,2,19920911,       2314,   -18.5983,   177.9350,        937,   506.1,   8.6504,  34.5757,2,  34.5758,2,    184.4,2,   185.6,2,   12.77,2,   22.14,2,    0.00,2,    1.58,2,   0.569,2,   0.307,2,-999.000,9,-999.0000,9, -999.00,9, -999.00,9,  -999.0,9,  -999.0,-999.000,9,-999.000,-999.0000,-999.000,   8.5960,-999.000
  316N138_7,       P14C,      51,          1,         33,         33,2,19920911,       2314,   -18.5983,   177.9350,        937,   606.5,   6.7081,  34.4371,2,  34.4425,2,    190.4,2,   189.4,2,   20.47,2,   26.44,2,    0.00,2,    1.84,2,-999.000,9,-999.000,9,-999.000,9,-999.0000,9, -999.00,9, -999.00,9,  -999.0,9,  -999.0,-999.000,9,-999.000,-999.0000,-999.000,   6.6515,-999.000
  316N138_7,       P14C,      51,          1,         34,         34,2,19920911,       2314,   -18.5983,   177.9350,        937,   705.2,   5.5738,  34.3975,2,  34.4150,2,    183.9,2,   185.3,2,   30.52,2,   29.47,2,    0.00,2,    2.05,2,   0.118,2,   0.067,2,-999.000,9,-999.0000,9, -999.00,9, -999.00,9,  -999.0,9,  -999.0,-999.000,9,-999.000,-999.0000,-999.000,   5.5136,-999.000
  316N138_7,       P14C,      51,          1,         35,         35,2,19920911,       2314,   -18.5983,   177.9350,        937,   805.1,   4.8138,  34.4217,2,  34.4229,2,    171.5,2,   173.9,2,   44.83,2,   31.66,2,    0.00,2,    2.19,2,   0.049,2,   0.033,2,-999.000,9,-999.0000,9, -999.00,9, -999.00,9,  -999.0,9,  -999.0,-999.000,9,-999.000,-999.0000,-999.000,   4.7491,-999.000
  316N138_7,       P14C,      51,          1,         37,         37,2,19920911,       2314,   -18.5983,   177.9350,        937,   924.9,   4.2596,  34.4559,2,  34.4556,2,    164.2,2,   165.2,2,   57.99,2,   32.96,2,    0.00,2,    2.29,2,   0.024,2,   0.017,2,-999.000,9,-999.0000,9, -999.00,9, -999.00,9,  -999.0,9,  -999.0,-999.000,9,-999.000,-999.0000,-999.000,   4.1884,-999.000
  316N138_7,       P14C,      52,          1,         25,         25,2,19920912,       0129,   -18.5383,   177.9267,        561,     3.3,  25.3930,  35.5891,2,  35.5920,2,    210.9,2,   207.4,2,    2.21,2,    0.04,2,    0.00,2,    0.14,2,   1.784,2,   0.967,2,-999.000,9,-999.0000,9, -999.00,9, -999.00,9,  -999.0,9,  -999.0,-999.000,9,-999.000,-999.0000,-999.000,  25.3922,-999.000
  316N138_7,       P14C,      52,          1,         26,         26,2,19920912,       0129,   -18.5383,   177.9267,        561,    14.4,  25.3287,  35.5987,2,  35.5999,2,    207.0,2,   205.9,2,    1.79,2,    0.04,2,    0.00,2,    0.14,2,-999.000,9,-999.000,9,-999.000,9,-999.0000,9, -999.00,9, -999.00,9,  -999.0,9,  -999.0,-999.000,9,-999.000,-999.0000,-999.000,  25.3256,-999.000
  316N138_7,       P14C,      52,          1,         27,         27,2,19920912,       0129,   -18.5383,   177.9267,        561,    52.4,  25.2398,  35.6655,2,  35.6683,2,    203.8,2,   206.6,2,    1.76,2,    0.04,2,    0.00,2,    0.13,2,-999.000,9,-999.000,9,-999.000,9,-999.0000,9, -999.00,9, -999.00,9,  -999.0,9,  -999.0,-999.000,9,-999.000,-999.0000,-999.000,  25.2283,-999.000
  316N138_7,       P14C,      52,          1,         40,         40,2,19920912,       0129,   -18.5383,   177.9267,        561,   101.6,  24.3356,  35.7256,2,  35.7258,2,    203.5,2,   202.9,2,    1.73,2,    0.07,2,    0.01,2,    0.13,2,   1.848,2,   0.996,2,-999.000,9,-999.0000,9, -999.00,9, -999.00,9,  -999.0,9,  -999.0,-999.000,9,-999.000,-999.0000,-999.000,  24.3140,-999.000
  316N138_7,       P14C,      52,          1,         29,         29,2,19920912,       0129,   -18.5383,   177.9267,        561,   152.4,  22.8792,  35.7324,2,  35.7349,2,    178.9,2,   178.6,2,    1.70,2,    2.13,2,    0.05,2,    0.29,2,-999.000,9,-999.000,9,-999.000,9,-999.0000,9, -999.00,9, -999.00,9,  -999.0,9,  -999.0,-999.000,9,-999.000,-999.0000,-999.000,  22.8481,-999.000
  316N138_7,       P14C,      52,          1,         30,         30,2,19920912,       0129,   -18.5383,   177.9267,        561,   201.2,  20.7140,  35.7049,2,  35.7114,2,    169.9,2,   168.3,2,    2.06,2,    4.55,2,    0.02,2,    0.46,2,   1.730,2,   0.930,2,-999.000,9,-999.0000,9, -999.00,9, -999.00,9,  -999.0,9,  -999.0,-999.000,9,-999.000,-999.0000,-999.000,  20.6757,-999.000
  316N138_7,       P14C,      52,          1,         31,         31,2,19920912,       0129,   -18.5383,   177.9267,        561,   249.6,  19.0739,  35.6077,2,  35.6109,2,    168.0,2,   169.2,2,    2.42,2,    5.78,2,    0.01,2,    0.55,2,-999.000,9,-999.000,9,-999.000,9,-999.0000,9, -999.00,9, -999.00,9,  -999.0,9,  -999.0,-999.000,9,-999.000,-999.0000,-999.000,  19.0291,-999.000
  316N138_7,       P14C,      52,          1,         32,         32,2,19920912,       0129,   -18.5383,   177.9267,        561,   296.8,  16.5010,  35.3548,2,  35.3545,2,    167.8,2,   169.2,2,    3.75,2,    8.81,2,    0.01,2,    0.76,2,   1.324,2,   0.696,2,-999.000,9,-999.0000,9, -999.00,9, -999.00,9,  -999.0,9,  -999.0,-999.000,9,-999.000,-999.0000,-999.000,  16.4528,-999.000
  316N138_7,       P14C,      52,          1,         33,         33,2,19920912,       0129,   -18.5383,   177.9267,        561,   392.6,  13.1457,  35.0128,2,  35.0152,2,    173.1,2,   172.6,2,    6.62,2,   13.69,2,    0.00,2,    1.07,2,   1.125,2,   0.593,2,-999.000,9,-999.0000,9, -999.00,9, -999.00,9,  -999.0,9,  -999.0,-999.000,9,-999.000,-999.0000,-999.000,  13.0909,-999.000
  316N138_7,       P14C,      52,          1,         34,         34,2,19920912,       0129,   -18.5383,   177.9267,        561,   440.6,  11.0535,  34.7986,2,  34.7997,2,    176.7,2,   176.3,2,    8.72,2,   17.45,2,    0.00,2,    1.30,2,-999.000,9,-999.000,9,-999.000,9,-999.0000,9, -999.00,9, -999.00,9,  -999.0,9,  -999.0,-999.000,9,-999.000,-999.0000,-999.000,  10.9985,-999.000
  316N138_7,       P14C,      52,          1,         35,         35,2,19920912,       0129,   -18.5383,   177.9267,        561,   489.3,   9.7392,  34.6762,2,  34.6762,2,    179.4,2,   181.3,2,   10.82,2,   19.91,2,    0.00,2,    1.46,2,   0.695,2,   0.380,2,-999.000,9,-999.0000,9, -999.00,9, -999.00,9,  -999.0,9,  -999.0,-999.000,9,-999.000,-999.0000,-999.000,   9.6827,-999.000
  316N138_7,       P14C,      52,          1,         37,         37,2,19920912,       0129,   -18.5383,   177.9267,        561,   547.4,   8.4505,  34.5613,2,  34.5666,2,    184.9,2,   185.8,2,   13.51,2,   22.20,2,    0.00,2,    1.69,3,   0.531,2,   0.289,2,-999.000,9,-999.0000,9, -999.00,9, -999.00,9,  -999.0,9,  -999.0,-999.000,9,-999.000,-999.0000,-999.000,   8.3924,-999.000