BOTTLE,20211101CCHSIORKP
EXPOCODE,SECT_ID,STNNBR,CASTNO,SAMPNO,BTLNBR,BTLNBR_FLAG_W,DATE,TIME,LATITUDE,LONGITUDE,DEPTH,CTDPRS,CTDTMP,CTDSAL,CTDSAL_FLAG_W,SALNTY,SALNTY_FLAG_W,CTDOXY,CTDOXY_FLAG_W,OXYGEN,OXYGEN_FLAG_W,SILCAT,SILCAT_FLAG_W,NITRAT,NITRAT_FLAG_W,PHSPHT,PHSPHT_FLAG_W
,,,,,,,,,,,METERS,DBAR,ITS-90,PSS-78,,PSS-78,,UMOL/KG,,UMOL/KG,,UMOL/KG,,UMOL/KG,,UMOL/KG,
 09FA9508_1,      IR6_4,      79,          1,         24,         21,2,19951003,       0146,   -11.4138,   109.3772,       4904,     2.1,  27.2070,  34.3610,2,  34.3619,2,-999.0000,5,   198.4,2,    4.51,2,    0.29,2,    0.15,2
 09FA9508_1,      IR6_4,      79,          1,         23,         45,2,19951003,       0146,   -11.4138,   109.3772,       4904,    47.2,  26.0490,  34.3540,2,  34.3537,2,-999.0000,5,   203.1,2,    4.75,2,    0.40,2,    0.15,2
 09FA9508_1,      IR6_4,      79,          1,         22,         43,2,19951003,       0146,   -11.4138,   109.3772,       4904,    98.0,  24.8730,  34.4910,2,  34.4851,2,-999.0000,5,   165.3,2,    7.43,2,    4.59,2,    0.54,2
 09FA9508_1,      IR6_4,      79,          1,         21,          7,2,19951003,       0146,   -11.4138,   109.3772,       4904,   148.3,  18.3710,  34.5950,2,  34.5954,2,-999.0000,5,   107.3,2,   23.01,2,   16.91,2,    1.24,2
 09FA9508_1,      IR6_4,      79,          1,         20,         10,2,19951003,       0146,   -11.4138,   109.3772,       4904,   198.8,  14.6090,  34.6000,2,  34.6029,2,-999.0000,5,    97.8,2,   32.35,2,   21.95,2,    1.59,2
 09FA9508_1,      IR6_4,      79,          1,         19,         42,2,19951003,       0146,   -11.4138,   109.3772,       4904,   297.4,  11.0470,  34.6170,2,  34.6124,2,-999.0000,5,    92.8,2,   43.38,2,   26.91,2,    1.95,2
 09FA9508_1,      IR6_4,      79,          1,         18,         13,2,19951003,       0146,   -11.4138,   109.3772,       4904,   396.3,   9.0810,  34.5910,2,  34.5900,2,-999.0000,5,    86.7,2,   54.31,2,   30.76,2,    2.20,2
 09FA9508_1,      IR6_4,      79,          1,         17,         27,2,19951003,       0146,   -11.4138,   109.3772,       4904,   497.2,   8.2450,  34.6330,2,  34.6313,2,-999.0000,5,    80.7,2,   58.81,2,   32.95,2,    2.36,2
 09FA9508_1,      IR6_4,      79,          1,         16,         20,2,19951003,       0146,   -11.4138,   109.3772,       4904,   595.7,   7.4600,  34.6440,2,  34.6443,2,-999.0000,5,    75.5,2,   68.31,2,   34.55,2,    2.47,2
 09FA9508_1,      IR6_4,      79,          1,         15,         11,2,19951003,       0146,   -11.4138,   109.3772,       4904,   696.6,   6.5100,  34.6210,2,  34.6196,2,-999.0000,5,    80.8,2,   80.83,2,   35.29,2,    2.58,2
 09FA9508_1,      IR6_4,      79,          1,         14,          8,2,19951003,       0146,   -11.4138,   109.3772,       4904,   795.5,   5.7980,  34.5960,2,  34.5980,2,-999.0000,5,    86.9,2,   90.78,2,   35.59,2,    2.58,2
 09FA9508_1,      IR6_4,      79,          1,         13,          6,2,19951003,       0146,   -11.4138,   109.3772,       4904,   895.9,   5.3080,  34.5950,2,  34.5961,2,-999.0000,5,    89.9,2,   98.01,2,   35.90,2,    2.61,2
 09FA9508_1,      IR6_4,      79,          1,         12,         35,2,19951003,       0146,   -11.4138,   109.3772,       4904,   996.2,   4.8570,  34.6050,2,  34.6090,2,-999.0000,5,    90.8,2,  104.40,2,   36.44,2,    2.63,2
 09FA9508_1,      IR6_4,      79,          1,         11,          3,2,19951003,       0146,   -11.4138,   109.3772,       4904,  1194.0,   4.2450,  34.6230,2,  34.6255,2,-999.0000,5,    96.1,2,  110.35,2,   36.55,2,    2.66,2
 09FA9508_1,      IR6_4,      79,          1,         10,         30,2,19951003,       0146,   -11.4138,   109.3772,       4904,  1394.7,   3.7530,  34.6760,2,  34.6730,2,-999.0000,5,   103.4,2,  115.70,2,   36.59,2,    2.67,2
 09FA9508_1,      IR6_4,      79,          1,          8,         17,2,19951003,       0146,   -11.4138,   109.3772,       4904,  1794.4,   2.8020,  34.7200,2,  34.7196,2,-999.0000,5,   124.7,2,  120.39,2,   35.33,2,    2.58,2
 09FA9508_1,      IR6_4,      79,          1,          7,         48,2,19951003,       0146,   -11.4138,   109.3772,       4904,  1995.6,   2.4790,  34.7290,2,  34.7255,2,-999.0000,5,   132.8,2,  124.07,2,   35.49,2,    2.52,2
 09FA9508_1,      IR6_4,      79,          1,          6,         15,2,19951003,       0146,   -11.4138,   109.3772,       4904,  2495.6,   1.9820,  34.7290,2,  34.7254,2,-999.0000,5,   149.8,2,  128.21,2,   34.75,2,    2.47,2
 09FA9508_1,      IR6_4,      79,          1,          5,         28,2,19951003,       0146,   -11.4138,   109.3772,       4904,  2996.9,   1.6270,  34.7220,2,  34.7175,2,-999.0000,5,   161.5,2,  132.32,2,   34.30,2,    2.41,2
 09FA9508_1,      IR6_4,      79,          1,          4,         99,2,19951003,       0146,   -11.4138,   109.3772,       4904,  3498.2,   1.3100,  34.7140,2,  34.7104,2,-999.0000,5,   174.6,2,  133.44,2,   33.83,2,    2.36,2
 09FA9508_1,      IR6_4,      79,          1,          3,         14,2,19951003,       0146,   -11.4138,   109.3772,       4904,  3998.0,   1.2100,  34.7110,2,  34.7049,2,-999.0000,5,   180.5,2,  133.65,2,   33.43,2,    2.35,2
 09FA9508_1,      IR6_4,      79,          1,          2,          5,2,19951003,       0146,   -11.4138,   109.3772,       4904,  4494.1,   1.1730,  34.7110,2,  34.7064,2,-999.0000,5,   184.9,2,  133.05,2,   33.25,2,    2.34,2
 09FA9508_1,      IR6_4,      79,          1,          1,         18,2,19951003,       0146,   -11.4138,   109.3772,       4904,  4981.6,   1.1940,  34.7090,2,  34.7056,2,-999.0000,5,   187.5,2,  131.91,2,   33.25,2,    2.30,2
 09FA9508_1,      IR6_4,      80,          1,         24,         21,2,19951003,       0804,   -11.5317,   109.8587,       4433,     2.7,  27.1530,  34.3660,2,  34.3674,2,-999.0000,5,   200.7,2,    4.23,2,    0.19,2,    0.15,2
 09FA9508_1,      IR6_4,      80,          1,         23,         45,2,19951003,       0804,   -11.5317,   109.8587,       4433,    48.5,  26.0260,  34.3910,2,  34.3897,2,-999.0000,5,   204.8,2,    4.38,2,    0.34,2,    0.16,2
 09FA9508_1,      IR6_4,      80,          1,         22,         43,2,19951003,       0804,   -11.5317,   109.8587,       4433,   100.0,  24.6270,  34.5450,2,  34.5215,2,-999.0000,5,   179.9,2,    5.95,2,    2.72,2,    0.31,2
 09FA9508_1,      IR6_4,      80,          1,         21,          7,2,19951003,       0804,   -11.5317,   109.8587,       4433,   198.9,  15.2980,  34.6240,2,  34.6189,2,-999.0000,5,    99.8,2,   29.96,2,   20.98,2,    1.51,2
 09FA9508_1,      IR6_4,      80,          1,         20,         10,2,19951003,       0804,   -11.5317,   109.8587,       4433,   298.0,  11.3100,  34.6360,2,  34.6307,2,-999.0000,5,    94.9,2,   41.03,2,   26.25,2,    1.88,2
 09FA9508_1,      IR6_4,      80,          1,         19,         42,2,19951003,       0804,   -11.5317,   109.8587,       4433,   396.6,   9.2850,  34.6100,2,  34.6252,2,-999.0000,5,    95.2,2,   47.67,2,   29.16,2,    2.09,2
 09FA9508_1,      IR6_4,      80,          1,         18,         13,2,19951003,       0804,   -11.5317,   109.8587,       4433,   498.6,   8.0550,  34.5900,2,  34.5883,2,-999.0000,5,    86.4,2,   61.42,2,   32.23,2,    2.33,2
 09FA9508_1,      IR6_4,      80,          1,         17,         27,2,19951003,       0804,   -11.5317,   109.8587,       4433,   595.6,   7.3730,  34.6310,2,  34.6283,2,-999.0000,5,    80.5,2,   66.56,2,   34.14,2,    2.46,2
 09FA9508_1,      IR6_4,      80,          1,         16,         20,2,19951003,       0804,   -11.5317,   109.8587,       4433,   696.9,   6.5700,  34.6120,2,  34.6079,2,-999.0000,5,    82.1,2,   77.56,2,   35.01,2,    2.58,2
 09FA9508_1,      IR6_4,      80,          1,         15,         11,2,19951003,       0804,   -11.5317,   109.8587,       4433,   796.6,   5.8110,  34.6040,2,  34.6044,2,-999.0000,5,    85.8,2,   89.00,2,   35.73,2,    2.59,2
 09FA9508_1,      IR6_4,      80,          1,         14,          8,2,19951003,       0804,   -11.5317,   109.8587,       4433,   896.2,   5.3070,  34.6040,2,  34.6032,2,-999.0000,5,    88.6,2,   97.37,2,   36.11,2,    2.61,2
 09FA9508_1,      IR6_4,      80,          1,         13,          6,2,19951003,       0804,   -11.5317,   109.8587,       4433,   995.5,   4.8090,  34.6090,2,  34.6059,2,-999.0000,5,    92.1,2,  104.56,2,   36.44,2,    2.64,2
 09FA9508_1,      IR6_4,      80,          1,         12,         35,2,19951003,       0804,   -11.5317,   109.8587,       4433,  1095.2,   4.5870,  34.6170,2,  34.6126,2,-999.0000,5,    92.5,2,  107.67,2,   36.55,2,    2.65,2
 09FA9508_1,      IR6_4,      80,          1,         11,          3,2,19951003,       0804,   -11.5317,   109.8587,       4433,  1195.9,   4.2460,  34.6270,2,  34.6228,2,-999.0000,5,    96.4,2,  110.81,2,   36.40,2,    2.65,2
 09FA9508_1,      IR6_4,      80,          1,         10,         30,2,19951003,       0804,   -11.5317,   109.8587,       4433,  1295.3,   3.9400,  34.6550,2,  34.6496,2,-999.0000,5,   100.5,2,  113.88,2,   36.37,2,    2.66,2
 09FA9508_1,      IR6_4,      80,          1,          9,         24,2,19951003,       0804,   -11.5317,   109.8587,       4433,  1393.6,   3.7180,  34.6760,2,  34.6739,2,-999.0000,5,   104.1,2,  114.76,2,   36.32,2,    2.65,2
 09FA9508_1,      IR6_4,      80,          1,          8,         17,2,19951003,       0804,   -11.5317,   109.8587,       4433,  1595.3,   3.1810,  34.7000,2,  34.6987,2,-999.0000,5,   115.1,2,  118.70,2,   35.83,2,    2.62,2
 09FA9508_1,      IR6_4,      80,          1,          7,         48,2,19951003,       0804,   -11.5317,   109.8587,       4433,  1794.9,   2.8070,  34.7210,2,  34.7148,2,-999.0000,5,   124.6,2,  120.24,2,   35.43,2,    2.57,2
 09FA9508_1,      IR6_4,      80,          1,          6,         15,2,19951003,       0804,   -11.5317,   109.8587,       4433,  1996.3,   2.4660,  34.7300,2,  34.7251,2,-999.0000,5,   134.8,2,  122.64,2,   35.26,2,    2.48,2
 09FA9508_1,      IR6_4,      80,          1,          5,         28,2,19951003,       0804,   -11.5317,   109.8587,       4433,  2497.0,   2.0060,  34.7280,2,  34.7267,2,-999.0000,5,   149.1,2,  127.54,2,   34.58,2,    2.45,2
 09FA9508_1,      IR6_4,      80,          1,          4,         99,2,19951003,       0804,   -11.5317,   109.8587,       4433,  2999.0,   1.6480,  34.7230,2,  34.7212,2,-999.0000,5,   160.5,2,  131.21,2,   34.16,2,    2.42,2
 09FA9508_1,      IR6_4,      80,          1,          3,         14,2,19951003,       0804,   -11.5317,   109.8587,       4433,  3498.2,   1.3740,  34.7160,2,  34.7146,2,-999.0000,5,   172.0,2,  133.14,2,   33.74,2,    2.36,2
 09FA9508_1,      IR6_4,      80,          1,          2,          5,2,19951003,       0804,   -11.5317,   109.8587,       4433,  4003.9,   1.1680,  34.7110,2,  34.7079,2,-999.0000,5,   182.6,2,  134.21,2,   33.25,2,    2.33,2
 09FA9508_1,      IR6_4,      80,          1,          1,         18,2,19951003,       0804,   -11.5317,   109.8587,       4433,  4484.9,   1.1640,  34.7100,2,  34.7075,2,-999.0000,5,   185.0,2,  133.57,2,   33.11,2,    2.31,2
 09FA9508_1,      IR6_4,      81,          1,         24,         21,2,19951003,       1441,   -11.6522,   110.3895,       4427,     2.7,  26.9540,  34.3540,2,  34.3572,2,-999.0000,5,   201.9,2,    3.96,2,    0.28,2,    0.17,2
 09FA9508_1,      IR6_4,      81,          1,         23,         45,2,19951003,       1441,   -11.6522,   110.3895,       4427,    48.5,  26.8200,  34.3470,2,  34.3470,2,-999.0000,5,   202.3,2,    3.97,2,    0.37,2,    0.16,2
 09FA9508_1,      IR6_4,      81,          1,         22,         43,2,19951003,       1441,   -11.6522,   110.3895,       4427,   100.0,  20.9570,  34.5850,2,  34.5820,2,-999.0000,5,   111.7,2,   16.85,2,   13.88,2,    1.02,2
 09FA9508_1,      IR6_4,      81,          1,         21,          7,2,19951003,       1441,   -11.6522,   110.3895,       4427,   148.3,  18.1240,  34.5770,2,  34.5722,2,-999.0000,5,   107.9,2,   22.80,2,   17.25,2,    1.25,2
 09FA9508_1,      IR6_4,      81,          1,         20,         10,2,19951003,       1441,   -11.6522,   110.3895,       4427,   200.7,  15.2120,  34.5920,2,  34.5918,2,-999.0000,5,   102.0,2,   29.59,2,   20.69,2,    1.49,2
 09FA9508_1,      IR6_4,      81,          1,         19,         42,2,19951003,       1441,   -11.6522,   110.3895,       4427,   299.0,  11.1040,  34.6150,2,  34.6161,2,-999.0000,5,    92.9,2,   42.16,2,   26.66,2,    1.92,2
 09FA9508_1,      IR6_4,      81,          1,         18,         13,2,19951003,       1441,   -11.6522,   110.3895,       4427,   397.2,   9.4830,  34.6350,2,  34.6381,2,-999.0000,5,    87.2,2,   47.25,2,   29.78,2,    2.11,2
 09FA9508_1,      IR6_4,      81,          1,         17,         27,2,19951003,       1441,   -11.6522,   110.3895,       4427,   496.5,   8.2500,  34.6400,2,  34.6424,2,-999.0000,5,    89.8,2,   52.49,2,   31.55,2,    2.26,2
 09FA9508_1,      IR6_4,      81,          1,         16,         20,2,19951003,       1441,   -11.6522,   110.3895,       4427,   598.4,   7.1890,  34.6290,2,  34.6307,2,-999.0000,5,    83.0,2,   66.01,2,   33.91,2,    2.44,2
 09FA9508_1,      IR6_4,      81,          1,         15,         11,2,19951003,       1441,   -11.6522,   110.3895,       4427,   695.5,   6.3410,  34.6140,2,  34.6181,2,-999.0000,5,    82.8,2,   79.74,2,   35.11,2,    2.54,2
 09FA9508_1,      IR6_4,      81,          1,         14,          8,2,19951003,       1441,   -11.6522,   110.3895,       4427,   796.1,   5.6830,  34.6070,2,  34.6106,2,-999.0000,5,    86.0,2,   89.37,2,   35.66,2,    2.58,2
 09FA9508_1,      IR6_4,      81,          1,         13,          6,2,19951003,       1441,   -11.6522,   110.3895,       4427,   896.2,   5.1760,  34.6060,2,  34.6075,2,-999.0000,5,    89.3,2,   98.52,2,   36.04,2,    2.61,2
 09FA9508_1,      IR6_4,      81,          1,         12,         35,2,19951003,       1441,   -11.6522,   110.3895,       4427,   996.2,   4.8290,  34.6080,2,  34.6097,2,-999.0000,5,    90.8,2,  103.46,2,   36.28,2,    2.63,2
 09FA9508_1,      IR6_4,      81,          1,         11,          3,2,19951003,       1441,   -11.6522,   110.3895,       4427,  1195.7,   4.2790,  34.6250,2,  34.6273,2,-999.0000,5,    95.9,2,  110.31,2,   36.42,2,    2.64,2
 09FA9508_1,      IR6_4,      81,          1,         10,         30,2,19951003,       1441,   -11.6522,   110.3895,       4427,  1393.5,   3.6970,  34.6620,2,  34.6657,2,-999.0000,5,   105.5,2,  114.57,2,   36.23,2,    2.65,2
 09FA9508_1,      IR6_4,      81,          1,          9,         24,2,19951003,       1441,   -11.6522,   110.3895,       4427,  1592.6,   3.2210,  34.7020,2,  34.7041,2,-999.0000,5,   114.3,2,  118.13,2,   35.99,2,    2.65,2
 09FA9508_1,      IR6_4,      81,          1,          8,         17,2,19951003,       1441,   -11.6522,   110.3895,       4427,  1795.4,   2.7990,  34.7220,2,  34.7257,2,-999.0000,5,   124.7,2,  120.59,2,   35.45,2,    2.56,2
 09FA9508_1,      IR6_4,      81,          1,          7,         48,2,19951003,       1441,   -11.6522,   110.3895,       4427,  1996.9,   2.4740,  34.7290,2,  34.7287,2,-999.0000,5,   134.3,2,  121.49,2,   35.05,2,    2.53,2
 09FA9508_1,      IR6_4,      81,          1,          6,         15,2,19951003,       1441,   -11.6522,   110.3895,       4427,  2196.7,   2.2480,  34.7290,2,  34.7302,2,-999.0000,5,   141.7,2,  124.29,2,   34.85,2,    2.50,2
 09FA9508_1,      IR6_4,      81,          1,          5,         28,2,19951003,       1441,   -11.6522,   110.3895,       4427,  2597.0,   1.8760,  34.7260,2,  34.7289,2,-999.0000,5,   153.0,2,  128.43,2,   34.46,2,    2.45,2
 09FA9508_1,      IR6_4,      81,          1,          4,         99,2,19951003,       1441,   -11.6522,   110.3895,       4427,  2997.9,   1.6150,  34.7210,2,  34.7230,2,-999.0000,5,   162.4,2,  130.42,2,   34.06,2,    2.42,2
 09FA9508_1,      IR6_4,      81,          1,          3,         14,2,19951003,       1441,   -11.6522,   110.3895,       4427,  3499.8,   1.3250,  34.7150,2,  34.7154,2,-999.0000,5,   174.1,2,  134.51,2,   33.68,2,    2.36,2
 09FA9508_1,      IR6_4,      81,          1,          2,          5,2,19951003,       1441,   -11.6522,   110.3895,       4427,  3998.6,   1.1780,  34.7110,2,  34.7118,2,-999.0000,5,   182.4,2,  133.68,2,   33.39,2,    2.33,2
 09FA9508_1,      IR6_4,      81,          1,          1,         18,2,19951003,       1441,   -11.6522,   110.3895,       4427,  4481.4,   1.1570,  34.7100,2,  34.7102,2,-999.0000,5,   184.8,2,  134.94,2,   33.31,2,    2.35,2