BOTTLE,20211101CCHSIORKP
EXPOCODE,SECT_ID,STNNBR,CASTNO,SAMPNO,BTLNBR,BTLNBR_FLAG_W,DATE,TIME,LATITUDE,LONGITUDE,DEPTH,CTDPRS,CTDTMP,CTDSAL,CTDSAL_FLAG_W,SALNTY,SALNTY_FLAG_W,CTDOXY,CTDOXY_FLAG_W,OXYGEN,OXYGEN_FLAG_W,SILCAT,SILCAT_FLAG_W,NITRAT,NITRAT_FLAG_W,PHSPHT,PHSPHT_FLAG_W
,,,,,,,,,,,METERS,DBAR,ITS-90,PSS-78,,PSS-78,,UMOL/KG,,UMOL/KG,,UMOL/KG,,UMOL/KG,,UMOL/KG,
 09FA9508_1,      IR6_4,      23,          1,         24,         24,2,19950917,       2346,   -23.4017,   110.2480,       5008,     1.3,  21.8940,  35.3430,2,  35.3432,2,-999.0000,5,   217.5,2,    5.53,2,    0.48,2,    0.10,2
 09FA9508_1,      IR6_4,      23,          1,         23,          8,2,19950917,       2346,   -23.4017,   110.2480,       5008,    48.5,  21.8980,  35.3520,2,  35.3513,2,-999.0000,5,   216.4,2,    5.42,2,    0.62,2,    0.08,2
 09FA9508_1,      IR6_4,      23,          1,         22,         13,2,19950917,       2346,   -23.4017,   110.2480,       5008,    97.8,  21.8840,  35.3700,2,  35.3670,2,-999.0000,5,   212.1,2,    5.36,2,    0.94,2,    0.09,2
 09FA9508_1,      IR6_4,      23,          1,         21,          9,2,19950917,       2346,   -23.4017,   110.2480,       5008,   218.9,  18.6830,  35.8750,2,  35.8629,2,-999.0000,5,   201.7,2,    5.61,2,    2.91,2,    0.14,2
 09FA9508_1,      IR6_4,      23,          1,         20,         25,2,19950917,       2346,   -23.4017,   110.2480,       5008,   296.5,  15.2600,  35.6090,2,  35.6101,2,-999.0000,5,   219.8,2,    4.37,2,    3.72,2,    0.24,2
 09FA9508_1,      IR6_4,      23,          1,         19,          6,2,19950917,       2346,   -23.4017,   110.2480,       5008,   395.4,  11.7850,  35.0860,2,  35.0851,2,-999.0000,5,   234.9,2,    4.54,2,    9.26,2,    0.59,2
 09FA9508_1,      IR6_4,      23,          1,         18,         21,2,19950917,       2346,   -23.4017,   110.2480,       5008,   496.9,   9.9580,  34.7890,2,  34.7881,2,-999.0000,5,   236.8,2,    6.16,2,   14.30,2,    0.94,2
 09FA9508_1,      IR6_4,      23,          1,         17,          4,2,19950917,       2346,   -23.4017,   110.2480,       5008,   595.1,   8.8930,  34.6440,2,  34.6444,2,-999.0000,5,   225.0,2,    9.25,2,   18.97,2,    1.29,2
 09FA9508_1,      IR6_4,      23,          1,         16,         28,2,19950917,       2346,   -23.4017,   110.2480,       5008,   724.6,   6.3450,  34.4870,2,  34.4824,2,-999.0000,5,   177.6,2,   31.69,2,   28.72,2,    1.98,2
 09FA9508_1,      IR6_4,      23,          1,         15,         32,2,19950917,       2346,   -23.4017,   110.2480,       5008,   796.6,   5.8780,  34.5590,2,  34.5576,2,-999.0000,5,   128.6,2,   61.10,2,   33.61,2,    2.38,2
 09FA9508_1,      IR6_4,      23,          1,         14,         31,2,19950917,       2346,   -23.4017,   110.2480,       5008,   895.2,   5.3000,  34.5780,2,  34.5975,2,-999.0000,5,   118.5,2,   73.63,2,   35.12,2,    2.53,2
 09FA9508_1,      IR6_4,      23,          1,         13,         23,2,19950917,       2346,   -23.4017,   110.2480,       5008,   996.0,   4.8890,  34.5960,2,  34.6021,2,-999.0000,5,   110.8,2,   83.97,2,   35.86,2,    2.58,2
 09FA9508_1,      IR6_4,      23,          1,         12,         18,2,19950917,       2346,   -23.4017,   110.2480,       5008,  1196.4,   4.2350,  34.6190,2,-999.0000,9,-999.0000,5,   114.3,2,   95.38,2,   36.61,2,    2.64,2
 09FA9508_1,      IR6_4,      23,          1,         11,         10,2,19950917,       2346,   -23.4017,   110.2480,       5008,  1396.5,   3.5060,  34.6280,2,  34.6290,2,-999.0000,5,   134.7,2,   96.82,2,   36.04,2,    2.59,2
 09FA9508_1,      IR6_4,      23,          1,         10,         19,2,19950917,       2346,   -23.4017,   110.2480,       5008,  1594.9,   3.0020,  34.6650,2,  34.6655,2,-999.0000,5,   139.4,2,   99.88,2,   35.24,2,    2.51,2
 09FA9508_1,      IR6_4,      23,          1,          9,         15,2,19950917,       2346,   -23.4017,   110.2480,       5008,  1794.6,   2.6580,  34.6960,2,  34.6945,2,-999.0000,5,   149.2,2,  118.09,2,   35.41,2,    2.53,2
 09FA9508_1,      IR6_4,      23,          1,          8,          5,2,19950917,       2346,   -23.4017,   110.2480,       5008,  1993.7,   2.3700,  34.7180,2,  34.7173,2,-999.0000,5,   148.5,2,  116.42,2,   34.58,2,    2.47,2
 09FA9508_1,      IR6_4,      23,          1,          7,         11,2,19950917,       2346,   -23.4017,   110.2480,       5008,  2493.8,   1.9060,  34.7290,2,  34.7279,2,-999.0000,5,   164.7,2,  120.54,2,   33.88,2,    2.40,2
 09FA9508_1,      IR6_4,      23,          1,          6,         26,2,19950917,       2346,   -23.4017,   110.2480,       5008,  2997.4,   1.6160,  34.7280,2,  34.7279,2,-999.0000,5,   175.9,2,  117.68,3,   33.00,2,    2.33,2
 09FA9508_1,      IR6_4,      23,          1,          5,         30,2,19950917,       2346,   -23.4017,   110.2480,       5008,  3498.9,   1.3200,  34.7210,2,  34.7193,2,-999.0000,5,   185.4,2,  125.48,2,   33.19,2,    2.34,2
 09FA9508_1,      IR6_4,      23,          1,          4,         16,2,19950917,       2346,   -23.4017,   110.2480,       5008,  3999.3,   1.1990,  34.7180,2,  34.7173,2,-999.0000,5,   188.0,2,  128.53,2,   33.02,2,    2.31,2
 09FA9508_1,      IR6_4,      23,          1,          3,         27,2,19950917,       2346,   -23.4017,   110.2480,       5008,  4501.1,   1.1830,  34.7160,2,-999.0000,9,-999.0000,5,  -999.0,9, -999.00,9, -999.00,9, -999.00,9
 09FA9508_1,      IR6_4,      23,          1,          2,          3,2,19950917,       2346,   -23.4017,   110.2480,       5008,  4501.1,   1.1830,  34.7160,2,  34.7138,2,-999.0000,5,   190.2,2,  133.81,2,   33.19,2,    2.32,2
 09FA9508_1,      IR6_4,      23,          1,          1,          1,2,19950917,       2346,   -23.4017,   110.2480,       5008,  5099.7,   1.2210,  34.7150,2,  34.7138,2,-999.0000,5,   190.6,2,  131.60,2,   33.28,2,    2.31,2
 09FA9508_1,      IR6_4,      24,          1,         24,         24,2,19950918,       0549,   -22.9227,   110.0857,       5028,     4.4,  22.2770,  35.2860,2,  35.2869,2,-999.0000,5,   220.6,2,    5.56,2,    0.23,2,    0.10,2
 09FA9508_1,      IR6_4,      24,          1,         23,          8,2,19950918,       0549,   -22.9227,   110.0857,       5028,    49.7,  21.9250,  35.3390,2,  35.3388,2,-999.0000,5,   220.0,2,    5.42,2,    0.83,2,    0.11,2
 09FA9508_1,      IR6_4,      24,          1,         22,         13,2,19950918,       0549,   -22.9227,   110.0857,       5028,    88.3,  21.5300,  35.4710,2,  35.4706,2,-999.0000,5,   194.5,2,    6.76,2,    3.07,2,    0.19,2
 09FA9508_1,      IR6_4,      24,          1,         21,          9,2,19950918,       0549,   -22.9227,   110.0857,       5028,   137.5,  20.3910,  35.7450,2,  35.7389,2,-999.0000,5,   221.3,2,    4.54,2,    0.23,2,    0.09,2
 09FA9508_1,      IR6_4,      24,          1,         20,         25,2,19950918,       0549,   -22.9227,   110.0857,       5028,   238.9,  18.3310,  35.9840,2,  35.9845,2,-999.0000,5,   218.0,2,    4.30,2,    1.14,2,    0.11,2
 09FA9508_1,      IR6_4,      24,          1,         19,          6,2,19950918,       0549,   -22.9227,   110.0857,       5028,   356.1,  13.2780,  35.3240,2,  35.3298,2,-999.0000,5,   228.3,2,    4.20,2,    6.10,2,    0.41,2
 09FA9508_1,      IR6_4,      24,          1,         18,         21,2,19950918,       0549,   -22.9227,   110.0857,       5028,   477.1,   9.8610,  34.7720,2,  34.7751,2,-999.0000,5,   239.2,2,    5.92,2,   14.39,2,    0.97,2
 09FA9508_1,      IR6_4,      24,          1,         17,          4,2,19950918,       0549,   -22.9227,   110.0857,       5028,   596.2,   8.4090,  34.5890,2,  34.5876,2,-999.0000,5,   219.4,2,   10.93,2,   20.85,2,    1.45,2
 09FA9508_1,      IR6_4,      24,          1,         16,         28,2,19950918,       0549,   -22.9227,   110.0857,       5028,   735.8,   6.0380,  34.5280,2,  34.5292,2,-999.0000,5,   148.7,2,   50.77,2,   31.74,2,    2.25,2
 09FA9508_1,      IR6_4,      24,          1,         15,         32,2,19950918,       0549,   -22.9227,   110.0857,       5028,   816.5,   5.6080,  34.5720,2,  34.5723,2,-999.0000,5,   120.9,2,   70.42,2,   34.75,2,    2.50,2
 09FA9508_1,      IR6_4,      24,          1,         13,         23,2,19950918,       0549,   -22.9227,   110.0857,       5028,   996.8,   4.9690,  34.6140,2,  34.6146,2,-999.0000,5,   107.9,2,   91.09,2,   36.41,2,    2.63,2
 09FA9508_1,      IR6_4,      24,          1,         11,         10,2,19950918,       0549,   -22.9227,   110.0857,       5028,  1395.6,   3.4360,  34.6370,2,  34.6346,2,-999.0000,5,   135.3,2,   99.88,2,   35.77,2,    2.57,2
 09FA9508_1,      IR6_4,      24,          1,         10,         19,2,19950918,       0549,   -22.9227,   110.0857,       5028,  1597.1,   2.9700,  34.6680,2,  34.6683,2,-999.0000,5,   142.9,2,  102.45,2,   35.25,2,    2.50,2
 09FA9508_1,      IR6_4,      24,          1,          9,         15,2,19950918,       0549,   -22.9227,   110.0857,       5028,  1799.2,   2.6270,  34.7060,2,  34.7154,2,-999.0000,5,   158.4,2,  109.58,2,   34.32,2,    2.43,2
 09FA9508_1,      IR6_4,      24,          1,          8,          5,2,19950918,       0549,   -22.9227,   110.0857,       5028,  1997.2,   2.3430,  34.7200,2,  34.7197,2,-999.0000,5,   150.2,2,  120.99,2,   34.71,2,    2.46,2
 09FA9508_1,      IR6_4,      24,          1,          7,         11,2,19950918,       0549,   -22.9227,   110.0857,       5028,  2498.7,   1.9230,  34.7270,2,  34.7284,2,-999.0000,5,   162.0,2,  122.59,2,   33.94,2,    2.40,2
 09FA9508_1,      IR6_4,      24,          1,          6,         26,2,19950918,       0549,   -22.9227,   110.0857,       5028,  2999.3,   1.5760,  34.7260,2,  34.7299,2,-999.0000,5,   177.4,2,  123.83,2,   33.16,2,    2.32,2
 09FA9508_1,      IR6_4,      24,          1,          5,         30,2,19950918,       0549,   -22.9227,   110.0857,       5028,  3498.0,   1.3230,  34.7210,2,  34.7205,2,-999.0000,5,   185.1,2,  131.56,2,   33.25,2,    2.32,2
 09FA9508_1,      IR6_4,      24,          1,          4,         16,2,19950918,       0549,   -22.9227,   110.0857,       5028,  3999.9,   1.2000,  34.7170,2,  34.7205,2,-999.0000,5,   188.6,2,  132.22,2,   32.96,2,    2.31,2
 09FA9508_1,      IR6_4,      24,          1,          1,          1,2,19950918,       0549,   -22.9227,   110.0857,       5028,  5120.7,   1.2230,  34.7160,2,-999.0000,9,-999.0000,5,   190.9,2,  131.03,2,   33.24,2,    2.32,2
 09FA9508_1,      IR6_4,      25,          1,         24,         24,2,19950918,       1138,   -22.4697,   109.9150,       3498,     2.9,  21.6650,  35.3870,2,  35.3880,2,-999.0000,5,   221.7,2,    5.48,4,    0.87,4,    0.09,4
 09FA9508_1,      IR6_4,      25,          1,         23,          8,2,19950918,       1138,   -22.4697,   109.9150,       3498,    48.7,  21.0310,  35.5270,2,  35.5210,2,-999.0000,5,   213.2,2,    6.88,4,    3.97,4,    0.37,4
 09FA9508_1,      IR6_4,      25,          1,         22,         13,2,19950918,       1138,   -22.4697,   109.9150,       3498,    99.1,  20.1220,  35.8300,2,  35.8224,2,-999.0000,5,   210.0,2,    7.03,4,    6.64,4,    0.56,4
 09FA9508_1,      IR6_4,      25,          1,         21,          9,2,19950918,       1138,   -22.4697,   109.9150,       3498,   147.1,  18.5750,  35.7210,2,  35.7188,2,-999.0000,5,   185.9,2,    5.48,2,    0.87,2,    0.09,2
 09FA9508_1,      IR6_4,      25,          1,         20,         25,2,19950918,       1138,   -22.4697,   109.9150,       3498,   198.2,  17.5350,  35.8620,2,  35.8504,2,-999.0000,5,   213.9,2,    6.88,2,    3.97,2,    0.37,2
 09FA9508_1,      IR6_4,      25,          1,         19,          6,2,19950918,       1138,   -22.4697,   109.9150,       3498,   278.1,  14.1950,  35.4470,2,  35.4549,2,-999.0000,5,   211.1,2,    7.03,2,    6.64,2,    0.56,2
 09FA9508_1,      IR6_4,      25,          1,         18,         21,2,19950918,       1138,   -22.4697,   109.9150,       3498,   357.8,  11.6060,  35.0560,2,  35.0554,2,-999.0000,5,   235.7,2,    9.57,2,    9.86,2,    0.77,2
 09FA9508_1,      IR6_4,      25,          1,         17,          4,2,19950918,       1138,   -22.4697,   109.9150,       3498,   437.5,  10.1620,  34.8220,2,  34.8225,2,-999.0000,5,   237.3,2,    7.56,2,   11.19,2,    0.85,2
 09FA9508_1,      IR6_4,      25,          1,         16,         28,2,19950918,       1138,   -22.4697,   109.9150,       3498,   517.1,   9.2370,  34.6770,2,  34.6742,2,-999.0000,5,   235.8,2,    8.06,2,   16.24,2,    1.15,2
 09FA9508_1,      IR6_4,      25,          1,         15,         32,2,19950918,       1138,   -22.4697,   109.9150,       3498,   596.6,   7.9290,  34.5390,2,  34.5433,2,-999.0000,5,   212.2,2,   23.30,2,   24.35,2,    1.72,2
 09FA9508_1,      IR6_4,      25,          1,         14,         31,2,19950918,       1138,   -22.4697,   109.9150,       3498,   676.5,   6.5110,  34.4720,2,  34.4888,2,-999.0000,5,   189.6,2,   39.72,2,   29.86,2,    2.12,2
 09FA9508_1,      IR6_4,      25,          1,         13,         23,2,19950918,       1138,   -22.4697,   109.9150,       3498,   795.7,   5.7590,  34.5680,2,  34.5684,2,-999.0000,5,   125.6,2,   63.19,2,   33.66,2,    2.43,2
 09FA9508_1,      IR6_4,      25,          1,         12,         18,2,19950918,       1138,   -22.4697,   109.9150,       3498,   896.2,   5.1990,  34.5670,2,  34.5723,2,-999.0000,5,   123.8,2,   79.64,2,   36.09,2,    2.62,2
 09FA9508_1,      IR6_4,      25,          1,         11,         10,2,19950918,       1138,   -22.4697,   109.9150,       3498,   996.8,   4.8960,  34.6030,2,  34.6013,2,-999.0000,5,   112.8,2,  131.19,4,   34.46,4,    2.42,4
 09FA9508_1,      IR6_4,      25,          1,         10,         19,2,19950918,       1138,   -22.4697,   109.9150,       3498,  1096.3,   4.4890,  34.6050,2,  34.6084,2,-999.0000,5,   115.1,2,  126.34,4,   33.52,4,    2.36,4
 09FA9508_1,      IR6_4,      25,          1,          9,         15,2,19950918,       1138,   -22.4697,   109.9150,       3498,  1194.1,   4.1850,  34.6150,2,  34.6303,2,-999.0000,5,   120.8,2,  133.82,4,   34.27,4,    2.40,4
 09FA9508_1,      IR6_4,      25,          1,          8,          5,2,19950918,       1138,   -22.4697,   109.9150,       3498,  1394.7,   3.6410,  34.6450,2,  34.6444,2,-999.0000,5,   124.9,2,  137.67,4,   34.23,4,    2.41,4
 09FA9508_1,      IR6_4,      25,          1,          7,         11,2,19950918,       1138,   -22.4697,   109.9150,       3498,  1596.1,   3.0610,  34.6740,2,  34.6738,2,-999.0000,5,   137.6,2,  138.44,4,   34.16,4,    2.41,4
 09FA9508_1,      IR6_4,      25,          1,          6,         26,2,19950918,       1138,   -22.4697,   109.9150,       3498,  1796.1,   2.6660,  34.7030,2,  34.7048,2,-999.0000,5,   145.1,2,    5.00,4,   35.89,4,    0.18,4
 09FA9508_1,      IR6_4,      25,          1,          5,         30,2,19950918,       1138,   -22.4697,   109.9150,       3498,  1996.2,   2.3970,  34.7190,2,  34.7174,2,-999.0000,5,   149.4,2,    5.27,4,    0.82,4,    0.18,4
 09FA9508_1,      IR6_4,      25,          1,          4,         16,2,19950918,       1138,   -22.4697,   109.9150,       3498,  2496.7,   1.9470,  34.7280,2,  34.7288,2,-999.0000,5,   160.0,2,  127.25,4,   35.33,4,    2.45,4
 09FA9508_1,      IR6_4,      25,          1,          3,         27,2,19950918,       1138,   -22.4697,   109.9150,       3498,  3002.6,   1.5800,  34.7260,2,  34.7252,2,-999.0000,5,   174.0,2,  123.59,4,   34.75,4,    2.41,4
 09FA9508_1,      IR6_4,      25,          1,          2,          3,2,19950918,       1138,   -22.4697,   109.9150,       3498,  3495.8,   1.3200,  34.7200,2,  34.7209,2,-999.0000,5,   186.1,2,  130.25,4,   34.53,4,    2.36,4
 09FA9508_1,      IR6_4,      25,          1,          1,          1,2,19950918,       1138,   -22.4697,   109.9150,       3498,  3556.9,   1.2900,  34.7190,2,  34.7205,2,-999.0000,5,   187.0,2,  132.15,4,   34.53,4,    2.38,4