BOTTLE,20211101CCHSIORKP
EXPOCODE,SECT_ID,STNNBR,CASTNO,SAMPNO,BTLNBR,BTLNBR_FLAG_W,DATE,TIME,LATITUDE,LONGITUDE,DEPTH,CTDPRS,CTDTMP,CTDSAL,CTDSAL_FLAG_W,SALNTY,SALNTY_FLAG_W,CTDOXY,CTDOXY_FLAG_W,OXYGEN,OXYGEN_FLAG_W,SILCAT,SILCAT_FLAG_W,NITRAT,NITRAT_FLAG_W,PHSPHT,PHSPHT_FLAG_W
,,,,,,,,,,,METERS,DBAR,ITS-90,PSS-78,,PSS-78,,UMOL/KG,,UMOL/KG,,UMOL/KG,,UMOL/KG,,UMOL/KG,
 09FA9508_1,      IR6_4,     103,          1,         20,         21,2,19951009,       0329,   -13.1185,   119.5790,       3213,     2.4,  27.8300,  34.4960,2,  34.5025,2,-999.0000,5,   198.0,2,    4.40,2,    0.29,2,    0.15,2
 09FA9508_1,      IR6_4,     103,          1,         19,         42,2,19951009,       0329,   -13.1185,   119.5790,       3213,    49.4,  27.1490,  34.4930,2,  34.4895,2,-999.0000,5,   198.9,2,    4.42,2,    0.29,2,    0.16,2
 09FA9508_1,      IR6_4,     103,          1,         18,         13,2,19951009,       0329,   -13.1185,   119.5790,       3213,    99.7,  25.1660,  34.5020,2,  34.4918,2,-999.0000,5,   175.8,2,    6.23,2,    3.17,2,    0.35,2
 09FA9508_1,      IR6_4,     103,          1,         17,         43,2,19951009,       0329,   -13.1185,   119.5790,       3213,   198.9,  16.9370,  34.7850,2,  34.7727,2,-999.0000,5,   104.3,2,   25.06,2,   18.26,2,    1.37,2
 09FA9508_1,      IR6_4,     103,          1,         16,         69,2,19951009,       0329,   -13.1185,   119.5790,       3213,   298.0,  11.6400,  34.6600,2,  34.6596,2,-999.0000,5,    95.8,2,   39.82,2,   25.80,2,    1.89,2
 09FA9508_1,      IR6_4,     103,          1,         15,         11,2,19951009,       0329,   -13.1185,   119.5790,       3213,   398.2,   9.2510,  34.5530,2,  34.5536,2,-999.0000,5,    89.7,2,   53.24,2,   30.17,2,    2.19,2
 09FA9508_1,      IR6_4,     103,          1,         14,          8,2,19951009,       0329,   -13.1185,   119.5790,       3213,   498.0,   8.0500,  34.5760,2,-999.0000,9,-999.0000,5,    87.9,2,   61.00,2,   32.32,2,    2.33,2
 09FA9508_1,      IR6_4,     103,          1,         13,          6,2,19951009,       0329,   -13.1185,   119.5790,       3213,   597.6,   7.1840,  34.5840,2,  34.5829,2,-999.0000,5,    86.4,2,   70.83,2,   33.68,2,    2.44,2
 09FA9508_1,      IR6_4,     103,          1,         12,         35,2,19951009,       0329,   -13.1185,   119.5790,       3213,   697.0,   6.5320,  34.5870,2,  34.5852,2,-999.0000,5,    86.6,2,   78.16,2,   34.53,2,    2.51,2
 09FA9508_1,      IR6_4,     103,          1,         11,          3,2,19951009,       0329,   -13.1185,   119.5790,       3213,   796.6,   5.8790,  34.5880,2,  34.5871,2,-999.0000,5,    89.0,2,   86.81,2,   35.20,2,    2.54,2
 09FA9508_1,      IR6_4,     103,          1,         10,         30,2,19951009,       0329,   -13.1185,   119.5790,       3213,   897.1,   5.3530,  34.5950,2,  34.5941,2,-999.0000,5,    91.0,2,   94.39,2,   35.91,2,    2.59,2
 09FA9508_1,      IR6_4,     103,          1,          9,         24,2,19951009,       0329,   -13.1185,   119.5790,       3213,   996.1,   4.9640,  34.5980,2,  34.5956,2,-999.0000,5,    93.4,2,  100.63,2,   36.03,2,    2.60,2
 09FA9508_1,      IR6_4,     103,          1,          8,         17,2,19951009,       0329,   -13.1185,   119.5790,       3213,  1195.4,   4.3170,  34.6150,2,  34.6128,2,-999.0000,5,    96.8,2,  108.17,2,   36.47,2,    2.64,2
 09FA9508_1,      IR6_4,     103,          1,          7,         48,2,19951009,       0329,   -13.1185,   119.5790,       3213,  1395.9,   3.7950,  34.6410,2,  34.6403,2,-999.0000,5,   103.6,2,  113.34,2,   36.48,2,    2.63,2
 09FA9508_1,      IR6_4,     103,          1,          6,         15,2,19951009,       0329,   -13.1185,   119.5790,       3213,  1596.3,   3.2890,  34.6760,2,  34.6744,2,-999.0000,5,   114.1,2,  116.70,2,   36.07,2,    2.61,2
 09FA9508_1,      IR6_4,     103,          1,          5,         28,2,19951009,       0329,   -13.1185,   119.5790,       3213,  1795.7,   2.8350,  34.7080,2,  34.7082,2,-999.0000,5,   124.2,2,  119.17,2,   35.69,2,    2.57,2
 09FA9508_1,      IR6_4,     103,          1,          4,         99,2,19951009,       0329,   -13.1185,   119.5790,       3213,  1996.1,   2.4920,  34.7230,2,  34.7199,2,-999.0000,5,   133.0,2,  121.14,2,   35.33,2,    2.53,2
 09FA9508_1,      IR6_4,     103,          1,          3,         14,2,19951009,       0329,   -13.1185,   119.5790,       3213,  2495.2,   2.0080,  34.7290,2,  34.7262,2,-999.0000,5,   147.1,2,  124.93,2,   34.64,2,    2.49,2
 09FA9508_1,      IR6_4,     103,          1,          2,          5,2,19951009,       0329,   -13.1185,   119.5790,       3213,  3000.3,   1.6650,  34.7250,2,  34.7227,2,-999.0000,5,   159.4,2,  128.97,2,   34.30,2,    2.42,2
 09FA9508_1,      IR6_4,     103,          1,          1,         18,2,19951009,       0329,   -13.1185,   119.5790,       3213,  3234.8,   1.5060,  34.7210,2,  34.7195,2,-999.0000,5,   165.4,2,    2.22,4, -999.00,9, -999.00,9
 09FA9508_1,      IR6_4,     104,          1,         20,         21,2,19951009,       0650,   -13.0827,   119.7662,       2500,     2.7,  28.3660,  34.4660,2,  34.4654,2,-999.0000,5,   203.8,2,    4.23,2,    0.18,2,    0.18,2
 09FA9508_1,      IR6_4,     104,          1,         19,         42,2,19951009,       0650,   -13.0827,   119.7662,       2500,    50.5,  27.0500,  34.4340,2,  34.4831,2,-999.0000,5,   205.3,2,    4.54,2,    0.16,2,    0.15,2
 09FA9508_1,      IR6_4,     104,          1,         18,         13,2,19951009,       0650,   -13.0827,   119.7662,       2500,    99.8,  25.6760,  34.6390,2,  34.6421,2,-999.0000,5,   197.1,2,    5.20,2,    0.26,2,    0.20,2
 09FA9508_1,      IR6_4,     104,          1,         17,         43,2,19951009,       0650,   -13.0827,   119.7662,       2500,   150.4,  21.4480,  34.6360,2,  34.6422,2,-999.0000,5,   117.8,2,   16.13,2,   12.71,2,    1.01,2
 09FA9508_1,      IR6_4,     104,          1,         16,         69,2,19951009,       0650,   -13.0827,   119.7662,       2500,   199.3,  17.7760,  34.7820,2,  34.7777,2,-999.0000,5,   106.3,2,   22.86,2,   17.42,2,    1.30,2
 09FA9508_1,      IR6_4,     104,          1,         15,         11,2,19951009,       0650,   -13.0827,   119.7662,       2500,   299.7,  11.7460,  34.6510,2,  34.6439,2,-999.0000,5,    95.2,2,   39.04,2,   25.79,2,    1.87,2
 09FA9508_1,      IR6_4,     104,          1,         14,          8,2,19951009,       0650,   -13.0827,   119.7662,       2500,   399.3,   8.9920,  34.5560,2,  34.5573,2,-999.0000,5,    88.4,2,   54.72,2,   30.70,2,    2.23,2
 09FA9508_1,      IR6_4,     104,          1,         13,          6,2,19951009,       0650,   -13.0827,   119.7662,       2500,   498.1,   8.0430,  34.5730,2,  34.5735,2,-999.0000,5,    88.8,2,   61.36,2,   32.29,2,    2.34,2
 09FA9508_1,      IR6_4,     104,          1,         12,         35,2,19951009,       0650,   -13.0827,   119.7662,       2500,   598.6,   7.3050,  34.5910,2,  34.5885,2,-999.0000,5,    87.1,2,   66.45,2,   33.58,2,    2.42,2
 09FA9508_1,      IR6_4,     104,          1,         11,          3,2,19951009,       0650,   -13.0827,   119.7662,       2500,   698.0,   6.7410,  34.5890,2,  34.5858,2,-999.0000,5,    87.1,2,   74.01,2,   34.40,2,    2.48,2
 09FA9508_1,      IR6_4,     104,          1,         10,         30,2,19951009,       0650,   -13.0827,   119.7662,       2500,   795.9,   6.1110,  34.5850,2,  34.5859,2,-999.0000,5,    89.2,2,   83.15,2,   35.10,2,    2.56,2
 09FA9508_1,      IR6_4,     104,          1,          9,         24,2,19951009,       0650,   -13.0827,   119.7662,       2500,   896.9,   5.6360,  34.5880,2,  34.5860,2,-999.0000,5,    90.3,2,   89.52,2,   35.56,2,    2.59,2
 09FA9508_1,      IR6_4,     104,          1,          8,         17,2,19951009,       0650,   -13.0827,   119.7662,       2500,   995.6,   5.1740,  34.5960,2,  34.5905,2,-999.0000,5,    93.1,2,   95.93,2,   36.12,2,    2.61,2
 09FA9508_1,      IR6_4,     104,          1,          7,         48,2,19951009,       0650,   -13.0827,   119.7662,       2500,  1197.0,   4.3820,  34.6090,2,  34.6078,2,-999.0000,5,    95.9,2,  107.20,2,   36.52,2,    2.63,2
 09FA9508_1,      IR6_4,     104,          1,          6,         15,2,19951009,       0650,   -13.0827,   119.7662,       2500,  1399.0,   3.8320,  34.6370,2,  34.6353,2,-999.0000,5,   102.7,2,  112.97,2,   36.53,2,    2.63,2
 09FA9508_1,      IR6_4,     104,          1,          5,         28,2,19951009,       0650,   -13.0827,   119.7662,       2500,  1596.9,   3.3550,  34.6720,2,  34.6695,2,-999.0000,5,   112.3,2,  115.95,2,   36.26,2,    2.60,2
 09FA9508_1,      IR6_4,     104,          1,          4,         99,2,19951009,       0650,   -13.0827,   119.7662,       2500,  1796.4,   2.8610,  34.7060,2,  34.7053,2,-999.0000,5,   123.5,2,  118.37,2,   35.68,2,    2.55,2
 09FA9508_1,      IR6_4,     104,          1,          3,         14,2,19951009,       0650,   -13.0827,   119.7662,       2500,  1995.5,   2.5350,  34.7200,2,  34.7179,2,-999.0000,5,   131.6,2,  120.35,2,   35.42,2,    2.51,2
 09FA9508_1,      IR6_4,     104,          1,          2,          5,2,19951009,       0650,   -13.0827,   119.7662,       2500,  2400.5,   2.0570,  34.7290,2,  34.7242,2,-999.0000,5,   145.7,2,  125.75,2,   34.72,2,    2.49,2
 09FA9508_1,      IR6_4,     104,          1,          1,         18,2,19951009,       0650,   -13.0827,   119.7662,       2500,  2526.7,   1.9740,  34.7290,2,  34.7246,2,-999.0000,5,   148.7,2,  126.15,2,   34.50,2,    2.45,2
 09FA9508_1,      IR6_4,     105,          1,         20,         21,2,19951009,       1051,   -13.0018,   120.1002,       3120,     2.4,  28.2700,  34.3980,2,  34.3916,2,-999.0000,5,   203.5,2,    4.33,2,    0.29,2,    0.13,2
 09FA9508_1,      IR6_4,     105,          1,         19,         42,2,19951009,       1051,   -13.0018,   120.1002,       3120,    49.2,  27.4290,  34.3380,2,  34.3285,2,-999.0000,5,   214.2,2,    4.32,2,    0.20,2,    0.13,2
 09FA9508_1,      IR6_4,     105,          1,         18,         13,2,19951009,       1051,   -13.0018,   120.1002,       3120,    98.6,  25.5850,  34.6690,2,  34.6543,2,-999.0000,5,   198.3,2,    5.34,2,    0.45,2,    0.19,2
 09FA9508_1,      IR6_4,     105,          1,         17,         43,2,19951009,       1051,   -13.0018,   120.1002,       3120,   148.1,  20.7610,  34.4340,2,  34.4271,2,-999.0000,5,   118.6,2,   17.80,2,   13.86,2,    1.01,2
 09FA9508_1,      IR6_4,     105,          1,         16,         69,2,19951009,       1051,   -13.0018,   120.1002,       3120,   198.1,  14.5650,  34.5350,2,  34.5417,2,-999.0000,5,    99.9,2,   31.84,2,   21.91,2,    1.58,2
 09FA9508_1,      IR6_4,     105,          1,         15,         11,2,19951009,       1051,   -13.0018,   120.1002,       3120,   298.0,  10.8450,  34.5730,2,  34.5724,2,-999.0000,5,    93.7,2,   43.80,2,   27.44,2,    1.98,2
 09FA9508_1,      IR6_4,     105,          1,         14,          8,2,19951009,       1051,   -13.0018,   120.1002,       3120,   398.3,   9.5180,  34.6040,2,  34.5972,2,-999.0000,5,    92.1,2,   49.53,2,   29.61,2,    2.11,2
 09FA9508_1,      IR6_4,     105,          1,         13,          6,2,19951009,       1051,   -13.0018,   120.1002,       3120,   497.6,   8.1740,  34.5640,2,  34.5639,2,-999.0000,5,    87.8,2,   60.09,2,   32.24,2,    2.31,2
 09FA9508_1,      IR6_4,     105,          1,         12,         35,2,19951009,       1051,   -13.0018,   120.1002,       3120,   597.5,   7.2810,  34.5830,2,  34.5820,2,-999.0000,5,    87.6,2,   68.85,2,   33.75,2,    2.45,2
 09FA9508_1,      IR6_4,     105,          1,         11,          3,2,19951009,       1051,   -13.0018,   120.1002,       3120,   697.4,   6.6580,  34.5880,2,  34.5883,2,-999.0000,5,    86.7,2,   75.64,2,   34.55,2,    2.48,2
 09FA9508_1,      IR6_4,     105,          1,         10,         30,2,19951009,       1051,   -13.0018,   120.1002,       3120,   796.5,   6.1320,  34.5840,2,  34.5853,2,-999.0000,5,    88.8,2,   83.38,2,   34.99,2,    2.53,2
 09FA9508_1,      IR6_4,     105,          1,          9,         24,2,19951009,       1051,   -13.0018,   120.1002,       3120,   896.7,   5.5250,  34.5900,2,  34.5892,2,-999.0000,5,    90.8,2,   91.28,2,   35.52,2,    2.57,2
 09FA9508_1,      IR6_4,     105,          1,          8,         17,2,19951009,       1051,   -13.0018,   120.1002,       3120,   996.0,   5.1690,  34.5940,2,  34.5921,2,-999.0000,5,    92.7,2,   96.52,2,   35.92,2,    2.60,2
 09FA9508_1,      IR6_4,     105,          1,          7,         48,2,19951009,       1051,   -13.0018,   120.1002,       3120,  1196.0,   4.4630,  34.6070,2,  34.6074,2,-999.0000,5,    94.9,2,  106.28,2,   36.39,2,    2.63,2
 09FA9508_1,      IR6_4,     105,          1,          6,         15,2,19951009,       1051,   -13.0018,   120.1002,       3120,  1395.9,   3.7970,  34.6350,2,  34.6349,2,-999.0000,5,   103.6,2,  113.63,2,   36.50,2,    2.63,2
 09FA9508_1,      IR6_4,     105,          1,          5,         28,2,19951009,       1051,   -13.0018,   120.1002,       3120,  1695.4,   3.0690,  34.6910,2,  34.6926,2,-999.0000,5,   118.8,2,  117.09,2,   35.95,2,    2.59,2
 09FA9508_1,      IR6_4,     105,          1,          4,         99,2,19951009,       1051,   -13.0018,   120.1002,       3120,  1996.1,   2.4220,  34.7220,2,  34.7205,2,-999.0000,5,   135.0,2,  121.87,2,   35.31,2,    2.52,2
 09FA9508_1,      IR6_4,     105,          1,          3,         14,2,19951009,       1051,   -13.0018,   120.1002,       3120,  2496.8,   2.0070,  34.7280,2,  34.7217,2,-999.0000,5,   147.4,2,  126.13,2,   34.85,2,    2.48,2
 09FA9508_1,      IR6_4,     105,          1,          2,          5,2,19951009,       1051,   -13.0018,   120.1002,       3120,  2998.4,   1.7070,  34.7240,2,  34.7252,2,-999.0000,5,   157.7,2,  128.68,2,   34.26,2,    2.43,2
 09FA9508_1,      IR6_4,     105,          1,          1,         18,2,19951009,       1051,   -13.0018,   120.1002,       3120,  3129.5,   1.6080,  34.7230,2,  34.7236,2,-999.0000,5,   161.5,2,  130.49,2,   34.18,2,    2.42,2
 09FA9508_1,      IR6_4,     106,          1,         20,         21,2,19951009,       1529,   -12.8640,   120.5497,       2153,     2.5,  28.1270,  34.4270,2,  34.4284,2,-999.0000,5,   204.0,2,    4.42,2,    0.39,2,    0.16,2
 09FA9508_1,      IR6_4,     106,          1,         19,         42,2,19951009,       1529,   -12.8640,   120.5497,       2153,    49.2,  26.4540,  34.3210,2,  34.3233,2,-999.0000,5,   201.8,2,    4.82,2,    0.45,2,    0.18,2
 09FA9508_1,      IR6_4,     106,          1,         18,         13,2,19951009,       1529,   -12.8640,   120.5497,       2153,    99.2,  25.3270,  34.1740,2,  34.1779,2,-999.0000,5,   180.7,2,    5.54,2,    3.88,2,    0.38,2
 09FA9508_1,      IR6_4,     106,          1,         17,         43,2,19951009,       1529,   -12.8640,   120.5497,       2153,   149.7,  23.8280,  34.7710,2,  34.7759,2,-999.0000,5,   147.3,2,   10.53,2,    7.24,2,    0.64,2
 09FA9508_1,      IR6_4,     106,          1,         16,         69,2,19951009,       1529,   -12.8640,   120.5497,       2153,   199.2,  15.5800,  34.5410,2,  34.5391,2,-999.0000,5,   101.7,2,   30.08,2,   20.63,2,    1.53,2
 09FA9508_1,      IR6_4,     106,          1,         15,         11,2,19951009,       1529,   -12.8640,   120.5497,       2153,   299.4,  10.6590,  34.5430,2,  34.5477,2,-999.0000,5,    94.5,2,   45.32,2,   27.56,2,    1.99,2
 09FA9508_1,      IR6_4,     106,          1,         14,          8,2,19951009,       1529,   -12.8640,   120.5497,       2153,   398.5,   9.2980,  34.6160,2,  34.6168,2,-999.0000,5,    97.4,2,   48.89,2,   29.25,2,    2.10,2
 09FA9508_1,      IR6_4,     106,          1,         13,          6,2,19951009,       1529,   -12.8640,   120.5497,       2153,   497.8,   7.9240,  34.5670,2,-999.0000,9,-999.0000,5,    88.8,2,   64.99,2,   32.45,2,    2.34,2
 09FA9508_1,      IR6_4,     106,          1,         12,         35,2,19951009,       1529,   -12.8640,   120.5497,       2153,   596.8,   7.4180,  34.5720,2,  34.5728,2,-999.0000,5,    88.3,2,   69.54,2,   33.03,2,    2.40,2
 09FA9508_1,      IR6_4,     106,          1,         11,          3,2,19951009,       1529,   -12.8640,   120.5497,       2153,   696.1,   6.8860,  34.5800,2,  34.5799,2,-999.0000,5,    88.0,2,   74.94,2,   33.84,2,    2.46,2
 09FA9508_1,      IR6_4,     106,          1,         10,         30,2,19951009,       1529,   -12.8640,   120.5497,       2153,   795.3,   6.2220,  34.5850,2,  34.5866,2,-999.0000,5,    88.8,2,   82.21,2,   34.78,2,    2.52,2
 09FA9508_1,      IR6_4,     106,          1,          9,         24,2,19951009,       1529,   -12.8640,   120.5497,       2153,   896.0,   5.5270,  34.5880,2,  34.5909,2,-999.0000,5,    91.0,2,   91.35,2,   35.37,2,    2.57,2
 09FA9508_1,      IR6_4,     106,          1,          8,         17,2,19951009,       1529,   -12.8640,   120.5497,       2153,   995.5,   5.0830,  34.5960,2,  34.5960,2,-999.0000,5,    93.0,2,   97.64,2,   35.84,2,    2.62,2
 09FA9508_1,      IR6_4,     106,          1,          7,         48,2,19951009,       1529,   -12.8640,   120.5497,       2153,  1096.0,   4.7070,  34.6010,2,  34.6019,2,-999.0000,5,    93.7,2,  103.02,2,   36.24,2,    2.63,2
 09FA9508_1,      IR6_4,     106,          1,          6,         15,2,19951009,       1529,   -12.8640,   120.5497,       2153,  1195.6,   4.3730,  34.6080,2,  34.6082,2,-999.0000,5,    96.0,2,  108.22,2,   36.50,2,    2.65,2
 09FA9508_1,      IR6_4,     106,          1,          5,         28,2,19951009,       1529,   -12.8640,   120.5497,       2153,  1296.0,   4.1220,  34.6200,2,  34.6192,2,-999.0000,5,    98.1,2,  110.70,2,   36.48,2,    2.66,2
 09FA9508_1,      IR6_4,     106,          1,          4,         99,2,19951009,       1529,   -12.8640,   120.5497,       2153,  1495.9,   3.5190,  34.6560,2,  34.6553,2,-999.0000,5,   109.0,2,  115.38,2,   36.44,2,    2.63,2
 09FA9508_1,      IR6_4,     106,          1,          3,         14,2,19951009,       1529,   -12.8640,   120.5497,       2153,  1745.1,   2.9940,  34.6950,2,  34.6950,2,-999.0000,5,   120.8,2,  119.03,2,   35.87,2,    2.59,2
 09FA9508_1,      IR6_4,     106,          1,          2,          5,2,19951009,       1529,   -12.8640,   120.5497,       2153,  1996.8,   2.4050,  34.7210,2,  34.7229,2,-999.0000,5,   135.5,2,  123.92,2,   35.57,2,    2.54,2
 09FA9508_1,      IR6_4,     106,          1,          1,         18,2,19951009,       1529,   -12.8640,   120.5497,       2153,  2148.6,   2.2410,  34.7230,2,  34.7244,2,-999.0000,5,   139.2,2,  126.04,2,   35.31,2,    2.52,2