BOTTLE,20211101CCHSIORKP
EXPOCODE,SECT_ID,STNNBR,CASTNO,SAMPNO,BTLNBR,BTLNBR_FLAG_W,DATE,TIME,LATITUDE,LONGITUDE,DEPTH,CTDPRS,CTDTMP,CTDSAL,CTDSAL_FLAG_W,SALNTY,SALNTY_FLAG_W,CTDOXY,CTDOXY_FLAG_W,OXYGEN,OXYGEN_FLAG_W,SILCAT,SILCAT_FLAG_W,NITRAT,NITRAT_FLAG_W,PHSPHT,PHSPHT_FLAG_W
,,,,,,,,,,,METERS,DBAR,ITS-90,PSS-78,,PSS-78,,UMOL/KG,,UMOL/KG,,UMOL/KG,,UMOL/KG,,UMOL/KG,
 09FA9508_1,      IR6_4,      88,          1,         21,         21,2,19951005,       0254,   -12.2155,   112.9690,       3828,     1.5,  27.4160,  34.4330,2,  34.4360,2,-999.0000,5,   199.4,2,    4.41,2,    0.34,2,    0.15,2
 09FA9508_1,      IR6_4,      88,          1,         20,         45,2,19951005,       0254,   -12.2155,   112.9690,       3828,    46.6,  26.4350,  34.3100,2,  34.3106,2,-999.0000,5,   200.7,2,    4.75,2,    0.25,2,    0.17,2
 09FA9508_1,      IR6_4,      88,          1,         19,         42,2,19951005,       0254,   -12.2155,   112.9690,       3828,    97.2,  23.0320,  34.4290,2,  34.4263,2,-999.0000,5,   163.1,2,   11.11,2,    7.73,2,    0.53,2
 09FA9508_1,      IR6_4,      88,          1,         18,         13,2,19951005,       0254,   -12.2155,   112.9690,       3828,   198.0,  14.9510,  34.5350,2,  34.5350,2,-999.0000,5,   113.0,2,   28.57,2,   19.51,2,    1.41,2
 09FA9508_1,      IR6_4,      88,          1,         17,         27,2,19951005,       0254,   -12.2155,   112.9690,       3828,   296.7,  10.7670,  34.5900,2,  34.5899,2,-999.0000,5,    91.2,2,   43.50,2,   27.25,2,    1.96,2
 09FA9508_1,      IR6_4,      88,          1,         16,         20,2,19951005,       0254,   -12.2155,   112.9690,       3828,   396.3,   8.9560,  34.5980,2,  34.5962,2,-999.0000,5,    87.1,2,   52.42,2,   30.69,2,    2.19,2
 09FA9508_1,      IR6_4,      88,          1,         15,         11,2,19951005,       0254,   -12.2155,   112.9690,       3828,   496.8,   8.0910,  34.6190,2,  34.6155,2,-999.0000,5,    83.3,2,   58.55,2,   32.50,2,    2.33,2
 09FA9508_1,      IR6_4,      88,          1,         14,          8,2,19951005,       0254,   -12.2155,   112.9690,       3828,   595.7,   6.8930,  34.5870,2,  34.5845,2,-999.0000,5,    84.8,2,   74.12,2,   34.08,2,    2.44,2
 09FA9508_1,      IR6_4,      88,          1,         13,          6,2,19951005,       0254,   -12.2155,   112.9690,       3828,   694.6,   6.4090,  34.5920,2,  34.5884,2,-999.0000,5,    85.4,2,   80.34,2,   34.74,2,    2.51,2
 09FA9508_1,      IR6_4,      88,          1,         12,         35,2,19951005,       0254,   -12.2155,   112.9690,       3828,   796.3,   5.8350,  34.5910,2,  34.5884,2,-999.0000,5,    86.7,2,   88.30,2,   35.27,2,    2.55,2
 09FA9508_1,      IR6_4,      88,          1,         11,          3,2,19951005,       0254,   -12.2155,   112.9690,       3828,   895.4,   5.4070,  34.5940,2,  34.5908,2,-999.0000,5,    88.8,2,   93.87,2,   35.68,2,    2.58,2
 09FA9508_1,      IR6_4,      88,          1,         10,         30,2,19951005,       0254,   -12.2155,   112.9690,       3828,   995.7,   4.8960,  34.6000,2,  34.5963,2,-999.0000,5,    91.7,2,  101.44,2,   36.07,2,    2.61,2
 09FA9508_1,      IR6_4,      88,          1,          8,         17,2,19951005,       0254,   -12.2155,   112.9690,       3828,  1396.4,   3.7760,  34.6550,2,  34.6574,2,-999.0000,5,   102.7,2,  114.20,2,   36.11,2,    2.64,2
 09FA9508_1,      IR6_4,      88,          1,          7,         48,2,19951005,       0254,   -12.2155,   112.9690,       3828,  1595.0,   3.2420,  34.6960,2,  34.6981,2,-999.0000,5,   113.0,2,  117.76,2,   36.05,2,    2.61,2
 09FA9508_1,      IR6_4,      88,          1,          6,         15,2,19951005,       0254,   -12.2155,   112.9690,       3828,  1795.4,   2.7930,  34.7170,2,  34.7204,2,-999.0000,5,   124.7,2,  120.17,2,   35.51,2,    2.57,2
 09FA9508_1,      IR6_4,      88,          1,          5,         28,2,19951005,       0254,   -12.2155,   112.9690,       3828,  1995.3,   2.4790,  34.7270,2,  34.7266,2,-999.0000,5,   133.2,2,  122.61,2,   35.19,2,    2.55,2
 09FA9508_1,      IR6_4,      88,          1,          4,         99,2,19951005,       0254,   -12.2155,   112.9690,       3828,  2496.3,   2.0030,  34.7280,2,  34.7277,2,-999.0000,5,   147.6,2,  126.94,2,   34.56,2,    2.46,2
 09FA9508_1,      IR6_4,      88,          1,          3,         14,2,19951005,       0254,   -12.2155,   112.9690,       3828,  2998.4,   1.6170,  34.7220,2,  34.7210,2,-999.0000,5,   160.4,2,  130.15,2,   34.14,2,    2.44,2
 09FA9508_1,      IR6_4,      88,          1,          2,          5,2,19951005,       0254,   -12.2155,   112.9690,       3828,  3501.1,   1.3820,  34.7160,2,  34.7174,2,-999.0000,5,   171.4,2,  131.18,2,   33.87,2,    2.37,2
 09FA9508_1,      IR6_4,      88,          1,          1,         18,2,19951005,       0254,   -12.2155,   112.9690,       3828,  3860.2,   1.2350,  34.7140,2,  34.7145,2,-999.0000,5,   179.0,2,  131.99,2,   33.51,2,    2.34,2
 09FA9508_1,      IR6_4,      89,          1,         24,         21,2,19951005,       0802,   -12.2748,   113.2763,       4395,     2.9,  27.3990,  34.4680,2,  34.4720,2,-999.0000,5,   197.1,2,    4.44,2,    0.14,2,    0.17,2
 09FA9508_1,      IR6_4,      89,          1,         23,         43,2,19951005,       0802,   -12.2748,   113.2763,       4395,    49.6,  26.5780,  34.4210,2,  34.4285,2,-999.0000,5,   203.1,2,    4.59,2,    0.14,2,    0.16,2
 09FA9508_1,      IR6_4,      89,          1,         22,          7,2,19951005,       0802,   -12.2748,   113.2763,       4395,    98.2,  25.3300,  34.6200,2,  34.6335,2,-999.0000,5,   182.2,2,    5.87,2,    1.82,2,    0.28,2
 09FA9508_1,      IR6_4,      89,          1,         21,         10,2,19951005,       0802,   -12.2748,   113.2763,       4395,   149.3,  18.8440,  34.5190,2,  34.5224,2,-999.0000,5,   117.4,2,   21.16,2,   15.36,2,    1.11,2
 09FA9508_1,      IR6_4,      89,          1,         20,         45,2,19951005,       0802,   -12.2748,   113.2763,       4395,   198.6,  15.8280,  34.5210,2,  34.5107,2,-999.0000,5,   105.0,2,   28.73,2,   19.96,2,    1.47,2
 09FA9508_1,      IR6_4,      89,          1,         19,         42,2,19951005,       0802,   -12.2748,   113.2763,       4395,   297.1,  10.5190,  34.5690,2,  34.5677,2,-999.0000,5,    89.9,2,   46.57,2,   27.97,2,    2.05,2
 09FA9508_1,      IR6_4,      89,          1,         18,         13,2,19951005,       0802,   -12.2748,   113.2763,       4395,   398.9,   9.2850,  34.5960,2,  34.5952,2,-999.0000,5,    85.3,2,   51.41,2,   30.54,2,    2.21,2
 09FA9508_1,      IR6_4,      89,          1,         17,         27,2,19951005,       0802,   -12.2748,   113.2763,       4395,   497.6,   8.3940,  34.6220,2,  34.6212,2,-999.0000,5,    81.9,2,   56.56,2,   32.28,2,    2.33,2
 09FA9508_1,      IR6_4,      89,          1,         16,         20,2,19951005,       0802,   -12.2748,   113.2763,       4395,   597.8,   7.5870,  34.6340,2,  34.6346,2,-999.0000,5,    77.5,2,   65.96,2,   33.95,2,    2.46,2
 09FA9508_1,      IR6_4,      89,          1,         15,         11,2,19951005,       0802,   -12.2748,   113.2763,       4395,   697.1,   6.7420,  34.6050,2,  34.6071,2,-999.0000,5,    82.5,2,   76.15,2,   34.73,2,    2.51,2
 09FA9508_1,      IR6_4,      89,          1,         14,          8,2,19951005,       0802,   -12.2748,   113.2763,       4395,   796.3,   6.1240,  34.6010,2,  34.6017,2,-999.0000,5,    84.3,2,   83.63,2,   35.16,2,    2.57,2
 09FA9508_1,      IR6_4,      89,          1,         13,          6,2,19951005,       0802,   -12.2748,   113.2763,       4395,   896.7,   5.5610,  34.5970,2,  34.5967,2,-999.0000,5,    87.9,2,   92.85,2,   35.65,2,    2.59,2
 09FA9508_1,      IR6_4,      89,          1,         12,         35,2,19951005,       0802,   -12.2748,   113.2763,       4395,   995.8,   5.1020,  34.5950,2,  34.5986,2,-999.0000,5,    90.8,2,   99.42,2,   35.91,2,    2.61,2
 09FA9508_1,      IR6_4,      89,          1,         11,          3,2,19951005,       0802,   -12.2748,   113.2763,       4395,  1196.1,   4.4250,  34.6100,2,  34.6084,2,-999.0000,5,    94.4,2,  108.40,2,   36.34,2,    2.63,2
 09FA9508_1,      IR6_4,      89,          1,         10,         30,2,19951005,       0802,   -12.2748,   113.2763,       4395,  1397.3,   3.8360,  34.6500,2,  34.6500,2,-999.0000,5,   102.3,2,  114.42,2,   36.33,2,    2.65,2
 09FA9508_1,      IR6_4,      89,          1,          9,         24,2,19951005,       0802,   -12.2748,   113.2763,       4395,  1594.9,   3.3380,  34.6850,2,  34.6822,2,-999.0000,5,   111.5,2,  117.23,2,   36.07,2,    2.62,2
 09FA9508_1,      IR6_4,      89,          1,          8,         17,2,19951005,       0802,   -12.2748,   113.2763,       4395,  1795.5,   2.9600,  34.7120,2,  34.7081,2,-999.0000,5,   120.1,2,  119.64,2,   35.72,2,    2.59,2
 09FA9508_1,      IR6_4,      89,          1,          7,         48,2,19951005,       0802,   -12.2748,   113.2763,       4395,  1996.1,   2.6020,  34.7280,2,  34.7230,2,-999.0000,5,   129.5,2,  121.59,2,   35.29,2,    2.54,2
 09FA9508_1,      IR6_4,      89,          1,          6,         15,2,19951005,       0802,   -12.2748,   113.2763,       4395,  2328.9,   2.1740,  34.7300,2,  34.7273,2,-999.0000,5,   142.5,2,  126.07,2,   34.82,2,    2.49,2
 09FA9508_1,      IR6_4,      89,          1,          5,         28,2,19951005,       0802,   -12.2748,   113.2763,       4395,  2665.2,   1.8670,  34.7250,2,  34.7234,2,-999.0000,5,   152.3,2,  128.14,2,   34.47,2,    2.45,2
 09FA9508_1,      IR6_4,      89,          1,          4,         99,2,19951005,       0802,   -12.2748,   113.2763,       4395,  2998.5,   1.6700,  34.7230,2,  34.7225,2,-999.0000,5,   159.4,2,  129.15,2,   33.96,2,    2.41,2
 09FA9508_1,      IR6_4,      89,          1,          3,         14,2,19951005,       0802,   -12.2748,   113.2763,       4395,  3498.6,   1.3380,  34.7160,2,  34.7139,2,-999.0000,5,   172.6,2,  130.66,2,   33.60,2,    2.35,2
 09FA9508_1,      IR6_4,      89,          1,          2,          5,2,19951005,       0802,   -12.2748,   113.2763,       4395,  4011.6,   1.1910,  34.7130,2,  34.7135,2,-999.0000,5,   181.4,2,  130.32,2,   33.17,2,    2.31,2
 09FA9508_1,      IR6_4,      89,          1,          1,         18,2,19951005,       0802,   -12.2748,   113.2763,       4395,  4463.0,   1.1670,  34.7120,2,  34.7123,2,-999.0000,5,   184.5,2,  130.12,2,   33.06,2,    2.30,2
 09FA9508_1,      IR6_4,      90,          1,         24,         21,2,19951005,       1408,   -12.3848,   113.7377,       3938,     2.3,  27.4140,  34.4320,2,  34.4351,2,-999.0000,5,   206.0,2,    4.32,2,    0.28,2,    0.15,2
 09FA9508_1,      IR6_4,      90,          1,         23,         43,2,19951005,       1408,   -12.3848,   113.7377,       3938,    47.6,  26.2540,  34.3130,2,  34.3179,2,-999.0000,5,   208.8,2,    4.56,2,    0.21,2,    0.15,2
 09FA9508_1,      IR6_4,      90,          1,         22,          7,2,19951005,       1408,   -12.3848,   113.7377,       3938,    98.4,  24.9420,  34.7190,2,  34.7072,2,-999.0000,5,   193.6,2,    5.08,2,    2.18,2,    0.23,2
 09FA9508_1,      IR6_4,      90,          1,         21,         10,2,19951005,       1408,   -12.3848,   113.7377,       3938,   149.4,  19.5500,  34.5070,2,  34.5102,2,-999.0000,5,   112.8,2,   20.62,2,   15.25,2,    1.13,2
 09FA9508_1,      IR6_4,      90,          1,         20,         45,2,19951005,       1408,   -12.3848,   113.7377,       3938,   198.1,  16.6820,  34.5650,2,  34.5616,2,-999.0000,5,   101.9,2,   26.85,2,   19.41,2,    1.41,2
 09FA9508_1,      IR6_4,      90,          1,         19,         42,2,19951005,       1408,   -12.3848,   113.7377,       3938,   299.0,  11.2900,  34.5470,2,  34.5428,2,-999.0000,5,    94.9,2,   42.18,2,   26.16,2,    1.90,2
 09FA9508_1,      IR6_4,      90,          1,         18,         13,2,19951005,       1408,   -12.3848,   113.7377,       3938,   396.3,   9.5440,  34.5960,2,  34.5978,2,-999.0000,5,    85.8,2,   49.75,2,   29.82,2,    2.14,2
 09FA9508_1,      IR6_4,      90,          1,         17,         27,2,19951005,       1408,   -12.3848,   113.7377,       3938,   497.0,   8.2750,  34.5930,2,  34.5955,2,-999.0000,5,    84.1,2,   59.32,2,   31.97,2,    2.30,2
 09FA9508_1,      IR6_4,      90,          1,         16,         20,2,19951005,       1408,   -12.3848,   113.7377,       3938,   596.2,   7.2660,  34.5820,2,  34.5841,2,-999.0000,5,    85.2,2,   70.61,2,   33.29,2,    2.42,2
 09FA9508_1,      IR6_4,      90,          1,         15,         11,2,19951005,       1408,   -12.3848,   113.7377,       3938,   697.1,   6.4830,  34.5960,2,  34.5967,2,-999.0000,5,    84.7,2,   79.55,2,   34.58,2,    2.50,2
 09FA9508_1,      IR6_4,      90,          1,         14,          8,2,19951005,       1408,   -12.3848,   113.7377,       3938,   797.2,   5.9800,  34.6090,2,  34.6105,2,-999.0000,5,    84.5,2,   86.85,2,   35.24,2,    2.55,2
 09FA9508_1,      IR6_4,      90,          1,         13,          6,2,19951005,       1408,   -12.3848,   113.7377,       3938,   896.2,   5.5120,  34.6010,2,  34.6031,2,-999.0000,5,    87.5,2,   93.19,2,   35.54,2,    2.60,2
 09FA9508_1,      IR6_4,      90,          1,         12,         35,2,19951005,       1408,   -12.3848,   113.7377,       3938,   995.5,   5.1060,  34.6000,2,  34.6010,2,-999.0000,5,    91.0,2,   99.23,2,   35.92,2,    2.60,2
 09FA9508_1,      IR6_4,      90,          1,         11,          3,2,19951005,       1408,   -12.3848,   113.7377,       3938,  1195.7,   4.3710,  34.6080,2,  34.6109,2,-999.0000,5,    95.1,2,  109.08,2,   36.23,2,    2.62,2
 09FA9508_1,      IR6_4,      90,          1,         10,         30,2,19951005,       1408,   -12.3848,   113.7377,       3938,  1396.1,   3.9090,  34.6340,2,  34.6352,2,-999.0000,5,   101.2,2,  114.32,2,   36.31,2,    2.64,2
 09FA9508_1,      IR6_4,      90,          1,          9,         24,2,19951005,       1408,   -12.3848,   113.7377,       3938,  1595.2,   3.4330,  34.6780,2,  34.6784,2,-999.0000,5,   109.9,2,  116.54,2,   36.09,2,    2.62,2
 09FA9508_1,      IR6_4,      90,          1,          8,         17,2,19951005,       1408,   -12.3848,   113.7377,       3938,  1795.6,   2.9200,  34.7120,2,  34.7098,2,-999.0000,5,   121.7,2,  119.52,2,   35.73,2,    2.58,2
 09FA9508_1,      IR6_4,      90,          1,          7,         48,2,19951005,       1408,   -12.3848,   113.7377,       3938,  1996.5,   2.5980,  34.7240,2,  34.7223,2,-999.0000,5,   129.7,2,  121.67,2,   35.42,2,    2.55,2
 09FA9508_1,      IR6_4,      90,          1,          6,         15,2,19951005,       1408,   -12.3848,   113.7377,       3938,  2330.2,   2.2230,  34.7290,2,  34.7286,2,-999.0000,5,   141.1,2,  124.54,2,   34.97,2,    2.51,2
 09FA9508_1,      IR6_4,      90,          1,          5,         28,2,19951005,       1408,   -12.3848,   113.7377,       3938,  2664.9,   1.8940,  34.7260,2,  34.7278,2,-999.0000,5,   151.4,2,  128.10,2,   34.47,2,    2.46,2
 09FA9508_1,      IR6_4,      90,          1,          4,         99,2,19951005,       1408,   -12.3848,   113.7377,       3938,  2997.8,   1.6710,  34.7230,2,  34.7179,2,-999.0000,5,   159.3,2,  129.01,2,   34.26,2,    2.42,2
 09FA9508_1,      IR6_4,      90,          1,          3,         14,2,19951005,       1408,   -12.3848,   113.7377,       3938,  3500.3,   1.4170,  34.7170,2,  34.7139,2,-999.0000,5,   169.7,2,  130.49,2,   33.73,2,    2.39,2
 09FA9508_1,      IR6_4,      90,          1,          2,          5,2,19951005,       1408,   -12.3848,   113.7377,       3938,  4001.7,   1.2010,  34.7130,2,  34.7096,2,-999.0000,5,   180.9,2,  130.36,2,   33.41,2,    2.33,2
 09FA9508_1,      IR6_4,      90,          1,          1,         18,2,19951005,       1408,   -12.3848,   113.7377,       3938,  4171.0,   1.1980,  34.7130,2,  34.7111,2,-999.0000,5,   181.9,2,  130.68,2,   33.29,2,    2.32,2