BOTTLE,20211101CCHSIORKP
EXPOCODE,SECT_ID,STNNBR,CASTNO,SAMPNO,BTLNBR,BTLNBR_FLAG_W,DATE,TIME,LATITUDE,LONGITUDE,DEPTH,CTDPRS,CTDTMP,CTDSAL,CTDSAL_FLAG_W,SALNTY,SALNTY_FLAG_W,CTDOXY,CTDOXY_FLAG_W,OXYGEN,OXYGEN_FLAG_W,SILCAT,SILCAT_FLAG_W,NITRAT,NITRAT_FLAG_W,PHSPHT,PHSPHT_FLAG_W
,,,,,,,,,,,METERS,DBAR,ITS-90,PSS-78,,PSS-78,,UMOL/KG,,UMOL/KG,,UMOL/KG,,UMOL/KG,,UMOL/KG,
 09FA9508_1,      IR6_4,      97,          1,         24,         21,2,19951007,       1346,   -13.1570,   117.0908,       5518,     1.5,  27.5740,  34.3940,2,  34.3970,2,-999.0000,5,   200.8,2,    4.27,2,    0.24,2,    0.13,2
 09FA9508_1,      IR6_4,      97,          1,         23,          2,2,19951007,       1346,   -13.1570,   117.0908,       5518,    48.6,  26.3350,  34.2890,2,  34.2848,2,-999.0000,5,   205.8,2,    4.60,2,    0.49,2,    0.16,2
 09FA9508_1,      IR6_4,      97,          1,         22,          7,2,19951007,       1346,   -13.1570,   117.0908,       5518,    99.9,  23.3870,  34.2830,2,  34.2790,2,-999.0000,5,   144.9,2,   12.07,2,    9.14,2,    0.69,2
 09FA9508_1,      IR6_4,      97,          1,         21,         10,2,19951007,       1346,   -13.1570,   117.0908,       5518,   148.8,  21.0360,  34.6960,2,  34.6940,2,-999.0000,5,   116.7,2,   16.01,2,   13.13,2,    0.96,2
 09FA9508_1,      IR6_4,      97,          1,         20,         45,2,19951007,       1346,   -13.1570,   117.0908,       5518,   199.1,  17.0850,  34.7290,2,  34.7565,2,-999.0000,5,   102.2,2,   23.30,2,   18.08,2,    1.28,2
 09FA9508_1,      IR6_4,      97,          1,         19,         42,2,19951007,       1346,   -13.1570,   117.0908,       5518,   298.1,  11.6880,  34.6690,2,  34.6642,2,-999.0000,5,    96.7,2,   39.13,2,   25.46,2,    1.81,2
 09FA9508_1,      IR6_4,      97,          1,         18,         13,2,19951007,       1346,   -13.1570,   117.0908,       5518,   398.5,   9.4000,  34.6390,2,  34.6360,2,-999.0000,5,   102.0,2,   46.08,2,   28.59,2,    2.01,2
 09FA9508_1,      IR6_4,      97,          1,         17,         43,2,19951007,       1346,   -13.1570,   117.0908,       5518,   496.0,   8.3930,  34.6220,2,  34.6184,2,-999.0000,5,   105.0,2,   49.72,2,   30.20,2,    2.12,2
 09FA9508_1,      IR6_4,      97,          1,         16,         69,2,19951007,       1346,   -13.1570,   117.0908,       5518,   596.2,   7.4390,  34.6160,2,  34.6180,2,-999.0000,5,    97.2,2,   58.87,2,   32.62,2,    2.31,2
 09FA9508_1,      IR6_4,      97,          1,         15,         11,2,19951007,       1346,   -13.1570,   117.0908,       5518,   697.5,   6.6660,  34.6150,2,  34.6153,2,-999.0000,5,    87.4,2,   71.33,2,   34.73,2,    2.47,2
 09FA9508_1,      IR6_4,      97,          1,         14,          8,2,19951007,       1346,   -13.1570,   117.0908,       5518,   797.2,   5.9560,  34.6060,2,  34.6064,2,-999.0000,5,    84.8,2,   85.09,2,   35.67,2,    2.56,2
 09FA9508_1,      IR6_4,      97,          1,         13,          6,2,19951007,       1346,   -13.1570,   117.0908,       5518,   898.8,   5.4330,  34.6020,2,  34.6029,2,-999.0000,5,    87.8,2,   92.56,2,   35.89,2,    2.59,2
 09FA9508_1,      IR6_4,      97,          1,         12,         35,2,19951007,       1346,   -13.1570,   117.0908,       5518,   998.7,   4.9250,  34.5950,2,  34.5966,2,-999.0000,5,    91.7,2,  100.49,2,   36.05,2,    2.58,2
 09FA9508_1,      IR6_4,      97,          1,         11,          3,2,19951007,       1346,   -13.1570,   117.0908,       5518,  1244.1,   4.1300,  34.6200,2,  34.6181,2,-999.0000,5,    97.2,2,  109.54,2,   36.44,2,    2.61,2
 09FA9508_1,      IR6_4,      97,          1,         10,         30,2,19951007,       1346,   -13.1570,   117.0908,       5518,  1495.7,   3.4670,  34.6640,2,  34.6644,2,-999.0000,5,   109.8,2,  114.09,2,   36.16,2,    2.59,2
 09FA9508_1,      IR6_4,      97,          1,          9,         24,2,19951007,       1346,   -13.1570,   117.0908,       5518,  1997.4,   2.4460,  34.7210,2,  34.7213,2,-999.0000,5,   132.9,2,  122.83,2,   35.22,2,    2.49,2
 09FA9508_1,      IR6_4,      97,          1,          8,         17,2,19951007,       1346,   -13.1570,   117.0908,       5518,  2496.8,   1.9440,  34.7260,2,  34.7217,2,-999.0000,5,   148.2,2,  127.45,2,   34.61,2,    2.45,2
 09FA9508_1,      IR6_4,      97,          1,          7,         48,2,19951007,       1346,   -13.1570,   117.0908,       5518,  2998.4,   1.6310,  34.7210,2,  34.7173,2,-999.0000,5,   157.5,2,  129.02,2,   34.33,2,    2.39,2
 09FA9508_1,      IR6_4,      97,          1,          6,         15,2,19951007,       1346,   -13.1570,   117.0908,       5518,  3500.4,   1.3330,  34.7150,2,  34.7149,2,-999.0000,5,   171.9,2,  132.39,2,   33.59,2,    2.34,2
 09FA9508_1,      IR6_4,      97,          1,          5,         28,2,19951007,       1346,   -13.1570,   117.0908,       5518,  3999.0,   1.1800,  34.7110,2,  34.7089,2,-999.0000,5,   180.9,2,  128.67,2,   33.15,2,    2.30,2
 09FA9508_1,      IR6_4,      97,          1,          4,         99,2,19951007,       1346,   -13.1570,   117.0908,       5518,  4497.9,   1.1730,  34.7110,2,  34.7092,2,-999.0000,5,   183.7,2,  127.88,2,   33.05,2,    2.28,2
 09FA9508_1,      IR6_4,      97,          1,          3,         14,2,19951007,       1346,   -13.1570,   117.0908,       5518,  5000.1,   1.2170,  34.7110,2,  34.7115,2,-999.0000,5,   184.0,2,  129.99,2,   32.82,2,    2.31,2
 09FA9508_1,      IR6_4,      97,          1,          2,          5,2,19951007,       1346,   -13.1570,   117.0908,       5518,  5498.5,   1.2760,  34.7110,2,  34.7079,2,-999.0000,5,   184.2,2,  130.88,2,   32.77,2,    2.28,2
 09FA9508_1,      IR6_4,      97,          1,          1,         18,2,19951007,       1346,   -13.1570,   117.0908,       5518,  5634.3,   1.2920,  34.7110,2,  34.7091,2,-999.0000,5,   184.4,2,  128.43,2,   32.86,2,    2.31,2
 09FA9508_1,      IR6_4,      98,          1,         24,         21,2,19951007,       2034,   -13.2622,   117.5862,       5661,     3.5,  27.9130,  34.4050,2,  34.4068,2,-999.0000,5,   201.0,2,    4.10,2,    0.40,2,    0.16,2
 09FA9508_1,      IR6_4,      98,          1,         23,          2,2,19951007,       2034,   -13.2622,   117.5862,       5661,    48.8,  26.1810,  34.2980,2,  34.3013,2,-999.0000,5,   204.8,2,    4.31,2,    0.51,2,    0.20,2
 09FA9508_1,      IR6_4,      98,          1,         22,          7,2,19951007,       2034,   -13.2622,   117.5862,       5661,    99.3,  24.3990,  34.3040,2,  34.3001,2,-999.0000,5,   165.4,2,    9.35,2,    6.22,2,    0.52,2
 09FA9508_1,      IR6_4,      98,          1,         21,         10,2,19951007,       2034,   -13.2622,   117.5862,       5661,   198.5,  18.3620,  34.7830,2,  34.7766,2,-999.0000,5,   104.3,2,   21.84,2,   16.15,2,    1.18,2
 09FA9508_1,      IR6_4,      98,          1,         20,         45,2,19951007,       2034,   -13.2622,   117.5862,       5661,   298.0,  11.8590,  34.6240,2,  34.6175,2,-999.0000,5,    93.6,2,   40.18,2,   25.20,2,    1.81,2
 09FA9508_1,      IR6_4,      98,          1,         19,         42,2,19951007,       2034,   -13.2622,   117.5862,       5661,   398.3,   9.1590,  34.5890,2,  34.5837,2,-999.0000,5,    91.0,2,   51.85,2,   29.62,2,    2.12,2
 09FA9508_1,      IR6_4,      98,          1,         18,         13,2,19951007,       2034,   -13.2622,   117.5862,       5661,   497.8,   8.1620,  34.5950,2,  34.5900,2,-999.0000,5,    91.7,2,   56.82,2,   31.34,2,    2.24,2
 09FA9508_1,      IR6_4,      98,          1,         17,         43,2,19951007,       2034,   -13.2622,   117.5862,       5661,   597.5,   7.4040,  34.5980,2,  34.5919,2,-999.0000,5,    86.3,2,   63.33,2,   32.82,2,    2.37,2
 09FA9508_1,      IR6_4,      98,          1,         16,         69,2,19951007,       2034,   -13.2622,   117.5862,       5661,   697.8,   6.4730,  34.5890,2,  34.5841,2,-999.0000,5,    85.4,2,   77.27,2,   34.41,2,    2.48,2
 09FA9508_1,      IR6_4,      98,          1,         15,         11,2,19951007,       2034,   -13.2622,   117.5862,       5661,   797.0,   5.9040,  34.5900,2,  34.5872,2,-999.0000,5,    87.0,2,   84.63,2,   35.04,2,    2.52,2
 09FA9508_1,      IR6_4,      98,          1,         14,          8,2,19951007,       2034,   -13.2622,   117.5862,       5661,   896.8,   5.3860,  34.5950,2,  34.5919,2,-999.0000,5,    88.8,2,   91.95,2,   35.53,2,    2.57,2
 09FA9508_1,      IR6_4,      98,          1,         13,          6,2,19951007,       2034,   -13.2622,   117.5862,       5661,   996.7,   4.9490,  34.5980,2,  34.5954,2,-999.0000,5,    91.4,2,   95.07,2,   35.91,2,    2.59,2
 09FA9508_1,      IR6_4,      98,          1,         12,         35,2,19951007,       2034,   -13.2622,   117.5862,       5661,  1246.4,   4.1780,  34.6160,2,  34.6170,2,-999.0000,5,    96.5,2,  100.18,2,   36.28,2,    2.62,2
 09FA9508_1,      IR6_4,      98,          1,         11,          3,2,19951007,       2034,   -13.2622,   117.5862,       5661,  1495.5,   3.4410,  34.6610,2,  34.6582,2,-999.0000,5,   108.6,2,  111.18,2,   35.88,2,    2.58,2
 09FA9508_1,      IR6_4,      98,          1,         10,         30,2,19951007,       2034,   -13.2622,   117.5862,       5661,  1745.5,   2.8850,  34.7030,2,  34.7014,2,-999.0000,5,   121.8,2,  119.05,2,   35.60,2,    2.56,2
 09FA9508_1,      IR6_4,      98,          1,          9,         24,2,19951007,       2034,   -13.2622,   117.5862,       5661,  1996.1,   2.4080,  34.7210,2,  34.7226,2,-999.0000,5,   133.7,2,  122.64,2,   35.11,2,    2.51,2
 09FA9508_1,      IR6_4,      98,          1,          8,         17,2,19951007,       2034,   -13.2622,   117.5862,       5661,  2497.8,   1.9560,  34.7250,2,  34.7254,2,-999.0000,5,   147.7,2,  127.57,2,   34.62,2,    2.45,2
 09FA9508_1,      IR6_4,      98,          1,          7,         48,2,19951007,       2034,   -13.2622,   117.5862,       5661,  2998.7,   1.6630,  34.7210,2,  34.7203,2,-999.0000,5,   158.3,2,  130.19,2,   34.23,2,    2.41,2
 09FA9508_1,      IR6_4,      98,          1,          6,         15,2,19951007,       2034,   -13.2622,   117.5862,       5661,  3498.8,   1.4070,  34.7160,2,  34.7163,2,-999.0000,5,   169.6,2,  133.17,2,   33.76,2,    2.37,2
 09FA9508_1,      IR6_4,      98,          1,          5,         28,2,19951007,       2034,   -13.2622,   117.5862,       5661,  3999.3,   1.2150,  34.7120,2,  34.7057,2,-999.0000,5,   179.1,2,  130.70,2,   33.45,2,    2.32,2
 09FA9508_1,      IR6_4,      98,          1,          4,         99,2,19951007,       2034,   -13.2622,   117.5862,       5661,  4500.1,   1.1900,  34.7090,2,  34.7085,2,-999.0000,5,   182.6,2,  130.43,2,   33.35,2,    2.31,2
 09FA9508_1,      IR6_4,      98,          1,          3,         14,2,19951007,       2034,   -13.2622,   117.5862,       5661,  4999.7,   1.2200,  34.7100,2,  34.7097,2,-999.0000,5,   183.8,2,  133.00,2,   33.46,2,    2.30,2
 09FA9508_1,      IR6_4,      98,          1,          2,          5,2,19951007,       2034,   -13.2622,   117.5862,       5661,  5500.2,   1.2740,  34.7090,2,  34.7093,2,-999.0000,5,   184.6,2,  132.20,2,   33.39,2,    2.30,2
 09FA9508_1,      IR6_4,      98,          1,          1,         18,2,19951007,       2034,   -13.2622,   117.5862,       5661,  5789.4,   1.3100,  34.7090,2,  34.7100,2,-999.0000,5,   184.7,2,  131.60,2,   33.30,2,    2.30,2
 09FA9508_1,      IR6_4,      99,          1,         24,         21,2,19951008,       0333,   -13.3552,   118.0527,       5656,     2.0,  28.5810,  34.4130,2,  34.4302,2,-999.0000,5,   185.8,2,    3.91,2,    0.38,2,    0.11,2
 09FA9508_1,      IR6_4,      99,          1,         23,          2,2,19951008,       0333,   -13.3552,   118.0527,       5656,    49.0,  26.1450,  34.3690,2,  34.3694,2,-999.0000,5,   191.1,2,    5.00,2,    0.76,2,    0.17,2
 09FA9508_1,      IR6_4,      99,          1,         22,          7,2,19951008,       0333,   -13.3552,   118.0527,       5656,    99.5,  25.0470,  34.3020,2,  34.3043,2,-999.0000,5,   165.4,2,    7.35,2,    5.34,2,    0.45,2
 09FA9508_1,      IR6_4,      99,          1,         21,         10,2,19951008,       0333,   -13.3552,   118.0527,       5656,   198.0,  16.9000,  34.7740,2,  34.7850,2,-999.0000,5,   102.3,2,   23.89,2,   17.95,2,    1.27,2
 09FA9508_1,      IR6_4,      99,          1,         20,         45,2,19951008,       0333,   -13.3552,   118.0527,       5656,   297.6,  11.3480,  34.6250,2,  34.6252,2,-999.0000,5,    92.7,2,   41.47,2,   26.58,2,    1.89,2
 09FA9508_1,      IR6_4,      99,          1,         19,         42,2,19951008,       0333,   -13.3552,   118.0527,       5656,   398.0,   9.4060,  34.5880,2,  34.5899,2,-999.0000,5,    90.2,2,   50.68,2,   29.83,2,    2.12,2
 09FA9508_1,      IR6_4,      99,          1,         18,         13,2,19951008,       0333,   -13.3552,   118.0527,       5656,   497.8,   8.2000,  34.5860,2,  34.5887,2,-999.0000,5,    88.4,2,   59.10,2,   31.23,2,    2.24,2
 09FA9508_1,      IR6_4,      99,          1,         17,         43,2,19951008,       0333,   -13.3552,   118.0527,       5656,   598.2,   7.2380,  34.6000,2,  34.6005,2,-999.0000,5,    88.2,2,   65.41,2,   33.48,2,    2.42,2
 09FA9508_1,      IR6_4,      99,          1,         16,         69,2,19951008,       0333,   -13.3552,   118.0527,       5656,   696.5,   6.5900,  34.5920,2,  34.5930,2,-999.0000,5,    86.0,2,   76.63,2,   34.62,2,    2.51,2
 09FA9508_1,      IR6_4,      99,          1,         15,         11,2,19951008,       0333,   -13.3552,   118.0527,       5656,   797.0,   5.9560,  34.5950,2,  34.6009,2,-999.0000,5,    86.3,2,   85.00,2,   35.53,2,    2.55,2
 09FA9508_1,      IR6_4,      99,          1,         14,          8,2,19951008,       0333,   -13.3552,   118.0527,       5656,   896.0,   5.4040,  34.5930,2,  34.5966,2,-999.0000,5,    88.9,2,   92.83,2,   35.84,2,    2.58,2
 09FA9508_1,      IR6_4,      99,          1,         13,          6,2,19951008,       0333,   -13.3552,   118.0527,       5656,   995.9,   4.9640,  34.6010,2,  34.6052,2,-999.0000,5,    91.2,2,   99.11,2,   36.33,2,    2.62,2
 09FA9508_1,      IR6_4,      99,          1,         12,         35,2,19951008,       0333,   -13.3552,   118.0527,       5656,  1245.7,   4.1630,  34.6140,2,  34.6174,2,-999.0000,5,    96.9,2,  111.20,2,   36.57,2,    2.63,2
 09FA9508_1,      IR6_4,      99,          1,         11,          3,2,19951008,       0333,   -13.3552,   118.0527,       5656,  1495.3,   3.4430,  34.6590,2,  34.6610,2,-999.0000,5,   108.2,2,  114.92,2,   36.08,2,    2.59,2
 09FA9508_1,      IR6_4,      99,          1,         10,         30,2,19951008,       0333,   -13.3552,   118.0527,       5656,  1746.8,   2.8470,  34.7040,2,  34.7086,2,-999.0000,5,   122.9,2,  120.31,2,   35.79,2,    2.58,2
 09FA9508_1,      IR6_4,      99,          1,          9,         24,2,19951008,       0333,   -13.3552,   118.0527,       5656,  1995.6,   2.4070,  34.7220,2,  34.7223,2,-999.0000,5,   133.5,2,  123.12,2,   35.32,2,    2.49,2
 09FA9508_1,      IR6_4,      99,          1,          8,         17,2,19951008,       0333,   -13.3552,   118.0527,       5656,  2497.1,   1.9550,  34.7260,2,  34.7240,2,-999.0000,5,   147.8,2,  127.14,2,   34.71,2,    2.45,2
 09FA9508_1,      IR6_4,      99,          1,          7,         48,2,19951008,       0333,   -13.3552,   118.0527,       5656,  2998.8,   1.6270,  34.7210,2,  34.7204,2,-999.0000,5,   159.4,2,  130.38,2,   34.09,2,    2.41,2
 09FA9508_1,      IR6_4,      99,          1,          6,         15,2,19951008,       0333,   -13.3552,   118.0527,       5656,  3499.1,   1.3810,  34.7160,2,  34.7177,2,-999.0000,5,   169.6,2,  132.01,2,   33.63,2,    2.36,2
 09FA9508_1,      IR6_4,      99,          1,          5,         28,2,19951008,       0333,   -13.3552,   118.0527,       5656,  3998.3,   1.2200,  34.7120,2,  34.7142,2,-999.0000,5,   178.3,2,  129.76,2,   33.08,2,    2.33,2
 09FA9508_1,      IR6_4,      99,          1,          4,         99,2,19951008,       0333,   -13.3552,   118.0527,       5656,  4499.5,   1.1770,  34.7100,2,  34.7111,2,-999.0000,5,   182.3,2,  128.58,2,   32.94,2,    2.28,2
 09FA9508_1,      IR6_4,      99,          1,          3,         14,2,19951008,       0333,   -13.3552,   118.0527,       5656,  4998.7,   1.2150,  34.7100,2,  34.7112,2,-999.0000,5,   182.9,2,  127.99,2,   32.93,2,    2.28,2
 09FA9508_1,      IR6_4,      99,          1,          2,          5,2,19951008,       0333,   -13.3552,   118.0527,       5656,  5498.8,   1.2730,  34.7100,2,  34.7132,2,-999.0000,5,   184.9,2,  128.45,2,   32.73,2,    2.28,2
 09FA9508_1,      IR6_4,      99,          1,          1,         18,2,19951008,       0333,   -13.3552,   118.0527,       5656,  5789.4,   1.3100,  34.7100,2,  34.7112,2,-999.0000,5,   184.8,2,  128.16,2,   32.84,2,    2.26,2