BOTTLE,20211101CCHSIORKP
EXPOCODE,SECT_ID,STNNBR,CASTNO,SAMPNO,BTLNBR,BTLNBR_FLAG_W,DATE,TIME,LATITUDE,LONGITUDE,DEPTH,CTDPRS,CTDTMP,CTDSAL,CTDSAL_FLAG_W,SALNTY,SALNTY_FLAG_W,CTDOXY,CTDOXY_FLAG_W,OXYGEN,OXYGEN_FLAG_W,SILCAT,SILCAT_FLAG_W,NITRAT,NITRAT_FLAG_W,PHSPHT,PHSPHT_FLAG_W
,,,,,,,,,,,METERS,DBAR,ITS-90,PSS-78,,PSS-78,,UMOL/KG,,UMOL/KG,,UMOL/KG,,UMOL/KG,,UMOL/KG,
 09FA9508_1,      IR6_4,     107,          1,         18,         21,2,19951009,       2002,   -12.7505,   121.0327,       2146,     3.7,  28.1420,  34.4480,2,  34.4519,2,-999.0000,5,   198.8,2,    4.34,2,    0.39,2,    0.15,2
 09FA9508_1,      IR6_4,     107,          1,         17,         43,2,19951009,       2002,   -12.7505,   121.0327,       2146,    48.8,  26.9470,  34.2820,2,  34.2809,2,-999.0000,5,   210.4,2,    4.35,2,    0.45,2,    0.15,2
 09FA9508_1,      IR6_4,     107,          1,         16,         69,2,19951009,       2002,   -12.7505,   121.0327,       2146,    99.5,  25.1690,  34.5430,2,  34.5245,2,-999.0000,5,   163.6,2,    7.93,2,    5.07,2,    0.46,2
 09FA9508_1,      IR6_4,     107,          1,         15,         11,2,19951009,       2002,   -12.7505,   121.0327,       2146,   199.7,  16.5320,  34.5840,2,  34.5837,2,-999.0000,5,   101.9,2,   27.13,2,   19.43,2,    1.45,2
 09FA9508_1,      IR6_4,     107,          1,         14,          8,2,19951009,       2002,   -12.7505,   121.0327,       2146,   297.4,  11.5610,  34.5430,2,  34.5433,2,-999.0000,5,    95.1,2,   42.21,2,   26.16,2,    1.90,2
 09FA9508_1,      IR6_4,     107,          1,         13,          6,2,19951009,       2002,   -12.7505,   121.0327,       2146,   397.9,   9.1540,  34.5720,2,  34.5739,2,-999.0000,5,    91.2,2,   52.56,2,   30.07,2,    2.17,2
 09FA9508_1,      IR6_4,     107,          1,         12,         35,2,19951009,       2002,   -12.7505,   121.0327,       2146,   497.6,   8.2920,  34.6190,2,  34.6163,2,-999.0000,5,   102.9,2,   51.20,2,   30.39,2,    2.17,2
 09FA9508_1,      IR6_4,     107,          1,         11,          3,2,19951009,       2002,   -12.7505,   121.0327,       2146,   596.9,   7.2910,  34.5920,2,  34.5935,2,-999.0000,5,    87.1,2,   67.49,2,   33.28,2,    2.41,2
 09FA9508_1,      IR6_4,     107,          1,         10,         30,2,19951009,       2002,   -12.7505,   121.0327,       2146,   697.5,   6.5390,  34.5890,2,  34.5900,2,-999.0000,5,    87.1,2,   77.52,2,   34.43,2,    2.51,2
 09FA9508_1,      IR6_4,     107,          1,          9,         24,2,19951009,       2002,   -12.7505,   121.0327,       2146,   796.9,   5.9740,  34.5870,2,  34.5884,2,-999.0000,5,    88.7,2,   85.59,2,   34.99,2,    2.54,2
 09FA9508_1,      IR6_4,     107,          1,          8,         17,2,19951009,       2002,   -12.7505,   121.0327,       2146,   896.5,   5.5160,  34.5920,2,  34.5927,2,-999.0000,5,    91.0,2,   91.35,2,   35.46,2,    2.58,2
 09FA9508_1,      IR6_4,     107,          1,          7,         48,2,19951009,       2002,   -12.7505,   121.0327,       2146,   996.3,   5.0590,  34.5940,2,  34.5958,2,-999.0000,5,    92.5,2,   98.13,2,   35.94,2,    2.61,2
 09FA9508_1,      IR6_4,     107,          1,          6,         15,2,19951009,       2002,   -12.7505,   121.0327,       2146,  1195.5,   4.4350,  34.6060,2,  34.6078,2,-999.0000,5,    96.1,2,  107.00,2,   36.42,2,    2.64,2
 09FA9508_1,      IR6_4,     107,          1,          5,         28,2,19951009,       2002,   -12.7505,   121.0327,       2146,  1394.8,   3.8360,  34.6320,2,  34.6335,2,-999.0000,5,   103.1,2,  113.82,2,   36.56,2,    2.65,2
 09FA9508_1,      IR6_4,     107,          1,          4,         99,2,19951009,       2002,   -12.7505,   121.0327,       2146,  1595.7,   3.3090,  34.6730,2,  34.6745,2,-999.0000,5,   113.3,2,  117.12,2,   36.31,2,    2.61,2
 09FA9508_1,      IR6_4,     107,          1,          3,         14,2,19951009,       2002,   -12.7505,   121.0327,       2146,  1795.6,   2.8560,  34.7040,2,  34.7030,2,-999.0000,5,   123.6,2,  119.64,2,   35.83,2,    2.58,2
 09FA9508_1,      IR6_4,     107,          1,          2,          5,2,19951009,       2002,   -12.7505,   121.0327,       2146,  1995.8,   2.4380,  34.7220,2,  34.7212,2,-999.0000,5,   134.2,2,  123.07,2,   35.43,2,    2.57,2
 09FA9508_1,      IR6_4,     107,          1,          1,         18,2,19951009,       2002,   -12.7505,   121.0327,       2146,  2142.0,   2.2770,  34.7230,2,  34.7241,2,-999.0000,5,   138.5,2,  125.10,2,   35.30,2,    2.52,2
 09FA9508_1,      IR6_4,     108,          1,         18,         21,2,19951010,       0059,   -12.5790,   121.5367,       2520,     1.9,  27.9870,  34.5050,2,  34.5091,2,-999.0000,5,   199.2,2,    4.60,2,    0.37,2,    0.15,2
 09FA9508_1,      IR6_4,     108,          1,         17,         43,2,19951010,       0059,   -12.5790,   121.5367,       2520,    46.6,  27.4720,  34.5480,2,  34.5483,2,-999.0000,5,   201.6,2,    4.84,2,    0.29,2,    0.15,2
 09FA9508_1,      IR6_4,     108,          1,         16,         69,2,19951010,       0059,   -12.5790,   121.5367,       2520,    98.1,  25.0690,  34.6220,2,  34.6304,2,-999.0000,5,   169.0,2,    7.74,2,    4.37,2,    0.41,2
 09FA9508_1,      IR6_4,     108,          1,         15,         11,2,19951010,       0059,   -12.5790,   121.5367,       2520,   197.4,  16.2940,  34.5640,2,  34.5680,2,-999.0000,5,   102.1,2,   28.10,2,   19.94,2,    1.45,2
 09FA9508_1,      IR6_4,     108,          1,         14,          8,2,19951010,       0059,   -12.5790,   121.5367,       2520,   296.1,  12.3610,  34.5520,2,  34.5547,2,-999.0000,5,    95.1,2,   39.13,2,   25.30,2,    1.83,2
 09FA9508_1,      IR6_4,     108,          1,         13,          6,2,19951010,       0059,   -12.5790,   121.5367,       2520,   398.0,   9.3650,  34.5540,2,  34.5539,2,-999.0000,5,    89.9,2,   52.43,2,   30.20,2,    2.17,2
 09FA9508_1,      IR6_4,     108,          1,         12,         35,2,19951010,       0059,   -12.5790,   121.5367,       2520,   497.6,   8.1970,  34.5870,2,  34.5846,2,-999.0000,5,    90.2,2,   58.18,2,   31.78,2,    2.29,2
 09FA9508_1,      IR6_4,     108,          1,         11,          3,2,19951010,       0059,   -12.5790,   121.5367,       2520,   597.3,   7.2030,  34.6110,2,  34.6105,2,-999.0000,5,    92.8,2,   62.82,2,   33.22,2,    2.40,2
 09FA9508_1,      IR6_4,     108,          1,         10,         30,2,19951010,       0059,   -12.5790,   121.5367,       2520,   695.2,   6.5030,  34.6060,2,  34.6058,2,-999.0000,5,    87.2,2,   75.36,2,   34.96,2,    2.51,2
 09FA9508_1,      IR6_4,     108,          1,          9,         24,2,19951010,       0059,   -12.5790,   121.5367,       2520,   746.4,   6.0300,  34.6020,2,  34.6035,2,-999.0000,5,    87.3,2,   83.03,2,   35.36,2,    2.56,2
 09FA9508_1,      IR6_4,     108,          1,          8,         17,2,19951010,       0059,   -12.5790,   121.5367,       2520,   796.4,   5.7940,  34.5990,2,  34.5976,2,-999.0000,5,    88.7,2,   86.49,2,   35.55,2,    2.58,2
 09FA9508_1,      IR6_4,     108,          1,          7,         48,2,19951010,       0059,   -12.5790,   121.5367,       2520,   994.2,   4.8830,  34.6040,2,  34.6027,2,-999.0000,5,    94.0,2,   99.63,2,   36.04,2,    2.62,2
 09FA9508_1,      IR6_4,     108,          1,          6,         15,2,19951010,       0059,   -12.5790,   121.5367,       2520,  1196.2,   4.3400,  34.6140,2,  34.6114,2,-999.0000,5,    97.3,2,  107.47,2,   36.12,2,    2.61,2
 09FA9508_1,      IR6_4,     108,          1,          5,         28,2,19951010,       0059,   -12.5790,   121.5367,       2520,  1394.7,   3.8900,  34.6320,2,  34.6279,2,-999.0000,5,   103.0,2,  113.20,2,   36.45,2,    2.66,2
 09FA9508_1,      IR6_4,     108,          1,          4,         99,2,19951010,       0059,   -12.5790,   121.5367,       2520,  1594.7,   3.2410,  34.6780,2,  34.6782,2,-999.0000,5,   114.4,2,  118.39,2,   36.12,2,    2.62,2
 09FA9508_1,      IR6_4,     108,          1,          3,         14,2,19951010,       0059,   -12.5790,   121.5367,       2520,  1795.6,   2.8420,  34.7050,2,  34.7025,2,-999.0000,5,   123.8,2,  119.27,2,   35.55,2,    2.56,2
 09FA9508_1,      IR6_4,     108,          1,          2,          5,2,19951010,       0059,   -12.5790,   121.5367,       2520,  1990.0,   2.4530,  34.7220,2,  34.7218,2,-999.0000,5,   133.8,2,  125.24,2,   35.23,2,    2.53,2
 09FA9508_1,      IR6_4,     108,          1,          1,         18,2,19951010,       0059,   -12.5790,   121.5367,       2520,  2524.2,   2.0850,  34.7280,2,  34.7269,2,-999.0000,5,   145.0,2,  127.75,2,   34.73,2,    2.49,2
 09FA9508_1,      IR6_4,     109,          1,         18,         21,2,19951010,       0535,   -12.4645,   122.0173,       1941,     1.4,  28.4010,  34.5750,2,  34.5781,2,-999.0000,5,   193.4,2,    4.65,2,    0.29,2,    0.19,2
 09FA9508_1,      IR6_4,     109,          1,         17,         43,2,19951010,       0535,   -12.4645,   122.0173,       1941,    49.2,  27.1440,  34.4960,2,  34.5015,2,-999.0000,5,   201.0,2,    4.83,2,    0.38,2,    0.16,2
 09FA9508_1,      IR6_4,     109,          1,         16,         69,2,19951010,       0535,   -12.4645,   122.0173,       1941,    99.4,  25.0040,  34.6750,2,  34.6753,2,-999.0000,5,   166.3,2,    7.68,2,    3.99,2,    0.41,2
 09FA9508_1,      IR6_4,     109,          1,         15,         11,2,19951010,       0535,   -12.4645,   122.0173,       1941,   148.9,  20.4250,  34.5900,2,  34.5916,2,-999.0000,5,   109.6,2,   18.96,2,   14.86,2,    1.10,2
 09FA9508_1,      IR6_4,     109,          1,         14,          8,2,19951010,       0535,   -12.4645,   122.0173,       1941,   199.4,  17.0220,  34.5440,2,  34.5465,2,-999.0000,5,   102.8,2,   26.21,2,   19.09,2,    1.39,2
 09FA9508_1,      IR6_4,     109,          1,         13,          6,2,19951010,       0535,   -12.4645,   122.0173,       1941,   298.7,  11.8230,  34.5710,2,  34.5797,2,-999.0000,5,    93.1,2,   41.57,2,   26.16,2,    1.88,2
 09FA9508_1,      IR6_4,     109,          1,         12,         35,2,19951010,       0535,   -12.4645,   122.0173,       1941,   399.0,   9.5710,  34.5640,2,  34.5640,2,-999.0000,5,    87.3,2,   52.99,2,   29.91,2,    2.15,2
 09FA9508_1,      IR6_4,     109,          1,         11,          3,2,19951010,       0535,   -12.4645,   122.0173,       1941,   497.8,   8.5370,  34.6150,2,  34.6150,2,-999.0000,5,   100.0,2,   50.72,2,   30.37,2,    2.17,2
 09FA9508_1,      IR6_4,     109,          1,         10,         30,2,19951010,       0535,   -12.4645,   122.0173,       1941,   597.3,   7.6090,  34.6000,2,  34.6008,2,-999.0000,5,    91.0,2,   62.04,2,   32.67,2,    2.36,2
 09FA9508_1,      IR6_4,     109,          1,          9,         24,2,19951010,       0535,   -12.4645,   122.0173,       1941,   696.7,   6.4990,  34.5840,2,  34.5874,2,-999.0000,5,    86.8,2,   78.97,2,   34.54,2,    2.49,2
 09FA9508_1,      IR6_4,     109,          1,          8,         17,2,19951010,       0535,   -12.4645,   122.0173,       1941,   796.7,   5.8710,  34.5890,2,  34.5908,2,-999.0000,5,    87.6,2,   86.45,2,   35.28,2,    2.55,2
 09FA9508_1,      IR6_4,     109,          1,          7,         48,2,19951010,       0535,   -12.4645,   122.0173,       1941,   896.5,   5.3890,  34.5950,2,  34.5931,2,-999.0000,5,    87.7,2,   92.63,2,   35.71,2,    2.63,2
 09FA9508_1,      IR6_4,     109,          1,          6,         15,2,19951010,       0535,   -12.4645,   122.0173,       1941,   996.6,   4.8610,  34.5980,2,  34.6005,2,-999.0000,5,    92.0,2,  100.59,2,   36.10,2,    2.62,2
 09FA9508_1,      IR6_4,     109,          1,          5,         28,2,19951010,       0535,   -12.4645,   122.0173,       1941,  1196.0,   4.2880,  34.6110,2,  34.6126,2,-999.0000,5,    95.6,2,  108.40,2,   36.54,2,    2.64,2
 09FA9508_1,      IR6_4,     109,          1,          4,         99,2,19951010,       0535,   -12.4645,   122.0173,       1941,  1396.4,   3.7330,  34.6400,2,  34.6424,2,-999.0000,5,  -999.0,9,  113.56,2,   36.48,2,    2.63,2
 09FA9508_1,      IR6_4,     109,          1,          3,         14,2,19951010,       0535,   -12.4645,   122.0173,       1941,  1595.3,   3.3690,  34.6660,2,  34.6687,2,-999.0000,5,   111.2,2,  116.27,2,   36.26,2,    2.61,2
 09FA9508_1,      IR6_4,     109,          1,          2,          5,2,19951010,       0535,   -12.4645,   122.0173,       1941,  1795.9,   2.9060,  34.6980,2,  34.6996,2,-999.0000,5,   121.7,2,  119.65,2,   35.91,2,    2.59,2
 09FA9508_1,      IR6_4,     109,          1,          1,         18,2,19951010,       0535,   -12.4645,   122.0173,       1941,  1937.8,   2.7900,  34.7030,2,  34.7023,2,-999.0000,5,   124.3,2,  120.77,2,   35.83,2,    2.58,2
 09FA9508_1,      IR6_4,     110,          1,         16,         21,2,19951010,       0825,   -12.3922,   122.2487,       1425,     2.9,  28.2480,  34.5760,2,  34.5794,2,-999.0000,5,   210.4,2,    4.68,2,    0.39,2,    0.16,2
 09FA9508_1,      IR6_4,     110,          1,         15,         11,2,19951010,       0825,   -12.3922,   122.2487,       1425,    49.6,  26.4020,  34.4890,2,  34.4872,2,-999.0000,5,   210.3,2,    4.85,2,    0.37,2,    0.17,2
 09FA9508_1,      IR6_4,     110,          1,         14,          8,2,19951010,       0825,   -12.3922,   122.2487,       1425,    99.9,  25.3630,  34.6660,2,  34.6640,2,-999.0000,5,   179.0,2,    6.81,2,    2.92,2,    0.35,2
 09FA9508_1,      IR6_4,     110,          1,         13,          6,2,19951010,       0825,   -12.3922,   122.2487,       1425,   149.6,  20.6380,  34.7750,2,  34.7792,2,-999.0000,5,   121.6,2,   16.93,2,   12.66,2,    0.98,2
 09FA9508_1,      IR6_4,     110,          1,         12,         35,2,19951010,       0825,   -12.3922,   122.2487,       1425,   199.5,  16.1580,  34.7110,2,  34.7180,2,-999.0000,5,   101.5,2,   28.18,2,   19.68,2,    1.45,2
 09FA9508_1,      IR6_4,     110,          1,         11,          3,2,19951010,       0825,   -12.3922,   122.2487,       1425,   298.5,  11.3080,  34.5620,2,  34.5626,2,-999.0000,5,    93.0,2,   43.64,2,   26.67,2,    1.95,2
 09FA9508_1,      IR6_4,     110,          1,         10,         30,2,19951010,       0825,   -12.3922,   122.2487,       1425,   398.3,   9.2990,  34.5620,2,  34.5607,2,-999.0000,5,    87.8,2,   54.79,2,   30.22,2,    2.20,2
 09FA9508_1,      IR6_4,     110,          1,          9,         24,2,19951010,       0825,   -12.3922,   122.2487,       1425,   498.5,   8.3840,  34.5880,2,  34.5914,2,-999.0000,5,    90.5,2,   58.12,2,   31.38,2,    2.28,2
 09FA9508_1,      IR6_4,     110,          1,          8,         17,2,19951010,       0825,   -12.3922,   122.2487,       1425,   598.1,   7.2190,  34.5860,2,  34.5896,2,-999.0000,5,    87.8,2,   70.28,2,   33.54,2,    2.44,2
 09FA9508_1,      IR6_4,     110,          1,          7,         48,2,19951010,       0825,   -12.3922,   122.2487,       1425,   697.6,   6.1620,  34.5900,2,  34.5909,2,-999.0000,5,    88.4,2,   83.95,2,   34.98,2,    2.55,2
 09FA9508_1,      IR6_4,     110,          1,          6,         15,2,19951010,       0825,   -12.3922,   122.2487,       1425,   798.0,   5.5940,  34.5900,2,-999.0000,9,-999.0000,5,    90.7,2,   92.03,2,   35.61,2,    2.59,2
 09FA9508_1,      IR6_4,     110,          1,          5,         28,2,19951010,       0825,   -12.3922,   122.2487,       1425,   896.8,   5.2210,  34.5930,2,  34.5977,2,-999.0000,5,    92.1,2,   97.41,2,   35.88,2,    2.62,2
 09FA9508_1,      IR6_4,     110,          1,          4,         99,2,19951010,       0825,   -12.3922,   122.2487,       1425,   996.9,   4.9990,  34.5950,2,  34.5978,2,-999.0000,5,    93.0,2,  100.90,2,   36.14,2,    2.62,2
 09FA9508_1,      IR6_4,     110,          1,          3,         14,2,19951010,       0825,   -12.3922,   122.2487,       1425,  1096.4,   4.6910,  34.6010,2,  34.6030,2,-999.0000,5,    95.1,2,  105.23,2,   36.36,2,    2.64,2
 09FA9508_1,      IR6_4,     110,          1,          2,          5,2,19951010,       0825,   -12.3922,   122.2487,       1425,  1298.2,   3.9700,  34.6280,2,  34.6306,2,-999.0000,5,   103.2,2,  113.63,2,   36.54,2,    2.65,2
 09FA9508_1,      IR6_4,     110,          1,          1,         18,2,19951010,       0825,   -12.3922,   122.2487,       1425,  1388.0,   3.8140,  34.6350,2,  34.6354,2,-999.0000,5,   104.5,2,  114.77,2,   36.47,2,    2.66,2
 09FA9508_1,      IR6_4,     111,          1,         14,         21,2,19951010,       1056,   -12.3638,   122.4650,       1009,     3.3,  28.0330,  34.5900,2,  34.5936,2,-999.0000,5,   206.7,2,    4.84,2,    0.19,2,    0.16,2
 09FA9508_1,      IR6_4,     111,          1,         13,         43,2,19951010,       1056,   -12.3638,   122.4650,       1009,    50.0,  26.4040,  34.4320,2,  34.4429,2,-999.0000,5,   207.6,2,    4.95,2,    0.30,2,    0.16,2
 09FA9508_1,      IR6_4,     111,          1,         12,         35,2,19951010,       1056,   -12.3638,   122.4650,       1009,    99.6,  25.6510,  34.6300,2,  34.6238,2,-999.0000,5,  -999.0,9,    5.77,2,    1.40,2,    0.26,2
 09FA9508_1,      IR6_4,     111,          1,         11,         13,2,19951010,       1056,   -12.3638,   122.4650,       1009,   150.1,  20.4270,  34.7040,2,  34.7054,2,-999.0000,5,   114.5,2,   19.08,2,   14.08,2,    1.10,2
 09FA9508_1,      IR6_4,     111,          1,         10,         42,2,19951010,       1056,   -12.3638,   122.4650,       1009,   200.2,  16.4690,  34.6780,2,  34.6791,2,-999.0000,5,   101.7,2,   28.30,2,   19.66,2,    1.45,2
 09FA9508_1,      IR6_4,     111,          1,          9,         24,2,19951010,       1056,   -12.3638,   122.4650,       1009,   298.3,  11.1070,  34.5710,2,  34.5746,2,-999.0000,5,    90.8,2,   45.92,2,   27.41,2,    2.00,2
 09FA9508_1,      IR6_4,     111,          1,          8,         17,2,19951010,       1056,   -12.3638,   122.4650,       1009,   399.5,   9.1030,  34.5890,2,  34.5848,2,-999.0000,5,    90.7,2,   54.47,2,   30.60,2,    2.23,2
 09FA9508_1,      IR6_4,     111,          1,          7,         48,2,19951010,       1056,   -12.3638,   122.4650,       1009,   498.6,   7.9750,  34.5740,2,  34.5758,2,-999.0000,5,    87.6,2,   64.78,2,   32.60,2,    2.38,2
 09FA9508_1,      IR6_4,     111,          1,          6,         15,2,19951010,       1056,   -12.3638,   122.4650,       1009,   597.4,   7.0940,  34.5840,2,  34.5895,2,-999.0000,5,    87.7,2,   73.45,2,   34.17,2,    2.48,2
 09FA9508_1,      IR6_4,     111,          1,          5,         28,2,19951010,       1056,   -12.3638,   122.4650,       1009,   697.9,   6.0970,  34.5880,2,  34.5922,2,-999.0000,5,    88.9,2,   86.73,2,   35.29,2,    2.57,2
 09FA9508_1,      IR6_4,     111,          1,          4,         99,2,19951010,       1056,   -12.3638,   122.4650,       1009,   797.5,   5.7680,  34.5850,2,  34.5894,2,-999.0000,5,    90.7,2,   91.74,2,   35.54,2,    2.58,2
 09FA9508_1,      IR6_4,     111,          1,          3,         14,2,19951010,       1056,   -12.3638,   122.4650,       1009,   896.6,   5.3080,  34.5890,2,  34.5922,2,-999.0000,5,    92.6,2,   97.96,2,   35.87,2,    2.60,2
 09FA9508_1,      IR6_4,     111,          1,          2,          5,2,19951010,       1056,   -12.3638,   122.4650,       1009,   944.5,   5.0960,  34.5930,2,  34.5984,2,-999.0000,5,    93.5,2,  100.35,2,   36.03,2,    2.62,2
 09FA9508_1,      IR6_4,     111,          1,          1,         18,2,19951010,       1056,   -12.3638,   122.4650,       1009,   996.1,   4.9680,  34.5940,2,  34.5984,2,-999.0000,5,    94.7,2,  102.02,2,   36.04,2,    2.64,2