BOTTLE,20211101CCHSIORKP
EXPOCODE,SECT_ID,STNNBR,CASTNO,SAMPNO,BTLNBR,BTLNBR_FLAG_W,DATE,TIME,LATITUDE,LONGITUDE,DEPTH,CTDPRS,CTDTMP,CTDSAL,CTDSAL_FLAG_W,SALNTY,SALNTY_FLAG_W,CTDOXY,CTDOXY_FLAG_W,OXYGEN,OXYGEN_FLAG_W,SILCAT,SILCAT_FLAG_W,NITRAT,NITRAT_FLAG_W,PHSPHT,PHSPHT_FLAG_W
,,,,,,,,,,,METERS,DBAR,ITS-90,PSS-78,,PSS-78,,UMOL/KG,,UMOL/KG,,UMOL/KG,,UMOL/KG,,UMOL/KG,
 09FA9508_1,      IR6_4,      73,          1,         24,         21,2,19951001,       0354,    -9.8972,   106.8737,       6379,     2.8,  26.9700,  34.4120,2,  34.4190,2,-999.0000,5,   205.8,2,    4.36,2,    0.28,2,    0.17,2
 09FA9508_1,      IR6_4,      73,          1,         23,         66,2,19951001,       0354,    -9.8972,   106.8737,       6379,    47.5,  24.2460,  34.4340,2,  34.4375,2,-999.0000,5,   188.3,2,    7.29,2,    2.87,2,    0.37,2
 09FA9508_1,      IR6_4,      73,          1,         22,         43,2,19951001,       0354,    -9.8972,   106.8737,       6379,    98.5,  16.6810,  34.5720,2,  34.5693,2,-999.0000,5,   106.0,2,   26.98,2,   18.83,2,    1.34,2
 09FA9508_1,      IR6_4,      73,          1,         21,          7,2,19951001,       0354,    -9.8972,   106.8737,       6379,   197.1,  12.0330,  34.6010,2,  34.5984,2,-999.0000,5,    95.8,2,   40.05,2,   25.26,2,    1.82,2
 09FA9508_1,      IR6_4,      73,          1,         20,         10,2,19951001,       0354,    -9.8972,   106.8737,       6379,   297.9,  10.0120,  34.6230,2,  34.6229,2,-999.0000,5,    84.3,2,   47.16,2,   29.33,2,    2.12,2
 09FA9508_1,      IR6_4,      73,          1,         19,         42,2,19951001,       0354,    -9.8972,   106.8737,       6379,   398.9,   8.8420,  34.6610,2,  34.6591,2,-999.0000,5,    80.7,2,   52.36,2,   31.80,2,    2.32,2
 09FA9508_1,      IR6_4,      73,          1,         18,         13,2,19951001,       0354,    -9.8972,   106.8737,       6379,   545.9,   7.6130,  34.6700,2,  34.6709,2,-999.0000,5,    75.6,2,   64.10,2,   34.53,2,    2.56,2
 09FA9508_1,      IR6_4,      73,          1,         16,         20,2,19951001,       0354,    -9.8972,   106.8737,       6379,   690.6,   6.5380,  34.6480,2,  34.6474,2,-999.0000,5,    78.8,2,   80.67,2,   35.68,2,    2.67,2
 09FA9508_1,      IR6_4,      73,          1,         15,         11,2,19951001,       0354,    -9.8972,   106.8737,       6379,   798.0,   5.9430,  34.6290,2,  34.6313,2,-999.0000,5,    84.5,2,   86.76,2,   35.94,2,    2.67,2
 09FA9508_1,      IR6_4,      73,          1,         14,          8,2,19951001,       0354,    -9.8972,   106.8737,       6379,   893.9,   5.3460,  34.6200,2,  34.6211,2,-999.0000,5,    89.1,2,   97.00,2,   36.14,2,    2.67,2
 09FA9508_1,      IR6_4,      73,          1,         12,         35,2,19951001,       0354,    -9.8972,   106.8737,       6379,  1245.2,   4.0530,  34.6530,2,  34.6530,2,-999.0000,5,   100.3,2,  116.12,2,   36.52,2,    2.68,2
 09FA9508_1,      IR6_4,      73,          1,         11,          3,2,19951001,       0354,    -9.8972,   106.8737,       6379,  1494.7,   3.4120,  34.6990,2,  34.6979,2,-999.0000,5,   112.7,2,  117.48,2,   36.34,2,    2.64,2
 09FA9508_1,      IR6_4,      73,          1,         10,         30,2,19951001,       0354,    -9.8972,   106.8737,       6379,  1744.7,   2.8770,  34.7350,2,  34.7360,2,-999.0000,5,   126.1,2,  120.14,2,   35.79,2,    2.59,2
 09FA9508_1,      IR6_4,      73,          1,          9,         24,2,19951001,       0354,    -9.8972,   106.8737,       6379,  1996.7,   2.4850,  34.7380,2,  34.7408,2,-999.0000,5,   138.3,2,  121.61,2,   35.28,2,    2.54,2
 09FA9508_1,      IR6_4,      73,          1,          8,         17,2,19951001,       0354,    -9.8972,   106.8737,       6379,  2497.6,   1.9660,  34.7350,2,  34.7364,2,-999.0000,5,   154.6,2,  128.06,2,   34.64,2,    2.46,2
 09FA9508_1,      IR6_4,      73,          1,          7,         48,2,19951001,       0354,    -9.8972,   106.8737,       6379,  2999.6,   1.6210,  34.7260,2,  34.7270,2,-999.0000,5,   166.7,2,  131.04,2,   34.15,2,    2.41,2
 09FA9508_1,      IR6_4,      73,          1,          6,         15,2,19951001,       0354,    -9.8972,   106.8737,       6379,  3498.5,   1.3510,  34.7200,2,  34.7191,2,-999.0000,5,   178.6,2,  130.33,2,   33.68,2,    2.36,2
 09FA9508_1,      IR6_4,      73,          1,          5,         28,2,19951001,       0354,    -9.8972,   106.8737,       6379,  4000.1,   1.1740,  34.7150,2,  34.7179,2,-999.0000,5,   188.2,2,  126.63,2,   33.29,2,    2.31,2
 09FA9508_1,      IR6_4,      73,          1,          4,         99,2,19951001,       0354,    -9.8972,   106.8737,       6379,  4499.6,   1.1610,  34.7150,2,  34.7148,2,-999.0000,5,   191.2,2,  129.47,2,   33.12,2,    2.30,2
 09FA9508_1,      IR6_4,      73,          1,          3,         14,2,19951001,       0354,    -9.8972,   106.8737,       6379,  5001.1,   1.1910,  34.7140,2,  34.7152,2,-999.0000,5,   193.7,2,  130.74,2,   33.11,2,    2.28,2
 09FA9508_1,      IR6_4,      73,          1,          2,          5,2,19951001,       0354,    -9.8972,   106.8737,       6379,  5491.9,   1.2470,  34.7150,2,  34.7164,2,-999.0000,5,   194.4,2,  129.24,2,   33.00,2,    2.27,2
 09FA9508_1,      IR6_4,      73,          1,          1,         18,2,19951001,       0354,    -9.8972,   106.8737,       6379,  5999.2,   1.3090,  34.7140,2,  34.7148,2,-999.0000,5,   194.8,2,  129.44,2,   33.04,2,    2.29,2
 09FA9508_1,      IR6_4,      74,          1,         24,         21,2,19951001,       1139,   -10.1772,   107.2795,       5969,     2.7,  26.9040,  34.4890,2,  34.4893,2,-999.0000,5,   201.9,2,    4.16,2,    0.28,2,    0.15,2
 09FA9508_1,      IR6_4,      74,          1,         23,         45,2,19951001,       1139,   -10.1772,   107.2795,       5969,    49.1,  22.9710,  34.4550,2,  34.4532,2,-999.0000,5,   163.1,2,    9.20,2,    6.79,2,    0.60,2
 09FA9508_1,      IR6_4,      74,          1,         22,         43,2,19951001,       1139,   -10.1772,   107.2795,       5969,    99.3,  17.1590,  34.5370,2,  34.5319,2,-999.0000,5,   122.1,2,   23.22,2,   16.39,2,    1.22,2
 09FA9508_1,      IR6_4,      74,          1,         21,          7,2,19951001,       1139,   -10.1772,   107.2795,       5969,   152.2,  14.1910,  34.6100,2,  34.6066,2,-999.0000,5,    99.4,2,   31.06,2,   22.23,2,    1.64,2
 09FA9508_1,      IR6_4,      74,          1,         20,         10,2,19951001,       1139,   -10.1772,   107.2795,       5969,   199.8,  12.6650,  34.6210,2,  34.6220,2,-999.0000,5,    95.8,2,   35.17,2,   24.32,2,    1.79,2
 09FA9508_1,      IR6_4,      74,          1,         19,         42,2,19951001,       1139,   -10.1772,   107.2795,       5969,   295.8,  10.1200,  34.6290,2,  34.6299,2,-999.0000,5,    85.3,2,   43.90,2,   29.03,2,    2.10,2
 09FA9508_1,      IR6_4,      74,          1,         18,         13,2,19951001,       1139,   -10.1772,   107.2795,       5969,   398.5,   9.0360,  34.6590,2,  34.6595,2,-999.0000,5,    78.9,2,   48.50,2,   31.50,2,    2.27,2
 09FA9508_1,      IR6_4,      74,          1,         17,         27,2,19951001,       1139,   -10.1772,   107.2795,       5969,   499.8,   8.0990,  34.6450,2,  34.6426,2,-999.0000,5,    79.5,2,   56.93,2,   33.05,2,    2.39,2
 09FA9508_1,      IR6_4,      74,          1,         16,         20,2,19951001,       1139,   -10.1772,   107.2795,       5969,   596.8,   7.4070,  34.6620,2,  34.6596,2,-999.0000,5,    74.5,2,   65.05,2,   34.67,2,    2.52,2
 09FA9508_1,      IR6_4,      74,          1,         15,         11,2,19951001,       1139,   -10.1772,   107.2795,       5969,   697.7,   6.5690,  34.6400,2,  34.6388,2,-999.0000,5,    78.6,2,   77.94,2,   35.27,2,    2.58,2
 09FA9508_1,      IR6_4,      74,          1,         14,          8,2,19951001,       1139,   -10.1772,   107.2795,       5969,   795.2,   6.1290,  34.6360,2,  34.6361,2,-999.0000,5,    80.3,2,   83.66,2,   35.78,2,    2.60,2
 09FA9508_1,      IR6_4,      74,          1,         13,          6,2,19951001,       1139,   -10.1772,   107.2795,       5969,   895.6,   5.3380,  34.6120,2,  34.6109,2,-999.0000,5,    88.4,2,   95.25,2,   36.13,2,    2.64,2
 09FA9508_1,      IR6_4,      74,          1,         12,         35,2,19951001,       1139,   -10.1772,   107.2795,       5969,   996.4,   4.9390,  34.6190,2,  34.6220,2,-999.0000,5,    89.4,2,  101.03,2,   36.49,2,    2.66,2
 09FA9508_1,      IR6_4,      74,          1,         11,          3,2,19951001,       1139,   -10.1772,   107.2795,       5969,  1243.8,   4.1080,  34.6500,2,  34.6511,2,-999.0000,5,    97.7,2,  110.18,2,   36.67,2,    2.67,2
 09FA9508_1,      IR6_4,      74,          1,         10,         30,2,19951001,       1139,   -10.1772,   107.2795,       5969,  1495.3,   3.4260,  34.6970,2,  34.6975,2,-999.0000,5,   111.5,2,  115.03,2,   36.54,2,    2.64,2
 09FA9508_1,      IR6_4,      74,          1,          9,         24,2,19951001,       1139,   -10.1772,   107.2795,       5969,  1996.6,   2.4260,  34.7320,2,-999.0000,9,-999.0000,5,   136.1,2,  122.41,2,   35.24,2,    2.53,2
 09FA9508_1,      IR6_4,      74,          1,          8,         17,2,19951001,       1139,   -10.1772,   107.2795,       5969,  2498.2,   1.9400,  34.7320,2,  34.7329,2,-999.0000,5,   152.2,2,  126.17,2,   34.59,2,    2.48,2
 09FA9508_1,      IR6_4,      74,          1,          7,         48,2,19951001,       1139,   -10.1772,   107.2795,       5969,  2998.7,   1.5830,  34.7240,2,  34.7250,2,-999.0000,5,   163.3,2,  130.63,2,   34.26,2,    2.43,2
 09FA9508_1,      IR6_4,      74,          1,          6,         15,2,19951001,       1139,   -10.1772,   107.2795,       5969,  3498.6,   1.3140,  34.7160,2,  34.7172,2,-999.0000,5,   175.6,2,  132.56,2,   33.82,2,    2.38,2
 09FA9508_1,      IR6_4,      74,          1,          5,         28,2,19951001,       1139,   -10.1772,   107.2795,       5969,  4000.4,   1.1680,  34.7130,2,  34.7132,2,-999.0000,5,   184.3,2,  131.16,2,   33.47,2,    2.34,2
 09FA9508_1,      IR6_4,      74,          1,          4,         99,2,19951001,       1139,   -10.1772,   107.2795,       5969,  4499.4,   1.1720,  34.7120,2,  34.7128,2,-999.0000,5,   187.0,2,  130.39,2,   33.13,2,    2.33,2
 09FA9508_1,      IR6_4,      74,          1,          3,         14,2,19951001,       1139,   -10.1772,   107.2795,       5969,  5001.2,   1.2010,  34.7120,2,  34.7112,2,-999.0000,5,   188.8,2,  129.96,2,   33.19,2,    2.32,2
 09FA9508_1,      IR6_4,      74,          1,          2,          5,2,19951001,       1139,   -10.1772,   107.2795,       5969,  5500.2,   1.2490,  34.7120,2,  34.7128,2,-999.0000,5,   189.8,2,  130.42,2,   33.08,2,    2.31,2
 09FA9508_1,      IR6_4,      74,          1,          1,         18,2,19951001,       1139,   -10.1772,   107.2795,       5969,  6001.1,   1.3130,  34.7110,2,  34.7042,2,-999.0000,5,   190.0,2,  130.72,2,   33.08,2,    2.31,2
 09FA9508_1,      IR6_4,      75,          1,         24,         21,2,19951001,       1934,   -10.4383,   107.6900,       5911,     4.3,  26.7750,  34.4740,2,  34.4750,2,-999.0000,5,   203.2,2,    3.81,2,    0.28,2,    0.17,2
 09FA9508_1,      IR6_4,      75,          1,         23,         45,2,19951001,       1934,   -10.4383,   107.6900,       5911,    49.0,  23.0110,  34.4460,2,  34.4486,2,-999.0000,5,   164.8,2,    8.40,2,    6.13,2,    0.61,2
 09FA9508_1,      IR6_4,      75,          1,         22,         43,2,19951001,       1934,   -10.4383,   107.6900,       5911,    99.4,  17.3120,  34.5480,2,  34.5449,2,-999.0000,5,   111.5,2,   23.81,2,   17.38,2,    1.28,2
 09FA9508_1,      IR6_4,      75,          1,         21,          7,2,19951001,       1934,   -10.4383,   107.6900,       5911,   199.4,  12.7210,  34.5560,2,  34.5607,2,-999.0000,5,    95.8,2,   36.01,2,   24.25,2,    1.73,2
 09FA9508_1,      IR6_4,      75,          1,         20,         10,2,19951001,       1934,   -10.4383,   107.6900,       5911,   298.9,  10.5050,  34.6230,2,  34.6243,2,-999.0000,5,    88.5,2,   42.87,2,   27.91,2,    1.97,2
 09FA9508_1,      IR6_4,      75,          1,         19,         42,2,19951001,       1934,   -10.4383,   107.6900,       5911,   397.7,   9.2780,  34.6670,2,  34.6676,2,-999.0000,5,    97.5,2,   42.83,2,   28.98,2,    2.03,2
 09FA9508_1,      IR6_4,      75,          1,         18,         13,2,19951001,       1934,   -10.4383,   107.6900,       5911,   497.1,   8.2200,  34.6540,2,  34.6534,2,-999.0000,5,    78.8,2,   55.49,2,   32.66,2,    2.30,2
 09FA9508_1,      IR6_4,      75,          1,         17,         27,2,19951001,       1934,   -10.4383,   107.6900,       5911,   596.7,   7.3580,  34.6530,2,  34.6483,2,-999.0000,5,    75.8,2,   65.67,2,   34.35,2,    2.45,2
 09FA9508_1,      IR6_4,      75,          1,         16,         20,2,19951001,       1934,   -10.4383,   107.6900,       5911,   697.0,   6.5830,  34.6410,2,  34.6381,2,-999.0000,5,    77.0,2,   76.98,2,   35.19,2,    2.53,2
 09FA9508_1,      IR6_4,      75,          1,         15,         11,2,19951001,       1934,   -10.4383,   107.6900,       5911,   798.5,   5.9610,  34.6340,2,  34.6334,2,-999.0000,5,    81.2,2,   85.25,2,   35.74,2,    2.59,2
 09FA9508_1,      IR6_4,      75,          1,         14,          8,2,19951001,       1934,   -10.4383,   107.6900,       5911,   895.9,   5.5190,  34.6300,2,  34.6290,2,-999.0000,5,    83.8,2,   92.41,2,   36.09,2,    2.63,2
 09FA9508_1,      IR6_4,      75,          1,         13,          6,2,19951001,       1934,   -10.4383,   107.6900,       5911,   996.0,   5.0140,  34.6200,2,  34.6184,2,-999.0000,5,    88.9,2,  100.15,2,   36.40,2,    2.67,2
 09FA9508_1,      IR6_4,      75,          1,         12,         35,2,19951001,       1934,   -10.4383,   107.6900,       5911,  1246.0,   4.1120,  34.6400,2,  34.6416,2,-999.0000,5,    97.4,2,  112.53,2,   36.67,2,    2.70,2
 09FA9508_1,      IR6_4,      75,          1,         11,          3,2,19951001,       1934,   -10.4383,   107.6900,       5911,  1496.6,   3.4230,  34.6950,2,  34.6928,2,-999.0000,5,   109.1,2,  115.22,2,   36.33,2,    2.66,2
 09FA9508_1,      IR6_4,      75,          1,         10,         30,2,19951001,       1934,   -10.4383,   107.6900,       5911,  1745.8,   2.8720,  34.7200,2,  34.7204,2,-999.0000,5,   123.2,2,  121.55,2,   35.85,2,    2.60,2
 09FA9508_1,      IR6_4,      75,          1,          9,         24,2,19951001,       1934,   -10.4383,   107.6900,       5911,  1996.6,   2.4140,  34.7320,2,  34.7291,2,-999.0000,5,   136.1,2,  124.22,2,   35.18,2,    2.53,2
 09FA9508_1,      IR6_4,      75,          1,          8,         17,2,19951001,       1934,   -10.4383,   107.6900,       5911,  2497.9,   1.9410,  34.7300,2,  34.7295,2,-999.0000,5,   151.2,2,  127.41,2,   34.63,2,    2.48,2
 09FA9508_1,      IR6_4,      75,          1,          7,         48,2,19951001,       1934,   -10.4383,   107.6900,       5911,  2997.2,   1.6480,  34.7230,2,  34.7233,2,-999.0000,5,   161.2,2,  130.38,2,   34.20,2,    2.42,2
 09FA9508_1,      IR6_4,      75,          1,          6,         15,2,19951001,       1934,   -10.4383,   107.6900,       5911,  3498.6,   1.3770,  34.7170,2,  34.7178,2,-999.0000,5,   172.9,2,  132.34,2,   33.83,2,    2.38,2
 09FA9508_1,      IR6_4,      75,          1,          5,         28,2,19951001,       1934,   -10.4383,   107.6900,       5911,  3998.2,   1.1850,  34.7120,2,  34.7127,2,-999.0000,5,   182.8,2,  131.59,2,   33.32,2,    2.34,2
 09FA9508_1,      IR6_4,      75,          1,          4,         99,2,19951001,       1934,   -10.4383,   107.6900,       5911,  4501.2,   1.1700,  34.7120,2,  34.7127,2,-999.0000,5,   186.2,2,  130.11,2,   33.25,2,    2.33,2
 09FA9508_1,      IR6_4,      75,          1,          3,         14,2,19951001,       1934,   -10.4383,   107.6900,       5911,  4999.0,   1.2010,  34.7100,2,  34.7104,2,-999.0000,5,   188.2,2,  129.72,2,   33.12,2,    2.33,2
 09FA9508_1,      IR6_4,      75,          1,          2,          5,2,19951001,       1934,   -10.4383,   107.6900,       5911,  5504.9,   1.2510,  34.7110,2,  34.7104,2,-999.0000,5,   189.2,2,  129.82,2,   33.09,2,    2.29,2
 09FA9508_1,      IR6_4,      75,          1,          1,         18,2,19951001,       1934,   -10.4383,   107.6900,       5911,  6000.0,   1.3120,  34.7110,2,  34.7128,2,-999.0000,5,   189.5,2,  127.30,2,   32.91,2,    2.27,2