BOTTLE,20211101CCHSIORKP
EXPOCODE,SECT_ID,STNNBR,CASTNO,SAMPNO,BTLNBR,BTLNBR_FLAG_W,DATE,TIME,LATITUDE,LONGITUDE,DEPTH,CTDPRS,CTDTMP,CTDSAL,CTDSAL_FLAG_W,SALNTY,SALNTY_FLAG_W,CTDOXY,CTDOXY_FLAG_W,OXYGEN,OXYGEN_FLAG_W,SILCAT,SILCAT_FLAG_W,NITRAT,NITRAT_FLAG_W,PHSPHT,PHSPHT_FLAG_W
,,,,,,,,,,,METERS,DBAR,ITS-90,PSS-78,,PSS-78,,UMOL/KG,,UMOL/KG,,UMOL/KG,,UMOL/KG,,UMOL/KG,
 09FA9508_1,      IR6_4,      42,          1,         24,         24,2,19950923,       0550,   -14.3800,   107.2567,       5576,     1.4,  26.3800,  34.3670,2,  34.3688,2,-999.0000,5,   208.5,2,    4.51,2,    0.19,2,    0.14,2
 09FA9508_1,      IR6_4,      42,          1,         23,          8,2,19950923,       0550,   -14.3800,   107.2567,       5576,    48.5,  26.0450,  34.3540,2,  34.3539,2,-999.0000,5,   209.1,2,    4.47,2,    0.19,2,    0.14,2
 09FA9508_1,      IR6_4,      42,          1,         22,         13,2,19950923,       0550,   -14.3800,   107.2567,       5576,    98.6,  24.0670,  34.5200,2,  34.5160,2,-999.0000,5,   151.3,2,   10.00,2,    7.12,2,    0.56,2
 09FA9508_1,      IR6_4,      42,          1,         21,          9,2,19950923,       0550,   -14.3800,   107.2567,       5576,   197.5,  18.7740,  35.1030,2,  35.1119,2,-999.0000,5,   133.6,2,   15.75,2,   11.70,2,    0.88,2
 09FA9508_1,      IR6_4,      42,          1,         20,         25,2,19950923,       0550,   -14.3800,   107.2567,       5576,   298.2,  12.7930,  34.9080,2,  34.9054,2,-999.0000,5,   124.5,2,   28.51,2,   19.94,2,    1.48,2
 09FA9508_1,      IR6_4,      42,          1,         19,          6,2,19950923,       0550,   -14.3800,   107.2567,       5576,   397.7,  10.2120,  34.7880,2,  34.7870,2,-999.0000,5,   144.3,2,   27.56,2,   22.42,2,    1.64,2
 09FA9508_1,      IR6_4,      42,          1,         18,         21,2,19950923,       0550,   -14.3800,   107.2567,       5576,   496.5,   8.8130,  34.6840,2,  34.6833,2,-999.0000,5,   132.2,2,   33.97,2,   26.80,2,    1.92,2
 09FA9508_1,      IR6_4,      42,          1,         17,          4,2,19950923,       0550,   -14.3800,   107.2567,       5576,   596.7,   7.8000,  34.6600,2,  34.6574,2,-999.0000,5,   100.5,2,   51.27,2,   31.64,2,    2.28,2
 09FA9508_1,      IR6_4,      42,          1,         16,         35,2,19950923,       0550,   -14.3800,   107.2567,       5576,   697.8,   7.1930,  34.6560,2,  34.6535,2,-999.0000,5,    87.6,2,   63.10,2,   33.75,2,    2.44,2
 09FA9508_1,      IR6_4,      42,          1,         15,         28,2,19950923,       0550,   -14.3800,   107.2567,       5576,   796.1,   6.4490,  34.6420,2,  34.6409,2,-999.0000,5,    83.2,2,   77.07,2,   35.22,2,    2.54,2
 09FA9508_1,      IR6_4,      42,          1,         14,         32,2,19950923,       0550,   -14.3800,   107.2567,       5576,   897.2,   5.8700,  34.6340,2,  34.6437,2,-999.0000,5,    86.9,2,   82.54,2,   35.00,2,    2.53,3
 09FA9508_1,      IR6_4,      42,          1,         13,         29,2,19950923,       0550,   -14.3800,   107.2567,       5576,   996.8,   5.2970,  34.6260,2,  34.6236,2,-999.0000,5,    88.0,2,   95.49,2,   36.24,2,    2.61,2
 09FA9508_1,      IR6_4,      42,          1,         12,          7,2,19950923,       0550,   -14.3800,   107.2567,       5576,  1195.3,   4.5240,  34.6300,2,  34.6276,2,-999.0000,5,    95.6,2,  106.16,2,   36.51,2,    2.63,2
 09FA9508_1,      IR6_4,      42,          1,         11,         10,2,19950923,       0550,   -14.3800,   107.2567,       5576,  1394.9,   3.8330,  34.6600,2,  34.6602,2,-999.0000,5,   105.8,2,  112.46,2,   36.33,2,    2.61,2
 09FA9508_1,      IR6_4,      42,          1,         10,         19,2,19950923,       0550,   -14.3800,   107.2567,       5576,  1594.9,   3.3400,  34.6940,2,  34.6893,2,-999.0000,5,   116.2,2,  113.38,2,   35.92,2,    2.58,2
 09FA9508_1,      IR6_4,      42,          1,          9,         20,2,19950923,       0550,   -14.3800,   107.2567,       5576,  1794.2,   2.9060,  34.7110,2,  34.7116,2,-999.0000,5,   127.3,2,  116.99,2,   35.32,2,    2.54,2
 09FA9508_1,      IR6_4,      42,          1,          8,         18,2,19950923,       0550,   -14.3800,   107.2567,       5576,  1994.9,   2.4860,  34.7270,2,  34.7266,2,-999.0000,5,   137.7,2,  121.18,2,   35.21,2,    2.50,2
 09FA9508_1,      IR6_4,      42,          1,          7,         11,2,19950923,       0550,   -14.3800,   107.2567,       5576,  2497.4,   1.9240,  34.7290,2,  34.7278,2,-999.0000,5,   156.2,2,  125.54,2,   34.46,2,    2.43,2
 09FA9508_1,      IR6_4,      42,          1,          6,         30,2,19950923,       0550,   -14.3800,   107.2567,       5576,  2998.4,   1.5880,  34.7250,2,  34.7219,2,-999.0000,5,   167.0,2,  126.71,2,   33.94,2,    2.38,2
 09FA9508_1,      IR6_4,      42,          1,          5,         27,2,19950923,       0550,   -14.3800,   107.2567,       5576,  3500.0,   1.3530,  34.7190,2,  34.7195,2,-999.0000,5,   179.3,2,  129.66,2,   33.60,2,    2.34,2
 09FA9508_1,      IR6_4,      42,          1,          4,         24,2,19950923,       0550,   -14.3800,   107.2567,       5576,  3998.6,   1.2340,  34.7160,2,  34.7156,2,-999.0000,5,   186.0,2,  130.43,2,   33.36,2,    2.31,2
 09FA9508_1,      IR6_4,      42,          1,          3,          5,2,19950923,       0550,   -14.3800,   107.2567,       5576,  4499.4,   1.1890,  34.7150,2,  34.7156,2,-999.0000,5,   190.3,2,  128.70,2,   33.16,2,    2.29,2
 09FA9508_1,      IR6_4,      42,          1,          2,          3,2,19950923,       0550,   -14.3800,   107.2567,       5576,  5003.5,   1.1740,  34.7140,2,  34.7136,2,-999.0000,5,   193.3,2,  127.39,2,   33.10,2,    2.27,2
 09FA9508_1,      IR6_4,      42,          1,          1,         12,2,19950923,       0550,   -14.3800,   107.2567,       5576,  5722.3,   1.2210,  34.7130,2,  34.7124,2,-999.0000,5,   170.5,3,  119.23,3,   33.38,3,    2.30,3
 09FA9508_1,      IR6_4,      59,          1,         24,         21,2,19950926,       0939,   -13.8948,   107.0955,       5547,     2.7,  26.2310,  34.3350,2,  34.3407,2,-999.0000,5,   207.9,2, -999.00,9, -999.00,9, -999.00,9
 09FA9508_1,      IR6_4,      59,          1,         23,         66,2,19950926,       0939,   -13.8948,   107.0955,       5547,    49.0,  26.2000,  34.3340,2,  34.3359,2,-999.0000,5,   206.9,2,    4.78,2,    0.50,2,    0.19,2
 09FA9508_1,      IR6_4,      59,          1,         22,         29,2,19950926,       0939,   -13.8948,   107.0955,       5547,    99.7,  26.0060,  34.3800,2,  34.3811,2,-999.0000,5,   204.1,2,    5.11,2,    1.55,2,    0.23,2
 09FA9508_1,      IR6_4,      59,          1,         21,         45,2,19950926,       0939,   -13.8948,   107.0955,       5547,   199.5,  17.7840,  34.7210,2,  34.7137,2,-999.0000,5,   109.7,2,   23.77,2,   17.86,2,    1.27,2
 09FA9508_1,      IR6_4,      59,          1,         20,         10,2,19950926,       0939,   -13.8948,   107.0955,       5547,   298.5,  12.4900,  34.8320,2,  34.8312,2,-999.0000,5,   118.6,2,   33.13,2,   22.37,2,    1.60,2
 09FA9508_1,      IR6_4,      59,          1,         19,         42,2,19950926,       0939,   -13.8948,   107.0955,       5547,   398.3,  10.7240,  34.8050,2,  34.8037,2,-999.0000,5,   132.3,2,   31.99,2,   23.62,2,    1.66,2
 09FA9508_1,      IR6_4,      59,          1,         18,         13,2,19950926,       0939,   -13.8948,   107.0955,       5547,   497.7,   8.9890,  34.6910,2,  34.6901,2,-999.0000,5,   127.1,2,   37.68,2,   27.99,2,    1.91,2
 09FA9508_1,      IR6_4,      59,          1,         17,         27,2,19950926,       0939,   -13.8948,   107.0955,       5547,   597.2,   8.0520,  34.6610,2,  34.6618,2,-999.0000,5,   106.2,2,   49.95,2,   31.74,2,    2.19,2
 09FA9508_1,      IR6_4,      59,          1,         16,         20,2,19950926,       0939,   -13.8948,   107.0955,       5547,   697.5,   7.0620,  34.6500,2,  34.6489,2,-999.0000,5,    88.5,2,   69.54,2,   35.11,2,    2.46,2
 09FA9508_1,      IR6_4,      59,          1,         15,         11,2,19950926,       0939,   -13.8948,   107.0955,       5547,   796.7,   6.3800,  34.6420,2,  34.6445,2,-999.0000,5,    88.6,2,   80.45,2,   36.00,2,    2.54,2
 09FA9508_1,      IR6_4,      59,          1,         14,          8,2,19950926,       0939,   -13.8948,   107.0955,       5547,   896.9,   5.6560,  34.6230,2,  34.6233,2,-999.0000,5,    90.6,2,   93.19,2,   36.59,2,    2.58,2
 09FA9508_1,      IR6_4,      59,          1,         13,          6,2,19950926,       0939,   -13.8948,   107.0955,       5547,   997.3,   5.1990,  34.6170,2,  34.6186,2,-999.0000,5,    94.1,2,  100.61,2,   36.77,2,    2.62,2
 09FA9508_1,      IR6_4,      59,          1,         12,         35,2,19950926,       0939,   -13.8948,   107.0955,       5547,  1195.4,   4.5410,  34.6230,2,  34.6233,2,-999.0000,5,    98.0,2,  110.01,2,   36.24,2,    2.63,2
 09FA9508_1,      IR6_4,      59,          1,         11,          3,2,19950926,       0939,   -13.8948,   107.0955,       5547,  1394.8,   3.8810,  34.6530,2,  34.6497,2,-999.0000,5,   110.1,2,  112.49,2,   36.34,2,    2.61,2
 09FA9508_1,      IR6_4,      59,          1,         10,         30,2,19950926,       0939,   -13.8948,   107.0955,       5547,  1695.2,   3.2240,  34.6950,2,  34.6960,2,-999.0000,5,   122.5,2,  117.47,2,   35.87,2,    2.59,2
 09FA9508_1,      IR6_4,      59,          1,          9,         24,2,19950926,       0939,   -13.8948,   107.0955,       5547,  1995.8,   2.6380,  34.7250,2,  34.7251,2,-999.0000,5,   137.1,2,  120.87,2,   35.45,2,    2.51,2
 09FA9508_1,      IR6_4,      59,          1,          8,         17,2,19950926,       0939,   -13.8948,   107.0955,       5547,  2497.6,   1.9510,  34.7300,2,  34.7306,2,-999.0000,5,   157.7,2,  125.86,2,   33.86,2,    2.42,2
 09FA9508_1,      IR6_4,      59,          1,          7,         48,2,19950926,       0939,   -13.8948,   107.0955,       5547,  2999.4,   1.5650,  34.7230,2,  34.7231,2,-999.0000,5,   171.8,2,  129.37,2,   33.40,2,    2.36,2
 09FA9508_1,      IR6_4,      59,          1,          6,         15,2,19950926,       0939,   -13.8948,   107.0955,       5547,  3499.2,   1.3820,  34.7190,2,  34.7200,2,-999.0000,5,   180.9,2,  128.35,2,   33.02,2,    2.36,2
 09FA9508_1,      IR6_4,      59,          1,          5,         28,2,19950926,       0939,   -13.8948,   107.0955,       5547,  3999.4,   1.2510,  34.7160,2,  34.7172,2,-999.0000,5,   187.9,2,  129.04,2,   32.61,2,    2.30,2
 09FA9508_1,      IR6_4,      59,          1,          4,         99,2,19950926,       0939,   -13.8948,   107.0955,       5547,  4500.6,   1.2090,  34.7140,2,  34.7149,2,-999.0000,5,   192.6,2,  127.96,2,   32.24,2,    2.30,2
 09FA9508_1,      IR6_4,      59,          1,          3,         14,2,19950926,       0939,   -13.8948,   107.0955,       5547,  4999.5,   1.1870,  34.7120,2,  34.7117,2,-999.0000,5,   197.2,2,  127.15,2,   32.18,2,    2.27,2
 09FA9508_1,      IR6_4,      59,          1,          2,          5,2,19950926,       0939,   -13.8948,   107.0955,       5547,  5498.8,   1.1940,  34.7110,2,  34.7102,2,-999.0000,5,   200.2,2,  125.91,2,   31.84,2,    2.26,2
 09FA9508_1,      IR6_4,      59,          1,          1,         18,2,19950926,       0939,   -13.8948,   107.0955,       5547,  5667.1,   1.2110,  34.7120,2,  34.7102,2,-999.0000,5,   200.8,2,  126.36,2,   32.10,2,    2.24,2
 09FA9508_1,      IR6_4,      60,          1,         23,         66,2,19950926,       1539,   -13.5995,   107.0073,       5165,    48.8,  26.1440,  34.3250,2,  34.3311,2,-999.0000,5,   203.2,2,    5.85,2,    0.87,2,    0.26,2
 09FA9508_1,      IR6_4,      60,          1,         22,         29,2,19950926,       1539,   -13.5995,   107.0073,       5165,    98.9,  26.1060,  34.3200,2,  34.3197,2,-999.0000,5,   203.6,2,    5.04,2,    0.79,2,    0.22,2
 09FA9508_1,      IR6_4,      60,          1,         21,         45,2,19950926,       1539,   -13.5995,   107.0073,       5165,   199.3,  18.3590,  34.7920,2,  34.7800,2,-999.0000,5,   105.2,2,   21.13,2,   16.47,2,    1.23,2
 09FA9508_1,      IR6_4,      60,          1,         20,         10,2,19950926,       1539,   -13.5995,   107.0073,       5165,   299.0,  12.5580,  34.7590,2,  34.7571,2,-999.0000,5,   106.0,2,   34.57,2,   22.96,2,    1.68,2
 09FA9508_1,      IR6_4,      60,          1,         19,         42,2,19950926,       1539,   -13.5995,   107.0073,       5165,   398.0,  10.2120,  34.7010,2,  34.6962,2,-999.0000,5,   101.1,2,   40.43,2,   26.99,2,    1.95,2
 09FA9508_1,      IR6_4,      60,          1,         18,         13,2,19950926,       1539,   -13.5995,   107.0073,       5165,   497.7,   8.9120,  34.6820,2,  34.6797,2,-999.0000,5,   102.6,2,   43.66,2,   29.37,2,    2.06,2
 09FA9508_1,      IR6_4,      60,          1,         17,         27,2,19950926,       1539,   -13.5995,   107.0073,       5165,   596.7,   7.7060,  34.6570,2,  34.6545,2,-999.0000,5,    81.4,2,   61.79,2,   33.40,2,    2.39,2
 09FA9508_1,      IR6_4,      60,          1,         16,         20,2,19950926,       1539,   -13.5995,   107.0073,       5165,   696.6,   6.8410,  34.6400,2,  34.6395,2,-999.0000,5,    80.2,2,   74.12,2,   34.62,2,    2.52,2
 09FA9508_1,      IR6_4,      60,          1,         15,         11,2,19950926,       1539,   -13.5995,   107.0073,       5165,   796.3,   6.1410,  34.6320,2,  34.6317,2,-999.0000,5,    83.9,2,   83.18,2,   35.50,2,    2.56,2
 09FA9508_1,      IR6_4,      60,          1,         14,          8,2,19950926,       1539,   -13.5995,   107.0073,       5165,   896.1,   5.6940,  34.6230,2,  34.6215,2,-999.0000,5,    86.4,2,   90.73,2,   35.80,2,    2.58,2
 09FA9508_1,      IR6_4,      60,          1,         13,          6,2,19950926,       1539,   -13.5995,   107.0073,       5165,   995.8,   5.1980,  34.6190,2,  34.6195,2,-999.0000,5,    89.9,2,   98.18,2,   35.99,2,    2.62,2
 09FA9508_1,      IR6_4,      60,          1,         12,         35,2,19950926,       1539,   -13.5995,   107.0073,       5165,  1195.0,   4.5780,  34.6250,2,  34.6231,2,-999.0000,5,    94.5,2,  106.73,2,   36.52,2,    2.65,2
 09FA9508_1,      IR6_4,      60,          1,         11,          3,2,19950926,       1539,   -13.5995,   107.0073,       5165,  1394.5,   3.9400,  34.6500,2,  34.6471,2,-999.0000,5,   105.1,2,  110.66,2,   35.77,2,    2.62,2
 09FA9508_1,      IR6_4,      60,          1,         10,         30,2,19950926,       1539,   -13.5995,   107.0073,       5165,  1595.8,   3.3790,  34.6860,2,  34.6841,2,-999.0000,5,   116.4,2,  115.81,2,   36.18,2,    2.60,2
 09FA9508_1,      IR6_4,      60,          1,          9,         24,2,19950926,       1539,   -13.5995,   107.0073,       5165,  1797.1,   2.9360,  34.7100,2,  34.7105,2,-999.0000,5,   126.2,2,  117.21,2,   35.57,2,    2.55,2
 09FA9508_1,      IR6_4,      60,          1,          8,         17,2,19950926,       1539,   -13.5995,   107.0073,       5165,  1997.3,   2.5490,  34.7250,2,  34.7258,2,-999.0000,5,   136.3,2,  120.53,2,   35.51,2,    2.50,2
 09FA9508_1,      IR6_4,      60,          1,          7,         48,2,19950926,       1539,   -13.5995,   107.0073,       5165,  2498.1,   1.8940,  34.7280,2,  34.7270,2,-999.0000,5,   156.7,2,  125.64,2,   34.36,2,    2.41,2
 09FA9508_1,      IR6_4,      60,          1,          6,         15,2,19950926,       1539,   -13.5995,   107.0073,       5165,  2999.5,   1.5840,  34.7230,2,  34.7239,2,-999.0000,5,   169.3,2,  128.20,2,   34.31,2,    2.37,2
 09FA9508_1,      IR6_4,      60,          1,          5,         28,2,19950926,       1539,   -13.5995,   107.0073,       5165,  3498.4,   1.3870,  34.7190,2,  34.7192,2,-999.0000,5,   177.9,2,  130.80,2,   33.78,2,    2.34,2
 09FA9508_1,      IR6_4,      60,          1,          4,         99,2,19950926,       1539,   -13.5995,   107.0073,       5165,  3999.8,   1.2190,  34.7150,2,  34.7145,2,-999.0000,5,   186.6,2,  131.04,2,   33.28,2,    2.31,2
 09FA9508_1,      IR6_4,      60,          1,          3,         14,2,19950926,       1539,   -13.5995,   107.0073,       5165,  4499.1,   1.1900,  34.7130,2,  34.7138,2,-999.0000,5,   190.6,2,  129.84,2,   32.98,2,    2.29,2
 09FA9508_1,      IR6_4,      60,          1,          2,          5,2,19950926,       1539,   -13.5995,   107.0073,       5165,  4999.4,   1.1990,  34.7130,2,  34.7126,2,-999.0000,5,   194.0,2,  128.50,2,   32.91,2,    2.27,2
 09FA9508_1,      IR6_4,      60,          1,         24,         21,2,19950926,       1539,   -13.5995,   107.0073,       5165,  5260.8,   1.1950,  34.7120,2,  34.7135,2,-999.0000,5,   196.4,2, -999.00,9, -999.00,9, -999.00,9
 09FA9508_1,      IR6_4,      60,          1,          1,         18,2,19950926,       1539,   -13.5995,   107.0073,       5165,  5260.8,   1.1950,  34.7120,2,  34.7123,2,-999.0000,5,   196.1,2,  127.07,2,   32.61,2,    2.26,2