BOTTLE,20211101CCHSIORKP
EXPOCODE,SECT_ID,STNNBR,CASTNO,SAMPNO,BTLNBR,BTLNBR_FLAG_W,DATE,TIME,LATITUDE,LONGITUDE,DEPTH,CTDPRS,CTDTMP,CTDSAL,CTDSAL_FLAG_W,SALNTY,SALNTY_FLAG_W,CTDOXY,CTDOXY_FLAG_W,OXYGEN,OXYGEN_FLAG_W,SILCAT,SILCAT_FLAG_W,NITRAT,NITRAT_FLAG_W,PHSPHT,PHSPHT_FLAG_W
,,,,,,,,,,,METERS,DBAR,ITS-90,PSS-78,,PSS-78,,UMOL/KG,,UMOL/KG,,UMOL/KG,,UMOL/KG,,UMOL/KG,
 09FA9508_1,      IR6_4,     112,          1,         12,         21,2,19951010,       1301,   -12.3020,   122.6343,        906,     2.4,  28.0950,  34.6250,2,  34.6229,2,-999.0000,5,   208.0,2,    4.75,2,    0.36,2,    0.16,2
 09FA9508_1,      IR6_4,     112,          1,         11,         13,2,19951010,       1301,   -12.3020,   122.6343,        906,    48.6,  26.3900,  34.5100,2,  34.5075,2,-999.0000,5,   210.3,2,    4.91,2,    0.34,2,    0.17,2
 09FA9508_1,      IR6_4,     112,          1,         10,         42,2,19951010,       1301,   -12.3020,   122.6343,        906,    98.0,  25.0990,  34.6570,2,  34.6481,2,-999.0000,5,  -999.0,9,    7.59,2,    3.57,2,    0.40,2
 09FA9508_1,      IR6_4,     112,          1,          9,         24,2,19951010,       1301,   -12.3020,   122.6343,        906,   127.1,  23.2920,  34.6800,2,  34.6763,2,-999.0000,5,   147.4,2,   12.84,2,    8.20,2,    0.70,2
 09FA9508_1,      IR6_4,     112,          1,          8,         17,2,19951010,       1301,   -12.3020,   122.6343,        906,   199.4,  15.9590,  34.6660,2,  34.7211,2,-999.0000,5,   104.0,2,   26.14,2,   19.32,2,    1.42,2
 09FA9508_1,      IR6_4,     112,          1,          7,         48,2,19951010,       1301,   -12.3020,   122.6343,        906,   299.7,  11.2710,  34.5930,2,  34.5872,2,-999.0000,5,    95.0,2,   42.55,2,   26.88,2,    1.94,2
 09FA9508_1,      IR6_4,     112,          1,          6,         15,2,19951010,       1301,   -12.3020,   122.6343,        906,   397.4,   9.1830,  34.6340,2,  34.6304,2,-999.0000,5,   104.0,2,   45.99,2,   28.98,2,    2.08,2
 09FA9508_1,      IR6_4,     112,          1,          5,         28,2,19951010,       1301,   -12.3020,   122.6343,        906,   495.7,   7.9320,  34.5840,2,  34.5852,2,-999.0000,5,    89.4,2,   61.87,2,   32.65,2,    2.34,2
 09FA9508_1,      IR6_4,     112,          1,          4,         99,2,19951010,       1301,   -12.3020,   122.6343,        906,   597.0,   7.0760,  34.5820,2,  34.5833,2,-999.0000,5,    87.7,2,   72.13,2,   34.05,2,    2.46,2
 09FA9508_1,      IR6_4,     112,          1,          3,         14,2,19951010,       1301,   -12.3020,   122.6343,        906,   698.5,   6.3390,  34.5830,2,  34.5860,2,-999.0000,5,    88.9,2,   82.21,2,   34.91,2,    2.53,2
 09FA9508_1,      IR6_4,     112,          1,          2,          5,2,19951010,       1301,   -12.3020,   122.6343,        906,   790.7,   6.0300,  34.5850,2,  34.5868,2,-999.0000,5,    89.7,2,   86.40,2,   35.42,2,    2.54,2
 09FA9508_1,      IR6_4,     112,          1,          1,         18,2,19951010,       1301,   -12.3020,   122.6343,        906,   891.2,   5.5900,  34.5840,2,  34.5923,2,-999.0000,5,    92.7,2,   91.44,2,   35.72,2,    2.60,2
 09FA9508_1,      IR6_4,     113,          1,          8,         21,2,19951010,       1450,   -12.2520,   122.8172,        351,     2.3,  28.1800,  34.5510,2,  34.5554,2,-999.0000,5,   200.6,2,    4.58,2,    0.29,2,    0.16,2
 09FA9508_1,      IR6_4,     113,          1,          7,         48,2,19951010,       1450,   -12.2520,   122.8172,        351,    49.0,  26.7110,  34.4390,2,  34.4454,2,-999.0000,5,   204.5,2,    4.80,2,    0.22,2,    0.16,2
 09FA9508_1,      IR6_4,     113,          1,          6,         15,2,19951010,       1450,   -12.2520,   122.8172,        351,    97.6,  22.4760,  34.5850,2,  34.5847,2,-999.0000,5,   135.4,2,   13.84,2,   10.14,2,    0.80,2
 09FA9508_1,      IR6_4,     113,          1,          5,         28,2,19951010,       1450,   -12.2520,   122.8172,        351,   149.4,  17.6600,  34.5840,2,  34.5886,2,-999.0000,5,   105.8,2,   24.21,2,   18.12,2,    1.34,2
 09FA9508_1,      IR6_4,     113,          1,          4,         99,2,19951010,       1450,   -12.2520,   122.8172,        351,   197.4,  14.4420,  34.5730,2,  34.5870,2,-999.0000,5,    99.6,2,   31.90,2,   22.36,2,    1.63,2
 09FA9508_1,      IR6_4,     113,          1,          3,         14,2,19951010,       1450,   -12.2520,   122.8172,        351,   248.0,  13.2380,  34.5600,2,  34.5610,2,-999.0000,5,    96.1,2,   37.25,2,   24.64,2,    1.79,2
 09FA9508_1,      IR6_4,     113,          1,          2,          5,2,19951010,       1450,   -12.2520,   122.8172,        351,   299.4,  11.1530,  34.5530,2,  34.5559,2,-999.0000,5,    92.2,2,   45.08,2,   27.86,2,    2.01,2
 09FA9508_1,      IR6_4,     113,          1,          1,         18,2,19951010,       1450,   -12.2520,   122.8172,        351,   339.6,   9.5210,  34.5570,2,  34.5609,2,-999.0000,5,    90.6,2,   54.31,2,   30.51,2,    2.20,2
 09FA9508_1,      IR6_4,     114,          1,          5,         21,2,19951010,       1541,   -12.2320,   122.8750,        218,     3.5,  27.9040,  34.5450,2,  34.5435,2,-999.0000,5,   201.8,2,    4.85,2,    0.39,2,    0.17,2
 09FA9508_1,      IR6_4,     114,          1,          4,         99,2,19951010,       1541,   -12.2320,   122.8750,        218,    49.3,  26.4730,  34.4980,2,  34.4991,2,-999.0000,5,   198.5,2,    5.42,2,    0.65,2,    0.20,2
 09FA9508_1,      IR6_4,     114,          1,          3,         14,2,19951010,       1541,   -12.2320,   122.8750,        218,    99.4,  22.2820,  34.5880,2,  34.5875,2,-999.0000,5,   131.5,2,   14.79,2,   10.95,2,    0.85,2
 09FA9508_1,      IR6_4,     114,          1,          2,          5,2,19951010,       1541,   -12.2320,   122.8750,        218,   156.5,  19.0330,  34.5470,2,  34.5502,2,-999.0000,5,   112.2,2,   21.64,2,   16.36,2,    1.21,2
 09FA9508_1,      IR6_4,     114,          1,          1,         18,2,19951010,       1541,   -12.2320,   122.8750,        218,   200.6,  11.7200,  34.5620,2,  34.5585,2,-999.0000,5,    93.0,2,   43.93,2,   27.05,2,    1.97,2
 09FA9508_1,      IR6_4,     115,          1,         18,         21,2,19951010,       2237,   -12.4687,   122.0175,       1954,     2.0,  28.0050,  34.5770,2,  34.5793,2,-999.0000,5,   204.9,2, -999.00,9, -999.00,9, -999.00,9
 09FA9508_1,      IR6_4,     115,          1,         17,         45,2,19951010,       2237,   -12.4687,   122.0175,       1954,    48.4,  26.7830,  34.5010,2,  34.4969,2,-999.0000,5,   213.7,2, -999.00,9, -999.00,9, -999.00,9
 09FA9508_1,      IR6_4,     115,          1,         16,         10,2,19951010,       2237,   -12.4687,   122.0175,       1954,    97.5,  24.7050,  34.6900,2,  34.6779,2,-999.0000,5,   166.0,2, -999.00,9, -999.00,9, -999.00,9
 09FA9508_1,      IR6_4,     115,          1,         15,          7,2,19951010,       2237,   -12.4687,   122.0175,       1954,   147.5,  20.3900,  34.7550,2,  34.7419,2,-999.0000,5,   118.5,2, -999.00,9, -999.00,9, -999.00,9
 09FA9508_1,      IR6_4,     115,          1,         14,          2,2,19951010,       2237,   -12.4687,   122.0175,       1954,   196.5,  15.4620,  34.5600,2,  34.5766,2,-999.0000,5,   102.0,2, -999.00,9, -999.00,9, -999.00,9
 09FA9508_1,      IR6_4,     115,          1,         13,         11,2,19951010,       2237,   -12.4687,   122.0175,       1954,   298.4,  10.8060,  34.5580,2,  34.5578,2,-999.0000,5,    92.9,2, -999.00,9, -999.00,9, -999.00,9
 09FA9508_1,      IR6_4,     115,          1,         12,         17,2,19951010,       2237,   -12.4687,   122.0175,       1954,   399.2,   9.2080,  34.5620,2,  34.5637,2,-999.0000,5,    89.2,2, -999.00,9, -999.00,9, -999.00,9
 09FA9508_1,      IR6_4,     115,          1,         11,         69,2,19951010,       2237,   -12.4687,   122.0175,       1954,   496.6,   8.1130,  34.6050,2,  34.6073,2,-999.0000,5,    96.3,2, -999.00,9, -999.00,9, -999.00,9
 09FA9508_1,      IR6_4,     115,          1,         10,         24,2,19951010,       2237,   -12.4687,   122.0175,       1954,   597.0,   6.9850,  34.5850,2,  34.5759,2,-999.0000,5,    87.4,2, -999.00,9, -999.00,9, -999.00,9
 09FA9508_1,      IR6_4,     115,          1,          9,         42,2,19951010,       2237,   -12.4687,   122.0175,       1954,   695.1,   6.4030,  34.5840,2,  34.5865,2,-999.0000,5,    88.3,2, -999.00,9, -999.00,9, -999.00,9
 09FA9508_1,      IR6_4,     115,          1,          8,         28,2,19951010,       2237,   -12.4687,   122.0175,       1954,   796.1,   5.9330,  34.5890,2,  34.5916,2,-999.0000,5,    89.4,2, -999.00,9, -999.00,9, -999.00,9
 09FA9508_1,      IR6_4,     115,          1,          7,         48,2,19951010,       2237,   -12.4687,   122.0175,       1954,   896.3,   5.4010,  34.5920,2,  34.5951,2,-999.0000,5,    91.3,2, -999.00,9, -999.00,9, -999.00,9
 09FA9508_1,      IR6_4,     115,          1,          6,         15,2,19951010,       2237,   -12.4687,   122.0175,       1954,   997.0,   4.9120,  34.5970,2,  34.5994,2,-999.0000,5,    93.6,2, -999.00,9, -999.00,9, -999.00,9
 09FA9508_1,      IR6_4,     115,          1,          5,         13,2,19951010,       2237,   -12.4687,   122.0175,       1954,  1195.0,   4.2960,  34.6100,2,  34.6119,2,-999.0000,5,    97.3,2, -999.00,9, -999.00,9, -999.00,9
 09FA9508_1,      IR6_4,     115,          1,          4,         99,2,19951010,       2237,   -12.4687,   122.0175,       1954,  1393.7,   3.7180,  34.6400,2,  34.6425,2,-999.0000,5,   105.9,2, -999.00,9, -999.00,9, -999.00,9
 09FA9508_1,      IR6_4,     115,          1,          3,         14,2,19951010,       2237,   -12.4687,   122.0175,       1954,  1595.7,   3.3540,  34.6680,2,  34.6692,2,-999.0000,5,   112.3,2, -999.00,9, -999.00,9, -999.00,9
 09FA9508_1,      IR6_4,     115,          1,          2,          5,2,19951010,       2237,   -12.4687,   122.0175,       1954,  1797.9,   2.9220,  34.6960,2,  34.6975,2,-999.0000,5,   122.5,2, -999.00,9, -999.00,9, -999.00,9
 09FA9508_1,      IR6_4,     115,          1,          1,         18,2,19951010,       2237,   -12.4687,   122.0175,       1954,  1966.2,   2.4950,  34.7140,2,  34.7171,2,-999.0000,5,   133.3,2, -999.00,9, -999.00,9, -999.00,9
 09FA9508_1,      IR6_4,     116,          1,         16,         21,2,19951011,       0126,   -12.3972,   122.2540,       1396,     1.8,  28.0830,  34.5720,2,  34.5714,2,-999.0000,5,   201.2,2, -999.00,9, -999.00,9, -999.00,9
 09FA9508_1,      IR6_4,     116,          1,         15,          7,2,19951011,       0126,   -12.3972,   122.2540,       1396,    49.3,  26.5370,  34.4750,2,  34.4698,2,-999.0000,5,   208.0,2, -999.00,9, -999.00,9, -999.00,9
 09FA9508_1,      IR6_4,     116,          1,         14,          2,2,19951011,       0126,   -12.3972,   122.2540,       1396,    98.5,  25.1010,  34.6720,2,  34.6684,2,-999.0000,5,   177.6,2, -999.00,9, -999.00,9, -999.00,9
 09FA9508_1,      IR6_4,     116,          1,         13,         11,2,19951011,       0126,   -12.3972,   122.2540,       1396,   197.9,  16.0660,  34.7120,2,  34.7164,2,-999.0000,5,   102.3,2, -999.00,9, -999.00,9, -999.00,9
 09FA9508_1,      IR6_4,     116,          1,         12,         17,2,19951011,       0126,   -12.3972,   122.2540,       1396,   297.7,  11.2730,  34.5720,2,  34.5743,2,-999.0000,5,    92.2,2, -999.00,9, -999.00,9, -999.00,9
 09FA9508_1,      IR6_4,     116,          1,         11,         69,2,19951011,       0126,   -12.3972,   122.2540,       1396,   399.5,   9.3030,  34.5600,2,  34.5598,2,-999.0000,5,    88.0,2, -999.00,9, -999.00,9, -999.00,9
 09FA9508_1,      IR6_4,     116,          1,         10,         24,2,19951011,       0126,   -12.3972,   122.2540,       1396,   495.6,   8.1230,  34.5830,2,  34.5795,2,-999.0000,5,    88.0,2, -999.00,9, -999.00,9, -999.00,9
 09FA9508_1,      IR6_4,     116,          1,          9,         42,2,19951011,       0126,   -12.3972,   122.2540,       1396,   596.1,   7.4820,  34.5870,2,  34.5878,2,-999.0000,5,    88.2,2, -999.00,9, -999.00,9, -999.00,9
 09FA9508_1,      IR6_4,     116,          1,          8,         28,2,19951011,       0126,   -12.3972,   122.2540,       1396,   696.1,   6.5900,  34.5890,2,  34.5913,2,-999.0000,5,    87.5,2, -999.00,9, -999.00,9, -999.00,9
 09FA9508_1,      IR6_4,     116,          1,          7,         48,2,19951011,       0126,   -12.3972,   122.2540,       1396,   746.1,   6.0670,  34.5880,2,  34.5902,2,-999.0000,5,    88.2,2, -999.00,9, -999.00,9, -999.00,9
 09FA9508_1,      IR6_4,     116,          1,          6,         15,2,19951011,       0126,   -12.3972,   122.2540,       1396,   798.9,   5.7590,  34.5880,2,  34.5902,2,-999.0000,5,    90.0,2, -999.00,9, -999.00,9, -999.00,9
 09FA9508_1,      IR6_4,     116,          1,          5,         13,2,19951011,       0126,   -12.3972,   122.2540,       1396,   846.1,   5.4490,  34.5890,2,  34.5903,2,-999.0000,5,    91.5,2, -999.00,9, -999.00,9, -999.00,9
 09FA9508_1,      IR6_4,     116,          1,          4,         99,2,19951011,       0126,   -12.3972,   122.2540,       1396,   894.7,   5.2320,  34.5920,2,  34.5915,2,-999.0000,5,    91.9,2, -999.00,9, -999.00,9, -999.00,9
 09FA9508_1,      IR6_4,     116,          1,          3,         45,2,19951011,       0126,   -12.3972,   122.2540,       1396,   995.6,   4.6160,  34.6040,2,  34.6053,2,-999.0000,5,    95.0,2, -999.00,9, -999.00,9, -999.00,9
 09FA9508_1,      IR6_4,     116,          1,          2,          5,2,19951011,       0126,   -12.3972,   122.2540,       1396,  1198.8,   4.2330,  34.6130,2,  34.6116,2,-999.0000,5,    97.9,2, -999.00,9, -999.00,9, -999.00,9
 09FA9508_1,      IR6_4,     116,          1,          1,         18,2,19951011,       0126,   -12.3972,   122.2540,       1396,  1397.5,   3.8070,  34.6370,2,  34.6383,2,-999.0000,5,   105.1,2, -999.00,9, -999.00,9, -999.00,9
 09FA9508_1,      IR6_4,     117,          1,         14,         21,2,19951011,       0350,   -12.3670,   122.4685,       1028,     2.1,  28.0230,  34.5890,2,  34.5945,2,-999.0000,5,   208.0,2, -999.00,9, -999.00,9, -999.00,9
 09FA9508_1,      IR6_4,     117,          1,         13,          7,2,19951011,       0350,   -12.3670,   122.4685,       1028,    48.7,  26.3180,  34.5510,2,  34.5392,2,-999.0000,5,   215.2,2, -999.00,9, -999.00,9, -999.00,9
 09FA9508_1,      IR6_4,     117,          1,         12,         11,2,19951011,       0350,   -12.3670,   122.4685,       1028,    99.0,  24.9020,  34.6630,2,  34.6621,2,-999.0000,5,   171.7,2, -999.00,9, -999.00,9, -999.00,9
 09FA9508_1,      IR6_4,     117,          1,         11,         69,2,19951011,       0350,   -12.3670,   122.4685,       1028,   148.9,  20.9920,  34.7420,2,  34.7332,2,-999.0000,5,   122.1,2, -999.00,9, -999.00,9, -999.00,9
 09FA9508_1,      IR6_4,     117,          1,         10,         29,2,19951011,       0350,   -12.3670,   122.4685,       1028,   198.3,  16.8390,  34.7280,2,  34.7234,2,-999.0000,5,   103.2,2, -999.00,9, -999.00,9, -999.00,9
 09FA9508_1,      IR6_4,     117,          1,          9,         42,2,19951011,       0350,   -12.3670,   122.4685,       1028,   247.2,  12.8570,  34.5980,2,  34.5905,2,-999.0000,5,    95.1,2, -999.00,9, -999.00,9, -999.00,9
 09FA9508_1,      IR6_4,     117,          1,          8,         28,2,19951011,       0350,   -12.3670,   122.4685,       1028,   298.6,  11.2830,  34.6020,2,  34.5956,2,-999.0000,5,    94.5,2, -999.00,9, -999.00,9, -999.00,9
 09FA9508_1,      IR6_4,     117,          1,          7,         48,2,19951011,       0350,   -12.3670,   122.4685,       1028,   397.7,   9.2160,  34.5590,2,  34.5584,2,-999.0000,5,    88.4,2, -999.00,9, -999.00,9, -999.00,9
 09FA9508_1,      IR6_4,     117,          1,          6,         15,2,19951011,       0350,   -12.3670,   122.4685,       1028,   497.9,   8.0150,  34.5770,2,-999.0000,9,-999.0000,5,    89.1,2, -999.00,9, -999.00,9, -999.00,9
 09FA9508_1,      IR6_4,     117,          1,          5,         13,2,19951011,       0350,   -12.3670,   122.4685,       1028,   597.9,   7.3110,  34.5860,2,  34.5884,2,-999.0000,5,    88.5,2, -999.00,9, -999.00,9, -999.00,9
 09FA9508_1,      IR6_4,     117,          1,          4,         99,2,19951011,       0350,   -12.3670,   122.4685,       1028,   697.9,   6.1400,  34.5820,2,  34.5861,2,-999.0000,5,    89.0,2, -999.00,9, -999.00,9, -999.00,9
 09FA9508_1,      IR6_4,     117,          1,          3,         45,2,19951011,       0350,   -12.3670,   122.4685,       1028,   796.0,   5.6430,  34.5870,2,  34.5869,2,-999.0000,5,    91.0,2, -999.00,9, -999.00,9, -999.00,9
 09FA9508_1,      IR6_4,     117,          1,          2,          5,2,19951011,       0350,   -12.3670,   122.4685,       1028,   899.9,   5.1230,  34.5910,2,  34.5869,2,-999.0000,5,    93.3,2, -999.00,9, -999.00,9, -999.00,9
 09FA9508_1,      IR6_4,     117,          1,          1,         18,2,19951011,       0350,   -12.3670,   122.4685,       1028,  1015.5,   4.6800,  34.5990,2,  34.6029,2,-999.0000,5,    95.2,2, -999.00,9, -999.00,9, -999.00,9
 09FA9508_1,      IR6_4,     118,          1,         12,         21,2,19951011,       0548,   -12.2987,   122.6378,        884,     3.2,  28.4000,  34.6330,2,  34.6382,2,-999.0000,5,   203.8,2, -999.00,9, -999.00,9, -999.00,9
 09FA9508_1,      IR6_4,     118,          1,         11,         69,2,19951011,       0548,   -12.2987,   122.6378,        884,    50.1,  26.4240,  34.4880,2,  34.4824,2,-999.0000,5,   208.2,2, -999.00,9, -999.00,9, -999.00,9
 09FA9508_1,      IR6_4,     118,          1,         10,         29,2,19951011,       0548,   -12.2987,   122.6378,        884,   100.1,  25.3480,  34.6480,2,  34.6404,2,-999.0000,5,   184.9,2, -999.00,9, -999.00,9, -999.00,9
 09FA9508_1,      IR6_4,     118,          1,          9,         42,2,19951011,       0548,   -12.2987,   122.6378,        884,   149.3,  21.5520,  34.7040,2,  34.7020,2,-999.0000,5,   121.6,2, -999.00,9, -999.00,9, -999.00,9
 09FA9508_1,      IR6_4,     118,          1,          8,         28,2,19951011,       0548,   -12.2987,   122.6378,        884,   199.3,  16.5760,  34.6870,2,  34.7176,2,-999.0000,5,   104.8,2, -999.00,9, -999.00,9, -999.00,9
 09FA9508_1,      IR6_4,     118,          1,          7,         48,2,19951011,       0548,   -12.2987,   122.6378,        884,   300.1,  11.2990,  34.5530,2,  34.5504,2,-999.0000,5,    93.3,2, -999.00,9, -999.00,9, -999.00,9
 09FA9508_1,      IR6_4,     118,          1,          6,         15,2,19951011,       0548,   -12.2987,   122.6378,        884,   399.3,   9.6350,  34.6290,2,  34.6292,2,-999.0000,5,    99.3,2, -999.00,9, -999.00,9, -999.00,9
 09FA9508_1,      IR6_4,     118,          1,          5,         13,2,19951011,       0548,   -12.2987,   122.6378,        884,   498.3,   7.7920,  34.5730,2,  34.5699,2,-999.0000,5,    88.8,2, -999.00,9, -999.00,9, -999.00,9
 09FA9508_1,      IR6_4,     118,          1,          4,         99,2,19951011,       0548,   -12.2987,   122.6378,        884,   596.7,   6.7460,  34.5820,2,  34.5816,2,-999.0000,5,    88.3,2, -999.00,9, -999.00,9, -999.00,9
 09FA9508_1,      IR6_4,     118,          1,          3,         45,2,19951011,       0548,   -12.2987,   122.6378,        884,   697.4,   6.3870,  34.5820,2,  34.5835,2,-999.0000,5,  -999.0,9, -999.00,9, -999.00,9, -999.00,9
 09FA9508_1,      IR6_4,     118,          1,          2,          5,2,19951011,       0548,   -12.2987,   122.6378,        884,   797.7,   5.8190,  34.5860,2,  34.5905,2,-999.0000,5,    89.9,2, -999.00,9, -999.00,9, -999.00,9
 09FA9508_1,      IR6_4,     118,          1,          1,         18,2,19951011,       0548,   -12.2987,   122.6378,        884,   856.4,   5.4490,  34.5900,2,  34.5928,2,-999.0000,5,    91.7,2, -999.00,9, -999.00,9, -999.00,9