BOTTLE,20211101CCHSIORKP
EXPOCODE,SECT_ID,STNNBR,CASTNO,SAMPNO,BTLNBR,BTLNBR_FLAG_W,DATE,TIME,LATITUDE,LONGITUDE,DEPTH,CTDPRS,CTDTMP,CTDSAL,CTDSAL_FLAG_W,SALNTY,SALNTY_FLAG_W,CTDOXY,CTDOXY_FLAG_W,OXYGEN,OXYGEN_FLAG_W,SILCAT,SILCAT_FLAG_W,NITRAT,NITRAT_FLAG_W,PHSPHT,PHSPHT_FLAG_W
,,,,,,,,,,,METERS,DBAR,ITS-90,PSS-78,,PSS-78,,UMOL/KG,,UMOL/KG,,UMOL/KG,,UMOL/KG,,UMOL/KG,
 09FA9508_1,      IR6_4,      18,          1,         13,         24,2,19950917,       0115,   -24.5723,   111.6553,       1010,     2.4,  20.7360,  35.5570,2,  35.5576,2,-999.0000,5,   224.2,2,    5.33,2,    0.28,2,    0.13,2
 09FA9508_1,      IR6_4,      18,          1,         12,         18,2,19950917,       0115,   -24.5723,   111.6553,       1010,    48.8,  20.5530,  35.7130,2,  35.7072,2,-999.0000,5,   223.4,2,    5.04,2,    0.78,2,    0.12,2
 09FA9508_1,      IR6_4,      18,          1,         11,          8,2,19950917,       0115,   -24.5723,   111.6553,       1010,    99.4,  20.2270,  35.8430,2,  35.8384,2,-999.0000,5,   215.1,2,    4.87,2,    1.25,2,    0.14,2
 09FA9508_1,      IR6_4,      18,          1,         10,         19,2,19950917,       0115,   -24.5723,   111.6553,       1010,   196.0,  16.8070,  35.7890,2,  35.7867,2,-999.0000,5,   219.5,2,    4.99,2,    2.41,2,    0.32,2
 09FA9508_1,      IR6_4,      18,          1,          9,         29,2,19950917,       0115,   -24.5723,   111.6553,       1010,   298.6,  12.7840,  35.2420,2,  35.2414,2,-999.0000,5,   234.1,2,    4.30,2,    6.81,2,    0.51,2
 09FA9508_1,      IR6_4,      18,          1,          8,         21,2,19950917,       0115,   -24.5723,   111.6553,       1010,   397.0,  10.7800,  34.9250,2,  34.9247,2,-999.0000,5,   237.3,2,    5.39,2,   11.42,2,    0.80,2
 09FA9508_1,      IR6_4,      18,          1,          7,         11,2,19950917,       0115,   -24.5723,   111.6553,       1010,   495.8,   9.3930,  34.6940,2,  34.6931,2,-999.0000,5,   239.8,2,    6.83,2,   15.82,2,    1.10,2
 09FA9508_1,      IR6_4,      18,          1,          6,          6,2,19950917,       0115,   -24.5723,   111.6553,       1010,   595.9,   7.9810,  34.5460,2,  34.5546,2,-999.0000,5,   213.6,2,   12.65,2,   21.51,2,    1.46,2
 09FA9508_1,      IR6_4,      18,          1,          5,          5,2,19950917,       0115,   -24.5723,   111.6553,       1010,   697.2,   5.9790,  34.4690,2,  34.4593,2,-999.0000,5,   180.9,2,   33.83,2,   29.07,2,    2.02,2
 09FA9508_1,      IR6_4,      18,          1,          4,          9,2,19950917,       0115,   -24.5723,   111.6553,       1010,   797.2,   5.4800,  34.5670,2,  34.5674,2,-999.0000,5,   120.7,2,   71.51,2,   33.48,2,    2.39,2
 09FA9508_1,      IR6_4,      18,          1,          3,         13,2,19950917,       0115,   -24.5723,   111.6553,       1010,   885.2,   5.2020,  34.5910,2,  34.5932,2,-999.0000,5,   110.2,2,   81.91,2,   34.42,2,    2.44,2
 09FA9508_1,      IR6_4,      18,          1,          2,          3,2,19950917,       0115,   -24.5723,   111.6553,       1010,   885.2,   5.2020,  34.5910,2,  34.5924,2,-999.0000,5,   110.1,2,   90.22,2,   35.55,2,    2.62,2
 09FA9508_1,      IR6_4,      18,          1,          1,          1,2,19950917,       0115,   -24.5723,   111.6553,       1010,   995.1,   4.8300,  34.6240,2,  34.6264,2,-999.0000,5,   100.0,2,   99.01,2,   36.44,2,    2.64,2
 09FA9508_1,      IR6_4,      19,          1,         14,         24,2,19950917,       0431,   -24.5068,   111.2898,       1371,     2.0,  20.5490,  35.6500,2,  35.6569,2,-999.0000,5,   222.7,2,    4.92,2,    0.09,2,    0.09,2
 09FA9508_1,      IR6_4,      19,          1,         13,         23,2,19950917,       0431,   -24.5068,   111.2898,       1371,    49.3,  20.4260,  35.7960,2,  35.7889,2,-999.0000,5,   224.9,2,    4.62,2,    0.61,2,    0.08,2
 09FA9508_1,      IR6_4,      19,          1,         12,         18,2,19950917,       0431,   -24.5068,   111.2898,       1371,    99.4,  20.0850,  35.8720,2,  35.8764,2,-999.0000,5,   214.4,2,    4.63,2,    1.23,2,    0.09,2
 09FA9508_1,      IR6_4,      19,          1,         11,          8,2,19950917,       0431,   -24.5068,   111.2898,       1371,   199.1,  16.5560,  35.7640,2,  35.7707,2,-999.0000,5,   218.9,2,    4.39,2,    2.50,2,    0.20,2
 09FA9508_1,      IR6_4,      19,          1,         10,         19,2,19950917,       0431,   -24.5068,   111.2898,       1371,   299.1,  12.3510,  35.1530,2,  35.1603,2,-999.0000,5,   237.2,2,    4.01,2,    7.52,2,    0.50,2
 09FA9508_1,      IR6_4,      19,          1,          9,         24,2,19950917,       0431,   -24.5068,   111.2898,       1371,   397.6,  10.1370,  34.8170,2,  34.8237,2,-999.0000,5,   241.0,2,    5.64,2,   13.42,2,    0.90,2
 09FA9508_1,      IR6_4,      19,          1,          8,         21,2,19950917,       0431,   -24.5068,   111.2898,       1371,   498.0,   9.1720,  34.6710,2,  34.6762,2,-999.0000,5,   234.8,2,    7.33,2,   17.12,2,    1.14,2
 09FA9508_1,      IR6_4,      19,          1,          7,         11,2,19950917,       0431,   -24.5068,   111.2898,       1371,   599.4,   7.8630,  34.5400,2,  34.5449,2,-999.0000,5,   212.3,2,   13.36,2,   22.59,2,    1.53,2
 09FA9508_1,      IR6_4,      19,          1,          6,          6,2,19950917,       0431,   -24.5068,   111.2898,       1371,   697.9,   6.0440,  34.4430,2,  34.4489,2,-999.0000,5,   189.3,2,   27.49,2,   28.43,2,    1.97,2
 09FA9508_1,      IR6_4,      19,          1,          5,          5,2,19950917,       0431,   -24.5068,   111.2898,       1371,   796.8,   5.5210,  34.5580,2,  34.5645,2,-999.0000,5,   126.7,2,   66.59,2,   33.90,2,    2.43,2
 09FA9508_1,      IR6_4,      19,          1,          4,          9,2,19950917,       0431,   -24.5068,   111.2898,       1371,   896.3,   5.1150,  34.5900,2,  34.5970,2,-999.0000,5,   114.8,2,   79.09,2,   35.29,2,    2.55,2
 09FA9508_1,      IR6_4,      19,          1,          3,         13,2,19950917,       0431,   -24.5068,   111.2898,       1371,   996.7,   4.9540,  34.6220,2,  34.6260,2,-999.0000,5,   103.7,2,   92.19,2,   36.15,2,    2.61,2
 09FA9508_1,      IR6_4,      19,          1,          2,          3,2,19950917,       0431,   -24.5068,   111.2898,       1371,  1184.3,   4.0750,  34.6030,2,  34.6076,2,-999.0000,5,   123.9,2,   90.42,3,   35.83,2,    2.56,2
 09FA9508_1,      IR6_4,      19,          1,          1,          1,2,19950917,       0431,   -24.5068,   111.2898,       1371,  1356.3,   3.7180,  34.6460,2,  34.6503,2,-999.0000,5,   121.8,2,  102.89,2,   36.06,2,    2.60,2
 09FA9508_1,      IR6_4,      20,          1,         18,         24,2,19950917,       0809,   -24.4180,   110.9335,       2012,     2.2,  20.7020,  35.5940,2,  35.5978,2,-999.0000,5,   228.3,2,    4.86,2,    0.10,2,    0.07,2
 09FA9508_1,      IR6_4,      20,          1,         17,          4,2,19950917,       0809,   -24.4180,   110.9335,       2012,    49.2,  20.3090,  35.7260,2,  35.7282,2,-999.0000,5,   228.3,2,    4.45,2,    0.65,2,    0.07,2
 09FA9508_1,      IR6_4,      20,          1,         16,         28,2,19950917,       0809,   -24.4180,   110.9335,       2012,    99.5,  20.2370,  35.7530,2,  35.7550,2,-999.0000,5,   228.7,2,    4.48,2,    0.63,2,    0.06,2
 09FA9508_1,      IR6_4,      20,          1,         15,         32,2,19950917,       0809,   -24.4180,   110.9335,       2012,   138.3,  19.4590,  35.8210,2,  35.8181,2,-999.0000,5,   202.4,2,    6.04,2,    3.24,2,    0.18,2
 09FA9508_1,      IR6_4,      20,          1,         14,         31,2,19950917,       0809,   -24.4180,   110.9335,       2012,   197.7,  18.0930,  35.9100,2,  35.9131,2,-999.0000,5,   221.9,2,    4.48,2,    1.63,2,    0.12,2
 09FA9508_1,      IR6_4,      20,          1,         13,         23,2,19950917,       0809,   -24.4180,   110.9335,       2012,   297.1,  14.1840,  35.4480,2,  35.4518,2,-999.0000,5,   230.8,2,    3.78,2,    4.55,2,    0.31,2
 09FA9508_1,      IR6_4,      20,          1,         12,         18,2,19950917,       0809,   -24.4180,   110.9335,       2012,   397.2,  10.8860,  34.9230,2,  34.9262,2,-999.0000,5,   240.8,2,    4.67,2,   11.33,2,    0.74,2
 09FA9508_1,      IR6_4,      20,          1,         11,          8,2,19950917,       0809,   -24.4180,   110.9335,       2012,   497.4,   9.6680,  34.7430,2,  34.7476,2,-999.0000,5,   239.2,2,    6.17,2,   15.45,2,    1.03,2
 09FA9508_1,      IR6_4,      20,          1,         10,         19,2,19950917,       0809,   -24.4180,   110.9335,       2012,   596.1,   8.7710,  34.6250,2,  34.6287,2,-999.0000,5,   228.7,2,    8.65,2,   19.61,2,    1.31,2
 09FA9508_1,      IR6_4,      20,          1,          9,         29,2,19950917,       0809,   -24.4180,   110.9335,       2012,   698.1,   7.0430,  34.4860,2,  34.4919,2,-999.0000,5,   201.0,2,   18.50,2,   26.11,2,    1.78,2
 09FA9508_1,      IR6_4,      20,          1,          8,         21,2,19950917,       0809,   -24.4180,   110.9335,       2012,   796.1,   5.3470,  34.4350,2,  34.4402,2,-999.0000,5,   181.5,2,   37.58,2,   31.19,2,    2.17,2
 09FA9508_1,      IR6_4,      20,          1,          7,         11,2,19950917,       0809,   -24.4180,   110.9335,       2012,   894.8,   4.8730,  34.5020,2,  34.5060,2,-999.0000,5,   147.7,2,   60.76,2,   34.38,2,    2.43,2
 09FA9508_1,      IR6_4,      20,          1,          6,          6,2,19950917,       0809,   -24.4180,   110.9335,       2012,   995.5,   4.8560,  34.5870,2,  34.5931,2,-999.0000,5,   117.5,2,   80.73,2,   36.19,2,    2.60,2
 09FA9508_1,      IR6_4,      20,          1,          5,          5,2,19950917,       0809,   -24.4180,   110.9335,       2012,  1195.7,   4.2290,  34.6200,2,  34.6225,2,-999.0000,5,   116.8,2,   94.48,2,   36.65,2,    2.65,2
 09FA9508_1,      IR6_4,      20,          1,          4,          9,2,19950917,       0809,   -24.4180,   110.9335,       2012,  1395.7,   3.5250,  34.6500,2,  34.6550,2,-999.0000,5,   126.8,2,  102.59,2,   36.31,2,    2.64,2
 09FA9508_1,      IR6_4,      20,          1,          3,         13,2,19950917,       0809,   -24.4180,   110.9335,       2012,  1596.6,   3.0770,  34.6770,2,  34.6797,2,-999.0000,5,   135.8,2,  107.82,2,   35.86,2,    2.61,2
 09FA9508_1,      IR6_4,      20,          1,          2,          3,2,19950917,       0809,   -24.4180,   110.9335,       2012,  1789.5,   2.6730,  34.7010,2,  34.7029,2,-999.0000,5,   144.7,2,  113.51,2,   35.52,2,    2.56,2
 09FA9508_1,      IR6_4,      20,          1,          1,          1,2,19950917,       0809,   -24.4180,   110.9335,       2012,  2008.5,   2.3680,  34.7170,2,  34.7189,2,-999.0000,5,   149.2,2,  120.55,2,   35.16,2,    2.54,2
 09FA9508_1,      IR6_4,      21,          1,         19,         24,2,19950917,       1217,   -24.3717,   110.5987,       3188,     1.7,  20.5410,  35.6130,2,  35.6093,2,-999.0000,5,   225.8,2,    4.94,2,    0.10,2,    0.07,2
 09FA9508_1,      IR6_4,      21,          1,         18,         21,2,19950917,       1217,   -24.3717,   110.5987,       3188,    48.7,  20.2940,  35.7590,2,  35.7547,2,-999.0000,5,   227.2,2,    4.52,2,    0.67,2,    0.05,2
 09FA9508_1,      IR6_4,      21,          1,         17,          4,2,19950917,       1217,   -24.3717,   110.5987,       3188,    99.3,  20.2120,  35.7950,2,  35.7953,2,-999.0000,5,   218.0,2,    4.57,2,    1.12,2,    0.06,2
 09FA9508_1,      IR6_4,      21,          1,         16,         28,2,19950917,       1217,   -24.3717,   110.5987,       3188,   150.2,  19.4830,  35.8930,2,  35.8892,2,-999.0000,5,   209.5,2,    4.99,2,    2.01,2,    0.13,2
 09FA9508_1,      IR6_4,      21,          1,         15,         32,2,19950917,       1217,   -24.3717,   110.5987,       3188,   193.3,  18.5260,  35.9900,2,  35.9791,2,-999.0000,5,   216.5,2,    4.30,2,    1.45,2,    0.11,2
 09FA9508_1,      IR6_4,      21,          1,         14,         31,2,19950917,       1217,   -24.3717,   110.5987,       3188,   298.6,  14.2400,  35.4740,2,  35.4791,2,-999.0000,5,   227.6,2,    3.82,2,    4.47,2,    0.32,2
 09FA9508_1,      IR6_4,      21,          1,         13,         23,2,19950917,       1217,   -24.3717,   110.5987,       3188,   398.6,  11.5640,  35.0470,2,  35.0525,2,-999.0000,5,   237.2,2,    4.46,2,    9.42,2,    0.64,2
 09FA9508_1,      IR6_4,      21,          1,         12,         18,2,19950917,       1217,   -24.3717,   110.5987,       3188,   497.4,   9.7740,  34.7550,2,  34.7565,2,-999.0000,5,   241.3,2,    5.68,2,   14.29,2,    0.96,2
 09FA9508_1,      IR6_4,      21,          1,         11,          8,2,19950917,       1217,   -24.3717,   110.5987,       3188,   598.7,   8.9300,  34.6370,2,  34.6404,2,-999.0000,5,   229.5,2,    7.71,2,   18.22,2,    1.23,2
 09FA9508_1,      IR6_4,      21,          1,         10,         19,2,19950917,       1217,   -24.3717,   110.5987,       3188,   696.7,   7.4740,  34.5070,2,  34.5122,2,-999.0000,5,   204.5,2,   15.02,2,   23.97,2,    1.62,2
 09FA9508_1,      IR6_4,      21,          1,          9,         13,2,19950917,       1217,   -24.3717,   110.5987,       3188,   795.6,   6.0340,  34.5170,2,  34.5130,2,-999.0000,5,   156.3,2,   44.12,2,   30.65,2,    2.14,2
 09FA9508_1,      IR6_4,      21,          1,          8,          5,2,19950917,       1217,   -24.3717,   110.5987,       3188,   894.8,   5.5110,  34.5660,2,  34.5679,2,-999.0000,5,   123.8,2,   67.03,2,   33.89,2,    2.40,2
 09FA9508_1,      IR6_4,      21,          1,          7,         11,2,19950917,       1217,   -24.3717,   110.5987,       3188,   999.2,   5.0140,  34.5980,2,  34.5993,2,-999.0000,5,   112.7,2,   81.00,2,   35.14,2,    2.52,2
 09FA9508_1,      IR6_4,      21,          1,          6,          6,2,19950917,       1217,   -24.3717,   110.5987,       3188,  1244.6,   4.0740,  34.6180,2,  34.6201,2,-999.0000,5,   120.8,2,   90.22,2,   35.40,2,    2.53,2
 09FA9508_1,      IR6_4,      21,          1,          5,         15,2,19950917,       1217,   -24.3717,   110.5987,       3188,  1494.6,   3.3090,  34.6390,2,  34.6433,2,-999.0000,5,   145.4,2,   93.62,2,   34.59,2,    2.47,2
 09FA9508_1,      IR6_4,      21,          1,          4,         25,2,19950917,       1217,   -24.3717,   110.5987,       3188,  1996.1,   2.3750,  34.7160,2,  34.7197,2,-999.0000,5,   154.1,2,  112.23,2,   33.86,2,    2.41,2
 09FA9508_1,      IR6_4,      21,          1,          3,         20,2,19950917,       1217,   -24.3717,   110.5987,       3188,  2496.4,   1.9410,  34.7290,2,  34.7335,2,-999.0000,5,   166.5,2,  121.18,2,   33.36,2,    2.38,2
 09FA9508_1,      IR6_4,      21,          1,          2,          3,2,19950917,       1217,   -24.3717,   110.5987,       3188,  2994.5,   1.6340,  34.7260,2,  34.7248,2,-999.0000,5,   175.8,2,  123.83,2,   33.01,2,    2.33,2
 09FA9508_1,      IR6_4,      21,          1,          1,          1,2,19950917,       1217,   -24.3717,   110.5987,       3188,  3202.9,   1.4830,  34.7250,2,  34.7248,2,-999.0000,5,   180.9,2,  124.87,2,   32.73,2,    2.31,2
 09FA9508_1,      IR6_4,      22,          1,         21,         24,2,19950917,       1743,   -23.8910,   110.4248,       4380,     1.9,  21.3920,  35.4040,2,  35.4052,2,-999.0000,5,   216.8,2,    5.54,2,    0.43,2,    0.08,2
 09FA9508_1,      IR6_4,      22,          1,         20,         25,2,19950917,       1743,   -23.8910,   110.4248,       4380,    48.9,  20.8290,  35.6720,2,  35.6649,2,-999.0000,5,   218.1,2,    4.93,2,    0.50,2,    0.07,2
 09FA9508_1,      IR6_4,      22,          1,         19,          6,2,19950917,       1743,   -23.8910,   110.4248,       4380,   100.2,  20.4140,  35.7440,2,  35.7414,2,-999.0000,5,   218.6,2,    4.63,2,    0.56,2,    0.05,2
 09FA9508_1,      IR6_4,      22,          1,         18,         21,2,19950917,       1743,   -23.8910,   110.4248,       4380,   149.6,  20.2700,  35.7990,2,-999.0000,9,-999.0000,5,   216.7,2,    4.61,2,    1.22,2,    0.06,2
 09FA9508_1,      IR6_4,      22,          1,         17,          4,2,19950917,       1743,   -23.8910,   110.4248,       4380,   199.6,  19.3650,  35.9360,2,-999.0000,9,-999.0000,5,  -999.0,9, -999.00,9, -999.00,9, -999.00,9
 09FA9508_1,      IR6_4,      22,          1,         16,         28,2,19950917,       1743,   -23.8910,   110.4248,       4380,   297.8,  15.3580,  35.6270,2,  35.6220,2,-999.0000,5,   223.3,2,    4.05,2,    3.22,2,    0.21,2
 09FA9508_1,      IR6_4,      22,          1,         15,         32,2,19950917,       1743,   -23.8910,   110.4248,       4380,   397.6,  11.8700,  35.0920,2,  35.0985,2,-999.0000,5,   237.1,2,    4.42,2,    8.66,2,    0.56,2
 09FA9508_1,      IR6_4,      22,          1,         14,         31,2,19950917,       1743,   -23.8910,   110.4248,       4380,   498.6,   9.7740,  34.7560,2,  34.7673,2,-999.0000,5,   240.0,2,    5.95,2,   14.40,2,    0.95,2
 09FA9508_1,      IR6_4,      22,          1,         13,         23,2,19950917,       1743,   -23.8910,   110.4248,       4380,   598.7,   8.8880,  34.6320,2,  34.6331,2,-999.0000,5,   229.9,2,    8.16,2,   18.62,2,    1.26,2
 09FA9508_1,      IR6_4,      22,          1,         12,         18,2,19950917,       1743,   -23.8910,   110.4248,       4380,   697.3,   7.2670,  34.5300,2,  34.5288,2,-999.0000,5,   187.4,2,   24.22,2,   25.89,2,    1.77,2
 09FA9508_1,      IR6_4,      22,          1,         11,          8,2,19950917,       1743,   -23.8910,   110.4248,       4380,   798.0,   6.0400,  34.5320,2,  34.5304,2,-999.0000,5,   143.3,2,   50.69,2,   31.81,2,    2.24,2
 09FA9508_1,      IR6_4,      22,          1,         10,         19,2,19950917,       1743,   -23.8910,   110.4248,       4380,   896.8,   5.5120,  34.5700,2,  34.5708,2,-999.0000,5,   120.6,2,   68.47,2,   34.23,2,    2.44,2
 09FA9508_1,      IR6_4,      22,          1,          9,         13,2,19950917,       1743,   -23.8910,   110.4248,       4380,   995.3,   5.0400,  34.5970,2,  34.6003,2,-999.0000,5,   109.4,2,   83.18,2,   35.50,2,    2.54,2
 09FA9508_1,      IR6_4,      22,          1,          8,          5,2,19950917,       1743,   -23.8910,   110.4248,       4380,  1245.7,   4.1740,  34.6200,2,  34.6227,2,-999.0000,5,   114.5,2,   94.24,2,   35.95,2,    2.58,2
 09FA9508_1,      IR6_4,      22,          1,          7,         11,2,19950917,       1743,   -23.8910,   110.4248,       4380,  1495.4,   3.2970,  34.6400,2,  34.6405,2,-999.0000,5,   133.7,2,   95.60,2,   35.53,2,    2.53,2
 09FA9508_1,      IR6_4,      22,          1,          6,         26,2,19950917,       1743,   -23.8910,   110.4248,       4380,  1997.0,   2.3760,  34.7150,2,  34.7171,2,-999.0000,5,   156.4,2,  110.24,2,   34.08,2,    2.44,2
 09FA9508_1,      IR6_4,      22,          1,          5,         30,2,19950917,       1743,   -23.8910,   110.4248,       4380,  2496.6,   1.9290,  34.7280,2,  34.7266,2,-999.0000,5,   166.6,2,  123.89,2,   34.10,2,    2.43,2
 09FA9508_1,      IR6_4,      22,          1,          4,         16,2,19950917,       1743,   -23.8910,   110.4248,       4380,  2998.0,   1.6180,  34.7280,2,  34.7341,2,-999.0000,5,   179.1,2,  123.16,2,   32.98,2,    2.32,2
 09FA9508_1,      IR6_4,      22,          1,          3,         27,2,19950917,       1743,   -23.8910,   110.4248,       4380,  3496.8,   1.3390,  34.7220,2,  34.7232,2,-999.0000,5,   186.0,2,  120.99,3,   32.79,3,    2.31,3
 09FA9508_1,      IR6_4,      22,          1,          2,          3,2,19950917,       1743,   -23.8910,   110.4248,       4380,  4001.3,   1.2070,  34.7160,2,  34.7170,2,-999.0000,5,   189.0,2,  129.43,2,   33.16,2,    2.32,2
 09FA9508_1,      IR6_4,      22,          1,          1,          1,2,19950917,       1743,   -23.8910,   110.4248,       4380,  4479.2,   1.1690,  34.7160,2,  34.7159,2,-999.0000,5,   190.7,2,  133.10,2,   33.18,2,    2.31,2