BOTTLE,20211101CCHSIORKP
EXPOCODE,SECT_ID,STNNBR,CASTNO,SAMPNO,BTLNBR,BTLNBR_FLAG_W,DATE,TIME,LATITUDE,LONGITUDE,DEPTH,CTDPRS,CTDTMP,CTDSAL,CTDSAL_FLAG_W,SALNTY,SALNTY_FLAG_W,CTDOXY,CTDOXY_FLAG_W,OXYGEN,OXYGEN_FLAG_W,SILCAT,SILCAT_FLAG_W,NITRAT,NITRAT_FLAG_W,PHSPHT,PHSPHT_FLAG_W
,,,,,,,,,,,METERS,DBAR,ITS-90,PSS-78,,PSS-78,,UMOL/KG,,UMOL/KG,,UMOL/KG,,UMOL/KG,,UMOL/KG,
 09FA9508_1,      IR6_4,      94,          1,         24,         21,2,19951006,       1648,   -12.8087,   115.6415,       5264,     1.4,  27.2030,  34.3870,2,  34.3873,2,-999.0000,5,   200.4,2,    4.33,2,    0.22,2,    0.17,2
 09FA9508_1,      IR6_4,      94,          1,         23,         43,2,19951006,       1648,   -12.8087,   115.6415,       5264,    48.8,  26.4520,  34.3310,2,  34.3477,2,-999.0000,5,   204.0,2,    4.52,2,    0.22,2,    0.17,2
 09FA9508_1,      IR6_4,      94,          1,         22,          7,2,19951006,       1648,   -12.8087,   115.6415,       5264,    98.9,  25.8370,  34.5000,2,  34.5011,2,-999.0000,5,   180.2,2,    5.91,2,    2.58,2,    0.32,2
 09FA9508_1,      IR6_4,      94,          1,         21,         10,2,19951006,       1648,   -12.8087,   115.6415,       5264,   148.7,  20.9120,  34.3880,2,  34.3901,2,-999.0000,5,   117.9,2,   18.69,2,   13.17,2,    0.99,2
 09FA9508_1,      IR6_4,      94,          1,         20,         45,2,19951006,       1648,   -12.8087,   115.6415,       5264,   197.5,  17.1430,  34.7610,2,  34.7610,2,-999.0000,5,   104.4,2,   23.87,2,   17.76,2,    1.30,2
 09FA9508_1,      IR6_4,      94,          1,         19,         42,2,19951006,       1648,   -12.8087,   115.6415,       5264,   297.9,  12.4540,  34.8450,2,  34.8435,2,-999.0000,5,   113.3,2,   30.83,2,   21.66,2,    1.58,2
 09FA9508_1,      IR6_4,      94,          1,         18,         13,2,19951006,       1648,   -12.8087,   115.6415,       5264,   398.2,   9.8660,  34.6900,2,  34.6903,2,-999.0000,5,   109.5,2,   39.42,2,   26.51,2,    1.90,2
 09FA9508_1,      IR6_4,      94,          1,         17,         27,2,19951006,       1648,   -12.8087,   115.6415,       5264,   497.7,   8.4560,  34.6420,2,  34.6385,2,-999.0000,5,   109.3,2,   44.56,2,   29.29,2,    2.08,2
 09FA9508_1,      IR6_4,      94,          1,         16,         20,2,19951006,       1648,   -12.8087,   115.6415,       5264,   597.3,   7.4910,  34.6130,2,  34.6126,2,-999.0000,5,    90.2,2,   59.92,2,   32.79,2,    2.34,2
 09FA9508_1,      IR6_4,      94,          1,         15,         11,2,19951006,       1648,   -12.8087,   115.6415,       5264,   696.2,   6.5710,  34.6090,2,  34.6082,2,-999.0000,5,    84.1,2,   71.74,2,   34.64,2,    2.48,2
 09FA9508_1,      IR6_4,      94,          1,         14,          8,2,19951006,       1648,   -12.8087,   115.6415,       5264,   797.0,   5.9660,  34.5970,2,  34.5992,2,-999.0000,5,    85.7,2,   83.84,2,   35.19,2,    2.54,2
 09FA9508_1,      IR6_4,      94,          1,         13,          6,2,19951006,       1648,   -12.8087,   115.6415,       5264,   896.0,   5.4650,  34.6000,2,  34.6000,2,-999.0000,5,    88.6,2,   91.57,2,   35.62,2,    2.58,2
 09FA9508_1,      IR6_4,      94,          1,         12,         35,2,19951006,       1648,   -12.8087,   115.6415,       5264,   996.0,   4.9640,  34.6010,2,  34.6054,2,-999.0000,5,    90.3,2,   99.75,2,   35.92,2,    2.60,2
 09FA9508_1,      IR6_4,      94,          1,         11,          3,2,19951006,       1648,   -12.8087,   115.6415,       5264,  1296.0,   4.0650,  34.6250,2,  34.6266,2,-999.0000,5,    98.1,2,  112.11,2,   36.38,2,    2.61,2
 09FA9508_1,      IR6_4,      94,          1,         10,         30,2,19951006,       1648,   -12.8087,   115.6415,       5264,  1594.4,   3.2630,  34.6800,2,  34.6808,2,-999.0000,5,   113.9,2,  115.48,2,   36.00,2,    2.58,2
 09FA9508_1,      IR6_4,      94,          1,          9,         24,2,19951006,       1648,   -12.8087,   115.6415,       5264,  1997.2,   2.4580,  34.7220,2,  34.7228,2,-999.0000,5,   132.5,2,  122.15,2,   35.24,2,    2.52,2
 09FA9508_1,      IR6_4,      94,          1,          8,         17,2,19951006,       1648,   -12.8087,   115.6415,       5264,  2295.6,   2.1110,  34.7270,2,  34.7231,2,-999.0000,5,   143.1,2,  126.02,2,   34.81,2,    2.48,2
 09FA9508_1,      IR6_4,      94,          1,          7,         48,2,19951006,       1648,   -12.8087,   115.6415,       5264,  2597.3,   1.8910,  34.7250,2,  34.7231,2,-999.0000,5,   149.7,2,  127.45,2,   34.42,2,    2.46,2
 09FA9508_1,      IR6_4,      94,          1,          6,         15,2,19951006,       1648,   -12.8087,   115.6415,       5264,  2997.8,   1.6250,  34.7220,2,  34.7235,2,-999.0000,5,   160.0,2,  130.62,2,   34.09,2,    2.41,2
 09FA9508_1,      IR6_4,      94,          1,          5,         28,2,19951006,       1648,   -12.8087,   115.6415,       5264,  3499.4,   1.3300,  34.7150,2,  34.7180,2,-999.0000,5,   172.8,2,  130.54,2,   33.43,2,    2.35,2
 09FA9508_1,      IR6_4,      94,          1,          4,         99,2,19951006,       1648,   -12.8087,   115.6415,       5264,  3999.0,   1.1710,  34.7120,2,  34.7109,2,-999.0000,5,   181.5,2,  128.94,2,   33.22,2,    2.31,2
 09FA9508_1,      IR6_4,      94,          1,          3,         14,2,19951006,       1648,   -12.8087,   115.6415,       5264,  4498.8,   1.1700,  34.7110,2,  34.7124,2,-999.0000,5,   183.2,2,  129.99,2,   33.02,2,    2.30,2
 09FA9508_1,      IR6_4,      94,          1,          2,          5,2,19951006,       1648,   -12.8087,   115.6415,       5264,  5006.2,   1.2170,  34.7120,2,  34.7124,2,-999.0000,5,   184.0,2,  130.65,2,   33.13,2,    2.32,2
 09FA9508_1,      IR6_4,      94,          1,          1,         18,2,19951006,       1648,   -12.8087,   115.6415,       5264,  5351.2,   1.2450,  34.7110,2,  34.7127,2,-999.0000,5,   185.6,2,  131.25,2,   33.11,2,    2.31,2
 09FA9508_1,      IR6_4,      95,          1,         24,         21,2,19951006,       2336,   -12.9313,   116.1242,       5259,     1.2,  26.8750,  34.4080,2,  34.4119,2,-999.0000,5,   199.0,2,    4.43,2,    0.36,2,    0.17,2
 09FA9508_1,      IR6_4,      95,          1,         23,         43,2,19951006,       2336,   -12.9313,   116.1242,       5259,    48.5,  26.4360,  34.4790,2,  34.4763,2,-999.0000,5,   198.8,2,    4.68,2,    0.28,2,    0.17,2
 09FA9508_1,      IR6_4,      95,          1,         22,          7,2,19951006,       2336,   -12.9313,   116.1242,       5259,    97.0,  25.0150,  34.6190,2,  34.6003,2,-999.0000,5,   198.2,2,    4.82,2,    0.51,2,    0.17,2
 09FA9508_1,      IR6_4,      95,          1,         21,         10,2,19951006,       2336,   -12.9313,   116.1242,       5259,   198.0,  17.1920,  34.8660,2,  34.8646,2,-999.0000,5,   107.9,2,   22.52,2,   16.45,2,    1.21,2
 09FA9508_1,      IR6_4,      95,          1,         20,         45,2,19951006,       2336,   -12.9313,   116.1242,       5259,   298.6,  11.7420,  34.6550,2,  34.6552,2,-999.0000,5,    95.3,2,   39.13,2,   25.46,2,    1.82,2
 09FA9508_1,      IR6_4,      95,          1,         19,         42,2,19951006,       2336,   -12.9313,   116.1242,       5259,   396.3,   9.9140,  34.7080,2,  34.7078,2,-999.0000,5,   114.8,2,   37.55,2,   25.84,2,    1.85,2
 09FA9508_1,      IR6_4,      95,          1,         18,         13,2,19951006,       2336,   -12.9313,   116.1242,       5259,   496.8,   8.3320,  34.6440,2,  34.6331,2,-999.0000,5,   111.2,2,   44.37,2,   29.69,2,    2.09,2
 09FA9508_1,      IR6_4,      95,          1,         17,         27,2,19951006,       2336,   -12.9313,   116.1242,       5259,   596.9,   7.4270,  34.6250,2,  34.6241,2,-999.0000,5,    94.4,2,   57.20,2,   32.71,2,    2.34,2
 09FA9508_1,      IR6_4,      95,          1,         16,         20,2,19951006,       2336,   -12.9313,   116.1242,       5259,   697.2,   6.6180,  34.6170,2,  34.6162,2,-999.0000,5,    83.6,2,   72.80,2,   34.85,2,    2.51,2
 09FA9508_1,      IR6_4,      95,          1,         15,         11,2,19951006,       2336,   -12.9313,   116.1242,       5259,   796.7,   5.8610,  34.6110,2,  34.6099,2,-999.0000,5,    84.8,2,   86.13,2,   35.72,2,    2.56,2
 09FA9508_1,      IR6_4,      95,          1,         14,          8,2,19951006,       2336,   -12.9313,   116.1242,       5259,   894.6,   5.2600,  34.6020,2,  34.6028,2,-999.0000,5,    88.6,2,   92.98,2,   35.97,2,    2.60,2
 09FA9508_1,      IR6_4,      95,          1,         13,          6,2,19951006,       2336,   -12.9313,   116.1242,       5259,   996.7,   4.9270,  34.6030,2,  34.6039,2,-999.0000,5,    91.0,2,  101.17,2,   35.96,2,    2.61,2
 09FA9508_1,      IR6_4,      95,          1,         12,         35,2,19951006,       2336,   -12.9313,   116.1242,       5259,  1193.9,   4.3120,  34.6150,2,  34.6114,2,-999.0000,5,    95.1,2,  102.39,2,   36.61,2,    2.63,2
 09FA9508_1,      IR6_4,      95,          1,         11,          3,2,19951006,       2336,   -12.9313,   116.1242,       5259,  1394.4,   3.7640,  34.6440,2,  34.6432,2,-999.0000,5,   102.8,2,  111.01,2,   36.34,2,    2.59,2
 09FA9508_1,      IR6_4,      95,          1,          9,         24,2,19951006,       2336,   -12.9313,   116.1242,       5259,  1795.4,   2.7750,  34.7080,2,  34.7092,2,-999.0000,5,   124.8,2,  117.93,2,   35.51,2,    2.54,2
 09FA9508_1,      IR6_4,      95,          1,          8,         17,2,19951006,       2336,   -12.9313,   116.1242,       5259,  1993.9,   2.4390,  34.7210,2,  34.7206,2,-999.0000,5,   133.2,2,  122.13,2,   35.10,2,    2.51,2
 09FA9508_1,      IR6_4,      95,          1,          7,         48,2,19951006,       2336,   -12.9313,   116.1242,       5259,  2496.2,   1.9270,  34.7260,2,  34.7249,2,-999.0000,5,   148.2,2,  126.46,2,   34.54,2,    2.45,2
 09FA9508_1,      IR6_4,      95,          1,          6,         15,2,19951006,       2336,   -12.9313,   116.1242,       5259,  2998.2,   1.6160,  34.7220,2,  34.7206,2,-999.0000,5,   160.3,2,  133.15,2,   33.98,2,    2.40,2
 09FA9508_1,      IR6_4,      95,          1,          5,         28,2,19951006,       2336,   -12.9313,   116.1242,       5259,  3498.1,   1.3450,  34.7150,2,  34.7167,2,-999.0000,5,   172.5,2,  129.13,2,   33.51,2,    2.35,2
 09FA9508_1,      IR6_4,      95,          1,          4,         99,2,19951006,       2336,   -12.9313,   116.1242,       5259,  4000.8,   1.1860,  34.7110,2,  34.7127,2,-999.0000,5,   181.1,2,  129.43,2,   33.15,2,    2.31,2
 09FA9508_1,      IR6_4,      95,          1,          3,         14,2,19951006,       2336,   -12.9313,   116.1242,       5259,  4497.4,   1.1770,  34.7110,2,  34.7100,2,-999.0000,5,   182.5,2,  119.26,3,   32.98,2,    2.30,2
 09FA9508_1,      IR6_4,      95,          1,          2,          5,2,19951006,       2336,   -12.9313,   116.1242,       5259,  5000.9,   1.2190,  34.7120,2,  34.7116,2,-999.0000,5,   183.5,2,  133.23,2,   32.79,2,    2.29,2
 09FA9508_1,      IR6_4,      95,          1,          1,         18,2,19951006,       2336,   -12.9313,   116.1242,       5259,  5365.2,   1.2490,  34.7110,2,  34.7124,2,-999.0000,5,   185.4,2,  132.57,2,   32.78,2,    2.28,2
 09FA9508_1,      IR6_4,      96,          1,         24,         21,2,19951007,       0618,   -13.0305,   116.6080,       5621,     3.1,  26.9050,  34.4470,2,  34.4545,2,-999.0000,5,   200.5,2,    4.33,2,    0.29,2,    0.17,2
 09FA9508_1,      IR6_4,      96,          1,         23,          2,2,19951007,       0618,   -13.0305,   116.6080,       5621,    49.1,  26.2970,  34.6950,2,  34.6637,2,-999.0000,5,   206.6,2,    4.50,2,    0.54,2,    0.17,2
 09FA9508_1,      IR6_4,      96,          1,         22,          7,2,19951007,       0618,   -13.0305,   116.6080,       5621,    98.5,  24.6600,  34.9450,2,  34.9332,2,-999.0000,5,   209.5,2,    4.88,2,    0.52,2,    0.18,2
 09FA9508_1,      IR6_4,      96,          1,         21,         10,2,19951007,       0618,   -13.0305,   116.6080,       5621,   148.0,  21.0690,  34.8620,2,  34.8531,2,-999.0000,5,   120.9,2,   13.48,2,   11.27,2,    0.86,2
 09FA9508_1,      IR6_4,      96,          1,         20,         45,2,19951007,       0618,   -13.0305,   116.6080,       5621,   198.6,  17.6460,  35.0520,2,  35.0713,2,-999.0000,5,   121.8,2,   17.72,2,   14.19,2,    1.05,2
 09FA9508_1,      IR6_4,      96,          1,         19,         42,2,19951007,       0618,   -13.0305,   116.6080,       5621,   297.9,  11.7430,  34.6650,2,  34.6602,2,-999.0000,5,    96.6,2,   37.25,2,   25.24,2,    1.81,2
 09FA9508_1,      IR6_4,      96,          1,         18,         13,2,19951007,       0618,   -13.0305,   116.6080,       5621,   398.0,  10.1920,  34.7750,2,  34.7702,2,-999.0000,5,   139.1,2,   27.56,2,   22.86,2,    1.63,2
 09FA9508_1,      IR6_4,      96,          1,         17,         43,2,19951007,       0618,   -13.0305,   116.6080,       5621,   497.5,   8.3280,  34.6350,2,-999.0000,9,-999.0000,5,   107.6,2,   45.02,2,   29.89,2,    2.11,2
 09FA9508_1,      IR6_4,      96,          1,         16,         20,2,19951007,       0618,   -13.0305,   116.6080,       5621,   596.8,   7.2680,  34.6110,2,  34.6028,2,-999.0000,5,    86.0,2,   63.38,2,   33.65,2,    2.39,2
 09FA9508_1,      IR6_4,      96,          1,         15,         11,2,19951007,       0618,   -13.0305,   116.6080,       5621,   696.6,   6.4410,  34.6000,2,  34.6013,2,-999.0000,5,    84.1,2,   76.55,2,   34.90,2,    2.50,2
 09FA9508_1,      IR6_4,      96,          1,         14,          8,2,19951007,       0618,   -13.0305,   116.6080,       5621,   796.8,   5.8580,  34.5960,2,  34.5990,2,-999.0000,5,    86.4,2,   85.71,2,   35.62,2,    2.55,2
 09FA9508_1,      IR6_4,      96,          1,         13,          6,2,19951007,       0618,   -13.0305,   116.6080,       5621,   896.7,   5.2670,  34.5930,2,  34.5950,2,-999.0000,5,    89.8,2,   94.68,2,   35.78,2,    2.57,2
 09FA9508_1,      IR6_4,      96,          1,         12,         35,2,19951007,       0618,   -13.0305,   116.6080,       5621,   996.4,   4.8760,  34.5990,2,  34.5982,2,-999.0000,5,    91.2,2,  100.14,2,   36.03,2,    2.59,2
 09FA9508_1,      IR6_4,      96,          1,         11,          3,2,19951007,       0618,   -13.0305,   116.6080,       5621,  1248.2,   4.1390,  34.6190,2,  34.6185,2,-999.0000,5,    97.2,2,  109.21,2,   36.28,2,    2.62,2
 09FA9508_1,      IR6_4,      96,          1,         10,         30,2,19951007,       0618,   -13.0305,   116.6080,       5621,  1496.1,   3.4360,  34.6670,2,  34.6672,2,-999.0000,5,   110.3,2,  114.47,2,   36.03,2,    2.60,2
 09FA9508_1,      IR6_4,      96,          1,          9,         24,2,19951007,       0618,   -13.0305,   116.6080,       5621,  1999.2,   2.4320,  34.7210,2,  34.7218,2,-999.0000,5,   133.1,2,  122.17,2,   35.18,2,    2.51,2
 09FA9508_1,      IR6_4,      96,          1,          8,         17,2,19951007,       0618,   -13.0305,   116.6080,       5621,  2502.4,   1.9460,  34.7250,2,  34.7245,2,-999.0000,5,   148.1,2,  126.55,2,   34.49,2,    2.45,2
 09FA9508_1,      IR6_4,      96,          1,          7,         48,2,19951007,       0618,   -13.0305,   116.6080,       5621,  2995.9,   1.6070,  34.7210,2,  34.7229,2,-999.0000,5,   160.5,2,  129.80,2,   34.10,2,    2.39,2
 09FA9508_1,      IR6_4,      96,          1,          6,         15,2,19951007,       0618,   -13.0305,   116.6080,       5621,  3498.1,   1.3340,  34.7150,2,  34.7146,2,-999.0000,5,   172.2,2,  131.65,2,   33.65,2,    2.34,2
 09FA9508_1,      IR6_4,      96,          1,          5,         28,2,19951007,       0618,   -13.0305,   116.6080,       5621,  3998.6,   1.1820,  34.7120,2,  34.7126,2,-999.0000,5,   180.9,2,  130.42,2,   33.20,2,    2.30,2
 09FA9508_1,      IR6_4,      96,          1,          4,         19,2,19951007,       0618,   -13.0305,   116.6080,       5621,  4494.8,   1.1760,  34.7110,2,  34.7114,2,-999.0000,5,   183.1,2,  129.97,2,   33.05,2,    2.31,2
 09FA9508_1,      IR6_4,      96,          1,          3,         14,2,19951007,       0618,   -13.0305,   116.6080,       5621,  4999.2,   1.2180,  34.7100,2,  34.7106,2,-999.0000,5,   182.9,2,  130.00,2,   33.13,2,    2.29,2
 09FA9508_1,      IR6_4,      96,          1,          2,          5,2,19951007,       0618,   -13.0305,   116.6080,       5621,  5499.2,   1.2750,  34.7100,2,  34.7106,2,-999.0000,5,   184.8,2,  129.48,2,   33.07,2,    2.29,2
 09FA9508_1,      IR6_4,      96,          1,          1,         18,2,19951007,       0618,   -13.0305,   116.6080,       5621,  5752.0,   1.3000,  34.7110,2,  34.7117,2,-999.0000,5,   185.8,2,  128.09,2,   33.04,2,    2.29,2