BOTTLE,20211101CCHSIORKP
EXPOCODE,SECT_ID,STNNBR,CASTNO,SAMPNO,BTLNBR,BTLNBR_FLAG_W,DATE,TIME,LATITUDE,LONGITUDE,DEPTH,CTDPRS,CTDTMP,CTDSAL,CTDSAL_FLAG_W,SALNTY,SALNTY_FLAG_W,CTDOXY,CTDOXY_FLAG_W,OXYGEN,OXYGEN_FLAG_W,SILCAT,SILCAT_FLAG_W,NITRAT,NITRAT_FLAG_W,PHSPHT,PHSPHT_FLAG_W
,,,,,,,,,,,METERS,DBAR,ITS-90,PSS-78,,PSS-78,,UMOL/KG,,UMOL/KG,,UMOL/KG,,UMOL/KG,,UMOL/KG,
 09FA9508_1,      IR6_4,      82,          1,         24,         21,2,19951003,       2051,   -11.7373,   110.8930,       4203,     3.6,  26.8780,  34.3540,2,  34.3589,2,-999.0000,5,   204.9,2,    4.45,2,    0.25,2,    0.17,2
 09FA9508_1,      IR6_4,      82,          1,         23,         45,2,19951003,       2051,   -11.7373,   110.8930,       4203,    49.9,  26.1410,  34.3510,2,  34.3412,2,-999.0000,5,   202.0,2,    4.61,2,    0.53,2,    0.18,2
 09FA9508_1,      IR6_4,      82,          1,         22,         43,2,19951003,       2051,   -11.7373,   110.8930,       4203,    97.2,  22.9130,  34.4970,2,  34.3867,2,-999.0000,5,   195.4,2,    5.43,2,    1.54,2,    0.22,2
 09FA9508_1,      IR6_4,      82,          1,         21,          7,2,19951003,       2051,   -11.7373,   110.8930,       4203,   199.2,  13.8950,  34.6170,2,  34.6138,2,-999.0000,5,    99.0,2,   33.26,2,   22.55,2,    1.63,2
 09FA9508_1,      IR6_4,      82,          1,         20,         10,2,19951003,       2051,   -11.7373,   110.8930,       4203,   298.8,  11.3040,  34.6510,2,  34.6460,2,-999.0000,5,    90.3,2,   40.50,2,   26.69,2,    1.91,2
 09FA9508_1,      IR6_4,      82,          1,         19,         42,2,19951003,       2051,   -11.7373,   110.8930,       4203,   397.8,   9.3690,  34.6560,2,  34.6543,2,-999.0000,5,    98.5,2,   44.74,2,   29.00,2,    2.07,2
 09FA9508_1,      IR6_4,      82,          1,         18,         13,2,19951003,       2051,   -11.7373,   110.8930,       4203,   497.9,   8.3500,  34.6400,2,  34.6362,2,-999.0000,5,    87.7,2,   53.41,2,   32.06,2,    2.27,2
 09FA9508_1,      IR6_4,      82,          1,         17,         27,2,19951003,       2051,   -11.7373,   110.8930,       4203,   597.1,   7.5300,  34.6340,2,  34.6315,2,-999.0000,5,    83.4,2,   62.82,2,   33.80,2,    2.42,2
 09FA9508_1,      IR6_4,      82,          1,         16,         20,2,19951003,       2051,   -11.7373,   110.8930,       4203,   696.2,   6.7890,  34.6260,2,  34.6233,2,-999.0000,5,    81.8,2,   72.68,2,   34.89,2,    2.62,3
 09FA9508_1,      IR6_4,      82,          1,         15,         11,2,19951003,       2051,   -11.7373,   110.8930,       4203,   796.9,   5.9050,  34.6140,2,  34.6115,2,-999.0000,5,    83.9,2,   86.91,2,   35.70,2,    2.60,2
 09FA9508_1,      IR6_4,      82,          1,         14,          8,2,19951003,       2051,   -11.7373,   110.8930,       4203,   897.1,   5.3710,  34.6070,2,  34.6052,2,-999.0000,5,    87.8,2,   95.31,2,   36.16,2,    2.63,2
 09FA9508_1,      IR6_4,      82,          1,         13,          6,2,19951003,       2051,   -11.7373,   110.8930,       4203,   995.8,   4.9430,  34.6090,2,  34.6099,2,-999.0000,5,    90.3,2,  101.63,2,   36.38,2,    2.64,2
 09FA9508_1,      IR6_4,      82,          1,         12,         35,2,19951003,       2051,   -11.7373,   110.8930,       4203,  1198.1,   4.3080,  34.6220,2,  34.6229,2,-999.0000,5,    95.0,2,  110.24,2,   36.50,2,    2.67,2
 09FA9508_1,      IR6_4,      82,          1,         11,          3,2,19951003,       2051,   -11.7373,   110.8930,       4203,  1395.9,   3.7810,  34.6620,2,  34.6626,2,-999.0000,5,   103.2,2,  115.47,2,   36.22,2,    2.64,2
 09FA9508_1,      IR6_4,      82,          1,         10,         30,2,19951003,       2051,   -11.7373,   110.8930,       4203,  1597.9,   3.2170,  34.6970,2,  34.6940,2,-999.0000,5,   115.1,2,  116.51,2,   35.76,2,    2.60,2
 09FA9508_1,      IR6_4,      82,          1,          8,         17,2,19951003,       2051,   -11.7373,   110.8930,       4203,  1995.6,   2.4820,  34.7290,2,  34.7294,2,-999.0000,5,   133.3,2,  122.74,2,   34.71,2,    2.53,2
 09FA9508_1,      IR6_4,      82,          1,          7,         48,2,19951003,       2051,   -11.7373,   110.8930,       4203,  2247.1,   2.1710,  34.7300,2,  34.7275,2,-999.0000,5,   141.2,2,  124.52,2,   34.52,2,    2.49,2
 09FA9508_1,      IR6_4,      82,          1,          6,         15,2,19951003,       2051,   -11.7373,   110.8930,       4203,  2496.8,   1.9460,  34.7280,2,  34.7279,2,-999.0000,5,   150.5,2,  126.98,2,   34.34,2,    2.45,2
 09FA9508_1,      IR6_4,      82,          1,          5,         28,2,19951003,       2051,   -11.7373,   110.8930,       4203,  2747.3,   1.7640,  34.7240,2,  34.7252,2,-999.0000,5,   156.4,2,  129.11,2,   34.16,2,    2.43,2
 09FA9508_1,      IR6_4,      82,          1,          4,         99,2,19951003,       2051,   -11.7373,   110.8930,       4203,  2999.3,   1.6030,  34.7220,2,  34.7229,2,-999.0000,5,   162.3,2,  131.45,2,   33.98,2,    2.40,2
 09FA9508_1,      IR6_4,      82,          1,          3,         14,2,19951003,       2051,   -11.7373,   110.8930,       4203,  3499.6,   1.3140,  34.7150,2,  34.7146,2,-999.0000,5,   174.6,2,  133.13,2,   33.40,2,    2.35,2
 09FA9508_1,      IR6_4,      82,          1,          2,          5,2,19951003,       2051,   -11.7373,   110.8930,       4203,  3997.9,   1.1660,  34.7120,2,  34.7135,2,-999.0000,5,   182.6,2,  132.87,2,   33.09,2,    2.32,2
 09FA9508_1,      IR6_4,      82,          1,          1,         18,2,19951003,       2051,   -11.7373,   110.8930,       4203,  4269.2,   1.1580,  34.7120,2,  34.7116,2,-999.0000,5,   183.0,2,  133.95,2,   33.06,2,    2.31,2
 09FA9508_1,      IR6_4,      83,          1,         24,         21,2,19951004,       0241,   -11.8643,   111.3580,       3522,     2.7,  26.6820,  34.4190,2,  34.4233,2,-999.0000,5,   200.3,2,    4.44,2,    0.29,2,    0.17,2
 09FA9508_1,      IR6_4,      83,          1,         23,         45,2,19951004,       0241,   -11.8643,   111.3580,       3522,    50.2,  25.9570,  34.4210,2,  34.4229,2,-999.0000,5,   199.6,2,    4.49,2,    0.20,2,    0.16,2
 09FA9508_1,      IR6_4,      83,          1,         22,         43,2,19951004,       0241,   -11.8643,   111.3580,       3522,    99.1,  21.7770,  34.6670,2,  34.6706,2,-999.0000,5,   122.5,2,   13.93,2,   11.37,2,    0.87,2
 09FA9508_1,      IR6_4,      83,          1,         21,          7,2,19951004,       0241,   -11.8643,   111.3580,       3522,   148.5,  17.4210,  34.6930,2,  34.6902,2,-999.0000,5,   103.9,2,   23.64,2,   18.09,2,    1.30,2
 09FA9508_1,      IR6_4,      83,          1,         20,         10,2,19951004,       0241,   -11.8643,   111.3580,       3522,   198.5,  14.2790,  34.6910,2,  34.6895,2,-999.0000,5,   100.3,2,   31.54,2,   21.54,2,    1.54,2
 09FA9508_1,      IR6_4,      83,          1,         19,         42,2,19951004,       0241,   -11.8643,   111.3580,       3522,   248.1,  12.3440,  34.7100,2,  34.7139,2,-999.0000,5,    99.5,2,   35.92,2,   24.00,2,    1.73,2
 09FA9508_1,      IR6_4,      83,          1,         18,         13,2,19951004,       0241,   -11.8643,   111.3580,       3522,   298.1,  10.9470,  34.6590,2,  34.6598,2,-999.0000,5,    96.6,2,   41.23,2,   26.49,2,    1.89,2
 09FA9508_1,      IR6_4,      83,          1,         17,         27,2,19951004,       0241,   -11.8643,   111.3580,       3522,   396.3,   9.3100,  34.6630,2,  34.6603,2,-999.0000,5,   106.7,2,   42.60,2,   28.03,2,    1.98,2
 09FA9508_1,      IR6_4,      83,          1,         16,         20,2,19951004,       0241,   -11.8643,   111.3580,       3522,   497.6,   8.0440,  34.6350,2,  34.6352,2,-999.0000,5,    92.8,2,   53.53,2,   31.79,2,    2.26,2
 09FA9508_1,      IR6_4,      83,          1,         15,         11,2,19951004,       0241,   -11.8643,   111.3580,       3522,   597.2,   7.2240,  34.6260,2,  34.6278,2,-999.0000,5,    83.8,2,   66.49,2,   33.88,2,    2.44,2
 09FA9508_1,      IR6_4,      83,          1,         14,          8,2,19951004,       0241,   -11.8643,   111.3580,       3522,   698.1,   6.5560,  34.6160,2,  34.6161,2,-999.0000,5,    82.4,2,   76.51,2,   34.84,2,    2.52,2
 09FA9508_1,      IR6_4,      83,          1,         13,          6,2,19951004,       0241,   -11.8643,   111.3580,       3522,   795.8,   5.9620,  34.6080,2,  34.6079,2,-999.0000,5,    85.4,2,   85.30,2,   35.44,2,    2.56,2
 09FA9508_1,      IR6_4,      83,          1,         12,         35,2,19951004,       0241,   -11.8643,   111.3580,       3522,   897.2,   5.3460,  34.6050,2,  34.6080,2,-999.0000,5,    87.3,2,   95.02,2,   35.76,2,    2.60,2
 09FA9508_1,      IR6_4,      83,          1,         11,          3,2,19951004,       0241,   -11.8643,   111.3580,       3522,   996.3,   4.9970,  34.6050,2,  34.6085,2,-999.0000,5,    90.2,2,  100.31,2,   36.01,2,    2.63,2
 09FA9508_1,      IR6_4,      83,          1,         10,         30,2,19951004,       0241,   -11.8643,   111.3580,       3522,  1196.2,   4.3400,  34.6210,2,  34.6246,2,-999.0000,5,    95.8,2,  109.56,2,   36.42,2,    2.66,2
 09FA9508_1,      IR6_4,      83,          1,          9,         24,2,19951004,       0241,   -11.8643,   111.3580,       3522,  1396.2,   3.7400,  34.6640,2,  34.6659,2,-999.0000,5,   103.6,2,  113.74,2,   36.19,2,    2.65,2
 09FA9508_1,      IR6_4,      83,          1,          8,         17,2,19951004,       0241,   -11.8643,   111.3580,       3522,  1594.1,   3.1620,  34.7010,2,  34.7052,2,-999.0000,5,   115.5,2,  118.61,2,   35.87,2,    2.60,2
 09FA9508_1,      IR6_4,      83,          1,          7,         48,2,19951004,       0241,   -11.8643,   111.3580,       3522,  1794.3,   2.7370,  34.7210,2,  34.7241,2,-999.0000,5,   125.7,2,  121.01,2,   35.45,2,    2.56,2
 09FA9508_1,      IR6_4,      83,          1,          6,         15,2,19951004,       0241,   -11.8643,   111.3580,       3522,  1995.8,   2.4430,  34.7270,2,  34.7281,2,-999.0000,5,   134.3,2,  122.55,2,   35.00,2,    2.54,2
 09FA9508_1,      IR6_4,      83,          1,          5,         28,2,19951004,       0241,   -11.8643,   111.3580,       3522,  2243.2,   2.1800,  34.7300,2,  34.7297,2,-999.0000,5,   142.3,2,  125.03,2,   34.69,2,    2.50,2
 09FA9508_1,      IR6_4,      83,          1,          4,         99,2,19951004,       0241,   -11.8643,   111.3580,       3522,  2496.3,   1.9590,  34.7280,2,  34.7286,2,-999.0000,5,   149.1,2,  127.55,2,   34.57,2,    2.48,2
 09FA9508_1,      IR6_4,      83,          1,          3,         14,2,19951004,       0241,   -11.8643,   111.3580,       3522,  2746.8,   1.7520,  34.7240,2,  34.7267,2,-999.0000,5,   156.5,2,  129.53,2,   34.29,2,    2.44,2
 09FA9508_1,      IR6_4,      83,          1,          2,          5,2,19951004,       0241,   -11.8643,   111.3580,       3522,  2996.9,   1.6000,  34.7200,2,  34.7236,2,-999.0000,5,   162.6,2,  131.58,2,   34.21,2,    2.42,2
 09FA9508_1,      IR6_4,      83,          1,          1,         18,2,19951004,       0241,   -11.8643,   111.3580,       3522,  3552.4,   1.2550,  34.7120,2,  34.7190,2,-999.0000,5,   176.5,2,  133.67,2,   33.63,2,    2.37,2
 09FA9508_1,      IR6_4,      84,          1,         24,         21,2,19951004,       0719,   -11.8965,   111.6700,       3351,     2.1,  26.8860,  34.4130,2,  34.4223,2,-999.0000,5,   207.8,2,    3.84,2,    0.21,2,    0.11,2
 09FA9508_1,      IR6_4,      84,          1,         23,         45,2,19951004,       0719,   -11.8965,   111.6700,       3351,    49.3,  24.8310,  34.5100,2,  34.5369,2,-999.0000,5,   168.0,2,    7.98,2,    5.08,2,    0.43,2
 09FA9508_1,      IR6_4,      84,          1,         22,         43,2,19951004,       0719,   -11.8965,   111.6700,       3351,    99.4,  18.7820,  34.7400,2,  34.7445,2,-999.0000,5,   112.6,2,   19.01,2,   15.23,2,    1.11,2
 09FA9508_1,      IR6_4,      84,          1,         21,          7,2,19951004,       0719,   -11.8965,   111.6700,       3351,   148.8,  15.9510,  34.8080,2,  34.8113,2,-999.0000,5,   106.2,2,   25.23,2,   19.10,2,    1.38,2
 09FA9508_1,      IR6_4,      84,          1,         20,         10,2,19951004,       0719,   -11.8965,   111.6700,       3351,   199.3,  13.1270,  34.6210,2,  34.6252,2,-999.0000,5,    96.2,2,   34.58,2,   23.69,2,    1.70,2
 09FA9508_1,      IR6_4,      84,          1,         19,         42,2,19951004,       0719,   -11.8965,   111.6700,       3351,   298.8,  10.6100,  34.6760,2,  34.6793,2,-999.0000,5,    99.5,2,   39.69,2,   26.81,2,    1.91,2
 09FA9508_1,      IR6_4,      84,          1,         18,         13,2,19951004,       0719,   -11.8965,   111.6700,       3351,   398.2,   9.0530,  34.6340,2,  34.6373,2,-999.0000,5,   101.0,2,   45.62,2,   29.29,2,    2.08,2
 09FA9508_1,      IR6_4,      84,          1,         17,         27,2,19951004,       0719,   -11.8965,   111.6700,       3351,   497.3,   8.1020,  34.5960,2,  34.5989,2,-999.0000,5,    86.1,2,   58.29,2,   32.35,2,    2.31,2
 09FA9508_1,      IR6_4,      84,          1,         16,         20,2,19951004,       0719,   -11.8965,   111.6700,       3351,   596.7,   7.1430,  34.5980,2,  34.6001,2,-999.0000,5,    84.2,2,   70.02,2,   34.18,2,    2.46,2
 09FA9508_1,      IR6_4,      84,          1,         15,         11,2,19951004,       0719,   -11.8965,   111.6700,       3351,   697.5,   6.3820,  34.6090,2,-999.0000,9,-999.0000,5,    82.5,2,   79.86,2,   35.29,2,    2.56,2
 09FA9508_1,      IR6_4,      84,          1,         14,          8,2,19951004,       0719,   -11.8965,   111.6700,       3351,   796.9,   5.7900,  34.6090,2,  34.6091,2,-999.0000,5,    84.5,2,   88.90,2,   35.83,2,    2.58,2
 09FA9508_1,      IR6_4,      84,          1,         13,          6,2,19951004,       0719,   -11.8965,   111.6700,       3351,   896.7,   5.3350,  34.6060,2,  34.6091,2,-999.0000,5,    87.8,2,   95.71,2,   36.00,2,    2.65,2
 09FA9508_1,      IR6_4,      84,          1,         12,         35,2,19951004,       0719,   -11.8965,   111.6700,       3351,   996.6,   4.9580,  34.6070,2,  34.6066,2,-999.0000,5,    89.8,2,  100.87,2,   36.13,2,    2.63,2
 09FA9508_1,      IR6_4,      84,          1,         11,          3,2,19951004,       0719,   -11.8965,   111.6700,       3351,  1095.7,   4.5690,  34.6130,2,  34.6163,2,-999.0000,5,    92.8,2,  105.75,2,   36.42,2,    2.64,2
 09FA9508_1,      IR6_4,      84,          1,         10,         30,2,19951004,       0719,   -11.8965,   111.6700,       3351,  1195.8,   4.2260,  34.6250,2,  34.6267,2,-999.0000,5,    96.7,2,  109.89,2,   36.41,2,    2.66,2
 09FA9508_1,      IR6_4,      84,          1,          9,         24,2,19951004,       0719,   -11.8965,   111.6700,       3351,  1396.5,   3.6090,  34.6710,2,  34.6753,2,-999.0000,5,   106.4,2,  113.76,2,   36.26,2,    2.65,2
 09FA9508_1,      IR6_4,      84,          1,          8,         17,2,19951004,       0719,   -11.8965,   111.6700,       3351,  1595.6,   3.1460,  34.7020,2,  34.7026,2,-999.0000,5,   116.4,2,  116.72,2,   35.76,2,    2.62,2
 09FA9508_1,      IR6_4,      84,          1,          7,         48,2,19951004,       0719,   -11.8965,   111.6700,       3351,  1796.6,   2.7500,  34.7230,2,  34.7233,2,-999.0000,5,   125.2,2,  120.95,2,   35.39,2,    2.57,2
 09FA9508_1,      IR6_4,      84,          1,          6,         15,2,19951004,       0719,   -11.8965,   111.6700,       3351,  1996.1,   2.4370,  34.7290,2,  34.7317,2,-999.0000,5,   134.8,2,  123.55,2,   35.12,2,    2.52,2
 09FA9508_1,      IR6_4,      84,          1,          5,         28,2,19951004,       0719,   -11.8965,   111.6700,       3351,  2195.7,   2.2020,  34.7310,2,  34.7336,2,-999.0000,5,   142.0,2,  126.18,2,   34.88,2,    2.49,2
 09FA9508_1,      IR6_4,      84,          1,          4,         99,2,19951004,       0719,   -11.8965,   111.6700,       3351,  2396.7,   2.0630,  34.7310,2,  34.7330,2,-999.0000,5,   146.5,2,  127.15,2,   34.51,2,    2.47,2
 09FA9508_1,      IR6_4,      84,          1,          3,         14,2,19951004,       0719,   -11.8965,   111.6700,       3351,  2696.9,   1.8300,  34.7260,2,  34.7278,2,-999.0000,5,   153.4,2,  129.53,2,   34.14,2,    2.43,2
 09FA9508_1,      IR6_4,      84,          1,          2,          5,2,19951004,       0719,   -11.8965,   111.6700,       3351,  2999.8,   1.5920,  34.7230,2,  34.7221,2,-999.0000,5,   162.9,2,  131.64,2,   33.83,2,    2.39,2
 09FA9508_1,      IR6_4,      84,          1,          1,         18,2,19951004,       0719,   -11.8965,   111.6700,       3351,  3384.0,   1.3140,  34.7160,2,  34.7169,2,-999.0000,5,   173.4,2,  133.35,2,   33.41,2,    2.35,2