BOTTLE,20211101CCHSIORKP
EXPOCODE,SECT_ID,STNNBR,CASTNO,SAMPNO,BTLNBR,BTLNBR_FLAG_W,DATE,TIME,LATITUDE,LONGITUDE,DEPTH,CTDPRS,CTDTMP,CTDSAL,CTDSAL_FLAG_W,SALNTY,SALNTY_FLAG_W,CTDOXY,CTDOXY_FLAG_W,OXYGEN,OXYGEN_FLAG_W,SILCAT,SILCAT_FLAG_W,NITRAT,NITRAT_FLAG_W,PHSPHT,PHSPHT_FLAG_W
,,,,,,,,,,,METERS,DBAR,ITS-90,PSS-78,,PSS-78,,UMOL/KG,,UMOL/KG,,UMOL/KG,,UMOL/KG,,UMOL/KG,
 09FA9508_1,      IR6_4,      85,          1,         24,         21,2,19951004,       1207,   -11.9850,   112.0325,       3632,     2.0,  26.6910,  34.3750,2,  34.3751,2,-999.0000,5,   208.4,2,    3.63,2,    0.27,2,    0.14,2
 09FA9508_1,      IR6_4,      85,          1,         23,         45,2,19951004,       1207,   -11.9850,   112.0325,       3632,    49.4,  24.2640,  34.3180,2,  34.3162,2,-999.0000,5,   162.7,2,    9.70,2,    7.21,2,    0.54,2
 09FA9508_1,      IR6_4,      85,          1,         22,         43,2,19951004,       1207,   -11.9850,   112.0325,       3632,    99.2,  19.5090,  34.5030,2,  34.4661,2,-999.0000,5,   110.7,2,   20.94,2,   15.87,2,    1.14,2
 09FA9508_1,      IR6_4,      85,          1,         21,          7,2,19951004,       1207,   -11.9850,   112.0325,       3632,   149.3,  15.2840,  34.6570,2,  34.6529,2,-999.0000,5,    98.7,2,   28.90,2,   20.92,2,    1.50,2
 09FA9508_1,      IR6_4,      85,          1,         20,         10,2,19951004,       1207,   -11.9850,   112.0325,       3632,   198.9,  13.4530,  34.6130,2,  34.6093,2,-999.0000,5,    95.4,2,   34.40,2,   23.41,2,    1.68,2
 09FA9508_1,      IR6_4,      85,          1,         19,         42,2,19951004,       1207,   -11.9850,   112.0325,       3632,   297.9,  10.8000,  34.5870,2,  34.5870,2,-999.0000,5,    90.1,2,   43.62,2,   27.34,2,    1.98,2
 09FA9508_1,      IR6_4,      85,          1,         18,         13,2,19951004,       1207,   -11.9850,   112.0325,       3632,   395.2,   9.1270,  34.6520,2,  34.6494,2,-999.0000,5,   101.8,2,   43.55,2,   28.73,2,    2.05,2
 09FA9508_1,      IR6_4,      85,          1,         17,         27,2,19951004,       1207,   -11.9850,   112.0325,       3632,   497.6,   7.8170,  34.5960,2,  34.5964,2,-999.0000,5,    85.1,2,   61.61,2,   32.35,2,    2.36,2
 09FA9508_1,      IR6_4,      85,          1,         16,         20,2,19951004,       1207,   -11.9850,   112.0325,       3632,   595.5,   6.9680,  34.5910,2,  34.5913,2,-999.0000,5,    84.6,2,   71.55,2,   33.82,2,    2.47,2
 09FA9508_1,      IR6_4,      85,          1,         15,         11,2,19951004,       1207,   -11.9850,   112.0325,       3632,   696.5,   6.3340,  34.6140,2,  34.6207,2,-999.0000,5,    81.8,2,   79.62,2,   35.06,2,    2.56,2
 09FA9508_1,      IR6_4,      85,          1,         14,          8,2,19951004,       1207,   -11.9850,   112.0325,       3632,   796.6,   5.7470,  34.6100,2,  34.6129,2,-999.0000,5,    84.6,2,   88.75,2,   35.68,2,    2.62,2
 09FA9508_1,      IR6_4,      85,          1,         13,          6,2,19951004,       1207,   -11.9850,   112.0325,       3632,   894.1,   5.3190,  34.6070,2,  34.6082,2,-999.0000,5,    87.8,2,   95.05,2,   35.76,2,    2.62,2
 09FA9508_1,      IR6_4,      85,          1,         12,         35,2,19951004,       1207,   -11.9850,   112.0325,       3632,   995.8,   4.9050,  34.6100,2,  34.6090,2,-999.0000,5,    90.4,2,  100.61,2,   36.17,2,    2.64,2
 09FA9508_1,      IR6_4,      85,          1,         11,          3,2,19951004,       1207,   -11.9850,   112.0325,       3632,  1094.7,   4.5190,  34.6140,2,  34.6106,2,-999.0000,5,    93.7,2,  106.02,2,   36.34,2,    2.65,2
 09FA9508_1,      IR6_4,      85,          1,         10,         30,2,19951004,       1207,   -11.9850,   112.0325,       3632,  1192.3,   4.2290,  34.6230,2,-999.0000,9,-999.0000,5,    96.7,2,  110.12,2,   36.32,2,    2.64,2
 09FA9508_1,      IR6_4,      85,          1,          9,         24,2,19951004,       1207,   -11.9850,   112.0325,       3632,  1294.5,   3.9760,  34.6390,2,  34.6397,2,-999.0000,5,    99.6,2,  112.08,2,   36.30,2,    2.66,2
 09FA9508_1,      IR6_4,      85,          1,          8,         17,2,19951004,       1207,   -11.9850,   112.0325,       3632,  1394.0,   3.7120,  34.6570,2,  34.6578,2,-999.0000,5,   104.7,2,  113.72,2,   36.31,2,    2.64,2
 09FA9508_1,      IR6_4,      85,          1,          7,         48,2,19951004,       1207,   -11.9850,   112.0325,       3632,  1595.1,   3.2500,  34.6930,2,  34.6935,2,-999.0000,5,   113.6,2,  117.23,2,   35.84,2,    2.61,2
 09FA9508_1,      IR6_4,      85,          1,          6,         15,2,19951004,       1207,   -11.9850,   112.0325,       3632,  1796.6,   2.7630,  34.7230,2,  34.7230,2,-999.0000,5,   125.3,2,  121.36,2,   35.54,2,    2.56,2
 09FA9508_1,      IR6_4,      85,          1,          5,         28,2,19951004,       1207,   -11.9850,   112.0325,       3632,  1995.3,   2.4960,  34.7290,2,  34.7289,2,-999.0000,5,   133.0,2,  122.91,2,   35.26,2,    2.53,2
 09FA9508_1,      IR6_4,      85,          1,          4,         99,2,19951004,       1207,   -11.9850,   112.0325,       3632,  2497.3,   1.9570,  34.7270,2,  34.7289,2,-999.0000,5,   150.0,2,  128.27,2,   34.59,2,    2.49,2
 09FA9508_1,      IR6_4,      85,          1,          3,         14,2,19951004,       1207,   -11.9850,   112.0325,       3632,  2997.1,   1.6080,  34.7210,2,  34.7211,2,-999.0000,5,   161.2,2,  131.28,2,   34.28,2,    2.41,2
 09FA9508_1,      IR6_4,      85,          1,          2,          5,2,19951004,       1207,   -11.9850,   112.0325,       3632,  3498.9,   1.3510,  34.7150,2,  34.7164,2,-999.0000,5,   173.0,2,  132.97,2,   33.75,2,    2.36,2
 09FA9508_1,      IR6_4,      85,          1,          1,         18,2,19951004,       1207,   -11.9850,   112.0325,       3632,  3654.3,   1.2760,  34.7140,2,  34.7145,2,-999.0000,5,   177.1,2,  133.22,2,   33.59,2,    2.35,2
 09FA9508_1,      IR6_4,      86,          1,         24,         21,2,19951004,       1710,   -12.0523,   112.3695,       4534,     2.5,  26.6020,  34.3870,2,  34.3896,2,-999.0000,5,   209.0,2,    3.74,2,    0.24,2,    0.14,2
 09FA9508_1,      IR6_4,      86,          1,         23,         45,2,19951004,       1710,   -12.0523,   112.3695,       4534,    49.1,  23.7920,  34.3460,2,  34.3484,2,-999.0000,5,   158.9,2,   10.16,2,    8.28,2,    0.58,2
 09FA9508_1,      IR6_4,      86,          1,         22,         43,2,19951004,       1710,   -12.0523,   112.3695,       4534,    98.2,  19.9990,  34.4480,2,  34.4441,2,-999.0000,5,   125.5,2,   19.27,2,   13.88,2,    1.01,2
 09FA9508_1,      IR6_4,      86,          1,         21,          7,2,19951004,       1710,   -12.0523,   112.3695,       4534,   147.9,  16.9540,  34.5440,2,  34.5445,2,-999.0000,5,   107.3,2,   25.61,2,   18.74,2,    1.34,2
 09FA9508_1,      IR6_4,      86,          1,         20,         10,2,19951004,       1710,   -12.0523,   112.3695,       4534,   198.0,  13.4250,  34.5790,2,  34.5783,2,-999.0000,5,    97.3,2,   34.66,2,   23.34,2,    1.67,2
 09FA9508_1,      IR6_4,      86,          1,         19,         42,2,19951004,       1710,   -12.0523,   112.3695,       4534,   298.4,  10.9570,  34.7270,2,  34.7267,2,-999.0000,5,   107.1,2,   36.27,2,   25.25,2,    1.80,2
 09FA9508_1,      IR6_4,      86,          1,         18,         13,2,19951004,       1710,   -12.0523,   112.3695,       4534,   397.5,   8.9950,  34.5970,2,  34.5991,2,-999.0000,5,    89.2,2,   51.62,2,   30.54,2,    2.18,2
 09FA9508_1,      IR6_4,      86,          1,         17,         27,2,19951004,       1710,   -12.0523,   112.3695,       4534,   499.1,   8.1040,  34.6300,2,  34.6285,2,-999.0000,5,    95.2,2,   51.62,2,   31.50,2,    2.24,2
 09FA9508_1,      IR6_4,      86,          1,         16,         20,2,19951004,       1710,   -12.0523,   112.3695,       4534,   597.5,   7.1370,  34.6100,2,  34.6112,2,-999.0000,5,    83.4,2,   67.59,2,   34.11,2,    2.46,2
 09FA9508_1,      IR6_4,      86,          1,         15,         11,2,19951004,       1710,   -12.0523,   112.3695,       4534,   696.4,   6.2080,  34.5890,2,  34.5908,2,-999.0000,5,    86.1,2,   82.09,2,   34.82,2,    2.54,2
 09FA9508_1,      IR6_4,      86,          1,         14,          8,2,19951004,       1710,   -12.0523,   112.3695,       4534,   796.1,   5.7550,  34.6050,2,  34.6069,2,-999.0000,5,    85.3,2,   88.36,2,   35.58,2,    2.58,2
 09FA9508_1,      IR6_4,      86,          1,         13,          6,2,19951004,       1710,   -12.0523,   112.3695,       4534,   896.6,   5.2570,  34.6010,2,  34.6045,2,-999.0000,5,    88.7,2,   95.43,2,   35.97,2,    2.61,2
 09FA9508_1,      IR6_4,      86,          1,         12,         35,2,19951004,       1710,   -12.0523,   112.3695,       4534,   996.0,   4.8450,  34.6110,2,  34.6112,2,-999.0000,5,    90.7,2,  100.54,2,   36.25,2,    2.64,2
 09FA9508_1,      IR6_4,      86,          1,         11,          3,2,19951004,       1710,   -12.0523,   112.3695,       4534,  1194.9,   4.1890,  34.6260,2,  34.6273,2,-999.0000,5,    96.9,2,  108.75,2,   36.43,2,    2.64,2
 09FA9508_1,      IR6_4,      86,          1,         10,         30,2,19951004,       1710,   -12.0523,   112.3695,       4534,  1394.9,   3.7050,  34.6540,2,  34.6560,2,-999.0000,5,   105.0,2,  113.37,2,   36.37,2,    2.64,2
 09FA9508_1,      IR6_4,      86,          1,          9,         24,2,19951004,       1710,   -12.0523,   112.3695,       4534,  1595.0,   3.2390,  34.6940,2,  34.6941,2,-999.0000,5,   113.9,2,  116.88,2,   35.87,2,    2.62,2
 09FA9508_1,      IR6_4,      86,          1,          8,         17,2,19951004,       1710,   -12.0523,   112.3695,       4534,  1795.4,   2.7550,  34.7170,2,  34.7196,2,-999.0000,5,   125.4,2,  120.47,2,   35.79,2,    2.56,2
 09FA9508_1,      IR6_4,      86,          1,          7,         48,2,19951004,       1710,   -12.0523,   112.3695,       4534,  1995.8,   2.4660,  34.7290,2,  34.7291,2,-999.0000,5,   133.0,2,  124.17,2,   35.33,2,    2.52,2
 09FA9508_1,      IR6_4,      86,          1,          6,         15,2,19951004,       1710,   -12.0523,   112.3695,       4534,  2497.2,   1.9790,  34.7290,2,  34.7306,2,-999.0000,5,   148.9,2,  128.47,2,   34.59,2,    2.45,2
 09FA9508_1,      IR6_4,      86,          1,          5,         28,2,19951004,       1710,   -12.0523,   112.3695,       4534,  2997.3,   1.6500,  34.7230,2,  34.7232,2,-999.0000,5,   160.3,2,  132.09,2,   34.05,2,    2.41,2
 09FA9508_1,      IR6_4,      86,          1,          4,         99,2,19951004,       1710,   -12.0523,   112.3695,       4534,  3498.7,   1.3370,  34.7160,2,  34.7177,2,-999.0000,5,   173.0,2,  132.61,2,   33.42,2,    2.35,2
 09FA9508_1,      IR6_4,      86,          1,          3,         14,2,19951004,       1710,   -12.0523,   112.3695,       4534,  4000.0,   1.2130,  34.7130,2,  34.7134,2,-999.0000,5,   180.0,2,  132.17,2,   32.93,2,    2.33,2
 09FA9508_1,      IR6_4,      86,          1,          2,          5,2,19951004,       1710,   -12.0523,   112.3695,       4534,  4249.2,   1.1920,  34.7120,2,  34.7134,2,-999.0000,5,   181.8,2,  132.45,2,   32.97,2,    2.30,2
 09FA9508_1,      IR6_4,      86,          1,          1,         18,2,19951004,       1710,   -12.0523,   112.3695,       4534,  4601.7,   1.1860,  34.7100,2,  34.7110,2,-999.0000,5,   184.3,2,  131.97,2,   32.73,2,    2.30,2
 09FA9508_1,      IR6_4,      87,          1,         20,         21,2,19951004,       2144,   -12.1167,   112.6063,       2921,     3.3,  26.7980,  34.3870,2,  34.3900,2,-999.0000,5,   204.2,2,    4.28,2,    0.34,2,    0.15,2
 09FA9508_1,      IR6_4,      87,          1,         19,         42,2,19951004,       2144,   -12.1167,   112.6063,       2921,    50.7,  25.4350,  34.3760,2,  34.3861,2,-999.0000,5,   210.1,2,    3.95,2,    0.64,2,    0.20,2
 09FA9508_1,      IR6_4,      87,          1,         18,         13,2,19951004,       2144,   -12.1167,   112.6063,       2921,    98.7,  22.5780,  34.4520,2,  34.4517,2,-999.0000,5,   162.7,2,   11.81,2,    7.82,2,    0.56,2
 09FA9508_1,      IR6_4,      87,          1,         17,         27,2,19951004,       2144,   -12.1167,   112.6063,       2921,   148.9,  16.9280,  34.5480,2,  34.5475,2,-999.0000,5,   108.6,2,   25.35,2,   18.14,2,    1.34,2
 09FA9508_1,      IR6_4,      87,          1,         16,         20,2,19951004,       2144,   -12.1167,   112.6063,       2921,   198.9,  14.0240,  34.6000,2,  34.5998,2,-999.0000,5,    98.1,2,   32.18,2,   22.37,2,    1.62,2
 09FA9508_1,      IR6_4,      87,          1,         15,         11,2,19951004,       2144,   -12.1167,   112.6063,       2921,   299.3,  10.1740,  34.5850,2,  34.5881,2,-999.0000,5,    90.6,2,   45.81,2,   28.15,2,    2.03,2
 09FA9508_1,      IR6_4,      87,          1,         14,          8,2,19951004,       2144,   -12.1167,   112.6063,       2921,   398.4,   8.6370,  34.6040,2,  34.6039,2,-999.0000,5,    88.8,2,   52.80,2,   31.06,2,    2.22,2
 09FA9508_1,      IR6_4,      87,          1,         13,          6,2,19951004,       2144,   -12.1167,   112.6063,       2921,   499.1,   7.7970,  34.6070,2,  34.6098,2,-999.0000,5,    85.2,2,   60.30,2,   32.87,2,    2.35,2
 09FA9508_1,      IR6_4,      87,          1,         12,         35,2,19951004,       2144,   -12.1167,   112.6063,       2921,   597.5,   7.1930,  34.6030,2,  34.6071,2,-999.0000,5,    83.1,2,   67.64,2,   33.87,2,    2.44,2
 09FA9508_1,      IR6_4,      87,          1,         11,          3,2,19951004,       2144,   -12.1167,   112.6063,       2921,   696.9,   6.5130,  34.5980,2,  34.6013,2,-999.0000,5,    83.9,2,   77.11,2,   34.45,2,    2.53,2
 09FA9508_1,      IR6_4,      87,          1,         10,         30,2,19951004,       2144,   -12.1167,   112.6063,       2921,   796.8,   5.8860,  34.5910,2,  34.5943,2,-999.0000,5,    87.4,2,   85.65,2,   35.06,2,    2.59,2
 09FA9508_1,      IR6_4,      87,          1,          9,         24,2,19951004,       2144,   -12.1167,   112.6063,       2921,   895.9,   5.3840,  34.6010,2,  34.6042,2,-999.0000,5,    88.1,2,   92.85,2,   35.28,2,    2.59,2
 09FA9508_1,      IR6_4,      87,          1,          8,         17,2,19951004,       2144,   -12.1167,   112.6063,       2921,   995.1,   4.8840,  34.6070,2,  34.6081,2,-999.0000,5,    90.8,2,  101.03,2,   36.46,2,    2.65,2
 09FA9508_1,      IR6_4,      87,          1,          7,         48,2,19951004,       2144,   -12.1167,   112.6063,       2921,  1196.5,   4.2190,  34.6240,2,  34.6257,2,-999.0000,5,    96.0,2,  109.37,2,   36.72,2,    2.65,2
 09FA9508_1,      IR6_4,      87,          1,          6,         15,2,19951004,       2144,   -12.1167,   112.6063,       2921,  1395.1,   3.7580,  34.6580,2,  34.6606,2,-999.0000,5,   103.3,2,  114.92,2,   36.40,2,    2.64,2
 09FA9508_1,      IR6_4,      87,          1,          5,         28,2,19951004,       2144,   -12.1167,   112.6063,       2921,  1595.6,   3.1610,  34.6980,2,  34.7010,2,-999.0000,5,   115.5,2,  117.96,2,   36.17,2,    2.60,2
 09FA9508_1,      IR6_4,      87,          1,          4,         99,2,19951004,       2144,   -12.1167,   112.6063,       2921,  1796.2,   2.6810,  34.7190,2,  34.7214,2,-999.0000,5,   127.4,2,  122.35,2,   35.55,2,    2.55,2
 09FA9508_1,      IR6_4,      87,          1,          3,         14,2,19951004,       2144,   -12.1167,   112.6063,       2921,  1995.8,   2.4060,  34.7260,2,  34.7276,2,-999.0000,5,   134.9,2,  123.42,2,   35.29,2,    2.52,2
 09FA9508_1,      IR6_4,      87,          1,          2,          5,2,19951004,       2144,   -12.1167,   112.6063,       2921,  2500.3,   1.9520,  34.7280,2,  34.7276,2,-999.0000,5,   149.5,2,  128.56,2,   34.57,2,    2.47,2
 09FA9508_1,      IR6_4,      87,          1,          1,         18,2,19951004,       2144,   -12.1167,   112.6063,       2921,  2947.5,   1.6400,  34.7220,2,  34.7232,2,-999.0000,5,   160.2,2,  130.44,2,   34.04,2,    2.41,2