BOTTLE,20211101CCHSIORKP
# Original header:
# Changed all fill flags to 9
#code : jjward hyd_to_exchange.pl 
#original files copied from HTML directory: 20010816
#original HYD file: ir06_bhy.txt   Thu Aug 16 11:30:54 2001
#original SUM file: ir06_bsu.txt   Mon Mar 26 15:00:26 2001
EXPOCODE,SECT_ID,STNNBR,CASTNO,SAMPNO,BTLNBR,BTLNBR_FLAG_W,DATE,TIME,LATITUDE,LONGITUDE,DEPTH,CTDPRS,CTDTMP,CTDSAL,CTDSAL_FLAG_W,SALNTY,SALNTY_FLAG_W,CTDOXY,CTDOXY_FLAG_W,OXYGEN,OXYGEN_FLAG_W,SILCAT,SILCAT_FLAG_W,NITRAT,NITRAT_FLAG_W,PHSPHT,PHSPHT_FLAG_W
,,,,,,,,,,,METERS,DBAR,ITS-90,PSS-78,,PSS-78,,UMOL/KG,,UMOL/KG,,UMOL/KG,,UMOL/KG,,UMOL/KG,
 09FA9508_1,      IR6_4,       1,          1,          7,          7,2,19950914,       0114,   -28.9550,   113.3690,       1484,   782.0,   4.8450,  34.4020,2,  34.4040,2,-999.0000,5,  -999.0,9, -999.00,9, -999.00,9, -999.00,9
 09FA9508_1,      IR6_4,       1,          1,          9,          9,2,19950914,       0114,   -28.9550,   113.3690,       1484,   784.1,   4.8470,  34.4040,2,  34.3982,2,-999.0000,5,  -999.0,9, -999.00,9, -999.00,9, -999.00,9
 09FA9508_1,      IR6_4,       1,          1,          8,          8,2,19950914,       0114,   -28.9550,   113.3690,       1484,   784.1,   4.8470,  34.4040,2,  34.3982,2,-999.0000,5,  -999.0,9, -999.00,9, -999.00,9, -999.00,9
 09FA9508_1,      IR6_4,       1,          1,          2,          2,2,19950914,       0114,   -28.9550,   113.3690,       1484,   784.1,   4.8470,  34.4040,2,  34.4139,2,-999.0000,5,  -999.0,9, -999.00,9, -999.00,9, -999.00,9
 09FA9508_1,      IR6_4,       1,          1,         10,         10,2,19950914,       0114,   -28.9550,   113.3690,       1484,   786.1,   4.8590,  34.4050,2,  34.4065,2,-999.0000,5,  -999.0,9, -999.00,9, -999.00,9, -999.00,9
 09FA9508_1,      IR6_4,       1,          1,         11,         11,2,19950914,       0114,   -28.9550,   113.3690,       1484,   786.8,   4.8440,  34.4050,2,  34.4015,2,-999.0000,5,  -999.0,9, -999.00,9, -999.00,9, -999.00,9
 09FA9508_1,      IR6_4,       1,          1,          4,          4,2,19950914,       0114,   -28.9550,   113.3690,       1484,   786.8,   4.8440,  34.4050,2,  34.3999,2,-999.0000,5,  -999.0,9, -999.00,9, -999.00,9, -999.00,9
 09FA9508_1,      IR6_4,       1,          1,          3,          3,2,19950914,       0114,   -28.9550,   113.3690,       1484,   786.8,   4.8440,  34.4050,2,  34.4034,2,-999.0000,5,  -999.0,9, -999.00,9, -999.00,9, -999.00,9
 09FA9508_1,      IR6_4,       1,          1,          1,          1,2,19950914,       0114,   -28.9550,   113.3690,       1484,   786.8,   4.8440,  34.4050,2,  34.4307,2,-999.0000,5,  -999.0,9, -999.00,9, -999.00,9, -999.00,9
 09FA9508_1,      IR6_4,       1,          1,          5,          5,2,19950914,       0114,   -28.9550,   113.3690,       1484,   790.2,   4.9230,  34.4150,2,  34.4007,2,-999.0000,5,  -999.0,9, -999.00,9, -999.00,9, -999.00,9
 09FA9508_1,      IR6_4,       1,          1,         17,         17,2,19950914,       0114,   -28.9550,   113.3690,       1484,   791.4,   4.9410,  34.4180,2,  34.4197,2,-999.0000,5,  -999.0,9, -999.00,9, -999.00,9, -999.00,9
 09FA9508_1,      IR6_4,       1,          1,         24,         24,2,19950914,       0114,   -28.9550,   113.3690,       1484,   792.9,   4.9540,  34.4210,2,  34.4370,2,-999.0000,5,  -999.0,9, -999.00,9, -999.00,9, -999.00,9
 09FA9508_1,      IR6_4,       1,          1,         16,         16,2,19950914,       0114,   -28.9550,   113.3690,       1484,   792.9,   4.9540,  34.4210,2,  34.4197,2,-999.0000,5,  -999.0,9, -999.00,9, -999.00,9, -999.00,9
 09FA9508_1,      IR6_4,       1,          1,         15,         15,2,19950914,       0114,   -28.9550,   113.3690,       1484,   792.9,   4.9540,  34.4210,2,  34.4479,2,-999.0000,5,  -999.0,9, -999.00,9, -999.00,9, -999.00,9
 09FA9508_1,      IR6_4,       1,          1,         14,         14,2,19950914,       0114,   -28.9550,   113.3690,       1484,   792.9,   4.9540,  34.4210,2,  34.4087,2,-999.0000,5,  -999.0,9, -999.00,9, -999.00,9, -999.00,9
 09FA9508_1,      IR6_4,       1,          1,         13,         13,2,19950914,       0114,   -28.9550,   113.3690,       1484,   792.9,   4.9540,  34.4210,2,  34.4087,2,-999.0000,5,  -999.0,9, -999.00,9, -999.00,9, -999.00,9
 09FA9508_1,      IR6_4,       1,          1,         12,         12,2,19950914,       0114,   -28.9550,   113.3690,       1484,   792.9,   4.9540,  34.4210,2,  34.4090,2,-999.0000,5,  -999.0,9, -999.00,9, -999.00,9, -999.00,9
 09FA9508_1,      IR6_4,       1,          1,         18,         18,2,19950914,       0114,   -28.9550,   113.3690,       1484,   807.1,   4.8980,  34.4400,2,  34.4209,2,-999.0000,5,  -999.0,9, -999.00,9, -999.00,9, -999.00,9
 09FA9508_1,      IR6_4,       1,          1,         23,         23,2,19950914,       0114,   -28.9550,   113.3690,       1484,   807.8,   4.8650,  34.4370,2,  34.4377,2,-999.0000,5,  -999.0,9, -999.00,9, -999.00,9, -999.00,9
 09FA9508_1,      IR6_4,       1,          1,         19,         19,2,19950914,       0114,   -28.9550,   113.3690,       1484,   809.4,   4.8620,  34.4370,2,  34.4409,2,-999.0000,5,  -999.0,9, -999.00,9, -999.00,9, -999.00,9
 09FA9508_1,      IR6_4,       1,          1,         22,         22,2,19950914,       0114,   -28.9550,   113.3690,       1484,   810.9,   4.8670,  34.4380,2,  34.4452,2,-999.0000,5,  -999.0,9, -999.00,9, -999.00,9, -999.00,9
 09FA9508_1,      IR6_4,       1,          1,         21,         21,2,19950914,       0114,   -28.9550,   113.3690,       1484,   810.9,   4.8670,  34.4380,2,  34.4527,2,-999.0000,5,  -999.0,9, -999.00,9, -999.00,9, -999.00,9
 09FA9508_1,      IR6_4,       1,          1,         20,         20,2,19950914,       0114,   -28.9550,   113.3690,       1484,   810.9,   4.8670,  34.4380,2,  34.4617,2,-999.0000,5,  -999.0,9, -999.00,9, -999.00,9, -999.00,9
 09FA9508_1,      IR6_4,       2,          1,         24,         24,2,19950915,       0826,   -25.8368,   111.3773,       1487,   674.8,   5.1180,  34.4590,2,  34.4641,2,-999.0000,5,  -999.0,9, -999.00,9, -999.00,9, -999.00,9
 09FA9508_1,      IR6_4,       2,          1,         23,         23,2,19950915,       0826,   -25.8368,   111.3773,       1487,   674.8,   5.1180,  34.4590,2,  34.4625,2,-999.0000,5,  -999.0,9, -999.00,9, -999.00,9, -999.00,9
 09FA9508_1,      IR6_4,       2,          1,         22,         22,2,19950915,       0826,   -25.8368,   111.3773,       1487,   674.8,   5.1180,  34.4590,2,  34.4625,2,-999.0000,5,  -999.0,9, -999.00,9, -999.00,9, -999.00,9
 09FA9508_1,      IR6_4,       2,          1,         21,         21,2,19950915,       0826,   -25.8368,   111.3773,       1487,   674.8,   5.1180,  34.4590,2,  34.4622,2,-999.0000,5,  -999.0,9, -999.00,9, -999.00,9, -999.00,9
 09FA9508_1,      IR6_4,       2,          1,         20,         20,2,19950915,       0826,   -25.8368,   111.3773,       1487,   674.8,   5.1180,  34.4590,2,  34.4716,2,-999.0000,5,  -999.0,9, -999.00,9, -999.00,9, -999.00,9
 09FA9508_1,      IR6_4,       2,          1,         19,         19,2,19950915,       0826,   -25.8368,   111.3773,       1487,   674.8,   5.1180,  34.4590,2,  34.4610,2,-999.0000,5,  -999.0,9, -999.00,9, -999.00,9, -999.00,9
 09FA9508_1,      IR6_4,       2,          1,         18,         18,2,19950915,       0826,   -25.8368,   111.3773,       1487,   674.8,   5.1180,  34.4590,2,  34.4676,2,-999.0000,5,  -999.0,9, -999.00,9, -999.00,9, -999.00,9
 09FA9508_1,      IR6_4,       2,          1,         17,         17,2,19950915,       0826,   -25.8368,   111.3773,       1487,   674.8,   5.1180,  34.4590,2,  34.4676,2,-999.0000,5,  -999.0,9, -999.00,9, -999.00,9, -999.00,9
 09FA9508_1,      IR6_4,       2,          1,         16,         16,2,19950915,       0826,   -25.8368,   111.3773,       1487,   674.8,   5.1180,  34.4590,2,  34.4751,2,-999.0000,5,  -999.0,9, -999.00,9, -999.00,9, -999.00,9
 09FA9508_1,      IR6_4,       2,          1,         15,         15,2,19950915,       0826,   -25.8368,   111.3773,       1487,   674.8,   5.1180,  34.4590,2,  34.4943,2,-999.0000,5,  -999.0,9, -999.00,9, -999.00,9, -999.00,9
 09FA9508_1,      IR6_4,       2,          1,         14,         14,2,19950915,       0826,   -25.8368,   111.3773,       1487,   674.8,   5.1180,  34.4590,2,  34.4751,2,-999.0000,5,  -999.0,9, -999.00,9, -999.00,9, -999.00,9
 09FA9508_1,      IR6_4,       2,          1,         13,         13,2,19950915,       0826,   -25.8368,   111.3773,       1487,   674.8,   5.1180,  34.4590,2,  34.4770,2,-999.0000,5,  -999.0,9, -999.00,9, -999.00,9, -999.00,9
 09FA9508_1,      IR6_4,       2,          1,         12,         12,2,19950915,       0826,   -25.8368,   111.3773,       1487,   674.8,   5.1180,  34.4590,2,  34.4716,2,-999.0000,5,  -999.0,9, -999.00,9, -999.00,9, -999.00,9
 09FA9508_1,      IR6_4,       2,          1,         11,         11,2,19950915,       0826,   -25.8368,   111.3773,       1487,   674.8,   5.1180,  34.4590,2,  34.4688,2,-999.0000,5,  -999.0,9, -999.00,9, -999.00,9, -999.00,9
 09FA9508_1,      IR6_4,       2,          1,         10,         10,2,19950915,       0826,   -25.8368,   111.3773,       1487,   674.8,   5.1180,  34.4590,2,  34.4770,2,-999.0000,5,  -999.0,9, -999.00,9, -999.00,9, -999.00,9
 09FA9508_1,      IR6_4,       2,          1,          9,          9,2,19950915,       0826,   -25.8368,   111.3773,       1487,   674.8,   5.1180,  34.4590,2,  34.4790,2,-999.0000,5,  -999.0,9, -999.00,9, -999.00,9, -999.00,9
 09FA9508_1,      IR6_4,       2,          1,          8,          8,2,19950915,       0826,   -25.8368,   111.3773,       1487,   674.8,   5.1180,  34.4590,2,  34.4731,2,-999.0000,5,  -999.0,9, -999.00,9, -999.00,9, -999.00,9
 09FA9508_1,      IR6_4,       2,          1,          7,          7,2,19950915,       0826,   -25.8368,   111.3773,       1487,   674.8,   5.1180,  34.4590,2,  34.4661,2,-999.0000,5,  -999.0,9, -999.00,9, -999.00,9, -999.00,9
 09FA9508_1,      IR6_4,       2,          1,          5,          5,2,19950915,       0826,   -25.8368,   111.3773,       1487,   674.8,   5.1180,  34.4590,2,  34.4766,2,-999.0000,5,  -999.0,9, -999.00,9, -999.00,9, -999.00,9
 09FA9508_1,      IR6_4,       2,          1,          4,          4,2,19950915,       0826,   -25.8368,   111.3773,       1487,   674.8,   5.1180,  34.4590,2,  34.4876,2,-999.0000,5,  -999.0,9, -999.00,9, -999.00,9, -999.00,9
 09FA9508_1,      IR6_4,       2,          1,          3,          3,2,19950915,       0826,   -25.8368,   111.3773,       1487,   674.8,   5.1180,  34.4590,2,  34.4880,2,-999.0000,5,  -999.0,9, -999.00,9, -999.00,9, -999.00,9
 09FA9508_1,      IR6_4,       2,          1,          2,          2,2,19950915,       0826,   -25.8368,   111.3773,       1487,   674.8,   5.1180,  34.4590,2,  34.4947,2,-999.0000,5,  -999.0,9, -999.00,9, -999.00,9, -999.00,9
 09FA9508_1,      IR6_4,       2,          1,          1,          1,2,19950915,       0826,   -25.8368,   111.3773,       1487,   674.8,   5.1180,  34.4590,2,  34.4904,2,-999.0000,5,  -999.0,9, -999.00,9, -999.00,9, -999.00,9
 09FA9508_1,      IR6_4,       3,          1,         24,         24,2,19950915,       1825,   -24.3767,   110.6182,       3182,  2898.6,   1.6570,  34.7270,2,  34.7232,2,-999.0000,5,  -999.0,9, -999.00,9, -999.00,9, -999.00,9
 09FA9508_1,      IR6_4,       3,          1,         23,         23,2,19950915,       1825,   -24.3767,   110.6182,       3182,  2898.6,   1.6570,  34.7270,2,  34.7236,2,-999.0000,5,  -999.0,9, -999.00,9, -999.00,9, -999.00,9
 09FA9508_1,      IR6_4,       3,          1,         22,         22,2,19950915,       1825,   -24.3767,   110.6182,       3182,  2898.6,   1.6570,  34.7270,2,  34.7255,2,-999.0000,5,  -999.0,9, -999.00,9, -999.00,9, -999.00,9
 09FA9508_1,      IR6_4,       3,          1,         21,         21,2,19950915,       1825,   -24.3767,   110.6182,       3182,  2898.6,   1.6570,  34.7270,2,  34.7219,2,-999.0000,5,  -999.0,9, -999.00,9, -999.00,9, -999.00,9
 09FA9508_1,      IR6_4,       3,          1,         19,         19,2,19950915,       1825,   -24.3767,   110.6182,       3182,  2898.6,   1.6570,  34.7270,2,  34.7227,2,-999.0000,5,  -999.0,9, -999.00,9, -999.00,9, -999.00,9
 09FA9508_1,      IR6_4,       3,          1,         18,         18,2,19950915,       1825,   -24.3767,   110.6182,       3182,  2898.6,   1.6570,  34.7270,2,  34.7301,2,-999.0000,5,  -999.0,9, -999.00,9, -999.00,9, -999.00,9
 09FA9508_1,      IR6_4,       3,          1,         17,         17,2,19950915,       1825,   -24.3767,   110.6182,       3182,  2898.6,   1.6570,  34.7270,2,  34.7238,2,-999.0000,5,  -999.0,9, -999.00,9, -999.00,9, -999.00,9
 09FA9508_1,      IR6_4,       3,          1,         16,         16,2,19950915,       1825,   -24.3767,   110.6182,       3182,  2898.6,   1.6570,  34.7270,2,  34.7230,2,-999.0000,5,  -999.0,9, -999.00,9, -999.00,9, -999.00,9
 09FA9508_1,      IR6_4,       3,          1,         15,         15,2,19950915,       1825,   -24.3767,   110.6182,       3182,  2898.6,   1.6570,  34.7270,2,  34.7265,2,-999.0000,5,  -999.0,9, -999.00,9, -999.00,9, -999.00,9
 09FA9508_1,      IR6_4,       3,          1,         14,         14,2,19950915,       1825,   -24.3767,   110.6182,       3182,  2898.6,   1.6570,  34.7270,2,  34.7206,2,-999.0000,5,  -999.0,9, -999.00,9, -999.00,9, -999.00,9
 09FA9508_1,      IR6_4,       3,          1,         13,         13,2,19950915,       1825,   -24.3767,   110.6182,       3182,  2898.6,   1.6570,  34.7270,2,  34.7225,2,-999.0000,5,  -999.0,9, -999.00,9, -999.00,9, -999.00,9
 09FA9508_1,      IR6_4,       3,          1,         12,         12,2,19950915,       1825,   -24.3767,   110.6182,       3182,  2898.6,   1.6570,  34.7270,2,  34.7247,2,-999.0000,5,  -999.0,9, -999.00,9, -999.00,9, -999.00,9
 09FA9508_1,      IR6_4,       3,          1,         11,         11,2,19950915,       1825,   -24.3767,   110.6182,       3182,  2898.6,   1.6570,  34.7270,2,  34.7227,2,-999.0000,5,  -999.0,9, -999.00,9, -999.00,9, -999.00,9
 09FA9508_1,      IR6_4,       3,          1,         10,         10,2,19950915,       1825,   -24.3767,   110.6182,       3182,  2898.6,   1.6570,  34.7270,2,  34.7207,2,-999.0000,5,  -999.0,9, -999.00,9, -999.00,9, -999.00,9
 09FA9508_1,      IR6_4,       3,          1,          9,          9,2,19950915,       1825,   -24.3767,   110.6182,       3182,  2898.6,   1.6570,  34.7270,2,  34.7222,2,-999.0000,5,  -999.0,9, -999.00,9, -999.00,9, -999.00,9
 09FA9508_1,      IR6_4,       3,          1,          8,          8,2,19950915,       1825,   -24.3767,   110.6182,       3182,  2898.6,   1.6570,  34.7270,2,  34.7206,2,-999.0000,5,  -999.0,9, -999.00,9, -999.00,9, -999.00,9
 09FA9508_1,      IR6_4,       3,          1,          7,          7,2,19950915,       1825,   -24.3767,   110.6182,       3182,  2898.6,   1.6570,  34.7270,2,  34.7209,2,-999.0000,5,  -999.0,9, -999.00,9, -999.00,9, -999.00,9
 09FA9508_1,      IR6_4,       3,          1,          6,          6,2,19950915,       1825,   -24.3767,   110.6182,       3182,  2900.8,   1.6560,  34.7260,2,  34.7224,2,-999.0000,5,  -999.0,9, -999.00,9, -999.00,9, -999.00,9
 09FA9508_1,      IR6_4,       3,          1,          5,          5,2,19950915,       1825,   -24.3767,   110.6182,       3182,  2904.3,   1.6510,  34.7260,2,  34.7227,2,-999.0000,5,  -999.0,9, -999.00,9, -999.00,9, -999.00,9
 09FA9508_1,      IR6_4,       3,          1,          4,          4,2,19950915,       1825,   -24.3767,   110.6182,       3182,  2904.3,   1.6510,  34.7260,2,  34.7215,2,-999.0000,5,  -999.0,9, -999.00,9, -999.00,9, -999.00,9
 09FA9508_1,      IR6_4,       3,          1,          3,          3,2,19950915,       1825,   -24.3767,   110.6182,       3182,  2904.3,   1.6510,  34.7260,2,  34.7218,2,-999.0000,5,  -999.0,9, -999.00,9, -999.00,9, -999.00,9
 09FA9508_1,      IR6_4,       3,          1,          2,          2,2,19950915,       1825,   -24.3767,   110.6182,       3182,  2908.9,   1.6480,  34.7270,2,  34.7336,2,-999.0000,5,  -999.0,9, -999.00,9, -999.00,9, -999.00,9
 09FA9508_1,      IR6_4,       3,          1,          1,          1,2,19950915,       1825,   -24.3767,   110.6182,       3182,  2908.9,   1.6480,  34.7270,2,  34.7217,2,-999.0000,5,  -999.0,9, -999.00,9, -999.00,9, -999.00,9
 09FA9508_1,      IR6_4,       4,          1,         17,         24,2,19950915,       2235,   -24.4163,   110.9423,       2010,     1.9,  20.2030,  35.7920,2,  35.7888,2,-999.0000,5,   223.2,2, -999.00,9, -999.00,9, -999.00,9
 09FA9508_1,      IR6_4,       4,          1,         16,         29,2,19950915,       2235,   -24.4163,   110.9423,       2010,    48.2,  20.2180,  35.7930,2,  35.7889,2,-999.0000,5,   226.1,2, -999.00,9, -999.00,9, -999.00,9
 09FA9508_1,      IR6_4,       4,          1,         15,         15,2,19950915,       2235,   -24.4163,   110.9423,       2010,    98.8,  20.2200,  35.7960,2,  35.7945,2,-999.0000,5,   223.4,2, -999.00,9, -999.00,9, -999.00,9
 09FA9508_1,      IR6_4,       4,          1,         14,         25,2,19950915,       2235,   -24.4163,   110.9423,       2010,   198.2,  17.8780,  35.8980,2,  35.8959,2,-999.0000,5,   215.9,2, -999.00,9, -999.00,9, -999.00,9
 09FA9508_1,      IR6_4,       4,          1,         13,         13,2,19950915,       2235,   -24.4163,   110.9423,       2010,   299.5,  13.4420,  35.3490,2,  35.3522,2,-999.0000,5,  -999.0,9, -999.00,9, -999.00,9, -999.00,9
 09FA9508_1,      IR6_4,       4,          1,         12,         12,2,19950915,       2235,   -24.4163,   110.9423,       2010,   395.5,  10.9380,  34.9530,2,  34.9505,2,-999.0000,5,   238.3,2, -999.00,9, -999.00,9, -999.00,9
 09FA9508_1,      IR6_4,       4,          1,         11,         11,2,19950915,       2235,   -24.4163,   110.9423,       2010,   497.4,   9.8330,  34.7700,2,  34.7726,2,-999.0000,5,   239.6,2, -999.00,9, -999.00,9, -999.00,9
 09FA9508_1,      IR6_4,       4,          1,         10,         31,2,19950915,       2235,   -24.4163,   110.9423,       2010,   596.2,   8.8260,  34.6260,2,  34.6315,2,-999.0000,5,   230.1,2, -999.00,9, -999.00,9, -999.00,9
 09FA9508_1,      IR6_4,       4,          1,          9,          9,2,19950915,       2235,   -24.4163,   110.9423,       2010,   697.5,   7.2270,  34.4970,2,  34.5013,2,-999.0000,5,   201.1,2, -999.00,9, -999.00,9, -999.00,9
 09FA9508_1,      IR6_4,       4,          1,          8,          8,2,19950915,       2235,   -24.4163,   110.9423,       2010,   796.7,   5.7110,  34.4880,2,  34.4775,2,-999.0000,5,   165.0,2, -999.00,9, -999.00,9, -999.00,9
 09FA9508_1,      IR6_4,       4,          1,          7,         28,2,19950915,       2235,   -24.4163,   110.9423,       2010,   896.4,   5.1360,  34.5410,2,  34.5426,2,-999.0000,5,   131.2,2, -999.00,9, -999.00,9, -999.00,9
 09FA9508_1,      IR6_4,       4,          1,          5,          5,2,19950915,       2235,   -24.4163,   110.9423,       2010,  1195.7,   4.2020,  34.6130,2,  34.6133,2,-999.0000,5,   116.7,2, -999.00,9, -999.00,9, -999.00,9
 09FA9508_1,      IR6_4,       4,          1,          4,          4,2,19950915,       2235,   -24.4163,   110.9423,       2010,  1395.9,   3.7020,  34.6440,2,  34.6427,2,-999.0000,5,   120.8,2, -999.00,9, -999.00,9, -999.00,9
 09FA9508_1,      IR6_4,       4,          1,          3,          3,2,19950915,       2235,   -24.4163,   110.9423,       2010,  1596.0,   3.0910,  34.6760,2,  34.6753,2,-999.0000,5,   134.0,2, -999.00,9, -999.00,9, -999.00,9
 09FA9508_1,      IR6_4,       4,          1,          2,          2,2,19950915,       2235,   -24.4163,   110.9423,       2010,  1799.8,   2.7030,  34.7000,2,  34.7016,2,-999.0000,5,   142.4,2, -999.00,9, -999.00,9, -999.00,9
 09FA9508_1,      IR6_4,       4,          1,          1,          1,2,19950915,       2235,   -24.4163,   110.9423,       2010,  1999.0,   2.3570,  34.7180,2,  34.7185,2,-999.0000,5,   150.2,2, -999.00,9, -999.00,9, -999.00,9