BOTTLE,20211101CCHSIORKP
EXPOCODE,SECT_ID,STNNBR,CASTNO,SAMPNO,BTLNBR,BTLNBR_FLAG_W,DATE,TIME,LATITUDE,LONGITUDE,DEPTH,CTDPRS,CTDTMP,CTDSAL,CTDSAL_FLAG_W,SALNTY,SALNTY_FLAG_W,CTDOXY,CTDOXY_FLAG_W,OXYGEN,OXYGEN_FLAG_W,SILCAT,SILCAT_FLAG_W,NITRAT,NITRAT_FLAG_W,PHSPHT,PHSPHT_FLAG_W
,,,,,,,,,,,METERS,DBAR,ITS-90,PSS-78,,PSS-78,,UMOL/KG,,UMOL/KG,,UMOL/KG,,UMOL/KG,,UMOL/KG,
 09FA9508_1,      IR6_4,      36,          1,         24,         24,2,19950921,       1221,   -17.2312,   108.1743,       5584,     2.2,  23.8190,  34.8360,2,  34.8404,2,-999.0000,5,   213.3,2,    5.08,2,    0.00,2,    0.14,2
 09FA9508_1,      IR6_4,      36,          1,         23,          8,2,19950921,       1221,   -17.2312,   108.1743,       5584,    48.4,  23.6950,  34.8460,2,  34.8428,2,-999.0000,5,   213.3,2,    5.08,2,    0.00,2,    0.14,2
 09FA9508_1,      IR6_4,      36,          1,         22,         13,2,19950921,       1221,   -17.2312,   108.1743,       5584,    98.2,  22.7160,  35.1700,2,  35.1691,2,-999.0000,5,   194.8,2,    6.79,2,    2.54,2,    0.28,2
 09FA9508_1,      IR6_4,      36,          1,         21,          9,2,19950921,       1221,   -17.2312,   108.1743,       5584,   178.5,  19.3850,  35.3290,2,  35.3330,2,-999.0000,5,   150.1,2,   13.07,2,    9.26,2,    0.71,2
 09FA9508_1,      IR6_4,      36,          1,         20,         25,2,19950921,       1221,   -17.2312,   108.1743,       5584,   278.9,  16.1060,  35.5850,2,  35.5484,2,-999.0000,5,   181.3,2,   10.99,2,    7.88,2,    0.66,2
 09FA9508_1,      IR6_4,      36,          1,         19,          6,2,19950921,       1221,   -17.2312,   108.1743,       5584,   377.3,  12.1270,  35.1040,2,  35.1071,2,-999.0000,5,   197.6,2,   12.66,2,   12.54,2,    0.96,2
 09FA9508_1,      IR6_4,      36,          1,         18,         21,2,19950921,       1221,   -17.2312,   108.1743,       5584,   475.5,   9.4310,  34.7230,2,  34.7256,2,-999.0000,5,   223.2,2,    9.41,2,   17.06,2,    1.23,2
 09FA9508_1,      IR6_4,      36,          1,         17,          4,2,19950921,       1221,   -17.2312,   108.1743,       5584,   597.8,   7.2500,  34.5920,2,  34.5928,2,-999.0000,5,   145.1,2,   41.91,2,   29.47,2,    2.10,2
 09FA9508_1,      IR6_4,      36,          1,         16,         35,2,19950921,       1221,   -17.2312,   108.1743,       5584,   677.0,   6.4630,  34.5990,2,  34.6016,2,-999.0000,5,   116.8,2,   61.64,2,   33.15,2,    2.37,2
 09FA9508_1,      IR6_4,      36,          1,         15,         28,2,19950921,       1221,   -17.2312,   108.1743,       5584,   756.7,   6.0850,  34.6410,2,  34.6429,2,-999.0000,5,    99.7,2,   74.07,2,   35.34,2,    2.53,2
 09FA9508_1,      IR6_4,      36,          1,         13,         29,2,19950921,       1221,   -17.2312,   108.1743,       5584,   997.7,   5.0660,  34.6460,2,  34.6391,2,-999.0000,5,    95.6,2,   97.58,2,   36.60,2,    2.64,2
 09FA9508_1,      IR6_4,      36,          1,         12,          7,2,19950921,       1221,   -17.2312,   108.1743,       5584,  1197.1,   4.4010,  34.6550,2,  34.6579,2,-999.0000,5,   104.0,2,  103.63,2,   36.75,2,    2.65,2
 09FA9508_1,      IR6_4,      36,          1,         11,         10,2,19950921,       1221,   -17.2312,   108.1743,       5584,  1395.8,   3.8050,  34.6680,2,  34.6704,2,-999.0000,5,   114.7,2,  108.53,2,   36.60,2,    2.64,2
 09FA9508_1,      IR6_4,      36,          1,          9,         20,2,19950921,       1221,   -17.2312,   108.1743,       5584,  1796.0,   2.8140,  34.7120,2,  34.7147,2,-999.0000,5,   138.6,2,  116.69,2,   35.54,2,    2.55,2
 09FA9508_1,      IR6_4,      36,          1,          8,         18,2,19950921,       1221,   -17.2312,   108.1743,       5584,  1996.5,   2.4600,  34.7260,2,  34.7268,2,-999.0000,5,   143.6,2,  121.67,2,   35.45,2,    2.51,2
 09FA9508_1,      IR6_4,      36,          1,          7,         11,2,19950921,       1221,   -17.2312,   108.1743,       5584,  2497.2,   1.9500,  34.7290,2,  34.7291,2,-999.0000,5,   159.1,2,  121.71,2,   34.77,2,    2.46,2
 09FA9508_1,      IR6_4,      36,          1,          6,         30,2,19950921,       1221,   -17.2312,   108.1743,       5584,  3000.0,   1.6190,  34.7260,2,  34.7270,2,-999.0000,5,   170.9,2,  129.09,2,   34.07,2,    2.43,2
 09FA9508_1,      IR6_4,      36,          1,          5,         27,2,19950921,       1221,   -17.2312,   108.1743,       5584,  3499.0,   1.3610,  34.7200,2,  34.7230,2,-999.0000,5,   182.1,2,  128.99,2,   33.75,2,    2.38,2
 09FA9508_1,      IR6_4,      36,          1,          4,         24,2,19950921,       1221,   -17.2312,   108.1743,       5584,  4001.5,   1.2190,  34.7170,2,  34.7182,2,-999.0000,5,   189.9,2,  133.37,2,   33.45,2,    2.34,2
 09FA9508_1,      IR6_4,      36,          1,          3,          5,2,19950921,       1221,   -17.2312,   108.1743,       5584,  4500.2,   1.1800,  34.7150,2,  34.7158,2,-999.0000,5,   193.3,2,  131.37,2,   33.18,2,    2.33,2
 09FA9508_1,      IR6_4,      36,          1,          2,          3,2,19950921,       1221,   -17.2312,   108.1743,       5584,  5001.1,   1.1700,  34.7130,2,  34.7173,2,-999.0000,5,   196.3,2,  128.24,2,   33.11,2,    2.32,2
 09FA9508_1,      IR6_4,      36,          1,          1,         12,2,19950921,       1221,   -17.2312,   108.1743,       5584,  5689.9,   1.2120,  34.7130,2,  34.7212,3,-999.0000,5,   186.1,3,  127.52,2,   33.24,2,    2.32,2
 09FA9508_1,      IR6_4,      37,          1,         23,          8,2,19950921,       1902,   -16.7558,   108.0423,       5651,    50.5,  23.7050,  34.8880,2,  34.8923,2,-999.0000,5,   212.1,2,    5.44,2, -999.00,9,    0.21,2
 09FA9508_1,      IR6_4,      37,          1,         22,         13,2,19950921,       1902,   -16.7558,   108.0423,       5651,    99.1,  23.3920,  35.1290,2,  35.1292,2,-999.0000,5,   199.5,2,    5.36,2,    0.96,2,    0.20,2
 09FA9508_1,      IR6_4,      37,          1,         21,          9,2,19950921,       1902,   -16.7558,   108.0423,       5651,   147.8,  20.5370,  35.1690,2,  35.1679,2,-999.0000,5,   146.2,2,   12.15,2,    8.55,2,    0.69,2
 09FA9508_1,      IR6_4,      37,          1,         20,         25,2,19950921,       1902,   -16.7558,   108.0423,       5651,   199.0,  18.6950,  35.6650,2,  35.6748,2,-999.0000,5,   176.2,2,    8.43,2,    5.54,2,    0.48,2
 09FA9508_1,      IR6_4,      37,          1,         19,          6,2,19950921,       1902,   -16.7558,   108.0423,       5651,   248.1,  16.3900,  35.6270,2,  35.6390,2,-999.0000,5,   189.8,2,    8.26,2,    6.07,2,    0.54,2
 09FA9508_1,      IR6_4,      37,          1,         18,         21,2,19950921,       1902,   -16.7558,   108.0423,       5651,   298.0,  14.0080,  35.3450,2,  35.3508,2,-999.0000,5,   186.9,2,   11.31,2,    9.96,2,    0.80,2
 09FA9508_1,      IR6_4,      37,          1,         17,          4,2,19950921,       1902,   -16.7558,   108.0423,       5651,   347.6,  13.0610,  35.2620,2,  35.2701,2,-999.0000,5,   208.9,2,    7.53,2,    9.21,2,    0.75,2
 09FA9508_1,      IR6_4,      37,          1,         16,         35,2,19950921,       1902,   -16.7558,   108.0423,       5651,   398.4,  11.5060,  35.0350,2,  35.0422,2,-999.0000,5,   217.8,2,    7.30,2,   11.59,2,    0.89,2
 09FA9508_1,      IR6_4,      37,          1,         15,         28,2,19950921,       1902,   -16.7558,   108.0423,       5651,   497.4,   9.1320,  34.7020,2,  34.7057,2,-999.0000,5,   199.6,2,   14.13,2,   19.60,2,    1.40,2
 09FA9508_1,      IR6_4,      37,          1,         13,         29,2,19950921,       1902,   -16.7558,   108.0423,       5651,   697.9,   6.6020,  34.6450,2,  34.6476,2,-999.0000,5,   100.1,2,   64.44,2,   33.57,2,    2.44,2
 09FA9508_1,      IR6_4,      37,          1,         12,          7,2,19950921,       1902,   -16.7558,   108.0423,       5651,   799.2,   6.0750,  34.6650,2,  34.6706,2,-999.0000,5,    87.7,2,   78.27,2,   35.64,2,    2.54,2
 09FA9508_1,      IR6_4,      37,          1,         11,         10,2,19950921,       1902,   -16.7558,   108.0423,       5651,   897.1,   5.6560,  34.6570,2,  34.6623,2,-999.0000,5,    88.4,2,   87.30,2,   36.09,2,    2.60,2
 09FA9508_1,      IR6_4,      37,          1,         10,         19,2,19950921,       1902,   -16.7558,   108.0423,       5651,  1248.3,   4.3550,  34.6470,2,  34.6529,2,-999.0000,5,   100.5,2,  103.20,2,   36.47,2,    2.63,2
 09FA9508_1,      IR6_4,      37,          1,          9,         20,2,19950921,       1902,   -16.7558,   108.0423,       5651,  1498.5,   3.5750,  34.6720,2,  34.6744,2,-999.0000,5,   116.8,2,  108.05,2,   36.05,2,    2.58,2
 09FA9508_1,      IR6_4,      37,          1,          8,         18,2,19950921,       1902,   -16.7558,   108.0423,       5651,  1997.2,   2.5250,  34.7220,2,  34.7243,2,-999.0000,5,   139.4,2,  121.21,2,   35.33,2,    2.50,2
 09FA9508_1,      IR6_4,      37,          1,          7,         11,2,19950921,       1902,   -16.7558,   108.0423,       5651,  2499.4,   1.9910,  34.7290,2,  34.7325,2,-999.0000,5,   154.3,2,  127.96,2,   34.75,2,    2.44,2
 09FA9508_1,      IR6_4,      37,          1,          6,         30,2,19950921,       1902,   -16.7558,   108.0423,       5651,  2998.8,   1.6200,  34.7240,2,  34.7266,2,-999.0000,5,   166.2,2,  126.85,2,   34.06,2,    2.40,2
 09FA9508_1,      IR6_4,      37,          1,          5,         27,2,19950921,       1902,   -16.7558,   108.0423,       5651,  3500.9,   1.3320,  34.7200,2,  34.7242,2,-999.0000,5,   180.8,2,  132.51,2,   33.72,2,    2.37,2
 09FA9508_1,      IR6_4,      37,          1,          4,         24,2,19950921,       1902,   -16.7558,   108.0423,       5651,  4000.5,   1.2110,  34.7160,2,  34.7202,2,-999.0000,5,   188.2,2,  132.89,2,   33.27,2,    2.32,2
 09FA9508_1,      IR6_4,      37,          1,          3,          5,2,19950921,       1902,   -16.7558,   108.0423,       5651,  4498.6,   1.1720,  34.7150,2,  34.7182,2,-999.0000,5,   187.9,2,  130.77,2,   33.10,2,    2.34,2
 09FA9508_1,      IR6_4,      37,          1,          2,          3,2,19950921,       1902,   -16.7558,   108.0423,       5651,  5006.2,   1.1720,  34.7140,2,  34.7229,3,-999.0000,5,   194.0,2,  129.99,2,   33.11,2,    2.29,2
 09FA9508_1,      IR6_4,      37,          1,          1,         12,2,19950921,       1902,   -16.7558,   108.0423,       5651,  5805.2,   1.2380,  34.7120,2,  34.7186,2,-999.0000,5,   181.8,3,  125.73,3,   33.13,2,    2.33,2
 09FA9508_1,      IR6_4,      38,          1,         24,         24,2,19950922,       0214,   -16.2758,   107.8560,       5504,     1.8,  24.3850,  34.6400,2,  34.6439,2,-999.0000,5,   212.0,2,    4.56,2,    1.86,2,    0.13,2
 09FA9508_1,      IR6_4,      38,          1,         23,          8,2,19950922,       0214,   -16.2758,   107.8560,       5504,    49.7,  23.8790,  34.7880,2,  34.7904,2,-999.0000,5,   209.7,2,    4.61,2,    1.91,2,    0.14,2
 09FA9508_1,      IR6_4,      38,          1,         22,         13,2,19950922,       0214,   -16.2758,   107.8560,       5504,    98.6,  22.3500,  34.9780,2,  34.9838,2,-999.0000,5,   159.4,2,    9.61,2,    7.07,2,    0.53,2
 09FA9508_1,      IR6_4,      38,          1,         21,          9,2,19950922,       0214,   -16.2758,   107.8560,       5504,   148.2,  20.4680,  35.4060,2,  35.4094,2,-999.0000,5,   163.4,2,    8.97,2,    6.27,2,    0.51,2
 09FA9508_1,      IR6_4,      38,          1,         20,         25,2,19950922,       0214,   -16.2758,   107.8560,       5504,   197.3,  17.9850,  35.4040,2,  35.4357,2,-999.0000,5,   155.6,2,   12.56,2,    9.71,2,    0.72,2
 09FA9508_1,      IR6_4,      38,          1,         19,          6,2,19950922,       0214,   -16.2758,   107.8560,       5504,   248.1,  16.0220,  35.5030,2,  35.5051,2,-999.0000,5,   172.9,2,   11.20,2,    9.24,2,    0.71,2
 09FA9508_1,      IR6_4,      38,          1,         18,         21,2,19950922,       0214,   -16.2758,   107.8560,       5504,   297.1,  13.8670,  35.2200,2,  35.2221,2,-999.0000,5,   163.2,2,   16.86,2,   13.98,2,    1.03,2
 09FA9508_1,      IR6_4,      38,          1,         17,          4,2,19950922,       0214,   -16.2758,   107.8560,       5504,   396.5,  10.4800,  34.8750,2,  34.8763,2,-999.0000,5,   208.4,2,   10.39,2,   15.86,2,    1.13,2
 09FA9508_1,      IR6_4,      38,          1,         16,         35,2,19950922,       0214,   -16.2758,   107.8560,       5504,   496.3,   8.7400,  34.6630,2,  34.6648,2,-999.0000,5,   188.8,2,   17.23,2,   22.26,2,    1.53,2
 09FA9508_1,      IR6_4,      38,          1,         15,         28,2,19950922,       0214,   -16.2758,   107.8560,       5504,   597.0,   7.6020,  34.6360,2,  34.6377,2,-999.0000,5,   121.8,2,   44.47,2,   30.89,2,    2.14,2
 09FA9508_1,      IR6_4,      38,          1,         13,         29,2,19950922,       0214,   -16.2758,   107.8560,       5504,   796.0,   6.2520,  34.6480,2,  34.6498,2,-999.0000,5,    86.0,2,   78.50,2,   36.04,2,    2.55,2
 09FA9508_1,      IR6_4,      38,          1,         12,          7,2,19950922,       0214,   -16.2758,   107.8560,       5504,   896.4,   5.7200,  34.6400,2,  34.6443,2,-999.0000,5,    86.4,2,   87.93,2,   36.53,2,    2.60,2
 09FA9508_1,      IR6_4,      38,          1,         11,         10,2,19950922,       0214,   -16.2758,   107.8560,       5504,   994.2,   5.2120,  34.6350,2,  34.6388,2,-999.0000,5,    89.5,2,   95.71,2,   36.80,2,    2.63,2
 09FA9508_1,      IR6_4,      38,          1,         10,         19,2,19950922,       0214,   -16.2758,   107.8560,       5504,  1244.9,   4.3390,  34.6420,2,  34.6467,2,-999.0000,5,    99.4,2,  105.06,2,   36.89,2,    2.63,2
 09FA9508_1,      IR6_4,      38,          1,          9,         20,2,19950922,       0214,   -16.2758,   107.8560,       5504,  1496.3,   3.6520,  34.6730,2,  34.6719,2,-999.0000,5,   116.7,2,  105.30,2,   36.29,2,    2.63,2
 09FA9508_1,      IR6_4,      38,          1,          8,         18,2,19950922,       0214,   -16.2758,   107.8560,       5504,  1994.0,   2.5160,  34.7230,2,  34.7246,2,-999.0000,5,   141.6,2,  119.10,2,   35.43,2,    2.49,2
 09FA9508_1,      IR6_4,      38,          1,          7,         11,2,19950922,       0214,   -16.2758,   107.8560,       5504,  2496.8,   1.9590,  34.7290,2,  34.7313,2,-999.0000,5,   155.9,2, -999.00,9, -999.00,9, -999.00,9
 09FA9508_1,      IR6_4,      38,          1,          6,         30,2,19950922,       0214,   -16.2758,   107.8560,       5504,  2998.1,   1.6100,  34.7250,2,  34.7270,2,-999.0000,5,   168.8,2,  127.88,2,   32.82,2,    2.36,3
 09FA9508_1,      IR6_4,      38,          1,          5,         27,2,19950922,       0214,   -16.2758,   107.8560,       5504,  3499.3,   1.3410,  34.7200,2,  34.7223,2,-999.0000,5,   180.8,2,  131.51,2,   32.17,2,    2.32,3
 09FA9508_1,      IR6_4,      38,          1,          4,         24,2,19950922,       0214,   -16.2758,   107.8560,       5504,  3997.1,   1.2110,  34.7150,2,  34.7184,2,-999.0000,5,   187.6,2,  132.29,2,   33.03,2,    2.29,2
 09FA9508_1,      IR6_4,      38,          1,          3,          5,2,19950922,       0214,   -16.2758,   107.8560,       5504,  4499.6,   1.1690,  34.7150,2,  34.7172,2,-999.0000,5,   189.4,2,  131.48,2,   32.88,2,    2.26,2
 09FA9508_1,      IR6_4,      38,          1,          2,          3,2,19950922,       0214,   -16.2758,   107.8560,       5504,  4998.3,   1.1730,  34.7130,2,  34.7153,2,-999.0000,5,   193.6,2,  130.11,2,   32.82,2,    2.25,2
 09FA9508_1,      IR6_4,      38,          1,          1,         12,2,19950922,       0214,   -16.2758,   107.8560,       5504,  5658.2,   1.2190,  34.7140,2,  34.7181,3,-999.0000,5,   186.4,3,  127.80,2,   33.12,2,    2.29,3