BOTTLE,20211101CCHSIORKP
EXPOCODE,SECT_ID,STNNBR,CASTNO,SAMPNO,BTLNBR,BTLNBR_FLAG_W,DATE,TIME,LATITUDE,LONGITUDE,DEPTH,CTDPRS,CTDTMP,CTDSAL,CTDSAL_FLAG_W,SALNTY,SALNTY_FLAG_W,CTDOXY,CTDOXY_FLAG_W,OXYGEN,OXYGEN_FLAG_W,SILCAT,SILCAT_FLAG_W,NITRAT,NITRAT_FLAG_W,PHSPHT,PHSPHT_FLAG_W
,,,,,,,,,,,METERS,DBAR,ITS-90,PSS-78,,PSS-78,,UMOL/KG,,UMOL/KG,,UMOL/KG,,UMOL/KG,,UMOL/KG,
 09FA9508_1,      IR6_4,       5,          1,         14,         24,2,19950916,       0223,   -24.4958,   111.2883,       1378,     2.1,  20.5340,  35.6490,2,  35.6512,2,-999.0000,5,   223.4,2, -999.00,9, -999.00,9, -999.00,9
 09FA9508_1,      IR6_4,       5,          1,         13,         13,2,19950916,       0223,   -24.4958,   111.2883,       1378,    49.2,  20.2960,  35.7570,2,  35.7497,2,-999.0000,5,   222.3,2, -999.00,9, -999.00,9, -999.00,9
 09FA9508_1,      IR6_4,       5,          1,         12,         12,2,19950916,       0223,   -24.4958,   111.2883,       1378,    98.2,  20.0470,  35.8280,2,  35.8266,2,-999.0000,5,   213.3,2, -999.00,9, -999.00,9, -999.00,9
 09FA9508_1,      IR6_4,       5,          1,         11,         11,2,19950916,       0223,   -24.4958,   111.2883,       1378,   199.9,  16.8420,  35.7870,2,  35.7912,2,-999.0000,5,   216.7,2, -999.00,9, -999.00,9, -999.00,9
 09FA9508_1,      IR6_4,       5,          1,         10,         31,2,19950916,       0223,   -24.4958,   111.2883,       1378,   294.9,  12.8760,  35.2310,2,  35.2360,2,-999.0000,5,   234.8,2, -999.00,9, -999.00,9, -999.00,9
 09FA9508_1,      IR6_4,       5,          1,          9,          9,2,19950916,       0223,   -24.4958,   111.2883,       1378,   398.6,  10.4970,  34.8710,2,  34.8721,2,-999.0000,5,   240.6,2, -999.00,9, -999.00,9, -999.00,9
 09FA9508_1,      IR6_4,       5,          1,          8,          8,2,19950916,       0223,   -24.4958,   111.2883,       1378,   496.4,   9.4510,  34.7110,2,  34.7104,2,-999.0000,5,   237.0,2, -999.00,9, -999.00,9, -999.00,9
 09FA9508_1,      IR6_4,       5,          1,          7,         28,2,19950916,       0223,   -24.4958,   111.2883,       1378,   596.2,   8.3110,  34.5750,2,  34.5763,2,-999.0000,5,   218.9,2, -999.00,9, -999.00,9, -999.00,9
 09FA9508_1,      IR6_4,       5,          1,          6,          6,2,19950916,       0223,   -24.4958,   111.2883,       1378,   696.8,   6.3070,  34.4540,2,  34.4560,2,-999.0000,5,   191.1,2, -999.00,9, -999.00,9, -999.00,9
 09FA9508_1,      IR6_4,       5,          1,          5,          5,2,19950916,       0223,   -24.4958,   111.2883,       1378,   794.8,   5.4620,  34.5280,2,  34.5281,2,-999.0000,5,   138.9,2, -999.00,9, -999.00,9, -999.00,9
 09FA9508_1,      IR6_4,       5,          1,          4,          4,2,19950916,       0223,   -24.4958,   111.2883,       1378,   895.0,   5.3630,  34.6140,2,  34.6074,2,-999.0000,5,   100.8,2, -999.00,9, -999.00,9, -999.00,9
 09FA9508_1,      IR6_4,       5,          1,          3,         25,2,19950916,       0223,   -24.4958,   111.2883,       1378,   996.3,   4.8260,  34.6090,2,  34.6094,2,-999.0000,5,   107.8,2, -999.00,9, -999.00,9, -999.00,9
 09FA9508_1,      IR6_4,       5,          1,          2,          3,2,19950916,       0223,   -24.4958,   111.2883,       1378,  1197.3,   4.1260,  34.6300,2,  34.6310,2,-999.0000,5,   111.9,2, -999.00,9, -999.00,9, -999.00,9
 09FA9508_1,      IR6_4,       5,          1,          1,          1,2,19950916,       0223,   -24.4958,   111.2883,       1378,  1361.8,   3.7330,  34.6430,2,  34.6431,2,-999.0000,5,   119.9,2, -999.00,9, -999.00,9, -999.00,9
 09FA9508_1,      IR6_4,       6,          1,         12,         24,2,19950916,       0534,   -24.5748,   111.6532,       1011,     1.8,  20.9370,  35.5550,2,  35.5510,2,-999.0000,5,   222.0,2, -999.00,9, -999.00,9, -999.00,9
 09FA9508_1,      IR6_4,       6,          1,         11,         11,2,19950916,       0534,   -24.5748,   111.6532,       1011,    48.5,  20.7130,  35.5780,2,  35.5735,2,-999.0000,5,   222.3,2, -999.00,9, -999.00,9, -999.00,9
 09FA9508_1,      IR6_4,       6,          1,         10,         31,2,19950916,       0534,   -24.5748,   111.6532,       1011,   100.2,  20.1830,  35.8530,2,  35.8477,2,-999.0000,5,   212.8,2, -999.00,9, -999.00,9, -999.00,9
 09FA9508_1,      IR6_4,       6,          1,          9,          9,2,19950916,       0534,   -24.5748,   111.6532,       1011,   197.8,  16.4040,  35.7420,2,  35.7433,2,-999.0000,5,   218.3,2, -999.00,9, -999.00,9, -999.00,9
 09FA9508_1,      IR6_4,       6,          1,          8,         12,2,19950916,       0534,   -24.5748,   111.6532,       1011,   298.1,  12.4040,  35.1930,2,  35.1943,2,-999.0000,5,   232.8,2, -999.00,9, -999.00,9, -999.00,9
 09FA9508_1,      IR6_4,       6,          1,          7,         28,2,19950916,       0534,   -24.5748,   111.6532,       1011,   397.9,  10.3700,  34.8580,2,  34.8616,2,-999.0000,5,   238.7,2, -999.00,9, -999.00,9, -999.00,9
 09FA9508_1,      IR6_4,       6,          1,          6,          6,2,19950916,       0534,   -24.5748,   111.6532,       1011,   497.3,   9.3050,  34.6820,2,  34.6819,2,-999.0000,5,   239.5,2, -999.00,9, -999.00,9, -999.00,9
 09FA9508_1,      IR6_4,       6,          1,          5,          5,2,19950916,       0534,   -24.5748,   111.6532,       1011,   597.8,   8.1300,  34.5590,2,  34.5600,2,-999.0000,5,   216.4,2, -999.00,9, -999.00,9, -999.00,9
 09FA9508_1,      IR6_4,       6,          1,          4,          4,2,19950916,       0534,   -24.5748,   111.6532,       1011,   695.9,   6.1450,  34.4500,2,  34.4507,2,-999.0000,5,   188.5,2, -999.00,9, -999.00,9, -999.00,9
 09FA9508_1,      IR6_4,       6,          1,          3,         13,2,19950916,       0534,   -24.5748,   111.6532,       1011,   796.3,   5.5680,  34.5450,2,  34.5412,2,-999.0000,5,   132.2,2, -999.00,9, -999.00,9, -999.00,9
 09FA9508_1,      IR6_4,       6,          1,          2,          3,2,19950916,       0534,   -24.5748,   111.6532,       1011,   897.5,   5.1980,  34.5960,2,  34.5961,2,-999.0000,5,   110.2,2, -999.00,9, -999.00,9, -999.00,9
 09FA9508_1,      IR6_4,       6,          1,          1,          1,2,19950916,       0534,   -24.5748,   111.6532,       1011,   996.9,   4.8640,  34.6230,2,  34.6228,2,-999.0000,5,   100.6,2, -999.00,9, -999.00,9, -999.00,9
 09FA9508_1,      IR6_4,       7,          1,          9,         24,2,19950916,       0831,   -24.6378,   111.9973,        701,     3.2,  21.1760,  35.5080,2,  35.5045,2,-999.0000,5,  -999.0,9, -999.00,9, -999.00,9, -999.00,9
 09FA9508_1,      IR6_4,       7,          1,          8,         12,2,19950916,       0831,   -24.6378,   111.9973,        701,    49.2,  20.1510,  35.7880,2,  35.7850,2,-999.0000,5,   227.4,2, -999.00,9, -999.00,9, -999.00,9
 09FA9508_1,      IR6_4,       7,          1,          7,         28,2,19950916,       0831,   -24.6378,   111.9973,        701,    98.1,  19.1660,  35.9070,2,  35.9006,2,-999.0000,5,   223.4,2, -999.00,9, -999.00,9, -999.00,9
 09FA9508_1,      IR6_4,       7,          1,          6,          6,2,19950916,       0831,   -24.6378,   111.9973,        701,   197.3,  16.9200,  35.8410,2,  35.8383,2,-999.0000,5,   229.9,2, -999.00,9, -999.00,9, -999.00,9
 09FA9508_1,      IR6_4,       7,          1,          5,          5,2,19950916,       0831,   -24.6378,   111.9973,        701,   297.0,  12.6710,  35.2280,2,  35.2325,2,-999.0000,5,  -999.0,9, -999.00,9, -999.00,9, -999.00,9
 09FA9508_1,      IR6_4,       7,          1,          4,          4,2,19950916,       0831,   -24.6378,   111.9973,        701,   397.4,  10.4060,  34.8620,2,  34.8612,2,-999.0000,5,   247.5,2, -999.00,9, -999.00,9, -999.00,9
 09FA9508_1,      IR6_4,       7,          1,          3,         13,2,19950916,       0831,   -24.6378,   111.9973,        701,   497.6,   9.3860,  34.7010,2,  34.7016,2,-999.0000,5,   243.8,2, -999.00,9, -999.00,9, -999.00,9
 09FA9508_1,      IR6_4,       7,          1,          2,          3,2,19950916,       0831,   -24.6378,   111.9973,        701,   600.7,   7.9170,  34.5430,2,  34.5448,2,-999.0000,5,   219.9,2, -999.00,9, -999.00,9, -999.00,9
 09FA9508_1,      IR6_4,       7,          1,          1,          1,2,19950916,       0831,   -24.6378,   111.9973,        701,   688.0,   5.9940,  34.4630,2,  34.4668,2,-999.0000,5,   186.6,2, -999.00,9, -999.00,9, -999.00,9
 09FA9508_1,      IR6_4,       8,          1,          7,         24,2,19950916,       1030,   -24.6735,   112.1988,        496,     4.1,  21.6810,  35.3990,2,  35.3990,2,-999.0000,5,   221.8,2, -999.00,9, -999.00,9, -999.00,9
 09FA9508_1,      IR6_4,       8,          1,          6,          6,2,19950916,       1030,   -24.6735,   112.1988,        496,    49.1,  20.2620,  35.7950,2,  35.7948,2,-999.0000,5,   220.4,2, -999.00,9, -999.00,9, -999.00,9
 09FA9508_1,      IR6_4,       8,          1,          5,          5,2,19950916,       1030,   -24.6735,   112.1988,        496,   100.1,  19.4650,  35.8010,2,  35.8026,2,-999.0000,5,   200.9,2, -999.00,9, -999.00,9, -999.00,9
 09FA9508_1,      IR6_4,       8,          1,          4,          4,2,19950916,       1030,   -24.6735,   112.1988,        496,   197.8,  17.1210,  35.7670,2,  35.7675,2,-999.0000,5,   212.8,2, -999.00,9, -999.00,9, -999.00,9
 09FA9508_1,      IR6_4,       8,          1,          3,         13,2,19950916,       1030,   -24.6735,   112.1988,        496,   296.7,  14.1340,  35.4360,2,  35.4386,2,-999.0000,5,   226.3,2, -999.00,9, -999.00,9, -999.00,9
 09FA9508_1,      IR6_4,       8,          1,          2,          3,2,19950916,       1030,   -24.6735,   112.1988,        496,   397.8,  11.2780,  34.9860,2,  35.0022,2,-999.0000,5,   234.5,2, -999.00,9, -999.00,9, -999.00,9
 09FA9508_1,      IR6_4,       8,          1,          1,          1,2,19950916,       1030,   -24.6735,   112.1988,        496,   479.0,   8.4080,  34.5970,2,  34.6022,2,-999.0000,5,   221.2,2, -999.00,9, -999.00,9, -999.00,9
 09FA9508_1,      IR6_4,       9,          1,          4,         24,2,19950916,       1157,   -24.7077,   112.3162,        200,     4.1,  21.6360,  35.3460,2,  35.3453,2,-999.0000,5,   200.8,2, -999.00,9, -999.00,9, -999.00,9
 09FA9508_1,      IR6_4,       9,          1,          3,         13,2,19950916,       1157,   -24.7077,   112.3162,        200,    48.1,  20.9610,  35.5430,2,  35.5396,2,-999.0000,5,   215.6,2, -999.00,9, -999.00,9, -999.00,9
 09FA9508_1,      IR6_4,       9,          1,          2,          3,2,19950916,       1157,   -24.7077,   112.3162,        200,    98.8,  20.1440,  35.8090,2,  35.8067,2,-999.0000,5,   221.4,2, -999.00,9, -999.00,9, -999.00,9
 09FA9508_1,      IR6_4,       9,          1,          1,          1,2,19950916,       1157,   -24.7077,   112.3162,        200,   187.7,  18.4420,  35.7810,2,  35.7791,2,-999.0000,5,   221.1,2, -999.00,9, -999.00,9, -999.00,9
 09FA9508_1,      IR6_4,      10,          1,          4,         24,2,19950916,       1308,   -24.7242,   112.4637,        146,     2.9,  21.5290,  35.3910,2,  35.3935,2,-999.0000,5,   220.1,2, -999.00,9, -999.00,9, -999.00,9
 09FA9508_1,      IR6_4,      10,          1,          3,         13,2,19950916,       1308,   -24.7242,   112.4637,        146,    49.5,  21.4230,  35.3920,2,  35.3935,2,-999.0000,5,   217.4,2, -999.00,9, -999.00,9, -999.00,9
 09FA9508_1,      IR6_4,      10,          1,          2,          3,2,19950916,       1308,   -24.7242,   112.4637,        146,    99.6,  20.3700,  35.7100,2,  35.7053,2,-999.0000,5,   205.1,2, -999.00,9, -999.00,9, -999.00,9
 09FA9508_1,      IR6_4,      10,          1,          1,          1,2,19950916,       1308,   -24.7242,   112.4637,        146,   135.8,  19.9050,  35.7420,2,  35.7411,2,-999.0000,5,   203.8,2, -999.00,9, -999.00,9, -999.00,9
 09FA9508_1,      IR6_4,      11,          1,          3,         13,2,19950916,       1425,   -24.7460,   112.6170,        103,     3.6,  21.3570,  35.4430,2,  35.4449,2,-999.0000,5,   221.4,2, -999.00,9, -999.00,9, -999.00,9
 09FA9508_1,      IR6_4,      11,          1,          2,          3,2,19950916,       1425,   -24.7460,   112.6170,        103,    49.5,  21.2060,  35.4450,2,  35.4453,2,-999.0000,5,   219.0,2, -999.00,9, -999.00,9, -999.00,9
 09FA9508_1,      IR6_4,      11,          1,          1,          1,2,19950916,       1425,   -24.7460,   112.6170,        103,    88.0,  21.0960,  35.4920,2,  35.4921,2,-999.0000,5,   214.7,2, -999.00,9, -999.00,9, -999.00,9
 09FA9508_1,      IR6_4,      12,          1,          3,         13,2,19950916,       1530,   -24.7823,   112.7687,         82,     2.6,  21.2380,  35.4440,2,  35.4433,2,-999.0000,5,   222.4,2,    4.55,2,    0.80,2,    0.18,2
 09FA9508_1,      IR6_4,      12,          1,          2,          3,2,19950916,       1530,   -24.7823,   112.7687,         82,    47.9,  21.1440,  35.4510,2,  35.4492,2,-999.0000,5,   221.7,2,    4.37,2,    0.57,2,    0.17,2
 09FA9508_1,      IR6_4,      12,          1,          1,          1,2,19950916,       1530,   -24.7823,   112.7687,         82,    74.1,  21.1420,  35.4510,2,  35.4519,2,-999.0000,5,   219.1,2,    4.45,2,    0.28,2,    0.17,2
 09FA9508_1,      IR6_4,      13,          1,          3,         13,2,19950916,       1637,   -24.7485,   112.6190,        101,     2.7,  21.2890,  35.4430,2,  35.4444,2,-999.0000,5,   221.0,2,    4.60,2,    0.91,2,    0.20,2
 09FA9508_1,      IR6_4,      13,          1,          2,          3,2,19950916,       1637,   -24.7485,   112.6190,        101,    50.3,  21.2160,  35.4400,2,  35.4424,2,-999.0000,5,   217.7,2,    4.82,2,    0.28,2,    0.17,2
 09FA9508_1,      IR6_4,      13,          1,          1,          1,2,19950916,       1637,   -24.7485,   112.6190,        101,    90.1,  21.1130,  35.4830,2,  35.4727,2,-999.0000,5,   216.7,2,    4.94,2,    0.83,2,    0.18,2
 09FA9508_1,      IR6_4,      14,          1,          3,         13,2,19950916,       1749,   -24.7272,   112.4673,        144,     0.8,  21.4690,  35.3900,2,  35.3893,2,-999.0000,5,   218.7,2,    5.35,2,    0.28,2,    0.18,2
 09FA9508_1,      IR6_4,      14,          1,          2,          3,2,19950916,       1749,   -24.7272,   112.4673,        144,    49.6,  21.4010,  35.3930,2,  35.3965,2,-999.0000,5,   217.8,2,    5.22,2,    0.28,2,    0.18,2
 09FA9508_1,      IR6_4,      14,          1,          1,          1,2,19950916,       1749,   -24.7272,   112.4673,        144,   129.7,  20.0720,  35.7390,2,  35.7403,2,-999.0000,5,   204.2,2,    4.88,2,    1.93,2,    0.23,2
 09FA9508_1,      IR6_4,      15,          1,          4,          9,2,19950916,       1907,   -24.7048,   112.3140,        203,     3.7,  21.6740,  35.3710,2,  35.3703,2,-999.0000,5,   218.4,2,    5.31,2,    0.25,2,    0.16,2
 09FA9508_1,      IR6_4,      15,          1,          3,         13,2,19950916,       1907,   -24.7048,   112.3140,        203,    48.1,  20.5010,  35.6680,2,  35.6653,2,-999.0000,5,   221.7,2,    4.78,2,    0.79,2,    0.13,2
 09FA9508_1,      IR6_4,      15,          1,          1,          1,2,19950916,       1907,   -24.7048,   112.3140,        203,   194.3,  17.8400,  35.8070,2,  35.8073,2,-999.0000,5,   206.2,2,    5.37,2,    3.10,2,    0.30,2
 09FA9508_1,      IR6_4,      16,          1,          7,         24,2,19950916,       2021,   -24.6673,   112.1997,        477,     4.6,  21.1370,  35.5060,2,  35.5029,2,-999.0000,5,   221.4,2,    5.19,2,    0.91,2,    0.14,2
 09FA9508_1,      IR6_4,      16,          1,          6,          6,2,19950916,       2021,   -24.6673,   112.1997,        477,    49.7,  20.1590,  35.7830,2,  35.7791,2,-999.0000,5,   224.2,2,    4.56,2,    0.28,2,    0.12,2
 09FA9508_1,      IR6_4,      16,          1,          5,          5,2,19950916,       2021,   -24.6673,   112.1997,        477,    99.6,  19.6630,  35.8800,2,  35.8742,2,-999.0000,5,   211.0,2,    4.75,2,    1.56,2,    0.20,2
 09FA9508_1,      IR6_4,      16,          1,          4,          9,2,19950916,       2021,   -24.6673,   112.1997,        477,   198.0,  17.4760,  35.7870,2,  35.7915,2,-999.0000,5,   210.7,2,    5.05,2,    2.93,2,    0.30,2
 09FA9508_1,      IR6_4,      16,          1,          3,         13,2,19950916,       2021,   -24.6673,   112.1997,        477,   299.2,  13.9470,  35.4080,2,  35.4076,2,-999.0000,5,   226.7,2,    4.30,2,    5.45,2,    0.46,2
 09FA9508_1,      IR6_4,      16,          1,          2,          3,2,19950916,       2021,   -24.6673,   112.1997,        477,   396.8,  11.6190,  35.0390,2,  35.0419,2,-999.0000,5,   233.2,2,    5.22,2,   10.06,2,    0.75,2
 09FA9508_1,      IR6_4,      16,          1,          1,          1,2,19950916,       2021,   -24.6673,   112.1997,        477,   466.2,   8.8200,  34.6370,2,  34.6399,2,-999.0000,5,   226.2,2,    9.94,2,   18.40,2,    1.26,2
 09FA9508_1,      IR6_4,      17,          1,          9,         24,2,19950916,       2217,   -24.6298,   112.0067,        697,     4.0,  20.9480,  35.5280,2,  35.5239,2,-999.0000,5,   220.1,2,    5.17,2,    0.47,2,    0.17,2
 09FA9508_1,      IR6_4,      17,          1,          8,         21,2,19950916,       2217,   -24.6298,   112.0067,        697,    50.2,  20.2020,  35.7630,2,  35.7523,2,-999.0000,5,   227.2,2,    4.64,2,    0.09,2,    0.09,2
 09FA9508_1,      IR6_4,      17,          1,          7,         11,2,19950916,       2217,   -24.6298,   112.0067,        697,    99.7,  19.1510,  35.9160,2,  35.9158,2,-999.0000,5,   214.9,2,    4.54,2,    1.40,2,    0.15,2
 09FA9508_1,      IR6_4,      17,          1,          6,          6,2,19950916,       2217,   -24.6298,   112.0067,        697,   200.6,  16.9020,  35.8330,2,  35.8309,2,-999.0000,5,   220.0,2,    4.09,2,    1.83,2,    0.22,2
 09FA9508_1,      IR6_4,      17,          1,          5,          5,2,19950916,       2217,   -24.6298,   112.0067,        697,   302.6,  12.8320,  35.2540,2,  35.2563,2,-999.0000,5,   233.3,2,    3.81,2,    5.61,2,    0.47,2
 09FA9508_1,      IR6_4,      17,          1,          4,          9,2,19950916,       2217,   -24.6298,   112.0067,        697,   399.4,  10.4800,  34.8750,2,  34.8747,2,-999.0000,5,   238.1,2,    5.41,2,   12.07,2,    0.83,2
 09FA9508_1,      IR6_4,      17,          1,          3,         13,2,19950916,       2217,   -24.6298,   112.0067,        697,   498.0,   9.2240,  34.6750,2,  34.6741,2,-999.0000,5,   235.8,2,    7.03,2,   16.31,2,    1.08,2
 09FA9508_1,      IR6_4,      17,          1,          2,          3,2,19950916,       2217,   -24.6298,   112.0067,        697,   586.4,   7.7680,  34.5340,2,  34.5435,2,-999.0000,5,   208.3,2,   14.16,2,   22.23,2,    1.47,2
 09FA9508_1,      IR6_4,      17,          1,          1,          1,2,19950916,       2217,   -24.6298,   112.0067,        697,   685.5,   5.9740,  34.4640,2,  34.4670,2,-999.0000,5,   177.2,2,   34.88,2,   28.46,2,    1.91,2