BOTTLE,20211101CCHSIORKP
EXPOCODE,SECT_ID,STNNBR,CASTNO,SAMPNO,BTLNBR,BTLNBR_FLAG_W,DATE,TIME,LATITUDE,LONGITUDE,DEPTH,CTDPRS,CTDTMP,CTDSAL,CTDSAL_FLAG_W,SALNTY,SALNTY_FLAG_W,CTDOXY,CTDOXY_FLAG_W,OXYGEN,OXYGEN_FLAG_W,SILCAT,SILCAT_FLAG_W,NITRAT,NITRAT_FLAG_W,PHSPHT,PHSPHT_FLAG_W
,,,,,,,,,,,METERS,DBAR,ITS-90,PSS-78,,PSS-78,,UMOL/KG,,UMOL/KG,,UMOL/KG,,UMOL/KG,,UMOL/KG,
 09FA9508_1,      IR6_4,     100,          1,         24,         21,2,19951008,       1017,   -13.3988,   118.5683,       5543,     2.4,  27.9170,  34.5150,2,  34.5173,2,-999.0000,5,   204.7,2,    4.54,2,    0.39,2,    0.09,2
 09FA9508_1,      IR6_4,     100,          1,         23,          2,2,19951008,       1017,   -13.3988,   118.5683,       5543,    48.5,  27.0790,  34.3940,2,  34.4212,2,-999.0000,5,   209.6,2,    4.43,2,    0.39,2,    0.08,2
 09FA9508_1,      IR6_4,     100,          1,         22,          7,2,19951008,       1017,   -13.3988,   118.5683,       5543,    74.5,  25.7910,  34.2880,2,  34.2879,2,-999.0000,5,   203.8,2,    4.88,2,    0.86,2,    0.38,2
 09FA9508_1,      IR6_4,     100,          1,         21,         10,2,19951008,       1017,   -13.3988,   118.5683,       5543,    98.7,  25.7310,  34.6780,2,  34.6688,2,-999.0000,5,   203.6,2,    4.87,2,    0.82,2,    0.11,2
 09FA9508_1,      IR6_4,     100,          1,         20,         45,2,19951008,       1017,   -13.3988,   118.5683,       5543,   198.8,  16.9270,  34.7880,2,  34.7823,2,-999.0000,5,   104.1,2,   25.40,2,   18.34,2,    1.29,2
 09FA9508_1,      IR6_4,     100,          1,         19,         42,2,19951008,       1017,   -13.3988,   118.5683,       5543,   298.5,  11.2980,  34.6170,2,  34.6154,2,-999.0000,5,    93.2,2,   42.46,2,   26.45,2,    1.88,2
 09FA9508_1,      IR6_4,     100,          1,         18,         13,2,19951008,       1017,   -13.3988,   118.5683,       5543,   396.8,   9.0690,  34.5570,2,  34.5542,2,-999.0000,5,    87.8,2,   54.64,2,   30.58,2,    2.17,2
 09FA9508_1,      IR6_4,     100,          1,         17,         43,2,19951008,       1017,   -13.3988,   118.5683,       5543,   497.0,   8.2940,  34.5950,2,  34.5919,2,-999.0000,5,    90.8,2,   57.71,2,   31.54,2,    2.24,2
 09FA9508_1,      IR6_4,     100,          1,         16,         69,2,19951008,       1017,   -13.3988,   118.5683,       5543,   598.0,   7.2990,  34.5940,2,  34.5919,2,-999.0000,5,    88.0,2,   67.84,2,   33.33,2,    2.38,2
 09FA9508_1,      IR6_4,     100,          1,         15,         11,2,19951008,       1017,   -13.3988,   118.5683,       5543,   697.2,   6.6390,  34.5970,2,  34.5966,2,-999.0000,5,    86.8,2,   75.71,2,   34.40,2,    2.47,2
 09FA9508_1,      IR6_4,     100,          1,         14,          8,2,19951008,       1017,   -13.3988,   118.5683,       5543,   796.9,   6.0530,  34.5950,2,  34.5958,2,-999.0000,5,    88.0,2,   84.04,2,   34.97,2,    2.51,2
 09FA9508_1,      IR6_4,     100,          1,         13,          6,2,19951008,       1017,   -13.3988,   118.5683,       5543,   895.6,   5.4730,  34.5970,2,  34.5958,2,-999.0000,5,    90.9,2,   92.03,2,   35.40,2,    2.57,2
 09FA9508_1,      IR6_4,     100,          1,         12,         35,2,19951008,       1017,   -13.3988,   118.5683,       5543,   995.7,   5.0090,  34.6000,2,  34.5982,2,-999.0000,5,    93.2,2,   98.58,2,   35.71,2,    2.58,2
 09FA9508_1,      IR6_4,     100,          1,         11,          3,2,19951008,       1017,   -13.3988,   118.5683,       5543,  1244.9,   4.1180,  34.6200,2,  34.6179,2,-999.0000,5,    98.7,2,  108.77,2,   36.18,2,    2.61,2
 09FA9508_1,      IR6_4,     100,          1,         10,         30,2,19951008,       1017,   -13.3988,   118.5683,       5543,  1495.8,   3.4640,  34.6670,2,  34.6681,2,-999.0000,5,   110.6,2,  114.44,2,   36.16,2,    2.60,2
 09FA9508_1,      IR6_4,     100,          1,          9,         24,2,19951008,       1017,   -13.3988,   118.5683,       5543,  1997.5,   2.4960,  34.7220,2,  34.7227,2,-999.0000,5,   132.9,2,  121.80,2,   35.30,2,    2.56,2
 09FA9508_1,      IR6_4,     100,          1,          8,         17,2,19951008,       1017,   -13.3988,   118.5683,       5543,  2496.4,   1.9970,  34.7300,2,  34.7287,2,-999.0000,5,   148.6,2,  125.61,2,   34.73,2,    2.44,2
 09FA9508_1,      IR6_4,     100,          1,          7,         48,2,19951008,       1017,   -13.3988,   118.5683,       5543,  2998.1,   1.6800,  34.7260,2,  34.7252,2,-999.0000,5,   160.0,2,  128.94,2,   34.22,2,    2.43,2
 09FA9508_1,      IR6_4,     100,          1,          6,         15,2,19951008,       1017,   -13.3988,   118.5683,       5543,  3499.3,   1.3890,  34.7200,2,  34.7189,2,-999.0000,5,   172.0,2,  130.96,2,   33.83,2,    2.36,2
 09FA9508_1,      IR6_4,     100,          1,          5,         28,2,19951008,       1017,   -13.3988,   118.5683,       5543,  4000.5,   1.1950,  34.7160,2,  34.7142,2,-999.0000,5,   182.5,2,  130.17,2,   33.40,2,    2.30,2
 09FA9508_1,      IR6_4,     100,          1,          4,         99,2,19951008,       1017,   -13.3988,   118.5683,       5543,  4500.1,   1.1820,  34.7140,2,  34.7139,2,-999.0000,5,   184.7,2,  129.48,2,   33.30,2,    2.29,2
 09FA9508_1,      IR6_4,     100,          1,          3,         14,2,19951008,       1017,   -13.3988,   118.5683,       5543,  5000.3,   1.2200,  34.7140,2,  34.7139,2,-999.0000,5,   185.3,2,  130.11,2,   33.41,2,    2.29,2
 09FA9508_1,      IR6_4,     100,          1,          2,          5,2,19951008,       1017,   -13.3988,   118.5683,       5543,  5500.6,   1.2760,  34.7140,2,  34.7139,2,-999.0000,5,   186.1,2,  130.86,2,   33.38,2,    2.30,2
 09FA9508_1,      IR6_4,     100,          1,          1,         18,2,19951008,       1017,   -13.3988,   118.5683,       5543,  5666.0,   1.2960,  34.7130,2,  34.7112,2,-999.0000,5,   186.4,2,  130.06,2,   33.42,2,    2.30,2
 09FA9508_1,      IR6_4,     101,          1,         24,         21,2,19951008,       1705,   -13.2383,   119.0197,       5243,     1.9,  27.9070,  34.4270,2,  34.4266,2,-999.0000,5,   206.0,2,    3.95,2,    0.28,2,    0.15,2
 09FA9508_1,      IR6_4,     101,          1,         23,          2,2,19951008,       1705,   -13.2383,   119.0197,       5243,    48.5,  26.3630,  34.3180,2,  34.3203,2,-999.0000,5,   208.6,2,    4.20,2,    0.36,2,    0.16,2
 09FA9508_1,      IR6_4,     101,          1,         22,          7,2,19951008,       1705,   -13.2383,   119.0197,       5243,    99.2,  23.9080,  34.3000,2,  34.2987,2,-999.0000,5,   164.8,2,    9.94,2,    6.91,2,    0.57,2
 09FA9508_1,      IR6_4,     101,          1,         21,         10,2,19951008,       1705,   -13.2383,   119.0197,       5243,   149.4,  20.8600,  34.6810,2,  34.6770,2,-999.0000,5,   114.7,2,   16.81,2,   13.04,2,    0.99,2
 09FA9508_1,      IR6_4,     101,          1,         20,         45,2,19951008,       1705,   -13.2383,   119.0197,       5243,   198.2,  17.1360,  34.7710,2,  34.7646,2,-999.0000,5,   104.1,2,   25.36,2,   18.34,2,    1.34,2
 09FA9508_1,      IR6_4,     101,          1,         19,         42,2,19951008,       1705,   -13.2383,   119.0197,       5243,   298.6,  11.5220,  34.6480,2,  34.6499,2,-999.0000,5,    95.2,2,   40.47,2,   25.92,2,    1.85,2
 09FA9508_1,      IR6_4,     101,          1,         18,         13,2,19951008,       1705,   -13.2383,   119.0197,       5243,   398.7,   9.1830,  34.6090,2,  34.6055,2,-999.0000,5,    94.6,2,   50.48,2,   29.74,2,    2.12,2
 09FA9508_1,      IR6_4,     101,          1,         17,         43,2,19951008,       1705,   -13.2383,   119.0197,       5243,   497.9,   8.1810,  34.5970,2,  34.5953,2,-999.0000,5,    91.0,2,   58.61,2,   31.76,2,    2.27,2
 09FA9508_1,      IR6_4,     101,          1,         16,         69,2,19951008,       1705,   -13.2383,   119.0197,       5243,   596.9,   7.1360,  34.5910,2,  34.5867,2,-999.0000,5,    86.0,2,   71.49,2,   33.82,2,    2.46,2
 09FA9508_1,      IR6_4,     101,          1,         15,         11,2,19951008,       1705,   -13.2383,   119.0197,       5243,   696.9,   6.4690,  34.5870,2,  34.5878,2,-999.0000,5,    87.0,2,   78.42,2,   34.63,2,    2.50,2
 09FA9508_1,      IR6_4,     101,          1,         14,          8,2,19951008,       1705,   -13.2383,   119.0197,       5243,   796.3,   5.7410,  34.5900,2,  34.5913,2,-999.0000,5,    89.7,2,   87.89,2,   35.50,2,    2.56,2
 09FA9508_1,      IR6_4,     101,          1,         13,          6,2,19951008,       1705,   -13.2383,   119.0197,       5243,   896.4,   5.2430,  34.5940,2,  34.5937,2,-999.0000,5,    92.4,2,   97.09,2,   35.77,2,    2.58,2
 09FA9508_1,      IR6_4,     101,          1,         12,         35,2,19951008,       1705,   -13.2383,   119.0197,       5243,   995.7,   4.8810,  34.5990,2,  34.5989,2,-999.0000,5,    93.6,2,  101.02,2,   36.01,2,    2.60,2
 09FA9508_1,      IR6_4,     101,          1,         11,          3,2,19951008,       1705,   -13.2383,   119.0197,       5243,  1245.0,   4.0820,  34.6230,2,  34.6225,2,-999.0000,5,    99.0,2,  111.05,2,   36.52,2,    2.61,2
 09FA9508_1,      IR6_4,     101,          1,         10,         30,2,19951008,       1705,   -13.2383,   119.0197,       5243,  1496.6,   3.3990,  34.6690,2,  34.6661,2,-999.0000,5,   111.7,2,  116.74,2,   36.10,2,    2.61,2
 09FA9508_1,      IR6_4,     101,          1,          9,         24,2,19951008,       1705,   -13.2383,   119.0197,       5243,  1743.1,   2.8050,  34.7080,2,  34.7074,2,-999.0000,5,   124.7,2,  119.61,2,   35.69,2,    2.56,2
 09FA9508_1,      IR6_4,     101,          1,          8,         17,2,19951008,       1705,   -13.2383,   119.0197,       5243,  1996.6,   2.4380,  34.7250,2,  34.7318,2,-999.0000,5,   134.2,2,  123.59,2,   35.20,2,    2.53,2
 09FA9508_1,      IR6_4,     101,          1,          7,         48,2,19951008,       1705,   -13.2383,   119.0197,       5243,  2496.5,   1.9970,  34.7280,2,  34.7251,2,-999.0000,5,   146.7,2,  125.46,2,   34.71,2,    2.47,2
 09FA9508_1,      IR6_4,     101,          1,          6,         15,2,19951008,       1705,   -13.2383,   119.0197,       5243,  2997.0,   1.6700,  34.7250,2,  34.7244,2,-999.0000,5,   159.8,2,  129.80,2,   34.16,2,    2.42,2
 09FA9508_1,      IR6_4,     101,          1,          5,         28,2,19951008,       1705,   -13.2383,   119.0197,       5243,  3498.4,   1.3960,  34.7200,2,  34.7181,2,-999.0000,5,   171.6,2,  129.27,2,   33.64,2,    2.35,2
 09FA9508_1,      IR6_4,     101,          1,          4,         99,2,19951008,       1705,   -13.2383,   119.0197,       5243,  3998.8,   1.2060,  34.7160,2,  34.7143,2,-999.0000,5,   181.5,2,  128.42,2,   33.07,2,    2.32,2
 09FA9508_1,      IR6_4,     101,          1,          3,         14,2,19951008,       1705,   -13.2383,   119.0197,       5243,  4500.3,   1.1760,  34.7150,2,  34.7131,2,-999.0000,5,   182.4,2,  129.92,2,   33.14,2,    2.30,2
 09FA9508_1,      IR6_4,     101,          1,          2,          5,2,19951008,       1705,   -13.2383,   119.0197,       5243,  5000.8,   1.2140,  34.7150,2,  34.7135,2,-999.0000,5,   186.2,2,  130.50,2,   32.98,2,    2.29,2
 09FA9508_1,      IR6_4,     101,          1,          1,         18,2,19951008,       1705,   -13.2383,   119.0197,       5243,  5336.1,   1.2530,  34.7150,2,  34.7116,2,-999.0000,5,   186.4,2,  129.27,2,   33.00,2,    2.28,2
 09FA9508_1,      IR6_4,     102,          1,         24,         21,2,19951008,       2242,   -13.1785,   119.3135,       5081,     1.9,  27.6870,  34.4000,2,  34.3968,2,-999.0000,5,   205.2,2,    3.66,2,    0.29,2,    0.13,2
 09FA9508_1,      IR6_4,     102,          1,         23,          2,2,19951008,       2242,   -13.1785,   119.3135,       5081,    47.6,  26.2580,  34.3090,2,  34.3035,2,-999.0000,5,   205.4,2,    4.74,2,    0.43,2,    0.17,2
 09FA9508_1,      IR6_4,     102,          1,         22,          7,2,19951008,       2242,   -13.1785,   119.3135,       5081,   100.1,  23.6880,  34.3090,2,  34.3023,2,-999.0000,5,   161.8,2,   10.21,2,    7.24,2,    0.55,2
 09FA9508_1,      IR6_4,     102,          1,         21,         10,2,19951008,       2242,   -13.1785,   119.3135,       5081,   199.5,  16.5440,  34.7660,2,  34.7563,2,-999.0000,5,   102.6,2,   26.39,2,   18.69,2,    1.32,2
 09FA9508_1,      IR6_4,     102,          1,         20,         45,2,19951008,       2242,   -13.1785,   119.3135,       5081,   297.9,  11.6670,  34.6610,2,  34.6557,2,-999.0000,5,    95.0,2,   39.68,2,   25.50,2,    1.80,2
 09FA9508_1,      IR6_4,     102,          1,         19,         42,2,19951008,       2242,   -13.1785,   119.3135,       5081,   397.1,   9.7220,  34.6310,2,  34.6263,2,-999.0000,5,    96.8,2,   46.01,2,   28.39,2,    2.00,2
 09FA9508_1,      IR6_4,     102,          1,         18,         13,2,19951008,       2242,   -13.1785,   119.3135,       5081,   498.0,   8.3330,  34.6000,2,  34.5984,2,-999.0000,5,    92.2,2,   55.79,2,   31.28,2,    2.22,2
 09FA9508_1,      IR6_4,     102,          1,         16,         69,2,19951008,       2242,   -13.1785,   119.3135,       5081,   693.9,   6.6730,  34.6010,2,  34.5995,2,-999.0000,5,    86.7,2,   74.46,2,   34.35,2,    2.49,2
 09FA9508_1,      IR6_4,     102,          1,         15,         11,2,19951008,       2242,   -13.1785,   119.3135,       5081,   794.8,   5.9940,  34.5920,2,  34.5924,2,-999.0000,5,  -999.0,9,   84.92,2,   35.06,2,    2.55,2
 09FA9508_1,      IR6_4,     102,          1,         14,          8,2,19951008,       2242,   -13.1785,   119.3135,       5081,   895.6,   5.4880,  34.5930,2,  34.5912,2,-999.0000,5,    90.3,2,   92.81,2,   35.68,2,    2.55,2
 09FA9508_1,      IR6_4,     102,          1,         13,          6,2,19951008,       2242,   -13.1785,   119.3135,       5081,   995.6,   5.0170,  34.6000,2,  34.5947,2,-999.0000,5,    93.0,2,  100.16,2,   36.05,2,    2.58,2
 09FA9508_1,      IR6_4,     102,          1,         12,         35,2,19951008,       2242,   -13.1785,   119.3135,       5081,  1196.8,   4.2780,  34.6140,2,  34.6132,2,-999.0000,5,    96.5,2,  110.19,2,   36.43,2,    2.62,2
 09FA9508_1,      IR6_4,     102,          1,         11,          3,2,19951008,       2242,   -13.1785,   119.3135,       5081,  1394.5,   3.7530,  34.6430,2,  34.6383,2,-999.0000,5,   104.3,2,  111.86,2,   36.18,2,    2.59,2
 09FA9508_1,      IR6_4,     102,          1,         10,         30,2,19951008,       2242,   -13.1785,   119.3135,       5081,  1593.6,   3.1350,  34.6880,2,  34.6851,2,-999.0000,5,   117.3,2,  117.85,2,   35.95,2,    2.58,2
 09FA9508_1,      IR6_4,     102,          1,          9,         24,2,19951008,       2242,   -13.1785,   119.3135,       5081,  1794.6,   2.7470,  34.7110,2,  34.7110,2,-999.0000,5,   126.0,2,  121.12,2,   35.53,2,    2.56,2
 09FA9508_1,      IR6_4,     102,          1,          8,         17,2,19951008,       2242,   -13.1785,   119.3135,       5081,  1996.0,   2.4380,  34.7240,2,  34.7209,2,-999.0000,5,   134.4,2,  122.86,2,   35.34,2,    2.53,2
 09FA9508_1,      IR6_4,     102,          1,          7,         48,2,19951008,       2242,   -13.1785,   119.3135,       5081,  2497.5,   1.9920,  34.7290,2,  34.7240,2,-999.0000,5,   147.3,2,  126.43,2,   34.75,2,    2.47,2
 09FA9508_1,      IR6_4,     102,          1,          6,         15,2,19951008,       2242,   -13.1785,   119.3135,       5081,  2999.2,   1.7340,  34.7250,2,  34.7244,2,-999.0000,5,   157.8,2,  129.68,2,   34.30,2,    2.42,2
 09FA9508_1,      IR6_4,     102,          1,          5,         28,2,19951008,       2242,   -13.1785,   119.3135,       5081,  3499.4,   1.4350,  34.7220,2,  34.7189,2,-999.0000,5,   169.6,2,  129.24,2,   33.70,2,    2.38,2
 09FA9508_1,      IR6_4,     102,          1,          4,         99,2,19951008,       2242,   -13.1785,   119.3135,       5081,  3999.9,   1.2220,  34.7160,2,  34.7143,2,-999.0000,5,   180.5,2,  128.84,2,   33.35,2,    2.33,2
 09FA9508_1,      IR6_4,     102,          1,          3,         14,2,19951008,       2242,   -13.1785,   119.3135,       5081,  4499.4,   1.1750,  34.7150,2,  34.7131,2,-999.0000,5,   183.8,2,  129.29,2,   33.11,2,    2.31,2
 09FA9508_1,      IR6_4,     102,          1,          2,          5,2,19951008,       2242,   -13.1785,   119.3135,       5081,  4999.5,   1.2130,  34.7140,2,  34.7127,2,-999.0000,5,   186.2,2,  127.80,2,   33.07,2,    2.30,2
 09FA9508_1,      IR6_4,     102,          1,          1,         18,2,19951008,       2242,   -13.1785,   119.3135,       5081,  5172.8,   1.2330,  34.7150,2,  34.7131,2,-999.0000,5,   186.4,2,  129.75,2,   33.04,2,    2.30,2