BOTTLE,20211101CCHSIORKP
EXPOCODE,SECT_ID,STNNBR,CASTNO,SAMPNO,BTLNBR,BTLNBR_FLAG_W,DATE,TIME,LATITUDE,LONGITUDE,DEPTH,CTDPRS,CTDTMP,CTDSAL,CTDSAL_FLAG_W,SALNTY,SALNTY_FLAG_W,CTDOXY,CTDOXY_FLAG_W,OXYGEN,OXYGEN_FLAG_W,SILCAT,SILCAT_FLAG_W,NITRAT,NITRAT_FLAG_W,PHSPHT,PHSPHT_FLAG_W
,,,,,,,,,,,METERS,DBAR,ITS-90,PSS-78,,PSS-78,,UMOL/KG,,UMOL/KG,,UMOL/KG,,UMOL/KG,,UMOL/KG,
 09FA9508_1,      IR6_4,      70,          1,         24,         21,2,19950930,       0539,    -9.1228,   105.6197,       5990,     2.3,  27.1650,  34.4440,2,  34.4454,2,-999.0000,5,   203.9,2,    4.72,2,    0.35,2,    0.15,2
 09FA9508_1,      IR6_4,      70,          1,         23,         66,2,19950930,       0539,    -9.1228,   105.6197,       5990,    50.2,  22.8200,  34.5050,2,  34.4894,2,-999.0000,5,   139.0,2,   13.86,2,    9.85,2,    0.79,2
 09FA9508_1,      IR6_4,      70,          1,         22,         43,2,19950930,       0539,    -9.1228,   105.6197,       5990,    99.0,  17.4180,  34.5420,2,  34.5389,2,-999.0000,5,   110.7,2,   26.76,2,   17.85,2,    1.35,2
 09FA9508_1,      IR6_4,      70,          1,         21,          7,2,19950930,       0539,    -9.1228,   105.6197,       5990,   197.5,  11.7330,  34.5490,2,  34.5480,2,-999.0000,5,    98.3,2,   43.23,2,   25.65,2,    1.92,2
 09FA9508_1,      IR6_4,      70,          1,         20,         10,2,19950930,       0539,    -9.1228,   105.6197,       5990,   298.8,  10.1030,  34.6620,2,  34.6617,2,-999.0000,5,    86.1,2,   46.59,2,   29.20,2,    2.11,2
 09FA9508_1,      IR6_4,      70,          1,         19,         42,2,19950930,       0539,    -9.1228,   105.6197,       5990,   400.0,   8.9570,  34.7050,2,  34.7038,2,-999.0000,5,    76.3,2,   51.92,2,   32.18,2,    2.30,2
 09FA9508_1,      IR6_4,      70,          1,         18,         13,2,19950930,       0539,    -9.1228,   105.6197,       5990,   498.5,   7.9150,  34.6810,2,  34.6833,2,-999.0000,5,    74.9,2,   63.29,2,   33.89,2,    2.46,2
 09FA9508_1,      IR6_4,      70,          1,         17,         27,2,19950930,       0539,    -9.1228,   105.6197,       5990,   597.3,   7.3490,  34.6780,2,  34.6782,2,-999.0000,5,    73.9,2,   70.34,2,   34.86,2,    2.53,2
 09FA9508_1,      IR6_4,      70,          1,         16,         20,2,19950930,       0539,    -9.1228,   105.6197,       5990,   697.1,   6.6680,  34.6630,2,  34.6629,2,-999.0000,5,    76.7,2,   79.94,2,   35.64,2,    2.58,2
 09FA9508_1,      IR6_4,      70,          1,         15,         11,2,19950930,       0539,    -9.1228,   105.6197,       5990,   798.0,   5.9140,  34.6330,2,  34.6357,2,-999.0000,5,    84.0,2,   89.59,2,   35.88,2,    2.61,2
 09FA9508_1,      IR6_4,      70,          1,         14,          8,2,19950930,       0539,    -9.1228,   105.6197,       5990,   897.2,   5.4720,  34.6420,2,  34.6444,2,-999.0000,5,    86.0,2,   95.99,2,   36.11,2,    2.63,2
 09FA9508_1,      IR6_4,      70,          1,         13,          6,2,19950930,       0539,    -9.1228,   105.6197,       5990,   995.3,   4.9320,  34.6340,2,  34.6369,2,-999.0000,5,    91.3,2,  103.37,2,   36.45,2,    2.65,2
 09FA9508_1,      IR6_4,      70,          1,         12,         35,2,19950930,       0539,    -9.1228,   105.6197,       5990,  1246.3,   4.0150,  34.6640,2,  34.6644,2,-999.0000,5,   101.1,2,  113.77,2,   36.62,2,    2.66,2
 09FA9508_1,      IR6_4,      70,          1,         11,          3,2,19950930,       0539,    -9.1228,   105.6197,       5990,  1495.0,   3.3930,  34.7230,2,  34.7203,2,-999.0000,5,   113.1,2,  116.86,2,   36.41,2,    2.64,2
 09FA9508_1,      IR6_4,      70,          1,         10,         30,2,19950930,       0539,    -9.1228,   105.6197,       5990,  1731.1,   2.9330,  34.7340,2,  34.7301,2,-999.0000,5,   126.8,2,  119.26,2,   35.71,2,    2.57,2
 09FA9508_1,      IR6_4,      70,          1,          9,         24,2,19950930,       0539,    -9.1228,   105.6197,       5990,  1996.1,   2.5740,  34.7460,2,  34.7494,2,-999.0000,5,   133.7,2,  123.47,2,   35.41,2,    2.55,2
 09FA9508_1,      IR6_4,      70,          1,          8,         17,2,19950930,       0539,    -9.1228,   105.6197,       5990,  2497.7,   2.0050,  34.7360,2,  34.7383,2,-999.0000,5,   152.4,2,  126.31,2,   34.70,2,    2.48,2
 09FA9508_1,      IR6_4,      70,          1,          7,         48,2,19950930,       0539,    -9.1228,   105.6197,       5990,  2997.5,   1.6930,  34.7290,2,  34.7292,2,-999.0000,5,   162.7,2,  130.81,2,   34.38,2,    2.43,2
 09FA9508_1,      IR6_4,      70,          1,          6,         15,2,19950930,       0539,    -9.1228,   105.6197,       5990,  3499.6,   1.3800,  34.7180,2,  34.7190,2,-999.0000,5,   177.0,2,  131.63,2,   33.75,2,    2.38,2
 09FA9508_1,      IR6_4,      70,          1,          5,         28,2,19950930,       0539,    -9.1228,   105.6197,       5990,  4000.4,   1.1730,  34.7140,2,  34.7154,2,-999.0000,5,   188.5,2,  130.90,2,   33.10,2,    2.32,2
 09FA9508_1,      IR6_4,      70,          1,          4,         99,2,19950930,       0539,    -9.1228,   105.6197,       5990,  4499.0,   1.1620,  34.7130,2,  34.7146,2,-999.0000,5,   192.0,2,  129.74,2,   32.96,2,    2.31,2
 09FA9508_1,      IR6_4,      70,          1,          3,         14,2,19950930,       0539,    -9.1228,   105.6197,       5990,  5000.2,   1.1960,  34.7130,2,  34.7142,2,-999.0000,5,   193.3,2,  129.77,2,   32.88,2,    2.31,2
 09FA9508_1,      IR6_4,      70,          1,          2,          5,2,19950930,       0539,    -9.1228,   105.6197,       5990,  5500.9,   1.2480,  34.7130,2,  34.7130,2,-999.0000,5,   195.0,2,  129.69,2,   32.74,2,    2.29,2
 09FA9508_1,      IR6_4,      70,          1,          1,         18,2,19950930,       0539,    -9.1228,   105.6197,       5990,  6000.4,   1.3080,  34.7120,2,  34.7133,2,-999.0000,5,   195.8,2,  129.32,2,   32.75,2,    2.30,2
 09FA9508_1,      IR6_4,      71,          1,         24,         21,2,19950930,       1316,    -9.4110,   106.0845,       6251,     2.7,  26.8460,  34.4690,2,  34.4724,2,-999.0000,5,   204.6,2,    5.05,2,    0.28,2,    0.18,2
 09FA9508_1,      IR6_4,      71,          1,         23,         66,2,19950930,       1316,    -9.4110,   106.0845,       6251,    49.3,  23.2120,  34.3990,2,  34.3981,2,-999.0000,5,   172.6,2,   10.98,2,    6.71,2,    0.52,2
 09FA9508_1,      IR6_4,      71,          1,         22,         43,2,19950930,       1316,    -9.4110,   106.0845,       6251,    99.2,  16.3680,  34.5310,2,  34.5314,2,-999.0000,5,   108.2,2,   29.13,2,   19.05,2,    1.43,2
 09FA9508_1,      IR6_4,      71,          1,         21,          7,2,19950930,       1316,    -9.4110,   106.0845,       6251,   147.4,  13.6890,  34.6100,2,  34.6062,2,-999.0000,5,    99.8,2,   36.08,2,   22.96,2,    1.70,2
 09FA9508_1,      IR6_4,      71,          1,         20,         10,2,19950930,       1316,    -9.4110,   106.0845,       6251,   198.1,  11.8370,  34.5550,2,  34.5590,2,-999.0000,5,    96.6,2,   42.92,2,   25.71,2,    1.91,2
 09FA9508_1,      IR6_4,      71,          1,         19,         42,2,19950930,       1316,    -9.4110,   106.0845,       6251,   298.5,  10.2880,  34.6370,2,  34.6310,2,-999.0000,5,    86.2,2,   47.53,2,   28.89,2,    2.09,2
 09FA9508_1,      IR6_4,      71,          1,         18,         13,2,19950930,       1316,    -9.4110,   106.0845,       6251,   395.9,   9.3660,  34.6920,2,  34.6892,2,-999.0000,5,    81.5,2,   48.59,2,   30.79,2,    2.21,2
 09FA9508_1,      IR6_4,      71,          1,         17,         27,2,19950930,       1316,    -9.4110,   106.0845,       6251,   498.3,   8.1670,  34.6800,2,  34.6857,2,-999.0000,5,    77.8,2,   58.77,2,   33.27,2,    2.38,2
 09FA9508_1,      IR6_4,      71,          1,         16,         20,2,19950930,       1316,    -9.4110,   106.0845,       6251,   595.5,   7.2770,  34.6580,2,  34.6629,2,-999.0000,5,    77.8,2,   70.23,2,   34.63,2,    2.48,2
 09FA9508_1,      IR6_4,      71,          1,         15,         11,2,19950930,       1316,    -9.4110,   106.0845,       6251,   697.6,   6.6890,  34.6600,2,  34.6621,2,-999.0000,5,    77.5,2,   80.23,2,   35.31,2,    2.55,2
 09FA9508_1,      IR6_4,      71,          1,         14,          8,2,19950930,       1316,    -9.4110,   106.0845,       6251,   796.3,   5.9110,  34.6340,2,  34.6373,2,-999.0000,5,    83.6,2,   90.21,2,   35.76,2,    2.59,2
 09FA9508_1,      IR6_4,      71,          1,         13,          6,2,19950930,       1316,    -9.4110,   106.0845,       6251,   894.1,   5.3210,  34.6220,2,  34.6255,2,-999.0000,5,    89.1,2,   99.62,2,   36.16,2,    2.63,2
 09FA9508_1,      IR6_4,      71,          1,         12,         35,2,19950930,       1316,    -9.4110,   106.0845,       6251,   994.0,   4.7970,  34.6190,2,  34.6223,2,-999.0000,5,    92.9,2,  105.78,2,   36.36,2,    2.64,2
 09FA9508_1,      IR6_4,      71,          1,         11,          3,2,19950930,       1316,    -9.4110,   106.0845,       6251,  1245.0,   4.0360,  34.6710,2,-999.0000,9,-999.0000,5,   100.7,2,  113.38,2,   36.54,2,    2.65,2
 09FA9508_1,      IR6_4,      71,          1,         10,         30,2,19950930,       1316,    -9.4110,   106.0845,       6251,  1493.7,   3.4060,  34.7150,2,  34.7199,2,-999.0000,5,   113.1,2,  116.52,2,   36.11,2,    2.63,2
 09FA9508_1,      IR6_4,      71,          1,          9,         24,2,19950930,       1316,    -9.4110,   106.0845,       6251,  1694.3,   2.9830,  34.7370,2,  34.7396,2,-999.0000,5,   123.2,2,  119.57,2,   35.91,2,    2.59,2
 09FA9508_1,      IR6_4,      71,          1,          8,         17,2,19950930,       1316,    -9.4110,   106.0845,       6251,  1996.1,   2.4560,  34.7400,2,  34.7440,2,-999.0000,5,   138.4,2,  123.40,2,   35.28,2,    2.53,2
 09FA9508_1,      IR6_4,      71,          1,          7,         48,2,19950930,       1316,    -9.4110,   106.0845,       6251,  2998.8,   1.6210,  34.7260,2,  34.7255,2,-999.0000,5,   163.1,2,  129.77,2,   34.20,2,    2.42,2
 09FA9508_1,      IR6_4,      71,          1,          6,         15,2,19950930,       1316,    -9.4110,   106.0845,       6251,  3499.6,   1.3320,  34.7180,2,  34.7211,2,-999.0000,5,   178.4,2,  131.92,2,   33.67,2,    2.38,2
 09FA9508_1,      IR6_4,      71,          1,          5,         28,2,19950930,       1316,    -9.4110,   106.0845,       6251,  4000.0,   1.1550,  34.7140,2,  34.7215,2,-999.0000,5,   189.5,2,  130.25,2,   33.30,2,    2.34,2
 09FA9508_1,      IR6_4,      71,          1,          4,         99,2,19950930,       1316,    -9.4110,   106.0845,       6251,  4496.7,   1.1570,  34.7130,2,  34.7156,2,-999.0000,5,   192.3,2,  130.00,2,   33.11,2,    2.32,2
 09FA9508_1,      IR6_4,      71,          1,          3,         14,2,19950930,       1316,    -9.4110,   106.0845,       6251,  5000.8,   1.1940,  34.7130,2,  34.7164,2,-999.0000,5,   193.8,2,  129.46,2,   33.08,2,    2.31,2
 09FA9508_1,      IR6_4,      71,          1,          2,          5,2,19950930,       1316,    -9.4110,   106.0845,       6251,  5499.3,   1.2470,  34.7130,2,  34.7144,2,-999.0000,5,   194.6,2,  129.48,2,   33.04,2,    2.30,2
 09FA9508_1,      IR6_4,      71,          1,          1,         18,2,19950930,       1316,    -9.4110,   106.0845,       6251,  6000.0,   1.3110,  34.7120,2,  34.7152,2,-999.0000,5,   194.6,2,  129.83,2,   33.04,2,    2.30,2
 09FA9508_1,      IR6_4,      72,          1,         24,         21,2,19950930,       2025,    -9.6617,   106.4458,       5987,     3.2,  26.8910,  34.4600,2,  34.4634,2,-999.0000,5,   241.6,2,    4.35,2,    0.12,2,    0.15,2
 09FA9508_1,      IR6_4,      72,          1,         23,         66,2,19950930,       2025,    -9.6617,   106.4458,       5987,    48.9,  24.8280,  34.4260,2,  34.4308,2,-999.0000,5,   194.3,2,    6.03,2,    2.42,2,    0.30,2
 09FA9508_1,      IR6_4,      72,          1,         22,         43,2,19950930,       2025,    -9.6617,   106.4458,       5987,   100.3,  16.6770,  34.5660,2,  34.5626,2,-999.0000,5,   106.1,2,   27.40,2,   19.21,2,    1.40,2
 09FA9508_1,      IR6_4,      72,          1,         21,          7,2,19950930,       2025,    -9.6617,   106.4458,       5987,   198.9,  11.4880,  34.6090,2,  34.6102,2,-999.0000,5,    93.7,2,   41.20,2,   26.50,2,    1.93,2
 09FA9508_1,      IR6_4,      72,          1,         20,         10,2,19950930,       2025,    -9.6617,   106.4458,       5987,   297.6,  10.3240,  34.5950,2,  34.5940,2,-999.0000,5,    86.3,2,   45.49,2,   29.17,2,    2.11,2
 09FA9508_1,      IR6_4,      72,          1,         19,         42,2,19950930,       2025,    -9.6617,   106.4458,       5987,   398.3,   9.1120,  34.7030,2,  34.7030,2,-999.0000,5,    79.0,2,   47.51,2,   32.02,2,    2.25,2
 09FA9508_1,      IR6_4,      72,          1,         18,         13,2,19950930,       2025,    -9.6617,   106.4458,       5987,   496.6,   8.0770,  34.6750,2,  34.6767,2,-999.0000,5,    76.2,2,   58.49,2,   33.91,2,    2.43,2
 09FA9508_1,      IR6_4,      72,          1,         17,         27,2,19950930,       2025,    -9.6617,   106.4458,       5987,   596.8,   7.5080,  34.6780,2,  34.6767,2,-999.0000,5,    74.6,2,   65.61,2,   34.73,2,    2.52,2
 09FA9508_1,      IR6_4,      72,          1,         16,         20,2,19950930,       2025,    -9.6617,   106.4458,       5987,   696.4,   6.7390,  34.6530,2,  34.6531,2,-999.0000,5,    77.1,2,   75.95,2,   35.56,2,    2.58,2
 09FA9508_1,      IR6_4,      72,          1,         15,         11,2,19950930,       2025,    -9.6617,   106.4458,       5987,   797.6,   6.0300,  34.6360,2,  34.6373,2,-999.0000,5,    82.3,2,   84.84,2,   36.02,2,    2.62,2
 09FA9508_1,      IR6_4,      72,          1,         14,          8,2,19950930,       2025,    -9.6617,   106.4458,       5987,   896.1,   5.4300,  34.6210,2,  34.6220,2,-999.0000,5,    87.7,2,   93.86,2,   36.27,2,    2.63,2
 09FA9508_1,      IR6_4,      72,          1,         13,          6,2,19950930,       2025,    -9.6617,   106.4458,       5987,   996.3,   4.9390,  34.6190,2,  34.6153,2,-999.0000,5,    92.0,2,   98.70,2,   36.40,2,    2.66,2
 09FA9508_1,      IR6_4,      72,          1,         12,         35,2,19950930,       2025,    -9.6617,   106.4458,       5987,  1245.5,   3.9880,  34.6480,2,  34.6468,2,-999.0000,5,   100.8,2,  114.06,2,   36.64,2,    2.68,2
 09FA9508_1,      IR6_4,      72,          1,         11,          3,2,19950930,       2025,    -9.6617,   106.4458,       5987,  1494.8,   3.2500,  34.6880,2,  34.6889,2,-999.0000,5,   115.5,2,  117.52,2,   36.06,2,    2.63,2
 09FA9508_1,      IR6_4,      72,          1,         10,         30,2,19950930,       2025,    -9.6617,   106.4458,       5987,  1745.4,   2.8780,  34.7190,2,  34.7176,2,-999.0000,5,   125.0,2,  122.43,2,   35.87,2,    2.59,2
 09FA9508_1,      IR6_4,      72,          1,          9,         24,2,19950930,       2025,    -9.6617,   106.4458,       5987,  1995.5,   2.5070,  34.7370,2,  34.7345,2,-999.0000,5,   137.8,2,  123.73,2,   35.32,2,    2.54,2
 09FA9508_1,      IR6_4,      72,          1,          8,         17,2,19950930,       2025,    -9.6617,   106.4458,       5987,  2498.3,   1.9830,  34.7340,2,  34.7334,2,-999.0000,5,   154.9,2,  128.89,2,   34.61,2,    2.46,2
 09FA9508_1,      IR6_4,      72,          1,          7,         48,2,19950930,       2025,    -9.6617,   106.4458,       5987,  2999.0,   1.6290,  34.7250,2,  34.7239,2,-999.0000,5,   164.0,2,  130.12,2,   34.23,2,    2.43,2
 09FA9508_1,      IR6_4,      72,          1,          6,         15,2,19950930,       2025,    -9.6617,   106.4458,       5987,  3499.9,   1.3420,  34.7190,2,  34.7188,2,-999.0000,5,   178.1,2,  132.48,2,   33.56,2,    2.38,2
 09FA9508_1,      IR6_4,      72,          1,          5,         28,2,19950930,       2025,    -9.6617,   106.4458,       5987,  4001.0,   1.1620,  34.7160,2,  34.7164,2,-999.0000,5,   188.7,2,  131.00,2,   33.19,2,    2.32,2
 09FA9508_1,      IR6_4,      72,          1,          4,         99,2,19950930,       2025,    -9.6617,   106.4458,       5987,  4500.8,   1.1590,  34.7130,2,  34.7137,2,-999.0000,5,   191.8,2,  128.39,2,   32.90,2,    2.31,2
 09FA9508_1,      IR6_4,      72,          1,          3,         14,2,19950930,       2025,    -9.6617,   106.4458,       5987,  5003.1,   1.1920,  34.7130,2,  34.7137,2,-999.0000,5,   192.3,2,  129.63,2,   32.93,2,    2.30,2
 09FA9508_1,      IR6_4,      72,          1,          2,          5,2,19950930,       2025,    -9.6617,   106.4458,       5987,  5499.1,   1.2480,  34.7130,2,  34.7113,2,-999.0000,5,   194.2,2,  130.55,2,   32.93,2,    2.30,2
 09FA9508_1,      IR6_4,      72,          1,          1,         18,2,19950930,       2025,    -9.6617,   106.4458,       5987,  6002.1,   1.3080,  34.7130,2,  34.7137,2,-999.0000,5,   194.8,2,  129.25,2,   32.83,2,    2.30,2