BOTTLE,20211101CCHSIORKP
EXPOCODE,SECT_ID,STNNBR,CASTNO,SAMPNO,BTLNBR,BTLNBR_FLAG_W,DATE,TIME,LATITUDE,LONGITUDE,DEPTH,CTDPRS,CTDTMP,CTDSAL,CTDSAL_FLAG_W,SALNTY,SALNTY_FLAG_W,CTDOXY,CTDOXY_FLAG_W,OXYGEN,OXYGEN_FLAG_W,SILCAT,SILCAT_FLAG_W,NITRAT,NITRAT_FLAG_W,PHSPHT,PHSPHT_FLAG_W
,,,,,,,,,,,METERS,DBAR,ITS-90,PSS-78,,PSS-78,,UMOL/KG,,UMOL/KG,,UMOL/KG,,UMOL/KG,,UMOL/KG,
 09FA9508_1,      IR6_4,      33,          1,         23,          8,2,19950920,       1628,   -18.6550,   108.6255,       5583,    47.4,  23.4420,  35.0210,2,  35.0209,2,-999.0000,5,   215.2,2,    7.43,2,    0.48,2,    0.31,2
 09FA9508_1,      IR6_4,      33,          1,         22,         13,2,19950920,       1628,   -18.6550,   108.6255,       5583,   138.8,  20.3520,  35.1310,2,  35.1406,2,-999.0000,5,   142.6,2,   13.30,2,    9.80,2,    0.72,2
 09FA9508_1,      IR6_4,      33,          1,         21,          9,2,19950920,       1628,   -18.6550,   108.6255,       5583,   208.5,  17.6290,  35.5660,2,  35.5615,2,-999.0000,5,   173.0,2,   10.76,2,    7.61,2,    0.60,2
 09FA9508_1,      IR6_4,      33,          1,         20,         25,2,19950920,       1628,   -18.6550,   108.6255,       5583,   308.2,  13.4590,  35.3500,2,  35.3555,2,-999.0000,5,   221.1,2,    5.16,2,    6.71,2,    0.56,2
 09FA9508_1,      IR6_4,      33,          1,         19,          6,2,19950920,       1628,   -18.6550,   108.6255,       5583,   407.5,  10.7590,  34.9190,2,  34.9252,2,-999.0000,5,   237.5,2,    5.04,2,   11.55,2,    0.85,2
 09FA9508_1,      IR6_4,      33,          1,         18,         21,2,19950920,       1628,   -18.6550,   108.6255,       5583,   518.2,   8.9780,  34.6430,2,  34.6447,2,-999.0000,5,   230.5,2,    7.71,2,   18.06,2,    1.27,2
 09FA9508_1,      IR6_4,      33,          1,         17,          4,3,19950920,       1628,   -18.6550,   108.6255,       5583,   596.5,   7.7210,  34.5790,2,-999.0000,9,-999.0000,5,  -999.0,9, -999.00,9, -999.00,9, -999.00,9
 09FA9508_1,      IR6_4,      33,          1,         16,         35,2,19950920,       1628,   -18.6550,   108.6255,       5583,   687.6,   6.5700,  34.5620,2,  34.5633,2,-999.0000,5,   139.0,2,   48.01,2,   30.81,2,    2.12,2
 09FA9508_1,      IR6_4,      33,          1,         15,         28,2,19950920,       1628,   -18.6550,   108.6255,       5583,   798.0,   6.1070,  34.6270,2,  34.6254,2,-999.0000,5,    96.7,2,   74.70,2,   35.05,2,    2.49,2
 09FA9508_1,      IR6_4,      33,          1,         13,         29,2,19950920,       1628,   -18.6550,   108.6255,       5583,   996.0,   5.2140,  34.6380,2,  34.6380,2,-999.0000,5,    91.0,2,   92.42,2,   36.61,2,    2.62,2
 09FA9508_1,      IR6_4,      33,          1,         12,          7,2,19950920,       1628,   -18.6550,   108.6255,       5583,  1195.8,   4.4860,  34.6420,2,  34.6443,2,-999.0000,5,   101.3,2,   98.99,2,   36.61,2,    2.64,2
 09FA9508_1,      IR6_4,      33,          1,         11,         10,2,19950920,       1628,   -18.6550,   108.6255,       5583,  1394.5,   3.7810,  34.6550,2,  34.6560,2,-999.0000,5,   114.7,2,  102.14,2,   36.45,2,    2.60,2
 09FA9508_1,      IR6_4,      33,          1,         10,         19,2,19950920,       1628,   -18.6550,   108.6255,       5583,  1596.6,   3.1700,  34.6840,2,  34.6831,2,-999.0000,5,   128.1,2,  106.30,2,   35.85,2,    2.57,2
 09FA9508_1,      IR6_4,      33,          1,          9,         20,2,19950920,       1628,   -18.6550,   108.6255,       5583,  1789.6,   2.7250,  34.7080,2,  34.7071,2,-999.0000,5,   139.2,2,  111.27,2,   35.35,2,    2.55,2
 09FA9508_1,      IR6_4,      33,          1,          8,         18,2,19950920,       1628,   -18.6550,   108.6255,       5583,  1996.6,   2.4100,  34.7220,2,  34.7224,2,-999.0000,5,   142.8,2,  123.24,2,   35.32,2,    2.52,2
 09FA9508_1,      IR6_4,      33,          1,          7,         11,2,19950920,       1628,   -18.6550,   108.6255,       5583,  2498.6,   1.9290,  34.7290,2,  34.7259,2,-999.0000,5,   157.2,2,  128.48,2,   34.84,2,    2.47,2
 09FA9508_1,      IR6_4,      33,          1,          6,         30,2,19950920,       1628,   -18.6550,   108.6255,       5583,  2998.0,   1.5960,  34.7260,2,  34.7251,2,-999.0000,5,   168.8,2,  129.75,2,   34.27,2,    2.42,2
 09FA9508_1,      IR6_4,      33,          1,          5,         27,2,19950920,       1628,   -18.6550,   108.6255,       5583,  3498.9,   1.3150,  34.7200,2,  34.7207,2,-999.0000,5,   182.1,2,  130.91,2,   33.87,2,    2.39,2
 09FA9508_1,      IR6_4,      33,          1,          4,         24,2,19950920,       1628,   -18.6550,   108.6255,       5583,  4000.5,   1.2110,  34.7160,2,  34.7176,2,-999.0000,5,   188.2,2,  133.78,2,   33.68,2,    2.40,2
 09FA9508_1,      IR6_4,      33,          1,          3,          5,2,19950920,       1628,   -18.6550,   108.6255,       5583,  4499.3,   1.1760,  34.7150,2,  34.7160,2,-999.0000,5,   189.7,2,  131.27,2,   33.57,2,    2.35,2
 09FA9508_1,      IR6_4,      33,          1,          2,          3,2,19950920,       1628,   -18.6550,   108.6255,       5583,  5005.2,   1.1800,  34.7150,2,  34.7159,2,-999.0000,5,   193.8,2,  130.90,2,   33.51,2,    2.37,2
 09FA9508_1,      IR6_4,      33,          1,          1,         12,2,19950920,       1628,   -18.6550,   108.6255,       5583,  5704.1,   1.2240,  34.7120,2,  34.7131,2,-999.0000,5,   187.2,2,  129.37,2,   33.68,2,    2.37,2
 09FA9508_1,      IR6_4,      34,          1,         24,         24,2,19950920,       2310,   -18.1827,   108.4828,       5577,     1.2,  23.5370,  34.9480,2,  34.9528,2,-999.0000,5,   210.9,2,    5.55,2,    0.25,2,    0.14,2
 09FA9508_1,      IR6_4,      34,          1,         23,          8,2,19950920,       2310,   -18.1827,   108.4828,       5577,    49.3,  23.4360,  34.9530,2,  34.9535,2,-999.0000,5,   211.4,2,    5.32,2,    0.29,2,    0.13,2
 09FA9508_1,      IR6_4,      34,          1,         22,         13,2,19950920,       2310,   -18.1827,   108.4828,       5577,    99.0,  22.6570,  35.2080,2,  35.1970,2,-999.0000,5,   209.9,2,    5.24,2,    0.29,2,    0.13,2
 09FA9508_1,      IR6_4,      34,          1,         21,          9,2,19950920,       2310,   -18.1827,   108.4828,       5577,   197.0,  18.7910,  35.6320,2,  35.6353,2,-999.0000,5,   173.8,2,    9.50,2,    6.13,2,    0.40,2
 09FA9508_1,      IR6_4,      34,          1,         20,         25,2,19950920,       2310,   -18.1827,   108.4828,       5577,   248.9,  16.5490,  35.7500,2,  35.7182,2,-999.0000,5,   205.2,2,    6.01,2,    3.80,2,    0.35,2
 09FA9508_1,      IR6_4,      34,          1,         19,          6,2,19950920,       2310,   -18.1827,   108.4828,       5577,   297.8,  14.4930,  35.5090,2,  35.5101,2,-999.0000,5,   219.6,2,    4.83,2,    5.00,2,    0.43,2
 09FA9508_1,      IR6_4,      34,          1,         18,         21,2,19950920,       2310,   -18.1827,   108.4828,       5577,   349.4,  12.5900,  35.2150,2,  35.2285,2,-999.0000,5,   231.7,2,    4.39,2,    7.48,2,    0.58,2
 09FA9508_1,      IR6_4,      34,          1,         17,          4,2,19950920,       2310,   -18.1827,   108.4828,       5577,   396.6,  11.3320,  35.0100,2,  35.0118,2,-999.0000,5,   240.2,2,    4.97,2,   10.29,2,    0.79,2
 09FA9508_1,      IR6_4,      34,          1,         16,         35,2,19950920,       2310,   -18.1827,   108.4828,       5577,   497.5,   9.5310,  34.7230,2,  34.7241,2,-999.0000,5,   236.7,2,    6.68,2,   15.79,2,    1.12,2
 09FA9508_1,      IR6_4,      34,          1,         15,         28,2,19950920,       2310,   -18.1827,   108.4828,       5577,   602.7,   7.5290,  34.5580,2,  34.5594,2,-999.0000,5,   179.6,2,   26.86,2,   25.91,2,    1.83,2
 09FA9508_1,      IR6_4,      34,          1,         13,         29,2,19950920,       2310,   -18.1827,   108.4828,       5577,   796.9,   6.0000,  34.6390,2,  34.6380,2,-999.0000,5,    92.0,2,   77.38,2,   35.70,2,    2.57,2
 09FA9508_1,      IR6_4,      34,          1,         12,         70,2,19950920,       2310,   -18.1827,   108.4828,       5577,   896.9,   5.5150,  34.6450,2,  34.6459,2,-999.0000,5,    90.2,2,   85.72,2,   36.26,2,    2.62,2
 09FA9508_1,      IR6_4,      34,          1,         11,         10,2,19950920,       2310,   -18.1827,   108.4828,       5577,   997.6,   5.1200,  34.6450,2,  34.6443,2,-999.0000,5,    93.7,2,   92.76,2,   36.54,2,    2.63,2
 09FA9508_1,      IR6_4,      34,          1,         10,         19,2,19950920,       2310,   -18.1827,   108.4828,       5577,  1246.1,   4.2830,  34.6450,2,  34.6486,2,-999.0000,5,   104.6,2, -999.00,9, -999.00,9, -999.00,9
 09FA9508_1,      IR6_4,      34,          1,          9,         20,2,19950920,       2310,   -18.1827,   108.4828,       5577,  1494.4,   3.5050,  34.6670,2,  34.6682,2,-999.0000,5,   119.9,2,  106.34,2,   35.89,2,    2.59,2
 09FA9508_1,      IR6_4,      34,          1,          8,         18,2,19950920,       2310,   -18.1827,   108.4828,       5577,  1995.6,   2.4010,  34.7240,2,  34.7256,2,-999.0000,5,   144.1,2,  122.25,2,   34.97,2,    2.50,2
 09FA9508_1,      IR6_4,      34,          1,          7,         11,2,19950920,       2310,   -18.1827,   108.4828,       5577,  2495.5,   1.9540,  34.7280,2,  34.7291,2,-999.0000,5,   154.9,2,  122.40,2,   34.75,2,    2.46,2
 09FA9508_1,      IR6_4,      34,          1,          6,         30,2,19950920,       2310,   -18.1827,   108.4828,       5577,  2999.0,   1.6170,  34.7250,2,  34.7255,2,-999.0000,5,   168.3,2,  129.37,2,   33.91,2,    2.39,2
 09FA9508_1,      IR6_4,      34,          1,          5,         27,2,19950920,       2310,   -18.1827,   108.4828,       5577,  3495.7,   1.3510,  34.7200,2,  34.7215,2,-999.0000,5,   181.2,2,  122.62,3,   33.46,2,    2.39,3
 09FA9508_1,      IR6_4,      34,          1,          4,         24,2,19950920,       2310,   -18.1827,   108.4828,       5577,  3998.8,   1.2190,  34.7180,2,  34.7188,2,-999.0000,5,   187.8,2,  134.73,2,   33.23,2,    2.31,2
 09FA9508_1,      IR6_4,      34,          1,          3,          5,2,19950920,       2310,   -18.1827,   108.4828,       5577,  4500.6,   1.1830,  34.7160,2,  34.7164,2,-999.0000,5,   191.0,2,  132.87,2,   33.08,2,    2.30,2
 09FA9508_1,      IR6_4,      34,          1,          2,          3,2,19950920,       2310,   -18.1827,   108.4828,       5577,  5001.2,   1.1850,  34.7150,2,  34.7156,2,-999.0000,5,   194.6,2,  132.19,2,   32.89,2,    2.29,2
 09FA9508_1,      IR6_4,      34,          1,          1,         12,2,19950920,       2310,   -18.1827,   108.4828,       5577,  5707.4,   1.2070,  34.7130,2,  34.7163,2,-999.0000,5,   188.7,3,  128.58,3,   32.85,2,    2.29,3
 09FA9508_1,      IR6_4,      35,          1,         24,         24,2,19950921,       0548,   -17.7043,   108.3257,       5416,     1.6,  23.9180,  34.9150,2,  34.9201,2,-999.0000,5,   211.1,2,    5.42,2,    0.25,2,    0.19,2
 09FA9508_1,      IR6_4,      35,          1,         23,          8,2,19950921,       0548,   -17.7043,   108.3257,       5416,    98.1,  22.5870,  35.2140,2,  35.2135,2,-999.0000,5,   204.6,2,    5.66,2,    1.33,2,    0.18,2
 09FA9508_1,      IR6_4,      35,          1,         22,         13,2,19950921,       0548,   -17.7043,   108.3257,       5416,   147.0,  20.4780,  35.3230,2,  35.2687,2,-999.0000,5,   149.6,2,   12.65,2,    8.64,2,    0.60,2
 09FA9508_1,      IR6_4,      35,          1,         21,          9,2,19950921,       0548,   -17.7043,   108.3257,       5416,   199.3,  18.8440,  35.5470,2,  35.5448,2,-999.0000,5,   167.1,2,   10.80,2,    7.28,2,    0.54,2
 09FA9508_1,      IR6_4,      35,          1,         20,         25,2,19950921,       0548,   -17.7043,   108.3257,       5416,   247.7,  17.7150,  35.7650,2,  35.7585,2,-999.0000,5,   194.6,2,    6.95,2,    4.25,2,    0.38,2
 09FA9508_1,      IR6_4,      35,          1,         19,          6,2,19950921,       0548,   -17.7043,   108.3257,       5416,   299.2,  14.5830,  35.4740,2,  35.4730,2,-999.0000,5,   204.2,2,    7.82,2,    6.89,2,    0.57,2
 09FA9508_1,      IR6_4,      35,          1,         18,         21,2,19950921,       0548,   -17.7043,   108.3257,       5416,   349.6,  12.8980,  35.2590,2,  35.2663,2,-999.0000,5,   220.2,2,    6.09,2,    8.14,2,    0.62,2
 09FA9508_1,      IR6_4,      35,          1,         17,          4,2,19950921,       0548,   -17.7043,   108.3257,       5416,   399.5,  11.3330,  35.0150,2,  35.0157,2,-999.0000,5,   232.0,2,    5.84,2,   10.78,2,    0.79,2
 09FA9508_1,      IR6_4,      35,          1,         16,         35,2,19950921,       0548,   -17.7043,   108.3257,       5416,   497.0,   9.4730,  34.7300,2,  34.7391,2,-999.0000,5,   224.1,2,    9.08,2,   16.64,2,    1.18,2
 09FA9508_1,      IR6_4,      35,          1,         15,         28,2,19950921,       0548,   -17.7043,   108.3257,       5416,   599.2,   7.5280,  34.5840,2,  34.5799,2,-999.0000,5,   165.1,2,   32.95,2,   26.96,2,    1.90,2
 09FA9508_1,      IR6_4,      35,          1,         13,         29,2,19950921,       0548,   -17.7043,   108.3257,       5416,   796.4,   6.0250,  34.6230,2,  34.6247,2,-999.0000,5,   100.7,2,   77.12,2,   34.96,2,    2.51,2
 09FA9508_1,      IR6_4,      35,          1,         12,          7,2,19950921,       0548,   -17.7043,   108.3257,       5416,   895.7,   5.5140,  34.6330,2,  34.6337,2,-999.0000,5,    96.4,2,   88.84,2,   35.98,2,    2.59,2
 09FA9508_1,      IR6_4,      35,          1,         11,         10,2,19950921,       0548,   -17.7043,   108.3257,       5416,   995.1,   5.0790,  34.6390,2,  34.6408,2,-999.0000,5,    98.0,2,   96.41,2,   36.40,2,    2.62,2
 09FA9508_1,      IR6_4,      35,          1,         10,         19,2,19950921,       0548,   -17.7043,   108.3257,       5416,  1246.0,   4.2050,  34.6510,2,  34.6518,2,-999.0000,5,   111.3,2,  101.67,2,   36.34,2,    2.61,2
 09FA9508_1,      IR6_4,      35,          1,          9,         20,2,19950921,       0548,   -17.7043,   108.3257,       5416,  1494.9,   3.3600,  34.6750,2,  34.6754,2,-999.0000,5,   127.6,2,  107.94,2,   35.81,2,    2.58,2
 09FA9508_1,      IR6_4,      35,          1,          8,         18,2,19950921,       0548,   -17.7043,   108.3257,       5416,  1996.8,   2.4010,  34.7250,2,  34.7210,2,-999.0000,5,   146.5,2,  122.48,2,   35.03,2,    2.50,2
 09FA9508_1,      IR6_4,      35,          1,          7,         11,2,19950921,       0548,   -17.7043,   108.3257,       5416,  2498.7,   1.9200,  34.7290,2,  34.7265,2,-999.0000,5,   160.8,2,  126.90,2,   34.56,2,    2.45,2
 09FA9508_1,      IR6_4,      35,          1,          6,         30,2,19950921,       0548,   -17.7043,   108.3257,       5416,  2997.7,   1.5900,  34.7250,2,  34.7257,2,-999.0000,5,   171.9,2,  128.37,2,   33.95,2,    2.41,2
 09FA9508_1,      IR6_4,      35,          1,          5,         27,2,19950921,       0548,   -17.7043,   108.3257,       5416,  3499.8,   1.3300,  34.7200,2,  34.7214,2,-999.0000,5,   183.2,2,  132.52,2,   33.79,2,    2.38,2
 09FA9508_1,      IR6_4,      35,          1,          4,         24,2,19950921,       0548,   -17.7043,   108.3257,       5416,  4000.5,   1.2160,  34.7160,2,  34.7175,2,-999.0000,5,   190.1,2,  133.56,2,   33.54,2,    2.37,2
 09FA9508_1,      IR6_4,      35,          1,          3,          5,2,19950921,       0548,   -17.7043,   108.3257,       5416,  4500.9,   1.1810,  34.7150,2,  34.7159,2,-999.0000,5,   192.5,2,  134.85,2,   33.45,2,    2.35,2
 09FA9508_1,      IR6_4,      35,          1,          2,          3,2,19950921,       0548,   -17.7043,   108.3257,       5416,  4999.6,   1.1770,  34.7140,2,  34.7139,2,-999.0000,5,   195.4,2,  129.63,2,   33.31,2,    2.36,2
 09FA9508_1,      IR6_4,      35,          1,          1,         12,2,19950921,       0548,   -17.7043,   108.3257,       5416,  5524.0,   1.1890,  34.7130,2,  34.7202,3,-999.0000,5,   189.6,3,  125.95,3,   32.94,2,    2.32,2