BOTTLE,20211101CCHSIORKP
EXPOCODE,SECT_ID,STNNBR,CASTNO,SAMPNO,BTLNBR,BTLNBR_FLAG_W,DATE,TIME,LATITUDE,LONGITUDE,DEPTH,CTDPRS,CTDTMP,CTDSAL,CTDSAL_FLAG_W,SALNTY,SALNTY_FLAG_W,CTDOXY,CTDOXY_FLAG_W,OXYGEN,OXYGEN_FLAG_W,SILCAT,SILCAT_FLAG_W,NITRAT,NITRAT_FLAG_W,PHSPHT,PHSPHT_FLAG_W
,,,,,,,,,,,METERS,DBAR,ITS-90,PSS-78,,PSS-78,,UMOL/KG,,UMOL/KG,,UMOL/KG,,UMOL/KG,,UMOL/KG,
 09FA9508_1,      IR6_4,      30,          1,         24,         24,2,19950919,       2050,   -20.0842,   109.1158,       4164,     3.9,  23.6320,  34.9130,2,  34.9160,2,-999.0000,5,   212.4,2,    5.41,2,    0.77,2,    0.15,2
 09FA9508_1,      IR6_4,      30,          1,         23,          8,2,19950919,       2050,   -20.0842,   109.1158,       4164,    50.2,  23.3480,  35.1420,2,  35.1409,2,-999.0000,5,   212.9,2,    5.77,2,    0.24,2,    0.17,2
 09FA9508_1,      IR6_4,      30,          1,         22,         13,2,19950919,       2050,   -20.0842,   109.1158,       4164,    99.9,  22.9670,  35.1660,2,  35.1617,2,-999.0000,5,   208.2,2,    5.78,2,    0.95,2,    0.19,2
 09FA9508_1,      IR6_4,      30,          1,         21,          9,2,19950919,       2050,   -20.0842,   109.1158,       4164,   149.4,  22.2310,  35.3010,2,  35.2944,2,-999.0000,5,   189.8,2,    6.78,2,    2.93,2,    0.30,2
 09FA9508_1,      IR6_4,      30,          1,         20,         25,2,19950919,       2050,   -20.0842,   109.1158,       4164,   198.3,  19.7620,  35.4330,2,  35.4209,2,-999.0000,5,   156.9,2,   11.76,2,    7.95,2,    0.60,2
 09FA9508_1,      IR6_4,      30,          1,         19,          6,2,19950919,       2050,   -20.0842,   109.1158,       4164,   246.9,  17.5600,  35.6220,2,  35.6202,2,-999.0000,5,   177.0,2,   10.20,2,    6.88,2,    0.56,2
 09FA9508_1,      IR6_4,      30,          1,         18,         21,2,19950919,       2050,   -20.0842,   109.1158,       4164,   299.4,  15.6910,  35.5850,2,  35.5865,2,-999.0000,5,   195.9,2,    8.38,2,    6.40,2,    0.56,2
 09FA9508_1,      IR6_4,      30,          1,         17,          4,2,19950919,       2050,   -20.0842,   109.1158,       4164,   345.8,  13.8750,  35.3860,2,  35.3895,2,-999.0000,5,   210.6,2,    7.54,2,    7.33,2,    0.62,2
 09FA9508_1,      IR6_4,      30,          1,         16,         35,2,19950919,       2050,   -20.0842,   109.1158,       4164,   398.9,  12.1050,  35.1400,2,  35.1359,2,-999.0000,5,   229.7,2,    5.34,2,    9.08,2,    0.72,2
 09FA9508_1,      IR6_4,      30,          1,         15,         28,2,19950919,       2050,   -20.0842,   109.1158,       4164,   448.3,  10.4750,  34.8750,2,  34.8822,2,-999.0000,5,   231.1,2,    6.88,2,   12.98,2,    0.97,2
 09FA9508_1,      IR6_4,      30,          1,         13,         29,2,19950919,       2050,   -20.0842,   109.1158,       4164,   595.3,   7.8720,  34.5800,2,  34.5800,2,-999.0000,5,   188.1,2,   22.44,2,   24.35,2,    1.70,2
 09FA9508_1,      IR6_4,      30,          1,         12,         18,2,19950919,       2050,   -20.0842,   109.1158,       4164,   696.8,   6.6360,  34.5810,2,-999.0000,9,-999.0000,5,   133.9,2,   48.96,2,   30.74,2,    2.18,2
 09FA9508_1,      IR6_4,      30,          1,         11,         10,2,19950919,       2050,   -20.0842,   109.1158,       4164,   796.2,   6.0650,  34.6250,2,  34.6259,2,-999.0000,5,    98.0,2,   72.24,2,   35.14,2,    2.51,2
 09FA9508_1,      IR6_4,      30,          1,         10,         19,2,19950919,       2050,   -20.0842,   109.1158,       4164,   896.1,   5.5670,  34.6380,2,  34.6361,2,-999.0000,5,    93.6,2,   83.60,2,   36.12,2,    2.61,2
 09FA9508_1,      IR6_4,      30,          1,          8,         18,2,19950919,       2050,   -20.0842,   109.1158,       4164,  1246.1,   4.2860,  34.6430,2,  34.6404,2,-999.0000,5,   107.3,2,   98.35,2,   36.48,2,    2.61,2
 09FA9508_1,      IR6_4,      30,          1,          7,         11,2,19950919,       2050,   -20.0842,   109.1158,       4164,  1496.3,   3.5580,  34.6600,2,  34.6593,2,-999.0000,5,   122.2,2,   99.49,2,   35.85,2,    2.56,2
 09FA9508_1,      IR6_4,      30,          1,          6,         30,2,19950919,       2050,   -20.0842,   109.1158,       4164,  1995.7,   2.3960,  34.7210,2,  34.7191,2,-999.0000,5,   144.2,2,  127.12,2,   34.44,2,    2.46,2
 09FA9508_1,      IR6_4,      30,          1,          5,         27,2,19950919,       2050,   -20.0842,   109.1158,       4164,  2495.9,   1.9520,  34.7290,2,  34.7242,2,-999.0000,5,   157.7,2,  128.24,2,   34.34,2,    2.42,2
 09FA9508_1,      IR6_4,      30,          1,          4,         24,2,19950919,       2050,   -20.0842,   109.1158,       4164,  2998.1,   1.5500,  34.7250,2,  34.7234,2,-999.0000,5,   173.9,2,  128.51,2,   33.60,2,    2.36,2
 09FA9508_1,      IR6_4,      30,          1,          3,          5,2,19950919,       2050,   -20.0842,   109.1158,       4164,  3498.4,   1.2770,  34.7190,2,  34.7179,2,-999.0000,5,   184.8,2,  132.33,2,   33.06,2,    2.31,2
 09FA9508_1,      IR6_4,      30,          1,          2,          3,2,19950919,       2050,   -20.0842,   109.1158,       4164,  4002.4,   1.1700,  34.7170,2,  34.7171,2,-999.0000,5,   189.7,2,  129.26,2,   33.02,2,    2.30,2
 09FA9508_1,      IR6_4,      30,          1,          1,         12,2,19950919,       2050,   -20.0842,   109.1158,       4164,  4247.3,   1.1580,  34.7160,2,  34.7116,2,-999.0000,5,   186.6,2,  132.43,2,   32.99,2,    2.30,2
 09FA9508_1,      IR6_4,      31,          1,         24,         24,2,19950920,       0251,   -19.6108,   108.9300,       4967,     1.5,  23.5850,  34.9820,2,  34.9832,2,-999.0000,5,   211.4,2, -999.00,9, -999.00,9, -999.00,9
 09FA9508_1,      IR6_4,      31,          1,         23,          8,2,19950920,       0251,   -19.6108,   108.9300,       4967,    48.9,  23.3860,  35.1270,2,  35.1218,2,-999.0000,5,   213.4,2, -999.00,9, -999.00,9, -999.00,9
 09FA9508_1,      IR6_4,      31,          1,         22,         13,2,19950920,       0251,   -19.6108,   108.9300,       4967,    97.7,  23.2700,  35.1410,2,  35.1368,2,-999.0000,5,   207.2,2, -999.00,9, -999.00,9, -999.00,9
 09FA9508_1,      IR6_4,      31,          1,         21,          9,2,19950920,       0251,   -19.6108,   108.9300,       4967,   196.6,  20.0220,  35.3330,2,  35.3072,2,-999.0000,5,   150.6,2, -999.00,9, -999.00,9, -999.00,9
 09FA9508_1,      IR6_4,      31,          1,         20,         25,2,19950920,       0251,   -19.6108,   108.9300,       4967,   297.2,  16.0080,  35.6990,2,  35.6873,2,-999.0000,5,   212.3,2, -999.00,9, -999.00,9, -999.00,9
 09FA9508_1,      IR6_4,      31,          1,         19,          6,2,19950920,       0251,   -19.6108,   108.9300,       4967,   297.2,  16.0080,  35.6990,2,  35.6996,2,-999.0000,5,   213.7,2, -999.00,9, -999.00,9, -999.00,9
 09FA9508_1,      IR6_4,      31,          1,         18,         21,2,19950920,       0251,   -19.6108,   108.9300,       4967,   346.2,  13.9250,  35.4180,2,  35.4169,2,-999.0000,5,   219.6,2, -999.00,9, -999.00,9, -999.00,9
 09FA9508_1,      IR6_4,      31,          1,         17,          4,2,19950920,       0251,   -19.6108,   108.9300,       4967,   399.3,  11.9200,  35.1070,2,  35.1094,2,-999.0000,5,   227.6,2, -999.00,9, -999.00,9, -999.00,9
 09FA9508_1,      IR6_4,      31,          1,         16,         35,2,19950920,       0251,   -19.6108,   108.9300,       4967,   496.7,   9.6200,  34.7370,2,  34.7394,2,-999.0000,5,   236.8,2, -999.00,9, -999.00,9, -999.00,9
 09FA9508_1,      IR6_4,      31,          1,         15,         28,2,19950920,       0251,   -19.6108,   108.9300,       4967,   599.1,   8.1420,  34.6020,2,  34.6003,2,-999.0000,5,   189.6,2, -999.00,9, -999.00,9, -999.00,9
 09FA9508_1,      IR6_4,      31,          1,         14,         32,2,19950920,       0251,   -19.6108,   108.9300,       4967,   695.3,   6.5730,  34.5870,2,  34.5842,2,-999.0000,5,   127.7,2, -999.00,9, -999.00,9, -999.00,9
 09FA9508_1,      IR6_4,      31,          1,         13,         29,2,19950920,       0251,   -19.6108,   108.9300,       4967,   795.3,   6.0490,  34.6240,2,  34.6251,2,-999.0000,5,   102.2,2, -999.00,9, -999.00,9, -999.00,9
 09FA9508_1,      IR6_4,      31,          1,         11,         10,2,19950920,       0251,   -19.6108,   108.9300,       4967,   995.1,   5.0760,  34.6250,2,  34.6255,2,-999.0000,5,   102.7,2, -999.00,9, -999.00,9, -999.00,9
 09FA9508_1,      IR6_4,      31,          1,         10,         19,2,19950920,       0251,   -19.6108,   108.9300,       4967,  1247.9,   4.2440,  34.6400,2,  34.6419,2,-999.0000,5,   110.8,2, -999.00,9, -999.00,9, -999.00,9
 09FA9508_1,      IR6_4,      31,          1,          8,         18,2,19950920,       0251,   -19.6108,   108.9300,       4967,  1744.5,   2.8390,  34.7000,2,  34.6989,2,-999.0000,5,   135.4,2, -999.00,9, -999.00,9, -999.00,9
 09FA9508_1,      IR6_4,      31,          1,          7,         11,2,19950920,       0251,   -19.6108,   108.9300,       4967,  1993.6,   2.4230,  34.7190,2,  34.7185,2,-999.0000,5,   144.6,2, -999.00,9, -999.00,9, -999.00,9
 09FA9508_1,      IR6_4,      31,          1,          6,         30,2,19950920,       0251,   -19.6108,   108.9300,       4967,  2496.9,   1.9270,  34.7280,2,  34.7260,2,-999.0000,5,   157.4,2, -999.00,9, -999.00,9, -999.00,9
 09FA9508_1,      IR6_4,      31,          1,          5,         27,2,19950920,       0251,   -19.6108,   108.9300,       4967,  2997.0,   1.5850,  34.7260,2,  34.7248,2,-999.0000,5,   174.2,2, -999.00,9, -999.00,9, -999.00,9
 09FA9508_1,      IR6_4,      31,          1,          4,         24,2,19950920,       0251,   -19.6108,   108.9300,       4967,  3500.9,   1.2890,  34.7190,2,  34.7192,2,-999.0000,5,   184.8,2, -999.00,9, -999.00,9, -999.00,9
 09FA9508_1,      IR6_4,      31,          1,          3,          5,2,19950920,       0251,   -19.6108,   108.9300,       4967,  4006.2,   1.1720,  34.7150,2,  34.7149,2,-999.0000,5,   189.6,2, -999.00,9, -999.00,9, -999.00,9
 09FA9508_1,      IR6_4,      31,          1,          2,          3,2,19950920,       0251,   -19.6108,   108.9300,       4967,  4495.6,   1.1510,  34.7140,2,  34.7148,2,-999.0000,5,   192.3,2, -999.00,9, -999.00,9, -999.00,9
 09FA9508_1,      IR6_4,      31,          1,          1,         12,2,19950920,       0251,   -19.6108,   108.9300,       4967,  5082.4,   1.1770,  34.7140,2,  34.7129,2,-999.0000,5,   189.2,2, -999.00,9, -999.00,9, -999.00,9
 09FA9508_1,      IR6_4,      32,          1,         23,          8,2,19950920,       0940,   -19.1278,   108.7853,       5193,    48.7,  23.3250,  35.1340,2,  35.1308,2,-999.0000,5,   216.3,2,    7.66,2,    0.47,2,    0.35,2
 09FA9508_1,      IR6_4,      32,          1,         22,         13,2,19950920,       0940,   -19.1278,   108.7853,       5193,    99.3,  22.8280,  35.1650,2,  35.1604,2,-999.0000,5,   196.8,2,    6.51,2,    2.53,2,    0.30,2
 09FA9508_1,      IR6_4,      32,          1,         21,          9,2,19950920,       0940,   -19.1278,   108.7853,       5193,   167.1,  19.9200,  35.1670,2,  35.1687,2,-999.0000,5,   146.4,2,   13.99,2,   10.24,2,    0.75,2
 09FA9508_1,      IR6_4,      32,          1,         20,         25,2,19950920,       0940,   -19.1278,   108.7853,       5193,   258.7,  16.9760,  35.7630,2,  35.7623,2,-999.0000,5,   204.8,2,    5.80,2,    3.73,2,    0.38,2
 09FA9508_1,      IR6_4,      32,          1,         19,          6,2,19950920,       0940,   -19.1278,   108.7853,       5193,   356.4,  12.7930,  35.2490,2,  35.2456,2,-999.0000,5,   226.3,2,    4.87,2,    7.70,2,    0.62,2
 09FA9508_1,      IR6_4,      32,          1,         18,         21,2,19950920,       0940,   -19.1278,   108.7853,       5193,   457.5,   9.9600,  34.7930,2,  34.7983,2,-999.0000,5,   234.3,2,    6.39,2,   14.53,2,    1.07,2
 09FA9508_1,      IR6_4,      32,          1,         17,          4,2,19950920,       0940,   -19.1278,   108.7853,       5193,   545.8,   8.8430,  34.6430,2,  34.6414,2,-999.0000,5,   219.1,2,   10.40,2,   19.59,2,    1.39,2
 09FA9508_1,      IR6_4,      32,          1,         16,         35,2,19950920,       0940,   -19.1278,   108.7853,       5193,   647.8,   7.2950,  34.5620,2,  34.5597,2,-999.0000,5,   166.2,2,   32.98,2,   27.80,2,    1.98,2
 09FA9508_1,      IR6_4,      32,          1,         15,         28,2,19950920,       0940,   -19.1278,   108.7853,       5193,   747.1,   6.1560,  34.5880,2,  34.5821,2,-999.0000,5,   120.3,2,   62.71,2,   33.84,2,    2.43,2
 09FA9508_1,      IR6_4,      32,          1,         13,         29,2,19950920,       0940,   -19.1278,   108.7853,       5193,   893.9,   5.5100,  34.6360,2,  34.6321,2,-999.0000,5,    95.5,2,   82.86,2,   36.34,2,    2.68,2
 09FA9508_1,      IR6_4,      32,          1,         12,          7,3,19950920,       0940,   -19.1278,   108.7853,       5193,   995.3,   5.1300,  34.6400,2,-999.0000,9,-999.0000,5,  -999.0,9, -999.00,9, -999.00,9, -999.00,9
 09FA9508_1,      IR6_4,      32,          1,         11,         10,2,19950920,       0940,   -19.1278,   108.7853,       5193,  1196.4,   4.3760,  34.6410,2,  34.6392,2,-999.0000,5,   108.9,2,   98.27,2,   36.19,2,    2.58,2
 09FA9508_1,      IR6_4,      32,          1,         10,         19,2,19950920,       0940,   -19.1278,   108.7853,       5193,  1396.6,   3.7510,  34.6530,2,  34.6546,2,-999.0000,5,   121.9,2,   99.68,2,   36.14,2,    2.58,2
 09FA9508_1,      IR6_4,      32,          1,          9,         20,2,19950920,       0940,   -19.1278,   108.7853,       5193,  1695.7,   3.0040,  34.6910,2,  34.6913,2,-999.0000,5,   136.0,2,  110.87,2,   35.46,2,    2.55,2
 09FA9508_1,      IR6_4,      32,          1,          8,         18,2,19950920,       0940,   -19.1278,   108.7853,       5193,  1995.3,   2.4270,  34.7180,2,  34.7157,2,-999.0000,5,   147.8,2,  119.69,2,   34.95,2,    2.50,2
 09FA9508_1,      IR6_4,      32,          1,          7,         11,2,19950920,       0940,   -19.1278,   108.7853,       5193,  2496.7,   1.9350,  34.7290,2,  34.7280,2,-999.0000,5,   161.0,2,  123.44,2,   34.66,2,    2.42,2
 09FA9508_1,      IR6_4,      32,          1,          6,         30,2,19950920,       0940,   -19.1278,   108.7853,       5193,  2997.0,   1.5700,  34.7250,2,  34.7249,2,-999.0000,5,   173.3,2,  114.76,3,   33.96,2,    2.38,2
 09FA9508_1,      IR6_4,      32,          1,          5,         27,2,19950920,       0940,   -19.1278,   108.7853,       5193,  3500.1,   1.3030,  34.7200,2,  34.7183,2,-999.0000,5,   185.2,2,  133.21,2,   33.61,2,    2.33,2
 09FA9508_1,      IR6_4,      32,          1,          4,         24,2,19950920,       0940,   -19.1278,   108.7853,       5193,  4001.8,   1.1900,  34.7160,2,  34.7156,2,-999.0000,5,   191.7,2,  134.88,2,   33.55,2,    2.31,2
 09FA9508_1,      IR6_4,      32,          1,          3,          5,2,19950920,       0940,   -19.1278,   108.7853,       5193,  4498.5,   1.1600,  34.7140,2,  34.7157,2,-999.0000,5,   193.2,2,  133.15,2,   33.19,2,    2.30,2
 09FA9508_1,      IR6_4,      32,          1,          2,          3,2,19950920,       0940,   -19.1278,   108.7853,       5193,  5007.7,   1.1720,  34.7130,2,  34.7134,2,-999.0000,5,   195.9,2,  132.74,2,   33.07,2,    2.28,2
 09FA9508_1,      IR6_4,      32,          1,          1,         12,2,19950920,       0940,   -19.1278,   108.7853,       5193,  5316.2,   1.1840,  34.7140,2,  34.7182,2,-999.0000,5,   187.7,2,  128.82,3,   33.06,2,    2.30,2