BOTTLE,20211101CCHSIORKP
EXPOCODE,SECT_ID,STNNBR,CASTNO,SAMPNO,BTLNBR,BTLNBR_FLAG_W,DATE,TIME,LATITUDE,LONGITUDE,DEPTH,CTDPRS,CTDTMP,CTDSAL,CTDSAL_FLAG_W,SALNTY,SALNTY_FLAG_W,CTDOXY,CTDOXY_FLAG_W,OXYGEN,OXYGEN_FLAG_W,SILCAT,SILCAT_FLAG_W,NITRAT,NITRAT_FLAG_W,PHSPHT,PHSPHT_FLAG_W
,,,,,,,,,,,METERS,DBAR,ITS-90,PSS-78,,PSS-78,,UMOL/KG,,UMOL/KG,,UMOL/KG,,UMOL/KG,,UMOL/KG,
 09FA9508_1,      IR6_4,      91,          1,         24,         21,2,19951005,       2010,   -12.4680,   114.1493,       4958,     2.8,  27.2230,  34.3270,2,  34.3283,2,-999.0000,5,   204.8,2,    3.79,2,    0.15,2,    0.16,2
 09FA9508_1,      IR6_4,      91,          1,         23,         43,2,19951005,       2010,   -12.4680,   114.1493,       4958,    49.4,  26.8190,  34.2770,2,  34.3080,2,-999.0000,5,   204.6,2,    3.90,2,    0.08,2,    0.15,2
 09FA9508_1,      IR6_4,      91,          1,         22,          7,2,19951005,       2010,   -12.4680,   114.1493,       4958,    98.7,  25.3270,  34.2260,2,  34.2230,2,-999.0000,5,   175.1,2,    6.56,2,    4.49,2,    0.42,2
 09FA9508_1,      IR6_4,      91,          1,         21,         10,2,19951005,       2010,   -12.4680,   114.1493,       4958,   197.9,  16.1560,  34.5010,2,  34.5007,2,-999.0000,5,   105.5,2,   27.36,2,   19.27,2,    1.39,2
 09FA9508_1,      IR6_4,      91,          1,         20,         45,2,19951005,       2010,   -12.4680,   114.1493,       4958,   298.6,  11.5750,  34.5350,2,  34.5329,2,-999.0000,5,    97.0,2,   40.08,2,   25.68,2,    1.86,2
 09FA9508_1,      IR6_4,      91,          1,         19,         42,2,19951005,       2010,   -12.4680,   114.1493,       4958,   397.9,   9.1410,  34.5680,2,  34.5675,2,-999.0000,5,    87.0,2,   52.82,2,   30.39,2,    2.20,2
 09FA9508_1,      IR6_4,      91,          1,         18,         13,2,19951005,       2010,   -12.4680,   114.1493,       4958,   496.0,   8.1760,  34.5980,2,  34.5990,2,-999.0000,5,    88.1,2,   57.11,2,   31.91,2,    2.29,2
 09FA9508_1,      IR6_4,      91,          1,         17,         27,2,19951005,       2010,   -12.4680,   114.1493,       4958,   596.7,   7.3980,  34.5930,2,  34.5923,2,-999.0000,5,    84.1,2,   67.51,2,   33.48,2,    2.42,2
 09FA9508_1,      IR6_4,      91,          1,         16,         20,2,19951005,       2010,   -12.4680,   114.1493,       4958,   697.3,   6.7580,  34.5910,2,  34.5904,2,-999.0000,5,    83.7,2,   75.55,2,   34.27,2,    2.49,2
 09FA9508_1,      IR6_4,      91,          1,         15,         11,2,19951005,       2010,   -12.4680,   114.1493,       4958,   796.3,   6.1380,  34.5900,2,  34.5897,2,-999.0000,5,    85.9,2,   82.22,2,   34.98,2,    2.53,2
 09FA9508_1,      IR6_4,      91,          1,         14,          8,2,19951005,       2010,   -12.4680,   114.1493,       4958,   896.4,   5.5790,  34.5900,2,  34.5902,2,-999.0000,5,    89.5,2,   91.68,2,   35.47,2,    2.57,2
 09FA9508_1,      IR6_4,      91,          1,         13,          6,2,19951005,       2010,   -12.4680,   114.1493,       4958,   996.1,   5.0520,  34.5960,2,  34.5989,2,-999.0000,5,    91.3,2,   98.58,2,   36.13,2,    2.61,2
 09FA9508_1,      IR6_4,      91,          1,         12,         35,2,19951005,       2010,   -12.4680,   114.1493,       4958,  1195.1,   4.3850,  34.6100,2,  34.6100,2,-999.0000,5,    94.6,2,  108.03,2,   36.41,2,    2.64,2
 09FA9508_1,      IR6_4,      91,          1,         11,          3,2,19951005,       2010,   -12.4680,   114.1493,       4958,  1396.8,   3.9220,  34.6390,2,  34.6359,2,-999.0000,5,   100.1,2,  112.79,2,   36.42,2,    2.62,2
 09FA9508_1,      IR6_4,      91,          1,         10,         30,2,19951005,       2010,   -12.4680,   114.1493,       4958,  1595.3,   3.4400,  34.6790,2,  34.6779,2,-999.0000,5,   109.8,2,  116.27,2,   36.28,2,    2.63,2
 09FA9508_1,      IR6_4,      91,          1,          9,         24,2,19951005,       2010,   -12.4680,   114.1493,       4958,  1796.9,   2.9800,  34.7080,2,  34.7102,2,-999.0000,5,   119.7,2,  119.26,2,   35.91,2,    2.58,2
 09FA9508_1,      IR6_4,      91,          1,          8,         17,2,19951005,       2010,   -12.4680,   114.1493,       4958,  1995.1,   2.6250,  34.7220,2,  34.7204,2,-999.0000,5,   129.0,2,  121.02,2,   35.42,2,    2.54,2
 09FA9508_1,      IR6_4,      91,          1,          7,         48,2,19951005,       2010,   -12.4680,   114.1493,       4958,  2496.8,   2.0330,  34.7280,2,  34.7259,2,-999.0000,5,   145.4,2,  126.76,2,   34.72,2,    2.47,2
 09FA9508_1,      IR6_4,      91,          1,          6,         15,2,19951005,       2010,   -12.4680,   114.1493,       4958,  2998.2,   1.7110,  34.7240,2,  34.7244,2,-999.0000,5,   158.1,2,  129.99,2,   34.13,2,    2.42,2
 09FA9508_1,      IR6_4,      91,          1,          5,         28,2,19951005,       2010,   -12.4680,   114.1493,       4958,  3498.6,   1.3900,  34.7170,2,  34.7189,2,-999.0000,5,   171.8,2,  130.84,2,   33.59,2,    2.36,2
 09FA9508_1,      IR6_4,      91,          1,          4,         99,2,19951005,       2010,   -12.4680,   114.1493,       4958,  3999.2,   1.2060,  34.7140,2,  34.7146,2,-999.0000,5,   180.1,2,  129.08,2,   33.06,2,    2.31,2
 09FA9508_1,      IR6_4,      91,          1,          3,         14,2,19951005,       2010,   -12.4680,   114.1493,       4958,  4499.9,   1.1730,  34.7120,2,  34.7104,2,-999.0000,5,   183.3,2,  130.67,2,   32.94,2,    2.30,2
 09FA9508_1,      IR6_4,      91,          1,          2,          5,2,19951005,       2010,   -12.4680,   114.1493,       4958,  5004.8,   1.2040,  34.7120,2,  34.7135,2,-999.0000,5,   186.2,2,  129.97,2,   32.97,2,    2.29,2
 09FA9508_1,      IR6_4,      91,          1,          1,         18,2,19951005,       2010,   -12.4680,   114.1493,       4958,  5209.7,   1.2170,  34.7110,2,  34.7124,2,-999.0000,5,   187.6,2,  127.96,2,   32.73,2,    2.28,2
 09FA9508_1,      IR6_4,      92,          1,         24,         21,2,19951006,       0309,   -12.5875,   114.6480,       5286,     1.6,  27.3540,  34.3830,2,  34.3890,2,-999.0000,5,   197.8,2,    4.35,2,    0.14,2,    0.16,2
 09FA9508_1,      IR6_4,      92,          1,         23,         43,2,19951006,       0309,   -12.5875,   114.6480,       5286,    48.4,  27.2080,  34.3860,2,  34.3873,2,-999.0000,5,   196.7,2,    4.30,2,    0.11,2,    0.16,2
 09FA9508_1,      IR6_4,      92,          1,         22,          7,2,19951006,       0309,   -12.5875,   114.6480,       5286,    99.1,  25.8500,  34.3990,2,  34.3978,2,-999.0000,5,   189.2,2,    4.78,2,    1.21,2,    0.21,2
 09FA9508_1,      IR6_4,      92,          1,         21,         10,2,19951006,       0309,   -12.5875,   114.6480,       5286,   198.4,  16.6720,  34.5570,2,  34.5558,2,-999.0000,5,   100.7,2,   27.02,2,   19.04,2,    1.39,2
 09FA9508_1,      IR6_4,      92,          1,         20,         45,2,19951006,       0309,   -12.5875,   114.6480,       5286,   297.5,  11.9860,  34.6130,2,  34.6091,2,-999.0000,5,    92.5,2,   39.30,2,   25.43,2,    1.84,2
 09FA9508_1,      IR6_4,      92,          1,         19,         42,2,19951006,       0309,   -12.5875,   114.6480,       5286,   397.6,   9.5530,  34.6360,2,  34.6333,2,-999.0000,5,    97.8,2,   45.06,2,   28.44,2,    2.03,2
 09FA9508_1,      IR6_4,      92,          1,         18,         13,2,19951006,       0309,   -12.5875,   114.6480,       5286,   497.7,   8.3000,  34.6110,2,  34.6144,2,-999.0000,5,    92.5,2,   53.69,2,   31.06,2,    2.22,2
 09FA9508_1,      IR6_4,      92,          1,         17,         27,2,19951006,       0309,   -12.5875,   114.6480,       5286,   597.2,   7.3380,  34.6100,2,  34.6092,2,-999.0000,5,    86.1,2,   63.78,2,   33.42,2,    2.39,2
 09FA9508_1,      IR6_4,      92,          1,         16,         20,2,19951006,       0309,   -12.5875,   114.6480,       5286,   697.4,   6.6170,  34.6000,2,  34.5997,2,-999.0000,5,    82.8,2,   77.09,2,   34.40,2,    2.51,2
 09FA9508_1,      IR6_4,      92,          1,         15,         11,2,19951006,       0309,   -12.5875,   114.6480,       5286,   796.7,   6.0320,  34.5880,2,  34.5866,2,-999.0000,5,    87.3,2,   84.40,2,   34.96,2,    2.52,2
 09FA9508_1,      IR6_4,      92,          1,         14,          8,2,19951006,       0309,   -12.5875,   114.6480,       5286,   896.6,   5.4340,  34.5950,2,  34.5972,2,-999.0000,5,    88.9,2,   92.01,2,   35.83,2,    2.57,2
 09FA9508_1,      IR6_4,      92,          1,         13,          6,2,19951006,       0309,   -12.5875,   114.6480,       5286,   995.7,   4.9910,  34.5990,2,  34.6018,2,-999.0000,5,    91.3,2,  100.28,2,   36.15,2,    2.60,2
 09FA9508_1,      IR6_4,      92,          1,         12,         35,2,19951006,       0309,   -12.5875,   114.6480,       5286,  1194.3,   4.3390,  34.6110,2,  34.6095,2,-999.0000,5,    95.1,2,  110.13,2,   36.54,2,    2.63,2
 09FA9508_1,      IR6_4,      92,          1,         11,          3,2,19951006,       0309,   -12.5875,   114.6480,       5286,  1395.4,   3.8930,  34.6380,2,  34.6361,2,-999.0000,5,   101.0,2,  114.02,2,   36.38,2,    2.62,2
 09FA9508_1,      IR6_4,      92,          1,         10,         30,2,19951006,       0309,   -12.5875,   114.6480,       5286,  1593.2,   3.3210,  34.6880,2,  34.6859,2,-999.0000,5,   112.5,2,  116.68,2,   36.16,2,    2.60,2
 09FA9508_1,      IR6_4,      92,          1,          9,         24,2,19951006,       0309,   -12.5875,   114.6480,       5286,  1796.1,   2.8680,  34.7100,2,  34.7071,2,-999.0000,5,   123.0,2,  117.79,2,   35.57,2,    2.57,2
 09FA9508_1,      IR6_4,      92,          1,          8,         17,2,19951006,       0309,   -12.5875,   114.6480,       5286,  1995.6,   2.5530,  34.7220,2,  34.7231,2,-999.0000,5,   130.9,2,  120.59,2,   35.22,2,    2.53,2
 09FA9508_1,      IR6_4,      92,          1,          7,         48,2,19951006,       0309,   -12.5875,   114.6480,       5286,  2495.9,   1.9670,  34.7270,2,  34.7278,2,-999.0000,5,   148.2,2,  126.49,2,   34.66,2,    2.46,2
 09FA9508_1,      IR6_4,      92,          1,          6,         15,2,19951006,       0309,   -12.5875,   114.6480,       5286,  3000.2,   1.6270,  34.7210,2,  34.7234,2,-999.0000,5,   160.8,2,  129.77,2,   34.09,2,    2.41,2
 09FA9508_1,      IR6_4,      92,          1,          5,         28,2,19951006,       0309,   -12.5875,   114.6480,       5286,  3498.8,   1.3660,  34.7160,2,  34.7182,2,-999.0000,5,   172.6,2,  130.47,2,   33.54,2,    2.35,2
 09FA9508_1,      IR6_4,      92,          1,          4,         99,2,19951006,       0309,   -12.5875,   114.6480,       5286,  4000.8,   1.2000,  34.7120,2,  34.7139,2,-999.0000,5,   180.4,2,  130.43,2,   33.22,2,    2.32,2
 09FA9508_1,      IR6_4,      92,          1,          3,         14,2,19951006,       0309,   -12.5875,   114.6480,       5286,  4496.9,   1.1790,  34.7110,2,  34.7126,2,-999.0000,5,   182.9,2,  130.44,2,   33.19,2,    2.31,2
 09FA9508_1,      IR6_4,      92,          1,          2,          5,2,19951006,       0309,   -12.5875,   114.6480,       5286,  5000.2,   1.2150,  34.7130,2,  34.7122,2,-999.0000,5,   184.7,2,  130.99,2,   33.02,2,    2.31,2
 09FA9508_1,      IR6_4,      92,          1,          1,         18,2,19951006,       0309,   -12.5875,   114.6480,       5286,  5388.0,   1.2510,  34.7120,2,  34.7125,2,-999.0000,5,   186.1,2,  130.68,2,   33.04,2,    2.30,2
 09FA9508_1,      IR6_4,      93,          1,         24,         21,2,19951006,       0951,   -12.7155,   115.1465,       5531,     3.1,  27.5060,  34.4310,2,  34.4374,2,-999.0000,5,   205.2,2,    4.36,2,    0.17,2,    0.14,2
 09FA9508_1,      IR6_4,      93,          1,         23,         43,2,19951006,       0951,   -12.7155,   115.1465,       5531,    49.9,  27.2720,  34.4250,2,  34.4268,2,-999.0000,5,   201.3,2,    4.31,2,    0.15,2,    0.14,2
 09FA9508_1,      IR6_4,      93,          1,         22,          7,2,19951006,       0951,   -12.7155,   115.1465,       5531,    99.6,  25.8200,  34.4720,2,  34.4707,2,-999.0000,5,   190.2,2,    5.22,2,    2.34,2,    0.25,2
 09FA9508_1,      IR6_4,      93,          1,         21,         10,2,19951006,       0951,   -12.7155,   115.1465,       5531,   149.4,  20.3950,  34.3790,2,  34.3801,2,-999.0000,5,   112.2,2,   19.61,2,   14.84,2,    1.08,2
 09FA9508_1,      IR6_4,      93,          1,         20,         45,2,19951006,       0951,   -12.7155,   115.1465,       5531,   199.4,  17.0340,  34.4600,2,  34.4558,2,-999.0000,5,   108.7,2,   26.08,2,   18.61,2,    1.33,2
 09FA9508_1,      IR6_4,      93,          1,         19,         42,2,19951006,       0951,   -12.7155,   115.1465,       5531,   298.4,  11.9320,  34.5410,2,  34.5430,2,-999.0000,5,    94.5,2,   40.32,2,   25.59,2,    1.85,2
 09FA9508_1,      IR6_4,      93,          1,         18,         13,2,19951006,       0951,   -12.7155,   115.1465,       5531,   398.7,   9.7750,  34.5450,2,  34.5469,2,-999.0000,5,    88.1,2,   50.97,2,   29.29,2,    2.11,2
 09FA9508_1,      IR6_4,      93,          1,         17,         27,2,19951006,       0951,   -12.7155,   115.1465,       5531,   498.8,   8.6650,  34.6020,2,  34.6046,2,-999.0000,5,    93.2,2,   52.70,2,   30.46,2,    2.19,2
 09FA9508_1,      IR6_4,      93,          1,         16,         20,2,19951006,       0951,   -12.7155,   115.1465,       5531,   597.8,   7.4650,  34.6190,2,  34.6215,2,-999.0000,5,    92.3,2,   58.88,2,   32.77,2,    2.34,2
 09FA9508_1,      IR6_4,      93,          1,         15,         11,2,19951006,       0951,   -12.7155,   115.1465,       5531,   697.9,   6.5860,  34.6100,2,  34.6098,2,-999.0000,5,    84.3,2,   74.74,2,   34.87,2,    2.52,2
 09FA9508_1,      IR6_4,      93,          1,         14,          8,2,19951006,       0951,   -12.7155,   115.1465,       5531,   796.9,   5.9140,  34.5980,2,  34.6027,2,-999.0000,5,    86.4,2,   86.63,2,   35.46,2,    2.54,2
 09FA9508_1,      IR6_4,      93,          1,         13,          6,2,19951006,       0951,   -12.7155,   115.1465,       5531,   896.9,   5.3690,  34.5980,2,  34.6027,2,-999.0000,5,    89.2,2,   94.74,2,   35.68,2,    2.58,2
 09FA9508_1,      IR6_4,      93,          1,         12,         35,2,19951006,       0951,   -12.7155,   115.1465,       5531,   996.6,   4.9820,  34.6030,2,  34.6059,2,-999.0000,5,    89.8,2,   99.79,2,   36.00,2,    2.60,2
 09FA9508_1,      IR6_4,      93,          1,         11,          3,2,19951006,       0951,   -12.7155,   115.1465,       5531,  1296.0,   4.0970,  34.6290,2,  34.6311,2,-999.0000,5,    97.8,2,  110.33,2,   36.23,2,    2.61,2
 09FA9508_1,      IR6_4,      93,          1,         10,         30,2,19951006,       0951,   -12.7155,   115.1465,       5531,  1595.9,   3.2890,  34.6840,2,  34.6866,2,-999.0000,5,   113.2,2,  116.48,2,   36.04,2,    2.58,2
 09FA9508_1,      IR6_4,      93,          1,          9,         24,2,19951006,       0951,   -12.7155,   115.1465,       5531,  1996.6,   2.4920,  34.7240,2,  34.7276,2,-999.0000,5,   132.0,2,  121.81,2,   35.25,2,    2.52,2
 09FA9508_1,      IR6_4,      93,          1,          8,         17,2,19951006,       0951,   -12.7155,   115.1465,       5531,  2296.7,   2.1470,  34.7280,2,  34.7316,2,-999.0000,5,   142.8,2,  125.30,2,   34.75,2,    2.47,2
 09FA9508_1,      IR6_4,      93,          1,          7,         48,2,19951006,       0951,   -12.7155,   115.1465,       5531,  2597.4,   1.9010,  34.7260,2,  34.7242,2,-999.0000,5,   148.2,2,  126.45,2,   34.45,2,    2.45,2
 09FA9508_1,      IR6_4,      93,          1,          6,         15,2,19951006,       0951,   -12.7155,   115.1465,       5531,  2998.1,   1.6240,  34.7200,2,  34.7251,2,-999.0000,5,   160.7,2,  130.04,2,   34.02,2,    2.41,2
 09FA9508_1,      IR6_4,      93,          1,          5,         28,2,19951006,       0951,   -12.7155,   115.1465,       5531,  3499.3,   1.3290,  34.7150,2,  34.7197,2,-999.0000,5,   173.6,2,  131.58,2,   33.43,2,    2.34,2
 09FA9508_1,      IR6_4,      93,          1,          4,         99,2,19951006,       0951,   -12.7155,   115.1465,       5531,  3999.8,   1.1670,  34.7130,2,  34.7198,2,-999.0000,5,   181.4,2,  128.85,2,   33.17,2,    2.31,2
 09FA9508_1,      IR6_4,      93,          1,          3,         14,2,19951006,       0951,   -12.7155,   115.1465,       5531,  4500.6,   1.1700,  34.7110,2,  34.7151,2,-999.0000,5,   182.8,2,  130.47,2,   33.11,2,    2.30,2
 09FA9508_1,      IR6_4,      93,          1,          2,          5,2,19951006,       0951,   -12.7155,   115.1465,       5531,  5000.4,   1.2180,  34.7120,2,  34.7152,2,-999.0000,5,   183.8,2,  131.21,2,   32.90,2,    2.31,2
 09FA9508_1,      IR6_4,      93,          1,          1,         18,2,19951006,       0951,   -12.7155,   115.1465,       5531,  5687.4,   1.3040,  34.7100,2,  34.7145,2,-999.0000,5,   184.1,2,  131.44,2,   33.05,2,    2.31,2