BOTTLE,20211101CCHSIORKP
EXPOCODE,SECT_ID,STNNBR,CASTNO,SAMPNO,BTLNBR,BTLNBR_FLAG_W,DATE,TIME,LATITUDE,LONGITUDE,DEPTH,CTDPRS,CTDTMP,CTDSAL,CTDSAL_FLAG_W,SALNTY,SALNTY_FLAG_W,CTDOXY,CTDOXY_FLAG_W,OXYGEN,OXYGEN_FLAG_W,SILCAT,SILCAT_FLAG_W,NITRAT,NITRAT_FLAG_W,PHSPHT,PHSPHT_FLAG_W
,,,,,,,,,,,METERS,DBAR,ITS-90,PSS-78,,PSS-78,,UMOL/KG,,UMOL/KG,,UMOL/KG,,UMOL/KG,,UMOL/KG,
 09FA9508_1,      IR6_4,      61,          1,         24,         21,2,19950926,       2127,   -13.2568,   106.9218,       5053,     1.7,  26.1260,  34.3110,2,  34.3186,2,-999.0000,5,   205.0,2,    4.97,2,    0.57,2,    0.11,2
 09FA9508_1,      IR6_4,      61,          1,         23,         66,2,19950926,       2127,   -13.2568,   106.9218,       5053,    50.0,  26.1330,  34.3130,2,  34.3151,2,-999.0000,5,   201.5,2,    4.91,2,    0.52,2,    0.11,2
 09FA9508_1,      IR6_4,      61,          1,         22,         29,2,19950926,       2127,   -13.2568,   106.9218,       5053,    99.5,  26.1380,  34.3130,2,  34.3131,2,-999.0000,5,   207.4,2,    4.89,2,    0.54,2,    0.11,2
 09FA9508_1,      IR6_4,      61,          1,         21,         45,2,19950926,       2127,   -13.2568,   106.9218,       5053,   198.4,  18.0880,  34.6500,2,  34.6376,2,-999.0000,5,   107.7,2,   22.83,2,   17.22,2,    1.19,2
 09FA9508_1,      IR6_4,      61,          1,         20,         10,2,19950926,       2127,   -13.2568,   106.9218,       5053,   299.5,  13.2310,  34.6180,2,  34.6148,2,-999.0000,5,    99.3,2,   36.00,2,   23.71,2,    1.66,2
 09FA9508_1,      IR6_4,      61,          1,         19,         42,2,19950926,       2127,   -13.2568,   106.9218,       5053,   398.4,  10.3740,  34.6870,2,  34.6816,2,-999.0000,5,    97.4,2,   41.80,2,   27.51,2,    1.95,2
 09FA9508_1,      IR6_4,      61,          1,         18,         13,2,19950926,       2127,   -13.2568,   106.9218,       5053,   497.9,   9.2080,  34.6890,2,  34.6883,2,-999.0000,5,   106.5,2,   41.36,2,   28.85,2,    2.02,2
 09FA9508_1,      IR6_4,      61,          1,         17,         27,2,19950926,       2127,   -13.2568,   106.9218,       5053,   598.4,   8.1370,  34.6610,2,  34.6616,2,-999.0000,5,   101.2,2,   56.13,2,   32.76,2,    2.31,2
 09FA9508_1,      IR6_4,      61,          1,         16,         20,2,19950926,       2127,   -13.2568,   106.9218,       5053,   696.3,   7.2400,  34.6470,2,  34.6474,2,-999.0000,5,    79.7,2,   69.24,2,   34.62,2,    2.47,2
 09FA9508_1,      IR6_4,      61,          1,         15,         11,2,19950926,       2127,   -13.2568,   106.9218,       5053,   796.7,   6.6610,  34.6350,2,  34.6353,2,-999.0000,5,    81.3,2,   77.87,2,   35.00,2,    2.53,2
 09FA9508_1,      IR6_4,      61,          1,         14,          8,2,19950926,       2127,   -13.2568,   106.9218,       5053,   896.1,   6.1990,  34.6300,2,  34.6321,2,-999.0000,5,    83.3,2,   83.65,2,   35.84,2,    2.57,2
 09FA9508_1,      IR6_4,      61,          1,         13,          6,2,19950926,       2127,   -13.2568,   106.9218,       5053,   996.5,   5.5790,  34.6200,2,  34.6191,2,-999.0000,5,    84.8,2,   93.92,2,   36.03,2,    2.62,2
 09FA9508_1,      IR6_4,      61,          1,         12,         35,2,19950926,       2127,   -13.2568,   106.9218,       5053,  1195.1,   4.6150,  34.6210,2,  34.6219,2,-999.0000,5,    93.9,2,  107.47,2,   36.66,2,    2.65,2
 09FA9508_1,      IR6_4,      61,          1,         11,          3,2,19950926,       2127,   -13.2568,   106.9218,       5053,  1396.4,   3.9470,  34.6500,2,  34.6502,2,-999.0000,5,   104.5,2,  112.39,2,   36.51,2,    2.62,2
 09FA9508_1,      IR6_4,      61,          1,         10,         30,2,19950926,       2127,   -13.2568,   106.9218,       5053,  1596.7,   3.3250,  34.6860,2,  34.6868,2,-999.0000,5,   117.1,2,  115.37,2,   36.05,2,    2.55,2
 09FA9508_1,      IR6_4,      61,          1,          9,         24,2,19950926,       2127,   -13.2568,   106.9218,       5053,  1796.0,   2.9150,  34.7100,2,  34.7151,2,-999.0000,5,   126.5,2,  117.98,2,   35.60,2,    2.55,2
 09FA9508_1,      IR6_4,      61,          1,          8,         17,2,19950926,       2127,   -13.2568,   106.9218,       5053,  1996.2,   2.5640,  34.7280,2,  34.7304,2,-999.0000,5,   136.2,2,  121.15,2,   35.14,2,    2.50,2
 09FA9508_1,      IR6_4,      61,          1,          7,         48,2,19950926,       2127,   -13.2568,   106.9218,       5053,  2497.4,   1.9470,  34.7300,2,  34.7281,2,-999.0000,5,   154.7,2,  126.00,2,   34.26,2,    2.46,2
 09FA9508_1,      IR6_4,      61,          1,          6,         15,2,19950926,       2127,   -13.2568,   106.9218,       5053,  2998.3,   1.5650,  34.7230,2,  34.7249,2,-999.0000,5,   170.1,2,  128.87,2,   33.66,2,    2.37,2
 09FA9508_1,      IR6_4,      61,          1,          5,         28,2,19950926,       2127,   -13.2568,   106.9218,       5053,  3499.3,   1.3360,  34.7180,2,  34.7186,2,-999.0000,5,   179.5,2,  130.33,2,   33.24,2,    2.32,2
 09FA9508_1,      IR6_4,      61,          1,          4,         99,2,19950926,       2127,   -13.2568,   106.9218,       5053,  4001.1,   1.2210,  34.7150,2,  34.7163,2,-999.0000,5,   186.4,2,  131.02,2,   33.09,2,    2.30,2
 09FA9508_1,      IR6_4,      61,          1,          3,         14,2,19950926,       2127,   -13.2568,   106.9218,       5053,  4500.9,   1.1770,  34.7130,2,  34.7147,2,-999.0000,5,   190.2,2,  129.70,3,   34.88,3,    2.30,3
 09FA9508_1,      IR6_4,      61,          1,          2,          5,2,19950926,       2127,   -13.2568,   106.9218,       5053,  5006.0,   1.2070,  34.7130,2,  34.7127,2,-999.0000,5,   192.8,2,  130.11,2,   32.87,2,    2.27,2
 09FA9508_1,      IR6_4,      61,          1,          1,         18,2,19950926,       2127,   -13.2568,   106.9218,       5053,  5373.3,   1.2200,  34.7130,2,  34.7127,2,-999.0000,5,   195.2,2,  125.89,2,   32.74,2,    2.26,2
 09FA9508_1,      IR6_4,      62,          1,         24,         21,2,19950927,       0337,   -12.8857,   106.7787,       5445,     1.2,  26.2680,  34.3100,2,  34.3135,2,-999.0000,5,   204.8,2,    4.97,2,    0.46,2,    0.08,2
 09FA9508_1,      IR6_4,      62,          1,         23,         66,2,19950927,       0337,   -12.8857,   106.7787,       5445,    49.9,  26.1170,  34.3100,2,  34.3076,2,-999.0000,5,   206.7,2,    4.89,2,    0.43,2,    0.09,2
 09FA9508_1,      IR6_4,      62,          1,         22,         29,2,19950927,       0337,   -12.8857,   106.7787,       5445,    98.4,  26.0560,  34.3020,2,  34.3029,2,-999.0000,5,   202.1,2,    4.96,2,    1.16,2,    0.11,2
 09FA9508_1,      IR6_4,      62,          1,         21,         45,2,19950927,       0337,   -12.8857,   106.7787,       5445,   199.9,  17.6800,  34.5200,2,  34.5205,2,-999.0000,5,   117.5,2,   23.89,2,   16.83,2,    1.13,2
 09FA9508_1,      IR6_4,      62,          1,         20,         10,2,19950927,       0337,   -12.8857,   106.7787,       5445,   298.7,  12.4640,  34.7300,2,  34.7328,2,-999.0000,5,   105.9,2,   35.14,2,   23.54,2,    1.65,2
 09FA9508_1,      IR6_4,      62,          1,         19,         42,2,19950927,       0337,   -12.8857,   106.7787,       5445,   397.9,  10.1720,  34.7140,2,  34.7119,2,-999.0000,5,   109.6,2,   39.16,2,   26.52,2,    1.89,2
 09FA9508_1,      IR6_4,      62,          1,         18,         13,2,19950927,       0337,   -12.8857,   106.7787,       5445,   496.3,   9.2030,  34.7010,2,  34.7001,2,-999.0000,5,   135.9,2,   33.64,2,   25.90,2,    1.82,2
 09FA9508_1,      IR6_4,      62,          1,         17,         27,2,19950927,       0337,   -12.8857,   106.7787,       5445,   596.6,   7.8560,  34.6530,2,  34.6502,2,-999.0000,5,    92.4,2,   57.05,2,   32.49,2,    2.32,2
 09FA9508_1,      IR6_4,      62,          1,         16,         20,2,19950927,       0337,   -12.8857,   106.7787,       5445,   695.7,   6.9880,  34.6410,2,-999.0000,9,-999.0000,5,    85.2,2,   71.56,2,   34.67,2,    2.51,2
 09FA9508_1,      IR6_4,      62,          1,         15,         11,2,19950927,       0337,   -12.8857,   106.7787,       5445,   795.5,   6.3900,  34.6330,2,  34.6301,2,-999.0000,5,    86.0,2,   80.97,2,   35.35,2,    2.56,2
 09FA9508_1,      IR6_4,      62,          1,         14,          8,2,19950927,       0337,   -12.8857,   106.7787,       5445,   896.1,   5.7160,  34.6180,2,  34.6172,2,-999.0000,5,    90.8,2,   91.23,2,   35.79,2,    2.57,2
 09FA9508_1,      IR6_4,      62,          1,         13,          6,2,19950927,       0337,   -12.8857,   106.7787,       5445,   995.9,   5.2620,  34.6130,2,  34.6120,2,-999.0000,5,    93.3,2,   98.14,2,   35.88,2,    2.58,2
 09FA9508_1,      IR6_4,      62,          1,         12,         35,2,19950927,       0337,   -12.8857,   106.7787,       5445,  1196.7,   4.5640,  34.6210,2,  34.6120,2,-999.0000,5,    98.5,2,  107.14,2,   36.19,2,    2.62,2
 09FA9508_1,      IR6_4,      62,          1,         11,          3,2,19950927,       0337,   -12.8857,   106.7787,       5445,  1395.7,   3.9250,  34.6520,2,  34.6498,2,-999.0000,5,   107.1,2,  111.90,2,   36.18,2,    2.63,2
 09FA9508_1,      IR6_4,      62,          1,         10,         30,2,19950927,       0337,   -12.8857,   106.7787,       5445,  1594.9,   3.4100,  34.6970,2,  34.6958,2,-999.0000,5,   116.8,2,  115.75,2,   36.05,2,    2.61,2
 09FA9508_1,      IR6_4,      62,          1,          9,         24,2,19950927,       0337,   -12.8857,   106.7787,       5445,  1797.1,   2.9070,  34.7260,2,  34.7241,2,-999.0000,5,   129.6,2,  118.70,2,   35.34,2,    2.55,2
 09FA9508_1,      IR6_4,      62,          1,          8,         17,2,19950927,       0337,   -12.8857,   106.7787,       5445,  1997.9,   2.5910,  34.7320,2,  34.7316,2,-999.0000,5,   138.3,2,  120.07,2,   35.00,2,    2.53,2
 09FA9508_1,      IR6_4,      62,          1,          7,         48,2,19950927,       0337,   -12.8857,   106.7787,       5445,  2499.2,   1.9250,  34.7300,2,  34.7265,2,-999.0000,5,   158.4,2,  126.29,2,   34.29,2,    2.43,2
 09FA9508_1,      IR6_4,      62,          1,          6,         15,2,19950927,       0337,   -12.8857,   106.7787,       5445,  3004.2,   1.5860,  34.7230,2,  34.7206,2,-999.0000,5,   170.5,2,  129.79,2,   33.93,2,    2.39,2
 09FA9508_1,      IR6_4,      62,          1,          5,         28,2,19950927,       0337,   -12.8857,   106.7787,       5445,  3496.2,   1.3240,  34.7180,2,  34.7162,2,-999.0000,5,   182.4,2,  131.26,2,   33.49,2,    2.35,2
 09FA9508_1,      IR6_4,      62,          1,          4,         99,2,19950927,       0337,   -12.8857,   106.7787,       5445,  3996.7,   1.1980,  34.7140,2,  34.7115,2,-999.0000,5,   188.5,2,  131.72,2,   33.09,2,    2.32,2
 09FA9508_1,      IR6_4,      62,          1,          3,         14,2,19950927,       0337,   -12.8857,   106.7787,       5445,  4500.6,   1.1800,  34.7130,2,  34.7084,2,-999.0000,5,   191.8,2,  131.03,2,   32.90,2,    2.28,2
 09FA9508_1,      IR6_4,      62,          1,          2,          5,2,19950927,       0337,   -12.8857,   106.7787,       5445,  5000.5,   1.2020,  34.7120,2,  34.7084,2,-999.0000,5,   194.4,2,  130.58,2,   32.92,2,    2.27,2
 09FA9508_1,      IR6_4,      62,          1,          1,         18,2,19950927,       0337,   -12.8857,   106.7787,       5445,  5553.8,   1.2180,  34.7130,2,  34.7092,2,-999.0000,5,   197.2,2,  128.59,2,   32.84,2,    2.27,2
 09FA9508_1,      IR6_4,      63,          1,         24,         21,2,19950927,       0931,   -12.4663,   106.6290,       3465,     4.4,  26.2710,  34.3000,2,  34.3045,2,-999.0000,5,   208.6,2,    4.74,2,    0.40,2,    0.09,2
 09FA9508_1,      IR6_4,      63,          1,         23,         66,2,19950927,       0931,   -12.4663,   106.6290,       3465,    49.8,  26.1360,  34.3430,2,  34.3429,2,-999.0000,5,   209.2,2,    4.78,2, -999.00,9,    0.09,2
 09FA9508_1,      IR6_4,      63,          1,         22,         29,2,19950927,       0931,   -12.4663,   106.6290,       3465,   100.6,  25.4310,  34.2600,2,  34.2644,2,-999.0000,5,   192.1,2,    5.29,2,    3.12,2,    0.20,2
 09FA9508_1,      IR6_4,      63,          1,         21,         45,2,19950927,       0931,   -12.4663,   106.6290,       3465,   199.9,  17.6480,  34.5540,2,  34.5577,2,-999.0000,5,   110.4,2,   24.61,2,   17.77,2,    1.23,2
 09FA9508_1,      IR6_4,      63,          1,         20,         10,2,19950927,       0931,   -12.4663,   106.6290,       3465,   301.0,  11.8720,  34.5490,2,  34.5490,2,-999.0000,5,   100.6,2,   40.64,2,   25.48,2,    1.81,2
 09FA9508_1,      IR6_4,      63,          1,         19,         42,2,19950927,       0931,   -12.4663,   106.6290,       3465,   399.4,  10.3800,  34.6920,2,  34.6886,2,-999.0000,5,   100.9,2,   40.86,2,   27.28,2,    1.92,2
 09FA9508_1,      IR6_4,      63,          1,         18,         13,2,19950927,       0931,   -12.4663,   106.6290,       3465,   499.3,   9.2400,  34.6830,2,  34.6830,2,-999.0000,5,   112.8,2,   40.29,2,   28.19,2,    2.00,2
 09FA9508_1,      IR6_4,      63,          1,         17,         27,2,19950927,       0931,   -12.4663,   106.6290,       3465,   599.4,   8.1180,  34.6540,2,  34.6551,2,-999.0000,5,    98.7,2,   51.36,2,   31.71,2,    2.26,2
 09FA9508_1,      IR6_4,      63,          1,         16,         20,2,19950927,       0931,   -12.4663,   106.6290,       3465,   699.2,   7.1770,  34.6320,2,  34.6299,2,-999.0000,5,    88.0,2,   67.42,2,   34.11,2,    2.44,2
 09FA9508_1,      IR6_4,      63,          1,         15,         11,2,19950927,       0931,   -12.4663,   106.6290,       3465,   798.7,   6.4840,  34.6270,2,  34.6283,2,-999.0000,5,    86.8,2,   77.49,2,   35.24,2,    2.54,2
 09FA9508_1,      IR6_4,      63,          1,         14,          8,2,19950927,       0931,   -12.4663,   106.6290,       3465,   997.0,   5.2830,  34.6100,2,  34.6110,2,-999.0000,5,    92.6,2,   97.14,2,   36.18,2,    2.58,2
 09FA9508_1,      IR6_4,      63,          1,         13,          6,2,19950927,       0931,   -12.4663,   106.6290,       3465,  1098.3,   4.8020,  34.6160,2,  34.6172,2,-999.0000,5,    96.3,2,  104.32,2,   36.52,2,    2.63,2
 09FA9508_1,      IR6_4,      63,          1,         12,         35,2,19950927,       0931,   -12.4663,   106.6290,       3465,  1197.3,   4.3660,  34.6300,2,  34.6294,2,-999.0000,5,    99.5,2,  109.95,2,   36.65,2,    2.61,2
 09FA9508_1,      IR6_4,      63,          1,         11,          3,2,19950927,       0931,   -12.4663,   106.6290,       3465,  1298.0,   4.1030,  34.6430,2,  34.6427,2,-999.0000,5,   103.7,2,  112.18,2,   36.27,2,    2.63,2
 09FA9508_1,      IR6_4,      63,          1,         10,         30,2,19950927,       0931,   -12.4663,   106.6290,       3465,  1397.7,   3.7500,  34.6630,2,  34.6640,2,-999.0000,5,   110.2,2,  114.05,2,   36.34,2,    2.61,2
 09FA9508_1,      IR6_4,      63,          1,          9,         24,2,19950927,       0931,   -12.4663,   106.6290,       3465,  1595.7,   3.2590,  34.6960,2,  34.6927,2,-999.0000,5,   119.9,2,  116.78,2,   35.63,2,    2.61,2
 09FA9508_1,      IR6_4,      63,          1,          8,         17,2,19950927,       0931,   -12.4663,   106.6290,       3465,  1796.8,   2.8430,  34.7200,2,  34.7202,2,-999.0000,5,   130.2,2,  119.18,2,   35.66,2,    2.57,2
 09FA9508_1,      IR6_4,      63,          1,          7,         48,2,19950927,       0931,   -12.4663,   106.6290,       3465,  1997.5,   2.4860,  34.7290,2,  34.7285,2,-999.0000,5,   139.9,2,  122.06,2,   35.28,2,    2.50,2
 09FA9508_1,      IR6_4,      63,          1,          6,         15,2,19950927,       0931,   -12.4663,   106.6290,       3465,  2197.1,   2.2560,  34.7310,2,  34.7332,2,-999.0000,5,   147.7,2,  124.23,2,   34.86,2,    2.47,2
 09FA9508_1,      IR6_4,      63,          1,          5,         28,2,19950927,       0931,   -12.4663,   106.6290,       3465,  2396.8,   2.0840,  34.7300,2,  34.6927,2,-999.0000,5,   153.2,2,  125.97,2,   34.35,2,    2.48,2
 09FA9508_1,      IR6_4,      63,          1,          4,         99,2,19950927,       0931,   -12.4663,   106.6290,       3465,  2698.3,   1.7580,  34.7250,2,  34.7273,2,-999.0000,5,   164.0,2,  127.89,2,   33.87,2,    2.43,2
 09FA9508_1,      IR6_4,      63,          1,          3,         14,2,19950927,       0931,   -12.4663,   106.6290,       3465,  2999.5,   1.5630,  34.7230,2,  34.7234,2,-999.0000,5,   170.8,2,  129.17,2,   33.67,2,    2.44,2
 09FA9508_1,      IR6_4,      63,          1,          2,          5,2,19950927,       0931,   -12.4663,   106.6290,       3465,  3499.3,   1.3450,  34.7170,2,  34.7198,2,-999.0000,5,   180.3,2,  130.62,2,   33.57,2,    2.33,2
 09FA9508_1,      IR6_4,      63,          1,          1,         18,2,19950927,       0931,   -12.4663,   106.6290,       3465,  3975.7,   1.2080,  34.7140,2,  34.7155,2,-999.0000,5,   187.9,2,  130.74,2,   32.86,2,    2.34,2