BOTTLE,20211101CCHSIORKP
EXPOCODE,SECT_ID,STNNBR,CASTNO,SAMPNO,BTLNBR,BTLNBR_FLAG_W,DATE,TIME,LATITUDE,LONGITUDE,DEPTH,CTDPRS,CTDTMP,CTDSAL,CTDSAL_FLAG_W,SALNTY,SALNTY_FLAG_W,CTDOXY,CTDOXY_FLAG_W,OXYGEN,OXYGEN_FLAG_W,SILCAT,SILCAT_FLAG_W,NITRAT,NITRAT_FLAG_W,PHSPHT,PHSPHT_FLAG_W
,,,,,,,,,,,METERS,DBAR,ITS-90,PSS-78,,PSS-78,,UMOL/KG,,UMOL/KG,,UMOL/KG,,UMOL/KG,,UMOL/KG,
 09FA9508_1,      IR6_4,      76,          1,         24,         21,2,19951002,       0341,   -10.6938,   108.0795,       5689,     1.6,  26.8770,  34.4830,2,-999.0000,9,-999.0000,5,  -999.0,9, -999.00,9, -999.00,9, -999.00,9
 09FA9508_1,      IR6_4,      76,          1,         23,         45,2,19951002,       0341,   -10.6938,   108.0795,       5689,    48.4,  23.7800,  34.4300,2,-999.0000,9,-999.0000,5,   180.3,2,    6.61,2,    4.00,2,    0.51,2
 09FA9508_1,      IR6_4,      76,          1,         22,         43,2,19951002,       0341,   -10.6938,   108.0795,       5689,    98.3,  18.7820,  34.5270,2,  34.5257,2,-999.0000,5,   115.6,2,   21.51,2,   16.04,2,    1.16,2
 09FA9508_1,      IR6_4,      76,          1,         21,          7,2,19951002,       0341,   -10.6938,   108.0795,       5689,   147.5,  14.9400,  34.5370,2,  34.5324,2,-999.0000,5,   112.0,2,   30.02,2,   20.32,2,    1.48,2
 09FA9508_1,      IR6_4,      76,          1,         20,         10,2,19951002,       0341,   -10.6938,   108.0795,       5689,   198.0,  12.2380,  34.5380,2,  34.5312,2,-999.0000,5,    98.3,2,   39.31,2,   25.24,2,    1.81,2
 09FA9508_1,      IR6_4,      76,          1,         19,         42,2,19951002,       0341,   -10.6938,   108.0795,       5689,   297.5,  10.2540,  34.5860,2,  34.5853,2,-999.0000,5,    87.5,2,   47.48,2,   29.33,2,    2.10,2
 09FA9508_1,      IR6_4,      76,          1,         18,         13,2,19951002,       0341,   -10.6938,   108.0795,       5689,   396.6,   9.1450,  34.6610,2,  34.6603,2,-999.0000,5,    97.9,2,   45.09,2,   29.81,2,    2.11,2
 09FA9508_1,      IR6_4,      76,          1,         17,         27,2,19951002,       0341,   -10.6938,   108.0795,       5689,   496.3,   8.1280,  34.6410,2,  34.6394,2,-999.0000,5,    84.2,2,   56.69,2,   32.71,2,    2.34,2
 09FA9508_1,      IR6_4,      76,          1,         16,         20,2,19951002,       0341,   -10.6938,   108.0795,       5689,   597.3,   7.4980,  34.6610,2,  34.6555,2,-999.0000,5,    74.4,2,   66.11,2,   34.48,2,    2.49,2
 09FA9508_1,      IR6_4,      76,          1,         15,         11,2,19951002,       0341,   -10.6938,   108.0795,       5689,   696.1,   6.7150,  34.6430,2,  34.6421,2,-999.0000,5,    78.2,2,   76.44,2,   35.32,2,    2.57,2
 09FA9508_1,      IR6_4,      76,          1,         14,          8,2,19951002,       0341,   -10.6938,   108.0795,       5689,   796.8,   5.8840,  34.6250,2,  34.6276,2,-999.0000,5,    82.9,2,   88.02,2,   35.82,2,    2.62,2
 09FA9508_1,      IR6_4,      76,          1,         13,          6,2,19951002,       0341,   -10.6938,   108.0795,       5689,   895.3,   5.2460,  34.6130,2,  34.6142,2,-999.0000,5,    88.6,2,   97.05,2,   36.27,2,    2.65,2
 09FA9508_1,      IR6_4,      76,          1,         12,         35,2,19951002,       0341,   -10.6938,   108.0795,       5689,   995.9,   4.8560,  34.6200,2,  34.6200,2,-999.0000,5,    90.3,2,  102.91,2,   36.52,2,    2.66,2
 09FA9508_1,      IR6_4,      76,          1,         11,          3,2,19951002,       0341,   -10.6938,   108.0795,       5689,  1246.1,   4.3170,  34.6490,2,  34.6487,2,-999.0000,5,    94.8,2,  110.03,2,   36.89,2,    2.69,2
 09FA9508_1,      IR6_4,      76,          1,         10,         30,2,19951002,       0341,   -10.6938,   108.0795,       5689,  1497.4,   3.6280,  34.6950,2,  34.6954,2,-999.0000,5,   106.2,2,  115.51,2,   36.56,2,    2.66,2
 09FA9508_1,      IR6_4,      76,          1,          9,         24,2,19951002,       0341,   -10.6938,   108.0795,       5689,  1996.9,   2.5300,  34.7310,2,  34.7304,2,-999.0000,5,   133.0,2,  122.64,2,   35.47,2,    2.54,2
 09FA9508_1,      IR6_4,      76,          1,          8,         17,2,19951002,       0341,   -10.6938,   108.0795,       5689,  2495.5,   1.9700,  34.7300,2,  34.7319,2,-999.0000,5,   149.9,2,  128.04,2,   34.60,2,    2.46,2
 09FA9508_1,      IR6_4,      76,          1,          7,         48,2,19951002,       0341,   -10.6938,   108.0795,       5689,  2996.1,   1.6130,  34.7240,2,  34.7241,2,-999.0000,5,   161.7,2,  130.22,2,   34.10,2,    2.41,2
 09FA9508_1,      IR6_4,      76,          1,          6,         15,2,19951002,       0341,   -10.6938,   108.0795,       5689,  3499.1,   1.3530,  34.7160,2,  34.7166,2,-999.0000,5,   174.1,2,  131.14,2,   33.42,2,    2.36,2
 09FA9508_1,      IR6_4,      76,          1,          5,         28,2,19951002,       0341,   -10.6938,   108.0795,       5689,  3999.6,   1.1830,  34.7130,2,  34.7123,2,-999.0000,5,   182.8,2,  130.43,2,   33.08,2,    2.31,2
 09FA9508_1,      IR6_4,      76,          1,          4,         99,2,19951002,       0341,   -10.6938,   108.0795,       5689,  4498.7,   1.1730,  34.7110,2,  34.7123,2,-999.0000,5,   185.3,2,  130.24,2,   32.91,2,    2.32,2
 09FA9508_1,      IR6_4,      76,          1,          3,         14,2,19951002,       0341,   -10.6938,   108.0795,       5689,  4997.6,   1.2020,  34.7110,2,  34.7091,2,-999.0000,5,   188.2,2,  129.32,2,   32.88,2,    2.29,2
 09FA9508_1,      IR6_4,      76,          1,          2,          5,2,19951002,       0341,   -10.6938,   108.0795,       5689,  5508.1,   1.2540,  34.7110,2,  34.7075,2,-999.0000,5,   188.9,2,  130.74,2,   32.84,2,    2.31,2
 09FA9508_1,      IR6_4,      76,          1,          1,         18,2,19951002,       0341,   -10.6938,   108.0795,       5689,  5815.4,   1.2900,  34.7120,2,  34.7123,2,-999.0000,5,   189.4,2,  131.11,2,   32.81,2,    2.29,2
 09FA9508_1,      IR6_4,      77,          1,         24,         21,2,19951002,       1134,   -10.9518,   108.4870,       5011,     2.4,  26.8670,  34.3410,2,  34.3436,2,-999.0000,5,   206.0,2,    4.35,2,    0.60,2,    0.16,2
 09FA9508_1,      IR6_4,      77,          1,         23,         45,2,19951002,       1134,   -10.9518,   108.4870,       5011,    50.0,  25.9890,  34.3910,2,  34.3899,2,-999.0000,5,   207.9,2,    4.67,2,    0.21,2,    0.16,2
 09FA9508_1,      IR6_4,      77,          1,         22,         43,2,19951002,       1134,   -10.9518,   108.4870,       5011,    98.8,  21.6500,  34.4830,2,  34.4789,2,-999.0000,5,   138.6,2,   14.65,2,   11.14,2,    0.81,2
 09FA9508_1,      IR6_4,      77,          1,         21,          7,2,19951002,       1134,   -10.9518,   108.4870,       5011,   147.6,  16.4670,  34.5360,2,  34.5280,2,-999.0000,5,   115.7,2,   25.87,2,   17.71,2,    1.30,2
 09FA9508_1,      IR6_4,      77,          1,         20,         10,2,19951002,       1134,   -10.9518,   108.4870,       5011,   200.9,  13.0200,  34.5380,2,  34.5378,2,-999.0000,5,   102.2,2,   36.25,2,   23.15,2,    1.70,2
 09FA9508_1,      IR6_4,      77,          1,         19,         42,2,19951002,       1134,   -10.9518,   108.4870,       5011,   299.4,  10.2350,  34.5980,2,  34.5963,2,-999.0000,5,    87.2,2,   46.67,2,   28.67,2,    2.08,2
 09FA9508_1,      IR6_4,      77,          1,         18,         13,2,19951002,       1134,   -10.9518,   108.4870,       5011,   396.9,   8.9870,  34.6230,2,  34.6215,2,-999.0000,5,    89.9,2,   50.71,2,   30.47,2,    2.19,2
 09FA9508_1,      IR6_4,      77,          1,         17,         27,2,19951002,       1134,   -10.9518,   108.4870,       5011,   495.8,   8.2850,  34.6600,2,  34.6615,2,-999.0000,5,    76.5,2,   57.11,2,   33.01,2,    2.36,2
 09FA9508_1,      IR6_4,      77,          1,         16,         20,2,19951002,       1134,   -10.9518,   108.4870,       5011,   596.2,   7.4160,  34.6350,2,  34.6356,2,-999.0000,5,    78.6,2,   67.16,2,   34.08,2,    2.47,2
 09FA9508_1,      IR6_4,      77,          1,         15,         11,2,19951002,       1134,   -10.9518,   108.4870,       5011,   697.5,   6.9630,  34.6480,2,  34.6451,2,-999.0000,5,    76.8,2,   73.63,2,   34.81,2,    2.54,2
 09FA9508_1,      IR6_4,      77,          1,         14,          8,2,19951002,       1134,   -10.9518,   108.4870,       5011,   796.4,   6.3520,  34.6340,2,  34.6384,2,-999.0000,5,    80.0,2,   82.04,2,   35.26,2,    2.58,2
 09FA9508_1,      IR6_4,      77,          1,         13,          6,2,19951002,       1134,   -10.9518,   108.4870,       5011,   896.3,   5.2910,  34.6120,2,  34.6121,2,-999.0000,5,    89.0,2,   96.91,2,   35.90,2,    2.63,2
 09FA9508_1,      IR6_4,      77,          1,         12,         35,2,19951002,       1134,   -10.9518,   108.4870,       5011,   995.2,   4.8570,  34.6160,2,  34.6144,2,-999.0000,5,    90.9,2,  102.75,2,   36.05,2,    2.64,2
 09FA9508_1,      IR6_4,      77,          1,         11,          3,2,19951002,       1134,   -10.9518,   108.4870,       5011,  1245.4,   4.0810,  34.6530,2,  34.6556,2,-999.0000,5,    98.0,2,  110.99,2,   36.24,2,    2.65,2
 09FA9508_1,      IR6_4,      77,          1,         10,         30,2,19951002,       1134,   -10.9518,   108.4870,       5011,  1495.0,   3.5730,  34.6900,2,  34.6925,2,-999.0000,5,   107.3,2,  115.22,2,   36.26,2,    2.65,2
 09FA9508_1,      IR6_4,      77,          1,          9,         24,2,19951002,       1134,   -10.9518,   108.4870,       5011,  1745.7,   2.8670,  34.7200,2,  34.7223,2,-999.0000,5,   123.6,2,  120.34,2,   35.61,2,    2.59,2
 09FA9508_1,      IR6_4,      77,          1,          8,         17,2,19951002,       1134,   -10.9518,   108.4870,       5011,  1996.9,   2.4160,  34.7320,2,  34.7400,2,-999.0000,5,   136.3,2,  122.73,2,   35.15,2,    2.54,2
 09FA9508_1,      IR6_4,      77,          1,          7,         48,2,19951002,       1134,   -10.9518,   108.4870,       5011,  2497.5,   1.9280,  34.7310,2,  34.7297,2,-999.0000,5,   151.6,2,  127.22,2,   34.64,2,    2.47,2
 09FA9508_1,      IR6_4,      77,          1,          6,         15,2,19951002,       1134,   -10.9518,   108.4870,       5011,  2999.0,   1.5730,  34.7220,2,  34.7242,2,-999.0000,5,   164.3,2,  132.34,2,   34.37,2,    2.43,2
 09FA9508_1,      IR6_4,      77,          1,          5,         28,2,19951002,       1134,   -10.9518,   108.4870,       5011,  3498.8,   1.3190,  34.7160,2,  34.7163,2,-999.0000,5,   175.0,2,  132.63,2,   33.79,2,    2.39,2
 09FA9508_1,      IR6_4,      77,          1,          4,         99,2,19951002,       1134,   -10.9518,   108.4870,       5011,  3999.6,   1.1710,  34.7120,2,  34.7124,2,-999.0000,5,   183.0,2,  133.04,2,   33.48,2,    2.34,2
 09FA9508_1,      IR6_4,      77,          1,          3,         14,2,19951002,       1134,   -10.9518,   108.4870,       5011,  4501.3,   1.1720,  34.7110,2,  34.7123,2,-999.0000,5,   184.9,2,  132.34,2,   33.45,2,    2.32,2
 09FA9508_1,      IR6_4,      77,          1,          2,          5,2,19951002,       1134,   -10.9518,   108.4870,       5011,  4999.5,   1.1990,  34.7110,2,  34.7127,2,-999.0000,5,   188.1,2,  131.67,2,   33.31,2,    2.31,2
 09FA9508_1,      IR6_4,      77,          1,          1,         18,2,19951002,       1134,   -10.9518,   108.4870,       5011,  5067.7,   1.2060,  34.7100,2,  34.7115,2,-999.0000,5,   188.3,2,  132.06,2,   33.64,2,    2.32,2
 09FA9508_1,      IR6_4,      78,          1,         24,         21,2,19951002,       1845,   -11.1980,   108.9220,       5431,     2.3,  27.1190,  34.3500,2,  34.3504,2,-999.0000,5,   205.5,2,    4.40,2,    0.28,2,    0.14,2
 09FA9508_1,      IR6_4,      78,          1,         23,         45,2,19951002,       1845,   -11.1980,   108.9220,       5431,    48.8,  26.1630,  34.3510,2,  34.3552,2,-999.0000,5,   208.3,2,    4.76,2,    0.28,2,    0.15,2
 09FA9508_1,      IR6_4,      78,          1,         22,         43,2,19951002,       1845,   -11.1980,   108.9220,       5431,    98.7,  21.8520,  34.5460,2,  34.5439,2,-999.0000,5,   115.5,2,   16.53,2,   13.04,2,    0.98,2
 09FA9508_1,      IR6_4,      78,          1,         21,          7,2,19951002,       1845,   -11.1980,   108.9220,       5431,   149.3,  17.5650,  34.6350,2,  34.6322,2,-999.0000,5,   104.6,2,   24.56,2,   18.13,2,    1.32,2
 09FA9508_1,      IR6_4,      78,          1,         20,         10,2,19951002,       1845,   -11.1980,   108.9220,       5431,   200.0,  13.4550,  34.6000,2,  34.5993,2,-999.0000,5,    94.0,2,   36.21,2,   23.87,2,    1.72,2
 09FA9508_1,      IR6_4,      78,          1,         19,         42,2,19951002,       1845,   -11.1980,   108.9220,       5431,   298.9,  10.6120,  34.6000,2,  34.5954,2,-999.0000,5,    88.6,2,   46.55,2,   28.45,2,    2.04,2
 09FA9508_1,      IR6_4,      78,          1,         18,         13,2,19951002,       1845,   -11.1980,   108.9220,       5431,   397.6,   9.0390,  34.6240,2,  34.6162,2,-999.0000,5,    80.1,2,   55.00,2,   31.81,2,    2.27,2
 09FA9508_1,      IR6_4,      78,          1,         17,         27,2,19951002,       1845,   -11.1980,   108.9220,       5431,   496.8,   8.4380,  34.6620,2,  34.6642,2,-999.0000,5,    75.8,2,   56.95,2,   33.12,2,    2.35,2
 09FA9508_1,      IR6_4,      78,          1,         16,         20,2,19951002,       1845,   -11.1980,   108.9220,       5431,   596.7,   7.4080,  34.6260,2,  34.6238,2,-999.0000,5,    80.6,2,   67.46,2,   34.23,2,    2.47,2
 09FA9508_1,      IR6_4,      78,          1,         15,         11,2,19951002,       1845,   -11.1980,   108.9220,       5431,   696.5,   6.5640,  34.6130,2,  34.6112,2,-999.0000,5,    82.6,2,   79.24,2,   35.29,2,    2.55,2
 09FA9508_1,      IR6_4,      78,          1,         14,          8,2,19951002,       1845,   -11.1980,   108.9220,       5431,   797.7,   5.9030,  34.6070,2,  34.6030,2,-999.0000,5,    85.2,2,   89.87,2,   35.57,2,    2.59,2
 09FA9508_1,      IR6_4,      78,          1,         13,          6,2,19951002,       1845,   -11.1980,   108.9220,       5431,   894.9,   5.4410,  34.6100,2,  34.6070,2,-999.0000,5,    87.5,2,   96.30,2,   36.09,2,    2.63,2
 09FA9508_1,      IR6_4,      78,          1,         12,         35,2,19951002,       1845,   -11.1980,   108.9220,       5431,   997.9,   4.8530,  34.6120,2,  34.6133,2,-999.0000,5,    90.7,2,  105.26,2,   36.48,2,    2.65,2
 09FA9508_1,      IR6_4,      78,          1,         11,          3,2,19951002,       1845,   -11.1980,   108.9220,       5431,  1243.9,   4.1380,  34.6670,2,  34.6659,2,-999.0000,5,    96.2,2,  111.92,2,   36.74,2,    2.66,2
 09FA9508_1,      IR6_4,      78,          1,         10,         30,2,19951002,       1845,   -11.1980,   108.9220,       5431,  1495.6,   3.6740,  34.7000,2,  34.7013,2,-999.0000,5,   104.8,2,  115.70,2,   36.69,2,    2.66,2
 09FA9508_1,      IR6_4,      78,          1,          9,         24,2,19951002,       1845,   -11.1980,   108.9220,       5431,  1995.3,   2.5610,  34.7300,2,  34.7312,2,-999.0000,5,   131.7,2,  118.49,3,   35.65,2,    2.55,2
 09FA9508_1,      IR6_4,      78,          1,          8,         17,2,19951002,       1845,   -11.1980,   108.9220,       5431,  2496.2,   1.9730,  34.7300,2,  34.7300,2,-999.0000,5,   150.9,2,  129.45,2,   34.64,2,    2.47,2
 09FA9508_1,      IR6_4,      78,          1,          7,         48,2,19951002,       1845,   -11.1980,   108.9220,       5431,  2998.0,   1.6160,  34.7220,2,  34.7210,2,-999.0000,5,   162.4,2,  130.82,2,   34.14,2,    2.41,2
 09FA9508_1,      IR6_4,      78,          1,          6,         15,2,19951002,       1845,   -11.1980,   108.9220,       5431,  3498.8,   1.3140,  34.7150,2,  34.7148,2,-999.0000,5,   174.8,2,  134.31,2,   33.54,2,    2.37,2
 09FA9508_1,      IR6_4,      78,          1,          5,         28,2,19951002,       1845,   -11.1980,   108.9220,       5431,  3999.9,   1.1960,  34.7110,2,  34.7101,2,-999.0000,5,   181.7,2,  131.77,2,   33.29,2,    2.35,2
 09FA9508_1,      IR6_4,      78,          1,          4,         99,2,19951002,       1845,   -11.1980,   108.9220,       5431,  4498.7,   1.1700,  34.7110,2,  34.7097,2,-999.0000,5,   185.9,2,  129.22,2,   32.92,2,    2.32,2
 09FA9508_1,      IR6_4,      78,          1,          3,         14,2,19951002,       1845,   -11.1980,   108.9220,       5431,  4998.8,   1.2050,  34.7110,2,  34.7102,2,-999.0000,5,   185.6,2,  131.68,2,   32.87,2,    2.31,2
 09FA9508_1,      IR6_4,      78,          1,          2,          5,2,19951002,       1845,   -11.1980,   108.9220,       5431,  5496.8,   1.2560,  34.7110,2,  34.7106,2,-999.0000,5,   188.2,2,  132.27,2,   32.94,2,    2.30,2
 09FA9508_1,      IR6_4,      78,          1,          1,         18,2,19951002,       1845,   -11.1980,   108.9220,       5431,  5617.1,   1.2710,  34.7110,2,  34.7099,2,-999.0000,5,   187.9,2,  131.96,2,   32.88,2,    2.30,2