BOTTLE,20211101CCHSIORKP
EXPOCODE,SECT_ID,STNNBR,CASTNO,SAMPNO,BTLNBR,BTLNBR_FLAG_W,DATE,TIME,LATITUDE,LONGITUDE,DEPTH,CTDPRS,CTDTMP,CTDSAL,CTDSAL_FLAG_W,SALNTY,SALNTY_FLAG_W,CTDOXY,CTDOXY_FLAG_W,OXYGEN,OXYGEN_FLAG_W,SILCAT,SILCAT_FLAG_W,NITRAT,NITRAT_FLAG_W,PHSPHT,PHSPHT_FLAG_W
,,,,,,,,,,,METERS,DBAR,ITS-90,PSS-78,,PSS-78,,UMOL/KG,,UMOL/KG,,UMOL/KG,,UMOL/KG,,UMOL/KG,
 09FA9508_1,      IR6_4,      67,          1,         24,         21,2,19950928,       1212,   -10.5623,   106.0513,       5439,     2.8,  27.0600,  34.3200,2,  34.3263,2,-999.0000,5,   207.5,2,    4.36,2,    0.28,2,    0.17,2
 09FA9508_1,      IR6_4,      67,          1,         23,         66,2,19950928,       1212,   -10.5623,   106.0513,       5439,    48.7,  25.8430,  34.3660,2,  34.3537,2,-999.0000,5,   202.2,2,    5.68,2,    1.11,2,    0.22,2
 09FA9508_1,      IR6_4,      67,          1,         22,         29,2,19950928,       1212,   -10.5623,   106.0513,       5439,    72.2,  23.9020,  34.5230,2,  34.5449,2,-999.0000,5,   150.8,2,   10.22,2,    7.67,2,    0.59,2
 09FA9508_1,      IR6_4,      67,          1,         21,         45,2,19950928,       1212,   -10.5623,   106.0513,       5439,    99.2,  21.2390,  34.4280,2,  34.4461,2,-999.0000,5,   136.8,2,   15.99,2,   11.67,2,    0.84,2
 09FA9508_1,      IR6_4,      67,          1,         20,         10,2,19950928,       1212,   -10.5623,   106.0513,       5439,   147.8,  16.1190,  34.6060,2,  34.6068,2,-999.0000,5,   106.3,2,   27.64,2,   19.62,2,    1.40,2
 09FA9508_1,      IR6_4,      67,          1,         19,         42,2,19950928,       1212,   -10.5623,   106.0513,       5439,   198.6,  12.9580,  34.5210,2,  34.5221,2,-999.0000,5,   110.5,2,   35.81,2,   23.12,2,    1.67,2
 09FA9508_1,      IR6_4,      67,          1,         18,         13,2,19950928,       1212,   -10.5623,   106.0513,       5439,   297.3,  10.5740,  34.5790,2,  34.5805,2,-999.0000,5,    94.9,2,   46.10,2,   28.15,2,    2.03,2
 09FA9508_1,      IR6_4,      67,          1,         17,         27,2,19950928,       1212,   -10.5623,   106.0513,       5439,   397.8,   9.3450,  34.6350,2,  34.6358,2,-999.0000,5,    87.7,2,   49.54,2,   30.73,2,    2.18,2
 09FA9508_1,      IR6_4,      67,          1,         16,         20,2,19950928,       1212,   -10.5623,   106.0513,       5439,   496.9,   8.2880,  34.6610,2,  34.6554,2,-999.0000,5,    90.3,2,   53.12,2,   32.17,2,    2.29,2
 09FA9508_1,      IR6_4,      67,          1,         15,         11,2,19950928,       1212,   -10.5623,   106.0513,       5439,   598.3,   7.1800,  34.6300,2,  34.6277,2,-999.0000,5,    85.9,2,   69.42,2,   34.29,2,    2.50,2
 09FA9508_1,      IR6_4,      67,          1,         14,          8,2,19950928,       1212,   -10.5623,   106.0513,       5439,   696.1,   6.4830,  34.6200,2,  34.6217,2,-999.0000,5,    85.7,2,   80.60,2,   35.33,2,    2.55,2
 09FA9508_1,      IR6_4,      67,          1,         13,          6,2,19950928,       1212,   -10.5623,   106.0513,       5439,   797.0,   5.8710,  34.6290,2,  34.6262,2,-999.0000,5,    87.5,2,   89.82,2,   35.89,2,    2.63,2
 09FA9508_1,      IR6_4,      67,          1,         12,         35,2,19950928,       1212,   -10.5623,   106.0513,       5439,   895.3,   5.4620,  34.6220,2,  34.6262,2,-999.0000,5,    89.4,2,   95.87,2,   36.16,2,    2.64,2
 09FA9508_1,      IR6_4,      67,          1,         11,          3,2,19950928,       1212,   -10.5623,   106.0513,       5439,   996.0,   4.9550,  34.6180,2,  34.6200,2,-999.0000,5,    94.5,2,  101.48,2,   36.10,2,    2.65,2
 09FA9508_1,      IR6_4,      67,          1,         10,         30,2,19950928,       1212,   -10.5623,   106.0513,       5439,  1245.0,   4.2280,  34.6460,2,  34.6433,2,-999.0000,5,    98.7,2,   99.47,3,   35.08,3,    2.52,3
 09FA9508_1,      IR6_4,      67,          1,          9,         24,2,19950928,       1212,   -10.5623,   106.0513,       5439,  1497.0,   3.4420,  34.7000,2,  34.6961,2,-999.0000,5,   114.5,2,  115.76,2,   35.91,2,    2.63,2
 09FA9508_1,      IR6_4,      67,          1,          8,         17,2,19950928,       1212,   -10.5623,   106.0513,       5439,  1996.4,   2.4530,  34.7350,2,  34.7371,2,-999.0000,5,   141.5,2,  122.61,2,   35.26,2,    2.55,2
 09FA9508_1,      IR6_4,      67,          1,          7,         48,2,19950928,       1212,   -10.5623,   106.0513,       5439,  2455.9,   1.9760,  34.7310,2,  34.7305,2,-999.0000,5,   157.1,2,  126.35,2,   34.84,2,    2.46,2
 09FA9508_1,      IR6_4,      67,          1,          6,         15,2,19950928,       1212,   -10.5623,   106.0513,       5439,  2998.5,   1.5690,  34.7230,2,  34.7255,2,-999.0000,5,   170.2,2,  130.86,2,   34.46,2,    2.44,2
 09FA9508_1,      IR6_4,      67,          1,          5,         28,2,19950928,       1212,   -10.5623,   106.0513,       5439,  3498.5,   1.2940,  34.7160,2,  34.7185,2,-999.0000,5,   182.5,2,  132.28,2,   33.89,2,    2.36,2
 09FA9508_1,      IR6_4,      67,          1,          4,         99,2,19950928,       1212,   -10.5623,   106.0513,       5439,  3999.1,   1.1860,  34.7130,2,  34.7146,2,-999.0000,5,   188.4,2,  132.10,2,   33.43,2,    2.34,2
 09FA9508_1,      IR6_4,      67,          1,          3,         14,2,19950928,       1212,   -10.5623,   106.0513,       5439,  4499.0,   1.1550,  34.7130,2,  34.7147,2,-999.0000,5,  -999.0,9,  130.21,2,   33.55,2,    2.35,2
 09FA9508_1,      IR6_4,      67,          1,          2,          5,2,19950928,       1212,   -10.5623,   106.0513,       5439,  5001.1,   1.1710,  34.7110,2,  34.7152,3,-999.0000,5,   197.0,2,  129.57,2,   33.30,2,    2.32,2
 09FA9508_1,      IR6_4,      67,          1,          1,         18,2,19950928,       1212,   -10.5623,   106.0513,       5439,  5396.6,   1.2090,  34.7110,2,  34.7114,2,-999.0000,5,   197.8,2,  129.39,2,   32.95,2,    2.29,2
 09FA9508_1,      IR6_4,      68,          1,         24,         21,2,19950929,       1614,   -10.0702,   105.9140,       4631,     2.0,  26.8060,  34.4330,2,  34.4349,2,-999.0000,5,   207.1,2,    4.78,2,    0.28,2,    0.17,2
 09FA9508_1,      IR6_4,      68,          1,         23,         66,2,19950929,       1614,   -10.0702,   105.9140,       4631,    50.2,  23.9530,  34.4430,2,  34.4503,2,-999.0000,5,   185.5,2,    7.67,2,    3.69,2,    0.43,2
 09FA9508_1,      IR6_4,      68,          1,         22,         43,2,19950929,       1614,   -10.0702,   105.9140,       4631,    98.1,  17.7350,  34.5480,2,  34.5427,2,-999.0000,5,   109.3,2,   24.62,2,   17.78,2,    1.30,2
 09FA9508_1,      IR6_4,      68,          1,         21,          7,2,19950929,       1614,   -10.0702,   105.9140,       4631,   197.6,  11.9640,  34.5210,2,  34.5196,2,-999.0000,5,   105.9,2,   39.06,2,   24.93,2,    1.81,2
 09FA9508_1,      IR6_4,      68,          1,         20,         10,2,19950929,       1614,   -10.0702,   105.9140,       4631,   299.0,  10.3400,  34.6200,2,  34.6164,2,-999.0000,5,    90.8,2,   43.38,2,   28.56,2,    2.05,2
 09FA9508_1,      IR6_4,      68,          1,         19,         42,2,19950929,       1614,   -10.0702,   105.9140,       4631,   396.8,   9.1300,  34.6640,2,  34.6641,2,-999.0000,5,   105.3,2,   42.73,2,   29.09,2,    2.08,3
 09FA9508_1,      IR6_4,      68,          1,         18,         13,2,19950929,       1614,   -10.0702,   105.9140,       4631,   497.1,   7.9230,  34.6410,2,  34.6425,2,-999.0000,5,    79.8,2,   59.76,2,   33.59,2,    2.41,2
 09FA9508_1,      IR6_4,      68,          1,         17,         27,2,19950929,       1614,   -10.0702,   105.9140,       4631,   595.9,   7.1650,  34.6320,2,  34.6288,2,-999.0000,5,    79.9,2,   70.18,2,   34.70,2,    2.51,2
 09FA9508_1,      IR6_4,      68,          1,         16,         20,2,19950929,       1614,   -10.0702,   105.9140,       4631,   695.8,   6.5720,  34.6520,2,  34.6485,2,-999.0000,5,    77.7,2,   76.90,2,   35.63,2,    2.59,2
 09FA9508_1,      IR6_4,      68,          1,         15,         11,2,19950929,       1614,   -10.0702,   105.9140,       4631,   795.7,   5.7540,  34.6260,2,  34.6293,2,-999.0000,5,    86.7,2,   88.86,2,   36.11,2,    2.64,2
 09FA9508_1,      IR6_4,      68,          1,         14,          8,2,19950929,       1614,   -10.0702,   105.9140,       4631,   894.0,   5.1960,  34.6240,2,  34.6254,2,-999.0000,5,    90.1,2,   95.90,2,   36.42,2,    2.67,2
 09FA9508_1,      IR6_4,      68,          1,         13,          6,2,19950929,       1614,   -10.0702,   105.9140,       4631,   996.8,   4.7660,  34.6220,2,  34.6239,2,-999.0000,5,    94.2,2,  101.02,2,   36.55,2,    2.68,2
 09FA9508_1,      IR6_4,      68,          1,         12,         35,2,19950929,       1614,   -10.0702,   105.9140,       4631,  1193.6,   4.1860,  34.6470,2,  34.6507,2,-999.0000,5,    98.5,2,  110.40,2,   36.75,2,    2.69,2
 09FA9508_1,      IR6_4,      68,          1,         11,          3,2,19950929,       1614,   -10.0702,   105.9140,       4631,  1397.5,   3.6160,  34.7010,2,  34.7018,2,-999.0000,5,   108.5,2,  115.24,2,   36.41,2,    2.67,2
 09FA9508_1,      IR6_4,      68,          1,         10,         30,2,19950929,       1614,   -10.0702,   105.9140,       4631,  1594.8,   3.1830,  34.7220,2,  34.7211,2,-999.0000,5,   120.3,2,  115.83,2,   36.05,2,    2.64,2
 09FA9508_1,      IR6_4,      68,          1,          9,         24,2,19950929,       1614,   -10.0702,   105.9140,       4631,  1795.9,   2.8360,  34.7330,2,  34.7348,2,-999.0000,5,   127.5,2,  119.16,2,   35.79,2,    2.59,2
 09FA9508_1,      IR6_4,      68,          1,          8,         17,2,19950929,       1614,   -10.0702,   105.9140,       4631,  1995.4,   2.4070,  34.7370,2,  34.7391,2,-999.0000,5,   139.5,2,  122.50,2,   35.35,2,    2.55,2
 09FA9508_1,      IR6_4,      68,          1,          7,         48,2,19950929,       1614,   -10.0702,   105.9140,       4631,  2195.9,   2.2190,  34.7350,2,  34.7344,2,-999.0000,5,   145.2,2,  124.36,2,   35.02,2,    2.52,2
 09FA9508_1,      IR6_4,      68,          1,          6,         15,2,19950929,       1614,   -10.0702,   105.9140,       4631,  2496.3,   1.9380,  34.7310,2,  34.7320,2,-999.0000,5,   155.5,2,  127.95,2,   34.76,2,    2.47,2
 09FA9508_1,      IR6_4,      68,          1,          5,         28,2,19950929,       1614,   -10.0702,   105.9140,       4631,  2997.1,   1.6320,  34.7260,2,  34.7264,2,-999.0000,5,   164.7,2,  131.81,2,   34.39,2,    2.42,2
 09FA9508_1,      IR6_4,      68,          1,          4,         99,2,19950929,       1614,   -10.0702,   105.9140,       4631,  3498.5,   1.3190,  34.7170,2,  34.7169,2,-999.0000,5,   179.8,2,  131.38,2,   33.80,2,    2.37,2
 09FA9508_1,      IR6_4,      68,          1,          3,         14,2,19950929,       1614,   -10.0702,   105.9140,       4631,  4000.6,   1.1730,  34.7120,2,  34.7130,2,-999.0000,5,   188.1,2,  131.65,2,   33.30,2,    2.33,2
 09FA9508_1,      IR6_4,      68,          1,          2,          5,2,19950929,       1614,   -10.0702,   105.9140,       4631,  4484.5,   1.1580,  34.7120,2,  34.7110,2,-999.0000,5,   192.4,2,  131.84,2,   33.25,2,    2.32,2
 09FA9508_1,      IR6_4,      68,          1,          1,         18,2,19950929,       1614,   -10.0702,   105.9140,       4631,  4788.5,   1.1400,  34.7120,2,  34.7129,2,-999.0000,5,   196.5,2,  127.63,2,   33.02,2,    2.32,2
 09FA9508_1,      IR6_4,      69,          1,         24,         21,2,19950929,       2238,    -9.5848,   105.7720,       5183,     1.5,  26.7210,  34.5140,2,  34.5134,2,-999.0000,5,   205.0,2,    4.18,2,    0.17,2,    0.20,2
 09FA9508_1,      IR6_4,      69,          1,         23,         66,2,19950929,       2238,    -9.5848,   105.7720,       5183,    48.1,  24.2270,  34.4110,2,  34.4489,2,-999.0000,5,   192.6,2,    6.03,2,    2.75,2,    0.34,2
 09FA9508_1,      IR6_4,      69,          1,         22,         43,2,19950929,       2238,    -9.5848,   105.7720,       5183,    98.8,  16.5880,  34.5870,2,  34.5861,2,-999.0000,5,   104.4,2,   26.79,2,   19.21,2,    1.42,2
 09FA9508_1,      IR6_4,      69,          1,         21,          7,2,19950929,       2238,    -9.5848,   105.7720,       5183,   198.1,  12.0540,  34.5800,2,  34.5767,2,-999.0000,5,    96.7,2,   38.75,2,   25.48,2,    1.87,2
 09FA9508_1,      IR6_4,      69,          1,         20,         10,2,19950929,       2238,    -9.5848,   105.7720,       5183,   298.6,  10.0750,  34.6130,2,  34.6081,2,-999.0000,5,    85.9,2,   45.92,2,   29.28,2,    2.11,2
 09FA9508_1,      IR6_4,      69,          1,         19,         42,2,19950929,       2238,    -9.5848,   105.7720,       5183,   397.6,   9.2550,  34.6750,2,  34.6726,2,-999.0000,5,    88.6,2,   45.09,2,   30.27,2,    2.17,2
 09FA9508_1,      IR6_4,      69,          1,         18,         13,2,19950929,       2238,    -9.5848,   105.7720,       5183,   499.6,   8.0660,  34.6840,2,  34.6812,2,-999.0000,5,    75.2,2,   57.25,2,   33.65,2,    2.42,2
 09FA9508_1,      IR6_4,      69,          1,         17,         27,2,19950929,       2238,    -9.5848,   105.7720,       5183,   598.3,   6.9670,  34.6510,2,  34.6470,2,-999.0000,5,    77.7,2,   71.42,2,   35.01,2,    2.54,2
 09FA9508_1,      IR6_4,      69,          1,         16,         20,2,19950929,       2238,    -9.5848,   105.7720,       5183,   697.4,   6.2990,  34.6420,2,  34.6418,2,-999.0000,5,    79.6,2,   81.93,2,   35.69,2,    2.60,2
 09FA9508_1,      IR6_4,      69,          1,         15,         11,2,19950929,       2238,    -9.5848,   105.7720,       5183,   797.5,   5.7060,  34.6320,2,  34.6304,2,-999.0000,5,    85.3,2,   87.31,2,   36.09,2,    2.62,2
 09FA9508_1,      IR6_4,      69,          1,         14,          8,2,19950929,       2238,    -9.5848,   105.7720,       5183,   897.6,   5.1970,  34.6190,2,  34.6154,2,-999.0000,5,    89.9,2,   93.15,2,   36.18,2,    2.64,2
 09FA9508_1,      IR6_4,      69,          1,         13,          6,2,19950929,       2238,    -9.5848,   105.7720,       5183,   996.7,   4.7400,  34.6210,2,  34.6189,2,-999.0000,5,    93.6,2,  105.35,2,   36.51,2,    2.66,2
 09FA9508_1,      IR6_4,      69,          1,         12,         35,2,19950929,       2238,    -9.5848,   105.7720,       5183,  1197.0,   4.0740,  34.6390,2,  34.6377,2,-999.0000,5,   100.1,2,  112.04,2,   36.55,2,    2.68,2
 09FA9508_1,      IR6_4,      69,          1,         11,          3,2,19950929,       2238,    -9.5848,   105.7720,       5183,  1397.0,   3.6500,  34.6960,2,  34.6955,2,-999.0000,5,   107.3,2,  111.09,3,   36.47,2,    2.68,2
 09FA9508_1,      IR6_4,      69,          1,         10,         30,2,19950929,       2238,    -9.5848,   105.7720,       5183,  1594.6,   3.1220,  34.7210,2,  34.7199,2,-999.0000,5,   120.0,2,  118.08,2,   36.09,2,    2.64,2
 09FA9508_1,      IR6_4,      69,          1,          9,         24,2,19950929,       2238,    -9.5848,   105.7720,       5183,  1796.6,   2.8770,  34.7340,2,  34.7333,2,-999.0000,5,   126.2,2,  120.59,2,   35.68,2,    2.63,2
 09FA9508_1,      IR6_4,      69,          1,          8,         17,2,19950929,       2238,    -9.5848,   105.7720,       5183,  1995.6,   2.4640,  34.7360,2,  34.7360,2,-999.0000,5,   137.9,2,  123.61,2,   35.31,2,    2.57,2
 09FA9508_1,      IR6_4,      69,          1,          7,         48,2,19950929,       2238,    -9.5848,   105.7720,       5183,  2495.4,   1.9420,  34.7310,2,  34.7324,2,-999.0000,5,   155.7,2,  127.92,2,   34.68,2,    2.48,2
 09FA9508_1,      IR6_4,      69,          1,          6,         15,2,19950929,       2238,    -9.5848,   105.7720,       5183,  2998.2,   1.6260,  34.7250,2,  34.7249,2,-999.0000,5,   166.3,2,  130.92,2,   34.36,2,    2.43,2
 09FA9508_1,      IR6_4,      69,          1,          5,         28,2,19950929,       2238,    -9.5848,   105.7720,       5183,  3499.1,   1.3220,  34.7170,2,  34.7135,2,-999.0000,5,   178.8,2,  132.46,2,   33.72,2,    2.37,2
 09FA9508_1,      IR6_4,      69,          1,          4,         99,2,19950929,       2238,    -9.5848,   105.7720,       5183,  4000.3,   1.1500,  34.7130,2,  34.7122,2,-999.0000,5,   188.9,2,  130.31,2,   33.39,2,    2.32,2
 09FA9508_1,      IR6_4,      69,          1,          3,         14,2,19950929,       2238,    -9.5848,   105.7720,       5183,  4499.9,   1.1350,  34.7130,2,  34.7122,2,-999.0000,5,   193.3,2,  129.80,2,   33.15,2,    2.30,2
 09FA9508_1,      IR6_4,      69,          1,          2,          5,2,19950929,       2238,    -9.5848,   105.7720,       5183,  4996.6,   1.1820,  34.7130,2,  34.7102,2,-999.0000,5,   193.9,2,  130.70,2,   33.07,2,    2.30,2
 09FA9508_1,      IR6_4,      69,          1,          1,         18,2,19950929,       2238,    -9.5848,   105.7720,       5183,  5319.4,   1.2210,  34.7120,2,  34.7133,2,-999.0000,5,   194.9,2,  128.44,2,   33.20,2,    2.29,2