BOTTLE,20211101CCHSIORKP
EXPOCODE,SECT_ID,STNNBR,CASTNO,SAMPNO,BTLNBR,BTLNBR_FLAG_W,DATE,TIME,LATITUDE,LONGITUDE,DEPTH,CTDPRS,CTDTMP,CTDSAL,CTDSAL_FLAG_W,SALNTY,SALNTY_FLAG_W,CTDOXY,CTDOXY_FLAG_W,OXYGEN,OXYGEN_FLAG_W,SILCAT,SILCAT_FLAG_W,NITRAT,NITRAT_FLAG_W,PHSPHT,PHSPHT_FLAG_W
,,,,,,,,,,,METERS,DBAR,ITS-90,PSS-78,,PSS-78,,UMOL/KG,,UMOL/KG,,UMOL/KG,,UMOL/KG,,UMOL/KG,
 09FA9508_1,      IR6_4,     119,          1,          8,         21,2,19951011,       0731,   -12.2458,   122.8155,        342,     3.4,  28.3460,  34.5530,2,  34.5525,2,-999.0000,5,   207.1,2, -999.00,9, -999.00,9, -999.00,9
 09FA9508_1,      IR6_4,     119,          1,          7,         48,2,19951011,       0731,   -12.2458,   122.8155,        342,    49.6,  25.9360,  34.5440,2,  34.5443,2,-999.0000,5,   200.1,2, -999.00,9, -999.00,9, -999.00,9
 09FA9508_1,      IR6_4,     119,          1,          6,         15,2,19951011,       0731,   -12.2458,   122.8155,        342,   100.3,  23.9710,  34.5870,2,  34.5894,2,-999.0000,5,   149.4,2, -999.00,9, -999.00,9, -999.00,9
 09FA9508_1,      IR6_4,     119,          1,          5,         13,2,19951011,       0731,   -12.2458,   122.8155,        342,   151.3,  21.4570,  34.5930,2,  34.5914,2,-999.0000,5,   122.8,2, -999.00,9, -999.00,9, -999.00,9
 09FA9508_1,      IR6_4,     119,          1,          4,         99,2,19951011,       0731,   -12.2458,   122.8155,        342,   200.5,  15.6440,  34.6040,2,  34.6051,2,-999.0000,5,   101.7,2, -999.00,9, -999.00,9, -999.00,9
 09FA9508_1,      IR6_4,     119,          1,          3,         45,2,19951011,       0731,   -12.2458,   122.8155,        342,   249.8,  14.4130,  34.5780,2,  34.5797,2,-999.0000,5,    98.6,2, -999.00,9, -999.00,9, -999.00,9
 09FA9508_1,      IR6_4,     119,          1,          2,          5,2,19951011,       0731,   -12.2458,   122.8155,        342,   291.1,  13.4710,  34.5670,2,  34.5667,2,-999.0000,5,    96.6,2, -999.00,9, -999.00,9, -999.00,9
 09FA9508_1,      IR6_4,     119,          1,          1,         18,2,19951011,       0731,   -12.2458,   122.8155,        342,   324.7,  12.5740,  34.5600,2,  34.5593,2,-999.0000,5,    94.9,2, -999.00,9, -999.00,9, -999.00,9
 09FA9508_1,      IR6_4,     120,          1,          5,         21,2,19951011,       0831,   -12.2292,   122.8750,        210,     4.5,  28.0210,  34.5390,2,  34.5436,2,-999.0000,5,   207.6,2, -999.00,9, -999.00,9, -999.00,9
 09FA9508_1,      IR6_4,     120,          1,          4,         99,2,19951011,       0831,   -12.2292,   122.8750,        210,    50.5,  26.0610,  34.5190,2,  34.5209,2,-999.0000,5,   194.6,2, -999.00,9, -999.00,9, -999.00,9
 09FA9508_1,      IR6_4,     120,          1,          3,         45,2,19951011,       0831,   -12.2292,   122.8750,        210,   100.8,  24.8090,  34.5440,2,  34.5444,2,-999.0000,5,   169.0,2, -999.00,9, -999.00,9, -999.00,9
 09FA9508_1,      IR6_4,     120,          1,          2,          5,2,19951011,       0831,   -12.2292,   122.8750,        210,   157.6,  19.0980,  34.6050,2,  34.6100,2,-999.0000,5,   111.1,2, -999.00,9, -999.00,9, -999.00,9
 09FA9508_1,      IR6_4,     120,          1,          1,         18,2,19951011,       0831,   -12.2292,   122.8750,        210,   191.4,  16.3510,  34.5750,2,  34.5806,2,-999.0000,5,   103.9,2, -999.00,9, -999.00,9, -999.00,9