BOTTLE,20211101CCHSIORKP
EXPOCODE,SECT_ID,STNNBR,CASTNO,SAMPNO,BTLNBR,BTLNBR_FLAG_W,DATE,TIME,LATITUDE,LONGITUDE,DEPTH,CTDPRS,CTDTMP,CTDSAL,CTDSAL_FLAG_W,SALNTY,SALNTY_FLAG_W,CTDOXY,CTDOXY_FLAG_W,OXYGEN,OXYGEN_FLAG_W,SILCAT,SILCAT_FLAG_W,NITRAT,NITRAT_FLAG_W,PHSPHT,PHSPHT_FLAG_W
,,,,,,,,,,,METERS,DBAR,ITS-90,PSS-78,,PSS-78,,UMOL/KG,,UMOL/KG,,UMOL/KG,,UMOL/KG,,UMOL/KG,
 09FA9508_1,      IR6_4,      64,          1,         24,         21,2,19950927,       1543,   -11.9925,   106.4872,       5501,     2.1,  26.4270,  34.2940,2,  34.2920,2,-999.0000,5,   207.6,2,    4.72,2,    0.54,2,    0.07,2
 09FA9508_1,      IR6_4,      64,          1,         23,         66,2,19950927,       1543,   -11.9925,   106.4872,       5501,    48.7,  26.1070,  34.3220,2,  34.3230,2,-999.0000,5,   208.2,2,    4.56,2,    0.46,2,    0.05,2
 09FA9508_1,      IR6_4,      64,          1,         22,         29,2,19950927,       1543,   -11.9925,   106.4872,       5501,    98.5,  25.1290,  34.2230,2,  34.2150,2,-999.0000,5,   184.4,2,    5.74,2,    3.64,2,    0.21,2
 09FA9508_1,      IR6_4,      64,          1,         21,         45,2,19950927,       1543,   -11.9925,   106.4872,       5501,   198.7,  16.1920,  34.5790,2,  34.5724,2,-999.0000,5,   105.6,2,   27.79,2,   19.46,2,    1.36,2
 09FA9508_1,      IR6_4,      64,          1,         20,         10,2,19950927,       1543,   -11.9925,   106.4872,       5501,   299.6,  11.9330,  34.5290,2,  34.5244,2,-999.0000,5,   103.0,2,   40.08,2,   24.72,2,    1.79,2
 09FA9508_1,      IR6_4,      64,          1,         19,         42,2,19950927,       1543,   -11.9925,   106.4872,       5501,   400.4,  10.0450,  34.5930,2,  34.5909,2,-999.0000,5,    86.1,2,   48.07,2,   29.02,2,    2.10,2
 09FA9508_1,      IR6_4,      64,          1,         18,         13,2,19950927,       1543,   -11.9925,   106.4872,       5501,   496.9,   9.0790,  34.6800,2,  34.6734,2,-999.0000,5,   102.2,2,   42.84,2,   28.90,2,    2.10,2
 09FA9508_1,      IR6_4,      64,          1,         17,         27,2,19950927,       1543,   -11.9925,   106.4872,       5501,   597.2,   7.8510,  34.6480,2,  34.6435,2,-999.0000,5,    90.2,2,   56.56,2,   32.61,2,    2.34,2
 09FA9508_1,      IR6_4,      64,          1,         16,         20,2,19950927,       1543,   -11.9925,   106.4872,       5501,   697.7,   7.0010,  34.6370,2,  34.6313,2,-999.0000,5,    82.3,2,   71.17,2,   34.61,2,    2.50,2
 09FA9508_1,      IR6_4,      64,          1,         15,         11,2,19950927,       1543,   -11.9925,   106.4872,       5501,   797.7,   6.4320,  34.6340,2,  34.6312,2,-999.0000,5,    80.8,2,   81.45,2,   35.09,2,    2.58,2
 09FA9508_1,      IR6_4,      64,          1,         14,          8,2,19950927,       1543,   -11.9925,   106.4872,       5501,   895.8,   5.6680,  34.6200,2,  34.6178,2,-999.0000,5,    87.4,2,   92.63,2,   35.89,2,    2.61,2
 09FA9508_1,      IR6_4,      64,          1,         13,          6,2,19950927,       1543,   -11.9925,   106.4872,       5501,   996.0,   5.0790,  34.6200,2,  34.6147,2,-999.0000,5,    90.4,2,  101.18,2,   36.28,2,    2.63,2
 09FA9508_1,      IR6_4,      64,          1,         12,         35,2,19950927,       1543,   -11.9925,   106.4872,       5501,  1198.6,   4.4610,  34.6350,2,  34.6260,2,-999.0000,5,    94.7,2,  108.98,2,   36.07,2,    2.67,2
 09FA9508_1,      IR6_4,      64,          1,         11,          3,2,19950927,       1543,   -11.9925,   106.4872,       5501,  1397.3,   3.8040,  34.6640,2,  34.6595,2,-999.0000,5,   105.0,2,  114.09,2,   35.98,2,    2.63,2
 09FA9508_1,      IR6_4,      64,          1,         10,         30,2,19950927,       1543,   -11.9925,   106.4872,       5501,  1600.7,   3.2320,  34.7020,2,  34.6949,2,-999.0000,5,   117.5,2,  117.76,2,   36.02,2,    2.60,2
 09FA9508_1,      IR6_4,      64,          1,          9,         24,2,19950927,       1543,   -11.9925,   106.4872,       5501,  1998.5,   2.4910,  34.7340,2,  34.7283,2,-999.0000,5,   138.2,2,  122.24,2,   35.00,2,    2.52,2
 09FA9508_1,      IR6_4,      64,          1,          8,         17,2,19950927,       1543,   -11.9925,   106.4872,       5501,  2496.4,   1.9150,  34.7300,2,  34.7264,2,-999.0000,5,   156.6,2,  127.40,2,   34.35,2,    2.42,2
 09FA9508_1,      IR6_4,      64,          1,          7,         48,2,19950927,       1543,   -11.9925,   106.4872,       5501,  3001.4,   1.4890,  34.7210,2,  34.7181,2,-999.0000,5,   171.7,2,  130.84,2,   33.91,2,    2.41,2
 09FA9508_1,      IR6_4,      64,          1,          6,         15,2,19950927,       1543,   -11.9925,   106.4872,       5501,  3497.9,   1.2940,  34.7170,2,  34.7122,2,-999.0000,5,   180.9,2,  131.69,2,   33.39,2,    2.35,2
 09FA9508_1,      IR6_4,      64,          1,          5,         28,2,19950927,       1543,   -11.9925,   106.4872,       5501,  4002.8,   1.1740,  34.7140,2,-999.0000,9,-999.0000,5,   188.1,2,  131.73,2,   32.98,2,    2.33,2
 09FA9508_1,      IR6_4,      64,          1,          4,         99,2,19950927,       1543,   -11.9925,   106.4872,       5501,  4497.7,   1.1590,  34.7130,2,  34.7086,2,-999.0000,5,   191.2,2,  131.36,2,   33.05,2,    2.33,2
 09FA9508_1,      IR6_4,      64,          1,          3,         14,2,19950927,       1543,   -11.9925,   106.4872,       5501,  4999.0,   1.1980,  34.7130,2,  34.7083,2,-999.0000,5,   192.9,2,  130.45,2,   32.60,2,    2.32,2
 09FA9508_1,      IR6_4,      64,          1,          2,          5,2,19950927,       1543,   -11.9925,   106.4872,       5501,  5496.9,   1.2310,  34.7120,2,  34.7094,2,-999.0000,5,   195.5,2,  128.91,2,   32.85,2,    2.31,2
 09FA9508_1,      IR6_4,      64,          1,          1,         18,2,19950927,       1543,   -11.9925,   106.4872,       5501,  5609.3,   1.2370,  34.7130,2,  34.7094,2,-999.0000,5,   196.4,2,  128.84,2,   32.49,2,    2.29,2
 09FA9508_1,      IR6_4,      65,          1,         24,         21,2,19950927,       2217,   -11.5080,   106.3488,       5045,     4.0,  26.4400,  34.3270,2,  34.3313,2,-999.0000,5,   206.9,2,    4.85,2,    0.27,2,    0.19,2
 09FA9508_1,      IR6_4,      65,          1,         23,         66,2,19950927,       2217,   -11.5080,   106.3488,       5045,    49.7,  26.0730,  34.3200,2,  34.3179,2,-999.0000,5,   202.3,2,    4.77,2,    0.27,2,    0.18,2
 09FA9508_1,      IR6_4,      65,          1,         22,         29,2,19950927,       2217,   -11.5080,   106.3488,       5045,    98.4,  23.9750,  34.3850,2,  34.3702,2,-999.0000,5,   140.6,2,   11.84,2,    9.06,2,    0.70,2
 09FA9508_1,      IR6_4,      65,          1,         21,         45,2,19950927,       2217,   -11.5080,   106.3488,       5045,   198.0,  15.3070,  34.5270,2,  34.5289,2,-999.0000,5,   109.8,2,   29.88,2,   20.03,2,    1.48,2
 09FA9508_1,      IR6_4,      65,          1,         20,         10,2,19950927,       2217,   -11.5080,   106.3488,       5045,   297.6,  10.4710,  34.5410,2,  34.5391,2,-999.0000,5,    95.8,2,   47.25,2,   27.57,2,    2.04,2
 09FA9508_1,      IR6_4,      65,          1,         19,         42,2,19950927,       2217,   -11.5080,   106.3488,       5045,   397.2,   9.3490,  34.6260,2,  34.6198,2,-999.0000,5,    89.8,2,   49.95,2,   30.01,2,    2.16,2
 09FA9508_1,      IR6_4,      65,          1,         18,         13,2,19950927,       2217,   -11.5080,   106.3488,       5045,   498.2,   8.4280,  34.6560,2,  34.6504,2,-999.0000,5,    89.9,2,   51.91,2,   31.55,2,    2.27,2
 09FA9508_1,      IR6_4,      65,          1,         17,         27,2,19950927,       2217,   -11.5080,   106.3488,       5045,   597.4,   7.4540,  34.6430,2,  34.6371,2,-999.0000,5,    81.2,2,   65.97,2,   34.01,2,    2.45,2
 09FA9508_1,      IR6_4,      65,          1,         16,         20,2,19950927,       2217,   -11.5080,   106.3488,       5045,   696.1,   6.8430,  34.6300,2,  34.6221,2,-999.0000,5,  -999.0,9,   75.80,2,   35.12,2,    2.53,2
 09FA9508_1,      IR6_4,      65,          1,         15,         11,2,19950927,       2217,   -11.5080,   106.3488,       5045,   796.0,   6.1040,  34.6240,2,  34.6217,2,-999.0000,5,    83.8,2,   85.01,2,   35.58,2,    2.58,2
 09FA9508_1,      IR6_4,      65,          1,         14,          8,2,19950927,       2217,   -11.5080,   106.3488,       5045,   896.5,   5.5560,  34.6250,2,  34.6237,2,-999.0000,5,    85.8,2,   94.52,2,   36.11,2,    2.62,2
 09FA9508_1,      IR6_4,      65,          1,         13,          6,2,19950927,       2217,   -11.5080,   106.3488,       5045,   996.2,   5.1280,  34.6230,2,  34.6193,2,-999.0000,5,    89.3,2,  100.47,2,   36.07,2,    2.64,2
 09FA9508_1,      IR6_4,      65,          1,         12,         35,2,19950927,       2217,   -11.5080,   106.3488,       5045,  1197.5,   4.4260,  34.6280,2,  34.6288,2,-999.0000,5,    95.4,2,  110.34,2,   36.46,2,    2.64,2
 09FA9508_1,      IR6_4,      65,          1,         11,          3,2,19950927,       2217,   -11.5080,   106.3488,       5045,  1396.6,   3.8260,  34.6620,2,  34.6555,2,-999.0000,5,   104.7,2,  114.13,2,   36.21,2,    2.62,2
 09FA9508_1,      IR6_4,      65,          1,         10,         30,2,19950927,       2217,   -11.5080,   106.3488,       5045,  1596.0,   3.2920,  34.7060,2,  34.7028,2,-999.0000,5,   115.8,2,  117.47,2,   36.16,2,    2.60,2
 09FA9508_1,      IR6_4,      65,          1,          9,         24,2,19950927,       2217,   -11.5080,   106.3488,       5045,  1796.0,   2.7860,  34.7300,2,  34.7256,2,-999.0000,5,   128.6,2,  120.91,2,   35.60,2,    2.56,2
 09FA9508_1,      IR6_4,      65,          1,          8,         17,2,19950927,       2217,   -11.5080,   106.3488,       5045,  1996.8,   2.4850,  34.7330,2,  34.7295,2,-999.0000,5,   137.7,2,  124.36,2,   35.24,2,    2.55,2
 09FA9508_1,      IR6_4,      65,          1,          7,         48,2,19950927,       2217,   -11.5080,   106.3488,       5045,  2498.9,   1.9550,  34.7310,2,  34.7287,2,-999.0000,5,   155.6,2,  127.69,2,   34.46,2,    2.47,2
 09FA9508_1,      IR6_4,      65,          1,          6,         15,2,19950927,       2217,   -11.5080,   106.3488,       5045,  2998.3,   1.5540,  34.7230,2,  34.7208,2,-999.0000,5,   168.8,2,  132.25,2,   34.08,2,    2.39,2
 09FA9508_1,      IR6_4,      65,          1,          5,         28,2,19950927,       2217,   -11.5080,   106.3488,       5045,  3499.8,   1.2630,  34.7160,2,  34.7153,2,-999.0000,5,   181.7,2,  133.50,2,   33.58,2,    2.36,2
 09FA9508_1,      IR6_4,      65,          1,          4,         99,2,19950927,       2217,   -11.5080,   106.3488,       5045,  4000.6,   1.1590,  34.7140,2,  34.7118,2,-999.0000,5,   188.1,2,  134.07,2,   33.09,2,    2.34,2
 09FA9508_1,      IR6_4,      65,          1,          3,         14,2,19950927,       2217,   -11.5080,   106.3488,       5045,  4500.6,   1.1520,  34.7130,2,  34.7098,2,-999.0000,5,   190.6,2,  132.29,2,   32.95,2,    2.30,2
 09FA9508_1,      IR6_4,      65,          1,          2,          5,2,19950927,       2217,   -11.5080,   106.3488,       5045,  5001.6,   1.1860,  34.7130,2,  34.7098,2,-999.0000,5,   194.1,2,  132.30,2,   32.82,2,    2.31,2
 09FA9508_1,      IR6_4,      65,          1,          1,         18,2,19950927,       2217,   -11.5080,   106.3488,       5045,  5178.6,   1.1960,  34.7130,2,  34.7083,2,-999.0000,5,   195.1,2,  131.07,2,   32.73,2,    2.30,2
 09FA9508_1,      IR6_4,      66,          1,         24,         21,2,19950928,       0511,   -11.0292,   106.1958,       5722,     1.9,  27.3360,  34.3660,2,  34.3687,2,-999.0000,5,   202.4,2,    4.57,2,    0.28,2,    0.13,2
 09FA9508_1,      IR6_4,      66,          1,         23,         66,2,19950928,       0511,   -11.0292,   106.1958,       5722,    49.5,  26.0420,  34.3600,2,  34.3628,2,-999.0000,5,   206.3,2,    4.79,2,    0.60,2,    0.12,2
 09FA9508_1,      IR6_4,      66,          1,         22,         29,2,19950928,       0511,   -11.0292,   106.1958,       5722,    98.5,  23.8090,  34.4090,2,  34.3863,2,-999.0000,5,   145.8,2,   10.81,2,    8.65,2,    0.63,2
 09FA9508_1,      IR6_4,      66,          1,         21,         45,2,19950928,       0511,   -11.0292,   106.1958,       5722,   199.0,  13.2890,  34.5290,2,  34.5247,2,-999.0000,5,   108.7,2,   35.50,2,   22.89,2,    1.69,2
 09FA9508_1,      IR6_4,      66,          1,         20,         10,2,19950928,       0511,   -11.0292,   106.1958,       5722,   297.0,  10.6120,  34.5530,2,  34.5498,2,-999.0000,5,    95.9,2,   46.30,2,   28.06,2,    2.06,2
 09FA9508_1,      IR6_4,      66,          1,         19,         42,2,19950928,       0511,   -11.0292,   106.1958,       5722,   397.2,   9.3020,  34.6380,2,  34.6387,2,-999.0000,5,    87.7,2,   49.92,2,   30.72,2,    2.23,2
 09FA9508_1,      IR6_4,      66,          1,         18,         13,2,19950928,       0511,   -11.0292,   106.1958,       5722,   496.4,   8.2190,  34.6240,2,  34.6222,2,-999.0000,5,    87.0,2,   58.31,2,   32.70,2,    2.33,2
 09FA9508_1,      IR6_4,      66,          1,         17,         27,2,19950928,       0511,   -11.0292,   106.1958,       5722,   597.7,   7.4020,  34.6380,2,  34.6387,2,-999.0000,5,    87.9,2,   64.06,2,   34.18,2,    2.47,2
 09FA9508_1,      IR6_4,      66,          1,         16,         20,2,19950928,       0511,   -11.0292,   106.1958,       5722,   698.3,   6.6120,  34.6250,2,  34.6249,2,-999.0000,5,    84.3,2,   78.47,2,   35.26,2,    2.58,2
 09FA9508_1,      IR6_4,      66,          1,         15,         11,2,19950928,       0511,   -11.0292,   106.1958,       5722,   796.4,   6.0470,  34.6160,2,  34.6151,2,-999.0000,5,    87.8,2,   86.71,2,   35.73,2,    2.61,2
 09FA9508_1,      IR6_4,      66,          1,         14,          8,2,19950928,       0511,   -11.0292,   106.1958,       5722,   897.1,   5.5890,  34.6110,2,  34.6104,2,-999.0000,5,    91.0,2,   94.08,2,   35.84,2,    2.63,2
 09FA9508_1,      IR6_4,      66,          1,         13,          6,2,19950928,       0511,   -11.0292,   106.1958,       5722,   995.0,   5.1120,  34.6240,2,  34.6261,2,-999.0000,5,    93.0,2,  101.26,2,   36.39,2,    2.64,2
 09FA9508_1,      IR6_4,      66,          1,         12,         35,2,19950928,       0511,   -11.0292,   106.1958,       5722,  1245.4,   4.2500,  34.6390,2,  34.6429,2,-999.0000,5,   100.6,2,  110.97,2,   36.77,2,    2.66,2
 09FA9508_1,      IR6_4,      66,          1,         11,          3,2,19950928,       0511,   -11.0292,   106.1958,       5722,  1495.1,   3.5570,  34.6870,2,  34.6849,2,-999.0000,5,   111.8,2,  115.44,2,   36.34,2,    2.62,2
 09FA9508_1,      IR6_4,      66,          1,         10,         30,2,19950928,       0511,   -11.0292,   106.1958,       5722,  1744.2,   2.9580,  34.7250,2,-999.0000,9,-999.0000,5,   127.8,2,  119.02,2,   35.96,2,    2.58,2
 09FA9508_1,      IR6_4,      66,          1,          8,         17,2,19950928,       0511,   -11.0292,   106.1958,       5722,  2496.0,   1.9520,  34.7310,2,  34.7280,2,-999.0000,5,   157.0,2,  127.59,2,   34.29,2,    2.49,2
 09FA9508_1,      IR6_4,      66,          1,          7,         48,2,19950928,       0511,   -11.0292,   106.1958,       5722,  2996.7,   1.5680,  34.7230,2,  34.7217,2,-999.0000,5,   169.6,2,  131.54,2,   34.22,2,    2.41,2
 09FA9508_1,      IR6_4,      66,          1,          6,         15,2,19950928,       0511,   -11.0292,   106.1958,       5722,  3497.9,   1.2870,  34.7160,2,  34.7149,2,-999.0000,5,   182.6,2,  133.47,2,   33.35,2,    2.39,2
 09FA9508_1,      IR6_4,      66,          1,          5,         28,2,19950928,       0511,   -11.0292,   106.1958,       5722,  3998.3,   1.1770,  34.7140,2,  34.7094,2,-999.0000,5,   188.7,2,  133.47,2,   33.50,2,    2.35,2
 09FA9508_1,      IR6_4,      66,          1,          4,         99,2,19950928,       0511,   -11.0292,   106.1958,       5722,  4500.1,   1.1630,  34.7130,2,  34.7120,2,-999.0000,5,   192.3,2,  131.31,2,   33.19,2,    2.34,2
 09FA9508_1,      IR6_4,      66,          1,          3,         14,2,19950928,       0511,   -11.0292,   106.1958,       5722,  4998.8,   1.1780,  34.7130,2,  34.7116,2,-999.0000,5,   196.5,2,  130.24,2,   32.91,2,    2.29,2
 09FA9508_1,      IR6_4,      66,          1,          2,          5,2,19950928,       0511,   -11.0292,   106.1958,       5722,  5500.3,   1.2170,  34.7120,2,  34.7111,2,-999.0000,5,   198.8,2,  129.85,2,   33.03,2,    2.31,2
 09FA9508_1,      IR6_4,      66,          1,          1,         18,2,19950928,       0511,   -11.0292,   106.1958,       5722,  5946.2,   1.2710,  34.7120,2,  34.7119,2,-999.0000,5,   199.2,2,  129.63,2,   32.95,2,    2.28,2