BOTTLE,20211101CCHSIORKP
EXPOCODE,SECT_ID,STNNBR,CASTNO,SAMPNO,BTLNBR,BTLNBR_FLAG_W,DATE,TIME,LATITUDE,LONGITUDE,DEPTH,CTDPRS,CTDTMP,CTDSAL,CTDSAL_FLAG_W,SALNTY,SALNTY_FLAG_W,CTDOXY,CTDOXY_FLAG_W,OXYGEN,OXYGEN_FLAG_W,SILCAT,SILCAT_FLAG_W,NITRAT,NITRAT_FLAG_W,PHSPHT,PHSPHT_FLAG_W
,,,,,,,,,,,METERS,DBAR,ITS-90,PSS-78,,PSS-78,,UMOL/KG,,UMOL/KG,,UMOL/KG,,UMOL/KG,,UMOL/KG,
 09FA9508_1,      IR6_4,      39,          1,         22,         13,2,19950922,       0907,   -15.8063,   107.6942,       5760,    99.5,  23.7980,  34.9090,2,  34.9013,2,-999.0000,5,   214.0,2,    4.65,2,    0.72,2,    0.20,2
 09FA9508_1,      IR6_4,      39,          1,         21,          9,2,19950922,       0907,   -15.8063,   107.6942,       5760,   208.3,  17.4020,  35.2470,2,  35.2310,2,-999.0000,5,   142.8,2,   16.48,2,   12.22,2,    0.84,2
 09FA9508_1,      IR6_4,      39,          1,         20,         25,2,19950922,       0907,   -15.8063,   107.6942,       5760,   289.0,  13.0840,  35.0190,2,  35.0197,2,-999.0000,5,   139.4,2,   24.62,2,   17.76,2,    1.26,2
 09FA9508_1,      IR6_4,      39,          1,         19,          6,2,19950922,       0907,   -15.8063,   107.6942,       5760,   378.1,  10.8750,  34.8760,2,  34.8761,2,-999.0000,5,   159.6,2,   22.58,2,   19.56,2,    1.37,2
 09FA9508_1,      IR6_4,      39,          1,         18,         21,2,19950922,       0907,   -15.8063,   107.6942,       5760,   468.1,   9.4920,  34.7410,2,  34.7429,2,-999.0000,5,   184.4,2,   17.64,2,   20.23,2,    1.40,2
 09FA9508_1,      IR6_4,      39,          1,         17,          4,2,19950922,       0907,   -15.8063,   107.6942,       5760,   557.0,   7.9890,  34.6420,2,  34.6396,2,-999.0000,5,   134.6,2,   38.21,2,   28.53,2,    2.00,2
 09FA9508_1,      IR6_4,      39,          1,         16,         35,2,19950922,       0907,   -15.8063,   107.6942,       5760,   657.0,   7.2360,  34.6470,2,  34.6459,2,-999.0000,5,    98.6,2,   59.69,2,   33.19,2,    2.36,2
 09FA9508_1,      IR6_4,      39,          1,         15,         28,2,19950922,       0907,   -15.8063,   107.6942,       5760,   795.8,   6.2690,  34.6410,2,  34.6404,2,-999.0000,5,    89.0,2,   79.36,2,   35.50,2,    2.54,2
 09FA9508_1,      IR6_4,      39,          1,         13,         29,2,19950922,       0907,   -15.8063,   107.6942,       5760,   995.9,   5.3000,  34.6330,2,  34.6286,2,-999.0000,5,    91.9,2,   95.89,2,   36.30,2,    2.62,2
 09FA9508_1,      IR6_4,      39,          1,         12,         70,2,19950922,       0907,   -15.8063,   107.6942,       5760,  1195.6,   4.6240,  34.6330,2,  34.6306,2,-999.0000,5,    97.5,2,  104.20,2,   36.55,2,    2.63,2
 09FA9508_1,      IR6_4,      39,          1,         11,         10,2,19950922,       0907,   -15.8063,   107.6942,       5760,  1395.2,   4.0060,  34.6490,2,  34.6483,2,-999.0000,5,   108.3,2,  109.44,2,   36.48,2,    2.63,2
 09FA9508_1,      IR6_4,      39,          1,         10,         19,2,19950922,       0907,   -15.8063,   107.6942,       5760,  1595.1,   3.4080,  34.6830,2,  34.6812,2,-999.0000,5,   122.0,2,  108.98,2,   35.83,2,    2.56,2
 09FA9508_1,      IR6_4,      39,          1,          9,         20,2,19950922,       0907,   -15.8063,   107.6942,       5760,  1795.0,   2.9110,  34.7100,2,  34.7087,2,-999.0000,5,   132.7,2,  116.18,2,   35.64,2,    2.53,2
 09FA9508_1,      IR6_4,      39,          1,          8,         18,2,19950922,       0907,   -15.8063,   107.6942,       5760,  1996.1,   2.5490,  34.7250,2,  34.7248,2,-999.0000,5,   139.5,2,  121.62,2,   35.29,2,    2.53,2
 09FA9508_1,      IR6_4,      39,          1,          7,         11,2,19950922,       0907,   -15.8063,   107.6942,       5760,  2496.6,   1.9960,  34.7310,2,  34.7291,2,-999.0000,5,   157.3,2,  126.79,2,   34.46,2,    2.42,2
 09FA9508_1,      IR6_4,      39,          1,          6,         30,2,19950922,       0907,   -15.8063,   107.6942,       5760,  2998.3,   1.6020,  34.7250,2,  34.7225,2,-999.0000,5,   169.7,2,  127.92,2,   33.94,2,    2.37,2
 09FA9508_1,      IR6_4,      39,          1,          5,         27,2,19950922,       0907,   -15.8063,   107.6942,       5760,  3298.4,   1.4150,  34.7210,2,  34.7217,2,-999.0000,5,   179.2,2,  130.37,2,   33.54,2,    2.33,2
 09FA9508_1,      IR6_4,      39,          1,          4,         24,2,19950922,       0907,   -15.8063,   107.6942,       5760,  3690.8,   1.2810,  34.7180,2,  34.7177,2,-999.0000,5,   185.4,2,  130.68,2,   33.47,2,    2.30,2
 09FA9508_1,      IR6_4,      39,          1,          3,          5,2,19950922,       0907,   -15.8063,   107.6942,       5760,  4499.3,   1.1730,  34.7160,2,  34.7146,2,-999.0000,5,   192.7,2,  129.72,2,   33.06,2,    2.28,2
 09FA9508_1,      IR6_4,      39,          1,          2,          3,2,19950922,       0907,   -15.8063,   107.6942,       5760,  5001.5,   1.1730,  34.7130,2,  34.7146,2,-999.0000,5,   195.4,2,  127.93,2,   32.89,2,    2.26,2
 09FA9508_1,      IR6_4,      39,          1,          1,         12,2,19950922,       0907,   -15.8063,   107.6942,       5760,  5901.9,   1.2430,  34.7140,2,  34.7130,2,-999.0000,5,   174.3,3,  121.68,3,   33.33,3,    2.31,3
 09FA9508_1,      IR6_4,      40,          1,         22,         13,2,19950922,       1613,   -15.3370,   107.5372,       5831,    89.5,  24.5370,  34.6650,2,  34.6570,2,-999.0000,5,   203.1,2,    5.67,2,    0.48,2,    0.15,2
 09FA9508_1,      IR6_4,      40,          1,         21,          9,2,19950922,       1613,   -15.3370,   107.5372,       5831,   168.7,  18.4330,  34.9790,2,  34.9706,2,-999.0000,5,   121.0,2,   18.69,2,   14.22,2,    0.92,2
 09FA9508_1,      IR6_4,      40,          1,         20,         25,2,19950922,       1613,   -15.3370,   107.5372,       5831,   229.5,  16.1710,  35.2450,2,  35.2280,2,-999.0000,5,   142.1,2,   18.40,2,   13.41,2,    1.07,2
 09FA9508_1,      IR6_4,      40,          1,         19,          6,2,19950922,       1613,   -15.3370,   107.5372,       5831,   319.6,  12.2870,  34.9470,2,  34.9396,2,-999.0000,5,   134.7,2,   27.00,2,   19.50,2,    1.46,2
 09FA9508_1,      IR6_4,      40,          1,         18,         21,2,19950922,       1613,   -15.3370,   107.5372,       5831,   418.1,  10.1180,  34.7990,2,  34.7974,2,-999.0000,5,   161.7,2,   23.06,2,   20.96,2,    1.54,2
 09FA9508_1,      IR6_4,      40,          1,         17,          4,2,19950922,       1613,   -15.3370,   107.5372,       5831,   537.8,   8.3370,  34.6610,2,  34.6607,2,-999.0000,5,   125.6,2,   38.82,2,   28.52,2,    2.00,2
 09FA9508_1,      IR6_4,      40,          1,         16,         35,2,19950922,       1613,   -15.3370,   107.5372,       5831,   657.7,   7.1510,  34.6560,2,  34.6560,2,-999.0000,5,    88.4,2,   63.69,2,   33.75,2,    2.38,2
 09FA9508_1,      IR6_4,      40,          1,         15,         28,2,19950922,       1613,   -15.3370,   107.5372,       5831,   747.2,   6.5570,  34.6500,2,  34.6513,2,-999.0000,5,    84.5,2,   74.74,2,   34.99,2,    2.47,2
 09FA9508_1,      IR6_4,      40,          1,         13,         29,2,19950922,       1613,   -15.3370,   107.5372,       5831,   996.7,   5.2240,  34.6240,2,  34.6223,2,-999.0000,5,    89.0,2,   96.73,2,   36.16,2,    2.56,2
 09FA9508_1,      IR6_4,      40,          1,         12,          7,2,19950922,       1613,   -15.3370,   107.5372,       5831,  1196.0,   4.5190,  34.6290,2,  34.6287,2,-999.0000,5,  -999.0,9,  106.51,2,   36.45,2,    2.61,2
 09FA9508_1,      IR6_4,      40,          1,         11,         10,2,19950922,       1613,   -15.3370,   107.5372,       5831,  1395.4,   3.9760,  34.6520,2,  34.6523,2,-999.0000,5,   103.6,2,  111.59,2,   36.32,2,    2.65,2
 09FA9508_1,      IR6_4,      40,          1,         10,         19,2,19950922,       1613,   -15.3370,   107.5372,       5831,  1595.4,   3.3880,  34.6840,2,  34.6837,2,-999.0000,5,   116.4,2,  112.24,2,   35.95,2,    2.56,2
 09FA9508_1,      IR6_4,      40,          1,          9,         20,2,19950922,       1613,   -15.3370,   107.5372,       5831,  1796.0,   2.9610,  34.7070,2,  34.7093,2,-999.0000,5,   126.7,2,  117.22,2,   35.65,2,    2.55,2
 09FA9508_1,      IR6_4,      40,          1,          8,         18,2,19950922,       1613,   -15.3370,   107.5372,       5831,  1997.3,   2.5830,  34.7220,2,  34.7215,2,-999.0000,5,   137.8,2,  118.62,2,   35.18,2,    2.50,2
 09FA9508_1,      IR6_4,      40,          1,          7,         11,2,19950922,       1613,   -15.3370,   107.5372,       5831,  2497.5,   2.0170,  34.7300,2,  34.7258,2,-999.0000,5,   153.8,2,  126.86,2,   34.50,2,    2.44,2
 09FA9508_1,      IR6_4,      40,          1,          6,         30,2,19950922,       1613,   -15.3370,   107.5372,       5831,  2999.3,   1.6090,  34.7250,2,  34.7215,2,-999.0000,5,   165.3,2,  127.02,2,   33.97,2,    2.38,2
 09FA9508_1,      IR6_4,      40,          1,          5,         27,2,19950922,       1613,   -15.3370,   107.5372,       5831,  3499.8,   1.3490,  34.7200,2,  34.7220,2,-999.0000,5,   180.5,2,  130.43,2,   33.51,2,    2.33,2
 09FA9508_1,      IR6_4,      40,          1,          4,         24,2,19950922,       1613,   -15.3370,   107.5372,       5831,  3998.5,   1.2310,  34.7170,2,  34.7173,2,-999.0000,5,   186.5,2,  130.91,2,   33.18,2,    2.30,2
 09FA9508_1,      IR6_4,      40,          1,          3,          5,2,19950922,       1613,   -15.3370,   107.5372,       5831,  4499.4,   1.1800,  34.7150,2,  34.7157,2,-999.0000,5,   190.7,2,  129.70,2,   33.13,2,    2.28,2
 09FA9508_1,      IR6_4,      40,          1,          2,          3,2,19950922,       1613,   -15.3370,   107.5372,       5831,  4999.1,   1.1760,  34.7130,2,  34.7158,2,-999.0000,5,   194.7,2,  128.71,2,   32.99,2,    2.27,2
 09FA9508_1,      IR6_4,      40,          1,          1,         12,3,19950922,       1613,   -15.3370,   107.5372,       5831,  5971.5,   1.2540,  34.7120,2,  34.7119,3,-999.0000,5,   167.4,3,  119.30,3,   33.17,3,    2.31,3
 09FA9508_1,      IR6_4,      41,          1,         24,         24,2,19950922,       2310,   -14.8450,   107.3945,       5684,     2.0,  25.7100,  34.3680,2,  34.3726,2,-999.0000,5,   206.9,2,    4.60,2,    0.09,2,    0.10,2
 09FA9508_1,      IR6_4,      41,          1,         22,         13,2,19950922,       2310,   -14.8450,   107.3945,       5684,    97.9,  23.7630,  34.8550,2,  34.8418,2,-999.0000,5,   174.3,2,    7.59,2,    3.88,2,    0.39,2
 09FA9508_1,      IR6_4,      41,          1,         21,          9,2,19950922,       2310,   -14.8450,   107.3945,       5684,   198.3,  16.9540,  34.9960,2,  34.9877,2,-999.0000,5,   121.1,2,   21.10,2,   15.52,2,    1.13,2
 09FA9508_1,      IR6_4,      41,          1,         20,         25,2,19950922,       2310,   -14.8450,   107.3945,       5684,   298.1,  12.6130,  34.9120,2,  34.9071,2,-999.0000,5,   125.8,2,   28.32,2,   20.05,2,    1.47,2
 09FA9508_1,      IR6_4,      41,          1,         19,          6,2,19950922,       2310,   -14.8450,   107.3945,       5684,   397.2,  10.1970,  34.7730,2,  34.7702,2,-999.0000,5,   132.8,2,   30.60,2,   23.49,2,    1.70,2
 09FA9508_1,      IR6_4,      41,          1,         18,         21,2,19950922,       2310,   -14.8450,   107.3945,       5684,   496.5,   8.6860,  34.6750,2,  34.6712,2,-999.0000,5,   117.6,2,   39.45,2,   28.30,2,    2.02,2
 09FA9508_1,      IR6_4,      41,          1,         17,          4,2,19950922,       2310,   -14.8450,   107.3945,       5684,   597.0,   7.6750,  34.6570,2,  34.6535,2,-999.0000,5,    97.5,2,   53.67,2,   32.14,2,    2.30,2
 09FA9508_1,      IR6_4,      41,          1,         16,         35,2,19950922,       2310,   -14.8450,   107.3945,       5684,   694.1,   6.8900,  34.6530,2,  34.6488,2,-999.0000,5,    86.2,2,   68.00,2,   34.26,2,    2.47,2
 09FA9508_1,      IR6_4,      41,          1,         15,         28,2,19950922,       2310,   -14.8450,   107.3945,       5684,   791.9,   6.2640,  34.6400,2,  34.6381,2,-999.0000,5,    83.2,2,   80.03,2,   35.25,2,    2.56,2
 09FA9508_1,      IR6_4,      41,          1,         13,         29,2,19950922,       2310,   -14.8450,   107.3945,       5684,   994.1,   5.2770,  34.6230,2,  34.6196,2,-999.0000,5,    88.3,2,   97.13,2,   36.08,2,    2.60,2
 09FA9508_1,      IR6_4,      41,          1,         12,          7,2,19950922,       2310,   -14.8450,   107.3945,       5684,  1196.0,   4.5870,  34.6280,2,  34.6267,2,-999.0000,5,    96.5,2,  105.88,2,   36.41,2,    2.63,2
 09FA9508_1,      IR6_4,      41,          1,         11,         10,2,19950922,       2310,   -14.8450,   107.3945,       5684,  1395.8,   3.9870,  34.6510,2,  34.6479,2,-999.0000,5,   103.3,2,  112.29,2,   36.26,2,    2.62,2
 09FA9508_1,      IR6_4,      41,          1,         10,         19,2,19950922,       2310,   -14.8450,   107.3945,       5684,  1595.1,   3.4490,  34.6860,2,  34.6813,2,-999.0000,5,   113.7,2,  112.46,2,   35.86,2,    2.58,2
 09FA9508_1,      IR6_4,      41,          1,          9,         20,2,19950922,       2310,   -14.8450,   107.3945,       5684,  1793.1,   2.9560,  34.7080,2,  34.7057,2,-999.0000,5,   127.1,2,  115.93,2,   35.50,2,    2.54,2
 09FA9508_1,      IR6_4,      41,          1,          8,         18,2,19950922,       2310,   -14.8450,   107.3945,       5684,  1996.5,   2.5920,  34.7230,2,  34.7219,2,-999.0000,5,   136.7,2,  119.95,2,   35.27,2,    2.51,2
 09FA9508_1,      IR6_4,      41,          1,          7,         11,2,19950922,       2310,   -14.8450,   107.3945,       5684,  2499.4,   2.0220,  34.7310,2,  34.7266,2,-999.0000,5,   153.2,2,  126.15,2,   34.50,2,    2.44,2
 09FA9508_1,      IR6_4,      41,          1,          6,         30,2,19950922,       2310,   -14.8450,   107.3945,       5684,  2998.8,   1.5960,  34.7240,2,  34.7231,2,-999.0000,5,   167.1,2,  126.29,2,   33.80,2,    2.38,2
 09FA9508_1,      IR6_4,      41,          1,          5,         27,2,19950922,       2310,   -14.8450,   107.3945,       5684,  3499.0,   1.3430,  34.7190,2,  34.7188,2,-999.0000,5,   180.0,2,  130.33,2,   33.43,2,    2.34,2
 09FA9508_1,      IR6_4,      41,          1,          4,         24,2,19950922,       2310,   -14.8450,   107.3945,       5684,  4001.0,   1.2260,  34.7170,2,  34.7152,2,-999.0000,5,   186.7,2,  130.39,2,   33.34,2,    2.31,2
 09FA9508_1,      IR6_4,      41,          1,          3,          5,2,19950922,       2310,   -14.8450,   107.3945,       5684,  4499.7,   1.1820,  34.7140,2,  34.7137,2,-999.0000,5,   189.4,2,  128.83,2,   33.09,2,    2.30,2
 09FA9508_1,      IR6_4,      41,          1,          2,          3,2,19950922,       2310,   -14.8450,   107.3945,       5684,  5001.1,   1.1730,  34.7130,2,  34.7122,2,-999.0000,5,   193.2,2,  127.99,2,   32.85,2,    2.28,2
 09FA9508_1,      IR6_4,      41,          1,          1,         12,2,19950922,       2310,   -14.8450,   107.3945,       5684,  5814.6,   1.2320,  34.7130,2,  34.7098,2,-999.0000,5,   172.0,3,  120.31,3,   32.94,2,    2.30,3