BOTTLE,20211101CCHSIORKP
EXPOCODE,SECT_ID,STNNBR,CASTNO,SAMPNO,BTLNBR,BTLNBR_FLAG_W,DATE,TIME,LATITUDE,LONGITUDE,DEPTH,CTDPRS,CTDTMP,CTDSAL,CTDSAL_FLAG_W,SALNTY,SALNTY_FLAG_W,CTDOXY,CTDOXY_FLAG_W,OXYGEN,OXYGEN_FLAG_W,SILCAT,SILCAT_FLAG_W,NITRAT,NITRAT_FLAG_W,PHSPHT,PHSPHT_FLAG_W
,,,,,,,,,,,METERS,DBAR,ITS-90,PSS-78,,PSS-78,,UMOL/KG,,UMOL/KG,,UMOL/KG,,UMOL/KG,,UMOL/KG,
 09FA9508_1,      IR6_4,      26,          1,         24,         24,2,19950918,       1756,   -21.9588,   109.7277,       5043,     4.5,  22.0070,  35.2480,2,  35.2448,2,-999.0000,5,   221.7,2,    5.31,2,    0.87,2,    0.18,2
 09FA9508_1,      IR6_4,      26,          1,         23,          8,2,19950918,       1756,   -21.9588,   109.7277,       5043,    49.3,  21.9900,  35.2550,2,  35.2515,2,-999.0000,5,   218.8,2,    5.26,2,    0.24,2,    0.18,2
 09FA9508_1,      IR6_4,      26,          1,         22,         13,2,19950918,       1756,   -21.9588,   109.7277,       5043,    98.1,  21.5800,  35.4650,2,  35.4232,2,-999.0000,5,   193.6,2,    6.69,2,    3.38,2,    0.33,2
 09FA9508_1,      IR6_4,      26,          1,         21,          9,2,19950918,       1756,   -21.9588,   109.7277,       5043,   202.2,  19.4030,  35.9730,2,  35.9625,2,-999.0000,5,   219.0,2,    4.23,2,    1.81,2,    0.18,2
 09FA9508_1,      IR6_4,      26,          1,         20,         25,2,19950918,       1756,   -21.9588,   109.7277,       5043,   300.1,  14.9890,  35.5480,2,  35.5561,2,-999.0000,5,   208.7,2,    6.48,2,    5.78,2,    0.52,2
 09FA9508_1,      IR6_4,      26,          1,         19,          6,2,19950918,       1756,   -21.9588,   109.7277,       5043,   401.3,  11.5220,  35.0400,2,  35.0363,2,-999.0000,5,   220.6,2,    7.25,2,   11.59,2,    0.87,2
 09FA9508_1,      IR6_4,      26,          1,         18,         21,2,19950918,       1756,   -21.9588,   109.7277,       5043,   500.4,   9.6810,  34.7530,2,  34.7486,2,-999.0000,5,   232.7,2,    6.82,2,   15.80,2,    1.12,2
 09FA9508_1,      IR6_4,      26,          1,         17,          4,2,19950918,       1756,   -21.9588,   109.7277,       5043,   599.9,   8.5170,  34.6040,2,  34.6041,2,-999.0000,5,   215.0,2,   11.23,2,   20.83,2,    1.45,2
 09FA9508_1,      IR6_4,      26,          1,         16,         28,2,19950918,       1756,   -21.9588,   109.7277,       5043,   701.3,   6.5830,  34.5000,2,  34.4990,2,-999.0000,5,   174.9,2,   31.48,2,   28.70,2,    2.00,2
 09FA9508_1,      IR6_4,      26,          1,         15,         32,2,19950918,       1756,   -21.9588,   109.7277,       5043,   799.6,   5.8230,  34.5630,2,  34.5559,2,-999.0000,5,   127.2,2,   60.92,2,   33.83,2,    2.40,2
 09FA9508_1,      IR6_4,      26,          1,         13,         23,2,19950918,       1756,   -21.9588,   109.7277,       5043,   998.6,   5.0830,  34.6030,2,  34.6015,2,-999.0000,5,   108.4,2,   86.91,2,   36.30,2,    2.64,2
 09FA9508_1,      IR6_4,      26,          1,         11,         10,2,19950918,       1756,   -21.9588,   109.7277,       5043,  1396.4,   3.6180,  34.6430,2,  34.6402,2,-999.0000,5,   124.0,2,  102.67,2,   36.21,2,    2.62,2
 09FA9508_1,      IR6_4,      26,          1,         10,         19,2,19950918,       1756,   -21.9588,   109.7277,       5043,  1600.6,   3.0150,  34.6720,2,  34.6735,2,-999.0000,5,   137.3,2,  105.74,2,   35.54,2,    2.55,2
 09FA9508_1,      IR6_4,      26,          1,          9,         15,2,19950918,       1756,   -21.9588,   109.7277,       5043,  1798.6,   2.6950,  34.7030,2,  34.7112,2,-999.0000,5,   149.6,2,  108.78,2,   34.58,2,    2.51,2
 09FA9508_1,      IR6_4,      26,          1,          8,          5,2,19950918,       1756,   -21.9588,   109.7277,       5043,  1998.2,   2.2960,  34.7240,2,  34.7205,2,-999.0000,5,   144.8,2,  127.65,4,   36.67,4,    2.62,4
 09FA9508_1,      IR6_4,      26,          1,          7,         11,2,19950918,       1756,   -21.9588,   109.7277,       5043,  2501.3,   1.8820,  34.7300,2,  34.7295,2,-999.0000,5,   162.2,2,  128.05,4,   36.20,4,    2.55,4
 09FA9508_1,      IR6_4,      26,          1,          6,         26,2,19950918,       1756,   -21.9588,   109.7277,       5043,  2999.7,   1.5460,  34.7250,2,  34.7247,2,-999.0000,5,   181.1,2,  128.05,4,   35.62,4,    2.49,4
 09FA9508_1,      IR6_4,      26,          1,          4,         16,2,19950918,       1756,   -21.9588,   109.7277,       5043,  4002.0,   1.1610,  34.7170,2,  34.7218,2,-999.0000,5,   187.1,2,  123.01,4,   34.67,4,    2.39,4
 09FA9508_1,      IR6_4,      26,          1,          3,         27,2,19950918,       1756,   -21.9588,   109.7277,       5043,  4501.0,   1.1850,  34.7160,2,  34.7139,2,-999.0000,5,   182.0,2,  131.17,4,   35.34,4,    2.43,4
 09FA9508_1,      IR6_4,      26,          1,          2,          3,2,19950918,       1756,   -21.9588,   109.7277,       5043,  4982.7,   1.2270,  34.7160,2,  34.7087,2,-999.0000,5,   190.4,2,  135.40,4,   35.34,4,    2.44,4
 09FA9508_1,      IR6_4,      26,          1,          1,          1,2,19950918,       1756,   -21.9588,   109.7277,       5043,  5138.2,   1.2380,  34.7150,2,  34.7133,2,-999.0000,5,   193.1,2,  136.31,4,   35.34,4,    2.44,4
 09FA9508_1,      IR6_4,      27,          1,         24,         24,2,19950919,       0032,   -21.5205,   109.5938,       4961,     2.4,  23.1390,  34.9040,2,  34.9045,2,-999.0000,5,   216.0,2,    6.42,2,    0.23,2,    0.03,2
 09FA9508_1,      IR6_4,      27,          1,         23,          8,2,19950919,       0032,   -21.5205,   109.5938,       4961,    49.4,  21.9480,  35.2720,2,  35.2672,2,-999.0000,5,   218.1,2,    6.82,2,    0.23,2,    0.18,2
 09FA9508_1,      IR6_4,      27,          1,         22,         13,2,19950919,       0032,   -21.5205,   109.5938,       4961,    98.6,  21.4970,  35.4930,2,  35.4717,2,-999.0000,5,   196.7,2, -999.00,9, -999.00,9, -999.00,9
 09FA9508_1,      IR6_4,      27,          1,         21,          9,2,19950919,       0032,   -21.5205,   109.5938,       4961,   198.1,  18.7400,  35.7930,2,  35.7754,2,-999.0000,5,   190.3,2,    9.09,2,    3.73,2,    0.39,2
 09FA9508_1,      IR6_4,      27,          1,         20,         25,2,19950919,       0032,   -21.5205,   109.5938,       4961,   295.4,  14.8720,  35.5190,2,  35.5187,2,-999.0000,5,   203.3,2,    9.28,2,    6.44,2,    0.57,2
 09FA9508_1,      IR6_4,      27,          1,         19,          6,2,19950919,       0032,   -21.5205,   109.5938,       4961,   349.4,  12.9700,  35.2430,2,  35.2387,2,-999.0000,5,   205.8,2,   12.64,2,    9.80,2,    0.79,2
 09FA9508_1,      IR6_4,      27,          1,         18,         21,2,19950919,       0032,   -21.5205,   109.5938,       4961,   396.6,  11.6260,  35.0530,2,  35.0507,2,-999.0000,5,   222.0,2,    9.98,2,   11.20,2,    0.85,2
 09FA9508_1,      IR6_4,      27,          1,         17,          4,2,19950919,       0032,   -21.5205,   109.5938,       4961,   496.6,   9.5940,  34.7390,2,  34.7399,2,-999.0000,5,   228.7,2,   10.67,2,   16.71,2,    1.14,2
 09FA9508_1,      IR6_4,      27,          1,         16,         28,2,19950919,       0032,   -21.5205,   109.5938,       4961,   596.3,   8.0320,  34.5970,2,  34.5974,2,-999.0000,5,   184.5,2,   28.45,2,   25.48,2,    1.68,2
 09FA9508_1,      IR6_4,      27,          1,         15,         32,2,19950919,       0032,   -21.5205,   109.5938,       4961,   694.8,   6.7830,  34.5470,2,  34.5445,2,-999.0000,5,   155.5,2,   43.95,2,   30.90,2,    2.06,2
 09FA9508_1,      IR6_4,      27,          1,         14,         31,2,19950919,       0032,   -21.5205,   109.5938,       4961,   794.4,   6.0110,  34.5810,2,  34.5861,2,-999.0000,5,   120.1,2,   63.41,2,   34.44,2,    2.35,2
 09FA9508_1,      IR6_4,      27,          1,         13,         23,2,19950919,       0032,   -21.5205,   109.5938,       4961,   895.4,   5.6270,  34.6130,2,  34.6093,2,-999.0000,5,   102.3,2,   77.04,2,   36.40,2,    2.53,2
 09FA9508_1,      IR6_4,      27,          1,         11,         10,2,19950919,       0032,   -21.5205,   109.5938,       4961,  1195.5,   4.4050,  34.6250,2,  34.6258,2,-999.0000,5,   108.5,2,   93.59,2,   35.53,2,    2.58,2
 09FA9508_1,      IR6_4,      27,          1,         10,         19,2,19950919,       0032,   -21.5205,   109.5938,       4961,  1396.3,   3.7480,  34.6370,2,  34.6376,2,-999.0000,5,   120.2,2,   97.61,2,   35.08,2,    2.56,2
 09FA9508_1,      IR6_4,      27,          1,          9,         15,2,19950919,       0032,   -21.5205,   109.5938,       4961,  1593.1,   3.1280,  34.6740,2,  34.6741,2,-999.0000,5,   133.9,2,  102.66,2,   34.38,2,    2.51,2
 09FA9508_1,      IR6_4,      27,          1,          8,          5,2,19950919,       0032,   -21.5205,   109.5938,       4961,  1794.3,   2.6610,  34.7050,2,  34.6992,2,-999.0000,5,   141.6,2,  113.66,2,   34.37,2,    2.49,2
 09FA9508_1,      IR6_4,      27,          1,          7,         11,2,19950919,       0032,   -21.5205,   109.5938,       4961,  1993.8,   2.3640,  34.7210,2,  34.7161,2,-999.0000,5,   146.0,2,  120.95,2,   34.46,2,    2.49,2
 09FA9508_1,      IR6_4,      27,          1,          6,         26,2,19950919,       0032,   -21.5205,   109.5938,       4961,  2494.7,   1.9230,  34.7290,2,  34.7267,2,-999.0000,5,   160.3,2,  126.37,2,   33.85,2,    2.47,2
 09FA9508_1,      IR6_4,      27,          1,          5,         30,2,19950919,       0032,   -21.5205,   109.5938,       4961,  2998.2,   1.5960,  34.7270,2,  34.7212,2,-999.0000,5,   172.1,2,  127.34,2,   33.31,2,    2.38,2
 09FA9508_1,      IR6_4,      27,          1,          3,         27,2,19950919,       0032,   -21.5205,   109.5938,       4961,  3997.9,   1.1970,  34.7170,2,  34.7212,3,-999.0000,5,   176.0,3,  124.07,3,   32.93,2,    2.35,2
 09FA9508_1,      IR6_4,      27,          1,          2,          3,2,19950919,       0032,   -21.5205,   109.5938,       4961,  4495.5,   1.1780,  34.7160,2,  34.7114,2,-999.0000,5,   189.9,2,  133.84,2,   33.07,2,    2.33,2
 09FA9508_1,      IR6_4,      27,          1,          1,          1,2,19950919,       0032,   -21.5205,   109.5938,       4961,  5071.4,   1.2030,  34.7150,2,  34.7130,2,-999.0000,5,   188.6,2,  130.00,2,   33.00,2,    2.30,2
 09FA9508_1,      IR6_4,      28,          1,         24,         24,2,19950919,       0751,   -21.0325,   109.4458,       5023,     2.1,  22.3520,  35.1520,2,  35.1503,2,-999.0000,5,   218.0,2,    5.19,2,    0.85,2,    0.11,2
 09FA9508_1,      IR6_4,      28,          1,         23,          8,2,19950919,       0751,   -21.0325,   109.4458,       5023,    49.8,  21.8770,  35.2810,2,  35.2759,2,-999.0000,5,   215.9,2,    5.32,2,    0.58,2,    0.11,2
 09FA9508_1,      IR6_4,      28,          1,         22,         13,2,19950919,       0751,   -21.0325,   109.4458,       5023,    97.7,  21.5430,  35.4800,2,  35.4701,2,-999.0000,5,   196.4,2,    6.14,2,    2.77,2,    0.18,2
 09FA9508_1,      IR6_4,      28,          1,         21,          9,2,19950919,       0751,   -21.0325,   109.4458,       5023,   147.9,  20.7490,  35.7400,2,  35.7363,2,-999.0000,5,   205.1,2,    5.07,2,    2.00,2,    0.14,2
 09FA9508_1,      IR6_4,      28,          1,         20,         25,2,19950919,       0751,   -21.0325,   109.4458,       5023,   248.4,  17.1330,  35.8020,2,  35.7935,2,-999.0000,5,   206.4,2,    4.83,2,    3.09,2,    0.26,2
 09FA9508_1,      IR6_4,      28,          1,         19,          6,2,19950919,       0751,   -21.0325,   109.4458,       5023,   347.8,  13.0630,  35.2810,2,  35.2790,2,-999.0000,5,   216.4,2,    6.38,2,    8.24,2,    0.59,2
 09FA9508_1,      IR6_4,      28,          1,         18,         21,2,19950919,       0751,   -21.0325,   109.4458,       5023,   446.8,  10.3780,  34.8640,2,  34.8592,2,-999.0000,5,   232.7,2,    6.17,2,   13.21,2,    0.91,2
 09FA9508_1,      IR6_4,      28,          1,         17,          4,2,19950919,       0751,   -21.0325,   109.4458,       5023,   548.1,   8.9350,  34.6550,2,  34.6534,2,-999.0000,5,   221.2,2,    9.76,2,   18.83,2,    1.29,2
 09FA9508_1,      IR6_4,      28,          1,         16,         28,2,19950919,       0751,   -21.0325,   109.4458,       5023,   648.1,   7.3160,  34.5630,2,  34.5596,2,-999.0000,5,   168.3,2,   31.83,2,   27.43,2,    1.88,2
 09FA9508_1,      IR6_4,      28,          1,         15,         26,2,19950919,       0751,   -21.0325,   109.4458,       5023,   746.1,   6.2870,  34.5700,2,-999.0000,9,-999.0000,5,   136.0,2,   53.84,2,   31.90,2,    2.24,2
 09FA9508_1,      IR6_4,      28,          1,         14,         23,2,19950919,       0751,   -21.0325,   109.4458,       5023,   846.7,   5.7910,  34.6150,2,  34.6106,2,-999.0000,5,   105.6,2,   75.35,2,   35.01,2,    2.50,2
 09FA9508_1,      IR6_4,      28,          1,         13,         32,2,19950919,       0751,   -21.0325,   109.4458,       5023,   997.5,   5.2510,  34.6310,2,  34.6279,2,-999.0000,5,    99.7,2,   86.65,2,   35.96,2,    2.59,2
 09FA9508_1,      IR6_4,      28,          1,         11,         10,2,19950919,       0751,   -21.0325,   109.4458,       5023,  1395.1,   3.8670,  34.6410,2,  34.6392,2,-999.0000,5,   120.1,2,   99.91,2,   36.00,2,    2.58,2
 09FA9508_1,      IR6_4,      28,          1,         10,         19,2,19950919,       0751,   -21.0325,   109.4458,       5023,  1596.2,   3.2540,  34.6720,2,  34.6694,2,-999.0000,5,   131.6,2,  106.01,2,   35.30,2,    2.54,2
 09FA9508_1,      IR6_4,      28,          1,          8,          5,2,19950919,       0751,   -21.0325,   109.4458,       5023,  1995.8,   2.3940,  34.7200,2,  34.7166,2,-999.0000,5,   149.0,2,  119.33,2,   34.44,2,    2.46,2
 09FA9508_1,      IR6_4,      28,          1,          7,         11,2,19950919,       0751,   -21.0325,   109.4458,       5023,  2497.4,   1.9090,  34.7280,2,  34.7244,2,-999.0000,5,   162.9,2,  124.80,2,   33.92,2,    2.41,2
 09FA9508_1,      IR6_4,      28,          1,          5,         30,2,19950919,       0751,   -21.0325,   109.4458,       5023,  3500.0,   1.2950,  34.7220,2,  34.7197,2,-999.0000,5,   183.1,2,  129.13,2,   32.54,2,    2.29,2
 09FA9508_1,      IR6_4,      28,          1,          4,          1,2,19950919,       0751,   -21.0325,   109.4458,       5023,  4001.4,   1.1790,  34.7170,2,  34.7138,2,-999.0000,5,   173.9,3,  117.03,3,   32.74,3,    2.34,3
 09FA9508_1,      IR6_4,      28,          1,          1,         12,2,19950919,       0751,   -21.0325,   109.4458,       5023,  5107.0,   1.2150,  34.7150,2,  34.7134,2,-999.0000,5,   192.2,2,  130.66,2,   32.18,2,    2.24,2
 09FA9508_1,      IR6_4,      29,          1,         24,         24,2,19950919,       1430,   -20.5630,   109.2810,       5024,     2.1,  23.4010,  34.9340,2,  34.9359,2,-999.0000,5,   223.2,2,    5.26,2,    0.24,2,    0.12,2
 09FA9508_1,      IR6_4,      29,          1,         23,          8,2,19950919,       1430,   -20.5630,   109.2810,       5024,    47.5,  23.4230,  34.9360,2,  34.9296,2,-999.0000,5,   225.0,2,    5.27,2,    0.75,2,    0.10,2
 09FA9508_1,      IR6_4,      29,          1,         22,         13,2,19950919,       1430,   -20.5630,   109.2810,       5024,    88.0,  22.9840,  35.1710,2,  35.1688,2,-999.0000,5,   190.6,2,    7.84,2,    3.94,2,    0.28,2
 09FA9508_1,      IR6_4,      29,          1,         21,          9,2,19950919,       1430,   -20.5630,   109.2810,       5024,   128.1,  22.2100,  35.3060,2,  35.3145,2,-999.0000,5,   196.6,2,    6.77,2,    3.35,2,    0.26,2
 09FA9508_1,      IR6_4,      29,          1,         20,         25,2,19950919,       1430,   -20.5630,   109.2810,       5024,   217.0,  19.4400,  35.8220,2,  35.8160,2,-999.0000,5,   200.8,2,    5.82,2,    3.05,2,    0.24,2
 09FA9508_1,      IR6_4,      29,          1,         19,          6,2,19950919,       1430,   -20.5630,   109.2810,       5024,   318.3,  14.9330,  35.5660,2,  35.5710,2,-999.0000,5,   225.7,2,    4.61,2,    4.37,2,    0.34,2
 09FA9508_1,      IR6_4,      29,          1,         18,         21,2,19950919,       1430,   -20.5630,   109.2810,       5024,   418.7,  11.2530,  35.0000,2,  34.9976,2,-999.0000,5,   229.9,2,    7.33,2,   11.85,2,    0.81,2
 09FA9508_1,      IR6_4,      29,          1,         17,          4,2,19950919,       1430,   -20.5630,   109.2810,       5024,   519.0,   9.3700,  34.7160,2,  34.7162,2,-999.0000,5,   230.4,2,    8.99,2,   17.34,2,    1.18,2
 09FA9508_1,      IR6_4,      29,          1,         16,         35,2,19950919,       1430,   -20.5630,   109.2810,       5024,   637.8,   7.2920,  34.5780,2,  34.5756,2,-999.0000,5,   163.7,2,   37.11,2,   28.18,2,    1.96,2
 09FA9508_1,      IR6_4,      29,          1,         15,         28,2,19950919,       1430,   -20.5630,   109.2810,       5024,   755.2,   6.1940,  34.6020,2,  34.6004,2,-999.0000,5,   115.7,2,   67.16,2,   33.83,2,    2.40,2
 09FA9508_1,      IR6_4,      29,          1,         14,         32,2,19950919,       1430,   -20.5630,   109.2810,       5024,   872.7,   5.7060,  34.6390,2,  34.6381,2,-999.0000,5,    98.7,2,   83.73,2,   35.81,2,    2.59,2
 09FA9508_1,      IR6_4,      29,          1,         13,         29,2,19950919,       1430,   -20.5630,   109.2810,       5024,   993.5,   5.2240,  34.6420,2,  34.6381,2,-999.0000,5,    99.4,2,   92.68,2,   36.41,2,    2.62,2
 09FA9508_1,      IR6_4,      29,          1,         11,         10,2,19950919,       1430,   -20.5630,   109.2810,       5024,  1395.8,   3.8160,  34.6550,2,  34.6534,2,-999.0000,5,   122.0,2,  104.23,2,   36.08,2,    2.60,2
 09FA9508_1,      IR6_4,      29,          1,         10,         19,2,19950919,       1430,   -20.5630,   109.2810,       5024,  1592.9,   3.2900,  34.6730,2,  34.6738,2,-999.0000,5,   135.1,2,  102.31,2,   35.33,2,    2.54,2
 09FA9508_1,      IR6_4,      29,          1,          9,         17,2,19950919,       1430,   -20.5630,   109.2810,       5024,  1793.1,   2.7840,  34.6990,2,  34.7068,2,-999.0000,5,   147.7,2,  108.27,2,   34.23,3,    2.46,3
 09FA9508_1,      IR6_4,      29,          1,          8,         18,2,19950919,       1430,   -20.5630,   109.2810,       5024,  1994.6,   2.4490,  34.7160,2,  34.7080,2,-999.0000,5,   155.4,2,  118.09,2,   34.57,2,    2.45,2
 09FA9508_1,      IR6_4,      29,          1,          7,         11,2,19950919,       1430,   -20.5630,   109.2810,       5024,  2498.5,   1.9490,  34.7300,2,  34.7268,2,-999.0000,5,   166.6,2,  128.04,2,   34.35,2,    2.43,2
 09FA9508_1,      IR6_4,      29,          1,          6,         30,2,19950919,       1430,   -20.5630,   109.2810,       5024,  2998.2,   1.6340,  34.7260,2,  34.7205,2,-999.0000,5,   177.8,2,  124.77,3,   33.64,2,    2.39,2
 09FA9508_1,      IR6_4,      29,          1,          5,         27,2,19950919,       1430,   -20.5630,   109.2810,       5024,  3497.4,   1.3390,  34.7220,2,  34.7209,2,-999.0000,5,   192.1,2,  132.23,2,   33.30,2,    2.32,2
 09FA9508_1,      IR6_4,      29,          1,          3,          5,2,19950919,       1430,   -20.5630,   109.2810,       5024,  4499.3,   1.1830,  34.7170,2,  34.7127,2,-999.0000,5,   198.7,2,  135.35,2,   32.69,2,    2.25,2
 09FA9508_1,      IR6_4,      29,          1,          2,          3,2,19950919,       1430,   -20.5630,   109.2810,       5024,  5002.5,   1.1940,  34.7150,2,  34.7123,2,-999.0000,5,   200.3,2,  131.95,2,   32.59,2,    2.28,2
 09FA9508_1,      IR6_4,      29,          1,          1,         12,2,19950919,       1430,   -20.5630,   109.2810,       5024,  5121.1,   1.2030,  34.7140,2,  34.7103,2,-999.0000,5,   194.1,2,  131.91,2,   33.21,2,    2.31,2