BOTTLE,20211029CCHSIORKP
EXPOCODE,SECT_ID,STNNBR,CASTNO,SAMPNO,BTLNBR,BTLNBR_FLAG_W,DATE,TIME,LATITUDE,LONGITUDE,DEPTH,CTDPRS,CTDTMP,CTDSAL,CTDSAL_FLAG_W,SALNTY,SALNTY_FLAG_W,OXYGEN,OXYGEN_FLAG_W,CFC-11,CFC-11_FLAG_W,CFC-12,CFC-12_FLAG_W
,,,,,,,,,,,METERS,DBAR,ITS-90,PSS-78,,PSS-78,,UMOL/KG,,PMOL/KG,,PMOL/KG,
   06MT22_2,       AR4E,     497,          1,         20,         21,2,19921104,       1027,    -0.0278,   -34.9913,       4537,     9.5,  26.1072,  36.3613,2,  36.3600,2,  -999.0,9,-999.000,9,-999.000,9
   06MT22_2,       AR4E,     497,          1,         19,         20,2,19921104,       1027,    -0.0278,   -34.9913,       4537,   800.9,   4.8233,  34.5158,2,-999.0000,9,   156.1,2,   0.064,2,   0.031,2
   06MT22_2,       AR4E,     497,          1,         18,         19,2,19921104,       1027,    -0.0278,   -34.9913,       4537,   999.1,   4.4912,  34.6171,2,-999.0000,9,   162.4,2,   0.024,2,   0.008,2
   06MT22_2,       AR4E,     497,          1,         17,         18,2,19921104,       1027,    -0.0278,   -34.9913,       4537,  1199.1,   4.5510,  34.8904,2,-999.0000,9,   201.6,2,   0.052,2,   0.023,2
   06MT22_2,       AR4E,     497,          1,         16,         17,2,19921104,       1027,    -0.0278,   -34.9913,       4537,  1399.0,   4.4382,  34.9315,2,-999.0000,9,   216.7,2,   0.037,2,   0.022,2
   06MT22_2,       AR4E,     497,          1,         15,         16,2,19921104,       1027,    -0.0278,   -34.9913,       4537,  1599.8,   4.1713,  34.9813,2,-999.0000,9,  -999.0,9,   0.060,2,   0.049,2
   06MT22_2,       AR4E,     497,          1,         14,         15,2,19921104,       1027,    -0.0278,   -34.9913,       4537,  1700.0,   4.1030,  34.9938,2,-999.0000,9,  -999.0,9,-999.000,9,-999.000,9
   06MT22_2,       AR4E,     497,          1,         13,         14,2,19921104,       1027,    -0.0278,   -34.9913,       4537,  1799.1,   3.9004,  34.9888,2,-999.0000,9,  -999.0,9,   0.072,2,   0.044,2
   06MT22_2,       AR4E,     497,          1,         12,         13,2,19921104,       1027,    -0.0278,   -34.9913,       4537,  2001.8,   3.6143,  34.9793,2,-999.0000,9,  -999.0,9,-999.000,9,-999.000,9
   06MT22_2,       AR4E,     497,          1,         11,         12,2,19921104,       1027,    -0.0278,   -34.9913,       4537,  2301.0,   3.2253,  34.9651,2,-999.0000,9,   265.5,2,   0.043,2,   0.033,2
   06MT22_2,       AR4E,     497,          1,         10,         11,2,19921104,       1027,    -0.0278,   -34.9913,       4537,  2502.3,   3.0350,  34.9472,2,-999.0000,9,  -999.0,9,   0.019,2,   0.011,2
   06MT22_2,       AR4E,     497,          1,          9,         10,2,19921104,       1027,    -0.0278,   -34.9913,       4537,  3004.1,   2.7815,  34.9339,2,-999.0000,9,  -999.0,9,   0.026,2,   0.014,2
   06MT22_2,       AR4E,     497,          1,          8,          9,2,19921104,       1027,    -0.0278,   -34.9913,       4537,  3304.7,   2.6197,  34.9211,2,  34.9190,2,  -999.0,9,   0.030,2,   0.021,2
   06MT22_2,       AR4E,     497,          1,          7,          8,2,19921104,       1027,    -0.0278,   -34.9913,       4537,  3607.3,   2.4358,  34.9116,2,-999.0000,9,   268.5,2,   0.062,2,   0.038,2
   06MT22_2,       AR4E,     497,          1,          6,          7,2,19921104,       1027,    -0.0278,   -34.9913,       4537,  3807.3,   2.3650,  34.9036,2,-999.0000,9,   268.6,2,   0.051,2,   0.038,2
   06MT22_2,       AR4E,     497,          1,          5,          6,2,19921104,       1027,    -0.0278,   -34.9913,       4537,  3907.6,   2.3293,  34.9003,2,  34.8990,2,   269.1,2,   0.052,2,-999.000,9
   06MT22_2,       AR4E,     497,          1,          4,          5,2,19921104,       1027,    -0.0278,   -34.9913,       4537,  4008.3,   2.1664,  34.8833,2,-999.0000,9,   265.3,2,   0.052,2,   0.043,2
   06MT22_2,       AR4E,     497,          1,          3,          4,2,19921104,       1027,    -0.0278,   -34.9913,       4537,  4160.1,   1.6620,  34.8249,2,  34.8240,2,   251.1,2,   0.028,2,   0.026,2
   06MT22_2,       AR4E,     497,          1,          2,          3,2,19921104,       1027,    -0.0278,   -34.9913,       4537,  4309.7,   1.0859,  34.7588,2,-999.0000,9,  -999.0,9,   0.021,2,   0.011,2
   06MT22_2,       AR4E,     497,          1,          1,          2,2,19921104,       1027,    -0.0278,   -34.9913,       4537,  4551.8,   0.9567,  34.7418,2,  34.7430,2,  -999.0,9,   0.023,2,   0.012,2
   06MT22_2,       AR4E,     498,          1,         20,         21,2,19921104,       1913,    -0.7798,   -34.9910,       4456,    10.7,  26.2459,  36.3772,2,-999.0000,9,  -999.0,9,-999.000,9,-999.000,9
   06MT22_2,       AR4E,     498,          1,         19,         20,2,19921104,       1913,    -0.7798,   -34.9910,       4456,   800.4,   4.7416,  34.5251,2,-999.0000,9,   157.5,2,   0.056,2,-999.000,9
   06MT22_2,       AR4E,     498,          1,         18,         19,2,19921104,       1913,    -0.7798,   -34.9910,       4456,   999.3,   4.5163,  34.6215,2,-999.0000,9,   162.4,2,   0.011,2,   0.010,2
   06MT22_2,       AR4E,     498,          1,         17,         18,2,19921104,       1913,    -0.7798,   -34.9910,       4456,  1198.9,   4.4472,  34.8226,2,-999.0000,9,   192.2,2,   0.023,2,   0.009,2
   06MT22_2,       AR4E,     498,          1,         16,         17,2,19921104,       1913,    -0.7798,   -34.9910,       4456,  1399.8,   4.3823,  34.9416,2,-999.0000,9,   220.8,2,   0.046,2,   0.028,2
   06MT22_2,       AR4E,     498,          1,         15,         16,2,19921104,       1913,    -0.7798,   -34.9910,       4456,  1599.8,   4.2201,  34.9755,2,  34.9720,2,   240.0,2,   0.057,2,   0.038,2
   06MT22_2,       AR4E,     498,          1,         14,         15,2,19921104,       1913,    -0.7798,   -34.9910,       4456,  1700.3,   4.1991,  34.9896,2,-999.0000,9,  -999.0,9,   0.103,2,   0.054,2
   06MT22_2,       AR4E,     498,          1,         13,         14,2,19921104,       1913,    -0.7798,   -34.9910,       4456,  1800.9,   3.9900,  34.9901,2,-999.0000,9,   252.4,2,   0.085,2,   0.061,2
   06MT22_2,       AR4E,     498,          1,         12,         13,2,19921104,       1913,    -0.7798,   -34.9910,       4456,  2001.7,   3.7023,  34.9813,2,-999.0000,9,  -999.0,9,-999.000,9,-999.000,9
   06MT22_2,       AR4E,     498,          1,         11,         12,2,19921104,       1913,    -0.7798,   -34.9910,       4456,  2301.8,   3.1866,  34.9579,2,-999.0000,9,  -999.0,9,   0.022,2,-999.000,9
   06MT22_2,       AR4E,     498,          1,         10,         11,2,19921104,       1913,    -0.7798,   -34.9910,       4456,  2502.1,   3.0297,  34.9484,2,-999.0000,9,   260.5,2,   0.022,2,-999.000,9
   06MT22_2,       AR4E,     498,          1,          9,         10,2,19921104,       1913,    -0.7798,   -34.9910,       4456,  3005.6,   2.8045,  34.9348,2,  34.9330,2,   263.8,2,   0.033,2,   0.016,2
   06MT22_2,       AR4E,     498,          1,          8,          9,2,19921104,       1913,    -0.7798,   -34.9910,       4456,  3304.7,   2.5839,  34.9180,2,-999.0000,9,   265.5,2,   0.024,2,   0.016,2
   06MT22_2,       AR4E,     498,          1,          7,          8,2,19921104,       1913,    -0.7798,   -34.9910,       4456,  3606.7,   2.4757,  34.9140,2,  34.9130,2,   269.4,2,   0.070,2,   0.036,2
   06MT22_2,       AR4E,     498,          1,          6,          7,2,19921104,       1913,    -0.7798,   -34.9910,       4456,  3807.2,   2.3721,  34.9054,2,-999.0000,9,   265.5,2,   0.073,2,   0.044,2
   06MT22_2,       AR4E,     498,          1,          5,          6,2,19921104,       1913,    -0.7798,   -34.9910,       4456,  3908.5,   2.3052,  34.8987,2,-999.0000,9,  -999.0,9,-999.000,9,-999.000,9
   06MT22_2,       AR4E,     498,          1,          4,          5,2,19921104,       1913,    -0.7798,   -34.9910,       4456,  4008.3,   2.2051,  34.8877,2,-999.0000,9,  -999.0,9,   0.063,2,   0.033,2
   06MT22_2,       AR4E,     498,          1,          3,          4,2,19921104,       1913,    -0.7798,   -34.9910,       4456,  4209.7,   1.4306,  34.7946,2,  34.7940,2,   243.8,2,   0.007,2,   0.004,2
   06MT22_2,       AR4E,     498,          1,          2,          3,2,19921104,       1913,    -0.7798,   -34.9910,       4456,  4309.6,   1.1359,  34.7628,2,-999.0000,9,  -999.0,9,   0.015,9,   0.006,9
   06MT22_2,       AR4E,     498,          1,          1,          2,2,19921104,       1913,    -0.7798,   -34.9910,       4456,  4466.6,   0.9632,  34.7419,2,  34.7430,2,  -999.0,9,   0.018,2,   0.010,2
   06MT22_2,       AR4E,     499,          1,         12,         21,2,19921105,       0051,    -1.0613,   -34.9897,       4390,    10.6,  26.1925,  36.3748,2,  36.3710,2,   210.6,2,-999.000,9,-999.000,9
   06MT22_2,       AR4E,     499,          1,         11,         16,2,19921105,       0051,    -1.0613,   -34.9897,       4390,  2100.8,   3.5009,  34.9773,2,  34.9740,2,  -999.0,9,-999.000,9,-999.000,9
   06MT22_2,       AR4E,     499,          1,         10,         11,2,19921105,       0051,    -1.0613,   -34.9897,       4390,  3004.3,   2.7492,  34.9341,2,-999.0000,9,  -999.0,9,   0.047,2,   0.026,2
   06MT22_2,       AR4E,     499,          1,          9,         10,2,19921105,       0051,    -1.0613,   -34.9897,       4390,  3406.1,   2.5402,  34.9158,2,  34.9140,2,  -999.0,9,   0.033,2,   0.017,2
   06MT22_2,       AR4E,     499,          1,          8,          9,2,19921105,       0051,    -1.0613,   -34.9897,       4390,  3606.6,   2.4696,  34.9137,2,-999.0000,9,  -999.0,9,   0.067,2,   0.040,2
   06MT22_2,       AR4E,     499,          1,          7,          8,2,19921105,       0051,    -1.0613,   -34.9897,       4390,  3707.5,   2.4246,  34.9102,2,  34.9070,2,   266.2,2,   0.069,2,   0.036,2
   06MT22_2,       AR4E,     499,          1,          6,          7,2,19921105,       0051,    -1.0613,   -34.9897,       4390,  3807.0,   2.3508,  34.9044,2,-999.0000,9,  -999.0,9,   0.081,2,   0.044,2
   06MT22_2,       AR4E,     499,          1,          5,          6,2,19921105,       0051,    -1.0613,   -34.9897,       4390,  3907.9,   2.2951,  34.8988,2,-999.0000,9,   269.3,2,   0.060,2,   0.044,2
   06MT22_2,       AR4E,     499,          1,          4,          5,2,19921105,       0051,    -1.0613,   -34.9897,       4390,  4007.8,   2.2164,  34.8891,2,-999.0000,9,  -999.0,9,   0.065,2,   0.036,2
   06MT22_2,       AR4E,     499,          1,          3,          4,2,19921105,       0051,    -1.0613,   -34.9897,       4390,  4159.3,   1.6085,  34.8161,2,  34.8140,2,  -999.0,9,   0.017,2,   0.013,2
   06MT22_2,       AR4E,     499,          1,          2,          3,2,19921105,       0051,    -1.0613,   -34.9897,       4390,  4309.9,   1.1417,  34.7636,2,-999.0000,9,  -999.0,9,   0.014,9,   0.017,9
   06MT22_2,       AR4E,     499,          1,          1,          2,2,19921105,       0051,    -1.0613,   -34.9897,       4390,  4410.1,   1.0011,  34.7475,2,  34.7480,2,  -999.0,9,   0.017,2,   0.023,2
   06MT22_2,       AR4E,     501,          1,         20,         21,2,19921105,       0941,    -1.4708,   -34.9942,       4291,    10.3,  26.1968,  36.3607,2,  36.3590,2,   205.1,2,-999.000,9,-999.000,9
   06MT22_2,       AR4E,     501,          1,         19,         20,2,19921105,       0941,    -1.4708,   -34.9942,       4291,   799.5,   4.6861,  34.5328,2,-999.0000,9,   157.3,2,   0.047,2,   0.027,2
   06MT22_2,       AR4E,     501,          1,         18,         19,2,19921105,       0941,    -1.4708,   -34.9942,       4291,   999.4,   4.4116,  34.5891,2,-999.0000,9,   161.3,2,   0.019,2,   0.013,2
   06MT22_2,       AR4E,     501,          1,         17,         18,2,19921105,       0941,    -1.4708,   -34.9942,       4291,  1198.6,   4.4779,  34.8106,2,-999.0000,9,  -999.0,9,-999.000,9,-999.000,9
   06MT22_2,       AR4E,     501,          1,         16,         17,2,19921105,       0941,    -1.4708,   -34.9942,       4291,  1398.9,   4.4291,  34.9568,2,-999.0000,9,   224.4,2,   0.066,2,   0.040,2
   06MT22_2,       AR4E,     501,          1,         15,         16,2,19921105,       0941,    -1.4708,   -34.9942,       4291,  1599.7,   4.2780,  34.9843,2,-999.0000,9,   238.8,2,   0.099,2,   0.061,2
   06MT22_2,       AR4E,     501,          1,         14,         15,2,19921105,       0941,    -1.4708,   -34.9942,       4291,  1700.2,   4.0607,  34.9933,2,-999.0000,9,   249.6,2,   0.112,2,   0.067,2
   06MT22_2,       AR4E,     501,          1,         13,         14,2,19921105,       0941,    -1.4708,   -34.9942,       4291,  1800.7,   3.9851,  34.9910,2,-999.0000,9,   250.1,2,   0.086,2,   0.051,2
   06MT22_2,       AR4E,     501,          1,         12,         13,2,19921105,       0941,    -1.4708,   -34.9942,       4291,  2001.2,   3.7401,  34.9843,2,-999.0000,9,   255.5,2,   0.058,2,   0.037,2
   06MT22_2,       AR4E,     501,          1,         11,         12,2,19921105,       0941,    -1.4708,   -34.9942,       4291,  2302.4,   3.1982,  34.9632,2,-999.0000,9,   262.0,2,   0.043,2,   0.030,2
   06MT22_2,       AR4E,     501,          1,         10,         11,2,19921105,       0941,    -1.4708,   -34.9942,       4291,  2502.0,   3.0740,  34.9559,2,-999.0000,9,   262.0,2,   0.040,2,   0.044,2
   06MT22_2,       AR4E,     501,          1,          9,         10,2,19921105,       0941,    -1.4708,   -34.9942,       4291,  3004.1,   2.7084,  34.9290,2,  34.9260,2,   260.8,2,   0.032,2,   0.015,2
   06MT22_2,       AR4E,     501,          1,          8,          9,2,19921105,       0941,    -1.4708,   -34.9942,       4291,  3305.8,   2.6051,  34.9232,2,-999.0000,9,   262.9,2,   0.051,2,   0.026,2
   06MT22_2,       AR4E,     501,          1,          7,          8,2,19921105,       0941,    -1.4708,   -34.9942,       4291,  3606.8,   2.5490,  34.9188,2,  34.9160,2,   266.8,2,-999.000,9,-999.000,9
   06MT22_2,       AR4E,     501,          1,          6,          7,2,19921105,       0941,    -1.4708,   -34.9942,       4291,  3707.4,   2.4203,  34.9089,2,-999.0000,9,   264.2,2,   0.079,2,   0.042,2
   06MT22_2,       AR4E,     501,          1,          5,          6,2,19921105,       0941,    -1.4708,   -34.9942,       4291,  3806.9,   2.3103,  34.9015,2,-999.0000,9,  -999.0,9,-999.000,9,-999.000,9
   06MT22_2,       AR4E,     501,          1,          4,          5,2,19921105,       0941,    -1.4708,   -34.9942,       4291,  4008.5,   2.0380,  34.8687,2,-999.0000,9,   259.6,2,   0.051,2,   0.035,2
   06MT22_2,       AR4E,     501,          1,          3,          4,2,19921105,       0941,    -1.4708,   -34.9942,       4291,  4109.2,   1.7418,  34.8328,2,  34.8290,2,   248.8,2,   0.024,2,   0.015,2
   06MT22_2,       AR4E,     501,          1,          2,          3,2,19921105,       0941,    -1.4708,   -34.9942,       4291,  4209.5,   1.2862,  34.7795,2,-999.0000,9,   238.0,2,   0.015,2,-999.000,9
   06MT22_2,       AR4E,     501,          1,          1,          2,2,19921105,       0941,    -1.4708,   -34.9942,       4291,  4301.5,   1.1831,  34.7670,2,  34.7700,2,   235.5,2,   0.012,2,   0.008,2
   06MT22_2,       AR4E,     502,          1,          5,         21,2,19921105,       1528,    -1.7403,   -34.9900,       4105,    10.3,  26.4068,  36.3686,2,  36.3670,2,  -999.0,9,-999.000,9,-999.000,9
   06MT22_2,       AR4E,     502,          1,          4,         16,2,19921105,       1528,    -1.7403,   -34.9900,       4105,  1800.0,   3.9513,  34.9934,2,  34.9900,2,  -999.0,9,-999.000,9,-999.000,9
   06MT22_2,       AR4E,     502,          1,          3,         11,2,19921105,       1528,    -1.7403,   -34.9900,       4105,  3003.3,   2.7275,  34.9256,2,  34.9230,2,  -999.0,9,-999.000,9,-999.000,9
   06MT22_2,       AR4E,     502,          1,          2,          3,2,19921105,       1528,    -1.7403,   -34.9900,       4105,  3809.0,   2.2553,  34.8934,2,  34.8920,2,  -999.0,9,-999.000,9,-999.000,9
   06MT22_2,       AR4E,     502,          1,          1,          1,2,19921105,       1528,    -1.7403,   -34.9900,       4105,  4108.9,   1.5852,  34.8122,2,  34.8110,2,  -999.0,9,-999.000,9,-999.000,9
   06MT22_2,       AR4E,     503,          1,         18,         21,2,19921105,       2145,    -2.2770,   -34.9910,       3969,    10.5,  26.3954,  36.4083,2,-999.0000,9,   206.8,2,-999.000,9,-999.000,9
   06MT22_2,       AR4E,     503,          1,         17,         20,2,19921105,       2145,    -2.2770,   -34.9910,       3969,   799.6,   4.4361,  34.5111,2,-999.0000,9,   161.7,2,   0.079,2,   0.049,2
   06MT22_2,       AR4E,     503,          1,         16,         19,2,19921105,       2145,    -2.2770,   -34.9910,       3969,   999.6,   4.4570,  34.5977,2,-999.0000,9,   164.8,2,   0.014,2,   0.006,2
   06MT22_2,       AR4E,     503,          1,         15,         18,2,19921105,       2145,    -2.2770,   -34.9910,       3969,  1199.5,   4.4328,  34.6969,2,-999.0000,9,   171.5,2,   0.026,2,   0.013,2
   06MT22_2,       AR4E,     503,          1,         14,         17,2,19921105,       2145,    -2.2770,   -34.9910,       3969,  1399.5,   4.4076,  34.9438,2,-999.0000,9,  -999.0,9,   0.049,2,   0.027,2
   06MT22_2,       AR4E,     503,          1,         13,         16,2,19921105,       2145,    -2.2770,   -34.9910,       3969,  1599.4,   4.1802,  34.9910,2,-999.0000,9,   243.2,2,   0.108,2,   0.076,2
   06MT22_2,       AR4E,     503,          1,         12,         15,2,19921105,       2145,    -2.2770,   -34.9910,       3969,  1700.7,   3.9847,  34.9900,2,-999.0000,9,   251.0,2,   0.087,2,   0.052,2
   06MT22_2,       AR4E,     503,          1,         11,         14,2,19921105,       2145,    -2.2770,   -34.9910,       3969,  1800.6,   3.8678,  34.9872,2,  34.9830,2,   252.7,2,   0.064,2,   0.045,2
   06MT22_2,       AR4E,     503,          1,         10,         13,2,19921105,       2145,    -2.2770,   -34.9910,       3969,  1901.0,   3.7948,  34.9848,2,-999.0000,9,   256.0,2,   0.058,2,   0.041,2
   06MT22_2,       AR4E,     503,          1,          9,         12,2,19921105,       2145,    -2.2770,   -34.9910,       3969,  2001.5,   3.6813,  34.9830,2,  34.9790,2,   258.5,2,   0.066,2,   0.043,2
   06MT22_2,       AR4E,     503,          1,          8,         11,2,19921105,       2145,    -2.2770,   -34.9910,       3969,  2402.0,   3.0867,  34.9565,2,  34.9530,2,   263.3,2,   0.041,2,   0.027,2
   06MT22_2,       AR4E,     503,          1,          7,         10,2,19921105,       2145,    -2.2770,   -34.9910,       3969,  2703.2,   2.8573,  34.9315,2,  34.9280,2,  -999.0,9,   0.017,2,   0.004,2
   06MT22_2,       AR4E,     503,          1,          6,          7,2,19921105,       2145,    -2.2770,   -34.9910,       3969,  3004.8,   2.7545,  34.9346,2,  34.9320,2,   263.4,2,   0.052,2,   0.026,2
   06MT22_2,       AR4E,     503,          1,          5,          6,2,19921105,       2145,    -2.2770,   -34.9910,       3969,  3305.8,   2.6616,  34.9265,2,-999.0000,9,   261.2,2,   0.042,2,   0.031,2
   06MT22_2,       AR4E,     503,          1,          4,          5,2,19921105,       2145,    -2.2770,   -34.9910,       3969,  3506.9,   2.5585,  34.9176,2,  34.9170,2,   262.3,2,   0.044,2,   0.030,2
   06MT22_2,       AR4E,     503,          1,          3,          4,2,19921105,       2145,    -2.2770,   -34.9910,       3969,  3707.1,   2.4321,  34.9098,2,-999.0000,9,   266.1,2,   0.072,2,   0.041,2
   06MT22_2,       AR4E,     503,          1,          2,          3,2,19921105,       2145,    -2.2770,   -34.9910,       3969,  3806.0,   2.3514,  34.9033,2,-999.0000,9,   266.5,2,   0.083,2,   0.059,2
   06MT22_2,       AR4E,     503,          1,          1,          1,2,19921105,       2145,    -2.2770,   -34.9910,       3969,  3982.2,   1.7271,  34.8288,2,  34.8270,2,  -999.0,9,   0.017,2,-999.000,9