BOTTLE,20211029CCHSIORKP
# Original header:
# Changed SALNTY fill flag to 9
#code : jjward hyd_to_exchange.pl 
#original files copied from HTML directory: 20010822
#original HYD file: ar04_chy.txt   Wed Mar 28 14:01:20 2001
#original SUM file: ar04_csu.txt   Wed Mar 28 14:00:45 2001
EXPOCODE,SECT_ID,STNNBR,CASTNO,SAMPNO,BTLNBR,BTLNBR_FLAG_W,DATE,TIME,LATITUDE,LONGITUDE,DEPTH,CTDPRS,CTDTMP,CTDSAL,CTDSAL_FLAG_W,SALNTY,SALNTY_FLAG_W,OXYGEN,OXYGEN_FLAG_W,CFC-11,CFC-11_FLAG_W,CFC-12,CFC-12_FLAG_W
,,,,,,,,,,,METERS,DBAR,ITS-90,PSS-78,,PSS-78,,UMOL/KG,,PMOL/KG,,PMOL/KG,
   06MT22_2,       AR4W,     474,          1,          3,         21,2,19921024,       0434,    -5.5683,   -34.6040,       3334,    14.3,  26.1615,  36.4927,2,  36.4910,2,  -999.0,9,-999.000,9,-999.000,9
   06MT22_2,       AR4W,     474,          1,          2,         12,2,19921024,       0434,    -5.5683,   -34.6040,       3334,  1603.6,   4.2563,  34.9691,2,  34.9650,2,   230.2,2,-999.000,9,-999.000,9
   06MT22_2,       AR4W,     474,          1,          1,          1,2,19921024,       0434,    -5.5683,   -34.6040,       3334,  3016.2,   2.6796,  34.9257,2,-999.0000,9,   256.0,2,-999.000,9,-999.000,9
   06MT22_2,       AR4W,     475,          1,          4,         19,2,19921024,       1044,    -5.6312,   -34.9045,       1371,    10.5,  26.3078,  36.7976,2,-999.0000,9,   205.0,2,-999.000,9,-999.000,9
   06MT22_2,       AR4W,     475,          1,          3,         13,2,19921024,       1044,    -5.6312,   -34.9045,       1371,   700.2,   4.9504,  34.4433,2,  34.4380,2,   174.4,2,-999.000,9,-999.000,9
   06MT22_2,       AR4W,     475,          1,          2,          7,2,19921024,       1044,    -5.6312,   -34.9045,       1371,   803.2,   4.4504,  34.4391,2,  34.4350,2,   179.7,2,-999.000,9,-999.000,9
   06MT22_2,       AR4W,     475,          1,          1,          1,2,19921024,       1044,    -5.6312,   -34.9045,       1371,   904.6,   4.1394,  34.4492,2,-999.0000,9,   178.6,2,-999.000,9,-999.000,9
   06MT22_2,       AR4W,     476,          1,          7,         21,2,19921027,       0015,     0.1495,   -44.3800,       1121,    10.3,  26.4377,  36.4390,2,  36.4370,2,  -999.0,9,-999.000,9,-999.000,9
   06MT22_2,       AR4W,     476,          1,          6,         20,2,19921027,       0015,     0.1495,   -44.3800,       1121,   300.4,  10.8231,  34.9670,2,  34.9680,2,  -999.0,9,-999.000,9,-999.000,9
   06MT22_2,       AR4W,     476,          1,          5,         19,2,19921027,       0015,     0.1495,   -44.3800,       1121,   500.5,   7.7454,  34.6408,2,  34.6360,2,  -999.0,9,-999.000,9,-999.000,9
   06MT22_2,       AR4W,     476,          1,          4,         18,2,19921027,       0015,     0.1495,   -44.3800,       1121,   700.3,   5.1216,  34.5051,2,  34.5020,2,  -999.0,9,-999.000,9,-999.000,9
   06MT22_2,       AR4W,     476,          1,          3,         17,2,19921027,       0015,     0.1495,   -44.3800,       1121,   800.4,   4.9222,  34.5027,2,  34.4980,2,  -999.0,9,-999.000,9,-999.000,9
   06MT22_2,       AR4W,     476,          1,          2,         16,2,19921027,       0015,     0.1495,   -44.3800,       1121,   899.5,   4.7072,  34.5197,2,  34.5150,2,  -999.0,9,-999.000,9,-999.000,9
   06MT22_2,       AR4W,     476,          1,          1,         15,2,19921027,       0015,     0.1495,   -44.3800,       1121,  1019.5,   4.3511,  34.5832,2,  34.5790,2,  -999.0,9,-999.000,9,-999.000,9
   06MT22_2,       AR4W,     477,          1,         20,         21,2,19921027,       0402,     0.3835,   -44.2640,       3273,    10.7,  26.4349,  36.2673,2,  36.2650,2,   201.2,2,-999.000,9,-999.000,9
   06MT22_2,       AR4W,     477,          1,         19,         20,2,19921027,       0402,     0.3835,   -44.2640,       3273,   200.2,  17.0350,  35.8458,2,-999.0000,9,  -999.0,9,-999.000,9,-999.000,9
   06MT22_2,       AR4W,     477,          1,         18,         19,2,19921027,       0402,     0.3835,   -44.2640,       3273,   400.7,   8.0006,  34.6657,2,-999.0000,9,   172.0,2,-999.000,9,-999.000,9
   06MT22_2,       AR4W,     477,          1,         17,         18,2,19921027,       0402,     0.3835,   -44.2640,       3273,   592.2,   5.9086,  34.5241,2,-999.0000,9,   156.3,2,-999.000,9,-999.000,9
   06MT22_2,       AR4W,     477,          1,         16,         17,2,19921027,       0402,     0.3835,   -44.2640,       3273,   799.2,   4.7961,  34.5146,2,  34.5150,2,   155.4,2,-999.000,9,-999.000,9
   06MT22_2,       AR4W,     477,          1,         15,         16,2,19921027,       0402,     0.3835,   -44.2640,       3273,   999.1,   4.4841,  34.6159,2,-999.0000,9,   160.5,2,-999.000,9,-999.000,9
   06MT22_2,       AR4W,     477,          1,         14,         15,2,19921027,       0402,     0.3835,   -44.2640,       3273,  1199.2,   4.5806,  34.8827,2,-999.0000,9,   194.4,2,-999.000,9,-999.000,9
   06MT22_2,       AR4W,     477,          1,         13,         14,2,19921027,       0402,     0.3835,   -44.2640,       3273,  1301.2,   4.5748,  34.9102,2,  34.9060,2,   201.5,2,-999.000,9,-999.000,9
   06MT22_2,       AR4W,     477,          1,         12,         13,2,19921027,       0402,     0.3835,   -44.2640,       3273,  1402.4,   4.4362,  34.9436,2,  34.9380,2,   212.2,2,-999.000,9,-999.000,9
   06MT22_2,       AR4W,     477,          1,         11,         12,2,19921027,       0402,     0.3835,   -44.2640,       3273,  1502.0,   4.4022,  34.9587,2,  34.9570,2,   220.4,2,-999.000,9,-999.000,9
   06MT22_2,       AR4W,     477,          1,         10,         11,2,19921027,       0402,     0.3835,   -44.2640,       3273,  1701.2,   4.1477,  35.0021,2,  34.9980,2,   245.8,2,-999.000,9,-999.000,9
   06MT22_2,       AR4W,     477,          1,          9,         10,2,19921027,       0402,     0.3835,   -44.2640,       3273,  1901.2,   3.8226,  34.9937,2,  34.9910,2,  -999.0,9,-999.000,9,-999.000,9
   06MT22_2,       AR4W,     477,          1,          8,          9,2,19921027,       0402,     0.3835,   -44.2640,       3273,  2011.5,   3.6440,  34.9862,2,  34.9820,2,   254.7,2,-999.000,9,-999.000,9
   06MT22_2,       AR4W,     477,          1,          7,          8,2,19921027,       0402,     0.3835,   -44.2640,       3273,  2203.6,   3.4589,  34.9762,2,  34.9730,2,   253.2,2,-999.000,9,-999.000,9
   06MT22_2,       AR4W,     477,          1,          6,          7,2,19921027,       0402,     0.3835,   -44.2640,       3273,  2400.5,   3.1171,  34.9599,2,  34.9570,2,   257.1,2,-999.000,9,-999.000,9
   06MT22_2,       AR4W,     477,          1,          5,          6,2,19921027,       0402,     0.3835,   -44.2640,       3273,  2611.2,   2.9632,  34.9491,2,  34.9440,2,   257.0,2,-999.000,9,-999.000,9
   06MT22_2,       AR4W,     477,          1,          4,          5,2,19921027,       0402,     0.3835,   -44.2640,       3273,  2803.3,   2.8885,  34.9433,2,  34.9410,2,   258.0,2,-999.000,9,-999.000,9
   06MT22_2,       AR4W,     477,          1,          3,          4,2,19921027,       0402,     0.3835,   -44.2640,       3273,  3009.1,   2.7082,  34.9314,2,  34.9290,2,   255.7,2,-999.000,9,-999.000,9
   06MT22_2,       AR4W,     477,          1,          2,          3,2,19921027,       0402,     0.3835,   -44.2640,       3273,  3105.1,   2.6665,  34.9279,2,  34.9270,2,   256.6,2,-999.000,9,-999.000,9
   06MT22_2,       AR4W,     477,          1,          1,          1,2,19921027,       0402,     0.3835,   -44.2640,       3273,  3243.0,   2.6225,  34.9242,2,  34.9240,2,   259.3,2,-999.000,9,-999.000,9
   06MT22_2,       AR4W,     479,          1,         19,         22,2,19921027,       2313,     0.6077,   -44.1810,       3628,    10.8,  26.6684,  36.1963,2,  36.1940,2,   197.5,2,-999.000,9,-999.000,9
   06MT22_2,       AR4W,     479,          1,         18,         21,2,19921027,       2313,     0.6077,   -44.1810,       3628,   199.8,  15.8864,  35.6535,2,-999.0000,9,  -999.0,9,-999.000,9,-999.000,9
   06MT22_2,       AR4W,     479,          1,         17,         20,2,19921027,       2313,     0.6077,   -44.1810,       3628,   501.3,   6.8093,  34.5775,2,-999.0000,9,   157.7,2,-999.000,9,-999.000,9
   06MT22_2,       AR4W,     479,          1,         16,         19,2,19921027,       2313,     0.6077,   -44.1810,       3628,   800.5,   4.7124,  34.5215,2,-999.0000,9,  -999.0,9,   0.071,2,   0.034,2
   06MT22_2,       AR4W,     479,          1,         15,         18,2,19921027,       2313,     0.6077,   -44.1810,       3628,  1000.6,   4.5620,  34.6865,2,-999.0000,9,  -999.0,9,-999.000,9,   0.028,2
   06MT22_2,       AR4W,     479,          1,         14,         17,2,19921027,       2313,     0.6077,   -44.1810,       3628,  1201.7,   4.6285,  34.9073,2,-999.0000,9,  -999.0,9,   0.049,2,   0.021,2
   06MT22_2,       AR4W,     479,          1,         13,         16,2,19921027,       2313,     0.6077,   -44.1810,       3628,  1402.0,   4.4264,  34.9544,2,-999.0000,9,  -999.0,9,   0.067,2,   0.032,2
   06MT22_2,       AR4W,     479,          1,         12,         15,2,19921027,       2313,     0.6077,   -44.1810,       3628,  1502.1,   4.3501,  34.9787,2,-999.0000,9,   237.4,2,   0.181,2,   0.061,2
   06MT22_2,       AR4W,     479,          1,         11,         13,2,19921027,       2313,     0.6077,   -44.1810,       3628,  1599.2,   4.2607,  34.9926,2,  34.9880,2,   240.4,2,   0.119,2,   0.077,2
   06MT22_2,       AR4W,     479,          1,         10,         12,2,19921027,       2313,     0.6077,   -44.1810,       3628,  1699.0,   4.1243,  35.0009,2,-999.0000,9,   249.5,2,   0.178,2,   0.114,2
   06MT22_2,       AR4W,     479,          1,          9,         11,2,19921027,       2313,     0.6077,   -44.1810,       3628,  1799.8,   3.9625,  34.9997,2,-999.0000,9,   254.5,2,   0.191,2,   0.120,2
   06MT22_2,       AR4W,     479,          1,          8,         10,2,19921027,       2313,     0.6077,   -44.1810,       3628,  1998.5,   3.6262,  34.9830,2,-999.0000,9,   256.8,2,-999.000,9,-999.000,9
   06MT22_2,       AR4W,     479,          1,          7,          9,2,19921027,       2313,     0.6077,   -44.1810,       3628,  2200.3,   3.4507,  34.9757,2,-999.0000,9,  -999.0,9,-999.000,9,-999.000,9
   06MT22_2,       AR4W,     479,          1,          6,          8,2,19921027,       2313,     0.6077,   -44.1810,       3628,  2399.7,   3.1641,  34.9602,2,  34.9580,2,  -999.0,9,-999.000,9,   0.029,2
   06MT22_2,       AR4W,     479,          1,          5,          7,2,19921027,       2313,     0.6077,   -44.1810,       3628,  2702.9,   2.9706,  34.9493,2,-999.0000,9,   258.8,2,-999.000,9,-999.000,9
   06MT22_2,       AR4W,     479,          1,          4,          6,2,19921027,       2313,     0.6077,   -44.1810,       3628,  3002.9,   2.7260,  34.9323,2,-999.0000,9,   260.3,2,   0.061,2,   0.046,2
   06MT22_2,       AR4W,     479,          1,          3,          5,2,19921027,       2313,     0.6077,   -44.1810,       3628,  3206.8,   2.5977,  34.9235,2,  34.9210,2,   260.6,2,-999.000,9,   0.051,2
   06MT22_2,       AR4W,     479,          1,          2,          4,2,19921027,       2313,     0.6077,   -44.1810,       3628,  3506.5,   2.4610,  34.9130,2,-999.0000,9,   261.1,2,   0.094,2,   0.068,2
   06MT22_2,       AR4W,     479,          1,          1,          1,2,19921027,       2313,     0.6077,   -44.1810,       3628,  3611.8,   2.4265,  34.9096,2,  34.9110,2,   260.3,2,   0.094,2,   0.068,2
   06MT22_2,       AR4W,     480,          1,         12,         20,2,19921028,       0459,     0.2942,   -44.3467,       3052,    10.7,  26.4491,  36.2699,2,  36.2690,2,   198.9,2,-999.000,9,-999.000,9
   06MT22_2,       AR4W,     480,          1,         11,         19,2,19921028,       0459,     0.2942,   -44.3467,       3052,   300.4,  10.1175,  34.8893,2,-999.0000,9,  -999.0,9,-999.000,9,-999.000,9
   06MT22_2,       AR4W,     480,          1,         10,         18,2,19921028,       0459,     0.2942,   -44.3467,       3052,   502.0,   6.6208,  34.5710,2,-999.0000,9,   162.0,2,-999.000,9,-999.000,9
   06MT22_2,       AR4W,     480,          1,          9,         17,2,19921028,       0459,     0.2942,   -44.3467,       3052,   699.3,   4.9864,  34.4883,2,-999.0000,9,   155.2,2,-999.000,9,-999.000,9
   06MT22_2,       AR4W,     480,          1,          8,         15,2,19921028,       0459,     0.2942,   -44.3467,       3052,   799.1,   4.8245,  34.5087,2,-999.0000,9,   162.1,2,-999.000,9,-999.000,9
   06MT22_2,       AR4W,     480,          1,          7,         13,2,19921028,       0459,     0.2942,   -44.3467,       3052,  1000.2,   4.5201,  34.6666,2,-999.0000,9,   161.4,2,-999.000,9,-999.000,9
   06MT22_2,       AR4W,     480,          1,          6,         11,2,19921028,       0459,     0.2942,   -44.3467,       3052,  1301.3,   4.5236,  34.9226,2,-999.0000,9,  -999.0,9,-999.000,9,-999.000,9
   06MT22_2,       AR4W,     480,          1,          5,          9,2,19921028,       0459,     0.2942,   -44.3467,       3052,  1600.7,   4.1637,  34.9976,2,  34.9940,2,  -999.0,9,-999.000,9,-999.000,9
   06MT22_2,       AR4W,     480,          1,          4,          7,2,19921028,       0459,     0.2942,   -44.3467,       3052,  1800.7,   3.9915,  34.9978,2,  34.9930,2,   252.2,2,-999.000,9,-999.000,9
   06MT22_2,       AR4W,     480,          1,          3,          5,2,19921028,       0459,     0.2942,   -44.3467,       3052,  2210.7,   3.4681,  34.9760,2,  34.9730,2,   255.5,2,-999.000,9,-999.000,9
   06MT22_2,       AR4W,     480,          1,          2,          3,2,19921028,       0459,     0.2942,   -44.3467,       3052,  2606.6,   2.9643,  34.9492,2,  34.9460,2,   255.4,2,-999.000,9,-999.000,9
   06MT22_2,       AR4W,     480,          1,          1,          1,2,19921028,       0459,     0.2942,   -44.3467,       3052,  2991.5,   2.6631,  34.9278,2,  34.9280,2,   252.2,2,-999.000,9,-999.000,9
   06MT22_2,       AR4W,     481,          1,         19,         22,2,19921028,       1817,     1.1672,   -44.0602,       4105,    10.2,  26.7796,  36.1762,2,-999.0000,9,  -999.0,9,-999.000,9,-999.000,9
   06MT22_2,       AR4W,     481,          1,         18,         21,2,19921028,       1817,     1.1672,   -44.0602,       4105,   200.5,  15.0256,  35.5390,2,-999.0000,9,  -999.0,9,-999.000,9,-999.000,9
   06MT22_2,       AR4W,     481,          1,         17,         20,2,19921028,       1817,     1.1672,   -44.0602,       4105,   498.1,   7.0863,  34.6160,2,-999.0000,9,  -999.0,9,-999.000,9,-999.000,9
   06MT22_2,       AR4W,     481,          1,         16,         19,2,19921028,       1817,     1.1672,   -44.0602,       4105,   799.4,   4.5547,  34.5392,2,-999.0000,9,   155.5,2,-999.000,9,-999.000,9
   06MT22_2,       AR4W,     481,          1,         15,         18,2,19921028,       1817,     1.1672,   -44.0602,       4105,   999.6,   4.7018,  34.6346,2,-999.0000,9,  -999.0,9,   0.019,2,   0.033,2
   06MT22_2,       AR4W,     481,          1,         14,         17,2,19921028,       1817,     1.1672,   -44.0602,       4105,  1199.2,   4.6700,  34.8698,2,-999.0000,9,  -999.0,9,   0.037,2,   0.043,2
   06MT22_2,       AR4W,     481,          1,         13,         16,2,19921028,       1817,     1.1672,   -44.0602,       4105,  1398.7,   4.4368,  34.9509,2,-999.0000,9,  -999.0,9,   0.068,2,   0.059,2
   06MT22_2,       AR4W,     481,          1,         12,         15,2,19921028,       1817,     1.1672,   -44.0602,       4105,  1599.5,   4.3015,  34.9935,2,-999.0000,9,  -999.0,9,   0.146,2,   0.089,2
   06MT22_2,       AR4W,     481,          1,         11,         14,2,19921028,       1817,     1.1672,   -44.0602,       4105,  1700.1,   4.0971,  34.9959,2,-999.0000,9,   250.5,2,   0.116,2,   0.070,2
   06MT22_2,       AR4W,     481,          1,         10,         13,2,19921028,       1817,     1.1672,   -44.0602,       4105,  1794.1,   3.9793,  34.9923,2,-999.0000,9,  -999.0,9,   0.099,2,   0.068,2
   06MT22_2,       AR4W,     481,          1,          9,         12,2,19921028,       1817,     1.1672,   -44.0602,       4105,  1900.3,   3.8514,  34.9903,2,  34.9880,2,   256.1,2,   0.096,2,   0.064,2
   06MT22_2,       AR4W,     481,          1,          8,         11,2,19921028,       1817,     1.1672,   -44.0602,       4105,  2000.4,   3.6591,  34.9846,2,-999.0000,9,   257.5,2,   0.089,2,-999.000,9
   06MT22_2,       AR4W,     481,          1,          7,         10,2,19921028,       1817,     1.1672,   -44.0602,       4105,  2201.0,   3.4959,  34.9784,2,  34.9770,2,   260.1,2,   0.070,2,   0.057,2
   06MT22_2,       AR4W,     481,          1,          6,          9,2,19921028,       1817,     1.1672,   -44.0602,       4105,  2601.8,   2.9577,  34.9495,2,  34.9460,2,   259.9,2,   0.092,2,   0.071,2
   06MT22_2,       AR4W,     481,          1,          5,          6,2,19921028,       1817,     1.1672,   -44.0602,       4105,  3004.7,   2.7194,  34.9315,2,  34.9300,2,   260.1,2,   0.056,2,   0.027,2
   06MT22_2,       AR4W,     481,          1,          4,          5,2,19921028,       1817,     1.1672,   -44.0602,       4105,  3405.7,   2.5222,  34.9172,2,  34.9160,2,   261.2,2,   0.085,2,   0.039,2
   06MT22_2,       AR4W,     481,          1,          3,          4,2,19921028,       1817,     1.1672,   -44.0602,       4105,  3708.9,   2.3767,  34.9068,2,  34.9050,2,   264.1,2,   0.101,2,   0.051,2
   06MT22_2,       AR4W,     481,          1,          2,          3,2,19921028,       1817,     1.1672,   -44.0602,       4105,  3907.8,   2.3301,  34.9019,2,  34.9020,2,   262.4,2,   0.111,2,   0.062,2
   06MT22_2,       AR4W,     481,          1,          1,          2,2,19921028,       1817,     1.1672,   -44.0602,       4105,  4116.8,   2.2510,  34.8918,2,-999.0000,9,  -999.0,9,   0.086,2,   0.081,2
   06MT22_2,       AR4W,     482,          1,         11,         21,2,19921029,       0006,     1.5910,   -44.0025,       4117,    10.9,  26.7989,  36.1396,2,  36.1380,2,   200.8,2,-999.000,9,-999.000,9
   06MT22_2,       AR4W,     482,          1,         10,         18,2,19921029,       0006,     1.5910,   -44.0025,       4117,   799.7,   4.5830,  34.5332,2,-999.0000,9,  -999.0,9,-999.000,9,-999.000,9
   06MT22_2,       AR4W,     482,          1,          9,         17,2,19921029,       0006,     1.5910,   -44.0025,       4117,  1199.6,   4.6971,  34.8776,2,-999.0000,9,  -999.0,9,-999.000,9,-999.000,9
   06MT22_2,       AR4W,     482,          1,          8,         15,2,19921029,       0006,     1.5910,   -44.0025,       4117,  1500.6,   4.3737,  34.9797,2,-999.0000,9,  -999.0,9,-999.000,9,-999.000,9
   06MT22_2,       AR4W,     482,          1,          7,         13,2,19921029,       0006,     1.5910,   -44.0025,       4117,  1750.7,   4.0558,  34.9956,2,  34.9910,2,   249.5,2,-999.000,9,-999.000,9
   06MT22_2,       AR4W,     482,          1,          6,         11,2,19921029,       0006,     1.5910,   -44.0025,       4117,  2200.5,   3.5035,  34.9783,2,  34.9750,2,   258.8,2,-999.000,9,-999.000,9
   06MT22_2,       AR4W,     482,          1,          5,          9,2,19921029,       0006,     1.5910,   -44.0025,       4117,  2602.3,   2.9263,  34.9481,2,  34.9460,2,   260.7,2,-999.000,9,-999.000,9
   06MT22_2,       AR4W,     482,          1,          4,          7,2,19921029,       0006,     1.5910,   -44.0025,       4117,  3004.4,   2.7025,  34.9313,2,  34.9280,2,   259.7,2,-999.000,9,-999.000,9
   06MT22_2,       AR4W,     482,          1,          3,          5,2,19921029,       0006,     1.5910,   -44.0025,       4117,  3405.9,   2.5137,  34.9180,2,-999.0000,9,   262.1,2,-999.000,9,-999.000,9
   06MT22_2,       AR4W,     482,          1,          2,          3,2,19921029,       0006,     1.5910,   -44.0025,       4117,  3808.2,   2.3456,  34.9045,2,-999.0000,9,   264.7,2,-999.000,9,-999.000,9
   06MT22_2,       AR4W,     482,          1,          1,          1,2,19921029,       0006,     1.5910,   -44.0025,       4117,  4140.3,   2.1973,  34.8870,2,  34.8870,2,   261.1,2,-999.000,9,-999.000,9