BOTTLE,20211029CCHSIORKP
EXPOCODE,SECT_ID,STNNBR,CASTNO,SAMPNO,BTLNBR,BTLNBR_FLAG_W,DATE,TIME,LATITUDE,LONGITUDE,DEPTH,CTDPRS,CTDTMP,CTDSAL,CTDSAL_FLAG_W,SALNTY,SALNTY_FLAG_W,OXYGEN,OXYGEN_FLAG_W,CFC-11,CFC-11_FLAG_W,CFC-12,CFC-12_FLAG_W
,,,,,,,,,,,METERS,DBAR,ITS-90,PSS-78,,PSS-78,,UMOL/KG,,PMOL/KG,,PMOL/KG,
   06MT22_2,       AR4W,     483,          1,         19,         21,2,19921029,       0556,     1.9673,   -44.0230,       4138,    11.8,  26.7242,  36.1449,2,  36.1480,2,  -999.0,9,-999.000,9,-999.000,9
   06MT22_2,       AR4W,     483,          1,         18,         20,2,19921029,       0556,     1.9673,   -44.0230,       4138,   199.4,  14.9679,  35.5378,2,-999.0000,9,   177.3,2,-999.000,9,-999.000,9
   06MT22_2,       AR4W,     483,          1,         17,         19,2,19921029,       0556,     1.9673,   -44.0230,       4138,   501.5,   6.8952,  34.6048,2,-999.0000,9,   146.0,2,-999.000,9,-999.000,9
   06MT22_2,       AR4W,     483,          1,         16,         18,2,19921029,       0556,     1.9673,   -44.0230,       4138,   800.0,   4.6644,  34.5126,2,-999.0000,9,   162.3,2,   0.104,2,   0.062,2
   06MT22_2,       AR4W,     483,          1,         15,         17,2,19921029,       0556,     1.9673,   -44.0230,       4138,   999.1,   4.4932,  34.5852,2,-999.0000,9,   160.3,2,   0.048,2,   0.037,2
   06MT22_2,       AR4W,     483,          1,         14,         16,2,19921029,       0556,     1.9673,   -44.0230,       4138,  1199.5,   4.6620,  34.8364,2,-999.0000,9,   183.6,2,   0.043,2,   0.025,2
   06MT22_2,       AR4W,     483,          1,         13,         15,2,19921029,       0556,     1.9673,   -44.0230,       4138,  1400.2,   4.5154,  34.9500,2,-999.0000,9,   215.6,2,-999.000,9,   0.060,2
   06MT22_2,       AR4W,     483,          1,         12,         14,2,19921029,       0556,     1.9673,   -44.0230,       4138,  1600.7,   4.2753,  34.9940,2,-999.0000,9,   240.8,2,   0.137,2,   0.091,2
   06MT22_2,       AR4W,     483,          1,         11,         13,2,19921029,       0556,     1.9673,   -44.0230,       4138,  1699.9,   4.0386,  34.9961,2,-999.0000,9,   243.9,2,-999.000,9,-999.000,9
   06MT22_2,       AR4W,     483,          1,         10,         12,2,19921029,       0556,     1.9673,   -44.0230,       4138,  1799.5,   3.9439,  34.9926,2,-999.0000,9,  -999.0,9,-999.000,9,-999.000,9
   06MT22_2,       AR4W,     483,          1,          9,         11,2,19921029,       0556,     1.9673,   -44.0230,       4138,  1900.5,   3.8884,  34.9915,2,-999.0000,9,  -999.0,9,   0.121,2,   0.094,2
   06MT22_2,       AR4W,     483,          1,          8,         10,2,19921029,       0556,     1.9673,   -44.0230,       4138,  2000.6,   3.7681,  34.9888,2,-999.0000,9,  -999.0,9,   0.100,2,   0.064,2
   06MT22_2,       AR4W,     483,          1,          7,          9,2,19921029,       0556,     1.9673,   -44.0230,       4138,  2199.9,   3.3998,  34.9713,2,  34.9670,2,   257.5,2,   0.048,2,   0.034,2
   06MT22_2,       AR4W,     483,          1,          6,          8,2,19921029,       0556,     1.9673,   -44.0230,       4138,  2602.8,   2.9085,  34.9465,2,-999.0000,9,   260.5,2,   0.059,2,   0.014,2
   06MT22_2,       AR4W,     483,          1,          5,          7,2,19921029,       0556,     1.9673,   -44.0230,       4138,  3003.9,   2.6942,  34.9306,2,  34.9340,2,   258.4,2,   0.065,2,   0.029,2
   06MT22_2,       AR4W,     483,          1,          4,          5,2,19921029,       0556,     1.9673,   -44.0230,       4138,  3405.9,   2.5351,  34.9187,2,-999.0000,9,  -999.0,9,   0.093,2,   0.037,2
   06MT22_2,       AR4W,     483,          1,          3,          4,2,19921029,       0556,     1.9673,   -44.0230,       4138,  3707.6,   2.3949,  34.9083,2,  34.9060,2,   256.7,2,   0.109,2,   0.051,2
   06MT22_2,       AR4W,     483,          1,          2,          3,2,19921029,       0556,     1.9673,   -44.0230,       4138,  3906.5,   2.3299,  34.9032,2,-999.0000,9,   258.5,2,   0.138,2,   0.062,2
   06MT22_2,       AR4W,     483,          1,          1,          1,2,19921029,       0556,     1.9673,   -44.0230,       4138,  4144.5,   2.2160,  34.8884,2,  34.8890,2,   264.1,2,   0.101,2,   0.049,2
   06MT22_2,       AR4W,     484,          1,         20,         21,2,19921029,       1352,     2.5058,   -44.0278,       4174,    10.0,  27.0526,  36.0782,2,  36.0760,2,  -999.0,9,   0.000,2,   0.000,2
   06MT22_2,       AR4W,     484,          1,         19,         20,2,19921029,       1352,     2.5058,   -44.0278,       4174,   200.5,  15.8185,  35.6644,2,-999.0000,9,  -999.0,9,-999.000,9,-999.000,9
   06MT22_2,       AR4W,     484,          1,         18,         19,2,19921029,       1352,     2.5058,   -44.0278,       4174,   499.8,   6.6115,  34.6092,2,-999.0000,9,  -999.0,9,-999.000,9,-999.000,9
   06MT22_2,       AR4W,     484,          1,         17,         18,2,19921029,       1352,     2.5058,   -44.0278,       4174,   699.0,   4.9841,  34.4981,2,-999.0000,9,  -999.0,9,   0.153,2,   0.088,2
   06MT22_2,       AR4W,     484,          1,         16,         17,2,19921029,       1352,     2.5058,   -44.0278,       4174,   899.2,   4.5391,  34.5621,2,-999.0000,9,  -999.0,9,   0.037,2,   0.018,2
   06MT22_2,       AR4W,     484,          1,         15,         16,2,19921029,       1352,     2.5058,   -44.0278,       4174,  1199.5,   4.6726,  34.8641,2,-999.0000,9,  -999.0,9,   0.027,2,   0.012,2
   06MT22_2,       AR4W,     484,          1,         14,         15,2,19921029,       1352,     2.5058,   -44.0278,       4174,  1398.7,   4.4502,  34.9590,2,-999.0000,9,  -999.0,9,   0.076,2,   0.028,2
   06MT22_2,       AR4W,     484,          1,         13,         14,2,19921029,       1352,     2.5058,   -44.0278,       4174,  1600.2,   4.1692,  34.9852,2,-999.0000,9,  -999.0,9,   0.066,2,   0.043,2
   06MT22_2,       AR4W,     484,          1,         12,         13,2,19921029,       1352,     2.5058,   -44.0278,       4174,  1700.4,   4.0155,  34.9876,2,  34.9850,2,  -999.0,9,   0.059,2,   0.035,2
   06MT22_2,       AR4W,     484,          1,         11,         12,2,19921029,       1352,     2.5058,   -44.0278,       4174,  1799.9,   3.9305,  34.9875,2,-999.0000,9,  -999.0,9,   0.058,2,   0.035,2
   06MT22_2,       AR4W,     484,          1,         10,         11,2,19921029,       1352,     2.5058,   -44.0278,       4174,  1900.1,   3.8579,  34.9852,2,  34.9840,2,  -999.0,9,   0.058,2,   0.044,2
   06MT22_2,       AR4W,     484,          1,          9,         10,2,19921029,       1352,     2.5058,   -44.0278,       4174,  2001.3,   3.7071,  34.9810,2,-999.0000,9,  -999.0,9,   0.039,2,   0.040,2
   06MT22_2,       AR4W,     484,          1,          8,          9,2,19921029,       1352,     2.5058,   -44.0278,       4174,  2301.7,   3.3235,  34.9703,2,  34.9680,2,  -999.0,9,   0.066,2,   0.046,2
   06MT22_2,       AR4W,     484,          1,          7,          8,2,19921029,       1352,     2.5058,   -44.0278,       4174,  2602.7,   2.9612,  34.9478,2,-999.0000,9,  -999.0,9,   0.069,2,   0.039,2
   06MT22_2,       AR4W,     484,          1,          6,          7,2,19921029,       1352,     2.5058,   -44.0278,       4174,  3004.5,   2.7396,  34.9337,2,  34.9320,2,  -999.0,9,-999.000,9,-999.000,9
   06MT22_2,       AR4W,     484,          1,          5,          6,2,19921029,       1352,     2.5058,   -44.0278,       4174,  3307.0,   2.6086,  34.9231,2,  34.9210,2,  -999.0,9,   0.040,2,   0.040,2
   06MT22_2,       AR4W,     484,          1,          4,          5,2,19921029,       1352,     2.5058,   -44.0278,       4174,  3707.7,   2.3277,  34.9039,2,  34.9020,2,  -999.0,9,   0.107,2,   0.067,2
   06MT22_2,       AR4W,     484,          1,          3,          4,2,19921029,       1352,     2.5058,   -44.0278,       4174,  3808.1,   2.3026,  34.9014,2,-999.0000,9,  -999.0,9,   0.108,2,   0.081,2
   06MT22_2,       AR4W,     484,          1,          2,          3,2,19921029,       1352,     2.5058,   -44.0278,       4174,  4008.4,   2.2863,  34.8978,2,  34.8980,2,  -999.0,9,-999.000,9,-999.000,9
   06MT22_2,       AR4W,     484,          1,          1,          2,2,19921029,       1352,     2.5058,   -44.0278,       4174,  4196.8,   2.0434,  34.8669,2,  34.8690,2,   265.5,2,   0.070,2,   0.068,2
   06MT22_2,       AR4W,     485,          1,         20,         21,2,19921029,       2146,     3.3025,   -43.9997,       4209,    10.9,  27.6086,  36.0684,2,  36.0670,2,  -999.0,9,-999.000,9,-999.000,9
   06MT22_2,       AR4W,     485,          1,         19,         20,2,19921029,       2146,     3.3025,   -43.9997,       4209,   199.7,  18.4418,  36.0137,2,-999.0000,9,  -999.0,9,-999.000,9,-999.000,9
   06MT22_2,       AR4W,     485,          1,         18,         19,2,19921029,       2146,     3.3025,   -43.9997,       4209,   599.3,   5.6930,  34.5787,2,-999.0000,9,   136.3,2,-999.000,9,-999.000,9
   06MT22_2,       AR4W,     485,          1,         17,         18,2,19921029,       2146,     3.3025,   -43.9997,       4209,   799.5,   4.8265,  34.5846,2,-999.0000,9,   146.9,2,-999.000,9,-999.000,9
   06MT22_2,       AR4W,     485,          1,         16,         17,2,19921029,       2146,     3.3025,   -43.9997,       4209,   999.2,   4.7080,  34.7277,2,-999.0000,9,   162.0,2,   0.011,2,   0.018,2
   06MT22_2,       AR4W,     485,          1,         15,         16,2,19921029,       2146,     3.3025,   -43.9997,       4209,  1199.9,   4.6530,  34.9031,2,-999.0000,9,  -999.0,9,   0.036,2,   0.023,2
   06MT22_2,       AR4W,     485,          1,         14,         15,2,19921029,       2146,     3.3025,   -43.9997,       4209,  1399.6,   4.3753,  34.9705,2,-999.0000,9,  -999.0,9,-999.000,9,-999.000,9
   06MT22_2,       AR4W,     485,          1,         13,         14,2,19921029,       2146,     3.3025,   -43.9997,       4209,  1599.5,   4.1563,  34.9965,2,-999.0000,9,   247.4,2,   0.122,2,   0.079,2
   06MT22_2,       AR4W,     485,          1,         12,         13,2,19921029,       2146,     3.3025,   -43.9997,       4209,  1700.5,   4.0076,  34.9981,2,-999.0000,9,   251.5,2,   0.127,2,   0.086,2
   06MT22_2,       AR4W,     485,          1,         11,         12,2,19921029,       2146,     3.3025,   -43.9997,       4209,  1800.6,   3.8546,  34.9921,2,-999.0000,9,  -999.0,9,-999.000,9,-999.000,9
   06MT22_2,       AR4W,     485,          1,         10,         11,2,19921029,       2146,     3.3025,   -43.9997,       4209,  1900.9,   3.6423,  34.9857,2,-999.0000,9,   257.9,2,   0.084,2,   0.049,2
   06MT22_2,       AR4W,     485,          1,          9,         10,2,19921029,       2146,     3.3025,   -43.9997,       4209,  2000.6,   3.4989,  34.9798,2,-999.0000,9,   260.7,2,   0.080,2,   0.058,2
   06MT22_2,       AR4W,     485,          1,          8,          9,2,19921029,       2146,     3.3025,   -43.9997,       4209,  2300.9,   3.2658,  34.9660,2,  34.9630,2,   258.9,2,   0.065,2,   0.049,2
   06MT22_2,       AR4W,     485,          1,          7,          8,2,19921029,       2146,     3.3025,   -43.9997,       4209,  2703.3,   2.9053,  34.9458,2,-999.0000,9,  -999.0,9,   0.061,2,   0.026,2
   06MT22_2,       AR4W,     485,          1,          6,          7,2,19921029,       2146,     3.3025,   -43.9997,       4209,  3003.4,   2.7662,  34.9344,2,-999.0000,9,  -999.0,9,-999.000,9,-999.000,9
   06MT22_2,       AR4W,     485,          1,          5,          6,2,19921029,       2146,     3.3025,   -43.9997,       4209,  3707.9,   2.3627,  34.9057,2,  34.9040,2,   265.5,2,   0.077,2,   0.057,2
   06MT22_2,       AR4W,     485,          1,          4,          5,2,19921029,       2146,     3.3025,   -43.9997,       4209,  3909.1,   2.2684,  34.8964,2,-999.0000,9,   263.1,2,   0.108,2,   0.053,2
   06MT22_2,       AR4W,     485,          1,          3,          4,2,19921029,       2146,     3.3025,   -43.9997,       4209,  4011.3,   2.2368,  34.8938,2,  34.8920,2,   263.8,2,   0.096,2,   0.044,2
   06MT22_2,       AR4W,     485,          1,          2,          3,2,19921029,       2146,     3.3025,   -43.9997,       4209,  4108.7,   2.2257,  34.8912,2,-999.0000,9,   262.1,2,   0.098,2,   0.060,2
   06MT22_2,       AR4W,     485,          1,          1,          2,2,19921029,       2146,     3.3025,   -43.9997,       4209,  4231.7,   2.0006,  34.8623,2,  34.8620,2,  -999.0,9,   0.086,2,   0.072,2
   06MT22_2,       AR4W,     486,          1,         20,         21,2,19921030,       0431,     3.7708,   -44.0350,       4219,    10.5,  27.5667,  36.0606,2,  36.0600,2,   200.9,2,-999.000,9,-999.000,9
   06MT22_2,       AR4W,     486,          1,         19,         20,2,19921030,       0431,     3.7708,   -44.0350,       4219,   202.6,  17.3370,  35.8587,2,-999.0000,9,  -999.0,9,-999.000,9,-999.000,9
   06MT22_2,       AR4W,     486,          1,         18,         19,2,19921030,       0431,     3.7708,   -44.0350,       4219,   600.8,   6.0968,  34.6018,2,-999.0000,9,   132.3,2,   0.102,2,   0.095,2
   06MT22_2,       AR4W,     486,          1,         17,         18,2,19921030,       0431,     3.7708,   -44.0350,       4219,   800.2,   4.8955,  34.5796,2,-999.0000,9,   145.1,2,   0.033,2,   0.023,2
   06MT22_2,       AR4W,     486,          1,         16,         17,2,19921030,       0431,     3.7708,   -44.0350,       4219,  1000.4,   4.6544,  34.6945,2,-999.0000,9,   159.0,2,   0.011,2,   0.022,2
   06MT22_2,       AR4W,     486,          1,         15,         16,2,19921030,       0431,     3.7708,   -44.0350,       4219,  1200.5,   4.6430,  34.8747,2,-999.0000,9,   188.5,2,   0.029,2,   0.030,2
   06MT22_2,       AR4W,     486,          1,         14,         15,2,19921030,       0431,     3.7708,   -44.0350,       4219,  1400.5,   4.5452,  34.9903,2,-999.0000,9,   226.8,2,   0.131,2,   0.082,2
   06MT22_2,       AR4W,     486,          1,         13,         14,2,19921030,       0431,     3.7708,   -44.0350,       4219,  1600.7,   4.2339,  35.0069,2,-999.0000,9,   247.8,2,   0.191,2,-999.000,9
   06MT22_2,       AR4W,     486,          1,         12,         13,2,19921030,       0431,     3.7708,   -44.0350,       4219,  1701.1,   4.0659,  34.9923,2,-999.0000,9,   246.5,2,   0.085,2,   0.078,2
   06MT22_2,       AR4W,     486,          1,         11,         12,2,19921030,       0431,     3.7708,   -44.0350,       4219,  1801.3,   3.9943,  34.9994,2,-999.0000,9,   255.7,2,   0.153,2,   0.106,2
   06MT22_2,       AR4W,     486,          1,         10,         11,2,19921030,       0431,     3.7708,   -44.0350,       4219,  1901.7,   3.7410,  34.9917,2,-999.0000,9,   259.7,2,   0.118,2,   0.079,2
   06MT22_2,       AR4W,     486,          1,          9,         10,2,19921030,       0431,     3.7708,   -44.0350,       4219,  2003.3,   3.5496,  34.9810,2,-999.0000,9,   258.9,2,   0.105,2,   0.089,2
   06MT22_2,       AR4W,     486,          1,          8,          9,2,19921030,       0431,     3.7708,   -44.0350,       4219,  2300.7,   3.2441,  34.9655,2,  34.9620,2,   258.5,2,   0.053,2,   0.029,2
   06MT22_2,       AR4W,     486,          1,          7,          8,2,19921030,       0431,     3.7708,   -44.0350,       4219,  2702.2,   2.9074,  34.9463,2,-999.0000,9,   259.6,2,   0.062,2,   0.031,2
   06MT22_2,       AR4W,     486,          1,          6,          7,2,19921030,       0431,     3.7708,   -44.0350,       4219,  3004.0,   2.7837,  34.9357,2,-999.0000,9,   264.5,2,   0.062,2,   0.027,2
   06MT22_2,       AR4W,     486,          1,          5,          6,2,19921030,       0431,     3.7708,   -44.0350,       4219,  3689.8,   2.3557,  34.9059,2,  34.9050,2,   263.3,2,   0.100,2,   0.039,2
   06MT22_2,       AR4W,     486,          1,          4,          5,2,19921030,       0431,     3.7708,   -44.0350,       4219,  3903.4,   2.2708,  34.8975,2,-999.0000,9,   261.8,2,   0.090,2,   0.052,2
   06MT22_2,       AR4W,     486,          1,          3,          4,2,19921030,       0431,     3.7708,   -44.0350,       4219,  3999.9,   2.2488,  34.8946,2,  34.8930,2,   263.4,2,   0.086,2,   0.053,2
   06MT22_2,       AR4W,     486,          1,          2,          3,2,19921030,       0431,     3.7708,   -44.0350,       4219,  4108.3,   2.1853,  34.8872,2,-999.0000,9,   260.3,2,   0.085,2,   0.050,2
   06MT22_2,       AR4W,     486,          1,          1,          2,2,19921030,       0431,     3.7708,   -44.0350,       4219,  4225.0,   2.0136,  34.8642,2,  34.8630,2,   261.6,2,   0.089,2,   0.057,2