BOTTLE,20211029CCHSIORKP
EXPOCODE,SECT_ID,STNNBR,CASTNO,SAMPNO,BTLNBR,BTLNBR_FLAG_W,DATE,TIME,LATITUDE,LONGITUDE,DEPTH,CTDPRS,CTDTMP,CTDSAL,CTDSAL_FLAG_W,SALNTY,SALNTY_FLAG_W,OXYGEN,OXYGEN_FLAG_W,CFC-11,CFC-11_FLAG_W,CFC-12,CFC-12_FLAG_W
,,,,,,,,,,,METERS,DBAR,ITS-90,PSS-78,,PSS-78,,UMOL/KG,,PMOL/KG,,PMOL/KG,
   06MT22_2,       AR4W,     487,          1,         20,         21,2,19921030,       1025,     4.2293,   -44.0312,       4178,    11.0,  27.5616,  36.0540,2,  36.0520,2,   202.0,2,-999.000,9,-999.000,9
   06MT22_2,       AR4W,     487,          1,         19,         20,2,19921030,       1025,     4.2293,   -44.0312,       4178,   201.4,  16.1941,  35.8099,2,-999.0000,9,  -999.0,9,-999.000,9,-999.000,9
   06MT22_2,       AR4W,     487,          1,         18,         19,2,19921030,       1025,     4.2293,   -44.0312,       4178,   600.2,   6.4518,  34.6154,2,-999.0000,9,  -999.0,9,   0.075,2,   0.124,2
   06MT22_2,       AR4W,     487,          1,         17,         18,2,19921030,       1025,     4.2293,   -44.0312,       4178,   799.8,   4.9994,  34.5675,2,-999.0000,9,   142.0,2,   0.023,2,   0.011,2
   06MT22_2,       AR4W,     487,          1,         16,         17,2,19921030,       1025,     4.2293,   -44.0312,       4178,  1000.1,   4.7276,  34.6529,2,-999.0000,9,  -999.0,9,   0.009,2,   0.015,2
   06MT22_2,       AR4W,     487,          1,         15,         16,2,19921030,       1025,     4.2293,   -44.0312,       4178,  1200.8,   4.7295,  34.8466,2,-999.0000,9,   181.4,2,   0.022,2,   0.083,2
   06MT22_2,       AR4W,     487,          1,         14,         15,2,19921030,       1025,     4.2293,   -44.0312,       4178,  1399.3,   4.5875,  34.9371,2,-999.0000,9,  -999.0,9,   0.058,2,   0.038,2
   06MT22_2,       AR4W,     487,          1,         13,         14,2,19921030,       1025,     4.2293,   -44.0312,       4178,  1601.8,   4.2660,  34.9978,2,-999.0000,9,   243.5,2,-999.000,9,-999.000,9
   06MT22_2,       AR4W,     487,          1,         12,         13,2,19921030,       1025,     4.2293,   -44.0312,       4178,  1700.3,   4.0948,  34.9961,2,-999.0000,9,  -999.0,9,   0.101,2,   0.095,2
   06MT22_2,       AR4W,     487,          1,         11,         12,2,19921030,       1025,     4.2293,   -44.0312,       4178,  1800.8,   4.0252,  34.9954,2,-999.0000,9,   252.6,2,   0.100,2,   0.106,2
   06MT22_2,       AR4W,     487,          1,         10,         11,2,19921030,       1025,     4.2293,   -44.0312,       4178,  1900.4,   3.9283,  34.9986,2,-999.0000,9,  -999.0,9,   0.179,2,   0.121,2
   06MT22_2,       AR4W,     487,          1,          9,         10,2,19921030,       1025,     4.2293,   -44.0312,       4178,  2000.9,   3.7187,  34.9907,2,-999.0000,9,   262.5,2,   0.113,2,   0.065,2
   06MT22_2,       AR4W,     487,          1,          8,          9,2,19921030,       1025,     4.2293,   -44.0312,       4178,  2305.3,   3.2263,  34.9651,2,  34.9630,2,  -999.0,9,   0.055,2,   0.035,2
   06MT22_2,       AR4W,     487,          1,          7,          8,2,19921030,       1025,     4.2293,   -44.0312,       4178,  2702.1,   2.9587,  34.9492,2,-999.0000,9,   262.7,2,   0.079,2,   0.058,2
   06MT22_2,       AR4W,     487,          1,          6,          7,2,19921030,       1025,     4.2293,   -44.0312,       4178,  3003.5,   2.7592,  34.9328,2,-999.0000,9,  -999.0,9,   0.052,2,   0.049,2
   06MT22_2,       AR4W,     487,          1,          5,          6,2,19921030,       1025,     4.2293,   -44.0312,       4178,  3305.8,   2.5397,  34.9190,2,  34.9180,2,   262.9,2,-999.000,9,-999.000,9
   06MT22_2,       AR4W,     487,          1,          4,          5,2,19921030,       1025,     4.2293,   -44.0312,       4178,  3707.6,   2.3752,  34.9062,2,-999.0000,9,  -999.0,9,   0.079,2,   0.086,2
   06MT22_2,       AR4W,     487,          1,          3,          4,2,19921030,       1025,     4.2293,   -44.0312,       4178,  3907.7,   2.3132,  34.9000,2,  34.9000,2,   266.0,2,   0.071,2,   0.053,2
   06MT22_2,       AR4W,     487,          1,          2,          3,2,19921030,       1025,     4.2293,   -44.0312,       4178,  4007.7,   2.2936,  34.8975,2,-999.0000,9,  -999.0,9,   0.083,2,   0.057,2
   06MT22_2,       AR4W,     487,          1,          1,          2,2,19921030,       1025,     4.2293,   -44.0312,       4178,  4100.3,   2.1176,  34.8754,2,  34.8740,2,   266.1,2,   0.076,2,   0.050,2
   06MT22_2,       AR4W,     488,          1,          4,         17,2,19921030,       1804,     4.8482,   -44.0253,       3336,     9.8,  27.5974,  36.0405,2,  36.0390,2,  -999.0,9,-999.000,9,-999.000,9
   06MT22_2,       AR4W,     488,          1,          3,         11,2,19921030,       1804,     4.8482,   -44.0253,       3336,  1600.1,   4.3034,  34.9952,2,  34.9910,2,  -999.0,9,-999.000,9,-999.000,9
   06MT22_2,       AR4W,     488,          1,          2,          5,2,19921030,       1804,     4.8482,   -44.0253,       3336,  2745.8,   2.8913,  34.9440,2,  34.9400,2,  -999.0,9,-999.000,9,-999.000,9
   06MT22_2,       AR4W,     488,          1,          1,          1,2,19921030,       1804,     4.8482,   -44.0253,       3336,  3373.7,   2.4466,  34.9117,2,  34.9090,2,   263.8,2,-999.000,9,-999.000,9
   06MT22_2,       AR4W,     489,          1,         20,         21,2,19921031,       0110,     5.7072,   -44.0157,       4036,    11.4,  27.4736,  36.1262,2,  36.1260,2,   200.8,2,-999.000,9,-999.000,9
   06MT22_2,       AR4W,     489,          1,         19,         20,2,19921031,       0110,     5.7072,   -44.0157,       4036,   199.8,  17.0082,  35.8724,2,-999.0000,9,  -999.0,9,-999.000,9,-999.000,9
   06MT22_2,       AR4W,     489,          1,         18,         19,2,19921031,       0110,     5.7072,   -44.0157,       4036,   599.9,   6.6638,  34.6464,2,-999.0000,9,   121.7,2,   0.093,2,   0.065,2
   06MT22_2,       AR4W,     489,          1,         17,         18,2,19921031,       0110,     5.7072,   -44.0157,       4036,   999.1,   4.9398,  34.6823,2,-999.0000,9,   146.7,2,   0.019,2,   0.073,2
   06MT22_2,       AR4W,     489,          1,         16,         17,2,19921031,       0110,     5.7072,   -44.0157,       4036,  1200.2,   4.7914,  34.8581,2,-999.0000,9,   179.3,2,   0.030,2,   0.028,2
   06MT22_2,       AR4W,     489,          1,         15,         16,2,19921031,       0110,     5.7072,   -44.0157,       4036,  1399.7,   4.4931,  34.9687,2,-999.0000,9,   221.9,2,   0.053,2,   0.037,2
   06MT22_2,       AR4W,     489,          1,         14,         15,2,19921031,       0110,     5.7072,   -44.0157,       4036,  1600.3,   4.1520,  34.9972,2,-999.0000,9,  -999.0,9,-999.000,9,-999.000,9
   06MT22_2,       AR4W,     489,          1,         13,         14,2,19921031,       0110,     5.7072,   -44.0157,       4036,  1700.3,   3.9462,  34.9891,2,-999.0000,9,   251.8,2,   0.071,2,   0.063,2
   06MT22_2,       AR4W,     489,          1,         12,         13,2,19921031,       0110,     5.7072,   -44.0157,       4036,  1800.7,   3.7629,  34.9864,2,  34.9830,2,   256.6,2,   0.060,2,   0.046,2
   06MT22_2,       AR4W,     489,          1,         11,         12,2,19921031,       0110,     5.7072,   -44.0157,       4036,  1900.5,   3.6096,  34.9812,2,-999.0000,9,   257.9,2,   0.047,2,   0.039,2
   06MT22_2,       AR4W,     489,          1,         10,         11,2,19921031,       0110,     5.7072,   -44.0157,       4036,  2001.3,   3.4915,  34.9751,2,-999.0000,9,   257.6,2,   0.038,2,   0.041,2
   06MT22_2,       AR4W,     489,          1,          9,         10,2,19921031,       0110,     5.7072,   -44.0157,       4036,  2301.4,   3.1389,  34.9571,2,-999.0000,9,  -999.0,9,   0.021,2,   0.024,2
   06MT22_2,       AR4W,     489,          1,          8,          9,2,19921031,       0110,     5.7072,   -44.0157,       4036,  2705.4,   2.8632,  34.9403,2,  34.9370,2,  -999.0,9,   0.034,2,   0.028,2
   06MT22_2,       AR4W,     489,          1,          7,          8,2,19921031,       0110,     5.7072,   -44.0157,       4036,  3004.0,   2.7541,  34.9321,2,-999.0000,9,  -999.0,9,-999.000,9,-999.000,9
   06MT22_2,       AR4W,     489,          1,          6,          7,2,19921031,       0110,     5.7072,   -44.0157,       4036,  3305.3,   2.6025,  34.9216,2,-999.0000,9,   262.2,2,   0.087,2,   0.039,2
   06MT22_2,       AR4W,     489,          1,          5,          6,2,19921031,       0110,     5.7072,   -44.0157,       4036,  3706.0,   2.2907,  34.9006,2,  34.8990,2,   266.9,2,   0.096,2,   0.073,2
   06MT22_2,       AR4W,     489,          1,          4,          4,2,19921031,       0110,     5.7072,   -44.0157,       4036,  3806.1,   2.2705,  34.8979,2,  34.8970,2,   266.8,2,   0.111,2,   0.081,2
   06MT22_2,       AR4W,     489,          1,          3,          3,2,19921031,       0110,     5.7072,   -44.0157,       4036,  3907.8,   2.2594,  34.8958,2,-999.0000,9,  -999.0,9,   0.115,2,   0.067,2
   06MT22_2,       AR4W,     489,          1,          2,          2,2,19921031,       0110,     5.7072,   -44.0157,       4036,  4023.9,   2.2443,  34.8932,2,-999.0000,9,   266.9,2,   0.119,2,   0.079,2
   06MT22_2,       AR4W,     489,          1,          1,          1,2,19921031,       0110,     5.7072,   -44.0157,       4036,  4053.7,   2.2452,  34.8931,2,  34.8950,2,   265.1,2,-999.000,9,-999.000,9
   06MT22_2,       AR4W,     490,          1,         21,         21,2,19921031,       0637,     6.0763,   -44.0052,       4156,    10.4,  27.3872,  36.2466,2,  36.2480,2,  -999.0,9,-999.000,9,-999.000,9
   06MT22_2,       AR4W,     490,          1,         20,         20,2,19921031,       0637,     6.0763,   -44.0052,       4156,   203.0,  13.7731,  35.6010,2,-999.0000,9,   121.8,2,-999.000,9,-999.000,9
   06MT22_2,       AR4W,     490,          1,         19,         19,2,19921031,       0637,     6.0763,   -44.0052,       4156,   599.1,   6.3018,  34.6021,2,-999.0000,9,   132.3,2,   0.116,2,   0.077,2
   06MT22_2,       AR4W,     490,          1,         18,         18,2,19921031,       0637,     6.0763,   -44.0052,       4156,  1000.0,   4.9099,  34.7105,2,-999.0000,9,   152.2,2,   0.035,2,   0.026,2
   06MT22_2,       AR4W,     490,          1,         17,         17,2,19921031,       0637,     6.0763,   -44.0052,       4156,  1199.9,   4.8053,  34.8559,2,-999.0000,9,   179.3,2,   0.021,2,   0.033,2
   06MT22_2,       AR4W,     490,          1,         16,         16,2,19921031,       0637,     6.0763,   -44.0052,       4156,  1400.2,   4.6178,  34.9823,2,-999.0000,9,   222.8,2,-999.000,9,   0.070,2
   06MT22_2,       AR4W,     490,          1,         15,         15,2,19921031,       0637,     6.0763,   -44.0052,       4156,  1599.4,   4.1394,  34.9966,2,-999.0000,9,   246.9,2,   0.141,2,   0.070,2
   06MT22_2,       AR4W,     490,          1,         14,         14,2,19921031,       0637,     6.0763,   -44.0052,       4156,  1700.4,   3.9514,  34.9906,2,-999.0000,9,   252.6,2,   0.091,2,   0.063,2
   06MT22_2,       AR4W,     490,          1,         13,         13,2,19921031,       0637,     6.0763,   -44.0052,       4156,  1801.0,   3.7894,  34.9880,2,  34.9860,2,   257.7,2,   0.094,2,   0.062,2
   06MT22_2,       AR4W,     490,          1,         12,         12,2,19921031,       0637,     6.0763,   -44.0052,       4156,  1900.8,   3.6419,  34.9802,2,-999.0000,9,   258.4,2,   0.049,2,   0.047,2
   06MT22_2,       AR4W,     490,          1,         11,         11,2,19921031,       0637,     6.0763,   -44.0052,       4156,  2000.9,   3.5029,  34.9766,2,-999.0000,9,  -999.0,9,   0.066,2,   0.044,2
   06MT22_2,       AR4W,     490,          1,         10,         10,2,19921031,       0637,     6.0763,   -44.0052,       4156,  2300.4,   3.1821,  34.9586,2,-999.0000,9,  -999.0,9,   0.025,2,   0.022,2
   06MT22_2,       AR4W,     490,          1,          9,          9,2,19921031,       0637,     6.0763,   -44.0052,       4156,  2712.4,   2.9113,  34.9418,2,  34.9400,2,  -999.0,9,-999.000,9,-999.000,9
   06MT22_2,       AR4W,     490,          1,          8,          8,2,19921031,       0637,     6.0763,   -44.0052,       4156,  3005.6,   2.7545,  34.9296,2,-999.0000,9,   260.0,2,   0.046,2,   0.036,2
   06MT22_2,       AR4W,     490,          1,          7,          7,2,19921031,       0637,     6.0763,   -44.0052,       4156,  3305.5,   2.6385,  34.9224,2,-999.0000,9,  -999.0,9,   0.078,2,   0.064,2
   06MT22_2,       AR4W,     490,          1,          6,          6,2,19921031,       0637,     6.0763,   -44.0052,       4156,  3710.3,   2.3382,  34.9020,2,  34.9020,2,   265.5,2,   0.078,2,   0.053,2
   06MT22_2,       AR4W,     490,          1,          5,          5,2,19921031,       0637,     6.0763,   -44.0052,       4156,  3807.1,   2.2887,  34.8979,2,-999.0000,9,   267.4,2,   0.097,2,   0.073,2
   06MT22_2,       AR4W,     490,          1,          4,          4,2,19921031,       0637,     6.0763,   -44.0052,       4156,  3915.0,   2.2288,  34.8923,2,  34.8920,2,  -999.0,9,   0.091,2,   0.052,2
   06MT22_2,       AR4W,     490,          1,          3,          3,2,19921031,       0637,     6.0763,   -44.0052,       4156,  4009.5,   2.1648,  34.8836,2,-999.0000,9,  -999.0,9,   0.105,2,   0.101,2
   06MT22_2,       AR4W,     490,          1,          2,          2,2,19921031,       0637,     6.0763,   -44.0052,       4156,  4115.1,   2.1558,  34.8811,2,-999.0000,9,  -999.0,9,   0.096,2,   0.057,2
   06MT22_2,       AR4W,     490,          1,          1,          1,2,19921031,       0637,     6.0763,   -44.0052,       4156,  4232.3,   2.1296,  34.8759,2,-999.0000,9,  -999.0,9,   0.060,2,   0.040,2
   06MT22_2,       AR4W,     491,          1,         19,         21,2,19921031,       1348,     6.6525,   -44.0048,       4654,    10.5,  27.4762,  36.3472,2,  36.3480,2,  -999.0,9,-999.000,9,-999.000,9
   06MT22_2,       AR4W,     491,          1,         18,         20,2,19921031,       1348,     6.6525,   -44.0048,       4654,   201.5,  10.9338,  35.0852,2,-999.0000,9,   131.0,2,-999.000,9,-999.000,9
   06MT22_2,       AR4W,     491,          1,         17,         19,2,19921031,       1348,     6.6525,   -44.0048,       4654,   600.2,   6.1624,  34.5885,2,-999.0000,9,   136.4,2,-999.000,9,   0.067,2
   06MT22_2,       AR4W,     491,          1,         16,         18,2,19921031,       1348,     6.6525,   -44.0048,       4654,   799.8,   5.1816,  34.5546,2,-999.0000,9,   145.7,2,   0.061,2,   0.032,2
   06MT22_2,       AR4W,     491,          1,         15,         17,2,19921031,       1348,     6.6525,   -44.0048,       4654,   998.2,   4.9620,  34.6975,2,-999.0000,9,   148.4,2,   0.012,2,   0.001,2
   06MT22_2,       AR4W,     491,          1,         14,         16,2,19921031,       1348,     6.6525,   -44.0048,       4654,  1198.7,   4.9028,  34.8794,2,-999.0000,9,   184.0,2,   0.040,2,   0.022,2
   06MT22_2,       AR4W,     491,          1,         13,         15,2,19921031,       1348,     6.6525,   -44.0048,       4654,  1407.8,   4.6386,  34.9901,2,-999.0000,9,   228.7,2,   0.138,2,   0.066,2
   06MT22_2,       AR4W,     491,          1,         12,         14,2,19921031,       1348,     6.6525,   -44.0048,       4654,  1596.9,   4.1245,  34.9914,2,-999.0000,9,   249.6,2,   0.080,2,   0.055,2
   06MT22_2,       AR4W,     491,          1,         11,         13,2,19921031,       1348,     6.6525,   -44.0048,       4654,  1700.7,   3.9201,  34.9858,2,-999.0000,9,  -999.0,9,   0.053,2,   0.038,2
   06MT22_2,       AR4W,     491,          1,         10,         12,2,19921031,       1348,     6.6525,   -44.0048,       4654,  1799.3,   3.7861,  34.9818,2,-999.0000,9,  -999.0,9,   0.039,2,   0.032,2
   06MT22_2,       AR4W,     491,          1,          9,         11,2,19921031,       1348,     6.6525,   -44.0048,       4654,  2006.3,   3.5488,  34.9768,2,-999.0000,9,  -999.0,9,   0.045,2,   0.027,2
   06MT22_2,       AR4W,     491,          1,          8,         10,2,19921031,       1348,     6.6525,   -44.0048,       4654,  2501.1,   3.0452,  34.9507,2,  34.9490,2,  -999.0,9,   0.027,2,   0.020,2
   06MT22_2,       AR4W,     491,          1,          7,          9,2,19921031,       1348,     6.6525,   -44.0048,       4654,  3007.4,   2.8094,  34.9362,2,-999.0000,9,  -999.0,9,   0.052,2,   0.027,2
   06MT22_2,       AR4W,     491,          1,          6,          8,2,19921031,       1348,     6.6525,   -44.0048,       4654,  3611.0,   2.4272,  34.9082,2,  34.9070,2,  -999.0,9,   0.090,2,   0.040,2
   06MT22_2,       AR4W,     491,          1,          5,          7,2,19921031,       1348,     6.6525,   -44.0048,       4654,  3808.0,   2.3457,  34.9018,2,-999.0000,9,   252.9,2,   0.085,2,   0.042,2
   06MT22_2,       AR4W,     491,          1,          4,          6,2,19921031,       1348,     6.6525,   -44.0048,       4654,  3911.1,   2.3047,  34.8990,2,  34.8980,2,  -999.0,9,   0.076,2,   0.049,2
   06MT22_2,       AR4W,     491,          1,          3,          5,2,19921031,       1348,     6.6525,   -44.0048,       4654,  4108.6,   2.2387,  34.8901,2,-999.0000,9,  -999.0,9,   0.074,2,   0.053,2
   06MT22_2,       AR4W,     491,          1,          2,          3,2,19921031,       1348,     6.6525,   -44.0048,       4654,  4414.0,   1.9127,  34.8472,2,-999.0000,9,  -999.0,9,   0.028,2,   0.020,2
   06MT22_2,       AR4W,     491,          1,          1,          2,2,19921031,       1348,     6.6525,   -44.0048,       4654,  4680.8,   1.5474,  34.8008,2,  34.8010,2,  -999.0,9,   0.037,2,   0.024,2