BOTTLE,20211029CCHSIORKP
EXPOCODE,SECT_ID,STNNBR,CASTNO,SAMPNO,BTLNBR,BTLNBR_FLAG_W,DATE,TIME,LATITUDE,LONGITUDE,DEPTH,CTDPRS,CTDTMP,CTDSAL,CTDSAL_FLAG_W,SALNTY,SALNTY_FLAG_W,OXYGEN,OXYGEN_FLAG_W,CFC-11,CFC-11_FLAG_W,CFC-12,CFC-12_FLAG_W
,,,,,,,,,,,METERS,DBAR,ITS-90,PSS-78,,PSS-78,,UMOL/KG,,PMOL/KG,,PMOL/KG,
   06MT22_2,       AR15,     531,          1,         19,         20,2,19921113,       1454,    -9.9872,   -33.1662,       4841,    11.1,  26.4321,  36.5853,2,  36.5820,2,   207.6,2,-999.000,9,-999.000,9
   06MT22_2,       AR15,     531,          1,         18,         18,2,19921113,       1454,    -9.9872,   -33.1662,       4841,  1202.0,   4.2743,  34.7778,2,-999.0000,9,  -999.0,9,   0.033,2,-999.000,9
   06MT22_2,       AR15,     531,          1,         17,         17,2,19921113,       1454,    -9.9872,   -33.1662,       4841,  1601.4,   4.0746,  34.9761,2,  34.9720,2,  -999.0,9,-999.000,9,-999.000,9
   06MT22_2,       AR15,     531,          1,         16,         16,2,19921113,       1454,    -9.9872,   -33.1662,       4841,  1700.7,   3.8977,  34.9781,2,  34.9750,2,   242.0,2,   0.053,2,-999.000,9
   06MT22_2,       AR15,     531,          1,         15,         15,2,19921113,       1454,    -9.9872,   -33.1662,       4841,  1800.5,   3.8075,  34.9804,2,-999.0000,9,   251.7,2,   0.056,2,-999.000,9
   06MT22_2,       AR15,     531,          1,         14,         14,2,19921113,       1454,    -9.9872,   -33.1662,       4841,  1871.5,   3.7237,  34.9782,2,  34.9770,2,   250.1,2,   0.052,2,-999.000,9
   06MT22_2,       AR15,     531,          1,         13,         13,2,19921113,       1454,    -9.9872,   -33.1662,       4841,  2001.9,   3.6021,  34.9757,2,-999.0000,9,   252.3,2,   0.045,2,-999.000,9
   06MT22_2,       AR15,     531,          1,         12,         12,2,19921113,       1454,    -9.9872,   -33.1662,       4841,  2301.7,   3.2613,  34.9540,2,  34.9520,2,  -999.0,9,   0.040,2,-999.000,9
   06MT22_2,       AR15,     531,          1,         11,         11,2,19921113,       1454,    -9.9872,   -33.1662,       4841,  2703.4,   3.0132,  34.9437,2,  34.9420,2,   256.2,2,   0.021,2,-999.000,9
   06MT22_2,       AR15,     531,          1,         10,         10,2,19921113,       1454,    -9.9872,   -33.1662,       4841,  3004.6,   2.8404,  34.9329,2,  34.9300,2,  -999.0,9,   0.029,2,-999.000,9
   06MT22_2,       AR15,     531,          1,          9,          9,2,19921113,       1454,    -9.9872,   -33.1662,       4841,  3507.2,   2.5854,  34.9165,2,  34.9150,2,   258.6,2,   0.024,2,-999.000,9
   06MT22_2,       AR15,     531,          1,          8,          8,2,19921113,       1454,    -9.9872,   -33.1662,       4841,  3707.8,   2.4084,  34.9007,2,  34.8990,2,   261.7,2,   0.019,2,-999.000,9
   06MT22_2,       AR15,     531,          1,          7,          7,2,19921113,       1454,    -9.9872,   -33.1662,       4841,  3808.6,   2.2384,  34.8842,2,  34.8840,2,  -999.0,9,   0.028,2,-999.000,9
   06MT22_2,       AR15,     531,          1,          6,          6,2,19921113,       1454,    -9.9872,   -33.1662,       4841,  3906.4,   2.0859,  34.8680,2,  34.8640,2,  -999.0,9,   0.016,2,-999.000,9
   06MT22_2,       AR15,     531,          1,          5,          5,2,19921113,       1454,    -9.9872,   -33.1662,       4841,  4009.8,   1.8946,  34.8465,2,  34.8440,2,  -999.0,9,   0.010,2,-999.000,9
   06MT22_2,       AR15,     531,          1,          4,          4,2,19921113,       1454,    -9.9872,   -33.1662,       4841,  4210.4,   1.4733,  34.7982,2,-999.0000,9,  -999.0,9,   0.004,2,-999.000,9
   06MT22_2,       AR15,     531,          1,          3,          3,2,19921113,       1454,    -9.9872,   -33.1662,       4841,  4410.9,   0.9754,  34.7446,2,-999.0000,9,  -999.0,9,   0.023,2,-999.000,9
   06MT22_2,       AR15,     531,          1,          2,          2,2,19921113,       1454,    -9.9872,   -33.1662,       4841,  4612.2,   0.7637,  34.7216,2,-999.0000,9,  -999.0,9,   0.028,2,-999.000,9
   06MT22_2,       AR15,     531,          1,          1,          1,2,19921113,       1454,    -9.9872,   -33.1662,       4841,  4876.0,   0.6388,  34.7053,2,-999.0000,9,  -999.0,9,-999.000,9,-999.000,9
   06MT22_2,       AR15,     532,          1,         19,         21,2,19921113,       2222,    -9.9947,   -33.8360,       4702,    10.7,  26.4038,  36.5431,2,  36.5410,2,  -999.0,9,   0.000,2,   0.000,2
   06MT22_2,       AR15,     532,          1,         18,         20,2,19921113,       2222,    -9.9947,   -33.8360,       4702,  1200.4,   4.1786,  34.7518,2,-999.0000,9,  -999.0,9,   0.023,2,-999.000,9
   06MT22_2,       AR15,     532,          1,         17,         19,2,19921113,       2222,    -9.9947,   -33.8360,       4702,  1399.9,   4.3462,  34.9058,2,-999.0000,9,  -999.0,9,   0.028,2,-999.000,9
   06MT22_2,       AR15,     532,          1,         16,         18,2,19921113,       2222,    -9.9947,   -33.8360,       4702,  1599.3,   4.0487,  34.9643,2,-999.0000,9,  -999.0,9,   0.047,2,-999.000,9
   06MT22_2,       AR15,     532,          1,         15,         17,2,19921113,       2222,    -9.9947,   -33.8360,       4702,  1700.3,   3.9263,  34.9733,2,-999.0000,9,  -999.0,9,   0.050,2,-999.000,9
   06MT22_2,       AR15,     532,          1,         14,         16,2,19921113,       2222,    -9.9947,   -33.8360,       4702,  1801.1,   3.8246,  34.9755,2,  34.9730,2,  -999.0,9,   0.049,2,-999.000,9
   06MT22_2,       AR15,     532,          1,         13,         15,2,19921113,       2222,    -9.9947,   -33.8360,       4702,  1900.3,   3.7328,  34.9781,2,-999.0000,9,  -999.0,9,   0.048,2,-999.000,9
   06MT22_2,       AR15,     532,          1,         12,         14,2,19921113,       2222,    -9.9947,   -33.8360,       4702,  1999.7,   3.6338,  34.9755,2,  34.9730,2,  -999.0,9,   0.041,2,-999.000,9
   06MT22_2,       AR15,     532,          1,         11,         13,2,19921113,       2222,    -9.9947,   -33.8360,       4702,  2502.4,   3.1118,  34.9476,2,  34.9440,2,  -999.0,9,   0.019,2,-999.000,9
   06MT22_2,       AR15,     532,          1,         10,         12,2,19921113,       2222,    -9.9947,   -33.8360,       4702,  3003.8,   2.8172,  34.9306,2,  34.9260,2,  -999.0,9,-999.000,9,-999.000,9
   06MT22_2,       AR15,     532,          1,          9,         11,2,19921113,       2222,    -9.9947,   -33.8360,       4702,  3305.6,   2.6956,  34.9236,2,-999.0000,9,  -999.0,9,   0.014,2,-999.000,9
   06MT22_2,       AR15,     532,          1,          8,         10,2,19921113,       2222,    -9.9947,   -33.8360,       4702,  3505.3,   2.6024,  34.9171,2,  34.9150,2,  -999.0,9,   0.021,2,-999.000,9
   06MT22_2,       AR15,     532,          1,          7,          9,2,19921113,       2222,    -9.9947,   -33.8360,       4702,  3706.9,   2.4258,  34.9033,2,  34.9010,2,  -999.0,9,   0.025,2,-999.000,9
   06MT22_2,       AR15,     532,          1,          6,          8,2,19921113,       2222,    -9.9947,   -33.8360,       4702,  3807.2,   2.2830,  34.8883,2,  34.8850,2,  -999.0,9,   0.013,2,-999.000,9
   06MT22_2,       AR15,     532,          1,          5,          7,2,19921113,       2222,    -9.9947,   -33.8360,       4702,  3907.5,   2.0999,  34.8705,2,  34.8680,2,  -999.0,9,-999.000,9,-999.000,9
   06MT22_2,       AR15,     532,          1,          4,          6,2,19921113,       2222,    -9.9947,   -33.8360,       4702,  4108.7,   1.7086,  34.8247,2,  34.8230,2,  -999.0,9,   0.001,2,-999.000,9
   06MT22_2,       AR15,     532,          1,          3,          5,2,19921113,       2222,    -9.9947,   -33.8360,       4702,  4309.6,   1.1548,  34.7634,2,-999.0000,9,  -999.0,9,   0.020,2,-999.000,9
   06MT22_2,       AR15,     532,          1,          2,          3,2,19921113,       2222,    -9.9947,   -33.8360,       4702,  4509.6,   0.7170,  34.7184,2,-999.0000,9,  -999.0,9,   0.034,2,-999.000,9
   06MT22_2,       AR15,     532,          1,          1,          1,2,19921113,       2222,    -9.9947,   -33.8360,       4702,  4729.3,   0.6172,  34.7057,2,-999.0000,9,  -999.0,9,   0.041,2,-999.000,9
   06MT22_2,       AR15,     533,          1,          6,         21,2,19921114,       0408,    -9.9935,   -34.2563,       4206,    10.3,  26.3232,  36.7562,2,-999.0000,9,  -999.0,9,-999.000,9,-999.000,9
   06MT22_2,       AR15,     533,          1,          5,         18,2,19921114,       0408,    -9.9935,   -34.2563,       4206,  1801.2,   3.8376,  34.9803,2,  34.9780,2,   252.0,2,-999.000,9,-999.000,9
   06MT22_2,       AR15,     533,          1,          4,         14,2,19921114,       0408,    -9.9935,   -34.2563,       4206,  2001.7,   3.6130,  34.9730,2,  34.9700,2,   255.2,2,-999.000,9,-999.000,9
   06MT22_2,       AR15,     533,          1,          3,          8,2,19921114,       0408,    -9.9935,   -34.2563,       4206,  2703.8,   2.9393,  34.9368,2,  34.9350,2,   256.0,2,-999.000,9,-999.000,9
   06MT22_2,       AR15,     533,          1,          2,          3,2,19921114,       0408,    -9.9935,   -34.2563,       4206,  3004.1,   2.7948,  34.9292,2,  34.9260,2,   256.1,2,-999.000,9,-999.000,9
   06MT22_2,       AR15,     533,          1,          1,          1,2,19921114,       0408,    -9.9935,   -34.2563,       4206,  4301.9,   0.9072,  34.7387,2,-999.0000,9,  -999.0,9,-999.000,9,-999.000,9
   06MT22_2,       AR15,     534,          1,         17,         21,2,19921114,       0825,    -9.9928,   -34.5008,       3217,     9.9,  26.3429,  36.9702,2,  36.9680,2,  -999.0,9,   0.000,2,   0.000,2
   06MT22_2,       AR15,     534,          1,         16,         19,2,19921114,       0825,    -9.9928,   -34.5008,       3217,   600.0,   5.4318,  34.4753,2,-999.0000,9,  -999.0,9,   0.194,2,-999.000,9
   06MT22_2,       AR15,     534,          1,         15,         18,2,19921114,       0825,    -9.9928,   -34.5008,       3217,   799.8,   4.1641,  34.4373,2,-999.0000,9,  -999.0,9,   0.124,2,-999.000,9
   06MT22_2,       AR15,     534,          1,         14,         17,2,19921114,       0825,    -9.9928,   -34.5008,       3217,   999.3,   4.0065,  34.5855,2,-999.0000,9,  -999.0,9,   0.013,2,-999.000,9
   06MT22_2,       AR15,     534,          1,         13,         16,2,19921114,       0825,    -9.9928,   -34.5008,       3217,  1200.1,   4.1416,  34.7366,2,-999.0000,9,  -999.0,9,   0.007,2,-999.000,9
   06MT22_2,       AR15,     534,          1,         12,         15,2,19921114,       0825,    -9.9928,   -34.5008,       3217,  1399.5,   4.2073,  34.8514,2,-999.0000,9,  -999.0,9,   0.019,2,-999.000,9
   06MT22_2,       AR15,     534,          1,         11,         14,2,19921114,       0825,    -9.9928,   -34.5008,       3217,  1499.9,   4.2136,  34.9154,2,-999.0000,9,  -999.0,9,   0.028,2,-999.000,9
   06MT22_2,       AR15,     534,          1,         10,         13,2,19921114,       0825,    -9.9928,   -34.5008,       3217,  1600.1,   4.1534,  34.9533,2,-999.0000,9,  -999.0,9,   0.038,2,-999.000,9
   06MT22_2,       AR15,     534,          1,          9,         12,2,19921114,       0825,    -9.9928,   -34.5008,       3217,  1700.1,   4.0577,  34.9667,2,-999.0000,9,  -999.0,9,   0.043,2,-999.000,9
   06MT22_2,       AR15,     534,          1,          8,         11,2,19921114,       0825,    -9.9928,   -34.5008,       3217,  1800.6,   3.9192,  34.9729,2,-999.0000,9,  -999.0,9,   0.047,2,-999.000,9
   06MT22_2,       AR15,     534,          1,          7,         10,2,19921114,       0825,    -9.9928,   -34.5008,       3217,  1900.5,   3.8273,  34.9760,2,-999.0000,9,  -999.0,9,   0.044,2,-999.000,9
   06MT22_2,       AR15,     534,          1,          6,          9,2,19921114,       0825,    -9.9928,   -34.5008,       3217,  2001.2,   3.7296,  34.9757,2,-999.0000,9,  -999.0,9,   0.048,2,-999.000,9
   06MT22_2,       AR15,     534,          1,          5,          8,2,19921114,       0825,    -9.9928,   -34.5008,       3217,  2201.4,   3.2856,  34.9595,2,  34.9580,2,  -999.0,9,   0.033,2,-999.000,9
   06MT22_2,       AR15,     534,          1,          4,          7,2,19921114,       0825,    -9.9928,   -34.5008,       3217,  2402.1,   2.9726,  34.9425,2,-999.0000,9,  -999.0,9,-999.000,9,-999.000,9
   06MT22_2,       AR15,     534,          1,          3,          6,2,19921114,       0825,    -9.9928,   -34.5008,       3217,  2803.5,   2.7577,  34.9286,2,  34.9260,2,  -999.0,9,   0.016,2,-999.000,9
   06MT22_2,       AR15,     534,          1,          2,          5,2,19921114,       0825,    -9.9928,   -34.5008,       3217,  3003.8,   2.7284,  34.9260,2,-999.0000,9,  -999.0,9,   0.016,2,-999.000,9
   06MT22_2,       AR15,     534,          1,          1,          4,2,19921114,       0825,    -9.9928,   -34.5008,       3217,  3206.9,   2.6346,  34.9199,2,-999.0000,9,  -999.0,9,   0.015,2,-999.000,9
   06MT22_2,       AR15,     536,          1,         14,         21,2,19921114,       1650,    -9.9930,   -35.0825,       3375,    11.7,  26.2890,  36.9431,2,-999.0000,9,  -999.0,9,-999.000,9,-999.000,9
   06MT22_2,       AR15,     536,          1,         13,         14,2,19921114,       1650,    -9.9930,   -35.0825,       3375,  1000.1,   4.0271,  34.5176,2,-999.0000,9,   172.0,2,   0.024,2,-999.000,9
   06MT22_2,       AR15,     536,          1,         12,         13,2,19921114,       1650,    -9.9930,   -35.0825,       3375,  1200.1,   3.9502,  34.6490,2,-999.0000,9,   184.1,2,   0.013,2,-999.000,9
   06MT22_2,       AR15,     536,          1,         11,         12,2,19921114,       1650,    -9.9930,   -35.0825,       3375,  1400.6,   4.3148,  34.8750,2,-999.0000,9,   206.9,2,   0.024,2,-999.000,9
   06MT22_2,       AR15,     536,          1,         10,         11,2,19921114,       1650,    -9.9930,   -35.0825,       3375,  1601.7,   4.1632,  34.9644,2,-999.0000,9,  -999.0,9,-999.000,9,-999.000,9
   06MT22_2,       AR15,     536,          1,          9,         10,2,19921114,       1650,    -9.9930,   -35.0825,       3375,  1801.6,   3.8318,  34.9723,2,-999.0000,9,   251.5,2,   0.026,2,-999.000,9
   06MT22_2,       AR15,     536,          1,          8,          9,2,19921114,       1650,    -9.9930,   -35.0825,       3375,  1900.3,   3.7755,  34.9781,2,-999.0000,9,   256.4,2,   0.048,2,-999.000,9
   06MT22_2,       AR15,     536,          1,          7,          8,2,19921114,       1650,    -9.9930,   -35.0825,       3375,  2000.3,   3.6940,  34.9775,2,-999.0000,9,   257.5,2,   0.048,2,-999.000,9
   06MT22_2,       AR15,     536,          1,          6,          7,2,19921114,       1650,    -9.9930,   -35.0825,       3375,  2301.9,   3.1731,  34.9532,2,-999.0000,9,   258.5,2,   0.024,2,-999.000,9
   06MT22_2,       AR15,     536,          1,          5,          6,2,19921114,       1650,    -9.9930,   -35.0825,       3375,  2703.2,   2.8134,  34.9325,2,-999.0000,9,   260.0,2,   0.015,2,-999.000,9
   06MT22_2,       AR15,     536,          1,          4,          5,2,19921114,       1650,    -9.9930,   -35.0825,       3375,  2903.8,   2.7047,  34.9253,2,-999.0000,9,   259.7,2,   0.018,2,-999.000,9
   06MT22_2,       AR15,     536,          1,          3,          4,2,19921114,       1650,    -9.9930,   -35.0825,       3375,  3105.1,   2.5785,  34.9164,2,-999.0000,9,  -999.0,9,   0.013,2,-999.000,9
   06MT22_2,       AR15,     536,          1,          2,          3,2,19921114,       1650,    -9.9930,   -35.0825,       3375,  3205.3,   2.5423,  34.9125,2,-999.0000,9,   262.2,2,   0.016,2,-999.000,9
   06MT22_2,       AR15,     536,          1,          1,          1,2,19921114,       1650,    -9.9930,   -35.0825,       3375,  3363.1,   2.4901,  34.9066,2,-999.0000,9,   261.8,2,   0.015,2,-999.000,9
   06MT22_2,       AR15,     537,          1,          8,         21,2,19921114,       2021,    -9.9868,   -35.2393,       2315,     9.3,  26.1773,  37.0219,2,-999.0000,9,   209.6,2,-999.000,9,-999.000,9
   06MT22_2,       AR15,     537,          1,          7,          8,2,19921114,       2021,    -9.9868,   -35.2393,       2315,  1097.1,   3.9967,  34.5715,2,-999.0000,9,   174.0,2,   0.017,2,-999.000,9
   06MT22_2,       AR15,     537,          1,          6,          7,2,19921114,       2021,    -9.9868,   -35.2393,       2315,  1299.8,   4.1108,  34.7339,2,-999.0000,9,  -999.0,9,-999.000,9,-999.000,9
   06MT22_2,       AR15,     537,          1,          5,          6,2,19921114,       2021,    -9.9868,   -35.2393,       2315,  1500.5,   4.3179,  34.9185,2,-999.0000,9,   219.1,2,   0.034,2,-999.000,9
   06MT22_2,       AR15,     537,          1,          4,          5,2,19921114,       2021,    -9.9868,   -35.2393,       2315,  1700.8,   4.1256,  34.9708,2,-999.0000,9,   240.3,2,   0.049,2,-999.000,9
   06MT22_2,       AR15,     537,          1,          3,          4,2,19921114,       2021,    -9.9868,   -35.2393,       2315,  1899.8,   3.6626,  34.9785,2,-999.0000,9,   254.2,2,   0.056,2,-999.000,9
   06MT22_2,       AR15,     537,          1,          2,          3,2,19921114,       2021,    -9.9868,   -35.2393,       2315,  2101.9,   3.4223,  34.9650,2,-999.0000,9,   257.8,2,   0.034,2,-999.000,9
   06MT22_2,       AR15,     537,          1,          1,          1,2,19921114,       2021,    -9.9868,   -35.2393,       2315,  2314.2,   3.1279,  34.9511,2,-999.0000,9,   256.4,2,   0.026,2,-999.000,9