BOTTLE,20211029CCHSIORKP
EXPOCODE,SECT_ID,STNNBR,CASTNO,SAMPNO,BTLNBR,BTLNBR_FLAG_W,DATE,TIME,LATITUDE,LONGITUDE,DEPTH,CTDPRS,CTDTMP,CTDSAL,CTDSAL_FLAG_W,SALNTY,SALNTY_FLAG_W,OXYGEN,OXYGEN_FLAG_W,CFC-11,CFC-11_FLAG_W,CFC-12,CFC-12_FLAG_W
,,,,,,,,,,,METERS,DBAR,ITS-90,PSS-78,,PSS-78,,UMOL/KG,,PMOL/KG,,PMOL/KG,
   06MT22_2,       AR4E,     504,          1,         18,         21,2,19921106,       0650,    -3.1570,   -34.8788,       3819,    12.8,  26.3085,  36.4728,2,-999.0000,9,  -999.0,9,-999.000,9,-999.000,9
   06MT22_2,       AR4E,     504,          1,         17,         20,2,19921106,       0650,    -3.1570,   -34.8788,       3819,   799.4,   4.3517,  34.4820,2,-999.0000,9,   171.0,2,-999.000,9,-999.000,9
   06MT22_2,       AR4E,     504,          1,         16,         19,2,19921106,       0650,    -3.1570,   -34.8788,       3819,   999.5,   4.3141,  34.6050,2,-999.0000,9,  -999.0,9,   0.032,2,   0.017,2
   06MT22_2,       AR4E,     504,          1,         15,         18,2,19921106,       0650,    -3.1570,   -34.8788,       3819,  1199.3,   4.4394,  34.7626,2,-999.0000,9,   182.6,2,   0.022,2,-999.000,9
   06MT22_2,       AR4E,     504,          1,         14,         17,2,19921106,       0650,    -3.1570,   -34.8788,       3819,  1400.5,   4.4941,  34.9159,2,-999.0000,9,   211.5,2,   0.071,2,-999.000,9
   06MT22_2,       AR4E,     504,          1,         13,         16,2,19921106,       0650,    -3.1570,   -34.8788,       3819,  1600.8,   3.9417,  34.9886,2,-999.0000,9,   252.2,2,   0.099,2,-999.000,9
   06MT22_2,       AR4E,     504,          1,         12,         15,2,19921106,       0650,    -3.1570,   -34.8788,       3819,  1700.2,   3.7892,  34.9872,2,-999.0000,9,   256.8,2,   0.107,2,-999.000,9
   06MT22_2,       AR4E,     504,          1,         11,         14,2,19921106,       0650,    -3.1570,   -34.8788,       3819,  1801.1,   3.7353,  34.9860,2,  34.9830,2,   256.2,2,   0.085,2,   0.044,2
   06MT22_2,       AR4E,     504,          1,         10,         13,2,19921106,       0650,    -3.1570,   -34.8788,       3819,  1900.7,   3.6246,  34.9804,2,-999.0000,9,   259.1,2,   0.059,2,-999.000,9
   06MT22_2,       AR4E,     504,          1,          9,         12,2,19921106,       0650,    -3.1570,   -34.8788,       3819,  2001.2,   3.5164,  34.9785,2,-999.0000,9,  -999.0,9,-999.000,9,-999.000,9
   06MT22_2,       AR4E,     504,          1,          8,          9,2,19921106,       0650,    -3.1570,   -34.8788,       3819,  2401.6,   3.0880,  34.9499,2,-999.0000,9,   255.5,2,   0.027,2,   0.010,2
   06MT22_2,       AR4E,     504,          1,          7,          8,2,19921106,       0650,    -3.1570,   -34.8788,       3819,  2703.3,   2.8717,  34.9313,2,-999.0000,9,   251.2,2,   0.018,2,   0.006,2
   06MT22_2,       AR4E,     504,          1,          6,          7,2,19921106,       0650,    -3.1570,   -34.8788,       3819,  3004.2,   2.7443,  34.9300,2,-999.0000,9,   259.8,2,   0.038,2,   0.016,2
   06MT22_2,       AR4E,     504,          1,          5,          6,2,19921106,       0650,    -3.1570,   -34.8788,       3819,  3304.7,   2.6231,  34.9226,2,  34.9210,2,   259.5,2,   0.036,2,-999.000,9
   06MT22_2,       AR4E,     504,          1,          4,          5,2,19921106,       0650,    -3.1570,   -34.8788,       3819,  3506.9,   2.5431,  34.9153,2,  34.9140,2,   261.4,2,   0.033,2,-999.000,9
   06MT22_2,       AR4E,     504,          1,          3,          4,2,19921106,       0650,    -3.1570,   -34.8788,       3819,  3606.4,   2.4905,  34.9125,2,-999.0000,9,   263.5,2,-999.000,9,-999.000,9
   06MT22_2,       AR4E,     504,          1,          2,          3,2,19921106,       0650,    -3.1570,   -34.8788,       3819,  3708.1,   2.3053,  34.8953,2,  34.8960,2,   262.1,2,   0.044,2,-999.000,9
   06MT22_2,       AR4E,     504,          1,          1,          1,2,19921106,       0650,    -3.1570,   -34.8788,       3819,  3818.4,   2.1469,  34.8800,2,  34.8800,2,   260.8,2,   0.051,2,-999.000,9
   06MT22_2,       AR4E,     505,          1,         17,         21,2,19921106,       1248,    -3.4897,   -35.2282,       3447,    10.5,  26.0570,  36.3633,2,-999.0000,9,  -999.0,9,   0.000,2,   0.000,2
   06MT22_2,       AR4E,     505,          1,         16,         20,2,19921106,       1248,    -3.4897,   -35.2282,       3447,   799.4,   4.2256,  34.4538,2,-999.0000,9,  -999.0,9,   0.168,2,   0.095,2
   06MT22_2,       AR4E,     505,          1,         15,         19,2,19921106,       1248,    -3.4897,   -35.2282,       3447,   999.8,   4.2536,  34.6094,2,-999.0000,9,  -999.0,9,   0.023,2,   0.012,2
   06MT22_2,       AR4E,     505,          1,         14,         18,2,19921106,       1248,    -3.4897,   -35.2282,       3447,  1100.2,   4.3180,  34.6875,2,-999.0000,9,  -999.0,9,   0.039,2,   0.022,2
   06MT22_2,       AR4E,     505,          1,         13,         17,2,19921106,       1248,    -3.4897,   -35.2282,       3447,  1300.7,   4.4730,  34.8415,2,-999.0000,9,  -999.0,9,   0.028,2,   0.018,2
   06MT22_2,       AR4E,     505,          1,         12,         16,2,19921106,       1248,    -3.4897,   -35.2282,       3447,  1399.9,   4.4642,  34.9120,2,-999.0000,9,  -999.0,9,   0.052,2,   0.035,2
   06MT22_2,       AR4E,     505,          1,         11,         15,2,19921106,       1248,    -3.4897,   -35.2282,       3447,  1500.4,   4.4293,  34.9493,2,-999.0000,9,  -999.0,9,   0.085,2,   0.044,2
   06MT22_2,       AR4E,     505,          1,         10,         14,2,19921106,       1248,    -3.4897,   -35.2282,       3447,  1599.8,   3.9750,  34.9874,2,-999.0000,9,  -999.0,9,   0.101,2,   0.055,2
   06MT22_2,       AR4E,     505,          1,          9,         13,2,19921106,       1248,    -3.4897,   -35.2282,       3447,  1700.4,   3.8130,  34.9876,2,-999.0000,9,  -999.0,9,   0.072,2,   0.045,2
   06MT22_2,       AR4E,     505,          1,          8,         12,2,19921106,       1248,    -3.4897,   -35.2282,       3447,  1801.1,   3.7144,  34.9835,2,-999.0000,9,  -999.0,9,-999.000,9,-999.000,9
   06MT22_2,       AR4E,     505,          1,          7,         11,2,19921106,       1248,    -3.4897,   -35.2282,       3447,  1901.0,   3.6278,  34.9803,2,-999.0000,9,  -999.0,9,   0.064,2,   0.038,2
   06MT22_2,       AR4E,     505,          1,          6,         10,2,19921106,       1248,    -3.4897,   -35.2282,       3447,  2001.8,   3.5132,  34.9768,2,  34.9740,2,  -999.0,9,   0.050,2,   0.030,2
   06MT22_2,       AR4E,     505,          1,          5,          9,2,19921106,       1248,    -3.4897,   -35.2282,       3447,  2402.8,   3.1475,  34.9563,2,  34.9550,2,  -999.0,9,   0.031,2,   0.035,2
   06MT22_2,       AR4E,     505,          1,          4,          8,2,19921106,       1248,    -3.4897,   -35.2282,       3447,  2602.7,   2.9549,  34.9411,2,  34.9380,2,  -999.0,9,   0.028,2,   0.012,2
   06MT22_2,       AR4E,     505,          1,          3,          7,2,19921106,       1248,    -3.4897,   -35.2282,       3447,  2804.0,   2.9153,  34.9429,2,-999.0000,9,  -999.0,9,   0.038,2,   0.024,2
   06MT22_2,       AR4E,     505,          1,          2,          5,2,19921106,       1248,    -3.4897,   -35.2282,       3447,  3004.3,   2.7188,  34.9245,2,  34.9250,2,  -999.0,9,   0.024,2,   0.022,2
   06MT22_2,       AR4E,     505,          1,          1,          1,2,19921106,       1248,    -3.4897,   -35.2282,       3447,  3449.4,   2.5473,  34.9158,2,  34.9160,2,  -999.0,9,   0.035,2,   0.030,2
   06MT22_2,       AR4E,     506,          1,         19,         21,2,19921106,       2325,    -3.9792,   -34.9498,       3521,    10.4,  26.1347,  36.3913,2,  36.3890,2,   206.0,2,   0.000,2,   0.000,2
   06MT22_2,       AR4E,     506,          1,         18,         20,2,19921106,       2325,    -3.9792,   -34.9498,       3521,   799.2,   4.3207,  34.4560,2,-999.0000,9,   176.8,2,   0.128,2,   0.078,2
   06MT22_2,       AR4E,     506,          1,         17,         19,2,19921106,       2325,    -3.9792,   -34.9498,       3521,   999.7,   4.0336,  34.5680,2,-999.0000,9,   180.7,2,   0.045,2,   0.031,2
   06MT22_2,       AR4E,     506,          1,         16,         18,2,19921106,       2325,    -3.9792,   -34.9498,       3521,  1099.9,   4.1173,  34.6223,2,-999.0000,9,   182.1,2,   0.073,2,   0.042,2
   06MT22_2,       AR4E,     506,          1,         15,         17,2,19921106,       2325,    -3.9792,   -34.9498,       3521,  1299.5,   4.4982,  34.8429,2,-999.0000,9,   193.4,2,   0.024,2,   0.021,2
   06MT22_2,       AR4E,     506,          1,         14,         16,2,19921106,       2325,    -3.9792,   -34.9498,       3521,  1400.2,   4.4259,  34.9060,2,-999.0000,9,   208.5,2,   0.037,2,   0.025,2
   06MT22_2,       AR4E,     506,          1,         13,         15,2,19921106,       2325,    -3.9792,   -34.9498,       3521,  1500.1,   4.4291,  34.9508,2,-999.0000,9,   223.2,2,   0.092,2,   0.080,2
   06MT22_2,       AR4E,     506,          1,         12,         14,2,19921106,       2325,    -3.9792,   -34.9498,       3521,  1600.0,   4.0762,  34.9860,2,-999.0000,9,   245.7,2,   0.064,2,   0.046,2
   06MT22_2,       AR4E,     506,          1,         11,         13,2,19921106,       2325,    -3.9792,   -34.9498,       3521,  1700.7,   3.8413,  34.9867,2,-999.0000,9,   255.1,2,   0.073,2,   0.060,2
   06MT22_2,       AR4E,     506,          1,         10,         12,2,19921106,       2325,    -3.9792,   -34.9498,       3521,  1800.4,   3.7714,  34.9858,2,  34.9830,2,   257.1,2,   0.066,2,   0.056,2
   06MT22_2,       AR4E,     506,          1,          9,         11,2,19921106,       2325,    -3.9792,   -34.9498,       3521,  1900.7,   3.6709,  34.9810,2,-999.0000,9,   258.0,2,   0.057,2,   0.048,2
   06MT22_2,       AR4E,     506,          1,          8,         10,2,19921106,       2325,    -3.9792,   -34.9498,       3521,  2000.9,   3.5430,  34.9746,2,-999.0000,9,  -999.0,9,   0.038,2,   0.033,2
   06MT22_2,       AR4E,     506,          1,          7,          9,2,19921106,       2325,    -3.9792,   -34.9498,       3521,  2200.7,   3.3818,  34.9705,2,-999.0000,9,   262.1,2,-999.000,9,-999.000,9
   06MT22_2,       AR4E,     506,          1,          6,          8,2,19921106,       2325,    -3.9792,   -34.9498,       3521,  2301.9,   3.2938,  34.9662,2,-999.0000,9,   262.3,2,   0.045,2,   0.061,2
   06MT22_2,       AR4E,     506,          1,          5,          7,2,19921106,       2325,    -3.9792,   -34.9498,       3521,  2502.6,   3.1203,  34.9512,2,  34.9500,2,   260.2,2,   0.025,2,   0.024,2
   06MT22_2,       AR4E,     506,          1,          4,          6,2,19921106,       2325,    -3.9792,   -34.9498,       3521,  2703.2,   3.0134,  34.9493,2,  34.9470,2,   264.3,2,   0.033,2,   0.026,2
   06MT22_2,       AR4E,     506,          1,          3,          5,2,19921106,       2325,    -3.9792,   -34.9498,       3521,  3003.8,   2.7344,  34.9309,2,  34.9300,2,   263.6,2,   0.039,2,   0.050,2
   06MT22_2,       AR4E,     506,          1,          2,          4,2,19921106,       2325,    -3.9792,   -34.9498,       3521,  3204.9,   2.6809,  34.9269,2,  34.9260,2,   262.9,2,   0.039,2,   0.041,2
   06MT22_2,       AR4E,     506,          1,          1,          1,2,19921106,       2325,    -3.9792,   -34.9498,       3521,  3520.2,   2.5845,  34.9168,2,-999.0000,9,   261.7,2,   0.032,2,   0.038,2
   06MT22_2,       AR4E,     508,          1,         18,         21,2,19921107,       1258,    -4.4978,   -35.0698,       3153,    11.7,  26.3561,  36.4843,2,  36.4830,2,   206.0,2,-999.000,9,-999.000,9
   06MT22_2,       AR4E,     508,          1,         17,         20,2,19921107,       1258,    -4.4978,   -35.0698,       3153,   600.1,   5.9641,  34.5280,2,-999.0000,9,  -999.0,9,   0.146,2,   0.080,2
   06MT22_2,       AR4E,     508,          1,         16,         19,2,19921107,       1258,    -4.4978,   -35.0698,       3153,   800.4,   4.5342,  34.4547,2,-999.0000,9,  -999.0,9,   0.131,2,   0.074,2
   06MT22_2,       AR4E,     508,          1,         15,         18,2,19921107,       1258,    -4.4978,   -35.0698,       3153,   999.8,   4.0818,  34.5574,2,-999.0000,9,   175.5,2,   0.047,2,   0.026,2
   06MT22_2,       AR4E,     508,          1,         14,         17,2,19921107,       1258,    -4.4978,   -35.0698,       3153,  1199.7,   4.3902,  34.7518,2,-999.0000,9,   182.7,2,   0.025,2,   0.014,2
   06MT22_2,       AR4E,     508,          1,         13,         16,2,19921107,       1258,    -4.4978,   -35.0698,       3153,  1400.7,   4.4955,  34.9264,2,-999.0000,9,  -999.0,9,   0.080,2,   0.047,2
   06MT22_2,       AR4E,     508,          1,         12,         15,2,19921107,       1258,    -4.4978,   -35.0698,       3153,  1499.7,   4.4031,  34.9645,2,-999.0000,9,   228.6,2,   0.099,2,   0.050,2
   06MT22_2,       AR4E,     508,          1,         11,         14,2,19921107,       1258,    -4.4978,   -35.0698,       3153,  1600.0,   4.1914,  34.9812,2,-999.0000,9,   240.0,2,   0.105,2,   0.060,2
   06MT22_2,       AR4E,     508,          1,         10,         13,2,19921107,       1258,    -4.4978,   -35.0698,       3153,  1700.3,   3.8994,  34.9872,2,-999.0000,9,   253.8,2,   0.091,2,   0.053,2
   06MT22_2,       AR4E,     508,          1,          9,         11,2,19921107,       1258,    -4.4978,   -35.0698,       3153,  1800.9,   3.8012,  34.9862,2,  34.9840,2,   256.2,2,   0.080,2,   0.049,2
   06MT22_2,       AR4E,     508,          1,          8,         10,2,19921107,       1258,    -4.4978,   -35.0698,       3153,  1901.0,   3.6681,  34.9826,2,-999.0000,9,   259.5,2,   0.077,2,   0.042,2
   06MT22_2,       AR4E,     508,          1,          7,          9,2,19921107,       1258,    -4.4978,   -35.0698,       3153,  2001.3,   3.6010,  34.9794,2,-999.0000,9,   259.0,2,   0.077,2,   0.046,2
   06MT22_2,       AR4E,     508,          1,          6,          8,2,19921107,       1258,    -4.4978,   -35.0698,       3153,  2102.2,   3.4826,  34.9752,2,-999.0000,9,  -999.0,9,   0.065,2,   0.036,2
   06MT22_2,       AR4E,     508,          1,          5,          6,2,19921107,       1258,    -4.4978,   -35.0698,       3153,  2303.5,   3.3385,  34.9670,2,  34.9660,2,   263.8,2,   0.053,2,   0.036,2
   06MT22_2,       AR4E,     508,          1,          4,          5,2,19921107,       1258,    -4.4978,   -35.0698,       3153,  2402.5,   3.2690,  34.9634,2,  34.9630,2,   262.7,2,   0.054,2,   0.041,2
   06MT22_2,       AR4E,     508,          1,          3,          4,2,19921107,       1258,    -4.4978,   -35.0698,       3153,  2704.1,   2.9251,  34.9440,2,  34.9420,2,   261.7,2,   0.036,2,   0.027,2
   06MT22_2,       AR4E,     508,          1,          2,          3,2,19921107,       1258,    -4.4978,   -35.0698,       3153,  3003.8,   2.7384,  34.9302,2,  34.9250,2,   262.1,2,   0.037,2,   0.028,2
   06MT22_2,       AR4E,     508,          1,          1,          1,2,19921107,       1258,    -4.4978,   -35.0698,       3153,  3142.7,   2.6689,  34.9239,2,-999.0000,9,   262.6,2,   0.040,2,   0.035,2
   06MT22_2,       AR4E,     509,          1,          4,         19,2,19921107,       1838,    -4.9235,   -34.8850,        873,    11.2,  26.3207,  36.3990,2,  36.3970,2,   206.8,2,-999.000,9,-999.000,9
   06MT22_2,       AR4E,     509,          1,          3,         14,2,19921107,       1838,    -4.9235,   -34.8850,        873,   401.0,   8.5052,  34.7506,2,-999.0000,9,   117.6,2,-999.000,9,-999.000,9
   06MT22_2,       AR4E,     509,          1,          2,          9,2,19921107,       1838,    -4.9235,   -34.8850,        873,   605.7,   5.8170,  34.5157,2,-999.0000,9,   136.4,2,-999.000,9,-999.000,9
   06MT22_2,       AR4E,     509,          1,          1,          1,2,19921107,       1838,    -4.9235,   -34.8850,        873,   833.5,   4.2725,  34.4489,2,-999.0000,9,   177.8,2,-999.000,9,-999.000,9
   06MT22_2,       AR15,     512,          1,          7,         21,2,19921108,       0246,    -5.6297,   -34.9098,       1244,    10.1,  26.3979,  36.4911,2,  36.4910,2,  -999.0,9,-999.000,9,-999.000,9
   06MT22_2,       AR15,     512,          1,          6,         10,2,19921108,       0246,    -5.6297,   -34.9098,       1244,   599.3,   6.2368,  34.5311,2,-999.0000,9,   149.8,2,   0.288,2,   0.165,2
   06MT22_2,       AR15,     512,          1,          5,          9,2,19921108,       0246,    -5.6297,   -34.9098,       1244,   701.7,   5.1842,  34.4611,2,-999.0000,9,   167.0,2,   0.233,2,   0.135,2
   06MT22_2,       AR15,     512,          1,          4,          8,2,19921108,       0246,    -5.6297,   -34.9098,       1244,   799.9,   4.6892,  34.4513,2,-999.0000,9,   167.9,2,   0.138,2,   0.081,2
   06MT22_2,       AR15,     512,          1,          3,          7,2,19921108,       0246,    -5.6297,   -34.9098,       1244,   899.8,   4.2654,  34.4553,2,-999.0000,9,   175.0,2,   0.125,2,   0.073,2
   06MT22_2,       AR15,     512,          1,          2,          6,2,19921108,       0246,    -5.6297,   -34.9098,       1244,  1000.0,   3.9505,  34.4945,2,-999.0000,9,   181.8,2,   0.074,2,   0.044,2
   06MT22_2,       AR15,     512,          1,          1,          5,2,19921108,       0246,    -5.6297,   -34.9098,       1244,  1122.1,   4.0374,  34.6281,2,  34.6270,2,  -999.0,9,   0.037,2,   0.024,2