BOTTLE,20211029CCHSIORKP
EXPOCODE,SECT_ID,STNNBR,CASTNO,SAMPNO,BTLNBR,BTLNBR_FLAG_W,DATE,TIME,LATITUDE,LONGITUDE,DEPTH,CTDPRS,CTDTMP,CTDSAL,CTDSAL_FLAG_W,SALNTY,SALNTY_FLAG_W,OXYGEN,OXYGEN_FLAG_W,CFC-11,CFC-11_FLAG_W,CFC-12,CFC-12_FLAG_W
,,,,,,,,,,,METERS,DBAR,ITS-90,PSS-78,,PSS-78,,UMOL/KG,,PMOL/KG,,PMOL/KG,
   06MT22_2,       AR15,     523,          1,         19,         21,2,19921111,       0320,    -5.1292,   -30.9865,       4895,    11.3,  25.7622,  36.3319,2,  36.3310,2,   208.6,2,-999.000,9,-999.000,9
   06MT22_2,       AR15,     523,          1,         18,         20,2,19921111,       0320,    -5.1292,   -30.9865,       4895,  1000.7,   4.2408,  34.5970,2,-999.0000,9,   170.2,2,   0.047,2,-999.000,9
   06MT22_2,       AR15,     523,          1,         17,         19,2,19921111,       0320,    -5.1292,   -30.9865,       4895,  1400.9,   4.4394,  34.8828,2,-999.0000,9,   202.0,2,   0.026,2,-999.000,9
   06MT22_2,       AR15,     523,          1,         16,         18,2,19921111,       0320,    -5.1292,   -30.9865,       4895,  1600.5,   4.2961,  34.9713,2,-999.0000,9,   234.3,2,   0.100,2,-999.000,9
   06MT22_2,       AR15,     523,          1,         15,         17,2,19921111,       0320,    -5.1292,   -30.9865,       4895,  1699.9,   4.0425,  34.9862,2,-999.0000,9,   247.8,2,   0.088,2,-999.000,9
   06MT22_2,       AR15,     523,          1,         14,         16,2,19921111,       0320,    -5.1292,   -30.9865,       4895,  1798.7,   3.8359,  34.9759,2,-999.0000,9,   249.9,2,   0.057,2,-999.000,9
   06MT22_2,       AR15,     523,          1,         13,         15,2,19921111,       0320,    -5.1292,   -30.9865,       4895,  1900.8,   3.6668,  34.9739,2,  34.9710,2,   253.7,2,   0.063,2,-999.000,9
   06MT22_2,       AR15,     523,          1,         12,         14,2,19921111,       0320,    -5.1292,   -30.9865,       4895,  2000.8,   3.4574,  34.9572,2,  34.9550,2,   251.4,2,   0.010,2,-999.000,9
   06MT22_2,       AR15,     523,          1,         11,         13,2,19921111,       0320,    -5.1292,   -30.9865,       4895,  2502.1,   2.8812,  34.9346,2,-999.0000,9,   254.2,2,   0.015,2,-999.000,9
   06MT22_2,       AR15,     523,          1,         10,         12,2,19921111,       0320,    -5.1292,   -30.9865,       4895,  3004.7,   2.6605,  34.9232,2,  34.9200,2,   259.4,2,   0.007,2,-999.000,9
   06MT22_2,       AR15,     523,          1,          9,         11,2,19921111,       0320,    -5.1292,   -30.9865,       4895,  3505.8,   2.5393,  34.9162,2,  34.9160,2,   263.7,2,   0.021,2,-999.000,9
   06MT22_2,       AR15,     523,          1,          8,         10,2,19921111,       0320,    -5.1292,   -30.9865,       4895,  3708.2,   2.4444,  34.9090,2,  34.9080,2,   264.8,2,   0.036,2,-999.000,9
   06MT22_2,       AR15,     523,          1,          7,          9,2,19921111,       0320,    -5.1292,   -30.9865,       4895,  3806.2,   2.3100,  34.8955,2,-999.0000,9,   261.6,2,   0.031,2,-999.000,9
   06MT22_2,       AR15,     523,          1,          6,          8,2,19921111,       0320,    -5.1292,   -30.9865,       4895,  3908.4,   2.0750,  34.8708,2,-999.0000,9,   249.2,2,-999.000,9,-999.000,9
   06MT22_2,       AR15,     523,          1,          5,          7,2,19921111,       0320,    -5.1292,   -30.9865,       4895,  4108.6,   1.7283,  34.8292,2,-999.0000,9,   238.3,2,   0.015,2,-999.000,9
   06MT22_2,       AR15,     523,          1,          4,          6,2,19921111,       0320,    -5.1292,   -30.9865,       4895,  4309.3,   1.2295,  34.7757,2,-999.0000,9,  -999.0,9,   0.004,2,-999.000,9
   06MT22_2,       AR15,     523,          1,          3,          5,2,19921111,       0320,    -5.1292,   -30.9865,       4895,  4510.1,   0.9415,  34.7415,2,-999.0000,9,  -999.0,9,   0.020,2,-999.000,9
   06MT22_2,       AR15,     523,          1,          2,          4,2,19921111,       0320,    -5.1292,   -30.9865,       4895,  4711.5,   0.7992,  34.7235,2,-999.0000,9,  -999.0,9,   0.026,2,-999.000,9
   06MT22_2,       AR15,     523,          1,          1,          1,2,19921111,       0320,    -5.1292,   -30.9865,       4895,  4928.9,   0.6439,  34.7054,2,  34.7060,2,  -999.0,9,   0.030,2,-999.000,9
   06MT22_2,       AR15,     524,          1,         19,         21,2,19921111,       1010,    -5.0563,   -30.4898,       4993,    10.8,  25.8001,  36.3699,2,-999.0000,9,  -999.0,9,   0.000,2,   0.000,2
   06MT22_2,       AR15,     524,          1,         18,         20,2,19921111,       1010,    -5.0563,   -30.4898,       4993,  1099.4,   4.3279,  34.6859,2,-999.0000,9,  -999.0,9,   0.047,2,-999.000,9
   06MT22_2,       AR15,     524,          1,         17,         19,2,19921111,       1010,    -5.0563,   -30.4898,       4993,  1299.8,   4.4144,  34.8234,2,-999.0000,9,  -999.0,9,   0.016,2,-999.000,9
   06MT22_2,       AR15,     524,          1,         16,         18,2,19921111,       1010,    -5.0563,   -30.4898,       4993,  1499.7,   4.3744,  34.9408,2,-999.0000,9,  -999.0,9,   0.052,2,-999.000,9
   06MT22_2,       AR15,     524,          1,         15,         17,2,19921111,       1010,    -5.0563,   -30.4898,       4993,  1700.0,   4.0934,  34.9870,2,-999.0000,9,  -999.0,9,   0.109,2,-999.000,9
   06MT22_2,       AR15,     524,          1,         14,         16,2,19921111,       1010,    -5.0563,   -30.4898,       4993,  1800.3,   3.8146,  34.9847,2,-999.0000,9,  -999.0,9,   0.076,2,-999.000,9
   06MT22_2,       AR15,     524,          1,         13,         15,2,19921111,       1010,    -5.0563,   -30.4898,       4993,  1900.4,   3.6206,  34.9734,2,-999.0000,9,  -999.0,9,   0.037,2,-999.000,9
   06MT22_2,       AR15,     524,          1,         12,         14,2,19921111,       1010,    -5.0563,   -30.4898,       4993,  2000.3,   3.4469,  34.9565,2,  34.9530,2,  -999.0,9,   0.005,2,-999.000,9
   06MT22_2,       AR15,     524,          1,         11,         12,2,19921111,       1010,    -5.0563,   -30.4898,       4993,  2502.4,   2.8649,  34.9292,2,  34.9250,2,  -999.0,9,   0.005,2,-999.000,9
   06MT22_2,       AR15,     524,          1,         10,         11,2,19921111,       1010,    -5.0563,   -30.4898,       4993,  3004.5,   2.6555,  34.9231,2,  34.9210,2,  -999.0,9,   0.009,2,-999.000,9
   06MT22_2,       AR15,     524,          1,          9,         10,2,19921111,       1010,    -5.0563,   -30.4898,       4993,  3506.4,   2.5338,  34.9164,2,-999.0000,9,  -999.0,9,   0.027,2,-999.000,9
   06MT22_2,       AR15,     524,          1,          8,          9,2,19921111,       1010,    -5.0563,   -30.4898,       4993,  3706.7,   2.4724,  34.9122,2,  34.9100,2,  -999.0,9,   0.038,2,-999.000,9
   06MT22_2,       AR15,     524,          1,          7,          7,2,19921111,       1010,    -5.0563,   -30.4898,       4993,  3807.1,   2.3749,  34.9027,2,-999.0000,9,  -999.0,9,   0.037,2,-999.000,9
   06MT22_2,       AR15,     524,          1,          6,          6,2,19921111,       1010,    -5.0563,   -30.4898,       4993,  3908.2,   2.2050,  34.8854,2,-999.0000,9,  -999.0,9,   0.025,2,-999.000,9
   06MT22_2,       AR15,     524,          1,          5,          5,2,19921111,       1010,    -5.0563,   -30.4898,       4993,  4009.4,   2.0185,  34.8632,2,-999.0000,9,  -999.0,9,   0.022,2,-999.000,9
   06MT22_2,       AR15,     524,          1,          4,          4,2,19921111,       1010,    -5.0563,   -30.4898,       4993,  4310.1,   1.2500,  34.7779,2,-999.0000,9,  -999.0,9,   0.006,2,-999.000,9
   06MT22_2,       AR15,     524,          1,          3,          3,2,19921111,       1010,    -5.0563,   -30.4898,       4993,  4512.3,   0.9556,  34.7445,2,-999.0000,9,  -999.0,9,   0.014,2,-999.000,9
   06MT22_2,       AR15,     524,          1,          2,          2,2,19921111,       1010,    -5.0563,   -30.4898,       4993,  4712.2,   0.7933,  34.7235,2,  34.7220,2,  -999.0,9,   0.034,2,-999.000,9
   06MT22_2,       AR15,     524,          1,          1,          1,2,19921111,       1010,    -5.0563,   -30.4898,       4993,  5040.0,   0.6528,  34.7053,2,-999.0000,9,  -999.0,9,   0.033,2,-999.000,9
   06MT22_2,       AR15,     525,          1,         19,         21,2,19921111,       1658,    -4.9933,   -29.9932,       5009,    12.4,  25.8919,  36.3938,2,  36.3900,2,  -999.0,9,-999.000,9,-999.000,9
   06MT22_2,       AR15,     525,          1,         18,         20,2,19921111,       1658,    -4.9933,   -29.9932,       5009,  1000.9,   4.1836,  34.5996,2,-999.0000,9,  -999.0,9,-999.000,9,-999.000,9
   06MT22_2,       AR15,     525,          1,         17,         19,2,19921111,       1658,    -4.9933,   -29.9932,       5009,  1200.2,   4.4188,  34.7877,2,-999.0000,9,  -999.0,9,   0.029,2,-999.000,9
   06MT22_2,       AR15,     525,          1,         16,         17,2,19921111,       1658,    -4.9933,   -29.9932,       5009,  1401.3,   4.4711,  34.9077,2,-999.0000,9,  -999.0,9,   0.044,2,-999.000,9
   06MT22_2,       AR15,     525,          1,         15,         16,2,19921111,       1658,    -4.9933,   -29.9932,       5009,  1600.5,   4.2417,  34.9843,2,-999.0000,9,  -999.0,9,   0.104,2,-999.000,9
   06MT22_2,       AR15,     525,          1,         14,         15,2,19921111,       1658,    -4.9933,   -29.9932,       5009,  1801.9,   3.8162,  34.9739,2,-999.0000,9,  -999.0,9,   0.031,2,-999.000,9
   06MT22_2,       AR15,     525,          1,         13,         14,2,19921111,       1658,    -4.9933,   -29.9932,       5009,  2002.0,   3.4853,  34.9632,2,-999.0000,9,  -999.0,9,   0.018,2,-999.000,9
   06MT22_2,       AR15,     525,          1,         12,         13,2,19921111,       1658,    -4.9933,   -29.9932,       5009,  2502.7,   2.8580,  34.9297,2,-999.0000,9,  -999.0,9,   0.003,2,-999.000,9
   06MT22_2,       AR15,     525,          1,         11,         12,2,19921111,       1658,    -4.9933,   -29.9932,       5009,  3005.3,   2.6617,  34.9246,2,-999.0000,9,  -999.0,9,   0.015,2,-999.000,9
   06MT22_2,       AR15,     525,          1,         10,         11,2,19921111,       1658,    -4.9933,   -29.9932,       5009,  3306.0,   2.5835,  34.9188,2,-999.0000,9,  -999.0,9,   0.016,2,-999.000,9
   06MT22_2,       AR15,     525,          1,          9,         10,2,19921111,       1658,    -4.9933,   -29.9932,       5009,  3607.6,   2.5069,  34.9151,2,-999.0000,9,  -999.0,9,   0.029,2,-999.000,9
   06MT22_2,       AR15,     525,          1,          8,          9,2,19921111,       1658,    -4.9933,   -29.9932,       5009,  3707.9,   2.4579,  34.9111,2,-999.0000,9,  -999.0,9,   0.033,2,-999.000,9
   06MT22_2,       AR15,     525,          1,          7,          8,2,19921111,       1658,    -4.9933,   -29.9932,       5009,  3808.2,   2.3755,  34.9036,2,-999.0000,9,  -999.0,9,   0.035,2,-999.000,9
   06MT22_2,       AR15,     525,          1,          6,          7,2,19921111,       1658,    -4.9933,   -29.9932,       5009,  3909.7,   2.2284,  34.8876,2,-999.0000,9,  -999.0,9,   0.020,2,-999.000,9
   06MT22_2,       AR15,     525,          1,          5,          6,2,19921111,       1658,    -4.9933,   -29.9932,       5009,  4006.8,   2.0207,  34.8643,2,  34.8610,2,  -999.0,9,   0.013,2,-999.000,9
   06MT22_2,       AR15,     525,          1,          4,          5,2,19921111,       1658,    -4.9933,   -29.9932,       5009,  4204.9,   1.5456,  34.8109,2,  34.8080,2,  -999.0,9,   0.009,2,-999.000,9
   06MT22_2,       AR15,     525,          1,          3,          4,2,19921111,       1658,    -4.9933,   -29.9932,       5009,  4410.1,   1.0791,  34.7596,2,  34.7560,2,  -999.0,9,   0.003,2,-999.000,9
   06MT22_2,       AR15,     525,          1,          2,          3,2,19921111,       1658,    -4.9933,   -29.9932,       5009,  4812.4,   0.7967,  34.7222,2,  34.7200,2,  -999.0,9,   0.020,2,-999.000,9
   06MT22_2,       AR15,     525,          1,          1,          1,2,19921111,       1658,    -4.9933,   -29.9932,       5009,  5036.5,   0.6578,  34.7062,2,  34.7050,2,  -999.0,9,   0.025,2,-999.000,9
   06MT22_2,       AR15,     526,          1,          2,          4,2,19921112,       0204,    -5.9947,   -30.5783,       5160,    10.9,  25.9577,  36.3801,2,  36.3760,2,  -999.0,9,-999.000,9,-999.000,9
   06MT22_2,       AR15,     526,          1,          1,          1,2,19921112,       0204,    -5.9947,   -30.5783,       5160,  1500.4,   4.2223,  34.9545,2,  34.9560,2,  -999.0,9,-999.000,9,-999.000,9
   06MT22_2,       AR15,     527,          1,          2,          9,2,19921112,       0919,    -6.9977,   -31.0800,       5197,    11.2,  25.7975,  36.3652,2,  36.3620,2,  -999.0,9,-999.000,9,-999.000,9
   06MT22_2,       AR15,     527,          1,          1,          6,2,19921112,       0919,    -6.9977,   -31.0800,       5197,  1503.8,   4.1738,  34.9663,2,  34.9640,2,  -999.0,9,-999.000,9,-999.000,9
   06MT22_2,       AR15,     528,          1,          2,         14,2,19921112,       1622,    -8.0008,   -31.4970,       5262,    11.9,  25.9255,  36.4029,2,  36.3990,2,  -999.0,9,-999.000,9,-999.000,9
   06MT22_2,       AR15,     528,          1,          1,          1,2,19921112,       1622,    -8.0008,   -31.4970,       5262,  1501.0,   4.2047,  34.9668,2,  34.9660,2,  -999.0,9,-999.000,9,-999.000,9
   06MT22_2,       AR15,     529,          1,          2,         20,2,19921112,       2334,    -8.9990,   -31.9967,       5053,    10.5,  26.1375,  36.4958,2,  36.4920,2,  -999.0,9,-999.000,9,-999.000,9
   06MT22_2,       AR15,     529,          1,          1,         17,2,19921112,       2334,    -8.9990,   -31.9967,       5053,  1500.9,   3.9683,  34.9208,2,  34.9190,2,  -999.0,9,-999.000,9,-999.000,9
   06MT22_2,       AR15,     530,          1,         20,         21,2,19921113,       0746,    -9.9950,   -32.4933,       4944,    12.2,  25.7801,  36.5081,2,-999.0000,9,  -999.0,9,-999.000,9,-999.000,9
   06MT22_2,       AR15,     530,          1,         19,         20,2,19921113,       0746,    -9.9950,   -32.4933,       4944,   999.0,   3.8657,  34.5418,2,-999.0000,9,   179.0,2,   0.026,2,-999.000,9
   06MT22_2,       AR15,     530,          1,         18,         19,2,19921113,       0746,    -9.9950,   -32.4933,       4944,  1199.8,   4.1584,  34.7432,2,-999.0000,9,  -999.0,9,   0.007,2,-999.000,9
   06MT22_2,       AR15,     530,          1,         17,         18,2,19921113,       0746,    -9.9950,   -32.4933,       4944,  1400.3,   4.3259,  34.9012,2,-999.0000,9,   214.2,2,   0.038,2,-999.000,9
   06MT22_2,       AR15,     530,          1,         16,         17,2,19921113,       0746,    -9.9950,   -32.4933,       4944,  1598.9,   4.0884,  34.9536,2,  34.9490,2,  -999.0,9,   0.040,2,-999.000,9
   06MT22_2,       AR15,     530,          1,         15,         16,2,19921113,       0746,    -9.9950,   -32.4933,       4944,  1699.6,   3.9617,  34.9718,2,-999.0000,9,   245.9,2,   0.047,2,-999.000,9
   06MT22_2,       AR15,     530,          1,         14,         15,2,19921113,       0746,    -9.9950,   -32.4933,       4944,  1800.5,   3.8108,  34.9753,2,  34.9720,2,  -999.0,9,   0.055,2,-999.000,9
   06MT22_2,       AR15,     530,          1,         13,         14,2,19921113,       0746,    -9.9950,   -32.4933,       4944,  2001.5,   3.5190,  34.9730,2,-999.0000,9,   257.6,2,   0.047,2,-999.000,9
   06MT22_2,       AR15,     530,          1,         12,         13,2,19921113,       0746,    -9.9950,   -32.4933,       4944,  2301.1,   3.1220,  34.9544,2,-999.0000,9,  -999.0,9,   0.026,2,-999.000,9
   06MT22_2,       AR15,     530,          1,         11,         12,2,19921113,       0746,    -9.9950,   -32.4933,       4944,  2702.7,   2.9064,  34.9378,2,  34.9340,2,  -999.0,9,   0.012,2,-999.000,9
   06MT22_2,       AR15,     530,          1,         10,         11,2,19921113,       0746,    -9.9950,   -32.4933,       4944,  3004.4,   2.7567,  34.9282,2,  34.9260,2,  -999.0,9,   0.012,2,-999.000,9
   06MT22_2,       AR15,     530,          1,          9,         10,2,19921113,       0746,    -9.9950,   -32.4933,       4944,  3505.9,   2.5541,  34.9164,2,  34.9170,2,   263.1,2,   0.021,2,-999.000,9
   06MT22_2,       AR15,     530,          1,          8,          9,2,19921113,       0746,    -9.9950,   -32.4933,       4944,  3706.8,   2.2739,  34.8907,2,  34.8890,2,  -999.0,9,-999.000,9,-999.000,9
   06MT22_2,       AR15,     530,          1,          7,          8,2,19921113,       0746,    -9.9950,   -32.4933,       4944,  3807.8,   2.1019,  34.8711,2,  34.8700,2,  -999.0,9,   0.015,2,-999.000,9
   06MT22_2,       AR15,     530,          1,          6,          7,2,19921113,       0746,    -9.9950,   -32.4933,       4944,  3908.5,   1.8894,  34.8469,2,-999.0000,9,  -999.0,9,   0.019,2,-999.000,9
   06MT22_2,       AR15,     530,          1,          5,          6,2,19921113,       0746,    -9.9950,   -32.4933,       4944,  4109.4,   1.4454,  34.7968,2,  34.7950,2,  -999.0,9,   0.005,2,-999.000,9
   06MT22_2,       AR15,     530,          1,          4,          5,2,19921113,       0746,    -9.9950,   -32.4933,       4944,  4310.5,   1.1233,  34.7623,2,-999.0000,9,  -999.0,9,   0.020,2,-999.000,9
   06MT22_2,       AR15,     530,          1,          3,          4,2,19921113,       0746,    -9.9950,   -32.4933,       4944,  4510.6,   0.9294,  34.7397,2,-999.0000,9,  -999.0,9,   0.017,2,-999.000,9
   06MT22_2,       AR15,     530,          1,          2,          3,2,19921113,       0746,    -9.9950,   -32.4933,       4944,  4711.9,   0.7362,  34.7176,2,-999.0000,9,  -999.0,9,   0.033,2,-999.000,9
   06MT22_2,       AR15,     530,          1,          1,          1,2,19921113,       0746,    -9.9950,   -32.4933,       4944,  4981.0,   0.5968,  34.6998,2,-999.0000,9,   226.9,2,-999.000,9,-999.000,9