BOTTLE,20211029CCHSIORKP
EXPOCODE,SECT_ID,STNNBR,CASTNO,SAMPNO,BTLNBR,BTLNBR_FLAG_W,DATE,TIME,LATITUDE,LONGITUDE,DEPTH,CTDPRS,CTDTMP,CTDSAL,CTDSAL_FLAG_W,SALNTY,SALNTY_FLAG_W,OXYGEN,OXYGEN_FLAG_W,CFC-11,CFC-11_FLAG_W,CFC-12,CFC-12_FLAG_W
,,,,,,,,,,,METERS,DBAR,ITS-90,PSS-78,,PSS-78,,UMOL/KG,,PMOL/KG,,PMOL/KG,
   06MT22_2,       AR15,     518,          1,         19,         21,2,19921109,       1216,    -5.4238,   -33.1758,       4536,    11.2,  26.1982,  36.4300,2,  36.4270,2,  -999.0,9,-999.000,9,-999.000,9
   06MT22_2,       AR15,     518,          1,         18,         20,2,19921109,       1216,    -5.4238,   -33.1758,       4536,   999.0,   4.1894,  34.5847,2,-999.0000,9,   168.8,2,   0.043,2,   0.020,2
   06MT22_2,       AR15,     518,          1,         17,         19,2,19921109,       1216,    -5.4238,   -33.1758,       4536,  1200.0,   4.4578,  34.7720,2,-999.0000,9,   173.2,2,   0.009,2,   0.008,2
   06MT22_2,       AR15,     518,          1,         16,         18,2,19921109,       1216,    -5.4238,   -33.1758,       4536,  1400.7,   4.4545,  34.9276,2,-999.0000,9,   211.8,2,   0.068,2,   0.041,2
   06MT22_2,       AR15,     518,          1,         15,         17,2,19921109,       1216,    -5.4238,   -33.1758,       4536,  1600.5,   4.1849,  34.9769,2,-999.0000,9,   237.6,2,   0.081,2,   0.051,2
   06MT22_2,       AR15,     518,          1,         14,         16,2,19921109,       1216,    -5.4238,   -33.1758,       4536,  1700.3,   3.9829,  34.9879,2,  34.9850,2,   250.4,2,   0.100,2,   0.060,2
   06MT22_2,       AR15,     518,          1,         13,         15,2,19921109,       1216,    -5.4238,   -33.1758,       4536,  1800.3,   3.8481,  34.9863,2,-999.0000,9,  -999.0,9,-999.000,9,-999.000,9
   06MT22_2,       AR15,     518,          1,         12,         14,2,19921109,       1216,    -5.4238,   -33.1758,       4536,  1899.7,   3.7311,  34.9841,2,-999.0000,9,   256.7,2,   0.062,2,   0.043,2
   06MT22_2,       AR15,     518,          1,         11,         13,2,19921109,       1216,    -5.4238,   -33.1758,       4536,  2001.1,   3.6104,  34.9754,2,-999.0000,9,   257.5,2,   0.047,2,   0.060,2
   06MT22_2,       AR15,     518,          1,         10,         11,2,19921109,       1216,    -5.4238,   -33.1758,       4536,  2702.2,   2.8927,  34.9368,2,  34.9360,2,   258.9,2,   0.021,2,   0.017,2
   06MT22_2,       AR15,     518,          1,          9,         10,2,19921109,       1216,    -5.4238,   -33.1758,       4536,  3003.7,   2.7426,  34.9256,2,  34.9250,2,  -999.0,9,   0.020,2,   0.009,2
   06MT22_2,       AR15,     518,          1,          8,          9,2,19921109,       1216,    -5.4238,   -33.1758,       4536,  3506.6,   2.5364,  34.9152,2,-999.0000,9,   263.8,2,   0.034,2,   0.019,2
   06MT22_2,       AR15,     518,          1,          7,          8,2,19921109,       1216,    -5.4238,   -33.1758,       4536,  3707.3,   2.2274,  34.8873,2,-999.0000,9,  -999.0,9,-999.000,9,-999.000,9
   06MT22_2,       AR15,     518,          1,          6,          7,2,19921109,       1216,    -5.4238,   -33.1758,       4536,  3808.3,   2.0235,  34.8654,2,-999.0000,9,   256.3,2,   0.023,2,   0.016,2
   06MT22_2,       AR15,     518,          1,          5,          6,2,19921109,       1216,    -5.4238,   -33.1758,       4536,  3908.3,   1.8367,  34.8436,2,-999.0000,9,   252.8,2,   0.010,2,-999.000,9
   06MT22_2,       AR15,     518,          1,          4,          5,2,19921109,       1216,    -5.4238,   -33.1758,       4536,  4108.8,   1.4226,  34.7960,2,-999.0000,9,   243.0,2,   0.000,2,   0.013,2
   06MT22_2,       AR15,     518,          1,          3,          4,2,19921109,       1216,    -5.4238,   -33.1758,       4536,  4310.3,   1.0364,  34.7540,2,-999.0000,9,  -999.0,9,   0.008,2,   0.005,2
   06MT22_2,       AR15,     518,          1,          2,          3,2,19921109,       1216,    -5.4238,   -33.1758,       4536,  4410.3,   0.9247,  34.7403,2,  34.7410,2,  -999.0,9,   0.022,2,-999.000,9
   06MT22_2,       AR15,     518,          1,          1,          1,2,19921109,       1216,    -5.4238,   -33.1758,       4536,  4559.6,   0.7548,  34.7201,2,-999.0000,9,  -999.0,9,   0.031,2,   0.015,2
   06MT22_2,       AR15,     519,          1,          1,          1,2,19921109,       1740,    -5.3360,   -32.9938,       4560,  3003.0,   2.7412,  34.9269,2,  34.9240,2,   256.5,2,-999.000,9,-999.000,9
   06MT22_2,       AR15,     520,          1,         20,         21,2,19921110,       0015,    -5.3333,   -32.4567,       4624,    11.2,  26.1350,  36.4008,2,-999.0000,9,  -999.0,9,   0.000,2,   0.000,2
   06MT22_2,       AR15,     520,          1,         19,         20,2,19921110,       0015,    -5.3333,   -32.4567,       4624,   999.6,   3.8035,  34.5247,2,-999.0000,9,  -999.0,9,   0.055,2,   0.032,2
   06MT22_2,       AR15,     520,          1,         18,         19,2,19921110,       0015,    -5.3333,   -32.4567,       4624,  1198.8,   4.4325,  34.7845,2,-999.0000,9,  -999.0,9,   0.015,2,   0.010,2
   06MT22_2,       AR15,     520,          1,         17,         18,2,19921110,       0015,    -5.3333,   -32.4567,       4624,  1399.9,   4.4031,  34.8898,2,-999.0000,9,  -999.0,9,   0.027,2,   0.015,2
   06MT22_2,       AR15,     520,          1,         16,         17,2,19921110,       0015,    -5.3333,   -32.4567,       4624,  1599.9,   4.2206,  34.9734,2,-999.0000,9,  -999.0,9,   0.095,2,   0.058,2
   06MT22_2,       AR15,     520,          1,         15,         16,2,19921110,       0015,    -5.3333,   -32.4567,       4624,  1699.9,   4.0087,  34.9766,2,-999.0000,9,  -999.0,9,   0.055,2,   0.032,2
   06MT22_2,       AR15,     520,          1,         14,         15,2,19921110,       0015,    -5.3333,   -32.4567,       4624,  1800.2,   3.7771,  34.9804,2,-999.0000,9,  -999.0,9,   0.064,2,   0.034,2
   06MT22_2,       AR15,     520,          1,         13,         14,2,19921110,       0015,    -5.3333,   -32.4567,       4624,  1900.1,   3.6167,  34.9764,2,-999.0000,9,  -999.0,9,   0.045,2,   0.022,2
   06MT22_2,       AR15,     520,          1,         12,         13,2,19921110,       0015,    -5.3333,   -32.4567,       4624,  2301.4,   3.0322,  34.9449,2,-999.0000,9,  -999.0,9,   0.018,2,   0.012,2
   06MT22_2,       AR15,     520,          1,         11,         12,2,19921110,       0015,    -5.3333,   -32.4567,       4624,  2703.1,   2.8231,  34.9343,2,  34.9320,2,  -999.0,9,   0.018,2,   0.012,2
   06MT22_2,       AR15,     520,          1,         10,         11,2,19921110,       0015,    -5.3333,   -32.4567,       4624,  3003.8,   2.6926,  34.9235,2,  34.9230,2,  -999.0,9,   0.015,2,   0.007,2
   06MT22_2,       AR15,     520,          1,          9,         10,2,19921110,       0015,    -5.3333,   -32.4567,       4624,  3506.6,   2.5765,  34.9178,2,  34.9170,2,  -999.0,9,   0.028,2,   0.018,2
   06MT22_2,       AR15,     520,          1,          8,          9,2,19921110,       0015,    -5.3333,   -32.4567,       4624,  3707.1,   2.4205,  34.9058,2,  34.9040,2,  -999.0,9,   0.031,2,   0.028,2
   06MT22_2,       AR15,     520,          1,          7,          8,2,19921110,       0015,    -5.3333,   -32.4567,       4624,  3806.8,   2.2757,  34.8928,2,-999.0000,9,  -999.0,9,   0.031,2,   0.028,2
   06MT22_2,       AR15,     520,          1,          6,          7,2,19921110,       0015,    -5.3333,   -32.4567,       4624,  3908.5,   2.0817,  34.8703,2,-999.0000,9,  -999.0,9,   0.018,2,   0.020,2
   06MT22_2,       AR15,     520,          1,          5,          6,2,19921110,       0015,    -5.3333,   -32.4567,       4624,  4008.5,   1.8150,  34.8400,2,-999.0000,9,  -999.0,9,   0.004,2,   0.027,2
   06MT22_2,       AR15,     520,          1,          4,          5,2,19921110,       0015,    -5.3333,   -32.4567,       4624,  4209.9,   1.2986,  34.7843,2,-999.0000,9,  -999.0,9,   0.010,2,   0.024,2
   06MT22_2,       AR15,     520,          1,          3,          4,2,19921110,       0015,    -5.3333,   -32.4567,       4624,  4410.2,   1.0050,  34.7489,2,-999.0000,9,  -999.0,9,   0.010,2,   0.003,2
   06MT22_2,       AR15,     520,          1,          2,          3,2,19921110,       0015,    -5.3333,   -32.4567,       4624,  4510.6,   0.9013,  34.7371,2,-999.0000,9,  -999.0,9,   0.021,2,   0.041,2
   06MT22_2,       AR15,     520,          1,          1,          1,2,19921110,       0015,    -5.3333,   -32.4567,       4624,  4651.8,   0.7588,  34.7196,2,-999.0000,9,  -999.0,9,   0.029,2,   0.026,2
   06MT22_2,       AR15,     521,          1,         20,         21,2,19921110,       0951,    -5.2460,   -31.9870,       4677,    10.8,  26.0764,  36.4000,2,  36.3990,2,   205.5,2,-999.000,9,-999.000,9
   06MT22_2,       AR15,     521,          1,         19,         20,2,19921110,       0951,    -5.2460,   -31.9870,       4677,   999.4,   3.8721,  34.5573,2,-999.0000,9,   184.3,2,   0.072,2,-999.000,9
   06MT22_2,       AR15,     521,          1,         18,         19,2,19921110,       0951,    -5.2460,   -31.9870,       4677,  1199.5,   4.4330,  34.7835,2,-999.0000,9,   183.9,2,   0.018,2,-999.000,9
   06MT22_2,       AR15,     521,          1,         17,         18,2,19921110,       0951,    -5.2460,   -31.9870,       4677,  1399.6,   4.4384,  34.8841,2,-999.0000,9,  -999.0,9,-999.000,9,-999.000,9
   06MT22_2,       AR15,     521,          1,         16,         17,2,19921110,       0951,    -5.2460,   -31.9870,       4677,  1599.7,   4.1171,  34.9825,2,-999.0000,9,   242.5,2,   0.100,2,-999.000,9
   06MT22_2,       AR15,     521,          1,         15,         16,2,19921110,       0951,    -5.2460,   -31.9870,       4677,  1700.2,   3.8712,  34.9869,2,-999.0000,9,   254.0,2,   0.075,2,-999.000,9
   06MT22_2,       AR15,     521,          1,         14,         15,2,19921110,       0951,    -5.2460,   -31.9870,       4677,  1800.7,   3.6965,  34.9849,2,  34.9810,2,   258.6,2,   0.079,2,-999.000,9
   06MT22_2,       AR15,     521,          1,         13,         14,2,19921110,       0951,    -5.2460,   -31.9870,       4677,  1901.6,   3.6260,  34.9818,2,-999.0000,9,   258.0,2,   0.061,2,-999.000,9
   06MT22_2,       AR15,     521,          1,         12,         13,2,19921110,       0951,    -5.2460,   -31.9870,       4677,  2303.4,   3.1141,  34.9505,2,  34.9460,2,   257.8,2,   0.021,2,-999.000,9
   06MT22_2,       AR15,     521,          1,         11,         12,2,19921110,       0951,    -5.2460,   -31.9870,       4677,  2703.2,   2.7893,  34.9315,2,-999.0000,9,  -999.0,9,-999.000,9,-999.000,9
   06MT22_2,       AR15,     521,          1,         10,         11,2,19921110,       0951,    -5.2460,   -31.9870,       4677,  3005.4,   2.6824,  34.9247,2,  34.9240,2,   259.3,2,   0.019,2,-999.000,9
   06MT22_2,       AR15,     521,          1,          9,         10,2,19921110,       0951,    -5.2460,   -31.9870,       4677,  3505.5,   2.5395,  34.9157,2,  34.9150,2,   262.5,2,   0.031,2,-999.000,9
   06MT22_2,       AR15,     521,          1,          8,          9,2,19921110,       0951,    -5.2460,   -31.9870,       4677,  3706.5,   2.4255,  34.9076,2,-999.0000,9,   265.1,2,   0.037,2,-999.000,9
   06MT22_2,       AR15,     521,          1,          7,          8,2,19921110,       0951,    -5.2460,   -31.9870,       4677,  3807.9,   2.3349,  34.8987,2,-999.0000,9,   265.0,2,   0.036,2,-999.000,9
   06MT22_2,       AR15,     521,          1,          6,          7,2,19921110,       0951,    -5.2460,   -31.9870,       4677,  3908.3,   2.1972,  34.8842,2,-999.0000,9,   262.0,2,   0.036,2,-999.000,9
   06MT22_2,       AR15,     521,          1,          5,          6,2,19921110,       0951,    -5.2460,   -31.9870,       4677,  4008.5,   1.9769,  34.8583,2,-999.0000,9,   253.3,2,   0.017,2,-999.000,9
   06MT22_2,       AR15,     521,          1,          4,          5,2,19921110,       0951,    -5.2460,   -31.9870,       4677,  4210.1,   1.4802,  34.8020,2,-999.0000,9,   243.8,2,   0.007,2,-999.000,9
   06MT22_2,       AR15,     521,          1,          3,          4,2,19921110,       0951,    -5.2460,   -31.9870,       4677,  4410.2,   1.0519,  34.7533,2,-999.0000,9,  -999.0,9,   0.009,2,-999.000,9
   06MT22_2,       AR15,     521,          1,          2,          3,2,19921110,       0951,    -5.2460,   -31.9870,       4677,  4509.0,   0.8807,  34.7342,2,  34.7330,2,  -999.0,9,   0.025,2,-999.000,9
   06MT22_2,       AR15,     521,          1,          1,          1,2,19921110,       0951,    -5.2460,   -31.9870,       4677,  4716.6,   0.7248,  34.7161,2,  34.7160,2,  -999.0,9,   0.031,2,-999.000,9
   06MT22_2,       AR15,     522,          1,         20,         21,2,19921110,       1948,    -5.1628,   -31.4913,       4739,    10.6,  25.9172,  36.3253,2,  36.3220,2,  -999.0,9,   0.000,2,   0.000,2
   06MT22_2,       AR15,     522,          1,         19,         20,2,19921110,       1948,    -5.1628,   -31.4913,       4739,   999.7,   4.2376,  34.6026,2,-999.0000,9,  -999.0,9,   0.039,2,-999.000,9
   06MT22_2,       AR15,     522,          1,         18,         19,2,19921110,       1948,    -5.1628,   -31.4913,       4739,  1399.9,   4.4280,  34.8963,2,-999.0000,9,  -999.0,9,   0.031,2,-999.000,9
   06MT22_2,       AR15,     522,          1,         17,         18,2,19921110,       1948,    -5.1628,   -31.4913,       4739,  1599.7,   4.1901,  34.9814,2,-999.0000,9,  -999.0,9,   0.096,2,-999.000,9
   06MT22_2,       AR15,     522,          1,         16,         17,2,19921110,       1948,    -5.1628,   -31.4913,       4739,  1700.7,   3.9448,  34.9810,2,-999.0000,9,  -999.0,9,   0.056,2,-999.000,9
   06MT22_2,       AR15,     522,          1,         15,         16,2,19921110,       1948,    -5.1628,   -31.4913,       4739,  1800.8,   3.7871,  34.9803,2,  34.9770,2,  -999.0,9,   0.052,2,-999.000,9
   06MT22_2,       AR15,     522,          1,         14,         15,2,19921110,       1948,    -5.1628,   -31.4913,       4739,  1900.5,   3.6180,  34.9744,2,-999.0000,9,  -999.0,9,   0.042,2,-999.000,9
   06MT22_2,       AR15,     522,          1,         13,         14,2,19921110,       1948,    -5.1628,   -31.4913,       4739,  2000.4,   3.4358,  34.9614,2,  34.9590,2,  -999.0,9,   0.020,2,-999.000,9
   06MT22_2,       AR15,     522,          1,         12,         13,2,19921110,       1948,    -5.1628,   -31.4913,       4739,  2301.8,   3.0085,  34.9335,2,-999.0000,9,  -999.0,9,   0.007,2,-999.000,9
   06MT22_2,       AR15,     522,          1,         11,         12,2,19921110,       1948,    -5.1628,   -31.4913,       4739,  2702.7,   2.7739,  34.9276,2,-999.0000,9,  -999.0,9,-999.000,9,-999.000,9
   06MT22_2,       AR15,     522,          1,         10,         11,2,19921110,       1948,    -5.1628,   -31.4913,       4739,  3004.4,   2.6706,  34.9242,2,  34.9220,2,  -999.0,9,   0.017,2,-999.000,9
   06MT22_2,       AR15,     522,          1,          9,         10,2,19921110,       1948,    -5.1628,   -31.4913,       4739,  3505.9,   2.5075,  34.9143,2,  34.9130,2,  -999.0,9,   0.032,2,-999.000,9
   06MT22_2,       AR15,     522,          1,          8,          9,2,19921110,       1948,    -5.1628,   -31.4913,       4739,  3706.8,   2.3997,  34.9053,2,-999.0000,9,  -999.0,9,   0.044,2,-999.000,9
   06MT22_2,       AR15,     522,          1,          7,          8,2,19921110,       1948,    -5.1628,   -31.4913,       4739,  3808.1,   2.2898,  34.8939,2,-999.0000,9,  -999.0,9,-999.000,9,-999.000,9
   06MT22_2,       AR15,     522,          1,          6,          7,2,19921110,       1948,    -5.1628,   -31.4913,       4739,  3907.2,   2.1140,  34.8752,2,-999.0000,9,  -999.0,9,   0.039,2,-999.000,9
   06MT22_2,       AR15,     522,          1,          5,          6,2,19921110,       1948,    -5.1628,   -31.4913,       4739,  4108.8,   1.6985,  34.8262,2,-999.0000,9,  -999.0,9,   0.005,2,-999.000,9
   06MT22_2,       AR15,     522,          1,          4,          5,2,19921110,       1948,    -5.1628,   -31.4913,       4739,  4309.8,   1.2055,  34.7698,2,-999.0000,9,  -999.0,9,   0.011,2,-999.000,9
   06MT22_2,       AR15,     522,          1,          3,          4,2,19921110,       1948,    -5.1628,   -31.4913,       4739,  4510.4,   0.8895,  34.7352,2,-999.0000,9,  -999.0,9,   0.019,2,-999.000,9
   06MT22_2,       AR15,     522,          1,          2,          3,2,19921110,       1948,    -5.1628,   -31.4913,       4739,  4611.6,   0.8086,  34.7252,2,-999.0000,9,  -999.0,9,   0.022,2,-999.000,9
   06MT22_2,       AR15,     522,          1,          1,          1,2,19921110,       1948,    -5.1628,   -31.4913,       4739,  4770.7,   0.6714,  34.7099,2,  34.7060,2,  -999.0,9,   0.031,2,-999.000,9