BOTTLE,20211029CCHSIORKP
EXPOCODE,SECT_ID,STNNBR,CASTNO,SAMPNO,BTLNBR,BTLNBR_FLAG_W,DATE,TIME,LATITUDE,LONGITUDE,DEPTH,CTDPRS,CTDTMP,CTDSAL,CTDSAL_FLAG_W,SALNTY,SALNTY_FLAG_W,OXYGEN,OXYGEN_FLAG_W,CFC-11,CFC-11_FLAG_W,CFC-12,CFC-12_FLAG_W
,,,,,,,,,,,METERS,DBAR,ITS-90,PSS-78,,PSS-78,,UMOL/KG,,PMOL/KG,,PMOL/KG,
   06MT22_2,       AR4E,     492,          1,         15,         21,2,19921102,       2001,     4.0038,   -35.0280,       3509,     9.2,  27.5626,  36.0716,2,  36.0690,2,  -999.0,9,-999.000,9,-999.000,9
   06MT22_2,       AR4E,     492,          1,         14,         20,2,19921102,       2001,     4.0038,   -35.0280,       3509,   600.1,   5.9497,  34.5828,2,-999.0000,9,   129.1,2,   0.080,2,   0.062,2
   06MT22_2,       AR4E,     492,          1,         13,         19,2,19921102,       2001,     4.0038,   -35.0280,       3509,   799.9,   4.9388,  34.5642,2,-999.0000,9,   146.2,2,   0.026,2,-999.000,9
   06MT22_2,       AR4E,     492,          1,         12,         18,2,19921102,       2001,     4.0038,   -35.0280,       3509,   999.8,   4.6610,  34.6473,2,-999.0000,9,   157.1,2,   0.025,2,   0.015,2
   06MT22_2,       AR4E,     492,          1,         11,         17,2,19921102,       2001,     4.0038,   -35.0280,       3509,  1199.6,   4.6551,  34.8235,2,-999.0000,9,  -999.0,9,   0.018,2,   0.013,2
   06MT22_2,       AR4E,     492,          1,         10,         16,2,19921102,       2001,     4.0038,   -35.0280,       3509,  1399.4,   4.4841,  34.9475,2,-999.0000,9,  -999.0,9,   0.041,2,   0.032,2
   06MT22_2,       AR4E,     492,          1,          9,         15,2,19921102,       2001,     4.0038,   -35.0280,       3509,  1499.9,   4.2796,  34.9666,2,-999.0000,9,  -999.0,9,   0.051,2,   0.030,2
   06MT22_2,       AR4E,     492,          1,          8,         14,2,19921102,       2001,     4.0038,   -35.0280,       3509,  1600.2,   4.1488,  34.9826,2,-999.0000,9,  -999.0,9,   0.054,2,   0.041,2
   06MT22_2,       AR4E,     492,          1,          7,         13,2,19921102,       2001,     4.0038,   -35.0280,       3509,  1700.5,   4.0929,  34.9869,2,-999.0000,9,   249.3,2,   0.056,2,   0.040,2
   06MT22_2,       AR4E,     492,          1,          6,         12,2,19921102,       2001,     4.0038,   -35.0280,       3509,  1800.7,   3.9503,  34.9875,2,  34.9860,2,   255.0,2,   0.058,2,   0.048,2
   06MT22_2,       AR4E,     492,          1,          5,         11,2,19921102,       2001,     4.0038,   -35.0280,       3509,  1900.5,   3.8017,  34.9849,2,-999.0000,9,  -999.0,9,   0.062,2,   0.041,2
   06MT22_2,       AR4E,     492,          1,          4,         10,2,19921102,       2001,     4.0038,   -35.0280,       3509,  2000.9,   3.7315,  34.9825,2,  34.9800,2,   259.7,2,   0.056,2,-999.000,9
   06MT22_2,       AR4E,     492,          1,          3,          9,2,19921102,       2001,     4.0038,   -35.0280,       3509,  2200.2,   3.3827,  34.9632,2,-999.0000,9,   258.8,2,   0.027,2,   0.023,2
   06MT22_2,       AR4E,     492,          1,          2,          8,2,19921102,       2001,     4.0038,   -35.0280,       3509,  2301.9,   3.2266,  34.9573,2,  34.9550,2,   260.3,2,   0.027,2,   0.023,2
   06MT22_2,       AR4E,     492,          1,          1,          7,2,19921102,       2001,     4.0038,   -35.0280,       3509,  2517.1,   3.0302,  34.9484,2,  34.9480,2,   264.2,2,   0.016,2,   0.013,2
   06MT22_2,       AR4E,     493,          1,         15,         21,2,19921103,       0320,     3.1713,   -35.0300,       3518,     9.6,  26.7779,  36.1068,2,  36.1050,2,  -999.0,9,-999.000,9,-999.000,9
   06MT22_2,       AR4E,     493,          1,         14,         20,2,19921103,       0320,     3.1713,   -35.0300,       3518,   600.0,   5.8935,  34.5732,2,-999.0000,9,   137.2,2,   0.081,2,   0.044,2
   06MT22_2,       AR4E,     493,          1,         13,         19,2,19921103,       0320,     3.1713,   -35.0300,       3518,   800.4,   4.9693,  34.5653,2,-999.0000,9,  -999.0,9,   0.028,2,   0.021,2
   06MT22_2,       AR4E,     493,          1,         12,         18,2,19921103,       0320,     3.1713,   -35.0300,       3518,   999.5,   4.6346,  34.6524,2,-999.0000,9,   161.1,2,   0.016,2,   0.008,2
   06MT22_2,       AR4E,     493,          1,         11,         17,2,19921103,       0320,     3.1713,   -35.0300,       3518,  1199.0,   4.5350,  34.7927,2,-999.0000,9,  -999.0,9,-999.000,9,-999.000,9
   06MT22_2,       AR4E,     493,          1,         10,         16,2,19921103,       0320,     3.1713,   -35.0300,       3518,  1399.4,   4.4920,  34.9269,2,-999.0000,9,  -999.0,9,   0.035,2,   0.020,2
   06MT22_2,       AR4E,     493,          1,          9,         15,2,19921103,       0320,     3.1713,   -35.0300,       3518,  1499.3,   4.3640,  34.9753,2,-999.0000,9,  -999.0,9,-999.000,9,   0.034,2
   06MT22_2,       AR4E,     493,          1,          8,         14,2,19921103,       0320,     3.1713,   -35.0300,       3518,  1600.2,   4.1573,  34.9779,2,-999.0000,9,   241.7,2,   0.044,2,   0.029,2
   06MT22_2,       AR4E,     493,          1,          7,         13,2,19921103,       0320,     3.1713,   -35.0300,       3518,  1700.3,   4.0480,  34.9882,2,-999.0000,9,   252.9,2,   0.063,2,   0.041,2
   06MT22_2,       AR4E,     493,          1,          6,         12,2,19921103,       0320,     3.1713,   -35.0300,       3518,  1800.4,   3.8979,  34.9850,2,  34.9820,2,   255.0,2,   0.054,2,   0.035,2
   06MT22_2,       AR4E,     493,          1,          5,         11,2,19921103,       0320,     3.1713,   -35.0300,       3518,  1899.6,   3.7379,  34.9817,2,-999.0000,9,   260.5,2,   0.050,2,   0.033,2
   06MT22_2,       AR4E,     493,          1,          4,         10,2,19921103,       0320,     3.1713,   -35.0300,       3518,  2000.7,   3.6162,  34.9770,2,  34.9760,2,   259.7,2,   0.051,2,   0.035,2
   06MT22_2,       AR4E,     493,          1,          3,          9,2,19921103,       0320,     3.1713,   -35.0300,       3518,  2201.1,   3.3924,  34.9676,2,  34.9660,2,   261.0,2,   0.032,2,   0.020,2
   06MT22_2,       AR4E,     493,          1,          2,          8,2,19921103,       0320,     3.1713,   -35.0300,       3518,  2301.6,   3.2875,  34.9621,2,-999.0000,9,   265.8,2,-999.000,9,   0.014,2
   06MT22_2,       AR4E,     493,          1,          1,          7,2,19921103,       0320,     3.1713,   -35.0300,       3518,  2507.0,   3.0801,  34.9495,2,  34.9470,2,  -999.0,9,   0.022,2,   0.023,2
   06MT22_2,       AR4E,     494,          1,         15,         21,2,19921103,       1043,     2.3358,   -35.0302,       4150,    11.4,  26.5919,  36.1293,2,  36.1280,2,  -999.0,9,-999.000,9,-999.000,9
   06MT22_2,       AR4E,     494,          1,         14,         20,2,19921103,       1043,     2.3358,   -35.0302,       4150,   600.2,   5.8096,  34.5682,2,-999.0000,9,   137.2,2,   0.091,2,   0.059,2
   06MT22_2,       AR4E,     494,          1,         13,         19,2,19921103,       1043,     2.3358,   -35.0302,       4150,   799.4,   4.7304,  34.5519,2,-999.0000,9,   157.5,2,   0.040,2,   0.025,2
   06MT22_2,       AR4E,     494,          1,         12,         18,2,19921103,       1043,     2.3358,   -35.0302,       4150,   999.3,   4.6370,  34.6628,2,-999.0000,9,   161.1,2,   0.031,2,   0.023,2
   06MT22_2,       AR4E,     494,          1,         11,         17,2,19921103,       1043,     2.3358,   -35.0302,       4150,  1199.4,   4.5837,  34.7947,2,-999.0000,9,   176.3,2,   0.009,2,   0.014,2
   06MT22_2,       AR4E,     494,          1,         10,         16,2,19921103,       1043,     2.3358,   -35.0302,       4150,  1399.5,   4.5705,  34.9508,2,-999.0000,9,   217.8,2,   0.059,2,   0.041,2
   06MT22_2,       AR4E,     494,          1,          9,         15,2,19921103,       1043,     2.3358,   -35.0302,       4150,  1499.7,   4.3336,  34.9669,2,-999.0000,9,  -999.0,9,   0.070,2,   0.038,2
   06MT22_2,       AR4E,     494,          1,          8,         14,2,19921103,       1043,     2.3358,   -35.0302,       4150,  1600.9,   4.1353,  34.9810,2,-999.0000,9,   241.7,2,   0.046,2,   0.040,2
   06MT22_2,       AR4E,     494,          1,          7,         13,2,19921103,       1043,     2.3358,   -35.0302,       4150,  1700.5,   4.0130,  34.9873,2,-999.0000,9,   252.9,2,   0.054,2,   0.040,2
   06MT22_2,       AR4E,     494,          1,          6,         12,2,19921103,       1043,     2.3358,   -35.0302,       4150,  1800.6,   3.8890,  34.9855,2,  34.9830,2,   255.0,2,   0.052,2,   0.040,2
   06MT22_2,       AR4E,     494,          1,          5,         11,2,19921103,       1043,     2.3358,   -35.0302,       4150,  1900.5,   3.7655,  34.9834,2,-999.0000,9,   260.3,2,   0.060,2,   0.049,2
   06MT22_2,       AR4E,     494,          1,          4,         10,2,19921103,       1043,     2.3358,   -35.0302,       4150,  2000.4,   3.6317,  34.9772,2,  34.9770,2,   259.7,2,   0.022,2,   0.022,2
   06MT22_2,       AR4E,     494,          1,          3,          9,2,19921103,       1043,     2.3358,   -35.0302,       4150,  2202.1,   3.3567,  34.9651,2,  34.9640,2,   261.0,2,   0.054,2,   0.033,2
   06MT22_2,       AR4E,     494,          1,          2,          8,2,19921103,       1043,     2.3358,   -35.0302,       4150,  2301.2,   3.2470,  34.9600,2,-999.0000,9,   265.8,2,-999.000,9,   0.020,2
   06MT22_2,       AR4E,     494,          1,          1,          1,2,19921103,       1043,     2.3358,   -35.0302,       4150,  2515.4,   3.0832,  34.9530,2,  34.9530,2,   263.2,2,   0.018,2,   0.021,2
   06MT22_2,       AR4E,     495,          1,         13,         20,2,19921103,       1803,     1.5042,   -35.0342,       4040,    10.2,  26.5839,  36.1664,2,  36.1630,2,   207.3,2,-999.000,9,-999.000,9
   06MT22_2,       AR4E,     495,          1,         12,         19,2,19921103,       1803,     1.5042,   -35.0342,       4040,   800.0,   4.7228,  34.5218,2,-999.0000,9,   159.3,2,   0.131,2,   0.074,2
   06MT22_2,       AR4E,     495,          1,         11,         18,2,19921103,       1803,     1.5042,   -35.0342,       4040,   998.9,   4.4845,  34.6245,2,-999.0000,9,   159.8,2,   0.049,2,-999.000,9
   06MT22_2,       AR4E,     495,          1,         10,         17,2,19921103,       1803,     1.5042,   -35.0342,       4040,  1198.6,   4.6465,  34.8422,2,-999.0000,9,  -999.0,9,   0.014,2,   0.007,2
   06MT22_2,       AR4E,     495,          1,          9,         16,2,19921103,       1803,     1.5042,   -35.0342,       4040,  1398.9,   4.4507,  34.9645,2,-999.0000,9,  -999.0,9,   0.024,2,   0.021,2
   06MT22_2,       AR4E,     495,          1,          8,         15,2,19921103,       1803,     1.5042,   -35.0342,       4040,  1499.3,   4.4197,  34.9839,2,-999.0000,9,   229.1,2,   0.094,2,   0.051,2
   06MT22_2,       AR4E,     495,          1,          7,         14,2,19921103,       1803,     1.5042,   -35.0342,       4040,  1599.6,   4.3101,  34.9887,2,-999.0000,9,   238.2,2,   0.110,2,   0.073,2
   06MT22_2,       AR4E,     495,          1,          6,         13,2,19921103,       1803,     1.5042,   -35.0342,       4040,  1698.9,   4.1539,  34.9865,2,  34.9840,2,   244.8,2,   0.103,2,   0.063,2
   06MT22_2,       AR4E,     495,          1,          5,         12,2,19921103,       1803,     1.5042,   -35.0342,       4040,  1799.9,   3.9482,  34.9892,2,-999.0000,9,   246.8,2,   0.072,2,   0.045,2
   06MT22_2,       AR4E,     495,          1,          4,         10,2,19921103,       1803,     1.5042,   -35.0342,       4040,  1999.5,   3.6068,  34.9811,2,  34.9800,2,   264.2,2,   0.072,2,   0.041,2
   06MT22_2,       AR4E,     495,          1,          3,          9,2,19921103,       1803,     1.5042,   -35.0342,       4040,  2201.7,   3.3691,  34.9700,2,  34.9710,2,   265.1,2,   0.056,2,-999.000,9
   06MT22_2,       AR4E,     495,          1,          2,          8,2,19921103,       1803,     1.5042,   -35.0342,       4040,  2301.1,   3.2201,  34.9551,2,-999.0000,9,  -999.0,9,-999.000,9,-999.000,9
   06MT22_2,       AR4E,     495,          1,          1,          6,2,19921103,       1803,     1.5042,   -35.0342,       4040,  2504.5,   3.0479,  34.9455,2,  34.9440,2,   259.1,2,   0.010,2,   0.007,2
   06MT22_2,       AR4E,     496,          1,         20,         21,2,19921104,       0207,     0.6498,   -34.9917,       4545,    10.2,  26.1326,  36.3251,2,  36.3240,2,  -999.0,9,-999.000,9,-999.000,9
   06MT22_2,       AR4E,     496,          1,         19,         20,2,19921104,       0207,     0.6498,   -34.9917,       4545,   800.1,   4.8400,  34.5095,2,-999.0000,9,  -999.0,9,-999.000,9,-999.000,9
   06MT22_2,       AR4E,     496,          1,         18,         19,2,19921104,       0207,     0.6498,   -34.9917,       4545,   999.8,   4.5219,  34.6062,2,-999.0000,9,   156.1,2,   0.051,2,   0.033,2
   06MT22_2,       AR4E,     496,          1,         17,         18,2,19921104,       0207,     0.6498,   -34.9917,       4545,  1198.4,   4.5941,  34.8865,2,-999.0000,9,  -999.0,9,   0.020,2,   0.011,2
   06MT22_2,       AR4E,     496,          1,         16,         17,2,19921104,       0207,     0.6498,   -34.9917,       4545,  1399.9,   4.4201,  34.9367,2,-999.0000,9,   219.0,2,   0.038,2,   0.025,2
   06MT22_2,       AR4E,     496,          1,         15,         16,2,19921104,       0207,     0.6498,   -34.9917,       4545,  1600.3,   4.2033,  34.9778,2,  34.9730,2,   240.5,2,   0.055,2,   0.035,2
   06MT22_2,       AR4E,     496,          1,         14,         15,2,19921104,       0207,     0.6498,   -34.9917,       4545,  1700.0,   4.1625,  34.9880,2,  34.9840,2,  -999.0,9,   0.083,2,   0.050,2
   06MT22_2,       AR4E,     496,          1,         13,         14,2,19921104,       0207,     0.6498,   -34.9917,       4545,  1800.2,   3.9873,  34.9898,2,  34.9870,2,   252.4,2,   0.071,2,   0.044,2
   06MT22_2,       AR4E,     496,          1,         12,         13,2,19921104,       0207,     0.6498,   -34.9917,       4545,  2001.5,   3.6663,  34.9828,2,-999.0000,9,  -999.0,9,-999.000,9,-999.000,9
   06MT22_2,       AR4E,     496,          1,         11,         12,2,19921104,       0207,     0.6498,   -34.9917,       4545,  2300.7,   3.2487,  34.9647,2,  34.9620,2,   264.1,2,   0.033,2,   0.021,2
   06MT22_2,       AR4E,     496,          1,         10,         11,2,19921104,       0207,     0.6498,   -34.9917,       4545,  2501.6,   3.0124,  34.9439,2,-999.0000,9,   256.2,2,   0.013,2,   0.007,2
   06MT22_2,       AR4E,     496,          1,          9,         10,2,19921104,       0207,     0.6498,   -34.9917,       4545,  3004.9,   2.7438,  34.9307,2,-999.0000,9,   262.8,2,   0.024,2,   0.014,2
   06MT22_2,       AR4E,     496,          1,          8,          9,2,19921104,       0207,     0.6498,   -34.9917,       4545,  3305.3,   2.6058,  34.9192,2,-999.0000,9,   261.5,2,   0.023,2,   0.015,2
   06MT22_2,       AR4E,     496,          1,          7,          8,2,19921104,       0207,     0.6498,   -34.9917,       4545,  3605.9,   2.4186,  34.9089,2,  34.9080,2,   261.5,2,   0.047,2,   0.029,2
   06MT22_2,       AR4E,     496,          1,          6,          7,2,19921104,       0207,     0.6498,   -34.9917,       4545,  3807.5,   2.3290,  34.9031,2,-999.0000,9,   265.1,2,-999.000,9,-999.000,9
   06MT22_2,       AR4E,     496,          1,          5,          6,2,19921104,       0207,     0.6498,   -34.9917,       4545,  3907.4,   2.3035,  34.8989,2,-999.0000,9,   266.3,2,   0.059,2,   0.038,2
   06MT22_2,       AR4E,     496,          1,          4,          5,2,19921104,       0207,     0.6498,   -34.9917,       4545,  4008.8,   2.2238,  34.8893,2,  34.8890,2,  -999.0,9,   0.062,2,   0.048,2
   06MT22_2,       AR4E,     496,          1,          3,          4,2,19921104,       0207,     0.6498,   -34.9917,       4545,  4159.9,   1.6001,  34.8184,2,-999.0000,9,   248.4,2,   0.021,2,   0.023,2
   06MT22_2,       AR4E,     496,          1,          2,          3,2,19921104,       0207,     0.6498,   -34.9917,       4545,  4360.3,   1.0599,  34.7563,2,-999.0000,9,  -999.0,9,   0.019,2,   0.020,2
   06MT22_2,       AR4E,     496,          1,          1,          1,2,19921104,       0207,     0.6498,   -34.9917,       4545,  4560.9,   0.9755,  34.7435,2,  34.7450,2,  -999.0,9,   0.017,2,   0.022,2