BOTTLE,20211029CCHSIORKP
EXPOCODE,SECT_ID,STNNBR,CASTNO,SAMPNO,BTLNBR,BTLNBR_FLAG_W,DATE,TIME,LATITUDE,LONGITUDE,DEPTH,CTDPRS,CTDTMP,CTDSAL,CTDSAL_FLAG_W,SALNTY,SALNTY_FLAG_W,OXYGEN,OXYGEN_FLAG_W,CFC-11,CFC-11_FLAG_W,CFC-12,CFC-12_FLAG_W
,,,,,,,,,,,METERS,DBAR,ITS-90,PSS-78,,PSS-78,,UMOL/KG,,PMOL/KG,,PMOL/KG,
   06MT22_2,       AR15,     513,          1,         14,         21,2,19921108,       0812,    -5.5963,   -34.7865,     -999.0,    10.1,  26.2716,  36.4209,2,  36.4160,2,  -999.0,9,   0.000,2,   0.000,2
   06MT22_2,       AR15,     513,          1,         13,         14,2,19921108,       0812,    -5.5963,   -34.7865,     -999.0,   699.8,   5.1895,  34.4744,2,-999.0000,9,  -999.0,9,   0.125,2,   0.067,2
   06MT22_2,       AR15,     513,          1,         12,         13,2,19921108,       0812,    -5.5963,   -34.7865,     -999.0,   903.0,   4.1158,  34.4829,2,-999.0000,9,  -999.0,9,   0.125,2,   0.085,2
   06MT22_2,       AR15,     513,          1,         11,         12,2,19921108,       0812,    -5.5963,   -34.7865,     -999.0,   999.6,   3.8867,  34.5337,2,-999.0000,9,  -999.0,9,-999.000,9,-999.000,9
   06MT22_2,       AR15,     513,          1,         10,         11,2,19921108,       0812,    -5.5963,   -34.7865,     -999.0,  1198.7,   4.2671,  34.7123,2,  34.7080,2,  -999.0,9,   0.027,2,   0.015,2
   06MT22_2,       AR15,     513,          1,          9,         10,2,19921108,       0812,    -5.5963,   -34.7865,     -999.0,  1399.8,   4.4071,  34.8893,2,-999.0000,9,  -999.0,9,   0.041,2,   0.025,2
   06MT22_2,       AR15,     513,          1,          8,          9,2,19921108,       0812,    -5.5963,   -34.7865,     -999.0,  1698.5,   4.0514,  34.9762,2,-999.0000,9,  -999.0,9,   0.055,2,   0.035,2
   06MT22_2,       AR15,     513,          1,          7,          8,2,19921108,       0812,    -5.5963,   -34.7865,     -999.0,  1800.5,   3.9086,  34.9829,2,-999.0000,9,  -999.0,9,-999.000,9,-999.000,9
   06MT22_2,       AR15,     513,          1,          6,          7,2,19921108,       0812,    -5.5963,   -34.7865,     -999.0,  1900.8,   3.7836,  34.9835,2,-999.0000,9,  -999.0,9,   0.089,2,   0.049,2
   06MT22_2,       AR15,     513,          1,          5,          6,2,19921108,       0812,    -5.5963,   -34.7865,     -999.0,  2000.0,   3.6726,  34.9812,2,  34.9800,2,  -999.0,9,   0.077,2,   0.043,2
   06MT22_2,       AR15,     513,          1,          4,          5,2,19921108,       0812,    -5.5963,   -34.7865,     -999.0,  2302.1,   3.2483,  34.9629,2,  34.9600,2,  -999.0,9,   0.055,2,   0.046,2
   06MT22_2,       AR15,     513,          1,          3,          4,2,19921108,       0812,    -5.5963,   -34.7865,     -999.0,  2502.7,   3.0494,  34.9523,2,  34.9490,2,  -999.0,9,   0.040,2,   0.024,2
   06MT22_2,       AR15,     513,          1,          2,          3,2,19921108,       0812,    -5.5963,   -34.7865,     -999.0,  2602.8,   2.9330,  34.9443,2,-999.0000,9,  -999.0,9,   0.036,2,   0.017,2
   06MT22_2,       AR15,     513,          1,          1,          1,2,19921108,       0812,    -5.5963,   -34.7865,     -999.0,  2655.9,   2.9028,  34.9425,2,  34.9410,2,  -999.0,9,   0.034,2,   0.020,2
   06MT22_2,       AR15,     514,          1,         16,         21,2,19921108,       1157,    -5.5642,   -34.6035,       3432,    10.8,  26.2471,  36.3950,2,  36.3900,2,  -999.0,9,-999.000,9,-999.000,9
   06MT22_2,       AR15,     514,          1,         15,         16,2,19921108,       1157,    -5.5642,   -34.6035,       3432,   599.2,   6.0766,  34.5322,2,-999.0000,9,   135.4,2,   0.176,2,   0.070,2
   06MT22_2,       AR15,     514,          1,         14,         15,2,19921108,       1157,    -5.5642,   -34.6035,       3432,   799.1,   4.4800,  34.4535,2,-999.0000,9,   169.4,2,   0.102,2,   0.060,2
   06MT22_2,       AR15,     514,          1,         13,         14,2,19921108,       1157,    -5.5642,   -34.6035,       3432,   999.7,   3.9405,  34.5737,2,-999.0000,9,   176.9,2,   0.032,2,   0.014,2
   06MT22_2,       AR15,     514,          1,         12,         13,2,19921108,       1157,    -5.5642,   -34.6035,       3432,  1199.2,   4.2028,  34.7239,2,-999.0000,9,   182.4,2,   0.012,2,   0.037,2
   06MT22_2,       AR15,     514,          1,         11,         12,2,19921108,       1157,    -5.5642,   -34.6035,       3432,  1400.2,   4.3902,  34.9085,2,-999.0000,9,  -999.0,9,-999.000,9,-999.000,9
   06MT22_2,       AR15,     514,          1,         10,         11,2,19921108,       1157,    -5.5642,   -34.6035,       3432,  1599.9,   4.1790,  34.9622,2,-999.0000,9,  -999.0,9,   0.046,2,   0.030,2
   06MT22_2,       AR15,     514,          1,          9,         10,2,19921108,       1157,    -5.5642,   -34.6035,       3432,  1700.1,   4.0043,  34.9826,2,-999.0000,9,   248.0,2,   0.099,2,   0.050,2
   06MT22_2,       AR15,     514,          1,          8,          9,2,19921108,       1157,    -5.5642,   -34.6035,       3432,  1800.3,   3.9164,  34.9841,2,  34.9810,2,   248.8,2,   0.090,2,   0.046,2
   06MT22_2,       AR15,     514,          1,          7,          8,2,19921108,       1157,    -5.5642,   -34.6035,       3432,  1900.1,   3.7587,  34.9827,2,-999.0000,9,   255.7,2,   0.097,2,   0.049,2
   06MT22_2,       AR15,     514,          1,          6,          7,2,19921108,       1157,    -5.5642,   -34.6035,       3432,  2001.6,   3.6207,  34.9800,2,  34.9770,2,   259.8,2,   0.077,2,   0.048,2
   06MT22_2,       AR15,     514,          1,          5,          6,2,19921108,       1157,    -5.5642,   -34.6035,       3432,  2301.6,   3.2123,  34.9616,2,  34.9610,2,   263.8,2,   0.050,2,   0.056,2
   06MT22_2,       AR15,     514,          1,          4,          5,2,19921108,       1157,    -5.5642,   -34.6035,       3432,  2703.0,   2.8082,  34.9379,2,  34.9360,2,   262.3,2,   0.040,2,   0.033,2
   06MT22_2,       AR15,     514,          1,          3,          4,2,19921108,       1157,    -5.5642,   -34.6035,       3432,  3003.9,   2.6978,  34.9274,2,  34.9260,2,   260.4,2,   0.029,2,   0.019,2
   06MT22_2,       AR15,     514,          1,          2,          3,2,19921108,       1157,    -5.5642,   -34.6035,       3432,  3205.3,   2.6715,  34.9239,2,  34.9230,2,   262.1,2,   0.033,2,   0.054,2
   06MT22_2,       AR15,     514,          1,          1,          1,2,19921108,       1157,    -5.5642,   -34.6035,       3432,  3426.1,   2.6507,  34.9208,2,-999.0000,9,   261.7,2,   0.033,2,   0.024,2
   06MT22_2,       AR15,     515,          1,         17,         21,2,19921108,       1718,    -5.5452,   -34.3328,       3950,    11.1,  26.4645,  36.4721,2,  36.4690,2,  -999.0,9,   0.000,2,   0.000,2
   06MT22_2,       AR15,     515,          1,         16,         17,2,19921108,       1718,    -5.5452,   -34.3328,       3950,   700.3,   5.0409,  34.4272,2,-999.0000,9,  -999.0,9,   0.417,2,   0.213,2
   06MT22_2,       AR15,     515,          1,         15,         16,2,19921108,       1718,    -5.5452,   -34.3328,       3950,   898.6,   4.0553,  34.4888,2,-999.0000,9,  -999.0,9,   0.053,2,   0.033,2
   06MT22_2,       AR15,     515,          1,         14,         15,2,19921108,       1718,    -5.5452,   -34.3328,       3950,  1099.2,   4.1679,  34.6937,2,-999.0000,9,  -999.0,9,   0.028,2,   0.019,2
   06MT22_2,       AR15,     515,          1,         13,         14,2,19921108,       1718,    -5.5452,   -34.3328,       3950,  1299.0,   4.5080,  34.8655,2,-999.0000,9,  -999.0,9,   0.043,2,   0.024,2
   06MT22_2,       AR15,     515,          1,         12,         13,2,19921108,       1718,    -5.5452,   -34.3328,       3950,  1398.8,   4.5220,  34.9275,2,-999.0000,9,  -999.0,9,   0.067,2,   0.044,2
   06MT22_2,       AR15,     515,          1,         11,         12,2,19921108,       1718,    -5.5452,   -34.3328,       3950,  1498.9,   4.4694,  34.9534,2,-999.0000,9,  -999.0,9,   0.080,2,   0.047,2
   06MT22_2,       AR15,     515,          1,         10,         11,2,19921108,       1718,    -5.5452,   -34.3328,       3950,  1599.6,   4.2658,  34.9637,2,  34.9610,2,  -999.0,9,-999.000,9,-999.000,9
   06MT22_2,       AR15,     515,          1,          9,         10,2,19921108,       1718,    -5.5452,   -34.3328,       3950,  1799.9,   3.8330,  34.9830,2,  34.9810,2,  -999.0,9,   0.076,2,   0.047,2
   06MT22_2,       AR15,     515,          1,          8,          9,2,19921108,       1718,    -5.5452,   -34.3328,       3950,  1899.8,   3.6479,  34.9807,2,-999.0000,9,  -999.0,9,   0.073,2,   0.043,2
   06MT22_2,       AR15,     515,          1,          7,          8,2,19921108,       1718,    -5.5452,   -34.3328,       3950,  2001.1,   3.5306,  34.9780,2,-999.0000,9,  -999.0,9,   0.071,2,   0.042,2
   06MT22_2,       AR15,     515,          1,          6,          7,2,19921108,       1718,    -5.5452,   -34.3328,       3950,  2301.9,   3.1400,  34.9602,2,  34.9580,2,  -999.0,9,   0.048,2,   0.027,2
   06MT22_2,       AR15,     515,          1,          5,          6,2,19921108,       1718,    -5.5452,   -34.3328,       3950,  2702.9,   2.8011,  34.9299,2,  34.9270,2,  -999.0,9,   0.008,2,   0.014,2
   06MT22_2,       AR15,     515,          1,          4,          5,2,19921108,       1718,    -5.5452,   -34.3328,       3950,  3003.8,   2.7375,  34.9320,2,  34.9300,2,  -999.0,9,-999.000,9,-999.000,9
   06MT22_2,       AR15,     515,          1,          3,          4,2,19921108,       1718,    -5.5452,   -34.3328,       3950,  3407.4,   2.6223,  34.9182,2,  34.9180,2,  -999.0,9,   0.016,2,   0.007,2
   06MT22_2,       AR15,     515,          1,          2,          3,2,19921108,       1718,    -5.5452,   -34.3328,       3950,  3606.5,   2.5352,  34.9146,2,-999.0000,9,  -999.0,9,-999.000,9,-999.000,9
   06MT22_2,       AR15,     515,          1,          1,          1,2,19921108,       1718,    -5.5452,   -34.3328,       3950,  3947.6,   1.5494,  34.8088,2,-999.0000,9,  -999.0,9,-999.000,9,-999.000,9
   06MT22_2,       AR15,     516,          1,         20,         21,2,19921108,       2320,    -5.5275,   -34.0145,       4210,    10.5,  26.3069,  36.4709,2,  36.4680,2,   205.6,2,-999.000,9,-999.000,9
   06MT22_2,       AR15,     516,          1,         19,         20,2,19921108,       2320,    -5.5275,   -34.0145,       4210,   799.5,   4.3453,  34.4327,2,-999.0000,9,   179.9,2,   0.203,2,   0.099,2
   06MT22_2,       AR15,     516,          1,         18,         19,2,19921108,       2320,    -5.5275,   -34.0145,       4210,   999.9,   4.0267,  34.6298,2,-999.0000,9,   175.0,2,   0.014,2,   0.008,2
   06MT22_2,       AR15,     516,          1,         17,         18,2,19921108,       2320,    -5.5275,   -34.0145,       4210,  1199.7,   4.4025,  34.8134,2,-999.0000,9,   189.2,2,   0.025,2,   0.016,2
   06MT22_2,       AR15,     516,          1,         16,         17,2,19921108,       2320,    -5.5275,   -34.0145,       4210,  1400.0,   4.4646,  34.9421,2,-999.0000,9,   220.8,2,   0.077,2,   0.048,2
   06MT22_2,       AR15,     516,          1,         15,         16,2,19921108,       2320,    -5.5275,   -34.0145,       4210,  1600.5,   4.0844,  34.9907,2,-999.0000,9,   248.6,2,   0.113,2,   0.064,2
   06MT22_2,       AR15,     516,          1,         14,         15,2,19921108,       2320,    -5.5275,   -34.0145,       4210,  1700.5,   3.8428,  34.9883,2,  34.9850,2,   256.4,2,   0.091,2,   0.060,2
   06MT22_2,       AR15,     516,          1,         13,         14,2,19921108,       2320,    -5.5275,   -34.0145,       4210,  1800.7,   3.7203,  34.9846,2,  34.9820,2,   256.7,2,   0.070,2,   0.042,2
   06MT22_2,       AR15,     516,          1,         12,         13,2,19921108,       2320,    -5.5275,   -34.0145,       4210,  1901.4,   3.6328,  34.9825,2,-999.0000,9,   260.0,2,   0.079,2,   0.066,2
   06MT22_2,       AR15,     516,          1,         11,         12,2,19921108,       2320,    -5.5275,   -34.0145,       4210,  2001.6,   3.5526,  34.9794,2,-999.0000,9,  -999.0,9,-999.000,9,-999.000,9
   06MT22_2,       AR15,     516,          1,         10,         11,2,19921108,       2320,    -5.5275,   -34.0145,       4210,  2301.2,   3.1873,  34.9623,2,  34.9610,2,   264.6,2,   0.049,2,   0.027,2
   06MT22_2,       AR15,     516,          1,          9,         10,2,19921108,       2320,    -5.5275,   -34.0145,       4210,  2702.7,   2.8321,  34.9323,2,  34.9300,2,   256.8,2,   0.020,2,   0.007,2
   06MT22_2,       AR15,     516,          1,          8,          9,2,19921108,       2320,    -5.5275,   -34.0145,       4210,  3004.8,   2.7294,  34.9257,2,  34.9230,2,   257.2,2,   0.022,2,   0.008,2
   06MT22_2,       AR15,     516,          1,          7,          8,2,19921108,       2320,    -5.5275,   -34.0145,       4210,  3507.0,   2.5847,  34.9183,2,-999.0000,9,  -999.0,9,-999.000,9,-999.000,9
   06MT22_2,       AR15,     516,          1,          6,          7,2,19921108,       2320,    -5.5275,   -34.0145,       4210,  3707.3,   2.4702,  34.9107,2,  34.9090,2,   263.3,2,   0.051,2,   0.026,2
   06MT22_2,       AR15,     516,          1,          5,          6,2,19921108,       2320,    -5.5275,   -34.0145,       4210,  3807.5,   1.9777,  34.8593,2,-999.0000,9,   254.6,2,   0.010,2,   0.023,2
   06MT22_2,       AR15,     516,          1,          4,          5,2,19921108,       2320,    -5.5275,   -34.0145,       4210,  3908.6,   1.8761,  34.8461,2,-999.0000,9,   252.2,2,   0.022,2,-999.000,9
   06MT22_2,       AR15,     516,          1,          3,          4,2,19921108,       2320,    -5.5275,   -34.0145,       4210,  4008.8,   1.5430,  34.8095,2,  34.8080,2,   245.7,2,   0.003,2,   0.011,2
   06MT22_2,       AR15,     516,          1,          2,          3,2,19921108,       2320,    -5.5275,   -34.0145,       4210,  4109.2,   1.3593,  34.7872,2,  34.7860,2,   239.3,2,   0.019,2,   0.036,2
   06MT22_2,       AR15,     516,          1,          1,          2,2,19921108,       2320,    -5.5275,   -34.0145,       4210,  4187.4,   1.2179,  34.7709,2,-999.0000,9,   236.4,2,   0.015,2,   0.010,2
   06MT22_2,       AR15,     517,          1,         19,         21,2,19921109,       0550,    -5.4938,   -33.6433,       4406,    12.2,  26.2436,  36.4606,2,  36.4600,2,  -999.0,9,-999.000,9,-999.000,9
   06MT22_2,       AR15,     517,          1,         18,         20,2,19921109,       0550,    -5.4938,   -33.6433,       4406,  1001.5,   4.1919,  34.6205,2,-999.0000,9,  -999.0,9,   0.040,2,   0.026,2
   06MT22_2,       AR15,     517,          1,         17,         19,2,19921109,       0550,    -5.4938,   -33.6433,       4406,  1199.1,   4.4731,  34.8199,2,-999.0000,9,  -999.0,9,   0.031,2,   0.020,2
   06MT22_2,       AR15,     517,          1,         16,         18,2,19921109,       0550,    -5.4938,   -33.6433,       4406,  1400.2,   4.4752,  34.9504,2,-999.0000,9,  -999.0,9,   0.098,2,   0.058,2
   06MT22_2,       AR15,     517,          1,         15,         17,2,19921109,       0550,    -5.4938,   -33.6433,       4406,  1600.4,   4.0509,  34.9859,2,  34.9820,2,  -999.0,9,   0.107,2,   0.064,2
   06MT22_2,       AR15,     517,          1,         14,         16,2,19921109,       0550,    -5.4938,   -33.6433,       4406,  1699.6,   3.8779,  34.9889,2,  34.9870,2,  -999.0,9,   0.091,2,   0.066,2
   06MT22_2,       AR15,     517,          1,         13,         15,2,19921109,       0550,    -5.4938,   -33.6433,       4406,  1801.0,   3.7356,  34.9848,2,  34.9830,2,  -999.0,9,   0.074,2,   0.046,2
   06MT22_2,       AR15,     517,          1,         12,         14,2,19921109,       0550,    -5.4938,   -33.6433,       4406,  1899.9,   3.6527,  34.9829,2,-999.0000,9,  -999.0,9,   0.071,2,   0.040,2
   06MT22_2,       AR15,     517,          1,         11,         13,2,19921109,       0550,    -5.4938,   -33.6433,       4406,  2000.1,   3.5757,  34.9797,2,-999.0000,9,  -999.0,9,   0.059,2,   0.042,2
   06MT22_2,       AR15,     517,          1,         10,         12,2,19921109,       0550,    -5.4938,   -33.6433,       4406,  2302.3,   3.2660,  34.9639,2,  34.9640,2,  -999.0,9,   0.035,2,   0.024,2
   06MT22_2,       AR15,     517,          1,          9,         11,2,19921109,       0550,    -5.4938,   -33.6433,       4406,  2702.2,   2.9947,  34.9492,2,  34.9490,2,  -999.0,9,-999.000,9,-999.000,9
   06MT22_2,       AR15,     517,          1,          8,         10,2,19921109,       0550,    -5.4938,   -33.6433,       4406,  3004.6,   2.7879,  34.9286,2,  34.9270,2,  -999.0,9,   0.021,2,   0.011,2
   06MT22_2,       AR15,     517,          1,          7,          9,2,19921109,       0550,    -5.4938,   -33.6433,       4406,  3506.5,   2.6100,  34.9191,2,-999.0000,9,  -999.0,9,   0.032,2,   0.016,2
   06MT22_2,       AR15,     517,          1,          6,          8,2,19921109,       0550,    -5.4938,   -33.6433,       4406,  3706.8,   2.4728,  34.9119,2,  34.9100,2,  -999.0,9,   0.040,2,   0.021,2
   06MT22_2,       AR15,     517,          1,          5,          7,2,19921109,       0550,    -5.4938,   -33.6433,       4406,  3806.1,   2.3226,  34.8962,2,-999.0000,9,  -999.0,9,   0.044,2,   0.022,2
   06MT22_2,       AR15,     517,          1,          4,          6,2,19921109,       0550,    -5.4938,   -33.6433,       4406,  3908.2,   2.0035,  34.8611,2,-999.0000,9,  -999.0,9,   0.016,2,   0.009,2
   06MT22_2,       AR15,     517,          1,          3,          5,2,19921109,       0550,    -5.4938,   -33.6433,       4406,  4108.6,   1.4809,  34.8000,2,  34.7970,2,  -999.0,9,   0.014,2,   0.006,2
   06MT22_2,       AR15,     517,          1,          2,          4,2,19921109,       0550,    -5.4938,   -33.6433,       4406,  4309.0,   1.0056,  34.7476,2,-999.0000,9,  -999.0,9,   0.020,2,   0.011,2
   06MT22_2,       AR15,     517,          1,          1,          1,2,19921109,       0550,    -5.4938,   -33.6433,       4406,  4421.9,   0.9097,  34.7370,2,  34.7360,2,  -999.0,9,   0.022,2,   0.013,2