BOTTLE,20211029CCHSIORKP
# Original header:
# Changed SALNTY fill flag to 9
#code : jjward hyd_to_exchange.pl 
#original files copied from HTML directory: 20010508
#original HYD file: ir06_ahy.txt   Mon Mar 26 14:51:38 2001
#original SUM file: ir06_asu.txt.tmp   Tue May  8 14:39:17 2001
EXPOCODE,SECT_ID,STNNBR,CASTNO,SAMPNO,BTLNBR,BTLNBR_FLAG_W,DATE,TIME,LATITUDE,LONGITUDE,DEPTH,CTDPRS,CTDTMP,CTDSAL,CTDSAL_FLAG_W,SALNTY,SALNTY_FLAG_W,CTDOXY,CTDOXY_FLAG_W,OXYGEN,OXYGEN_FLAG_W,SILCAT,SILCAT_FLAG_W,NITRAT,NITRAT_FLAG_W,PHSPHT,PHSPHT_FLAG_W
,,,,,,,,,,,METERS,DBAR,ITS-90,PSS-78,,PSS-78,,UMOL/KG,,UMOL/KG,,UMOL/KG,,UMOL/KG,,UMOL/KG,
 09FA9503_1,      IR6_3,       1,          1,         23,         23,2,19950402,       0509,   -28.8255,   113.5198,         10,   801.0,   4.8150,  34.4050,2,  34.4032,2,-999.0000,5,  -999.0,9, -999.00,9, -999.00,9, -999.00,9
 09FA9503_1,      IR6_3,       1,          1,         22,         22,2,19950402,       0509,   -28.8255,   113.5198,         10,   801.0,   4.8170,  34.4040,2,  34.4033,2,-999.0000,5,  -999.0,9, -999.00,9, -999.00,9, -999.00,9
 09FA9503_1,      IR6_3,       1,          1,         21,         21,2,19950402,       0509,   -28.8255,   113.5198,         10,   801.0,   4.8150,  34.4040,2,  34.4041,2,-999.0000,5,  -999.0,9, -999.00,9, -999.00,9, -999.00,9
 09FA9503_1,      IR6_3,       1,          1,         19,         19,2,19950402,       0509,   -28.8255,   113.5198,         10,   801.2,   4.8130,  34.4050,2,  34.4038,2,-999.0000,5,  -999.0,9, -999.00,9, -999.00,9, -999.00,9
 09FA9503_1,      IR6_3,       1,          1,         18,         18,2,19950402,       0509,   -28.8255,   113.5198,         10,   801.3,   4.8120,  34.4050,2,  34.4035,2,-999.0000,5,  -999.0,9, -999.00,9, -999.00,9, -999.00,9
 09FA9503_1,      IR6_3,       1,          1,         17,         17,2,19950402,       0509,   -28.8255,   113.5198,         10,   801.4,   4.8130,  34.4050,2,  34.4036,2,-999.0000,5,  -999.0,9, -999.00,9, -999.00,9, -999.00,9
 09FA9503_1,      IR6_3,       1,          1,         15,         15,2,19950402,       0509,   -28.8255,   113.5198,         10,   801.4,   4.8110,  34.4060,2,  34.4044,2,-999.0000,5,  -999.0,9, -999.00,9, -999.00,9, -999.00,9
 09FA9503_1,      IR6_3,       1,          1,         14,         14,2,19950402,       0509,   -28.8255,   113.5198,         10,   801.5,   4.8130,  34.4050,2,  34.4049,2,-999.0000,5,  -999.0,9, -999.00,9, -999.00,9, -999.00,9
 09FA9503_1,      IR6_3,       1,          1,         13,         13,2,19950402,       0509,   -28.8255,   113.5198,         10,   801.6,   4.8120,  34.4060,2,  34.4061,2,-999.0000,5,  -999.0,9, -999.00,9, -999.00,9, -999.00,9
 09FA9503_1,      IR6_3,       1,          1,         11,         11,2,19950402,       0509,   -28.8255,   113.5198,         10,   801.6,   4.8140,  34.4050,2,  34.4050,2,-999.0000,5,  -999.0,9, -999.00,9, -999.00,9, -999.00,9
 09FA9503_1,      IR6_3,       1,          1,         10,         10,2,19950402,       0509,   -28.8255,   113.5198,         10,   801.7,   4.8130,  34.4050,2,  34.4046,2,-999.0000,5,  -999.0,9, -999.00,9, -999.00,9, -999.00,9
 09FA9503_1,      IR6_3,       1,          1,          9,          9,2,19950402,       0509,   -28.8255,   113.5198,         10,   801.7,   4.8110,  34.4060,2,  34.4049,2,-999.0000,5,  -999.0,9, -999.00,9, -999.00,9, -999.00,9
 09FA9503_1,      IR6_3,       1,          1,          8,          8,2,19950402,       0509,   -28.8255,   113.5198,         10,   801.7,   4.8120,  34.4050,2,  34.4048,2,-999.0000,5,  -999.0,9, -999.00,9, -999.00,9, -999.00,9
 09FA9503_1,      IR6_3,       1,          1,          7,          7,2,19950402,       0509,   -28.8255,   113.5198,         10,   801.9,   4.8090,  34.4040,2,  34.4044,2,-999.0000,5,  -999.0,9, -999.00,9, -999.00,9, -999.00,9
 09FA9503_1,      IR6_3,       1,          1,          4,          4,2,19950402,       0509,   -28.8255,   113.5198,         10,   841.1,   4.9390,  34.4620,2,  34.4649,2,-999.0000,5,  -999.0,9, -999.00,9, -999.00,9, -999.00,9
 09FA9503_1,      IR6_3,       1,          1,          2,          2,2,19950402,       0509,   -28.8255,   113.5198,         10,   845.9,   4.9090,  34.4640,2,  34.4734,2,-999.0000,5,  -999.0,9, -999.00,9, -999.00,9, -999.00,9
 09FA9503_1,      IR6_3,       1,          1,          1,          1,2,19950402,       0509,   -28.8255,   113.5198,         10,   849.4,   4.8930,  34.4680,2,  34.4734,2,-999.0000,5,  -999.0,9, -999.00,9, -999.00,9, -999.00,9
 09FA9503_1,      IR6_3,       2,          1,         24,         24,2,19950403,       1053,   -24.3742,   110.6050,         10,   693.4,   6.6950,  34.5270,2,  34.5325,2,-999.0000,5,  -999.0,9, -999.00,9, -999.00,9, -999.00,9
 09FA9503_1,      IR6_3,       2,          1,         23,         23,2,19950403,       1053,   -24.3742,   110.6050,         10,   693.4,   6.6930,  34.5270,2,  34.5314,2,-999.0000,5,  -999.0,9, -999.00,9, -999.00,9, -999.00,9
 09FA9503_1,      IR6_3,       2,          1,         22,         22,2,19950403,       1053,   -24.3742,   110.6050,         10,   693.5,   6.6940,  34.5270,2,  34.5322,2,-999.0000,5,  -999.0,9, -999.00,9, -999.00,9, -999.00,9
 09FA9503_1,      IR6_3,       2,          1,         21,         21,2,19950403,       1053,   -24.3742,   110.6050,         10,   693.8,   6.6900,  34.5290,2,  34.5310,2,-999.0000,5,  -999.0,9, -999.00,9, -999.00,9, -999.00,9
 09FA9503_1,      IR6_3,       2,          1,         20,         20,2,19950403,       1053,   -24.3742,   110.6050,         10,   694.7,   6.6850,  34.5290,2,  34.5326,2,-999.0000,5,  -999.0,9, -999.00,9, -999.00,9, -999.00,9
 09FA9503_1,      IR6_3,       2,          1,         19,         19,2,19950403,       1053,   -24.3742,   110.6050,         10,   694.7,   6.6870,  34.5300,2,  34.5311,2,-999.0000,5,  -999.0,9, -999.00,9, -999.00,9, -999.00,9
 09FA9503_1,      IR6_3,       2,          1,         18,         18,2,19950403,       1053,   -24.3742,   110.6050,         10,   695.2,   6.6820,  34.5290,2,  34.5331,2,-999.0000,5,  -999.0,9, -999.00,9, -999.00,9, -999.00,9
 09FA9503_1,      IR6_3,       2,          1,         17,         17,2,19950403,       1053,   -24.3742,   110.6050,         10,   696.1,   6.6800,  34.5290,2,  34.5300,2,-999.0000,5,  -999.0,9, -999.00,9, -999.00,9, -999.00,9
 09FA9503_1,      IR6_3,       2,          1,         15,         15,2,19950403,       1053,   -24.3742,   110.6050,         10,   696.5,   6.6820,  34.5320,2,  34.5300,2,-999.0000,5,  -999.0,9, -999.00,9, -999.00,9, -999.00,9
 09FA9503_1,      IR6_3,       2,          1,         14,         14,2,19950403,       1053,   -24.3742,   110.6050,         10,   697.0,   6.6690,  34.5300,2,  34.5320,2,-999.0000,5,  -999.0,9, -999.00,9, -999.00,9, -999.00,9
 09FA9503_1,      IR6_3,       2,          1,         13,         13,2,19950403,       1053,   -24.3742,   110.6050,         10,   697.1,   6.6680,  34.5300,2,  34.5313,2,-999.0000,5,  -999.0,9, -999.00,9, -999.00,9, -999.00,9
 09FA9503_1,      IR6_3,       2,          1,         12,         12,2,19950403,       1053,   -24.3742,   110.6050,         10,   697.2,   6.6730,  34.5300,2,  34.5313,2,-999.0000,5,  -999.0,9, -999.00,9, -999.00,9, -999.00,9
 09FA9503_1,      IR6_3,       2,          1,         11,         11,2,19950403,       1053,   -24.3742,   110.6050,         10,   697.6,   6.6890,  34.5360,2,  34.5293,2,-999.0000,5,  -999.0,9, -999.00,9, -999.00,9, -999.00,9
 09FA9503_1,      IR6_3,       2,          1,         10,         10,2,19950403,       1053,   -24.3742,   110.6050,         10,   697.8,   6.6700,  34.5330,2,  34.5288,2,-999.0000,5,  -999.0,9, -999.00,9, -999.00,9, -999.00,9
 09FA9503_1,      IR6_3,       2,          1,          9,          9,2,19950403,       1053,   -24.3742,   110.6050,         10,   698.1,   6.6550,  34.5320,2,  34.5288,2,-999.0000,5,  -999.0,9, -999.00,9, -999.00,9, -999.00,9
 09FA9503_1,      IR6_3,       2,          1,          8,          8,2,19950403,       1053,   -24.3742,   110.6050,         10,   698.1,   6.6730,  34.5330,2,  34.5268,2,-999.0000,5,  -999.0,9, -999.00,9, -999.00,9, -999.00,9
 09FA9503_1,      IR6_3,       2,          1,          7,          7,2,19950403,       1053,   -24.3742,   110.6050,         10,   698.3,   6.6650,  34.5320,2,  34.5268,2,-999.0000,5,  -999.0,9, -999.00,9, -999.00,9, -999.00,9
 09FA9503_1,      IR6_3,       2,          1,          6,          6,2,19950403,       1053,   -24.3742,   110.6050,         10,   698.9,   6.6270,  34.5310,2,  34.5279,2,-999.0000,5,  -999.0,9, -999.00,9, -999.00,9, -999.00,9
 09FA9503_1,      IR6_3,       2,          1,          5,          5,2,19950403,       1053,   -24.3742,   110.6050,         10,   699.3,   6.6140,  34.5310,2,  34.5295,2,-999.0000,5,  -999.0,9, -999.00,9, -999.00,9, -999.00,9
 09FA9503_1,      IR6_3,       2,          1,          4,          4,2,19950403,       1053,   -24.3742,   110.6050,         10,   700.2,   6.6060,  34.5320,2,  34.5302,2,-999.0000,5,  -999.0,9, -999.00,9, -999.00,9, -999.00,9
 09FA9503_1,      IR6_3,       2,          1,          3,          3,2,19950403,       1053,   -24.3742,   110.6050,         10,   701.0,   6.6040,  34.5310,2,  34.5298,2,-999.0000,5,  -999.0,9, -999.00,9, -999.00,9, -999.00,9
 09FA9503_1,      IR6_3,       2,          1,          2,          2,2,19950403,       1053,   -24.3742,   110.6050,         10,   701.5,   6.6040,  34.5320,2,  34.5306,2,-999.0000,5,  -999.0,9, -999.00,9, -999.00,9, -999.00,9
 09FA9503_1,      IR6_3,       2,          1,          1,          1,2,19950403,       1053,   -24.3742,   110.6050,         10,   701.7,   6.6030,  34.5310,2,  34.5345,2,-999.0000,5,  -999.0,9, -999.00,9, -999.00,9, -999.00,9
 09FA9503_1,      IR6_3,       3,          1,         17,         24,2,19950403,       1456,   -24.4090,   110.9350,         10,     1.6,  26.6650,  35.4900,2,  35.4871,2,-999.0000,5,   214.6,2, -999.00,9, -999.00,9, -999.00,9
 09FA9503_1,      IR6_3,       3,          1,         16,         25,2,19950403,       1456,   -24.4090,   110.9350,         10,    48.9,  23.6970,  35.3430,2,  35.3463,2,-999.0000,5,   229.5,2, -999.00,9, -999.00,9, -999.00,9
 09FA9503_1,      IR6_3,       3,          1,         15,         15,2,19950403,       1456,   -24.4090,   110.9350,         10,    97.1,  21.1570,  35.5160,2,  35.5074,2,-999.0000,5,   193.9,2, -999.00,9, -999.00,9, -999.00,9
 09FA9503_1,      IR6_3,       3,          1,         14,         14,2,19950403,       1456,   -24.4090,   110.9350,         10,   197.8,  18.1330,  35.8630,2,  35.8546,2,-999.0000,5,   216.9,2, -999.00,9, -999.00,9, -999.00,9
 09FA9503_1,      IR6_3,       3,          1,         13,         13,2,19950403,       1456,   -24.4090,   110.9350,         10,   298.4,  14.1340,  35.4590,2,  35.4639,2,-999.0000,5,   238.7,2, -999.00,9, -999.00,9, -999.00,9
 09FA9503_1,      IR6_3,       3,          1,         12,         12,2,19950403,       1456,   -24.4090,   110.9350,         10,   397.5,  11.1010,  34.9740,2,  34.9760,2,-999.0000,5,   249.9,2, -999.00,9, -999.00,9, -999.00,9
 09FA9503_1,      IR6_3,       3,          1,         11,         11,2,19950403,       1456,   -24.4090,   110.9350,         10,   526.5,   9.3990,  34.6980,2,  34.7004,2,-999.0000,5,   248.4,2, -999.00,9, -999.00,9, -999.00,9
 09FA9503_1,      IR6_3,       3,          1,         10,         10,2,19950403,       1456,   -24.4090,   110.9350,         10,   595.5,   8.5480,  34.5970,2,  34.5940,2,-999.0000,5,   234.4,2, -999.00,9, -999.00,9, -999.00,9
 09FA9503_1,      IR6_3,       3,          1,          9,          9,2,19950403,       1456,   -24.4090,   110.9350,         10,   696.7,   6.8940,  34.5390,2,  34.5393,2,-999.0000,5,   172.8,2, -999.00,9, -999.00,9, -999.00,9
 09FA9503_1,      IR6_3,       3,          1,          8,          8,2,19950403,       1456,   -24.4090,   110.9350,         10,   795.5,   6.1200,  34.5700,2,  34.5711,2,-999.0000,5,   131.6,2, -999.00,9, -999.00,9, -999.00,9
 09FA9503_1,      IR6_3,       3,          1,          7,          7,2,19950403,       1456,   -24.4090,   110.9350,         10,   896.0,   5.4380,  34.5780,2,  34.5789,2,-999.0000,5,   122.9,2, -999.00,9, -999.00,9, -999.00,9
 09FA9503_1,      IR6_3,       3,          1,          6,          6,2,19950403,       1456,   -24.4090,   110.9350,         10,  1054.8,   5.0720,  34.6110,2,  34.6098,2,-999.0000,5,   109.3,2, -999.00,9, -999.00,9, -999.00,9
 09FA9503_1,      IR6_3,       3,          1,          5,          5,2,19950403,       1456,   -24.4090,   110.9350,         10,  1194.9,   4.6700,  34.6120,2,  34.6154,2,-999.0000,5,   116.3,2, -999.00,9, -999.00,9, -999.00,9
 09FA9503_1,      IR6_3,       3,          1,          4,          4,2,19950403,       1456,   -24.4090,   110.9350,         10,  1396.2,   3.7250,  34.6010,2,  34.6022,2,-999.0000,5,   139.0,2, -999.00,9, -999.00,9, -999.00,9
 09FA9503_1,      IR6_3,       3,          1,          3,          3,2,19950403,       1456,   -24.4090,   110.9350,         10,  1594.6,   3.3120,  34.6490,2,  34.6483,2,-999.0000,5,   139.7,2, -999.00,9, -999.00,9, -999.00,9
 09FA9503_1,      IR6_3,       3,          1,          2,          2,2,19950403,       1456,   -24.4090,   110.9350,         10,  1795.9,   2.8360,  34.6790,2,  34.6779,2,-999.0000,5,   155.1,2, -999.00,9, -999.00,9, -999.00,9
 09FA9503_1,      IR6_3,       3,          1,          1,          1,2,19950403,       1456,   -24.4090,   110.9350,         10,  1986.1,   2.4880,  34.7070,2,  34.7106,2,-999.0000,5,   155.7,2, -999.00,9, -999.00,9, -999.00,9
 09FA9503_1,      IR6_3,       4,          1,         15,         24,2,19950403,       1928,   -24.4963,   111.2817,         10,     2.9,  26.5350,  35.5540,2,  35.5504,2,-999.0000,5,   215.7,2, -999.00,9, -999.00,9, -999.00,9
 09FA9503_1,      IR6_3,       4,          1,         14,         14,2,19950403,       1928,   -24.4963,   111.2817,         10,    48.9,  24.6350,  35.3590,2,  35.3845,2,-999.0000,5,   228.5,2, -999.00,9, -999.00,9, -999.00,9
 09FA9503_1,      IR6_3,       4,          1,         13,         13,2,19950403,       1928,   -24.4963,   111.2817,         10,    98.6,  20.5050,  35.4740,2,  35.4843,2,-999.0000,5,   183.0,2, -999.00,9, -999.00,9, -999.00,9
 09FA9503_1,      IR6_3,       4,          1,         12,         12,2,19950403,       1928,   -24.4963,   111.2817,         10,   147.4,  18.7460,  35.6970,2,-999.0000,9,-999.0000,5,   192.7,2, -999.00,9, -999.00,9, -999.00,9
 09FA9503_1,      IR6_3,       4,          1,         11,         11,2,19950403,       1928,   -24.4963,   111.2817,         10,   199.1,  17.7030,  35.8780,2,  35.8767,2,-999.0000,5,   222.9,2, -999.00,9, -999.00,9, -999.00,9
 09FA9503_1,      IR6_3,       4,          1,         10,         10,2,19950403,       1928,   -24.4963,   111.2817,         10,   297.5,  14.3780,  35.5030,2,  35.5025,2,-999.0000,5,   236.2,2, -999.00,9, -999.00,9, -999.00,9
 09FA9503_1,      IR6_3,       4,          1,          9,          9,2,19950403,       1928,   -24.4963,   111.2817,         10,   395.9,  11.5340,  35.0500,2,  35.0462,2,-999.0000,5,   247.6,2, -999.00,9, -999.00,9, -999.00,9
 09FA9503_1,      IR6_3,       4,          1,          8,          8,2,19950403,       1928,   -24.4963,   111.2817,         10,   498.5,   9.8330,  34.7690,2,  34.7668,2,-999.0000,5,   249.8,2, -999.00,9, -999.00,9, -999.00,9
 09FA9503_1,      IR6_3,       4,          1,          7,          7,2,19950403,       1928,   -24.4963,   111.2817,         10,   560.2,   9.3130,  34.6890,2,  34.6859,2,-999.0000,5,   244.6,2, -999.00,9, -999.00,9, -999.00,9
 09FA9503_1,      IR6_3,       4,          1,          6,          6,2,19950403,       1928,   -24.4963,   111.2817,         10,   697.7,   7.3480,  34.5250,2,  34.5254,2,-999.0000,5,   202.8,2, -999.00,9, -999.00,9, -999.00,9
 09FA9503_1,      IR6_3,       4,          1,          5,          5,2,19950403,       1928,   -24.4963,   111.2817,         10,   796.8,   5.9130,  34.5010,2,  34.5011,2,-999.0000,5,   166.4,2, -999.00,9, -999.00,9, -999.00,9
 09FA9503_1,      IR6_3,       4,          1,          4,          4,2,19950403,       1928,   -24.4963,   111.2817,         10,   896.5,   5.3210,  34.5290,2,  34.5227,2,-999.0000,5,   144.2,2, -999.00,9, -999.00,9, -999.00,9
 09FA9503_1,      IR6_3,       4,          1,          3,          3,2,19950403,       1928,   -24.4963,   111.2817,         10,   995.7,   5.0520,  34.5670,2,  34.5677,2,-999.0000,5,   126.9,2, -999.00,9, -999.00,9, -999.00,9
 09FA9503_1,      IR6_3,       4,          1,          2,          2,2,19950403,       1928,   -24.4963,   111.2817,         10,  1144.9,   4.5950,  34.6050,2,  34.6079,2,-999.0000,5,   118.0,2, -999.00,9, -999.00,9, -999.00,9
 09FA9503_1,      IR6_3,       4,          1,          1,          1,2,19950403,       1928,   -24.4963,   111.2817,         10,  1378.0,   3.6180,  34.6330,2,  34.6363,2,-999.0000,5,   132.1,2, -999.00,9, -999.00,9, -999.00,9
 09FA9503_1,      IR6_3,       5,          1,         12,         24,2,19950403,       2355,   -24.5702,   111.6533,         10,     2.5,  26.4760,  35.7010,2,  35.7020,2,-999.0000,5,   216.1,2, -999.00,9, -999.00,9, -999.00,9
 09FA9503_1,      IR6_3,       5,          1,         11,         11,2,19950403,       2355,   -24.5702,   111.6533,         10,    48.9,  24.5320,  35.5740,2,  35.5769,2,-999.0000,5,   228.5,2, -999.00,9, -999.00,9, -999.00,9
 09FA9503_1,      IR6_3,       5,          1,         10,         10,2,19950403,       2355,   -24.5702,   111.6533,         10,    99.0,  20.7560,  35.7780,2,  35.7796,2,-999.0000,5,   223.5,2, -999.00,9, -999.00,9, -999.00,9
 09FA9503_1,      IR6_3,       5,          1,          9,          9,2,19950403,       2355,   -24.5702,   111.6533,         10,   198.7,  17.3990,  35.8300,2,  35.8344,2,-999.0000,5,   220.9,2, -999.00,9, -999.00,9, -999.00,9
 09FA9503_1,      IR6_3,       5,          1,          8,          8,2,19950403,       2355,   -24.5702,   111.6533,         10,   298.4,  13.8240,  35.4180,2,  35.4222,2,-999.0000,5,   237.9,2, -999.00,9, -999.00,9, -999.00,9
 09FA9503_1,      IR6_3,       5,          1,          7,          7,2,19950403,       2355,   -24.5702,   111.6533,         10,   397.6,  11.3370,  35.0140,2,  35.0124,2,-999.0000,5,   246.4,2, -999.00,9, -999.00,9, -999.00,9
 09FA9503_1,      IR6_3,       5,          1,          6,          6,2,19950403,       2355,   -24.5702,   111.6533,         10,   497.6,   9.7220,  34.7490,2,  34.7513,2,-999.0000,5,   248.0,2, -999.00,9, -999.00,9, -999.00,9
 09FA9503_1,      IR6_3,       5,          1,          5,          5,2,19950403,       2355,   -24.5702,   111.6533,         10,   547.2,   9.3080,  34.6850,2,  34.6829,2,-999.0000,5,   244.8,2, -999.00,9, -999.00,9, -999.00,9
 09FA9503_1,      IR6_3,       5,          1,          4,          4,2,19950403,       2355,   -24.5702,   111.6533,         10,   697.5,   7.0740,  34.4920,2,-999.0000,9,-999.0000,5,   215.5,2, -999.00,9, -999.00,9, -999.00,9
 09FA9503_1,      IR6_3,       5,          1,          3,          3,2,19950403,       2355,   -24.5702,   111.6533,         10,   796.8,   5.7770,  34.4620,2,  34.4594,2,-999.0000,5,   180.7,2, -999.00,9, -999.00,9, -999.00,9
 09FA9503_1,      IR6_3,       5,          1,          2,          2,2,19950403,       2355,   -24.5702,   111.6533,         10,   888.7,   5.2260,  34.5330,2,  34.5288,2,-999.0000,5,   139.7,2, -999.00,9, -999.00,9, -999.00,9
 09FA9503_1,      IR6_3,       5,          1,          1,          1,2,19950403,       2355,   -24.5702,   111.6533,         10,   972.0,   5.0560,  34.5770,2,  34.5805,2,-999.0000,5,   118.6,2, -999.00,9, -999.00,9, -999.00,9