BOTTLE,20211029CCHSIORKP
EXPOCODE,SECT_ID,STNNBR,CASTNO,SAMPNO,BTLNBR,BTLNBR_FLAG_W,DATE,TIME,LATITUDE,LONGITUDE,DEPTH,CTDPRS,CTDTMP,CTDSAL,CTDSAL_FLAG_W,SALNTY,SALNTY_FLAG_W,CTDOXY,CTDOXY_FLAG_W,OXYGEN,OXYGEN_FLAG_W,SILCAT,SILCAT_FLAG_W,NITRAT,NITRAT_FLAG_W,PHSPHT,PHSPHT_FLAG_W
,,,,,,,,,,,METERS,DBAR,ITS-90,PSS-78,,PSS-78,,UMOL/KG,,UMOL/KG,,UMOL/KG,,UMOL/KG,,UMOL/KG,
 09FA9503_1,      IR6_3,      26,          1,         23,         24,2,19950406,       2051,   -21.9747,   109.6785,         10,     4.0,  27.1320,  35.6110,2,  35.6106,2,-999.0000,5,  -999.0,9, -999.00,9, -999.00,9, -999.00,9
 09FA9503_1,      IR6_3,      26,          1,         22,         22,2,19950406,       2051,   -21.9747,   109.6785,         10,    50.6,  25.1670,  35.6250,2,  35.6177,2,-999.0000,5,  -999.0,9, -999.00,9, -999.00,9, -999.00,9
 09FA9503_1,      IR6_3,      26,          1,         21,         21,2,19950406,       2051,   -21.9747,   109.6785,         10,   101.1,  20.9710,  35.5640,2,  35.5664,2,-999.0000,5,  -999.0,9, -999.00,9, -999.00,9, -999.00,9
 09FA9503_1,      IR6_3,      26,          1,         20,         20,2,19950406,       2051,   -21.9747,   109.6785,         10,   148.1,  19.8310,  35.8430,2,  35.8421,2,-999.0000,5,  -999.0,9, -999.00,9, -999.00,9, -999.00,9
 09FA9503_1,      IR6_3,      26,          1,         19,         19,2,19950406,       2051,   -21.9747,   109.6785,         10,   199.0,  18.4020,  35.7950,2,  35.7888,2,-999.0000,5,  -999.0,9, -999.00,9, -999.00,9, -999.00,9
 09FA9503_1,      IR6_3,      26,          1,         18,         18,2,19950406,       2051,   -21.9747,   109.6785,         10,   299.3,  14.8950,  35.5730,2,  35.5739,2,-999.0000,5,  -999.0,9, -999.00,9, -999.00,9, -999.00,9
 09FA9503_1,      IR6_3,      26,          1,         17,         17,2,19950406,       2051,   -21.9747,   109.6785,         10,   394.9,  12.0850,  35.1420,2,  35.1431,2,-999.0000,5,  -999.0,9, -999.00,9, -999.00,9, -999.00,9
 09FA9503_1,      IR6_3,      26,          1,         16,          6,2,19950406,       2051,   -21.9747,   109.6785,         10,   495.4,   9.7090,  34.7530,2,  34.7614,2,-999.0000,5,  -999.0,9, -999.00,9, -999.00,9, -999.00,9
 09FA9503_1,      IR6_3,      26,          1,         15,         15,2,19950406,       2051,   -21.9747,   109.6785,         10,   593.0,   8.3100,  34.5880,2,  34.5902,2,-999.0000,5,  -999.0,9, -999.00,9, -999.00,9, -999.00,9
 09FA9503_1,      IR6_3,      26,          1,         14,         14,2,19950406,       2051,   -21.9747,   109.6785,         10,   694.6,   6.8650,  34.5540,2,  34.5557,2,-999.0000,5,  -999.0,9, -999.00,9, -999.00,9, -999.00,9
 09FA9503_1,      IR6_3,      26,          1,         13,         13,2,19950406,       2051,   -21.9747,   109.6785,         10,   793.9,   5.9550,  34.5730,2,-999.0000,9,-999.0000,5,  -999.0,9, -999.00,9, -999.00,9, -999.00,9
 09FA9503_1,      IR6_3,      26,          1,         12,         12,2,19950406,       2051,   -21.9747,   109.6785,         10,   893.2,   5.4740,  34.6050,2,  34.6036,2,-999.0000,5,  -999.0,9, -999.00,9, -999.00,9, -999.00,9
 09FA9503_1,      IR6_3,      26,          1,         11,         25,2,19950406,       2051,   -21.9747,   109.6785,         10,   993.6,   5.0800,  34.6210,2,  34.6212,2,-999.0000,5,  -999.0,9, -999.00,9, -999.00,9, -999.00,9
 09FA9503_1,      IR6_3,      26,          1,          8,          8,2,19950406,       2051,   -21.9747,   109.6785,         10,  1994.9,   2.3510,  34.7240,2,  34.7260,2,-999.0000,5,  -999.0,9, -999.00,9, -999.00,9, -999.00,9
 09FA9503_1,      IR6_3,      26,          1,          7,          7,2,19950406,       2051,   -21.9747,   109.6785,         10,  2498.0,   1.9510,  34.7320,2,  34.7284,2,-999.0000,5,  -999.0,9, -999.00,9, -999.00,9, -999.00,9
 09FA9503_1,      IR6_3,      26,          1,          6,         11,2,19950406,       2051,   -21.9747,   109.6785,         10,  2998.1,   1.6270,  34.7290,2,  34.7308,2,-999.0000,5,  -999.0,9, -999.00,9, -999.00,9, -999.00,9
 09FA9503_1,      IR6_3,      26,          1,          5,          5,2,19950406,       2051,   -21.9747,   109.6785,         10,  3499.0,   1.3420,  34.7230,2,  34.7214,2,-999.0000,5,  -999.0,9, -999.00,9, -999.00,9, -999.00,9
 09FA9503_1,      IR6_3,      26,          1,          4,          4,2,19950406,       2051,   -21.9747,   109.6785,         10,  3999.5,   1.1920,  34.7200,2,  34.7167,2,-999.0000,5,  -999.0,9, -999.00,9, -999.00,9, -999.00,9
 09FA9503_1,      IR6_3,      26,          1,          3,          3,2,19950406,       2051,   -21.9747,   109.6785,         10,  4499.4,   1.1790,  34.7180,2,  34.7163,2,-999.0000,5,  -999.0,9, -999.00,9, -999.00,9, -999.00,9
 09FA9503_1,      IR6_3,      26,          1,          2,          2,2,19950406,       2051,   -21.9747,   109.6785,         10,  4499.4,   1.1790,  34.7180,2,-999.0000,9,-999.0000,5,  -999.0,9, -999.00,9, -999.00,9, -999.00,9
 09FA9503_1,      IR6_3,      26,          1,          1,          1,2,19950406,       2051,   -21.9747,   109.6785,         10,  5137.5,   1.2150,  34.7170,2,  34.7163,2,-999.0000,5,  -999.0,9, -999.00,9, -999.00,9, -999.00,9
 09FA9503_1,      IR6_3,      27,          1,         24,         24,2,19950407,       0804,   -21.5067,   109.5968,         10,     3.2,  27.7110,  35.5090,2,  35.5094,2,-999.0000,5,   208.1,2,    3.55,2,    0.08,2,    0.12,2
 09FA9503_1,      IR6_3,      27,          1,         23,         23,2,19950407,       0804,   -21.5067,   109.5968,         10,    49.4,  25.8640,  35.3900,2,  35.3876,2,-999.0000,5,   229.3,2,    3.54,2,    0.04,2,    0.14,2
 09FA9503_1,      IR6_3,      27,          1,         22,         22,2,19950407,       0804,   -21.5067,   109.5968,         10,    99.3,  22.1560,  35.4490,2,  35.4452,2,-999.0000,5,   215.1,2,    4.70,2,    0.05,2,    0.20,2
 09FA9503_1,      IR6_3,      27,          1,         21,         21,2,19950407,       0804,   -21.5067,   109.5968,         10,   148.8,  20.5600,  35.7750,2,  35.7718,2,-999.0000,5,   215.7,2,    3.45,2,    0.79,2,    0.23,2
 09FA9503_1,      IR6_3,      27,          1,         20,         20,2,19950407,       0804,   -21.5067,   109.5968,         10,   198.5,  19.0490,  35.8860,2,  35.8804,2,-999.0000,5,   213.2,2,    3.88,2,    1.28,2,    0.27,2
 09FA9503_1,      IR6_3,      27,          1,         19,         19,2,19950407,       0804,   -21.5067,   109.5968,         10,   298.1,  13.1390,  35.1330,2,  35.1322,2,-999.0000,5,   171.0,2,   18.60,2,   14.38,2,    1.12,2
 09FA9503_1,      IR6_3,      27,          1,         18,         18,2,19950407,       0804,   -21.5067,   109.5968,         10,   399.3,  10.9920,  34.9440,2,  34.9457,2,-999.0000,5,   212.8,2,    9.57,2,   13.97,2,    1.11,2
 09FA9503_1,      IR6_3,      27,          1,         17,         17,2,19950407,       0804,   -21.5067,   109.5968,         10,   477.9,   9.4880,  34.7370,2,  34.7390,2,-999.0000,5,   217.5,2,   12.20,2,   17.56,2,    1.31,2
 09FA9503_1,      IR6_3,      27,          1,         15,         15,2,19950407,       0804,   -21.5067,   109.5968,         10,   697.2,   6.3000,  34.5550,2,  34.5624,2,-999.0000,5,   139.4,2,   52.51,2,   31.98,2,    2.25,2
 09FA9503_1,      IR6_3,      27,          1,         14,         14,2,19950407,       0804,   -21.5067,   109.5968,         10,   797.4,   5.8020,  34.5850,2,  34.5860,2,-999.0000,5,   117.6,2,   68.75,2,   34.02,2,    2.45,2
 09FA9503_1,      IR6_3,      27,          1,         13,         16,2,19950407,       0804,   -21.5067,   109.5968,         10,   876.9,   5.5130,  34.6100,2,-999.0000,9,-999.0000,5,  -999.0,9, -999.00,9, -999.00,9, -999.00,9
 09FA9503_1,      IR6_3,      27,          1,         12,         12,2,19950407,       0804,   -21.5067,   109.5968,         10,   998.6,   5.0440,  34.6260,2,  34.6307,2,-999.0000,5,   104.0,2,   89.52,2,   35.65,2,    2.59,2
 09FA9503_1,      IR6_3,      27,          1,         11,          6,2,19950407,       0804,   -21.5067,   109.5968,         10,  1246.9,   4.1710,  34.6320,2,  34.6369,2,-999.0000,5,   117.8,2,   96.45,2,   36.16,2,    2.59,2
 09FA9503_1,      IR6_3,      27,          1,         10,         10,2,19950407,       0804,   -21.5067,   109.5968,         10,  1498.0,   3.3450,  34.6500,2,  34.6529,2,-999.0000,5,   137.0,2,   99.06,2,   35.19,2,    2.52,2
 09FA9503_1,      IR6_3,      27,          1,          9,          9,2,19950407,       0804,   -21.5067,   109.5968,         10,  1994.8,   2.3780,  34.7170,2,  34.7193,2,-999.0000,5,   155.3,2,  119.06,2,   34.44,2,    2.46,2
 09FA9503_1,      IR6_3,      27,          1,          8,          8,2,19950407,       0804,   -21.5067,   109.5968,         10,  2497.0,   1.9340,  34.7260,2,  34.7271,2,-999.0000,5,   165.5,2,  126.00,2,   33.92,2,    2.41,2
 09FA9503_1,      IR6_3,      27,          1,          7,          7,2,19950407,       0804,   -21.5067,   109.5968,         10,  2999.5,   1.5970,  34.7240,2,  34.7243,2,-999.0000,5,   182.4,2,  126.76,2,   33.63,2,    2.34,2
 09FA9503_1,      IR6_3,      27,          1,          6,         11,2,19950407,       0804,   -21.5067,   109.5968,         10,  3497.3,   1.3370,  34.7180,2,  34.7191,2,-999.0000,5,   190.8,2,  130.66,2,   33.13,2,    2.31,2
 09FA9503_1,      IR6_3,      27,          1,          5,          5,2,19950407,       0804,   -21.5067,   109.5968,         10,  4000.3,   1.1960,  34.7140,2,  34.7147,2,-999.0000,5,   193.8,2,  131.35,2,   33.34,2,    2.31,2
 09FA9503_1,      IR6_3,      27,          1,          4,          4,2,19950407,       0804,   -21.5067,   109.5968,         10,  4499.6,   1.1790,  34.7120,2,  34.7150,2,-999.0000,5,   199.6,2,  133.14,2,   32.83,2,    2.30,2
 09FA9503_1,      IR6_3,      27,          1,          3,          3,2,19950407,       0804,   -21.5067,   109.5968,         10,  4748.5,   1.1920,  34.7120,2,  34.7138,2,-999.0000,5,   198.6,2,  133.35,2,   32.87,2,    2.29,2
 09FA9503_1,      IR6_3,      27,          1,          2,          2,2,19950407,       0804,   -21.5067,   109.5968,         10,  4999.1,   1.2050,  34.7110,2,  34.7126,2,-999.0000,5,   199.9,2,  132.80,2,   32.92,2,    2.32,2
 09FA9503_1,      IR6_3,      27,          1,          1,          1,2,19950407,       0804,   -21.5067,   109.5968,         10,  5051.8,   1.2030,  34.7120,2,  34.7137,2,-999.0000,5,   198.1,2,  131.38,2,   32.80,2,    2.31,2
 09FA9503_1,      IR6_3,      28,          1,         24,         24,2,19950407,       1417,   -21.0295,   109.4277,         10,     2.5,  27.9000,  35.1880,2,  35.1910,2,-999.0000,5,   208.2,2,    3.16,2,    0.09,2,    0.13,2
 09FA9503_1,      IR6_3,      28,          1,         23,         23,2,19950407,       1417,   -21.0295,   109.4277,         10,    49.2,  25.2030,  35.2460,2,  35.2496,2,-999.0000,5,   237.9,2,    3.47,2,    0.05,2,    0.12,2
 09FA9503_1,      IR6_3,      28,          1,         22,         22,2,19950407,       1417,   -21.0295,   109.4277,         10,    99.9,  21.9560,  35.3150,2,  35.3095,2,-999.0000,5,   186.8,2,    5.31,2,    2.42,2,    0.36,2
 09FA9503_1,      IR6_3,      28,          1,         21,         21,2,19950407,       1417,   -21.0295,   109.4277,         10,   148.9,  19.9960,  35.5270,2,  35.5532,2,-999.0000,5,   183.8,2,    6.22,2,    4.50,2,    0.47,2
 09FA9503_1,      IR6_3,      28,          1,         20,         20,2,19950407,       1417,   -21.0295,   109.4277,         10,   198.4,  18.1860,  35.6420,2,  35.6302,2,-999.0000,5,   183.8,2,    8.07,2,    5.76,2,    0.56,2
 09FA9503_1,      IR6_3,      28,          1,         19,         19,2,19950407,       1417,   -21.0295,   109.4277,         10,   298.5,  12.5770,  35.0470,2,  35.0506,2,-999.0000,5,   163.8,2,   20.79,2,   15.96,2,    1.25,2
 09FA9503_1,      IR6_3,      28,          1,         17,         17,2,19950407,       1417,   -21.0295,   109.4277,         10,   458.3,   9.5650,  34.7450,2,  34.7476,2,-999.0000,5,   207.1,2,   14.64,2,   18.66,2,    1.36,2
 09FA9503_1,      IR6_3,      28,          1,         16,         25,2,19950407,       1417,   -21.0295,   109.4277,         10,   598.1,   7.5330,  34.5900,2,  34.5907,2,-999.0000,5,   163.1,2,   34.28,2,   27.36,2,    1.93,2
 09FA9503_1,      IR6_3,      28,          1,         15,         15,2,19950407,       1417,   -21.0295,   109.4277,         10,   697.8,   6.3530,  34.5660,2,  34.5683,2,-999.0000,5,   138.1,2,   51.99,2,   31.81,2,    2.26,2
 09FA9503_1,      IR6_3,      28,          1,         14,         14,2,19950407,       1417,   -21.0295,   109.4277,         10,   796.7,   5.8670,  34.6030,2,  34.6044,2,-999.0000,5,   110.0,2,   72.45,2,   35.05,2,    2.48,2
 09FA9503_1,      IR6_3,      28,          1,         12,         12,2,19950407,       1417,   -21.0295,   109.4277,         10,   996.9,   5.0360,  34.6260,2,  34.6256,2,-999.0000,5,   103.9,2,   90.32,2,   36.42,2,    2.61,2
 09FA9503_1,      IR6_3,      28,          1,         11,          6,2,19950407,       1417,   -21.0295,   109.4277,         10,  1245.9,   4.2140,  34.6390,2,  34.6429,2,-999.0000,5,   111.7,2,  102.02,2,   36.11,2,    2.61,2
 09FA9503_1,      IR6_3,      28,          1,         10,         10,2,19950407,       1417,   -21.0295,   109.4277,         10,  1496.6,   3.4750,  34.6580,2,  34.6587,2,-999.0000,5,   128.9,2,  103.78,2,   35.63,2,    2.58,2
 09FA9503_1,      IR6_3,      28,          1,          9,          9,2,19950407,       1417,   -21.0295,   109.4277,         10,  1995.8,   2.4660,  34.7120,2,  34.7119,2,-999.0000,5,   153.1,2,  116.77,2,   34.50,2,    2.46,2
 09FA9503_1,      IR6_3,      28,          1,          8,          8,2,19950407,       1417,   -21.0295,   109.4277,         10,  2247.0,   2.2000,  34.7230,2,  34.7206,2,-999.0000,5,   158.6,2,  121.00,2,   34.55,2,    2.44,2
 09FA9503_1,      IR6_3,      28,          1,          7,          7,2,19950407,       1417,   -21.0295,   109.4277,         10,  2496.7,   1.9740,  34.7250,2,  34.7234,2,-999.0000,5,   167.7,2,  123.75,2,   33.74,2,    2.39,2
 09FA9503_1,      IR6_3,      28,          1,          6,         11,2,19950407,       1417,   -21.0295,   109.4277,         10,  2747.3,   1.7690,  34.7260,2,  34.7227,2,-999.0000,5,   174.0,2,  124.78,2,   33.36,2,    2.36,2
 09FA9503_1,      IR6_3,      28,          1,          5,          5,2,19950407,       1417,   -21.0295,   109.4277,         10,  2998.0,   1.5830,  34.7240,2,  34.7231,2,-999.0000,5,   180.9,2,  126.24,2,   33.19,2,    2.34,2
 09FA9503_1,      IR6_3,      28,          1,          4,          4,2,19950407,       1417,   -21.0295,   109.4277,         10,  3499.2,   1.3100,  34.7180,2,  34.7181,2,-999.0000,5,   191.4,2,  131.39,2,   33.58,2,    2.32,2
 09FA9503_1,      IR6_3,      28,          1,          3,          3,2,19950407,       1417,   -21.0295,   109.4277,         10,  3999.9,   1.1980,  34.7140,2,  34.7135,2,-999.0000,5,   196.1,2,  133.82,2,   32.85,2,    2.29,2
 09FA9503_1,      IR6_3,      28,          1,          2,          2,2,19950407,       1417,   -21.0295,   109.4277,         10,  4497.2,   1.1720,  34.7130,2,  34.7131,2,-999.0000,5,   198.2,2,  134.58,2,   32.86,2,    2.30,2
 09FA9503_1,      IR6_3,      28,          1,          1,          1,2,19950407,       1417,   -21.0295,   109.4277,         10,  4699.3,   1.1720,  34.7110,2,  34.7136,2,-999.0000,5,   197.1,2,  132.59,2,   32.68,2,    2.28,2
 09FA9503_1,      IR6_3,      29,          1,         24,         24,2,19950407,       2036,   -20.5738,   109.2613,         10,     2.9,  27.4240,  35.1470,2,  35.1480,2,-999.0000,5,   213.2,2,    3.45,2,    0.09,2,    0.18,2
 09FA9503_1,      IR6_3,      29,          1,         22,         22,2,19950407,       2036,   -20.5738,   109.2613,         10,    97.7,  21.5440,  35.4590,2,  35.4407,2,-999.0000,5,   194.3,2,    5.09,2,    2.02,2,    0.36,2
 09FA9503_1,      IR6_3,      29,          1,         21,         21,2,19950407,       2036,   -20.5738,   109.2613,         10,   146.9,  19.6600,  35.6920,2,  35.6900,2,-999.0000,5,   189.4,2,    5.98,2,    3.98,2,    0.46,2
 09FA9503_1,      IR6_3,      29,          1,         18,         18,2,19950407,       2036,   -20.5738,   109.2613,         10,   395.2,  10.9200,  34.9490,2,-999.0000,9,-999.0000,5,   218.3,2, -999.00,9, -999.00,9, -999.00,9
 09FA9503_1,      IR6_3,      29,          1,         17,         17,2,19950407,       2036,   -20.5738,   109.2613,         10,   465.4,   9.7200,  34.7550,2,  34.7527,2,-999.0000,5,   243.8,2,    5.35,2,   14.87,2,    1.14,2
 09FA9503_1,      IR6_3,      29,          1,         15,         15,2,19950407,       2036,   -20.5738,   109.2613,         10,   685.5,   6.4010,  34.5720,2,  34.5699,2,-999.0000,5,   132.9,2,   54.65,2,   32.32,2,    2.31,2
 09FA9503_1,      IR6_3,      29,          1,         14,         14,2,19950407,       2036,   -20.5738,   109.2613,         10,   796.4,   5.8690,  34.6070,2,  34.6044,2,-999.0000,5,   109.2,2,   71.63,2,   34.72,2,    2.48,2
 09FA9503_1,      IR6_3,      29,          1,         13,         16,2,19950407,       2036,   -20.5738,   109.2613,         10,   895.9,   5.3590,  34.6200,2,-999.0000,9,-999.0000,5,  -999.0,9, -999.00,9, -999.00,9, -999.00,9
 09FA9503_1,      IR6_3,      29,          1,         12,         12,2,19950407,       2036,   -20.5738,   109.2613,         10,   995.4,   4.9890,  34.6260,2,  34.6266,2,-999.0000,5,   103.2,2,   91.70,2,   36.75,2,    2.61,2
 09FA9503_1,      IR6_3,      29,          1,         11,          6,2,19950407,       2036,   -20.5738,   109.2613,         10,  1245.4,   4.1210,  34.6410,2,  34.6371,2,-999.0000,5,   114.0,2,  102.57,2,   36.20,2,    2.63,2
 09FA9503_1,      IR6_3,      29,          1,          8,          8,2,19950407,       2036,   -20.5738,   109.2613,         10,  1994.5,   2.4230,  34.7180,2,  34.7151,2,-999.0000,5,   151.0,2,  120.34,2,   35.20,2,    2.48,2
 09FA9503_1,      IR6_3,      29,          1,          7,          7,2,19950407,       2036,   -20.5738,   109.2613,         10,  2245.4,   2.1580,  34.7240,2,  34.7181,2,-999.0000,5,   157.3,2,  125.18,2,   34.54,2,    2.47,2
 09FA9503_1,      IR6_3,      29,          1,          6,         11,2,19950407,       2036,   -20.5738,   109.2613,         10,  2495.3,   1.9810,  34.7270,2,  34.7238,2,-999.0000,5,   162.9,2,  124.74,2,   33.69,2,    2.38,2
 09FA9503_1,      IR6_3,      29,          1,          5,          5,2,19950407,       2036,   -20.5738,   109.2613,         10,  2997.2,   1.6280,  34.7240,2,  34.7220,2,-999.0000,5,   178.9,2,  127.70,2,   33.43,2,    2.36,2
 09FA9503_1,      IR6_3,      29,          1,          4,          4,2,19950407,       2036,   -20.5738,   109.2613,         10,  3497.9,   1.3410,  34.7180,2,  34.7171,2,-999.0000,5,   189.4,2,  130.46,2,   33.39,2,    2.32,2
 09FA9503_1,      IR6_3,      29,          1,          3,          3,2,19950407,       2036,   -20.5738,   109.2613,         10,  3999.5,   1.2120,  34.7140,2,  34.7119,2,-999.0000,5,   195.5,2,  129.85,2,   33.10,2,    2.31,2
 09FA9503_1,      IR6_3,      29,          1,          2,          2,2,19950407,       2036,   -20.5738,   109.2613,         10,  4498.1,   1.1850,  34.7130,2,-999.0000,9,-999.0000,5,  -999.0,9, -999.00,9, -999.00,9, -999.00,9