BOTTLE,20211029CCHSIORKP
EXPOCODE,SECT_ID,STNNBR,CASTNO,SAMPNO,BTLNBR,BTLNBR_FLAG_W,DATE,TIME,LATITUDE,LONGITUDE,DEPTH,CTDPRS,CTDTMP,CTDSAL,CTDSAL_FLAG_W,SALNTY,SALNTY_FLAG_W,CTDOXY,CTDOXY_FLAG_W,OXYGEN,OXYGEN_FLAG_W,SILCAT,SILCAT_FLAG_W,NITRAT,NITRAT_FLAG_W,PHSPHT,PHSPHT_FLAG_W
,,,,,,,,,,,METERS,DBAR,ITS-90,PSS-78,,PSS-78,,UMOL/KG,,UMOL/KG,,UMOL/KG,,UMOL/KG,,UMOL/KG,
 09FA9503_1,      IR6_3,       6,          1,          9,         24,2,19950404,       0311,   -24.6388,   111.9980,         10,     2.5,  26.8240,  35.6610,2,  35.6572,2,-999.0000,5,   211.0,2, -999.00,9, -999.00,9, -999.00,9
 09FA9503_1,      IR6_3,       6,          1,          8,          8,2,19950404,       0311,   -24.6388,   111.9980,         10,    50.1,  25.9920,  35.7740,2,  35.7776,2,-999.0000,5,   216.2,2, -999.00,9, -999.00,9, -999.00,9
 09FA9503_1,      IR6_3,       6,          1,          7,          7,2,19950404,       0311,   -24.6388,   111.9980,         10,    98.4,  21.1940,  35.8320,2,  35.8297,2,-999.0000,5,   232.0,2, -999.00,9, -999.00,9, -999.00,9
 09FA9503_1,      IR6_3,       6,          1,          6,          6,2,19950404,       0311,   -24.6388,   111.9980,         10,   197.0,  17.2210,  35.8590,2,  35.8593,2,-999.0000,5,   229.3,2, -999.00,9, -999.00,9, -999.00,9
 09FA9503_1,      IR6_3,       6,          1,          5,          5,2,19950404,       0311,   -24.6388,   111.9980,         10,   298.5,  13.4220,  35.3480,2,  35.3500,2,-999.0000,5,   240.2,2, -999.00,9, -999.00,9, -999.00,9
 09FA9503_1,      IR6_3,       6,          1,          4,          4,2,19950404,       0311,   -24.6388,   111.9980,         10,   398.3,  10.9030,  34.9370,2,  34.9400,2,-999.0000,5,   249.0,2, -999.00,9, -999.00,9, -999.00,9
 09FA9503_1,      IR6_3,       6,          1,          3,          3,2,19950404,       0311,   -24.6388,   111.9980,         10,   497.8,   9.4990,  34.7100,2,  34.7090,2,-999.0000,5,   249.9,2, -999.00,9, -999.00,9, -999.00,9
 09FA9503_1,      IR6_3,       6,          1,          2,          2,2,19950404,       0311,   -24.6388,   111.9980,         10,   601.2,   8.7130,  34.6120,2,  34.6125,2,-999.0000,5,   235.9,2, -999.00,9, -999.00,9, -999.00,9
 09FA9503_1,      IR6_3,       6,          1,          1,          1,2,19950404,       0311,   -24.6388,   111.9980,         10,   686.5,   6.2650,  34.4780,2,  34.4862,2,-999.0000,5,   182.4,2, -999.00,9, -999.00,9, -999.00,9
 09FA9503_1,      IR6_3,       7,          1,          7,         24,2,19950404,       0530,   -24.6732,   112.2003,         10,     4.3,  27.4480,  35.5060,2,  35.5033,2,-999.0000,5,   210.4,2, -999.00,9, -999.00,9, -999.00,9
 09FA9503_1,      IR6_3,       7,          1,          6,          6,2,19950404,       0530,   -24.6732,   112.2003,         10,    49.8,  26.6640,  35.5680,2,  35.5594,2,-999.0000,5,   214.0,2, -999.00,9, -999.00,9, -999.00,9
 09FA9503_1,      IR6_3,       7,          1,          5,          5,2,19950404,       0530,   -24.6732,   112.2003,         10,    98.5,  21.9560,  35.7700,2,  35.7508,2,-999.0000,5,   233.0,2, -999.00,9, -999.00,9, -999.00,9
 09FA9503_1,      IR6_3,       7,          1,          4,          4,2,19950404,       0530,   -24.6732,   112.2003,         10,   196.2,  18.3120,  35.8950,2,  35.8981,2,-999.0000,5,   222.8,2, -999.00,9, -999.00,9, -999.00,9
 09FA9503_1,      IR6_3,       7,          1,          3,          3,2,19950404,       0530,   -24.6732,   112.2003,         10,   297.4,  14.4380,  35.4970,2,  35.4942,2,-999.0000,5,   236.5,2, -999.00,9, -999.00,9, -999.00,9
 09FA9503_1,      IR6_3,       7,          1,          2,          2,2,19950404,       0530,   -24.6732,   112.2003,         10,   456.2,   9.4970,  34.7250,2,  34.7211,2,-999.0000,5,   246.6,2, -999.00,9, -999.00,9, -999.00,9
 09FA9503_1,      IR6_3,       7,          1,          1,          1,2,19950404,       0530,   -24.6732,   112.2003,         10,   483.2,   9.3070,  34.6970,2,  34.6897,2,-999.0000,5,   246.1,2, -999.00,9, -999.00,9, -999.00,9
 09FA9503_1,      IR6_3,       8,          1,          5,         24,2,19950404,       0708,   -24.7052,   112.3200,         10,     2.4,  27.6800,  35.3870,2,  35.3857,2,-999.0000,5,   209.9,2, -999.00,9, -999.00,9, -999.00,9
 09FA9503_1,      IR6_3,       8,          1,          4,          4,2,19950404,       0708,   -24.7052,   112.3200,         10,    49.8,  24.8010,  35.2510,2,  35.2507,2,-999.0000,5,   221.0,2, -999.00,9, -999.00,9, -999.00,9
 09FA9503_1,      IR6_3,       8,          1,          3,          3,2,19950404,       0708,   -24.7052,   112.3200,         10,   100.5,  21.4790,  35.3660,2,  35.3658,2,-999.0000,5,   173.2,2, -999.00,9, -999.00,9, -999.00,9
 09FA9503_1,      IR6_3,       8,          1,          2,          2,2,19950404,       0708,   -24.7052,   112.3200,         10,   151.2,  20.0060,  35.6490,2,  35.6524,2,-999.0000,5,   196.9,2, -999.00,9, -999.00,9, -999.00,9
 09FA9503_1,      IR6_3,       8,          1,          1,          1,2,19950404,       0708,   -24.7052,   112.3200,         10,   180.4,  19.3980,  35.6590,2,-999.0000,9,-999.0000,5,   197.0,2, -999.00,9, -999.00,9, -999.00,9
 09FA9503_1,      IR6_3,       9,          1,          4,         24,2,19950404,       0828,   -24.7247,   112.4633,         10,     4.0,  27.6070,  35.3290,2,  35.3301,2,-999.0000,5,   208.5,2, -999.00,9, -999.00,9, -999.00,9
 09FA9503_1,      IR6_3,       9,          1,          3,          3,2,19950404,       0828,   -24.7247,   112.4633,         10,    49.6,  25.0410,  35.2430,2,  35.2447,2,-999.0000,5,   210.1,2, -999.00,9, -999.00,9, -999.00,9
 09FA9503_1,      IR6_3,       9,          1,          2,          2,2,19950404,       0828,   -24.7247,   112.4633,         10,    98.9,  22.3160,  35.2790,2,  35.2789,2,-999.0000,5,   170.5,2, -999.00,9, -999.00,9, -999.00,9
 09FA9503_1,      IR6_3,       9,          1,          1,          1,2,19950404,       0828,   -24.7247,   112.4633,         10,   131.9,  20.8600,  35.3910,2,-999.0000,9,-999.0000,5,   176.3,2, -999.00,9, -999.00,9, -999.00,9
 09FA9503_1,      IR6_3,      10,          1,          3,         24,2,19950404,       0955,   -24.7503,   112.6125,         10,     3.0,  26.9060,  35.3960,2,  35.4009,2,-999.0000,5,   209.3,2, -999.00,9, -999.00,9, -999.00,9
 09FA9503_1,      IR6_3,      10,          1,          2,          2,2,19950404,       0955,   -24.7503,   112.6125,         10,    50.2,  25.2600,  35.2480,2,  35.2859,2,-999.0000,5,   202.5,2, -999.00,9, -999.00,9, -999.00,9
 09FA9503_1,      IR6_3,      10,          1,          1,          1,2,19950404,       0955,   -24.7503,   112.6125,         10,    84.8,  23.5230,  35.2100,2,-999.0000,9,-999.0000,5,   184.9,2, -999.00,9, -999.00,9, -999.00,9
 09FA9503_1,      IR6_3,      11,          1,          2,         24,2,19950404,       1108,   -24.7830,   112.7663,         10,     3.4,  26.8540,  35.4360,2,  35.4355,2,-999.0000,5,   210.5,2,    4.10,2,    0.14,2,    0.15,2
 09FA9503_1,      IR6_3,      11,          1,          1,          1,2,19950404,       1108,   -24.7830,   112.7663,         10,    68.8,  24.7350,  35.2530,2,-999.0000,9,-999.0000,5,   191.5,2,    6.79,2,    2.07,2,    0.31,2
 09FA9503_1,      IR6_3,      12,          1,          3,         24,2,19950404,       1221,   -24.7475,   112.6168,         10,     4.4,  26.8380,  35.4110,2,  35.4122,2,-999.0000,5,   209.4,2,    4.11,2,    0.13,2,    0.15,2
 09FA9503_1,      IR6_3,      12,          1,          2,          3,2,19950404,       1221,   -24.7475,   112.6168,         10,    48.9,  25.9120,  35.3160,2,  35.3310,2,-999.0000,5,   206.9,2,    4.55,2,    0.39,2,    0.19,2
 09FA9503_1,      IR6_3,      12,          1,          1,          1,2,19950404,       1221,   -24.7475,   112.6168,         10,    83.5,  23.8590,  35.2340,2,-999.0000,9,-999.0000,5,   186.1,2,    7.42,2,    2.87,2,    0.37,2
 09FA9503_1,      IR6_3,      13,          1,          4,         24,2,19950404,       1332,   -24.7232,   112.4660,         10,     6.6,  27.5150,  35.3110,2,  35.3070,2,-999.0000,5,   213.4,2,    4.00,2,    0.09,2,    0.14,2
 09FA9503_1,      IR6_3,      13,          1,          3,          3,2,19950404,       1332,   -24.7232,   112.4660,         10,    49.6,  25.7970,  35.2840,2,  35.2931,2,-999.0000,5,   212.6,2,    4.23,2,    0.11,2,    0.17,2
 09FA9503_1,      IR6_3,      13,          1,          2,          2,2,19950404,       1332,   -24.7232,   112.4660,         10,    99.9,  22.3420,  35.2730,2,  35.2715,2,-999.0000,5,   171.2,2,    7.65,2,    4.62,2,    0.48,2
 09FA9503_1,      IR6_3,      13,          1,          1,          1,2,19950404,       1332,   -24.7232,   112.4660,         10,   127.6,  21.4850,  35.3450,2,  35.3699,2,-999.0000,5,   172.7,2,    8.66,2,    5.30,2,    0.51,2
 09FA9503_1,      IR6_3,      14,          1,          5,         24,2,19950404,       1446,   -24.7002,   112.3132,         10,  -999.0,-999.0000,-999.0000,9,  35.4038,2,-999.0000,5,   214.0,2,    3.93,2,    0.11,2,    0.12,2
 09FA9503_1,      IR6_3,      14,          1,          4,          4,2,19950404,       1446,   -24.7002,   112.3132,         10,    50.7,  24.5340,  35.2970,2,  35.3190,2,-999.0000,5,   219.5,2,    4.25,2,    0.17,2,    0.17,2
 09FA9503_1,      IR6_3,      14,          1,          3,          3,2,19950404,       1446,   -24.7002,   112.3132,         10,    99.0,  21.9440,  35.3280,2,  35.3143,2,-999.0000,5,   170.8,2,    8.67,2,    5.14,2,    0.50,2
 09FA9503_1,      IR6_3,      14,          1,          2,          2,2,19950404,       1446,   -24.7002,   112.3132,         10,   147.1,  20.2610,  35.5000,2,  35.4963,2,-999.0000,5,   179.9,2,    7.32,2,    5.43,2,    0.50,2
 09FA9503_1,      IR6_3,      14,          1,          1,          1,2,19950404,       1446,   -24.7002,   112.3132,         10,   183.3,  19.2240,  35.6960,2,  35.7088,2,-999.0000,5,   196.6,2,    6.01,2,    3.72,2,    0.40,2
 09FA9503_1,      IR6_3,      15,          1,          7,         24,2,19950404,       1603,   -24.6672,   112.1978,         10,     4.2,  27.4480,  35.5120,2,  35.5002,2,-999.0000,5,   209.1,2,    3.74,2,    0.12,2,    0.12,2
 09FA9503_1,      IR6_3,      15,          1,          6,          6,2,19950404,       1603,   -24.6672,   112.1978,         10,    49.1,  25.0190,  35.3340,2,  35.3224,2,-999.0000,5,   227.1,2,    4.67,2,    0.10,2,    0.16,2
 09FA9503_1,      IR6_3,      15,          1,          5,          5,2,19950404,       1603,   -24.6672,   112.1978,         10,    99.7,  21.5120,  35.7360,2,  35.7308,2,-999.0000,5,   236.3,2,    3.52,2,    0.10,2,    0.14,2
 09FA9503_1,      IR6_3,      15,          1,          4,          4,2,19950404,       1603,   -24.6672,   112.1978,         10,   197.5,  18.5140,  35.9050,2,  35.8929,2,-999.0000,5,   218.3,2,    3.83,2,    1.34,2,    0.25,2
 09FA9503_1,      IR6_3,      15,          1,          3,          3,2,19950404,       1603,   -24.6672,   112.1978,         10,   296.9,  14.3880,  35.4930,2,  35.4777,2,-999.0000,5,   235.4,2,    3.23,2,    4.71,2,    0.47,2
 09FA9503_1,      IR6_3,      15,          1,          2,          2,2,19950404,       1603,   -24.6672,   112.1978,         10,   431.8,   9.6650,  34.7510,2,  34.7381,2,-999.0000,5,   248.7,2,    4.94,2,   14.83,2,    1.07,2
 09FA9503_1,      IR6_3,      15,          1,          1,          1,2,19950404,       1603,   -24.6672,   112.1978,         10,   457.8,   9.1880,  34.6890,2,  34.6779,2,-999.0000,5,   242.3,2,    6.86,2,   17.09,2,    1.22,2
 09FA9503_1,      IR6_3,      16,          1,          9,         24,2,19950404,       1757,   -24.6363,   112.0047,         10,     2.0,  26.6380,  35.6860,2,  35.6845,2,-999.0000,5,   212.6,2,    4.31,2,    0.11,2,    0.12,2
 09FA9503_1,      IR6_3,      16,          1,          8,          8,2,19950404,       1757,   -24.6363,   112.0047,         10,    49.0,  26.2220,  35.7910,2,  35.7876,2,-999.0000,5,   215.4,2,    3.83,2,    0.13,2,    0.12,2
 09FA9503_1,      IR6_3,      16,          1,          7,          7,2,19950404,       1757,   -24.6363,   112.0047,         10,    98.8,  21.2350,  35.8860,2,  35.8825,2,-999.0000,5,   236.4,2,    3.98,2,    0.11,2,    0.15,2
 09FA9503_1,      IR6_3,      16,          1,          6,          6,2,19950404,       1757,   -24.6363,   112.0047,         10,   198.8,  17.3990,  35.8740,2,  35.8704,2,-999.0000,5,   228.8,2,    3.30,2,    1.25,2,    0.27,2
 09FA9503_1,      IR6_3,      16,          1,          5,          5,2,19950404,       1757,   -24.6363,   112.0047,         10,   297.1,  14.0130,  35.4450,2,-999.0000,9,-999.0000,5,   239.0,2,    3.46,2,    4.96,2,    0.54,2
 09FA9503_1,      IR6_3,      16,          1,          4,          4,2,19950404,       1757,   -24.6363,   112.0047,         10,   397.7,  11.2250,  34.9930,2,  34.9914,2,-999.0000,5,   248.4,2,    3.79,2,   10.45,2,    0.81,2
 09FA9503_1,      IR6_3,      16,          1,          3,          3,2,19950404,       1757,   -24.6363,   112.0047,         10,   496.0,   9.5580,  34.7210,2,  34.7203,2,-999.0000,5,   250.9,2,    4.83,2,   15.10,2,    1.09,2
 09FA9503_1,      IR6_3,      16,          1,          2,          2,2,19950404,       1757,   -24.6363,   112.0047,         10,   595.5,   8.6210,  34.6030,2,  34.6002,2,-999.0000,5,   234.8,2,    8.67,2,   20.71,2,    1.45,2
 09FA9503_1,      IR6_3,      16,          1,          1,          1,2,19950404,       1757,   -24.6363,   112.0047,         10,   680.7,   6.5090,  34.5210,2,  34.5221,2,-999.0000,5,   168.9,2,   40.25,2,   30.30,2,    2.19,2
 09FA9503_1,      IR6_3,      17,          1,         12,         24,2,19950404,       2047,   -24.5667,   111.6510,         10,     1.4,  26.4910,  35.6200,2,  35.6123,2,-999.0000,5,   214.6,2,    3.11,2,    0.15,2,    0.11,2
 09FA9503_1,      IR6_3,      17,          1,         11,         12,2,19950404,       2047,   -24.5667,   111.6510,         10,    48.0,  23.6210,  35.6150,2,  35.6021,2,-999.0000,5,   233.2,2,    3.25,2,    0.13,2,    0.14,2
 09FA9503_1,      IR6_3,      17,          1,         10,         10,2,19950404,       2047,   -24.5667,   111.6510,         10,    98.3,  20.7630,  35.7690,2,  35.7569,2,-999.0000,5,   222.6,2,    3.65,2,    0.34,2,    0.18,2
 09FA9503_1,      IR6_3,      17,          1,          9,          9,2,19950404,       2047,   -24.5667,   111.6510,         10,   199.1,  17.2680,  35.8520,2,  35.8515,2,-999.0000,5,   224.6,2,    2.88,2,    1.77,2,    0.28,2
 09FA9503_1,      IR6_3,      17,          1,          8,          8,2,19950404,       2047,   -24.5667,   111.6510,         10,   297.4,  13.7560,  35.4100,2,  35.4125,2,-999.0000,5,  -999.0,9,    2.61,2,    5.03,2,    0.48,2
 09FA9503_1,      IR6_3,      17,          1,          7,          7,2,19950404,       2047,   -24.5667,   111.6510,         10,   397.1,  11.3940,  35.0240,2,  35.0236,2,-999.0000,5,   246.9,2,    3.08,2,    9.40,2,    0.72,2
 09FA9503_1,      IR6_3,      17,          1,          6,          6,2,19950404,       2047,   -24.5667,   111.6510,         10,   497.2,  10.0580,  34.8050,2,  34.8078,2,-999.0000,5,   248.1,2,    4.15,2,   13.93,2,    1.02,2
 09FA9503_1,      IR6_3,      17,          1,          5,          5,2,19950404,       2047,   -24.5667,   111.6510,         10,   566.1,   9.4490,  34.7090,2,  34.7069,2,-999.0000,5,   245.6,2,    5.34,2,   16.59,2,    1.18,2
 09FA9503_1,      IR6_3,      17,          1,          4,          4,2,19950404,       2047,   -24.5667,   111.6510,         10,   695.3,   7.5350,  34.5200,2,  34.5217,2,-999.0000,5,   210.2,2,   15.07,2,   25.22,2,    1.73,2
 09FA9503_1,      IR6_3,      17,          1,          3,          3,2,19950404,       2047,   -24.5667,   111.6510,         10,   794.3,   5.7350,  34.4610,2,  34.4614,2,-999.0000,5,   179.8,2,   37.54,2,   31.33,2,    2.18,2
 09FA9503_1,      IR6_3,      17,          1,          2,          2,2,19950404,       2047,   -24.5667,   111.6510,         10,   897.7,   5.1890,  34.5390,2,  34.5416,2,-999.0000,5,   135.4,2,   71.04,2,   36.07,2,    2.64,2
 09FA9503_1,      IR6_3,      17,          1,          1,          1,2,19950404,       2047,   -24.5667,   111.6510,         10,  1004.9,   4.9830,  34.5980,2,-999.0000,9,-999.0000,5,   118.2,2,   86.07,2,   35.94,2,    2.63,2
 09FA9503_1,      IR6_3,      18,          1,         15,         24,2,19950405,       0004,   -24.5003,   111.2862,         10,     2.0,  26.3510,  35.5340,2,  35.5349,2,-999.0000,5,   211.2,2,    5.19,2,    0.19,2,    0.13,2
 09FA9503_1,      IR6_3,      18,          1,         14,         14,2,19950405,       0004,   -24.5003,   111.2862,         10,    48.7,  26.4050,  35.5860,2,  35.5836,2,-999.0000,5,   215.4,2,    4.01,2,    0.15,2,    0.11,2
 09FA9503_1,      IR6_3,      18,          1,         13,         13,2,19950405,       0004,   -24.5003,   111.2862,         10,    98.5,  21.7750,  35.4890,2,  35.4815,2,-999.0000,5,   206.3,2,    6.53,2,    1.48,2,    0.27,2
 09FA9503_1,      IR6_3,      18,          1,         12,         12,2,19950405,       0004,   -24.5003,   111.2862,         10,   197.9,  17.6360,  35.8670,2,  35.8702,2,-999.0000,5,   222.6,2,    3.61,2,    1.90,2,    0.30,2
 09FA9503_1,      IR6_3,      18,          1,         11,         20,2,19950405,       0004,   -24.5003,   111.2862,         10,   297.7,  14.5280,  35.5220,2,  35.5249,2,-999.0000,5,   238.9,2,    3.92,2,    3.97,2,    0.45,2
 09FA9503_1,      IR6_3,      18,          1,         10,         10,2,19950405,       0004,   -24.5003,   111.2862,         10,   396.1,  11.3900,  35.0230,2,  35.0234,2,-999.0000,5,   248.9,2,    3.86,2,    9.61,2,    0.85,2
 09FA9503_1,      IR6_3,      18,          1,          9,          9,2,19950405,       0004,   -24.5003,   111.2862,         10,   494.8,   9.8980,  34.7760,2,  34.7772,2,-999.0000,5,   250.5,2,    4.84,2,   13.91,2,    1.15,2
 09FA9503_1,      IR6_3,      18,          1,          8,          8,2,19950405,       0004,   -24.5003,   111.2862,         10,   596.7,   8.9750,  34.6400,2,  34.6440,2,-999.0000,5,   240.0,2,    7.57,2,   17.76,2,    1.44,2
 09FA9503_1,      IR6_3,      18,          1,          7,          7,2,19950405,       0004,   -24.5003,   111.2862,         10,   695.9,   7.7080,  34.5440,2,  34.5458,2,-999.0000,5,   208.3,2,   17.16,2,   23.52,2,    1.83,2
 09FA9503_1,      IR6_3,      18,          1,          6,          6,2,19950405,       0004,   -24.5003,   111.2862,         10,   796.5,   6.0940,  34.4890,2,  34.4943,2,-999.0000,5,   174.8,2,   37.67,2,   29.60,2,    2.20,2
 09FA9503_1,      IR6_3,      18,          1,          5,          5,2,19950405,       0004,   -24.5003,   111.2862,         10,   895.9,   5.4230,  34.5460,2,  34.5488,2,-999.0000,5,   134.4,2,   64.67,2,   33.82,2,    2.44,2
 09FA9503_1,      IR6_3,      18,          1,          4,          4,2,19950405,       0004,   -24.5003,   111.2862,         10,   995.8,   4.9400,  34.5700,2,  34.5727,2,-999.0000,5,   125.0,2,   76.42,2,   35.07,2,    2.50,2
 09FA9503_1,      IR6_3,      18,          1,          3,          3,2,19950405,       0004,   -24.5003,   111.2862,         10,  1193.6,   4.4550,  34.6120,2,  34.6154,2,-999.0000,5,   116.1,2,   93.02,2,   35.90,2,    2.54,2
 09FA9503_1,      IR6_3,      18,          1,          2,          2,2,19950405,       0004,   -24.5003,   111.2862,         10,  1298.7,   4.1560,  34.6140,2,  34.6173,2,-999.0000,5,   122.0,2,   94.86,2,   35.85,2,    2.54,2