BOTTLE,20211029CCHSIORKP
EXPOCODE,SECT_ID,STNNBR,CASTNO,SAMPNO,BTLNBR,BTLNBR_FLAG_W,DATE,TIME,LATITUDE,LONGITUDE,DEPTH,CTDPRS,CTDTMP,CTDSAL,CTDSAL_FLAG_W,SALNTY,SALNTY_FLAG_W,CTDOXY,CTDOXY_FLAG_W,OXYGEN,OXYGEN_FLAG_W,SILCAT,SILCAT_FLAG_W,NITRAT,NITRAT_FLAG_W,PHSPHT,PHSPHT_FLAG_W
,,,,,,,,,,,METERS,DBAR,ITS-90,PSS-78,,PSS-78,,UMOL/KG,,UMOL/KG,,UMOL/KG,,UMOL/KG,,UMOL/KG,
 09FA9503_1,      IR6_3,      37,          1,         24,         24,2,19950410,       0302,   -16.7602,   108.0202,         10,     5.8,  28.9550,  34.7980,2,  34.8029,2,-999.0000,5,   204.7,2,    3.82,2,    0.18,2,    0.06,2
 09FA9503_1,      IR6_3,      37,          1,         23,         23,2,19950410,       0302,   -16.7602,   108.0202,         10,    50.6,  28.8560,  34.9600,2,  34.9606,2,-999.0000,5,   207.4,2,    3.11,2,    0.16,2,    0.06,2
 09FA9503_1,      IR6_3,      37,          1,         22,         22,2,19950410,       0302,   -16.7602,   108.0202,         10,    99.4,  22.1250,  34.7760,2,  34.7777,2,-999.0000,5,   158.3,2,   10.18,2,    8.29,2,    0.53,2
 09FA9503_1,      IR6_3,      37,          1,         21,         45,2,19950410,       0302,   -16.7602,   108.0202,         10,   148.8,  18.4620,  35.0020,2,  35.0004,2,-999.0000,5,   127.3,2,   17.66,2,   13.99,2,    0.87,2
 09FA9503_1,      IR6_3,      37,          1,         20,         20,2,19950410,       0302,   -16.7602,   108.0202,         10,   199.5,  16.9680,  35.3800,2,-999.0000,9,-999.0000,5,   147.6,2,   17.35,2,   12.70,2,    0.83,2
 09FA9503_1,      IR6_3,      37,          1,         19,         19,2,19950410,       0302,   -16.7602,   108.0202,         10,   298.6,  13.1870,  35.2740,2,  35.2702,2,-999.0000,5,   211.8,2,    6.07,2,    9.27,2,    0.66,2
 09FA9503_1,      IR6_3,      37,          1,         18,         18,2,19950410,       0302,   -16.7602,   108.0202,         10,   408.4,  10.2410,  34.8440,2,  34.8434,2,-999.0000,5,   227.4,2,    7.70,2,   14.58,2,    1.01,2
 09FA9503_1,      IR6_3,      37,          1,         17,         35,2,19950410,       0302,   -16.7602,   108.0202,         10,   497.0,   8.6360,  34.6460,2,  34.6460,2,-999.0000,5,   200.9,2,   16.78,2,   22.05,2,    1.48,2
 09FA9503_1,      IR6_3,      37,          1,         16,          6,2,19950410,       0302,   -16.7602,   108.0202,         10,   597.4,   7.1290,  34.6100,2,  34.6083,2,-999.0000,5,   134.9,2,   44.66,2,   30.53,2,    2.13,2
 09FA9503_1,      IR6_3,      37,          1,         15,         21,2,19950410,       0302,   -16.7602,   108.0202,         10,   696.4,   6.6180,  34.6560,2,  34.6555,2,-999.0000,5,   102.8,2,   65.54,2,   34.07,2,    2.43,2
 09FA9503_1,      IR6_3,      37,          1,         14,         14,2,19950410,       0302,   -16.7602,   108.0202,         10,   788.7,   6.0020,  34.6570,2,  34.6566,2,-999.0000,5,    90.6,2,   82.00,2,   35.66,2,    2.58,2
 09FA9503_1,      IR6_3,      37,          1,         13,         70,2,19950410,       0302,   -16.7602,   108.0202,         10,   897.1,   5.3890,  34.6380,2,  34.6374,2,-999.0000,5,    91.6,2,   94.80,2,   36.35,2,    2.61,2
 09FA9503_1,      IR6_3,      37,          1,         12,         12,2,19950410,       0302,   -16.7602,   108.0202,         10,   996.5,   5.0070,  34.6400,2,  34.6398,2,-999.0000,5,    93.6,2,   98.46,2,   37.06,2,    2.62,2
 09FA9503_1,      IR6_3,      37,          1,         11,         11,2,19950410,       0302,   -16.7602,   108.0202,         10,  1243.9,   4.2370,  34.6500,2,  34.6477,2,-999.0000,5,   104.1,2,  104.80,2,   36.59,2,    2.62,2
 09FA9503_1,      IR6_3,      37,          1,         10,         10,2,19950410,       0302,   -16.7602,   108.0202,         10,  1496.6,   3.5000,  34.6730,2,  34.6721,2,-999.0000,5,   121.4,2,  112.25,2,   36.24,2,    2.61,2
 09FA9503_1,      IR6_3,      37,          1,          9,         29,2,19950410,       0302,   -16.7602,   108.0202,         10,  1995.7,   2.4630,  34.7240,2,  34.7224,2,-999.0000,5,   146.1,2,  124.72,2,   35.13,2,    2.52,2
 09FA9503_1,      IR6_3,      37,          1,          8,         17,2,19950410,       0302,   -16.7602,   108.0202,         10,  2497.4,   1.9610,  34.7280,2,  34.7264,2,-999.0000,5,   161.5,2,  130.14,2,   34.58,2,    2.46,2
 09FA9503_1,      IR6_3,      37,          1,          7,          7,2,19950410,       0302,   -16.7602,   108.0202,         10,  2997.2,   1.6160,  34.7240,2,  34.7237,2,-999.0000,5,   176.6,2,  127.45,3,   33.85,2,    2.41,2
 09FA9503_1,      IR6_3,      37,          1,          6,         41,2,19950410,       0302,   -16.7602,   108.0202,         10,  3499.0,   1.3300,  34.7170,2,  34.7166,2,-999.0000,5,   188.1,2,  132.83,2,   33.29,2,    2.36,2
 09FA9503_1,      IR6_3,      37,          1,          5,          5,2,19950410,       0302,   -16.7602,   108.0202,         10,  3999.8,   1.2120,  34.7150,2,  34.7147,2,-999.0000,5,   194.1,2,  131.73,2,   33.12,2,    2.33,2
 09FA9503_1,      IR6_3,      37,          1,          4,          4,2,19950410,       0302,   -16.7602,   108.0202,         10,  4500.6,   1.1800,  34.7130,2,  34.7139,2,-999.0000,5,   199.3,2,  128.85,2,   33.34,3,    2.32,2
 09FA9503_1,      IR6_3,      37,          1,          3,          3,2,19950410,       0302,   -16.7602,   108.0202,         10,  4999.1,   1.1870,  34.7120,2,  34.7128,2,-999.0000,5,   202.9,2,  125.25,2,   32.57,2,    2.31,2
 09FA9503_1,      IR6_3,      37,          1,          2,          2,2,19950410,       0302,   -16.7602,   108.0202,         10,  5502.5,   1.2100,  34.7110,2,  34.7128,2,-999.0000,5,   205.2,2,  126.66,2,   32.65,2,    2.36,3
 09FA9503_1,      IR6_3,      37,          1,          1,          1,2,19950410,       0302,   -16.7602,   108.0202,         10,  5789.2,   1.2460,  34.7110,2,  34.7117,2,-999.0000,5,   205.3,2,  129.04,2,   34.12,3,    2.29,2
 09FA9503_1,      IR6_3,      38,          1,         24,         24,2,19950410,       1003,   -16.2900,   107.8600,         10,     2.8,  28.9130,  34.6190,2,  34.6221,2,-999.0000,5,   205.0,2,    4.81,2,    0.24,2,    0.08,2
 09FA9503_1,      IR6_3,      38,          1,         23,         23,2,19950410,       1003,   -16.2900,   107.8600,         10,    48.4,  28.2970,  34.9760,2,  34.9783,2,-999.0000,5,   216.5,2,    3.80,2,    0.22,2,    0.08,2
 09FA9503_1,      IR6_3,      38,          1,         22,         22,2,19950410,       1003,   -16.2900,   107.8600,         10,    98.1,  21.5730,  34.8650,2,  34.8753,2,-999.0000,5,   154.8,2,   12.04,2,    9.09,2,    0.53,2
 09FA9503_1,      IR6_3,      38,          1,         21,         45,2,19950410,       1003,   -16.2900,   107.8600,         10,   147.8,  18.6920,  35.1630,2,  35.1260,2,-999.0000,5,   138.5,2,   16.76,2,   12.28,2,    0.81,2
 09FA9503_1,      IR6_3,      38,          1,         20,         20,2,19950410,       1003,   -16.2900,   107.8600,         10,   197.4,  16.4930,  35.3620,2,  35.3565,2,-999.0000,5,   160.5,2,   15.73,2,   11.11,2,    0.75,2
 09FA9503_1,      IR6_3,      38,          1,         19,         19,2,19950410,       1003,   -16.2900,   107.8600,         10,   297.5,  12.9060,  35.2300,2,  35.2284,2,-999.0000,5,   212.6,2,    6.78,2,    9.85,2,    0.68,2
 09FA9503_1,      IR6_3,      38,          1,         18,         18,2,19950410,       1003,   -16.2900,   107.8600,         10,   426.4,   9.6680,  34.7620,2,  34.7651,2,-999.0000,5,   227.6,2,    8.98,2,   16.38,2,    1.12,2
 09FA9503_1,      IR6_3,      38,          1,         17,         35,2,19950410,       1003,   -16.2900,   107.8600,         10,   496.5,   8.2010,  34.6230,2,  34.6236,2,-999.0000,5,   181.6,2,   23.50,2,   24.35,2,    1.73,2
 09FA9503_1,      IR6_3,      38,          1,         16,          6,2,19950410,       1003,   -16.2900,   107.8600,         10,   595.9,   7.2050,  34.6270,2,  34.6264,2,-999.0000,5,   126.3,2,   48.43,2,   31.14,2,    2.23,2
 09FA9503_1,      IR6_3,      38,          1,         15,         21,2,19950410,       1003,   -16.2900,   107.8600,         10,   697.3,   6.5440,  34.6560,2,  34.6547,2,-999.0000,5,    96.8,2,   69.76,2,   34.55,2,    2.48,2
 09FA9503_1,      IR6_3,      38,          1,         14,         14,2,19950410,       1003,   -16.2900,   107.8600,         10,   776.8,   6.0520,  34.6620,2,  34.6614,2,-999.0000,5,    92.1,2,   78.51,2,   35.54,2,    2.55,2
 09FA9503_1,      IR6_3,      38,          1,         13,         70,2,19950410,       1003,   -16.2900,   107.8600,         10,   894.8,   5.5680,  34.6530,2,  34.6519,2,-999.0000,5,    90.8,2,   89.30,2,   36.08,2,    2.58,2
 09FA9503_1,      IR6_3,      38,          1,         12,         12,2,19950410,       1003,   -16.2900,   107.8600,         10,   994.4,   5.1410,  34.6490,2,  34.6496,2,-999.0000,5,    94.6,2,   97.37,2,   36.56,2,    2.60,2
 09FA9503_1,      IR6_3,      38,          1,         11,         11,2,19950410,       1003,   -16.2900,   107.8600,         10,  1246.7,   4.3420,  34.6510,2,  34.6497,2,-999.0000,5,  -999.0,9,  102.13,2,   36.44,2,    2.60,2
 09FA9503_1,      IR6_3,      38,          1,         10,         10,2,19950410,       1003,   -16.2900,   107.8600,         10,  1493.6,   3.5880,  34.6700,2,  34.6694,2,-999.0000,5,   123.0,2,  106.18,2,   36.37,2,    2.56,2
 09FA9503_1,      IR6_3,      38,          1,          9,         29,2,19950410,       1003,   -16.2900,   107.8600,         10,  1995.0,   2.4550,  34.7230,2,  34.7229,2,-999.0000,5,   147.2,2,  124.06,2,   34.96,2,    2.48,2
 09FA9503_1,      IR6_3,      38,          1,          8,         17,2,19950410,       1003,   -16.2900,   107.8600,         10,  2496.1,   1.9590,  34.7290,2,  34.7281,2,-999.0000,5,   161.7,2,  126.26,2,   34.44,2,    2.45,2
 09FA9503_1,      IR6_3,      38,          1,          7,          7,2,19950410,       1003,   -16.2900,   107.8600,         10,  2996.5,   1.6050,  34.7250,2,  34.7242,2,-999.0000,5,   177.4,2,  131.20,2,   33.74,2,    2.38,2
 09FA9503_1,      IR6_3,      38,          1,          6,         41,2,19950410,       1003,   -16.2900,   107.8600,         10,  3498.3,   1.3220,  34.7190,2,  34.7247,2,-999.0000,5,  -999.0,9,  130.59,2,   33.69,2,    2.39,2
 09FA9503_1,      IR6_3,      38,          1,          5,          5,2,19950410,       1003,   -16.2900,   107.8600,         10,  3996.2,   1.2090,  34.7160,2,  34.7153,2,-999.0000,5,   195.0,2,  130.75,2,   33.00,2,    2.33,2
 09FA9503_1,      IR6_3,      38,          1,          4,          4,2,19950410,       1003,   -16.2900,   107.8600,         10,  4499.1,   1.1690,  34.7140,2,  34.7150,2,-999.0000,5,   197.5,2,  128.01,2,   32.94,2,    2.32,2
 09FA9503_1,      IR6_3,      38,          1,          3,          3,2,19950410,       1003,   -16.2900,   107.8600,         10,  4999.9,   1.1780,  34.7140,2,  34.7142,2,-999.0000,5,   203.3,2,  131.51,2,   32.69,2,    2.29,2
 09FA9503_1,      IR6_3,      38,          1,          1,          1,2,19950410,       1003,   -16.2900,   107.8600,         10,  5622.1,   1.2130,  34.7130,2,  34.7132,2,-999.0000,5,   205.9,2,  131.55,2,   32.58,2,    2.28,2
 09FA9503_1,      IR6_3,      39,          1,         24,         24,2,19950410,       1703,   -15.8075,   107.7147,         10,     3.6,  28.7640,  34.5450,2,  34.5635,2,-999.0000,5,   208.7,2,    3.53,2,    0.14,2,    0.13,2
 09FA9503_1,      IR6_3,      39,          1,         23,         23,2,19950410,       1703,   -15.8075,   107.7147,         10,    49.6,  26.4440,  34.7490,2,  34.7694,2,-999.0000,5,   226.2,2,    4.36,2,    0.12,2,    0.16,2
 09FA9503_1,      IR6_3,      39,          1,         22,         22,2,19950410,       1703,   -15.8075,   107.7147,         10,    98.8,  20.2030,  34.7990,2,  34.7946,2,-999.0000,5,   128.2,2,   15.93,2,   14.50,2,    0.98,2
 09FA9503_1,      IR6_3,      39,          1,         21,         45,2,19950410,       1703,   -15.8075,   107.7147,         10,   149.4,  17.4800,  35.0740,2,  35.0720,2,-999.0000,5,   135.4,2,   18.46,2,   15.39,2,    1.05,2
 09FA9503_1,      IR6_3,      39,          1,         20,         20,2,19950410,       1703,   -15.8075,   107.7147,         10,   198.8,  15.7300,  35.0870,2,  35.0862,2,-999.0000,5,   136.0,2,   19.70,2,   16.18,2,    1.09,2
 09FA9503_1,      IR6_3,      39,          1,         19,         19,2,19950410,       1703,   -15.8075,   107.7147,         10,   297.5,  12.7270,  35.1040,2,  35.0862,2,-999.0000,5,   169.8,2,   18.59,2,   16.77,2,    1.18,2
 09FA9503_1,      IR6_3,      39,          1,         18,         18,2,19950410,       1703,   -15.8075,   107.7147,         10,   428.9,   9.5560,  34.7500,2,  34.7675,2,-999.0000,5,   194.0,2,   16.21,2,   21.20,2,    1.43,2
 09FA9503_1,      IR6_3,      39,          1,         17,         35,2,19950410,       1703,   -15.8075,   107.7147,         10,   497.6,   8.5000,  34.6570,2,  34.6570,2,-999.0000,5,   173.3,2,   24.18,2,   25.87,2,    1.76,2
 09FA9503_1,      IR6_3,      39,          1,         16,          6,2,19950410,       1703,   -15.8075,   107.7147,         10,   595.6,   7.3590,  34.6480,2,  34.6472,2,-999.0000,5,   111.1,2,   53.58,2,   33.07,2,    2.35,2
 09FA9503_1,      IR6_3,      39,          1,         15,         21,2,19950410,       1703,   -15.8075,   107.7147,         10,   726.9,   6.3320,  34.6380,2,  34.6381,2,-999.0000,5,    89.4,2,   74.19,2,   34.10,2,    2.41,2
 09FA9503_1,      IR6_3,      39,          1,         14,         14,2,19950410,       1703,   -15.8075,   107.7147,         10,   797.6,   6.0360,  34.6300,2,  34.6299,2,-999.0000,5,    88.3,2,   87.01,3,   36.11,3,    2.63,3
 09FA9503_1,      IR6_3,      39,          1,         13,         70,2,19950410,       1703,   -15.8075,   107.7147,         10,   897.6,   5.6000,  34.6340,2,  34.6338,2,-999.0000,5,    91.0,2,   88.38,2,   35.53,2,    2.53,2
 09FA9503_1,      IR6_3,      39,          1,         12,         12,2,19950410,       1703,   -15.8075,   107.7147,         10,   997.2,   5.1030,  34.6240,2,  34.6298,2,-999.0000,5,    96.2,2,  101.10,2,   36.84,2,    2.68,2
 09FA9503_1,      IR6_3,      39,          1,         11,         11,2,19950410,       1703,   -15.8075,   107.7147,         10,  1255.7,   4.3300,  34.6530,2,  34.6533,2,-999.0000,5,   105.8,2,  107.04,2,   36.88,2,    2.70,2
 09FA9503_1,      IR6_3,      39,          1,         10,         10,2,19950410,       1703,   -15.8075,   107.7147,         10,  1495.3,   3.6700,  34.6730,2,  34.6733,2,-999.0000,5,   120.9,2,  104.45,3,   35.78,3,    2.54,3
 09FA9503_1,      IR6_3,      39,          1,          9,         29,2,19950410,       1703,   -15.8075,   107.7147,         10,  1995.8,   2.5260,  34.7240,2,  34.7244,2,-999.0000,5,   145.2,2,  123.22,2,   35.85,2,    2.55,2
 09FA9503_1,      IR6_3,      39,          1,          8,         17,2,19950410,       1703,   -15.8075,   107.7147,         10,  2495.5,   1.9630,  34.7300,2,  34.7306,2,-999.0000,5,   162.3,2,  126.41,2,   34.77,2,    2.41,2
 09FA9503_1,      IR6_3,      39,          1,          7,          7,2,19950410,       1703,   -15.8075,   107.7147,         10,  2997.5,   1.5820,  34.7260,2,  34.7250,2,-999.0000,5,   178.8,2,  127.10,2,   33.86,2,    2.36,2
 09FA9503_1,      IR6_3,      39,          1,          6,         41,2,19950410,       1703,   -15.8075,   107.7147,         10,  3497.2,   1.3220,  34.7200,2,  34.7206,2,-999.0000,5,   188.5,2,  129.98,2,   33.64,2,    2.30,2
 09FA9503_1,      IR6_3,      39,          1,          5,          5,2,19950410,       1703,   -15.8075,   107.7147,         10,  3998.8,   1.2180,  34.7160,2,  34.7163,2,-999.0000,5,   195.2,2,  134.53,3,   34.13,3,    2.36,3
 09FA9503_1,      IR6_3,      39,          1,          4,          4,2,19950410,       1703,   -15.8075,   107.7147,         10,  4499.8,   1.1830,  34.7150,2,  34.7162,2,-999.0000,5,   200.5,2,  134.19,3,   34.29,3,    2.34,3
 09FA9503_1,      IR6_3,      39,          1,          3,          3,2,19950410,       1703,   -15.8075,   107.7147,         10,  4999.6,   1.1870,  34.7140,2,  34.7154,2,-999.0000,5,   203.0,2,  132.66,3,   33.61,3,    2.31,3
 09FA9503_1,      IR6_3,      39,          1,          2,          2,2,19950410,       1703,   -15.8075,   107.7147,         10,  5500.8,   1.2210,  34.7130,2,  34.7141,2,-999.0000,5,   204.4,2,  133.04,3,   33.72,3,    2.32,3
 09FA9503_1,      IR6_3,      39,          1,          1,          1,2,19950410,       1703,   -15.8075,   107.7147,         10,  5893.0,   1.2500,  34.7140,2,  34.7148,2,-999.0000,5,   205.7,2,  129.63,2,   33.30,2,    2.27,2