BOTTLE,20211029CCHSIORKP
EXPOCODE,SECT_ID,STNNBR,CASTNO,SAMPNO,BTLNBR,BTLNBR_FLAG_W,DATE,TIME,LATITUDE,LONGITUDE,DEPTH,CTDPRS,CTDTMP,CTDSAL,CTDSAL_FLAG_W,SALNTY,SALNTY_FLAG_W,CTDOXY,CTDOXY_FLAG_W,OXYGEN,OXYGEN_FLAG_W,SILCAT,SILCAT_FLAG_W,NITRAT,NITRAT_FLAG_W,PHSPHT,PHSPHT_FLAG_W
,,,,,,,,,,,METERS,DBAR,ITS-90,PSS-78,,PSS-78,,UMOL/KG,,UMOL/KG,,UMOL/KG,,UMOL/KG,,UMOL/KG,
 09FA9503_1,      IR6_3,      49,          1,         24,         24,2,19950413,       1000,   -11.5113,   106.3680,         10,     3.6,  29.2920,  33.8390,2,  33.8431,2,-999.0000,5,   206.0,2,    4.27,2,    0.15,2,    0.15,2
 09FA9503_1,      IR6_3,      49,          1,         23,          1,2,19950413,       1000,   -11.5113,   106.3680,         10,    48.9,  28.1620,  34.3050,2,  34.3023,2,-999.0000,5,   207.3,2,    4.26,2,    0.10,2,    0.15,2
 09FA9503_1,      IR6_3,      49,          1,         22,          5,2,19950413,       1000,   -11.5113,   106.3680,         10,    97.9,  21.5360,  34.7990,2,  34.8009,2,-999.0000,5,   122.9,2,   13.94,2,   12.54,2,    0.92,2
 09FA9503_1,      IR6_3,      49,          1,         21,        145,2,19950413,       1000,   -11.5113,   106.3680,         10,   148.7,  17.3610,  34.9910,2,  34.9895,2,-999.0000,5,   127.6,2,   20.18,2,   15.09,2,    1.12,2
 09FA9503_1,      IR6_3,      49,          1,         20,         20,2,19950413,       1000,   -11.5113,   106.3680,         10,   199.2,  14.5390,  34.8010,2,  34.8014,2,-999.0000,5,   115.5,2,   28.98,2,   19.96,2,    1.48,2
 09FA9503_1,      IR6_3,      49,          1,         19,         19,2,19950413,       1000,   -11.5113,   106.3680,         10,   296.9,  10.8910,  34.6440,2,  34.6432,2,-999.0000,5,    96.3,2,   42.44,2,   27.05,2,    1.96,2
 09FA9503_1,      IR6_3,      49,          1,         18,        118,2,19950413,       1000,   -11.5113,   106.3680,         10,   396.2,   9.2200,  34.6760,2,  34.6706,2,-999.0000,5,    93.9,2,   46.66,2,   29.82,2,    2.14,2
 09FA9503_1,      IR6_3,      49,          1,         17,        135,2,19950413,       1000,   -11.5113,   106.3680,         10,   496.8,   8.6660,  34.7190,2,  34.7180,2,-999.0000,5,    78.4,2,   51.42,2,   32.43,2,    2.30,2
 09FA9503_1,      IR6_3,      49,          1,         16,          6,2,19950413,       1000,   -11.5113,   106.3680,         10,   596.8,   7.7610,  34.6970,2,  34.6942,2,-999.0000,5,    76.7,2,   63.32,2,   33.94,2,    2.46,2
 09FA9503_1,      IR6_3,      49,          1,         15,         21,2,19950413,       1000,   -11.5113,   106.3680,         10,   696.5,   7.0720,  34.6820,2,  34.6850,2,-999.0000,5,    77.1,2,   73.14,2,   34.81,2,    2.55,2
 09FA9503_1,      IR6_3,      49,          1,         14,        127,2,19950413,       1000,   -11.5113,   106.3680,         10,   796.8,   6.2920,  34.6300,2,  34.6279,2,-999.0000,5,    85.2,2,   84.17,2,   35.12,2,    2.56,2
 09FA9503_1,      IR6_3,      49,          1,         13,        170,2,19950413,       1000,   -11.5113,   106.3680,         10,   895.0,   5.8230,  34.6420,2,  34.6384,2,-999.0000,5,    85.7,2,   92.10,2,   36.16,2,    2.61,2
 09FA9503_1,      IR6_3,      49,          1,         12,         14,2,19950413,       1000,   -11.5113,   106.3680,         10,   996.0,   5.2040,  34.6370,2,  34.6343,2,-999.0000,5,    91.8,2,  100.39,2,   36.07,2,    2.62,2
 09FA9503_1,      IR6_3,      49,          1,         11,         10,2,19950413,       1000,   -11.5113,   106.3680,         10,  1245.8,   4.3790,  34.6520,2,  34.6517,2,-999.0000,5,    99.7,2,  110.64,2,   36.39,2,    2.66,2
 09FA9503_1,      IR6_3,      49,          1,         10,        111,2,19950413,       1000,   -11.5113,   106.3680,         10,  1497.5,   3.7170,  34.7010,2,  34.6985,2,-999.0000,5,   111.9,2,  116.12,2,   36.28,2,    2.65,2
 09FA9503_1,      IR6_3,      49,          1,          9,        129,2,19950413,       1000,   -11.5113,   106.3680,         10,  1746.0,   3.1640,  34.7270,2,  34.7249,2,-999.0000,5,   124.1,2,  119.38,2,   35.81,2,    2.60,2
 09FA9503_1,      IR6_3,      49,          1,          8,         17,2,19950413,       1000,   -11.5113,   106.3680,         10,  1995.4,   2.5720,  34.7350,2,  34.7336,2,-999.0000,5,   142.6,2,  121.74,2,   34.92,2,    2.52,2
 09FA9503_1,      IR6_3,      49,          1,          7,          7,2,19950413,       1000,   -11.5113,   106.3680,         10,  2496.0,   2.0520,  34.7340,2,  34.7329,2,-999.0000,5,   160.3,2,  126.00,2,   34.52,2,    2.46,2
 09FA9503_1,      IR6_3,      49,          1,          6,        141,2,19950413,       1000,   -11.5113,   106.3680,         10,  2996.9,   1.6180,  34.7260,2,  34.7239,2,-999.0000,5,   174.6,2,  130.51,2,   33.85,2,    2.41,2
 09FA9503_1,      IR6_3,      49,          1,          5,        124,2,19950413,       1000,   -11.5113,   106.3680,         10,  3497.6,   1.3910,  34.7210,2,  34.7196,2,-999.0000,5,   185.0,2,  133.04,2,   33.58,2,    2.37,2
 09FA9503_1,      IR6_3,      49,          1,          4,          4,2,19950413,       1000,   -11.5113,   106.3680,         10,  3997.4,   1.2510,  34.7170,2,  34.7173,2,-999.0000,5,   193.1,2,  133.94,3,   33.34,2,    2.34,2
 09FA9503_1,      IR6_3,      49,          1,          3,          3,2,19950413,       1000,   -11.5113,   106.3680,         10,  4497.6,   1.1890,  34.7150,2,  34.7150,2,-999.0000,5,   198.0,2,  132.90,2,   33.15,2,    2.32,2
 09FA9503_1,      IR6_3,      49,          1,          2,          2,2,19950413,       1000,   -11.5113,   106.3680,         10,  5004.4,   1.2090,  34.7140,2,  34.7135,2,-999.0000,5,   200.6,2,  132.92,2,   33.65,2,    2.31,2
 09FA9503_1,      IR6_3,      49,          1,          1,         18,2,19950413,       1000,   -11.5113,   106.3680,         10,  5202.3,   1.2270,  34.7150,2,  34.7136,2,-999.0000,5,   200.6,2,  133.33,2,   33.01,2,    2.31,2
 09FA9503_1,      IR6_3,      50,          1,         24,         24,2,19950413,       1708,   -11.0353,   106.2110,         10,     3.2,  29.1400,  33.7850,2,-999.0000,9,-999.0000,5,  -999.0,9,    4.08,2,    0.19,2,    0.14,2
 09FA9503_1,      IR6_3,      50,          1,         23,          1,2,19950413,       1708,   -11.0353,   106.2110,         10,    48.3,  28.1010,  34.2100,2,  34.1952,2,-999.0000,5,   206.7,2,    3.73,2,    0.14,2,    0.17,2
 09FA9503_1,      IR6_3,      50,          1,         22,          5,2,19950413,       1708,   -11.0353,   106.2110,         10,    98.6,  22.6820,  34.7530,2,  34.7513,2,-999.0000,5,   133.3,2,   12.33,2,   11.07,2,    0.79,2
 09FA9503_1,      IR6_3,      50,          1,         21,        145,2,19950413,       1708,   -11.0353,   106.2110,         10,   149.9,  16.6290,  34.7200,2,  34.7168,2,-999.0000,5,   101.5,2,   26.60,2,   20.70,2,    1.45,2
 09FA9503_1,      IR6_3,      50,          1,         20,         20,2,19950413,       1708,   -11.0353,   106.2110,         10,   198.3,  13.3540,  34.6610,2,  34.6583,2,-999.0000,5,   100.4,2,   35.02,2,   24.11,2,    1.76,2
 09FA9503_1,      IR6_3,      50,          1,         19,         19,2,19950413,       1708,   -11.0353,   106.2110,         10,   298.5,  10.5620,  34.6930,2,  34.6898,2,-999.0000,5,    82.3,2,   42.50,2,   29.76,2,    2.15,2
 09FA9503_1,      IR6_3,      50,          1,         18,        118,2,19950413,       1708,   -11.0353,   106.2110,         10,   398.4,   9.7270,  34.7280,2,  34.7291,2,-999.0000,5,    83.0,2,   43.76,2,   30.98,2,    2.21,2
 09FA9503_1,      IR6_3,      50,          1,         17,        135,2,19950413,       1708,   -11.0353,   106.2110,         10,   497.2,   8.9870,  34.7600,2,  34.7605,2,-999.0000,5,    82.3,2,   45.23,2,   32.29,2,    2.31,2
 09FA9503_1,      IR6_3,      50,          1,         16,          6,2,19950413,       1708,   -11.0353,   106.2110,         10,   597.2,   7.5870,  34.6690,2,  34.6702,2,-999.0000,5,    79.8,2,   65.56,2,   34.37,2,    2.51,2
 09FA9503_1,      IR6_3,      50,          1,         15,         21,2,19950413,       1708,   -11.0353,   106.2110,         10,   696.3,   7.0750,  34.6810,2,  34.6812,2,-999.0000,5,    78.0,2,   73.66,2,   35.30,2,    2.58,2
 09FA9503_1,      IR6_3,      50,          1,         14,        127,2,19950413,       1708,   -11.0353,   106.2110,         10,   797.0,   6.4820,  34.6830,2,  34.6899,2,-999.0000,5,    78.2,2,   82.24,2,   35.89,2,    2.62,2
 09FA9503_1,      IR6_3,      50,          1,         13,        170,2,19950413,       1708,   -11.0353,   106.2110,         10,   895.6,   5.8570,  34.6420,2,  34.6428,2,-999.0000,5,    88.0,2,   90.63,2,   36.00,2,    2.62,2
 09FA9503_1,      IR6_3,      50,          1,         12,         14,2,19950413,       1708,   -11.0353,   106.2110,         10,   995.8,   5.2660,  34.6200,2,  34.6280,2,-999.0000,5,    96.4,2,   99.62,2,   36.04,2,    2.66,2
 09FA9503_1,      IR6_3,      50,          1,         11,         10,2,19950413,       1708,   -11.0353,   106.2110,         10,  1246.2,   4.4840,  34.6550,2,  34.6547,2,-999.0000,5,    99.9,2,  109.60,2,   37.20,2,    2.67,2
 09FA9503_1,      IR6_3,      50,          1,         10,        111,2,19950413,       1708,   -11.0353,   106.2110,         10,  1494.7,   3.7420,  34.6930,2,  34.6940,2,-999.0000,5,   111.9,2,  116.00,2,   36.66,2,    2.64,2
 09FA9503_1,      IR6_3,      50,          1,          9,        129,2,19950413,       1708,   -11.0353,   106.2110,         10,  1995.5,   2.7330,  34.7360,2,  34.7377,2,-999.0000,5,   138.3,2,  121.56,2,   35.48,2,    2.56,2
 09FA9503_1,      IR6_3,      50,          1,          8,         17,2,19950413,       1708,   -11.0353,   106.2110,         10,  2495.3,   2.1100,  34.7350,2,  34.7374,2,-999.0000,5,   159.6,2,  125.53,2,   34.39,2,    2.46,2
 09FA9503_1,      IR6_3,      50,          1,          7,          7,2,19950413,       1708,   -11.0353,   106.2110,         10,  2997.2,   1.6110,  34.7260,2,  34.7296,2,-999.0000,5,   174.9,2,  130.47,2,   33.78,2,    2.42,2
 09FA9503_1,      IR6_3,      50,          1,          6,        141,2,19950413,       1708,   -11.0353,   106.2110,         10,  3498.3,   1.3620,  34.7200,2,  34.7234,2,-999.0000,5,   184.0,2,  130.74,2,   33.45,2,    2.37,2
 09FA9503_1,      IR6_3,      50,          1,          5,        124,2,19950413,       1708,   -11.0353,   106.2110,         10,  3999.3,   1.2160,  34.7170,2,  34.7215,2,-999.0000,5,   194.7,2,  132.61,2,   33.14,2,    2.34,2
 09FA9503_1,      IR6_3,      50,          1,          4,          4,2,19950413,       1708,   -11.0353,   106.2110,         10,  4499.9,   1.1930,  34.7160,2,  34.7176,2,-999.0000,5,   199.0,2,  132.27,2,   33.02,2,    2.31,2
 09FA9503_1,      IR6_3,      50,          1,          3,          3,2,19950413,       1708,   -11.0353,   106.2110,         10,  4998.2,   1.1890,  34.7140,2,  34.7141,2,-999.0000,5,   203.7,2,  130.97,2,   32.77,2,    2.29,2
 09FA9503_1,      IR6_3,      50,          1,          2,          2,2,19950413,       1708,   -11.0353,   106.2110,         10,  5499.7,   1.2320,  34.7150,2,  34.7162,2,-999.0000,5,   204.8,2,  124.72,3,   31.79,3,    2.19,3
 09FA9503_1,      IR6_3,      50,          1,          1,         18,2,19950413,       1708,   -11.0353,   106.2110,         10,  5860.3,   1.2690,  34.7140,2,  34.7170,2,-999.0000,5,   203.6,2,  129.92,2,   32.59,2,    2.29,2
 09FA9503_1,      IR6_3,      51,          1,         24,         24,2,19950414,       0035,   -10.5673,   106.0587,         10,     1.8,  29.2850,  33.7130,2,  33.7251,2,-999.0000,5,   210.5,2,    3.40,2,    0.18,2,    0.05,2
 09FA9503_1,      IR6_3,      51,          1,         23,          1,2,19950414,       0035,   -10.5673,   106.0587,         10,    49.2,  27.9910,  34.3950,2,  34.3933,2,-999.0000,5,   205.2,2,    3.92,2,    0.19,2,    0.07,2
 09FA9503_1,      IR6_3,      51,          1,         22,          5,2,19950414,       0035,   -10.5673,   106.0587,         10,    99.5,  22.5380,  34.8610,2,  34.8744,2,-999.0000,5,   127.1,2,   11.11,2,   11.16,2,    0.73,2
 09FA9503_1,      IR6_3,      51,          1,         21,        145,2,19950414,       0035,   -10.5673,   106.0587,         10,   149.6,  16.4380,  34.7630,2,  34.7656,2,-999.0000,5,    99.9,2,   25.46,2,   20.23,2,    1.40,2
 09FA9503_1,      IR6_3,      51,          1,         20,         20,2,19950414,       0035,   -10.5673,   106.0587,         10,   197.6,  12.5980,  34.5510,2,  34.5488,2,-999.0000,5,   104.0,2,   37.52,2,   24.61,2,    1.78,2
 09FA9503_1,      IR6_3,      51,          1,         19,         19,2,19950414,       0035,   -10.5673,   106.0587,         10,   298.5,  10.8640,  34.6940,2,  34.6905,2,-999.0000,5,    81.6,2,   40.92,2,   29.06,2,    2.09,2
 09FA9503_1,      IR6_3,      51,          1,         18,        118,2,19950414,       0035,   -10.5673,   106.0587,         10,   399.5,   9.7890,  34.7580,2,  34.7580,2,-999.0000,5,    77.3,2,   42.25,2,   31.54,2,    2.22,2
 09FA9503_1,      IR6_3,      51,          1,         17,         35,2,19950414,       0035,   -10.5673,   106.0587,         10,   497.6,   9.1580,  34.7630,2,  34.7661,2,-999.0000,5,    76.6,2,   45.10,2,   32.09,2,    2.29,2
 09FA9503_1,      IR6_3,      51,          1,         16,          6,2,19950414,       0035,   -10.5673,   106.0587,         10,   596.9,   8.1360,  34.7190,2,  34.7197,2,-999.0000,5,    75.9,2,   56.46,2,   33.68,2,    2.42,2
 09FA9503_1,      IR6_3,      51,          1,         15,         21,2,19950414,       0035,   -10.5673,   106.0587,         10,   645.9,   7.6260,  34.7090,2,  34.7111,2,-999.0000,5,    75.7,2,   63.47,2,   34.50,2,    2.51,2
 09FA9503_1,      IR6_3,      51,          1,         14,        127,2,19950414,       0035,   -10.5673,   106.0587,         10,   795.6,   6.7450,  34.6830,2,  34.6835,2,-999.0000,5,    77.3,2,   76.37,2,   35.45,2,    2.58,2
 09FA9503_1,      IR6_3,      51,          1,         13,        170,2,19950414,       0035,   -10.5673,   106.0587,         10,   895.8,   5.9160,  34.6440,2,  34.6442,2,-999.0000,5,    86.5,2,   87.78,2,   35.71,2,    2.60,2
 09FA9503_1,      IR6_3,      51,          1,         12,         14,2,19950414,       0035,   -10.5673,   106.0587,         10,   996.7,   5.3070,  34.6270,2,  34.6304,2,-999.0000,5,    93.6,2,   95.91,2,   35.85,2,    2.63,2
 09FA9503_1,      IR6_3,      51,          1,         11,         10,2,19950414,       0035,   -10.5673,   106.0587,         10,  1245.7,   4.4900,  34.6490,2,  34.6543,2,-999.0000,5,    99.3,2,  107.97,2,   36.59,2,    2.64,2
 09FA9503_1,      IR6_3,      51,          1,         10,        111,2,19950414,       0035,   -10.5673,   106.0587,         10,  1496.9,   3.8060,  34.6990,2,  34.7014,2,-999.0000,5,   109.6,2,  114.31,2,   36.87,2,    2.64,2
 09FA9503_1,      IR6_3,      51,          1,          9,        129,2,19950414,       0035,   -10.5673,   106.0587,         10,  1745.3,   3.1340,  34.7230,2,  34.7234,2,-999.0000,5,   125.5,2,  117.95,2,   36.13,2,    2.61,2
 09FA9503_1,      IR6_3,      51,          1,          8,         17,2,19950414,       0035,   -10.5673,   106.0587,         10,  1995.3,   2.6540,  34.7380,2,  34.7402,2,-999.0000,5,   141.8,2,  120.24,2,   35.54,2,    2.55,2
 09FA9503_1,      IR6_3,      51,          1,          7,          7,2,19950414,       0035,   -10.5673,   106.0587,         10,  2496.1,   2.0130,  34.7340,2,  34.7402,2,-999.0000,5,   162.3,2,  125.29,2,   34.51,2,    2.46,2
 09FA9503_1,      IR6_3,      51,          1,          6,        141,2,19950414,       0035,   -10.5673,   106.0587,         10,  2995.9,   1.6320,  34.7260,2,  34.7276,2,-999.0000,5,   174.6,2,  129.80,2,   34.08,2,    2.43,2
 09FA9503_1,      IR6_3,      51,          1,          5,        124,2,19950414,       0035,   -10.5673,   106.0587,         10,  3497.7,   1.3220,  34.7190,2,  34.7205,2,-999.0000,5,   188.0,2,  130.88,2,   33.67,2,    2.39,2
 09FA9503_1,      IR6_3,      51,          1,          4,          4,2,19950414,       0035,   -10.5673,   106.0587,         10,  4000.1,   1.1920,  34.7160,2,  34.7178,2,-999.0000,5,   196.0,2,  132.23,2,   33.49,2,    2.36,2
 09FA9503_1,      IR6_3,      51,          1,          3,          3,2,19950414,       0035,   -10.5673,   106.0587,         10,  4499.5,   1.1590,  34.7140,2,  34.7134,2,-999.0000,5,   200.3,2,  131.70,2,   33.36,2,    2.34,2
 09FA9503_1,      IR6_3,      51,          1,          2,          2,2,19950414,       0035,   -10.5673,   106.0587,         10,  4998.3,   1.1910,  34.7130,2,  34.7161,2,-999.0000,5,   203.0,2,  130.76,2,   33.20,2,    2.34,2
 09FA9503_1,      IR6_3,      51,          1,          1,         18,2,19950414,       0035,   -10.5673,   106.0587,         10,  5558.7,   1.2380,  34.7130,2,  34.7161,2,-999.0000,5,   203.0,2,  130.22,2,   33.09,2,    2.34,2