BOTTLE,20211029CCHSIORKP
EXPOCODE,SECT_ID,STNNBR,CASTNO,SAMPNO,BTLNBR,BTLNBR_FLAG_W,DATE,TIME,LATITUDE,LONGITUDE,DEPTH,CTDPRS,CTDTMP,CTDSAL,CTDSAL_FLAG_W,SALNTY,SALNTY_FLAG_W,CTDOXY,CTDOXY_FLAG_W,OXYGEN,OXYGEN_FLAG_W,SILCAT,SILCAT_FLAG_W,NITRAT,NITRAT_FLAG_W,PHSPHT,PHSPHT_FLAG_W
,,,,,,,,,,,METERS,DBAR,ITS-90,PSS-78,,PSS-78,,UMOL/KG,,UMOL/KG,,UMOL/KG,,UMOL/KG,,UMOL/KG,
 09FA9503_1,      IR6_3,      43,          1,         24,         24,2,19950411,       2110,   -13.8903,   107.0910,         10,     2.6,  29.3540,  34.8930,2,  34.9020,2,-999.0000,5,   213.6,2,    3.25,2,    0.19,2,    0.13,2
 09FA9503_1,      IR6_3,      43,          1,         23,         23,2,19950411,       2110,   -13.8903,   107.0910,         10,    48.7,  28.1570,  34.7960,2,  34.8183,2,-999.0000,5,   217.5,2,    3.11,2,    0.17,2,    0.14,2
 09FA9503_1,      IR6_3,      43,          1,         22,         22,2,19950411,       2110,   -13.8903,   107.0910,         10,    97.5,  22.1340,  34.7850,2,  34.7837,2,-999.0000,5,   143.9,2,   11.72,2,    9.98,2,    0.77,2
 09FA9503_1,      IR6_3,      43,          1,         21,         45,2,19950411,       2110,   -13.8903,   107.0910,         10,   147.2,  18.1270,  34.7940,2,  34.7963,2,-999.0000,5,   112.1,2,   20.03,2,   16.83,2,    1.21,2
 09FA9503_1,      IR6_3,      43,          1,         20,         20,2,19950411,       2110,   -13.8903,   107.0910,         10,   197.3,  13.9130,  34.7790,2,  34.7798,2,-999.0000,5,   115.3,2,   31.46,2,   21.95,2,    1.60,2
 09FA9503_1,      IR6_3,      43,          1,         19,         19,2,19950411,       2110,   -13.8903,   107.0910,         10,   296.6,  11.1900,  34.7450,2,  34.7799,2,-999.0000,5,   114.1,2,   29.52,2,   21.09,2,    1.53,2
 09FA9503_1,      IR6_3,      43,          1,         18,         18,2,19950411,       2110,   -13.8903,   107.0910,         10,   396.8,   9.5690,  34.7300,2,  34.7288,2,-999.0000,5,   144.8,2,   29.51,2,   25.38,2,    1.76,2
 09FA9503_1,      IR6_3,      43,          1,         17,         35,2,19950411,       2110,   -13.8903,   107.0910,         10,   496.5,   8.5370,  34.6740,2,  34.6620,2,-999.0000,5,   114.7,2,   41.53,2,   29.73,2,    2.09,2
 09FA9503_1,      IR6_3,      43,          1,         16,          6,2,19950411,       2110,   -13.8903,   107.0910,         10,   595.2,   7.3380,  34.6570,2,  34.6589,2,-999.0000,5,    92.0,2,   62.84,2,   34.47,2,    2.48,2
 09FA9503_1,      IR6_3,      43,          1,         15,         21,2,19950411,       2110,   -13.8903,   107.0910,         10,   696.1,   6.7360,  34.6450,2,  34.6451,2,-999.0000,5,    89.1,2,   71.05,2,   34.67,2,    2.48,2
 09FA9503_1,      IR6_3,      43,          1,         14,         14,2,19950411,       2110,   -13.8903,   107.0910,         10,   795.9,   6.2100,  34.6320,2,  34.6310,2,-999.0000,5,    87.6,2,   84.15,2,   35.89,2,    2.60,2
 09FA9503_1,      IR6_3,      43,          1,         13,         70,2,19950411,       2110,   -13.8903,   107.0910,         10,   896.1,   5.5800,  34.6150,2,  34.6130,2,-999.0000,5,    92.7,2,   92.84,2,   35.85,2,    2.60,2
 09FA9503_1,      IR6_3,      43,          1,         12,         12,2,19950411,       2110,   -13.8903,   107.0910,         10,   995.1,   5.1540,  34.6100,2,  34.6115,2,-999.0000,5,    95.9,2,   97.38,2,   35.65,2,    2.58,2
 09FA9503_1,      IR6_3,      43,          1,         11,         11,2,19950411,       2110,   -13.8903,   107.0910,         10,  1243.8,   4.3950,  34.6320,2,  34.6335,2,-999.0000,5,   101.9,2,  109.64,3,   36.75,3,    2.67,3
 09FA9503_1,      IR6_3,      43,          1,         10,         10,2,19950411,       2110,   -13.8903,   107.0910,         10,  1494.6,   3.6810,  34.6750,2,  34.6741,2,-999.0000,5,   114.2,2,  112.82,2,   36.14,2,    2.60,2
 09FA9503_1,      IR6_3,      43,          1,          9,         29,2,19950411,       2110,   -13.8903,   107.0910,         10,  1995.6,   2.6100,  34.7270,2,  34.7253,2,-999.0000,5,   141.3,2,  122.42,2,   35.67,2,    2.54,2
 09FA9503_1,      IR6_3,      43,          1,          8,         17,2,19950411,       2110,   -13.8903,   107.0910,         10,  2495.6,   2.0220,  34.7320,2,  34.7296,2,-999.0000,5,   161.3,2,  127.41,2,   34.92,2,    2.47,2
 09FA9503_1,      IR6_3,      43,          1,          7,          7,2,19950411,       2110,   -13.8903,   107.0910,         10,  2997.3,   1.5780,  34.7260,2,  34.7230,2,-999.0000,5,   177.0,2,  130.43,2,   34.11,2,    2.38,2
 09FA9503_1,      IR6_3,      43,          1,          5,          5,2,19950411,       2110,   -13.8903,   107.0910,         10,  3997.9,   1.2430,  34.7180,2,  34.7161,2,-999.0000,5,   194.1,2,  130.39,2,   33.26,2,    2.31,2
 09FA9503_1,      IR6_3,      43,          1,          4,          4,2,19950411,       2110,   -13.8903,   107.0910,         10,  4498.7,   1.1820,  34.7160,2,  34.7141,2,-999.0000,5,   201.0,2,  128.83,2,   32.83,2,    2.26,2
 09FA9503_1,      IR6_3,      43,          1,          3,          3,2,19950411,       2110,   -13.8903,   107.0910,         10,  4997.3,   1.1650,  34.7140,2,  34.7138,2,-999.0000,5,   204.6,2,  126.82,2,   32.45,2,    2.24,2
 09FA9503_1,      IR6_3,      43,          1,          2,          2,2,19950411,       2110,   -13.8903,   107.0910,         10,  5500.7,   1.1950,  34.7130,2,  34.7127,2,-999.0000,5,   207.6,2,  126.28,2,   32.34,2,    2.22,2
 09FA9503_1,      IR6_3,      43,          1,          1,          1,2,19950411,       2110,   -13.8903,   107.0910,         10,  5680.3,   1.2130,  34.7140,2,  34.7124,2,-999.0000,5,   200.4,3,  131.05,3,   33.62,3,    2.35,3
 09FA9503_1,      IR6_3,      44,          1,         24,         24,2,19950412,       0248,   -13.5900,   107.0068,         10,     4.0,  29.2920,  34.2090,2,-999.0000,9,-999.0000,5,   204.4,2,    3.12,2,    0.15,2,    0.13,2
 09FA9503_1,      IR6_3,      44,          1,         23,         23,2,19950412,       0248,   -13.5900,   107.0068,         10,    48.8,  25.9070,  34.7270,2,  34.7284,2,-999.0000,5,   212.1,2,    5.05,2,    0.13,2,    0.18,2
 09FA9503_1,      IR6_3,      44,          1,         22,         22,2,19950412,       0248,   -13.5900,   107.0068,         10,    99.5,  21.3100,  34.9840,2,  34.9832,2,-999.0000,5,   150.0,2,   10.58,2,    8.58,2,    0.64,2
 09FA9503_1,      IR6_3,      44,          1,         21,         45,2,19950412,       0248,   -13.5900,   107.0068,         10,   147.6,  17.6750,  34.9600,2,  34.9615,2,-999.0000,5,   126.1,2, -999.00,9, -999.00,9, -999.00,9
 09FA9503_1,      IR6_3,      44,          1,         20,         20,2,19950412,       0248,   -13.5900,   107.0068,         10,   198.5,  14.3340,  34.8590,2,  34.8579,2,-999.0000,5,   119.5,2,   28.06,2,   19.70,2,    1.43,2
 09FA9503_1,      IR6_3,      44,          1,         19,         19,2,19950412,       0248,   -13.5900,   107.0068,         10,   297.8,  10.6330,  34.6970,2,  34.6946,2,-999.0000,5,   105.1,2,   40.04,2,   26.73,2,    1.93,2
 09FA9503_1,      IR6_3,      44,          1,         18,         18,2,19950412,       0248,   -13.5900,   107.0068,         10,   397.3,   9.2710,  34.7120,2,  34.7102,2,-999.0000,5,   143.5,2,   29.97,2,   25.43,2,    1.79,2
 09FA9503_1,      IR6_3,      44,          1,         17,         35,2,19950412,       0248,   -13.5900,   107.0068,         10,   497.7,   8.2070,  34.6660,2,  34.6637,2,-999.0000,5,    91.0,2,   53.49,2,   32.58,2,    2.30,2
 09FA9503_1,      IR6_3,      44,          1,         16,          6,2,19950412,       0248,   -13.5900,   107.0068,         10,   597.3,   7.5750,  34.6620,2,  34.6621,2,-999.0000,5,    93.2,2,   57.42,2,   32.94,2,    2.36,2
 09FA9503_1,      IR6_3,      44,          1,         15,         21,2,19950412,       0248,   -13.5900,   107.0068,         10,   697.3,   6.9110,  34.6510,2,  34.6471,2,-999.0000,5,    87.4,2,   69.12,2,   34.78,2,    2.49,2
 09FA9503_1,      IR6_3,      44,          1,         14,         14,2,19950412,       0248,   -13.5900,   107.0068,         10,   796.9,   6.1420,  34.6300,2,  34.6277,2,-999.0000,5,    86.3,2,   83.34,2,   35.41,2,    2.56,2
 09FA9503_1,      IR6_3,      44,          1,         13,         70,2,19950412,       0248,   -13.5900,   107.0068,         10,   896.7,   5.6410,  34.6150,2,  34.6119,2,-999.0000,5,    90.5,2,   92.71,2,   36.15,2,    2.60,2
 09FA9503_1,      IR6_3,      44,          1,         12,         12,2,19950412,       0248,   -13.5900,   107.0068,         10,   995.9,   5.2660,  34.6160,2,  34.6166,2,-999.0000,5,    92.8,2,   96.08,2,   36.06,2,    2.62,2
 09FA9503_1,      IR6_3,      44,          1,         11,         11,2,19950412,       0248,   -13.5900,   107.0068,         10,  1246.5,   4.2990,  34.6350,2,  34.6363,2,-999.0000,5,   101.7,2,  111.15,2,   37.37,2,    2.65,2
 09FA9503_1,      IR6_3,      44,          1,         10,         10,2,19950412,       0248,   -13.5900,   107.0068,         10,  1497.1,   3.6800,  34.6790,2,  34.6792,2,-999.0000,5,   112.5,2,  114.29,2,   36.43,2,    2.62,2
 09FA9503_1,      IR6_3,      44,          1,          9,         29,2,19950412,       0248,   -13.5900,   107.0068,         10,  1751.0,   3.1290,  34.7160,2,  34.7150,2,-999.0000,5,   125.5,2,  116.24,2,   35.70,2,    2.56,2
 09FA9503_1,      IR6_3,      44,          1,          8,         17,2,19950412,       0248,   -13.5900,   107.0068,         10,  1997.5,   2.6110,  34.7280,2,  34.7269,2,-999.0000,5,   140.7,2,  119.54,2,   35.12,2,    2.51,2
 09FA9503_1,      IR6_3,      44,          1,          7,          7,2,19950412,       0248,   -13.5900,   107.0068,         10,  2496.6,   2.0470,  34.7310,2,  34.7305,2,-999.0000,5,   159.4,2,  123.66,2,   34.28,2,    2.44,2
 09FA9503_1,      IR6_3,      44,          1,          6,         41,2,19950412,       0248,   -13.5900,   107.0068,         10,  2996.2,   1.6230,  34.7250,2,  34.7223,2,-999.0000,5,   175.0,2,  132.80,3,   34.87,3,    2.45,3
 09FA9503_1,      IR6_3,      44,          1,          5,          5,2,19950412,       0248,   -13.5900,   107.0068,         10,  3498.8,   1.4480,  34.7200,2,  34.7196,2,-999.0000,5,   183.3,2,  129.88,2,   33.24,2,    2.35,2
 09FA9503_1,      IR6_3,      44,          1,          4,          4,2,19950412,       0248,   -13.5900,   107.0068,         10,  3998.4,   1.1980,  34.7160,2,  34.7157,2,-999.0000,5,   195.4,2,  129.19,2,   32.72,2,    2.30,2
 09FA9503_1,      IR6_3,      44,          1,          3,          3,2,19950412,       0248,   -13.5900,   107.0068,         10,  4498.3,   1.1200,  34.7120,2,  34.7142,2,-999.0000,5,   203.3,2,  126.52,2,   32.21,2,    2.26,2
 09FA9503_1,      IR6_3,      44,          1,          2,          2,2,19950412,       0248,   -13.5900,   107.0068,         10,  4987.5,   1.1370,  34.7120,2,  34.7135,2,-999.0000,5,   206.2,2,  124.96,2,   32.04,2,    2.25,2
 09FA9503_1,      IR6_3,      44,          1,          1,          1,2,19950412,       0248,   -13.5900,   107.0068,         10,  5250.5,   1.1640,  34.7110,2,  34.7131,2,-999.0000,5,   202.4,2,  124.96,2,   32.28,2,    2.26,2
 09FA9503_1,      IR6_3,      45,          1,         24,         24,2,19950412,       0841,   -13.2552,   106.9347,         10,     3.4,  29.4070,  34.1910,2,  34.1942,2,-999.0000,5,   205.8,2,    3.10,2,    0.16,2,    0.13,2
 09FA9503_1,      IR6_3,      45,          1,         23,         23,2,19950412,       0841,   -13.2552,   106.9347,         10,    50.5,  28.0390,  34.6170,2,-999.0000,9,-999.0000,5,   215.6,2,    3.88,2,    0.12,2,    0.13,2
 09FA9503_1,      IR6_3,      45,          1,         22,         22,2,19950412,       0841,   -13.2552,   106.9347,         10,    99.0,  21.2520,  34.8360,2,  34.8383,2,-999.0000,5,   140.5,2,   12.65,2,   10.61,2,    0.78,2
 09FA9503_1,      IR6_3,      45,          1,         21,         45,2,19950412,       0841,   -13.2552,   106.9347,         10,   148.9,  16.5280,  34.8570,2,  34.8586,2,-999.0000,5,   119.2,2,   23.21,2,   17.28,2,    1.24,2
 09FA9503_1,      IR6_3,      45,          1,         20,         20,2,19950412,       0841,   -13.2552,   106.9347,         10,   198.5,  14.3270,  34.8290,2,  34.8337,2,-999.0000,5,   117.5,2,   28.63,2,   19.82,2,    1.45,2
 09FA9503_1,      IR6_3,      45,          1,         19,         19,2,19950412,       0841,   -13.2552,   106.9347,         10,   298.0,  10.7590,  34.6950,2,  34.6970,2,-999.0000,5,   103.7,2,   40.05,2,   26.30,2,    1.89,2
 09FA9503_1,      IR6_3,      45,          1,         18,         18,2,19950412,       0841,   -13.2552,   106.9347,         10,   398.9,   9.2890,  34.6850,2,  34.6859,2,-999.0000,5,   107.4,2,   42.01,2,   28.54,2,    2.03,2
 09FA9503_1,      IR6_3,      45,          1,         17,         35,2,19950412,       0841,   -13.2552,   106.9347,         10,   498.5,   8.3340,  34.6590,2,  34.6586,2,-999.0000,5,    91.5,2,   53.09,2,   31.82,2,    2.26,2
 09FA9503_1,      IR6_3,      45,          1,         16,          6,2,19950412,       0841,   -13.2552,   106.9347,         10,   627.0,   7.2250,  34.6500,2,  34.6533,2,-999.0000,5,    81.6,2,   69.61,2,   34.44,2,    2.48,2
 09FA9503_1,      IR6_3,      45,          1,         15,         21,2,19950412,       0841,   -13.2552,   106.9347,         10,   697.6,   6.7340,  34.6450,2,  34.6453,2,-999.0000,5,    82.3,2,   77.02,2,   35.15,2,    2.54,2
 09FA9503_1,      IR6_3,      45,          1,         14,         14,2,19950412,       0841,   -13.2552,   106.9347,         10,   796.4,   6.0720,  34.6280,2,  34.6294,2,-999.0000,5,    86.5,2,   86.33,2,   35.62,2,    2.57,2
 09FA9503_1,      IR6_3,      45,          1,         13,         70,2,19950412,       0841,   -13.2552,   106.9347,         10,   896.4,   5.5260,  34.6150,2,  34.6159,2,-999.0000,5,    91.1,2,   94.21,2,   36.30,2,    2.59,2
 09FA9503_1,      IR6_3,      45,          1,         12,         12,2,19950412,       0841,   -13.2552,   106.9347,         10,   997.3,   5.1300,  34.6130,2,  34.6148,2,-999.0000,5,    94.5,2,   99.74,2,   35.99,2,    2.61,2
 09FA9503_1,      IR6_3,      45,          1,         11,         11,2,19950412,       0841,   -13.2552,   106.9347,         10,  1246.2,   4.3490,  34.6350,2,  34.6369,2,-999.0000,5,   101.3,2,  110.68,2,   37.01,2,    2.64,2
 09FA9503_1,      IR6_3,      45,          1,         10,         10,2,19950412,       0841,   -13.2552,   106.9347,         10,  1495.2,   3.7350,  34.6810,2,  34.6813,2,-999.0000,5,   111.3,2,  114.96,2,   36.36,2,    2.62,2
 09FA9503_1,      IR6_3,      45,          1,          9,         29,2,19950412,       0841,   -13.2552,   106.9347,         10,  1744.7,   3.1010,  34.7190,2,  34.7194,2,-999.0000,5,   126.1,2,  118.53,2,   36.35,2,    2.58,2
 09FA9503_1,      IR6_3,      45,          1,          8,         17,2,19950412,       0841,   -13.2552,   106.9347,         10,  1996.1,   2.6790,  34.7310,2,  34.7328,2,-999.0000,5,   140.2,2,  119.44,2,   35.05,2,    2.52,2
 09FA9503_1,      IR6_3,      45,          1,          7,          7,2,19950412,       0841,   -13.2552,   106.9347,         10,  2497.6,   2.0210,  34.7320,2,  34.7328,2,-999.0000,5,   160.2,2,  125.13,2,   34.25,2,    2.44,2
 09FA9503_1,      IR6_3,      45,          1,          6,         41,2,19950412,       0841,   -13.2552,   106.9347,         10,  2998.0,   1.6250,  34.7250,2,  34.7249,2,-999.0000,5,   174.8,2,  128.31,2,   33.68,2,    2.38,2
 09FA9503_1,      IR6_3,      45,          1,          5,          5,2,19950412,       0841,   -13.2552,   106.9347,         10,  3497.2,   1.3740,  34.7200,2,  34.7206,2,-999.0000,5,   185.7,2,  130.27,2,   33.23,2,    2.34,2
 09FA9503_1,      IR6_3,      45,          1,          4,          4,2,19950412,       0841,   -13.2552,   106.9347,         10,  3997.7,   1.2490,  34.7160,2,  34.7186,2,-999.0000,5,   193.1,2,  130.23,2,   32.86,2,    2.30,2
 09FA9503_1,      IR6_3,      45,          1,          3,          3,2,19950412,       0841,   -13.2552,   106.9347,         10,  4500.6,   1.1860,  34.7150,2,  34.7155,2,-999.0000,5,   198.7,2,  129.40,2,   32.72,2,    2.28,2
 09FA9503_1,      IR6_3,      45,          1,          2,          2,2,19950412,       0841,   -13.2552,   106.9347,         10,  5000.8,   1.2000,  34.7140,2,  34.7155,2,-999.0000,5,   202.5,2,  128.39,2,   32.56,2,    2.27,2
 09FA9503_1,      IR6_3,      45,          1,          1,          1,2,19950412,       0841,   -13.2552,   106.9347,         10,  5340.5,   1.2320,  34.7130,2,  34.7155,2,-999.0000,5,   199.8,2,  127.67,2,   32.76,2,    2.27,2