BOTTLE,20211029CCHSIORKP
EXPOCODE,SECT_ID,STNNBR,CASTNO,SAMPNO,BTLNBR,BTLNBR_FLAG_W,DATE,TIME,LATITUDE,LONGITUDE,DEPTH,CTDPRS,CTDTMP,CTDSAL,CTDSAL_FLAG_W,SALNTY,SALNTY_FLAG_W,CTDOXY,CTDOXY_FLAG_W,OXYGEN,OXYGEN_FLAG_W,SILCAT,SILCAT_FLAG_W,NITRAT,NITRAT_FLAG_W,PHSPHT,PHSPHT_FLAG_W
,,,,,,,,,,,METERS,DBAR,ITS-90,PSS-78,,PSS-78,,UMOL/KG,,UMOL/KG,,UMOL/KG,,UMOL/KG,,UMOL/KG,
 09FA9503_1,      IR6_3,      23,          1,         24,         24,2,19950406,       0256,   -22.9325,   110.0925,         10,     4.0,  26.6670,  35.6730,2,  35.6765,2,-999.0000,5,   209.3,2,    4.09,2,    0.08,2,    0.09,2
 09FA9503_1,      IR6_3,      23,          1,         23,         23,2,19950406,       0256,   -22.9325,   110.0925,         10,    23.4,  26.5760,  35.6800,2,  35.6812,2,-999.0000,5,   212.5,2,    3.18,2,    0.08,2,    0.08,2
 09FA9503_1,      IR6_3,      23,          1,         22,         22,2,19950406,       0256,   -22.9325,   110.0925,         10,    49.0,  25.5780,  35.6610,2,  35.6511,2,-999.0000,5,   224.7,2,    3.82,2,    0.09,2,    0.08,2
 09FA9503_1,      IR6_3,      23,          1,         21,         21,2,19950406,       0256,   -22.9325,   110.0925,         10,    98.5,  21.1030,  35.7230,2,  35.7197,2,-999.0000,5,   222.0,2,    3.47,2,    0.54,2,    0.14,2
 09FA9503_1,      IR6_3,      23,          1,         20,         20,2,19950406,       0256,   -22.9325,   110.0925,         10,   198.5,  17.7970,  35.8140,2,  35.8135,2,-999.0000,5,   208.5,2,    4.70,2,    2.82,2,    0.30,2
 09FA9503_1,      IR6_3,      23,          1,         19,         19,2,19950406,       0256,   -22.9325,   110.0925,         10,   298.1,  14.3070,  35.4980,2,  35.5015,2,-999.0000,5,   237.2,2,    3.21,2,    4.19,2,    0.41,2
 09FA9503_1,      IR6_3,      23,          1,         18,         18,2,19950406,       0256,   -22.9325,   110.0925,         10,   398.5,  11.4640,  35.0380,2,-999.0000,9,-999.0000,5,  -999.0,9,    3.26,2,    6.79,2,    0.54,2
 09FA9503_1,      IR6_3,      23,          1,         17,         17,2,19950406,       0256,   -22.9325,   110.0925,         10,   498.0,   9.5940,  34.7330,2,  34.7366,2,-999.0000,5,   247.2,2,    4.46,2,   15.29,2,    1.08,2
 09FA9503_1,      IR6_3,      23,          1,         16,          6,2,19950406,       0256,   -22.9325,   110.0925,         10,   596.3,   8.5390,  34.6140,2,  34.6144,2,-999.0000,5,   222.8,2,   10.56,2,   21.09,2,    1.43,2
 09FA9503_1,      IR6_3,      23,          1,         15,         15,2,19950406,       0256,   -22.9325,   110.0925,         10,   697.9,   6.8910,  34.5230,2,  34.5280,2,-999.0000,5,   180.8,2,   29.23,2,   28.26,2,    1.95,2
 09FA9503_1,      IR6_3,      23,          1,         14,         14,2,19950406,       0256,   -22.9325,   110.0925,         10,   797.0,   5.6840,  34.5050,2,  34.5064,2,-999.0000,5,   156.9,2,   48.82,2,   32.20,2,    2.26,2
 09FA9503_1,      IR6_3,      23,          1,         13,         13,2,19950406,       0256,   -22.9325,   110.0925,         10,   899.8,   5.2690,  34.5620,2,-999.0000,9,-999.0000,5,  -999.0,9, -999.00,9, -999.00,9, -999.00,9
 09FA9503_1,      IR6_3,      23,          1,         12,         12,2,19950406,       0256,   -22.9325,   110.0925,         10,   998.9,   4.7630,  34.5800,2,  34.5894,2,-999.0000,5,   127.8,2,   76.67,2,   34.85,2,    2.48,2
 09FA9503_1,      IR6_3,      23,          1,         11,         25,2,19950406,       0256,   -22.9325,   110.0925,         10,  1247.6,   4.0260,  34.6290,2,  34.6271,2,-999.0000,5,   124.5,2,   93.06,2,   36.17,2,    2.62,2
 09FA9503_1,      IR6_3,      23,          1,         10,         10,2,19950406,       0256,   -22.9325,   110.0925,         10,  1495.7,   3.3790,  34.6600,2,  34.6569,2,-999.0000,5,   134.0,2,  100.22,2,   36.20,2,    2.61,2
 09FA9503_1,      IR6_3,      23,          1,          9,          9,2,19950406,       0256,   -22.9325,   110.0925,         10,  1745.0,   2.8240,  34.6980,2,  34.6926,2,-999.0000,5,   144.7,2,  108.99,2,   35.81,2,    2.55,2
 09FA9503_1,      IR6_3,      23,          1,          8,          8,2,19950406,       0256,   -22.9325,   110.0925,         10,  1994.7,   2.3860,  34.7230,2,  34.7196,2,-999.0000,5,   153.4,2,  118.58,2,   35.07,2,    2.51,2
 09FA9503_1,      IR6_3,      23,          1,          7,          7,2,19950406,       0256,   -22.9325,   110.0925,         10,  2293.5,   2.1140,  34.7310,2,  34.7278,2,-999.0000,5,   158.5,2,  125.59,2,   34.98,2,    2.50,2
 09FA9503_1,      IR6_3,      23,          1,          6,         11,2,19950406,       0256,   -22.9325,   110.0925,         10,  2570.0,   1.9420,  34.7320,2,  34.7278,2,-999.0000,5,   166.3,2,  125.77,2,   34.50,2,    2.48,2
 09FA9503_1,      IR6_3,      23,          1,          4,          4,2,19950406,       0256,   -22.9325,   110.0925,         10,  3499.1,   1.3820,  34.7240,2,  34.7234,2,-999.0000,5,   190.0,2,  128.49,2,   33.94,2,    2.36,2
 09FA9503_1,      IR6_3,      23,          1,          3,          3,2,19950406,       0256,   -22.9325,   110.0925,         10,  3998.2,   1.2390,  34.7200,2,  34.7191,2,-999.0000,5,   195.3,2,  131.00,2,   33.34,2,    2.36,2
 09FA9503_1,      IR6_3,      23,          1,          2,          2,2,19950406,       0256,   -22.9325,   110.0925,         10,  4503.3,   1.2120,  34.7200,2,  34.7179,2,-999.0000,5,   197.8,2,  133.04,2,   33.85,2,    2.36,2
 09FA9503_1,      IR6_3,      23,          1,          1,          1,2,19950406,       0256,   -22.9325,   110.0925,         10,  5124.8,   1.2200,  34.7230,2,  34.7167,2,-999.0000,5,   200.2,2,  133.49,2,   33.80,2,    2.34,2
 09FA9503_1,      IR6_3,      24,          1,         21,         24,2,19950406,       0859,   -22.4638,   109.9133,         10,     3.8,  26.8880,  35.6660,2,  35.6645,2,-999.0000,5,   211.6,2,    4.12,2,    0.11,2,    0.08,2
 09FA9503_1,      IR6_3,      24,          1,         20,         20,2,19950406,       0859,   -22.4638,   109.9133,         10,    48.5,  26.0800,  35.5970,2,  35.6255,2,-999.0000,5,   217.0,2,    3.08,2,    0.07,2,    0.07,2
 09FA9503_1,      IR6_3,      24,          1,         19,         19,2,19950406,       0859,   -22.4638,   109.9133,         10,    98.2,  21.4840,  35.4880,2,  35.4839,2,-999.0000,5,   199.1,2,    4.36,2,    0.25,2,    0.18,2
 09FA9503_1,      IR6_3,      24,          1,         18,         18,2,19950406,       0859,   -22.4638,   109.9133,         10,   148.8,  19.9010,  35.6970,2,  35.6961,2,-999.0000,5,   191.1,2,    5.71,2,    3.53,2,    0.31,2
 09FA9503_1,      IR6_3,      24,          1,         17,         17,2,19950406,       0859,   -22.4638,   109.9133,         10,   201.5,  18.3550,  35.8170,2,  35.8168,2,-999.0000,5,   204.1,2,    3.86,2,    2.92,2,    0.30,2
 09FA9503_1,      IR6_3,      24,          1,         16,          6,2,19950406,       0859,   -22.4638,   109.9133,         10,   300.7,  14.4360,  35.4910,2,  35.4945,2,-999.0000,5,   224.1,2,    4.42,2,    5.21,2,    0.47,2
 09FA9503_1,      IR6_3,      24,          1,         15,         15,2,19950406,       0859,   -22.4638,   109.9133,         10,   400.2,  11.7390,  35.0790,2,  35.0834,2,-999.0000,5,   235.8,2,    4.08,2,    9.85,2,    0.75,2
 09FA9503_1,      IR6_3,      24,          1,         14,         14,2,19950406,       0859,   -22.4638,   109.9133,         10,   499.8,   9.7800,  34.7680,2,  34.7723,2,-999.0000,5,   237.4,2,    6.58,2,   15.32,2,    1.10,2
 09FA9503_1,      IR6_3,      24,          1,         12,         12,2,19950406,       0859,   -22.4638,   109.9133,         10,   696.9,   7.0080,  34.5360,2,  34.5414,2,-999.0000,5,   177.8,2,   30.36,2,   28.11,2,    1.94,2
 09FA9503_1,      IR6_3,      24,          1,         11,         25,2,19950406,       0859,   -22.4638,   109.9133,         10,   797.4,   5.6000,  34.4900,2,  34.4869,2,-999.0000,5,   163.6,2,   45.81,2,   32.21,2,    2.26,2
 09FA9503_1,      IR6_3,      24,          1,         10,         10,2,19950406,       0859,   -22.4638,   109.9133,         10,   896.7,   5.2170,  34.5470,2,  34.5559,2,-999.0000,5,   132.8,2,   65.69,2,   34.27,2,    2.46,2
 09FA9503_1,      IR6_3,      24,          1,          9,          9,2,19950406,       0859,   -22.4638,   109.9133,         10,   997.0,   4.8770,  34.5890,2,  34.5909,2,-999.0000,5,   118.9,2,   79.88,2,   36.00,2,    2.61,2
 09FA9503_1,      IR6_3,      24,          1,          8,          8,2,19950406,       0859,   -22.4638,   109.9133,         10,  1247.0,   4.0030,  34.6210,2,  34.6262,2,-999.0000,5,   125.7,2,   92.18,2,   36.00,2,    2.62,2
 09FA9503_1,      IR6_3,      24,          1,          7,          7,2,19950406,       0859,   -22.4638,   109.9133,         10,  1495.7,   3.4440,  34.6630,2,  34.6634,2,-999.0000,5,   127.0,2,  107.28,2,   36.29,2,    2.64,2
 09FA9503_1,      IR6_3,      24,          1,          6,         11,2,19950406,       0859,   -22.4638,   109.9133,         10,  1742.4,   2.7710,  34.7020,2,  34.7033,2,-999.0000,5,   143.0,2,  113.82,2,   35.73,2,    2.57,2
 09FA9503_1,      IR6_3,      24,          1,          5,          5,2,19950406,       0859,   -22.4638,   109.9133,         10,  1995.8,   2.3410,  34.7200,2,  34.7229,2,-999.0000,5,   151.9,2,  121.43,2,   35.40,2,    2.54,2
 09FA9503_1,      IR6_3,      24,          1,          4,          4,2,19950406,       0859,   -22.4638,   109.9133,         10,  2496.0,   1.9170,  34.7270,2,  34.7295,2,-999.0000,5,   165.6,2,  126.88,2,   34.42,2,    2.49,2
 09FA9503_1,      IR6_3,      24,          1,          3,          3,2,19950406,       0859,   -22.4638,   109.9133,         10,  2996.8,   1.6350,  34.7220,2,  34.7254,2,-999.0000,5,   177.8,2,  127.60,2,   33.93,2,    2.42,2
 09FA9503_1,      IR6_3,      24,          1,          2,          2,2,19950406,       0859,   -22.4638,   109.9133,         10,  3399.2,   1.3870,  34.7170,2,  34.7230,2,-999.0000,5,   184.8,2,  129.01,2,   34.37,2,    2.42,2
 09FA9503_1,      IR6_3,      24,          1,          1,          1,2,19950406,       0859,   -22.4638,   109.9133,         10,  3529.7,   1.3220,  34.7130,2,  34.7209,2,-999.0000,5,   191.8,2,  128.38,2,   33.85,2,    2.37,2
 09FA9503_1,      IR6_3,      25,          1,         23,         24,2,19950406,       1452,   -21.9838,   109.7415,         10,     2.6,  27.0630,  35.6270,2,  35.6291,2,-999.0000,5,   209.4,2,    4.03,2,    0.06,2,    0.13,2
 09FA9503_1,      IR6_3,      25,          1,         22,         22,2,19950406,       1452,   -21.9838,   109.7415,         10,    47.5,  25.5120,  35.6640,2,  35.6267,2,-999.0000,5,   226.7,2,    3.87,2,    0.04,2,    0.12,2
 09FA9503_1,      IR6_3,      25,          1,         21,         21,2,19950406,       1452,   -21.9838,   109.7415,         10,    97.7,  21.8300,  35.6480,2,  35.6464,2,-999.0000,5,   222.7,2,    3.64,2,    0.03,2,    0.19,2
 09FA9503_1,      IR6_3,      25,          1,         20,         20,2,19950406,       1452,   -21.9838,   109.7415,         10,   149.1,  20.0260,  35.7720,2,  35.7777,2,-999.0000,5,   207.3,2,    3.76,2,    1.54,2,    0.29,2
 09FA9503_1,      IR6_3,      25,          1,         19,         19,2,19950406,       1452,   -21.9838,   109.7415,         10,   198.0,  18.3070,  35.8000,2,  35.7975,2,-999.0000,5,   202.5,2,    5.08,2,    3.07,2,    0.39,2
 09FA9503_1,      IR6_3,      25,          1,         18,         18,2,19950406,       1452,   -21.9838,   109.7415,         10,   298.6,  14.3290,  35.4960,2,  35.4998,2,-999.0000,5,   231.7,2,    2.67,2,    4.28,2,    0.50,2
 09FA9503_1,      IR6_3,      25,          1,         17,         17,2,19950406,       1452,   -21.9838,   109.7415,         10,   398.9,  11.4550,  35.0390,2,  35.0354,2,-999.0000,5,   242.7,2,    3.42,2,    9.57,2,    0.82,2
 09FA9503_1,      IR6_3,      25,          1,         16,          6,2,19950406,       1452,   -21.9838,   109.7415,         10,   518.4,   9.3110,  34.6920,2,  34.6920,2,-999.0000,5,   242.6,2,    5.05,2,   16.15,2,    1.20,2
 09FA9503_1,      IR6_3,      25,          1,         15,         15,2,19950406,       1452,   -21.9838,   109.7415,         10,   598.3,   8.3980,  34.5990,2,  34.5974,2,-999.0000,5,   220.7,2,   10.87,2,   20.55,2,    1.48,2
 09FA9503_1,      IR6_3,      25,          1,         14,         14,2,19950406,       1452,   -21.9838,   109.7415,         10,   696.8,   6.8200,  34.5560,2,  34.5547,2,-999.0000,5,   156.6,2,   40.05,2,   29.63,2,    2.09,2
 09FA9503_1,      IR6_3,      25,          1,         13,         13,2,19950406,       1452,   -21.9838,   109.7415,         10,   795.8,   5.9880,  34.5710,2,  34.5696,2,-999.0000,5,   127.6,2,   60.80,2,   32.98,2,    2.38,2
 09FA9503_1,      IR6_3,      25,          1,         12,         12,2,19950406,       1452,   -21.9838,   109.7415,         10,   898.0,   5.5040,  34.6020,2,  34.6025,2,-999.0000,5,   112.0,2,   76.24,2,   35.32,2,    2.53,2
 09FA9503_1,      IR6_3,      25,          1,         11,         25,2,19950406,       1452,   -21.9838,   109.7415,         10,   996.9,   5.1060,  34.6200,2,  34.6202,2,-999.0000,5,   109.1,2,   85.38,2,   35.63,2,    2.60,2
 09FA9503_1,      IR6_3,      25,          1,         10,         10,2,19950406,       1452,   -21.9838,   109.7415,         10,  1246.2,   4.2670,  34.6320,2,  34.6307,2,-999.0000,5,   117.3,2,   94.14,2,   35.83,2,    2.59,2
 09FA9503_1,      IR6_3,      25,          1,          9,          9,2,19950406,       1452,   -21.9838,   109.7415,         10,  1495.6,   3.4240,  34.6520,2,  34.6476,2,-999.0000,5,   133.5,2,  100.71,2,   35.51,2,    2.56,2
 09FA9503_1,      IR6_3,      25,          1,          8,          8,2,19950406,       1452,   -21.9838,   109.7415,         10,  1994.8,   2.4110,  34.7200,2,  34.7206,2,-999.0000,5,   153.3,2,  116.89,2,   34.77,2,    2.46,2
 09FA9503_1,      IR6_3,      25,          1,          7,          7,2,19950406,       1452,   -21.9838,   109.7415,         10,  2495.5,   1.9490,  34.7300,2,  34.7256,2,-999.0000,5,   165.5,2,  126.06,2,   34.46,2,    2.45,2
 09FA9503_1,      IR6_3,      25,          1,          6,         11,2,19950406,       1452,   -21.9838,   109.7415,         10,  3002.2,   1.5890,  34.7280,2,  34.7244,2,-999.0000,5,   180.9,2,  125.23,2,   33.21,2,    2.36,2
 09FA9503_1,      IR6_3,      25,          1,          5,          5,2,19950406,       1452,   -21.9838,   109.7415,         10,  3498.0,   1.3150,  34.7220,2,  34.7204,2,-999.0000,5,   192.0,2,  129.44,2,   33.13,2,    2.33,2
 09FA9503_1,      IR6_3,      25,          1,          4,          4,2,19950406,       1452,   -21.9838,   109.7415,         10,  3998.8,   1.1820,  34.7160,2,  34.7153,2,-999.0000,5,   197.5,2,  132.49,2,   33.14,2,    2.32,2
 09FA9503_1,      IR6_3,      25,          1,          3,          3,2,19950406,       1452,   -21.9838,   109.7415,         10,  4497.8,   1.1850,  34.7170,2,  34.7133,2,-999.0000,5,   198.8,2,  132.90,2,   33.10,2,    2.32,2
 09FA9503_1,      IR6_3,      25,          1,          2,          2,2,19950406,       1452,   -21.9838,   109.7415,         10,  5002.3,   1.2160,  34.7200,2,  34.7133,2,-999.0000,5,   200.6,2,  133.09,2,   33.03,2,    2.31,2
 09FA9503_1,      IR6_3,      25,          1,          1,          1,2,19950406,       1452,   -21.9838,   109.7415,         10,  5129.4,   1.2180,  34.7190,2,  34.7129,2,-999.0000,5,   201.5,2,  132.63,2,   33.46,2,    2.30,2