BOTTLE,20211029CCHSIORKP
EXPOCODE,SECT_ID,STNNBR,CASTNO,SAMPNO,BTLNBR,BTLNBR_FLAG_W,DATE,TIME,LATITUDE,LONGITUDE,DEPTH,CTDPRS,CTDTMP,CTDSAL,CTDSAL_FLAG_W,SALNTY,SALNTY_FLAG_W,CTDOXY,CTDOXY_FLAG_W,OXYGEN,OXYGEN_FLAG_W,SILCAT,SILCAT_FLAG_W,NITRAT,NITRAT_FLAG_W,PHSPHT,PHSPHT_FLAG_W
,,,,,,,,,,,METERS,DBAR,ITS-90,PSS-78,,PSS-78,,UMOL/KG,,UMOL/KG,,UMOL/KG,,UMOL/KG,,UMOL/KG,
 09FA9503_1,      IR6_3,      69,          1,         10,         24,2,19950422,       1454,   -22.2008,   113.5998,         10,     3.1,  26.6930,  35.2260,2,  35.2293,2,-999.0000,5,   206.5,2,    5.48,2,    0.28,2,    0.18,2
 09FA9503_1,      IR6_3,      69,          1,          9,         41,2,19950422,       1454,   -22.2008,   113.5998,         10,    48.8,  26.7180,  35.2270,2,  35.2270,2,-999.0000,5,   206.1,2,    5.26,2,    0.30,2,    0.18,2
 09FA9503_1,      IR6_3,      69,          1,          8,         20,2,19950422,       1454,   -22.2008,   113.5998,         10,    99.8,  23.0450,  35.2030,2,  35.2068,2,-999.0000,5,   176.9,2,    7.67,2,    3.61,2,    0.39,2
 09FA9503_1,      IR6_3,      69,          1,          7,          7,2,19950422,       1454,   -22.2008,   113.5998,         10,   198.4,  19.8050,  35.5450,2,  35.5425,2,-999.0000,5,   178.5,2,    8.35,2,    5.67,2,    0.48,2
 09FA9503_1,      IR6_3,      69,          1,          6,         19,2,19950422,       1454,   -22.2008,   113.5998,         10,   297.6,  15.7080,  35.6380,2,  35.6423,2,-999.0000,5,   222.3,2,    4.62,2,    3.99,2,    0.41,2
 09FA9503_1,      IR6_3,      69,          1,          5,         35,2,19950422,       1454,   -22.2008,   113.5998,         10,   427.7,   9.7870,  34.7680,2,  34.7686,2,-999.0000,5,   243.2,2,    6.03,2,   14.60,2,    1.02,2
 09FA9503_1,      IR6_3,      69,          1,          4,          5,2,19950422,       1454,   -22.2008,   113.5998,         10,   497.9,   8.0710,  34.6130,2,  34.6130,2,-999.0000,5,   195.3,2,   20.94,2,   23.26,2,    1.58,2
 09FA9503_1,      IR6_3,      69,          1,          3,          4,2,19950422,       1454,   -22.2008,   113.5998,         10,   596.7,   6.7970,  34.5950,2,  34.5953,2,-999.0000,5,   132.3,2,   50.16,2,   31.09,2,    2.11,2
 09FA9503_1,      IR6_3,      69,          1,          2,         11,2,19950422,       1454,   -22.2008,   113.5998,         10,   696.1,   6.0560,  34.6090,2,  34.6082,2,-999.0000,5,   108.6,2,   67.29,2,   34.37,2,    2.32,2
 09FA9503_1,      IR6_3,      69,          1,          1,          1,2,19950422,       1454,   -22.2008,   113.5998,         10,   845.9,   5.4490,  34.6240,2,  34.6235,2,-999.0000,5,   100.6,2,   80.72,2,   35.89,2,    2.43,2
 09FA9503_1,      IR6_3,      70,          1,          7,         24,2,19950422,       1623,   -22.2148,   113.7008,         10,     2.2,  26.9330,  35.2720,2,  35.2728,2,-999.0000,5,   206.0,2,    4.85,2,    0.25,2,    0.13,2
 09FA9503_1,      IR6_3,      70,          1,          6,         19,2,19950422,       1623,   -22.2148,   113.7008,         10,    49.2,  26.6950,  35.2350,2,  35.2401,2,-999.0000,5,   200.9,2,    5.33,2,    0.76,2,    0.15,2
 09FA9503_1,      IR6_3,      70,          1,          4,          5,2,19950422,       1623,   -22.2148,   113.7008,         10,   149.3,  21.7460,  35.3110,2,  35.3082,2,-999.0000,5,   171.0,2,    8.28,2,    4.74,2,    0.42,2
 09FA9503_1,      IR6_3,      70,          1,          3,          4,2,19950422,       1623,   -22.2148,   113.7008,         10,   199.2,  19.6570,  35.3420,2,  35.3385,2,-999.0000,5,   160.4,2,   11.57,2,    8.38,2,    0.63,2
 09FA9503_1,      IR6_3,      70,          1,          2,         11,2,19950422,       1623,   -22.2148,   113.7008,         10,   300.0,  14.1810,  35.3950,2,  35.4024,2,-999.0000,5,   219.1,2,    6.65,2,    7.63,2,    0.58,2
 09FA9503_1,      IR6_3,      70,          1,          1,          1,2,19950422,       1623,   -22.2148,   113.7008,         10,   358.9,  12.0760,  35.1190,2,  35.1180,2,-999.0000,5,   225.5,2,    7.65,2,   11.22,2,    0.79,2
 09FA9503_1,      IR6_3,      71,          1,          4,         24,2,19950422,       1720,   -22.2235,   113.7603,         10,     4.3,  26.7800,  35.2270,2,  35.2279,2,-999.0000,5,   198.7,2,    4.82,2,    0.56,2,    0.13,2
 09FA9503_1,      IR6_3,      71,          1,          3,          4,2,19950422,       1720,   -22.2235,   113.7603,         10,    49.8,  26.2910,  35.1660,2,  35.1672,2,-999.0000,5,   188.9,2,    6.15,2,    2.37,2,    0.23,2
 09FA9503_1,      IR6_3,      71,          1,          2,         11,2,19950422,       1720,   -22.2235,   113.7603,         10,    99.1,  23.8270,  35.1850,2,  35.1869,2,-999.0000,5,   170.6,2,    8.58,2,    4.67,2,    0.42,2
 09FA9503_1,      IR6_3,      71,          1,          1,          1,2,19950422,       1720,   -22.2235,   113.7603,         10,   149.4,  21.4420,  35.2640,2,  35.2637,2,-999.0000,5,   163.3,2,   10.14,2,    6.65,2,    0.55,2