BOTTLE,20211029CCHSIORKP
EXPOCODE,SECT_ID,STNNBR,CASTNO,SAMPNO,BTLNBR,BTLNBR_FLAG_W,DATE,TIME,LATITUDE,LONGITUDE,DEPTH,CTDPRS,CTDTMP,CTDSAL,CTDSAL_FLAG_W,SALNTY,SALNTY_FLAG_W,CTDOXY,CTDOXY_FLAG_W,OXYGEN,OXYGEN_FLAG_W,SILCAT,SILCAT_FLAG_W,NITRAT,NITRAT_FLAG_W,PHSPHT,PHSPHT_FLAG_W
,,,,,,,,,,,METERS,DBAR,ITS-90,PSS-78,,PSS-78,,UMOL/KG,,UMOL/KG,,UMOL/KG,,UMOL/KG,,UMOL/KG,
 09FA9503_1,      IR6_3,      19,          1,         17,         24,2,19950405,       0330,   -24.4152,   110.9322,         10,     2.9,  26.5580,  35.5150,2,  35.5198,2,-999.0000,5,   213.1,2,    4.57,2,    0.38,2,    0.12,2
 09FA9503_1,      IR6_3,      19,          1,         16,         16,2,19950405,       0330,   -24.4152,   110.9322,         10,    51.0,  23.9860,  35.3290,2,  35.3279,2,-999.0000,5,   229.3,2,    4.61,2,    0.30,2,    0.14,2
 09FA9503_1,      IR6_3,      19,          1,         15,         15,2,19950405,       0330,   -24.4152,   110.9322,         10,    97.5,  21.1840,  35.4890,2,  35.4859,2,-999.0000,5,   192.1,2,    7.94,2,    3.47,2,    0.29,2
 09FA9503_1,      IR6_3,      19,          1,         14,         14,2,19950405,       0330,   -24.4152,   110.9322,         10,   199.6,  18.1070,  35.8610,2,  35.8603,2,-999.0000,5,   216.5,2,    4.16,2,    2.19,2,    0.23,2
 09FA9503_1,      IR6_3,      19,          1,         13,         13,2,19950405,       0330,   -24.4152,   110.9322,         10,   299.8,  14.2340,  35.4760,2,-999.0000,9,-999.0000,5,  -999.0,9, -999.00,9, -999.00,9, -999.00,9
 09FA9503_1,      IR6_3,      19,          1,         12,         12,2,19950405,       0330,   -24.4152,   110.9322,         10,   398.3,  11.1950,  34.9900,2,  34.9925,2,-999.0000,5,   247.9,2,    4.27,2,   10.20,2,    0.63,2
 09FA9503_1,      IR6_3,      19,          1,         11,         20,2,19950405,       0330,   -24.4152,   110.9322,         10,   498.9,   9.6200,  34.7320,2,  34.7358,2,-999.0000,5,   249.7,2,    6.17,2,   14.76,2,    1.00,2
 09FA9503_1,      IR6_3,      19,          1,         10,         10,2,19950405,       0330,   -24.4152,   110.9322,         10,   578.2,   8.8630,  34.6300,2,-999.0000,9,-999.0000,5,   228.1,2, -999.00,9, -999.00,9, -999.00,9
 09FA9503_1,      IR6_3,      19,          1,          9,          9,2,19950405,       0330,   -24.4152,   110.9322,         10,   697.0,   6.7440,  34.5160,2,  34.5156,2,-999.0000,5,   178.2,2,   32.16,2,   27.46,2,    1.91,2
 09FA9503_1,      IR6_3,      19,          1,          8,          8,2,19950405,       0330,   -24.4152,   110.9322,         10,   797.8,   6.1060,  34.5630,2,  34.5646,2,-999.0000,5,   133.9,2,   57.95,2,   32.15,2,    2.28,2
 09FA9503_1,      IR6_3,      19,          1,          7,          7,2,19950405,       0330,   -24.4152,   110.9322,         10,   917.3,   5.6080,  34.5900,2,  34.5913,2,-999.0000,5,   113.7,2,   75.31,2,   34.23,2,    2.43,2
 09FA9503_1,      IR6_3,      19,          1,          6,          6,2,19950405,       0330,   -24.4152,   110.9322,         10,   997.9,   5.2120,  34.6030,2,  34.6047,2,-999.0000,5,   108.3,2,   97.27,3,   40.51,4,    3.17,3
 09FA9503_1,      IR6_3,      19,          1,          5,          5,2,19950405,       0330,   -24.4152,   110.9322,         10,  1196.2,   4.6650,  34.6170,2,  34.6153,2,-999.0000,5,   110.7,2,   95.01,2,   35.49,2,    2.55,2
 09FA9503_1,      IR6_3,      19,          1,          4,          4,2,19950405,       0330,   -24.4152,   110.9322,         10,  1395.5,   3.8830,  34.5920,2,  34.5903,2,-999.0000,5,   132.9,2,   94.63,2,   35.23,2,    2.55,2
 09FA9503_1,      IR6_3,      19,          1,          3,          3,2,19950405,       0330,   -24.4152,   110.9322,         10,  1595.8,   3.3540,  34.6480,2,  34.6433,2,-999.0000,5,   136.7,2,   98.96,2,   34.66,2,    2.50,2
 09FA9503_1,      IR6_3,      19,          1,          2,          2,2,19950405,       0330,   -24.4152,   110.9322,         10,  1894.7,   2.7020,  34.6930,2,  34.6933,2,-999.0000,5,   150.0,2,  110.56,2,   33.95,2,    2.43,2
 09FA9503_1,      IR6_3,      19,          1,          1,          1,2,19950405,       0330,   -24.4152,   110.9322,         10,  2005.7,   2.4410,  34.7110,2,  34.7087,2,-999.0000,5,   152.2,2,  113.46,2,   34.33,2,    2.43,2
 09FA9503_1,      IR6_3,      20,          1,         19,         24,2,19950405,       0724,   -24.3840,   110.5968,         10,     2.5,  26.6330,  35.5440,2,  35.5428,2,-999.0000,5,   211.7,2,    3.57,2,    0.12,2,    0.11,2
 09FA9503_1,      IR6_3,      20,          1,         18,         18,2,19950405,       0724,   -24.3840,   110.5968,         10,    47.7,  24.1860,  35.4120,2,  35.4123,2,-999.0000,5,   241.4,2,    3.29,2,    0.11,2,    0.12,2
 09FA9503_1,      IR6_3,      20,          1,         17,         17,2,19950405,       0724,   -24.3840,   110.5968,         10,   100.2,  20.8120,  35.4490,2,  35.4379,2,-999.0000,5,   185.1,2,    8.12,2,    4.88,2,    0.47,2
 09FA9503_1,      IR6_3,      20,          1,         16,         16,2,19950405,       0724,   -24.3840,   110.5968,         10,   150.1,  19.6470,  35.8100,2,-999.0000,9,-999.0000,5,   214.2,2, -999.00,9, -999.00,9, -999.00,9
 09FA9503_1,      IR6_3,      20,          1,         15,         15,2,19950405,       0724,   -24.3840,   110.5968,         10,   199.2,  18.2400,  35.8730,2,  35.8716,2,-999.0000,5,   219.0,2,    3.33,2,    1.93,2,    0.29,2
 09FA9503_1,      IR6_3,      20,          1,         14,         14,2,19950405,       0724,   -24.3840,   110.5968,         10,   299.0,  13.5440,  35.3730,2,  35.3796,2,-999.0000,5,   238.1,2,    2.35,2,    5.30,2,    0.53,2
 09FA9503_1,      IR6_3,      20,          1,         13,         13,2,19950405,       0724,   -24.3840,   110.5968,         10,   399.0,  11.2500,  34.9980,2,-999.0000,9,-999.0000,5,  -999.0,9, -999.00,9, -999.00,9, -999.00,9
 09FA9503_1,      IR6_3,      20,          1,         12,         12,2,19950405,       0724,   -24.3840,   110.5968,         10,   497.5,   9.7900,  34.7590,2,  34.7566,2,-999.0000,5,   248.3,2,    4.19,2,   14.27,2,    1.07,2
 09FA9503_1,      IR6_3,      20,          1,         11,         20,2,19950405,       0724,   -24.3840,   110.5968,         10,   596.9,   8.7880,  34.6200,2,  34.6187,2,-999.0000,5,   237.2,2,    7.65,2,   18.65,2,    1.37,2
 09FA9503_1,      IR6_3,      20,          1,         10,         10,2,19950405,       0724,   -24.3840,   110.5968,         10,   696.3,   7.0740,  34.5130,2,  34.5173,2,-999.0000,5,   194.9,2,   23.35,2,   25.74,2,    1.82,2
 09FA9503_1,      IR6_3,      20,          1,          9,          9,2,19950405,       0724,   -24.3840,   110.5968,         10,   795.2,   6.0570,  34.5170,2,  34.5166,2,-999.0000,5,   157.4,2,   46.79,2,   30.81,2,    2.18,2
 09FA9503_1,      IR6_3,      20,          1,          8,          8,2,19950405,       0724,   -24.3840,   110.5968,         10,   895.2,   5.6210,  34.5680,2,  34.5703,2,-999.0000,5,   127.9,2,   66.10,2,   33.12,2,    2.38,2
 09FA9503_1,      IR6_3,      20,          1,          7,          7,2,19950405,       0724,   -24.3840,   110.5968,         10,   996.4,   5.3480,  34.6090,2,  34.6068,2,-999.0000,5,   105.6,2,   82.77,2,   34.40,2,    2.47,2
 09FA9503_1,      IR6_3,      20,          1,          6,          6,2,19950405,       0724,   -24.3840,   110.5968,         10,  1244.6,   4.3770,  34.6260,2,  34.6249,2,-999.0000,5,   112.9,2,   95.31,2,   35.03,2,    2.50,2
 09FA9503_1,      IR6_3,      20,          1,          5,          5,2,19950405,       0724,   -24.3840,   110.5968,         10,  1496.7,   3.6140,  34.6450,2,  34.6386,2,-999.0000,5,   127.9,2,   99.29,2,   34.79,2,    2.49,2
 09FA9503_1,      IR6_3,      20,          1,          4,          4,2,19950405,       0724,   -24.3840,   110.5968,         10,  1997.0,   2.4910,  34.7110,2,  34.7050,2,-999.0000,5,   153.9,2,  111.24,2,   34.09,2,    2.39,2
 09FA9503_1,      IR6_3,      20,          1,          3,          3,2,19950405,       0724,   -24.3840,   110.5968,         10,  2495.3,   2.0000,  34.7300,2,  34.7208,2,-999.0000,5,   167.8,2,  118.97,2,   33.60,2,    2.34,2
 09FA9503_1,      IR6_3,      20,          1,          2,          2,2,19950405,       0724,   -24.3840,   110.5968,         10,  3006.2,   1.6600,  34.7300,2,  34.7282,2,-999.0000,5,   180.7,2,  119.57,2,   32.21,2,    2.25,2
 09FA9503_1,      IR6_3,      20,          1,          1,          1,2,19950405,       0724,   -24.3840,   110.5968,         10,  3197.2,   1.4470,  34.7260,2,  34.7247,2,-999.0000,5,   185.7,2,  119.19,2,   32.13,2,    2.26,2
 09FA9503_1,      IR6_3,      21,          1,         22,         24,2,19950405,       1322,   -23.8937,   110.4118,         10,     4.9,  27.0260,  35.5940,2,  35.5846,2,-999.0000,5,   211.3,2,    3.97,2,    0.21,2,    0.11,2
 09FA9503_1,      IR6_3,      21,          1,         21,         21,2,19950405,       1322,   -23.8937,   110.4118,         10,    48.0,  24.6080,  35.4610,2,  35.4371,2,-999.0000,5,   231.4,2,    3.07,2,    0.10,2,    0.14,2
 09FA9503_1,      IR6_3,      21,          1,         20,         20,2,19950405,       1322,   -23.8937,   110.4118,         10,    98.7,  20.6270,  35.6630,2,  35.6363,2,-999.0000,5,   204.6,2,    4.74,2,    2.54,2,    0.29,2
 09FA9503_1,      IR6_3,      21,          1,         19,         19,2,19950405,       1322,   -23.8937,   110.4118,         10,   147.7,  19.1440,  35.7230,2,  35.7120,2,-999.0000,5,   208.9,2,    6.08,2,    3.49,2,    0.37,2
 09FA9503_1,      IR6_3,      21,          1,         18,         18,2,19950405,       1322,   -23.8937,   110.4118,         10,   199.1,  17.8700,  35.8650,2,  35.8633,2,-999.0000,5,   222.6,2,    3.00,2,    2.01,2,    0.32,2
 09FA9503_1,      IR6_3,      21,          1,         17,         17,2,19950405,       1322,   -23.8937,   110.4118,         10,   295.8,  13.9860,  35.4400,2,  35.4367,2,-999.0000,5,   239.4,2,    3.05,2,    4.68,2,    0.46,2
 09FA9503_1,      IR6_3,      21,          1,         16,          6,2,19950405,       1322,   -23.8937,   110.4118,         10,   397.3,  11.1230,  34.9800,2,  34.9775,2,-999.0000,5,   244.6,2,    4.45,2,   11.43,2,    0.93,2
 09FA9503_1,      IR6_3,      21,          1,         15,         15,2,19950405,       1322,   -23.8937,   110.4118,         10,   494.5,   9.6070,  34.7330,2,  34.7286,2,-999.0000,5,   248.2,2,    4.73,2,   15.18,2,    1.08,2
 09FA9503_1,      IR6_3,      21,          1,         14,         14,2,19950405,       1322,   -23.8937,   110.4118,         10,   596.2,   8.5180,  34.5960,2,  34.5958,2,-999.0000,5,   229.4,2,    9.20,2,   20.36,2,    1.41,2
 09FA9503_1,      IR6_3,      21,          1,         13,         13,2,19950405,       1322,   -23.8937,   110.4118,         10,   698.7,   6.8040,  34.5010,2,  34.5036,2,-999.0000,5,   189.9,2,   26.55,2,   27.19,2,    1.87,2
 09FA9503_1,      IR6_3,      21,          1,         12,         12,2,19950405,       1322,   -23.8937,   110.4118,         10,   796.9,   6.0780,  34.5660,2,  34.5597,2,-999.0000,5,   136.7,2,   57.07,2,   32.14,2,    2.27,2
 09FA9503_1,      IR6_3,      21,          1,         11,         25,2,19950405,       1322,   -23.8937,   110.4118,         10,   896.1,   5.6320,  34.6000,2,  34.6005,2,-999.0000,5,   117.2,2,   73.87,2,   34.17,2,    2.47,2
 09FA9503_1,      IR6_3,      21,          1,         10,         10,2,19950405,       1322,   -23.8937,   110.4118,         10,   955.6,   5.4280,  34.6100,2,  34.6171,2,-999.0000,5,   107.7,2,   80.94,2,   35.07,2,    2.52,2
 09FA9503_1,      IR6_3,      21,          1,          9,          9,2,19950405,       1322,   -23.8937,   110.4118,         10,  1245.0,   4.3140,  34.6260,2,  34.6246,2,-999.0000,5,   115.2,2,   97.01,2,   36.17,2,    2.60,2
 09FA9503_1,      IR6_3,      21,          1,          8,          8,2,19950405,       1322,   -23.8937,   110.4118,         10,  1494.3,   3.4330,  34.6490,2,  34.6470,2,-999.0000,5,   137.6,2,   99.16,2,   35.80,2,    2.50,2
 09FA9503_1,      IR6_3,      21,          1,          7,          7,2,19950405,       1322,   -23.8937,   110.4118,         10,  1993.5,   2.4980,  34.7120,2,  34.7091,2,-999.0000,5,   151.0,2,  114.34,2,   34.46,2,    2.45,2
 09FA9503_1,      IR6_3,      21,          1,          6,         11,2,19950405,       1322,   -23.8937,   110.4118,         10,  2500.9,   1.9840,  34.7260,2,  34.7229,2,-999.0000,5,   170.4,2,  122.40,2,   33.88,2,    2.38,2
 09FA9503_1,      IR6_3,      21,          1,          5,          5,2,19950405,       1322,   -23.8937,   110.4118,         10,  2998.0,   1.6400,  34.7240,2,  34.7213,2,-999.0000,5,   181.5,2,  122.36,2,   33.29,2,    2.31,2
 09FA9503_1,      IR6_3,      21,          1,          4,          4,2,19950405,       1322,   -23.8937,   110.4118,         10,  3500.9,   1.3770,  34.7170,2,  34.7163,2,-999.0000,5,   191.3,2,  125.89,2,   33.03,2,    2.31,2
 09FA9503_1,      IR6_3,      21,          1,          3,          3,2,19950405,       1322,   -23.8937,   110.4118,         10,  4001.2,   1.2250,  34.7120,2,  34.7108,2,-999.0000,5,   196.1,2,  128.53,2,   32.84,2,    2.30,2
 09FA9503_1,      IR6_3,      21,          1,          2,          2,2,19950405,       1322,   -23.8937,   110.4118,         10,  4001.2,   1.2250,  34.7120,2,  34.7116,2,-999.0000,5,   196.2,2,  128.55,2,   32.87,2,    2.29,2
 09FA9503_1,      IR6_3,      21,          1,          1,          1,2,19950405,       1322,   -23.8937,   110.4118,         10,  4428.9,   1.1580,  34.7070,2,  34.7152,2,-999.0000,5,   198.6,2,  129.16,2,   32.76,2,    2.28,2
 09FA9503_1,      IR6_3,      22,          1,         23,         24,2,19950405,       2004,   -23.4255,   110.2547,         10,     2.9,  26.6530,  35.6950,2,  35.6935,2,-999.0000,5,   211.4,2,    3.86,2,    0.10,2,    0.09,2
 09FA9503_1,      IR6_3,      22,          1,         22,         22,2,19950405,       2004,   -23.4255,   110.2547,         10,    47.8,  25.3120,  35.7250,2,  35.7330,2,-999.0000,5,   226.6,2,    2.98,2,    0.00,2,    0.09,2
 09FA9503_1,      IR6_3,      22,          1,         21,         21,2,19950405,       2004,   -23.4255,   110.2547,         10,    98.3,  20.9640,  35.7990,2,  35.7949,2,-999.0000,5,   232.9,2,    3.00,2,    0.11,2,    0.13,2
 09FA9503_1,      IR6_3,      22,          1,         20,         20,2,19950405,       2004,   -23.4255,   110.2547,         10,   149.2,  19.2080,  35.8290,2,  35.8229,2,-999.0000,5,   205.2,2,    3.83,2,    2.17,2,    0.27,2
 09FA9503_1,      IR6_3,      22,          1,         19,         19,2,19950405,       2004,   -23.4255,   110.2547,         10,   197.0,  16.9260,  35.6130,2,  35.6304,2,-999.0000,5,   196.3,2,    8.76,2,    6.17,2,    0.54,2
 09FA9503_1,      IR6_3,      22,          1,         18,         18,2,19950405,       2004,   -23.4255,   110.2547,         10,   298.0,  13.7880,  35.4150,2,  35.4207,2,-999.0000,5,   236.2,2,    3.35,2,    4.95,2,    0.48,2
 09FA9503_1,      IR6_3,      22,          1,         17,         17,2,19950405,       2004,   -23.4255,   110.2547,         10,   397.4,  10.9900,  34.9590,2,  34.9603,2,-999.0000,5,   247.9,2,    3.31,2,   10.87,2,    0.86,2
 09FA9503_1,      IR6_3,      22,          1,         16,          6,2,19950405,       2004,   -23.4255,   110.2547,         10,   495.9,   9.6640,  34.7420,2,  34.7407,2,-999.0000,5,   246.5,2,    4.61,2,   14.98,2,    1.08,2
 09FA9503_1,      IR6_3,      22,          1,         15,         15,2,19950405,       2004,   -23.4255,   110.2547,         10,   597.7,   8.7320,  34.6200,2,  34.6201,2,-999.0000,5,   234.4,2,    7.86,2,   19.32,2,    1.36,2
 09FA9503_1,      IR6_3,      22,          1,         14,         14,2,19950405,       2004,   -23.4255,   110.2547,         10,   694.7,   6.6490,  34.4930,2,  34.4930,2,-999.0000,5,   190.0,2,   25.70,2,   27.81,2,    1.93,2
 09FA9503_1,      IR6_3,      22,          1,         12,         12,2,19950405,       2004,   -23.4255,   110.2547,         10,   896.3,   5.3770,  34.5960,2,  34.5993,2,-999.0000,5,   112.3,2,   75.72,2,   35.36,2,    2.54,2
 09FA9503_1,      IR6_3,      22,          1,         11,         25,2,19950405,       2004,   -23.4255,   110.2547,         10,   995.7,   5.0270,  34.6190,2,  34.6225,2,-999.0000,5,   109.0,2,   87.00,2,   36.30,2,    2.59,2
 09FA9503_1,      IR6_3,      22,          1,         10,         10,2,19950405,       2004,   -23.4255,   110.2547,         10,  1244.8,   4.1450,  34.6320,2,  34.6315,2,-999.0000,5,   116.8,2,   95.53,2,   36.23,2,    2.61,2
 09FA9503_1,      IR6_3,      22,          1,          9,          9,2,19950405,       2004,   -23.4255,   110.2547,         10,  1494.5,   3.4450,  34.6530,2,  34.6511,2,-999.0000,5,   131.6,2,   94.98,2,   34.67,4,    2.48,3
 09FA9503_1,      IR6_3,      22,          1,          8,          8,2,19950405,       2004,   -23.4255,   110.2547,         10,  1743.6,   2.7910,  34.6960,2,  34.6943,2,-999.0000,5,  -999.0,9,  107.84,2,   35.16,2,    2.51,2
 09FA9503_1,      IR6_3,      22,          1,          7,          7,2,19950405,       2004,   -23.4255,   110.2547,         10,  1996.0,   2.4020,  34.7200,2,  34.7191,2,-999.0000,5,   152.2,2,  117.30,2,   35.06,2,    2.52,2
 09FA9503_1,      IR6_3,      22,          1,          6,         11,2,19950405,       2004,   -23.4255,   110.2547,         10,  2495.2,   2.0020,  34.7300,2,  34.7269,2,-999.0000,5,   164.5,2,  123.61,2,   34.47,2,    2.45,2
 09FA9503_1,      IR6_3,      22,          1,          5,          5,2,19950405,       2004,   -23.4255,   110.2547,         10,  2997.7,   1.6650,  34.7270,2,  34.7277,2,-999.0000,5,   176.9,2,  122.78,2,   33.54,2,    2.39,2
 09FA9503_1,      IR6_3,      22,          1,          4,          4,2,19950405,       2004,   -23.4255,   110.2547,         10,  3496.7,   1.3780,  34.7200,2,  34.7218,2,-999.0000,5,   189.3,2,  126.81,2,   33.48,2,    2.35,2
 09FA9503_1,      IR6_3,      22,          1,          3,          3,2,19950405,       2004,   -23.4255,   110.2547,         10,  3999.3,   1.2120,  34.7160,2,  34.7171,2,-999.0000,5,   196.3,2,  130.62,2,   33.38,2,    2.34,2
 09FA9503_1,      IR6_3,      22,          1,          2,          2,2,19950405,       2004,   -23.4255,   110.2547,         10,  4499.0,   1.1880,  34.7150,2,  34.7167,2,-999.0000,5,   199.1,2,  130.75,2,   33.13,2,    2.34,2
 09FA9503_1,      IR6_3,      22,          1,          1,          1,2,19950405,       2004,   -23.4255,   110.2547,         10,  5100.6,   1.2150,  34.7170,2,  34.7151,2,-999.0000,5,   201.0,2,  123.57,4,   31.91,4,    2.19,4