BOTTLE,20211029CCHSIORKP
EXPOCODE,SECT_ID,STNNBR,CASTNO,SAMPNO,BTLNBR,BTLNBR_FLAG_W,DATE,TIME,LATITUDE,LONGITUDE,DEPTH,CTDPRS,CTDTMP,CTDSAL,CTDSAL_FLAG_W,SALNTY,SALNTY_FLAG_W,CTDOXY,CTDOXY_FLAG_W,OXYGEN,OXYGEN_FLAG_W,SILCAT,SILCAT_FLAG_W,NITRAT,NITRAT_FLAG_W,PHSPHT,PHSPHT_FLAG_W
,,,,,,,,,,,METERS,DBAR,ITS-90,PSS-78,,PSS-78,,UMOL/KG,,UMOL/KG,,UMOL/KG,,UMOL/KG,,UMOL/KG,
 09FA9503_1,      IR6_3,      46,          1,         24,         24,2,19950412,       1439,   -12.8808,   106.7833,         10,     4.2,  29.1440,  33.9640,2,  33.9715,2,-999.0000,5,   206.8,2,    3.16,2,    0.17,2,    0.12,2
 09FA9503_1,      IR6_3,      46,          1,         23,         23,2,19950412,       1439,   -12.8808,   106.7833,         10,    48.7,  28.0210,  34.4170,2,  34.3988,2,-999.0000,5,   209.9,2,    3.79,2,    0.11,2,    0.12,2
 09FA9503_1,      IR6_3,      46,          1,         22,         22,2,19950412,       1439,   -12.8808,   106.7833,         10,    99.5,  20.1370,  34.8060,2,  34.8074,2,-999.0000,5,   120.7,2,   16.02,2,   13.57,2,    0.99,2
 09FA9503_1,      IR6_3,      46,          1,         21,         45,2,19950412,       1439,   -12.8808,   106.7833,         10,   149.8,  16.1100,  34.8020,2,  34.8035,2,-999.0000,5,  -999.0,9,   24.54,2,   17.75,2,    1.32,2
 09FA9503_1,      IR6_3,      46,          1,         20,         20,2,19950412,       1439,   -12.8808,   106.7833,         10,   199.5,  13.9120,  34.7820,2,  34.7799,2,-999.0000,5,   116.1,2,   30.00,2,   20.40,2,    1.52,2
 09FA9503_1,      IR6_3,      46,          1,         19,         19,2,19950412,       1439,   -12.8808,   106.7833,         10,   299.7,  10.3350,  34.6650,2,  34.6640,2,-999.0000,5,    98.0,2,   42.72,2,   27.49,2,    1.99,2
 09FA9503_1,      IR6_3,      46,          1,         18,         18,2,19950412,       1439,   -12.8808,   106.7833,         10,   399.3,   9.1760,  34.6740,2,  34.6739,2,-999.0000,5,    96.8,2,   45.64,2,   29.66,2,    2.12,2
 09FA9503_1,      IR6_3,      46,          1,         17,         35,2,19950412,       1439,   -12.8808,   106.7833,         10,   498.9,   8.4180,  34.6660,2,  34.6660,2,-999.0000,5,    87.2,2,   53.72,2,   31.92,2,    2.28,2
 09FA9503_1,      IR6_3,      46,          1,         16,          6,2,19950412,       1439,   -12.8808,   106.7833,         10,   599.9,   7.7530,  34.6920,2,  34.6861,2,-999.0000,5,    78.4,2,   62.93,2,   33.84,2,    2.44,2
 09FA9503_1,      IR6_3,      46,          1,         15,         21,2,19950412,       1439,   -12.8808,   106.7833,         10,   698.6,   6.9340,  34.6510,2,  34.6488,2,-999.0000,5,    83.3,2,   74.44,2,   34.75,2,    2.51,2
 09FA9503_1,      IR6_3,      46,          1,         14,         14,2,19950412,       1439,   -12.8808,   106.7833,         10,   797.2,   6.3200,  34.6430,2,  34.6414,2,-999.0000,5,    84.7,2,   83.33,2,   35.32,2,    2.57,2
 09FA9503_1,      IR6_3,      46,          1,         13,         70,2,19950412,       1439,   -12.8808,   106.7833,         10,   897.4,   5.7110,  34.6210,2,  34.6213,2,-999.0000,5,    90.5,2,   91.29,2,   35.59,2,    2.59,2
 09FA9503_1,      IR6_3,      46,          1,         12,         12,2,19950412,       1439,   -12.8808,   106.7833,         10,   996.2,   5.2950,  34.6220,2,  34.6230,2,-999.0000,5,    92.9,2,   97.36,2,   35.87,2,    2.60,2
 09FA9503_1,      IR6_3,      46,          1,         11,         11,2,19950412,       1439,   -12.8808,   106.7833,         10,  1246.1,   4.2600,  34.6400,2,  34.6407,2,-999.0000,5,   103.2,2,  110.89,2,   36.32,2,    2.64,2
 09FA9503_1,      IR6_3,      46,          1,         10,         10,2,19950412,       1439,   -12.8808,   106.7833,         10,  1499.0,   3.7750,  34.6850,2,  34.6860,2,-999.0000,5,   110.7,2,  114.18,2,   36.22,2,    2.62,2
 09FA9503_1,      IR6_3,      46,          1,          9,         29,2,19950412,       1439,   -12.8808,   106.7833,         10,  1993.9,   2.7220,  34.7340,2,  34.7332,2,-999.0000,5,   138.8,2,  120.15,2,   35.31,2,    2.53,2
 09FA9503_1,      IR6_3,      46,          1,          8,         17,2,19950412,       1439,   -12.8808,   106.7833,         10,  2496.1,   2.0770,  34.7330,2,  34.7321,2,-999.0000,5,   159.4,2,  124.55,2,   34.27,2,    2.44,2
 09FA9503_1,      IR6_3,      46,          1,          7,          7,2,19950412,       1439,   -12.8808,   106.7833,         10,  2996.1,   1.6170,  34.7240,2,  34.7251,2,-999.0000,5,   175.5,2,  129.18,2,   33.78,2,    2.38,2
 09FA9503_1,      IR6_3,      46,          1,          6,         41,2,19950412,       1439,   -12.8808,   106.7833,         10,  3498.8,   1.3610,  34.7190,2,  34.7185,2,-999.0000,5,   187.1,2,  130.89,2,   33.43,2,    2.32,2
 09FA9503_1,      IR6_3,      46,          1,          5,          5,2,19950412,       1439,   -12.8808,   106.7833,         10,  4001.2,   1.2350,  34.7160,2,  34.7170,2,-999.0000,5,   194.7,2,  131.12,2,   33.17,2,    2.30,2
 09FA9503_1,      IR6_3,      46,          1,          4,          4,2,19950412,       1439,   -12.8808,   106.7833,         10,  4502.0,   1.1930,  34.7150,2,-999.0000,9,-999.0000,5,   199.8,2,  130.03,2,   32.89,2,    2.29,2
 09FA9503_1,      IR6_3,      46,          1,          3,          3,2,19950412,       1439,   -12.8808,   106.7833,         10,  4999.4,   1.2060,  34.7140,2,  34.7143,2,-999.0000,5,   201.2,2,  128.10,2,   33.31,2,    2.27,2
 09FA9503_1,      IR6_3,      46,          1,          2,          2,2,19950412,       1439,   -12.8808,   106.7833,         10,  5398.5,   1.2470,  34.7130,2,  34.7144,2,-999.0000,5,   202.1,2,  129.17,2,   32.73,2,    2.27,2
 09FA9503_1,      IR6_3,      46,          1,          1,          1,2,19950412,       1439,   -12.8808,   106.7833,         10,  5557.1,   1.2500,  34.7130,2,  34.7141,2,-999.0000,5,   202.5,2,  128.58,2,   32.77,2,    2.26,2
 09FA9503_1,      IR6_3,      47,          1,         24,         24,2,19950412,       2033,   -12.4587,   106.6478,         10,     3.1,  29.4390,  33.8990,2,  33.8986,2,-999.0000,5,   210.8,2,    3.51,2,    0.13,2,    0.14,2
 09FA9503_1,      IR6_3,      47,          1,         23,          1,2,19950412,       2033,   -12.4587,   106.6478,         10,    48.9,  28.5990,  34.6160,2,  34.6039,2,-999.0000,5,   218.3,2,    4.36,2,    0.13,2,    0.17,2
 09FA9503_1,      IR6_3,      47,          1,         22,          5,2,19950412,       2033,   -12.4587,   106.6478,         10,    99.5,  19.2450,  34.8020,2,  34.7980,2,-999.0000,5,   108.4,2,   19.47,2,   16.72,2,    1.20,2
 09FA9503_1,      IR6_3,      47,          1,         21,         45,2,19950412,       2033,   -12.4587,   106.6478,         10,   147.8,  16.5640,  34.7990,2,  34.7979,2,-999.0000,5,   102.3,2,   25.19,2,   19.99,2,    1.44,2
 09FA9503_1,      IR6_3,      47,          1,         20,         20,2,19950412,       2033,   -12.4587,   106.6478,         10,   198.2,  13.3170,  34.7440,2,  34.7408,2,-999.0000,5,   109.9,2,   32.73,2,   22.69,2,    1.65,2
 09FA9503_1,      IR6_3,      47,          1,         19,         19,2,19950412,       2033,   -12.4587,   106.6478,         10,   298.3,  10.1650,  34.6730,2,  34.6723,2,-999.0000,5,   100.3,2,   42.79,2,   28.17,2,    2.00,2
 09FA9503_1,      IR6_3,      47,          1,         18,         18,2,19950412,       2033,   -12.4587,   106.6478,         10,   396.9,   8.9260,  34.6630,2,  34.6624,2,-999.0000,5,    99.6,2,   47.46,2,   30.84,2,    2.15,2
 09FA9503_1,      IR6_3,      47,          1,         17,         35,2,19950412,       2033,   -12.4587,   106.6478,         10,   497.0,   8.1260,  34.6610,2,  34.6623,2,-999.0000,5,    82.4,2,   58.42,2,   33.50,2,    2.37,2
 09FA9503_1,      IR6_3,      47,          1,         16,          6,2,19950412,       2033,   -12.4587,   106.6478,         10,   598.1,   7.5150,  34.6670,2,  34.6685,2,-999.0000,5,    80.2,2,   66.87,2,   34.68,2,    2.47,2
 09FA9503_1,      IR6_3,      47,          1,         15,         21,2,19950412,       2033,   -12.4587,   106.6478,         10,   698.1,   6.8300,  34.6580,2,  34.6574,2,-999.0000,5,    81.1,2,   76.94,2,   35.48,2,    2.54,2
 09FA9503_1,      IR6_3,      47,          1,         14,         27,2,19950412,       2033,   -12.4587,   106.6478,         10,   797.6,   6.3600,  34.6510,2,  34.6502,2,-999.0000,5,    83.0,2,   84.02,2,   36.35,6,    2.57,2
 09FA9503_1,      IR6_3,      47,          1,         13,         70,2,19950412,       2033,   -12.4587,   106.6478,         10,   895.7,   5.8810,  34.6350,2,  34.6344,2,-999.0000,5,    87.9,2,   90.37,2,   35.89,2,    2.59,2
 09FA9503_1,      IR6_3,      47,          1,         12,         14,2,19950412,       2033,   -12.4587,   106.6478,         10,   996.1,   5.4750,  34.6330,2,  34.6364,2,-999.0000,5,    91.1,2,   95.77,2,   36.04,2,    2.61,2
 09FA9503_1,      IR6_3,      47,          1,         11,         11,2,19950412,       2033,   -12.4587,   106.6478,         10,  1192.9,   4.5170,  34.6330,2,  34.6345,2,-999.0000,5,    99.9,2,  109.02,2,   36.42,2,    2.63,2
 09FA9503_1,      IR6_3,      47,          1,          9,         29,2,19950412,       2033,   -12.4587,   106.6478,         10,  1593.3,   3.4900,  34.7090,2,  34.7082,2,-999.0000,5,   117.0,2,  115.79,2,   36.02,2,    2.61,2
 09FA9503_1,      IR6_3,      47,          1,          8,         17,2,19950412,       2033,   -12.4587,   106.6478,         10,  1794.7,   3.1300,  34.7280,2,  34.7271,2,-999.0000,5,   126.3,2,  116.75,2,   35.80,2,    2.58,2
 09FA9503_1,      IR6_3,      47,          1,          7,          7,2,19950412,       2033,   -12.4587,   106.6478,         10,  1995.3,   2.6950,  34.7340,2,  34.7347,2,-999.0000,5,   140.4,2,  119.71,2,   35.15,2,    2.52,2
 09FA9503_1,      IR6_3,      47,          1,          6,         41,2,19950412,       2033,   -12.4587,   106.6478,         10,  2246.0,   2.2940,  34.7350,2,  34.7356,2,-999.0000,5,   152.4,2,  123.47,2,   34.65,2,    2.47,2
 09FA9503_1,      IR6_3,      47,          1,          5,        124,2,19950412,       2033,   -12.4587,   106.6478,         10,  2496.3,   2.0010,  34.7320,2,  34.7325,2,-999.0000,5,   162.2,2,  126.14,2,   34.25,2,    2.43,2
 09FA9503_1,      IR6_3,      47,          1,          4,          4,2,19950412,       2033,   -12.4587,   106.6478,         10,  2746.5,   1.7950,  34.7290,2,  34.7291,2,-999.0000,5,   168.6,2,  128.78,2,   34.12,2,    2.41,2
 09FA9503_1,      IR6_3,      47,          1,          3,          3,2,19950412,       2033,   -12.4587,   106.6478,         10,  2999.3,   1.6340,  34.7240,2,  34.7256,2,-999.0000,5,   175.1,2,  130.47,2,   33.71,2,    2.38,2
 09FA9503_1,      IR6_3,      47,          1,          2,          2,2,19950412,       2033,   -12.4587,   106.6478,         10,  3200.8,   1.4940,  34.7220,2,  34.7222,2,-999.0000,5,   180.3,2,  130.87,2,   33.49,2,    2.37,2
 09FA9503_1,      IR6_3,      47,          1,          1,         18,2,19950412,       2033,   -12.4587,   106.6478,         10,  3300.6,   1.4560,  34.7210,2,  34.7219,2,-999.0000,5,   182.0,2,  131.54,2,   33.44,2,    2.36,2
 09FA9503_1,      IR6_3,      48,          1,         24,         24,2,19950413,       0241,   -12.0028,   106.5140,         10,     5.0,  29.5470,  34.3120,2,  34.3160,2,-999.0000,5,   208.1,2,    3.62,2,    0.24,2,    0.16,2
 09FA9503_1,      IR6_3,      48,          1,         23,         23,2,19950413,       0241,   -12.0028,   106.5140,         10,    48.3,  27.0970,  34.7360,2,  34.7247,2,-999.0000,5,   217.4,2,    4.59,2,    0.12,2,    0.18,2
 09FA9503_1,      IR6_3,      48,          1,         22,         22,2,19950413,       0241,   -12.0028,   106.5140,         10,    97.7,  21.5050,  34.7890,2,  34.7931,2,-999.0000,5,   126.0,2,   13.83,2,   12.82,2,    0.91,2
 09FA9503_1,      IR6_3,      48,          1,         21,         45,2,19950413,       0241,   -12.0028,   106.5140,         10,   148.1,  16.4470,  34.7530,2,  34.7475,2,-999.0000,5,   104.6,2,   25.92,2,   19.74,2,    1.43,2
 09FA9503_1,      IR6_3,      48,          1,         20,         20,2,19950413,       0241,   -12.0028,   106.5140,         10,   198.1,  14.0610,  34.7610,2,  34.7570,2,-999.0000,5,   111.2,2,   30.84,2,   21.38,2,    1.56,2
 09FA9503_1,      IR6_3,      48,          1,         19,         19,2,19950413,       0241,   -12.0028,   106.5140,         10,   298.4,  10.7400,  34.6520,2,  34.6505,2,-999.0000,5,    98.5,2,   42.49,2,   27.28,2,    1.97,2
 09FA9503_1,      IR6_3,      48,          1,         18,         18,2,19950413,       0241,   -12.0028,   106.5140,         10,   397.7,   8.8500,  34.6660,2,  34.6638,2,-999.0000,5,    85.1,2,   51.82,2,   31.69,2,    2.25,2
 09FA9503_1,      IR6_3,      48,          1,         17,         35,2,19950413,       0241,   -12.0028,   106.5140,         10,   497.0,   7.9540,  34.6890,2,  34.6866,2,-999.0000,5,    78.0,2,   60.85,2,   33.81,2,    2.43,2
 09FA9503_1,      IR6_3,      48,          1,         16,          6,2,19950413,       0241,   -12.0028,   106.5140,         10,   596.8,   7.6170,  34.6970,2,  34.6953,2,-999.0000,5,    76.1,2,   65.43,2,   34.52,2,    2.49,2
 09FA9503_1,      IR6_3,      48,          1,         15,         21,2,19950413,       0241,   -12.0028,   106.5140,         10,   697.1,   7.0200,  34.6800,2,  34.6788,2,-999.0000,5,    77.5,2,   74.48,2,   35.06,2,    2.54,2
 09FA9503_1,      IR6_3,      48,          1,         14,         14,2,19950413,       0241,   -12.0028,   106.5140,         10,   795.1,   6.3130,  34.6510,2,  34.6485,2,-999.0000,5,    82.4,2,   84.41,2,   35.55,2,    2.58,2
 09FA9503_1,      IR6_3,      48,          1,         13,         70,2,19950413,       0241,   -12.0028,   106.5140,         10,   895.7,   5.6260,  34.6300,2,  34.6304,2,-999.0000,5,    88.4,2,   94.08,2,   35.84,2,    2.61,2
 09FA9503_1,      IR6_3,      48,          1,         12,         12,2,19950413,       0241,   -12.0028,   106.5140,         10,   996.0,   5.2730,  34.6350,2,  34.6344,2,-999.0000,5,    91.1,2,   99.05,2,   35.92,2,    2.63,2
 09FA9503_1,      IR6_3,      48,          1,         11,         11,2,19950413,       0241,   -12.0028,   106.5140,         10,  1252.4,   4.4640,  34.6630,2,  34.6584,2,-999.0000,5,    99.0,2,  107.63,2,   35.98,2,    2.63,2
 09FA9503_1,      IR6_3,      48,          1,         10,         10,2,19950413,       0241,   -12.0028,   106.5140,         10,  1495.3,   3.7080,  34.6960,2,  34.6953,2,-999.0000,5,   112.0,2,  114.52,2,   36.11,2,    2.64,2
 09FA9503_1,      IR6_3,      48,          1,          9,         29,2,19950413,       0241,   -12.0028,   106.5140,         10,  1996.7,   2.6400,  34.7360,2,  34.7331,2,-999.0000,5,   140.4,2,  120.77,2,   35.11,2,    2.53,2
 09FA9503_1,      IR6_3,      48,          1,          8,         17,2,19950413,       0241,   -12.0028,   106.5140,         10,  2496.9,   2.0130,  34.7340,2,  34.7312,2,-999.0000,5,   162.0,2,  126.13,2,   34.17,2,    2.44,2
 09FA9503_1,      IR6_3,      48,          1,          7,          7,2,19950413,       0241,   -12.0028,   106.5140,         10,  2997.9,   1.6470,  34.7260,2,  34.7237,2,-999.0000,5,   174.3,2,  129.56,2,   33.78,2,    2.41,2
 09FA9503_1,      IR6_3,      48,          1,          6,         41,2,19950413,       0241,   -12.0028,   106.5140,         10,  3499.4,   1.3770,  34.7200,2,  34.7182,2,-999.0000,5,   185.0,2,  133.00,2,   33.95,2,    2.37,2
 09FA9503_1,      IR6_3,      48,          1,          5,          5,2,19950413,       0241,   -12.0028,   106.5140,         10,  3999.8,   1.2090,  34.7160,2,  34.7144,2,-999.0000,5,   194.6,2,  132.65,2,   33.06,2,    2.31,2
 09FA9503_1,      IR6_3,      48,          1,          4,          4,2,19950413,       0241,   -12.0028,   106.5140,         10,  4499.8,   1.1910,  34.7130,2,  34.7140,2,-999.0000,5,   198.9,2,  132.54,2,   32.95,2,    2.31,2
 09FA9503_1,      IR6_3,      48,          1,          3,          3,2,19950413,       0241,   -12.0028,   106.5140,         10,  4998.9,   1.2060,  34.7140,2,  34.7128,2,-999.0000,5,   201.5,2,  131.80,2,   32.77,2,    2.30,2
 09FA9503_1,      IR6_3,      48,          1,          2,          2,2,19950413,       0241,   -12.0028,   106.5140,         10,  5498.7,   1.2490,  34.7140,2,  34.7129,2,-999.0000,5,   202.7,2,  131.40,2,   32.68,2,    2.28,2
 09FA9503_1,      IR6_3,      48,          1,          1,          1,2,19950413,       0241,   -12.0028,   106.5140,         10,  5620.9,   1.2530,  34.7130,2,  34.7105,2,-999.0000,5,   182.3,2,  125.51,2,   33.11,2,    2.34,2