BOTTLE,20211029CCHSIORKP
EXPOCODE,SECT_ID,STNNBR,CASTNO,SAMPNO,BTLNBR,BTLNBR_FLAG_W,DATE,TIME,LATITUDE,LONGITUDE,DEPTH,CTDPRS,CTDTMP,CTDSAL,CTDSAL_FLAG_W,SALNTY,SALNTY_FLAG_W,CTDOXY,CTDOXY_FLAG_W,OXYGEN,OXYGEN_FLAG_W,SILCAT,SILCAT_FLAG_W,NITRAT,NITRAT_FLAG_W,PHSPHT,PHSPHT_FLAG_W
,,,,,,,,,,,METERS,DBAR,ITS-90,PSS-78,,PSS-78,,UMOL/KG,,UMOL/KG,,UMOL/KG,,UMOL/KG,,UMOL/KG,
 09FA9503_1,      IR6_3,      33,          1,         24,         24,2,19950408,       2247,   -18.6752,   108.6403,         10,     3.9,  27.5360,  35.3230,2,  35.3285,2,-999.0000,5,   205.0,2,    3.41,2,    0.18,2,    0.16,2
 09FA9503_1,      IR6_3,      33,          1,         22,         22,2,19950408,       2247,   -18.6752,   108.6403,         10,    98.6,  21.1200,  35.1350,2,  35.1197,2,-999.0000,5,   158.0,2,    9.82,2,    7.89,2,    0.69,2
 09FA9503_1,      IR6_3,      33,          1,         21,         21,2,19950408,       2247,   -18.6752,   108.6403,         10,   147.8,  19.4270,  35.4360,2,  35.4283,2,-999.0000,5,   165.2,2,    8.29,2,    7.69,2,    0.68,2
 09FA9503_1,      IR6_3,      33,          1,         20,         20,2,19950408,       2247,   -18.6752,   108.6403,         10,   198.8,  18.4970,  35.7180,2,  35.7239,2,-999.0000,5,   188.9,2,    4.91,2,    4.68,2,    0.49,2
 09FA9503_1,      IR6_3,      33,          1,         19,         19,2,19950408,       2247,   -18.6752,   108.6403,         10,   298.5,  14.4040,  35.4600,2,  35.4693,2,-999.0000,5,   214.1,2,    5.32,2,    6.67,2,    0.65,2
 09FA9503_1,      IR6_3,      33,          1,         16,         25,2,19950408,       2247,   -18.6752,   108.6403,         10,   596.1,   7.6830,  34.5870,2,  34.5977,2,-999.0000,5,   173.9,2,   25.91,2,   25.76,2,    1.82,2
 09FA9503_1,      IR6_3,      33,          1,         15,         15,2,19950408,       2247,   -18.6752,   108.6403,         10,   696.6,   6.4640,  34.5870,2,  34.5859,2,-999.0000,5,   128.2,2,   54.33,2,   33.00,2,    2.33,2
 09FA9503_1,      IR6_3,      33,          1,         14,         14,2,19950408,       2247,   -18.6752,   108.6403,         10,   794.9,   5.9590,  34.6290,2,  34.6264,2,-999.0000,5,   101.9,2,   73.68,2,   35.64,2,    2.54,2
 09FA9503_1,      IR6_3,      33,          1,         12,         12,2,19950408,       2247,   -18.6752,   108.6403,         10,   996.5,   5.1560,  34.6380,2,  34.6405,2,-999.0000,5,    98.1,2,   91.93,2,   36.49,2,    2.63,2
 09FA9503_1,      IR6_3,      33,          1,         11,          6,2,19950408,       2247,   -18.6752,   108.6403,         10,  1244.5,   4.2720,  34.6430,2,  34.6484,2,-999.0000,5,   109.8,2,  101.78,2,   36.28,2,    2.62,2
 09FA9503_1,      IR6_3,      33,          1,         10,         10,2,19950408,       2247,   -18.6752,   108.6403,         10,  1496.1,   3.4960,  34.6690,2,  34.6684,2,-999.0000,5,   127.6,2,  104.58,2,   36.10,2,    2.60,2
 09FA9503_1,      IR6_3,      33,          1,          9,          9,2,19950408,       2247,   -18.6752,   108.6403,         10,  1996.4,   2.4290,  34.7220,2,  34.7207,2,-999.0000,5,   149.9,2,  119.63,2,   35.08,2,    2.51,2
 09FA9503_1,      IR6_3,      33,          1,          8,          8,2,19950408,       2247,   -18.6752,   108.6403,         10,  2497.3,   1.9700,  34.7290,2,  34.7254,2,-999.0000,5,   160.8,2,  128.09,2,   34.78,2,    2.49,2
 09FA9503_1,      IR6_3,      33,          1,          7,          7,2,19950408,       2247,   -18.6752,   108.6403,         10,  2999.3,   1.6330,  34.7270,2,  34.7246,2,-999.0000,5,   176.9,2,  127.56,2,   34.07,2,    2.41,2
 09FA9503_1,      IR6_3,      33,          1,          5,          5,2,19950408,       2247,   -18.6752,   108.6403,         10,  4000.5,   1.2170,  34.7170,2,  34.7163,2,-999.0000,5,   193.6,2,  132.76,2,   33.79,2,    2.34,2
 09FA9503_1,      IR6_3,      33,          1,          4,          4,2,19950408,       2247,   -18.6752,   108.6403,         10,  4498.1,   1.1860,  34.7160,2,  34.7140,2,-999.0000,5,   198.5,2,  133.37,2,   33.48,2,    2.34,2
 09FA9503_1,      IR6_3,      33,          1,          3,          3,2,19950408,       2247,   -18.6752,   108.6403,         10,  4997.3,   1.1920,  34.7150,2,  34.7128,2,-999.0000,5,   202.0,2,  130.69,2,   33.16,2,    2.31,2
 09FA9503_1,      IR6_3,      33,          1,          2,          2,2,19950408,       2247,   -18.6752,   108.6403,         10,  5501.1,   1.2150,  34.7150,2,  34.7128,2,-999.0000,5,   204.9,2,  130.20,2,   33.16,2,    2.28,2
 09FA9503_1,      IR6_3,      33,          1,          1,          1,2,19950408,       2247,   -18.6752,   108.6403,         10,  5708.5,   1.2200,  34.7150,2,  34.7120,2,-999.0000,5,   205.1,2,  130.11,2,   33.08,2,    2.29,2
 09FA9503_1,      IR6_3,      34,          1,         24,         24,2,19950409,       0601,   -18.2143,   108.4765,         10,     3.4,  29.1550,  34.8120,2,  34.8218,2,-999.0000,5,   204.1,2,    3.54,2,    0.15,2,    0.17,2
 09FA9503_1,      IR6_3,      34,          1,         23,         23,2,19950409,       0601,   -18.2143,   108.4765,         10,    49.0,  28.5990,  34.8070,2,  34.8166,2,-999.0000,5,   204.6,2,    3.12,2,    0.09,2,    0.16,2
 09FA9503_1,      IR6_3,      34,          1,         22,         22,2,19950409,       0601,   -18.2143,   108.4765,         10,    97.5,  21.3270,  34.8120,2,  34.8119,2,-999.0000,5,   139.7,2,   12.76,2,   11.41,2,    0.83,2
 09FA9503_1,      IR6_3,      34,          1,         21,         21,2,19950409,       0601,   -18.2143,   108.4765,         10,   148.7,  19.4030,  35.3700,2,  35.3703,2,-999.0000,5,   158.1,2,    8.62,2,    8.67,2,    0.69,2
 09FA9503_1,      IR6_3,      34,          1,         20,         20,2,19950409,       0601,   -18.2143,   108.4765,         10,   199.0,  16.2090,  35.1380,2,  35.1169,2,-999.0000,5,   139.4,2,   19.85,2,   15.01,2,    1.10,2
 09FA9503_1,      IR6_3,      34,          1,         19,         19,2,19950409,       0601,   -18.2143,   108.4765,         10,   299.0,  13.2780,  35.1920,2,  35.1930,2,-999.0000,5,   180.4,2,   14.83,2,   13.16,2,    1.01,2
 09FA9503_1,      IR6_3,      34,          1,         18,         18,2,19950409,       0601,   -18.2143,   108.4765,         10,   427.5,   9.9310,  34.7990,2,  34.8029,2,-999.0000,5,   224.4,2,    7.08,2,   16.20,2,    1.17,2
 09FA9503_1,      IR6_3,      34,          1,         17,         17,2,19950409,       0601,   -18.2143,   108.4765,         10,   495.3,   8.9020,  34.6760,2,  34.6786,2,-999.0000,5,   202.7,2,   14.90,2,   21.00,2,    1.48,2
 09FA9503_1,      IR6_3,      34,          1,         16,         25,2,19950409,       0601,   -18.2143,   108.4765,         10,   596.8,   7.3330,  34.6100,2,  34.6099,2,-999.0000,5,   139.4,2,   41.87,2,   30.00,2,    2.11,2
 09FA9503_1,      IR6_3,      34,          1,         15,         15,2,19950409,       0601,   -18.2143,   108.4765,         10,   696.4,   6.4950,  34.6230,2,  34.6240,2,-999.0000,5,   109.6,2,   62.71,2,   33.78,2,    2.41,2
 09FA9503_1,      IR6_3,      34,          1,         14,         14,2,19950409,       0601,   -18.2143,   108.4765,         10,   776.5,   6.1580,  34.6500,2,  34.6499,2,-999.0000,5,    95.0,2,   74.81,2,   35.21,2,    2.54,2
 09FA9503_1,      IR6_3,      34,          1,         13,         16,2,19950409,       0601,   -18.2143,   108.4765,         10,   897.1,   5.5690,  34.6460,2,  34.6452,2,-999.0000,5,    94.4,2,   83.12,2,   35.91,2,    2.62,2
 09FA9503_1,      IR6_3,      34,          1,         12,         12,2,19950409,       0601,   -18.2143,   108.4765,         10,   996.7,   5.2450,  34.6490,2,  34.6476,2,-999.0000,5,    95.4,2,   90.13,2,   36.25,2,    2.63,2
 09FA9503_1,      IR6_3,      34,          1,         10,         10,2,19950409,       0601,   -18.2143,   108.4765,         10,  1494.6,   3.4830,  34.6760,2,  34.6761,2,-999.0000,5,   127.0,2,  104.67,2,   35.73,2,    2.57,2
 09FA9503_1,      IR6_3,      34,          1,          9,          9,2,19950409,       0601,   -18.2143,   108.4765,         10,  1996.0,   2.4370,  34.7240,2,  34.7237,2,-999.0000,5,   148.3,2,  121.69,2,   35.04,2,    2.50,2
 09FA9503_1,      IR6_3,      34,          1,          8,          8,2,19950409,       0601,   -18.2143,   108.4765,         10,  2495.3,   1.9740,  34.7300,2,  34.7249,2,-999.0000,5,   156.8,2,  124.68,2,   34.73,2,    2.46,2
 09FA9503_1,      IR6_3,      34,          1,          7,          7,2,19950409,       0601,   -18.2143,   108.4765,         10,  2997.7,   1.6470,  34.7270,2,  34.7246,2,-999.0000,5,   175.7,2,  130.39,2,   34.02,2,    2.38,2
 09FA9503_1,      IR6_3,      34,          1,          6,         11,2,19950409,       0601,   -18.2143,   108.4765,         10,  3503.3,   1.3580,  34.7210,2,  34.7188,2,-999.0000,5,   186.2,2,  131.96,2,   33.85,2,    2.36,2
 09FA9503_1,      IR6_3,      34,          1,          5,          5,2,19950409,       0601,   -18.2143,   108.4765,         10,  4000.6,   1.2230,  34.7170,2,  34.7161,2,-999.0000,5,   194.2,2,  133.72,2,   33.61,2,    2.32,2
 09FA9503_1,      IR6_3,      34,          1,          4,          4,2,19950409,       0601,   -18.2143,   108.4765,         10,  4500.5,   1.1800,  34.7160,2,  34.7146,2,-999.0000,5,   198.9,2,  131.17,2,   33.34,2,    2.31,2
 09FA9503_1,      IR6_3,      34,          1,          3,          3,2,19950409,       0601,   -18.2143,   108.4765,         10,  5000.1,   1.1820,  34.7150,2,  34.7146,2,-999.0000,5,   202.5,2,  131.14,2,   33.20,2,    2.28,2
 09FA9503_1,      IR6_3,      34,          1,          1,          1,2,19950409,       0601,   -18.2143,   108.4765,         10,  5707.4,   1.2150,  34.7140,2,  34.7132,2,-999.0000,5,   206.8,2,  129.47,2,   32.98,2,    2.27,2
 09FA9503_1,      IR6_3,      35,          1,         24,         24,2,19950409,       1306,   -17.7197,   108.3173,         10,     4.7,  28.8900,  34.7720,2,  34.7754,2,-999.0000,5,   207.9,2,    3.60,2,    0.10,2,    0.15,2
 09FA9503_1,      IR6_3,      35,          1,         23,         23,2,19950409,       1306,   -17.7197,   108.3173,         10,    49.1,  26.8050,  34.8130,2,  34.8180,2,-999.0000,5,   224.3,2,    3.49,2,    0.08,2,    0.17,2
 09FA9503_1,      IR6_3,      35,          1,         22,         22,2,19950409,       1306,   -17.7197,   108.3173,         10,    98.9,  21.7270,  34.8720,2,  34.8732,2,-999.0000,5,   149.2,2,   11.59,2,    9.13,2,    0.73,2
 09FA9503_1,      IR6_3,      35,          1,         21,         45,2,19950409,       1306,   -17.7197,   108.3173,         10,   149.1,  18.2820,  34.8980,2,  34.8768,2,-999.0000,5,   129.0,2,   19.94,2,   14.69,2,    1.13,2
 09FA9503_1,      IR6_3,      35,          1,         20,         20,2,19950409,       1306,   -17.7197,   108.3173,         10,   198.8,  17.4650,  35.4200,2,  35.4125,2,-999.0000,5,   162.7,2,   10.50,2,    9.60,2,    0.80,2
 09FA9503_1,      IR6_3,      35,          1,         19,         19,2,19950409,       1306,   -17.7197,   108.3173,         10,   297.9,  13.6380,  35.3070,2,  35.3042,2,-999.0000,5,   199.2,2,   10.55,2,    9.75,2,    0.83,2
 09FA9503_1,      IR6_3,      35,          1,         18,         18,2,19950409,       1306,   -17.7197,   108.3173,         10,   388.1,  10.6900,  34.9060,2,  34.9097,2,-999.0000,5,   216.0,2,    9.96,2,   14.38,2,    1.10,2
 09FA9503_1,      IR6_3,      35,          1,         17,         35,2,19950409,       1306,   -17.7197,   108.3173,         10,   498.1,   8.5660,  34.6490,2,  34.6511,2,-999.0000,5,   189.5,2,   21.92,2,   22.98,2,    1.66,2
 09FA9503_1,      IR6_3,      35,          1,         15,         21,2,19950409,       1306,   -17.7197,   108.3173,         10,   697.3,   6.5390,  34.6500,2,  34.6497,2,-999.0000,5,    97.3,2,   70.33,2,   34.63,2,    2.54,2
 09FA9503_1,      IR6_3,      35,          1,         14,         14,2,19950409,       1306,   -17.7197,   108.3173,         10,   775.7,   6.1010,  34.6580,2,  34.6569,2,-999.0000,5,    90.7,2,   81.79,2,   35.66,2,    2.60,2
 09FA9503_1,      IR6_3,      35,          1,         13,         70,2,19950409,       1306,   -17.7197,   108.3173,         10,   896.3,   5.5770,  34.6530,2,  34.6518,2,-999.0000,5,    92.7,2,   90.30,2,   36.15,2,    2.66,2
 09FA9503_1,      IR6_3,      35,          1,         12,         12,2,19950409,       1306,   -17.7197,   108.3173,         10,   995.7,   5.2140,  34.6470,2,  34.6469,2,-999.0000,5,    94.0,2,   90.21,2,   36.20,2,    2.68,2
 09FA9503_1,      IR6_3,      35,          1,         11,         11,2,19950409,       1306,   -17.7197,   108.3173,         10,  1247.0,   4.3360,  34.6520,2,  34.6513,2,-999.0000,5,   105.2,2,  103.06,2,   36.34,2,    2.67,2
 09FA9503_1,      IR6_3,      35,          1,         10,         10,2,19950409,       1306,   -17.7197,   108.3173,         10,  1494.5,   3.5510,  34.6760,2,  34.6758,2,-999.0000,5,   123.6,2,  106.01,2,   36.28,2,    2.64,2
 09FA9503_1,      IR6_3,      35,          1,          9,         29,2,19950409,       1306,   -17.7197,   108.3173,         10,  1995.7,   2.4260,  34.7230,2,  34.7226,2,-999.0000,5,   151.8,2,  119.06,2,   34.77,2,    2.50,2
 09FA9503_1,      IR6_3,      35,          1,          8,         17,2,19950409,       1306,   -17.7197,   108.3173,         10,  2495.4,   1.9470,  34.7300,2,  34.7278,2,-999.0000,5,   161.8,2,  133.39,2,   34.44,2,    2.46,2
 09FA9503_1,      IR6_3,      35,          1,          7,          7,2,19950409,       1306,   -17.7197,   108.3173,         10,  2997.9,   1.6310,  34.7260,2,  34.7248,2,-999.0000,5,   175.9,2,  127.98,2,   33.77,2,    2.36,2
 09FA9503_1,      IR6_3,      35,          1,          6,         41,2,19950409,       1306,   -17.7197,   108.3173,         10,  3499.2,   1.3330,  34.7200,2,  34.7182,2,-999.0000,5,   188.0,2,  134.57,2,   33.53,2,    2.31,2
 09FA9503_1,      IR6_3,      35,          1,          5,          5,2,19950409,       1306,   -17.7197,   108.3173,         10,  3997.8,   1.1980,  34.7170,2,  34.7167,2,-999.0000,5,   195.4,2,  128.48,2,   33.23,2,    2.24,2
 09FA9503_1,      IR6_3,      35,          1,          4,          4,2,19950409,       1306,   -17.7197,   108.3173,         10,  4499.5,   1.1620,  34.7150,2,  34.7148,2,-999.0000,5,   201.2,2,  136.82,2,   33.06,2,    2.25,2
 09FA9503_1,      IR6_3,      35,          1,          3,          3,2,19950409,       1306,   -17.7197,   108.3173,         10,  4998.8,   1.1650,  34.7140,2,  34.7141,2,-999.0000,5,   204.5,2,  125.32,2,   32.90,2,    2.22,2
 09FA9503_1,      IR6_3,      35,          1,          1,          1,2,19950409,       1306,   -17.7197,   108.3173,         10,  5548.7,   1.2050,  34.7140,2,  34.7131,2,-999.0000,5,   206.2,2,  125.43,2,   32.95,2,    2.19,2
 09FA9503_1,      IR6_3,      36,          1,         24,         24,2,19950409,       2007,   -17.2417,   108.1715,         10,     1.8,  28.6330,  34.7460,2,  34.7483,2,-999.0000,5,   203.8,2,    3.43,2,    0.00,2,    0.05,2
 09FA9503_1,      IR6_3,      36,          1,         23,         23,2,19950409,       2007,   -17.2417,   108.1715,         10,    48.6,  28.8200,  34.9620,2,  34.9592,2,-999.0000,5,   207.7,2,   11.69,2,    9.26,2,    0.67,2
 09FA9503_1,      IR6_3,      36,          1,         22,         22,2,19950409,       2007,   -17.2417,   108.1715,         10,    98.1,  21.5880,  34.7770,2,  34.7878,2,-999.0000,5,   152.1,2,   20.41,2,   16.32,2,    1.13,2
 09FA9503_1,      IR6_3,      36,          1,         20,         20,2,19950409,       2007,   -17.2417,   108.1715,         10,   196.8,  16.0960,  35.0690,2,  35.0662,2,-999.0000,5,   134.9,2, -999.00,9, -999.00,9, -999.00,9
 09FA9503_1,      IR6_3,      36,          1,         19,         19,2,19950409,       2007,   -17.2417,   108.1715,         10,   296.1,  12.7620,  35.1990,2,  35.1979,2,-999.0000,5,   206.4,2,    7.54,2,   10.69,2,    0.80,2
 09FA9503_1,      IR6_3,      36,          1,         18,         18,2,19950409,       2007,   -17.2417,   108.1715,         10,   427.0,   9.3740,  34.7270,2,  34.7323,2,-999.0000,5,   212.7,2,   11.88,2,   18.13,2,    1.27,2
 09FA9503_1,      IR6_3,      36,          1,         17,         35,2,19950409,       2007,   -17.2417,   108.1715,         10,   495.1,   8.3530,  34.6270,2,  34.6275,2,-999.0000,5,   194.7,2,   18.51,2,   22.01,2,    1.53,2
 09FA9503_1,      IR6_3,      36,          1,         16,          6,2,19950409,       2007,   -17.2417,   108.1715,         10,   595.3,   7.1250,  34.6210,2,  34.6201,2,-999.0000,5,   129.2,2,   48.99,2,   31.42,2,    2.22,2
 09FA9503_1,      IR6_3,      36,          1,         15,         21,2,19950409,       2007,   -17.2417,   108.1715,         10,   694.6,   6.5030,  34.6490,2,  34.6481,2,-999.0000,5,    97.7,2,   72.09,2,   34.90,2,    2.50,2
 09FA9503_1,      IR6_3,      36,          1,         14,         14,2,19950409,       2007,   -17.2417,   108.1715,         10,   795.6,   5.9100,  34.6410,2,  34.6383,2,-999.0000,5,    90.3,2,   87.90,2,   36.18,2,    2.61,2
 09FA9503_1,      IR6_3,      36,          1,         13,         70,2,19950409,       2007,   -17.2417,   108.1715,         10,   894.7,   5.4830,  34.6430,2,  34.6400,2,-999.0000,5,    92.2,2,   96.43,2,   37.08,2,    2.63,2
 09FA9503_1,      IR6_3,      36,          1,         12,         12,2,19950409,       2007,   -17.2417,   108.1715,         10,   995.4,   5.0190,  34.6410,2,  34.6413,2,-999.0000,5,    95.9,2,  102.67,2,   36.60,2,    2.66,2
 09FA9503_1,      IR6_3,      36,          1,         11,         11,2,19950409,       2007,   -17.2417,   108.1715,         10,  1243.8,   4.1280,  34.6530,2,  34.6512,2,-999.0000,5,   109.5,2,   92.79,3,   31.13,3,    2.27,3
 09FA9503_1,      IR6_3,      36,          1,         10,         10,2,19950409,       2007,   -17.2417,   108.1715,         10,  1493.4,   3.3910,  34.6680,2,  34.6669,2,-999.0000,5,   125.7,2,  109.74,2,   35.34,2,    2.44,3
 09FA9503_1,      IR6_3,      36,          1,          9,         29,2,19950409,       2007,   -17.2417,   108.1715,         10,  1994.4,   2.4770,  34.7230,2,  34.7216,2,-999.0000,5,   147.9,2,  116.85,2,   35.09,2,    2.48,2
 09FA9503_1,      IR6_3,      36,          1,          8,         17,2,19950409,       2007,   -17.2417,   108.1715,         10,  2494.5,   1.9810,  34.7290,2,  34.7271,2,-999.0000,5,   160.7,2,  122.87,2,   31.63,3,    2.27,3
 09FA9503_1,      IR6_3,      36,          1,          7,          7,2,19950409,       2007,   -17.2417,   108.1715,         10,  2995.7,   1.6270,  34.7250,2,  34.7240,2,-999.0000,5,   176.0,2,  127.73,2,   33.22,2,    2.32,2
 09FA9503_1,      IR6_3,      36,          1,          6,         41,2,19950409,       2007,   -17.2417,   108.1715,         10,  3497.1,   1.3420,  34.7190,2,  34.7170,2,-999.0000,5,   188.5,2,  136.28,2,   33.66,2,    2.32,2
 09FA9503_1,      IR6_3,      36,          1,          5,          5,2,19950409,       2007,   -17.2417,   108.1715,         10,  3996.9,   1.2170,  34.7160,2,  34.7139,2,-999.0000,5,   196.6,2,  125.89,3,   31.79,3,    2.17,3
 09FA9503_1,      IR6_3,      36,          1,          4,          4,2,19950409,       2007,   -17.2417,   108.1715,         10,  4498.4,   1.1740,  34.7150,2,  34.7139,2,-999.0000,5,   202.0,2,  119.08,3,   28.85,3,    1.99,3
 09FA9503_1,      IR6_3,      36,          1,          3,          3,2,19950409,       2007,   -17.2417,   108.1715,         10,  4999.4,   1.1640,  34.7130,2,  34.7131,2,-999.0000,5,   203.8,2,  128.08,3,   31.00,3,    2.10,3
 09FA9503_1,      IR6_3,      36,          1,          2,          2,2,19950409,       2007,   -17.2417,   108.1715,         10,  5499.5,   1.1990,  34.7110,2,  34.7120,2,-999.0000,5,   206.4,2,  127.02,3,   32.65,2,    2.20,2
 09FA9503_1,      IR6_3,      36,          1,          1,          1,2,19950409,       2007,   -17.2417,   108.1715,         10,  5680.5,   1.2120,  34.7110,2,  34.7128,2,-999.0000,5,   206.7,2,  135.91,2,   33.36,2,    2.23,2