BOTTLE,20211029CCHSIORKP
EXPOCODE,SECT_ID,STNNBR,CASTNO,SAMPNO,BTLNBR,BTLNBR_FLAG_W,DATE,TIME,LATITUDE,LONGITUDE,DEPTH,CTDPRS,CTDTMP,CTDSAL,CTDSAL_FLAG_W,SALNTY,SALNTY_FLAG_W,CTDOXY,CTDOXY_FLAG_W,OXYGEN,OXYGEN_FLAG_W,SILCAT,SILCAT_FLAG_W,NITRAT,NITRAT_FLAG_W,PHSPHT,PHSPHT_FLAG_W
,,,,,,,,,,,METERS,DBAR,ITS-90,PSS-78,,PSS-78,,UMOL/KG,,UMOL/KG,,UMOL/KG,,UMOL/KG,,UMOL/KG,
 09FA9503_1,      IR6_3,      40,          1,         24,         24,2,19950411,       0016,   -15.3123,   107.5512,         10,     3.4,  29.0410,  34.9090,2,  34.9138,2,-999.0000,5,   211.4,2,    3.75,2,    0.26,2,    0.14,2
 09FA9503_1,      IR6_3,      40,          1,         23,         23,2,19950411,       0016,   -15.3123,   107.5512,         10,     3.4,  29.0410,  34.9090,2,  34.9147,2,-999.0000,5,   213.2,2,    3.15,2,    0.25,2,    0.14,2
 09FA9503_1,      IR6_3,      40,          1,         22,         22,2,19950411,       0016,   -15.3123,   107.5512,         10,    48.0,  25.9520,  34.7270,2,  34.7252,2,-999.0000,5,   212.9,2,    4.02,2,    0.19,2,    0.20,2
 09FA9503_1,      IR6_3,      40,          1,         21,         45,2,19950411,       0016,   -15.3123,   107.5512,         10,    98.9,  21.7890,  34.7770,2,  34.7830,2,-999.0000,5,   142.4,2,   12.20,2,   11.23,2,    0.79,2
 09FA9503_1,      IR6_3,      40,          1,         20,         20,2,19950411,       0016,   -15.3123,   107.5512,         10,   148.2,  18.4930,  34.8870,2,  34.8846,2,-999.0000,5,   118.9,2,   18.07,2,   16.64,2,    1.12,2
 09FA9503_1,      IR6_3,      40,          1,         19,         19,2,19950411,       0016,   -15.3123,   107.5512,         10,   198.0,  15.1640,  34.8360,2,  34.8382,2,-999.0000,5,   119.1,2,   26.10,2,   20.21,2,    1.40,2
 09FA9503_1,      IR6_3,      40,          1,         18,         18,2,19950411,       0016,   -15.3123,   107.5512,         10,   297.8,  11.5110,  34.8040,2,  34.8127,2,-999.0000,5,   123.0,2,   29.74,2,   22.96,2,    1.57,2
 09FA9503_1,      IR6_3,      40,          1,         17,         35,2,19950411,       0016,   -15.3123,   107.5512,         10,   397.0,   9.6510,  34.7360,2,  34.7369,2,-999.0000,5,   141.9,2,   28.49,2,   24.83,2,    1.67,2
 09FA9503_1,      IR6_3,      40,          1,         16,          6,2,19950411,       0016,   -15.3123,   107.5512,         10,   497.0,   8.3070,  34.6660,2,  34.6685,2,-999.0000,5,   122.7,2,   40.50,2,   30.07,2,    2.07,2
 09FA9503_1,      IR6_3,      40,          1,         15,         21,2,19950411,       0016,   -15.3123,   107.5512,         10,   666.6,   6.9230,  34.6500,2,  34.6517,2,-999.0000,5,    90.3,2,   67.06,2,   34.10,2,    2.43,2
 09FA9503_1,      IR6_3,      40,          1,         14,         14,2,19950411,       0016,   -15.3123,   107.5512,         10,   796.3,   6.2310,  34.6430,2,  34.6447,2,-999.0000,5,    88.0,2,   80.80,2,   35.44,2,    2.58,2
 09FA9503_1,      IR6_3,      40,          1,         13,         70,2,19950411,       0016,   -15.3123,   107.5512,         10,   895.7,   5.5950,  34.6400,2,  34.6404,2,-999.0000,5,    90.8,2,   88.27,2,   35.65,2,    2.56,2
 09FA9503_1,      IR6_3,      40,          1,         12,         12,2,19950411,       0016,   -15.3123,   107.5512,         10,   988.4,   5.1250,  34.6290,2,  34.6326,2,-999.0000,5,    95.6,2,   98.71,2,   36.10,2,    2.63,2
 09FA9503_1,      IR6_3,      40,          1,         11,         11,2,19950411,       0016,   -15.3123,   107.5512,         10,  1255.1,   4.2730,  34.6380,2,  34.6397,2,-999.0000,5,   104.2,2,  109.12,2,   36.20,2,    2.64,2
 09FA9503_1,      IR6_3,      40,          1,         10,         10,2,19950411,       0016,   -15.3123,   107.5512,         10,  1495.6,   3.5970,  34.6710,2,  34.6735,2,-999.0000,5,   119.1,2, -999.00,9, -999.00,9, -999.00,9
 09FA9503_1,      IR6_3,      40,          1,          9,         29,2,19950411,       0016,   -15.3123,   107.5512,         10,  1996.0,   2.5100,  34.7250,2,  34.7250,2,-999.0000,5,   146.6,2,  118.22,2,   34.87,2,    2.47,2
 09FA9503_1,      IR6_3,      40,          1,          8,         17,2,19950411,       0016,   -15.3123,   107.5512,         10,  2496.1,   2.0140,  34.7310,2,  34.7325,2,-999.0000,5,   161.4,2,  126.73,2,   34.48,2,    2.44,2
 09FA9503_1,      IR6_3,      40,          1,          7,          7,2,19950411,       0016,   -15.3123,   107.5512,         10,  2997.5,   1.6110,  34.7260,2,  34.7266,2,-999.0000,5,   178.7,2,  120.04,3,   32.65,3,    2.22,3
 09FA9503_1,      IR6_3,      40,          1,          6,         41,2,19950411,       0016,   -15.3123,   107.5512,         10,  3498.8,   1.3580,  34.7200,2,  34.7214,2,-999.0000,5,   186.8,2,  130.90,2,   33.64,2,    2.33,2
 09FA9503_1,      IR6_3,      40,          1,          5,          5,2,19950411,       0016,   -15.3123,   107.5512,         10,  3999.1,   1.2360,  34.7180,2,  34.7199,2,-999.0000,5,   194.2,2,  127.07,3,   32.72,3,    2.21,3
 09FA9503_1,      IR6_3,      40,          1,          4,          4,2,19950411,       0016,   -15.3123,   107.5512,         10,  4499.2,   1.1900,  34.7160,2,  34.7167,2,-999.0000,5,   200.5,2,  130.62,2,   33.32,2,    2.28,2
 09FA9503_1,      IR6_3,      40,          1,          3,          3,2,19950411,       0016,   -15.3123,   107.5512,         10,  4998.2,   1.1760,  34.7140,2,  34.7163,2,-999.0000,5,   204.2,2,  120.29,3,   31.63,3,    2.12,3
 09FA9503_1,      IR6_3,      40,          1,          2,          2,2,19950411,       0016,   -15.3123,   107.5512,         10,  5499.4,   1.2090,  34.7130,2,  34.7140,2,-999.0000,5,   206.3,2,  119.83,3,   31.53,3,    2.12,3
 09FA9503_1,      IR6_3,      40,          1,          1,          1,2,19950411,       0016,   -15.3123,   107.5512,         10,  5978.9,   1.2540,  34.7130,2,  34.7128,2,-999.0000,5,   204.7,2,  128.74,2,   33.22,2,    2.27,2
 09FA9503_1,      IR6_3,      41,          1,         24,         24,2,19950411,       0708,   -14.8427,   107.3983,         10,     2.1,  29.4410,  34.8910,2,  34.8918,2,-999.0000,5,   209.0,2,    3.56,2,    0.07,2,    0.12,2
 09FA9503_1,      IR6_3,      41,          1,         23,         23,2,19950411,       0708,   -14.8427,   107.3983,         10,    49.3,  27.5170,  34.7490,2,  34.7565,2,-999.0000,5,   218.2,2,    4.22,2,    0.16,2,    0.15,2
 09FA9503_1,      IR6_3,      41,          1,         22,         22,2,19950411,       0708,   -14.8427,   107.3983,         10,    98.7,  21.5490,  34.7900,2,  34.7935,2,-999.0000,5,   136.5,2,   13.23,2,   10.60,2,    0.82,2
 09FA9503_1,      IR6_3,      41,          1,         21,         45,2,19950411,       0708,   -14.8427,   107.3983,         10,   147.7,  18.0850,  34.8040,2,  34.8002,2,-999.0000,5,   111.5,2,   20.92,2,   16.49,2,    1.21,2
 09FA9503_1,      IR6_3,      41,          1,         20,         20,2,19950411,       0708,   -14.8427,   107.3983,         10,   196.5,  15.5290,  34.9630,2,  34.9624,2,-999.0000,5,   126.0,2,   24.62,2,   17.54,2,    1.33,2
 09FA9503_1,      IR6_3,      41,          1,         19,         19,2,19950411,       0708,   -14.8427,   107.3983,         10,   296.2,  11.7840,  34.8830,2,  34.8821,2,-999.0000,5,   135.6,2,   27.67,2,   20.43,2,    1.51,2
 09FA9503_1,      IR6_3,      41,          1,         17,         35,2,19950411,       0708,   -14.8427,   107.3983,         10,   494.9,   8.3060,  34.6650,2,  34.6678,2,-999.0000,5,   121.5,2,   43.99,2,   30.31,2,    2.19,2
 09FA9503_1,      IR6_3,      41,          1,         16,          6,2,19950411,       0708,   -14.8427,   107.3983,         10,   595.9,   7.5270,  34.6560,2,  34.6561,2,-999.0000,5,    93.6,2,   62.87,2,   34.01,2,    2.46,2
 09FA9503_1,      IR6_3,      41,          1,         14,         14,2,19950411,       0708,   -14.8427,   107.3983,         10,   795.1,   6.2350,  34.6230,2,  34.6246,2,-999.0000,5,    88.2,2,   87.85,2,   35.91,2,    2.65,2
 09FA9503_1,      IR6_3,      41,          1,         13,         70,2,19950411,       0708,   -14.8427,   107.3983,         10,   895.9,   5.7420,  34.6280,2,  34.6278,2,-999.0000,5,    89.1,2,   90.39,2,   35.81,2,    2.60,2
 09FA9503_1,      IR6_3,      41,          1,         12,         12,2,19950411,       0708,   -14.8427,   107.3983,         10,   996.3,   5.2590,  34.6310,2,  34.6303,2,-999.0000,5,    92.0,2,   96.70,2,   36.18,2,    2.66,2
 09FA9503_1,      IR6_3,      41,          1,         11,         11,2,19950411,       0708,   -14.8427,   107.3983,         10,  1244.4,   4.3930,  34.6350,2,  34.6354,2,-999.0000,5,   101.2,2,  109.88,2,   36.65,2,    2.66,2
 09FA9503_1,      IR6_3,      41,          1,         10,         10,2,19950411,       0708,   -14.8427,   107.3983,         10,  1495.8,   3.6240,  34.6770,2,  34.6802,2,-999.0000,5,   114.1,2,  112.96,2,   35.59,2,    2.58,2
 09FA9503_1,      IR6_3,      41,          1,          9,         29,2,19950411,       0708,   -14.8427,   107.3983,         10,  1994.8,   2.5030,  34.7280,2,  34.7274,2,-999.0000,5,   142.8,2,  121.10,2,   34.97,2,    2.49,2
 09FA9503_1,      IR6_3,      41,          1,          8,         17,2,19950411,       0708,   -14.8427,   107.3983,         10,  2496.5,   2.0000,  34.7300,2,  34.7305,2,-999.0000,5,   160.5,2,  128.14,2,   34.53,2,    2.43,2
 09FA9503_1,      IR6_3,      41,          1,          7,          7,2,19950411,       0708,   -14.8427,   107.3983,         10,  2997.9,   1.6020,  34.7260,2,  34.7250,2,-999.0000,5,   176.8,2,  127.59,2,   33.77,2,    2.34,2
 09FA9503_1,      IR6_3,      41,          1,          6,         41,2,19950411,       0708,   -14.8427,   107.3983,         10,  3498.1,   1.3540,  34.7200,2,  34.7199,2,-999.0000,5,   186.7,2,  129.66,2,   33.45,2,    2.32,2
 09FA9503_1,      IR6_3,      41,          1,          5,          5,2,19950411,       0708,   -14.8427,   107.3983,         10,  3999.9,   1.2320,  34.7170,2,  34.7148,2,-999.0000,5,   195.9,2,  127.42,2,   33.16,2,    2.28,2
 09FA9503_1,      IR6_3,      41,          1,          4,          4,2,19950411,       0708,   -14.8427,   107.3983,         10,  4499.4,   1.1940,  34.7160,2,  34.7148,2,-999.0000,5,   199.1,2,  127.51,2,   32.85,2,    2.26,2
 09FA9503_1,      IR6_3,      41,          1,          3,          3,2,19950411,       0708,   -14.8427,   107.3983,         10,  4998.9,   1.1820,  34.7140,2,  34.7140,2,-999.0000,5,   203.3,2,  129.16,2,   32.84,2,    2.25,2
 09FA9503_1,      IR6_3,      41,          1,          2,          2,2,19950411,       0708,   -14.8427,   107.3983,         10,  5499.6,   1.2030,  34.7120,2,  34.7132,2,-999.0000,5,   206.4,2,  128.33,2,   32.67,2,    2.23,2
 09FA9503_1,      IR6_3,      41,          1,          1,          1,2,19950411,       0708,   -14.8427,   107.3983,         10,  5799.7,   1.2310,  34.7120,2,  34.7132,2,-999.0000,5,   206.2,2,  131.55,2,   33.27,2,    2.26,2
 09FA9503_1,      IR6_3,      42,          1,         24,         24,2,19950411,       1402,   -14.3777,   107.2443,         10,     4.2,  29.2650,  34.8910,2,  34.9024,2,-999.0000,5,   199.1,2,    3.38,2,    0.17,2,    0.13,2
 09FA9503_1,      IR6_3,      42,          1,         23,         23,2,19950411,       1402,   -14.3777,   107.2443,         10,    49.1,  26.7720,  34.7180,2,  34.7251,2,-999.0000,5,   214.9,2,    3.64,2,    0.17,2,    0.21,2
 09FA9503_1,      IR6_3,      42,          1,         22,         22,2,19950411,       1402,   -14.3777,   107.2443,         10,    99.7,  21.8100,  34.7800,2,  34.7865,2,-999.0000,5,   138.9,2,   12.42,2,   10.48,2,    0.81,2
 09FA9503_1,      IR6_3,      42,          1,         21,         45,2,19950411,       1402,   -14.3777,   107.2443,         10,   148.5,  17.9540,  34.7890,2,  34.7884,2,-999.0000,5,   110.6,2,   21.02,2,   17.18,2,    1.25,2
 09FA9503_1,      IR6_3,      42,          1,         20,         20,2,19950411,       1402,   -14.3777,   107.2443,         10,   198.8,  14.5140,  34.8440,2,  34.8455,2,-999.0000,5,   119.9,2,   27.39,2,   19.72,2,    1.42,2
 09FA9503_1,      IR6_3,      42,          1,         19,         19,2,19950411,       1402,   -14.3777,   107.2443,         10,   297.9,  12.0220,  34.8180,2,  34.8251,2,-999.0000,5,   123.7,2,   31.89,2,   22.66,2,    1.64,2
 09FA9503_1,      IR6_3,      42,          1,         18,         18,2,19950411,       1402,   -14.3777,   107.2443,         10,   437.4,   9.2610,  34.7080,2,  34.7087,2,-999.0000,5,   140.7,2,   31.20,2,   25.71,2,    1.80,2
 09FA9503_1,      IR6_3,      42,          1,         17,         35,2,19950411,       1402,   -14.3777,   107.2443,         10,   496.9,   8.4190,  34.6710,2,  34.6714,2,-999.0000,5,   119.5,2,   41.70,2,   29.93,2,    2.09,2
 09FA9503_1,      IR6_3,      42,          1,         16,          6,2,19950411,       1402,   -14.3777,   107.2443,         10,   597.0,   7.5200,  34.6600,2,  34.6624,2,-999.0000,5,    94.1,2,   58.83,2,   33.29,2,    2.35,2
 09FA9503_1,      IR6_3,      42,          1,         15,         21,2,19950411,       1402,   -14.3777,   107.2443,         10,   697.3,   6.7930,  34.6430,2,  34.6444,2,-999.0000,5,    89.2,2,   72.97,2,   35.07,2,    2.51,2
 09FA9503_1,      IR6_3,      42,          1,         14,         14,2,19950411,       1402,   -14.3777,   107.2443,         10,   796.3,   6.1190,  34.6210,2,  34.6216,2,-999.0000,5,    88.2,2,   85.06,2,   35.34,2,    2.54,2
 09FA9503_1,      IR6_3,      42,          1,         13,         70,2,19950411,       1402,   -14.3777,   107.2443,         10,   897.0,   5.5720,  34.6150,2,  34.6153,2,-999.0000,5,    90.8,2,   89.00,3,   34.86,3,    2.44,3
 09FA9503_1,      IR6_3,      42,          1,         12,         12,2,19950411,       1402,   -14.3777,   107.2443,         10,   995.0,   5.1590,  34.6180,2,  34.6166,2,-999.0000,5,    93.7,2,   98.80,2,   36.03,2,    2.60,2
 09FA9503_1,      IR6_3,      42,          1,         11,         11,2,19950411,       1402,   -14.3777,   107.2443,         10,  1244.7,   4.2890,  34.6350,2,  34.6347,2,-999.0000,5,   102.5,2,  109.13,2,   36.22,2,    2.62,2
 09FA9503_1,      IR6_3,      42,          1,         10,         10,2,19950411,       1402,   -14.3777,   107.2443,         10,  1494.3,   3.6480,  34.6720,2,  34.6732,2,-999.0000,5,   114.5,2,  112.97,2,   35.98,2,    2.60,2
 09FA9503_1,      IR6_3,      42,          1,          9,         29,2,19950411,       1402,   -14.3777,   107.2443,         10,  1994.8,   2.5440,  34.7280,2,  34.7275,2,-999.0000,5,   141.9,2,  119.99,2,   35.13,2,    2.50,2
 09FA9503_1,      IR6_3,      42,          1,          8,         17,2,19950411,       1402,   -14.3777,   107.2443,         10,  2496.1,   1.9480,  34.7310,2,  34.7315,2,-999.0000,5,   162.2,2,  125.16,2,   34.30,2,    2.41,2
 09FA9503_1,      IR6_3,      42,          1,          7,          7,2,19950411,       1402,   -14.3777,   107.2443,         10,  2997.2,   1.5860,  34.7270,2,  34.7244,2,-999.0000,5,   177.0,2,  127.23,2,   33.82,2,    2.36,2
 09FA9503_1,      IR6_3,      42,          1,          6,         41,2,19950411,       1402,   -14.3777,   107.2443,         10,  3498.9,   1.3390,  34.7210,2,  34.7189,2,-999.0000,5,   187.4,2,  130.27,2,   33.58,2,    2.32,2
 09FA9503_1,      IR6_3,      42,          1,          5,          5,2,19950411,       1402,   -14.3777,   107.2443,         10,  3998.6,   1.2270,  34.7180,2,  34.7162,2,-999.0000,5,   195.5,2,  130.17,2,   33.43,2,    2.29,2
 09FA9503_1,      IR6_3,      42,          1,          4,          4,2,19950411,       1402,   -14.3777,   107.2443,         10,  4499.3,   1.1700,  34.7150,2,  34.7154,2,-999.0000,5,   200.5,2,  128.42,2,   33.07,2,    2.27,2
 09FA9503_1,      IR6_3,      42,          1,          3,          3,2,19950411,       1402,   -14.3777,   107.2443,         10,  4998.4,   1.1600,  34.7140,2,  34.7139,2,-999.0000,5,   204.6,2,  126.97,2,   32.89,2,    2.25,2
 09FA9503_1,      IR6_3,      42,          1,          1,          1,2,19950411,       1402,   -14.3777,   107.2443,         10,  5699.3,   1.2200,  34.7150,2,  34.7132,2,-999.0000,5,   195.9,2,  125.31,2,   32.98,2,    2.28,2