BOTTLE,20211029CCHSIORKP
EXPOCODE,SECT_ID,STNNBR,CASTNO,SAMPNO,BTLNBR,BTLNBR_FLAG_W,DATE,TIME,LATITUDE,LONGITUDE,DEPTH,CTDPRS,CTDTMP,CTDSAL,CTDSAL_FLAG_W,SALNTY,SALNTY_FLAG_W,CTDOXY,CTDOXY_FLAG_W,OXYGEN,OXYGEN_FLAG_W,SILCAT,SILCAT_FLAG_W,NITRAT,NITRAT_FLAG_W,PHSPHT,PHSPHT_FLAG_W
,,,,,,,,,,,METERS,DBAR,ITS-90,PSS-78,,PSS-78,,UMOL/KG,,UMOL/KG,,UMOL/KG,,UMOL/KG,,UMOL/KG,
 09FA9503_1,      IR6_3,      55,          1,         21,         24,2,19950419,       0250,   -24.3705,   110.5850,         10,     3.1,  25.4790,  35.5440,2,  35.5440,2,-999.0000,5,   213.0,2, -999.00,9, -999.00,9, -999.00,9
 09FA9503_1,      IR6_3,      55,          1,         20,         20,2,19950419,       0250,   -24.3705,   110.5850,         10,    48.9,  25.4430,  35.5440,2,  35.5409,2,-999.0000,5,   213.9,2, -999.00,9, -999.00,9, -999.00,9
 09FA9503_1,      IR6_3,      55,          1,         19,         19,2,19950419,       0250,   -24.3705,   110.5850,         10,    97.7,  21.4900,  35.5130,2,  35.5160,2,-999.0000,5,   196.9,2, -999.00,9, -999.00,9, -999.00,9
 09FA9503_1,      IR6_3,      55,          1,         18,         18,2,19950419,       0250,   -24.3705,   110.5850,         10,   147.3,  19.5280,  35.8340,2,  35.8315,2,-999.0000,5,   208.7,2, -999.00,9, -999.00,9, -999.00,9
 09FA9503_1,      IR6_3,      55,          1,         17,         35,2,19950419,       0250,   -24.3705,   110.5850,         10,   196.9,  18.1520,  35.8860,2,  35.8796,2,-999.0000,5,   216.3,2, -999.00,9, -999.00,9, -999.00,9
 09FA9503_1,      IR6_3,      55,          1,         16,          6,2,19950419,       0250,   -24.3705,   110.5850,         10,   295.7,  14.4450,  35.5160,2,  35.8804,2,-999.0000,5,   234.0,2, -999.00,9, -999.00,9, -999.00,9
 09FA9503_1,      IR6_3,      55,          1,         15,         21,2,19950419,       0250,   -24.3705,   110.5850,         10,   399.1,  11.4140,  35.0280,2,  35.0292,2,-999.0000,5,   244.5,2, -999.00,9, -999.00,9, -999.00,9
 09FA9503_1,      IR6_3,      55,          1,         14,         14,2,19950419,       0250,   -24.3705,   110.5850,         10,   498.3,   9.7680,  34.7580,2,  34.7595,2,-999.0000,5,  -999.0,9, -999.00,9, -999.00,9, -999.00,9
 09FA9503_1,      IR6_3,      55,          1,         13,         70,2,19950419,       0250,   -24.3705,   110.5850,         10,   565.3,   9.1810,  34.6710,2,  34.6699,2,-999.0000,5,   241.0,2, -999.00,9, -999.00,9, -999.00,9
 09FA9503_1,      IR6_3,      55,          1,         12,         12,2,19950419,       0250,   -24.3705,   110.5850,         10,   694.8,   7.0800,  34.5050,2,  34.5085,2,-999.0000,5,   197.7,2, -999.00,9, -999.00,9, -999.00,9
 09FA9503_1,      IR6_3,      55,          1,         11,         11,2,19950419,       0250,   -24.3705,   110.5850,         10,   796.4,   6.0790,  34.5260,2,  34.5234,2,-999.0000,5,   152.1,2, -999.00,9, -999.00,9, -999.00,9
 09FA9503_1,      IR6_3,      55,          1,         10,         10,2,19950419,       0250,   -24.3705,   110.5850,         10,   895.9,   5.6800,  34.5800,2,  34.5759,2,-999.0000,5,   118.4,2, -999.00,9, -999.00,9, -999.00,9
 09FA9503_1,      IR6_3,      55,          1,          9,         29,2,19950419,       0250,   -24.3705,   110.5850,         10,   995.6,   5.2620,  34.5950,2,  34.5962,2,-999.0000,5,   112.4,2, -999.00,9, -999.00,9, -999.00,9
 09FA9503_1,      IR6_3,      55,          1,          8,         17,2,19950419,       0250,   -24.3705,   110.5850,         10,  1194.0,   4.6020,  34.6220,2,  34.6221,2,-999.0000,5,   110.2,2, -999.00,9, -999.00,9, -999.00,9
 09FA9503_1,      IR6_3,      55,          1,          7,          7,2,19950419,       0250,   -24.3705,   110.5850,         10,  1392.6,   3.9630,  34.6340,2,  34.6331,2,-999.0000,5,  -999.0,9, -999.00,9, -999.00,9, -999.00,9
 09FA9503_1,      IR6_3,      55,          1,          6,         41,2,19950419,       0250,   -24.3705,   110.5850,         10,  1597.1,   3.3950,  34.6560,2,  34.6558,2,-999.0000,5,   132.5,2, -999.00,9, -999.00,9, -999.00,9
 09FA9503_1,      IR6_3,      55,          1,          5,          5,2,19950419,       0250,   -24.3705,   110.5850,         10,  1795.2,   2.8950,  34.6830,2,  34.6841,2,-999.0000,5,   143.2,2, -999.00,9, -999.00,9, -999.00,9
 09FA9503_1,      IR6_3,      55,          1,          4,          4,2,19950419,       0250,   -24.3705,   110.5850,         10,  1995.2,   2.5070,  34.7100,2,  34.7100,2,-999.0000,5,   152.5,2, -999.00,9, -999.00,9, -999.00,9
 09FA9503_1,      IR6_3,      55,          1,          3,          3,2,19950419,       0250,   -24.3705,   110.5850,         10,  2496.7,   2.0170,  34.7270,2,  34.7241,2,-999.0000,5,   165.0,2, -999.00,9, -999.00,9, -999.00,9
 09FA9503_1,      IR6_3,      55,          1,          1,          1,2,19950419,       0250,   -24.3705,   110.5850,         10,  3229.4,   1.4440,  34.7220,2,  34.7229,2,-999.0000,5,   188.1,2, -999.00,9, -999.00,9, -999.00,9
 09FA9503_1,      IR6_3,      56,          1,         19,         24,2,19950419,       0710,   -24.4150,   110.9357,         10,     3.8,  25.5440,  35.5810,2,  35.5831,2,-999.0000,5,   216.4,2, -999.00,9, -999.00,9, -999.00,9
 09FA9503_1,      IR6_3,      56,          1,         18,         19,2,19950419,       0710,   -24.4150,   110.9357,         10,    48.2,  25.4230,  35.5570,2,  35.5558,2,-999.0000,5,   216.2,2, -999.00,9, -999.00,9, -999.00,9
 09FA9503_1,      IR6_3,      56,          1,         17,         35,2,19950419,       0710,   -24.4150,   110.9357,         10,    98.3,  20.9500,  35.5260,2,  35.5104,2,-999.0000,5,   184.0,2, -999.00,9, -999.00,9, -999.00,9
 09FA9503_1,      IR6_3,      56,          1,         16,          6,2,19950419,       0710,   -24.4150,   110.9357,         10,   148.6,  19.5030,  35.7570,2,  35.7541,2,-999.0000,5,   201.1,2, -999.00,9, -999.00,9, -999.00,9
 09FA9503_1,      IR6_3,      56,          1,         15,         21,2,19950419,       0710,   -24.4150,   110.9357,         10,   197.6,  18.1580,  35.8660,2,  35.8638,2,-999.0000,5,   212.7,2, -999.00,9, -999.00,9, -999.00,9
 09FA9503_1,      IR6_3,      56,          1,         14,         14,2,19950419,       0710,   -24.4150,   110.9357,         10,   298.4,  14.4710,  35.5150,2,  35.5158,2,-999.0000,5,   233.3,2, -999.00,9, -999.00,9, -999.00,9
 09FA9503_1,      IR6_3,      56,          1,         13,         70,2,19950419,       0710,   -24.4150,   110.9357,         10,   398.4,  11.7610,  35.0880,2,  35.0870,2,-999.0000,5,   243.5,2, -999.00,9, -999.00,9, -999.00,9
 09FA9503_1,      IR6_3,      56,          1,         12,         12,2,19950419,       0710,   -24.4150,   110.9357,         10,   498.3,  10.1160,  34.8150,2,  34.8137,2,-999.0000,5,   245.8,2, -999.00,9, -999.00,9, -999.00,9
 09FA9503_1,      IR6_3,      56,          1,         11,         11,2,19950419,       0710,   -24.4150,   110.9357,         10,   597.2,   9.0770,  34.6580,2,  34.6617,2,-999.0000,5,   237.9,2, -999.00,9, -999.00,9, -999.00,9
 09FA9503_1,      IR6_3,      56,          1,         10,         10,2,19950419,       0710,   -24.4150,   110.9357,         10,   696.1,   7.8000,  34.5410,2,  34.5435,2,-999.0000,5,   213.0,2, -999.00,9, -999.00,9, -999.00,9
 09FA9503_1,      IR6_3,      56,          1,          9,         29,2,19950419,       0710,   -24.4150,   110.9357,         10,   795.3,   6.3110,  34.5200,2,  34.5199,2,-999.0000,5,   161.9,2, -999.00,9, -999.00,9, -999.00,9
 09FA9503_1,      IR6_3,      56,          1,          8,         17,2,19950419,       0710,   -24.4150,   110.9357,         10,   895.6,   5.6840,  34.5640,2,  34.5638,2,-999.0000,5,   125.4,2, -999.00,9, -999.00,9, -999.00,9
 09FA9503_1,      IR6_3,      56,          1,          7,          7,2,19950419,       0710,   -24.4150,   110.9357,         10,   997.1,   5.2300,  34.6040,2,  34.6038,2,-999.0000,5,   108.0,2, -999.00,9, -999.00,9, -999.00,9
 09FA9503_1,      IR6_3,      56,          1,          6,         41,2,19950419,       0710,   -24.4150,   110.9357,         10,  1196.8,   4.6090,  34.6260,2,  34.6265,2,-999.0000,5,   105.7,2, -999.00,9, -999.00,9, -999.00,9
 09FA9503_1,      IR6_3,      56,          1,          5,          5,2,19950419,       0710,   -24.4150,   110.9357,         10,  1395.0,   3.8850,  34.6370,2,  34.6371,2,-999.0000,5,   119.9,2, -999.00,9, -999.00,9, -999.00,9
 09FA9503_1,      IR6_3,      56,          1,          4,          4,2,19950419,       0710,   -24.4150,   110.9357,         10,  1594.3,   3.2330,  34.6540,2,  34.6536,2,-999.0000,5,   138.2,2, -999.00,9, -999.00,9, -999.00,9
 09FA9503_1,      IR6_3,      56,          1,          3,          3,2,19950419,       0710,   -24.4150,   110.9357,         10,  1794.9,   2.8370,  34.6850,2,  34.6843,2,-999.0000,5,   146.4,2, -999.00,9, -999.00,9, -999.00,9
 09FA9503_1,      IR6_3,      56,          1,          2,          2,2,19950419,       0710,   -24.4150,   110.9357,         10,  1896.4,   2.6430,  34.6990,2,  34.6992,2,-999.0000,5,   149.2,2, -999.00,9, -999.00,9, -999.00,9
 09FA9503_1,      IR6_3,      56,          1,          1,          1,2,19950419,       0710,   -24.4150,   110.9357,         10,  2000.6,   2.4200,  34.7140,2,  34.7180,2,-999.0000,5,   153.8,2, -999.00,9, -999.00,9, -999.00,9
 09FA9503_1,      IR6_3,      57,          1,         16,         24,2,19950419,       1042,   -24.4928,   111.2822,         10,     3.2,  25.4490,  35.5820,2,  35.5915,2,-999.0000,5,   214.4,2, -999.00,9, -999.00,9, -999.00,9
 09FA9503_1,      IR6_3,      57,          1,         15,         21,2,19950419,       1042,   -24.4928,   111.2822,         10,    47.7,  25.4110,  35.5840,2,  35.5927,2,-999.0000,5,   213.5,2, -999.00,9, -999.00,9, -999.00,9
 09FA9503_1,      IR6_3,      57,          1,         14,         19,2,19950419,       1042,   -24.4928,   111.2822,         10,    99.7,  20.7710,  35.3640,2,  35.3708,2,-999.0000,5,   170.2,2, -999.00,9, -999.00,9, -999.00,9
 09FA9503_1,      IR6_3,      57,          1,         13,         70,2,19950419,       1042,   -24.4928,   111.2822,         10,   149.8,  19.6370,  35.8370,2,  35.8279,2,-999.0000,5,   207.5,2, -999.00,9, -999.00,9, -999.00,9
 09FA9503_1,      IR6_3,      57,          1,         12,         14,2,19950419,       1042,   -24.4928,   111.2822,         10,   199.0,  18.6090,  35.8820,2,  35.8824,2,-999.0000,5,   212.2,2, -999.00,9, -999.00,9, -999.00,9
 09FA9503_1,      IR6_3,      57,          1,         11,         10,2,19950419,       1042,   -24.4928,   111.2822,         10,   298.4,  14.3040,  35.4870,2,  35.4996,2,-999.0000,5,   229.4,2, -999.00,9, -999.00,9, -999.00,9
 09FA9503_1,      IR6_3,      57,          1,         10,         45,2,19950419,       1042,   -24.4928,   111.2822,         10,   395.8,  11.5390,  35.0470,2,  35.0495,2,-999.0000,5,   242.7,2, -999.00,9, -999.00,9, -999.00,9
 09FA9503_1,      IR6_3,      57,          1,          9,         29,2,19950419,       1042,   -24.4928,   111.2822,         10,   498.0,   9.9900,  34.7930,2,  34.7924,2,-999.0000,5,   247.7,2, -999.00,9, -999.00,9, -999.00,9
 09FA9503_1,      IR6_3,      57,          1,          8,         17,2,19950419,       1042,   -24.4928,   111.2822,         10,   595.5,   8.9210,  34.6410,2,  34.6420,2,-999.0000,5,   235.3,2, -999.00,9, -999.00,9, -999.00,9
 09FA9503_1,      IR6_3,      57,          1,          7,          7,2,19950419,       1042,   -24.4928,   111.2822,         10,   695.8,   7.1570,  34.5110,2,  34.5128,2,-999.0000,5,   197.8,2, -999.00,9, -999.00,9, -999.00,9
 09FA9503_1,      IR6_3,      57,          1,          6,         41,2,19950419,       1042,   -24.4928,   111.2822,         10,   796.6,   5.9700,  34.5180,2,  34.5195,2,-999.0000,5,   152.8,2, -999.00,9, -999.00,9, -999.00,9
 09FA9503_1,      IR6_3,      57,          1,          5,         24,2,19950419,       1042,   -24.4928,   111.2822,         10,   896.1,   5.2350,  34.5210,2,  34.5202,2,-999.0000,5,   142.5,2, -999.00,9, -999.00,9, -999.00,9
 09FA9503_1,      IR6_3,      57,          1,          4,          5,2,19950419,       1042,   -24.4928,   111.2822,         10,   995.6,   4.8540,  34.5530,2,  34.5559,2,-999.0000,5,   129.3,2, -999.00,9, -999.00,9, -999.00,9
 09FA9503_1,      IR6_3,      57,          1,          3,         18,2,19950419,       1042,   -24.4928,   111.2822,         10,  1095.4,   4.6760,  34.5960,2,  34.5991,2,-999.0000,5,   117.2,2, -999.00,9, -999.00,9, -999.00,9
 09FA9503_1,      IR6_3,      57,          1,          2,          2,2,19950419,       1042,   -24.4928,   111.2822,         10,  1291.1,   4.1140,  34.6190,2,  34.6188,2,-999.0000,5,   120.0,2, -999.00,9, -999.00,9, -999.00,9
 09FA9503_1,      IR6_3,      57,          1,          1,          1,2,19950419,       1042,   -24.4928,   111.2822,         10,  1363.5,   3.7780,  34.6290,2,  34.6306,2,-999.0000,5,   125.8,2, -999.00,9, -999.00,9, -999.00,9
 09FA9503_1,      IR6_3,      58,          1,         13,         24,2,19950419,       1405,   -24.5680,   111.6538,         10,     3.3,  26.1390,  35.5000,2,  35.5033,2,-999.0000,5,   211.7,2, -999.00,9, -999.00,9, -999.00,9
 09FA9503_1,      IR6_3,      58,          1,         12,         14,2,19950419,       1405,   -24.5680,   111.6538,         10,     3.3,  26.1390,  35.5000,2,  35.5021,2,-999.0000,5,   211.0,2, -999.00,9, -999.00,9, -999.00,9
 09FA9503_1,      IR6_3,      58,          1,         11,         10,2,19950419,       1405,   -24.5680,   111.6538,         10,    47.3,  25.5930,  35.6180,2,  35.6184,2,-999.0000,5,   213.8,2, -999.00,9, -999.00,9, -999.00,9
 09FA9503_1,      IR6_3,      58,          1,         10,         45,2,19950419,       1405,   -24.5680,   111.6538,         10,    99.3,  20.7280,  35.5300,2,  35.5313,2,-999.0000,5,   187.7,2, -999.00,9, -999.00,9, -999.00,9
 09FA9503_1,      IR6_3,      58,          1,          8,         17,2,19950419,       1405,   -24.5680,   111.6538,         10,   199.1,  17.5060,  35.8460,2,  35.8430,2,-999.0000,5,   216.3,2, -999.00,9, -999.00,9, -999.00,9
 09FA9503_1,      IR6_3,      58,          1,          7,          7,2,19950419,       1405,   -24.5680,   111.6538,         10,   298.7,  13.9520,  35.4450,2,  35.4449,2,-999.0000,5,   238.0,2, -999.00,9, -999.00,9, -999.00,9
 09FA9503_1,      IR6_3,      58,          1,          6,         41,2,19950419,       1405,   -24.5680,   111.6538,         10,   396.6,  11.6070,  35.0610,2,  35.0629,2,-999.0000,5,   245.1,2, -999.00,9, -999.00,9, -999.00,9
 09FA9503_1,      IR6_3,      58,          1,          5,         24,2,19950419,       1405,   -24.5680,   111.6538,         10,   496.8,   9.8440,  34.7700,2,  34.7692,2,-999.0000,5,   248.1,2, -999.00,9, -999.00,9, -999.00,9
 09FA9503_1,      IR6_3,      58,          1,          4,          5,2,19950419,       1405,   -24.5680,   111.6538,         10,   597.1,   8.8040,  34.6220,2,  34.6262,2,-999.0000,5,   235.1,2, -999.00,9, -999.00,9, -999.00,9
 09FA9503_1,      IR6_3,      58,          1,          3,         18,2,19950419,       1405,   -24.5680,   111.6538,         10,   697.2,   7.2930,  34.5080,2,  34.5088,2,-999.0000,5,   204.8,2, -999.00,9, -999.00,9, -999.00,9
 09FA9503_1,      IR6_3,      58,          1,          2,          2,2,19950419,       1405,   -24.5680,   111.6538,         10,   795.8,   5.7310,  34.4650,2,  34.4656,2,-999.0000,5,   177.4,2, -999.00,9, -999.00,9, -999.00,9
 09FA9503_1,      IR6_3,      58,          1,          1,          1,2,19950419,       1405,   -24.5680,   111.6538,         10,   995.8,   5.0590,  34.6070,2,  34.6081,2,-999.0000,5,   108.9,2, -999.00,9, -999.00,9, -999.00,9
 09FA9503_1,      IR6_3,      59,          1,         10,         24,2,19950419,       1723,   -24.6332,   112.0078,         10,     3.2,  26.5120,  35.3970,2,  35.3975,2,-999.0000,5,   207.3,2, -999.00,9, -999.00,9, -999.00,9
 09FA9503_1,      IR6_3,      59,          1,          9,         14,2,19950419,       1723,   -24.6332,   112.0078,         10,    49.6,  26.2470,  35.3680,2,  35.3696,2,-999.0000,5,   211.0,2, -999.00,9, -999.00,9, -999.00,9
 09FA9503_1,      IR6_3,      59,          1,          8,         17,2,19950419,       1723,   -24.6332,   112.0078,         10,    98.0,  22.1120,  35.6000,2,  35.5824,2,-999.0000,5,   218.0,2, -999.00,9, -999.00,9, -999.00,9
 09FA9503_1,      IR6_3,      59,          1,          7,          7,2,19950419,       1723,   -24.6332,   112.0078,         10,   146.9,  20.3700,  35.8740,2,  35.8701,2,-999.0000,5,   227.9,2, -999.00,9, -999.00,9, -999.00,9
 09FA9503_1,      IR6_3,      59,          1,          6,         41,2,19950419,       1723,   -24.6332,   112.0078,         10,   197.6,  18.7860,  35.9090,2,  35.9044,2,-999.0000,5,   218.9,2, -999.00,9, -999.00,9, -999.00,9
 09FA9503_1,      IR6_3,      59,          1,          5,         24,2,19950419,       1723,   -24.6332,   112.0078,         10,   297.2,  13.5110,  35.3750,2,  35.3889,2,-999.0000,5,   236.3,2, -999.00,9, -999.00,9, -999.00,9
 09FA9503_1,      IR6_3,      59,          1,          4,          5,2,19950419,       1723,   -24.6332,   112.0078,         10,   398.6,  10.8800,  34.9380,2,-999.0000,9,-999.0000,5,   244.9,2, -999.00,9, -999.00,9, -999.00,9
 09FA9503_1,      IR6_3,      59,          1,          3,         18,2,19950419,       1723,   -24.6332,   112.0078,         10,   498.4,   9.4940,  34.7150,2,  34.7107,2,-999.0000,5,   246.2,2, -999.00,9, -999.00,9, -999.00,9
 09FA9503_1,      IR6_3,      59,          1,          2,          2,2,19950419,       1723,   -24.6332,   112.0078,         10,   604.8,   7.2760,  34.5120,2,  34.5104,2,-999.0000,5,   206.8,2, -999.00,9, -999.00,9, -999.00,9
 09FA9503_1,      IR6_3,      59,          1,          1,          1,2,19950419,       1723,   -24.6332,   112.0078,         10,   684.6,   6.0880,  34.5140,2,  34.5136,2,-999.0000,5,   162.8,2, -999.00,9, -999.00,9, -999.00,9
 09FA9503_1,      IR6_3,      60,          1,          8,         24,2,19950419,       1935,   -24.6642,   112.1985,         10,     4.1,  26.7110,  35.4230,2,  35.4224,2,-999.0000,5,   211.0,2, -999.00,9, -999.00,9, -999.00,9
 09FA9503_1,      IR6_3,      60,          1,          7,          7,2,19950419,       1935,   -24.6642,   112.1985,         10,    47.4,  26.7250,  35.4230,2,  35.4224,2,-999.0000,5,   211.6,2, -999.00,9, -999.00,9, -999.00,9
 09FA9503_1,      IR6_3,      60,          1,          4,          5,2,19950419,       1935,   -24.6642,   112.1985,         10,   298.0,  15.4240,  35.6470,2,  35.6451,2,-999.0000,5,   233.2,2, -999.00,9, -999.00,9, -999.00,9
 09FA9503_1,      IR6_3,      60,          1,          3,         18,2,19950419,       1935,   -24.6642,   112.1985,         10,   395.0,  11.1670,  34.9790,2,  34.9712,2,-999.0000,5,   241.6,2, -999.00,9, -999.00,9, -999.00,9
 09FA9503_1,      IR6_3,      60,          1,          2,          2,2,19950419,       1935,   -24.6642,   112.1985,         10,   450.5,   8.5330,  34.6160,2,  34.6160,2,-999.0000,5,   227.1,2, -999.00,9, -999.00,9, -999.00,9
 09FA9503_1,      IR6_3,      60,          1,          1,          1,2,19950419,       1935,   -24.6642,   112.1985,         10,   467.4,   8.0980,  34.5780,2,  34.5811,2,-999.0000,5,   217.0,2, -999.00,9, -999.00,9, -999.00,9