BOTTLE,20211029CCHSIORKP
EXPOCODE,SECT_ID,STNNBR,CASTNO,SAMPNO,BTLNBR,BTLNBR_FLAG_W,DATE,TIME,LATITUDE,LONGITUDE,DEPTH,CTDPRS,CTDTMP,CTDSAL,CTDSAL_FLAG_W,SALNTY,SALNTY_FLAG_W,CTDOXY,CTDOXY_FLAG_W,OXYGEN,OXYGEN_FLAG_W,SILCAT,SILCAT_FLAG_W,NITRAT,NITRAT_FLAG_W,PHSPHT,PHSPHT_FLAG_W
,,,,,,,,,,,METERS,DBAR,ITS-90,PSS-78,,PSS-78,,UMOL/KG,,UMOL/KG,,UMOL/KG,,UMOL/KG,,UMOL/KG,
 09FA9503_1,      IR6_3,      30,          1,         24,         24,2,19950408,       0252,   -20.0868,   109.1068,         10,     2.3,  27.8550,  35.4170,2,  35.4228,2,-999.0000,5,   207.3,2,    4.38,2,    0.38,2,    0.09,2
 09FA9503_1,      IR6_3,      30,          1,         22,         22,2,19950408,       0252,   -20.0868,   109.1068,         10,    48.1,  26.2850,  35.4820,2,  35.4895,2,-999.0000,5,  -999.0,9,    4.16,2,    0.31,2,    0.06,2
 09FA9503_1,      IR6_3,      30,          1,         21,         21,2,19950408,       0252,   -20.0868,   109.1068,         10,   100.1,  21.6130,  35.3870,2,  35.3743,2,-999.0000,5,   183.8,2,    7.77,2,    2.99,2,    0.23,2
 09FA9503_1,      IR6_3,      30,          1,         20,         20,2,19950408,       0252,   -20.0868,   109.1068,         10,   197.9,  17.4010,  35.6780,2,  35.6746,2,-999.0000,5,   194.2,2,    7.35,2,    4.98,2,    0.32,2
 09FA9503_1,      IR6_3,      30,          1,         19,         19,2,19950408,       0252,   -20.0868,   109.1068,         10,   296.3,  12.5310,  35.0720,2,  35.0706,2,-999.0000,5,   172.5,2,   17.72,2,   14.12,2,    0.96,2
 09FA9503_1,      IR6_3,      30,          1,         18,         18,2,19950408,       0252,   -20.0868,   109.1068,         10,   398.2,  10.1650,  34.8320,2,  34.8330,2,-999.0000,5,   227.6,2,    6.82,2,   14.20,2,    0.91,2
 09FA9503_1,      IR6_3,      30,          1,         17,         17,2,19950408,       0252,   -20.0868,   109.1068,         10,   457.0,   8.6540,  34.6250,2,  34.6290,2,-999.0000,5,   224.3,2,    9.34,2,   17.08,2,    1.16,2
 09FA9503_1,      IR6_3,      30,          1,         16,         25,2,19950408,       0252,   -20.0868,   109.1068,         10,   597.9,   6.9990,  34.5960,2,  34.5968,2,-999.0000,5,   134.3,2,   42.96,2,   27.81,2,    2.02,2
 09FA9503_1,      IR6_3,      30,          1,         15,         15,2,19950408,       0252,   -20.0868,   109.1068,         10,   696.8,   6.2180,  34.6030,2,  34.6031,2,-999.0000,5,   113.7,2,   55.17,2,   31.87,2,    2.23,2
 09FA9503_1,      IR6_3,      30,          1,         14,         14,2,19950408,       0252,   -20.0868,   109.1068,         10,   795.3,   5.7640,  34.6130,2,  34.6138,2,-999.0000,5,   104.0,2,   63.25,2,   30.65,2,    2.27,2
 09FA9503_1,      IR6_3,      30,          1,         13,         16,2,19950408,       0252,   -20.0868,   109.1068,         10,   897.7,   5.4470,  34.6320,2,  34.6323,2,-999.0000,5,   106.1,2,   82.61,2,   37.12,2,    2.67,2
 09FA9503_1,      IR6_3,      30,          1,         12,         12,2,19950408,       0252,   -20.0868,   109.1068,         10,   995.9,   5.0380,  34.6360,2,  34.6401,2,-999.0000,5,   101.0,2,   91.55,2,   37.14,2,    2.66,2
 09FA9503_1,      IR6_3,      30,          1,         11,          6,2,19950408,       0252,   -20.0868,   109.1068,         10,  1247.3,   4.1910,  34.6420,2,  34.6428,2,-999.0000,5,   112.9,2,   98.96,2,   37.14,2,    2.67,2
 09FA9503_1,      IR6_3,      30,          1,         10,         10,2,19950408,       0252,   -20.0868,   109.1068,         10,  1495.9,   3.4610,  34.6630,2,  34.6660,2,-999.0000,5,   127.9,2,  106.42,2,   36.60,2,    2.63,2
 09FA9503_1,      IR6_3,      30,          1,          9,          9,2,19950408,       0252,   -20.0868,   109.1068,         10,  1744.9,   2.7970,  34.6990,2,  34.6998,2,-999.0000,5,   142.1,2,  113.38,2,   35.80,2,    2.57,2
 09FA9503_1,      IR6_3,      30,          1,          8,          8,2,19950408,       0252,   -20.0868,   109.1068,         10,  1996.7,   2.3820,  34.7210,2,  34.7233,2,-999.0000,5,   149.2,2,  120.25,2,   36.05,2,    2.55,2
 09FA9503_1,      IR6_3,      30,          1,          7,          7,2,19950408,       0252,   -20.0868,   109.1068,         10,  2247.5,   2.1300,  34.7270,2,  34.7272,2,-999.0000,5,   155.3,2,  127.18,2,   35.62,2,    2.51,2
 09FA9503_1,      IR6_3,      30,          1,          6,         11,2,19950408,       0252,   -20.0868,   109.1068,         10,  2498.1,   1.9620,  34.7280,2,  34.7283,2,-999.0000,5,   161.7,2,  123.92,2,   35.03,2,    2.48,2
 09FA9503_1,      IR6_3,      30,          1,          5,          5,2,19950408,       0252,   -20.0868,   109.1068,         10,  2748.6,   1.8270,  34.7270,2,  34.7275,2,-999.0000,5,   167.8,2,  131.43,2,   34.83,2,    2.45,2
 09FA9503_1,      IR6_3,      30,          1,          4,          4,2,19950408,       0252,   -20.0868,   109.1068,         10,  2998.6,   1.6770,  34.7260,2,  34.7267,2,-999.0000,5,   175.4,2,  125.56,2,   34.51,2,    2.43,2
 09FA9503_1,      IR6_3,      30,          1,          3,          3,2,19950408,       0252,   -20.0868,   109.1068,         10,  3495.6,   1.3630,  34.7200,2,  34.7224,2,-999.0000,5,   188.5,2,  130.46,2,   34.02,2,    2.39,2
 09FA9503_1,      IR6_3,      30,          1,          2,          2,2,19950408,       0252,   -20.0868,   109.1068,         10,  3998.0,   1.2100,  34.7160,2,-999.0000,9,-999.0000,5,  -999.0,9, -999.00,9, -999.00,9, -999.00,9
 09FA9503_1,      IR6_3,      30,          1,          1,          1,2,19950408,       0252,   -20.0868,   109.1068,         10,  4199.3,   1.1840,  34.7150,2,  34.7156,2,-999.0000,5,   195.1,2,  132.31,2,   33.38,2,    2.25,2
 09FA9503_1,      IR6_3,      31,          1,         24,         24,2,19950408,       0909,   -19.6218,   108.9447,         10,     4.1,  27.9360,  35.3730,2,  35.3781,2,-999.0000,5,   207.1,2,    4.29,2,    0.29,2,    0.09,2
 09FA9503_1,      IR6_3,      31,          1,         23,         23,2,19950408,       0909,   -19.6218,   108.9447,         10,    48.2,  26.2830,  35.4770,2,  35.5082,2,-999.0000,5,   229.3,2,    4.14,2,    0.44,2,    0.13,2
 09FA9503_1,      IR6_3,      31,          1,         22,         22,2,19950408,       0909,   -19.6218,   108.9447,         10,    99.0,  21.4050,  35.4450,2,  35.4452,2,-999.0000,5,   184.7,2,    7.27,2,    1.58,2,    0.21,2
 09FA9503_1,      IR6_3,      31,          1,         21,         21,2,19950408,       0909,   -19.6218,   108.9447,         10,   148.4,  18.6960,  35.5120,2,  35.5079,2,-999.0000,5,   170.8,2,   11.11,2,    7.68,2,    0.48,2
 09FA9503_1,      IR6_3,      31,          1,         20,         20,2,19950408,       0909,   -19.6218,   108.9447,         10,   198.8,  16.8560,  35.6340,2,  35.6314,2,-999.0000,5,   194.1,2,    7.21,2,    6.07,2,    0.43,2
 09FA9503_1,      IR6_3,      31,          1,         19,         19,2,19950408,       0909,   -19.6218,   108.9447,         10,   296.7,  13.1480,  35.3050,2,  35.3061,2,-999.0000,5,   230.1,2,    4.41,2,    7.32,2,    0.49,2
 09FA9503_1,      IR6_3,      31,          1,         18,         18,2,19950408,       0909,   -19.6218,   108.9447,         10,   456.0,   9.5950,  34.7380,2,  34.7387,2,-999.0000,5,   241.0,2,    5.65,2,   15.57,2,    0.99,2
 09FA9503_1,      IR6_3,      31,          1,         17,         17,2,19950408,       0909,   -19.6218,   108.9447,         10,   499.4,   8.9060,  34.6510,2,  34.6515,2,-999.0000,5,   229.2,2,    9.70,2,   18.73,2,    1.22,2
 09FA9503_1,      IR6_3,      31,          1,         16,         25,2,19950408,       0909,   -19.6218,   108.9447,         10,   595.9,   7.0100,  34.5510,2,  34.5522,2,-999.0000,5,   166.5,2,   35.04,2,   28.49,2,    1.95,2
 09FA9503_1,      IR6_3,      31,          1,         15,         15,2,19950408,       0909,   -19.6218,   108.9447,         10,   695.2,   6.2330,  34.6080,2,  34.6072,2,-999.0000,5,  -999.0,9,   93.56,2,   36.20,2,    2.62,2
 09FA9503_1,      IR6_3,      31,          1,         14,         14,2,19950408,       0909,   -19.6218,   108.9447,         10,   795.5,   5.7950,  34.6260,2,  34.6257,2,-999.0000,5,    98.7,2,   78.98,2,   35.65,2,    2.57,2
 09FA9503_1,      IR6_3,      31,          1,         13,         16,2,19950408,       0909,   -19.6218,   108.9447,         10,   894.8,   5.3220,  34.6330,2,  34.6320,2,-999.0000,5,    99.8,2,   91.79,2,   36.27,2,    2.63,2
 09FA9503_1,      IR6_3,      31,          1,         12,         12,2,19950408,       0909,   -19.6218,   108.9447,         10,   997.1,   4.9580,  34.6340,2,  34.6399,2,-999.0000,5,    99.8,2,   94.72,2,   36.34,2,    2.62,2
 09FA9503_1,      IR6_3,      31,          1,         11,          6,2,19950408,       0909,   -19.6218,   108.9447,         10,  1244.9,   4.0670,  34.6470,2,  34.6474,2,-999.0000,5,   114.0,2,  105.26,2,   36.37,2,    2.62,2
 09FA9503_1,      IR6_3,      31,          1,         10,         10,2,19950408,       0909,   -19.6218,   108.9447,         10,  1493.7,   3.4060,  34.6730,2,  34.6738,2,-999.0000,5,   126.5,2,  106.95,2,   35.96,2,    2.59,2
 09FA9503_1,      IR6_3,      31,          1,          9,          9,2,19950408,       0909,   -19.6218,   108.9447,         10,  1995.3,   2.4010,  34.7230,2,  34.7203,2,-999.0000,5,   148.4,2,  121.66,2,   35.00,2,    2.48,2
 09FA9503_1,      IR6_3,      31,          1,          8,          8,2,19950408,       0909,   -19.6218,   108.9447,         10,  2245.2,   2.1600,  34.7270,2,  34.7266,2,-999.0000,5,   153.0,2,  118.93,3,   32.37,3,    2.33,3
 09FA9503_1,      IR6_3,      31,          1,          7,          7,2,19950408,       0909,   -19.6218,   108.9447,         10,  2496.3,   1.9840,  34.7290,2,  34.7271,2,-999.0000,5,   160.4,2,  124.87,2,   34.47,2,    2.42,2
 09FA9503_1,      IR6_3,      31,          1,          6,         11,2,19950408,       0909,   -19.6218,   108.9447,         10,  2998.5,   1.6600,  34.7270,2,  34.7248,2,-999.0000,5,   175.4,2,  125.30,2,   33.81,2,    2.36,2
 09FA9503_1,      IR6_3,      31,          1,          5,          5,2,19950408,       0909,   -19.6218,   108.9447,         10,  3499.4,   1.3910,  34.7210,2,  34.7217,2,-999.0000,5,   183.5,2,  128.81,2,   33.41,2,    2.37,2
 09FA9503_1,      IR6_3,      31,          1,          4,          4,2,19950408,       0909,   -19.6218,   108.9447,         10,  3998.5,   1.2300,  34.7180,2,  34.7174,2,-999.0000,5,   194.4,2,  128.89,2,   33.30,2,    2.33,2
 09FA9503_1,      IR6_3,      31,          1,          3,          3,2,19950408,       0909,   -19.6218,   108.9447,         10,  4496.0,   1.1850,  34.7150,2,  34.7159,2,-999.0000,5,   198.0,2,  131.04,2,   33.12,2,    2.29,2
 09FA9503_1,      IR6_3,      31,          1,          1,          1,2,19950408,       0909,   -19.6218,   108.9447,         10,  5049.8,   1.1900,  34.7140,2,  34.7133,2,-999.0000,5,   201.6,2,  130.38,2,   32.83,2,    2.28,2
 09FA9503_1,      IR6_3,      32,          1,         24,         24,2,19950408,       1545,   -19.1492,   108.8040,         10,     5.0,  27.6080,  35.2480,2,  35.2507,2,-999.0000,5,   207.6,2,    3.28,2,    0.09,2,    0.16,2
 09FA9503_1,      IR6_3,      32,          1,         23,         23,2,19950408,       1545,   -19.1492,   108.8040,         10,    49.5,  25.9150,  35.5220,2,  35.5411,2,-999.0000,5,   222.2,2,    3.25,2,    0.07,2,    0.14,2
 09FA9503_1,      IR6_3,      32,          1,         22,         22,2,19950408,       1545,   -19.1492,   108.8040,         10,    98.0,  21.6600,  35.4440,2,  35.4460,2,-999.0000,5,   192.2,2,    4.62,2,    0.72,2,    0.33,2
 09FA9503_1,      IR6_3,      32,          1,         21,         21,2,19950408,       1545,   -19.1492,   108.8040,         10,   149.5,  19.1090,  35.4860,2,  35.4663,2,-999.0000,5,   165.6,2,    9.52,2,    7.60,2,    0.67,2
 09FA9503_1,      IR6_3,      32,          1,         20,         20,2,19950408,       1545,   -19.1492,   108.8040,         10,   198.0,  16.7530,  35.5610,2,  35.5601,2,-999.0000,5,   185.0,2,    8.11,2,    7.57,2,    0.69,2
 09FA9503_1,      IR6_3,      32,          1,         19,         19,2,19950408,       1545,   -19.1492,   108.8040,         10,   296.6,  13.6380,  35.3890,2,  35.3900,2,-999.0000,5,   230.8,2,    2.87,2,    6.15,2,    0.62,2
 09FA9503_1,      IR6_3,      32,          1,         18,         18,2,19950408,       1545,   -19.1492,   108.8040,         10,   448.4,   9.8790,  34.7820,2,  34.7836,2,-999.0000,5,   241.5,2,    4.62,2,   14.74,2,    1.11,2
 09FA9503_1,      IR6_3,      32,          1,         17,         17,2,19950408,       1545,   -19.1492,   108.8040,         10,   496.1,   8.9790,  34.6580,2,  34.6589,2,-999.0000,5,   231.0,2,    7.88,2,   18.68,2,    1.34,2
 09FA9503_1,      IR6_3,      32,          1,         16,         25,2,19950408,       1545,   -19.1492,   108.8040,         10,   597.0,   7.5670,  34.5750,2,  34.5751,2,-999.0000,5,   176.4,2,   26.89,2,   26.60,2,    1.85,2
 09FA9503_1,      IR6_3,      32,          1,         15,         15,2,19950408,       1545,   -19.1492,   108.8040,         10,   697.0,   6.5040,  34.5910,2,  34.5876,2,-999.0000,5,   126.6,2,   54.07,2,   32.92,2,    2.33,2
 09FA9503_1,      IR6_3,      32,          1,         14,         14,2,19950408,       1545,   -19.1492,   108.8040,         10,   794.5,   5.9390,  34.6270,2,  34.6236,2,-999.0000,5,   102.4,2,   72.67,2,   35.30,2,    2.54,2
 09FA9503_1,      IR6_3,      32,          1,         13,         16,2,19950408,       1545,   -19.1492,   108.8040,         10,   896.1,   5.5920,  34.6500,2,  34.6459,2,-999.0000,5,    94.6,2,   85.46,2,   36.43,2,    2.63,2
 09FA9503_1,      IR6_3,      32,          1,         12,         12,2,19950408,       1545,   -19.1492,   108.8040,         10,   996.2,   5.1520,  34.6470,2,  34.6462,2,-999.0000,5,    96.5,2,   94.12,2,   36.63,2,    2.65,2
 09FA9503_1,      IR6_3,      32,          1,         10,         10,2,19950408,       1545,   -19.1492,   108.8040,         10,  1496.6,   3.4740,  34.6690,2,  34.6672,2,-999.0000,5,   127.6,2,  103.26,2,   35.69,2,    2.58,2
 09FA9503_1,      IR6_3,      32,          1,          9,          9,2,19950408,       1545,   -19.1492,   108.8040,         10,  2005.7,   2.4070,  34.7230,2,  34.7208,2,-999.0000,5,   148.0,2,  121.31,2,   35.38,2,    2.51,2
 09FA9503_1,      IR6_3,      32,          1,          8,          8,2,19950408,       1545,   -19.1492,   108.8040,         10,  2498.9,   1.9720,  34.7300,2,  34.7263,2,-999.0000,5,   160.6,2,  128.43,2,   34.90,2,    2.46,2
 09FA9503_1,      IR6_3,      32,          1,          7,          7,2,19950408,       1545,   -19.1492,   108.8040,         10,  2997.0,   1.6450,  34.7270,2,  34.7241,2,-999.0000,5,   176.0,2,  127.80,2,   34.04,2,    2.40,2
 09FA9503_1,      IR6_3,      32,          1,          6,         11,2,19950408,       1545,   -19.1492,   108.8040,         10,  3474.0,   1.3710,  34.7220,2,  34.7199,2,-999.0000,5,   188.2,2,  126.31,3,   33.16,3,    2.30,3
 09FA9503_1,      IR6_3,      32,          1,          5,          5,2,19950408,       1545,   -19.1492,   108.8040,         10,  4000.7,   1.2250,  34.7180,2,  34.7160,2,-999.0000,5,   193.1,2,  130.44,2,   33.45,2,    2.32,2
 09FA9503_1,      IR6_3,      32,          1,          4,          4,2,19950408,       1545,   -19.1492,   108.8040,         10,  4499.4,   1.1850,  34.7160,2,  34.7114,2,-999.0000,5,   198.6,2,  131.45,2,   33.16,2,    2.32,2
 09FA9503_1,      IR6_3,      32,          1,          3,          3,2,19950408,       1545,   -19.1492,   108.8040,         10,  4998.9,   1.1920,  34.7150,2,  34.7126,2,-999.0000,5,   201.6,2,  129.76,2,   33.10,2,    2.30,2
 09FA9503_1,      IR6_3,      32,          1,          2,          2,2,19950408,       1545,   -19.1492,   108.8040,         10,  5102.3,   1.1980,  34.7150,2,  34.7127,2,-999.0000,5,   202.0,2,  129.86,2,   32.99,2,    2.28,2
 09FA9503_1,      IR6_3,      32,          1,          1,          1,2,19950408,       1545,   -19.1492,   108.8040,         10,  5279.7,   1.1990,  34.7150,2,  34.7128,2,-999.0000,5,   204.5,2,  126.08,3,   32.40,3,    2.27,3