BOTTLE,20211029CCHSIORKP
EXPOCODE,SECT_ID,STNNBR,CASTNO,SAMPNO,BTLNBR,BTLNBR_FLAG_W,DATE,TIME,LATITUDE,LONGITUDE,DEPTH,CTDPRS,CTDTMP,CTDSAL,CTDSAL_FLAG_W,SALNTY,SALNTY_FLAG_W,CTDOXY,CTDOXY_FLAG_W,OXYGEN,OXYGEN_FLAG_W,SILCAT,SILCAT_FLAG_W,NITRAT,NITRAT_FLAG_W,PHSPHT,PHSPHT_FLAG_W
,,,,,,,,,,,METERS,DBAR,ITS-90,PSS-78,,PSS-78,,UMOL/KG,,UMOL/KG,,UMOL/KG,,UMOL/KG,,UMOL/KG,
 09FA9503_1,      IR6_3,      52,          1,         24,         24,2,19950414,       0744,   -10.0798,   105.9057,         10,     2.7,  29.1820,  34.3160,2,  34.3288,2,-999.0000,5,   205.6,2,    4.51,2,    0.21,2,    0.07,2
 09FA9503_1,      IR6_3,      52,          1,         23,          1,2,19950414,       0744,   -10.0798,   105.9057,         10,    49.2,  28.8830,  34.3630,2,  34.3676,2,-999.0000,5,   204.5,2,    3.58,2,    0.21,2,    0.08,2
 09FA9503_1,      IR6_3,      52,          1,         22,          5,2,19950414,       0744,   -10.0798,   105.9057,         10,    99.4,  21.8990,  34.8540,2,  34.8606,2,-999.0000,5,   111.3,2,   13.54,2,   13.94,2,    0.89,2
 09FA9503_1,      IR6_3,      52,          1,         21,        145,2,19950414,       0744,   -10.0798,   105.9057,         10,   148.7,  16.2570,  34.7660,2,  34.7741,2,-999.0000,5,    97.8,2,   25.91,2,   20.35,2,    1.45,2
 09FA9503_1,      IR6_3,      52,          1,         20,         20,2,19950414,       0744,   -10.0798,   105.9057,         10,   198.6,  12.6930,  34.6400,2,  34.6480,2,-999.0000,5,    92.9,2,   36.98,2,   25.22,2,    1.85,2
 09FA9503_1,      IR6_3,      52,          1,         19,         19,2,19950414,       0744,   -10.0798,   105.9057,         10,   298.2,  10.5150,  34.7280,2,  34.7280,2,-999.0000,5,    77.4,2,   41.37,2,   29.70,2,    2.16,2
 09FA9503_1,      IR6_3,      52,          1,         18,        118,2,19950414,       0744,   -10.0798,   105.9057,         10,   396.1,   9.7080,  34.7670,2,  34.7641,2,-999.0000,5,    74.5,2,   42.64,2,   31.22,2,    2.25,2
 09FA9503_1,      IR6_3,      52,          1,         17,         35,2,19950414,       0744,   -10.0798,   105.9057,         10,   496.6,   8.9750,  34.7560,2,  34.7586,2,-999.0000,5,    74.5,2,   48.01,2,   32.32,2,    2.35,2
 09FA9503_1,      IR6_3,      52,          1,         16,          6,2,19950414,       0744,   -10.0798,   105.9057,         10,   596.6,   8.2660,  34.7230,2,  34.7240,2,-999.0000,5,    74.6,2,   56.94,2,   33.35,2,    2.45,2
 09FA9503_1,      IR6_3,      52,          1,         15,         21,2,19950414,       0744,   -10.0798,   105.9057,         10,   696.0,   7.5200,  34.6880,2,  34.6855,2,-999.0000,5,    76.7,2,   66.14,2,   34.31,2,    2.53,2
 09FA9503_1,      IR6_3,      52,          1,         14,        127,2,19950414,       0744,   -10.0798,   105.9057,         10,   796.1,   6.7660,  34.6650,2,  34.6662,2,-999.0000,5,    78.5,2,   76.61,2,   35.20,2,    2.59,2
 09FA9503_1,      IR6_3,      52,          1,         13,        170,2,19950414,       0744,   -10.0798,   105.9057,         10,   896.1,   5.8920,  34.6460,2,  34.6461,2,-999.0000,5,    84.7,2,   89.17,2,   35.70,2,    2.63,2
 09FA9503_1,      IR6_3,      52,          1,         12,         14,2,19950414,       0744,   -10.0798,   105.9057,         10,   995.4,   5.1730,  34.6260,2,  34.6307,2,-999.0000,5,    92.7,2,   98.67,2,   35.90,2,    2.62,2
 09FA9503_1,      IR6_3,      52,          1,         11,         10,2,19950414,       0744,   -10.0798,   105.9057,         10,  1245.7,   4.3230,  34.6430,2,  34.6456,2,-999.0000,5,   100.7,2,  109.29,2,   36.29,2,    2.65,2
 09FA9503_1,      IR6_3,      52,          1,         10,        111,2,19950414,       0744,   -10.0798,   105.9057,         10,  1491.4,   3.7680,  34.6990,2,  34.6985,2,-999.0000,5,   109.2,2,  112.90,2,   36.82,2,    2.64,2
 09FA9503_1,      IR6_3,      52,          1,          9,        129,2,19950414,       0744,   -10.0798,   105.9057,         10,  1746.2,   3.0840,  34.7280,2,  34.7346,2,-999.0000,5,   125.7,2,  117.90,2,   35.98,2,    2.61,2
 09FA9503_1,      IR6_3,      52,          1,          8,         17,2,19950414,       0744,   -10.0798,   105.9057,         10,  1996.5,   2.5780,  34.7370,2,  34.7400,2,-999.0000,5,   141.1,2,  120.85,2,   35.48,2,    2.55,2
 09FA9503_1,      IR6_3,      52,          1,          7,          7,2,19950414,       0744,   -10.0798,   105.9057,         10,  2247.0,   2.2790,  34.7380,2,  34.7360,2,-999.0000,5,   151.6,2,  123.12,2,   35.17,2,    2.51,2
 09FA9503_1,      IR6_3,      52,          1,          6,        141,2,19950414,       0744,   -10.0798,   105.9057,         10,  2496.8,   2.0200,  34.7350,2,  34.7320,2,-999.0000,5,   157.9,2,  125.07,2,   34.91,2,    2.47,2
 09FA9503_1,      IR6_3,      52,          1,          5,        124,2,19950414,       0744,   -10.0798,   105.9057,         10,  2997.2,   1.6500,  34.7280,2,  34.7269,2,-999.0000,5,   172.3,2,  130.25,2,   34.52,2,    2.44,2
 09FA9503_1,      IR6_3,      52,          1,          4,          4,2,19950414,       0744,   -10.0798,   105.9057,         10,  3498.3,   1.3630,  34.7210,2,  34.7197,2,-999.0000,5,   184.5,2,  132.76,2,   34.11,2,    2.41,2
 09FA9503_1,      IR6_3,      52,          1,          3,          3,2,19950414,       0744,   -10.0798,   105.9057,         10,  3999.3,   1.1790,  34.7170,2,  34.7185,2,-999.0000,5,   194.7,2,  132.30,2,   33.56,2,    2.37,2
 09FA9503_1,      IR6_3,      52,          1,          2,          2,2,19950414,       0744,   -10.0798,   105.9057,         10,  4499.9,   1.1610,  34.7170,2,  34.7161,2,-999.0000,5,   199.8,2,  130.46,2,   33.38,2,    2.35,2
 09FA9503_1,      IR6_3,      52,          1,          1,         18,2,19950414,       0744,   -10.0798,   105.9057,         10,  4811.2,   1.1580,  34.7150,2,  34.7144,2,-999.0000,5,   195.5,2,  128.73,2,   33.47,2,    2.36,2
 09FA9503_1,      IR6_3,      53,          1,         24,         24,2,19950414,       1423,    -9.6068,   105.7717,         10,     2.9,  29.4210,  32.6670,2,  32.6754,2,-999.0000,5,   209.9,2,    2.93,2,    0.31,2,    0.03,2
 09FA9503_1,      IR6_3,      53,          1,         23,          1,2,19950414,       1423,    -9.6068,   105.7717,         10,    24.6,  29.0870,  33.7920,2,  33.8032,2,-999.0000,5,   211.3,2,    2.93,2,    0.18,2,    0.26,2
 09FA9503_1,      IR6_3,      53,          1,         22,          5,2,19950414,       1423,    -9.6068,   105.7717,         10,    49.9,  28.8330,  34.4230,2,  34.4304,2,-999.0000,5,   205.3,2,    3.43,2,    0.28,2,    0.32,2
 09FA9503_1,      IR6_3,      53,          1,         21,        145,2,19950414,       1423,    -9.6068,   105.7717,         10,    98.5,  24.9050,  34.8770,2,  34.8981,2,-999.0000,5,   147.7,2,    7.39,2,    8.27,2,    0.83,2
 09FA9503_1,      IR6_3,      53,          1,         20,         20,2,19950414,       1423,    -9.6068,   105.7717,         10,   148.7,  19.4550,  34.8250,2,  34.8269,2,-999.0000,5,    96.3,2,   19.42,2,   18.24,2,    1.53,2
 09FA9503_1,      IR6_3,      53,          1,         19,         19,2,19950414,       1423,    -9.6068,   105.7717,         10,   197.5,  13.7960,  34.8140,2,  34.8139,2,-999.0000,5,    71.9,2,   31.91,2,   26.75,2,    2.11,2
 09FA9503_1,      IR6_3,      53,          1,         18,        118,2,19950414,       1423,    -9.6068,   105.7717,         10,   298.2,  10.0630,  34.8340,2,  34.8370,2,-999.0000,5,    69.9,2,   38.49,2,   31.86,2,    2.34,2
 09FA9503_1,      IR6_3,      53,          1,         17,        135,2,19950414,       1423,    -9.6068,   105.7717,         10,   397.8,   8.9530,  34.7290,2,  34.7266,2,-999.0000,5,    80.1,2,   47.96,2,   32.81,2,    2.40,2
 09FA9503_1,      IR6_3,      53,          1,         16,          6,2,19950414,       1423,    -9.6068,   105.7717,         10,   496.8,   8.6310,  34.7650,2,  34.7639,2,-999.0000,5,    73.3,2,   51.07,2,   34.03,2,    2.46,2
 09FA9503_1,      IR6_3,      53,          1,         15,         21,2,19950414,       1423,    -9.6068,   105.7717,         10,   597.1,   7.6140,  34.6990,2,  34.6967,2,-999.0000,5,    76.2,2,   65.60,2,   35.28,2,    2.52,2
 09FA9503_1,      IR6_3,      53,          1,         14,        127,2,19950414,       1423,    -9.6068,   105.7717,         10,   697.5,   6.8910,  34.6800,2,  34.6771,2,-999.0000,5,    78.2,2,   75.73,2,   35.97,2,    2.56,2
 09FA9503_1,      IR6_3,      53,          1,         13,        170,2,19950414,       1423,    -9.6068,   105.7717,         10,   796.4,   6.2610,  34.6770,2,  34.6778,2,-999.0000,5,    79.2,2,   84.84,2,   36.36,2,    2.58,2
 09FA9503_1,      IR6_3,      53,          1,         12,         14,2,19950414,       1423,    -9.6068,   105.7717,         10,   896.9,   5.6170,  34.6440,2,  34.6452,2,-999.0000,5,    87.0,2,   93.80,2,   36.56,2,    2.59,2
 09FA9503_1,      IR6_3,      53,          1,         11,         10,2,19950414,       1423,    -9.6068,   105.7717,         10,   996.8,   5.1810,  34.6430,2,  34.6460,2,-999.0000,5,    90.9,2,  100.35,2,   36.59,2,    2.59,2
 09FA9503_1,      IR6_3,      53,          1,         10,        111,2,19950414,       1423,    -9.6068,   105.7717,         10,  1248.1,   4.3130,  34.6430,2,  34.6421,2,-999.0000,5,   100.7,2,  111.05,2,   36.73,2,    2.59,2
 09FA9503_1,      IR6_3,      53,          1,          9,        129,2,19950414,       1423,    -9.6068,   105.7717,         10,  1495.8,   3.7000,  34.6980,2,  34.6979,2,-999.0000,5,   110.4,2,  115.64,2,   36.46,2,    2.59,2
 09FA9503_1,      IR6_3,      53,          1,          8,         17,2,19950414,       1423,    -9.6068,   105.7717,         10,  1995.6,   2.6680,  34.7410,2,  34.7411,2,-999.0000,5,   136.5,2,  121.85,2,   35.42,2,    2.53,2
 09FA9503_1,      IR6_3,      53,          1,          7,          7,2,19950414,       1423,    -9.6068,   105.7717,         10,  2495.4,   2.0390,  34.7340,2,  34.7349,2,-999.0000,5,   158.1,2,  127.88,2,   34.55,2,    2.49,2
 09FA9503_1,      IR6_3,      53,          1,          6,        141,2,19950414,       1423,    -9.6068,   105.7717,         10,  2996.1,   1.6610,  34.7280,2,  34.7353,2,-999.0000,5,   157.6,3,  127.15,3,   34.44,3,    2.49,3
 09FA9503_1,      IR6_3,      53,          1,          5,        124,2,19950414,       1423,    -9.6068,   105.7717,         10,  3498.0,   1.3700,  34.7190,2,  34.7192,2,-999.0000,5,  -999.0,9,  131.89,2,   33.60,2,    2.42,2
 09FA9503_1,      IR6_3,      53,          1,          4,          4,2,19950414,       1423,    -9.6068,   105.7717,         10,  4000.3,   1.1860,  34.7150,2,  34.7165,2,-999.0000,5,   195.5,2,  132.72,2,   33.00,2,    2.39,2
 09FA9503_1,      IR6_3,      53,          1,          3,          3,2,19950414,       1423,    -9.6068,   105.7717,         10,  4499.0,   1.1500,  34.7130,2,  34.7145,2,-999.0000,5,   200.9,2,  130.71,2,   32.54,2,    2.38,2
 09FA9503_1,      IR6_3,      53,          1,          2,          2,2,19950414,       1423,    -9.6068,   105.7717,         10,  4998.9,   1.1850,  34.7130,2,  34.7154,2,-999.0000,5,   201.7,2,  129.32,2,   32.39,2,    2.36,2
 09FA9503_1,      IR6_3,      53,          1,          1,         18,2,19950414,       1423,    -9.6068,   105.7717,         10,  5294.2,   1.2180,  34.7130,2,  34.7162,2,-999.0000,5,   196.1,2,  128.27,2,   32.57,2,    2.38,2
 09FA9503_1,      IR6_3,      54,          1,         24,         24,2,19950414,       2133,    -9.1168,   105.6195,         10,     2.2,  29.3190,  32.9120,2,  32.9215,2,-999.0000,5,   208.6,2,    2.85,2,    0.26,2,    0.27,2
 09FA9503_1,      IR6_3,      54,          1,         23,          1,2,19950414,       2133,    -9.1168,   105.6195,         10,    48.5,  28.9030,  34.1050,2,  34.0895,2,-999.0000,5,   203.3,2,    2.88,2,    0.23,2,    0.21,2
 09FA9503_1,      IR6_3,      54,          1,         22,          5,2,19950414,       2133,    -9.1168,   105.6195,         10,   100.8,  25.2990,  35.0290,2,  35.0422,2,-999.0000,5,   142.0,2,    6.55,2,    8.11,2,    0.79,2
 09FA9503_1,      IR6_3,      54,          1,         21,        145,2,19950414,       2133,    -9.1168,   105.6195,         10,   147.9,  17.9110,  34.8050,2,  34.8048,2,-999.0000,5,    91.4,2,   22.33,2,   19.62,2,    1.62,2
 09FA9503_1,      IR6_3,      54,          1,         20,         20,2,19950414,       2133,    -9.1168,   105.6195,         10,   199.2,  13.1100,  34.6480,2,  34.6462,2,-999.0000,5,    99.2,2,   35.02,2,   24.04,2,    1.94,2
 09FA9503_1,      IR6_3,      54,          1,         19,         19,2,19950414,       2133,    -9.1168,   105.6195,         10,   298.0,  10.4120,  34.7390,2,  34.7358,2,-999.0000,5,    78.7,2,   40.52,2,   29.77,2,    2.25,2
 09FA9503_1,      IR6_3,      54,          1,         18,        118,2,19950414,       2133,    -9.1168,   105.6195,         10,   397.5,   9.6270,  34.7910,2,  34.7889,2,-999.0000,5,    74.1,2,   41.56,2,   31.53,2,    2.33,2
 09FA9503_1,      IR6_3,      54,          1,         17,        135,2,19950414,       2133,    -9.1168,   105.6195,         10,   496.2,   8.6100,  34.7180,2,  34.7190,2,-999.0000,5,    78.0,2,   51.51,2,   32.96,2,    2.42,2
 09FA9503_1,      IR6_3,      54,          1,         16,          6,2,19950414,       2133,    -9.1168,   105.6195,         10,   597.6,   7.7780,  34.7190,2,  34.7179,2,-999.0000,5,    74.3,2,   62.03,2,   34.26,2,    2.49,2
 09FA9503_1,      IR6_3,      54,          1,         15,         21,2,19950414,       2133,    -9.1168,   105.6195,         10,   695.4,   6.6750,  34.6700,2,  34.6696,2,-999.0000,5,    80.5,2,   77.59,2,   35.29,2,    2.55,2
 09FA9503_1,      IR6_3,      54,          1,         14,        127,2,19950414,       2133,    -9.1168,   105.6195,         10,   795.9,   5.9240,  34.6450,2,  34.6465,2,-999.0000,5,    86.4,2,   88.51,2,   35.81,2,    2.57,2
 09FA9503_1,      IR6_3,      54,          1,         13,        170,2,19950414,       2133,    -9.1168,   105.6195,         10,   895.3,   5.3970,  34.6320,2,  34.6324,2,-999.0000,5,    91.1,2,   96.61,2,   36.20,2,    2.57,2
 09FA9503_1,      IR6_3,      54,          1,         12,         14,2,19950414,       2133,    -9.1168,   105.6195,         10,   991.3,   5.0350,  34.6280,2,  34.6305,2,-999.0000,5,    94.3,2,  102.52,2,   36.83,2,    2.59,2
 09FA9503_1,      IR6_3,      54,          1,         11,         10,2,19950414,       2133,    -9.1168,   105.6195,         10,  1245.7,   4.3410,  34.6380,2,  34.6388,2,-999.0000,5,   102.4,2,  111.04,2,   36.70,2,    2.59,2
 09FA9503_1,      IR6_3,      54,          1,         10,        111,2,19950414,       2133,    -9.1168,   105.6195,         10,  1493.3,   3.8730,  34.6820,2,  34.6839,2,-999.0000,5,   108.3,2,  114.46,2,   36.55,2,    2.58,2
 09FA9503_1,      IR6_3,      54,          1,          9,        129,2,19950414,       2133,    -9.1168,   105.6195,         10,  1996.4,   2.7000,  34.7380,2,  34.7374,2,-999.0000,5,   137.6,2,  121.53,2,   35.55,2,    2.54,2
 09FA9503_1,      IR6_3,      54,          1,          8,         17,2,19950414,       2133,    -9.1168,   105.6195,         10,  2497.6,   2.0200,  34.7340,2,  34.7334,2,-999.0000,5,   160.8,2,  125.79,2,   34.61,2,    2.48,2
 09FA9503_1,      IR6_3,      54,          1,          7,          7,3,19950414,       2133,    -9.1168,   105.6195,         10,  2997.5,   1.6860,  34.7290,2,  34.7342,3,-999.0000,5,   161.5,3,  125.91,3,   34.53,3,    2.49,3
 09FA9503_1,      IR6_3,      54,          1,          6,        141,3,19950414,       2133,    -9.1168,   105.6195,         10,  3497.7,   1.4000,  34.7200,2,  34.7291,3,-999.0000,5,   170.8,3,  131.05,3,   34.21,3,    2.47,3
 09FA9503_1,      IR6_3,      54,          1,          5,        124,2,19950414,       2133,    -9.1168,   105.6195,         10,  3997.7,   1.1760,  34.7150,2,  34.7165,2,-999.0000,5,   195.6,2,  131.84,2,   33.27,2,    2.40,2
 09FA9503_1,      IR6_3,      54,          1,          4,          4,2,19950414,       2133,    -9.1168,   105.6195,         10,  4498.4,   1.1590,  34.7130,2,  34.7150,2,-999.0000,5,   201.1,2,  130.65,2,   33.04,2,    2.38,2
 09FA9503_1,      IR6_3,      54,          1,          3,          3,2,19950414,       2133,    -9.1168,   105.6195,         10,  4998.5,   1.1930,  34.7130,2,  34.7142,2,-999.0000,5,   202.2,2,  129.74,2,   32.89,2,    2.38,2
 09FA9503_1,      IR6_3,      54,          1,          2,          2,2,19950414,       2133,    -9.1168,   105.6195,         10,  5500.5,   1.2460,  34.7130,2,  34.7158,2,-999.0000,5,   203.4,2,  129.19,2,   32.75,2,    2.37,2
 09FA9503_1,      IR6_3,      54,          1,          1,         18,2,19950414,       2133,    -9.1168,   105.6195,         10,  6002.0,-999.0000,  34.7130,2,  34.7158,2,-999.0000,5,   201.6,2,  129.16,2,   32.80,2,    2.38,2