BOTTLE,20211029CCHSIORKP
EXPOCODE,SECT_ID,STNNBR,CASTNO,SAMPNO,BTLNBR,BTLNBR_FLAG_W,DATE,TIME,LATITUDE,LONGITUDE,DEPTH,CTDPRS,CTDTMP,CTDSAL,CTDSAL_FLAG_W,SALNTY,SALNTY_FLAG_W,CTDOXY,CTDOXY_FLAG_W,OXYGEN,OXYGEN_FLAG_W,SILCAT,SILCAT_FLAG_W,NITRAT,NITRAT_FLAG_W,PHSPHT,PHSPHT_FLAG_W
,,,,,,,,,,,METERS,DBAR,ITS-90,PSS-78,,PSS-78,,UMOL/KG,,UMOL/KG,,UMOL/KG,,UMOL/KG,,UMOL/KG,
 09FA9503_1,      IR6_3,      61,          1,          5,         24,2,19950419,       2105,   -24.6987,   112.3145,         10,     4.3,  26.4730,  35.3030,2,  35.3030,2,-999.0000,5,   209.5,2, -999.00,9, -999.00,9, -999.00,9
 09FA9503_1,      IR6_3,      61,          1,          4,          5,2,19950419,       2105,   -24.6987,   112.3145,         10,    49.5,  26.2620,  35.2950,2,  35.3030,2,-999.0000,5,   209.8,2, -999.00,9, -999.00,9, -999.00,9
 09FA9503_1,      IR6_3,      61,          1,          3,         18,2,19950419,       2105,   -24.6987,   112.3145,         10,   100.9,  22.0770,  35.2840,2,  35.2585,2,-999.0000,5,   169.7,2, -999.00,9, -999.00,9, -999.00,9
 09FA9503_1,      IR6_3,      61,          1,          2,          2,2,19950419,       2105,   -24.6987,   112.3145,         10,   147.2,  20.7530,  35.3240,2,  35.3203,2,-999.0000,5,   161.7,2, -999.00,9, -999.00,9, -999.00,9
 09FA9503_1,      IR6_3,      61,          1,          1,          1,2,19950419,       2105,   -24.6987,   112.3145,         10,   189.0,  18.9990,  35.5550,2,  35.5513,2,-999.0000,5,   181.1,2, -999.00,9, -999.00,9, -999.00,9
 09FA9503_1,      IR6_3,      62,          1,          4,         24,2,19950419,       2227,   -24.7228,   112.4650,         10,     4.1,  26.1290,  35.3420,2,  35.3420,2,-999.0000,5,   206.2,2, -999.00,9, -999.00,9, -999.00,9
 09FA9503_1,      IR6_3,      62,          1,          2,          5,2,19950419,       2227,   -24.7228,   112.4650,         10,    96.6,  22.6770,  35.2950,2,  35.2967,2,-999.0000,5,   188.8,2, -999.00,9, -999.00,9, -999.00,9
 09FA9503_1,      IR6_3,      62,          1,          1,          1,2,19950419,       2227,   -24.7228,   112.4650,         10,   128.1,  21.0660,  35.3740,2,  35.3818,2,-999.0000,5,   170.8,2, -999.00,9, -999.00,9, -999.00,9
 09FA9503_1,      IR6_3,      63,          1,          3,         24,2,19950419,       2351,   -24.7480,   112.6150,         10,     4.1,  26.2020,  35.3120,2,  35.3109,2,-999.0000,5,   204.3,2, -999.00,9, -999.00,9, -999.00,9
 09FA9503_1,      IR6_3,      63,          1,          2,          5,2,19950419,       2351,   -24.7480,   112.6150,         10,    48.4,  26.2110,  35.3090,2,  35.3085,2,-999.0000,5,   204.0,2, -999.00,9, -999.00,9, -999.00,9
 09FA9503_1,      IR6_3,      63,          1,          1,          1,2,19950419,       2351,   -24.7480,   112.6150,         10,    89.4,  24.8840,  35.2240,2,  35.2243,2,-999.0000,5,   191.8,2, -999.00,9, -999.00,9, -999.00,9
 09FA9503_1,      IR6_3,      64,          1,          3,         24,2,19950420,       0109,   -24.7822,   112.7695,         10,     2.4,  25.8190,  35.3180,2,  35.3184,2,-999.0000,5,   205.8,2, -999.00,9, -999.00,9, -999.00,9
 09FA9503_1,      IR6_3,      64,          1,          2,          5,2,19950420,       0109,   -24.7822,   112.7695,         10,    47.9,  25.7190,  35.3220,2,  35.3212,2,-999.0000,5,   203.3,2, -999.00,9, -999.00,9, -999.00,9
 09FA9503_1,      IR6_3,      64,          1,          1,          1,2,19950420,       0109,   -24.7822,   112.7695,         10,    71.5,  25.5340,  35.3410,2,  35.3413,2,-999.0000,5,   199.3,2, -999.00,9, -999.00,9, -999.00,9
 09FA9503_1,      IR6_3,      65,          1,         24,         24,2,19950422,       0034,   -21.9982,   112.3818,         10,     2.5,  28.4890,  35.2710,2,  35.2744,2,-999.0000,5,   209.3,2,    5.16,2,    0.04,2,    0.13,2
 09FA9503_1,      IR6_3,      65,          1,         23,         18,2,19950422,       0034,   -21.9982,   112.3818,         10,    49.0,  28.4930,  35.2740,2,  35.2744,2,-999.0000,5,   208.3,2,    5.02,2,    0.05,2,    0.10,2
 09FA9503_1,      IR6_3,      65,          1,         22,          3,2,19950422,       0034,   -21.9982,   112.3818,         10,    99.7,  22.5860,  35.2070,2,  35.2090,2,-999.0000,5,   180.2,2,    7.77,2,    2.98,2,    0.27,2
 09FA9503_1,      IR6_3,      65,          1,         21,         70,2,19950422,       0034,   -21.9982,   112.3818,         10,   200.1,  17.8820,  35.5600,2,  35.5554,2,-999.0000,5,   174.6,2,   10.43,2,    7.25,2,    0.54,2
 09FA9503_1,      IR6_3,      65,          1,         20,         21,2,19950422,       0034,   -21.9982,   112.3818,         10,   299.5,  12.9790,  35.0790,2,  35.0808,2,-999.0000,5,   162.9,2,   21.52,2,   15.70,2,    1.18,2
 09FA9503_1,      IR6_3,      65,          1,         19,         19,2,19950422,       0034,   -21.9982,   112.3818,         10,   399.3,  10.6160,  34.9010,2,  34.9034,2,-999.0000,5,   244.5,2,    5.95,2,   12.26,2,    0.89,2
 09FA9503_1,      IR6_3,      65,          1,         18,         45,2,19950422,       0034,   -21.9982,   112.3818,         10,   468.9,   9.3340,  34.7120,2,  34.7128,2,-999.0000,5,   226.3,2,   10.52,2,   17.38,2,    1.25,2
 09FA9503_1,      IR6_3,      65,          1,         17,         29,2,19950422,       0034,   -21.9982,   112.3818,         10,   590.7,   7.4250,  34.5870,2,  34.5856,2,-999.0000,5,   163.7,2,   35.56,2,   27.20,2,    1.95,2
 09FA9503_1,      IR6_3,      65,          1,         16,         13,2,19950422,       0034,   -21.9982,   112.3818,         10,   695.3,   6.6720,  34.6240,2,  34.6268,2,-999.0000,5,   115.2,2,   67.38,2,   33.09,2,    2.38,2
 09FA9503_1,      IR6_3,      65,          1,         15,         14,2,19950422,       0034,   -21.9982,   112.3818,         10,   797.4,   6.0700,  34.6150,2,  34.6115,2,-999.0000,5,   108.8,2,   71.35,2,   34.46,2,    2.47,2
 09FA9503_1,      IR6_3,      65,          1,         14,         27,2,19950422,       0034,   -21.9982,   112.3818,         10,   894.6,   5.5650,  34.6340,2,  34.6335,2,-999.0000,5,    97.3,2,   83.92,2,   35.35,2,    2.58,2
 09FA9503_1,      IR6_3,      65,          1,         13,         18,2,19950422,       0034,   -21.9982,   112.3818,         10,   994.1,   5.1190,  34.6320,2,  34.6308,2,-999.0000,5,    99.1,2,   92.37,2,   35.71,2,    2.61,2
 09FA9503_1,      IR6_3,      65,          1,         12,         10,2,19950422,       0034,   -21.9982,   112.3818,         10,  1193.7,   4.6120,  34.6370,2,  34.6375,2,-999.0000,5,   103.0,2,   99.95,2,   36.40,2,    2.61,2
 09FA9503_1,      IR6_3,      65,          1,         11,         17,2,19950422,       0034,   -21.9982,   112.3818,         10,  1389.8,   4.0530,  34.6470,2,  34.6454,2,-999.0000,5,   114.8,2,  104.05,2,   36.13,2,    2.59,2
 09FA9503_1,      IR6_3,      65,          1,         10,         11,2,19950422,       0034,   -21.9982,   112.3818,         10,  1592.7,   3.4860,  34.6650,2,  34.6655,2,-999.0000,5,   126.5,2,  105.82,2,   35.21,2,    2.55,2
 09FA9503_1,      IR6_3,      65,          1,          9,         41,2,19950422,       0034,   -21.9982,   112.3818,         10,  1792.7,   2.9620,  34.6890,2,  34.6868,2,-999.0000,5,   140.2,2,  108.00,2,   34.70,2,    2.50,2
 09FA9503_1,      IR6_3,      65,          1,          8,         20,2,19950422,       0034,   -21.9982,   112.3818,         10,  1993.8,   2.5600,  34.7130,2,  34.7131,2,-999.0000,5,   153.8,2,  112.38,2,   33.99,2,    2.44,2
 09FA9503_1,      IR6_3,      65,          1,          7,          7,2,19950422,       0034,   -21.9982,   112.3818,         10,  2243.5,   2.2520,  34.7260,2,  34.7249,2,-999.0000,5,   156.8,2,  121.39,2,   34.11,2,    2.42,2
 09FA9503_1,      IR6_3,      65,          1,          6,          6,2,19950422,       0034,   -21.9982,   112.3818,         10,  2494.5,   2.0510,  34.7290,2,  34.7301,2,-999.0000,5,   161.4,2,  121.18,2,   33.74,2,    2.40,2
 09FA9503_1,      IR6_3,      65,          1,          5,         35,2,19950422,       0034,   -21.9982,   112.3818,         10,  2746.7,   1.8550,  34.7290,2,  34.7281,2,-999.0000,5,   169.0,2,  124.91,2,   33.65,2,    2.38,2
 09FA9503_1,      IR6_3,      65,          1,          4,          5,2,19950422,       0034,   -21.9982,   112.3818,         10,  2997.3,   1.7010,  34.7280,2,  34.7254,2,-999.0000,5,   175.7,2,  125.34,2,   33.74,2,    2.35,2
 09FA9503_1,      IR6_3,      65,          1,          3,          4,2,19950422,       0034,   -21.9982,   112.3818,         10,  3498.6,   1.3760,  34.7220,2,  34.7215,2,-999.0000,5,   191.6,2,  127.63,2,   32.66,2,    2.29,2
 09FA9503_1,      IR6_3,      65,          1,          2,          2,2,19950422,       0034,   -21.9982,   112.3818,         10,  3998.2,   1.1880,  34.7180,2,  34.7164,2,-999.0000,5,   195.8,2,  130.26,2,   32.52,2,    2.29,2
 09FA9503_1,      IR6_3,      65,          1,          1,          1,2,19950422,       0034,   -21.9982,   112.3818,         10,  4299.7,   1.1660,  34.7160,2,  34.7165,2,-999.0000,5,   198.1,2,  131.30,2,   32.64,2,    2.25,2
 09FA9503_1,      IR6_3,      66,          1,         19,         24,2,19950422,       0556,   -22.0857,   112.8238,         10,     3.2,  27.4100,  35.2210,2,  35.2255,2,-999.0000,5,   205.7,2,    5.42,2,    0.23,2,    0.18,2
 09FA9503_1,      IR6_3,      66,          1,         18,         18,2,19950422,       0556,   -22.0857,   112.8238,         10,    48.3,  27.3010,  35.2150,2,  35.2126,2,-999.0000,5,   202.6,2,    5.33,2,    0.19,2,    0.17,2
 09FA9503_1,      IR6_3,      66,          1,         17,         29,2,19950422,       0556,   -22.0857,   112.8238,         10,    99.0,  23.6130,  35.1860,2,  35.1816,2,-999.0000,5,   176.8,2,    8.26,2,    3.73,2,    0.34,2
 09FA9503_1,      IR6_3,      66,          1,         16,         21,2,19950422,       0556,   -22.0857,   112.8238,         10,   148.9,  20.2880,  35.2920,2,  35.2865,2,-999.0000,5,   160.4,2,   11.28,2,    7.66,2,    0.58,2
 09FA9503_1,      IR6_3,      66,          1,         15,         14,2,19950422,       0556,   -22.0857,   112.8238,         10,   197.6,  17.9340,  35.4600,2,  35.4599,2,-999.0000,5,   172.4,2,   11.25,2,    8.01,2,    0.62,2
 09FA9503_1,      IR6_3,      66,          1,         14,         27,2,19950422,       0556,   -22.0857,   112.8238,         10,   298.1,  14.7420,  35.4360,2,  35.4301,2,-999.0000,5,   199.5,2,   10.31,2,    8.21,2,    0.68,2
 09FA9503_1,      IR6_3,      66,          1,         13,         18,2,19950422,       0556,   -22.0857,   112.8238,         10,   398.0,  11.1240,  34.9810,2,  34.9825,2,-999.0000,5,   237.9,2,    5.84,2,   11.12,2,    0.87,2
 09FA9503_1,      IR6_3,      66,          1,         12,         10,2,19950422,       0556,   -22.0857,   112.8238,         10,   398.0,  11.1240,  34.9810,2,  34.9846,2,-999.0000,5,   236.4,2,    5.79,2,   10.95,2,    0.88,2
 09FA9503_1,      IR6_3,      66,          1,         11,          3,2,19950422,       0556,   -22.0857,   112.8238,         10,   596.9,   7.5090,  34.5820,2,  34.5815,2,-999.0000,5,   171.6,2,   29.80,2,   25.89,2,    1.86,2
 09FA9503_1,      IR6_3,      66,          1,         10,         11,2,19950422,       0556,   -22.0857,   112.8238,         10,   695.3,   6.6260,  34.5960,2,  34.5957,2,-999.0000,5,   126.2,2,   53.95,2,   31.20,2,    2.25,2
 09FA9503_1,      IR6_3,      66,          1,          9,         41,2,19950422,       0556,   -22.0857,   112.8238,         10,   795.9,   6.0650,  34.6230,2,  34.6206,2,-999.0000,5,   101.3,2,   72.81,2,   33.84,2,    2.45,2
 09FA9503_1,      IR6_3,      66,          1,          8,         20,2,19950422,       0556,   -22.0857,   112.8238,         10,   897.5,   5.6250,  34.6280,2,  34.6309,2,-999.0000,5,   101.3,2,   79.90,2,   34.75,2,    2.49,2
 09FA9503_1,      IR6_3,      66,          1,          6,         19,2,19950422,       0556,   -22.0857,   112.8238,         10,  1095.1,   4.9400,  34.6370,2,  34.6360,2,-999.0000,5,   101.4,2,   90.85,2,   35.74,2,    2.55,2
 09FA9503_1,      IR6_3,      66,          1,          5,         35,2,19950422,       0556,   -22.0857,   112.8238,         10,  1245.9,   4.4060,  34.6360,2,  34.6355,2,-999.0000,5,   107.5,2,   95.82,2,   35.20,2,    2.55,2
 09FA9503_1,      IR6_3,      66,          1,          4,          5,2,19950422,       0556,   -22.0857,   112.8238,         10,  1497.0,   3.4260,  34.6640,2,  34.6633,2,-999.0000,5,   128.2,2,  102.85,2,   35.34,2,    2.51,2
 09FA9503_1,      IR6_3,      66,          1,          3,          4,2,19950422,       0556,   -22.0857,   112.8238,         10,  1746.7,   2.8990,  34.6930,2,  34.6935,2,-999.0000,5,   141.9,2,  107.86,2,   34.17,3,    2.44,3
 09FA9503_1,      IR6_3,      66,          1,          2,          2,2,19950422,       0556,   -22.0857,   112.8238,         10,  1991.9,   2.5130,  34.7140,2,  34.7143,2,-999.0000,5,   147.5,2,  115.17,2,   34.53,2,    2.45,2
 09FA9503_1,      IR6_3,      66,          1,          1,          1,2,19950422,       0556,   -22.0857,   112.8238,         10,  2206.1,   2.2160,  34.7260,2,  34.7257,2,-999.0000,5,   154.5,2,  120.33,2,   33.71,2,    2.43,2
 09FA9503_1,      IR6_3,      67,          1,         15,         24,2,19950422,       0955,   -22.1367,   113.1742,         10,     3.2,  27.6570,  35.2450,2,  35.2456,2,-999.0000,5,   206.2,2,    5.49,2,    0.15,2,    0.17,2
 09FA9503_1,      IR6_3,      67,          1,         14,         21,2,19950422,       0955,   -22.1367,   113.1742,         10,    47.7,  27.4460,  35.2050,2,  35.2050,2,-999.0000,5,   204.4,2,    5.43,2,    0.23,2,    0.21,2
 09FA9503_1,      IR6_3,      67,          1,         13,         18,2,19950422,       0955,   -22.1367,   113.1742,         10,    97.8,  23.9240,  35.1440,2,  35.1447,2,-999.0000,5,   175.7,2,    8.40,2,    3.98,2,    0.43,2
 09FA9503_1,      IR6_3,      67,          1,         12,         10,2,19950422,       0955,   -22.1367,   113.1742,         10,   148.7,  20.7980,  35.2760,2,  35.2762,2,-999.0000,5,   155.9,2,   11.12,2,    7.48,2,    0.66,2
 09FA9503_1,      IR6_3,      67,          1,         11,          3,2,19950422,       0955,   -22.1367,   113.1742,         10,   196.9,  19.5260,  35.7840,2,  35.7765,2,-999.0000,5,   198.5,2,    5.71,2,    2.69,2,    0.35,2
 09FA9503_1,      IR6_3,      67,          1,         10,         11,2,19950422,       0955,   -22.1367,   113.1742,         10,   297.5,  14.8240,  35.4430,2,  35.4377,2,-999.0000,5,   196.0,2,   10.50,2,    8.43,2,    0.73,2
 09FA9503_1,      IR6_3,      67,          1,          9,         41,2,19950422,       0955,   -22.1367,   113.1742,         10,   396.8,  11.6490,  35.0660,2,  35.0659,2,-999.0000,5,   240.7,2,    4.68,2,    9.33,2,    0.79,2
 09FA9503_1,      IR6_3,      67,          1,          8,         20,2,19950422,       0955,   -22.1367,   113.1742,         10,   495.0,   9.3880,  34.7190,2,  34.7199,2,-999.0000,5,   234.9,2,    8.01,2,   16.47,2,    1.22,2
 09FA9503_1,      IR6_3,      67,          1,          7,          7,2,19950422,       0955,   -22.1367,   113.1742,         10,   596.6,   7.4810,  34.5480,2,  34.5486,2,-999.0000,5,   194.6,2,   20.92,2,   24.75,2,    1.74,2
 09FA9503_1,      IR6_3,      67,          1,          6,         19,2,19950422,       0955,   -22.1367,   113.1742,         10,   695.6,   6.3750,  34.5390,2,  34.5407,2,-999.0000,5,   153.6,2,   42.73,2,   30.31,2,    2.15,2
 09FA9503_1,      IR6_3,      67,          1,          5,         35,2,19950422,       0955,   -22.1367,   113.1742,         10,   796.4,   5.8730,  34.5940,2,  34.5949,2,-999.0000,5,   114.2,2,   66.19,2,   34.18,2,    2.45,2
 09FA9503_1,      IR6_3,      67,          1,          4,          5,2,19950422,       0955,   -22.1367,   113.1742,         10,   894.2,   5.5280,  34.6200,2,  34.6192,2,-999.0000,5,   101.5,2,   78.39,2,   35.32,2,    2.55,2
 09FA9503_1,      IR6_3,      67,          1,          3,          4,2,19950422,       0955,   -22.1367,   113.1742,         10,   995.8,   5.0340,  34.6270,2,  34.6274,2,-999.0000,5,   101.0,2,   87.73,2,   36.02,2,    2.59,2
 09FA9503_1,      IR6_3,      67,          1,          2,          2,2,19950422,       0955,   -22.1367,   113.1742,         10,  1189.5,   4.3610,  34.6350,2,  34.6364,2,-999.0000,5,   108.8,2,   94.82,2,   36.07,2,    2.60,2
 09FA9503_1,      IR6_3,      67,          1,          1,          1,2,19950422,       0955,   -22.1367,   113.1742,         10,  1305.2,   3.9880,  34.6440,2,  34.6462,2,-999.0000,5,   114.9,2,   98.31,2,   36.01,2,    2.60,2
 09FA9503_1,      IR6_3,      68,          1,         14,         24,2,19950422,       1242,   -22.1538,   113.4427,         10,     3.4,  26.7840,  35.2440,2,  35.2455,2,-999.0000,5,   207.0,2,    5.42,2,    0.26,2,    0.18,2
 09FA9503_1,      IR6_3,      68,          1,         13,         21,2,19950422,       1242,   -22.1538,   113.4427,         10,    49.0,  26.7800,  35.2470,2,  35.2455,2,-999.0000,5,   206.0,2,    5.34,2,    0.18,2,    0.18,2
 09FA9503_1,      IR6_3,      68,          1,         12,         14,2,19950422,       1242,   -22.1538,   113.4427,         10,    99.1,  23.7470,  35.1480,2,  35.1392,2,-999.0000,5,   178.1,2,    7.55,2,    3.63,2,    0.42,2
 09FA9503_1,      IR6_3,      68,          1,         11,         10,2,19950422,       1242,   -22.1538,   113.4427,         10,   198.4,  19.4160,  35.7300,2,  35.7260,2,-999.0000,5,   193.6,2,    6.35,2,    3.54,2,    0.40,2
 09FA9503_1,      IR6_3,      68,          1,         10,          3,2,19950422,       1242,   -22.1538,   113.4427,         10,   298.0,  15.6850,  35.6190,2,  35.6262,2,-999.0000,5,   214.2,2,    5.94,2,    4.54,2,    0.49,2
 09FA9503_1,      IR6_3,      68,          1,          9,         41,2,19950422,       1242,   -22.1538,   113.4427,         10,   397.2,  11.2750,  35.0030,2,  35.0003,2,-999.0000,5,   234.5,2,    6.32,2,   11.26,2,    0.91,2
 09FA9503_1,      IR6_3,      68,          1,          8,         20,2,19950422,       1242,   -22.1538,   113.4427,         10,   495.5,   9.0370,  34.6780,2,  34.6776,2,-999.0000,5,   225.2,2,   10.18,2,   18.20,2,    1.35,2
 09FA9503_1,      IR6_3,      68,          1,          7,          7,2,19950422,       1242,   -22.1538,   113.4427,         10,   596.7,   6.9110,  34.5370,2,  34.5359,2,-999.0000,5,   173.6,2,   30.95,2,   27.43,2,    1.98,2
 09FA9503_1,      IR6_3,      68,          1,          6,         19,2,19950422,       1242,   -22.1538,   113.4427,         10,   696.9,   6.1420,  34.5790,2,  34.5795,2,-999.0000,5,   124.9,2,   57.97,2,   32.60,2,    2.39,2
 09FA9503_1,      IR6_3,      68,          1,          5,         35,2,19950422,       1242,   -22.1538,   113.4427,         10,   796.7,   5.7230,  34.6090,2,  34.6073,2,-999.0000,5,   106.2,2,   72.39,2,   34.36,2,    2.55,2
 09FA9503_1,      IR6_3,      68,          1,          4,          5,2,19950422,       1242,   -22.1538,   113.4427,         10,   894.6,   5.3230,  34.6250,2,  34.6230,2,-999.0000,5,    99.4,2,   82.94,2,   35.43,2,    2.54,2
 09FA9503_1,      IR6_3,      68,          1,          3,          4,2,19950422,       1242,   -22.1538,   113.4427,         10,   989.1,   5.1200,  34.6300,2,  34.6285,2,-999.0000,5,    98.9,2,   87.52,2,   35.59,2,    2.55,2
 09FA9503_1,      IR6_3,      68,          1,          2,          2,2,19950422,       1242,   -22.1538,   113.4427,         10,  1197.0,   4.5230,  34.6350,2,  34.6340,2,-999.0000,5,   102.7,2,   96.25,2,   35.80,2,    2.54,2
 09FA9503_1,      IR6_3,      68,          1,          1,          1,2,19950422,       1242,   -22.1538,   113.4427,         10,  1296.3,   4.3230,  34.6390,2,  34.6372,2,-999.0000,5,   108.3,2,   96.93,2,   35.89,2,    2.54,2