BOTTLE,20211025CCHSIORKP
EXPOCODE,SECT_ID,STNNBR,CASTNO,SAMPNO,BTLNBR,BTLNBR_FLAG_W,DATE,TIME,LATITUDE,LONGITUDE,DEPTH,CTDPRS,CTDTMP,CTDSAL,CTDSAL_FLAG_W,SALNTY,SALNTY_FLAG_W,CTDOXY,CTDOXY_FLAG_W,OXYGEN,OXYGEN_FLAG_W,SILCAT,SILCAT_FLAG_W,NITRAT,NITRAT_FLAG_W,NITRIT,NITRIT_FLAG_W,PHSPHT,PHSPHT_FLAG_W,CFC-11,CFC-11_FLAG_W,CFC-12,CFC-12_FLAG_W,CFC113,CFC113_FLAG_W,SF6,SF6_FLAG_W,TCARBN,TCARBN_FLAG_W,ALKALI,ALKALI_FLAG_W,PH_SWS,PH_SWS_FLAG_W,PH_TMP,CCL4,CCL4_FLAG_W,CTDRAW,THETA
,,,,,,,,,,,METERS,DBAR,ITS-90,PSS-78,,PSS-78,,UMOL/KG,,UMOL/KG,,UMOL/KG,,UMOL/KG,,UMOL/KG,,UMOL/KG,,PMOL/KG,,PMOL/KG,,PMOL/KG,,FMOL/KG,,UMOL/KG,,UMOL/KG,,,,DEG C,PMOL/KG,,DBAR,DEG C
77DN20050819,      AOS05,       9,          1,     282785,         36,2,20050824,       1619,    76.5820,  -149.7213,       3744,     2.1,  -1.3204,  26.9663,2,  26.9262,2,    387.9,2,   389.9,2,    2.34,2,    0.08,2,    0.00,2,    0.56,2,   7.186,2,   3.839,2,   0.741,2,-999.0000,9,  -999.0,9,  -999.0,9,-999.0000,9,  -999.00,   3.211,3,    2.10,  -1.3204
77DN20050819,      AOS05,       9,          1,     282784,         35,2,20050824,       1619,    76.5820,  -149.7213,       3744,     8.6,  -1.2913,  27.3943,2,  27.1633,3,    388.2,2,   390.9,2,    2.33,2,    0.08,2,    0.00,2,    0.56,2,   7.290,2,   3.857,2,   0.714,2,   2.1000,2,  1902.8,2,  1988.5,2,   7.8583,6,    15.00,   6.882,2,    8.60,  -1.2914
77DN20050819,      AOS05,       9,          1,     282783,         34,2,20050824,       1619,    76.5820,  -149.7213,       3744,    17.8,  -1.2408,  29.2277,3,  29.2069,2,    391.2,2,   396.8,2,    1.95,2,    0.08,2,    0.00,2,    0.64,2,   7.419,2,   4.171,2,   0.687,2,-999.0000,9,  2003.2,2,  2103.7,2,   7.8552,2,    15.00,   6.904,2,   17.80,  -1.2411
77DN20050819,      AOS05,       9,          1,     282782,         33,2,20050824,       1619,    76.5820,  -149.7213,       3744,    27.9,  -1.2696,  30.5040,2,  30.3260,2,    406.0,2,   403.2,2,    1.48,2,    0.08,2,    0.00,2,    0.70,2,   7.278,2,   3.842,2,   0.670,2,-999.0000,9,  2053.4,2,  2166.5,2,   7.8807,2,    15.00,   6.744,2,   27.90,  -1.2700
77DN20050819,      AOS05,       9,          1,     282781,         32,2,20050824,       1619,    76.5820,  -149.7213,       3744,    38.0,  -1.4034,  30.7833,2,  31.7511,4,    406.8,2,   412.2,2,    0.82,2,    0.07,2,    0.00,2,    0.75,2,   7.363,2,   3.964,2,   0.660,2,-999.0000,9,  2075.1,2,  2188.7,2,   7.8829,2,    15.00,   7.761,2,   38.00,  -1.4040
77DN20050819,      AOS05,       9,          1,     282780,         31,2,20050824,       1619,    76.5820,  -149.7213,       3744,    58.0,  -1.5559,  31.0864,2,  31.0921,2,    378.4,2,   372.2,2,    6.55,2,    2.16,2,    0.09,2,    0.90,2,   7.181,2,   3.916,2,   0.654,2,   2.1300,2,  2099.5,2,  2197.2,2,   7.8407,2,    15.00,   5.707,2,   58.00,  -1.5568
77DN20050819,      AOS05,       9,          1,     282779,         30,2,20050824,       1619,    76.5820,  -149.7213,       3744,    78.0,  -0.8947,  31.6855,2,  30.7891,4,    352.3,2,   347.4,2,   11.65,2,    5.62,2,    0.01,2,    1.19,2,   6.692,2,   3.606,2,   0.545,2,-999.0000,9,  2111.4,2,  2198.2,2,   7.8101,2,    15.00,   5.750,2,   78.00,  -0.8965
77DN20050819,      AOS05,       9,          1,     282778,         29,2,20050824,       1619,    76.5820,  -149.7213,       3744,    98.2,  -1.1877,  32.2714,2,  32.3593,2,    325.7,2,   315.2,2,   22.76,2,   11.10,2,    0.00,2,    1.62,2,   6.406,2,   3.605,2,   0.516,2,   1.8200,2,  2177.6,2,  2228.7,2,   7.6841,2,    15.00,   3.407,3,   98.20,  -1.1898
77DN20050819,      AOS05,       9,          1,     282777,         28,2,20050824,       1619,    76.5820,  -149.7213,       3744,   113.5,  -1.2603,  32.4872,2,  32.5234,2,    308.2,2,   303.6,2,   26.68,2,   12.74,2,    0.00,2,    1.74,2,   6.319,2,   3.394,2,   0.458,2,-999.0000,9,  2197.8,2,  2235.5,2,   7.6576,2,    15.00,   5.161,2,  113.50,  -1.2627
77DN20050819,      AOS05,       9,          1,     282776,         27,2,20050824,       1619,    76.5820,  -149.7213,       3744,   128.8,  -1.3877,  32.6405,2,  32.6673,2,    300.0,2,   299.2,2,   30.13,2,   13.53,2,    0.00,2,    1.78,2,   6.108,2,   3.162,2,   0.495,2,   1.5700,2,  2209.4,2,  2242.8,2,   7.6356,2,    15.00,   2.766,3,  128.80,  -1.3903
77DN20050819,      AOS05,       9,          1,     282775,         26,2,20050824,       1619,    76.5820,  -149.7213,       3744,   144.1,  -1.5256,  32.8229,2,  32.8522,2,    288.0,2,   295.9,2,   33.11,2,   14.27,2,    0.00,2,    1.82,2,   6.025,2,   3.049,2,   0.425,2,   1.4300,2,  2224.2,2,  2256.0,2,   7.6253,2,    15.00,   4.734,2,  144.10,  -1.5285
77DN20050819,      AOS05,       9,          1,     282774,         25,2,20050824,       1619,    76.5820,  -149.7213,       3744,   159.3,  -1.5191,  33.0216,2,  33.0688,2,    279.8,2,   282.6,2,   37.34,2,   15.53,2,    0.00,2,    1.92,2,   6.151,2,   3.239,2,   0.447,2,   1.5000,2,  2245.1,2,  2263.3,2,   7.5763,2,    15.00,   4.982,2,  159.30,  -1.5224
77DN20050819,      AOS05,       9,          1,     282773,         24,2,20050824,       1619,    76.5820,  -149.7213,       3744,   174.6,  -1.4145,  33.3032,2,  33.3958,2,    274.4,2,   270.3,2,   35.22,2,   15.43,2,    0.00,2,    1.82,2,   5.710,2,   2.870,2,   0.374,2,   1.2600,2,  2249.6,2,  2273.5,2,   7.5991,2,    15.00,   3.924,3,  174.60,  -1.4184
77DN20050819,      AOS05,       9,          1,     282772,         23,2,20050824,       1619,    76.5820,  -149.7213,       3744,   189.9,  -1.2840,  33.6931,2,  33.8194,2,    269.1,2,   269.1,2,   26.96,2,   14.01,2,    0.00,2,    1.49,2,   5.780,2,   2.850,2,   0.375,2,   1.3100,2,  2242.5,2,  2278.9,2,   7.6479,2,    15.00,   4.267,2,  189.90,  -1.2886
77DN20050819,      AOS05,       9,          1,     282771,         22,2,20050824,       1619,    76.5820,  -149.7213,       3744,   205.2,  -1.1998,  34.0085,2,  34.0981,2,    270.0,2,   278.5,2,   17.03,2,   12.08,2,    0.00,2,    1.13,2,   5.811,2,   2.781,2,   0.370,2,   1.1300,2,  2212.5,2,  2276.4,2,   7.7094,2,    15.00,   3.290,3,  205.20,  -1.2051
77DN20050819,      AOS05,       9,          1,     282770,         21,2,20050824,       1619,    76.5820,  -149.7213,       3744,   225.5,  -0.9146,  34.2652,2,  34.2871,2,    284.2,2,   289.6,2,   10.39,2,   10.76,2,    0.00,2,    0.89,2,   6.172,2,   3.073,2,   0.402,2,   1.2700,2,  2192.4,2,  2272.4,2,   7.7682,2,    15.00,   4.121,2,  225.50,  -0.9211
77DN20050819,      AOS05,       9,          1,     282769,         20,2,20050824,       1619,    76.5820,  -149.7213,       3744,   275.6,   0.0364,  34.5624,2,  34.5749,2,    286.6,2,   290.3,2,    7.66,2,   11.51,2,    0.00,2,    0.85,2,   5.732,2,   2.736,2,   0.361,2,   0.9100,2,  2177.7,2,  2275.4,2,   7.8029,2,    15.00,   4.870,2,  275.60,   0.0259
77DN20050819,      AOS05,       9,          1,     282768,         19,2,20050824,       1619,    76.5820,  -149.7213,       3744,   345.3,   0.7914,  34.7808,2,  34.7851,2,    295.2,2,   294.7,2,    6.24,2,   12.29,2,    0.00,2,    0.85,2,   5.095,2,   2.324,2,   0.306,2,   0.9100,2,  2177.9,2,  2280.1,2,   7.8434,2,    15.00,   4.767,2,  345.30,   0.7758
77DN20050819,      AOS05,       9,          1,     282767,         18,2,20050824,       1619,    76.5820,  -149.7213,       3744,   415.1,   0.9865,  34.8371,2,  34.8454,2,    297.5,2,   297.9,2,    5.77,2,   12.37,2,    0.00,2,    0.84,2,   5.663,2,   2.803,3,   0.436,3,   0.8800,2,  2171.1,2,  2281.9,2,   7.8547,2,    15.00,   5.354,2,  415.10,   0.9668
77DN20050819,      AOS05,       9,          1,     282766,         17,2,20050824,       1619,    76.5820,  -149.7213,       3744,   489.8,   0.8536,  34.8518,2,  34.8530,2,    297.0,2,   298.7,2,    5.87,2,   12.46,2,    0.00,2,    0.86,2,   5.075,2,   2.405,2,   0.307,2,   0.6300,2,  2175.3,2,  2280.5,6,   7.8527,2,    15.00,   5.352,2,  489.80,   0.8305
77DN20050819,      AOS05,       9,          1,     282765,         16,2,20050824,       1619,    76.5820,  -149.7213,       3744,   593.0,   0.5767,  34.8538,2,  34.8562,2,    300.1,2,   303.9,4,    6.05,2,   12.46,2,    0.00,2,    0.86,2,-999.000,5,-999.000,5,-999.000,5,   0.6800,2,  2178.1,2,  2283.1,2,   7.8518,2,    15.00,-999.000,5,  593.00,   0.5496
77DN20050819,      AOS05,       9,          1,     282764,         15,2,20050824,       1619,    76.5820,  -149.7213,       3744,   742.3,   0.3297,  34.8638,2,  34.8635,2,    299.1,2,   301.1,2,    6.05,2,   12.50,2,    0.00,2,    0.86,2,   4.033,2,   1.874,2,   0.229,2,   0.3700,2,  2173.2,2,  2282.5,2,   7.8482,6,    15.00,   4.129,2,  742.30,   0.2963
77DN20050819,      AOS05,       9,          1,     282763,         14,2,20050824,       1619,    76.5820,  -149.7213,       3744,   891.8,   0.0921,  34.8708,2,  34.8712,2,    300.8,2,   302.5,2,    6.24,2,   12.59,2,    0.00,2,    0.87,2,   3.807,2,   1.803,2,   0.206,2,   0.4600,2,  2175.5,2,  2283.8,6,   7.8514,2,    15.00,   4.327,2,  891.80,   0.0526
77DN20050819,      AOS05,       9,          1,     282762,         13,2,20050824,       1619,    76.5820,  -149.7213,       3744,  1041.4,  -0.0495,  34.8814,2,  34.8828,2,    300.2,2,   301.6,2,    6.52,2,   12.72,2,    0.00,2,    0.88,2,   3.039,2,   1.433,2,   0.157,2,   0.3900,2,  2172.4,2,  2283.8,2,   7.8542,2,    15.00,   3.976,2, 1041.40,  -0.0959
77DN20050819,      AOS05,       9,          1,     282761,         12,2,20050824,       1619,    76.5820,  -149.7213,       3744,  1195.2,  -0.1534,  34.8918,2,  34.8944,2,    300.1,2,   301.1,2,    6.90,2,   12.90,2,    0.00,2,    0.90,2,   2.791,2,   1.262,2,   0.156,2,   0.3600,2,  2171.9,2,  2285.7,2,   7.8588,2,    15.00,   3.750,2, 1195.20,  -0.2073
77DN20050819,      AOS05,       9,          1,     282758,          9,2,20050824,       1619,    76.5820,  -149.7213,       3744,  1395.2,  -0.2556,  34.9076,2,  34.9090,2,    299.2,2,   300.2,2,    7.65,2,   13.18,2,    0.00,2,    0.92,2,   1.589,2,   0.775,2,   0.080,2,   0.0000,2,  2168.1,2,  2285.6,2,   7.8658,2,    15.00,   2.531,2, 1395.20,  -0.3198
77DN20050819,      AOS05,       9,          1,     282759,         10,2,20050824,       1619,    76.5820,  -149.7213,       3744,  1395.2,  -0.2560,  34.9076,2,-999.0000,9,   -999.0,9,  -999.0,9, -999.00,9, -999.00,9, -999.00,9, -999.00,9,-999.000,9,-999.000,9,-999.000,9,-999.0000,9,  -999.0,9,  -999.0,9,-999.0000,9,  -999.00,-999.000,9, 1395.20,  -0.3203
77DN20050819,      AOS05,       9,          1,     282760,         11,2,20050824,       1619,    76.5820,  -149.7213,       3744,  1395.2,  -0.2557,  34.9076,2,-999.0000,9,   -999.0,9,  -999.0,9, -999.00,9, -999.00,9, -999.00,9, -999.00,9,-999.000,9,-999.000,9,-999.000,9,-999.0000,9,  -999.0,9,  -999.0,9,-999.0000,9,  -999.00,-999.000,9, 1395.20,  -0.3199
77DN20050819,      AOS05,       9,          1,     282757,          8,2,20050824,       1619,    76.5820,  -149.7213,       3744,  1648.7,  -0.3514,  34.9248,2,  34.9247,2,    297.0,2,   298.0,2,    8.78,2,   13.67,2,    0.00,2,    0.95,2,   0.523,2,   0.359,2,   0.000,2,   0.0000,2,  2169.1,2,  2286.8,2,   7.8737,2,    15.00,   1.110,2, 1648.70,  -0.4297
77DN20050819,      AOS05,       9,          1,     282756,          7,2,20050824,       1619,    76.5820,  -149.7213,       3744,  1948.6,  -0.4067,  34.9407,2,  34.9456,3,    292.4,2,   293.6,2,   10.11,2,   14.13,2,    0.00,2,    0.99,2,   0.281,2,   0.362,2,   0.000,2,   0.0000,2,  2167.1,2,  2288.4,2,   7.8778,2,    15.00,   0.591,2, 1948.60,  -0.5035
77DN20050819,      AOS05,       9,          1,     282755,          6,2,20050824,       1619,    76.5820,  -149.7213,       3744,  2248.6,  -0.4034,  34.9500,2,  34.9505,2,    288.5,2,   289.9,2,   11.43,2,   14.46,2,    0.00,2,    1.01,2,   1.167,2,   0.680,2,   0.102,2,-999.0000,9,  2168.0,2,  2289.5,2,   7.8798,2,    15.00,   1.492,2, 2248.60,  -0.5210
77DN20050819,      AOS05,       9,          1,     282754,          5,2,20050824,       1619,    76.5820,  -149.7213,       3744,  2549.5,  -0.3819,  34.9549,2,  34.9561,2,    286.1,2,   287.3,2,   12.10,2,   14.59,2,    0.00,2,    1.02,2,   0.943,2,   0.540,2,   0.078,2,   0.0000,2,  2168.3,2,  2290.7,2,   7.8769,2,    15.00,   0.978,2, 2549.50,  -0.5221
77DN20050819,      AOS05,       9,          1,     282753,          4,2,20050824,       1619,    76.5820,  -149.7213,       3744,  2855.0,  -0.3474,  34.9581,2,  34.9580,2,    283.6,2,   284.9,2,   12.95,2,   14.63,2,    0.00,2,    1.02,2,   0.056,2,   0.117,2,   0.000,2,-999.0000,9,  2173.9,2,  2290.4,2,   7.8733,2,    15.00,   0.044,2, 2855.00,  -0.5124
77DN20050819,      AOS05,       9,          1,     282752,          3,2,20050824,       1619,    76.5820,  -149.7213,       3744,  3211.6,  -0.3166,  34.9580,2,  34.9592,2,    284.1,2,   290.5,4,   12.86,2,   14.62,2,    0.00,2,    1.02,2,   0.068,2,   0.119,2,   0.000,2,-999.0000,9,  2169.7,2,  2291.8,2,   7.8726,2,    15.00,   0.028,2, 3211.60,  -0.5124
77DN20050819,      AOS05,       9,          1,     282751,          2,2,20050824,       1619,    76.5820,  -149.7213,       3744,  3615.2,  -0.2791,  34.9578,2,  34.9584,2,    283.9,2,   284.8,2,   12.86,2,   14.61,2,    0.00,2,    1.02,2,   0.074,2,   0.141,2,   0.000,2,-999.0000,5,  2172.3,2,  2296.0,2,   7.8769,2,    15.00,   0.044,2, 3615.20,  -0.5122
77DN20050819,      AOS05,       9,          1,     282750,          1,2,20050824,       1619,    76.5820,  -149.7213,       3744,  3894.1,  -0.2515,  34.9577,2,  34.9588,2,    283.6,2,   284.7,2,   12.86,2,   14.65,2,    0.00,2,    1.02,2,   0.339,2,   0.270,2,   0.000,2,   0.0000,2,  2172.9,2,  2293.6,6,   7.8732,2,    15.00,   0.209,2, 3894.10,  -0.5118