BOTTLE,20211025CCHSIORKP
EXPOCODE,SECT_ID,STNNBR,CASTNO,SAMPNO,BTLNBR,BTLNBR_FLAG_W,DATE,TIME,LATITUDE,LONGITUDE,DEPTH,CTDPRS,CTDTMP,CTDSAL,CTDSAL_FLAG_W,SALNTY,SALNTY_FLAG_W,CTDOXY,CTDOXY_FLAG_W,OXYGEN,OXYGEN_FLAG_W,SILCAT,SILCAT_FLAG_W,NITRAT,NITRAT_FLAG_W,NITRIT,NITRIT_FLAG_W,PHSPHT,PHSPHT_FLAG_W,CFC-11,CFC-11_FLAG_W,CFC-12,CFC-12_FLAG_W,CFC113,CFC113_FLAG_W,SF6,SF6_FLAG_W,TCARBN,TCARBN_FLAG_W,ALKALI,ALKALI_FLAG_W,PH_SWS,PH_SWS_FLAG_W,PH_TMP,CCL4,CCL4_FLAG_W,CTDRAW,THETA
,,,,,,,,,,,METERS,DBAR,ITS-90,PSS-78,,PSS-78,,UMOL/KG,,UMOL/KG,,UMOL/KG,,UMOL/KG,,UMOL/KG,,UMOL/KG,,PMOL/KG,,PMOL/KG,,PMOL/KG,,FMOL/KG,,UMOL/KG,,UMOL/KG,,,,DEG C,PMOL/KG,,DBAR,DEG C
77DN20050819,      AOS05,      20,          1,     283118,         36,2,20050831,       2334,    83.4905,  -148.2920,       2811,     1.5,  -1.5908,  30.1907,2,  30.1545,2,    393.5,2,   394.6,2,    5.43,2,    0.10,2,    0.00,2,    0.95,2,-999.000,9,-999.000,9,-999.000,9,-999.0000,9,  -999.0,9,  -999.0,9,-999.0000,9,  -999.00,-999.000,9,    1.50,  -1.5908
77DN20050819,      AOS05,      20,          1,     283117,         35,2,20050831,       2334,    83.4905,  -148.2920,       2811,     9.6,  -1.5814,  30.2756,2,  30.2192,2,    393.2,2,   394.2,2,    5.32,2,    0.10,2,    0.00,2,    0.95,2,   7.688,2,   4.342,2,   0.724,2,   2.3500,2,  1988.4,2,  2101.3,2,   7.8699,2,    15.00,   7.365,2,    9.60,  -1.5815
77DN20050819,      AOS05,      20,          1,     283116,         34,2,20050831,       2334,    83.4905,  -148.2920,       2811,    19.8,  -1.5657,  30.3634,2,  30.5354,2,    393.2,2,   395.1,2,    5.01,2,    0.10,2,    0.00,2,    0.92,2,   7.538,2,   4.243,2,   0.777,2,   2.5100,2,  2012.5,2,  2124.0,2,   7.8717,2,    15.00,   7.155,2,   19.80,  -1.5660
77DN20050819,      AOS05,      20,          1,     283115,         33,2,20050831,       2334,    83.4905,  -148.2920,       2811,    33.1,  -1.5780,  30.9374,2,  30.9573,2,    394.4,2,   393.0,2,    4.52,2,    0.16,2,    0.08,2,    0.90,2,   0.077,4,-999.000,5,   0.000,4,   2.3500,2,  2042.8,2,  2156.3,2,   7.8673,2,    15.00,   0.119,4,   33.10,  -1.5785
77DN20050819,      AOS05,      20,          1,     283114,         32,2,20050831,       2334,    83.4905,  -148.2920,       2811,    53.2,  -1.6459,  31.0410,2,  31.0521,2,    389.6,2,   385.7,2,    5.20,2,    0.99,2,    0.03,2,    0.98,2,   6.289,3,   1.378,5,   0.521,2,   2.4200,2,  2058.0,2,  2159.4,2,   7.8484,2,    15.00,   5.725,2,   53.20,  -1.6466
77DN20050819,      AOS05,      20,          1,     283113,         31,2,20050831,       2334,    83.4905,  -148.2920,       2811,    68.5,  -1.5974,  31.2665,2,  31.2900,2,    371.4,2,   358.7,2,    8.86,2,    3.36,2,    0.01,2,    1.14,2,   6.854,2,   3.954,2,   0.640,2,   2.2200,2,  2075.9,2,  2164.9,2,   7.8020,2,    15.00,   5.858,2,   68.50,  -1.5984
77DN20050819,      AOS05,      20,          1,     283111,         29,2,20050831,       2334,    83.4905,  -148.2920,       2811,    83.8,  -1.4884,  31.7217,2,-999.0000,9,   -999.0,9,  -999.0,9, -999.00,9, -999.00,9, -999.00,9, -999.00,9,-999.000,9,-999.000,9,-999.000,9,-999.0000,9,  -999.0,9,  -999.0,9,-999.0000,9,  -999.00,-999.000,9,   83.80,  -1.4898
77DN20050819,      AOS05,      20,          1,     283110,         28,2,20050831,       2334,    83.4905,  -148.2920,       2811,    83.8,  -1.4872,  31.7280,2,  31.8337,2,    334.4,2,   310.9,2,   16.30,2,    7.83,2,    0.01,2,    1.42,2,   6.711,2,   3.746,2,   0.550,2,   1.9500,2,  2126.8,2,  2188.8,2,   7.7153,2,    15.00,   4.499,2,   83.80,  -1.4886
77DN20050819,      AOS05,      20,          1,     283112,         30,2,20050831,       2334,    83.4905,  -148.2920,       2811,    83.8,  -1.4897,  31.7207,2,-999.0000,9,   -999.0,9,  -999.0,9, -999.00,9, -999.00,9, -999.00,9, -999.00,9,-999.000,9,-999.000,9,-999.000,9,-999.0000,9,  -999.0,9,  -999.0,9,-999.0000,9,  -999.00,-999.000,9,   83.80,  -1.4912
77DN20050819,      AOS05,      20,          1,     283109,         27,2,20050831,       2334,    83.4905,  -148.2920,       2811,    99.0,  -1.2945,  32.6037,2,-999.0000,9,    283.0,2,   250.3,2,   33.25,2,   14.19,2,    0.00,2,    1.84,2,-999.000,5,-999.000,5,-999.000,5,   1.7900,2,  2220.5,2,  2231.2,2,   7.5664,2,    15.00,-999.000,5,   99.00,  -1.2966
77DN20050819,      AOS05,      20,          1,     283108,         26,2,20050831,       2334,    83.4905,  -148.2920,       2811,   114.3,  -1.4623,  33.2125,2,  33.4337,2,    262.5,2,   263.3,2,   29.22,2,   13.69,2,    0.00,2,    1.57,2,   6.444,2,   3.226,2,   0.411,2,   1.4400,2,  2238.2,2,  2264.2,2,   7.6134,2,    15.00,   3.764,2,  114.30,  -1.4647
77DN20050819,      AOS05,      20,          1,     283105,         23,2,20050831,       2334,    83.4905,  -148.2920,       2811,   129.6,  -1.4796,  33.6967,2,  33.7926,2,    271.1,2,   283.5,2,   17.17,2,   11.19,2,    0.00,2,    1.11,2,   6.336,2,   3.399,2,   0.475,2,   1.2700,2,  2206.9,2,  2269.0,2,   7.7054,2,    15.00,   4.164,2,  129.60,  -1.4824
77DN20050819,      AOS05,      20,          1,     283107,         25,2,20050831,       2334,    83.4905,  -148.2920,       2811,   129.6,  -1.4792,  33.6982,2,-999.0000,9,   -999.0,9,  -999.0,9, -999.00,9, -999.00,9, -999.00,9, -999.00,9,-999.000,9,-999.000,9,-999.000,9,-999.0000,9,  -999.0,9,  -999.0,9,-999.0000,9,  -999.00,-999.000,9,  129.60,  -1.4820
77DN20050819,      AOS05,      20,          1,     283106,         24,2,20050831,       2334,    83.4905,  -148.2920,       2811,   129.6,  -1.4796,  33.6922,2,-999.0000,9,   -999.0,9,  -999.0,9, -999.00,9, -999.00,9, -999.00,9, -999.00,9,-999.000,9,-999.000,9,-999.000,9,-999.0000,9,  -999.0,9,  -999.0,9,-999.0000,9,  -999.00,-999.000,9,  129.60,  -1.4824
77DN20050819,      AOS05,      20,          1,     283104,         22,3,20050831,       2334,    83.4905,  -148.2920,       2811,   144.9,  -1.4775,  33.9652,2,  34.0193,2,    294.9,2,   299.2,2,    9.12,2,    9.72,2,    0.00,2,    0.83,2,   5.505,3,-999.000,5,   0.312,3,   1.2000,2,  2188.5,2,  2268.7,2,   7.7693,2,    15.00,   3.316,2,  144.90,  -1.4808
77DN20050819,      AOS05,      20,          1,     283103,         21,2,20050831,       2334,    83.4905,  -148.2920,       2811,   160.2,  -1.1866,  34.1594,2,-999.0000,9,    302.2,2,   304.0,2,    6.66,2,    9.67,2,    0.00,2,    0.77,2,   5.977,2,   3.144,2,   0.446,2,   1.2800,2,  2179.9,2,  2270.3,2,   7.7975,2,    15.00,   4.734,2,  160.20,  -1.1907
77DN20050819,      AOS05,      20,          1,     283102,         20,2,20050831,       2334,    83.4905,  -148.2920,       2811,   180.4,  -0.7147,  34.3007,2,  34.3181,2,    300.6,2,   300.6,2,    6.27,2,   10.13,2,    0.00,2,    0.78,2,   5.543,2,   2.858,2,   0.395,2,   1.0300,2,  2184.9,2,  2271.7,2,   7.8131,2,    15.00,   4.786,2,  180.40,  -0.7201
77DN20050819,      AOS05,      20,          1,     283101,         19,2,20050831,       2334,    83.4905,  -148.2920,       2811,   200.7,  -0.3944,  34.4047,2,  34.4188,2,    294.6,2,   295.9,2,    6.86,2,   10.91,2,    0.00,2,    0.81,2,   5.107,2,   2.510,2,   0.319,2,   0.9200,2,  2178.0,2,  2277.1,2,   7.8114,2,    15.00,   3.989,2,  200.70,  -0.4010
77DN20050819,      AOS05,      20,          1,     283100,         18,2,20050831,       2334,    83.4905,  -148.2920,       2811,   230.8,  -0.0452,  34.5540,2,  34.5745,2,    285.9,2,   286.6,2,    8.53,2,   12.19,2,    0.00,2,    0.88,2,   3.696,2,   1.911,2,   0.238,2,   0.5000,2,  2175.5,2,  2279.8,2,   7.8211,2,    15.00,   4.440,2,  230.80,  -0.0536
77DN20050819,      AOS05,      20,          1,     283099,         17,2,20050831,       2334,    83.4905,  -148.2920,       2811,   268.0,   0.3243,  34.7008,2,  34.7146,2,    281.3,2,   282.0,2,    9.39,2,   13.15,2,    0.00,2,    0.94,2,   2.386,3,   1.198,3,   0.134,2,   0.4500,2,  2178.2,2,  2285.2,2,   7.8337,2,    15.00,   3.252,2,  268.00,   0.3134
77DN20050819,      AOS05,      20,          1,     283098,         16,2,20050831,       2334,    83.4905,  -148.2920,       2811,   318.0,   0.5161,  34.8024,2,  34.8182,2,    283.9,2,   289.2,2,    7.83,2,   13.19,2,    0.00,2,    0.91,2,   2.989,2,   1.478,2,   0.169,2,   0.4600,2,  2176.6,2,  2288.6,2,   7.8570,2,    15.00,   3.579,2,  318.00,   0.5026
77DN20050819,      AOS05,      20,          1,     283097,         15,2,20050831,       2334,    83.4905,  -148.2920,       2811,   373.1,   0.4648,  34.8401,2,  34.8430,2,    289.2,2,   290.0,2,    7.71,2,   13.28,2,    0.00,2,    0.92,2,   2.364,2,   1.175,2,   0.113,2,   0.5100,2,  2172.2,2,  2292.9,2,   7.8627,2,    15.00,   3.681,2,  373.10,   0.4489
77DN20050819,      AOS05,      20,          1,     283096,         14,2,20050831,       2334,    83.4905,  -148.2920,       2811,   442.8,   0.4512,  34.8601,2,  34.8598,2,    290.0,2,   291.0,2,    7.58,2,   13.38,2,    0.00,2,    0.92,2,   1.880,2,   0.951,2,   0.100,2,   0.4600,2,  2174.4,2,  2293.0,2,   7.8680,2,    15.00,   3.091,2,  442.80,   0.4320
77DN20050819,      AOS05,      20,          1,     283095,         13,2,20050831,       2334,    83.4905,  -148.2920,       2811,   546.4,   0.3983,  34.8705,2,  34.8708,2,    291.5,2,   292.1,2,    7.55,2,   13.38,2,    0.00,2,    0.93,2,   1.150,4,   0.130,4,   0.000,4,   0.4600,2,  2165.4,2,  2291.5,2,   7.8706,2,    15.00,   0.868,4,  546.40,   0.3744
77DN20050819,      AOS05,      20,          1,     283094,         12,2,20050831,       2334,    83.4905,  -148.2920,       2811,   645.9,   0.2737,  34.8806,2,  34.8809,2,    294.3,2,   294.4,2,    7.51,2,   13.38,2,    0.00,2,    0.93,2,   1.019,2,   0.467,2,   0.042,2,   0.2600,2,  2170.7,2,  2293.0,2,   7.8728,2,    15.00,   1.889,2,  645.90,   0.2454
77DN20050819,      AOS05,      20,          1,     283093,         11,2,20050831,       2334,    83.4905,  -148.2920,       2811,   795.4,   0.0952,  34.8907,2,  34.8901,2,    296.1,2,   296.8,2,    6.67,2,   13.33,2,    0.00,2,    0.93,2,   0.764,2,   0.387,2,   0.000,2,   0.2300,2,  2171.2,2,  2296.0,2,   7.8748,2,    15.00,   1.927,2,  795.40,   0.0605
77DN20050819,      AOS05,      20,          1,     283092,         10,2,20050831,       2334,    83.4905,  -148.2920,       2811,   944.9,  -0.0534,  34.8988,2,  34.8984,2,    297.1,2,   298.1,2,    6.82,2,   13.34,2,    0.00,2,    0.94,2,   0.634,2,   0.386,2,   0.000,2,-999.0000,5,  2169.0,2,  2295.5,2,   7.8785,2,    15.00,   1.553,2,  944.90,  -0.0947
77DN20050819,      AOS05,      20,          1,     283091,          9,2,20050831,       2334,    83.4905,  -148.2920,       2811,  1098.6,  -0.1565,  34.9083,2,-999.0000,9,    297.0,2,   298.0,2, -999.00,9, -999.00,9, -999.00,9, -999.00,9,   0.319,2,   0.177,2,   0.000,2,   0.1900,2,  2166.6,2,  2294.0,2,   7.8805,2,    15.00,   1.319,2, 1098.60,  -0.2051
77DN20050819,      AOS05,      20,          1,     283090,          8,2,20050831,       2334,    83.4905,  -148.2920,       2811,  1248.4,  -0.2404,  34.9160,2,  34.9152,2,    296.5,2,   297.9,2,    7.87,2,   13.70,2,    0.00,2,    0.96,2,   0.245,2,   0.144,2,   0.000,2,   0.0000,2,  2172.8,2,  2295.8,2,   7.8815,2,    15.00,   1.497,2, 1248.40,  -0.2964
77DN20050819,      AOS05,      20,          1,     283089,          7,2,20050831,       2334,    83.4905,  -148.2920,       2811,  1448.4,  -0.3290,  34.9263,2,  34.9262,2,    295.2,2,   296.4,2,    8.55,2,   13.97,2,    0.00,2,    0.99,2,   0.180,2,   0.143,2,   0.000,2,   0.0000,2,  2174.5,2,  2296.3,2,   7.8827,2,    15.00,   0.895,2, 1448.40,  -0.3955
77DN20050819,      AOS05,      20,          1,     283088,          6,2,20050831,       2334,    83.4905,  -148.2920,       2811,  1702.0,  -0.3974,  34.9380,2,  34.9382,2,    292.9,2,   294.0,2,    9.87,2,   14.34,2,    0.00,2,    1.01,2,   0.109,2,   0.074,2,   0.000,2,-999.0000,5,  2167.5,2,  2296.5,2,   7.8850,2,    15.00,   0.557,2, 1702.00,  -0.4785
77DN20050819,      AOS05,      20,          1,     283087,          5,2,20050831,       2334,    83.4905,  -148.2920,       2811,  1952.1,  -0.4149,  34.9470,2,  34.9469,2,    289.4,2,   290.5,2,   11.46,2,   14.61,2,    0.00,2,    1.03,2,   0.107,2,   0.079,2,   0.000,2,-999.0000,9,  2172.2,2,  2298.3,2,   7.8851,2,    15.00,   0.307,2, 1952.10,  -0.5119
77DN20050819,      AOS05,      20,          1,     283086,          4,2,20050831,       2334,    83.4905,  -148.2920,       2811,  2156.5,  -0.4074,  34.9522,2,  34.9509,2,    287.1,2,   287.7,2,   12.24,2,   14.79,2,    0.00,2,    1.04,2,   0.106,2,   0.079,2,   0.000,2,   0.0000,2,  2169.1,2,  2299.8,2,   7.8836,2,    15.00,   0.240,2, 2156.50,  -0.5184
77DN20050819,      AOS05,      20,          1,     283085,          3,2,20050831,       2334,    83.4905,  -148.2920,       2811,  2407.5,  -0.3789,  34.9569,2,  34.9572,2,    284.1,2,   285.1,2,   13.20,2,   14.93,2,    0.00,2,    1.05,2,   0.027,2,   0.000,2,   0.000,2,-999.0000,9,  2170.9,2,  2299.9,6,   7.8809,2,    15.00,   0.027,2, 2407.50,  -0.5086
77DN20050819,      AOS05,      20,          1,     283084,          2,2,20050831,       2334,    83.4905,  -148.2920,       2811,  2608.3,  -0.3642,  34.9578,2,  34.9582,2,    284.0,2,   285.1,2,   13.16,2,   14.88,2,    0.00,2,    1.05,2,   0.015,2,   0.034,2,   0.000,2,-999.0000,5,  2176.3,2,  2303.0,2,   7.8759,2,    15.00,   0.020,2, 2608.30,  -0.5093
77DN20050819,      AOS05,      20,          1,     283083,          1,2,20050831,       2334,    83.4905,  -148.2920,       2811,  2813.2,  -0.3471,  34.9581,2,  34.9582,2,    283.9,2,   285.0,2,   13.05,2,   14.89,2,   -0.00,2,    1.05,2,   0.044,2,   0.122,2,   0.000,2,-999.0000,9,  2178.7,2,  2303.9,2,   7.8807,6,    15.00,   0.074,2, 2813.20,  -0.5088