BOTTLE,20211025CCHSIORKP
EXPOCODE,SECT_ID,STNNBR,CASTNO,SAMPNO,BTLNBR,BTLNBR_FLAG_W,DATE,TIME,LATITUDE,LONGITUDE,DEPTH,CTDPRS,CTDTMP,CTDSAL,CTDSAL_FLAG_W,SALNTY,SALNTY_FLAG_W,CTDOXY,CTDOXY_FLAG_W,OXYGEN,OXYGEN_FLAG_W,SILCAT,SILCAT_FLAG_W,NITRAT,NITRAT_FLAG_W,NITRIT,NITRIT_FLAG_W,PHSPHT,PHSPHT_FLAG_W,CFC-11,CFC-11_FLAG_W,CFC-12,CFC-12_FLAG_W,CFC113,CFC113_FLAG_W,SF6,SF6_FLAG_W,TCARBN,TCARBN_FLAG_W,ALKALI,ALKALI_FLAG_W,PH_SWS,PH_SWS_FLAG_W,PH_TMP,CCL4,CCL4_FLAG_W,CTDRAW,THETA
,,,,,,,,,,,METERS,DBAR,ITS-90,PSS-78,,PSS-78,,UMOL/KG,,UMOL/KG,,UMOL/KG,,UMOL/KG,,UMOL/KG,,UMOL/KG,,PMOL/KG,,PMOL/KG,,PMOL/KG,,FMOL/KG,,UMOL/KG,,UMOL/KG,,,,DEG C,PMOL/KG,,DBAR,DEG C
77DN20050819,      AOS05,      39,          1,     283660,         29,2,20050910,       1504,    89.0408,   149.3043,       1874,     9.2,  -1.7105,  31.4743,2,  31.4689,2,    393.1,2,   394.8,2,    3.78,2,    0.48,2,    0.02,2,    0.75,2,   7.304,2,   3.757,2,   0.852,2,-999.0000,9,  2072.8,2,  2178.1,2,   7.8314,2,    15.00,-999.000,5,    9.20,  -1.7106
77DN20050819,      AOS05,      39,          1,     283662,         31,2,20050910,       1504,    89.0408,   149.3043,       1874,     9.2,  -1.7105,  31.4751,2,-999.0000,9,   -999.0,9,  -999.0,9, -999.00,9, -999.00,9, -999.00,9, -999.00,9,-999.000,9,-999.000,9,-999.000,9,-999.0000,9,  -999.0,9,  -999.0,9,-999.0000,9,  -999.00,-999.000,9,    9.20,  -1.7106
77DN20050819,      AOS05,      39,          1,     283661,         30,2,20050910,       1504,    89.0408,   149.3043,       1874,     9.2,  -1.7105,  31.4748,2,-999.0000,9,   -999.0,9,  -999.0,9, -999.00,9, -999.00,9, -999.00,9, -999.00,9,-999.000,9,-999.000,9,-999.000,9,-999.0000,9,  -999.0,9,  -999.0,9,-999.0000,9,  -999.00,-999.000,9,    9.20,  -1.7107
77DN20050819,      AOS05,      39,          1,     283659,         28,2,20050910,       1504,    89.0408,   149.3043,       1874,    24.1,  -1.7088,  31.4978,2,  31.5300,2,    393.5,2,   393.6,2,    4.02,2,    0.58,2,    0.02,2,    0.74,2,   7.610,2,   3.885,2,   0.881,2,-999.0000,9,  2082.0,2,  2178.5,2,   7.8255,2,    15.00,-999.000,5,   24.10,  -1.7092
77DN20050819,      AOS05,      39,          1,     283658,         27,2,20050910,       1504,    89.0408,   149.3043,       1874,    38.2,  -1.7264,  32.3022,2,  32.3778,2,    378.4,2,   370.1,2,    5.41,2,    3.19,2,    0.02,2,    0.71,2,   7.200,2,   3.780,2,   0.773,2,-999.0000,9,  2142.1,2,  2229.1,2,   7.7861,2,    15.00,-999.000,5,   38.20,  -1.7270
77DN20050819,      AOS05,      39,          1,     283657,         26,2,20050910,       1504,    89.0408,   149.3043,       1874,    48.6,  -1.7276,  32.8092,2,-999.0000,9,   -999.0,9,  -999.0,9, -999.00,9, -999.00,9, -999.00,9, -999.00,9,-999.000,9,-999.000,9,-999.000,9,-999.0000,9,  -999.0,9,  -999.0,9,-999.0000,9,  -999.00,-999.000,9,   48.60,  -1.7285
77DN20050819,      AOS05,      39,          1,     283656,         25,2,20050910,       1504,    89.0408,   149.3043,       1874,    48.6,  -1.7277,  32.8077,2,-999.0000,9,   -999.0,9,  -999.0,9, -999.00,9, -999.00,9, -999.00,9, -999.00,9,-999.000,9,-999.000,9,-999.000,9,-999.0000,9,  -999.0,9,  -999.0,9,-999.0000,9,  -999.00,-999.000,9,   48.60,  -1.7286
77DN20050819,      AOS05,      39,          1,     283655,         24,2,20050910,       1504,    89.0408,   149.3043,       1874,    48.6,  -1.7274,  32.8135,2,  32.9213,2,    363.4,2,   347.4,2,    6.27,2,    5.31,2,    0.01,2,    0.65,2,   7.068,2,   3.572,2,   0.721,2,-999.0000,9,  2154.0,2,  2248.4,2,   7.7829,2,    15.00,-999.000,5,   48.60,  -1.7282
77DN20050819,      AOS05,      39,          1,     283654,         23,2,20050910,       1504,    89.0408,   149.3043,       1874,    58.9,  -1.6925,  33.3931,2,  33.4599,2,    337.5,2,   330.2,2,    6.14,2,    6.81,2,    0.01,2,    0.66,2,   6.724,2,   3.387,2,   0.619,2,-999.0000,9,  2171.2,2,  2257.2,2,   7.7774,2,    15.00,-999.000,5,   58.90,  -1.6936
77DN20050819,      AOS05,      39,          1,     283653,         22,2,20050910,       1504,    89.0408,   149.3043,       1874,    69.3,  -1.6399,  33.7830,2,  33.8232,2,    324.3,2,   320.4,2,    5.64,2,    7.55,2,    0.01,2,    0.67,2,   6.465,2,   3.270,2,   0.546,2,-999.0000,9,  2168.2,2,  2256.6,2,   7.7896,2,    15.00,-999.000,5,   69.30,  -1.6413
77DN20050819,      AOS05,      39,          1,     283652,         21,2,20050910,       1504,    89.0408,   149.3043,       1874,    79.6,  -1.5638,  33.9939,2,  34.0269,2,    317.2,2,   317.1,2,    5.24,2,    8.00,2,    0.00,2,    0.67,2,   6.102,2,   3.153,2,   0.575,2,-999.0000,9,  2164.9,2,  2269.5,2,   7.8000,2,    15.00,-999.000,5,   79.60,  -1.5655
77DN20050819,      AOS05,      39,          1,     283651,         20,2,20050910,       1504,    89.0408,   149.3043,       1874,    99.8,  -1.3661,  34.1858,2,  34.1977,2,    313.3,2,   315.0,2,    4.84,2,    8.45,2,    0.00,2,    0.68,2,   6.234,2,   3.172,2,   0.546,2,-999.0000,9,  2162.8,2,  2272.7,2,   7.8108,2,    15.00,-999.000,5,   99.80,  -1.3685
77DN20050819,      AOS05,      39,          1,     283650,         19,2,20050910,       1504,    89.0408,   149.3043,       1874,   120.1,  -0.9390,  34.3683,2,  34.3758,2,    311.4,2,   313.9,2,    4.61,2,    8.98,2,    0.00,2,    0.69,2,   5.880,2,   2.944,2,   0.539,2,-999.0000,9,  2165.1,2,  2279.5,2,   7.8140,2,    15.00,-999.000,5,  120.10,  -0.9424
77DN20050819,      AOS05,      39,          1,     283649,         18,2,20050910,       1504,    89.0408,   149.3043,       1874,   140.4,  -0.7140,  34.4574,2,  34.4661,2,    311.7,2,   312.8,2,    4.40,2,    9.28,2,    0.00,2,    0.71,2,   5.798,2,   2.988,2,   0.543,2,-999.0000,9,  2163.3,2,  2281.8,2,   7.8239,2,    15.00,-999.000,5,  140.40,  -0.7182
77DN20050819,      AOS05,      39,          1,     283648,         17,2,20050910,       1504,    89.0408,   149.3043,       1874,   160.6,  -0.3941,  34.5300,2,  34.5550,2,    310.2,2,   310.8,2,    4.45,2,    9.81,2,    0.00,2,    0.73,2,   5.956,2,   3.004,2,   0.528,2,-999.0000,9,  2167.0,2,  2281.6,2,   7.8326,2,    15.00,-999.000,5,  160.60,  -0.3994
77DN20050819,      AOS05,      39,          1,     283647,         16,2,20050910,       1504,    89.0408,   149.3043,       1874,   180.8,   0.1473,  34.6418,2,  34.6449,2,    303.9,2,   306.2,2,    4.86,2,   10.60,2,    0.00,2,    0.76,2,   5.217,2,   2.676,2,   0.479,2,-999.0000,9,  2159.7,2,  2283.2,2,   7.8415,2,    15.00,-999.000,5,  180.80,   0.1404
77DN20050819,      AOS05,      39,          1,     283646,         15,2,20050910,       1504,    89.0408,   149.3043,       1874,   201.0,   0.4061,  34.7034,2,  34.7055,2,    305.3,2,   307.2,2,    4.63,2,   10.84,2,    0.00,2,    0.78,2,   5.037,2,   2.583,2,   0.395,2,-999.0000,9,  2161.2,2,  2285.1,2,   7.8487,2,    15.00,-999.000,5,  201.00,   0.3980
77DN20050819,      AOS05,      39,          1,     283645,         14,2,20050910,       1504,    89.0408,   149.3043,       1874,   231.2,   0.8119,  34.7953,2,  34.7976,2,    302.2,2,   300.4,2,    5.58,2,   12.01,2,    0.00,2,    0.84,2,   4.514,2,   2.237,2,   0.384,2,-999.0000,9,  2158.8,2,  2285.4,2,   7.8605,2,    15.00,-999.000,5,  231.20,   0.8016
77DN20050819,      AOS05,      39,          1,     283644,         13,2,20050910,       1504,    89.0408,   149.3043,       1874,   281.2,   0.9616,  34.8392,2,  34.8394,2,    302.7,2,   303.3,2,    4.92,2,   11.91,2,    0.00,2,    0.83,2,   4.992,2,   2.466,2,   0.469,2,-999.0000,9,  2162.2,2,  2291.2,2,   7.8601,2,    15.00,-999.000,5,  281.20,   0.9486
77DN20050819,      AOS05,      39,          1,     283643,         12,2,20050910,       1504,    89.0408,   149.3043,       1874,   334.0,   0.9012,  34.8495,2,  34.8501,2,    300.8,2,   304.8,2,    5.32,2,   11.96,2,    0.00,2,    0.83,2,   4.779,2,   2.394,2,   0.443,2,-999.0000,9,  2162.1,2,  2291.4,2,   7.8593,2,    15.00,-999.000,5,  334.00,   0.8858
77DN20050819,      AOS05,      39,          1,     283642,         11,2,20050910,       1504,    89.0408,   149.3043,       1874,   413.5,   0.6824,  34.8585,2,  34.8599,2,    303.6,2,   306.2,2,    5.38,2,   12.01,2,    0.00,2,    0.84,2,   4.966,2,   2.628,2,   0.408,2,-999.0000,9,  2168.0,2,  2290.3,2,   7.8539,2,    15.00,-999.000,5,  413.50,   0.6638
77DN20050819,      AOS05,      39,          1,     283641,         10,2,20050910,       1504,    89.0408,   149.3043,       1874,   512.9,   0.4879,  34.8639,2,  34.8642,2,    305.9,2,   307.2,2,    5.33,2,   12.06,2,    0.00,2,    0.84,2,   4.840,2,   2.508,2,   0.273,3,-999.0000,9,  2173.2,2,  2290.9,2,   7.8449,2,    15.00,-999.000,5,  512.90,   0.4652
77DN20050819,      AOS05,      39,          1,     283640,          9,2,20050910,       1504,    89.0408,   149.3043,       1874,   616.3,   0.1370,  34.8634,2,  34.8641,2,    306.3,2,   307.4,2,    5.56,2,   12.11,2,    0.00,2,    0.86,2,   4.960,2,   2.446,2,   0.476,2,-999.0000,9,  2169.9,2,  2292.0,2,   7.8413,2,    15.00,-999.000,5,  616.30,   0.1110
77DN20050819,      AOS05,      39,          1,     283639,          8,2,20050910,       1504,    89.0408,   149.3043,       1874,   715.8,   0.0238,  34.8644,2,  34.8650,2,    306.3,2,   307.5,2,    5.88,2,   12.16,2,    0.00,2,    0.86,2,   4.568,2,   2.469,2,   0.420,2,-999.0000,9,  2174.6,2,  2292.5,2,   7.8364,2,    15.00,-999.000,5,  715.80,  -0.0064
77DN20050819,      AOS05,      39,          1,     283638,          7,2,20050910,       1504,    89.0408,   149.3043,       1874,   864.9,  -0.2017,  34.8738,2,  34.8747,2,    307.2,2,   308.2,2,    6.29,2,   12.21,2,    0.00,2,    0.87,2,   4.598,2,   2.408,2,   0.419,2,-999.0000,9,  2173.8,2,  2292.8,2,   7.8309,2,    15.00,-999.000,5,  864.90,  -0.2378
77DN20050819,      AOS05,      39,          1,     283637,          6,2,20050910,       1504,    89.0408,   149.3043,       1874,  1014.2,  -0.2982,  34.8780,2,  34.8787,2,    307.0,2,   307.6,2,    6.43,2,   12.39,2,    0.00,2,    0.89,2,   4.358,2,   2.243,2,   0.394,2,-999.0000,9,  2174.0,2,  2293.9,2,   7.8305,2,    15.00,-999.000,5, 1014.20,  -0.3411
77DN20050819,      AOS05,      39,          1,     283636,          5,2,20050910,       1504,    89.0408,   149.3043,       1874,  1217.7,  -0.4157,  34.8956,2,  34.8968,2,    303.5,2,   305.8,2,    7.38,2,   13.13,2,    0.00,2,    0.93,2,   3.644,2,   1.837,2,   0.290,2,-999.0000,9,  2177.0,2,  2293.0,2,   7.8369,2,    15.00,-999.000,5, 1217.70,  -0.4682
77DN20050819,      AOS05,      39,          1,     283635,          4,2,20050910,       1504,    89.0408,   149.3043,       1874,  1417.2,  -0.5029,  34.9063,2,  34.9074,2,    301.3,2,   302.7,2,    8.52,2,   13.65,2,    0.00,2,    0.96,2,   2.406,2,   1.234,2,   0.176,2,-999.0000,9,  2165.5,2,  2293.5,2,   7.8428,2,    15.00,-999.000,5, 1417.20,  -0.5656
77DN20050819,      AOS05,      39,          1,     283634,          3,2,20050910,       1504,    89.0408,   149.3043,       1874,  1620.6,  -0.5896,  34.9144,2,  34.9151,2,    299.2,2,   300.6,2,    9.57,2,   14.14,2,    0.00,2,    0.99,2,   1.438,2,   0.729,2,   0.117,2,-999.0000,9,  2164.0,2,  2298.3,2,   7.8492,2,    15.00,-999.000,5, 1620.60,  -0.6631
77DN20050819,      AOS05,      39,          1,     283633,          2,2,20050910,       1504,    89.0408,   149.3043,       1874,  1820.6,  -0.6232,  34.9162,2,  34.9169,2,    298.7,2,   301.0,3,    9.98,2,   14.33,2,    0.00,2,    0.99,2,   1.298,2,   0.643,2,   0.079,2,-999.0000,9,  2168.9,2,  2294.7,2,   7.8509,2,    15.00,-999.000,5, 1820.60,  -0.7084
77DN20050819,      AOS05,      39,          1,     283632,          1,2,20050910,       1504,    89.0408,   149.3043,       1874,  1920.8,  -0.6135,  34.9161,2,  34.9163,2,    298.0,2,   299.0,2,    9.94,2,   14.28,2,    0.00,2,    1.00,2,   1.333,2,   0.697,2,   0.084,2,-999.0000,9,  2170.8,2,  2321.3,2,   7.8506,2,    15.00,-999.000,5, 1920.80,  -0.7053
77DN20050819,      AOS05,      40,          1,     283008,          7,2,20050910,       2304,    89.1302,   166.7062,       2100,     9.5,  -1.7015,  31.2247,2,  31.2260,2,    397.6,2,   399.1,2, -999.00,9, -999.00,9, -999.00,9, -999.00,9,-999.000,9,-999.000,9,-999.000,9,-999.0000,9,  -999.0,9,  -999.0,9,-999.0000,9,  -999.00,-999.000,9,    9.50,  -1.7017
77DN20050819,      AOS05,      40,          1,     283007,          6,2,20050910,       2304,    89.1302,   166.7062,       2100,   117.0,  -1.1729,  34.2784,2,  34.2850,2,    312.3,2,   313.4,2, -999.00,9, -999.00,9, -999.00,9, -999.00,9,-999.000,9,-999.000,9,-999.000,9,-999.0000,9,  -999.0,9,  -999.0,9,-999.0000,9,  -999.00,-999.000,9,  117.00,  -1.1759
77DN20050819,      AOS05,      40,          1,     283006,          5,2,20050910,       2304,    89.1302,   166.7062,       2100,   287.9,   0.9928,  34.8418,2,  34.8414,2,    303.4,2,   304.6,2, -999.00,9, -999.00,9, -999.00,9, -999.00,9,-999.000,9,-999.000,9,-999.000,9,-999.0000,9,  -999.0,9,  -999.0,9,-999.0000,9,  -999.00,-999.000,9,  287.90,   0.9794
77DN20050819,      AOS05,      40,          1,     283005,          4,2,20050910,       2304,    89.1302,   166.7062,       2100,   506.8,   0.4737,  34.8658,2,  34.8656,2,    305.4,2,   306.7,2, -999.00,9, -999.00,9, -999.00,9, -999.00,9,-999.000,9,-999.000,9,-999.000,9,-999.0000,9,  -999.0,9,  -999.0,9,-999.0000,9,  -999.00,-999.000,9,  506.80,   0.4514
77DN20050819,      AOS05,      40,          1,     283004,          3,2,20050910,       2304,    89.1302,   166.7062,       2100,   957.2,  -0.2792,  34.8787,2,  34.8792,2,    306.7,2,   307.7,2, -999.00,9, -999.00,9, -999.00,9, -999.00,9,-999.000,9,-999.000,9,-999.000,9,-999.0000,9,  -999.0,9,  -999.0,9,-999.0000,9,  -999.00,-999.000,9,  957.20,  -0.3193
77DN20050819,      AOS05,      40,          1,     283003,          2,2,20050910,       2304,    89.1302,   166.7062,       2100,  1612.4,  -0.5882,  34.9149,2,  34.9155,2,    299.0,2,   300.3,2, -999.00,9, -999.00,9, -999.00,9, -999.00,9,-999.000,9,-999.000,9,-999.000,9,-999.0000,9,  -999.0,9,  -999.0,9,-999.0000,9,  -999.00,-999.000,9, 1612.40,  -0.6612
77DN20050819,      AOS05,      40,          1,     283002,          1,2,20050910,       2304,    89.1302,   166.7062,       2100,  2112.0,  -0.7091,  34.9232,2,  34.9231,2,    297.4,2,   298.6,2, -999.00,9, -999.00,9, -999.00,9, -999.00,9,-999.000,9,-999.000,9,-999.000,9,-999.0000,9,  -999.0,9,  -999.0,9,-999.0000,9,  -999.00,-999.000,9, 2112.00,  -0.8119