BOTTLE,20211025CCHSIORKP
EXPOCODE,SECT_ID,STNNBR,CASTNO,SAMPNO,BTLNBR,BTLNBR_FLAG_W,DATE,TIME,LATITUDE,LONGITUDE,DEPTH,CTDPRS,CTDTMP,CTDSAL,CTDSAL_FLAG_W,SALNTY,SALNTY_FLAG_W,CTDOXY,CTDOXY_FLAG_W,OXYGEN,OXYGEN_FLAG_W,SILCAT,SILCAT_FLAG_W,NITRAT,NITRAT_FLAG_W,NITRIT,NITRIT_FLAG_W,PHSPHT,PHSPHT_FLAG_W,CFC-11,CFC-11_FLAG_W,CFC-12,CFC-12_FLAG_W,CFC113,CFC113_FLAG_W,SF6,SF6_FLAG_W,TCARBN,TCARBN_FLAG_W,ALKALI,ALKALI_FLAG_W,PH_SWS,PH_SWS_FLAG_W,PH_TMP,CCL4,CCL4_FLAG_W,CTDRAW,THETA
,,,,,,,,,,,METERS,DBAR,ITS-90,PSS-78,,PSS-78,,UMOL/KG,,UMOL/KG,,UMOL/KG,,UMOL/KG,,UMOL/KG,,UMOL/KG,,PMOL/KG,,PMOL/KG,,PMOL/KG,,FMOL/KG,,UMOL/KG,,UMOL/KG,,,,DEG C,PMOL/KG,,DBAR,DEG C
77DN20050819,      AOS05,      53,          1,     284064,         36,2,20050923,       1712,    81.8490,    33.5497,       2102,     9.8,  -1.6347,  32.6369,2,  32.6624,2,    361.6,2,   363.6,2,    0.00,2,    1.20,2,    0.03,2,    0.23,2,   6.310,2,   3.534,2,   0.774,3,   1.3400,2,  1973.1,2,  -999.0,9,   8.0177,2,    15.00,-999.000,5,    9.80,  -1.6349
77DN20050819,      AOS05,      53,          1,     284062,         34,2,20050923,       1712,    81.8490,    33.5497,       2102,    25.1,  -0.5763,  33.2166,2,  33.1042,2,    361.5,2,   361.7,2,    0.00,2,    1.48,2,    0.03,2,    0.27,2,   6.041,2,   3.406,2,   0.762,3,   1.6000,2,  2009.2,2,  -999.0,9,   8.0094,2,    15.00,-999.000,5,   25.10,  -0.5770
77DN20050819,      AOS05,      53,          1,     284063,         35,2,20050923,       1712,    81.8490,    33.5497,       2102,    25.1,  -0.7891,  33.0906,2,-999.0000,9,   -999.0,9,  -999.0,9, -999.00,9, -999.00,9, -999.00,9, -999.00,9,-999.000,9,-999.000,9,-999.000,9,-999.0000,9,  -999.0,9,  -999.0,9,-999.0000,9,  -999.00,-999.000,9,   25.10,  -0.7897
77DN20050819,      AOS05,      53,          1,     284061,         33,2,20050923,       1712,    81.8490,    33.5497,       2102,    40.4,   0.6890,  34.1517,2,  34.1430,2,    356.0,2,   344.9,2,    0.24,2,    3.97,2,    0.10,2,    0.45,2,   5.907,2,   3.294,2,   0.751,3,   1.7900,2,  2080.0,2,  -999.0,9,   7.9674,6,    15.00,-999.000,5,   40.40,   0.6873
77DN20050819,      AOS05,      53,          1,     284059,         31,2,20050923,       1712,    81.8490,    33.5497,       2102,    58.5,   0.7583,  34.4222,2,  34.4672,2,    333.0,2,   327.7,2,    1.46,2,    6.83,2,    0.27,2,    0.59,2,   5.801,2,   3.152,2,   0.711,3,   1.7900,2,  2113.8,2,  -999.0,9,   7.9299,2,    15.00,-999.000,5,   58.50,   0.7558
77DN20050819,      AOS05,      53,          1,     284060,         32,2,20050923,       1712,    81.8490,    33.5497,       2102,    58.5,   0.7772,  34.4243,2,-999.0000,9,   -999.0,9,  -999.0,9, -999.00,9, -999.00,9, -999.00,9, -999.00,9,-999.000,9,-999.000,9,-999.000,9,-999.0000,9,  -999.0,9,  -999.0,9,-999.0000,9,  -999.00,-999.000,9,   58.50,   0.7747
77DN20050819,      AOS05,      53,          1,     284058,         30,2,20050923,       1712,    81.8490,    33.5497,       2102,    76.9,   1.7741,  34.6536,2,  34.6827,2,    317.9,2,   312.5,2,    2.02,2,    9.41,2,    0.18,2,    0.69,2,   5.472,2,   2.973,2,   0.661,3,-999.0000,9,  2131.2,2,  -999.0,9,   7.9070,2,    15.00,-999.000,5,   76.90,   1.7702
77DN20050819,      AOS05,      53,          1,     284057,         29,2,20050923,       1712,    81.8490,    33.5497,       2102,    97.1,   2.6963,  34.8277,2,  34.8532,2,    307.0,2,   302.0,2,    2.86,2,   11.00,2,    0.01,2,    0.76,2,-999.000,5,-999.000,5,-999.000,5,-999.0000,5,  2147.0,2,  -999.0,9,   7.8981,2,    15.00,-999.000,5,   97.10,   2.6906
77DN20050819,      AOS05,      53,          1,     284056,         28,2,20050923,       1712,    81.8490,    33.5497,       2102,   122.2,   2.8001,  34.8889,2,  34.8987,2,    299.9,2,   300.2,2,    3.25,2,   11.64,2,    0.01,2,    0.80,2,   5.074,2,   2.794,2,   0.579,3,   1.7100,2,  2151.1,2,  -999.0,9,   7.8880,2,    15.00,-999.000,5,  122.20,   2.7927
77DN20050819,      AOS05,      53,          1,     284055,         27,2,20050923,       1712,    81.8490,    33.5497,       2102,   147.3,   2.9281,  34.9350,2,  34.9421,2,    299.0,2,   299.5,2,    3.63,2,   12.05,2,    0.01,2,    0.83,2,   5.242,2,   2.859,2,   0.599,3,   2.0400,2,  2153.2,2,  -999.0,9,   7.8865,2,    15.00,-999.000,5,  147.30,   2.9191
77DN20050819,      AOS05,      53,          1,     284053,         25,2,20050923,       1712,    81.8490,    33.5497,       2102,   172.5,   2.8898,  34.9542,2,  34.9594,2,    299.3,2,  -999.0,5,    3.91,2,   12.19,2,    0.01,2,    0.83,2,   5.245,2,   2.855,2,   0.621,3,   1.1000,2,  2153.4,2,  -999.0,9,   7.8855,2,    15.00,-999.000,5,  172.50,   2.8792
77DN20050819,      AOS05,      53,          1,     284054,         26,2,20050923,       1712,    81.8490,    33.5497,       2102,   172.5,   2.8812,  34.9539,2,-999.0000,9,   -999.0,9,  -999.0,9, -999.00,9, -999.00,9, -999.00,9, -999.00,9,-999.000,9,-999.000,9,-999.000,9,-999.0000,9,  -999.0,9,  -999.0,9,-999.0000,9,  -999.00,-999.000,9,  172.50,   2.8707
77DN20050819,      AOS05,      53,          1,     284052,         24,2,20050923,       1712,    81.8490,    33.5497,       2102,   197.6,   2.8941,  34.9731,2,  34.9787,2,    300.3,2,   302.2,2,    3.92,2,   12.28,2,    0.01,2,    0.84,2,   4.988,2,   2.765,2,   0.575,2,   1.2500,2,  2155.5,2,  -999.0,9,   7.8835,2,    15.00,-999.000,5,  197.60,   2.8820
77DN20050819,      AOS05,      53,          1,     284051,         23,2,20050923,       1712,    81.8490,    33.5497,       2102,   222.7,   3.0037,  35.0007,2,  34.9982,2,    301.1,2,   302.9,2,    4.12,2,   12.28,2,    0.01,2,    0.85,2,   5.181,2,   2.802,2,   0.601,3,   1.3000,2,  2157.3,2,  -999.0,9,   7.8858,2,    15.00,-999.000,5,  222.70,   2.9898
77DN20050819,      AOS05,      53,          1,     284050,         22,2,20050923,       1712,    81.8490,    33.5497,       2102,   248.0,   2.9886,  35.0130,2,  35.0146,2,    302.2,2,   303.6,2,    4.12,2,   12.37,2,    0.01,2,    0.85,2,   5.281,2,   2.854,2,   0.571,3,-999.0000,9,  2156.8,2,  -999.0,9,   7.8840,2,    15.00,-999.000,5,  248.00,   2.9731
77DN20050819,      AOS05,      53,          1,     284049,         21,2,20050923,       1712,    81.8490,    33.5497,       2102,   273.1,   2.9601,  35.0179,2,  35.0195,2,    302.5,2,   304.0,2,    4.32,2,   12.36,2,    0.01,2,    0.85,2,   5.207,2,   2.833,2,   0.620,3,-999.0000,5,  2154.5,2,  -999.0,9,   7.8883,2,    15.00,-999.000,5,  273.10,   2.9430
77DN20050819,      AOS05,      53,          1,     284048,         20,2,20050923,       1712,    81.8490,    33.5497,       2102,   298.3,   2.8735,  35.0180,2,  35.0183,2,    302.8,2,   304.4,2,    4.33,2,   12.40,2,    0.01,2,    0.85,2,   5.111,2,   2.784,2,   0.589,3,   1.3000,2,  2154.7,2,  -999.0,9,   7.8848,2,    15.00,-999.000,5,  298.30,   2.8549
77DN20050819,      AOS05,      53,          1,     284047,         19,2,20050923,       1712,    81.8490,    33.5497,       2102,   348.2,   2.6101,  35.0036,2,  35.0063,2,    303.1,2,   305.4,2,    4.34,2,   12.45,2,    0.01,2,    0.86,2,   5.182,2,   2.741,2,   0.507,2,-999.0000,9,  2153.6,2,  -999.0,9,   7.8845,2,    15.00,-999.000,5,  348.20,   2.5891
77DN20050819,      AOS05,      53,          1,     284046,         18,2,20050923,       1712,    81.8490,    33.5497,       2102,   412.6,   2.3453,  34.9984,2,  35.0006,2,    304.6,2,   305.8,2,    4.62,2,   12.64,2,    0.00,2,    0.87,2,-999.000,5,-999.000,5,-999.000,5,-999.0000,5,  2157.6,2,  -999.0,9,   7.8804,2,    15.00,-999.000,5,  412.60,   2.3210
77DN20050819,      AOS05,      53,          1,     284045,         17,2,20050923,       1712,    81.8490,    33.5497,       2102,   540.6,   1.5560,  34.9618,2,  34.9639,2,    303.4,2,   304.0,2,    5.38,2,   13.10,2,    0.00,2,    0.90,2,-999.000,5,-999.000,5,-999.000,5,   1.0800,2,  2160.7,2,  -999.0,9,   7.8685,2,    15.00,-999.000,5,  540.60,   1.5271
77DN20050819,      AOS05,      53,          1,     284044,         16,2,20050923,       1712,    81.8490,    33.5497,       2102,   658.8,   0.7426,  34.9293,2,  34.9312,2,    304.7,2,   300.8,3,    6.13,2,   13.46,2,    0.00,2,    0.93,2,   3.584,2,   1.916,2,   0.342,2,   0.9900,2,  2160.4,2,  -999.0,9,   7.8589,2,    15.00,-999.000,5,  658.80,   0.7111
77DN20050819,      AOS05,      53,          1,     284043,         15,2,20050923,       1712,    81.8490,    33.5497,       2102,   728.0,   0.3420,  34.9179,2,  34.9200,2,    302.5,2,   303.7,2,    6.60,2,   13.65,2,    0.00,2,    0.95,2,-999.000,5,-999.000,5,-999.000,5,   0.7600,2,  2169.1,2,  -999.0,9,   7.8496,2,    15.00,-999.000,5,  728.00,   0.3092
77DN20050819,      AOS05,      53,          1,     284042,         14,2,20050923,       1712,    81.8490,    33.5497,       2102,   786.7,   0.1376,  34.9161,2,  34.9178,2,    302.2,2,   303.4,2,    7.26,2,   13.88,2,    0.00,2,    0.96,2,   3.016,2,   1.634,2,   0.265,2,   0.8200,2,  2165.1,2,  -999.0,9,   7.8503,2,    15.00,-999.000,5,  786.70,   0.1031
77DN20050819,      AOS05,      53,          1,     284039,         11,2,20050923,       1712,    81.8490,    33.5497,       2102,   983.4,  -0.3224,  34.9105,2,  34.9123,2,    300.8,2,   302.1,2,    8.39,2,   14.34,2,    0.00,2,    0.99,2,   2.264,2,   1.208,2,   0.196,2,   0.0000,2,  2164.4,2,  -999.0,9,   7.8470,2,    15.00,-999.000,5,  983.40,  -0.3636
77DN20050819,      AOS05,      53,          1,     284040,         12,2,20050923,       1712,    81.8490,    33.5497,       2102,   983.7,  -0.3250,  34.9105,2,-999.0000,9,   -999.0,9,  -999.0,9, -999.00,9, -999.00,9, -999.00,9, -999.00,9,-999.000,9,-999.000,9,-999.000,9,-999.0000,9,  -999.0,9,  -999.0,9,-999.0000,9,  -999.00,-999.000,9,  983.70,  -0.3661
77DN20050819,      AOS05,      53,          1,     284041,         13,2,20050923,       1712,    81.8490,    33.5497,       2102,   984.1,  -0.3252,  34.9105,2,-999.0000,9,   -999.0,9,  -999.0,9, -999.00,9, -999.00,9, -999.00,9, -999.00,9,-999.000,9,-999.000,9,-999.000,9,-999.0000,9,  -999.0,9,  -999.0,9,-999.0000,9,  -999.00,-999.000,9,  984.10,  -0.3664
77DN20050819,      AOS05,      53,          1,     284038,         10,2,20050923,       1712,    81.8490,    33.5497,       2102,  1185.1,  -0.5089,  34.9108,2,  34.9125,2,    299.7,2,   301.0,2,    9.33,2,   14.57,2,    0.00,2,    1.01,2,   1.888,2,   1.023,2,   0.127,2,   0.0000,2,  2170.2,2,  -999.0,9,   7.8436,2,    15.00,-999.000,5, 1185.10,  -0.5588
77DN20050819,      AOS05,      53,          1,     284037,          9,2,20050923,       1712,    81.8490,    33.5497,       2102,  1383.2,  -0.6107,  34.9122,2,  34.9143,2,    298.8,2,   300.0,2,    9.89,2,   14.70,2,    0.00,2,    1.02,2,   1.549,2,   0.807,2,   0.100,2,   0.0000,2,  2168.0,2,  -999.0,9,   7.8470,2,    15.00,-999.000,5, 1383.20,  -0.6703
77DN20050819,      AOS05,      53,          1,     284036,          8,2,20050923,       1712,    81.8490,    33.5497,       2102,  1586.4,  -0.6672,  34.9131,2,  34.9147,2,    298.4,2,   299.8,2,   10.19,2,   14.84,2,    0.00,2,    1.03,2,   1.345,2,   0.705,2,   0.085,2,-999.0000,9,  2168.7,2,  -999.0,9,   7.8484,2,    15.00,-999.000,5, 1586.40,  -0.7377
77DN20050819,      AOS05,      53,          1,     284035,          7,2,20050923,       1712,    81.8490,    33.5497,       2102,  1786.3,  -0.6962,  34.9147,2,  34.9176,2,    298.3,2,   300.4,2,   10.38,2,   14.84,2,    0.00,2,    1.03,2,   1.130,2,   0.593,2,   0.059,2,   0.0000,2,  2163.9,2,  -999.0,9,   7.8528,2,    15.00,-999.000,5, 1786.30,  -0.7783
77DN20050819,      AOS05,      53,          1,     284030,          2,2,20050923,       1712,    81.8490,    33.5497,       2102,  1986.6,  -0.7167,  34.9165,2,  34.9176,2,    298.1,2,   299.4,2,   10.58,2,   14.89,2,    0.00,2,    1.03,2,   0.955,2,   0.511,2,   0.063,2,-999.0000,9,  2166.8,2,  -999.0,9,   7.8516,2,    15.00,-999.000,5, 1986.60,  -0.8111
77DN20050819,      AOS05,      53,          1,     284031,          3,2,20050923,       1712,    81.8490,    33.5497,       2102,  1986.7,  -0.7167,  34.9164,2,-999.0000,9,   -999.0,9,  -999.0,9, -999.00,9, -999.00,9, -999.00,9, -999.00,9,-999.000,9,-999.000,9,-999.000,9,-999.0000,9,  -999.0,9,  -999.0,9,-999.0000,9,  -999.00,-999.000,9, 1986.70,  -0.8111
77DN20050819,      AOS05,      53,          1,     284032,          4,2,20050923,       1712,    81.8490,    33.5497,       2102,  1986.7,  -0.7167,  34.9164,2,-999.0000,9,   -999.0,9,  -999.0,9, -999.00,9, -999.00,9, -999.00,9, -999.00,9,-999.000,9,-999.000,9,-999.000,9,-999.0000,9,  -999.0,9,  -999.0,9,-999.0000,9,  -999.00,-999.000,9, 1986.70,  -0.8112
77DN20050819,      AOS05,      53,          1,     284033,          5,2,20050923,       1712,    81.8490,    33.5497,       2102,  1986.8,  -0.7168,  34.9165,2,-999.0000,9,   -999.0,9,  -999.0,9, -999.00,9, -999.00,9, -999.00,9, -999.00,9,-999.000,9,-999.000,9,-999.000,9,-999.0000,9,  -999.0,9,  -999.0,9,-999.0000,9,  -999.00,-999.000,9, 1986.80,  -0.8112
77DN20050819,      AOS05,      53,          1,     284034,          6,2,20050923,       1712,    81.8490,    33.5497,       2102,  1986.8,  -0.7164,  34.9164,2,-999.0000,9,   -999.0,9,  -999.0,9, -999.00,9, -999.00,9, -999.00,9, -999.00,9,-999.000,9,-999.000,9,-999.000,9,-999.0000,9,  -999.0,9,  -999.0,9,-999.0000,9,  -999.00,-999.000,9, 1986.80,  -0.8109
77DN20050819,      AOS05,      53,          1,     284029,          1,2,20050923,       1712,    81.8490,    33.5497,       2102,  2121.4,  -0.7280,  34.9178,2,  34.9198,2,    297.4,2,   298.1,2,   10.96,2,   14.93,2,    0.00,2,    1.04,2,   0.858,2,   0.484,2,   0.070,2,-999.0000,9,  2165.0,2,  -999.0,9,   7.8564,2,    15.00,-999.000,5, 2121.40,  -0.8312