BOTTLE,20211025CCHSIORKP
EXPOCODE,SECT_ID,STNNBR,CASTNO,SAMPNO,BTLNBR,BTLNBR_FLAG_W,DATE,TIME,LATITUDE,LONGITUDE,DEPTH,CTDPRS,CTDTMP,CTDSAL,CTDSAL_FLAG_W,SALNTY,SALNTY_FLAG_W,CTDOXY,CTDOXY_FLAG_W,OXYGEN,OXYGEN_FLAG_W,SILCAT,SILCAT_FLAG_W,NITRAT,NITRAT_FLAG_W,NITRIT,NITRIT_FLAG_W,PHSPHT,PHSPHT_FLAG_W,CFC-11,CFC-11_FLAG_W,CFC-12,CFC-12_FLAG_W,CFC113,CFC113_FLAG_W,SF6,SF6_FLAG_W,TCARBN,TCARBN_FLAG_W,ALKALI,ALKALI_FLAG_W,PH_SWS,PH_SWS_FLAG_W,PH_TMP,CCL4,CCL4_FLAG_W,CTDRAW,THETA
,,,,,,,,,,,METERS,DBAR,ITS-90,PSS-78,,PSS-78,,UMOL/KG,,UMOL/KG,,UMOL/KG,,UMOL/KG,,UMOL/KG,,UMOL/KG,,PMOL/KG,,PMOL/KG,,PMOL/KG,,FMOL/KG,,UMOL/KG,,UMOL/KG,,,,DEG C,PMOL/KG,,DBAR,DEG C
77DN20050819,      AOS05,       8,          1,     282749,         36,2,20050824,       0152,    75.5040,  -150.2703,       3751,     2.4,  -1.2000,  26.5383,2,  26.5823,2,    389.3,2,   395.9,2,    3.53,2,    0.09,2,    0.00,2,    0.55,2,   7.375,2,   3.740,2,   0.698,2,-999.0000,9,  1860.1,2,  1950.6,2,   7.8493,2,    15.00,   8.758,3,    2.40,  -1.2000
77DN20050819,      AOS05,       8,          1,     282748,         35,2,20050824,       0152,    75.5040,  -150.2703,       3751,     8.8,  -1.0437,  27.3726,2,  27.3669,2,    389.6,2,   393.2,2,    2.61,2,    0.09,2,    0.00,2,    0.57,2,   7.559,2,   3.783,2,   0.723,2,   2.9700,2,  1905.6,2,  1989.9,6,   7.8524,2,    15.00,   8.393,3,    8.80,  -1.0438
77DN20050819,      AOS05,       8,          1,     282747,         34,2,20050824,       0152,    75.5040,  -150.2703,       3751,    22.9,  -1.0932,  28.9703,2,  29.1272,2,    403.0,2,   405.0,2,    3.17,2,    0.09,2,    0.00,2,    0.63,2,   7.765,2,   3.931,2,   0.707,2,-999.0000,9,  2016.6,2,  2109.4,2,   7.8515,2,    15.00,   8.261,2,   22.90,  -1.0935
77DN20050819,      AOS05,       8,          1,     282746,         33,2,20050824,       0152,    75.5040,  -150.2703,       3751,    38.1,  -0.5192,  30.6492,2,  30.8318,2,    396.5,2,   380.5,2,    7.55,2,    0.38,2,    0.07,2,    0.78,2,-999.000,5,-999.000,5,-999.000,5,-999.0000,9,  2046.3,2,  2163.2,2,   7.8981,2,    15.00,-999.000,5,   38.10,  -0.5201
77DN20050819,      AOS05,       8,          1,     282745,         32,2,20050824,       0152,    75.5040,  -150.2703,       3751,    53.4,  -0.2065,  31.6478,2,  31.6755,2,    364.7,2,   352.0,2,   10.63,2,    4.42,2,    0.02,2,    1.13,2,   6.655,2,   3.303,2,   0.523,2,-999.0000,9,  2091.2,2,  2193.1,2,   7.8446,2,    15.00,   4.608,2,   53.40,  -0.2080
77DN20050819,      AOS05,       8,          1,     282744,         31,2,20050824,       0152,    75.5040,  -150.2703,       3751,    68.6,  -0.9272,  32.0261,2,  32.0400,2,    337.3,2,   330.7,2,   18.89,2,    8.14,2,    0.01,2,    1.37,2,   6.476,2,   3.190,2,   0.482,2,-999.0000,9,  2140.5,2,  2210.7,2,   7.7627,2,    15.00,   4.627,2,   68.60,  -0.9287
77DN20050819,      AOS05,       8,          1,     282743,         30,2,20050824,       0152,    75.5040,  -150.2703,       3751,    84.0,  -1.2256,  32.3030,2,  32.3078,2,    318.0,2,   315.7,2,   22.38,2,   10.43,2,    0.01,2,    1.54,2,   6.290,2,   3.259,2,   0.447,2,-999.0000,9,  2169.4,2,  2225.0,2,   7.7085,2,    15.00,   4.484,2,   84.00,  -1.2274
77DN20050819,      AOS05,       8,          1,     282742,         29,2,20050824,       0152,    75.5040,  -150.2703,       3751,    99.3,  -1.3888,  32.5486,2,  32.5859,2,    298.8,2,   295.5,2,   27.96,2,   13.10,2,    0.00,2,    1.72,2,   5.980,2,   2.882,2,   5.870,4,   1.8400,2,  2195.8,2,  2241.5,2,   7.6511,2,    15.00,   3.822,2,   99.30,  -1.3908
77DN20050819,      AOS05,       8,          1,     282741,         28,2,20050824,       0152,    75.5040,  -150.2703,       3751,   114.6,  -1.4926,  32.7598,2,  32.7775,2,    288.7,2,   290.1,2,   30.90,2,   14.08,2,    0.00,2,    1.78,2,   5.845,2,   2.737,2,   0.369,2,   1.4400,2,  2216.2,2,  2256.0,2,   7.6372,2,    15.00,   4.588,2,  114.60,  -1.4949
77DN20050819,      AOS05,       8,          1,     282740,         27,2,20050824,       0152,    75.5040,  -150.2703,       3751,   129.7,  -1.5609,  32.9449,2,  32.9565,2,    282.1,2,   283.8,2,   34.42,2,   15.35,2,    0.00,2,    1.85,2,   5.829,2,   2.846,2,   0.384,2,   1.5100,2,  2220.8,2,  2255.2,2,   7.6075,2,    15.00,   4.531,2,  129.70,  -1.5635
77DN20050819,      AOS05,       8,          1,     282739,         26,2,20050824,       0152,    75.5040,  -150.2703,       3751,   144.6,  -1.6292,  33.0954,2,  33.0967,2,    278.8,2,   282.2,2,   38.81,2,   16.72,2,    0.00,2,    1.99,2,   6.354,2,   3.031,2,   0.418,2,   2.1400,2,  2232.7,2,  2256.9,2,   7.6035,2,    15.00,   4.386,2,  144.60,  -1.6320
77DN20050819,      AOS05,       8,          1,     282738,         25,2,20050824,       0152,    75.5040,  -150.2703,       3751,   160.0,  -1.7138,  33.1726,2,  33.1788,2,    286.7,2,   288.4,2,   41.28,2,   16.14,2,    0.00,2,    1.98,2,   6.746,2,   3.496,2,   0.455,2,   2.1300,2,  2235.6,2,  2265.5,2,   7.6176,2,    15.00,   4.944,2,  160.00,  -1.7169
77DN20050819,      AOS05,       8,          1,     282737,         24,2,20050824,       0152,    75.5040,  -150.2703,       3751,   174.8,  -1.7569,  33.2323,2,  33.2270,2,    299.1,2,   299.0,2,   38.91,2,   14.77,2,    0.00,2,    1.86,2,   6.783,2,   3.547,2,   0.434,2,   1.8300,2,  2239.6,2,  2273.0,2,   7.6377,6,    15.00,   4.107,2,  174.80,  -1.7602
77DN20050819,      AOS05,       8,          1,     282736,         23,2,20050824,       0152,    75.5040,  -150.2703,       3751,   188.9,  -1.7326,  33.3044,2,  33.3095,2,    299.9,2,   306.7,2,   36.55,2,   14.25,2,    0.00,2,    1.78,2,   6.539,3,   2.608,3,   0.399,2,   2.1300,2,  2239.3,2,  2282.6,2,   7.6465,2,    15.00,   4.117,2,  188.90,  -1.7362
77DN20050819,      AOS05,       8,          1,     282735,         22,2,20050824,       0152,    75.5040,  -150.2703,       3751,   219.6,  -1.7352,  33.4885,2,  33.4901,2,    302.2,2,   303.3,2,   36.94,2,   14.99,2,    0.00,2,    1.77,2,   6.653,2,   3.402,2,   0.441,2,   1.9200,2,  2243.3,2,  2288.1,6,   7.6535,2,    15.00,   4.397,2,  219.60,  -1.7396
77DN20050819,      AOS05,       8,          1,     282734,         21,2,20050824,       0152,    75.5040,  -150.2703,       3751,   260.0,  -1.6188,  33.8429,2,-999.0000,9,   -999.0,9,  -999.0,9, -999.00,9, -999.00,9, -999.00,9, -999.00,9,-999.000,9,-999.000,9,-999.000,9,-999.0000,9,  -999.0,9,  -999.0,9,-999.0000,9,  -999.00,-999.000,9,  260.00,  -1.6245
77DN20050819,      AOS05,       8,          1,     282732,         19,2,20050824,       0152,    75.5040,  -150.2703,       3751,   260.1,  -1.6190,  33.8431,2,  33.8466,2,    313.3,2,   311.9,2,   35.89,2,   14.89,2,    0.00,2,    1.72,2,-999.000,5,-999.000,5,-999.000,5,   1.5700,2,  2251.6,2,  2306.0,2,   7.6595,2,    15.00,-999.000,5,  260.10,  -1.6247
77DN20050819,      AOS05,       8,          1,     282733,         20,2,20050824,       0152,    75.5040,  -150.2703,       3751,   260.1,  -1.6190,  33.8430,2,-999.0000,9,   -999.0,9,  -999.0,9, -999.00,9, -999.00,9, -999.00,9, -999.00,9,-999.000,9,-999.000,9,-999.000,9,-999.0000,9,  -999.0,9,  -999.0,9,-999.0000,9,  -999.00,-999.000,9,  260.10,  -1.6247
77DN20050819,      AOS05,       8,          1,     282731,         18,2,20050824,       0152,    75.5040,  -150.2703,       3751,   290.1,  -0.8318,  34.2629,2,  34.2754,2,    286.2,2,   278.4,2,   14.76,2,   12.07,2,    0.00,2,    1.05,2,   5.528,2,-999.000,5,   0.327,2,   2.1200,2,  2191.6,2,  2274.6,2,   7.7502,2,    15.00,   4.161,2,  290.10,  -0.8405
77DN20050819,      AOS05,       8,          1,     282730,         17,2,20050824,       0152,    75.5040,  -150.2703,       3751,   357.7,   0.3523,  34.6740,2,  34.6739,2,    279.1,2,   283.7,2,    9.36,2,   12.48,2,    0.00,2,    0.91,2,   4.700,2,   2.113,2,   0.261,2,   0.9700,2,  2170.8,2,  2279.7,2,   7.8185,2,    15.00,   4.223,2,  357.70,   0.3375
77DN20050819,      AOS05,       8,          1,     282729,         16,2,20050824,       0152,    75.5040,  -150.2703,       3751,   437.3,   0.7883,  34.8176,2,  34.8172,2,    290.3,2,   292.9,2,    7.04,2,   12.43,2,    0.00,2,    0.86,2,   4.653,3,   2.172,2,   0.278,2,   0.6000,2,  2168.6,2,  2285.0,2,   7.8339,2,    15.00,   4.444,2,  437.30,   0.7682
77DN20050819,      AOS05,       8,          1,     282728,         15,2,20050824,       0152,    75.5040,  -150.2703,       3751,   485.9,   0.7454,  34.8291,2,  34.8286,2,    292.9,2,   294.6,2,    6.78,2,   12.48,2,    0.00,2,    0.86,2,   4.365,2,   1.941,2,   0.252,2,   0.6400,2,  2162.6,2,  2285.0,2,   7.8573,2,    15.00,   5.259,2,  485.90,   0.7230
77DN20050819,      AOS05,       8,          1,     282727,         14,2,20050824,       0152,    75.5040,  -150.2703,       3751,   587.5,   0.5795,  34.8474,2,  34.8462,2,    295.6,2,   300.5,4,    6.87,2,   12.56,2,    0.00,2,    0.86,2,   4.090,2,   1.857,2,   0.209,2,-999.0000,9,  2161.3,2,  2287.5,2,   7.8582,2,    15.00,   4.742,2,  587.50,   0.5527
77DN20050819,      AOS05,       8,          1,     282726,         13,2,20050824,       0152,    75.5040,  -150.2703,       3751,   739.5,   0.3713,  34.8615,2,  34.8617,2,    296.7,2,   297.6,2,    6.88,2,   12.65,2,    0.00,2,    0.87,2,   3.243,2,   1.490,2,   0.198,2,-999.0000,5,  2161.5,2,  2287.7,2,   7.8605,2,    15.00,   1.966,3,  739.50,   0.3378
77DN20050819,      AOS05,       8,          1,     282725,         12,2,20050824,       0152,    75.5040,  -150.2703,       3751,   886.1,   0.1623,  34.8711,2,  34.8718,2,    298.7,2,   299.8,2,    6.90,2,   12.60,2,    0.00,2,    0.87,2,   2.939,2,   1.341,2,   0.131,2,   0.4600,2,  2166.1,2,  2288.7,2,   7.8525,2,    15.00,   3.415,2,  886.10,   0.1225
77DN20050819,      AOS05,       8,          1,     282724,         11,2,20050824,       0152,    75.5040,  -150.2703,       3751,  1034.8,   0.0096,  34.8807,2,  34.8805,2,    299.1,2,   300.6,2,    7.10,2,   12.69,2,    0.00,2,    0.88,2,   2.548,2,   1.127,2,   0.104,2,   0.0000,2,  2164.3,2,  2287.7,2,   7.8582,2,    15.00,   3.534,2, 1034.80,  -0.0370
77DN20050819,      AOS05,       8,          1,     282723,         10,2,20050824,       0152,    75.5040,  -150.2703,       3751,  1188.7,  -0.1021,  34.8932,2,  34.8945,2,    299.0,2,   300.5,2,    7.29,2,   12.88,2,    0.00,2,    0.89,2,   1.693,2,   0.794,2,   0.046,2,-999.0000,5,  2160.4,2,  2289.4,2,-999.0000,5,  -999.00,   2.104,2, 1188.70,  -0.1562
77DN20050819,      AOS05,       8,          1,     282722,          9,2,20050824,       0152,    75.5040,  -150.2703,       3751,  1388.1,  -0.2353,  34.9061,2,  34.9061,2,    299.0,2,   300.1,2,    7.86,2,   13.05,2,    0.00,2,    0.91,2,   1.372,2,   0.714,2,   0.042,2,-999.0000,9,  2160.1,2,  2290.5,2,   7.8662,2,    15.00,   2.209,2, 1388.10,  -0.2993
77DN20050819,      AOS05,       8,          1,     282721,          8,2,20050824,       0152,    75.5040,  -150.2703,       3751,  1639.6,  -0.3445,  34.9224,2,  34.9207,2,    297.4,2,   298.6,2,    8.80,2,   13.52,2,    0.00,2,    0.94,2,   0.644,2,   0.291,2,   0.019,2,   0.0000,2,  2157.2,2,  2291.6,2,-999.0000,5,  -999.00,   1.486,2, 1639.60,  -0.4224
77DN20050819,      AOS05,       8,          1,     282720,          7,2,20050824,       0152,    75.5040,  -150.2703,       3751,  1937.8,  -0.4051,  34.9393,2,  34.9375,2,    292.8,2,   293.6,2,   10.49,2,   14.08,2,    0.00,2,    0.98,2,   0.262,2,   0.128,2,   0.000,2,-999.0000,9,  2158.4,2,  2291.4,2,   7.8773,2,    15.00,   0.284,2, 1937.80,  -0.5012
77DN20050819,      AOS05,       8,          1,     282719,          6,2,20050824,       0152,    75.5040,  -150.2703,       3751,  2241.0,  -0.4019,  34.9492,2,  34.9497,2,    288.8,2,   290.0,2,   11.62,2,   14.40,2,    0.00,2,    1.00,2,   0.090,2,   0.062,2,   0.000,2,-999.0000,5,  2146.9,2,  2294.9,2,   7.8799,2,    15.00,   0.080,2, 2241.00,  -0.5190
77DN20050819,      AOS05,       8,          1,     282718,          5,2,20050824,       0152,    75.5040,  -150.2703,       3751,  2542.2,  -0.3810,  34.9545,2,  34.9540,2,    286.6,2,   287.6,2,   12.47,2,   14.54,2,    0.00,2,    1.02,2,   0.046,2,   0.115,2,   0.000,2,-999.0000,9,  2161.0,2,  2293.3,2,   7.8792,2,    15.00,   0.178,2, 2542.20,  -0.5207
77DN20050819,      AOS05,       8,          1,     282717,          4,2,20050824,       0152,    75.5040,  -150.2703,       3751,  2842.9,  -0.3512,  34.9573,2,  34.9560,2,    284.4,2,   285.5,2,   12.95,2,   14.58,2,    0.00,2,    1.02,2,   0.034,2,   0.155,2,   0.000,2,   0.0000,2,  2153.2,2,  2295.7,2,   7.8744,2,    15.00,   0.125,2, 2842.90,  -0.5152
77DN20050819,      AOS05,       8,          1,     282716,          3,2,20050824,       0152,    75.5040,  -150.2703,       3751,  3190.0,  -0.3183,  34.9579,2,  34.9566,2,    283.8,2,   284.8,2,   13.24,2,   14.63,2,    0.00,2,    1.01,2,   0.028,2,   0.035,2,   0.000,2,-999.0000,9,  2157.7,2,  2295.7,2,   7.8695,2,    15.00,   0.173,2, 3190.00,  -0.5121
77DN20050819,      AOS05,       8,          1,     282715,          2,2,20050824,       0152,    75.5040,  -150.2703,       3751,  3646.3,  -0.2760,  34.9578,2,  34.9554,2,    283.7,2,   291.5,4,   13.34,2,   14.62,2,    0.00,2,    1.01,2,   0.033,2,   0.036,2,   0.000,2,-999.0000,5,  2145.7,2,  2298.0,2,   7.8699,2,    15.00,   0.122,2, 3646.30,  -0.5120
77DN20050819,      AOS05,       8,          1,     282714,          1,2,20050824,       0152,    75.5040,  -150.2703,       3751,  3900.7,  -0.2507,  34.9576,2,  34.9580,2,    283.6,2,   284.7,2,   13.44,2,   14.52,2,    0.00,2,    1.02,2,   0.035,2,   0.095,2,   0.000,2,   0.0000,2,  2141.4,2,  2297.6,2,   7.8769,2,    15.00,   0.125,2, 3900.70,  -0.5118