BOTTLE,20211025CCHSIORKP
EXPOCODE,SECT_ID,STNNBR,CASTNO,SAMPNO,BTLNBR,BTLNBR_FLAG_W,DATE,TIME,LATITUDE,LONGITUDE,DEPTH,CTDPRS,CTDTMP,CTDSAL,CTDSAL_FLAG_W,SALNTY,SALNTY_FLAG_W,CTDOXY,CTDOXY_FLAG_W,OXYGEN,OXYGEN_FLAG_W,SILCAT,SILCAT_FLAG_W,NITRAT,NITRAT_FLAG_W,NITRIT,NITRIT_FLAG_W,PHSPHT,PHSPHT_FLAG_W,CFC-11,CFC-11_FLAG_W,CFC-12,CFC-12_FLAG_W,CFC113,CFC113_FLAG_W,SF6,SF6_FLAG_W,TCARBN,TCARBN_FLAG_W,ALKALI,ALKALI_FLAG_W,PH_SWS,PH_SWS_FLAG_W,PH_TMP,CCL4,CCL4_FLAG_W,CTDRAW,THETA
,,,,,,,,,,,METERS,DBAR,ITS-90,PSS-78,,PSS-78,,UMOL/KG,,UMOL/KG,,UMOL/KG,,UMOL/KG,,UMOL/KG,,UMOL/KG,,PMOL/KG,,PMOL/KG,,PMOL/KG,,FMOL/KG,,UMOL/KG,,UMOL/KG,,,,DEG C,PMOL/KG,,DBAR,DEG C
77DN20050819,      AOS05,      31,          1,     283430,         30,2,20050907,       0458,    87.6590,   151.5862,       3313,     9.8,  -1.7484,  32.2563,2,  32.2613,2,    384.1,2,   385.6,2,    2.77,2,    1.94,2,    0.04,2,    0.39,2,   7.505,2,   3.901,2,   0.628,3,-999.0000,9,  2106.3,2,  2235.6,2,   7.8507,2,    15.00,-999.000,5,    9.80,  -1.7485
77DN20050819,      AOS05,      31,          1,     283429,         29,2,20050907,       0458,    87.6590,   151.5862,       3313,    31.5,  -1.7523,  32.2613,2,  32.2678,2,    384.6,2,   385.6,2,    2.71,2,    1.89,2,    0.04,2,    0.39,2,-999.000,9,-999.000,9,-999.000,9,-999.0000,9,  2112.1,2,  2226.9,2,   7.8496,2,    15.00,-999.000,9,   31.50,  -1.7528
77DN20050819,      AOS05,      31,          1,     283428,         28,2,20050907,       0458,    87.6590,   151.5862,       3313,    43.4,  -1.7170,  32.6477,2,  32.7016,2,    383.0,2,   375.6,2,    3.56,2,    2.90,2,    0.06,2,    0.48,2,   7.859,2,   3.928,2,-999.000,5,-999.0000,9,  2140.4,2,  2258.3,2,   7.8227,2,    15.00,-999.000,5,   43.40,  -1.7177
77DN20050819,      AOS05,      31,          1,     283427,         27,2,20050907,       0458,    87.6590,   151.5862,       3313,    53.7,  -1.7291,  33.0820,2,  33.1761,2,    368.2,2,   343.8,2,    5.50,2,    5.65,2,    0.02,2,    0.64,2,-999.000,9,-999.000,9,-999.000,9,-999.0000,9,  2163.9,2,  2260.2,2,   7.7827,2,    15.00,-999.000,9,   53.70,  -1.7300
77DN20050819,      AOS05,      31,          1,     283426,         26,2,20050907,       0458,    87.6590,   151.5862,       3313,    64.1,  -1.6824,  33.5295,2,  33.5723,2,    339.0,2,   325.4,2,    5.71,2,    7.33,2,    0.01,2,    0.67,2,   7.330,2,   3.528,2,-999.000,5,-999.0000,9,  2178.1,2,  2275.6,2,   7.7802,2,    15.00,-999.000,5,   64.10,  -1.6836
77DN20050819,      AOS05,      31,          1,     283425,         25,3,20050907,       0458,    87.6590,   151.5862,       3313,    74.4,  -1.6237,  33.8112,2,-999.0000,9,   -999.0,9,  -999.0,9, -999.00,9, -999.00,9, -999.00,9, -999.00,9,-999.000,9,-999.000,9,-999.000,9,-999.0000,9,  -999.0,9,  -999.0,9,-999.0000,9,  -999.00,-999.000,9,   74.40,  -1.6252
77DN20050819,      AOS05,      31,          1,     283424,         24,2,20050907,       0458,    87.6590,   151.5862,       3313,    84.8,  -1.5532,  33.9866,2,  34.0103,2,    315.5,2,   316.1,2,    5.10,2,    8.47,2,    0.00,2,    0.69,2,   7.124,2,   3.317,2,   0.239,3,-999.0000,9,  2172.5,2,  2278.7,2,   7.8004,2,    15.00,-999.000,5,   84.80,  -1.5550
77DN20050819,      AOS05,      31,          1,     283423,         23,2,20050907,       0458,    87.6590,   151.5862,       3313,   100.1,  -1.3409,  34.1412,2,  34.1543,2,    310.6,2,   312.2,2,    4.86,2,    9.03,2,    0.00,2,    0.71,2,-999.000,9,-999.000,9,-999.000,9,-999.0000,9,  2169.8,2,  2282.6,2,   7.8153,2,    15.00,-999.000,9,  100.10,  -1.3432
77DN20050819,      AOS05,      31,          1,     283422,         22,2,20050907,       0458,    87.6590,   151.5862,       3313,   120.3,  -0.8659,  34.2879,2,  34.2994,2,    306.9,2,   308.4,2,    4.99,2,    9.79,2,    0.00,2,    0.73,2,   5.919,2,   2.829,2,   0.386,3,-999.0000,9,  2169.1,2,  2286.4,2,   7.8251,2,    15.00,-999.000,5,  120.30,  -0.8693
77DN20050819,      AOS05,      31,          1,     283421,         21,2,20050907,       0458,    87.6590,   151.5862,       3313,   140.6,  -0.4205,  34.4036,2,  34.4218,2,    300.6,2,   301.2,2,    5.56,2,   10.63,2,    0.00,2,    0.78,2,-999.000,9,-999.000,9,-999.000,9,-999.0000,9,  2167.2,2,  2289.4,2,   7.8250,2,    15.00,-999.000,9,  140.60,  -0.4251
77DN20050819,      AOS05,      31,          1,     283420,         20,2,20050907,       0458,    87.6590,   151.5862,       3313,   160.9,   0.0012,  34.5378,2,  34.5517,2,    296.8,2,   297.9,2,    5.78,2,   11.24,2,    0.00,2,    0.81,2,   4.946,2,   2.382,2,-999.000,5,-999.0000,9,  2166.3,2,  2293.4,2,   7.8339,2,    15.00,-999.000,5,  160.90,  -0.0047
77DN20050819,      AOS05,      31,          1,     283419,         19,2,20050907,       0458,    87.6590,   151.5862,       3313,   181.1,   0.3685,  34.6421,2,  34.6490,2,    294.3,2,   295.1,2,    6.08,2,   11.89,2,    0.00,2,    0.84,2,-999.000,9,-999.000,9,-999.000,9,-999.0000,9,  2171.3,2,  2296.5,2,   7.8435,2,    15.00,-999.000,9,  181.10,   0.3613
77DN20050819,      AOS05,      31,          1,     283418,         18,2,20050907,       0458,    87.6590,   151.5862,       3313,   201.3,   0.6484,  34.7245,2,  34.7361,2,    291.9,2,   294.4,2,    6.11,2,   12.40,2,    0.00,2,    0.86,2,   4.627,2,   2.237,2,-999.000,5,-999.0000,9,  2171.8,2,  2295.6,2,   7.8556,2,    15.00,-999.000,5,  201.30,   0.6398
77DN20050819,      AOS05,      31,          1,     283417,         17,2,20050907,       0458,    87.6590,   151.5862,       3313,   231.4,   0.8287,  34.7954,2,  34.7933,2,    294.1,2,   295.6,2,    5.86,2,   12.63,2,    0.00,2,    0.87,2,-999.000,9,-999.000,9,-999.000,9,-999.0000,9,  2166.5,2,  2294.5,2,   7.8643,2,    15.00,-999.000,9,  231.40,   0.8184
77DN20050819,      AOS05,      31,          1,     283416,         16,2,20050907,       0458,    87.6590,   151.5862,       3313,   266.3,   0.9661,  34.8459,2,  34.8447,2,    297.2,2,   298.1,2,    5.54,2,   12.76,2,    0.00,2,    0.87,2,   4.772,2,   2.252,2,-999.000,5,-999.0000,9,  2166.8,2,  2301.3,2,   7.8686,2,    15.00,-999.000,5,  266.30,   0.9538
77DN20050819,      AOS05,      31,          1,     283415,         15,2,20050907,       0458,    87.6590,   151.5862,       3313,   329.5,   0.8593,  34.8422,2,  34.8414,2,    296.0,2,   295.9,2,    5.93,2,   12.94,2,    0.00,2,    0.88,2,   3.996,2,   2.017,2,   0.214,3,-999.0000,9,  2167.5,2,  2299.8,2,   7.8646,2,    15.00,-999.000,5,  329.50,   0.8442
77DN20050819,      AOS05,      31,          1,     283414,         14,2,20050907,       0458,    87.6590,   151.5862,       3313,   403.7,   0.6374,  34.8582,2,  34.8568,2,    297.7,2,   296.9,2,    6.05,2,   12.99,2,    0.00,2,    0.89,2,   3.542,2,   1.748,2,   0.178,3,-999.0000,9,  2171.3,2,  2300.9,2,   7.8666,2,    15.00,-999.000,5,  403.70,   0.6194
77DN20050819,      AOS05,      31,          1,     283413,         13,2,20050907,       0458,    87.6590,   151.5862,       3313,   507.5,   0.4721,  34.8683,2,  34.8676,2,    296.6,2,   299.7,2,    5.99,2,   12.98,2,    0.00,2,    0.89,2,   3.529,2,   1.840,2,   0.212,3,-999.0000,9,  2168.9,2,  2296.1,2,   7.8637,2,    15.00,-999.000,5,  507.50,   0.4498
77DN20050819,      AOS05,      31,          1,     283412,         12,2,20050907,       0458,    87.6590,   151.5862,       3313,   610.1,   0.2940,  34.8729,2,  34.8724,2,    298.1,2,   300.1,2,    6.12,2,   13.02,2,    0.00,2,    0.90,2,   3.136,2,   1.554,2,   0.141,3,-999.0000,9,  2170.7,2,  2299.0,2,   7.8639,2,    15.00,-999.000,5,  610.10,   0.2674
77DN20050819,      AOS05,      31,          1,     283411,         11,2,20050907,       0458,    87.6590,   151.5862,       3313,   807.5,   0.0002,  34.8809,2,  34.8805,2,    301.4,2,   301.8,2,    6.33,2,   13.02,2,    0.00,2,    0.91,2,   2.973,2,   1.485,2,   0.154,3,-999.0000,9,  2165.7,2,  2298.2,2,   7.8622,2,    15.00,-999.000,5,  807.50,  -0.0344
77DN20050819,      AOS05,      31,          1,     283410,         10,2,20050907,       0458,    87.6590,   151.5862,       3313,  1005.5,  -0.1727,  34.8949,2,  34.8944,2,    300.2,2,   302.0,2,    6.81,2,   13.29,2,    0.00,2,    0.93,2,   2.195,2,   1.103,2,-999.000,5,-999.0000,9,  2169.1,2,  2300.0,2,   7.8673,2,    15.00,-999.000,5, 1005.50,  -0.2162
77DN20050819,      AOS05,      31,          1,     283409,          9,2,20050907,       0458,    87.6590,   151.5862,       3313,  1238.3,  -0.3008,  34.9116,2,  34.9118,2,    299.1,2,   299.9,2,    7.75,2,   13.70,2,    0.00,2,    0.96,2,-999.000,9,-999.000,9,-999.000,9,-999.0000,9,  2165.0,2,  2301.6,2,   7.8761,2,    15.00,-999.000,9, 1238.30,  -0.3557
77DN20050819,      AOS05,      31,          1,     283408,          8,2,20050907,       0458,    87.6590,   151.5862,       3313,  1487.4,  -0.3768,  34.9292,2,  34.9292,2,    295.2,2,   296.3,2,    9.32,2,   14.17,2,    0.00,2,    1.00,2,   0.432,2,   0.226,2,   0.000,3,-999.0000,9,  2159.7,2,  2302.6,2,   7.8814,2,    15.00,-999.000,5, 1487.40,  -0.4451
77DN20050819,      AOS05,      31,          1,     283407,          7,2,20050907,       0458,    87.6590,   151.5862,       3313,  1741.5,  -0.4051,  34.9425,2,  34.9422,2,    290.6,2,   291.8,2,   10.62,2,   14.48,2,    0.00,2,    1.02,2,-999.000,9,-999.000,9,-999.000,9,-999.0000,9,  2163.4,2,  2304.5,2,   7.8833,2,    15.00,-999.000,9, 1741.50,  -0.4886
77DN20050819,      AOS05,      31,          1,     283406,          6,2,20050907,       0458,    87.6590,   151.5862,       3313,  1990.3,  -0.4065,  34.9498,2,  34.9499,2,    287.7,2,   288.8,2,   11.83,2,   14.85,2,    0.00,2,    1.04,2,   0.079,2,   0.048,2,   0.000,3,-999.0000,9,  2170.5,2,  2306.7,2,   7.8769,2,    15.00,-999.000,5, 1990.30,  -0.5062
77DN20050819,      AOS05,      31,          1,     283405,          5,2,20050907,       0458,    87.6590,   151.5862,       3313,  2246.2,  -0.3923,  34.9538,2,  34.9530,2,    285.9,2,   286.6,2,   12.23,2,   14.81,2,    0.00,2,    1.05,2,   0.062,2,   0.000,2,   0.000,3,-999.0000,9,  2172.8,2,  2309.4,2,   7.8771,2,    15.00,-999.000,5, 2246.20,  -0.5099
77DN20050819,      AOS05,      31,          1,     283404,          4,2,20050907,       0458,    87.6590,   151.5862,       3313,  2497.0,  -0.3790,  34.9548,2,  34.9550,2,    286.2,2,   287.1,2,   12.44,2,   14.93,2,    0.00,2,    1.05,2,   0.058,2,   0.000,2,   0.000,3,-999.0000,9,  2169.1,2,  2305.9,2,   7.8760,6,    15.00,-999.000,5, 2497.00,  -0.5153
77DN20050819,      AOS05,      31,          1,     283403,          3,2,20050907,       0458,    87.6590,   151.5862,       3313,  2752.7,  -0.3649,  34.9556,2,  34.9556,2,    286.5,2,   288.4,2,   12.29,2,   14.98,2,    0.00,2,    1.05,2,   0.065,2,   0.000,2,   0.000,3,-999.0000,9,  2164.1,2,  2305.4,2,   7.8780,2,    15.00,-999.000,5, 2752.70,  -0.5213
77DN20050819,      AOS05,      31,          1,     283402,          2,2,20050907,       0458,    87.6590,   151.5862,       3313,  3004.9,  -0.3500,  34.9558,2,  34.9552,2,    287.3,2,   287.7,2,   12.14,2,   14.92,2,    0.00,2,    1.05,2,-999.000,9,-999.000,9,-999.000,9,-999.0000,9,  2166.1,2,  2308.8,2,   7.8787,2,    15.00,-999.000,9, 3004.90,  -0.5273
77DN20050819,      AOS05,      31,          1,     283401,          1,2,20050907,       0458,    87.6590,   151.5862,       3313,  3189.2,  -0.3407,  34.9556,2,  34.9552,2,    287.8,2,   289.0,2,   11.99,2,   14.92,2,    0.00,2,    1.04,2,   0.029,2,   0.000,2,   0.000,3,-999.0000,9,  2166.7,2,  2307.2,2,   7.8826,2,    15.00,-999.000,5, 3189.20,  -0.5339