BOTTLE,20211025CCHSIORKP
EXPOCODE,SECT_ID,STNNBR,CASTNO,SAMPNO,BTLNBR,BTLNBR_FLAG_W,DATE,TIME,LATITUDE,LONGITUDE,DEPTH,CTDPRS,CTDTMP,CTDSAL,CTDSAL_FLAG_W,SALNTY,SALNTY_FLAG_W,CTDOXY,CTDOXY_FLAG_W,OXYGEN,OXYGEN_FLAG_W,SILCAT,SILCAT_FLAG_W,NITRAT,NITRAT_FLAG_W,NITRIT,NITRIT_FLAG_W,PHSPHT,PHSPHT_FLAG_W,CFC-11,CFC-11_FLAG_W,CFC-12,CFC-12_FLAG_W,CFC113,CFC113_FLAG_W,SF6,SF6_FLAG_W,TCARBN,TCARBN_FLAG_W,ALKALI,ALKALI_FLAG_W,PH_SWS,PH_SWS_FLAG_W,PH_TMP,CCL4,CCL4_FLAG_W,CTDRAW,THETA
,,,,,,,,,,,METERS,DBAR,ITS-90,PSS-78,,PSS-78,,UMOL/KG,,UMOL/KG,,UMOL/KG,,UMOL/KG,,UMOL/KG,,UMOL/KG,,PMOL/KG,,PMOL/KG,,PMOL/KG,,FMOL/KG,,UMOL/KG,,UMOL/KG,,,,DEG C,PMOL/KG,,DBAR,DEG C
77DN20050819,      AOS05,      23,          1,     283189,         35,2,20050902,       0728,    85.1253,  -154.2458,       1860,     2.1,  -1.5895,  29.6633,2,  29.6730,2,    395.6,2,   397.7,2,    6.40,2,    0.17,2,   -0.00,2,    0.94,2,-999.000,9,-999.000,9,-999.000,9,-999.0000,9,  -999.0,9,  -999.0,9,-999.0000,9,  -999.00,-999.000,9,    2.10,  -1.5896
77DN20050819,      AOS05,      23,          1,     283188,         34,2,20050902,       0728,    85.1253,  -154.2458,       1860,     9.7,  -1.5762,  29.7856,2,  29.7827,2,    395.5,2,   397.3,2,    6.43,2,    0.15,2,    0.01,2,    0.96,2,   7.580,2,   4.110,2,   0.722,2,   2.5700,2,  1980.6,2,  2096.7,2,   7.8302,6,    15.00,   7.659,2,    9.70,  -1.5763
77DN20050819,      AOS05,      23,          1,     283187,         33,2,20050902,       0728,    85.1253,  -154.2458,       1860,    20.2,  -1.5145,  30.3064,2,  30.4305,2,    394.3,2,   395.7,2,    6.36,2,    0.25,2,    0.06,2,    1.01,2,-999.000,9,-999.000,9,-999.000,9,-999.0000,9,  2017.7,2,  2131.4,2,   7.8243,2,    15.00,-999.000,9,   20.20,  -1.5148
77DN20050819,      AOS05,      23,          1,     283186,         32,2,20050902,       0728,    85.1253,  -154.2458,       1860,    35.3,  -1.5946,  30.7256,2,  30.7325,2,    392.8,2,   392.6,2,    6.30,2,    0.55,2,    0.09,2,    1.07,2,   7.620,2,   4.115,2,   0.712,2,-999.0000,9,  2028.5,2,  2144.2,2,   7.8228,2,    15.00,   7.493,2,   35.30,  -1.5951
77DN20050819,      AOS05,      23,          1,     283185,         31,2,20050902,       0728,    85.1253,  -154.2458,       1860,    50.3,  -1.6264,  30.9141,2,  30.9565,2,    389.3,2,   385.8,2,    6.60,2,    1.20,2,    0.03,2,    1.11,2,   7.564,2,   4.095,2,   0.701,2,   1.6700,2,  2037.3,2,  2150.7,2,   7.8234,2,    15.00,   6.854,2,   50.30,  -1.6272
77DN20050819,      AOS05,      23,          1,     283184,         30,2,20050902,       0728,    85.1253,  -154.2458,       1860,    74.3,  -1.4444,  32.3021,2,  32.4888,2,    301.7,2,   287.1,2,   22.58,2,   10.43,2,    0.00,2,    1.38,2,   6.801,2,   3.695,2,   0.492,2,   1.8600,2,  2165.9,2,  2224.6,2,   7.6445,2,    15.00,   4.255,2,   74.30,  -1.4458
77DN20050819,      AOS05,      23,          1,     283183,         29,2,20050902,       0728,    85.1253,  -154.2458,       1860,    94.3,  -1.5273,  33.4421,2,-999.0000,9,   -999.0,9,  -999.0,9, -999.00,9, -999.00,9, -999.00,9, -999.00,9,-999.000,9,-999.000,9,-999.000,9,-999.0000,9,  -999.0,9,  -999.0,9,-999.0000,9,  -999.00,-999.000,9,   94.30,  -1.5293
77DN20050819,      AOS05,      23,          1,     283182,         28,2,20050902,       0728,    85.1253,  -154.2458,       1860,    94.3,  -1.5342,  33.4732,2,-999.0000,9,   -999.0,9,  -999.0,9, -999.00,9, -999.00,9, -999.00,9, -999.00,9,-999.000,9,-999.000,9,-999.000,9,-999.0000,9,  -999.0,9,  -999.0,9,-999.0000,9,  -999.00,-999.000,9,   94.30,  -1.5361
77DN20050819,      AOS05,      23,          1,     283181,         27,2,20050902,       0728,    85.1253,  -154.2458,       1860,    94.3,  -1.5409,  33.4959,2,  33.6982,2,    283.5,2,   295.3,2,   13.13,2,   10.14,2,    0.00,2,    0.98,2,   6.740,2,   3.435,2,   0.479,2,   1.3100,2,  2176.2,2,  2266.9,2,   7.7200,2,    15.00,   3.957,2,   94.30,  -1.5428
77DN20050819,      AOS05,      23,          1,     283180,         26,2,20050902,       0728,    85.1253,  -154.2458,       1860,   109.6,  -1.5056,  33.9623,2,  33.9922,2,    303.5,2,   305.5,2,    7.13,2,    9.26,2,    0.00,2,    0.78,2,   6.877,2,-999.000,5,   0.459,2,   1.1300,2,  2167.8,2,  2271.9,2,   7.7774,2,    15.00,   4.072,2,  109.60,  -1.5080
77DN20050819,      AOS05,      23,          1,     283179,         25,2,20050902,       0728,    85.1253,  -154.2458,       1860,   124.8,  -1.2197,  34.1618,2,  34.1482,2,    308.3,2,   309.5,2,    5.27,2,    9.31,2,    0.00,2,    0.74,2,   6.831,2,   5.143,3,   0.692,3,   0.9000,2,  2156.0,2,  2273.5,2,   7.8024,2,    15.00,   4.357,2,  124.80,  -1.2228
77DN20050819,      AOS05,      23,          1,     283178,         24,2,20050902,       0728,    85.1253,  -154.2458,       1860,   140.1,  -0.9155,  34.2413,2,  34.2801,2,    307.4,2,   305.6,2,    5.21,2,    9.86,2,    0.00,2,    0.75,2,   6.053,2,   2.935,2,   0.394,2,-999.0000,9,  2157.9,2,  2273.3,2,   7.8099,2,    15.00,   4.442,2,  140.10,  -0.9194
77DN20050819,      AOS05,      23,          1,     283177,         23,2,20050902,       0728,    85.1253,  -154.2458,       1860,   160.4,  -0.4735,  34.3722,2,  34.4007,2,    300.9,2,   299.2,2,    5.68,2,   10.69,2,    0.00,2,    0.80,2,-999.000,9,-999.000,9,-999.000,9,-999.0000,9,  2155.6,2,  2276.2,2,   7.8158,2,    15.00,-999.000,9,  160.40,  -0.4786
77DN20050819,      AOS05,      23,          1,     283176,         22,2,20050902,       0728,    85.1253,  -154.2458,       1860,   180.6,  -0.1898,  34.4728,2,  34.4932,2,    295.7,2,   296.9,2,    5.81,2,   11.11,2,    0.00,2,    0.81,2,   5.032,2,   2.418,2,   0.307,2,   0.8700,2,  2159.8,2,  2280.4,2,   7.8205,2,    15.00,   4.441,2,  180.60,  -0.1961
77DN20050819,      AOS05,      23,          1,     283175,         21,2,20050902,       0728,    85.1253,  -154.2458,       1860,   200.9,   0.1245,  34.5692,2,  34.6157,2,    293.0,2,   294.5,2,    6.10,2,   11.84,2,    0.00,2,    0.84,2,-999.000,9,-999.000,9,-999.000,9,-999.0000,9,  2158.6,2,  2282.3,2,   7.8341,2,    15.00,-999.000,9,  200.90,   0.1169
77DN20050819,      AOS05,      23,          1,     283174,         20,4,20050902,       0728,    85.1253,  -154.2458,       1860,   221.2,   0.4401,  34.6749,2,  34.5852,4,    290.2,2,   294.9,4,    5.95,4,   11.65,4,    0.00,4,    0.84,4,   4.597,2,   2.270,2,   0.264,2,   0.8000,2,  2155.7,4,  2281.9,4,   7.8300,4,    15.00,   4.287,2,  221.20,   0.4310
77DN20050819,      AOS05,      23,          1,     283173,         19,2,20050902,       0728,    85.1253,  -154.2458,       1860,   251.3,   0.7929,  34.7939,2,  34.7937,2,    292.4,2,   294.5,2,    5.71,2,   12.71,2,    0.00,2,    0.88,2,   4.388,2,   2.097,2,   0.280,2,   0.7800,2,  2155.6,2,  2291.0,2,   7.8547,2,    15.00,   4.651,2,  251.30,   0.7817
77DN20050819,      AOS05,      23,          1,     283171,         17,2,20050902,       0728,    85.1253,  -154.2458,       1860,   296.3,   0.9720,  34.8474,2,-999.0000,9,   -999.0,9,  -999.0,9, -999.00,9, -999.00,9, -999.00,9, -999.00,9,-999.000,9,-999.000,9,-999.000,9,-999.0000,9,  -999.0,9,  -999.0,9,-999.0000,9,  -999.00,-999.000,9,  296.30,   0.9582
77DN20050819,      AOS05,      23,          1,     283172,         18,2,20050902,       0728,    85.1253,  -154.2458,       1860,   296.3,   0.9723,  34.8474,2,-999.0000,9,   -999.0,9,  -999.0,9, -999.00,9, -999.00,9, -999.00,9, -999.00,9,-999.000,9,-999.000,9,-999.000,9,-999.0000,9,  -999.0,9,  -999.0,9,-999.0000,9,  -999.00,-999.000,9,  296.30,   0.9585
77DN20050819,      AOS05,      23,          1,     283170,         16,2,20050902,       0728,    85.1253,  -154.2458,       1860,   296.3,   0.9722,  34.8473,2,  34.8459,2,    295.3,2,   298.3,2,    5.11,2,   12.71,2,    0.00,2,    0.87,2,-999.000,9,-999.000,9,-999.000,9,-999.0000,9,  2154.1,2,  2295.3,2,   7.8574,2,    15.00,-999.000,9,  296.30,   0.9584
77DN20050819,      AOS05,      23,          1,     283169,         15,2,20050902,       0728,    85.1253,  -154.2458,       1860,   376.0,   0.8334,  34.8628,2,  34.8627,2,    298.0,2,   300.4,2,    5.14,2,   12.74,2,    0.00,2,    0.88,2,   4.649,3,   2.287,3,   0.285,3,   0.8200,2,  2155.6,2,  2291.9,2,   7.8601,2,    15.00,   5.275,3,  376.00,   0.8162
77DN20050819,      AOS05,      23,          1,     283168,         14,2,20050902,       0728,    85.1253,  -154.2458,       1860,   445.8,   0.6048,  34.8574,2,  34.8570,2,    297.4,2,   295.7,2,    5.98,2,   13.07,2,    0.00,2,    0.90,2,   3.233,2,   1.617,2,   0.171,2,   0.5200,2,  2148.2,2,  2294.0,2,   7.8614,2,    15.00,   4.180,2,  445.80,   0.5849
77DN20050819,      AOS05,      23,          1,     283167,         13,2,20050902,       0728,    85.1253,  -154.2458,       1860,   549.3,   0.4392,  34.8695,2,  34.8700,2,    296.3,2,   295.8,2,    6.10,2,   13.20,2,    0.00,2,    0.91,2,-999.000,9,-999.000,9,-999.000,9,-999.0000,9,  2147.1,2,  2292.5,2,   7.8647,2,    15.00,-999.000,9,  549.30,   0.4150
77DN20050819,      AOS05,      23,          1,     283166,         12,2,20050902,       0728,    85.1253,  -154.2458,       1860,   648.8,   0.2716,  34.8738,2,-999.0000,9,   -999.0,9,  -999.0,9, -999.00,9, -999.00,9, -999.00,9, -999.00,9,-999.000,9,-999.000,9,-999.000,9,-999.0000,9,  -999.0,9,  -999.0,9,-999.0000,9,  -999.00,-999.000,9,  648.80,   0.2432
77DN20050819,      AOS05,      23,          1,     283165,         11,2,20050902,       0728,    85.1253,  -154.2458,       1860,   648.8,   0.2721,  34.8738,2,-999.0000,9,   -999.0,9,  -999.0,9, -999.00,9, -999.00,9, -999.00,9, -999.00,9,-999.000,9,-999.000,9,-999.000,9,-999.0000,9,  -999.0,9,  -999.0,9,-999.0000,9,  -999.00,-999.000,9,  648.80,   0.2437
77DN20050819,      AOS05,      23,          1,     283164,         10,2,20050902,       0728,    85.1253,  -154.2458,       1860,   648.8,   0.2723,  34.8738,2,  34.8743,2,    297.4,2,   299.1,2,    5.95,2,   13.07,2,    0.00,2,    0.90,2,   2.833,2,   1.543,2,   0.140,2,   0.4000,2,  2150.9,2,  2294.8,2,   7.8606,2,    15.00,   3.804,2,  648.80,   0.2439
77DN20050819,      AOS05,      23,          1,     283161,          7,2,20050902,       0728,    85.1253,  -154.2458,       1860,   798.1,   0.0390,  34.8803,2,  34.8805,2,    299.9,2,   300.6,2,    5.98,2,   13.07,2,    0.00,2,    0.91,2,   2.617,2,   1.239,2,   0.135,2,   0.5300,2,  2153.5,2,  2294.1,2,   7.8603,2,    15.00,   3.742,2,  798.10,   0.0046
77DN20050819,      AOS05,      23,          1,     283163,          9,2,20050902,       0728,    85.1253,  -154.2458,       1860,   798.1,   0.0399,  34.8804,2,-999.0000,9,   -999.0,9,  -999.0,9, -999.00,9, -999.00,9, -999.00,9, -999.00,9,-999.000,9,-999.000,9,-999.000,9,-999.0000,9,  -999.0,9,  -999.0,9,-999.0000,9,  -999.00,-999.000,9,  798.10,   0.0054
77DN20050819,      AOS05,      23,          1,     283162,          8,2,20050902,       0728,    85.1253,  -154.2458,       1860,   798.1,   0.0397,  34.8803,2,-999.0000,9,   -999.0,9,  -999.0,9, -999.00,9, -999.00,9, -999.00,9, -999.00,9,-999.000,9,-999.000,9,-999.000,9,-999.0000,9,  -999.0,9,  -999.0,9,-999.0000,9,  -999.00,-999.000,9,  798.10,   0.0053
77DN20050819,      AOS05,      23,          1,     283160,          6,2,20050902,       0728,    85.1253,  -154.2458,       1860,   937.7,  -0.0920,  34.8903,2,  34.8913,2,    299.6,2,   300.8,2,    6.37,2,   13.15,2,    0.00,2,    0.93,2,   2.079,2,   0.985,2,   0.099,2,   0.3100,2,  2151.0,2,  2293.5,2,   7.8600,2,    15.00,   3.286,2,  937.70,  -0.1326
77DN20050819,      AOS05,      23,          1,     283159,          5,2,20050902,       0728,    85.1253,  -154.2458,       1860,  1191.0,  -0.2504,  34.9102,2,  34.9100,2,    297.9,2,   299.7,2,    7.21,2,   13.56,2,    0.00,2,    0.96,2,   1.024,2,   0.513,2,   0.049,2,   0.0000,2,  2151.9,2,  2295.9,2,   7.8707,2,    15.00,   2.022,2, 1191.00,  -0.3031
77DN20050819,      AOS05,      23,          1,     283158,          4,2,20050902,       0728,    85.1253,  -154.2458,       1860,  1490.5,  -0.3690,  34.9314,2,  34.9325,2,    294.4,2,   295.1,2,    9.13,2,   14.21,2,    0.00,2,    1.00,2,   0.226,2,   0.113,2,   0.000,2,   0.0000,2,  2153.1,2,  2296.3,2,   7.8728,2,    15.00,   0.738,2, 1490.50,  -0.4376
77DN20050819,      AOS05,      23,          1,     283157,          3,2,20050902,       0728,    85.1253,  -154.2458,       1860,  1694.2,  -0.4050,  34.9438,2,  34.9449,2,    290.0,2,   290.9,2,   10.70,2,   14.57,2,    0.00,2,    1.03,2,   0.114,2,   0.080,2,   0.000,2,   0.0000,2,  2159.1,2,  2299.1,2,   7.8717,2,    15.00,   0.407,2, 1694.20,  -0.4855
77DN20050819,      AOS05,      23,          1,     283156,          2,2,20050902,       0728,    85.1253,  -154.2458,       1860,  1874.1,  -0.4059,  34.9498,2,  34.9479,2,    287.1,2,   287.9,2,   11.72,2,   14.76,2,    0.00,2,    1.05,2,-999.000,9,-999.000,9,-999.000,9,-999.0000,9,  2154.4,2,  2301.4,2,   7.8709,2,    15.00,-999.000,9, 1874.10,  -0.4979
77DN20050819,      AOS05,      23,          1,     283155,          1,2,20050902,       0728,    85.1253,  -154.2458,       1860,  1924.5,  -0.4036,  34.9508,2,  34.9515,2,    286.6,2,   287.8,2,   11.84,2,   14.81,2,    0.00,2,    1.05,2,   0.113,2,   0.092,2,   0.000,2,-999.0000,5,  2151.0,2,  2303.2,2,   7.8752,6,    15.00,   0.268,2, 1924.50,  -0.4989