BOTTLE,20211025CCHSIORKP
EXPOCODE,SECT_ID,STNNBR,CASTNO,SAMPNO,BTLNBR,BTLNBR_FLAG_W,DATE,TIME,LATITUDE,LONGITUDE,DEPTH,CTDPRS,CTDTMP,CTDSAL,CTDSAL_FLAG_W,SALNTY,SALNTY_FLAG_W,CTDOXY,CTDOXY_FLAG_W,OXYGEN,OXYGEN_FLAG_W,SILCAT,SILCAT_FLAG_W,NITRAT,NITRAT_FLAG_W,NITRIT,NITRIT_FLAG_W,PHSPHT,PHSPHT_FLAG_W,CFC-11,CFC-11_FLAG_W,CFC-12,CFC-12_FLAG_W,CFC113,CFC113_FLAG_W,SF6,SF6_FLAG_W,TCARBN,TCARBN_FLAG_W,ALKALI,ALKALI_FLAG_W,PH_SWS,PH_SWS_FLAG_W,PH_TMP,CCL4,CCL4_FLAG_W,CTDRAW,THETA
,,,,,,,,,,,METERS,DBAR,ITS-90,PSS-78,,PSS-78,,UMOL/KG,,UMOL/KG,,UMOL/KG,,UMOL/KG,,UMOL/KG,,UMOL/KG,,PMOL/KG,,PMOL/KG,,PMOL/KG,,FMOL/KG,,UMOL/KG,,UMOL/KG,,,,DEG C,PMOL/KG,,DBAR,DEG C
77DN20050819,      AOS05,       3,          1,     282568,         22,2,20050821,       1641,    71.6145,  -152.1028,        548,     9.6,   3.9477,  29.8317,2,  29.2046,2,    336.2,2,   353.4,2,    5.72,2,    0.00,2,    0.00,2,    0.60,2,   6.440,2,   3.200,2,   0.575,2,-999.0000,9,  1880.8,2,  2043.7,2,   7.9771,2,    15.00,   3.298,3,    9.60,   3.9472
77DN20050819,      AOS05,       3,          1,     282567,         21,2,20050821,       1641,    71.6145,  -152.1028,        548,    19.5,   2.5967,  30.4285,2,  30.3643,2,    357.4,2,   358.6,2,    6.10,2,    0.00,2,    0.00,2,    0.64,2,   6.424,2,   3.170,2,   0.601,2,-999.0000,9,  1947.1,2,  2122.8,2,   7.9814,2,    15.00,   4.219,3,   19.50,   2.5958
77DN20050819,      AOS05,       3,          1,     282566,         20,2,20050821,       1641,    71.6145,  -152.1028,        548,    39.4,   1.0054,  31.4746,2,  31.5911,2,    355.9,2,   359.0,2,    9.33,2,    1.59,2,    0.10,2,    0.95,2,   6.858,2,   3.182,2,   0.671,2,-999.0000,9,  2055.6,2,  2201.5,2,   7.8949,2,    15.00,   1.675,4,   39.40,   1.0039
77DN20050819,      AOS05,       3,          1,     282565,         19,2,20050821,       1641,    71.6145,  -152.1028,        548,    59.0,  -1.0768,  32.0648,2,  32.0966,2,    329.7,2,   324.1,2,   17.08,2,    8.39,2,    0.03,2,    1.39,2,   7.096,2,   3.102,2,   0.521,2,-999.0000,9,  2130.5,2,  2225.6,2,   7.7415,2,    15.00,   3.407,3,   59.00,  -1.0781
77DN20050819,      AOS05,       3,          1,     282564,         18,2,20050821,       1641,    71.6145,  -152.1028,        548,    74.1,   0.4490,  32.3545,2,  32.3593,2,    337.7,2,   377.4,2,   11.82,2,    1.24,2,    0.04,2,    1.06,2,   7.105,2,   3.407,2,   0.657,2,-999.0000,9,  2079.5,2,  2234.4,2,   7.9078,2,    15.00,   4.499,3,   74.10,   0.4464
77DN20050819,      AOS05,       3,          1,     282563,         17,2,20050821,       1641,    71.6145,  -152.1028,        548,    87.8,  -0.1391,  32.4090,2,  32.4139,2,    350.2,2,   347.0,2,   18.14,2,    4.38,2,    0.04,2,    1.30,2,   7.231,2,   3.391,2,   0.639,2,-999.0000,9,  2125.4,2,  2241.7,2,   7.8097,2,    15.00,   5.686,3,   87.80,  -0.1418
77DN20050819,      AOS05,       3,          1,     282562,         16,2,20050821,       1641,    71.6145,  -152.1028,        548,   103.6,  -1.4287,  32.5545,2,  32.5615,2,    304.8,2,   305.5,2,   25.66,2,   11.78,2,    0.03,2,    1.63,2,-999.000,5,-999.000,5,-999.000,5,-999.0000,9,  2178.2,2,  2250.2,2,   7.6783,2,    15.00,-999.000,5,  103.60,  -1.4308
77DN20050819,      AOS05,       3,          1,     282561,         15,2,20050821,       1641,    71.6145,  -152.1028,        548,   118.6,  -1.5510,  32.7508,2,-999.0000,9,   -999.0,9,  -999.0,9, -999.00,9, -999.00,9, -999.00,9, -999.00,9,-999.000,9,-999.000,9,-999.000,9,-999.0000,9,  -999.0,9,  -999.0,9,-999.0000,9,  -999.00,-999.000,9,  118.60,  -1.5533
77DN20050819,      AOS05,       3,          1,     282560,         14,2,20050821,       1641,    71.6145,  -152.1028,        548,   118.6,  -1.5500,  32.7494,2,-999.0000,9,   -999.0,9,  -999.0,9, -999.00,9, -999.00,9, -999.00,9, -999.00,9,-999.000,9,-999.000,9,-999.000,9,-999.0000,9,  -999.0,9,  -999.0,9,-999.0000,9,  -999.00,-999.000,9,  118.60,  -1.5523
77DN20050819,      AOS05,       3,          1,     282559,         13,2,20050821,       1641,    71.6145,  -152.1028,        548,   118.6,  -1.5489,  32.7480,2,  32.7430,2,    299.8,2,   302.1,2,   28.28,2,   12.67,2,    0.02,2,    1.68,2,   6.521,2,   2.928,2,   0.649,2,-999.0000,9,  2189.6,2,  2253.9,2,   7.6632,2,    15.00,   1.087,4,  118.60,  -1.5512
77DN20050819,      AOS05,       3,          1,     282558,         12,2,20050821,       1641,    71.6145,  -152.1028,        548,   133.5,  -1.5455,  33.0106,2,  33.1628,2,    296.2,2,   294.8,2,   29.43,2,   13.50,2,    0.01,2,    1.67,2,   6.415,2,   2.791,2,   0.454,2,-999.0000,9,  2206.0,2,  2270.0,2,   7.6683,2,    15.00,   6.432,3,  133.50,  -1.5482
77DN20050819,      AOS05,       3,          1,     282557,         11,2,20050821,       1641,    71.6145,  -152.1028,        548,   148.4,  -1.2631,  33.6126,2,  33.6684,2,    282.6,2,   281.5,2,   27.21,2,   14.10,2,    0.01,2,    1.56,2,   5.772,2,   2.428,2,   0.410,2,-999.0000,9,  2215.3,2,  2283.0,2,   7.6717,2,    15.00,   4.869,3,  148.40,  -1.2666
77DN20050819,      AOS05,       3,          1,     282556,         10,2,20050821,       1641,    71.6145,  -152.1028,        548,   163.3,  -0.7880,  34.0021,2,  34.0631,2,    273.5,2,   275.0,2,   21.71,2,   13.69,2,    0.04,2,    1.35,2,   5.437,2,   2.226,2,   0.340,2,-999.0000,9,  2204.4,2,  2286.8,2,   7.7234,2,    15.00,   5.150,3,  163.30,  -0.7927
77DN20050819,      AOS05,       3,          1,     282555,          9,2,20050821,       1641,    71.6145,  -152.1028,        548,   178.5,  -0.2997,  34.2863,2,  34.3194,2,    270.5,2,   272.4,2,   19.02,2,   13.42,2,    0.08,2,    1.24,2,-999.000,5,-999.000,5,-999.000,5,-999.0000,9,  2192.0,2,  2287.7,2,   7.7443,2,    15.00,-999.000,5,  178.50,  -0.3057
77DN20050819,      AOS05,       3,          1,     282554,          8,2,20050821,       1641,    71.6145,  -152.1028,        548,   193.1,   0.0351,  34.4709,2,  34.4907,2,    268.2,2,   268.6,2,   17.58,2,   13.27,2,    0.10,2,    1.19,2,   5.262,2,   2.156,2,   0.411,2,-999.0000,9,  2188.2,2,  2289.7,2,   7.7621,2,    15.00,   3.874,3,  193.10,   0.0280
77DN20050819,      AOS05,       3,          1,     282553,          7,2,20050821,       1641,    71.6145,  -152.1028,        548,   212.9,   0.2545,  34.6049,2,  34.6253,2,    268.4,2,   269.8,2,   15.29,2,   13.22,2,    0.10,2,    1.12,2,   5.089,2,   2.050,3,   0.279,2,-999.0000,9,  2185.2,2,  2289.6,2,   7.7817,2,    15.00,   5.243,3,  212.90,   0.2462
77DN20050819,      AOS05,       3,          1,     282552,          6,2,20050821,       1641,    71.6145,  -152.1028,        548,   243.0,   0.5108,  34.7227,2,  34.7232,2,    274.0,2,   276.4,2,   12.51,2,   13.14,2,    0.08,2,    1.03,2,   5.210,2,   2.137,2,   0.324,2,-999.0000,9,  2175.6,2,  2287.2,2,   7.8075,2,    15.00,   5.038,3,  243.00,   0.5006
77DN20050819,      AOS05,       3,          1,     282551,          5,2,20050821,       1641,    71.6145,  -152.1028,        548,   292.2,   0.6340,  34.7664,2,  34.7652,2,    278.2,2,   279.2,2,   11.18,2,   13.06,2,    0.07,2,    0.98,2,   5.241,2,   2.127,2,   0.388,2,-999.0000,9,  2167.4,2,  2287.4,2,   7.8179,2,    15.00,   3.910,3,  292.20,   0.6213
77DN20050819,      AOS05,       3,          1,     282550,          4,2,20050821,       1641,    71.6145,  -152.1028,        548,   341.1,   0.6898,  34.8030,2,  34.8046,2,    281.7,2,   282.6,2,   10.70,2,   12.94,2,    0.04,2,    0.98,2,   5.048,2,   2.085,2,   0.292,2,-999.0000,9,  2163.2,2,  2290.6,2,   7.8287,2,    15.00,   5.389,3,  341.10,   0.6747
77DN20050819,      AOS05,       3,          1,     282549,          3,2,20050821,       1641,    71.6145,  -152.1028,        548,   416.6,   0.6969,  34.8121,2,  34.8120,2,    283.0,2,   283.9,2,   10.52,2,   12.89,2,    0.04,2,    0.97,2,   5.095,2,   2.057,2,   0.305,2,-999.0000,9,  2173.0,2,  2290.2,2,   7.8323,2,    15.00,   5.424,3,  416.60,   0.6781
77DN20050819,      AOS05,       3,          1,     282548,          2,2,20050821,       1641,    71.6145,  -152.1028,        548,   491.1,   0.6963,  34.8170,2,  34.8174,2,    283.8,2,   284.9,2,   10.15,2,   12.85,2,    0.04,2,    0.96,2,   5.020,2,   1.960,2,   0.398,3,-999.0000,9,  2163.4,2,  2291.2,2,   7.8347,2,    15.00,   3.535,3,  491.10,   0.6738
77DN20050819,      AOS05,       3,          1,     282547,          1,2,20050821,       1641,    71.6145,  -152.1028,        548,   540.5,   0.6854,  34.8187,2,  34.8193,2,    284.5,2,   285.7,2,    9.86,2,   12.84,2,    0.05,2,    0.97,2,   4.695,2,   1.913,2,   0.287,2,-999.0000,9,  2167.2,2,  2294.2,2,   7.8383,6,    15.00,   4.412,3,  540.50,   0.6605