BOTTLE,20211025CCHSIORKP
EXPOCODE,SECT_ID,STNNBR,CASTNO,SAMPNO,BTLNBR,BTLNBR_FLAG_W,DATE,TIME,LATITUDE,LONGITUDE,DEPTH,CTDPRS,CTDTMP,CTDSAL,CTDSAL_FLAG_W,SALNTY,SALNTY_FLAG_W,CTDOXY,CTDOXY_FLAG_W,OXYGEN,OXYGEN_FLAG_W,SILCAT,SILCAT_FLAG_W,NITRAT,NITRAT_FLAG_W,NITRIT,NITRIT_FLAG_W,PHSPHT,PHSPHT_FLAG_W,CFC-11,CFC-11_FLAG_W,CFC-12,CFC-12_FLAG_W,CFC113,CFC113_FLAG_W,SF6,SF6_FLAG_W,TCARBN,TCARBN_FLAG_W,ALKALI,ALKALI_FLAG_W,PH_SWS,PH_SWS_FLAG_W,PH_TMP,CCL4,CCL4_FLAG_W,CTDRAW,THETA
,,,,,,,,,,,METERS,DBAR,ITS-90,PSS-78,,PSS-78,,UMOL/KG,,UMOL/KG,,UMOL/KG,,UMOL/KG,,UMOL/KG,,UMOL/KG,,PMOL/KG,,PMOL/KG,,PMOL/KG,,FMOL/KG,,UMOL/KG,,UMOL/KG,,,,DEG C,PMOL/KG,,DBAR,DEG C
77DN20050819,      AOS05,      35,          1,     283543,         27,3,20050909,       1320,    88.4065,   150.5915,       2000,     9.2,  -1.7023,  31.4032,2,  31.4105,2,   -999.0,9,  -999.0,9,    5.09,2,    0.73,2,    0.04,2,    0.78,2,-999.000,9,-999.000,9,-999.000,9,-999.0000,9,  -999.0,9,  -999.0,9,-999.0000,9,  -999.00,-999.000,9,    9.20,  -1.7025
77DN20050819,      AOS05,      35,          1,     283542,         26,2,20050909,       1320,    88.4065,   150.5915,       2000,    24.6,  -1.7094,  31.5245,2,  31.4796,2,    388.6,2,   390.4,2,    5.03,2,    0.88,2,    0.04,2,    0.77,2,   7.271,2,   3.974,2,   0.990,2,-999.0000,9,  2074.5,2,  2178.3,2,   7.8227,2,    15.00,-999.000,5,   24.60,  -1.7098
77DN20050819,      AOS05,      35,          1,     283541,         25,2,20050909,       1320,    88.4065,   150.5915,       2000,    41.9,  -1.7340,  32.5740,2,  32.6640,2,    377.2,2,   364.1,2,    5.42,2,    3.69,2,    0.02,2,    0.68,2,   7.270,2,   3.764,2,   0.909,2,-999.0000,9,  2139.3,2,  2242.2,2,   7.7946,2,    15.00,-999.000,5,   41.90,  -1.7347
77DN20050819,      AOS05,      35,          1,     283540,         24,2,20050909,       1320,    88.4065,   150.5915,       2000,    54.2,  -1.7265,  33.1052,2,  33.1630,2,    356.4,2,   340.7,2,    6.17,2,    5.75,2,    0.01,2,    0.65,2,   7.624,2,   4.006,2,   0.585,2,-999.0000,9,  2161.8,2,  2255.0,2,   7.7866,2,    15.00,-999.000,5,   54.20,  -1.7274
77DN20050819,      AOS05,      35,          1,     283539,         23,2,20050909,       1320,    88.4065,   150.5915,       2000,    69.5,  -1.6117,  33.8722,2,  33.8960,2,    316.1,2,   317.1,2,    5.65,2,    8.03,2,    0.01,2,    0.68,2,   7.192,2,   3.695,2,   0.533,2,-999.0000,9,  2165.4,2,  2267.7,2,   7.7967,2,    15.00,-999.000,5,   69.50,  -1.6131
77DN20050819,      AOS05,      35,          1,     283538,         22,2,20050909,       1320,    88.4065,   150.5915,       2000,    79.8,  -1.5144,  34.0387,2,  34.0584,2,    313.4,2,   314.2,2,    5.31,2,    8.47,2,    0.00,2,    0.70,2,   6.395,2,   3.169,2,   0.612,2,-999.0000,9,  2159.8,2,  2269.1,2,   7.8078,2,    15.00,-999.000,5,   79.80,  -1.5161
77DN20050819,      AOS05,      35,          1,     283537,         21,2,20050909,       1320,    88.4065,   150.5915,       2000,    90.2,  -1.3338,  34.1409,2,  34.1571,2,    310.8,2,   313.4,2,    5.25,2,    8.86,2,    0.00,2,    0.71,2,-999.000,5,-999.000,5,-999.000,5,-999.0000,9,  2155.7,2,  2270.2,2,   7.8167,2,    15.00,-999.000,5,   90.20,  -1.3360
77DN20050819,      AOS05,      35,          1,     283536,         20,2,20050909,       1320,    88.4065,   150.5915,       2000,   110.3,  -0.8999,  34.2640,2,  34.2706,2,    308.8,2,   309.9,2,    5.09,2,    9.39,2,    0.00,2,    0.72,2,   6.137,2,   2.972,2,   0.580,2,-999.0000,9,  2155.6,2,  2271.4,2,   7.8259,2,    15.00,-999.000,5,  110.30,  -0.9029
77DN20050819,      AOS05,      35,          1,     283535,         19,2,20050909,       1320,    88.4065,   150.5915,       2000,   130.6,  -0.6105,  34.3749,2,  34.3900,2,    303.0,2,   303.2,2,    5.66,2,   10.17,2,    0.00,2,    0.77,2,   6.444,2,   2.832,2,   0.553,2,-999.0000,9,  2161.1,2,  2274.8,2,   7.8222,2,    15.00,-999.000,5,  130.60,  -0.6145
77DN20050819,      AOS05,      35,          1,     283534,         18,2,20050909,       1320,    88.4065,   150.5915,       2000,   150.8,  -0.1805,  34.4897,2,  34.4996,2,    299.0,2,   299.8,2,    5.96,2,   10.75,2,    0.00,2,    0.79,2,   5.062,2,   2.577,2,   0.404,2,-999.0000,9,  2159.8,2,  2278.9,2,   7.8283,2,    15.00,-999.000,5,  150.80,  -0.1858
77DN20050819,      AOS05,      35,          1,     283533,         17,2,20050909,       1320,    88.4065,   150.5915,       2000,   171.0,   0.1235,  34.6032,2,  34.6164,2,    299.2,2,   299.8,2,    5.72,2,   11.13,2,    0.00,2,    0.80,2,   5.035,2,   2.587,2,   0.435,2,-999.0000,9,  2159.3,2,  2282.4,2,   7.8405,2,    15.00,-999.000,5,  171.00,   0.1170
77DN20050819,      AOS05,      35,          1,     283532,         16,2,20050909,       1320,    88.4065,   150.5915,       2000,   191.2,   0.4690,  34.6996,2,  34.7090,2,    296.6,2,   298.7,2,    5.65,2,   11.66,2,    0.00,2,    0.83,2,   5.151,2,   3.505,3,   0.476,2,-999.0000,9,  2163.3,2,  2285.3,2,   7.8452,2,    15.00,-999.000,5,  191.20,   0.4612
77DN20050819,      AOS05,      35,          1,     283531,         15,2,20050909,       1320,    88.4065,   150.5915,       2000,   236.3,   0.8622,  34.8011,2,  34.8023,2,    295.5,2,   300.1,2,    5.40,2,   12.14,2,    0.00,2,    0.84,2,   5.086,2,   2.577,2,   0.434,2,-999.0000,9,  2158.6,2,  2288.5,2,   7.8622,2,    15.00,-999.000,5,  236.30,   0.8516
77DN20050819,      AOS05,      35,          1,     283530,         14,2,20050909,       1320,    88.4065,   150.5915,       2000,   286.0,   0.9571,  34.8395,2,  34.8407,2,    302.1,2,   302.7,2,    5.16,2,   12.14,2,    0.00,2,    0.85,2,   5.500,2,   2.851,2,   0.509,2,-999.0000,9,  2156.5,2,  2290.8,2,   7.8636,2,    15.00,-999.000,5,  286.00,   0.9439
77DN20050819,      AOS05,      35,          1,     283529,         13,2,20050909,       1320,    88.4065,   150.5915,       2000,   330.8,   0.8758,  34.8475,2,  34.8476,2,    301.5,2,   303.4,2,    5.37,2,   12.17,2,    0.00,2,    0.85,2,   4.922,2,   2.547,2,   0.440,2,-999.0000,9,  2158.9,2,  2291.8,2,   7.8644,2,    15.00,-999.000,5,  330.80,   0.8607
77DN20050819,      AOS05,      35,          1,     283528,         12,2,20050909,       1320,    88.4065,   150.5915,       2000,   400.3,   0.6717,  34.8571,2,  34.8575,2,    302.2,2,   303.5,2,    5.49,2,   12.27,2,    0.00,2,    0.86,2,   4.321,2,   2.137,2,   0.322,2,-999.0000,9,  2160.9,2,  2290.9,2,   7.8602,2,    15.00,-999.000,5,  400.30,   0.6538
77DN20050819,      AOS05,      35,          1,     283527,         11,2,20050909,       1320,    88.4065,   150.5915,       2000,   499.5,   0.4203,  34.8640,2,  34.8646,2,    303.2,2,   303.8,2,    5.70,2,   12.46,2,    0.00,2,    0.87,2,   4.517,2,   2.307,2,   0.337,2,-999.0000,9,  2165.0,2,  2290.9,2,   7.8578,2,    15.00,-999.000,5,  499.50,   0.3986
77DN20050819,      AOS05,      35,          1,     283526,         10,2,20050909,       1320,    88.4065,   150.5915,       2000,   602.6,   0.1760,  34.8631,2,  34.8642,2,    304.5,2,   306.0,2,    5.73,2,   12.31,2,    0.00,2,    0.86,2,   4.735,2,   2.645,2,   0.421,2,-999.0000,9,  2169.4,2,  2290.8,2,   7.8496,2,    15.00,-999.000,5,  602.60,   0.1504
77DN20050819,      AOS05,      35,          1,     283525,          9,2,20050909,       1320,    88.4065,   150.5915,       2000,   751.5,  -0.0945,  34.8661,2,  34.8668,2,    305.7,2,   306.4,2,    5.84,2,   12.35,2,    0.00,2,    0.87,2,   4.170,2,   2.283,2,   0.343,2,-999.0000,9,  2171.0,2,  2291.9,2,   7.8426,2,    15.00,-999.000,5,  751.50,  -0.1257
77DN20050819,      AOS05,      35,          1,     283524,          8,2,20050909,       1320,    88.4065,   150.5915,       2000,   900.5,  -0.2776,  34.8721,2,  34.8723,2,    306.7,2,   307.8,2,    6.05,2,   12.39,2,    0.00,2,    0.88,2,   4.648,2,   2.443,2,   0.404,2,-999.0000,9,  2170.7,2,  2294.7,2,   7.8361,2,    15.00,-999.000,5,  900.50,  -0.3149
77DN20050819,      AOS05,      35,          1,     283523,          7,2,20050909,       1320,    88.4065,   150.5915,       2000,  1049.6,  -0.3462,  34.8842,2,  34.8845,2,    304.7,2,   305.6,2,    6.71,2,   12.77,2,    0.00,2,    0.90,2,   3.686,2,   1.948,2,   0.315,2,-999.0000,9,  2170.4,2,  2292.9,2,   7.8415,2,    15.00,-999.000,5, 1049.60,  -0.3905
77DN20050819,      AOS05,      35,          1,     283522,          6,2,20050909,       1320,    88.4065,   150.5915,       2000,  1203.1,  -0.3847,  34.8984,2,  34.8990,2,    302.4,2,   303.2,2,    7.55,2,   13.25,2,    0.00,2,    0.93,2,   2.942,2,   1.584,2,   0.217,2,-999.0000,9,  2166.1,2,  2294.9,2,   7.8492,2,    15.00,-999.000,5, 1203.10,  -0.4368
77DN20050819,      AOS05,      35,          1,     283521,          5,2,20050909,       1320,    88.4065,   150.5915,       2000,  1402.6,  -0.4562,  34.9112,2,  34.9124,2,    299.5,2,   300.6,2,    8.67,2,   13.78,2,    0.00,2,    0.97,2,   1.928,2,   1.054,2,   0.131,2,-999.0000,9,  2163.1,2,  2293.5,2,   7.8567,2,    15.00,-999.000,5, 1402.60,  -0.5186
77DN20050819,      AOS05,      35,          1,     283520,          4,2,20050909,       1320,    88.4065,   150.5915,       2000,  1577.4,  -0.4964,  34.9224,2,  34.9232,2,    296.2,2,   297.3,2,    9.87,2,   14.26,2,    0.00,2,    1.00,2,   1.098,2,   0.667,2,   0.065,2,-999.0000,9,  2162.7,2,  2295.6,2,   7.8597,2,    15.00,-999.000,5, 1577.40,  -0.5686
77DN20050819,      AOS05,      35,          1,     283519,          3,2,20050909,       1320,    88.4065,   150.5915,       2000,  1691.3,  -0.4503,  34.9373,2,  34.9380,2,    290.7,2,   292.6,2,   10.98,2,   14.49,2,    0.00,2,    1.02,2,   0.505,2,   0.415,2,   0.000,2,-999.0000,9,  2156.6,2,  2295.4,2,   7.8733,2,    15.00,-999.000,5, 1691.30,  -0.5300
77DN20050819,      AOS05,      35,          1,     283518,          2,2,20050909,       1320,    88.4065,   150.5915,       2000,  1841.3,  -0.4100,  34.9471,2,  34.9477,2,    288.2,2,   289.1,2,   11.92,2,   14.68,2,    0.00,2,    1.03,2,   0.179,2,   0.012,2,   0.000,2,-999.0000,9,  2157.7,2,  2297.2,2,   7.8774,2,    15.00,-999.000,5, 1841.30,  -0.4998
77DN20050819,      AOS05,      35,          1,     283517,          1,2,20050909,       1320,    88.4065,   150.5915,       2000,  2021.3,  -0.4015,  34.9518,2,  34.9524,2,    286.1,2,   287.1,2,   12.49,2,   14.81,2,    0.00,2,    1.04,2,   0.101,2,   0.000,2,   0.000,2,-999.0000,9,  2157.8,2,  2301.9,2,   7.8839,2,    15.00,-999.000,5, 2021.30,  -0.5033