BOTTLE,20211025CCHSIORKP
EXPOCODE,SECT_ID,STNNBR,CASTNO,SAMPNO,BTLNBR,BTLNBR_FLAG_W,DATE,TIME,LATITUDE,LONGITUDE,DEPTH,CTDPRS,CTDTMP,CTDSAL,CTDSAL_FLAG_W,SALNTY,SALNTY_FLAG_W,CTDOXY,CTDOXY_FLAG_W,OXYGEN,OXYGEN_FLAG_W,SILCAT,SILCAT_FLAG_W,NITRAT,NITRAT_FLAG_W,NITRIT,NITRIT_FLAG_W,PHSPHT,PHSPHT_FLAG_W,CFC-11,CFC-11_FLAG_W,CFC-12,CFC-12_FLAG_W,CFC113,CFC113_FLAG_W,SF6,SF6_FLAG_W,TCARBN,TCARBN_FLAG_W,ALKALI,ALKALI_FLAG_W,PH_SWS,PH_SWS_FLAG_W,PH_TMP,CCL4,CCL4_FLAG_W,CTDRAW,THETA
,,,,,,,,,,,METERS,DBAR,ITS-90,PSS-78,,PSS-78,,UMOL/KG,,UMOL/KG,,UMOL/KG,,UMOL/KG,,UMOL/KG,,UMOL/KG,,PMOL/KG,,PMOL/KG,,PMOL/KG,,FMOL/KG,,UMOL/KG,,UMOL/KG,,,,DEG C,PMOL/KG,,DBAR,DEG C
77DN20050819,      AOS05,       5,          1,     282641,         36,2,20050822,       0516,    72.4145,  -151.5160,       3478,     2.8,  -1.1476,  27.6675,2,  26.6144,2,    392.8,2,   395.5,2,    2.86,2,    0.07,2,    0.00,2,    0.63,2,-999.000,5,-999.000,5,-999.000,5,-999.0000,9,  1839.4,2,  1928.7,2,   7.8564,2,    15.00,-999.000,5,    2.80,  -1.1476
77DN20050819,      AOS05,       5,          1,     282640,         35,2,20050822,       0516,    72.4145,  -151.5160,       3478,    13.4,  -1.1328,  28.0971,2,  28.0547,2,    394.2,2,   396.9,2,    2.75,2,    0.07,2,    0.00,2,    0.65,2,-999.000,5,-999.000,5,-999.000,5,-999.0000,9,  1891.5,2,  1996.2,2,   7.8533,2,    15.00,-999.000,5,   13.40,  -1.1330
77DN20050819,      AOS05,       5,          1,     282639,         34,2,20050822,       0516,    72.4145,  -151.5160,       3478,    28.3,  -1.1388,  29.4595,2,  29.5024,2,    400.6,2,   406.1,2,    3.05,2,    0.07,2,    0.00,2,    0.71,2,   7.773,2,   3.760,2,   0.694,2,-999.0000,9,  1980.1,2,  2095.7,2,   7.8696,2,    15.00,-999.000,5,   28.30,  -1.1392
77DN20050819,      AOS05,       5,          1,     282638,         33,2,20050822,       0516,    72.4145,  -151.5160,       3478,    47.7,  -1.0946,  30.8173,2,  30.8882,2,    401.2,2,   385.7,2,    8.26,2,    1.04,2,    0.18,2,    0.88,2,   7.244,2,   3.780,2,   0.642,2,-999.0000,9,  2064.8,2,  2177.0,2,   7.8388,2,    15.00,-999.000,5,   47.70,  -1.0955
77DN20050819,      AOS05,       5,          1,     282637,         32,2,20050822,       0516,    72.4145,  -151.5160,       3478,    66.9,  -0.9517,  31.9668,2,  32.0037,2,    343.1,2,   330.1,2,   15.56,2,    7.68,2,    0.04,2,    1.35,2,   6.809,2,   3.521,2,   0.510,2,-999.0000,9,  2127.4,2,  2216.3,2,   7.7629,2,    15.00,   4.455,2,   66.90,  -0.9532
77DN20050819,      AOS05,       5,          1,     282636,         31,2,20050822,       0516,    72.4145,  -151.5160,       3478,    82.2,  -1.2168,  32.2676,2,  32.3471,2,    312.0,2,   327.0,2,   22.51,2,   11.11,2,    0.01,2,    1.61,2,   6.368,2,   3.143,2,   0.437,2,-999.0000,9,  2171.5,2,  2235.3,2,   7.6909,2,    15.00,   4.564,2,   82.20,  -1.2185
77DN20050819,      AOS05,       5,          1,     282635,         30,2,20050822,       0516,    72.4145,  -151.5160,       3478,    94.5,  -1.3450,  32.4519,2,  32.5091,2,    299.5,2,   297.0,2,   25.91,2,   12.47,2,    0.00,2,    1.69,2,   4.808,2,-999.000,5,   0.276,3,-999.0000,9,  2178.9,2,  2241.3,2,   7.6636,2,    15.00,   4.598,2,   94.50,  -1.3469
77DN20050819,      AOS05,       5,          1,     282634,         29,2,20050822,       0516,    72.4145,  -151.5160,       3478,   109.8,  -1.4393,  32.6448,2,  32.6594,2,    291.4,2,   292.6,2,   28.51,2,   13.32,2,    0.00,2,    1.75,2,   5.328,2,-999.000,5,   0.379,2,-999.0000,9,  2191.8,2,  2246.3,2,   7.6480,2,    15.00,   2.806,3,  109.80,  -1.4415
77DN20050819,      AOS05,       5,          1,     282633,         28,2,20050822,       0516,    72.4145,  -151.5160,       3478,   125.0,  -1.4969,  32.7925,2,  32.8141,2,    287.2,2,   288.2,2,   31.42,2,   14.45,2,    0.00,2,    1.80,2,   5.763,2,   2.944,2,   0.383,2,-999.0000,9,  2201.4,2,  2253.5,2,   7.6358,2,    15.00,   4.473,2,  125.00,  -1.4994
77DN20050819,      AOS05,       5,          1,     282632,         27,2,20050822,       0516,    72.4145,  -151.5160,       3478,   140.3,  -1.5990,  32.9348,2,  32.9478,2,    290.7,2,   299.4,2,   30.02,2,   13.63,2,    0.00,2,    1.72,2,   5.999,2,   2.992,2,   0.437,2,-999.0000,9,  2202.5,2,  2262.3,2,   7.6494,2,    15.00,   5.943,2,  140.30,  -1.6017
77DN20050819,      AOS05,       5,          1,     282631,         26,2,20050822,       0516,    72.4145,  -151.5160,       3478,   155.6,  -1.5418,  33.1103,2,-999.0000,9,   -999.0,9,  -999.0,9, -999.00,9, -999.00,9, -999.00,9, -999.00,9,-999.000,9,-999.000,9,-999.000,9,-999.0000,9,  -999.0,9,  -999.0,9,-999.0000,9,  -999.00,-999.000,9,  155.60,  -1.5450
77DN20050819,      AOS05,       5,          1,     282630,         25,2,20050822,       0516,    72.4145,  -151.5160,       3478,   155.6,  -1.5438,  33.1119,2,-999.0000,9,   -999.0,9,  -999.0,9, -999.00,9, -999.00,9, -999.00,9, -999.00,9,-999.000,9,-999.000,9,-999.000,9,-999.0000,9,  -999.0,9,  -999.0,9,-999.0000,9,  -999.00,-999.000,9,  155.60,  -1.5470
77DN20050819,      AOS05,       5,          1,     282629,         24,2,20050822,       0516,    72.4145,  -151.5160,       3478,   155.6,  -1.5426,  33.1120,2,  33.1440,2,    292.0,2,   290.3,2,   31.93,2,   14.58,2,    0.00,2,    1.77,2,   7.063,3,   4.898,3,   0.707,3,-999.0000,9,  2222.1,2,  2269.1,2,   7.6394,2,    15.00,-999.000,5,  155.60,  -1.5458
77DN20050819,      AOS05,       5,          1,     282628,         23,2,20050822,       0516,    72.4145,  -151.5160,       3478,   170.9,  -1.4409,  33.3900,2,  33.4455,2,    284.2,2,   284.1,2,   30.21,2,   14.44,2,    0.00,2,    1.68,2,   4.527,2,   2.632,2,   0.371,2,-999.0000,9,  2219.9,2,  2277.0,2,   7.6483,2,    15.00,   5.186,2,  170.90,  -1.4447
77DN20050819,      AOS05,       5,          1,     282627,         22,2,20050822,       0516,    72.4145,  -151.5160,       3478,   186.2,  -1.1890,  33.7646,2,  33.8382,3,    276.0,2,   280.4,2,   25.61,2,   14.07,2,    0.00,2,    1.50,2,   5.277,2,   2.642,2,   0.354,2,-999.0000,9,  2222.8,2,  2283.6,2,   7.6796,2,    15.00,   5.145,2,  186.20,  -1.1936
77DN20050819,      AOS05,       5,          1,     282626,         21,2,20050822,       0516,    72.4145,  -151.5160,       3478,   199.5,  -0.9041,  34.0720,2,  34.1046,2,    273.3,2,   275.0,2,   22.72,2,   14.02,2,    0.00,2,    1.39,2,   5.013,2,   2.757,2,   0.312,2,-999.0000,9,  2212.5,2,  2287.4,2,   7.7015,2,    15.00,   4.895,2,  199.50,  -0.9097
77DN20050819,      AOS05,       5,          1,     282625,         20,4,20050822,       0516,    72.4145,  -151.5160,       3478,   219.8,  -0.5615,  34.3311,2,  33.8001,4,    268.6,2,   281.3,4,   25.72,4,   14.01,4,    0.00,4,    1.50,4,   5.262,2,   2.601,2,   0.343,2,-999.0000,9,  2217.5,4,  2282.9,4,   7.6781,4,    15.00,   5.129,2,  219.80,  -0.5685
77DN20050819,      AOS05,       5,          1,     282624,         19,3,20050822,       0516,    72.4145,  -151.5160,       3478,   249.9,  -0.0230,  34.5784,2,-999.0000,9,   -999.0,9,  -999.0,9, -999.00,9, -999.00,9, -999.00,9, -999.00,9,-999.000,9,-999.000,9,-999.000,9,-999.0000,9,  -999.0,9,  -999.0,9,-999.0000,9,  -999.00,-999.000,9,  249.90,  -0.0323
77DN20050819,      AOS05,       5,          1,     282623,         18,2,20050822,       0516,    72.4145,  -151.5160,       3478,   298.9,   0.4735,  34.7382,2,  34.7473,3,    281.6,2,   282.7,2,    9.83,2,   13.11,2,    0.00,2,    0.96,2,   5.057,2,   2.750,2,   0.338,2,-999.0000,9,  2168.6,2,  2285.7,2,   7.8196,2,    15.00,   6.069,2,  298.90,   0.4609
77DN20050819,      AOS05,       5,          1,     282622,         17,2,20050822,       0516,    72.4145,  -151.5160,       3478,   349.1,   0.6522,  34.7992,2,  34.8066,3,    287.5,2,   289.1,2,    8.15,2,   12.87,2,    0.00,2,    0.92,2,   4.492,2,   2.265,2,   0.260,2,-999.0000,9,  2166.2,2,  2287.9,2,   7.8368,2,    15.00,   5.234,2,  349.10,   0.6368
77DN20050819,      AOS05,       5,          1,     282621,         16,2,20050822,       0516,    72.4145,  -151.5160,       3478,   423.7,   0.6029,  34.8249,2,  34.8252,2,    291.7,2,   295.8,2,    7.86,2,   12.87,2,    0.00,2,    0.91,2,   4.487,2,   2.107,2,   0.247,2,-999.0000,9,  2164.9,2,  2290.0,2,   7.8397,2,    15.00,   5.288,2,  423.70,   0.5841
77DN20050819,      AOS05,       5,          1,     282620,         15,2,20050822,       0516,    72.4145,  -151.5160,       3478,   495.5,   0.5600,  34.8425,2,  34.8424,2,    293.9,2,   294.2,2,    7.37,2,   12.78,2,    0.00,2,    0.89,2,   2.894,3,   2.245,2,   0.284,2,-999.0000,9,  2163.4,2,  2292.2,2,   7.8492,2,    15.00,   6.041,2,  495.50,   0.5379
77DN20050819,      AOS05,       5,          1,     282619,         14,2,20050822,       0516,    72.4145,  -151.5160,       3478,   599.0,   0.4397,  34.8557,2,  34.8541,2,    295.2,2,   296.5,2,    7.08,2,   12.77,2,    0.00,2,    0.89,2,   3.863,2,   1.861,2,   0.203,2,-999.0000,9,  2158.5,2,  2290.0,2,   7.8499,2,    15.00,   5.236,2,  599.00,   0.4130
77DN20050819,      AOS05,       5,          1,     282618,         13,2,20050822,       0516,    72.4145,  -151.5160,       3478,   747.8,   0.2386,  34.8667,2,  34.8653,2,    297.5,2,   298.6,2,    6.88,2,   12.68,2,    0.00,2,    0.89,2,   3.499,2,   1.892,2,   0.188,2,-999.0000,9,  2157.9,2,  2292.8,2,   7.8535,2,    15.00,   4.743,2,  747.80,   0.2054
77DN20050819,      AOS05,       5,          1,     282617,         12,2,20050822,       0516,    72.4145,  -151.5160,       3478,   896.3,   0.0496,  34.8766,2,  34.8778,2,    298.6,2,   300.5,2,    6.59,2,   12.72,2,    0.00,2,    0.89,2,   3.140,2,   1.680,2,   0.183,2,-999.0000,9,  2165.3,2,  2292.2,2,   7.8557,2,    15.00,   4.689,2,  896.30,   0.0101
77DN20050819,      AOS05,       5,          1,     282616,         11,2,20050822,       0516,    72.4145,  -151.5160,       3478,  1045.3,  -0.0774,  34.8879,2,  34.8873,2,    299.0,2,   300.6,2,    6.98,2,   12.86,2,    0.00,2,    0.90,2,   2.522,2,   1.334,2,   0.111,2,-999.0000,9,  2160.3,2,  2294.1,2,   7.8573,2,    15.00,   4.075,2, 1045.30,  -0.1238
77DN20050819,      AOS05,       5,          1,     282615,         10,2,20050822,       0516,    72.4145,  -151.5160,       3478,  1199.8,  -0.1931,  34.8982,2,  34.9009,2,    298.9,2,   300.6,2,    7.58,2,   13.04,2,    0.00,2,    0.92,2,   1.934,2,   1.151,3,   0.063,2,-999.0000,9,  2156.3,2,  2293.8,2,   7.8613,2,    15.00,   3.543,2, 1199.80,  -0.2468
77DN20050819,      AOS05,       5,          1,     282614,          9,2,20050822,       0516,    72.4145,  -151.5160,       3478,  1396.4,  -0.2978,  34.9118,2,  34.9040,3,    298.0,2,   299.6,2,    8.16,2,   13.35,2,    0.00,2,    0.94,2,   1.310,2,   0.975,3,   0.041,2,-999.0000,9,  2158.6,2,  2294.2,2,   7.8637,2,    15.00,   2.509,2, 1396.40,  -0.3616
77DN20050819,      AOS05,       5,          1,     282613,          8,2,20050822,       0516,    72.4145,  -151.5160,       3478,  1644.4,  -0.3859,  34.9285,2,  34.9193,3,    295.0,2,   296.7,2,    9.45,2,   13.84,2,    0.00,2,    0.97,2,   0.804,2,   0.758,3,   0.000,2,-999.0000,9,  2157.0,2,  2294.6,2,   7.8667,2,    15.00,   1.699,2, 1644.40,  -0.4635
77DN20050819,      AOS05,       5,          1,     282612,          7,2,20050822,       0516,    72.4145,  -151.5160,       3478,  1941.9,  -0.4118,  34.9431,2,  34.9402,2,    290.3,2,   291.9,2,   11.03,2,   14.34,2,    0.00,2,    1.01,2,   0.331,2,   0.579,3,   0.000,2,-999.0000,9,  2154.5,2,  2296.3,2,   7.8718,2,    15.00,   0.692,2, 1941.90,  -0.5082
77DN20050819,      AOS05,       5,          1,     282611,          6,2,20050822,       0516,    72.4145,  -151.5160,       3478,  2248.4,  -0.3986,  34.9509,2,  34.9507,2,    287.2,2,   288.3,2,   11.93,2,   14.56,2,    0.00,2,    1.02,2,   0.214,2,   0.379,3,   0.000,2,-999.0000,9,  2152.1,2,  2300.0,2,   7.8760,2,    15.00,   0.456,2, 2248.40,  -0.5162
77DN20050819,      AOS05,       5,          1,     282610,          5,2,20050822,       0516,    72.4145,  -151.5160,       3478,  2549.7,  -0.3762,  34.9550,2,  34.9569,3,    285.5,2,   286.9,2,   12.53,2,   14.65,2,    0.00,2,    1.03,2,   0.110,2,   0.455,3,   0.000,2,-999.0000,9,  2161.0,2,  2298.6,2,   7.8717,2,    15.00,   0.208,2, 2549.70,  -0.5166
77DN20050819,      AOS05,       5,          1,     282609,          4,2,20050822,       0516,    72.4145,  -151.5160,       3478,  2853.5,  -0.3483,  34.9571,2,  34.9577,2,    284.7,2,   292.2,4,   12.93,2,   14.65,2,    0.00,2,    1.03,2,   0.169,2,   0.540,3,   0.000,2,-999.0000,9,  2159.2,2,  2298.3,2,   7.8728,2,    15.00,   0.340,2, 2853.50,  -0.5133
77DN20050819,      AOS05,       5,          1,     282608,          3,2,20050822,       0516,    72.4145,  -151.5160,       3478,  3214.3,  -0.3157,  34.9575,2,-999.0000,9,   -999.0,9,  -999.0,9, -999.00,9, -999.00,9, -999.00,9, -999.00,9,-999.000,9,-999.000,9,-999.000,9,-999.0000,9,  -999.0,9,  -999.0,9,-999.0000,9,  -999.00,-999.000,9, 3214.30,  -0.5117
77DN20050819,      AOS05,       5,          1,     282607,          2,2,20050822,       0516,    72.4145,  -151.5160,       3478,  3214.4,  -0.3157,  34.9575,2,  34.9570,2,    283.7,2,   284.8,2,   13.32,2,   14.69,2,    0.00,2,    1.03,2,   0.136,2,   0.444,3,   0.000,2,-999.0000,9,  2160.2,2,  2300.5,2,   7.8701,2,    15.00,   0.283,2, 3214.40,  -0.5117
77DN20050819,      AOS05,       5,          1,     282606,          1,2,20050822,       0516,    72.4145,  -151.5160,       3478,  3515.9,  -0.2880,  34.9574,2,  34.9505,3,    283.3,2,   284.8,2,   13.33,2,   14.69,2,    0.00,2,    1.03,2,   1.475,3,   0.313,2,   0.000,2,-999.0000,9,  2158.2,2,  2312.8,2,   7.8720,2,    15.00,   0.208,2, 3515.90,  -0.5117
77DN20050819,      AOS05,       6,          2,     282650,          9,2,20050822,       2056,    73.3222,  -151.2220,       3739,  1968.4,  -0.4072,  34.9410,2,  34.9361,2,    291.8,2,   293.0,2,   10.48,2,   14.10,2,    0.00,2,    0.99,2,   0.316,2,   0.133,2,   0.000,2,   0.0000,2,  2154.5,2,  2295.5,2,   7.8814,2,    15.00,   0.792,2, 1968.40,  -0.5053
77DN20050819,      AOS05,       6,          2,     282649,          8,2,20050822,       2056,    73.3222,  -151.2220,       3739,  2272.9,  -0.3988,  34.9502,2,  34.9450,2,    288.3,2,   290.2,2,   11.60,2,   14.42,2,    0.00,2,    1.03,2,   0.119,2,   0.048,2,   0.000,2,   0.0000,2,  2156.4,2,  2297.4,2,   7.8836,2,    15.00,   0.080,2, 2272.90,  -0.5183
77DN20050819,      AOS05,       6,          2,     282648,          7,2,20050822,       2056,    73.3222,  -151.2220,       3739,  2574.1,  -0.3771,  34.9547,2,  34.9539,2,    286.0,2,   287.6,2,   12.36,2,   14.51,2,    0.00,2,    1.02,2,   0.129,2,   0.128,2,   0.000,2,   0.0000,2,  2155.1,2,  2296.9,2,   7.8754,2,    15.00,   0.121,2, 2574.10,  -0.5193
77DN20050819,      AOS05,       6,          2,     282647,          6,2,20050822,       2056,    73.3222,  -151.2220,       3739,  2879.4,  -0.3478,  34.9572,2,  34.9582,2,    284.7,2,   285.6,2,   12.73,2,   14.55,2,    0.00,2,    1.03,2,   0.115,2,   0.106,2,   0.018,2,   0.0000,2,  2162.7,2,  2298.4,2,   7.8788,2,    15.00,   0.383,2, 2879.40,  -0.5148
77DN20050819,      AOS05,       6,          2,     282646,          5,2,20050822,       2056,    73.3222,  -151.2220,       3739,  3232.5,  -0.3145,  34.9576,2,  34.9588,2,    283.8,2,   284.8,2,   13.00,2,   14.59,2,    0.00,2,    1.04,2,   0.081,2,   0.091,2,   0.000,2,   0.0000,2,  2167.7,2,  2296.9,2,   7.8779,2,    15.00,   0.018,2, 3232.50,  -0.5122
77DN20050819,      AOS05,       6,          2,     282643,          2,2,20050822,       2056,    73.3222,  -151.2220,       3739,  3637.3,  -0.2767,  34.9576,2,  34.9577,2,    283.5,2,   284.5,2,   13.08,2,   14.63,2,    0.00,2,    1.03,2,   0.069,2,   0.105,2,   0.000,2,   0.0000,2,  2156.8,2,  2300.6,2,   7.8763,2,    15.00,   0.004,2, 3637.30,  -0.5119
77DN20050819,      AOS05,       6,          2,     282644,          3,2,20050822,       2056,    73.3222,  -151.2220,       3739,  3637.3,  -0.2767,  34.9575,2,-999.0000,9,   -999.0,9,  -999.0,9, -999.00,9, -999.00,9, -999.00,9, -999.00,9,-999.000,9,-999.000,9,-999.000,9,-999.0000,9,  -999.0,9,  -999.0,9,-999.0000,9,  -999.00,-999.000,9, 3637.30,  -0.5118
77DN20050819,      AOS05,       6,          2,     282645,          4,2,20050822,       2056,    73.3222,  -151.2220,       3739,  3637.3,  -0.2767,  34.9576,2,-999.0000,9,   -999.0,9,  -999.0,9, -999.00,9, -999.00,9, -999.00,9, -999.00,9,-999.000,9,-999.000,9,-999.000,9,-999.0000,9,  -999.0,9,  -999.0,9,-999.0000,9,  -999.00,-999.000,9, 3637.30,  -0.5119
77DN20050819,      AOS05,       6,          2,     282642,          1,2,20050822,       2056,    73.3222,  -151.2220,       3739,  3892.0,  -0.2515,  34.9574,2,  34.9576,2,    282.8,2,   284.7,2,   12.98,2,   14.62,2,    0.00,2,    1.03,2,   1.129,3,   2.263,3,   0.337,3,   0.0000,2,  2160.4,2,  2298.7,2,   7.8751,2,    15.00,-999.000,9, 3892.00,  -0.5116
77DN20050819,      AOS05,       7,          1,     282683,          6,2,20050823,       1200,    74.4268,  -150.7035,       3751,  2271.5,  -0.3985,  34.9505,2,  34.9501,2,    288.7,2,   295.0,4,   11.55,2,   14.43,2,    0.00,2,    1.01,2,-999.000,5,-999.000,5,-999.000,5,-999.0000,9,  2155.8,2,  2296.7,2,   7.8760,2,    15.00,-999.000,5, 2271.50,  -0.5178
77DN20050819,      AOS05,       7,          1,     282684,          7,2,20050823,       1200,    74.4268,  -150.7035,       3751,  2271.6,  -0.3982,  34.9505,2,-999.0000,9,   -999.0,9,  -999.0,9, -999.00,9, -999.00,9, -999.00,9, -999.00,9,-999.000,9,-999.000,9,-999.000,9,-999.0000,9,  -999.0,9,  -999.0,9,-999.0000,9,  -999.00,-999.000,9, 2271.60,  -0.5176
77DN20050819,      AOS05,       7,          1,     282685,          8,2,20050823,       1200,    74.4268,  -150.7035,       3751,  2271.9,  -0.3980,  34.9503,2,-999.0000,9,   -999.0,9,  -999.0,9, -999.00,9, -999.00,9, -999.00,9, -999.00,9,-999.000,9,-999.000,9,-999.000,9,-999.0000,9,  -999.0,9,  -999.0,9,-999.0000,9,  -999.00,-999.000,9, 2271.90,  -0.5173
77DN20050819,      AOS05,       7,          1,     282682,          5,2,20050823,       1200,    74.4268,  -150.7035,       3751,  2572.0,  -0.3769,  34.9550,2,  34.9541,2,    286.3,2,   287.7,2,   12.20,2,   14.56,2,    0.00,2,    1.02,2,-999.000,5,-999.000,5,-999.000,5,-999.0000,9,  2155.0,2,  2293.4,2,   7.8721,2,    15.00,-999.000,5, 2572.00,  -0.5190
77DN20050819,      AOS05,       7,          1,     282681,          4,2,20050823,       1200,    74.4268,  -150.7035,       3751,  2876.8,  -0.3478,  34.9576,2,  34.9567,2,    284.6,2,   285.7,2,   12.67,2,   14.60,2,    0.00,2,    1.02,2,   0.085,2,   0.121,2,   0.000,2,-999.0000,9,  2158.9,2,  2294.0,2,   7.8712,2,    15.00,   0.025,2, 2876.80,  -0.5146
77DN20050819,      AOS05,       7,          1,     282680,          3,2,20050823,       1200,    74.4268,  -150.7035,       3751,  3283.4,  -0.3099,  34.9581,2,  34.9577,2,    283.6,2,   284.8,2,   12.94,2,   14.65,2,    0.00,2,    1.03,2,-999.000,5,-999.000,5,-999.000,5,-999.0000,9,  2156.5,2,  2293.5,2,   7.8695,2,    15.00,-999.000,5, 3283.40,  -0.5121
77DN20050819,      AOS05,       7,          1,     282679,          2,2,20050823,       1200,    74.4268,  -150.7035,       3751,  3700.3,  -0.2706,  34.9579,2,  34.9596,3,    283.5,2,   284.5,2,   12.93,2,   14.64,2,    0.00,2,    1.02,2,   0.057,2,   0.040,2,   0.000,2,-999.0000,9,  2156.8,2,  2296.5,2,   7.8741,2,    15.00,   0.027,2, 3700.30,  -0.5119
77DN20050819,      AOS05,       7,          1,     282678,          1,3,20050823,       1200,    74.4268,  -150.7035,       3751,  3902.4,  -0.2505,  34.9578,2,  34.9573,2,    282.9,2,   284.5,2,   13.01,2,   14.63,2,    0.00,2,    1.03,2,   0.087,2,   0.115,2,   0.000,2,-999.0000,9,  2161.2,2,  2294.8,2,   7.8807,2,    15.00,   0.019,2, 3902.40,  -0.5116