BOTTLE,20211025CCHSIORKP
EXPOCODE,SECT_ID,STNNBR,CASTNO,SAMPNO,BTLNBR,BTLNBR_FLAG_W,DATE,TIME,LATITUDE,LONGITUDE,DEPTH,CTDPRS,CTDTMP,CTDSAL,CTDSAL_FLAG_W,SALNTY,SALNTY_FLAG_W,CTDOXY,CTDOXY_FLAG_W,OXYGEN,OXYGEN_FLAG_W,SILCAT,SILCAT_FLAG_W,NITRAT,NITRAT_FLAG_W,NITRIT,NITRIT_FLAG_W,PHSPHT,PHSPHT_FLAG_W,CFC-11,CFC-11_FLAG_W,CFC-12,CFC-12_FLAG_W,CFC113,CFC113_FLAG_W,SF6,SF6_FLAG_W,TCARBN,TCARBN_FLAG_W,ALKALI,ALKALI_FLAG_W,PH_SWS,PH_SWS_FLAG_W,PH_TMP,CCL4,CCL4_FLAG_W,CTDRAW,THETA
,,,,,,,,,,,METERS,DBAR,ITS-90,PSS-78,,PSS-78,,UMOL/KG,,UMOL/KG,,UMOL/KG,,UMOL/KG,,UMOL/KG,,UMOL/KG,,PMOL/KG,,PMOL/KG,,PMOL/KG,,FMOL/KG,,UMOL/KG,,UMOL/KG,,,,DEG C,PMOL/KG,,DBAR,DEG C
77DN20050819,      AOS05,      51,          1,     284028,         36,2,20050920,       0253,    85.9470,    48.4655,       3930,     9.6,  -1.8286,  33.4275,2,  33.4279,2,    381.5,2,   383.4,2,    1.15,2,    2.95,2,    0.04,2,    0.36,2,   6.630,2,   3.522,2,   0.777,2,   1.3500,2,  2060.5,2,  -999.0,9,   7.9595,2,    15.00,-999.000,5,    9.60,  -1.8287
77DN20050819,      AOS05,      51,          1,     284027,         35,2,20050920,       0253,    85.9470,    48.4655,       3930,    24.7,  -1.8282,  33.4268,2,  33.4280,2,    381.9,2,   382.9,2,    0.54,2,    2.94,2,    0.04,2,    0.36,2,   6.760,2,   3.713,2,   0.825,2,   1.4900,2,  2060.4,2,  -999.0,9,   7.9607,2,    15.00,-999.000,5,   24.70,  -1.8287
77DN20050819,      AOS05,      51,          1,     284026,         34,2,20050920,       0253,    85.9470,    48.4655,       3930,    40.8,  -1.8279,  33.4271,2,  33.4579,3,    382.0,2,   382.4,2,    0.75,2,    3.03,2,    0.04,2,    0.36,2,   6.826,2,   3.638,2,   0.651,2,   1.6400,2,  2063.2,2,  -999.0,9,   7.9552,2,    15.00,-999.000,5,   40.80,  -1.8286
77DN20050819,      AOS05,      51,          1,     284025,         33,2,20050920,       0253,    85.9470,    48.4655,       3930,    55.9,  -1.8222,  33.9199,2,-999.0000,9,   -999.0,9,  -999.0,9, -999.00,9, -999.00,9, -999.00,9, -999.00,9,-999.000,9,-999.000,9,-999.000,9,-999.0000,9,  -999.0,9,  -999.0,9,-999.0000,9,  -999.00,-999.000,9,   55.90,  -1.8233
77DN20050819,      AOS05,      51,          1,     284023,         31,2,20050920,       0253,    85.9470,    48.4655,       3930,    55.9,  -1.8225,  33.9193,2,  33.9233,2,    371.3,2,   370.3,2,    1.44,2,    4.55,2,    0.02,2,    0.44,2,   6.819,2,   3.599,2,   0.712,2,   1.6900,2,  2114.8,2,  -999.0,9,   7.9092,2,    15.00,-999.000,5,   55.90,  -1.8235
77DN20050819,      AOS05,      51,          1,     284024,         32,2,20050920,       0253,    85.9470,    48.4655,       3930,    55.9,  -1.8220,  33.9200,2,-999.0000,9,   -999.0,9,  -999.0,9, -999.00,9, -999.00,9, -999.00,9, -999.00,9,-999.000,9,-999.000,9,-999.000,9,-999.0000,9,  -999.0,9,  -999.0,9,-999.0000,9,  -999.00,-999.000,9,   55.90,  -1.8230
77DN20050819,      AOS05,      51,          1,     284022,         30,2,20050920,       0253,    85.9470,    48.4655,       3930,    73.3,  -1.8385,  33.9678,2,  33.9689,2,    365.7,2,   367.0,2,    0.91,2,    4.98,2,    0.00,2,    0.45,2,   6.350,2,   3.550,2,   0.736,2,   1.3800,2,  2104.0,2,  -999.0,9,   7.9188,2,    15.00,-999.000,5,   73.30,  -1.8399
77DN20050819,      AOS05,      51,          1,     284019,         27,2,20050920,       0253,    85.9470,    48.4655,       3930,    93.5,  -1.6903,  34.0945,2,  34.1156,2,    345.8,2,   340.8,2,    1.50,2,    6.83,2,    0.00,2,    0.57,2,   6.729,2,   3.541,2,   0.595,2,   1.1900,2,  2135.1,2,  -999.0,9,   7.8674,2,    15.00,-999.000,5,   93.50,  -1.6922
77DN20050819,      AOS05,      51,          1,     284020,         28,2,20050920,       0253,    85.9470,    48.4655,       3930,    93.5,  -1.6912,  34.0930,2,-999.0000,9,   -999.0,9,  -999.0,9, -999.00,9, -999.00,9, -999.00,9, -999.00,9,-999.000,9,-999.000,9,-999.000,9,-999.0000,9,  -999.0,9,  -999.0,9,-999.0000,9,  -999.00,-999.000,9,   93.50,  -1.6931
77DN20050819,      AOS05,      51,          1,     284021,         29,2,20050920,       0253,    85.9470,    48.4655,       3930,    93.6,  -1.6901,  34.0937,2,-999.0000,9,   -999.0,9,  -999.0,9, -999.00,9, -999.00,9, -999.00,9, -999.00,9,-999.000,9,-999.000,9,-999.000,9,-999.0000,9,  -999.0,9,  -999.0,9,-999.0000,9,  -999.00,-999.000,9,   93.60,  -1.6920
77DN20050819,      AOS05,      51,          1,     284018,         26,2,20050920,       0253,    85.9470,    48.4655,       3930,   113.7,  -1.3108,  34.2402,2,  34.2509,2,    327.5,2,   328.9,2,    2.18,2,    8.08,2,    0.00,2,    0.64,2,   7.156,2,   3.644,2,   0.496,2,   1.3600,2,  2141.7,2,  -999.0,9,   7.8610,2,    15.00,-999.000,5,  113.70,  -1.3135
77DN20050819,      AOS05,      51,          1,     284017,         25,2,20050920,       0253,    85.9470,    48.4655,       3930,   133.9,  -0.7972,  34.3437,2,  34.3592,2,    319.9,2,   320.6,2,    2.77,2,    9.01,2,    0.00,2,    0.68,2,   6.274,2,   3.357,2,   0.534,2,   1.1400,2,  2140.8,2,  -999.0,9,   7.8553,2,    15.00,-999.000,5,  133.90,  -0.8010
77DN20050819,      AOS05,      51,          1,     284016,         24,2,20050920,       0253,    85.9470,    48.4655,       3930,   154.1,  -0.0336,  34.4826,2,  34.5084,2,    309.6,2,   307.9,2,    3.45,2,   10.41,2,    0.00,2,    0.75,2,   5.845,2,   2.940,2,   0.431,2,   1.0500,2,  2153.0,2,  -999.0,9,   7.8471,2,    15.00,-999.000,5,  154.10,  -0.0392
77DN20050819,      AOS05,      51,          1,     284015,         23,2,20050920,       0253,    85.9470,    48.4655,       3930,   174.3,   0.8756,  34.6461,2,  34.6658,2,    301.5,2,   301.2,2,    3.66,2,   11.48,2,    0.00,2,    0.81,2,   5.836,2,   2.835,2,   0.440,2,-999.0000,9,  2144.8,2,  -999.0,9,   7.8598,2,    15.00,-999.000,5,  174.30,   0.8679
77DN20050819,      AOS05,      51,          1,     284014,         22,2,20050920,       0253,    85.9470,    48.4655,       3930,   199.2,   1.6619,  34.8196,2,  34.8242,2,    298.6,2,   298.6,2,    3.88,2,   12.12,2,   -0.00,2,    0.84,2,   5.145,2,   2.805,2,   0.458,2,   0.9600,2,  2149.8,2,  -999.0,9,   7.8733,2,    15.00,-999.000,5,  199.20,   1.6517
77DN20050819,      AOS05,      51,          1,     284013,         21,2,20050920,       0253,    85.9470,    48.4655,       3930,   229.7,   1.8045,  34.8651,2,  34.8644,2,    297.0,2,   299.5,2,    4.09,2,   12.45,2,    0.00,2,    0.86,2,   5.337,2,   2.789,2,   0.355,2,   1.0300,2,  2151.5,2,  -999.0,9,   7.8738,2,    15.00,-999.000,5,  229.70,   1.7924
77DN20050819,      AOS05,      51,          1,     284012,         20,2,20050920,       0253,    85.9470,    48.4655,       3930,   284.6,   1.9281,  34.9125,2,  34.9117,2,    297.6,2,   299.5,2,    4.31,2,   12.67,2,   -0.00,2,    0.88,2,   5.175,2,   2.711,2,   0.388,2,-999.0000,9,  2156.5,2,  -999.0,9,   7.8771,2,    15.00,-999.000,5,  284.60,   1.9126
77DN20050819,      AOS05,      51,          1,     284011,         19,3,20050920,       0253,    85.9470,    48.4655,       3930,   349.4,   1.6886,  34.8950,2,  34.9030,2,    297.7,2,   300.7,2,    4.44,2,   12.71,2,   -0.00,2,    0.88,2,   4.970,2,   2.598,2,   0.443,2,   0.9600,2,  2157.0,2,  -999.0,9,   7.8751,2,    15.00,-999.000,5,  349.40,   1.6701
77DN20050819,      AOS05,      51,          1,     284010,         18,2,20050920,       0253,    85.9470,    48.4655,       3930,   419.3,   1.7530,  34.9346,2,  34.9332,2,    302.0,2,   303.2,2,    4.65,2,   12.80,2,   -0.00,2,    0.88,2,   4.942,2,   2.548,2,   0.357,2,   0.8000,2,  2154.8,2,  -999.0,9,   7.8744,2,    15.00,-999.000,5,  419.30,   1.7304
77DN20050819,      AOS05,      51,          1,     284009,         17,2,20050920,       0253,    85.9470,    48.4655,       3930,   499.0,   1.3392,  34.9159,2,  34.9198,2,    301.5,2,   303.0,2,    4.87,2,   12.84,2,   -0.00,2,    0.89,2,   4.774,2,   2.406,2,   0.338,2,-999.0000,5,  2158.6,2,  -999.0,9,   7.8698,2,    15.00,-999.000,5,  499.00,   1.3136
77DN20050819,      AOS05,      51,          1,     284008,         16,2,20050920,       0253,    85.9470,    48.4655,       3930,   602.0,   0.8969,  34.9092,2,  34.9100,2,    301.8,2,   302.3,2,    5.27,2,   12.93,2,    0.00,2,    0.90,2,   4.398,2,   2.329,2,   0.359,2,   0.6700,2,  2160.3,2,  -999.0,9,   7.8494,2,    15.00,-999.000,5,  602.00,   0.8677
77DN20050819,      AOS05,      51,          1,     284007,         15,2,20050920,       0253,    85.9470,    48.4655,       3930,   800.8,   0.1030,  34.8919,2,  34.8919,2,    302.3,2,   304.2,2,    5.86,2,   13.01,2,    0.00,2,    0.91,2,   4.221,2,   2.059,2,   0.296,2,-999.0000,5,  2165.2,2,  -999.0,9,   7.8502,2,    15.00,-999.000,5,  800.80,   0.0680
77DN20050819,      AOS05,      51,          1,     284006,         14,2,20050920,       0253,    85.9470,    48.4655,       3930,   943.0,  -0.1398,  34.8976,2,  34.8978,2,    302.2,2,   303.3,2,    6.45,2,   13.24,2,    0.00,2,    0.94,2,   4.348,3,   4.009,3,   0.539,3,   0.6400,2,  2167.8,2,  -999.0,9,   7.8474,2,    15.00,-999.000,5,  943.00,  -0.1803
77DN20050819,      AOS05,      51,          1,     284005,         13,2,20050920,       0253,    85.9470,    48.4655,       3930,  1072.6,  -0.2824,  34.9057,2,  34.9064,2,    301.8,2,   302.5,2,    7.12,2,   13.60,2,    0.00,2,    0.96,2,   2.782,2,   1.394,2,   0.184,2,   0.0000,2,  2163.0,2,  -999.0,9,   7.8489,2,    15.00,-999.000,5, 1072.60,  -0.3285
77DN20050819,      AOS05,      51,          1,     284004,         12,2,20050920,       0253,    85.9470,    48.4655,       3930,  1275.7,  -0.4709,  34.9139,2,  34.9138,2,    300.5,2,   301.4,2,    8.18,2,   14.02,2,    0.00,2,    0.98,2,   1.619,2,   0.783,2,   0.060,2,   0.0000,2,  2161.9,2,  -999.0,9,   7.8543,2,    15.00,-999.000,5, 1275.70,  -0.5260
77DN20050819,      AOS05,      51,          1,     284003,         11,2,20050920,       0253,    85.9470,    48.4655,       3930,  1475.1,  -0.5948,  34.9174,2,  34.9173,2,    299.1,2,   300.6,2,    8.95,2,   14.43,2,    0.00,2,    1.01,2,   1.099,2,   0.552,2,   0.037,2,   0.0000,2,  2165.0,2,  -999.0,9,   7.8550,2,    15.00,-999.000,5, 1475.10,  -0.6598
77DN20050819,      AOS05,      51,          1,     284002,         10,2,20050920,       0253,    85.9470,    48.4655,       3930,  1728.4,  -0.6826,  34.9206,2,  34.9211,2,    298.3,2,   299.9,2,    9.63,2,   14.67,2,    0.00,2,    1.02,2,   0.620,2,   0.366,2,   0.025,2,   0.0000,2,  2163.2,2,  -999.0,9,   7.8582,2,    15.00,-999.000,5, 1728.40,  -0.7613
77DN20050819,      AOS05,      51,          1,     284001,          9,2,20050920,       0253,    85.9470,    48.4655,       3930,  1977.9,  -0.7400,  34.9227,2,  34.9225,2,    298.7,2,   300.1,2,    9.95,2,   14.74,2,    0.00,2,    1.02,2,   0.507,2,   0.277,2,   0.000,2,-999.0000,9,  2160.5,2,  -999.0,9,   7.8650,2,    15.00,-999.000,5, 1977.90,  -0.8335
77DN20050819,      AOS05,      51,          1,     284000,          8,2,20050920,       0253,    85.9470,    48.4655,       3930,  2232.2,  -0.7685,  34.9257,2,  34.9252,2,    298.8,2,   300.5,2,   10.16,2,   14.79,2,   -0.00,2,    1.03,2,   0.303,2,   0.157,2,   0.007,2,-999.0000,9,  2157.1,2,  2303.4,4,   7.8672,2,    15.00,-999.000,5, 2232.20,  -0.8784
77DN20050819,      AOS05,      51,          1,     283999,          7,2,20050920,       0253,    85.9470,    48.4655,       3930,  2482.4,  -0.7781,  34.9290,2,  34.9294,2,    298.9,2,   300.1,2,   10.28,2,   14.78,2,    0.00,2,    1.04,2,   0.201,2,   0.122,2,   0.000,2,-999.0000,9,  2158.9,2,  2299.1,4,   7.8705,2,    15.00,-999.000,5, 2482.40,  -0.9055
77DN20050819,      AOS05,      51,          1,     283998,          6,2,20050920,       0253,    85.9470,    48.4655,       3930,  2787.8,  -0.7791,  34.9329,2,  34.9329,2,    299.1,2,   300.3,2,   10.41,2,   14.82,2,    0.00,2,    1.03,2,   0.171,2,   0.094,2,   0.000,2,-999.0000,9,  2159.9,2,  2299.6,4,   7.8724,2,    15.00,-999.000,5, 2787.80,  -0.9294
77DN20050819,      AOS05,      51,          1,     283997,          5,2,20050920,       0253,    85.9470,    48.4655,       3930,  3089.0,  -0.7663,  34.9371,2,  34.9373,2,    298.6,2,   299.8,2,   10.52,2,   14.86,2,    0.00,2,    1.03,2,   0.097,2,   0.056,2,   0.000,2,-999.0000,9,  2161.0,2,  2294.3,4,   7.8761,2,    15.00,-999.000,5, 3089.00,  -0.9409
77DN20050819,      AOS05,      51,          1,     283996,          4,2,20050920,       0253,    85.9470,    48.4655,       3930,  3394.1,  -0.7309,  34.9418,2,  34.9424,2,    297.2,2,   298.1,2,   10.84,2,   14.80,2,    0.00,2,    1.03,2,   0.074,2,   0.053,2,   0.000,2,-999.0000,9,  2158.7,2,  2298.5,4,   7.8769,2,    15.00,-999.000,5, 3394.10,  -0.9322
77DN20050819,      AOS05,      51,          1,     283995,          3,2,20050920,       0253,    85.9470,    48.4655,       3930,  3801.3,  -0.6913,  34.9431,2,  34.9432,2,    296.3,2,   297.5,2,   10.78,2,   14.79,2,    0.00,2,    1.03,2,   0.083,2,   0.026,2,   0.000,2,-999.0000,9,  2155.4,2,  2292.5,4,   7.8774,2,    15.00,-999.000,5, 3801.30,  -0.9304
77DN20050819,      AOS05,      51,          1,     283994,          2,2,20050920,       0253,    85.9470,    48.4655,       3930,  3953.1,  -0.6761,  34.9430,2,  34.9432,2,    295.7,3,   297.5,2,   10.71,2,   14.83,2,    0.00,2,    1.03,2,   0.069,2,   0.054,2,   0.006,2,-999.0000,9,  2154.5,2,  2291.1,2,   7.8802,2,    15.00,-999.000,5, 3953.10,  -0.9300
77DN20050819,      AOS05,      51,          1,     283993,          1,2,20050920,       0253,    85.9470,    48.4655,       3930,  4004.1,  -0.6710,  34.9431,2,  34.9432,2,    295.6,3,   297.5,2,   10.74,2,   14.82,2,   -0.00,2,    1.04,2,   0.051,2,   0.064,2,   0.000,2,-999.0000,9,  2155.1,2,  2293.2,2,   7.8877,2,    15.00,-999.000,5, 4004.10,  -0.9299