BOTTLE,20211025CCHSIORKP
EXPOCODE,SECT_ID,STNNBR,CASTNO,SAMPNO,BTLNBR,BTLNBR_FLAG_W,DATE,TIME,LATITUDE,LONGITUDE,DEPTH,CTDPRS,CTDTMP,CTDSAL,CTDSAL_FLAG_W,SALNTY,SALNTY_FLAG_W,CTDOXY,CTDOXY_FLAG_W,OXYGEN,OXYGEN_FLAG_W,SILCAT,SILCAT_FLAG_W,NITRAT,NITRAT_FLAG_W,NITRIT,NITRIT_FLAG_W,PHSPHT,PHSPHT_FLAG_W,CFC-11,CFC-11_FLAG_W,CFC-12,CFC-12_FLAG_W,CFC113,CFC113_FLAG_W,SF6,SF6_FLAG_W,TCARBN,TCARBN_FLAG_W,ALKALI,ALKALI_FLAG_W,PH_SWS,PH_SWS_FLAG_W,PH_TMP,CCL4,CCL4_FLAG_W,CTDRAW,THETA
,,,,,,,,,,,METERS,DBAR,ITS-90,PSS-78,,PSS-78,,UMOL/KG,,UMOL/KG,,UMOL/KG,,UMOL/KG,,UMOL/KG,,UMOL/KG,,PMOL/KG,,PMOL/KG,,PMOL/KG,,FMOL/KG,,UMOL/KG,,UMOL/KG,,,,DEG C,PMOL/KG,,DBAR,DEG C
77DN20050819,      AOS05,      17,          1,     283000,         35,2,20050829,       2201,    81.3940,  -145.6300,       3817,   221.7,  -0.1430,  34.4976,2,-999.0000,9,   -999.0,9,  -999.0,9, -999.00,9, -999.00,9, -999.00,9, -999.00,9,-999.000,9,-999.000,9,-999.000,9,-999.0000,9,  -999.0,9,  -999.0,9,-999.0000,9,  -999.00,-999.000,9,  221.70,  -0.1509
77DN20050819,      AOS05,      17,          1,     283001,         36,2,20050829,       2201,    81.3940,  -145.6300,       3817,   221.7,  -0.1431,  34.4979,2,-999.0000,9,   -999.0,9,  -999.0,9, -999.00,9, -999.00,9, -999.00,9, -999.00,9,-999.000,9,-999.000,9,-999.000,9,-999.0000,9,  -999.0,9,  -999.0,9,-999.0000,9,  -999.00,-999.000,9,  221.70,  -0.1510
77DN20050819,      AOS05,      17,          1,     282998,         33,2,20050829,       2201,    81.3940,  -145.6300,       3817,   252.0,   0.2981,  34.6385,2,  34.6431,2,    292.3,2,   307.0,4,    6.89,2,   11.92,2,    0.00,2,    0.85,2,   5.847,2,   2.529,2,   0.367,2,   0.5800,2,  2172.0,2,  2278.5,6,   7.8287,6,    15.00,   5.933,2,  252.00,   0.2880
77DN20050819,      AOS05,      17,          1,     282999,         34,2,20050829,       2201,    81.3940,  -145.6300,       3817,   252.0,   0.2959,  34.6384,2,-999.0000,9,   -999.0,9,  -999.0,9, -999.00,9, -999.00,9, -999.00,9, -999.00,9,-999.000,9,-999.000,9,-999.000,9,-999.0000,9,  -999.0,9,  -999.0,9,-999.0000,9,  -999.00,-999.000,9,  252.00,   0.2859
77DN20050819,      AOS05,      17,          1,     282997,         32,2,20050829,       2201,    81.3940,  -145.6300,       3817,   311.9,   0.7965,  34.7889,2,  34.7895,2,    291.7,2,   294.0,2,    6.36,2,   12.56,2,    0.00,2,    0.87,2,   5.028,2,   2.170,2,   0.326,2,   0.7100,2,  2168.3,2,  2284.3,2,   7.8537,2,    15.00,   5.691,2,  311.90,   0.7825
77DN20050819,      AOS05,      17,          1,     282993,         28,2,20050829,       2201,    81.3940,  -145.6300,       3817,   371.6,   0.9850,  34.8449,2,  34.8453,2,    293.8,2,   304.9,4,    6.10,2,   12.65,2,    0.00,2,    0.87,2,   5.135,2,   2.214,2,   0.314,2,-999.0000,5,  2165.7,2,  2286.4,2,   7.8591,2,    15.00,   6.024,2,  371.60,   0.9675
77DN20050819,      AOS05,      17,          1,     282994,         29,2,20050829,       2201,    81.3940,  -145.6300,       3817,   371.6,   0.9851,  34.8448,2,-999.0000,9,   -999.0,9,  -999.0,9, -999.00,9, -999.00,9, -999.00,9, -999.00,9,-999.000,9,-999.000,9,-999.000,9,-999.0000,9,  -999.0,9,  -999.0,9,-999.0000,9,  -999.00,-999.000,9,  371.60,   0.9676
77DN20050819,      AOS05,      17,          1,     282995,         30,2,20050829,       2201,    81.3940,  -145.6300,       3817,   371.6,   0.9846,  34.8448,2,-999.0000,9,   -999.0,9,  -999.0,9, -999.00,9, -999.00,9, -999.00,9, -999.00,9,-999.000,9,-999.000,9,-999.000,9,-999.0000,9,  -999.0,9,  -999.0,9,-999.0000,9,  -999.00,-999.000,9,  371.60,   0.9671
77DN20050819,      AOS05,      17,          1,     282996,         31,2,20050829,       2201,    81.3940,  -145.6300,       3817,   371.7,   0.9840,  34.8448,2,-999.0000,9,   -999.0,9,  -999.0,9, -999.00,9, -999.00,9, -999.00,9, -999.00,9,-999.000,9,-999.000,9,-999.000,9,-999.0000,9,  -999.0,9,  -999.0,9,-999.0000,9,  -999.00,-999.000,9,  371.70,   0.9665
77DN20050819,      AOS05,      17,          1,     282992,         27,2,20050829,       2201,    81.3940,  -145.6300,       3817,   431.4,   0.8269,  34.8484,2,  34.8512,2,    294.1,2,   297.6,2,    6.12,2,   12.70,2,    0.00,2,    0.87,2,   5.125,2,   2.245,2,   0.298,2,-999.0000,5,  2165.0,2,  2285.9,2,   7.8599,2,    15.00,   6.024,2,  431.40,   0.8069
77DN20050819,      AOS05,      17,          1,     282991,         26,2,20050829,       2201,    81.3940,  -145.6300,       3817,   491.4,   0.6714,  34.8524,2,-999.0000,9,    295.7,2,   307.4,4,    6.05,2,   12.78,2,    0.00,2,    0.88,2,   4.695,2,   2.642,3,   0.263,2,   0.9000,2,  2164.4,2,  2285.7,2,   7.8580,2,    15.00,   6.218,2,  491.40,   0.6490
77DN20050819,      AOS05,      17,          1,     282990,         25,2,20050829,       2201,    81.3940,  -145.6300,       3817,   584.6,   0.4912,  34.8619,2,  34.8620,2,    297.8,2,   297.4,2,    6.43,2,   12.92,2,    0.00,2,    0.89,2,   3.967,2,   1.725,2,   0.232,2,   0.6200,2,  2164.2,2,  2286.6,2,   7.8601,2,    15.00,   5.403,2,  584.60,   0.4650
77DN20050819,      AOS05,      17,          1,     282989,         24,2,20050829,       2201,    81.3940,  -145.6300,       3817,   733.8,   0.2695,  34.8697,2,  34.8705,2,    297.7,2,   309.6,4,    6.45,2,   13.02,2,    0.00,2,    0.90,2,   3.273,2,   1.388,2,   0.156,2,   0.5300,2,  2169.6,2,  2287.9,6,   7.8595,2,    15.00,   4.744,2,  733.80,   0.2369
77DN20050819,      AOS05,      17,          1,     282988,         23,2,20050829,       2201,    81.3940,  -145.6300,       3817,   883.2,   0.0892,  34.8822,2,  34.8835,2,    299.4,2,   298.4,2,    7.00,2,   13.19,2,    0.00,2,    0.91,2,   2.061,2,   0.879,2,   0.084,2,-999.0000,9,  2163.4,2,  2289.8,2,   7.8705,2,    15.00,   3.484,2,  883.20,   0.0501
77DN20050819,      AOS05,      17,          1,     282984,         19,2,20050829,       2201,    81.3940,  -145.6300,       3817,  1032.6,  -0.0389,  34.8915,2,  34.8920,2,    298.3,2,   307.6,4,    7.11,2,   13.29,2,    0.00,2,    0.92,2,   1.629,2,   0.675,2,   0.064,2,   0.3200,2,  2164.8,2,  2289.1,2,   7.8707,2,    15.00,   2.886,2, 1032.60,  -0.0850
77DN20050819,      AOS05,      17,          1,     282985,         20,2,20050829,       2201,    81.3940,  -145.6300,       3817,  1032.8,  -0.0382,  34.8916,2,-999.0000,9,   -999.0,9,  -999.0,9, -999.00,9, -999.00,9, -999.00,9, -999.00,9,-999.000,9,-999.000,9,-999.000,9,-999.0000,9,  -999.0,9,  -999.0,9,-999.0000,9,  -999.00,-999.000,9, 1032.80,  -0.0843
77DN20050819,      AOS05,      17,          1,     282986,         21,2,20050829,       2201,    81.3940,  -145.6300,       3817,  1032.9,  -0.0376,  34.8916,2,-999.0000,9,   -999.0,9,  -999.0,9, -999.00,9, -999.00,9, -999.00,9, -999.00,9,-999.000,9,-999.000,9,-999.000,9,-999.0000,9,  -999.0,9,  -999.0,9,-999.0000,9,  -999.00,-999.000,9, 1032.90,  -0.0837
77DN20050819,      AOS05,      17,          1,     282987,         22,2,20050829,       2201,    81.3940,  -145.6300,       3817,  1033.0,  -0.0375,  34.8916,2,-999.0000,9,   -999.0,9,  -999.0,9, -999.00,9, -999.00,9, -999.00,9, -999.00,9,-999.000,9,-999.000,9,-999.000,9,-999.0000,9,  -999.0,9,  -999.0,9,-999.0000,9,  -999.00,-999.000,9, 1033.00,  -0.0835
77DN20050819,      AOS05,      17,          1,     282983,         18,2,20050829,       2201,    81.3940,  -145.6300,       3817,  1185.9,  -0.1809,  34.8985,2,  34.8993,2,    299.3,2,   300.2,2,    7.22,2,   13.33,2,    0.00,2,    0.93,2,   1.777,2,   0.760,2,   0.070,2,   0.2700,2,  2167.9,2,  2290.8,2,   7.8675,2,    15.00,   3.297,2, 1185.90,  -0.2340
77DN20050819,      AOS05,      17,          1,     282982,         17,2,20050829,       2201,    81.3940,  -145.6300,       3817,  1385.2,  -0.2795,  34.9111,2,  34.9105,2,    298.4,2,   308.3,4,    7.87,2,   13.61,2,    0.00,2,    0.95,2,   1.250,2,   0.549,2,   0.043,2,   0.0000,2,  2166.1,2,  2290.2,2,   7.8718,2,    15.00,   2.543,2, 1385.20,  -0.3429
77DN20050819,      AOS05,      17,          1,     282980,         15,2,20050829,       2201,    81.3940,  -145.6300,       3817,  1638.1,  -0.3703,  34.9279,2,  34.9276,2,    295.8,2,   297.4,2,    9.24,2,   14.12,2,    0.00,2,    0.98,2,   0.569,2,   0.263,2,   0.000,2,   0.0000,2,  2163.3,2,  2290.3,2,   7.8720,2,    15.00,   1.469,2, 1638.10,  -0.4477
77DN20050819,      AOS05,      17,          1,     282981,         16,2,20050829,       2201,    81.3940,  -145.6300,       3817,  1638.2,  -0.3702,  34.9279,2,-999.0000,9,   -999.0,9,  -999.0,9, -999.00,9, -999.00,9, -999.00,9, -999.00,9,-999.000,9,-999.000,9,-999.000,9,-999.0000,9,  -999.0,9,  -999.0,9,-999.0000,9,  -999.00,-999.000,9, 1638.20,  -0.4477
77DN20050819,      AOS05,      17,          1,     282979,         14,2,20050829,       2201,    81.3940,  -145.6300,       3817,  1937.4,  -0.4103,  34.9434,2,  34.9430,2,    291.9,2,   303.7,4,   10.62,2,   14.26,2,    0.00,2,    1.02,2,   0.183,2,   0.106,2,   0.000,2,   0.0000,2,  2163.7,2,  2294.5,2,   7.8809,2,    15.00,   0.539,2, 1937.40,  -0.5063
77DN20050819,      AOS05,      17,          1,     282976,         11,2,20050829,       2201,    81.3940,  -145.6300,       3817,  2241.0,  -0.4041,  34.9519,2,  34.9511,2,    288.3,2,   288.9,2,   11.82,2,   14.48,2,    0.00,2,    1.03,2,   0.059,2,   0.074,2,   0.000,2,-999.0000,9,  2165.7,2,  2293.3,2,   7.8798,2,    15.00,   0.176,2, 2241.00,  -0.5211
77DN20050819,      AOS05,      17,          1,     282977,         12,2,20050829,       2201,    81.3940,  -145.6300,       3817,  2241.2,  -0.4040,  34.9519,2,-999.0000,9,   -999.0,9,  -999.0,9, -999.00,9, -999.00,9, -999.00,9, -999.00,9,-999.000,9,-999.000,9,-999.000,9,-999.0000,9,  -999.0,9,  -999.0,9,-999.0000,9,  -999.00,-999.000,9, 2241.20,  -0.5210
77DN20050819,      AOS05,      17,          1,     282978,         13,2,20050829,       2201,    81.3940,  -145.6300,       3817,  2241.3,  -0.4042,  34.9518,2,-999.0000,9,   -999.0,9,  -999.0,9, -999.00,9, -999.00,9, -999.00,9, -999.00,9,-999.000,9,-999.000,9,-999.000,9,-999.0000,9,  -999.0,9,  -999.0,9,-999.0000,9,  -999.00,-999.000,9, 2241.30,  -0.5213
77DN20050819,      AOS05,      17,          1,     282972,          7,2,20050829,       2201,    81.3940,  -145.6300,       3817,  2541.2,  -0.3797,  34.9567,2,  34.9558,2,    285.8,2,   293.4,4,   12.65,2,   14.62,2,    0.00,2,    1.04,2,   0.029,2,   0.055,2,   0.000,2,   0.0000,2,  2165.6,2,  2295.3,2,   7.8717,2,    15.00,   0.071,2, 2541.20,  -0.5193
77DN20050819,      AOS05,      17,          1,     282973,          8,2,20050829,       2201,    81.3940,  -145.6300,       3817,  2541.3,  -0.3798,  34.9567,2,-999.0000,9,   -999.0,9,  -999.0,9, -999.00,9, -999.00,9, -999.00,9, -999.00,9,-999.000,9,-999.000,9,-999.000,9,-999.0000,9,  -999.0,9,  -999.0,9,-999.0000,9,  -999.00,-999.000,9, 2541.30,  -0.5195
77DN20050819,      AOS05,      17,          1,     282974,          9,2,20050829,       2201,    81.3940,  -145.6300,       3817,  2541.4,  -0.3797,  34.9566,2,-999.0000,9,   -999.0,9,  -999.0,9, -999.00,9, -999.00,9, -999.00,9, -999.00,9,-999.000,9,-999.000,9,-999.000,9,-999.0000,9,  -999.0,9,  -999.0,9,-999.0000,9,  -999.00,-999.000,9, 2541.40,  -0.5194
77DN20050819,      AOS05,      17,          1,     282975,         10,2,20050829,       2201,    81.3940,  -145.6300,       3817,  2541.6,  -0.3797,  34.9566,2,-999.0000,9,   -999.0,9,  -999.0,9, -999.00,9, -999.00,9, -999.00,9, -999.00,9,-999.000,9,-999.000,9,-999.000,9,-999.0000,9,  -999.0,9,  -999.0,9,-999.0000,9,  -999.00,-999.000,9, 2541.60,  -0.5194
77DN20050819,      AOS05,      17,          1,     282971,          6,2,20050829,       2201,    81.3940,  -145.6300,       3817,  2845.8,  -0.3480,  34.9589,2,  34.9570,2,    283.8,2,   285.4,4,   13.20,2,   14.66,2,    0.00,2,    1.04,2,   0.042,2,   0.047,2,   0.000,2,-999.0000,9,  2175.8,2,  2296.0,2,   7.8726,2,    15.00,   0.047,2, 2845.80,  -0.5123
77DN20050819,      AOS05,      17,          1,     282970,          5,2,20050829,       2201,    81.3940,  -145.6300,       3817,  3201.8,  -0.3173,  34.9589,2,  34.9578,2,    283.7,2,   295.2,4,   13.14,2,   14.57,2,    0.00,2,    1.04,2,   0.147,2,   0.094,2,   0.000,2,-999.0000,9,  2168.0,2,  2294.4,2,   7.8759,2,    15.00,   0.034,2, 3201.80,  -0.5122
77DN20050819,      AOS05,      17,          1,     282969,          4,2,20050829,       2201,    81.3940,  -145.6300,       3817,  3605.0,  -0.2797,  34.9587,2,  34.9560,2,    283.6,2,   284.6,2,   13.24,2,   14.66,2,    0.00,2,    1.04,2,   0.028,2,   0.041,2,   0.000,2,-999.0000,9,  2168.6,2,  2295.5,2,   7.8752,2,    15.00,   0.024,2, 3605.00,  -0.5118
77DN20050819,      AOS05,      17,          1,     282968,          3,2,20050829,       2201,    81.3940,  -145.6300,       3817,  3811.2,  -0.2596,  34.9585,2,  34.9564,2,    283.6,2,   284.4,2,   13.17,2,   14.66,2,    0.00,2,    1.04,2,   0.020,2,   0.057,2,   0.000,2,-999.0000,9,  2170.3,2,  2293.9,2,   7.8748,6,    15.00,   0.010,2, 3811.20,  -0.5117
77DN20050819,      AOS05,      17,          1,     282966,          1,2,20050829,       2201,    81.3940,  -145.6300,       3817,  3860.0,  -0.2545,  34.9585,2,  34.9610,3,    283.4,2,   294.2,4,   13.19,2,   14.66,2,    0.00,2,    1.05,2,   0.038,2,   0.113,2,   0.000,2,-999.0000,5,  2175.3,2,  2294.8,6,   7.8789,2,    15.00,   0.032,2, 3860.00,  -0.5115
77DN20050819,      AOS05,      17,          1,     282967,          2,2,20050829,       2201,    81.3940,  -145.6300,       3817,  3860.0,  -0.2544,  34.9585,2,-999.0000,9,   -999.0,9,  -999.0,9, -999.00,9, -999.00,9, -999.00,9, -999.00,9,-999.000,9,-999.000,9,-999.000,9,-999.0000,9,  -999.0,9,  -999.0,9,-999.0000,9,  -999.00,-999.000,9, 3860.00,  -0.5114