BOTTLE,20211025CCHSIORKP
EXPOCODE,SECT_ID,STNNBR,CASTNO,SAMPNO,BTLNBR,BTLNBR_FLAG_W,DATE,TIME,LATITUDE,LONGITUDE,DEPTH,CTDPRS,CTDTMP,CTDSAL,CTDSAL_FLAG_W,SALNTY,SALNTY_FLAG_W,CTDOXY,CTDOXY_FLAG_W,OXYGEN,OXYGEN_FLAG_W,SILCAT,SILCAT_FLAG_W,NITRAT,NITRAT_FLAG_W,NITRIT,NITRIT_FLAG_W,PHSPHT,PHSPHT_FLAG_W,CFC-11,CFC-11_FLAG_W,CFC-12,CFC-12_FLAG_W,CFC113,CFC113_FLAG_W,SF6,SF6_FLAG_W,TCARBN,TCARBN_FLAG_W,ALKALI,ALKALI_FLAG_W,PH_SWS,PH_SWS_FLAG_W,PH_TMP,CCL4,CCL4_FLAG_W,CTDRAW,THETA
,,,,,,,,,,,METERS,DBAR,ITS-90,PSS-78,,PSS-78,,UMOL/KG,,UMOL/KG,,UMOL/KG,,UMOL/KG,,UMOL/KG,,UMOL/KG,,PMOL/KG,,PMOL/KG,,PMOL/KG,,FMOL/KG,,UMOL/KG,,UMOL/KG,,,,DEG C,PMOL/KG,,DBAR,DEG C
77DN20050819,      AOS05,      11,          1,     282821,         36,2,20050825,       0722,    77.4895,  -149.4907,       3740,     2.2,  -1.3024,  28.1069,2,  28.1984,2,    392.2,2,   396.5,2,    2.56,2,    0.08,2,    0.00,2,    0.59,2,-999.000,9,-999.000,9,-999.000,9,-999.0000,9,  -999.0,9,  -999.0,9,-999.0000,9,  -999.00,-999.000,9,    2.20,  -1.3024
77DN20050819,      AOS05,      11,          1,     282820,         35,2,20050825,       0722,    77.4895,  -149.4907,       3740,     8.8,  -1.2726,  28.3010,2,  28.2633,2,    394.1,2,   395.8,2,    2.09,2,    0.08,2,    0.00,2,    0.60,2,   7.373,2,   3.706,2,   0.669,2,   2.0100,2,  1943.7,2,  2047.2,6,   7.8640,6,    15.00,   6.718,2,    8.80,  -1.2727
77DN20050819,      AOS05,      11,          1,     282819,         34,2,20050825,       0722,    77.4895,  -149.4907,       3740,    25.1,  -1.2797,  29.5457,2,-999.0000,9,    397.2,2,   398.2,2,    2.19,2,    0.08,2,    0.00,2,    0.64,2,   7.469,2,   3.760,2,   0.669,2,   2.2000,2,  2016.0,2,  2117.1,2,   7.8603,2,    15.00,   6.520,2,   25.10,  -1.2801
77DN20050819,      AOS05,      11,          1,     282818,         33,2,20050825,       0722,    77.4895,  -149.4907,       3740,    40.1,  -1.4222,  29.9945,2,  30.0324,2,    392.6,2,   391.4,2,    2.47,2,    0.12,2,    0.00,2,    0.67,2,   5.384,4,-999.000,5,   0.340,4,   1.9700,2,  2022.9,2,  2132.3,2,   7.8805,2,    15.00,   5.665,4,   40.10,  -1.4228
77DN20050819,      AOS05,      11,          1,     282817,         32,2,20050825,       0722,    77.4895,  -149.4907,       3740,    50.2,  -1.1163,  30.5704,2,  30.6788,2,    386.4,2,   382.1,2,    3.79,2,    0.99,2,    0.05,2,    0.81,2,   7.035,2,   3.581,2,   0.651,2,   1.9800,2,  2055.4,2,  2163.9,2,   7.8783,2,    15.00,   2.862,3,   50.20,  -1.1172
77DN20050819,      AOS05,      11,          1,     282816,         31,2,20050825,       0722,    77.4895,  -149.4907,       3740,    65.2,  -0.5478,  31.5607,2,-999.0000,9,    370.7,2,   352.0,2,   10.83,2,    4.55,2,    0.01,2,    1.13,2,   6.800,2,   3.361,2,   0.548,2,   1.7300,2,  2099.9,2,  2193.7,2,   7.8268,2,    15.00,   4.923,2,   65.20,  -0.5495
77DN20050819,      AOS05,      11,          1,     282815,         30,2,20050825,       0722,    77.4895,  -149.4907,       3740,    77.3,  -1.0000,  31.9879,2,  32.0508,2,    330.1,2,   329.4,2,   16.42,2,    8.13,2,    0.00,2,    1.39,2,   6.881,2,   3.423,2,   0.511,2,   1.6100,2,  2141.4,2,  2210.6,2,   7.7644,2,    15.00,   4.580,2,   77.30,  -1.0017
77DN20050819,      AOS05,      11,          1,     282814,         29,2,20050825,       0722,    77.4895,  -149.4907,       3740,    92.4,  -1.2705,  32.2742,2,  28.2730,4,    321.2,2,   313.2,2,   23.54,2,   11.23,2,    0.00,2,    1.63,2,   6.411,2,   3.182,2,   0.485,2,   1.5900,2,  2178.7,2,  2224.5,2,   7.6909,2,    15.00,   2.788,3,   92.40,  -1.2723
77DN20050819,      AOS05,      11,          1,     282813,         28,2,20050825,       0722,    77.4895,  -149.4907,       3740,   107.7,  -1.2986,  32.4858,2,-999.0000,9,    292.9,2,   303.5,2,   26.40,2,   12.61,2,    0.00,2,    1.72,2,   6.263,2,   3.312,2,   0.458,2,   1.4000,2,  2196.9,2,  2238.4,2,   7.6647,2,    15.00,   4.015,2,  107.70,  -1.3009
77DN20050819,      AOS05,      11,          1,     282810,         25,2,20050825,       0722,    77.4895,  -149.4907,       3740,   123.0,  -1.3087,  32.6844,2,  32.7128,2,    292.7,2,   273.9,2,   33.40,2,   14.79,2,    0.00,2,    1.91,2,   6.314,2,   3.068,2,   0.461,2,   1.2000,2,  2226.4,2,  2240.9,2,   7.5981,2,    15.00,   4.142,2,  123.00,  -1.3113
77DN20050819,      AOS05,      11,          1,     282812,         27,2,20050825,       0722,    77.4895,  -149.4907,       3740,   123.0,  -1.3089,  32.6821,2,-999.0000,9,   -999.0,9,  -999.0,9, -999.00,9, -999.00,9, -999.00,9, -999.00,9,-999.000,9,-999.000,9,-999.000,9,-999.0000,9,  -999.0,9,  -999.0,9,-999.0000,9,  -999.00,-999.000,9,  123.00,  -1.3115
77DN20050819,      AOS05,      11,          1,     282811,         26,2,20050825,       0722,    77.4895,  -149.4907,       3740,   123.0,  -1.3089,  32.6831,2,-999.0000,9,   -999.0,9,  -999.0,9, -999.00,9, -999.00,9, -999.00,9, -999.00,9,-999.000,9,-999.000,9,-999.000,9,-999.0000,9,  -999.0,9,  -999.0,9,-999.0000,9,  -999.00,-999.000,9,  123.00,  -1.3115
77DN20050819,      AOS05,      11,          1,     282809,         24,2,20050825,       0722,    77.4895,  -149.4907,       3740,   138.4,  -1.2420,  32.8915,2,-999.0000,9,    270.5,2,   258.4,2,   37.23,2,   16.04,2,    0.00,2,    2.00,2,   6.157,2,   3.117,2,   0.479,2,   1.3600,2,  2246.9,2,  2254.6,2,   7.5597,2,    15.00,   2.777,3,  138.40,  -1.2451
77DN20050819,      AOS05,      11,          1,     282808,         23,2,20050825,       0722,    77.4895,  -149.4907,       3740,   153.7,  -1.4854,  33.1824,2,  33.2796,2,    278.8,2,   272.5,2,   35.99,2,   15.38,2,    0.00,2,    1.85,2,   5.919,2,   3.092,2,   0.389,2,   1.4200,2,  2252.6,2,  2272.7,2,   7.6036,2,    15.00,   4.436,2,  153.70,  -1.4886
77DN20050819,      AOS05,      11,          1,     282807,         22,2,20050825,       0722,    77.4895,  -149.4907,       3740,   169.0,  -1.3337,  33.5571,2,-999.0000,9,    267.9,2,   267.0,2,   30.53,2,   14.54,2,    0.00,2,    1.63,2,   5.697,2,   2.779,2,   0.358,2,   0.8000,2,  2251.4,2,  2280.0,2,   7.6219,2,    15.00,   3.629,2,  169.00,  -1.3376
77DN20050819,      AOS05,      11,          1,     282806,         21,2,20050825,       0722,    77.4895,  -149.4907,       3740,   184.3,  -1.1694,  34.0733,2,  34.0325,2,    270.0,2,   276.3,2,   19.00,2,   12.24,2,    0.00,2,    1.18,2,   5.993,2,   2.958,2,   0.374,2,-999.0000,9,  2223.4,2,  2274.9,2,   7.7049,2,    15.00,   3.488,2,  184.30,  -1.1741
77DN20050819,      AOS05,      11,          1,     282805,         20,2,20050825,       0722,    77.4895,  -149.4907,       3740,   199.6,  -1.0638,  34.1863,2,  34.2152,2,    280.9,2,   285.0,2,   12.37,2,   10.90,2,    0.00,2,    0.96,2,   6.243,2,   3.330,2,   0.432,2,   1.0100,2,  2205.5,2,  2275.0,2,   7.7549,2,    15.00,   4.927,2,  199.60,  -1.0692
77DN20050819,      AOS05,      11,          1,     282804,         19,2,20050825,       0722,    77.4895,  -149.4907,       3740,   219.9,  -0.6570,  34.3467,2,  34.3682,2,    285.0,2,   289.0,2,    9.27,2,   10.85,2,    0.00,2,    0.87,2,   6.064,2,   2.867,2,   0.385,2,   1.0000,2,  2191.7,2,  2274.9,2,   7.7802,2,    15.00,   4.250,2,  219.90,  -0.6638
77DN20050819,      AOS05,      11,          1,     282803,         18,2,20050825,       0722,    77.4895,  -149.4907,       3740,   250.2,  -0.1373,  34.5172,2,  34.5439,2,    287.1,2,   288.1,2,    8.24,2,   11.40,2,    0.00,2,    0.86,2,-999.000,5,-999.000,5,-999.000,5,   0.7000,2,  2189.2,2,  2280.1,2,   7.8018,2,    15.00,-999.000,5,  250.20,  -0.1463
77DN20050819,      AOS05,      11,          1,     282802,         17,2,20050825,       0722,    77.4895,  -149.4907,       3740,   324.8,   0.8177,  34.7881,2,  34.7856,2,    294.2,2,   293.3,2,    6.46,2,   12.22,2,    0.00,2,    0.86,2,   5.072,2,-999.000,5,   0.300,2,   0.7500,2,  2177.2,2,  2288.4,2,   7.8482,2,    15.00,   5.161,2,  324.80,   0.8031
77DN20050819,      AOS05,      11,          1,     282801,         16,2,20050825,       0722,    77.4895,  -149.4907,       3740,   399.5,   0.9865,  34.8435,2,  34.8411,2,    296.5,2,   297.5,2,    5.90,2,   12.31,2,    0.00,2,    0.85,2,   5.016,2,   2.353,2,   0.328,2,   0.8800,2,  2174.7,2,  2290.9,2,   7.8523,2,    15.00,   5.054,2,  399.50,   0.9676
77DN20050819,      AOS05,      11,          1,     282800,         15,2,20050825,       0722,    77.4895,  -149.4907,       3740,   498.0,   0.7345,  34.8532,2,  34.8492,2,    297.2,2,   298.8,2,    6.08,2,   12.44,2,    0.00,2,    0.85,2,   4.557,2,   2.137,2,   0.255,2,   0.6800,2,  2174.1,2,  2292.3,6,   7.8598,2,    15.00,   5.019,2,  498.00,   0.7115
77DN20050819,      AOS05,      11,          1,     282799,         14,2,20050825,       0722,    77.4895,  -149.4907,       3740,   576.7,   0.5277,  34.8546,2,  34.8539,2,    294.7,2,   299.0,2,    6.28,2,   12.48,2,    0.00,2,    0.86,2,   4.452,2,   2.117,2,   0.256,2,   0.5400,2,  2182.9,2,  2293.4,2,   7.8576,2,    15.00,   4.922,2,  576.70,   0.5016
77DN20050819,      AOS05,      11,          1,     282798,         13,2,20050825,       0722,    77.4895,  -149.4907,       3740,   726.0,   0.2417,  34.8657,2,  34.8631,2,    300.3,2,   301.9,2,    6.09,2,   12.42,2,    0.00,2,    0.87,2,   4.321,2,   2.268,3,   0.243,2,   0.6000,2,  2177.9,2,  2292.0,2,   7.8534,2,    15.00,   4.947,2,  726.00,   0.2097
77DN20050819,      AOS05,      11,          1,     282797,         12,2,20050825,       0722,    77.4895,  -149.4907,       3740,   875.3,  -0.0186,  34.8752,2,  34.8732,2,    302.2,2,   303.3,2,    6.29,2,   12.51,2,    0.00,2,    0.88,2,   3.900,2,   1.835,2,   0.215,2,   0.6400,2,  2173.7,2,  2292.7,2,   7.8483,2,    15.00,   4.621,2,  875.30,  -0.0565
77DN20050819,      AOS05,      11,          1,     282796,         11,2,20050825,       0722,    77.4895,  -149.4907,       3740,  1024.9,  -0.1354,  34.8841,2,  34.8828,2,    302.8,2,   308.6,4,    6.67,2,   12.69,2,    0.00,2,    0.89,2,   3.467,2,   1.504,2,   0.183,2,   0.3400,2,  2184.8,2,  2293.5,2,   7.8537,2,    15.00,   3.983,2, 1024.90,  -0.1802
77DN20050819,      AOS05,      11,          1,     282795,         10,2,20050825,       0722,    77.4895,  -149.4907,       3740,  1178.5,  -0.1749,  34.8895,2,  34.8873,2,    301.9,2,   302.6,2,    6.87,2,   12.77,2,    0.00,2,    0.90,2,   3.020,2,   1.324,2,   0.159,2,   0.0000,2,  2176.5,2,  2294.2,2,   7.8563,2,    15.00,   3.716,2, 1178.50,  -0.2276
77DN20050819,      AOS05,      11,          1,     282794,          9,2,20050825,       0722,    77.4895,  -149.4907,       3740,  1378.6,  -0.2316,  34.8986,2,  34.9066,4,    301.0,2,   301.7,2,    7.34,2,   13.00,2,    0.00,2,    0.91,2,   2.421,2,   1.334,3,   0.102,2,   0.3400,2,  2178.8,2,  2293.8,2,   7.8606,2,    15.00,   3.249,2, 1378.60,  -0.2952
77DN20050819,      AOS05,      11,          1,     282793,          8,2,20050825,       0722,    77.4895,  -149.4907,       3740,  1632.1,  -0.3161,  34.9151,2,  34.9126,2,    298.5,2,   299.5,2,    8.29,2,   13.41,2,    0.00,2,    0.94,2,   1.292,2,   0.606,2,   0.052,2,-999.0000,9,  2177.1,2,  2297.4,2,   7.8710,2,    15.00,   1.984,2, 1632.10,  -0.3939
77DN20050819,      AOS05,      11,          1,     282792,          7,2,20050825,       0722,    77.4895,  -149.4907,       3740,  1932.2,  -0.3997,  34.9382,2,  34.9334,2,    293.4,2,   300.1,4,    9.99,2,   14.01,2,    0.00,2,    0.99,2,   0.389,2,   0.257,2,   0.000,2,-999.0000,9,  2174.0,2,  2294.9,2,   7.8792,2,    15.00,   0.724,2, 1932.20,  -0.4955
77DN20050819,      AOS05,      11,          1,     282791,          6,2,20050825,       0722,    77.4895,  -149.4907,       3740,  2236.9,  -0.4016,  34.9490,2,  34.9478,2,    289.2,2,   290.6,2,   11.31,2,   14.32,2,    0.00,2,    1.01,2,   0.168,2,   0.165,2,   0.000,2,-999.0000,9,  2166.3,2,  2297.8,2,   7.8771,2,    15.00,   0.499,2, 2236.90,  -0.5184
77DN20050819,      AOS05,      11,          1,     282790,          5,2,20050825,       0722,    77.4895,  -149.4907,       3740,  2538.0,  -0.3821,  34.9545,2,  34.9523,2,    286.3,2,   288.0,2,   12.17,2,   14.51,2,    0.00,2,    1.02,2,   0.129,2,   0.123,2,   0.000,2,-999.0000,9,  2177.9,2,  2297.5,2,-999.0000,5,  -999.00,   0.208,2, 2538.00,  -0.5215
77DN20050819,      AOS05,      11,          1,     282789,          4,2,20050825,       0722,    77.4895,  -149.4907,       3740,  2843.4,  -0.3492,  34.9580,2,  34.9547,2,    284.1,2,   285.3,2,   12.74,2,   14.55,2,    0.00,2,    1.03,2,   0.201,2,   0.185,2,   0.020,2,-999.0000,9,  2178.0,2,  2301.6,2,   7.8697,2,    15.00,   0.321,2, 2843.40,  -0.5132
77DN20050819,      AOS05,      11,          1,     282788,          3,2,20050825,       0722,    77.4895,  -149.4907,       3740,  3199.9,  -0.3177,  34.9582,2,  34.9565,2,    283.9,2,   285.1,2,   12.93,2,   14.58,2,    0.00,2,    1.02,2,   0.057,2,   0.071,2,   0.000,2,-999.0000,9,  2169.0,2,  2299.0,2,   7.8724,2,    15.00,   0.077,2, 3199.90,  -0.5124
77DN20050819,      AOS05,      11,          1,     282787,          2,2,20050825,       0722,    77.4895,  -149.4907,       3740,  3603.5,  -0.2802,  34.9580,2,  34.9573,2,    283.9,2,   285.2,2,   12.84,2,   14.57,2,    0.00,2,    1.02,2,   0.111,2,   0.142,2,   0.000,2,-999.0000,9,  2175.8,2,  2301.2,2,   7.8743,6,    15.00,   0.168,2, 3603.50,  -0.5121
77DN20050819,      AOS05,      11,          1,     282786,          1,2,20050825,       0722,    77.4895,  -149.4907,       3740,  3890.6,  -0.2514,  34.9579,2,  34.9576,2,    283.9,2,   285.1,2,   12.94,2,   14.57,2,    0.00,2,    1.02,2,   0.072,2,   0.118,2,   0.000,2,   0.0000,2,  2178.9,2,  2302.2,2,   7.8766,2,    15.00,   0.113,2, 3890.60,  -0.5114