BOTTLE,20211025CCHSIORKP
EXPOCODE,SECT_ID,STNNBR,CASTNO,SAMPNO,BTLNBR,BTLNBR_FLAG_W,DATE,TIME,LATITUDE,LONGITUDE,DEPTH,CTDPRS,CTDTMP,CTDSAL,CTDSAL_FLAG_W,SALNTY,SALNTY_FLAG_W,CTDOXY,CTDOXY_FLAG_W,OXYGEN,OXYGEN_FLAG_W,SILCAT,SILCAT_FLAG_W,NITRAT,NITRAT_FLAG_W,NITRIT,NITRIT_FLAG_W,PHSPHT,PHSPHT_FLAG_W,CFC-11,CFC-11_FLAG_W,CFC-12,CFC-12_FLAG_W,CFC113,CFC113_FLAG_W,SF6,SF6_FLAG_W,TCARBN,TCARBN_FLAG_W,ALKALI,ALKALI_FLAG_W,PH_SWS,PH_SWS_FLAG_W,PH_TMP,CCL4,CCL4_FLAG_W,CTDRAW,THETA
,,,,,,,,,,,METERS,DBAR,ITS-90,PSS-78,,PSS-78,,UMOL/KG,,UMOL/KG,,UMOL/KG,,UMOL/KG,,UMOL/KG,,UMOL/KG,,PMOL/KG,,PMOL/KG,,PMOL/KG,,FMOL/KG,,UMOL/KG,,UMOL/KG,,,,DEG C,PMOL/KG,,DBAR,DEG C
77DN20050819,      AOS05,      14,          1,     282929,         36,2,20050827,       0524,    79.4608,  -144.9388,       3720,     1.9,  -1.4144,  29.3340,2,  29.3902,2,    397.9,2,   400.1,2,    4.07,2,    0.00,2,    0.00,2,    0.74,2,-999.000,9,-999.000,9,-999.000,9,-999.0000,9,  -999.0,9,  -999.0,9,-999.0000,9,  -999.00,-999.000,9,    1.90,  -1.4144
77DN20050819,      AOS05,      14,          1,     282928,         35,2,20050827,       0524,    79.4608,  -144.9388,       3720,     8.8,  -1.4222,  29.4327,2,  29.4691,2,    398.7,2,   399.5,2,    3.21,2,    0.00,2,    0.00,2,    0.74,2,   7.499,2,   3.903,2,   0.718,2,   3.0500,2,  1959.0,2,  2074.6,2,   7.8693,6,    15.00,   6.585,3,    8.80,  -1.4223
77DN20050819,      AOS05,      14,          1,     282927,         34,2,20050827,       0524,    79.4608,  -144.9388,       3720,    27.1,  -1.4375,  30.1530,2,  30.2063,2,    400.8,2,   402.3,2,    3.89,2,    0.00,2,    0.00,2,    0.78,2,-999.000,5,-999.000,5,-999.000,5,   2.8100,2,  2015.4,2,  2125.4,2,   7.8706,2,    15.00,-999.000,5,   27.10,  -1.4379
77DN20050819,      AOS05,      14,          1,     282926,         33,2,20050827,       0524,    79.4608,  -144.9388,       3720,    47.1,  -1.5370,  30.6383,2,  30.7284,2,    398.2,2,   393.7,2,    4.55,2,    0.40,2,    0.08,2,    0.84,2,   7.557,2,   3.910,2,   0.691,2,   2.3200,2,  2039.6,2,  2156.4,2,   7.8620,2,    15.00,   8.165,3,   47.10,  -1.5377
77DN20050819,      AOS05,      14,          1,     282925,         32,4,20050827,       0524,    79.4608,  -144.9388,       3720,    62.4,  -1.4451,  31.2104,2,  31.8627,4,    382.7,2,   312.0,4,   16.57,4,    7.86,4,    0.02,4,    1.34,4,   3.137,3,   1.418,3,   0.172,3,-999.0000,5,  2136.6,4,  2212.7,4,   7.7151,4,    15.00,   3.459,3,   62.40,  -1.4462
77DN20050819,      AOS05,      14,          1,     282924,         31,2,20050827,       0524,    79.4608,  -144.9388,       3720,    77.7,  -1.3767,  31.8663,2,  31.9974,2,    334.8,2,   308.9,2,   20.67,2,    9.77,2,    0.01,2,    1.49,2,   6.834,2,   3.171,2,   0.533,2,-999.0000,5,  2139.4,2,  2199.7,2,   7.7077,2,    15.00,   5.286,2,   77.70,  -1.3782
77DN20050819,      AOS05,      14,          1,     282923,         30,2,20050827,       0524,    79.4608,  -144.9388,       3720,    92.9,  -1.3603,  32.2757,2,  32.4095,2,    294.7,2,   271.8,2,   30.75,2,   13.60,2,    0.01,2,    1.80,2,   6.380,2,   3.369,2,   0.467,2,   2.5500,2,  2184.5,2,  2216.4,2,   7.6079,2,    15.00,   4.345,2,   92.90,  -1.3622
77DN20050819,      AOS05,      14,          1,     282922,         29,2,20050827,       0524,    79.4608,  -144.9388,       3720,   108.2,  -1.0916,  32.6250,2,  32.7437,2,    257.0,2,   245.2,2,   37.41,2,   15.80,2,    0.00,2,    1.99,2,   6.248,2,   3.283,2,   0.449,2,   1.8600,2,  2223.2,2,  2235.4,2,   7.5423,2,    15.00,   3.292,3,  108.20,  -1.0941
77DN20050819,      AOS05,      14,          1,     282921,         28,2,20050827,       0524,    79.4608,  -144.9388,       3720,   123.5,  -1.3767,  33.0747,2,  33.1919,2,    246.7,2,   257.5,2,   37.08,2,   15.83,2,    0.00,2,    1.88,2,-999.000,5,-999.000,5,-999.000,5,   1.8300,2,  2247.0,2,  2261.2,2,   7.5625,2,    15.00,-999.000,5,  123.50,  -1.3794
77DN20050819,      AOS05,      14,          1,     282920,         27,2,20050827,       0524,    79.4608,  -144.9388,       3720,   138.7,  -1.3981,  33.4730,2,  33.5831,2,    256.6,2,   263.0,2,   30.14,2,   14.38,2,    0.00,2,    1.59,2,   6.085,2,   3.044,2,   0.402,2,   1.3500,2,  2231.4,2,  2270.5,2,   7.6111,2,    15.00,   3.975,2,  138.70,  -1.4011
77DN20050819,      AOS05,      14,          1,     282917,         24,2,20050827,       0524,    79.4608,  -144.9388,       3720,   154.0,  -1.3331,  33.8719,2,  33.9378,2,    266.2,2,   284.9,2,   17.89,2,   11.89,2,    0.00,2,    1.13,2,   6.310,2,   2.950,2,   0.472,2,   1.1000,2,  2207.6,2,  2272.0,2,   7.6909,2,    15.00,   2.584,3,  154.00,  -1.3368
77DN20050819,      AOS05,      14,          1,     282919,         26,2,20050827,       0524,    79.4608,  -144.9388,       3720,   154.0,  -1.3335,  33.8724,2,-999.0000,9,   -999.0,9,  -999.0,9, -999.00,9, -999.00,9, -999.00,9, -999.00,9,-999.000,9,-999.000,9,-999.000,9,-999.0000,9,  -999.0,9,  -999.0,9,-999.0000,9,  -999.00,-999.000,9,  154.00,  -1.3371
77DN20050819,      AOS05,      14,          1,     282918,         25,2,20050827,       0524,    79.4608,  -144.9388,       3720,   154.0,  -1.3335,  33.8723,2,-999.0000,9,   -999.0,9,  -999.0,9, -999.00,9, -999.00,9, -999.00,9, -999.00,9,-999.000,9,-999.000,9,-999.000,9,-999.0000,9,  -999.0,9,  -999.0,9,-999.0000,9,  -999.00,-999.000,9,  154.00,  -1.3371
77DN20050819,      AOS05,      14,          1,     282916,         23,2,20050827,       0524,    79.4608,  -144.9388,       3720,   169.5,  -1.2548,  34.1133,2,  34.1397,2,    284.1,2,   291.0,2,   11.17,2,   10.66,2,    0.00,2,    0.91,2,   6.471,2,   3.128,2,   0.439,2,   1.2500,2,  2180.8,2,  2272.1,2,   7.7507,2,    15.00,   4.556,2,  169.50,  -1.2591
77DN20050819,      AOS05,      14,          1,     282915,         22,2,20050827,       0524,    79.4608,  -144.9388,       3720,   184.8,  -0.8558,  34.2644,2,-999.0000,9,    294.2,2,   298.3,2,    7.79,2,   10.28,2,    0.00,2,    0.81,2,   6.332,2,   2.981,2,   0.420,2,   1.2500,2,  2189.4,2,  2271.8,2,   7.7531,2,    15.00,   4.593,2,  184.80,  -0.8612
77DN20050819,      AOS05,      14,          1,     282914,         21,2,20050827,       0524,    79.4608,  -144.9388,       3720,   200.1,  -0.6316,  34.3528,2,  34.3618,2,    295.9,2,   297.3,2,    7.47,2,   10.60,2,    0.00,2,    0.81,2,   6.265,2,   2.940,2,   0.480,2,   1.1800,2,  2178.7,2,  2274.2,2,   7.7820,2,    15.00,   2.631,3,  200.10,  -0.6379
77DN20050819,      AOS05,      14,          1,     282913,         20,4,20050827,       0524,    79.4608,  -144.9388,       3720,   220.4,  -0.2756,  34.4605,2,  34.3583,4,    294.1,2,   296.4,4,    7.06,4,   10.60,4,    0.01,4,    0.81,4,   6.271,2,   2.979,2,   0.417,2,   1.1600,2,  2177.7,4,  2273.8,4,   7.7901,4,    15.00,   5.014,2,  220.40,  -0.2831
77DN20050819,      AOS05,      14,          1,     282912,         19,3,20050827,       0524,    79.4608,  -144.9388,       3720,   250.6,   0.1946,  34.5985,2,  34.6084,2,    293.9,2,   293.8,2,    6.84,2,   11.69,2,    0.00,2,    0.83,2,   5.531,2,   2.539,2,   0.355,2,   0.8900,2,  2169.2,2,  2282.1,2,   7.8217,2,    15.00,   4.886,2,  250.60,   0.1848
77DN20050819,      AOS05,      14,          1,     282911,         18,2,20050827,       0524,    79.4608,  -144.9388,       3720,   325.3,   0.8419,  34.7975,2,  34.8050,3,    295.1,2,   303.2,4,    6.06,2,   12.54,2,    0.00,2,    0.85,2,   5.131,2,   2.364,2,   0.326,2,   1.2000,2,  2170.5,2,  2291.4,2,   7.8492,2,    15.00,   4.025,2,  325.30,   0.8272
77DN20050819,      AOS05,      14,          1,     282910,         17,2,20050827,       0524,    79.4608,  -144.9388,       3720,   370.2,   0.9170,  34.8270,2,  34.8341,2,    296.2,2,   297.0,2,    6.01,2,   12.62,2,    0.00,2,    0.86,2,   4.913,2,   2.332,2,   0.307,2,   0.9300,2,  2168.0,2,  2290.3,2,   7.8505,2,    15.00,   5.051,2,  370.20,   0.8998
77DN20050819,      AOS05,      14,          1,     282909,         16,2,20050827,       0524,    79.4608,  -144.9388,       3720,   415.2,   0.8420,  34.8366,2,  34.8347,2,    295.7,2,   296.1,2,    6.15,2,   12.72,2,    0.00,2,    0.87,2,   4.397,2,   2.007,2,   0.286,2,   0.7600,2,  2166.4,2,  2290.4,2,   7.8511,2,    15.00,   1.726,3,  415.20,   0.8228
77DN20050819,      AOS05,      14,          1,     282908,         15,2,20050827,       0524,    79.4608,  -144.9388,       3720,   489.9,   0.7063,  34.8524,2,  34.8497,2,    296.7,2,   298.3,2,    6.28,2,   12.81,2,    0.00,2,    0.88,2,   4.309,2,   1.961,2,   0.310,2,   0.7800,2,  2166.1,2,  2290.8,2,   7.8444,2,    15.00,   2.429,3,  489.90,   0.6838
77DN20050819,      AOS05,      14,          1,     282907,         14,2,20050827,       0524,    79.4608,  -144.9388,       3720,   593.3,   0.4939,  34.8609,2,  34.8601,2,    297.4,2,   298.5,2,    6.41,2,   12.90,2,    0.00,2,    0.89,2,   3.905,2,   1.722,2,   0.212,2,   0.6300,2,  2171.2,2,  2291.6,2,   7.8487,2,    15.00,   4.831,2,  593.30,   0.4672
77DN20050819,      AOS05,      14,          1,     282906,         13,2,20050827,       0524,    79.4608,  -144.9388,       3720,   742.5,   0.2555,  34.8682,2,  34.8654,2,    299.8,2,   301.4,2,    6.45,2,   12.95,2,    0.00,2,    0.89,2,   3.533,2,   1.743,2,   0.183,2,   0.7000,2,  2170.3,2,  2291.3,2,   7.8511,2,    15.00,   4.550,2,  742.50,   0.2226
77DN20050819,      AOS05,      14,          1,     282905,         12,2,20050827,       0524,    79.4608,  -144.9388,       3720,   891.7,   0.0555,  34.8753,2,  34.8765,2,    300.1,2,   305.2,4,    6.50,2,   12.95,2,    0.00,2,    0.91,2,   3.007,2,   1.304,2,   0.238,3,   0.4700,2,  2169.7,2,  2292.2,2,   7.8507,2,    15.00,   1.523,3,  891.70,   0.0162
77DN20050819,      AOS05,      14,          1,     282904,         11,2,20050827,       0524,    79.4608,  -144.9388,       3720,  1041.1,  -0.0624,  34.8894,2,  34.8897,2,    299.5,2,   300.4,2,    6.90,2,   13.13,2,    0.00,2,    0.93,2,   1.852,2,   0.785,2,   0.067,2,   0.0000,2,  2167.5,2,  2293.0,2,   7.8441,2,    15.00,   2.840,2, 1041.10,  -0.1087
77DN20050819,      AOS05,      14,          1,     282903,         10,2,20050827,       0524,    79.4608,  -144.9388,       3720,  1194.7,  -0.1627,  34.9004,2,  34.8983,2,    299.4,2,   300.6,2,    7.12,2,   13.32,2,    0.00,2,    0.93,2,   1.287,2,   0.646,2,   0.039,2,   0.0000,2,  2162.4,2,  2291.6,2,   7.8629,2,    15.00,   1.229,2, 1194.70,  -0.2165
77DN20050819,      AOS05,      14,          1,     282902,          9,2,20050827,       0524,    79.4608,  -144.9388,       3720,  1394.5,  -0.2663,  34.9126,2,  34.9105,2,    298.8,2,   299.6,2,    7.98,2,   13.55,2,    0.00,2,    0.95,2,   0.789,2,   0.356,2,   0.028,2,   0.0000,2,  2163.7,2,  2292.5,2,   7.8703,2,    15.00,   0.564,3, 1394.50,  -0.3304
77DN20050819,      AOS05,      14,          1,     282901,          8,2,20050827,       0524,    79.4608,  -144.9388,       3720,  1647.7,  -0.3600,  34.9282,2,  34.9257,2,    296.2,2,   297.5,2,    9.01,2,   14.01,2,    0.00,2,    0.99,2,   0.362,2,   0.175,2,   0.000,2,   0.0000,2,  2159.8,2,  2295.3,2,   7.8705,2,    15.00,   1.080,2, 1647.70,  -0.4381
77DN20050819,      AOS05,      14,          1,     282900,          7,2,20050827,       0524,    79.4608,  -144.9388,       3720,  1947.3,  -0.4086,  34.9427,2,  34.9397,2,    291.7,2,   293.1,2,   10.40,2,   14.48,2,    0.00,2,    1.02,2,   0.169,2,   0.113,2,   0.000,2,-999.0000,9,  2159.1,2,  2296.6,2,   7.8779,2,    15.00,   0.499,2, 1947.30,  -0.5053
77DN20050819,      AOS05,      14,          1,     282899,          6,2,20050827,       0524,    79.4608,  -144.9388,       3720,  2251.9,  -0.4039,  34.9512,2,  34.9488,2,    288.2,2,   295.0,4,   11.71,2,   14.75,2,    0.00,2,    1.04,2,   0.057,2,   0.065,2,   0.000,2,-999.0000,9,  2161.3,2,  2296.0,6,   7.8759,2,    15.00,   0.102,2, 2251.90,  -0.5217
77DN20050819,      AOS05,      14,          1,     282898,          5,2,20050827,       0524,    79.4608,  -144.9388,       3720,  2552.6,  -0.3796,  34.9560,2,  34.9545,2,    285.6,2,   287.2,2,   12.57,2,   14.89,2,    0.00,2,    1.06,2,   0.032,2,   0.113,2,   0.000,2,-999.0000,9,  2164.5,2,  2297.9,2,   7.8711,2,    15.00,   0.104,2, 2552.60,  -0.5202
77DN20050819,      AOS05,      14,          1,     282897,          4,2,20050827,       0524,    79.4608,  -144.9388,       3720,  2857.6,  -0.3473,  34.9582,2,  34.9545,2,    283.8,2,   286.9,3,   12.97,2,   14.94,2,    0.00,2,    1.06,2,   0.032,2,   0.107,2,   0.000,2,-999.0000,9,  2167.7,2,  2297.5,2,   7.8735,2,    15.00,   0.084,2, 2857.60,  -0.5126
77DN20050819,      AOS05,      14,          1,     282896,          3,2,20050827,       0524,    79.4608,  -144.9388,       3720,  3212.9,  -0.3164,  34.9580,2,  34.9549,2,    283.9,2,   285.1,2,   13.02,2,   14.94,2,    0.00,2,    1.07,2,   0.028,2,   0.061,2,   0.000,2,-999.0000,9,  2163.3,2,  2300.2,2,   7.8726,2,    15.00,   0.037,2, 3212.90,  -0.5122
77DN20050819,      AOS05,      14,          1,     282895,          2,2,20050827,       0524,    79.4608,  -144.9388,       3720,  3616.8,  -0.2791,  34.9579,2,  34.9568,2,    284.1,2,   285.2,2,   12.97,2,   14.98,2,   -0.00,2,    1.05,2,   0.033,2,   0.073,2,   0.000,2,-999.0000,9,  2167.8,2,  2299.0,2,   7.8727,2,    15.00,   0.081,2, 3616.80,  -0.5122
77DN20050819,      AOS05,      14,          1,     282894,          1,2,20050827,       0524,    79.4608,  -144.9388,       3720,  3873.2,  -0.2536,  34.9579,2,  34.9578,2,    284.1,2,   284.8,2,   12.93,2,   14.93,2,    0.00,2,    1.05,2,   0.033,2,   0.055,2,   0.000,2,-999.0000,9,  2170.5,2,  2299.2,6,   7.8731,6,    15.00,   0.097,2, 3873.20,  -0.5119