BOTTLE,20211025CCHSIORKP
EXPOCODE,SECT_ID,STNNBR,CASTNO,SAMPNO,BTLNBR,BTLNBR_FLAG_W,DATE,TIME,LATITUDE,LONGITUDE,DEPTH,CTDPRS,CTDTMP,CTDSAL,CTDSAL_FLAG_W,SALNTY,SALNTY_FLAG_W,CTDOXY,CTDOXY_FLAG_W,OXYGEN,OXYGEN_FLAG_W,SILCAT,SILCAT_FLAG_W,NITRAT,NITRAT_FLAG_W,NITRIT,NITRIT_FLAG_W,PHSPHT,PHSPHT_FLAG_W,CFC-11,CFC-11_FLAG_W,CFC-12,CFC-12_FLAG_W,CFC113,CFC113_FLAG_W,SF6,SF6_FLAG_W,TCARBN,TCARBN_FLAG_W,ALKALI,ALKALI_FLAG_W,PH_SWS,PH_SWS_FLAG_W,PH_TMP,CCL4,CCL4_FLAG_W,CTDRAW,THETA
,,,,,,,,,,,METERS,DBAR,ITS-90,PSS-78,,PSS-78,,UMOL/KG,,UMOL/KG,,UMOL/KG,,UMOL/KG,,UMOL/KG,,UMOL/KG,,PMOL/KG,,PMOL/KG,,PMOL/KG,,FMOL/KG,,UMOL/KG,,UMOL/KG,,,,DEG C,PMOL/KG,,DBAR,DEG C
77DN20050819,      AOS05,      19,          1,     283082,         36,2,20050831,       0450,    82.5108,  -147.6038,       2656,     1.9,  -1.5853,  30.1851,2,  30.1924,2,    389.7,2,   391.2,2,    4.29,2,    0.10,2,    0.00,2,    0.87,2,-999.000,9,-999.000,9,-999.000,9,-999.0000,9,  1995.2,2,  2109.9,2,   7.8745,6,    15.00,-999.000,9,    1.90,  -1.5853
77DN20050819,      AOS05,      19,          1,     283081,         35,2,20050831,       0450,    82.5108,  -147.6038,       2656,    10.0,  -1.5947,  30.1971,2,  30.1934,2,    389.9,2,   391.6,2,    4.24,2,    0.09,2,    0.00,2,    0.87,2,   7.685,2,   4.156,2,   0.730,2,   2.5600,2,  1995.6,2,  2110.4,2,   7.8698,2,    15.00,   7.975,2,   10.00,  -1.5948
77DN20050819,      AOS05,      19,          1,     283080,         34,2,20050831,       0450,    82.5108,  -147.6038,       2656,    30.1,  -1.5523,  30.8647,2,  30.8906,2,   -999.0,9,  -999.0,5,    4.02,2,    0.11,2,    0.02,2,    0.89,2,   7.742,2,   4.202,2,   0.730,2,   2.5900,2,  2038.9,2,  2153.8,2,   7.8631,2,    15.00,   7.678,2,   30.10,  -1.5528
77DN20050819,      AOS05,      19,          1,     283079,         33,2,20050831,       0450,    82.5108,  -147.6038,       2656,    49.9,  -1.6283,  30.9795,2,  30.9818,2,    387.2,2,   387.4,2,    4.52,2,    0.46,2,    0.10,2,    0.95,2,   7.755,2,   4.257,2,   0.717,2,-999.0000,5,  2052.1,2,  2156.3,2,   7.8528,2,    15.00,   7.510,2,   49.90,  -1.6291
77DN20050819,      AOS05,      19,          1,     283078,         32,2,20050831,       0450,    82.5108,  -147.6038,       2656,    64.9,  -1.6380,  31.0483,2,  31.0771,2,    384.0,2,   376.0,2,    5.55,2,    1.54,2,    0.03,2,    1.02,2,   7.596,2,   4.180,2,   0.672,2,   2.4800,2,  2059.2,2,  2157.9,2,   7.8210,2,    15.00,   6.613,2,   64.90,  -1.6390
77DN20050819,      AOS05,      19,          1,     283077,         31,2,20050831,       0450,    82.5108,  -147.6038,       2656,    79.9,  -1.4760,  31.6966,2,  31.7561,2,    340.5,2,   314.0,2,   14.66,2,    7.30,2,    0.01,2,    1.38,2,   6.970,2,   3.749,2,   0.524,2,   2.2100,2,  2117.3,2,  2185.7,2,   7.7293,2,    15.00,   4.537,2,   79.90,  -1.4774
77DN20050819,      AOS05,      19,          1,     283076,         30,2,20050831,       0450,    82.5108,  -147.6038,       2656,    89.9,  -1.3474,  32.2155,2,  32.2486,2,    295.0,2,   274.5,2,   25.88,2,   11.57,2,    0.00,2,    1.67,2,   6.680,2,   3.640,2,   0.471,2,   1.9300,2,  2174.5,2,  2209.8,2,   7.6374,2,    15.00,   4.317,2,   89.90,  -1.3492
77DN20050819,      AOS05,      19,          1,     283075,         29,2,20050831,       0450,    82.5108,  -147.6038,       2656,   100.0,  -1.2596,  32.6797,2,  32.6836,2,    252.0,2,   245.2,2,   34.22,2,   14.34,2,    0.00,2,    1.87,2,   6.374,2,   3.465,2,   0.452,2,   1.7000,2,  2214.1,2,  2229.4,2,   7.5515,2,    15.00,   3.893,2,  100.00,  -1.2618
77DN20050819,      AOS05,      19,          1,     283074,         28,2,20050831,       0450,    82.5108,  -147.6038,       2656,   110.0,  -1.4246,  33.1434,2,  33.2335,2,    251.7,2,   258.0,2,   32.33,2,   14.41,2,    0.00,2,    1.70,2,   2.002,4,-999.000,5,   0.069,4,   1.6700,2,  2235.3,2,  2258.7,2,   7.5863,2,    15.00,   2.379,3,  110.00,  -1.4270
77DN20050819,      AOS05,      19,          1,     283073,         27,2,20050831,       0450,    82.5108,  -147.6038,       2656,   120.3,  -1.4674,  33.5535,2,  33.5976,2,    257.4,2,   264.9,2,   26.17,2,   13.31,2,   -0.00,2,    1.45,2,   6.518,2,   3.226,2,   0.437,2,   1.5000,2,  2229.7,2,  2265.8,2,   7.6343,2,    15.00,   3.944,2,  120.30,  -1.4700
77DN20050819,      AOS05,      19,          1,     283072,         26,2,20050831,       0450,    82.5108,  -147.6038,       2656,   135.6,  -1.4837,  33.8748,2,-999.0000,9,   -999.0,9,  -999.0,9, -999.00,9, -999.00,9, -999.00,9, -999.00,9,-999.000,9,-999.000,9,-999.000,9,-999.0000,9,  -999.0,9,  -999.0,9,-999.0000,9,  -999.00,-999.000,9,  135.60,  -1.4867
77DN20050819,      AOS05,      19,          1,     283071,         25,2,20050831,       0450,    82.5108,  -147.6038,       2656,   135.6,  -1.4757,  33.8911,2,-999.0000,9,   -999.0,9,  -999.0,9, -999.00,9, -999.00,9, -999.00,9, -999.00,9,-999.000,9,-999.000,9,-999.000,9,-999.0000,9,  -999.0,9,  -999.0,9,-999.0000,9,  -999.00,-999.000,9,  135.60,  -1.4787
77DN20050819,      AOS05,      19,          1,     283070,         24,2,20050831,       0450,    82.5108,  -147.6038,       2656,   135.6,  -1.4725,  33.9012,2,  33.9709,2,    278.7,2,   292.3,2,   11.13,2,   10.17,2,    0.00,2,    0.92,2,   6.671,2,   3.230,2,   0.451,2,   1.2000,2,  2196.9,2,  2270.5,2,   7.7477,2,    15.00,   4.144,2,  135.60,  -1.4755
77DN20050819,      AOS05,      19,          1,     283069,         23,2,20050831,       0450,    82.5108,  -147.6038,       2656,   150.9,  -1.2750,  34.0965,2,-999.0000,9,   -999.0,9,  -999.0,9, -999.00,9, -999.00,9, -999.00,9, -999.00,9,-999.000,9,-999.000,9,-999.000,9,-999.0000,9,  -999.0,9,  -999.0,9,-999.0000,9,  -999.00,-999.000,9,  150.90,  -1.2787
77DN20050819,      AOS05,      19,          1,     283068,         22,2,20050831,       0450,    82.5108,  -147.6038,       2656,   150.9,  -1.2102,  34.1458,2,-999.0000,9,   -999.0,9,  -999.0,9, -999.00,9, -999.00,9, -999.00,9, -999.00,9,-999.000,9,-999.000,9,-999.000,9,-999.0000,9,  -999.0,9,  -999.0,9,-999.0000,9,  -999.00,-999.000,9,  150.90,  -1.2140
77DN20050819,      AOS05,      19,          1,     283067,         21,2,20050831,       0450,    82.5108,  -147.6038,       2656,   150.9,  -1.1636,  34.1456,2,  34.1523,2,    292.1,2,   296.7,2,    7.83,2,    9.97,2,    0.00,2,    0.82,2,   5.100,3,-999.000,5,   0.239,3,-999.0000,5,  2185.8,2,  2271.4,2,   7.7797,2,    15.00,   3.792,2,  150.90,  -1.1674
77DN20050819,      AOS05,      19,          1,     283066,         20,4,20050831,       0450,    82.5108,  -147.6038,       2656,   161.3,  -0.9505,  34.2249,2,  33.8613,4,    295.3,2,   287.6,4,   14.02,4,   10.60,4,    0.00,4,    1.00,4,   6.765,2,   3.363,2,   0.469,2,   1.2800,2,  2200.2,4,  2270.8,4,   7.7204,4,    15.00,   3.840,2,  161.30,  -0.9550
77DN20050819,      AOS05,      19,          1,     283065,         19,2,20050831,       0450,    82.5108,  -147.6038,       2656,   176.6,  -0.6774,  34.3105,2,  34.3170,2,    296.2,2,   297.9,2,    6.19,2,   10.22,2,    0.00,2,    0.79,2,   6.239,2,   2.950,2,   0.401,2,-999.0000,9,  2180.3,2,  2273.8,2,   7.7862,2,    15.00,   4.698,2,  176.60,  -0.6827
77DN20050819,      AOS05,      19,          1,     283064,         18,2,20050831,       0450,    82.5108,  -147.6038,       2656,   191.8,  -0.3778,  34.4009,2,  34.4204,2,    293.5,2,   295.0,2,    6.23,2,   10.76,2,    0.00,2,    0.80,2,   5.758,2,   2.280,3,   0.335,3,   1.0900,2,  2178.6,2,  2280.7,2,   7.8065,2,    15.00,   4.585,2,  191.80,  -0.3841
77DN20050819,      AOS05,      19,          1,     283063,         17,2,20050831,       0450,    82.5108,  -147.6038,       2656,   207.2,  -0.1603,  34.4780,2,  34.4843,2,    291.8,2,   293.7,2,    6.19,2,   11.11,2,    0.00,2,    0.82,2,-999.000,5,-999.000,5,-999.000,5,   0.8000,2,  2177.1,2,  2278.3,6,   7.8133,2,    15.00,-999.000,5,  207.20,  -0.1676
77DN20050819,      AOS05,      19,          1,     283062,         16,2,20050831,       0450,    82.5108,  -147.6038,       2656,   227.4,   0.2090,  34.6127,2,  34.5989,2,    290.4,2,   290.7,2,    6.50,2,   11.78,2,    0.00,2,    0.84,2,   4.813,2,   2.295,2,   0.295,2,   0.7600,2,  2170.4,2,  2282.8,2,   7.8248,2,    15.00,   4.422,2,  227.40,   0.2001
77DN20050819,      AOS05,      19,          1,     283061,         15,2,20050831,       0450,    82.5108,  -147.6038,       2656,   273.4,   0.6030,  34.7711,2,  34.7751,2,    286.4,2,   289.5,2,    6.54,2,   12.73,2,    0.00,2,    0.88,2,   4.165,2,   1.933,2,   0.228,2,-999.0000,5,  2168.4,2,  2288.8,2,   7.8512,2,    15.00,   4.781,2,  273.40,   0.5913
77DN20050819,      AOS05,      19,          1,     283060,         14,2,20050831,       0450,    82.5108,  -147.6038,       2656,   333.5,   0.7270,  34.8317,2,  34.8316,2,    291.4,2,   292.9,2,    6.13,2,   12.81,2,    0.00,2,    0.88,2,-999.000,5,-999.000,5,-999.000,5,   0.6200,2,  2168.2,2,  2292.1,2,   7.8561,2,    15.00,-999.000,5,  333.50,   0.7121
77DN20050819,      AOS05,      19,          1,     283059,         13,2,20050831,       0450,    82.5108,  -147.6038,       2656,   393.3,   0.6050,  34.8357,2,  34.8410,2,    290.5,2,   291.7,2,    6.54,2,   13.02,2,    0.00,2,    0.89,2,   3.118,2,-999.000,5,   0.132,2,   0.4800,2,  2161.3,2,  2291.9,2,   7.8586,2,    15.00,   3.909,2,  393.30,   0.5877
77DN20050819,      AOS05,      19,          1,     283058,         12,2,20050831,       0450,    82.5108,  -147.6038,       2656,   492.9,   0.4716,  34.8556,2,  34.8572,2,    291.0,2,   291.8,2,    6.66,2,   13.14,2,    0.00,2,    0.90,2,   2.971,2,   1.343,2,   0.146,2,-999.0000,5,  2166.8,2,  2291.4,2,   7.8603,2,    15.00,   3.939,2,  492.90,   0.4499
77DN20050819,      AOS05,      19,          1,     283057,         11,2,20050831,       0450,    82.5108,  -147.6038,       2656,   596.4,   0.3766,  34.8678,2,  34.8674,2,    292.8,2,   294.0,2,    6.71,2,   13.18,2,    0.00,2,    0.91,2,   2.346,2,   1.095,2,   0.111,2,   0.4000,2,  2168.3,2,  2292.9,2,   7.8618,2,    15.00,   3.481,2,  596.40,   0.3503
77DN20050819,      AOS05,      19,          1,     283056,         10,2,20050831,       0450,    82.5108,  -147.6038,       2656,   745.7,   0.1853,  34.8809,2,  34.8818,2,    295.4,2,   294.8,2,    6.93,2,   13.26,2,    0.00,2,    0.92,2,   1.435,2,   0.699,2,   0.035,2,   0.3300,2,  2170.3,2,  2292.6,2,   7.8658,6,    15.00,   2.644,2,  745.70,   0.1526
77DN20050819,      AOS05,      19,          1,     283055,          9,2,20050831,       0450,    82.5108,  -147.6038,       2656,   895.4,   0.0179,  34.8902,2,  34.8899,2,    295.1,2,   296.4,2,    6.98,2,   13.29,2,    0.00,2,    0.92,2,   1.287,2,   0.608,2,   0.054,2,   0.0000,2,  2160.3,2,  2295.2,2,   7.8715,2,    15.00,   2.302,2,  895.40,  -0.0213
77DN20050819,      AOS05,      19,          1,     283054,          8,2,20050831,       0450,    82.5108,  -147.6038,       2656,  1045.0,  -0.0951,  34.9004,2,  34.9001,2,    295.4,2,   296.7,2,    7.38,2,   13.40,2,    0.00,2,    0.93,2,   0.712,2,   0.240,2,   0.000,2,   0.4000,2,  2165.2,2,  2292.4,2,   7.8744,2,    15.00,   1.640,2, 1045.00,  -0.1414
77DN20050819,      AOS05,      19,          1,     283053,          7,2,20050831,       0450,    82.5108,  -147.6038,       2656,  1198.6,  -0.1911,  34.9105,2,  34.9117,2,    295.4,2,   296.5,2,    7.78,2,   13.53,2,   -0.00,2,    0.96,2,   0.368,2,   0.242,2,   0.000,2,-999.0000,5,  2161.1,2,  2293.2,2,   7.8796,2,    15.00,   1.473,2, 1198.60,  -0.2448
77DN20050819,      AOS05,      19,          1,     283052,          6,2,20050831,       0450,    82.5108,  -147.6038,       2656,  1398.7,  -0.2909,  34.9218,2,  34.9230,2,    294.5,2,   295.5,2,    8.55,2,   13.83,2,   -0.00,2,    0.98,2,   0.217,2,   0.148,2,   0.000,2,-999.0000,9,  2163.3,2,  2286.1,6,   7.8784,2,    15.00,   0.953,2, 1398.70,  -0.3550
77DN20050819,      AOS05,      19,          1,     283051,          5,2,20050831,       0450,    82.5108,  -147.6038,       2656,  1602.3,  -0.3612,  34.9324,2,  34.9326,2,    293.2,2,   295.2,4,    9.50,2,   14.19,2,   -0.00,2,    1.00,2,-999.000,5,-999.000,5,-999.000,5,   0.0000,2,  2167.0,2,  2287.7,2,   7.8785,2,    15.00,-999.000,5, 1602.30,  -0.4366
77DN20050819,      AOS05,      19,          1,     283050,          4,2,20050831,       0450,    82.5108,  -147.6038,       2656,  1902.0,  -0.4063,  34.9441,2,  34.9450,2,    290.2,2,   291.9,4,   11.08,2,   14.53,2,   -0.00,2,    1.02,2,   0.118,2,   0.165,2,   0.000,2,-999.0000,9,  2170.6,2,  2288.7,2,   7.8761,2,    15.00,   0.483,2, 1902.00,  -0.5001
77DN20050819,      AOS05,      19,          1,     283049,          3,2,20050831,       0450,    82.5108,  -147.6038,       2656,  2206.6,  -0.4017,  34.9526,2,  34.9529,2,    287.1,2,   289.2,4,   12.29,2,   14.69,2,    0.00,2,    1.05,2,   0.056,2,   0.074,2,   0.000,2,   0.0000,2,  2167.2,2,  2292.3,2,   7.8781,2,    15.00,   0.273,2, 2206.60,  -0.5164
77DN20050819,      AOS05,      19,          1,     283048,          2,2,20050831,       0450,    82.5108,  -147.6038,       2656,  2507.7,  -0.3679,  34.9576,2,  34.9570,2,    285.1,2,   285.4,4,   12.88,2,   14.91,2,    0.00,2,    1.05,2,   0.080,2,   0.072,2,   0.000,2,-999.0000,9,  2177.6,2,  2267.1,2,   7.8731,2,    15.00,   0.153,2, 2507.70,  -0.5053
77DN20050819,      AOS05,      19,          1,     283047,          1,2,20050831,       0450,    82.5108,  -147.6038,       2656,  2682.5,  -0.3536,  34.9577,2,  34.9574,2,    284.9,2,   292.7,4,   13.01,2,   14.90,2,    0.00,2,    1.04,2,   0.044,2,   0.000,2,   0.000,2,-999.0000,9,  2153.3,2,  2302.8,2,   7.8784,2,    15.00,   0.069,2, 2682.50,  -0.5048