BOTTLE,20211025CCHSIORKP
EXPOCODE,SECT_ID,STNNBR,CASTNO,SAMPNO,BTLNBR,BTLNBR_FLAG_W,DATE,TIME,LATITUDE,LONGITUDE,DEPTH,CTDPRS,CTDTMP,CTDSAL,CTDSAL_FLAG_W,SALNTY,SALNTY_FLAG_W,CTDOXY,CTDOXY_FLAG_W,OXYGEN,OXYGEN_FLAG_W,SILCAT,SILCAT_FLAG_W,NITRAT,NITRAT_FLAG_W,NITRIT,NITRIT_FLAG_W,PHSPHT,PHSPHT_FLAG_W,CFC-11,CFC-11_FLAG_W,CFC-12,CFC-12_FLAG_W,CFC113,CFC113_FLAG_W,SF6,SF6_FLAG_W,TCARBN,TCARBN_FLAG_W,ALKALI,ALKALI_FLAG_W,PH_SWS,PH_SWS_FLAG_W,PH_TMP,CCL4,CCL4_FLAG_W,CTDRAW,THETA
,,,,,,,,,,,METERS,DBAR,ITS-90,PSS-78,,PSS-78,,UMOL/KG,,UMOL/KG,,UMOL/KG,,UMOL/KG,,UMOL/KG,,UMOL/KG,,PMOL/KG,,PMOL/KG,,PMOL/KG,,FMOL/KG,,UMOL/KG,,UMOL/KG,,,,DEG C,PMOL/KG,,DBAR,DEG C
77DN20050819,      AOS05,      46,          1,     283848,         36,2,20050914,       1834,    88.7607,    75.2733,       4300,     8.8,  -1.7553,  32.1110,2,  32.1124,2,    380.9,2,   382.3,2,    4.36,2,    1.64,2,    0.06,2,    0.63,2,   7.764,2,   4.029,2,   0.906,2,   1.6500,2,  2110.4,2,  2212.8,2,   7.8094,2,    15.00,-999.000,5,    8.80,  -1.7555
77DN20050819,      AOS05,      46,          1,     283847,         35,2,20050914,       1834,    88.7607,    75.2733,       4300,    20.1,  -1.7554,  32.1142,2,-999.0000,9,   -999.0,9,  -999.0,9, -999.00,9, -999.00,9, -999.00,9, -999.00,9,-999.000,9,-999.000,9,-999.000,9,-999.0000,9,  -999.0,9,  -999.0,9,-999.0000,9,  -999.00,-999.000,9,   20.10,  -1.7557
77DN20050819,      AOS05,      46,          1,     283846,         34,2,20050914,       1834,    88.7607,    75.2733,       4300,    20.1,  -1.7554,  32.1142,2,-999.0000,9,   -999.0,9,  -999.0,9, -999.00,9, -999.00,9, -999.00,9, -999.00,9,-999.000,9,-999.000,9,-999.000,9,-999.0000,9,  -999.0,9,  -999.0,9,-999.0000,9,  -999.00,-999.000,9,   20.10,  -1.7557
77DN20050819,      AOS05,      46,          1,     283845,         33,2,20050914,       1834,    88.7607,    75.2733,       4300,    20.1,  -1.7557,  32.1142,2,  32.1198,2,    381.1,2,   382.3,2,    4.38,2,    1.64,2,    0.06,2,    0.63,2,   7.766,2,   4.115,2,   0.923,2,-999.0000,9,  2106.9,2,  2213.4,2,   7.8110,6,    15.00,-999.000,5,   20.10,  -1.7560
77DN20050819,      AOS05,      46,          1,     283844,         32,2,20050914,       1834,    88.7607,    75.2733,       4300,    39.8,  -1.7523,  32.6924,2,  32.6983,2,    374.8,2,   377.1,2,    4.39,2,    2.68,2,    0.03,2,    0.58,2,   7.151,2,   3.687,2,   0.655,3,-999.0000,5,  2146.6,2,  2249.4,2,   7.7955,2,    15.00,-999.000,5,   39.80,  -1.7530
77DN20050819,      AOS05,      46,          1,     283841,         29,2,20050914,       1834,    88.7607,    75.2733,       4300,    59.9,  -1.7878,  33.0541,2,  33.0889,2,    367.5,2,   367.9,2,    4.41,2,    3.47,2,    0.01,2,    0.52,2,   7.675,2,   4.019,2,   0.886,2,-999.0000,9,  2165.9,2,  2267.0,2,   7.7940,2,    15.00,-999.000,5,   59.90,  -1.7888
77DN20050819,      AOS05,      46,          1,     283843,         31,2,20050914,       1834,    88.7607,    75.2733,       4300,    59.9,  -1.7877,  33.0450,2,-999.0000,9,   -999.0,9,  -999.0,9, -999.00,9, -999.00,9, -999.00,9, -999.00,9,-999.000,9,-999.000,9,-999.000,9,-999.0000,9,  -999.0,9,  -999.0,9,-999.0000,9,  -999.00,-999.000,9,   59.90,  -1.7888
77DN20050819,      AOS05,      46,          1,     283842,         30,2,20050914,       1834,    88.7607,    75.2733,       4300,    59.9,  -1.7876,  33.0516,2,-999.0000,9,   -999.0,9,  -999.0,9, -999.00,9, -999.00,9, -999.00,9, -999.00,9,-999.000,9,-999.000,9,-999.000,9,-999.0000,9,  -999.0,9,  -999.0,9,-999.0000,9,  -999.00,-999.000,9,   59.90,  -1.7886
77DN20050819,      AOS05,      46,          1,     283840,         28,2,20050914,       1834,    88.7607,    75.2733,       4300,    70.2,  -1.8005,  33.1751,2,  33.1976,2,    365.0,2,   366.9,2,    4.61,2,    3.71,2,    0.01,2,    0.51,2,   7.674,2,   4.038,2,   0.884,2,   1.6400,2,  2168.0,2,  2272.0,2,   7.7963,2,    15.00,-999.000,5,   70.20,  -1.8017
77DN20050819,      AOS05,      46,          1,     283839,         27,2,20050914,       1834,    88.7607,    75.2733,       4300,    84.5,  -1.6919,  33.5268,2,  33.6021,2,    347.4,2,   326.3,2,    5.95,2,    6.68,2,    0.01,2,    0.65,2,   6.719,2,   3.360,2,   0.551,3,-999.0000,9,  2166.2,2,  2263.1,2,   7.7814,2,    15.00,-999.000,5,   84.50,  -1.6935
77DN20050819,      AOS05,      46,          1,     283838,         26,2,20050914,       1834,    88.7607,    75.2733,       4300,    98.8,  -1.5690,  33.9858,2,  34.0425,2,    317.1,2,   316.9,2,    5.26,2,    7.83,2,    0.00,2,    0.66,2,   6.695,2,   3.353,2,   0.627,2,   1.3400,2,  2164.6,2,  2270.1,2,   7.7977,2,    15.00,-999.000,5,   98.80,  -1.5711
77DN20050819,      AOS05,      46,          1,     283837,         25,2,20050914,       1834,    88.7607,    75.2733,       4300,   119.1,  -1.3349,  34.1859,2,  34.2359,2,    312.1,2,   315.2,2,    4.92,2,    8.35,2,    0.00,2,    0.68,2,   6.515,2,   3.256,2,   0.604,2,-999.0000,9,  2161.5,2,  2274.0,2,   7.8134,2,    15.00,-999.000,5,  119.10,  -1.3378
77DN20050819,      AOS05,      46,          1,     283836,         24,2,20050914,       1834,    88.7607,    75.2733,       4300,   139.4,  -0.9612,  34.3346,2,  34.3537,2,    311.0,2,   312.9,2,    4.85,2,    8.86,2,    0.01,2,    0.70,2,   6.203,2,   3.126,2,   0.570,2,   1.3400,2,  2164.1,2,  2274.8,2,   7.8148,2,    15.00,-999.000,5,  139.40,  -0.9651
77DN20050819,      AOS05,      46,          1,     283835,         23,2,20050914,       1834,    88.7607,    75.2733,       4300,   159.7,  -0.6110,  34.4394,2,  34.4727,2,    308.5,2,   309.4,2,    4.78,2,    9.33,2,    0.00,2,    0.72,2,   5.926,2,   3.057,2,   0.554,2,-999.0000,9,  2158.8,2,  2278.6,2,   7.8172,2,    15.00,-999.000,5,  159.70,  -0.6160
77DN20050819,      AOS05,      46,          1,     283834,         22,2,20050914,       1834,    88.7607,    75.2733,       4300,   179.9,  -0.1525,  34.5444,2,  34.5781,2,    306.2,2,   306.8,2,    4.88,2,   10.08,2,    0.00,2,    0.76,2,   5.563,2,   2.877,2,   0.432,2,-999.0000,9,  2161.6,2,  2280.4,2,   7.8270,2,    15.00,-999.000,5,  179.90,  -0.1588
77DN20050819,      AOS05,      46,          1,     283833,         21,2,20050914,       1834,    88.7607,    75.2733,       4300,   200.2,   0.2789,  34.6470,2,  34.6587,2,    304.4,2,   304.8,2,    4.98,2,   10.55,2,    0.00,2,    0.78,2,   5.453,2,   2.818,2,   0.494,2,   1.1200,2,  2165.5,2,  2285.8,2,   7.8354,2,    15.00,-999.000,5,  200.20,   0.2710
77DN20050819,      AOS05,      46,          1,     283832,         20,2,20050914,       1834,    88.7607,    75.2733,       4300,   225.7,   0.6641,  34.7528,2,  34.7542,2,    302.0,2,   302.3,2,    4.91,2,   11.35,2,    0.00,2,    0.81,2,   5.394,2,   2.771,2,   0.414,2,-999.0000,9,  2161.2,2,  2286.5,2,   7.8485,2,    15.00,-999.000,5,  225.70,   0.6544
77DN20050819,      AOS05,      46,          1,     283831,         19,2,20050914,       1834,    88.7607,    75.2733,       4300,   251.0,   0.8852,  34.8074,2,  34.8073,2,    301.2,2,   301.8,2,    5.02,2,   11.72,2,    0.00,2,    0.83,2,   5.306,2,   2.707,2,   0.445,2,-999.0000,9,  2156.1,2,  2286.7,2,   7.8554,2,    15.00,-999.000,5,  251.00,   0.8739
77DN20050819,      AOS05,      46,          1,     283830,         18,2,20050914,       1834,    88.7607,    75.2733,       4300,   296.1,   1.0166,  34.8453,2,  34.8463,2,    301.6,2,   302.7,2,    5.04,2,   11.90,2,    0.00,2,    0.84,2,   5.135,2,   2.681,2,   0.482,2,   1.0700,2,  2158.6,2,  2290.1,2,   7.8560,2,    15.00,-999.000,5,  296.10,   1.0028
77DN20050819,      AOS05,      46,          1,     283829,         17,2,20050914,       1834,    88.7607,    75.2733,       4300,   352.2,   0.9858,  34.8512,2,  34.8507,2,    301.5,2,   304.1,2,    5.15,2,   11.84,2,    0.00,2,    0.83,2,   5.210,2,   2.689,2,   0.476,2,-999.0000,9,  2160.7,2,  2288.6,2,   7.8535,2,    15.00,-999.000,5,  352.20,   0.9692
77DN20050819,      AOS05,      46,          1,     283828,         16,2,20050914,       1834,    88.7607,    75.2733,       4300,   427.1,   0.7464,  34.8624,2,  34.8625,2,    303.1,2,   304.4,2,    4.89,2,   11.97,2,    0.00,2,    0.84,2,   5.105,2,   2.614,2,   0.441,2,   1.3500,2,  2163.3,2,  2287.9,2,   7.8460,2,    15.00,-999.000,5,  427.10,   0.7269
77DN20050819,      AOS05,      46,          1,     283827,         15,2,20050914,       1834,    88.7607,    75.2733,       4300,   502.1,   0.5464,  34.8656,2,  34.8656,2,    303.9,2,   306.2,2,    5.18,2,   12.01,2,    0.00,2,    0.85,2,   4.895,2,   2.582,2,   0.459,2,-999.0000,9,  2167.3,2,  2293.0,2,   7.8481,2,    15.00,-999.000,5,  502.10,   0.5239
77DN20050819,      AOS05,      46,          1,     283826,         14,2,20050914,       1834,    88.7607,    75.2733,       4300,   605.4,   0.2787,  34.8664,2,  34.8670,2,    303.9,2,   306.4,2,    5.20,2,   12.05,2,    0.00,2,    0.85,2,   4.837,2,   2.473,2,   0.434,2,   1.0400,2,  2172.0,2,  2292.9,2,   7.8420,6,    15.00,-999.000,5,  605.40,   0.2525
77DN20050819,      AOS05,      46,          1,     283825,         13,2,20050914,       1834,    88.7607,    75.2733,       4300,   754.8,  -0.0372,  34.8685,2,  34.8692,2,    305.2,2,   306.6,2,    5.39,2,   12.08,2,    0.00,2,    0.86,2,   4.629,2,   2.384,2,   0.420,2,   1.2700,2,  2168.4,2,  2291.1,2,   7.8380,2,    15.00,-999.000,5,  754.80,  -0.0690
77DN20050819,      AOS05,      46,          1,     283824,         12,2,20050914,       1834,    88.7607,    75.2733,       4300,   904.6,  -0.2233,  34.8751,2,  34.8772,2,    306.2,2,   306.1,2,    5.76,2,   12.25,2,    0.00,2,    0.88,2,   5.213,3,   2.347,2,   0.291,3,   1.1600,2,  2170.9,2,  2292.2,2,   7.8309,2,    15.00,-999.000,5,  904.60,  -0.2612
77DN20050819,      AOS05,      46,          1,     283823,         11,2,20050914,       1834,    88.7607,    75.2733,       4300,  1157.3,  -0.3845,  34.8922,2,  34.8932,2,    305.1,2,   305.3,2,    6.76,2,   12.81,2,    0.00,2,    0.91,2,   3.769,2,   1.942,2,   0.248,3,-999.0000,5,  2168.2,2,  2290.9,2,   7.8332,2,    15.00,-999.000,5, 1157.30,  -0.4342
77DN20050819,      AOS05,      46,          1,     283822,         10,2,20050914,       1834,    88.7607,    75.2733,       4300,  1407.2,  -0.4871,  34.9081,2,  34.9098,2,    301.5,2,   302.0,2,    8.03,2,   13.56,2,    0.00,2,    0.96,2,   2.052,2,   1.031,2,   0.032,3,   0.3100,2,  2170.9,2,  2291.7,2,   7.8461,2,    15.00,-999.000,5, 1407.20,  -0.5494
77DN20050819,      AOS05,      46,          1,     283821,          9,2,20050914,       1834,    88.7607,    75.2733,       4300,  1660.5,  -0.5879,  34.9165,2,  34.9176,2,    298.8,2,   299.9,2,    9.04,2,   14.07,2,    0.00,2,    0.99,2,   1.239,2,   0.643,2,   0.036,3,   0.0000,2,  2165.2,2,  2291.9,2,   7.8519,2,    15.00,-999.000,5, 1660.50,  -0.6638
77DN20050819,      AOS05,      46,          1,     283820,          8,2,20050914,       1834,    88.7607,    75.2733,       4300,  1910.5,  -0.6420,  34.9228,2,  34.9228,2,    297.5,2,   298.6,2,    9.86,2,   14.28,2,    0.00,2,    1.01,2,   0.712,2,   0.411,2,   0.000,3,-999.0000,9,  2164.4,2,  2290.7,2,   7.8580,2,    15.00,-999.000,5, 1910.50,  -0.7327
77DN20050819,      AOS05,      46,          1,     283819,          7,2,20050914,       1834,    88.7607,    75.2733,       4300,  2214.6,  -0.7294,  34.9222,2,  34.9231,2,    298.3,2,   299.6,2,   10.05,2,   14.51,2,    0.00,2,    1.01,2,   0.529,2,   0.294,2,   0.000,3,-999.0000,9,  2161.6,2,  2291.3,2,   7.8591,2,    15.00,-999.000,5, 2214.60,  -0.8389
77DN20050819,      AOS05,      46,          1,     283818,          6,2,20050914,       1834,    88.7607,    75.2733,       4300,  2615.8,  -0.7602,  34.9274,2,  34.9281,2,    298.5,2,   300.1,2,   10.34,2,   14.59,2,    0.00,2,    1.01,2,   0.305,2,   0.237,2,   0.000,3,-999.0000,9,  2158.9,2,  2292.6,2,   7.8616,2,    15.00,-999.000,5, 2615.80,  -0.8978
77DN20050819,      AOS05,      46,          1,     283817,          5,2,20050914,       1834,    88.7607,    75.2733,       4300,  3021.6,  -0.7564,  34.9331,2,  34.9332,2,    297.9,2,   299.0,2,   10.45,2,   14.62,2,    0.00,2,    1.01,2,   0.158,2,   0.120,2,   0.000,3,-999.0000,9,  2153.6,2,  2294.7,2,   7.8701,2,    15.00,-999.000,5, 3021.60,  -0.9258
77DN20050819,      AOS05,      46,          1,     283816,          4,2,20050914,       1834,    88.7607,    75.2733,       4300,  3428.5,  -0.7349,  34.9381,2,  34.9387,2,    297.7,2,   298.7,2,   10.56,2,   14.61,2,    0.00,2,    1.01,2,   0.130,2,   0.073,2,   0.000,3,-999.0000,9,  2154.8,2,  2293.1,2,   7.8739,2,    15.00,-999.000,5, 3428.50,  -0.9391
77DN20050819,      AOS05,      46,          1,     283815,          3,2,20050914,       1834,    88.7607,    75.2733,       4300,  3835.9,  -0.7035,  34.9420,2,  34.9427,2,    297.9,2,   299.8,3,   10.58,2,   14.55,2,    0.00,2,    1.01,2,   0.098,2,   0.090,2,   0.000,3,-999.0000,9,  2152.0,2,  2294.9,2,   7.8763,2,    15.00,-999.000,5, 3835.90,  -0.9455
77DN20050819,      AOS05,      46,          1,     283814,          2,2,20050914,       1834,    88.7607,    75.2733,       4300,  4139.4,  -0.6684,  34.9437,2,  34.9446,2,    297.5,2,   298.5,2,   10.59,2,   14.48,2,    0.00,2,    1.01,2,   0.087,2,   0.096,2,   0.000,3,-999.0000,9,  2152.0,2,  2293.5,2,   7.8761,2,    15.00,-999.000,5, 4139.40,  -0.9405
77DN20050819,      AOS05,      46,          1,     283813,          1,2,20050914,       1834,    88.7607,    75.2733,       4300,  4447.4,  -0.6361,  34.9435,2,  34.9452,2,    297.3,2,   298.3,2,   10.52,2,   14.51,2,    0.00,2,    1.01,2,   0.095,2,   0.070,2,   0.000,3,-999.0000,9,  2160.9,2,  2295.1,2,   7.8795,2,    15.00,-999.000,5, 4447.40,  -0.9402