BOTTLE,20211025CCHSIORKP
EXPOCODE,SECT_ID,STNNBR,CASTNO,SAMPNO,BTLNBR,BTLNBR_FLAG_W,DATE,TIME,LATITUDE,LONGITUDE,DEPTH,CTDPRS,CTDTMP,CTDSAL,CTDSAL_FLAG_W,SALNTY,SALNTY_FLAG_W,CTDOXY,CTDOXY_FLAG_W,OXYGEN,OXYGEN_FLAG_W,SILCAT,SILCAT_FLAG_W,NITRAT,NITRAT_FLAG_W,NITRIT,NITRIT_FLAG_W,PHSPHT,PHSPHT_FLAG_W,CFC-11,CFC-11_FLAG_W,CFC-12,CFC-12_FLAG_W,CFC113,CFC113_FLAG_W,SF6,SF6_FLAG_W,TCARBN,TCARBN_FLAG_W,ALKALI,ALKALI_FLAG_W,PH_SWS,PH_SWS_FLAG_W,PH_TMP,CCL4,CCL4_FLAG_W,CTDRAW,THETA
,,,,,,,,,,,METERS,DBAR,ITS-90,PSS-78,,PSS-78,,UMOL/KG,,UMOL/KG,,UMOL/KG,,UMOL/KG,,UMOL/KG,,UMOL/KG,,PMOL/KG,,PMOL/KG,,PMOL/KG,,FMOL/KG,,UMOL/KG,,UMOL/KG,,,,DEG C,PMOL/KG,,DBAR,DEG C
77DN20050819,      AOS05,      29,          1,     283324,         28,2,20050905,       2219,    86.6795,   154.5087,       1540,     9.4,  -1.7314,  31.8370,2,-999.0000,9,   -999.0,9,  -999.0,9, -999.00,9, -999.00,9, -999.00,9, -999.00,9,-999.000,9,-999.000,9,-999.000,9,-999.0000,9,  -999.0,9,  -999.0,9,-999.0000,9,  -999.00,-999.000,9,    9.40,  -1.7315
77DN20050819,      AOS05,      29,          1,     283327,         31,2,20050905,       2219,    86.6795,   154.5087,       1540,     9.4,  -1.7320,  31.8319,2,  31.8335,2,    389.5,2,   391.0,2,    3.32,2,    1.25,2,    0.05,2,    0.32,2,-999.000,9,-999.000,9,-999.000,9,-999.0000,9,  2077.9,2,  2202.3,2,   7.8627,2,    15.00,-999.000,9,    9.40,  -1.7321
77DN20050819,      AOS05,      29,          1,     283326,         30,2,20050905,       2219,    86.6795,   154.5087,       1540,     9.4,  -1.7302,  31.8311,2,-999.0000,9,   -999.0,9,  -999.0,9, -999.00,9, -999.00,9, -999.00,9, -999.00,9,-999.000,9,-999.000,9,-999.000,9,-999.0000,9,  -999.0,9,  -999.0,9,-999.0000,9,  -999.00,-999.000,9,    9.40,  -1.7304
77DN20050819,      AOS05,      29,          1,     283325,         29,2,20050905,       2219,    86.6795,   154.5087,       1540,     9.4,  -1.7320,  31.8318,2,-999.0000,9,   -999.0,9,  -999.0,9, -999.00,9, -999.00,9, -999.00,9, -999.00,9,-999.000,9,-999.000,9,-999.000,9,-999.0000,9,  -999.0,9,  -999.0,9,-999.0000,9,  -999.00,-999.000,9,    9.40,  -1.7322
77DN20050819,      AOS05,      29,          1,     283318,         22,2,20050905,       2219,    86.6795,   154.5087,       1540,    28.2,  -1.7458,  32.6905,2,-999.0000,9,   -999.0,9,  -999.0,9, -999.00,9, -999.00,9, -999.00,9, -999.00,9,-999.000,9,-999.000,9,-999.000,9,-999.0000,9,  -999.0,9,  -999.0,9,-999.0000,9,  -999.00,-999.000,9,   28.20,  -1.7463
77DN20050819,      AOS05,      29,          1,     283320,         24,2,20050905,       2219,    86.6795,   154.5087,       1540,    28.2,  -1.7149,  32.4992,2,-999.0000,9,   -999.0,9,  -999.0,9, -999.00,9, -999.00,9, -999.00,9, -999.00,9,-999.000,9,-999.000,9,-999.000,9,-999.0000,9,  -999.0,9,  -999.0,9,-999.0000,9,  -999.00,-999.000,9,   28.20,  -1.7154
77DN20050819,      AOS05,      29,          1,     283319,         23,2,20050905,       2219,    86.6795,   154.5087,       1540,    28.2,  -1.7141,  32.5028,2,-999.0000,9,   -999.0,9,  -999.0,9, -999.00,9, -999.00,9, -999.00,9, -999.00,9,-999.000,9,-999.000,9,-999.000,9,-999.0000,9,  -999.0,9,  -999.0,9,-999.0000,9,  -999.00,-999.000,9,   28.20,  -1.7146
77DN20050819,      AOS05,      29,          1,     283323,         27,2,20050905,       2219,    86.6795,   154.5087,       1540,    28.2,  -1.7134,  32.4547,2,  32.2559,2,    385.8,2,   381.9,2,    3.07,2,    2.03,2,    0.07,2,    0.35,2,-999.000,9,-999.000,9,-999.000,9,-999.0000,9,  2107.8,2,  2230.1,2,   7.8422,2,    15.00,-999.000,9,   28.20,  -1.7139
77DN20050819,      AOS05,      29,          1,     283322,         26,2,20050905,       2219,    86.6795,   154.5087,       1540,    28.2,  -1.7324,  32.4074,2,-999.0000,9,   -999.0,9,  -999.0,9, -999.00,9, -999.00,9, -999.00,9, -999.00,9,-999.000,9,-999.000,9,-999.000,9,-999.0000,9,  -999.0,9,  -999.0,9,-999.0000,9,  -999.00,-999.000,9,   28.20,  -1.7329
77DN20050819,      AOS05,      29,          1,     283321,         25,2,20050905,       2219,    86.6795,   154.5087,       1540,    28.2,  -1.7279,  32.5055,2,-999.0000,9,   -999.0,9,  -999.0,9, -999.00,9, -999.00,9, -999.00,9, -999.00,9,-999.000,9,-999.000,9,-999.000,9,-999.0000,9,  -999.0,9,  -999.0,9,-999.0000,9,  -999.00,-999.000,9,   28.20,  -1.7284
77DN20050819,      AOS05,      29,          1,     283316,         20,2,20050905,       2219,    86.6795,   154.5087,       1540,    48.4,  -1.7878,  32.9726,2,  32.9549,2,   -999.0,9,  -999.0,9, -999.00,9, -999.00,9, -999.00,9, -999.00,9,-999.000,9,-999.000,9,-999.000,9,-999.0000,9,  -999.0,9,  -999.0,9,-999.0000,9,  -999.00,-999.000,9,   48.40,  -1.7886
77DN20050819,      AOS05,      29,          1,     283317,         21,2,20050905,       2219,    86.6795,   154.5087,       1540,    48.4,  -1.7884,  32.9216,2,  32.9484,2,    373.8,2,   374.5,2,    3.28,2,    3.20,2,    0.01,2,    0.42,2,-999.000,9,-999.000,9,-999.000,9,-999.0000,9,  2147.1,2,  2261.2,2,   7.8206,2,    15.00,-999.000,9,   48.40,  -1.7892
77DN20050819,      AOS05,      29,          1,     283315,         19,2,20050905,       2219,    86.6795,   154.5087,       1540,    63.7,  -1.7607,  33.2086,2,  33.2473,2,    358.5,2,   343.8,2,    5.37,2,    5.33,2,    0.01,2,    0.57,2,-999.000,9,-999.000,9,-999.000,9,-999.0000,9,  2169.3,2,  2268.9,2,   7.7783,2,    15.00,-999.000,9,   63.70,  -1.7618
77DN20050819,      AOS05,      29,          1,     283314,         18,2,20050905,       2219,    86.6795,   154.5087,       1540,    63.7,  -1.7588,  33.2149,2,-999.0000,9,   -999.0,9,  -999.0,9, -999.00,9, -999.00,9, -999.00,9, -999.00,9,-999.000,9,-999.000,9,-999.000,9,-999.0000,9,  -999.0,9,  -999.0,9,-999.0000,9,  -999.00,-999.000,9,   63.70,  -1.7599
77DN20050819,      AOS05,      29,          1,     283313,         17,2,20050905,       2219,    86.6795,   154.5087,       1540,    63.7,  -1.7569,  33.2239,2,-999.0000,9,   -999.0,9,  -999.0,9, -999.00,9, -999.00,9, -999.00,9, -999.00,9,-999.000,9,-999.000,9,-999.000,9,-999.0000,9,  -999.0,9,  -999.0,9,-999.0000,9,  -999.00,-999.000,9,   63.70,  -1.7581
77DN20050819,      AOS05,      29,          1,     283312,         16,2,20050905,       2219,    86.6795,   154.5087,       1540,    63.7,  -1.7589,  33.2129,2,-999.0000,9,   -999.0,9,  -999.0,9, -999.00,9, -999.00,9, -999.00,9, -999.00,9,-999.000,9,-999.000,9,-999.000,9,-999.0000,9,  -999.0,9,  -999.0,9,-999.0000,9,  -999.00,-999.000,9,   63.70,  -1.7600
77DN20050819,      AOS05,      29,          1,     283311,         15,2,20050905,       2219,    86.6795,   154.5087,       1540,    74.0,  -1.6659,  33.6425,2,  33.6981,2,    329.0,2,   320.2,2,    5.76,2,    7.54,2,    0.01,2,    0.65,2,-999.000,9,-999.000,9,-999.000,9,-999.0000,9,  2167.7,2,  2267.7,2,   7.7814,2,    15.00,-999.000,9,   74.00,  -1.6673
77DN20050819,      AOS05,      29,          1,     283310,         14,2,20050905,       2219,    86.6795,   154.5087,       1540,    84.3,  -1.5967,  33.9014,2,  33.9384,2,    316.4,2,   316.5,2,    5.51,2,    8.20,2,    0.00,2,    0.66,2,-999.000,9,-999.000,9,-999.000,9,-999.0000,9,  2167.9,2,  2270.0,2,   7.7957,2,    15.00,-999.000,9,   84.30,  -1.5985
77DN20050819,      AOS05,      29,          1,     283309,         13,2,20050905,       2219,    86.6795,   154.5087,       1540,    99.7,  -1.4449,  34.0989,2,-999.0000,9,   -999.0,9,  -999.0,9, -999.00,9, -999.00,9, -999.00,9, -999.00,9,-999.000,9,-999.000,9,-999.000,9,-999.0000,9,  -999.0,9,  -999.0,9,-999.0000,9,  -999.00,-999.000,9,   99.70,  -1.4471
77DN20050819,      AOS05,      29,          1,     283308,         12,2,20050905,       2219,    86.6795,   154.5087,       1540,    99.7,  -1.4466,  34.0985,2,  34.1366,2,    310.4,2,   313.0,2,    5.08,2,    8.87,2,    0.00,2,    0.69,2,-999.000,9,-999.000,9,-999.000,9,-999.0000,9,  2157.8,2,  2277.0,2,   7.8150,6,    15.00,-999.000,9,   99.70,  -1.4488
77DN20050819,      AOS05,      29,          1,     283307,         11,2,20050905,       2219,    86.6795,   154.5087,       1540,   119.9,  -0.9385,  34.2708,2,  34.3059,2,    306.7,2,   307.6,2,    5.11,2,    9.72,2,    0.00,2,    0.72,2,-999.000,9,-999.000,9,-999.000,9,-999.0000,9,  2158.5,2,  2273.6,2,   7.8258,2,    15.00,-999.000,9,  119.90,  -0.9419
77DN20050819,      AOS05,      29,          1,     283306,         10,2,20050905,       2219,    86.6795,   154.5087,       1540,   140.2,  -0.5489,  34.3666,2,  34.4023,2,    301.5,2,   302.7,2,    5.85,2,   10.37,2,    0.00,2,    0.76,2,-999.000,9,-999.000,9,-999.000,9,-999.0000,9,  2162.3,2,  2277.2,2,   7.8261,2,    15.00,-999.000,9,  140.20,  -0.5533
77DN20050819,      AOS05,      29,          1,     283305,          9,2,20050905,       2219,    86.6795,   154.5087,       1540,   160.5,  -0.1812,  34.4870,2,  34.5209,2,    297.3,2,   297.1,2,    5.87,2,   11.16,2,    0.00,2,    0.79,2,-999.000,9,-999.000,9,-999.000,9,-999.0000,9,  2156.9,2,  2277.5,2,   7.8303,2,    15.00,-999.000,9,  160.50,  -0.1868
77DN20050819,      AOS05,      29,          1,     283304,          8,2,20050905,       2219,    86.6795,   154.5087,       1540,   180.7,   0.2635,  34.5991,2,  34.6314,2,    293.3,2,   294.8,2,    5.99,2,   11.76,2,    0.00,2,    0.82,2,-999.000,9,-999.000,9,-999.000,9,-999.0000,9,  2163.8,2,  2286.9,2,   7.8419,2,    15.00,-999.000,9,  180.70,   0.2564
77DN20050819,      AOS05,      29,          1,     283303,          7,2,20050905,       2219,    86.6795,   154.5087,       1540,   201.0,   0.5363,  34.6856,2,  34.6978,2,    292.4,2,   293.7,2,    6.02,2,   12.14,2,    0.00,2,    0.84,2,-999.000,9,-999.000,9,-999.000,9,-999.0000,9,  2158.0,2,  2289.6,2,   7.8514,2,    15.00,-999.000,9,  201.00,   0.5279
77DN20050819,      AOS05,      29,          1,     283302,          6,2,20050905,       2219,    86.6795,   154.5087,       1540,   231.4,   0.8417,  34.7959,2,  34.7971,2,    294.8,2,   295.3,2,    5.86,2,   12.51,2,    0.00,2,    0.86,2,-999.000,9,-999.000,9,-999.000,9,-999.0000,9,  2158.1,2,  2290.9,2,   7.8622,2,    15.00,-999.000,9,  231.40,   0.8314
77DN20050819,      AOS05,      29,          1,     283300,          4,2,20050905,       2219,    86.6795,   154.5087,       1540,   269.5,   0.9663,  34.8459,2,-999.0000,9,   -999.0,9,  -999.0,9, -999.00,9, -999.00,9, -999.00,9, -999.00,9,-999.000,9,-999.000,9,-999.000,9,-999.0000,9,  -999.0,9,  -999.0,9,-999.0000,9,  -999.00,-999.000,9,  269.50,   0.9539
77DN20050819,      AOS05,      29,          1,     283301,          5,2,20050905,       2219,    86.6795,   154.5087,       1540,   269.5,   0.9668,  34.8460,2,-999.0000,9,   -999.0,9,  -999.0,9, -999.00,9, -999.00,9, -999.00,9, -999.00,9,-999.000,9,-999.000,9,-999.000,9,-999.0000,9,  -999.0,9,  -999.0,9,-999.0000,9,  -999.00,-999.000,9,  269.50,   0.9544
77DN20050819,      AOS05,      29,          1,     283299,          3,2,20050905,       2219,    86.6795,   154.5087,       1540,   269.5,   0.9657,  34.8459,2,  34.8469,2,    296.7,2,   298.3,2,    5.79,2,   12.79,2,    0.00,2,    0.85,2,-999.000,9,-999.000,9,-999.000,9,-999.0000,9,  2152.5,2,  2295.6,2,   7.8697,2,    15.00,-999.000,9,  269.50,   0.9533
77DN20050819,      AOS05,      29,          1,     283298,          2,2,20050905,       2219,    86.6795,   154.5087,       1540,   358.9,   0.8425,  34.8644,2,  34.8648,2,    299.6,2,   299.8,2,    5.72,2,   12.73,2,    0.00,2,    0.87,2,-999.000,9,-999.000,9,-999.000,9,-999.0000,9,  2157.4,2,  2292.9,2,   7.8659,2,    15.00,-999.000,9,  358.90,   0.8261
77DN20050819,      AOS05,      29,          1,     283297,          1,2,20050905,       2219,    86.6795,   154.5087,       1540,   448.6,   0.5906,  34.8648,2,  34.8642,2,    296.8,2,   298.0,2,    6.20,2,   12.96,2,    0.00,2,    0.88,2,-999.000,9,-999.000,9,-999.000,9,-999.0000,9,  2155.5,2,  2295.5,2,   7.8647,2,    15.00,-999.000,9,  448.60,   0.5706