BOTTLE,20211025CCHSIORKP
EXPOCODE,SECT_ID,STNNBR,CASTNO,SAMPNO,BTLNBR,BTLNBR_FLAG_W,DATE,TIME,LATITUDE,LONGITUDE,DEPTH,CTDPRS,CTDTMP,CTDSAL,CTDSAL_FLAG_W,SALNTY,SALNTY_FLAG_W,CTDOXY,CTDOXY_FLAG_W,OXYGEN,OXYGEN_FLAG_W,SILCAT,SILCAT_FLAG_W,NITRAT,NITRAT_FLAG_W,NITRIT,NITRIT_FLAG_W,PHSPHT,PHSPHT_FLAG_W,CFC-11,CFC-11_FLAG_W,CFC-12,CFC-12_FLAG_W,CFC113,CFC113_FLAG_W,SF6,SF6_FLAG_W,TCARBN,TCARBN_FLAG_W,ALKALI,ALKALI_FLAG_W,PH_SWS,PH_SWS_FLAG_W,PH_TMP,CCL4,CCL4_FLAG_W,CTDRAW,THETA
,,,,,,,,,,,METERS,DBAR,ITS-90,PSS-78,,PSS-78,,UMOL/KG,,UMOL/KG,,UMOL/KG,,UMOL/KG,,UMOL/KG,,UMOL/KG,,PMOL/KG,,PMOL/KG,,PMOL/KG,,FMOL/KG,,UMOL/KG,,UMOL/KG,,,,DEG C,PMOL/KG,,DBAR,DEG C
77DN20050819,      AOS05,      42,          1,     283739,         36,2,20050912,       0133,    89.4687,   166.7190,       4206,     9.5,  -1.6938,  31.0846,2,  31.0942,2,    392.0,2,   393.2,2,    5.06,2,    0.38,2,    0.03,2,    0.85,2,   6.934,2,   3.728,2,   0.787,2,   1.9000,2,  2053.2,2,  2154.0,2,   7.8190,2,    15.00,-999.000,5,    9.50,  -1.6939
77DN20050819,      AOS05,      42,          1,     283738,         35,2,20050912,       0133,    89.4687,   166.7190,       4206,    20.5,  -1.6960,  31.1250,2,  31.1242,2,    392.3,2,   393.8,2,    4.88,2,    0.38,2,    0.03,2,    0.85,2,   6.928,2,   3.794,2,   0.808,2,-999.0000,9,  2058.0,2,  2156.0,2,   7.8218,2,    15.00,-999.000,5,   20.50,  -1.6963
77DN20050819,      AOS05,      42,          1,     283737,         34,2,20050912,       0133,    89.4687,   166.7190,       4206,    35.6,  -1.7005,  31.2886,2,  31.2944,2,    394.6,2,   398.1,2,    3.45,2,    0.34,2,    0.02,2,    0.78,2,   6.891,2,   3.669,2,   0.802,2,-999.0000,9,  2061.0,2,  2166.3,2,   7.8297,2,    15.00,-999.000,5,   35.60,  -1.7010
77DN20050819,      AOS05,      42,          1,     283736,         33,2,20050912,       0133,    89.4687,   166.7190,       4206,    59.6,  -1.7135,  33.0132,2,  33.0232,2,    350.0,2,   342.3,2,    6.58,2,    5.38,2,    0.02,2,    0.66,2,   6.531,2,   3.471,2,   0.659,2,   1.5300,2,  2159.6,2,  2251.3,2,   7.7752,2,    15.00,-999.000,5,   59.60,  -1.7145
77DN20050819,      AOS05,      42,          1,     283735,         32,2,20050912,       0133,    89.4687,   166.7190,       4206,    79.8,  -1.6131,  33.8794,2,  33.8928,2,    318.7,2,   318.7,2,    5.41,2,    7.55,2,    0.01,2,    0.67,2,   5.914,2,   3.122,2,   0.542,2,-999.0000,5,  2168.1,2,  2267.0,2,   7.7885,2,    15.00,-999.000,5,   79.80,  -1.6147
77DN20050819,      AOS05,      42,          1,     283734,         31,2,20050912,       0133,    89.4687,   166.7190,       4206,    99.1,  -1.4539,  34.1295,2,  34.1622,2,    313.6,2,   315.7,2,    5.13,2,    8.15,2,    0.01,2,    0.68,2,   5.705,2,   2.980,2,   0.511,2,-999.0000,9,  2171.1,2,  2274.9,2,   7.8069,2,    15.00,-999.000,5,   99.10,  -1.4562
77DN20050819,      AOS05,      42,          1,     283733,         30,2,20050912,       0133,    89.4687,   166.7190,       4206,   119.4,  -1.0997,  34.2999,2,  34.3167,2,    312.5,2,   313.8,2,    4.87,2,    8.70,2,    0.00,2,    0.70,2,   5.765,2,   3.045,2,   0.512,2,-999.0000,9,  2167.4,2,  2278.4,2,   7.8155,2,    15.00,-999.000,5,  119.40,  -1.1029
77DN20050819,      AOS05,      42,          1,     283732,         29,2,20050912,       0133,    89.4687,   166.7190,       4206,   139.7,  -0.8744,  34.3975,2,  34.4180,2,    311.0,2,   313.4,2,    4.60,2,    9.00,2,    0.00,2,    0.70,2,   5.748,2,   3.190,2,   0.489,2,-999.0000,9,  2171.0,2,  2279.4,2,   7.8205,2,    15.00,-999.000,5,  139.70,  -0.8783
77DN20050819,      AOS05,      42,          1,     283731,         28,2,20050912,       0133,    89.4687,   166.7190,       4206,   160.0,  -0.4266,  34.5195,2,  34.5440,2,    310.7,2,   312.5,2,    4.24,2,    9.55,2,    0.00,2,    0.72,2,   5.764,2,   2.978,2,   0.504,2,-999.0000,9,  2166.9,2,  2281.5,2,   7.8308,2,    15.00,-999.000,5,  160.00,  -0.4318
77DN20050819,      AOS05,      42,          1,     283730,         27,2,20050912,       0133,    89.4687,   166.7190,       4206,   180.3,  -0.0025,  34.6178,2,  34.6318,2,    308.5,2,   308.3,2,    4.52,2,   10.25,2,    0.00,2,    0.76,2,   5.717,2,   2.867,2,   0.520,2,-999.0000,9,  2170.9,2,  2285.9,2,   7.8374,2,    15.00,-999.000,5,  180.30,  -9.0002
77DN20050819,      AOS05,      42,          1,     283729,         26,2,20050912,       0133,    89.4687,   166.7190,       4206,   200.6,   0.3894,  34.7069,2,  34.7290,2,    306.0,2,   304.7,2,    4.78,2,   11.05,2,    0.00,2,    0.79,2,   5.516,2,   2.741,2,   0.465,2,-999.0000,5,  2168.0,2,  2287.5,2,   7.8482,2,    15.00,-999.000,5,  200.60,   0.3813
77DN20050819,      AOS05,      42,          1,     283728,         25,2,20050912,       0133,    89.4687,   166.7190,       4206,   230.8,   0.8256,  34.8052,2,  34.8058,2,    302.8,2,   303.4,2,    4.96,2,   11.66,2,    0.00,2,    0.82,2,   5.201,2,   2.662,2,   0.455,2,   2.2700,2,  2161.7,2,  2291.6,2,   7.8583,2,    15.00,-999.000,5,  230.80,   0.8153
77DN20050819,      AOS05,      42,          1,     283727,         24,2,20050912,       0133,    89.4687,   166.7190,       4206,   266.1,   0.9441,  34.8342,2,  34.8381,2,    303.4,2,   303.8,2,    4.88,2,   11.84,2,    0.00,2,    0.84,2,   5.211,2,   2.637,2,   0.467,2,   1.2600,2,  2166.7,2,  2293.0,2,   7.8567,2,    15.00,-999.000,5,  266.10,   0.9319
77DN20050819,      AOS05,      42,          1,     283726,         23,2,20050912,       0133,    89.4687,   166.7190,       4206,   330.7,   0.8848,  34.8492,2,  34.8535,2,    305.2,2,   306.2,2,    5.05,2,   11.84,2,    0.00,2,    0.84,2,   5.251,2,   2.613,2,   0.453,2,-999.0000,9,  2168.7,2,  2295.8,2,   7.8585,2,    15.00,-999.000,5,  330.70,   0.8696
77DN20050819,      AOS05,      42,          1,     283725,         22,2,20050912,       0133,    89.4687,   166.7190,       4206,   403.3,   0.6949,  34.8604,2,  34.8612,2,    305.3,2,   306.9,2,    5.05,2,   11.89,2,    0.00,2,    0.84,2,   4.964,2,   2.554,2,   0.425,2,-999.0000,9,  2173.2,2,  2294.1,2,   7.8541,2,    15.00,-999.000,5,  403.30,   0.6768
77DN20050819,      AOS05,      42,          1,     283724,         21,2,20050912,       0133,    89.4687,   166.7190,       4206,   497.7,   0.4363,  34.8670,2,  34.8681,2,    305.4,2,   307.1,2,    5.14,2,   12.04,2,    0.00,2,    0.86,2,   5.019,2,   2.618,2,   0.421,2,-999.0000,9,  2169.9,2,  2293.2,2,   7.8488,2,    15.00,-999.000,5,  497.70,   0.4145
77DN20050819,      AOS05,      42,          1,     283723,         20,2,20050912,       0133,    89.4687,   166.7190,       4206,   595.8,   0.1728,  34.8663,2,  34.8673,2,    306.0,2,   307.5,2,    5.59,2,   12.09,2,    0.00,2,    0.87,2,   5.280,2,   2.608,2,   0.460,2,-999.0000,5,  2174.2,2,  2294.6,2,   7.8411,2,    15.00,-999.000,5,  595.80,   0.1475
77DN20050819,      AOS05,      42,          1,     283722,         19,2,20050912,       0133,    89.4687,   166.7190,       4206,   794.4,  -0.1872,  34.8695,2,  34.8705,2,    307.1,2,   308.1,2,    5.86,2,   12.14,2,    0.00,2,    0.87,2,   4.756,2,   2.504,2,   0.421,2,   1.2900,2,  2181.5,2,  2293.8,2,   7.8306,2,    15.00,-999.000,5,  794.40,  -0.2199
77DN20050819,      AOS05,      42,          1,     283721,         18,2,20050912,       0133,    89.4687,   166.7190,       4206,   993.5,  -0.3507,  34.8825,2,  34.8827,2,    307.3,2,   307.2,2,    6.66,2,   12.48,2,    0.00,2,    0.90,2,   4.371,2,   2.230,2,   0.356,2,   0.6200,2,  2182.6,2,  2294.3,2,   7.8285,2,    15.00,-999.000,5,  993.50,  -0.3921
77DN20050819,      AOS05,      42,          1,     283720,         17,2,20050912,       0133,    89.4687,   166.7190,       4206,  1195.9,  -0.4600,  34.8942,2,  34.8936,2,    305.4,2,   306.1,2,    7.11,2,   12.83,2,    0.00,2,    0.93,2,   3.826,2,   1.935,2,   0.310,2,   0.7000,2,  2177.3,2,  2294.3,2,   7.8290,2,    15.00,-999.000,5, 1195.90,  -0.5109
77DN20050819,      AOS05,      42,          1,     283719,         16,2,20050912,       0133,    89.4687,   166.7190,       4206,  1395.5,  -0.5304,  34.9056,2,  34.9066,2,    302.7,2,   303.0,2,    8.10,2,   13.49,2,    0.00,2,    0.99,2,   2.651,2,   1.331,2,   0.194,2,   0.0000,2,  2174.0,2,  2296.8,2,   7.8426,2,    15.00,-999.000,5, 1395.50,  -0.5916
77DN20050819,      AOS05,      42,          1,     283718,         15,2,20050912,       0133,    89.4687,   166.7190,       4206,  1598.8,  -0.5933,  34.9141,2,  34.9149,2,    299.8,2,   300.8,2,    9.36,2,   14.03,2,    0.00,2,    1.00,2,   1.583,2,   0.824,2,   0.098,2,-999.0000,9,  2171.5,2,  2295.0,2,   7.8505,2,    15.00,-999.000,5, 1598.80,  -0.6654
77DN20050819,      AOS05,      42,          1,     283717,         14,2,20050912,       0133,    89.4687,   166.7190,       4206,  1847.9,  -0.6402,  34.9213,2,  34.9216,2,    297.2,2,   298.1,2,   10.26,2,   14.43,2,    0.00,2,    1.02,2,   0.930,2,   0.470,2,   0.033,2,-999.0000,9,  2163.0,2,  2297.0,2,   7.8541,2,    15.00,-999.000,5, 1847.90,  -0.7270
77DN20050819,      AOS05,      42,          1,     283716,         13,2,20050912,       0133,    89.4687,   166.7190,       4206,  2182.0,  -0.7338,  34.9220,2,  34.9220,2,    298.0,2,   299.4,2,   10.45,2,   14.58,2,    0.00,2,    1.02,2,   0.596,2,   0.324,2,   0.000,2,-999.0000,9,  2164.9,2,  2295.9,2,   7.8586,2,    15.00,-999.000,5, 2182.00,  -0.8409
77DN20050819,      AOS05,      42,          1,     283715,         12,2,20050912,       0133,    89.4687,   166.7190,       4206,  2383.2,  -0.7548,  34.9245,2,  34.9248,2,    298.1,2,   299.3,2,   10.53,2,   14.63,2,    0.00,2,    1.03,2,   0.453,2,   0.243,2,   0.000,2,-999.0000,9,  2164.3,2,  2295.3,2,   7.8619,2,    15.00,-999.000,5, 2383.20,  -0.8756
77DN20050819,      AOS05,      42,          1,     283714,         11,2,20050912,       0133,    89.4687,   166.7190,       4206,  2788.3,  -0.7649,  34.9306,2,  34.9303,2,    298.4,2,   299.4,2,   10.90,2,   14.68,2,    0.00,2,    1.03,2,   0.217,2,   0.142,2,   0.000,2,-999.0000,9,  2168.2,2,  2295.4,2,   7.8692,2,    15.00,-999.000,5, 2788.30,  -0.9155
77DN20050819,      AOS05,      42,          1,     283713,         10,2,20050912,       0133,    89.4687,   166.7190,       4206,  3194.7,  -0.7480,  34.9360,2,  34.9361,2,    297.4,2,   298.6,2,   10.90,2,   14.67,2,    0.00,2,    1.03,2,   0.125,2,   0.078,2,   0.000,2,-999.0000,9,  2162.1,2,  2297.8,2,   7.8734,2,    15.00,-999.000,5, 3194.70,  -0.9319
77DN20050819,      AOS05,      42,          1,     283712,          9,2,20050912,       0133,    89.4687,   166.7190,       4206,  3598.6,  -0.7238,  34.9406,2,  34.9406,2,    297.3,2,   298.2,2,   10.72,2,   14.56,2,    0.00,2,    1.03,2,   0.098,2,   0.068,2,   0.000,2,-999.0000,9,  2168.9,2,  2299.3,2,   7.8747,2,    15.00,-999.000,5, 3598.60,  -0.9434
77DN20050819,      AOS05,      42,          1,     283711,          8,2,20050912,       0133,    89.4687,   166.7190,       4206,  3805.2,  -0.7060,  34.9426,2,  34.9428,2,    297.4,2,   298.5,2,   10.81,2,   14.51,2,    0.00,2,    1.03,2,   0.093,2,   0.059,2,   0.000,2,-999.0000,9,  2161.6,2,  2297.4,2,   7.8755,2,    15.00,-999.000,5, 3805.20,  -0.9451
77DN20050819,      AOS05,      42,          1,     283710,          7,2,20050912,       0133,    89.4687,   166.7190,       4206,  3957.5,  -0.6868,  34.9440,2,  34.9452,2,    297.2,2,   299.3,2,   10.72,2,   14.51,2,    0.00,2,    1.02,2,   0.087,2,   0.070,2,   0.000,2,-999.0000,9,  2163.9,2,  2298.7,2,   7.8797,2,    15.00,-999.000,5, 3957.50,  -0.9408
77DN20050819,      AOS05,      42,          1,     283705,          2,2,20050912,       0133,    89.4687,   166.7190,       4206,  4109.7,  -0.6713,  34.9439,2,  34.9446,2,    296.6,3,   298.4,2,   10.72,2,   14.45,2,    0.00,2,    1.03,2,   0.092,2,   0.058,2,   0.000,2,   0.0000,2,  2163.0,2,  2297.7,2,   7.8775,2,    15.00,-999.000,5, 4109.70,  -0.9404
77DN20050819,      AOS05,      42,          1,     283706,          3,2,20050912,       0133,    89.4687,   166.7190,       4206,  4109.7,  -0.6713,  34.9439,2,-999.0000,9,   -999.0,9,  -999.0,9, -999.00,9, -999.00,9, -999.00,9, -999.00,9,-999.000,9,-999.000,9,-999.000,9,-999.0000,9,  -999.0,9,  -999.0,9,-999.0000,9,  -999.00,-999.000,9, 4109.70,  -0.9404
77DN20050819,      AOS05,      42,          1,     283707,          4,2,20050912,       0133,    89.4687,   166.7190,       4206,  4109.7,  -0.6712,  34.9439,2,-999.0000,9,   -999.0,9,  -999.0,9, -999.00,9, -999.00,9, -999.00,9, -999.00,9,-999.000,9,-999.000,9,-999.000,9,-999.0000,9,  -999.0,9,  -999.0,9,-999.0000,9,  -999.00,-999.000,9, 4109.70,  -0.9404
77DN20050819,      AOS05,      42,          1,     283708,          5,2,20050912,       0133,    89.4687,   166.7190,       4206,  4109.8,  -0.6713,  34.9439,2,-999.0000,9,   -999.0,9,  -999.0,9, -999.00,9, -999.00,9, -999.00,9, -999.00,9,-999.000,9,-999.000,9,-999.000,9,-999.0000,9,  -999.0,9,  -999.0,9,-999.0000,9,  -999.00,-999.000,9, 4109.80,  -0.9404
77DN20050819,      AOS05,      42,          1,     283709,          6,2,20050912,       0133,    89.4687,   166.7190,       4206,  4109.8,  -0.6713,  34.9439,2,-999.0000,9,   -999.0,9,  -999.0,9, -999.00,9, -999.00,9, -999.00,9, -999.00,9,-999.000,9,-999.000,9,-999.000,9,-999.0000,9,  -999.0,9,  -999.0,9,-999.0000,9,  -999.00,-999.000,9, 4109.80,  -0.9404
77DN20050819,      AOS05,      42,          1,     283704,          1,2,20050912,       0133,    89.4687,   166.7190,       4206,  4266.1,  -0.6552,  34.9438,2,  34.9448,2,    295.5,3,   298.4,2,   10.82,2,   14.45,2,    0.00,2,    1.02,2,   0.097,2,   0.053,2,   0.000,2,-999.0000,9,  2163.3,2,  2299.7,2,   7.8797,2,    15.00,-999.000,5, 4266.10,  -0.9403