BOTTLE,20211025CCHSIORKP
EXPOCODE,SECT_ID,STNNBR,CASTNO,SAMPNO,BTLNBR,BTLNBR_FLAG_W,DATE,TIME,LATITUDE,LONGITUDE,DEPTH,CTDPRS,CTDTMP,CTDSAL,CTDSAL_FLAG_W,SALNTY,SALNTY_FLAG_W,CTDOXY,CTDOXY_FLAG_W,OXYGEN,OXYGEN_FLAG_W,SILCAT,SILCAT_FLAG_W,NITRAT,NITRAT_FLAG_W,NITRIT,NITRIT_FLAG_W,PHSPHT,PHSPHT_FLAG_W,CFC-11,CFC-11_FLAG_W,CFC-12,CFC-12_FLAG_W,CFC113,CFC113_FLAG_W,SF6,SF6_FLAG_W,TCARBN,TCARBN_FLAG_W,ALKALI,ALKALI_FLAG_W,PH_SWS,PH_SWS_FLAG_W,PH_TMP,CCL4,CCL4_FLAG_W,CTDRAW,THETA
,,,,,,,,,,,METERS,DBAR,ITS-90,PSS-78,,PSS-78,,UMOL/KG,,UMOL/KG,,UMOL/KG,,UMOL/KG,,UMOL/KG,,UMOL/KG,,PMOL/KG,,PMOL/KG,,PMOL/KG,,FMOL/KG,,UMOL/KG,,UMOL/KG,,,,DEG C,PMOL/KG,,DBAR,DEG C
77DN20050819,      AOS05,      36,          1,     283584,         32,2,20050909,       2140,    88.5252,   159.1017,       2108,     9.5,  -1.6981,  31.2940,2,  31.3236,2,    390.8,2,   392.7,2,    5.26,2,    0.79,2,    0.04,2,    0.81,2,   7.352,2,   3.852,2,   0.808,2,-999.0000,9,  2076.6,2,  2171.9,2,   7.8193,2,    15.00,-999.000,5,    9.50,  -1.6982
77DN20050819,      AOS05,      36,          1,     283583,         31,2,20050909,       2140,    88.5252,   159.1017,       2108,    19.8,  -1.6985,  31.2821,2,  31.3876,2,    391.2,2,   391.7,2,    5.23,2,    0.90,2,    0.04,2,    0.81,2,   6.963,2,   3.777,2,   0.734,2,-999.0000,9,  2081.1,2,  2175.8,2,   7.8155,2,    15.00,-999.000,5,   19.80,  -1.6988
77DN20050819,      AOS05,      36,          1,     283582,         30,2,20050909,       2140,    88.5252,   159.1017,       2108,    35.1,  -1.7330,  32.3551,2,  32.4092,2,    380.7,2,   375.5,2,    5.29,2,    2.80,2,    0.02,2,    0.71,2,   7.254,2,   3.867,2,   0.763,2,-999.0000,9,  2139.2,2,  2229.3,2,   7.7908,2,    15.00,-999.000,5,   35.10,  -1.7336
77DN20050819,      AOS05,      36,          1,     283581,         29,2,20050909,       2140,    88.5252,   159.1017,       2108,    50.4,  -1.7688,  32.8587,2,-999.0000,9,   -999.0,9,  -999.0,9, -999.00,9, -999.00,9, -999.00,9, -999.00,9,-999.000,9,-999.000,9,-999.000,9,-999.0000,9,  -999.0,9,  -999.0,9,-999.0000,9,  -999.00,-999.000,9,   50.40,  -1.7697
77DN20050819,      AOS05,      36,          1,     283580,         28,2,20050909,       2140,    88.5252,   159.1017,       2108,    50.4,  -1.7688,  32.8587,2,-999.0000,9,   -999.0,9,  -999.0,9, -999.00,9, -999.00,9, -999.00,9, -999.00,9,-999.000,9,-999.000,9,-999.000,9,-999.0000,9,  -999.0,9,  -999.0,9,-999.0000,9,  -999.00,-999.000,9,   50.40,  -1.7696
77DN20050819,      AOS05,      36,          1,     283579,         27,2,20050909,       2140,    88.5252,   159.1017,       2108,    50.4,  -1.7685,  32.8581,2,  32.8711,2,    371.6,2,   372.4,2,    4.27,2,    3.32,2,    0.02,2,    0.53,2,   6.875,2,   3.697,2,   0.722,2,-999.0000,9,  2164.9,2,  2258.5,2,   7.8048,2,    15.00,-999.000,5,   50.40,  -1.7694
77DN20050819,      AOS05,      36,          1,     283578,         26,2,20050909,       2140,    88.5252,   159.1017,       2108,    63.6,  -1.6556,  33.4659,2,  33.4875,2,    333.5,2,   319.4,2,    7.49,2,    7.56,2,    0.01,2,    0.72,2,   6.528,2,   3.314,2,   0.572,2,-999.0000,9,  2176.3,2,  2255.8,2,   7.7676,2,    15.00,-999.000,5,   63.60,  -1.6568
77DN20050819,      AOS05,      36,          1,     283577,         25,2,20050909,       2140,    88.5252,   159.1017,       2108,    74.0,  -1.6113,  33.8747,2,  33.8993,2,    316.6,2,   316.7,2,    5.92,2,    8.07,2,    0.00,2,    0.69,2,-999.000,9,-999.000,9,-999.000,9,-999.0000,9,  2177.7,2,  2268.7,2,   7.7944,2,    15.00,-999.000,9,   74.00,  -1.6128
77DN20050819,      AOS05,      36,          1,     283576,         24,2,20050909,       2140,    88.5252,   159.1017,       2108,    84.3,  -1.5463,  34.0156,2,  34.0266,2,    312.6,2,   315.1,2,    5.44,2,    8.36,2,    0.00,2,    0.69,2,   7.242,2,   3.294,2,   0.575,2,-999.0000,9,  2172.3,2,  2269.6,2,   7.8026,2,    15.00,-999.000,5,   84.30,  -1.5481
77DN20050819,      AOS05,      36,          1,     283575,         23,2,20050909,       2140,    88.5252,   159.1017,       2108,    94.7,  -1.3719,  34.1294,2,  34.1419,2,    310.3,2,   313.0,2,    5.23,2,    8.81,2,    0.00,2,    0.70,2,-999.000,9,-999.000,9,-999.000,9,-999.0000,9,  2163.7,2,  2269.6,2,   7.8136,2,    15.00,-999.000,9,   94.70,  -1.3741
77DN20050819,      AOS05,      36,          1,     283574,         22,2,20050909,       2140,    88.5252,   159.1017,       2108,   108.0,  -0.8724,  34.2690,2,  34.2788,2,    308.5,2,   310.3,2,    5.20,2,    9.36,2,    0.00,2,    0.72,2,   5.695,2,   2.810,2,   0.459,2,-999.0000,9,  2171.3,2,  2273.5,2,   7.8257,2,    15.00,-999.000,5,  108.00,  -0.8755
77DN20050819,      AOS05,      36,          1,     283573,         21,2,20050909,       2140,    88.5252,   159.1017,       2108,   128.3,  -0.4536,  34.3818,2,  34.3929,2,    302.7,2,   302.3,2,    5.89,2,   10.34,2,    0.00,2,    0.77,2,   5.104,2,   2.556,2,   0.338,2,-999.0000,9,  2166.0,2,  2276.1,2,   7.8222,2,    15.00,-999.000,5,  128.30,  -0.4576
77DN20050819,      AOS05,      36,          1,     283572,         20,2,20050909,       2140,    88.5252,   159.1017,       2108,   148.5,  -0.0063,  34.5112,2,  34.5181,2,    295.3,2,   295.7,2,    6.50,2,   11.17,2,    0.00,2,    0.81,2,-999.000,9,-999.000,9,-999.000,9,-999.0000,9,  2167.2,2,  2278.6,2,   7.8250,2,    15.00,-999.000,9,  148.50,  -9.0017
77DN20050819,      AOS05,      36,          1,     283571,         19,3,20050909,       2140,    88.5252,   159.1017,       2108,   168.7,   0.2441,  34.5964,2,  34.6033,2,    291.8,2,   292.9,2,    6.83,2,   11.71,2,    0.00,2,    0.84,2,   3.943,2,   1.946,2,   0.272,2,-999.0000,9,  2171.4,2,  2283.6,2,   7.8343,2,    15.00,-999.000,5,  168.70,   0.2376
77DN20050819,      AOS05,      36,          1,     283570,         18,2,20050909,       2140,    88.5252,   159.1017,       2108,   188.9,   0.5412,  34.6959,2,  34.6961,2,    289.2,2,   291.9,2,    6.90,2,   12.16,2,    0.00,2,    0.86,2,   3.685,2,   1.813,2,   0.252,2,-999.0000,9,  2169.3,2,  2283.6,2,   7.8462,2,    15.00,-999.000,5,  188.90,   0.5333
77DN20050819,      AOS05,      36,          1,     283569,         17,2,20050909,       2140,    88.5252,   159.1017,       2108,   219.1,   0.8288,  34.7955,2,  34.7921,2,    293.1,2,   295.0,2,    6.15,2,   12.45,2,    0.00,2,    0.87,2,   4.039,2,   2.003,2,   0.291,2,-999.0000,9,  2165.7,2,  2287.8,2,   7.8608,2,    15.00,-999.000,5,  219.10,   0.8191
77DN20050819,      AOS05,      36,          1,     283566,         14,2,20050909,       2140,    88.5252,   159.1017,       2108,   254.2,   0.9613,  34.8464,2,  34.8451,2,    295.2,2,   296.8,2,    5.93,2,   12.56,2,    0.00,2,    0.87,2,   4.338,2,   2.188,2,   0.306,2,-999.0000,9,  2165.4,2,  2290.6,2,   7.8666,2,    15.00,-999.000,5,  254.20,   0.9496
77DN20050819,      AOS05,      36,          1,     283567,         15,2,20050909,       2140,    88.5252,   159.1017,       2108,   254.3,   0.9613,  34.8464,2,-999.0000,9,   -999.0,9,  -999.0,9, -999.00,9, -999.00,9, -999.00,9, -999.00,9,-999.000,9,-999.000,9,-999.000,9,-999.0000,9,  -999.0,9,  -999.0,9,-999.0000,9,  -999.00,-999.000,9,  254.30,   0.9496
77DN20050819,      AOS05,      36,          1,     283568,         16,2,20050909,       2140,    88.5252,   159.1017,       2108,   254.3,   0.9614,  34.8464,2,-999.0000,9,   -999.0,9,  -999.0,9, -999.00,9, -999.00,9, -999.00,9, -999.00,9,-999.000,9,-999.000,9,-999.000,9,-999.0000,9,  -999.0,9,  -999.0,9,-999.0000,9,  -999.00,-999.000,9,  254.30,   0.9497
77DN20050819,      AOS05,      36,          1,     283565,         13,2,20050909,       2140,    88.5252,   159.1017,       2108,   289.3,   0.9019,  34.8433,2,  34.8424,2,    296.3,2,   296.8,2,    6.27,2,   12.66,2,    0.00,2,    0.88,2,   3.949,2,   1.964,2,   0.298,2,-999.0000,9,  2161.1,2,  2291.5,2,   7.8641,2,    15.00,-999.000,5,  289.30,   0.8887
77DN20050819,      AOS05,      36,          1,     283564,         12,2,20050909,       2140,    88.5252,   159.1017,       2108,   339.1,   0.8075,  34.8634,2,  34.8627,2,    298.5,2,   299.2,2,    5.97,2,   12.66,2,    0.00,2,    0.88,2,   4.156,2,   2.063,2,   0.317,2,-999.0000,9,  2165.2,2,  2294.0,2,   7.8637,6,    15.00,-999.000,5,  339.10,   0.7921
77DN20050819,      AOS05,      36,          1,     283563,         11,2,20050909,       2140,    88.5252,   159.1017,       2108,   398.8,   0.6145,  34.8576,2,  34.8568,2,    296.5,2,   296.9,2,    6.39,2,   12.82,2,    0.00,2,    0.89,2,   3.586,2,   1.782,2,   0.258,2,-999.0000,9,  2165.3,2,  2291.6,2,   7.8647,2,    15.00,-999.000,5,  398.80,   0.5969
77DN20050819,      AOS05,      36,          1,     283562,         10,2,20050909,       2140,    88.5252,   159.1017,       2108,   498.0,   0.4485,  34.8698,2,  34.8694,2,    296.0,2,   297.4,2,    6.46,2,   12.93,2,    0.00,2,    0.90,2,-999.000,9,-999.000,9,-999.000,9,-999.0000,9,  2166.7,2,  2291.7,2,   7.8664,2,    15.00,-999.000,9,  498.00,   0.4267
77DN20050819,      AOS05,      36,          1,     283561,          9,2,20050909,       2140,    88.5252,   159.1017,       2108,   638.1,   0.1793,  34.8728,2,  34.8722,2,    300.4,2,   301.1,2,    6.43,2,   12.73,2,    0.00,2,    0.90,2,   3.098,2,   1.520,2,   0.167,2,-999.0000,9,  2175.7,2,  2291.7,2,   7.8594,2,    15.00,-999.000,5,  638.10,   0.1519
77DN20050819,      AOS05,      36,          1,     283560,          8,2,20050909,       2140,    88.5252,   159.1017,       2108,   789.7,  -0.0231,  34.8832,2,  34.8828,2,    300.4,2,   301.6,2,    6.67,2,   12.94,2,    0.00,2,    0.91,2,   2.452,2,   1.223,2,   0.169,2,-999.0000,9,  2168.3,2,  2293.1,2,   7.8625,2,    15.00,-999.000,5,  789.70,  -0.0567
77DN20050819,      AOS05,      36,          1,     283559,          7,3,20050909,       2140,    88.5252,   159.1017,       2108,   938.7,  -0.1502,  34.8950,2,  34.8952,2,   -999.0,9,  -999.0,9,    7.01,2,   13.14,2,    0.00,2,    0.92,2,-999.000,9,-999.000,9,-999.000,9,-999.0000,9,  -999.0,9,  -999.0,9,-999.0000,9,  -999.00,-999.000,9,  938.70,  -0.1904
77DN20050819,      AOS05,      36,          1,     283558,          6,2,20050909,       2140,    88.5252,   159.1017,       2108,  1091.6,  -0.2473,  34.9060,2,  34.9061,2,    299.6,2,   300.5,2,    7.61,2,   13.34,2,    0.00,2,    0.94,2,   1.265,2,   0.652,2,   0.049,2,-999.0000,9,  2165.7,2,  2294.2,2,   7.8687,2,    15.00,-999.000,5, 1091.60,  -0.2947
77DN20050819,      AOS05,      36,          1,     283557,          5,3,20050909,       2140,    88.5252,   159.1017,       2108,  1290.8,  -0.3283,  34.9209,2,  34.9203,2,   -999.0,9,  -999.0,9,    8.67,2,   13.74,2,    0.00,2,    0.97,2,-999.000,9,-999.000,9,-999.000,9,-999.0000,9,  -999.0,9,  -999.0,9,-999.0000,9,  -999.00,-999.000,9, 1290.80,  -0.3858
77DN20050819,      AOS05,      36,          1,     283556,          4,2,20050909,       2140,    88.5252,   159.1017,       2108,  1489.7,  -0.3830,  34.9325,2,  34.9325,2,    293.7,2,   295.2,2,    9.82,2,   14.13,2,    0.00,2,    1.00,2,   0.289,2,   0.201,2,   0.000,2,-999.0000,9,  2177.1,2,  2294.3,2,   7.8799,2,    15.00,-999.000,5, 1489.70,  -0.4513
77DN20050819,      AOS05,      36,          1,     283555,          3,2,20050909,       2140,    88.5252,   159.1017,       2108,  1692.8,  -0.4060,  34.9428,2,  34.9430,2,    289.8,2,   292.0,2,   11.25,2,   14.42,2,    0.00,2,    1.03,2,   0.130,2,   0.087,2,   0.000,2,-999.0000,9,  2164.3,2,  2296.7,2,   7.8784,2,    15.00,-999.000,5, 1692.80,  -0.4864
77DN20050819,      AOS05,      36,          1,     283554,          2,2,20050909,       2140,    88.5252,   159.1017,       2108,  1892.5,  -0.4067,  34.9484,2,  34.9481,2,    287.5,2,   288.7,2,   12.04,2,   14.63,2,    0.00,2,    1.04,2,   0.337,2,   0.197,2,   0.029,2,-999.0000,9,  2159.5,2,  2298.9,2,   7.8745,2,    15.00,-999.000,5, 1892.50,  -0.4999
77DN20050819,      AOS05,      36,          1,     283553,          1,2,20050909,       2140,    88.5252,   159.1017,       2108,  2127.2,  -0.3955,  34.9522,2,  34.9524,2,    286.2,2,   287.2,2,   12.46,2,   14.73,2,    0.00,2,    1.05,2,   0.053,2,   0.043,2,   0.000,2,-999.0000,9,  2166.5,2,  2301.0,2,   7.8771,2,    15.00,-999.000,5, 2127.20,  -0.5047