BOTTLE,20211025CCHSIORKP
EXPOCODE,SECT_ID,STNNBR,CASTNO,SAMPNO,BTLNBR,BTLNBR_FLAG_W,DATE,TIME,LATITUDE,LONGITUDE,DEPTH,CTDPRS,CTDTMP,CTDSAL,CTDSAL_FLAG_W,SALNTY,SALNTY_FLAG_W,CTDOXY,CTDOXY_FLAG_W,OXYGEN,OXYGEN_FLAG_W,SILCAT,SILCAT_FLAG_W,NITRAT,NITRAT_FLAG_W,NITRIT,NITRIT_FLAG_W,PHSPHT,PHSPHT_FLAG_W,CFC-11,CFC-11_FLAG_W,CFC-12,CFC-12_FLAG_W,CFC113,CFC113_FLAG_W,SF6,SF6_FLAG_W,TCARBN,TCARBN_FLAG_W,ALKALI,ALKALI_FLAG_W,PH_SWS,PH_SWS_FLAG_W,PH_TMP,CCL4,CCL4_FLAG_W,CTDRAW,THETA
,,,,,,,,,,,METERS,DBAR,ITS-90,PSS-78,,PSS-78,,UMOL/KG,,UMOL/KG,,UMOL/KG,,UMOL/KG,,UMOL/KG,,UMOL/KG,,PMOL/KG,,PMOL/KG,,PMOL/KG,,FMOL/KG,,UMOL/KG,,UMOL/KG,,,,DEG C,PMOL/KG,,DBAR,DEG C
77DN20050819,      AOS05,      30,          4,     283398,         30,2,20050907,       0046,    87.6138,   156.1108,       3960,     9.3,  -1.7430,  32.0791,2,-999.0000,9,   -999.0,9,  -999.0,9, -999.00,9, -999.00,9, -999.00,9, -999.00,9,-999.000,9,-999.000,9,-999.000,9,-999.0000,9,  -999.0,9,  -999.0,9,-999.0000,9,  -999.00,-999.000,9,    9.30,  -1.7432
77DN20050819,      AOS05,      30,          4,     283397,         29,2,20050907,       0046,    87.6138,   156.1108,       3960,     9.3,  -1.7431,  32.0825,2,-999.0000,9,   -999.0,9,  -999.0,9, -999.00,9, -999.00,9, -999.00,9, -999.00,9,-999.000,9,-999.000,9,-999.000,9,-999.0000,9,  -999.0,9,  -999.0,9,-999.0000,9,  -999.00,-999.000,9,    9.30,  -1.7433
77DN20050819,      AOS05,      30,          4,     283395,         27,2,20050907,       0046,    87.6138,   156.1108,       3960,     9.3,  -1.7430,  32.0783,2,  32.0808,2,    388.5,2,   390.1,2,    2.70,2,    1.43,2,    0.04,2,    0.34,2,   7.222,2,   3.787,2,   0.782,2,-999.0000,9,  2090.7,2,  2216.4,2,   7.8607,2,    15.00,-999.000,5,    9.30,  -1.7431
77DN20050819,      AOS05,      30,          4,     283400,         32,2,20050907,       0046,    87.6138,   156.1108,       3960,     9.3,  -1.7430,  32.0785,2,-999.0000,9,   -999.0,9,  -999.0,9, -999.00,9, -999.00,9, -999.00,9, -999.00,9,-999.000,9,-999.000,9,-999.000,9,-999.0000,9,  -999.0,9,  -999.0,9,-999.0000,9,  -999.00,-999.000,9,    9.30,  -1.7432
77DN20050819,      AOS05,      30,          4,     283399,         31,2,20050907,       0046,    87.6138,   156.1108,       3960,     9.3,  -1.7431,  32.0805,2,-999.0000,9,   -999.0,9,  -999.0,9, -999.00,9, -999.00,9, -999.00,9, -999.00,9,-999.000,9,-999.000,9,-999.000,9,-999.0000,9,  -999.0,9,  -999.0,9,-999.0000,9,  -999.00,-999.000,9,    9.30,  -1.7432
77DN20050819,      AOS05,      30,          4,     283396,         28,2,20050907,       0046,    87.6138,   156.1108,       3960,     9.3,  -1.7430,  32.0784,2,-999.0000,9,   -999.0,9,  -999.0,9, -999.00,9, -999.00,9, -999.00,9, -999.00,9,-999.000,9,-999.000,9,-999.000,9,-999.0000,9,  -999.0,9,  -999.0,9,-999.0000,9,  -999.00,-999.000,9,    9.30,  -1.7431
77DN20050819,      AOS05,      30,          4,     283394,         26,2,20050907,       0046,    87.6138,   156.1108,       3960,    30.0,  -1.7405,  32.1497,2,  32.2308,2,    385.9,2,   388.0,2,    2.87,2,    1.67,2,    0.05,2,    0.35,2,   7.272,2,   3.779,2,   0.764,2,-999.0000,9,  2100.9,2,  2227.7,2,   7.8553,2,    15.00,-999.000,5,   30.00,  -1.7410
77DN20050819,      AOS05,      30,          4,     283393,         25,2,20050907,       0046,    87.6138,   156.1108,       3960,    50.1,  -1.7474,  33.0015,2,-999.0000,9,   -999.0,9,  -999.0,9, -999.00,9, -999.00,9, -999.00,9, -999.00,9,-999.000,9,-999.000,9,-999.000,9,-999.0000,9,  -999.0,9,  -999.0,9,-999.0000,9,  -999.00,-999.000,9,   50.10,  -1.7483
77DN20050819,      AOS05,      30,          4,     283392,         24,2,20050907,       0046,    87.6138,   156.1108,       3960,    50.1,  -1.7472,  33.0005,2,-999.0000,9,   -999.0,9,  -999.0,9, -999.00,9, -999.00,9, -999.00,9, -999.00,9,-999.000,9,-999.000,9,-999.000,9,-999.0000,9,  -999.0,9,  -999.0,9,-999.0000,9,  -999.00,-999.000,9,   50.10,  -1.7481
77DN20050819,      AOS05,      30,          4,     283391,         23,2,20050907,       0046,    87.6138,   156.1108,       3960,    50.1,  -1.7473,  33.0001,2,-999.0000,9,   -999.0,9,  -999.0,9, -999.00,9, -999.00,9, -999.00,9, -999.00,9,-999.000,9,-999.000,9,-999.000,9,-999.0000,9,  -999.0,9,  -999.0,9,-999.0000,9,  -999.00,-999.000,9,   50.10,  -1.7482
77DN20050819,      AOS05,      30,          4,     283390,         22,2,20050907,       0046,    87.6138,   156.1108,       3960,    50.1,  -1.7472,  33.0001,2,  33.0549,2,    365.7,2,   363.6,2,    4.55,2,    4.10,2,    0.05,2,    0.53,2,   7.243,2,   3.765,2,   0.742,2,-999.0000,9,  2161.5,2,  2272.9,2,   7.8010,2,    15.00,-999.000,5,   50.10,  -1.7481
77DN20050819,      AOS05,      30,          4,     283389,         21,2,20050907,       0046,    87.6138,   156.1108,       3960,    61.5,  -1.7754,  33.2153,2,-999.0000,9,   -999.0,9,  -999.0,9, -999.00,9, -999.00,9, -999.00,9, -999.00,9,-999.000,9,-999.000,9,-999.000,9,-999.0000,9,  -999.0,9,  -999.0,9,-999.0000,9,  -999.00,-999.000,9,   61.50,  -1.7764
77DN20050819,      AOS05,      30,          4,     283388,         20,2,20050907,       0046,    87.6138,   156.1108,       3960,    61.5,  -1.7787,  33.2137,2,-999.0000,9,   -999.0,9,  -999.0,9, -999.00,9, -999.00,9, -999.00,9, -999.00,9,-999.000,9,-999.000,9,-999.000,9,-999.0000,9,  -999.0,9,  -999.0,9,-999.0000,9,  -999.00,-999.000,9,   61.50,  -1.7798
77DN20050819,      AOS05,      30,          4,     283387,         19,2,20050907,       0046,    87.6138,   156.1108,       3960,    61.5,  -1.7794,  33.2139,2,  33.2740,2,    360.2,2,   348.7,2,    5.16,2,    5.29,2,    0.01,2,    0.57,2,-999.000,9,-999.000,9,-999.000,9,-999.0000,9,  2166.1,2,  2274.3,2,   7.7900,2,    15.00,-999.000,9,   61.50,  -1.7805
77DN20050819,      AOS05,      30,          4,     283386,         18,2,20050907,       0046,    87.6138,   156.1108,       3960,    72.8,  -1.6749,  33.5615,2,-999.0000,9,   -999.0,9,  -999.0,9, -999.00,9, -999.00,9, -999.00,9, -999.00,9,-999.000,9,-999.000,9,-999.000,9,-999.0000,9,  -999.0,9,  -999.0,9,-999.0000,9,  -999.00,-999.000,9,   72.80,  -1.6763
77DN20050819,      AOS05,      30,          4,     283385,         17,2,20050907,       0046,    87.6138,   156.1108,       3960,    72.8,  -1.6741,  33.5712,2,-999.0000,9,   -999.0,9,  -999.0,9, -999.00,9, -999.00,9, -999.00,9, -999.00,9,-999.000,9,-999.000,9,-999.000,9,-999.0000,9,  -999.0,9,  -999.0,9,-999.0000,9,  -999.00,-999.000,9,   72.80,  -1.6755
77DN20050819,      AOS05,      30,          4,     283384,         16,2,20050907,       0046,    87.6138,   156.1108,       3960,    72.8,  -1.6723,  33.5822,2,  33.6721,2,    337.4,2,   321.6,2,    5.94,2,    7.48,2,    0.01,2,    0.66,2,   6.652,2,   3.377,2,   0.585,2,-999.0000,9,  2169.2,2,  2274.3,2,   7.7878,2,    15.00,-999.000,5,   72.80,  -1.6737
77DN20050819,      AOS05,      30,          4,     283382,         14,2,20050907,       0046,    87.6138,   156.1108,       3960,    83.2,  -1.6032,  33.8946,2,  33.9011,2,    319.7,2,   316.9,2,    5.55,2,    8.11,2,    0.00,2,    0.67,2,   6.732,2,   3.375,2,   0.558,2,-999.0000,9,  2164.8,2,  2275.3,2,   7.8003,2,    15.00,-999.000,5,   83.20,  -1.6049
77DN20050819,      AOS05,      30,          4,     283383,         15,2,20050907,       0046,    87.6138,   156.1108,       3960,    83.3,  -1.6026,  33.8939,2,-999.0000,9,   -999.0,9,  -999.0,9, -999.00,9, -999.00,9, -999.00,9, -999.00,9,-999.000,9,-999.000,9,-999.000,9,-999.0000,9,  -999.0,9,  -999.0,9,-999.0000,9,  -999.00,-999.000,9,   83.30,  -1.6044
77DN20050819,      AOS05,      30,          4,     283381,         13,2,20050907,       0046,    87.6138,   156.1108,       3960,    93.6,  -1.5266,  34.0238,2,  34.0395,2,    314.2,2,   314.7,2,    5.17,2,    8.53,2,    0.00,2,    0.67,2,-999.000,9,-999.000,9,-999.000,9,-999.0000,9,  2162.7,2,  2278.1,2,   7.8114,2,    15.00,-999.000,9,   93.60,  -1.5286
77DN20050819,      AOS05,      30,          4,     283380,         12,2,20050907,       0046,    87.6138,   156.1108,       3960,   104.0,  -1.3742,  34.1246,2,  34.1378,2,    310.1,2,   312.8,2,    4.97,2,    8.82,2,    0.00,2,    0.68,2,   6.075,2,   3.004,2,   0.506,2,-999.0000,9,  2158.0,2,  2277.2,2,   7.8157,2,    15.00,-999.000,5,  104.00,  -1.3766
77DN20050819,      AOS05,      30,          4,     283378,         10,2,20050907,       0046,    87.6138,   156.1108,       3960,   119.3,  -0.9138,  34.2599,2,-999.0000,9,   -999.0,9,  -999.0,9, -999.00,9, -999.00,9, -999.00,9, -999.00,9,-999.000,9,-999.000,9,-999.000,9,-999.0000,9,  -999.0,9,  -999.0,9,-999.0000,9,  -999.00,-999.000,9,  119.30,  -0.9171
77DN20050819,      AOS05,      30,          4,     283377,          9,2,20050907,       0046,    87.6138,   156.1108,       3960,   119.3,  -0.9168,  34.2597,2,-999.0000,9,   -999.0,9,  -999.0,9, -999.00,9, -999.00,9, -999.00,9, -999.00,9,-999.000,9,-999.000,9,-999.000,9,-999.0000,9,  -999.0,9,  -999.0,9,-999.0000,9,  -999.00,-999.000,9,  119.30,  -0.9201
77DN20050819,      AOS05,      30,          4,     283376,          8,2,20050907,       0046,    87.6138,   156.1108,       3960,   119.3,  -0.9201,  34.2589,2,  34.2819,2,    306.8,2,   309.6,2,    4.95,2,    9.43,2,    0.00,2,    0.71,2,-999.000,9,-999.000,9,-999.000,9,-999.0000,9,  2152.5,2,  2278.0,2,   7.8284,2,    15.00,-999.000,9,  119.30,  -0.9234
77DN20050819,      AOS05,      30,          4,     283379,         11,2,20050907,       0046,    87.6138,   156.1108,       3960,   119.3,  -0.9123,  34.2601,2,-999.0000,9,   -999.0,9,  -999.0,9, -999.00,9, -999.00,9, -999.00,9, -999.00,9,-999.000,9,-999.000,9,-999.000,9,-999.0000,9,  -999.0,9,  -999.0,9,-999.0000,9,  -999.00,-999.000,9,  119.30,  -0.9156
77DN20050819,      AOS05,      30,          4,     283375,          7,2,20050907,       0046,    87.6138,   156.1108,       3960,   139.5,  -0.4796,  34.3688,2,  34.3990,2,    301.7,2,   302.1,2,    5.46,2,   10.28,2,    0.00,2,    0.75,2,-999.000,9,-999.000,9,-999.000,9,-999.0000,9,  2158.2,2,  2285.2,2,   7.8282,2,    15.00,-999.000,9,  139.50,  -0.4841
77DN20050819,      AOS05,      30,          4,     283374,          6,2,20050907,       0046,    87.6138,   156.1108,       3960,   159.8,  -0.0575,  34.4876,2,  34.5082,2,    296.5,2,   297.9,2,    5.89,2,   10.98,2,    0.00,2,    0.78,2,   4.816,2,   2.383,2,   0.340,2,-999.0000,9,  2158.6,2,  2283.3,2,   7.8301,2,    15.00,-999.000,5,  159.80,  -0.0633
77DN20050819,      AOS05,      30,          4,     283373,          5,2,20050907,       0046,    87.6138,   156.1108,       3960,   180.1,   0.2213,  34.5706,2,  34.6017,2,    294.5,2,   295.8,2,    6.14,2,   11.50,2,    0.00,2,    0.81,2,-999.000,9,-999.000,9,-999.000,9,-999.0000,9,  2161.5,2,  2287.7,2,   7.8385,2,    15.00,-999.000,9,  180.10,   0.2144
77DN20050819,      AOS05,      30,          4,     283372,          4,2,20050907,       0046,    87.6138,   156.1108,       3960,   203.6,   0.5808,  34.6955,2,-999.0000,9,   -999.0,9,  -999.0,9, -999.00,9, -999.00,9, -999.00,9, -999.00,9,-999.000,9,-999.000,9,-999.000,9,-999.0000,9,  -999.0,9,  -999.0,9,-999.0000,9,  -999.00,-999.000,9,  203.60,   0.5723
77DN20050819,      AOS05,      30,          4,     283371,          3,2,20050907,       0046,    87.6138,   156.1108,       3960,   203.6,   0.5841,  34.6965,2,-999.0000,9,   -999.0,9,  -999.0,9, -999.00,9, -999.00,9, -999.00,9, -999.00,9,-999.000,9,-999.000,9,-999.000,9,-999.0000,9,  -999.0,9,  -999.0,9,-999.0000,9,  -999.00,-999.000,9,  203.60,   0.5755
77DN20050819,      AOS05,      30,          4,     283370,          2,2,20050907,       0046,    87.6138,   156.1108,       3960,   203.6,   0.5836,  34.6969,2,-999.0000,9,   -999.0,9,  -999.0,9, -999.00,9, -999.00,9, -999.00,9, -999.00,9,-999.000,9,-999.000,9,-999.000,9,-999.0000,9,  -999.0,9,  -999.0,9,-999.0000,9,  -999.00,-999.000,9,  203.60,   0.5751
77DN20050819,      AOS05,      30,          4,     283369,          1,2,20050907,       0046,    87.6138,   156.1108,       3960,   203.6,   0.5851,  34.6972,2,  34.6825,2,    293.3,2,   294.3,2,    6.21,2,   11.92,2,    0.00,2,    0.83,2,   4.309,2,   2.160,2,   0.296,2,-999.0000,9,  2154.4,2,  2294.6,2,   7.8521,6,    15.00,-999.000,5,  203.60,   0.5766