BOTTLE,20211025CCHSIORKP
EXPOCODE,SECT_ID,STNNBR,CASTNO,SAMPNO,BTLNBR,BTLNBR_FLAG_W,DATE,TIME,LATITUDE,LONGITUDE,DEPTH,CTDPRS,CTDTMP,CTDSAL,CTDSAL_FLAG_W,SALNTY,SALNTY_FLAG_W,CTDOXY,CTDOXY_FLAG_W,OXYGEN,OXYGEN_FLAG_W,SILCAT,SILCAT_FLAG_W,NITRAT,NITRAT_FLAG_W,NITRIT,NITRIT_FLAG_W,PHSPHT,PHSPHT_FLAG_W,CFC-11,CFC-11_FLAG_W,CFC-12,CFC-12_FLAG_W,CFC113,CFC113_FLAG_W,SF6,SF6_FLAG_W,TCARBN,TCARBN_FLAG_W,ALKALI,ALKALI_FLAG_W,PH_SWS,PH_SWS_FLAG_W,PH_TMP,CCL4,CCL4_FLAG_W,CTDRAW,THETA
,,,,,,,,,,,METERS,DBAR,ITS-90,PSS-78,,PSS-78,,UMOL/KG,,UMOL/KG,,UMOL/KG,,UMOL/KG,,UMOL/KG,,UMOL/KG,,PMOL/KG,,PMOL/KG,,PMOL/KG,,FMOL/KG,,UMOL/KG,,UMOL/KG,,,,DEG C,PMOL/KG,,DBAR,DEG C
77DN20050819,      AOS05,       4,          1,     282605,         36,2,20050821,       2129,    71.9190,  -151.8788,       2070,     1.7,   5.2859,  29.7531,2,-999.0000,9,   -999.0,9,  -999.0,9, -999.00,9, -999.00,9, -999.00,9, -999.00,9,-999.000,9,-999.000,9,-999.000,9,-999.0000,9,  -999.0,9,  -999.0,9,-999.0000,9,  -999.00,-999.000,9,    1.70,   5.2858
77DN20050819,      AOS05,       4,          1,     282604,         35,2,20050821,       2129,    71.9190,  -151.8788,       2070,     1.7,   5.2247,  29.7224,2,  29.9411,2,    328.4,2,   326.6,2,    5.03,2,    0.15,2,    0.00,2,    0.64,2,-999.000,5,-999.000,5,-999.000,5,-999.0000,9,  1927.0,2,  2096.7,2,   7.9668,2,    15.00,-999.000,5,    1.70,   5.2245
77DN20050819,      AOS05,       4,          1,     282603,         34,2,20050821,       2129,    71.9190,  -151.8788,       2070,    12.0,   7.2597,  31.1204,2,-999.0000,9,   -999.0,9,  -999.0,9, -999.00,9, -999.00,9, -999.00,9, -999.00,9,-999.000,9,-999.000,9,-999.000,9,-999.0000,9,  -999.0,9,  -999.0,9,-999.0000,9,  -999.00,-999.000,9,   12.00,   7.2587
77DN20050819,      AOS05,       4,          1,     282602,         33,2,20050821,       2129,    71.9190,  -151.8788,       2070,    12.0,   7.2225,  31.0274,2,  30.8941,2,    311.2,2,   312.7,2,    5.42,2,    0.15,2,    0.00,2,    0.67,2,   5.017,2,   2.670,2,   0.434,2,   1.5000,2,  1980.9,2,  2153.0,2,   7.9733,2,    15.00,   5.846,3,   12.00,   7.2214
77DN20050819,      AOS05,       4,          1,     282600,         31,2,20050821,       2129,    71.9190,  -151.8788,       2070,    20.5,   7.4531,  31.4100,2,  31.4870,2,    305.8,2,   305.9,2,    5.70,2,    0.14,2,    0.00,2,    0.71,2,   5.033,2,   2.625,2,   0.429,2,-999.0000,9,  2014.7,2,  2187.3,2,   7.9662,2,    15.00,   7.488,3,   20.50,   7.4512
77DN20050819,      AOS05,       4,          1,     282601,         32,2,20050821,       2129,    71.9190,  -151.8788,       2070,    20.6,   7.4679,  31.4401,2,-999.0000,9,   -999.0,9,  -999.0,9, -999.00,9, -999.00,9, -999.00,9, -999.00,9,-999.000,9,-999.000,9,-999.000,9,-999.0000,9,  -999.0,9,  -999.0,9,-999.0000,9,  -999.00,-999.000,9,   20.60,   7.4660
77DN20050819,      AOS05,       4,          1,     282599,         30,2,20050821,       2129,    71.9190,  -151.8788,       2070,    34.9,   7.3739,  31.5752,2,-999.0000,9,   -999.0,9,  -999.0,9, -999.00,9, -999.00,9, -999.00,9, -999.00,9,-999.000,9,-999.000,9,-999.000,9,-999.0000,9,  -999.0,9,  -999.0,9,-999.0000,9,  -999.00,-999.000,9,   34.90,   7.3708
77DN20050819,      AOS05,       4,          1,     282598,         29,2,20050821,       2129,    71.9190,  -151.8788,       2070,    34.9,   7.3828,  31.5806,2,  31.5785,2,    299.8,2,   303.7,2,    5.79,2,    0.18,2,    0.00,2,    0.75,2,   4.982,2,   2.505,2,   0.410,2,   1.9800,2,  2026.0,2,  2190.9,2,   7.9585,2,    15.00,   6.888,3,   34.90,   7.3797
77DN20050819,      AOS05,       4,          1,     282597,         28,2,20050821,       2129,    71.9190,  -151.8788,       2070,    50.2,   6.8484,  31.5987,2,-999.0000,9,   -999.0,9,  -999.0,9, -999.00,9, -999.00,9, -999.00,9, -999.00,9,-999.000,9,-999.000,9,-999.000,9,-999.0000,9,  -999.0,9,  -999.0,9,-999.0000,9,  -999.00,-999.000,9,   50.20,   6.8441
77DN20050819,      AOS05,       4,          1,     282596,         27,2,20050821,       2129,    71.9190,  -151.8788,       2070,    50.5,   6.8340,  31.5976,2,  31.5951,2,    306.1,2,   309.1,2,    5.39,2,    0.18,2,    0.00,2,    0.76,2,   5.201,2,   2.590,2,   0.423,2,-999.0000,9,  2015.2,2,  2184.0,2,   7.9674,2,    15.00,   6.893,3,   50.50,   6.8296
77DN20050819,      AOS05,       4,          1,     282595,         26,2,20050821,       2129,    71.9190,  -151.8788,       2070,    64.8,   6.6996,  31.6828,2,  31.6845,2,    307.9,2,   308.8,2,    5.98,2,    0.17,2,    0.00,2,    0.76,2,   4.882,2,   2.626,2,   0.429,2,   1.4400,2,  2026.4,2,  2194.9,2,   7.9606,2,    15.00,   6.078,3,   64.80,   6.6940
77DN20050819,      AOS05,       4,          1,     282594,         25,2,20050821,       2129,    71.9190,  -151.8788,       2070,    79.2,   6.5131,  31.7302,2,  31.7379,2,    310.3,2,   310.2,2,    6.07,2,    0.21,2,    0.00,2,    0.77,2,   4.841,2,   2.518,2,   0.411,2,-999.0000,9,  2034.9,2,  2200.7,2,   7.9588,2,    15.00,   3.228,3,   79.20,   6.5065
77DN20050819,      AOS05,       4,          1,     282593,         24,2,20050821,       2129,    71.9190,  -151.8788,       2070,    94.5,   5.9742,  31.8210,2,  31.8148,2,    316.5,2,   315.5,2,    6.46,2,    0.25,2,    0.00,2,    0.80,2,   5.794,2,   2.949,2,   0.520,2,   1.3500,2,  2035.2,2,  2204.1,2,   7.9547,2,    15.00,   1.496,3,   94.50,   5.9667
77DN20050819,      AOS05,       4,          1,     282592,         23,2,20050821,       2129,    71.9190,  -151.8788,       2070,   108.8,   4.9875,  31.9277,2,  31.9404,2,    321.8,2,   329.4,2,    7.04,2,    0.37,2,    0.01,2,    0.84,2,   5.426,2,   3.011,2,   0.475,2,-999.0000,9,  2044.8,2,  2212.3,2,   7.9481,2,    15.00,   5.819,3,  108.80,   4.9797
77DN20050819,      AOS05,       4,          1,     282591,         22,2,20050821,       2129,    71.9190,  -151.8788,       2070,   123.1,   2.9121,  32.0455,2,  32.0397,2,    342.7,2,   356.5,2,    9.28,2,    1.11,2,    0.03,2,    0.96,2,   6.122,2,   3.082,2,   0.551,2,   1.7700,2,  2057.0,2,  2218.0,2,   7.9290,2,    15.00,   4.693,3,  123.10,   2.9052
77DN20050819,      AOS05,       4,          1,     282590,         21,2,20050821,       2129,    71.9190,  -151.8788,       2070,   138.4,   1.4337,  32.1525,2,  32.1560,2,    351.9,2,   358.0,2,   10.65,2,    1.49,2,    0.04,2,    1.02,2,   7.571,2,   3.541,2,   0.650,2,-999.0000,9,  2077.2,2,  2221.6,2,   7.9187,2,    15.00,   8.195,3,  138.40,   1.4276
77DN20050819,      AOS05,       4,          1,     282589,         20,4,20050821,       2129,    71.9190,  -151.8788,       2070,   153.7,  -0.7979,  32.2086,2,  32.1474,4,    328.0,2,   358.3,4,   10.55,4,    1.44,4,    0.04,4,    1.02,4,   6.498,2,   3.263,2,   0.597,2,   2.0900,2,  2068.8,4,  2222.5,4,   7.9237,4,    15.00,   3.426,3,  153.70,  -0.8017
77DN20050819,      AOS05,       4,          1,     282588,         19,2,20050821,       2129,    71.9190,  -151.8788,       2070,   169.0,  -1.0195,  32.4189,2,  32.4320,2,    318.5,2,   314.4,2,   25.41,2,    6.41,2,    0.06,2,    1.58,2,   6.640,2,   3.328,2,   0.590,2,-999.0000,9,  2170.2,2,  2247.0,2,   7.7024,2,    15.00,   5.373,3,  169.00,  -1.0235
77DN20050819,      AOS05,       4,          1,     282587,         18,2,20050821,       2129,    71.9190,  -151.8788,       2070,   187.3,  -1.4988,  32.6705,2,  32.7038,2,    303.7,2,   303.2,2,   26.59,2,   11.64,2,    0.05,2,    1.65,2,   6.972,2,   3.229,2,   0.557,2,   1.6800,2,  2184.8,2,  2253.3,2,   7.6817,2,    15.00,   4.121,3,  187.30,  -1.5026
77DN20050819,      AOS05,       4,          1,     282586,         17,2,20050821,       2129,    71.9190,  -151.8788,       2070,   202.5,  -1.5937,  32.9137,2,  32.9188,2,    298.4,2,   298.0,2,   30.36,2,   13.80,2,    0.00,2,    1.72,2,   5.927,2,   2.745,2,   0.570,2,   1.2300,2,  2204.5,2,  2260.8,2,   7.6623,2,    15.00,   0.993,3,  202.50,  -1.5977
77DN20050819,      AOS05,       4,          1,     282585,         16,2,20050821,       2129,    71.9190,  -151.8788,       2070,   220.5,  -1.4771,  33.2845,2,  33.2887,2,   -999.0,9,  -999.0,5,   30.34,2,   14.34,2,    0.01,2,    1.68,2,   5.945,2,   2.778,2,   0.426,2,   1.2300,2,  2219.5,2,  2272.9,2,   7.6630,2,    15.00,   4.509,3,  220.50,  -1.4819
77DN20050819,      AOS05,       4,          1,     282584,         15,2,20050821,       2129,    71.9190,  -151.8788,       2070,   259.1,  -0.4308,  34.4131,2,  34.4143,2,    272.4,2,   275.6,2,   15.12,2,   13.06,2,    0.00,2,    1.10,2,   5.697,2,   2.290,2,   0.353,3,   0.5600,2,  2180.9,2,  2283.4,2,   7.7640,2,    15.00,   3.052,3,  259.10,  -0.4395
77DN20050819,      AOS05,       4,          1,     282583,         14,2,20050821,       2129,    71.9190,  -151.8788,       2070,   307.7,   0.2883,  34.6700,2,  34.6627,2,    277.7,2,   279.3,2,   10.79,2,   13.09,2,    0.00,2,    0.97,2,   4.704,2,   2.019,2,   0.455,2,   0.3900,2,  2166.4,2,  2286.2,2,   7.8150,2,    15.00,   1.014,3,  307.70,   0.2758
77DN20050819,      AOS05,       4,          1,     282582,         13,2,20050821,       2129,    71.9190,  -151.8788,       2070,   379.4,   0.7391,  34.7970,2,  34.7928,2,    286.5,2,   287.7,2,    8.25,2,   12.90,2,    0.00,2,    0.90,2,   4.784,2,   2.074,2,   0.272,3,   0.5800,2,  2154.8,2,  2290.2,2,   7.8454,2,    15.00,   5.217,3,  379.40,   0.7220
77DN20050819,      AOS05,       4,          1,     282581,         12,2,20050821,       2129,    71.9190,  -151.8788,       2070,   454.8,   0.7051,  34.8303,2,  34.8494,3,    291.4,2,   295.3,2,    7.37,2,   12.77,2,    0.00,2,    0.87,2,   4.580,2,   1.923,2,   0.307,2,   0.6700,2,  2152.1,2,  2292.4,2,   7.8566,2,    15.00,   4.097,3,  454.80,   0.6844
77DN20050819,      AOS05,       4,          1,     282580,         11,2,20050821,       2129,    71.9190,  -151.8788,       2070,   559.5,   0.5942,  34.8500,2,  34.8488,2,    294.6,2,   296.8,2,    7.37,2,   12.80,2,    0.01,2,    0.88,2,-999.000,5,-999.000,5,-999.000,5,   0.6600,2,  2152.4,2,  2293.0,2,   7.8568,2,    15.00,-999.000,5,  559.50,   0.5688
77DN20050819,      AOS05,       4,          1,     282579,         10,2,20050821,       2129,    71.9190,  -151.8788,       2070,   697.1,   0.3841,  34.8610,2,  34.8602,2,    296.3,2,   302.0,4,    7.17,2,   12.75,2,    0.00,2,    0.88,2,   3.862,2,   1.476,2,   0.185,2,-999.0000,9,  2154.3,2,  2294.1,2,   7.8605,2,    15.00,   4.832,3,  697.10,   0.3527
77DN20050819,      AOS05,       4,          1,     282576,          7,2,20050821,       2129,    71.9190,  -151.8788,       2070,   837.5,   0.2016,  34.8687,2,  34.8685,2,    298.1,2,   299.2,2,    7.55,2,   12.84,2,    0.00,2,    0.90,2,-999.000,5,   1.221,2,-999.000,5,-999.0000,9,  2155.8,2,  2292.3,2,   7.8601,2,    15.00,-999.000,5,  837.50,   0.1641
77DN20050819,      AOS05,       4,          1,     282577,          8,2,20050821,       2129,    71.9190,  -151.8788,       2070,   838.4,   0.2012,  34.8687,2,-999.0000,9,   -999.0,9,  -999.0,9, -999.00,9, -999.00,9, -999.00,9, -999.00,9,-999.000,9,-999.000,9,-999.000,9,-999.0000,9,  -999.0,9,  -999.0,9,-999.0000,9,  -999.00,-999.000,9,  838.40,   0.1636
77DN20050819,      AOS05,       4,          1,     282578,          9,2,20050821,       2129,    71.9190,  -151.8788,       2070,   839.2,   0.1987,  34.8688,2,-999.0000,9,   -999.0,9,  -999.0,9, -999.00,9, -999.00,9, -999.00,9, -999.00,9,-999.000,9,-999.000,9,-999.000,9,-999.0000,9,  -999.0,9,  -999.0,9,-999.0000,9,  -999.00,-999.000,9,  839.20,   0.1611
77DN20050819,      AOS05,       4,          1,     282575,          6,2,20050821,       2129,    71.9190,  -151.8788,       2070,   979.8,   0.0579,  34.8771,2,  34.8768,2,    298.4,2,   299.5,2,    7.55,2,   12.83,2,    0.00,2,    0.90,2,   2.926,2,   1.260,2,   0.124,2,-999.0000,9,  2152.6,2,  2293.7,2,   7.8614,2,    15.00,   4.081,3,  979.80,   0.0140
77DN20050819,      AOS05,       4,          1,     282574,          5,2,20050821,       2129,    71.9190,  -151.8788,       2070,  1194.4,  -0.1095,  34.8900,2,  34.8890,2,    298.7,2,   300.6,2,    7.35,2,   12.91,2,    0.00,2,    0.90,2,   2.391,2,   0.977,2,   0.104,2,   0.1200,2,  2150.7,2,  2296.3,2,   7.8647,2,    15.00,   4.005,3, 1194.40,  -0.1638
77DN20050819,      AOS05,       4,          1,     282573,          4,2,20050821,       2129,    71.9190,  -151.8788,       2070,  1391.1,  -0.2229,  34.9029,2,  34.9028,2,    297.6,2,   298.8,2,    8.33,2,   13.23,2,    0.00,2,    0.92,2,   1.209,2,   0.525,2,   0.065,2,-999.0000,9,  2150.4,2,  2296.9,2,   7.8676,2,    15.00,   0.226,4, 1391.10,  -0.2872
77DN20050819,      AOS05,       4,          1,     282572,          3,2,20050821,       2129,    71.9190,  -151.8788,       2070,  1637.7,  -0.3370,  34.9205,2,  34.9194,2,    295.7,2,   297.2,2,    9.39,2,   13.68,2,    0.00,2,    0.96,2,   0.955,2,   0.430,2,   0.000,2,   0.0000,2,  2151.2,2,  2295.5,2,   7.8732,6,    15.00,   2.018,3, 1637.70,  -0.4148
77DN20050819,      AOS05,       4,          1,     282571,          2,2,20050821,       2129,    71.9190,  -151.8788,       2070,  1902.7,  -0.4039,  34.9414,2,  34.9399,2,    288.7,2,   290.5,2,   11.84,2,   14.34,2,    0.00,2,    1.02,2,   0.342,2,   0.165,2,   0.000,2,   0.0000,2,  2153.5,2,  2296.7,6,   7.8767,2,    15.00,   0.489,3, 1902.70,  -0.4978
77DN20050819,      AOS05,       4,          1,     282570,          1,2,20050821,       2129,    71.9190,  -151.8788,       2070,  2112.2,  -0.3986,  34.9514,2,  34.9482,2,    285.4,2,   285.3,2,   13.80,2,   14.61,2,    0.01,2,    1.04,2,   0.141,2,   0.093,2,   0.000,4,   0.0000,2,  2156.1,2,  2307.0,2,   7.8755,2,    15.00,   0.000,4, 2112.20,  -0.5066