BOTTLE,20211025CCHSIORKP
EXPOCODE,SECT_ID,STNNBR,CASTNO,SAMPNO,BTLNBR,BTLNBR_FLAG_W,DATE,TIME,LATITUDE,LONGITUDE,DEPTH,CTDPRS,CTDTMP,CTDSAL,CTDSAL_FLAG_W,SALNTY,SALNTY_FLAG_W,CTDOXY,CTDOXY_FLAG_W,OXYGEN,OXYGEN_FLAG_W,SILCAT,SILCAT_FLAG_W,NITRAT,NITRAT_FLAG_W,NITRIT,NITRIT_FLAG_W,PHSPHT,PHSPHT_FLAG_W,CFC-11,CFC-11_FLAG_W,CFC-12,CFC-12_FLAG_W,CFC113,CFC113_FLAG_W,SF6,SF6_FLAG_W,TCARBN,TCARBN_FLAG_W,ALKALI,ALKALI_FLAG_W,PH_SWS,PH_SWS_FLAG_W,PH_TMP,CCL4,CCL4_FLAG_W,CTDRAW,THETA
,,,,,,,,,,,METERS,DBAR,ITS-90,PSS-78,,PSS-78,,UMOL/KG,,UMOL/KG,,UMOL/KG,,UMOL/KG,,UMOL/KG,,UMOL/KG,,PMOL/KG,,PMOL/KG,,PMOL/KG,,FMOL/KG,,UMOL/KG,,UMOL/KG,,,,DEG C,PMOL/KG,,DBAR,DEG C
77DN20050819,      AOS05,      17,          4,     283046,         36,2,20050830,       0229,    81.4050,  -145.5275,       3817,     2.0,  -1.5554,  29.5955,2,-999.0000,9,   -999.0,9,  -999.0,9, -999.00,9, -999.00,9, -999.00,9, -999.00,9,-999.000,9,-999.000,9,-999.000,9,-999.0000,9,  -999.0,9,  -999.0,9,-999.0000,9,  -999.00,-999.000,9,    2.00,  -1.5555
77DN20050819,      AOS05,      17,          4,     283045,         35,2,20050830,       0229,    81.4050,  -145.5275,       3817,     2.0,  -1.5560,  29.5950,2,  29.5824,2,   -999.0,9,  -999.0,9,    3.27,2,    0.00,2,    0.00,2,    0.80,2,-999.000,9,-999.000,9,-999.000,9,-999.0000,9,  -999.0,9,  -999.0,9,-999.0000,9,  -999.00,-999.000,9,    2.00,  -1.5560
77DN20050819,      AOS05,      17,          4,     283044,         34,2,20050830,       0229,    81.4050,  -145.5275,       3817,     9.8,  -1.5541,  29.6030,2,-999.0000,9,   -999.0,9,  -999.0,9, -999.00,9, -999.00,9, -999.00,9, -999.00,9,-999.000,9,-999.000,9,-999.000,9,-999.0000,9,  -999.0,9,  -999.0,9,-999.0000,9,  -999.00,-999.000,9,    9.80,  -1.5542
77DN20050819,      AOS05,      17,          4,     283043,         33,2,20050830,       0229,    81.4050,  -145.5275,       3817,     9.8,  -1.5547,  29.6030,2,  29.6338,2,    306.5,2,   415.7,4,    3.28,2,    0.00,2,    0.00,2,    0.80,2,   8.025,2,   3.847,2,   0.765,2,-999.0000,5,  1953.0,2,  2075.2,2,   7.8913,2,    15.00,  10.217,2,    9.80,  -1.5548
77DN20050819,      AOS05,      17,          4,     283042,         32,2,20050830,       0229,    81.4050,  -145.5275,       3817,    19.9,  -1.4990,  29.8488,2,-999.0000,9,   -999.0,9,  -999.0,9, -999.00,9, -999.00,9, -999.00,9, -999.00,9,-999.000,9,-999.000,9,-999.000,9,-999.0000,9,  -999.0,9,  -999.0,9,-999.0000,9,  -999.00,-999.000,9,   19.90,  -1.4992
77DN20050819,      AOS05,      17,          4,     283041,         31,2,20050830,       0229,    81.4050,  -145.5275,       3817,    19.9,  -1.5061,  29.8104,2,  30.0215,2,    396.4,2,   399.0,2,    3.57,2,    0.00,2,    0.00,2,    0.80,2,   7.901,2,   3.819,2,   0.758,2,   2.2600,2,  1981.4,2,  2101.6,2,   7.8868,2,    15.00,   9.366,2,   19.90,  -1.5064
77DN20050819,      AOS05,      17,          4,     283040,         30,2,20050830,       0229,    81.4050,  -145.5275,       3817,    29.9,  -1.4755,  30.5211,2,-999.0000,9,   -999.0,9,  -999.0,9, -999.00,9, -999.00,9, -999.00,9, -999.00,9,-999.000,9,-999.000,9,-999.000,9,-999.0000,9,  -999.0,9,  -999.0,9,-999.0000,9,  -999.00,-999.000,9,   29.90,  -1.4759
77DN20050819,      AOS05,      17,          4,     283039,         29,2,20050830,       0229,    81.4050,  -145.5275,       3817,    29.9,  -1.4823,  30.5430,2,  30.5923,2,    402.7,2,   405.7,4,    3.31,2, -999.00,9,    0.01,2,    0.83,2,   8.145,2,   3.891,2,   0.759,2,-999.0000,9,  2020.8,2,  2141.3,2,   7.8864,2,    15.00,   9.798,3,   29.90,  -1.4828
77DN20050819,      AOS05,      17,          4,     283038,         28,2,20050830,       0229,    81.4050,  -145.5275,       3817,    39.8,  -1.5720,  30.7688,2,-999.0000,9,   -999.0,9,  -999.0,9, -999.00,9, -999.00,9, -999.00,9, -999.00,9,-999.000,9,-999.000,9,-999.000,9,-999.0000,9,  -999.0,9,  -999.0,9,-999.0000,9,  -999.00,-999.000,9,   39.80,  -1.5726
77DN20050819,      AOS05,      17,          4,     283037,         27,2,20050830,       0229,    81.4050,  -145.5275,       3817,    39.8,  -1.5724,  30.7689,2,-999.0000,9,   -999.0,9,  -999.0,9, -999.00,9, -999.00,9, -999.00,9, -999.00,9,-999.000,9,-999.000,9,-999.000,9,-999.0000,9,  -999.0,9,  -999.0,9,-999.0000,9,  -999.00,-999.000,9,   39.80,  -1.5729
77DN20050819,      AOS05,      17,          4,     283036,         26,2,20050830,       0229,    81.4050,  -145.5275,       3817,    39.8,  -1.5735,  30.7711,2,-999.0000,9,   -999.0,9,  -999.0,9, -999.00,9, -999.00,9, -999.00,9, -999.00,9,-999.000,9,-999.000,9,-999.000,9,-999.0000,9,  -999.0,9,  -999.0,9,-999.0000,9,  -999.00,-999.000,9,   39.80,  -1.5740
77DN20050819,      AOS05,      17,          4,     283035,         25,2,20050830,       0229,    81.4050,  -145.5275,       3817,    39.8,  -1.5723,  30.7699,2,  30.7779,2,    401.0,2,   403.5,4,    3.87,2,   -0.09,2,    0.09,2,    0.84,2,   7.760,2,   3.848,2,   0.763,2,   2.3800,2,  2038.3,2,  2153.0,2,   7.8681,2,    15.00,  10.211,2,   39.80,  -1.5729
77DN20050819,      AOS05,      17,          4,     283034,         24,2,20050830,       0229,    81.4050,  -145.5275,       3817,    49.8,  -1.5715,  30.9301,2,-999.0000,9,   -999.0,9,  -999.0,9, -999.00,9, -999.00,9, -999.00,9, -999.00,9,-999.000,9,-999.000,9,-999.000,9,-999.0000,9,  -999.0,9,  -999.0,9,-999.0000,9,  -999.00,-999.000,9,   49.80,  -1.5722
77DN20050819,      AOS05,      17,          4,     283033,         23,2,20050830,       0229,    81.4050,  -145.5275,       3817,    49.8,  -1.5701,  30.9317,2,  30.9532,2,    390.2,2,   394.4,2,    4.43,2,    1.06,2,    0.05,2,    0.92,2,   7.945,2,   3.789,2,   0.775,2,   2.3900,2,  2052.4,2,  2162.6,2,   7.8612,2,    15.00,   8.539,2,   49.80,  -1.5709
77DN20050819,      AOS05,      17,          4,     283032,         22,2,20050830,       0229,    81.4050,  -145.5275,       3817,    65.0,  -1.4443,  31.5721,2,-999.0000,9,   -999.0,9,  -999.0,9, -999.00,9, -999.00,9, -999.00,9, -999.00,9,-999.000,9,-999.000,9,-999.000,9,-999.0000,9,  -999.0,9,  -999.0,9,-999.0000,9,  -999.00,-999.000,9,   65.00,  -1.4454
77DN20050819,      AOS05,      17,          4,     283031,         21,2,20050830,       0229,    81.4050,  -145.5275,       3817,    65.0,  -1.4448,  31.5706,2,  31.5736,2,    361.8,2,   345.0,2,   11.25,2,    5.73,2,    0.02,2,    1.25,2,   7.187,2,   3.614,2,   0.621,2,   1.7800,2,  2113.6,2,  2181.0,2,   7.7785,2,    15.00,   7.320,2,   65.00,  -1.4459
77DN20050819,      AOS05,      17,          4,     283030,         20,4,20050830,       0229,    81.4050,  -145.5275,       3817,    80.0,  -1.3754,  32.1645,2,  31.5901,4,    309.6,2,   334.3,4,   11.72,4,    5.97,4,    0.02,4,    1.26,4,   7.286,2,   3.618,2,   0.614,2,   2.0200,2,  2099.9,4,  2181.7,4,   7.7734,4,    15.00,   7.165,2,   80.00,  -1.3769
77DN20050819,      AOS05,      17,          4,     283029,         19,2,20050830,       0229,    81.4050,  -145.5275,       3817,    95.0,  -1.1188,  32.5104,2,-999.0000,9,   -999.0,9,  -999.0,9, -999.00,9, -999.00,9, -999.00,9, -999.00,9,-999.000,9,-999.000,9,-999.000,9,-999.0000,9,  -999.0,9,  -999.0,9,-999.0000,9,  -999.00,-999.000,9,   95.00,  -1.1210
77DN20050819,      AOS05,      17,          4,     283028,         18,2,20050830,       0229,    81.4050,  -145.5275,       3817,    95.0,  -1.1231,  32.5062,2,  32.5535,2,    282.6,2,   255.9,2,   34.33,2,   14.72,2,    0.00,2,    1.93,2,   5.788,2,   2.642,3,   0.435,2,   1.9500,2,  2198.5,2,  2223.2,2,   7.5886,6,    15.00,   5.191,2,   95.00,  -1.1252
77DN20050819,      AOS05,      17,          4,     283026,         16,2,20050830,       0229,    81.4050,  -145.5275,       3817,   110.0,  -1.1664,  32.8170,2,-999.0000,9,   -999.0,9,  -999.0,9, -999.00,9, -999.00,9, -999.00,9, -999.00,9,-999.000,9,-999.000,9,-999.000,9,-999.0000,9,  -999.0,9,  -999.0,9,-999.0000,9,  -999.00,-999.000,9,  110.00,  -1.1688
77DN20050819,      AOS05,      17,          4,     283025,         15,2,20050830,       0229,    81.4050,  -145.5275,       3817,   110.0,  -1.1676,  32.8181,2,  32.9646,2,    257.6,2,   259.9,2,   37.99,2,   16.08,2,    0.00,2,    1.99,2,   6.261,2,   3.142,2,   0.437,2,-999.0000,9,  2228.5,2,  2247.1,2,   7.5625,2,    15.00,   5.004,2,  110.00,  -1.1701
77DN20050819,      AOS05,      17,          4,     283027,         17,2,20050830,       0229,    81.4050,  -145.5275,       3817,   110.0,  -1.1732,  32.8217,2,-999.0000,9,   -999.0,9,  -999.0,9, -999.00,9, -999.00,9, -999.00,9, -999.00,9,-999.000,9,-999.000,9,-999.000,9,-999.0000,9,  -999.0,9,  -999.0,9,-999.0000,9,  -999.00,-999.000,9,  110.00,  -1.1757
77DN20050819,      AOS05,      17,          4,     283024,         14,2,20050830,       0229,    81.4050,  -145.5275,       3817,   121.1,  -1.4207,  33.2525,2,-999.0000,9,   -999.0,9,  -999.0,9, -999.00,9, -999.00,9, -999.00,9, -999.00,9,-999.000,9,-999.000,9,-999.000,9,-999.0000,9,  -999.0,9,  -999.0,9,-999.0000,9,  -999.00,-999.000,9,  121.10,  -1.4232
77DN20050819,      AOS05,      17,          4,     283023,         13,2,20050830,       0229,    81.4050,  -145.5275,       3817,   121.1,  -1.4220,  33.2526,2,-999.0000,9,   -999.0,9,  -999.0,9, -999.00,9, -999.00,9, -999.00,9, -999.00,9,-999.000,9,-999.000,9,-999.000,9,-999.0000,9,  -999.0,9,  -999.0,9,-999.0000,9,  -999.00,-999.000,9,  121.10,  -1.4246
77DN20050819,      AOS05,      17,          4,     283022,         12,2,20050830,       0229,    81.4050,  -145.5275,       3817,   121.1,  -1.4231,  33.2445,2,  33.4309,2,    267.6,2,   279.5,3,   29.42,2,   14.05,2,    0.00,2,    1.57,2,   6.648,2,   3.008,2,   0.470,2,   1.5200,2,  2207.3,2,  2259.3,2,   7.6623,2,    15.00,   5.973,2,  121.10,  -1.4257
77DN20050819,      AOS05,      17,          4,     283021,         11,2,20050830,       0229,    81.4050,  -145.5275,       3817,   141.0,  -1.3954,  33.7126,2,-999.0000,9,   -999.0,9,  -999.0,9, -999.00,9, -999.00,9, -999.00,9, -999.00,9,-999.000,9,-999.000,9,-999.000,9,-999.0000,9,  -999.0,9,  -999.0,9,-999.0000,9,  -999.00,-999.000,9,  141.00,  -1.3986
77DN20050819,      AOS05,      17,          4,     283019,          9,2,20050830,       0229,    81.4050,  -145.5275,       3817,   141.0,  -1.3989,  33.7106,2,  33.7569,2,    272.8,2,   283.5,2,   23.41,2,   12.76,2,    0.00,2,    1.31,2,   4.878,4,-999.000,5,   0.274,4,   1.1800,2,  2213.6,2,  2268.3,2,   7.6692,2,    15.00,   3.609,3,  141.00,  -1.4021
77DN20050819,      AOS05,      17,          4,     283020,         10,2,20050830,       0229,    81.4050,  -145.5275,       3817,   141.0,  -1.3990,  33.7081,2,-999.0000,9,   -999.0,9,  -999.0,9, -999.00,9, -999.00,9, -999.00,9, -999.00,9,-999.000,9,-999.000,9,-999.000,9,-999.0000,9,  -999.0,9,  -999.0,9,-999.0000,9,  -999.00,-999.000,9,  141.00,  -1.4022
77DN20050819,      AOS05,      17,          4,     283018,          8,2,20050830,       0229,    81.4050,  -145.5275,       3817,   156.0,  -1.3534,  34.0185,2,-999.0000,9,    287.2,2,   287.7,2,   12.79,2,   10.81,2,    0.00,2,    0.97,2,   6.606,2,   3.034,2,   0.478,2,   1.3400,2,  2188.2,2,  2266.3,2,   7.7449,2,    15.00,   5.987,2,  156.00,  -1.3571
77DN20050819,      AOS05,      17,          4,     283017,          7,2,20050830,       0229,    81.4050,  -145.5275,       3817,   171.0,  -1.1518,  34.1682,2,  34.2055,2,    292.5,2,   294.2,2,    9.18,2,   10.34,2,    0.00,2,    0.85,2,   6.804,2,   2.966,2,   0.465,2,   1.2300,2,  2179.2,2,  2266.5,2,   7.7819,2,    15.00,   5.510,2,  171.00,  -1.1563
77DN20050819,      AOS05,      17,          4,     283014,          4,2,20050830,       0229,    81.4050,  -145.5275,       3817,   186.1,  -0.7786,  34.3021,2,  34.3084,2,    295.2,2,   311.3,4,    7.65,2,   10.39,2,    0.00,2,    0.82,2,   4.878,4,-999.000,5,   0.272,4,   1.2000,2,  2174.4,2,  2269.0,2,   7.7925,2,    15.00,   4.342,3,  186.10,  -0.7841
77DN20050819,      AOS05,      17,          4,     283016,          6,2,20050830,       0229,    81.4050,  -145.5275,       3817,   186.2,  -0.7524,  34.3052,2,-999.0000,9,   -999.0,9,  -999.0,9, -999.00,9, -999.00,9, -999.00,9, -999.00,9,-999.000,9,-999.000,9,-999.000,9,-999.0000,9,  -999.0,9,  -999.0,9,-999.0000,9,  -999.00,-999.000,9,  186.20,  -0.7580
77DN20050819,      AOS05,      17,          4,     283015,          5,2,20050830,       0229,    81.4050,  -145.5275,       3817,   186.2,  -0.7760,  34.3032,2,-999.0000,9,   -999.0,9,  -999.0,9, -999.00,9, -999.00,9, -999.00,9, -999.00,9,-999.000,9,-999.000,9,-999.000,9,-999.0000,9,  -999.0,9,  -999.0,9,-999.0000,9,  -999.00,-999.000,9,  186.20,  -0.7815
77DN20050819,      AOS05,      17,          4,     283013,          3,2,20050830,       0229,    81.4050,  -145.5275,       3817,   201.1,  -0.4868,  34.3948,2,  34.3939,2,    295.5,2,   295.6,2,    7.31,2,   10.66,2,    0.00,2,    0.82,2,   6.190,2,   2.828,2,   0.409,2,   1.2500,2,  2173.0,2,  2274.2,2,   7.8014,2,    15.00,   6.554,3,  201.10,  -0.4933
77DN20050819,      AOS05,      17,          4,     283012,          2,2,20050830,       0229,    81.4050,  -145.5275,       3817,   221.1,  -0.1520,  34.4967,2,-999.0000,9,   -999.0,9,  -999.0,9, -999.00,9, -999.00,9, -999.00,9, -999.00,9,-999.000,9,-999.000,9,-999.000,9,-999.0000,9,  -999.0,9,  -999.0,9,-999.0000,9,  -999.00,-999.000,9,  221.10,  -0.1598
77DN20050819,      AOS05,      17,          4,     283011,          1,2,20050830,       0229,    81.4050,  -145.5275,       3817,   221.1,  -0.1519,  34.4966,2,  34.4910,2,    293.3,2,   294.9,2,    6.78,2,   11.08,2,    0.00,2,    0.82,2,   6.258,2,   2.734,2,   0.405,2,   1.0100,2,  2173.0,2,  2277.5,2,   7.8199,2,    15.00,   5.894,2,  221.10,  -0.1598