BOTTLE,20211025CCHSIORKP
EXPOCODE,SECT_ID,STNNBR,CASTNO,SAMPNO,BTLNBR,BTLNBR_FLAG_W,DATE,TIME,LATITUDE,LONGITUDE,DEPTH,CTDPRS,CTDTMP,CTDSAL,CTDSAL_FLAG_W,SALNTY,SALNTY_FLAG_W,CTDOXY,CTDOXY_FLAG_W,OXYGEN,OXYGEN_FLAG_W,SILCAT,SILCAT_FLAG_W,NITRAT,NITRAT_FLAG_W,NITRIT,NITRIT_FLAG_W,PHSPHT,PHSPHT_FLAG_W,CFC-11,CFC-11_FLAG_W,CFC-12,CFC-12_FLAG_W,CFC113,CFC113_FLAG_W,SF6,SF6_FLAG_W,TCARBN,TCARBN_FLAG_W,ALKALI,ALKALI_FLAG_W,PH_SWS,PH_SWS_FLAG_W,PH_TMP,CCL4,CCL4_FLAG_W,CTDRAW,THETA
,,,,,,,,,,,METERS,DBAR,ITS-90,PSS-78,,PSS-78,,UMOL/KG,,UMOL/KG,,UMOL/KG,,UMOL/KG,,UMOL/KG,,UMOL/KG,,PMOL/KG,,PMOL/KG,,PMOL/KG,,FMOL/KG,,UMOL/KG,,UMOL/KG,,,,DEG C,PMOL/KG,,DBAR,DEG C
77DN20050819,      AOS05,      32,          1,     283472,         36,2,20050907,       1138,    87.6065,   149.3615,       2038,     2.0,  -1.7528,  32.2297,2,  32.2325,2,    382.4,2,   384.7,2,    3.51,2,    1.91,2,    0.03,2,    0.40,2,-999.000,9,-999.000,9,-999.000,9,-999.0000,9,  -999.0,9,  -999.0,9,-999.0000,9,  -999.00,-999.000,9,    2.00,  -1.7528
77DN20050819,      AOS05,      32,          1,     283471,         35,2,20050907,       1138,    87.6065,   149.3615,       2038,     9.2,  -1.7526,  32.2323,2,-999.0000,9,   -999.0,9,  -999.0,9, -999.00,9, -999.00,9, -999.00,9, -999.00,9,-999.000,9,-999.000,9,-999.000,9,-999.0000,9,  -999.0,9,  -999.0,9,-999.0000,9,  -999.00,-999.000,9,    9.20,  -1.7527
77DN20050819,      AOS05,      32,          1,     283470,         34,2,20050907,       1138,    87.6065,   149.3615,       2038,     9.2,  -1.7527,  32.2321,2,  32.2319,2,    382.8,2,   383.8,2,    3.58,2,    1.91,2,    0.03,2,    0.40,2,   7.157,2,   3.816,2,   0.786,2,-999.0000,9,  2099.2,2,  2226.4,2,   7.8473,2,    15.00,-999.000,5,    9.20,  -1.7528
77DN20050819,      AOS05,      32,          1,     283469,         33,2,20050907,       1138,    87.6065,   149.3615,       2038,    17.6,  -1.7522,  32.2347,2,-999.0000,9,   -999.0,9,  -999.0,9, -999.00,9, -999.00,9, -999.00,9, -999.00,9,-999.000,9,-999.000,9,-999.000,9,-999.0000,9,  -999.0,9,  -999.0,9,-999.0000,9,  -999.00,-999.000,9,   17.60,  -1.7525
77DN20050819,      AOS05,      32,          1,     283468,         32,2,20050907,       1138,    87.6065,   149.3615,       2038,    17.6,  -1.7522,  32.2346,2,-999.0000,9,   -999.0,9,  -999.0,9, -999.00,9, -999.00,9, -999.00,9, -999.00,9,-999.000,9,-999.000,9,-999.000,9,-999.0000,9,  -999.0,9,  -999.0,9,-999.0000,9,  -999.00,-999.000,9,   17.60,  -1.7525
77DN20050819,      AOS05,      32,          1,     283467,         31,2,20050907,       1138,    87.6065,   149.3615,       2038,    17.6,  -1.7523,  32.2341,2,-999.0000,9,   -999.0,9,  -999.0,9, -999.00,9, -999.00,9, -999.00,9, -999.00,9,-999.000,9,-999.000,9,-999.000,9,-999.0000,9,  -999.0,9,  -999.0,9,-999.0000,9,  -999.00,-999.000,9,   17.60,  -1.7525
77DN20050819,      AOS05,      32,          1,     283466,         30,2,20050907,       1138,    87.6065,   149.3615,       2038,    17.6,  -1.7523,  32.2339,2,  32.2407,2,    383.0,2,   384.0,2,    3.30,2,    1.91,2,    0.03,2,    0.40,2,-999.000,9,-999.000,9,-999.000,9,-999.0000,9,  2098.8,2,  2226.9,2,   7.8502,2,    15.00,-999.000,9,   17.60,  -1.7526
77DN20050819,      AOS05,      32,          1,     283465,         29,2,20050907,       1138,    87.6065,   149.3615,       2038,    27.9,  -1.7496,  32.3008,2,-999.0000,9,   -999.0,9,  -999.0,9, -999.00,9, -999.00,9, -999.00,9, -999.00,9,-999.000,9,-999.000,9,-999.000,9,-999.0000,9,  -999.0,9,  -999.0,9,-999.0000,9,  -999.00,-999.000,9,   27.90,  -1.7501
77DN20050819,      AOS05,      32,          1,     283464,         28,2,20050907,       1138,    87.6065,   149.3615,       2038,    27.9,  -1.7496,  32.3008,2,  32.3849,2,    382.6,2,   379.6,2,    4.01,2,    2.50,2,    0.04,2,    0.48,2,   7.329,2,   3.844,2,   0.906,2,-999.0000,9,  2109.7,2,  2242.3,2,   7.8333,2,    15.00,-999.000,5,   27.90,  -1.7500
77DN20050819,      AOS05,      32,          1,     283463,         27,2,20050907,       1138,    87.6065,   149.3615,       2038,    38.3,  -1.7501,  32.4223,2,-999.0000,9,   -999.0,9,  -999.0,9, -999.00,9, -999.00,9, -999.00,9, -999.00,9,-999.000,9,-999.000,9,-999.000,9,-999.0000,9,  -999.0,9,  -999.0,9,-999.0000,9,  -999.00,-999.000,9,   38.30,  -1.7507
77DN20050819,      AOS05,      32,          1,     283462,         26,2,20050907,       1138,    87.6065,   149.3615,       2038,    38.3,  -1.7505,  32.4220,2,  32.4556,2,    377.4,2,   377.9,2,    4.18,2,    2.69,2,    0.04,2,    0.50,2,-999.000,9,-999.000,9,-999.000,9,-999.0000,9,  2131.3,2,  2240.8,2,   7.8241,2,    15.00,-999.000,9,   38.30,  -1.7511
77DN20050819,      AOS05,      32,          1,     283461,         25,2,20050907,       1138,    87.6065,   149.3615,       2038,    48.6,  -1.7246,  32.7661,2,-999.0000,9,   -999.0,9,  -999.0,9, -999.00,9, -999.00,9, -999.00,9, -999.00,9,-999.000,9,-999.000,9,-999.000,9,-999.0000,9,  -999.0,9,  -999.0,9,-999.0000,9,  -999.00,-999.000,9,   48.60,  -1.7254
77DN20050819,      AOS05,      32,          1,     283460,         24,2,20050907,       1138,    87.6065,   149.3615,       2038,    48.6,  -1.7243,  32.7616,2,  32.8397,2,    371.9,2,   361.7,2,    5.17,2,    4.10,2,    0.05,2,    0.60,2,   7.443,2,   3.838,2,   0.816,2,-999.0000,9,  2158.0,2,  2261.8,2,   7.8007,2,    15.00,-999.000,5,   48.60,  -1.7252
77DN20050819,      AOS05,      32,          1,     283458,         22,2,20050907,       1138,    87.6065,   149.3615,       2038,    63.8,  -1.6542,  33.6395,2,  33.6625,2,    327.5,2,   320.4,2,    6.15,2,    7.72,2,    0.01,2,    0.67,2,   6.830,2,   3.429,2,   0.641,2,-999.0000,9,  2178.0,2,  2280.6,2,   7.7885,2,    15.00,-999.000,5,   63.80,  -1.6554
77DN20050819,      AOS05,      32,          1,     283459,         23,2,20050907,       1138,    87.6065,   149.3615,       2038,    63.9,  -1.6545,  33.6381,2,-999.0000,9,   -999.0,9,  -999.0,9, -999.00,9, -999.00,9, -999.00,9, -999.00,9,-999.000,9,-999.000,9,-999.000,9,-999.0000,9,  -999.0,9,  -999.0,9,-999.0000,9,  -999.00,-999.000,9,   63.90,  -1.6558
77DN20050819,      AOS05,      32,          1,     283457,         21,2,20050907,       1138,    87.6065,   149.3615,       2038,    74.2,  -1.6072,  33.8969,2,  33.9274,2,    317.0,2,   317.5,2, -999.00,9, -999.00,9, -999.00,9, -999.00,9,   6.852,2,   3.390,2,   0.629,2,-999.0000,9,  2171.6,2,  2277.4,2,   7.8028,2,    15.00,-999.000,5,   74.20,  -1.6087
77DN20050819,      AOS05,      32,          1,     283456,         20,2,20050907,       1138,    87.6065,   149.3615,       2038,    84.5,  -1.4820,  34.0725,2,  34.0902,2,    312.5,2,   314.2,2,    5.32,2,    8.68,2,    0.01,2,    0.68,2,   6.574,2,   3.216,2,   0.585,2,-999.0000,9,  2170.6,2,  2282.3,2,   7.8134,2,    15.00,-999.000,5,   84.50,  -1.4838
77DN20050819,      AOS05,      32,          1,     283455,         19,2,20050907,       1138,    87.6065,   149.3615,       2038,    99.8,  -1.2284,  34.1814,2,-999.0000,9,   -999.0,9,  -999.0,9, -999.00,9, -999.00,9, -999.00,9, -999.00,9,-999.000,9,-999.000,9,-999.000,9,-999.0000,9,  -999.0,9,  -999.0,9,-999.0000,9,  -999.00,-999.000,9,   99.80,  -1.2308
77DN20050819,      AOS05,      32,          1,     283454,         18,2,20050907,       1138,    87.6065,   149.3615,       2038,    99.8,  -1.2241,  34.1830,2,  34.1944,2,    309.8,2,   312.4,2,    5.05,2,    9.11,2,    0.01,2,    0.69,2,   6.431,2,   3.216,2,   0.537,2,-999.0000,9,  2173.3,2,  2282.2,2,   7.8248,2,    15.00,-999.000,5,   99.80,  -1.2266
77DN20050819,      AOS05,      32,          1,     283453,         17,2,20050907,       1138,    87.6065,   149.3615,       2038,   120.1,  -0.7163,  34.3087,2,  34.3163,2,    307.2,2,   307.3,2,    5.30,2,    9.87,2,    0.00,2,    0.73,2,   5.872,2,   2.873,2,   0.452,2,-999.0000,9,  2169.8,2,  2286.0,2,   7.8260,2,    15.00,-999.000,5,  120.10,  -0.7199
77DN20050819,      AOS05,      32,          1,     283452,         16,2,20050907,       1138,    87.6065,   149.3615,       2038,   140.2,  -0.2549,  34.4329,2,  34.4454,2,    300.6,2,   300.0,2,    5.74,2,   10.78,2,    0.00,2,    0.77,2,   5.247,2,   2.534,2,   0.469,2,-999.0000,9,  2173.7,2,  2293.1,2,   7.8253,2,    15.00,-999.000,5,  140.20,  -0.2596
77DN20050819,      AOS05,      32,          1,     283451,         15,2,20050907,       1138,    87.6065,   149.3615,       2038,   170.4,   0.2791,  34.5952,2,  34.6006,2,    294.4,2,   296.4,2,    6.28,2,   11.68,2,    0.00,2,    0.82,2,   4.414,2,-999.000,5,   0.319,2,-999.0000,9,  2175.5,2,  2286.8,2,   7.8400,2,    15.00,-999.000,5,  170.40,   0.2724
77DN20050819,      AOS05,      32,          1,     283450,         14,2,20050907,       1138,    87.6065,   149.3615,       2038,   200.6,   0.6437,  34.7258,2,  34.7499,2,    292.2,2,   294.3,2,    6.35,2,   12.43,2,    0.00,2,    0.85,2,   4.015,2,   2.003,2,   0.368,2,-999.0000,9,  2168.9,2,  2304.4,2,   7.8580,2,    15.00,-999.000,5,  200.60,   0.6351
77DN20050819,      AOS05,      32,          1,     283449,         13,2,20050907,       1138,    87.6065,   149.3615,       2038,   231.0,   0.8269,  34.7953,2,  34.7941,2,    294.0,2,   294.9,2,    6.16,2,   12.63,2,    0.00,2,    0.86,2,   4.490,2,   2.220,2,   0.323,2,-999.0000,9,  2172.2,2,  2294.7,2,   7.8670,2,    15.00,-999.000,5,  231.00,   0.8166
77DN20050819,      AOS05,      32,          1,     283448,         12,2,20050907,       1138,    87.6065,   149.3615,       2038,   265.9,   0.9660,  34.8460,2,  34.8453,2,    297.1,2,   298.0,2,    5.87,2,   12.72,2,    0.00,2,    0.85,2,   4.536,2,   2.208,2,   0.181,3,-999.0000,9,  2172.4,2,  2301.3,2,   7.8674,2,    15.00,-999.000,5,  265.90,   0.9537
77DN20050819,      AOS05,      32,          1,     283447,         11,2,20050907,       1138,    87.6065,   149.3615,       2038,   310.9,   0.8774,  34.8427,2,  34.8422,2,    296.7,2,   297.5,2,    6.05,2,   12.82,2,    0.00,2,    0.86,2,   4.113,2,   2.037,2,   0.287,2,-999.0000,9,  2164.6,2,  2298.2,2,   7.8671,2,    15.00,-999.000,5,  310.90,   0.8632
77DN20050819,      AOS05,      32,          1,     283446,         10,2,20050907,       1138,    87.6065,   149.3615,       2038,   360.8,   0.7832,  34.8629,2,  34.8611,2,    299.7,2,   299.2,2,    6.04,2,   12.87,2,    0.00,2,    0.87,2,   4.158,2,   2.061,2,   0.300,2,-999.0000,9,  2169.0,2,  2310.6,2,   7.8663,2,    15.00,-999.000,5,  360.80,   0.7668
77DN20050819,      AOS05,      32,          1,     283445,          9,2,20050907,       1138,    87.6065,   149.3615,       2038,   415.6,   0.6157,  34.8586,2,  34.8586,2,    297.7,2,   298.3,2,    6.29,2,   12.92,2,    0.00,2,    0.88,2,   3.684,2,   1.892,2,   0.208,2,-999.0000,9,  2179.7,2,  2303.6,2,   7.8654,2,    15.00,-999.000,5,  415.60,   0.5972
77DN20050819,      AOS05,      32,          1,     283444,          8,2,20050907,       1138,    87.6065,   149.3615,       2038,   548.8,   0.4305,  34.8702,2,  34.8704,2,    297.1,2,   298.2,2,    6.56,2,   13.02,2,    0.00,2,    0.88,2,   2.860,2,   1.424,2,   0.178,2,-999.0000,9,  2167.8,2,  2299.1,2,   7.8676,2,    15.00,-999.000,5,  548.80,   0.4063
77DN20050819,      AOS05,      32,          1,     283443,          7,2,20050907,       1138,    87.6065,   149.3615,       2038,   697.8,   0.1661,  34.8742,2,  34.8743,2,    299.9,2,   301.1,2,    6.46,2,   12.98,2,    0.00,2,    0.89,2,   3.047,2,   1.538,2,   0.199,2,-999.0000,9,  2176.4,2,  2304.5,2,   7.8649,2,    15.00,-999.000,5,  697.80,   0.1360
77DN20050819,      AOS05,      32,          1,     283442,          6,2,20050907,       1138,    87.6065,   149.3615,       2038,   896.9,  -0.0563,  34.8854,2,  34.8866,2,    300.9,2,   301.3,2,    6.81,2,   13.12,2,    0.00,2,    0.91,2,   2.987,2,   1.537,2,   0.206,2,-999.0000,9,  2175.4,2,  2301.6,2,   7.8665,2,    15.00,-999.000,5,  896.90,  -0.0951
77DN20050819,      AOS05,      32,          1,     283441,          5,2,20050907,       1138,    87.6065,   149.3615,       2038,  1149.7,  -0.2580,  34.8989,2,  34.8992,2,    301.1,2,   303.2,2,    7.34,2,   13.31,2,    0.00,2,    0.92,2,   2.121,2,   1.130,2,   0.150,2,-999.0000,9,  2180.3,2,  2307.2,2,   7.8624,2,    15.00,-999.000,5, 1149.70,  -0.3084
77DN20050819,      AOS05,      32,          1,     283440,          4,2,20050907,       1138,    87.6065,   149.3615,       2038,  1398.9,  -0.4277,  34.9128,2,  34.9126,2,    299.8,2,   299.9,2,    8.60,2,   13.93,2,    0.00,2,    0.97,2,   1.838,2,   0.986,2,-999.000,5,-999.0000,9,  2182.1,2,  2313.5,2,   7.8606,2,    15.00,-999.000,5, 1398.90,  -0.4902
77DN20050819,      AOS05,      32,          1,     283439,          3,2,20050907,       1138,    87.6065,   149.3615,       2038,  1652.3,  -0.4260,  34.9471,2,  34.9471,2,    288.5,2,   289.3,2,   11.76,2,   14.81,2,    0.00,2,    1.03,2,   0.186,2,   0.142,2,   0.000,2,-999.0000,9,  2172.1,2,  2303.3,2,   7.8790,2,    15.00,-999.000,5, 1652.30,  -0.5036
77DN20050819,      AOS05,      32,          1,     283438,          2,2,20050907,       1138,    87.6065,   149.3615,       2038,  1902.1,  -0.4168,  34.9529,2,  34.9534,2,    286.7,2,   288.3,2,   12.47,2,   14.96,2,    0.00,2,    1.05,2,   0.149,2,   0.078,2,   0.000,2,-999.0000,9,  2167.4,2,  2304.4,2,   7.8767,2,    15.00,-999.000,5, 1902.10,  -0.5105
77DN20050819,      AOS05,      32,          1,     283437,          1,2,20050907,       1138,    87.6065,   149.3615,       2038,  2102.0,  -0.4089,  34.9547,2,  34.9534,2,    286.6,2,   287.7,2,   12.55,2,   14.96,2,    0.00,2,    1.05,2,   0.093,2,   0.094,2,   0.000,2,-999.0000,9,  2174.5,2,  2312.5,2,   7.8795,2,    15.00,-999.000,5, 2102.00,  -0.5161