BOTTLE,20211025CCHSIORKP
EXPOCODE,SECT_ID,STNNBR,CASTNO,SAMPNO,BTLNBR,BTLNBR_FLAG_W,DATE,TIME,LATITUDE,LONGITUDE,DEPTH,CTDPRS,CTDTMP,CTDSAL,CTDSAL_FLAG_W,SALNTY,SALNTY_FLAG_W,CTDOXY,CTDOXY_FLAG_W,OXYGEN,OXYGEN_FLAG_W,SILCAT,SILCAT_FLAG_W,NITRAT,NITRAT_FLAG_W,NITRIT,NITRIT_FLAG_W,PHSPHT,PHSPHT_FLAG_W,CFC-11,CFC-11_FLAG_W,CFC-12,CFC-12_FLAG_W,CFC113,CFC113_FLAG_W,SF6,SF6_FLAG_W,TCARBN,TCARBN_FLAG_W,ALKALI,ALKALI_FLAG_W,PH_SWS,PH_SWS_FLAG_W,PH_TMP,CCL4,CCL4_FLAG_W,CTDRAW,THETA
,,,,,,,,,,,METERS,DBAR,ITS-90,PSS-78,,PSS-78,,UMOL/KG,,UMOL/KG,,UMOL/KG,,UMOL/KG,,UMOL/KG,,UMOL/KG,,PMOL/KG,,PMOL/KG,,PMOL/KG,,FMOL/KG,,UMOL/KG,,UMOL/KG,,,,DEG C,PMOL/KG,,DBAR,DEG C
77DN20050819,      AOS05,      37,          1,     283616,         28,2,20050910,       0146,    88.7110,   160.4118,       2687,     9.2,  -1.6995,  31.1125,2,  31.1135,2,    396.1,2,   398.0,2,    4.17,2,    0.27,2,    0.02,2,    0.83,2,-999.000,9,-999.000,9,-999.000,9,-999.0000,9,  -999.0,9,  -999.0,9,-999.0000,9,  -999.00,-999.000,9,    9.20,  -1.6996
77DN20050819,      AOS05,      37,          1,     283615,         27,2,20050910,       0146,    88.7110,   160.4118,       2687,    19.8,  -1.6997,  31.1188,2,  31.1546,2,    396.6,2,   396.9,2,    4.17,2,    0.31,2,    0.02,2,    0.82,2,-999.000,9,-999.000,9,-999.000,9,-999.0000,9,  -999.0,9,  -999.0,9,-999.0000,9,  -999.00,-999.000,9,   19.80,  -1.6999
77DN20050819,      AOS05,      37,          1,     283614,         26,2,20050910,       0146,    88.7110,   160.4118,       2687,    35.0,  -1.7016,  31.9924,2,  32.0962,2,    384.0,2,   380.1,2,    5.62,2,    2.18,2,    0.06,2,    0.76,2,-999.000,9,-999.000,9,-999.000,9,-999.0000,9,  -999.0,9,  -999.0,9,-999.0000,9,  -999.00,-999.000,9,   35.00,  -1.7022
77DN20050819,      AOS05,      37,          1,     283613,         25,2,20050910,       0146,    88.7110,   160.4118,       2687,    50.3,  -1.7566,  32.8626,2,  32.9260,2,    367.9,2,   356.4,2,    5.70,2,    4.51,2,    0.01,2,    0.61,2,-999.000,9,-999.000,9,-999.000,9,-999.0000,9,  -999.0,9,  -999.0,9,-999.0000,9,  -999.00,-999.000,9,   50.30,  -1.7575
77DN20050819,      AOS05,      37,          1,     283612,         24,2,20050910,       0146,    88.7110,   160.4118,       2687,    68.3,  -1.6217,  33.8096,2,  33.8361,2,    322.6,2,   315.1,2,    6.59,2,    8.17,2,    0.00,2,    0.70,2,-999.000,9,-999.000,9,-999.000,9,-999.0000,9,  -999.0,9,  -999.0,9,-999.0000,9,  -999.00,-999.000,9,   68.30,  -1.6230
77DN20050819,      AOS05,      37,          1,     283611,         23,2,20050910,       0146,    88.7110,   160.4118,       2687,    78.6,  -1.5637,  33.9935,2,  34.0022,2,    314.0,2,   314.9,2,    5.67,2,    8.36,2,    0.00,2,    0.68,2,-999.000,9,-999.000,9,-999.000,9,-999.0000,9,  -999.0,9,  -999.0,9,-999.0000,9,  -999.00,-999.000,9,   78.60,  -1.5654
77DN20050819,      AOS05,      37,          1,     283610,         22,2,20050910,       0146,    88.7110,   160.4118,       2687,    89.0,  -1.4922,  34.0685,2,  34.0836,2,    312.2,2,   313.7,2,    5.57,2,    8.60,2,    0.00,2,    0.68,2,-999.000,9,-999.000,9,-999.000,9,-999.0000,9,  -999.0,9,  -999.0,9,-999.0000,9,  -999.00,-999.000,9,   89.00,  -1.4941
77DN20050819,      AOS05,      37,          1,     283609,         21,2,20050910,       0146,    88.7110,   160.4118,       2687,   109.3,  -0.9476,  34.2442,2,  34.2481,2,    308.9,2,   311.8,2,    5.30,2,    9.35,2,    0.00,2,    0.71,2,-999.000,9,-999.000,9,-999.000,9,-999.0000,9,  -999.0,9,  -999.0,9,-999.0000,9,  -999.00,-999.000,9,  109.30,  -0.9506
77DN20050819,      AOS05,      37,          1,     283608,         20,2,20050910,       0146,    88.7110,   160.4118,       2687,   129.5,  -0.4839,  34.3752,2,  34.3809,2,    303.6,2,   301.9,2,    6.01,2,   10.33,2,    0.00,2,    0.76,2,-999.000,9,-999.000,9,-999.000,9,-999.0000,9,  -999.0,9,  -999.0,9,-999.0000,9,  -999.00,-999.000,9,  129.50,  -0.4880
77DN20050819,      AOS05,      37,          1,     283607,         19,2,20050910,       0146,    88.7110,   160.4118,       2687,   149.8,  -0.1312,  34.4874,2,  34.4974,2,    298.0,2,   297.5,2,    6.19,2,   10.97,2,    0.00,2,    0.80,2,-999.000,9,-999.000,9,-999.000,9,-999.0000,9,  -999.0,9,  -999.0,9,-999.0000,9,  -999.00,-999.000,9,  149.80,  -0.1365
77DN20050819,      AOS05,      37,          1,     283606,         18,2,20050910,       0146,    88.7110,   160.4118,       2687,   170.0,   0.2209,  34.5837,2,  34.5915,2,    292.9,2,   293.8,2,    6.81,2,   11.65,2,    0.00,2,    0.82,2,-999.000,9,-999.000,9,-999.000,9,-999.0000,9,  -999.0,9,  -999.0,9,-999.0000,9,  -999.00,-999.000,9,  170.00,   0.2144
77DN20050819,      AOS05,      37,          1,     283605,         17,2,20050910,       0146,    88.7110,   160.4118,       2687,   195.1,   0.5141,  34.6898,2,  34.6949,2,    289.9,2,   292.3,2,    6.71,2,   12.19,2,    0.00,2,    0.86,2,-999.000,9,-999.000,9,-999.000,9,-999.0000,9,  -999.0,9,  -999.0,9,-999.0000,9,  -999.00,-999.000,9,  195.10,   0.5061
77DN20050819,      AOS05,      37,          1,     283604,         16,2,20050910,       0146,    88.7110,   160.4118,       2687,   230.3,   0.8042,  34.7936,2,  34.7937,2,    293.0,2,   294.5,2,    6.17,2,   12.43,2,    0.00,2,    0.87,2,-999.000,9,-999.000,9,-999.000,9,-999.0000,9,  -999.0,9,  -999.0,9,-999.0000,9,  -999.00,-999.000,9,  230.30,   0.7940
77DN20050819,      AOS05,      37,          1,     283603,         15,2,20050910,       0146,    88.7110,   160.4118,       2687,   271.2,   0.9459,  34.8445,2,  34.8469,2,    295.9,2,   297.8,2,    5.88,2,   12.63,2,    0.00,2,    0.87,2,-999.000,9,-999.000,9,-999.000,9,-999.0000,9,  -999.0,9,  -999.0,9,-999.0000,9,  -999.00,-999.000,9,  271.20,   0.9335
77DN20050819,      AOS05,      37,          1,     283602,         14,2,20050910,       0146,    88.7110,   160.4118,       2687,   343.9,   0.8051,  34.8601,2,  34.8609,2,    301.5,2,   301.8,2,    5.69,2,   12.48,2,    0.00,2,    0.85,2,-999.000,9,-999.000,9,-999.000,9,-999.0000,9,  -999.0,9,  -999.0,9,-999.0000,9,  -999.00,-999.000,9,  343.90,   0.7894
77DN20050819,      AOS05,      37,          1,     283601,         13,2,20050910,       0146,    88.7110,   160.4118,       2687,   398.5,   0.6456,  34.8582,2,  34.8584,2,    298.7,2,   299.5,2,    6.05,2,   12.67,2,    0.00,2,    0.87,2,-999.000,9,-999.000,9,-999.000,9,-999.0000,9,  -999.0,9,  -999.0,9,-999.0000,9,  -999.00,-999.000,9,  398.50,   0.6278
77DN20050819,      AOS05,      37,          1,     283600,         12,2,20050910,       0146,    88.7110,   160.4118,       2687,   498.0,   0.4366,  34.8664,2,  34.8670,2,    298.6,2,   300.5,2,    6.04,2,   12.72,2,    0.00,2,    0.87,2,-999.000,9,-999.000,9,-999.000,9,-999.0000,9,  -999.0,9,  -999.0,9,-999.0000,9,  -999.00,-999.000,9,  498.00,   0.4148
77DN20050819,      AOS05,      37,          1,     283599,         11,2,20050910,       0146,    88.7110,   160.4118,       2687,   601.1,   0.1977,  34.8634,2,  34.8635,2,    304.9,2,   306.0,2,    5.67,2,   12.33,2,    0.00,2,    0.86,2,-999.000,9,-999.000,9,-999.000,9,-999.0000,9,  -999.0,9,  -999.0,9,-999.0000,9,  -999.00,-999.000,9,  601.10,   0.1720
77DN20050819,      AOS05,      37,          1,     283598,         10,2,20050910,       0146,    88.7110,   160.4118,       2687,   750.0,  -0.0908,  34.8646,2,  34.8653,2,    305.9,2,   307.2,2,    5.76,2,   12.28,2,    0.00,2,    0.86,2,-999.000,9,-999.000,9,-999.000,9,-999.0000,9,  -999.0,9,  -999.0,9,-999.0000,9,  -999.00,-999.000,9,  750.00,  -0.1220
77DN20050819,      AOS05,      37,          1,     283597,          9,2,20050910,       0146,    88.7110,   160.4118,       2687,   899.3,  -0.2512,  34.8718,2,  34.8718,2,    307.5,2,   307.6,2,    5.92,2,   12.38,2,    0.00,2,    0.87,2,-999.000,9,-999.000,9,-999.000,9,-999.0000,9,  -999.0,9,  -999.0,9,-999.0000,9,  -999.00,-999.000,9,  899.30,  -0.2886
77DN20050819,      AOS05,      37,          1,     283596,          8,2,20050910,       0146,    88.7110,   160.4118,       2687,  1102.4,  -0.3424,  34.8893,2,  34.8901,2,    304.1,2,   305.2,2,    6.73,2,   12.92,2,    0.00,2,    0.91,2,-999.000,9,-999.000,9,-999.000,9,-999.0000,9,  -999.0,9,  -999.0,9,-999.0000,9,  -999.00,-999.000,9, 1102.40,  -0.3895
77DN20050819,      AOS05,      37,          1,     283595,          7,2,20050910,       0146,    88.7110,   160.4118,       2687,  1301.4,  -0.4136,  34.9038,2,  34.9053,2,    301.3,2,   302.3,2,    7.82,2,   13.46,2,    0.00,2,    0.95,2,-999.000,9,-999.000,9,-999.000,9,-999.0000,9,  -999.0,9,  -999.0,9,-999.0000,9,  -999.00,-999.000,9, 1301.40,  -0.4707
77DN20050819,      AOS05,      37,          1,     283594,          6,2,20050910,       0146,    88.7110,   160.4118,       2687,  1500.9,  -0.4431,  34.9165,2,  34.9181,2,    297.3,2,   299.3,2,    9.00,2,   13.98,2,    0.00,2,    0.98,2,-999.000,9,-999.000,9,-999.000,9,-999.0000,9,  -999.0,9,  -999.0,9,-999.0000,9,  -999.00,-999.000,9, 1500.90,  -0.5114
77DN20050819,      AOS05,      37,          1,     283593,          5,2,20050910,       0146,    88.7110,   160.4118,       2687,  1754.4,  -0.4502,  34.9329,2,  34.9341,2,    292.1,2,   293.2,2,   10.45,2,   14.47,2,    0.00,2,    1.01,2,-999.000,9,-999.000,9,-999.000,9,-999.0000,9,  -999.0,9,  -999.0,9,-999.0000,9,  -999.00,-999.000,9, 1754.40,  -0.5338
77DN20050819,      AOS05,      37,          1,     283592,          4,2,20050910,       0146,    88.7110,   160.4118,       2687,  2004.0,  -0.4421,  34.9424,2,  34.9438,2,    289.4,2,   290.6,2,   11.44,2,   14.67,2,    0.00,2,    1.03,2,-999.000,9,-999.000,9,-999.000,9,-999.0000,9,  -999.0,9,  -999.0,9,-999.0000,9,  -999.00,-999.000,9, 2004.00,  -0.5421
77DN20050819,      AOS05,      37,          1,     283591,          3,2,20050910,       0146,    88.7110,   160.4118,       2687,  2258.3,  -0.5261,  34.9361,2,  34.9367,2,    291.7,2,   293.4,2,   11.25,2,   14.76,2,    0.00,2,    1.03,2,-999.000,9,-999.000,9,-999.000,9,-999.0000,9,  -999.0,9,  -999.0,9,-999.0000,9,  -999.00,-999.000,9, 2258.30,  -0.6421
77DN20050819,      AOS05,      37,          1,     283590,          2,2,20050910,       0146,    88.7110,   160.4118,       2687,  2508.9,  -0.6283,  34.9276,2,  34.9280,2,    295.5,2,   296.9,2,   10.79,2,   14.77,2,    0.00,2,    1.02,2,-999.000,9,-999.000,9,-999.000,9,-999.0000,9,  -999.0,9,  -999.0,9,-999.0000,9,  -999.00,-999.000,9, 2508.90,  -0.7606
77DN20050819,      AOS05,      37,          1,     283589,          1,2,20050910,       0146,    88.7110,   160.4118,       2687,  2714.4,  -0.6717,  34.9251,2,  34.9254,2,    297.0,2,   298.2,2,   10.69,2,   14.81,2,    0.00,2,    1.02,2,-999.000,9,-999.000,9,-999.000,9,-999.0000,9,  -999.0,9,  -999.0,9,-999.0000,9,  -999.00,-999.000,9, 2714.40,  -0.8186
77DN20050819,      AOS05,      38,          1,     283631,          7,2,20050910,       0740,    88.8535,   159.6075,       2678,     9.3,  -1.7019,  31.2424,2,  31.2486,2,    395.4,2,   396.8,2, -999.00,9, -999.00,9, -999.00,9, -999.00,9,-999.000,9,-999.000,9,-999.000,9,-999.0000,9,  -999.0,9,  -999.0,9,-999.0000,9,  -999.00,-999.000,9,    9.30,  -1.7020
77DN20050819,      AOS05,      38,          1,     283630,          6,2,20050910,       0740,    88.8535,   159.6075,       2678,   174.7,   0.1139,  34.6016,2,-999.0000,9,    298.9,2,   299.9,2, -999.00,9, -999.00,9, -999.00,9, -999.00,9,-999.000,9,-999.000,9,-999.000,9,-999.0000,9,  -999.0,9,  -999.0,9,-999.0000,9,  -999.00,-999.000,9,  174.70,   0.1073
77DN20050819,      AOS05,      38,          1,     283629,          5,2,20050910,       0740,    88.8535,   159.6075,       2678,   372.4,   0.8196,  34.8568,2,  34.8573,2,    303.8,2,   305.4,2, -999.00,9, -999.00,9, -999.00,9, -999.00,9,-999.000,9,-999.000,9,-999.000,9,-999.0000,9,  -999.0,9,  -999.0,9,-999.0000,9,  -999.00,-999.000,9,  372.40,   0.8026
77DN20050819,      AOS05,      38,          1,     283628,          4,2,20050910,       0740,    88.8535,   159.6075,       2678,   684.6,   0.1466,  34.8638,2,  34.8646,2,    305.2,2,   306.1,2, -999.00,9, -999.00,9, -999.00,9, -999.00,9,-999.000,9,-999.000,9,-999.000,9,-999.0000,9,  -999.0,9,  -999.0,9,-999.0000,9,  -999.00,-999.000,9,  684.60,   0.1171
77DN20050819,      AOS05,      38,          1,     283627,          3,2,20050910,       0740,    88.8535,   159.6075,       2678,  1339.6,  -0.3600,  34.9028,2,  34.9038,2,    301.4,2,   302.7,2, -999.00,9, -999.00,9, -999.00,9, -999.00,9,-999.000,9,-999.000,9,-999.000,9,-999.0000,9,  -999.0,9,  -999.0,9,-999.0000,9,  -999.00,-999.000,9, 1339.60,  -0.4199
77DN20050819,      AOS05,      38,          1,     283626,          2,2,20050910,       0740,    88.8535,   159.6075,       2678,  2091.3,  -0.4365,  34.9428,2,  34.9436,2,    289.4,2,   290.7,2, -999.00,9, -999.00,9, -999.00,9, -999.00,9,-999.000,9,-999.000,9,-999.000,9,-999.0000,9,  -999.0,9,  -999.0,9,-999.0000,9,  -999.00,-999.000,9, 2091.30,  -0.5425
77DN20050819,      AOS05,      38,          1,     283625,          1,2,20050910,       0740,    88.8535,   159.6075,       2678,  2705.4,  -0.6652,  34.9256,2,  34.9255,2,    297.5,2,   298.6,2, -999.00,9, -999.00,9, -999.00,9, -999.00,9,-999.000,9,-999.000,9,-999.000,9,-999.0000,9,  -999.0,9,  -999.0,9,-999.0000,9,  -999.00,-999.000,9, 2705.40,  -0.8115