BOTTLE,20211025CCHSIORKP
EXPOCODE,SECT_ID,STNNBR,CASTNO,SAMPNO,BTLNBR,BTLNBR_FLAG_W,DATE,TIME,LATITUDE,LONGITUDE,DEPTH,CTDPRS,CTDTMP,CTDSAL,CTDSAL_FLAG_W,SALNTY,SALNTY_FLAG_W,CTDOXY,CTDOXY_FLAG_W,OXYGEN,OXYGEN_FLAG_W,SILCAT,SILCAT_FLAG_W,NITRAT,NITRAT_FLAG_W,NITRIT,NITRIT_FLAG_W,PHSPHT,PHSPHT_FLAG_W,CFC-11,CFC-11_FLAG_W,CFC-12,CFC-12_FLAG_W,CFC113,CFC113_FLAG_W,SF6,SF6_FLAG_W,TCARBN,TCARBN_FLAG_W,ALKALI,ALKALI_FLAG_W,PH_SWS,PH_SWS_FLAG_W,PH_TMP,CCL4,CCL4_FLAG_W,CTDRAW,THETA
,,,,,,,,,,,METERS,DBAR,ITS-90,PSS-78,,PSS-78,,UMOL/KG,,UMOL/KG,,UMOL/KG,,UMOL/KG,,UMOL/KG,,UMOL/KG,,PMOL/KG,,PMOL/KG,,PMOL/KG,,FMOL/KG,,UMOL/KG,,UMOL/KG,,,,DEG C,PMOL/KG,,DBAR,DEG C
77DN20050819,      AOS05,      33,          1,     283506,         34,2,20050908,       2043,    88.4635,   148.1218,       2650,     9.4,  -1.7064,  31.2731,2,  31.2968,2,    391.5,2,   393.6,2,    5.38,2,    0.57,2,    0.03,2,    0.80,2,   7.482,2,   3.986,2,   0.827,2,-999.0000,9,  2070.5,2,  2240.5,2,   7.8150,6,    15.00,-999.000,5,    9.40,  -1.7066
77DN20050819,      AOS05,      33,          1,     283505,         33,2,20050908,       2043,    88.4635,   148.1218,       2650,    25.4,  -1.7414,  32.4024,2,  32.4627,2,    380.7,2,   376.6,2,    5.10,2,    2.55,2,    0.03,2,    0.68,2,   7.060,2,   3.915,2,   0.723,2,-999.0000,9,  2134.6,2,  2169.8,2,   7.7963,2,    15.00,-999.000,5,   25.40,  -1.7418
77DN20050819,      AOS05,      33,          1,     283504,         32,2,20050908,       2043,    88.4635,   148.1218,       2650,    40.6,  -1.7688,  32.8695,2,  32.8733,2,    379.3,2,   376.1,2,    3.74,2,    2.82,2,    0.02,2,    0.48,2,   7.103,2,   3.820,2,   0.749,2,-999.0000,9,  2146.6,2,  2259.2,2,   7.8126,2,    15.00,-999.000,5,   40.60,  -1.7695
77DN20050819,      AOS05,      33,          1,     283502,         30,2,20050908,       2043,    88.4635,   148.1218,       2650,    55.9,  -1.7739,  33.0703,2,-999.0000,9,   -999.0,9,  -999.0,9, -999.00,9, -999.00,9, -999.00,9, -999.00,9,-999.000,9,-999.000,9,-999.000,9,-999.0000,9,  -999.0,9,  -999.0,9,-999.0000,9,  -999.00,-999.000,9,   55.90,  -1.7749
77DN20050819,      AOS05,      33,          1,     283501,         29,2,20050908,       2043,    88.4635,   148.1218,       2650,    55.9,  -1.7682,  33.1042,2,  33.1789,4,    370.3,2,   353.5,2,    5.10,2,    4.63,2,    0.01,2,    0.57,2,   7.644,2,   3.668,2,   0.708,2,-999.0000,9,  2161.4,2,  2263.1,2,   7.7926,2,    15.00,-999.000,5,   55.90,  -1.7691
77DN20050819,      AOS05,      33,          1,     283503,         31,2,20050908,       2043,    88.4635,   148.1218,       2650,    55.9,  -1.7753,  33.0594,2,-999.0000,9,   -999.0,9,  -999.0,9, -999.00,9, -999.00,9, -999.00,9, -999.00,9,-999.000,9,-999.000,9,-999.000,9,-999.0000,9,  -999.0,9,  -999.0,9,-999.0000,9,  -999.00,-999.000,9,   55.90,  -1.7763
77DN20050819,      AOS05,      33,          1,     283500,         28,2,20050908,       2043,    88.4635,   148.1218,       2650,    71.2,  -1.6486,  33.6669,2,  33.6998,2,    333.6,2,   319.2,2,    6.36,2,    7.54,2,    0.01,2,    0.67,2,   6.566,2,   3.404,2,   0.568,2,-999.0000,9,  2164.3,2,  2263.0,2,   7.7877,2,    15.00,-999.000,5,   71.20,  -1.6500
77DN20050819,      AOS05,      33,          1,     283499,         27,2,20050908,       2043,    88.4635,   148.1218,       2650,    81.6,  -1.6232,  33.8318,2,  33.8533,2,    319.4,2,   317.5,2,    5.81,2,    7.73,2,    0.01,2,    0.67,2,   6.645,2,   3.319,2,   0.571,2,-999.0000,9,  2164.3,2,  2268.0,2,   7.7897,2,    15.00,-999.000,5,   81.60,  -1.6249
77DN20050819,      AOS05,      33,          1,     283498,         26,2,20050908,       2043,    88.4635,   148.1218,       2650,    91.9,  -1.5531,  34.0009,2,  34.0175,2,    314.0,2,   316.3,2,    5.17,2,    8.13,2,    0.01,2,    0.68,2,   6.155,2,   2.558,3,   0.577,2,-999.0000,9,  2159.4,2,  2268.5,2,   7.8050,2,    15.00,-999.000,5,   91.90,  -1.5550
77DN20050819,      AOS05,      33,          1,     283497,         25,2,20050908,       2043,    88.4635,   148.1218,       2650,   102.2,  -1.3941,  34.1186,2,  34.1574,2,    310.4,2,   312.6,2,    5.35,2,    8.62,2,    0.00,2,    0.69,2,   6.128,2,   2.998,2,   0.625,2,-999.0000,9,  2161.0,2,  2271.5,2,   7.8146,2,    15.00,-999.000,5,  102.20,  -1.3965
77DN20050819,      AOS05,      33,          1,     283496,         24,2,20050908,       2043,    88.4635,   148.1218,       2650,   122.5,  -0.8794,  34.2922,2,  34.3281,2,    307.5,2,   307.0,2,    5.43,2,    9.50,2,    0.00,2,    0.73,2,   6.007,2,   3.014,2,   0.566,2,-999.0000,9,  2157.7,2,  2274.6,2,   7.8215,2,    15.00,-999.000,5,  122.50,  -0.8829
77DN20050819,      AOS05,      33,          1,     283495,         23,2,20050908,       2043,    88.4635,   148.1218,       2650,   142.7,  -0.5698,  34.4114,2,  34.4338,2,    302.9,2,   305.4,2,    5.43,2,    9.78,2,    0.00,2,    0.74,2,   5.609,2,   2.615,2,   0.465,2,-999.0000,9,  2160.9,2,  2278.2,2,   7.8253,2,    15.00,-999.000,5,  142.70,  -0.5743
77DN20050819,      AOS05,      33,          1,     283494,         22,2,20050908,       2043,    88.4635,   148.1218,       2650,   162.9,  -0.0504,  34.5689,2,  34.5832,2,    303.0,2,   302.4,2,    5.61,2,   10.51,2,    0.00,2,    0.77,2,   5.166,2,   2.554,2,   0.494,2,-999.0000,9,  2158.8,2,  2281.4,2,   7.8350,2,    15.00,-999.000,5,  162.90,  -0.0562
77DN20050819,      AOS05,      33,          1,     283493,         21,2,20050908,       2043,    88.4635,   148.1218,       2650,   183.1,   0.1939,  34.6321,2,  34.6544,2,    300.9,2,   300.7,2,    5.70,2,   11.05,2,    0.00,2,    0.80,2,   5.110,2,   2.569,2,   0.470,2,-999.0000,9,  2158.6,2,  2284.3,2,   7.8406,2,    15.00,-999.000,5,  183.10,   0.1869
77DN20050819,      AOS05,      33,          1,     283492,         20,2,20050908,       2043,    88.4635,   148.1218,       2650,   203.3,   0.5198,  34.7181,2,  34.7271,2,    297.6,2,   300.6,2,    5.43,2,   11.38,2,    0.00,2,    0.81,2,   5.137,2,   2.409,2,   0.493,2,-999.0000,9,  2159.4,2,  2286.1,2,   7.8503,2,    15.00,-999.000,5,  203.30,   0.5113
77DN20050819,      AOS05,      33,          1,     283491,         19,2,20050908,       2043,    88.4635,   148.1218,       2650,   233.6,   0.8157,  34.7945,2,  34.7951,2,    297.9,2,   299.0,2,    5.70,2,   11.96,2,    0.00,2,    0.84,2,   4.689,2,   2.295,2,   0.450,2,-999.0000,9,  2156.5,2,  2289.0,2,   7.8626,2,    15.00,-999.000,5,  233.60,   0.8053
77DN20050819,      AOS05,      33,          1,     283490,         18,2,20050908,       2043,    88.4635,   148.1218,       2650,   288.4,   0.9566,  34.8407,2,  34.8409,2,    303.1,2,   302.5,2,    5.51,2,   11.97,2,    0.00,2,    0.83,2,   5.198,2,   2.623,3,   0.474,2,-999.0000,9,  2156.6,2,  2290.0,2,   7.8635,2,    15.00,-999.000,5,  288.40,   0.9433
77DN20050819,      AOS05,      33,          1,     283489,         17,2,20050908,       2043,    88.4635,   148.1218,       2650,   338.3,   0.8703,  34.8481,2,  34.8507,2,    300.4,2,   302.5,2,    5.70,2,   12.07,2,    0.00,2,    0.83,2,   4.734,2,   2.255,2,   0.414,2,-999.0000,9,  2158.6,2,  2291.9,2,   7.8648,2,    15.00,-999.000,5,  338.30,   0.8548
77DN20050819,      AOS05,      33,          1,     283488,         16,2,20050908,       2043,    88.4635,   148.1218,       2650,   398.1,   0.7262,  34.8590,2,  34.8580,2,    302.3,2,   303.1,2,    5.69,2,   12.11,2,    0.00,2,    0.84,2,   4.432,2,   2.240,2,   0.422,2,-999.0000,9,  2163.7,2,  2293.9,2,   7.8581,2,    15.00,-999.000,5,  398.10,   0.7082
77DN20050819,      AOS05,      33,          1,     283487,         15,2,20050908,       2043,    88.4635,   148.1218,       2650,   497.6,   0.4840,  34.8647,2,  34.8646,2,    300.7,2,   302.4,2,    6.05,2,   12.30,2,    0.00,2,    0.85,2,   4.282,2,   2.186,2,   0.360,2,-999.0000,9,  2158.8,2,  2292.2,2,   7.8549,2,    15.00,-999.000,5,  497.60,   0.4621
77DN20050819,      AOS05,      33,          1,     283486,         14,2,20050908,       2043,    88.4635,   148.1218,       2650,   601.1,   0.2399,  34.8640,2,  34.8636,2,    303.6,2,   305.5,2,    5.96,2,   12.12,2,    0.00,2,    0.85,2,   4.613,2,   2.325,2,   0.407,2,-999.0000,9,  2167.8,2,  2292.8,2,   7.8476,2,    15.00,-999.000,5,  601.10,   0.2140
77DN20050819,      AOS05,      33,          1,     283485,         13,2,20050908,       2043,    88.4635,   148.1218,       2650,   750.4,  -0.0698,  34.8644,2,  34.8638,2,    307.1,2,   307.9,2,    5.86,2,   11.97,2,    0.00,2,    0.85,2,   5.313,2,   2.748,2,   0.477,2,-999.0000,9,  2169.6,2,  2295.3,2,   7.8365,2,    15.00,-999.000,5,  750.40,  -0.1012
77DN20050819,      AOS05,      33,          1,     283484,         12,2,20050908,       2043,    88.4635,   148.1218,       2650,   899.8,  -0.2332,  34.8715,2,  34.8715,2,    307.8,2,   308.6,2,    6.14,2,   11.92,2,    0.00,2,    0.86,2,   5.309,2,   2.692,2,   0.457,2,-999.0000,9,  2172.6,2,  2293.7,2,   7.8338,2,    15.00,-999.000,5,  899.80,  -0.2708
77DN20050819,      AOS05,      33,          1,     283483,         11,2,20050908,       2043,    88.4635,   148.1218,       2650,  1088.0,  -0.3799,  34.8817,2,  34.8816,2,    308.1,2,   308.5,2,    6.49,2,   12.30,2,    0.00,2,    0.88,2,   5.047,2,   2.624,2,   0.492,2,-999.0000,9,  2169.3,2,  2295.3,2,   7.8335,2,    15.00,-999.000,5, 1088.00,  -0.4259
77DN20050819,      AOS05,      33,          1,     283482,         10,2,20050908,       2043,    88.4635,   148.1218,       2650,  1237.5,  -0.4387,  34.8909,2,  34.9147,4,    304.9,2,   307.1,2,    7.21,2,   12.69,2,    0.00,2,    0.90,2,   4.264,2,   2.188,2,   0.381,2,-999.0000,9,  2172.8,2,  2294.5,2,   7.8351,2,    15.00,-999.000,5, 1237.50,  -0.4921
77DN20050819,      AOS05,      33,          1,     283481,          9,2,20050908,       2043,    88.4635,   148.1218,       2650,  1387.6,  -0.4583,  34.9043,2,  34.9045,2,    303.2,2,   303.0,2,    8.29,2,   13.32,2,    0.00,2,    0.93,2,   2.877,2,   1.434,2,   0.230,2,-999.0000,9,  2170.3,2,  2296.6,2,   7.8480,2,    15.00,-999.000,5, 1387.60,  -0.5198
77DN20050819,      AOS05,      33,          1,     283480,          8,2,20050908,       2043,    88.4635,   148.1218,       2650,  1591.6,  -0.4460,  34.9221,2,  34.9185,3,    297.3,2,   297.9,2,    9.73,2,   13.94,2,    0.00,2,    0.98,2,   1.227,2,   0.622,2,   0.088,2,-999.0000,9,  2161.8,2,  2298.1,2,   7.8639,2,    15.00,-999.000,5, 1591.60,  -0.5196
77DN20050819,      AOS05,      33,          1,     283479,          7,2,20050908,       2043,    88.4635,   148.1218,       2650,  1791.7,  -0.4392,  34.9345,2,  34.9351,2,    292.3,2,   293.3,2,   10.82,2,   14.23,2,    0.00,2,    1.01,2,   0.608,2,   0.335,2,   0.000,2,-999.0000,9,  2158.6,2,  2299.1,2,   7.8711,2,    15.00,-999.000,5, 1791.70,  -0.5254
77DN20050819,      AOS05,      33,          1,     283476,          4,2,20050908,       2043,    88.4635,   148.1218,       2650,  1991.5,  -0.4501,  34.9411,2,  34.9416,2,    289.5,2,   292.2,2,   11.63,2,   14.47,2,    0.00,2,    1.02,2,   0.363,2,   0.221,2,   0.000,2,-999.0000,9,  2158.3,2,  2297.3,2,   7.8703,2,    15.00,-999.000,5, 1991.50,  -0.5491
77DN20050819,      AOS05,      33,          1,     283477,          5,2,20050908,       2043,    88.4635,   148.1218,       2650,  1991.6,  -0.4497,  34.9411,2,-999.0000,9,   -999.0,9,  -999.0,9, -999.00,9, -999.00,9, -999.00,9, -999.00,9,-999.000,9,-999.000,9,-999.000,9,-999.0000,9,  -999.0,9,  -999.0,9,-999.0000,9,  -999.00,-999.000,9, 1991.60,  -0.5487
77DN20050819,      AOS05,      33,          1,     283478,          6,2,20050908,       2043,    88.4635,   148.1218,       2650,  1991.6,  -0.4496,  34.9411,2,-999.0000,9,   -999.0,9,  -999.0,9, -999.00,9, -999.00,9, -999.00,9, -999.00,9,-999.000,9,-999.000,9,-999.000,9,-999.0000,9,  -999.0,9,  -999.0,9,-999.0000,9,  -999.00,-999.000,9, 1991.60,  -0.5486
77DN20050819,      AOS05,      33,          1,     283475,          3,2,20050908,       2043,    88.4635,   148.1218,       2650,  2245.8,  -0.4835,  34.9409,2,  34.9408,2,    290.3,2,   292.7,2,   11.72,2,   14.51,2,    0.00,2,    1.02,2,   0.364,2,   0.196,2,   0.000,2,-999.0000,9,  2159.9,2,  2296.6,2,   7.8712,2,    15.00,-999.000,5, 2245.80,  -0.5995
77DN20050819,      AOS05,      33,          1,     283474,          2,2,20050908,       2043,    88.4635,   148.1218,       2650,  2496.2,  -0.6040,  34.9302,2,  34.9302,2,    295.5,2,   296.1,2,   11.17,2,   14.61,2,   -0.00,2,    1.01,2,   0.576,2,   0.304,2,   0.000,2,-999.0000,9,  2167.2,2,  2296.4,2,   7.8597,2,    15.00,-999.000,5, 2496.20,  -0.7359
77DN20050819,      AOS05,      33,          1,     283473,          1,2,20050908,       2043,    88.4635,   148.1218,       2650,  2700.9,  -0.6553,  34.9262,2,  34.9269,2,    297.7,2,   297.5,2,   10.98,2,   14.66,2,   -0.00,2,    1.02,2,-999.000,5,-999.000,5,-999.000,5,-999.0000,9,  2162.8,2,  2297.4,2,   7.8657,2,    15.00,-999.000,5, 2700.90,  -0.8015
77DN20050819,      AOS05,      34,          1,     283516,          8,2,20050909,       1103,    88.4030,   150.1520,       5199,     9.4,  -1.7044,  31.3914,2,  31.3931,2,    390.5,2,   391.9,2, -999.00,9, -999.00,9, -999.00,9, -999.00,9,-999.000,9,-999.000,9,-999.000,9,-999.0000,9,  -999.0,9,  -999.0,9,-999.0000,9,  -999.00,-999.000,9,    9.40,  -1.7046
77DN20050819,      AOS05,      34,          1,     283515,          7,2,20050909,       1103,    88.4030,   150.1520,       5199,    60.5,  -1.6650,  33.4938,2,  33.5009,2,    333.0,2,   323.4,2, -999.00,9, -999.00,9, -999.00,9, -999.00,9,-999.000,9,-999.000,9,-999.000,9,-999.0000,9,  -999.0,9,  -999.0,9,-999.0000,9,  -999.00,-999.000,9,   60.50,  -1.6661
77DN20050819,      AOS05,      34,          1,     283514,          6,2,20050909,       1103,    88.4030,   150.1520,       5199,   179.7,   0.2809,  34.6447,2,  34.6493,2,    298.6,2,   299.8,2, -999.00,9, -999.00,9, -999.00,9, -999.00,9,-999.000,9,-999.000,9,-999.000,9,-999.0000,9,  -999.0,9,  -999.0,9,-999.0000,9,  -999.00,-999.000,9,  179.70,   0.2739
77DN20050819,      AOS05,      34,          1,     283513,          5,2,20050909,       1103,    88.4030,   150.1520,       5199,   274.1,   0.9602,  34.8388,2,  34.8394,2,    302.6,2,   303.8,2, -999.00,9, -999.00,9, -999.00,9, -999.00,9,-999.000,9,-999.000,9,-999.000,9,-999.0000,9,  -999.0,9,  -999.0,9,-999.0000,9,  -999.00,-999.000,9,  274.10,   0.9476
77DN20050819,      AOS05,      34,          1,     283512,          4,2,20050909,       1103,    88.4030,   150.1520,       5199,   600.0,   0.1915,  34.8636,2,  34.8640,2,    305.2,2,   306.4,2, -999.00,9, -999.00,9, -999.00,9, -999.00,9,-999.000,9,-999.000,9,-999.000,9,-999.0000,9,  -999.0,9,  -999.0,9,-999.0000,9,  -999.00,-999.000,9,  600.00,   0.1660
77DN20050819,      AOS05,      34,          1,     283511,          3,2,20050909,       1103,    88.4030,   150.1520,       5199,  1046.7,  -0.3478,  34.8836,2,  34.8838,2,    305.5,2,   306.6,2, -999.00,9, -999.00,9, -999.00,9, -999.00,9,-999.000,9,-999.000,9,-999.000,9,-999.0000,9,  -999.0,9,  -999.0,9,-999.0000,9,  -999.00,-999.000,9, 1046.70,  -0.3920
77DN20050819,      AOS05,      34,          1,     283510,          2,2,20050909,       1103,    88.4030,   150.1520,       5199,  1499.3,  -0.4951,  34.9144,2,  34.9159,2,    298.8,2,   300.0,2, -999.00,9, -999.00,9, -999.00,9, -999.00,9,-999.000,9,-999.000,9,-999.000,9,-999.0000,9,  -999.0,9,  -999.0,9,-999.0000,9,  -999.00,-999.000,9, 1499.30,  -0.5626
77DN20050819,      AOS05,      34,          1,     283509,          1,2,20050909,       1103,    88.4030,   150.1520,       5199,  1902.6,  -0.5286,  34.9337,2,  34.9347,2,    293.4,2,   294.5,2, -999.00,9, -999.00,9, -999.00,9, -999.00,9,-999.000,9,-999.000,9,-999.000,9,-999.0000,9,  -999.0,9,  -999.0,9,-999.0000,9,  -999.00,-999.000,9, 1902.60,  -0.6206