BOTTLE,20211025CCHSIORKP
EXPOCODE,SECT_ID,STNNBR,CASTNO,SAMPNO,BTLNBR,BTLNBR_FLAG_W,DATE,TIME,LATITUDE,LONGITUDE,DEPTH,CTDPRS,CTDTMP,CTDSAL,CTDSAL_FLAG_W,SALNTY,SALNTY_FLAG_W,CTDOXY,CTDOXY_FLAG_W,OXYGEN,OXYGEN_FLAG_W,SILCAT,SILCAT_FLAG_W,NITRAT,NITRAT_FLAG_W,NITRIT,NITRIT_FLAG_W,PHSPHT,PHSPHT_FLAG_W,CFC-11,CFC-11_FLAG_W,CFC-12,CFC-12_FLAG_W,CFC113,CFC113_FLAG_W,SF6,SF6_FLAG_W,TCARBN,TCARBN_FLAG_W,ALKALI,ALKALI_FLAG_W,PH_SWS,PH_SWS_FLAG_W,PH_TMP,CCL4,CCL4_FLAG_W,CTDRAW,THETA
,,,,,,,,,,,METERS,DBAR,ITS-90,PSS-78,,PSS-78,,UMOL/KG,,UMOL/KG,,UMOL/KG,,UMOL/KG,,UMOL/KG,,UMOL/KG,,PMOL/KG,,PMOL/KG,,PMOL/KG,,FMOL/KG,,UMOL/KG,,UMOL/KG,,,,DEG C,PMOL/KG,,DBAR,DEG C
77DN20050819,      AOS05,      12,          3,     282893,         36,2,20050826,       0606,    78.4638,  -149.1533,       3731,     2.2,  -1.4077,  28.3096,2,-999.0000,9,   -999.0,9,  -999.0,9, -999.00,9, -999.00,9, -999.00,9, -999.00,9,-999.000,9,-999.000,9,-999.000,9,-999.0000,9,  -999.0,9,  -999.0,9,-999.0000,9,  -999.00,-999.000,9,    2.20,  -1.4077
77DN20050819,      AOS05,      12,          3,     282892,         35,2,20050826,       0606,    78.4638,  -149.1533,       3731,     2.2,  -1.4204,  28.3528,2,  28.3974,2,    391.5,2,   397.5,2,    1.62,2,    0.05,2,    0.00,2,    0.63,2,-999.000,9,-999.000,9,-999.000,9,-999.0000,9,  -999.0,9,  -999.0,9,-999.0000,9,  -999.00,-999.000,9,    2.20,  -1.4204
77DN20050819,      AOS05,      12,          3,     282891,         34,2,20050826,       0606,    78.4638,  -149.1533,       3731,    10.1,  -1.4120,  28.4908,2,  28.4701,2,    391.6,2,   393.5,2,    1.60,2,    0.05,2,    0.00,2,    0.61,2,   7.501,3,   4.034,3,   0.700,3,   1.9700,2,  1921.8,2,  2033.0,2,   7.8590,2,    15.00,   8.629,3,   10.10,  -1.4122
77DN20050819,      AOS05,      12,          3,     282890,         33,9,20050826,       0606,    78.4638,  -149.1533,       3731,    10.1,  -1.4191,  28.4144,2,-999.0000,9,   -999.0,9,  -999.0,9, -999.00,9, -999.00,9, -999.00,9, -999.00,9,-999.000,9,-999.000,9,-999.000,9,-999.0000,9,  -999.0,9,  -999.0,9,-999.0000,9,  -999.00,-999.000,9,   10.10,  -1.4193
77DN20050819,      AOS05,      12,          3,     282889,         32,2,20050826,       0606,    78.4638,  -149.1533,       3731,    19.9,  -1.3383,  29.8440,2,-999.0000,9,   -999.0,9,  -999.0,9, -999.00,9, -999.00,9, -999.00,9, -999.00,9,-999.000,9,-999.000,9,-999.000,9,-999.0000,9,  -999.0,9,  -999.0,9,-999.0000,9,  -999.00,-999.000,9,   19.90,  -1.3386
77DN20050819,      AOS05,      12,          3,     282888,         31,2,20050826,       0606,    78.4638,  -149.1533,       3731,    19.9,  -1.3622,  29.9430,2,-999.0000,9,   -999.0,9,  -999.0,9, -999.00,9, -999.00,9, -999.00,9, -999.00,9,-999.000,9,-999.000,9,-999.000,9,-999.0000,9,  -999.0,9,  -999.0,9,-999.0000,9,  -999.00,-999.000,9,   19.90,  -1.3625
77DN20050819,      AOS05,      12,          3,     282887,         30,2,20050826,       0606,    78.4638,  -149.1533,       3731,    19.9,  -1.3378,  29.8920,2,-999.0000,9,   -999.0,9,  -999.0,9, -999.00,9, -999.00,9, -999.00,9, -999.00,9,-999.000,9,-999.000,9,-999.000,9,-999.0000,9,  -999.0,9,  -999.0,9,-999.0000,9,  -999.00,-999.000,9,   19.90,  -1.3381
77DN20050819,      AOS05,      12,          3,     282886,         29,2,20050826,       0606,    78.4638,  -149.1533,       3731,    19.9,  -1.3650,  29.9588,2,  29.7970,2,    395.2,2,   396.4,2,    1.67,2,    0.05,2,    0.00,2,    0.67,2,   7.377,2,   3.773,2,   0.643,2,   2.1300,2,  2000.0,2,  2120.0,2,   7.8789,2,    15.00,   8.927,2,   19.90,  -1.3653
77DN20050819,      AOS05,      12,          3,     282885,         28,2,20050826,       0606,    78.4638,  -149.1533,       3731,    30.0,  -1.4643,  30.1041,2,-999.0000,9,   -999.0,9,  -999.0,9, -999.00,9, -999.00,9, -999.00,9, -999.00,9,-999.000,9,-999.000,9,-999.000,9,-999.0000,9,  -999.0,9,  -999.0,9,-999.0000,9,  -999.00,-999.000,9,   30.00,  -1.4648
77DN20050819,      AOS05,      12,          3,     282884,         27,2,20050826,       0606,    78.4638,  -149.1533,       3731,    30.0,  -1.4716,  30.1191,2,-999.0000,9,   -999.0,9,  -999.0,9, -999.00,9, -999.00,9, -999.00,9, -999.00,9,-999.000,9,-999.000,9,-999.000,9,-999.0000,9,  -999.0,9,  -999.0,9,-999.0000,9,  -999.00,-999.000,9,   30.00,  -1.4720
77DN20050819,      AOS05,      12,          3,     282883,         26,2,20050826,       0606,    78.4638,  -149.1533,       3731,    30.0,  -1.4948,  30.1722,2,-999.0000,9,   -999.0,9,  -999.0,9, -999.00,9, -999.00,9, -999.00,9, -999.00,9,-999.000,9,-999.000,9,-999.000,9,-999.0000,9,  -999.0,9,  -999.0,9,-999.0000,9,  -999.00,-999.000,9,   30.00,  -1.4952
77DN20050819,      AOS05,      12,          3,     282882,         25,2,20050826,       0606,    78.4638,  -149.1533,       3731,    30.0,  -1.4941,  30.1760,2,  30.1816,2,    392.4,2,   389.9,2,    2.03,2,    0.12,2,    0.01,2,    0.69,2,-999.000,5,-999.000,5,-999.000,5,-999.0000,5,  2008.4,2,  2135.8,2,   7.8725,2,    15.00,-999.000,5,   30.00,  -1.4945
77DN20050819,      AOS05,      12,          3,     282881,         24,2,20050826,       0606,    78.4638,  -149.1533,       3731,    45.0,  -1.2791,  30.6595,2,-999.0000,9,   -999.0,9,  -999.0,9, -999.00,9, -999.00,9, -999.00,9, -999.00,9,-999.000,9,-999.000,9,-999.000,9,-999.0000,9,  -999.0,9,  -999.0,9,-999.0000,9,  -999.00,-999.000,9,   45.00,  -1.2798
77DN20050819,      AOS05,      12,          3,     282880,         23,2,20050826,       0606,    78.4638,  -149.1533,       3731,    45.0,  -1.2744,  30.6597,2,  30.7275,2,    384.5,2,   379.1,2,    4.55,2,    1.42,2,    0.03,2,    0.85,2,   7.287,2,   3.602,2,   0.650,2,   2.0400,2,  2039.9,2,  2159.8,2,   7.8621,2,    15.00,   7.724,2,   45.00,  -1.2752
77DN20050819,      AOS05,      12,          3,     282878,         21,2,20050826,       0606,    78.4638,  -149.1533,       3731,    59.9,  -0.9669,  31.6723,2,  31.8363,2,    365.4,2,   337.6,2,   13.41,2,    6.45,2,    0.01,2,    1.27,2,   6.881,2,   3.363,2,   0.550,2,   1.8400,2,  2109.2,2,  2198.0,2,   7.7915,2,    15.00,   5.763,2,   59.90,  -0.9683
77DN20050819,      AOS05,      12,          3,     282879,         22,2,20050826,       0606,    78.4638,  -149.1533,       3731,    59.9,  -0.9642,  31.6563,2,-999.0000,9,   -999.0,9,  -999.0,9, -999.00,9, -999.00,9, -999.00,9, -999.00,9,-999.000,9,-999.000,9,-999.000,9,-999.0000,9,  -999.0,9,  -999.0,9,-999.0000,9,  -999.00,-999.000,9,   59.90,  -0.9655
77DN20050819,      AOS05,      12,          3,     282877,         20,2,20050826,       0606,    78.4638,  -149.1533,       3731,    74.9,  -1.2490,  32.1086,2,-999.0000,9,   -999.0,9,  -999.0,9, -999.00,9, -999.00,9, -999.00,9, -999.00,9,-999.000,9,-999.000,9,-999.000,9,-999.0000,9,  -999.0,9,  -999.0,9,-999.0000,9,  -999.00,-999.000,9,   74.90,  -1.2505
77DN20050819,      AOS05,      12,          3,     282876,         19,2,20050826,       0606,    78.4638,  -149.1533,       3731,    74.9,  -1.2561,  32.1162,2,  32.1258,2,    323.7,2,   313.9,2,   20.35,2,    9.95,2,    0.00,2,    1.53,2,   6.752,2,   3.341,2,   0.498,2,   1.8400,2,  2138.2,2,  2210.7,2,   7.7242,2,    15.00,   4.991,2,   74.90,  -1.2576
77DN20050819,      AOS05,      12,          3,     282875,         18,2,20050826,       0606,    78.4638,  -149.1533,       3731,    95.0,  -1.2603,  32.4014,2,-999.0000,9,   -999.0,9,  -999.0,9, -999.00,9, -999.00,9, -999.00,9, -999.00,9,-999.000,9,-999.000,9,-999.000,9,-999.0000,9,  -999.0,9,  -999.0,9,-999.0000,9,  -999.00,-999.000,9,   95.00,  -1.2622
77DN20050819,      AOS05,      12,          3,     282874,         17,2,20050826,       0606,    78.4638,  -149.1533,       3731,    95.0,  -1.2604,  32.3980,2,  32.4257,2,    302.8,2,   294.8,2,   26.36,2,   12.46,2,    0.00,2,    1.72,2,   6.675,2,   3.315,2,   0.471,2,   1.6500,2,  2176.4,2,  2230.3,2,   7.6570,2,    15.00,   5.622,2,   95.00,  -1.2624
77DN20050819,      AOS05,      12,          3,     282873,         16,2,20050826,       0606,    78.4638,  -149.1533,       3731,   109.9,  -1.2932,  32.6081,2,  32.6355,2,    292.8,2,   276.0,2,   32.20,2,   14.53,2,    0.00,2,    1.93,2,   6.396,2,   3.397,2,   0.463,2,   2.0700,2,  2201.8,2,  2235.9,2,   7.6013,2,    15.00,   5.090,2,  109.90,  -1.2955
77DN20050819,      AOS05,      12,          3,     282872,         15,2,20050826,       0606,    78.4638,  -149.1533,       3731,   124.8,  -1.1818,  32.8170,2,  32.8785,2,    261.6,2,   249.8,2,   37.68,2,   16.35,2,    0.00,2,    2.05,2,-999.000,5,-999.000,5,-999.000,5,-999.0000,5,  2227.7,2,  2243.1,2,   7.5529,2,    15.00,-999.000,5,  124.80,  -1.1846
77DN20050819,      AOS05,      12,          3,     282871,         14,2,20050826,       0606,    78.4638,  -149.1533,       3731,   139.8,  -1.4544,  33.1095,2,  33.1807,2,    256.3,2,   271.0,2,   36.12,2,   15.68,2,    0.00,2,    1.89,2,   5.973,2,   3.120,2,   0.395,2,   0.9500,2,  2232.3,2,  2267.8,2,   7.5949,2,    15.00,   4.316,2,  139.80,  -1.4573
77DN20050819,      AOS05,      12,          3,     282870,         13,2,20050826,       0606,    78.4638,  -149.1533,       3731,   154.8,  -1.3987,  33.4933,2,  33.5664,2,    267.5,2,   265.8,2,   32.05,2,   14.79,2,    0.00,2,    1.68,2,   5.976,2,   3.011,2,   0.400,2,   1.6200,2,  2231.8,2,  2276.3,2,   7.6208,2,    15.00,   4.195,2,  154.80,  -1.4022
77DN20050819,      AOS05,      12,          3,     282869,         12,2,20050826,       0606,    78.4638,  -149.1533,       3731,   169.8,  -1.2859,  33.8740,2,-999.0000,9,   -999.0,9,  -999.0,9, -999.00,9, -999.00,9, -999.00,9, -999.00,9,-999.000,9,-999.000,9,-999.000,9,-999.0000,9,  -999.0,9,  -999.0,9,-999.0000,9,  -999.00,-999.000,9,  169.80,  -1.2900
77DN20050819,      AOS05,      12,          3,     282868,         11,2,20050826,       0606,    78.4638,  -149.1533,       3731,   169.8,  -1.2852,  33.8753,2,-999.0000,9,   -999.0,9,  -999.0,9, -999.00,9, -999.00,9, -999.00,9, -999.00,9,-999.000,9,-999.000,9,-999.000,9,-999.0000,9,  -999.0,9,  -999.0,9,-999.0000,9,  -999.00,-999.000,9,  169.80,  -1.2893
77DN20050819,      AOS05,      12,          3,     282867,         10,2,20050826,       0606,    78.4638,  -149.1533,       3731,   169.8,  -1.2856,  33.8760,2,-999.0000,9,   -999.0,9,  -999.0,9, -999.00,9, -999.00,9, -999.00,9, -999.00,9,-999.000,9,-999.000,9,-999.000,9,-999.0000,9,  -999.0,9,  -999.0,9,-999.0000,9,  -999.00,-999.000,9,  169.80,  -1.2898
77DN20050819,      AOS05,      12,          3,     282865,          8,2,20050826,       0606,    78.4638,  -149.1533,       3731,   169.8,  -1.2843,  33.8775,2,-999.0000,9,   -999.0,9,  -999.0,9, -999.00,9, -999.00,9, -999.00,9, -999.00,9,-999.000,9,-999.000,9,-999.000,9,-999.0000,9,  -999.0,9,  -999.0,9,-999.0000,9,  -999.00,-999.000,9,  169.80,  -1.2884
77DN20050819,      AOS05,      12,          3,     282864,          7,2,20050826,       0606,    78.4638,  -149.1533,       3731,   169.8,  -1.2851,  33.8794,2,  33.9151,2,    268.0,2,   273.6,2,   22.23,2,   12.86,2,    0.00,2,    1.30,2,   6.123,2,   3.108,2,   0.403,2,   0.6400,2,  2211.7,2,  2274.6,2,   7.6840,2,    15.00,   4.007,2,  169.80,  -1.2892
77DN20050819,      AOS05,      12,          3,     282866,          9,2,20050826,       0606,    78.4638,  -149.1533,       3731,   169.8,  -1.2853,  33.8763,2,-999.0000,9,   -999.0,9,  -999.0,9, -999.00,9, -999.00,9, -999.00,9, -999.00,9,-999.000,9,-999.000,9,-999.000,9,-999.0000,9,  -999.0,9,  -999.0,9,-999.0000,9,  -999.00,-999.000,9,  169.80,  -1.2894
77DN20050819,      AOS05,      12,          3,     282863,          6,2,20050826,       0606,    78.4638,  -149.1533,       3731,   184.8,  -1.2017,  34.1249,2,  34.1766,2,    277.9,2,   285.9,2,   12.50,2,   10.91,2,    0.00,2,    0.97,2,   6.361,2,   3.063,2,   0.422,2,-999.0000,5,  2185.7,2,  2273.2,2,   7.7473,2,    15.00,   4.796,2,  184.80,  -1.2064
77DN20050819,      AOS05,      12,          3,     282862,          5,2,20050826,       0606,    78.4638,  -149.1533,       3731,   199.8,  -0.8790,  34.2701,2,  34.2955,2,    287.3,2,   292.2,2,    9.17,2,   10.53,2,    0.00,2,    0.86,2,   6.369,2,   2.954,2,   0.419,2,   1.4700,2,  2174.9,2,  2273.6,2,   7.7790,2,    15.00,   4.823,2,  199.80,  -0.8847
77DN20050819,      AOS05,      12,          3,     282861,          4,2,20050826,       0606,    78.4638,  -149.1533,       3731,   219.9,  -0.4845,  34.4014,2,-999.0000,9,   -999.0,9,  -999.0,9, -999.00,9, -999.00,9, -999.00,9, -999.00,9,-999.000,9,-999.000,9,-999.000,9,-999.0000,9,  -999.0,9,  -999.0,9,-999.0000,9,  -999.00,-999.000,9,  219.90,  -0.4917
77DN20050819,      AOS05,      12,          3,     282860,          3,2,20050826,       0606,    78.4638,  -149.1533,       3731,   219.9,  -0.4844,  34.4015,2,-999.0000,9,   -999.0,9,  -999.0,9, -999.00,9, -999.00,9, -999.00,9, -999.00,9,-999.000,9,-999.000,9,-999.000,9,-999.0000,9,  -999.0,9,  -999.0,9,-999.0000,9,  -999.00,-999.000,9,  219.90,  -0.4916
77DN20050819,      AOS05,      12,          3,     282859,          2,2,20050826,       0606,    78.4638,  -149.1533,       3731,   219.9,  -0.4847,  34.4014,2,-999.0000,9,   -999.0,9,  -999.0,9, -999.00,9, -999.00,9, -999.00,9, -999.00,9,-999.000,9,-999.000,9,-999.000,9,-999.0000,9,  -999.0,9,  -999.0,9,-999.0000,9,  -999.00,-999.000,9,  219.90,  -0.4918
77DN20050819,      AOS05,      12,          3,     282858,          1,2,20050826,       0606,    78.4638,  -149.1533,       3731,   219.9,  -0.4855,  34.4015,2,  34.4044,2,    290.4,2,   291.3,2,    8.30,2,   10.80,2,    0.00,2,    0.84,2,   6.173,2,   3.022,2,   0.392,2,   0.8100,2,  2172.8,2,  2277.5,2,   7.7913,6,    15.00,   4.931,2,  219.90,  -0.4927