BOTTLE,20211025CCHSIORKP
EXPOCODE,SECT_ID,STNNBR,CASTNO,SAMPNO,BTLNBR,BTLNBR_FLAG_W,DATE,TIME,LATITUDE,LONGITUDE,DEPTH,CTDPRS,CTDTMP,CTDSAL,CTDSAL_FLAG_W,SALNTY,SALNTY_FLAG_W,CTDOXY,CTDOXY_FLAG_W,OXYGEN,OXYGEN_FLAG_W,SILCAT,SILCAT_FLAG_W,NITRAT,NITRAT_FLAG_W,NITRIT,NITRIT_FLAG_W,PHSPHT,PHSPHT_FLAG_W,CFC-11,CFC-11_FLAG_W,CFC-12,CFC-12_FLAG_W,CFC113,CFC113_FLAG_W,SF6,SF6_FLAG_W,TCARBN,TCARBN_FLAG_W,ALKALI,ALKALI_FLAG_W,PH_SWS,PH_SWS_FLAG_W,PH_TMP,CCL4,CCL4_FLAG_W,CTDRAW,THETA
,,,,,,,,,,,METERS,DBAR,ITS-90,PSS-78,,PSS-78,,UMOL/KG,,UMOL/KG,,UMOL/KG,,UMOL/KG,,UMOL/KG,,UMOL/KG,,PMOL/KG,,PMOL/KG,,PMOL/KG,,FMOL/KG,,UMOL/KG,,UMOL/KG,,,,DEG C,PMOL/KG,,DBAR,DEG C
77DN20050819,      AOS05,      21,          1,     283154,         36,2,20050901,       1355,    84.1650,  -150.6720,       2489,     2.1,  -1.5947,  30.0520,2,  30.0547,2,    394.5,2,   396.8,2,    6.03,2,    0.12,2,    0.00,2,    1.00,2,   7.570,2,   4.112,2,   0.739,2,-999.0000,9,  -999.0,9,  -999.0,9,-999.0000,9,  -999.00,   7.230,2,    2.10,  -1.5947
77DN20050819,      AOS05,      21,          1,     283153,         35,2,20050901,       1355,    84.1650,  -150.6720,       2489,     9.5,  -1.5915,  30.1005,2,  30.0867,2,    395.8,2,   395.9,2,    6.03,2,    0.07,2,    0.00,2,    1.01,2,   7.537,2,   4.137,2,   0.741,2,   2.4700,2,  1983.8,2,  2074.6,2,   7.8547,2,    15.00,   7.127,2,    9.50,  -1.5917
77DN20050819,      AOS05,      21,          1,     283152,         34,2,20050901,       1355,    84.1650,  -150.6720,       2489,    19.0,  -1.5392,  30.7017,2,-999.0000,9,   -999.0,9,  -999.0,9, -999.00,9, -999.00,9, -999.00,9, -999.00,9,-999.000,9,-999.000,9,-999.000,9,-999.0000,9,  -999.0,9,  -999.0,9,-999.0000,9,  -999.00,-999.000,9,   19.00,  -1.5394
77DN20050819,      AOS05,      21,          1,     283151,         33,2,20050901,       1355,    84.1650,  -150.6720,       2489,    19.0,  -1.5361,  30.6918,2,-999.0000,9,   -999.0,9,  -999.0,9, -999.00,9, -999.00,9, -999.00,9, -999.00,9,-999.000,9,-999.000,9,-999.000,9,-999.0000,9,  -999.0,9,  -999.0,9,-999.0000,9,  -999.00,-999.000,9,   19.00,  -1.5364
77DN20050819,      AOS05,      21,          1,     283150,         32,2,20050901,       1355,    84.1650,  -150.6720,       2489,    19.0,  -1.5300,  30.6627,2,  30.7309,2,    394.8,2,   396.4,2,    5.93,2,    0.19,2,    0.03,2,    1.04,2,   7.637,2,   4.145,2,   0.730,2,   2.2600,2,  2027.5,2,  2137.0,2,   7.8496,2,    15.00,   7.150,2,   19.00,  -1.5302
77DN20050819,      AOS05,      21,          1,     283149,         31,2,20050901,       1355,    84.1650,  -150.6720,       2489,    39.0,  -1.6168,  30.9748,2,  30.9973,2,    392.2,2,   390.9,2,    5.29,2,    0.52,2,    0.09,2,    1.03,2,   7.638,2,   4.098,2,   0.731,2,   2.1500,2,  2044.5,2,  2151.8,2,   7.8464,2,    15.00,   6.787,2,   39.00,  -1.6174
77DN20050819,      AOS05,      21,          1,     283148,         30,2,20050901,       1355,    84.1650,  -150.6720,       2489,    59.0,  -1.6354,  31.1474,2,-999.0000,9,    385.4,2,   366.3,2,    7.72,2,    2.89,2,    0.01,2,    1.12,2,   7.437,2,   3.995,2,   0.668,2,   2.2100,2,  2071.5,2,  2166.0,2,   7.8100,2,    15.00,   5.800,2,   59.00,  -1.6363
77DN20050819,      AOS05,      21,          1,     283147,         29,2,20050901,       1355,    84.1650,  -150.6720,       2489,    79.2,  -1.3414,  32.2081,2,  32.2818,2,    301.7,2,   278.7,2,   24.72,2,   11.66,2,    0.00,2,    1.66,2,   6.522,2,   3.516,2,   0.470,2,   1.8100,2,  2164.8,2,  2215.0,2,   7.6415,2,    15.00,   4.118,2,   79.20,  -1.3430
77DN20050819,      AOS05,      21,          1,     283146,         28,2,20050901,       1355,    84.1650,  -150.6720,       2489,    94.5,  -1.2609,  32.7159,2,  32.8665,2,    264.4,2,   252.6,2,   34.61,2,   15.36,2,    0.00,2,    1.92,2,   6.312,2,   3.469,2,   0.422,2,   1.7400,2,  2225.2,2,  2243.4,2,   7.5573,2,    15.00,   3.890,2,   94.50,  -1.2630
77DN20050819,      AOS05,      21,          1,     283145,         27,2,20050901,       1355,    84.1650,  -150.6720,       2489,   109.8,  -1.4796,  33.2505,2,  33.4146,2,    260.0,2,   261.5,2,   29.96,2,   14.33,2,    0.00,2,    1.62,2,-999.000,5,-999.000,5,-999.000,5,   1.5100,2,  2231.4,2,  2263.8,2,   7.6063,2,    15.00,-999.000,5,  109.80,  -1.4820
77DN20050819,      AOS05,      21,          1,     283143,         25,2,20050901,       1355,    84.1650,  -150.6720,       2489,   130.0,  -1.5322,  33.8174,2,-999.0000,9,   -999.0,9,  -999.0,9, -999.00,9, -999.00,9, -999.00,9, -999.00,9,-999.000,9,-999.000,9,-999.000,9,-999.0000,9,  -999.0,9,  -999.0,9,-999.0000,9,  -999.00,-999.000,9,  130.00,  -1.5350
77DN20050819,      AOS05,      21,          1,     283142,         24,2,20050901,       1355,    84.1650,  -150.6720,       2489,   130.0,  -1.5323,  33.8157,2,  33.8813,2,    286.0,2,   297.7,2,   10.85,2,    9.93,2,    0.00,2,    0.91,2,   6.858,2,   3.393,2,   0.481,2,   1.3600,2,  2186.5,2,  2269.5,2,   7.7478,2,    15.00,   3.984,2,  130.00,  -1.5351
77DN20050819,      AOS05,      21,          1,     283144,         26,2,20050901,       1355,    84.1650,  -150.6720,       2489,   130.0,  -1.5324,  33.8164,2,-999.0000,9,   -999.0,9,  -999.0,9, -999.00,9, -999.00,9, -999.00,9, -999.00,9,-999.000,9,-999.000,9,-999.000,9,-999.0000,9,  -999.0,9,  -999.0,9,-999.0000,9,  -999.00,-999.000,9,  130.00,  -1.5352
77DN20050819,      AOS05,      21,          1,     283141,         23,2,20050901,       1355,    84.1650,  -150.6720,       2489,   145.2,  -1.4640,  34.0182,2,  34.0716,2,    302.1,2,   303.0,2,    6.78,2,    9.54,2,    0.00,2,    0.79,2,   6.703,2,   3.331,2,   0.460,2,   1.1400,2,  2175.1,2,  2270.4,2,   7.7855,2,    15.00,   4.262,2,  145.20,  -1.4673
77DN20050819,      AOS05,      21,          1,     283140,         22,2,20050901,       1355,    84.1650,  -150.6720,       2489,   165.5,  -0.8134,  34.2710,2,  34.2786,2,    301.2,2,   301.6,2,    5.69,2,   10.15,2,    0.00,2,    0.78,2,   6.366,2,   3.317,2,   0.429,2,   0.9900,2,  2171.7,2,  2274.5,2,   7.8053,2,    15.00,   3.804,2,  165.50,  -0.8182
77DN20050819,      AOS05,      21,          1,     283139,         21,2,20050901,       1355,    84.1650,  -150.6720,       2489,   185.7,  -0.4897,  34.3876,2,  34.4007,2,    294.8,2,   294.3,2,    6.68,2,   11.08,2,    0.00,2,    0.83,2,   5.005,2,   2.353,2,   0.289,2,   0.8000,2,  2172.5,2,  2276.1,2,   7.8095,2,    15.00,   4.098,3,  185.70,  -0.4957
77DN20050819,      AOS05,      21,          1,     283138,         20,2,20050901,       1355,    84.1650,  -150.6720,       2489,   206.0,  -0.2142,  34.4807,2,  34.5096,2,    288.7,2,   290.2,2,    7.21,2,   11.73,2,    0.00,2,    0.86,2,   4.255,2,   2.031,2,   0.219,2,   0.8100,2,  2172.7,2,  2279.1,2,   7.8160,2,    15.00,   3.945,2,  206.00,  -0.2213
77DN20050819,      AOS05,      21,          1,     283137,         19,2,20050901,       1355,    84.1650,  -150.6720,       2489,   226.3,  -0.0302,  34.5655,2,  34.5905,2,    287.3,2,   287.3,2,    7.75,2,   12.33,2,    0.00,2,    0.89,2,   3.545,2,   1.651,2,   0.184,2,-999.0000,9,  2170.2,2,  2288.3,2,   7.8228,2,    15.00,   3.497,2,  226.30,  -0.0385
77DN20050819,      AOS05,      21,          1,     283136,         18,2,20050901,       1355,    84.1650,  -150.6720,       2489,   271.3,   0.4823,  34.7507,2,  34.7690,2,    279.5,2,   288.0,2,    7.02,2,   13.07,2,    0.00,2,    0.91,2,   3.366,2,   1.588,2,   0.186,2,   0.5700,2,  2162.6,2,  2288.9,2,   7.8541,2,    15.00,   3.708,2,  271.30,   0.4709
77DN20050819,      AOS05,      21,          1,     283133,         15,2,20050901,       1355,    84.1650,  -150.6720,       2489,   321.3,   0.6766,  34.8313,2,  34.8286,2,    287.1,2,   292.8,2,    6.11,2,   13.06,2,    0.00,2,    0.90,2,   3.625,2,   1.760,2,   0.203,2,   0.5500,2,  2164.6,2,  2291.8,2,   7.8646,2,    15.00,   4.238,2,  321.30,   0.6624
77DN20050819,      AOS05,      21,          1,     283135,         17,2,20050901,       1355,    84.1650,  -150.6720,       2489,   321.3,   0.6764,  34.8313,2,-999.0000,9,   -999.0,9,  -999.0,9, -999.00,9, -999.00,9, -999.00,9, -999.00,9,-999.000,9,-999.000,9,-999.000,9,-999.0000,9,  -999.0,9,  -999.0,9,-999.0000,9,  -999.00,-999.000,9,  321.30,   0.6623
77DN20050819,      AOS05,      21,          1,     283134,         16,2,20050901,       1355,    84.1650,  -150.6720,       2489,   321.3,   0.6769,  34.8313,2,-999.0000,9,   -999.0,9,  -999.0,9, -999.00,9, -999.00,9, -999.00,9, -999.00,9,-999.000,9,-999.000,9,-999.000,9,-999.0000,9,  -999.0,9,  -999.0,9,-999.0000,9,  -999.00,-999.000,9,  321.30,   0.6627
77DN20050819,      AOS05,      21,          1,     283132,         14,2,20050901,       1355,    84.1650,  -150.6720,       2489,   376.2,   0.3734,  34.8152,2,  34.8165,2,    286.0,2,   286.4,2,    7.55,2,   13.48,2,    0.00,2,    0.93,2,   2.156,2,   1.000,2,   0.094,2,   0.4100,2,  2169.2,2,  2290.9,2,   7.8605,2,    15.00,   2.913,2,  376.20,   0.3576
77DN20050819,      AOS05,      21,          1,     283131,         13,2,20050901,       1355,    84.1650,  -150.6720,       2489,   436.1,   0.4530,  34.8489,2,  34.8471,2,    290.1,2,   289.7,2,    6.73,2,   13.48,2,    0.00,2,    0.93,2,   2.022,2,   0.942,2,   0.078,2,   0.3500,2,  2162.6,2,  2294.1,2,   7.8652,2,    15.00,   2.902,2,  436.10,   0.4341
77DN20050819,      AOS05,      21,          1,     283130,         12,2,20050901,       1355,    84.1650,  -150.6720,       2489,   539.5,   0.4263,  34.8690,2,  34.8684,2,    292.1,2,   291.6,2,    6.64,2,   13.48,2,    0.00,2,    0.94,2,   1.362,2,   0.654,2,   0.071,2,-999.0000,9,  2164.4,2,  2294.1,2,   7.8733,2,    15.00,   2.248,2,  539.50,   0.4025
77DN20050819,      AOS05,      21,          1,     283129,         11,2,20050901,       1355,    84.1650,  -150.6720,       2489,   638.9,   0.2877,  34.8765,2,  34.8757,2,    295.0,2,   296.1,2,    6.18,2,   13.06,2,    0.00,2,    0.92,2,   1.779,3,   0.867,2,   0.081,2,   0.3500,2,  2164.4,2,  2295.6,2,   7.8707,2,    15.00,   2.750,2,  638.90,   0.2597
77DN20050819,      AOS05,      21,          1,     283128,         10,2,20050901,       1355,    84.1650,  -150.6720,       2489,   788.2,   0.1450,  34.8899,2,  34.8899,2,    295.2,2,   296.0,2,    6.63,2,   13.38,2,    0.00,2,    0.94,2,   0.553,2,   0.273,2,   0.000,2,   0.0000,2,  2162.2,2,  2295.0,2,   7.8812,2,    15.00,   1.540,2,  788.20,   0.1103
77DN20050819,      AOS05,      21,          1,     283127,          9,2,20050901,       1355,    84.1650,  -150.6720,       2489,   937.6,  -0.0291,  34.8961,2,  34.8956,2,    297.0,2,   298.1,2,    6.62,2,   13.38,2,    0.00,2,    0.93,2,   0.814,2,   0.395,2,   0.027,2,   0.0000,2,  2158.8,2,  2295.0,2,   7.8775,2,    15.00,   1.797,2,  937.60,  -0.0702
77DN20050819,      AOS05,      21,          1,     283126,          8,2,20050901,       1355,    84.1650,  -150.6720,       2489,  1091.4,  -0.1465,  34.9060,2,  34.9051,2,    297.2,2,   298.3,2,    6.98,2,   13.56,2,    0.00,2,    0.95,2,-999.000,5,-999.000,5,-999.000,5,   0.0000,2,  2159.2,2,  2294.8,2,   7.8786,2,    15.00,-999.000,5, 1091.40,  -0.1948
77DN20050819,      AOS05,      21,          1,     283125,          7,2,20050901,       1355,    84.1650,  -150.6720,       2489,  1291.0,  -0.2564,  34.9185,2,  34.9165,2,    296.1,2,   297.4,2,    7.79,2,   13.79,2,    0.00,2,    0.98,2,   0.268,2,   0.151,2,   0.000,2,   0.0000,2,  2167.0,2,  2298.6,2,   7.8811,2,    15.00,   1.106,2, 1291.00,  -0.3146
77DN20050819,      AOS05,      21,          1,     283124,          6,2,20050901,       1355,    84.1650,  -150.6720,       2489,  1490.9,  -0.3291,  34.9279,2,  34.9280,2,    294.3,2,   295.8,2,    8.50,2,   14.11,2,    0.00,2,    1.00,2,   0.207,2,   0.113,2,   0.000,2,   0.0000,2,  2161.8,2,  2297.8,2,   7.8790,2,    15.00,   0.878,2, 1490.90,  -0.3982
77DN20050819,      AOS05,      21,          1,     283123,          5,2,20050901,       1355,    84.1650,  -150.6720,       2489,  1694.5,  -0.3767,  34.9371,2,  34.9357,2,    291.8,2,   292.6,2,    9.77,2,   14.43,2,    0.00,2,    1.02,2,   0.182,2,   0.112,2,   0.000,2,   0.0000,2,  2166.4,2,  2297.9,2,   7.8778,2,    15.00,   0.677,2, 1694.50,  -0.4576
77DN20050819,      AOS05,      21,          1,     283122,          4,2,20050901,       1355,    84.1650,  -150.6720,       2489,  1944.5,  -0.4005,  34.9461,2,  34.9453,2,    288.4,2,   289.5,2,   11.31,2,   14.76,2,    0.00,2,    1.04,2,   0.205,2,   0.117,2,   0.000,2,-999.0000,9,  2174.4,2,  2299.7,2,   7.8741,2,    15.00,   0.508,2, 1944.50,  -0.4972
77DN20050819,      AOS05,      21,          1,     283121,          3,2,20050901,       1355,    84.1650,  -150.6720,       2489,  2199.1,  -0.3935,  34.9519,2,  34.9517,2,    285.6,2,   287.4,2,   12.03,2,   14.89,2,    0.00,2,    1.05,2,   0.070,2,   0.000,2,   0.000,2,-999.0000,9,  2169.3,2,  2299.5,2,   7.8736,2,    15.00,   0.208,2, 2199.10,  -0.5078
77DN20050819,      AOS05,      21,          1,     283120,          2,2,20050901,       1355,    84.1650,  -150.6720,       2489,  2364.8,  -0.3782,  34.9551,2,  34.9548,2,    284.2,2,   285.0,2,   12.66,2,   14.98,2,    0.00,2,    1.06,2,   0.036,2,   0.058,2,   0.000,2,-999.0000,9,  2173.8,2,  2301.6,2,   7.8715,2,    15.00,   0.120,2, 2364.80,  -0.5047
77DN20050819,      AOS05,      21,          1,     283119,          1,2,20050901,       1355,    84.1650,  -150.6720,       2489,  2515.4,  -0.3647,  34.9565,2,  34.9564,2,    283.7,2,   283.5,3,   12.57,2,   14.98,2,    0.00,2,    1.05,2,   0.041,2,   0.057,2,   0.000,2,   0.0000,2,  2174.2,2,  2305.1,2,   7.8763,2,    15.00,   0.168,2, 2515.40,  -0.5027