BOTTLE,20211025CCHSIORKP
EXPOCODE,SECT_ID,STNNBR,CASTNO,SAMPNO,BTLNBR,BTLNBR_FLAG_W,DATE,TIME,LATITUDE,LONGITUDE,DEPTH,CTDPRS,CTDTMP,CTDSAL,CTDSAL_FLAG_W,SALNTY,SALNTY_FLAG_W,CTDOXY,CTDOXY_FLAG_W,OXYGEN,OXYGEN_FLAG_W,SILCAT,SILCAT_FLAG_W,NITRAT,NITRAT_FLAG_W,NITRIT,NITRIT_FLAG_W,PHSPHT,PHSPHT_FLAG_W,CFC-11,CFC-11_FLAG_W,CFC-12,CFC-12_FLAG_W,CFC113,CFC113_FLAG_W,SF6,SF6_FLAG_W,TCARBN,TCARBN_FLAG_W,ALKALI,ALKALI_FLAG_W,PH_SWS,PH_SWS_FLAG_W,PH_TMP,CCL4,CCL4_FLAG_W,CTDRAW,THETA
,,,,,,,,,,,METERS,DBAR,ITS-90,PSS-78,,PSS-78,,UMOL/KG,,UMOL/KG,,UMOL/KG,,UMOL/KG,,UMOL/KG,,UMOL/KG,,PMOL/KG,,PMOL/KG,,PMOL/KG,,FMOL/KG,,UMOL/KG,,UMOL/KG,,,,DEG C,PMOL/KG,,DBAR,DEG C
77DN20050819,      AOS05,      44,          1,     283812,         36,2,20050913,       1814,    89.3743,    89.0257,       4350,     9.4,  -1.6920,  31.2356,2,  31.2523,2,    385.5,2,   386.7,2,    6.44,2,    0.81,2,    0.05,2,    0.88,2,   7.074,2,   3.884,2,   0.732,2,-999.0000,9,  2073.5,2,  2161.4,2,   7.8083,2,    15.00,-999.000,5,    9.40,  -1.6921
77DN20050819,      AOS05,      44,          1,     283811,         35,2,20050913,       1814,    89.3743,    89.0257,       4350,    24.5,  -1.6949,  31.2595,2,  31.2548,2,    384.6,2,   386.5,2,    6.36,2,    0.86,2,    0.05,2,    0.88,2,   7.255,2,   3.898,2,   0.726,2,-999.0000,9,  2076.9,2,  2162.4,2,   7.8087,2,    15.00,-999.000,5,   24.50,  -1.6952
77DN20050819,      AOS05,      44,          1,     283810,         34,2,20050913,       1814,    89.3743,    89.0257,       4350,    39.7,  -1.7087,  32.1942,2,  32.3572,2,    381.6,2,   378.6,2,    4.86,2,    2.33,2,    0.05,2,    0.69,2,   7.405,2,   3.948,2,   0.721,2,-999.0000,9,  2152.0,2,  2231.0,2,   7.8054,2,    15.00,-999.000,5,   39.70,  -1.7093
77DN20050819,      AOS05,      44,          1,     283809,         33,2,20050913,       1814,    89.3743,    89.0257,       4350,    59.9,  -1.7704,  32.8046,2,  32.8485,2,    371.8,2,   371.1,2,    4.95,2,    3.19,2,    0.01,2,    0.58,2,   7.085,2,   3.765,2,   0.664,2,-999.0000,9,  2165.6,2,  2256.8,2,   7.7987,2,    15.00,-999.000,5,   59.90,  -1.7714
77DN20050819,      AOS05,      44,          1,     283808,         32,4,20050913,       1814,    89.3743,    89.0257,       4350,    80.1,  -1.6840,  33.4836,2,  32.7927,4,    340.5,2,   372.9,4,    4.69,4,    3.03,4,    0.01,4,    0.58,4,   7.352,2,   3.866,2,   0.730,2,-999.0000,9,  2164.5,4,  2254.0,4,   7.8002,4,    15.00,-999.000,5,   80.10,  -1.6855
77DN20050819,      AOS05,      44,          1,     283807,         31,2,20050913,       1814,    89.3743,    89.0257,       4350,   100.3,  -1.5467,  34.0208,2,  34.0593,2,    314.4,2,   316.5,2,    5.76,2,    7.84,2,    0.00,2,    0.67,2,   6.431,2,   3.243,2,   0.492,2,-999.0000,9,  2171.4,2,  2270.5,2,   7.8063,2,    15.00,-999.000,5,  100.30,  -1.5489
77DN20050819,      AOS05,      44,          1,     283806,         30,2,20050913,       1814,    89.3743,    89.0257,       4350,   120.5,  -1.2663,  34.2127,2,  34.2419,2,    310.9,2,   314.4,2,    5.06,2,    8.45,2,    0.00,2,    0.69,2,   6.632,2,   3.151,2,   0.299,3,-999.0000,9,  2165.6,2,  2273.7,2,   7.8219,2,    15.00,-999.000,5,  120.50,  -1.2692
77DN20050819,      AOS05,      44,          1,     283805,         29,2,20050913,       1814,    89.3743,    89.0257,       4350,   140.7,  -0.8792,  34.3345,2,  34.3658,2,    309.3,2,   310.5,2,    5.07,2,    9.04,2,    0.00,2,    0.71,2,   5.662,2,   2.890,2,   0.407,2,-999.0000,9,  2165.3,2,  2276.4,2,   7.8238,2,    15.00,-999.000,5,  140.70,  -0.8832
77DN20050819,      AOS05,      44,          1,     283804,         28,2,20050913,       1814,    89.3743,    89.0257,       4350,   160.9,  -0.4658,  34.4599,2,  34.4875,2,    308.8,2,   309.5,2,    4.99,2,    9.44,2,    0.00,2,    0.73,2,   6.070,2,   2.992,2,   0.312,3,-999.0000,9,  2172.1,2,  2280.7,2,   7.8292,2,    15.00,-999.000,5,  160.90,  -0.4710
77DN20050819,      AOS05,      44,          1,     283803,         27,2,20050913,       1814,    89.3743,    89.0257,       4350,   181.1,  -0.2100,  34.5533,2,  34.5790,2,    307.9,2,   307.0,2,    4.82,2,    9.85,2,    0.00,2,    0.75,2,   5.917,3,   2.915,2,   0.294,3,-999.0000,9,  2166.9,2,  2282.1,2,   7.8376,2,    15.00,-999.000,5,  181.10,  -0.2163
77DN20050819,      AOS05,      44,          1,     283802,         26,2,20050913,       1814,    89.3743,    89.0257,       4350,   211.2,   0.2455,  34.6680,2,  34.6976,2,    306.3,2,   306.1,2,    4.65,2,   10.60,2,    0.00,2,    0.78,2,   6.180,2,   3.079,2,   0.324,3,-999.0000,9,  2173.7,2,  2287.3,2,   7.8471,2,    15.00,-999.000,5,  211.20,   0.2372
77DN20050819,      AOS05,      44,          1,     283801,         25,2,20050913,       1814,    89.3743,    89.0257,       4350,   241.4,   0.7404,  34.7806,2,  34.7907,2,    303.2,2,   304.6,2,    4.93,2,   11.31,2,    0.00,2,    0.82,2,   4.925,2,   2.541,2,   0.386,2,-999.0000,9,  2166.8,2,  2290.7,2,   7.8606,2,    15.00,-999.000,5,  241.40,   0.7298
77DN20050819,      AOS05,      44,          1,     283800,         24,2,20050913,       1814,    89.3743,    89.0257,       4350,   291.3,   0.9962,  34.8443,2,  34.8431,2,    303.5,2,   304.0,2,    5.02,2,   11.71,2,    0.00,2,    0.83,2,   5.578,2,   2.782,2,   0.368,2,-999.0000,9,  2163.9,2,  2293.2,2,   7.8643,2,    15.00,-999.000,5,  291.30,   0.9826
77DN20050819,      AOS05,      44,          1,     283799,         23,2,20050913,       1814,    89.3743,    89.0257,       4350,   341.0,   0.9593,  34.8506,2,  34.8510,2,    304.2,2,   306.2,2,    5.03,2,   11.60,2,    0.00,2,    0.83,2,   5.521,2,   2.768,2,   0.366,2,-999.0000,9,  2164.4,2,  2292.3,2,   7.8638,2,    15.00,-999.000,5,  341.00,   0.9434
77DN20050819,      AOS05,      44,          1,     283798,         22,2,20050913,       1814,    89.3743,    89.0257,       4350,   400.8,   0.7987,  34.8616,2,  34.8636,2,    305.3,2,   306.5,2,    5.13,2,   11.70,2,    0.00,2,    0.84,2,   5.054,2,   2.598,2,   0.346,2,-999.0000,9,  2166.8,2,  2291.2,2,   7.8612,2,    15.00,-999.000,5,  400.80,   0.7803
77DN20050819,      AOS05,      44,          1,     283797,         21,2,20050913,       1814,    89.3743,    89.0257,       4350,   493.3,   0.5266,  34.8651,2,  34.8655,2,    305.7,2,   307.2,2,    5.32,2,   11.79,2,    0.00,2,    0.84,2,   5.201,2,   2.622,2,   0.340,2,-999.0000,9,  2174.3,2,  2294.4,2,   7.8540,2,    15.00,-999.000,5,  493.30,   0.5046
77DN20050819,      AOS05,      44,          1,     283796,         20,2,20050913,       1814,    89.3743,    89.0257,       4350,   596.7,   0.2319,  34.8641,2,  34.8631,2,    305.6,2,   307.4,2,    5.51,2,   11.78,2,    0.00,2,    0.85,2,   5.484,2,   2.746,2,   0.262,2,-999.0000,9,  2173.4,2,  2293.8,2,   7.8466,2,    15.00,-999.000,5,  596.70,   0.2063
77DN20050819,      AOS05,      44,          1,     283795,         19,2,20050913,       1814,    89.3743,    89.0257,       4350,   795.3,  -0.1239,  34.8685,2,  34.8686,2,    306.7,2,   307.9,2,    5.96,2,   11.83,2,    0.00,2,    0.87,2,   5.067,2,   2.564,2,   0.355,2,-999.0000,9,  2172.6,2,  2292.6,2,   7.8404,2,    15.00,-999.000,5,  795.30,  -0.1571
77DN20050819,      AOS05,      44,          1,     283794,         18,2,20050913,       1814,    89.3743,    89.0257,       4350,   994.1,  -0.3084,  34.8804,2,  34.8807,2,    307.4,2,   306.5,2,    6.41,2,   12.13,2,    0.00,2,    0.89,2,   4.722,2,   2.356,2,   0.271,2,-999.0000,9,  2176.8,2,  2294.1,2,   7.8377,2,    15.00,-999.000,5,  994.10,  -0.3501
77DN20050819,      AOS05,      44,          1,     283793,         17,2,20050913,       1814,    89.3743,    89.0257,       4350,  1197.1,  -0.4201,  34.8922,2,  34.8935,2,    305.7,2,   305.3,2,    7.04,2,   12.62,2,    0.00,2,    0.92,2,   4.100,2,   2.086,2,   0.222,2,-999.0000,9,  2178.8,2,  2294.9,2,   7.8383,2,    15.00,-999.000,5, 1197.10,  -0.4715
77DN20050819,      AOS05,      44,          1,     283792,         16,2,20050913,       1814,    89.3743,    89.0257,       4350,  1446.4,  -0.5192,  34.9070,2,  34.9081,2,    301.9,2,   302.0,2,    8.39,2,   13.44,2,    0.00,2,    0.96,2,   2.438,2,   1.260,2,   0.105,2,-999.0000,9,  2174.2,2,  2294.7,2,   7.8481,2,    15.00,-999.000,5, 1446.40,  -0.5834
77DN20050819,      AOS05,      44,          1,     283791,         15,2,20050913,       1814,    89.3743,    89.0257,       4350,  1699.8,  -0.6008,  34.9170,2,  34.9179,2,    298.8,2,   299.9,2,    9.57,2,   13.98,2,    0.00,2,    0.99,2,   1.174,2,   0.601,2,   0.000,2,-999.0000,9,  2175.4,2,  2295.4,2,   7.8540,2,    15.00,-999.000,5, 1699.80,  -0.6789
77DN20050819,      AOS05,      44,          1,     283790,         14,2,20050913,       1814,    89.3743,    89.0257,       4350,  1849.7,  -0.6564,  34.9187,2,  34.9193,2,    298.1,2,   299.3,2,    9.93,2,   14.13,2,    0.00,2,    1.01,2,   0.886,2,   0.526,2,   0.000,2,-999.0000,9,  2174.8,2,  2295.8,2,   7.8559,2,    15.00,-999.000,5, 1849.70,  -0.7431
77DN20050819,      AOS05,      44,          1,     283789,         13,2,20050913,       1814,    89.3743,    89.0257,       4350,  1999.4,  -0.6995,  34.9199,2,  34.9199,2,    298.2,2,   299.1,2,   10.21,2,   14.28,2,    0.00,2,    1.01,2,   0.742,2,   0.396,2,   0.000,2,-999.0000,9,  2170.1,2,  2296.5,2,   7.8591,6,    15.00,-999.000,5, 1999.40,  -0.7950
77DN20050819,      AOS05,      44,          1,     283788,         12,2,20050913,       1814,    89.3743,    89.0257,       4350,  2253.8,  -0.7384,  34.9231,2,  34.9235,2,    298.5,2,   299.7,2,   10.31,2,   14.32,2,    0.00,2,    1.02,2,   0.465,2,   0.256,2,   0.000,2,-999.0000,9,  2169.8,2,  2294.9,2,   7.8620,2,    15.00,-999.000,5, 2253.80,  -0.8504
77DN20050819,      AOS05,      44,          1,     283787,         11,2,20050913,       1814,    89.3743,    89.0257,       4350,  2503.9,  -0.7576,  34.9269,2,  34.9264,2,    298.6,2,   299.8,2,   10.41,2,   14.32,2,    0.00,2,    1.02,2,   0.303,2,   0.199,2,   0.000,2,-999.0000,9,  2171.0,2,  2295.9,2,   7.8656,2,    15.00,-999.000,5, 2503.90,  -0.8870
77DN20050819,      AOS05,      44,          1,     283782,          6,2,20050913,       1814,    89.3743,    89.0257,       4350,  2808.8,  -0.7638,  34.9307,2,  34.9316,2,    298.2,2,   299.2,2,   10.59,2,   14.36,2,    0.00,2,    1.02,2,   0.201,2,   0.143,2,   0.000,2,-999.0000,9,  2167.6,2,  2298.9,2,   7.8678,2,    15.00,-999.000,5, 2808.80,  -0.9160
77DN20050819,      AOS05,      44,          1,     283783,          7,2,20050913,       1814,    89.3743,    89.0257,       4350,  2808.9,  -0.7638,  34.9307,2,-999.0000,9,   -999.0,9,  -999.0,9, -999.00,9, -999.00,9, -999.00,9, -999.00,9,-999.000,9,-999.000,9,-999.000,9,-999.0000,9,  -999.0,9,  -999.0,9,-999.0000,9,  -999.00,-999.000,9, 2808.90,  -0.9160
77DN20050819,      AOS05,      44,          1,     283784,          8,2,20050913,       1814,    89.3743,    89.0257,       4350,  2809.0,  -0.7638,  34.9307,2,-999.0000,9,   -999.0,9,  -999.0,9, -999.00,9, -999.00,9, -999.00,9, -999.00,9,-999.000,9,-999.000,9,-999.000,9,-999.0000,9,  -999.0,9,  -999.0,9,-999.0000,9,  -999.00,-999.000,9, 2809.00,  -0.9160
77DN20050819,      AOS05,      44,          1,     283785,          9,2,20050913,       1814,    89.3743,    89.0257,       4350,  2809.1,  -0.7638,  34.9307,2,-999.0000,9,   -999.0,9,  -999.0,9, -999.00,9, -999.00,9, -999.00,9, -999.00,9,-999.000,9,-999.000,9,-999.000,9,-999.0000,9,  -999.0,9,  -999.0,9,-999.0000,9,  -999.00,-999.000,9, 2809.10,  -0.9161
77DN20050819,      AOS05,      44,          1,     283786,         10,2,20050913,       1814,    89.3743,    89.0257,       4350,  2809.1,  -0.7638,  34.9307,2,-999.0000,9,   -999.0,9,  -999.0,9, -999.00,9, -999.00,9, -999.00,9, -999.00,9,-999.000,9,-999.000,9,-999.000,9,-999.0000,9,  -999.0,9,  -999.0,9,-999.0000,9,  -999.00,-999.000,9, 2809.10,  -0.9161
77DN20050819,      AOS05,      44,          1,     283781,          5,2,20050913,       1814,    89.3743,    89.0257,       4350,  3110.0,  -0.7538,  34.9349,2,  34.9349,2,    297.7,2,   299.0,2,   10.69,2,   14.40,2,    0.00,2,    1.02,2,   0.137,2,   0.099,2,   0.000,2,-999.0000,9,  2165.3,2,  2296.5,2,   7.8733,2,    15.00,-999.000,5, 3110.00,  -0.9305
77DN20050819,      AOS05,      44,          1,     283780,          4,2,20050913,       1814,    89.3743,    89.0257,       4350,  3416.0,  -0.7373,  34.9385,2,  34.9381,2,    297.4,2,   298.6,2,   10.79,2,   14.35,2,    0.00,2,    1.02,2,   0.101,2,   0.103,2,   0.000,2,-999.0000,9,  2163.0,2,  2295.0,2,   7.8762,2,    15.00,-999.000,5, 3416.00,  -0.9404
77DN20050819,      AOS05,      44,          1,     283779,          3,2,20050913,       1814,    89.3743,    89.0257,       4350,  3823.7,  -0.7041,  34.9424,2,  34.9424,2,    297.5,2,   298.5,2,   10.80,2,   14.30,2,    0.00,2,    1.02,2,   0.100,2,   0.094,2,   0.000,2,-999.0000,9,  2164.2,2,  2296.7,2,   7.8784,2,    15.00,-999.000,5, 3823.70,  -0.9449
77DN20050819,      AOS05,      44,          1,     283778,          2,2,20050913,       1814,    89.3743,    89.0257,       4350,  4130.8,  -0.6693,  34.9440,2,  34.9442,2,    297.4,2,   298.4,2,   10.81,2,   14.29,2,    0.00,2,    1.02,2,   0.095,2,   0.060,2,   0.000,2,-999.0000,9,  2166.3,2,  2297.9,2,   7.8777,2,    15.00,-999.000,5, 4130.80,  -0.9406
77DN20050819,      AOS05,      44,          1,     283777,          1,2,20050913,       1814,    89.3743,    89.0257,       4350,  4384.3,  -0.6429,  34.9437,2,  34.9448,2,    297.3,2,   298.3,2,   10.64,2,   14.34,2,    0.00,2,    1.02,2,   0.114,5,   0.070,5,   0.000,5,-999.0000,9,  2164.5,2,  2299.9,2,   7.8807,2,    15.00,-999.000,5, 4384.30,  -0.9403