BOTTLE,20211025CCHSIORKP
EXPOCODE,SECT_ID,STNNBR,CASTNO,SAMPNO,BTLNBR,BTLNBR_FLAG_W,DATE,TIME,LATITUDE,LONGITUDE,DEPTH,CTDPRS,CTDTMP,CTDSAL,CTDSAL_FLAG_W,SALNTY,SALNTY_FLAG_W,CTDOXY,CTDOXY_FLAG_W,OXYGEN,OXYGEN_FLAG_W,SILCAT,SILCAT_FLAG_W,NITRAT,NITRAT_FLAG_W,NITRIT,NITRIT_FLAG_W,PHSPHT,PHSPHT_FLAG_W,CFC-11,CFC-11_FLAG_W,CFC-12,CFC-12_FLAG_W,CFC113,CFC113_FLAG_W,SF6,SF6_FLAG_W,TCARBN,TCARBN_FLAG_W,ALKALI,ALKALI_FLAG_W,PH_SWS,PH_SWS_FLAG_W,PH_TMP,CCL4,CCL4_FLAG_W,CTDRAW,THETA
,,,,,,,,,,,METERS,DBAR,ITS-90,PSS-78,,PSS-78,,UMOL/KG,,UMOL/KG,,UMOL/KG,,UMOL/KG,,UMOL/KG,,UMOL/KG,,PMOL/KG,,PMOL/KG,,PMOL/KG,,FMOL/KG,,UMOL/KG,,UMOL/KG,,,,DEG C,PMOL/KG,,DBAR,DEG C
77DN20050819,      AOS05,      49,          1,     283956,         36,2,20050917,       0140,    87.4405,    57.9072,       3800,     9.6,  -1.7905,  32.9652,2,  32.9669,2,    374.2,2,   375.3,2,    3.40,2,    3.24,2,    0.02,2,    0.46,2,   7.163,2,   3.853,2,   0.747,2,-999.0000,5,  2135.5,2,  2248.7,2,   7.8313,2,    15.00,-999.000,5,    9.60,  -1.7907
77DN20050819,      AOS05,      49,          1,     283955,         35,2,20050917,       0140,    87.4405,    57.9072,       3800,    25.6,  -1.7915,  32.9682,2,  32.9894,2,    373.9,2,   375.2,2,    3.41,2,    3.29,2,    0.02,2,    0.46,2,   7.842,2,   4.086,2,   0.801,2,   1.7800,2,  2139.2,2,  2255.0,2,   7.8309,2,    15.00,-999.000,5,   25.60,  -1.7920
77DN20050819,      AOS05,      49,          1,     283954,         34,2,20050917,       0140,    87.4405,    57.9072,       3800,    43.6,  -1.7982,  33.3546,2,  33.3618,2,    370.3,2,   372.6,2,    3.80,2,    3.80,2,    0.00,2,    0.48,2,   7.219,2,   4.039,2,   0.823,2,   1.5100,2,  2164.6,2,  2278.2,2,   7.8204,2,    15.00,-999.000,5,   43.60,  -1.7989
77DN20050819,      AOS05,      49,          1,     283953,         33,2,20050917,       0140,    87.4405,    57.9072,       3800,    58.8,  -1.8100,  33.4535,2,  33.4653,2,    363.3,2,   369.0,2,    3.71,2,    4.13,2,    0.00,2,    0.48,2,   7.136,2,   3.810,2,   0.848,2,   1.9900,2,  2161.7,2,  2278.7,2,   7.8262,2,    15.00,-999.000,5,   58.80,  -1.8110
77DN20050819,      AOS05,      49,          1,     283952,         32,2,20050917,       0140,    87.4405,    57.9072,       3800,    74.1,  -1.6090,  33.9775,2,  33.9886,2,    328.2,2,   325.3,2,    4.65,2,    7.66,2,    0.00,2,    0.65,2,   6.958,2,   3.387,2,   0.577,2,   0.8900,2,  2158.1,2,  2271.8,2,   7.8153,2,    15.00,-999.000,5,   74.10,  -1.6105
77DN20050819,      AOS05,      49,          1,     283951,         31,2,20050917,       0140,    87.4405,    57.9072,       3800,    89.4,  -1.5148,  34.1276,2,  34.1422,2,    322.8,2,   325.0,2,    4.00,2,    8.11,2,    0.00,2,    0.65,2,   6.215,2,   3.127,2,   0.631,2,-999.0000,9,  2154.3,2,  2272.5,2,   7.8315,2,    15.00,-999.000,5,   89.40,  -1.5168
77DN20050819,      AOS05,      49,          1,     283950,         30,2,20050917,       0140,    87.4405,    57.9072,       3800,   104.7,  -1.3432,  34.2229,2,  34.2326,2,    322.0,2,   324.3,2,    3.82,2,    8.40,2,    0.00,2,    0.66,2,   5.311,2,   2.742,2,   0.518,2,   0.8200,2,  2150.7,2,  2272.2,2,   7.8468,2,    15.00,-999.000,5,  104.70,  -1.3457
77DN20050819,      AOS05,      49,          1,     283949,         29,2,20050917,       0140,    87.4405,    57.9072,       3800,   124.9,  -0.9632,  34.3166,2,  34.3339,2,    318.8,2,   316.9,2,    4.02,2,    9.22,2,    0.00,2,    0.70,2,   6.249,2,   3.185,2,   0.491,2,-999.0000,9,  2151.1,2,  2275.0,2,   7.8447,2,    15.00,-999.000,5,  124.90,  -0.9667
77DN20050819,      AOS05,      49,          1,     283948,         28,2,20050917,       0140,    87.4405,    57.9072,       3800,   145.1,  -0.3266,  34.4436,2,  34.4440,2,    308.1,2,   307.8,2,    4.68,2,   10.23,2,    0.00,2,    0.75,2,   5.552,2,   2.806,2,   0.420,2,   0.6100,2,  2156.5,2,  2279.0,2,   7.8377,2,    15.00,-999.000,5,  145.10,  -0.3314
77DN20050819,      AOS05,      49,          1,     283947,         27,2,20050917,       0140,    87.4405,    57.9072,       3800,   170.1,   0.2485,  34.5679,2,  34.5749,2,    301.3,2,   301.0,2,    4.88,2,   11.11,2,    0.00,2,    0.80,2,   5.599,2,   2.801,2,   0.413,2,   0.6600,2,  2158.9,2,  2282.5,2,   7.8391,2,    15.00,-999.000,5,  170.10,   0.2419
77DN20050819,      AOS05,      49,          1,     283946,         26,2,20050917,       0140,    87.4405,    57.9072,       3800,   195.4,   0.7968,  34.6964,2,  34.7064,2,    296.3,2,   297.4,2,    4.97,2,   11.89,2,    0.00,2,    0.84,2,   5.201,2,   2.548,2,   0.392,2,   0.7100,2,  2157.3,2,  2285.8,2,   7.8528,2,    15.00,-999.000,5,  195.40,   0.7882
77DN20050819,      AOS05,      49,          1,     283945,         25,2,20050917,       0140,    87.4405,    57.9072,       3800,   220.5,   1.1004,  34.7745,2,  34.7843,2,    296.5,2,   298.4,2,    4.98,2,   12.26,2,    0.00,2,    0.85,2,   5.137,2,   2.524,2,   0.365,2,   0.6200,2,  2153.0,2,  2288.0,2,   7.8620,2,    15.00,-999.000,5,  220.50,   1.0901
77DN20050819,      AOS05,      49,          1,     283944,         24,2,20050917,       0140,    87.4405,    57.9072,       3800,   250.5,   1.2858,  34.8287,2,  34.8282,2,    296.3,2,   298.5,2,    4.90,2,   12.45,2,    0.00,2,    0.86,2,   5.342,2,   2.720,2,   0.408,2,   0.5600,2,  2155.5,2,  2287.4,2,   7.8660,2,    15.00,-999.000,5,  250.50,   1.2737
77DN20050819,      AOS05,      49,          1,     283943,         23,2,20050917,       0140,    87.4405,    57.9072,       3800,   285.2,   1.4530,  34.8763,2,-999.0000,9,    297.7,2,   299.1,2,    5.09,2,   12.68,2,    0.00,2,    0.87,2,   5.150,2,   2.523,2,   0.384,2,   0.6900,2,  2154.3,2,  2290.4,2,   7.8715,2,    15.00,-999.000,5,  285.20,   1.4387
77DN20050819,      AOS05,      49,          1,     283942,         22,2,20050917,       0140,    87.4405,    57.9072,       3800,   334.9,   1.3394,  34.8740,2,  34.8741,2,    298.8,2,   300.3,2,    5.00,2,   12.64,2,    0.00,2,    0.87,2,   4.837,2,   2.417,2,   0.317,2,   0.6400,2,  2156.8,2,  2289.9,2,   7.8708,2,    15.00,-999.000,5,  334.90,   1.3227
77DN20050819,      AOS05,      49,          1,     283941,         21,2,20050917,       0140,    87.4405,    57.9072,       3800,   409.0,   1.1179,  34.8879,2,  34.8883,2,    300.8,2,   302.0,2,    5.10,2,   12.74,2,    0.00,2,    0.88,2,   4.822,2,   2.377,2,   0.316,2,   0.5400,2,  2162.6,2,  2291.6,2,   7.8675,2,    15.00,-999.000,5,  409.00,   1.0980
77DN20050819,      AOS05,      49,          1,     283940,         20,2,20050917,       0140,    87.4405,    57.9072,       3800,   507.7,   0.6923,  34.8781,2,  34.8763,2,    301.6,2,   303.6,2,    5.39,2,   12.60,2,   -0.00,2,    0.88,2,   4.985,2,   2.567,2,   0.336,2,   0.5400,2,  2159.7,2,  2295.2,2,   7.8602,2,    15.00,-999.000,5,  507.70,   0.6690
77DN20050819,      AOS05,      49,          1,     283939,         19,2,20050917,       0140,    87.4405,    57.9072,       3800,   609.6,   0.3849,  34.8730,2,  34.8735,2,    302.7,2,   304.1,2,    5.49,2,   12.55,2,   -0.00,2,    0.88,2,   4.607,2,   2.346,2,   0.309,2,   0.5100,2,  2161.4,2,  2291.0,2,   7.8530,2,    15.00,-999.000,5,  609.60,   0.3579
77DN20050819,      AOS05,      49,          1,     283938,         18,2,20050917,       0140,    87.4405,    57.9072,       3800,   707.5,   0.1428,  34.8723,2,  34.8721,2,    304.2,2,   305.6,2,    5.50,2,   12.52,2,    0.00,2,    0.89,2,   4.782,2,   2.375,2,   0.328,2,   0.9800,2,  2167.2,2,  2292.0,2,   7.8484,2,    15.00,-999.000,5,  707.50,   0.1122
77DN20050819,      AOS05,      49,          1,     283937,         17,2,20050917,       0140,    87.4405,    57.9072,       3800,   904.7,  -0.1694,  34.8777,2,  34.8780,2,    305.4,2,   306.1,2,    5.98,2,   12.70,2,   -0.00,2,    0.90,2,   4.626,2,   2.324,2,   0.345,2,   0.8300,2,  2172.2,2,  2292.9,2,   7.8400,2,    15.00,-999.000,5,  904.70,  -0.2077
77DN20050819,      AOS05,      49,          1,     283936,         16,2,20050917,       0140,    87.4405,    57.9072,       3800,  1105.4,  -0.3095,  34.8936,2,  34.8940,2,    304.3,2,   304.1,2,    6.73,2,   13.07,2,   -0.00,2,    0.93,2,   3.628,2,   1.811,2,   0.231,2,   0.8200,2,  2168.4,2,  2293.2,2,   7.8415,2,    15.00,-999.000,5, 1105.40,  -0.3571
77DN20050819,      AOS05,      49,          1,     283935,         15,2,20050917,       0140,    87.4405,    57.9072,       3800,  1352.2,  -0.4605,  34.9086,2,  34.9084,2,    301.6,2,   302.4,2,    7.97,2,   13.81,2,    0.00,2,    0.97,2,   2.296,2,   1.125,2,   0.127,2,   0.0000,2,  2162.4,2,  2293.1,2,   7.8500,2,    15.00,-999.000,5, 1352.20,  -0.5200
77DN20050819,      AOS05,      49,          1,     283934,         14,2,20050917,       0140,    87.4405,    57.9072,       3800,  1603.3,  -0.5716,  34.9179,2,  34.9182,2,    299.1,2,   299.9,2,    9.11,2,   14.38,2,   -0.00,2,    1.01,2,   1.276,2,   0.635,2,   0.057,2,   0.0000,2,  2163.4,2,  2294.7,2,   7.8571,2,    15.00,-999.000,5, 1603.30,  -0.6443
77DN20050819,      AOS05,      49,          1,     283933,         13,2,20050917,       0140,    87.4405,    57.9072,       3800,  1851.1,  -0.6415,  34.9234,2,  34.9228,2,    297.4,2,   298.5,2,    9.87,2,   14.62,2,   -0.00,2,    1.02,2,   0.797,2,   0.408,2,   0.023,2,-999.0000,5,  2159.8,2,  2295.8,2,   7.8610,2,    15.00,-999.000,5, 1851.10,  -0.7284
77DN20050819,      AOS05,      49,          1,     283932,         12,2,20050917,       0140,    87.4405,    57.9072,       3800,  2049.6,  -0.7052,  34.9228,2,  34.9224,2,    298.2,2,   300.1,2,    9.98,2,   14.71,2,   -0.00,2,    1.03,2,   0.556,2,   0.298,2,   0.010,2,   0.0000,2,  2162.5,2,  2293.0,2,   7.8605,2,    15.00,-999.000,5, 2049.60,  -0.8039
77DN20050819,      AOS05,      49,          1,     283931,         11,2,20050917,       0140,    87.4405,    57.9072,       3800,  2302.2,  -0.7448,  34.9258,2,  34.9249,2,    298.6,2,   299.8,2,   10.27,2,   14.81,2,   -0.00,2,    1.03,2,   0.347,2,   0.186,2,   0.000,2,-999.0000,9,  2160.7,2,  2295.3,2,   7.8649,2,    15.00,-999.000,5, 2302.20,  -0.8600
77DN20050819,      AOS05,      49,          1,     283930,         10,2,20050917,       0140,    87.4405,    57.9072,       3800,  2655.4,  -0.7613,  34.9302,2,  34.9301,2,    298.6,2,   300.0,2,   10.55,2,   14.86,2,    0.00,2,    1.03,2,   0.239,2,   0.160,2,   0.005,2,-999.0000,9,  2157.4,2,  2296.1,2,   7.8699,2,    15.00,-999.000,5, 2655.40,  -0.9019
77DN20050819,      AOS05,      49,          1,     283929,          9,2,20050917,       0140,    87.4405,    57.9072,       3800,  3006.4,  -0.7611,  34.9346,2,  34.9346,2,    298.0,2,   299.4,2,   10.66,2,   14.86,2,    0.00,2,    1.03,2,   0.135,2,   0.088,2,   0.000,2,   0.0000,2,  2158.9,2,  2293.3,2,   7.8733,2,    15.00,-999.000,5, 3006.40,  -0.9292
77DN20050819,      AOS05,      49,          1,     283928,          8,2,20050917,       0140,    87.4405,    57.9072,       3800,  3312.0,  -0.7433,  34.9384,2,  34.9385,2,    298.0,2,   298.8,2,   10.76,2,   14.86,2,    0.00,2,    1.03,2,   0.104,2,   0.071,2,   0.000,2,-999.0000,9,  2156.2,2,  2296.0,2,   7.8765,2,    15.00,-999.000,5, 3312.00,  -0.9372
77DN20050819,      AOS05,      49,          1,     283927,          7,2,20050917,       0140,    87.4405,    57.9072,       3800,  3668.8,  -0.7121,  34.9419,2,  34.9427,2,    297.7,2,   298.7,2,   10.86,2,   14.82,2,    0.00,2,    1.03,2,   0.100,2,   0.036,2,   0.000,2,-999.0000,9,  2157.7,2,  2294.8,2,   7.8738,2,    15.00,-999.000,5, 3668.80,  -0.9384
77DN20050819,      AOS05,      49,          1,     283926,          6,2,20050917,       0140,    87.4405,    57.9072,       3800,  4023.3,  -0.6781,  34.9429,2,  34.9428,2,    297.5,2,   298.7,2,   10.78,2,   14.77,2,    0.00,2,    1.03,2,   0.089,2,   0.064,2,   0.000,2,-999.0000,9,  2158.2,2,  2292.8,2,   7.8773,2,    15.00,-999.000,5, 4023.30,  -0.9386
77DN20050819,      AOS05,      49,          1,     283925,          5,2,20050917,       0140,    87.4405,    57.9072,       3800,  4038.9,  -0.6766,  34.9428,2,-999.0000,9,   -999.0,9,  -999.0,9, -999.00,9, -999.00,9, -999.00,9, -999.00,9,-999.000,9,-999.000,9,-999.000,9,-999.0000,9,  -999.0,9,  -999.0,9,-999.0000,9,  -999.00,-999.000,9, 4038.90,  -0.9387
77DN20050819,      AOS05,      49,          1,     283924,          4,2,20050917,       0140,    87.4405,    57.9072,       3800,  4054.6,  -0.6751,  34.9428,2,-999.0000,9,   -999.0,9,  -999.0,9, -999.00,9, -999.00,9, -999.00,9, -999.00,9,-999.000,9,-999.000,9,-999.000,9,-999.0000,9,  -999.0,9,  -999.0,9,-999.0000,9,  -999.00,-999.000,9, 4054.60,  -0.9388
77DN20050819,      AOS05,      49,          1,     283923,          3,2,20050917,       0140,    87.4405,    57.9072,       3800,  4070.2,  -0.6736,  34.9429,2,-999.0000,9,   -999.0,9,  -999.0,9, -999.00,9, -999.00,9, -999.00,9, -999.00,9,-999.000,9,-999.000,9,-999.000,9,-999.0000,9,  -999.0,9,  -999.0,9,-999.0000,9,  -999.00,-999.000,9, 4070.20,  -0.9388
77DN20050819,      AOS05,      49,          1,     283922,          2,2,20050917,       0140,    87.4405,    57.9072,       3800,  4085.9,  -0.6718,  34.9429,2,-999.0000,9,   -999.0,9,  -999.0,9, -999.00,9, -999.00,9, -999.00,9, -999.00,9,-999.000,9,-999.000,9,-999.000,9,-999.0000,9,  -999.0,9,  -999.0,9,-999.0000,9,  -999.00,-999.000,9, 4085.90,  -0.9386
77DN20050819,      AOS05,      49,          1,     283921,          1,2,20050917,       0140,    87.4405,    57.9072,       3800,  4098.6,  -0.6707,  34.9428,2,  34.9428,2,    297.6,2,   298.7,2,   10.87,2,   14.78,2,    0.00,2,    1.03,2,   0.094,2,   0.081,2,   0.000,2,-999.0000,9,  2160.5,2,  2293.9,2,   7.8780,2,    15.00,-999.000,5, 4098.60,  -0.9387
77DN20050819,      AOS05,      50,          2,     116948,          8,2,20050918,       1118,    86.7480,    56.2080,       3285,     2.1,  -1.8139,  33.1908,2,-999.0000,9,   -999.0,9,  -999.0,9,    1.76,2,    2.97,2,    0.03,2,    0.41,2,-999.000,9,-999.000,9,-999.000,9,-999.0000,9,  -999.0,9,  -999.0,9,-999.0000,9,  -999.00,-999.000,9,    2.10,  -1.8139
77DN20050819,      AOS05,      50,          2,     116947,          7,2,20050918,       1118,    86.7480,    56.2080,       3285,    10.0,  -1.8143,  33.1914,2,-999.0000,9,   -999.0,9,  -999.0,9,    1.88,2,    2.97,2,    0.03,2,    0.40,2,-999.000,9,-999.000,9,-999.000,9,-999.0000,9,  -999.0,9,  -999.0,9,-999.0000,9,  -999.00,-999.000,9,   10.00,  -1.8144
77DN20050819,      AOS05,      50,          2,     116946,          6,2,20050918,       1118,    86.7480,    56.2080,       3285,    19.5,  -1.8139,  33.1911,2,-999.0000,9,   -999.0,9,  -999.0,9,    2.00,2,    3.00,2,    0.04,2,    0.39,2,-999.000,9,-999.000,9,-999.000,9,-999.0000,9,  -999.0,9,  -999.0,9,-999.0000,9,  -999.00,-999.000,9,   19.50,  -1.8142
77DN20050819,      AOS05,      50,          2,     116945,          5,2,20050918,       1118,    86.7480,    56.2080,       3285,    29.7,  -1.8136,  33.1914,2,-999.0000,9,   -999.0,9,  -999.0,9,    1.83,2,    3.00,2,    0.04,2,    0.38,2,-999.000,9,-999.000,9,-999.000,9,-999.0000,9,  -999.0,9,  -999.0,9,-999.0000,9,  -999.00,-999.000,9,   29.70,  -1.8141
77DN20050819,      AOS05,      50,          2,     116944,          4,2,20050918,       1118,    86.7480,    56.2080,       3285,    39.7,  -1.8129,  33.1935,2,-999.0000,9,   -999.0,9,  -999.0,9,    1.66,2,    2.99,2,    0.04,2,    0.38,2,-999.000,9,-999.000,9,-999.000,9,-999.0000,9,  -999.0,9,  -999.0,9,-999.0000,9,  -999.00,-999.000,9,   39.70,  -1.8136
77DN20050819,      AOS05,      50,          2,     116943,          3,2,20050918,       1118,    86.7480,    56.2080,       3285,    49.8,  -1.8026,  33.6285,2,-999.0000,9,   -999.0,9,  -999.0,9,    2.06,2,    3.66,2,    0.01,2,    0.42,2,-999.000,9,-999.000,9,-999.000,9,-999.0000,9,  -999.0,9,  -999.0,9,-999.0000,9,  -999.00,-999.000,9,   49.80,  -1.8035
77DN20050819,      AOS05,      50,          2,     116942,          2,2,20050918,       1118,    86.7480,    56.2080,       3285,    59.9,  -1.8298,  33.7105,2,-999.0000,9,   -999.0,9,  -999.0,9,    2.18,2,    3.84,2,    0.00,2,    0.43,2,-999.000,9,-999.000,9,-999.000,9,-999.0000,9,  -999.0,9,  -999.0,9,-999.0000,9,  -999.00,-999.000,9,   59.90,  -1.8308
77DN20050819,      AOS05,      50,          2,     116941,          1,2,20050918,       1118,    86.7480,    56.2080,       3285,    70.2,  -1.8220,  33.7351,2,-999.0000,9,   -999.0,9,  -999.0,9,    2.29,2,    3.89,2,    0.00,2,    0.43,2,-999.000,9,-999.000,9,-999.000,9,-999.0000,9,  -999.0,9,  -999.0,9,-999.0000,9,  -999.00,-999.000,9,   70.20,  -1.8232