BOTTLE,20211025CCHSIORKP
EXPOCODE,SECT_ID,STNNBR,CASTNO,SAMPNO,BTLNBR,BTLNBR_FLAG_W,DATE,TIME,LATITUDE,LONGITUDE,DEPTH,CTDPRS,CTDTMP,CTDSAL,CTDSAL_FLAG_W,SALNTY,SALNTY_FLAG_W,CTDOXY,CTDOXY_FLAG_W,OXYGEN,OXYGEN_FLAG_W,SILCAT,SILCAT_FLAG_W,NITRAT,NITRAT_FLAG_W,NITRIT,NITRIT_FLAG_W,PHSPHT,PHSPHT_FLAG_W,CFC-11,CFC-11_FLAG_W,CFC-12,CFC-12_FLAG_W,CFC113,CFC113_FLAG_W,SF6,SF6_FLAG_W,TCARBN,TCARBN_FLAG_W,ALKALI,ALKALI_FLAG_W,PH_SWS,PH_SWS_FLAG_W,PH_TMP,CCL4,CCL4_FLAG_W,CTDRAW,THETA
,,,,,,,,,,,METERS,DBAR,ITS-90,PSS-78,,PSS-78,,UMOL/KG,,UMOL/KG,,UMOL/KG,,UMOL/KG,,UMOL/KG,,UMOL/KG,,PMOL/KG,,PMOL/KG,,PMOL/KG,,FMOL/KG,,UMOL/KG,,UMOL/KG,,,,DEG C,PMOL/KG,,DBAR,DEG C
77DN20050819,      AOS05,      12,          1,     282853,         32,2,20050826,       0152,    78.4663,  -149.1508,       3731,   250.4,   0.0783,  34.5668,2,  34.5868,2,    290.2,2,   289.7,2,    7.69,2,   11.46,2,    0.00,2,    0.85,2,   5.424,2,   2.655,2,   0.385,2,   0.8500,2,  2171.7,2,  2281.7,6,   7.8136,2,    15.00,   4.961,2,  250.40,   0.0688
77DN20050819,      AOS05,      12,          1,     282856,         35,2,20050826,       0152,    78.4663,  -149.1508,       3731,   250.4,   0.0766,  34.5663,2,-999.0000,9,   -999.0,9,  -999.0,9, -999.00,9, -999.00,9, -999.00,9, -999.00,9,-999.000,9,-999.000,9,-999.000,9,-999.0000,9,  -999.0,9,  -999.0,9,-999.0000,9,  -999.00,-999.000,9,  250.40,   0.0671
77DN20050819,      AOS05,      12,          1,     282855,         34,2,20050826,       0152,    78.4663,  -149.1508,       3731,   250.4,   0.0769,  34.5665,2,-999.0000,9,   -999.0,9,  -999.0,9, -999.00,9, -999.00,9, -999.00,9, -999.00,9,-999.000,9,-999.000,9,-999.000,9,-999.0000,9,  -999.0,9,  -999.0,9,-999.0000,9,  -999.00,-999.000,9,  250.40,   0.0674
77DN20050819,      AOS05,      12,          1,     282854,         33,2,20050826,       0152,    78.4663,  -149.1508,       3731,   250.4,   0.0794,  34.5663,2,-999.0000,9,   -999.0,9,  -999.0,9, -999.00,9, -999.00,9, -999.00,9, -999.00,9,-999.000,9,-999.000,9,-999.000,9,-999.0000,9,  -999.0,9,  -999.0,9,-999.0000,9,  -999.00,-999.000,9,  250.40,   0.0699
77DN20050819,      AOS05,      12,          1,     282852,         31,2,20050826,       0152,    78.4663,  -149.1508,       3731,   300.2,   0.7066,  34.7568,2,  34.7540,2,    290.7,2,   292.6,2,    6.73,2,   12.15,2,    0.00,2,    0.85,2,   5.184,2,   2.441,2,   0.330,2,   0.8300,2,  2163.7,2,  2289.7,2,   7.8458,2,    15.00,   5.281,2,  300.20,   0.6934
77DN20050819,      AOS05,      12,          1,     282851,         30,2,20050826,       0152,    78.4663,  -149.1508,       3731,   350.1,   0.9101,  34.8205,2,  34.8154,2,    293.7,2,   295.9,2,    6.25,2,   12.24,2,    0.00,2,    0.86,2,   4.976,2,   2.385,2,   0.322,2,   0.7800,2,  2162.3,2,  2290.1,2,   7.8537,2,    15.00,   4.494,3,  350.10,   0.8939
77DN20050819,      AOS05,      12,          1,     282847,         26,2,20050826,       0152,    78.4663,  -149.1508,       3731,   400.0,   0.9377,  34.8402,2,  34.8330,2,    295.4,2,   297.2,2,    6.04,2,   12.32,2,    0.00,2,    0.87,2,   4.772,2,   2.384,2,   0.295,2,-999.0000,9,  2162.3,2,  2292.5,2,   7.8584,2,    15.00,   5.484,2,  400.00,   0.9189
77DN20050819,      AOS05,      12,          1,     282850,         29,2,20050826,       0152,    78.4663,  -149.1508,       3731,   400.0,   0.9385,  34.8403,2,-999.0000,9,   -999.0,9,  -999.0,9, -999.00,9, -999.00,9, -999.00,9, -999.00,9,-999.000,9,-999.000,9,-999.000,9,-999.0000,9,  -999.0,9,  -999.0,9,-999.0000,9,  -999.00,-999.000,9,  400.00,   0.9197
77DN20050819,      AOS05,      12,          1,     282849,         28,2,20050826,       0152,    78.4663,  -149.1508,       3731,   400.0,   0.9383,  34.8402,2,-999.0000,9,   -999.0,9,  -999.0,9, -999.00,9, -999.00,9, -999.00,9, -999.00,9,-999.000,9,-999.000,9,-999.000,9,-999.0000,9,  -999.0,9,  -999.0,9,-999.0000,9,  -999.00,-999.000,9,  400.00,   0.9195
77DN20050819,      AOS05,      12,          1,     282848,         27,2,20050826,       0152,    78.4663,  -149.1508,       3731,   400.0,   0.9378,  34.8401,2,-999.0000,9,   -999.0,9,  -999.0,9, -999.00,9, -999.00,9, -999.00,9, -999.00,9,-999.000,9,-999.000,9,-999.000,9,-999.0000,9,  -999.0,9,  -999.0,9,-999.0000,9,  -999.00,-999.000,9,  400.00,   0.9191
77DN20050819,      AOS05,      12,          1,     282846,         25,2,20050826,       0152,    78.4663,  -149.1508,       3731,   489.6,   0.7467,  34.8512,2,  34.8501,2,    296.8,2,   298.1,2,    6.12,2,   12.40,2,    0.00,2,    0.87,2,   4.508,2,   2.224,2,   0.287,2,-999.0000,5,  2162.5,2,  2293.7,2,-999.0000,5,  -999.00,   5.558,2,  489.60,   0.7241
77DN20050819,      AOS05,      12,          1,     282845,         24,2,20050826,       0152,    78.4663,  -149.1508,       3731,   593.3,   0.5251,  34.8565,2,  34.8557,2,    297.0,2,   303.9,4,    6.29,2,   12.49,2,    0.00,2,    0.87,2,   3.953,2,-999.000,5,   0.100,4,   0.3200,2,  2158.6,2,  2292.3,2,   7.8552,2,    15.00,   3.846,4,  593.30,   0.4983
77DN20050819,      AOS05,      12,          1,     282844,         23,2,20050826,       0152,    78.4663,  -149.1508,       3731,   742.6,   0.2880,  34.8646,2,  34.8646,2,    299.5,2,   301.2,2,    6.27,2,   12.49,2,    0.00,2,    0.88,2,   3.959,2,   1.924,2,   0.209,2,-999.0000,5,  2165.1,2,  2295.0,2,   7.8563,2,    15.00,   4.451,2,  742.60,   0.2549
77DN20050819,      AOS05,      12,          1,     282840,         19,3,20050826,       0152,    78.4663,  -149.1508,       3731,   891.9,   0.0812,  34.8741,2,-999.0000,9,   -999.0,9,  -999.0,9, -999.00,9, -999.00,9, -999.00,9, -999.00,9,-999.000,9,-999.000,9,-999.000,9,-999.0000,9,  -999.0,9,  -999.0,9,-999.0000,9,  -999.00,-999.000,9,  891.90,   0.0417
77DN20050819,      AOS05,      12,          1,     282841,         20,2,20050826,       0152,    78.4663,  -149.1508,       3731,   891.9,   0.0811,  34.8741,2,  34.8730,2,    300.5,2,   300.7,2,    6.44,2,   12.67,2,    0.00,2,    0.89,2,   2.352,3,-999.000,5,   0.077,2,   0.3000,2,  2167.4,2,  2293.1,2,   7.8608,2,    15.00,   3.489,2,  891.90,   0.0416
77DN20050819,      AOS05,      12,          1,     282842,         21,2,20050826,       0152,    78.4663,  -149.1508,       3731,   891.9,   0.0812,  34.8741,2,-999.0000,9,   -999.0,9,  -999.0,9, -999.00,9, -999.00,9, -999.00,9, -999.00,9,-999.000,9,-999.000,9,-999.000,9,-999.0000,9,  -999.0,9,  -999.0,9,-999.0000,9,  -999.00,-999.000,9,  891.90,   0.0417
77DN20050819,      AOS05,      12,          1,     282843,         22,2,20050826,       0152,    78.4663,  -149.1508,       3731,   892.0,   0.0813,  34.8741,2,-999.0000,9,   -999.0,9,  -999.0,9, -999.00,9, -999.00,9, -999.00,9, -999.00,9,-999.000,9,-999.000,9,-999.000,9,-999.0000,9,  -999.0,9,  -999.0,9,-999.0000,9,  -999.00,-999.000,9,  892.00,   0.0418
77DN20050819,      AOS05,      12,          1,     282839,         18,2,20050826,       0152,    78.4663,  -149.1508,       3731,  1041.5,  -0.0487,  34.8843,2,  34.8841,2,    300.2,2,   301.2,2,    6.70,2,   12.75,2,    0.00,2,    0.90,2,   2.387,2,   0.381,3,   0.076,2,-999.0000,9,  2165.7,2,  2295.2,2,   7.8610,2,    15.00,   3.292,2, 1041.50,  -0.0951
77DN20050819,      AOS05,      12,          1,     282838,         17,2,20050826,       0152,    78.4663,  -149.1508,       3731,  1195.3,  -0.1512,  34.8953,2,  34.8947,2,    299.4,2,   300.9,2,    7.15,2,   12.93,2,    0.00,2,    0.92,2,   1.828,2,   0.794,2,   0.061,2,   0.0000,2,  2163.7,2,  2295.7,2,   7.8646,2,    15.00,   2.793,2, 1195.30,  -0.2051
77DN20050819,      AOS05,      12,          1,     282837,         16,2,20050826,       0152,    78.4663,  -149.1508,       3731,  1395.2,  -0.2551,  34.9082,2,  34.9098,2,    298.9,2,   299.8,2,    7.70,2,   13.20,2,    0.00,2,    0.94,2,   1.176,2,   0.527,2,   0.048,4,-999.0000,9,  2161.6,2,  2297.5,2,   7.8670,2,    15.00,   2.023,2, 1395.20,  -0.3193
77DN20050819,      AOS05,      12,          1,     282836,         15,2,20050826,       0152,    78.4663,  -149.1508,       3731,  1648.7,  -0.3541,  34.9253,2,  34.9243,2,    296.8,2,   297.8,2,    8.81,2,   13.66,2,    0.00,2,    0.97,2,   0.516,2,   0.270,2,   0.000,2,   0.0000,2,  2160.5,2,  2295.7,2,   7.8689,2,    15.00,   1.208,2, 1648.70,  -0.4324
77DN20050819,      AOS05,      12,          1,     282835,         14,2,20050826,       0152,    78.4663,  -149.1508,       3731,  1946.7,  -0.4064,  34.9409,2,  34.9400,2,    292.2,2,   293.2,2,   10.39,2,   14.17,2,    0.00,2,    1.01,2,   0.208,2,   0.176,2,   0.000,2,-999.0000,9,  2161.4,2,  2298.1,2,   7.8751,2,    15.00,   0.640,2, 1946.70,  -0.5032
77DN20050819,      AOS05,      12,          1,     282834,         13,2,20050826,       0152,    78.4663,  -149.1508,       3731,  2249.5,  -0.4022,  34.9501,2,  34.9484,2,    288.2,2,   289.2,2,   11.50,2,   14.40,2,    0.00,2,    1.03,2,   0.074,2,   0.150,2,   0.000,2,-999.0000,9,  2161.1,2,  2300.7,2,   7.8770,2,    15.00,   0.212,2, 2249.50,  -0.5198
77DN20050819,      AOS05,      12,          1,     282832,         11,2,20050826,       0152,    78.4663,  -149.1508,       3731,  2548.4,  -0.3817,  34.9551,2,-999.0000,9,   -999.0,9,  -999.0,9, -999.00,9, -999.00,9, -999.00,9, -999.00,9,-999.000,9,-999.000,9,-999.000,9,-999.0000,9,  -999.0,9,  -999.0,9,-999.0000,9,  -999.00,-999.000,9, 2548.40,  -0.5219
77DN20050819,      AOS05,      12,          1,     282831,         10,2,20050826,       0152,    78.4663,  -149.1508,       3731,  2548.4,  -0.3818,  34.9551,2,-999.0000,9,   -999.0,9,  -999.0,9, -999.00,9, -999.00,9, -999.00,9, -999.00,9,-999.000,9,-999.000,9,-999.000,9,-999.0000,9,  -999.0,9,  -999.0,9,-999.0000,9,  -999.00,-999.000,9, 2548.40,  -0.5219
77DN20050819,      AOS05,      12,          1,     282830,          9,2,20050826,       0152,    78.4663,  -149.1508,       3731,  2548.4,  -0.3817,  34.9551,2,  34.9560,2,    286.0,2,   287.2,2,   12.15,2,   14.57,2,    0.00,2,    1.04,2,   0.122,2,   0.155,2,   0.000,2,-999.0000,9,  2162.3,2,  2300.3,2,   7.8765,2,    15.00,   0.121,2, 2548.40,  -0.5219
77DN20050819,      AOS05,      12,          1,     282833,         12,2,20050826,       0152,    78.4663,  -149.1508,       3731,  2548.5,  -0.3816,  34.9552,2,-999.0000,9,   -999.0,9,  -999.0,9, -999.00,9, -999.00,9, -999.00,9, -999.00,9,-999.000,9,-999.000,9,-999.000,9,-999.0000,9,  -999.0,9,  -999.0,9,-999.0000,9,  -999.00,-999.000,9, 2548.50,  -0.5218
77DN20050819,      AOS05,      12,          1,     282829,          8,2,20050826,       0152,    78.4663,  -149.1508,       3731,  2853.9,  -0.3475,  34.9578,2,  34.9570,2,    283.3,2,   284.6,2,   12.98,2,   14.66,2,    0.00,2,    1.04,2,   0.038,2,   0.092,2,   0.000,2,-999.0000,9,  2167.1,2,  2303.7,2,   7.8690,2,    15.00,   0.141,2, 2853.90,  -0.5124
77DN20050819,      AOS05,      12,          1,     282828,          7,2,20050826,       0152,    78.4663,  -149.1508,       3731,  3210.4,  -0.3167,  34.9578,2,  34.9551,2,    283.6,2,   284.8,2,   12.87,2,   14.65,2,    0.00,2,    1.04,2,   0.036,2,   0.059,2,   0.000,2,-999.0000,9,  2164.4,2,  2301.3,2,   7.8727,2,    15.00,   0.019,2, 3210.40,  -0.5124
77DN20050819,      AOS05,      12,          1,     282825,          4,2,20050826,       0152,    78.4663,  -149.1508,       3731,  3630.0,  -0.2777,  34.9577,2,  34.9583,2,    284.0,2,   285.8,3,   12.95,2,   14.69,2,    0.00,2,    1.04,2,   0.048,2,   0.154,2,   0.000,2,-999.0000,9,  2165.8,2,  2300.4,2,   7.8731,2,    15.00,   0.000,2, 3630.00,  -0.5122
77DN20050819,      AOS05,      12,          1,     282826,          5,2,20050826,       0152,    78.4663,  -149.1508,       3731,  3630.1,  -0.2776,  34.9577,2,-999.0000,9,   -999.0,9,  -999.0,9, -999.00,9, -999.00,9, -999.00,9, -999.00,9,-999.000,9,-999.000,9,-999.000,9,-999.0000,9,  -999.0,9,  -999.0,9,-999.0000,9,  -999.00,-999.000,9, 3630.10,  -0.5120
77DN20050819,      AOS05,      12,          1,     282827,          6,2,20050826,       0152,    78.4663,  -149.1508,       3731,  3630.1,  -0.2776,  34.9577,2,-999.0000,9,   -999.0,9,  -999.0,9, -999.00,9, -999.00,9, -999.00,9, -999.00,9,-999.000,9,-999.000,9,-999.000,9,-999.0000,9,  -999.0,9,  -999.0,9,-999.0000,9,  -999.00,-999.000,9, 3630.10,  -0.5121
77DN20050819,      AOS05,      12,          1,     282824,          3,2,20050826,       0152,    78.4663,  -149.1508,       3731,  3836.4,  -0.2574,  34.9576,2,  34.9564,2,    283.8,2,   284.8,2,   12.93,2,   14.68,2,    0.00,2,    1.04,2,   0.054,2,-999.000,5,   0.000,2,-999.0000,9,  2166.9,2,  2302.0,2,   7.8728,2,    15.00,   0.147,2, 3836.40,  -0.5120
77DN20050819,      AOS05,      12,          1,     282823,          2,2,20050826,       0152,    78.4663,  -149.1508,       3731,  3887.1,  -0.2521,  34.9577,2,-999.0000,9,   -999.0,9,  -999.0,9, -999.00,9, -999.00,9, -999.00,9, -999.00,9,-999.000,9,-999.000,9,-999.000,9,-999.0000,9,  -999.0,9,  -999.0,9,-999.0000,9,  -999.00,-999.000,9, 3887.10,  -0.5118
77DN20050819,      AOS05,      12,          1,     282822,          1,2,20050826,       0152,    78.4663,  -149.1508,       3731,  3887.1,  -0.2522,  34.9575,2,  34.9585,2,    283.6,2,   284.6,2,   12.82,2,   14.67,2,    0.00,2,    1.03,2,   0.051,2,   0.090,2,   0.000,2,-999.0000,9,  2165.6,2,  2300.1,2,   7.8767,2,    15.00,   0.032,2, 3887.10,  -0.5119