BOTTLE,20211025CCHSIORKP
EXPOCODE,SECT_ID,STNNBR,CASTNO,SAMPNO,BTLNBR,BTLNBR_FLAG_W,DATE,TIME,LATITUDE,LONGITUDE,DEPTH,CTDPRS,CTDTMP,CTDSAL,CTDSAL_FLAG_W,SALNTY,SALNTY_FLAG_W,CTDOXY,CTDOXY_FLAG_W,OXYGEN,OXYGEN_FLAG_W,SILCAT,SILCAT_FLAG_W,NITRAT,NITRAT_FLAG_W,NITRIT,NITRIT_FLAG_W,PHSPHT,PHSPHT_FLAG_W,CFC-11,CFC-11_FLAG_W,CFC-12,CFC-12_FLAG_W,CFC113,CFC113_FLAG_W,SF6,SF6_FLAG_W,TCARBN,TCARBN_FLAG_W,ALKALI,ALKALI_FLAG_W,PH_SWS,PH_SWS_FLAG_W,PH_TMP,CCL4,CCL4_FLAG_W,CTDRAW,THETA
,,,,,,,,,,,METERS,DBAR,ITS-90,PSS-78,,PSS-78,,UMOL/KG,,UMOL/KG,,UMOL/KG,,UMOL/KG,,UMOL/KG,,UMOL/KG,,PMOL/KG,,PMOL/KG,,PMOL/KG,,FMOL/KG,,UMOL/KG,,UMOL/KG,,,,DEG C,PMOL/KG,,DBAR,DEG C
77DN20050819,      AOS05,      30,          1,     283368,         36,2,20050906,       2009,    87.6273,   156.7155,       3960,   229.3,   0.8613,  34.7973,2,  34.7968,2,    294.4,2,   296.5,2,    5.95,2,   12.28,2,    0.00,2,    0.85,2,   4.542,2,   2.224,2,   0.331,2,-999.0000,9,  2155.6,2,  2298.4,2,   7.8651,2,    15.00,-999.000,5,  229.30,   0.8510
77DN20050819,      AOS05,      30,          1,     283364,         32,2,20050906,       2009,    87.6273,   156.7155,       3960,   274.4,   0.9656,  34.8465,2,  34.8465,2,    297.1,2,   297.4,2,    5.84,2,   12.62,2,    0.00,2,    0.85,2,   4.158,2,   2.134,2,   0.277,2,-999.0000,9,  2154.7,2,  2298.0,2,   7.8711,2,    15.00,-999.000,5,  274.40,   0.9530
77DN20050819,      AOS05,      30,          1,     283365,         33,2,20050906,       2009,    87.6273,   156.7155,       3960,   274.5,   0.9661,  34.8466,2,-999.0000,9,   -999.0,9,  -999.0,9, -999.00,9, -999.00,9, -999.00,9, -999.00,9,-999.000,9,-999.000,9,-999.000,9,-999.0000,9,  -999.0,9,  -999.0,9,-999.0000,9,  -999.00,-999.000,9,  274.50,   0.9535
77DN20050819,      AOS05,      30,          1,     283366,         34,2,20050906,       2009,    87.6273,   156.7155,       3960,   274.5,   0.9669,  34.8466,2,-999.0000,9,   -999.0,9,  -999.0,9, -999.00,9, -999.00,9, -999.00,9, -999.00,9,-999.000,9,-999.000,9,-999.000,9,-999.0000,9,  -999.0,9,  -999.0,9,-999.0000,9,  -999.00,-999.000,9,  274.50,   0.9543
77DN20050819,      AOS05,      30,          1,     283367,         35,2,20050906,       2009,    87.6273,   156.7155,       3960,   274.6,   0.9670,  34.8467,2,-999.0000,9,   -999.0,9,  -999.0,9, -999.00,9, -999.00,9, -999.00,9, -999.00,9,-999.000,9,-999.000,9,-999.000,9,-999.0000,9,  -999.0,9,  -999.0,9,-999.0000,9,  -999.00,-999.000,9,  274.60,   0.9543
77DN20050819,      AOS05,      30,          1,     283363,         31,2,20050906,       2009,    87.6273,   156.7155,       3960,   348.9,   0.9061,  34.8674,2,  34.8684,2,    300.0,2,   300.3,2,    5.73,2,   12.66,2,    0.00,2,    0.86,2,   4.227,2,   2.161,2,   0.299,2,-999.0000,9,  2157.5,2,  2299.0,2,   7.8691,2,    15.00,-999.000,5,  348.90,   0.8899
77DN20050819,      AOS05,      30,          1,     283362,         30,2,20050906,       2009,    87.6273,   156.7155,       3960,   423.4,   0.6363,  34.8603,2,  34.8609,2,    298.0,2,   297.9,2,    6.16,2,   12.76,2,    0.00,2,    0.87,2,-999.000,9,-999.000,9,-999.000,9,-999.0000,9,  2156.6,2,  2302.7,2,   7.8670,2,    15.00,-999.000,9,  423.40,   0.6174
77DN20050819,      AOS05,      30,          1,     283361,         29,2,20050906,       2009,    87.6273,   156.7155,       3960,   498.0,   0.5214,  34.8702,2,  34.8700,2,    298.4,2,   298.6,2,    6.22,2,   12.76,2,    0.00,2,    0.88,2,   3.308,2,   1.719,2,   0.204,2,-999.0000,9,  2161.6,2,  2302.2,2,   7.8673,2,    15.00,-999.000,5,  498.00,   0.4992
77DN20050819,      AOS05,      30,          1,     283360,         28,2,20050906,       2009,    87.6273,   156.7155,       3960,   600.9,   0.3265,  34.8722,2,  34.8728,2,    299.8,2,   300.4,2,    6.11,2,   12.77,2,    0.00,2,    0.88,2,-999.000,9,-999.000,9,-999.000,9,-999.0000,9,  2158.3,2,  2300.4,2,   7.8672,2,    15.00,-999.000,9,  600.90,   0.3002
77DN20050819,      AOS05,      30,          1,     283354,         22,2,20050906,       2009,    87.6273,   156.7155,       3960,   803.3,   0.0122,  34.8814,2,  34.8798,2,    300.6,2,   301.7,2,    6.35,2,   12.86,2,    0.00,2,    0.89,2,   2.544,2,   1.316,2,   0.125,2,-999.0000,9,  2159.8,2,  2304.8,2,   7.8638,2,    15.00,-999.000,5,  803.30,  -0.0223
77DN20050819,      AOS05,      30,          1,     283355,         23,2,20050906,       2009,    87.6273,   156.7155,       3960,   803.8,   0.0121,  34.8814,2,-999.0000,9,   -999.0,9,  -999.0,9, -999.00,9, -999.00,9, -999.00,9, -999.00,9,-999.000,9,-999.000,9,-999.000,9,-999.0000,9,  -999.0,9,  -999.0,9,-999.0000,9,  -999.00,-999.000,9,  803.80,  -0.0224
77DN20050819,      AOS05,      30,          1,     283356,         24,2,20050906,       2009,    87.6273,   156.7155,       3960,   804.1,   0.0125,  34.8814,2,-999.0000,9,   -999.0,9,  -999.0,9, -999.00,9, -999.00,9, -999.00,9, -999.00,9,-999.000,9,-999.000,9,-999.000,9,-999.0000,9,  -999.0,9,  -999.0,9,-999.0000,9,  -999.00,-999.000,9,  804.10,  -0.0221
77DN20050819,      AOS05,      30,          1,     283357,         25,2,20050906,       2009,    87.6273,   156.7155,       3960,   804.2,   0.0124,  34.8814,2,-999.0000,9,   -999.0,9,  -999.0,9, -999.00,9, -999.00,9, -999.00,9, -999.00,9,-999.000,9,-999.000,9,-999.000,9,-999.0000,9,  -999.0,9,  -999.0,9,-999.0000,9,  -999.00,-999.000,9,  804.20,  -0.0221
77DN20050819,      AOS05,      30,          1,     283358,         26,2,20050906,       2009,    87.6273,   156.7155,       3960,   804.4,   0.0123,  34.8814,2,-999.0000,9,   -999.0,9,  -999.0,9, -999.00,9, -999.00,9, -999.00,9, -999.00,9,-999.000,9,-999.000,9,-999.000,9,-999.0000,9,  -999.0,9,  -999.0,9,-999.0000,9,  -999.00,-999.000,9,  804.40,  -0.0222
77DN20050819,      AOS05,      30,          1,     283359,         27,2,20050906,       2009,    87.6273,   156.7155,       3960,   804.5,   0.0136,  34.8814,2,-999.0000,9,   -999.0,9,  -999.0,9, -999.00,9, -999.00,9, -999.00,9, -999.00,9,-999.000,9,-999.000,9,-999.000,9,-999.0000,9,  -999.0,9,  -999.0,9,-999.0000,9,  -999.00,-999.000,9,  804.50,  -0.0210
77DN20050819,      AOS05,      30,          1,     283353,         21,2,20050906,       2009,    87.6273,   156.7155,       3960,  1001.9,  -0.1554,  34.8962,2,  34.8960,2,    300.1,2,   301.6,2,    6.87,2,   13.05,2,    0.00,2,    0.91,2,   1.615,2,   0.900,2,   0.070,2,-999.0000,9,  2158.8,2,  2310.0,2,   7.8689,2,    15.00,-999.000,5, 1001.90,  -0.1988
77DN20050819,      AOS05,      30,          1,     283352,         20,2,20050906,       2009,    87.6273,   156.7155,       3960,  1204.2,  -0.2706,  34.9118,2,  34.9114,2,    299.4,2,   300.1,2,    7.65,2,   13.38,2,    0.00,2,    0.94,2,-999.000,9,-999.000,9,-999.000,9,-999.0000,9,  2158.1,2,  2305.8,2,   7.8759,2,    15.00,-999.000,9, 1204.20,  -0.3239
77DN20050819,      AOS05,      30,          1,     283351,         19,2,20050906,       2009,    87.6273,   156.7155,       3960,  1423.1,  -0.3502,  34.9262,2,  34.9262,2,    297.4,2,   297.7,2,    8.71,2,   13.75,2,    0.00,2,    0.97,2,   0.381,2,   0.221,2,   0.000,2,-999.0000,9,  2152.9,2,  2306.3,2,   7.8829,2,    15.00,-999.000,5, 1423.10,  -0.4150
77DN20050819,      AOS05,      30,          1,     283350,         18,2,20050906,       2009,    87.6273,   156.7155,       3960,  1675.5,  -0.3921,  34.9412,2,  34.9402,2,    293.7,2,   293.2,2,   10.30,2,   14.27,2,    0.00,2,    1.00,2,-999.000,9,-999.000,9,-999.000,9,-999.0000,9,  2155.6,2,  2306.5,2,   7.8855,2,    15.00,-999.000,9, 1675.50,  -0.4716
77DN20050819,      AOS05,      30,          1,     283349,         17,2,20050906,       2009,    87.6273,   156.7155,       3960,  1924.5,  -0.4074,  34.9489,2,  34.9489,2,    289.8,2,   290.3,2,   11.27,2,   14.54,2,    0.00,2,    1.02,2,   0.062,2,   0.050,2,   0.000,2,-999.0000,9,  2158.8,2,  2306.4,2,   7.8841,2,    15.00,-999.000,5, 1924.50,  -0.5027
77DN20050819,      AOS05,      30,          1,     283348,         16,2,20050906,       2009,    87.6273,   156.7155,       3960,  2178.4,  -0.4029,  34.9530,2,  34.9526,2,    287.2,2,   287.9,2,   11.96,2,   14.64,2,    0.00,2,    1.03,2,-999.000,9,-999.000,9,-999.000,9,-999.0000,9,  2159.4,2,  2305.0,2,   7.8796,2,    15.00,-999.000,9, 2178.40,  -0.5156
77DN20050819,      AOS05,      30,          1,     283346,         14,2,20050906,       2009,    87.6273,   156.7155,       3960,  2428.2,  -0.3903,  34.9550,2,  34.9548,2,    285.8,2,   285.6,3,   12.13,2,   14.65,2,    0.00,2,    1.04,2,-999.000,5,-999.000,5,-999.000,5,-999.0000,9,  2157.6,2,  2307.0,2,   7.8755,2,    15.00,-999.000,5, 2428.20,  -0.5212
77DN20050819,      AOS05,      30,          1,     283347,         15,2,20050906,       2009,    87.6273,   156.7155,       3960,  2428.5,  -0.3902,  34.9550,2,-999.0000,9,   -999.0,9,  -999.0,9, -999.00,9, -999.00,9, -999.00,9, -999.00,9,-999.000,9,-999.000,9,-999.000,9,-999.0000,9,  -999.0,9,  -999.0,9,-999.0000,9,  -999.00,-999.000,9, 2428.50,  -0.5212
77DN20050819,      AOS05,      30,          1,     283345,         13,2,20050906,       2009,    87.6273,   156.7155,       3960,  2682.4,  -0.3755,  34.9558,2,  34.9548,2,    286.2,2,   287.5,2,   12.28,2,   14.74,2,    0.00,2,    1.04,2,   1.507,3,   0.880,3,   0.155,3,-999.0000,9,  2161.5,2,  2307.1,2,   7.8789,2,    15.00,-999.000,5, 2682.40,  -0.5261
77DN20050819,      AOS05,      30,          1,     283344,         12,2,20050906,       2009,    87.6273,   156.7155,       3960,  2933.5,  -0.3609,  34.9560,2,  34.9554,2,    286.8,2,   288.4,2,   12.08,2,   14.70,2,    0.00,2,    1.03,2,-999.000,9,-999.000,9,-999.000,9,-999.0000,9,  2157.8,2,  2306.0,2,   7.8788,2,    15.00,-999.000,9, 2933.50,  -0.5321
77DN20050819,      AOS05,      30,          1,     283343,         11,2,20050906,       2009,    87.6273,   156.7155,       3960,  3188.7,  -0.3445,  34.9558,2,  34.9554,2,    287.9,2,   289.3,2,   11.79,2,   14.70,2,    0.00,2,    1.03,2,-999.000,5,-999.000,5,-999.000,5,-999.0000,9,  2154.5,2,  2305.1,2,   7.8848,2,    15.00,-999.000,5, 3188.70,  -0.5376
77DN20050819,      AOS05,      30,          1,     283342,         10,2,20050906,       2009,    87.6273,   156.7155,       3960,  3440.4,  -0.3229,  34.9558,2,  34.9552,2,    288.5,2,   289.4,2,   11.76,2,   14.67,2,    0.00,2,    1.03,2,-999.000,9,-999.000,9,-999.000,9,-999.0000,9,  2156.1,2,  2305.4,2,   7.8799,2,    15.00,-999.000,9, 3440.40,  -0.5387
77DN20050819,      AOS05,      30,          1,     283335,          3,2,20050906,       2009,    87.6273,   156.7155,       3960,  3696.4,  -0.2985,  34.9557,2,  34.9556,2,    288.5,2,   289.7,2,   11.74,2,   14.71,2,    0.00,2,    1.03,2,   0.082,2,   0.000,2,   0.000,2,-999.0000,9,  2157.7,2,  2308.6,2,   7.8797,2,    15.00,-999.000,5, 3696.40,  -0.5386
77DN20050819,      AOS05,      30,          1,     283336,          4,2,20050906,       2009,    87.6273,   156.7155,       3960,  3696.5,  -0.2985,  34.9557,2,-999.0000,9,   -999.0,9,  -999.0,9, -999.00,9, -999.00,9, -999.00,9, -999.00,9,-999.000,9,-999.000,9,-999.000,9,-999.0000,9,  -999.0,9,  -999.0,9,-999.0000,9,  -999.00,-999.000,9, 3696.50,  -0.5387
77DN20050819,      AOS05,      30,          1,     283337,          5,2,20050906,       2009,    87.6273,   156.7155,       3960,  3696.6,  -0.2985,  34.9558,2,-999.0000,9,   -999.0,9,  -999.0,9, -999.00,9, -999.00,9, -999.00,9, -999.00,9,-999.000,9,-999.000,9,-999.000,9,-999.0000,9,  -999.0,9,  -999.0,9,-999.0000,9,  -999.00,-999.000,9, 3696.60,  -0.5386
77DN20050819,      AOS05,      30,          1,     283338,          6,2,20050906,       2009,    87.6273,   156.7155,       3960,  3696.7,  -0.2984,  34.9557,2,-999.0000,9,   -999.0,9,  -999.0,9, -999.00,9, -999.00,9, -999.00,9, -999.00,9,-999.000,9,-999.000,9,-999.000,9,-999.0000,9,  -999.0,9,  -999.0,9,-999.0000,9,  -999.00,-999.000,9, 3696.70,  -0.5386
77DN20050819,      AOS05,      30,          1,     283339,          7,2,20050906,       2009,    87.6273,   156.7155,       3960,  3696.7,  -0.2985,  34.9557,2,-999.0000,9,   -999.0,9,  -999.0,9, -999.00,9, -999.00,9, -999.00,9, -999.00,9,-999.000,9,-999.000,9,-999.000,9,-999.0000,9,  -999.0,9,  -999.0,9,-999.0000,9,  -999.00,-999.000,9, 3696.70,  -0.5386
77DN20050819,      AOS05,      30,          1,     283340,          8,2,20050906,       2009,    87.6273,   156.7155,       3960,  3696.8,  -0.2984,  34.9557,2,-999.0000,9,   -999.0,9,  -999.0,9, -999.00,9, -999.00,9, -999.00,9, -999.00,9,-999.000,9,-999.000,9,-999.000,9,-999.0000,9,  -999.0,9,  -999.0,9,-999.0000,9,  -999.00,-999.000,9, 3696.80,  -0.5386
77DN20050819,      AOS05,      30,          1,     283341,          9,2,20050906,       2009,    87.6273,   156.7155,       3960,  3696.9,  -0.2984,  34.9557,2,-999.0000,9,   -999.0,9,  -999.0,9, -999.00,9, -999.00,9, -999.00,9, -999.00,9,-999.000,9,-999.000,9,-999.000,9,-999.0000,9,  -999.0,9,  -999.0,9,-999.0000,9,  -999.00,-999.000,9, 3696.90,  -0.5386
77DN20050819,      AOS05,      30,          1,     283334,          2,2,20050906,       2009,    87.6273,   156.7155,       3960,  3974.8,  -0.2705,  34.9556,2,  34.9558,2,    288.7,2,   289.7,2,   11.81,2,   14.72,2,    0.00,2,    1.03,2,-999.000,9,-999.000,9,-999.000,9,-999.0000,9,  2158.7,2,  2306.3,2,   7.8828,2,    15.00,-999.000,9, 3974.80,  -0.5382
77DN20050819,      AOS05,      30,          1,     283333,          1,2,20050906,       2009,    87.6273,   156.7155,       3960,  4025.8,  -0.2654,  34.9555,2,  34.9564,2,    288.5,2,   289.5,2,   11.70,2,   14.64,2,    0.00,2,    1.03,2,   0.086,2,   0.043,2,   0.000,2,-999.0000,9,  2128.9,2,  2306.7,2,   7.8864,2,    15.00,-999.000,5, 4025.80,  -0.5383