BOTTLE,20211025CCHSIORKP
EXPOCODE,SECT_ID,STNNBR,CASTNO,SAMPNO,BTLNBR,BTLNBR_FLAG_W,DATE,TIME,LATITUDE,LONGITUDE,DEPTH,CTDPRS,CTDTMP,CTDSAL,CTDSAL_FLAG_W,SALNTY,SALNTY_FLAG_W,CTDOXY,CTDOXY_FLAG_W,OXYGEN,OXYGEN_FLAG_W,SILCAT,SILCAT_FLAG_W,NITRAT,NITRAT_FLAG_W,NITRIT,NITRIT_FLAG_W,PHSPHT,PHSPHT_FLAG_W,CFC-11,CFC-11_FLAG_W,CFC-12,CFC-12_FLAG_W,CFC113,CFC113_FLAG_W,SF6,SF6_FLAG_W,TCARBN,TCARBN_FLAG_W,ALKALI,ALKALI_FLAG_W,PH_SWS,PH_SWS_FLAG_W,PH_TMP,CCL4,CCL4_FLAG_W,CTDRAW,THETA
,,,,,,,,,,,METERS,DBAR,ITS-90,PSS-78,,PSS-78,,UMOL/KG,,UMOL/KG,,UMOL/KG,,UMOL/KG,,UMOL/KG,,UMOL/KG,,PMOL/KG,,PMOL/KG,,PMOL/KG,,FMOL/KG,,UMOL/KG,,UMOL/KG,,,,DEG C,PMOL/KG,,DBAR,DEG C
77DN20050819,      AOS05,      25,          1,     283260,         36,2,20050903,       0751,    86.0065,  -162.2982,       2774,     9.0,  -1.6015,  29.5383,2,  29.5419,2,   -999.0,5,   395.7,2,    8.21,2,    0.14,2,    0.01,2,    0.74,2,   7.685,2,   4.185,2,   0.742,2,-999.0000,5,  2007.9,2,  2105.5,2,   7.8039,2,    15.00,   9.086,2,    9.00,  -1.6016
77DN20050819,      AOS05,      25,          1,     283259,         35,2,20050903,       0751,    86.0065,  -162.2982,       2774,    30.0,  -1.6074,  30.3565,2,-999.0000,9,   -999.0,5,  -999.0,9, -999.00,9, -999.00,9, -999.00,9, -999.00,9,-999.000,9,-999.000,9,-999.000,9,-999.0000,9,  -999.0,9,  -999.0,9,-999.0000,9,  -999.00,-999.000,9,   30.00,  -1.6078
77DN20050819,      AOS05,      25,          1,     283258,         34,2,20050903,       0751,    86.0065,  -162.2982,       2774,    30.0,  -1.6080,  30.3577,2,-999.0000,9,   -999.0,5,  -999.0,9, -999.00,9, -999.00,9, -999.00,9, -999.00,9,-999.000,9,-999.000,9,-999.000,9,-999.0000,9,  -999.0,9,  -999.0,9,-999.0000,9,  -999.00,-999.000,9,   30.00,  -1.6084
77DN20050819,      AOS05,      25,          1,     283257,         33,2,20050903,       0751,    86.0065,  -162.2982,       2774,    30.0,  -1.6084,  30.3592,2,  30.4380,2,   -999.0,5,   386.7,2,    8.41,2,    1.14,2,    0.04,2,    0.84,2,   7.558,2,   4.121,2,   0.710,2,-999.0000,5,  2053.3,2,  2152.2,2,   7.7858,2,    15.00,   8.302,2,   30.00,  -1.6088
77DN20050819,      AOS05,      25,          1,     283256,         32,2,20050903,       0751,    86.0065,  -162.2982,       2774,    40.2,  -1.6071,  30.6390,2,  30.8141,2,   -999.0,5,   379.6,2,    8.26,2,    1.86,2,    0.05,2,    0.85,2,   7.444,2,   4.006,2,   0.689,2,-999.0000,5,  2076.9,2,  2174.4,2,   7.7809,2,    15.00,   7.594,2,   40.20,  -1.6077
77DN20050819,      AOS05,      25,          1,     283255,         31,2,20050903,       0751,    86.0065,  -162.2982,       2774,    55.1,  -1.6324,  32.0546,2,  32.1583,2,   -999.0,5,   341.0,2,   11.52,2,    5.37,2,    0.01,2,    0.89,2,   7.517,2,   4.030,2,   0.631,2,-999.0000,5,  2133.7,2,  2212.1,6,   7.7413,2,    15.00,   5.840,2,   55.10,  -1.6333
77DN20050819,      AOS05,      25,          1,     283254,         30,2,20050903,       0751,    86.0065,  -162.2982,       2774,    65.2,  -1.6374,  32.7788,2,-999.0000,9,   -999.0,5,  -999.0,9, -999.00,9, -999.00,9, -999.00,9, -999.00,9,-999.000,9,-999.000,9,-999.000,9,-999.0000,9,  -999.0,9,  -999.0,9,-999.0000,9,  -999.00,-999.000,9,   65.20,  -1.6386
77DN20050819,      AOS05,      25,          1,     283253,         29,2,20050903,       0751,    86.0065,  -162.2982,       2774,    65.2,  -1.6365,  32.7790,2,-999.0000,9,   -999.0,5,  -999.0,9, -999.00,9, -999.00,9, -999.00,9, -999.00,9,-999.000,9,-999.000,9,-999.000,9,-999.0000,9,  -999.0,9,  -999.0,9,-999.0000,9,  -999.00,-999.000,9,   65.20,  -1.6377
77DN20050819,      AOS05,      25,          1,     283252,         28,2,20050903,       0751,    86.0065,  -162.2982,       2774,    65.2,  -1.6349,  32.7697,2,  32.9075,2,   -999.0,5,   320.7,2,   11.27,2,    7.45,2,    0.01,2,    0.84,2,   7.185,2,   3.727,2,   0.574,2,-999.0000,5,  2159.5,2,  2250.9,2,   7.7343,2,    15.00,   5.119,2,   65.20,  -1.6361
77DN20050819,      AOS05,      25,          1,     283251,         27,2,20050903,       0751,    86.0065,  -162.2982,       2774,    80.4,  -1.6575,  33.5743,2,  33.6544,2,   -999.0,5,   316.7,2,    7.52,2,    8.01,2,    0.00,2,    0.70,2,   6.997,2,   3.492,2,   0.556,2,-999.0000,5,  2165.3,2,  2258.9,2,   7.7778,2,    15.00,   4.648,2,   80.40,  -1.6591
77DN20050819,      AOS05,      25,          1,     283250,         26,2,20050903,       0751,    86.0065,  -162.2982,       2774,   100.4,  -1.5412,  34.0171,2,  34.0448,2,   -999.0,5,   313.7,2,    5.84,2,    8.66,2,    0.00,2,    0.68,2,   7.209,3,   3.530,2,   0.532,2,-999.0000,5,  2158.6,2,  2267.6,2,   7.8019,2,    15.00,   5.118,2,  100.40,  -1.5434
77DN20050819,      AOS05,      25,          1,     283249,         25,2,20050903,       0751,    86.0065,  -162.2982,       2774,   120.7,  -1.1118,  34.2025,2,  34.2131,2,   -999.0,5,   312.2,2,    5.69,2,    9.17,2,    0.00,2,    0.69,2,   6.223,2,   3.259,2,   0.475,2,-999.0000,5,  2160.7,2,  2270.1,2,   7.8208,2,    15.00,   5.953,2,  120.70,  -1.1149
77DN20050819,      AOS05,      25,          1,     283248,         24,2,20050903,       0751,    86.0065,  -162.2982,       2774,   140.9,  -0.7495,  34.3286,2,  34.3399,2,   -999.0,5,   306.7,2,    5.53,2,    9.91,2,    0.00,2,    0.73,2,   5.575,2,   2.752,2,   0.383,2,-999.0000,5,  2149.8,2,  2273.7,2,   7.8258,2,    15.00,   4.616,2,  140.90,  -0.7536
77DN20050819,      AOS05,      25,          1,     283247,         23,2,20050903,       0751,    86.0065,  -162.2982,       2774,   161.1,  -0.3458,  34.4433,2,  34.4600,2,   -999.0,5,   302.3,2,    5.84,2,   10.56,2,    0.00,2,    0.75,2,   5.447,2,   2.762,2,   0.339,2,-999.0000,5,  2159.6,2,  2279.8,2,   7.8264,2,    15.00,   5.548,2,  161.10,  -0.3511
77DN20050819,      AOS05,      25,          1,     283246,         22,2,20050903,       0751,    86.0065,  -162.2982,       2774,   181.4,   0.0511,  34.5527,2,  34.5576,2,   -999.0,5,   299.5,2,    5.95,2,   11.11,2,    0.00,2,    0.79,2,   5.440,2,   2.707,2,   0.342,2,-999.0000,5,  2160.3,2,  2281.9,2,   7.8284,2,    15.00,   5.561,2,  181.40,   0.0444
77DN20050819,      AOS05,      25,          1,     283245,         21,2,20050903,       0751,    86.0065,  -162.2982,       2774,   201.6,   0.3921,  34.6529,2,  34.6512,2,   -999.0,5,   298.4,2,    5.98,2,   11.57,2,    0.00,2,    0.81,2,   4.730,2,   2.380,2,   0.323,2,-999.0000,5,  2162.3,2,  2283.0,2,   7.8432,2,    15.00,   4.871,2,  201.60,   0.3840
77DN20050819,      AOS05,      25,          1,     283244,         20,2,20050903,       0751,    86.0065,  -162.2982,       2774,   222.0,   0.6065,  34.7188,2,  34.7328,2,   -999.0,5,   297.4,2,    6.01,2,   12.07,2,    0.00,2,    0.83,2,   4.763,2,   2.396,2,   0.312,2,-999.0000,5,  2158.4,2,  2291.8,2,   7.8540,2,    15.00,   5.567,2,  222.00,   0.5971
77DN20050819,      AOS05,      25,          1,     283243,         19,2,20050903,       0751,    86.0065,  -162.2982,       2774,   252.2,   0.8680,  34.7999,2,  34.8000,2,   -999.0,5,   298.6,2,    6.04,2,   12.39,2,    0.00,2,    0.84,2,   4.574,2,   2.293,2,   0.320,2,-999.0000,5,  2153.9,2,  2288.7,2,   7.8633,2,    15.00,   5.176,2,  252.20,   0.8566
77DN20050819,      AOS05,      25,          1,     283242,         18,2,20050903,       0751,    86.0065,  -162.2982,       2774,   292.2,   1.0040,  34.8490,2,  34.8477,2,   -999.0,5,   299.3,2,    5.88,2,   12.62,2,    0.00,2,    0.86,2,   4.501,2,   2.247,2,   0.300,2,-999.0000,5,  2157.6,2,  2291.9,2,   7.8707,2,    15.00,   5.519,2,  292.20,   0.9904
77DN20050819,      AOS05,      25,          1,     283241,         17,2,20050903,       0751,    86.0065,  -162.2982,       2774,   337.2,   0.9278,  34.8469,2,  34.8465,2,   -999.0,5,   300.5,2,    5.02,2,   12.48,2,    0.00,2,    0.84,2,   4.874,2,   2.523,3,   0.287,2,-999.0000,5,  2157.2,2,  2293.4,2,   7.8644,2,    15.00,   6.406,3,  337.20,   0.9122
77DN20050819,      AOS05,      25,          1,     283240,         16,2,20050903,       0751,    86.0065,  -162.2982,       2774,   392.0,   0.8248,  34.8654,2,  34.8655,2,   -999.0,5,   300.5,2,    4.95,2,   12.70,2,    0.00,2,    0.86,2,   2.599,3,   1.097,3,   0.153,3,-999.0000,5,  2156.3,2,  2291.5,2,   7.8626,2,    15.00,   4.218,3,  392.00,   0.8068
77DN20050819,      AOS05,      25,          1,     283239,         15,2,20050903,       0751,    86.0065,  -162.2982,       2774,   491.5,   0.5527,  34.8679,2,  34.8674,2,   -999.0,5,   300.9,2,    5.07,2,   12.79,2,    0.00,2,    0.86,2,   3.870,2,   1.915,2,   0.242,2,-999.0000,5,  2155.8,2,  2292.2,2,   7.8627,2,    15.00,   5.361,2,  491.50,   0.5308
77DN20050819,      AOS05,      25,          1,     283238,         14,2,20050903,       0751,    86.0065,  -162.2982,       2774,   594.9,   0.3391,  34.8693,2,  34.8686,2,   -999.0,5,   302.2,2,    5.29,2,   12.64,2,    0.00,2,    0.86,2,   4.085,2,   2.144,2,   0.260,2,-999.0000,5,  2159.5,2,  2294.1,2,   7.8558,2,    15.00,   5.633,2,  594.90,   0.3130
77DN20050819,      AOS05,      25,          1,     283237,         13,2,20050903,       0751,    86.0065,  -162.2982,       2774,   734.2,   0.0905,  34.8748,2,  34.8747,2,   -999.0,5,   302.5,2,    5.49,2,   12.78,2,    0.00,2,    0.88,2,   3.438,2,   1.956,2,   0.176,2,-999.0000,5,  2156.4,2,  2293.3,2,   7.8582,2,    15.00,   4.943,2,  734.20,   0.0589
77DN20050819,      AOS05,      25,          1,     283236,         12,2,20050903,       0751,    86.0065,  -162.2982,       2774,   883.6,  -0.0740,  34.8841,2,  34.8840,2,   -999.0,5,   303.0,2,    5.79,2,   12.77,2,    0.00,2,    0.90,2,   3.057,2,   1.503,2,   0.153,2,-999.0000,5,  2159.2,2,  2297.7,2,   7.8585,2,    15.00,   4.320,2,  883.60,  -0.1120
77DN20050819,      AOS05,      25,          1,     283235,         11,2,20050903,       0751,    86.0065,  -162.2982,       2774,  1033.1,  -0.1971,  34.8947,2,  34.8958,2,   -999.0,5,   302.4,2,    6.35,2,   13.14,2,    0.00,2,    0.91,2,   2.626,2,   1.380,2,   0.122,2,-999.0000,5,  2159.1,2,  2295.2,2,   7.8590,2,    15.00,   4.414,2, 1033.10,  -0.2418
77DN20050819,      AOS05,      25,          1,     283234,         10,2,20050903,       0751,    86.0065,  -162.2982,       2774,  1186.8,  -0.2710,  34.9082,2,  34.9087,2,   -999.0,5,   300.9,2,    6.83,2,   13.41,2,    0.00,2,    0.93,2,   1.360,2,   0.714,2,   0.069,2,-999.0000,5,  2160.5,2,  2291.9,2,   7.8692,2,    15.00,   2.740,2, 1186.80,  -0.3233
77DN20050819,      AOS05,      25,          1,     283233,          9,2,20050903,       0751,    86.0065,  -162.2982,       2774,  1386.6,  -0.3538,  34.9210,2,  34.9213,2,   -999.0,5,   298.9,2,    7.76,2,   13.78,2,    0.00,2,    0.95,2,   1.614,2,   0.873,2,   0.108,2,-999.0000,5,  2156.2,2,  2298.5,2,   7.8741,2,    15.00,   2.441,2, 1386.60,  -0.4165
77DN20050819,      AOS05,      25,          1,     283232,          8,2,20050903,       0751,    86.0065,  -162.2982,       2774,  1639.8,  -0.3998,  34.9381,2,  34.9378,2,   -999.0,5,   293.8,2,    9.49,2,   14.28,2,    0.00,2,    0.99,2,   0.307,2,   0.210,2,   0.000,2,-999.0000,5,  2157.5,2,  2297.8,2,   7.8784,2,    15.00,   0.787,2, 1639.80,  -0.4770
77DN20050819,      AOS05,      25,          1,     283231,          7,2,20050903,       0751,    86.0065,  -162.2982,       2774,  1889.7,  -0.4117,  34.9476,2,  34.9489,2,   -999.0,5,   290.0,2,   10.69,2,   14.59,2,    0.00,2,    1.01,2,   0.117,2,   0.083,2,   0.000,2,-999.0000,9,  2155.9,2,  2298.6,2,   7.8779,2,    15.00,   0.371,2, 1889.70,  -0.5046
77DN20050819,      AOS05,      25,          1,     283230,          6,2,20050903,       0751,    86.0065,  -162.2982,       2774,  2144.0,  -0.4012,  34.9525,2,  34.9528,2,   -999.0,5,   288.0,2,   11.62,2,   14.73,2,    0.00,2,    1.02,2,   0.058,2,   0.098,2,   0.000,2,-999.0000,9,  2160.8,2,  2296.9,2,   7.8759,2,    15.00,   0.193,2, 2144.00,  -0.5115
77DN20050819,      AOS05,      25,          1,     283229,          5,2,20050903,       0751,    86.0065,  -162.2982,       2774,  2394.8,  -0.3850,  34.9551,2,  34.9546,2,   -999.0,5,   287.8,2,   11.82,2,   14.76,2,    0.00,2,    1.04,2,-999.000,5,-999.000,5,-999.000,5,-999.0000,9,  2156.9,2,  2300.0,2,   7.8778,6,    15.00,-999.000,5, 2394.80,  -0.5136
77DN20050819,      AOS05,      25,          1,     283226,          2,2,20050903,       0751,    86.0065,  -162.2982,       2774,  2649.6,  -0.3666,  34.9568,2,  34.9564,2,   -999.0,5,   286.3,2,   12.13,2,   14.80,2,    0.00,2,    1.04,2,   0.056,2,   0.108,2,   0.000,2,-999.0000,9,  2158.8,2,  2299.4,6,   7.8747,2,    15.00,   0.107,2, 2649.60,  -0.5149
77DN20050819,      AOS05,      25,          1,     283227,          3,2,20050903,       0751,    86.0065,  -162.2982,       2774,  2649.7,  -0.3665,  34.9568,2,-999.0000,9,   -999.0,5,  -999.0,9, -999.00,9, -999.00,9, -999.00,9, -999.00,9,-999.000,9,-999.000,9,-999.000,9,-999.0000,9,  -999.0,9,  -999.0,9,-999.0000,9,  -999.00,-999.000,9, 2649.70,  -0.5148
77DN20050819,      AOS05,      25,          1,     283228,          4,2,20050903,       0751,    86.0065,  -162.2982,       2774,  2649.7,  -0.3665,  34.9568,2,-999.0000,9,   -999.0,5,  -999.0,9, -999.00,9, -999.00,9, -999.00,9, -999.00,9,-999.000,9,-999.000,9,-999.000,9,-999.0000,9,  -999.0,9,  -999.0,9,-999.0000,9,  -999.00,-999.000,9, 2649.70,  -0.5148
77DN20050819,      AOS05,      25,          1,     283225,          1,2,20050903,       0751,    86.0065,  -162.2982,       2774,  2800.6,  -0.3619,  34.9564,2,  34.9562,2,   -999.0,5,   287.5,2,   11.88,2,   14.72,2,    0.00,2,    1.03,2,   0.039,2,   0.101,2,   0.000,2,-999.0000,5,  2161.8,2,  2302.9,2,   7.8801,2,    15.00,   0.093,2, 2800.60,  -0.5223