BOTTLE,20211025CCHSIORKP
EXPOCODE,SECT_ID,STNNBR,CASTNO,SAMPNO,BTLNBR,BTLNBR_FLAG_W,DATE,TIME,LATITUDE,LONGITUDE,DEPTH,CTDPRS,CTDTMP,CTDSAL,CTDSAL_FLAG_W,SALNTY,SALNTY_FLAG_W,CTDOXY,CTDOXY_FLAG_W,OXYGEN,OXYGEN_FLAG_W,SILCAT,SILCAT_FLAG_W,NITRAT,NITRAT_FLAG_W,NITRIT,NITRIT_FLAG_W,PHSPHT,PHSPHT_FLAG_W,CFC-11,CFC-11_FLAG_W,CFC-12,CFC-12_FLAG_W,CFC113,CFC113_FLAG_W,SF6,SF6_FLAG_W,TCARBN,TCARBN_FLAG_W,ALKALI,ALKALI_FLAG_W,PH_SWS,PH_SWS_FLAG_W,PH_TMP,CCL4,CCL4_FLAG_W,CTDRAW,THETA
,,,,,,,,,,,METERS,DBAR,ITS-90,PSS-78,,PSS-78,,UMOL/KG,,UMOL/KG,,UMOL/KG,,UMOL/KG,,UMOL/KG,,UMOL/KG,,PMOL/KG,,PMOL/KG,,PMOL/KG,,FMOL/KG,,UMOL/KG,,UMOL/KG,,,,DEG C,PMOL/KG,,DBAR,DEG C
77DN20050819,      AOS05,      47,          1,     283884,         36,2,20050915,       1704,    88.0417,    58.8780,       4377,   182.4,   0.2961,  34.5822,2,  34.6232,2,    299.1,2,   299.2,2,    5.12,2,   11.21,2,    0.00,2,    0.81,2,   5.693,2,   2.760,2,   0.429,2,-999.0000,9,  2160.6,2,  2279.3,2,   7.8436,2,    15.00,-999.000,5,  182.40,   0.2890
77DN20050819,      AOS05,      47,          1,     283883,         35,2,20050915,       1704,    88.0417,    58.8780,       4377,   202.6,   0.7334,  34.6783,2,  34.7051,2,    296.6,2,   297.9,2,    5.05,2,   11.70,2,    0.00,2,    0.84,2,   5.576,2,   2.838,2,   0.414,2,   0.7500,2,  2159.0,2,  2283.1,2,   7.8547,2,    15.00,-999.000,5,  202.60,   0.7246
77DN20050819,      AOS05,      47,          1,     283882,         34,2,20050915,       1704,    88.0417,    58.8780,       4377,   227.7,   1.0563,  34.7731,2,  34.7992,2,    295.5,2,   296.7,2,    5.33,2,   12.16,2,    0.00,2,    0.86,2,   5.452,2,   2.715,2,   0.423,2,-999.0000,9,  2163.7,2,  2284.7,2,   7.8624,2,    15.00,-999.000,5,  227.70,   1.0458
77DN20050819,      AOS05,      47,          1,     283881,         33,2,20050915,       1704,    88.0417,    58.8780,       4377,   252.9,   1.2721,  34.8264,2,  34.8248,2,    295.7,2,   296.6,2,    5.27,2,   12.30,2,    0.00,2,    0.86,2,   5.357,2,   2.646,2,   0.410,2,   1.1100,2,  2160.0,2,  2285.3,2,   7.8666,2,    15.00,-999.000,5,  252.90,   1.2599
77DN20050819,      AOS05,      47,          1,     283878,         30,2,20050915,       1704,    88.0417,    58.8780,       4377,   303.1,   1.4476,  34.8764,2,  34.8750,2,    297.2,2,   298.7,2,    5.11,2,   12.47,2,    0.00,2,    0.88,2,   5.042,2,   2.499,2,   0.385,2,   1.1000,2,  2163.0,2,  2288.8,2,   7.8692,2,    15.00,-999.000,5,  303.10,   1.4323
77DN20050819,      AOS05,      47,          1,     283879,         31,2,20050915,       1704,    88.0417,    58.8780,       4377,   303.1,   1.4475,  34.8765,2,-999.0000,9,   -999.0,9,  -999.0,9, -999.00,9, -999.00,9, -999.00,9, -999.00,9,-999.000,9,-999.000,9,-999.000,9,-999.0000,9,  -999.0,9,  -999.0,9,-999.0000,9,  -999.00,-999.000,9,  303.10,   1.4322
77DN20050819,      AOS05,      47,          1,     283880,         32,2,20050915,       1704,    88.0417,    58.8780,       4377,   303.1,   1.4476,  34.8765,2,-999.0000,9,   -999.0,9,  -999.0,9, -999.00,9, -999.00,9, -999.00,9, -999.00,9,-999.000,9,-999.000,9,-999.000,9,-999.0000,9,  -999.0,9,  -999.0,9,-999.0000,9,  -999.00,-999.000,9,  303.10,   1.4324
77DN20050819,      AOS05,      47,          1,     283877,         29,2,20050915,       1704,    88.0417,    58.8780,       4377,   382.7,   1.2190,  34.8852,2,  34.8866,2,    299.1,2,   300.4,2,    5.22,2,   12.52,2,    0.00,2,    0.88,2,-999.000,5,-999.000,5,-999.000,5,   1.1600,2,  2163.4,2,  2285.2,2,   7.8693,2,    15.00,-999.000,5,  382.70,   1.2002
77DN20050819,      AOS05,      47,          1,     283876,         28,2,20050915,       1704,    88.0417,    58.8780,       4377,   516.7,   0.7649,  34.8809,2,  34.8809,2,    299.1,2,   301.3,2,    5.32,2,   12.51,2,    0.00,2,    0.89,2,   4.564,2,   2.260,2,   0.324,2,   0.6800,2,  2163.0,2,  2288.2,2,   7.8561,2,    15.00,-999.000,5,  516.70,   0.7408
77DN20050819,      AOS05,      47,          1,     283874,         26,2,20050915,       1704,    88.0417,    58.8780,       4377,   619.7,   0.4544,  34.8777,2,  34.8760,2,    300.5,2,   302.2,2,    5.61,2,   12.51,2,    0.00,2,    0.90,2,   4.159,2,   2.069,2,   0.288,2,   0.3900,2,  2165.0,2,  2287.6,2,   7.8580,2,    15.00,-999.000,5,  619.70,   0.4265
77DN20050819,      AOS05,      47,          1,     283875,         27,2,20050915,       1704,    88.0417,    58.8780,       4377,   619.8,   0.4542,  34.8777,2,-999.0000,9,   -999.0,9,  -999.0,9, -999.00,9, -999.00,9, -999.00,9, -999.00,9,-999.000,9,-999.000,9,-999.000,9,-999.0000,9,  -999.0,9,  -999.0,9,-999.0000,9,  -999.00,-999.000,9,  619.80,   0.4264
77DN20050819,      AOS05,      47,          1,     283873,         25,2,20050915,       1704,    88.0417,    58.8780,       4377,   818.5,   0.0001,  34.8775,2,  34.8787,2,    303.7,2,   304.3,2,    6.07,2,   12.46,2,    0.00,2,    0.90,2,   3.960,2,   1.963,2,   0.313,2,   0.8600,2,  2173.7,2,  2289.3,2,   7.8470,2,    15.00,-999.000,5,  818.50,  -0.0350
77DN20050819,      AOS05,      47,          1,     283870,         22,2,20050915,       1704,    88.0417,    58.8780,       4377,  1017.1,  -0.2191,  34.8869,2,  34.8862,2,    303.9,2,   305.2,2,    6.35,2,   12.65,2,    0.00,2,    0.91,2,   3.966,2,   1.971,2,   0.289,2,   0.9400,2,  2173.5,2,  2289.4,2,   7.8410,2,    15.00,-999.000,5, 1017.10,  -0.2628
77DN20050819,      AOS05,      47,          1,     283871,         23,2,20050915,       1704,    88.0417,    58.8780,       4377,  1017.2,  -0.2185,  34.8870,2,-999.0000,9,   -999.0,9,  -999.0,9, -999.00,9, -999.00,9, -999.00,9, -999.00,9,-999.000,9,-999.000,9,-999.000,9,-999.0000,9,  -999.0,9,  -999.0,9,-999.0000,9,  -999.00,-999.000,9, 1017.20,  -0.2623
77DN20050819,      AOS05,      47,          1,     283872,         24,2,20050915,       1704,    88.0417,    58.8780,       4377,  1017.5,  -0.2198,  34.8869,2,-999.0000,9,   -999.0,9,  -999.0,9, -999.00,9, -999.00,9, -999.00,9, -999.00,9,-999.000,9,-999.000,9,-999.000,9,-999.0000,9,  -999.0,9,  -999.0,9,-999.0000,9,  -999.00,-999.000,9, 1017.50,  -0.2635
77DN20050819,      AOS05,      47,          1,     283865,         17,2,20050915,       1704,    88.0417,    58.8780,       4377,  1319.1,  -0.4009,  34.9086,2,  34.9083,2,    302.0,2,   301.7,2,    7.52,2,   13.42,2,    0.00,2,    0.96,2,   2.377,2,   1.156,2,   0.137,2,   0.4600,2,  2169.8,2,  2291.5,2,   7.8513,2,    15.00,-999.000,5, 1319.10,  -0.4592
77DN20050819,      AOS05,      47,          1,     283866,         18,2,20050915,       1704,    88.0417,    58.8780,       4377,  1319.3,  -0.4007,  34.9086,2,-999.0000,9,   -999.0,9,  -999.0,9, -999.00,9, -999.00,9, -999.00,9, -999.00,9,-999.000,9,-999.000,9,-999.000,9,-999.0000,9,  -999.0,9,  -999.0,9,-999.0000,9,  -999.00,-999.000,9, 1319.30,  -0.4590
77DN20050819,      AOS05,      47,          1,     283867,         19,2,20050915,       1704,    88.0417,    58.8780,       4377,  1319.4,  -0.4007,  34.9086,2,-999.0000,9,   -999.0,9,  -999.0,9, -999.00,9, -999.00,9, -999.00,9, -999.00,9,-999.000,9,-999.000,9,-999.000,9,-999.0000,9,  -999.0,9,  -999.0,9,-999.0000,9,  -999.00,-999.000,9, 1319.40,  -0.4590
77DN20050819,      AOS05,      47,          1,     283868,         20,2,20050915,       1704,    88.0417,    58.8780,       4377,  1319.5,  -0.4006,  34.9086,2,-999.0000,9,   -999.0,9,  -999.0,9, -999.00,9, -999.00,9, -999.00,9, -999.00,9,-999.000,9,-999.000,9,-999.000,9,-999.0000,9,  -999.0,9,  -999.0,9,-999.0000,9,  -999.00,-999.000,9, 1319.50,  -0.4589
77DN20050819,      AOS05,      47,          1,     283869,         21,2,20050915,       1704,    88.0417,    58.8780,       4377,  1319.6,  -0.4007,  34.9086,2,-999.0000,9,   -999.0,9,  -999.0,9, -999.00,9, -999.00,9, -999.00,9, -999.00,9,-999.000,9,-999.000,9,-999.000,9,-999.0000,9,  -999.0,9,  -999.0,9,-999.0000,9,  -999.00,-999.000,9, 1319.60,  -0.4591
77DN20050819,      AOS05,      47,          1,     283864,         16,2,20050915,       1704,    88.0417,    58.8780,       4377,  1621.8,  -0.5351,  34.9201,2,  34.9199,2,    298.4,2,   299.0,2,    9.05,2,   14.02,2,    0.00,2,    0.99,2,   1.245,2,   0.631,2,   0.069,2,   0.0000,2,  2167.2,2,  2292.9,2,   7.8518,2,    15.00,-999.000,5, 1621.80,  -0.6094
77DN20050819,      AOS05,      47,          1,     283862,         14,2,20050915,       1704,    88.0417,    58.8780,       4377,  1921.2,  -0.6132,  34.9261,2,  34.9262,2,    296.0,2,   297.9,2,    9.97,2,   14.39,2,    0.00,2,    1.02,2,   0.703,2,   0.382,2,   0.028,2,-999.0000,9,  2164.5,2,  2291.8,2,   7.8618,2,    15.00,-999.000,5, 1921.20,  -0.7051
77DN20050819,      AOS05,      47,          1,     283863,         15,2,20050915,       1704,    88.0417,    58.8780,       4377,  1921.3,  -0.6139,  34.9261,2,-999.0000,9,   -999.0,9,  -999.0,9, -999.00,9, -999.00,9, -999.00,9, -999.00,9,-999.000,9,-999.000,9,-999.000,9,-999.0000,9,  -999.0,9,  -999.0,9,-999.0000,9,  -999.00,-999.000,9, 1921.30,  -0.7057
77DN20050819,      AOS05,      47,          1,     283861,         13,2,20050915,       1704,    88.0417,    58.8780,       4377,  2124.7,  -0.6891,  34.9239,2,  34.9234,2,    297.7,2,   299.1,2,    9.99,2,   14.48,2,    0.00,2,    1.02,2,-999.000,5,-999.000,5,-999.000,5,-999.0000,9,  2168.8,2,  2293.2,2,   7.8610,2,    15.00,-999.000,5, 2124.70,  -0.7932
77DN20050819,      AOS05,      47,          1,     283858,         10,2,20050915,       1704,    88.0417,    58.8780,       4377,  2524.7,  -0.7518,  34.9271,2,  34.9266,2,    298.6,2,   299.5,2,   10.36,2,   14.56,2,    0.00,2,    1.03,2,   0.376,2,   0.221,2,   0.000,2,-999.0000,9,  2167.6,2,  2293.8,2,   7.8647,2,    15.00,-999.000,5, 2524.70,  -0.8828
77DN20050819,      AOS05,      47,          1,     283859,         11,2,20050915,       1704,    88.0417,    58.8780,       4377,  2524.8,  -0.7519,  34.9271,2,-999.0000,9,   -999.0,9,  -999.0,9, -999.00,9, -999.00,9, -999.00,9, -999.00,9,-999.000,9,-999.000,9,-999.000,9,-999.0000,9,  -999.0,9,  -999.0,9,-999.0000,9,  -999.00,-999.000,9, 2524.80,  -0.8829
77DN20050819,      AOS05,      47,          1,     283860,         12,2,20050915,       1704,    88.0417,    58.8780,       4377,  2524.9,  -0.7519,  34.9271,2,-999.0000,9,   -999.0,9,  -999.0,9, -999.00,9, -999.00,9, -999.00,9, -999.00,9,-999.000,9,-999.000,9,-999.000,9,-999.0000,9,  -999.0,9,  -999.0,9,-999.0000,9,  -999.00,-999.000,9, 2524.90,  -0.8830
77DN20050819,      AOS05,      47,          1,     283857,          9,2,20050915,       1704,    88.0417,    58.8780,       4377,  2929.5,  -0.7601,  34.9323,2,  34.9317,2,    298.3,2,   299.5,2,   10.57,2,   14.65,2,    0.00,2,    1.03,2,   0.214,2,   0.136,2,   0.006,2,-999.0000,9,  2162.9,2,  2295.2,2,   7.8715,2,    15.00,-999.000,5, 2929.50,  -0.9220
77DN20050819,      AOS05,      47,          1,     283856,          8,2,20050915,       1704,    88.0417,    58.8780,       4377,  3335.5,  -0.7426,  34.9372,2,  34.9368,2,    297.9,2,   299.1,2,   10.76,2,   14.60,2,    0.00,2,    1.03,2,   0.145,2,   0.094,2,   0.000,2,-999.0000,9,  2165.4,2,  2295.3,2,   7.8730,2,    15.00,-999.000,5, 3335.50,  -0.9386
77DN20050819,      AOS05,      47,          1,     283855,          7,2,20050915,       1704,    88.0417,    58.8780,       4377,  3742.6,  -0.7112,  34.9417,2,  34.9417,2,    297.8,2,   298.9,2,   11.06,2,   14.56,2,    0.00,2,    1.03,2,   0.121,2,   0.067,2,   0.000,2,-999.0000,9,  2162.9,2,  2295.2,2,   7.8766,2,    15.00,-999.000,5, 3742.60,  -0.9443
77DN20050819,      AOS05,      47,          1,     283854,          6,2,20050915,       1704,    88.0417,    58.8780,       4377,  4045.7,  -0.6765,  34.9435,2,  34.9429,2,    297.5,2,   298.4,2,   11.17,2,   14.51,2,    0.00,2,    1.03,2,   0.112,2,   0.068,2,   0.000,2,-999.0000,9,  2164.8,2,  2295.3,2,   7.8743,2,    15.00,-999.000,5, 4045.70,  -0.9393
77DN20050819,      AOS05,      47,          1,     283853,          5,2,20050915,       1704,    88.0417,    58.8780,       4377,  4353.8,  -0.6448,  34.9434,2,-999.0000,9,   -999.0,9,  -999.0,9,   11.10,2,   14.41,2,    0.00,2,    1.02,2,-999.000,9,-999.000,9,-999.000,9,-999.0000,9,  -999.0,9,  -999.0,9,-999.0000,9,  -999.00,-999.000,9, 4353.80,  -0.9391
77DN20050819,      AOS05,      47,          1,     283852,          4,2,20050915,       1704,    88.0417,    58.8780,       4377,  4379.6,  -0.6422,  34.9434,2,-999.0000,9,   -999.0,9,  -999.0,9,   11.03,2,   14.50,2,    0.00,2,    1.04,2,-999.000,9,-999.000,9,-999.000,9,-999.0000,9,  -999.0,9,  -999.0,9,-999.0000,9,  -999.00,-999.000,9, 4379.60,  -0.9392
77DN20050819,      AOS05,      47,          1,     283851,          3,2,20050915,       1704,    88.0417,    58.8780,       4377,  4405.3,  -0.6394,  34.9434,2,-999.0000,9,   -999.0,9,  -999.0,9,   11.23,2,   14.50,2,    0.00,2,    1.03,2,-999.000,9,-999.000,9,-999.000,9,-999.0000,9,  -999.0,9,  -999.0,9,-999.0000,9,  -999.00,-999.000,9, 4405.30,  -0.9391
77DN20050819,      AOS05,      47,          1,     283850,          2,2,20050915,       1704,    88.0417,    58.8780,       4377,  4431.1,  -0.6366,  34.9434,2,  34.9431,2,   -999.0,9,  -999.0,9,   11.17,2,   14.49,2,    0.00,2,    1.03,2,-999.000,9,-999.000,9,-999.000,9,-999.0000,9,  -999.0,9,  -999.0,9,-999.0000,9,  -999.00,-999.000,9, 4431.10,  -0.9390
77DN20050819,      AOS05,      47,          1,     283849,          1,2,20050915,       1704,    88.0417,    58.8780,       4377,  4456.8,  -0.6338,  34.9433,2,  34.9434,2,    297.3,2,   298.5,2,   10.91,2,   14.49,2,    0.00,2,    1.03,2,   0.143,2,   0.082,2,   0.000,2,-999.0000,9,  2161.8,2,  2296.7,2,   7.8778,2,    15.00,-999.000,5, 4456.80,  -0.9390