BOTTLE,20211025CCHSIORKP
EXPOCODE,SECT_ID,STNNBR,CASTNO,SAMPNO,BTLNBR,BTLNBR_FLAG_W,DATE,TIME,LATITUDE,LONGITUDE,DEPTH,CTDPRS,CTDTMP,CTDSAL,CTDSAL_FLAG_W,SALNTY,SALNTY_FLAG_W,CTDOXY,CTDOXY_FLAG_W,OXYGEN,OXYGEN_FLAG_W,SILCAT,SILCAT_FLAG_W,NITRAT,NITRAT_FLAG_W,NITRIT,NITRIT_FLAG_W,PHSPHT,PHSPHT_FLAG_W,CFC-11,CFC-11_FLAG_W,CFC-12,CFC-12_FLAG_W,CFC113,CFC113_FLAG_W,SF6,SF6_FLAG_W,TCARBN,TCARBN_FLAG_W,ALKALI,ALKALI_FLAG_W,PH_SWS,PH_SWS_FLAG_W,PH_TMP,CCL4,CCL4_FLAG_W,CTDRAW,THETA
,,,,,,,,,,,METERS,DBAR,ITS-90,PSS-78,,PSS-78,,UMOL/KG,,UMOL/KG,,UMOL/KG,,UMOL/KG,,UMOL/KG,,UMOL/KG,,PMOL/KG,,PMOL/KG,,PMOL/KG,,FMOL/KG,,UMOL/KG,,UMOL/KG,,,,DEG C,PMOL/KG,,DBAR,DEG C
77DN20050819,      AOS05,      43,          3,     283776,         36,2,20050913,       0127,    89.9867,    31.8665,       4248,     9.3,  -1.6492,  30.5187,2,  30.5238,2,    392.8,2,   394.1,2,    6.66,2,    0.18,2,    0.03,2,    0.96,2,   7.536,2,   3.928,2,   0.757,2,-999.0000,9,  2028.0,2,  2128.1,2,   7.8076,2,    15.00,-999.000,5,    9.30,  -1.6494
77DN20050819,      AOS05,      43,          3,     283775,         35,2,20050913,       0127,    89.9867,    31.8665,       4248,    23.9,  -1.6508,  30.8472,2,  30.7545,2,    392.1,2,   391.0,2,    6.86,2,    0.47,2,    0.05,2,    0.97,2,   7.501,2,   3.885,2,   0.741,2,-999.0000,9,  2047.0,2,  2141.4,2,   7.8000,2,    15.00,-999.000,5,   23.90,  -1.6512
77DN20050819,      AOS05,      43,          3,     283774,         34,2,20050913,       0127,    89.9867,    31.8665,       4248,    39.2,  -1.6670,  31.5112,2,  31.6159,2,    382.5,2,   376.5,2,    7.23,2,    1.92,2,    0.07,2,    0.95,2,   7.493,2,   3.878,2,   0.733,2,-999.0000,9,  2095.7,2,  2189.9,2,   7.7813,2,    15.00,-999.000,5,   39.20,  -1.6676
77DN20050819,      AOS05,      43,          3,     283773,         33,2,20050913,       0127,    89.9867,    31.8665,       4248,    59.4,  -1.7182,  32.9745,2,-999.0000,9,   -999.0,9,  -999.0,9, -999.00,9, -999.00,9, -999.00,9, -999.00,9,-999.000,9,-999.000,9,-999.000,9,-999.0000,9,  -999.0,9,  -999.0,9,-999.0000,9,  -999.00,-999.000,9,   59.40,  -1.7192
77DN20050819,      AOS05,      43,          3,     283772,         32,2,20050913,       0127,    89.9867,    31.8665,       4248,    59.4,  -1.7178,  32.9788,2,-999.0000,9,   -999.0,9,  -999.0,9, -999.00,9, -999.00,9, -999.00,9, -999.00,9,-999.000,9,-999.000,9,-999.000,9,-999.0000,9,  -999.0,9,  -999.0,9,-999.0000,9,  -999.00,-999.000,9,   59.40,  -1.7188
77DN20050819,      AOS05,      43,          3,     283771,         31,2,20050913,       0127,    89.9867,    31.8665,       4248,    59.4,  -1.7177,  32.9761,2,  33.0057,2,    361.4,2,   346.3,2,    6.25,2,    5.23,2,    0.01,2,    0.65,2,   7.319,2,   3.736,2,   0.657,2,-999.0000,9,  2158.0,2,  2251.0,2,   7.7737,2,    15.00,-999.000,5,   59.40,  -1.7188
77DN20050819,      AOS05,      43,          3,     283770,         30,2,20050913,       0127,    89.9867,    31.8665,       4248,    79.6,  -1.6462,  33.7493,2,  33.8121,2,    324.9,2,   319.6,2,    5.63,2,    7.37,2,    0.01,2,    0.66,2,   6.840,2,   3.254,2,   0.465,2,-999.0000,9,  2169.2,2,  2263.6,2,   7.7872,2,    15.00,-999.000,5,   79.60,  -1.6478
77DN20050819,      AOS05,      43,          3,     283769,         29,2,20050913,       0127,    89.9867,    31.8665,       4248,    99.8,  -1.4888,  34.1037,2,  34.1354,2,    314.1,2,   315.1,2,    5.11,2,    8.07,2,    0.00,2,    0.68,2,   6.467,2,   3.176,2,   0.422,2,-999.0000,9,  2165.3,2,  2262.6,2,   7.8099,2,    15.00,-999.000,5,   99.80,  -1.4910
77DN20050819,      AOS05,      43,          3,     283768,         28,2,20050913,       0127,    89.9867,    31.8665,       4248,   120.1,  -1.1860,  34.2597,2,  34.2822,2,    313.4,2,   312.4,2,    4.86,2,    8.53,2,    0.00,2,    0.69,2,   5.812,2,   3.009,2,   0.452,2,-999.0000,9,  2161.5,2,  2267.8,2,   7.8183,2,    15.00,-999.000,5,  120.10,  -1.1891
77DN20050819,      AOS05,      43,          3,     283767,         27,2,20050913,       0127,    89.9867,    31.8665,       4248,   140.3,  -0.8618,  34.3925,2,  34.4050,2,    309.8,2,   312.9,2,    4.60,2,    8.88,2,    0.01,2,    0.71,2,   6.060,2,   3.008,2,   0.451,2,-999.0000,9,  2162.5,2,  2278.5,2,   7.8216,2,    15.00,-999.000,5,  140.30,  -0.8658
77DN20050819,      AOS05,      43,          3,     283766,         26,2,20050913,       0127,    89.9867,    31.8665,       4248,   160.5,  -0.4681,  34.5013,2,  34.5077,2,    310.0,2,   312.8,2,    4.35,2,    9.23,2,    0.00,2,    0.72,2,   6.097,2,   3.082,2,   0.445,2,-999.0000,9,  2162.7,2,  2281.9,2,   7.8277,2,    15.00,-999.000,5,  160.50,  -0.4733
77DN20050819,      AOS05,      43,          3,     283765,         25,2,20050913,       0127,    89.9867,    31.8665,       4248,   180.7,  -0.0092,  34.6068,2,  34.6135,2,    308.7,2,   309.1,2,    4.81,2,   10.04,2,    0.00,2,    0.76,2,   5.976,2,   2.910,2,   0.398,2,-999.0000,9,  2159.6,2,  2278.4,2,   7.8365,2,    15.00,-999.000,5,  180.70,  -0.0159
77DN20050819,      AOS05,      43,          3,     283764,         24,2,20050913,       0127,    89.9867,    31.8665,       4248,   200.9,   0.3124,  34.6877,2,  34.7124,4,    306.8,2,   306.0,2,    4.82,2,   10.75,2,    0.00,2,    0.79,2,   6.025,2,   3.018,2,   0.398,2,-999.0000,9,  2167.9,2,  2284.1,2,   7.8480,2,    15.00,-999.000,5,  200.90,   0.3044
77DN20050819,      AOS05,      43,          3,     283763,         23,2,20050913,       0127,    89.9867,    31.8665,       4248,   231.3,   0.7837,  34.7974,2,  34.8000,2,    302.5,2,   303.4,2,    4.92,2,   11.41,2,    0.00,2,    0.82,2,   5.457,2,   2.758,2,   0.398,2,-999.0000,9,  2155.1,2,  2284.3,2,   7.8617,2,    15.00,-999.000,5,  231.30,   0.7735
77DN20050819,      AOS05,      43,          3,     283762,         22,2,20050913,       0127,    89.9867,    31.8665,       4248,   281.2,   0.9684,  34.8417,2,  34.8408,2,    303.4,2,   304.3,2,    4.93,2,   11.71,2,    0.00,2,    0.83,2,   5.593,2,   2.736,2,   0.342,2,-999.0000,9,  2157.1,2,  2291.2,2,   7.8629,2,    15.00,-999.000,5,  281.20,   0.9554
77DN20050819,      AOS05,      43,          3,     283761,         21,2,20050913,       0127,    89.9867,    31.8665,       4248,   331.0,   0.9255,  34.8488,2,  34.8485,2,    303.7,2,   305.7,2,    4.94,2,   11.65,2,    0.00,2,    0.82,2,   5.634,2,   2.848,2,   0.322,2,-999.0000,9,  2162.9,2,  2290.6,2,   7.8606,2,    15.00,-999.000,5,  331.00,   0.9102
77DN20050819,      AOS05,      43,          3,     283760,         20,2,20050913,       0127,    89.9867,    31.8665,       4248,   395.6,   0.7731,  34.8602,2,  34.8591,2,    305.1,2,   306.4,2,    5.05,2,   11.81,2,    0.00,2,    0.84,2,   5.228,2,   2.644,2,   0.371,2,-999.0000,9,  2162.6,2,  2290.9,2,   7.8590,2,    15.00,-999.000,5,  395.60,   0.7551
77DN20050819,      AOS05,      43,          3,     283759,         19,2,20050913,       0127,    89.9867,    31.8665,       4248,   495.1,   0.4814,  34.8640,2,  34.8633,2,   -999.0,9,   328.5,4,    5.33,2,   11.86,2,    0.00,2,    0.85,2,   5.295,2,   2.610,2,   0.298,2,-999.0000,9,  2164.9,2,  2292.7,2,   7.8507,2,    15.00,-999.000,5,  495.10,   0.4595
77DN20050819,      AOS05,      43,          3,     283758,         18,2,20050913,       0127,    89.9867,    31.8665,       4248,   598.6,   0.2129,  34.8645,2,  34.8658,2,    305.3,2,   307.4,2,    5.43,2,   11.90,2,    0.00,2,    0.86,2,   5.067,2,   2.547,2,   0.297,2,-999.0000,9,  2162.1,2,  2291.3,2,   7.8461,2,    15.00,-999.000,5,  598.60,   0.1873
77DN20050819,      AOS05,      43,          3,     283757,         17,2,20050913,       0127,    89.9867,    31.8665,       4248,   747.5,  -0.0948,  34.8650,2,  34.8644,2,    307.3,2,   309.3,3,    5.71,2,   11.90,2,    0.00,2,    0.86,2,   5.339,2,   2.641,2,   0.390,2,-999.0000,9,  2172.5,2,  2291.0,2,   7.8351,2,    15.00,-999.000,5,  747.50,  -0.1259
77DN20050819,      AOS05,      43,          3,     283756,         16,2,20050913,       0127,    89.9867,    31.8665,       4248,   896.4,  -0.2605,  34.8723,2,  34.8721,2,    307.4,2,   308.7,2,    5.90,2,   12.00,2,    0.00,2,    0.87,2,   5.300,2,   2.625,2,   0.318,2,-999.0000,9,  2169.8,2,  2291.0,2,   7.8316,2,    15.00,-999.000,5,  896.40,  -0.2978
77DN20050819,      AOS05,      43,          3,     283755,         15,2,20050913,       0127,    89.9867,    31.8665,       4248,  1099.1,  -0.4008,  34.8846,2,  34.8847,2,    306.8,2,   307.7,2,    6.63,2,   12.40,2,    0.00,2,    0.90,2,   4.621,2,   2.285,2,   0.208,2,-999.0000,9,  2167.7,2,  2293.1,2,   7.8299,2,    15.00,-999.000,5, 1099.10,  -0.4472
77DN20050819,      AOS05,      43,          3,     283754,         14,2,20050913,       0127,    89.9867,    31.8665,       4248,  1298.2,  -0.4841,  34.8978,2,  34.8973,2,    304.9,2,   305.6,2,    7.62,2,   12.90,2,    0.00,2,    0.93,2,   3.340,2,   1.701,2,   0.171,2,-999.0000,9,  2168.1,2,  2292.2,2,   7.8336,2,    15.00,-999.000,5, 1298.20,  -0.5403
77DN20050819,      AOS05,      43,          3,     283753,         13,2,20050913,       0127,    89.9867,    31.8665,       4248,  1497.6,  -0.5494,  34.9090,2,  34.9086,2,    301.9,2,   302.3,2,    8.80,2,   13.62,2,    0.00,2,    0.97,2,   2.366,2,   1.117,2,   0.078,2,-999.0000,9,  2172.3,2,  2294.0,2,   7.8462,2,    15.00,-999.000,5, 1497.60,  -0.6161
77DN20050819,      AOS05,      43,          3,     283752,         12,2,20050913,       0127,    89.9867,    31.8665,       4248,  1701.1,  -0.6179,  34.9155,2,  34.9157,2,    298.9,2,   300.2,2,    9.71,2,   14.07,2,    0.00,2,    0.99,2,   1.452,2,   0.736,2,   0.081,2,-999.0000,9,  2183.4,2,  2293.2,2,   7.8530,2,    15.00,-999.000,5, 1701.10,  -0.6959
77DN20050819,      AOS05,      43,          3,     283751,         11,2,20050913,       0127,    89.9867,    31.8665,       4248,  1850.9,  -0.6615,  34.9168,2,  34.9168,2,    298.2,2,   299.8,2,    9.98,2,   14.21,2,    0.00,2,    1.01,2,   1.095,2,   0.597,2,   0.063,2,-999.0000,9,  2158.2,2,  2291.9,2,   7.8546,2,    15.00,-999.000,5, 1850.90,  -0.7481
77DN20050819,      AOS05,      43,          3,     283750,         10,2,20050913,       0127,    89.9867,    31.8665,       4248,  1990.6,  -0.6883,  34.9192,2,  34.9202,2,    298.2,2,   299.2,2,   10.18,2,   14.31,2,    0.00,2,    1.02,2,-999.000,5,-999.000,5,-999.000,5,-999.0000,9,  2156.2,2,  2290.0,2,   7.8575,2,    15.00,-999.000,5, 1990.60,  -0.7834
77DN20050819,      AOS05,      43,          3,     283749,          9,2,20050913,       0127,    89.9867,    31.8665,       4248,  2294.8,  -0.7428,  34.9227,2,  34.9230,2,    298.1,2,   299.8,2,   10.55,2,   14.47,2,    0.00,2,    1.02,2,   0.535,2,   0.301,2,   0.000,2,-999.0000,9,  2158.2,2,  2291.2,2,   7.8601,2,    15.00,-999.000,5, 2294.80,  -0.8575
77DN20050819,      AOS05,      43,          3,     283748,          8,2,20050913,       0127,    89.9867,    31.8665,       4248,  2595.4,  -0.7624,  34.9271,2,  34.9271,2,    298.2,2,   299.6,2,   10.75,2,   14.51,2,    0.00,2,    1.02,2,   0.337,2,   0.181,2,   0.004,2,-999.0000,9,  2158.4,2,  2291.0,2,   7.8668,2,    15.00,-999.000,5, 2595.40,  -0.8985
77DN20050819,      AOS05,      43,          3,     283747,          7,2,20050913,       0127,    89.9867,    31.8665,       4248,  3001.4,  -0.7568,  34.9332,2,  34.9332,2,    297.7,2,   299.9,3,   10.94,2,   14.56,2,    0.00,2,    1.03,2,   0.202,2,   0.102,2,   0.000,2,-999.0000,9,  2157.9,2,  2293.6,2,   7.8711,2,    15.00,-999.000,5, 3001.40,  -0.9245
77DN20050819,      AOS05,      43,          3,     283746,          6,2,20050913,       0127,    89.9867,    31.8665,       4248,  3408.6,  -0.7363,  34.9383,2,  34.9387,2,    297.3,2,   298.4,2,   10.95,2,   14.40,2,    0.00,2,    1.03,2,   0.110,2,   0.098,2,   0.000,2,-999.0000,9,  2150.4,2,  2293.8,2,   7.8742,2,    15.00,-999.000,5, 3408.60,  -0.9388
77DN20050819,      AOS05,      43,          3,     283745,          5,2,20050913,       0127,    89.9867,    31.8665,       4248,  3817.1,  -0.7044,  34.9423,2,  34.9425,2,    297.5,2,   298.5,2,   10.96,2,   14.45,2,    0.00,2,    1.02,2,   0.117,2,   0.074,2,   0.000,2,-999.0000,9,  2152.9,2,  2296.9,2,   7.8764,2,    15.00,-999.000,5, 3817.10,  -0.9446
77DN20050819,      AOS05,      43,          3,     283744,          4,2,20050913,       0127,    89.9867,    31.8665,       4248,  4019.6,  -0.6803,  34.9437,2,  34.9440,2,    297.3,2,   299.1,2,   11.07,2,   14.40,2,    0.00,2,    1.02,2,   0.112,2,   0.068,2,   0.000,2,-999.0000,9,  2146.5,2,  2296.4,2,   7.8770,6,    15.00,-999.000,5, 4019.60,  -0.9405
77DN20050819,      AOS05,      43,          3,     283743,          3,2,20050913,       0127,    89.9867,    31.8665,       4248,  4308.0,  -0.6507,  34.9436,2,-999.0000,9,   -999.0,9,  -999.0,9, -999.00,9, -999.00,9, -999.00,9, -999.00,9,-999.000,9,-999.000,9,-999.000,9,-999.0000,9,  -999.0,9,  -999.0,9,-999.0000,9,  -999.00,-999.000,9, 4308.00,  -0.9401
77DN20050819,      AOS05,      43,          3,     283742,          2,2,20050913,       0127,    89.9867,    31.8665,       4248,  4308.0,  -0.6508,  34.9436,2,-999.0000,9,   -999.0,9,  -999.0,9, -999.00,9, -999.00,9, -999.00,9, -999.00,9,-999.000,9,-999.000,9,-999.000,9,-999.0000,9,  -999.0,9,  -999.0,9,-999.0000,9,  -999.00,-999.000,9, 4308.00,  -0.9402
77DN20050819,      AOS05,      43,          3,     283741,          1,2,20050913,       0127,    89.9867,    31.8665,       4248,  4308.0,  -0.6508,  34.9435,2,  34.9440,2,    296.3,3,   298.6,2,   10.90,2,   14.39,2,    0.00,2,    1.02,2,   0.097,2,   0.073,2,   0.000,2,-999.0000,9,  2154.5,2,  2300.6,2,   7.8809,2,    15.00,-999.000,5, 4308.00,  -0.9403