BOTTLE,20211025CCHSIORKP
EXPOCODE,SECT_ID,STNNBR,CASTNO,SAMPNO,BTLNBR,BTLNBR_FLAG_W,DATE,TIME,LATITUDE,LONGITUDE,DEPTH,CTDPRS,CTDTMP,CTDSAL,CTDSAL_FLAG_W,SALNTY,SALNTY_FLAG_W,CTDOXY,CTDOXY_FLAG_W,OXYGEN,OXYGEN_FLAG_W,SILCAT,SILCAT_FLAG_W,NITRAT,NITRAT_FLAG_W,NITRIT,NITRIT_FLAG_W,PHSPHT,PHSPHT_FLAG_W,CFC-11,CFC-11_FLAG_W,CFC-12,CFC-12_FLAG_W,CFC113,CFC113_FLAG_W,SF6,SF6_FLAG_W,TCARBN,TCARBN_FLAG_W,ALKALI,ALKALI_FLAG_W,PH_SWS,PH_SWS_FLAG_W,PH_TMP,CCL4,CCL4_FLAG_W,CTDRAW,THETA
,,,,,,,,,,,METERS,DBAR,ITS-90,PSS-78,,PSS-78,,UMOL/KG,,UMOL/KG,,UMOL/KG,,UMOL/KG,,UMOL/KG,,UMOL/KG,,PMOL/KG,,PMOL/KG,,PMOL/KG,,FMOL/KG,,UMOL/KG,,UMOL/KG,,,,DEG C,PMOL/KG,,DBAR,DEG C
77DN20050819,      AOS05,      47,          3,     283920,         36,2,20050915,       2055,    88.0452,    58.4737,       4377,     2.1,  -1.7849,  32.7305,2,  32.7324,2,    378.4,2,   378.0,2,    3.80,2,    2.86,2,    0.02,2,    0.45,2,-999.000,9,-999.000,9,-999.000,9,-999.0000,9,  -999.0,9,  -999.0,9,-999.0000,9,  -999.00,-999.000,9,    2.10,  -1.7849
77DN20050819,      AOS05,      47,          3,     283919,         35,2,20050915,       2055,    88.0452,    58.4737,       4377,     9.7,  -1.7853,  32.7304,2,-999.0000,9,   -999.0,9,  -999.0,9, -999.00,9, -999.00,9, -999.00,9, -999.00,9,-999.000,9,-999.000,9,-999.000,9,-999.0000,9,  -999.0,9,  -999.0,9,-999.0000,9,  -999.00,-999.000,9,    9.70,  -1.7854
77DN20050819,      AOS05,      47,          3,     283918,         34,2,20050915,       2055,    88.0452,    58.4737,       4377,     9.7,  -1.7853,  32.7307,2,-999.0000,9,   -999.0,9,  -999.0,9, -999.00,9, -999.00,9, -999.00,9, -999.00,9,-999.000,9,-999.000,9,-999.000,9,-999.0000,9,  -999.0,9,  -999.0,9,-999.0000,9,  -999.00,-999.000,9,    9.70,  -1.7854
77DN20050819,      AOS05,      47,          3,     283917,         33,2,20050915,       2055,    88.0452,    58.4737,       4377,     9.7,  -1.7853,  32.7312,2,-999.0000,9,   -999.0,9,  -999.0,9, -999.00,9, -999.00,9, -999.00,9, -999.00,9,-999.000,9,-999.000,9,-999.000,9,-999.0000,9,  -999.0,9,  -999.0,9,-999.0000,9,  -999.00,-999.000,9,    9.70,  -1.7854
77DN20050819,      AOS05,      47,          3,     283916,         32,2,20050915,       2055,    88.0452,    58.4737,       4377,     9.7,  -1.7852,  32.7309,2,  32.7115,2,    377.2,2,   378.3,2,    3.82,2,    2.85,2,    0.02,2,    0.45,2,   7.626,2,   4.108,2,   0.850,2,   1.9700,2,  2134.2,2,  2240.1,2,   7.8297,2,    15.00,-999.000,5,    9.70,  -1.7854
77DN20050819,      AOS05,      47,          3,     283915,         31,2,20050915,       2055,    88.0452,    58.4737,       4377,    20.1,  -1.7853,  32.7353,2,-999.0000,9,   -999.0,9,  -999.0,9, -999.00,9, -999.00,9, -999.00,9, -999.00,9,-999.000,9,-999.000,9,-999.000,9,-999.0000,9,  -999.0,9,  -999.0,9,-999.0000,9,  -999.00,-999.000,9,   20.10,  -1.7857
77DN20050819,      AOS05,      47,          3,     283914,         30,2,20050915,       2055,    88.0452,    58.4737,       4377,    20.1,  -1.7854,  32.7354,2,-999.0000,9,   -999.0,9,  -999.0,9, -999.00,9, -999.00,9, -999.00,9, -999.00,9,-999.000,9,-999.000,9,-999.000,9,-999.0000,9,  -999.0,9,  -999.0,9,-999.0000,9,  -999.00,-999.000,9,   20.10,  -1.7857
77DN20050819,      AOS05,      47,          3,     283913,         29,2,20050915,       2055,    88.0452,    58.4737,       4377,    20.1,  -1.7853,  32.7345,2,-999.0000,9,   -999.0,9,  -999.0,9, -999.00,9, -999.00,9, -999.00,9, -999.00,9,-999.000,9,-999.000,9,-999.000,9,-999.0000,9,  -999.0,9,  -999.0,9,-999.0000,9,  -999.00,-999.000,9,   20.10,  -1.7856
77DN20050819,      AOS05,      47,          3,     283912,         28,2,20050915,       2055,    88.0452,    58.4737,       4377,    20.1,  -1.7853,  32.7338,2,-999.0000,9,   -999.0,9,  -999.0,9, -999.00,9, -999.00,9, -999.00,9, -999.00,9,-999.000,9,-999.000,9,-999.000,9,-999.0000,9,  -999.0,9,  -999.0,9,-999.0000,9,  -999.00,-999.000,9,   20.10,  -1.7857
77DN20050819,      AOS05,      47,          3,     283911,         27,2,20050915,       2055,    88.0452,    58.4737,       4377,    20.1,  -1.7853,  32.7332,2,-999.0000,9,   -999.0,9,  -999.0,9, -999.00,9, -999.00,9, -999.00,9, -999.00,9,-999.000,9,-999.000,9,-999.000,9,-999.0000,9,  -999.0,9,  -999.0,9,-999.0000,9,  -999.00,-999.000,9,   20.10,  -1.7856
77DN20050819,      AOS05,      47,          3,     283910,         26,2,20050915,       2055,    88.0452,    58.4737,       4377,    20.1,  -1.7853,  32.7334,2,-999.0000,9,   -999.0,9,  -999.0,9, -999.00,9, -999.00,9, -999.00,9, -999.00,9,-999.000,9,-999.000,9,-999.000,9,-999.0000,9,  -999.0,9,  -999.0,9,-999.0000,9,  -999.00,-999.000,9,   20.10,  -1.7856
77DN20050819,      AOS05,      47,          3,     283909,         25,2,20050915,       2055,    88.0452,    58.4737,       4377,    20.1,  -1.7853,  32.7339,2,-999.0000,9,   -999.0,9,  -999.0,9, -999.00,9, -999.00,9, -999.00,9, -999.00,9,-999.000,9,-999.000,9,-999.000,9,-999.0000,9,  -999.0,9,  -999.0,9,-999.0000,9,  -999.00,-999.000,9,   20.10,  -1.7857
77DN20050819,      AOS05,      47,          3,     283908,         24,2,20050915,       2055,    88.0452,    58.4737,       4377,    20.1,  -1.7853,  32.7327,2,  32.7341,2,    375.7,2,   378.1,2,    3.75,2,    2.80,2,    0.02,2,    0.45,2,   7.824,2,   4.085,2,   0.830,2,-999.0000,9,  2133.3,2,  2239.7,2,   7.8308,6,    15.00,-999.000,5,   20.10,  -1.7856
77DN20050819,      AOS05,      47,          3,     283907,         23,2,20050915,       2055,    88.0452,    58.4737,       4377,    30.0,  -1.7854,  32.7535,2,-999.0000,9,   -999.0,9,  -999.0,9, -999.00,9, -999.00,9, -999.00,9, -999.00,9,-999.000,9,-999.000,9,-999.000,9,-999.0000,9,  -999.0,9,  -999.0,9,-999.0000,9,  -999.00,-999.000,9,   30.00,  -1.7858
77DN20050819,      AOS05,      47,          3,     283906,         22,2,20050915,       2055,    88.0452,    58.4737,       4377,    30.0,  -1.7853,  32.7540,2,  32.7622,2,    374.0,2,   377.9,2,    3.77,2,    2.90,2,    0.02,2,    0.45,2,   7.733,2,   4.093,2,   0.841,2,-999.0000,9,  2131.4,2,  2239.4,2,   7.8306,2,    15.00,-999.000,5,   30.00,  -1.7858
77DN20050819,      AOS05,      47,          3,     283905,         21,2,20050915,       2055,    88.0452,    58.4737,       4377,    39.0,  -1.7817,  32.8078,2,-999.0000,9,   -999.0,9,  -999.0,9, -999.00,9, -999.00,9, -999.00,9, -999.00,9,-999.000,9,-999.000,9,-999.000,9,-999.0000,9,  -999.0,9,  -999.0,9,-999.0000,9,  -999.00,-999.000,9,   39.00,  -1.7824
77DN20050819,      AOS05,      47,          3,     283904,         20,2,20050915,       2055,    88.0452,    58.4737,       4377,    39.0,  -1.7822,  32.8001,2,  33.0448,2,    372.8,2,   372.2,2,    4.14,2,    3.49,2,    0.01,2,    0.50,2,-999.000,9,-999.000,9,-999.000,9,-999.0000,9,  2156.4,2,  2261.0,2,   7.8166,2,    15.00,-999.000,9,   39.00,  -1.7829
77DN20050819,      AOS05,      47,          3,     283903,         19,2,20050915,       2055,    88.0452,    58.4737,       4377,    49.2,  -1.7897,  33.2592,2,-999.0000,9,   -999.0,9,  -999.0,9, -999.00,9, -999.00,9, -999.00,9, -999.00,9,-999.000,9,-999.000,9,-999.000,9,-999.0000,9,  -999.0,9,  -999.0,9,-999.0000,9,  -999.00,-999.000,9,   49.20,  -1.7905
77DN20050819,      AOS05,      47,          3,     283901,         17,2,20050915,       2055,    88.0452,    58.4737,       4377,    49.2,  -1.7895,  33.2582,2,-999.0000,9,   -999.0,9,  -999.0,9, -999.00,9, -999.00,9, -999.00,9, -999.00,9,-999.000,9,-999.000,9,-999.000,9,-999.0000,9,  -999.0,9,  -999.0,9,-999.0000,9,  -999.00,-999.000,9,   49.20,  -1.7903
77DN20050819,      AOS05,      47,          3,     283900,         16,2,20050915,       2055,    88.0452,    58.4737,       4377,    49.2,  -1.7888,  33.2551,2,  33.2695,2,    363.9,2,   367.8,2,    4.25,2,    4.00,2,    0.00,2,    0.51,2,   6.877,2,   3.830,2,   0.767,2,   2.3600,2,  2167.4,2,  2270.8,2,   7.8139,2,    15.00,-999.000,5,   49.20,  -1.7897
77DN20050819,      AOS05,      47,          3,     283902,         18,2,20050915,       2055,    88.0452,    58.4737,       4377,    49.3,  -1.7895,  33.2582,2,-999.0000,9,   -999.0,9,  -999.0,9, -999.00,9, -999.00,9, -999.00,9, -999.00,9,-999.000,9,-999.000,9,-999.000,9,-999.0000,9,  -999.0,9,  -999.0,9,-999.0000,9,  -999.00,-999.000,9,   49.30,  -1.7904
77DN20050819,      AOS05,      47,          3,     283896,         12,2,20050915,       2055,    88.0452,    58.4737,       4377,    59.6,  -1.7761,  33.3838,2,  33.4295,2,    358.4,2,   351.2,2,    4.89,2,    5.15,2,    0.00,2,    0.56,2,   7.302,2,   3.936,2,   0.716,2,-999.0000,9,  2164.8,2,  2268.7,2,   7.8131,2,    15.00,-999.000,5,   59.60,  -1.7772
77DN20050819,      AOS05,      47,          3,     283899,         15,2,20050915,       2055,    88.0452,    58.4737,       4377,    59.6,  -1.7766,  33.3824,2,-999.0000,9,   -999.0,9,  -999.0,9, -999.00,9, -999.00,9, -999.00,9, -999.00,9,-999.000,9,-999.000,9,-999.000,9,-999.0000,9,  -999.0,9,  -999.0,9,-999.0000,9,  -999.00,-999.000,9,   59.60,  -1.7777
77DN20050819,      AOS05,      47,          3,     283898,         14,2,20050915,       2055,    88.0452,    58.4737,       4377,    59.6,  -1.7768,  33.3817,2,-999.0000,9,   -999.0,9,  -999.0,9, -999.00,9, -999.00,9, -999.00,9, -999.00,9,-999.000,9,-999.000,9,-999.000,9,-999.0000,9,  -999.0,9,  -999.0,9,-999.0000,9,  -999.00,-999.000,9,   59.60,  -1.7779
77DN20050819,      AOS05,      47,          3,     283897,         13,2,20050915,       2055,    88.0452,    58.4737,       4377,    59.6,  -1.7766,  33.3827,2,-999.0000,9,   -999.0,9,  -999.0,9, -999.00,9, -999.00,9, -999.00,9, -999.00,9,-999.000,9,-999.000,9,-999.000,9,-999.0000,9,  -999.0,9,  -999.0,9,-999.0000,9,  -999.00,-999.000,9,   59.60,  -1.7776
77DN20050819,      AOS05,      47,          3,     283895,         11,2,20050915,       2055,    88.0452,    58.4737,       4377,    69.0,  -1.7175,  33.6221,2,-999.0000,9,   -999.0,9,  -999.0,9, -999.00,9, -999.00,9, -999.00,9, -999.00,9,-999.000,9,-999.000,9,-999.000,9,-999.0000,9,  -999.0,9,  -999.0,9,-999.0000,9,  -999.00,-999.000,9,   69.00,  -1.7188
77DN20050819,      AOS05,      47,          3,     283894,         10,2,20050915,       2055,    88.0452,    58.4737,       4377,    69.0,  -1.7134,  33.6395,2,  33.6859,2,    345.7,2,   332.4,2,    5.26,2,    6.76,2,    0.00,2,    0.62,2,-999.000,9,-999.000,9,-999.000,9,-999.0000,9,  2160.9,2,  2266.2,2,   7.8058,2,    15.00,-999.000,9,   69.00,  -1.7147
77DN20050819,      AOS05,      47,          3,     283893,          9,2,20050915,       2055,    88.0452,    58.4737,       4377,    84.2,  -1.6288,  33.9163,2,  33.9707,2,    327.3,2,   323.6,2,    4.93,2,    7.57,2,    0.00,2,    0.65,2,   6.805,2,   3.365,2,   0.596,2,   1.4900,2,  2154.5,2,  2268.0,2,   7.8186,2,    15.00,-999.000,5,   84.20,  -1.6305
77DN20050819,      AOS05,      47,          3,     283892,          8,2,20050915,       2055,    88.0452,    58.4737,       4377,    99.6,  -1.5307,  34.1179,2,-999.0000,9,   -999.0,9,  -999.0,9, -999.00,9, -999.00,9, -999.00,9, -999.00,9,-999.000,9,-999.000,9,-999.000,9,-999.0000,9,  -999.0,9,  -999.0,9,-999.0000,9,  -999.00,-999.000,9,   99.60,  -1.5329
77DN20050819,      AOS05,      47,          3,     283891,          7,2,20050915,       2055,    88.0452,    58.4737,       4377,    99.6,  -1.5308,  34.1178,2,  34.1398,2,    320.8,2,   324.8,2,    4.41,2,    7.94,2,    0.00,2,    0.65,2,-999.000,9,-999.000,9,-999.000,9,-999.0000,9,  2158.9,2,  2266.3,2,   7.8384,2,    15.00,-999.000,9,   99.60,  -1.5330
77DN20050819,      AOS05,      47,          3,     283890,          6,2,20050915,       2055,    88.0452,    58.4737,       4377,   119.8,  -1.2940,  34.2341,2,  34.2600,2,    316.9,2,   322.0,2,    3.98,2,    8.52,2,    0.00,2,    0.66,2,   6.559,2,   3.232,2,   0.529,2,-999.0000,9,  2153.6,2,  2269.3,2,   7.8466,2,    15.00,-999.000,5,  119.80,  -1.2969
77DN20050819,      AOS05,      47,          3,     283887,          3,2,20050915,       2055,    88.0452,    58.4737,       4377,   140.0,  -0.7952,  34.3469,2,  34.3720,2,    313.4,2,   314.2,2,    4.45,2,    9.44,2,    0.00,2,    0.72,2,-999.000,9,-999.000,9,-999.000,9,-999.0000,9,  2151.9,2,  2271.5,2,   7.8458,6,    15.00,-999.000,9,  140.00,  -0.7993
77DN20050819,      AOS05,      47,          3,     283889,          5,2,20050915,       2055,    88.0452,    58.4737,       4377,   140.1,  -0.8149,  34.3440,2,-999.0000,9,   -999.0,9,  -999.0,9, -999.00,9, -999.00,9, -999.00,9, -999.00,9,-999.000,9,-999.000,9,-999.000,9,-999.0000,9,  -999.0,9,  -999.0,9,-999.0000,9,  -999.00,-999.000,9,  140.10,  -0.8190
77DN20050819,      AOS05,      47,          3,     283888,          4,2,20050915,       2055,    88.0452,    58.4737,       4377,   140.1,  -0.8036,  34.3469,2,-999.0000,9,   -999.0,9,  -999.0,9, -999.00,9, -999.00,9, -999.00,9, -999.00,9,-999.000,9,-999.000,9,-999.000,9,-999.0000,9,  -999.0,9,  -999.0,9,-999.0000,9,  -999.00,-999.000,9,  140.10,  -0.8076
77DN20050819,      AOS05,      47,          3,     283886,          2,2,20050915,       2055,    88.0452,    58.4737,       4377,   160.2,  -0.2174,  34.4652,2,  34.4875,2,    304.9,2,   305.4,2,    4.99,2,   10.45,2,    0.00,2,    0.78,2,   5.363,2,   2.659,2,   0.416,2,   0.9600,2,  2154.6,2,  2274.5,2,   7.8394,2,    15.00,-999.000,5,  160.20,  -0.2229
77DN20050819,      AOS05,      47,          3,     283885,          1,2,20050915,       2055,    88.0452,    58.4737,       4377,   200.1,   0.7275,  34.6717,2,-999.0000,9,   -999.0,9,  -999.0,9, -999.00,9, -999.00,9, -999.00,9, -999.00,9,-999.000,9,-999.000,9,-999.000,9,-999.0000,9,  -999.0,9,  -999.0,9,-999.0000,9,  -999.00,-999.000,9,  200.10,   0.7188