BOTTLE,20211025CCHSIORKP
EXPOCODE,SECT_ID,STNNBR,CASTNO,SAMPNO,BTLNBR,BTLNBR_FLAG_W,DATE,TIME,LATITUDE,LONGITUDE,DEPTH,CTDPRS,CTDTMP,CTDSAL,CTDSAL_FLAG_W,SALNTY,SALNTY_FLAG_W,CTDOXY,CTDOXY_FLAG_W,OXYGEN,OXYGEN_FLAG_W,SILCAT,SILCAT_FLAG_W,NITRAT,NITRAT_FLAG_W,NITRIT,NITRIT_FLAG_W,PHSPHT,PHSPHT_FLAG_W,CFC-11,CFC-11_FLAG_W,CFC-12,CFC-12_FLAG_W,CFC113,CFC113_FLAG_W,SF6,SF6_FLAG_W,TCARBN,TCARBN_FLAG_W,ALKALI,ALKALI_FLAG_W,PH_SWS,PH_SWS_FLAG_W,PH_TMP,CCL4,CCL4_FLAG_W,CTDRAW,THETA
,,,,,,,,,,,METERS,DBAR,ITS-90,PSS-78,,PSS-78,,UMOL/KG,,UMOL/KG,,UMOL/KG,,UMOL/KG,,UMOL/KG,,UMOL/KG,,PMOL/KG,,PMOL/KG,,PMOL/KG,,FMOL/KG,,UMOL/KG,,UMOL/KG,,,,DEG C,PMOL/KG,,DBAR,DEG C
77DN20050819,      AOS05,      26,          1,     283296,         36,2,20050904,       1904,    86.5427,   174.2220,       3979,     2.1,  -1.7085,  31.4711,2,  31.4722,2,    394.3,2,   396.0,2,    3.40,2,    0.73,2,    0.04,2,    0.30,2,-999.000,9,-999.000,9,-999.000,9,-999.0000,9,  -999.0,9,  -999.0,9,-999.0000,9,  -999.00,-999.000,9,    2.10,  -1.7085
77DN20050819,      AOS05,      26,          1,     283295,         35,2,20050904,       1904,    86.5427,   174.2220,       3979,     9.5,  -1.7124,  31.4720,2,-999.0000,9,   -999.0,9,  -999.0,9, -999.00,9, -999.00,9, -999.00,9, -999.00,9,-999.000,9,-999.000,9,-999.000,9,-999.0000,9,  -999.0,9,  -999.0,9,-999.0000,9,  -999.00,-999.000,9,    9.50,  -1.7125
77DN20050819,      AOS05,      26,          1,     283294,         34,2,20050904,       1904,    86.5427,   174.2220,       3979,     9.5,  -1.7124,  31.4719,2,-999.0000,9,   -999.0,9,  -999.0,9, -999.00,9, -999.00,9, -999.00,9, -999.00,9,-999.000,9,-999.000,9,-999.000,9,-999.0000,9,  -999.0,9,  -999.0,9,-999.0000,9,  -999.00,-999.000,9,    9.50,  -1.7125
77DN20050819,      AOS05,      26,          1,     283293,         33,2,20050904,       1904,    86.5427,   174.2220,       3979,     9.5,  -1.7124,  31.4717,2,  31.4763,2,    394.7,2,   396.6,2,    3.33,2,    0.68,2,    0.04,2,    0.30,2,   7.281,2,   4.034,2,   0.690,2,-999.0000,9,  2058.6,2,  2197.2,2,   7.8660,2,    15.00,   7.066,2,    9.50,  -1.7125
77DN20050819,      AOS05,      26,          1,     283292,         32,2,20050904,       1904,    86.5427,   174.2220,       3979,    24.6,  -1.7022,  31.6406,2,  31.9032,2,    394.8,2,   395.4,2,    2.63,2,    1.05,2,    0.05,2,    0.32,2,-999.000,9,-999.000,9,-999.000,9,-999.0000,9,  2079.8,2,  2212.9,2,   7.8655,2,    15.00,-999.000,9,   24.60,  -1.7026
77DN20050819,      AOS05,      26,          1,     283291,         31,2,20050904,       1904,    86.5427,   174.2220,       3979,    43.9,  -1.7299,  32.5356,2,  32.5777,2,    386.2,2,   384.0,2,    2.83,2,    2.40,2,    0.06,2,    0.39,2,-999.000,5,-999.000,5,-999.000,5,-999.0000,9,  2123.3,2,  2246.4,2,   7.8389,2,    15.00,-999.000,5,   43.90,  -1.7306
77DN20050819,      AOS05,      26,          1,     283290,         30,2,20050904,       1904,    86.5427,   174.2220,       3979,    63.0,  -1.7764,  32.9084,2,  32.9376,2,    375.6,2,   371.2,2,    3.67,2,    3.51,2,    0.02,2,    0.47,2,-999.000,9,-999.000,9,-999.000,9,-999.0000,9,  2149.4,2,  2264.7,2,   7.8158,2,    15.00,-999.000,9,   63.00,  -1.7774
77DN20050819,      AOS05,      26,          1,     283288,         28,2,20050904,       1904,    86.5427,   174.2220,       3979,    73.4,  -1.7671,  33.0715,2,-999.0000,9,   -999.0,9,  -999.0,9, -999.00,9, -999.00,9, -999.00,9, -999.00,9,-999.000,9,-999.000,9,-999.000,9,-999.0000,9,  -999.0,9,  -999.0,9,-999.0000,9,  -999.00,-999.000,9,   73.40,  -1.7684
77DN20050819,      AOS05,      26,          1,     283287,         27,2,20050904,       1904,    86.5427,   174.2220,       3979,    73.4,  -1.7678,  33.0659,2,  33.1355,2,    368.1,2,   350.4,2,    5.04,2,    5.05,2,    0.01,2,    0.57,2,   7.311,2,   3.920,2,   0.597,2,-999.0000,9,  2159.9,2,  2265.1,2,   7.7864,2,    15.00,   5.942,2,   73.40,  -1.7691
77DN20050819,      AOS05,      26,          1,     283289,         29,2,20050904,       1904,    86.5427,   174.2220,       3979,    73.4,  -1.7650,  33.0776,2,-999.0000,9,   -999.0,9,  -999.0,9, -999.00,9, -999.00,9, -999.00,9, -999.00,9,-999.000,9,-999.000,9,-999.000,9,-999.0000,9,  -999.0,9,  -999.0,9,-999.0000,9,  -999.00,-999.000,9,   73.40,  -1.7663
77DN20050819,      AOS05,      26,          1,     283286,         26,2,20050904,       1904,    86.5427,   174.2220,       3979,    83.7,  -1.7072,  33.4120,2,  33.5167,2,    344.1,2,   327.2,2,    5.60,2,    6.86,2,    0.00,2,    0.65,2,   7.161,2,   3.737,2,   0.547,2,-999.0000,9,  2164.2,2,  2264.8,2,   7.7797,6,    15.00,   5.306,2,   83.70,  -1.7088
77DN20050819,      AOS05,      26,          1,     283285,         25,2,20050904,       1904,    86.5427,   174.2220,       3979,    94.1,  -1.6501,  33.7063,2,  33.7663,2,    326.6,2,   319.9,2,    5.44,2,    7.75,2,    0.01,2,    0.66,2,-999.000,9,-999.000,9,-999.000,9,-999.0000,9,  2157.8,2,  2269.0,2,   7.7912,2,    15.00,-999.000,9,   94.10,  -1.6520
77DN20050819,      AOS05,      26,          1,     283284,         24,2,20050904,       1904,    86.5427,   174.2220,       3979,   104.4,  -1.5842,  33.9388,2,  33.9842,2,    315.9,2,   316.1,2,    5.01,2,    8.32,2,    0.00,2,    0.68,2,-999.000,5,-999.000,5,-999.000,5,-999.0000,9,  2160.6,2,  2269.4,2,   7.8031,2,    15.00,-999.000,5,  104.40,  -1.5864
77DN20050819,      AOS05,      26,          1,     283283,         23,2,20050904,       1904,    86.5427,   174.2220,       3979,   124.6,  -1.2665,  34.1903,2,  34.2128,2,    310.4,2,   312.7,2,    4.58,2,    9.01,2,    0.00,2,    0.70,2,   6.293,2,   3.301,2,   0.445,2,-999.0000,9,  2153.5,2,  2279.3,2,   7.8220,2,    15.00,   5.080,2,  124.60,  -1.2695
77DN20050819,      AOS05,      26,          1,     283282,         22,2,20050904,       1904,    86.5427,   174.2220,       3979,   139.9,  -0.8795,  34.2995,2,  34.3178,2,    307.5,2,   309.4,2,    4.79,2,    9.66,2,    0.00,2,    0.73,2,-999.000,9,-999.000,9,-999.000,9,-999.0000,9,  2157.3,2,  2280.9,2,   7.8275,2,    15.00,-999.000,9,  139.90,  -0.8834
77DN20050819,      AOS05,      26,          1,     283281,         21,2,20050904,       1904,    86.5427,   174.2220,       3979,   160.2,  -0.3908,  34.4223,2,  34.4374,2,    300.5,2,   301.0,2,    5.53,2,   10.54,2,    0.00,2,    0.78,2,   5.364,2,   2.683,2,   0.336,2,-999.0000,9,  2157.0,2,  2280.2,2,   7.8286,2,    15.00,   5.658,2,  160.20,  -0.3961
77DN20050819,      AOS05,      26,          1,     283280,         20,3,20050904,       1904,    86.5427,   174.2220,       3979,   180.5,   0.0288,  34.5303,2,-999.0000,9,   -999.0,9,  -999.0,9, -999.00,9, -999.00,9, -999.00,9, -999.00,9,-999.000,9,-999.000,9,-999.000,9,-999.0000,9,  -999.0,9,  -999.0,9,-999.0000,9,  -999.00,-999.000,9,  180.50,   0.0221
77DN20050819,      AOS05,      26,          1,     283279,         19,2,20050904,       1904,    86.5427,   174.2220,       3979,   200.7,   0.4074,  34.6344,2,  34.6430,2,    293.2,2,   293.8,2,    6.18,2,   11.84,2,    0.00,2,    0.84,2,   4.252,2,   2.028,2,   0.244,2,-999.0000,9,  2157.2,2,  2285.7,2,   7.8436,2,    15.00,   4.784,2,  200.70,   0.3993
77DN20050819,      AOS05,      26,          1,     283278,         18,2,20050904,       1904,    86.5427,   174.2220,       3979,   221.1,   0.6516,  34.7181,2,  34.7327,2,    291.7,2,   293.6,2,    6.11,2,   12.25,2,    0.00,2,    0.85,2,-999.000,5,-999.000,5,-999.000,5,-999.0000,9,  2156.0,2,  2289.7,6,   7.8565,2,    15.00,-999.000,5,  221.10,   0.6422
77DN20050819,      AOS05,      26,          1,     283277,         17,2,20050904,       1904,    86.5427,   174.2220,       3979,   276.1,   0.9814,  34.8476,2,  34.8472,2,    296.9,2,   297.8,2,    5.41,2,   12.57,2,    0.00,2,    0.86,2,   4.468,2,   2.329,2,   0.277,2,-999.0000,9,  2154.7,2,  2297.8,2,   7.8712,2,    15.00,   5.822,2,  276.10,   0.9687
77DN20050819,      AOS05,      26,          1,     283276,         16,2,20050904,       1904,    86.5427,   174.2220,       3979,   351.1,   0.8795,  34.8599,2,  34.8624,2,    298.5,2,   299.1,2,    5.53,2,   12.61,2,    0.00,2,    0.87,2,-999.000,5,-999.000,5,-999.000,5,-999.0000,9,  2158.7,2,  2297.0,2,   7.8662,2,    15.00,-999.000,5,  351.10,   0.8633
77DN20050819,      AOS05,      26,          1,     283275,         15,2,20050904,       1904,    86.5427,   174.2220,       3979,   446.6,   0.6113,  34.8629,2,  34.8644,2,    297.4,2,   298.4,2,    5.82,2,   12.65,2,    0.00,2,    0.88,2,   3.721,2,   1.953,2,   0.203,2,-999.0000,9,  2157.2,2,  2293.6,2,   7.8655,2,    15.00,   5.292,2,  446.60,   0.5914
77DN20050819,      AOS05,      26,          1,     283274,         14,2,20050904,       1904,    86.5427,   174.2220,       3979,   549.9,   0.4396,  34.8716,2,  34.8715,2,    297.6,2,   298.3,2,    6.02,2,   12.87,2,    0.00,2,    0.89,2,-999.000,9,-999.000,9,-999.000,9,-999.0000,9,  2154.8,2,  2295.3,2,   7.8687,2,    15.00,-999.000,9,  549.90,   0.4153
77DN20050819,      AOS05,      26,          1,     283273,         13,2,20050904,       1904,    86.5427,   174.2220,       3979,   649.2,   0.2282,  34.8741,2,  34.8741,2,    299.6,2,   300.5,2,    5.95,2,   12.78,2,    0.00,2,    0.89,2,   3.192,2,   1.720,2,   0.164,2,-999.0000,9,  2156.3,2,  2297.5,2,   7.8635,2,    15.00,   4.904,2,  649.20,   0.2001
77DN20050819,      AOS05,      26,          1,     283272,         12,2,20050904,       1904,    86.5427,   174.2220,       3979,   798.4,   0.0187,  34.8816,2,  34.8822,2,    299.7,2,   301.4,2,    6.24,2,   12.72,2,    0.00,2,    0.90,2,   2.693,2,   1.327,2,   0.131,2,-999.0000,9,  2156.6,2,  2296.3,2,   7.8618,2,    15.00,   4.464,2,  798.40,  -9.0056
77DN20050819,      AOS05,      26,          1,     283271,         11,2,20050904,       1904,    86.5427,   174.2220,       3979,   997.7,  -0.1539,  34.8968,2,  34.8970,2,    299.7,2,   300.6,2,    6.81,2,   13.13,2,    0.00,2,    0.92,2,   1.828,2,   0.986,2,   0.078,2,-999.0000,9,  2156.4,2,  2300.1,2,   7.8690,2,    15.00,   3.500,2,  997.70,  -0.1972
77DN20050819,      AOS05,      26,          1,     283270,         10,2,20050904,       1904,    86.5427,   174.2220,       3979,  1200.9,  -0.2698,  34.9116,2,  34.9118,2,    298.8,2,   300.2,2,    7.55,2,   13.40,2,    0.00,2,    0.94,2,   1.039,2,   0.678,2,   0.041,2,-999.0000,9,  2155.1,2,  2300.0,2,   7.8737,2,    15.00,   2.436,2, 1200.90,  -0.3229
77DN20050819,      AOS05,      26,          1,     283269,          9,2,20050904,       1904,    86.5427,   174.2220,       3979,  1395.7,  -0.3435,  34.9253,2,  34.9258,2,    296.6,2,   297.5,2,    8.47,2,   13.86,2,    0.00,2,    0.97,2,   0.438,2,   0.478,2,   0.014,2,-999.0000,9,  2153.0,2,  2299.7,2,   7.8808,2,    15.00,   1.323,2, 1395.70,  -0.4068
77DN20050819,      AOS05,      26,          1,     283268,          8,2,20050904,       1904,    86.5427,   174.2220,       3979,  1639.0,  -0.3870,  34.9399,2,  34.9396,2,    292.4,2,   293.6,2,   10.02,2,   14.17,2,    0.00,2,    1.01,2,   0.285,2,   0.194,2,   0.000,2,-999.0000,9,  2155.0,2,  2302.0,2,   7.8846,2,    15.00,   0.627,2, 1639.00,  -0.4644
77DN20050819,      AOS05,      26,          1,     283267,          7,2,20050904,       1904,    86.5427,   174.2220,       3979,  1938.9,  -0.4080,  34.9502,2,  34.9498,2,    288.9,2,   289.5,2,   11.31,2,   14.58,2,    0.00,2,    1.03,2,   0.050,2,   0.134,2,   0.000,2,-999.0000,9,  2149.4,2,  2292.3,2,   7.8808,2,    15.00,   0.201,2, 1938.90,  -0.5042
77DN20050819,      AOS05,      26,          1,     283266,          6,2,20050904,       1904,    86.5427,   174.2220,       3979,  2243.6,  -0.4003,  34.9545,2,  34.9542,2,    286.9,2,   287.8,2,   11.97,2,   14.71,2,    0.00,2,    1.04,2,-999.000,9,-999.000,9,-999.000,9,-999.0000,9,  2153.8,2,  2311.9,2,   7.8798,2,    15.00,-999.000,9, 2243.60,  -0.5176
77DN20050819,      AOS05,      26,          1,     283265,          5,2,20050904,       1904,    86.5427,   174.2220,       3979,  2544.4,  -0.3835,  34.9562,2,  34.9566,2,    286.1,2,   287.6,2,   12.26,2,   14.75,2,    0.00,2,    1.04,2,   0.028,2,   0.179,2,   0.000,2,-999.0000,9,  2157.7,2,  2301.6,2,   7.8791,2,    15.00,   0.130,2, 2544.40,  -0.5233
77DN20050819,      AOS05,      26,          1,     283264,          4,2,20050904,       1904,    86.5427,   174.2220,       3979,  2879.9,  -0.3640,  34.9567,2,  34.9566,2,    286.9,2,   288.0,2,   12.09,2,   14.74,2,    0.00,2,    1.04,2,   0.021,2,   0.077,2,   0.000,2,-999.0000,9,  2158.7,2,  2306.4,2,   7.8795,2,    15.00,   0.077,2, 2879.90,  -0.5307
77DN20050819,      AOS05,      26,          1,     283263,          3,2,20050904,       1904,    86.5427,   174.2220,       3979,  3286.8,  -0.3366,  34.9566,2,  34.9564,2,    288.7,2,   289.5,2,   11.67,2,   14.69,2,    0.00,2,    1.04,2,   0.017,2,   0.069,2,   0.000,2,-999.0000,9,  2157.4,2,  2302.1,2,   7.8811,2,    15.00,   0.065,2, 3286.80,  -0.5384
77DN20050819,      AOS05,      26,          1,     283262,          2,2,20050904,       1904,    86.5427,   174.2220,       3979,  3694.3,  -0.2985,  34.9565,2,  34.9564,2,    288.7,2,   289.7,2,   11.69,2,   14.78,2,    0.00,2,    1.04,2,   0.018,2,   0.112,2,   0.000,2,-999.0000,9,  2157.1,2,  2301.0,2,   7.8786,2,    15.00,   0.079,2, 3694.30,  -0.5384
77DN20050819,      AOS05,      26,          1,     283261,          1,2,20050904,       1904,    86.5427,   174.2220,       3979,  3997.8,  -0.2681,  34.9562,2,  34.9566,2,    288.3,2,   289.6,2,   11.71,2,   14.68,2,    0.00,2,    1.04,2,   0.032,2,   0.211,2,   0.000,2,-999.0000,9,  2154.1,2,  2300.3,2,   7.8855,2,    15.00,   0.125,2, 3997.80,  -0.5381