BOTTLE,20211025CCHSIORKP
EXPOCODE,SECT_ID,STNNBR,CASTNO,SAMPNO,BTLNBR,BTLNBR_FLAG_W,DATE,TIME,LATITUDE,LONGITUDE,DEPTH,CTDPRS,CTDTMP,CTDSAL,CTDSAL_FLAG_W,SALNTY,SALNTY_FLAG_W,CTDOXY,CTDOXY_FLAG_W,OXYGEN,OXYGEN_FLAG_W,SILCAT,SILCAT_FLAG_W,NITRAT,NITRAT_FLAG_W,NITRIT,NITRIT_FLAG_W,PHSPHT,PHSPHT_FLAG_W,CFC-11,CFC-11_FLAG_W,CFC-12,CFC-12_FLAG_W,CFC113,CFC113_FLAG_W,SF6,SF6_FLAG_W,TCARBN,TCARBN_FLAG_W,ALKALI,ALKALI_FLAG_W,PH_SWS,PH_SWS_FLAG_W,PH_TMP,CCL4,CCL4_FLAG_W,CTDRAW,THETA
,,,,,,,,,,,METERS,DBAR,ITS-90,PSS-78,,PSS-78,,UMOL/KG,,UMOL/KG,,UMOL/KG,,UMOL/KG,,UMOL/KG,,UMOL/KG,,PMOL/KG,,PMOL/KG,,PMOL/KG,,FMOL/KG,,UMOL/KG,,UMOL/KG,,,,DEG C,PMOL/KG,,DBAR,DEG C
77DN20050819,      AOS05,      50,          3,     283992,         36,2,20050918,       1250,    86.7490,    56.0090,       3285,     9.3,  -1.8143,  33.1905,2,  33.1915,2,    380.0,2,   382.1,2,    1.65,2,    3.04,2,    0.04,2,    0.38,2,   7.200,2,   3.823,2,   0.759,2,-999.0000,9,  2119.7,2,  2258.4,4,   7.8690,2,    15.00,-999.000,5,    9.30,  -1.8145
77DN20050819,      AOS05,      50,          3,     283989,         33,2,20050918,       1250,    86.7490,    56.0090,       3285,    20.9,  -1.8139,  33.1911,2,-999.0000,9,   -999.0,9,  -999.0,9, -999.00,9, -999.00,9, -999.00,9, -999.00,9,-999.000,9,-999.000,9,-999.000,9,-999.0000,9,  -999.0,9,  -999.0,9,-999.0000,9,  -999.00,-999.000,9,   20.90,  -1.8143
77DN20050819,      AOS05,      50,          3,     283987,         31,2,20050918,       1250,    86.7490,    56.0090,       3285,    20.9,  -1.8137,  33.1912,2,  33.1915,2,    380.3,2,   381.3,2,    1.59,2,    3.03,2,    0.04,2,    0.38,2,   7.293,2,   3.875,2,   0.725,2,-999.0000,9,  2116.3,2,  2264.4,4,   7.8700,2,    15.00,-999.000,5,   20.90,  -1.8140
77DN20050819,      AOS05,      50,          3,     283991,         35,2,20050918,       1250,    86.7490,    56.0090,       3285,    20.9,  -1.8140,  33.1911,2,-999.0000,9,   -999.0,9,  -999.0,9, -999.00,9, -999.00,9, -999.00,9, -999.00,9,-999.000,9,-999.000,9,-999.000,9,-999.0000,9,  -999.0,9,  -999.0,9,-999.0000,9,  -999.00,-999.000,9,   20.90,  -1.8144
77DN20050819,      AOS05,      50,          3,     283990,         34,2,20050918,       1250,    86.7490,    56.0090,       3285,    20.9,  -1.8140,  33.1912,2,-999.0000,9,   -999.0,9,  -999.0,9, -999.00,9, -999.00,9, -999.00,9, -999.00,9,-999.000,9,-999.000,9,-999.000,9,-999.0000,9,  -999.0,9,  -999.0,9,-999.0000,9,  -999.00,-999.000,9,   20.90,  -1.8143
77DN20050819,      AOS05,      50,          3,     283988,         32,2,20050918,       1250,    86.7490,    56.0090,       3285,    20.9,  -1.8138,  33.1913,2,-999.0000,9,   -999.0,9,  -999.0,9, -999.00,9, -999.00,9, -999.00,9, -999.00,9,-999.000,9,-999.000,9,-999.000,9,-999.0000,9,  -999.0,9,  -999.0,9,-999.0000,9,  -999.00,-999.000,9,   20.90,  -1.8142
77DN20050819,      AOS05,      50,          3,     283986,         30,2,20050918,       1250,    86.7490,    56.0090,       3285,    31.2,  -1.8133,  33.1926,2,  33.1937,2,    380.4,2,   380.7,2,    1.60,2,    3.03,2,    0.04,2,    0.38,2,   7.293,2,   3.885,2,   0.761,2,-999.0000,9,  2118.3,2,  2277.1,4,   7.8724,2,    15.00,-999.000,5,   31.20,  -1.8138
77DN20050819,      AOS05,      50,          3,     283985,         29,2,20050918,       1250,    86.7490,    56.0090,       3285,    46.4,  -1.7983,  33.5671,2,  33.6189,2,    379.3,2,   377.2,2,    1.81,2,    3.69,2,    0.02,2,    0.41,2,   7.186,2,   3.873,2,   0.739,2,   1.8300,2,  2156.0,2,  2284.5,4,   7.8558,2,    15.00,-999.000,5,   46.40,  -1.7992
77DN20050819,      AOS05,      50,          3,     283984,         28,2,20050918,       1250,    86.7490,    56.0090,       3285,    61.6,  -1.8291,  33.7118,2,-999.0000,9,   -999.0,9,  -999.0,9, -999.00,9, -999.00,9, -999.00,9, -999.00,9,-999.000,9,-999.000,9,-999.000,9,-999.0000,9,  -999.0,9,  -999.0,9,-999.0000,9,  -999.00,-999.000,9,   61.60,  -1.8302
77DN20050819,      AOS05,      50,          3,     283983,         27,2,20050918,       1250,    86.7490,    56.0090,       3285,    61.6,  -1.8291,  33.7115,2,-999.0000,9,   -999.0,9,  -999.0,9, -999.00,9, -999.00,9, -999.00,9, -999.00,9,-999.000,9,-999.000,9,-999.000,9,-999.0000,9,  -999.0,9,  -999.0,9,-999.0000,9,  -999.00,-999.000,9,   61.60,  -1.8302
77DN20050819,      AOS05,      50,          3,     283982,         26,2,20050918,       1250,    86.7490,    56.0090,       3285,    61.6,  -1.8296,  33.7111,2,  33.7177,2,    375.6,2,   375.7,2,    1.93,2,    3.92,2,    0.00,2,    0.43,2,   7.343,2,   3.866,2,   0.769,2,   1.7100,2,  2160.3,2,  2287.9,4,   7.8482,2,    15.00,-999.000,5,   61.60,  -1.8307
77DN20050819,      AOS05,      50,          3,     283981,         25,2,20050918,       1250,    86.7490,    56.0090,       3285,    76.9,  -1.7596,  33.8223,2,  33.8792,2,    365.4,2,   349.0,2,    2.51,2,    6.02,2,    0.00,2,    0.54,2,   6.927,2,   3.599,2,   0.623,2,-999.0000,5,  2152.9,2,  2269.6,2,   7.8392,2,    15.00,-999.000,5,   76.90,  -1.7611
77DN20050819,      AOS05,      50,          3,     283980,         24,2,20050918,       1250,    86.7490,    56.0090,       3285,    92.2,  -1.5976,  34.0858,2,  34.0998,2,    329.7,2,   332.0,2,    2.53,2,    7.62,2,    0.00,2,    0.61,2,   6.606,2,   3.451,2,   0.533,2,-999.0000,9,  2149.6,2,  2293.8,4,   7.8386,2,    15.00,-999.000,5,   92.20,  -1.5995
77DN20050819,      AOS05,      50,          3,     283979,         23,2,20050918,       1250,    86.7490,    56.0090,       3285,   107.4,  -1.4274,  34.1850,2,  34.2037,2,    325.6,2,   327.6,2,    2.46,2,    8.12,2,    0.00,2,    0.64,2,   6.495,2,   3.378,2,   0.557,2,   1.5900,2,  2147.5,2,  2272.7,2,   7.8446,2,    15.00,-999.000,5,  107.40,  -1.4298
77DN20050819,      AOS05,      50,          3,     283978,         22,2,20050918,       1250,    86.7490,    56.0090,       3285,   127.8,  -0.9079,  34.3154,2,  34.3233,2,    319.6,2,   321.7,2,    2.58,2,    8.90,2,    0.00,2,    0.66,2,   6.329,2,   3.230,2,   0.526,2,-999.0000,9,  2152.5,2,  2273.7,2,   7.8475,2,    15.00,-999.000,5,  127.80,  -0.9115
77DN20050819,      AOS05,      50,          3,     283977,         21,2,20050918,       1250,    86.7490,    56.0090,       3285,   148.0,  -0.3020,  34.4294,2,  34.4495,2,    311.2,2,   311.1,2,    3.26,2,    9.99,2,    0.00,2,    0.72,2,   5.895,2,   3.077,2,   0.516,2,-999.0000,9,  2150.3,2,  2278.4,2,   7.8414,2,    15.00,-999.000,5,  148.00,  -0.3069
77DN20050819,      AOS05,      50,          3,     283976,         20,2,20050918,       1250,    86.7490,    56.0090,       3285,   168.2,   0.3631,  34.5610,2,  34.5726,2,    303.5,2,   303.0,2,    3.56,2,   10.96,2,   -0.00,2,    0.77,2,   5.583,2,   2.871,2,   0.441,2,-999.0000,9,  2154.4,2,  2287.8,4,   7.8413,2,    15.00,-999.000,5,  168.20,   0.3565
77DN20050819,      AOS05,      50,          3,     283975,         19,2,20050918,       1250,    86.7490,    56.0090,       3285,   188.4,   0.8596,  34.6728,2,  34.6770,2,    299.6,2,   300.3,2,    3.86,2,   11.59,2,   -0.00,2,    0.81,2,   5.667,2,   2.827,2,   0.475,2,-999.0000,9,  2154.8,2,  2285.4,4,   7.8478,6,    15.00,-999.000,5,  188.40,   0.8513
77DN20050819,      AOS05,      50,          3,     283974,         18,2,20050918,       1250,    86.7490,    56.0090,       3285,   208.6,   1.2780,  34.7803,2,  34.7859,2,    297.7,2,   297.9,2,    4.07,2,   12.24,2,   -0.00,2,    0.83,2,   5.255,2,   2.723,2,   0.358,2,-999.0000,9,  2153.9,2,  2292.1,4,   7.8635,2,    15.00,-999.000,5,  208.60,   1.2680
77DN20050819,      AOS05,      50,          3,     283973,         17,2,20050918,       1250,    86.7490,    56.0090,       3285,   238.9,   1.5252,  34.8452,2,  34.8446,2,    296.4,2,   297.5,2,    4.09,2,   12.46,2,   -0.00,2,    0.85,2,-999.000,5,-999.000,5,-999.000,5,   0.9800,2,  2154.4,2,  2291.1,2,   7.8688,2,    15.00,-999.000,5,  238.90,   1.5132
77DN20050819,      AOS05,      50,          3,     283972,         16,2,20050918,       1250,    86.7490,    56.0090,       3285,   288.5,   1.6741,  34.8941,2,  34.8942,2,    297.7,2,   299.2,2,    4.11,2,   12.68,2,    0.00,2,    0.85,2,   5.260,2,   2.693,2,   0.435,2,   0.8400,2,  2152.3,2,  2293.9,2,   7.8693,2,    15.00,-999.000,5,  288.50,   1.6590
77DN20050819,      AOS05,      50,          3,     283971,         15,2,20050918,       1250,    86.7490,    56.0090,       3285,   333.0,   1.5571,  34.8858,2,  34.8863,2,    297.7,2,   299.8,2,    4.13,2,   12.64,2,    0.00,2,    0.85,2,   4.897,2,   2.544,2,   0.369,2,   0.8600,2,  2152.7,2,  2297.9,4,   7.8702,2,    15.00,-999.000,5,  333.00,   1.5399
77DN20050819,      AOS05,      50,          3,     283970,         14,2,20050918,       1250,    86.7490,    56.0090,       3285,   402.1,   1.4391,  34.9040,2,  34.9032,2,    300.1,3,   302.3,2,    4.15,2,   12.72,2,   -0.00,2,    0.86,2,   5.067,2,   2.571,2,   0.408,2,-999.0000,9,  2156.3,2,  2292.3,2,   7.8661,2,    15.00,-999.000,5,  402.10,   1.4185
77DN20050819,      AOS05,      50,          3,     283969,         13,2,20050918,       1250,    86.7490,    56.0090,       3285,   495.3,   1.0969,  34.9096,2,  34.9092,2,    302.6,2,   303.1,2,    4.37,2,   12.81,2,   -0.00,2,    0.87,2,   4.769,2,   2.428,2,   0.342,2,   0.5500,2,  2155.6,2,  2291.2,2,   7.8637,2,    15.00,-999.000,5,  495.30,   1.0725
77DN20050819,      AOS05,      50,          3,     283968,         12,2,20050918,       1250,    86.7490,    56.0090,       3285,   647.0,   0.5488,  34.8986,2,  34.8979,2,    302.8,2,   303.7,2,    4.76,2,   12.95,2,   -0.00,2,    0.88,2,   4.291,2,   2.196,2,   0.292,2,   0.8000,2,  2165.6,2,  2296.4,2,   7.8571,2,    15.00,-999.000,5,  647.00,   0.5190
77DN20050819,      AOS05,      50,          3,     283967,         11,2,20050918,       1250,    86.7490,    56.0090,       3285,   794.8,   0.0754,  34.8913,2,  34.8910,2,    303.1,2,   304.1,2,    5.25,2,   12.95,2,   -0.00,2,    0.89,2,   4.124,2,   2.092,2,   0.278,2,-999.0000,9,  2164.0,2,  2289.4,4,   7.8486,2,    15.00,-999.000,5,  794.80,   0.0409
77DN20050819,      AOS05,      50,          3,     283966,         10,2,20050918,       1250,    86.7490,    56.0090,       3285,   942.7,  -0.1523,  34.8970,2,  34.8967,2,    302.8,2,   303.7,2,    5.65,2,   13.26,2,    0.00,2,    0.91,2,   3.719,2,   1.831,2,   0.207,2,   0.7700,2,  2164.1,2,  2296.1,4,   7.8471,2,    15.00,-999.000,5,  942.70,  -0.1927
77DN20050819,      AOS05,      50,          3,     283965,          9,2,20050918,       1250,    86.7490,    56.0090,       3285,  1094.6,  -0.3120,  34.9056,2,  34.9052,2,    302.2,2,   303.2,2,    6.32,2,   13.58,2,    0.00,2,    0.94,2,   2.764,2,   1.353,2,   0.134,2,   0.4500,2,  2163.6,2,  2284.3,4,   7.8471,2,    15.00,-999.000,5, 1094.60,  -0.3590
77DN20050819,      AOS05,      50,          3,     283964,          8,2,20050918,       1250,    86.7490,    56.0090,       3285,  1242.8,  -0.4409,  34.9116,2,  34.9119,2,    301.1,2,   301.9,2,    7.00,2,   13.91,2,    0.00,2,    0.96,2,   1.978,2,   0.988,2,   0.069,2,   0.0000,2,  2162.9,2,  2292.2,2,   7.8506,2,    15.00,-999.000,5, 1242.80,  -0.4946
77DN20050819,      AOS05,      50,          3,     283963,          7,2,20050918,       1250,    86.7490,    56.0090,       3285,  1490.6,  -0.5853,  34.9180,2,  34.9190,2,    299.4,2,   300.4,2,    8.05,2,   14.37,2,    0.00,2,    0.97,2,   1.068,2,   0.521,2,   0.034,2,   0.0000,2,  2157.8,2,  2293.5,2,   7.8578,2,    15.00,-999.000,5, 1490.60,  -0.6512
77DN20050819,      AOS05,      50,          3,     283962,          6,2,20050918,       1250,    86.7490,    56.0090,       3285,  1742.7,  -0.6856,  34.9215,2,  34.9212,2,    298.5,2,   299.8,2,    9.01,2,   14.64,2,    0.00,2,    1.03,2,   0.623,2,   0.331,2,   0.000,2,   0.0000,2,  2157.9,2,  2293.4,2,   7.8584,2,    15.00,-999.000,5, 1742.70,  -0.7652
77DN20050819,      AOS05,      50,          3,     283961,          5,2,20050918,       1250,    86.7490,    56.0090,       3285,  1991.2,  -0.7397,  34.9237,2,  34.9233,2,    298.8,2,   299.9,2,    9.97,2,   14.73,2,    0.00,2,    1.04,2,   0.424,2,   0.239,2,   0.000,2,-999.0000,9,  2159.9,2,  2297.6,4,   7.8639,2,    15.00,-999.000,5, 1991.20,  -0.8341
77DN20050819,      AOS05,      50,          3,     283960,          4,2,20050918,       1250,    86.7490,    56.0090,       3285,  2294.7,  -0.7656,  34.9288,2,  34.9279,2,    298.7,2,   300.0,2,   10.27,2,   14.77,2,    0.00,2,    1.05,2,   0.262,2,   0.141,2,   0.000,2,-999.0000,9,  2157.7,2,  2298.7,4,   7.8662,6,    15.00,-999.000,5, 2294.70,  -0.8800
77DN20050819,      AOS05,      50,          3,     283959,          3,2,20050918,       1250,    86.7490,    56.0090,       3285,  2595.4,  -0.7666,  34.9311,2,  34.9304,2,    298.9,2,   300.9,2,   10.19,2,   14.72,2,    0.00,2,    1.05,2,   0.196,2,   0.121,2,   0.000,2,-999.0000,9,  2158.1,2,  2293.4,2,   7.8702,2,    15.00,-999.000,5, 2595.40,  -0.9026
77DN20050819,      AOS05,      50,          3,     283958,          2,2,20050918,       1250,    86.7490,    56.0090,       3285,  2901.4,  -0.7627,  34.9338,2,  34.9326,2,    298.8,2,   299.9,2,   10.59,2,   14.72,2,    0.00,2,    1.05,2,   0.158,2,   0.110,2,   0.000,2,-999.0000,9,  2156.8,2,  2298.5,4,   7.8714,2,    15.00,-999.000,5, 2901.40,  -0.9223
77DN20050819,      AOS05,      50,          3,     283957,          1,2,20050918,       1250,    86.7490,    56.0090,       3285,  3002.6,  -0.7579,  34.9357,2,  34.9358,2,    298.4,2,   299.4,2,   10.80,2,   14.71,2,    0.00,2,    1.04,2,   0.130,2,   0.038,2,   0.000,2,-999.0000,9,  2157.3,2,  2294.0,2,   7.8808,2,    15.00,-999.000,5, 3002.60,  -0.9257