BOTTLE,20211025CCHSIORKP
EXPOCODE,SECT_ID,STNNBR,CASTNO,SAMPNO,BTLNBR,BTLNBR_FLAG_W,DATE,TIME,LATITUDE,LONGITUDE,DEPTH,CTDPRS,CTDTMP,CTDSAL,CTDSAL_FLAG_W,SALNTY,SALNTY_FLAG_W,CTDOXY,CTDOXY_FLAG_W,OXYGEN,OXYGEN_FLAG_W,SILCAT,SILCAT_FLAG_W,NITRAT,NITRAT_FLAG_W,NITRIT,NITRIT_FLAG_W,PHSPHT,PHSPHT_FLAG_W,CFC-11,CFC-11_FLAG_W,CFC-12,CFC-12_FLAG_W,CFC113,CFC113_FLAG_W,SF6,SF6_FLAG_W,TCARBN,TCARBN_FLAG_W,ALKALI,ALKALI_FLAG_W,PH_SWS,PH_SWS_FLAG_W,PH_TMP,CCL4,CCL4_FLAG_W,CTDRAW,THETA
,,,,,,,,,,,METERS,DBAR,ITS-90,PSS-78,,PSS-78,,UMOL/KG,,UMOL/KG,,UMOL/KG,,UMOL/KG,,UMOL/KG,,UMOL/KG,,PMOL/KG,,PMOL/KG,,PMOL/KG,,FMOL/KG,,UMOL/KG,,UMOL/KG,,,,DEG C,PMOL/KG,,DBAR,DEG C
77DN20050819,      AOS05,      15,          1,     282965,         36,2,20050828,       0922,    80.4383,  -144.3858,       3816,     2.3,  -1.5385,  29.6682,2,  29.6600,2,    397.3,2,   398.9,2,    3.29,2,    0.10,2,    0.00,2,    0.79,2,-999.000,9,-999.000,9,-999.000,9,-999.0000,9,  -999.0,9,  -999.0,9,-999.0000,9,  -999.00,-999.000,9,    2.30,  -1.5385
77DN20050819,      AOS05,      15,          1,     282964,         35,2,20050828,       0922,    80.4383,  -144.3858,       3816,     9.7,  -1.5340,  29.7739,2,  29.7789,2,    286.7,2,   404.8,4,    3.27,2,    0.05,2,    0.00,2,    0.79,2,-999.000,5,-999.000,5,-999.000,5,   2.3700,2,  1981.7,2,  2092.1,2,   7.8858,2,    15.00,-999.000,5,    9.70,  -1.5341
77DN20050819,      AOS05,      15,          1,     282963,         34,2,20050828,       0922,    80.4383,  -144.3858,       3816,    29.4,  -1.4733,  30.3453,2,  30.4114,2,    399.0,2,   400.7,2,    3.33,2,    0.10,2,    0.00,2,    0.82,2,   7.778,2,   3.793,2,   0.716,2,   2.2700,2,  2020.5,2,  2132.1,2,   7.8833,2,    15.00,   7.737,3,   29.40,  -1.4737
77DN20050819,      AOS05,      15,          1,     282962,         33,2,20050828,       0922,    80.4383,  -144.3858,       3816,    49.6,  -1.5893,  30.8123,2,  30.9267,2,    397.8,2,   391.6,2,    4.59,2,    1.06,2,    0.08,2,    0.92,2,   7.657,2,   3.739,2,   0.678,2,   2.5000,2,  2060.8,2,  2163.8,2,   7.8534,2,    15.00,   7.266,3,   49.60,  -1.5900
77DN20050819,      AOS05,      15,          1,     282961,         32,2,20050828,       0922,    80.4383,  -144.3858,       3816,    69.9,  -1.4076,  31.8401,2,  32.0556,2,    335.7,2,   299.1,2,   20.95,2,   10.30,2,    0.00,2,    1.55,2,   7.057,2,   3.910,2,   0.621,2,   2.4300,2,  2152.6,2,  2198.0,2,   7.6987,2,    15.00,   6.211,2,   69.90,  -1.4089
77DN20050819,      AOS05,      15,          1,     282960,         31,2,20050828,       0922,    80.4383,  -144.3858,       3816,    85.1,  -1.2533,  32.3339,2,  32.3830,2,    291.1,2,   271.8,2,   30.71,2,   13.29,2,    0.00,2,    1.82,2,   6.954,2,   3.600,2,   0.458,2,-999.0000,5,  2190.1,2,  2214.4,2,   7.6173,2,    15.00,   4.190,2,   85.10,  -1.2551
77DN20050819,      AOS05,      15,          1,     282959,         30,2,20050828,       0922,    80.4383,  -144.3858,       3816,   100.4,  -1.1126,  32.7224,2,  32.8086,2,    260.1,2,   246.0,2,   38.00,2,   16.11,2,    0.00,2,    2.04,2,   6.324,2,   3.077,2,   0.430,2,   1.9200,2,  2234.1,2,  2237.3,2,   7.5456,2,    15.00,   4.141,2,  100.40,  -1.1149
77DN20050819,      AOS05,      15,          1,     282958,         29,2,20050828,       0922,    80.4383,  -144.3858,       3816,   115.7,  -1.4350,  33.1419,2,-999.0000,9,   -999.0,9,  -999.0,9, -999.00,9, -999.00,9, -999.00,9, -999.00,9,-999.000,9,-999.000,9,-999.000,9,-999.0000,9,  -999.0,9,  -999.0,9,-999.0000,9,  -999.00,-999.000,9,  115.70,  -1.4375
77DN20050819,      AOS05,      15,          1,     282957,         28,2,20050828,       0922,    80.4383,  -144.3858,       3816,   115.7,  -1.4362,  33.1440,2,-999.0000,9,   -999.0,9,  -999.0,9, -999.00,9, -999.00,9, -999.00,9, -999.00,9,-999.000,9,-999.000,9,-999.000,9,-999.0000,9,  -999.0,9,  -999.0,9,-999.0000,9,  -999.00,-999.000,9,  115.70,  -1.4386
77DN20050819,      AOS05,      15,          1,     282956,         27,2,20050828,       0922,    80.4383,  -144.3858,       3816,   115.7,  -1.4363,  33.1424,2,  33.2875,2,    255.4,2,   259.7,2,   36.41,2,   15.56,2,    0.00,2,    1.85,2,   4.787,4,-999.000,5,   0.273,4,-999.0000,9,  2249.3,2,  2263.8,2,   7.5771,2,    15.00,   3.955,2,  115.70,  -1.4387
77DN20050819,      AOS05,      15,          1,     282955,         26,2,20050828,       0922,    80.4383,  -144.3858,       3816,   131.0,  -1.3873,  33.6298,2,  33.7308,2,    262.3,2,   269.5,2,   25.14,2,   13.17,2,    0.00,2,    1.41,2,   6.416,2,   2.850,2,   0.421,2,   1.4500,2,  2227.9,2,  2271.6,2,   7.6509,2,    15.00,   3.790,2,  131.00,  -1.3903
77DN20050819,      AOS05,      15,          1,     282954,         25,2,20050828,       0922,    80.4383,  -144.3858,       3816,   146.2,  -1.3595,  33.9650,2,  34.0002,2,    276.6,2,   284.7,2,   15.28,2,   11.21,2,    0.00,2,    1.06,2,   6.724,2,   2.950,2,   0.424,2,-999.0000,9,  2204.5,2,  2268.3,2,   7.7275,2,    15.00,   3.894,2,  146.20,  -1.3629
77DN20050819,      AOS05,      15,          1,     282953,         24,2,20050828,       0922,    80.4383,  -144.3858,       3816,   161.5,  -1.1725,  34.1541,2,  34.1756,2,    287.5,2,   301.4,2,    9.72,2,   10.37,2,    0.00,2,    0.88,2,   6.618,2,   2.923,2,   0.429,2,   1.3600,2,  2187.8,2,  2270.6,2,   7.7723,2,    15.00,   4.261,2,  161.50,  -1.1767
77DN20050819,      AOS05,      15,          1,     282952,         23,2,20050828,       0922,    80.4383,  -144.3858,       3816,   176.8,  -0.8464,  34.2873,2,  34.3019,2,    295.6,2,   297.4,2,    7.70,2,   10.37,2,    0.00,2,    0.83,2,   6.501,2,   2.897,2,   0.435,2,   1.3800,2,  2185.9,2,  2272.1,2,   7.7913,2,    15.00,   4.411,2,  176.80,  -0.8515
77DN20050819,      AOS05,      15,          1,     282951,         22,2,20050828,       0922,    80.4383,  -144.3858,       3816,   192.1,  -0.5190,  34.3911,2,  34.4143,2,    293.1,2,   294.7,2,    7.41,2,   10.86,2,    0.00,2,    0.84,2,   6.289,2,   3.088,2,   0.418,2,   1.1900,2,  2179.9,2,  2269.6,2,   7.7989,2,    15.00,   5.710,3,  192.10,  -0.5252
77DN20050819,      AOS05,      15,          1,     282950,         21,2,20050828,       0922,    80.4383,  -144.3858,       3816,   207.4,  -0.2239,  34.4746,2,  34.4941,2,    290.7,2,   293.4,2,    7.30,2,   11.25,2,    0.00,2,    0.85,2,   5.989,2,   2.676,2,   0.384,2,   1.2500,2,  2180.5,2,  2277.0,2,   7.8076,2,    15.00,   4.706,2,  207.40,  -0.2311
77DN20050819,      AOS05,      15,          1,     282949,         20,4,20050828,       0922,    80.4383,  -144.3858,       3816,   222.7,  -0.0136,  34.5434,2,  34.4758,4,    288.1,2,   302.7,4,    7.47,4,   11.15,4,    0.00,4,    0.84,4,-999.000,5,-999.000,5,-999.000,5,   1.2700,2,  2187.1,4,  2275.5,4,   7.8063,4,    15.00,-999.000,5,  222.70,  -0.0218
77DN20050819,      AOS05,      15,          1,     282948,         19,2,20050828,       0922,    80.4383,  -144.3858,       3816,   262.7,   0.5348,  34.7083,2,  34.7160,2,    292.8,2,   293.7,2,    6.72,2,   12.26,2,    0.00,2,    0.87,2,   6.039,2,   3.046,2,   0.394,2,   1.2400,2,  2175.9,2,  2283.7,2,   7.8314,2,    15.00,   6.307,3,  262.70,   0.5237
77DN20050819,      AOS05,      15,          1,     282947,         18,2,20050828,       0922,    80.4383,  -144.3858,       3816,   322.4,   0.8676,  34.7998,2,  34.8068,2,    294.7,2,   297.1,2,    6.16,2,   12.46,2,    0.00,2,    0.87,2,   5.615,2,   2.482,2,   0.366,2,   1.1400,2,  2173.3,2,  2287.0,2,   7.8533,2,    15.00,   5.283,2,  322.40,   0.8529
77DN20050819,      AOS05,      15,          1,     282946,         17,2,20050828,       0922,    80.4383,  -144.3858,       3816,   372.4,   1.0252,  34.8465,2,  34.8422,2,    296.9,2,   298.5,2,    5.96,2,   12.65,2,    0.00,2,    0.86,2,   5.267,2,   2.367,2,   0.333,2,   0.8700,2,  2168.7,2,  2289.0,2,   7.8545,2,    15.00,   5.381,2,  372.40,   1.0076
77DN20050819,      AOS05,      15,          1,     282945,         16,2,20050828,       0922,    80.4383,  -144.3858,       3816,   427.2,   0.9088,  34.8511,2,  34.8497,2,    297.7,2,   298.8,2,    6.12,2,   12.60,2,    0.00,2,    0.87,2,   5.076,2,   2.718,3,   0.342,2,   1.2900,2,  2175.5,2,  2289.9,2,   7.8486,2,    15.00,   7.242,3,  427.20,   0.8887
77DN20050819,      AOS05,      15,          1,     282944,         15,2,20050828,       0922,    80.4383,  -144.3858,       3816,   501.9,   0.7096,  34.8578,2,  34.8558,2,    300.7,2,   299.2,2,    6.01,2,   12.69,2,    0.00,2,    0.87,2,   4.558,2,   1.768,2,   0.232,2,   1.0300,2,  2177.5,2,  2289.9,2,   7.8571,2,    15.00,   5.040,2,  501.90,   0.6865
77DN20050819,      AOS05,      15,          1,     282943,         14,2,20050828,       0922,    80.4383,  -144.3858,       3816,   605.5,   0.4758,  34.8623,2,  34.8601,2,    299.0,2,   308.7,4,    6.36,2,   12.94,2,    0.00,2,    0.89,2,   4.089,2,   1.715,2,   0.217,2,   0.6600,2,  2168.8,2,  2290.2,2,   7.8601,2,    15.00,   4.640,2,  605.50,   0.4486
77DN20050819,      AOS05,      15,          1,     282942,         13,2,20050828,       0922,    80.4383,  -144.3858,       3816,   724.8,   0.2722,  34.8666,2,  34.8643,2,    301.6,2,   301.7,2,    6.24,2,   12.84,2,    0.00,2,    0.88,2,   3.934,2,   1.986,3,   0.232,2,   0.6300,2,  2174.0,2,  2288.8,2,   7.8485,2,    15.00,   4.000,2,  724.80,   0.2400
77DN20050819,      AOS05,      15,          1,     282941,         12,2,20050828,       0922,    80.4383,  -144.3858,       3816,   873.7,   0.0720,  34.8756,2,  34.8739,2,    300.7,2,   301.1,2,    6.77,2,   12.88,2,    0.00,2,    0.91,2,   3.151,2,   1.352,2,   0.146,2,   0.6600,2,  2175.7,2,  2289.5,2,   7.8518,2,    15.00,   4.051,2,  873.70,   0.0335
77DN20050819,      AOS05,      15,          1,     282940,         11,2,20050828,       0922,    80.4383,  -144.3858,       3816,  1023.2,  -0.0644,  34.8859,2,  34.8840,2,    300.4,2,   301.2,2,    7.21,2,   13.02,2,    0.00,2,    0.93,2,   2.738,2,   1.371,2,   0.284,3,-999.0000,5,  2174.1,2,  2291.5,2,   7.8615,2,    15.00,   4.842,3, 1023.20,  -0.1097
77DN20050819,      AOS05,      15,          1,     282939,         10,2,20050828,       0922,    80.4383,  -144.3858,       3816,  1176.9,  -0.1687,  34.8954,2,  34.8942,2,    299.7,2,   301.0,2,    7.74,2,   13.17,2,    0.00,2,    0.94,2,   2.005,2,   0.953,2,   0.141,2,   0.5300,2,  2173.8,2,  2291.2,2,   7.8602,2,    15.00,   1.345,3, 1176.90,  -0.2214
77DN20050819,      AOS05,      15,          1,     282938,          9,2,20050828,       0922,    80.4383,  -144.3858,       3816,  1376.9,  -0.2652,  34.9108,2,  34.9096,2,    298.6,2,   304.6,4,    7.99,2,   13.45,2,    0.00,2,    0.95,2,-999.000,5,-999.000,5,-999.000,5,-999.0000,5,  2172.5,2,  2291.4,2,   7.8732,2,    15.00,-999.000,5, 1376.90,  -0.3283
77DN20050819,      AOS05,      15,          1,     282937,          8,2,20050828,       0922,    80.4383,  -144.3858,       3816,  1630.8,  -0.3615,  34.9274,2,-999.0000,5,    296.1,2,   297.5,2,    8.79,2,   13.93,2,    0.00,2,    0.98,2,-999.000,5,-999.000,5,-999.000,5,   0.0000,2,  2168.7,2,  2292.4,2,   7.8769,2,    15.00,-999.000,5, 1630.80,  -0.4387
77DN20050819,      AOS05,      15,          1,     282936,          7,2,20050828,       0922,    80.4383,  -144.3858,       3816,  1930.8,  -0.4090,  34.9424,2,  34.9391,2,    291.6,2,   293.0,2,   10.41,2,   14.41,2,    0.00,2,    1.04,2,   0.183,2,   0.112,2,   0.000,2,-999.0000,9,  2169.8,2,  2293.8,2,   7.8810,2,    15.00,   0.493,2, 1930.80,  -0.5046
77DN20050819,      AOS05,      15,          1,     282935,          6,2,20050828,       0922,    80.4383,  -144.3858,       3816,  2235.4,  -0.4038,  34.9512,2,  34.9496,2,    288.0,2,   289.5,2,   12.12,2,   14.66,2,    0.00,2,    1.04,2,   0.136,2,   0.126,2,   0.000,2,-999.0000,9,  2166.5,2,  2296.2,2,   7.8807,2,    15.00,   0.373,2, 2235.40,  -0.5204
77DN20050819,      AOS05,      15,          1,     282934,          5,2,20050828,       0922,    80.4383,  -144.3858,       3816,  2536.3,  -0.3806,  34.9560,2,  34.9533,2,    285.9,2,   286.6,2,   13.09,2,   14.79,2,    0.00,2,    1.04,2,   0.073,2,   0.198,2,   0.000,2,   0.0000,2,  2169.9,2,  2295.0,2,   7.8738,2,    15.00,   0.193,2, 2536.30,  -0.5199
77DN20050819,      AOS05,      15,          1,     282933,          4,2,20050828,       0922,    80.4383,  -144.3858,       3816,  2841.8,  -0.3485,  34.9583,2,  34.9562,2,    283.7,2,   284.8,2,   13.62,2,   14.79,2,    0.00,2,    1.05,2,   0.045,2,   0.147,2,   0.000,2,-999.0000,9,  2166.3,2,  2296.0,2,   7.8717,2,    15.00,   0.145,2, 2841.80,  -0.5124
77DN20050819,      AOS05,      15,          1,     282932,          3,2,20050828,       0922,    80.4383,  -144.3858,       3816,  3198.2,  -0.3175,  34.9583,2,  34.9564,2,    283.7,2,   293.1,4,   13.51,2,   14.79,2,    0.00,2,    1.05,2,   0.046,2,   0.090,2,   0.000,2,-999.0000,9,  2171.7,2,  2298.8,2,   7.8752,6,    15.00,   0.152,2, 3198.20,  -0.5121
77DN20050819,      AOS05,      15,          1,     282931,          2,2,20050828,       0922,    80.4383,  -144.3858,       3816,  3600.8,  -0.2802,  34.9581,2,  34.9562,2,    284.0,2,   285.1,2,   13.41,2,   14.83,2,    0.00,2,    1.05,2,   0.006,2,   0.075,2,   0.000,2,-999.0000,9,  2173.0,2,  2298.4,2,   7.8730,2,    15.00,   0.200,2, 3600.80,  -0.5119
77DN20050819,      AOS05,      15,          1,     282930,          1,2,20050828,       0922,    80.4383,  -144.3858,       3816,  3856.5,  -0.2548,  34.9580,2,  34.9584,2,    284.0,2,   284.7,2,   13.39,2,   14.83,2,    0.00,2,    1.05,2,   0.037,2,   0.075,2,   0.000,2,   0.0000,2,  2175.3,2,  2299.1,6,   7.8750,2,    15.00,   0.146,2, 3856.50,  -0.5114