BOTTLE,20211025CCHSIORKP
# Original header:
# Original header:
# Original header:
#Changed SF6 fill flag to 9
#These data were provided by:
#
# PARAMETER/PROGRAM   NAME                    EMAIL ADDRESS
# -----------------   ----                    -------------
# Chief Scientist     Anders Karlqvist-SPRS   anders.karlqvist@polar.se
# CTDO/S/O2/Nutrients James Swift-SIO         jswift@ucsd.edu
# CFC                 Toste Tanhua-IFM        ttanhua@ifm_geomar.de
# Mercury(DGM)        O. Lindqvist-GU
# DIC/TALK/PH/SF6     Leif Anderson-GU        leifand@chem.gu.se
# DOM(Not Yet Merged) Rainer Amon-TAMU        amonr@tamug.edu
#
# References:
#Tanhua, T., D.P. Jones, E. Jeansson, S. Jutterstrom, W.M. Smethie, Jr., D.W.R. Wallace and L.G. Anderson,
# Ventilation of the Arctic Ocean: Mean ages and inventories of anthropogenic CO2 and CFC-11,
# J. Geophys. Res., 114(C1), C01992, doi:10.1029/2008JC004868, 2009.
#
#No match found for DGM
#code : hyd_to_exchange.rb 
#original files copied from HTML directory: 2009-09-04
#original HYD file: 77DN20050819hy.txt  2009-09-04
#original SUM file: 77DN20050819su.txt  2009-08-24
EXPOCODE,SECT_ID,STNNBR,CASTNO,SAMPNO,BTLNBR,BTLNBR_FLAG_W,DATE,TIME,LATITUDE,LONGITUDE,DEPTH,CTDPRS,CTDTMP,CTDSAL,CTDSAL_FLAG_W,SALNTY,SALNTY_FLAG_W,CTDOXY,CTDOXY_FLAG_W,OXYGEN,OXYGEN_FLAG_W,SILCAT,SILCAT_FLAG_W,NITRAT,NITRAT_FLAG_W,NITRIT,NITRIT_FLAG_W,PHSPHT,PHSPHT_FLAG_W,CFC-11,CFC-11_FLAG_W,CFC-12,CFC-12_FLAG_W,CFC113,CFC113_FLAG_W,SF6,SF6_FLAG_W,TCARBN,TCARBN_FLAG_W,ALKALI,ALKALI_FLAG_W,PH_SWS,PH_SWS_FLAG_W,PH_TMP,CCL4,CCL4_FLAG_W,CTDRAW,THETA
,,,,,,,,,,,METERS,DBAR,ITS-90,PSS-78,,PSS-78,,UMOL/KG,,UMOL/KG,,UMOL/KG,,UMOL/KG,,UMOL/KG,,UMOL/KG,,PMOL/KG,,PMOL/KG,,PMOL/KG,,FMOL/KG,,UMOL/KG,,UMOL/KG,,,,DEG C,PMOL/KG,,DBAR,DEG C
77DN20050819,      AOS05,       1,          2,     282514,         14,2,20050821,       0507,    71.3847,  -152.2995,        109,     2.0,   1.4541,  17.4618,2,-999.0000,9,   -999.0,9,  -999.0,9, -999.00,9, -999.00,9, -999.00,9, -999.00,9,-999.000,9,-999.000,9,-999.000,9,-999.0000,9,  -999.0,9,  -999.0,9,-999.0000,9,  -999.00,-999.000,9,    2.00,   1.4541
77DN20050819,      AOS05,       1,          2,     282513,         13,2,20050821,       0507,    71.3847,  -152.2995,        109,     2.0,   1.4532,  17.5266,2,  12.9392,2,    393.4,2,   395.5,2,    4.06,2,    0.00,2,    0.00,2,    0.24,2,   6.694,2,   3.809,2,   0.569,2,-999.0000,9,   990.4,2,  1025.5,6,   7.7341,2,    15.00,   9.074,3,    2.00,   1.4532
77DN20050819,      AOS05,       1,          2,     282512,         12,2,20050821,       0507,    71.3847,  -152.2995,        109,     9.5,  -0.8341,  28.8168,2,-999.0000,9,   -999.0,9,  -999.0,9, -999.00,9, -999.00,9, -999.00,9, -999.00,9,-999.000,9,-999.000,9,-999.000,9,-999.0000,9,  -999.0,9,  -999.0,9,-999.0000,9,  -999.00,-999.000,9,    9.50,  -0.8342
77DN20050819,      AOS05,       1,          2,     282511,         11,2,20050821,       0507,    71.3847,  -152.2995,        109,     9.5,  -0.8142,  28.8136,2,  28.9066,2,    404.6,2,   405.1,2,    2.69,2,    0.00,2,    0.00,2,    0.60,2,   6.367,2,   3.527,2,   0.570,2,-999.0000,9,  1908.1,2,  2048.7,2,   7.9462,2,    15.00,   6.543,3,    9.50,  -0.8144
77DN20050819,      AOS05,       1,          2,     282510,         10,2,20050821,       0507,    71.3847,  -152.2995,        109,    29.6,   0.5111,  30.8858,2,-999.0000,9,   -999.0,9,  -999.0,9, -999.00,9, -999.00,9, -999.00,9, -999.00,9,-999.000,9,-999.000,9,-999.000,9,-999.0000,9,  -999.0,9,  -999.0,9,-999.0000,9,  -999.00,-999.000,9,   29.60,   0.5101
77DN20050819,      AOS05,       1,          2,     282509,          9,2,20050821,       0507,    71.3847,  -152.2995,        109,    29.6,   0.5712,  30.8848,2,  30.8728,2,    385.7,2,   387.0,2,    3.84,2,    0.09,2,    0.01,2,    0.75,2,   6.166,2,   3.393,2,   0.553,2,-999.0000,9,  2019.1,2,  2168.9,2,   7.9332,2,    15.00,   4.447,3,   29.60,   0.5702
77DN20050819,      AOS05,       1,          2,     282507,          7,2,20050821,       0507,    71.3847,  -152.2995,        109,    49.4,   4.1601,  31.7337,2,  31.7994,4,    328.5,2,   328.9,2,    7.70,2,    0.08,2,    0.02,2,    0.79,2,   5.225,2,   2.980,2,   0.436,2,-999.0000,9,  2057.0,2,  2209.3,2,   7.9328,2,    15.00,   7.694,3,   49.40,   4.1569
77DN20050819,      AOS05,       1,          2,     282508,          8,2,20050821,       0507,    71.3847,  -152.2995,        109,    49.4,   4.1248,  31.7301,2,-999.0000,9,   -999.0,9,  -999.0,9, -999.00,9, -999.00,9, -999.00,9, -999.00,9,-999.000,9,-999.000,9,-999.000,9,-999.0000,9,  -999.0,9,  -999.0,9,-999.0000,9,  -999.00,-999.000,9,   49.40,   4.1216
77DN20050819,      AOS05,       1,          2,     282505,          5,2,20050821,       0507,    71.3847,  -152.2995,        109,    69.7,   2.4668,  31.8299,2,  31.8384,2,    343.3,2,   345.2,2,    9.06,2,    0.25,2,    0.03,2,    0.87,2,   4.656,3,   2.165,3,   0.266,3,-999.0000,9,  2065.3,2,  2214.4,2,   7.9159,2,    15.00,   4.080,3,   69.70,   2.4632
77DN20050819,      AOS05,       1,          2,     282506,          6,2,20050821,       0507,    71.3847,  -152.2995,        109,    69.7,   2.4637,  31.8291,2,-999.0000,9,   -999.0,9,  -999.0,9, -999.00,9, -999.00,9, -999.00,9, -999.00,9,-999.000,9,-999.000,9,-999.000,9,-999.0000,9,  -999.0,9,  -999.0,9,-999.0000,9,  -999.00,-999.000,9,   69.70,   2.4602
77DN20050819,      AOS05,       1,          2,     282504,          4,2,20050821,       0507,    71.3847,  -152.2995,        109,    91.8,   1.1094,  32.1147,2,-999.0000,9,   -999.0,9,  -999.0,9, -999.00,9, -999.00,9, -999.00,9, -999.00,9,-999.000,9,-999.000,9,-999.000,9,-999.0000,9,  -999.0,9,  -999.0,9,-999.0000,9,  -999.00,-999.000,9,   91.80,   1.1057
77DN20050819,      AOS05,       1,          2,     282503,          3,2,20050821,       0507,    71.3847,  -152.2995,        109,    91.8,   1.1056,  32.1198,2,-999.0000,9,   -999.0,9,  -999.0,9, -999.00,9, -999.00,9, -999.00,9, -999.00,9,-999.000,9,-999.000,9,-999.000,9,-999.0000,9,  -999.0,9,  -999.0,9,-999.0000,9,  -999.00,-999.000,9,   91.80,   1.1019
77DN20050819,      AOS05,       1,          2,     282502,          2,2,20050821,       0507,    71.3847,  -152.2995,        109,    91.8,   1.1149,  32.1179,2,-999.0000,9,   -999.0,9,  -999.0,9, -999.00,9, -999.00,9, -999.00,9, -999.00,9,-999.000,9,-999.000,9,-999.000,9,-999.0000,9,  -999.0,9,  -999.0,9,-999.0000,9,  -999.00,-999.000,9,   91.80,   1.1112
77DN20050819,      AOS05,       1,          2,     282501,          1,2,20050821,       0507,    71.3847,  -152.2995,        109,    91.8,   1.1533,  32.1148,2,  32.0816,2,    330.4,2,   332.0,2,   14.00,2,    2.26,2,    0.06,2,    1.09,2,   6.009,2,   3.334,2,   0.481,2,-999.0000,9,  2103.1,2,  -999.0,5,   7.8586,2,    15.00,   8.319,3,   91.80,   1.1495
77DN20050819,      AOS05,       2,          3,     282545,         31,2,20050821,       1349,    71.5285,  -152.1542,        219,     6.6,  -1.0042,  27.9675,2,  27.5005,2,    336.9,4,   398.5,2,    2.56,2,    0.00,2,    0.00,2,    0.56,2,   8.048,2,   4.225,2,   0.801,2,-999.0000,9,  1848.4,2,  1957.7,2,   7.8767,2,    15.00,  10.625,2,    6.60,  -1.0043
77DN20050819,      AOS05,       2,          3,     282543,         29,2,20050821,       1349,    71.5285,  -152.1542,        219,     9.0,  -1.0391,  28.1426,2,  28.0992,2,    336.9,4,   409.6,2,    2.56,2,    0.00,2,    0.00,2,    0.58,2,   7.821,2,   3.775,2,   0.788,2,-999.0000,9,  1877.3,2,  1994.6,2,   7.8788,2,    15.00,   8.768,2,    9.00,  -1.0392
77DN20050819,      AOS05,       2,          3,     282544,         30,2,20050821,       1349,    71.5285,  -152.1542,        219,     9.0,  -1.0440,  28.1257,2,-999.0000,9,   -999.0,9,  -999.0,9, -999.00,9, -999.00,9, -999.00,9, -999.00,9,-999.000,9,-999.000,9,-999.000,9,-999.0000,9,  -999.0,9,  -999.0,9,-999.0000,9,  -999.00,-999.000,9,    9.00,  -1.0442
77DN20050819,      AOS05,       2,          3,     282542,         28,2,20050821,       1349,    71.5285,  -152.1542,        219,    18.7,  -1.0224,  29.0446,2,-999.0000,9,   -999.0,9,  -999.0,9, -999.00,9, -999.00,9, -999.00,9, -999.00,9,-999.000,9,-999.000,9,-999.000,9,-999.0000,9,  -999.0,9,  -999.0,9,-999.0000,9,  -999.00,-999.000,9,   18.70,  -1.0227
77DN20050819,      AOS05,       2,          3,     282541,         27,2,20050821,       1349,    71.5285,  -152.1542,        219,    18.7,  -1.0273,  28.9309,2,  28.8907,2,    330.0,4,    18.4,4,    2.57,2,    0.00,2,    0.00,2,    0.61,2,   7.846,2,   3.781,2,   0.739,2,-999.0000,9,  1924.9,2,  2048.0,2,   7.8880,2,    15.00,   9.515,2,   18.70,  -1.0275
77DN20050819,      AOS05,       2,          3,     282539,         25,2,20050821,       1349,    71.5285,  -152.1542,        219,    38.5,   1.3577,  31.0291,2,  31.1116,2,    354.3,4,   367.0,2,    6.42,2,    0.38,2,    0.17,2,    0.75,2,   7.061,2,   3.392,2,   0.579,2,-999.0000,9,  2045.3,2,  2182.0,2,   7.8855,2,    15.00,   7.193,2,   38.50,   1.3562
77DN20050819,      AOS05,       2,          3,     282540,         26,2,20050821,       1349,    71.5285,  -152.1542,        219,    38.5,   0.9646,  31.0431,2,-999.0000,9,   -999.0,9,  -999.0,9, -999.00,9, -999.00,9, -999.00,9, -999.00,9,-999.000,9,-999.000,9,-999.000,9,-999.0000,9,  -999.0,9,  -999.0,9,-999.0000,9,  -999.00,-999.000,9,   38.50,   0.9631
77DN20050819,      AOS05,       2,          3,     282537,         23,2,20050821,       1349,    71.5285,  -152.1542,        219,    58.3,  -0.3482,  31.9029,2,  31.9622,2,    352.3,3,   345.7,2,   12.32,2,    4.25,2,    0.10,2,    1.07,2,-999.000,5,-999.000,5,-999.000,5,-999.0000,9,  2091.3,2,  2214.0,2,   7.8379,2,    15.00,-999.000,5,   58.30,  -0.3498
77DN20050819,      AOS05,       2,          3,     282538,         24,2,20050821,       1349,    71.5285,  -152.1542,        219,    58.3,  -0.4334,  31.8863,2,-999.0000,9,   -999.0,9,  -999.0,9, -999.00,9, -999.00,9, -999.00,9, -999.00,9,-999.000,9,-999.000,9,-999.000,9,-999.0000,9,  -999.0,9,  -999.0,9,-999.0000,9,  -999.00,-999.000,9,   58.30,  -0.4350
77DN20050819,      AOS05,       2,          3,     282536,         22,2,20050821,       1349,    71.5285,  -152.1542,        219,    73.1,   0.1395,  32.2319,2,-999.0000,9,   -999.0,9,  -999.0,9, -999.00,9, -999.00,9, -999.00,9, -999.00,9,-999.000,9,-999.000,9,-999.000,9,-999.0000,9,  -999.0,9,  -999.0,9,-999.0000,9,  -999.00,-999.000,9,   73.10,   0.1371
77DN20050819,      AOS05,       2,          3,     282535,         21,2,20050821,       1349,    71.5285,  -152.1542,        219,    73.1,   0.1382,  32.2324,2,-999.0000,9,   -999.0,9,  -999.0,9, -999.00,9, -999.00,9, -999.00,9, -999.00,9,-999.000,9,-999.000,9,-999.000,9,-999.0000,9,  -999.0,9,  -999.0,9,-999.0000,9,  -999.00,-999.000,9,   73.10,   0.1359
77DN20050819,      AOS05,       2,          3,     282534,         20,2,20050821,       1349,    71.5285,  -152.1542,        219,    73.1,   0.1410,  32.2326,2,-999.0000,9,   -999.0,9,  -999.0,9, -999.00,9, -999.00,9, -999.00,9, -999.00,9,-999.000,9,-999.000,9,-999.000,9,-999.0000,9,  -999.0,9,  -999.0,9,-999.0000,9,  -999.00,-999.000,9,   73.10,   0.1386
77DN20050819,      AOS05,       2,          3,     282533,         19,2,20050821,       1349,    71.5285,  -152.1542,        219,    73.1,   0.1422,  32.2300,2,  32.2287,2,    326.8,3,   340.4,2,   15.53,2,    3.49,2,    0.06,2,    1.17,2,   6.925,2,   3.592,2,   0.551,2,-999.0000,9,  2116.0,2,  2234.2,2,   7.8314,2,    15.00,   8.161,2,   73.10,   0.1399
77DN20050819,      AOS05,       2,          3,     282531,         17,2,20050821,       1349,    71.5285,  -152.1542,        219,    88.0,  -0.7995,  32.3395,2,  32.3487,2,    324.2,3,   332.6,2,   18.76,2,    7.02,2,    0.09,2,    1.35,2,   6.938,2,   3.356,2,   0.547,2,-999.0000,9,  2146.6,2,  2240.5,2,   7.7673,2,    15.00,   6.298,2,   88.00,  -0.8017
77DN20050819,      AOS05,       2,          3,     282532,         18,2,20050821,       1349,    71.5285,  -152.1542,        219,    88.0,  -0.8227,  32.3438,2,-999.0000,9,   -999.0,9,  -999.0,9, -999.00,9, -999.00,9, -999.00,9, -999.00,9,-999.000,9,-999.000,9,-999.000,9,-999.0000,9,  -999.0,9,  -999.0,9,-999.0000,9,  -999.00,-999.000,9,   88.00,  -0.8248
77DN20050819,      AOS05,       2,          3,     282529,         15,2,20050821,       1349,    71.5285,  -152.1542,        219,   102.9,  -1.2903,  32.4922,2,  32.5103,2,    318.5,3,   311.8,2,   24.72,2,   10.74,2,    0.08,2,    1.51,2,   6.613,2,   3.216,2,   0.491,2,-999.0000,9,  2176.1,2,  2245.5,2,   7.6992,2,    15.00,   5.963,2,  102.90,  -1.2925
77DN20050819,      AOS05,       2,          3,     282530,         16,2,20050821,       1349,    71.5285,  -152.1542,        219,   102.9,  -1.2840,  32.4922,2,-999.0000,9,   -999.0,9,  -999.0,9, -999.00,9, -999.00,9, -999.00,9, -999.00,9,-999.000,9,-999.000,9,-999.000,9,-999.0000,9,  -999.0,9,  -999.0,9,-999.0000,9,  -999.00,-999.000,9,  102.90,  -1.2861
77DN20050819,      AOS05,       2,          3,     282528,         14,2,20050821,       1349,    71.5285,  -152.1542,        219,   117.8,  -1.4781,  32.6664,2,-999.0000,9,   -999.0,9,  -999.0,9, -999.00,9, -999.00,9, -999.00,9, -999.00,9,-999.000,9,-999.000,9,-999.000,9,-999.0000,9,  -999.0,9,  -999.0,9,-999.0000,9,  -999.00,-999.000,9,  117.80,  -1.4804
77DN20050819,      AOS05,       2,          3,     282527,         13,2,20050821,       1349,    71.5285,  -152.1542,        219,   117.8,  -1.4778,  32.6663,2,  32.6733,2,    306.7,3,   308.3,2,   27.38,2,   11.89,2,    0.04,2,    1.58,2,-999.000,5,-999.000,5,   0.250,3,-999.0000,9,  2189.2,2,  2252.0,2,   7.6826,2,    15.00,   5.470,3,  117.80,  -1.4801
77DN20050819,      AOS05,       2,          3,     282525,         11,2,20050821,       1349,    71.5285,  -152.1542,        219,   132.7,  -1.3896,  33.3302,2,  33.4136,2,    297.0,3,   284.8,2,   29.25,2,   13.91,2,    0.06,2,    1.57,2,   5.835,2,   2.767,2,   0.392,2,-999.0000,9,  2214.2,2,  2273.6,2,   7.6618,2,    15.00,   5.297,2,  132.70,  -1.3925
77DN20050819,      AOS05,       2,          3,     282526,         12,2,20050821,       1349,    71.5285,  -152.1542,        219,   132.7,  -1.4015,  33.3121,2,-999.0000,9,   -999.0,9,  -999.0,9, -999.00,9, -999.00,9, -999.00,9, -999.00,9,-999.000,9,-999.000,9,-999.000,9,-999.0000,9,  -999.0,9,  -999.0,9,-999.0000,9,  -999.00,-999.000,9,  132.70,  -1.4044
77DN20050819,      AOS05,       2,          3,     282523,          9,2,20050821,       1349,    71.5285,  -152.1542,        219,   147.5,  -0.2641,  34.3705,2,  34.4064,2,    273.0,3,   273.6,2,   16.16,2,   13.14,2,    0.05,2,    1.06,2,   5.197,2,   2.305,2,   0.319,2,-999.0000,9,  2188.8,2,  2285.3,6,   7.7616,2,    15.00,   3.494,2,  147.50,  -0.2691
77DN20050819,      AOS05,       2,          3,     282524,         10,2,20050821,       1349,    71.5285,  -152.1542,        219,   147.5,  -0.2381,  34.3925,2,-999.0000,9,   -999.0,9,  -999.0,9, -999.00,9, -999.00,9, -999.00,9, -999.00,9,-999.000,9,-999.000,9,-999.000,9,-999.0000,9,  -999.0,9,  -999.0,9,-999.0000,9,  -999.00,-999.000,9,  147.50,  -0.2431
77DN20050819,      AOS05,       2,          3,     282521,          7,2,20050821,       1349,    71.5285,  -152.1542,        219,   162.4,  -0.0565,  34.5312,2,  34.5316,2,    269.7,3,   270.6,2,   15.60,2,   13.16,2,    0.05,2,    1.04,2,   4.716,2,   2.196,2,   0.279,2,-999.0000,9,  2190.3,2,  2285.3,2,   7.7661,2,    15.00,   3.842,3,  162.40,  -0.0624
77DN20050819,      AOS05,       2,          3,     282522,          8,2,20050821,       1349,    71.5285,  -152.1542,        219,   162.4,  -0.0596,  34.5290,2,-999.0000,9,   -999.0,9,  -999.0,9, -999.00,9, -999.00,9, -999.00,9, -999.00,9,-999.000,9,-999.000,9,-999.000,9,-999.0000,9,  -999.0,9,  -999.0,9,-999.0000,9,  -999.00,-999.000,9,  162.40,  -0.0655
77DN20050819,      AOS05,       2,          3,     282519,          5,2,20050821,       1349,    71.5285,  -152.1542,        219,   177.3,  -0.0348,  34.5389,2,  34.5426,2,    268.9,3,   270.8,2,   15.52,2,   13.14,2,    0.06,2,    1.03,2,   5.150,2,   3.120,3,   0.265,2,-999.0000,9,  2195.5,2,  2287.5,2,   7.7670,2,    15.00,   4.327,2,  177.30,  -0.0412
77DN20050819,      AOS05,       2,          3,     282520,          6,2,20050821,       1349,    71.5285,  -152.1542,        219,   177.3,  -0.0338,  34.5391,2,-999.0000,9,   -999.0,9,  -999.0,9, -999.00,9, -999.00,9, -999.00,9, -999.00,9,-999.000,9,-999.000,9,-999.000,9,-999.0000,9,  -999.0,9,  -999.0,9,-999.0000,9,  -999.00,-999.000,9,  177.30,  -0.0403
77DN20050819,      AOS05,       2,          3,     282517,          3,2,20050821,       1349,    71.5285,  -152.1542,        219,   192.3,   0.0033,  34.5523,2,  34.5524,2,    250.1,4,   271.0,2,   15.43,2,   13.12,2,    0.06,2,    1.03,2,   4.934,3,   1.786,3,   0.358,3,-999.0000,9,  2197.6,2,  2288.7,2,   7.7690,2,    15.00,   1.615,3,  192.30,  -0.0038
77DN20050819,      AOS05,       2,          3,     282518,          4,2,20050821,       1349,    71.5285,  -152.1542,        219,   192.3,   0.0049,  34.5533,2,-999.0000,9,   -999.0,9,  -999.0,9, -999.00,9, -999.00,9, -999.00,9, -999.00,9,-999.000,9,-999.000,9,-999.000,9,-999.0000,9,  -999.0,9,  -999.0,9,-999.0000,9,  -999.00,-999.000,9,  192.30,  -0.0022
77DN20050819,      AOS05,       2,          3,     282516,          2,2,20050821,       1349,    71.5285,  -152.1542,        219,   210.8,   0.0128,  34.5559,2,-999.0000,9,   -999.0,9,  -999.0,9, -999.00,9, -999.00,9, -999.00,9, -999.00,9,-999.000,9,-999.000,9,-999.000,9,-999.0000,9,  -999.0,9,  -999.0,9,-999.0000,9,  -999.00,-999.000,9,  210.80,   0.0050
77DN20050819,      AOS05,       2,          3,     282515,          1,2,20050821,       1349,    71.5285,  -152.1542,        219,   210.8,   0.0143,  34.5565,2,  34.5561,2,    227.6,4,   300.0,4,   15.45,2,   13.16,2,    0.05,2,    1.04,2,-999.000,5,-999.000,5,-999.000,5,-999.0000,9,  2219.1,2,  2289.5,2,   7.7651,2,    15.00,-999.000,5,  210.80,   0.0065