BOTTLE,20211025CCHSIORKP
EXPOCODE,SECT_ID,STNNBR,CASTNO,SAMPNO,BTLNBR,BTLNBR_FLAG_W,DATE,TIME,LATITUDE,LONGITUDE,DEPTH,CTDPRS,CTDTMP,CTDSAL,CTDSAL_FLAG_W,SALNTY,SALNTY_FLAG_W,CTDOXY,CTDOXY_FLAG_W,OXYGEN,OXYGEN_FLAG_W,SILCAT,SILCAT_FLAG_W,NITRAT,NITRAT_FLAG_W,NITRIT,NITRIT_FLAG_W,PHSPHT,PHSPHT_FLAG_W,CFC-11,CFC-11_FLAG_W,CFC-12,CFC-12_FLAG_W,CFC113,CFC113_FLAG_W,SF6,SF6_FLAG_W,TCARBN,TCARBN_FLAG_W,ALKALI,ALKALI_FLAG_W,PH_SWS,PH_SWS_FLAG_W,PH_TMP,CCL4,CCL4_FLAG_W,CTDRAW,THETA
,,,,,,,,,,,METERS,DBAR,ITS-90,PSS-78,,PSS-78,,UMOL/KG,,UMOL/KG,,UMOL/KG,,UMOL/KG,,UMOL/KG,,UMOL/KG,,PMOL/KG,,PMOL/KG,,PMOL/KG,,FMOL/KG,,UMOL/KG,,UMOL/KG,,,,DEG C,PMOL/KG,,DBAR,DEG C
77DN20050819,      AOS05,      41,          1,     283703,         36,2,20050911,       1021,    89.2432,  -173.8612,       3245,     9.4,  -1.7088,  31.4733,2,  31.5193,2,    390.1,2,   391.9,2,    3.86,2,    0.66,2,    0.03,2,    0.77,2,   6.456,2,   3.382,2,   0.753,2,   1.9500,2,  2074.5,2,  2182.5,2,   7.8189,2,    15.00,-999.000,5,    9.40,  -1.7089
77DN20050819,      AOS05,      41,          1,     283702,         35,2,20050911,       1021,    89.2432,  -173.8612,       3245,    24.9,  -1.7385,  32.2381,2,  32.2264,2,    385.3,2,   380.5,2,    4.57,2,    2.13,2,    0.03,2,    0.72,2,   7.392,2,   3.852,2,   0.858,2,-999.0000,9,  2125.3,2,  2223.1,2,   7.8026,2,    15.00,-999.000,5,   24.90,  -1.7389
77DN20050819,      AOS05,      41,          1,     283701,         34,2,20050911,       1021,    89.2432,  -173.8612,       3245,    44.3,  -1.7727,  32.6546,2,  32.6870,2,    373.3,2,   373.7,2,    4.19,2,    3.02,2,    0.01,2,    0.62,2,   6.877,2,   3.569,2,   0.767,2,   1.4100,2,  2144.5,2,  2249.2,2,   7.8001,2,    15.00,-999.000,5,   44.30,  -1.7734
77DN20050819,      AOS05,      41,          1,     283700,         33,2,20050911,       1021,    89.2432,  -173.8612,       3245,    60.0,  -1.7822,  32.8459,2,  32.8744,2,    369.5,2,   368.9,2,    4.18,2,    3.38,2,    0.01,2,    0.55,2,   7.113,2,   3.754,2,   0.804,2,   1.8800,2,  2152.5,2,  2256.7,2,   7.8031,2,    15.00,-999.000,5,   60.00,  -1.7833
77DN20050819,      AOS05,      41,          1,     283699,         32,2,20050911,       1021,    89.2432,  -173.8612,       3245,    79.5,  -1.6670,  33.4968,2,  33.5091,2,    337.8,2,   322.6,2,    6.34,2,    7.19,2,    0.01,2,    0.67,2,   6.486,2,   3.261,2,   0.622,2,   1.5400,2,  2160.9,2,  2258.5,2,   7.7766,2,    15.00,-999.000,5,   79.50,  -1.6685
77DN20050819,      AOS05,      41,          1,     283698,         31,2,20050911,       1021,    89.2432,  -173.8612,       3245,   100.1,  -1.5404,  34.0390,2,  34.0565,2,    316.7,2,   317.1,2,    4.87,2,    7.95,2,    0.01,2,    0.66,2,   6.738,2,   3.237,2,   0.604,2,   1.9000,2,  2162.5,2,  2270.8,2,   7.8023,2,    15.00,-999.000,5,  100.10,  -1.5426
77DN20050819,      AOS05,      41,          1,     283697,         30,2,20050911,       1021,    89.2432,  -173.8612,       3245,   120.0,  -1.3193,  34.2361,2,  34.2490,2,    313.4,2,   315.9,2,    4.40,2,    8.40,2,    0.01,2,    0.67,2,   6.341,2,   3.086,2,   0.550,2,-999.0000,5,  2162.3,2,  2275.3,2,   7.8139,2,    15.00,-999.000,5,  120.00,  -1.3222
77DN20050819,      AOS05,      41,          1,     283696,         29,2,20050911,       1021,    89.2432,  -173.8612,       3245,   139.9,  -1.0151,  34.3563,2,  34.3740,2,    306.4,2,   313.6,2,    4.29,2,    8.90,2,    0.00,2,    0.69,2,   5.968,2,   2.967,2,   0.523,2,   1.7100,2,  2168.2,2,  2280.7,2,   7.8206,2,    15.00,-999.000,5,  139.90,  -1.0189
77DN20050819,      AOS05,      41,          1,     283695,         28,2,20050911,       1021,    89.2432,  -173.8612,       3245,   160.0,  -0.5721,  34.4731,2,  34.4921,2,    306.5,2,   311.5,2,    4.01,2,    9.45,2,    0.00,2,    0.72,2,   6.112,2,   2.970,2,   0.529,2,-999.0000,5,  2159.8,2,  2279.0,2,   7.8265,2,    15.00,-999.000,5,  160.00,  -0.5771
77DN20050819,      AOS05,      41,          1,     283694,         27,2,20050911,       1021,    89.2432,  -173.8612,       3245,   180.0,  -0.1342,  34.5835,2,  34.5901,2,    305.9,2,   308.9,2,    4.17,2,   10.05,2,    0.00,2,    0.74,2,   5.447,2,   2.656,2,   0.479,2,-999.0000,5,  2171.0,2,  2283.0,2,   7.8368,2,    15.00,-999.000,5,  180.00,  -0.1406
77DN20050819,      AOS05,      41,          1,     283693,         26,3,20050911,       1021,    89.2432,  -173.8612,       3245,   200.1,   0.1283,  34.6436,2,  34.6505,2,    306.1,2,   307.3,2,    4.34,2,   10.50,2,    0.00,2,    0.76,2,   5.493,2,   2.696,2,   0.348,3,-999.0000,5,  2165.7,2,  2286.7,2,   7.8395,2,    15.00,-999.000,5,  200.10,   0.1207
77DN20050819,      AOS05,      41,          1,     283692,         25,2,20050911,       1021,    89.2432,  -173.8612,       3245,   219.9,   0.5625,  34.7406,2,  34.7495,2,    304.2,2,   303.8,2,    4.50,2,   11.39,2,    0.00,2,    0.80,2,   6.100,2,   4.297,3,   0.669,3,   1.3400,2,  2160.1,2,  2287.6,2,   7.8524,2,    15.00,-999.000,5,  219.90,   0.5533
77DN20050819,      AOS05,      41,          1,     283691,         24,2,20050911,       1021,    89.2432,  -173.8612,       3245,   250.8,   0.8661,  34.8066,2,  34.8068,2,    302.0,2,   303.2,2,    4.58,2,   11.74,2,    0.00,2,    0.81,2,   5.556,2,   2.717,2,   0.491,2,-999.0000,9,  2161.4,2,  2290.4,2,   7.8582,2,    15.00,-999.000,5,  250.80,   0.8548
77DN20050819,      AOS05,      41,          1,     283690,         23,2,20050911,       1021,    89.2432,  -173.8612,       3245,   290.6,   1.0416,  34.8467,2,  34.8461,2,    303.2,2,   303.7,2,    4.66,2,   11.99,2,    0.00,2,    0.83,2,   5.358,2,   2.667,2,   0.471,2,   1.2100,2,  2162.0,2,  2290.5,2,   7.8632,2,    15.00,-999.000,5,  290.60,   1.0279
77DN20050819,      AOS05,      41,          1,     283689,         22,2,20050911,       1021,    89.2432,  -173.8612,       3245,   380.7,   0.9076,  34.8638,2,  34.8642,2,    304.9,2,   305.8,2,    4.91,2,   12.04,2,    0.00,2,    0.83,2,   3.931,3,   1.920,3,   0.250,3,-999.0000,5,  2163.0,2,  2291.4,2,   7.8581,2,    15.00,-999.000,5,  380.70,   0.8898
77DN20050819,      AOS05,      41,          1,     283688,         21,2,20050911,       1021,    89.2432,  -173.8612,       3245,   500.7,   0.5208,  34.8669,2,  34.8674,2,    304.6,2,   306.4,2,    5.17,2,   12.18,2,    0.00,2,    0.84,2,   4.693,2,   2.396,2,   0.403,2,   1.1900,2,  2165.3,2,  2292.6,2,   7.8502,2,    15.00,-999.000,5,  500.70,   0.4985
77DN20050819,      AOS05,      41,          1,     283685,         18,2,20050911,       1021,    89.2432,  -173.8612,       3245,   700.8,   0.0367,  34.8638,2,  34.8646,2,    305.8,2,   307.1,2,    5.52,2,   12.17,2,    0.00,2,    0.86,2,   4.570,2,   2.329,2,   0.387,2,   0.8500,2,  2168.2,2,  2292.2,2,   7.8407,2,    15.00,-999.000,5,  700.80,   0.0072
77DN20050819,      AOS05,      41,          1,     283686,         19,2,20050911,       1021,    89.2432,  -173.8612,       3245,   700.9,   0.0381,  34.8638,2,-999.0000,9,   -999.0,9,  -999.0,9, -999.00,9, -999.00,9, -999.00,9, -999.00,9,-999.000,9,-999.000,9,-999.000,9,-999.0000,9,  -999.0,9,  -999.0,9,-999.0000,9,  -999.00,-999.000,9,  700.90,   0.0085
77DN20050819,      AOS05,      41,          1,     283687,         20,2,20050911,       1021,    89.2432,  -173.8612,       3245,   700.9,   0.0383,  34.8638,2,-999.0000,9,   -999.0,9,  -999.0,9, -999.00,9, -999.00,9, -999.00,9, -999.00,9,-999.000,9,-999.000,9,-999.000,9,-999.0000,9,  -999.0,9,  -999.0,9,-999.0000,9,  -999.00,-999.000,9,  700.90,   0.0087
77DN20050819,      AOS05,      41,          1,     283684,         17,2,20050911,       1021,    89.2432,  -173.8612,       3245,   901.1,  -0.2185,  34.8712,2,  34.8725,2,    306.4,2,   307.5,2,    5.77,2,   12.27,2,    0.00,2,    0.87,2,   5.136,2,   2.631,2,   0.431,2,   1.1200,2,  2175.0,2,  2294.2,2,   7.8306,2,    15.00,-999.000,5,  901.10,  -0.2563
77DN20050819,      AOS05,      41,          1,     283683,         16,2,20050911,       1021,    89.2432,  -173.8612,       3245,  1100.5,  -0.3669,  34.8843,2,  34.8849,2,    306.0,2,   307.2,2,    6.49,2,   12.51,2,    0.00,2,    0.88,2,   4.289,2,   2.176,2,   0.386,2,   1.3800,2,  2184.3,2,  2292.6,2,   7.8263,2,    15.00,-999.000,5, 1100.50,  -0.4136
77DN20050819,      AOS05,      41,          1,     283682,         15,2,20050911,       1021,    89.2432,  -173.8612,       3245,  1351.0,  -0.4817,  34.8988,2,  34.8991,2,    303.0,2,   304.8,2,    7.47,2,   13.21,2,    0.00,2,    0.92,2,   3.165,2,   1.563,2,   0.242,2,-999.0000,5,  2174.8,2,  2296.4,2,   7.8349,2,    15.00,-999.000,5, 1351.00,  -0.5408
77DN20050819,      AOS05,      41,          1,     283681,         14,2,20050911,       1021,    89.2432,  -173.8612,       3245,  1599.7,  -0.5032,  34.9157,2,  34.9151,2,    300.0,2,   300.2,2,    9.08,2,   13.95,2,    0.00,2,    0.97,2,   1.900,2,   0.938,2,   0.134,2,   0.0000,2,  2170.4,2,  2295.0,2,   7.8458,2,    15.00,-999.000,5, 1599.70,  -0.5765
77DN20050819,      AOS05,      41,          1,     283678,         11,2,20050911,       1021,    89.2432,  -173.8612,       3245,  1750.4,  -0.4186,  34.9369,2,  34.9365,2,    294.0,2,   292.3,2,   10.62,2,   14.29,2,    0.00,2,    1.00,2,   0.391,2,   0.206,2,   0.000,2,   0.0000,2,  2159.0,2,  2295.2,2,   7.8722,2,    15.00,-999.000,5, 1750.40,  -0.5024
77DN20050819,      AOS05,      41,          1,     283679,         12,2,20050911,       1021,    89.2432,  -173.8612,       3245,  1750.5,  -0.4186,  34.9369,2,-999.0000,9,   -999.0,9,  -999.0,9, -999.00,9, -999.00,9, -999.00,9, -999.00,9,-999.000,9,-999.000,9,-999.000,9,-999.0000,9,  -999.0,9,  -999.0,9,-999.0000,9,  -999.00,-999.000,9, 1750.50,  -0.5024
77DN20050819,      AOS05,      41,          1,     283680,         13,2,20050911,       1021,    89.2432,  -173.8612,       3245,  1750.7,  -0.4186,  34.9369,2,-999.0000,9,   -999.0,9,  -999.0,9, -999.00,9, -999.00,9, -999.00,9, -999.00,9,-999.000,9,-999.000,9,-999.000,9,-999.0000,9,  -999.0,9,  -999.0,9,-999.0000,9,  -999.00,-999.000,9, 1750.70,  -0.5024
77DN20050819,      AOS05,      41,          1,     283677,         10,2,20050911,       1021,    89.2432,  -173.8612,       3245,  1950.3,  -0.4223,  34.9448,2,  34.9448,2,    290.3,2,   290.0,2,   11.59,2,   14.54,2,    0.00,2,    1.01,2,   0.197,2,   0.159,2,   0.000,2,   0.0000,2,  2164.4,2,  2297.3,2,   7.8704,2,    15.00,-999.000,5, 1950.30,  -0.5190
77DN20050819,      AOS05,      41,          1,     283676,          9,2,20050911,       1021,    89.2432,  -173.8612,       3245,  2152.9,  -0.5320,  34.9348,2,  34.9334,2,    294.9,2,   294.0,2,   10.86,2,   14.57,2,    0.00,2,    1.01,2,-999.000,5,-999.000,5,-999.000,5,   0.0000,2,  2167.9,2,  2298.5,2,   7.8642,2,    15.00,-999.000,5, 2152.90,  -0.6406
77DN20050819,      AOS05,      41,          1,     283675,          8,2,20050911,       1021,    89.2432,  -173.8612,       3245,  2400.6,  -0.7186,  34.9217,2,  34.9208,2,    296.9,2,   298.8,2,   10.30,2,   14.62,2,    0.00,2,    1.01,2,   0.612,2,   0.316,2,   0.190,3,-999.0000,9,  2167.1,2,  2294.8,2,   7.8575,2,    15.00,-999.000,5, 2400.60,  -0.8413
77DN20050819,      AOS05,      41,          1,     283674,          7,2,20050911,       1021,    89.2432,  -173.8612,       3245,  2652.6,  -0.7434,  34.9253,2,  34.9249,2,    297.5,2,   298.8,2,   10.74,2,   14.77,2,    0.00,2,    1.03,2,   0.427,2,   0.219,2,   0.013,2,-999.0000,5,  2163.4,2,  2298.4,2,   7.8612,2,    15.00,-999.000,5, 2652.60,  -0.8841
77DN20050819,      AOS05,      41,          1,     283673,          6,2,20050911,       1021,    89.2432,  -173.8612,       3245,  2917.9,  -0.7468,  34.9300,2,  34.9310,2,    297.3,2,   299.5,2,   11.00,2,   14.81,2,    0.00,2,    1.02,2,   0.317,2,   0.165,2,   0.000,2,-999.0000,9,  2162.2,2,  2298.5,2,   7.8643,2,    15.00,-999.000,5, 2917.90,  -0.9080
77DN20050819,      AOS05,      41,          1,     283672,          5,2,20050911,       1021,    89.2432,  -173.8612,       3245,  3185.8,  -0.7374,  34.9339,2,  34.9350,2,    297.2,2,   298.2,2,   10.71,2,   14.76,2,    0.00,2,    1.02,2,   0.221,2,   0.128,2,   0.010,2,   0.0000,2,  2160.9,2,  2295.9,2,   7.8662,2,    15.00,-999.000,5, 3185.80,  -0.9207
77DN20050819,      AOS05,      41,          1,     283671,          4,2,20050911,       1021,    89.2432,  -173.8612,       3245,  3213.2,  -0.7361,  34.9344,2,-999.0000,9,   -999.0,9,  -999.0,9, -999.00,9, -999.00,9, -999.00,9, -999.00,9,-999.000,9,-999.000,9,-999.000,9,-999.0000,9,  -999.0,9,  -999.0,9,-999.0000,9,  -999.00,-999.000,9, 3213.20,  -0.9218
77DN20050819,      AOS05,      41,          1,     283670,          3,2,20050911,       1021,    89.2432,  -173.8612,       3245,  3236.9,  -0.7356,  34.9351,2,-999.0000,9,   -999.0,9,  -999.0,9, -999.00,9, -999.00,9, -999.00,9, -999.00,9,-999.000,9,-999.000,9,-999.000,9,-999.0000,9,  -999.0,9,  -999.0,9,-999.0000,9,  -999.00,-999.000,9, 3236.90,  -0.9233
77DN20050819,      AOS05,      41,          1,     283669,          2,2,20050911,       1021,    89.2432,  -173.8612,       3245,  3260.8,  -0.7355,  34.9360,2,-999.0000,9,   -999.0,9,  -999.0,9, -999.00,9, -999.00,9, -999.00,9, -999.00,9,-999.000,9,-999.000,9,-999.000,9,-999.0000,9,  -999.0,9,  -999.0,9,-999.0000,9,  -999.00,-999.000,9, 3260.80,  -0.9252
77DN20050819,      AOS05,      41,          1,     283668,          1,2,20050911,       1021,    89.2432,  -173.8612,       3245,  3280.0,  -0.7340,  34.9361,2,  34.9356,2,    297.2,2,   298.1,2,   11.06,2,   14.75,2,    0.00,2,    1.02,2,   0.166,2,   0.123,2,   0.000,2,-999.0000,9,  2160.6,2,  2298.0,2,   7.8745,2,    15.00,-999.000,5, 3280.00,  -0.9254