BOTTLE,20211025CCHSIORKP
EXPOCODE,SECT_ID,STNNBR,CASTNO,SAMPNO,BTLNBR,BTLNBR_FLAG_W,DATE,TIME,LATITUDE,LONGITUDE,DEPTH,CTDPRS,CTDSAL,CTDSAL_FLAG_W,SALNTY,SALNTY_FLAG_W,CTDOXY,CTDOXY_FLAG_W,OXYGEN,OXYGEN_FLAG_W,SILCAT,SILCAT_FLAG_W,NITRAT,NITRAT_FLAG_W,NITRIT,NITRIT_FLAG_W,PHSPHT,PHSPHT_FLAG_W,CFC-11,CFC-11_FLAG_W,CFC-12,CFC-12_FLAG_W,TCARBN,TCARBN_FLAG_W,ALKALI,ALKALI_FLAG_W,PCO2,PCO2_FLAG_W,REVPRS,REVPRS_FLAG_W,CTDRAW,CTDTMP,THETA,REVTMP,REVTMP_FLAG_W
,,,,,,,,,,,METERS,DBAR,PSS-78,,PSS-78,,UMOL/KG,,UMOL/KG,,UMOL/KG,,UMOL/KG,,UMOL/KG,,UMOL/KG,,PMOL/KG,,PMOL/KG,,UMOL/KG,,UMOL/KG,,UATM,,DBAR,,DBAR,ITS-68,DEG C,ITS-68,
318M19881207,      SAVE4,     201,          1,          1,          1,2,19881227,       2059,   -44.8533,   -17.2783,       3269,     3.1,  34.2100,2,  34.2140,2,-999.0000,9,   290.9,2,    1.47,2,   12.22,2,    0.18,2,    1.01,2,   3.686,2,   1.707,2,  2066.5,2,  2278.3,2,   507.0,2,     1.6,2, -999.00,     9.5678,   9.5675,      9.553,2
318M19881207,      SAVE4,     201,          1,          2,          2,2,19881227,       2059,   -44.8533,   -17.2783,       3269,    44.6,  34.1806,2,  34.1820,2,-999.0000,9,   297.2,2,    1.08,2,   12.52,2,    0.18,2,    1.03,2,   3.876,2,   1.769,2,  2067.1,2,  2279.6,2,   505.1,2,  -999.0,9, -999.00,     8.8101,   8.8055,     -999.0,9
318M19881207,      SAVE4,     201,          1,          3,          3,2,19881227,       2059,   -44.8533,   -17.2783,       3269,    95.5,  34.2610,2,  34.2650,2,-999.0000,9,   287.6,2,    3.13,2,   14.27,2,    0.23,2,    1.21,2,   4.180,2,   1.899,2,  2090.8,2,  2281.7,2,   575.0,2,  -999.0,9, -999.00,     7.4519,   7.4428,     -999.0,9
318M19881207,      SAVE4,     201,          1,          4,          4,2,19881227,       2059,   -44.8533,   -17.2783,       3269,   160.1,  34.3465,2,  34.3470,2,-999.0000,9,   273.6,2,    6.65,2,   18.48,2,    0.08,2,    1.37,2,   3.611,2,   1.679,2,  2109.5,2,  2279.1,2,   654.7,2,  -999.0,9, -999.00,     6.6456,   6.6313,     -999.0,9
318M19881207,      SAVE4,     201,          1,          5,          5,2,19881227,       2059,   -44.8533,   -17.2783,       3269,   211.2,  34.3012,2,  34.3050,2,-999.0000,9,   271.0,2,    8.11,2,   20.63,2,    0.04,2,    1.49,2,   3.464,2,   1.602,2,  2132.6,2,  2299.1,2,   677.8,2,  -999.0,9, -999.00,     6.0685,   6.0505,     -999.0,9
318M19881207,      SAVE4,     201,          1,          6,          6,2,19881227,       2059,   -44.8533,   -17.2783,       3269,   261.9,  34.2490,2,  34.2510,2,-999.0000,9,   259.0,2,   11.63,2,   24.35,2,    0.02,2,    1.73,2,   3.051,2,   1.428,2,  2133.3,2,  2278.5,2,   765.2,2,  -999.0,9, -999.00,     5.2348,   5.2140,     -999.0,9
318M19881207,      SAVE4,     201,          1,          7,          7,2,19881227,       2059,   -44.8533,   -17.2783,       3269,   313.0,  34.2048,2,  34.2070,2,-999.0000,9,   265.0,2,   14.08,2,   25.81,2,    0.02,2,    1.82,2,   2.987,2,   1.394,2,  2144.2,2,  2286.6,2,   783.6,2,  -999.0,9, -999.00,     4.5522,   4.5290,     -999.0,9
318M19881207,      SAVE4,     201,          1,          8,          8,2,19881227,       2059,   -44.8533,   -17.2783,       3269,   394.9,  34.1964,2,  34.1980,2,-999.0000,9,   269.9,2,   16.82,2,   26.30,2,    0.01,2,    1.85,2,   2.956,2,   1.364,2,  2141.4,2,  2280.9,2,   796.1,2,  -999.0,9, -999.00,     4.1060,   4.0779,     -999.0,9
318M19881207,      SAVE4,     201,          1,          9,          9,2,19881227,       2059,   -44.8533,   -17.2783,       3269,   474.0,  34.1914,2,  34.1920,2,-999.0000,9,   267.0,2,   20.53,2,   27.48,2,    0.01,2,    1.93,2,   2.621,2,   1.213,2,  2150.5,2,  2284.3,2,   829.5,2,  -999.0,9, -999.00,     3.6745,   3.6420,     -999.0,9
318M19881207,      SAVE4,     201,          1,         10,         10,2,19881227,       2059,   -44.8533,   -17.2783,       3269,   619.9,  34.2042,2,  34.2150,2,-999.0000,9,   259.0,2,   26.59,2,   29.04,2,    0.01,2,    2.02,2,   2.537,2,   1.170,2,  2156.8,2,  2284.3,2,   867.5,2,  -999.0,9, -999.00,     3.0719,   3.0316,     -999.0,9
318M19881207,      SAVE4,     201,          1,         11,         11,2,19881227,       2059,   -44.8533,   -17.2783,       3269,   723.0,  34.2255,2,  34.2250,2,-999.0000,9,   247.4,2,   33.93,2,   30.41,2,    0.00,2,    2.12,2,-999.000,9,-999.000,9,  2177.2,2,  2296.9,2,   924.0,2,  -999.0,9, -999.00,     2.8941,   2.8475,     -999.0,9
318M19881207,      SAVE4,     201,          1,         12,         12,2,19881227,       2059,   -44.8533,   -17.2783,       3269,   825.3,  34.2633,2,  34.2630,2,-999.0000,9,   234.5,2,   39.89,2,   31.48,2,    0.00,2,    2.19,2,   1.618,2,   0.717,2,  2186.5,2,  2299.9,2,   969.2,2,  -999.0,9, -999.00,     2.7445,   2.6916,     -999.0,9
318M19881207,      SAVE4,     201,          1,         13,         13,2,19881227,       2059,   -44.8533,   -17.2783,       3269,   907.6,  34.3035,2,  34.3010,2,-999.0000,9,   222.5,2,   45.95,2,   32.17,2,    0.00,2,    2.25,2,-999.000,9,-999.000,9,  -999.0,9,  -999.0,9,  -999.0,9,  -999.0,9, -999.00,     2.6424,   2.5843,     -999.0,9
318M19881207,      SAVE4,     201,          1,         14,         14,2,19881227,       2059,   -44.8533,   -17.2783,       3269,   998.7,  34.3532,2,  34.3540,2,-999.0000,9,   208.9,2,   52.60,2,   32.95,2,    0.00,2,    2.30,2,   0.929,2,   0.402,2,  2216.6,2,  2319.6,2,  1060.0,2,  -999.0,9, -999.00,     2.6400,   2.5753,     -999.0,9
318M19881207,      SAVE4,     201,          1,         15,         15,2,19881227,       2059,   -44.8533,   -17.2783,       3269,  1134.2,  34.4471,2,  34.4450,2,-999.0000,9,   190.5,2,   61.98,2,   33.53,2,    0.00,2,    2.34,2,-999.000,9,-999.000,9,  -999.0,9,  -999.0,9,  -999.0,9,  -999.0,9, -999.00,     2.6185,   2.5438,     -999.0,9
318M19881207,      SAVE4,     201,          1,         16,         16,2,19881227,       2059,   -44.8533,   -17.2783,       3269,  1237.5,  34.5123,2,  34.5130,2,-999.0000,9,   183.1,2,   66.18,2,   33.63,2,    0.00,2,    2.34,2,   0.264,2,   0.085,2,  2229.3,2,  2323.9,2,  1133.6,2,  -999.0,9, -999.00,     2.6331,   2.5503,     -999.0,9
318M19881207,      SAVE4,     201,          1,         17,         17,2,19881227,       2059,   -44.8533,   -17.2783,       3269,  1339.3,  34.5676,2,  34.5680,2,-999.0000,9,   180.5,2,   68.82,2,   32.94,2,    0.00,2,    2.29,2,-999.000,9,-999.000,9,  -999.0,9,  -999.0,9,  -999.0,9,  -999.0,9, -999.00,     2.6550,   2.5639,     -999.0,9
318M19881207,      SAVE4,     201,          1,         18,         18,2,19881227,       2059,   -44.8533,   -17.2783,       3269,  1443.6,  34.6127,2,  34.6130,2,-999.0000,9,   181.2,2,   69.40,2,   32.35,2,    0.00,2,    2.25,2,   0.106,2,   0.027,2,  2237.9,2,  2338.2,2,  1100.1,2,  -999.0,9, -999.00,     2.6655,   2.5659,     -999.0,9
318M19881207,      SAVE4,     201,          1,         19,         19,2,19881227,       2059,   -44.8533,   -17.2783,       3269,  1547.2,  34.6618,2,  34.6620,2,-999.0000,9,   183.9,2,   70.08,2,   31.57,2,    0.00,2,    2.19,2,-999.000,9,-999.000,9,  -999.0,9,  -999.0,9,  -999.0,9,  -999.0,9, -999.00,     2.6429,   2.5351,     -999.0,9
318M19881207,      SAVE4,     201,          1,         20,         20,2,19881227,       2059,   -44.8533,   -17.2783,       3269,  1649.7,  34.6846,2,  34.6850,2,-999.0000,9,   185.2,2,   70.86,2,   31.08,2,    0.00,2,    2.16,2,   0.070,2,   0.022,2,  2232.0,2,  2336.5,2,  1068.5,2,  -999.0,9, -999.00,     2.6348,   2.5186,     -999.0,9
318M19881207,      SAVE4,     201,          1,         21,         21,2,19881227,       2059,   -44.8533,   -17.2783,       3269,  1751.3,  34.7112,2,  34.7120,2,-999.0000,9,   188.5,2,   71.06,2,   30.40,2,    0.00,2,    2.12,2,-999.000,9,-999.000,9,  -999.0,9,  -999.0,9,  -999.0,9,  -999.0,9, -999.00,     2.6070,   2.4826,     -999.0,9
318M19881207,      SAVE4,     201,          1,         22,         22,2,19881227,       2059,   -44.8533,   -17.2783,       3269,  1857.1,  34.7343,2,  34.7370,2,-999.0000,9,   192.5,2,   70.37,2,   29.71,2,    0.00,2,    2.06,2,   0.043,2,   0.007,2,  2234.7,2,  2346.4,3,  1023.4,2,  -999.0,9, -999.00,     2.6105,   2.4770,     -999.0,9
318M19881207,      SAVE4,     201,          1,         23,         23,2,19881227,       2059,   -44.8533,   -17.2783,       3269,  1958.8,  34.7557,2,  34.7580,2,-999.0000,9,   197.4,2,   69.10,2,   29.22,2,    0.00,2,    2.01,2,-999.000,9,-999.000,9,  -999.0,9,  -999.0,9,  -999.0,9,  -999.0,9, -999.00,     2.6090,   2.4666,     -999.0,9
318M19881207,      SAVE4,     201,          1,         24,         24,2,19881227,       2059,   -44.8533,   -17.2783,       3269,  2062.4,  34.7667,2,  34.7680,2,-999.0000,9,   199.6,2,   70.37,2,   28.64,2,    0.00,2,    1.99,2,   0.030,2,   0.000,2,  2220.7,2,  2337.0,2,   986.5,2,  -999.0,9, -999.00,     2.5248,   2.3745,     -999.0,9
318M19881207,      SAVE4,     201,          1,         25,         25,2,19881227,       2059,   -44.8533,   -17.2783,       3269,  2166.7,  34.7741,2,  34.7740,2,-999.0000,9,   202.2,2,   72.23,2,   28.54,2,    0.00,2,    1.97,2,-999.000,9,-999.000,9,  -999.0,9,  -999.0,9,  -999.0,9,  -999.0,9, -999.00,     2.4314,   2.2732,     -999.0,9
318M19881207,      SAVE4,     201,          1,         26,         26,2,19881227,       2059,   -44.8533,   -17.2783,       3269,  2269.5,  34.7824,2,  34.7830,2,-999.0000,9,   204.3,2,   72.42,2,   28.15,2,    0.00,2,    1.95,2,   0.028,2,   0.006,2,  2230.9,2,  2351.8,3,   965.9,2,  -999.0,9, -999.00,     2.3700,   2.2036,     -999.0,9
318M19881207,      SAVE4,     201,          1,         27,         27,2,19881227,       2059,   -44.8533,   -17.2783,       3269,  2373.2,  34.7859,2,  34.7860,2,-999.0000,9,   206.4,2,   74.08,2,   28.05,2,    0.00,2,    1.94,2,-999.000,9,-999.000,9,  -999.0,9,  -999.0,9,  -999.0,9,  -999.0,9, -999.00,     2.2781,   2.1038,     -999.0,9
318M19881207,      SAVE4,     201,          1,         28,         28,2,19881227,       2059,   -44.8533,   -17.2783,       3269,  2476.3,  34.7819,2,  34.7830,2,-999.0000,9,   207.1,2,   77.70,2,   28.34,2,    0.00,2,    1.96,2,   0.033,2,   0.008,2,  2220.8,2,  2342.8,2,   954.4,2,  -999.0,9, -999.00,     2.1612,   1.9796,     -999.0,9
318M19881207,      SAVE4,     201,          1,         29,         29,2,19881227,       2059,   -44.8533,   -17.2783,       3269,  2580.2,  34.7750,2,  34.7770,2,-999.0000,9,   207.2,2,   82.29,2,   28.54,2,    0.00,2,    1.97,2,-999.000,9,-999.000,9,  -999.0,9,  -999.0,9,  -999.0,9,  -999.0,9, -999.00,     1.9859,   1.7980,     -999.0,9
318M19881207,      SAVE4,     201,          1,         30,         30,2,19881227,       2059,   -44.8533,   -17.2783,       3269,  2683.5,  34.7677,2,  34.7690,2,-999.0000,9,   207.0,2,   86.40,2,   29.03,2,    0.00,2,    2.02,2,   0.027,2,   0.010,2,  2235.3,2,  2354.2,3,   983.1,2,  -999.0,9, -999.00,     1.8536,   1.6588,     -999.0,9
318M19881207,      SAVE4,     201,          1,         31,         31,2,19881227,       2059,   -44.8533,   -17.2783,       3269,  2788.1,  34.7591,2,  34.7610,2,-999.0000,9,   207.0,2,   92.07,2,   29.32,2,    0.00,2,    2.04,2,-999.000,9,-999.000,9,  -999.0,9,  -999.0,9,  -999.0,9,  -999.0,9, -999.00,     1.6899,   1.4886,     -999.0,9
318M19881207,      SAVE4,     201,          1,         32,         32,2,19881227,       2059,   -44.8533,   -17.2783,       3269,  2891.5,  34.7521,2,  34.7530,2,-999.0000,9,   207.7,2,   95.78,2,   29.81,2,    0.00,2,    2.08,2,   0.031,2,   0.006,2,  2235.2,2,  2351.9,2,   997.7,2,  2886.7,2, -999.00,     1.5829,   1.3742,      1.579,2
318M19881207,      SAVE4,     201,          1,         33,         33,2,19881227,       2059,   -44.8533,   -17.2783,       3269,  2994.8,  34.7426,2,  34.7430,2,-999.0000,9,   206.7,2,  101.45,2,   30.10,2,    0.00,2,    2.09,2,-999.000,9,-999.000,9,  -999.0,9,  -999.0,9,  -999.0,9,  -999.0,9, -999.00,     1.4202,   1.2053,     -999.0,9
318M19881207,      SAVE4,     201,          1,         34,         34,2,19881227,       2059,   -44.8533,   -17.2783,       3269,  3097.6,  34.7394,2,  34.7390,2,-999.0000,9,   208.5,2,  101.84,2,   30.40,2,    0.00,2,    2.11,2,-999.000,9,-999.000,9,  2251.1,2,  2367.1,3,  1012.8,2,  -999.0,9, -999.00,     1.3624,   1.1390,     -999.0,9
318M19881207,      SAVE4,     201,          1,         35,         35,2,19881227,       2059,   -44.8533,   -17.2783,       3269,  3254.2,  34.7353,2,  34.7350,2,-999.0000,9,   210.0,2,  104.38,2,   30.59,2,    0.00,2,    2.12,2,   0.034,2,   0.010,2,  -999.0,9,  -999.0,9,  -999.0,9,  3274.8,2, -999.00,     1.2971,   1.0602,      1.301,2
318M19881207,      SAVE4,     201,          1,         36,         36,2,19881227,       2059,   -44.8533,   -17.2783,       3269,  3324.7,  34.7332,2,  34.7330,2,-999.0000,9,   209.5,2,  105.56,2,   30.69,2,    0.00,2,    2.13,2,   0.037,2,   0.016,2,  2240.3,2,  2355.7,2,  1010.4,2,  -999.0,9, -999.00,     1.2646,   1.0216,     -999.0,9