BOTTLE,20211025CCHSIORKP
EXPOCODE,SECT_ID,STNNBR,CASTNO,SAMPNO,BTLNBR,BTLNBR_FLAG_W,DATE,TIME,LATITUDE,LONGITUDE,DEPTH,CTDPRS,CTDSAL,CTDSAL_FLAG_W,SALNTY,SALNTY_FLAG_W,CTDOXY,CTDOXY_FLAG_W,OXYGEN,OXYGEN_FLAG_W,SILCAT,SILCAT_FLAG_W,NITRAT,NITRAT_FLAG_W,NITRIT,NITRIT_FLAG_W,PHSPHT,PHSPHT_FLAG_W,CFC-11,CFC-11_FLAG_W,CFC-12,CFC-12_FLAG_W,TCARBN,TCARBN_FLAG_W,ALKALI,ALKALI_FLAG_W,PCO2,PCO2_FLAG_W,REVPRS,REVPRS_FLAG_W,CTDRAW,CTDTMP,THETA,REVTMP,REVTMP_FLAG_W
,,,,,,,,,,,METERS,DBAR,PSS-78,,PSS-78,,UMOL/KG,,UMOL/KG,,UMOL/KG,,UMOL/KG,,UMOL/KG,,UMOL/KG,,PMOL/KG,,PMOL/KG,,UMOL/KG,,UMOL/KG,,UATM,,DBAR,,DBAR,ITS-68,DEG C,ITS-68,
318M19881207,      SAVE4,     217,          2,          1,          1,2,19890106,       0022,   -30.0017,    -1.2450,       4744,     0.8,  35.9782,2,  35.9790,2,-999.0000,9,   228.4,2,    2.68,2,    0.03,2,    0.00,2,    0.17,2,   2.037,2,   1.017,2,  2054.8,2,  2365.1,2,   342.9,2,    10.5,2, -999.00,    21.2048,  21.2046,     21.188,2
318M19881207,      SAVE4,     217,          2,          2,          2,2,19890106,       0022,   -30.0017,    -1.2450,       4744,    42.0,  35.8791,2,  35.8540,2,-999.0000,9,   242.5,2,    2.42,2,    0.03,2,    0.00,2,    0.17,2,-999.000,9,-999.000,9,  2045.5,2,  2352.1,2,   343.8,2,  -999.0,9, -999.00,    19.5885,  19.5808,     -999.0,9
318M19881207,      SAVE4,     217,          2,          3,          3,2,19890106,       0022,   -30.0017,    -1.2450,       4744,   108.5,  35.5718,2,  35.5630,2,-999.0000,9,   236.8,2,    2.59,2,    0.62,2,    0.08,2,    0.26,2,   2.267,2,   1.140,2,  2054.0,2,  2338.3,2,   375.4,2,  -999.0,9, -999.00,    16.4176,  16.4001,     -999.0,9
318M19881207,      SAVE4,     217,          2,          4,          4,2,19890106,       0022,   -30.0017,    -1.2450,       4744,   155.2,  35.4247,2,  35.4150,2,-999.0000,9,   225.2,2,    3.18,2,    3.60,2,    0.02,2,    0.43,2,   2.305,2,   1.153,2,  2065.1,2,  2327.0,2,   414.8,2,  -999.0,9, -999.00,    15.4559,  15.4319,     -999.0,9
318M19881207,      SAVE4,     217,          2,          5,          5,2,19890106,       0022,   -30.0017,    -1.2450,       4744,   265.0,  35.1373,2,  35.1380,2,-999.0000,9,   210.9,2,    4.61,2,    9.79,2,    0.00,2,    0.77,2,   2.013,2,   0.990,2,  2092.3,2,  2311.7,2,   510.3,2,  -999.0,9, -999.00,    13.0119,  12.9753,     -999.0,9
318M19881207,      SAVE4,     217,          2,          6,          6,2,19890106,       0022,   -30.0017,    -1.2450,       4744,   352.9,  34.9687,2,  34.9660,2,-999.0000,9,   208.8,2,    6.47,2,   13.41,2,    0.00,2,    0.99,2,   1.787,2,   0.878,2,  2109.8,2,  2307.6,2,   573.1,2,  -999.0,9, -999.00,    11.5081,  11.4630,     -999.0,9
318M19881207,      SAVE4,     217,          2,          7,          7,2,19890106,       0022,   -30.0017,    -1.2450,       4744,   436.7,  34.7879,2,  34.7870,2,-999.0000,9,   203.6,2,    8.75,2,   17.42,2,    0.00,2,    1.25,2,   1.501,2,   0.746,2,  2137.7,2,  2313.4,2,   653.8,2,  -999.0,9, -999.00,     9.9455,   9.8945,     -999.0,9
318M19881207,      SAVE4,     217,          2,          8,          8,2,19890106,       0022,   -30.0017,    -1.2450,       4744,   568.4,  34.5602,2,  34.5580,2,-999.0000,9,   203.3,2,   13.78,2,   23.14,2,    0.00,2,    1.61,2,   1.299,2,   0.627,2,  2149.5,2,  2295.8,2,   773.8,2,  -999.0,9, -999.00,     7.7644,   7.7069,     -999.0,9
318M19881207,      SAVE4,     217,          2,          9,          9,2,19890106,       0022,   -30.0017,    -1.2450,       4744,   691.3,  34.4046,2,  34.4040,2,-999.0000,9,   212.6,2,   18.60,2,   26.69,2,    0.00,2,    1.84,2,   1.177,2,   0.561,2,  2156.6,2,  2288.8,2,   844.0,2,  -999.0,9, -999.00,     5.9992,   5.9380,     -999.0,9
318M19881207,      SAVE4,     217,          2,         10,         10,2,19890106,       0022,   -30.0017,    -1.2450,       4744,   782.8,  34.3332,2,  34.3310,2,-999.0000,9,   220.0,2,   23.42,2,   28.45,2,    0.00,2,    1.96,2,   1.051,2,   0.494,2,  2164.8,2,  2290.8,2,   881.0,2,  -999.0,9, -999.00,     4.8971,   4.8339,     -999.0,9
318M19881207,      SAVE4,     217,          2,         11,         11,2,19890106,       0022,   -30.0017,    -1.2450,       4744,   875.5,  34.3160,2,  34.3140,2,-999.0000,9,   218.8,2,   29.73,2,   30.12,2,    0.00,2,    2.07,2,   0.831,2,   0.398,2,  2176.3,2,  2293.9,2,   936.5,2,  -999.0,9, -999.00,     4.1617,   4.0955,     -999.0,9
318M19881207,      SAVE4,     217,          2,         12,         12,2,19890106,       0022,   -30.0017,    -1.2450,       4744,   977.9,  34.3507,2,  34.3490,2,-999.0000,9,   206.4,2,   39.00,2,   31.65,2,    0.00,2,    2.19,2,   0.486,2,   0.227,2,  2207.2,2,  2317.9,2,  1000.1,2,  -999.0,9, -999.00,     3.6240,   3.5533,     -999.0,9
318M19881207,      SAVE4,     217,          2,         13,         13,2,19890106,       0022,   -30.0017,    -1.2450,       4744,  1096.6,  34.4130,2,  34.4140,2,-999.0000,9,   194.4,2,   47.63,2,   32.51,2,    0.00,2,    2.27,2,   0.257,2,   0.138,2,  2228.9,2,  2336.6,2,  1037.2,2,  -999.0,9, -999.00,     3.3311,   3.2532,     -999.0,9
318M19881207,      SAVE4,     217,          2,         14,         14,2,19890106,       0022,   -30.0017,    -1.2450,       4744,  1236.2,  34.5097,2,  34.5100,2,-999.0000,9,   185.9,2,   55.00,2,   32.63,2,    0.00,2,    2.29,2,   0.090,2,   0.059,2,  2220.0,2,  2319.8,2,  1087.9,2,  -999.0,9, -999.00,     3.0842,   2.9972,     -999.0,9
318M19881207,      SAVE4,     217,          2,         15,         15,2,19890106,       0022,   -30.0017,    -1.2450,       4744,  1338.3,  34.5866,2,  34.5870,2,-999.0000,9,   185.6,2,   56.82,2,   32.01,2,    0.00,2,    2.21,2,   0.038,2,   0.025,2,  2222.8,2,  2325.6,2,  1070.2,2,  -999.0,9, -999.00,     2.9896,   2.8952,     -999.0,9
318M19881207,      SAVE4,     217,          2,         16,         16,2,19890106,       0022,   -30.0017,    -1.2450,       4744,  1441.1,  34.6390,2,  34.6350,2,-999.0000,9,   189.3,2,   56.78,2,   31.13,2,    0.00,2,    2.15,2,   0.014,2,   0.009,2,  2221.3,2,  2328.7,2,  1038.8,2,  -999.0,9, -999.00,     2.9565,   2.8539,     -999.0,9
318M19881207,      SAVE4,     217,          2,         17,         17,2,19890106,       0022,   -30.0017,    -1.2450,       4744,  1543.9,  34.6866,2,  34.6870,2,-999.0000,9,   193.9,2,   55.05,2,   29.94,2,    0.00,2,    2.07,2,   0.009,2,   0.002,2,  2226.2,2,  2339.7,2,  1003.4,2,  -999.0,9, -999.00,     2.9561,   2.8449,     -999.0,9
318M19881207,      SAVE4,     217,          2,         18,         18,2,19890106,       0022,   -30.0017,    -1.2450,       4744,  1648.5,  34.7294,2,  34.7300,2,-999.0000,9,   200.3,2,   52.68,2,   28.70,2,    0.00,2,    1.99,2,   0.006,2,   0.007,2,  2213.2,2,  2330.2,2,   974.0,2,  -999.0,9, -999.00,     2.9427,   2.8226,     -999.0,9
318M19881207,      SAVE4,     217,          2,         19,         19,2,19890106,       0022,   -30.0017,    -1.2450,       4744,  1750.8,  34.7607,2,  34.7610,2,-999.0000,9,   205.5,2,   52.00,2,   27.74,2,    0.00,2,    1.93,2,-999.000,9,-999.000,9,  2207.1,2,  2328.0,2,   947.4,2,  -999.0,9, -999.00,     2.8882,   2.7599,     -999.0,9
318M19881207,      SAVE4,     217,          2,         20,         20,2,19890106,       0022,   -30.0017,    -1.2450,       4744,  1855.2,  34.7876,2,  34.7880,2,-999.0000,9,   211.3,2,   50.05,2,   26.87,2,    0.00,2,    1.87,2,   0.001,2,   0.005,2,  2200.7,2,  2326.3,2,   916.7,2,  -999.0,9, -999.00,     2.8633,   2.7262,     -999.0,9
318M19881207,      SAVE4,     217,          2,         21,         21,2,19890106,       0022,   -30.0017,    -1.2450,       4744,  1958.2,  34.7954,2,  34.7950,2,-999.0000,9,   214.2,2,   51.50,2,   26.59,2,    0.00,2,    1.84,2,-999.000,9,-999.000,9,  2199.9,2,  2329.6,2,   894.6,2,  -999.0,9, -999.00,     2.7529,   2.6083,     -999.0,9
318M19881207,      SAVE4,     217,          2,         22,         22,2,19890106,       0022,   -30.0017,    -1.2450,       4744,  2062.5,  34.8057,2,  34.8060,2,-999.0000,9,   217.2,2,   51.88,2,   26.26,2,    0.00,2,    1.81,2,   0.001,2,-999.000,9,  2200.3,2,  2330.8,2,   890.5,2,  -999.0,9, -999.00,     2.6892,   2.5361,     -999.0,9
318M19881207,      SAVE4,     217,          2,         23,         23,2,19890106,       0022,   -30.0017,    -1.2450,       4744,  2267.7,  34.8281,2,  34.8280,2,-999.0000,9,   224.6,2,   52.69,2,   25.31,2,    0.00,2,    1.75,2,-999.000,9,-999.000,9,  2202.8,2,  2342.0,2,   847.9,2,  -999.0,9, -999.00,     2.5617,   2.3920,     -999.0,9
318M19881207,      SAVE4,     217,          2,         24,         24,2,19890106,       0022,   -30.0017,    -1.2450,       4744,  2472.6,  34.8408,2,  34.8420,2,-999.0000,9,   229.3,2,   52.44,2,   24.67,2,    0.00,2,    1.71,2,-999.000,9,-999.000,9,  2198.1,2,  2338.3,2,   840.5,2,  -999.0,9, -999.00,     2.4769,   2.2896,     -999.0,9
318M19881207,      SAVE4,     217,          2,         25,         25,2,19890106,       0022,   -30.0017,    -1.2450,       4744,  2676.7,  34.8514,2,  34.8530,2,-999.0000,9,   232.6,2,   52.40,2,   24.30,2,    0.00,2,    1.67,2,   0.000,2,   0.000,2,  2195.8,2,  2339.6,2,   822.1,2,  -999.0,9, -999.00,     2.4173,   2.2116,     -999.0,9
318M19881207,      SAVE4,     217,          2,         26,         26,2,19890106,       0022,   -30.0017,    -1.2450,       4744,  2881.6,  34.8601,2,  34.8600,2,-999.0000,9,   235.0,2,   52.36,2,   24.11,2,    0.00,2,    1.65,2,-999.000,9,-999.000,9,  2194.3,2,  2340.3,2,   811.0,2,  -999.0,9, -999.00,     2.3799,   2.1548,     -999.0,9
318M19881207,      SAVE4,     217,          2,         27,         27,2,19890106,       0022,   -30.0017,    -1.2450,       4744,  3088.0,  34.8665,2,  34.8670,2,-999.0000,9,   236.2,2,   52.53,2,   23.83,2,    0.00,2,    1.63,2,-999.000,9,-999.000,9,  2196.5,2,  2343.4,2,   808.2,2,  -999.0,9, -999.00,     2.3611,   2.1156,     -999.0,9
318M19881207,      SAVE4,     217,          2,         28,         28,2,19890106,       0022,   -30.0017,    -1.2450,       4744,  3296.6,  34.8726,2,  34.8730,2,-999.0000,9,   236.6,2,   52.70,2,   23.59,2,    0.00,2,    1.62,2,   0.005,2,   0.002,2,  2201.8,2,  2351.8,2,   797.2,2,  -999.0,9, -999.00,     2.3426,   2.0759,     -999.0,9
318M19881207,      SAVE4,     217,          2,         29,         29,2,19890106,       0022,   -30.0017,    -1.2450,       4744,  3504.7,  34.8762,2,  34.8760,2,-999.0000,9,   236.0,2,   52.66,2,   23.58,2,    0.00,2,    1.61,2,-999.000,9,-999.000,9,  2201.5,2,  2351.7,2,   796.2,2,  -999.0,9, -999.00,     2.3423,   2.0535,     -999.0,9
318M19881207,      SAVE4,     217,          2,         30,         30,2,19890106,       0022,   -30.0017,    -1.2450,       4744,  3713.5,  34.8762,2,  34.8760,2,-999.0000,9,   235.3,2,   53.26,2,   23.57,2,    0.00,2,    1.62,2,-999.000,9,-999.000,9,  2206.1,2,  2357.0,2,   795.8,2,  -999.0,9, -999.00,     2.3405,   2.0290,     -999.0,9
318M19881207,      SAVE4,     217,          2,         31,         31,2,19890106,       0022,   -30.0017,    -1.2450,       4744,  3921.2,  34.8766,2,  34.8770,2,-999.0000,9,   235.3,2,   53.86,2,   23.61,2,    0.00,2,    1.63,2,-999.000,9,   0.001,2,  2201.1,2,  2352.1,2,   792.6,2,  -999.0,9, -999.00,     2.3532,   2.0182,     -999.0,9
318M19881207,      SAVE4,     217,          2,         32,         32,2,19890106,       0022,   -30.0017,    -1.2450,       4744,  4129.9,  34.8761,2,  34.8760,2,-999.0000,9,   234.8,2,   54.24,2,   23.74,2,    0.00,2,    1.62,2,-999.000,9,-999.000,9,  2208.7,2,  2360.5,2,   793.2,2,  4136.7,2, -999.00,     2.3637,   2.0045,      2.363,2
318M19881207,      SAVE4,     217,          2,         33,         33,2,19890106,       0022,   -30.0017,    -1.2450,       4744,  4337.9,  34.8724,2,  34.8720,2,-999.0000,9,   234.3,2,   56.11,2,   23.91,2,    0.00,2,    1.63,2,   0.006,2,-999.000,9,  2221.0,2,  2374.3,3,   793.9,2,  -999.0,9, -999.00,     2.3409,   1.9580,     -999.0,9
318M19881207,      SAVE4,     217,          2,         34,         34,2,19890106,       0022,   -30.0017,    -1.2450,       4744,  4546.9,  34.8625,2,  34.8610,2,-999.0000,9,   232.5,2,   59.90,2,   24.43,2,    0.00,2,    1.68,2,-999.000,9,-999.000,9,  2208.8,2,  2356.7,2,   812.0,2,  -999.0,9, -999.00,     2.2823,   1.8763,     -999.0,9
318M19881207,      SAVE4,     217,          2,         35,         35,2,19890106,       0022,   -30.0017,    -1.2450,       4744,  4756.9,  34.8561,2,  34.8560,2,-999.0000,9,   232.1,2,   61.98,2,   24.74,2,    0.00,2,    1.69,2,-999.000,9,-999.000,9,  2215.0,2,  2363.1,2,   814.7,2,  4762.9,2, -999.00,     2.2561,   1.8254,      2.254,2
318M19881207,      SAVE4,     217,          2,         36,         36,2,19890106,       0022,   -30.0017,    -1.2450,       4744,  4838.9,  34.8547,2,  34.8560,2,-999.0000,9,   231.3,2,   63.01,2,   24.77,2,    0.00,2,    1.71,2,   0.001,2,-999.000,9,  2210.7,2,  2358.4,2,   814.5,2,  -999.0,9, -999.00,     2.2582,   1.8173,     -999.0,9