BOTTLE,20211025CCHSIORKP
EXPOCODE,SECT_ID,STNNBR,CASTNO,SAMPNO,BTLNBR,BTLNBR_FLAG_W,DATE,TIME,LATITUDE,LONGITUDE,DEPTH,CTDPRS,CTDSAL,CTDSAL_FLAG_W,SALNTY,SALNTY_FLAG_W,CTDOXY,CTDOXY_FLAG_W,OXYGEN,OXYGEN_FLAG_W,SILCAT,SILCAT_FLAG_W,NITRAT,NITRAT_FLAG_W,NITRIT,NITRIT_FLAG_W,PHSPHT,PHSPHT_FLAG_W,CFC-11,CFC-11_FLAG_W,CFC-12,CFC-12_FLAG_W,TCARBN,TCARBN_FLAG_W,ALKALI,ALKALI_FLAG_W,PCO2,PCO2_FLAG_W,REVPRS,REVPRS_FLAG_W,CTDRAW,CTDTMP,THETA,REVTMP,REVTMP_FLAG_W
,,,,,,,,,,,METERS,DBAR,PSS-78,,PSS-78,,UMOL/KG,,UMOL/KG,,UMOL/KG,,UMOL/KG,,UMOL/KG,,UMOL/KG,,PMOL/KG,,PMOL/KG,,UMOL/KG,,UMOL/KG,,UATM,,DBAR,,DBAR,ITS-68,DEG C,ITS-68,
318M19881207,      SAVE4,     189,          1,          1,          1,2,19881217,       2024,   -47.0033,   -43.1883,       5627,     3.5,  34.5307,2,  34.5350,2,-999.0000,9,   282.2,2,    1.47,2,    8.02,2,    0.19,2,    0.72,2,   3.286,2,   1.604,2,  2058.6,2,  2295.5,2,   450.6,2,  -999.0,9, -999.00,    10.4296,  10.4292,     10.424,2
318M19881207,      SAVE4,     189,          1,          2,          2,2,19881217,       2024,   -47.0033,   -43.1883,       5627,    39.0,  34.5391,2,  34.5390,2,-999.0000,9,   282.9,2,    1.47,2,    7.92,2,    0.19,2,    0.72,2,-999.000,9,-999.000,9,  -999.0,9,  -999.0,9,  -999.0,9,  -999.0,9, -999.00,    10.2108,  10.2063,     -999.0,9
318M19881207,      SAVE4,     189,          1,          3,          3,2,19881217,       2024,   -47.0033,   -43.1883,       5627,    59.4,  34.5446,2,  34.5440,2,-999.0000,9,   280.6,2,    1.47,2,    8.50,2,    0.22,2,    0.77,2,   3.379,2,   1.589,2,  -999.0,9,  -999.0,9,  -999.0,9,  -999.0,9, -999.00,     9.9961,   9.9893,     -999.0,9
318M19881207,      SAVE4,     189,          1,          4,          4,2,19881217,       2024,   -47.0033,   -43.1883,       5627,   111.0,  35.0048,2,  35.0060,2,-999.0000,9,   260.5,2,    3.13,2,   10.16,2,    0.04,2,    0.82,2,   2.989,2,   1.449,2,  -999.0,9,  -999.0,9,  -999.0,9,  -999.0,9, -999.00,    10.5953,  10.5820,     -999.0,9
318M19881207,      SAVE4,     189,          1,          5,          5,2,19881217,       2024,   -47.0033,   -43.1883,       5627,   202.8,  34.4454,2,  34.4430,2,-999.0000,9,   263.3,2,    6.45,2,   18.87,2,    0.02,2,    1.38,2,   3.168,2,   1.471,2,  -999.0,9,  -999.0,9,  -999.0,9,  -999.0,9, -999.00,     7.1738,   7.1547,     -999.0,9
318M19881207,      SAVE4,     189,          1,          6,          6,2,19881217,       2024,   -47.0033,   -43.1883,       5627,   263.9,  34.2626,2,  34.2640,2,-999.0000,9,   260.2,2,    9.68,2,   23.86,2,    0.01,2,    1.68,2,-999.000,9,-999.000,9,  -999.0,9,  -999.0,9,  -999.0,9,   264.8,2, -999.00,     5.5755,   5.5538,      5.561,2
318M19881207,      SAVE4,     189,          1,          7,          7,2,19881217,       2024,   -47.0033,   -43.1883,       5627,   366.0,  34.1953,2,  34.1970,2,-999.0000,9,   267.2,2,   13.00,2,   26.11,2,    0.01,2,    1.84,2,   3.177,2,   1.452,2,  -999.0,9,  -999.0,9,  -999.0,9,  -999.0,9, -999.00,     4.5104,   4.4832,     -999.0,9
318M19881207,      SAVE4,     189,          1,          8,          8,2,19881217,       2024,   -47.0033,   -43.1883,       5627,   417.4,  34.1872,2,  34.1890,2,-999.0000,9,   270.5,2,   14.67,2,   26.50,2,    0.01,2,    1.86,2,   3.012,2,   1.405,2,  -999.0,9,  -999.0,9,  -999.0,9,  -999.0,9, -999.00,     4.2075,   4.1773,     -999.0,9
318M19881207,      SAVE4,     189,          1,          9,          9,2,19881217,       2024,   -47.0033,   -43.1883,       5627,   509.8,  34.1860,2,  34.1870,2,-999.0000,9,   270.4,2,   18.28,2,   27.48,2,    0.01,2,    1.93,2,   2.797,2,   1.336,2,  -999.0,9,  -999.0,9,  -999.0,9,  -999.0,9, -999.00,     3.7928,   3.7572,     -999.0,9
318M19881207,      SAVE4,     189,          1,         10,         10,2,19881217,       2024,   -47.0033,   -43.1883,       5627,   622.4,  34.1945,2,  34.1950,2,-999.0000,9,   262.6,2,   22.68,2,   28.75,2,    0.01,2,    2.01,2,-999.000,9,-999.000,9,  -999.0,9,  -999.0,9,  -999.0,9,  -999.0,9, -999.00,     3.4201,   3.3779,     -999.0,9
318M19881207,      SAVE4,     189,          1,         11,         11,2,19881217,       2024,   -47.0033,   -43.1883,       5627,   724.8,  34.2131,2,  34.2130,2,-999.0000,9,   252.2,2,   28.84,2,   30.11,2,    0.01,2,    2.10,2,   2.071,2,   0.980,2,  -999.0,9,  -999.0,9,  -999.0,9,  -999.0,9, -999.00,     3.0405,   2.9930,     -999.0,9
318M19881207,      SAVE4,     189,          1,         12,         12,2,19881217,       2024,   -47.0033,   -43.1883,       5627,   826.8,  34.2408,2,  34.2410,2,-999.0000,9,   242.0,2,   35.10,2,   31.19,2,    0.00,2,    2.19,2,   1.784,2,   0.835,2,  -999.0,9,  -999.0,9,  -999.0,9,  -999.0,9, -999.00,     2.7905,   2.7372,     -999.0,9
318M19881207,      SAVE4,     189,          1,         13,         13,2,19881217,       2024,   -47.0033,   -43.1883,       5627,  1042.9,  34.3548,2,  34.3540,2,-999.0000,9,   209.8,2,   49.47,2,   33.14,2,    0.00,2,    2.32,2,   0.900,2,   0.405,2,  -999.0,9,  -999.0,9,  -999.0,9,  -999.0,9, -999.00,     2.6860,   2.6176,     -999.0,9
318M19881207,      SAVE4,     189,          1,         14,         14,2,19881217,       2024,   -47.0033,   -43.1883,       5627,  1289.3,  34.5094,2,  34.5100,2,-999.0000,9,   188.2,2,   61.19,2,   33.33,2,    0.00,2,    2.34,2,-999.000,9,-999.000,9,  -999.0,9,  -999.0,9,  -999.0,9,  -999.0,9, -999.00,     2.7229,   2.6352,     -999.0,9
318M19881207,      SAVE4,     189,          1,         15,         15,2,19881217,       2024,   -47.0033,   -43.1883,       5627,  1509.2,  34.6298,2,  34.6320,2,-999.0000,9,   184.7,2,   61.87,2,   31.67,2,    0.00,2,    2.23,2,   0.106,2,   0.080,2,  -999.0,9,  -999.0,9,  -999.0,9,  -999.0,9, -999.00,     2.8217,   2.7150,     -999.0,9
318M19881207,      SAVE4,     189,          1,         16,         16,2,19881217,       2024,   -47.0033,   -43.1883,       5627,  1639.9,  34.6795,2,  34.6800,2,-999.0000,9,   188.5,2,   62.46,2,   30.89,2,    0.00,2,    2.16,2,   0.081,2,   0.047,2,  -999.0,9,  -999.0,9,  -999.0,9,  -999.0,9, -999.00,     2.8025,   2.6850,     -999.0,9
318M19881207,      SAVE4,     189,          1,         17,         17,2,19881217,       2024,   -47.0033,   -43.1883,       5627,  1846.9,  34.7421,2,  34.7440,2,-999.0000,9,   197.1,2,   60.11,2,   29.03,2,    0.00,2,    2.04,2,-999.000,9,-999.000,9,  -999.0,9,  -999.0,9,  -999.0,9,  -999.0,9, -999.00,     2.8343,   2.6985,     -999.0,9
318M19881207,      SAVE4,     189,          1,         18,         18,2,19881217,       2024,   -47.0033,   -43.1883,       5627,  2052.3,  34.7904,2,  34.7910,2,-999.0000,9,   207.1,2,   57.17,2,   27.37,2,    0.00,2,    1.91,2,   0.057,2,   0.024,2,  -999.0,9,  -999.0,9,  -999.0,9,  -999.0,9, -999.00,     2.8243,   2.6701,     -999.0,9
318M19881207,      SAVE4,     189,          1,         19,         19,2,19881217,       2024,   -47.0033,   -43.1883,       5627,  2310.3,  34.8132,2,  34.8150,2,-999.0000,9,   213.9,2,   58.25,2,   26.78,2,    0.00,2,    1.88,2,-999.000,9,-999.000,9,  -999.0,9,  -999.0,9,  -999.0,9,  -999.0,9, -999.00,     2.6949,   2.5190,     -999.0,9
318M19881207,      SAVE4,     189,          1,         20,         20,2,19881217,       2024,   -47.0033,   -43.1883,       5627,  2517.5,  34.8485,2,  34.8480,2,-999.0000,9,   227.1,2,   51.89,2,   24.73,2,    0.00,2,    1.74,2,   0.029,2,   0.011,2,  -999.0,9,  -999.0,9,  -999.0,9,  -999.0,9, -999.00,     2.6958,   2.5001,     -999.0,9
318M19881207,      SAVE4,     189,          1,         21,         21,2,19881217,       2024,   -47.0033,   -43.1883,       5627,  2674.5,  34.8441,2,  34.8430,2,-999.0000,9,   228.5,2,   53.75,2,   24.82,2,    0.00,2,    1.71,2,   0.023,2,   0.009,2,  -999.0,9,  -999.0,9,  -999.0,9,  -999.0,9, -999.00,     2.5634,   2.3550,     -999.0,9
318M19881207,      SAVE4,     189,          1,         22,         22,2,19881217,       2024,   -47.0033,   -43.1883,       5627,  2881.9,  34.8339,2,  34.8280,2,-999.0000,9,   226.3,2,   59.42,2,   25.41,2,    0.00,2,    1.78,2,-999.000,9,-999.000,9,  -999.0,9,  -999.0,9,  -999.0,9,  -999.0,9, -999.00,     2.3689,   2.1441,     -999.0,9
318M19881207,      SAVE4,     189,          1,         23,         23,2,19881217,       2024,   -47.0033,   -43.1883,       5627,  3089.4,  34.7984,2,  34.7950,2,-999.0000,9,   218.7,2,   73.79,2,   27.07,2,    0.00,2,    1.89,2,   0.029,2,   0.012,2,  -999.0,9,  -999.0,9,  -999.0,9,  -999.0,9, -999.00,     2.0195,   1.7818,     -999.0,9
318M19881207,      SAVE4,     189,          1,         24,         24,2,19881217,       2024,   -47.0033,   -43.1883,       5627,  3297.0,  34.7546,2,  34.7540,2,-999.0000,9,   209.0,2,   91.29,2,   29.42,2,    0.00,2,    2.06,2,-999.000,9,-999.000,9,  -999.0,9,  -999.0,9,  -999.0,9,  3294.4,2, -999.00,     1.6358,   1.3865,      1.639,2
318M19881207,      SAVE4,     189,          1,         25,         25,2,19881217,       2024,   -47.0033,   -43.1883,       5627,  3504.0,  34.7380,2,  34.7330,2,-999.0000,9,   210.1,2,   99.50,2,   30.40,2,    0.00,2,    2.13,2,   0.055,2,   0.026,2,  -999.0,9,  -999.0,9,  -999.0,9,  -999.0,9, -999.00,     1.3945,   1.1303,     -999.0,9
318M19881207,      SAVE4,     189,          1,         26,         26,2,19881217,       2024,   -47.0033,   -43.1883,       5627,  3712.5,  34.7219,2,  34.7190,2,-999.0000,9,   210.1,2,  106.63,2,   30.98,2,    0.00,2,    2.18,2,-999.000,9,-999.000,9,  -999.0,9,  -999.0,9,  -999.0,9,  -999.0,9, -999.00,     1.1550,   0.8758,     -999.0,9
318M19881207,      SAVE4,     189,          1,         27,         27,2,19881217,       2024,   -47.0033,   -43.1883,       5627,  3921.8,  34.7071,2,  34.7010,2,-999.0000,9,   212.0,2,  114.45,2,   31.67,2,    0.00,2,    2.23,2,   0.075,2,   0.033,2,  -999.0,9,  -999.0,9,  -999.0,9,  -999.0,9, -999.00,     0.9430,   0.6480,     -999.0,9
318M19881207,      SAVE4,     189,          1,         28,         28,2,19881217,       2024,   -47.0033,   -43.1883,       5627,  4131.4,  34.6929,2,  34.6930,2,-999.0000,9,   213.9,2,  118.85,2,   32.06,2,    0.00,2,    2.26,2,   0.095,2,   0.065,2,  -999.0,9,  -999.0,9,  -999.0,9,  -999.0,9, -999.00,     0.7355,   0.4244,     -999.0,9
318M19881207,      SAVE4,     189,          1,         29,         29,2,19881217,       2024,   -47.0033,   -43.1883,       5627,  4340.3,  34.6846,2,  34.6800,2,-999.0000,9,   217.0,2,  122.28,2,   32.35,2,    0.00,2,    2.28,2,-999.000,9,-999.000,9,  -999.0,9,  -999.0,9,  -999.0,9,  -999.0,9, -999.00,     0.5635,   0.2352,     -999.0,9
318M19881207,      SAVE4,     189,          1,         30,         30,2,19881217,       2024,   -47.0033,   -43.1883,       5627,  4549.9,  34.6786,2,  34.6750,2,-999.0000,9,   219.4,2,  123.55,2,   32.25,2,    0.00,2,    2.30,2,   0.068,2,   0.054,2,  -999.0,9,  -999.0,9,  -999.0,9,  -999.0,9, -999.00,     0.4458,   0.0984,     -999.0,9
318M19881207,      SAVE4,     189,          1,         31,         31,2,19881217,       2024,   -47.0033,   -43.1883,       5627,  4759.0,  34.6740,2,  34.6720,2,-999.0000,9,   221.4,2,  125.21,2,   32.45,2,    0.00,2,    2.30,2,-999.000,9,-999.000,9,  -999.0,9,  -999.0,9,  -999.0,9,  -999.0,9, -999.00,     0.3592,  -0.0086,     -999.0,9
318M19881207,      SAVE4,     189,          1,         32,         32,2,19881217,       2024,   -47.0033,   -43.1883,       5627,  4967.7,  34.6716,2,  34.6720,2,-999.0000,9,   224.3,2,  126.48,2,   32.35,2,    0.00,2,    2.30,2,   0.061,2,   0.029,2,  -999.0,9,  -999.0,9,  -999.0,9,  4938.8,2, -999.00,     0.3081,  -0.0817,      0.315,2
318M19881207,      SAVE4,     189,          1,         33,         33,2,19881217,       2024,   -47.0033,   -43.1883,       5627,  5176.3,  34.6686,2,  34.6660,2,-999.0000,9,   224.1,2,  127.75,2,   32.65,2,    0.00,2,    2.31,2,-999.000,9,-999.000,9,  -999.0,9,  -999.0,9,  -999.0,9,  -999.0,9, -999.00,     0.2772,  -0.1356,     -999.0,9
318M19881207,      SAVE4,     189,          1,         34,         34,2,19881217,       2024,   -47.0033,   -43.1883,       5627,  5385.5,  34.6670,2,  34.6640,2,-999.0000,9,   225.0,2,  129.41,2,   32.74,2,    0.00,2,    2.31,2,   0.072,2,   0.046,2,  -999.0,9,  -999.0,9,  -999.0,9,  -999.0,9, -999.00,     0.2650,  -0.1722,     -999.0,9
318M19881207,      SAVE4,     189,          1,         35,         35,2,19881217,       2024,   -47.0033,   -43.1883,       5627,  5595.5,  34.6658,2,  34.6630,2,-999.0000,9,   225.0,2,  129.80,2,   32.84,2,    0.00,2,    2.33,2,   0.094,2,-999.000,9,  -999.0,9,  -999.0,9,  -999.0,9,  5636.3,2, -999.00,     0.2653,  -0.1973,      0.274,2
318M19881207,      SAVE4,     189,          1,         36,         36,2,19881217,       2024,   -47.0033,   -43.1883,       5627,  5769.1,  34.6649,2,  34.6640,2,-999.0000,9,   224.6,2,  129.80,2,   32.55,2,    0.00,2,    2.34,2,   0.102,2,   0.065,2,  -999.0,9,  -999.0,9,  -999.0,9,  -999.0,9, -999.00,     0.2748,  -0.2096,     -999.0,9