BOTTLE,20211025CCHSIORKP
EXPOCODE,SECT_ID,STNNBR,CASTNO,SAMPNO,BTLNBR,BTLNBR_FLAG_W,DATE,TIME,LATITUDE,LONGITUDE,DEPTH,CTDPRS,CTDSAL,CTDSAL_FLAG_W,SALNTY,SALNTY_FLAG_W,CTDOXY,CTDOXY_FLAG_W,OXYGEN,OXYGEN_FLAG_W,SILCAT,SILCAT_FLAG_W,NITRAT,NITRAT_FLAG_W,NITRIT,NITRIT_FLAG_W,PHSPHT,PHSPHT_FLAG_W,CFC-11,CFC-11_FLAG_W,CFC-12,CFC-12_FLAG_W,TCARBN,TCARBN_FLAG_W,ALKALI,ALKALI_FLAG_W,PCO2,PCO2_FLAG_W,REVPRS,REVPRS_FLAG_W,CTDRAW,CTDTMP,THETA,REVTMP,REVTMP_FLAG_W
,,,,,,,,,,,METERS,DBAR,PSS-78,,PSS-78,,UMOL/KG,,UMOL/KG,,UMOL/KG,,UMOL/KG,,UMOL/KG,,UMOL/KG,,PMOL/KG,,PMOL/KG,,UMOL/KG,,UMOL/KG,,UATM,,DBAR,,DBAR,ITS-68,DEG C,ITS-68,
318M19881207,      SAVE4,     218,          1,          1,          1,2,19890106,       1329,   -30.0067,    -0.0600,       4232,     2.3,  36.0446,2,  36.0480,2,-999.0000,9,   226.2,2,    1.78,2,    0.08,2,    0.00,2,    0.19,2,   2.062,2,   1.026,2,  2056.9,4,  2371.1,2,   339.0,2,  -999.0,9, -999.00,    21.5606,  21.5601,     21.539,2
318M19881207,      SAVE4,     218,          1,          2,          2,2,19890106,       1329,   -30.0067,    -0.0600,       4232,    58.0,  35.7376,2,  35.7370,2,-999.0000,9,   249.4,2,    1.73,2,    0.08,2,    0.00,2,    0.20,2,   2.356,2,   1.141,2,  2041.4,4,  2350.3,2,   338.5,2,  -999.0,9, -999.00,    17.9107,  17.9008,     -999.0,9
318M19881207,      SAVE4,     218,          1,          3,          3,2,19890106,       1329,   -30.0067,    -0.0600,       4232,   109.0,  35.6145,2,  35.6070,2,-999.0000,9,   238.4,2,    1.90,2,    0.29,2,    0.07,2,    0.27,2,   2.325,2,   1.162,2,  -999.0,9,  -999.0,9,  -999.0,9,  -999.0,9, -999.00,    16.5866,  16.5689,     -999.0,9
318M19881207,      SAVE4,     218,          1,          4,          4,2,19890106,       1329,   -30.0067,    -0.0600,       4232,   180.9,  35.3455,2,  35.3330,2,-999.0000,9,   217.6,2,    2.94,2,    5.38,2,    0.01,2,    0.53,2,   2.270,2,   1.129,2,  -999.0,9,  -999.0,9,  -999.0,9,  -999.0,9, -999.00,    14.9506,  14.9232,     -999.0,9
318M19881207,      SAVE4,     218,          1,          5,          5,2,19890106,       1329,   -30.0067,    -0.0600,       4232,   211.5,  35.2595,2,  35.2480,2,-999.0000,9,   212.7,2,    3.54,2,    7.06,2,    0.01,2,    0.64,2,   2.219,2,   1.097,2,  -999.0,9,  -999.0,9,  -999.0,9,  -999.0,9, -999.00,    14.2888,  14.2577,     -999.0,9
318M19881207,      SAVE4,     218,          1,          6,          6,2,19890106,       1329,   -30.0067,    -0.0600,       4232,   293.0,  35.1037,2,  35.1020,2,-999.0000,9,   209.2,2,    4.57,2,   10.64,2,    0.00,2,    0.83,2,   1.973,2,   0.966,2,  -999.0,9,  -999.0,9,  -999.0,9,  -999.0,9, -999.00,    12.7012,  12.6613,     -999.0,9
318M19881207,      SAVE4,     218,          1,          7,          7,2,19890106,       1329,   -30.0067,    -0.0600,       4232,   355.3,  34.9747,2,  34.9650,2,-999.0000,9,   202.2,2,    6.47,2,   14.18,2,    0.00,2,    1.04,2,   1.722,2,   0.848,2,  -999.0,9,  -999.0,9,  -999.0,9,  -999.0,9, -999.00,    11.5222,  11.4768,     -999.0,9
318M19881207,      SAVE4,     218,          1,          8,          8,2,19890106,       1329,   -30.0067,    -0.0600,       4232,   416.8,  34.8431,2,  34.8410,2,-999.0000,9,   194.0,2,    8.38,2,   17.48,2,    0.00,2,    1.26,2,   1.508,2,   0.756,2,  -999.0,9,  -999.0,9,  -999.0,9,  -999.0,9, -999.00,    10.4100,  10.3599,     -999.0,9
318M19881207,      SAVE4,     218,          1,          9,          9,2,19890106,       1329,   -30.0067,    -0.0600,       4232,   468.1,  34.7451,2,  34.7410,2,-999.0000,9,   199.4,2,    9.41,2,   19.11,2,    0.00,2,    1.36,2,   1.453,2,   0.705,2,  -999.0,9,  -999.0,9,  -999.0,9,  -999.0,9, -999.00,     9.5601,   9.5067,     -999.0,9
318M19881207,      SAVE4,     218,          1,         10,         10,2,19890106,       1329,   -30.0067,    -0.0600,       4232,   519.1,  34.6413,2,  34.6410,2,-999.0000,9,   194.8,2,   12.17,2,   22.00,2,    0.00,2,    1.55,2,   1.315,2,   0.627,2,  -999.0,9,  -999.0,9,  -999.0,9,  -999.0,9, -999.00,     8.5205,   8.4651,     -999.0,9
318M19881207,      SAVE4,     218,          1,         11,         11,2,19890106,       1329,   -30.0067,    -0.0600,       4232,   621.2,  34.4757,2,  34.4800,2,-999.0000,9,   204.9,2,   16.66,2,   25.44,2,    0.00,2,    1.75,2,   1.264,2,   0.575,2,  -999.0,9,  -999.0,9,  -999.0,9,  -999.0,9, -999.00,     6.8152,   6.7566,     -999.0,9
318M19881207,      SAVE4,     218,          1,         12,         12,2,19890106,       1329,   -30.0067,    -0.0600,       4232,   703.3,  34.3749,2,  34.3760,2,-999.0000,9,   213.1,2,   20.72,2,   27.75,2,    0.00,2,    1.92,2,   1.158,2,   0.555,2,  -999.0,9,  -999.0,9,  -999.0,9,  -999.0,9, -999.00,     5.5418,   5.4820,     -999.0,9
318M19881207,      SAVE4,     218,          1,         13,         13,2,19890106,       1329,   -30.0067,    -0.0600,       4232,   815.8,  34.3129,2,  34.3130,2,-999.0000,9,   220.3,2,   29.32,2,   29.60,2,    0.00,2,    2.04,2,-999.000,9,-999.000,9,  2041.6,4,  2347.3,2,   343.4,2,  -999.0,9, -999.00,     4.3508,   4.2883,     -999.0,9
318M19881207,      SAVE4,     218,          1,         14,         14,2,19890106,       1329,   -30.0067,    -0.0600,       4232,   929.0,  34.3339,2,  34.3320,2,-999.0000,9,   210.6,2,   38.76,2,   31.41,2,    0.00,2,    2.16,2,   0.648,2,   0.312,2,  -999.0,9,  -999.0,9,  -999.0,9,  -999.0,9, -999.00,     3.6880,   3.6207,     -999.0,9
318M19881207,      SAVE4,     218,          1,         15,         15,2,19890106,       1329,   -30.0067,    -0.0600,       4232,  1032.1,  34.3829,2,  34.3810,2,-999.0000,9,   198.6,2,   45.49,2,   32.40,2,    0.00,2,    2.26,2,-999.000,9,-999.000,9,  2035.0,4,  2338.6,2,   343.2,2,  -999.0,9, -999.00,     3.4371,   3.3634,     -999.0,9
318M19881207,      SAVE4,     218,          1,         16,         16,2,19890106,       1329,   -30.0067,    -0.0600,       4232,  1134.6,  34.4450,2,  34.4440,2,-999.0000,9,   187.9,2,   52.66,2,   32.93,2,    0.00,2,    2.28,2,   0.198,2,   0.121,2,  2043.7,4,  2332.2,2,   365.7,2,  -999.0,9, -999.00,     3.2489,   3.1686,     -999.0,9
318M19881207,      SAVE4,     218,          1,         17,         17,2,19890106,       1329,   -30.0067,    -0.0600,       4232,  1237.4,  34.5098,2,  34.5090,2,-999.0000,9,   183.3,2,   55.81,2,   32.87,2,    0.00,2,    2.29,2,-999.000,9,-999.000,9,  2057.7,4,  2331.3,2,   392.9,2,  -999.0,9, -999.00,     3.0776,   2.9905,     -999.0,9
318M19881207,      SAVE4,     218,          1,         18,         18,2,19890106,       1329,   -30.0067,    -0.0600,       4232,  1340.1,  34.5762,2,  34.5750,2,-999.0000,9,   183.5,2,   59.39,2,   32.16,2,    0.00,2,    2.24,2,   0.048,2,   0.023,2,  2070.4,4,  2323.1,2,   432.8,2,  -999.0,9, -999.00,     3.0057,   2.9110,     -999.0,9
318M19881207,      SAVE4,     218,          1,         19,         19,2,19890106,       1329,   -30.0067,    -0.0600,       4232,  1596.3,  34.7060,2,  34.7060,2,-999.0000,9,   195.5,2,   55.64,2,   29.37,2,    0.00,2,    2.04,2,-999.000,9,-999.000,9,  2084.9,4,  2310.4,2,   493.1,2,  -999.0,9, -999.00,     2.9653,   2.8495,     -999.0,9
318M19881207,      SAVE4,     218,          1,         20,         20,2,19890106,       1329,   -30.0067,    -0.0600,       4232,  1749.1,  34.7724,2,  34.7700,2,-999.0000,9,   206.0,2,   50.17,2,   27.45,2,    0.00,2,    1.88,2,-999.000,9,-999.000,9,  2101.6,4,  2304.1,2,   556.2,2,  -999.0,9, -999.00,     3.0000,   2.8704,     -999.0,9
318M19881207,      SAVE4,     218,          1,         21,         21,2,19890106,       1329,   -30.0067,    -0.0600,       4232,  1903.0,  34.7994,2,  34.7980,2,-999.0000,9,   213.1,2,   49.44,2,   26.58,2,    0.00,2,    1.83,2,-999.000,9,-999.000,9,  2120.5,4,  2289.7,2,   668.4,2,  -999.0,9, -999.00,     2.9045,   2.7625,     -999.0,9
318M19881207,      SAVE4,     218,          1,         22,         22,2,19890106,       1329,   -30.0067,    -0.0600,       4232,  1954.1,  34.8109,2,  34.8090,2,-999.0000,9,   215.3,2,   48.07,2,   26.16,2,    0.00,2,    1.80,2,-999.000,9,   0.000,2,  2143.7,4,  2289.7,2,   772.1,2,  -999.0,9, -999.00,     2.8872,   2.7409,     -999.0,9
318M19881207,      SAVE4,     218,          1,         23,         23,2,19890106,       1329,   -30.0067,    -0.0600,       4232,  2107.4,  34.8205,2,  34.8200,2,-999.0000,9,   220.0,2,   49.93,2,   25.74,2,    0.00,2,    1.77,2,-999.000,9,-999.000,9,  2160.9,4,  2286.5,2,   881.2,2,  -999.0,9, -999.00,     2.7677,   2.6094,     -999.0,9
318M19881207,      SAVE4,     218,          1,         24,         24,2,19890106,       1329,   -30.0067,    -0.0600,       4232,  2261.2,  34.8282,2,  34.8270,2,-999.0000,9,   223.3,2,   52.43,2,   25.45,2,    0.00,2,    1.75,2,   0.000,2,-999.000,9,  2178.1,4,  2296.4,2,   933.5,2,  -999.0,9, -999.00,     2.6517,   2.4811,     -999.0,9
318M19881207,      SAVE4,     218,          1,         25,         25,2,19890106,       1329,   -30.0067,    -0.0600,       4232,  2414.3,  34.8388,2,  34.8390,2,-999.0000,9,   227.0,2,   52.11,2,   24.91,2,    0.00,2,    1.73,2,-999.000,9,-999.000,9,  2186.7,4,  2297.0,2,   989.0,2,  -999.0,9, -999.00,     2.5667,   2.3832,     -999.0,9
318M19881207,      SAVE4,     218,          1,         26,         26,2,19890106,       1329,   -30.0067,    -0.0600,       4232,  2569.2,  34.8427,2,  34.8420,2,-999.0000,9,   229.3,2,   53.75,2,   24.67,2,    0.00,2,    1.71,2,   0.000,2,   0.000,2,  2209.7,4,  2311.4,2,  1065.4,2,  -999.0,9, -999.00,     2.4747,   2.2783,     -999.0,9
318M19881207,      SAVE4,     218,          1,         27,         27,2,19890106,       1329,   -30.0067,    -0.0600,       4232,  2775.4,  34.8500,2,  34.8490,2,-999.0000,9,   232.1,2,   55.16,2,   24.52,2,    0.00,2,    1.69,2,-999.000,9,-999.000,9,  2220.5,4,  2323.1,2,  1069.6,2,  -999.0,9, -999.00,     2.4123,   2.1971,     -999.0,9
318M19881207,      SAVE4,     218,          1,         28,         28,2,19890106,       1329,   -30.0067,    -0.0600,       4232,  2981.8,  34.8576,2,  34.8570,2,-999.0000,9,   234.2,2,   55.30,2,   24.20,2,    0.00,2,    1.66,2,-999.000,9,   0.000,2,  2216.3,4,  2326.1,2,  1020.2,2,  -999.0,9, -999.00,     2.3608,   2.1261,     -999.0,9
318M19881207,      SAVE4,     218,          1,         29,         29,2,19890106,       1329,   -30.0067,    -0.0600,       4232,  3187.5,  34.8645,2,  34.8650,2,-999.0000,9,   235.3,2,   54.57,2,   23.92,2,    0.00,2,    1.64,2,-999.000,9,-999.000,9,  2208.5,4,  2329.7,2,   946.4,2,  -999.0,9, -999.00,     2.3401,   2.0849,     -999.0,9
318M19881207,      SAVE4,     218,          1,         30,         30,2,19890106,       1329,   -30.0067,    -0.0600,       4232,  3393.7,  34.8712,2,  34.8710,2,-999.0000,9,   235.2,2,   53.85,2,   23.63,2,    0.00,2,    1.63,2,   0.006,2,   0.004,2,  2199.0,4,  2326.4,2,   905.7,2,  -999.0,9, -999.00,     2.3368,   2.0600,     -999.0,9
318M19881207,      SAVE4,     218,          1,         31,         31,2,19890106,       1329,   -30.0067,    -0.0600,       4232,  3599.2,  34.8727,2,  34.8720,2,-999.0000,9,   234.8,2,   55.27,2,   23.71,2,    0.00,2,    1.64,2,-999.000,9,-999.000,9,  -999.0,9,  -999.0,9,  -999.0,9,  -999.0,9, -999.00,     2.3135,   2.0152,     -999.0,9
318M19881207,      SAVE4,     218,          1,         32,         32,2,19890106,       1329,   -30.0067,    -0.0600,       4232,  3805.6,  34.8766,2,  34.8750,2,-999.0000,9,   234.0,2,   55.82,2,   23.66,2,    0.00,2,    1.62,2,-999.000,9,   0.000,2,  2197.6,4,  2335.0,2,   854.0,2,  3811.8,2, -999.00,     2.3337,   2.0122,      2.333,2
318M19881207,      SAVE4,     218,          1,         33,         33,2,19890106,       1329,   -30.0067,    -0.0600,       4232,  4007.5,  34.8765,2,  34.8760,2,-999.0000,9,   233.8,2,   55.20,2,   23.64,2,    0.00,2,    1.62,2,-999.000,9,-999.000,9,  -999.0,9,  -999.0,9,  -999.0,9,  -999.0,9, -999.00,     2.3431,   1.9985,     -999.0,9
318M19881207,      SAVE4,     218,          1,         34,         34,2,19890106,       1329,   -30.0067,    -0.0600,       4232,  4213.4,  34.8737,2,  34.8730,2,-999.0000,9,   232.9,2,   56.73,2,   23.77,2,    0.00,2,    1.63,2,-999.000,9,-999.000,9,  2198.3,4,  2342.4,2,   822.3,2,  -999.0,9, -999.00,     2.3448,   1.9764,     -999.0,9
318M19881207,      SAVE4,     218,          1,         35,         35,2,19890106,       1329,   -30.0067,    -0.0600,       4232,  4369.2,  34.8699,2,  34.8700,2,-999.0000,9,   233.0,2,   57.50,2,   23.89,2,    0.00,2,    1.63,2,-999.000,9,-999.000,9,  -999.0,9,  -999.0,9,  -999.0,9,  4376.1,2, -999.00,     2.3388,   1.9523,      2.341,2
318M19881207,      SAVE4,     218,          1,         36,         36,2,19890106,       1329,   -30.0067,    -0.0600,       4232,  4467.9,  34.8693,2,  34.8700,2,-999.0000,9,   232.3,2,   57.63,2,   23.97,2,    0.00,2,    1.64,2,   0.000,2,-999.000,9,  2197.4,4,  2347.0,2,   795.9,2,  -999.0,9, -999.00,     2.3441,   1.9457,     -999.0,9