BOTTLE,20211025CCHSIORKP
EXPOCODE,SECT_ID,STNNBR,CASTNO,SAMPNO,BTLNBR,BTLNBR_FLAG_W,DATE,TIME,LATITUDE,LONGITUDE,DEPTH,CTDPRS,CTDSAL,CTDSAL_FLAG_W,SALNTY,SALNTY_FLAG_W,CTDOXY,CTDOXY_FLAG_W,OXYGEN,OXYGEN_FLAG_W,SILCAT,SILCAT_FLAG_W,NITRAT,NITRAT_FLAG_W,NITRIT,NITRIT_FLAG_W,PHSPHT,PHSPHT_FLAG_W,CFC-11,CFC-11_FLAG_W,CFC-12,CFC-12_FLAG_W,TCARBN,TCARBN_FLAG_W,ALKALI,ALKALI_FLAG_W,PCO2,PCO2_FLAG_W,REVPRS,REVPRS_FLAG_W,CTDRAW,CTDTMP,THETA,REVTMP,REVTMP_FLAG_W
,,,,,,,,,,,METERS,DBAR,PSS-78,,PSS-78,,UMOL/KG,,UMOL/KG,,UMOL/KG,,UMOL/KG,,UMOL/KG,,UMOL/KG,,PMOL/KG,,PMOL/KG,,UMOL/KG,,UMOL/KG,,UATM,,DBAR,,DBAR,ITS-68,DEG C,ITS-68,
318M19881207,      SAVE4,     188,          1,          1,          1,2,19881217,       0933,   -47.0150,   -45.1050,       5493,     1.0,  34.2225,2,  34.2258,2,-999.0000,9,   289.4,2,    1.44,2,   10.19,2,    0.13,2,    0.81,2,   3.550,2,   1.675,2,  2052.7,2,  2283.1,2,   458.6,2,  -999.0,9, -999.00,     9.8937,   9.8936,     -999.0,9
318M19881207,      SAVE4,     188,          1,          2,          2,2,19881217,       0933,   -47.0150,   -45.1050,       5493,    36.3,  34.2902,2,  34.2866,2,-999.0000,9,   292.3,2,    1.25,2,   10.42,2,    0.14,2,    0.84,2,-999.000,9,-999.000,9,  2061.3,2,  2288.8,2,   468.9,2,  -999.0,9, -999.00,     9.3262,   9.3223,     -999.0,9
318M19881207,      SAVE4,     188,          1,          3,          3,2,19881217,       0933,   -47.0150,   -45.1050,       5493,    46.9,  34.2745,2,  34.2732,2,-999.0000,9,   290.9,2,    1.24,2,   11.20,2,    0.15,2,    0.91,2,   3.801,2,   1.769,2,  -999.0,9,  -999.0,9,  -999.0,9,  -999.0,9, -999.00,     8.9399,   8.9349,     -999.0,9
318M19881207,      SAVE4,     188,          1,          4,          4,2,19881217,       0933,   -47.0150,   -45.1050,       5493,    87.6,  34.1225,2,  34.1287,2,-999.0000,9,   305.3,2,    6.31,2,   20.23,2,    0.19,2,    1.48,2,-999.000,9,-999.000,9,  -999.0,9,  -999.0,9,  -999.0,9,  -999.0,9, -999.00,     5.5001,   5.4931,     -999.0,9
318M19881207,      SAVE4,     188,          1,          5,          5,2,19881217,       0933,   -47.0150,   -45.1050,       5493,   158.8,  34.1157,2,  34.1177,2,-999.0000,9,   290.1,2,    9.69,2,   23.89,2,    0.05,2,    1.69,2,   3.962,2,   1.831,2,  -999.0,9,  -999.0,9,  -999.0,9,  -999.0,9, -999.00,     4.5688,   4.5572,     -999.0,9
318M19881207,      SAVE4,     188,          1,          6,          6,2,19881217,       0933,   -47.0150,   -45.1050,       5493,   260.9,  34.1408,2,  34.1420,2,-999.0000,9,   281.1,2,   13.84,2,   25.94,2,    0.02,2,    1.80,2,   3.526,2,   1.640,2,  -999.0,9,  -999.0,9,  -999.0,9,  -999.0,9, -999.00,     4.1084,   4.0901,     -999.0,9
318M19881207,      SAVE4,     188,          1,          7,          7,2,19881217,       0933,   -47.0150,   -45.1050,       5493,   364.0,  34.1272,2,  34.1248,2,-999.0000,9,   282.7,2,   18.17,2,   27.35,2,    0.01,2,    1.90,2,   3.485,2,   1.587,2,  -999.0,9,  -999.0,9,  -999.0,9,  -999.0,9, -999.00,     3.3764,   3.3527,     -999.0,9
318M19881207,      SAVE4,     188,          1,          8,          8,2,19881217,       0933,   -47.0150,   -45.1050,       5493,   517.1,  34.1764,2,  34.1748,2,-999.0000,9,   260.9,2,   27.80,2,   29.90,2,    0.01,2,    2.06,2,   2.614,2,   1.218,2,  -999.0,9,  -999.0,9,  -999.0,9,  -999.0,9, -999.00,     2.8972,   2.8648,     -999.0,9
318M19881207,      SAVE4,     188,          1,          9,          9,2,19881217,       0933,   -47.0150,   -45.1050,       5493,   670.4,  34.2521,2,  34.2501,2,-999.0000,9,   237.6,2,   38.19,2,   31.88,2,    0.01,2,    2.19,2,   1.793,2,   0.833,2,  -999.0,9,  -999.0,9,  -999.0,9,  -999.0,9, -999.00,     2.6648,   2.6231,     -999.0,9
318M19881207,      SAVE4,     188,          1,         10,         10,2,19881217,       0933,   -47.0150,   -45.1050,       5493,   824.6,  34.3448,2,  34.3434,2,-999.0000,9,   211.3,2,   51.62,2,   33.62,2,    0.01,2,    2.32,2,   1.133,2,   0.538,2,  -999.0,9,  -999.0,9,  -999.0,9,  -999.0,9, -999.00,     2.5024,   2.4510,     -999.0,9
318M19881207,      SAVE4,     188,          1,         11,         11,2,19881217,       0933,   -47.0150,   -45.1050,       5493,   926.6,  34.4063,2,  34.3903,2,-999.0000,9,   201.4,2,   54.87,2,   33.81,2,    0.01,2,    2.34,2,-999.000,9,-999.000,9,  -999.0,9,  -999.0,9,  -999.0,9,  -999.0,9, -999.00,     2.5795,   2.5204,     -999.0,9
318M19881207,      SAVE4,     188,          1,         12,         12,2,19881217,       0933,   -47.0150,   -45.1050,       5493,  1030.2,  34.4667,2,-999.0000,9,-999.0000,9,  -999.0,9, -999.00,9, -999.00,9, -999.00,9, -999.00,9,-999.000,9,-999.000,9,  -999.0,9,  -999.0,9,  -999.0,9,  -999.0,9, -999.00,     2.6239,   2.5568,     -999.0,9
318M19881207,      SAVE4,     188,          1,         13,         13,2,19881217,       0933,   -47.0150,   -45.1050,       5493,  1132.5,  34.5105,2,  34.5100,2,-999.0000,9,   184.4,2,   62.71,2,   33.65,2,    0.01,2,    2.33,2,-999.000,9,-999.000,9,  -999.0,9,  -999.0,9,  -999.0,9,  -999.0,9, -999.00,     2.6234,   2.5487,     -999.0,9
318M19881207,      SAVE4,     188,          1,         14,         14,2,19881217,       0933,   -47.0150,   -45.1050,       5493,  1236.2,  34.5769,2,  34.5790,2,-999.0000,9,   182.5,2,   63.70,2,   32.88,2,    0.00,2,    2.27,2,   0.169,2,   0.089,2,  -999.0,9,  -999.0,9,  -999.0,9,  -999.0,9, -999.00,     2.7136,   2.6300,     -999.0,9
318M19881207,      SAVE4,     188,          1,         15,         15,2,19881217,       0933,   -47.0150,   -45.1050,       5493,  1339.5,  34.6106,2,  34.6114,2,-999.0000,9,   181.6,2,   68.87,2,   32.69,2,    0.00,2,    2.26,2,-999.000,9,-999.000,9,  -999.0,9,  -999.0,9,  -999.0,9,  -999.0,9, -999.00,     2.6502,   2.5591,     -999.0,9
318M19881207,      SAVE4,     188,          1,         16,         16,2,19881217,       0933,   -47.0150,   -45.1050,       5493,  1442.3,  34.6428,2,  34.6446,2,-999.0000,9,   182.3,2,   70.63,2,   32.35,2,    0.00,2,    2.23,2,   0.118,2,-999.000,9,  -999.0,9,  -999.0,9,  -999.0,9,  -999.0,9, -999.00,     2.6199,   2.5209,     -999.0,9
318M19881207,      SAVE4,     188,          1,         17,         17,2,19881217,       0933,   -47.0150,   -45.1050,       5493,  1648.1,  34.7232,2,  34.7253,2,-999.0000,9,   193.0,2,   63.27,2,   30.07,2,    0.00,2,    2.06,2,-999.000,9,-999.000,9,  -999.0,9,  -999.0,9,  -999.0,9,  -999.0,9, -999.00,     2.7658,   2.6480,     -999.0,9
318M19881207,      SAVE4,     188,          1,         18,         18,2,19881217,       0933,   -47.0150,   -45.1050,       5493,  1855.4,  34.7690,2,  34.7707,2,-999.0000,9,   202.4,2,   63.13,2,   28.75,2,    0.00,2,    1.96,2,   0.050,2,   0.037,2,  -999.0,9,  -999.0,9,  -999.0,9,  -999.0,9, -999.00,     2.6972,   2.5624,     -999.0,9
318M19881207,      SAVE4,     188,          1,         19,         19,2,19881217,       0933,   -47.0150,   -45.1050,       5493,  2062.8,  34.8109,2,  34.8126,2,-999.0000,9,   213.4,2,   58.03,2,   26.81,2,    0.00,2,    1.84,2,   0.042,2,   0.030,2,  -999.0,9,  -999.0,9,  -999.0,9,  -999.0,9, -999.00,     2.6991,   2.5458,     -999.0,9
318M19881207,      SAVE4,     188,          1,         20,         20,2,19881217,       0933,   -47.0150,   -45.1050,       5493,  2270.2,  34.8015,2,  34.8020,2,-999.0000,9,   211.0,2,   65.51,2,   27.47,2,    0.00,2,    1.88,2,   0.034,2,   0.024,2,  -999.0,9,  -999.0,9,  -999.0,9,  -999.0,9, -999.00,     2.4684,   2.3002,     -999.0,9
318M19881207,      SAVE4,     188,          1,         21,         21,2,19881217,       0933,   -47.0150,   -45.1050,       5493,  2477.1,  34.8096,2,  34.8101,2,-999.0000,9,   220.4,2,   67.08,2,   26.94,2,    0.00,2,    1.84,2,-999.000,9,-999.000,9,  -999.0,9,  -999.0,9,  -999.0,9,  -999.0,9, -999.00,     2.3167,   2.1320,     -999.0,9
318M19881207,      SAVE4,     188,          1,         22,         22,2,19881217,       0933,   -47.0150,   -45.1050,       5493,  2684.8,  34.7974,2,  34.7990,2,-999.0000,9,   215.5,2,   73.05,2,   27.60,2,    0.00,2,    1.88,2,   0.031,2,   0.024,2,  -999.0,9,  -999.0,9,  -999.0,9,  -999.0,9, -999.00,     2.1156,   1.9153,     -999.0,9
318M19881207,      SAVE4,     188,          1,         23,         23,2,19881217,       0933,   -47.0150,   -45.1050,       5493,  2891.7,  34.7670,2,  34.7688,2,-999.0000,9,   209.5,2,   87.06,2,   29.28,2,    0.00,2,    2.02,2,   0.043,2,   0.033,2,  -999.0,9,  -999.0,9,  -999.0,9,  -999.0,9, -999.00,     1.8079,   1.5943,     -999.0,9
318M19881207,      SAVE4,     188,          1,         24,         24,2,19881217,       0933,   -47.0150,   -45.1050,       5493,  3099.1,  34.7435,2,  34.7452,2,-999.0000,9,   206.0,2,   99.96,2,   30.55,2,    0.00,2,    2.10,2,   0.046,2,   0.033,2,  -999.0,9,  -999.0,9,  -999.0,9,  3089.3,2, -999.00,     1.5464,   1.3187,      1.551,2
318M19881207,      SAVE4,     188,          1,         25,         25,2,19881217,       0933,   -47.0150,   -45.1050,       5493,  3307.5,  34.7295,2,  34.7304,2,-999.0000,9,   207.0,2,  108.30,2,   31.02,2,    0.00,2,    2.15,2,-999.000,9,-999.000,9,  -999.0,9,  -999.0,9,  -999.0,9,  -999.0,9, -999.00,     1.3071,   1.0647,     -999.0,9
318M19881207,      SAVE4,     188,          1,         26,         26,2,19881217,       0933,   -47.0150,   -45.1050,       5493,  3515.5,  34.7180,2,  34.7186,2,-999.0000,9,   208.9,2,  112.62,2,   31.39,2,    0.00,2,    2.17,2,   0.064,2,   0.047,2,  -999.0,9,  -999.0,9,  -999.0,9,  -999.0,9, -999.00,     1.1096,   0.8515,     -999.0,9
318M19881207,      SAVE4,     188,          1,         27,         27,2,19881217,       0933,   -47.0150,   -45.1050,       5493,  3723.3,  34.7036,2,  34.7039,2,-999.0000,9,   212.0,2,  118.30,2,   32.14,2,    0.00,2,    2.21,2,-999.000,9,-999.000,9,  -999.0,9,  -999.0,9,  -999.0,9,  -999.0,9, -999.00,     0.8795,   0.6066,     -999.0,9
318M19881207,      SAVE4,     188,          1,         28,         28,2,19881217,       0933,   -47.0150,   -45.1050,       5493,  3932.0,  34.6944,2,  34.6938,2,-999.0000,9,   214.2,2,  121.49,2,   32.32,2,    0.00,2,    2.24,2,   0.078,2,   0.057,2,  -999.0,9,  -999.0,9,  -999.0,9,  -999.0,9, -999.00,     0.7215,   0.4317,     -999.0,9
318M19881207,      SAVE4,     188,          1,         29,         29,2,19881217,       0933,   -47.0150,   -45.1050,       5493,  4141.3,  34.6851,2,  34.6852,2,-999.0000,9,   217.1,2,  125.46,2,   32.60,2,    0.00,2,    2.24,2,-999.000,9,-999.000,9,  -999.0,9,  -999.0,9,  -999.0,9,  -999.0,9, -999.00,     0.5473,   0.2407,     -999.0,9
318M19881207,      SAVE4,     188,          1,         30,         30,2,19881217,       0933,   -47.0150,   -45.1050,       5493,  4349.8,  34.6777,2,  34.6777,2,-999.0000,9,   220.3,2,  129.44,2,   32.83,2,    0.00,2,    2.26,2,   0.076,2,   0.056,2,  -999.0,9,  -999.0,9,  -999.0,9,  -999.0,9, -999.00,     0.4022,   0.0779,     -999.0,9
318M19881207,      SAVE4,     188,          1,         31,         31,2,19881217,       0933,   -47.0150,   -45.1050,       5493,  4559.0,  34.6721,2,  34.6718,2,-999.0000,9,   223.8,2,  129.94,2,   32.92,2,    0.00,2,    2.29,2,-999.000,9,-999.000,9,  -999.0,9,  -999.0,9,  -999.0,9,  -999.0,9, -999.00,     0.2902,  -0.0532,     -999.0,9
318M19881207,      SAVE4,     188,          1,         32,         32,2,19881217,       0933,   -47.0150,   -45.1050,       5493,  4768.4,  34.6697,2,  34.6695,2,-999.0000,9,   224.8,2,  129.85,2,   32.96,2,    0.00,2,    2.29,2,   0.063,2,   0.048,2,  -999.0,9,  -999.0,9,  -999.0,9,  4793.0,2, -999.00,     0.2525,  -0.1128,      0.260,2
318M19881207,      SAVE4,     188,          1,         33,         33,2,19881217,       0933,   -47.0150,   -45.1050,       5493,  4977.9,  34.6680,2,  34.6689,2,-999.0000,9,   224.6,2,  130.47,2,   33.11,2,    0.00,2,    2.30,2,-999.000,9,-999.000,9,  -999.0,9,  -999.0,9,  -999.0,9,  -999.0,9, -999.00,     0.2433,  -0.1453,     -999.0,9
318M19881207,      SAVE4,     188,          1,         34,         34,2,19881217,       0933,   -47.0150,   -45.1050,       5493,  5187.5,  34.6672,2,-999.0000,9,-999.0000,9,  -999.0,9, -999.00,9, -999.00,9, -999.00,9, -999.00,9,-999.000,9,-999.000,9,  -999.0,9,  -999.0,9,  -999.0,9,  -999.0,9, -999.00,     0.2428,  -0.1701,     -999.0,9
318M19881207,      SAVE4,     188,          1,         35,         35,2,19881217,       0933,   -47.0150,   -45.1050,       5493,  5397.5,  34.6657,2,  34.6659,2,-999.0000,9,   224.7,2,  134.21,2,   33.24,2,    0.00,2,    2.31,2,   0.088,2,   0.077,2,  -999.0,9,  -999.0,9,  -999.0,9,  -999.0,9, -999.00,     0.2417,  -0.1960,     -999.0,9
318M19881207,      SAVE4,     188,          1,         36,         36,2,19881217,       0933,   -47.0150,   -45.1050,       5493,  5606.6,  34.6647,2,  34.6655,2,-999.0000,9,   224.3,2,  134.71,2,   33.22,2,    0.01,2,    2.32,2,   0.094,2,   0.068,2,  -999.0,9,  -999.0,9,  -999.0,9,  -999.0,9, -999.00,     0.2595,  -0.2042,     -999.0,9