BOTTLE,20211025CCHSIORKP
EXPOCODE,SECT_ID,STNNBR,CASTNO,SAMPNO,BTLNBR,BTLNBR_FLAG_W,DATE,TIME,LATITUDE,LONGITUDE,DEPTH,CTDPRS,CTDSAL,CTDSAL_FLAG_W,SALNTY,SALNTY_FLAG_W,CTDOXY,CTDOXY_FLAG_W,OXYGEN,OXYGEN_FLAG_W,SILCAT,SILCAT_FLAG_W,NITRAT,NITRAT_FLAG_W,NITRIT,NITRIT_FLAG_W,PHSPHT,PHSPHT_FLAG_W,CFC-11,CFC-11_FLAG_W,CFC-12,CFC-12_FLAG_W,TCARBN,TCARBN_FLAG_W,ALKALI,ALKALI_FLAG_W,PCO2,PCO2_FLAG_W,REVPRS,REVPRS_FLAG_W,CTDRAW,CTDTMP,THETA,REVTMP,REVTMP_FLAG_W
,,,,,,,,,,,METERS,DBAR,PSS-78,,PSS-78,,UMOL/KG,,UMOL/KG,,UMOL/KG,,UMOL/KG,,UMOL/KG,,UMOL/KG,,PMOL/KG,,PMOL/KG,,UMOL/KG,,UMOL/KG,,UATM,,DBAR,,DBAR,ITS-68,DEG C,ITS-68,
318M19881207,      SAVE4,     233,          1,         13,         13,2,19890113,       0159,   -29.9750,    14.1033,       1775,     1.3,  35.3266,2,  35.3270,2,-999.0000,9,   233.9,2,    2.44,2,    0.10,2,    0.00,2,    0.16,2,   2.139,2,   1.066,2,  2010.0,2,  2324.9,2,   318.2,2,  -999.0,9, -999.00,    20.3954,  20.3952,     -999.0,9
318M19881207,      SAVE4,     233,          1,         14,         14,2,19890113,       0159,   -29.9750,    14.1033,       1775,    36.4,  35.4772,2,  35.4680,2,-999.0000,9,   235.0,2,    2.83,2,    0.10,2,    0.00,2,    0.17,2,-999.000,9,-999.000,9,  2020.5,2,  2335.5,2,   322.3,2,  -999.0,9, -999.00,    19.4574,  19.4508,     -999.0,9
318M19881207,      SAVE4,     233,          1,         15,         15,2,19890113,       0159,   -29.9750,    14.1033,       1775,    94.6,  35.3315,2,  35.3320,2,-999.0000,9,   217.1,2,    4.59,2,    5.37,2,    0.11,2,    0.50,2,   2.224,2,   1.099,2,  2064.6,2,  2321.7,2,   422.6,2,  -999.0,9, -999.00,    15.3560,  15.3414,     -999.0,9
318M19881207,      SAVE4,     233,          1,         16,         16,2,19890113,       0159,   -29.9750,    14.1033,       1775,   164.1,  35.1281,2,  35.1270,2,-999.0000,9,   212.0,2,    6.06,2,    9.97,2,    0.01,2,    0.77,2,   2.041,2,   0.992,2,  2090.9,2,  2309.2,2,   512.4,2,  -999.0,9, -999.00,    12.9849,  12.9623,     -999.0,9
318M19881207,      SAVE4,     233,          1,         17,         17,2,19890113,       0159,   -29.9750,    14.1033,       1775,   207.9,  35.0092,2,  35.0100,2,-999.0000,9,   212.0,2,    7.04,2,   12.51,2,    0.01,2,    0.93,2,   1.868,2,   0.902,2,  -999.0,9,  -999.0,9,  -999.0,9,  -999.0,9, -999.00,    11.9013,  11.8743,     -999.0,9
318M19881207,      SAVE4,     233,          1,         18,         18,2,19890113,       0159,   -29.9750,    14.1033,       1775,   296.6,  34.7914,2,  34.7920,2,-999.0000,9,   212.7,2,    8.99,2,   16.42,2,    0.01,2,    1.16,2,   1.653,2,   0.795,2,  2115.1,2,  2296.8,2,   622.7,2,  -999.0,9, -999.00,    10.0561,  10.0215,     -999.0,9
318M19881207,      SAVE4,     233,          1,         19,         19,2,19890113,       0159,   -29.9750,    14.1033,       1775,   378.9,  34.6235,2,  34.6240,2,-999.0000,9,   171.3,2,   16.42,2,   24.73,2,    0.00,2,    1.71,2,   1.193,2,   0.570,2,  -999.0,9,  -999.0,9,  -999.0,9,  -999.0,9, -999.00,     8.2379,   8.1986,     -999.0,9
318M19881207,      SAVE4,     233,          1,         20,         20,2,19890113,       0159,   -29.9750,    14.1033,       1775,   459.3,  34.5282,2,  34.5280,2,-999.0000,9,   175.8,2,   18.96,2,   27.18,2,    0.00,2,    1.85,2,   1.049,2,   0.492,2,  2168.1,2,  2289.9,2,   908.0,2,  -999.0,9, -999.00,     7.1398,   7.0958,     -999.0,9
318M19881207,      SAVE4,     233,          1,         21,         21,2,19890113,       0159,   -29.9750,    14.1033,       1775,   523.8,  34.4083,2,  34.4070,2,-999.0000,9,   211.6,2,   20.43,2,   26.98,2,    0.00,2,    1.84,2,   1.267,2,   0.592,2,  2160.1,2,  2292.2,2,   846.6,2,  -999.0,9, -999.00,     5.9436,   5.8981,     -999.0,9
318M19881207,      SAVE4,     233,          1,         22,         22,2,19890113,       0159,   -29.9750,    14.1033,       1775,   608.0,  34.3505,2,  34.3490,2,-999.0000,9,   215.7,2,   25.32,2,   28.74,2,    0.00,2,    1.97,2,   1.139,2,   0.527,2,  -999.0,9,  -999.0,9,  -999.0,9,  -999.0,9, -999.00,     4.9523,   4.9038,     -999.0,9
318M19881207,      SAVE4,     233,          1,         23,         23,2,19890113,       0159,   -29.9750,    14.1033,       1775,   690.3,  34.3494,2,  34.3500,2,-999.0000,9,   208.3,2,   32.26,2,   30.41,2,    0.00,2,    2.08,2,   0.868,2,   0.404,2,  2167.3,2,  2282.1,2,   948.2,2,  -999.0,9, -999.00,     4.3859,   4.3334,     -999.0,9
318M19881207,      SAVE4,     233,          1,         24,         24,2,19890113,       0159,   -29.9750,    14.1033,       1775,   761.7,  34.3554,2,  34.3540,2,-999.0000,9,   203.7,2,   37.84,2,   31.58,2,    0.00,2,    2.16,2,   0.637,2,   0.301,2,  2188.9,2,  2299.2,2,   991.2,2,  -999.0,9, -999.00,     3.9344,   3.8787,     -999.0,9
318M19881207,      SAVE4,     233,          1,         25,         25,2,19890113,       0159,   -29.9750,    14.1033,       1775,   813.0,  34.3729,2,  34.3730,2,-999.0000,9,   202.6,2,   41.45,2,   32.07,2,    0.00,2,    2.22,2,   0.533,2,   0.248,2,  2196.7,2,  2302.4,2,  1027.1,2,  -999.0,9, -999.00,     3.7593,   3.7006,     -999.0,9
318M19881207,      SAVE4,     233,          1,         26,         26,2,19890113,       0159,   -29.9750,    14.1033,       1775,   889.0,  34.4021,2,  34.4010,2,-999.0000,9,   191.1,2,   45.85,2,   32.75,2,    0.00,2,    2.26,2,   0.359,2,   0.168,2,  -999.0,9,  -999.0,9,  -999.0,9,  -999.0,9, -999.00,     3.5673,   3.5039,     -999.0,9
318M19881207,      SAVE4,     233,          1,         27,         27,2,19890113,       0159,   -29.9750,    14.1033,       1775,   947.0,  34.4266,2,  34.4270,2,-999.0000,9,   186.9,2,   49.08,2,   33.14,2,    0.00,2,    2.29,2,   0.277,2,   0.140,2,  2211.5,2,  2313.3,2,  1065.8,2,  -999.0,9, -999.00,     3.4215,   3.3546,     -999.0,9
318M19881207,      SAVE4,     233,          1,         28,         28,2,19890113,       0159,   -29.9750,    14.1033,       1775,  1016.0,  34.4562,2,  34.4560,2,-999.0000,9,   183.7,2,   53.77,2,   33.43,2,    0.00,2,    2.33,2,   0.205,2,   0.113,2,  2217.2,2,  2316.0,2,  1091.8,2,  -999.0,9, -999.00,     3.2654,   3.1943,     -999.0,9
318M19881207,      SAVE4,     233,          1,         29,         29,2,19890113,       0159,   -29.9750,    14.1033,       1775,  1117.8,  34.5340,2,-999.0000,9,-999.0000,9,  -999.0,9, -999.00,9, -999.00,9, -999.00,9, -999.00,9,-999.000,9,-999.000,9,  -999.0,9,  -999.0,9,  -999.0,9,  -999.0,9, -999.00,     3.0607,   2.9832,     -999.0,9
318M19881207,      SAVE4,     233,          1,         30,         30,2,19890113,       0159,   -29.9750,    14.1033,       1775,  1245.0,  34.6017,2,  34.6020,2,-999.0000,9,   179.8,2,   60.31,2,   32.35,2,    0.00,2,    2.21,2,   0.032,2,   0.024,2,  2225.0,2,  2325.9,2,  1085.6,2,  -999.0,9, -999.00,     2.9706,   2.8838,     -999.0,9
318M19881207,      SAVE4,     233,          1,         31,         31,2,19890113,       0159,   -29.9750,    14.1033,       1775,  1322.6,  34.6608,2,  34.6610,2,-999.0000,9,   184.4,2,   55.03,2,   31.18,2,    0.00,2,    2.10,2,   0.015,2,   0.006,2,  2219.0,2,  2324.9,2,  1046.7,2,  -999.0,9, -999.00,     3.0644,   2.9702,     -999.0,9
318M19881207,      SAVE4,     233,          1,         32,         32,2,19890113,       0159,   -29.9750,    14.1033,       1775,  1426.7,  34.7255,2,  34.7250,2,-999.0000,9,   192.3,2,   52.19,2,   29.32,2,    0.00,2,    1.99,2,   0.000,2,   0.000,2,  2214.3,2,  2328.0,2,   994.2,2,  -999.0,9, -999.00,     3.0630,   2.9601,     -999.0,9
318M19881207,      SAVE4,     233,          1,         33,         33,2,19890113,       0159,   -29.9750,    14.1033,       1775,  1528.9,  34.7814,2,  34.7810,2,-999.0000,9,   201.1,2,   46.91,2,   27.46,2,    0.00,2,    1.87,2,   0.002,2,   0.007,2,  2202.4,2,  2322.9,2,   945.6,2,  -999.0,9, -999.00,     3.1132,   3.0011,     -999.0,9
318M19881207,      SAVE4,     233,          1,         34,         34,2,19890113,       0159,   -29.9750,    14.1033,       1775,  1631.3,  34.8069,2,-999.0000,9,-999.0000,9,  -999.0,9, -999.00,9, -999.00,9, -999.00,9, -999.00,9,-999.000,9,-999.000,9,  -999.0,9,  -999.0,9,  -999.0,9,  -999.0,9, -999.00,     3.1190,   2.9980,     -999.0,9
318M19881207,      SAVE4,     233,          1,         35,         35,2,19890113,       0159,   -29.9750,    14.1033,       1775,  1735.9,  34.8353,2,  34.8350,2,-999.0000,9,   211.3,2,   42.61,2,   25.80,2,    0.00,2,    1.76,2,-999.000,9,-999.000,9,  2196.1,2,  2325.5,2,   892.4,2,  1737.8,2, -999.00,     3.1186,   2.9884,      3.122,2
318M19881207,      SAVE4,     233,          1,         36,         36,2,19890113,       0159,   -29.9750,    14.1033,       1775,  1774.9,  34.8558,2,  34.8560,2,-999.0000,9,   216.4,2,   42.02,2,   25.02,2,    0.00,2,    1.69,2,   0.002,2,-999.000,9,  2190.9,2,  2324.0,2,   869.8,2,  -999.0,9, -999.00,     3.0715,   2.9384,     -999.0,9
318M19881207,      SAVE4,     234,          1,         22,         22,2,19890113,       0903,   -29.9983,    14.6467,        507,     1.6,  35.1762,2,-999.0000,9,-999.0000,9,   244.5,2,    2.25,2,    0.10,2,    0.00,2,    0.16,2,-999.000,9,-999.000,9,  -999.0,9,  -999.0,9,  -999.0,9,  -999.0,9, -999.00,    20.2886,  20.2883,     -999.0,9
318M19881207,      SAVE4,     234,          1,         21,         21,2,19890113,       0903,   -29.9983,    14.6467,        507,     1.8,  35.1762,2,  35.1760,2,-999.0000,9,  -999.0,9,    2.25,2,    0.10,2,    0.00,2,    0.17,2,-999.000,9,-999.000,9,  -999.0,9,  -999.0,9,  -999.0,9,  -999.0,9, -999.00,    20.2916,  20.2912,     -999.0,9
318M19881207,      SAVE4,     234,          1,         18,         18,2,19890113,       0903,   -29.9983,    14.6467,        507,     2.4,  35.1768,2,-999.0000,9,-999.0000,9,  -999.0,9, -999.00,9, -999.00,9, -999.00,9, -999.00,9,-999.000,9,-999.000,9,  2008.7,2,  -999.0,9,   316.2,2,  -999.0,9, -999.00,    20.3006,  20.3001,     20.320,2
318M19881207,      SAVE4,     234,          1,         23,         23,2,19890113,       0903,   -29.9983,    14.6467,        507,    23.2,  35.1871,2,  35.1870,2,-999.0000,9,   241.8,2,    1.95,2,    0.10,2,    0.01,2,    0.15,2,-999.000,9,-999.000,9,  -999.0,9,  -999.0,9,  -999.0,9,  -999.0,9, -999.00,    20.0386,  20.0343,     -999.0,9
318M19881207,      SAVE4,     234,          1,         24,         24,2,19890113,       0903,   -29.9983,    14.6467,        507,    54.3,  35.2434,2,  35.2460,2,-999.0000,9,   229.4,2,    3.13,2,    3.32,2,    0.45,2,    0.39,2,   2.265,2,   1.115,2,  2049.9,2,  2322.1,2,   390.3,2,  -999.0,9, -999.00,    16.5126,  16.5038,     -999.0,9
318M19881207,      SAVE4,     234,          1,         25,         25,2,19890113,       0903,   -29.9983,    14.6467,        507,    80.2,  35.1952,2,  35.1950,2,-999.0000,9,   209.3,2,    4.40,2,    8.89,2,    0.02,2,    0.68,2,-999.000,9,-999.000,9,  2084.1,2,  2315.7,2,   479.6,2,  -999.0,9, -999.00,    14.0685,  14.0569,     -999.0,9
318M19881207,      SAVE4,     234,          1,         26,         26,2,19890113,       0903,   -29.9983,    14.6467,        507,   105.8,  35.1417,2,  35.1430,2,-999.0000,9,   208.8,2,    5.47,2,   10.45,2,    0.01,2,    0.78,2,   2.100,2,   1.016,2,  -999.0,9,  -999.0,9,  -999.0,9,  -999.0,9, -999.00,    13.3988,  13.3839,     -999.0,9
318M19881207,      SAVE4,     234,          1,         27,         27,2,19890113,       0903,   -29.9983,    14.6467,        507,   131.7,  35.0909,2,  35.1020,2,-999.0000,9,   205.3,2,    5.76,2,   11.24,2,    0.01,2,    0.84,2,-999.000,9,-999.000,9,  2099.5,2,  2310.4,2,   534.4,2,  -999.0,9, -999.00,    12.8440,  12.8261,     -999.0,9
318M19881207,      SAVE4,     234,          1,         28,         28,2,19890113,       0903,   -29.9983,    14.6467,        507,   156.9,  34.9875,2,  34.9890,2,-999.0000,9,   202.3,2,    6.55,2,   13.58,2,    0.01,2,    0.99,2,   1.876,2,   0.916,2,  -999.0,9,  -999.0,9,  -999.0,9,  -999.0,9, -999.00,    11.8255,  11.8053,     -999.0,9
318M19881207,      SAVE4,     234,          1,         29,         29,2,19890113,       0903,   -29.9983,    14.6467,        507,   182.8,  34.9136,2,  34.9270,2,-999.0000,9,   202.3,2,    7.23,2,   15.05,2,    0.01,2,    1.11,2,-999.000,9,-999.000,9,  -999.0,9,  -999.0,9,  -999.0,9,  -999.0,9, -999.00,    11.0749,  11.0523,     -999.0,9
318M19881207,      SAVE4,     234,          1,         30,         30,2,19890113,       0903,   -29.9983,    14.6467,        507,   234.1,  34.7959,2,  34.8140,2,-999.0000,9,   201.4,2,    9.48,2,   17.40,2,    0.01,2,    1.24,2,   1.549,2,   0.748,2,  2123.5,2,  2298.3,2,   650.5,2,  -999.0,9, -999.00,     9.9885,   9.9613,     -999.0,9
318M19881207,      SAVE4,     234,          1,         31,         31,2,19890113,       0903,   -29.9983,    14.6467,        507,   259.8,  34.7657,2,  34.7660,2,-999.0000,9,   194.8,2,   10.36,2,   18.77,2,    0.01,2,    1.35,2,-999.000,9,-999.000,9,  -999.0,9,  -999.0,9,  -999.0,9,  -999.0,9, -999.00,     9.7406,   9.7109,     -999.0,9
318M19881207,      SAVE4,     234,          1,         32,         32,2,19890113,       0903,   -29.9983,    14.6467,        507,   310.8,  34.6686,2,  34.6720,2,-999.0000,9,   184.4,2,   13.59,2,   21.99,2,    0.00,2,    1.57,2,   1.405,2,   0.674,2,  -999.0,9,  -999.0,9,  -999.0,9,  -999.0,9, -999.00,     8.8271,   8.7937,     -999.0,9
318M19881207,      SAVE4,     234,          1,         33,         33,2,19890113,       0903,   -29.9983,    14.6467,        507,   362.5,  34.5887,2,  34.5870,2,-999.0000,9,   193.1,2,   15.15,2,   23.85,2,    0.00,2,    1.66,2,-999.000,9,-999.000,9,  2150.8,2,  2289.3,2,   811.2,2,  -999.0,9, -999.00,     7.9627,   7.9259,     -999.0,9
318M19881207,      SAVE4,     234,          1,         34,         34,2,19890113,       0903,   -29.9983,    14.6467,        507,   412.7,  34.5114,2,  34.5090,2,-999.0000,9,   182.2,2,   18.67,2,   27.18,2,    0.00,2,    1.85,2,   1.082,2,   0.503,2,  -999.0,9,  -999.0,9,  -999.0,9,  -999.0,9, -999.00,     6.9123,   6.8737,     -999.0,9
318M19881207,      SAVE4,     234,          1,         35,         35,2,19890113,       0903,   -29.9983,    14.6467,        507,   463.6,  34.4964,2,  34.4960,2,-999.0000,9,   159.1,2,   20.82,2,   30.40,2,    0.00,2,    2.04,2,-999.000,9,-999.000,9,  -999.0,9,  -999.0,9,  -999.0,9,  -999.0,9, -999.00,     6.5696,   6.5272,     -999.0,9
318M19881207,      SAVE4,     234,          1,         36,         36,2,19890113,       0903,   -29.9983,    14.6467,        507,   509.7,  34.4893,2,  34.4910,2,-999.0000,9,   157.4,2,   21.70,2,   30.79,2,    0.01,2,    2.07,2,   0.764,2,   0.368,2,  2191.0,2,  2292.2,2,  1050.3,2,  -999.0,9, -999.00,     6.4397,   6.3934,     -999.0,9
318M19881207,      SAVE4,     235,          1,         29,         29,2,19890113,       1336,   -29.9967,    15.3467,        222,     4.0,  35.2041,2,  35.2027,2,-999.0000,9,   241.1,2,    2.21,2,    0.09,2,    0.00,2,    0.17,2,-999.000,9,-999.000,9,  2016.0,2,  2326.7,2,   324.0,2,  -999.0,9, -999.00,    20.0355,  20.0348,     19.889,2
318M19881207,      SAVE4,     235,          1,         30,         30,2,19890113,       1336,   -29.9967,    15.3467,        222,    24.9,  35.2530,2,  35.2382,2,-999.0000,9,   234.2,2,    2.87,2,    1.98,2,    0.28,2,    0.32,2,   2.307,2,   1.150,2,  -999.0,9,  -999.0,9,  -999.0,9,  -999.0,9, -999.00,    17.1690,  17.1648,     -999.0,9
318M19881207,      SAVE4,     235,          1,         31,         31,2,19890113,       1336,   -29.9967,    15.3467,        222,    54.9,  35.2861,2,  35.2886,2,-999.0000,9,   213.0,2,    5.07,2,    7.39,2,    0.07,2,    0.59,2,-999.000,9,-999.000,9,  2076.7,2,  2319.0,2,   455.3,2,  -999.0,9, -999.00,    14.6849,  14.6768,     -999.0,9
318M19881207,      SAVE4,     235,          1,         32,         32,2,19890113,       1336,   -29.9967,    15.3467,        222,    85.2,  35.0779,2,  35.0802,2,-999.0000,9,   208.6,2,    5.73,2,   11.56,2,    0.01,2,    0.85,2,   2.065,2,   0.997,2,  -999.0,9,  -999.0,9,  -999.0,9,  -999.0,9, -999.00,    12.6335,  12.6221,     -999.0,9
318M19881207,      SAVE4,     235,          1,         33,         33,2,19890113,       1336,   -29.9967,    15.3467,        222,   116.0,  35.0022,2,  35.0068,2,-999.0000,9,   205.5,2,    6.39,2,   13.32,2,    0.01,2,    0.97,2,-999.000,9,-999.000,9,  2107.7,2,  2307.6,2,   566.5,2,  -999.0,9, -999.00,    11.8844,  11.8694,     -999.0,9
318M19881207,      SAVE4,     235,          1,         34,         34,2,19890113,       1336,   -29.9967,    15.3467,        222,   155.9,  34.8937,2,  34.9003,2,-999.0000,9,   203.1,2,    8.15,2,   15.49,2,    0.00,2,    1.11,2,   1.682,2,   0.796,2,  -999.0,9,  -999.0,9,  -999.0,9,  -999.0,9, -999.00,    10.8709,  10.8519,     -999.0,9
318M19881207,      SAVE4,     235,          1,         35,         35,2,19890113,       1336,   -29.9967,    15.3467,        222,   187.3,  34.7797,2,  34.7803,2,-999.0000,9,   198.6,2,   10.35,2,   18.06,2,    0.01,2,    1.30,2,-999.000,9,-999.000,9,  -999.0,9,  -999.0,9,  -999.0,9,   185.1,2, -999.00,     9.8539,   9.8325,      9.860,2
318M19881207,      SAVE4,     235,          1,         36,         36,2,19890113,       1336,   -29.9967,    15.3467,        222,   219.1,  34.7746,2,  34.7752,2,-999.0000,9,   197.4,2,    9.91,2,   18.36,2,    0.02,2,    1.32,2,   1.549,2,   0.740,2,  2131.2,2,  2300.9,2,   672.0,2,  -999.0,9, -999.00,     9.8063,   9.7812,     -999.0,9