BOTTLE,20211025CCHSIORKP
EXPOCODE,SECT_ID,STNNBR,CASTNO,SAMPNO,BTLNBR,BTLNBR_FLAG_W,DATE,TIME,LATITUDE,LONGITUDE,DEPTH,CTDPRS,CTDSAL,CTDSAL_FLAG_W,SALNTY,SALNTY_FLAG_W,CTDOXY,CTDOXY_FLAG_W,OXYGEN,OXYGEN_FLAG_W,SILCAT,SILCAT_FLAG_W,NITRAT,NITRAT_FLAG_W,NITRIT,NITRIT_FLAG_W,PHSPHT,PHSPHT_FLAG_W,CFC-11,CFC-11_FLAG_W,CFC-12,CFC-12_FLAG_W,TCARBN,TCARBN_FLAG_W,ALKALI,ALKALI_FLAG_W,PCO2,PCO2_FLAG_W,REVPRS,REVPRS_FLAG_W,CTDRAW,CTDTMP,THETA,REVTMP,REVTMP_FLAG_W
,,,,,,,,,,,METERS,DBAR,PSS-78,,PSS-78,,UMOL/KG,,UMOL/KG,,UMOL/KG,,UMOL/KG,,UMOL/KG,,UMOL/KG,,PMOL/KG,,PMOL/KG,,UMOL/KG,,UMOL/KG,,UATM,,DBAR,,DBAR,ITS-68,DEG C,ITS-68,
318M19881207,      SAVE4,     221,          1,          1,          1,2,19890107,       1714,   -30.0133,     3.7000,       4732,     2.0,  35.7397,2,  35.7370,2,-999.0000,9,   229.8,2,    2.45,2,    0.02,2,    0.00,2,    0.18,2,   2.060,2,   1.024,2,  2040.8,2,  2344.4,2,   345.4,2,  -999.0,9, -999.00,    20.8214,  20.8210,     20.683,2
318M19881207,      SAVE4,     221,          1,          2,          2,2,19890107,       1714,   -30.0133,     3.7000,       4732,    26.7,  35.6756,2,  35.6830,2,-999.0000,9,   239.4,2,    2.43,2,    0.02,2,    0.00,2,    0.18,2,   2.257,2,   1.117,2,  -999.0,9,  -999.0,9,  -999.0,9,  -999.0,9, -999.00,    19.4873,  19.4825,     -999.0,9
318M19881207,      SAVE4,     221,          1,          3,          3,2,19890107,       1714,   -30.0133,     3.7000,       4732,    57.3,  35.8002,2,  35.8000,2,-999.0000,9,   241.8,2,    2.18,2,    0.02,2,    0.00,2,    0.22,2,   2.204,2,   1.098,2,  2047.6,2,  2354.3,2,   343.9,2,  -999.0,9, -999.00,    18.7093,  18.6992,     -999.0,9
318M19881207,      SAVE4,     221,          1,          4,          4,2,19890107,       1714,   -30.0133,     3.7000,       4732,   108.4,  35.6425,2,  35.6430,2,-999.0000,9,   239.9,2,    2.40,2,    0.04,2,    0.02,2,    0.22,2,   2.297,2,   1.141,2,  2048.2,2,  2346.0,2,   354.7,2,  -999.0,9, -999.00,    17.1554,  17.1373,     -999.0,9
318M19881207,      SAVE4,     221,          1,          5,          5,2,19890107,       1714,   -30.0133,     3.7000,       4732,   174.6,  35.4516,2,  35.4500,2,-999.0000,9,   226.3,2,    3.10,2,    3.33,2,    0.02,2,    0.39,2,   2.343,2,   1.153,2,  -999.0,9,  -999.0,9,  -999.0,9,  -999.0,9, -999.00,    15.6023,  15.5750,     -999.0,9
318M19881207,      SAVE4,     221,          1,          6,          6,2,19890107,       1714,   -30.0133,     3.7000,       4732,   225.4,  35.2799,2,  35.2730,2,-999.0000,9,   215.3,2,    3.80,2,    6.54,2,    0.01,2,    0.59,2,-999.000,9,-999.000,9,  2075.0,2,  2316.6,2,   455.7,2,  -999.0,9, -999.00,    14.5145,  14.4810,     -999.0,9
318M19881207,      SAVE4,     221,          1,          7,          7,2,19890107,       1714,   -30.0133,     3.7000,       4732,   278.6,  35.1296,2,  35.1270,2,-999.0000,9,   205.6,2,    5.22,2,   10.46,2,    0.00,2,    0.82,2,   1.940,2,   0.949,2,  -999.0,9,  -999.0,9,  -999.0,9,  -999.0,9, -999.00,    13.0917,  13.0530,     -999.0,9
318M19881207,      SAVE4,     221,          1,          8,          8,2,19890107,       1714,   -30.0133,     3.7000,       4732,   358.2,  34.9508,2,  34.9500,2,-999.0000,9,   208.5,2,    6.39,2,   13.88,2,    0.00,2,    1.02,2,   1.745,2,   0.805,2,  2112.2,2,  2309.8,2,   574.6,2,  -999.0,9, -999.00,    11.3729,  11.3275,     -999.0,9
318M19881207,      SAVE4,     221,          1,          9,          9,2,19890107,       1714,   -30.0133,     3.7000,       4732,   435.0,  34.7920,2,  34.7940,2,-999.0000,9,   197.1,2,    9.22,2,   18.11,2,    0.00,2,    1.29,2,   1.451,2,   0.696,2,  2122.2,2,  2294.0,2,   660.3,2,  -999.0,9, -999.00,    10.0019,   9.9509,     -999.0,9
318M19881207,      SAVE4,     221,          1,         10,         10,2,19890107,       1714,   -30.0133,     3.7000,       4732,   553.0,  34.5801,2,  34.5810,2,-999.0000,9,   193.2,2,   14.66,2,   23.74,2,    0.00,2,    1.65,2,   1.233,2,   0.586,2,  2149.3,2,  2291.2,2,   794.1,2,  -999.0,9, -999.00,     7.9129,   7.8564,     -999.0,9
318M19881207,      SAVE4,     221,          1,         11,         11,2,19890107,       1714,   -30.0133,     3.7000,       4732,   671.0,  34.3580,2,  34.3600,2,-999.0000,9,   218.2,2,   21.28,2,   27.39,2,    0.00,2,    1.89,2,   1.237,2,   0.546,2,  2159.2,2,  2289.6,2,   854.4,2,  -999.0,9, -999.00,     5.4099,   5.3536,     -999.0,9
318M19881207,      SAVE4,     221,          1,         12,         12,2,19890107,       1714,   -30.0133,     3.7000,       4732,   773.4,  34.3232,2,  34.3230,2,-999.0000,9,   219.3,2,   27.16,2,   29.15,2,    0.00,2,    2.02,2,   1.037,2,   0.483,2,  -999.0,9,  -999.0,9,  -999.0,9,  -999.0,9, -999.00,     4.5569,   4.4966,     -999.0,9
318M19881207,      SAVE4,     221,          1,         13,         13,2,19890107,       1714,   -30.0133,     3.7000,       4732,   875.9,  34.3452,2,  34.3450,2,-999.0000,9,   208.4,2,   37.05,2,   31.18,2,    0.00,2,    2.15,2,   0.711,2,   0.328,2,  2189.1,2,  2302.6,2,   971.2,2,  -999.0,9, -999.00,     3.9369,   3.8721,     -999.0,9
318M19881207,      SAVE4,     221,          1,         14,         14,2,19890107,       1714,   -30.0133,     3.7000,       4732,   978.5,  34.3893,2,  34.3890,2,-999.0000,9,   195.5,2,   45.97,2,   32.58,2,    0.00,2,    2.26,2,   0.410,2,   0.200,2,  2205.1,2,  2310.7,2,  1034.8,2,  -999.0,9, -999.00,     3.5287,   3.4586,     -999.0,9
318M19881207,      SAVE4,     221,          1,         15,         15,2,19890107,       1714,   -30.0133,     3.7000,       4732,  1060.6,  34.4392,2,  34.4390,2,-999.0000,9,   186.1,2,   51.56,2,   33.11,2,    0.00,2,    2.31,2,-999.000,9,-999.000,9,  2216.8,2,  2321.8,2,  1048.8,2,  -999.0,9, -999.00,     3.3350,   3.2599,     -999.0,9
318M19881207,      SAVE4,     221,          1,         16,         16,2,19890107,       1714,   -30.0133,     3.7000,       4732,  1184.0,  34.5144,2,  34.5140,2,-999.0000,9,   180.6,2,   58.08,2,   33.09,2,    0.00,2,    2.30,2,   0.101,2,   0.059,2,  -999.0,9,  -999.0,9,  -999.0,9,  -999.0,9, -999.00,     3.1063,   3.0232,     -999.0,9
318M19881207,      SAVE4,     221,          1,         17,         17,2,19890107,       1714,   -30.0133,     3.7000,       4732,  1286.9,  34.5861,2,  34.5870,2,-999.0000,9,   181.3,2,   59.87,2,   32.21,2,    0.00,2,    2.25,2,-999.000,9,-999.000,9,  2224.9,2,  2327.9,2,  1071.5,2,  -999.0,9, -999.00,     3.0253,   2.9346,     -999.0,9
318M19881207,      SAVE4,     221,          1,         18,         18,2,19890107,       1714,   -30.0133,     3.7000,       4732,  1441.6,  34.6809,2,  34.6810,2,-999.0000,9,   188.4,2,   56.72,2,   30.38,2,    0.00,2,    2.10,2,   0.008,2,   0.005,2,  -999.0,9,  -999.0,9,  -999.0,9,  -999.0,9, -999.00,     3.0448,   2.9410,     -999.0,9
318M19881207,      SAVE4,     221,          1,         19,         19,2,19890107,       1714,   -30.0133,     3.7000,       4732,  1596.2,  34.7648,2,  34.7650,2,-999.0000,9,   201.1,2,   49.12,2,   27.84,2,    0.00,2,    1.94,2,-999.000,9,-999.000,9,  -999.0,9,  -999.0,9,  -999.0,9,  -999.0,9, -999.00,     3.0748,   2.9574,     -999.0,9
318M19881207,      SAVE4,     221,          1,         20,         20,2,19890107,       1714,   -30.0133,     3.7000,       4732,  1750.9,  34.8117,2,  34.8120,2,-999.0000,9,   211.2,2,   45.52,2,   26.29,2,    0.00,2,    1.81,2,-999.000,9,   0.002,2,  -999.0,9,  -999.0,9,  -999.0,9,  -999.0,9, -999.00,     3.0584,   2.9277,     -999.0,9
318M19881207,      SAVE4,     221,          1,         21,         21,2,19890107,       1714,   -30.0133,     3.7000,       4732,  1905.4,  34.8373,2,  34.8380,2,-999.0000,9,   219.8,2,   44.28,2,   25.29,2,    0.00,2,    1.74,2,-999.000,9,-999.000,9,  -999.0,9,  -999.0,9,  -999.0,9,  -999.0,9, -999.00,     2.9824,   2.8390,     -999.0,9
318M19881207,      SAVE4,     221,          1,         22,         22,2,19890107,       1714,   -30.0133,     3.7000,       4732,  2060.3,  34.8478,2,  34.8480,2,-999.0000,9,   223.3,2,   45.85,2,   24.88,2,    0.00,2,    1.71,2,   0.000,2,   0.001,2,  -999.0,9,  -999.0,9,  -999.0,9,  -999.0,9, -999.00,     2.8751,   2.7193,     -999.0,9
318M19881207,      SAVE4,     221,          1,         23,         23,2,19890107,       1714,   -30.0133,     3.7000,       4732,  2215.6,  34.8548,2,  34.8550,2,-999.0000,9,   227.2,2,   45.93,2,   24.41,2,    0.00,2,    1.69,2,-999.000,9,-999.000,9,  -999.0,9,  -999.0,9,  -999.0,9,  -999.0,9, -999.00,     2.7875,   2.6187,     -999.0,9
318M19881207,      SAVE4,     221,          1,         24,         24,2,19890107,       1714,   -30.0133,     3.7000,       4732,  2371.0,  34.8529,2,  34.8540,2,-999.0000,9,   229.1,2,   48.42,2,   24.35,2,    0.00,2,    1.68,2,-999.000,9,   0.001,2,  -999.0,9,  -999.0,9,  -999.0,9,  -999.0,9, -999.00,     2.6615,   2.4804,     -999.0,9
318M19881207,      SAVE4,     221,          1,         25,         25,2,19890107,       1714,   -30.0133,     3.7000,       4732,  2577.5,  34.8566,2,  34.8580,2,-999.0000,9,   231.9,2,   49.97,2,   24.16,2,    0.00,2,    1.68,2,-999.000,9,-999.000,9,  -999.0,9,  -999.0,9,  -999.0,9,  -999.0,9, -999.00,     2.5455,   2.3468,     -999.0,9
318M19881207,      SAVE4,     221,          1,         26,         26,2,19890107,       1714,   -30.0133,     3.7000,       4732,  2784.2,  34.8558,2,  34.8560,2,-999.0000,9,   232.3,2,   53.61,2,   24.24,2,    0.00,2,    1.67,2,   0.001,2,   0.000,2,  -999.0,9,  -999.0,9,  -999.0,9,  -999.0,9, -999.00,     2.4356,   2.2190,     -999.0,9
318M19881207,      SAVE4,     221,          1,         27,         27,2,19890107,       1714,   -30.0133,     3.7000,       4732,  2991.0,  34.8583,2,  34.8580,2,-999.0000,9,   233.1,2,   55.15,2,   24.28,2,    0.00,2,    1.66,2,-999.000,9,-999.000,9,  -999.0,9,  -999.0,9,  -999.0,9,  -999.0,9, -999.00,     2.3814,   2.1453,     -999.0,9
318M19881207,      SAVE4,     221,          1,         28,         28,2,19890107,       1714,   -30.0133,     3.7000,       4732,  3199.6,  34.8555,2,  34.8570,2,-999.0000,9,   233.1,2,   57.62,2,   24.40,2,    0.00,2,    1.68,2,-999.000,9,   0.001,2,  -999.0,9,  -999.0,9,  -999.0,9,  -999.0,9, -999.00,     2.3050,   2.0493,     -999.0,9
318M19881207,      SAVE4,     221,          1,         29,         29,2,19890107,       1714,   -30.0133,     3.7000,       4732,  3407.1,  34.8522,2,  34.8530,2,-999.0000,9,   232.6,2,   59.15,2,   24.57,2,    0.00,2,    1.70,2,-999.000,9,-999.000,9,  -999.0,9,  -999.0,9,  -999.0,9,  -999.0,9, -999.00,     2.2412,   1.9654,     -999.0,9
318M19881207,      SAVE4,     221,          1,         30,         30,2,19890107,       1714,   -30.0133,     3.7000,       4732,  3614.9,  34.8333,2,  34.8330,2,-999.0000,9,   229.4,2,   67.12,2,   25.68,2,    0.00,2,    1.78,2,   0.002,2,   0.001,2,  -999.0,9,  -999.0,9,  -999.0,9,  -999.0,9, -999.00,     2.0615,   1.7682,     -999.0,9
318M19881207,      SAVE4,     221,          1,         31,         31,2,19890107,       1714,   -30.0133,     3.7000,       4732,  3822.8,  34.7997,2,  34.8010,2,-999.0000,9,   224.9,2,   80.43,2,   27.24,2,    0.00,2,    1.89,2,-999.000,9,-999.000,9,  -999.0,9,  -999.0,9,  -999.0,9,  -999.0,9, -999.00,     1.7594,   1.4519,     -999.0,9
318M19881207,      SAVE4,     221,          1,         32,         32,2,19890107,       1714,   -30.0133,     3.7000,       4732,  4031.0,  34.7639,2,  34.7640,2,-999.0000,9,   221.1,2,   96.91,2,   28.98,2,    0.00,2,    2.02,2,   0.000,2,   0.002,2,  -999.0,9,  -999.0,9,  -999.0,9,  4035.0,2, -999.00,     1.3917,   1.0720,      1.389,2
318M19881207,      SAVE4,     221,          1,         33,         33,2,19890107,       1714,   -30.0133,     3.7000,       4732,  4239.5,  34.7446,2,  34.7430,2,-999.0000,9,   218.4,2,  104.14,2,   30.00,2,    0.00,2,    2.08,2,-999.000,9,-999.000,9,  -999.0,9,  -999.0,9,  -999.0,9,  -999.0,9, -999.00,     1.1974,   0.8606,     -999.0,9
318M19881207,      SAVE4,     221,          1,         34,         34,2,19890107,       1714,   -30.0133,     3.7000,       4732,  4446.9,  34.7363,2,  34.7360,2,-999.0000,9,   218.6,2,  106.52,2,   30.31,2,    0.00,2,    2.11,2,   0.003,2,   0.008,2,  -999.0,9,  -999.0,9,  -999.0,9,  -999.0,9, -999.00,     1.1230,   0.7654,     -999.0,9
318M19881207,      SAVE4,     221,          1,         35,         35,2,19890107,       1714,   -30.0133,     3.7000,       4732,  4656.5,  34.7315,2,  34.7300,2,-999.0000,9,   218.2,2,  108.20,2,   30.47,2,    0.00,2,    2.13,2,-999.000,9,-999.000,9,  -999.0,9,  -999.0,9,  -999.0,9,  4664.9,2, -999.00,     1.0972,   0.7166,      1.099,2
318M19881207,      SAVE4,     221,          1,         36,         36,2,19890107,       1714,   -30.0133,     3.7000,       4732,  4815.3,  34.7290,2,  34.7290,2,-999.0000,9,   218.6,2,  110.80,2,   30.64,2,    0.00,2,    2.15,2,   0.005,2,   0.007,2,  -999.0,9,  -999.0,9,  -999.0,9,  -999.0,9, -999.00,     1.0806,   0.6821,     -999.0,9