BOTTLE,20211025CCHSIORKP
EXPOCODE,SECT_ID,STNNBR,CASTNO,SAMPNO,BTLNBR,BTLNBR_FLAG_W,DATE,TIME,LATITUDE,LONGITUDE,DEPTH,CTDPRS,CTDSAL,CTDSAL_FLAG_W,SALNTY,SALNTY_FLAG_W,CTDOXY,CTDOXY_FLAG_W,OXYGEN,OXYGEN_FLAG_W,SILCAT,SILCAT_FLAG_W,NITRAT,NITRAT_FLAG_W,NITRIT,NITRIT_FLAG_W,PHSPHT,PHSPHT_FLAG_W,CFC-11,CFC-11_FLAG_W,CFC-12,CFC-12_FLAG_W,TCARBN,TCARBN_FLAG_W,ALKALI,ALKALI_FLAG_W,PCO2,PCO2_FLAG_W,REVPRS,REVPRS_FLAG_W,CTDRAW,CTDTMP,THETA,REVTMP,REVTMP_FLAG_W
,,,,,,,,,,,METERS,DBAR,PSS-78,,PSS-78,,UMOL/KG,,UMOL/KG,,UMOL/KG,,UMOL/KG,,UMOL/KG,,UMOL/KG,,PMOL/KG,,PMOL/KG,,UMOL/KG,,UMOL/KG,,UATM,,DBAR,,DBAR,ITS-68,DEG C,ITS-68,
318M19881207,      SAVE4,     222,          2,          1,          1,2,19890108,       0600,   -29.9783,     4.4417,       4921,     0.7,  35.7428,2,  35.7430,2,-999.0000,9,   230.6,2,    2.54,2,    0.10,2,    0.00,2,    0.20,2,   2.151,2,   1.062,2,  2042.9,2,  2350.8,2,   340.4,2,  -999.0,9, -999.00,    20.5859,  20.5858,     20.558,2
318M19881207,      SAVE4,     222,          2,          2,          2,2,19890108,       0600,   -29.9783,     4.4417,       4921,    52.1,  35.7760,2,  35.7900,2,-999.0000,9,   240.3,2,    2.34,2,    0.10,2,    0.00,2,    0.21,2,-999.000,9,-999.000,9,  2044.4,2,  2345.9,2,   349.8,2,  -999.0,9, -999.00,    19.2350,  19.2256,     -999.0,9
318M19881207,      SAVE4,     222,          2,          3,          3,2,19890108,       0600,   -29.9783,     4.4417,       4921,   107.8,  35.5589,2,  35.5570,2,-999.0000,9,   243.1,2,    2.54,2,    0.10,2,    0.04,2,    0.26,2,   2.399,2,   1.162,2,  2047.4,2,  2339.7,2,   361.6,2,  -999.0,9, -999.00,    16.6779,  16.6603,     -999.0,9
318M19881207,      SAVE4,     222,          2,          4,          4,2,19890108,       0600,   -29.9783,     4.4417,       4921,   167.0,  35.4571,2,  35.4560,2,-999.0000,9,   227.5,2,    3.03,2,    3.61,2,    0.01,2,    0.43,2,   2.341,2,   1.132,2,  2064.5,2,  2335.1,2,   400.1,2,  -999.0,9, -999.00,    15.6067,  15.5806,     -999.0,9
318M19881207,      SAVE4,     222,          2,          5,          5,2,19890108,       0600,   -29.9783,     4.4417,       4921,   275.0,  35.1221,2,  35.1240,2,-999.0000,9,   203.4,2,    5.18,2,   10.85,2,    0.01,2,    0.86,2,   1.995,2,   0.978,2,  2100.9,2,  2316.6,2,   523.2,2,  -999.0,9, -999.00,    13.0523,  13.0142,     -999.0,9
318M19881207,      SAVE4,     222,          2,          6,          6,2,19890108,       0600,   -29.9783,     4.4417,       4921,   362.3,  34.9368,2,  34.9330,2,-999.0000,9,   203.5,2,    6.74,2,   14.56,2,    0.00,2,    1.07,2,   1.744,2,   0.848,2,  2111.5,2,  2302.4,2,   593.8,2,  -999.0,9, -999.00,    11.2993,  11.2535,     -999.0,9
318M19881207,      SAVE4,     222,          2,          7,          7,2,19890108,       0600,   -29.9783,     4.4417,       4921,   444.4,  34.7812,2,  34.7790,2,-999.0000,9,   199.4,2,    9.19,2,   17.98,2,    0.00,2,    1.29,2,   1.549,2,   0.753,2,  2123.6,2,  2292.8,2,   669.9,2,  -999.0,9, -999.00,     9.9407,   9.8888,     -999.0,9
318M19881207,      SAVE4,     222,          2,          8,          8,2,19890108,       0600,   -29.9783,     4.4417,       4921,   516.2,  34.6602,2,  34.6590,2,-999.0000,9,   198.6,2,   11.83,2,   21.01,2,    0.00,2,    1.49,2,   1.412,2,   0.666,2,  2138.5,2,  2295.4,2,   723.7,2,  -999.0,9, -999.00,     8.7938,   8.7377,     -999.0,9
318M19881207,      SAVE4,     222,          2,          9,          9,2,19890108,       0600,   -29.9783,     4.4417,       4921,   587.6,  34.5466,2,  34.5460,2,-999.0000,9,   190.0,2,   16.32,2,   25.12,2,    0.00,2,    1.74,2,   1.121,2,   0.543,2,  2162.7,2,  2298.5,2,   831.2,2,  -999.0,9, -999.00,     7.4908,   7.4324,     -999.0,9
318M19881207,      SAVE4,     222,          2,         10,         10,2,19890108,       0600,   -29.9783,     4.4417,       4921,   655.7,  34.4486,2,  34.4730,2,-999.0000,9,   193.7,2,   18.77,2,   26.98,2,    0.00,2,    1.87,2,   1.062,2,   0.496,2,  2168.4,2,  2295.7,2,   877.3,2,  -999.0,9, -999.00,     6.3208,   6.2613,     -999.0,9
318M19881207,      SAVE4,     222,          2,         11,         11,2,19890108,       0600,   -29.9783,     4.4417,       4921,   720.5,  34.3608,2,  34.3610,2,-999.0000,9,   213.9,2,   22.09,2,   28.16,2,    0.00,2,    1.96,2,   1.144,2,   0.457,2,  2171.1,2,  2297.5,2,   882.8,2,  -999.0,9, -999.00,     5.2810,   5.2210,     -999.0,9
318M19881207,      SAVE4,     222,          2,         12,         12,2,19890108,       0600,   -29.9783,     4.4417,       4921,   812.2,  34.3261,2,  34.3260,2,-999.0000,9,   218.2,2,   29.04,2,   29.53,2,    0.00,2,    2.06,2,   0.980,2,   0.454,2,  2175.9,2,  2296.8,2,   917.4,2,  -999.0,9, -999.00,     4.3933,   4.3308,     -999.0,9
318M19881207,      SAVE4,     222,          2,         13,         13,2,19890108,       0600,   -29.9783,     4.4417,       4921,   924.7,  34.3608,2,  34.3620,2,-999.0000,9,   200.6,2,   38.81,2,   31.87,2,    0.00,2,    2.21,2,   0.549,2,   0.268,2,  2188.4,2,  2296.5,2,  1005.6,2,  -999.0,9, -999.00,     3.8495,   3.7814,     -999.0,9
318M19881207,      SAVE4,     222,          2,         14,         14,2,19890108,       0600,   -29.9783,     4.4417,       4921,  1047.0,  34.4205,2,  34.4210,2,-999.0000,9,   190.3,2,   50.15,2,   32.75,2,    0.00,2,    2.30,2,   0.314,2,   0.165,2,  2207.0,2,  2309.4,2,  1059.2,2,  -999.0,9, -999.00,     3.3913,   3.3168,     -999.0,9
318M19881207,      SAVE4,     222,          2,         15,         15,2,19890108,       0600,   -29.9783,     4.4417,       4921,  1127.7,  34.4684,2,  34.4680,2,-999.0000,9,   183.7,2,   55.04,2,   33.04,2,    0.00,2,    2.32,2,   0.177,2,   0.101,2,  2222.6,2,  2321.6,2,  1094.7,2,  -999.0,9, -999.00,     3.2180,   3.1385,     -999.0,9
318M19881207,      SAVE4,     222,          2,         16,         16,2,19890108,       0600,   -29.9783,     4.4417,       4921,  1230.3,  34.5389,2,  34.5390,2,-999.0000,9,   180.4,2,   57.67,2,   32.75,2,    0.00,2,    2.29,2,   0.065,2,   0.028,2,  2223.8,2,  2322.7,2,  1097.8,2,  -999.0,9, -999.00,     3.0867,   3.0001,     -999.0,9
318M19881207,      SAVE4,     222,          2,         17,         17,2,19890108,       0600,   -29.9783,     4.4417,       4921,  1382.4,  34.6593,2,  34.6580,2,-999.0000,9,   186.5,2,   54.93,2,   30.79,2,    0.00,2,    2.14,2,   0.012,2,   0.000,2,  2216.0,2,  2322.1,2,  1044.5,2,  -999.0,9, -999.00,     3.0470,   2.9481,     -999.0,9
318M19881207,      SAVE4,     222,          2,         18,         18,2,19890108,       0600,   -29.9783,     4.4417,       4921,  1536.2,  34.7487,2,  34.7480,2,-999.0000,9,   198.0,2,   48.18,2,   28.34,2,    0.00,2,    1.96,2,   0.005,2,-999.000,9,  2210.8,2,  2329.0,2,   964.7,2,  -999.0,9, -999.00,     3.1400,   3.0270,     -999.0,9
318M19881207,      SAVE4,     222,          2,         19,         19,2,19890108,       0600,   -29.9783,     4.4417,       4921,  1689.4,  34.7919,2,  34.7930,2,-999.0000,9,   206.7,2,   47.79,2,   26.97,2,    0.00,2,    1.88,2,   0.000,2,   0.000,2,  2207.6,2,  2333.8,2,   917.4,2,  -999.0,9, -999.00,     3.0546,   2.9294,     -999.0,9
318M19881207,      SAVE4,     222,          2,         20,         20,2,19890108,       0600,   -29.9783,     4.4417,       4921,  1841.8,  34.8240,2,  34.8250,2,-999.0000,9,   215.4,2,   45.93,2,   25.80,2,    0.00,2,    1.79,2,-999.000,9,-999.000,9,  -999.0,9,  -999.0,9,   867.7,2,  -999.0,9, -999.00,     2.9800,   2.8424,     -999.0,9
318M19881207,      SAVE4,     222,          2,         21,         21,2,19890108,       0600,   -29.9783,     4.4417,       4921,  2045.3,  34.8475,2,  34.8490,2,-999.0000,9,   223.6,2,   44.96,2,   24.63,2,    0.00,2,    1.71,2,-999.000,9,-999.000,9,  2192.8,2,  2330.0,2,   851.2,2,  -999.0,9, -999.00,     2.8727,   2.7183,     -999.0,9
318M19881207,      SAVE4,     222,          2,         22,         22,2,19890108,       0600,   -29.9783,     4.4417,       4921,  2250.9,  34.8553,2,  34.8560,2,-999.0000,9,   228.0,2,   46.32,2,   24.24,2,    0.00,2,    1.69,2,-999.000,9,   0.002,2,  2197.2,2,  2338.2,2,   835.3,2,  -999.0,9, -999.00,     2.7625,   2.5909,     -999.0,9
318M19881207,      SAVE4,     222,          2,         23,         23,2,19890108,       0600,   -29.9783,     4.4417,       4921,  2454.8,  34.8593,2,  34.8600,2,-999.0000,9,   231.6,2,   48.08,2,   24.04,2,    0.00,2,    1.66,2,-999.000,9,-999.000,9,  2190.9,2,  2334.3,2,   820.8,2,  -999.0,9, -999.00,     2.6277,   2.4393,     -999.0,9
318M19881207,      SAVE4,     222,          2,         24,         24,2,19890108,       0600,   -29.9783,     4.4417,       4921,  2660.3,  34.8582,2,  34.8590,2,-999.0000,9,   232.8,2,   50.72,2,   24.04,2,    0.00,2,    1.67,2,-999.000,9,-999.000,9,  2190.1,2,  2333.3,2,   821.8,2,  -999.0,9, -999.00,     2.5343,   2.3278,     -999.0,9
318M19881207,      SAVE4,     222,          2,         25,         25,2,19890108,       0600,   -29.9783,     4.4417,       4921,  2865.4,  34.8583,2,  34.8600,2,-999.0000,9,  -999.0,9,   53.26,2,   24.14,2,    0.00,2,    1.67,2,-999.000,9,-999.000,9,  2192.2,2,  2336.9,2,   816.4,2,  -999.0,9, -999.00,     2.4411,   2.2163,     -999.0,9
318M19881207,      SAVE4,     222,          2,         26,         26,2,19890108,       0600,   -29.9783,     4.4417,       4921,  3071.7,  34.8602,2,  34.8600,2,-999.0000,9,   233.9,2,   54.14,2,   24.04,2,    0.00,2,    1.66,2,-999.000,9,-999.000,9,  2199.6,2,  2344.9,2,   817.5,2,  -999.0,9, -999.00,     2.3829,   2.1386,     -999.0,9
318M19881207,      SAVE4,     222,          2,         27,         27,2,19890108,       0600,   -29.9783,     4.4417,       4921,  3278.1,  34.8576,2,  34.8580,2,-999.0000,9,   233.8,2,   55.22,2,   24.24,2,    0.00,2,    1.67,2,-999.000,9,-999.000,9,  2200.4,2,  2346.3,2,   815.5,2,  -999.0,9, -999.00,     2.3251,   2.0608,     -999.0,9
318M19881207,      SAVE4,     222,          2,         28,         28,2,19890108,       0600,   -29.9783,     4.4417,       4921,  3485.8,  34.8541,2,  34.8540,2,-999.0000,9,   233.2,2,   58.54,2,   24.33,2,    0.00,2,    1.68,2,   0.002,2,   0.000,2,  2210.3,2,  2356.7,2,   819.2,2,  -999.0,9, -999.00,     2.2572,   1.9727,     -999.0,9
318M19881207,      SAVE4,     222,          2,         29,         29,2,19890108,       0600,   -29.9783,     4.4417,       4921,  3694.0,  34.8411,2,  34.8410,2,-999.0000,9,   231.0,2,   64.50,2,   25.31,2,    0.00,2,    1.74,2,-999.000,9,-999.000,9,  2211.2,2,  2354.3,2,   836.2,2,  -999.0,9, -999.00,     2.1303,   1.8266,     -999.0,9
318M19881207,      SAVE4,     222,          2,         30,         30,2,19890108,       0600,   -29.9783,     4.4417,       4921,  3901.9,  34.8165,2,  34.8180,2,-999.0000,9,   227.3,2,   75.06,2,   26.39,2,    0.00,2,    1.82,2,   0.001,2,-999.000,9,  2221.7,2,  2360.5,2,   864.6,2,  -999.0,9, -999.00,     1.9106,   1.5902,     -999.0,9
318M19881207,      SAVE4,     222,          2,         31,         31,2,19890108,       0600,   -29.9783,     4.4417,       4921,  4111.1,  34.7786,2,  34.7800,2,-999.0000,9,   222.9,2,   89.92,2,   28.34,2,    0.00,2,    1.95,2,-999.000,9,-999.000,9,  2232.6,2,  2363.9,2,   911.8,2,  -999.0,9, -999.00,     1.5387,   1.2059,     -999.0,9
318M19881207,      SAVE4,     222,          2,         32,         32,2,19890108,       0600,   -29.9783,     4.4417,       4921,  4320.3,  34.7523,2,  34.7540,2,-999.0000,9,   219.9,2,   99.40,2,   29.61,2,    0.00,2,    2.04,2,   0.002,2,-999.000,9,  2238.4,2,  2364.3,2,   946.8,2,  4327.7,2, -999.00,     1.2862,   0.9378,      1.285,2
318M19881207,      SAVE4,     222,          2,         33,         33,2,19890108,       0600,   -29.9783,     4.4417,       4921,  4527.8,  34.7408,2,  34.7410,2,-999.0000,9,   218.9,2,  103.80,2,   30.20,2,    0.00,2,    2.08,2,-999.000,9,-999.000,9,  2248.2,2,  2373.7,2,   955.5,2,  -999.0,9, -999.00,     1.1786,   0.8101,     -999.0,9
318M19881207,      SAVE4,     222,          2,         34,         34,2,19890108,       0600,   -29.9783,     4.4417,       4921,  4736.8,  34.7364,2,  34.7360,2,-999.0000,9,   218.9,2,  108.20,2,   30.49,2,    0.00,2,    2.12,2,-999.000,9,-999.000,9,  2250.7,2,  2376.0,2,   959.6,2,  -999.0,9, -999.00,     1.1482,   0.7567,     -999.0,9
318M19881207,      SAVE4,     222,          2,         35,         35,2,19890108,       0600,   -29.9783,     4.4417,       4921,  4946.0,  34.7346,2,  34.7350,2,-999.0000,9,   218.3,2,  108.78,2,   30.49,2,    0.00,2,    2.12,2,   0.000,2,   0.001,2,  2248.8,2,  2375.7,2,   949.5,2,  4949.4,2, -999.00,     1.1552,   0.7388,      1.165,2
318M19881207,      SAVE4,     222,          2,         36,         36,2,19890108,       0600,   -29.9783,     4.4417,       4921,  5029.3,  34.7344,2,  34.7340,2,-999.0000,9,   217.7,2,  109.17,2,   30.49,2,    0.00,2,    2.12,2,   0.000,2,   0.000,2,  2248.3,2,  2375.3,2,   948.4,2,  -999.0,9, -999.00,     1.1627,   0.7361,     -999.0,9