BOTTLE,20211025CCHSIORKP
EXPOCODE,SECT_ID,STNNBR,CASTNO,SAMPNO,BTLNBR,BTLNBR_FLAG_W,DATE,TIME,LATITUDE,LONGITUDE,DEPTH,CTDPRS,CTDSAL,CTDSAL_FLAG_W,SALNTY,SALNTY_FLAG_W,CTDOXY,CTDOXY_FLAG_W,OXYGEN,OXYGEN_FLAG_W,SILCAT,SILCAT_FLAG_W,NITRAT,NITRAT_FLAG_W,NITRIT,NITRIT_FLAG_W,PHSPHT,PHSPHT_FLAG_W,CFC-11,CFC-11_FLAG_W,CFC-12,CFC-12_FLAG_W,TCARBN,TCARBN_FLAG_W,ALKALI,ALKALI_FLAG_W,PCO2,PCO2_FLAG_W,REVPRS,REVPRS_FLAG_W,CTDRAW,CTDTMP,THETA,REVTMP,REVTMP_FLAG_W
,,,,,,,,,,,METERS,DBAR,PSS-78,,PSS-78,,UMOL/KG,,UMOL/KG,,UMOL/KG,,UMOL/KG,,UMOL/KG,,UMOL/KG,,PMOL/KG,,PMOL/KG,,UMOL/KG,,UMOL/KG,,UATM,,DBAR,,DBAR,ITS-68,DEG C,ITS-68,
318M19881207,      SAVE4,     210,          1,          1,          1,2,19890101,       2132,   -35.1733,    -8.1483,       3862,     9.0,  35.1823,2,  35.1800,2,-999.0000,9,   240.8,2,    1.47,2,    0.10,2,    0.00,2,    0.19,2,   2.333,2,   1.163,2,  2034.0,2,  2319.2,2,   363.6,2,     4.3,2, -999.00,    18.2062,  18.2046,     18.166,2
318M19881207,      SAVE4,     210,          1,          2,          2,2,19890101,       2132,   -35.1733,    -8.1483,       3862,    26.5,  35.1868,2,  35.1760,2,-999.0000,9,   242.2,2,    1.47,2,    0.10,2,    0.00,2,    0.19,2,-999.000,9,-999.000,9,  -999.0,9,  -999.0,9,  -999.0,9,  -999.0,9, -999.00,    18.0714,  18.0668,     -999.0,9
318M19881207,      SAVE4,     210,          1,          3,          3,2,19890101,       2132,   -35.1733,    -8.1483,       3862,    42.0,  35.0699,2,  35.0360,2,-999.0000,9,   265.5,2,    1.66,2,    0.29,2,    0.05,2,    0.24,2,   2.670,2,   1.308,2,  -999.0,9,  -999.0,9,   378.5,2,  -999.0,9, -999.00,    15.3866,  15.3801,     -999.0,9
318M19881207,      SAVE4,     210,          1,          4,          4,2,19890101,       2132,   -35.1733,    -8.1483,       3862,    62.9,  35.0278,2,  35.0310,2,-999.0000,9,   259.3,2,    1.86,2,    1.56,2,    0.33,2,    0.33,2,-999.000,9,-999.000,9,  -999.0,9,  -999.0,9,  -999.0,9,  -999.0,9, -999.00,    13.7188,  13.7099,     -999.0,9
318M19881207,      SAVE4,     210,          1,          5,          5,2,19890101,       2132,   -35.1733,    -8.1483,       3862,   113.2,  35.0017,2,  35.0110,2,-999.0000,9,   246.4,2,    2.05,2,    4.59,2,    0.04,2,    0.50,2,   2.660,2,   1.306,2,  2072.1,2,  2316.5,2,   445.5,2,  -999.0,9, -999.00,    12.8850,  12.8696,     -999.0,9
318M19881207,      SAVE4,     210,          1,          6,          6,2,19890101,       2132,   -35.1733,    -8.1483,       3862,   138.7,  35.0667,2,  35.0630,2,-999.0000,9,   244.8,2,    2.44,2,    5.28,2,    0.04,2,    0.54,2,-999.000,9,-999.000,9,  -999.0,9,  -999.0,9,  -999.0,9,  -999.0,9, -999.00,    12.8169,  12.7980,     -999.0,9
318M19881207,      SAVE4,     210,          1,          7,          7,2,19890101,       2132,   -35.1733,    -8.1483,       3862,   164.0,  35.1500,2,  35.1470,2,-999.0000,9,   242.2,2,    2.93,2,    5.76,2,    0.01,2,    0.55,2,   2.554,2,   1.235,2,  2081.0,2,  2323.2,2,   455.0,2,  -999.0,9, -999.00,    12.8680,  12.8456,     -999.0,9
318M19881207,      SAVE4,     210,          1,          8,          8,2,19890101,       2132,   -35.1733,    -8.1483,       3862,   214.8,  35.1677,2,-999.0000,9,-999.0000,9,  -999.0,9, -999.00,9, -999.00,9, -999.00,9, -999.00,9,-999.000,9,-999.000,9,  -999.0,9,  -999.0,9,  -999.0,9,  -999.0,9, -999.00,    12.6527,  12.6236,     -999.0,9
318M19881207,      SAVE4,     210,          1,          9,          9,2,19890101,       2132,   -35.1733,    -8.1483,       3862,   255.2,  35.0803,2,  35.0820,2,-999.0000,9,   228.8,2,    3.71,2,    9.58,2,    0.01,2,    0.77,2,   2.252,2,   1.102,2,  -999.0,9,  -999.0,9,  -999.0,9,  -999.0,9, -999.00,    12.0678,  12.0342,     -999.0,9
318M19881207,      SAVE4,     210,          1,         10,         10,2,19890101,       2132,   -35.1733,    -8.1483,       3862,   296.5,  34.9895,2,  35.0170,2,-999.0000,9,   228.1,2,    4.59,2,   12.41,2,    0.00,2,    0.96,2,-999.000,9,-999.000,9,  2098.6,2,  2310.1,2,   531.7,2,  -999.0,9, -999.00,    11.3599,  11.3224,     -999.0,9
318M19881207,      SAVE4,     210,          1,         11,         11,2,19890101,       2132,   -35.1733,    -8.1483,       3862,   323.0,  34.9241,2,  34.9150,2,-999.0000,9,   229.0,2,    4.59,2,   12.41,2,    0.00,2,    0.96,2,   2.322,2,   1.133,2,  -999.0,9,  -999.0,9,  -999.0,9,  -999.0,9, -999.00,    10.8228,  10.7832,     -999.0,9
318M19881207,      SAVE4,     210,          1,         12,         12,2,19890101,       2132,   -35.1733,    -8.1483,       3862,   398.3,  34.7446,2,-999.0000,9,-999.0000,9,  -999.0,9, -999.00,9, -999.00,9, -999.00,9, -999.00,9,-999.000,9,-999.000,9,  2084.6,3,  -999.0,9,   499.3,2,  -999.0,9, -999.00,     9.5059,   9.4608,     -999.0,9
318M19881207,      SAVE4,     210,          1,         13,         13,2,19890101,       2132,   -35.1733,    -8.1483,       3862,   438.6,  34.6466,2,  34.6480,2,-999.0000,9,   224.1,2,    7.62,2,   18.47,2,    0.01,2,    1.33,2,   2.049,2,   0.990,2,  2124.8,2,  2295.6,2,   663.0,2,  -999.0,9, -999.00,     8.7597,   8.7124,     -999.0,9
318M19881207,      SAVE4,     210,          1,         14,         14,2,19890101,       2132,   -35.1733,    -8.1483,       3862,   499.7,  34.5241,2,  34.5210,2,-999.0000,9,   230.4,2,    8.90,2,   20.72,2,    0.00,2,    1.47,2,-999.000,9,-999.000,9,  -999.0,9,  -999.0,9,  -999.0,9,  -999.0,9, -999.00,     7.6671,   7.6171,     -999.0,9
318M19881207,      SAVE4,     210,          1,         15,         15,2,19890101,       2132,   -35.1733,    -8.1483,       3862,   553.0,  34.4155,2,  34.4180,2,-999.0000,9,   230.9,2,   10.85,2,   23.27,2,    0.00,2,    1.63,2,   1.988,2,   0.934,2,  2135.3,2,  2281.7,2,   762.9,2,  -999.0,9, -999.00,     6.6995,   6.6481,     -999.0,9
318M19881207,      SAVE4,     210,          1,         16,         16,2,19890101,       2132,   -35.1733,    -8.1483,       3862,   750.2,  34.2498,2,  34.2490,2,-999.0000,9,   246.2,2,   18.19,2,   27.28,2,    0.00,2,    1.91,2,-999.000,9,-999.000,9,  2154.8,2,  2289.1,2,   830.1,2,  -999.0,9, -999.00,     4.5295,   4.4714,     -999.0,9
318M19881207,      SAVE4,     210,          1,         17,         17,2,19890101,       2132,   -35.1733,    -8.1483,       3862,   827.1,  34.2415,2,  34.2510,2,-999.0000,9,   241.9,2,   22.68,2,   28.55,2,    0.00,2,    1.98,2,   1.313,2,   0.604,2,  2162.2,2,  2289.6,2,   870.9,2,  -999.0,9, -999.00,     4.0313,   3.9700,     -999.0,9
318M19881207,      SAVE4,     210,          1,         18,         18,2,19890101,       2132,   -35.1733,    -8.1483,       3862,   930.1,  34.2512,2,  34.2520,2,-999.0000,9,   235.2,2,   29.14,2,   30.02,2,    0.00,2,    2.09,2,-999.000,9,-999.000,9,  2175.4,2,  2296.6,2,   914.0,2,  -999.0,9, -999.00,     3.5034,   3.4375,     -999.0,9
318M19881207,      SAVE4,     210,          1,         19,         19,2,19890101,       2132,   -35.1733,    -8.1483,       3862,  1032.6,  34.2879,2,  34.2880,2,-999.0000,9,   223.4,2,   37.25,2,   31.29,2,    0.00,2,    2.18,2,   0.755,2,   0.347,2,  2189.0,2,  2301.9,2,   973.5,2,  -999.0,9, -999.00,     3.1795,   3.1081,     -999.0,9
318M19881207,      SAVE4,     210,          1,         20,         20,2,19890101,       2132,   -35.1733,    -8.1483,       3862,  1135.1,  34.3412,2,  34.3420,2,-999.0000,9,   211.6,2,   44.39,2,   32.26,2,    0.00,2,    2.25,2,-999.000,9,-999.000,9,  -999.0,9,  -999.0,9,  -999.0,9,  -999.0,9, -999.00,     2.9752,   2.8975,     -999.0,9
318M19881207,      SAVE4,     210,          1,         21,         21,2,19890101,       2132,   -35.1733,    -8.1483,       3862,  1236.9,  34.4044,2,  34.4040,2,-999.0000,9,   201.6,2,   50.64,2,   32.75,2,    0.00,2,    2.28,2,   0.253,2,   0.122,2,  -999.0,9,  -999.0,9,  -999.0,9,  -999.0,9, -999.00,     2.9180,   2.8327,     -999.0,9
318M19881207,      SAVE4,     210,          1,         22,         22,2,19890101,       2132,   -35.1733,    -8.1483,       3862,  1338.1,  34.4543,2,  34.4540,2,-999.0000,9,   193.3,2,   54.94,2,   32.75,2,    0.00,2,    2.30,2,-999.000,9,-999.000,9,  -999.0,9,  -999.0,9,  -999.0,9,  -999.0,9, -999.00,     2.8387,   2.7461,     -999.0,9
318M19881207,      SAVE4,     210,          1,         23,         23,2,19890101,       2132,   -35.1733,    -8.1483,       3862,  1492.0,  34.5286,2,  34.5290,2,-999.0000,9,   188.2,2,   58.95,2,   32.55,2,    0.00,2,    2.27,2,   0.090,2,   0.049,2,  -999.0,9,  -999.0,9,  -999.0,9,  -999.0,9, -999.00,     2.7771,   2.6726,     -999.0,9
318M19881207,      SAVE4,     210,          1,         24,         24,2,19890101,       2132,   -35.1733,    -8.1483,       3862,  1645.4,  34.6037,2,  34.6040,2,-999.0000,9,   190.4,2,   59.92,2,   31.47,2,    0.00,2,    2.20,2,-999.000,9,-999.000,9,  -999.0,9,  -999.0,9,  -999.0,9,  -999.0,9, -999.00,     2.7676,   2.6503,     -999.0,9
318M19881207,      SAVE4,     210,          1,         25,         25,2,19890101,       2132,   -35.1733,    -8.1483,       3862,  1849.6,  34.6923,2,  34.6920,2,-999.0000,9,   197.2,2,   58.74,2,   29.42,2,    0.00,2,    2.06,2,   0.021,2,   0.020,2,  -999.0,9,  -999.0,9,  -999.0,9,  -999.0,9, -999.00,     2.7571,   2.6223,     -999.0,9
318M19881207,      SAVE4,     210,          1,         26,         26,2,19890101,       2132,   -35.1733,    -8.1483,       3862,  2053.9,  34.7612,2,  34.7610,2,-999.0000,9,   211.2,2,   56.59,2,   27.66,2,    0.00,2,    1.92,2,   0.007,2,   0.000,2,  -999.0,9,  -999.0,9,  -999.0,9,  -999.0,9, -999.00,     2.7260,   2.5733,     -999.0,9
318M19881207,      SAVE4,     210,          1,         27,         27,2,19890101,       2132,   -35.1733,    -8.1483,       3862,  2262.7,  34.8073,2,  34.8070,2,-999.0000,9,   219.3,2,   53.36,2,   26.00,2,    0.00,2,    1.80,2,   0.005,2,   0.009,2,  -999.0,9,  -999.0,9,  -999.0,9,  -999.0,9, -999.00,     2.6881,   2.5168,     -999.0,9
318M19881207,      SAVE4,     210,          1,         28,         28,2,19890101,       2132,   -35.1733,    -8.1483,       3862,  2468.7,  34.8340,2,  34.8330,2,-999.0000,9,   227.1,2,   51.31,2,   24.92,2,    0.00,2,    1.73,2,   0.004,2,   0.003,2,  -999.0,9,  -999.0,9,  -999.0,9,  -999.0,9, -999.00,     2.6377,   2.4479,     -999.0,9
318M19881207,      SAVE4,     210,          1,         29,         29,2,19890101,       2132,   -35.1733,    -8.1483,       3862,  2676.3,  34.8484,2,  34.8480,2,-999.0000,9,   232.6,2,   51.02,2,   24.33,2,    0.00,2,    1.68,2,   0.004,2,   0.002,2,  -999.0,9,  -999.0,9,  -999.0,9,  -999.0,9, -999.00,     2.5452,   2.3370,     -999.0,9
318M19881207,      SAVE4,     210,          1,         30,         30,2,19890101,       2132,   -35.1733,    -8.1483,       3862,  2884.4,  34.8539,2,  34.8550,2,-999.0000,9,   236.1,2,   52.09,2,   23.94,2,    0.00,2,    1.66,2,   0.003,2,   0.002,2,  -999.0,9,  -999.0,9,  -999.0,9,  -999.0,9, -999.00,     2.4557,   2.2287,     -999.0,9
318M19881207,      SAVE4,     210,          1,         31,         31,2,19890101,       2132,   -35.1733,    -8.1483,       3862,  3093.9,  34.8557,2,  34.8550,2,-999.0000,9,   238.0,2,   53.95,2,   23.94,2,    0.00,2,    1.66,2,   0.003,2,-999.000,9,  -999.0,9,  -999.0,9,  -999.0,9,  -999.0,9, -999.00,     2.3699,   2.1236,     -999.0,9
318M19881207,      SAVE4,     210,          1,         32,         32,2,19890101,       2132,   -35.1733,    -8.1483,       3862,  3303.0,  34.8553,2,  34.8550,2,-999.0000,9,   238.3,2,   56.00,2,   23.85,2,    0.00,2,    1.66,2,   0.002,2,   0.002,2,  -999.0,9,  -999.0,9,  -999.0,9,  3293.8,2, -999.00,     2.3180,   2.0513,      2.319,2
318M19881207,      SAVE4,     210,          1,         33,         33,2,19890101,       2132,   -35.1733,    -8.1483,       3862,  3511.6,  34.8489,2,  34.8490,2,-999.0000,9,   235.2,2,   60.40,2,   24.53,2,    0.00,2,    1.70,2,   0.000,2,   0.000,2,  -999.0,9,  -999.0,9,  -999.0,9,  -999.0,9, -999.00,     2.2123,   1.9262,     -999.0,9
318M19881207,      SAVE4,     210,          1,         34,         34,2,19890101,       2132,   -35.1733,    -8.1483,       3862,  3719.9,  34.8358,2,  34.8360,2,-999.0000,9,   233.3,2,   65.58,2,   25.21,2,    0.00,2,    1.75,2,-999.000,9,   0.000,2,  -999.0,9,  -999.0,9,  -999.0,9,  -999.0,9, -999.00,     2.0876,   1.7822,     -999.0,9
318M19881207,      SAVE4,     210,          1,         35,         35,2,19890101,       2132,   -35.1733,    -8.1483,       3862,  3802.9,  34.8246,2,  34.8250,2,-999.0000,9,   230.5,2,   68.71,2,   25.80,2,    0.00,2,    1.80,2,   0.005,2,   0.000,2,  -999.0,9,  -999.0,9,  -999.0,9,  3829.9,2, -999.00,     1.9800,   1.6685,      1.981,2
318M19881207,      SAVE4,     210,          1,         36,         36,2,19890101,       2132,   -35.1733,    -8.1483,       3862,  3865.2,  34.8159,2,  34.8140,2,-999.0000,9,   229.0,2,   72.91,2,   26.39,2,    0.00,2,    1.84,2,   0.000,2,-999.000,9,  -999.0,9,  -999.0,9,  -999.0,9,  -999.0,9, -999.00,     1.8959,   1.5800,     -999.0,9