BOTTLE,20211025CCHSIORKP
EXPOCODE,SECT_ID,STNNBR,CASTNO,SAMPNO,BTLNBR,BTLNBR_FLAG_W,DATE,TIME,LATITUDE,LONGITUDE,DEPTH,CTDPRS,CTDSAL,CTDSAL_FLAG_W,SALNTY,SALNTY_FLAG_W,CTDOXY,CTDOXY_FLAG_W,OXYGEN,OXYGEN_FLAG_W,SILCAT,SILCAT_FLAG_W,NITRAT,NITRAT_FLAG_W,NITRIT,NITRIT_FLAG_W,PHSPHT,PHSPHT_FLAG_W,CFC-11,CFC-11_FLAG_W,CFC-12,CFC-12_FLAG_W,TCARBN,TCARBN_FLAG_W,ALKALI,ALKALI_FLAG_W,PCO2,PCO2_FLAG_W,REVPRS,REVPRS_FLAG_W,CTDRAW,CTDTMP,THETA,REVTMP,REVTMP_FLAG_W
,,,,,,,,,,,METERS,DBAR,PSS-78,,PSS-78,,UMOL/KG,,UMOL/KG,,UMOL/KG,,UMOL/KG,,UMOL/KG,,UMOL/KG,,PMOL/KG,,PMOL/KG,,UMOL/KG,,UMOL/KG,,UATM,,DBAR,,DBAR,ITS-68,DEG C,ITS-68,
318M19881207,      SAVE4,     177,          1,          1,          1,2,19881211,       1230,   -47.0167,   -57.7917,       3812,     3.4,  34.1200,2,  34.1197,2,-999.0000,9,   315.3,2,    1.31,2,    8.99,2,    0.09,2,    0.64,2,   3.762,2,   1.767,2,  2027.7,2,  2283.1,2,   399.9,2,  -999.0,9, -999.00,     9.6059,   9.6055,     -999.0,9
318M19881207,      SAVE4,     177,          1,          2,          2,2,19881211,       1230,   -47.0167,   -57.7917,       3812,    26.1,  34.1366,2,-999.0000,9,-999.0000,9,  -999.0,9, -999.00,9, -999.00,9, -999.00,9, -999.00,9,-999.000,9,-999.000,9,  -999.0,9,  -999.0,9,  -999.0,9,  -999.0,9, -999.00,     9.3783,   9.3755,     -999.0,9
318M19881207,      SAVE4,     177,          1,          3,          3,2,19881211,       1230,   -47.0167,   -57.7917,       3812,    46.5,  34.0936,2,-999.0000,9,-999.0000,9,  -999.0,9, -999.00,9, -999.00,9, -999.00,9, -999.00,9,-999.000,9,-999.000,9,  -999.0,9,  -999.0,9,  -999.0,9,  -999.0,9, -999.00,     6.3521,   6.3480,     -999.0,9
318M19881207,      SAVE4,     177,          1,          4,          4,2,19881211,       1230,   -47.0167,   -57.7917,       3812,    66.5,  34.0791,2,  34.0890,2,-999.0000,9,   310.9,2,    8.57,2,   21.58,2,    0.17,2,    1.53,2,-999.000,9,-999.000,9,  2113.5,2,  2279.0,2,   668.7,2,  -999.0,9, -999.00,     4.9657,   4.9607,     -999.0,9
318M19881207,      SAVE4,     177,          1,          5,          5,2,19881211,       1230,   -47.0167,   -57.7917,       3812,   107.4,  34.1072,2,  34.0947,2,-999.0000,9,   301.9,2,   10.57,2,   24.05,2,    0.10,2,    1.67,2,   4.299,2,   1.937,2,  2126.1,2,  2277.8,2,   730.1,2,  -999.0,9, -999.00,     4.0201,   4.0128,     -999.0,9
318M19881207,      SAVE4,     177,          1,          6,          6,2,19881211,       1230,   -47.0167,   -57.7917,       3812,   158.9,  34.1038,2,  34.1022,2,-999.0000,9,   293.5,2,   12.98,2,   25.05,2,    0.04,2,    1.73,2,-999.000,9,-999.000,9,  -999.0,9,  -999.0,9,  -999.0,9,  -999.0,9, -999.00,     3.8017,   3.7911,     -999.0,9
318M19881207,      SAVE4,     177,          1,          7,          7,2,19881211,       1230,   -47.0167,   -57.7917,       3812,   218.2,  34.0873,2,  34.0869,2,-999.0000,9,   298.3,2,   15.98,2,   26.06,2,    0.01,2,    1.81,2,   4.008,2,   1.840,2,  2140.6,2,  2284.5,2,   773.2,2,  -999.0,9, -999.00,     3.2441,   3.2303,     -999.0,9
318M19881207,      SAVE4,     177,          1,          8,          8,2,19881211,       1230,   -47.0167,   -57.7917,       3812,   312.9,  34.1681,2,  34.1675,2,-999.0000,9,   262.9,2,   25.44,2,   28.84,2,    0.00,2,    2.00,2,-999.000,9,-999.000,9,  -999.0,9,  -999.0,9,  -999.0,9,  -999.0,9, -999.00,     3.2929,   3.2728,     -999.0,9
318M19881207,      SAVE4,     177,          1,          9,          9,2,19881211,       1230,   -47.0167,   -57.7917,       3812,   394.7,  34.1891,2,  34.1889,2,-999.0000,9,   255.7,2,   30.86,2,   30.05,2,    0.00,2,    2.08,2,   2.473,2,   1.145,2,  2173.5,2,  2297.4,2,   896.9,2,  -999.0,9, -999.00,     2.9351,   2.9106,     -999.0,9
318M19881207,      SAVE4,     177,          1,         10,         10,2,19881211,       1230,   -47.0167,   -57.7917,       3812,   466.6,  34.2201,2,  34.2207,2,-999.0000,9,   245.4,2,   36.47,2,   30.81,2,    0.00,2,    2.14,2,-999.000,9,-999.000,9,  -999.0,9,  -999.0,9,  -999.0,9,  -999.0,9, -999.00,     2.7483,   2.7198,     -999.0,9
318M19881207,      SAVE4,     177,          1,         11,         11,2,19881211,       1230,   -47.0167,   -57.7917,       3812,   543.3,  34.2535,2,  34.2542,2,-999.0000,9,   236.0,2,   42.69,2,   31.89,2,    0.00,2,    2.21,2,   1.912,2,   0.847,2,  2191.0,2,  2301.9,2,   987.9,2,  -999.0,9, -999.00,     2.5000,   2.4674,     -999.0,9
318M19881207,      SAVE4,     177,          1,         12,         12,2,19881211,       1230,   -47.0167,   -57.7917,       3812,   715.8,  34.3762,2,  34.3773,2,-999.0000,9,   203.6,2,   57.15,2,   33.56,2,    0.00,2,    2.34,2,   0.925,2,   0.439,2,  2217.9,2,  2316.4,2,  1093.8,2,  -999.0,9, -999.00,     2.4852,   2.4413,     -999.0,9
318M19881207,      SAVE4,     177,          1,         13,         13,2,19881211,       1230,   -47.0167,   -57.7917,       3812,   825.2,  34.4327,2,  34.4314,2,-999.0000,9,   192.2,2,   64.96,2,   34.36,2,    0.00,2,    2.37,2,-999.000,9,-999.000,9,  -999.0,9,  -999.0,9,  -999.0,9,  -999.0,9, -999.00,     2.3811,   2.3303,     -999.0,9
318M19881207,      SAVE4,     177,          1,         14,         14,2,19881211,       1230,   -47.0167,   -57.7917,       3812,   928.8,  34.4947,2,  34.4902,2,-999.0000,9,   182.6,2,   70.95,2,   34.48,2,    0.00,2,    2.39,2,   0.432,2,   0.216,2,  -999.0,9,  -999.0,9,  -999.0,9,  -999.0,9, -999.00,     2.3791,   2.3211,     -999.0,9
318M19881207,      SAVE4,     177,          1,         15,         15,2,19881211,       1230,   -47.0167,   -57.7917,       3812,  1031.7,  34.5419,2,  34.5414,2,-999.0000,9,   176.8,2,   76.94,2,   34.41,2,    0.00,2,    2.38,2,-999.000,9,-999.000,9,  -999.0,9,  -999.0,9,  -999.0,9,  -999.0,9, -999.00,     2.3394,   2.2744,     -999.0,9
318M19881207,      SAVE4,     177,          1,         16,         16,2,19881211,       1230,   -47.0167,   -57.7917,       3812,  1216.7,  34.6089,2,  34.6071,2,-999.0000,9,   174.0,2,   82.12,2,   33.88,2,    0.00,2,    2.36,2,   0.145,2,   0.087,2,  2255.0,2,  2346.0,2,  1182.7,2,  -999.0,9, -999.00,     2.2763,   2.1983,     -999.0,9
318M19881207,      SAVE4,     177,          1,         17,         17,2,19881211,       1230,   -47.0167,   -57.7917,       3812,  1319.4,  34.6482,2,  34.6491,2,-999.0000,9,   177.4,2,   80.46,2,   32.72,2,    0.00,2,    2.28,2,-999.000,9,-999.000,9,  -999.0,9,  -999.0,9,  -999.0,9,  -999.0,9, -999.00,     2.3258,   2.2395,     -999.0,9
318M19881207,      SAVE4,     177,          1,         18,         18,2,19881211,       1230,   -47.0167,   -57.7917,       3812,  1443.4,  34.6739,2,  34.6755,2,-999.0000,9,   179.0,2,   83.43,2,   32.24,2,    0.00,2,    2.25,2,   0.075,2,   0.050,2,  -999.0,9,  -999.0,9,  -999.0,9,  -999.0,9, -999.00,     2.2438,   2.1489,     -999.0,9
318M19881207,      SAVE4,     177,          1,         19,         19,2,19881211,       1230,   -47.0167,   -57.7917,       3812,  1546.6,  34.6960,2,  34.6967,2,-999.0000,9,   182.3,2,   84.38,2,   31.72,2,    0.00,2,    2.21,2,-999.000,9,-999.000,9,  -999.0,9,  -999.0,9,  -999.0,9,  -999.0,9, -999.00,     2.2195,   2.1168,     -999.0,9
318M19881207,      SAVE4,     177,          1,         20,         20,2,19881211,       1230,   -47.0167,   -57.7917,       3812,  1639.7,  34.7074,2,  34.7078,2,-999.0000,9,   183.6,2,   85.34,2,   31.47,2,    0.00,2,    2.20,2,   0.053,2,   0.048,2,  2249.1,2,  2349.6,2,  1110.6,2,  -999.0,9, -999.00,     2.1605,   2.0510,     -999.0,9
318M19881207,      SAVE4,     177,          1,         21,         21,2,19881211,       1230,   -47.0167,   -57.7917,       3812,  1752.8,  34.7238,2,  34.7245,2,-999.0000,9,   188.0,2,   85.29,2,   31.05,2,    0.00,2,    2.17,2,-999.000,9,-999.000,9,  -999.0,9,  -999.0,9,  -999.0,9,  -999.0,9, -999.00,     2.1480,   2.0295,     -999.0,9
318M19881207,      SAVE4,     177,          1,         22,         22,2,19881211,       1230,   -47.0167,   -57.7917,       3812,  1856.6,  34.7318,2,  34.7308,2,-999.0000,9,   190.5,2,   87.25,2,   30.94,2,    0.00,2,    2.14,2,   0.036,2,   0.029,2,  -999.0,9,  -999.0,9,  -999.0,9,  -999.0,9, -999.00,     2.0513,   1.9257,     -999.0,9
318M19881207,      SAVE4,     177,          1,         23,         23,2,19881211,       1230,   -47.0167,   -57.7917,       3812,  1959.9,  34.7483,2,  34.7479,2,-999.0000,9,   196.2,2,   84.79,2,   30.10,2,    0.00,2,    2.09,2,-999.000,9,-999.000,9,  -999.0,9,  -999.0,9,  -999.0,9,  -999.0,9, -999.00,     2.0375,   1.9035,     -999.0,9
318M19881207,      SAVE4,     177,          1,         24,         24,2,19881211,       1230,   -47.0167,   -57.7917,       3812,  2021.9,  34.7485,2,  34.7487,2,-999.0000,9,   197.1,2,   86.35,2,   30.26,2,    0.00,2,    2.10,2,   0.040,2,   0.029,2,  -999.0,9,  -999.0,9,  -999.0,9,  -999.0,9, -999.00,     1.9803,   1.8419,     -999.0,9
318M19881207,      SAVE4,     177,          1,         25,         25,2,19881211,       1230,   -47.0167,   -57.7917,       3812,  2125.3,  34.7681,2,  34.7724,2,-999.0000,9,   205.1,2,   81.49,2,   28.75,2,    0.00,2,    2.00,2,   0.023,2,   0.023,2,  2229.5,2,  2347.7,2,   982.7,2,  -999.0,9, -999.00,     2.0091,   1.8614,     -999.0,9
318M19881207,      SAVE4,     177,          1,         26,         26,2,19881211,       1230,   -47.0167,   -57.7917,       3812,  2270.2,  34.7522,2,  34.7492,2,-999.0000,9,   201.1,2,   91.06,2,   29.91,2,    0.00,2,    2.07,2,   0.035,2,   0.029,2,  -999.0,9,  -999.0,9,  -999.0,9,  -999.0,9, -999.00,     1.8114,   1.6545,     -999.0,9
318M19881207,      SAVE4,     177,          1,         27,         27,2,19881211,       1230,   -47.0167,   -57.7917,       3812,  2373.1,  34.7370,2,  34.7368,2,-999.0000,9,   199.1,2,   98.22,2,   30.61,2,    0.00,2,    2.13,2,-999.000,9,-999.000,9,  -999.0,9,  -999.0,9,  -999.0,9,  -999.0,9, -999.00,     1.6425,   1.4797,     -999.0,9
318M19881207,      SAVE4,     177,          1,         28,         28,2,19881211,       1230,   -47.0167,   -57.7917,       3812,  2581.0,  34.7222,2,-999.0000,9,-999.0000,9,  -999.0,9, -999.00,9, -999.00,9, -999.00,9, -999.00,9,-999.000,9,-999.000,9,  -999.0,9,  -999.0,9,  -999.0,9,  -999.0,9, -999.00,     1.4309,   1.2538,     -999.0,9
318M19881207,      SAVE4,     177,          1,         29,         29,2,19881211,       1230,   -47.0167,   -57.7917,       3812,  2673.6,  34.7225,2,  34.7219,2,-999.0000,9,   198.8,2,  106.59,2,   31.50,2,    0.00,2,    2.19,2,-999.000,9,-999.000,9,  2247.3,2,  2352.2,2,  1082.7,2,  -999.0,9, -999.00,     1.3773,   1.1930,     -999.0,9
318M19881207,      SAVE4,     177,          1,         30,         30,2,19881211,       1230,   -47.0167,   -57.7917,       3812,  2819.0,  34.7204,2,  34.7204,2,-999.0000,9,   201.8,2,  107.73,2,   31.39,2,    0.00,2,    2.19,2,   0.062,2,   0.036,2,  -999.0,9,  -999.0,9,  -999.0,9,  -999.0,9, -999.00,     1.2776,   1.0822,     -999.0,9
318M19881207,      SAVE4,     177,          1,         31,         31,2,19881211,       1230,   -47.0167,   -57.7917,       3812,  2995.4,  34.7163,2,  34.7176,2,-999.0000,9,   203.9,2,  110.68,2,   31.51,2,    0.00,2,    2.19,2,-999.000,9,-999.000,9,  -999.0,9,  -999.0,9,  -999.0,9,  -999.0,9, -999.00,     1.1655,   0.9564,     -999.0,9
318M19881207,      SAVE4,     177,          1,         32,         32,2,19881211,       1230,   -47.0167,   -57.7917,       3812,  3099.3,  34.7132,2,  34.7106,2,-999.0000,9,   205.0,2,  113.45,2,   31.49,2,    0.00,2,    2.19,2,   0.073,2,   0.061,2,  2251.4,2,  2357.0,2,  1082.0,2,  -999.0,9, -999.00,     1.1025,   0.8850,     -999.0,9
318M19881207,      SAVE4,     177,          1,         33,         33,2,19881211,       1230,   -47.0167,   -57.7917,       3812,  3307.4,  34.7062,2,  34.7057,2,-999.0000,9,   208.9,2,  116.18,2,   31.74,2,    0.00,2,    2.21,2,-999.000,9,-999.000,9,  -999.0,9,  -999.0,9,  -999.0,9,  -999.0,9, -999.00,     0.9495,   0.7159,     -999.0,9
318M19881207,      SAVE4,     177,          1,         34,         34,2,19881211,       1230,   -47.0167,   -57.7917,       3812,  3514.8,  34.6971,2,  34.6927,2,-999.0000,9,   212.3,2,  118.73,2,   31.86,2,    0.00,2,    2.23,2,   0.088,2,   0.069,2,  -999.0,9,  -999.0,9,  -999.0,9,  -999.0,9, -999.00,     0.7674,   0.5182,     -999.0,9
318M19881207,      SAVE4,     177,          1,         35,         35,2,19881211,       1230,   -47.0167,   -57.7917,       3812,  3722.7,  34.6846,2,  34.6845,2,-999.0000,9,   217.2,2,  123.42,2,   32.13,2,    0.00,2,    2.25,2,-999.000,9,-999.000,9,  -999.0,9,  -999.0,9,  -999.0,9,  3698.2,2, -999.00,     0.4982,   0.2357,      0.504,2
318M19881207,      SAVE4,     177,          1,         36,         36,2,19881211,       1230,   -47.0167,   -57.7917,       3812,  3841.3,  34.6736,2,  34.6741,2,-999.0000,9,   221.5,2,  127.57,2,   32.43,2,    0.00,2,    2.28,2,   0.089,2,   0.054,2,  2258.8,2,  2364.9,2,  1085.7,2,  -999.0,9, -999.00,     0.2584,  -0.0092,     -999.0,9