BOTTLE,20211025CCHSIORKP
EXPOCODE,SECT_ID,STNNBR,CASTNO,SAMPNO,BTLNBR,BTLNBR_FLAG_W,DATE,TIME,LATITUDE,LONGITUDE,DEPTH,CTDPRS,CTDSAL,CTDSAL_FLAG_W,SALNTY,SALNTY_FLAG_W,CTDOXY,CTDOXY_FLAG_W,OXYGEN,OXYGEN_FLAG_W,SILCAT,SILCAT_FLAG_W,NITRAT,NITRAT_FLAG_W,NITRIT,NITRIT_FLAG_W,PHSPHT,PHSPHT_FLAG_W,CFC-11,CFC-11_FLAG_W,CFC-12,CFC-12_FLAG_W,TCARBN,TCARBN_FLAG_W,ALKALI,ALKALI_FLAG_W,PCO2,PCO2_FLAG_W,REVPRS,REVPRS_FLAG_W,CTDRAW,CTDTMP,THETA,REVTMP,REVTMP_FLAG_W
,,,,,,,,,,,METERS,DBAR,PSS-78,,PSS-78,,UMOL/KG,,UMOL/KG,,UMOL/KG,,UMOL/KG,,UMOL/KG,,UMOL/KG,,PMOL/KG,,PMOL/KG,,UMOL/KG,,UMOL/KG,,UATM,,DBAR,,DBAR,ITS-68,DEG C,ITS-68,
318M19881207,      SAVE4,     211,          2,          1,          1,2,19890102,       1449,   -34.0500,    -7.1667,       4042,     2.8,  35.5190,2,  35.5181,2,-999.0000,9,   232.8,2,    2.24,2,    0.08,2,    0.00,2,    0.15,2,   2.214,2,   1.091,2,  2038.8,2,  2335.1,2,   352.6,2,     5.6,2, -999.00,    19.4848,  19.4843,     19.471,2
318M19881207,      SAVE4,     211,          2,          2,          2,2,19890102,       1449,   -34.0500,    -7.1667,       4042,    48.3,  35.4981,2,  35.4978,2,-999.0000,9,   253.4,2,    2.23,2,    0.07,2,    0.01,2,    0.16,2,   2.420,2,   1.194,2,  2040.9,2,  2336.9,2,   353.4,2,  -999.0,9, -999.00,    17.0412,  17.0332,     -999.0,9
318M19881207,      SAVE4,     211,          2,          3,          3,2,19890102,       1449,   -34.0500,    -7.1667,       4042,   109.7,  35.3873,2,  35.3856,2,-999.0000,9,   238.2,2,    2.68,2,    1.84,2,    0.17,2,    0.32,2,   2.481,2,   1.204,2,  2063.2,2,  2330.2,2,   404.6,2,  -999.0,9, -999.00,    14.9457,  14.9291,     -999.0,9
318M19881207,      SAVE4,     211,          2,          4,          4,2,19890102,       1449,   -34.0500,    -7.1667,       4042,   160.8,  35.3793,2,  35.3789,2,-999.0000,9,   235.3,2,    2.90,2,    3.32,2,    0.01,2,    0.38,2,-999.000,9,-999.000,9,  2070.7,2,  2328.3,2,   423.8,2,  -999.0,9, -999.00,    14.4578,  14.4340,     -999.0,9
318M19881207,      SAVE4,     211,          2,          5,          5,2,19890102,       1449,   -34.0500,    -7.1667,       4042,   237.3,  35.2741,2,  35.2650,2,-999.0000,9,   228.0,2,    3.56,2,    6.40,2,    0.01,2,    0.56,2,   2.348,2,   1.143,2,  2081.8,2,  2322.1,2,   460.7,2,  -999.0,9, -999.00,    13.5168,  13.4832,     -999.0,9
318M19881207,      SAVE4,     211,          2,          6,          6,2,19890102,       1449,   -34.0500,    -7.1667,       4042,   313.8,  35.1243,2,  35.1175,2,-999.0000,9,   217.8,2,    4.44,2,   10.30,2,    0.00,2,    0.80,2,-999.000,9,-999.000,9,  2097.1,2,  2314.8,2,   516.3,2,  -999.0,9, -999.00,    12.4187,  12.3766,     -999.0,9
318M19881207,      SAVE4,     211,          2,          7,          7,2,19890102,       1449,   -34.0500,    -7.1667,       4042,   416.3,  34.9069,2,  34.9062,2,-999.0000,9,   226.8,2,    5.10,2,   12.86,2,    0.00,2,    0.96,2,   2.252,2,   1.092,2,  2105.7,2,  2306.0,2,   563.0,2,  -999.0,9, -999.00,    10.8271,  10.7758,     -999.0,9
318M19881207,      SAVE4,     211,          2,          8,          8,2,19890102,       1449,   -34.0500,    -7.1667,       4042,   462.8,  34.8282,2,  34.8301,2,-999.0000,9,   220.3,2,    6.20,2,   15.10,2,    0.00,2,    1.12,2,   2.039,2,   0.984,2,  2111.5,2,  2300.5,2,   598.2,2,  -999.0,9, -999.00,    10.2154,  10.1604,     -999.0,9
318M19881207,      SAVE4,     211,          2,          9,          9,2,19890102,       1449,   -34.0500,    -7.1667,       4042,   519.0,  34.6631,2,  34.6642,2,-999.0000,9,   219.0,2,    8.18,2,   18.71,2,    0.00,2,    1.34,2,-999.000,9,-999.000,9,  2123.9,2,  2295.9,2,   658.7,2,  -999.0,9, -999.00,     8.8750,   8.8183,     -999.0,9
318M19881207,      SAVE4,     211,          2,         10,         10,2,19890102,       1449,   -34.0500,    -7.1667,       4042,   620.6,  34.4404,2,  34.4406,2,-999.0000,9,   221.5,2,   13.02,2,   24.12,2,    0.00,2,    1.68,2,   1.607,2,   0.748,2,  2144.9,2,  2290.6,2,   772.4,2,  -999.0,9, -999.00,     6.7528,   6.6945,     -999.0,9
318M19881207,      SAVE4,     211,          2,         11,         11,2,19890102,       1449,   -34.0500,    -7.1667,       4042,   692.5,  34.3462,2,  34.3488,2,-999.0000,9,   229.6,2,   15.43,2,   25.85,2,    0.00,2,    1.80,2,   1.522,2,   0.701,2,  2147.3,2,  2285.2,2,   808.8,2,  -999.0,9, -999.00,     5.7360,   5.6761,     -999.0,9
318M19881207,      SAVE4,     211,          2,         12,         12,2,19890102,       1449,   -34.0500,    -7.1667,       4042,   744.3,  34.2815,2,  34.2826,2,-999.0000,9,   240.9,2,   16.50,2,   26.57,2,    0.00,2,    1.86,2,   1.671,2,   0.770,2,  2147.5,2,  2283.3,2,   818.4,2,  -999.0,9, -999.00,     5.0426,   4.9820,     -999.0,9
318M19881207,      SAVE4,     211,          2,         13,         13,2,19890102,       1449,   -34.0500,    -7.1667,       4042,   825.5,  34.2596,2,  34.2606,2,-999.0000,9,   240.1,2,   21.09,2,   28.17,2,    0.00,2,    1.95,2,   1.342,2,   0.619,2,  2157.4,2,  2287.6,2,   853.2,2,  -999.0,9, -999.00,     4.4071,   4.3435,     -999.0,9
318M19881207,      SAVE4,     211,          2,         14,         14,2,19890102,       1449,   -34.0500,    -7.1667,       4042,   928.9,  34.2579,2,  34.2586,2,-999.0000,9,   235.1,2,   27.64,2,   29.67,2,    0.00,2,    2.05,2,   1.001,2,   0.410,2,  2166.3,2,  2287.5,2,   908.4,2,  -999.0,9, -999.00,     3.8110,   3.7429,     -999.0,9
318M19881207,      SAVE4,     211,          2,         15,         15,2,19890102,       1449,   -34.0500,    -7.1667,       4042,  1032.5,  34.2851,2,  34.2847,2,-999.0000,9,   225.3,2,   33.50,2,   30.81,2,    0.00,2,    2.14,2,   0.734,2,   0.343,2,  2181.2,2,  2297.7,2,   946.8,2,  -999.0,9, -999.00,     3.4698,   3.3961,     -999.0,9
318M19881207,      SAVE4,     211,          2,         16,         16,2,19890102,       1449,   -34.0500,    -7.1667,       4042,  1082.6,  34.3012,2,  34.2934,2,-999.0000,9,   222.0,2,   37.38,2,   31.25,2,    0.00,2,    2.18,2,-999.000,9,-999.000,9,  -999.0,9,  -999.0,9,  -999.0,9,  -999.0,9, -999.00,     3.3036,   3.2272,     -999.0,9
318M19881207,      SAVE4,     211,          2,         17,         17,2,19890102,       1449,   -34.0500,    -7.1667,       4042,  1244.8,  34.3968,2,  34.3969,2,-999.0000,9,   201.9,2,   48.89,2,   32.53,2,    0.00,2,    2.27,2,   0.275,2,   0.139,2,  2211.9,2,  2315.5,2,  1053.0,2,  -999.0,9, -999.00,     3.0135,   2.9267,     -999.0,9
318M19881207,      SAVE4,     211,          2,         18,         18,2,19890102,       1449,   -34.0500,    -7.1667,       4042,  1388.3,  34.4861,2,  34.4855,2,-999.0000,9,   192.2,2,   55.56,2,   32.69,2,    0.00,2,    2.27,2,   0.123,2,   0.065,2,  -999.0,9,  -999.0,9,  -999.0,9,  -999.0,9, -999.00,     2.8989,   2.8016,     -999.0,9
318M19881207,      SAVE4,     211,          2,         19,         19,2,19890102,       1449,   -34.0500,    -7.1667,       4042,  1540.7,  34.5694,2,  34.5699,2,-999.0000,9,   190.4,2,   59.38,2,   31.89,2,    0.00,2,    2.21,2,   0.053,2,   0.032,2,  2222.9,2,  2327.3,2,  1059.4,2,  -999.0,9, -999.00,     2.8254,   2.7162,     -999.0,9
318M19881207,      SAVE4,     211,          2,         20,         20,2,19890102,       1449,   -34.0500,    -7.1667,       4042,  1692.0,  34.6440,2,  34.6443,2,-999.0000,9,   193.2,2,   59.71,2,   30.86,2,    0.00,2,    2.13,2,   0.017,2,   0.012,2,  -999.0,9,  -999.0,9,  -999.0,9,  -999.0,9, -999.00,     2.7665,   2.6452,     -999.0,9
318M19881207,      SAVE4,     211,          2,         21,         21,2,19890102,       1449,   -34.0500,    -7.1667,       4042,  1843.6,  34.7010,2,  34.7011,2,-999.0000,9,   198.8,2,   59.17,2,   29.48,2,    0.00,2,    2.04,2,-999.000,9,-999.000,9,  2217.7,2,  2331.6,2,   996.2,2,  -999.0,9, -999.00,     2.7467,   2.6125,     -999.0,9
318M19881207,      SAVE4,     211,          2,         22,         22,2,19890102,       1449,   -34.0500,    -7.1667,       4042,  1996.7,  34.7516,2,  34.7525,2,-999.0000,9,   207.2,2,   58.43,2,   27.99,2,    0.00,2,    1.94,2,   0.004,2,   0.005,2,  -999.0,9,  -999.0,9,  -999.0,9,  -999.0,9, -999.00,     2.7056,   2.5584,     -999.0,9
318M19881207,      SAVE4,     211,          2,         23,         23,2,19890102,       1449,   -34.0500,    -7.1667,       4042,  2147.0,  34.7835,2,  34.7830,2,-999.0000,9,   213.9,2,   57.46,2,   26.97,2,    0.00,2,    1.86,2,-999.000,9,-999.000,9,  2209.4,2,  2337.7,2,   908.7,2,  -999.0,9, -999.00,     2.6557,   2.4956,     -999.0,9
318M19881207,      SAVE4,     211,          2,         24,         24,2,19890102,       1449,   -34.0500,    -7.1667,       4042,  2297.1,  34.8097,2,  34.8108,2,-999.0000,9,   220.6,2,   54.56,2,   26.00,2,    0.00,2,    1.79,2,   0.004,2,   0.002,2,  -999.0,9,  -999.0,9,  -999.0,9,  -999.0,9, -999.00,     2.6158,   2.4426,     -999.0,9
318M19881207,      SAVE4,     211,          2,         25,         25,2,19890102,       1449,   -34.0500,    -7.1667,       4042,  2446.5,  34.8272,2,  34.8275,2,-999.0000,9,   225.6,2,   52.96,2,   25.30,2,    0.00,2,    1.75,2,-999.000,9,-999.000,9,  2198.4,2,  2335.0,2,   858.6,2,  -999.0,9, -999.00,     2.5914,   2.4046,     -999.0,9
318M19881207,      SAVE4,     211,          2,         26,         26,2,19890102,       1449,   -34.0500,    -7.1667,       4042,  2595.2,  34.8422,2,  34.8419,2,-999.0000,9,   230.8,2,   52.02,2,   24.61,2,    0.00,2,    1.71,2,   0.000,2,   0.000,2,  -999.0,9,  -999.0,9,  -999.0,9,  -999.0,9, -999.00,     2.5504,   2.3500,     -999.0,9
318M19881207,      SAVE4,     211,          2,         27,         27,2,19890102,       1449,   -34.0500,    -7.1667,       4042,  2743.2,  34.8498,2,  34.8497,2,-999.0000,9,   233.3,2,   51.50,2,   24.28,2,    0.00,2,    1.67,2,-999.000,9,-999.000,9,  -999.0,9,  -999.0,9,  -999.0,9,  -999.0,9, -999.00,     2.5128,   2.2987,     -999.0,9
318M19881207,      SAVE4,     211,          2,         28,         28,2,19890102,       1449,   -34.0500,    -7.1667,       4042,  2889.9,  34.8553,2,  34.8550,2,-999.0000,9,   235.8,2,   51.41,2,   24.13,2,    0.00,2,    1.65,2,   0.002,2,   0.000,2,  2196.1,2,  2341.3,2,   815.6,2,  -999.0,9, -999.00,     2.4537,   2.2262,     -999.0,9
318M19881207,      SAVE4,     211,          2,         29,         29,2,19890102,       1449,   -34.0500,    -7.1667,       4042,  3048.0,  34.8614,2,  34.8615,2,-999.0000,9,   237.5,2,   51.97,2,   23.71,2,    0.00,2,    1.64,2,-999.000,9,-999.000,9,  -999.0,9,  -999.0,9,  -999.0,9,  -999.0,9, -999.00,     2.4157,   2.1731,     -999.0,9
318M19881207,      SAVE4,     211,          2,         30,         30,2,19890102,       1449,   -34.0500,    -7.1667,       4042,  3208.6,  34.8657,2,  34.8663,2,-999.0000,9,   238.3,2,   51.67,2,   23.65,2,    0.00,2,    1.66,2,   0.005,2,   0.002,2,  -999.0,9,  -999.0,9,  -999.0,9,  -999.0,9, -999.00,     2.3943,   2.1356,     -999.0,9
318M19881207,      SAVE4,     211,          2,         31,         31,2,19890102,       1449,   -34.0500,    -7.1667,       4042,  3368.1,  34.8676,2,  34.8678,2,-999.0000,9,   238.1,2,   52.22,2,   23.64,2,    0.00,2,    1.63,2,-999.000,9,-999.000,9,  2198.2,2,  2347.3,2,   799.2,2,  -999.0,9, -999.00,     2.3811,   2.1060,     -999.0,9
318M19881207,      SAVE4,     211,          2,         32,         32,2,19890102,       1449,   -34.0500,    -7.1667,       4042,  3525.9,  34.8671,2,  34.8666,2,-999.0000,9,   237.0,2,   54.47,2,   23.90,2,    0.00,2,    1.64,2,   0.002,2,   0.003,2,  -999.0,9,  -999.0,9,  -999.0,9,  3530.7,2, -999.00,     2.3320,   2.0412,      2.333,2
318M19881207,      SAVE4,     211,          2,         33,         33,2,19890102,       1449,   -34.0500,    -7.1667,       4042,  3681.2,  34.8593,2,  34.8595,2,-999.0000,9,   234.7,2,   58.63,2,   24.30,2,    0.00,2,    1.67,2,-999.000,9,-999.000,9,  -999.0,9,  -999.0,9,  -999.0,9,  -999.0,9, -999.00,     2.2502,   1.9447,     -999.0,9
318M19881207,      SAVE4,     211,          2,         34,         34,2,19890102,       1449,   -34.0500,    -7.1667,       4042,  3835.4,  34.8384,2,  34.8385,2,-999.0000,9,   230.7,2,   65.53,2,   25.24,2,    0.00,2,    1.77,2,   0.002,2,   0.001,2,  2211.4,2,  2355.2,2,   833.3,2,  -999.0,9, -999.00,     2.0845,   1.7665,     -999.0,9
318M19881207,      SAVE4,     211,          2,         35,         35,2,19890102,       1449,   -34.0500,    -7.1667,       4042,  3990.9,  34.8153,2,  34.8144,2,-999.0000,9,   226.7,2,   74.53,2,   26.54,2,    0.00,2,    1.84,2,-999.000,9,-999.000,9,  -999.0,9,  -999.0,9,  -999.0,9,  3995.7,2, -999.00,     1.8791,   1.5498,      1.897,2
318M19881207,      SAVE4,     211,          2,         36,         36,2,19890102,       1449,   -34.0500,    -7.1667,       4042,  4104.7,  34.8056,2,  34.8054,2,-999.0000,9,   226.0,2,   79.47,2,   27.03,2,    0.00,2,    1.88,2,   0.003,2,   0.002,2,  2225.6,2,  2365.0,2,   865.1,2,  -999.0,9, -999.00,     1.8043,   1.4644,     -999.0,9