BOTTLE,20211025CCHSIORKP
EXPOCODE,SECT_ID,STNNBR,CASTNO,SAMPNO,BTLNBR,BTLNBR_FLAG_W,DATE,TIME,LATITUDE,LONGITUDE,DEPTH,CTDPRS,CTDSAL,CTDSAL_FLAG_W,SALNTY,SALNTY_FLAG_W,CTDOXY,CTDOXY_FLAG_W,OXYGEN,OXYGEN_FLAG_W,SILCAT,SILCAT_FLAG_W,NITRAT,NITRAT_FLAG_W,NITRIT,NITRIT_FLAG_W,PHSPHT,PHSPHT_FLAG_W,CFC-11,CFC-11_FLAG_W,CFC-12,CFC-12_FLAG_W,TCARBN,TCARBN_FLAG_W,ALKALI,ALKALI_FLAG_W,PCO2,PCO2_FLAG_W,REVPRS,REVPRS_FLAG_W,CTDRAW,CTDTMP,THETA,REVTMP,REVTMP_FLAG_W
,,,,,,,,,,,METERS,DBAR,PSS-78,,PSS-78,,UMOL/KG,,UMOL/KG,,UMOL/KG,,UMOL/KG,,UMOL/KG,,UMOL/KG,,PMOL/KG,,PMOL/KG,,UMOL/KG,,UMOL/KG,,UATM,,DBAR,,DBAR,ITS-68,DEG C,ITS-68,
318M19881207,      SAVE4,     226,          2,          1,          1,2,19890110,       1709,   -30.0217,     9.4967,       4902,     1.4,  35.6448,2,  35.6480,2,-999.0000,9,   228.8,2,    2.53,2,    0.01,2,    0.00,2,    0.16,2,-999.000,9,-999.000,9,  2027.5,2,  2336.0,2,   334.1,2,  -999.0,9, -999.00,    21.0475,  21.0472,     21.021,2
318M19881207,      SAVE4,     226,          2,          2,          2,2,19890110,       1709,   -30.0217,     9.4967,       4902,    31.2,  35.6369,2,  35.6330,2,-999.0000,9,   230.7,2,    2.53,2,    0.01,2,    0.00,2,    0.15,2,   2.041,2,   1.031,2,  -999.0,9,  -999.0,9,  -999.0,9,  -999.0,9, -999.00,    20.5673,  20.5614,     -999.0,9
318M19881207,      SAVE4,     226,          2,          3,          3,2,19890110,       1709,   -30.0217,     9.4967,       4902,    56.7,  35.2829,2,  35.2950,2,-999.0000,9,   255.3,2,    2.52,2,    0.89,2,    0.20,2,    0.31,2,   2.333,2,   1.185,2,  2041.9,2,  2322.3,2,   375.0,2,  -999.0,9, -999.00,    16.8189,  16.8096,     -999.0,9
318M19881207,      SAVE4,     226,          2,          4,          4,2,19890110,       1709,   -30.0217,     9.4967,       4902,   103.0,  35.4179,2,  35.4170,2,-999.0000,9,   223.6,2,    4.01,2,    4.46,2,    0.05,2,    0.45,2,   2.266,2,   1.141,2,  2060.0,2,  2322.6,2,   412.0,2,  -999.0,9, -999.00,    15.3083,  15.2925,     -999.0,9
318M19881207,      SAVE4,     226,          2,          5,          5,2,19890110,       1709,   -30.0217,     9.4967,       4902,   149.2,  35.2570,2,  35.2520,2,-999.0000,9,  -999.0,9,    4.22,2,    6.87,2,    0.02,2,    0.59,2,   2.312,2,   1.147,2,  -999.0,9,  -999.0,9,  -999.0,9,  -999.0,9, -999.00,    14.1130,  14.0913,     -999.0,9
318M19881207,      SAVE4,     226,          2,          6,          6,2,19890110,       1709,   -30.0217,     9.4967,       4902,   200.5,  35.0866,2,  35.0870,2,-999.0000,9,   210.6,2,    5.28,2,   10.60,2,    0.01,2,    0.82,2,   2.050,2,   0.993,2,  2094.1,2,  2307.8,2,   524.6,2,  -999.0,9, -999.00,    12.7137,  12.6865,     -999.0,9
318M19881207,      SAVE4,     226,          2,          7,          7,2,19890110,       1709,   -30.0217,     9.4967,       4902,   271.7,  34.9491,2,  34.9460,2,-999.0000,9,   155.9,2,   10.40,2,   19.52,2,    0.00,2,    1.35,2,   1.529,2,   0.752,2,  -999.0,9,  -999.0,9,  -999.0,9,  -999.0,9, -999.00,    11.3243,  11.2900,     -999.0,9
318M19881207,      SAVE4,     226,          2,          8,          8,2,19890110,       1709,   -30.0217,     9.4967,       4902,   338.2,  34.7914,2,  34.7920,2,-999.0000,9,   180.4,2,   10.39,2,   19.92,2,    0.00,2,    1.38,2,   1.477,2,   0.714,2,  2138.9,2,  2295.0,2,   728.4,2,  -999.0,9, -999.00,     9.9741,   9.9347,     -999.0,9
318M19881207,      SAVE4,     226,          2,          9,          9,2,19890110,       1709,   -30.0217,     9.4967,       4902,   424.5,  34.6644,2,  34.6650,2,-999.0000,9,   148.4,2,   16.57,2,   26.70,2,    0.00,2,    1.80,2,   1.043,2,   0.500,2,  2172.6,3,  2292.0,2,   926.2,2,  -999.0,9, -999.00,     8.5519,   8.5068,     -999.0,9
318M19881207,      SAVE4,     226,          2,         10,         10,2,19890110,       1709,   -30.0217,     9.4967,       4902,   557.1,  34.5061,2,  34.5230,2,-999.0000,9,   139.1,2,   21.47,2,   32.71,2,    0.00,2,    2.14,2,   0.600,2,   0.278,2,  2198.3,3,  2289.8,2,  1125.4,2,  -999.0,9, -999.00,     6.5305,   6.4794,     -999.0,9
318M19881207,      SAVE4,     226,          2,         11,         11,2,19890110,       1709,   -30.0217,     9.4967,       4902,   670.7,  34.3804,2,  34.3830,2,-999.0000,9,   180.8,2,   27.42,2,   32.01,2,    0.00,2,    2.18,2,   0.641,2,   0.293,2,  2188.3,2,  2293.8,2,  1020.0,2,  -999.0,9, -999.00,     4.9038,   4.8501,     -999.0,9
318M19881207,      SAVE4,     226,          2,         12,         12,2,19890110,       1709,   -30.0217,     9.4967,       4902,   773.8,  34.3531,2,  34.3540,2,-999.0000,9,   198.1,2,   34.22,2,   31.83,2,    0.00,2,    2.18,2,   0.610,2,   0.282,2,  2191.3,2,  2299.6,2,  1004.3,2,  -999.0,9, -999.00,     4.1140,   4.0563,     -999.0,9
318M19881207,      SAVE4,     226,          2,         13,         13,2,19890110,       1709,   -30.0217,     9.4967,       4902,   876.4,  34.3888,2,  34.3900,2,-999.0000,9,   192.3,2,   43.36,2,   32.63,2,    0.00,2,    2.24,2,   0.421,2,   0.198,2,  2204.1,2,  2309.5,2,  1034.7,2,  -999.0,9, -999.00,     3.6522,   3.5892,     -999.0,9
318M19881207,      SAVE4,     226,          2,         14,         14,2,19890110,       1709,   -30.0217,     9.4967,       4902,   974.6,  34.4438,2,  34.4420,2,-999.0000,9,   182.6,2,   49.93,2,   33.29,2,    0.00,2,    2.29,2,   0.228,2,   0.112,2,  2216.5,2,  2315.9,2,  1085.9,2,  -999.0,9, -999.00,     3.4207,   3.3516,     -999.0,9
318M19881207,      SAVE4,     226,          2,         15,         15,2,19890110,       1709,   -30.0217,     9.4967,       4902,  1082.1,  34.5028,2,  34.5020,2,-999.0000,9,   178.9,2,   54.79,2,   33.29,2,    0.00,2,    2.28,2,-999.000,9,-999.000,9,  2223.6,2,  2320.1,2,  1113.0,2,  -999.0,9, -999.00,     3.2002,   3.1243,     -999.0,9
318M19881207,      SAVE4,     226,          2,         16,         16,2,19890110,       1709,   -30.0217,     9.4967,       4902,  1236.3,  34.5864,2,  34.5850,2,-999.0000,9,   179.1,2,   57.94,2,   32.00,2,    0.00,2,    2.23,2,   0.031,2,   0.021,2,  -999.0,9,  -999.0,9,  -999.0,9,  -999.0,9, -999.00,     3.0580,   2.9710,     -999.0,9
318M19881207,      SAVE4,     226,          2,         17,         17,2,19890110,       1709,   -30.0217,     9.4967,       4902,  1390.6,  34.6811,2,  34.6830,2,-999.0000,9,   186.8,2,   56.20,2,   30.20,2,    0.00,2,    2.11,2,-999.000,9,-999.000,9,  -999.0,9,  -999.0,9,  -999.0,9,  -999.0,9, -999.00,     2.9995,   2.9005,     -999.0,9
318M19881207,      SAVE4,     226,          2,         18,         18,2,19890110,       1709,   -30.0217,     9.4967,       4902,  1543.9,  34.7645,2,  34.7650,2,-999.0000,9,   198.6,2,   48.52,2,   27.92,2,    0.00,2,    1.92,2,   0.000,2,   0.003,2,  -999.0,9,  -999.0,9,  -999.0,9,  -999.0,9, -999.00,     3.1145,   3.0012,     -999.0,9
318M19881207,      SAVE4,     226,          2,         19,         19,2,19890110,       1709,   -30.0217,     9.4967,       4902,  1696.2,  34.8111,2,  34.8130,2,-999.0000,9,   208.3,2,   44.88,2,   26.34,2,    0.00,2,    1.81,2,-999.000,9,-999.000,9,  -999.0,9,  -999.0,9,  -999.0,9,  -999.0,9, -999.00,     3.1044,   2.9779,     -999.0,9
318M19881207,      SAVE4,     226,          2,         20,         20,2,19890110,       1709,   -30.0217,     9.4967,       4902,  1847.5,  34.8480,2,  34.8500,2,-999.0000,9,   217.3,2,   41.46,2,   25.21,2,    0.00,2,    1.71,2,-999.000,9,-999.000,9,  -999.0,9,  -999.0,9,  -999.0,9,  -999.0,9, -999.00,     3.0997,   2.9598,     -999.0,9
318M19881207,      SAVE4,     226,          2,         21,         21,2,19890110,       1709,   -30.0217,     9.4967,       4902,  2001.6,  34.8651,2,  34.8670,2,-999.0000,9,   222.8,2,   40.80,2,   24.43,2,    0.00,2,    1.66,2,-999.000,9,-999.000,9,  -999.0,9,  -999.0,9,  -999.0,9,  -999.0,9, -999.00,     3.0305,   2.8776,     -999.0,9
318M19881207,      SAVE4,     226,          2,         22,         22,2,19890110,       1709,   -30.0217,     9.4967,       4902,  2156.0,  34.8605,2,  34.8640,2,-999.0000,9,   225.2,2,   43.74,2,   24.39,2,    0.00,2,    1.66,2,   0.000,2,   0.003,2,  -999.0,9,  -999.0,9,  -999.0,9,  -999.0,9, -999.00,     2.8774,   2.7127,     -999.0,9
318M19881207,      SAVE4,     226,          2,         23,         23,2,19890110,       1709,   -30.0217,     9.4967,       4902,  2363.3,  34.8701,2,  34.8730,2,-999.0000,9,   229.6,2,   44.13,2,   23.86,2,    0.00,2,    1.63,2,-999.000,9,-999.000,9,  -999.0,9,  -999.0,9,  -999.0,9,  -999.0,9, -999.00,     2.7799,   2.5974,     -999.0,9
318M19881207,      SAVE4,     226,          2,         24,         24,2,19890110,       1709,   -30.0217,     9.4967,       4902,  2569.6,  34.8653,2,  34.8670,2,-999.0000,9,   230.5,2,   47.71,2,   24.04,2,    0.00,2,    1.64,2,-999.000,9,   0.001,2,  -999.0,9,  -999.0,9,  -999.0,9,  -999.0,9, -999.00,     2.6393,   2.4396,     -999.0,9
318M19881207,      SAVE4,     226,          2,         25,         25,2,19890110,       1709,   -30.0217,     9.4967,       4902,  2780.4,  34.8598,2,  34.8620,2,-999.0000,9,   231.0,2,   51.88,2,   24.17,2,    0.00,2,    1.65,2,-999.000,9,-999.000,9,  -999.0,9,  -999.0,9,  -999.0,9,  -999.0,9, -999.00,     2.5046,   2.2870,     -999.0,9
318M19881207,      SAVE4,     226,          2,         26,         26,2,19890110,       1709,   -30.0217,     9.4967,       4902,  2986.9,  34.8610,2,  34.8630,2,-999.0000,9,   232.0,2,   53.75,2,   24.17,2,    0.00,2,    1.65,2,-999.000,9,   0.000,2,  -999.0,9,  -999.0,9,  -999.0,9,  -999.0,9, -999.00,     2.4365,   2.1996,     -999.0,9
318M19881207,      SAVE4,     226,          2,         27,         27,2,19890110,       1709,   -30.0217,     9.4967,       4902,  3195.6,  34.8591,2,  34.8610,2,-999.0000,9,   232.1,2,   54.99,2,   24.21,2,    0.00,2,    1.65,2,-999.000,9,-999.000,9,  -999.0,9,  -999.0,9,  -999.0,9,  -999.0,9, -999.00,     2.3780,   2.1211,     -999.0,9
318M19881207,      SAVE4,     226,          2,         28,         28,2,19890110,       1709,   -30.0217,     9.4967,       4902,  3403.2,  34.8572,2,  34.8580,2,-999.0000,9,   231.5,2,   57.49,2,   24.38,2,    0.00,2,    1.68,2,   0.001,2,   0.003,2,  -999.0,9,  -999.0,9,  -999.0,9,  -999.0,9, -999.00,     2.3206,   2.0432,     -999.0,9
318M19881207,      SAVE4,     226,          2,         29,         29,2,19890110,       1709,   -30.0217,     9.4967,       4902,  3611.9,  34.8511,2,  34.8530,2,-999.0000,9,   230.9,2,   60.62,2,   24.86,2,    0.00,2,    1.69,2,-999.000,9,-999.000,9,  -999.0,9,  -999.0,9,  -999.0,9,  -999.0,9, -999.00,     2.2450,   1.9472,     -999.0,9
318M19881207,      SAVE4,     226,          2,         30,         30,2,19890110,       1709,   -30.0217,     9.4967,       4902,  3821.0,  34.8335,2,  34.8350,2,-999.0000,9,   227.8,2,   68.81,2,   25.86,2,    0.00,2,    1.77,2,   0.000,2,   0.002,2,  -999.0,9,  -999.0,9,  -999.0,9,  -999.0,9, -999.00,     2.0764,   1.7603,     -999.0,9
318M19881207,      SAVE4,     226,          2,         31,         31,2,19890110,       1709,   -30.0217,     9.4967,       4902,  4029.0,  34.8041,2,  34.8070,2,-999.0000,9,   223.6,2,   81.21,2,   27.43,2,    0.00,2,    1.86,2,-999.000,9,-999.000,9,  -999.0,9,  -999.0,9,  -999.0,9,  -999.0,9, -999.00,     1.8055,   1.4740,     -999.0,9
318M19881207,      SAVE4,     226,          2,         32,         32,2,19890110,       1709,   -30.0217,     9.4967,       4902,  4237.5,  34.7696,2,  34.7710,2,-999.0000,9,   219.8,2,   95.30,2,   29.22,2,    0.00,2,    1.99,2,   0.001,2,-999.000,9,  -999.0,9,  -999.0,9,  -999.0,9,  4243.8,2, -999.00,     1.4679,   1.1231,      1.463,2
318M19881207,      SAVE4,     226,          2,         33,         33,2,19890110,       1709,   -30.0217,     9.4967,       4902,  4447.3,  34.7485,2,  34.7490,2,-999.0000,9,   217.1,2,  104.11,2,   30.18,2,    0.00,2,    2.07,2,-999.000,9,-999.000,9,  -999.0,9,  -999.0,9,  -999.0,9,  -999.0,9, -999.00,     1.2608,   0.8988,     -999.0,9
318M19881207,      SAVE4,     226,          2,         34,         34,2,19890110,       1709,   -30.0217,     9.4967,       4902,  4656.7,  34.7393,2,  34.7400,2,-999.0000,9,   216.7,2,  107.43,2,   30.62,2,    0.00,2,    2.09,2,-999.000,9,-999.000,9,  -999.0,9,  -999.0,9,  -999.0,9,  -999.0,9, -999.00,     1.1786,   0.7953,     -999.0,9
318M19881207,      SAVE4,     226,          2,         35,         35,2,19890110,       1709,   -30.0217,     9.4967,       4902,  4865.7,  34.7352,2,  34.7360,2,-999.0000,9,   216.2,2,  108.84,2,   30.71,2,    0.00,2,    2.12,2,-999.000,9,-999.000,9,  -999.0,9,  -999.0,9,  -999.0,9,  4872.1,2, -999.00,     1.1629,   0.7558,      1.169,2
318M19881207,      SAVE4,     226,          2,         36,         36,2,19890110,       1709,   -30.0217,     9.4967,       4902,  5000.6,  34.7353,2,  34.7350,2,-999.0000,9,   215.6,2,  109.84,2,   30.84,2,    0.00,2,    2.13,2,-999.000,9,   0.010,2,  -999.0,9,  -999.0,9,  -999.0,9,  -999.0,9, -999.00,     1.1724,   0.7489,     -999.0,9