BOTTLE,20211025CCHSIORKP
EXPOCODE,SECT_ID,STNNBR,CASTNO,SAMPNO,BTLNBR,BTLNBR_FLAG_W,DATE,TIME,LATITUDE,LONGITUDE,DEPTH,CTDPRS,CTDSAL,CTDSAL_FLAG_W,SALNTY,SALNTY_FLAG_W,CTDOXY,CTDOXY_FLAG_W,OXYGEN,OXYGEN_FLAG_W,SILCAT,SILCAT_FLAG_W,NITRAT,NITRAT_FLAG_W,NITRIT,NITRIT_FLAG_W,PHSPHT,PHSPHT_FLAG_W,CFC-11,CFC-11_FLAG_W,CFC-12,CFC-12_FLAG_W,TCARBN,TCARBN_FLAG_W,ALKALI,ALKALI_FLAG_W,PCO2,PCO2_FLAG_W,REVPRS,REVPRS_FLAG_W,CTDRAW,CTDTMP,THETA,REVTMP,REVTMP_FLAG_W
,,,,,,,,,,,METERS,DBAR,PSS-78,,PSS-78,,UMOL/KG,,UMOL/KG,,UMOL/KG,,UMOL/KG,,UMOL/KG,,UMOL/KG,,PMOL/KG,,PMOL/KG,,UMOL/KG,,UMOL/KG,,UATM,,DBAR,,DBAR,ITS-68,DEG C,ITS-68,
318M19881207,      SAVE4,     181,          1,          1,          1,2,19881213,       1139,   -46.9967,   -55.1433,       5711,     3.1,  34.0722,2,-999.0000,9,-999.0000,9,  -999.0,9, -999.00,9, -999.00,9, -999.00,9, -999.00,9,-999.000,9,-999.000,9,  2040.8,2,  -999.0,9,   429.6,2,  -999.0,9, -999.00,    11.5059,  11.5055,     -999.0,9
318M19881207,      SAVE4,     181,          1,          2,          2,2,19881213,       1139,   -46.9967,   -55.1433,       5711,    34.5,  34.1419,2,  34.0695,2,-999.0000,9,   287.4,2,    1.65,2,    3.97,2,    0.10,2,    0.39,2,-999.000,9,-999.000,9,  -999.0,9,  -999.0,9,  -999.0,9,  -999.0,9, -999.00,    10.8900,  10.8858,     -999.0,9
318M19881207,      SAVE4,     181,          1,          3,          3,2,19881213,       1139,   -46.9967,   -55.1433,       5711,    55.4,  34.0707,2,  34.0721,2,-999.0000,9,   288.4,2,    3.16,2,   14.16,2,    0.17,2,    1.13,2,-999.000,9,-999.000,9,  2040.1,2,  2281.3,2,   430.2,2,  -999.0,9, -999.00,     7.7201,   7.7147,     -999.0,9
318M19881207,      SAVE4,     181,          1,          4,          4,2,19881213,       1139,   -46.9967,   -55.1433,       5711,   156.0,  34.0984,2,  34.1013,2,-999.0000,9,   299.9,2,   10.56,2,   24.10,2,    0.05,2,    1.61,2,-999.000,9,-999.000,9,  -999.0,9,  -999.0,9,  -999.0,9,  -999.0,9, -999.00,     4.0775,   4.0667,     -999.0,9
318M19881207,      SAVE4,     181,          1,          5,          5,2,19881213,       1139,   -46.9967,   -55.1433,       5711,   213.3,  34.1002,2,  34.1011,2,-999.0000,9,   299.6,2,   11.87,2,   24.61,2,    0.03,2,    1.66,2,-999.000,9,-999.000,9,  2116.6,2,  2277.4,2,   688.1,2,  -999.0,9, -999.00,     3.8239,   3.8095,     -999.0,9
318M19881207,      SAVE4,     181,          1,          6,          6,2,19881213,       1139,   -46.9967,   -55.1433,       5711,   342.1,  34.1630,2,  34.1595,2,-999.0000,9,   269.2,2,   21.15,2,   27.84,2,    0.02,2,    1.88,2,-999.000,9,-999.000,9,  2136.5,2,  2290.0,2,   728.2,2,  -999.0,9, -999.00,     3.5787,   3.5559,     -999.0,9
318M19881207,      SAVE4,     181,          1,          7,          7,2,19881213,       1139,   -46.9967,   -55.1433,       5711,   469.9,  34.1864,2,  34.1868,2,-999.0000,9,   256.7,2,   28.89,2,   29.68,2,    0.01,2,    2.01,2,-999.000,9,-999.000,9,  2136.1,2,  2286.1,2,   744.0,2,  -999.0,9, -999.00,     3.1000,   3.0700,     -999.0,9
318M19881207,      SAVE4,     181,          1,          8,          8,2,19881213,       1139,   -46.9967,   -55.1433,       5711,   572.8,  34.2512,2,  34.2543,2,-999.0000,9,   235.4,2,   36.63,2,   31.25,2,    0.01,2,    2.13,2,-999.000,9,-999.000,9,  -999.0,9,  -999.0,9,  -999.0,9,  -999.0,9, -999.00,     2.9806,   2.9440,     -999.0,9
318M19881207,      SAVE4,     181,          1,          9,          9,2,19881213,       1139,   -46.9967,   -55.1433,       5711,   674.6,  34.2762,2,  34.2770,2,-999.0000,9,   228.8,2,   43.60,2,   32.23,2,    0.00,2,    2.19,2,-999.000,9,-999.000,9,  2160.3,3,  2284.4,2,   885.6,2,  -999.0,9, -999.00,     2.6185,   2.5768,     -999.0,9
318M19881207,      SAVE4,     181,          1,         10,         10,2,19881213,       1139,   -46.9967,   -55.1433,       5711,   803.6,  34.3564,2,  34.3510,2,-999.0000,9,   209.2,2,   52.95,2,   33.53,2,    0.00,2,    2.28,2,-999.000,9,-999.000,9,  2170.2,3,  2286.5,2,   937.7,2,  -999.0,9, -999.00,     2.5578,   2.5075,     -999.0,9
318M19881207,      SAVE4,     181,          1,         11,         11,2,19881213,       1139,   -46.9967,   -55.1433,       5711,   931.7,  34.4202,2,  34.4199,2,-999.0000,9,   195.6,2,   58.83,2,   33.78,2,    0.00,2,    2.31,2,-999.000,9,-999.000,9,  2195.5,3,  2300.3,2,  1029.9,2,  -999.0,9, -999.00,     2.6006,   2.5409,     -999.0,9
318M19881207,      SAVE4,     181,          1,         12,         12,2,19881213,       1139,   -46.9967,   -55.1433,       5711,  1059.8,  34.4897,2,  34.4906,2,-999.0000,9,   188.6,2,   62.37,2,   33.36,2,    0.00,2,    2.29,2,-999.000,9,-999.000,9,  2218.3,2,  2314.2,2,  1112.5,2,  -999.0,9, -999.00,     2.6532,   2.5837,     -999.0,9
318M19881207,      SAVE4,     181,          1,         13,         13,2,19881213,       1139,   -46.9967,   -55.1433,       5711,  1189.0,  34.5576,2,  34.5579,2,-999.0000,9,   183.7,2,   62.88,2,   32.85,2,    0.00,2,    2.26,2,-999.000,9,-999.000,9,  2235.1,2,  2324.4,2,  1177.0,2,  -999.0,9, -999.00,     2.7019,   2.6221,     -999.0,9
318M19881207,      SAVE4,     181,          1,         14,         14,2,19881213,       1139,   -46.9967,   -55.1433,       5711,  1291.6,  34.6062,2,  34.6076,2,-999.0000,9,   184.9,2,   63.02,2,   32.15,2,    0.00,2,    2.20,2,-999.000,9,-999.000,9,  2237.6,2,  2330.2,2,  1155.5,2,  -999.0,9, -999.00,     2.7484,   2.6601,     -999.0,9
318M19881207,      SAVE4,     181,          1,         15,         15,2,19881213,       1139,   -46.9967,   -55.1433,       5711,  1395.3,  34.6253,2,  34.6261,2,-999.0000,9,   182.8,2,   67.50,2,   32.09,2,    0.00,2,    2.20,2,-999.000,9,-999.000,9,  2234.7,2,  2333.4,2,  1110.2,2,  -999.0,9, -999.00,     2.6647,   2.5690,     -999.0,9
318M19881207,      SAVE4,     181,          1,         16,         16,2,19881213,       1139,   -46.9967,   -55.1433,       5711,  1516.8,  34.6953,2,  34.6947,2,-999.0000,9,   191.1,2,   61.41,2,   30.32,2,    0.00,2,    2.07,2,-999.000,9,-999.000,9,  2228.9,2,  2333.3,2,  1066.0,2,  -999.0,9, -999.00,     2.8382,   2.7305,     -999.0,9
318M19881207,      SAVE4,     181,          1,         17,         17,2,19881213,       1139,   -46.9967,   -55.1433,       5711,  1653.1,  34.6999,2,  34.7020,2,-999.0000,9,   188.5,2,   67.58,2,   30.58,2,    0.00,2,    2.10,2,-999.000,9,-999.000,9,  2222.7,2,  2338.6,2,   988.7,2,  -999.0,9, -999.00,     2.6485,   2.5318,     -999.0,9
318M19881207,      SAVE4,     181,          1,         18,         18,2,19881213,       1139,   -46.9967,   -55.1433,       5711,  1808.0,  34.7538,2,  34.7590,2,-999.0000,9,   198.4,2,   64.14,2,   28.94,2,    0.00,2,    1.98,2,-999.000,9,-999.000,9,  2212.0,2,  2343.8,2,   891.9,2,  -999.0,9, -999.00,     2.7191,   2.5882,     -999.0,9
318M19881207,      SAVE4,     181,          1,         19,         19,2,19881213,       1139,   -46.9967,   -55.1433,       5711,  1910.5,  34.7680,2,  34.7686,2,-999.0000,9,   201.5,2,   65.03,2,   28.57,2,    0.00,2,    1.95,2,-999.000,9,-999.000,9,  2231.1,2,  2346.9,2,   996.0,2,  -999.0,9, -999.00,     2.6498,   2.5110,     -999.0,9
318M19881207,      SAVE4,     181,          1,         20,         20,2,19881213,       1139,   -46.9967,   -55.1433,       5711,  2065.9,  34.8019,2,  34.8025,2,-999.0000,9,   210.4,2,   60.65,2,   27.17,2,    0.00,2,    1.85,2,-999.000,9,-999.000,9,  2220.5,2,  2342.1,2,   954.0,2,  -999.0,9, -999.00,     2.6666,   2.5136,     -999.0,9
318M19881207,      SAVE4,     181,          1,         21,         21,2,19881213,       1139,   -46.9967,   -55.1433,       5711,  2272.2,  34.8047,2,  34.8017,2,-999.0000,9,   213.5,2,   65.49,2,   27.11,2,    0.00,2,    1.84,2,-999.000,9,-999.000,9,  2237.5,2,  2350.8,2,  1017.3,2,  -999.0,9, -999.00,     2.4570,   2.2887,     -999.0,9
318M19881207,      SAVE4,     181,          1,         22,         22,2,19881213,       1139,   -46.9967,   -55.1433,       5711,  2480.3,  34.7927,2,  34.7926,2,-999.0000,9,   210.4,2,   72.00,2,   27.77,2,    0.00,2,    1.89,2,-999.000,9,-999.000,9,  2244.7,2,  2356.0,2,  1037.0,2,  -999.0,9, -999.00,     2.2287,   2.0455,     -999.0,9
318M19881207,      SAVE4,     181,          1,         23,         23,2,19881213,       1139,   -46.9967,   -55.1433,       5711,  2686.8,  34.7871,2,  34.7832,2,-999.0000,9,   210.5,2,   78.33,2,   28.39,2,    0.00,2,    1.93,2,-999.000,9,-999.000,9,  2244.3,2,  2351.5,2,  1064.6,2,  -999.0,9, -999.00,     2.0188,   1.8203,     -999.0,9
318M19881207,      SAVE4,     181,          1,         24,         24,2,19881213,       1139,   -46.9967,   -55.1433,       5711,  2894.6,  34.7539,2,  34.7553,2,-999.0000,9,   205.6,2,   91.03,2,   29.80,2,    0.00,2,    2.04,2,-999.000,9,-999.000,9,  2250.7,2,  2364.6,2,  1027.0,2,  -999.0,9, -999.00,     1.6961,   1.4847,     -999.0,9
318M19881207,      SAVE4,     181,          1,         25,         25,2,19881213,       1139,   -46.9967,   -55.1433,       5711,  3101.8,  34.7289,2,  34.7287,2,-999.0000,9,   201.9,2,  104.41,2,   31.34,2,    0.00,2,    2.16,2,   0.050,2,   0.008,2,  2257.2,2,  2363.4,2,  1081.6,2,  -999.0,9, -999.00,     1.4024,   1.1778,     -999.0,9
318M19881207,      SAVE4,     181,          1,         26,         26,2,19881213,       1139,   -46.9967,   -55.1433,       5711,  3360.9,  34.7174,2,  34.7188,2,-999.0000,9,   204.7,2,  110.53,2,   31.69,2,    0.00,2,    2.18,2,   0.064,2,   0.046,2,  2251.6,2,  2354.8,2,  1098.8,2,  -999.0,9, -999.00,     1.1844,   0.9399,     -999.0,9
318M19881207,      SAVE4,     181,          1,         27,         27,2,19881213,       1139,   -46.9967,   -55.1433,       5711,  3620.0,  34.7072,2,  34.7084,2,-999.0000,9,   208.9,2,  116.28,2,   32.03,2,    0.00,2,    2.20,2,   0.074,2,   0.038,2,  2233.6,3,  2335.4,3,  1097.3,2,  -999.0,9, -999.00,     0.9687,   0.7039,     -999.0,9
318M19881207,      SAVE4,     181,          1,         28,         28,2,19881213,       1139,   -46.9967,   -55.1433,       5711,  3880.4,  34.6964,2,  34.6969,2,-999.0000,9,   213.0,2,  118.84,2,   32.06,2,    0.00,2,    2.24,2,   0.086,2,   0.041,2,  2255.6,2,  2359.2,2,  1099.6,2,  -999.0,9, -999.00,     0.7589,   0.4733,     -999.0,9
318M19881207,      SAVE4,     181,          1,         29,         29,2,19881213,       1139,   -46.9967,   -55.1433,       5711,  4140.6,  34.6863,2,  34.6870,2,-999.0000,9,   216.6,2,  120.44,2,   32.36,2,    0.00,2,    2.24,2,   0.094,2,   0.054,2,  2253.9,2,  2366.1,2,  1041.7,2,  -999.0,9, -999.00,     0.5764,   0.2690,     -999.0,9
318M19881207,      SAVE4,     181,          1,         30,         30,2,19881213,       1139,   -46.9967,   -55.1433,       5711,  4402.0,  34.6780,2,  34.6779,2,-999.0000,9,   219.9,2,  123.56,2,   32.53,2,    0.00,2,    2.28,2,   0.082,2,   0.071,2,  2256.0,2,  2359.9,2,  1098.2,2,  -999.0,9, -999.00,     0.4121,   0.0819,     -999.0,9
318M19881207,      SAVE4,     181,          1,         31,         31,2,19881213,       1139,   -46.9967,   -55.1433,       5711,  4663.2,  34.6736,2,  34.6743,2,-999.0000,9,   221.9,2,  125.35,2,   32.69,2,    0.00,2,    2.28,2,   0.077,2,   0.061,2,  2258.9,2,  2371.6,3,  1042.2,2,  -999.0,9, -999.00,     0.3356,  -0.0207,     -999.0,9
318M19881207,      SAVE4,     181,          1,         32,         32,2,19881213,       1139,   -46.9967,   -55.1433,       5711,  4925.4,  34.6704,2,  34.6701,2,-999.0000,9,   223.8,2,  126.39,2,   32.68,2,    0.00,2,    2.30,2,   0.073,2,   0.030,2,  2256.5,2,  2361.3,2,  1092.5,2,  -999.0,9, -999.00,     0.2840,  -0.1001,     -999.0,9
318M19881207,      SAVE4,     181,          1,         33,         33,2,19881213,       1139,   -46.9967,   -55.1433,       5711,  5187.0,  34.6685,2,  34.6683,2,-999.0000,9,   224.6,2,  128.75,2,   32.71,2,    0.00,2,    2.30,2,   0.071,2,   0.048,2,  2255.8,2,  2359.3,2,  1100.6,2,  -999.0,9, -999.00,     0.2708,  -0.1430,     -999.0,9
318M19881207,      SAVE4,     181,          1,         34,         34,2,19881213,       1139,   -46.9967,   -55.1433,       5711,  5448.9,  34.6669,2,  34.6671,2,-999.0000,9,   224.8,2,  129.79,2,   32.78,2,    0.00,2,    2.31,2,   0.082,2,   0.063,2,  2254.1,2,  2357.6,2,  1099.7,2,  -999.0,9, -999.00,     0.2693,  -0.1756,     -999.0,9
318M19881207,      SAVE4,     181,          1,         35,         35,2,19881213,       1139,   -46.9967,   -55.1433,       5711,  5710.9,  34.6657,2,  34.6658,2,-999.0000,9,   225.6,2,  128.66,2,   32.80,2,    0.00,2,    2.30,2,   0.097,2,   0.055,2,  2258.2,2,  2369.2,2,  1052.6,2,  5633.2,2, -999.00,     0.2828,  -0.1947,      0.285,2
318M19881207,      SAVE4,     181,          1,         36,         36,2,19881213,       1139,   -46.9967,   -55.1433,       5711,  5840.2,  34.6653,2,  34.6665,2,-999.0000,9,   225.3,2,  128.57,2,   32.69,2,    0.00,2,    2.31,2,   0.100,2,   0.055,2,  2258.3,2,  2362.5,2,  1097.6,2,  -999.0,9, -999.00,     0.2952,  -0.1989,     -999.0,9