BOTTLE,20211025CCHSIORKP
EXPOCODE,SECT_ID,STNNBR,CASTNO,SAMPNO,BTLNBR,BTLNBR_FLAG_W,DATE,TIME,LATITUDE,LONGITUDE,DEPTH,CTDPRS,CTDSAL,CTDSAL_FLAG_W,SALNTY,SALNTY_FLAG_W,CTDOXY,CTDOXY_FLAG_W,OXYGEN,OXYGEN_FLAG_W,SILCAT,SILCAT_FLAG_W,NITRAT,NITRAT_FLAG_W,NITRIT,NITRIT_FLAG_W,PHSPHT,PHSPHT_FLAG_W,CFC-11,CFC-11_FLAG_W,CFC-12,CFC-12_FLAG_W,TCARBN,TCARBN_FLAG_W,ALKALI,ALKALI_FLAG_W,PCO2,PCO2_FLAG_W,REVPRS,REVPRS_FLAG_W,CTDRAW,CTDTMP,THETA,REVTMP,REVTMP_FLAG_W
,,,,,,,,,,,METERS,DBAR,PSS-78,,PSS-78,,UMOL/KG,,UMOL/KG,,UMOL/KG,,UMOL/KG,,UMOL/KG,,UMOL/KG,,PMOL/KG,,PMOL/KG,,UMOL/KG,,UMOL/KG,,UATM,,DBAR,,DBAR,ITS-68,DEG C,ITS-68,
318M19881207,      SAVE4,     212,          2,          1,          1,2,19890103,       0720,   -33.0550,    -6.3433,       4179,     1.4,  35.7759,2,  35.7780,2,-999.0000,9,   230.4,2,    1.66,2,    0.10,2,    0.00,2,    0.16,2,   2.007,2,   1.015,2,  2055.0,2,  2364.7,2,   341.7,2,    15.3,2, -999.00,    20.6925,  20.6922,     20.675,2
318M19881207,      SAVE4,     212,          2,          2,          2,2,19890103,       0720,   -33.0550,    -6.3433,       4179,    46.8,  35.7476,2,  35.7470,2,-999.0000,9,   245.1,2,    1.46,2,    0.10,2,    0.00,2,    0.17,2,-999.000,9,-999.000,9,  2047.1,2,  2354.3,2,   342.5,2,  -999.0,9, -999.00,    18.4660,  18.4578,     -999.0,9
318M19881207,      SAVE4,     212,          2,          3,          3,2,19890103,       0720,   -33.0550,    -6.3433,       4179,    88.0,  35.5714,2,  35.5710,2,-999.0000,9,   242.0,2,    1.66,2,    0.10,2,    0.00,2,    0.21,2,   2.301,2,   1.133,2,  2054.1,2,  2345.2,2,   365.3,2,  -999.0,9, -999.00,    16.5206,  16.5063,     -999.0,9
318M19881207,      SAVE4,     212,          2,          4,          4,2,19890103,       0720,   -33.0550,    -6.3433,       4179,   149.0,  35.3794,2,  35.3690,2,-999.0000,9,   228.0,2,    2.05,2,    3.32,2,    0.01,2,    0.41,2,   2.342,2,   1.162,2,  2072.4,2,  2334.9,2,   415.6,2,  -999.0,9, -999.00,    15.0921,  15.0694,     -999.0,9
318M19881207,      SAVE4,     212,          2,          5,          5,2,19890103,       0720,   -33.0550,    -6.3433,       4179,   210.1,  35.2765,2,  35.2760,2,-999.0000,9,   223.6,2,    2.64,2,    5.47,2,    0.00,2,    0.52,2,   2.313,2,   1.146,2,  2080.6,2,  2327.5,2,   446.8,2,  -999.0,9, -999.00,    14.0705,  14.0399,     -999.0,9
318M19881207,      SAVE4,     212,          2,          6,          6,2,19890103,       0720,   -33.0550,    -6.3433,       4179,   260.7,  35.2704,2,  35.2670,2,-999.0000,9,   234.9,2,    2.25,2,    5.37,2,    0.00,2,    0.51,2,   2.484,2,   1.221,2,  2078.1,2,  2326.0,2,   443.7,2,  -999.0,9, -999.00,    13.5687,  13.5316,     -999.0,9
318M19881207,      SAVE4,     212,          2,          7,          7,2,19890103,       0720,   -33.0550,    -6.3433,       4179,   363.2,  35.0802,2,  35.0790,2,-999.0000,9,   218.4,2,    4.10,2,   10.75,2,    0.00,2,    0.82,2,-999.000,9,-999.000,9,  2102.6,2,  2318.4,2,   522.7,2,  -999.0,9, -999.00,    12.1523,  12.1042,     -999.0,9
318M19881207,      SAVE4,     212,          2,          8,          8,2,19890103,       0720,   -33.0550,    -6.3433,       4179,   477.9,  34.8293,2,  34.8240,2,-999.0000,9,   210.5,2,    7.04,2,   16.22,2,    0.00,2,    1.16,2,   1.707,2,   0.825,2,  2117.5,2,  2301.6,2,   616.4,2,  -999.0,9, -999.00,    10.2323,  10.1754,     -999.0,9
318M19881207,      SAVE4,     212,          2,          9,          9,2,19890103,       0720,   -33.0550,    -6.3433,       4179,   567.6,  34.6245,2,  34.6240,2,-999.0000,9,   205.7,2,   11.14,2,   21.21,2,    0.00,2,    1.50,2,   1.354,2,   0.659,2,  2136.5,2,  2293.6,2,   721.6,2,  -999.0,9, -999.00,     8.4274,   8.3671,     -999.0,9
318M19881207,      SAVE4,     212,          2,         10,         10,2,19890103,       0720,   -33.0550,    -6.3433,       4179,   738.9,  34.3422,2,  34.3380,2,-999.0000,9,   226.1,2,   18.77,2,   27.08,2,    0.00,2,    1.86,2,   1.313,2,   0.615,2,  2157.7,2,  2291.5,2,   835.4,2,  -999.0,9, -999.00,     5.5863,   5.5230,     -999.0,9
318M19881207,      SAVE4,     212,          2,         11,         11,2,19890103,       0720,   -33.0550,    -6.3433,       4179,   823.5,  34.3119,2,  34.3110,2,-999.0000,9,   226.1,2,   21.80,2,   28.35,2,    0.00,2,    1.94,2,   1.092,2,   0.519,2,  2160.5,2,  2287.2,2,   874.2,2,  -999.0,9, -999.00,     4.7669,   4.7010,     -999.0,9
318M19881207,      SAVE4,     212,          2,         12,         12,2,19890103,       0720,   -33.0550,    -6.3433,       4179,   924.3,  34.2881,2,  34.2860,2,-999.0000,9,   226.1,2,   27.96,2,   29.82,2,    0.00,2,    2.06,2,   0.858,2,   0.405,2,  2172.0,2,  2291.5,2,   921.6,2,  -999.0,9, -999.00,     4.0144,   3.9452,     -999.0,9
318M19881207,      SAVE4,     212,          2,         13,         13,2,19890103,       0720,   -33.0550,    -6.3433,       4179,  1027.9,  34.3184,2,  34.3200,2,-999.0000,9,   216.5,2,   34.71,2,   30.99,2,    0.00,2,    2.15,2,   0.621,2,   0.290,2,  2189.1,2,  2303.1,2,   966.9,2,  -999.0,9, -999.00,     3.6857,   3.6105,     -999.0,9
318M19881207,      SAVE4,     212,          2,         14,         14,2,19890103,       0720,   -33.0550,    -6.3433,       4179,  1212.0,  34.3914,2,  34.3920,2,-999.0000,9,   201.3,2,   46.63,2,   32.46,2,    0.00,2,    2.25,2,   0.286,2,   0.149,2,  2210.0,2,  2315.1,2,  1041.0,2,  -999.0,9, -999.00,     3.1371,   3.0518,     -999.0,9
318M19881207,      SAVE4,     212,          2,         15,         15,2,19890103,       0720,   -33.0550,    -6.3433,       4179,  1249.8,  34.4152,2,  34.4150,2,-999.0000,9,   198.2,2,   49.27,2,   32.55,2,    0.00,2,    2.25,2,   0.231,2,   0.122,2,  2215.9,2,  2320.4,2,  1049.7,2,  -999.0,9, -999.00,     3.0622,   2.9745,     -999.0,9
318M19881207,      SAVE4,     212,          2,         16,         16,2,19890103,       0720,   -33.0550,    -6.3433,       4179,  1318.5,  34.4592,2,  34.4590,2,-999.0000,9,   194.7,2,   52.11,2,   32.55,2,    0.00,2,    2.26,2,   0.156,2,   0.084,2,  2223.7,2,  2326.9,2,  1065.1,2,  -999.0,9, -999.00,     2.9532,   2.8610,     -999.0,9
318M19881207,      SAVE4,     212,          2,         17,         17,2,19890103,       0720,   -33.0550,    -6.3433,       4179,  1412.7,  34.5251,2,  34.5240,2,-999.0000,9,   190.4,2,   56.31,2,   32.26,2,    0.00,2,    2.23,2,   0.084,2,   0.048,2,  2226.4,2,  2328.6,2,  1075.4,2,  -999.0,9, -999.00,     2.8753,   2.7762,     -999.0,9
318M19881207,      SAVE4,     212,          2,         18,         18,2,19890103,       0720,   -33.0550,    -6.3433,       4179,  1514.0,  34.5745,2,  34.5740,2,-999.0000,9,   190.8,2,   57.97,2,   31.87,2,    0.00,2,    2.20,2,   0.054,2,   0.025,2,  2219.7,2,  2324.8,2,  1052.8,2,  -999.0,9, -999.00,     2.8333,   2.7263,     -999.0,9
318M19881207,      SAVE4,     212,          2,         19,         19,2,19890103,       0720,   -33.0550,    -6.3433,       4179,  1620.7,  34.6155,2,  34.6160,2,-999.0000,9,   192.1,2,   58.94,2,   31.18,2,    0.00,2,    2.15,2,-999.000,9,-999.000,9,  2224.2,2,  2331.8,2,  1039.2,2,  -999.0,9, -999.00,     2.7984,   2.6827,     -999.0,9
318M19881207,      SAVE4,     212,          2,         20,         20,2,19890103,       0720,   -33.0550,    -6.3433,       4179,  1727.1,  34.6634,2,  34.6630,2,-999.0000,9,   196.0,2,   59.53,2,   30.20,2,    0.00,2,    2.07,2,   0.022,2,   0.014,2,  2222.0,2,  2333.8,2,  1011.5,2,  -999.0,9, -999.00,     2.7644,   2.6401,     -999.0,9
318M19881207,      SAVE4,     212,          2,         21,         21,2,19890103,       0720,   -33.0550,    -6.3433,       4179,  1835.9,  34.7175,2,  34.7180,2,-999.0000,9,   202.9,2,   58.45,2,   28.74,2,    0.00,2,    1.98,2,-999.000,9,-999.000,9,  2218.3,2,  2336.5,2,   970.3,2,  -999.0,9, -999.00,     2.7144,   2.5813,     -999.0,9
318M19881207,      SAVE4,     212,          2,         22,         22,2,19890103,       0720,   -33.0550,    -6.3433,       4179,  1941.2,  34.7507,2,  34.7510,2,-999.0000,9,   208.1,2,   56.98,2,   27.76,2,    0.00,2,    1.91,2,   0.005,2,   0.007,2,  2212.8,2,  2334.9,2,   944.4,2,  -999.0,9, -999.00,     2.6745,   2.5326,     -999.0,9
318M19881207,      SAVE4,     212,          2,         23,         23,2,19890103,       0720,   -33.0550,    -6.3433,       4179,  2043.6,  34.7725,2,  34.7730,2,-999.0000,9,   212.1,2,   56.10,2,   27.17,2,    0.00,2,    1.87,2,   0.006,2,   0.004,2,  2212.6,2,  2338.3,2,   924.2,2,  -999.0,9, -999.00,     2.6445,   2.4940,     -999.0,9
318M19881207,      SAVE4,     212,          2,         24,         24,2,19890103,       0720,   -33.0550,    -6.3433,       4179,  2147.0,  34.7919,2,  34.7930,2,-999.0000,9,   217.3,2,   55.81,2,   26.58,2,    0.00,2,    1.82,2,-999.000,9,-999.000,9,  2206.7,2,  2335.5,2,   903.6,2,  -999.0,9, -999.00,     2.6085,   2.4492,     -999.0,9
318M19881207,      SAVE4,     212,          2,         25,         25,2,19890103,       0720,   -33.0550,    -6.3433,       4179,  2251.8,  34.8082,2,  34.8070,2,-999.0000,9,   221.2,2,   55.02,2,   26.09,2,    0.00,2,    1.79,2,   0.001,2,   0.007,2,  2207.3,2,  2339.7,2,   885.0,2,  -999.0,9, -999.00,     2.5776,   2.4091,     -999.0,9
318M19881207,      SAVE4,     212,          2,         26,         26,2,19890103,       0720,   -33.0550,    -6.3433,       4179,  2355.3,  34.8188,2,  34.8200,2,-999.0000,9,   225.5,2,   54.53,2,   25.51,2,    0.00,2,    1.74,2,-999.000,9,-999.000,9,  2202.8,2,  2337.5,2,   870.6,2,  -999.0,9, -999.00,     2.5516,   2.3740,     -999.0,9
318M19881207,      SAVE4,     212,          2,         27,         27,2,19890103,       0720,   -33.0550,    -6.3433,       4179,  2457.6,  34.8299,2,  34.8310,2,-999.0000,9,   227.7,2,   53.07,2,   25.02,2,    0.00,2,    1.71,2,-999.000,9,-999.000,9,  2195.3,2,  2333.3,2,   849.3,2,  -999.0,9, -999.00,     2.5226,   2.3359,     -999.0,9
318M19881207,      SAVE4,     212,          2,         28,         28,2,19890103,       0720,   -33.0550,    -6.3433,       4179,  2662.8,  34.8445,2,  34.8450,2,-999.0000,9,   232.0,2,   51.99,2,   24.53,2,    0.00,2,    1.67,2,   0.004,2,   0.002,2,  2192.7,2,  2333.7,2,   833.5,2,  -999.0,9, -999.00,     2.4736,   2.2682,     -999.0,9
318M19881207,      SAVE4,     212,          2,         29,         29,2,19890103,       0720,   -33.0550,    -6.3433,       4179,  2870.8,  34.8555,2,  34.8550,2,-999.0000,9,   236.4,2,   51.99,2,   23.94,2,    0.00,2,    1.63,2,-999.000,9,-999.000,9,  2194.9,2,  2339.5,2,   817.6,2,  -999.0,9, -999.00,     2.4317,   2.2066,     -999.0,9
318M19881207,      SAVE4,     212,          2,         30,         30,2,19890103,       0720,   -33.0550,    -6.3433,       4179,  3078.5,  34.8617,2,  34.8610,2,-999.0000,9,   237.7,2,   52.58,2,   23.75,2,    0.00,2,    1.62,2,-999.000,9,-999.000,9,  2197.7,2,  2344.7,2,   808.3,2,  -999.0,9, -999.00,     2.3957,   2.1504,     -999.0,9
318M19881207,      SAVE4,     212,          2,         31,         31,2,19890103,       0720,   -33.0550,    -6.3433,       4179,  3246.2,  34.8642,2,  34.8640,2,-999.0000,9,   238.5,2,   52.09,2,   23.65,2,    0.00,2,    1.61,2,-999.000,9,   0.003,2,  2194.5,2,  2341.9,2,   804.4,2,  -999.0,9, -999.00,     2.3837,   2.1214,     -999.0,9
318M19881207,      SAVE4,     212,          2,         32,         32,2,19890103,       0720,   -33.0550,    -6.3433,       4179,  3495.3,  34.8668,2,  34.8670,2,-999.0000,9,   238.1,2,   52.68,2,   23.65,2,    0.00,2,    1.61,2,-999.000,9,-999.000,9,  2198.3,2,  2347.4,2,   799.1,2,  3504.1,2, -999.00,     2.3577,   2.0696,      2.356,2
318M19881207,      SAVE4,     212,          2,         33,         33,2,19890103,       0720,   -33.0550,    -6.3433,       4179,  3702.3,  34.8655,2,  34.8640,2,-999.0000,9,  -999.0,9,   56.10,2,   23.94,2,    0.00,2,    1.63,2,-999.000,9,   0.003,2,  2202.4,2,  2351.2,2,   803.4,2,  -999.0,9, -999.00,     2.3028,   1.9935,     -999.0,9
318M19881207,      SAVE4,     212,          2,         34,         34,2,19890103,       0720,   -33.0550,    -6.3433,       4179,  3912.6,  34.8563,2,  34.8560,2,-999.0000,9,   234.2,2,   60.49,2,   24.53,2,    0.00,2,    1.67,2,-999.000,9,-999.000,9,  2203.7,2,  2350.3,2,   814.8,2,  -999.0,9, -999.00,     2.2119,   1.8818,     -999.0,9
318M19881207,      SAVE4,     212,          2,         35,         35,2,19890103,       0720,   -33.0550,    -6.3433,       4179,  4121.1,  34.8432,2,  34.8420,2,-999.0000,9,   232.0,2,   66.55,2,   25.02,2,    0.00,2,    1.72,2,-999.000,9,-999.000,9,  2216.9,2,  2361.4,2,   833.0,2,  4129.9,2, -999.00,     2.1089,   1.7582,      2.119,2
318M19881207,      SAVE4,     212,          2,         36,         36,2,19890103,       0720,   -33.0550,    -6.3433,       4179,  4252.2,  34.8402,2,  34.8400,2,-999.0000,9,   231.1,2,   66.46,2,   25.31,2,    0.00,2,    1.73,2,   0.001,2,-999.000,9,  2220.6,2,  2365.0,2,   835.2,2,  -999.0,9, -999.00,     2.1029,   1.7373,     -999.0,9