BOTTLE,20211025CCHSIORKP
EXPOCODE,SECT_ID,STNNBR,CASTNO,SAMPNO,BTLNBR,BTLNBR_FLAG_W,DATE,TIME,LATITUDE,LONGITUDE,DEPTH,CTDPRS,CTDSAL,CTDSAL_FLAG_W,SALNTY,SALNTY_FLAG_W,CTDOXY,CTDOXY_FLAG_W,OXYGEN,OXYGEN_FLAG_W,SILCAT,SILCAT_FLAG_W,NITRAT,NITRAT_FLAG_W,NITRIT,NITRIT_FLAG_W,PHSPHT,PHSPHT_FLAG_W,CFC-11,CFC-11_FLAG_W,CFC-12,CFC-12_FLAG_W,TCARBN,TCARBN_FLAG_W,ALKALI,ALKALI_FLAG_W,PCO2,PCO2_FLAG_W,REVPRS,REVPRS_FLAG_W,CTDRAW,CTDTMP,THETA,REVTMP,REVTMP_FLAG_W
,,,,,,,,,,,METERS,DBAR,PSS-78,,PSS-78,,UMOL/KG,,UMOL/KG,,UMOL/KG,,UMOL/KG,,UMOL/KG,,UMOL/KG,,PMOL/KG,,PMOL/KG,,UMOL/KG,,UMOL/KG,,UATM,,DBAR,,DBAR,ITS-68,DEG C,ITS-68,
318M19881207,      SAVE4,     207,          1,         13,         13,2,19881231,       0103,   -38.8217,   -11.4233,       2972,     4.2,  34.7732,2,  34.7740,2,-999.0000,9,   259.2,2,    0.81,2,    0.43,2,    0.04,2,    0.28,2,   2.601,2,   1.298,2,  2020.8,2,  2295.5,2,   371.5,2,  -999.0,9, -999.00,    15.2481,  15.2475,     -999.0,9
318M19881207,      SAVE4,     207,          1,         14,         14,2,19881231,       0103,   -38.8217,   -11.4233,       2972,    39.1,  34.8819,2,  34.8650,2,-999.0000,9,   261.1,2,    1.45,2,    2.69,2,    0.26,2,    0.43,2,-999.000,9,-999.000,9,  2048.1,2,  2304.2,2,   413.0,2,  -999.0,9, -999.00,    13.2272,  13.2218,     -999.0,9
318M19881207,      SAVE4,     207,          1,         15,         15,2,19881231,       0103,   -38.8217,   -11.4233,       2972,    69.8,  35.0103,2,  35.0100,2,-999.0000,9,   255.0,2,    2.10,2,    5.78,2,    0.06,2,    0.57,2,-999.000,9,-999.000,9,  -999.0,9,  -999.0,9,  -999.0,9,  -999.0,9, -999.00,    12.0763,  12.0672,     -999.0,9
318M19881207,      SAVE4,     207,          1,         16,         16,2,19881231,       0103,   -38.8217,   -11.4233,       2972,   109.6,  34.9969,2,  35.0000,2,-999.0000,9,   252.8,2,    2.31,2,    6.53,2,    0.03,2,    0.61,2,-999.000,9,-999.000,9,  -999.0,9,  -999.0,9,  -999.0,9,  -999.0,9, -999.00,    11.8247,  11.8106,     -999.0,9
318M19881207,      SAVE4,     207,          1,         17,         17,2,19881231,       0103,   -38.8217,   -11.4233,       2972,   216.0,  34.8724,2,  34.8760,2,-999.0000,9,   246.5,2,    3.60,2,   10.69,2,    0.02,2,    0.86,2,-999.000,9,-999.000,9,  -999.0,9,  -999.0,9,  -999.0,9,  -999.0,9, -999.00,    10.6429,  10.6168,     -999.0,9
318M19881207,      SAVE4,     207,          1,         18,         18,2,19881231,       0103,   -38.8217,   -11.4233,       2972,   314.8,  34.6561,2,  34.6640,2,-999.0000,9,   234.3,2,    6.20,2,   16.72,2,    0.01,2,    1.21,2,   2.422,2,   1.181,2,  -999.0,9,  -999.0,9,  -999.0,9,  -999.0,9, -999.00,     8.9284,   8.8943,     -999.0,9
318M19881207,      SAVE4,     207,          1,         19,         19,2,19881231,       0103,   -38.8217,   -11.4233,       2972,   417.0,  34.4752,2,  34.4770,2,-999.0000,9,   231.3,2,    9.23,2,   21.49,2,    0.01,2,    1.50,2,   2.193,2,   1.058,2,  -999.0,9,  -999.0,9,  -999.0,9,  -999.0,9, -999.00,     7.3312,   7.2908,     -999.0,9
318M19881207,      SAVE4,     207,          1,         20,         20,2,19881231,       0103,   -38.8217,   -11.4233,       2972,   518.0,  34.3206,2,  34.3210,2,-999.0000,9,   244.3,2,   12.90,2,   24.86,2,    0.01,2,    1.74,2,   2.058,2,   0.940,2,  -999.0,9,  -999.0,9,  -999.0,9,  -999.0,9, -999.00,     5.7119,   5.6678,     -999.0,9
318M19881207,      SAVE4,     207,          1,         21,         21,2,19881231,       0103,   -38.8217,   -11.4233,       2972,   619.6,  34.2390,2,  34.2390,2,-999.0000,9,   248.6,2,   16.79,2,   26.93,2,    0.01,2,    1.88,2,   1.964,2,   0.885,2,  -999.0,9,  -999.0,9,  -999.0,9,  -999.0,9, -999.00,     4.5604,   4.5129,     -999.0,9
318M19881207,      SAVE4,     207,          1,         22,         22,2,19881231,       0103,   -38.8217,   -11.4233,       2972,   721.5,  34.2272,2,  34.2290,2,-999.0000,9,   246.9,2,   21.11,2,   28.21,2,    0.01,2,    1.96,2,   1.666,2,   0.759,2,  -999.0,9,  -999.0,9,  -999.0,9,  -999.0,9, -999.00,     4.0334,   3.9805,     -999.0,9
318M19881207,      SAVE4,     207,          1,         23,         23,2,19881231,       0103,   -38.8217,   -11.4233,       2972,   824.6,  34.2310,2,  34.2320,2,-999.0000,9,   242.2,2,   26.29,2,   29.29,2,    0.01,2,    2.05,2,   1.467,2,   0.639,2,  -999.0,9,  -999.0,9,  -999.0,9,  -999.0,9, -999.00,     3.6634,   3.6046,     -999.0,9
318M19881207,      SAVE4,     207,          1,         24,         24,2,19881231,       0103,   -38.8217,   -11.4233,       2972,   928.2,  34.2547,2,  34.2550,2,-999.0000,9,   234.6,2,   30.59,2,   30.22,2,    0.00,2,    2.10,2,-999.000,9,-999.000,9,  -999.0,9,  -999.0,9,  -999.0,9,  -999.0,9, -999.00,     3.4466,   3.3812,     -999.0,9
318M19881207,      SAVE4,     207,          1,         25,         25,2,19881231,       0103,   -38.8217,   -11.4233,       2972,  1026.9,  34.2936,2,  34.3020,2,-999.0000,9,   222.6,2,   38.35,2,   31.54,2,    0.00,2,    2.19,2,   0.822,2,   0.351,2,  -999.0,9,  -999.0,9,  -999.0,9,  -999.0,9, -999.00,     3.1700,   3.0990,     -999.0,9
318M19881207,      SAVE4,     207,          1,         26,         26,2,19881231,       0103,   -38.8217,   -11.4233,       2972,  1236.1,  34.4036,2,  34.3990,2,-999.0000,9,   199.6,2,   52.15,2,   33.00,2,    0.00,2,    2.28,2,-999.000,9,-999.000,9,  -999.0,9,  -999.0,9,  -999.0,9,  -999.0,9, -999.00,     2.8308,   2.7465,     -999.0,9
318M19881207,      SAVE4,     207,          1,         27,         27,2,19881231,       0103,   -38.8217,   -11.4233,       2972,  1443.4,  34.5466,2,  34.5470,2,-999.0000,9,   191.7,2,   59.67,2,   32.00,2,    0.00,2,    2.24,2,-999.000,9,-999.000,9,  -999.0,9,  -999.0,9,  -999.0,9,  -999.0,9, -999.00,     2.7485,   2.6482,     -999.0,9
318M19881207,      SAVE4,     207,          1,         28,         28,2,19881231,       0103,   -38.8217,   -11.4233,       2972,  1651.2,  34.6489,2,  34.6500,2,-999.0000,9,   191.5,2,   62.00,2,   30.86,2,    0.00,2,    2.14,2,   0.036,2,   0.025,2,  -999.0,9,  -999.0,9,  -999.0,9,  -999.0,9, -999.00,     2.7171,   2.5999,     -999.0,9
318M19881207,      SAVE4,     207,          1,         29,         29,2,19881231,       0103,   -38.8217,   -11.4233,       2972,  1854.3,  34.7056,2,  34.7060,2,-999.0000,9,   198.9,2,   59.81,2,   29.44,2,    0.00,2,    2.05,2,-999.000,9,-999.000,9,  -999.0,9,  -999.0,9,  -999.0,9,  -999.0,9, -999.00,     2.7029,   2.5684,     -999.0,9
318M19881207,      SAVE4,     207,          1,         30,         30,2,19881231,       0103,   -38.8217,   -11.4233,       2972,  2056.8,  34.7558,2,  34.7560,2,-999.0000,9,   207.1,2,   58.69,2,   27.92,2,    0.00,2,    1.95,2,-999.000,9,-999.000,9,  -999.0,9,  -999.0,9,  -999.0,9,  -999.0,9, -999.00,     2.6650,   2.5130,     -999.0,9
318M19881207,      SAVE4,     207,          1,         31,         31,2,19881231,       0103,   -38.8217,   -11.4233,       2972,  2262.6,  34.7865,2,  34.7870,2,-999.0000,9,   213.0,2,   58.65,2,   27.14,2,    0.00,2,    1.88,2,   0.006,2,   0.002,2,  -999.0,9,  -999.0,9,  -999.0,9,  -999.0,9, -999.00,     2.6015,   2.4318,     -999.0,9
318M19881207,      SAVE4,     207,          1,         32,         32,2,19881231,       0103,   -38.8217,   -11.4233,       2972,  2467.5,  34.8114,2,  34.8120,2,-999.0000,9,   218.5,2,   59.91,2,   26.36,2,    0.00,2,    1.84,2,-999.000,9,-999.000,9,  -999.0,9,  -999.0,9,  -999.0,9,  2464.8,2, -999.00,     2.5053,   2.3181,      2.499,2
318M19881207,      SAVE4,     207,          1,         33,         33,2,19881231,       0103,   -38.8217,   -11.4233,       2972,  2654.3,  34.8179,2,  34.8190,2,-999.0000,9,   222.6,2,   60.52,2,   26.02,2,    0.00,2,    1.81,2,-999.000,9,-999.000,9,  -999.0,9,  -999.0,9,  -999.0,9,  -999.0,9, -999.00,     2.4401,   2.2362,     -999.0,9
318M19881207,      SAVE4,     207,          1,         34,         34,2,19881231,       0103,   -38.8217,   -11.4233,       2972,  2856.9,  34.8228,2,  34.8230,2,-999.0000,9,   224.5,2,   60.48,2,   25.68,2,    0.00,2,    1.80,2,   0.004,2,   0.000,2,  -999.0,9,  -999.0,9,  -999.0,9,  -999.0,9, -999.00,     2.3621,   2.1400,     -999.0,9
318M19881207,      SAVE4,     207,          1,         35,         35,2,19881231,       0103,   -38.8217,   -11.4233,       2972,  3058.9,  34.8249,2,  34.8250,2,-999.0000,9,   225.6,2,   61.52,2,   25.63,2,    0.00,2,    1.78,2,-999.000,9,-999.000,9,  -999.0,9,  -999.0,9,  -999.0,9,  3081.3,2, -999.00,     2.3179,   2.0765,      2.321,2
318M19881207,      SAVE4,     207,          1,         36,         36,2,19881231,       0103,   -38.8217,   -11.4233,       2972,  3145.0,  34.8248,2,  34.8250,2,-999.0000,9,   226.3,2,   61.27,2,   25.49,2,    0.00,2,    1.80,2,   0.007,2,   0.000,2,  -999.0,9,  -999.0,9,  -999.0,9,  -999.0,9, -999.00,     2.3201,   2.0698,     -999.0,9
318M19881207,      SAVE4,     208,          1,         12,         12,2,19881231,       1447,   -37.5000,   -10.1467,       3293,     2.8,  35.2559,2,  35.2560,2,-999.0000,9,   245.0,2,    1.27,2,    0.10,2,    0.00,2,    0.21,2,   2.393,2,   1.173,2,  2036.9,2,  2329.0,2,   355.4,2,  -999.0,9, -999.00,    17.9394,  17.9389,     -999.0,9
318M19881207,      SAVE4,     208,          1,         13,         13,2,19881231,       1447,   -37.5000,   -10.1467,       3293,    38.2,  35.2102,2,  35.2130,2,-999.0000,9,   249.2,2,    1.56,2,    0.00,2,    0.00,2,    0.20,2,   2.364,2,   1.135,2,  2033.4,2,  2322.0,2,   359.0,2,  -999.0,9, -999.00,    16.9347,  16.9285,     -999.0,9
318M19881207,      SAVE4,     208,          1,         14,         14,2,19881231,       1447,   -37.5000,   -10.1467,       3293,   129.1,  35.1922,2,  35.1820,2,-999.0000,9,   244.3,2,    2.64,2,    5.08,2,    0.02,2,    0.51,2,-999.000,9,-999.000,9,  2071.7,2,  2318.2,2,   443.1,2,  -999.0,9, -999.00,    13.0626,  13.0448,     -999.0,9
318M19881207,      SAVE4,     208,          1,         15,         15,2,19881231,       1447,   -37.5000,   -10.1467,       3293,   231.3,  35.0940,2,  35.0980,2,-999.0000,9,   233.7,2,    3.71,2,    8.60,2,    0.01,2,    0.71,2,   2.393,2,   1.168,2,  2090.6,2,  2318.4,2,   489.3,2,  -999.0,9, -999.00,    12.1115,  12.0810,     -999.0,9
318M19881207,      SAVE4,     208,          1,         16,         16,2,19881231,       1447,   -37.5000,   -10.1467,       3293,   345.2,  34.8589,2,  34.8540,2,-999.0000,9,   228.6,2,    5.18,2,   13.49,2,    0.01,2,    1.03,2,   2.268,2,   1.082,2,  2105.1,2,  2301.5,2,   573.4,2,  -999.0,9, -999.00,    10.4381,  10.3967,     -999.0,9
318M19881207,      SAVE4,     208,          1,         17,         17,2,19881231,       1447,   -37.5000,   -10.1467,       3293,   417.1,  34.6462,2,  34.6440,2,-999.0000,9,   222.3,2,    8.02,2,   18.47,2,    0.00,2,    1.32,2,   2.076,2,   0.995,2,  2125.6,2,  2297.0,2,   661.1,2,  -999.0,9, -999.00,     8.7331,   8.6882,     -999.0,9
318M19881207,      SAVE4,     208,          1,         18,         18,2,19881231,       1447,   -37.5000,   -10.1467,       3293,   519.1,  34.4053,2,  34.4050,2,-999.0000,9,   233.3,2,   10.75,2,   22.97,2,    0.00,2,    1.60,2,   2.136,2,   1.010,2,  2133.9,2,  2283.7,2,   747.1,2,  -999.0,9, -999.00,     6.6301,   6.5823,     -999.0,9
318M19881207,      SAVE4,     208,          1,         19,         19,2,19881231,       1447,   -37.5000,   -10.1467,       3293,   623.3,  34.2897,2,  34.2880,2,-999.0000,9,   241.2,2,   14.67,2,   25.81,2,    0.00,2,    1.80,2,   2.000,2,   0.914,2,  2148.0,2,  2285.4,2,   810.6,2,  -999.0,9, -999.00,     5.2327,   5.1816,     -999.0,9
318M19881207,      SAVE4,     208,          1,         20,         20,2,19881231,       1447,   -37.5000,   -10.1467,       3293,   724.1,  34.2469,2,  34.2450,2,-999.0000,9,   244.0,2,   18.87,2,   27.38,2,    0.00,2,    1.90,2,   1.831,2,   0.831,2,  2157.3,2,  2291.0,2,   834.2,2,  -999.0,9, -999.00,     4.4500,   4.3945,     -999.0,9
318M19881207,      SAVE4,     208,          1,         21,         21,2,19881231,       1447,   -37.5000,   -10.1467,       3293,   825.9,  34.2359,2,  34.2340,2,-999.0000,9,   242.4,2,   23.37,2,   28.55,2,    0.00,2,    1.98,2,   1.539,2,   0.696,2,  2164.1,2,  2290.6,2,   876.3,2,  -999.0,9, -999.00,     3.9026,   3.8422,     -999.0,9
318M19881207,      SAVE4,     208,          1,         22,         22,2,19881231,       1447,   -37.5000,   -10.1467,       3293,   928.4,  34.2509,2,  34.2500,2,-999.0000,9,   235.1,2,   29.82,2,   29.72,2,    0.00,2,    2.07,2,   1.114,2,   0.498,2,  2171.5,2,  2290.8,2,   922.2,2,  -999.0,9, -999.00,     3.4986,   3.4329,     -999.0,9
318M19881207,      SAVE4,     208,          1,         23,         23,2,19881231,       1447,   -37.5000,   -10.1467,       3293,  1033.6,  34.3009,2,-999.0000,9,-999.0000,9,   219.8,2,   39.21,2,   31.48,2,    0.00,2,    2.17,2,   0.696,2,   0.315,2,  2192.9,2,  2304.2,2,   986.3,2,  -999.0,9, -999.00,     3.1004,   3.0295,     -999.0,9
318M19881207,      SAVE4,     208,          1,         24,         24,2,19881231,       1447,   -37.5000,   -10.1467,       3293,  1161.5,  34.3691,2,  34.3680,2,-999.0000,9,   205.1,2,   47.61,2,   32.16,2,    0.00,2,    2.23,2,   0.419,2,   0.185,2,  -999.0,9,  -999.0,9,  -999.0,9,  -999.0,9, -999.00,     2.9107,   2.8314,     -999.0,9
318M19881207,      SAVE4,     208,          1,         25,         25,2,19881231,       1447,   -37.5000,   -10.1467,       3293,  1334.6,  34.4718,2,  34.4710,2,-999.0000,9,   192.2,2,   56.11,2,   32.55,2,    0.00,2,    2.25,2,   0.179,2,   0.080,2,  2222.4,2,  2323.3,2,  1080.1,2,  -999.0,9, -999.00,     2.7884,   2.6965,     -999.0,9
318M19881207,      SAVE4,     208,          1,         26,         26,2,19881231,       1447,   -37.5000,   -10.1467,       3293,  1487.7,  34.5641,2,  34.5620,2,-999.0000,9,   186.3,2,   60.70,2,   32.06,2,    0.00,2,    2.22,2,   0.065,2,   0.024,2,  -999.0,9,  -999.0,9,  -999.0,9,  -999.0,9, -999.00,     2.7444,   2.6406,     -999.0,9
318M19881207,      SAVE4,     208,          1,         27,         27,2,19881231,       1447,   -37.5000,   -10.1467,       3293,  1639.7,  34.6322,2,  34.6310,2,-999.0000,9,   188.8,2,   61.29,2,   30.89,2,    0.00,2,    2.15,2,   0.041,2,   0.015,2,  2232.1,2,  2338.5,2,  1053.3,2,  -999.0,9, -999.00,     2.7543,   2.6376,     -999.0,9
318M19881207,      SAVE4,     208,          1,         28,         28,2,19881231,       1447,   -37.5000,   -10.1467,       3293,  1791.7,  34.6948,2,  34.6950,2,-999.0000,9,   195.2,2,   59.43,2,   29.52,2,    0.00,2,    2.04,2,   0.022,2,   0.009,2,  -999.0,9,  -999.0,9,  -999.0,9,  -999.0,9, -999.00,     2.7473,   2.6176,     -999.0,9
318M19881207,      SAVE4,     208,          1,         29,         29,2,19881231,       1447,   -37.5000,   -10.1467,       3293,  1943.4,  34.7359,2,  34.7360,2,-999.0000,9,   204.0,2,   59.13,2,   28.34,2,    0.00,2,    1.96,2,   0.019,2,   0.005,2,  2219.1,2,  2337.9,2,   967.9,2,  -999.0,9, -999.00,     2.6666,   2.5247,     -999.0,9
318M19881207,      SAVE4,     208,          1,         30,         30,2,19881231,       1447,   -37.5000,   -10.1467,       3293,  2150.2,  34.7718,2,  34.7720,2,-999.0000,9,   210.0,2,   59.52,2,   27.46,2,    0.00,2,    1.88,2,   0.006,2,   0.006,2,  -999.0,9,  -999.0,9,  -999.0,9,  -999.0,9, -999.00,     2.6031,   2.4437,     -999.0,9
318M19881207,      SAVE4,     208,          1,         31,         31,2,19881231,       1447,   -37.5000,   -10.1467,       3293,  2352.7,  34.8078,2,-999.0000,9,-999.0000,9,  -999.0,9, -999.00,9, -999.00,9, -999.00,9, -999.00,9,-999.000,9,-999.000,9,  2192.9,2,  -999.0,9,   846.2,2,  -999.0,9, -999.00,     2.6131,   2.4348,     -999.0,9
318M19881207,      SAVE4,     208,          1,         32,         32,2,19881231,       1447,   -37.5000,   -10.1467,       3293,  2557.3,  34.8237,2,  34.8240,2,-999.0000,9,   223.3,2,   57.17,2,   25.41,2,    0.00,2,    1.76,2,   0.005,2,   0.002,2,  -999.0,9,  -999.0,9,  -999.0,9,  2559.8,2, -999.00,     2.5049,   2.3091,      2.501,2
318M19881207,      SAVE4,     208,          1,         33,         33,2,19881231,       1447,   -37.5000,   -10.1467,       3293,  2754.0,  34.8371,2,  34.8360,2,-999.0000,9,   228.3,2,   57.95,2,   24.92,2,    0.00,2,    1.72,2,   0.007,2,   0.000,2,  2199.1,2,  2336.7,2,   854.5,2,  -999.0,9, -999.00,     2.4388,   2.2252,     -999.0,9
318M19881207,      SAVE4,     208,          1,         34,         34,2,19881231,       1447,   -37.5000,   -10.1467,       3293,  2959.4,  34.8350,2,  34.8350,2,-999.0000,9,   229.7,2,   59.32,2,   25.02,2,    0.00,2,    1.73,2,   0.007,2,   0.000,2,  -999.0,9,  -999.0,9,  -999.0,9,  -999.0,9, -999.00,     2.3206,   2.0891,     -999.0,9
318M19881207,      SAVE4,     208,          1,         35,         35,2,19881231,       1447,   -37.5000,   -10.1467,       3293,  3168.9,  34.8372,2,  34.8370,2,-999.0000,9,   232.1,2,   60.98,2,   24.92,2,    0.00,2,    1.71,2,   0.003,2,-999.000,9,  2206.1,2,  2348.2,2,   837.3,2,  3192.2,2, -999.00,     2.2203,   1.9699,      2.218,2
318M19881207,      SAVE4,     208,          1,         36,         36,2,19881231,       1447,   -37.5000,   -10.1467,       3293,  3307.6,  34.8338,2,  34.8340,2,-999.0000,9,   232.1,2,   63.82,2,   24.92,2,    0.00,2,    1.72,2,   0.006,2,   0.000,2,  2207.4,2,  2347.5,2,   847.7,2,  -999.0,9, -999.00,     2.1428,   1.8799,     -999.0,9