BOTTLE,20211025CCHSIORKP
EXPOCODE,SECT_ID,STNNBR,CASTNO,SAMPNO,BTLNBR,BTLNBR_FLAG_W,DATE,TIME,LATITUDE,LONGITUDE,DEPTH,CTDPRS,CTDSAL,CTDSAL_FLAG_W,SALNTY,SALNTY_FLAG_W,CTDOXY,CTDOXY_FLAG_W,OXYGEN,OXYGEN_FLAG_W,SILCAT,SILCAT_FLAG_W,NITRAT,NITRAT_FLAG_W,NITRIT,NITRIT_FLAG_W,PHSPHT,PHSPHT_FLAG_W,CFC-11,CFC-11_FLAG_W,CFC-12,CFC-12_FLAG_W,TCARBN,TCARBN_FLAG_W,ALKALI,ALKALI_FLAG_W,PCO2,PCO2_FLAG_W,REVPRS,REVPRS_FLAG_W,CTDRAW,CTDTMP,THETA,REVTMP,REVTMP_FLAG_W
,,,,,,,,,,,METERS,DBAR,PSS-78,,PSS-78,,UMOL/KG,,UMOL/KG,,UMOL/KG,,UMOL/KG,,UMOL/KG,,UMOL/KG,,PMOL/KG,,PMOL/KG,,UMOL/KG,,UMOL/KG,,UATM,,DBAR,,DBAR,ITS-68,DEG C,ITS-68,
318M19881207,      SAVE4,     180,          2,          1,          1,2,19881212,       1849,   -47.0167,   -55.9383,       5237,     9.0,  34.1315,2,  34.1250,2,-999.0000,9,   283.3,2,    1.42,2,    7.49,2,    0.14,2,    0.62,2,-999.000,9,-999.000,9,  2036.5,2,  2280.1,2,   424.3,2,  -999.0,9, -999.00,    11.2099,  11.2088,     -999.0,9
318M19881207,      SAVE4,     180,          2,          2,          2,2,19881212,       1849,   -47.0167,   -55.9383,       5237,    29.5,  34.1666,2,  34.1410,2,-999.0000,9,   292.0,2,    1.42,2,    8.45,2,    0.13,2,    0.67,2,-999.000,9,-999.000,9,  2058.9,2,  2302.2,2,   433.3,2,  -999.0,9, -999.00,    10.1959,  10.1925,     -999.0,9
318M19881207,      SAVE4,     180,          2,          3,          3,2,19881212,       1849,   -47.0167,   -55.9383,       5237,    49.7,  34.1662,2,  34.1370,2,-999.0000,9,   291.9,2,    2.03,2,   11.43,2,    0.17,2,    0.94,2,   3.755,2,   1.740,2,  2062.3,2,  2279.3,2,   491.7,2,  -999.0,9, -999.00,     8.1350,   8.1301,     -999.0,9
318M19881207,      SAVE4,     180,          2,          4,          4,2,19881212,       1849,   -47.0167,   -55.9383,       5237,    65.9,  34.1107,2,  34.0790,2,-999.0000,9,   298.8,2,    5.87,2,   19.24,2,    0.23,2,    1.49,2,   4.256,2,   1.946,2,  2111.3,2,  2279.6,2,   656.7,2,  -999.0,9, -999.00,     5.9413,   5.9358,     -999.0,9
318M19881207,      SAVE4,     180,          2,          5,          5,2,19881212,       1849,   -47.0167,   -55.9383,       5237,   151.8,  34.1239,2,  34.1130,2,-999.0000,9,   293.5,2,   10.11,2,   23.72,2,    0.05,2,    1.64,2,   3.913,2,   1.783,2,  2119.5,2,  2271.3,2,   726.0,2,  -999.0,9, -999.00,     4.4166,   4.4057,     -999.0,9
318M19881207,      SAVE4,     180,          2,          6,          6,2,19881212,       1849,   -47.0167,   -55.9383,       5237,   213.2,  34.1483,2,  34.1370,2,-999.0000,9,   282.2,2,   12.71,2,   24.92,2,    0.02,2,    1.73,2,-999.000,9,-999.000,9,  2129.6,2,  2275.7,2,   757.1,2,  -999.0,9, -999.00,     4.2936,   4.2784,     -999.0,9
318M19881207,      SAVE4,     180,          2,          7,          7,2,19881212,       1849,   -47.0167,   -55.9383,       5237,   315.9,  34.1718,2,  34.1730,2,-999.0000,9,   266.5,2,   19.34,2,   27.38,2,    0.02,2,    1.89,2,   2.828,2,   1.298,2,  2152.1,2,  -999.0,9,  -999.0,9,  -999.0,9, -999.00,     3.8957,   3.8739,     -999.0,9
318M19881207,      SAVE4,     180,          2,          8,          8,2,19881212,       1849,   -47.0167,   -55.9383,       5237,   418.6,  34.1724,2,  34.1770,2,-999.0000,9,   260.9,2,   25.35,2,   28.97,2,    0.02,2,    1.98,2,-999.000,9,-999.000,9,  2161.5,2,  2288.3,2,   872.2,2,  -999.0,9, -999.00,     3.3059,   3.2786,     -999.0,9
318M19881207,      SAVE4,     180,          2,          9,          9,2,19881212,       1849,   -47.0167,   -55.9383,       5237,   521.0,  34.2438,2,  34.2350,2,-999.0000,9,   241.7,2,   32.34,2,   30.37,2,    0.01,2,    2.09,2,   1.773,2,   0.807,2,  2183.6,2,  2299.7,2,   948.3,2,  -999.0,9, -999.00,     3.2079,   3.1739,     -999.0,9
318M19881207,      SAVE4,     180,          2,         10,         10,2,19881212,       1849,   -47.0167,   -55.9383,       5237,   664.6,  34.2500,2,  34.2480,2,-999.0000,9,   237.4,2,   40.32,2,   31.97,2,    0.01,2,    2.20,2,-999.000,9,-999.000,9,  2226.0,2,  2337.5,3,  1004.9,2,  -999.0,9, -999.00,     2.5481,   2.5074,     -999.0,9
318M19881207,      SAVE4,     180,          2,         11,         11,2,19881212,       1849,   -47.0167,   -55.9383,       5237,   828.8,  34.3618,2,  34.3590,2,-999.0000,9,   208.6,2,   53.48,2,   33.50,2,    0.01,2,    2.32,2,   1.026,2,   0.470,2,  2214.8,2,  2311.9,2,  1099.8,2,  -999.0,9, -999.00,     2.5231,   2.4712,     -999.0,9
318M19881207,      SAVE4,     180,          2,         12,         12,2,19881212,       1849,   -47.0167,   -55.9383,       5237,  1034.0,  34.4827,2,  34.4820,2,-999.0000,9,   187.8,2,   63.40,2,   33.99,2,    0.00,2,    2.36,2,-999.000,9,-999.000,9,  -999.0,9,  -999.0,9,  1134.3,2,  -999.0,9, -999.00,     2.5710,   2.5041,     -999.0,9
318M19881207,      SAVE4,     180,          2,         13,         13,2,19881212,       1849,   -47.0167,   -55.9383,       5237,  1177.2,  34.5595,2,  34.5570,2,-999.0000,9,   184.3,2,   67.49,2,   33.40,2,    0.00,2,    2.33,2,   0.216,2,   0.115,2,  2235.8,2,  2331.7,2,  1129.6,2,  -999.0,9, -999.00,     2.6020,   2.5240,     -999.0,9
318M19881207,      SAVE4,     180,          2,         14,         14,2,19881212,       1849,   -47.0167,   -55.9383,       5237,  1239.9,  34.5891,2,  34.5850,2,-999.0000,9,   179.9,2,   68.59,2,   33.24,2,    0.00,2,    2.31,2,-999.000,9,-999.000,9,  2236.8,2,  2332.4,2,  1132.7,2,  -999.0,9, -999.00,     2.6010,   2.5182,     -999.0,9
318M19881207,      SAVE4,     180,          2,         15,         15,2,19881212,       1849,   -47.0167,   -55.9383,       5237,  1414.9,  34.6455,2,  34.6440,2,-999.0000,9,   181.2,2,   71.07,2,   32.25,2,    0.00,2,    2.24,2,   0.103,2,   0.076,2,  -999.0,9,  -999.0,9,  1110.8,2,  -999.0,9, -999.00,     2.5680,   2.4718,     -999.0,9
318M19881207,      SAVE4,     180,          2,         16,         16,2,19881212,       1849,   -47.0167,   -55.9383,       5237,  1548.8,  34.6824,2,  34.6800,2,-999.0000,9,   184.7,2,   71.56,2,   31.35,2,    0.00,2,    2.19,2,-999.000,9,-999.000,9,  2238.5,2,  2343.4,2,  1070.2,2,  -999.0,9, -999.00,     2.5690,   2.4620,     -999.0,9
318M19881207,      SAVE4,     180,          2,         17,         17,2,19881212,       1849,   -47.0167,   -55.9383,       5237,  1752.9,  34.7462,2,  34.7370,2,-999.0000,9,   195.1,2,   68.47,2,   29.50,2,    0.00,2,    2.02,2,-999.000,9,-999.000,9,  -999.0,9,  -999.0,9,  1030.7,2,  -999.0,9, -999.00,     2.6060,   2.4814,     -999.0,9
318M19881207,      SAVE4,     180,          2,         18,         18,2,19881212,       1849,   -47.0167,   -55.9383,       5237,  1948.4,  34.7410,2,  34.7390,2,-999.0000,9,   192.5,2,   76.70,2,   30.07,2,    0.00,2,    2.11,2,   0.039,2,   0.039,2,  -999.0,9,  -999.0,9,  1035.0,2,  -999.0,9, -999.00,     2.3491,   2.2114,     -999.0,9
318M19881207,      SAVE4,     180,          2,         19,         19,2,19881212,       1849,   -47.0167,   -55.9383,       5237,  2060.1,  34.7861,2,  34.7840,2,-999.0000,9,   206.4,2,   68.66,2,   27.99,2,    0.00,2,    1.93,2,-999.000,9,-999.000,9,  2219.3,2,  2336.7,2,   978.3,2,  -999.0,9, -999.00,     2.4531,   2.3040,     -999.0,9
318M19881207,      SAVE4,     180,          2,         20,         20,2,19881212,       1849,   -47.0167,   -55.9383,       5237,  2202.9,  34.7934,2,  34.7910,2,-999.0000,9,   209.0,2,   68.56,2,   27.56,2,    0.00,2,    1.79,2,   0.023,2,   0.015,2,  -999.0,9,  -999.0,9,  -999.0,9,  -999.0,9, -999.00,     2.3801,   2.2195,     -999.0,9
318M19881207,      SAVE4,     180,          2,         21,         21,2,19881212,       1849,   -47.0167,   -55.9383,       5237,  2314.0,  34.7808,2,  34.7830,2,-999.0000,9,   206.4,2,   75.76,2,   28.40,2,    0.00,2,    1.98,2,-999.000,9,-999.000,9,  2227.3,2,  2344.6,2,   985.4,2,  -999.0,9, -999.00,     2.2001,   2.0326,     -999.0,9
318M19881207,      SAVE4,     180,          2,         22,         22,2,19881212,       1849,   -47.0167,   -55.9383,       5237,  2518.6,  34.7638,2,-999.0000,9,-999.0000,9,   204.2,2,   85.11,2,   29.43,2,    0.00,2,    1.99,2,   0.028,2,-999.000,9,  2234.9,2,  2350.9,2,   999.3,2,  -999.0,9, -999.00,     1.9482,   1.7667,     -999.0,9
318M19881207,      SAVE4,     180,          2,         23,         23,2,19881212,       1849,   -47.0167,   -55.9383,       5237,  2674.2,  34.7488,2,-999.0000,9,-999.0000,9,   201.6,2,   92.86,2,   30.22,2,    0.00,2,    2.08,2,-999.000,9,-999.000,9,  -999.0,9,  -999.0,9,  1036.5,2,  -999.0,9, -999.00,     1.7533,   1.5613,     -999.0,9
318M19881207,      SAVE4,     180,          2,         24,         24,2,19881212,       1849,   -47.0167,   -55.9383,       5237,  2890.7,  34.7327,2,  34.7370,2,-999.0000,9,   201.2,2,  100.60,2,   31.11,2,    0.00,2,    2.15,2,   0.042,2,   0.023,2,  2246.3,2,  2356.6,2,  1045.9,2,  -999.0,9, -999.00,     1.5503,   1.3425,     -999.0,9
318M19881207,      SAVE4,     180,          2,         25,         25,2,19881212,       1849,   -47.0167,   -55.9383,       5237,  3085.2,  34.7294,2,  34.7320,2,-999.0000,9,   202.9,2,  102.42,2,   31.13,2,    0.00,2,    2.18,2,-999.000,9,-999.000,9,  2247.8,2,  2361.2,2,  1027.5,2,  -999.0,9, -999.00,     1.4234,   1.1999,     -999.0,9
318M19881207,      SAVE4,     180,          2,         26,         26,2,19881212,       1849,   -47.0167,   -55.9383,       5237,  3290.0,  34.7232,2,  34.7280,2,-999.0000,9,   205.1,2,  106.39,2,   31.25,2,    0.00,2,    2.20,2,   0.048,2,   0.036,2,  2251.6,2,  -999.0,9,  -999.0,9,  -999.0,9, -999.00,     1.2714,   1.0317,     -999.0,9
318M19881207,      SAVE4,     180,          2,         27,         27,2,19881212,       1849,   -47.0167,   -55.9383,       5237,  3497.0,  34.7131,2,  34.7100,2,-999.0000,9,   207.3,2,  110.94,2,   31.49,2,    0.01,2,    2.22,2,-999.000,9,-999.000,9,  2253.8,2,  2362.1,2,  1065.5,2,  -999.0,9, -999.00,     1.0955,   0.8397,     -999.0,9
318M19881207,      SAVE4,     180,          2,         28,         28,2,19881212,       1849,   -47.0167,   -55.9383,       5237,  3705.1,  34.7045,2,-999.0000,9,-999.0000,9,   209.4,2, -999.00,9,   31.92,2,    0.00,2,    2.25,2,   0.083,2,   0.056,2,  2254.3,2,  -999.0,9,  1078.6,2,  -999.0,9, -999.00,     0.9395,   0.6669,     -999.0,9
318M19881207,      SAVE4,     180,          2,         29,         29,2,19881212,       1849,   -47.0167,   -55.9383,       5237,  3909.1,  34.6962,2,-999.0000,9,-999.0000,9,   212.9,2,  117.86,2,   31.99,2,    0.00,2,    2.26,2,-999.000,9,-999.000,9,  2255.0,2,  2361.6,2,  1078.9,2,  -999.0,9, -999.00,     0.7686,   0.4798,     -999.0,9
318M19881207,      SAVE4,     180,          2,         30,         30,2,19881212,       1849,   -47.0167,   -55.9383,       5237,  4113.0,  34.6874,2,  34.6880,2,-999.0000,9,   216.4,2,  120.42,2,   32.28,2,    0.00,2,    2.28,2,   0.084,2,   0.068,2,  2254.1,2,  2362.3,2,  1068.1,2,  -999.0,9, -999.00,     0.5886,   0.2838,     -999.0,9
318M19881207,      SAVE4,     180,          2,         31,         31,2,19881212,       1849,   -47.0167,   -55.9383,       5237,  4318.9,  34.6798,2,  34.6810,2,-999.0000,9,  -999.0,9,  121.81,2,   32.35,2,    0.00,2,    2.30,2,-999.000,9,-999.000,9,  2257.9,2,  2364.1,2,  1084.0,2,  -999.0,9, -999.00,     0.4567,   0.1340,     -999.0,9
318M19881207,      SAVE4,     180,          2,         32,         32,2,19881212,       1849,   -47.0167,   -55.9383,       5237,  4528.6,  34.6748,2,  34.6750,2,-999.0000,9,   221.2,2,  125.34,2,   32.41,2,    0.00,2,    2.31,2,   0.078,2,   0.050,2,  2255.8,2,  2366.8,2,  1051.9,2,  -999.0,9, -999.00,     0.3537,   0.0116,     -999.0,9
318M19881207,      SAVE4,     180,          2,         33,         33,2,19881212,       1849,   -47.0167,   -55.9383,       5237,  4735.9,  34.6693,2,-999.0000,9,-999.0000,9,   223.3,2,  126.71,2,   32.70,2,    0.00,2,    2.32,2,-999.000,9,-999.000,9,  2260.6,2,  2369.1,2,  1071.8,2,  -999.0,9, -999.00,     0.2907,  -0.0722,     -999.0,9
318M19881207,      SAVE4,     180,          2,         34,         34,2,19881212,       1849,   -47.0167,   -55.9383,       5237,  4945.5,  34.6678,2,-999.0000,9,-999.0000,9,   224.2,2,  128.08,2,   32.61,2,    0.00,2,    2.32,2,-999.000,9,-999.000,9,  2257.0,2,  2363.3,2,  1084.2,2,  -999.0,9, -999.00,     0.2597,  -0.1258,     -999.0,9
318M19881207,      SAVE4,     180,          2,         35,         35,2,19881212,       1849,   -47.0167,   -55.9383,       5237,  5155.5,  34.6658,2,-999.0000,9,-999.0000,9,   224.6,2,  126.91,2,   32.58,2,    0.00,2,    2.31,2,   0.089,2,   0.062,2,  -999.0,9,  -999.0,9,  -999.0,9,  4533.4,2, -999.00,     0.2467,  -0.1626,      0.363,2
318M19881207,      SAVE4,     180,          2,         36,         36,2,19881212,       1849,   -47.0167,   -55.9383,       5237,  5336.1,  34.6653,2,  34.6690,2,-999.0000,9,   225.1,2,  128.86,2,   32.65,2,    0.00,2,    2.32,2,   0.105,2,   0.076,2,  2255.8,2,  2364.0,2,  1070.8,2,  -999.0,9, -999.00,     0.2397,  -0.1906,     -999.0,9