BOTTLE,20211025CCHSIORKP
EXPOCODE,SECT_ID,STNNBR,CASTNO,SAMPNO,BTLNBR,BTLNBR_FLAG_W,DATE,TIME,LATITUDE,LONGITUDE,DEPTH,CTDPRS,CTDSAL,CTDSAL_FLAG_W,SALNTY,SALNTY_FLAG_W,CTDOXY,CTDOXY_FLAG_W,OXYGEN,OXYGEN_FLAG_W,SILCAT,SILCAT_FLAG_W,NITRAT,NITRAT_FLAG_W,NITRIT,NITRIT_FLAG_W,PHSPHT,PHSPHT_FLAG_W,CFC-11,CFC-11_FLAG_W,CFC-12,CFC-12_FLAG_W,TCARBN,TCARBN_FLAG_W,ALKALI,ALKALI_FLAG_W,PCO2,PCO2_FLAG_W,REVPRS,REVPRS_FLAG_W,CTDRAW,CTDTMP,THETA,REVTMP,REVTMP_FLAG_W
,,,,,,,,,,,METERS,DBAR,PSS-78,,PSS-78,,UMOL/KG,,UMOL/KG,,UMOL/KG,,UMOL/KG,,UMOL/KG,,UMOL/KG,,PMOL/KG,,PMOL/KG,,UMOL/KG,,UMOL/KG,,UATM,,DBAR,,DBAR,ITS-68,DEG C,ITS-68,
318M19881207,      SAVE4,     183,          1,          1,          1,2,19881214,       0543,   -47.0567,   -52.8950,       6064,     3.7,  34.3658,2,-999.0000,9,-999.0000,9,  -999.0,9, -999.00,9, -999.00,9, -999.00,9, -999.00,9,-999.000,9,-999.000,9,  -999.0,9,  -999.0,9,  -999.0,9,  -999.0,9, -999.00,    12.2439,  12.2434,     -999.0,9
318M19881207,      SAVE4,     183,          1,          2,          2,2,19881214,       0543,   -47.0567,   -52.8950,       6064,    43.7,  34.6118,2,  34.6197,2,-999.0000,9,   274.2,2,    0.22,2,    2.98,2,    0.11,2,    0.48,2,-999.000,9,-999.000,9,  2037.4,2,  2303.0,2,   390.5,2,  -999.0,9, -999.00,    12.3009,  12.2951,     -999.0,9
318M19881207,      SAVE4,     183,          1,          3,          3,2,19881214,       0543,   -47.0567,   -52.8950,       6064,    79.6,  34.8449,2,  34.8660,2,-999.0000,9,   233.5,2,    2.66,2,   11.46,2,    0.15,2,    0.85,2,-999.000,9,-999.000,9,  -999.0,9,  -999.0,9,  -999.0,9,  -999.0,9, -999.00,    11.2999,  11.2899,     -999.0,9
318M19881207,      SAVE4,     183,          1,          4,          4,2,19881214,       0543,   -47.0567,   -52.8950,       6064,   146.4,  34.7781,2,  34.7488,2,-999.0000,9,   244.2,2,    4.36,2,   15.05,2,    0.08,2,    1.06,2,-999.000,9,-999.000,9,  -999.0,9,  -999.0,9,  -999.0,9,  -999.0,9, -999.00,     9.9029,   9.8861,     -999.0,9
318M19881207,      SAVE4,     183,          1,          5,          5,2,19881214,       0543,   -47.0567,   -52.8950,       6064,   268.7,  34.3113,2,  34.3062,2,-999.0000,9,   250.4,2,   10.88,2,   24.18,2,    0.03,2,    1.62,2,-999.000,9,-999.000,9,  -999.0,9,  -999.0,9,  -999.0,9,  -999.0,9, -999.00,     5.8523,   5.8297,     -999.0,9
318M19881207,      SAVE4,     183,          1,          6,          6,2,19881214,       0543,   -47.0567,   -52.8950,       6064,   421.9,  34.1280,2,  34.1280,2,-999.0000,9,   285.6,2,   13.69,2,   25.68,2,    0.01,2,    1.75,2,   3.595,2,   1.676,2,  -999.0,9,  -999.0,9,  -999.0,9,  -999.0,9, -999.00,     3.9297,   3.9002,     -999.0,9
318M19881207,      SAVE4,     183,          1,          7,          7,2,19881214,       0543,   -47.0567,   -52.8950,       6064,   523.7,  34.1640,2,  34.1646,2,-999.0000,9,   266.7,2,   20.39,2,   27.66,2,    0.00,2,    1.87,2,   2.742,2,   1.284,2,  -999.0,9,  -999.0,9,  -999.0,9,  -999.0,9, -999.00,     3.7538,   3.7173,     -999.0,9
318M19881207,      SAVE4,     183,          1,          8,          8,2,19881214,       0543,   -47.0567,   -52.8950,       6064,   625.6,  34.2121,2,  34.2099,2,-999.0000,9,   251.7,2,   25.97,2,   28.96,2,    0.00,2,    1.99,2,   2.156,2,   1.002,2,  -999.0,9,  -999.0,9,  -999.0,9,  -999.0,9, -999.00,     3.5458,   3.5028,     -999.0,9
318M19881207,      SAVE4,     183,          1,          9,          9,2,19881214,       0543,   -47.0567,   -52.8950,       6064,   779.6,  34.2213,2,  34.2219,2,-999.0000,9,   245.8,2,   34.70,2,   31.16,2,    0.00,2,    2.09,2,   2.112,2,   0.907,2,  -999.0,9,  -999.0,9,  -999.0,9,  -999.0,9, -999.00,     2.9100,   2.8593,     -999.0,9
318M19881207,      SAVE4,     183,          1,         10,         10,2,19881214,       0543,   -47.0567,   -52.8950,       6064,   932.9,  34.2830,2,-999.0000,9,-999.0000,9,  -999.0,9, -999.00,9, -999.00,9, -999.00,9, -999.00,9,   1.868,2,   0.843,2,  -999.0,9,  -999.0,9,  -999.0,9,  -999.0,9, -999.00,     2.6800,   2.6199,     -999.0,9
318M19881207,      SAVE4,     183,          1,         11,         11,2,19881214,       0543,   -47.0567,   -52.8950,       6064,  1060.4,  34.3253,2,  34.3241,2,-999.0000,9,   217.4,2,   51.21,2,   33.57,2,    0.00,2,    2.26,2,   1.277,2,   0.568,2,  -999.0,9,  -999.0,9,  -999.0,9,  -999.0,9, -999.00,     2.4841,   2.4162,     -999.0,9
318M19881207,      SAVE4,     183,          1,         12,         12,2,19881214,       0543,   -47.0567,   -52.8950,       6064,  1237.8,  34.4389,2,  34.4387,2,-999.0000,9,   191.4,2,   64.74,2,   34.73,2,    0.00,2,    2.33,2,-999.000,9,-999.000,9,  -999.0,9,  -999.0,9,  -999.0,9,  -999.0,9, -999.00,     2.4621,   2.3811,     -999.0,9
318M19881207,      SAVE4,     183,          1,         13,         13,2,19881214,       0543,   -47.0567,   -52.8950,       6064,  1390.1,  34.5367,2,  34.5375,2,-999.0000,9,   180.2,2,   69.92,2,   34.23,2,    0.00,2,    2.30,2,-999.000,9,-999.000,9,  -999.0,9,  -999.0,9,  -999.0,9,  -999.0,9, -999.00,     2.5321,   2.4384,     -999.0,9
318M19881207,      SAVE4,     183,          1,         14,         14,2,19881214,       0543,   -47.0567,   -52.8950,       6064,  1543.4,  34.5966,2,  34.5968,2,-999.0000,9,   178.5,2,   72.32,2,   33.49,2,    0.00,2,    2.25,2,-999.000,9,-999.000,9,  -999.0,9,  -999.0,9,  -999.0,9,  -999.0,9, -999.00,     2.5321,   2.4261,     -999.0,9
318M19881207,      SAVE4,     183,          1,         15,         15,2,19881214,       0543,   -47.0567,   -52.8950,       6064,  1671.4,  34.6272,2,  34.6280,2,-999.0000,9,   177.4,2,   76.02,2,   33.28,2,    0.00,2,    2.24,2,-999.000,9,-999.000,9,  -999.0,9,  -999.0,9,  -999.0,9,  -999.0,9, -999.00,     2.4521,   2.3366,     -999.0,9
318M19881207,      SAVE4,     183,          1,         16,         16,2,19881214,       0543,   -47.0567,   -52.8950,       6064,  1798.0,  34.6895,2,  34.6909,2,-999.0000,9,   185.4,2,   70.47,2,   31.61,2,    0.00,2,    2.12,2,-999.000,9,-999.000,9,  -999.0,9,  -999.0,9,  -999.0,9,  -999.0,9, -999.00,     2.5880,   2.4600,     -999.0,9
318M19881207,      SAVE4,     183,          1,         17,         17,2,19881214,       0543,   -47.0567,   -52.8950,       6064,  1949.3,  34.6943,2,  34.6955,2,-999.0000,9,   182.4,2,   80.27,2,   31.91,2,    0.00,2,    2.17,2,-999.000,9,-999.000,9,  -999.0,9,  -999.0,9,  -999.0,9,  -999.0,9, -999.00,     2.3421,   2.2046,     -999.0,9
318M19881207,      SAVE4,     183,          1,         18,         18,2,19881214,       0543,   -47.0567,   -52.8950,       6064,  2150.6,  34.7120,2,  34.7226,2,-999.0000,9,   184.6,2,   84.15,2,   31.47,2,    0.00,2,    2.16,2,-999.000,9,-999.000,9,  -999.0,9,  -999.0,9,  -999.0,9,  -999.0,9, -999.00,     2.2321,   2.0789,     -999.0,9
318M19881207,      SAVE4,     183,          1,         19,         19,2,19881214,       0543,   -47.0567,   -52.8950,       6064,  2352.4,  34.7594,2,  34.7627,2,-999.0000,9,   197.9,2,   77.49,2,   29.62,2,    0.00,2,    2.00,2,-999.000,9,-999.000,9,  -999.0,9,  -999.0,9,  -999.0,9,  -999.0,9, -999.00,     2.3081,   2.1353,     -999.0,9
318M19881207,      SAVE4,     183,          1,         20,         20,2,19881214,       0543,   -47.0567,   -52.8950,       6064,  2556.4,  34.7638,2,  34.7676,2,-999.0000,9,   200.2,2,   81.55,2,   29.88,2,    0.00,2,    1.99,2,-999.000,9,-999.000,9,  -999.0,9,  -999.0,9,  -999.0,9,  -999.0,9, -999.00,     2.1572,   1.9683,     -999.0,9
318M19881207,      SAVE4,     183,          1,         21,         21,2,19881214,       0543,   -47.0567,   -52.8950,       6064,  2812.1,  34.7710,2,  34.7749,2,-999.0000,9,   205.2,2,   84.14,2,   29.53,2,    0.00,2,    1.97,2,-999.000,9,-999.000,9,  -999.0,9,  -999.0,9,  -999.0,9,  -999.0,9, -999.00,     1.9832,   1.7736,     -999.0,9
318M19881207,      SAVE4,     183,          1,         22,         22,2,19881214,       0543,   -47.0567,   -52.8950,       6064,  3068.5,  34.7445,2,  34.7464,2,-999.0000,9,   201.7,2,   95.59,2,   30.72,2,    0.00,2,    2.06,2,-999.000,9,-999.000,9,  -999.0,9,  -999.0,9,  -999.0,9,  -999.0,9, -999.00,     1.6423,   1.4154,     -999.0,9
318M19881207,      SAVE4,     183,          1,         23,         23,2,19881214,       0543,   -47.0567,   -52.8950,       6064,  3326.6,  34.7272,2,  34.7297,2,-999.0000,9,   203.1,2,  105.95,2,   31.59,2,    0.00,2,    2.12,2,-999.000,9,-999.000,9,  -999.0,9,  -999.0,9,  -999.0,9,  -999.0,9, -999.00,     1.3654,   1.1197,     -999.0,9
318M19881207,      SAVE4,     183,          1,         24,         24,2,19881214,       0543,   -47.0567,   -52.8950,       6064,  3580.7,  34.7178,2,  34.7210,2,-999.0000,9,   205.4,2,  110.76,2,   31.81,2,    0.00,2,    2.14,2,-999.000,9,-999.000,9,  -999.0,9,  -999.0,9,  -999.0,9,  -999.0,9, -999.00,     1.1824,   0.9160,     -999.0,9
318M19881207,      SAVE4,     183,          1,         25,         25,2,19881214,       0543,   -47.0567,   -52.8950,       6064,  3837.5,  34.7096,2,  34.7122,2,-999.0000,9,   209.5,2,  113.53,2,   32.06,2,    0.00,2,    2.16,2,-999.000,9,-999.000,9,  -999.0,9,  -999.0,9,  -999.0,9,  -999.0,9, -999.00,     0.9885,   0.7009,     -999.0,9
318M19881207,      SAVE4,     183,          1,         26,         26,2,19881214,       0543,   -47.0567,   -52.8950,       6064,  4093.3,  34.6970,2,  34.6984,2,-999.0000,9,   212.8,2,  117.23,2,   32.65,2,    0.00,2,    2.18,2,-999.000,9,-999.000,9,  -999.0,9,  -999.0,9,  -999.0,9,  -999.0,9, -999.00,     0.7786,   0.4702,     -999.0,9
318M19881207,      SAVE4,     183,          1,         27,         27,2,19881214,       0543,   -47.0567,   -52.8950,       6064,  4296.6,  34.6892,2,-999.0000,9,-999.0000,9,   215.9,2,  121.12,2,   32.72,2,    0.00,2,    2.20,2,-999.000,9,-999.000,9,  -999.0,9,  -999.0,9,  -999.0,9,  -999.0,9, -999.00,     0.6306,   0.3050,     -999.0,9
318M19881207,      SAVE4,     183,          1,         28,         28,2,19881214,       0543,   -47.0567,   -52.8950,       6064,  4500.7,  34.6822,2,  34.6825,2,-999.0000,9,   218.9,2,  123.33,2,   32.61,2,    0.00,2,    2.20,2,-999.000,9,-999.000,9,  -999.0,9,  -999.0,9,  -999.0,9,  -999.0,9, -999.00,     0.4967,   0.1530,     -999.0,9
318M19881207,      SAVE4,     183,          1,         29,         29,2,19881214,       0543,   -47.0567,   -52.8950,       6064,  4704.2,  34.6774,2,  34.6765,2,-999.0000,9,   221.1,2,  124.24,2,   32.77,2,    0.00,2,    2.22,2,-999.000,9,-999.000,9,  -999.0,9,  -999.0,9,  -999.0,9,  -999.0,9, -999.00,     0.4087,   0.0454,     -999.0,9
318M19881207,      SAVE4,     183,          1,         30,         30,2,19881214,       0543,   -47.0567,   -52.8950,       6064,  4908.7,  34.6741,2,  34.6733,2,-999.0000,9,   222.5,2,  124.97,2,   32.70,2,    0.00,2,    2.23,2,-999.000,9,-999.000,9,  -999.0,9,  -999.0,9,  -999.0,9,  -999.0,9, -999.00,     0.3437,  -0.0405,     -999.0,9
318M19881207,      SAVE4,     183,          1,         31,         31,2,19881214,       0543,   -47.0567,   -52.8950,       6064,  5114.7,  34.6710,2,  34.6721,2,-999.0000,9,   223.3,2,  125.88,2,   32.77,2,    0.00,2,    2.22,2,-999.000,9,-999.000,9,  -999.0,9,  -999.0,9,  -999.0,9,  -999.0,9, -999.00,     0.3107,  -0.0961,     -999.0,9
318M19881207,      SAVE4,     183,          1,         32,         32,2,19881214,       0543,   -47.0567,   -52.8950,       6064,  5317.4,  34.6693,2,  34.6694,2,-999.0000,9,   223.9,2,  125.67,2,   32.84,2,    0.00,2,    2.23,2,-999.000,9,-999.000,9,  -999.0,9,  -999.0,9,  -999.0,9,  -999.0,9, -999.00,     0.2977,  -0.1325,     -999.0,9
318M19881207,      SAVE4,     183,          1,         33,         33,2,19881214,       0543,   -47.0567,   -52.8950,       6064,  5523.8,  34.6680,2,  34.6684,2,-999.0000,9,   225.4,2,  127.52,2,   32.91,2,    0.00,2,    2.24,2,-999.000,9,-999.000,9,  -999.0,9,  -999.0,9,  -999.0,9,  -999.0,9, -999.00,     0.2937,  -0.1612,     -999.0,9
318M19881207,      SAVE4,     183,          1,         34,         34,2,19881214,       0543,   -47.0567,   -52.8950,       6064,  5731.2,  34.6668,2,  34.6669,2,-999.0000,9,  -999.0,9,  127.87,2,   32.98,2,    0.00,2,    2.23,2,-999.000,9,-999.000,9,  -999.0,9,  -999.0,9,  -999.0,9,  -999.0,9, -999.00,     0.2987,  -0.1819,     -999.0,9
318M19881207,      SAVE4,     183,          1,         35,         35,2,19881214,       0543,   -47.0567,   -52.8950,       6064,  5943.2,  34.6667,2,  34.6659,2,-999.0000,9,   225.4,2,  128.41,2,   32.73,2,    0.00,2,    2.23,2,-999.000,9,-999.000,9,  -999.0,9,  -999.0,9,  -999.0,9,  -999.0,9, -999.00,     0.3107,  -0.1970,     -999.0,9
318M19881207,      SAVE4,     183,          1,         36,         36,2,19881214,       0543,   -47.0567,   -52.8950,       6064,  6226.5,  34.6654,2,  34.6661,2,-999.0000,9,   224.9,2,  129.32,2,   33.02,2,    0.01,2,    2.25,2,-999.000,9,-999.000,9,  -999.0,9,  -999.0,9,  -999.0,9,  -999.0,9, -999.00,     0.3397,  -0.2056,     -999.0,9