BOTTLE,20211025CCHSIORKP
EXPOCODE,SECT_ID,STNNBR,CASTNO,SAMPNO,BTLNBR,BTLNBR_FLAG_W,DATE,TIME,LATITUDE,LONGITUDE,DEPTH,CTDPRS,CTDSAL,CTDSAL_FLAG_W,SALNTY,SALNTY_FLAG_W,CTDOXY,CTDOXY_FLAG_W,OXYGEN,OXYGEN_FLAG_W,SILCAT,SILCAT_FLAG_W,NITRAT,NITRAT_FLAG_W,NITRIT,NITRIT_FLAG_W,PHSPHT,PHSPHT_FLAG_W,CFC-11,CFC-11_FLAG_W,CFC-12,CFC-12_FLAG_W,TCARBN,TCARBN_FLAG_W,ALKALI,ALKALI_FLAG_W,PCO2,PCO2_FLAG_W,REVPRS,REVPRS_FLAG_W,CTDRAW,CTDTMP,THETA,REVTMP,REVTMP_FLAG_W
,,,,,,,,,,,METERS,DBAR,PSS-78,,PSS-78,,UMOL/KG,,UMOL/KG,,UMOL/KG,,UMOL/KG,,UMOL/KG,,UMOL/KG,,PMOL/KG,,PMOL/KG,,UMOL/KG,,UMOL/KG,,UATM,,DBAR,,DBAR,ITS-68,DEG C,ITS-68,
318M19881207,      SAVE4,     174,          1,         19,         19,2,19881210,       1452,   -46.9717,   -59.1467,       1550,     3.4,  34.0719,2,  34.0730,2,-999.0000,9,   308.9,2,    2.89,2,   16.62,2,    0.18,2,    1.21,2,   4.126,2,   1.920,2,  2082.4,2,  2278.7,2,   553.3,2,  -999.0,9, -999.00,     7.5347,   7.5344,     -999.0,9
318M19881207,      SAVE4,     174,          1,         20,         20,2,19881210,       1452,   -46.9717,   -59.1467,       1550,    30.2,  34.0919,2,  34.0910,2,-999.0000,9,   315.8,2,    3.67,2,   17.08,2,    0.17,2,    1.21,2,-999.000,9,-999.000,9,  2080.7,2,  2276.6,2,   554.1,2,  -999.0,9, -999.00,     7.2174,   7.2146,     -999.0,9
318M19881207,      SAVE4,     174,          1,         21,         21,2,19881210,       1452,   -46.9717,   -59.1467,       1550,    71.2,  34.1023,2,  34.1040,2,-999.0000,9,   312.2,2,    7.21,2,   20.06,2,    0.15,2,    1.45,2,   4.321,2,   2.008,2,  2101.1,2,  2279.7,2,   617.2,2,  -999.0,9, -999.00,     5.8678,   5.8619,     -999.0,9
318M19881207,      SAVE4,     174,          1,         22,         22,2,19881210,       1452,   -46.9717,   -59.1467,       1550,   106.9,  34.1181,2,  34.1190,2,-999.0000,9,   309.1,2,    9.17,2,   21.87,2,    0.11,2,    1.56,2,-999.000,9,-999.000,9,  2115.4,2,  2281.3,2,   669.0,2,  -999.0,9, -999.00,     4.6079,   4.6001,     -999.0,9
318M19881207,      SAVE4,     174,          1,         23,         23,2,19881210,       1452,   -46.9717,   -59.1467,       1550,   158.3,  34.1264,2,  34.1270,2,-999.0000,9,   302.7,2,   10.14,2,   23.00,2,    0.16,2,    1.62,2,   4.145,2,   1.904,2,  2121.9,2,  2280.2,2,   701.7,2,  -999.0,9, -999.00,     4.2715,   4.2603,     -999.0,9
318M19881207,      SAVE4,     174,          1,         24,         24,2,19881210,       1452,   -46.9717,   -59.1467,       1550,   209.5,  34.1243,2,  34.1250,2,-999.0000,9,   300.0,2,   11.12,2,   23.85,2,    0.08,2,    1.67,2,   3.976,2,   1.869,2,  2123.8,2,  2280.3,2,   709.9,2,  -999.0,9, -999.00,     4.0879,   4.0733,     -999.0,9
318M19881207,      SAVE4,     174,          1,         25,         25,2,19881210,       1452,   -46.9717,   -59.1467,       1550,   275.8,  34.1271,2,  34.1280,2,-999.0000,9,   294.5,2,   13.67,2,   24.87,2,    0.05,2,    1.74,2,-999.000,9,-999.000,9,  2117.1,2,  2265.1,2,   742.5,2,  -999.0,9, -999.00,     3.8999,   3.8809,     -999.0,9
318M19881207,      SAVE4,     174,          1,         26,         26,2,19881210,       1452,   -46.9717,   -59.1467,       1550,   373.4,  34.1255,2,  34.1270,2,-999.0000,9,   289.1,2,   17.01,2,   26.12,2,    0.01,2,    1.82,2,   3.571,2,   1.668,2,  2129.5,2,  2272.2,2,   773.5,2,  -999.0,9, -999.00,     3.5273,   3.5025,     -999.0,9
318M19881207,      SAVE4,     174,          1,         27,         27,2,19881210,       1452,   -46.9717,   -59.1467,       1550,   537.3,  34.1594,2,  34.1600,2,-999.0000,9,   265.8,2,   27.42,2,   29.05,2,    0.00,2,    2.02,2,   2.859,2,   1.287,2,  2160.3,2,  2286.7,2,   874.3,2,  -999.0,9, -999.00,     2.9318,   2.8979,     -999.0,9
318M19881207,      SAVE4,     174,          1,         28,         28,2,19881210,       1452,   -46.9717,   -59.1467,       1550,   619.2,  34.2155,2,  34.2140,2,-999.0000,9,   245.7,2,   34.69,2,   30.40,2,    0.00,2,    2.12,2,-999.000,9,-999.000,9,  2177.8,2,  2295.0,2,   938.6,2,  -999.0,9, -999.00,     2.8809,   2.8416,     -999.0,9
318M19881207,      SAVE4,     174,          1,         29,         29,2,19881210,       1452,   -46.9717,   -59.1467,       1550,   711.7,  34.2888,2,  34.2880,2,-999.0000,9,   223.4,2,   44.70,2,   32.31,2,    0.00,2,    2.23,2,   1.483,2,   0.633,2,  2199.5,2,  2304.7,2,  1030.4,2,  -999.0,9, -999.00,     2.7673,   2.7222,     -999.0,9
318M19881207,      SAVE4,     174,          1,         30,         30,2,19881210,       1452,   -46.9717,   -59.1467,       1550,   844.7,  34.3858,2,  34.3860,2,-999.0000,9,   197.2,2,   57.07,2,   33.66,2,    0.00,2,    2.31,2,   0.708,2,   0.343,2,  2221.1,2,  2320.2,2,  1091.2,2,  -999.0,9, -999.00,     2.7410,   2.6866,     -999.0,9
318M19881207,      SAVE4,     174,          1,         31,         31,2,19881210,       1452,   -46.9717,   -59.1467,       1550,   926.6,  34.4313,2,  34.4310,2,-999.0000,9,   188.6,2,   63.55,2,   34.37,2,    0.00,2,    2.36,2,-999.000,9,-999.000,9,  2234.2,2,  2326.3,2,  1153.4,2,  -999.0,9, -999.00,     2.5732,   2.5140,     -999.0,9
318M19881207,      SAVE4,     174,          1,         32,         32,2,19881210,       1452,   -46.9717,   -59.1467,       1550,  1069.4,  34.5026,2,  34.5030,2,-999.0000,9,   180.6,2,   70.41,2,   34.40,2,    0.00,2,    2.36,2,   0.370,2,   0.187,2,  2238.0,2,  2329.8,2,  1161.0,2,  -999.0,9, -999.00,     2.4658,   2.3971,     -999.0,9
318M19881207,      SAVE4,     174,          1,         33,         33,2,19881210,       1452,   -46.9717,   -59.1467,       1550,  1233.2,  34.5930,2,  34.5930,2,-999.0000,9,   179.7,2,   70.59,2,   33.15,2,    0.00,2,    2.26,2,   0.170,2,   0.094,2,  2241.5,2,  2337.6,2,  1132.2,2,  -999.0,9, -999.00,     2.5767,   2.4946,     -999.0,9
318M19881207,      SAVE4,     174,          1,         34,         34,2,19881210,       1452,   -46.9717,   -59.1467,       1550,  1437.5,  34.6672,2,  34.6660,2,-999.0000,9,   182.6,2,   71.94,2,   31.83,2,    0.00,2,    2.17,2,-999.000,9,-999.000,9,  2232.4,2,  2338.6,2,  1057.5,2,  -999.0,9, -999.00,     2.5807,   2.4824,     -999.0,9
318M19881207,      SAVE4,     174,          1,         35,         35,2,19881210,       1452,   -46.9717,   -59.1467,       1550,  1488.8,  34.6374,2,  34.6380,2,-999.0000,9,   175.4,2,   81.16,2,   33.28,2,    0.00,2,    2.28,2,   0.112,2,   0.070,2,  2251.8,2,  2350.9,2,  1121.0,2,  -999.0,9, -999.00,     2.3141,   2.2149,     -999.0,9
318M19881207,      SAVE4,     174,          1,         36,         36,2,19881210,       1452,   -46.9717,   -59.1467,       1550,  1529.1,  34.6374,2,  34.6370,2,-999.0000,9,  -999.0,9,   82.13,2,   33.22,2,    0.00,2,    2.30,2,   0.119,2,   0.073,2,  2252.8,2,  2368.7,3,  1011.2,2,  -999.0,9, -999.00,     2.2985,   2.1963,     -999.0,9
318M19881207,      SAVE4,     175,          1,         19,         19,2,19881210,       2015,   -46.9883,   -58.4967,       2573,     3.5,  34.1114,2,  34.1104,2,-999.0000,9,   326.0,2,    1.69,2,   14.57,2,    0.14,2,    1.02,2,   4.088,2,   1.883,2,  2060.0,2,  2277.8,2,   488.9,2,  -999.0,9, -999.00,     8.3097,   8.3093,     -999.0,9
318M19881207,      SAVE4,     175,          1,         20,         20,2,19881210,       2015,   -46.9883,   -58.4967,       2573,    30.3,  34.1210,2,  34.1167,2,-999.0000,9,   307.5,2,    3.91,2,   16.87,2,    0.18,2,    1.26,2,-999.000,9,-999.000,9,  2089.2,2,  2279.8,2,   573.4,2,  -999.0,9, -999.00,     7.0511,   7.0484,     -999.0,9
318M19881207,      SAVE4,     175,          1,         21,         21,2,19881210,       2015,   -46.9883,   -58.4967,       2573,    50.9,  34.1105,2,  34.1187,2,-999.0000,9,   304.0,2,    7.33,2,   20.35,2,    0.20,2,    1.51,2,   4.398,2,   2.005,2,  2109.2,2,  2276.3,2,   661.0,2,  -999.0,9, -999.00,     5.8051,   5.8010,     -999.0,9
318M19881207,      SAVE4,     175,          1,         22,         22,2,19881210,       2015,   -46.9883,   -58.4967,       2573,   101.9,  34.0918,2,  34.0911,2,-999.0000,9,   306.6,2,   10.14,2,   23.20,2,    0.25,2,    1.65,2,   4.428,2,   2.010,2,  2121.3,2,  2285.7,2,   677.7,2,  -999.0,9, -999.00,     4.1660,   4.1589,     -999.0,9
318M19881207,      SAVE4,     175,          1,         23,         23,2,19881210,       2015,   -46.9883,   -58.4967,       2573,   209.5,  34.0892,2,  34.0890,2,-999.0000,9,   302.0,2,   13.75,2,   25.19,2,    0.04,2,    1.76,2,   4.211,2,   1.913,2,  2132.7,2,  2279.9,2,   753.8,2,  -999.0,9, -999.00,     3.4922,   3.4786,     -999.0,9
318M19881207,      SAVE4,     175,          1,         24,         24,2,19881210,       2015,   -46.9883,   -58.4967,       2573,   250.5,  34.1064,2,  34.1079,2,-999.0000,9,   291.9,2,   16.76,2,   26.25,2,    0.02,2,    1.83,2,   3.777,2,   1.730,2,  -999.0,9,  -999.0,9,   767.5,2,  -999.0,9, -999.00,     3.3662,   3.3501,     -999.0,9
318M19881207,      SAVE4,     175,          1,         25,         25,2,19881210,       2015,   -46.9883,   -58.4967,       2573,   414.6,  34.1724,2,  34.1736,2,-999.0000,9,   261.7,2,   30.43,2,   29.94,2,    0.01,2,    2.05,2,-999.000,9,-999.000,9,  2173.3,2,  2294.1,2,   913.1,2,  -999.0,9, -999.00,     2.7381,   2.7130,     -999.0,9
318M19881207,      SAVE4,     175,          1,         26,         26,2,19881210,       2015,   -46.9883,   -58.4967,       2573,   568.3,  34.2562,2,  34.2554,2,-999.0000,9,   236.4,2,   42.07,2,   31.97,2,    0.00,2,    2.20,2,-999.000,9,-999.000,9,  2187.4,2,  2294.7,2,  1007.6,2,  -999.0,9, -999.00,     2.5373,   2.5030,     -999.0,9
318M19881207,      SAVE4,     175,          1,         27,         27,2,19881210,       2015,   -46.9883,   -58.4967,       2573,   784.0,  34.3957,2,  34.3959,2,-999.0000,9,   197.3,2,   59.72,2,   33.75,2,    0.00,2,    2.33,2,   0.756,2,   0.360,2,  2228.3,2,  2330.3,2,  1076.5,2,  -999.0,9, -999.00,     2.5978,   2.5485,     -999.0,9
318M19881207,      SAVE4,     175,          1,         28,         28,2,19881210,       2015,   -46.9883,   -58.4967,       2573,   927.7,  34.4727,2,  34.4715,2,-999.0000,9,   184.0,2,   68.70,2,   34.23,2,    0.00,2,    2.38,2,-999.000,9,-999.000,9,  2236.4,2,  2326.3,2,  1173.3,2,  -999.0,9, -999.00,     2.4269,   2.3687,     -999.0,9
318M19881207,      SAVE4,     175,          1,         29,         29,2,19881210,       2015,   -46.9883,   -58.4967,       2573,  1133.4,  34.5650,2,  34.5651,2,-999.0000,9,   175.1,2,   77.46,2,   33.87,2,    0.00,2,    2.35,2,   0.232,2,   0.131,2,  2252.5,2,  2346.2,2,  1159.2,2,  -999.0,9, -999.00,     2.3506,   2.2781,     -999.0,9
318M19881207,      SAVE4,     175,          1,         30,         30,2,19881210,       2015,   -46.9883,   -58.4967,       2573,  1287.8,  34.6111,2,  34.6117,2,-999.0000,9,   173.5,2,   81.40,2,   33.52,2,    0.00,2,    2.33,2,   0.152,2,   0.086,2,  2249.3,2,  2349.0,2,  1115.4,2,  -999.0,9, -999.00,     2.2911,   2.2076,     -999.0,9
318M19881207,      SAVE4,     175,          1,         31,         31,2,19881210,       2015,   -46.9883,   -58.4967,       2573,  1597.0,  34.7061,2,  34.7053,2,-999.0000,9,   185.2,2,   81.11,2,   31.41,2,    0.00,2,    2.16,2,-999.000,9,-999.000,9,  2248.6,2,  2350.0,2,  1102.6,2,  -999.0,9, -999.00,     2.3016,   2.1938,     -999.0,9
318M19881207,      SAVE4,     175,          1,         32,         32,2,19881210,       2015,   -46.9883,   -58.4967,       2573,  1844.1,  34.7184,2,  34.7179,2,-999.0000,9,   185.4,2,   88.84,2,   31.47,2,    0.00,2,    2.15,2,   0.053,2,   0.022,2,  2250.7,2,  2357.8,2,  1067.0,2,  -999.0,9, -999.00,     2.0560,   1.9314,     -999.0,9
318M19881207,      SAVE4,     175,          1,         33,         33,2,19881210,       2015,   -46.9883,   -58.4967,       2573,  1937.1,  34.7327,2,  34.7335,2,-999.0000,9,   190.3,2,   87.95,2,   30.98,2,    0.00,2,    2.13,2,   0.044,2,   0.031,2,  2244.7,2,  2354.0,2,  1048.9,2,  -999.0,9, -999.00,     2.0414,   1.9093,     -999.0,9
318M19881207,      SAVE4,     175,          1,         34,         34,2,19881210,       2015,   -46.9883,   -58.4967,       2573,  2216.7,  34.7504,2,  34.7492,2,-999.0000,9,   197.8,2,   90.06,2,   30.40,2,    0.00,2,    2.10,2,-999.000,9,-999.000,9,  2239.9,2,  2350.4,2,  1038.2,2,  -999.0,9, -999.00,     1.8856,   1.7321,     -999.0,9
318M19881207,      SAVE4,     175,          1,         35,         35,2,19881210,       2015,   -46.9883,   -58.4967,       2573,  2423.4,  34.7285,2,-999.0000,9,-999.0000,9,   195.4,2,  100.97,2,   31.48,2,    0.00,2,    2.17,2,   0.051,2,   0.030,2,  2254.1,2,  2360.2,2,  1078.4,2,  -999.0,9, -999.00,     1.6043,   1.4378,     -999.0,9
318M19881207,      SAVE4,     175,          1,         36,         36,2,19881210,       2015,   -46.9883,   -58.4967,       2573,  2568.1,  34.7216,2,  34.7228,2,-999.0000,9,   194.8,2,  104.08,2,   31.73,2,    0.00,2,    2.20,2,   0.057,2,   0.033,2,  2255.7,2,  2363.1,2,  1071.4,2,  -999.0,9, -999.00,     1.5161,   1.3385,     -999.0,9
318M19881207,      SAVE4,     176,          2,         19,         19,2,19881211,       0408,   -46.9717,   -58.2017,       3037,     3.9,  34.1174,2,  34.1180,2,-999.0000,9,   314.8,2,    1.37,2,   10.36,2,    0.11,2,    0.73,2,   3.864,2,   1.770,2,  2036.0,2,  2284.1,2,   416.1,2,  -999.0,9, -999.00,     9.1618,   9.1614,     -999.0,9
318M19881207,      SAVE4,     176,          2,         20,         20,2,19881211,       0408,   -46.9717,   -58.2017,       3037,    46.8,  34.1117,2,  34.0990,2,-999.0000,9,   306.5,2,    2.35,2,   13.40,2,    0.13,2,    0.96,2,-999.000,9,-999.000,9,  2067.4,2,  2284.2,2,   493.7,2,  -999.0,9, -999.00,     7.6889,   7.6844,     -999.0,9
318M19881207,      SAVE4,     176,          2,         21,         21,2,19881211,       0408,   -46.9717,   -58.2017,       3037,    67.1,  34.0855,2,  34.0840,2,-999.0000,9,   312.2,2,    8.31,2,   21.41,2,    0.14,2,    1.53,2,   4.555,2,   2.070,2,  2110.7,2,  2274.4,2,   673.9,2,  -999.0,9, -999.00,     4.6992,   4.6942,     -999.0,9
318M19881207,      SAVE4,     176,          2,         22,         22,2,19881211,       0408,   -46.9717,   -58.2017,       3037,   159.3,  34.0976,2,  34.0960,2,-999.0000,9,   300.4,2,   13.30,2,   24.84,2,    0.08,2,    1.72,2,   4.110,2,   1.857,2,  2129.4,2,  2286.6,2,   710.2,2,  -999.0,9, -999.00,     3.6229,   3.6125,     -999.0,9
318M19881207,      SAVE4,     176,          2,         23,         23,2,19881211,       0408,   -46.9717,   -58.2017,       3037,   226.0,  34.1056,2,  34.1060,2,-999.0000,9,   291.1,2,   16.72,2,   26.30,2,    0.03,2,    1.80,2,   3.707,2,   1.712,2,  2137.7,2,  2278.8,2,   784.3,2,  -999.0,9, -999.00,     3.3322,   3.3178,     -999.0,9
318M19881207,      SAVE4,     176,          2,         24,         24,2,19881211,       0408,   -46.9717,   -58.2017,       3037,   518.0,  34.2455,2,  34.2460,2,-999.0000,9,   237.8,2,   40.48,2,   31.58,2,    0.01,2,    2.16,2,   1.941,2,   0.869,2,  2196.9,2,  2306.4,2,   998.8,2,  -999.0,9, -999.00,     2.5540,   2.5229,     -999.0,9
318M19881207,      SAVE4,     176,          2,         25,         25,2,19881211,       0408,   -46.9717,   -58.2017,       3037,   723.5,  34.3810,2,  34.3810,2,-999.0000,9,   201.0,2,   57.39,2,   33.73,2,    0.00,2,    2.32,2,   0.931,2,   0.423,2,  2224.5,2,  2322.0,2,  1104.4,2,  -999.0,9, -999.00,     2.4524,   2.4081,     -999.0,9
318M19881207,      SAVE4,     176,          2,         26,         26,2,19881211,       0408,   -46.9717,   -58.2017,       3037,  1031.2,  34.5361,2,  34.5350,2,-999.0000,9,   176.0,2,   74.39,2,   34.12,2,    0.00,2,    2.36,2,   0.279,2,   0.152,2,  2242.9,2,  2330.1,2,  1200.7,2,  -999.0,9, -999.00,     2.3679,   2.3026,     -999.0,9
318M19881207,      SAVE4,     176,          2,         27,         27,2,19881211,       0408,   -46.9717,   -58.2017,       3037,  1314.6,  34.6303,2,  34.6300,2,-999.0000,9,   172.6,2,   84.26,2,   33.43,2,    0.00,2,    2.32,2,   0.111,2,   0.065,2,  2253.2,2,  2343.1,2,  1190.6,2,  -999.0,9, -999.00,     2.2178,   2.1330,     -999.0,9
318M19881207,      SAVE4,     176,          2,         28,         28,2,19881211,       0408,   -46.9717,   -58.2017,       3037,  1443.2,  34.6667,2,  34.6650,2,-999.0000,9,   176.7,2,   85.23,2,   32.65,2,    0.00,2,    2.25,2,   0.077,2,   0.055,2,  2256.2,2,  2353.3,2,  1139.1,2,  -999.0,9, -999.00,     2.2144,   2.1198,     -999.0,9
318M19881207,      SAVE4,     176,          2,         29,         29,2,19881211,       0408,   -46.9717,   -58.2017,       3037,  1648.2,  34.7136,2,  34.7140,2,-999.0000,9,   185.2,2,   84.54,2,   30.98,2,    0.00,2,    2.16,2,   0.046,2,   0.040,2,  2249.9,2,  2351.9,2,  1099.8,2,  -999.0,9, -999.00,     2.1816,   2.0712,     -999.0,9
318M19881207,      SAVE4,     176,          2,         30,         30,2,19881211,       0408,   -46.9717,   -58.2017,       3037,  1867.8,  34.7392,2,  34.7390,2,-999.0000,9,   191.9,2,   85.13,2,   30.20,2,    0.00,2,    2.10,2,   0.037,2,   0.016,2,  2247.6,2,  2356.8,2,  1050.4,2,  -999.0,9, -999.00,     2.0830,   1.9560,     -999.0,9
318M19881207,      SAVE4,     176,          2,         31,         31,2,19881211,       0408,   -46.9717,   -58.2017,       3037,  2019.3,  34.7505,2,  34.7510,2,-999.0000,9,   196.8,2,   85.81,2,   29.71,2,    0.00,2,    2.07,2,   0.034,2,   0.020,2,  2238.7,2,  2348.2,2,  1042.7,2,  -999.0,9, -999.00,     2.0085,   1.8699,     -999.0,9
318M19881207,      SAVE4,     176,          2,         32,         32,2,19881211,       0408,   -46.9717,   -58.2017,       3037,  2266.4,  34.7416,2,  34.7400,2,-999.0000,9,   197.1,2,   93.73,2,   30.30,2,    0.00,2,    2.12,2,   0.037,2,   0.016,2,  2253.7,2,  2362.6,2,  1057.9,2,  -999.0,9, -999.00,     1.7614,   1.6057,     -999.0,9
318M19881207,      SAVE4,     176,          2,         33,         33,2,19881211,       0408,   -46.9717,   -58.2017,       3037,  2473.7,  34.7348,2,  34.7340,2,-999.0000,9,   198.5,2,   99.50,2,   30.79,2,    0.00,2,    2.13,2,   0.041,2,   0.030,2,  2248.4,2,  2357.9,2,  1051.7,2,  -999.0,9, -999.00,     1.5865,   1.4159,     -999.0,9
318M19881207,      SAVE4,     176,          2,         34,         34,2,19881211,       0408,   -46.9717,   -58.2017,       3037,  2680.6,  34.7273,2,  34.7270,2,-999.0000,9,   199.5,2,  104.38,2,   31.28,2,    0.00,2,    2.17,2,   0.048,2,   0.037,2,  2253.3,2,  2362.4,2,  1058.5,2,  -999.0,9, -999.00,     1.4424,   1.2561,     -999.0,9
318M19881207,      SAVE4,     176,          2,         35,         35,2,19881211,       0408,   -46.9717,   -58.2017,       3037,  2887.6,  34.7178,2,  34.7180,2,-999.0000,9,   200.8,2,  108.49,2,   31.67,2,    0.00,2,    2.19,2,   0.066,2,   0.054,2,  2251.7,2,  2357.4,2,  1080.5,2,  -999.0,9, -999.00,     1.2742,   1.0726,     -999.0,9
318M19881207,      SAVE4,     176,          2,         36,         36,2,19881211,       0408,   -46.9717,   -58.2017,       3037,  3046.9,  34.7135,2,  34.7140,2,-999.0000,9,   203.7,2,  111.62,2,   31.77,2,    0.00,2,    2.22,2,   0.074,2,   0.054,2,  2253.3,2,  2361.4,2,  1066.8,2,  -999.0,9, -999.00,     1.1370,   0.9237,     -999.0,9