BOTTLE,20211025CCHSIORKP
# Original header:
#Changed TCARBN fill flag to 9
#Deleted  PCO2 and TCARBN from Sta230 Ca2 Btl31 2746.3db.
#BOTTLE,20110114CCHDOSIODM
#code : Justin Fields merge_exchange.rb 
#original files copied from HTML directory: 2011-01-14
#original HYD file: /Users/dave/CCHD11/SAVE/LEG4/save4_31x6Nx19881207_merged_hy1.csv  2011-01-14
EXPOCODE,SECT_ID,STNNBR,CASTNO,SAMPNO,BTLNBR,BTLNBR_FLAG_W,DATE,TIME,LATITUDE,LONGITUDE,DEPTH,CTDPRS,CTDSAL,CTDSAL_FLAG_W,SALNTY,SALNTY_FLAG_W,CTDOXY,CTDOXY_FLAG_W,OXYGEN,OXYGEN_FLAG_W,SILCAT,SILCAT_FLAG_W,NITRAT,NITRAT_FLAG_W,NITRIT,NITRIT_FLAG_W,PHSPHT,PHSPHT_FLAG_W,CFC-11,CFC-11_FLAG_W,CFC-12,CFC-12_FLAG_W,TCARBN,TCARBN_FLAG_W,ALKALI,ALKALI_FLAG_W,PCO2,PCO2_FLAG_W,REVPRS,REVPRS_FLAG_W,CTDRAW,CTDTMP,THETA,REVTMP,REVTMP_FLAG_W
,,,,,,,,,,,METERS,DBAR,PSS-78,,PSS-78,,UMOL/KG,,UMOL/KG,,UMOL/KG,,UMOL/KG,,UMOL/KG,,UMOL/KG,,PMOL/KG,,PMOL/KG,,UMOL/KG,,UMOL/KG,,UATM,,DBAR,,DBAR,ITS-68,DEG C,ITS-68,
318M19881207,      SAVE4,     171,          1,         14,         14,2,19881209,       2133,   -46.9917,   -60.8200,        204,     3.4,  33.8281,2,  33.8260,2,-999.0000,9,   380.8,2,    0.68,2,    0.49,2,    0.02,2,    0.30,2,   3.838,2,   1.832,2,  1941.4,2,  2279.2,2,   262.9,2,  -999.0,9, -999.00,     9.2463,   9.2459,     -999.0,9
318M19881207,      SAVE4,     171,          1,         13,         13,2,19881209,       2133,   -46.9917,   -60.8200,        204,     3.5,  33.8306,2,  33.8270,2,-999.0000,9,   381.7,2,    0.88,2,    0.59,2,    0.01,2,    0.28,2,-999.000,9,-999.000,9,  -999.0,9,  -999.0,9,  -999.0,9,  -999.0,9, -999.00,     9.1493,   9.1490,      9.568,2
318M19881207,      SAVE4,     171,          1,         17,         17,2,19881209,       2133,   -46.9917,   -60.8200,        204,    23.2,  33.8412,2,-999.0000,9,-999.0000,9,  -999.0,9, -999.00,9, -999.00,9, -999.00,9, -999.00,9,-999.000,9,-999.000,9,  -999.0,9,  -999.0,9,  -999.0,9,  -999.0,9, -999.00,     8.2899,   8.2876,     -999.0,9
318M19881207,      SAVE4,     171,          1,         15,         15,2,19881209,       2133,   -46.9917,   -60.8200,        204,    23.2,  33.8424,2,  33.8410,2,-999.0000,9,   342.5,2,    0.49,2,    2.74,2,    0.03,2,    0.47,2,-999.000,9,-999.000,9,  1987.8,2,  2267.6,2,   345.1,2,  -999.0,9, -999.00,     8.2909,   8.2886,     -999.0,9
318M19881207,      SAVE4,     171,          1,         16,         16,2,19881209,       2133,   -46.9917,   -60.8200,        204,    23.2,  33.8416,2,  33.8410,2,-999.0000,9,   342.5,2,    0.29,2,    2.64,2,    0.03,2,    0.42,2,-999.000,9,-999.000,9,  -999.0,9,  -999.0,9,  -999.0,9,  -999.0,9, -999.00,     8.2829,   8.2806,     -999.0,9
318M19881207,      SAVE4,     171,          1,         20,         20,2,19881209,       2133,   -46.9917,   -60.8200,        204,    33.6,  33.8617,2,  33.8550,2,-999.0000,9,   312.4,2,    0.68,2,    7.43,2,    0.08,2,    0.92,2,-999.000,9,-999.000,9,  -999.0,9,  -999.0,9,  -999.0,9,  -999.0,9, -999.00,     7.3155,   7.3124,     -999.0,9
318M19881207,      SAVE4,     171,          1,         21,         21,2,19881209,       2133,   -46.9917,   -60.8200,        204,    53.8,  33.8429,2,  33.8400,2,-999.0000,9,   289.3,2,    4.50,2,   17.31,2,    0.13,2,    1.45,2,-999.000,9,-999.000,9,  -999.0,9,  -999.0,9,  -999.0,9,  -999.0,9, -999.00,     5.6737,   5.6694,     -999.0,9
318M19881207,      SAVE4,     171,          1,         22,         22,2,19881209,       2133,   -46.9917,   -60.8200,        204,    53.8,  33.8416,2,  33.8410,2,-999.0000,9,   289.3,2,    4.69,2,   17.31,2,    0.14,2,    1.45,2,   4.271,2,   2.002,2,  2098.1,2,  2262.1,2,   661.4,2,  -999.0,9, -999.00,     5.6807,   5.6764,     -999.0,9
318M19881207,      SAVE4,     171,          1,         25,         25,2,19881209,       2133,   -46.9917,   -60.8200,        204,    84.4,  33.8547,2,-999.0000,9,-999.0000,9,  -999.0,9, -999.00,9, -999.00,9, -999.00,9, -999.00,9,-999.000,9,-999.000,9,  -999.0,9,  -999.0,9,  -999.0,9,  -999.0,9, -999.00,     5.5878,   5.5810,     -999.0,9
318M19881207,      SAVE4,     171,          1,         26,         26,2,19881209,       2133,   -46.9917,   -60.8200,        204,    84.4,  33.8557,2,  33.8550,2,-999.0000,9,   289.7,2,    4.89,2,   17.70,2,    0.13,2,    1.45,2,-999.000,9,-999.000,9,  2097.2,2,  2260.2,2,   664.8,2,  -999.0,9, -999.00,     5.5868,   5.5800,     -999.0,9
318M19881207,      SAVE4,     171,          1,         28,         28,2,19881209,       2133,   -46.9917,   -60.8200,        204,   125.7,  33.8584,2,-999.0000,9,-999.0000,9,  -999.0,9, -999.00,9, -999.00,9, -999.00,9, -999.00,9,-999.000,9,-999.000,9,  -999.0,9,  -999.0,9,  -999.0,9,  -999.0,9, -999.00,     5.5338,   5.5238,     -999.0,9
318M19881207,      SAVE4,     171,          1,         27,         27,2,19881209,       2133,   -46.9917,   -60.8200,        204,   125.7,  33.8584,2,  33.8580,2,-999.0000,9,   291.9,2,    4.69,2,   17.80,2,    0.14,2,    1.45,2,-999.000,9,-999.000,9,  2093.3,2,  2259.1,2,   652.7,2,  -999.0,9, -999.00,     5.5338,   5.5238,     -999.0,9
318M19881207,      SAVE4,     171,          1,         31,         31,2,19881209,       2133,   -46.9917,   -60.8200,        204,   166.2,  33.8628,2,  33.8610,2,-999.0000,9,  -999.0,9,    5.09,2,   18.19,2,    0.12,2,    1.45,2,-999.000,9,-999.000,9,  -999.0,9,  -999.0,9,  -999.0,9,  -999.0,9, -999.00,     5.4729,   5.4596,     -999.0,9
318M19881207,      SAVE4,     171,          1,         32,         32,2,19881209,       2133,   -46.9917,   -60.8200,        204,   166.4,  33.8627,2,  33.8630,2,-999.0000,9,   292.3,2,    5.09,2,   18.19,2,    0.13,2,    1.46,2,-999.000,9,-999.000,9,  -999.0,9,  -999.0,9,  -999.0,9,  -999.0,9, -999.00,     5.4729,   5.4596,     -999.0,9
318M19881207,      SAVE4,     171,          1,         33,         33,2,19881209,       2133,   -46.9917,   -60.8200,        204,   200.1,  33.8841,2,  33.8770,2,-999.0000,9,   290.6,2,    5.28,2,   18.39,2,    0.09,2,    1.45,2,-999.000,9,-999.000,9,  -999.0,9,  -999.0,9,  -999.0,9,  -999.0,9, -999.00,     5.5398,   5.5237,     -999.0,9
318M19881207,      SAVE4,     171,          1,         35,         35,2,19881209,       2133,   -46.9917,   -60.8200,        204,   200.2,  33.8923,2,-999.0000,9,-999.0000,9,  -999.0,9, -999.00,9, -999.00,9, -999.00,9, -999.00,9,-999.000,9,-999.000,9,  -999.0,9,  -999.0,9,  -999.0,9,   197.1,2, -999.00,     5.5768,   5.5606,      5.569,2
318M19881207,      SAVE4,     171,          1,         36,         36,2,19881209,       2133,   -46.9917,   -60.8200,        204,   209.4,  33.8937,2,  33.8960,2,-999.0000,9,   290.6,2,    5.48,2,   18.48,2,    0.09,2,    1.47,2,   4.226,2,   2.022,2,  2102.7,2,  2268.3,2,   658.9,2,  -999.0,9, -999.00,     5.5188,   5.5020,     -999.0,9
318M19881207,      SAVE4,     172,          1,         25,         25,2,19881210,       0306,   -46.9867,   -60.3867,        531,     2.9,  33.9954,2,  33.9970,2,-999.0000,9,   341.8,2,    0.39,2,    5.18,2,    0.15,2,    0.37,2,   3.822,2,   1.825,2,  1989.3,2,  2280.1,2,   331.4,2,  -999.0,9, -999.00,     9.0902,   9.0899,     -999.0,9
318M19881207,      SAVE4,     172,          1,         26,         26,2,19881210,       0306,   -46.9867,   -60.3867,        531,    19.4,  33.9977,2,  33.9990,2,-999.0000,9,   340.7,2,    0.39,2,    5.57,2,    0.15,2,    0.40,2,-999.000,9,-999.000,9,  1994.8,2,  2276.7,2,   345.4,2,  -999.0,9, -999.00,     8.6909,   8.6889,     -999.0,9
318M19881207,      SAVE4,     172,          1,         27,         27,2,19881210,       0306,   -46.9867,   -60.3867,        531,    60.2,  34.0097,2,  34.0090,2,-999.0000,9,   304.4,2,    0.59,2,   10.07,2,    0.16,2,    0.85,2,-999.000,9,-999.000,9,  2055.2,2,  2272.5,2,   485.8,2,  -999.0,9, -999.00,     7.4299,   7.4242,     -999.0,9
318M19881207,      SAVE4,     172,          1,         28,         28,2,19881210,       0306,   -46.9867,   -60.3867,        531,    95.9,  34.0224,2,  34.0260,2,-999.0000,9,   300.0,2,    5.48,2,   18.48,2,    0.25,2,    1.47,2,   4.284,2,   2.001,2,  2098.6,2,  2271.4,2,   634.1,2,  -999.0,9, -999.00,     5.4314,   5.4238,     -999.0,9
318M19881207,      SAVE4,     172,          1,         29,         29,2,19881210,       0306,   -46.9867,   -60.3867,        531,   137.0,  34.0878,2,  34.0880,2,-999.0000,9,   294.8,2,    5.28,2,   21.71,2,    0.12,2,    1.56,2,-999.000,9,-999.000,9,  2109.4,2,  2269.7,2,   685.5,2,  -999.0,9, -999.00,     4.8453,   4.8351,     -999.0,9
318M19881207,      SAVE4,     172,          1,         30,         30,2,19881210,       0306,   -46.9867,   -60.3867,        531,   188.2,  34.1081,2,  34.1070,2,-999.0000,9,   297.7,2,    6.06,2,   21.71,2,    0.10,2,    1.57,2,-999.000,9,-999.000,9,  -999.0,9,  -999.0,9,  -999.0,9,  -999.0,9, -999.00,     4.7564,   4.7423,     -999.0,9
318M19881207,      SAVE4,     172,          1,         31,         31,2,19881210,       0306,   -46.9867,   -60.3867,        531,   259.8,  34.1162,2,  34.1170,2,-999.0000,9,   298.3,2,    6.06,2,   21.61,2,    0.07,2,    1.56,2,-999.000,9,-999.000,9,  2113.8,2,  2275.3,2,   683.8,2,  -999.0,9, -999.00,     4.6713,   4.6519,     -999.0,9
318M19881207,      SAVE4,     172,          1,         32,         32,2,19881210,       0306,   -46.9867,   -60.3867,        531,   311.0,  34.1272,2,  34.1270,2,-999.0000,9,   295.1,2,    7.43,2,   22.10,2,    0.07,2,    1.58,2,   4.030,2,   1.843,2,  -999.0,9,  -999.0,9,  -999.0,9,  -999.0,9, -999.00,     4.6500,   4.6267,     -999.0,9
318M19881207,      SAVE4,     172,          1,         33,         33,2,19881210,       0306,   -46.9867,   -60.3867,        531,   362.0,  34.1398,2,  34.1390,2,-999.0000,9,   290.6,2,    9.39,2,   22.88,2,    0.05,2,    1.64,2,-999.000,9,-999.000,9,  2118.6,2,  2275.9,2,   703.9,2,  -999.0,9, -999.00,     4.6032,   4.5761,     -999.0,9
318M19881207,      SAVE4,     172,          1,         34,         34,2,19881210,       0306,   -46.9867,   -60.3867,        531,   413.0,  34.1487,2,  34.1480,2,-999.0000,9,   286.6,2,   11.54,2,   23.47,2,    0.02,2,    1.68,2,   3.724,2,   1.675,2,  -999.0,9,  -999.0,9,  -999.0,9,  -999.0,9, -999.00,     4.5260,   4.4951,     -999.0,9
318M19881207,      SAVE4,     172,          1,         35,         35,2,19881210,       0306,   -46.9867,   -60.3867,        531,   464.4,  34.1595,2,  34.1610,2,-999.0000,9,   278.5,2,   14.18,2,   24.54,2,    0.01,2,    1.76,2,   3.337,2,   1.572,2,  2133.1,2,  2280.6,2,   753.7,2,  -999.0,9, -999.00,     4.4718,   4.4371,     -999.0,9
318M19881207,      SAVE4,     172,          1,         36,         36,2,19881210,       0306,   -46.9867,   -60.3867,        531,   525.1,  34.1623,2,  34.1660,2,-999.0000,9,   274.9,2,   15.35,2,   25.03,2,    0.03,2,    1.80,2,   3.277,2,   1.509,2,  2136.3,2,  2281.9,2,   764.3,2,  -999.0,9, -999.00,     4.4005,   4.3613,     -999.0,9
318M19881207,      SAVE4,     173,          1,         25,         25,2,19881210,       0748,   -47.0067,   -59.5767,       1001,    13.9,  34.2546,2,  34.2525,2,-999.0000,9,   297.6,2,    1.47,2,   11.93,2,    0.16,2,    0.91,2,   3.809,2,   1.798,2,  2059.9,2,  2282.6,2,   478.8,2,  -999.0,9, -999.00,     8.9951,   8.9937,     -999.0,9
318M19881207,      SAVE4,     173,          1,         26,         26,2,19881210,       0748,   -47.0067,   -59.5767,       1001,    44.6,  34.1822,2,  34.1884,2,-999.0000,9,   304.1,2,    2.15,2,   13.79,2,    0.15,2,    1.05,2,-999.000,9,-999.000,9,  2071.7,2,  2278.7,2,   521.0,2,  -999.0,9, -999.00,     7.8735,   7.8691,     -999.0,9
318M19881207,      SAVE4,     173,          1,         27,         27,2,19881210,       0748,   -47.0067,   -59.5767,       1001,    80.2,  34.1025,2,  34.1045,2,-999.0000,9,   302.3,2,    4.89,2,   17.99,2,    0.14,2,    1.41,2,   4.131,2,   1.907,2,  2099.1,2,  2278.0,2,   614.7,2,  -999.0,9, -999.00,     5.7322,   5.7256,     -999.0,9
318M19881207,      SAVE4,     173,          1,         28,         28,2,19881210,       0748,   -47.0067,   -59.5767,       1001,   105.6,  34.1005,2,  34.0987,2,-999.0000,9,   299.6,2,    7.04,2,   20.83,2,    0.14,2,    1.53,2,-999.000,9,-999.000,9,  2111.4,2,  2278.4,2,   662.1,2,  -999.0,9, -999.00,     4.8557,   4.8478,     -999.0,9
318M19881207,      SAVE4,     173,          1,         29,         29,2,19881210,       0748,   -47.0067,   -59.5767,       1001,   207.5,  34.1289,2,  34.1293,2,-999.0000,9,   295.7,2,    8.90,2,   22.20,2,    0.02,2,    1.56,2,   3.908,2,   1.804,2,  2121.9,2,  2281.3,2,   696.7,2,  -999.0,9, -999.00,     4.6604,   4.6450,     -999.0,9
318M19881207,      SAVE4,     173,          1,         30,         30,2,19881210,       0748,   -47.0067,   -59.5767,       1001,   309.5,  34.1514,2,  34.1507,2,-999.0000,9,   286.5,2,   12.12,2,   24.45,2,    0.01,2,    1.74,2,   3.516,2,   1.627,2,  2127.9,2,  2280.2,2,   730.3,2,  -999.0,9, -999.00,     4.3796,   4.3571,     -999.0,9
318M19881207,      SAVE4,     173,          1,         31,         31,2,19881210,       0748,   -47.0067,   -59.5767,       1001,   452.0,  34.1526,2,  34.1512,2,-999.0000,9,   280.9,2,   15.35,2,   25.52,2,    0.01,2,    1.78,2,   3.269,2,   1.512,2,  2137.9,2,  2281.2,2,   775.2,2,  -999.0,9, -999.00,     3.9593,   3.9274,     -999.0,9
318M19881207,      SAVE4,     173,          1,         32,         32,2,19881210,       0748,   -47.0067,   -59.5767,       1001,   542.9,  34.1414,2,  34.1412,2,-999.0000,9,   276.5,2,   19.17,2,   26.69,2,    0.01,2,    1.86,2,   3.140,2,   1.450,2,  2160.8,2,  2299.4,2,   810.3,2,  -999.0,9, -999.00,     3.5217,   3.4849,     -999.0,9
318M19881207,      SAVE4,     173,          1,         33,         33,2,19881210,       0748,   -47.0067,   -59.5767,       1001,   677.6,  34.2284,2,  34.2283,2,-999.0000,9,   240.0,2,   32.27,2,   30.11,2,    0.00,2,    2.09,2,   1.915,2,   0.861,2,  2180.0,2,  2300.8,2,   919.5,2,  -999.0,9, -999.00,     3.2499,   3.2046,     -999.0,9
318M19881207,      SAVE4,     173,          1,         34,         34,2,19881210,       0748,   -47.0067,   -59.5767,       1001,   770.6,  34.2907,2,  34.2927,2,-999.0000,9,   220.8,2,   42.33,2,   31.68,2,    0.01,2,    2.20,2,   1.323,2,   0.603,2,  2198.4,2,  2312.9,2,   971.4,2,  -999.0,9, -999.00,     3.0335,   2.9826,     -999.0,9
318M19881207,      SAVE4,     173,          1,         35,         35,2,19881210,       0748,   -47.0067,   -59.5767,       1001,   863.6,  34.3320,2,  34.3324,2,-999.0000,9,   211.7,2,   50.35,2,   32.65,2,    0.01,2,    2.27,2,   1.163,2,   0.524,2,  2211.4,2,  2312.0,2,  1071.7,2,   863.3,2, -999.00,     2.7235,   2.6679,      2.720,2
318M19881207,      SAVE4,     173,          1,         36,         36,2,19881210,       0748,   -47.0067,   -59.5767,       1001,   986.3,  34.3415,2,  34.3414,2,-999.0000,9,   208.6,2,   51.82,2,   32.85,2,    0.01,2,    2.31,2,   1.093,2,   0.492,2,  2213.6,2,  2313.6,2,  1077.8,2,  -999.0,9, -999.00,     2.7086,   2.6442,     -999.0,9