BOTTLE,20211025CCHSIORKP
EXPOCODE,SECT_ID,STNNBR,CASTNO,SAMPNO,BTLNBR,BTLNBR_FLAG_W,DATE,TIME,LATITUDE,LONGITUDE,DEPTH,CTDPRS,CTDSAL,CTDSAL_FLAG_W,SALNTY,SALNTY_FLAG_W,CTDOXY,CTDOXY_FLAG_W,OXYGEN,OXYGEN_FLAG_W,SILCAT,SILCAT_FLAG_W,NITRAT,NITRAT_FLAG_W,NITRIT,NITRIT_FLAG_W,PHSPHT,PHSPHT_FLAG_W,CFC-11,CFC-11_FLAG_W,CFC-12,CFC-12_FLAG_W,TCARBN,TCARBN_FLAG_W,ALKALI,ALKALI_FLAG_W,PCO2,PCO2_FLAG_W,REVPRS,REVPRS_FLAG_W,CTDRAW,CTDTMP,THETA,REVTMP,REVTMP_FLAG_W
,,,,,,,,,,,METERS,DBAR,PSS-78,,PSS-78,,UMOL/KG,,UMOL/KG,,UMOL/KG,,UMOL/KG,,UMOL/KG,,UMOL/KG,,PMOL/KG,,PMOL/KG,,UMOL/KG,,UMOL/KG,,UATM,,DBAR,,DBAR,ITS-68,DEG C,ITS-68,
318M19881207,      SAVE4,     229,          1,          1,          1,2,19890111,       1611,   -29.9750,    11.9767,       3948,     1.4,  35.6100,2,-999.0000,9,-999.0000,9,   233.6,2,    3.22,2,    0.00,2,    0.00,2,    0.12,2,   2.041,2,   1.017,2,  2017.0,2,  2338.2,2,   315.0,2,  -999.0,9, -999.00,    21.5513,  21.5511,     21.535,2
318M19881207,      SAVE4,     229,          1,          2,          2,2,19890111,       1611,   -29.9750,    11.9767,       3948,    45.8,  35.5496,2,-999.0000,9,-999.0000,9,   246.9,2,    2.93,2,    0.00,2,    0.00,2,    0.14,2,   2.114,2,   1.178,2,  2027.9,2,  2334.9,2,   335.2,2,  -999.0,9, -999.00,    18.2081,  18.2001,     -999.0,9
318M19881207,      SAVE4,     229,          1,          3,          3,2,19890111,       1611,   -29.9750,    11.9767,       3948,    91.9,  35.4530,2,  35.4472,2,-999.0000,9,   233.7,2,    3.13,2,    2.44,2,    0.06,2,    0.32,2,   2.278,2,   1.276,2,  -999.0,9,  -999.0,9,  -999.0,9,  -999.0,9, -999.00,    15.5379,  15.5236,     -999.0,9
318M19881207,      SAVE4,     229,          1,          4,          4,2,19890111,       1611,   -29.9750,    11.9767,       3948,   153.5,  35.2890,2,  35.2889,2,-999.0000,9,   221.9,2,    4.40,2,    6.06,2,    0.02,2,    0.52,2,   2.291,2,   1.120,2,  -999.0,9,  -999.0,9,  -999.0,9,  -999.0,9, -999.00,    14.3933,  14.3707,     -999.0,9
318M19881207,      SAVE4,     229,          1,          5,          5,2,19890111,       1611,   -29.9750,    11.9767,       3948,   240.2,  35.0788,2,  35.0738,2,-999.0000,9,   214.5,2,    5.28,2,   10.55,2,    0.01,2,    0.78,2,   1.966,2,   0.954,2,  -999.0,9,  -999.0,9,  -999.0,9,  -999.0,9, -999.00,    12.5611,  12.5288,     -999.0,9
318M19881207,      SAVE4,     229,          1,          6,          6,2,19890111,       1611,   -29.9750,    11.9767,       3948,   321.8,  34.9353,2,  34.9340,2,-999.0000,9,   210.5,2,    6.55,2,   13.78,2,    0.00,2,    0.99,2,   1.660,2,   0.813,2,  -999.0,9,  -999.0,9,  -999.0,9,  -999.0,9, -999.00,    11.2348,  11.1944,     -999.0,9
318M19881207,      SAVE4,     229,          1,          7,          7,2,19890111,       1611,   -29.9750,    11.9767,       3948,   403.2,  34.7312,2,  34.7305,2,-999.0000,9,   209.6,2,    9.29,2,   17.98,2,    0.00,2,    1.25,2,   1.529,2,   0.794,2,  -999.0,9,  -999.0,9,  -999.0,9,  -999.0,9, -999.00,     9.5147,   9.4690,     -999.0,9
318M19881207,      SAVE4,     229,          1,          8,          8,2,19890111,       1611,   -29.9750,    11.9767,       3948,   516.3,  34.5386,2,  34.5450,2,-999.0000,9,   195.2,2,   15.64,2,   24.63,2,    0.00,2,    1.67,2,   1.227,2,   0.579,2,  -999.0,9,  -999.0,9,  -999.0,9,  -999.0,9, -999.00,     7.4770,   7.4260,     -999.0,9
318M19881207,      SAVE4,     229,          1,          9,          9,2,19890111,       1611,   -29.9750,    11.9767,       3948,   618.8,  34.3851,2,  34.3860,2,-999.0000,9,   215.2,2,   21.12,2,   27.18,2,    0.00,2,    1.84,2,   1.222,2,   0.564,2,  -999.0,9,  -999.0,9,  -999.0,9,  -999.0,9, -999.00,     5.6602,   5.6073,     -999.0,9
318M19881207,      SAVE4,     229,          1,         10,         10,2,19890111,       1611,   -29.9750,    11.9767,       3948,   720.4,  34.3286,2,  34.3291,2,-999.0000,9,   217.8,2,   27.37,2,   29.43,2,    0.00,2,    1.99,2,   1.054,2,   0.516,2,  -999.0,9,  -999.0,9,  -999.0,9,  -999.0,9, -999.00,     4.5530,   4.4971,     -999.0,9
318M19881207,      SAVE4,     229,          1,         11,         11,2,19890111,       1611,   -29.9750,    11.9767,       3948,   822.2,  34.3556,2,  34.3553,2,-999.0000,9,   203.9,2,   37.44,2,   31.58,2,    0.00,2,    2.12,2,   0.643,2,   0.296,2,  -999.0,9,  -999.0,9,  -999.0,9,  -999.0,9, -999.00,     3.9485,   3.8879,     -999.0,9
318M19881207,      SAVE4,     229,          1,         12,         12,2,19890111,       1611,   -29.9750,    11.9767,       3948,   924.2,  34.3854,2,  34.3865,2,-999.0000,9,   196.0,2, -999.00,9, -999.00,9, -999.00,9, -999.00,9,   0.441,2,   0.215,2,  -999.0,9,  -999.0,9,  -999.0,9,  -999.0,9, -999.00,     3.5308,   3.4649,     -999.0,9
318M19881207,      SAVE4,     229,          1,         13,         13,2,19890111,       1611,   -29.9750,    11.9767,       3948,   985.3,  34.4228,2,  34.4248,2,-999.0000,9,   189.5,2,   49.86,2,   33.04,2,    0.00,2,    2.23,2,   0.289,2,   0.143,2,  -999.0,9,  -999.0,9,  -999.0,9,  -999.0,9, -999.00,     3.3809,   3.3113,     -999.0,9
318M19881207,      SAVE4,     229,          1,         14,         14,2,19890111,       1611,   -29.9750,    11.9767,       3948,  1055.9,  34.4663,2,  34.4705,2,-999.0000,9,   183.9,2,   55.92,2,   33.34,2,    0.00,2,    2.27,2,   0.168,2,   0.087,2,  -999.0,9,  -999.0,9,  -999.0,9,  -999.0,9, -999.00,     3.1551,   3.0817,     -999.0,9
318M19881207,      SAVE4,     229,          1,         15,         15,2,19890111,       1611,   -29.9750,    11.9767,       3948,  1128.6,  34.5112,2,  34.5129,2,-999.0000,9,   180.4,2,   59.24,2,   33.43,2,    0.00,2,    2.27,2,-999.000,9,-999.000,9,  -999.0,9,  -999.0,9,  -999.0,9,  -999.0,9, -999.00,     3.0362,   2.9581,     -999.0,9
318M19881207,      SAVE4,     229,          1,         16,         16,2,19890111,       1611,   -29.9750,    11.9767,       3948,  1231.0,  34.5655,2,  34.5673,2,-999.0000,9,   177.8,2,   63.64,2,   33.14,2,    0.00,2,    2.24,2,   0.067,2,   0.028,2,  -999.0,9,  -999.0,9,  -999.0,9,  -999.0,9, -999.00,     2.9213,   2.8361,     -999.0,9
318M19881207,      SAVE4,     229,          1,         17,         17,2,19890111,       1611,   -29.9750,    11.9767,       3948,  1334.2,  34.6471,2,  34.6488,2,-999.0000,9,   183.4,2,   59.82,2,   31.57,2,    0.00,2,    2.13,2,   0.014,2,   0.011,2,  -999.0,9,  -999.0,9,  -999.0,9,  -999.0,9, -999.00,     2.9343,   2.8406,     -999.0,9
318M19881207,      SAVE4,     229,          1,         18,         18,2,19890111,       1611,   -29.9750,    11.9767,       3948,  1435.9,  34.6982,2,  34.7007,2,-999.0000,9,   189.5,2,   56.69,2,   30.20,2,    0.00,2,    2.04,2,-999.000,9,-999.000,9,  -999.0,9,  -999.0,9,  -999.0,9,  -999.0,9, -999.00,     2.9453,   2.8430,     -999.0,9
318M19881207,      SAVE4,     229,          1,         19,         19,2,19890111,       1611,   -29.9750,    11.9767,       3948,  1539.3,  34.7608,2,  34.7622,2,-999.0000,9,   198.6,2,   50.14,2,   28.15,2,    0.00,2,    1.92,2,   0.000,2,-999.000,9,  -999.0,9,  -999.0,9,  -999.0,9,  -999.0,9, -999.00,     3.0372,   2.9251,     -999.0,9
318M19881207,      SAVE4,     229,          1,         20,         20,2,19890111,       1611,   -29.9750,    11.9767,       3948,  1642.3,  34.7896,2,  34.7905,2,-999.0000,9,   205.5,2,   48.67,2,   27.27,2,    0.00,2,    1.84,2,-999.000,9,-999.000,9,  -999.0,9,  -999.0,9,  -999.0,9,  -999.0,9, -999.00,     2.9792,   2.8590,     -999.0,9
318M19881207,      SAVE4,     229,          1,         21,         21,2,19890111,       1611,   -29.9750,    11.9767,       3948,  1743.8,  34.8154,2,  34.8184,2,-999.0000,9,   212.9,2,   46.62,2,   26.49,2,    0.00,2,    1.77,2,-999.000,9,-999.000,9,  -999.0,9,  -999.0,9,  -999.0,9,  -999.0,9, -999.00,     2.9822,   2.8532,     -999.0,9
318M19881207,      SAVE4,     229,          1,         22,         22,2,19890111,       1611,   -29.9750,    11.9767,       3948,  1847.9,  34.8363,2,-999.0000,9,-999.0000,9,   216.8,2,   44.86,2,   25.70,2,    0.00,2,    1.72,2,-999.000,9,-999.000,9,  -999.0,9,  -999.0,9,  -999.0,9,  -999.0,9, -999.00,     2.9692,   2.8311,     -999.0,9
318M19881207,      SAVE4,     229,          1,         23,         23,2,19890111,       1611,   -29.9750,    11.9767,       3948,  2002.7,  34.8580,2,  34.8616,2,-999.0000,9,   223.3,2,   43.20,2,   24.63,2,    0.00,2,    1.64,2,   0.000,2,-999.000,9,  -999.0,9,  -999.0,9,  -999.0,9,  -999.0,9, -999.00,     2.9093,   2.7581,     -999.0,9
318M19881207,      SAVE4,     229,          1,         24,         24,2,19890111,       1611,   -29.9750,    11.9767,       3948,  2158.2,  34.8658,2,  34.8675,2,-999.0000,9,   227.2,2,   43.20,2,   24.04,2,    0.00,2,    1.61,2,-999.000,9,-999.000,9,  -999.0,9,  -999.0,9,  -999.0,9,  -999.0,9, -999.00,     2.8244,   2.6603,     -999.0,9
318M19881207,      SAVE4,     229,          1,         25,         25,2,19890111,       1611,   -29.9750,    11.9767,       3948,  2311.2,  34.8654,2,  34.8677,2,-999.0000,9,   229.0,2,   45.25,2,   24.04,2,    0.00,2,    1.60,2,-999.000,9,-999.000,9,  -999.0,9,  -999.0,9,  -999.0,9,  -999.0,9, -999.00,     2.7174,   2.5409,     -999.0,9
318M19881207,      SAVE4,     229,          1,         26,         26,2,19890111,       1611,   -29.9750,    11.9767,       3948,  2467.3,  34.8603,2,  34.8620,2,-999.0000,9,   229.8,2,   48.86,2,   24.24,2,    0.00,2,    1.62,2,-999.000,9,-999.000,9,  -999.0,9,  -999.0,9,  -999.0,9,  -999.0,9, -999.00,     2.5885,   2.3996,     -999.0,9
318M19881207,      SAVE4,     229,          1,         27,         27,2,19890111,       1611,   -29.9750,    11.9767,       3948,  2622.9,  34.8570,2,  34.8583,2,-999.0000,9,   230.7,2,   51.80,2,   24.43,2,    0.00,2,    1.62,2,   0.002,2,   0.000,2,  -999.0,9,  -999.0,9,  -999.0,9,  -999.0,9, -999.00,     2.4856,   2.2837,     -999.0,9
318M19881207,      SAVE4,     229,          1,         28,         28,2,19890111,       1611,   -29.9750,    11.9767,       3948,  2777.5,  34.8588,2,  34.8596,2,-999.0000,9,   232.0,2,   52.77,2,   24.33,2,    0.00,2,    1.62,2,-999.000,9,-999.000,9,  -999.0,9,  -999.0,9,  -999.0,9,  -999.0,9, -999.00,     2.4307,   2.2148,     -999.0,9
318M19881207,      SAVE4,     229,          1,         29,         29,2,19890111,       1611,   -29.9750,    11.9767,       3948,  2932.8,  34.8584,2,  34.8612,2,-999.0000,9,   232.5,2,   54.44,2,   24.33,2,    0.00,2,    1.62,2,-999.000,9,-999.000,9,  -999.0,9,  -999.0,9,  -999.0,9,  -999.0,9, -999.00,     2.3817,   2.1515,     -999.0,9
318M19881207,      SAVE4,     229,          1,         30,         30,2,19890111,       1611,   -29.9750,    11.9767,       3948,  3088.6,  34.8579,2,  34.8600,2,-999.0000,9,   232.0,2,   55.41,2,   24.33,2,    0.00,2,    1.62,2,-999.000,9,-999.000,9,  -999.0,9,  -999.0,9,  -999.0,9,  -999.0,9, -999.00,     2.3357,   2.0908,     -999.0,9
318M19881207,      SAVE4,     229,          1,         31,         31,2,19890111,       1611,   -29.9750,    11.9767,       3948,  3243.8,  34.8565,2,  34.8588,2,-999.0000,9,   231.6,2,   57.66,2,   24.33,2,    0.00,2,    1.63,2,   0.004,2,   0.001,2,  -999.0,9,  -999.0,9,  -999.0,9,  -999.0,9, -999.00,     2.2928,   2.0328,     -999.0,9
318M19881207,      SAVE4,     229,          1,         32,         32,2,19890111,       1611,   -29.9750,    11.9767,       3948,  3400.6,  34.8529,2,  34.8529,2,-999.0000,9,   231.1,2,   60.40,2,   24.73,2,    0.00,2,    1.65,2,-999.000,9,-999.000,9,  -999.0,9,  -999.0,9,  -999.0,9,  3403.9,2, -999.00,     2.2308,   1.9560,      2.228,2
318M19881207,      SAVE4,     229,          1,         33,         33,2,19890111,       1611,   -29.9750,    11.9767,       3948,  3557.2,  34.8415,2,  34.8431,2,-999.0000,9,   229.0,2,   65.38,2,   25.31,2,    0.00,2,    1.69,2,-999.000,9,-999.000,9,  -999.0,9,  -999.0,9,  -999.0,9,  -999.0,9, -999.00,     2.1229,   1.8342,     -999.0,9
318M19881207,      SAVE4,     229,          1,         34,         34,2,19890111,       1611,   -29.9750,    11.9767,       3948,  3713.1,  34.8261,2,  34.8257,2,-999.0000,9,   226.8,2,   71.34,2,   26.09,2,    0.00,2,    1.75,2,-999.000,9,-999.000,9,  -999.0,9,  -999.0,9,  -999.0,9,  -999.0,9, -999.00,     1.9820,   1.6803,     -999.0,9
318M19881207,      SAVE4,     229,          1,         35,         35,2,19890111,       1611,   -29.9750,    11.9767,       3948,  3868.7,  34.8017,2,  34.8021,2,-999.0000,9,   222.9,2,   79.55,2,   27.17,2,    0.00,2,    1.83,2,-999.000,9,   0.001,2,  -999.0,9,  -999.0,9,  -999.0,9,  3861.9,2, -999.00,     1.7662,   1.4535,      1.765,2
318M19881207,      SAVE4,     229,          1,         36,         36,2,19890111,       1611,   -29.9750,    11.9767,       3948,  4006.1,  34.7413,2,  34.7418,2,-999.0000,9,   213.8,2,  106.44,2,   30.59,2,    0.00,2,    2.06,2,   0.001,2,   0.001,2,  -999.0,9,  -999.0,9,  -999.0,9,  -999.0,9, -999.00,     1.1278,   0.8184,     -999.0,9