BOTTLE,20211025CCHSIORKP
EXPOCODE,SECT_ID,STNNBR,CASTNO,SAMPNO,BTLNBR,BTLNBR_FLAG_W,DATE,TIME,LATITUDE,LONGITUDE,DEPTH,CTDPRS,CTDSAL,CTDSAL_FLAG_W,SALNTY,SALNTY_FLAG_W,CTDOXY,CTDOXY_FLAG_W,OXYGEN,OXYGEN_FLAG_W,SILCAT,SILCAT_FLAG_W,NITRAT,NITRAT_FLAG_W,NITRIT,NITRIT_FLAG_W,PHSPHT,PHSPHT_FLAG_W,CFC-11,CFC-11_FLAG_W,CFC-12,CFC-12_FLAG_W,TCARBN,TCARBN_FLAG_W,ALKALI,ALKALI_FLAG_W,PCO2,PCO2_FLAG_W,REVPRS,REVPRS_FLAG_W,CTDRAW,CTDTMP,THETA,REVTMP,REVTMP_FLAG_W
,,,,,,,,,,,METERS,DBAR,PSS-78,,PSS-78,,UMOL/KG,,UMOL/KG,,UMOL/KG,,UMOL/KG,,UMOL/KG,,UMOL/KG,,PMOL/KG,,PMOL/KG,,UMOL/KG,,UMOL/KG,,UATM,,DBAR,,DBAR,ITS-68,DEG C,ITS-68,
318M19881207,      SAVE4,     187,          2,          2,          2,2,19881216,       1805,   -47.0017,   -47.0050,       5771,     2.9,  34.6648,2,  34.6720,2,-999.0000,9,  -999.0,9, -999.00,9, -999.00,9, -999.00,9, -999.00,9,   3.210,2,   1.529,2,  2059.0,2,  -999.0,9,   441.7,2,  -999.0,9, -999.00,    11.0571,  11.0567,     -999.0,9
318M19881207,      SAVE4,     187,          2,          1,          1,2,19881216,       1805,   -47.0017,   -47.0050,       5771,     3.0,  34.6648,2,  34.6700,2,-999.0000,9,   274.1,2,    1.61,2,    7.50,2,    0.27,2,    0.68,2,-999.000,9,-999.000,9,  -999.0,9,  -999.0,9,  -999.0,9,  -999.0,9, -999.00,    11.0573,  11.0569,     11.060,2
318M19881207,      SAVE4,     187,          2,          4,          4,2,19881216,       1805,   -47.0017,   -47.0050,       5771,    12.4,  34.6680,2,  34.6730,2,-999.0000,9,  -999.0,9, -999.00,9, -999.00,9, -999.00,9, -999.00,9,   3.246,2,   1.563,2,  2056.1,2,  -999.0,9,   461.9,2,  -999.0,9, -999.00,    11.0540,  11.0525,     -999.0,9
318M19881207,      SAVE4,     187,          2,          3,          3,2,19881216,       1805,   -47.0017,   -47.0050,       5771,    12.5,  34.6676,2,  34.6730,2,-999.0000,9,   277.3,2,    1.60,2,    7.50,2,    0.27,2,    0.68,2,-999.000,9,-999.000,9,  -999.0,9,  -999.0,9,  -999.0,9,  -999.0,9, -999.00,    11.0563,  11.0548,     -999.0,9
318M19881207,      SAVE4,     187,          2,          5,          5,2,19881216,       1805,   -47.0017,   -47.0050,       5771,   111.6,  34.8814,2,  34.8860,2,-999.0000,9,   255.4,2,    2.73,2,   11.27,2,    0.03,2,    0.88,2,-999.000,9,-999.000,9,  -999.0,9,  -999.0,9,  -999.0,9,  -999.0,9, -999.00,    10.0843,  10.0714,     -999.0,9
318M19881207,      SAVE4,     187,          2,          6,          6,2,19881216,       1805,   -47.0017,   -47.0050,       5771,   111.7,  34.8802,2,  34.8850,2,-999.0000,9,  -999.0,9, -999.00,9, -999.00,9, -999.00,9, -999.00,9,   3.146,2,   1.530,2,  2089.1,2,  -999.0,9,   513.0,2,   112.4,2, -999.00,    10.0796,  10.0667,     10.082,2
318M19881207,      SAVE4,     187,          2,          7,          7,2,19881216,       1805,   -47.0017,   -47.0050,       5771,   163.7,  34.5636,2,  34.5660,2,-999.0000,9,   265.9,2,    4.82,2,   16.15,2,    0.03,2,    1.20,2,   3.281,2,   1.570,2,  -999.0,9,  -999.0,9,  -999.0,9,  -999.0,9, -999.00,     8.2101,   8.1934,     -999.0,9
318M19881207,      SAVE4,     187,          2,          8,          8,2,19881216,       1805,   -47.0017,   -47.0050,       5771,   163.8,  34.5621,2,  34.5630,2,-999.0000,9,  -999.0,9, -999.00,9, -999.00,9, -999.00,9, -999.00,9,-999.000,9,-999.000,9,  2100.4,2,  -999.0,9,   592.8,2,  -999.0,9, -999.00,     8.2087,   8.1920,     -999.0,9
318M19881207,      SAVE4,     187,          2,         10,         10,2,19881216,       1805,   -47.0017,   -47.0050,       5771,   214.5,  34.4396,2,  34.4270,2,-999.0000,9,  -999.0,9, -999.00,9, -999.00,9, -999.00,9, -999.00,9,   3.317,2,   1.590,2,  2108.4,2,  -999.0,9,   633.7,2,  -999.0,9, -999.00,     7.3538,   7.3332,     -999.0,9
318M19881207,      SAVE4,     187,          2,          9,          9,2,19881216,       1805,   -47.0017,   -47.0050,       5771,   214.8,  34.4536,2,  34.4350,2,-999.0000,9,   267.0,2,    6.14,2,   18.78,2,    0.03,2,    1.37,2,-999.000,9,-999.000,9,  -999.0,9,  -999.0,9,  -999.0,9,  -999.0,9, -999.00,     7.4401,   7.4194,     -999.0,9
318M19881207,      SAVE4,     187,          2,         11,         11,2,19881216,       1805,   -47.0017,   -47.0050,       5771,   265.9,  34.2788,2,  34.2840,2,-999.0000,9,   266.9,2,    7.84,2,   22.09,2,    0.02,2,    1.57,2,-999.000,9,-999.000,9,  -999.0,9,  -999.0,9,  -999.0,9,  -999.0,9, -999.00,     6.1229,   6.0999,     -999.0,9
318M19881207,      SAVE4,     187,          2,         12,         12,2,19881216,       1805,   -47.0017,   -47.0050,       5771,   266.0,  34.2790,2,-999.0000,9,-999.0000,9,  -999.0,9, -999.00,9, -999.00,9, -999.00,9, -999.00,9,   3.295,2,   1.555,2,  2110.1,2,  -999.0,9,   635.7,2,  -999.0,9, -999.00,     6.1190,   6.0960,     -999.0,9
318M19881207,      SAVE4,     187,          2,         13,         13,2,19881216,       1805,   -47.0017,   -47.0050,       5771,   317.0,  34.2207,2,  34.2240,2,-999.0000,9,   266.3,2,    9.93,2,   24.34,2,    0.01,2,    1.71,2,   3.173,2,   1.489,2,  -999.0,9,  -999.0,9,  -999.0,9,  -999.0,9, -999.00,     5.3051,   5.2796,     -999.0,9
318M19881207,      SAVE4,     187,          2,         14,         14,2,19881216,       1805,   -47.0017,   -47.0050,       5771,   317.3,  34.2194,2,  34.2240,2,-999.0000,9,  -999.0,9, -999.00,9, -999.00,9, -999.00,9, -999.00,9,-999.000,9,-999.000,9,  2127.7,2,  -999.0,9,   738.4,2,  -999.0,9, -999.00,     5.2786,   5.2532,     -999.0,9
318M19881207,      SAVE4,     187,          2,         15,         15,2,19881216,       1805,   -47.0017,   -47.0050,       5771,   419.4,  34.1850,2,  34.1880,2,-999.0000,9,   272.2,2,   12.97,2,   25.68,2,    0.02,2,    1.80,2,-999.000,9,-999.000,9,  -999.0,9,  -999.0,9,  -999.0,9,  -999.0,9, -999.00,     4.5337,   4.5023,     -999.0,9
318M19881207,      SAVE4,     187,          2,         16,         16,2,19881216,       1805,   -47.0017,   -47.0050,       5771,   419.5,  34.1850,2,  34.1870,2,-999.0000,9,  -999.0,9, -999.00,9, -999.00,9, -999.00,9, -999.00,9,   3.064,2,   1.433,2,  2134.4,2,  -999.0,9,   763.7,2,  -999.0,9, -999.00,     4.5226,   4.4912,     -999.0,9
318M19881207,      SAVE4,     187,          2,         17,         17,2,19881216,       1805,   -47.0017,   -47.0050,       5771,   623.8,  34.1935,2,  34.1960,2,-999.0000,9,   265.2,2,   20.02,2,   28.36,2,    0.01,2,    1.97,2,-999.000,9,-999.000,9,  -999.0,9,  -999.0,9,  -999.0,9,  -999.0,9, -999.00,     3.7236,   3.6799,     -999.0,9
318M19881207,      SAVE4,     187,          2,         18,         18,2,19881216,       1805,   -47.0017,   -47.0050,       5771,   623.9,  34.1940,2,  34.1970,2,-999.0000,9,  -999.0,9, -999.00,9, -999.00,9, -999.00,9, -999.00,9,   2.593,2,   1.222,2,  2151.0,2,  -999.0,9,   832.0,2,  -999.0,9, -999.00,     3.7141,   3.6704,     -999.0,9
318M19881207,      SAVE4,     187,          2,         19,         19,2,19881216,       1805,   -47.0017,   -47.0050,       5771,   828.3,  34.2127,2,  34.2150,2,-999.0000,9,   250.9,2,   31.08,2,   30.92,2,    0.00,2,    2.15,2,   2.167,2,   1.001,2,  -999.0,9,  -999.0,9,  -999.0,9,  -999.0,9, -999.00,     2.8822,   2.8283,     -999.0,9
318M19881207,      SAVE4,     187,          2,         20,         20,2,19881216,       1805,   -47.0017,   -47.0050,       5771,   829.0,  34.2145,2,  34.2160,2,-999.0000,9,  -999.0,9, -999.00,9, -999.00,9, -999.00,9, -999.00,9,-999.000,9,-999.000,9,  2176.6,2,  -999.0,9,   925.4,2,  -999.0,9, -999.00,     2.8847,   2.8307,     -999.0,9
318M19881207,      SAVE4,     187,          2,         21,         21,2,19881216,       1805,   -47.0017,   -47.0050,       5771,  1034.0,  34.3028,2,  34.3060,2,-999.0000,9,   224.8,2,   44.24,2,   33.03,2,    0.00,2,    2.31,2,-999.000,9,-999.000,9,  -999.0,9,  -999.0,9,  -999.0,9,  -999.0,9, -999.00,     2.6118,   2.5448,     -999.0,9
318M19881207,      SAVE4,     187,          2,         22,         22,2,19881216,       1805,   -47.0017,   -47.0050,       5771,  1034.2,  34.3038,2,  34.3060,2,-999.0000,9,  -999.0,9, -999.00,9, -999.00,9, -999.00,9, -999.00,9,   1.396,2,   0.625,2,  2202.3,2,  -999.0,9,  1009.3,2,  -999.0,9, -999.00,     2.6093,   2.5423,     -999.0,9
318M19881207,      SAVE4,     187,          2,         23,         23,2,19881216,       1805,   -47.0017,   -47.0050,       5771,  2066.2,  34.8069,2,  34.8080,2,-999.0000,9,   211.1,2,   50.72,2,   27.25,2,    0.00,2,    1.88,2,   0.042,2,   0.031,2,  -999.0,9,  -999.0,9,  -999.0,9,  -999.0,9, -999.00,     2.9872,   2.8292,     -999.0,9
318M19881207,      SAVE4,     187,          2,         24,         24,2,19881216,       1805,   -47.0017,   -47.0050,       5771,  2066.4,  34.8069,2,  34.8120,2,-999.0000,9,  -999.0,9, -999.00,9, -999.00,9, -999.00,9, -999.00,9,-999.000,9,-999.000,9,  2209.2,2,  -999.0,9,  1046.3,2,  2067.5,2, -999.00,     2.9881,   2.8301,      2.985,2
318M19881207,      SAVE4,     187,          2,         25,         25,2,19881216,       1805,   -47.0017,   -47.0050,       5771,  2376.8,  34.8060,2,  34.8090,2,-999.0000,9,   211.5,2,   59.13,2,   27.53,2,    0.00,2,    1.90,2,-999.000,9,-999.000,9,  2208.6,2,  2334.9,2,   920.1,2,  -999.0,9, -999.00,     2.6524,   2.4711,     -999.0,9
318M19881207,      SAVE4,     187,          2,         27,         27,2,19881216,       1805,   -47.0017,   -47.0050,       5771,  3102.1,  34.7633,2,  34.7660,2,-999.0000,9,  -999.0,9, -999.00,9, -999.00,9, -999.00,9, -999.00,9,-999.000,9,-999.000,9,  2235.3,2,  -999.0,9,   996.7,2,  -999.0,9, -999.00,     1.8448,   1.6099,     -999.0,9
318M19881207,      SAVE4,     187,          2,         26,         26,2,19881216,       1805,   -47.0017,   -47.0050,       5771,  3102.5,  34.7635,2,  34.7650,2,-999.0000,9,   206.5,2,   85.32,2,   30.03,2,    0.00,2,    2.07,2,   0.041,2,   0.027,2,  -999.0,9,  -999.0,9,  -999.0,9,  -999.0,9, -999.00,     1.8463,   1.6114,     -999.0,9
318M19881207,      SAVE4,     187,          2,         28,         28,2,19881216,       1805,   -47.0017,   -47.0050,       5771,  3621.9,  34.7302,2,  34.7340,2,-999.0000,9,   208.2,2,  102.96,2,   31.37,2,    0.00,2,    2.17,2,   0.056,2,   0.031,2,  2245.4,2,  2359.0,2,  1024.8,2,  -999.0,9, -999.00,     1.2900,   1.0165,     -999.0,9
318M19881207,      SAVE4,     187,          2,         30,         30,2,19881216,       1805,   -47.0017,   -47.0050,       5771,  4142.2,  34.6985,2,  34.7020,2,-999.0000,9,  -999.0,9, -999.00,9, -999.00,9, -999.00,9, -999.00,9,   0.080,2,   0.057,2,  2254.3,2,  -999.0,9,  1060.4,2,  -999.0,9, -999.00,     0.7958,   0.4817,     -999.0,9
318M19881207,      SAVE4,     187,          2,         29,         29,2,19881216,       1805,   -47.0017,   -47.0050,       5771,  4142.3,  34.6981,2,  34.6990,2,-999.0000,9,   212.8,2,  115.67,2,   32.61,2,    0.00,2,    2.26,2,-999.000,9,-999.000,9,  -999.0,9,  -999.0,9,  -999.0,9,  -999.0,9, -999.00,     0.7964,   0.4823,     -999.0,9
318M19881207,      SAVE4,     187,          2,         32,         32,2,19881216,       1805,   -47.0017,   -47.0050,       5771,  4663.0,  34.6783,2,  34.6810,2,-999.0000,9,  -999.0,9, -999.00,9, -999.00,9, -999.00,9, -999.00,9,-999.000,9,-999.000,9,  2256.6,2,  -999.0,9,  1064.5,2,  4699.6,2, -999.00,     0.4250,   0.0657,      0.432,2
318M19881207,      SAVE4,     187,          2,         31,         31,2,19881216,       1805,   -47.0017,   -47.0050,       5771,  4663.3,  34.6781,2,  34.6800,2,-999.0000,9,   220.1,2,  122.65,2,   33.14,2,    0.00,2,    2.31,2,   0.067,2,   0.054,2,  -999.0,9,  -999.0,9,  -999.0,9,  -999.0,9, -999.00,     0.4247,   0.0654,     -999.0,9
318M19881207,      SAVE4,     187,          2,         33,         33,2,19881216,       1805,   -47.0017,   -47.0050,       5771,  5185.0,  34.6699,2,  34.6710,2,-999.0000,9,   223.5,2,  126.74,2,   33.18,2,    0.00,2,    2.32,2,-999.000,9,-999.000,9,  -999.0,9,  -999.0,9,  -999.0,9,  -999.0,9, -999.00,     0.2947,  -0.1198,     -999.0,9
318M19881207,      SAVE4,     187,          2,         34,         34,2,19881216,       1805,   -47.0017,   -47.0050,       5771,  5185.0,  34.6699,2,  34.6730,2,-999.0000,9,  -999.0,9, -999.00,9, -999.00,9, -999.00,9, -999.00,9,   0.067,2,   0.038,2,  2258.8,2,  -999.0,9,  1040.9,2,  -999.0,9, -999.00,     0.2946,  -0.1199,     -999.0,9
318M19881207,      SAVE4,     187,          2,         35,         35,2,19881216,       1805,   -47.0017,   -47.0050,       5771,  5705.2,  34.6666,2,-999.0000,9,-999.0000,9,   224.3,2,  128.14,2,   33.42,2,    0.00,2,    2.34,2,   0.089,2,   0.069,2,  2256.0,2,  2363.8,2,  1074.0,2,  -999.0,9, -999.00,     0.2874,  -0.1896,     -999.0,9
318M19881207,      SAVE4,     187,          2,         36,         36,2,19881216,       1805,   -47.0017,   -47.0050,       5771,  5927.4,  34.6650,2,  34.6660,2,-999.0000,9,   223.8,2,  129.53,2,   33.55,2,    0.01,2,    2.38,2,   0.117,2,   0.084,2,  2262.5,2,  2371.3,2,  1071.9,2,  -999.0,9, -999.00,     0.2936,  -0.2114,     -999.0,9