BOTTLE,20211025CCHSIORKP
EXPOCODE,SECT_ID,STNNBR,CASTNO,SAMPNO,BTLNBR,BTLNBR_FLAG_W,DATE,TIME,LATITUDE,LONGITUDE,DEPTH,CTDPRS,CTDSAL,CTDSAL_FLAG_W,SALNTY,SALNTY_FLAG_W,CTDOXY,CTDOXY_FLAG_W,OXYGEN,OXYGEN_FLAG_W,SILCAT,SILCAT_FLAG_W,NITRAT,NITRAT_FLAG_W,NITRIT,NITRIT_FLAG_W,PHSPHT,PHSPHT_FLAG_W,CFC-11,CFC-11_FLAG_W,CFC-12,CFC-12_FLAG_W,TCARBN,TCARBN_FLAG_W,ALKALI,ALKALI_FLAG_W,PCO2,PCO2_FLAG_W,REVPRS,REVPRS_FLAG_W,CTDRAW,CTDTMP,THETA,REVTMP,REVTMP_FLAG_W
,,,,,,,,,,,METERS,DBAR,PSS-78,,PSS-78,,UMOL/KG,,UMOL/KG,,UMOL/KG,,UMOL/KG,,UMOL/KG,,UMOL/KG,,PMOL/KG,,PMOL/KG,,UMOL/KG,,UMOL/KG,,UATM,,DBAR,,DBAR,ITS-68,DEG C,ITS-68,
318M19881207,      SAVE4,     228,          1,          1,          1,2,19890111,       0946,   -30.0250,    11.2617,       4194,     2.3,  35.6026,2,  35.6050,2,-999.0000,9,   228.9,2,    2.53,2,    0.00,2,    0.00,2,    0.19,2,   1.989,2,   1.106,2,  2024.9,2,  2331.0,2,   336.1,2,  -999.0,9, -999.00,    20.9622,  20.9618,     -999.0,9
318M19881207,      SAVE4,     228,          1,          2,          2,2,19890111,       0946,   -30.0250,    11.2617,       4194,    72.7,  35.3986,2,  35.4000,2,-999.0000,9,   234.6,2,    2.73,2,    0.76,2,    0.37,2,    0.33,2,-999.000,9,-999.000,9,  -999.0,9,  -999.0,9,  -999.0,9,  -999.0,9, -999.00,    16.3473,  16.3356,     -999.0,9
318M19881207,      SAVE4,     228,          1,          3,          3,2,19890111,       0946,   -30.0250,    11.2617,       4194,   129.0,  35.3171,2,  35.3190,2,-999.0000,9,   218.7,2,    3.53,2,    5.42,2,    0.02,2,    0.54,2,   2.229,2,   1.199,2,  2059.7,2,  2312.1,2,   429.4,2,  -999.0,9, -999.00,    14.8539,  14.8344,     -999.0,9
318M19881207,      SAVE4,     228,          1,          4,          4,2,19890111,       0946,   -30.0250,    11.2617,       4194,   175.1,  35.1681,2,  35.1670,2,-999.0000,9,   215.8,2,    4.13,2,    8.30,2,    0.01,2,    0.71,2,-999.000,9,-999.000,9,  2080.9,2,  2306.7,2,   490.9,2,  -999.0,9, -999.00,    13.5284,  13.5037,     -999.0,9
318M19881207,      SAVE4,     228,          1,          5,          5,2,19890111,       0946,   -30.0250,    11.2617,       4194,   223.0,  35.0841,2,  35.0800,2,-999.0000,9,   206.3,2,    4.93,2,   11.05,2,    0.01,2,    0.93,2,   1.956,2,   1.050,2,  2097.3,2,  2307.1,2,   536.2,2,  -999.0,9, -999.00,    12.6580,  12.6278,     -999.0,9
318M19881207,      SAVE4,     228,          1,          6,          6,2,19890111,       0946,   -30.0250,    11.2617,       4194,   292.4,  34.9458,2,  34.9470,2,-999.0000,9,   199.6,2,    6.75,2,   14.54,2,    0.00,2,    1.10,2,   1.738,2,   0.888,2,  2112.1,2,  2301.3,2,   599.7,2,  -999.0,9, -999.00,    11.3538,  11.3169,     -999.0,9
318M19881207,      SAVE4,     228,          1,          7,          7,2,19890111,       0946,   -30.0250,    11.2617,       4194,   378.2,  34.7400,2,  34.7400,2,-999.0000,9,   204.8,2,    8.77,2,   18.11,2,    0.00,2,    1.32,2,-999.000,9,-999.000,9,  -999.0,9,  -999.0,9,  -999.0,9,  -999.0,9, -999.00,     9.5893,   9.5463,     -999.0,9
318M19881207,      SAVE4,     228,          1,          8,          8,2,19890111,       0946,   -30.0250,    11.2617,       4194,   476.5,  34.5388,2,  34.5370,2,-999.0000,9,   204.5,2,   13.65,2,   23.22,2,    0.00,2,    1.64,2,   1.185,2,   0.688,2,  2145.8,2,  2293.0,2,   767.7,2,  -999.0,9, -999.00,     7.5892,   7.5419,     -999.0,9
318M19881207,      SAVE4,     228,          1,          9,          9,2,19890111,       0946,   -30.0250,    11.2617,       4194,   593.2,  34.3749,2,  34.3750,2,-999.0000,9,   217.0,2,   19.34,2,   26.91,2,    0.00,2,    1.87,2,   1.308,2,   0.633,2,  2155.7,2,  2286.5,2,   850.3,2,  -999.0,9, -999.00,     5.6588,   5.6083,     -999.0,9
318M19881207,      SAVE4,     228,          1,         10,         10,2,19890111,       0946,   -30.0250,    11.2617,       4194,   654.6,  34.3611,2,  34.3600,2,-999.0000,9,   205.2,2,   23.41,2,   29.24,2,    0.00,2,    2.02,2,   1.010,2,   0.480,2,  2173.4,2,  2291.8,2,   929.2,2,  -999.0,9, -999.00,     5.1255,   5.0721,     -999.0,9
318M19881207,      SAVE4,     228,          1,         11,         11,2,19890111,       0946,   -30.0250,    11.2617,       4194,   773.4,  34.3551,2,  34.3580,2,-999.0000,9,   195.2,2,   30.75,2,   31.71,2,    0.00,2,    2.17,2,   0.684,2,   0.316,2,  2191.5,2,  2299.9,2,  1003.4,2,  -999.0,9, -999.00,     4.3738,   4.3146,     -999.0,9
318M19881207,      SAVE4,     228,          1,         12,         12,2,19890111,       0946,   -30.0250,    11.2617,       4194,   875.9,  34.3757,2,  34.3750,2,-999.0000,9,   192.2,2,   38.70,2,   32.60,2,    0.00,2,    2.25,2,   0.449,2,   0.212,2,  2197.3,2,  2301.6,2,  1036.4,2,  -999.0,9, -999.00,     3.7703,   3.7066,     -999.0,9
318M19881207,      SAVE4,     228,          1,         13,         13,2,19890111,       0946,   -30.0250,    11.2617,       4194,   986.0,  34.4335,2,  34.4310,2,-999.0000,9,   185.9,2,   49.12,2,   33.31,2,    0.00,2,    2.31,2,   0.205,2,   0.091,2,  2214.4,2,  2314.6,2,  1078.7,2,  -999.0,9, -999.00,     3.3473,   3.2779,     -999.0,9
318M19881207,      SAVE4,     228,          1,         14,         14,2,19890111,       0946,   -30.0250,    11.2617,       4194,  1049.8,  34.4792,2,  34.4760,2,-999.0000,9,   180.4,2,   51.79,2,   33.49,2,    0.00,2,    2.33,2,   0.136,2,   0.064,2,  2219.9,2,  2318.4,2,  1096.0,2,  -999.0,9, -999.00,     3.2524,   3.1787,     -999.0,9
318M19881207,      SAVE4,     228,          1,         15,         15,2,19890111,       0946,   -30.0250,    11.2617,       4194,  1132.2,  34.5345,2,  34.5320,2,-999.0000,9,   177.8,2,   52.83,2,   33.18,2,    0.00,2,    2.29,2,   0.058,2,   0.021,2,  2220.6,2,  2319.2,2,  1096.8,2,  -999.0,9, -999.00,     3.2281,   3.1480,     -999.0,9
318M19881207,      SAVE4,     228,          1,         16,         16,2,19890111,       0946,   -30.0250,    11.2617,       4194,  1236.1,  34.5794,2,  34.5770,2,-999.0000,9,   178.6,2,   59.79,2,   32.69,2,    0.00,2,    2.28,2,-999.000,9,-999.000,9,  -999.0,9,  -999.0,9,  -999.0,9,  -999.0,9, -999.00,     2.9859,   2.8997,     -999.0,9
318M19881207,      SAVE4,     228,          1,         17,         17,2,19890111,       0946,   -30.0250,    11.2617,       4194,  1338.6,  34.6502,2,  34.6480,2,-999.0000,9,   185.0,2,   58.99,2,   31.26,2,    0.00,2,    2.15,2,   0.013,2,   0.016,2,  2229.6,2,  2338.3,2,  1036.8,2,  -999.0,9, -999.00,     2.8885,   2.7949,     -999.0,9
318M19881207,      SAVE4,     228,          1,         18,         18,2,19890111,       0946,   -30.0250,    11.2617,       4194,  1442.1,  34.7194,2,  34.7210,2,-999.0000,9,   193.2,2,   55.12,2,   29.58,2,    0.00,2,    2.03,2,-999.000,9,-999.000,9,  -999.0,9,  -999.0,9,  -999.0,9,  -999.0,9, -999.00,     2.9063,   2.8039,     -999.0,9
318M19881207,      SAVE4,     228,          1,         19,         19,2,19890111,       0946,   -30.0250,    11.2617,       4194,  1545.4,  34.7375,2,  34.7380,2,-999.0000,9,   193.5,2,   61.07,2,   29.45,2,    0.00,2,    2.05,2,   0.003,2,   0.006,2,  2219.8,2,  2336.1,2,   984.3,2,  -999.0,9, -999.00,     2.7326,   2.6237,     -999.0,9
318M19881207,      SAVE4,     228,          1,         20,         20,2,19890111,       0946,   -30.0250,    11.2617,       4194,  1648.4,  34.7556,2,  34.7550,2,-999.0000,9,   197.3,2,   60.89,2,   28.92,2,    0.00,2,    1.99,2,-999.000,9,-999.000,9,  -999.0,9,  -999.0,9,  -999.0,9,  -999.0,9, -999.00,     2.7037,   2.5866,     -999.0,9
318M19881207,      SAVE4,     228,          1,         21,         21,2,19890111,       0946,   -30.0250,    11.2617,       4194,  1751.6,  34.7695,2,  34.7690,2,-999.0000,9,   200.9,2,   59.47,2,   28.48,2,    0.00,2,    1.97,2,-999.000,9,   0.001,2,  2216.4,2,  2336.6,2,   959.0,2,  -999.0,9, -999.00,     2.6909,   2.5651,     -999.0,9
318M19881207,      SAVE4,     228,          1,         22,         22,2,19890111,       0946,   -30.0250,    11.2617,       4194,  1855.2,  34.7843,2,  34.7840,2,-999.0000,9,   205.0,2,   58.67,2,   27.78,2,    0.00,2,    1.93,2,-999.000,9,-999.000,9,  -999.0,9,  -999.0,9,  -999.0,9,  -999.0,9, -999.00,     2.6760,   2.5415,     -999.0,9
318M19881207,      SAVE4,     228,          1,         23,         23,2,19890111,       0946,   -30.0250,    11.2617,       4194,  2009.6,  34.7990,2,  34.7990,2,-999.0000,9,   208.6,2,   56.85,2,   27.29,2,    0.00,2,    1.90,2,-999.000,9,-999.000,9,  2207.2,2,  2333.4,2,   919.2,2,  -999.0,9, -999.00,     2.6592,   2.5114,     -999.0,9
318M19881207,      SAVE4,     228,          1,         24,         24,2,19890111,       0946,   -30.0250,    11.2617,       4194,  2164.5,  34.8112,2,  34.8130,2,-999.0000,9,   212.9,2,   55.84,2,   26.77,2,    0.00,2,    1.87,2,-999.000,9,-999.000,9,  -999.0,9,  -999.0,9,  -999.0,9,  -999.0,9, -999.00,     2.6309,   2.4696,     -999.0,9
318M19881207,      SAVE4,     228,          1,         25,         25,2,19890111,       0946,   -30.0250,    11.2617,       4194,  2319.4,  34.8195,2,  34.8200,2,-999.0000,9,   215.7,2,   55.65,2,   26.42,2,    0.00,2,    1.84,2,-999.000,9,-999.000,9,  2204.0,2,  2335.4,2,   889.3,2,  -999.0,9, -999.00,     2.5912,   2.4163,     -999.0,9
318M19881207,      SAVE4,     228,          1,         26,         26,2,19890111,       0946,   -30.0250,    11.2617,       4194,  2475.1,  34.8251,2,  34.8250,2,-999.0000,9,   218.2,2,   56.08,2,   26.07,2,    0.00,2,    1.81,2,-999.000,9,   0.000,2,  2206.2,2,  2341.8,2,   868.9,2,  -999.0,9, -999.00,     2.5533,   2.3644,     -999.0,9
318M19881207,      SAVE4,     228,          1,         27,         27,2,19890111,       0946,   -30.0250,    11.2617,       4194,  2628.8,  34.8295,2,  34.8300,2,-999.0000,9,   220.4,2,   56.30,2,   25.93,2,    0.00,2,    1.80,2,-999.000,9,-999.000,9,  -999.0,9,  -999.0,9,  -999.0,9,  -999.0,9, -999.00,     2.5134,   2.3105,     -999.0,9
318M19881207,      SAVE4,     228,          1,         28,         28,2,19890111,       0946,   -30.0250,    11.2617,       4194,  2785.9,  34.8326,2,  34.8320,2,-999.0000,9,   222.6,2,   56.94,2,   25.85,2,    0.00,2,    1.78,2,-999.000,9,-999.000,9,  2201.3,2,  2336.5,2,   868.1,2,  -999.0,9, -999.00,     2.4760,   2.2586,     -999.0,9
318M19881207,      SAVE4,     228,          1,         29,         29,2,19890111,       0946,   -30.0250,    11.2617,       4194,  2940.0,  34.8450,2,  34.8450,2,-999.0000,9,   227.8,2,   54.28,2,   25.10,2,    0.00,2,    1.73,2,-999.000,9,-999.000,9,  -999.0,9,  -999.0,9,  -999.0,9,  -999.0,9, -999.00,     2.4554,   2.2229,     -999.0,9
318M19881207,      SAVE4,     228,          1,         30,         30,2,19890111,       0946,   -30.0250,    11.2617,       4194,  3095.7,  34.8546,2,  34.8540,2,-999.0000,9,   231.0,2,   54.50,2,   24.62,2,    0.00,2,    1.70,2,-999.000,9,-999.000,9,  -999.0,9,  -999.0,9,  -999.0,9,  -999.0,9, -999.00,     2.3930,   2.1460,     -999.0,9
318M19881207,      SAVE4,     228,          1,         31,         31,2,19890111,       0946,   -30.0250,    11.2617,       4194,  3303.9,  34.8505,2,  34.8510,2,-999.0000,9,   231.1,2,   57.61,2,   24.84,2,    0.00,2,    1.71,2,-999.000,9,   0.004,2,  2198.6,2,  2341.4,2,   829.5,2,  -999.0,9, -999.00,     2.2902,   2.0241,     -999.0,9
318M19881207,      SAVE4,     228,          1,         32,         32,2,19890111,       0946,   -30.0250,    11.2617,       4194,  3512.3,  34.8514,2,  34.8510,2,-999.0000,9,   231.0,2,   59.90,2,   24.88,2,    0.00,2,    1.72,2,-999.000,9,-999.000,9,  2204.5,2,  2348.4,2,   827.9,2,  3517.5,2, -999.00,     2.2440,   1.9570,      2.230,2
318M19881207,      SAVE4,     228,          1,         33,         33,2,19890111,       0946,   -30.0250,    11.2617,       4194,  3719.1,  34.8299,2,  34.8300,2,-999.0000,9,   227.0,2,   68.79,2,   26.07,2,    0.00,2,    1.78,2,-999.000,9,-999.000,9,  -999.0,9,  -999.0,9,  -999.0,9,  -999.0,9, -999.00,     2.0302,   1.7265,     -999.0,9
318M19881207,      SAVE4,     228,          1,         34,         34,2,19890111,       0946,   -30.0250,    11.2617,       4194,  3927.4,  34.7963,2,  34.7960,2,-999.0000,9,   222.4,2,   81.61,2,   27.73,2,    0.00,2,    1.90,2,-999.000,9,-999.000,9,  2223.9,2,  2356.7,2,   897.4,2,  -999.0,9, -999.00,     1.7223,   1.4044,     -999.0,9
318M19881207,      SAVE4,     228,          1,         35,         35,2,19890111,       0946,   -30.0250,    11.2617,       4194,  4135.8,  34.7562,2,  34.7550,2,-999.0000,9,   216.7,2,   98.39,2,   29.94,2,    0.00,2,    2.05,2,-999.000,9,-999.000,9,  -999.0,9,  -999.0,9,  -999.0,9,  4126.4,2, -999.00,     1.3049,   0.9763,      1.304,2
318M19881207,      SAVE4,     228,          1,         36,         36,2,19890111,       0946,   -30.0250,    11.2617,       4194,  4252.2,  34.7365,2,  34.7360,2,-999.0000,9,   215.1,2,  106.30,2,   31.00,2,    0.00,2,    2.12,2,-999.000,9,-999.000,9,  2250.0,2,  2374.3,2,   964.1,2,  -999.0,9, -999.00,     1.0996,   0.7644,     -999.0,9