BOTTLE,20211025CCHSIORKP
EXPOCODE,SECT_ID,STNNBR,CASTNO,SAMPNO,BTLNBR,BTLNBR_FLAG_W,DATE,TIME,LATITUDE,LONGITUDE,DEPTH,CTDPRS,CTDSAL,CTDSAL_FLAG_W,SALNTY,SALNTY_FLAG_W,CTDOXY,CTDOXY_FLAG_W,OXYGEN,OXYGEN_FLAG_W,SILCAT,SILCAT_FLAG_W,NITRAT,NITRAT_FLAG_W,NITRIT,NITRIT_FLAG_W,PHSPHT,PHSPHT_FLAG_W,CFC-11,CFC-11_FLAG_W,CFC-12,CFC-12_FLAG_W,TCARBN,TCARBN_FLAG_W,ALKALI,ALKALI_FLAG_W,PCO2,PCO2_FLAG_W,REVPRS,REVPRS_FLAG_W,CTDRAW,CTDTMP,THETA,REVTMP,REVTMP_FLAG_W
,,,,,,,,,,,METERS,DBAR,PSS-78,,PSS-78,,UMOL/KG,,UMOL/KG,,UMOL/KG,,UMOL/KG,,UMOL/KG,,UMOL/KG,,PMOL/KG,,PMOL/KG,,UMOL/KG,,UMOL/KG,,UATM,,DBAR,,DBAR,ITS-68,DEG C,ITS-68,
318M19881207,      SAVE4,     225,          2,          1,          1,2,19890110,       0338,   -30.0283,     8.4667,       4940,     0.5,  35.4943,2,  35.4967,2,-999.0000,9,   229.7,2,    2.55,2,    0.04,2,    0.00,2,    0.20,2,-999.000,9,-999.000,9,  2026.2,2,  2330.9,2,   337.4,2,  -999.0,9, -999.00,    20.5204,  20.5203,     20.491,2
318M19881207,      SAVE4,     225,          2,          2,          2,2,19890110,       0338,   -30.0283,     8.4667,       4940,    57.7,  35.3778,2,  35.3770,2,-999.0000,9,   243.0,2,    2.54,2,    0.06,2,    0.02,2,    0.24,2,-999.000,9,-999.000,9,  2037.1,2,  2326.0,2,   361.4,2,  -999.0,9, -999.00,    17.7997,  17.7898,     -999.0,9
318M19881207,      SAVE4,     225,          2,          3,          3,2,19890110,       0338,   -30.0283,     8.4667,       4940,   116.1,  35.3376,2,  35.3390,2,-999.0000,9,   225.7,2,    3.23,2,    4.53,2,    0.03,2,    0.48,2,   2.374,2,   1.200,2,  2059.6,2,  2318.7,2,   417.2,2,  -999.0,9, -999.00,    15.1852,  15.1675,     -999.0,9
318M19881207,      SAVE4,     225,          2,          4,          4,2,19890110,       0338,   -30.0283,     8.4667,       4940,   199.6,  35.0840,2,  35.0840,2,-999.0000,9,   198.5,2,    5.77,2,   12.09,2,    0.01,2,    0.92,2,   2.038,2,   1.016,2,  2107.3,2,  2310.1,2,   559.3,2,  -999.0,9, -999.00,    12.8842,  12.8569,     -999.0,9
318M19881207,      SAVE4,     225,          2,          5,          5,2,19890110,       0338,   -30.0283,     8.4667,       4940,   287.5,  34.9351,2,  34.9380,2,-999.0000,9,   195.9,2,    7.38,2,   15.16,2,    0.01,2,    1.11,2,   1.762,2,   0.835,2,  2110.7,2,  2295.3,2,   613.2,2,  -999.0,9, -999.00,    11.2743,  11.2381,     -999.0,9
318M19881207,      SAVE4,     225,          2,          6,          6,2,19890110,       0338,   -30.0283,     8.4667,       4940,   354.8,  34.7921,2,  34.7911,2,-999.0000,9,   209.0,2,    8.30,2,   16.87,2,    0.00,2,    1.21,2,   1.571,2,   0.765,2,  2121.6,2,  2300.9,2,   633.9,2,  -999.0,9, -999.00,    10.0222,   9.9808,     -999.0,9
318M19881207,      SAVE4,     225,          2,          7,          7,2,19890110,       0338,   -30.0283,     8.4667,       4940,   466.0,  34.5576,2,  34.5588,2,-999.0000,9,   206.9,2,   12.67,2,   22.54,2,    0.00,2,    1.56,2,   1.492,2,   0.710,2,  2140.6,2,  2290.9,2,   751.1,2,  -999.0,9, -999.00,     7.8510,   7.8039,     -999.0,9
318M19881207,      SAVE4,     225,          2,          8,          8,2,19890110,       0338,   -30.0283,     8.4667,       4940,   590.0,  34.3884,2,  34.3900,2,-999.0000,9,   215.4,2,   19.34,2,   26.94,2,    0.00,2,    1.87,2,   1.351,2,   0.612,2,  2155.7,2,  2288.1,2,   842.4,2,  -999.0,9, -999.00,     5.8267,   5.7757,     -999.0,9
318M19881207,      SAVE4,     225,          2,          9,          9,2,19890110,       0338,   -30.0283,     8.4667,       4940,   705.0,  34.3385,2,  34.3384,2,-999.0000,9,   214.0,2,   27.61,2,   29.59,2,    0.00,2,    2.03,2,   1.040,2,   0.455,2,  2172.9,2,  2293.1,2,   919.1,2,  -999.0,9, -999.00,     4.6212,   4.5662,     -999.0,9
318M19881207,      SAVE4,     225,          2,         10,         10,2,19890110,       0338,   -30.0283,     8.4667,       4940,   773.9,  34.3389,2,  34.3382,2,-999.0000,9,   210.5,2,   32.41,2,   30.65,2,    0.00,2,    2.11,2,   0.819,2,   0.364,2,  2179.4,2,  2294.5,2,   954.4,2,  -999.0,9, -999.00,     4.1795,   4.1214,     -999.0,9
318M19881207,      SAVE4,     225,          2,         11,         11,2,19890110,       0338,   -30.0283,     8.4667,       4940,   876.1,  34.3685,2,  34.3688,2,-999.0000,9,   201.7,2,   41.34,2,   32.12,2,    0.00,2,    2.20,2,   0.573,2,   0.261,2,  2200.8,2,  2309.8,2,  1008.1,2,  -999.0,9, -999.00,     3.6878,   3.6246,     -999.0,9
318M19881207,      SAVE4,     225,          2,         12,         12,2,19890110,       0338,   -30.0283,     8.4667,       4940,   972.0,  34.4247,2,  34.4245,2,-999.0000,9,   187.3,2,   48.38,2,   33.22,2,    0.00,2,    2.29,2,   0.280,2,   0.130,2,  2209.8,2,  2309.2,2,  1080.6,2,  -999.0,9, -999.00,     3.4466,   3.3775,     -999.0,9
318M19881207,      SAVE4,     225,          2,         13,         13,2,19890110,       0338,   -30.0283,     8.4667,       4940,  1029.6,  34.4574,2,  34.4575,2,-999.0000,9,   184.3,2,   53.15,2,   33.44,2,    0.00,2,    2.31,2,   0.196,2,   0.105,2,  2214.1,2,  2312.2,2,  1094.6,2,  -999.0,9, -999.00,     3.2459,   3.1739,     -999.0,9
318M19881207,      SAVE4,     225,          2,         14,         14,2,19890110,       0338,   -30.0283,     8.4667,       4940,  1132.6,  34.5254,2,  34.5262,2,-999.0000,9,   180.0,2,   56.99,2,   33.38,2,    0.00,2,    2.29,2,   0.078,2,   0.029,2,  2225.8,2,  2324.1,2,  1102.4,2,  -999.0,9, -999.00,     3.0935,   3.0146,     -999.0,9
318M19881207,      SAVE4,     225,          2,         15,         15,2,19890110,       0338,   -30.0283,     8.4667,       4940,  1234.2,  34.5899,2,  34.5902,2,-999.0000,9,   179.7,2,   58.54,2,   32.75,2,    0.00,2,    2.24,2,   0.024,2,   0.018,2,  2219.2,2,  2319.4,2,  1086.2,2,  -999.0,9, -999.00,     3.0084,   2.9221,     -999.0,9
318M19881207,      SAVE4,     225,          2,         16,         16,2,19890110,       0338,   -30.0283,     8.4667,       4940,  1335.7,  34.6541,2,  34.6510,2,-999.0000,9,   184.3,2,   57.12,2,   31.41,2,    0.00,2,    2.15,2,   0.016,2,   0.007,2,  2225.2,2,  2330.4,2,  1056.6,2,  -999.0,9, -999.00,     2.9854,   2.8911,     -999.0,9
318M19881207,      SAVE4,     225,          2,         17,         17,2,19890110,       0338,   -30.0283,     8.4667,       4940,  1437.2,  34.7091,2,  34.7077,2,-999.0000,9,   190.9,2,   55.47,2,   30.07,2,    0.00,2,    2.06,2,   0.008,2,   0.006,2,  2213.2,2,  2324.7,2,  1008.3,2,  -999.0,9, -999.00,     2.9648,   2.8623,     -999.0,9
318M19881207,      SAVE4,     225,          2,         18,         18,2,19890110,       0338,   -30.0283,     8.4667,       4940,  1591.5,  34.7749,2,  34.7750,2,-999.0000,9,   200.9,2,   49.95,2,   28.33,2,    0.00,2,    1.92,2,-999.000,9,-999.000,9,  2212.0,2,  2332.9,2,   950.1,2,  -999.0,9, -999.00,     3.0198,   2.9035,     -999.0,9
318M19881207,      SAVE4,     225,          2,         19,         19,2,19890110,       0338,   -30.0283,     8.4667,       4940,  1746.6,  34.8077,2,  34.8080,2,-999.0000,9,   209.0,2,   47.85,2,   27.09,2,    0.00,2,    1.84,2,   0.003,2,   0.001,2,  2196.8,2,  2323.4,2,   908.7,2,  -999.0,9, -999.00,     2.9969,   2.8674,     -999.0,9
318M19881207,      SAVE4,     225,          2,         20,         20,2,19890110,       0338,   -30.0283,     8.4667,       4940,  1902.4,  34.8313,2,  34.8316,2,-999.0000,9,   215.0,2,   46.22,2,   26.08,2,    0.00,2,    1.77,2,-999.000,9,-999.000,9,  2196.1,2,  2328.3,2,   878.4,2,  -999.0,9, -999.00,     2.9592,   2.8164,     -999.0,9
318M19881207,      SAVE4,     225,          2,         21,         21,2,19890110,       0338,   -30.0283,     8.4667,       4940,  2057.8,  34.8539,2,  34.8544,2,-999.0000,9,   223.3,2,   43.90,2,   24.97,2,    0.00,2,    1.69,2,-999.000,9,-999.000,9,  2186.9,2,  2324.0,2,   847.9,2,  -999.0,9, -999.00,     2.9286,   2.7721,     -999.0,9
318M19881207,      SAVE4,     225,          2,         22,         22,2,19890110,       0338,   -30.0283,     8.4667,       4940,  2262.6,  34.8612,2,  34.8617,2,-999.0000,9,   227.5,2,   44.55,2,   24.48,2,    0.00,2,    1.67,2,-999.000,9,-999.000,9,  2190.7,2,  2331.2,2,   833.6,2,  -999.0,9, -999.00,     2.7907,   2.6175,     -999.0,9
318M19881207,      SAVE4,     225,          2,         23,         23,2,19890110,       0338,   -30.0283,     8.4667,       4940,  2469.8,  34.8617,2,  34.8623,2,-999.0000,9,   231.3,2,   46.78,2,   24.39,2,    0.00,2,    1.65,2,-999.000,9,-999.000,9,  2189.6,2,  2331.6,2,   826.1,2,  -999.0,9, -999.00,     2.6216,   2.4318,     -999.0,9
318M19881207,      SAVE4,     225,          2,         24,         24,2,19890110,       0338,   -30.0283,     8.4667,       4940,  2678.0,  34.8583,2,  34.8615,2,-999.0000,9,   231.8,2,   49.01,2,   24.43,2,    0.00,2,    1.66,2,-999.000,9,-999.000,9,  2189.4,2,  2332.0,2,   823.8,2,  -999.0,9, -999.00,     2.5339,   2.3257,     -999.0,9
318M19881207,      SAVE4,     225,          2,         25,         25,2,19890110,       0338,   -30.0283,     8.4667,       4940,  2884.2,  34.8599,2,  34.8599,2,-999.0000,9,   232.4,2,   51.23,2,   24.25,2,    0.00,2,    1.66,2,   0.000,2,-999.000,9,  2154.9,4,  2294.2,3,   820.3,2,  -999.0,9, -999.00,     2.4538,   2.2268,     -999.0,9
318M19881207,      SAVE4,     225,          2,         26,         26,2,19890110,       0338,   -30.0283,     8.4667,       4940,  3091.4,  34.8601,2,  34.8607,2,-999.0000,9,   232.8,2,   53.68,2,   24.29,2,    0.00,2,    1.66,2,-999.000,9,-999.000,9,  2196.2,2,  2340.9,2,   818.4,2,  -999.0,9, -999.00,     2.3972,   2.1506,     -999.0,9
318M19881207,      SAVE4,     225,          2,         27,         27,2,19890110,       0338,   -30.0283,     8.4667,       4940,  3298.7,  34.8578,2,  34.8583,2,-999.0000,9,   232.7,2,   55.67,2,   24.42,2,    0.00,2,    1.68,2,-999.000,9,-999.000,9,  2198.1,2,  2342.8,2,   819.9,2,  -999.0,9, -999.00,     2.3264,   2.0599,     -999.0,9
318M19881207,      SAVE4,     225,          2,         28,         28,2,19890110,       0338,   -30.0283,     8.4667,       4940,  3506.5,  34.8527,2,  34.8532,2,-999.0000,9,   232.1,2,   57.89,2,   24.68,2,    0.00,2,    1.70,2,   0.002,2,   0.001,2,  2201.8,2,  2348.6,2,   812.8,2,  -999.0,9, -999.00,     2.2507,   1.9641,     -999.0,9
318M19881207,      SAVE4,     225,          2,         29,         29,2,19890110,       0338,   -30.0283,     8.4667,       4940,  3714.1,  34.8409,2,  34.8414,2,-999.0000,9,   229.9,2,   63.04,2,   25.33,2,    0.00,2,    1.74,2,-999.000,9,-999.000,9,  2211.0,2,  2352.8,2,   842.2,2,  -999.0,9, -999.00,     2.1412,   1.8351,     -999.0,9
318M19881207,      SAVE4,     225,          2,         30,         30,2,19890110,       0338,   -30.0283,     8.4667,       4940,  3923.6,  34.8124,2,  34.8139,2,-999.0000,9,   226.4,2,   74.05,2,   26.77,2,    0.00,2,    1.84,2,-999.000,9,-999.000,9,  2214.5,2,  2350.3,2,   875.7,2,  -999.0,9, -999.00,     1.8866,   1.5645,     -999.0,9
318M19881207,      SAVE4,     225,          2,         31,         31,2,19890110,       0338,   -30.0283,     8.4667,       4940,  4130.1,  34.7790,2,  34.7803,2,-999.0000,9,   222.3,2,   87.67,2,   28.66,2,    0.00,2,    1.96,2,-999.000,9,   0.004,2,  2228.1,2,  2358.3,2,   915.3,2,  -999.0,9, -999.00,     1.5540,   1.2186,     -999.0,9
318M19881207,      SAVE4,     225,          2,         32,         32,2,19890110,       0338,   -30.0283,     8.4667,       4940,  4338.0,  34.7502,2,  34.7514,2,-999.0000,9,   218.8,2,   98.42,2,   30.11,2,    0.00,2,    2.07,2,-999.000,9,-999.000,9,  2247.3,2,  2373.0,2,   953.3,2,  4346.4,2, -999.00,     1.2619,   0.9122,      1.259,2
318M19881207,      SAVE4,     225,          2,         33,         33,2,19890110,       0338,   -30.0283,     8.4667,       4940,  4546.9,  34.7411,2,  34.7396,2,-999.0000,9,   217.9,2,  102.61,2,   30.50,2,    0.00,2,    2.11,2,-999.000,9,-999.000,9,  2244.3,2,  2369.2,2,   956.6,2,  -999.0,9, -999.00,     1.1817,   0.8109,     -999.0,9
318M19881207,      SAVE4,     225,          2,         34,         34,2,19890110,       0338,   -30.0283,     8.4667,       4940,  4755.7,  34.7364,2,  34.7368,2,-999.0000,9,   217.1,2,  105.45,2,   30.85,2,    0.00,2,    2.11,2,-999.000,9,-999.000,9,  2243.9,2,  2367.6,2,   963.9,2,  -999.0,9, -999.00,     1.1542,   0.7603,     -999.0,9
318M19881207,      SAVE4,     225,          2,         35,         35,2,19890110,       0338,   -30.0283,     8.4667,       4940,  4966.0,  34.7345,2,  34.7345,2,-999.0000,9,   217.2,2,  106.49,2,   30.84,2,    0.00,2,    2.12,2,-999.000,9,-999.000,9,  2244.8,2,  2367.2,2,   971.8,2,  4970.1,2, -999.00,     1.1606,   0.7416,      1.169,2
318M19881207,      SAVE4,     225,          2,         36,         36,2,19890110,       0338,   -30.0283,     8.4667,       4940,  5047.2,  34.7338,2,  34.7341,2,-999.0000,9,   217.6,2,  107.07,2,   30.79,2,    0.00,2,    2.12,2,-999.000,9,-999.000,9,  2245.0,2,  2370.4,2,   955.0,2,  -999.0,9, -999.00,     1.1686,   0.7396,     -999.0,9