BOTTLE,20211025CCHSIORKP
EXPOCODE,SECT_ID,STNNBR,CASTNO,SAMPNO,BTLNBR,BTLNBR_FLAG_W,DATE,TIME,LATITUDE,LONGITUDE,DEPTH,CTDPRS,CTDSAL,CTDSAL_FLAG_W,SALNTY,SALNTY_FLAG_W,CTDOXY,CTDOXY_FLAG_W,OXYGEN,OXYGEN_FLAG_W,SILCAT,SILCAT_FLAG_W,NITRAT,NITRAT_FLAG_W,NITRIT,NITRIT_FLAG_W,PHSPHT,PHSPHT_FLAG_W,CFC-11,CFC-11_FLAG_W,CFC-12,CFC-12_FLAG_W,TCARBN,TCARBN_FLAG_W,ALKALI,ALKALI_FLAG_W,PCO2,PCO2_FLAG_W,REVPRS,REVPRS_FLAG_W,CTDRAW,CTDTMP,THETA,REVTMP,REVTMP_FLAG_W
,,,,,,,,,,,METERS,DBAR,PSS-78,,PSS-78,,UMOL/KG,,UMOL/KG,,UMOL/KG,,UMOL/KG,,UMOL/KG,,UMOL/KG,,PMOL/KG,,PMOL/KG,,UMOL/KG,,UMOL/KG,,UATM,,DBAR,,DBAR,ITS-68,DEG C,ITS-68,
318M19881207,      SAVE4,     191,          2,          1,          1,2,19881219,       2233,   -47.0217,   -39.4417,       5570,     2.8,  34.2057,2,  34.2103,2,-999.0000,9,   301.4,2,    1.28,2,   11.26,2,    0.18,2,    0.94,2,   3.867,2,   1.764,2,  2054.0,2,  2275.9,2,   478.1,2,     5.7,2, -999.00,     8.7077,   8.7074,      8.683,2
318M19881207,      SAVE4,     191,          2,          2,          2,2,19881219,       2233,   -47.0217,   -39.4417,       5570,    20.1,  34.2494,2,  34.2554,2,-999.0000,9,   300.8,2,    1.50,2,   11.48,2,    0.19,2,    0.97,2,   3.823,2,   1.798,2,  2065.2,2,  2283.0,2,   492.4,2,  -999.0,9, -999.00,     8.5432,   8.5411,     -999.0,9
318M19881207,      SAVE4,     191,          2,          3,          3,2,19881219,       2233,   -47.0217,   -39.4417,       5570,    38.3,  34.3034,2,  34.3017,2,-999.0000,9,   297.3,2,    1.49,2,   11.87,2,    0.20,2,    1.02,2,   3.866,2,   1.779,2,  -999.0,9,  -999.0,9,  -999.0,9,  -999.0,9, -999.00,     8.1493,   8.1454,     -999.0,9
318M19881207,      SAVE4,     191,          2,          4,          4,2,19881219,       2233,   -47.0217,   -39.4417,       5570,    63.6,  34.3371,2,  34.3397,2,-999.0000,9,   290.2,2,    2.39,2,   13.54,2,    0.20,2,    1.14,2,   3.750,2,   1.775,2,  -999.0,9,  -999.0,9,  -999.0,9,  -999.0,9, -999.00,     7.8714,   7.8652,     -999.0,9
318M19881207,      SAVE4,     191,          2,          5,          5,2,19881219,       2233,   -47.0217,   -39.4417,       5570,   160.8,  34.2529,2,  34.2526,2,-999.0000,9,   270.9,2,    9.23,2,   23.95,2,    0.07,2,    1.69,2,-999.000,9,-999.000,9,  -999.0,9,  -999.0,9,  -999.0,9,  -999.0,9, -999.00,     5.5230,   5.5100,     -999.0,9
318M19881207,      SAVE4,     191,          2,          6,          6,2,19881219,       2233,   -47.0217,   -39.4417,       5570,   212.4,  34.1956,2,  34.1922,2,-999.0000,9,   269.2,2,   11.71,2,   26.49,2,    0.03,2,    1.85,2,   3.270,2,   1.515,2,  -999.0,9,  -999.0,9,  -999.0,9,  -999.0,9, -999.00,     4.8128,   4.7968,     -999.0,9
318M19881207,      SAVE4,     191,          2,          7,          7,2,19881219,       2233,   -47.0217,   -39.4417,       5570,   258.1,  34.1733,2,  34.1703,2,-999.0000,9,   274.3,2,   13.73,2,   27.03,2,    0.02,2,    1.90,2,   3.246,2,   1.475,2,  -999.0,9,  -999.0,9,  -999.0,9,  -999.0,9, -999.00,     4.3647,   4.3460,     -999.0,9
318M19881207,      SAVE4,     191,          2,          8,          8,2,19881219,       2233,   -47.0217,   -39.4417,       5570,   314.5,  34.1796,2,  34.1779,2,-999.0000,9,   272.2,2,   16.88,2,   28.26,2,    0.01,2,    1.97,2,   3.053,2,   1.425,2,  -999.0,9,  -999.0,9,  -999.0,9,  -999.0,9, -999.00,     4.0283,   4.0063,     -999.0,9
318M19881207,      SAVE4,     191,          2,          9,          9,2,19881219,       2233,   -47.0217,   -39.4417,       5570,   417.5,  34.1509,2,-999.0000,9,-999.0000,9,  -999.0,9, -999.00,9, -999.00,9, -999.00,9, -999.00,9,-999.000,9,-999.000,9,  -999.0,9,  -999.0,9,  -999.0,9,  -999.0,9, -999.00,     3.3266,   3.2993,     -999.0,9
318M19881207,      SAVE4,     191,          2,         10,         10,2,19881219,       2233,   -47.0217,   -39.4417,       5570,   519.6,  34.1921,2,-999.0000,9,-999.0000,9,  -999.0,9, -999.00,9, -999.00,9, -999.00,9, -999.00,9,-999.000,9,-999.000,9,  -999.0,9,  -999.0,9,  -999.0,9,  -999.0,9, -999.00,     3.0488,   3.0155,     -999.0,9
318M19881207,      SAVE4,     191,          2,         11,         11,2,19881219,       2233,   -47.0217,   -39.4417,       5570,   622.1,  34.2054,2,-999.0000,9,-999.0000,9,  -999.0,9, -999.00,9, -999.00,9, -999.00,9, -999.00,9,-999.000,9,-999.000,9,  -999.0,9,  -999.0,9,  -999.0,9,  -999.0,9, -999.00,     2.6652,   2.6268,     -999.0,9
318M19881207,      SAVE4,     191,          2,         12,         12,2,19881219,       2233,   -47.0217,   -39.4417,       5570,   839.3,  34.3321,2,  34.3315,2,-999.0000,9,   213.3,2,   51.68,2,   34.90,2,    0.01,2,    2.41,2,   1.156,2,   0.547,2,  -999.0,9,  -999.0,9,  -999.0,9,  -999.0,9, -999.00,     2.5204,   2.4679,     -999.0,9
318M19881207,      SAVE4,     191,          2,         13,         13,2,19881219,       2233,   -47.0217,   -39.4417,       5570,   980.7,  34.4359,2,  34.4306,2,-999.0000,9,   192.6,2,   60.84,2,   35.73,2,    0.01,2,    2.48,2,   0.558,2,   0.280,2,  -999.0,9,  -999.0,9,  -999.0,9,  -999.0,9, -999.00,     2.5979,   2.5347,     -999.0,9
318M19881207,      SAVE4,     191,          2,         14,         14,2,19881219,       2233,   -47.0217,   -39.4417,       5570,  1186.9,  34.5419,2,  34.5372,2,-999.0000,9,   180.5,2,   69.08,2,   35.61,2,    0.01,2,    2.47,2,-999.000,9,-999.000,9,  -999.0,9,  -999.0,9,  -999.0,9,  -999.0,9, -999.00,     2.5668,   2.4884,     -999.0,9
318M19881207,      SAVE4,     191,          2,         15,         15,2,19881219,       2233,   -47.0217,   -39.4417,       5570,  1414.3,  34.6213,2,  34.6205,2,-999.0000,9,   178.7,2,   75.70,2,   34.60,2,    0.01,2,    2.41,2,   0.143,2,   0.099,2,  -999.0,9,  -999.0,9,  -999.0,9,  -999.0,9, -999.00,     2.4802,   2.3850,     -999.0,9
318M19881207,      SAVE4,     191,          2,         16,         16,2,19881219,       2233,   -47.0217,   -39.4417,       5570,  1547.7,  34.6763,2,  34.6741,2,-999.0000,9,   182.6,2,   76.01,2,   33.69,2,    0.01,2,    2.33,2,   0.089,2,   0.058,2,  -999.0,9,  -999.0,9,  -999.0,9,  -999.0,9, -999.00,     2.5001,   2.3940,     -999.0,9
318M19881207,      SAVE4,     191,          2,         17,         17,2,19881219,       2233,   -47.0217,   -39.4417,       5570,  1754.6,  34.7404,2,  34.7400,2,-999.0000,9,   193.3,2,   71.83,2,   31.51,2,    0.01,2,    2.17,2,-999.000,9,-999.000,9,  -999.0,9,  -999.0,9,  -999.0,9,  -999.0,9, -999.00,     2.5414,   2.4175,     -999.0,9
318M19881207,      SAVE4,     191,          2,         18,         18,2,19881219,       2233,   -47.0217,   -39.4417,       5570,  1961.7,  34.7639,2,  34.7640,2,-999.0000,9,   199.3,2,   73.62,2,   30.75,2,    0.01,2,    2.12,2,   0.038,2,   0.026,2,  -999.0,9,  -999.0,9,  -999.0,9,  -999.0,9, -999.00,     2.4403,   2.3000,     -999.0,9
318M19881207,      SAVE4,     191,          2,         19,         19,2,19881219,       2233,   -47.0217,   -39.4417,       5570,  2168.2,  34.7795,2,  34.7777,2,-999.0000,9,   205.6,2,   74.70,2,   30.05,2,    0.01,2,    2.08,2,-999.000,9,-999.000,9,  -999.0,9,  -999.0,9,  -999.0,9,  -999.0,9, -999.00,     2.3336,   2.1769,     -999.0,9
318M19881207,      SAVE4,     191,          2,         20,         20,2,19881219,       2233,   -47.0217,   -39.4417,       5570,  2375.1,  34.7881,2,  34.7862,2,-999.0000,9,   209.2,2,   75.68,2,   29.74,2,    0.00,2,    2.05,2,   0.024,2,   0.016,2,  -999.0,9,  -999.0,9,  -999.0,9,  -999.0,9, -999.00,     2.2044,   2.0312,     -999.0,9
318M19881207,      SAVE4,     191,          2,         21,         21,2,19881219,       2233,   -47.0217,   -39.4417,       5570,  2581.9,  34.7667,2,  34.7636,2,-999.0000,9,   205.4,2,   87.13,2,   31.06,2,    0.00,2,    2.15,2,   0.028,2,   0.021,2,  -999.0,9,  -999.0,9,  -999.0,9,  -999.0,9, -999.00,     1.9235,   1.7367,     -999.0,9
318M19881207,      SAVE4,     191,          2,         22,         22,2,19881219,       2233,   -47.0217,   -39.4417,       5570,  2789.1,  34.7459,2,  34.7443,2,-999.0000,9,   203.1,2,   97.27,2,   31.91,2,    0.00,2,    2.22,2,-999.000,9,-999.000,9,  -999.0,9,  -999.0,9,  -999.0,9,  -999.0,9, -999.00,     1.6469,   1.4465,     -999.0,9
318M19881207,      SAVE4,     191,          2,         23,         23,2,19881219,       2233,   -47.0217,   -39.4417,       5570,  2944.8,  34.7266,2,  34.7243,2,-999.0000,9,   201.0,2,  106.64,2,   32.98,2,    0.00,2,    2.29,2,   0.059,2,   0.027,2,  -999.0,9,  -999.0,9,  -999.0,9,  -999.0,9, -999.00,     1.4317,   1.2214,     -999.0,9
318M19881207,      SAVE4,     191,          2,         24,         24,2,19881219,       2233,   -47.0217,   -39.4417,       5570,  3204.8,  34.7236,2,  34.7223,2,-999.0000,9,   205.6,2,  109.77,2,   33.06,2,    0.00,2,    2.28,2,   0.067,2,   0.033,2,  -999.0,9,  -999.0,9,  -999.0,9,  -999.0,9, -999.00,     1.2550,   1.0239,     -999.0,9
318M19881207,      SAVE4,     191,          2,         25,         25,2,19881219,       2233,   -47.0217,   -39.4417,       5570,  3411.7,  34.7124,2,  34.7101,2,-999.0000,9,   206.7,2,  115.56,2,   33.54,2,    0.00,2,    2.33,2,-999.000,9,-999.000,9,  -999.0,9,  -999.0,9,  -999.0,9,  -999.0,9, -999.00,     1.0802,   0.8332,     -999.0,9
318M19881207,      SAVE4,     191,          2,         26,         26,2,19881219,       2233,   -47.0217,   -39.4417,       5570,  3619.8,  34.7006,2,  34.6983,2,-999.0000,9,   209.0,2,  120.00,2,   34.07,2,    0.00,2,    2.35,2,   0.124,2,   0.088,2,  -999.0,9,  -999.0,9,  -999.0,9,  -999.0,9, -999.00,     0.8906,   0.6279,     -999.0,9
318M19881207,      SAVE4,     191,          2,         27,         27,2,19881219,       2233,   -47.0217,   -39.4417,       5570,  3828.0,  34.6946,2,  34.6908,2,-999.0000,9,   212.4,2,  120.88,2,   34.30,2,    0.00,2,    2.36,2,-999.000,9,-999.000,9,  -999.0,9,  -999.0,9,  -999.0,9,  -999.0,9, -999.00,     0.7555,   0.4754,     -999.0,9
318M19881207,      SAVE4,     191,          2,         28,         28,2,19881219,       2233,   -47.0217,   -39.4417,       5570,  4035.5,  34.6872,2,  34.6842,2,-999.0000,9,   215.4,2,  124.64,2,   34.38,2,    0.00,2,    2.37,2,   0.132,2,   0.080,2,  -999.0,9,  -999.0,9,  -999.0,9,  -999.0,9, -999.00,     0.6163,   0.3188,     -999.0,9
318M19881207,      SAVE4,     191,          2,         29,         29,2,19881219,       2233,   -47.0217,   -39.4417,       5570,  4242.9,  34.6804,2,  34.6773,2,-999.0000,9,   219.5,2,  126.62,2,   34.51,2,    0.00,2,    2.39,2,-999.000,9,-999.000,9,  -999.0,9,  -999.0,9,  -999.0,9,  -999.0,9, -999.00,     0.4735,   0.1584,     -999.0,9
318M19881207,      SAVE4,     191,          2,         30,         30,2,19881219,       2233,   -47.0217,   -39.4417,       5570,  4449.3,  34.6769,2,  34.6743,2,-999.0000,9,   220.6,2,  126.61,2,   34.69,2,    0.00,2,    2.38,2,   0.091,2,   0.066,2,  -999.0,9,  -999.0,9,  -999.0,9,  -999.0,9, -999.00,     0.3913,   0.0566,     -999.0,9
318M19881207,      SAVE4,     191,          2,         31,         31,2,19881219,       2233,   -47.0217,   -39.4417,       5570,  4656.8,  34.6732,2,  34.6712,2,-999.0000,9,   223.4,2,  127.47,2,   34.73,2,    0.00,2,    2.41,2,-999.000,9,-999.000,9,  -999.0,9,  -999.0,9,  -999.0,9,  -999.0,9, -999.00,     0.3285,  -0.0269,     -999.0,9
318M19881207,      SAVE4,     191,          2,         32,         32,2,19881219,       2233,   -47.0217,   -39.4417,       5570,  4863.3,  34.6706,2,  34.6680,2,-999.0000,9,   223.6,2,  128.78,2,   34.91,2,    0.00,2,    2.40,2,   0.092,2,   0.064,2,  -999.0,9,  -999.0,9,  -999.0,9,  4855.3,2, -999.00,     0.2758,  -0.1009,      0.283,2
318M19881207,      SAVE4,     191,          2,         33,         33,2,19881219,       2233,   -47.0217,   -39.4417,       5570,  5069.2,  34.6681,2,  34.6653,2,-999.0000,9,   223.9,2,  128.76,2,   34.79,2,    0.00,2,    2.41,2,-999.000,9,-999.000,9,  -999.0,9,  -999.0,9,  -999.0,9,  -999.0,9, -999.00,     0.2528,  -0.1467,     -999.0,9
318M19881207,      SAVE4,     191,          2,         34,         34,2,19881219,       2233,   -47.0217,   -39.4417,       5570,  5277.4,  34.6666,2,  34.6645,2,-999.0000,9,   225.9,2,  129.40,2,   34.68,2,    0.00,2,    2.41,2,   0.110,2,   0.072,2,  -999.0,9,  -999.0,9,  -999.0,9,  -999.0,9, -999.00,     0.2455,  -0.1781,     -999.0,9
318M19881207,      SAVE4,     191,          2,         35,         35,2,19881219,       2233,   -47.0217,   -39.4417,       5570,  5485.9,  34.6651,2,  34.6629,2,-999.0000,9,   227.1,2,  131.57,2,   34.81,2,    0.00,2,    2.41,2,   0.141,2,   0.091,2,  -999.0,9,  -999.0,9,  -999.0,9,  5529.0,2, -999.00,     0.2422,  -0.2062,      0.250,2
318M19881207,      SAVE4,     191,          2,         36,         36,2,19881219,       2233,   -47.0217,   -39.4417,       5570,  5656.4,  34.6642,2,  34.6625,2,-999.0000,9,   227.4,2,  130.67,2,   34.84,2,    0.00,2,    2.40,2,   0.156,2,   0.097,2,  -999.0,9,  -999.0,9,  -999.0,9,  -999.0,9, -999.00,     0.2425,  -0.2267,     -999.0,9