BOTTLE,20211025CCHSIORKP
EXPOCODE,SECT_ID,STNNBR,CASTNO,SAMPNO,BTLNBR,BTLNBR_FLAG_W,DATE,TIME,LATITUDE,LONGITUDE,DEPTH,CTDPRS,CTDSAL,CTDSAL_FLAG_W,SALNTY,SALNTY_FLAG_W,CTDOXY,CTDOXY_FLAG_W,OXYGEN,OXYGEN_FLAG_W,SILCAT,SILCAT_FLAG_W,NITRAT,NITRAT_FLAG_W,NITRIT,NITRIT_FLAG_W,PHSPHT,PHSPHT_FLAG_W,CFC-11,CFC-11_FLAG_W,CFC-12,CFC-12_FLAG_W,TCARBN,TCARBN_FLAG_W,ALKALI,ALKALI_FLAG_W,PCO2,PCO2_FLAG_W,REVPRS,REVPRS_FLAG_W,CTDRAW,CTDTMP,THETA,REVTMP,REVTMP_FLAG_W
,,,,,,,,,,,METERS,DBAR,PSS-78,,PSS-78,,UMOL/KG,,UMOL/KG,,UMOL/KG,,UMOL/KG,,UMOL/KG,,UMOL/KG,,PMOL/KG,,PMOL/KG,,UMOL/KG,,UMOL/KG,,UATM,,DBAR,,DBAR,ITS-68,DEG C,ITS-68,
318M19881207,      SAVE4,     186,          1,          1,          1,2,19881216,       0045,   -46.9933,   -48.5167,       5903,     5.0,  34.8399,2,  34.8371,2,-999.0000,9,   271.9,2,    1.86,2,    6.48,2,    0.25,2,    0.71,2,   3.116,2,   1.496,2,  2071.2,2,  2313.9,2,   447.3,2,     9.4,2, -999.00,    11.5228,  11.5221,     11.503,2
318M19881207,      SAVE4,     186,          1,          2,          2,2,19881216,       0045,   -46.9933,   -48.5167,       5903,    20.7,  34.8585,2,  34.8499,2,-999.0000,9,   272.2,2,    1.85,2,    6.43,2,    0.25,2,    0.71,2,   3.109,2,   1.503,2,  2067.2,2,  2309.6,2,   446.5,2,  -999.0,9, -999.00,    11.4631,  11.4605,     -999.0,9
318M19881207,      SAVE4,     186,          1,          3,          3,2,19881216,       0045,   -46.9933,   -48.5167,       5903,    92.5,  35.0279,2,  35.0240,2,-999.0000,9,   266.7,2,    2.23,2,    6.75,2,    0.26,2,    0.72,2,-999.000,9,-999.000,9,  2084.0,2,  2325.6,2,   456.5,2,  -999.0,9, -999.00,    11.0369,  11.0255,     -999.0,9
318M19881207,      SAVE4,     186,          1,          4,          4,2,19881216,       0045,   -46.9933,   -48.5167,       5903,   138.5,  35.0597,2,  35.0628,2,-999.0000,9,   273.0,2,    2.81,2,    8.03,2,    0.17,2,    0.78,2,   3.047,2,   1.481,2,  2087.8,2,  2323.9,2,   470.0,2,  -999.0,9, -999.00,    11.0228,  11.0057,     -999.0,9
318M19881207,      SAVE4,     186,          1,          5,          5,2,19881216,       0045,   -46.9933,   -48.5167,       5903,   163.7,  35.1001,2,  35.0972,2,-999.0000,9,   260.5,2,    3.19,2,    8.94,2,    0.03,2,    0.82,2,-999.000,9,-999.000,9,  -999.0,9,  -999.0,9,  -999.0,9,  -999.0,9, -999.00,    10.9804,  10.9603,     -999.0,9
318M19881207,      SAVE4,     186,          1,          6,          6,2,19881216,       0045,   -46.9933,   -48.5167,       5903,   235.6,  35.0436,2,  35.0403,2,-999.0000,9,   260.6,2,    3.38,2,    9.51,2,    0.02,2,    0.87,2,   2.958,2,   1.434,2,  2094.0,2,  2320.4,2,   493.8,2,   238.8,2, -999.00,    10.7078,  10.6792,     10.687,2
318M19881207,      SAVE4,     186,          1,          7,          7,2,19881216,       0045,   -46.9933,   -48.5167,       5903,   297.4,  34.7099,2,  34.7026,2,-999.0000,9,   263.8,2,    4.74,2,   13.93,2,    0.02,2,    1.15,2,-999.000,9,-999.000,9,  -999.0,9,  -999.0,9,  -999.0,9,  -999.0,9, -999.00,     8.8648,   8.8327,     -999.0,9
318M19881207,      SAVE4,     186,          1,          8,          8,2,19881216,       0045,   -46.9933,   -48.5167,       5903,   338.4,  34.5208,2,  34.5099,2,-999.0000,9,   261.5,2,    6.29,2,   17.28,2,    0.02,2,    1.36,2,   3.084,2,   1.480,2,  2113.9,2,  2295.0,2,   620.6,2,  -999.0,9, -999.00,     7.6991,   7.6656,     -999.0,9
318M19881207,      SAVE4,     186,          1,          9,          9,2,19881216,       0045,   -46.9933,   -48.5167,       5903,   399.8,  34.2788,2,  34.2707,2,-999.0000,9,   259.9,2,    9.41,2,   22.21,2,    0.02,2,    1.65,2,   3.041,2,   1.433,2,  2133.9,2,  2289.3,2,   721.9,2,  -999.0,9, -999.00,     5.9314,   5.8971,     -999.0,9
318M19881207,      SAVE4,     186,          1,         10,         10,2,19881216,       0045,   -46.9933,   -48.5167,       5903,   471.7,  34.2144,2,  34.2068,2,-999.0000,9,   266.4,2,   11.54,2,   23.92,2,    0.02,2,    1.77,2,-999.000,9,-999.000,9,  2139.0,2,  2287.4,2,   753.6,2,  -999.0,9, -999.00,     5.0654,   5.0279,     -999.0,9
318M19881207,      SAVE4,     186,          1,         11,         11,2,19881216,       0045,   -46.9933,   -48.5167,       5903,   607.8,  34.1947,2,  34.1881,2,-999.0000,9,   271.4,2,   15.43,2,   25.40,2,    0.01,2,    1.88,2,   2.896,2,   1.366,2,  2144.3,2,  2286.5,2,   785.2,2,  -999.0,9, -999.00,     4.2811,   4.2359,     -999.0,9
318M19881207,      SAVE4,     186,          1,         12,         12,2,19881216,       0045,   -46.9933,   -48.5167,       5903,   778.9,  34.1963,2,  34.1930,2,-999.0000,9,   263.1,2,   22.43,2,   28.07,2,    0.01,2,    2.01,2,-999.000,9,-999.000,9,  2154.7,2,  2286.6,2,   842.4,2,  -999.0,9, -999.00,     3.5916,   3.5369,     -999.0,9
318M19881207,      SAVE4,     186,          1,         13,         13,2,19881216,       0045,   -46.9933,   -48.5167,       5903,   865.3,  34.2010,2,  34.2001,2,-999.0000,9,   258.5,2,   27.08,2,   29.34,2,    0.01,2,    2.09,2,   2.350,2,   1.087,2,  -999.0,9,  -999.0,9,  -999.0,9,  -999.0,9, -999.00,     3.1457,   3.0873,     -999.0,9
318M19881207,      SAVE4,     186,          1,         14,         14,2,19881216,       0045,   -46.9933,   -48.5167,       5903,   932.4,  34.2183,2,  34.2183,2,-999.0000,9,   249.9,2,   30.95,2,   29.95,2,    0.01,2,    2.15,2,   2.087,2,   0.982,2,  -999.0,9,  -999.0,9,  -999.0,9,  -999.0,9, -999.00,     2.9813,   2.9191,     -999.0,9
318M19881207,      SAVE4,     186,          1,         15,         15,2,19881216,       0045,   -46.9933,   -48.5167,       5903,  1035.5,  34.2524,2,  34.2511,2,-999.0000,9,   239.0,2,   37.66,2,   31.13,2,    0.01,2,    2.22,2,-999.000,9,-999.000,9,  2189.0,2,  2302.6,2,   969.2,2,  -999.0,9, -999.00,     2.7589,   2.6907,     -999.0,9
318M19881207,      SAVE4,     186,          1,         16,         16,2,19881216,       0045,   -46.9933,   -48.5167,       5903,  1239.4,  34.3701,2,  34.3713,2,-999.0000,9,   206.5,2,   53.09,2,   33.41,2,    0.01,2,    2.36,2,   0.885,2,   0.425,2,  2216.9,2,  2316.5,2,  1084.4,2,  -999.0,9, -999.00,     2.6536,   2.5707,     -999.0,9
318M19881207,      SAVE4,     186,          1,         17,         17,2,19881216,       0045,   -46.9933,   -48.5167,       5903,  1395.9,  34.4552,2,  34.4548,2,-999.0000,9,   190.3,2,   61.16,2,   33.86,2,    0.01,2,    2.40,2,-999.000,9,-999.000,9,  -999.0,9,  -999.0,9,  -999.0,9,  -999.0,9, -999.00,     2.6495,   2.5543,     -999.0,9
318M19881207,      SAVE4,     186,          1,         18,         18,2,19881216,       0045,   -46.9933,   -48.5167,       5903,  1549.2,  34.5284,2,  34.5294,2,-999.0000,9,   182.9,2,   65.19,2,   33.69,2,    0.01,2,    2.38,2,   0.255,2,   0.147,2,  -999.0,9,  -999.0,9,  -999.0,9,  -999.0,9, -999.00,     2.6847,   2.5766,     -999.0,9
318M19881207,      SAVE4,     186,          1,         19,         19,2,19881216,       0045,   -46.9933,   -48.5167,       5903,  1703.4,  34.5900,2,  34.5908,2,-999.0000,9,   181.2,2,   69.01,2,   33.18,2,    0.01,2,    2.36,2,-999.000,9,-999.000,9,  2241.2,2,  2340.8,2,  1108.0,2,  -999.0,9, -999.00,     2.6489,   2.5283,     -999.0,9
318M19881207,      SAVE4,     186,          1,         20,         20,2,19881216,       0045,   -46.9933,   -48.5167,       5903,  1805.4,  34.6312,2,  34.6307,2,-999.0000,9,   182.5,2,   69.15,2,   32.53,2,    0.01,2,    2.31,2,   0.162,2,   0.073,2,  -999.0,9,  -999.0,9,  -999.0,9,  -999.0,9, -999.00,     2.6901,   2.5601,     -999.0,9
318M19881207,      SAVE4,     186,          1,         21,         21,2,19881216,       0045,   -46.9933,   -48.5167,       5903,  2010.7,  34.7073,2,  34.7087,2,-999.0000,9,   191.3,2,   65.99,2,   30.64,2,    0.01,2,    2.17,2,   0.071,2,   0.036,2,  -999.0,9,  -999.0,9,  -999.0,9,  -999.0,9, -999.00,     2.7423,   2.5934,     -999.0,9
318M19881207,      SAVE4,     186,          1,         22,         22,2,19881216,       0045,   -46.9933,   -48.5167,       5903,  2264.7,  34.7904,2,  34.7895,2,-999.0000,9,   206.9,2,   58.19,2,   27.56,2,    0.01,2,    1.97,2,-999.000,9,-999.000,9,  2216.7,2,  2337.8,2,   954.1,2,  -999.0,9, -999.00,     2.8433,   2.6693,     -999.0,9
318M19881207,      SAVE4,     186,          1,         23,         23,2,19881216,       0045,   -46.9933,   -48.5167,       5903,  2515.8,  34.8158,2,  34.8159,2,-999.0000,9,   214.6,2,   59.21,2,   26.50,2,    0.00,2,    1.91,2,   0.040,2,   0.021,2,  -999.0,9,  -999.0,9,  -999.0,9,  -999.0,9, -999.00,     2.7047,   2.5092,     -999.0,9
318M19881207,      SAVE4,     186,          1,         24,         24,2,19881216,       0045,   -46.9933,   -48.5167,       5903,  2764.9,  34.8426,2,  34.8444,2,-999.0000,9,   225.6,2,   55.30,2,   25.06,2,    0.00,2,    1.80,2,-999.000,9,-999.000,9,  2201.8,3,  2336.2,2,   872.6,2,  2758.5,2, -999.00,     2.6392,   2.4204,      2.641,2
318M19881207,      SAVE4,     186,          1,         25,         25,2,19881216,       0045,   -46.9933,   -48.5167,       5903,  3019.3,  34.8060,2,  34.8068,2,-999.0000,9,   215.9,2,   69.73,2,   27.08,2,    0.00,2,    1.94,2,   0.032,2,   0.016,2,  -999.0,9,  -999.0,9,  -999.0,9,  -999.0,9, -999.00,     2.2720,   2.0357,     -999.0,9
318M19881207,      SAVE4,     186,          1,         26,         26,2,19881216,       0045,   -46.9933,   -48.5167,       5903,  3322.9,  34.7815,2,  34.7836,2,-999.0000,9,   215.8,2,   82.40,2,   28.39,2,    0.00,2,    2.04,2,   0.032,2,   0.025,2,  2228.6,3,  2352.9,2,   947.7,2,  -999.0,9, -999.00,     1.9289,   1.6698,     -999.0,9
318M19881207,      SAVE4,     186,          1,         27,         27,2,19881216,       0045,   -46.9933,   -48.5167,       5903,  3603.5,  34.7448,2,  34.7423,2,-999.0000,9,   207.7,2,   98.36,2,   30.32,2,    0.00,2,    2.17,2,   0.051,2,   0.024,2,  -999.0,9,  -999.0,9,  -999.0,9,  -999.0,9, -999.00,     1.5458,   1.2675,     -999.0,9
318M19881207,      SAVE4,     186,          1,         28,         28,2,19881216,       0045,   -46.9933,   -48.5167,       5903,  3814.0,  34.7286,2,  34.7282,2,-999.0000,9,   207.6,2,  104.66,2,   31.01,2,    0.00,2,    2.22,2,   0.055,2,   0.032,2,  2249.5,2,  2361.4,2,  1039.3,2,  -999.0,9, -999.00,     1.3160,   1.0218,     -999.0,9
318M19881207,      SAVE4,     186,          1,         29,         29,2,19881216,       0045,   -46.9933,   -48.5167,       5903,  4025.7,  34.7165,2,-999.0000,9,-999.0000,9,  -999.0,9, -999.00,9, -999.00,9, -999.00,9, -999.00,9,-999.000,9,-999.000,9,  -999.0,9,  -999.0,9,  -999.0,9,  -999.0,9, -999.00,     1.1105,   0.7996,     -999.0,9
318M19881207,      SAVE4,     186,          1,         30,         30,2,19881216,       0045,   -46.9933,   -48.5167,       5903,  4338.8,  34.6983,2,  34.6969,2,-999.0000,9,   213.3,2,  117.53,2,   32.08,2,    0.00,2,    2.30,2,   0.077,2,   0.061,2,  -999.0,9,  -999.0,9,  -999.0,9,  -999.0,9, -999.00,     0.8233,   0.4872,     -999.0,9
318M19881207,      SAVE4,     186,          1,         31,         31,2,19881216,       0045,   -46.9933,   -48.5167,       5903,  4652.5,  34.6852,2,  34.6855,2,-999.0000,9,   218.0,2,  121.71,2,   32.39,2,    0.00,2,    2.34,2,-999.000,9,-999.000,9,  -999.0,9,  -999.0,9,  -999.0,9,  -999.0,9, -999.00,     0.5778,   0.2148,     -999.0,9
318M19881207,      SAVE4,     186,          1,         32,         32,2,19881216,       0045,   -46.9933,   -48.5167,       5903,  4964.7,  34.6759,2,  34.6745,2,-999.0000,9,   221.9,2, -999.00,9, -999.00,9, -999.00,9, -999.00,9,   0.081,2,   0.040,2,  2257.8,2,  -999.0,9,  1069.5,2,  4996.4,2, -999.00,     0.3989,   0.0064,      0.404,2
318M19881207,      SAVE4,     186,          1,         33,         33,2,19881216,       0045,   -46.9933,   -48.5167,       5903,  5335.8,  34.6696,2,  34.6694,2,-999.0000,9,   225.0,2,  127.24,2,   32.79,2,    0.00,2,    2.36,2,   0.078,2,   0.055,2,  -999.0,9,  -999.0,9,  -999.0,9,  -999.0,9, -999.00,     0.3062,  -0.1266,     -999.0,9
318M19881207,      SAVE4,     186,          1,         34,         34,2,19881216,       0045,   -46.9933,   -48.5167,       5903,  5602.4,  34.6681,2,  34.6673,2,-999.0000,9,   225.3,2,  128.31,2,   32.81,2,    0.00,2,    2.36,2,   0.086,2,   0.053,2,  2260.2,2,  2368.5,2,  1073.1,2,  -999.0,9, -999.00,     0.3075,  -0.1576,     -999.0,9
318M19881207,      SAVE4,     186,          1,         35,         35,2,19881216,       0045,   -46.9933,   -48.5167,       5903,  5903.2,  34.6672,2,  34.6663,2,-999.0000,9,   224.5,2,  128.99,2,   32.88,2,    0.00,2,    2.39,2,   0.089,2,   0.071,2,  -999.0,9,  -999.0,9,  -999.0,9,  -999.0,9, -999.00,     0.3221,  -0.1810,     -999.0,9
318M19881207,      SAVE4,     186,          1,         36,         36,2,19881216,       0045,   -46.9933,   -48.5167,       5903,  6061.1,  34.6662,2,  34.6657,2,-999.0000,9,   224.2,2,  129.67,2,   32.95,2,    0.01,2,    2.43,2,   0.093,2,   0.055,2,  2259.9,2,  2367.8,2,  1077.2,2,  -999.0,9, -999.00,     0.3389,  -0.1850,     -999.0,9