BOTTLE,20211025CCHSIORKP
EXPOCODE,SECT_ID,STNNBR,CASTNO,SAMPNO,BTLNBR,BTLNBR_FLAG_W,DATE,TIME,LATITUDE,LONGITUDE,DEPTH,CTDPRS,CTDSAL,CTDSAL_FLAG_W,SALNTY,SALNTY_FLAG_W,CTDOXY,CTDOXY_FLAG_W,OXYGEN,OXYGEN_FLAG_W,SILCAT,SILCAT_FLAG_W,NITRAT,NITRAT_FLAG_W,NITRIT,NITRIT_FLAG_W,PHSPHT,PHSPHT_FLAG_W,CFC-11,CFC-11_FLAG_W,CFC-12,CFC-12_FLAG_W,TCARBN,TCARBN_FLAG_W,ALKALI,ALKALI_FLAG_W,PCO2,PCO2_FLAG_W,REVPRS,REVPRS_FLAG_W,CTDRAW,CTDTMP,THETA,REVTMP,REVTMP_FLAG_W
,,,,,,,,,,,METERS,DBAR,PSS-78,,PSS-78,,UMOL/KG,,UMOL/KG,,UMOL/KG,,UMOL/KG,,UMOL/KG,,UMOL/KG,,PMOL/KG,,PMOL/KG,,UMOL/KG,,UMOL/KG,,UATM,,DBAR,,DBAR,ITS-68,DEG C,ITS-68,
318M19881207,      SAVE4,     203,          2,          1,          1,2,19881228,       2302,   -42.7533,   -14.9667,       3051,     4.0,  34.5636,2,  34.5660,2,-999.0000,9,   277.7,2,    0.33,2,    6.76,2,    0.13,2,    0.68,2,-999.000,9,-999.000,9,  2054.7,2,  2295.2,2,   442.0,2,     2.6,2, -999.00,    12.6118,  12.6113,     12.588,2
318M19881207,      SAVE4,     203,          2,          2,          2,2,19881228,       2302,   -42.7533,   -14.9667,       3051,    27.0,  34.6067,2,  34.6220,2,-999.0000,9,   279.7,2,    0.46,2,    6.11,2,    0.12,2,    0.64,2,-999.000,9,-999.000,9,  2053.2,2,  2298.6,2,   432.6,2,  -999.0,9, -999.00,    12.5984,  12.5948,     -999.0,9
318M19881207,      SAVE4,     203,          2,          3,          3,2,19881228,       2302,   -42.7533,   -14.9667,       3051,    58.0,  34.7406,2,  34.7470,2,-999.0000,9,   275.0,2,    0.80,2,    6.04,2,    0.23,2,    0.67,2,   3.171,2,   1.511,2,  2066.6,2,  2306.3,2,   450.1,2,  -999.0,9, -999.00,    11.9818,  11.9743,     -999.0,9
318M19881207,      SAVE4,     203,          2,          4,          4,2,19881228,       2302,   -42.7533,   -14.9667,       3051,    83.4,  34.7518,2,  34.7490,2,-999.0000,9,   272.3,2,    2.10,2,    8.68,2,    0.56,2,    0.83,2,   3.214,2,   1.511,2,  2080.6,2,  2298.1,2,   505.0,2,  -999.0,9, -999.00,    10.5489,  10.5389,     -999.0,9
318M19881207,      SAVE4,     203,          2,          5,          5,2,19881228,       2302,   -42.7533,   -14.9667,       3051,   109.2,  34.6033,2,  34.6070,2,-999.0000,9,   277.6,2,    3.01,2,   10.95,2,    0.60,2,    0.98,2,   3.498,2,   1.660,2,  2083.0,2,  2284.7,2,   545.1,2,  -999.0,9, -999.00,     9.4101,   9.3980,     -999.0,9
318M19881207,      SAVE4,     203,          2,          6,          6,2,19881228,       2302,   -42.7533,   -14.9667,       3051,   160.4,  34.5909,2,  34.5910,2,-999.0000,9,   275.3,2,    3.73,2,   13.23,2,    0.02,2,    1.05,2,   3.355,2,   1.577,2,  2095.5,2,  2291.7,2,   565.9,2,  -999.0,9, -999.00,     8.5708,   8.5540,     -999.0,9
318M19881207,      SAVE4,     203,          2,          7,          7,2,19881228,       2302,   -42.7533,   -14.9667,       3051,   211.5,  34.5414,2,  34.5420,2,-999.0000,9,   276.3,2,    3.87,2,   14.19,2,    0.01,2,    1.11,2,   3.438,2,   1.607,2,  2096.0,2,  2286.7,2,   581.5,2,  -999.0,9, -999.00,     8.1000,   8.0785,     -999.0,9
318M19881207,      SAVE4,     203,          2,          8,          8,2,19881228,       2302,   -42.7533,   -14.9667,       3051,   313.5,  34.4508,2,  34.4520,2,-999.0000,9,   276.4,2,    4.59,2,   16.07,2,    0.01,2,    1.22,2,   3.345,2,   1.578,2,  2105.0,2,  2286.2,2,   614.1,2,  -999.0,9, -999.00,     7.3507,   7.3205,     -999.0,9
318M19881207,      SAVE4,     203,          2,          9,          9,2,19881228,       2302,   -42.7533,   -14.9667,       3051,   416.0,  34.3135,2,  34.3100,2,-999.0000,9,   245.5,2,   10.75,2,   24.20,2,    0.00,2,    1.72,2,   2.417,2,   1.124,2,  2139.4,2,  2282.1,2,   780.3,2,  -999.0,9, -999.00,     5.7491,   5.7140,     -999.0,9
318M19881207,      SAVE4,     203,          2,         10,         10,2,19881228,       2302,   -42.7533,   -14.9667,       3051,   518.5,  34.2393,2,  34.2420,2,-999.0000,9,   256.1,2,   13.41,2,   25.64,2,    0.00,2,    1.82,2,   2.471,2,   1.129,2,  2141.3,2,  2279.5,2,   802.0,2,  -999.0,9, -999.00,     4.7962,   4.7559,     -999.0,9
318M19881207,      SAVE4,     203,          2,         11,         11,2,19881228,       2302,   -42.7533,   -14.9667,       3051,   620.4,  34.2244,2,  34.2260,2,-999.0000,9,   256.1,2,   16.85,2,   26.68,2,    0.00,2,    1.89,2,   2.119,2,   0.979,2,  2144.5,2,  2280.1,2,   817.1,2,  -999.0,9, -999.00,     4.3175,   4.2711,     -999.0,9
318M19881207,      SAVE4,     203,          2,         12,         12,2,19881228,       2302,   -42.7533,   -14.9667,       3051,   723.2,  34.2193,2,  34.2210,2,-999.0000,9,   248.8,2,   21.07,2,   28.13,2,    0.00,2,    1.98,2,   1.723,2,   0.788,2,  2158.1,2,  2285.9,2,   865.5,2,  -999.0,9, -999.00,     3.9305,   3.8780,     -999.0,9
318M19881207,      SAVE4,     203,          2,         13,         13,2,19881228,       2302,   -42.7533,   -14.9667,       3051,   825.6,  34.2279,2,  34.2260,2,-999.0000,9,   245.4,2,   25.48,2,   29.00,2,    0.00,2,    2.06,2,-999.000,9,-999.000,9,  -999.0,9,  -999.0,9,  -999.0,9,  -999.0,9, -999.00,     3.5260,   3.4680,     -999.0,9
318M19881207,      SAVE4,     203,          2,         14,         14,2,19881228,       2302,   -42.7533,   -14.9667,       3051,   928.4,  34.2511,2,  34.2500,2,-999.0000,9,   234.2,2,   32.42,2,   30.36,2,    0.00,2,    2.14,2,   1.217,2,   0.556,2,  2171.8,2,  2288.5,2,   938.8,2,  -999.0,9, -999.00,     3.2269,   3.1632,     -999.0,9
318M19881207,      SAVE4,     203,          2,         15,         15,2,19881228,       2302,   -42.7533,   -14.9667,       3051,  1031.1,  34.2909,2,  34.2880,2,-999.0000,9,   222.0,2,   38.96,2,   31.41,2,    0.00,2,    2.22,2,-999.000,9,-999.000,9,  -999.0,9,  -999.0,9,  -999.0,9,  -999.0,9, -999.00,     3.0113,   2.9413,     -999.0,9
318M19881207,      SAVE4,     203,          2,         16,         16,2,19881228,       2302,   -42.7533,   -14.9667,       3051,  1134.7,  34.3365,2,  34.3340,2,-999.0000,9,   210.8,2,   45.32,2,   32.29,2,    0.00,2,    2.28,2,   0.667,2,   0.308,2,  2203.8,2,  2307.8,2,  1042.7,2,  -999.0,9, -999.00,     2.8858,   2.8089,     -999.0,9
318M19881207,      SAVE4,     203,          2,         17,         17,2,19881228,       2302,   -42.7533,   -14.9667,       3051,  1236.8,  34.3961,2,  34.3960,2,-999.0000,9,   198.5,2,   51.87,2,   32.77,2,    0.00,2,    2.31,2,-999.000,9,-999.000,9,  -999.0,9,  -999.0,9,  -999.0,9,  -999.0,9, -999.00,     2.7963,   2.7122,     -999.0,9
318M19881207,      SAVE4,     203,          2,         18,         18,2,19881228,       2302,   -42.7533,   -14.9667,       3051,  1339.3,  34.4532,2,  34.4550,2,-999.0000,9,   189.7,2,   57.25,2,   32.98,2,    0.00,2,    2.33,2,   0.306,2,   0.141,2,  2216.7,2,  2311.1,2,  1123.3,2,  -999.0,9, -999.00,     2.7449,   2.6532,     -999.0,9
318M19881207,      SAVE4,     203,          2,         19,         19,2,19881228,       2302,   -42.7533,   -14.9667,       3051,  1442.4,  34.5252,2,  34.5280,2,-999.0000,9,   183.5,2,   61.09,2,   32.88,2,    0.00,2,    2.31,2,-999.000,9,-999.000,9,  -999.0,9,  -999.0,9,  -999.0,9,  -999.0,9, -999.00,     2.7110,   2.6113,     -999.0,9
318M19881207,      SAVE4,     203,          2,         20,         20,2,19881228,       2302,   -42.7533,   -14.9667,       3051,  1545.5,  34.5848,2,  34.5850,2,-999.0000,9,   182.4,2,   62.59,2,   32.39,2,    0.00,2,    2.27,2,   0.120,2,   0.056,2,  2232.9,2,  2329.8,2,  1119.1,2,  -999.0,9, -999.00,     2.7059,   2.5978,     -999.0,9
318M19881207,      SAVE4,     203,          2,         21,         21,2,19881228,       2302,   -42.7533,   -14.9667,       3051,  1648.9,  34.6268,2,  34.6260,2,-999.0000,9,   184.3,2,   63.12,2,   31.59,2,    0.00,2,    2.22,2,-999.000,9,-999.000,9,  -999.0,9,  -999.0,9,  -999.0,9,  -999.0,9, -999.00,     2.7130,   2.5961,     -999.0,9
318M19881207,      SAVE4,     203,          2,         22,         22,2,19881228,       2302,   -42.7533,   -14.9667,       3051,  1752.4,  34.6610,2,  34.6600,2,-999.0000,9,   186.5,2,   63.07,2,   30.92,2,    0.00,2,    2.16,2,   0.062,2,   0.032,2,  2230.6,2,  2336.1,2,  1059.1,2,  -999.0,9, -999.00,     2.7210,   2.5951,     -999.0,9
318M19881207,      SAVE4,     203,          2,         23,         23,2,19881228,       2302,   -42.7533,   -14.9667,       3051,  1856.1,  34.7134,2,  34.7140,2,-999.0000,9,   193.2,2,   60.88,2,   29.60,2,    0.00,2,    2.09,2,-999.000,9,-999.000,9,  -999.0,9,  -999.0,9,  -999.0,9,  -999.0,9, -999.00,     2.7102,   2.5754,     -999.0,9
318M19881207,      SAVE4,     203,          2,         24,         24,2,19881228,       2302,   -42.7533,   -14.9667,       3051,  1960.2,  34.7346,2,  34.7360,2,-999.0000,9,   196.5,2,   62.38,2,   28.98,2,    0.00,2,    2.03,2,   0.035,2,   0.017,2,  2223.1,2,  2336.2,2,  1006.1,2,  -999.0,9, -999.00,     2.7113,   2.5673,     -999.0,9
318M19881207,      SAVE4,     203,          2,         25,         25,2,19881228,       2302,   -42.7533,   -14.9667,       3051,  2062.3,  34.7532,2,  34.7530,2,-999.0000,9,   199.7,2,   62.13,2,   28.45,2,    0.00,2,    1.99,2,-999.000,9,-999.000,9,  -999.0,9,  -999.0,9,  -999.0,9,  -999.0,9, -999.00,     2.6943,   2.5413,     -999.0,9
318M19881207,      SAVE4,     203,          2,         26,         26,2,19881228,       2302,   -42.7533,   -14.9667,       3051,  2165.8,  34.7688,2,  34.7680,2,-999.0000,9,   203.3,2,   61.06,2,   27.87,2,    0.00,2,    1.96,2,   0.025,2,   0.008,2,  2213.9,2,  2331.2,2,   974.4,2,  -999.0,9, -999.00,     2.6605,   2.4987,     -999.0,9
318M19881207,      SAVE4,     203,          2,         27,         27,2,19881228,       2302,   -42.7533,   -14.9667,       3051,  2269.7,  34.7825,2,  34.7820,2,-999.0000,9,   206.1,2,   62.37,2,   27.47,2,    0.00,2,    1.94,2,-999.000,9,-999.000,9,  -999.0,9,  -999.0,9,  -999.0,9,  -999.0,9, -999.00,     2.5932,   2.4230,     -999.0,9
318M19881207,      SAVE4,     203,          2,         28,         28,2,19881228,       2302,   -42.7533,   -14.9667,       3051,  2373.2,  34.7886,2,  34.7900,2,-999.0000,9,   209.1,2,   64.07,2,   27.38,2,    0.00,2,    1.91,2,   0.015,2,   0.007,2,  2223.3,2,  2348.0,2,   938.1,2,  -999.0,9, -999.00,     2.4937,   2.3156,     -999.0,9
318M19881207,      SAVE4,     203,          2,         29,         29,2,19881228,       2302,   -42.7533,   -14.9667,       3051,  2475.8,  34.7942,2,  34.7930,2,-999.0000,9,   211.1,2,   65.57,2,   27.15,2,    0.00,2,    1.91,2,-999.000,9,-999.000,9,  -999.0,9,  -999.0,9,  -999.0,9,  -999.0,9, -999.00,     2.4197,   2.2333,     -999.0,9
318M19881207,      SAVE4,     203,          2,         30,         30,2,19881228,       2302,   -42.7533,   -14.9667,       3051,  2580.1,  34.7939,2,  34.7950,2,-999.0000,9,   212.5,2,   67.66,2,   27.19,2,    0.00,2,    1.91,2,   0.013,2,   0.005,2,  2213.8,2,  2337.5,2,   938.8,2,  -999.0,9, -999.00,     2.3365,   2.1419,     -999.0,9
318M19881207,      SAVE4,     203,          2,         31,         31,2,19881228,       2302,   -42.7533,   -14.9667,       3051,  2684.1,  34.7945,2,  34.7950,2,-999.0000,9,   213.4,2,   68.77,2,   27.19,2,    0.00,2,    1.91,2,   0.012,2,   0.004,2,  -999.0,9,  -999.0,9,  -999.0,9,  -999.0,9, -999.00,     2.2742,   2.0708,     -999.0,9
318M19881207,      SAVE4,     203,          2,         32,         32,2,19881228,       2302,   -42.7533,   -14.9667,       3051,  2787.1,  34.7931,2,-999.0000,9,-999.0000,9,  -999.0,9, -999.00,9, -999.00,9, -999.00,9, -999.00,9,-999.000,9,-999.000,9,  2221.6,2,  -999.0,9,   954.4,2,  -999.0,9, -999.00,     2.2243,   2.0121,     -999.0,9
318M19881207,      SAVE4,     203,          2,         33,         33,2,19881228,       2302,   -42.7533,   -14.9667,       3051,  2888.8,  34.7912,2,  34.7900,2,-999.0000,9,   213.4,2,   74.13,2,   27.53,2,    0.00,2,    1.92,2,   0.021,2,-999.000,9,  -999.0,9,  -999.0,9,  -999.0,9,  -999.0,9, -999.00,     2.1655,   1.9445,     -999.0,9
318M19881207,      SAVE4,     203,          2,         34,         34,2,19881228,       2302,   -42.7533,   -14.9667,       3051,  2993.4,  34.7891,2,  34.7890,2,-999.0000,9,   213.3,2,   74.66,2,   27.56,2,    0.00,2,    1.92,2,   0.013,2,   0.006,2,  2222.5,2,  2346.4,2,   943.6,2,  -999.0,9, -999.00,     2.1170,   1.8868,     -999.0,9
318M19881207,      SAVE4,     203,          2,         35,         35,2,19881228,       2302,   -42.7533,   -14.9667,       3051,  3045.1,  34.7900,2,  34.7900,2,-999.0000,9,   214.2,2,   74.17,2,   27.42,2,    0.00,2,    1.92,2,-999.000,9,-999.000,9,  -999.0,9,  -999.0,9,  -999.0,9,  3065.8,2, -999.00,     2.1104,   1.8752,      2.115,2
318M19881207,      SAVE4,     203,          2,         36,         36,2,19881228,       2302,   -42.7533,   -14.9667,       3051,  3103.3,  34.7940,2,  34.7940,2,-999.0000,9,   216.2,2,   74.12,2,   27.29,2,    0.00,2,    1.91,2,   0.005,2,   0.002,2,  2221.3,2,  2346.0,2,   938.6,2,  -999.0,9, -999.00,     2.0959,   1.8552,     -999.0,9