BOTTLE,20211025CCHSIORKP
EXPOCODE,SECT_ID,STNNBR,CASTNO,SAMPNO,BTLNBR,BTLNBR_FLAG_W,DATE,TIME,LATITUDE,LONGITUDE,DEPTH,CTDPRS,CTDSAL,CTDSAL_FLAG_W,SALNTY,SALNTY_FLAG_W,CTDOXY,CTDOXY_FLAG_W,OXYGEN,OXYGEN_FLAG_W,SILCAT,SILCAT_FLAG_W,NITRAT,NITRAT_FLAG_W,NITRIT,NITRIT_FLAG_W,PHSPHT,PHSPHT_FLAG_W,CFC-11,CFC-11_FLAG_W,CFC-12,CFC-12_FLAG_W,TCARBN,TCARBN_FLAG_W,ALKALI,ALKALI_FLAG_W,PCO2,PCO2_FLAG_W,REVPRS,REVPRS_FLAG_W,CTDRAW,CTDTMP,THETA,REVTMP,REVTMP_FLAG_W
,,,,,,,,,,,METERS,DBAR,PSS-78,,PSS-78,,UMOL/KG,,UMOL/KG,,UMOL/KG,,UMOL/KG,,UMOL/KG,,UMOL/KG,,PMOL/KG,,PMOL/KG,,UMOL/KG,,UMOL/KG,,UATM,,DBAR,,DBAR,ITS-68,DEG C,ITS-68,
318M19881207,      SAVE4,     224,          1,          1,          1,2,19890109,       0519,   -29.9717,     6.9483,       5096,     0.2,  35.8384,2,  35.8380,2,-999.0000,9,   229.6,2,    2.44,2,    0.00,2,    0.00,2,    0.17,2,-999.000,9,-999.000,9,  -999.0,9,  -999.0,9,  -999.0,9,  -999.0,9, -999.00,    20.5910,  20.5910,     20.570,2
318M19881207,      SAVE4,     224,          1,          2,          2,2,19890109,       0519,   -29.9717,     6.9483,       5096,    41.2,  35.7484,2,  35.7570,2,-999.0000,9,   242.1,2,    2.34,2,    0.00,2,    0.00,2,    0.17,2,-999.000,9,-999.000,9,  2044.4,2,  2355.8,2,   336.2,2,  -999.0,9, -999.00,    18.8892,  18.8818,     -999.0,9
318M19881207,      SAVE4,     224,          1,          3,          3,2,19890109,       0519,   -29.9717,     6.9483,       5096,   109.4,  35.5951,2,  35.5950,2,-999.0000,9,   232.8,2,    3.03,2,    2.05,2,    0.04,2,    0.31,2,   2.356,2,   1.150,2,  2057.3,2,  2340.9,2,   378.1,2,  -999.0,9, -999.00,    16.2480,  16.2304,     -999.0,9
318M19881207,      SAVE4,     224,          1,          4,          4,2,19890109,       0519,   -29.9717,     6.9483,       5096,   260.3,  35.4997,2,  35.4970,2,-999.0000,9,   232.0,2,    3.32,2,    2.93,2,    0.01,2,    0.36,2,   2.348,2,   1.167,2,  2059.0,2,  2332.8,2,   393.4,2,  -999.0,9, -999.00,    15.7247,  15.6838,     -999.0,9
318M19881207,      SAVE4,     224,          1,          5,          5,2,19890109,       0519,   -29.9717,     6.9483,       5096,   313.4,  35.3455,2,  35.3440,2,-999.0000,9,   221.5,2,    3.91,2,    5.37,2,    0.01,2,    0.51,2,   2.259,2,   1.132,2,  2074.5,2,  2329.0,2,   431.0,2,  -999.0,9, -999.00,    14.8268,  14.7794,     -999.0,9
318M19881207,      SAVE4,     224,          1,          6,          6,2,19890109,       0519,   -29.9717,     6.9483,       5096,   396.9,  35.1837,2,  35.1830,2,-999.0000,9,   211.0,2,    5.08,2,    9.48,2,    0.01,2,    0.75,2,   1.969,2,   0.975,2,  2094.7,2,  2318.8,2,   500.8,2,  -999.0,9, -999.00,    13.2498,  13.1941,     -999.0,9
318M19881207,      SAVE4,     224,          1,          7,          7,2,19890109,       0519,   -29.9717,     6.9483,       5096,   567.0,  34.7870,2,  34.7880,2,-999.0000,9,   207.0,2,    8.70,2,   17.01,2,    0.00,2,    1.20,2,   1.574,2,   0.764,2,  2125.0,2,  2303.0,2,   639.7,2,  -999.0,9, -999.00,    10.0067,   9.9398,     -999.0,9
318M19881207,      SAVE4,     224,          1,          8,          8,2,19890109,       0519,   -29.9717,     6.9483,       5096,   672.4,  34.5733,2,  34.5710,2,-999.0000,9,   195.7,2,   14.76,2,   23.56,2,    0.00,2,    1.62,2,   1.273,2,   0.595,2,  2155.8,2,  2299.4,2,   789.5,2,  -999.0,9, -999.00,     7.8604,   7.7914,     -999.0,9
318M19881207,      SAVE4,     224,          1,          9,          9,2,19890109,       0519,   -29.9717,     6.9483,       5096,   795.8,  34.3858,2,  34.3870,2,-999.0000,9,   208.3,2,   20.43,2,   27.86,2,    0.00,2,    1.89,2,   1.160,2,   0.553,2,  2167.2,2,  2295.4,2,   870.6,2,  -999.0,9, -999.00,     5.6982,   5.6290,     -999.0,9
318M19881207,      SAVE4,     224,          1,         10,         10,2,19890109,       0519,   -29.9717,     6.9483,       5096,   946.3,  34.3362,2,  34.3360,2,-999.0000,9,   210.4,2,   30.60,2,   30.31,2,    0.00,2,    2.06,2,   0.852,2,   0.384,2,  2177.6,2,  2293.7,2,   946.2,2,  -999.0,9, -999.00,     4.3540,   4.2804,     -999.0,9
318M19881207,      SAVE4,     224,          1,         11,         11,2,19890109,       0519,   -29.9717,     6.9483,       5096,  1032.2,  34.3591,2,  34.3600,2,-999.0000,9,   200.4,2,   38.42,2,   31.87,2,    0.00,2,    2.17,2,   0.542,2,   0.290,2,  2188.6,2,  2299.5,2,   987.3,2,  -999.0,9, -999.00,     3.8512,   3.7743,     -999.0,9
318M19881207,      SAVE4,     224,          1,         12,         12,2,19890109,       0519,   -29.9717,     6.9483,       5096,  1168.3,  34.4463,2,  34.4460,2,-999.0000,9,   181.3,2,   47.22,2,   33.24,2,    0.00,2,    2.28,2,   0.166,2,   0.100,2,  2222.0,2,  2321.5,2,  1088.3,2,  -999.0,9, -999.00,     3.5205,   3.4350,     -999.0,9
318M19881207,      SAVE4,     224,          1,         13,         13,2,19890109,       0519,   -29.9717,     6.9483,       5096,  1288.4,  34.5043,2,  34.5070,2,-999.0000,9,   179.1,2,   52.30,2,   32.94,2,    0.00,2,    2.25,2,   0.083,2,   0.059,2,  -999.0,9,  -999.0,9,  -999.0,9,  -999.0,9, -999.00,     3.2818,   3.1886,     -999.0,9
318M19881207,      SAVE4,     224,          1,         14,         14,2,19890109,       0519,   -29.9717,     6.9483,       5096,  1401.6,  34.5663,2,  34.5630,2,-999.0000,9,   179.5,2,   56.79,2,   32.45,2,    0.00,2,    2.23,2,   0.052,2,   0.043,2,  -999.0,9,  -999.0,9,  -999.0,9,  -999.0,9, -999.00,     3.0986,   2.9979,     -999.0,9
318M19881207,      SAVE4,     224,          1,         15,         15,2,19890109,       0519,   -29.9717,     6.9483,       5096,  1544.7,  34.6402,2,  34.6390,2,-999.0000,9,   185.6,2,   56.89,2,   30.99,2,    0.00,2,    2.13,2,   0.018,2,   0.005,2,  -999.0,9,  -999.0,9,  -999.0,9,  -999.0,9, -999.00,     2.9730,   2.8616,     -999.0,9
318M19881207,      SAVE4,     224,          1,         16,         16,2,19890109,       0519,   -29.9717,     6.9483,       5096,  1698.3,  34.6913,2,  34.6910,2,-999.0000,9,   191.2,2,   61.09,2,   30.20,2,    0.00,2,    2.06,2,   0.011,2,   0.014,2,  -999.0,9,  -999.0,9,  -999.0,9,  -999.0,9, -999.00,     2.8113,   2.6887,     -999.0,9
318M19881207,      SAVE4,     224,          1,         17,         17,2,19890109,       0519,   -29.9717,     6.9483,       5096,  1853.0,  34.7562,2,  34.7540,2,-999.0000,9,   201.2,2,   55.12,2,   28.25,2,    0.00,2,    1.93,2,   0.003,2,   0.003,2,  -999.0,9,  -999.0,9,  -999.0,9,  -999.0,9, -999.00,     2.8796,   2.7426,     -999.0,9
318M19881207,      SAVE4,     224,          1,         18,         18,2,19890109,       0519,   -29.9717,     6.9483,       5096,  2007.7,  34.7754,2,  34.7750,2,-999.0000,9,   206.8,2,   56.49,2,   27.46,2,    0.00,2,    1.88,2,   0.001,2,   0.003,2,  -999.0,9,  -999.0,9,  -999.0,9,  -999.0,9, -999.00,     2.7386,   2.5898,     -999.0,9
318M19881207,      SAVE4,     224,          1,         19,         19,2,19890109,       0519,   -29.9717,     6.9483,       5096,  2161.4,  34.8267,2,  34.8270,2,-999.0000,9,   218.6,2,   48.08,2,   25.51,2,    0.00,2,    1.74,2,-999.000,9,-999.000,9,  -999.0,9,  -999.0,9,  -999.0,9,  -999.0,9, -999.00,     2.8320,   2.6677,     -999.0,9
318M19881207,      SAVE4,     224,          1,         20,         20,2,19890109,       0519,   -29.9717,     6.9483,       5096,  2315.6,  34.8198,2,  34.8210,2,-999.0000,9,   221.2,2,   52.78,2,   25.70,2,    0.00,2,    1.76,2,   0.000,2,-999.000,9,  -999.0,9,  -999.0,9,  -999.0,9,  -999.0,9, -999.00,     2.6341,   2.4588,     -999.0,9
318M19881207,      SAVE4,     224,          1,         21,         21,2,19890109,       0519,   -29.9717,     6.9483,       5096,  2471.3,  34.8378,2,  34.8390,2,-999.0000,9,   224.2,2,   51.31,2,   25.02,2,    0.00,2,    1.70,2,-999.000,9,-999.000,9,  -999.0,9,  -999.0,9,  -999.0,9,  -999.0,9, -999.00,     2.6147,   2.4250,     -999.0,9
318M19881207,      SAVE4,     224,          1,         22,         22,2,19890109,       0519,   -29.9717,     6.9483,       5096,  2625.4,  34.8460,2,  34.8460,2,-999.0000,9,   227.7,2,   51.70,2,   24.63,2,    0.00,2,    1.67,2,-999.000,9,   0.004,2,  -999.0,9,  -999.0,9,  -999.0,9,  -999.0,9, -999.00,     2.5461,   2.3428,     -999.0,9
318M19881207,      SAVE4,     224,          1,         23,         23,2,19890109,       0519,   -29.9717,     6.9483,       5096,  2780.3,  34.8471,2,  34.8480,2,-999.0000,9,   229.8,2,   53.46,2,   24.63,2,    0.00,2,    1.68,2,-999.000,9,-999.000,9,  -999.0,9,  -999.0,9,  -999.0,9,  -999.0,9, -999.00,     2.4712,   2.2543,     -999.0,9
318M19881207,      SAVE4,     224,          1,         24,         24,2,19890109,       0519,   -29.9717,     6.9483,       5096,  2986.3,  34.8504,2,  34.8510,2,-999.0000,9,   231.6,2,   55.61,2,   24.53,2,    0.00,2,    1.66,2,-999.000,9,-999.000,9,  -999.0,9,  -999.0,9,  -999.0,9,  -999.0,9, -999.00,     2.4078,   2.1717,     -999.0,9
318M19881207,      SAVE4,     224,          1,         25,         25,2,19890109,       0519,   -29.9717,     6.9483,       5096,  3190.4,  34.8523,2,  34.8540,2,-999.0000,9,   231.6,2,   55.12,2,   24.43,2,    0.00,2,    1.66,2,   0.001,2,-999.000,9,  -999.0,9,  -999.0,9,  -999.0,9,  -999.0,9, -999.00,     2.3529,   2.0972,     -999.0,9
318M19881207,      SAVE4,     224,          1,         26,         26,2,19890109,       0519,   -29.9717,     6.9483,       5096,  3341.9,  34.8524,2,  34.8520,2,-999.0000,9,   232.9,2,   57.07,2,   24.53,2,    0.00,2,    1.66,2,-999.000,9,-999.000,9,  -999.0,9,  -999.0,9,  -999.0,9,  -999.0,9, -999.00,     2.2990,   2.0287,     -999.0,9
318M19881207,      SAVE4,     224,          1,         27,         27,2,19890109,       0519,   -29.9717,     6.9483,       5096,  3494.6,  34.8515,2,  34.8510,2,-999.0000,9,   232.4,2,   58.34,2,   24.53,2,    0.00,2,    1.66,2,-999.000,9,-999.000,9,  -999.0,9,  -999.0,9,  -999.0,9,  -999.0,9, -999.00,     2.2651,   1.9794,     -999.0,9
318M19881207,      SAVE4,     224,          1,         28,         28,2,19890109,       0519,   -29.9717,     6.9483,       5096,  3642.0,  34.8493,2,  34.8490,2,-999.0000,9,   232.0,2,   60.98,2,   24.63,2,    0.00,2,    1.67,2,   0.002,2,   0.003,2,  -999.0,9,  -999.0,9,  -999.0,9,  -999.0,9, -999.00,     2.2213,   1.9209,     -999.0,9
318M19881207,      SAVE4,     224,          1,         29,         29,2,19890109,       0519,   -29.9717,     6.9483,       5096,  3793.9,  34.8396,2,  34.8390,2,-999.0000,9,   230.7,2,   64.70,2,   25.21,2,    0.00,2,    1.71,2,-999.000,9,-999.000,9,  -999.0,9,  -999.0,9,  -999.0,9,  -999.0,9, -999.00,     2.1256,   1.8111,     -999.0,9
318M19881207,      SAVE4,     224,          1,         30,         30,2,19890109,       0519,   -29.9717,     6.9483,       5096,  4001.1,  34.8153,2,  34.8160,2,-999.0000,9,   226.4,2,   73.69,2,   26.39,2,    0.00,2,    1.80,2,   0.000,2,   0.002,2,  -999.0,9,  -999.0,9,  -999.0,9,  -999.0,9, -999.00,     1.9176,   1.5860,     -999.0,9
318M19881207,      SAVE4,     224,          1,         31,         31,2,19890109,       0519,   -29.9717,     6.9483,       5096,  4205.0,  34.7737,2,  34.7730,2,-999.0000,9,   222.9,2,   90.70,2,   28.44,2,    0.00,2,    1.94,2,-999.000,9,-999.000,9,  -999.0,9,  -999.0,9,  -999.0,9,  -999.0,9, -999.00,     1.5137,   1.1713,     -999.0,9
318M19881207,      SAVE4,     224,          1,         32,         32,2,19890109,       0519,   -29.9717,     6.9483,       5096,  4411.4,  34.7482,2,  34.7480,2,-999.0000,9,   219.0,2,  101.06,2,   29.61,2,    0.00,2,    2.03,2,-999.000,9,-999.000,9,  -999.0,9,  -999.0,9,  -999.0,9,  4415.2,2, -999.00,     1.2571,   0.8993,      1.255,2
318M19881207,      SAVE4,     224,          1,         33,         33,2,19890109,       0519,   -29.9717,     6.9483,       5096,  4610.7,  34.7385,2,  34.7380,2,-999.0000,9,   218.1,2,  106.63,2,   30.10,2,    0.00,2,    2.07,2,   0.000,2,-999.000,9,  -999.0,9,  -999.0,9,  -999.0,9,  -999.0,9, -999.00,     1.1663,   0.7887,     -999.0,9
318M19881207,      SAVE4,     224,          1,         34,         34,2,19890109,       0519,   -29.9717,     6.9483,       5096,  4814.8,  34.7346,2,  34.7340,2,-999.0000,9,   217.7,2,  107.90,2,   30.40,2,    0.00,2,    2.07,2,-999.000,9,-999.000,9,  -999.0,9,  -999.0,9,  -999.0,9,  -999.0,9, -999.00,     1.1440,   0.7434,     -999.0,9
318M19881207,      SAVE4,     224,          1,         35,         35,2,19890109,       0519,   -29.9717,     6.9483,       5096,  5018.6,  34.7317,2,  34.7320,2,-999.0000,9,   217.7,2,  109.37,2,   30.49,2,    0.00,2,    2.09,2,-999.000,9,-999.000,9,  -999.0,9,  -999.0,9,  -999.0,9,  5027.0,2, -999.00,     1.1383,   0.7137,      1.144,2
318M19881207,      SAVE4,     224,          1,         36,         36,2,19890109,       0519,   -29.9717,     6.9483,       5096,  5220.4,  34.7299,2,  34.7300,2,-999.0000,9,   217.2,2,  109.47,2,   30.49,2,    0.00,2,    2.11,2,   0.001,2,   0.001,2,  -999.0,9,  -999.0,9,  -999.0,9,  -999.0,9, -999.00,     1.1438,   0.6946,     -999.0,9