BOTTLE,20211025CCHSIORKP
EXPOCODE,SECT_ID,STNNBR,CASTNO,SAMPNO,BTLNBR,BTLNBR_FLAG_W,DATE,TIME,LATITUDE,LONGITUDE,DEPTH,CTDPRS,CTDSAL,CTDSAL_FLAG_W,SALNTY,SALNTY_FLAG_W,CTDOXY,CTDOXY_FLAG_W,OXYGEN,OXYGEN_FLAG_W,SILCAT,SILCAT_FLAG_W,NITRAT,NITRAT_FLAG_W,NITRIT,NITRIT_FLAG_W,PHSPHT,PHSPHT_FLAG_W,CFC-11,CFC-11_FLAG_W,CFC-12,CFC-12_FLAG_W,TCARBN,TCARBN_FLAG_W,ALKALI,ALKALI_FLAG_W,PCO2,PCO2_FLAG_W,REVPRS,REVPRS_FLAG_W,CTDRAW,CTDTMP,THETA,REVTMP,REVTMP_FLAG_W
,,,,,,,,,,,METERS,DBAR,PSS-78,,PSS-78,,UMOL/KG,,UMOL/KG,,UMOL/KG,,UMOL/KG,,UMOL/KG,,UMOL/KG,,PMOL/KG,,PMOL/KG,,UMOL/KG,,UMOL/KG,,UATM,,DBAR,,DBAR,ITS-68,DEG C,ITS-68,
318M19881207,      SAVE4,     219,          1,         13,         13,2,19890106,       2145,   -29.9983,     1.0083,       3110,     1.8,  35.7925,2,  35.7930,2,-999.0000,9,   227.8,2,    2.44,2,    0.10,2,    0.00,2,    0.20,2,   2.061,2,   1.040,2,  -999.0,9,  -999.0,9,  -999.0,9,  -999.0,9, -999.00,    21.3324,  21.3320,     -999.0,9
318M19881207,      SAVE4,     219,          1,         14,         14,2,19890106,       2145,   -29.9983,     1.0083,       3110,    25.8,  35.7697,2,  35.7690,2,-999.0000,9,   233.0,2,    2.15,2,    0.10,2,    0.00,2,    0.20,2,-999.000,9,-999.000,9,  -999.0,9,  -999.0,9,  -999.0,9,  -999.0,9, -999.00,    20.3567,  20.3519,     -999.0,9
318M19881207,      SAVE4,     219,          1,         15,         15,2,19890106,       2145,   -29.9983,     1.0083,       3110,    56.8,  35.6769,2,  35.6850,2,-999.0000,9,   244.1,2,    2.15,2,    0.00,2,    0.00,2,    0.20,2,   2.219,2,   1.106,2,  -999.0,9,  -999.0,9,  -999.0,9,  -999.0,9, -999.00,    18.7723,  18.7622,     -999.0,9
318M19881207,      SAVE4,     219,          1,         16,         16,2,19890106,       2145,   -29.9983,     1.0083,       3110,   108.0,  35.5418,2,  35.5430,2,-999.0000,9,   243.4,2,    2.64,2,    0.20,2,    0.09,2,    0.23,2,   2.389,2,   1.184,2,  -999.0,9,  -999.0,9,  -999.0,9,  -999.0,9, -999.00,    16.3552,  16.3378,     -999.0,9
318M19881207,      SAVE4,     219,          1,         17,         17,2,19890106,       2145,   -29.9983,     1.0083,       3110,   158.4,  35.4586,2,  35.4600,2,-999.0000,9,   231.2,2,    3.03,2,    3.03,2,    0.03,2,    0.39,2,   2.348,2,   1.172,2,  -999.0,9,  -999.0,9,  -999.0,9,  -999.0,9, -999.00,    15.5809,  15.5562,     -999.0,9
318M19881207,      SAVE4,     219,          1,         18,         18,2,19890106,       2145,   -29.9983,     1.0083,       3110,   210.0,  35.3181,2,  35.3180,2,-999.0000,9,   219.4,2,    3.42,2,    5.57,2,    0.02,2,    0.54,2,   2.274,2,   1.135,2,  -999.0,9,  -999.0,9,  -999.0,9,  -999.0,9, -999.00,    14.7580,  14.7265,     -999.0,9
318M19881207,      SAVE4,     219,          1,         19,         19,2,19890106,       2145,   -29.9983,     1.0083,       3110,   286.9,  35.1416,2,  35.1420,2,-999.0000,9,   213.5,2,    4.59,2,    9.38,2,    0.01,2,    0.75,2,   2.045,2,   1.017,2,  -999.0,9,  -999.0,9,  -999.0,9,  -999.0,9, -999.00,    13.1385,  13.0986,     -999.0,9
318M19881207,      SAVE4,     219,          1,         20,         20,2,19890106,       2145,   -29.9983,     1.0083,       3110,   363.2,  34.9783,2,  34.9770,2,-999.0000,9,   211.9,2,    5.86,2,   12.90,2,    0.00,2,    0.97,2,   1.765,2,   0.866,2,  -999.0,9,  -999.0,9,  -999.0,9,  -999.0,9, -999.00,    11.5926,  11.5460,     -999.0,9
318M19881207,      SAVE4,     219,          1,         21,         21,2,19890106,       2145,   -29.9983,     1.0083,       3110,   465.2,  34.7489,2,  34.7600,2,-999.0000,9,   199.7,2,    9.38,2,   18.47,2,    0.00,2,    1.31,2,   1.473,2,   0.721,2,  -999.0,9,  -999.0,9,  -999.0,9,  -999.0,9, -999.00,     9.7404,   9.6867,     -999.0,9
318M19881207,      SAVE4,     219,          1,         22,         22,2,19890106,       2145,   -29.9983,     1.0083,       3110,   583.5,  34.5583,2,  34.5550,2,-999.0000,9,   200.0,2,   14.56,2,   23.66,2,    0.00,2,    1.63,2,   1.252,2,   0.599,2,  -999.0,9,  -999.0,9,  -999.0,9,  -999.0,9, -999.00,     7.7330,   7.6740,     -999.0,9
318M19881207,      SAVE4,     219,          1,         23,         23,2,19890106,       2145,   -29.9983,     1.0083,       3110,   699.6,  34.4069,2,  34.4090,2,-999.0000,9,   204.6,2,   20.24,2,   27.67,2,    0.00,2,    1.89,2,   1.053,2,   0.503,2,  -999.0,9,  -999.0,9,  -999.0,9,  -999.0,9, -999.00,     5.8942,   5.8328,     -999.0,9
318M19881207,      SAVE4,     219,          1,         24,         24,2,19890106,       2145,   -29.9983,     1.0083,       3110,   824.0,  34.3424,2,  34.3420,2,-999.0000,9,   209.8,2,   26.89,2,   29.82,2,    0.00,2,    2.05,2,   0.860,2,   0.418,2,  -999.0,9,  -999.0,9,  -999.0,9,  -999.0,9, -999.00,     4.6731,   4.6078,     -999.0,9
318M19881207,      SAVE4,     219,          1,         25,         25,2,19890106,       2145,   -29.9983,     1.0083,       3110,   926.0,  34.3466,2,  34.3480,2,-999.0000,9,   202.9,2,   33.53,2,   31.29,2,    0.00,2,    2.16,2,   0.582,2,   0.287,2,  -999.0,9,  -999.0,9,  -999.0,9,  -999.0,9, -999.00,     4.1112,   4.0411,     -999.0,9
318M19881207,      SAVE4,     219,          1,         26,         26,2,19890106,       2145,   -29.9983,     1.0083,       3110,  1132.1,  34.4306,2,  34.4300,2,-999.0000,9,   188.9,2,   48.68,2,   32.95,2,    0.00,2,    2.30,2,   0.205,2,   0.095,2,  -999.0,9,  -999.0,9,  -999.0,9,  -999.0,9, -999.00,     3.3320,   3.2512,     -999.0,9
318M19881207,      SAVE4,     219,          1,         27,         27,2,19890106,       2145,   -29.9983,     1.0083,       3110,  1338.3,  34.5656,2,  34.5650,2,-999.0000,9,   183.2,2,   54.84,2,   32.16,2,    0.00,2,    2.23,2,   0.042,2,   0.017,2,  -999.0,9,  -999.0,9,  -999.0,9,  -999.0,9, -999.00,     3.0724,   2.9771,     -999.0,9
318M19881207,      SAVE4,     219,          1,         28,         28,2,19890106,       2145,   -29.9983,     1.0083,       3110,  1545.0,  34.6613,2,  34.6620,2,-999.0000,9,   190.3,2,   55.91,2,   30.50,2,    0.00,2,    2.10,2,   0.017,2,   0.011,2,  -999.0,9,  -999.0,9,  -999.0,9,  -999.0,9, -999.00,     2.9241,   2.8131,     -999.0,9
318M19881207,      SAVE4,     219,          1,         29,         29,2,19890106,       2145,   -29.9983,     1.0083,       3110,  1751.1,  34.7446,2,  34.7450,2,-999.0000,9,   201.6,2,   51.70,2,   28.34,2,    0.00,2,    1.96,2,   0.003,2,   0.003,2,  -999.0,9,  -999.0,9,  -999.0,9,  -999.0,9, -999.00,     2.9380,   2.8091,     -999.0,9
318M19881207,      SAVE4,     219,          1,         30,         30,2,19890106,       2145,   -29.9983,     1.0083,       3110,  1957.4,  34.7957,2,  34.7970,2,-999.0000,9,   212.7,2,   49.16,2,   26.68,2,    0.00,2,    1.83,2,   0.000,2,-999.000,9,  -999.0,9,  -999.0,9,  -999.0,9,  -999.0,9, -999.00,     2.8673,   2.7210,     -999.0,9
318M19881207,      SAVE4,     219,          1,         31,         31,2,19890106,       2145,   -29.9983,     1.0083,       3110,  2164.7,  34.8173,2,  34.8180,2,-999.0000,9,   219.7,2,   50.43,2,   25.70,2,    0.00,2,    1.78,2,-999.000,9,-999.000,9,  -999.0,9,  -999.0,9,  -999.0,9,  -999.0,9, -999.00,     2.7218,   2.5590,     -999.0,9
318M19881207,      SAVE4,     219,          1,         32,         32,2,19890106,       2145,   -29.9983,     1.0083,       3110,  2369.8,  34.8308,2,  34.8330,2,-999.0000,9,   225.4,2,   51.70,2,   25.12,2,    0.00,2,    1.77,2,-999.000,9,-999.000,9,  -999.0,9,  -999.0,9,  -999.0,9,  -999.0,9, -999.00,     2.5880,   2.4084,     -999.0,9
318M19881207,      SAVE4,     219,          1,         33,         33,2,19890106,       2145,   -29.9983,     1.0083,       3110,  2576.6,  34.8398,2,  34.8410,2,-999.0000,9,   229.0,2,   53.07,2,   24.82,2,    0.00,2,    1.70,2,   0.000,2,-999.000,9,  -999.0,9,  -999.0,9,  -999.0,9,  -999.0,9, -999.00,     2.4692,   2.2722,     -999.0,9
318M19881207,      SAVE4,     219,          1,         34,         34,2,19890106,       2145,   -29.9983,     1.0083,       3110,  2784.3,  34.8496,2,  34.8510,2,-999.0000,9,   232.4,2,   53.65,2,   24.43,2,    0.00,2,    1.68,2,-999.000,9,-999.000,9,  -999.0,9,  -999.0,9,  -999.0,9,  -999.0,9, -999.00,     2.4013,   2.1854,     -999.0,9
318M19881207,      SAVE4,     219,          1,         35,         35,2,19890106,       2145,   -29.9983,     1.0083,       3110,  2991.7,  34.8575,2,  34.8580,2,-999.0000,9,   234.6,2,   54.34,2,   24.04,2,    0.00,2,    1.65,2,-999.000,9,-999.000,9,  -999.0,9,  -999.0,9,  -999.0,9,  -999.0,9, -999.00,     2.3546,   2.1191,     -999.0,9
318M19881207,      SAVE4,     219,          1,         36,         36,2,19890106,       2145,   -29.9983,     1.0083,       3110,  3135.2,  34.8615,2,  34.8630,2,-999.0000,9,   235.4,2,   53.46,2,   23.94,2,    0.00,2,    1.56,2,   0.001,2,-999.000,9,  -999.0,9,  -999.0,9,  -999.0,9,  -999.0,9, -999.00,     2.3387,   2.0889,     -999.0,9