BOTTLE,20211025CCHSIORKP
EXPOCODE,SECT_ID,STNNBR,CASTNO,SAMPNO,BTLNBR,BTLNBR_FLAG_W,DATE,TIME,LATITUDE,LONGITUDE,DEPTH,CTDPRS,CTDSAL,CTDSAL_FLAG_W,SALNTY,SALNTY_FLAG_W,CTDOXY,CTDOXY_FLAG_W,OXYGEN,OXYGEN_FLAG_W,SILCAT,SILCAT_FLAG_W,NITRAT,NITRAT_FLAG_W,NITRIT,NITRIT_FLAG_W,PHSPHT,PHSPHT_FLAG_W,CFC-11,CFC-11_FLAG_W,CFC-12,CFC-12_FLAG_W,TCARBN,TCARBN_FLAG_W,ALKALI,ALKALI_FLAG_W,PCO2,PCO2_FLAG_W,REVPRS,REVPRS_FLAG_W,CTDRAW,CTDTMP,THETA,REVTMP,REVTMP_FLAG_W
,,,,,,,,,,,METERS,DBAR,PSS-78,,PSS-78,,UMOL/KG,,UMOL/KG,,UMOL/KG,,UMOL/KG,,UMOL/KG,,UMOL/KG,,PMOL/KG,,PMOL/KG,,UMOL/KG,,UMOL/KG,,UATM,,DBAR,,DBAR,ITS-68,DEG C,ITS-68,
318M19881207,      SAVE4,     209,          2,          2,          2,2,19890101,       0647,   -36.2450,    -9.1383,       3705,     1.3,  35.2118,2,  35.2130,2,-999.0000,9,   240.0,2,    0.88,2, -999.00,9,    0.01,2,    0.35,2,   2.295,2,   1.141,2,  2034.5,2,  2324.4,2,   357.8,2,  -999.0,9, -999.00,    18.3020,  18.3018,     -999.0,9
318M19881207,      SAVE4,     209,          2,          3,          3,2,19890101,       0647,   -36.2450,    -9.1383,       3705,    42.3,  35.0998,2,  35.1250,2,-999.0000,9,   251.7,2,    1.07,2,    0.10,2,    0.01,2,    0.22,2,-999.000,9,-999.000,9,  2031.3,2,  2314.1,2,   365.8,2,  -999.0,9, -999.00,    16.9394,  16.9325,     -999.0,9
318M19881207,      SAVE4,     209,          2,          4,          4,2,19890101,       0647,   -36.2450,    -9.1383,       3705,    78.0,  35.0666,2,  35.0680,2,-999.0000,9,   251.5,2,    1.95,2,    4.79,2,    0.01,2,    0.51,2,   2.800,2,   1.333,2,  2067.3,2,  2312.0,2,   443.8,2,  -999.0,9, -999.00,    12.8010,  12.7905,     -999.0,9
318M19881207,      SAVE4,     209,          2,          5,          5,2,19890101,       0647,   -36.2450,    -9.1383,       3705,   108.6,  35.0797,2,  35.0790,2,-999.0000,9,   244.9,2,    2.35,2,    5.96,2,    0.01,2,    0.58,2,-999.000,9,-999.000,9,  2069.8,2,  2308.8,2,   456.6,2,  -999.0,9, -999.00,    12.5571,  12.5426,     -999.0,9
318M19881207,      SAVE4,     209,          2,          6,          6,2,19890101,       0647,   -36.2450,    -9.1383,       3705,   159.9,  35.0830,2,  35.0830,2,-999.0000,9,   238.8,2,    2.54,2,    7.52,2,    0.01,2,    0.66,2,   2.577,2,   1.258,2,  2079.0,2,  2310.4,2,   476.5,2,  -999.0,9, -999.00,    12.3223,  12.3010,     -999.0,9
318M19881207,      SAVE4,     209,          2,          7,          7,2,19890101,       0647,   -36.2450,    -9.1383,       3705,   299.0,  34.8584,2,  34.8600,2,-999.0000,9,   229.7,2,    4.40,2,   13.29,2,    0.00,2,    1.01,2,-999.000,9,-999.000,9,  2099.8,2,  2297.7,2,   566.5,2,  -999.0,9, -999.00,    10.4612,  10.4254,     -999.0,9
318M19881207,      SAVE4,     209,          2,          8,          8,2,19890101,       0647,   -36.2450,    -9.1383,       3705,   364.4,  34.6880,2,  34.6880,2,-999.0000,9,   230.9,2,    5.86,2,   16.62,2,    0.00,2,    1.22,2,   2.350,2,   1.127,2,  2115.0,2,  2295.5,2,   625.0,2,  -999.0,9, -999.00,     9.1360,   9.0958,     -999.0,9
318M19881207,      SAVE4,     209,          2,          9,          9,2,19890101,       0647,   -36.2450,    -9.1383,       3705,   466.6,  34.4829,2,  34.4800,2,-999.0000,9,   225.7,2,    9.78,2,   22.29,2,    0.00,2,    1.55,2,   1.937,2,   0.899,2,  2129.3,2,  2282.9,2,   729.8,2,  -999.0,9, -999.00,     7.2891,   7.2439,     -999.0,9
318M19881207,      SAVE4,     209,          2,         10,         10,2,19890101,       0647,   -36.2450,    -9.1383,       3705,   569.2,  34.3404,2,  34.3450,2,-999.0000,9,   234.4,2,   13.10,2,   25.03,2,    0.00,2,    1.75,2,   1.764,2,   0.811,2,  2141.7,2,  2281.4,2,   796.3,2,  -999.0,9, -999.00,     5.8191,   5.7700,     -999.0,9
318M19881207,      SAVE4,     209,          2,         11,         11,2,19890101,       0647,   -36.2450,    -9.1383,       3705,   625.2,  34.2915,2,  34.2930,2,-999.0000,9,   241.3,2,   14.96,2,   26.10,2,    0.00,2,    1.80,2,   1.783,2,   0.813,2,  2142.4,2,  2278.9,2,   811.5,2,  -999.0,9, -999.00,     5.2045,   5.1534,     -999.0,9
318M19881207,      SAVE4,     209,          2,         12,         12,2,19890101,       0647,   -36.2450,    -9.1383,       3705,   772.8,  34.2416,2,  34.2410,2,-999.0000,9,   244.3,2,   20.92,2,   27.87,2,    0.00,2,    1.95,2,   1.341,2,   0.598,2,  2152.4,2,  2283.1,2,   847.1,2,  -999.0,9, -999.00,     4.2193,   4.1611,     -999.0,9
318M19881207,      SAVE4,     209,          2,          1,          1,2,19890101,       0647,   -36.2450,    -9.1383,       3705,   875.2,  34.2425,2,  34.2440,2,-999.0000,9,   238.7,2,   26.20,2,   29.43,2,    0.00,2,    2.04,2,   1.217,2,   0.526,2,  2166.2,2,  2290.9,2,   888.5,2,  -999.0,9, -999.00,     3.7316,   3.6684,     -999.0,9
318M19881207,      SAVE4,     209,          2,         13,         13,2,19890101,       0647,   -36.2450,    -9.1383,       3705,   977.3,  34.2671,2,  34.2680,2,-999.0000,9,   230.0,2,   33.05,2,   30.60,2,    0.00,2,    2.13,2,   0.893,2,   0.388,2,  2175.6,2,  2290.6,2,   951.3,2,  -999.0,9, -999.00,     3.3489,   3.2805,     -999.0,9
318M19881207,      SAVE4,     209,          2,         14,         14,2,19890101,       0647,   -36.2450,    -9.1383,       3705,  1080.0,  34.3033,2,  34.3050,2,-999.0000,9,   219.1,2,   39.69,2,   31.58,2,    0.00,2,    2.21,2,   0.623,2,   0.283,2,  2193.1,2,  2302.6,2,   998.6,2,  -999.0,9, -999.00,     3.1111,   3.0366,     -999.0,9
318M19881207,      SAVE4,     209,          2,         15,         15,2,19890101,       0647,   -36.2450,    -9.1383,       3705,  1187.6,  34.3691,2,  34.3680,2,-999.0000,9,   204.7,2,   47.61,2,   32.56,2,    0.00,2,    2.27,2,   0.363,2,   0.168,2,  2206.6,2,  2310.2,2,  1048.5,2,  -999.0,9, -999.00,     2.9233,   2.8419,     -999.0,9
318M19881207,      SAVE4,     209,          2,         16,         16,2,19890101,       0647,   -36.2450,    -9.1383,       3705,  1285.8,  34.4303,2,  34.4290,2,-999.0000,9,   195.6,2,   52.79,2,   32.65,2,    0.00,2,    2.27,2,-999.000,9,-999.000,9,  2208.8,2,  2307.1,2,  1088.2,2,  -999.0,9, -999.00,     2.8273,   2.7391,     -999.0,9
318M19881207,      SAVE4,     209,          2,         17,         17,2,19890101,       0647,   -36.2450,    -9.1383,       3705,  1439.1,  34.5282,2,  34.5280,2,-999.0000,9,   188.6,2,   59.24,2,   32.36,2,    0.00,2,    2.23,2,   0.099,2,   0.050,2,  2226.9,2,  2327.2,2,  1089.1,2,  -999.0,9, -999.00,     2.7604,   2.6604,     -999.0,9
318M19881207,      SAVE4,     209,          2,         18,         18,2,19890101,       0647,   -36.2450,    -9.1383,       3705,  1541.2,  34.5945,2,  34.5940,2,-999.0000,9,   189.0,2,   60.12,2,   31.47,2,    0.00,2,    2.18,2,-999.000,9,-999.000,9,  2222.6,2,  2326.0,2,  1066.2,2,  -999.0,9, -999.00,     2.7634,   2.6549,     -999.0,9
318M19881207,      SAVE4,     209,          2,         19,         19,2,19890101,       0647,   -36.2450,    -9.1383,       3705,  1644.4,  34.6327,2,  34.6320,2,-999.0000,9,   192.1,2,   59.04,2,   30.89,2,    0.00,2,    2.13,2,   0.029,2,   0.015,2,  -999.0,9,  -999.0,9,  1044.0,2,  -999.0,9, -999.00,     2.7634,   2.6462,     -999.0,9
318M19881207,      SAVE4,     209,          2,         20,         20,2,19890101,       0647,   -36.2450,    -9.1383,       3705,  1748.1,  34.6806,2,  34.6820,2,-999.0000,9,   195.6,2,   59.52,2,   29.91,2,    0.00,2,    2.07,2,-999.000,9,-999.000,9,  2219.2,2,  2329.9,2,  1017.2,2,  -999.0,9, -999.00,     2.7554,   2.6294,     -999.0,9
318M19881207,      SAVE4,     209,          2,         21,         21,2,19890101,       0647,   -36.2450,    -9.1383,       3705,  1849.4,  34.7199,2,  34.7210,2,-999.0000,9,   201.2,2,   59.33,2,   29.03,2,    0.00,2,    2.00,2,   0.015,2,   0.008,2,  2217.3,2,  2333.6,2,   981.7,2,  -999.0,9, -999.00,     2.7604,   2.6254,     -999.0,9
318M19881207,      SAVE4,     209,          2,         22,         22,2,19890101,       0647,   -36.2450,    -9.1383,       3705,  1952.7,  34.7507,2,  34.7510,2,-999.0000,9,   205.1,2,   56.39,2,   28.05,2,    0.00,2,    1.94,2,-999.000,9,-999.000,9,  2208.4,2,  2327.7,2,   958.0,2,  -999.0,9, -999.00,     2.7634,   2.6192,     -999.0,9
318M19881207,      SAVE4,     209,          2,         23,         23,2,19890101,       0647,   -36.2450,    -9.1383,       3705,  2052.9,  34.7741,2,  34.7740,2,-999.0000,9,   210.3,2,   55.02,2,   27.27,2,    0.00,2,    1.90,2,   0.012,2,   0.005,2,  2207.7,2,  2331.1,2,   934.0,2,  -999.0,9, -999.00,     2.7564,   2.6033,     -999.0,9
318M19881207,      SAVE4,     209,          2,         24,         24,2,19890101,       0647,   -36.2450,    -9.1383,       3705,  2153.5,  34.7971,2,  34.7980,2,-999.0000,9,   215.5,2,   54.34,2,   26.39,2,    0.00,2,    1.83,2,-999.000,9,-999.000,9,  2206.7,2,  2334.7,2,   907.8,2,  -999.0,9, -999.00,     2.7394,   2.5774,     -999.0,9
318M19881207,      SAVE4,     209,          2,         25,         25,2,19890101,       0647,   -36.2450,    -9.1383,       3705,  2259.4,  34.8160,2,  34.8170,2,-999.0000,9,  -999.0,9,   52.48,2,   25.70,2,    0.00,2,    1.78,2,   0.010,2,   0.004,2,  2200.2,2,  2331.5,2,   886.5,2,  -999.0,9, -999.00,     2.7124,   2.5410,     -999.0,9
318M19881207,      SAVE4,     209,          2,         26,         26,2,19890101,       0647,   -36.2450,    -9.1383,       3705,  2361.6,  34.8272,2,  34.8280,2,-999.0000,9,   224.2,2,   52.29,2,   25.31,2,    0.00,2,    1.74,2,-999.000,9,-999.000,9,  2194.2,2,  2327.9,2,   870.1,2,  -999.0,9, -999.00,     2.6855,   2.5049,     -999.0,9
318M19881207,      SAVE4,     209,          2,         27,         27,2,19890101,       0647,   -36.2450,    -9.1383,       3705,  2464.8,  34.8362,2,  34.8360,2,-999.0000,9,   225.1,2,   52.29,2,   24.92,2,    0.00,2,    1.71,2,   0.006,2,   0.002,2,  2189.3,2,  2324.9,2,   857.6,2,  -999.0,9, -999.00,     2.6475,   2.4578,     -999.0,9
318M19881207,      SAVE4,     209,          2,         28,         28,2,19890101,       0647,   -36.2450,    -9.1383,       3705,  2566.0,  34.8409,2,  34.8420,2,-999.0000,9,   228.5,2,   53.17,2,   25.21,2,    0.00,2,    1.71,2,   0.006,2,   0.002,2,  2197.4,2,  2334.8,2,   853.7,2,  -999.0,9, -999.00,     2.5785,   2.3804,     -999.0,9
318M19881207,      SAVE4,     209,          2,         29,         29,2,19890101,       0647,   -36.2450,    -9.1383,       3705,  2671.8,  34.8419,2,  34.8440,2,-999.0000,9,   230.3,2,   53.85,2,   24.53,2,    0.00,2,    1.69,2,-999.000,9,-999.000,9,  2201.6,2,  2340.9,2,   846.7,2,  -999.0,9, -999.00,     2.5196,   2.3124,     -999.0,9
318M19881207,      SAVE4,     209,          2,         30,         30,2,19890101,       0647,   -36.2450,    -9.1383,       3705,  2775.1,  34.8449,2,  34.8460,2,-999.0000,9,   231.6,2,   54.44,2,   24.43,2,    0.00,2,    1.68,2,   0.005,2,   0.001,2,  2193.6,2,  2332.4,2,   844.8,2,  -999.0,9, -999.00,     2.4706,   2.2543,     -999.0,9
318M19881207,      SAVE4,     209,          2,         31,         31,2,19890101,       0647,   -36.2450,    -9.1383,       3705,  2879.0,  34.8476,2,  34.8480,2,-999.0000,9,   233.8,2,   54.73,2,   24.33,2,    0.00,2,    1.67,2,-999.000,9,-999.000,9,  2197.4,2,  2337.5,2,   840.8,2,  -999.0,9, -999.00,     2.4327,   2.2068,     -999.0,9
318M19881207,      SAVE4,     209,          2,         32,         32,2,19890101,       0647,   -36.2450,    -9.1383,       3705,  3088.5,  34.8477,2,  34.8500,2,-999.0000,9,   235.9,2,   56.59,2,   24.24,2,    0.00,2,    1.67,2,   0.005,2,   0.001,2,  2192.0,2,  2333.2,2,   832.7,2,  3087.5,2, -999.00,     2.3407,   2.0957,      2.339,2
318M19881207,      SAVE4,     209,          2,         33,         33,2,19890101,       0647,   -36.2450,    -9.1383,       3705,  3291.4,  34.8459,2,  34.8460,2,-999.0000,9,   236.4,2,   59.32,2,   24.33,2,    0.00,2,    1.69,2,-999.000,9,-999.000,9,  2201.1,2,  2343.6,2,   832.3,2,  -999.0,9, -999.00,     2.2418,   1.9782,     -999.0,9
318M19881207,      SAVE4,     209,          2,         34,         34,2,19890101,       0647,   -36.2450,    -9.1383,       3705,  3498.8,  34.8365,2,  34.8360,2,-999.0000,9,   233.8,2,   63.82,2,   25.02,2,    0.00,2,    1.71,2,   0.001,2,   0.001,2,  2206.5,2,  2346.2,2,   849.2,2,  -999.0,9, -999.00,     2.1199,   1.8375,     -999.0,9
318M19881207,      SAVE4,     209,          2,         35,         35,2,19890101,       0647,   -36.2450,    -9.1383,       3705,  3654.3,  34.8269,2,  34.8260,2,-999.0000,9,   232.0,2,   67.34,2,   25.41,2,    0.00,2,    1.76,2,   0.007,2,   0.003,2,  2207.1,2,  2346.1,2,   853.9,2,  3681.2,2, -999.00,     2.0300,   1.7333,      2.031,2
318M19881207,      SAVE4,     209,          2,         36,         36,2,19890101,       0647,   -36.2450,    -9.1383,       3705,  3763.3,  34.8211,2,  34.8220,2,-999.0000,9,   229.4,2,   70.95,2,   25.90,2,    0.00,2,    1.79,2,   0.003,2,   0.001,2,  2211.3,2,  2348.6,2,   865.3,2,  -999.0,9, -999.00,     1.9641,   1.6573,     -999.0,9