BOTTLE,20211025CCHSIORKP
EXPOCODE,SECT_ID,STNNBR,CASTNO,SAMPNO,BTLNBR,BTLNBR_FLAG_W,DATE,TIME,LATITUDE,LONGITUDE,DEPTH,CTDPRS,CTDSAL,CTDSAL_FLAG_W,SALNTY,SALNTY_FLAG_W,CTDOXY,CTDOXY_FLAG_W,OXYGEN,OXYGEN_FLAG_W,SILCAT,SILCAT_FLAG_W,NITRAT,NITRAT_FLAG_W,NITRIT,NITRIT_FLAG_W,PHSPHT,PHSPHT_FLAG_W,CFC-11,CFC-11_FLAG_W,CFC-12,CFC-12_FLAG_W,TCARBN,TCARBN_FLAG_W,ALKALI,ALKALI_FLAG_W,PCO2,PCO2_FLAG_W,REVPRS,REVPRS_FLAG_W,CTDRAW,CTDTMP,THETA,REVTMP,REVTMP_FLAG_W
,,,,,,,,,,,METERS,DBAR,PSS-78,,PSS-78,,UMOL/KG,,UMOL/KG,,UMOL/KG,,UMOL/KG,,UMOL/KG,,UMOL/KG,,PMOL/KG,,PMOL/KG,,UMOL/KG,,UMOL/KG,,UATM,,DBAR,,DBAR,ITS-68,DEG C,ITS-68,
318M19881207,      SAVE4,     206,          1,          1,          1,2,19881230,       0813,   -40.0533,   -12.4867,       3247,     3.2,  34.8037,2,  34.8010,2,-999.0000,9,   259.1,2,    0.39,2,    0.10,2,    0.03,2,    0.27,2,   2.748,2,   1.310,2,  2024.5,2,  2294.8,2,   379.8,2,  -999.0,9, -999.00,    15.3536,  15.3531,     15.301,2
318M19881207,      SAVE4,     206,          1,          2,          2,2,19881230,       0813,   -40.0533,   -12.4867,       3247,    25.9,  34.7855,2,  34.7790,2,-999.0000,9,   261.7,2,    0.39,2,    0.20,2,    0.04,2,    0.29,2,-999.000,9,-999.000,9,  2030.3,2,  2299.4,2,   383.5,2,  -999.0,9, -999.00,    15.0927,  15.0888,     -999.0,9
318M19881207,      SAVE4,     206,          1,          3,          3,2,19881230,       0813,   -40.0533,   -12.4867,       3247,    46.1,  34.8328,2,  34.8310,2,-999.0000,9,   261.5,2,    0.59,2,    0.29,2,    0.10,2,    0.36,2,-999.000,9,-999.000,9,  2039.7,2,  2298.7,2,   404.2,2,  -999.0,9, -999.00,    14.1638,  14.1572,     -999.0,9
318M19881207,      SAVE4,     206,          1,          4,          4,2,19881230,       0813,   -40.0533,   -12.4867,       3247,    63.4,  34.9064,2,  34.9020,2,-999.0000,9,   262.3,2,    1.47,2,    1.76,2,    0.44,2,    0.54,2,-999.000,9,-999.000,9,  2065.1,2,  2303.0,2,   454.5,2,  -999.0,9, -999.00,    12.3225,  12.3141,     -999.0,9
318M19881207,      SAVE4,     206,          1,          5,          5,2,19881230,       0813,   -40.0533,   -12.4867,       3247,   158.2,  34.9124,2,  34.8980,2,-999.0000,9,   249.6,2,    2.83,2,    6.74,2,    0.02,2,    0.79,2,   2.863,2,   1.367,2,  2086.7,2,  2300.8,2,   517.7,2,  -999.0,9, -999.00,    10.9505,  10.9312,     -999.0,9
318M19881207,      SAVE4,     206,          1,          6,          6,2,19881230,       0813,   -40.0533,   -12.4867,       3247,   209.4,  34.8229,2,  34.8160,2,-999.0000,9,   245.0,2,    3.71,2,    9.28,2,    0.01,2,    0.94,2,   2.877,2,   1.352,2,  2097.9,2,  2296.4,2,   563.0,2,  -999.0,9, -999.00,    10.2608,  10.2362,     -999.0,9
318M19881207,      SAVE4,     206,          1,          7,          7,2,19881230,       0813,   -40.0533,   -12.4867,       3247,   244.5,  34.7739,2,  34.7670,2,-999.0000,9,  -999.0,9,    4.30,2,   10.95,2,    0.01,2,    1.03,2,   2.701,2,   1.283,2,  2101.3,2,  2293.9,2,   581.2,2,  -999.0,9, -999.00,     9.8966,   9.8684,     -999.0,9
318M19881207,      SAVE4,     206,          1,          8,          8,2,19881230,       0813,   -40.0533,   -12.4867,       3247,   312.3,  34.6249,2,  34.6110,2,-999.0000,9,   238.4,2,    5.96,2,   14.56,2,    0.01,2,    1.24,2,-999.000,9,-999.000,9,  2111.6,2,  2286.8,2,   639.9,2,  -999.0,9, -999.00,     8.7306,   8.6972,     -999.0,9
318M19881207,      SAVE4,     206,          1,          9,          9,2,19881230,       0813,   -40.0533,   -12.4867,       3247,   363.7,  34.5258,2,  34.5210,2,-999.0000,9,   233.8,2,    7.53,2,   17.79,2,    0.00,2,    1.42,2,   2.342,2,   1.123,2,  2124.4,2,  2286.2,2,   694.1,2,  -999.0,9, -999.00,     7.8355,   7.7990,     -999.0,9
318M19881207,      SAVE4,     206,          1,         10,         10,2,19881230,       0813,   -40.0533,   -12.4867,       3247,   465.5,  34.3418,2,  34.3370,2,-999.0000,9,   236.7,2,   11.24,2,   22.88,2,    0.00,2,    1.71,2,   2.188,2,   1.017,2,  2138.8,2,  2279.4,2,   790.0,2,  -999.0,9, -999.00,     6.0409,   6.0004,     -999.0,9
318M19881207,      SAVE4,     206,          1,         11,         11,2,19881230,       0813,   -40.0533,   -12.4867,       3247,   552.1,  34.2622,2,  34.2560,2,-999.0000,9,   245.4,2,   14.76,2,   25.03,2,    0.00,2,    1.85,2,   2.097,2,   0.964,2,  2145.2,2,  2281.1,2,   816.0,2,  -999.0,9, -999.00,     4.9908,   4.9468,     -999.0,9
318M19881207,      SAVE4,     206,          1,         12,         12,2,19881230,       0813,   -40.0533,   -12.4867,       3247,   669.4,  34.2269,2,  34.2190,2,-999.0000,9,   248.7,2,   19.65,2,   26.59,2,    0.00,2,    1.94,2,   1.834,2,   0.819,2,  2153.2,2,  2281.8,2,   857.7,2,  -999.0,9, -999.00,     4.2069,   4.1571,     -999.0,9
318M19881207,      SAVE4,     206,          1,         13,         13,2,19881230,       0813,   -40.0533,   -12.4867,       3247,   770.7,  34.2285,2,  34.2180,2,-999.0000,9,   244.4,2,   25.03,2,   27.96,2,    0.00,2,    2.03,2,   1.521,2,   0.683,2,  2163.3,2,  2287.1,2,   891.0,2,  -999.0,9, -999.00,     3.7291,   3.6741,     -999.0,9
318M19881207,      SAVE4,     206,          1,         14,         14,2,19881230,       0813,   -40.0533,   -12.4867,       3247,   872.0,  34.2456,2,  34.2370,2,-999.0000,9,   235.4,2,   30.90,2,   29.23,2,    0.00,2,    2.11,2,-999.000,9,-999.000,9,  2169.8,2,  2286.3,2,   937.8,2,  -999.0,9, -999.00,     3.3860,   3.3254,     -999.0,9
318M19881207,      SAVE4,     206,          1,         15,         15,2,19881230,       0813,   -40.0533,   -12.4867,       3247,   976.6,  34.2787,2,  34.2680,2,-999.0000,9,   226.1,2,   36.47,2,   30.31,2,    0.00,2,    2.17,2,   0.950,2,   0.420,2,  2184.7,2,  2296.1,2,   979.5,2,  -999.0,9, -999.00,     3.1405,   3.0737,     -999.0,9
318M19881207,      SAVE4,     206,          1,         16,         16,2,19881230,       0813,   -40.0533,   -12.4867,       3247,  1077.7,  34.3307,2,  34.3220,2,-999.0000,9,   212.4,2,   44.48,2,   31.38,2,    0.00,2,    2.26,2,   0.683,2,   0.314,2,  2200.1,2,  2304.9,2,  1034.8,2,  -999.0,9, -999.00,     2.9390,   2.8660,     -999.0,9
318M19881207,      SAVE4,     206,          1,         17,         17,2,19881230,       0813,   -40.0533,   -12.4867,       3247,  1173.3,  34.3667,2,  34.3590,2,-999.0000,9,   205.2,2,   48.59,2,   31.97,2,    0.00,2,    2.29,2,-999.000,9,-999.000,9,  2209.6,2,  2311.2,2,  1063.9,2,  -999.0,9, -999.00,     2.8655,   2.7858,     -999.0,9
318M19881207,      SAVE4,     206,          1,         18,         18,2,19881230,       0813,   -40.0533,   -12.4867,       3247,  1335.3,  34.4579,2,  34.4570,2,-999.0000,9,   191.7,2,   56.11,2,   32.36,2,    0.00,2,    2.31,2,   0.241,2,   0.119,2,  2218.4,2,  2315.5,2,  1104.9,2,  -999.0,9, -999.00,     2.7658,   2.6742,     -999.0,9
318M19881207,      SAVE4,     206,          1,         19,         19,2,19881230,       0813,   -40.0533,   -12.4867,       3247,  1439.6,  34.5212,2,  34.5220,2,-999.0000,9,   186.7,2,   60.22,2,   31.77,2,    0.00,2,    2.30,2,   0.141,2,   0.078,2,  2224.9,2,  2322.2,2,  1110.0,2,  -999.0,9, -999.00,     2.7343,   2.6346,     -999.0,9
318M19881207,      SAVE4,     206,          1,         20,         20,2,19881230,       0813,   -40.0533,   -12.4867,       3247,  1543.7,  34.5762,2,  34.5760,2,-999.0000,9,   185.0,2,   62.46,2,   31.18,2,    0.00,2,    2.26,2,-999.000,9,-999.000,9,  2228.5,2,  2326.5,2,  1108.6,2,  -999.0,9, -999.00,     2.7158,   2.6077,     -999.0,9
318M19881207,      SAVE4,     206,          1,         21,         21,2,19881230,       0813,   -40.0533,   -12.4867,       3247,  1645.1,  34.6203,2,  34.6190,2,-999.0000,9,   185.0,2,   64.32,2,   30.89,2,    0.00,2,    2.23,2,   0.076,2,   0.039,2,  2230.3,2,  2330.8,2,  1092.8,2,  -999.0,9, -999.00,     2.7116,   2.5950,     -999.0,9
318M19881207,      SAVE4,     206,          1,         22,         22,2,19881230,       0813,   -40.0533,   -12.4867,       3247,  1749.1,  34.6537,2,  34.6540,2,-999.0000,9,   186.7,2,   64.90,2,   30.20,2,    0.00,2,    2.19,2,   0.063,2,   0.040,2,  2229.2,2,  2332.5,2,  1073.4,2,  -999.0,9, -999.00,     2.7152,   2.5897,     -999.0,9
318M19881207,      SAVE4,     206,          1,         23,         23,2,19881230,       0813,   -40.0533,   -12.4867,       3247,  1852.3,  34.7023,2,  34.7000,2,-999.0000,9,   191.8,2,   64.12,2,   29.13,2,    0.00,2,    2.11,2,-999.000,9,-999.000,9,  2224.5,2,  2331.8,2,  1044.1,2,  -999.0,9, -999.00,     2.7089,   2.5745,     -999.0,9
318M19881207,      SAVE4,     206,          1,         24,         24,2,19881230,       0813,   -40.0533,   -12.4867,       3247,  1957.2,  34.7330,2,  34.7320,2,-999.0000,9,   196.7,2,   63.14,2,   28.25,2,    0.00,2,    2.04,2,   0.027,2,   0.014,2,  2220.4,2,  2332.9,2,  1007.8,2,  -999.0,9, -999.00,     2.7110,   2.5673,     -999.0,9
318M19881207,      SAVE4,     206,          1,         25,         25,2,19881230,       0813,   -40.0533,   -12.4867,       3247,  2058.0,  34.7540,2,  34.7530,2,-999.0000,9,   201.0,2,   62.75,2,   27.56,2,    0.00,2,    1.99,2,   0.033,2,   0.020,2,  2217.4,2,  2332.7,2,   988.6,2,  -999.0,9, -999.00,     2.6741,   2.5219,     -999.0,9
318M19881207,      SAVE4,     206,          1,         26,         26,2,19881230,       0813,   -40.0533,   -12.4867,       3247,  2158.9,  34.7698,2,  34.7700,2,-999.0000,9,   204.3,2,   61.67,2,   26.98,2,    0.00,2,    1.95,2,-999.000,9,-999.000,9,  2220.7,2,  2338.7,2,   974.5,2,  -999.0,9, -999.00,     2.6429,   2.4820,     -999.0,9
318M19881207,      SAVE4,     206,          1,         27,         27,2,19881230,       0813,   -40.0533,   -12.4867,       3247,  2262.1,  34.7862,2,  34.7850,2,-999.0000,9,   208.1,2,   62.26,2,   26.49,2,    0.00,2,    1.93,2,   0.030,2,   0.016,2,  2214.5,2,  2335.4,2,   954.1,2,  -999.0,9, -999.00,     2.5828,   2.4135,     -999.0,9
318M19881207,      SAVE4,     206,          1,         28,         28,2,19881230,       0813,   -40.0533,   -12.4867,       3247,  2367.8,  34.7936,2,  34.7930,2,-999.0000,9,   210.9,2,   62.26,2,   26.00,2,    0.00,2,    1.90,2,   0.019,2,   0.009,2,  2208.9,2,  2331.0,2,   943.5,2,  -999.0,9, -999.00,     2.5462,   2.3676,     -999.0,9
318M19881207,      SAVE4,     206,          1,         29,         29,2,19881230,       0813,   -40.0533,   -12.4867,       3247,  2472.3,  34.8025,2,  34.8030,2,-999.0000,9,   213.8,2,   64.60,2,   25.12,2,    0.00,2,    1.86,2,-999.000,9,-999.000,9,  2213.9,2,  2338.7,2,   931.9,2,  -999.0,9, -999.00,     2.4920,   2.3046,     -999.0,9
318M19881207,      SAVE4,     206,          1,         30,         30,2,19881230,       0813,   -40.0533,   -12.4867,       3247,  2573.9,  34.8090,2,  34.8100,2,-999.0000,9,   217.2,2,   64.60,2,   25.31,2,    0.00,2,    1.86,2,   0.019,2,   0.009,2,  2210.0,2,  2336.6,2,   919.7,2,  -999.0,9, -999.00,     2.4204,   2.2246,     -999.0,9
318M19881207,      SAVE4,     206,          1,         31,         31,2,19881230,       0813,   -40.0533,   -12.4867,       3247,  2677.1,  34.8110,2,  34.8110,2,-999.0000,9,   217.9,2,   65.38,2,   25.22,2,    0.00,2,    1.86,2,   0.014,2,   0.007,2,  2213.2,2,  2340.4,2,   918.4,2,  -999.0,9, -999.00,     2.3682,   2.1636,     -999.0,9
318M19881207,      SAVE4,     206,          1,         32,         32,2,19881230,       0813,   -40.0533,   -12.4867,       3247,  2782.5,  34.8102,2,-999.0000,9,-999.0000,9,  -999.0,9, -999.00,9, -999.00,9, -999.00,9, -999.00,9,-999.000,9,-999.000,9,  -999.0,9,  -999.0,9,  -999.0,9,  -999.0,9, -999.00,     2.2413,   2.0291,     -999.0,9
318M19881207,      SAVE4,     206,          1,         33,         33,2,19881230,       0813,   -40.0533,   -12.4867,       3247,  2888.7,  34.8097,2,  34.8100,2,-999.0000,9,   220.1,2,   68.51,2,   25.31,2,    0.00,2,    1.86,2,   0.013,2,   0.004,2,  2213.9,2,  2342.1,2,   913.9,2,  -999.0,9, -999.00,     2.2095,   1.9875,     -999.0,9
318M19881207,      SAVE4,     206,          1,         34,         34,2,19881230,       0813,   -40.0533,   -12.4867,       3247,  2993.8,  34.8080,2,  34.8080,2,-999.0000,9,   220.6,2,   70.56,2,   25.41,2,    0.00,2,    1.87,2,   0.010,2,   0.004,2,  2214.2,2,  2341.9,2,   917.0,2,  -999.0,9, -999.00,     2.1503,   1.9192,     -999.0,9
318M19881207,      SAVE4,     206,          1,         35,         35,2,19881230,       0813,   -40.0533,   -12.4867,       3247,  3093.3,  34.8064,2,  34.8070,2,-999.0000,9,   221.4,2,   70.95,2,   25.31,2,    0.00,2,    1.87,2,   0.013,2,   0.005,2,  2211.6,2,  2338.3,2,   920.8,2,  3118.4,2, -999.00,     2.1316,   1.8910,      2.136,2
318M19881207,      SAVE4,     206,          1,         36,         36,2,19881230,       0813,   -40.0533,   -12.4867,       3247,  3264.3,  34.8076,2,  34.8070,2,-999.0000,9,   221.8,2,   71.54,2,   25.31,2,    0.00,2,    1.86,2,   0.007,2,   0.002,2,  2214.8,2,  2342.0,2,   920.3,2,  -999.0,9, -999.00,     2.0783,   1.8215,     -999.0,9