BOTTLE,20211025CCHSIORKP
EXPOCODE,SECT_ID,STNNBR,CASTNO,SAMPNO,BTLNBR,BTLNBR_FLAG_W,DATE,TIME,LATITUDE,LONGITUDE,DEPTH,CTDPRS,CTDSAL,CTDSAL_FLAG_W,SALNTY,SALNTY_FLAG_W,CTDOXY,CTDOXY_FLAG_W,OXYGEN,OXYGEN_FLAG_W,SILCAT,SILCAT_FLAG_W,NITRAT,NITRAT_FLAG_W,NITRIT,NITRIT_FLAG_W,PHSPHT,PHSPHT_FLAG_W,CFC-11,CFC-11_FLAG_W,CFC-12,CFC-12_FLAG_W,TCARBN,TCARBN_FLAG_W,ALKALI,ALKALI_FLAG_W,PCO2,PCO2_FLAG_W,REVPRS,REVPRS_FLAG_W,CTDRAW,CTDTMP,THETA,REVTMP,REVTMP_FLAG_W
,,,,,,,,,,,METERS,DBAR,PSS-78,,PSS-78,,UMOL/KG,,UMOL/KG,,UMOL/KG,,UMOL/KG,,UMOL/KG,,UMOL/KG,,PMOL/KG,,PMOL/KG,,UMOL/KG,,UMOL/KG,,UATM,,DBAR,,DBAR,ITS-68,DEG C,ITS-68,
318M19881207,      SAVE4,     190,          2,          1,          1,2,19881218,       1857,   -47.0583,   -41.2250,       5859,     5.0,  34.4703,2,  34.4780,2,-999.0000,9,   285.0,2,    1.17,2,    8.80,2,    0.18,2,    0.74,2,-999.000,9,-999.000,9,  -999.0,9,  -999.0,9,  -999.0,9,  -999.0,9, -999.00,    10.1674,  10.1668,     10.467,2
318M19881207,      SAVE4,     190,          2,          2,          2,2,19881218,       1857,   -47.0583,   -41.2250,       5859,     5.2,  34.4693,2,  34.4610,2,-999.0000,9,  -999.0,9, -999.00,9, -999.00,9, -999.00,9, -999.00,9,   3.394,2,   1.593,2,  -999.0,9,  -999.0,9,  -999.0,9,  -999.0,9, -999.00,    10.1684,  10.1678,     -999.0,9
318M19881207,      SAVE4,     190,          2,          4,          4,2,19881218,       1857,   -47.0583,   -41.2250,       5859,    12.0,  34.4703,2,  34.4610,2,-999.0000,9,  -999.0,9, -999.00,9, -999.00,9, -999.00,9, -999.00,9,   3.352,2,   1.625,2,  2061.1,2,  -999.0,9,   464.6,2,  -999.0,9, -999.00,    10.1684,  10.1670,     -999.0,9
318M19881207,      SAVE4,     190,          2,          3,          3,2,19881218,       1857,   -47.0583,   -41.2250,       5859,    12.1,  34.4693,2,  34.4600,2,-999.0000,9,   285.4,2,    1.76,2,    8.80,2,    0.18,2,    0.73,2,-999.000,9,-999.000,9,  2059.7,2,  2291.8,2,   460.1,2,  -999.0,9, -999.00,    10.1694,  10.1680,     -999.0,9
318M19881207,      SAVE4,     190,          2,          5,          5,2,19881218,       1857,   -47.0583,   -41.2250,       5859,   109.3,  34.6705,2,  34.6540,2,-999.0000,9,   266.6,2,    4.20,2,   13.78,2,    0.08,2,    1.05,2,   3.382,2,   1.621,2,  -999.0,9,  -999.0,9,  -999.0,9,  -999.0,9, -999.00,     9.0230,   9.0112,     -999.0,9
318M19881207,      SAVE4,     190,          2,          6,          6,2,19881218,       1857,   -47.0583,   -41.2250,       5859,   109.4,  34.6676,2,  34.6420,2,-999.0000,9,  -999.0,9, -999.00,9, -999.00,9, -999.00,9, -999.00,9,-999.000,9,-999.000,9,  2097.1,2,  -999.0,9,   556.4,2,  -999.0,9, -999.00,     9.0060,   8.9943,     -999.0,9
318M19881207,      SAVE4,     190,          2,          8,          8,2,19881218,       1857,   -47.0583,   -41.2250,       5859,   160.6,  34.4476,2,  34.4390,2,-999.0000,9,  -999.0,9, -999.00,9, -999.00,9, -999.00,9, -999.00,9,   3.375,2,   1.614,2,  2122.9,2,  -999.0,9,   625.7,2,  -999.0,9, -999.00,     7.3641,   7.3487,     -999.0,9
318M19881207,      SAVE4,     190,          2,          7,          7,2,19881218,       1857,   -47.0583,   -41.2250,       5859,   160.7,  34.4533,2,  34.4440,2,-999.0000,9,   268.3,2,    6.35,2,   17.69,2,    0.03,2,    1.31,2,-999.000,9,-999.000,9,  -999.0,9,  -999.0,9,  -999.0,9,  -999.0,9, -999.00,     7.3920,   7.3767,     -999.0,9
318M19881207,      SAVE4,     190,          2,         10,         10,2,19881218,       1857,   -47.0583,   -41.2250,       5859,   211.6,  34.1823,2,  34.1710,2,-999.0000,9,  -999.0,9, -999.00,9, -999.00,9, -999.00,9, -999.00,9,   3.739,2,   1.734,2,  2123.6,2,  -999.0,9,   707.1,2,  -999.0,9, -999.00,     5.2045,   5.1879,     -999.0,9
318M19881207,      SAVE4,     190,          2,          9,          9,2,19881218,       1857,   -47.0583,   -41.2250,       5859,   211.8,  34.1842,2,  34.1790,2,-999.0000,9,   280.9,2,    9.29,2,   22.88,2,    0.01,2,    1.60,2,-999.000,9,-999.000,9,  -999.0,9,  -999.0,9,  -999.0,9,  -999.0,9, -999.00,     5.2465,   5.2298,     -999.0,9
318M19881207,      SAVE4,     190,          2,         12,         12,2,19881218,       1857,   -47.0583,   -41.2250,       5859,   262.7,  34.2284,2,-999.0000,9,-999.0000,9,  -999.0,9, -999.00,9, -999.00,9, -999.00,9, -999.00,9,-999.000,9,-999.000,9,  2096.6,2,  -999.0,9,   574.8,2,  -999.0,9, -999.00,     5.1326,   5.1120,     -999.0,9
318M19881207,      SAVE4,     190,          2,         11,         11,2,19881218,       1857,   -47.0583,   -41.2250,       5859,   262.8,  34.2289,2,  34.2230,2,-999.0000,9,   263.9,2,   11.73,2,   24.74,2,    0.00,2,    1.71,2,-999.000,9,-999.000,9,  -999.0,9,  -999.0,9,  -999.0,9,  -999.0,9, -999.00,     5.1506,   5.1299,     -999.0,9
318M19881207,      SAVE4,     190,          2,         14,         14,2,19881218,       1857,   -47.0583,   -41.2250,       5859,   313.5,  34.1872,2,  34.1840,2,-999.0000,9,  -999.0,9, -999.00,9, -999.00,9, -999.00,9, -999.00,9,   3.208,2,   1.499,2,  2138.2,2,  -999.0,9,   782.8,2,  -999.0,9, -999.00,     4.4921,   4.4689,     -999.0,9
318M19881207,      SAVE4,     190,          2,         13,         13,2,19881218,       1857,   -47.0583,   -41.2250,       5859,   313.6,  34.1867,2,  34.1840,2,-999.0000,9,   270.5,2,   14.08,2,   25.91,2,    0.00,2,    1.80,2,-999.000,9,-999.000,9,  -999.0,9,  -999.0,9,  -999.0,9,  -999.0,9, -999.00,     4.4961,   4.4729,     -999.0,9
318M19881207,      SAVE4,     190,          2,         16,         16,2,19881218,       1857,   -47.0583,   -41.2250,       5859,   415.4,  34.1840,2,  34.1830,2,-999.0000,9,  -999.0,9, -999.00,9, -999.00,9, -999.00,9, -999.00,9,   2.915,2,   1.391,2,  2141.6,2,  -999.0,9,   806.9,2,  -999.0,9, -999.00,     4.0244,   3.9950,     -999.0,9
318M19881207,      SAVE4,     190,          2,         15,         15,2,19881218,       1857,   -47.0583,   -41.2250,       5859,   415.4,  34.1843,2,  34.1830,2,-999.0000,9,   271.3,2,   17.89,2,   26.89,2,    0.00,2,    1.86,2,-999.000,9,-999.000,9,  -999.0,9,  -999.0,9,  -999.0,9,  -999.0,9, -999.00,     4.0264,   3.9970,     -999.0,9
318M19881207,      SAVE4,     190,          2,         18,         18,2,19881218,       1857,   -47.0583,   -41.2250,       5859,   621.0,  34.1973,2,  34.1960,2,-999.0000,9,  -999.0,9, -999.00,9, -999.00,9, -999.00,9, -999.00,9,-999.000,9,-999.000,9,  2163.1,2,  -999.0,9,   876.0,2,  -999.0,9, -999.00,     3.2890,   3.2476,     -999.0,9
318M19881207,      SAVE4,     190,          2,         17,         17,2,19881218,       1857,   -47.0583,   -41.2250,       5859,   621.2,  34.1971,2,  34.1950,2,-999.0000,9,   259.1,2,   26.99,2,   29.14,2,    0.00,2,    2.03,2,   2.383,2,   1.126,2,  -999.0,9,  -999.0,9,  -999.0,9,  -999.0,9, -999.00,     3.2950,   3.2535,     -999.0,9
318M19881207,      SAVE4,     190,          2,         19,         19,2,19881218,       1857,   -47.0583,   -41.2250,       5859,   825.9,  34.2496,2,  34.2470,2,-999.0000,9,   238.7,2,   40.18,2,   31.78,2,    0.00,2,    2.21,2,-999.000,9,-999.000,9,  -999.0,9,  -999.0,9,  -999.0,9,  -999.0,9, -999.00,     2.6355,   2.5833,     -999.0,9
318M19881207,      SAVE4,     190,          2,         20,         20,2,19881218,       1857,   -47.0583,   -41.2250,       5859,   826.2,  34.2505,2,  34.2480,2,-999.0000,9,  -999.0,9, -999.00,9, -999.00,9, -999.00,9, -999.00,9,   1.848,2,   0.852,2,  2184.7,2,  -999.0,9,   977.9,2,  -999.0,9, -999.00,     2.6345,   2.5823,     -999.0,9
318M19881207,      SAVE4,     190,          2,         22,         22,2,19881218,       1857,   -47.0583,   -41.2250,       5859,  1031.7,  34.3733,2,  34.3720,2,-999.0000,9,  -999.0,9, -999.00,9, -999.00,9, -999.00,9, -999.00,9,-999.000,9,-999.000,9,  2219.1,2,  -999.0,9,  1094.2,2,  -999.0,9, -999.00,     2.5486,   2.4822,     -999.0,9
318M19881207,      SAVE4,     190,          2,         21,         21,2,19881218,       1857,   -47.0583,   -41.2250,       5859,  1032.3,  34.3743,2,  34.3700,2,-999.0000,9,   204.7,2,   55.33,2,   33.83,2,    0.00,2,    2.34,2,   0.932,2,   0.435,2,  -999.0,9,  -999.0,9,  -999.0,9,  -999.0,9, -999.00,     2.5486,   2.4821,     -999.0,9
318M19881207,      SAVE4,     190,          2,         23,         23,2,19881218,       1857,   -47.0583,   -41.2250,       5859,  1289.5,  34.5277,2,  34.5250,2,-999.0000,9,   183.4,2,   65.20,2,   33.53,2,    0.00,2,    2.34,2,   0.266,2,   0.141,2,  2231.6,2,  2326.0,2,  1136.5,2,  -999.0,9, -999.00,     2.6545,   2.5674,     -999.0,9
318M19881207,      SAVE4,     190,          2,         24,         24,2,19881218,       1857,   -47.0583,   -41.2250,       5859,  1546.2,  34.6355,2,  34.6330,2,-999.0000,9,   180.4,2,   69.01,2,   32.26,2,    0.00,2,    2.26,2,   0.098,2,   0.029,2,  2235.2,2,  2349.9,2,  1005.1,2,  -999.0,9, -999.00,     2.6565,   2.5487,     -999.0,9
318M19881207,      SAVE4,     190,          2,         26,         26,2,19881218,       1857,   -47.0583,   -41.2250,       5859,  2063.6,  34.7943,2,  34.7960,2,-999.0000,9,  -999.0,9, -999.00,9, -999.00,9, -999.00,9, -999.00,9,   0.029,2,   0.019,2,  2217.5,2,  -999.0,9,   946.5,2,  -999.0,9, -999.00,     2.7534,   2.5993,     -999.0,9
318M19881207,      SAVE4,     190,          2,         25,         25,2,19881218,       1857,   -47.0583,   -41.2250,       5859,  2063.9,  34.7952,2,  34.7940,2,-999.0000,9,   208.1,2,   59.72,2,   27.37,2,    0.00,2,    1.88,2,-999.000,9,-999.000,9,  -999.0,9,  -999.0,9,  -999.0,9,  -999.0,9, -999.00,     2.7524,   2.5983,     -999.0,9
318M19881207,      SAVE4,     190,          2,         27,         27,2,19881218,       1857,   -47.0583,   -41.2250,       5859,  2322.3,  34.7884,2,  34.7850,2,-999.0000,9,   206.4,2,   68.41,2,   28.05,2,    0.00,2,    1.95,2,   0.030,2,   0.020,2,  2218.5,2,  2337.5,2,   968.6,2,  -999.0,9, -999.00,     2.4616,   2.2888,     -999.0,9
318M19881207,      SAVE4,     190,          2,         29,         29,2,19881218,       1857,   -47.0583,   -41.2250,       5859,  3098.5,  34.7332,2,  34.7310,2,-999.0000,9,  -999.0,9, -999.00,9, -999.00,9, -999.00,9, -999.00,9,-999.000,9,-999.000,9,  2247.8,2,  -999.0,9,  1054.1,2,  -999.0,9, -999.00,     1.5064,   1.2798,     -999.0,9
318M19881207,      SAVE4,     190,          2,         28,         28,2,19881218,       1857,   -47.0583,   -41.2250,       5859,  3098.9,  34.7332,2,  34.7300,2,-999.0000,9,   202.0,2,  101.75,2,   30.98,2,    0.00,2,    2.17,2,   0.047,2,   0.016,2,  -999.0,9,  -999.0,9,  -999.0,9,  -999.0,9, -999.00,     1.5074,   1.2807,     -999.0,9
318M19881207,      SAVE4,     190,          2,         30,         30,2,19881218,       1857,   -47.0583,   -41.2250,       5859,  3355.7,  34.7227,2,  34.7190,2,-999.0000,9,   204.2,2,  107.22,2,   31.47,2,    0.00,2,    2.20,2,   0.057,2,   0.032,2,  2247.5,2,  2355.3,2,  1064.1,2,  -999.0,9, -999.00,     1.2846,   1.0381,     -999.0,9
318M19881207,      SAVE4,     190,          2,         32,         32,2,19881218,       1857,   -47.0583,   -41.2250,       5859,  4113.1,  34.6912,2,  34.6910,2,-999.0000,9,  -999.0,9, -999.00,9, -999.00,9, -999.00,9, -999.00,9,   0.103,2,   0.064,2,  2257.5,2,  -999.0,9,  1078.2,2,  4076.9,2, -999.00,     0.6832,   0.3755,      0.702,2
318M19881207,      SAVE4,     190,          2,         31,         31,2,19881218,       1857,   -47.0583,   -41.2250,       5859,  4113.1,  34.6912,2,  34.6890,2,-999.0000,9,   214.6,2,  119.93,2,   32.25,2,    0.00,2,    2.28,2,-999.000,9,-999.000,9,  -999.0,9,  -999.0,9,  -999.0,9,  -999.0,9, -999.00,     0.6832,   0.3755,     -999.0,9
318M19881207,      SAVE4,     190,          2,         33,         33,2,19881218,       1857,   -47.0583,   -41.2250,       5859,  4966.1,  34.6695,2,  34.6680,2,-999.0000,9,   225.5,2,  126.67,2,   32.74,2,    0.00,2,    2.31,2,-999.000,9,-999.000,9,  -999.0,9,  -999.0,9,  -999.0,9,  -999.0,9, -999.00,     0.2795,  -0.1091,     -999.0,9
318M19881207,      SAVE4,     190,          2,         34,         34,2,19881218,       1857,   -47.0583,   -41.2250,       5859,  4966.2,  34.6693,2,  34.6700,2,-999.0000,9,  -999.0,9, -999.00,9, -999.00,9, -999.00,9, -999.00,9,   0.102,2,   0.062,2,  2253.4,2,  -999.0,9,  1085.2,2,  -999.0,9, -999.00,     0.2785,  -0.1100,     -999.0,9
318M19881207,      SAVE4,     190,          2,         35,         35,2,19881218,       1857,   -47.0583,   -41.2250,       5859,  5996.0,  34.6615,2,  34.6620,2,-999.0000,9,   229.4,2,  128.63,2,   32.74,2,    0.00,2,    2.32,2,-999.000,9,-999.000,9,  -999.0,9,  -999.0,9,  -999.0,9,  6045.7,2, -999.00,     0.2505,  -0.2614,      0.260,2
318M19881207,      SAVE4,     190,          2,         36,         36,2,19881218,       1857,   -47.0583,   -41.2250,       5859,  5996.3,  34.6616,2,  34.6590,2,-999.0000,9,  -999.0,9, -999.00,9, -999.00,9, -999.00,9, -999.00,9,   0.190,2,   0.088,2,  2256.1,2,  -999.0,9,  1081.7,2,  -999.0,9, -999.00,     0.2515,  -0.2605,     -999.0,9