BOTTLE,20211025CCHSIORKP
EXPOCODE,SECT_ID,STNNBR,CASTNO,SAMPNO,BTLNBR,BTLNBR_FLAG_W,DATE,TIME,LATITUDE,LONGITUDE,DEPTH,CTDPRS,CTDSAL,CTDSAL_FLAG_W,SALNTY,SALNTY_FLAG_W,CTDOXY,CTDOXY_FLAG_W,OXYGEN,OXYGEN_FLAG_W,SILCAT,SILCAT_FLAG_W,NITRAT,NITRAT_FLAG_W,NITRIT,NITRIT_FLAG_W,PHSPHT,PHSPHT_FLAG_W,CFC-11,CFC-11_FLAG_W,CFC-12,CFC-12_FLAG_W,TCARBN,TCARBN_FLAG_W,ALKALI,ALKALI_FLAG_W,PCO2,PCO2_FLAG_W,REVPRS,REVPRS_FLAG_W,CTDRAW,CTDTMP,THETA,REVTMP,REVTMP_FLAG_W
,,,,,,,,,,,METERS,DBAR,PSS-78,,PSS-78,,UMOL/KG,,UMOL/KG,,UMOL/KG,,UMOL/KG,,UMOL/KG,,UMOL/KG,,PMOL/KG,,PMOL/KG,,UMOL/KG,,UMOL/KG,,UATM,,DBAR,,DBAR,ITS-68,DEG C,ITS-68,
318M19881207,      SAVE4,     227,          1,          1,          1,2,19890111,       0240,   -29.9950,    10.5550,       4561,     0.7,  35.5873,2,  35.5880,2,-999.0000,9,   229.1,2,    2.73,2,    0.10,2,    0.00,2,    0.18,2,   1.673,2,   1.030,2,  2028.8,2,  2335.1,2,   336.8,2,  -999.0,9, -999.00,    20.8895,  20.8894,     20.869,2
318M19881207,      SAVE4,     227,          1,          2,          2,2,19890111,       0240,   -29.9950,    10.5550,       4561,    45.2,  35.5439,2,  35.5500,2,-999.0000,9,   243.0,2,    2.54,2,    0.00,2,    0.00,2,    0.17,2,-999.000,9,-999.000,9,  2023.0,2,  2330.2,2,   333.6,2,  -999.0,9, -999.00,    18.6376,  18.6297,     -999.0,9
318M19881207,      SAVE4,     227,          1,          3,          3,2,19890111,       0240,   -29.9950,    10.5550,       4561,    81.1,  35.4258,2,  35.4290,2,-999.0000,9,   232.7,2,    2.93,2,    2.74,2,    0.10,2,    0.37,2,   2.237,2,   1.167,2,  2055.2,2,  2325.4,2,   397.2,2,  -999.0,9, -999.00,    15.4729,  15.4604,     -999.0,9
318M19881207,      SAVE4,     227,          1,          4,          4,2,19890111,       0240,   -29.9950,    10.5550,       4561,   149.3,  35.2901,2,  35.2900,2,-999.0000,9,   226.9,2,    3.52,2,    5.28,2,    0.01,2,    0.51,2,   2.226,2,   1.176,2,  2067.7,2,  2321.7,2,   428.8,2,  -999.0,9, -999.00,    14.4209,  14.3989,     -999.0,9
318M19881207,      SAVE4,     227,          1,          5,          5,2,19890111,       0240,   -29.9950,    10.5550,       4561,   226.3,  35.1074,2,  35.1070,2,-999.0000,9,   213.4,2,    4.79,2,    9.77,2,    0.01,2,    0.76,2,   1.998,2,   1.037,2,  2089.1,2,  2309.1,2,   507.3,2,  -999.0,9, -999.00,    12.9373,  12.9062,     -999.0,9
318M19881207,      SAVE4,     227,          1,          6,          6,2,19890111,       0240,   -29.9950,    10.5550,       4561,   312.8,  34.9399,2,  34.9370,2,-999.0000,9,   209.3,2,    6.45,2,   13.78,2,    0.00,2,    1.02,2,   1.655,2,   0.853,2,  2107.4,2,  2302.4,2,   579.7,2,  -999.0,9, -999.00,    11.2927,  11.2533,     -999.0,9
318M19881207,      SAVE4,     227,          1,          7,          7,2,19890111,       0240,   -29.9950,    10.5550,       4561,   380.5,  34.7904,2,  34.7910,2,-999.0000,9,   180.5,2,   10.65,2,   19.64,2,    0.00,2,    1.39,2,   1.424,2,   0.699,2,  2138.3,2,  2296.5,2,   719.9,2,  -999.0,9, -999.00,     9.9738,   9.9294,     -999.0,9
318M19881207,      SAVE4,     227,          1,          8,          8,2,19890111,       0240,   -29.9950,    10.5550,       4561,   496.7,  34.5732,2,  34.5720,2,-999.0000,9,   177.1,2,   15.74,2,   25.90,2,    0.00,2,    1.77,2,   1.004,2,   0.519,2,  2159.1,2,  2287.2,2,   868.1,2,  -999.0,9, -999.00,     7.7450,   7.6950,     -999.0,9
318M19881207,      SAVE4,     227,          1,          9,          9,2,19890111,       0240,   -29.9950,    10.5550,       4561,   599.7,  34.4377,2,  34.4390,2,-999.0000,9,   183.7,2,   20.53,2,   29.33,2,    0.00,2,    1.96,2,   0.824,2,   0.431,2,  2170.0,2,  2284.2,2,   952.4,2,  -999.0,9, -999.00,     6.1197,   6.0664,     -999.0,9
318M19881207,      SAVE4,     227,          1,         10,         10,2,19890111,       0240,   -29.9950,    10.5550,       4561,   721.1,  34.3309,2,  34.3320,2,-999.0000,9,   215.1,2,   26.59,2,   29.62,2,    0.00,2,    2.02,2,   0.983,2,   0.458,2,  2173.8,2,  2295.6,2,   910.1,2,  -999.0,9, -999.00,     4.6092,   4.5529,     -999.0,9
318M19881207,      SAVE4,     227,          1,         11,         11,2,19890111,       0240,   -29.9950,    10.5550,       4561,   800.6,  34.3448,2,  34.3470,2,-999.0000,9,   209.2,2,   33.53,2,   30.70,2,    0.00,2,    2.12,2,   0.809,2,   0.370,2,  2186.2,2,  2304.1,2,   942.2,2,  -999.0,9, -999.00,     4.1723,   4.1121,     -999.0,9
318M19881207,      SAVE4,     227,          1,         12,         12,2,19890111,       0240,   -29.9950,    10.5550,       4561,   905.3,  34.3695,2,  34.3720,2,-999.0000,9,   198.4,2,   41.45,2,   32.26,2,    0.00,2,    2.22,2,   0.481,2,   0.219,2,  2201.6,2,  2307.7,2,  1027.6,2,  -999.0,9, -999.00,     3.6877,   3.6222,     -999.0,9
318M19881207,      SAVE4,     227,          1,         13,         13,2,19890111,       0240,   -29.9950,    10.5550,       4561,  1016.4,  34.4295,2,  34.4290,2,-999.0000,9,   187.0,2,   50.25,2,   33.14,2,    0.00,2,    2.29,2,   0.257,2,   0.127,2,  2213.7,2,  2315.7,2,  1066.2,2,  -999.0,9, -999.00,     3.3585,   3.2867,     -999.0,9
318M19881207,      SAVE4,     227,          1,         14,         14,2,19890111,       0240,   -29.9950,    10.5550,       4561,  1131.7,  34.4964,2,  34.4960,2,-999.0000,9,   179.1,2,   54.84,2,   33.33,2,    0.00,2,    2.30,2,   0.111,2,   0.064,2,  -999.0,9,  -999.0,9,  -999.0,9,  -999.0,9, -999.00,     3.2217,   3.1418,     -999.0,9
318M19881207,      SAVE4,     227,          1,         15,         15,2,19890111,       0240,   -29.9950,    10.5550,       4561,  1250.8,  34.5579,2,  34.5580,2,-999.0000,9,   179.5,2,   59.82,2,   32.65,2,    0.00,2,    2.27,2,   0.024,2,   0.018,2,  -999.0,9,  -999.0,9,  -999.0,9,  -999.0,9, -999.00,     2.9889,   2.9015,     -999.0,9
318M19881207,      SAVE4,     227,          1,         16,         16,2,19890111,       0240,   -29.9950,    10.5550,       4561,  1337.3,  34.6223,2,  34.6220,2,-999.0000,9,   182.3,2,   58.45,2,   31.47,2,    0.00,2,    2.20,2,   0.016,2,   0.009,2,  -999.0,9,  -999.0,9,  -999.0,9,  -999.0,9, -999.00,     2.9645,   2.8703,     -999.0,9
318M19881207,      SAVE4,     227,          1,         17,         17,2,19890111,       0240,   -29.9950,    10.5550,       4561,  1440.4,  34.6875,2,  34.6890,2,-999.0000,9,   189.2,2,   53.17,2,   30.01,2,    0.00,2,    2.08,2,   0.005,2,   0.006,2,  -999.0,9,  -999.0,9,  -999.0,9,  -999.0,9, -999.00,     3.0429,   2.9392,     -999.0,9
318M19881207,      SAVE4,     227,          1,         18,         18,2,19890111,       0240,   -29.9950,    10.5550,       4561,  1542.4,  34.7215,2,  34.7210,2,-999.0000,9,   193.5,2,   53.37,2,   29.32,2,    0.00,2,    2.03,2,   0.008,2,   0.006,2,  -999.0,9,  -999.0,9,  -999.0,9,  -999.0,9, -999.00,     3.0011,   2.8893,     -999.0,9
318M19881207,      SAVE4,     227,          1,         19,         19,2,19890111,       0240,   -29.9950,    10.5550,       4561,  1645.8,  34.7513,2,  34.7530,2,-999.0000,9,   199.5,2,   52.29,2,   28.44,2,    0.00,2,    1.97,2,   0.008,2,-999.000,9,  -999.0,9,  -999.0,9,  -999.0,9,  -999.0,9, -999.00,     2.9582,   2.8381,     -999.0,9
318M19881207,      SAVE4,     227,          1,         20,         20,2,19890111,       0240,   -29.9950,    10.5550,       4561,  1801.9,  34.8039,2,  34.8040,2,-999.0000,9,   209.8,2,   48.08,2,   26.58,2,    0.00,2,    1.84,2,-999.000,9,-999.000,9,  -999.0,9,  -999.0,9,  -999.0,9,  -999.0,9, -999.00,     2.9775,   2.8435,     -999.0,9
318M19881207,      SAVE4,     227,          1,         21,         21,2,19890111,       0240,   -29.9950,    10.5550,       4561,  1956.2,  34.8256,2,  34.8270,2,-999.0000,9,   217.7,2,   47.01,2,   25.70,2,    0.00,2,    1.77,2,-999.000,9,-999.000,9,  -999.0,9,  -999.0,9,  -999.0,9,  -999.0,9, -999.00,     2.8948,   2.7481,     -999.0,9
318M19881207,      SAVE4,     227,          1,         22,         22,2,19890111,       0240,   -29.9950,    10.5550,       4561,  2110.9,  34.8363,2,  34.8370,2,-999.0000,9,   221.2,2,   47.79,2,   25.41,2,    0.00,2,    1.74,2,   0.002,2,-999.000,9,  -999.0,9,  -999.0,9,  -999.0,9,  -999.0,9, -999.00,     2.7910,   2.6319,     -999.0,9
318M19881207,      SAVE4,     227,          1,         23,         23,2,19890111,       0240,   -29.9950,    10.5550,       4561,  2266.7,  34.8372,2,  34.8380,2,-999.0000,9,   223.4,2,   50.43,2,   25.31,2,    0.00,2,    1.73,2,-999.000,9,-999.000,9,  -999.0,9,  -999.0,9,  -999.0,9,  -999.0,9, -999.00,     2.6620,   2.4907,     -999.0,9
318M19881207,      SAVE4,     227,          1,         24,         24,2,19890111,       0240,   -29.9950,    10.5550,       4561,  2422.1,  34.8474,2,  34.8480,2,-999.0000,9,   227.5,2,   50.14,2,   24.73,2,    0.00,2,    1.70,2,-999.000,9,-999.000,9,  -999.0,9,  -999.0,9,  -999.0,9,  -999.0,9, -999.00,     2.5823,   2.3979,     -999.0,9
318M19881207,      SAVE4,     227,          1,         25,         25,2,19890111,       0240,   -29.9950,    10.5550,       4561,  2577.3,  34.8527,2,  34.8560,2,-999.0000,9,   230.7,2,   50.72,2,   24.33,2,    0.00,2,    1.68,2,-999.000,9,-999.000,9,  -999.0,9,  -999.0,9,  -999.0,9,  -999.0,9, -999.00,     2.5170,   2.3189,     -999.0,9
318M19881207,      SAVE4,     227,          1,         26,         26,2,19890111,       0240,   -29.9950,    10.5550,       4561,  2733.0,  34.8565,2,  34.8580,2,-999.0000,9,   231.8,2,   51.80,2,   23.94,2,    0.00,2,    1.67,2,-999.000,9,-999.000,9,  -999.0,9,  -999.0,9,  -999.0,9,  -999.0,9, -999.00,     2.4707,   2.2585,     -999.0,9
318M19881207,      SAVE4,     227,          1,         27,         27,2,19890111,       0240,   -29.9950,    10.5550,       4561,  2887.4,  34.8573,2,  34.8580,2,-999.0000,9,   232.4,2,   53.75,2,   24.14,2,    0.00,2,    1.68,2,-999.000,9,-999.000,9,  -999.0,9,  -999.0,9,  -999.0,9,  -999.0,9, -999.00,     2.4145,   2.1881,     -999.0,9
318M19881207,      SAVE4,     227,          1,         28,         28,2,19890111,       0240,   -29.9950,    10.5550,       4561,  3097.0,  34.8584,2,  34.8610,2,-999.0000,9,   232.7,2,   55.02,2,   23.94,2,    0.00,2,    1.67,2,   0.002,2,   0.001,2,  -999.0,9,  -999.0,9,  -999.0,9,  -999.0,9, -999.00,     2.3593,   2.1130,     -999.0,9
318M19881207,      SAVE4,     227,          1,         29,         29,2,19890111,       0240,   -29.9950,    10.5550,       4561,  3304.6,  34.8547,2,  34.8550,2,-999.0000,9,   232.2,2,   57.17,2,   24.33,2,    0.00,2,    1.68,2,-999.000,9,-999.000,9,  -999.0,9,  -999.0,9,  -999.0,9,  -999.0,9, -999.00,     2.2951,   2.0288,     -999.0,9
318M19881207,      SAVE4,     227,          1,         30,         30,2,19890111,       0240,   -29.9950,    10.5550,       4561,  3511.3,  34.8500,2,  34.8510,2,-999.0000,9,   230.9,2,   60.10,2,   24.82,2,    0.00,2,    1.70,2,-999.000,9,-999.000,9,  -999.0,9,  -999.0,9,  -999.0,9,  -999.0,9, -999.00,     2.2208,   1.9345,     -999.0,9
318M19881207,      SAVE4,     227,          1,         31,         31,2,19890111,       0240,   -29.9950,    10.5550,       4561,  3718.2,  34.8318,2,  34.8320,2,-999.0000,9,   228.0,2,   67.24,2,   25.61,2,    0.00,2,    1.77,2,-999.000,9,-999.000,9,  -999.0,9,  -999.0,9,  -999.0,9,  -999.0,9, -999.00,     2.0571,   1.7527,     -999.0,9
318M19881207,      SAVE4,     227,          1,         32,         32,2,19890111,       0240,   -29.9950,    10.5550,       4561,  3926.2,  34.7989,2,  34.8010,2,-999.0000,9,   223.6,2,   80.83,2,   27.37,2,    0.00,2,    1.89,2,   0.000,2,   0.004,2,  -999.0,9,  -999.0,9,  -999.0,9,  3932.3,2, -999.00,     1.7451,   1.4267,      1.741,2
318M19881207,      SAVE4,     227,          1,         33,         33,2,19890111,       0240,   -29.9950,    10.5550,       4561,  4136.2,  34.7631,2,  34.7640,2,-999.0000,9,   219.6,2,   95.00,2,   29.03,2,    0.00,2,    2.02,2,-999.000,9,-999.000,9,  -999.0,9,  -999.0,9,  -999.0,9,  -999.0,9, -999.00,     1.3862,   1.0552,     -999.0,9
318M19881207,      SAVE4,     227,          1,         34,         34,2,19890111,       0240,   -29.9950,    10.5550,       4561,  4344.1,  34.7408,2,  34.7400,2,-999.0000,9,   217.4,2,  103.21,2,   30.40,2,    0.00,2,    2.09,2,-999.000,9,-999.000,9,  -999.0,9,  -999.0,9,  -999.0,9,  -999.0,9, -999.00,     1.1599,   0.8127,     -999.0,9
318M19881207,      SAVE4,     227,          1,         35,         35,2,19890111,       0240,   -29.9950,    10.5550,       4561,  4552.9,  34.7356,2,  34.7360,2,-999.0000,9,   216.4,2,  106.44,2,   30.69,2,    0.00,2,    2.11,2,-999.000,9,-999.000,9,  -999.0,9,  -999.0,9,  -999.0,9,  4541.2,2, -999.00,     1.1292,   0.7594,      1.128,2
318M19881207,      SAVE4,     227,          1,         36,         36,2,19890111,       0240,   -29.9950,    10.5550,       4561,  4640.4,  34.7340,2,  34.7340,2,-999.0000,9,   216.6,2,  107.22,2,   30.69,2,    0.00,2,    2.13,2,   0.003,2,-999.000,9,  -999.0,9,  -999.0,9,  -999.0,9,  -999.0,9, -999.00,     1.1166,   0.7372,     -999.0,9