BOTTLE,20211025CCHSIORKP
EXPOCODE,SECT_ID,STNNBR,CASTNO,SAMPNO,BTLNBR,BTLNBR_FLAG_W,DATE,TIME,LATITUDE,LONGITUDE,DEPTH,CTDPRS,CTDSAL,CTDSAL_FLAG_W,SALNTY,SALNTY_FLAG_W,CTDOXY,CTDOXY_FLAG_W,OXYGEN,OXYGEN_FLAG_W,SILCAT,SILCAT_FLAG_W,NITRAT,NITRAT_FLAG_W,NITRIT,NITRIT_FLAG_W,PHSPHT,PHSPHT_FLAG_W,CFC-11,CFC-11_FLAG_W,CFC-12,CFC-12_FLAG_W,TCARBN,TCARBN_FLAG_W,ALKALI,ALKALI_FLAG_W,PCO2,PCO2_FLAG_W,REVPRS,REVPRS_FLAG_W,CTDRAW,CTDTMP,THETA,REVTMP,REVTMP_FLAG_W
,,,,,,,,,,,METERS,DBAR,PSS-78,,PSS-78,,UMOL/KG,,UMOL/KG,,UMOL/KG,,UMOL/KG,,UMOL/KG,,UMOL/KG,,PMOL/KG,,PMOL/KG,,UMOL/KG,,UMOL/KG,,UATM,,DBAR,,DBAR,ITS-68,DEG C,ITS-68,
318M19881207,      SAVE4,     179,          1,          1,          1,2,19881212,       0529,   -46.9833,   -56.6667,       4372,     4.0,  34.1391,2,  34.1360,2,-999.0000,9,   295.9,2,    1.35,2,    7.89,2,    0.12,2,    0.60,2,   3.432,2,   1.617,2,  -999.0,9,  -999.0,9,  -999.0,9,  -999.0,9, -999.00,    11.0243,  11.0238,     -999.0,9
318M19881207,      SAVE4,     179,          1,          2,          2,2,19881212,       0529,   -46.9833,   -56.6667,       4372,    18.5,  34.1319,2,  34.1350,2,-999.0000,9,   297.7,2,    1.35,2,    8.02,2,    0.12,2,    0.64,2,-999.000,9,-999.000,9,  2030.9,2,  2286.2,2,   401.2,2,  -999.0,9, -999.00,    10.8539,  10.8516,     -999.0,9
318M19881207,      SAVE4,     179,          1,          3,          3,2,19881212,       0529,   -46.9833,   -56.6667,       4372,    29.0,  34.1290,2,  34.1200,2,-999.0000,9,   305.3,2,    1.35,2,    9.75,2,    0.14,2,    0.76,2,-999.000,9,-999.000,9,  -999.0,9,  -999.0,9,  -999.0,9,  -999.0,9, -999.00,     9.8732,   9.8699,     -999.0,9
318M19881207,      SAVE4,     179,          1,          4,          4,2,19881212,       0529,   -46.9833,   -56.6667,       4372,    39.0,  34.1230,2,  34.1180,2,-999.0000,9,   302.9,2,    1.35,2,   10.68,2,    0.15,2,    0.84,2,-999.000,9,-999.000,9,  -999.0,9,  -999.0,9,  -999.0,9,  -999.0,9, -999.00,     9.5399,   9.5356,     -999.0,9
318M19881207,      SAVE4,     179,          1,          5,          5,2,19881212,       0529,   -46.9833,   -56.6667,       4372,    54.5,  34.1445,2,  34.1360,2,-999.0000,9,   283.7,2,    1.92,2,   11.67,2,    0.19,2,    1.06,2,-999.000,9,-999.000,9,  -999.0,9,  -999.0,9,  -999.0,9,  -999.0,9, -999.00,     8.2865,   8.2810,     -999.0,9
318M19881207,      SAVE4,     179,          1,          6,          6,2,19881212,       0529,   -46.9833,   -56.6667,       4372,    69.1,  34.1048,2,  34.1270,2,-999.0000,9,   291.0,2,    4.23,2,   16.74,2,    0.28,2,    1.35,2,-999.000,9,-999.000,9,  -999.0,9,  -999.0,9,  -999.0,9,  -999.0,9, -999.00,     6.8180,   6.8118,     -999.0,9
318M19881207,      SAVE4,     179,          1,          7,          7,2,19881212,       0529,   -46.9833,   -56.6667,       4372,    79.7,  34.1185,2,  34.1350,2,-999.0000,9,   289.5,2,    5.38,2,   18.94,2,    0.18,2,    1.41,2,   4.146,2,   1.901,2,  -999.0,9,  -999.0,9,  -999.0,9,  -999.0,9, -999.00,     6.2722,   6.2653,     -999.0,9
318M19881207,      SAVE4,     179,          1,          8,          8,2,19881212,       0529,   -46.9833,   -56.6667,       4372,    99.5,  34.1058,2,  34.1140,2,-999.0000,9,   293.0,2,    7.10,2,   21.54,2,    0.18,2,    1.54,2,-999.000,9,-999.000,9,  -999.0,9,  -999.0,9,  -999.0,9,  -999.0,9, -999.00,     5.3716,   5.3638,     -999.0,9
318M19881207,      SAVE4,     179,          1,          9,          9,2,19881212,       0529,   -46.9833,   -56.6667,       4372,   130.2,  34.0945,2,  34.0980,2,-999.0000,9,   293.1,2,    9.02,2,   23.48,2,    0.04,2,    1.67,2,-999.000,9,-999.000,9,  -999.0,9,  -999.0,9,  -999.0,9,  -999.0,9, -999.00,     4.6207,   4.6111,     -999.0,9
318M19881207,      SAVE4,     179,          1,         10,         10,2,19881212,       0529,   -46.9833,   -56.6667,       4372,   186.7,  34.1144,2,  34.1100,2,-999.0000,9,   288.0,2,   12.85,2,   25.16,2,    0.02,2,    1.76,2,   3.865,2,   1.766,2,  -999.0,9,  -999.0,9,  -999.0,9,  -999.0,9, -999.00,     4.0976,   4.0846,     -999.0,9
318M19881207,      SAVE4,     179,          1,         11,         11,2,19881212,       0529,   -46.9833,   -56.6667,       4372,   237.7,  34.1377,2,-999.0000,9,-999.0000,9,  -999.0,9, -999.00,9, -999.00,9, -999.00,9, -999.00,9,-999.000,9,-999.000,9,  -999.0,9,  -999.0,9,  -999.0,9,  -999.0,9, -999.00,     3.8864,   3.8702,     -999.0,9
318M19881207,      SAVE4,     179,          1,         12,         12,2,19881212,       0529,   -46.9833,   -56.6667,       4372,   313.7,  34.1485,2,-999.0000,9,-999.0000,9,  -999.0,9, -999.00,9, -999.00,9, -999.00,9, -999.00,9,-999.000,9,-999.000,9,  -999.0,9,  -999.0,9,  -999.0,9,  -999.0,9, -999.00,     3.4748,   3.4542,     -999.0,9
318M19881207,      SAVE4,     179,          1,         13,         13,2,19881212,       0529,   -46.9833,   -56.6667,       4372,   415.2,  34.1961,2,  34.1940,2,-999.0000,9,   254.2,2,   28.56,2,   29.44,2,    0.01,2,    2.03,2,   2.407,2,   1.108,2,  -999.0,9,  -999.0,9,  -999.0,9,  -999.0,9, -999.00,     3.1859,   3.1592,     -999.0,9
318M19881207,      SAVE4,     179,          1,         14,         14,2,19881212,       0529,   -46.9833,   -56.6667,       4372,   518.0,  34.2216,2,  34.2210,2,-999.0000,9,   244.7,2,   36.21,2,   30.89,2,    0.00,2,    2.13,2,   2.151,2,   0.979,2,  -999.0,9,  -999.0,9,  -999.0,9,  -999.0,9, -999.00,     2.7261,   2.6943,     -999.0,9
318M19881207,      SAVE4,     179,          1,         15,         15,2,19881212,       0529,   -46.9833,   -56.6667,       4372,   620.2,  34.2660,2,  34.2660,2,-999.0000,9,   232.5,2,   42.90,2,   32.16,2,    0.00,2,    2.22,2,   1.752,2,   0.785,2,  -999.0,9,  -999.0,9,  -999.0,9,  -999.0,9, -999.00,     2.5170,   2.4794,     -999.0,9
318M19881207,      SAVE4,     179,          1,         16,         16,2,19881212,       0529,   -46.9833,   -56.6667,       4372,   712.6,  34.3236,2,  34.3240,2,-999.0000,9,   217.0,2,   49.38,2,   32.93,2,    0.00,2,    2.28,2,   1.311,2,   0.591,2,  -999.0,9,  -999.0,9,  -999.0,9,  -999.0,9, -999.00,     2.4963,   2.4526,     -999.0,9
318M19881207,      SAVE4,     179,          1,         17,         17,2,19881212,       0529,   -46.9833,   -56.6667,       4372,   823.3,  34.3946,2,  34.4010,2,-999.0000,9,   199.8,2,   57.40,2,   33.47,2,    0.00,2,    2.35,2,   0.802,2,   0.382,2,  -999.0,9,  -999.0,9,  -999.0,9,  -999.0,9, -999.00,     2.5381,   2.4865,     -999.0,9
318M19881207,      SAVE4,     179,          1,         18,         18,2,19881212,       0529,   -46.9833,   -56.6667,       4372,   926.5,  34.4449,2,  34.4460,2,-999.0000,9,   188.8,2,   64.83,2,   34.06,2,    0.00,2,    2.37,2,   0.583,2,   0.274,2,  -999.0,9,  -999.0,9,  -999.0,9,  -999.0,9, -999.00,     2.4521,   2.3938,     -999.0,9
318M19881207,      SAVE4,     179,          1,         19,         19,2,19881212,       0529,   -46.9833,   -56.6667,       4372,  1028.8,  34.4945,2,  34.4950,2,-999.0000,9,   180.0,2,   71.11,2,   34.24,2,    0.00,2,    2.38,2,   0.383,2,   0.197,2,  -999.0,9,  -999.0,9,  -999.0,9,  -999.0,9, -999.00,     2.4223,   2.3569,     -999.0,9
318M19881207,      SAVE4,     179,          1,         20,         20,2,19881212,       0529,   -46.9833,   -56.6667,       4372,  1131.8,  34.5382,2,  34.5380,2,-999.0000,9,   175.2,2,   75.86,2,   34.28,2,    0.00,2,    2.38,2,-999.000,9,-999.000,9,  -999.0,9,  -999.0,9,  -999.0,9,  -999.0,9, -999.00,     2.3647,   2.2922,     -999.0,9
318M19881207,      SAVE4,     179,          1,         21,         21,2,19881212,       0529,   -46.9833,   -56.6667,       4372,  1284.3,  34.5967,2,  34.6060,2,-999.0000,9,   173.1,2,   81.94,2,   33.87,2,    0.00,2,    2.36,2,   0.140,2,   0.089,2,  -999.0,9,  -999.0,9,  -999.0,9,  -999.0,9, -999.00,     2.2851,   2.2020,     -999.0,9
318M19881207,      SAVE4,     179,          1,         22,         22,2,19881212,       0529,   -46.9833,   -56.6667,       4372,  1438.9,  34.6270,2,  34.6280,2,-999.0000,9,   172.4,2,   85.73,2,   33.69,2,    0.00,2,    2.34,2,-999.000,9,-999.000,9,  -999.0,9,  -999.0,9,  -999.0,9,  -999.0,9, -999.00,     2.2135,   2.1194,     -999.0,9
318M19881207,      SAVE4,     179,          1,         23,         23,2,19881212,       0529,   -46.9833,   -56.6667,       4372,  1542.5,  34.6435,2,  34.6450,2,-999.0000,9,   173.2,2,   86.27,2,   33.46,2,    0.00,2,    2.32,2,   0.086,2,   0.056,2,  -999.0,9,  -999.0,9,  -999.0,9,  -999.0,9, -999.00,     2.1873,   2.0854,     -999.0,9
318M19881207,      SAVE4,     179,          1,         24,         24,2,19881212,       0529,   -46.9833,   -56.6667,       4372,  1646.7,  34.7131,2,  34.7120,2,-999.0000,9,   186.5,2,   86.23,2,   31.10,2,    0.00,2,    2.14,2,-999.000,9,-999.000,9,  -999.0,9,  -999.0,9,  -999.0,9,  -999.0,9, -999.00,     2.4014,   2.2883,     -999.0,9
318M19881207,      SAVE4,     179,          1,         25,         25,2,19881212,       0529,   -46.9833,   -56.6667,       4372,  1750.0,  34.7034,2,  34.7060,2,-999.0000,9,   184.1,2,   84.28,2,   31.82,2,    0.00,2,    2.19,2,   0.057,2,   0.039,2,  -999.0,9,  -999.0,9,  -999.0,9,  -999.0,9, -999.00,     2.2095,   2.0906,     -999.0,9
318M19881207,      SAVE4,     179,          1,         26,         26,2,19881212,       0529,   -46.9833,   -56.6667,       4372,  1852.7,  34.7226,2,  34.7210,2,-999.0000,9,   187.1,2,   83.48,2,   31.14,2,    0.00,2,    2.16,2,-999.000,9,-999.000,9,  -999.0,9,  -999.0,9,  -999.0,9,  -999.0,9, -999.00,     2.2018,   2.0744,     -999.0,9
318M19881207,      SAVE4,     179,          1,         27,         27,2,19881212,       0529,   -46.9833,   -56.6667,       4372,  1956.3,  34.7396,2,  34.7350,2,-999.0000,9,   191.8,2,   82.50,2,   30.51,2,    0.00,2,    2.12,2,   0.045,2,   0.037,2,  -999.0,9,  -999.0,9,  -999.0,9,  -999.0,9, -999.00,     2.1851,   2.0492,     -999.0,9
318M19881207,      SAVE4,     179,          1,         28,         28,2,19881212,       0529,   -46.9833,   -56.6667,       4372,  2111.9,  34.7510,2,  34.7490,2,-999.0000,9,   195.7,2,   83.99,2,   30.06,2,    0.00,2,    2.07,2,   0.036,2,   0.015,2,  -999.0,9,  -999.0,9,  -999.0,9,  -999.0,9, -999.00,     2.0896,   1.9418,     -999.0,9
318M19881207,      SAVE4,     179,          1,         29,         29,2,19881212,       0529,   -46.9833,   -56.6667,       4372,  2266.8,  34.7519,2,  34.7530,2,-999.0000,9,   197.7,2,   86.24,2,   29.97,2,    0.00,2,    2.06,2,   0.034,2,   0.020,2,  -999.0,9,  -999.0,9,  -999.0,9,  -999.0,9, -999.00,     1.9641,   1.8049,     -999.0,9
318M19881207,      SAVE4,     179,          1,         30,         30,2,19881212,       0529,   -46.9833,   -56.6667,       4372,  2576.8,  34.7378,2,  34.7390,2,-999.0000,9,   198.6,2,   96.69,2,   30.55,2,    0.00,2,    2.09,2,   0.038,2,   0.033,2,  -999.0,9,  -999.0,9,  -999.0,9,  -999.0,9, -999.00,     1.6564,   1.4753,     -999.0,9
318M19881207,      SAVE4,     179,          1,         31,         31,2,19881212,       0529,   -46.9833,   -56.6667,       4372,  2887.4,  34.7227,2,  34.7240,2,-999.0000,9,   198.6,2,  104.66,2,   31.37,2,    0.00,2,    2.19,2,   0.054,2,   0.046,2,  -999.0,9,  -999.0,9,  -999.0,9,  -999.0,9, -999.00,     1.4070,   1.2026,     -999.0,9
318M19881207,      SAVE4,     179,          1,         32,         32,2,19881212,       0529,   -46.9833,   -56.6667,       4372,  3198.9,  34.7163,2,  34.7190,2,-999.0000,9,   202.2,2,  109.39,2,   31.55,2,    0.00,2,    2.20,2,   0.078,2,   0.060,2,  -999.0,9,  -999.0,9,  -999.0,9,  -999.0,9, -999.00,     1.2309,   1.0010,     -999.0,9
318M19881207,      SAVE4,     179,          1,         33,         33,2,19881212,       0529,   -46.9833,   -56.6667,       4372,  3509.8,  34.7111,2,  34.7100,2,-999.0000,9,   205.7,2,  113.36,2,   31.77,2,    0.00,2,    2.21,2,   0.083,2,   0.046,2,  -999.0,9,  -999.0,9,  -999.0,9,  -999.0,9, -999.00,     1.0825,   0.8257,     -999.0,9
318M19881207,      SAVE4,     179,          1,         34,         34,2,19881212,       0529,   -46.9833,   -56.6667,       4372,  3925.5,  34.6982,2,-999.0000,9,-999.0000,9,  -999.0,9, -999.00,9, -999.00,9, -999.00,9, -999.00,9,-999.000,9,-999.000,9,  -999.0,9,  -999.0,9,  -999.0,9,  -999.0,9, -999.00,     0.8118,   0.5200,     -999.0,9
318M19881207,      SAVE4,     179,          1,         35,         35,2,19881212,       0529,   -46.9833,   -56.6667,       4372,  4344.0,  34.6770,2,  34.6760,2,-999.0000,9,   220.4,2,  124.61,2,   32.40,2,    0.00,2,    2.25,2,   0.089,2,   0.062,2,  -999.0,9,  -999.0,9,  -999.0,9,  3925.5,2, -999.00,     0.3672,   0.0446,      0.780,2
318M19881207,      SAVE4,     179,          1,         36,         36,2,19881212,       0529,   -46.9833,   -56.6667,       4372,  4421.7,  34.6683,2,  34.6680,2,-999.0000,9,   224.4,2,  128.01,2,   32.58,2,    0.00,2,    2.30,2,   0.095,2,   0.059,2,  -999.0,9,  -999.0,9,  -999.0,9,  -999.0,9, -999.00,     0.1802,  -0.1449,     -999.0,9