BOTTLE,20211025CCHSIORKP
EXPOCODE,SECT_ID,STNNBR,CASTNO,SAMPNO,BTLNBR,BTLNBR_FLAG_W,DATE,TIME,LATITUDE,LONGITUDE,DEPTH,CTDPRS,CTDSAL,CTDSAL_FLAG_W,SALNTY,SALNTY_FLAG_W,CTDOXY,CTDOXY_FLAG_W,OXYGEN,OXYGEN_FLAG_W,SILCAT,SILCAT_FLAG_W,NITRAT,NITRAT_FLAG_W,NITRIT,NITRIT_FLAG_W,PHSPHT,PHSPHT_FLAG_W,CFC-11,CFC-11_FLAG_W,CFC-12,CFC-12_FLAG_W,TCARBN,TCARBN_FLAG_W,ALKALI,ALKALI_FLAG_W,PCO2,PCO2_FLAG_W,REVPRS,REVPRS_FLAG_W,CTDRAW,CTDTMP,THETA,REVTMP,REVTMP_FLAG_W
,,,,,,,,,,,METERS,DBAR,PSS-78,,PSS-78,,UMOL/KG,,UMOL/KG,,UMOL/KG,,UMOL/KG,,UMOL/KG,,UMOL/KG,,PMOL/KG,,PMOL/KG,,UMOL/KG,,UMOL/KG,,UATM,,DBAR,,DBAR,ITS-68,DEG C,ITS-68,
318M19881207,      SAVE4,     216,          1,          1,          1,2,19890105,       0939,   -30.0183,    -2.5000,       4426,     1.7,  36.1321,2,  36.1337,2,-999.0000,9,   229.2,2,    1.66,2,    0.00,2,    0.00,2,    0.17,2,   1.998,2,   1.006,2,  2059.4,2,  2377.1,2,   336.0,2,  -999.0,9, -999.00,    22.1402,  22.1399,     22.125,2
318M19881207,      SAVE4,     216,          1,          2,          2,2,19890105,       0939,   -30.0183,    -2.5000,       4426,    57.0,  35.8644,2,  35.8679,2,-999.0000,9,   244.7,2,    1.66,2,    0.00,2,    0.00,2,    0.17,2,   2.272,2,   1.135,2,  2050.5,2,  2361.7,2,   339.3,2,  -999.0,9, -999.00,    18.7559,  18.7458,     -999.0,9
318M19881207,      SAVE4,     216,          1,          3,          3,2,19890105,       0939,   -30.0183,    -2.5000,       4426,   108.2,  35.6835,2,  35.6880,2,-999.0000,9,   239.0,2,    1.86,2,    0.00,2,    0.00,2,    0.21,2,   2.297,2,   1.154,2,  2053.3,2,  2347.8,2,   361.3,2,  -999.0,9, -999.00,    17.1963,  17.1783,     -999.0,9
318M19881207,      SAVE4,     216,          1,          4,          4,2,19890105,       0939,   -30.0183,    -2.5000,       4426,   189.8,  35.3231,2,  35.3197,2,-999.0000,9,   213.2,2,    3.13,2,    6.06,2,    0.00,2,    0.55,2,   2.222,2,   1.106,2,  2076.6,2,  2324.6,2,   444.0,2,  -999.0,9, -999.00,    14.8422,  14.8136,     -999.0,9
318M19881207,      SAVE4,     216,          1,          5,          5,2,19890105,       0939,   -30.0183,    -2.5000,       4426,   304.7,  35.0799,2,  35.0814,2,-999.0000,9,   208.4,2,    4.89,2,   11.24,2,    0.00,2,    0.85,2,   1.937,2,   0.952,2,  2099.6,2,  2310.7,2,   533.7,2,  -999.0,9, -999.00,    12.5172,  12.4761,     -999.0,9
318M19881207,      SAVE4,     216,          1,          6,          6,2,19890105,       0939,   -30.0183,    -2.5000,       4426,   353.1,  34.9867,2,  34.9847,2,-999.0000,9,   207.9,2,    5.77,2,   13.19,2,    0.00,2,    0.98,2,   1.812,2,   0.899,2,  2111.6,2,  2315.1,2,   558.1,2,  -999.0,9, -999.00,    11.6926,  11.6470,     -999.0,9
318M19881207,      SAVE4,     216,          1,          7,          7,2,19890105,       0939,   -30.0183,    -2.5000,       4426,   465.3,  34.7510,2,  34.7482,2,-999.0000,9,   204.4,2,    9.29,2,   18.47,2,    0.00,2,    1.29,2,   1.502,2,   0.718,2,  2126.6,2,  2273.2,3,   760.0,2,  -999.0,9, -999.00,     9.6557,   9.6023,     -999.0,9
318M19881207,      SAVE4,     216,          1,          8,          8,2,19890105,       0939,   -30.0183,    -2.5000,       4426,   531.6,  34.6173,2,  34.6234,2,-999.0000,9,   198.7,2,   12.32,2,   22.09,2,    0.00,2,    1.53,2,   1.329,2,   0.632,2,  2144.3,2,  2295.8,2,   748.9,2,  -999.0,9, -999.00,     8.3314,   8.2755,     -999.0,9
318M19881207,      SAVE4,     216,          1,          9,          9,2,19890105,       0939,   -30.0183,    -2.5000,       4426,   618.8,  34.4843,2,  34.4917,2,-999.0000,9,   205.2,2,   15.15,2,   25.03,2,    0.00,2,    1.71,2,   1.196,2,   0.573,2,  2154.6,2,  2292.4,2,   815.4,2,  -999.0,9, -999.00,     6.9123,   6.8535,     -999.0,9
318M19881207,      SAVE4,     216,          1,         10,         10,2,19890105,       0939,   -30.0183,    -2.5000,       4426,   710.9,  34.3484,2,  34.3525,2,-999.0000,9,   220.9,2,   19.55,2,   27.47,2,    0.00,2,    1.90,2,   1.186,2,   0.548,2,  2160.7,2,  2290.4,2,   858.4,2,  -999.0,9, -999.00,     5.3095,   5.2502,     -999.0,9
318M19881207,      SAVE4,     216,          1,         11,         11,2,19890105,       0939,   -30.0183,    -2.5000,       4426,   797.5,  34.3130,2,  34.3147,2,-999.0000,9,   222.6,2,   24.54,2,   29.04,2,    0.00,2,    1.99,2,   0.998,2,   0.450,2,  2169.0,2,  2294.5,2,   886.4,2,  -999.0,9, -999.00,     4.5020,   4.4401,     -999.0,9
318M19881207,      SAVE4,     216,          1,         12,         12,2,19890105,       0939,   -30.0183,    -2.5000,       4426,   924.7,  34.3215,2,  34.3251,2,-999.0000,9,   214.8,2,   34.81,2,   30.99,2,    0.00,2,    2.15,2,   0.646,2,   0.300,2,  2189.8,2,  2304.2,2,   965.2,2,  -999.0,9, -999.00,     3.6837,   3.6168,     -999.0,9
318M19881207,      SAVE4,     216,          1,         13,         13,2,19890105,       0939,   -30.0183,    -2.5000,       4426,  1027.9,  34.3767,2,  34.3772,2,-999.0000,9,   200.4,2,   43.41,2,   32.36,2,    0.00,2,    2.24,2,-999.000,9,-999.000,9,  -999.0,9,  -999.0,9,  -999.0,9,  -999.0,9, -999.00,     3.3859,   3.3130,     -999.0,9
318M19881207,      SAVE4,     216,          1,         14,         14,2,19890105,       0939,   -30.0183,    -2.5000,       4426,  1131.1,  34.4557,2,  34.4548,2,-999.0000,9,   189.1,2,   52.11,2,   32.94,2,    0.00,2,    2.28,2,   0.161,2,   0.072,2,  -999.0,9,  -999.0,9,  -999.0,9,  -999.0,9, -999.00,     3.1621,   3.0828,     -999.0,9
318M19881207,      SAVE4,     216,          1,         15,         15,2,19890105,       0939,   -30.0183,    -2.5000,       4426,  1234.2,  34.5134,2,  34.5136,2,-999.0000,9,   185.6,2,   55.72,2,   32.75,2,    0.00,2,    2.26,2,-999.000,9,-999.000,9,  -999.0,9,  -999.0,9,  -999.0,9,  -999.0,9, -999.00,     3.0412,   2.9547,     -999.0,9
318M19881207,      SAVE4,     216,          1,         16,         16,2,19890105,       0939,   -30.0183,    -2.5000,       4426,  1336.6,  34.5573,2,  34.5560,2,-999.0000,9,   185.1,2,   56.30,2,   32.26,2,    0.00,2,    2.23,2,   0.051,2,   0.020,2,  -999.0,9,  -999.0,9,  -999.0,9,  -999.0,9, -999.00,     2.9892,   2.8950,     -999.0,9
318M19881207,      SAVE4,     216,          1,         17,         17,2,19890105,       0939,   -30.0183,    -2.5000,       4426,  1440.1,  34.6247,2,  34.6246,2,-999.0000,9,   186.9,2,   55.91,2,   31.18,2,    0.00,2,    2.16,2,-999.000,9,-999.000,9,  -999.0,9,  -999.0,9,  -999.0,9,  -999.0,9, -999.00,     2.9582,   2.8557,     -999.0,9
318M19881207,      SAVE4,     216,          1,         18,         18,2,19890105,       0939,   -30.0183,    -2.5000,       4426,  1544.2,  34.6723,2,  34.6756,2,-999.0000,9,   192.1,2,   54.15,2,   30.10,2,    0.00,2,    2.08,2,   0.013,2,   0.006,2,  -999.0,9,  -999.0,9,  -999.0,9,  -999.0,9, -999.00,     2.9343,   2.8233,     -999.0,9
318M19881207,      SAVE4,     216,          1,         19,         19,2,19890105,       0939,   -30.0183,    -2.5000,       4426,  1648.4,  34.7264,2,  34.7282,2,-999.0000,9,   199.9,2,   52.39,2,   28.74,2,    0.00,2,    1.97,2,-999.000,9,-999.000,9,  -999.0,9,  -999.0,9,  -999.0,9,  -999.0,9, -999.00,     2.8963,   2.7768,     -999.0,9
318M19881207,      SAVE4,     216,          1,         20,         20,2,19890105,       0939,   -30.0183,    -2.5000,       4426,  1751.2,  34.7651,2,  34.7671,2,-999.0000,9,   207.3,2,   51.41,2,   27.56,2,    0.00,2,    1.90,2,   0.002,2,   0.000,2,  -999.0,9,  -999.0,9,  -999.0,9,  -999.0,9, -999.00,     2.8423,   2.7146,     -999.0,9
318M19881207,      SAVE4,     216,          1,         21,         21,2,19890105,       0939,   -30.0183,    -2.5000,       4426,  1853.4,  34.7851,2,  34.7865,2,-999.0000,9,   211.6,2,   51.60,2,   26.97,2,    0.00,2,    1.85,2,-999.000,9,-999.000,9,  -999.0,9,  -999.0,9,  -999.0,9,  -999.0,9, -999.00,     2.7984,   2.6623,     -999.0,9
318M19881207,      SAVE4,     216,          1,         22,         22,2,19890105,       0939,   -30.0183,    -2.5000,       4426,  1956.7,  34.8010,2,  34.8018,2,-999.0000,9,   216.4,2,   52.48,2,   26.49,2,    0.00,2,    1.81,2,-999.000,9,-999.000,9,  -999.0,9,  -999.0,9,  -999.0,9,  -999.0,9, -999.00,     2.7054,   2.5616,     -999.0,9
318M19881207,      SAVE4,     216,          1,         23,         23,2,19890105,       0939,   -30.0183,    -2.5000,       4426,  2059.4,  34.8090,2,  34.8103,2,-999.0000,9,   219.0,2,   52.48,2,   26.09,2,    0.00,2,    1.79,2,-999.000,9,-999.000,9,  -999.0,9,  -999.0,9,  -999.0,9,  -999.0,9, -999.00,     2.6615,   2.5091,     -999.0,9
318M19881207,      SAVE4,     216,          1,         24,         24,2,19890105,       0939,   -30.0183,    -2.5000,       4426,  2163.5,  34.8185,2,  34.8258,2,-999.0000,9,   222.5,2,   52.29,2,   25.70,2,    0.00,2,    1.76,2,   0.001,2,   0.000,2,  -999.0,9,  -999.0,9,  -999.0,9,  -999.0,9, -999.00,     2.5935,   2.4329,     -999.0,9
318M19881207,      SAVE4,     216,          1,         25,         25,2,19890105,       0939,   -30.0183,    -2.5000,       4426,  2369.9,  34.8366,2,  34.8372,2,-999.0000,9,   229.0,2,   52.09,2,   24.92,2,    0.00,2,    1.69,2,-999.000,9,-999.000,9,  -999.0,9,  -999.0,9,  -999.0,9,  -999.0,9, -999.00,     2.4896,   2.3117,     -999.0,9
318M19881207,      SAVE4,     216,          1,         26,         26,2,19890105,       0939,   -30.0183,    -2.5000,       4426,  2575.2,  34.8494,2,-999.0000,9,-999.0000,9,   232.5,2,   51.50,2,   24.43,2,    0.00,2,    1.65,2,-999.000,9,-999.000,9,  -999.0,9,  -999.0,9,  -999.0,9,  -999.0,9, -999.00,     2.4277,   2.2315,     -999.0,9
318M19881207,      SAVE4,     216,          1,         27,         27,2,19890105,       0939,   -30.0183,    -2.5000,       4426,  2784.8,  34.8608,2,-999.0000,9,-999.0000,9,   235.5,2,   50.53,2,   23.85,2,    0.00,2,    1.62,2,-999.000,9,-999.000,9,  -999.0,9,  -999.0,9,  -999.0,9,  -999.0,9, -999.00,     2.3887,   2.1730,     -999.0,9
318M19881207,      SAVE4,     216,          1,         28,         28,2,19890105,       0939,   -30.0183,    -2.5000,       4426,  2991.1,  34.8671,2,  34.8664,2,-999.0000,9,   237.2,2,   50.62,2,   23.55,2,    0.00,2,    1.60,2,   0.001,2,   0.000,2,  -999.0,9,  -999.0,9,  -999.0,9,  -999.0,9, -999.00,     2.3667,   2.1309,     -999.0,9
318M19881207,      SAVE4,     216,          1,         29,         29,2,19890105,       0939,   -30.0183,    -2.5000,       4426,  3199.2,  34.8722,2,-999.0000,9,-999.0000,9,   237.7,2,   51.21,2,   23.45,2,    0.00,2,    1.60,2,-999.000,9,-999.000,9,  -999.0,9,  -999.0,9,  -999.0,9,  -999.0,9, -999.00,     2.3547,   2.0979,     -999.0,9
318M19881207,      SAVE4,     216,          1,         30,         30,2,19890105,       0939,   -30.0183,    -2.5000,       4426,  3407.7,  34.8774,2,-999.0000,9,-999.0000,9,   237.2,2,   51.60,2,   23.45,2,    0.00,2,    1.59,2,   0.000,2,-999.000,9,  -999.0,9,  -999.0,9,  -999.0,9,  -999.0,9, -999.00,     2.3497,   2.0711,     -999.0,9
318M19881207,      SAVE4,     216,          1,         31,         31,2,19890105,       0939,   -30.0183,    -2.5000,       4426,  3613.1,  34.8798,2,-999.0000,9,-999.0000,9,   236.4,2,   52.19,2,   23.45,2,    0.00,2,    1.59,2,-999.000,9,-999.000,9,  -999.0,9,  -999.0,9,  -999.0,9,  -999.0,9, -999.00,     2.3547,   2.0538,     -999.0,9
318M19881207,      SAVE4,     216,          1,         32,         32,2,19890105,       0939,   -30.0183,    -2.5000,       4426,  3823.1,  34.8795,2,-999.0000,9,-999.0000,9,   235.5,2,   52.28,2,   23.45,2,    0.00,2,    1.59,2,-999.000,9,-999.000,9,  -999.0,9,  -999.0,9,  -999.0,9,  3825.9,2, -999.00,     2.3617,   2.0375,      2.361,2
318M19881207,      SAVE4,     216,          1,         33,         33,2,19890105,       0939,   -30.0183,    -2.5000,       4426,  4031.1,  34.8796,2,-999.0000,9,-999.0000,9,   234.6,2,   52.68,2,   23.55,2,    0.00,2,    1.59,2,-999.000,9,-999.000,9,  -999.0,9,  -999.0,9,  -999.0,9,  -999.0,9, -999.00,     2.3647,   2.0168,     -999.0,9
318M19881207,      SAVE4,     216,          1,         34,         34,2,19890105,       0939,   -30.0183,    -2.5000,       4426,  4238.9,  34.8755,2,-999.0000,9,-999.0000,9,   233.7,2,   53.26,2,   23.65,2,    0.00,2,    1.60,2,   0.001,2,   0.001,2,  -999.0,9,  -999.0,9,  -999.0,9,  -999.0,9, -999.00,     2.3637,   1.9918,     -999.0,9
318M19881207,      SAVE4,     216,          1,         35,         35,2,19890105,       0939,   -30.0183,    -2.5000,       4426,  4445.1,  34.8724,2,-999.0000,9,-999.0000,9,   232.9,2,   55.02,2,   23.85,2,    0.00,2,    1.61,2,-999.000,9,-999.000,9,  -999.0,9,  -999.0,9,  -999.0,9,  4452.5,2, -999.00,     2.3637,   1.9674,      2.364,2
318M19881207,      SAVE4,     216,          1,         36,         36,2,19890105,       0939,   -30.0183,    -2.5000,       4426,  4542.7,  34.8717,2,-999.0000,9,-999.0000,9,   232.9,2,   56.10,2,   23.94,2,    0.00,2,    1.63,2,   0.001,2,   0.000,2,  -999.0,9,  -999.0,9,  -999.0,9,  -999.0,9, -999.00,     2.3637,   1.9556,     -999.0,9