BOTTLE,20211025CCHSIORKP
EXPOCODE,SECT_ID,STNNBR,CASTNO,SAMPNO,BTLNBR,BTLNBR_FLAG_W,DATE,TIME,LATITUDE,LONGITUDE,DEPTH,CTDPRS,CTDSAL,CTDSAL_FLAG_W,SALNTY,SALNTY_FLAG_W,CTDOXY,CTDOXY_FLAG_W,OXYGEN,OXYGEN_FLAG_W,SILCAT,SILCAT_FLAG_W,NITRAT,NITRAT_FLAG_W,NITRIT,NITRIT_FLAG_W,PHSPHT,PHSPHT_FLAG_W,CFC-11,CFC-11_FLAG_W,CFC-12,CFC-12_FLAG_W,TCARBN,TCARBN_FLAG_W,ALKALI,ALKALI_FLAG_W,PCO2,PCO2_FLAG_W,REVPRS,REVPRS_FLAG_W,CTDRAW,CTDTMP,THETA,REVTMP,REVTMP_FLAG_W
,,,,,,,,,,,METERS,DBAR,PSS-78,,PSS-78,,UMOL/KG,,UMOL/KG,,UMOL/KG,,UMOL/KG,,UMOL/KG,,UMOL/KG,,PMOL/KG,,PMOL/KG,,UMOL/KG,,UMOL/KG,,UATM,,DBAR,,DBAR,ITS-68,DEG C,ITS-68,
318M19881207,      SAVE4,     202,          1,          1,          1,2,19881228,       0814,   -43.7433,   -16.0883,       3916,     1.8,  34.2418,2,  34.2530,2,-999.0000,9,   296.3,2,    2.15,2,   10.56,2,    0.13,2,    0.90,2,   3.742,2,   1.751,2,  2073.4,2,  2299.8,2,   475.8,2,     4.2,2, -999.00,    10.0122,  10.0120,      9.981,2
318M19881207,      SAVE4,     202,          1,          2,          2,2,19881228,       0814,   -43.7433,   -16.0883,       3916,    31.7,  34.2398,2,  34.2350,2,-999.0000,9,   302.2,2,    2.05,2,   11.24,2,    0.13,2,    0.95,2,-999.000,9,-999.000,9,  2073.8,2,  2297.9,2,   481.1,2,  -999.0,9, -999.00,     9.0055,   9.0022,     -999.0,9
318M19881207,      SAVE4,     202,          1,          3,          3,2,19881228,       0814,   -43.7433,   -16.0883,       3916,    78.9,  34.2173,2,  34.2210,2,-999.0000,9,   297.6,2,    3.52,2,   15.06,2,    0.24,2,    1.27,2,   4.136,2,   1.858,2,  -999.0,9,  -999.0,9,  -999.0,9,  -999.0,9, -999.00,     7.0312,   7.0239,     -999.0,9
318M19881207,      SAVE4,     202,          1,          4,          4,2,19881228,       0814,   -43.7433,   -16.0883,       3916,   115.3,  34.2243,2,  34.2270,2,-999.0000,9,   294.7,2,    5.08,2,   16.23,2,    0.30,2,    1.34,2,-999.000,9,-999.000,9,  -999.0,9,  -999.0,9,  -999.0,9,  -999.0,9, -999.00,     6.6089,   6.5986,     -999.0,9
318M19881207,      SAVE4,     202,          1,          5,          5,2,19881228,       0814,   -43.7433,   -16.0883,       3916,   210.6,  34.2382,2,  34.2400,2,-999.0000,9,   288.9,2,    8.60,2,   20.73,2,    0.02,2,    1.49,2,   3.971,2,   1.809,2,  -999.0,9,  -999.0,9,  -999.0,9,  -999.0,9, -999.00,     5.5117,   5.4946,     -999.0,9
318M19881207,      SAVE4,     202,          1,          6,          6,2,19881228,       0814,   -43.7433,   -16.0883,       3916,   323.6,  34.2054,2,  34.2050,2,-999.0000,9,   266.9,2,   15.06,2,   26.11,2,    0.02,2,    1.81,2,   3.108,2,   1.435,2,  -999.0,9,  -999.0,9,  -999.0,9,  -999.0,9, -999.00,     4.4956,   4.4716,     -999.0,9
318M19881207,      SAVE4,     202,          1,          7,          7,2,19881228,       0814,   -43.7433,   -16.0883,       3916,   415.7,  34.1890,2,  34.1900,2,-999.0000,9,   270.6,2,   18.09,2,   26.99,2,    0.02,2,    1.89,2,   3.008,2,   1.392,2,  -999.0,9,  -999.0,9,  -999.0,9,  -999.0,9, -999.00,     3.9240,   3.8949,     -999.0,9
318M19881207,      SAVE4,     202,          1,          8,          8,2,19881228,       0814,   -43.7433,   -16.0883,       3916,   518.3,  34.1894,2,  34.1920,2,-999.0000,9,   264.8,2,   23.08,2,   28.45,2,    0.01,2,    1.98,2,   2.655,2,   1.237,2,  -999.0,9,  -999.0,9,  -999.0,9,  -999.0,9, -999.00,     3.4649,   3.4301,     -999.0,9
318M19881207,      SAVE4,     202,          1,          9,          9,2,19881228,       0814,   -43.7433,   -16.0883,       3916,   620.0,  34.1979,2,  34.2000,2,-999.0000,9,   257.4,2,   28.26,2,   29.72,2,    0.01,2,    2.06,2,-999.000,9,-999.000,9,  -999.0,9,  -999.0,9,  -999.0,9,  -999.0,9, -999.00,     3.0787,   3.0384,     -999.0,9
318M19881207,      SAVE4,     202,          1,         10,         10,2,19881228,       0814,   -43.7433,   -16.0883,       3916,   723.0,  34.2182,2,  34.2190,2,-999.0000,9,   249.3,2,   32.56,2,   30.41,2,    0.01,2,    2.12,2,   2.051,2,   0.935,2,  -999.0,9,  -999.0,9,  -999.0,9,  -999.0,9, -999.00,     2.8441,   2.7979,     -999.0,9
318M19881207,      SAVE4,     202,          1,         11,         11,2,19881228,       0814,   -43.7433,   -16.0883,       3916,   825.5,  34.2557,2,  34.2570,2,-999.0000,9,   236.4,2,   39.30,2,   31.68,2,    0.00,2,    2.21,2,   1.782,2,   0.804,2,  -999.0,9,  -999.0,9,  -999.0,9,  -999.0,9, -999.00,     2.6426,   2.5904,     -999.0,9
318M19881207,      SAVE4,     202,          1,         12,         12,2,19881228,       0814,   -43.7433,   -16.0883,       3916,   928.0,  34.3208,2,  34.3220,2,-999.0000,9,   217.2,2,   48.59,2,   32.95,2,    0.00,2,    2.28,2,-999.000,9,-999.000,9,  -999.0,9,  -999.0,9,  -999.0,9,  -999.0,9, -999.00,     2.5684,   2.5093,     -999.0,9
318M19881207,      SAVE4,     202,          1,         13,         13,2,19881228,       0814,   -43.7433,   -16.0883,       3916,  1030.0,  34.4015,2,  34.3960,2,-999.0000,9,   201.6,2,   56.90,2,   33.63,2,    0.00,2,    2.33,2,   0.737,2,   0.323,2,  -999.0,9,  -999.0,9,  -999.0,9,  -999.0,9, -999.00,     2.5641,   2.4976,     -999.0,9
318M19881207,      SAVE4,     202,          1,         14,         14,2,19881228,       0814,   -43.7433,   -16.0883,       3916,  1134.7,  34.4773,2,  34.4770,2,-999.0000,9,   186.2,2,   64.23,2,   33.92,2,    0.00,2,    2.35,2,   0.407,2,   0.171,2,  -999.0,9,  -999.0,9,  -999.0,9,  -999.0,9, -999.00,     2.5668,   2.4924,     -999.0,9
318M19881207,      SAVE4,     202,          1,         15,         15,2,19881228,       0814,   -43.7433,   -16.0883,       3916,  1236.8,  34.5298,2,  34.5250,2,-999.0000,9,   181.2,2,   68.04,2,   33.72,2,    0.00,2,    2.34,2,-999.000,9,-999.000,9,  -999.0,9,  -999.0,9,  -999.0,9,  -999.0,9, -999.00,     2.5779,   2.4956,     -999.0,9
318M19881207,      SAVE4,     202,          1,         16,         16,2,19881228,       0814,   -43.7433,   -16.0883,       3916,  1339.7,  34.5680,2,  34.5660,2,-999.0000,9,   180.5,2,   68.72,2,   33.33,2,    0.00,2,    2.31,2,   0.196,2,   0.073,2,  -999.0,9,  -999.0,9,  -999.0,9,  -999.0,9, -999.00,     2.5733,   2.4830,     -999.0,9
318M19881207,      SAVE4,     202,          1,         17,         17,2,19881228,       0814,   -43.7433,   -16.0883,       3916,  1440.6,  34.6036,2,  34.6040,2,-999.0000,9,   179.5,2,   69.69,2,   32.84,2,    0.00,2,    2.28,2,-999.000,9,-999.000,9,  -999.0,9,  -999.0,9,  -999.0,9,  -999.0,9, -999.00,     2.5766,   2.4783,     -999.0,9
318M19881207,      SAVE4,     202,          1,         18,         18,2,19881228,       0814,   -43.7433,   -16.0883,       3916,  1543.3,  34.6313,2,  34.6320,2,-999.0000,9,   179.6,2,   73.11,2,   32.65,2,    0.00,2,    2.28,2,   0.137,2,   0.053,2,  -999.0,9,  -999.0,9,  -999.0,9,  -999.0,9, -999.00,     2.4946,   2.3890,     -999.0,9
318M19881207,      SAVE4,     202,          1,         19,         19,2,19881228,       0814,   -43.7433,   -16.0883,       3916,  1642.3,  34.6704,2,  34.6710,2,-999.0000,9,   182.6,2,   73.31,2,   31.77,2,    0.00,2,    2.21,2,-999.000,9,-999.000,9,  -999.0,9,  -999.0,9,  -999.0,9,  -999.0,9, -999.00,     2.4961,   2.3823,     -999.0,9
318M19881207,      SAVE4,     202,          1,         20,         20,2,19881228,       0814,   -43.7433,   -16.0883,       3916,  1744.0,  34.6949,2,  34.6940,2,-999.0000,9,   185.1,2,   73.89,2,   31.28,2,    0.00,2,    2.18,2,   0.076,2,   0.021,2,  -999.0,9,  -999.0,9,  -999.0,9,  -999.0,9, -999.00,     2.4846,   2.3625,     -999.0,9
318M19881207,      SAVE4,     202,          1,         21,         21,2,19881228,       0814,   -43.7433,   -16.0883,       3916,  1846.5,  34.7264,2,  34.7240,2,-999.0000,9,   191.6,2,   72.03,2,   30.20,2,    0.00,2,    2.12,2,-999.000,9,-999.000,9,  -999.0,9,  -999.0,9,  -999.0,9,  -999.0,9, -999.00,     2.5062,   2.3750,     -999.0,9
318M19881207,      SAVE4,     202,          1,         22,         22,2,19881228,       0814,   -43.7433,   -16.0883,       3916,  1950.1,  34.7466,2,  34.7470,2,-999.0000,9,   194.7,2,   70.86,2,   29.61,2,    0.00,2,    2.06,2,   0.044,2,   0.016,2,  -999.0,9,  -999.0,9,  -999.0,9,  -999.0,9, -999.00,     2.4778,   2.3381,     -999.0,9
318M19881207,      SAVE4,     202,          1,         23,         23,2,19881228,       0814,   -43.7433,   -16.0883,       3916,  2052.8,  34.7581,2,  34.7560,2,-999.0000,9,   198.2,2,   71.54,2,   29.32,2,    0.00,2,    2.03,2,-999.000,9,-999.000,9,  -999.0,9,  -999.0,9,  -999.0,9,  -999.0,9, -999.00,     2.4112,   2.2635,     -999.0,9
318M19881207,      SAVE4,     202,          1,         24,         24,2,19881228,       0814,   -43.7433,   -16.0883,       3916,  2155.2,  34.7635,2,  34.7630,2,-999.0000,9,   199.5,2,   72.52,2,   29.03,2,    0.00,2,    2.01,2,-999.000,9,-999.000,9,  -999.0,9,  -999.0,9,  -999.0,9,  -999.0,9, -999.00,     2.3534,   2.1976,     -999.0,9
318M19881207,      SAVE4,     202,          1,         25,         25,2,19881228,       0814,   -43.7433,   -16.0883,       3916,  2259.6,  34.7760,2,  34.7760,2,-999.0000,9,   203.1,2,   72.71,2,   28.64,2,    0.00,2,    1.98,2,   0.038,2,   0.011,2,  -999.0,9,  -999.0,9,  -999.0,9,  -999.0,9, -999.00,     2.3071,   2.1426,     -999.0,9
318M19881207,      SAVE4,     202,          1,         26,         26,2,19881228,       0814,   -43.7433,   -16.0883,       3916,  2362.9,  34.7812,2,  34.7820,2,-999.0000,9,   206.2,2,   73.59,2,   28.34,2,    0.00,2,    1.96,2,   0.027,2,   0.009,2,  -999.0,9,  -999.0,9,  -999.0,9,  -999.0,9, -999.00,     2.2123,   2.0401,     -999.0,9
318M19881207,      SAVE4,     202,          1,         27,         27,2,19881228,       0814,   -43.7433,   -16.0883,       3916,  2465.4,  34.7762,2,  34.7760,2,-999.0000,9,   207.4,2,   76.82,2,   28.54,2,    0.00,2,    1.98,2,-999.000,9,-999.000,9,  -999.0,9,  -999.0,9,  -999.0,9,  -999.0,9, -999.00,     2.0703,   1.8913,     -999.0,9
318M19881207,      SAVE4,     202,          1,         28,         28,2,19881228,       0814,   -43.7433,   -16.0883,       3916,  2567.7,  34.7735,2,  34.7720,2,-999.0000,9,   207.8,2,   80.53,2,   28.73,2,    0.00,2,    1.99,2,   0.024,2,   0.007,2,  -999.0,9,  -999.0,9,  -999.0,9,  -999.0,9, -999.00,     1.9704,   1.7839,     -999.0,9
318M19881207,      SAVE4,     202,          1,         29,         29,2,19881228,       0814,   -43.7433,   -16.0883,       3916,  2670.3,  34.7711,2,  34.7720,2,-999.0000,9,   208.6,2,   82.00,2,   28.83,2,    0.00,2,    1.99,2,   0.028,2,   0.007,2,  -999.0,9,  -999.0,9,  -999.0,9,  -999.0,9, -999.00,     1.9049,   1.7102,     -999.0,9
318M19881207,      SAVE4,     202,          1,         30,         30,2,19881228,       0814,   -43.7433,   -16.0883,       3916,  2875.9,  34.7658,2,  34.7640,2,-999.0000,9,   209.1,2,   86.01,2,   29.13,2,    0.00,2,    2.01,2,-999.000,9,-999.000,9,  -999.0,9,  -999.0,9,  -999.0,9,  -999.0,9, -999.00,     1.7920,   1.5803,     -999.0,9
318M19881207,      SAVE4,     202,          1,         31,         31,2,19881228,       0814,   -43.7433,   -16.0883,       3916,  3083.9,  34.7640,2,  34.7660,2,-999.0000,9,   209.2,2,   88.16,2,   29.22,2,    0.00,2,    2.02,2,   0.022,2,   0.004,2,  -999.0,9,  -999.0,9,  -999.0,9,  -999.0,9, -999.00,     1.7517,   1.5208,     -999.0,9
318M19881207,      SAVE4,     202,          1,         32,         32,2,19881228,       0814,   -43.7433,   -16.0883,       3916,  3291.5,  34.7582,2,  34.7610,2,-999.0000,9,   210.3,2,   90.02,2,   29.32,2,    0.00,2,    2.03,2,   0.026,2,   0.007,2,  -999.0,9,  -999.0,9,  -999.0,9,  -999.0,9, -999.00,     1.7068,   1.4563,     -999.0,9
318M19881207,      SAVE4,     202,          1,         33,         33,2,19881228,       0814,   -43.7433,   -16.0883,       3916,  3499.2,  34.7593,2,  34.7580,2,-999.0000,9,   209.6,2,   91.19,2,   29.32,2,    0.00,2,    2.03,2,-999.000,9,-999.000,9,  -999.0,9,  -999.0,9,  -999.0,9,  -999.0,9, -999.00,     1.6893,   1.4180,     -999.0,9
318M19881207,      SAVE4,     202,          1,         34,         34,2,19881228,       0814,   -43.7433,   -16.0883,       3916,  3706.1,  34.7552,2,  34.7570,2,-999.0000,9,   210.1,2,   93.14,2,   29.52,2,    0.00,2,    2.05,2,   0.025,2,   0.009,2,  -999.0,9,  -999.0,9,  -999.0,9,  -999.0,9, -999.00,     1.6672,   1.3749,     -999.0,9
318M19881207,      SAVE4,     202,          1,         35,         35,2,19881228,       0814,   -43.7433,   -16.0883,       3916,  3912.0,  34.7544,2,  34.7550,2,-999.0000,9,   210.0,2,   94.12,2,   29.61,2,    0.00,2,    2.05,2,   0.024,2,   0.002,2,  -999.0,9,  -999.0,9,  -999.0,9,  3937.8,2, -999.00,     1.6738,   1.3592,      1.682,2
318M19881207,      SAVE4,     202,          1,         36,         36,2,19881228,       0814,   -43.7433,   -16.0883,       3916,  4066.8,  34.7507,2,  34.7540,2,-999.0000,9,   209.8,2,   93.63,2,   29.71,2,    0.00,2,    2.06,2,   0.022,2,   0.007,2,  -999.0,9,  -999.0,9,  -999.0,9,  -999.0,9, -999.00,     1.6863,   1.3543,     -999.0,9