BOTTLE,20211025CCHSIORKP
EXPOCODE,SECT_ID,STNNBR,CASTNO,SAMPNO,BTLNBR,BTLNBR_FLAG_W,DATE,TIME,LATITUDE,LONGITUDE,DEPTH,CTDPRS,CTDSAL,CTDSAL_FLAG_W,SALNTY,SALNTY_FLAG_W,CTDOXY,CTDOXY_FLAG_W,OXYGEN,OXYGEN_FLAG_W,SILCAT,SILCAT_FLAG_W,NITRAT,NITRAT_FLAG_W,NITRIT,NITRIT_FLAG_W,PHSPHT,PHSPHT_FLAG_W,CFC-11,CFC-11_FLAG_W,CFC-12,CFC-12_FLAG_W,TCARBN,TCARBN_FLAG_W,ALKALI,ALKALI_FLAG_W,PCO2,PCO2_FLAG_W,REVPRS,REVPRS_FLAG_W,CTDRAW,CTDTMP,THETA,REVTMP,REVTMP_FLAG_W
,,,,,,,,,,,METERS,DBAR,PSS-78,,PSS-78,,UMOL/KG,,UMOL/KG,,UMOL/KG,,UMOL/KG,,UMOL/KG,,UMOL/KG,,PMOL/KG,,PMOL/KG,,UMOL/KG,,UMOL/KG,,UATM,,DBAR,,DBAR,ITS-68,DEG C,ITS-68,
318M19881207,      SAVE4,     178,          4,         12,         12,2,19881211,       2136,   -47.0567,   -57.2083,       4049,   467.5,  34.1959,2,-999.0000,9,-999.0000,9,  -999.0,9, -999.00,9, -999.00,9, -999.00,9, -999.00,9,-999.000,9,-999.000,9,  -999.0,9,  -999.0,9,  -999.0,9,  -999.0,9, -999.00,     2.6776,   2.6493,     -999.0,9
318M19881207,      SAVE4,     178,          4,         13,         13,2,19881211,       2136,   -47.0567,   -57.2083,       4049,   529.0,  34.2390,2,  34.2391,2,-999.0000,9,   240.8,2,   38.99,2,   31.43,2,    0.00,2,    2.12,2,-999.000,9,-999.000,9,  -999.0,9,  -999.0,9,  -999.0,9,  -999.0,9, -999.00,     2.5741,   2.5422,     -999.0,9
318M19881207,      SAVE4,     178,          4,         14,         14,2,19881211,       2136,   -47.0567,   -57.2083,       4049,   621.3,  34.2895,2,  34.2901,2,-999.0000,9,   226.4,2,   45.59,2,   32.28,2,    0.00,2,    2.22,2,   1.553,2,   0.693,2,  -999.0,9,  -999.0,9,  -999.0,9,  -999.0,9, -999.00,     2.5305,   2.4927,     -999.0,9
318M19881207,      SAVE4,     178,          4,         15,         15,2,19881211,       2136,   -47.0567,   -57.2083,       4049,   693.1,  34.3379,2,  34.3356,2,-999.0000,9,   213.4,2,   51.41,2,   33.00,2,    0.00,2,    2.28,2,-999.000,9,-999.000,9,  -999.0,9,  -999.0,9,  -999.0,9,  -999.0,9, -999.00,     2.5158,   2.4732,     -999.0,9
318M19881207,      SAVE4,     178,          4,         16,         16,2,19881211,       2136,   -47.0567,   -57.2083,       4049,   877.9,  34.4651,2,  34.4664,2,-999.0000,9,   188.3,2,   64.24,2,   33.76,2,    0.00,2,    2.35,2,-999.000,9,-999.000,9,  -999.0,9,  -999.0,9,  -999.0,9,  -999.0,9, -999.00,     2.5265,   2.4710,     -999.0,9
318M19881207,      SAVE4,     178,          4,         17,         17,2,19881211,       2136,   -47.0567,   -57.2083,       4049,   981.4,  34.5262,2,  34.5275,2,-999.0000,9,   182.2,2,   69.85,2,   33.70,2,    0.00,2,    2.35,2,   0.299,2,   0.148,2,  -999.0,9,  -999.0,9,  -999.0,9,  -999.0,9, -999.00,     2.5106,   2.4478,     -999.0,9
318M19881207,      SAVE4,     178,          4,         18,         18,2,19881211,       2136,   -47.0567,   -57.2083,       4049,  1083.8,  34.5623,2,  34.5620,2,-999.0000,9,   176.7,2,   75.26,2,   33.82,2,    0.00,2,    2.36,2,-999.000,9,-999.000,9,  -999.0,9,  -999.0,9,  -999.0,9,  -999.0,9, -999.00,     2.4160,   2.3465,     -999.0,9
318M19881207,      SAVE4,     178,          4,         19,         19,2,19881211,       2136,   -47.0567,   -57.2083,       4049,  1282.1,  34.6166,2,  34.6167,2,-999.0000,9,   172.3,2,   85.73,2,   33.85,2,    0.00,2,    2.36,2,   0.115,2,   0.071,2,  -999.0,9,  -999.0,9,  -999.0,9,  -999.0,9, -999.00,     2.2369,   2.1544,     -999.0,9
318M19881207,      SAVE4,     178,          4,         20,         20,2,19881211,       2136,   -47.0567,   -57.2083,       4049,  1469.4,  34.6794,2,  34.6776,2,-999.0000,9,   179.0,2,   85.09,2,   32.31,2,    0.00,2,    2.26,2,-999.000,9,-999.000,9,  -999.0,9,  -999.0,9,  -999.0,9,  -999.0,9, -999.00,     2.2325,   2.1357,     -999.0,9
318M19881207,      SAVE4,     178,          4,         21,         21,2,19881211,       2136,   -47.0567,   -57.2083,       4049,  1607.2,  34.7140,2,  34.7179,2,-999.0000,9,   187.2,2,   81.73,2,   30.97,2,    0.00,2,    2.16,2,   0.050,2,   0.034,2,  -999.0,9,  -999.0,9,  -999.0,9,  -999.0,9, -999.00,     2.2440,   2.1361,     -999.0,9
318M19881207,      SAVE4,     178,          4,         22,         22,2,19881211,       2136,   -47.0567,   -57.2083,       4049,  1708.1,  34.7562,2,  34.7563,2,-999.0000,9,   197.8,2,   77.21,2,   29.58,2,    0.00,2,    2.04,2,-999.000,9,-999.000,9,  -999.0,9,  -999.0,9,  -999.0,9,  -999.0,9, -999.00,     2.2950,   2.1782,     -999.0,9
318M19881207,      SAVE4,     178,          4,         23,         23,2,19881211,       2136,   -47.0567,   -57.2083,       4049,  1820.8,  34.7421,2,  34.7426,2,-999.0000,9,   193.5,2,   86.11,2,   30.38,2,    0.00,2,    2.11,2,   0.046,2,   0.027,2,  -999.0,9,  -999.0,9,  -999.0,9,  -999.0,9, -999.00,     2.0728,   1.9498,     -999.0,9
318M19881207,      SAVE4,     178,          4,         24,         24,2,19881211,       2136,   -47.0567,   -57.2083,       4049,  2001.1,  34.7510,2,  34.7503,2,-999.0000,9,   198.7,2,   89.95,2,   30.09,2,    0.00,2,    2.09,2,   0.035,2,   0.017,2,  -999.0,9,  -999.0,9,  -999.0,9,  -999.0,9, -999.00,     1.8825,   1.7474,     -999.0,9
318M19881207,      SAVE4,     178,          4,         25,         25,2,19881211,       2136,   -47.0567,   -57.2083,       4049,  2215.6,  34.7250,2,  34.7255,2,-999.0000,9,   195.8,2,  103.12,2,   31.49,2,    0.00,2,    2.19,2,-999.000,9,-999.000,9,  -999.0,9,  -999.0,9,  -999.0,9,  -999.0,9, -999.00,     1.5517,   1.4040,     -999.0,9
318M19881207,      SAVE4,     178,          4,         26,         26,2,19881211,       2136,   -47.0567,   -57.2083,       4049,  2369.6,  34.7222,2,  34.7230,2,-999.0000,9,   195.8,2,  106.17,2,   31.57,2,    0.00,2,    2.19,2,   0.053,2,   0.025,2,  -999.0,9,  -999.0,9,  -999.0,9,  -999.0,9, -999.00,     1.4696,   1.3102,     -999.0,9
318M19881207,      SAVE4,     178,          4,         27,         27,2,19881211,       2136,   -47.0567,   -57.2083,       4049,  2574.4,  34.7205,2,  34.7199,2,-999.0000,9,   197.5,2,  108.64,2,   31.69,2,    0.00,2,    2.21,2,-999.000,9,-999.000,9,  -999.0,9,  -999.0,9,  -999.0,9,  -999.0,9, -999.00,     1.4039,   1.2279,     -999.0,9
318M19881207,      SAVE4,     178,          4,         28,         28,2,19881211,       2136,   -47.0567,   -57.2083,       4049,  2778.4,  34.7173,2,  34.7191,2,-999.0000,9,   198.0,2,  110.72,2,   31.85,2,    0.00,2,    2.21,2,   0.064,2,   0.046,2,  -999.0,9,  -999.0,9,  -999.0,9,  -999.0,9, -999.00,     1.3505,   1.1573,     -999.0,9
318M19881207,      SAVE4,     178,          4,         29,         29,2,19881211,       2136,   -47.0567,   -57.2083,       4049,  2931.4,  34.7166,2,  34.7164,2,-999.0000,9,   201.0,2,  110.79,2,   31.86,2,    0.00,2,    2.22,2,   0.076,2,   0.044,2,  -999.0,9,  -999.0,9,  -999.0,9,  -999.0,9, -999.00,     1.3178,   1.1112,     -999.0,9
318M19881207,      SAVE4,     178,          4,         30,         30,2,19881211,       2136,   -47.0567,   -57.2083,       4049,  3085.0,  34.7160,2,  34.7162,2,-999.0000,9,   200.0,2,  111.12,2,   31.85,2,    0.00,2,    2.19,2,-999.000,9,-999.000,9,  -999.0,9,  -999.0,9,  -999.0,9,  -999.0,9, -999.00,     1.2759,   1.0558,     -999.0,9
318M19881207,      SAVE4,     178,          4,         31,         31,2,19881211,       2136,   -47.0567,   -57.2083,       4049,  3291.1,  34.7128,2,  34.7137,2,-999.0000,9,   203.0,2,  111.26,2,   31.83,2,    0.00,2,    2.22,2,   0.085,2,   0.052,2,  -999.0,9,  -999.0,9,  -999.0,9,  -999.0,9, -999.00,     1.1834,   0.9457,     -999.0,9
318M19881207,      SAVE4,     178,          4,         32,         32,2,19881211,       2136,   -47.0567,   -57.2083,       4049,  3496.9,  34.7108,2,  34.7114,2,-999.0000,9,   205.4,2,  113.33,2,   31.91,2,    0.00,2,    2.22,2,-999.000,9,-999.000,9,  -999.0,9,  -999.0,9,  -999.0,9,  -999.0,9, -999.00,     1.1116,   0.8554,     -999.0,9
318M19881207,      SAVE4,     178,          4,         33,         33,2,19881211,       2136,   -47.0567,   -57.2083,       4049,  3705.5,  34.7077,2,  34.7080,2,-999.0000,9,   207.7,2,  115.40,2,   32.21,2,    0.00,2,    2.24,2,   0.097,2,   0.056,2,  -999.0,9,  -999.0,9,  -999.0,9,  -999.0,9, -999.00,     1.0257,   0.7507,     -999.0,9
318M19881207,      SAVE4,     178,          4,         34,         34,2,19881211,       2136,   -47.0567,   -57.2083,       4049,  3863.7,  34.7016,2,  34.7012,2,-999.0000,9,   210.6,2,  117.09,2,   32.19,2,    0.00,2,    2.24,2,-999.000,9,-999.000,9,  -999.0,9,  -999.0,9,  -999.0,9,  -999.0,9, -999.00,     0.8640,   0.5772,     -999.0,9
318M19881207,      SAVE4,     178,          4,         35,         35,2,19881211,       2136,   -47.0567,   -57.2083,       4049,  4019.6,  34.6908,2,  34.6910,2,-999.0000,9,   215.7,2,  120.91,2,   32.36,2,    0.00,2,    2.25,2,   0.096,2,   0.057,2,  -999.0,9,  -999.0,9,  -999.0,9,  3954.1,2, -999.00,     0.6484,   0.3516,      0.636,2
318M19881207,      SAVE4,     178,          4,         36,         36,2,19881211,       2136,   -47.0567,   -57.2083,       4049,  4078.5,  34.6868,2,  34.6871,2,-999.0000,9,   216.6,2,  122.79,2,   32.52,2,    0.00,2,    2.25,2,   0.093,2,   0.056,2,  -999.0,9,  -999.0,9,  -999.0,9,  -999.0,9, -999.00,     0.5697,   0.2691,     -999.0,9