BOTTLE,20211025CCHSIORKP
EXPOCODE,SECT_ID,STNNBR,CASTNO,SAMPNO,BTLNBR,BTLNBR_FLAG_W,DATE,TIME,LATITUDE,LONGITUDE,DEPTH,CTDPRS,CTDSAL,CTDSAL_FLAG_W,SALNTY,SALNTY_FLAG_W,CTDOXY,CTDOXY_FLAG_W,OXYGEN,OXYGEN_FLAG_W,SILCAT,SILCAT_FLAG_W,NITRAT,NITRAT_FLAG_W,NITRIT,NITRIT_FLAG_W,PHSPHT,PHSPHT_FLAG_W,CFC-11,CFC-11_FLAG_W,CFC-12,CFC-12_FLAG_W,TCARBN,TCARBN_FLAG_W,ALKALI,ALKALI_FLAG_W,PCO2,PCO2_FLAG_W,REVPRS,REVPRS_FLAG_W,CTDRAW,CTDTMP,THETA,REVTMP,REVTMP_FLAG_W
,,,,,,,,,,,METERS,DBAR,PSS-78,,PSS-78,,UMOL/KG,,UMOL/KG,,UMOL/KG,,UMOL/KG,,UMOL/KG,,UMOL/KG,,PMOL/KG,,PMOL/KG,,UMOL/KG,,UMOL/KG,,UATM,,DBAR,,DBAR,ITS-68,DEG C,ITS-68,
318M19881207,      SAVE4,     193,          2,          1,          1,2,19881222,       0920,   -46.8950,   -32.5150,       5299,     5.3,  34.2756,2,  34.2770,2,-999.0000,9,   298.0,2,    1.56,2,   11.83,2,    0.22,2,    1.03,2,   4.027,2,   1.835,2,  2077.8,2,  2288.3,2,   515.7,2,  -999.0,9, -999.00,     7.8710,   7.8705,     -999.0,9
318M19881207,      SAVE4,     193,          2,          2,          2,2,19881222,       0920,   -46.8950,   -32.5150,       5299,    49.0,  34.2758,2,  34.2690,2,-999.0000,9,   298.4,2,    1.56,2,   11.83,2,    0.22,2,    1.04,2,-999.000,9,-999.000,9,  2078.9,2,  2289.2,2,   516.5,2,  -999.0,9, -999.00,     7.8400,   7.8352,     -999.0,9
318M19881207,      SAVE4,     193,          2,          3,          3,2,19881222,       0920,   -46.8950,   -32.5150,       5299,   101.5,  34.2769,2,  34.2710,2,-999.0000,9,   296.6,2,    2.35,2,   12.42,2,    0.22,2,    1.09,2,   4.013,2,   1.860,2,  2079.8,2,  2285.1,2,   530.2,2,  -999.0,9, -999.00,     7.6045,   7.5947,     -999.0,9
318M19881207,      SAVE4,     193,          2,          4,          4,2,19881222,       0920,   -46.8950,   -32.5150,       5299,   203.6,  34.2902,2,  34.2840,2,-999.0000,9,   279.2,2,    8.80,2,   20.43,2,    0.09,2,    1.51,2,   3.626,2,   1.683,2,  2122.9,2,  2287.1,2,   681.1,2,  -999.0,9, -999.00,     5.6610,   5.6442,     -999.0,9
318M19881207,      SAVE4,     193,          2,          5,          5,2,19881222,       0920,   -46.8950,   -32.5150,       5299,   306.3,  34.1812,2,  34.1770,2,-999.0000,9,   272.6,2,   15.45,2,   25.72,2,    0.07,2,    1.84,2,   3.172,2,   1.466,2,  2142.4,2,  2283.6,2,   787.9,2,  -999.0,9, -999.00,     4.1726,   4.1508,     -999.0,9
318M19881207,      SAVE4,     193,          2,          6,          6,2,19881222,       0920,   -46.8950,   -32.5150,       5299,   409.2,  34.1778,2,  34.1680,2,-999.0000,9,   269.1,2,   20.53,2,   26.99,2,    0.07,2,    1.93,2,   2.974,2,   1.364,2,  2147.5,2,  2281.8,2,   825.2,2,  -999.0,9, -999.00,     3.6412,   3.6135,     -999.0,9
318M19881207,      SAVE4,     193,          2,          7,          7,2,19881222,       0920,   -46.8950,   -32.5150,       5299,   510.1,  34.1853,2,  34.1730,2,-999.0000,9,   263.9,2,   25.13,2,   28.16,2,    0.00,2,    2.02,2,-999.000,9,-999.000,9,  2157.8,2,  2285.9,2,   863.5,2,  -999.0,9, -999.00,     3.2573,   3.2239,     -999.0,9
318M19881207,      SAVE4,     193,          2,          8,          8,2,19881222,       0920,   -46.8950,   -32.5150,       5299,   610.5,  34.2099,2,  34.1950,2,-999.0000,9,   252.6,2,   32.56,2,   29.72,2,    0.00,2,    2.11,2,   2.259,2,   1.052,2,  2172.2,2,  2290.8,2,   926.8,2,  -999.0,9, -999.00,     2.8335,   2.7951,     -999.0,9
318M19881207,      SAVE4,     193,          2,          9,          9,2,19881222,       0920,   -46.8950,   -32.5150,       5299,   710.1,  34.2419,2,  34.2330,2,-999.0000,9,   240.4,2,   38.82,2,   30.99,2,    0.00,2,    2.20,2,-999.000,9,-999.000,9,  2190.4,2,  2303.3,2,   974.0,2,  -999.0,9, -999.00,     2.6234,   2.5793,     -999.0,9
318M19881207,      SAVE4,     193,          2,         10,         10,2,19881222,       0920,   -46.8950,   -32.5150,       5299,   812.8,  34.3037,2,  34.2990,2,-999.0000,9,   222.6,2,   46.44,2,   32.17,2,    0.00,2,    2.28,2,   1.387,2,   0.611,2,  2201.1,2,  2305.8,2,  1035.9,2,  -999.0,9, -999.00,     2.5819,   2.5309,     -999.0,9
318M19881207,      SAVE4,     193,          2,         11,         11,2,19881222,       0920,   -46.8950,   -32.5150,       5299,   867.4,  34.3238,2,  34.3200,2,-999.0000,9,   217.3,2,   50.64,2,   32.46,2,    0.00,2,    2.31,2,-999.000,9,-999.000,9,  2202.1,2,  2303.3,2,  1061.8,2,  -999.0,9, -999.00,     2.4962,   2.4419,     -999.0,9
318M19881207,      SAVE4,     193,          2,         12,         12,2,19881222,       0920,   -46.8950,   -32.5150,       5299,  1019.8,  34.4379,2,  34.4300,2,-999.0000,9,   191.2,2,   60.12,2,   33.14,2,    0.00,2,    2.37,2,   0.530,2,   0.258,2,  2224.5,2,  2319.6,2,  1124.0,2,  -999.0,9, -999.00,     2.6028,   2.5367,     -999.0,9
318M19881207,      SAVE4,     193,          2,         13,         13,2,19881222,       0920,   -46.8950,   -32.5150,       5299,  1121.8,  34.4682,2,  34.4740,2,-999.0000,9,   187.3,2,   65.50,2,   33.53,2,    0.00,2,    2.38,2,   0.542,2,   0.245,2,  2237.4,2,  2330.4,2,  1150.5,2,  -999.0,9, -999.00,     2.4467,   2.3743,     -999.0,9
318M19881207,      SAVE4,     193,          2,         14,         14,2,19881222,       0920,   -46.8950,   -32.5150,       5299,  1225.5,  34.5230,2,  34.5290,2,-999.0000,9,   182.1,2,   68.72,2,   33.33,2,    0.00,2,    2.39,2,   0.357,2,   0.164,2,  2237.7,2,  2328.4,2,  1170.1,2,  -999.0,9, -999.00,     2.4287,   2.3487,     -999.0,9
318M19881207,      SAVE4,     193,          2,         15,         15,2,19881222,       0920,   -46.8950,   -32.5150,       5299,  1327.8,  34.5900,2,  34.5940,2,-999.0000,9,   180.8,2,   69.50,2,   32.26,2,    0.00,2,    2.32,2,-999.000,9,-999.000,9,  2235.4,2,  2330.2,2,  1138.3,2,  -999.0,9, -999.00,     2.5914,   2.5019,     -999.0,9
318M19881207,      SAVE4,     193,          2,         16,         16,2,19881222,       0920,   -46.8950,   -32.5150,       5299,  1429.4,  34.6362,2,  34.6450,2,-999.0000,9,   180.8,2,   69.11,2,   31.57,2,    0.00,2,    2.26,2,   0.112,2,   0.065,2,  2244.0,2,  2342.7,2,  1116.0,2,  -999.0,9, -999.00,     2.6005,   2.5028,     -999.0,9
318M19881207,      SAVE4,     193,          2,         17,         17,2,19881222,       0920,   -46.8950,   -32.5150,       5299,  1631.4,  34.6916,2,  34.6920,2,-999.0000,9,   184.7,2,   72.33,2,   30.59,2,    0.00,2,    2.19,2,-999.000,9,-999.000,9,  2237.8,2,  2340.1,2,  1088.1,2,  -999.0,9, -999.00,     2.5009,   2.3879,     -999.0,9
318M19881207,      SAVE4,     193,          2,         18,         18,2,19881222,       0920,   -46.8950,   -32.5150,       5299,  1835.2,  34.7044,2,  34.7050,2,-999.0000,9,   184.2,2,   78.39,2,   30.79,2,    0.00,2,    2.20,2,   0.078,2,   0.047,2,  2246.9,3,  2349.9,2,  1090.5,2,  -999.0,9, -999.00,     2.3376,   2.2099,     -999.0,9
318M19881207,      SAVE4,     193,          2,         19,         19,2,19881222,       0920,   -46.8950,   -32.5150,       5299,  2040.8,  34.7525,2,  34.7530,2,-999.0000,9,   195.5,2,   74.77,2,   29.03,2,    0.00,2,    2.07,2,   0.044,2,   0.020,2,  2229.8,2,  2341.5,2,  1021.6,2,  -999.0,9, -999.00,     2.3432,   2.1977,     -999.0,9
318M19881207,      SAVE4,     193,          2,         20,         20,2,19881222,       0920,   -46.8950,   -32.5150,       5299,  2243.8,  34.7282,2,  34.7270,2,-999.0000,9,   190.8,2,   89.63,2,   30.49,2,    0.00,2,    2.18,2,   0.078,2,   0.051,2,  2242.6,3,  2348.5,2,  1070.3,2,  -999.0,9, -999.00,     1.9330,   1.7764,     -999.0,9
318M19881207,      SAVE4,     193,          2,         21,         21,2,19881222,       0920,   -46.8950,   -32.5150,       5299,  2447.6,  34.7728,2,  34.7750,2,-999.0000,9,   207.3,2,   80.73,2,   28.15,2,    0.00,2,    2.00,2,-999.000,9,-999.000,9,  2231.8,2,  2350.6,2,   980.4,2,  -999.0,9, -999.00,     1.9675,   1.7920,     -999.0,9
318M19881207,      SAVE4,     193,          2,         22,         22,2,19881222,       0920,   -46.8950,   -32.5150,       5299,  2654.5,  34.7369,2,  34.7410,2,-999.0000,9,   201.6,2,   95.78,2,   30.01,2,    0.00,2,    2.15,2,   0.075,2,   0.049,2,  2241.2,2,  2351.5,2,  1042.1,2,  -999.0,9, -999.00,     1.6027,   1.4156,     -999.0,9
318M19881207,      SAVE4,     193,          2,         23,         23,2,19881222,       0920,   -46.8950,   -32.5150,       5299,  2856.4,  34.7239,2,  34.7240,2,-999.0000,9,   202.0,2,  104.48,2,   30.79,2,    0.00,2,    2.20,2,   0.070,2,   0.031,2,  2250.6,2,  2359.5,2,  1058.5,2,  -999.0,9, -999.00,     1.3521,   1.1517,     -999.0,9
318M19881207,      SAVE4,     193,          2,         24,         24,2,19881222,       0920,   -46.8950,   -32.5150,       5299,  3060.3,  34.7138,2,  34.7150,2,-999.0000,9,   204.6,2,  109.47,2,   30.98,2,    0.00,2,    2.22,2,-999.000,9,-999.000,9,  2249.0,2,  2356.2,2,  1069.8,2,  -999.0,9, -999.00,     1.1416,   0.9269,     -999.0,9
318M19881207,      SAVE4,     193,          2,         25,         25,2,19881222,       0920,   -46.8950,   -32.5150,       5299,  3261.7,  34.7061,2,  34.7050,2,-999.0000,9,   209.0,2,  113.28,2,   30.98,2,    0.00,2,    2.23,2,   0.108,2,   0.063,2,  2247.2,2,  2352.8,2,  1079.5,2,  -999.0,9, -999.00,     0.9370,   0.7081,     -999.0,9
318M19881207,      SAVE4,     193,          2,         26,         26,2,19881222,       0920,   -46.8950,   -32.5150,       5299,  3467.4,  34.6963,2,  34.6940,2,-999.0000,9,  -999.0,9,  117.88,2,   31.37,2,    0.00,2,    2.25,2,-999.000,9,-999.000,9,  2250.8,2,  2359.2,2,  1063.8,2,  -999.0,9, -999.00,     0.7508,   0.5067,     -999.0,9
318M19881207,      SAVE4,     193,          2,         27,         27,2,19881222,       0920,   -46.8950,   -32.5150,       5299,  3671.1,  34.6878,2,  34.6850,2,-999.0000,9,   215.5,2,  120.91,2,   31.57,2,    0.00,2,    2.27,2,   0.137,2,   0.079,2,  2258.9,2,  2365.6,2,  1080.9,2,  -999.0,9, -999.00,     0.5888,   0.3290,     -999.0,9
318M19881207,      SAVE4,     193,          2,         28,         28,2,19881222,       0920,   -46.8950,   -32.5150,       5299,  3876.3,  34.6816,2,  34.6790,2,-999.0000,9,   218.5,2,  124.52,2,   31.86,2,    0.00,2,    2.28,2,   0.118,2,   0.055,2,  2252.1,2,  2358.3,2,  1080.9,2,  -999.0,9, -999.00,     0.4357,   0.1596,     -999.0,9
318M19881207,      SAVE4,     193,          2,         29,         29,2,19881222,       0920,   -46.8950,   -32.5150,       5299,  4080.3,  34.6757,2,  34.6750,2,-999.0000,9,   221.2,2,  125.70,2,   31.86,2,    0.00,2,    2.30,2,   0.117,2,   0.060,2,  2253.1,2,  2359.9,2,  1077.5,2,  -999.0,9, -999.00,     0.3314,   0.0375,     -999.0,9
318M19881207,      SAVE4,     193,          2,         30,         30,2,19881222,       0920,   -46.8950,   -32.5150,       5299,  4284.3,  34.6722,2,  34.6710,2,-999.0000,9,   222.9,2,  126.48,2,   32.06,2,    0.00,2,    2.29,2,-999.000,9,-999.000,9,  2259.3,2,  2365.9,2,  1082.7,2,  -999.0,9, -999.00,     0.2596,  -0.0533,     -999.0,9
318M19881207,      SAVE4,     193,          2,         31,         31,2,19881222,       0920,   -46.8950,   -32.5150,       5299,  4490.3,  34.6700,2,  34.6700,2,-999.0000,9,   224.2,2,  127.07,2,   32.16,2,    0.00,2,    2.31,2,   0.089,2,   0.032,2,  2251.2,2,  2357.6,2,  1079.2,2,  -999.0,9, -999.00,     0.2258,  -0.1081,     -999.0,9
318M19881207,      SAVE4,     193,          2,         32,         32,2,19881222,       0920,   -46.8950,   -32.5150,       5299,  4691.4,  34.6674,2,  34.6630,2,-999.0000,9,   225.9,2,  127.85,2,   32.16,2,    0.00,2,    2.32,2,-999.000,9,-999.000,9,  2253.2,2,  2360.2,2,  1076.8,2,  4679.8,2, -999.00,     0.1945,  -0.1603,      0.206,2
318M19881207,      SAVE4,     193,          2,         33,         33,2,19881222,       0920,   -46.8950,   -32.5150,       5299,  4896.0,  34.6659,2,  34.6620,2,-999.0000,9,   226.8,2,  129.90,2,   32.16,2,    0.00,2,    2.34,2,   0.138,2,   0.067,2,  2257.8,2,  2366.1,2,  1071.5,2,  -999.0,9, -999.00,     0.1835,  -0.1938,     -999.0,9
318M19881207,      SAVE4,     193,          2,         34,         34,2,19881222,       0920,   -46.8950,   -32.5150,       5299,  5097.1,  34.6648,2,  34.6600,2,-999.0000,9,   228.5,2,  131.86,2,   32.16,2,    0.00,2,    2.33,2,   0.163,2,   0.092,2,  2250.1,2,  2356.4,2,  1080.2,2,  -999.0,9, -999.00,     0.1809,  -0.2193,     -999.0,9
318M19881207,      SAVE4,     193,          2,         35,         35,2,19881222,       0920,   -46.8950,   -32.5150,       5299,  5201.9,  34.6637,2,  34.6630,2,-999.0000,9,   229.0,2,  130.88,2,   32.26,2,    0.00,2,    2.33,2,   0.177,2,   0.090,2,  2253.7,2,  2361.4,2,  1072.9,2,  5237.0,2, -999.00,     0.1689,  -0.2431,      0.176,2
318M19881207,      SAVE4,     193,          2,         36,         36,2,19881222,       0920,   -46.8950,   -32.5150,       5299,  5402.1,  34.6614,2,  34.6650,2,-999.0000,9,   230.7,2,  129.90,2,   32.16,2,    0.00,2,    2.34,2,   0.241,2,   0.111,2,  2257.2,2,  2365.9,2,  1068.8,2,  -999.0,9, -999.00,     0.1520,  -0.2830,     -999.0,9