BOTTLE,20211025CCHSIORKP
EXPOCODE,SECT_ID,STNNBR,CASTNO,SAMPNO,BTLNBR,BTLNBR_FLAG_W,DATE,TIME,LATITUDE,LONGITUDE,DEPTH,CTDPRS,CTDSAL,CTDSAL_FLAG_W,SALNTY,SALNTY_FLAG_W,CTDOXY,CTDOXY_FLAG_W,OXYGEN,OXYGEN_FLAG_W,SILCAT,SILCAT_FLAG_W,NITRAT,NITRAT_FLAG_W,NITRIT,NITRIT_FLAG_W,PHSPHT,PHSPHT_FLAG_W,CFC-11,CFC-11_FLAG_W,CFC-12,CFC-12_FLAG_W,TCARBN,TCARBN_FLAG_W,ALKALI,ALKALI_FLAG_W,PCO2,PCO2_FLAG_W,REVPRS,REVPRS_FLAG_W,CTDRAW,CTDTMP,THETA,REVTMP,REVTMP_FLAG_W
,,,,,,,,,,,METERS,DBAR,PSS-78,,PSS-78,,UMOL/KG,,UMOL/KG,,UMOL/KG,,UMOL/KG,,UMOL/KG,,UMOL/KG,,PMOL/KG,,PMOL/KG,,UMOL/KG,,UMOL/KG,,UATM,,DBAR,,DBAR,ITS-68,DEG C,ITS-68,
318M19881207,      SAVE4,     213,          1,          1,          1,2,19890103,       2116,   -31.9967,    -5.5167,       4455,     1.9,  35.8287,2,  35.8280,2,-999.0000,9,   228.1,2,    2.04,2,    0.00,2,    0.00,2,    0.18,2,   2.052,2,   1.017,2,  2051.0,2,  2354.4,2,   349.4,2,    -1.0,2, -999.00,    20.9380,  20.9377,     20.910,2
318M19881207,      SAVE4,     213,          1,          2,          2,2,19890103,       2116,   -31.9967,    -5.5167,       4455,    48.3,  35.7238,2,  35.7230,2,-999.0000,9,   249.6,2,    2.04,2,    0.00,2,    0.00,2,    0.18,2,   2.319,2,   1.156,2,  2043.6,2,  2348.9,2,   343.8,2,  -999.0,9, -999.00,    18.2029,  18.1945,     -999.0,9
318M19881207,      SAVE4,     213,          1,          3,          3,2,19890103,       2116,   -31.9967,    -5.5167,       4455,   109.5,  35.5841,2,  35.5730,2,-999.0000,9,   240.0,2,    2.24,2,    0.40,2,    0.10,2,    0.25,2,   2.311,2,   1.154,2,  -999.0,9,  -999.0,9,  -999.0,9,  -999.0,9, -999.00,    16.4041,  16.3864,     -999.0,9
318M19881207,      SAVE4,     213,          1,          4,          4,2,19890103,       2116,   -31.9967,    -5.5167,       4455,   160.7,  35.4515,2,  35.4440,2,-999.0000,9,   226.6,2,    2.65,2,    3.24,2,    0.02,2,    0.39,2,   2.262,2,   1.121,2,  2065.1,2,  2332.3,2,   405.8,2,  -999.0,9, -999.00,    15.6157,  15.5906,     -999.0,9
318M19881207,      SAVE4,     213,          1,          5,          5,2,19890103,       2116,   -31.9967,    -5.5167,       4455,   211.2,  35.2966,2,  35.3050,2,-999.0000,9,   218.4,2,    3.26,2,    5.69,2,    0.01,2,    0.52,2,   2.220,2,   1.112,2,  -999.0,9,  -999.0,9,  -999.0,9,  -999.0,9, -999.00,    14.5803,  14.5488,     -999.0,9
318M19881207,      SAVE4,     213,          1,          6,          6,2,19890103,       2116,   -31.9967,    -5.5167,       4455,   277.8,  35.1241,2,  35.1180,2,-999.0000,9,   209.0,2,    4.89,2,   10.18,2,    0.00,2,    0.81,2,   2.017,2,   0.991,2,  2101.9,2,  2322.2,2,   512.1,2,  -999.0,9, -999.00,    13.0407,  13.0023,     -999.0,9
318M19881207,      SAVE4,     213,          1,          7,          7,2,19890103,       2116,   -31.9967,    -5.5167,       4455,   364.9,  34.9378,2,  34.9420,2,-999.0000,9,   207.2,2,    6.51,2,   14.03,2,    0.00,2,    1.05,2,   1.723,2,   0.849,2,  -999.0,9,  -999.0,9,  -999.0,9,  -999.0,9, -999.00,    11.3362,  11.2901,     -999.0,9
318M19881207,      SAVE4,     213,          1,          8,          8,2,19890103,       2116,   -31.9967,    -5.5167,       4455,   445.9,  34.7968,2,  34.7960,2,-999.0000,9,   206.3,2,    8.34,2,   17.02,2,    0.00,2,    1.27,2,   1.554,2,   0.756,2,  2126.2,2,  2305.1,2,   637.8,2,  -999.0,9, -999.00,    10.0769,  10.0244,     -999.0,9
318M19881207,      SAVE4,     213,          1,          9,          9,2,19890103,       2116,   -31.9967,    -5.5167,       4455,   569.4,  34.5826,2,  34.5810,2,-999.0000,9,   200.8,2,   13.43,2,   22.77,2,    0.00,2,    1.60,2,   1.309,2,   0.636,2,  -999.0,9,  -999.0,9,  -999.0,9,  -999.0,9, -999.00,     8.0069,   7.9483,     -999.0,9
318M19881207,      SAVE4,     213,          1,         10,         10,2,19890103,       2116,   -31.9967,    -5.5167,       4455,   702.6,  34.4044,2,  34.4170,2,-999.0000,9,   208.3,2,   19.32,2,   26.94,2,    0.00,2,    1.86,2,   1.167,2,   0.555,2,  2159.3,2,  2288.9,2,   858.9,2,  -999.0,9, -999.00,     5.9154,   5.8536,     -999.0,9
318M19881207,      SAVE4,     213,          1,         11,         11,2,19890103,       2116,   -31.9967,    -5.5167,       4455,   764.1,  34.3359,2,  34.3350,2,-999.0000,9,   220.6,2,   22.57,2,   28.30,2,    0.00,2,    1.96,2,   1.084,2,   0.524,2,  -999.0,9,  -999.0,9,  -999.0,9,  -999.0,9, -999.00,     5.0292,   4.9668,     -999.0,9
318M19881207,      SAVE4,     213,          1,         12,         12,2,19890103,       2116,   -31.9967,    -5.5167,       4455,   825.6,  34.3208,2,  34.3190,2,-999.0000,9,   218.6,2,   26.62,2,   29.48,2,    0.00,2,    2.06,2,-999.000,9,-999.000,9,  2175.1,2,  2297.2,2,   909.9,2,  -999.0,9, -999.00,     4.5091,   4.4448,     -999.0,9
318M19881207,      SAVE4,     213,          1,         13,         13,2,19890103,       2116,   -31.9967,    -5.5167,       4455,   928.1,  34.3156,2,  34.3140,2,-999.0000,9,   216.2,2,   33.11,2,   30.74,2,    0.00,2,    2.12,2,-999.000,9,-999.000,9,  -999.0,9,  -999.0,9,  -999.0,9,  -999.0,9, -999.00,     3.8756,   3.8071,     -999.0,9
318M19881207,      SAVE4,     213,          1,         14,         14,2,19890103,       2116,   -31.9967,    -5.5167,       4455,  1030.7,  34.3524,2,  34.3490,2,-999.0000,9,   206.4,2,   40.40,2,   31.95,2,    0.00,2,    2.25,2,   0.456,2,   0.247,2,  2202.2,2,  2310.5,2,  1013.2,2,  -999.0,9, -999.00,     3.5392,   3.4649,     -999.0,9
318M19881207,      SAVE4,     213,          1,         15,         15,2,19890103,       2116,   -31.9967,    -5.5167,       4455,  1131.7,  34.3945,2,  34.3910,2,-999.0000,9,   200.2,2,   48.29,2,   32.46,2,    0.00,2,    2.26,2,   0.295,2,   0.168,2,  -999.0,9,  -999.0,9,  -999.0,9,  -999.0,9, -999.00,     3.1732,   3.0939,     -999.0,9
318M19881207,      SAVE4,     213,          1,         16,         16,2,19890103,       2116,   -31.9967,    -5.5167,       4455,  1231.7,  34.4544,2,  34.4530,2,-999.0000,9,   193.4,2,   53.94,2,   32.77,2,    0.00,2,    2.29,2,-999.000,9,-999.000,9,  2222.2,2,  2327.9,2,  1047.7,2,  -999.0,9, -999.00,     3.0164,   2.9305,     -999.0,9
318M19881207,      SAVE4,     213,          1,         17,         17,2,19890103,       2116,   -31.9967,    -5.5167,       4455,  1330.0,  34.5322,2,  34.5310,2,-999.0000,9,   189.8,2,   58.58,2,   32.30,2,    0.00,2,    2.26,2,   0.083,2,   0.059,2,  -999.0,9,  -999.0,9,  -999.0,9,  -999.0,9, -999.00,     2.8685,   2.7761,     -999.0,9
318M19881207,      SAVE4,     213,          1,         18,         18,2,19890103,       2116,   -31.9967,    -5.5167,       4455,  1474.2,  34.6013,2,  34.6010,2,-999.0000,9,   191.9,2,   59.97,2,   31.34,2,    0.00,2,    2.19,2,-999.000,9,-999.000,9,  2226.2,2,  2333.3,2,  1044.4,2,  -999.0,9, -999.00,     2.7693,   2.6662,     -999.0,9
318M19881207,      SAVE4,     213,          1,         19,         19,2,19890103,       2116,   -31.9967,    -5.5167,       4455,  1621.4,  34.6629,2,  34.6630,2,-999.0000,9,   194.6,2, -999.00,9, -999.00,9, -999.00,9, -999.00,9,   0.019,2,   0.015,2,  -999.0,9,  -999.0,9,  -999.0,9,  -999.0,9, -999.00,     2.7854,   2.6697,     -999.0,9
318M19881207,      SAVE4,     213,          1,         20,         20,2,19890103,       2116,   -31.9967,    -5.5167,       4455,  1771.6,  34.7145,2,  34.7130,2,-999.0000,9,   201.0,2,   58.72,2,   28.96,2,    0.00,2,    2.02,2,   0.009,2,   0.006,2,  -999.0,9,  -999.0,9,  -999.0,9,  -999.0,9, -999.00,     2.7400,   2.6121,     -999.0,9
318M19881207,      SAVE4,     213,          1,         21,         21,2,19890103,       2116,   -31.9967,    -5.5167,       4455,  1913.0,  34.7601,2,  34.7590,2,-999.0000,9,   208.8,2,   56.99,2,   27.75,2,    0.00,2,    1.93,2,-999.000,9,-999.000,9,  -999.0,9,  -999.0,9,  -999.0,9,  -999.0,9, -999.00,     2.6771,   2.5376,     -999.0,9
318M19881207,      SAVE4,     213,          1,         22,         22,2,19890103,       2116,   -31.9967,    -5.5167,       4455,  2054.9,  34.7852,2,  34.7850,2,-999.0000,9,   214.5,2,   55.75,2,   26.88,2,    0.00,2,    1.87,2,   0.001,2,   0.008,2,  -999.0,9,  -999.0,9,  -999.0,9,  -999.0,9, -999.00,     2.6240,   2.4727,     -999.0,9
318M19881207,      SAVE4,     213,          1,         23,         23,2,19890103,       2116,   -31.9967,    -5.5167,       4455,  2196.6,  34.8057,2,  34.8040,2,-999.0000,9,   219.8,2,   55.72,2,   26.24,2,    0.00,2,    1.82,2,-999.000,9,-999.000,9,  -999.0,9,  -999.0,9,  -999.0,9,  -999.0,9, -999.00,     2.5815,   2.4181,     -999.0,9
318M19881207,      SAVE4,     213,          1,         24,         24,2,19890103,       2116,   -31.9967,    -5.5167,       4455,  2341.6,  34.8235,2,  34.8230,2,-999.0000,9,   225.2,2,   54.89,2,   25.51,2,    0.00,2,    1.76,2,   0.001,2,   0.006,2,  -999.0,9,  -999.0,9,  -999.0,9,  -999.0,9, -999.00,     2.5267,   2.3508,     -999.0,9
318M19881207,      SAVE4,     213,          1,         25,         25,2,19890103,       2116,   -31.9967,    -5.5167,       4455,  2491.4,  34.8361,2,  34.8360,2,-999.0000,9,   229.5,2,   53.04,2,   24.87,2,    0.00,2,    1.72,2,-999.000,9,-999.000,9,  -999.0,9,  -999.0,9,  -999.0,9,  -999.0,9, -999.00,     2.4975,   2.3081,     -999.0,9
318M19881207,      SAVE4,     213,          1,         26,         26,2,19890103,       2116,   -31.9967,    -5.5167,       4455,  2643.2,  34.8458,2,  34.8450,2,-999.0000,9,   232.4,2,   52.41,2,   24.46,2,    0.00,2,    1.69,2,-999.000,9,   0.004,2,  -999.0,9,  -999.0,9,  -999.0,9,  -999.0,9, -999.00,     2.4651,   2.2617,     -999.0,9
318M19881207,      SAVE4,     213,          1,         27,         27,2,19890103,       2116,   -31.9967,    -5.5167,       4455,  2795.2,  34.8538,2,  34.8530,2,-999.0000,9,   235.4,2,   51.18,2,   24.09,2,    0.00,2,    1.67,2,-999.000,9,-999.000,9,  2200.0,2,  2347.3,2,   808.2,2,  -999.0,9, -999.00,     2.4433,   2.2254,     -999.0,9
318M19881207,      SAVE4,     213,          1,         28,         28,2,19890103,       2116,   -31.9967,    -5.5167,       4455,  2930.5,  34.8579,2,  34.8580,2,-999.0000,9,   237.0,2,   51.56,2,   23.91,2,    0.00,2,    1.66,2,   0.008,2,   0.003,2,  -999.0,9,  -999.0,9,  -999.0,9,  -999.0,9, -999.00,     2.4162,   2.1854,     -999.0,9
318M19881207,      SAVE4,     213,          1,         29,         29,2,19890103,       2116,   -31.9967,    -5.5167,       4455,  3107.3,  34.8631,2,  34.8620,2,-999.0000,9,   238.1,2,   51.53,2,   23.72,2,    0.00,2,    1.63,2,-999.000,9,-999.000,9,  -999.0,9,  -999.0,9,  -999.0,9,  -999.0,9, -999.00,     2.3889,   2.1408,     -999.0,9
318M19881207,      SAVE4,     213,          1,         30,         30,2,19890103,       2116,   -31.9967,    -5.5167,       4455,  3317.0,  34.8669,2,  34.8660,2,-999.0000,9,   238.4,2,   51.51,2,   23.58,2,    0.00,2,    1.63,2,   0.000,2,-999.000,9,  -999.0,9,  -999.0,9,  -999.0,9,  -999.0,9, -999.00,     2.3737,   2.1042,     -999.0,9
318M19881207,      SAVE4,     213,          1,         31,         31,2,19890103,       2116,   -31.9967,    -5.5167,       4455,  3525.6,  34.8690,2,  34.8680,2,-999.0000,9,   237.4,2,   53.50,2,   23.66,2,    0.00,2,    1.62,2,-999.000,9,-999.000,9,  -999.0,9,  -999.0,9,  -999.0,9,  -999.0,9, -999.00,     2.3525,   2.0613,     -999.0,9
318M19881207,      SAVE4,     213,          1,         32,         32,2,19890103,       2116,   -31.9967,    -5.5167,       4455,  3733.6,  34.8696,2,  34.8690,2,-999.0000,9,   236.4,2,   54.68,2,   23.66,2,    0.00,2,    1.65,2,   0.003,2,   0.005,2,  -999.0,9,  -999.0,9,  -999.0,9,  3728.8,2, -999.00,     2.3264,   2.0130,      2.322,2
318M19881207,      SAVE4,     213,          1,         33,         33,2,19890103,       2116,   -31.9967,    -5.5167,       4455,  3938.9,  34.8657,2,  34.8650,2,-999.0000,9,   235.0,2,   57.26,2,   24.06,2,    0.00,2,    1.66,2,-999.000,9,-999.000,9,  -999.0,9,  -999.0,9,  -999.0,9,  -999.0,9, -999.00,     2.2871,   1.9519,     -999.0,9
318M19881207,      SAVE4,     213,          1,         34,         34,2,19890103,       2116,   -31.9967,    -5.5167,       4455,  4150.8,  34.8566,2,  34.8560,2,-999.0000,9,   233.4,2,   61.25,2,   24.55,2,    0.00,2,    1.69,2,-999.000,9,   0.008,2,  -999.0,9,  -999.0,9,  -999.0,9,  -999.0,9, -999.00,     2.2235,   1.8660,     -999.0,9
318M19881207,      SAVE4,     213,          1,         35,         35,2,19890103,       2116,   -31.9967,    -5.5167,       4455,  4364.3,  34.8433,2,  34.8420,2,-999.0000,9,   231.6,2,   66.24,2,   25.22,2,    0.00,2,    1.73,2,-999.000,9,-999.000,9,  -999.0,9,  -999.0,9,  -999.0,9,  4371.8,2, -999.00,     2.1397,   1.7599,      2.145,2
318M19881207,      SAVE4,     213,          1,         36,         36,2,19890103,       2116,   -31.9967,    -5.5167,       4455,  4531.2,  34.8395,2,  34.8380,2,-999.0000,9,   231.2,2,   68.42,2,   25.39,2,    0.00,2,    1.76,2,   0.001,2,   0.004,2,  2217.4,2,  2362.1,2,   832.9,2,  -999.0,9, -999.00,     2.1184,   1.7195,     -999.0,9