BOTTLE,20211025CCHSIORKP
EXPOCODE,SECT_ID,STNNBR,CASTNO,SAMPNO,BTLNBR,BTLNBR_FLAG_W,DATE,TIME,LATITUDE,LONGITUDE,DEPTH,CTDPRS,CTDSAL,CTDSAL_FLAG_W,SALNTY,SALNTY_FLAG_W,CTDOXY,CTDOXY_FLAG_W,OXYGEN,OXYGEN_FLAG_W,SILCAT,SILCAT_FLAG_W,NITRAT,NITRAT_FLAG_W,NITRIT,NITRIT_FLAG_W,PHSPHT,PHSPHT_FLAG_W,CFC-11,CFC-11_FLAG_W,CFC-12,CFC-12_FLAG_W,TCARBN,TCARBN_FLAG_W,ALKALI,ALKALI_FLAG_W,PCO2,PCO2_FLAG_W,REVPRS,REVPRS_FLAG_W,CTDRAW,CTDTMP,THETA,REVTMP,REVTMP_FLAG_W
,,,,,,,,,,,METERS,DBAR,PSS-78,,PSS-78,,UMOL/KG,,UMOL/KG,,UMOL/KG,,UMOL/KG,,UMOL/KG,,UMOL/KG,,PMOL/KG,,PMOL/KG,,UMOL/KG,,UMOL/KG,,UATM,,DBAR,,DBAR,ITS-68,DEG C,ITS-68,
318M19881207,      SAVE4,     185,          1,          1,          1,2,19881215,       1402,   -47.0267,   -49.9083,       6064,     3.9,  33.9982,2,  33.9939,2,-999.0000,9,   336.5,2,    1.47,2,   14.77,2,    0.24,2,    0.90,2,   4.084,2,   1.875,2,  2050.4,2,  2228.2,3,   590.2,2,  -999.0,9, -999.00,     8.7239,   8.7235,      8.742,2
318M19881207,      SAVE4,     185,          1,          2,          2,2,19881215,       1402,   -47.0267,   -49.9083,       6064,    31.9,  34.0459,2,  34.0347,2,-999.0000,9,   310.8,2,    4.11,2,   18.58,2,    0.21,2,    1.30,2,-999.000,9,-999.000,9,  2086.7,2,  2273.4,2,   583.0,2,  -999.0,9, -999.00,     7.1267,   7.1238,     -999.0,9
318M19881207,      SAVE4,     185,          1,          3,          3,2,19881215,       1402,   -47.0267,   -49.9083,       6064,    71.4,  34.1052,2,  34.0474,2,-999.0000,9,   309.2,2,    8.51,2,   20.34,2,    0.20,2,    1.50,2,   4.313,2,   1.974,2,  -999.0,9,  -999.0,9,  -999.0,9,  -999.0,9, -999.00,     6.0006,   5.9946,     -999.0,9
318M19881207,      SAVE4,     185,          1,          4,          4,2,19881215,       1402,   -47.0267,   -49.9083,       6064,   148.0,  34.0748,2,  34.0695,2,-999.0000,9,   310.4,2,   12.42,2,   23.47,2,    0.35,2,    1.82,2,   4.381,2,   2.020,2,  -999.0,9,  -999.0,9,  -999.0,9,  -999.0,9, -999.00,     3.6960,   3.6862,     -999.0,9
318M19881207,      SAVE4,     185,          1,          5,          5,2,19881215,       1402,   -47.0267,   -49.9083,       6064,   294.5,  34.1276,2,  34.1276,2,-999.0000,9,   279.5,2,   20.44,2,   26.89,2,    0.01,2,    1.95,2,   3.336,2,   1.550,2,  -999.0,9,  -999.0,9,  -999.0,9,  -999.0,9, -999.00,     3.2690,   3.2502,     -999.0,9
318M19881207,      SAVE4,     185,          1,          6,          6,2,19881215,       1402,   -47.0267,   -49.9083,       6064,   376.2,  34.1401,2,  34.1317,2,-999.0000,9,   243.0,2,   24.93,2,   26.99,2,    0.01,2,    2.04,2,   3.060,2,   1.411,2,  -999.0,9,  -999.0,9,  -999.0,9,   380.7,2, -999.00,     2.9507,   2.9275,      2.936,2
318M19881207,      SAVE4,     185,          1,          7,          7,2,19881215,       1402,   -47.0267,   -49.9083,       6064,   551.0,  34.1950,2,  34.1934,2,-999.0000,9,   253.6,2,   33.83,2,   29.82,2,    0.01,2,    2.18,2,-999.000,9,-999.000,9,  -999.0,9,  -999.0,9,  -999.0,9,  -999.0,9, -999.00,     2.6406,   2.6071,     -999.0,9
318M19881207,      SAVE4,     185,          1,          8,          8,2,19881215,       1402,   -47.0267,   -49.9083,       6064,   679.7,  34.2545,2,  34.2554,2,-999.0000,9,   235.5,2,   42.82,2,   30.90,2,    0.00,2,    2.27,2,   1.880,2,   0.868,2,  -999.0,9,  -999.0,9,  -999.0,9,  -999.0,9, -999.00,     2.4923,   2.4509,     -999.0,9
318M19881207,      SAVE4,     185,          1,          9,          9,2,19881215,       1402,   -47.0267,   -49.9083,       6064,   793.6,  34.3167,2,  34.3182,2,-999.0000,9,   218.0,2,   52.31,2,   31.48,2,    0.00,2,    2.37,2,   1.399,2,   0.643,2,  -999.0,9,  -999.0,9,  -999.0,9,  -999.0,9, -999.00,     2.3716,   2.3232,     -999.0,9
318M19881207,      SAVE4,     185,          1,         10,         10,2,19881215,       1402,   -47.0267,   -49.9083,       6064,   936.3,  34.4034,2,  34.3941,2,-999.0000,9,   199.3,2,   59.64,2,   32.36,2,    0.00,2,    2.41,2,   0.890,2,   0.421,2,  -999.0,9,  -999.0,9,  -999.0,9,  -999.0,9, -999.00,     2.3890,   2.3306,     -999.0,9
318M19881207,      SAVE4,     185,          1,         11,         11,2,19881215,       1402,   -47.0267,   -49.9083,       6064,  1039.0,  34.4589,2,  34.4544,2,-999.0000,9,   187.8,2,   66.87,2,   32.75,2,    0.00,2,    2.46,2,-999.000,9,-999.000,9,  -999.0,9,  -999.0,9,  -999.0,9,  -999.0,9, -999.00,     2.4048,   2.3389,     -999.0,9
318M19881207,      SAVE4,     185,          1,         12,         12,2,19881215,       1402,   -47.0267,   -49.9083,       6064,  1193.3,  34.5335,2,-999.0000,9,-999.0000,9,  -999.0,9, -999.00,9, -999.00,9, -999.00,9, -999.00,9,-999.000,9,-999.000,9,  -999.0,9,  -999.0,9,  -999.0,9,  -999.0,9, -999.00,     2.4764,   2.3984,     -999.0,9
318M19881207,      SAVE4,     185,          1,         36,         36,2,19881215,       1402,   -47.0267,   -49.9083,       6064,  1348.1,  34.5805,2,  34.5818,2,-999.0000,9,   176.3,2,   75.36,2,   34.31,2,    0.00,2,    2.48,2,   0.214,2,   0.129,2,  -999.0,9,  -999.0,9,  -999.0,9,  -999.0,9, -999.00,     2.4238,   2.3344,     -999.0,9
318M19881207,      SAVE4,     185,          1,         13,         13,2,19881215,       1402,   -47.0267,   -49.9083,       6064,  1502.6,  34.6190,2,-999.0000,9,-999.0000,9,  -999.0,9, -999.00,9, -999.00,9, -999.00,9, -999.00,9,-999.000,9,-999.000,9,  -999.0,9,  -999.0,9,  -999.0,9,  -999.0,9, -999.00,     2.3205,   2.2202,     -999.0,9
318M19881207,      SAVE4,     185,          1,         14,         14,2,19881215,       1402,   -47.0267,   -49.9083,       6064,  1657.0,  34.6823,2,  34.6818,2,-999.0000,9,   182.4,2,   76.04,2,   30.98,2,    0.00,2,    2.30,2,   0.093,2,   0.055,2,  -999.0,9,  -999.0,9,  -999.0,9,  -999.0,9, -999.00,     2.4529,   2.3384,     -999.0,9
318M19881207,      SAVE4,     185,          1,         15,         15,2,19881215,       1402,   -47.0267,   -49.9083,       6064,  1811.9,  34.7161,2,  34.7131,2,-999.0000,9,   187.4,2,   76.63,2,   29.81,2,    0.00,2,    2.25,2,   0.065,2,-999.000,9,  -999.0,9,  -999.0,9,  -999.0,9,  -999.0,9, -999.00,     2.4457,   2.3183,     -999.0,9
318M19881207,      SAVE4,     185,          1,         16,         16,2,19881215,       1402,   -47.0267,   -49.9083,       6064,  1966.4,  34.7273,2,  34.7258,2,-999.0000,9,   188.8,2,   80.54,2,   29.32,2,    0.00,2,    2.22,2,   0.056,2,   0.020,2,  -999.0,9,  -999.0,9,  -999.0,9,  -999.0,9, -999.00,     2.3128,   2.1742,     -999.0,9
318M19881207,      SAVE4,     185,          1,         17,         17,2,19881215,       1402,   -47.0267,   -49.9083,       6064,  2173.2,  34.8217,2,  34.8237,2,-999.0000,9,   216.3,2,   59.71,2,   24.82,2,    0.00,2,    1.91,2,-999.000,9,-999.000,9,  -999.0,9,  -999.0,9,  -999.0,9,  -999.0,9, -999.00,     2.6306,   2.4685,     -999.0,9
318M19881207,      SAVE4,     185,          1,         18,         18,2,19881215,       1402,   -47.0267,   -49.9083,       6064,  2380.1,  34.8265,2,  34.8279,2,-999.0000,9,   219.7,2,   59.91,2,   24.63,2,    0.00,2,    1.89,2,   0.029,2,   0.021,2,  -999.0,9,  -999.0,9,  -999.0,9,  -999.0,9, -999.00,     2.5173,   2.3379,     -999.0,9
318M19881207,      SAVE4,     185,          1,         19,         19,2,19881215,       1402,   -47.0267,   -49.9083,       6064,  2588.1,  34.8173,2,  34.8171,2,-999.0000,9,   218.7,2,   65.87,2,   25.31,2,    0.00,2,    1.92,2,   0.030,2,   0.012,2,  -999.0,9,  -999.0,9,  -999.0,9,  -999.0,9, -999.00,     2.3201,   2.1249,     -999.0,9
318M19881207,      SAVE4,     185,          1,         20,         20,2,19881215,       1402,   -47.0267,   -49.9083,       6064,  2691.9,  34.8050,2,  34.8041,2,-999.0000,9,   215.7,2,   71.35,2,   25.90,2,    0.00,2,    2.00,2,-999.000,9,-999.000,9,  -999.0,9,  -999.0,9,  -999.0,9,  -999.0,9, -999.00,     2.1997,   1.9971,     -999.0,9
318M19881207,      SAVE4,     185,          1,         21,         21,2,19881215,       1402,   -47.0267,   -49.9083,       6064,  2951.0,  34.7776,2,  34.7730,2,-999.0000,9,   211.2,2,   83.66,2,   27.46,2,    0.00,2,    2.06,2,   0.032,2,   0.021,2,  -999.0,9,  -999.0,9,  -999.0,9,  -999.0,9, -999.00,     1.8914,   1.6703,     -999.0,9
318M19881207,      SAVE4,     185,          1,         22,         22,2,19881215,       1402,   -47.0267,   -49.9083,       6064,  3105.7,  34.7614,2,  34.7600,2,-999.0000,9,   209.0,2,   91.58,2,   28.44,2,    0.00,2,    2.12,2,   0.039,2,   0.016,2,  -999.0,9,  -999.0,9,  -999.0,9,  -999.0,9, -999.00,     1.6982,   1.4663,     -999.0,9
318M19881207,      SAVE4,     185,          1,         23,         23,2,19881215,       1402,   -47.0267,   -49.9083,       6064,  3365.5,  34.7383,2,  34.7384,2,-999.0000,9,   207.2,2,  103.21,2,   29.91,2,    0.00,2,    2.21,2,   0.051,2,   0.026,2,  -999.0,9,  -999.0,9,  -999.0,9,  -999.0,9, -999.00,     1.4173,   1.1664,     -999.0,9
318M19881207,      SAVE4,     185,          1,         24,         24,2,19881215,       1402,   -47.0267,   -49.9083,       6064,  3622.7,  34.7222,2,  34.7229,2,-999.0000,9,   208.0,2,  109.37,2,   30.69,2,    0.00,2,    2.26,2,   0.058,2,   0.045,2,  -999.0,9,  -999.0,9,  -999.0,9,  3617.8,2, -999.00,     1.1847,   0.9139,      1.187,2
318M19881207,      SAVE4,     185,          1,         25,         25,2,19881215,       1402,   -47.0267,   -49.9083,       6064,  3882.6,  34.7064,2,  34.7066,2,-999.0000,9,  -999.0,9,  115.43,2,   31.28,2,    0.00,2,    2.31,2,-999.000,9,-999.000,9,  -999.0,9,  -999.0,9,  -999.0,9,  -999.0,9, -999.00,     0.9489,   0.6578,     -999.0,9
318M19881207,      SAVE4,     185,          1,         26,         26,2,19881215,       1402,   -47.0267,   -49.9083,       6064,  4142.7,  34.6933,2,  34.6932,2,-999.0000,9,   213.5,2,  120.03,2,   31.57,2,    0.00,2,    2.33,2,   0.100,2,   0.062,2,  -999.0,9,  -999.0,9,  -999.0,9,  -999.0,9, -999.00,     0.7290,   0.4169,     -999.0,9
318M19881207,      SAVE4,     185,          1,         27,         27,2,19881215,       1402,   -47.0267,   -49.9083,       6064,  4403.5,  34.6839,2,  34.6832,2,-999.0000,9,   217.5,2,  122.08,2,   31.77,2,    0.00,2,    2.36,2,   0.110,2,   0.067,2,  -999.0,9,  -999.0,9,  -999.0,9,  -999.0,9, -999.00,     0.5483,   0.2137,     -999.0,9
318M19881207,      SAVE4,     185,          1,         28,         28,2,19881215,       1402,   -47.0267,   -49.9083,       6064,  4664.3,  34.6770,2,  34.6794,2,-999.0000,9,   220.4,2,  125.01,2,   31.96,2,    0.00,2,    2.38,2,   0.089,2,   0.056,2,  -999.0,9,  -999.0,9,  -999.0,9,  -999.0,9, -999.00,     0.4126,   0.0536,     -999.0,9
318M19881207,      SAVE4,     185,          1,         29,         29,2,19881215,       1402,   -47.0267,   -49.9083,       6064,  4926.0,  34.6724,2,  34.6734,2,-999.0000,9,   222.9,2,  127.85,2,   31.96,2,    0.00,2,    2.39,2,   0.082,2,   0.062,2,  -999.0,9,  -999.0,9,  -999.0,9,  -999.0,9, -999.00,     0.3232,  -0.0623,     -999.0,9
318M19881207,      SAVE4,     185,          1,         30,         30,2,19881215,       1402,   -47.0267,   -49.9083,       6064,  5187.6,  34.6697,2,  34.6724,2,-999.0000,9,   224.9,2,  128.63,2,   32.16,2,    0.00,2,    2.39,2,-999.000,9,-999.000,9,  -999.0,9,  -999.0,9,  -999.0,9,  -999.0,9, -999.00,     0.2974,  -0.1175,     -999.0,9
318M19881207,      SAVE4,     185,          1,         31,         31,2,19881215,       1402,   -47.0267,   -49.9083,       6064,  5397.7,  34.6685,2,  34.6669,2,-999.0000,9,   225.0,2,  129.02,2,   32.26,2,    0.00,2,    2.41,2,   0.099,2,   0.071,2,  -999.0,9,  -999.0,9,  -999.0,9,  -999.0,9, -999.00,     0.2953,  -0.1444,     -999.0,9
318M19881207,      SAVE4,     185,          1,         32,         32,2,19881215,       1402,   -47.0267,   -49.9083,       6064,  5608.0,  34.6675,2,  34.6684,2,-999.0000,9,   225.1,2,  129.41,2,   32.26,2,    0.00,2,    2.40,2,   0.099,2,   0.066,2,  -999.0,9,  -999.0,9,  -999.0,9,  -999.0,9, -999.00,     0.3027,  -0.1628,     -999.0,9
318M19881207,      SAVE4,     185,          1,         33,         33,2,19881215,       1402,   -47.0267,   -49.9083,       6064,  5817.7,  34.6669,2,  34.6684,2,-999.0000,9,   225.0,2,  127.36,2,   33.13,2,    0.00,2,    2.40,2,   0.101,2,   0.072,2,  -999.0,9,  -999.0,9,  -999.0,9,  -999.0,9, -999.00,     0.3118,  -0.1801,     -999.0,9
318M19881207,      SAVE4,     185,          1,         34,         34,2,19881215,       1402,   -47.0267,   -49.9083,       6064,  6027.9,  34.6651,2,  34.6635,2,-999.0000,9,   225.0,2,  128.92,2,   33.62,2,    0.00,2,    2.41,2,   0.104,2,   0.076,2,  -999.0,9,  -999.0,9,  -999.0,9,  -999.0,9, -999.00,     0.3284,  -0.1908,     -999.0,9
318M19881207,      SAVE4,     185,          1,         35,         35,2,19881215,       1402,   -47.0267,   -49.9083,       6064,  6237.1,  34.6643,2,  34.6669,2,-999.0000,9,   224.6,2,  130.10,2,   33.23,2,    0.00,2,    2.43,2,   0.116,2,   0.067,2,  -999.0,9,  -999.0,9,  -999.0,9,  -999.0,9, -999.00,     0.3472,  -0.1997,     -999.0,9