BOTTLE,20211025CCHSIORKP
EXPOCODE,SECT_ID,STNNBR,CASTNO,SAMPNO,BTLNBR,BTLNBR_FLAG_W,DATE,TIME,LATITUDE,LONGITUDE,DEPTH,CTDPRS,CTDSAL,CTDSAL_FLAG_W,SALNTY,SALNTY_FLAG_W,CTDOXY,CTDOXY_FLAG_W,OXYGEN,OXYGEN_FLAG_W,SILCAT,SILCAT_FLAG_W,NITRAT,NITRAT_FLAG_W,NITRIT,NITRIT_FLAG_W,PHSPHT,PHSPHT_FLAG_W,CFC-11,CFC-11_FLAG_W,CFC-12,CFC-12_FLAG_W,TCARBN,TCARBN_FLAG_W,ALKALI,ALKALI_FLAG_W,PCO2,PCO2_FLAG_W,REVPRS,REVPRS_FLAG_W,CTDRAW,CTDTMP,THETA,REVTMP,REVTMP_FLAG_W
,,,,,,,,,,,METERS,DBAR,PSS-78,,PSS-78,,UMOL/KG,,UMOL/KG,,UMOL/KG,,UMOL/KG,,UMOL/KG,,UMOL/KG,,PMOL/KG,,PMOL/KG,,UMOL/KG,,UMOL/KG,,UATM,,DBAR,,DBAR,ITS-68,DEG C,ITS-68,
318M19881207,      SAVE4,     184,          2,          1,          1,2,19881214,       2221,   -46.9883,   -51.4917,       6061,     3.2,  34.6672,2,  34.6590,2,-999.0000,9,   274.5,2,    1.86,2,    7.14,2,    0.21,2,    0.64,2,-999.000,9,-999.000,9,  2061.8,2,  2302.5,2,   445.4,2,     6.1,2, -999.00,    11.4099,  11.4095,     11.397,2
318M19881207,      SAVE4,     184,          2,          2,          2,2,19881214,       2221,   -46.9883,   -51.4917,       6061,    49.0,  34.8702,2,  34.8630,2,-999.0000,9,   275.4,2,    1.95,2,    6.74,2,    0.26,2,    0.62,2,   3.092,2,   1.508,2,  2066.5,2,  2306.9,2,   450.1,2,  -999.0,9, -999.00,    11.2309,  11.2248,     -999.0,9
318M19881207,      SAVE4,     184,          2,          3,          3,2,19881214,       2221,   -46.9883,   -51.4917,       6061,    78.2,  35.0278,2,  35.0170,2,-999.0000,9,   270.1,2,    2.35,2,    7.13,2,    0.29,2,    0.64,2,-999.000,9,-999.000,9,  2082.0,2,  2319.7,2,   463.2,2,  -999.0,9, -999.00,    11.1099,  11.1002,     -999.0,9
318M19881207,      SAVE4,     184,          2,          4,          4,2,19881214,       2221,   -46.9883,   -51.4917,       6061,   114.1,  35.1449,2,  35.1390,2,-999.0000,9,   260.5,2,    3.13,2,    8.79,2,    0.12,2,    0.69,2,   2.940,2,   1.415,2,  2087.6,2,  2318.0,2,   482.8,2,  -999.0,9, -999.00,    11.2479,  11.2336,     -999.0,9
318M19881207,      SAVE4,     184,          2,          5,          5,2,19881214,       2221,   -46.9883,   -51.4917,       6061,   165.7,  35.1023,2,  35.0920,2,-999.0000,9,   260.5,2,    3.32,2,    9.67,2,    0.02,2,    0.73,2,-999.000,9,-999.000,9,  2089.5,2,  2314.2,2,   496.0,2,  -999.0,9, -999.00,    10.9499,  10.9295,     -999.0,9
318M19881207,      SAVE4,     184,          2,          6,          6,2,19881214,       2221,   -46.9883,   -51.4917,       6061,   216.3,  34.8830,2,  34.8900,2,-999.0000,9,   261.4,2,    3.81,2,   11.92,2,    0.02,2,    0.88,2,   3.075,2,   1.468,2,  2091.9,2,  2303.2,2,   527.2,2,  -999.0,9, -999.00,     9.8629,   9.8380,     -999.0,9
318M19881207,      SAVE4,     184,          2,          7,          7,2,19881214,       2221,   -46.9883,   -51.4917,       6061,   268.2,  34.6567,2,  34.6450,2,-999.0000,9,   264.4,2,    5.38,2,   15.54,2,    0.02,2,    1.11,2,   3.160,2,   1.494,2,  2105.2,2,  2296.7,2,   585.0,2,  -999.0,9, -999.00,     8.4850,   8.4569,     -999.0,9
318M19881207,      SAVE4,     184,          2,          8,          8,2,19881214,       2221,   -46.9883,   -51.4917,       6061,   341.2,  34.3248,2,  34.3210,2,-999.0000,9,   257.9,2,    9.39,2,   22.29,2,    0.01,2,    1.54,2,   2.981,2,   1.409,2,  2124.4,2,  2281.4,2,   710.5,2,  -999.0,9, -999.00,     6.3023,   6.2721,     -999.0,9
318M19881207,      SAVE4,     184,          2,          9,          9,2,19881214,       2221,   -46.9883,   -51.4917,       6061,   432.7,  34.2084,2,  34.2170,2,-999.0000,9,   265.2,2,   11.64,2,   25.23,2,    0.01,2,    1.72,2,-999.000,9,-999.000,9,  2133.6,2,  2277.8,2,   768.8,2,  -999.0,9, -999.00,     5.0305,   4.9963,     -999.0,9
318M19881207,      SAVE4,     184,          2,         10,         10,2,19881214,       2221,   -46.9883,   -51.4917,       6061,   514.9,  34.1986,2,  34.2010,2,-999.0000,9,   268.7,2,   13.69,2,   26.01,2,    0.01,2,    1.78,2,   2.957,2,   1.352,2,  2145.4,2,  2285.0,2,   796.9,2,  -999.0,9, -999.00,     4.4706,   4.4319,     -999.0,9
318M19881207,      SAVE4,     184,          2,         11,         11,2,19881214,       2221,   -46.9883,   -51.4917,       6061,   647.5,  34.1935,2,  34.1920,2,-999.0000,9,   267.4,2,   18.68,2,   27.87,2,    0.01,2,    1.87,2,   2.720,2,   1.262,2,  2151.0,2,  2285.9,2,   823.4,2,  -999.0,9, -999.00,     3.8927,   3.8463,     -999.0,9
318M19881207,      SAVE4,     184,          2,         12,         12,2,19881214,       2221,   -46.9883,   -51.4917,       6061,   811.9,  34.2038,2,  34.2050,2,-999.0000,9,   255.6,2,   26.50,2,   29.53,2,    0.01,2,    2.07,2,   2.255,2,   1.021,2,  2165.8,2,  2288.6,2,   897.8,2,  -999.0,9, -999.00,     3.2459,   3.1908,     -999.0,9
318M19881207,      SAVE4,     184,          2,         13,         13,2,19881214,       2221,   -46.9883,   -51.4917,       6061,   997.4,  34.2606,2,-999.0000,9,-999.0000,9,   222.1,2,   44.39,2,   32.46,2,    0.01,2,    2.27,2,   1.324,2,   0.565,2,  2202.8,2,  2307.5,2,  1035.9,2,  -999.0,9, -999.00,     2.7810,   2.7154,     -999.0,9
318M19881207,      SAVE4,     184,          2,         14,         14,2,19881214,       2221,   -46.9883,   -51.4917,       6061,  1139.5,  34.3257,2,  34.3200,2,-999.0000,9,   217.8,2,   46.24,2,   32.95,2,    0.00,2,    2.31,2,-999.000,9,-999.000,9,  2205.0,2,  2309.4,2,  1041.3,2,  -999.0,9, -999.00,     2.6660,   2.5907,     -999.0,9
318M19881207,      SAVE4,     184,          2,         15,         15,2,19881214,       2221,   -46.9883,   -51.4917,       6061,  1344.5,  34.4359,2,  34.4340,2,-999.0000,9,   193.9,2,   58.07,2,   34.12,2,    0.00,2,    2.40,2,   0.534,2,   0.225,2,  2228.2,2,  2323.5,2,  1125.2,2,  -999.0,9, -999.00,     2.6740,   2.5827,     -999.0,9
318M19881207,      SAVE4,     184,          2,         16,         16,2,19881214,       2221,   -46.9883,   -51.4917,       6061,  1548.9,  34.5550,2,  34.5530,2,-999.0000,9,   182.5,2,   64.12,2,   33.63,2,    0.00,2,    2.39,2,-999.000,9,-999.000,9,  2231.6,2,  2325.0,2,  1145.2,2,  -999.0,9, -999.00,     2.7150,   2.6065,     -999.0,9
318M19881207,      SAVE4,     184,          2,         17,         17,2,19881214,       2221,   -46.9883,   -51.4917,       6061,  1755.2,  34.6271,2,  34.6240,2,-999.0000,9,   180.4,2,   69.50,2,   33.04,2,    0.00,2,    2.33,2,   0.119,2,   0.040,2,  2243.9,2,  2338.5,2,  1146.3,2,  -999.0,9, -999.00,     2.6370,   2.5121,     -999.0,9
318M19881207,      SAVE4,     184,          2,         18,         18,2,19881214,       2221,   -46.9883,   -51.4917,       6061,  1962.2,  34.6959,2,  34.6950,2,-999.0000,9,   186.9,2,   67.93,2,   31.37,2,    0.00,2,    2.22,2,-999.000,9,-999.000,9,  2237.0,2,  2343.3,2,  1060.6,2,  -999.0,9, -999.00,     2.6670,   2.5236,     -999.0,9
318M19881207,      SAVE4,     184,          2,         19,         19,2,19881214,       2221,   -46.9883,   -51.4917,       6061,  2065.9,  34.7220,2,  34.7210,2,-999.0000,9,   191.6,2,   66.46,2,   30.59,2,    0.00,2,    2.16,2,   0.055,2,   0.019,2,  2234.0,2,  2342.7,2,  1042.7,2,  -999.0,9, -999.00,     2.6770,   2.5242,     -999.0,9
318M19881207,      SAVE4,     184,          2,         20,         20,2,19881214,       2221,   -46.9883,   -51.4917,       6061,  2375.9,  34.7744,2,  34.7720,2,-999.0000,9,   201.6,2,   66.85,2,   28.83,2,    0.00,2,    2.05,2,   0.041,2,   0.019,2,  2223.8,2,  2339.9,2,   989.7,2,  -999.0,9, -999.00,     2.5710,   2.3914,     -999.0,9
318M19881207,      SAVE4,     184,          2,         21,         21,2,19881214,       2221,   -46.9883,   -51.4917,       6061,  2582.6,  34.7948,2,  34.7930,2,-999.0000,9,   208.1,2,   66.65,2,   28.15,2,    0.00,2,    2.00,2,   0.021,2,   0.008,2,  2221.9,2,  2340.5,2,   973.3,2,  -999.0,9, -999.00,     2.4751,   2.2775,     -999.0,9
318M19881207,      SAVE4,     184,          2,         22,         22,2,19881214,       2221,   -46.9883,   -51.4917,       6061,  2746.5,  34.8002,2,  34.7990,2,-999.0000,9,   210.7,2,   68.32,2,   28.05,2,    0.00,2,    1.97,2,   0.020,2,   0.007,2,  2221.6,2,  2342.2,2,   961.5,2,  -999.0,9, -999.00,     2.3721,   2.1607,     -999.0,9
318M19881207,      SAVE4,     184,          2,         23,         23,2,19881214,       2221,   -46.9883,   -51.4917,       6061,  2997.2,  34.7682,2,  34.7660,2,-999.0000,9,   205.1,2,   83.56,2,   30.30,2,    0.00,2,    1.98,2,   0.031,2,   0.011,2,  2235.0,2,  2348.5,2,  1014.4,2,  -999.0,9, -999.00,     1.9862,   1.7586,     -999.0,9
318M19881207,      SAVE4,     184,          2,         24,         24,2,19881214,       2221,   -46.9883,   -51.4917,       6061,  3205.5,  34.7486,2,  34.7480,2,-999.0000,9,   202.0,2,   92.95,2,   31.47,2,    0.00,2,    2.07,2,   0.046,2,   0.028,2,  2241.8,2,  2359.0,2,   998.0,2,  3201.9,2, -999.00,     1.7413,   1.4986,      1.747,2
318M19881207,      SAVE4,     184,          2,         25,         25,2,19881214,       2221,   -46.9883,   -51.4917,       6061,  3414.8,  34.7335,2,  34.7320,2,-999.0000,9,   201.2,2,  102.72,2,   32.35,2,    0.00,2,    2.14,2,   0.056,2,   0.037,2,  2248.2,2,  2359.9,2,  1038.3,2,  -999.0,9, -999.00,     1.5153,   1.2572,     -999.0,9
318M19881207,      SAVE4,     184,          2,         26,         26,2,19881214,       2221,   -46.9883,   -51.4917,       6061,  3622.2,  34.7251,2,  34.7230,2,-999.0000,9,   202.9,2,  106.34,2,   32.74,2,    0.00,2,    2.17,2,-999.000,9,-999.000,9,  2254.2,2,  2360.2,2,  1079.8,2,  -999.0,9, -999.00,     1.3714,   1.0957,     -999.0,9
318M19881207,      SAVE4,     184,          2,         27,         27,2,19881214,       2221,   -46.9883,   -51.4917,       6061,  3830.1,  34.7191,2,  34.7160,2,-999.0000,9,   206.0,2,  110.64,2,   32.94,2,    0.00,2,    2.19,2,   0.063,2,   0.015,2,  2258.1,2,  2366.8,2,  1065.4,2,  -999.0,9, -999.00,     1.2214,   0.9282,     -999.0,9
318M19881207,      SAVE4,     184,          2,         28,         28,2,19881214,       2221,   -46.9883,   -51.4917,       6061,  4090.1,  34.7104,2,  34.7110,2,-999.0000,9,   209.9,2,  113.28,2,   33.04,2,    0.00,2,    2.20,2,   0.069,2,   0.019,2,  2253.0,2,  2361.1,2,  1066.7,2,  -999.0,9, -999.00,     1.0125,   0.6976,     -999.0,9
318M19881207,      SAVE4,     184,          2,         29,         29,2,19881214,       2221,   -46.9883,   -51.4917,       6061,  4350.8,  34.6968,2,  34.6960,2,-999.0000,9,   214.2,2,  117.39,2,   33.23,2,    0.00,2,    2.23,2,   0.077,2,   0.025,2,  2255.8,2,  2363.4,2,  1072.1,2,  -999.0,9, -999.00,     0.7816,   0.4454,     -999.0,9
318M19881207,      SAVE4,     184,          2,         30,         30,2,19881214,       2221,   -46.9883,   -51.4917,       6061,  4716.8,  34.6814,2,  34.6820,2,-999.0000,9,   219.0,2,  123.55,2,   33.82,2,    0.00,2,    2.28,2,-999.000,9,-999.000,9,  2253.7,2,  2359.6,2,  1083.6,2,  -999.0,9, -999.00,     0.4937,   0.1261,     -999.0,9
318M19881207,      SAVE4,     184,          2,         31,         31,2,19881214,       2221,   -46.9883,   -51.4917,       6061,  4978.7,  34.6751,2,  34.6750,2,-999.0000,9,   222.5,2,  125.99,2,   34.01,2,    0.00,2,    2.30,2,   0.067,2,   0.020,2,  2257.2,2,  2361.8,2,  1095.3,2,  -999.0,9, -999.00,     0.3797,  -0.0138,     -999.0,9
318M19881207,      SAVE4,     184,          2,         32,         32,2,19881214,       2221,   -46.9883,   -51.4917,       6061,  5344.1,  34.6705,2,  34.6700,2,-999.0000,9,   223.3,2,  127.95,2,   34.01,2,    0.00,2,    2.31,2,-999.000,9,-999.000,9,  2258.2,2,  2363.2,2,  1093.6,2,  5384.1,2, -999.00,     0.3127,  -0.1213,      0.320,2
318M19881207,      SAVE4,     184,          2,         33,         33,2,19881214,       2221,   -46.9883,   -51.4917,       6061,  5604.8,  34.6685,2,  34.6690,2,-999.0000,9,   224.6,2,  128.53,2,   34.01,2,    0.00,2, -999.00,9,   0.100,2,   0.064,2,  2259.3,2,  -999.0,9,  1094.6,2,  -999.0,9, -999.00,     0.3077,  -0.1576,     -999.0,9
318M19881207,      SAVE4,     184,          2,         34,         34,2,19881214,       2221,   -46.9883,   -51.4917,       6061,  5855.7,  34.6677,2,  34.6660,2,-999.0000,9,   225.1,2,  130.10,2,   34.21,2,    0.00,2,    2.31,2,   0.089,2,   0.059,2,  2258.5,2,  2363.8,2,  1091.5,2,  -999.0,9, -999.00,     0.3177,  -0.1792,     -999.0,9
318M19881207,      SAVE4,     184,          2,         35,         35,2,19881214,       2221,   -46.9883,   -51.4917,       6061,  6066.0,  34.6675,2,  34.6660,2,-999.0000,9,   224.2,2,  129.51,2,   34.31,2,    0.00,2,    2.31,2,   0.092,2,   0.055,2,  2261.5,2,  2369.2,2,  1077.4,2,  -999.0,9, -999.00,     0.3287,  -0.1954,     -999.0,9
318M19881207,      SAVE4,     184,          2,         36,         36,2,19881214,       2221,   -46.9883,   -51.4917,       6061,  6225.2,  34.6655,2,  34.6670,2,-999.0000,9,   223.8,2,  128.73,2,   34.21,2,    0.00,2,    2.32,2,   0.091,2,   0.034,2,  2260.3,2,  2366.4,2,  1087.4,2,  -999.0,9, -999.00,     0.3447,  -0.2006,     -999.0,9