BOTTLE,20211025CCHSIORKP
EXPOCODE,SECT_ID,STNNBR,CASTNO,SAMPNO,BTLNBR,BTLNBR_FLAG_W,DATE,TIME,LATITUDE,LONGITUDE,DEPTH,CTDPRS,CTDSAL,CTDSAL_FLAG_W,SALNTY,SALNTY_FLAG_W,CTDOXY,CTDOXY_FLAG_W,OXYGEN,OXYGEN_FLAG_W,SILCAT,SILCAT_FLAG_W,NITRAT,NITRAT_FLAG_W,NITRIT,NITRIT_FLAG_W,PHSPHT,PHSPHT_FLAG_W,CFC-11,CFC-11_FLAG_W,CFC-12,CFC-12_FLAG_W,TCARBN,TCARBN_FLAG_W,ALKALI,ALKALI_FLAG_W,PCO2,PCO2_FLAG_W,REVPRS,REVPRS_FLAG_W,CTDRAW,CTDTMP,THETA,REVTMP,REVTMP_FLAG_W
,,,,,,,,,,,METERS,DBAR,PSS-78,,PSS-78,,UMOL/KG,,UMOL/KG,,UMOL/KG,,UMOL/KG,,UMOL/KG,,UMOL/KG,,PMOL/KG,,PMOL/KG,,UMOL/KG,,UMOL/KG,,UATM,,DBAR,,DBAR,ITS-68,DEG C,ITS-68,
318M19881207,      SAVE4,     220,          1,          1,          1,2,19890107,       0538,   -29.9883,     2.0100,       3866,     0.9,  35.7276,2,  35.7350,2,-999.0000,9,   230.6,2,    2.54,2,    0.00,2,    0.00,2,    0.18,2,   2.160,2,   1.041,2,  2037.0,2,  2340.8,2,   344.0,2,  -999.0,9, -999.00,    20.9469,  20.9468,     20.919,2
318M19881207,      SAVE4,     220,          1,          2,          2,2,19890107,       0538,   -29.9883,     2.0100,       3866,    35.3,  35.6691,2,  35.6720,2,-999.0000,9,   245.7,2,    2.25,2,    0.00,2,    0.00,2,    0.17,2,-999.000,9,-999.000,9,  -999.0,9,  -999.0,9,  -999.0,9,  -999.0,9, -999.00,    18.9055,  18.8992,     -999.0,9
318M19881207,      SAVE4,     220,          1,          3,          3,2,19890107,       0538,   -29.9883,     2.0100,       3866,   106.8,  35.5887,2,  35.5880,2,-999.0000,9,   235.9,2,    2.93,2,    1.47,2,    0.16,2,    0.30,2,   2.411,2,   1.189,2,  2048.2,2,  2330.2,2,   377.5,2,  -999.0,9, -999.00,    16.2612,  16.2441,     -999.0,9
318M19881207,      SAVE4,     220,          1,          4,          4,2,19890107,       0538,   -29.9883,     2.0100,       3866,   203.5,  35.4808,2,  35.4770,2,-999.0000,9,   232.9,2,    2.93,2,    2.83,2,    0.02,2,    0.37,2,   2.426,2,   1.195,2,  2057.4,2,  2332.6,2,   390.3,2,  -999.0,9, -999.00,    15.6361,  15.6042,     -999.0,9
318M19881207,      SAVE4,     220,          1,          5,          5,2,19890107,       0538,   -29.9883,     2.0100,       3866,   310.7,  35.2747,2,  35.2760,2,-999.0000,9,   212.4,2,    4.20,2,    7.43,2,    0.00,2,    0.64,2,   2.134,2,   1.058,2,  -999.0,9,  -999.0,9,  -999.0,9,  -999.0,9, -999.00,    14.2086,  14.1630,     -999.0,9
318M19881207,      SAVE4,     220,          1,          6,          6,2,19890107,       0538,   -29.9883,     2.0100,       3866,   372.5,  35.1428,2,  35.1420,2,-999.0000,9,   214.0,2,    4.79,2,    9.58,2,    0.00,2,    0.77,2,   2.081,2,   1.016,2,  2091.9,2,  2316.8,2,   497.5,2,  -999.0,9, -999.00,    13.0612,  13.0094,     -999.0,9
318M19881207,      SAVE4,     220,          1,          7,          7,2,19890107,       0538,   -29.9883,     2.0100,       3866,   433.5,  35.0269,2,  35.0250,2,-999.0000,9,   209.6,2,    5.67,2,   12.31,2,    0.00,2,    0.92,2,   1.797,2,   0.882,2,  -999.0,9,  -999.0,9,  -999.0,9,  -999.0,9, -999.00,    11.9650,  11.9080,     -999.0,9
318M19881207,      SAVE4,     220,          1,          8,          8,2,19890107,       0538,   -29.9883,     2.0100,       3866,   522.3,  34.7877,2,  34.7930,2,-999.0000,9,   207.0,2,    8.50,2,   17.10,2,    0.00,2,    1.21,2,   1.611,2,   0.782,2,  2119.5,2,  2297.9,2,   635.9,2,  -999.0,9, -999.00,    10.0446,   9.9830,     -999.0,9
318M19881207,      SAVE4,     220,          1,          9,          9,2,19890107,       0538,   -29.9883,     2.0100,       3866,   628.6,  34.5976,2,  34.6010,2,-999.0000,9,   194.6,2,   13.49,2,   22.87,2,    0.00,2,    1.58,2,   1.302,2,   0.625,2,  2146.9,2,  2293.0,2,   773.5,2,  -999.0,9, -999.00,     8.1552,   8.0895,     -999.0,9
318M19881207,      SAVE4,     220,          1,         10,         10,2,19890107,       0538,   -29.9883,     2.0100,       3866,   751.9,  34.4078,2,  34.4120,2,-999.0000,9,   208.1,2,   18.87,2,   26.88,2,    0.00,2,    1.85,2,   1.213,2,   0.566,2,  -999.0,9,  -999.0,9,  -999.0,9,  -999.0,9, -999.00,     6.0478,   5.9807,     -999.0,9
318M19881207,      SAVE4,     220,          1,         11,         11,2,19890107,       0538,   -29.9883,     2.0100,       3866,   823.5,  34.3520,2,  34.3540,2,-999.0000,9,   211.9,2,   23.27,2,   28.55,2,    0.00,2,    1.97,2,   1.045,2,   0.488,2,  -999.0,9,  -999.0,9,  -999.0,9,  -999.0,9, -999.00,     5.1143,   5.0462,     -999.0,9
318M19881207,      SAVE4,     220,          1,         12,         12,2,19890107,       0538,   -29.9883,     2.0100,       3866,   890.0,  34.3345,2,  34.3330,2,-999.0000,9,   211.3,2,   28.84,2,   30.11,2,    0.00,2,    2.08,2,   0.857,2,   0.387,2,  2177.2,2,  2296.6,2,   926.9,2,  -999.0,9, -999.00,     4.4016,   4.3325,     -999.0,9
318M19881207,      SAVE4,     220,          1,         13,         13,2,19890107,       0538,   -29.9883,     2.0100,       3866,   977.1,  34.3525,2,  34.3520,2,-999.0000,9,   202.4,2,   34.71,2,   31.38,2,    0.00,2,    2.16,2,   0.577,2,   0.285,2,  -999.0,9,  -999.0,9,  -999.0,9,  -999.0,9, -999.00,     4.0066,   3.9331,     -999.0,9
318M19881207,      SAVE4,     220,          1,         14,         14,2,19890107,       0538,   -29.9883,     2.0100,       3866,  1080.7,  34.3798,2,  34.3770,2,-999.0000,9,   196.2,2,   40.77,2,   32.36,2,    0.00,2,    2.22,2,   0.412,2,   0.207,2,  -999.0,9,  -999.0,9,  -999.0,9,  -999.0,9, -999.00,     3.6969,   3.6172,     -999.0,9
318M19881207,      SAVE4,     220,          1,         15,         15,2,19890107,       0538,   -29.9883,     2.0100,       3866,  1151.9,  34.4259,2,  34.4240,2,-999.0000,9,   187.9,2,   47.71,2,   32.85,2,    0.00,2,    2.27,2,   0.238,2,   0.127,2,  2212.8,2,  2315.0,2,  1063.1,2,  -999.0,9, -999.00,     3.4456,   3.3622,     -999.0,9
318M19881207,      SAVE4,     220,          1,         16,         16,2,19890107,       0538,   -29.9883,     2.0100,       3866,  1234.7,  34.4818,2,  34.4800,2,-999.0000,9,   183.6,2,   52.30,2,   32.85,2,    0.00,2,    2.28,2,   0.126,2,   0.079,2,  -999.0,9,  -999.0,9,  -999.0,9,  -999.0,9, -999.00,     3.2430,   3.1547,     -999.0,9
318M19881207,      SAVE4,     220,          1,         17,         17,2,19890107,       0538,   -29.9883,     2.0100,       3866,  1337.4,  34.5328,2,  34.5320,2,-999.0000,9,   184.2,2,   57.09,2,   32.55,2,    0.00,2,    2.26,2,   0.081,2,   0.051,2,  2222.6,2,  2322.8,2,  1087.0,2,  -999.0,9, -999.00,     2.9972,   2.9029,     -999.0,9
318M19881207,      SAVE4,     220,          1,         18,         18,2,19890107,       0538,   -29.9883,     2.0100,       3866,  1440.5,  34.5869,2,  34.5810,2,-999.0000,9,   185.4,2,   58.06,2,   31.87,2,    0.00,2,    2.21,2,   0.052,2,   0.027,2,  2219.6,2,  2322.0,2,  1071.0,2,  -999.0,9, -999.00,     2.9361,   2.8338,     -999.0,9
318M19881207,      SAVE4,     220,          1,         19,         19,2,19890107,       0538,   -29.9883,     2.0100,       3866,  1542.9,  34.6520,2,  34.6520,2,-999.0000,9,   189.7,2,   57.86,2,   30.69,2,    0.00,2,    2.12,2,   0.015,2,   0.009,2,  -999.0,9,  -999.0,9,  -999.0,9,  -999.0,9, -999.00,     2.9110,   2.8004,     -999.0,9
318M19881207,      SAVE4,     220,          1,         20,         20,2,19890107,       0538,   -29.9883,     2.0100,       3866,  1645.5,  34.7026,2,  34.7040,2,-999.0000,9,   195.6,2,   56.10,2,   29.52,2,    0.00,2,    2.03,2,   0.009,2,   0.006,2,  -999.0,9,  -999.0,9,  -999.0,9,  -999.0,9, -999.00,     2.9024,   2.7831,     -999.0,9
318M19881207,      SAVE4,     220,          1,         21,         21,2,19890107,       0538,   -29.9883,     2.0100,       3866,  1748.5,  34.7400,2,  34.7380,2,-999.0000,9,   201.5,2,   53.95,2,   28.44,2,    0.00,2,    1.96,2,   0.003,2,   0.002,2,  2211.5,2,  2329.9,2,   964.9,2,  -999.0,9, -999.00,     2.8849,   2.7569,     -999.0,9
318M19881207,      SAVE4,     220,          1,         22,         22,2,19890107,       0538,   -29.9883,     2.0100,       3866,  1852.0,  34.7648,2,  34.7650,2,-999.0000,9,   206.7,2,   52.19,2,   27.66,2,    0.00,2,    1.90,2,-999.000,9,-999.000,9,  -999.0,9,  -999.0,9,  -999.0,9,  -999.0,9, -999.00,     2.8634,   2.7267,     -999.0,9
318M19881207,      SAVE4,     220,          1,         23,         23,2,19890107,       0538,   -29.9883,     2.0100,       3866,  1954.4,  34.7878,2,  34.7870,2,-999.0000,9,   211.3,2,   51.70,2,   26.97,2,    0.00,2,    1.85,2,   0.000,2,   0.001,2,  2204.0,2,  2331.5,2,   908.8,2,  -999.0,9, -999.00,     2.8116,   2.6664,     -999.0,9
318M19881207,      SAVE4,     220,          1,         24,         24,2,19890107,       0538,   -29.9883,     2.0100,       3866,  2057.5,  34.8024,2,  34.8020,2,-999.0000,9,   215.7,2,   51.51,2,   26.39,2,    0.00,2,    1.82,2,-999.000,9,-999.000,9,  -999.0,9,  -999.0,9,  -999.0,9,  -999.0,9, -999.00,     2.7469,   2.5935,     -999.0,9
318M19881207,      SAVE4,     220,          1,         25,         25,2,19890107,       0538,   -29.9883,     2.0100,       3866,  2162.0,  34.8125,2,  34.8130,2,-999.0000,9,   219.0,2,   52.58,2,   26.09,2,    0.00,2,    1.79,2,-999.000,9,-999.000,9,  -999.0,9,  -999.0,9,  -999.0,9,  -999.0,9, -999.00,     2.6659,   2.5042,     -999.0,9
318M19881207,      SAVE4,     220,          1,         26,         26,2,19890107,       0538,   -29.9883,     2.0100,       3866,  2264.5,  34.8235,2,  34.8230,2,-999.0000,9,   222.6,2,   52.78,2,   25.70,2,    0.00,2,    1.76,2,-999.000,9,   0.000,2,  2198.9,2,  2334.2,2,   865.0,2,  -999.0,9, -999.00,     2.6175,   2.4472,     -999.0,9
318M19881207,      SAVE4,     220,          1,         27,         27,2,19890107,       0538,   -29.9883,     2.0100,       3866,  2369.0,  34.8282,2,  34.8280,2,-999.0000,9,   225.4,2,   53.56,2,   25.41,2,    0.00,2,    1.73,2,-999.000,9,-999.000,9,  -999.0,9,  -999.0,9,  -999.0,9,  -999.0,9, -999.00,     2.5477,   2.3689,     -999.0,9
318M19881207,      SAVE4,     220,          1,         28,         28,2,19890107,       0538,   -29.9883,     2.0100,       3866,  2471.6,  34.8344,2,  34.8340,2,-999.0000,9,   227.6,2,   54.24,2,   25.02,2,    0.00,2,    1.72,2,-999.000,9,-999.000,9,  -999.0,9,  -999.0,9,  -999.0,9,  -999.0,9, -999.00,     2.4971,   2.3096,     -999.0,9
318M19881207,      SAVE4,     220,          1,         29,         29,2,19890107,       0538,   -29.9883,     2.0100,       3866,  2576.1,  34.8397,2,  34.8400,2,-999.0000,9,   229.1,2,   53.56,2,   24.82,2,    0.00,2,    1.70,2,-999.000,9,-999.000,9,  -999.0,9,  -999.0,9,  -999.0,9,  -999.0,9, -999.00,     2.4611,   2.2643,     -999.0,9
318M19881207,      SAVE4,     220,          1,         30,         30,2,19890107,       0538,   -29.9883,     2.0100,       3866,  2782.9,  34.8516,2,  34.8510,2,-999.0000,9,   232.8,2,   53.56,2,   24.33,2,    0.00,2,    1.67,2,   0.000,2,   0.002,2,  2198.1,2,  2342.3,2,   821.8,2,  -999.0,9, -999.00,     2.3953,   2.1797,     -999.0,9
318M19881207,      SAVE4,     220,          1,         31,         31,2,19890107,       0538,   -29.9883,     2.0100,       3866,  2989.3,  34.8593,2,  34.8590,2,-999.0000,9,   235.4,2,   54.14,2,   23.94,2,    0.00,2,    1.65,2,-999.000,9,-999.000,9,  -999.0,9,  -999.0,9,  -999.0,9,  -999.0,9, -999.00,     2.3417,   2.1067,     -999.0,9
318M19881207,      SAVE4,     220,          1,         32,         32,2,19890107,       0538,   -29.9883,     2.0100,       3866,  3197.6,  34.8654,2,  34.8650,2,-999.0000,9,   236.3,2,   53.95,2,   23.85,2,    0.00,2,    1.64,2,-999.000,9,-999.000,9,  -999.0,9,  -999.0,9,  -999.0,9,  3202.9,2, -999.00,     2.3148,   2.0591,      2.314,2
318M19881207,      SAVE4,     220,          1,         33,         33,2,19890107,       0538,   -29.9883,     2.0100,       3866,  3406.4,  34.8668,2,  34.8670,2,-999.0000,9,   235.5,2,   54.14,2,   23.85,2,    0.00,2,    1.63,2,-999.000,9,   0.004,2,  2198.0,2,  2345.7,2,   805.6,2,  -999.0,9, -999.00,     2.3028,   2.0255,     -999.0,9
318M19881207,      SAVE4,     220,          1,         34,         34,2,19890107,       0538,   -29.9883,     2.0100,       3866,  3614.0,  34.8648,2,  34.8650,2,-999.0000,9,   234.1,2,   56.00,2,   23.94,2,    0.00,2,    1.64,2,-999.000,9,-999.000,9,  -999.0,9,  -999.0,9,  -999.0,9,  -999.0,9, -999.00,     2.2642,   1.9656,     -999.0,9
318M19881207,      SAVE4,     220,          1,         35,         35,2,19890107,       0538,   -29.9883,     2.0100,       3866,  3822.5,  34.8596,2,  34.8610,2,-999.0000,9,   233.5,2,   58.15,2,   24.33,2,    0.00,2,    1.66,2,-999.000,9,-999.000,9,  -999.0,9,  -999.0,9,  -999.0,9,  3825.2,2, -999.00,     2.2319,   1.9113,      2.233,2
318M19881207,      SAVE4,     220,          1,         36,         36,2,19890107,       0538,   -29.9883,     2.0100,       3866,  3928.2,  34.8444,2,  34.8430,2,-999.0000,9,   230.9,2,   64.50,2,   24.92,2,    0.00,2,    1.72,2,   0.000,2,   0.000,2,  2210.2,2,  2357.4,2,   816.6,2,  -999.0,9, -999.00,     2.0981,   1.7695,     -999.0,9