BOTTLE,20211025CCHSIORKP
EXPOCODE,SECT_ID,STNNBR,CASTNO,SAMPNO,BTLNBR,BTLNBR_FLAG_W,DATE,TIME,LATITUDE,LONGITUDE,DEPTH,CTDPRS,CTDSAL,CTDSAL_FLAG_W,SALNTY,SALNTY_FLAG_W,CTDOXY,CTDOXY_FLAG_W,OXYGEN,OXYGEN_FLAG_W,SILCAT,SILCAT_FLAG_W,NITRAT,NITRAT_FLAG_W,NITRIT,NITRIT_FLAG_W,PHSPHT,PHSPHT_FLAG_W,CFC-11,CFC-11_FLAG_W,CFC-12,CFC-12_FLAG_W,TCARBN,TCARBN_FLAG_W,ALKALI,ALKALI_FLAG_W,PCO2,PCO2_FLAG_W,REVPRS,REVPRS_FLAG_W,CTDRAW,CTDTMP,THETA,REVTMP,REVTMP_FLAG_W
,,,,,,,,,,,METERS,DBAR,PSS-78,,PSS-78,,UMOL/KG,,UMOL/KG,,UMOL/KG,,UMOL/KG,,UMOL/KG,,UMOL/KG,,PMOL/KG,,PMOL/KG,,UMOL/KG,,UMOL/KG,,UATM,,DBAR,,DBAR,ITS-68,DEG C,ITS-68,
318M19881207,      SAVE4,     223,          1,          1,          1,2,19890108,       2045,   -30.0067,     6.0183,       5151,     2.2,  35.7498,2,  35.7500,2,-999.0000,9,   230.8,2,    3.71,2,    0.00,2,    0.00,2,    0.18,2,   2.129,2,   1.060,2,  2040.8,2,  2351.0,2,   336.9,2,  -999.0,9, -999.00,    20.5829,  20.5825,     20.537,2
318M19881207,      SAVE4,     223,          1,          2,          2,2,19890108,       2045,   -30.0067,     6.0183,       5151,    37.0,  35.7024,2,  35.6850,2,-999.0000,9,   251.3,2,    3.71,2,    0.00,2,    0.00,2,    0.18,2,-999.000,9,-999.000,9,  2037.4,2,  2348.9,2,   333.6,2,  -999.0,9, -999.00,    18.0508,  18.0444,     -999.0,9
318M19881207,      SAVE4,     223,          1,          3,          3,2,19890108,       2045,   -30.0067,     6.0183,       5151,    88.0,  35.6052,2,  35.6040,2,-999.0000,9,   239.0,2,    4.10,2,    0.78,2,    0.11,2,    0.27,2,   2.316,2,   1.156,2,  -999.0,9,  -999.0,9,  -999.0,9,  -999.0,9, -999.00,    16.3843,  16.3701,     -999.0,9
318M19881207,      SAVE4,     223,          1,          4,          4,2,19890108,       2045,   -30.0067,     6.0183,       5151,   128.9,  35.5834,2,  35.5820,2,-999.0000,9,   233.8,2,    4.40,2,    2.25,2,    0.02,2,    0.33,2,   2.315,2,   1.156,2,  -999.0,9,  -999.0,9,  -999.0,9,  -999.0,9, -999.00,    16.1607,  16.1401,     -999.0,9
318M19881207,      SAVE4,     223,          1,          5,          5,2,19890108,       2045,   -30.0067,     6.0183,       5151,   179.8,  35.5810,2,  35.5850,2,-999.0000,9,   234.4,2,    4.30,2,    2.44,2,    0.01,2,    0.34,2,   2.262,2,   1.139,2,  -999.0,9,  -999.0,9,  -999.0,9,  -999.0,9, -999.00,    16.1131,  16.0844,     -999.0,9
318M19881207,      SAVE4,     223,          1,          6,          6,2,19890108,       2045,   -30.0067,     6.0183,       5151,   250.8,  35.4853,2,  35.4780,2,-999.0000,9,   232.1,2,    3.61,2,    3.13,2,    0.01,2,    0.40,2,   2.352,2,   1.183,2,  -999.0,9,  -999.0,9,  -999.0,9,  -999.0,9, -999.00,    15.6564,  15.6170,     -999.0,9
318M19881207,      SAVE4,     223,          1,          7,          7,2,19890108,       2045,   -30.0067,     6.0183,       5151,   363.6,  35.2550,2,  35.2430,2,-999.0000,9,   221.1,2,    4.98,2,    6.94,2,    0.01,2,    0.62,2,   2.224,2,   1.105,2,  -999.0,9,  -999.0,9,  -999.0,9,  -999.0,9, -999.00,    14.0797,  14.0265,     -999.0,9
318M19881207,      SAVE4,     223,          1,          8,          8,2,19890108,       2045,   -30.0067,     6.0183,       5151,   476.2,  35.0180,2,  35.0140,2,-999.0000,9,   212.3,2,    6.64,2,   12.21,2,    0.00,2,    0.92,2,   1.789,2,   0.878,2,  -999.0,9,  -999.0,9,  -999.0,9,  -999.0,9, -999.00,    11.9341,  11.8715,     -999.0,9
318M19881207,      SAVE4,     223,          1,          9,          9,2,19890108,       2045,   -30.0067,     6.0183,       5151,   604.9,  34.7308,2,  34.7290,2,-999.0000,9,   214.2,2,    8.50,2,   17.59,2,    0.00,2,    1.25,2,   1.811,2,   0.872,2,  -999.0,9,  -999.0,9,  -999.0,9,  -999.0,9, -999.00,     9.5194,   9.4501,     -999.0,9
318M19881207,      SAVE4,     223,          1,         10,         10,2,19890108,       2045,   -30.0067,     6.0183,       5151,   712.2,  34.5178,2,  34.5200,2,-999.0000,9,   204.8,2,   15.84,2,   24.15,2,    0.00,2,    1.67,2,   1.311,2,   0.628,2,  -999.0,9,  -999.0,9,  -999.0,9,  -999.0,9, -999.00,     7.3289,   7.2585,     -999.0,9
318M19881207,      SAVE4,     223,          1,         11,         11,2,19890108,       2045,   -30.0067,     6.0183,       5151,   810.0,  34.3898,2,  34.3930,2,-999.0000,9,   208.8,2,   20.73,2,   27.76,2,    0.00,2,    1.90,2,   1.142,2,   0.522,2,  -999.0,9,  -999.0,9,  -999.0,9,  -999.0,9, -999.00,     5.7479,   5.6771,     -999.0,9
318M19881207,      SAVE4,     223,          1,         12,         12,2,19890108,       2045,   -30.0067,     6.0183,       5151,   928.1,  34.3292,2,  34.3290,2,-999.0000,9,   217.9,2,   28.55,2,   29.72,2,    0.00,2,    2.03,2,   0.971,2,   0.444,2,  -999.0,9,  -999.0,9,  -999.0,9,  -999.0,9, -999.00,     4.5214,   4.4483,     -999.0,9
318M19881207,      SAVE4,     223,          1,         13,         13,2,19890108,       2045,   -30.0067,     6.0183,       5151,  1031.0,  34.3393,2,  34.3360,2,-999.0000,9,   210.7,2,   36.76,2,   31.09,2,    0.00,2,    2.14,2,   0.698,2,   0.323,2,  -999.0,9,  -999.0,9,  -999.0,9,  -999.0,9, -999.00,     3.8878,   3.8107,     -999.0,9
318M19881207,      SAVE4,     223,          1,         14,         14,2,19890108,       2045,   -30.0067,     6.0183,       5151,  1133.2,  34.3906,2,  34.3890,2,-999.0000,9,   193.7,2,   44.48,2,   32.65,2,    0.00,2,    2.25,2,   0.371,2,   0.185,2,  -999.0,9,  -999.0,9,  -999.0,9,  -999.0,9, -999.00,     3.6190,   3.5357,     -999.0,9
318M19881207,      SAVE4,     223,          1,         15,         15,2,19890108,       2045,   -30.0067,     6.0183,       5151,  1215.4,  34.4442,2,  34.4400,2,-999.0000,9,   184.0,2,   48.39,2,   33.24,2,    0.00,2,    2.29,2,   0.199,2,   0.103,2,  -999.0,9,  -999.0,9,  -999.0,9,  -999.0,9, -999.00,     3.4646,   3.3758,     -999.0,9
318M19881207,      SAVE4,     223,          1,         16,         16,2,19890108,       2045,   -30.0067,     6.0183,       5151,  1339.2,  34.5093,2,  34.5080,2,-999.0000,9,   183.5,2,   57.28,2,   33.14,2,    0.00,2,    2.29,2,   0.096,2,   0.065,2,  -999.0,9,  -999.0,9,  -999.0,9,  -999.0,9, -999.00,     3.1146,   3.0190,     -999.0,9
318M19881207,      SAVE4,     223,          1,         17,         17,2,19890108,       2045,   -30.0067,     6.0183,       5151,  1442.1,  34.5640,2,  34.5630,2,-999.0000,9,   183.2,2,   59.63,2,   32.65,2,    0.00,2,    2.25,2,   0.053,2,   0.030,2,  -999.0,9,  -999.0,9,  -999.0,9,  -999.0,9, -999.00,     2.9945,   2.8916,     -999.0,9
318M19881207,      SAVE4,     223,          1,         18,         18,2,19890108,       2045,   -30.0067,     6.0183,       5151,  1647.1,  34.6742,2,  34.6750,2,-999.0000,9,   189.3,2,   56.98,2,   30.50,2,    0.00,2,    2.10,2,   0.008,2,   0.010,2,  -999.0,9,  -999.0,9,  -999.0,9,  -999.0,9, -999.00,     3.0189,   2.8981,     -999.0,9
318M19881207,      SAVE4,     223,          1,         19,         19,2,19890108,       2045,   -30.0067,     6.0183,       5151,  1852.5,  34.7162,2,  34.7170,2,-999.0000,9,   197.0,2,   61.38,2,   29.62,2,    0.00,2,    2.03,2,-999.000,9,-999.000,9,  -999.0,9,  -999.0,9,  -999.0,9,  -999.0,9, -999.00,     2.7697,   2.6343,     -999.0,9
318M19881207,      SAVE4,     223,          1,         20,         20,2,19890108,       2045,   -30.0067,     6.0183,       5151,  2059.7,  34.7816,2,  34.7820,2,-999.0000,9,   207.6,2,   56.10,2,   27.46,2,    0.00,2,    1.90,2,   0.001,2,   0.001,2,  -999.0,9,  -999.0,9,  -999.0,9,  -999.0,9, -999.00,     2.7821,   2.6280,     -999.0,9
318M19881207,      SAVE4,     223,          1,         21,         21,2,19890108,       2045,   -30.0067,     6.0183,       5151,  2266.7,  34.8022,2,  34.8040,2,-999.0000,9,   215.9,2,   57.27,2,   26.68,2,    0.00,2,    1.84,2,-999.000,9,-999.000,9,  -999.0,9,  -999.0,9,  -999.0,9,  -999.0,9, -999.00,     2.6328,   2.4621,     -999.0,9
318M19881207,      SAVE4,     223,          1,         22,         22,2,19890108,       2045,   -30.0067,     6.0183,       5151,  2474.3,  34.8208,2,  34.8210,2,-999.0000,9,   221.5,2,   57.17,2,   26.00,2,    0.00,2,    1.79,2,-999.000,9,   0.001,2,  -999.0,9,  -999.0,9,  -999.0,9,  -999.0,9, -999.00,     2.5552,   2.3663,     -999.0,9
318M19881207,      SAVE4,     223,          1,         23,         23,2,19890108,       2045,   -30.0067,     6.0183,       5151,  2679.3,  34.8333,2,  34.8360,2,-999.0000,9,   226.1,2,   58.74,2,   25.51,2,    0.00,2,    1.75,2,-999.000,9,-999.000,9,  -999.0,9,  -999.0,9,  -999.0,9,  -999.0,9, -999.00,     2.4651,   2.2583,     -999.0,9
318M19881207,      SAVE4,     223,          1,         24,         24,2,19890108,       2045,   -30.0067,     6.0183,       5151,  2886.7,  34.8422,2,  34.8440,2,-999.0000,9,   230.7,2,   58.44,2,   25.02,2,    0.00,2,    1.70,2,   0.000,2,   0.007,2,  -999.0,9,  -999.0,9,  -999.0,9,  -999.0,9, -999.00,     2.3898,   2.1641,     -999.0,9
318M19881207,      SAVE4,     223,          1,         25,         25,2,19890108,       2045,   -30.0067,     6.0183,       5151,  3093.6,  34.8482,2,  34.8490,2,-999.0000,9,   232.8,2,   59.32,2,   24.73,2,    0.00,2,    1.69,2,-999.000,9,-999.000,9,  -999.0,9,  -999.0,9,  -999.0,9,  -999.0,9, -999.00,     2.3274,   2.0821,     -999.0,9
318M19881207,      SAVE4,     223,          1,         26,         26,2,19890108,       2045,   -30.0067,     6.0183,       5151,  3303.1,  34.8509,2,  34.8510,2,-999.0000,9,   233.4,2,   60.20,2,   24.63,2,    0.00,2,    1.69,2,-999.000,9,-999.000,9,  -999.0,9,  -999.0,9,  -999.0,9,  -999.0,9, -999.00,     2.2968,   2.0306,     -999.0,9
318M19881207,      SAVE4,     223,          1,         27,         27,2,19890108,       2045,   -30.0067,     6.0183,       5151,  3511.3,  34.8501,2,  34.8510,2,-999.0000,9,   233.3,2,   62.45,2,   24.82,2,    0.00,2,    1.69,2,-999.000,9,-999.000,9,  -999.0,9,  -999.0,9,  -999.0,9,  -999.0,9, -999.00,     2.2306,   1.9440,     -999.0,9
318M19881207,      SAVE4,     223,          1,         28,         28,2,19890108,       2045,   -30.0067,     6.0183,       5151,  3718.2,  34.8350,2,  34.8360,2,-999.0000,9,   230.8,2,   68.70,2,   25.61,2,    0.00,2,    1.75,2,-999.000,9,   0.004,2,  -999.0,9,  -999.0,9,  -999.0,9,  -999.0,9, -999.00,     2.0868,   1.7816,     -999.0,9
318M19881207,      SAVE4,     223,          1,         29,         29,2,19890108,       2045,   -30.0067,     6.0183,       5151,  3929.1,  34.8022,2,  34.8030,2,-999.0000,9,   225.8,2,   81.41,2,   27.27,2,    0.00,2,    1.87,2,-999.000,9,-999.000,9,  -999.0,9,  -999.0,9,  -999.0,9,  -999.0,9, -999.00,     1.7927,   1.4726,     -999.0,9
318M19881207,      SAVE4,     223,          1,         30,         30,2,19890108,       2045,   -30.0067,     6.0183,       5151,  4136.9,  34.7608,2,  34.7630,2,-999.0000,9,   221.4,2,   97.93,2,   29.22,2,    0.00,2,    2.02,2,-999.000,9,-999.000,9,  -999.0,9,  -999.0,9,  -999.0,9,  -999.0,9, -999.00,     1.3877,   1.0566,     -999.0,9
318M19881207,      SAVE4,     223,          1,         31,         31,2,19890108,       2045,   -30.0067,     6.0183,       5151,  4343.5,  34.7456,2,  34.7460,2,-999.0000,9,   220.3,2,  104.77,2,   30.01,2,    0.00,2,    2.07,2,-999.000,9,-999.000,9,  -999.0,9,  -999.0,9,  -999.0,9,  -999.0,9, -999.00,     1.2197,   0.8707,     -999.0,9
318M19881207,      SAVE4,     223,          1,         32,         32,2,19890108,       2045,   -30.0067,     6.0183,       5151,  4551.3,  34.7372,2,  34.7380,2,-999.0000,9,   219.6,2,  108.68,2,   30.40,2,    0.00,2,    2.11,2,-999.000,9,   0.000,2,  -999.0,9,  -999.0,9,  -999.0,9,  4557.7,2, -999.00,     1.1468,   0.7766,      1.145,2
318M19881207,      SAVE4,     223,          1,         33,         33,2,19890108,       2045,   -30.0067,     6.0183,       5151,  4761.9,  34.7332,2,  34.7340,2,-999.0000,9,   219.9,2,  110.84,2,   30.59,2,    0.00,2,    2.11,2,-999.000,9,-999.000,9,  -999.0,9,  -999.0,9,  -999.0,9,  -999.0,9, -999.00,     1.1164,   0.7229,     -999.0,9
318M19881207,      SAVE4,     223,          1,         34,         34,2,19890108,       2045,   -30.0067,     6.0183,       5151,  4971.0,  34.7304,2,  34.7300,2,-999.0000,9,   218.7,2,  110.05,2,   30.79,2,    0.00,2,    2.12,2,-999.000,9,-999.000,9,  -999.0,9,  -999.0,9,  -999.0,9,  -999.0,9, -999.00,     1.1052,   0.6875,     -999.0,9
318M19881207,      SAVE4,     223,          1,         35,         35,2,19890108,       2045,   -30.0067,     6.0183,       5151,  5127.7,  34.7288,2,  34.7300,2,-999.0000,9,   218.7,2,  109.08,2,   30.79,2,    0.00,2,    2.12,2,   0.002,2,-999.000,9,  -999.0,9,  -999.0,9,  -999.0,9,  5135.4,2, -999.00,     1.1068,   0.6702,      1.114,2
318M19881207,      SAVE4,     223,          1,         36,         36,2,19890108,       2045,   -30.0067,     6.0183,       5151,  5268.9,  34.7284,2,  34.7300,2,-999.0000,9,   218.8,2,  111.23,2,   30.79,2,    0.00,2,    2.14,2,   0.002,2,-999.000,9,  -999.0,9,  -999.0,9,  -999.0,9,  -999.0,9, -999.00,     1.1203,   0.6660,     -999.0,9