BOTTLE,20211025CCHSIORKP
EXPOCODE,SECT_ID,STNNBR,CASTNO,SAMPNO,BTLNBR,BTLNBR_FLAG_W,DATE,TIME,LATITUDE,LONGITUDE,DEPTH,CTDPRS,CTDSAL,CTDSAL_FLAG_W,SALNTY,SALNTY_FLAG_W,CTDOXY,CTDOXY_FLAG_W,OXYGEN,OXYGEN_FLAG_W,SILCAT,SILCAT_FLAG_W,NITRAT,NITRAT_FLAG_W,NITRIT,NITRIT_FLAG_W,PHSPHT,PHSPHT_FLAG_W,CFC-11,CFC-11_FLAG_W,CFC-12,CFC-12_FLAG_W,TCARBN,TCARBN_FLAG_W,ALKALI,ALKALI_FLAG_W,PCO2,PCO2_FLAG_W,REVPRS,REVPRS_FLAG_W,CTDRAW,CTDTMP,THETA,REVTMP,REVTMP_FLAG_W
,,,,,,,,,,,METERS,DBAR,PSS-78,,PSS-78,,UMOL/KG,,UMOL/KG,,UMOL/KG,,UMOL/KG,,UMOL/KG,,UMOL/KG,,PMOL/KG,,PMOL/KG,,UMOL/KG,,UMOL/KG,,UATM,,DBAR,,DBAR,ITS-68,DEG C,ITS-68,
318M19881207,      SAVE4,     215,          2,          1,          1,2,19890104,       2350,   -29.9717,    -3.7933,       4097,     1.3,  36.1065,2,  36.1080,2,-999.0000,9,   223.5,2,    2.05,2,    0.10,2,    0.00,2,    0.19,2,-999.000,9,-999.000,9,  2057.6,2,  2375.0,2,   335.7,2,     2.0,2, -999.00,    22.0863,  22.0860,     22.055,2
318M19881207,      SAVE4,     215,          2,          2,          2,2,19890104,       2350,   -29.9717,    -3.7933,       4097,    58.0,  35.8893,2,  35.8930,2,-999.0000,9,   244.3,2,    2.05,2,    0.10,2,    0.00,2,    0.19,2,-999.000,9,-999.000,9,  2052.7,2,  2365.3,2,   338.5,2,  -999.0,9, -999.00,    19.1280,  19.1176,     -999.0,9
318M19881207,      SAVE4,     215,          2,          3,          3,2,19890104,       2350,   -29.9717,    -3.7933,       4097,   109.0,  35.7638,2,  35.7680,2,-999.0000,9,   241.9,2,    2.05,2,    0.10,2,    0.00,2,    0.19,2,   2.277,2,   1.128,2,  2049.5,2,  2349.4,2,   353.3,2,  -999.0,9, -999.00,    17.6622,  17.6437,     -999.0,9
318M19881207,      SAVE4,     215,          2,          4,          4,2,19890104,       2350,   -29.9717,    -3.7933,       4097,   139.9,  35.6589,2,  35.6710,2,-999.0000,9,   237.3,2,    2.05,2,    0.10,2,    0.02,2,    0.21,2,   2.243,2,   1.093,2,  2056.4,2,  2349.4,2,   364.3,2,  -999.0,9, -999.00,    17.0256,  17.0024,     -999.0,9
318M19881207,      SAVE4,     215,          2,          5,          5,2,19890104,       2350,   -29.9717,    -3.7933,       4097,   194.9,  35.4207,2,  35.4070,2,-999.0000,9,   222.2,2,    3.71,2,    4.01,2,    0.01,2,    0.49,2,   2.259,2,   1.108,2,  2065.8,2,  2327.1,2,   416.3,2,  -999.0,9, -999.00,    15.4831,  15.4529,     -999.0,9
318M19881207,      SAVE4,     215,          2,          6,          6,2,19890104,       2350,   -29.9717,    -3.7933,       4097,   344.1,  35.0318,2,  35.0300,2,-999.0000,9,   207.3,2,    5.96,2,   12.51,2,    0.00,2,    0.96,2,   1.812,2,   0.868,2,  2107.4,2,  2311.5,2,   555.2,2,  -999.0,9, -999.00,    12.0444,  11.9991,     -999.0,9
318M19881207,      SAVE4,     215,          2,          7,          7,2,19890104,       2350,   -29.9717,    -3.7933,       4097,   460.3,  34.8070,2,  34.8050,2,-999.0000,9,   201.6,2,    8.60,2,   17.49,2,    0.00,2,    1.26,2,   1.506,2,   0.720,2,  2123.5,2,  2298.0,2,   651.5,2,  -999.0,9, -999.00,    10.0614,  10.0072,     -999.0,9
318M19881207,      SAVE4,     215,          2,          8,          8,2,19890104,       2350,   -29.9717,    -3.7933,       4097,   569.4,  34.5763,2,  34.5750,2,-999.0000,9,   199.4,2,   13.78,2,   23.46,2,    0.00,2,    1.60,2,   1.216,2,   0.568,2,  2151.3,2,  2297.4,2,   775.7,2,  -999.0,9, -999.00,     7.8802,   7.8221,     -999.0,9
318M19881207,      SAVE4,     215,          2,          9,          9,2,19890104,       2350,   -29.9717,    -3.7933,       4097,   689.5,  34.3953,2,  34.3970,2,-999.0000,9,   203.1,2,   19.65,2,   27.28,2,    0.00,2,    1.86,2,   1.108,2,   0.504,2,  2157.9,2,  2288.2,2,   854.3,2,  -999.0,9, -999.00,     5.8455,   5.7852,     -999.0,9
318M19881207,      SAVE4,     215,          2,         10,         10,2,19890104,       2350,   -29.9717,    -3.7933,       4097,   774.5,  34.3270,2,  34.3440,2,-999.0000,9,   218.0,2,   22.88,2,   28.45,2,    0.00,2,    1.96,2,   1.024,2,   0.462,2,  2165.9,2,  2291.4,2,   884.5,2,  -999.0,9, -999.00,     4.8416,   4.7795,     -999.0,9
318M19881207,      SAVE4,     215,          2,         11,         11,2,19890104,       2350,   -29.9717,    -3.7933,       4097,   876.8,  34.3212,2,  34.3230,2,-999.0000,9,   216.0,2,   30.89,2,   30.31,2,    0.00,2,    2.07,2,   0.771,2,   0.345,2,  2180.4,2,  2299.9,2,   928.1,2,  -999.0,9, -999.00,     4.1966,   4.1300,     -999.0,9
318M19881207,      SAVE4,     215,          2,         12,         12,2,19890104,       2350,   -29.9717,    -3.7933,       4097,   979.1,  34.3454,2,  34.3480,2,-999.0000,9,   207.3,2,   38.32,2,   31.68,2,    0.00,2,    2.17,2,   0.511,2,   0.230,2,  2193.8,2,  2303.3,2,   998.8,2,  -999.0,9, -999.00,     3.6920,   3.6206,     -999.0,9
318M19881207,      SAVE4,     215,          2,         13,         13,2,19890104,       2350,   -29.9717,    -3.7933,       4097,  1096.4,  34.3975,2,  34.3970,2,-999.0000,9,   197.2,2,   46.73,2,   32.75,2,    0.00,2,    2.26,2,   0.291,2,   0.140,2,  2210.6,2,  2314.5,2,  1049.7,2,  -999.0,9, -999.00,     3.3202,   3.2424,     -999.0,9
318M19881207,      SAVE4,     215,          2,         14,         14,2,19890104,       2350,   -29.9717,    -3.7933,       4097,  1236.2,  34.5205,2,  34.5200,2,-999.0000,9,   184.7,2,   56.89,2,   32.75,2,    0.00,2,    2.27,2,   0.058,2,   0.031,2,  2222.3,2,  2322.2,2,  1088.7,2,  -999.0,9, -999.00,     3.0505,   2.9637,     -999.0,9
318M19881207,      SAVE4,     215,          2,         15,         15,2,19890104,       2350,   -29.9717,    -3.7933,       4097,  1339.1,  34.5813,2,  34.5790,2,-999.0000,9,   187.0,2,   59.14,2,   32.06,2,    0.00,2,    2.20,2,   0.020,2,   0.016,2,  2222.2,2,  2323.8,2,  1077.7,2,  -999.0,9, -999.00,     2.9004,   2.8068,     -999.0,9
318M19881207,      SAVE4,     215,          2,         16,         16,2,19890104,       2350,   -29.9717,    -3.7933,       4097,  1440.0,  34.6388,2,  34.6390,2,-999.0000,9,   189.6,2,   57.67,2,   31.08,2,    0.00,2,    2.13,2,   0.018,2,   0.011,2,  2221.7,2,  2331.1,2,  1026.1,2,  -999.0,9, -999.00,     2.8726,   2.7710,     -999.0,9
318M19881207,      SAVE4,     215,          2,         17,         17,2,19890104,       2350,   -29.9717,    -3.7933,       4097,  1543.1,  34.6865,2,  34.6840,2,-999.0000,9,   195.2,2,   56.89,2,   30.01,2,    0.00,2,    2.05,2,-999.000,9,-999.000,9,  2217.9,2,  2333.0,2,   988.3,2,  -999.0,9, -999.00,     2.8225,   2.7128,     -999.0,9
318M19881207,      SAVE4,     215,          2,         18,         18,2,19890104,       2350,   -29.9717,    -3.7933,       4097,  1646.4,  34.7331,2,  34.7330,2,-999.0000,9,   201.6,2,   55.61,2,   28.64,2,    0.00,2,    1.97,2,-999.000,9,   0.005,2,  2214.0,2,  2332.6,2,   965.5,2,  -999.0,9, -999.00,     2.7914,   2.6734,     -999.0,9
318M19881207,      SAVE4,     215,          2,         19,         19,2,19890104,       2350,   -29.9717,    -3.7933,       4097,  1750.3,  34.7599,2,  34.7620,2,-999.0000,9,   207.1,2,   54.63,2,   27.76,2,    0.00,2,    1.92,2,-999.000,9,   0.001,2,  2210.6,2,  2334.0,2,   935.7,2,  -999.0,9, -999.00,     2.7425,   2.6162,     -999.0,9
318M19881207,      SAVE4,     215,          2,         20,         20,2,19890104,       2350,   -29.9717,    -3.7933,       4097,  1854.7,  34.7846,2,  34.7850,2,-999.0000,9,   212.7,2,   55.02,2,   27.07,2,    0.00,2,    1.86,2,-999.000,9,-999.000,9,  2208.8,2,  2336.3,2,   912.2,2,  -999.0,9, -999.00,     2.6778,   2.5433,     -999.0,9
318M19881207,      SAVE4,     215,          2,         21,         21,2,19890104,       2350,   -29.9717,    -3.7933,       4097,  1958.4,  34.8021,2,  34.8020,2,-999.0000,9,   217.7,2,   55.12,2,   26.49,2,    0.00,2,    1.81,2,-999.000,9,-999.000,9,  2201.9,2,  2331.9,2,   894.6,2,  -999.0,9, -999.00,     2.6226,   2.4798,     -999.0,9
318M19881207,      SAVE4,     215,          2,         22,         22,2,19890104,       2350,   -29.9717,    -3.7933,       4097,  2061.8,  34.8138,2,  34.8140,2,-999.0000,9,   221.1,2,   54.73,2,   26.00,2,    0.00,2,    1.77,2,-999.000,9,-999.000,9,  2203.8,2,  2337.6,2,   875.8,2,  -999.0,9, -999.00,     2.5777,   2.4264,     -999.0,9
318M19881207,      SAVE4,     215,          2,         23,         23,2,19890104,       2350,   -29.9717,    -3.7933,       4097,  2166.1,  34.8231,2,  34.8250,2,-999.0000,9,   224.2,2,   53.85,2,   25.61,2,    0.00,2,    1.75,2,-999.000,9,-999.000,9,  2198.8,2,  2334.2,2,   864.8,2,  -999.0,9, -999.00,     2.5368,   2.3768,     -999.0,9
318M19881207,      SAVE4,     215,          2,         24,         24,2,19890104,       2350,   -29.9717,    -3.7933,       4097,  2268.0,  34.8341,2,  34.8350,2,-999.0000,9,   227.9,2,   53.36,2,   25.12,2,    0.00,2,    1.72,2,-999.000,9,-999.000,9,  2197.5,2,  2335.3,2,   852.1,2,  -999.0,9, -999.00,     2.4958,   2.3272,     -999.0,9
318M19881207,      SAVE4,     215,          2,         25,         25,2,19890104,       2350,   -29.9717,    -3.7933,       4097,  2372.0,  34.8419,2,  34.8420,2,-999.0000,9,   230.4,2,   53.26,2,   24.82,2,    0.00,2,    1.69,2,-999.000,9,-999.000,9,  2195.5,2,  2336.6,2,   834.9,2,  -999.0,9, -999.00,     2.4634,   2.2858,     -999.0,9
318M19881207,      SAVE4,     215,          2,         26,         26,2,19890104,       2350,   -29.9717,    -3.7933,       4097,  2474.6,  34.8475,2,  34.8480,2,-999.0000,9,  -999.0,9,   51.99,2,   24.53,2,    0.00,2,    1.67,2,-999.000,9,-999.000,9,  2196.5,2,  2339.1,2,   828.1,2,  -999.0,9, -999.00,     2.4418,   2.2549,     -999.0,9
318M19881207,      SAVE4,     215,          2,         27,         27,2,19890104,       2350,   -29.9717,    -3.7933,       4097,  2578.1,  34.8540,2,  34.8540,2,-999.0000,9,   234.7,2,   51.89,2,   24.14,2,    0.00,2,    1.66,2,-999.000,9,-999.000,9,  2197.6,2,  2344.3,2,   809.7,2,  -999.0,9, -999.00,     2.4245,   2.2281,     -999.0,9
318M19881207,      SAVE4,     215,          2,         28,         28,2,19890104,       2350,   -29.9717,    -3.7933,       4097,  2682.6,  34.8584,2,  34.8600,2,-999.0000,9,   236.2,2,   52.38,2,   24.04,2,    0.00,2,    1.63,2,   0.000,2,-999.000,9,  2193.3,2,  2342.0,2,   798.2,2,  -999.0,9, -999.00,     2.4054,   2.1993,     -999.0,9
318M19881207,      SAVE4,     215,          2,         29,         29,2,19890104,       2350,   -29.9717,    -3.7933,       4097,  2784.6,  34.8643,2,  34.8640,2,-999.0000,9,   238.2,2,   51.11,2,   23.65,2,    0.00,2,    1.62,2,-999.000,9,-999.000,9,  2192.6,2,  2338.9,2,   808.3,2,  -999.0,9, -999.00,     2.3921,   2.1763,     -999.0,9
318M19881207,      SAVE4,     215,          2,         30,         30,2,19890104,       2350,   -29.9717,    -3.7933,       4097,  2993.6,  34.8718,2,  34.8720,2,-999.0000,9,   240.0,2,   51.01,2,   23.45,2,    0.00,2,    1.59,2,-999.000,9,-999.000,9,  2191.8,2,  2340.6,2,   796.6,2,  -999.0,9, -999.00,     2.3632,   2.1272,     -999.0,9
318M19881207,      SAVE4,     215,          2,         31,         31,2,19890104,       2350,   -29.9717,    -3.7933,       4097,  3201.5,  34.8739,2,  34.8750,2,-999.0000,9,   239.6,2,   51.50,2,   23.45,2,    0.00,2,    1.59,2,-999.000,9,   0.001,2,  2191.1,2,  2340.4,2,   794.3,2,  -999.0,9, -999.00,     2.3602,   2.1030,     -999.0,9
318M19881207,      SAVE4,     215,          2,         32,         32,2,19890104,       2350,   -29.9717,    -3.7933,       4097,  3407.6,  34.8770,2,  34.8760,2,-999.0000,9,   238.4,2,   51.60,2,   23.45,2,    0.00,2,    1.59,2,-999.000,9,-999.000,9,  2195.4,2,  2344.8,2,   795.9,2,  3412.5,2, -999.00,     2.3571,   2.0783,      2.355,2
318M19881207,      SAVE4,     215,          2,         33,         33,2,19890104,       2350,   -29.9717,    -3.7933,       4097,  3615.9,  34.8791,2,  34.8800,2,-999.0000,9,   237.4,2,   52.28,2,   23.45,2,    0.00,2,    1.59,2,-999.000,9,-999.000,9,  2204.9,2,  2357.3,2,   788.1,2,  -999.0,9, -999.00,     2.3647,   2.0633,     -999.0,9
318M19881207,      SAVE4,     215,          2,         34,         34,2,19890104,       2350,   -29.9717,    -3.7933,       4097,  3824.6,  34.8813,2,  34.8820,2,-999.0000,9,   236.7,2,   51.99,2,   23.36,2,    0.00,2,    1.60,2,-999.000,9,-999.000,9,  2198.0,2,  2349.4,2,   789.0,2,  -999.0,9, -999.00,     2.3689,   2.0443,     -999.0,9
318M19881207,      SAVE4,     215,          2,         35,         35,2,19890104,       2350,   -29.9717,    -3.7933,       4097,  4030.3,  34.8826,2,  34.8850,2,-999.0000,9,   235.7,2,   52.09,2,   23.45,2,    0.00,2,    1.61,2,-999.000,9,-999.000,9,  2203.5,2,  2355.8,2,   787.9,2,  4036.5,2, -999.00,     2.3847,   2.0363,      2.386,2
318M19881207,      SAVE4,     215,          2,         36,         36,2,19890104,       2350,   -29.9717,    -3.7933,       4097,  4153.2,  34.8825,2,  34.8840,2,-999.0000,9,   235.6,2,   52.77,2,   23.45,2,    0.00,2,    1.60,2,-999.000,9,-999.000,9,  2205.5,2,  2357.9,2,   788.9,2,  -999.0,9, -999.00,     2.3972,   2.0343,     -999.0,9