BOTTLE,20211025CCHSIORKP
EXPOCODE,SECT_ID,STNNBR,CASTNO,SAMPNO,BTLNBR,BTLNBR_FLAG_W,DATE,TIME,LATITUDE,LONGITUDE,DEPTH,CTDPRS,CTDSAL,CTDSAL_FLAG_W,SALNTY,SALNTY_FLAG_W,CTDOXY,CTDOXY_FLAG_W,OXYGEN,OXYGEN_FLAG_W,SILCAT,SILCAT_FLAG_W,NITRAT,NITRAT_FLAG_W,NITRIT,NITRIT_FLAG_W,PHSPHT,PHSPHT_FLAG_W,CFC-11,CFC-11_FLAG_W,CFC-12,CFC-12_FLAG_W,TCARBN,TCARBN_FLAG_W,ALKALI,ALKALI_FLAG_W,PCO2,PCO2_FLAG_W,REVPRS,REVPRS_FLAG_W,CTDRAW,CTDTMP,THETA,REVTMP,REVTMP_FLAG_W
,,,,,,,,,,,METERS,DBAR,PSS-78,,PSS-78,,UMOL/KG,,UMOL/KG,,UMOL/KG,,UMOL/KG,,UMOL/KG,,UMOL/KG,,PMOL/KG,,PMOL/KG,,UMOL/KG,,UMOL/KG,,UATM,,DBAR,,DBAR,ITS-68,DEG C,ITS-68,
318M19881207,      SAVE4,     200,          1,          1,          1,2,19881227,       1021,   -45.9450,   -18.3417,       3796,     2.8,  34.1122,2,  34.1140,2,-999.0000,9,   305.0,2,    1.39,2,   14.37,2,    0.17,2,    1.15,2,   4.055,2,   1.825,2,  2072.2,2,  2277.9,2,   524.1,2,  -999.0,9, -999.00,     7.7168,   7.7166,      7.712,2
318M19881207,      SAVE4,     200,          1,          2,          2,2,19881227,       1021,   -45.9450,   -18.3417,       3796,    45.8,  34.1171,2,  34.1300,2,-999.0000,9,   304.9,2,    1.38,2,   14.29,2,    0.17,2,    1.15,2,-999.000,9,-999.000,9,  2085.0,2,  2294.3,2,   520.2,2,  -999.0,9, -999.00,     7.7077,   7.7033,     -999.0,9
318M19881207,      SAVE4,     200,          1,          3,          3,2,19881227,       1021,   -45.9450,   -18.3417,       3796,    87.1,  34.1807,2,  34.1810,2,-999.0000,9,   294.8,2,    3.29,2,   15.22,2,    0.23,2,    1.29,2,-999.000,9,-999.000,9,  -999.0,9,  -999.0,9,  -999.0,9,  -999.0,9, -999.00,     6.9690,   6.9610,     -999.0,9
318M19881207,      SAVE4,     200,          1,          4,          4,2,19881227,       1021,   -45.9450,   -18.3417,       3796,   153.3,  34.1730,2,  34.1760,2,-999.0000,9,   293.6,2,    9.05,2,   22.02,2,    0.03,2,    1.58,2,-999.000,9,-999.000,9,  -999.0,9,  -999.0,9,  -999.0,9,  -999.0,9, -999.00,     4.8851,   4.8735,     -999.0,9
318M19881207,      SAVE4,     200,          1,          5,          5,2,19881227,       1021,   -45.9450,   -18.3417,       3796,   228.7,  34.1559,2,  34.1480,2,-999.0000,9,   282.6,2,   12.69,2,   24.87,2,    0.02,2,    1.76,2,   3.714,2,   1.693,2,  -999.0,9,  -999.0,9,  -999.0,9,  -999.0,9, -999.00,     4.2714,   4.2551,     -999.0,9
318M19881207,      SAVE4,     200,          1,          6,          6,2,19881227,       1021,   -45.9450,   -18.3417,       3796,   274.6,  34.1816,2,  34.1820,2,-999.0000,9,   272.7,2,   15.37,2,   26.25,2,    0.02,2,    1.85,2,   3.253,2,   1.485,2,  -999.0,9,  -999.0,9,  -999.0,9,  -999.0,9, -999.00,     4.0958,   4.0764,     -999.0,9
318M19881207,      SAVE4,     200,          1,          7,          7,2,19881227,       1021,   -45.9450,   -18.3417,       3796,   332.4,  34.1774,2,  34.1770,2,-999.0000,9,   273.4,2,   17.66,2,   26.91,2,    0.01,2,    1.89,2,   3.133,2,   1.438,2,  -999.0,9,  -999.0,9,  -999.0,9,  -999.0,9, -999.00,     3.8056,   3.7828,     -999.0,9
318M19881207,      SAVE4,     200,          1,          8,          8,2,19881227,       1021,   -45.9450,   -18.3417,       3796,   465.1,  34.1808,2,  34.1820,2,-999.0000,9,   265.5,2,   24.38,2,   28.73,2,    0.01,2,    2.02,2,   2.746,2,   1.249,2,  -999.0,9,  -999.0,9,  -999.0,9,  -999.0,9, -999.00,     3.1814,   3.1513,     -999.0,9
318M19881207,      SAVE4,     200,          1,          9,          9,2,19881227,       1021,   -45.9450,   -18.3417,       3796,   567.8,  34.2029,2,  34.2030,2,-999.0000,9,   255.9,2,   29.17,2,   29.86,2,    0.01,2,    2.10,2,   2.342,2,   1.057,2,  -999.0,9,  -999.0,9,  -999.0,9,  -999.0,9, -999.00,     2.9503,   2.9143,     -999.0,9
318M19881207,      SAVE4,     200,          1,         10,         10,2,19881227,       1021,   -45.9450,   -18.3417,       3796,   669.6,  34.2273,2,  34.2250,2,-999.0000,9,   246.6,2,   33.96,2,   30.65,2,    0.01,2,    2.18,2,   2.103,2,   0.956,2,  -999.0,9,  -999.0,9,  -999.0,9,  -999.0,9, -999.00,     2.7259,   2.6840,     -999.0,9
318M19881207,      SAVE4,     200,          1,         11,         11,2,19881227,       1021,   -45.9450,   -18.3417,       3796,   770.3,  34.2677,2,  34.2660,2,-999.0000,9,   234.0,2,   41.63,2,   31.78,2,    0.01,2,    2.24,2,-999.000,9,-999.000,9,  -999.0,9,  -999.0,9,  -999.0,9,  -999.0,9, -999.00,     2.5794,   2.5314,     -999.0,9
318M19881207,      SAVE4,     200,          1,         12,         12,2,19881227,       1021,   -45.9450,   -18.3417,       3796,   870.9,  34.3259,2,  34.3250,2,-999.0000,9,   216.7,2,   49.88,2,   32.92,2,    0.01,2,    2.32,2,   1.252,2,   0.548,2,  -999.0,9,  -999.0,9,  -999.0,9,  -999.0,9, -999.00,     2.5288,   2.4740,     -999.0,9
318M19881207,      SAVE4,     200,          1,         13,         13,2,19881227,       1021,   -45.9450,   -18.3417,       3796,   946.9,  34.3776,2,-999.0000,9,-999.0000,9,   203.4,2,   57.17,2,   33.53,2,    0.00,2,    2.37,2,-999.000,9,-999.000,9,  -999.0,9,  -999.0,9,  -999.0,9,  -999.0,9, -999.00,     2.4923,   2.4324,     -999.0,9
318M19881207,      SAVE4,     200,          1,         14,         14,2,19881227,       1021,   -45.9450,   -18.3417,       3796,  1024.3,  34.4409,2,  34.4430,2,-999.0000,9,   191.0,2,   61.82,2,   33.76,2,    0.00,2,    2.38,2,   0.520,2,   0.225,2,  -999.0,9,  -999.0,9,  -999.0,9,  -999.0,9, -999.00,     2.5810,   2.5148,     -999.0,9
318M19881207,      SAVE4,     200,          1,         15,         15,2,19881227,       1021,   -45.9450,   -18.3417,       3796,  1129.7,  34.5014,2,  34.5035,2,-999.0000,9,   183.3,2,   64.60,2,   33.76,2,    0.00,2,    2.38,2,-999.000,9,-999.000,9,  -999.0,9,  -999.0,9,  -999.0,9,  -999.0,9, -999.00,     2.5818,   2.5077,     -999.0,9
318M19881207,      SAVE4,     200,          1,         16,         16,2,19881227,       1021,   -45.9450,   -18.3417,       3796,  1230.0,  34.5449,2,  34.5476,2,-999.0000,9,   180.2,2,   70.34,2,   33.51,2,    0.00,2,    2.36,2,   0.256,2,   0.108,2,  -999.0,9,  -999.0,9,  -999.0,9,  -999.0,9, -999.00,     2.5452,   2.4637,     -999.0,9
318M19881207,      SAVE4,     200,          1,         17,         17,2,19881227,       1021,   -45.9450,   -18.3417,       3796,  1336.6,  34.5918,2,  34.5924,2,-999.0000,9,   179.1,2,   72.23,2,   33.17,2,    0.00,2,    2.33,2,   0.175,2,   0.060,2,  -999.0,9,  -999.0,9,  -999.0,9,  -999.0,9, -999.00,     2.5425,   2.4528,     -999.0,9
318M19881207,      SAVE4,     200,          1,         18,         18,2,19881227,       1021,   -45.9450,   -18.3417,       3796,  1437.6,  34.6531,2,  34.6526,2,-999.0000,9,   184.0,2,   68.70,2,   31.83,2,    0.00,2,    2.23,2,   0.091,2,   0.027,2,  -999.0,9,  -999.0,9,  -999.0,9,  -999.0,9, -999.00,     2.6382,   2.5394,     -999.0,9
318M19881207,      SAVE4,     200,          1,         19,         19,2,19881227,       1021,   -45.9450,   -18.3417,       3796,  1542.2,  34.6842,2,  34.6845,2,-999.0000,9,   184.1,2,   68.28,2,   30.97,2,    0.00,2,    2.18,2,-999.000,9,-999.000,9,  -999.0,9,  -999.0,9,  -999.0,9,  -999.0,9, -999.00,     2.6567,   2.5491,     -999.0,9
318M19881207,      SAVE4,     200,          1,         20,         20,2,19881227,       1021,   -45.9450,   -18.3417,       3796,  1644.9,  34.7156,2,  34.7176,2,-999.0000,9,   190.6,2,   68.44,2,   30.37,2,    0.00,2,    2.13,2,   0.056,2,   0.017,2,  -999.0,9,  -999.0,9,  -999.0,9,  -999.0,9, -999.00,     2.6432,   2.5272,     -999.0,9
318M19881207,      SAVE4,     200,          1,         21,         21,2,19881227,       1021,   -45.9450,   -18.3417,       3796,  1747.5,  34.7423,2,  34.7435,2,-999.0000,9,   196.4,2,   66.68,2,   29.51,2,    0.00,2,    2.07,2,-999.000,9,-999.000,9,  -999.0,9,  -999.0,9,  -999.0,9,  -999.0,9, -999.00,     2.6456,   2.5209,     -999.0,9
318M19881207,      SAVE4,     200,          1,         22,         22,2,19881227,       1021,   -45.9450,   -18.3417,       3796,  1852.0,  34.7773,2,  34.7786,2,-999.0000,9,   204.8,2,   62.42,2,   28.22,2,    0.00,2,    1.96,2,   0.032,2,   0.008,2,  -999.0,9,  -999.0,9,  -999.0,9,  -999.0,9, -999.00,     2.6899,   2.5555,     -999.0,9
318M19881207,      SAVE4,     200,          1,         23,         23,2,19881227,       1021,   -45.9450,   -18.3417,       3796,  1955.2,  34.7935,2,  34.7961,2,-999.0000,9,   207.5,2,   62.96,2,   27.79,2,    0.00,2,    1.93,2,-999.000,9,-999.000,9,  -999.0,9,  -999.0,9,  -999.0,9,  -999.0,9, -999.00,     2.6487,   2.5058,     -999.0,9
318M19881207,      SAVE4,     200,          1,         24,         24,2,19881227,       1021,   -45.9450,   -18.3417,       3796,  2060.9,  34.7983,2,  34.8038,2,-999.0000,9,   209.1,2,   64.12,2,   27.66,2,    0.00,2,    1.91,2,   0.025,2,   0.007,2,  -999.0,9,  -999.0,9,  -999.0,9,  -999.0,9, -999.00,     2.5711,   2.4200,     -999.0,9
318M19881207,      SAVE4,     200,          1,         25,         25,2,19881227,       1021,   -45.9450,   -18.3417,       3796,  2163.4,  34.7886,2,  34.7902,2,-999.0000,9,   206.7,2,   68.66,2,   28.11,2,    0.00,2,    1.93,2,   0.028,2,   0.006,2,  -999.0,9,  -999.0,9,  -999.0,9,  -999.0,9, -999.00,     2.4332,   2.2752,     -999.0,9
318M19881207,      SAVE4,     200,          1,         26,         26,2,19881227,       1021,   -45.9450,   -18.3417,       3796,  2267.0,  34.7823,2,  34.7827,2,-999.0000,9,   205.8,2,   73.62,2,   28.46,2,    0.00,2,    1.96,2,   0.032,2,   0.011,2,  -999.0,9,  -999.0,9,  -999.0,9,  -999.0,9, -999.00,     2.3025,   2.1374,     -999.0,9
318M19881207,      SAVE4,     200,          1,         27,         27,2,19881227,       1021,   -45.9450,   -18.3417,       3796,  2369.3,  34.7766,2,  34.7782,2,-999.0000,9,   205.5,2,   78.19,2,   29.03,2,    0.00,2,    1.99,2,-999.000,9,-999.000,9,  -999.0,9,  -999.0,9,  -999.0,9,  -999.0,9, -999.00,     2.1622,   1.9903,     -999.0,9
318M19881207,      SAVE4,     200,          1,         28,         28,2,19881227,       1021,   -45.9450,   -18.3417,       3796,  2475.4,  34.7755,2,  34.7778,2,-999.0000,9,   206.3,2,   79.89,2,   29.12,2,    0.00,2,    2.01,2,   0.034,2,   0.010,2,  -999.0,9,  -999.0,9,  -999.0,9,  -999.0,9, -999.00,     2.0846,   1.9044,     -999.0,9
318M19881207,      SAVE4,     200,          1,         29,         29,2,19881227,       1021,   -45.9450,   -18.3417,       3796,  2574.6,  34.7636,2,  34.7636,2,-999.0000,9,   204.5,2,   86.92,2,   29.70,2,    0.00,2,    2.05,2,-999.000,9,-999.000,9,  -999.0,9,  -999.0,9,  -999.0,9,  -999.0,9, -999.00,     1.8960,   1.7104,     -999.0,9
318M19881207,      SAVE4,     200,          1,         30,         30,2,19881227,       1021,   -45.9450,   -18.3417,       3796,  2680.7,  34.7527,2,  34.7542,2,-999.0000,9,   203.2,2,   91.43,2,   30.19,2,    0.00,2,    2.10,2,-999.000,9,-999.000,9,  -999.0,9,  -999.0,9,  -999.0,9,  -999.0,9, -999.00,     1.7365,   1.5443,     -999.0,9
318M19881207,      SAVE4,     200,          1,         31,         31,2,19881227,       1021,   -45.9450,   -18.3417,       3796,  2887.5,  34.7352,2,  34.7355,2,-999.0000,9,   203.0,2,  100.68,2,   30.98,2,    0.00,2,    2.16,2,-999.000,9,-999.000,9,  -999.0,9,  -999.0,9,  -999.0,9,  -999.0,9, -999.00,     1.4674,   1.2616,     -999.0,9
318M19881207,      SAVE4,     200,          1,         32,         32,2,19881227,       1021,   -45.9450,   -18.3417,       3796,  3096.9,  34.7195,2,  34.7203,2,-999.0000,9,   205.1,2,  108.91,2,   31.68,2,    0.00,2,    2.19,2,   0.080,2,   0.026,2,  -999.0,9,  -999.0,9,  -999.0,9,  3095.7,2, -999.00,     1.2028,   0.9832,      1.198,2
318M19881207,      SAVE4,     200,          1,         33,         33,2,19881227,       1021,   -45.9450,   -18.3417,       3796,  3303.2,  34.7110,2,  34.7103,2,-999.0000,9,   208.0,2,  112.15,2,   31.95,2,    0.00,2,    2.21,2,   0.080,2,   0.027,2,  -999.0,9,  -999.0,9,  -999.0,9,  -999.0,9, -999.00,     1.0189,   0.7840,     -999.0,9
318M19881207,      SAVE4,     200,          1,         34,         34,2,19881227,       1021,   -45.9450,   -18.3417,       3796,  3509.0,  34.7008,2,  34.7010,2,-999.0000,9,   212.0,2,  116.15,2,   32.35,2,    0.00,2,    2.26,2,-999.000,9,-999.000,9,  -999.0,9,  -999.0,9,  -999.0,9,  -999.0,9, -999.00,     0.8297,   0.5796,     -999.0,9
318M19881207,      SAVE4,     200,          1,         35,         35,2,19881227,       1021,   -45.9450,   -18.3417,       3796,  3713.8,  34.6961,2,  34.6967,2,-999.0000,9,   214.3,2,  117.85,2,   32.44,2,    0.00,2,    2.26,2,   0.093,2,   0.051,2,  -999.0,9,  -999.0,9,  -999.0,9,  3739.4,2, -999.00,     0.7247,   0.4570,      0.732,2
318M19881207,      SAVE4,     200,          1,         36,         36,2,19881227,       1021,   -45.9450,   -18.3417,       3796,  3828.8,  34.6894,2,  34.6890,2,-999.0000,9,   217.2,2,  120.89,2,   32.67,2,    0.00,2,    2.27,2,   0.101,2,   0.038,2,  -999.0,9,  -999.0,9,  -999.0,9,  -999.0,9, -999.00,     0.5887,   0.3132,     -999.0,9