BOTTLE,20211025CCHSIORKP
EXPOCODE,SECT_ID,STNNBR,CASTNO,SAMPNO,BTLNBR,BTLNBR_FLAG_W,DATE,TIME,LATITUDE,LONGITUDE,DEPTH,CTDPRS,CTDSAL,CTDSAL_FLAG_W,SALNTY,SALNTY_FLAG_W,CTDOXY,CTDOXY_FLAG_W,OXYGEN,OXYGEN_FLAG_W,SILCAT,SILCAT_FLAG_W,NITRAT,NITRAT_FLAG_W,NITRIT,NITRIT_FLAG_W,PHSPHT,PHSPHT_FLAG_W,CFC-11,CFC-11_FLAG_W,CFC-12,CFC-12_FLAG_W,TCARBN,TCARBN_FLAG_W,ALKALI,ALKALI_FLAG_W,PCO2,PCO2_FLAG_W,REVPRS,REVPRS_FLAG_W,CTDRAW,CTDTMP,THETA,REVTMP,REVTMP_FLAG_W
,,,,,,,,,,,METERS,DBAR,PSS-78,,PSS-78,,UMOL/KG,,UMOL/KG,,UMOL/KG,,UMOL/KG,,UMOL/KG,,UMOL/KG,,PMOL/KG,,PMOL/KG,,UMOL/KG,,UMOL/KG,,UATM,,DBAR,,DBAR,ITS-68,DEG C,ITS-68,
318M19881207,      SAVE4,     231,          2,         13,         13,2,19890112,       1448,   -30.0367,    13.0800,       3026,     2.2,  35.4834,2,  35.4860,2,-999.0000,9,   231.6,2,    3.32,2,    0.00,2,    0.00,2,    0.15,2,   2.031,2,   1.011,2,  2020.7,2,  2335.3,2,   323.0,2,  -999.0,9, -999.00,    21.4982,  21.4978,     -999.0,9
318M19881207,      SAVE4,     231,          2,         14,         14,2,19890112,       1448,   -30.0367,    13.0800,       3026,    45.5,  35.5166,2,  35.5170,2,-999.0000,9,   242.6,2,    2.93,2,    0.00,2,    0.00,2,    0.15,2,   2.176,2,   1.078,2,  2016.1,2,  2330.1,2,   322.6,2,  -999.0,9, -999.00,    18.6384,  18.6304,     -999.0,9
318M19881207,      SAVE4,     231,          2,         15,         15,2,19890112,       1448,   -30.0367,    13.0800,       3026,    86.5,  35.4215,2,  35.4230,2,-999.0000,9,   202.0,2,    6.45,2,    6.94,2,    0.02,2,    0.57,2,   1.933,2,   0.955,2,  -999.0,9,  -999.0,9,  -999.0,9,  -999.0,9, -999.00,    15.3349,  15.3216,     -999.0,9
318M19881207,      SAVE4,     231,          2,         16,         16,2,19890112,       1448,   -30.0367,    13.0800,       3026,   197.0,  35.0638,2,  35.0650,2,-999.0000,9,   211.2,2,    6.64,2,   11.63,2,    0.01,2,    0.84,2,   1.841,2,   0.890,2,  -999.0,9,  -999.0,9,  -999.0,9,  -999.0,9, -999.00,    12.3138,  12.2876,     -999.0,9
318M19881207,      SAVE4,     231,          2,         17,         17,2,19890112,       1448,   -30.0367,    13.0800,       3026,   257.8,  34.9135,2,  34.9150,2,-999.0000,9,   215.1,2,    6.94,2,   13.68,2,    0.00,2,    1.00,2,   1.779,2,   0.856,2,  -999.0,9,  -999.0,9,  -999.0,9,  -999.0,9, -999.00,    11.0938,  11.0618,     -999.0,9
318M19881207,      SAVE4,     231,          2,         18,         18,2,19890112,       1448,   -30.0367,    13.0800,       3026,   332.5,  34.7476,2,  34.7480,2,-999.0000,9,   202.0,2,   10.46,2,   18.47,2,    0.00,2,    1.29,2,   1.543,2,   0.740,2,  -999.0,9,  -999.0,9,  -999.0,9,  -999.0,9, -999.00,     9.5990,   9.5612,     -999.0,9
318M19881207,      SAVE4,     231,          2,         19,         19,2,19890112,       1448,   -30.0367,    13.0800,       3026,   417.9,  34.5889,2,  34.5900,2,-999.0000,9,   188.0,2,   15.54,2,   23.95,2,    0.00,2,    1.63,2,   1.254,2,   0.594,2,  -999.0,9,  -999.0,9,  -999.0,9,  -999.0,9, -999.00,     7.9570,   7.9145,     -999.0,9
318M19881207,      SAVE4,     231,          2,         20,         20,2,19890112,       1448,   -30.0367,    13.0800,       3026,   554.9,  34.4040,2,  34.4070,2,-999.0000,9,   211.9,2,   21.31,2,   27.08,2,    0.00,2,    1.82,2,   1.263,2,   0.574,2,  -999.0,9,  -999.0,9,  -999.0,9,  -999.0,9, -999.00,     5.8650,   5.8169,     -999.0,9
318M19881207,      SAVE4,     231,          2,         21,         21,2,19890112,       1448,   -30.0367,    13.0800,       3026,   630.7,  34.3436,2,  34.3470,2,-999.0000,9,   218.5,2,   25.32,2,   28.65,2,    0.00,2,    1.92,2,   1.138,2,   0.511,2,  -999.0,9,  -999.0,9,  -999.0,9,  -999.0,9, -999.00,     4.9239,   4.8736,     -999.0,9
318M19881207,      SAVE4,     231,          2,         22,         22,2,19890112,       1448,   -30.0367,    13.0800,       3026,   711.5,  34.3356,2,  34.3370,2,-999.0000,9,   212.7,2,   31.97,2,   30.41,2,    0.00,2,    2.03,2,   0.878,2,   0.395,2,  -999.0,9,  -999.0,9,  -999.0,9,  -999.0,9, -999.00,     4.2541,   4.2006,     -999.0,9
318M19881207,      SAVE4,     231,          2,         23,         23,2,19890112,       1448,   -30.0367,    13.0800,       3026,   834.3,  34.3764,2,  34.3790,2,-999.0000,9,   198.2,2,   43.21,2,   32.26,2,    0.00,2,    2.17,2,   0.493,2,   0.233,2,  -999.0,9,  -999.0,9,  -999.0,9,  -999.0,9, -999.00,     3.6270,   3.5675,     -999.0,9
318M19881207,      SAVE4,     231,          2,         24,         24,2,19890112,       1448,   -30.0367,    13.0800,       3026,   956.6,  34.4476,2,  34.4480,2,-999.0000,9,   181.0,2,   48.29,2,   33.43,2,    0.00,2,    2.25,2,   0.172,2,   0.093,2,  -999.0,9,  -999.0,9,  -999.0,9,  -999.0,9, -999.00,     3.4358,   3.3680,     -999.0,9
318M19881207,      SAVE4,     231,          2,         25,         25,2,19890112,       1448,   -30.0367,    13.0800,       3026,  1039.5,  34.4932,2,  34.4980,2,-999.0000,9,   177.7,2,   52.20,2,   33.33,2,    0.00,2,    2.24,2,   0.097,2,   0.078,2,  -999.0,9,  -999.0,9,  -999.0,9,  -999.0,9, -999.00,     3.3032,   3.2298,     -999.0,9
318M19881207,      SAVE4,     231,          2,         26,         26,2,19890112,       1448,   -30.0367,    13.0800,       3026,  1173.0,  34.5849,2,  34.5870,2,-999.0000,9,   178.3,2,   53.27,2,   32.35,2,    0.00,2,    2.17,2,   0.023,2,   0.015,2,  -999.0,9,  -999.0,9,  -999.0,9,  -999.0,9, -999.00,     3.2133,   3.1300,     -999.0,9
318M19881207,      SAVE4,     231,          2,         27,         27,2,19890112,       1448,   -30.0367,    13.0800,       3026,  1328.2,  34.6705,2,  34.6730,2,-999.0000,9,   185.5,2,   52.39,2,   30.69,2,    0.00,2,    2.04,2,   0.008,2,   0.005,2,  -999.0,9,  -999.0,9,  -999.0,9,  -999.0,9, -999.00,     3.1484,   3.0529,     -999.0,9
318M19881207,      SAVE4,     231,          2,         28,         28,2,19890112,       1448,   -30.0367,    13.0800,       3026,  1483.0,  34.7401,2,  34.7410,2,-999.0000,9,   193.5,2,   48.28,2,   28.93,2,    0.00,2,    1.89,2,   0.001,2,   0.002,2,  -999.0,9,  -999.0,9,  -999.0,9,  -999.0,9, -999.00,     3.1576,   3.0490,     -999.0,9
318M19881207,      SAVE4,     231,          2,         29,         29,2,19890112,       1448,   -30.0367,    13.0800,       3026,  1636.9,  34.8021,2,  34.8040,2,-999.0000,9,   205.1,2,   43.98,2,   26.97,2,    0.00,2,    1.76,2,-999.000,9,-999.000,9,  -999.0,9,  -999.0,9,  -999.0,9,  -999.0,9, -999.00,     3.1581,   3.0361,     -999.0,9
318M19881207,      SAVE4,     231,          2,         30,         30,2,19890112,       1448,   -30.0367,    13.0800,       3026,  1843.8,  34.8462,2,  34.8500,2,-999.0000,9,   216.1,2,   41.34,2,   25.31,2,    0.00,2,    1.64,2,   0.001,2,   0.002,2,  -999.0,9,  -999.0,9,  -999.0,9,  -999.0,9, -999.00,     3.0945,   2.9550,     -999.0,9
318M19881207,      SAVE4,     231,          2,         31,         31,2,19890112,       1448,   -30.0367,    13.0800,       3026,  2049.2,  34.8643,2,  34.8670,2,-999.0000,9,   223.7,2,   41.05,2,   24.53,2,    0.00,2,    1.58,2,-999.000,9,-999.000,9,  -999.0,9,  -999.0,9,  -999.0,9,  -999.0,9, -999.00,     3.0030,   2.8462,     -999.0,9
318M19881207,      SAVE4,     231,          2,         32,         32,2,19890112,       1448,   -30.0367,    13.0800,       3026,  2258.8,  34.8709,2,  34.8740,2,-999.0000,9,   227.7,2,   42.80,2,   24.04,2,    0.00,2,    1.55,2,   0.000,2,-999.000,9,  -999.0,9,  -999.0,9,  -999.0,9,  2263.4,2, -999.00,     2.8721,   2.6979,      2.872,2
318M19881207,      SAVE4,     231,          2,         33,         33,2,19890112,       1448,   -30.0367,    13.0800,       3026,  2466.5,  34.8727,2,  34.8740,2,-999.0000,9,   229.7,2,   44.95,2,   23.94,2,    0.00,2,    1.55,2,-999.000,9,-999.000,9,  -999.0,9,  -999.0,9,  -999.0,9,  -999.0,9, -999.00,     2.7485,   2.5567,     -999.0,9
318M19881207,      SAVE4,     231,          2,         34,         34,2,19890112,       1448,   -30.0367,    13.0800,       3026,  2675.7,  34.8729,2,-999.0000,9,-999.0000,9,  -999.0,9, -999.00,9, -999.00,9, -999.00,9, -999.00,9,-999.000,9,-999.000,9,  -999.0,9,  -999.0,9,  -999.0,9,  -999.0,9, -999.00,     2.6306,   2.4207,     -999.0,9
318M19881207,      SAVE4,     231,          2,         35,         35,2,19890112,       1448,   -30.0367,    13.0800,       3026,  2884.0,  34.8708,2,  34.8720,2,-999.0000,9,   231.8,2,   49.65,2,   23.85,2,    0.00,2,    1.54,2,-999.000,9,-999.000,9,  -999.0,9,  -999.0,9,  -999.0,9,  2883.2,2, -999.00,     2.5279,   2.2994,      2.528,2
318M19881207,      SAVE4,     231,          2,         36,         36,2,19890112,       1448,   -30.0367,    13.0800,       3026,  3044.6,  34.8690,2,  34.8700,2,-999.0000,9,   228.4,2,   52.87,2,   24.04,2,    0.00,2,    1.54,2,   0.003,2,   0.002,2,  -999.0,9,  -999.0,9,  -999.0,9,  -999.0,9, -999.00,     2.4403,   2.1974,     -999.0,9
318M19881207,      SAVE4,     232,          1,         13,         13,2,19890112,       2139,   -29.9917,    13.8117,       2579,     2.4,  35.5535,2,  35.5540,2,-999.0000,9,   229.6,2,    3.13,2,    0.10,2,    0.00,2,    0.16,2,   2.078,2,   1.045,2,  2017.9,2,  2335.9,2,   318.6,2,  -999.0,9, -999.00,    20.9934,  20.9930,     -999.0,9
318M19881207,      SAVE4,     232,          1,         14,         14,2,19890112,       2139,   -29.9917,    13.8117,       2579,    37.3,  35.5199,2,  35.5160,2,-999.0000,9,   239.9,2,    3.42,2,    0.10,2,    0.00,2,    0.18,2,-999.000,9,-999.000,9,  2015.9,2,  2332.0,2,   320.2,2,  -999.0,9, -999.00,    18.5460,  18.5394,     -999.0,9
318M19881207,      SAVE4,     232,          1,         15,         15,2,19890112,       2139,   -29.9917,    13.8117,       2579,    89.3,  35.4087,2,  35.4050,2,-999.0000,9,   212.4,2,    5.47,2,    5.67,2,    0.02,2,    0.52,2,   2.153,2,   1.054,2,  2071.0,2,  2325.9,2,   429.9,2,  -999.0,9, -999.00,    15.4169,  15.4032,     -999.0,9
318M19881207,      SAVE4,     232,          1,         16,         16,2,19890112,       2139,   -29.9917,    13.8117,       2579,   172.9,  35.1677,2,  35.1680,2,-999.0000,9,   204.9,2,    6.74,2,   10.75,2,    0.01,2,    0.81,2,   1.798,2,   0.876,2,  2095.7,2,  2311.3,2,   521.8,2,  -999.0,9, -999.00,    13.0679,  13.0440,     -999.0,9
318M19881207,      SAVE4,     232,          1,         17,         17,2,19890112,       2139,   -29.9917,    13.8117,       2579,   255.5,  34.9591,2,  34.9630,2,-999.0000,9,   213.1,2,    6.16,2,   13.09,2,    0.01,2,    0.97,2,   1.821,2,   0.875,2,  2104.1,2,  2305.2,2,   561.0,2,  -999.0,9, -999.00,    11.4387,  11.4063,     -999.0,9
318M19881207,      SAVE4,     232,          1,         18,         18,2,19890112,       2139,   -29.9917,    13.8117,       2579,   309.3,  34.8075,2,  34.8040,2,-999.0000,9,   196.6,2,    9.97,2,   17.98,2,    0.00,2,    1.27,2,   1.570,2,   0.722,2,  2126.6,2,  2295.5,2,   672.8,2,  -999.0,9, -999.00,    10.1074,  10.0711,     -999.0,9
318M19881207,      SAVE4,     232,          1,         19,         19,2,19890112,       2139,   -29.9917,    13.8117,       2579,   422.1,  34.5554,2,  34.5560,2,-999.0000,9,   202.2,2,   15.05,2,   23.56,2,    0.00,2,    1.61,2,   1.339,2,   0.619,2,  2147.1,2,  2291.7,2,   780.2,2,  -999.0,9, -999.00,     7.6749,   7.6328,     -999.0,9
318M19881207,      SAVE4,     232,          1,         20,         20,2,19890112,       2139,   -29.9917,    13.8117,       2579,   529.8,  34.4229,2,  34.4220,2,-999.0000,9,   213.5,2,   20.53,2,   26.88,2,    0.00,2,    1.83,2,   1.247,2,   0.573,2,  2161.4,2,  2292.8,2,   851.3,2,  -999.0,9, -999.00,     6.0759,   6.0293,     -999.0,9
318M19881207,      SAVE4,     232,          1,         21,         21,2,19890112,       2139,   -29.9917,    13.8117,       2579,   628.6,  34.3499,2,  34.3480,2,-999.0000,9,   216.1,2,   25.91,2,   28.94,2,    0.00,2,    1.96,2,   1.106,2,   0.505,2,  2168.8,2,  2293.5,2,   891.2,2,  -999.0,9, -999.00,     4.8718,   4.8219,     -999.0,9
318M19881207,      SAVE4,     232,          1,         22,         22,2,19890112,       2139,   -29.9917,    13.8117,       2579,   718.7,  34.3449,2,  34.3450,2,-999.0000,9,   209.5,2,   31.87,2,   30.70,2,    0.00,2,    2.08,2,   0.812,2,   0.375,2,  2184.5,2,  2298.0,2,   966.7,2,  -999.0,9, -999.00,     4.2742,   4.2200,     -999.0,9
318M19881207,      SAVE4,     232,          1,         23,         23,2,19890112,       2139,   -29.9917,    13.8117,       2579,   852.7,  34.3844,2,  34.3850,2,-999.0000,9,   191.7,2,   40.38,2,   32.75,2,    0.00,2,    2.22,2,   0.445,2,   0.219,2,  2200.5,2,  2304.2,2,  1042.7,2,  -999.0,9, -999.00,     3.8066,   3.7445,     -999.0,9
318M19881207,      SAVE4,     232,          1,         24,         24,2,19890112,       2139,   -29.9917,    13.8117,       2579,   981.2,  34.4411,2,  34.4400,2,-999.0000,9,   183.9,2,   49.47,2,   33.34,2,    0.00,2,    2.27,2,   0.249,2,   0.135,2,  2214.7,2,  2314.1,2,  1084.3,2,  -999.0,9, -999.00,     3.4838,   3.4138,     -999.0,9
318M19881207,      SAVE4,     232,          1,         25,         25,2,19890112,       2139,   -29.9917,    13.8117,       2579,  1127.3,  34.5050,2,  34.5050,2,-999.0000,9,   182.5,2,   56.80,2,   33.43,2,    0.00,2,    2.27,2,   0.127,2,   0.069,2,  2224.1,2,  2321.9,2,  1104.6,2,  -999.0,9, -999.00,     3.1541,   3.0751,     -999.0,9
318M19881207,      SAVE4,     232,          1,         26,         26,2,19890112,       2139,   -29.9917,    13.8117,       2579,  1231.8,  34.5898,2,  34.5910,2,-999.0000,9,   179.1,2,   55.33,2,   32.45,2,    0.00,2,    2.19,2,   0.029,2,   0.019,2,  2222.1,2,  2322.1,2,  1088.0,2,  -999.0,9, -999.00,     3.1171,   3.0300,     -999.0,9
318M19881207,      SAVE4,     232,          1,         27,         27,2,19890112,       2139,   -29.9917,    13.8117,       2579,  1337.1,  34.6353,2,  34.6350,2,-999.0000,9,   182.1,2,   57.47,2,   31.67,2,    0.00,2,    2.14,2,   0.021,2,   0.017,2,  2223.3,2,  2328.6,2,  1054.2,2,  -999.0,9, -999.00,     3.0002,   2.9056,     -999.0,9
318M19881207,      SAVE4,     232,          1,         28,         28,2,19890112,       2139,   -29.9917,    13.8117,       2579,  1440.9,  34.7112,2,  34.7130,2,-999.0000,9,   190.3,2,   51.51,2,   29.81,2,    0.00,2,    2.02,2,   0.007,2,   0.005,2,  2213.7,2,  2325.4,2,  1006.0,2,  -999.0,9, -999.00,     3.0931,   2.9888,     -999.0,9
318M19881207,      SAVE4,     232,          1,         29,         29,2,19890112,       2139,   -29.9917,    13.8117,       2579,  1544.8,  34.7680,2,  34.7640,2,-999.0000,9,   198.6,2,   47.89,2,   28.25,2,    0.00,2,    1.91,2,   0.004,2,-999.000,9,  2204.9,2,  2323.0,2,   961.2,2,  -999.0,9, -999.00,     3.1141,   3.0007,     -999.0,9
318M19881207,      SAVE4,     232,          1,         30,         30,2,19890112,       2139,   -29.9917,    13.8117,       2579,  1697.6,  34.8142,2,  34.8120,2,-999.0000,9,   209.0,2,   43.88,2,   26.68,2,    0.00,2,    1.80,2,-999.000,9,-999.000,9,  2197.1,2,  2323.9,2,   907.1,2,  -999.0,9, -999.00,     3.1191,   2.9923,     -999.0,9
318M19881207,      SAVE4,     232,          1,         31,         31,2,19890112,       2139,   -29.9917,    13.8117,       2579,  1849.5,  34.8425,2,-999.0000,9,-999.0000,9,   216.0,2,   42.02,2,   25.51,2,    0.00,2,    1.71,2,-999.000,9,-999.000,9,  2190.3,2,  2323.3,2,   869.9,2,  -999.0,9, -999.00,     3.0791,   2.9394,     -999.0,9
318M19881207,      SAVE4,     232,          1,         32,         32,2,19890112,       2139,   -29.9917,    13.8117,       2579,  1999.4,  34.8587,2,-999.0000,9,-999.0000,9,   221.2,2,   41.83,2,   24.82,2,    0.00,2,    1.66,2,-999.000,9,-999.000,9,  2192.2,2,  2328.7,2,   853.3,2,  2000.7,2, -999.00,     3.0092,   2.8568,      3.009,2
318M19881207,      SAVE4,     232,          1,         33,         33,2,19890112,       2139,   -29.9917,    13.8117,       2579,  2147.3,  34.8723,2,  34.8760,2,-999.0000,9,   225.5,2,   41.63,2,   24.14,2,    0.00,2,    1.63,2,-999.000,9,-999.000,9,  2188.9,2,  2327.5,2,   841.2,2,  -999.0,9, -999.00,     2.9363,   2.7714,     -999.0,9
318M19881207,      SAVE4,     232,          1,         34,         34,2,19890112,       2139,   -29.9917,    13.8117,       2579,  2301.4,  34.8731,2,  34.8740,2,-999.0000,9,   229.0,2,   44.17,2,   24.04,2,    0.00,2,    1.60,2,-999.000,9,-999.000,9,  2190.0,2,  2331.8,2,   826.7,2,  -999.0,9, -999.00,     2.8034,   2.6263,     -999.0,9
318M19881207,      SAVE4,     232,          1,         35,         35,2,19890112,       2139,   -29.9917,    13.8117,       2579,  2455.1,  34.8755,2,  34.8750,2,-999.0000,9,   230.3,2,   44.86,2,   23.94,2,    0.00,2,    1.60,2,   0.000,2,   0.000,2,  2192.4,2,  2338.3,2,   809.3,2,  2454.9,2, -999.00,     2.7164,   2.5263,      2.709,2
318M19881207,      SAVE4,     232,          1,         36,         36,2,19890112,       2139,   -29.9917,    13.8117,       2579,  2582.1,  34.8762,2,  34.8770,2,-999.0000,9,   230.3,2,   47.40,2,   23.85,2,    0.00,2,    1.62,2,   0.000,2,   0.000,2,  2193.4,2,  2337.6,2,   818.3,2,  -999.0,9, -999.00,     2.6645,   2.4630,     -999.0,9