BOTTLE,20211025CCHSIORKP
EXPOCODE,SECT_ID,STNNBR,CASTNO,SAMPNO,BTLNBR,BTLNBR_FLAG_W,DATE,TIME,LATITUDE,LONGITUDE,DEPTH,CTDPRS,CTDSAL,CTDSAL_FLAG_W,SALNTY,SALNTY_FLAG_W,CTDOXY,CTDOXY_FLAG_W,OXYGEN,OXYGEN_FLAG_W,SILCAT,SILCAT_FLAG_W,NITRAT,NITRAT_FLAG_W,NITRIT,NITRIT_FLAG_W,PHSPHT,PHSPHT_FLAG_W,CFC-11,CFC-11_FLAG_W,CFC-12,CFC-12_FLAG_W,TCARBN,TCARBN_FLAG_W,ALKALI,ALKALI_FLAG_W,PCO2,PCO2_FLAG_W,REVPRS,REVPRS_FLAG_W,CTDRAW,CTDTMP,THETA,REVTMP,REVTMP_FLAG_W
,,,,,,,,,,,METERS,DBAR,PSS-78,,PSS-78,,UMOL/KG,,UMOL/KG,,UMOL/KG,,UMOL/KG,,UMOL/KG,,UMOL/KG,,PMOL/KG,,PMOL/KG,,UMOL/KG,,UMOL/KG,,UATM,,DBAR,,DBAR,ITS-68,DEG C,ITS-68,
318M19881207,      SAVE4,     230,          2,          1,          1,2,19890112,       0150,   -30.0117,    12.3750,       3720,     1.0,  35.4422,2,  35.4421,2,-999.0000,9,  -999.0,9,    2.93,2,    0.00,2,    0.00,2,    0.19,2,   2.059,2,   1.019,2,  2015.5,2,  2327.2,2,   324.8,2,  -999.0,9, -999.00,    20.9574,  20.9572,     20.935,2
318M19881207,      SAVE4,     230,          2,          2,          2,2,19890112,       0150,   -30.0117,    12.3750,       3720,    45.7,  35.4561,2,  35.4511,2,-999.0000,9,   242.6,2,    3.13,2,    0.00,2,    0.02,2,    0.19,2,-999.000,9,-999.000,9,  2020.6,2,  2328.0,2,   331.8,2,  -999.0,9, -999.00,    18.8849,  18.8768,     -999.0,9
318M19881207,      SAVE4,     230,          2,          3,          3,2,19890112,       0150,   -30.0117,    12.3750,       3720,    85.6,  35.3986,2,  35.4003,2,-999.0000,9,   223.7,2,    3.91,2,    4.40,2,    0.10,2,    0.45,2,   2.353,2,   1.164,2,  2057.4,2,  2320.8,2,   409.5,2,  -999.0,9, -999.00,    15.3730,  15.3598,     -999.0,9
318M19881207,      SAVE4,     230,          2,          4,          4,2,19890112,       0150,   -30.0117,    12.3750,       3720,   158.3,  35.2183,2,  35.2130,2,-999.0000,9,   219.3,2,    4.69,2,    7.43,2,    0.02,2,    0.63,2,   2.274,2,   1.034,2,  2075.5,2,  2309.7,2,   470.8,2,  -999.0,9, -999.00,    13.8436,  13.8209,     -999.0,9
318M19881207,      SAVE4,     230,          2,          5,          5,2,19890112,       0150,   -30.0117,    12.3750,       3720,   200.1,  35.1122,2,  35.1092,2,-999.0000,9,   216.7,2,    5.08,2,    9.38,2,    0.02,2,    0.74,2,   2.205,2,   1.057,2,  2089.2,2,  2311.2,2,   502.4,2,  -999.0,9, -999.00,    12.9820,  12.9544,     -999.0,9
318M19881207,      SAVE4,     230,          2,          6,          6,2,19890112,       0150,   -30.0117,    12.3750,       3720,   284.5,  34.9578,2,  34.9559,2,-999.0000,9,   205.3,2,    6.94,2,   13.97,2,    0.01,2,    1.01,2,   1.760,2,   0.846,2,  2106.3,2,  2300.2,2,   582.7,2,  -999.0,9, -999.00,    11.4147,  11.3787,     -999.0,9
318M19881207,      SAVE4,     230,          2,          7,          7,2,19890112,       0150,   -30.0117,    12.3750,       3720,   353.7,  34.7965,2,  34.7972,2,-999.0000,9,   201.8,2,    9.58,2,   17.49,2,    0.00,2,    1.23,2,   1.528,2,   0.730,2,  2122.8,2,  2295.2,2,   658.1,2,  -999.0,9, -999.00,    10.0324,   9.9911,     -999.0,9
318M19881207,      SAVE4,     230,          2,          8,          8,2,19890112,       0150,   -30.0117,    12.3750,       3720,   461.0,  34.5767,2,  34.5759,2,-999.0000,9,   196.1,2,   15.35,2,   23.46,2,    0.00,2,    1.61,2,   1.317,2,   0.622,2,  2141.6,2,  2283.4,2,   790.0,2,  -999.0,9, -999.00,     7.8967,   7.8499,     -999.0,9
318M19881207,      SAVE4,     230,          2,          9,          9,2,19890112,       0150,   -30.0117,    12.3750,       3720,   560.0,  34.4183,2,  34.4184,2,-999.0000,9,   208.7,2,   20.63,2,   26.98,2,    0.00,2,    1.83,2,   1.214,2,   0.569,2,  2159.7,2,  2288.9,2,   861.1,2,  -999.0,9, -999.00,     6.0509,   6.0016,     -999.0,9
318M19881207,      SAVE4,     230,          2,         10,         10,2,19890112,       0150,   -30.0117,    12.3750,       3720,   665.6,  34.3451,2,  34.3456,2,-999.0000,9,   215.6,2,   25.91,2,   28.94,2,    0.00,2,    1.96,2,   1.097,2,   0.505,2,  2170.8,2,  2294.9,2,   895.4,2,  -999.0,9, -999.00,     4.8178,   4.7651,     -999.0,9
318M19881207,      SAVE4,     230,          2,         11,         11,2,19890112,       0150,   -30.0117,    12.3750,       3720,   761.9,  34.3497,2,  34.3492,2,-999.0000,9,   205.2,2,   33.53,2,   30.99,2,    0.00,2,    2.10,2,   0.746,2,   0.341,2,  2183.4,2,  2295.9,2,   972.5,2,  -999.0,9, -999.00,     4.2263,   4.1688,     -999.0,9
318M19881207,      SAVE4,     230,          2,         12,         12,2,19890112,       0150,   -30.0117,    12.3750,       3720,   861.6,  34.3712,2,  34.3704,2,-999.0000,9,   200.0,2,   41.26,2,   32.16,2,    0.00,2,    2.19,2,   0.535,2,   0.256,2,  2197.3,2,  2304.9,2,  1014.4,2,  -999.0,9, -999.00,     3.7436,   3.6812,     -999.0,9
318M19881207,      SAVE4,     230,          2,         13,         13,2,19890112,       0150,   -30.0117,    12.3750,       3720,   974.6,  34.4296,2,  34.4288,2,-999.0000,9,   189.1,2,   51.52,2,   33.14,2,    0.00,2,    2.25,2,   0.324,2,   0.160,2,  2210.3,2,  2311.8,2,  1066.7,2,  -999.0,9, -999.00,     3.4149,   3.3459,     -999.0,9
318M19881207,      SAVE4,     230,          2,         14,         14,2,19890112,       0150,   -30.0117,    12.3750,       3720,  1009.2,  34.4503,2,  34.4498,2,-999.0000,9,   185.2,2,   54.55,2,   33.24,2,    0.00,2,    2.28,2,   0.279,2,   0.138,2,  2215.0,2,  2315.4,2,  1078.7,2,  -999.0,9, -999.00,     3.3689,   3.2975,     -999.0,9
318M19881207,      SAVE4,     230,          2,         15,         15,2,19890112,       0150,   -30.0117,    12.3750,       3720,  1109.6,  34.5091,2,  34.5036,2,-999.0000,9,   179.9,2,   59.34,2,   33.53,2,    0.00,2,    2.28,2,   0.120,2,   0.066,2,  2218.3,2,  2316.2,2,  1100.2,2,  -999.0,9, -999.00,     3.0732,   2.9962,     -999.0,9
318M19881207,      SAVE4,     230,          2,         16,         16,2,19890112,       0150,   -30.0117,    12.3750,       3720,  1211.0,  34.5649,2,  34.5635,2,-999.0000,9,   178.2,2,   62.56,2,   33.14,2,    0.00,2,    2.26,2,   0.066,2,   0.037,2,  2221.3,2,  2319.0,2,  1105.3,2,  -999.0,9, -999.00,     2.9572,   2.8733,     -999.0,9
318M19881207,      SAVE4,     230,          2,         17,         17,2,19890112,       0150,   -30.0117,    12.3750,       3720,  1309.1,  34.6323,2,  34.6315,2,-999.0000,9,   184.7,2,   61.48,2,   31.87,2,    0.00,2,    2.17,2,   0.026,2,   0.022,2,  2221.4,2,  2324.9,2,  1065.6,2,  -999.0,9, -999.00,     2.8923,   2.8011,     -999.0,9
318M19881207,      SAVE4,     230,          2,         18,         18,2,19890112,       0150,   -30.0117,    12.3750,       3720,  1411.5,  34.6873,2,  34.6859,2,-999.0000,9,   188.6,2,   59.23,2,   30.69,2,    0.00,2,    2.08,2,-999.000,9,-999.000,9,  2218.5,2,  2326.8,2,  1031.9,2,  -999.0,9, -999.00,     2.9063,   2.8065,     -999.0,9
318M19881207,      SAVE4,     230,          2,         19,         19,2,19890112,       0150,   -30.0117,    12.3750,       3720,  1511.7,  34.7260,2,  34.7215,2,-999.0000,9,   193.8,2,   57.96,2,   29.61,2,    0.00,2,    2.00,2,-999.000,9,-999.000,9,  2214.8,2,  2328.1,2,   997.8,2,  -999.0,9, -999.00,     2.8563,   2.7488,     -999.0,9
318M19881207,      SAVE4,     230,          2,         20,         20,2,19890112,       0150,   -30.0117,    12.3750,       3720,  1611.7,  34.7692,2,  34.7675,2,-999.0000,9,   202.5,2,   52.58,2,   28.15,2,    0.00,2,    1.90,2,   0.004,2,   0.008,2,  2209.3,2,  2329.8,2,   950.6,2,  -999.0,9, -999.00,     2.8983,   2.7818,     -999.0,9
318M19881207,      SAVE4,     230,          2,         21,         21,2,19890112,       0150,   -30.0117,    12.3750,       3720,  1710.1,  34.8084,2,  34.8070,2,-999.0000,9,   210.3,2,   47.01,2,   26.78,2,    0.00,2,    1.80,2,-999.000,9,-999.000,9,  2200.9,2,  2327.1,2,   912.7,2,  -999.0,9, -999.00,     2.9602,   2.8344,     -999.0,9
318M19881207,      SAVE4,     230,          2,         22,         22,2,19890112,       0150,   -30.0117,    12.3750,       3720,  1809.9,  34.8275,2,  34.8288,2,-999.0000,9,   217.7,2,   45.54,2,   25.90,2,    0.00,2,    1.75,2,-999.000,9,-999.000,9,  2195.2,2,  2327.5,2,   877.1,2,  -999.0,9, -999.00,     2.9333,   2.7990,     -999.0,9
318M19881207,      SAVE4,     230,          2,         23,         23,2,19890112,       0150,   -30.0117,    12.3750,       3720,  1908.6,  34.8473,2,  34.8456,2,-999.0000,9,   220.7,2,   45.05,2,   25.21,2,    0.00,2,    1.69,2,   0.002,2,-999.000,9,  2189.5,2,  2325.2,2,   856.5,2,  -999.0,9, -999.00,     2.9053,   2.7627,     -999.0,9
318M19881207,      SAVE4,     230,          2,         24,         24,2,19890112,       0150,   -30.0117,    12.3750,       3720,  2011.3,  34.8563,2,  34.8536,2,-999.0000,9,   224.2,2,   44.47,2,   24.73,2,    0.00,2,    1.65,2,-999.000,9,-999.000,9,  2190.6,2,  2329.0,2,   843.3,2,  -999.0,9, -999.00,     2.8673,   2.7160,     -999.0,9
318M19881207,      SAVE4,     230,          2,         25,         25,2,19890112,       0150,   -30.0117,    12.3750,       3720,  2114.2,  34.8619,2,  34.8580,2,-999.0000,9,   226.8,2,   44.56,2,   24.33,2,    0.00,2,    1.63,2,-999.000,9,-999.000,9,  2184.6,2,  2324.0,2,   834.9,2,  -999.0,9, -999.00,     2.8094,   2.6496,     -999.0,9
318M19881207,      SAVE4,     230,          2,         26,         26,2,19890112,       0150,   -30.0117,    12.3750,       3720,  2217.5,  34.8624,2,  34.8599,2,-999.0000,9,   228.5,2,   45.64,2,   24.33,2,    0.00,2,    1.62,2,   0.001,2,-999.000,9,  2188.6,2,  2331.6,2,   820.3,2,  -999.0,9, -999.00,     2.7284,   2.5605,     -999.0,9
318M19881207,      SAVE4,     230,          2,         27,         27,2,19890112,       0150,   -30.0117,    12.3750,       3720,  2322.2,  34.8595,2,  34.8572,2,-999.0000,9,   229.0,2,   47.79,2,   24.33,2,    0.00,2,    1.63,2,-999.000,9,-999.000,9,  2202.5,2,  2344.2,2,   834.8,2,  -999.0,9, -999.00,     2.6445,   2.4682,     -999.0,9
318M19881207,      SAVE4,     230,          2,         28,         28,2,19890112,       0150,   -30.0117,    12.3750,       3720,  2427.6,  34.8592,2,  34.8554,2,-999.0000,9,   229.8,2, -999.00,9, -999.00,9, -999.00,9, -999.00,9,-999.000,9,-999.000,9,  2184.6,2,  -999.0,9,   820.4,2,  -999.0,9, -999.00,     2.5756,   2.3906,     -999.0,9
318M19881207,      SAVE4,     230,          2,         29,         29,2,19890112,       0150,   -30.0117,    12.3750,       3720,  2533.4,  34.8565,2,  34.8548,2,-999.0000,9,   230.7,2,   51.21,2,   24.53,2,    0.00,2,    1.64,2,   0.003,2,   0.001,2,  2192.4,2,  2350.1,2,   758.8,2,  -999.0,9, -999.00,     2.5196,   2.3257,     -999.0,9
318M19881207,      SAVE4,     230,          2,         30,         30,2,19890112,       0150,   -30.0117,    12.3750,       3720,  2639.7,  34.8570,2,  34.8576,2,-999.0000,9,   231.2,2,   52.77,2,   24.43,2,    0.00,2,    1.66,2,-999.000,9,-999.000,9,  2186.9,2,  2328.4,3,   828.0,2,  -999.0,9, -999.00,     2.4736,   2.2704,     -999.0,9
318M19881207,      SAVE4,     230,          2,         31,         31,2,19890112,       0150,   -30.0117,    12.3750,       3720,  2746.3,  34.8530,2,-999.0000,9,-999.0000,9,  -999.0,9, -999.00,9, -999.00,9, -999.00,9, -999.00,9,-999.000,9,-999.000,9,  -999.0,9,  -999.0,9,  -999.0,9,  -999.0,9, -999.00,     2.4087,   2.1964,     -999.0,9
318M19881207,      SAVE4,     230,          2,         32,         32,2,19890112,       0150,   -30.0117,    12.3750,       3720,  2959.0,  34.8561,2,-999.0000,9,-999.0000,9,   232.0,2,   55.22,2,   24.53,2,    0.00,2,    1.62,2,   0.001,2,   0.001,2,  2198.3,2,  2342.2,2,   823.0,2,  2959.9,2, -999.00,     2.3527,   2.1205,      2.355,2
318M19881207,      SAVE4,     230,          2,         33,         33,2,19890112,       0150,   -30.0117,    12.3750,       3720,  3181.6,  34.8564,2,  34.8552,2,-999.0000,9,   232.0,2,   56.59,2,   24.53,2,    0.00,2,    1.63,2,-999.000,9,-999.000,9,  2201.3,2,  2346.1,2,   820.9,2,  -999.0,9, -999.00,     2.2908,   2.0373,     -999.0,9
318M19881207,      SAVE4,     230,          2,         34,         34,2,19890112,       0150,   -30.0117,    12.3750,       3720,  3394.1,  34.8492,2,  34.8501,2,-999.0000,9,   231.6,2,   60.59,2,   24.92,2,    0.00,2,    1.66,2,-999.000,9,-999.000,9,  2201.7,2,  2344.4,2,   831.4,2,  -999.0,9, -999.00,     2.2089,   1.9352,     -999.0,9
318M19881207,      SAVE4,     230,          2,         35,         35,2,19890112,       0150,   -30.0117,    12.3750,       3720,  3607.2,  34.8266,2,  34.8277,2,-999.0000,9,   227.7,2,   70.17,2,   26.00,2,    0.00,2,    1.74,2,-999.000,9,-999.000,9,  2209.3,2,  2351.5,2,   840.1,2,  -999.0,9, -999.00,     1.9940,   1.7033,     -999.0,9
318M19881207,      SAVE4,     230,          2,         36,         36,2,19890112,       0150,   -30.0117,    12.3750,       3720,  3763.6,  34.7982,2,  34.7982,2,-999.0000,9,   222.5,2,   83.27,2,   27.66,2,    0.00,2,    1.86,2,   0.000,2,-999.000,9,  2222.2,2,  2355.8,2,   892.5,2,  -999.0,9, -999.00,     1.7173,   1.4172,     -999.0,9