BOTTLE,20211025CCHSIORKP
EXPOCODE,SECT_ID,STNNBR,CASTNO,SAMPNO,BTLNBR,BTLNBR_FLAG_W,DATE,TIME,LATITUDE,LONGITUDE,DEPTH,CTDPRS,CTDSAL,CTDSAL_FLAG_W,SALNTY,SALNTY_FLAG_W,CTDOXY,CTDOXY_FLAG_W,OXYGEN,OXYGEN_FLAG_W,SILCAT,SILCAT_FLAG_W,NITRAT,NITRAT_FLAG_W,NITRIT,NITRIT_FLAG_W,PHSPHT,PHSPHT_FLAG_W,CFC-11,CFC-11_FLAG_W,CFC-12,CFC-12_FLAG_W,TCARBN,TCARBN_FLAG_W,ALKALI,ALKALI_FLAG_W,PCO2,PCO2_FLAG_W,REVPRS,REVPRS_FLAG_W,CTDRAW,CTDTMP,THETA,REVTMP,REVTMP_FLAG_W
,,,,,,,,,,,METERS,DBAR,PSS-78,,PSS-78,,UMOL/KG,,UMOL/KG,,UMOL/KG,,UMOL/KG,,UMOL/KG,,UMOL/KG,,PMOL/KG,,PMOL/KG,,UMOL/KG,,UMOL/KG,,UATM,,DBAR,,DBAR,ITS-68,DEG C,ITS-68,
318M19881207,      SAVE4,     182,          1,          1,          1,2,19881213,       1949,   -46.9900,   -54.2317,       5956,     4.2,  34.1487,2,  34.1485,2,-999.0000,9,   282.8,2,    0.86,2,    7.41,2,    0.14,2,    0.61,2,   3.355,2,   1.627,2,  -999.0,9,  -999.0,9,  -999.0,9,  -999.0,9, -999.00,    11.1403,  11.1397,     -999.0,9
318M19881207,      SAVE4,     182,          1,          2,          2,2,19881213,       1949,   -46.9900,   -54.2317,       5956,    31.7,  34.1197,2,-999.0000,9,-999.0000,9,  -999.0,9, -999.00,9, -999.00,9, -999.00,9, -999.00,9,-999.000,9,-999.000,9,  -999.0,9,  -999.0,9,  -999.0,9,  -999.0,9, -999.00,    10.8895,  10.8856,     -999.0,9
318M19881207,      SAVE4,     182,          1,          3,          3,2,19881213,       1949,   -46.9900,   -54.2317,       5956,    46.9,  34.1255,2,  34.1322,2,-999.0000,9,   283.1,2,    1.05,2,    7.40,2,    0.15,2,    0.62,2,   3.375,2,   1.586,2,  -999.0,9,  -999.0,9,  -999.0,9,  -999.0,9, -999.00,    10.8117,  10.8060,     -999.0,9
318M19881207,      SAVE4,     182,          1,          4,          4,2,19881213,       1949,   -46.9900,   -54.2317,       5956,    56.4,  34.2139,2,-999.0000,9,-999.0000,9,  -999.0,9, -999.00,9, -999.00,9, -999.00,9, -999.00,9,-999.000,9,-999.000,9,  -999.0,9,  -999.0,9,  -999.0,9,  -999.0,9, -999.00,     9.6779,   9.6716,     -999.0,9
318M19881207,      SAVE4,     182,          1,          5,          5,2,19881213,       1949,   -46.9900,   -54.2317,       5956,    97.0,  34.0965,2,  34.1041,2,-999.0000,9,   298.3,2,    8.09,2,   21.67,2,    0.25,2,    1.56,2,   4.216,2,   1.927,2,  -999.0,9,  -999.0,9,  -999.0,9,  -999.0,9, -999.00,     4.9769,   4.9695,     -999.0,9
318M19881207,      SAVE4,     182,          1,          6,          6,2,19881213,       1949,   -46.9900,   -54.2317,       5956,   141.9,  34.1189,2,  34.1243,2,-999.0000,9,   294.2,2,    9.99,2,   23.40,2,    0.10,2,    1.62,2,   3.930,2,   1.841,2,  -999.0,9,  -999.0,9,  -999.0,9,  -999.0,9, -999.00,     4.4416,   4.4314,     -999.0,9
318M19881207,      SAVE4,     182,          1,          7,          7,2,19881213,       1949,   -46.9900,   -54.2317,       5956,   220.9,  34.1407,2,  34.1427,2,-999.0000,9,   286.7,2,   13.23,2,   24.71,2,    0.02,2,    1.70,2,-999.000,9,-999.000,9,  -999.0,9,  -999.0,9,  -999.0,9,  -999.0,9, -999.00,     4.1546,   4.1390,     -999.0,9
318M19881207,      SAVE4,     182,          1,          8,          8,2,19881213,       1949,   -46.9900,   -54.2317,       5956,   298.4,  34.1551,2,-999.0000,9,-999.0000,9,  -999.0,9, -999.00,9, -999.00,9, -999.00,9, -999.00,9,-999.000,9,-999.000,9,  -999.0,9,  -999.0,9,  -999.0,9,  -999.0,9, -999.00,     3.8421,   3.8217,     -999.0,9
318M19881207,      SAVE4,     182,          1,          9,          9,2,19881213,       1949,   -46.9900,   -54.2317,       5956,   395.2,  34.1826,2,  34.1862,2,-999.0000,9,   260.1,2,   25.19,2,   28.49,2,    0.01,2,    1.94,2,   2.464,2,   1.156,2,  -999.0,9,  -999.0,9,  -999.0,9,  -999.0,9, -999.00,     3.4873,   3.4611,     -999.0,9
318M19881207,      SAVE4,     182,          1,         10,         10,2,19881213,       1949,   -46.9900,   -54.2317,       5956,   523.4,  34.1900,2,  34.1924,2,-999.0000,9,   255.8,2,   32.41,2,   30.26,2,    0.01,2,    2.07,2,-999.000,9,-999.000,9,  -999.0,9,  -999.0,9,  -999.0,9,  -999.0,9, -999.00,     2.7766,   2.7442,     -999.0,9
318M19881207,      SAVE4,     182,          1,         11,         11,2,19881213,       1949,   -46.9900,   -54.2317,       5956,   671.7,  34.2603,2,  34.2636,2,-999.0000,9,   234.8,2,   43.23,2,   32.03,2,    0.01,2,    2.21,2,-999.000,9,-999.000,9,  -999.0,9,  -999.0,9,  -999.0,9,  -999.0,9, -999.00,     2.5055,   2.4645,     -999.0,9
318M19881207,      SAVE4,     182,          1,         12,         12,2,19881213,       1949,   -46.9900,   -54.2317,       5956,   882.7,  34.4039,2,  34.4066,2,-999.0000,9,   199.4,2,   57.45,2,   33.51,2,    0.00,2,    2.32,2,   0.719,2,   0.344,2,  -999.0,9,  -999.0,9,  -999.0,9,  -999.0,9, -999.00,     2.6057,   2.5495,     -999.0,9
318M19881207,      SAVE4,     182,          1,         13,         13,2,19881213,       1949,   -46.9900,   -54.2317,       5956,  1088.4,  34.4962,2,  34.4963,2,-999.0000,9,   183.9,2,   67.89,2,   33.73,2,    0.00,2,    2.34,2,-999.000,9,-999.000,9,  -999.0,9,  -999.0,9,  -999.0,9,  -999.0,9, -999.00,     2.5256,   2.4550,     -999.0,9
318M19881207,      SAVE4,     182,          1,         14,         14,2,19881213,       1949,   -46.9900,   -54.2317,       5956,  1294.4,  34.6003,2,  34.6003,2,-999.0000,9,   180.1,2,   69.78,2,   32.80,2,    0.00,2,    2.27,2,   0.164,2,   0.099,2,  -999.0,9,  -999.0,9,  -999.0,9,  -999.0,9, -999.00,     2.5932,   2.5063,     -999.0,9
318M19881207,      SAVE4,     182,          1,         15,         15,2,19881213,       1949,   -46.9900,   -54.2317,       5956,  1500.4,  34.6705,2,  34.6711,2,-999.0000,9,   184.7,2,   70.35,2,   31.53,2,    0.00,2,    2.18,2,-999.000,9,-999.000,9,  -999.0,9,  -999.0,9,  -999.0,9,  -999.0,9, -999.00,     2.6228,   2.5191,     -999.0,9
318M19881207,      SAVE4,     182,          1,         16,         16,2,19881213,       1949,   -46.9900,   -54.2317,       5956,  1706.8,  34.7380,2,  34.7380,2,-999.0000,9,   194.5,2,   66.36,2,   29.40,2,    0.00,2,    2.04,2,   0.053,2,   0.035,2,  -999.0,9,  -999.0,9,  -999.0,9,  -999.0,9, -999.00,     2.7001,   2.5781,     -999.0,9
318M19881207,      SAVE4,     182,          1,         17,         17,2,19881213,       1949,   -46.9900,   -54.2317,       5956,  1861.4,  34.7675,2,  34.7673,2,-999.0000,9,   200.3,2,   64.08,2,   28.52,2,    0.00,2,    1.97,2,-999.000,9,-999.000,9,  -999.0,9,  -999.0,9,  -999.0,9,  -999.0,9, -999.00,     2.6803,   2.5453,     -999.0,9
318M19881207,      SAVE4,     182,          1,         18,         18,2,19881213,       1949,   -46.9900,   -54.2317,       5956,  2025.5,  34.8115,2,  34.8086,2,-999.0000,9,   211.3,2,   57.63,2,   26.69,2,    0.00,2,    1.83,2,   0.018,2,   0.000,2,  -999.0,9,  -999.0,9,  -999.0,9,  -999.0,9, -999.00,     2.7439,   2.5933,     -999.0,9
318M19881207,      SAVE4,     182,          1,         19,         19,2,19881213,       1949,   -46.9900,   -54.2317,       5956,  2227.6,  34.7704,2,  34.7694,2,-999.0000,9,   201.5,2,   72.62,2,   28.64,2,    0.00,2,    1.99,2,   0.030,2,   0.016,2,  -999.0,9,  -999.0,9,  -999.0,9,  -999.0,9, -999.00,     2.3504,   2.1881,     -999.0,9
318M19881207,      SAVE4,     182,          1,         20,         20,2,19881213,       1949,   -46.9900,   -54.2317,       5956,  2429.7,  34.8029,2,  34.7981,2,-999.0000,9,   211.2,2,   68.44,2,   27.19,2,    0.00,2,    1.87,2,-999.000,9,-999.000,9,  -999.0,9,  -999.0,9,  -999.0,9,  -999.0,9, -999.00,     2.3504,   2.1696,     -999.0,9
318M19881207,      SAVE4,     182,          1,         21,         21,2,19881213,       1949,   -46.9900,   -54.2317,       5956,  2637.5,  34.7608,2,  34.7587,2,-999.0000,9,   202.1,2,   84.19,2,   29.37,2,    0.00,2,    2.03,2,   0.028,2,   0.015,2,  -999.0,9,  -999.0,9,  -999.0,9,  -999.0,9, -999.00,     1.9382,   1.7460,     -999.0,9
318M19881207,      SAVE4,     182,          1,         22,         22,2,19881213,       1949,   -46.9900,   -54.2317,       5956,  2897.2,  34.7424,2,  34.7408,2,-999.0000,9,   201.0,2,   94.25,2,   30.60,2,    0.00,2,    2.11,2,-999.000,9,-999.000,9,  -999.0,9,  -999.0,9,  -999.0,9,  -999.0,9, -999.00,     1.6583,   1.4475,     -999.0,9
318M19881207,      SAVE4,     182,          1,         23,         23,2,19881213,       1949,   -46.9900,   -54.2317,       5956,  3104.5,  34.7338,2,  34.7319,2,-999.0000,9,   202.7,2,  101.08,2,   30.92,2,    0.00,2,    2.13,2,   0.042,2,   0.036,2,  -999.0,9,  -999.0,9,  -999.0,9,  -999.0,9, -999.00,     1.4590,   1.2328,     -999.0,9
318M19881207,      SAVE4,     182,          1,         24,         24,2,19881213,       1949,   -46.9900,   -54.2317,       5956,  3416.2,  34.7172,2,  34.7164,2,-999.0000,9,   205.8,2,  108.69,2,   31.62,2,    0.00,2,    2.19,2,-999.000,9,-999.000,9,  -999.0,9,  -999.0,9,  -999.0,9,  -999.0,9, -999.00,     1.1675,   0.9179,     -999.0,9
318M19881207,      SAVE4,     182,          1,         25,         25,2,19881213,       1949,   -46.9900,   -54.2317,       5956,  3728.7,  34.7054,2,  34.7028,2,-999.0000,9,   209.2,2,  112.50,2,   31.84,2,    0.00,2,    2.20,2,   0.092,2,   0.053,2,  -999.0,9,  -999.0,9,  -999.0,9,  -999.0,9, -999.00,     0.9472,   0.6720,     -999.0,9
318M19881207,      SAVE4,     182,          1,         26,         26,2,19881213,       1949,   -46.9900,   -54.2317,       5956,  3989.1,  34.6951,2,  34.6935,2,-999.0000,9,   212.9,2,  116.31,2,   32.11,2,    0.00,2,    2.22,2,-999.000,9,-999.000,9,  -999.0,9,  -999.0,9,  -999.0,9,  -999.0,9, -999.00,     0.7510,   0.4544,     -999.0,9
318M19881207,      SAVE4,     182,          1,         27,         27,2,19881213,       1949,   -46.9900,   -54.2317,       5956,  4250.4,  34.6853,2,  34.6835,2,-999.0000,9,   216.9,2,  119.55,2,   32.10,2,    0.00,2,    2.23,2,   0.100,2,   0.055,2,  -999.0,9,  -999.0,9,  -999.0,9,  -999.0,9, -999.00,     0.5529,   0.2346,     -999.0,9
318M19881207,      SAVE4,     182,          1,         28,         28,2,19881213,       1949,   -46.9900,   -54.2317,       5956,  4458.9,  34.6787,2,  34.6768,2,-999.0000,9,   219.3,2,  120.50,2,   32.32,2,    0.00,2,    2.25,2,   0.094,2,   0.062,2,  -999.0,9,  -999.0,9,  -999.0,9,  -999.0,9, -999.00,     0.4385,   0.1013,     -999.0,9
318M19881207,      SAVE4,     182,          1,         29,         29,2,19881213,       1949,   -46.9900,   -54.2317,       5956,  4668.0,  34.6753,2,  34.6732,2,-999.0000,9,   221.6,2,  121.83,2,   32.54,2,    0.00,2,    2.25,2,   0.080,2,   0.028,2,  -999.0,9,  -999.0,9,  -999.0,9,  -999.0,9, -999.00,     0.3648,   0.0070,     -999.0,9
318M19881207,      SAVE4,     182,          1,         30,         30,2,19881213,       1949,   -46.9900,   -54.2317,       5956,  4877.0,  34.6720,2,  34.6700,2,-999.0000,9,   223.1,2,  123.35,2,   32.62,2,    0.00,2,    2.27,2,-999.000,9,-999.000,9,  -999.0,9,  -999.0,9,  -999.0,9,  -999.0,9, -999.00,     0.3151,  -0.0645,     -999.0,9
318M19881207,      SAVE4,     182,          1,         31,         31,2,19881213,       1949,   -46.9900,   -54.2317,       5956,  5086.3,  34.6703,2,  34.6727,2,-999.0000,9,   225.6,2,  123.92,2,   32.65,2,    0.00,2,    2.26,2,   0.083,2,   0.036,2,  -999.0,9,  -999.0,9,  -999.0,9,  -999.0,9, -999.00,     0.2910,  -0.1118,     -999.0,9
318M19881207,      SAVE4,     182,          1,         32,         32,2,19881213,       1949,   -46.9900,   -54.2317,       5956,  5295.7,  34.6691,2,  34.6680,2,-999.0000,9,   224.8,2,  124.68,2,   32.83,2,    0.00,2,    2.27,2,-999.000,9,-999.000,9,  -999.0,9,  -999.0,9,  -999.0,9,  -999.0,9, -999.00,     0.2827,  -0.1444,     -999.0,9
318M19881207,      SAVE4,     182,          1,         33,         33,2,19881213,       1949,   -46.9900,   -54.2317,       5956,  5506.0,  34.6680,2,  34.6658,2,-999.0000,9,   225.0,2,  124.67,2,   32.67,2,    0.00,2,    2.28,2,   0.105,2,   0.069,2,  -999.0,9,  -999.0,9,  -999.0,9,  -999.0,9, -999.00,     0.2897,  -0.1629,     -999.0,9
318M19881207,      SAVE4,     182,          1,         34,         34,2,19881213,       1949,   -46.9900,   -54.2317,       5956,  5716.1,  34.6671,2,  34.6664,2,-999.0000,9,   225.3,2,  125.62,2,   32.56,2,    0.00,2,    2.27,2,   0.101,2,   0.050,2,  -999.0,9,  -999.0,9,  -999.0,9,  -999.0,9, -999.00,     0.3007,  -0.1781,     -999.0,9
318M19881207,      SAVE4,     182,          1,         35,         35,2,19881213,       1949,   -46.9900,   -54.2317,       5956,  5926.2,  34.6660,2,  34.6654,2,-999.0000,9,   225.8,2,  123.90,2,   32.44,2,    0.00,2,    2.26,2,   0.125,2,   0.042,2,  -999.0,9,  -999.0,9,  -999.0,9,  5044.4,2, -999.00,     0.3172,  -0.1886,      0.704,2
318M19881207,      SAVE4,     182,          1,         36,         36,2,19881213,       1949,   -46.9900,   -54.2317,       5956,  6103.8,  34.6653,2,  34.6663,2,-999.0000,9,   224.8,2,  124.27,2,   32.38,2,    0.00,2,    2.25,2,   0.111,2,   0.095,2,  -999.0,9,  -999.0,9,  -999.0,9,  -999.0,9, -999.00,     0.3393,  -0.1900,     -999.0,9