BOTTLE,20211025CCHSIORKP
EXPOCODE,SECT_ID,STNNBR,CASTNO,SAMPNO,BTLNBR,BTLNBR_FLAG_W,DATE,TIME,LATITUDE,LONGITUDE,DEPTH,CTDPRS,CTDSAL,CTDSAL_FLAG_W,SALNTY,SALNTY_FLAG_W,CTDOXY,CTDOXY_FLAG_W,OXYGEN,OXYGEN_FLAG_W,SILCAT,SILCAT_FLAG_W,NITRAT,NITRAT_FLAG_W,NITRIT,NITRIT_FLAG_W,PHSPHT,PHSPHT_FLAG_W,CFC-11,CFC-11_FLAG_W,CFC-12,CFC-12_FLAG_W,TCARBN,TCARBN_FLAG_W,ALKALI,ALKALI_FLAG_W,PCO2,PCO2_FLAG_W,REVPRS,REVPRS_FLAG_W,CTDRAW,CTDTMP,THETA,REVTMP,REVTMP_FLAG_W
,,,,,,,,,,,METERS,DBAR,PSS-78,,PSS-78,,UMOL/KG,,UMOL/KG,,UMOL/KG,,UMOL/KG,,UMOL/KG,,UMOL/KG,,PMOL/KG,,PMOL/KG,,UMOL/KG,,UMOL/KG,,UATM,,DBAR,,DBAR,ITS-68,DEG C,ITS-68,
318M19881207,      SAVE4,     214,          1,          1,          1,2,19890104,       0840,   -31.0050,    -4.6367,       4472,     1.5,  35.8804,2,  35.8800,2,-999.0000,9,   228.4,2,    1.95,2,    0.00,2,    0.00,2,    0.18,2,   2.055,2,   1.064,2,  2055.5,2,  2364.9,2,   343.3,2,  -999.0,9, -999.00,    21.1697,  21.1694,     21.164,2
318M19881207,      SAVE4,     214,          1,          2,          2,2,19890104,       0840,   -31.0050,    -4.6367,       4472,    45.3,  35.8374,2,  35.8350,2,-999.0000,9,   241.7,2,    2.34,2,    0.00,2,    0.00,2,    0.24,2,-999.000,9,-999.000,9,  2051.6,2,  2362.2,2,   340.4,2,  -999.0,9, -999.00,    19.2435,  19.2353,     -999.0,9
318M19881207,      SAVE4,     214,          1,          3,          3,2,19890104,       0840,   -31.0050,    -4.6367,       4472,   106.4,  35.5956,2,  35.5970,2,-999.0000,9,   239.1,2,    2.34,2,    0.39,2,    0.06,2,    0.25,2,   2.361,2,   1.181,2,  2053.7,2,  2342.4,2,   369.1,2,  -999.0,9, -999.00,    16.4819,  16.4647,     -999.0,9
318M19881207,      SAVE4,     214,          1,          4,          4,2,19890104,       0840,   -31.0050,    -4.6367,       4472,   157.7,  35.4052,2,  35.4020,2,-999.0000,9,   220.6,2,    3.03,2,    4.40,2,    0.02,2,    0.49,2,   2.284,2,   1.140,2,  2070.1,2,  2329.8,2,   420.5,2,  -999.0,9, -999.00,    15.3508,  15.3265,     -999.0,9
318M19881207,      SAVE4,     214,          1,          5,          5,2,19890104,       0840,   -31.0050,    -4.6367,       4472,   279.9,  35.1121,2,  35.1120,2,-999.0000,9,   210.5,2,    4.79,2,   10.36,2,    0.00,2,    0.81,2,   2.024,2,   1.005,2,  2101.1,2,  2318.1,2,   519.7,2,  -999.0,9, -999.00,    12.8168,  12.7785,     -999.0,9
318M19881207,      SAVE4,     214,          1,          6,          6,2,19890104,       0840,   -31.0050,    -4.6367,       4472,   361.6,  34.9483,2,  34.9490,2,-999.0000,9,   206.6,2,    6.25,2,   13.88,2,    0.00,2,    1.04,2,   1.776,2,   0.871,2,  2112.5,2,  2309.1,2,   577.6,2,  -999.0,9, -999.00,    11.4140,  11.3680,     -999.0,9
318M19881207,      SAVE4,     214,          1,          7,          7,2,19890104,       0840,   -31.0050,    -4.6367,       4472,   453.7,  34.7789,2,  34.7770,2,-999.0000,9,   206.6,2,    8.21,2,   17.30,2,    0.00,2,    1.26,2,   1.582,2,   0.801,2,  2125.7,2,  2303.3,2,   641.7,2,  -999.0,9, -999.00,     9.9199,   9.8670,     -999.0,9
318M19881207,      SAVE4,     214,          1,          8,          8,2,19890104,       0840,   -31.0050,    -4.6367,       4472,   565.9,  34.5527,2,  34.5530,2,-999.0000,9,   198.4,2,   14.37,2,   23.75,2,    0.00,2,    1.67,2,   1.262,2,   0.614,2,  2151.0,2,  2292.5,2,   796.6,2,  -999.0,9, -999.00,     7.6568,   7.6000,     -999.0,9
318M19881207,      SAVE4,     214,          1,          9,          9,2,19890104,       0840,   -31.0050,    -4.6367,       4472,   678.2,  34.3957,2,  34.3970,2,-999.0000,9,   210.8,2,   19.16,2,   27.18,2,    0.00,2,    1.90,2,   1.143,2,   0.571,2,  2164.0,2,  2292.7,2,   866.6,2,  -999.0,9, -999.00,     5.8295,   5.7704,     -999.0,9
318M19881207,      SAVE4,     214,          1,         10,         10,2,19890104,       0840,   -31.0050,    -4.6367,       4472,   769.6,  34.3341,2,  34.3340,2,-999.0000,9,   217.1,2,   23.46,2,   28.74,2,    0.00,2,    2.02,2,   1.026,2,   0.496,2,  2168.2,2,  2290.3,2,   905.1,2,  -999.0,9, -999.00,     4.8345,   4.7729,     -999.0,9
318M19881207,      SAVE4,     214,          1,         11,         11,2,19890104,       0840,   -31.0050,    -4.6367,       4472,   872.0,  34.3246,2,  34.3240,2,-999.0000,9,   214.4,2,   30.41,2,   30.31,2,    0.00,2,    2.10,2,   0.721,2,   0.364,2,  2181.7,2,  2297.1,2,   952.9,2,  -999.0,9, -999.00,     4.0643,   3.9990,     -999.0,9
318M19881207,      SAVE4,     214,          1,         12,         12,2,19890104,       0840,   -31.0050,    -4.6367,       4472,   973.8,  34.3533,2,  34.3530,2,-999.0000,9,   205.2,2,   38.13,2,   31.58,2,    0.00,2,    2.19,2,   0.480,2,   0.264,2,  2197.0,2,  2305.5,2,  1007.5,2,  -999.0,9, -999.00,     3.6337,   3.5632,     -999.0,9
318M19881207,      SAVE4,     214,          1,         13,         13,2,19890104,       0840,   -31.0050,    -4.6367,       4472,  1090.1,  34.4154,2,  34.4130,2,-999.0000,9,   193.4,2,   46.63,2,   32.55,2,    0.00,2,    2.27,2,   0.253,2,   0.155,2,  -999.0,9,  -999.0,9,  -999.0,9,  -999.0,9, -999.00,     3.3073,   3.2300,     -999.0,9
318M19881207,      SAVE4,     214,          1,         14,         14,2,19890104,       0840,   -31.0050,    -4.6367,       4472,  1228.1,  34.5109,2,  34.5100,2,-999.0000,9,   185.9,2,   55.33,2,   32.65,2,    0.00,2,    2.26,2,   0.096,2,   0.077,2,  2227.4,2,  2329.1,2,  1079.1,2,  -999.0,9, -999.00,     3.0082,   2.9225,     -999.0,9
318M19881207,      SAVE4,     214,          1,         15,         15,2,19890104,       0840,   -31.0050,    -4.6367,       4472,  1331.2,  34.5727,2,  34.5710,2,-999.0000,9,   186.0,2,   57.38,2,   31.96,2,    0.00,2,    2.23,2,   0.048,2,   0.025,2,  2223.9,2,  2326.3,2,  1073.8,2,  -999.0,9, -999.00,     2.9126,   2.8195,     -999.0,9
318M19881207,      SAVE4,     214,          1,         16,         16,2,19890104,       0840,   -31.0050,    -4.6367,       4472,  1433.3,  34.6230,2,  34.6230,2,-999.0000,9,   191.0,2,   57.67,2,   30.99,2,    0.00,2,    2.14,2,-999.000,9,-999.000,9,  -999.0,9,  -999.0,9,  -999.0,9,  -999.0,9, -999.00,     2.8184,   2.7179,     -999.0,9
318M19881207,      SAVE4,     214,          1,         17,         17,2,19890104,       0840,   -31.0050,    -4.6367,       4472,  1535.2,  34.6717,2,  34.6720,2,-999.0000,9,   197.8,2,   56.89,2,   29.91,2,    0.00,2,    2.09,2,   0.016,2,   0.007,2,  2220.1,2,  2332.7,2,  1005.4,2,  -999.0,9, -999.00,     2.7864,   2.6779,     -999.0,9
318M19881207,      SAVE4,     214,          1,         18,         18,2,19890104,       0840,   -31.0050,    -4.6367,       4472,  1637.1,  34.7215,2,  34.7220,2,-999.0000,9,   200.4,2,   55.61,2,   28.93,2,    0.00,2,    1.99,2,-999.000,9,-999.000,9,  -999.0,9,  -999.0,9,  -999.0,9,  -999.0,9, -999.00,     2.7909,   2.6737,     -999.0,9
318M19881207,      SAVE4,     214,          1,         19,         19,2,19890104,       0840,   -31.0050,    -4.6367,       4472,  1739.4,  34.7515,2,  34.7500,2,-999.0000,9,   206.1,2,   55.12,2,   28.05,2,    0.00,2,    1.94,2,   0.001,2,   0.001,2,  2214.0,2,  2335.8,2,   947.0,2,  -999.0,9, -999.00,     2.7360,   2.6108,     -999.0,9
318M19881207,      SAVE4,     214,          1,         20,         20,2,19890104,       0840,   -31.0050,    -4.6367,       4472,  1842.3,  34.7770,2,  34.7750,2,-999.0000,9,   210.6,2,   53.95,2,   27.17,2,    0.00,2,    1.87,2,-999.000,9,-999.000,9,  -999.0,9,  -999.0,9,  -999.0,9,  -999.0,9, -999.00,     2.6995,   2.5658,     -999.0,9
318M19881207,      SAVE4,     214,          1,         21,         21,2,19890104,       0840,   -31.0050,    -4.6367,       4472,  1944.4,  34.7929,2,  34.7930,2,-999.0000,9,   215.6,2,   54.05,2,   26.58,2,    0.00,2,    1.81,2,-999.000,9,   0.002,2,  -999.0,9,  -999.0,9,  -999.0,9,  -999.0,9, -999.00,     2.6357,   2.4940,     -999.0,9
318M19881207,      SAVE4,     214,          1,         22,         22,2,19890104,       0840,   -31.0050,    -4.6367,       4472,  2046.8,  34.8061,2,  34.8050,2,-999.0000,9,   219.5,2,   53.75,2,   26.00,2,    0.00,2,    1.79,2,-999.000,9,-999.000,9,  2200.2,2,  2331.4,2,   886.9,2,  -999.0,9, -999.00,     2.5806,   2.4307,     -999.0,9
318M19881207,      SAVE4,     214,          1,         23,         23,2,19890104,       0840,   -31.0050,    -4.6367,       4472,  2148.2,  34.8163,2,  34.8170,2,-999.0000,9,   222.7,2,   54.34,2,   25.61,2,    0.00,2,    1.75,2,   0.001,2,   0.007,2,  -999.0,9,  -999.0,9,  -999.0,9,  -999.0,9, -999.00,     2.5430,   2.3845,     -999.0,9
318M19881207,      SAVE4,     214,          1,         24,         24,2,19890104,       0840,   -31.0050,    -4.6367,       4472,  2250.0,  34.8279,2,  34.8280,2,-999.0000,9,   226.2,2,   53.65,2,   25.21,2,    0.00,2,    1.73,2,-999.000,9,-999.000,9,  -999.0,9,  -999.0,9,  -999.0,9,  -999.0,9, -999.00,     2.5056,   2.3385,     -999.0,9
318M19881207,      SAVE4,     214,          1,         25,         25,2,19890104,       0840,   -31.0050,    -4.6367,       4472,  2450.6,  34.8420,2,  34.8410,2,-999.0000,9,   231.2,2,   53.36,2,   24.53,2,    0.00,2,    1.67,2,-999.000,9,   0.001,2,  2203.4,2,  2343.6,2,   843.0,2,  -999.0,9, -999.00,     2.4567,   2.2719,     -999.0,9
318M19881207,      SAVE4,     214,          1,         26,         26,2,19890104,       0840,   -31.0050,    -4.6367,       4472,  2656.5,  34.8543,2,  34.8530,2,-999.0000,9,   235.4,2,   52.38,2,   24.04,2,    0.00,2,    1.64,2,-999.000,9,-999.000,9,  -999.0,9,  -999.0,9,  -999.0,9,  -999.0,9, -999.00,     2.4132,   2.2095,     -999.0,9
318M19881207,      SAVE4,     214,          1,         27,         27,2,19890104,       0840,   -31.0050,    -4.6367,       4472,  2862.2,  34.8632,2,  34.8630,2,-999.0000,9,   237.3,2,   51.89,2,   23.65,2,    0.00,2,    1.61,2,-999.000,9,-999.000,9,  2190.3,2,  2336.6,2,   807.0,2,  -999.0,9, -999.00,     2.3777,   2.1546,     -999.0,9
318M19881207,      SAVE4,     214,          1,         28,         28,2,19890104,       0840,   -31.0050,    -4.6367,       4472,  3069.5,  34.8697,2,  34.8690,2,-999.0000,9,   238.7,2,   51.50,2,   23.45,2,    0.00,2,    1.59,2,   0.006,2,   0.003,2,  2196.4,2,  2345.7,2,   796.8,2,  -999.0,9, -999.00,     2.3664,   2.1227,     -999.0,9
318M19881207,      SAVE4,     214,          1,         29,         29,2,19890104,       0840,   -31.0050,    -4.6367,       4472,  3280.3,  34.8739,2,  34.8730,2,-999.0000,9,   238.5,2,   51.99,2,   23.45,2,    0.00,2,    1.58,2,-999.000,9,-999.000,9,  -999.0,9,  -999.0,9,  -999.0,9,  -999.0,9, -999.00,     2.3547,   2.0894,     -999.0,9
318M19881207,      SAVE4,     214,          1,         30,         30,2,19890104,       0840,   -31.0050,    -4.6367,       4472,  3489.7,  34.8770,2,  34.8770,2,-999.0000,9,   237.7,2,   52.48,2,   23.36,2,    0.00,2,    1.58,2,-999.000,9,-999.000,9,  2198.0,2,  2349.1,2,   790.0,2,  -999.0,9, -999.00,     2.3579,   2.0703,     -999.0,9
318M19881207,      SAVE4,     214,          1,         31,         31,2,19890104,       0840,   -31.0050,    -4.6367,       4472,  3700.5,  34.8789,2,  34.8790,2,-999.0000,9,   237.4,2,   52.38,2,   23.36,2,    0.00,2,    1.58,2,-999.000,9,   0.002,2,  -999.0,9,  -999.0,9,  -999.0,9,  -999.0,9, -999.00,     2.3668,   2.0560,     -999.0,9
318M19881207,      SAVE4,     214,          1,         32,         32,2,19890104,       0840,   -31.0050,    -4.6367,       4472,  3909.7,  34.8796,2,  34.8800,2,-999.0000,9,   236.9,2,   52.77,2,   23.36,2,    0.00,2,    1.58,2,-999.000,9,-999.000,9,  2202.6,2,  2356.3,2,   781.2,2,  3915.3,2, -999.00,     2.3806,   2.0461,      2.382,2
318M19881207,      SAVE4,     214,          1,         33,         33,2,19890104,       0840,   -31.0050,    -4.6367,       4472,  4109.5,  34.8795,2,  34.8790,2,-999.0000,9,   235.5,2,   53.46,2,   23.55,2,    0.00,2,    1.59,2,-999.000,9,-999.000,9,  -999.0,9,  -999.0,9,  -999.0,9,  -999.0,9, -999.00,     2.3842,   2.0267,     -999.0,9
318M19881207,      SAVE4,     214,          1,         34,         34,2,19890104,       0840,   -31.0050,    -4.6367,       4472,  4322.0,  34.8770,2,  34.8760,2,-999.0000,9,   234.6,2,   54.92,2,   23.55,2,    0.00,2,    1.61,2,-999.000,9,-999.000,9,  -999.0,9,  -999.0,9,  -999.0,9,  -999.0,9, -999.00,     2.3830,   2.0007,     -999.0,9
318M19881207,      SAVE4,     214,          1,         35,         35,2,19890104,       0840,   -31.0050,    -4.6367,       4472,  4507.2,  34.8754,2,  34.8730,2,-999.0000,9,   234.7,2,   56.39,2,   23.75,2,    0.00,2,    1.60,2,   0.003,2,   0.002,2,  2211.5,2,  2363.1,2,   795.7,2,  4518.6,2, -999.00,     2.3877,   1.9831,      2.388,2
318M19881207,      SAVE4,     214,          1,         36,         36,2,19890104,       0840,   -31.0050,    -4.6367,       4472,  4559.8,  34.8610,2,  34.8620,2,-999.0000,9,   233.0,2,   60.20,2,   24.33,2,    0.00,2,    1.66,2,-999.000,9,-999.000,9,  2209.2,2,  2360.0,2,   798.9,2,  -999.0,9, -999.00,     2.2832,   1.8756,     -999.0,9