BOTTLE,20211025CCHSIORKP
EXPOCODE,SECT_ID,STNNBR,CASTNO,SAMPNO,BTLNBR,BTLNBR_FLAG_W,DATE,TIME,LATITUDE,LONGITUDE,DEPTH,CTDPRS,CTDSAL,CTDSAL_FLAG_W,SALNTY,SALNTY_FLAG_W,CTDOXY,CTDOXY_FLAG_W,OXYGEN,OXYGEN_FLAG_W,SILCAT,SILCAT_FLAG_W,NITRAT,NITRAT_FLAG_W,NITRIT,NITRIT_FLAG_W,PHSPHT,PHSPHT_FLAG_W,CFC-11,CFC-11_FLAG_W,CFC-12,CFC-12_FLAG_W,TCARBN,TCARBN_FLAG_W,ALKALI,ALKALI_FLAG_W,PCO2,PCO2_FLAG_W,REVPRS,REVPRS_FLAG_W,CTDRAW,CTDTMP,THETA,REVTMP,REVTMP_FLAG_W
,,,,,,,,,,,METERS,DBAR,PSS-78,,PSS-78,,UMOL/KG,,UMOL/KG,,UMOL/KG,,UMOL/KG,,UMOL/KG,,UMOL/KG,,PMOL/KG,,PMOL/KG,,UMOL/KG,,UMOL/KG,,UATM,,DBAR,,DBAR,ITS-68,DEG C,ITS-68,
318M19881207,      SAVE4,     204,          1,         13,         13,2,19881229,       1035,   -41.9150,   -14.3033,       3206,     2.9,  34.6844,2,  34.6700,2,-999.0000,9,   273.0,2,    0.47,2,    1.74,2,    0.05,2,    0.37,2,-999.000,9,-999.000,9,  2029.5,2,  2293.4,2,   390.8,2,  -999.0,9, -999.00,    13.4819,  13.4815,     -999.0,9
318M19881207,      SAVE4,     204,          1,          9,          9,2,19881229,       1035,   -41.9150,   -14.3033,       3206,     3.0,  34.6795,2,-999.0000,9,-999.0000,9,  -999.0,9, -999.00,9, -999.00,9, -999.00,9, -999.00,9,-999.000,9,-999.000,9,  -999.0,9,  -999.0,9,  -999.0,9,  -999.0,9, -999.00,    13.4952,  13.4948,     -999.0,9
318M19881207,      SAVE4,     204,          1,         10,         10,2,19881229,       1035,   -41.9150,   -14.3033,       3206,     3.0,  34.6795,2,-999.0000,9,-999.0000,9,  -999.0,9, -999.00,9, -999.00,9, -999.00,9, -999.00,9,-999.000,9,-999.000,9,  -999.0,9,  -999.0,9,  -999.0,9,  -999.0,9, -999.00,    13.4952,  13.4948,     -999.0,9
318M19881207,      SAVE4,     204,          1,         12,         12,2,19881229,       1035,   -41.9150,   -14.3033,       3206,     3.1,  34.6723,2,-999.0000,9,-999.0000,9,  -999.0,9, -999.00,9, -999.00,9, -999.00,9, -999.00,9,-999.000,9,-999.000,9,  -999.0,9,  -999.0,9,  -999.0,9,  -999.0,9, -999.00,    13.5011,  13.5007,     -999.0,9
318M19881207,      SAVE4,     204,          1,         11,         11,2,19881229,       1035,   -41.9150,   -14.3033,       3206,     3.2,  34.6766,2,-999.0000,9,-999.0000,9,  -999.0,9, -999.00,9, -999.00,9, -999.00,9, -999.00,9,   2.974,2,   1.434,2,  -999.0,9,  -999.0,9,  -999.0,9,  -999.0,9, -999.00,    13.4994,  13.4990,     -999.0,9
318M19881207,      SAVE4,     204,          1,         14,         14,2,19881229,       1035,   -41.9150,   -14.3033,       3206,    35.1,  34.7280,2,  34.7260,2,-999.0000,9,   272.0,2,    0.48,2,    2.14,2,    0.04,2,    0.39,2,   2.998,2,   1.451,2,  2042.1,2,  2302.1,2,   402.4,2,  -999.0,9, -999.00,    13.0508,  13.0460,     -999.0,9
318M19881207,      SAVE4,     204,          1,         15,         15,2,19881229,       1035,   -41.9150,   -14.3033,       3206,    66.6,  34.7454,2,  34.7450,2,-999.0000,9,   268.1,2,    0.88,2,    2.82,2,    0.06,2,    0.46,2,   3.020,2,   1.465,2,  2049.6,2,  2302.0,2,   418.9,2,  -999.0,9, -999.00,    12.5195,  12.5106,     -999.0,9
318M19881207,      SAVE4,     204,          1,         16,         16,2,19881229,       1035,   -41.9150,   -14.3033,       3206,   107.5,  34.7476,2,  34.7500,2,-999.0000,9,   268.3,2,    1.85,2,    6.17,2,    0.86,2,    0.68,2,   3.275,2,   1.561,2,  2072.9,2,  2296.9,2,   486.2,2,  -999.0,9, -999.00,    10.7020,  10.6890,     -999.0,9
318M19881207,      SAVE4,     204,          1,         17,         17,2,19881229,       1035,   -41.9150,   -14.3033,       3206,   150.3,  34.7444,2,  34.7460,2,-999.0000,9,   266.3,2,    2.06,2,    7.84,2,    0.01,2,    0.72,2,   3.253,2,   1.556,2,  2074.5,2,  2294.2,2,   496.8,2,  -999.0,9, -999.00,    10.4285,  10.4107,     -999.0,9
318M19881207,      SAVE4,     204,          1,         18,         18,2,19881229,       1035,   -41.9150,   -14.3033,       3206,   210.7,  34.7864,2,  34.7890,2,-999.0000,9,   263.8,2,    2.46,2,    9.01,2,    0.01,2,    0.77,2,   3.154,2,   1.490,2,  2081.6,2,  2296.5,2,   512.1,2,  -999.0,9, -999.00,    10.2926,  10.2677,     -999.0,9
318M19881207,      SAVE4,     204,          1,         19,         19,2,19881229,       1035,   -41.9150,   -14.3033,       3206,   307.8,  34.7309,2,  34.7270,2,-999.0000,9,   262.6,2,    3.24,2,   11.06,2,    0.01,2,    0.90,2,   3.157,2,   1.523,2,  2089.1,2,  2295.3,2,   537.1,2,  -999.0,9, -999.00,     9.6694,   9.6344,     -999.0,9
318M19881207,      SAVE4,     204,          1,         20,         20,2,19881229,       1035,   -41.9150,   -14.3033,       3206,   415.2,  34.6065,2,  34.5990,2,-999.0000,9,   247.5,2,    5.38,2,   15.94,2,    0.00,2,    1.18,2,   2.880,2,   1.369,2,  2107.7,2,  2286.5,2,   625.4,2,  -999.0,9, -999.00,     8.6882,   8.6437,     -999.0,9
318M19881207,      SAVE4,     204,          1,         21,         21,2,19881229,       1035,   -41.9150,   -14.3033,       3206,   516.3,  34.4227,2,  34.4220,2,-999.0000,9,   237.7,2,    9.64,2,   21.96,2,    0.00,2,    1.55,2,   2.391,2,   1.134,2,  2129.2,2,  2279.4,2,   742.7,2,  -999.0,9, -999.00,     6.9202,   6.8715,     -999.0,9
318M19881207,      SAVE4,     204,          1,         22,         22,2,19881229,       1035,   -41.9150,   -14.3033,       3206,   618.6,  34.3020,2,  34.3040,2,-999.0000,9,   241.1,2,   12.94,2,   25.06,2,    0.00,2,    1.75,2,   2.215,2,   1.020,2,  2140.8,2,  2279.8,2,   798.4,2,  -999.0,9, -999.00,     5.5821,   5.5297,     -999.0,9
318M19881207,      SAVE4,     204,          1,         23,         23,2,19881229,       1035,   -41.9150,   -14.3033,       3206,   696.7,  34.2464,2,  34.2450,2,-999.0000,9,   248.0,2,   16.05,2,   26.49,2,    0.00,2,    1.85,2,   2.049,2,   0.921,2,  2141.6,2,  2275.4,2,   824.0,2,  -999.0,9, -999.00,     4.7988,   4.7437,     -999.0,9
318M19881207,      SAVE4,     204,          1,         24,         24,2,19881229,       1035,   -41.9150,   -14.3033,       3206,   928.3,  34.2253,2,  34.2240,2,-999.0000,9,   242.7,2,   26.89,2,   29.20,2,    0.00,2,    2.05,2,   1.540,2,   0.702,2,  2168.8,2,  2293.2,2,   891.6,2,  -999.0,9, -999.00,     3.6634,   3.5965,     -999.0,9
318M19881207,      SAVE4,     204,          1,         25,         25,2,19881229,       1035,   -41.9150,   -14.3033,       3206,  1133.5,  34.2829,2,  34.2830,2,-999.0000,9,   223.7,2,   38.69,2,   31.30,2,    0.00,2,    2.17,2,   0.931,2,   0.424,2,  2186.3,2,  2295.4,2,   995.5,2,  -999.0,9, -999.00,     3.1261,   3.0473,     -999.0,9
318M19881207,      SAVE4,     204,          1,         26,         26,2,19881229,       1035,   -41.9150,   -14.3033,       3206,  1313.9,  34.3707,2,  34.3720,2,-999.0000,9,   203.2,2,   50.30,2,   32.79,2,    0.00,2,    2.28,2,   0.469,2,   0.226,2,  2207.1,2,  2308.8,2,  1062.6,2,  -999.0,9, -999.00,     2.8552,   2.7646,     -999.0,9
318M19881207,      SAVE4,     204,          1,         27,         27,2,19881229,       1035,   -41.9150,   -14.3033,       3206,  1441.0,  34.4366,2,  34.4350,2,-999.0000,9,   193.3,2,   56.11,2,   33.04,2,    0.00,2,    2.30,2,   0.286,2,   0.144,2,  -999.0,9,  -999.0,9,  -999.0,9,  -999.0,9, -999.00,     2.7794,   2.6792,     -999.0,9
318M19881207,      SAVE4,     204,          1,         28,         28,2,19881229,       1035,   -41.9150,   -14.3033,       3206,  1648.6,  34.5572,2,  34.5560,2,-999.0000,9,   184.9,2,   62.89,2,   32.41,2,    0.00,2,    2.26,2,   0.113,2,   0.058,2,  -999.0,9,  -999.0,9,  -999.0,9,  -999.0,9, -999.00,     2.7179,   2.6011,     -999.0,9
318M19881207,      SAVE4,     204,          1,         29,         29,2,19881229,       1035,   -41.9150,   -14.3033,       3206,  1856.7,  34.6522,2,  34.6490,2,-999.0000,9,   187.6,2,   64.25,2,   30.98,2,    0.00,2,    2.16,2,   0.054,2,   0.024,2,  -999.0,9,  -999.0,9,  -999.0,9,  -999.0,9, -999.00,     2.7099,   2.5753,     -999.0,9
318M19881207,      SAVE4,     204,          1,         30,         30,2,19881229,       1035,   -41.9150,   -14.3033,       3206,  2061.2,  34.7186,2,  34.7160,2,-999.0000,9,   195.6,2,   63.48,2,   29.35,2,    0.00,2,    2.04,2,   0.026,2,   0.013,2,  -999.0,9,  -999.0,9,  -999.0,9,  -999.0,9, -999.00,     2.6875,   2.5349,     -999.0,9
318M19881207,      SAVE4,     204,          1,         31,         31,2,19881229,       1035,   -41.9150,   -14.3033,       3206,  2267.3,  34.7642,2,  34.7640,2,-999.0000,9,   203.2,2,   62.91,2,   27.98,2,    0.00,2,    1.95,2,   0.015,2,   0.009,2,  -999.0,9,  -999.0,9,  -999.0,9,  -999.0,9, -999.00,     2.6323,   2.4617,     -999.0,9
318M19881207,      SAVE4,     204,          1,         32,         32,2,19881229,       1035,   -41.9150,   -14.3033,       3206,  2474.0,  34.7874,2,  34.7880,2,-999.0000,9,   209.3,2,   63.30,2,   27.27,2,    0.00,2,    1.90,2,   0.015,2,   0.007,2,  -999.0,9,  -999.0,9,  -999.0,9,  2472.4,2, -999.00,     2.5336,   2.3453,      2.524,2
318M19881207,      SAVE4,     204,          1,         33,         33,2,19881229,       1035,   -41.9150,   -14.3033,       3206,  2680.5,  34.7974,2,  34.7990,2,-999.0000,9,   213.0,2,   66.41,2,   26.96,2,    0.00,2,    1.87,2,   0.014,2,   0.007,2,  -999.0,9,  -999.0,9,  -999.0,9,  -999.0,9, -999.00,     2.4068,   2.2011,     -999.0,9
318M19881207,      SAVE4,     204,          1,         34,         34,2,19881229,       1035,   -41.9150,   -14.3033,       3206,  2887.1,  34.8012,2,  34.8030,2,-999.0000,9,   216.4,2,   70.09,2,   26.82,2,    0.00,2,    1.86,2,   0.008,2,   0.004,2,  -999.0,9,  -999.0,9,  -999.0,9,  -999.0,9, -999.00,     2.2618,   2.0389,     -999.0,9
318M19881207,      SAVE4,     204,          1,         35,         35,2,19881229,       1035,   -41.9150,   -14.3033,       3206,  3096.2,  34.7960,2,-999.0000,9,-999.0000,9,   216.1,2,   74.35,2,   26.85,2,    0.00,2,    1.89,2,   0.013,2,   0.004,2,  -999.0,9,  -999.0,9,  -999.0,9,  3113.5,2, -999.00,     2.1141,   1.8737,      2.115,2
318M19881207,      SAVE4,     204,          1,         36,         36,2,19881229,       1035,   -41.9150,   -14.3033,       3206,  3230.6,  34.7993,2,  34.8000,2,-999.0000,9,   218.0,2,   73.78,2,   26.85,2,    0.00,2,    1.88,2,   0.008,2,   0.005,2,  -999.0,9,  -999.0,9,  -999.0,9,  -999.0,9, -999.00,     2.0809,   1.8275,     -999.0,9
318M19881207,      SAVE4,     205,          1,         13,         13,2,19881229,       1935,   -41.1217,   -13.4983,       3023,     2.6,  34.6113,2,  34.6160,2,-999.0000,9,   265.6,2,    1.84,2,    1.72,2,    0.05,2,    0.34,2,   2.822,2,   1.369,2,  2024.8,2,  2286.9,2,   391.6,2,  -999.0,9, -999.00,    14.5573,  14.5569,     -999.0,9
318M19881207,      SAVE4,     205,          1,         14,         14,2,19881229,       1935,   -41.1217,   -13.4983,       3023,    51.2,  34.6599,2,  34.6530,2,-999.0000,9,   265.9,2,    2.22,2,    2.55,2,    0.06,2,    0.41,2,   2.921,2,   1.421,2,  2037.0,2,  2287.4,2,   417.1,2,  -999.0,9, -999.00,    13.5109,  13.5038,     -999.0,9
318M19881207,      SAVE4,     205,          1,         15,         15,2,19881229,       1935,   -41.1217,   -13.4983,       3023,   107.6,  34.8749,2,  34.8790,2,-999.0000,9,   259.1,2,    3.02,2,    6.92,2,    0.03,2,    0.63,2,   2.965,2,   1.403,2,  2064.0,2,  2289.0,2,   481.9,2,  -999.0,9, -999.00,    11.3891,  11.3756,     -999.0,9
318M19881207,      SAVE4,     205,          1,         16,         16,2,19881229,       1935,   -41.1217,   -13.4983,       3023,   210.7,  34.8528,2,  34.8490,2,-999.0000,9,   248.9,2,    4.23,2,   10.82,2,    0.01,2,    0.84,2,   2.778,2,   1.336,2,  2088.6,2,  2295.3,2,   536.8,2,  -999.0,9, -999.00,    10.6222,  10.5968,     -999.0,9
318M19881207,      SAVE4,     205,          1,         17,         17,2,19881229,       1935,   -41.1217,   -13.4983,       3023,   312.2,  34.6249,2,  34.6250,2,-999.0000,9,   240.4,2,    6.48,2,   17.08,2,    0.01,2,    1.20,2,   2.601,2,   1.239,2,  2108.0,2,  2283.5,2,   637.1,2,  -999.0,9, -999.00,     8.7626,   8.7291,     -999.0,9
318M19881207,      SAVE4,     205,          1,         18,         18,2,19881229,       1935,   -41.1217,   -13.4983,       3023,   416.1,  34.4466,2,  34.4440,2,-999.0000,9,   232.9,2,   10.19,2,   23.06,2,    0.01,2,    1.54,2,   2.340,2,   1.085,2,  2128.1,2,  2278.8,2,   740.2,2,  -999.0,9, -999.00,     7.0784,   7.0389,     -999.0,9
318M19881207,      SAVE4,     205,          1,         19,         19,2,19881229,       1935,   -41.1217,   -13.4983,       3023,   517.3,  34.3166,2,  34.3190,2,-999.0000,9,   238.1,2,   13.28,2,   26.30,2,    0.01,2,    1.76,2,   2.099,2,   0.982,2,  2137.5,2,  2273.9,2,   809.2,2,  -999.0,9, -999.00,     5.7335,   5.6894,     -999.0,9
318M19881207,      SAVE4,     205,          1,         20,         20,2,19881229,       1935,   -41.1217,   -13.4983,       3023,   618.7,  34.2457,2,  34.2460,2,-999.0000,9,   246.9,2,   17.41,2,   27.93,2,    0.00,2,    1.87,2,   1.983,2,   0.908,2,  2146.6,2,  2279.4,2,   832.3,2,  -999.0,9, -999.00,     4.7058,   4.6576,     -999.0,9
318M19881207,      SAVE4,     205,          1,         21,         21,2,19881229,       1935,   -41.1217,   -13.4983,       3023,   721.6,  34.2242,2,  34.2250,2,-999.0000,9,   248.1,2,   22.16,2,   29.18,2,    0.01,2,    1.95,2,   1.806,2,   0.820,2,  2156.8,2,  2283.3,2,   871.2,2,  -999.0,9, -999.00,     4.0841,   4.0309,     -999.0,9
318M19881207,      SAVE4,     205,          1,         22,         22,2,19881229,       1935,   -41.1217,   -13.4983,       3023,   875.7,  34.2332,2,  34.2340,2,-999.0000,9,   240.2,2,   29.61,2,   31.07,2,    0.00,2,    2.08,2,   1.446,2,   0.658,2,  2167.3,2,  2285.4,2,   926.6,2,  -999.0,9, -999.00,     3.4657,   3.4043,     -999.0,9
318M19881207,      SAVE4,     205,          1,         23,         23,2,19881229,       1935,   -41.1217,   -13.4983,       3023,  1028.3,  34.2816,2,  34.2810,2,-999.0000,9,   224.7,2,   39.36,2,   32.76,2,    0.00,2,    2.19,2,   0.987,2,   0.446,2,  2184.7,2,  2292.5,2,  1002.8,2,  -999.0,9, -999.00,     3.0682,   2.9980,     -999.0,9
318M19881207,      SAVE4,     205,          1,         24,         24,2,19881229,       1935,   -41.1217,   -13.4983,       3023,  1184.8,  34.3499,2,  34.3490,2,-999.0000,9,   208.5,2,   49.10,2,   33.94,2,    0.00,2,    2.27,2,   0.631,2,   0.292,2,  2202.9,2,  2303.9,2,  1063.4,2,  -999.0,9, -999.00,     2.8623,   2.7817,     -999.0,9
318M19881207,      SAVE4,     205,          1,         25,         25,2,19881229,       1935,   -41.1217,   -13.4983,       3023,  1339.0,  34.4497,2,  34.4480,2,-999.0000,9,   192.7,2,   57.80,2,   34.27,2,    0.00,2,    2.31,2,   0.272,2,   0.130,2,  2214.5,2,  2311.2,2,  1105.2,2,  -999.0,9, -999.00,     2.7740,   2.6820,     -999.0,9
318M19881207,      SAVE4,     205,          1,         26,         26,2,19881229,       1935,   -41.1217,   -13.4983,       3023,  1597.6,  34.5785,2,  34.5800,2,-999.0000,9,   186.9,2,   63.17,2,   33.13,2,    0.00,2,    2.24,2,   0.088,2,   0.043,2,  2224.5,2,  2323.0,2,  1102.4,2,  -999.0,9, -999.00,     2.7200,   2.6074,     -999.0,9
318M19881207,      SAVE4,     205,          1,         27,         27,2,19881229,       1935,   -41.1217,   -13.4983,       3023,  1751.9,  34.6395,2,  34.6410,2,-999.0000,9,   187.6,2,   64.17,2,   32.13,2,    0.00,2,    2.17,2,   0.045,2,   0.019,2,  2227.9,2,  2330.3,2,  1077.7,2,  -999.0,9, -999.00,     2.7054,   2.5799,     -999.0,9
318M19881207,      SAVE4,     205,          1,         28,         28,2,19881229,       1935,   -41.1217,   -13.4983,       3023,  1907.2,  34.6963,2,  34.6940,2,-999.0000,9,   192.4,2,   63.51,2,   30.82,2,    0.00,2,    2.09,2,   0.033,2,   0.012,2,  2222.7,2,  2328.4,2,  1052.8,2,  -999.0,9, -999.00,     2.6961,   2.5570,     -999.0,9
318M19881207,      SAVE4,     205,          1,         29,         29,2,19881229,       1935,   -41.1217,   -13.4983,       3023,  2061.7,  34.7407,2,  34.7410,2,-999.0000,9,   199.6,2,   63.05,2,   29.66,2,    0.00,2,    2.00,2,   0.017,2,   0.008,2,  2221.7,2,  2335.1,2,  1002.9,2,  -999.0,9, -999.00,     2.6612,   2.5089,     -999.0,9
318M19881207,      SAVE4,     205,          1,         30,         30,2,19881229,       1935,   -41.1217,   -13.4983,       3023,  2217.0,  34.7709,2,  34.7720,2,-999.0000,9,   205.3,2,   62.39,2,   28.64,2,    0.00,2,    1.94,2,   0.018,2,   0.008,2,  2213.0,2,  2330.8,2,   970.9,2,  -999.0,9, -999.00,     2.6264,   2.4605,     -999.0,9
318M19881207,      SAVE4,     205,          1,         31,         31,2,19881229,       1935,   -41.1217,   -13.4983,       3023,  2372.9,  34.7883,2,  34.7870,2,-999.0000,9,   209.4,2,   64.02,2,   28.09,2,    0.00,2,    1.90,2,   0.011,2,   0.006,2,  2211.7,2,  2332.4,2,   953.3,2,  -999.0,9, -999.00,     2.5392,   2.3603,     -999.0,9
318M19881207,      SAVE4,     205,          1,         32,         32,2,19881229,       1935,   -41.1217,   -13.4983,       3023,  2526.2,  34.7958,2,  34.7970,2,-999.0000,9,   212.2,2,   65.65,2,   27.71,2,    0.00,2,    1.89,2,   0.010,2,   0.002,2,  2215.8,2,  2339.0,2,   942.1,2,  2524.3,2, -999.00,     2.4621,   2.2702,      2.460,2
318M19881207,      SAVE4,     205,          1,         33,         33,2,19881229,       1935,   -41.1217,   -13.4983,       3023,  2680.7,  34.8012,2,  34.8020,2,-999.0000,9,   214.5,2,   68.11,2,   27.51,2,    0.00,2,    1.88,2,   0.015,2,   0.004,2,  2210.3,2,  2337.1,2,   919.5,2,  -999.0,9, -999.00,     2.3318,   2.1275,     -999.0,9
318M19881207,      SAVE4,     205,          1,         34,         34,2,19881229,       1935,   -41.1217,   -13.4983,       3023,  2837.0,  34.8006,2,  34.8010,2,-999.0000,9,   215.7,2,   71.20,2,   27.41,2,    0.00,2,    1.89,2,   0.007,2,   0.004,2,  2212.7,2,  2338.9,2,   924.8,2,  -999.0,9, -999.00,     2.1837,   1.9673,     -999.0,9
318M19881207,      SAVE4,     205,          1,         35,         35,2,19881229,       1935,   -41.1217,   -13.4983,       3023,  2941.1,  34.8009,2,  34.8010,2,-999.0000,9,   216.7,2,   73.24,2,   27.56,2,    0.00,2,    1.89,2,   0.001,2,   0.000,2,  2216.7,2,  2342.1,2,   931.5,2,  2958.4,2, -999.00,     2.0898,   1.8652,      2.094,2
318M19881207,      SAVE4,     205,          1,         36,         36,2,19881229,       1935,   -41.1217,   -13.4983,       3023,  3039.2,  34.8003,2,  34.8010,2,-999.0000,9,   217.2,2,   74.04,2,   27.41,2,    0.00,2,    1.90,2,   0.009,2,   0.006,2,  2210.9,2,  2336.4,2,   928.1,2,  -999.0,9, -999.00,     2.0472,   1.8139,     -999.0,9