BOTTLE,20020809WHPSIObren
EXPOCODE,SECT_ID,STNNBR,CASTNO,SAMPNO,BTLNBR,BTLNBR_FLAG_W,DATE,TIME,LATITUDE,LONGITUDE,DEPTH,CTDPRS,CTDTMP,CTDSAL,CTDSAL_FLAG_W,SALNTY,SALNTY_FLAG_W,CTDOXY,CTDOXY_FLAG_W,OXYGEN,OXYGEN_FLAG_W,SILCAT,SILCAT_FLAG_W,NO2+NO3,NO2+NO3_FLAG_W,PHSPHT,PHSPHT_FLAG_W,CTDRAW,REVTMP,REVPRS,THETA
,,,,,,,,,,,,DBAR,ITS-90,PSS-78,,PSS-78,,UMOL/KG,,UMOL/KG,,UMOL/KG,,UMOL/KG,,UMOL/KG,,,DEG C,DBAR,ITS-90
     32MW077_1,  PRS2,     2,  3,     18,     18,2,19961030,0301, 22.7493,-158.0033, 4725,      4.2,  26.5588,  35.0635,2,  35.0636,2,    203.3,2,    202.9,2,     1.59,2,    -0.00,2,     0.05,2,      4,-999.000,  -999.0, 26.5578
     32MW077_1,  PRS2,     2,  3,     17,     17,2,19961030,0301, 22.7493,-158.0033, 4725,     80.2,  23.7560,  35.1013,2,  35.0997,2,    223.6,2,    225.2,2,     2.02,2,     0.01,2,     0.06,2,     81,-999.000,  -999.0, 23.7392
     32MW077_1,  PRS2,     2,  3,     16,     16,2,19961030,0301, 22.7493,-158.0033, 4725,    188.6,  18.4495,  34.9608,2,  34.9635,2,    204.5,2,    202.3,2,     3.45,2,     2.26,2,     0.23,2,    189,-999.000,  -999.0, 18.4165
     32MW077_1,  PRS2,     2,  3,     15,     15,2,19961030,0301, 22.7493,-158.0033, 4725,    209.8,  17.7422,  34.8840,2,  34.8826,2,    202.4,2,    201.9,2,     5.09,2,     2.91,2,     0.27,2,    210,-999.000,  -999.0, 17.7065
     32MW077_1,  PRS2,     2,  3,     14,     14,2,19961030,0301, 22.7493,-158.0033, 4725,    224.3,  16.6827,  34.7519,2,  34.7550,2,    197.7,2,    199.5,2,     4.90,2,     4.18,2,     0.36,2,    224,-999.000,  -999.0, 16.6462
     32MW077_1,  PRS2,     2,  3,     13,     13,2,19961030,0301, 22.7493,-158.0033, 4725,    234.0,  16.4236,  34.7169,2,  34.7173,2,    198.3,2,    198.2,2,     5.39,2,     4.61,2,     0.39,2,    233,-999.000,  -999.0, 16.3860
     32MW077_1,  PRS2,     2,  3,     12,     12,2,19961030,0301, 22.7493,-158.0033, 4725,    249.6,  15.4760,  34.6012,2,  34.6030,2,    196.7,2,    197.5,2,     6.15,2,     5.81,2,     0.48,2,    249,-999.000,  -999.0, 15.4375
     32MW077_1,  PRS2,     2,  3,     11,     11,2,19961030,0301, 22.7493,-158.0033, 4725,    274.6,  14.4429,  34.4934,2,  34.4961,2,    202.9,2,    200.4,2,     7.20,2,     7.08,2,     0.56,2,    275,-999.000,  -999.0, 14.4025
     32MW077_1,  PRS2,     2,  3,     10,     32,2,19961030,0301, 22.7493,-158.0033, 4725,    299.5,  13.0426,  34.3499,2,  34.3534,2,    197.1,2,    194.7,2,     9.82,2,     9.96,2,     0.76,2,    300,-999.000,  -999.0, 13.0014
     32MW077_1,  PRS2,     2,  3,      9,      3,2,19961030,0301, 22.7493,-158.0033, 4725,    323.0,  12.1057,  34.2762,2,  34.2823,2,    193.7,2,    197.0,2,    11.86,2,    11.71,2,     0.86,2,    323,-999.000,  -999.0, 12.0634
     32MW077_1,  PRS2,     2,  3,      8,     29,2,19961030,0301, 22.7493,-158.0033, 4725,    349.4,  11.2236,  34.2378,2,  34.2364,2,    208.1,2,    203.9,2,    14.45,2,    13.28,2,     0.94,2,    348,-999.000,  -999.0, 11.1801
     32MW077_1,  PRS2,     2,  3,      7,     28,2,19961030,0301, 22.7493,-158.0033, 4725,    400.2,   9.4260,  34.1191,2,  34.1193,2,    188.8,2,    183.7,2,    22.98,2,    18.43,2,     1.32,2,    400,-999.000,  -999.0,  9.3813
     32MW077_1,  PRS2,     2,  3,      6,      7,2,19961030,0301, 22.7493,-158.0033, 4725,    499.5,   7.1258,  34.0529,2,  34.0519,2,    126.0,2,    124.7,2,    45.99,2,    28.31,2,     2.04,2,    500,-999.000,  -999.0,  7.0782
     32MW077_1,  PRS2,     2,  3,      5,     38,2,19961030,0301, 22.7493,-158.0033, 4725,    599.5,   6.3090,  34.1865,2,  34.1855,2,     52.4,2,     50.5,2,    64.66,2,    35.81,2,     2.65,2,    600,-999.000,  -999.0,  6.2551
     32MW077_1,  PRS2,     2,  3,      4,     36,2,19961030,0301, 22.7493,-158.0033, 4725,    698.9,   5.3938,  34.2961,2,  34.2939,2,     29.9,2,     28.4,2,    82.38,2,    39.73,2,     2.92,2,    698,-999.000,  -999.0,  5.3352
     32MW077_1,  PRS2,     2,  3,      3,     35,2,19961030,0301, 22.7493,-158.0033, 4725,    799.6,   4.6590,  34.3777,2,  34.3763,2,     27.1,2,     25.8,2,    96.43,2,    41.47,2,     3.03,2,    799,-999.000,  -999.0,  4.5958
     32MW077_1,  PRS2,     2,  3,      2,     34,2,19961030,0301, 22.7493,-158.0033, 4725,    899.8,   4.3813,  34.4368,2,  34.4363,2,     31.4,2,     30.7,2,   102.07,2,    41.69,2,     3.04,2,    900,-999.000,  -999.0,  4.3113
     32MW077_1,  PRS2,     2,  3,      1,     33,2,19961030,0301, 22.7493,-158.0033, 4725,   1019.8,   4.0215,  34.4816,2,  34.4806,2,     39.8,2,     39.1,2,   108.89,2,    41.60,2,     3.03,2,   1021,-999.000,  -999.0,  3.9441
     32MW077_1,  PRS2,     2,  4,     23,     30,2,19961030,0559, 22.7525,-157.9995, 4725,      4.3,  26.5056,  35.0644,2,  35.0633,2,    203.5,2,   -999.0,5,  -999.00,5,  -999.00,5,  -999.00,5,      5,-999.000,  -999.0, 26.5047
     32MW077_1,  PRS2,     2,  4,     22,     22,2,19961030,0559, 22.7525,-157.9995, 4725,      4.3,  26.5012,  35.0646,2,  35.0630,2,    203.5,2,    202.9,2,     1.56,2,     0.01,2,     0.05,2,      5,-999.000,  -999.0, 26.5002
     32MW077_1,  PRS2,     2,  4,     21,     21,2,19961030,0559, 22.7525,-157.9995, 4725,     14.7,  26.5124,  35.0635,2,  35.0616,2,    203.5,2,    203.6,2,     1.54,2,     0.00,2,     0.05,2,     15,-999.000,  -999.0, 26.5091
     32MW077_1,  PRS2,     2,  4,     19,     19,2,19961030,0559, 22.7525,-157.9995, 4725,     24.2,  26.5052,  35.0624,2,  35.0745,3,    203.4,3,    203.1,2,     1.71,2,     0.00,2,     0.05,2,     24,-999.000,  -999.0, 26.4997
     32MW077_1,  PRS2,     2,  4,     20,     20,2,19961030,0559, 22.7525,-157.9995, 4725,     24.3,  26.5006,  35.0620,2,  35.0627,2,    203.4,2,   -999.0,5,  -999.00,5,  -999.00,5,  -999.00,5,     25,-999.000,  -999.0, 26.4951
     32MW077_1,  PRS2,     2,  4,     18,     18,2,19961030,0559, 22.7525,-157.9995, 4725,     34.9,  26.4794,  35.0600,2,  35.0596,2,    203.4,2,    203.2,2,     1.52,2,     0.00,2,     0.05,2,     35,-999.000,  -999.0, 26.4715
     32MW077_1,  PRS2,     2,  4,     17,     17,2,19961030,0559, 22.7525,-157.9995, 4725,     43.7,  26.4497,  35.0582,2,  35.0588,2,    203.5,2,    203.1,2,     1.52,2,     0.01,2,     0.05,2,     44,-999.000,  -999.0, 26.4398
     32MW077_1,  PRS2,     2,  4,     16,     16,2,19961030,0559, 22.7525,-157.9995, 4725,     59.6,  26.4438,  35.0576,2,  35.0587,2,    203.5,2,    203.1,2,     1.54,2,     0.00,2,     0.05,2,     60,-999.000,  -999.0, 26.4304
     32MW077_1,  PRS2,     2,  4,     15,     15,2,19961030,0559, 22.7525,-157.9995, 4725,     74.1,  25.9774,  35.0693,2,  35.0678,2,    209.1,2,    209.4,2,     1.62,2,    -0.00,2,     0.06,2,     75,-999.000,  -999.0, 25.9609
     32MW077_1,  PRS2,     2,  4,     14,     14,2,19961030,0559, 22.7525,-157.9995, 4725,     84.4,  23.3685,  35.1103,2,  35.1079,2,    220.7,2,    225.2,2,     1.95,2,    -0.00,2,     0.05,2,     85,-999.000,  -999.0, 23.3511
     32MW077_1,  PRS2,     2,  4,     13,     13,2,19961030,0559, 22.7525,-157.9995, 4725,     95.4,  21.5064,  35.1134,2,  35.1124,2,    212.6,2,    219.3,2,     2.16,2,    -0.00,2,     0.08,2,     96,-999.000,  -999.0, 21.4879
     32MW077_1,  PRS2,     2,  4,     12,     12,2,19961030,0559, 22.7525,-157.9995, 4725,    104.4,  21.0412,  35.1077,2,  35.1057,2,    209.5,2,    213.7,2,     2.29,2,     0.04,2,     0.10,2,    105,-999.000,  -999.0, 21.0212
     32MW077_1,  PRS2,     2,  4,     11,     11,2,19961030,0559, 22.7525,-157.9995, 4725,    114.2,  20.5956,  35.0983,2,  35.0939,2,    207.1,2,    209.3,2,     2.33,2,     0.27,2,     0.12,2,    114,-999.000,  -999.0, 20.5740
     32MW077_1,  PRS2,     2,  4,     10,     32,2,19961030,0559, 22.7525,-157.9995, 4725,    123.8,  19.9728,  35.0760,2,  35.0764,2,    205.7,2,    208.2,2,     2.59,2,     0.68,2,     0.14,2,    125,-999.000,  -999.0, 19.9499
     32MW077_1,  PRS2,     2,  4,      9,      3,2,19961030,0559, 22.7525,-157.9995, 4725,    135.2,  19.6417,  35.0561,2,  35.0551,2,    203.5,2,    205.5,2,     2.75,2,     1.15,2,     0.17,2,    136,-999.000,  -999.0, 19.6170
     32MW077_1,  PRS2,     2,  4,      8,     29,2,19961030,0559, 22.7525,-157.9995, 4725,    149.7,  19.2943,  35.0318,2,  35.0301,2,    202.3,2,    202.2,2,     2.98,2,     1.64,2,     0.21,2,    151,-999.000,  -999.0, 19.2673
     32MW077_1,  PRS2,     2,  4,      7,     28,2,19961030,0559, 22.7525,-157.9995, 4725,    159.8,  19.1521,  35.0207,2,  35.0198,2,    202.6,2,    201.8,2,  -999.00,5,  -999.00,5,  -999.00,5,    160,-999.000,  -999.0, 19.1235
     32MW077_1,  PRS2,     2,  4,      6,      7,2,19961030,0559, 22.7525,-157.9995, 4725,    175.2,  18.6255,  34.9765,2,  34.9770,2,    202.1,2,    202.1,2,     3.34,2,     2.14,2,     0.23,2,    175,-999.000,  -999.0, 18.5947
     32MW077_1,  PRS2,     2,  4,      5,     38,2,19961030,0559, 22.7525,-157.9995, 4725,    185.2,  18.5133,  34.9668,2,  34.9670,2,    202.8,2,    202.2,2,  -999.00,5,  -999.00,5,  -999.00,5,    185,-999.000,  -999.0, 18.4809
     32MW077_1,  PRS2,     2,  4,      4,     36,2,19961030,0559, 22.7525,-157.9995, 4725,    201.3,  17.8820,  34.9012,2,  34.8994,2,    202.0,2,    201.9,2,     3.90,2,     2.75,2,     0.26,2,    202,-999.000,  -999.0, 17.8476
     32MW077_1,  PRS2,     2,  4,      3,     35,2,19961030,0559, 22.7525,-157.9995, 4725,    449.6,   7.8881,  34.0596,2,  34.0587,2,    158.2,2,    171.2,2,    35.63,2,    24.03,2,     1.70,2,    449,-999.000,  -999.0,  7.8429
     32MW077_1,  PRS2,     2,  4,      2,     34,2,19961030,0559, 22.7525,-157.9995, 4725,    749.6,   4.8542,  34.2989,2,  34.2985,2,     26.3,2,     25.3,2,    91.74,2,    40.99,2,     2.98,2,    749,-999.000,  -999.0,  4.7942
     32MW077_1,  PRS2,     2,  4,      1,     33,2,19961030,0559, 22.7525,-157.9995, 4725,   1020.5,   4.1733,  34.4663,2,  34.4665,2,     36.6,2,     37.4,2,   106.62,2,    41.74,2,     3.03,2,   1020,-999.000,  -999.0,  4.0946
     32MW077_1,  PRS2,     2,  5,      7,     28,2,19961030,0857, 22.7512,-157.9987, 4725,      4.2,  26.4796,  35.0595,2,  35.0613,2,    203.5,1,   -999.0,9,  -999.00,9,  -999.00,9,  -999.00,9,      4,-999.000,  -999.0, 26.4787
     32MW077_1,  PRS2,     2,  5,      3,     35,2,19961030,0857, 22.7512,-157.9987, 4725,    249.6,  14.3592,  34.4865,2,  34.4846,2,    201.8,1,   -999.0,9,  -999.00,9,  -999.00,9,  -999.00,9,    251,-999.000,  -999.0, 14.3226
     32MW077_1,  PRS2,     2,  5,      4,     36,2,19961030,0857, 22.7512,-157.9987, 4725,    249.7,  14.3626,  34.4869,2,  34.4862,2,    201.8,1,   -999.0,9,  -999.00,9,  -999.00,9,  -999.00,9,    251,-999.000,  -999.0, 14.3260
     32MW077_1,  PRS2,     2,  5,      6,      7,2,19961030,0857, 22.7512,-157.9987, 4725,    249.8,  14.3635,  34.4869,2,  34.4849,2,    201.6,1,   -999.0,9,  -999.00,9,  -999.00,9,  -999.00,9,    250,-999.000,  -999.0, 14.3269
     32MW077_1,  PRS2,     2,  5,      5,     38,2,19961030,0857, 22.7512,-157.9987, 4725,    249.8,  14.3639,  34.4870,2,  34.4843,2,    201.7,1,   -999.0,9,  -999.00,9,  -999.00,9,  -999.00,9,    250,-999.000,  -999.0, 14.3272
     32MW077_1,  PRS2,     2,  5,      2,     34,2,19961030,0857, 22.7512,-157.9987, 4725,    450.2,   8.0238,  34.0620,2,  34.0629,2,    163.4,1,   -999.0,9,  -999.00,9,  -999.00,9,  -999.00,9,    450,-999.000,  -999.0,  7.9780
     32MW077_1,  PRS2,     2,  5,      1,     33,2,19961030,0857, 22.7512,-157.9987, 4725,   1020.1,   4.1165,  34.4727,2,  34.4716,2,     37.5,1,   -999.0,9,  -999.00,9,  -999.00,9,  -999.00,9,   1020,-999.000,  -999.0,  4.0383
     32MW077_1,  PRS2,     2,  6,     24,     31,2,19961030,1220, 22.7640,-157.9780, 4710,      1.8,  26.5138,  35.0298,2,  35.0284,2,    201.5,1,   -999.0,9,  -999.00,9,  -999.00,9,  -999.00,9,      2,-999.000,  -999.0, 26.5133
     32MW077_1,  PRS2,     2,  6,     23,     30,2,19961030,1220, 22.7640,-157.9780, 4710,      4.4,  26.5141,  35.0299,2,  35.0280,2,    202.7,1,   -999.0,9,  -999.00,9,  -999.00,9,  -999.00,9,      5,-999.000,  -999.0, 26.5131
     32MW077_1,  PRS2,     2,  6,     22,     22,2,19961030,1220, 22.7640,-157.9780, 4710,     10.0,  26.5155,  35.0296,2,  35.0283,2,    202.7,1,   -999.0,9,  -999.00,9,  -999.00,9,  -999.00,9,     10,-999.000,  -999.0, 26.5132
     32MW077_1,  PRS2,     2,  6,     21,     21,2,19961030,1220, 22.7640,-157.9780, 4710,     14.8,  26.5139,  35.0292,2,  35.0280,2,    202.7,1,   -999.0,9,  -999.00,9,  -999.00,9,  -999.00,9,     15,-999.000,  -999.0, 26.5105
     32MW077_1,  PRS2,     2,  6,     20,     20,2,19961030,1220, 22.7640,-157.9780, 4710,     19.2,  26.5161,  35.0277,2,  35.0269,2,    202.6,1,   -999.0,9,  -999.00,9,  -999.00,9,  -999.00,9,     19,-999.000,  -999.0, 26.5118
     32MW077_1,  PRS2,     2,  6,     19,     19,2,19961030,1220, 22.7640,-157.9780, 4710,     24.3,  26.5135,  35.0278,2,  35.0265,2,    202.6,1,   -999.0,9,  -999.00,9,  -999.00,9,  -999.00,9,     25,-999.000,  -999.0, 26.5080
     32MW077_1,  PRS2,     2,  6,     18,     18,2,19961030,1220, 22.7640,-157.9780, 4710,     30.1,  26.5162,  35.0273,2,  35.0300,2,    202.6,1,   -999.0,9,  -999.00,9,  -999.00,9,  -999.00,9,     31,-999.000,  -999.0, 26.5094
     32MW077_1,  PRS2,     2,  6,     17,     17,2,19961030,1220, 22.7640,-157.9780, 4710,     34.6,  26.5223,  35.0320,2,  35.0309,2,    202.6,1,   -999.0,9,  -999.00,9,  -999.00,9,  -999.00,9,     35,-999.000,  -999.0, 26.5144
     32MW077_1,  PRS2,     2,  6,     16,     16,2,19961030,1220, 22.7640,-157.9780, 4710,     39.9,  26.5213,  35.0282,2,  35.0326,2,    202.6,1,   -999.0,9,  -999.00,9,  -999.00,9,  -999.00,9,     40,-999.000,  -999.0, 26.5123
     32MW077_1,  PRS2,     2,  6,     15,     15,2,19961030,1220, 22.7640,-157.9780, 4710,     43.7,  26.5112,  35.0389,2,  35.0399,2,    202.6,1,   -999.0,9,  -999.00,9,  -999.00,9,  -999.00,9,     44,-999.000,  -999.0, 26.5013
     32MW077_1,  PRS2,     2,  6,     14,     14,2,19961030,1220, 22.7640,-157.9780, 4710,     48.7,  26.4896,  35.0415,2,  35.0437,2,    203.0,1,   -999.0,9,  -999.00,9,  -999.00,9,  -999.00,9,     49,-999.000,  -999.0, 26.4786
     32MW077_1,  PRS2,     2,  6,     13,     13,2,19961030,1220, 22.7640,-157.9780, 4710,     54.0,  26.2599,  35.0503,2,  35.0487,2,    203.2,1,   -999.0,9,  -999.00,9,  -999.00,9,  -999.00,9,     54,-999.000,  -999.0, 26.2477
     32MW077_1,  PRS2,     2,  6,     12,     12,2,19961030,1220, 22.7640,-157.9780, 4710,     63.1,  24.3087,  35.1135,2,  35.1083,2,    220.2,1,   -999.0,9,  -999.00,9,  -999.00,9,  -999.00,9,     63,-999.000,  -999.0, 24.2953
     32MW077_1,  PRS2,     2,  6,     11,     11,2,19961030,1220, 22.7640,-157.9780, 4710,     73.9,  22.1537,  35.1240,2,  35.1231,2,    219.6,1,   -999.0,9,  -999.00,9,  -999.00,9,  -999.00,9,     74,-999.000,  -999.0, 22.1390
     32MW077_1,  PRS2,     2,  6,     10,     32,2,19961030,1220, 22.7640,-157.9780, 4710,     83.5,  21.2770,  35.1171,2,  35.1175,2,    215.3,1,   -999.0,9,  -999.00,9,  -999.00,9,  -999.00,9,     83,-999.000,  -999.0, 21.2609
     32MW077_1,  PRS2,     2,  6,      9,      3,2,19961030,1220, 22.7640,-157.9780, 4710,     94.4,  21.1416,  35.1187,2,  35.1182,2,    216.7,1,   -999.0,9,  -999.00,9,  -999.00,9,  -999.00,9,     96,-999.000,  -999.0, 21.1234
     32MW077_1,  PRS2,     2,  6,      8,     29,2,19961030,1220, 22.7640,-157.9780, 4710,    104.0,  20.6645,  35.1049,2,  35.1059,2,    213.3,1,   -999.0,9,  -999.00,9,  -999.00,9,  -999.00,9,    105,-999.000,  -999.0, 20.6449
     32MW077_1,  PRS2,     2,  6,      7,     28,2,19961030,1220, 22.7640,-157.9780, 4710,    114.7,  20.1124,  35.0744,2,  35.0746,2,    198.3,1,   -999.0,9,  -999.00,9,  -999.00,9,  -999.00,9,    115,-999.000,  -999.0, 20.0911
     32MW077_1,  PRS2,     2,  6,      6,      7,2,19961030,1220, 22.7640,-157.9780, 4710,    123.5,  19.7468,  35.0647,2,  35.0680,2,    201.2,1,   -999.0,9,  -999.00,9,  -999.00,9,  -999.00,9,    124,-999.000,  -999.0, 19.7242
     32MW077_1,  PRS2,     2,  6,      5,     38,2,19961030,1220, 22.7640,-157.9780, 4710,    148.8,  18.5989,  34.9777,2,  34.9799,2,    200.2,1,   -999.0,9,  -999.00,9,  -999.00,9,  -999.00,9,    149,-999.000,  -999.0, 18.5728
     32MW077_1,  PRS2,     2,  6,      4,     36,2,19961030,1220, 22.7640,-157.9780, 4710,    174.2,  17.3148,  34.8364,2,  34.8315,2,    200.0,1,   -999.0,9,  -999.00,9,  -999.00,9,  -999.00,9,    174,-999.000,  -999.0, 17.2858
     32MW077_1,  PRS2,     2,  6,      3,     35,2,19961030,1220, 22.7640,-157.9780, 4710,    248.4,  13.6749,  34.4161,2,  34.4253,2,    203.3,1,   -999.0,9,  -999.00,9,  -999.00,9,  -999.00,9,    249,-999.000,  -999.0, 13.6397
     32MW077_1,  PRS2,     2,  6,      2,     34,2,19961030,1220, 22.7640,-157.9780, 4710,    498.8,   7.1057,  34.0550,2,  34.0567,2,    126.4,1,   -999.0,9,  -999.00,9,  -999.00,9,  -999.00,9,    499,-999.000,  -999.0,  7.0583
     32MW077_1,  PRS2,     2,  6,      1,     33,2,19961030,1220, 22.7640,-157.9780, 4710,   1022.0,   3.9325,  34.4916,2,  34.4930,2,     41.3,1,   -999.0,9,  -999.00,9,  -999.00,9,  -999.00,9,   1022,-999.000,  -999.0,  3.8556