BOTTLE,20020809WHPSIObren
EXPOCODE,SECT_ID,STNNBR,CASTNO,SAMPNO,BTLNBR,BTLNBR_FLAG_W,DATE,TIME,LATITUDE,LONGITUDE,DEPTH,CTDPRS,CTDTMP,CTDSAL,CTDSAL_FLAG_W,SALNTY,SALNTY_FLAG_W,CTDOXY,CTDOXY_FLAG_W,OXYGEN,OXYGEN_FLAG_W,SILCAT,SILCAT_FLAG_W,NO2+NO3,NO2+NO3_FLAG_W,PHSPHT,PHSPHT_FLAG_W,CTDRAW,REVTMP,REVPRS,THETA
,,,,,,,,,,,,DBAR,ITS-90,PSS-78,,PSS-78,,UMOL/KG,,UMOL/KG,,UMOL/KG,,UMOL/KG,,UMOL/KG,,,DEG C,DBAR,ITS-90
     32MW077_1,  PRS2,     2,  7,     23,     30,2,19961030,1501, 22.7503,-157.9987, 4725,      4.1,  26.4960,  35.0443,2,  35.0418,2,    202.1,1,   -999.0,9,  -999.00,9,  -999.00,9,  -999.00,9,      5,-999.000,  -999.0, 26.4950
     32MW077_1,  PRS2,     2,  7,     24,     31,2,19961030,1501, 22.7503,-157.9987, 4725,      4.3,  26.4960,  35.0443,2,  35.0445,2,    202.1,1,   -999.0,9,  -999.00,9,  -999.00,9,  -999.00,9,      4,-999.000,  -999.0, 26.4950
     32MW077_1,  PRS2,     2,  7,     21,     21,2,19961030,1501, 22.7503,-157.9987, 4725,     24.7,  26.5049,  35.0439,2,  35.0443,2,    202.1,1,   -999.0,9,  -999.00,9,  -999.00,9,  -999.00,9,     24,-999.000,  -999.0, 26.4993
     32MW077_1,  PRS2,     2,  7,     22,     22,2,19961030,1501, 22.7503,-157.9987, 4725,     24.8,  26.5048,  35.0437,2,  35.0435,2,    202.1,1,   -999.0,9,  -999.00,9,  -999.00,9,  -999.00,9,     25,-999.000,  -999.0, 26.4992
     32MW077_1,  PRS2,     2,  7,     20,     20,2,19961030,1501, 22.7503,-157.9987, 4725,     44.6,  26.4571,  35.0465,2,  35.0478,2,    202.7,1,   -999.0,9,  -999.00,9,  -999.00,9,  -999.00,9,     45,-999.000,  -999.0, 26.4470
     32MW077_1,  PRS2,     2,  7,     19,     19,2,19961030,1501, 22.7503,-157.9987, 4725,     44.6,  26.4562,  35.0467,2,  35.0471,2,    202.7,1,   -999.0,9,  -999.00,9,  -999.00,9,  -999.00,9,     45,-999.000,  -999.0, 26.4461
     32MW077_1,  PRS2,     2,  7,     17,     17,2,19961030,1501, 22.7503,-157.9987, 4725,     73.6,  22.6864,  35.1285,2,  35.1280,2,    219.5,1,   -999.0,9,  -999.00,9,  -999.00,9,  -999.00,9,     74,-999.000,  -999.0, 22.6715
     32MW077_1,  PRS2,     2,  7,     18,     18,2,19961030,1501, 22.7503,-157.9987, 4725,     73.8,  22.6819,  35.1283,2,  35.1276,2,    219.7,1,   -999.0,9,  -999.00,9,  -999.00,9,  -999.00,9,     74,-999.000,  -999.0, 22.6670
     32MW077_1,  PRS2,     2,  7,     15,     15,2,19961030,1501, 22.7503,-157.9987, 4725,     98.4,  21.4368,  35.1174,2,  35.1170,2,    217.2,1,   -999.0,9,  -999.00,9,  -999.00,9,  -999.00,9,     99,-999.000,  -999.0, 21.4177
     32MW077_1,  PRS2,     2,  7,     16,     16,2,19961030,1501, 22.7503,-157.9987, 4725,     98.5,  21.4365,  35.1171,2,  35.1167,2,    217.0,1,   -999.0,9,  -999.00,9,  -999.00,9,  -999.00,9,     98,-999.000,  -999.0, 21.4174
     32MW077_1,  PRS2,     2,  7,     13,     13,2,19961030,1501, 22.7503,-157.9987, 4725,    124.5,  20.3532,  35.0898,2,  35.0904,2,    206.8,1,   -999.0,9,  -999.00,9,  -999.00,9,  -999.00,9,    126,-999.000,  -999.0, 20.3300
     32MW077_1,  PRS2,     2,  7,     14,     14,2,19961030,1501, 22.7503,-157.9987, 4725,    124.8,  20.3474,  35.0899,2,  35.0944,2,    207.5,1,   -999.0,9,  -999.00,9,  -999.00,9,  -999.00,9,    125,-999.000,  -999.0, 20.3241
     32MW077_1,  PRS2,     2,  7,     12,     12,2,19961030,1501, 22.7503,-157.9987, 4725,    150.1,  19.5256,  35.0496,2,  35.0494,2,    205.0,1,   -999.0,9,  -999.00,9,  -999.00,9,  -999.00,9,    150,-999.000,  -999.0, 19.4983
     32MW077_1,  PRS2,     2,  7,     11,     11,2,19961030,1501, 22.7503,-157.9987, 4725,    150.1,  19.5235,  35.0492,2,  35.0479,2,    204.6,1,   -999.0,9,  -999.00,9,  -999.00,9,  -999.00,9,    151,-999.000,  -999.0, 19.4962
     32MW077_1,  PRS2,     2,  7,      9,      3,2,19961030,1501, 22.7503,-157.9987, 4725,    175.1,  18.7125,  34.9861,2,  34.9905,2,    201.0,1,   -999.0,9,  -999.00,9,  -999.00,9,  -999.00,9,    175,-999.000,  -999.0, 18.6816
     32MW077_1,  PRS2,     2,  7,     10,     32,2,19961030,1501, 22.7503,-157.9987, 4725,    175.3,  18.6991,  34.9843,2,  34.9909,2,    200.9,1,   -999.0,9,  -999.00,9,  -999.00,9,  -999.00,9,    175,-999.000,  -999.0, 18.6682
     32MW077_1,  PRS2,     2,  7,      8,     29,2,19961030,1501, 22.7503,-157.9987, 4725,    251.5,  15.4922,  34.6025,2,  34.6059,2,    196.3,1,   -999.0,9,  -999.00,9,  -999.00,9,  -999.00,9,    252,-999.000,  -999.0, 15.4534
     32MW077_1,  PRS2,     2,  7,      7,     28,2,19961030,1501, 22.7503,-157.9987, 4725,    251.5,  15.4946,  34.6026,2,  34.6068,2,    196.3,1,   -999.0,9,  -999.00,9,  -999.00,9,  -999.00,9,    251,-999.000,  -999.0, 15.4558
     32MW077_1,  PRS2,     2,  7,      5,     38,2,19961030,1501, 22.7503,-157.9987, 4725,    501.7,   6.9909,  34.0549,2,  34.0595,2,    121.1,1,   -999.0,9,  -999.00,9,  -999.00,9,  -999.00,9,    502,-999.000,  -999.0,  6.9436
     32MW077_1,  PRS2,     2,  7,      6,      7,2,19961030,1501, 22.7503,-157.9987, 4725,    501.9,   6.9742,  34.0534,2,  34.0562,2,    121.4,1,   -999.0,9,  -999.00,9,  -999.00,9,  -999.00,9,    502,-999.000,  -999.0,  6.9270
     32MW077_1,  PRS2,     2,  7,      3,     35,2,19961030,1501, 22.7503,-157.9987, 4725,    750.2,   4.8825,  34.3161,2,  34.3151,2,     25.9,1,   -999.0,9,  -999.00,9,  -999.00,9,  -999.00,9,    750,-999.000,  -999.0,  4.8223
     32MW077_1,  PRS2,     2,  7,      4,     36,2,19961030,1501, 22.7503,-157.9987, 4725,    750.7,   4.8799,  34.3154,2,  34.3121,2,     25.9,1,   -999.0,9,  -999.00,9,  -999.00,9,  -999.00,9,    752,-999.000,  -999.0,  4.8197
     32MW077_1,  PRS2,     2,  7,      1,     33,2,19961030,1501, 22.7503,-157.9987, 4725,   1020.1,   3.9396,  34.4910,2,  34.4911,2,     41.1,1,   -999.0,9,  -999.00,9,  -999.00,9,  -999.00,9,   1020,-999.000,  -999.0,  3.8628
     32MW077_1,  PRS2,     2,  7,      2,     34,2,19961030,1501, 22.7503,-157.9987, 4725,   1020.6,   3.9398,  34.4911,2,  34.4921,2,     41.1,1,   -999.0,9,  -999.00,9,  -999.00,9,  -999.00,9,   1020,-999.000,  -999.0,  3.8629
     32MW077_1,  PRS2,     2,  8,     14,     14,2,19961030,1801, 22.7782,-157.9722, 4700,      3.7,  26.5057,  35.0145,2,  35.0147,2,    201.1,1,   -999.0,9,  -999.00,9,  -999.00,9,  -999.00,9,      4,-999.000,  -999.0, 26.5049
     32MW077_1,  PRS2,     2,  8,     13,     13,2,19961030,1801, 22.7782,-157.9722, 4700,     24.9,  26.5083,  35.0141,2,  35.0140,2,    201.2,1,   -999.0,9,  -999.00,9,  -999.00,9,  -999.00,9,     25,-999.000,  -999.0, 26.5027
     32MW077_1,  PRS2,     2,  8,     12,     12,2,19961030,1801, 22.7782,-157.9722, 4700,     44.0,  26.3104,  35.0539,2,  35.0525,2,    204.2,1,   -999.0,9,  -999.00,9,  -999.00,9,  -999.00,9,     45,-999.000,  -999.0, 26.3005
     32MW077_1,  PRS2,     2,  8,     11,     11,2,19961030,1801, 22.7782,-157.9722, 4700,     74.6,  23.7546,  35.1170,2,  35.1174,2,    223.0,1,   -999.0,9,  -999.00,9,  -999.00,9,  -999.00,9,     74,-999.000,  -999.0, 23.7390
     32MW077_1,  PRS2,     2,  8,     10,     32,2,19961030,1801, 22.7782,-157.9722, 4700,     99.2,  22.3567,  35.1087,2,  35.1070,2,    219.7,1,   -999.0,9,  -999.00,9,  -999.00,9,  -999.00,9,     99,-999.000,  -999.0, 22.3368
     32MW077_1,  PRS2,     2,  8,      9,      3,2,19961030,1801, 22.7782,-157.9722, 4700,    124.9,  21.1479,  35.1172,2,  35.1163,2,    213.8,1,   -999.0,9,  -999.00,9,  -999.00,9,  -999.00,9,    126,-999.000,  -999.0, 21.1238
     32MW077_1,  PRS2,     2,  8,      8,     29,2,19961030,1801, 22.7782,-157.9722, 4700,    149.6,  19.8675,  35.0619,2,  35.0630,2,    195.2,1,   -999.0,9,  -999.00,9,  -999.00,9,  -999.00,9,    150,-999.000,  -999.0, 19.8400
     32MW077_1,  PRS2,     2,  8,      7,     28,2,19961030,1801, 22.7782,-157.9722, 4700,    175.3,  18.7793,  34.9882,2,  34.9868,2,    198.7,1,   -999.0,9,  -999.00,9,  -999.00,9,  -999.00,9,    176,-999.000,  -999.0, 18.7483
     32MW077_1,  PRS2,     2,  8,      6,      7,2,19961030,1801, 22.7782,-157.9722, 4700,    250.7,  15.3091,  34.5791,2,  34.5825,2,    194.0,1,   -999.0,9,  -999.00,9,  -999.00,9,  -999.00,9,    250,-999.000,  -999.0, 15.2706
     32MW077_1,  PRS2,     2,  8,      5,     38,2,19961030,1801, 22.7782,-157.9722, 4700,    500.6,   7.0096,  34.0558,2,  34.0557,2,    123.5,1,   -999.0,9,  -999.00,9,  -999.00,9,  -999.00,9,    501,-999.000,  -999.0,  6.9623
     32MW077_1,  PRS2,     2,  8,      4,     36,2,19961030,1801, 22.7782,-157.9722, 4700,    750.1,   5.1671,  34.3379,2,  34.3361,2,     26.7,1,   -999.0,9,  -999.00,9,  -999.00,9,  -999.00,9,    750,-999.000,  -999.0,  5.1052
     32MW077_1,  PRS2,     2,  8,      1,     33,2,19961030,1801, 22.7782,-157.9722, 4700,   1021.6,   4.0579,  34.4817,2,  34.4824,2,     39.3,1,   -999.0,9,  -999.00,9,  -999.00,9,  -999.00,9,   1022,-999.000,  -999.0,  3.9800
     32MW077_1,  PRS2,     2,  8,      2,     34,2,19961030,1801, 22.7782,-157.9722, 4700,   1021.8,   4.0576,  34.4817,2,  34.4827,2,     39.3,1,   -999.0,9,  -999.00,9,  -999.00,9,  -999.00,9,   1022,-999.000,  -999.0,  3.9797
     32MW077_1,  PRS2,     2,  8,      3,     35,2,19961030,1801, 22.7782,-157.9722, 4700,   1021.9,   4.0575,  34.4817,2,  34.4820,2,     39.3,1,   -999.0,9,  -999.00,9,  -999.00,9,  -999.00,9,   1022,-999.000,  -999.0,  3.9796
     32MW077_1,  PRS2,     2,  9,     12,     12,2,19961030,2056, 22.7735,-157.9758, 4705,      4.3,  26.5325,  35.0174,2,  35.0182,2,    200.8,1,   -999.0,9,  -999.00,9,  -999.00,9,  -999.00,9,      4,-999.000,  -999.0, 26.5315
     32MW077_1,  PRS2,     2,  9,     11,     11,2,19961030,2056, 22.7735,-157.9758, 4705,     24.8,  26.5226,  35.0173,2,  35.0189,2,    201.1,1,   -999.0,9,  -999.00,9,  -999.00,9,  -999.00,9,     25,-999.000,  -999.0, 26.5170
     32MW077_1,  PRS2,     2,  9,     10,     32,2,19961030,2056, 22.7735,-157.9758, 4705,     43.5,  26.4942,  35.0252,2,  35.0256,2,    201.9,1,   -999.0,9,  -999.00,9,  -999.00,9,  -999.00,9,     44,-999.000,  -999.0, 26.4844
     32MW077_1,  PRS2,     2,  9,      9,      3,2,19961030,2056, 22.7735,-157.9758, 4705,     74.5,  23.2327,  35.1268,2,  35.1277,2,    225.0,1,   -999.0,9,  -999.00,9,  -999.00,9,  -999.00,9,     73,-999.000,  -999.0, 23.2174
     32MW077_1,  PRS2,     2,  9,      8,     29,2,19961030,2056, 22.7735,-157.9758, 4705,     99.8,  21.1630,  35.1178,2,  35.1178,2,    219.6,1,   -999.0,9,  -999.00,9,  -999.00,9,  -999.00,9,    100,-999.000,  -999.0, 21.1438
     32MW077_1,  PRS2,     2,  9,      7,     28,2,19961030,2056, 22.7735,-157.9758, 4705,    124.7,  19.3589,  35.0328,2,  35.0330,2,    200.5,1,   -999.0,9,  -999.00,9,  -999.00,9,  -999.00,9,    125,-999.000,  -999.0, 19.3364
     32MW077_1,  PRS2,     2,  9,      6,      7,2,19961030,2056, 22.7735,-157.9758, 4705,    150.1,  18.2857,  34.9416,2,  34.9409,2,    201.4,1,   -999.0,9,  -999.00,9,  -999.00,9,  -999.00,9,    150,-999.000,  -999.0, 18.2597
     32MW077_1,  PRS2,     2,  9,      5,     38,2,19961030,2056, 22.7735,-157.9758, 4705,    175.3,  17.0872,  34.7982,2,  34.7976,2,    200.1,1,   -999.0,9,  -999.00,9,  -999.00,9,  -999.00,9,    176,-999.000,  -999.0, 17.0582
     32MW077_1,  PRS2,     2,  9,      4,     36,2,19961030,2056, 22.7735,-157.9758, 4705,    249.1,  14.3862,  34.4780,2,  34.4762,2,    193.3,1,   -999.0,9,  -999.00,9,  -999.00,9,  -999.00,9,    249,-999.000,  -999.0, 14.3497
     32MW077_1,  PRS2,     2,  9,      3,     35,2,19961030,2056, 22.7735,-157.9758, 4705,    501.2,   7.0606,  34.0554,2,  34.0552,2,    122.6,1,   -999.0,9,  -999.00,9,  -999.00,9,  -999.00,9,    502,-999.000,  -999.0,  7.0131
     32MW077_1,  PRS2,     2,  9,      2,     34,2,19961030,2056, 22.7735,-157.9758, 4705,    749.1,   5.2033,  34.3373,2,  34.3376,2,     26.1,1,   -999.0,9,  -999.00,9,  -999.00,9,  -999.00,9,    749,-999.000,  -999.0,  5.1413
     32MW077_1,  PRS2,     2,  9,      1,     33,2,19961030,2056, 22.7735,-157.9758, 4705,   1020.7,   4.1035,  34.4769,2,  34.4789,2,     38.5,1,   -999.0,9,  -999.00,9,  -999.00,9,  -999.00,9,   1021,-999.000,  -999.0,  4.0253
     32MW077_1,  PRS2,     2, 10,     19,     19,2,19961030,2359, 22.7705,-157.9783, 4710,      4.3,  26.6061,  35.0261,2,  35.0243,2,    202.0,1,   -999.0,9,  -999.00,9,  -999.00,9,  -999.00,9,      4,-999.000,  -999.0, 26.6051
     32MW077_1,  PRS2,     2, 10,     18,     18,2,19961030,2359, 22.7705,-157.9783, 4710,     14.8,  26.5503,  35.0247,2,  35.0252,2,    201.9,1,   -999.0,9,  -999.00,9,  -999.00,9,  -999.00,9,     15,-999.000,  -999.0, 26.5469
     32MW077_1,  PRS2,     2, 10,     17,     17,2,19961030,2359, 22.7705,-157.9783, 4710,     28.7,  26.5221,  35.0275,2,  35.0566,4,    202.4,1,   -999.0,9,  -999.00,9,  -999.00,9,  -999.00,9,     29,-999.000,  -999.0, 26.5157
     32MW077_1,  PRS2,     2, 10,     16,     16,2,19961030,2359, 22.7705,-157.9783, 4710,     44.7,  26.2255,  35.0484,2,  35.0476,2,    204.6,1,   -999.0,9,  -999.00,9,  -999.00,9,  -999.00,9,     45,-999.000,  -999.0, 26.2154
     32MW077_1,  PRS2,     2, 10,     15,     15,2,19961030,2359, 22.7705,-157.9783, 4710,     60.0,  22.7754,  35.1312,2,  35.1275,2,    222.0,1,   -999.0,9,  -999.00,9,  -999.00,9,  -999.00,9,     60,-999.000,  -999.0, 22.7632
     32MW077_1,  PRS2,     2, 10,     14,     14,2,19961030,2359, 22.7705,-157.9783, 4710,     74.2,  21.5270,  35.1174,2,  35.1180,2,    215.7,1,   -999.0,9,  -999.00,9,  -999.00,9,  -999.00,9,     74,-999.000,  -999.0, 21.5125
     32MW077_1,  PRS2,     2, 10,     13,     13,2,19961030,2359, 22.7705,-157.9783, 4710,     90.0,  20.8765,  35.1113,2,  35.1115,2,    216.2,1,   -999.0,9,  -999.00,9,  -999.00,9,  -999.00,9,     90,-999.000,  -999.0, 20.8594
     32MW077_1,  PRS2,     2, 10,     12,     12,2,19961030,2359, 22.7705,-157.9783, 4710,    104.5,  20.2290,  35.0800,2,  35.0833,2,    203.3,1,   -999.0,9,  -999.00,9,  -999.00,9,  -999.00,9,    105,-999.000,  -999.0, 20.2095
     32MW077_1,  PRS2,     2, 10,     11,     11,2,19961030,2359, 22.7705,-157.9783, 4710,    119.4,  19.7847,  35.0578,2,  35.0564,2,    199.1,1,   -999.0,9,  -999.00,9,  -999.00,9,  -999.00,9,    120,-999.000,  -999.0, 19.7628
     32MW077_1,  PRS2,     2, 10,     10,     32,2,19961030,2359, 22.7705,-157.9783, 4710,    134.4,  19.3573,  35.0331,2,  35.0316,2,    201.8,1,   -999.0,9,  -999.00,9,  -999.00,9,  -999.00,9,    134,-999.000,  -999.0, 19.3331
     32MW077_1,  PRS2,     2, 10,      9,      3,2,19961030,2359, 22.7705,-157.9783, 4710,    148.9,  18.7527,  34.9851,2,  34.9876,2,    199.2,1,   -999.0,9,  -999.00,9,  -999.00,9,  -999.00,9,    149,-999.000,  -999.0, 18.7265
     32MW077_1,  PRS2,     2, 10,      8,     29,2,19961030,2359, 22.7705,-157.9783, 4710,    499.9,   7.0223,  34.0576,2,  34.0574,2,    120.6,1,   -999.0,9,  -999.00,9,  -999.00,9,  -999.00,9,    500,-999.000,  -999.0,  6.9751
     32MW077_1,  PRS2,     2, 10,      7,     28,2,19961030,2359, 22.7705,-157.9783, 4710,    749.5,   5.0126,  34.3666,2,  34.3651,2,     26.9,1,   -999.0,9,  -999.00,9,  -999.00,9,  -999.00,9,    749,-999.000,  -999.0,  4.9516
     32MW077_1,  PRS2,     2, 10,      6,      7,2,19961030,2359, 22.7705,-157.9783, 4710,   1019.4,   4.0060,  34.4869,2,  34.4864,2,     40.4,1,   -999.0,9,  -999.00,9,  -999.00,9,  -999.00,9,   1019,-999.000,  -999.0,  3.9287
     32MW077_1,  PRS2,     2, 10,      5,     38,2,19961030,2359, 22.7705,-157.9783, 4710,   1019.7,   4.0049,  34.4871,2,  34.4871,2,     40.4,1,   -999.0,9,  -999.00,9,  -999.00,9,  -999.00,9,   1019,-999.000,  -999.0,  3.9276
     32MW077_1,  PRS2,     2, 10,      4,     36,2,19961030,2359, 22.7705,-157.9783, 4710,   1020.1,   4.0042,  34.4871,2,  34.4871,2,     40.4,1,   -999.0,9,  -999.00,9,  -999.00,9,  -999.00,9,   1020,-999.000,  -999.0,  3.9268
     32MW077_1,  PRS2,     2, 10,      3,     35,2,19961030,2359, 22.7705,-157.9783, 4710,   1020.2,   4.0039,  34.4870,2,  34.4890,2,     40.4,1,   -999.0,9,  -999.00,9,  -999.00,9,  -999.00,9,   1021,-999.000,  -999.0,  3.9265
     32MW077_1,  PRS2,     2, 10,      2,     34,2,19961030,2359, 22.7705,-157.9783, 4710,   1020.5,   4.0024,  34.4873,2,  34.4885,2,     40.3,1,   -999.0,9,  -999.00,9,  -999.00,9,  -999.00,9,   1020,-999.000,  -999.0,  3.9251
     32MW077_1,  PRS2,     2, 10,      1,     33,2,19961030,2359, 22.7705,-157.9783, 4710,   1020.6,   4.0019,  34.4872,2,  34.4869,2,     40.3,1,   -999.0,9,  -999.00,9,  -999.00,9,  -999.00,9,   1021,-999.000,  -999.0,  3.9246