BOTTLE,20020809WHPSIObren
EXPOCODE,SECT_ID,STNNBR,CASTNO,SAMPNO,BTLNBR,BTLNBR_FLAG_W,DATE,TIME,LATITUDE,LONGITUDE,DEPTH,CTDPRS,CTDTMP,CTDSAL,CTDSAL_FLAG_W,SALNTY,SALNTY_FLAG_W,CTDOXY,CTDOXY_FLAG_W,OXYGEN,OXYGEN_FLAG_W,SILCAT,SILCAT_FLAG_W,NO2+NO3,NO2+NO3_FLAG_W,PHSPHT,PHSPHT_FLAG_W,CTDRAW,REVTMP,REVPRS,THETA
,,,,,,,,,,,,DBAR,ITS-90,PSS-78,,PSS-78,,UMOL/KG,,UMOL/KG,,UMOL/KG,,UMOL/KG,,UMOL/KG,,,DEG C,DBAR,ITS-90
     32MW077_1,  PRS2,     2, 11,     24,     31,2,19961031,0257, 22.7618,-157.9870, 4715,      2.5,  26.5435,  35.0217,2,  35.0307,2,    202.3,1,   -999.0,9,  -999.00,9,  -999.00,9,  -999.00,9,      2,-999.000,  -999.0, 26.5429
     32MW077_1,  PRS2,     2, 11,     23,     30,2,19961031,0257, 22.7618,-157.9870, 4715,      5.0,  26.5372,  35.0214,2,  35.0498,4,    202.2,1,   -999.0,9,  -999.00,9,  -999.00,9,  -999.00,9,      5,-999.000,  -999.0, 26.5361
     32MW077_1,  PRS2,     2, 11,     22,     22,2,19961031,0257, 22.7618,-157.9870, 4715,      9.0,  26.5434,  35.0212,2,  35.0196,2,    202.2,1,   -999.0,9,  -999.00,9,  -999.00,9,  -999.00,9,      9,-999.000,  -999.0, 26.5414
     32MW077_1,  PRS2,     2, 11,     21,     21,2,19961031,0257, 22.7618,-157.9870, 4715,     14.1,  26.5486,  35.0216,2,  35.0212,2,    202.2,1,   -999.0,9,  -999.00,9,  -999.00,9,  -999.00,9,     14,-999.000,  -999.0, 26.5454
     32MW077_1,  PRS2,     2, 11,     20,     20,2,19961031,0257, 22.7618,-157.9870, 4715,     19.2,  26.5426,  35.0207,2,  35.0196,2,    202.2,1,   -999.0,9,  -999.00,9,  -999.00,9,  -999.00,9,     19,-999.000,  -999.0, 26.5383
     32MW077_1,  PRS2,     2, 11,     19,     19,2,19961031,0257, 22.7618,-157.9870, 4715,     23.9,  26.5340,  35.0241,2,  35.0297,2,    202.2,1,   -999.0,9,  -999.00,9,  -999.00,9,  -999.00,9,     24,-999.000,  -999.0, 26.5286
     32MW077_1,  PRS2,     2, 11,     18,     18,2,19961031,0257, 22.7618,-157.9870, 4715,     29.5,  26.4932,  35.0312,2,  35.0302,2,    202.5,1,   -999.0,9,  -999.00,9,  -999.00,9,  -999.00,9,     30,-999.000,  -999.0, 26.4866
     32MW077_1,  PRS2,     2, 11,     17,     17,2,19961031,0257, 22.7618,-157.9870, 4715,     35.0,  26.4047,  35.0545,2,  35.0489,2,    203.0,1,   -999.0,9,  -999.00,9,  -999.00,9,  -999.00,9,     36,-999.000,  -999.0, 26.3968
     32MW077_1,  PRS2,     2, 11,     16,     16,2,19961031,0257, 22.7618,-157.9870, 4715,     39.2,  26.3252,  35.0840,2,  35.0842,2,    205.0,1,   -999.0,9,  -999.00,9,  -999.00,9,  -999.00,9,     40,-999.000,  -999.0, 26.3164
     32MW077_1,  PRS2,     2, 11,     15,     15,2,19961031,0257, 22.7618,-157.9870, 4715,     45.0,  25.7434,  35.0628,2,  35.0599,2,    207.2,1,   -999.0,9,  -999.00,9,  -999.00,9,  -999.00,9,     44,-999.000,  -999.0, 25.7335
     32MW077_1,  PRS2,     2, 11,     14,     14,2,19961031,0257, 22.7618,-157.9870, 4715,     49.3,  24.6998,  35.1028,2,  35.0992,2,    215.4,1,   -999.0,9,  -999.00,9,  -999.00,9,  -999.00,9,     49,-999.000,  -999.0, 24.6892
     32MW077_1,  PRS2,     2, 11,     13,     13,2,19961031,0257, 22.7618,-157.9870, 4715,     54.7,  23.3338,  35.1268,2,  35.1255,2,    224.7,1,   -999.0,9,  -999.00,9,  -999.00,9,  -999.00,9,     55,-999.000,  -999.0, 23.3225
     32MW077_1,  PRS2,     2, 11,     12,     12,2,19961031,0257, 22.7618,-157.9870, 4715,     64.3,  22.3256,  35.1269,2,  35.1246,2,    220.2,1,   -999.0,9,  -999.00,9,  -999.00,9,  -999.00,9,     64,-999.000,  -999.0, 22.3128
     32MW077_1,  PRS2,     2, 11,     11,     11,2,19961031,0257, 22.7618,-157.9870, 4715,     74.9,  21.6016,  35.1135,2,  35.1142,2,    213.8,1,   -999.0,9,  -999.00,9,  -999.00,9,  -999.00,9,     75,-999.000,  -999.0, 21.5870
     32MW077_1,  PRS2,     2, 11,     10,     32,2,19961031,0257, 22.7618,-157.9870, 4715,     84.5,  21.1092,  35.1165,2,  35.1158,2,    216.2,1,   -999.0,9,  -999.00,9,  -999.00,9,  -999.00,9,     85,-999.000,  -999.0, 21.0929
     32MW077_1,  PRS2,     2, 11,      9,      3,2,19961031,0257, 22.7618,-157.9870, 4715,     93.4,  20.8894,  35.1119,2,  35.1131,2,    214.8,1,   -999.0,9,  -999.00,9,  -999.00,9,  -999.00,9,     94,-999.000,  -999.0, 20.8716
     32MW077_1,  PRS2,     2, 11,      8,     29,2,19961031,0257, 22.7618,-157.9870, 4715,    104.9,  20.6949,  35.1061,2,  35.1072,2,    212.5,1,   -999.0,9,  -999.00,9,  -999.00,9,  -999.00,9,    104,-999.000,  -999.0, 20.6750
     32MW077_1,  PRS2,     2, 11,      7,     28,2,19961031,0257, 22.7618,-157.9870, 4715,    114.9,  20.0574,  35.0725,2,  35.0739,2,    198.7,1,   -999.0,9,  -999.00,9,  -999.00,9,  -999.00,9,    115,-999.000,  -999.0, 20.0362
     32MW077_1,  PRS2,     2, 11,      6,      7,2,19961031,0257, 22.7618,-157.9870, 4715,    124.4,  19.8535,  35.0615,2,  35.0595,2,    198.7,1,   -999.0,9,  -999.00,9,  -999.00,9,  -999.00,9,    124,-999.000,  -999.0, 19.8306
     32MW077_1,  PRS2,     2, 11,      5,     38,2,19961031,0257, 22.7618,-157.9870, 4715,    149.5,  19.0711,  35.0126,2,  35.0134,2,    198.5,1,   -999.0,9,  -999.00,9,  -999.00,9,  -999.00,9,    149,-999.000,  -999.0, 19.0444
     32MW077_1,  PRS2,     2, 11,      4,     36,2,19961031,0257, 22.7618,-157.9870, 4715,    174.4,  18.1112,  34.9160,2,  34.9092,2,    199.0,1,   -999.0,9,  -999.00,9,  -999.00,9,  -999.00,9,    175,-999.000,  -999.0, 18.0811
     32MW077_1,  PRS2,     2, 11,      3,     35,2,19961031,0257, 22.7618,-157.9870, 4715,    250.2,  14.2970,  34.4701,2,  34.4705,2,    193.2,1,   -999.0,9,  -999.00,9,  -999.00,9,  -999.00,9,    250,-999.000,  -999.0, 14.2604
     32MW077_1,  PRS2,     2, 11,      2,     34,2,19961031,0257, 22.7618,-157.9870, 4715,    500.4,   7.3139,  34.0548,2,  34.0574,2,    137.2,1,   -999.0,9,  -999.00,9,  -999.00,9,  -999.00,9,    500,-999.000,  -999.0,  7.2655
     32MW077_1,  PRS2,     2, 11,      1,     33,2,19961031,0257, 22.7618,-157.9870, 4715,   1020.1,   4.0448,  34.4845,2,  34.4875,2,     40.2,1,   -999.0,9,  -999.00,9,  -999.00,9,  -999.00,9,   1021,-999.000,  -999.0,  3.9671
     32MW077_1,  PRS2,     2, 12,     24,     31,2,19961031,0557, 22.7512,-157.9977, 4720,      4.5,  26.5086,  35.0190,2,  35.0187,2,    202.7,1,   -999.0,9,  -999.00,9,  -999.00,9,  -999.00,9,      5,-999.000,  -999.0, 26.5076
     32MW077_1,  PRS2,     2, 12,     23,     30,2,19961031,0557, 22.7512,-157.9977, 4720,      4.5,  26.5080,  35.0191,2,  35.0179,2,    202.6,1,   -999.0,9,  -999.00,9,  -999.00,9,  -999.00,9,      5,-999.000,  -999.0, 26.5070
     32MW077_1,  PRS2,     2, 12,     22,     22,2,19961031,0557, 22.7512,-157.9977, 4720,     20.0,  26.5230,  35.0191,2,  35.0180,2,    202.6,1,   -999.0,9,  -999.00,9,  -999.00,9,  -999.00,9,     21,-999.000,  -999.0, 26.5185
     32MW077_1,  PRS2,     2, 12,     21,     21,2,19961031,0557, 22.7512,-157.9977, 4720,     20.0,  26.5229,  35.0190,2,  35.0196,2,    202.6,1,   -999.0,9,  -999.00,9,  -999.00,9,  -999.00,9,     20,-999.000,  -999.0, 26.5184
     32MW077_1,  PRS2,     2, 12,     20,     20,2,19961031,0557, 22.7512,-157.9977, 4720,     39.6,  26.5256,  35.0182,2,  35.0196,2,    202.7,1,   -999.0,9,  -999.00,9,  -999.00,9,  -999.00,9,     40,-999.000,  -999.0, 26.5166
     32MW077_1,  PRS2,     2, 12,     19,     19,2,19961031,0557, 22.7512,-157.9977, 4720,     39.6,  26.5247,  35.0180,2,  35.0191,2,    202.7,1,   -999.0,9,  -999.00,9,  -999.00,9,  -999.00,9,     40,-999.000,  -999.0, 26.5157
     32MW077_1,  PRS2,     2, 12,     18,     18,2,19961031,0557, 22.7512,-157.9977, 4720,     60.0,  26.3900,  35.0786,2,  35.0791,2,    203.5,1,   -999.0,9,  -999.00,9,  -999.00,9,  -999.00,9,     61,-999.000,  -999.0, 26.3765
     32MW077_1,  PRS2,     2, 12,     17,     17,2,19961031,0557, 22.7512,-157.9977, 4720,     60.0,  26.3881,  35.0797,2,  35.0809,2,    203.4,1,   -999.0,9,  -999.00,9,  -999.00,9,  -999.00,9,     61,-999.000,  -999.0, 26.3746
     32MW077_1,  PRS2,     2, 12,     16,     16,2,19961031,0557, 22.7512,-157.9977, 4720,     78.3,  24.7765,  35.1002,2,  35.0926,2,    216.6,1,   -999.0,9,  -999.00,9,  -999.00,9,  -999.00,9,     78,-999.000,  -999.0, 24.7596
     32MW077_1,  PRS2,     2, 12,     15,     15,2,19961031,0557, 22.7512,-157.9977, 4720,     78.3,  24.7862,  35.0926,2,  35.0992,2,    216.9,1,   -999.0,9,  -999.00,9,  -999.00,9,  -999.00,9,     79,-999.000,  -999.0, 24.7694
     32MW077_1,  PRS2,     2, 12,     14,     14,2,19961031,0557, 22.7512,-157.9977, 4720,     99.6,  21.7265,  35.1143,2,  35.1135,2,    215.4,1,   -999.0,9,  -999.00,9,  -999.00,9,  -999.00,9,    100,-999.000,  -999.0, 21.7069
     32MW077_1,  PRS2,     2, 12,     13,     13,2,19961031,0557, 22.7512,-157.9977, 4720,     99.8,  21.7131,  35.1153,2,  35.1140,2,    211.7,1,   -999.0,9,  -999.00,9,  -999.00,9,  -999.00,9,    101,-999.000,  -999.0, 21.6936
     32MW077_1,  PRS2,     2, 12,     11,     11,2,19961031,0557, 22.7512,-157.9977, 4720,    120.0,  20.7207,  35.1098,2,  35.1096,2,    211.2,1,   -999.0,9,  -999.00,9,  -999.00,9,  -999.00,9,    120,-999.000,  -999.0, 20.6979
     32MW077_1,  PRS2,     2, 12,     12,     12,2,19961031,0557, 22.7512,-157.9977, 4720,    120.3,  20.7177,  35.1090,2,  35.1107,2,    211.1,1,   -999.0,9,  -999.00,9,  -999.00,9,  -999.00,9,    120,-999.000,  -999.0, 20.6949
     32MW077_1,  PRS2,     2, 12,      9,      3,2,19961031,0557, 22.7512,-157.9977, 4720,    139.7,  20.0105,  35.0698,2,  35.0710,2,    195.7,1,   -999.0,9,  -999.00,9,  -999.00,9,  -999.00,9,    141,-999.000,  -999.0, 19.9847
     32MW077_1,  PRS2,     2, 12,     10,     32,2,19961031,0557, 22.7512,-157.9977, 4720,    139.8,  20.0106,  35.0697,2,  35.0703,2,    195.9,1,   -999.0,9,  -999.00,9,  -999.00,9,  -999.00,9,    140,-999.000,  -999.0, 19.9848
     32MW077_1,  PRS2,     2, 12,      8,     29,2,19961031,0557, 22.7512,-157.9977, 4720,    158.3,  19.3113,  35.0318,2,  35.0329,2,    200.6,1,   -999.0,9,  -999.00,9,  -999.00,9,  -999.00,9,    159,-999.000,  -999.0, 19.2827
     32MW077_1,  PRS2,     2, 12,      7,     28,2,19961031,0557, 22.7512,-157.9977, 4720,    158.3,  19.3096,  35.0323,2,  35.0318,2,    200.4,1,   -999.0,9,  -999.00,9,  -999.00,9,  -999.00,9,    158,-999.000,  -999.0, 19.2811
     32MW077_1,  PRS2,     2, 12,      5,     38,2,19961031,0557, 22.7512,-157.9977, 4720,    180.6,  18.4951,  34.9580,2,  34.9583,2,    199.3,1,   -999.0,9,  -999.00,9,  -999.00,9,  -999.00,9,    182,-999.000,  -999.0, 18.4636
     32MW077_1,  PRS2,     2, 12,      6,      7,2,19961031,0557, 22.7512,-157.9977, 4720,    180.7,  18.4931,  34.9574,2,  34.9564,2,    199.3,1,   -999.0,9,  -999.00,9,  -999.00,9,  -999.00,9,    181,-999.000,  -999.0, 18.4615
     32MW077_1,  PRS2,     2, 12,      3,     35,2,19961031,0557, 22.7512,-157.9977, 4720,    199.3,  17.8328,  34.8917,2,  34.8883,2,    202.4,1,   -999.0,9,  -999.00,9,  -999.00,9,  -999.00,9,    200,-999.000,  -999.0, 17.7988
     32MW077_1,  PRS2,     2, 12,      4,     36,2,19961031,0557, 22.7512,-157.9977, 4720,    200.0,  17.8315,  34.8928,2,  34.8925,2,    202.3,1,   -999.0,9,  -999.00,9,  -999.00,9,  -999.00,9,    201,-999.000,  -999.0, 17.7974
     32MW077_1,  PRS2,     2, 12,      2,     34,2,19961031,0557, 22.7512,-157.9977, 4720,    501.7,   7.0666,  34.0577,2,  34.0579,2,    122.3,1,   -999.0,9,  -999.00,9,  -999.00,9,  -999.00,9,    501,-999.000,  -999.0,  7.0191
     32MW077_1,  PRS2,     2, 12,      1,     33,2,19961031,0557, 22.7512,-157.9977, 4720,   1021.9,   4.0717,  34.4812,2,  34.4812,2,     39.1,1,   -999.0,9,  -999.00,9,  -999.00,9,  -999.00,9,   1023,-999.000,  -999.0,  3.9937
     32MW077_1,  PRS2,     2, 13,     12,     12,2,19961031,0856, 22.7550,-158.0315, 4727,      4.9,  26.5270,  35.0297,2,  35.0311,2,    202.2,1,   -999.0,9,  -999.00,9,  -999.00,9,  -999.00,9,      5,-999.000,  -999.0, 26.5259
     32MW077_1,  PRS2,     2, 13,     11,     11,2,19961031,0856, 22.7550,-158.0315, 4727,     24.1,  26.5354,  35.0295,2,  35.0301,2,    202.2,1,   -999.0,9,  -999.00,9,  -999.00,9,  -999.00,9,     24,-999.000,  -999.0, 26.5300
     32MW077_1,  PRS2,     2, 13,     10,     32,2,19961031,0856, 22.7550,-158.0315, 4727,     43.7,  26.5240,  35.0314,2,  35.0324,2,    202.2,1,   -999.0,9,  -999.00,9,  -999.00,9,  -999.00,9,     44,-999.000,  -999.0, 26.5141
     32MW077_1,  PRS2,     2, 13,      9,      3,2,19961031,0856, 22.7550,-158.0315, 4727,     74.5,  23.7148,  35.1184,2,  35.1168,2,    219.7,1,   -999.0,9,  -999.00,9,  -999.00,9,  -999.00,9,     75,-999.000,  -999.0, 23.6992
     32MW077_1,  PRS2,     2, 13,      8,     29,2,19961031,0856, 22.7550,-158.0315, 4727,    100.3,  21.5345,  35.1137,2,  35.1142,2,    213.5,1,   -999.0,9,  -999.00,9,  -999.00,9,  -999.00,9,    101,-999.000,  -999.0, 21.5149
     32MW077_1,  PRS2,     2, 13,      7,     28,2,19961031,0856, 22.7550,-158.0315, 4727,    124.4,  20.0142,  35.0828,2,  35.0832,2,    202.2,1,   -999.0,9,  -999.00,9,  -999.00,9,  -999.00,9,    125,-999.000,  -999.0, 19.9912
     32MW077_1,  PRS2,     2, 13,      6,      7,2,19961031,0856, 22.7550,-158.0315, 4727,    150.5,  18.7750,  34.9914,2,  34.9905,2,    199.3,1,   -999.0,9,  -999.00,9,  -999.00,9,  -999.00,9,    151,-999.000,  -999.0, 18.7484
     32MW077_1,  PRS2,     2, 13,      5,     38,2,19961031,0856, 22.7550,-158.0315, 4727,    175.0,  17.9353,  34.9083,2,  34.9100,2,    202.6,1,   -999.0,9,  -999.00,9,  -999.00,9,  -999.00,9,    175,-999.000,  -999.0, 17.9053
     32MW077_1,  PRS2,     2, 13,      4,     36,2,19961031,0856, 22.7550,-158.0315, 4727,    251.4,  14.3883,  34.4857,2,  34.4870,2,    197.0,1,   -999.0,9,  -999.00,9,  -999.00,9,  -999.00,9,    251,-999.000,  -999.0, 14.3514
     32MW077_1,  PRS2,     2, 13,      3,     35,2,19961031,0856, 22.7550,-158.0315, 4727,    500.1,   7.2176,  34.0545,2,  34.0527,2,    127.0,1,   -999.0,9,  -999.00,9,  -999.00,9,  -999.00,9,    500,-999.000,  -999.0,  7.1697
     32MW077_1,  PRS2,     2, 13,      2,     34,2,19961031,0856, 22.7550,-158.0315, 4727,    750.7,   4.8716,  34.2966,2,  34.2966,2,     26.8,1,   -999.0,9,  -999.00,9,  -999.00,9,  -999.00,9,    751,-999.000,  -999.0,  4.8114
     32MW077_1,  PRS2,     2, 13,      1,     33,2,19961031,0856, 22.7550,-158.0315, 4727,   1020.8,   4.0549,  34.4784,2,  34.4791,2,     38.5,1,   -999.0,9,  -999.00,9,  -999.00,9,  -999.00,9,   1022,-999.000,  -999.0,  3.9771
     32MW077_1,  PRS2,     2, 14,     15,     15,2,19961031,1358, 22.7643,-157.9945, 4750,      4.5,  26.3928,  35.0361,2,  35.0356,2,    202.4,2,    202.4,2,  -999.00,9,  -999.00,9,  -999.00,9,      5,-999.000,  -999.0, 26.3918
     32MW077_1,  PRS2,     2, 14,     14,     14,2,19961031,1358, 22.7643,-157.9945, 4750,     23.4,  26.4057,  35.0359,2,  35.0361,2,    202.4,2,   -999.0,5,  -999.00,9,  -999.00,9,  -999.00,9,     24,-999.000,  -999.0, 26.4004
     32MW077_1,  PRS2,     2, 14,     13,     13,2,19961031,1358, 22.7643,-157.9945, 4750,     44.5,  26.3751,  35.0690,2,  35.0703,2,    202.6,2,   -999.0,5,  -999.00,9,  -999.00,9,  -999.00,9,     44,-999.000,  -999.0, 26.3651
     32MW077_1,  PRS2,     2, 14,     12,     12,2,19961031,1358, 22.7643,-157.9945, 4750,     74.9,  25.7903,  35.0995,2,  35.1015,2,    206.4,2,   -999.0,5,  -999.00,9,  -999.00,9,  -999.00,9,     75,-999.000,  -999.0, 25.7737
     32MW077_1,  PRS2,     2, 14,     11,     11,2,19961031,1358, 22.7643,-157.9945, 4750,     99.5,  22.2219,  35.0969,2,  35.0962,2,    215.1,2,   -999.0,5,  -999.00,9,  -999.00,9,  -999.00,9,    100,-999.000,  -999.0, 22.2021
     32MW077_1,  PRS2,     2, 14,     10,     32,2,19961031,1358, 22.7643,-157.9945, 4750,    124.9,  20.6956,  35.0960,2,  35.0959,2,    208.5,2,   -999.0,5,  -999.00,9,  -999.00,9,  -999.00,9,    125,-999.000,  -999.0, 20.6720
     32MW077_1,  PRS2,     2, 14,      9,      3,2,19961031,1358, 22.7643,-157.9945, 4750,    150.6,  19.4794,  35.0419,2,  35.0415,2,    196.7,2,   -999.0,5,  -999.00,9,  -999.00,9,  -999.00,9,    151,-999.000,  -999.0, 19.4521
     32MW077_1,  PRS2,     2, 14,      8,     29,2,19961031,1358, 22.7643,-157.9945, 4750,    175.6,  18.6608,  34.9734,2,  34.9757,2,    199.8,2,   -999.0,5,  -999.00,9,  -999.00,9,  -999.00,9,    176,-999.000,  -999.0, 18.6299
     32MW077_1,  PRS2,     2, 14,      7,     28,2,19961031,1358, 22.7643,-157.9945, 4750,    500.1,   6.7533,  34.0536,2,  34.0548,2,    112.3,2,    111.9,2,  -999.00,9,  -999.00,9,  -999.00,9,    501,-999.000,  -999.0,  6.7071
     32MW077_1,  PRS2,     2, 14,      6,      7,2,19961031,1358, 22.7643,-157.9945, 4750,    751.9,   5.2829,  34.3798,2,  34.3785,2,     26.9,2,     26.9,2,  -999.00,9,  -999.00,9,  -999.00,9,    752,-999.000,  -999.0,  5.2202
     32MW077_1,  PRS2,     2, 14,      5,     38,2,19961031,1358, 22.7643,-157.9945, 4750,   1001.5,   4.1371,  34.4788,2,  34.4765,2,     38.0,2,     38.2,2,  -999.00,9,  -999.00,9,  -999.00,9,   1001,-999.000,  -999.0,  4.0603
     32MW077_1,  PRS2,     2, 14,      4,     36,2,19961031,1358, 22.7643,-157.9945, 4750,   1999.3,   2.2185,  34.6126,2,  34.6131,2,     82.1,2,     83.1,2,  -999.00,9,  -999.00,9,  -999.00,9,   2000,-999.000,  -999.0,  2.0789
     32MW077_1,  PRS2,     2, 14,      3,     35,2,19961031,1358, 22.7643,-157.9945, 4750,   3000.6,   1.5589,  34.6683,2,  34.6675,2,    122.6,2,    124.5,2,  -999.00,9,  -999.00,9,  -999.00,9,   3001,-999.000,  -999.0,  1.3408
     32MW077_1,  PRS2,     2, 14,      2,     34,2,19961031,1358, 22.7643,-157.9945, 4750,   3999.9,   1.4520,  34.6861,2,  34.6854,2,    147.8,2,    150.9,2,  -999.00,9,  -999.00,9,  -999.00,9,   3999,-999.000,  -999.0,  1.1344
     32MW077_1,  PRS2,     2, 14,      1,     33,2,19961031,1358, 22.7643,-157.9945, 4750,   4807.1,   1.5071,  34.6899,2,  34.6890,2,    155.2,2,    155.4,2,  -999.00,9,  -999.00,9,  -999.00,9,   4807,-999.000,  -999.0,  1.0958