BOTTLE,20020809WHPSIObren
#code : jjward hyd_to_exchange.pl 
#original files copied from HTML directory: 20020809
#original HYD file: /whpo/11/HOTS/BOTTLE/hot77/hot77.sea   Fri Aug  9 09:51:37 2002
#original SUM file: /whpo/11/HOTS/BOTTLE/hot77/hot77.sum   Fri Aug  9 13:30:41 2002
EXPOCODE,SECT_ID,STNNBR,CASTNO,SAMPNO,BTLNBR,BTLNBR_FLAG_W,DATE,TIME,LATITUDE,LONGITUDE,DEPTH,CTDPRS,CTDTMP,CTDSAL,CTDSAL_FLAG_W,SALNTY,SALNTY_FLAG_W,CTDOXY,CTDOXY_FLAG_W,OXYGEN,OXYGEN_FLAG_W,SILCAT,SILCAT_FLAG_W,NO2+NO3,NO2+NO3_FLAG_W,PHSPHT,PHSPHT_FLAG_W,CTDRAW,REVTMP,REVPRS,THETA
,,,,,,,,,,,,DBAR,ITS-90,PSS-78,,PSS-78,,UMOL/KG,,UMOL/KG,,UMOL/KG,,UMOL/KG,,UMOL/KG,,,DEG C,DBAR,ITS-90
     32MW077_1,  PRS2,     1,  1,     24,     31,2,19961028,2354, 21.3430,-158.2743, 1510,      4.7,  27.9293,  34.6829,2,  34.6815,2,    198.3,2,    198.9,2,     1.76,2,     0.00,2,     0.06,2,      5,-999.000,  -999.0, 27.9282
     32MW077_1,  PRS2,     1,  1,     23,     30,2,19961028,2354, 21.3430,-158.2743, 1510,     24.6,  27.8216,  34.6833,2,  34.6822,2,    198.5,2,    199.8,2,     1.76,2,     0.00,2,     0.05,2,     25,-999.000,  -999.0, 27.8158
     32MW077_1,  PRS2,     1,  1,     22,     22,2,19961028,2354, 21.3430,-158.2743, 1510,     44.2,  27.6912,  34.7877,2,  34.7910,2,    200.4,2,    195.9,2,     1.76,2,     0.00,2,     0.05,2,     45,-999.000,  -999.0, 27.6809
     32MW077_1,  PRS2,     1,  1,     21,     21,2,19961028,2354, 21.3430,-158.2743, 1510,     59.4,  27.5878,  34.7779,2,  34.7777,2,    200.6,2,    204.3,2,     1.84,2,     0.00,2,     0.07,2,     59,-999.000,  -999.0, 27.5740
     32MW077_1,  PRS2,     1,  1,     20,     20,2,19961028,2354, 21.3430,-158.2743, 1510,     74.2,  26.0500,  34.8522,2,  34.8465,2,    216.7,2,    213.2,2,     1.88,2,     0.00,2,     0.05,2,     74,-999.000,  -999.0, 26.0334
     32MW077_1,  PRS2,     1,  1,     19,     19,2,19961028,2354, 21.3430,-158.2743, 1510,     94.6,  23.5493,  34.9797,2,  34.9827,2,    216.6,2,    217.4,2,     1.94,2,     0.00,2,     0.07,2,     95,-999.000,  -999.0, 23.5297
     32MW077_1,  PRS2,     1,  1,     18,     18,2,19961028,2354, 21.3430,-158.2743, 1510,    103.9,  22.2835,  34.9765,2,  34.9620,4,    203.0,3,    205.5,2,     2.25,2,     0.18,2,     0.15,2,    106,-999.000,  -999.0, 22.2628
     32MW077_1,  PRS2,     1,  1,     17,     17,2,19961028,2354, 21.3430,-158.2743, 1510,    114.1,  21.5624,  35.0092,2,  35.0119,2,    200.2,2,    196.7,2,     2.41,2,     0.47,2,     0.17,2,    114,-999.000,  -999.0, 21.5401
     32MW077_1,  PRS2,     1,  1,     16,     16,2,19961028,2354, 21.3430,-158.2743, 1510,    124.9,  21.1205,  34.9948,2,  34.9911,2,    192.1,2,    193.3,2,     2.56,2,     0.92,2,     0.21,2,    125,-999.000,  -999.0, 21.0965
     32MW077_1,  PRS2,     1,  1,     15,     15,2,19961028,2354, 21.3430,-158.2743, 1510,    149.5,  19.9038,  34.9915,2,  34.9861,2,    186.2,2,    185.8,2,     3.16,2,     2.44,2,     0.29,2,    151,-999.000,  -999.0, 19.8763
     32MW077_1,  PRS2,     1,  1,     14,     14,2,19961028,2354, 21.3430,-158.2743, 1510,    175.0,  18.1035,  34.8768,2,  34.8798,2,    184.4,2,    186.0,2,     4.18,2,     4.03,2,     0.37,2,    176,-999.000,  -999.0, 18.0734
     32MW077_1,  PRS2,     1,  1,     13,     13,2,19961028,2354, 21.3430,-158.2743, 1510,    199.8,  16.3627,  34.6763,2,  34.6759,2,    181.2,2,    181.7,2,     5.98,2,     6.26,2,     0.53,2,    201,-999.000,  -999.0, 16.3306
     32MW077_1,  PRS2,     1,  1,     12,     12,2,19961028,2354, 21.3430,-158.2743, 1510,    224.9,  15.7788,  34.6387,2,  34.6394,2,    194.5,2,    193.7,2,     6.71,2,     5.96,2,     0.49,2,    226,-999.000,  -999.0, 15.7436
     32MW077_1,  PRS2,     1,  1,     11,     11,2,19961028,2354, 21.3430,-158.2743, 1510,    249.5,  14.8588,  34.5429,2,  34.5376,2,    191.0,2,    192.7,2,     7.59,2,     7.42,2,     0.60,2,    250,-999.000,  -999.0, 14.8214
     32MW077_1,  PRS2,     1,  1,     10,     32,2,19961028,2354, 21.3430,-158.2743, 1510,    298.2,  12.3737,  34.3283,2,  34.3275,2,    196.1,2,    195.5,2,    12.59,2,    11.38,2,     0.84,2,    298,-999.000,  -999.0, 12.3341
     32MW077_1,  PRS2,     1,  1,      9,      3,2,19961028,2354, 21.3430,-158.2743, 1510,    399.3,   9.2643,  34.1368,2,  34.1353,2,    168.2,2,    168.4,2,    27.19,2,    19.89,2,     1.44,2,    399,-999.000,  -999.0,  9.2201
     32MW077_1,  PRS2,     1,  1,      8,     29,2,19961028,2354, 21.3430,-158.2743, 1510,    499.9,   6.9518,  34.1714,2,  34.1695,2,     77.9,2,     75.3,2,    55.25,2,    32.25,2,     2.39,2,    500,-999.000,  -999.0,  6.9048
     32MW077_1,  PRS2,     1,  1,      7,     28,2,19961028,2354, 21.3430,-158.2743, 1510,    574.5,   6.0399,  34.2470,2,  34.2468,2,     43.4,2,     41.9,2,    70.57,2,    36.95,2,     2.75,2,    575,-999.000,  -999.0,  5.9894
     32MW077_1,  PRS2,     1,  1,      6,      7,2,19961028,2354, 21.3430,-158.2743, 1510,    650.1,   5.4716,  34.3214,2,  34.3188,2,     31.9,2,     31.6,2,    80.80,2,    39.21,2,     2.90,2,    650,-999.000,  -999.0,  5.4170
     32MW077_1,  PRS2,     1,  1,      5,     38,2,19961028,2354, 21.3430,-158.2743, 1510,    724.3,   5.2440,  34.4009,2,  34.3985,2,     27.9,2,     28.0,2,    85.42,2,    40.34,2,     2.98,2,    725,-999.000,  -999.0,  5.1839
     32MW077_1,  PRS2,     1,  1,      4,     36,2,19961028,2354, 21.3430,-158.2743, 1510,    799.3,   5.0419,  34.4287,2,  34.4261,2,     29.2,2,     29.5,2,    89.44,2,    40.72,2,     3.01,2,    799,-999.000,  -999.0,  4.9763
     32MW077_1,  PRS2,     1,  1,      3,     35,2,19961028,2354, 21.3430,-158.2743, 1510,    874.4,   4.7221,  34.4537,2,  34.4519,2,     34.7,2,     34.6,2,    94.97,2,    40.87,2,     3.02,2,    876,-999.000,  -999.0,  4.6519
     32MW077_1,  PRS2,     1,  1,      2,     34,2,19961028,2354, 21.3430,-158.2743, 1510,    950.0,   4.4475,  34.4795,2,  34.4790,2,     38.4,2,     39.9,2,   100.17,2,    41.07,2,     3.01,2,    949,-999.000,  -999.0,  4.3727
     32MW077_1,  PRS2,     1,  1,      1,     33,2,19961028,2354, 21.3430,-158.2743, 1510,   1020.3,   4.1771,  34.4980,2,  34.4986,2,     42.2,2,     43.2,2,   105.08,2,    41.42,2,     3.02,2,   1020,-999.000,  -999.0,  4.0984
     32MW077_1,  PRS2,     2,  1,     24,     31,2,19961029,1818, 22.7480,-157.9958, 4750,      4.8,  26.4986,  35.0582,2,  35.0607,2,    202.9,2,    202.6,2,     1.47,2,    -0.00,2,     0.05,2,      5,-999.000,  -999.0, 26.4976
     32MW077_1,  PRS2,     2,  1,     23,     30,2,19961029,1818, 22.7480,-157.9958, 4750,     86.7,  22.1450,  35.1211,2,  35.1229,2,    217.3,2,    222.5,2,     1.93,2,    -0.00,2,     0.07,2,     87,-999.000,  -999.0, 22.1278
     32MW077_1,  PRS2,     2,  1,     22,     22,2,19961029,1818, 22.7480,-157.9958, 4750,     92.9,  21.7828,  35.1206,2,  35.1205,2,    220.5,2,    220.6,2,     1.97,2,    -0.00,2,     0.07,2,     93,-999.000,  -999.0, 21.7645
     32MW077_1,  PRS2,     2,  1,     21,     21,2,19961029,1818, 22.7480,-157.9958, 4750,    500.8,   7.3066,  34.0571,2,  34.0573,2,    131.1,2,    129.8,2,    43.08,2,    27.25,2,     1.91,2,    500,-999.000,  -999.0,  7.2582
     32MW077_1,  PRS2,     2,  1,     20,     20,2,19961029,1818, 22.7480,-157.9958, 4750,   1000.1,   4.1017,  34.4793,2,  34.4789,2,     37.7,2,     37.4,2,   106.60,2,    41.22,2,     3.05,2,    999,-999.000,  -999.0,  4.0253
     32MW077_1,  PRS2,     2,  1,     19,     19,2,19961029,1818, 22.7480,-157.9958, 4750,   1399.8,   3.1265,  34.5561,2,  34.5561,2,     57.6,2,     57.1,2,  -999.00,5,  -999.00,5,  -999.00,5,   1399,-999.000,  -999.0,  3.0256
     32MW077_1,  PRS2,     2,  1,     18,     18,2,19961029,1818, 22.7480,-157.9958, 4750,   1599.1,   2.7849,  34.5785,2,  34.5779,2,     65.9,2,     65.8,2,   134.78,2,    40.68,2,     2.89,2,   1601,-999.000,  -999.0,  2.6714
     32MW077_1,  PRS2,     2,  1,     17,     17,2,19961029,1818, 22.7480,-157.9958, 4750,   1799.3,   2.4691,  34.5980,2,  34.5959,2,     75.2,2,     74.7,2,   141.66,2,    40.15,2,     2.85,2,   1798,-999.000,  -999.0,  2.3429
     32MW077_1,  PRS2,     2,  1,     16,     16,2,19961029,1818, 22.7480,-157.9958, 4750,   2000.5,   2.1423,  34.6173,2,  34.6169,2,     84.8,2,     85.1,2,   149.22,2,    39.74,2,     2.80,2,   2001,-999.000,  -999.0,  2.0037
     32MW077_1,  PRS2,     2,  1,     15,     15,2,19961029,1818, 22.7480,-157.9958, 4750,   2198.8,   1.9362,  34.6306,2,  34.6306,2,     91.3,2,     91.4,2,   155.37,2,    39.24,2,     2.77,2,   2197,-999.000,  -999.0,  1.7839
     32MW077_1,  PRS2,     2,  1,     14,     14,2,19961029,1818, 22.7480,-157.9958, 4750,   2399.3,   1.7884,  34.6433,2,  34.6427,2,     98.8,2,     99.7,2,   158.14,2,    38.68,2,     2.74,2,   2399,-999.000,  -999.0,  1.6211
     32MW077_1,  PRS2,     2,  1,     13,     13,2,19961029,1818, 22.7480,-157.9958, 4750,   2600.7,   1.6723,  34.6548,2,  34.6547,2,    108.5,2,    109.5,2,   158.29,2,    38.02,2,     2.68,2,   2599,-999.000,  -999.0,  1.4891
     32MW077_1,  PRS2,     2,  1,     12,     12,2,19961029,1818, 22.7480,-157.9958, 4750,   2800.1,   1.5893,  34.6631,2,  34.6630,2,    118.8,2,    117.3,2,   159.42,2,    37.55,2,     2.65,2,   2800,-999.000,  -999.0,  1.3894
     32MW077_1,  PRS2,     2,  1,     11,     11,2,19961029,1818, 22.7480,-157.9958, 4750,   2999.2,   1.5262,  34.6713,2,  34.6712,2,    126.3,2,    126.7,2,   157.06,2,    37.15,2,     2.60,2,   2999,-999.000,  -999.0,  1.3090
     32MW077_1,  PRS2,     2,  1,     10,     32,2,19961029,1818, 22.7480,-157.9958, 4750,   3201.2,   1.4867,  34.6760,2,  34.6768,2,    132.0,2,    132.8,2,   155.32,2,    36.66,2,     2.56,2,   3200,-999.000,  -999.0,  1.2508
     32MW077_1,  PRS2,     2,  1,      9,      3,2,19961029,1818, 22.7480,-157.9958, 4750,   3400.5,   1.4608,  34.6801,2,  34.6800,2,    137.8,2,    138.1,2,   153.60,2,    36.35,2,     2.53,2,   3401,-999.000,  -999.0,  1.2058
     32MW077_1,  PRS2,     2,  1,      8,     29,2,19961029,1818, 22.7480,-157.9958, 4750,   3600.4,   1.4516,  34.6826,2,  34.6832,2,    141.7,2,    141.9,2,   152.43,2,    36.15,2,     2.53,2,   3600,-999.000,  -999.0,  1.1764
     32MW077_1,  PRS2,     2,  1,      7,     28,2,19961029,1818, 22.7480,-157.9958, 4750,   3801.0,   1.4490,  34.6847,2,  34.6862,2,    145.5,2,    145.3,2,   151.05,2,    35.92,2,     2.50,2,   3801,-999.000,  -999.0,  1.1529
     32MW077_1,  PRS2,     2,  1,      6,      7,2,19961029,1818, 22.7480,-157.9958, 4750,   4000.1,   1.4547,  34.6861,2,  34.6864,2,    147.4,2,    147.5,2,   149.47,2,    35.75,2,     2.50,2,   3999,-999.000,  -999.0,  1.1371
     32MW077_1,  PRS2,     2,  1,      5,     38,2,19961029,1818, 22.7480,-157.9958, 4750,   4201.3,   1.4645,  34.6874,2,  34.6859,2,    149.9,2,    154.4,3,   149.85,3,    35.77,3,     2.49,3,   4202,-999.000,  -999.0,  1.1245
     32MW077_1,  PRS2,     2,  1,      4,     36,2,19961029,1818, 22.7480,-157.9958, 4750,   4400.0,   1.4777,  34.6883,2,  34.6878,2,    151.1,2,    150.9,2,   147.84,2,    35.70,2,     2.47,2,   4400,-999.000,  -999.0,  1.1148
     32MW077_1,  PRS2,     2,  1,      3,     35,2,19961029,1818, 22.7480,-157.9958, 4750,   4499.9,   1.4864,  34.6887,2,  34.6893,2,    152.0,2,    151.5,2,   147.62,2,    35.64,2,     2.47,2,   4498,-999.000,  -999.0,  1.1118
     32MW077_1,  PRS2,     2,  1,      2,     34,2,19961029,1818, 22.7480,-157.9958, 4750,   4601.0,   1.4943,  34.6889,2,  34.6888,2,    152.5,2,    153.3,2,   146.85,2,    35.49,2,     2.46,2,   4600,-999.000,  -999.0,  1.1078
     32MW077_1,  PRS2,     2,  1,      1,     33,2,19961029,1818, 22.7480,-157.9958, 4750,   4810.4,   1.5072,  34.6901,2,  34.6904,2,    155.4,2,    153.9,2,   145.72,2,    35.51,2,     2.45,2,   4810,-999.000,  -999.0,  1.0956
     32MW077_1,  PRS2,     2,  2,     24,     31,2,19961030,0006, 22.7507,-157.9677, 4715,      4.1,  26.6317,  35.0543,2,  35.0548,2,    203.2,2,    202.9,2,     1.54,2,    -0.00,2,     0.09,2,      4,-999.000,  -999.0, 26.6307
     32MW077_1,  PRS2,     2,  2,     23,     30,2,19961030,0006, 22.7507,-157.9677, 4715,     25.2,  26.4606,  35.0524,2,  35.0537,2,    203.0,2,    203.2,2,     1.50,2,    -0.00,2,     0.05,2,     25,-999.000,  -999.0, 26.4549
     32MW077_1,  PRS2,     2,  2,     22,     22,2,19961030,0006, 22.7507,-157.9677, 4715,     52.6,  25.6738,  35.0727,2,  35.0691,2,    205.4,2,    211.3,2,     1.57,2,     0.00,2,     0.04,2,     52,-999.000,  -999.0, 25.6621
     32MW077_1,  PRS2,     2,  2,     21,     21,2,19961030,0006, 22.7507,-157.9677, 4715,     58.3,  23.8057,  35.0948,2,  35.0929,2,    218.8,2,    223.7,2,     1.77,2,     0.00,2,     0.04,2,     59,-999.000,  -999.0, 23.7935
     32MW077_1,  PRS2,     2,  2,     20,     20,2,19961030,0006, 22.7507,-157.9677, 4715,     61.2,  22.8956,  35.1138,2,  35.1135,2,    220.8,2,    225.8,2,     1.90,2,    -0.01,2,     0.05,2,     61,-999.000,  -999.0, 22.8832
     32MW077_1,  PRS2,     2,  2,     19,     19,2,19961030,0006, 22.7507,-157.9677, 4715,     72.7,  21.4024,  35.1160,2,  35.1169,2,    215.9,2,    218.5,2,     2.14,2,    -0.01,2,     0.06,2,     73,-999.000,  -999.0, 21.3883
     32MW077_1,  PRS2,     2,  2,     18,     18,2,19961030,0006, 22.7507,-157.9677, 4715,    130.3,  18.8362,  34.9948,2,  34.9952,2,    199.5,2,    200.8,2,     3.00,2,     1.75,2,     0.20,2,    130,-999.000,  -999.0, 18.8131
     32MW077_1,  PRS2,     2,  2,     17,     17,2,19961030,0006, 22.7507,-157.9677, 4715,    200.1,  16.2029,  34.6887,2,  34.6934,2,    197.6,2,    197.9,2,     5.20,2,     4.83,2,     0.39,2,    201,-999.000,  -999.0, 16.1711
     32MW077_1,  PRS2,     2,  2,     16,     16,2,19961030,0006, 22.7507,-157.9677, 4715,    250.2,  13.8465,  34.4363,2,  34.4352,2,    199.4,2,    199.7,2,     8.11,2,     8.22,2,     0.61,2,    250,-999.000,  -999.0, 13.8108
     32MW077_1,  PRS2,     2,  2,     15,     15,2,19961030,0006, 22.7507,-157.9677, 4715,    304.4,  11.7054,  34.2324,2,  34.2335,2,    192.0,2,    192.0,2,    12.85,2,    12.79,2,     0.92,2,    305,-999.000,  -999.0, 11.6665
     32MW077_1,  PRS2,     2,  2,     14,     14,2,19961030,0006, 22.7507,-157.9677, 4715,    334.6,  11.0271,  34.2144,2,  34.2179,2,    205.9,2,    200.0,2,    15.80,2,    13.81,2,     0.99,2,    335,-999.000,  -999.0, 10.9859
     32MW077_1,  PRS2,     2,  2,     13,     13,2,19961030,0006, 22.7507,-157.9677, 4715,    350.4,  10.1822,  34.1414,2,  34.1427,2,    178.7,2,    183.1,2,    18.89,2,    16.89,2,     1.21,2,    351,-999.000,  -999.0, 10.1412
     32MW077_1,  PRS2,     2,  2,     12,     12,2,19961030,0006, 22.7507,-157.9677, 4715,    400.0,   8.8479,  34.0930,2,  34.0951,2,    182.0,2,    179.0,2,    26.53,2,    20.26,2,     1.42,2,    400,-999.000,  -999.0,  8.8049
     32MW077_1,  PRS2,     2,  2,     11,     11,2,19961030,0006, 22.7507,-157.9677, 4715,    460.2,   7.6365,  34.0553,2,  34.0562,2,    149.3,2,    147.9,2,    38.55,2,    25.56,2,     1.79,2,    461,-999.000,  -999.0,  7.5910
     32MW077_1,  PRS2,     2,  2,     10,     32,2,19961030,0006, 22.7507,-157.9677, 4715,    473.5,   7.3698,  34.0535,2,  34.0549,2,    140.3,2,    135.0,2,    42.96,2,    27.20,2,     1.92,2,    474,-999.000,  -999.0,  7.3239
     32MW077_1,  PRS2,     2,  2,      9,      3,2,19961030,0006, 22.7507,-157.9677, 4715,    511.4,   6.5457,  34.0577,2,  34.0587,2,    107.9,2,    102.3,2,    54.31,2,    31.48,2,     2.25,2,    512,-999.000,  -999.0,  6.4993
     32MW077_1,  PRS2,     2,  2,      8,     29,2,19961030,0006, 22.7507,-157.9677, 4715,    550.5,   6.4183,  34.1701,2,  34.1672,2,     61.0,2,     57.4,2,    62.05,2,    35.24,2,     2.60,2,    550,-999.000,  -999.0,  6.3685
     32MW077_1,  PRS2,     2,  2,      7,     28,2,19961030,0006, 22.7507,-157.9677, 4715,    615.4,   5.8455,  34.2160,2,  34.2155,2,     40.6,2,     39.1,2,    72.28,2,    37.93,2,     2.78,2,    615,-999.000,  -999.0,  5.7922
     32MW077_1,  PRS2,     2,  2,      6,      7,2,19961030,0006, 22.7507,-157.9677, 4715,    687.1,   5.4376,  34.2985,2,  34.2966,2,     30.0,2,     29.0,2,    81.08,2,    39.78,2,     2.92,2,    687,-999.000,  -999.0,  5.3799
     32MW077_1,  PRS2,     2,  2,      5,     38,2,19961030,0006, 22.7507,-157.9677, 4715,    744.0,   5.0099,  34.3689,2,  34.3649,2,     26.8,2,     26.2,2,    89.56,2,    40.97,2,     2.99,2,    744,-999.000,  -999.0,  4.9494
     32MW077_1,  PRS2,     2,  2,      4,     36,2,19961030,0006, 22.7507,-157.9677, 4715,    835.8,   4.6380,  34.4343,2,  34.4333,2,     30.6,2,     30.0,2,    96.82,2,    41.65,2,     3.02,2,    837,-999.000,  -999.0,  4.5718
     32MW077_1,  PRS2,     2,  2,      3,     35,2,19961030,0006, 22.7507,-157.9677, 4715,    900.6,   4.2746,  34.4543,2,  34.4564,2,     33.9,2,     33.3,2,   104.37,2,    41.95,2,     3.02,2,    901,-999.000,  -999.0,  4.2053
     32MW077_1,  PRS2,     2,  2,      2,     34,2,19961030,0006, 22.7507,-157.9677, 4715,   1007.0,   4.0103,  34.4848,2,  34.4854,2,     39.9,2,     40.7,2,   109.46,2,    41.75,2,     3.02,2,   1007,-999.000,  -999.0,  3.9340
     32MW077_1,  PRS2,     2,  2,      1,     33,2,19961030,0006, 22.7507,-157.9677, 4715,   1020.3,   3.9608,  34.4894,2,  34.4945,2,     40.8,2,     40.4,2,   110.60,2,    42.30,2,     3.01,2,   1020,-999.000,  -999.0,  3.8838