BOTTLE,20211025CCHSIORKP
EXPOCODE,SECT_ID,STNNBR,CASTNO,SAMPNO,BTLNBR,BTLNBR_FLAG_W,DATE,TIME,LATITUDE,LONGITUDE,DEPTH,CTDPRS,CTDTMP,CTDSAL,CTDSAL_FLAG_W,SALNTY,SALNTY_FLAG_W,CTDOXY,CTDOXY_FLAG_W,OXYGEN,OXYGEN_FLAG_W,SILCAT,SILCAT_FLAG_W,NITRAT,NITRAT_FLAG_W,NITRIT,NITRIT_FLAG_W,PHSPHT,PHSPHT_FLAG_W,CFC-11,CFC-11_FLAG_W,CFC-12,CFC-12_FLAG_W,TCARBN,TCARBN_FLAG_W,PCO2,PCO2_FLAG_W,TRITUM,TRITUM_FLAG_W,HELIUM,HELIUM_FLAG_W,DELHE3,DELHE3_FLAG_W,DELC13,DELC13_FLAG_W,DELC14,DELC14_FLAG_W,C14ERR,NEON,NEON_FLAG_W,NEONER,PCO2TMP,HELIER,DELHER,THETA,TRITER
,,,,,,,,,,,METERS,DBAR,ITS-90,PSS-78,,PSS-78,,UMOL/KG,,UMOL/KG,,UMOL/KG,,UMOL/KG,,UMOL/KG,,UMOL/KG,,PMOL/KG,,PMOL/KG,,UMOL/KG,,UATM,,TU,,NMOL/KG,,PERCNT,,/MILLE,,/MILLE,,/MILLE,NMOL/KG,,NMOL/KG,DEG_C,NMOL/KG,PERCNT,ITS-90,TU
  316N138_4,       P06C,     153,          1,         36,    02-9121,2,19920626,       1045,   -32.5147,  -167.9997,       5563,    23.4,  16.7358,  35.3881,2,  35.3912,2,    260.1,2,   242.0,2,    0.35,2,    0.04,2,    0.01,2,    0.15,2,   2.800,6,-999.000,9,  2040.4,6,  -999.0,9,-999.000,9,-999.0000,9, -999.00,9, -999.00,9,  -999.0,9,  -999.0,-999.000,9,-999.000,     -999.0,-999.0000,-999.000,    16.7320,-999.000
  316N138_4,       P06C,     153,          1,         35,    02-9454,2,19920626,       1045,   -32.5147,  -167.9997,       5563,    62.5,  16.7418,  35.3894,2,  35.3877,2,    241.6,2,   239.7,2,    0.53,2,    0.04,2,    0.01,2,    0.14,2,   2.782,2,   1.345,2,  2040.3,2,  -999.0,9,-999.000,9,-999.0000,9, -999.00,9, -999.00,9,  -999.0,9,  -999.0,-999.000,9,-999.000,     -999.0,-999.0000,-999.000,    16.7316,-999.000
  316N138_4,       P06C,     153,          1,         34,    02-9457,2,19920626,       1045,   -32.5147,  -167.9997,       5563,   110.9,  16.6819,  35.3804,2,  35.3468,2,    239.2,2,   240.5,2,    0.53,2,    0.09,2,    0.04,2,    0.18,2,   2.837,2,   1.346,2,  2044.6,2,  -999.0,9,-999.000,9,-999.0000,9, -999.00,9, -999.00,9,  -999.0,9,  -999.0,-999.000,9,-999.000,     -999.0,-999.0000,-999.000,    16.6639,-999.000
  316N138_4,       P06C,     153,          1,         33,    02-5367,2,19920626,       1045,   -32.5147,  -167.9997,       5563,   159.1,  14.9979,  35.2323,2,  35.2349,2,    232.4,2,   232.5,2,    0.70,2,    1.07,2,    0.03,2,    0.28,2,   3.003,2,   1.399,2,  2059.4,2,  -999.0,9,-999.000,9,-999.0000,9, -999.00,9, -999.00,9,  -999.0,9,  -999.0,-999.000,9,-999.000,     -999.0,-999.0000,-999.000,    14.9738,-999.000
  316N138_4,       P06C,     153,          1,         32,    02-9540,2,19920626,       1045,   -32.5147,  -167.9997,       5563,   207.0,  14.4739,  35.1993,2,  35.1977,2,    225.3,2,   227.3,2,    0.88,2,    3.00,2,    0.02,2,    0.40,2,   2.916,2,   1.363,2,  2069.1,2,  -999.0,9,-999.000,9,-999.0000,9, -999.00,9, -999.00,9,  -999.0,9,  -999.0,-999.000,9,-999.000,     -999.0,-999.0000,-999.000,    14.4433,-999.000
  316N138_4,       P06C,     153,          1,         31,    02-9539,2,19920626,       1045,   -32.5147,  -167.9997,       5563,   300.4,  12.4341,  35.0133,2,  35.0128,2,    206.3,2,   205.6,2,    2.63,2,   10.41,2,    0.01,2,    0.84,2,   2.400,2,   1.152,2,  2108.3,2,  -999.0,9,-999.000,9,-999.0000,9, -999.00,9, -999.00,9,  -999.0,9,  -999.0,-999.000,9,-999.000,     -999.0,-999.0000,-999.000,    12.3938,-999.000
  316N138_4,       P06C,     153,          1,         30,    02-9456,2,19920626,       1045,   -32.5147,  -167.9997,       5563,   397.2,   9.8218,  34.7051,2,  34.7007,2,    209.8,2,   208.2,2,    4.56,2,   16.84,2,    0.01,2,    1.21,2,   1.829,2,   0.864,2,  2124.4,2,  -999.0,9,-999.000,9,-999.0000,9, -999.00,9, -999.00,9,  -999.0,9,  -999.0,-999.000,9,-999.000,     -999.0,-999.0000,-999.000,     9.7760,-999.000
  316N138_4,       P06C,     153,          1,         29,    02-9458,2,19920626,       1045,   -32.5147,  -167.9997,       5563,   497.8,   8.3540,  34.5356,2,  34.5341,2,    225.8,2,   226.5,2,    4.91,2,   19.01,2,    0.01,2,    1.35,2,   1.900,2,   0.876,2,  2126.9,2,  -999.0,9,-999.000,9,-999.0000,9, -999.00,9, -999.00,9,  -999.0,9,  -999.0,-999.000,9,-999.000,     -999.0,-999.0000,-999.000,     8.3017,-999.000
  316N138_4,       P06C,     153,          1,         28,    02-9545,2,19920626,       1045,   -32.5147,  -167.9997,       5563,   599.6,   7.4224,  34.4479,2,  34.4477,2,    236.5,2,   236.0,2,    6.14,2,   21.04,2,    0.01,2,    1.46,2,   1.514,2,   0.729,2,  2130.0,2,  -999.0,9,-999.000,9,-999.0000,9, -999.00,9, -999.00,9,  -999.0,9,  -999.0,-999.000,9,-999.000,     -999.0,-999.0000,-999.000,     7.3632,-999.000
  316N138_4,       P06C,     153,          1,         27,    02-9453,2,19920626,       1045,   -32.5147,  -167.9997,       5563,   699.2,   6.8262,  34.3919,2,  34.3961,2,    239.9,2,   256.1,4,    7.73,2,   22.69,2,    0.01,2,    1.54,2,   0.953,2,   0.475,2,  2135.6,6,  -999.0,9,-999.000,9,-999.0000,9, -999.00,9, -999.00,9,  -999.0,9,  -999.0,-999.000,9,-999.000,     -999.0,-999.0000,-999.000,     6.7599,-999.000
  316N138_4,       P06C,     153,          1,         26,    02-9544,2,19920626,       1045,   -32.5147,  -167.9997,       5563,   797.6,   6.3167,  34.3565,2,  34.3550,2,    237.1,2,   236.6,2,   10.19,2,   24.30,2,    0.01,2,    1.67,2,   0.573,2,-999.000,9,  2140.8,2,  -999.0,9,-999.000,9,-999.0000,9, -999.00,9, -999.00,9,  -999.0,9,  -999.0,-999.000,9,-999.000,     -999.0,-999.0000,-999.000,     6.2436,-999.000
  316N138_4,       P06C,     153,          1,         25,    02-9455,2,19920626,       1045,   -32.5147,  -167.9997,       5563,   903.1,   5.7579,  34.3333,2,  34.3323,2,    227.5,2,   222.5,2,   14.93,2,   26.60,2,    0.01,2,    1.83,2,   0.323,2,   0.166,2,  2154.2,2,  -999.0,9,-999.000,9,-999.0000,9, -999.00,9, -999.00,9,  -999.0,9,  -999.0,-999.000,9,-999.000,     -999.0,-999.0000,-999.000,     5.6783,-999.000
  316N138_4,       P06C,     153,          1,         24,        132,3,19920626,       1045,   -32.5147,  -167.9997,       5563,  1007.5,   5.0944,  34.3291,2,  34.8643,4,    213.7,2,   221.4,4,   10.19,4,   13.98,4,    0.07,4,    1.04,4,-999.000,5,-999.000,5,  2114.5,3,  -999.0,9,-999.000,9,-999.0000,9, -999.00,9, -999.00,9,  -999.0,9,  -999.0,-999.000,9,-999.000,     -999.0,-999.0000,-999.000,     5.0100,-999.000
  316N138_4,       P06C,     153,          1,         23,        123,2,19920626,       1045,   -32.5147,  -167.9997,       5563,  1215.3,   3.8532,  34.3637,3,  34.3755,2,    190.6,2,   187.8,2,   43.22,2,   32.80,2,    0.00,2,    2.25,2,   0.026,6,   0.022,6,  2211.0,2,  -999.0,9,-999.000,9,-999.0000,9, -999.00,9, -999.00,9,  -999.0,9,  -999.0,-999.000,9,-999.000,     -999.0,-999.0000,-999.000,     3.7609,-999.000
  316N138_4,       P06C,     153,          1,         22,        128,2,19920626,       1045,   -32.5147,  -167.9997,       5563,  1417.1,   3.0873,  34.4761,2,  34.4709,2,    173.3,2,   172.0,2,   64.49,2,   34.41,2,    0.00,2,    2.38,2,   0.013,2,   0.005,2,  2241.8,2,  -999.0,9,-999.000,9,-999.0000,9, -999.00,9, -999.00,9,  -999.0,9,  -999.0,-999.000,9,-999.000,     -999.0,-999.0000,-999.000,     2.9856,-999.000
  316N138_4,       P06C,     153,          1,         21,        121,2,19920626,       1045,   -32.5147,  -167.9997,       5563,  1615.4,   2.7037,  34.5568,2,  34.5571,2,    161.0,2,   160.9,2,   85.06,2,   35.03,2,    0.00,2,    2.46,2,  -0.001,2,  -0.002,2,  2265.9,2,  -999.0,9,-999.000,9,-999.0000,9, -999.00,9, -999.00,9,  -999.0,9,  -999.0,-999.000,9,-999.000,     -999.0,-999.0000,-999.000,     2.5898,-999.000
  316N138_4,       P06C,     153,          1,         20,        120,2,19920626,       1045,   -32.5147,  -167.9997,       5563,  1813.6,   2.4716,  34.6032,2,  34.6032,2,    153.8,2,   153.8,2,  100.54,2,   35.43,2,    0.02,2,    2.52,2,-999.000,5,-999.000,5,  2284.5,2,  -999.0,9,-999.000,9,-999.0000,9, -999.00,9, -999.00,9,  -999.0,9,  -999.0,-999.000,9,-999.000,     -999.0,-999.0000,-999.000,     2.3441,-999.000
  316N138_4,       P06C,     153,          1,         19,        133,2,19920626,       1045,   -32.5147,  -167.9997,       5563,  2011.7,   2.2936,  34.6226,2,  34.6211,2,    150.2,2,   151.2,2,  110.22,2,   35.85,2,    0.01,2,    2.55,2,   0.000,2,-999.000,9,  2295.5,2,  -999.0,9,-999.000,9,-999.0000,9, -999.00,9, -999.00,9,  -999.0,9,  -999.0,-999.000,9,-999.000,     -999.0,-999.0000,-999.000,     2.1518,-999.000
  316N138_4,       P06C,     153,          1,         18,        118,2,19920626,       1045,   -32.5147,  -167.9997,       5563,  2209.7,   2.1866,  34.6343,2,  34.6339,2,    147.6,2,   147.0,2,  116.22,2,   36.11,2,    0.01,2,    2.58,2,-999.000,5,-999.000,5,  2303.9,6,  -999.0,9,-999.000,9,-999.0000,9, -999.00,9, -999.00,9,  -999.0,9,  -999.0,-999.000,9,-999.000,     -999.0,-999.0000,-999.000,     2.0291,-999.000
  316N138_4,       P06C,     153,          1,         17,        117,2,19920626,       1045,   -32.5147,  -167.9997,       5563,  2404.3,   2.0833,  34.6444,2,  34.6439,2,    147.1,2,   146.5,2,  121.33,2,   36.35,2,    0.01,2,    2.60,2,  -0.004,2,  -0.003,2,  2309.7,2,  -999.0,9,-999.000,9,-999.0000,9, -999.00,9, -999.00,9,  -999.0,9,  -999.0,-999.000,9,-999.000,     -999.0,-999.0000,-999.000,     1.9102,-999.000
  316N138_4,       P06C,     153,          1,         16,        116,2,19920626,       1045,   -32.5147,  -167.9997,       5563,  2602.6,   1.9834,  34.6543,2,  34.6537,2,    147.1,2,   146.7,2,  125.04,2,   36.38,2,    0.01,2,    2.59,2,-999.000,5,-999.000,5,  2311.1,2,  -999.0,9,-999.000,9,-999.0000,9, -999.00,9, -999.00,9,  -999.0,9,  -999.0,-999.000,9,-999.000,     -999.0,-999.0000,-999.000,     1.7940,-999.000
  316N138_4,       P06C,     153,          1,         15,        115,2,19920626,       1045,   -32.5147,  -167.9997,       5563,  2810.0,   1.9065,  34.6610,2,  34.6608,2,    148.7,2,   147.4,2,  127.53,2,   36.33,2,    0.01,2,    2.60,2,  -0.004,2,   0.000,2,  2313.4,2,  -999.0,9,-999.000,9,-999.0000,9, -999.00,9, -999.00,9,  -999.0,9,  -999.0,-999.000,9,-999.000,     -999.0,-999.0000,-999.000,     1.6992,-999.000
  316N138_4,       P06C,     153,          1,         14,        114,2,19920626,       1045,   -32.5147,  -167.9997,       5563,  3002.4,   1.8407,  34.6676,2,  34.6683,2,    150.1,2,   150.4,2,  128.78,2,   36.19,2,    0.01,2,    2.58,2,-999.000,5,-999.000,5,  2313.2,2,  -999.0,9,-999.000,9,-999.0000,9, -999.00,9, -999.00,9,  -999.0,9,  -999.0,-999.000,9,-999.000,     -999.0,-999.0000,-999.000,     1.6162,-999.000
  316N138_4,       P06C,     153,          1,         13,        125,2,19920626,       1045,   -32.5147,  -167.9997,       5563,  3194.9,   1.7649,  34.6775,2,  34.6775,2,    155.3,2,   155.5,2,  127.40,2,   35.76,2,    0.01,2,    2.55,2,  -0.001,2,  -0.003,2,  2308.7,2,  -999.0,9,-999.000,9,-999.0000,9, -999.00,9, -999.00,9,  -999.0,9,  -999.0,-999.000,9,-999.000,     -999.0,-999.0000,-999.000,     1.5231,-999.000
  316N138_4,       P06C,     153,          1,         12,        112,2,19920626,       1045,   -32.5147,  -167.9997,       5563,  3385.6,   1.6814,  34.6940,2,  34.6914,2,    165.6,2,   167.2,2,  121.60,2,   34.69,2,    0.01,2,    2.47,2,-999.000,5,-999.000,5,  2293.8,2,  -999.0,9,-999.000,9,-999.0000,9, -999.00,9, -999.00,9,  -999.0,9,  -999.0,-999.000,9,-999.000,     -999.0,-999.0000,-999.000,     1.4224,-999.000
  316N138_4,       P06C,     153,          1,         11,        129,2,19920626,       1045,   -32.5147,  -167.9997,       5563,  3598.2,   1.5934,  34.7079,2,  34.7068,2,    179.8,2,   181.6,2,  113.88,2,   33.45,2,    0.01,2,    2.38,2,  -0.002,2,  -0.002,2,  2276.2,2,  -999.0,9,-999.000,9,-999.0000,9, -999.00,9, -999.00,9,  -999.0,9,  -999.0,-999.000,9,-999.000,     -999.0,-999.0000,-999.000,     1.3146,-999.000
  316N138_4,       P06C,     153,          1,         10,        110,2,19920626,       1045,   -32.5147,  -167.9997,       5563,  3798.5,   1.4689,  34.7183,2,  34.7174,2,    192.4,2,   193.0,2,  110.38,2,   32.59,2,    0.01,2,    2.30,2,-999.000,5,-999.000,5,  2264.6,2,  -999.0,9,-999.000,9,-999.0000,9, -999.00,9, -999.00,9,  -999.0,9,  -999.0,-999.000,9,-999.000,     -999.0,-999.0000,-999.000,     1.1723,-999.000
  316N138_4,       P06C,     153,          1,          9,        126,2,19920626,       1045,   -32.5147,  -167.9997,       5563,  4002.2,   1.3244,  34.7195,2,  34.7191,2,    199.5,2,   199.7,2,  111.45,2,   32.25,2,    0.01,2,    2.28,2,   0.000,2,  -0.002,2,  2260.7,2,  -999.0,9,-999.000,9,-999.0000,9, -999.00,9, -999.00,9,  -999.0,9,  -999.0,-999.000,9,-999.000,     -999.0,-999.0000,-999.000,     1.0100,-999.000
  316N138_4,       P06C,     153,          1,          8,        108,2,19920626,       1045,   -32.5147,  -167.9997,       5563,  4208.7,   1.1773,  34.7158,2,-999.0000,9,    203.5,2,  -999.0,9, -999.00,9, -999.00,9, -999.00,9, -999.00,9,-999.000,5,-999.000,5,  -999.0,9,  -999.0,9,-999.000,9,-999.0000,9, -999.00,9, -999.00,9,  -999.0,9,  -999.0,-999.000,9,-999.000,     -999.0,-999.0000,-999.000,     0.8447,-999.000
  316N138_4,       P06C,     153,          1,          7,        107,2,19920626,       1045,   -32.5147,  -167.9997,       5563,  4424.3,   1.0798,  34.7124,2,  34.7136,2,    206.0,2,   205.8,2,  117.99,2,   32.28,2,    0.01,2,    2.30,2,   0.002,2,  -0.001,2,  2261.2,2,  -999.0,9,-999.000,9,-999.0000,9, -999.00,9, -999.00,9,  -999.0,9,  -999.0,-999.000,9,-999.000,     -999.0,-999.0000,-999.000,     0.7263,-999.000
  316N138_4,       P06C,     153,          1,          6,        180,2,19920626,       1045,   -32.5147,  -167.9997,       5563,  4642.0,   1.0354,  34.7104,2,  34.7097,2,    206.9,2,   206.7,2,  119.77,2,   32.31,2,    0.01,2,    2.30,2,-999.000,5,-999.000,5,  2261.0,2,  -999.0,9,-999.000,9,-999.0000,9, -999.00,9, -999.00,9,  -999.0,9,  -999.0,-999.000,9,-999.000,     -999.0,-999.0000,-999.000,     0.6585,-999.000
  316N138_4,       P06C,     153,          1,          5,        131,2,19920626,       1045,   -32.5147,  -167.9997,       5563,  4857.4,   1.0218,  34.7087,2,  34.7077,2,    207.3,2,   207.0,2,  121.03,2,   32.30,2,    0.01,2,    2.29,2,   0.008,2,  -0.002,2,  2261.6,2,  -999.0,9,-999.000,9,-999.0000,9, -999.00,9, -999.00,9,  -999.0,9,  -999.0,-999.000,9,-999.000,     -999.0,-999.0000,-999.000,     0.6205,-999.000
  316N138_4,       P06C,     153,          1,          4,        104,2,19920626,       1045,   -32.5147,  -167.9997,       5563,  5070.9,   1.0272,  34.7076,2,  34.7074,2,    207.4,2,   207.7,2,  121.57,2,   32.27,2,    0.00,2,    2.29,2,   0.006,2,   0.000,2,  2262.0,2,  -999.0,9,-999.000,9,-999.0000,9, -999.00,9, -999.00,9,  -999.0,9,  -999.0,-999.000,9,-999.000,     -999.0,-999.0000,-999.000,     0.6004,-999.000
  316N138_4,       P06C,     153,          1,          3,        130,2,19920626,       1045,   -32.5147,  -167.9997,       5563,  5274.5,   1.0454,  34.7082,2,  34.7072,2,    207.8,2,   207.3,2,  121.77,2,   32.21,2,    0.01,2,    2.28,2,   0.006,2,   0.000,2,  2262.7,2,  -999.0,9,-999.000,9,-999.0000,9, -999.00,9, -999.00,9,  -999.0,9,  -999.0,-999.000,9,-999.000,     -999.0,-999.0000,-999.000,     0.5933,-999.000
  316N138_4,       P06C,     153,          1,          2,        135,2,19920626,       1045,   -32.5147,  -167.9997,       5563,  5475.3,   1.0712,  34.7079,2,  34.7074,2,    207.2,2,   207.2,2,  121.44,2,   32.24,2,    0.01,2,    2.28,2,   0.007,2,   0.006,2,  2262.8,2,  -999.0,9,-999.000,9,-999.0000,9, -999.00,9, -999.00,9,  -999.0,9,  -999.0,-999.000,9,-999.000,     -999.0,-999.0000,-999.000,     0.5933,-999.000
  316N138_4,       P06C,     153,          1,          1,        134,2,19920626,       1045,   -32.5147,  -167.9997,       5563,  5650.6,   1.0943,  34.7084,2,  34.7077,2,    207.3,2,   207.2,2,  121.64,2,   32.32,2,    0.00,2,    2.28,2,   0.009,6,   0.005,6,  2262.2,6,  -999.0,9,-999.000,9,-999.0000,9, -999.00,9, -999.00,9,  -999.0,9,  -999.0,-999.000,9,-999.000,     -999.0,-999.0000,-999.000,     0.5934,-999.000