BOTTLE,20211025CCHSIORKP
EXPOCODE,SECT_ID,STNNBR,CASTNO,SAMPNO,BTLNBR,BTLNBR_FLAG_W,DATE,TIME,LATITUDE,LONGITUDE,DEPTH,CTDPRS,CTDTMP,CTDSAL,CTDSAL_FLAG_W,SALNTY,SALNTY_FLAG_W,CTDOXY,CTDOXY_FLAG_W,OXYGEN,OXYGEN_FLAG_W,SILCAT,SILCAT_FLAG_W,NITRAT,NITRAT_FLAG_W,NITRIT,NITRIT_FLAG_W,PHSPHT,PHSPHT_FLAG_W,CFC-11,CFC-11_FLAG_W,CFC-12,CFC-12_FLAG_W,TCARBN,TCARBN_FLAG_W,PCO2,PCO2_FLAG_W,TRITUM,TRITUM_FLAG_W,HELIUM,HELIUM_FLAG_W,DELHE3,DELHE3_FLAG_W,DELC13,DELC13_FLAG_W,DELC14,DELC14_FLAG_W,C14ERR,NEON,NEON_FLAG_W,NEONER,PCO2TMP,HELIER,DELHER,THETA,TRITER
,,,,,,,,,,,METERS,DBAR,ITS-90,PSS-78,,PSS-78,,UMOL/KG,,UMOL/KG,,UMOL/KG,,UMOL/KG,,UMOL/KG,,UMOL/KG,,PMOL/KG,,PMOL/KG,,UMOL/KG,,UATM,,TU,,NMOL/KG,,PERCNT,,/MILLE,,/MILLE,,/MILLE,NMOL/KG,,NMOL/KG,DEG_C,NMOL/KG,PERCNT,ITS-90,TU
  316N138_4,       P06C,     169,          1,         36,    02-9121,2,19920630,       1626,   -32.4878,  -174.8200,       5743,    22.5,  17.0428,  35.6337,2,-999.0000,9,    245.1,2,  -999.0,9, -999.00,9, -999.00,9, -999.00,9, -999.00,9,-999.000,5,-999.000,5,  -999.0,9,  -999.0,9,-999.000,9,-999.0000,9, -999.00,9, -999.00,9,  -999.0,9,  -999.0,-999.000,9,-999.000,     -999.0,-999.0000,-999.000,    17.0390,-999.000
  316N138_4,       P06C,     169,          1,         35,    02-9454,2,19920630,       1626,   -32.4878,  -174.8200,       5743,    62.8,  17.0467,  35.6326,2,  35.6334,2,    236.0,2,   235.3,2,    0.87,2,    0.92,2,    0.11,2,    0.26,2,   2.648,6,   1.374,6,  -999.0,9,  -999.0,9,-999.000,9,-999.0000,9, -999.00,9, -999.00,9,  -999.0,9,  -999.0,-999.000,9,-999.000,     -999.0,-999.0000,-999.000,    17.0363,-999.000
  316N138_4,       P06C,     169,          1,         34,    02-9457,2,19920630,       1626,   -32.4878,  -174.8200,       5743,   111.3,  16.7923,  35.6075,2,  35.5841,2,    229.9,2,   223.4,2,    1.21,2,    1.91,2,    0.10,2,    0.33,2,   2.595,2,   1.272,2,  -999.0,9,  -999.0,9,-999.000,9,-999.0000,9, -999.00,9, -999.00,9,  -999.0,9,  -999.0,-999.000,9,-999.000,     -999.0,-999.0000,-999.000,    16.7741,-999.000
  316N138_4,       P06C,     169,          1,         33,    02-5367,2,19920630,       1626,   -32.4878,  -174.8200,       5743,   212.9,  14.0508,  35.2794,2,  35.2783,2,    205.6,2,   202.5,2,    3.05,2,    8.42,2,    0.01,2,    0.77,2,   2.373,2,   1.163,2,  -999.0,9,  -999.0,9,-999.000,9,-999.0000,9, -999.00,9, -999.00,9,  -999.0,9,  -999.0,-999.000,9,-999.000,     -999.0,-999.0000,-999.000,    14.0199,-999.000
  316N138_4,       P06C,     169,          1,         32,    02-9540,2,19920630,       1626,   -32.4878,  -174.8200,       5743,   313.5,  12.1300,  35.0452,2,  35.0205,2,    192.6,2,   195.4,2,    4.23,2,   12.97,2,    0.01,2,    1.05,2,   1.951,2,   0.964,2,  -999.0,9,  -999.0,9,-999.000,9,-999.0000,9, -999.00,9, -999.00,9,  -999.0,9,  -999.0,-999.000,9,-999.000,     -999.0,-999.0000,-999.000,    12.0886,-999.000
  316N138_4,       P06C,     169,          1,         31,    02-9539,2,19920630,       1626,   -32.4878,  -174.8200,       5743,   409.0,  10.2877,  34.8078,2,  34.7866,2,    195.3,2,   197.3,2,    5.40,2,   16.81,2,    0.00,2,    1.29,2,   1.514,6,   0.752,6,  -999.0,9,  -999.0,9,-999.000,9,-999.0000,9, -999.00,9, -999.00,9,  -999.0,9,  -999.0,-999.000,9,-999.000,     -999.0,-999.0000,-999.000,    10.2390,-999.000
  316N138_4,       P06C,     169,          1,         30,    02-9456,2,19920630,       1626,   -32.4878,  -174.8200,       5743,   509.5,   8.5630,  34.5857,2,  34.5877,2,    208.0,2,   208.6,2,    7.07,2,   20.35,2,    0.00,2,    1.50,3,   1.218,6,   0.609,6,  -999.0,9,  -999.0,9,-999.000,9,-999.0000,9, -999.00,9, -999.00,9,  -999.0,9,  -999.0,-999.000,9,-999.000,     -999.0,-999.0000,-999.000,     8.5087,-999.000
  316N138_4,       P06C,     169,          1,         29,    02-9458,2,19920630,       1626,   -32.4878,  -174.8200,       5743,   611.5,   7.7680,  34.5026,2,  34.5029,2,    219.1,2,   217.1,2,    7.91,2,   21.77,2,    0.00,2,    1.60,3,   1.034,2,   0.511,2,  -999.0,9,  -999.0,9,-999.000,9,-999.0000,9, -999.00,9, -999.00,9,  -999.0,9,  -999.0,-999.000,9,-999.000,     -999.0,-999.0000,-999.000,     7.7059,-999.000
  316N138_4,       P06C,     169,          1,         28,    02-9545,2,19920630,       1626,   -32.4878,  -174.8200,       5743,   712.2,   7.1224,  34.4279,2,  34.4426,2,    223.5,2,   221.7,2,    9.09,2,   23.09,2,    0.01,2,    1.68,3,   0.733,2,   0.390,2,  -999.0,9,  -999.0,9,-999.000,9,-999.0000,9, -999.00,9, -999.00,9,  -999.0,9,  -999.0,-999.000,9,-999.000,     -999.0,-999.0000,-999.000,     7.0532,-999.000
  316N138_4,       P06C,     169,          1,         27,    02-9453,2,19920630,       1626,   -32.4878,  -174.8200,       5743,   813.4,   6.5734,  34.4122,2,  34.4149,2,    216.2,2,   216.6,2,   13.27,2,   25.03,2,    0.01,2,    1.82,3,   0.455,6,   0.248,6,  -999.0,9,  -999.0,9,-999.000,9,-999.0000,9, -999.00,9, -999.00,9,  -999.0,9,  -999.0,-999.000,9,-999.000,     -999.0,-999.0000,-999.000,     6.4971,-999.000
  316N138_4,       P06C,     169,          1,         26,    02-9544,2,19920630,       1626,   -32.4878,  -174.8200,       5743,   912.0,   6.0493,  34.4012,2,  34.4019,2,    205.5,2,   205.8,2,   19.63,2,   27.16,2,    0.00,2,    1.96,3,   0.282,2,   0.150,2,  -999.0,9,  -999.0,9,-999.000,9,-999.0000,9, -999.00,9, -999.00,9,  -999.0,9,  -999.0,-999.000,9,-999.000,     -999.0,-999.0000,-999.000,     5.9669,-999.000
  316N138_4,       P06C,     169,          1,         25,    02-9455,2,19920630,       1626,   -32.4878,  -174.8200,       5743,  1010.8,   5.3382,  34.3877,2,  34.3888,2,    197.9,2,   197.8,2,   27.51,2,   29.38,2,    0.01,2,    2.11,3,   0.135,6,   0.073,6,  -999.0,9,  -999.0,9,-999.000,9,-999.0000,9, -999.00,9, -999.00,9,  -999.0,9,  -999.0,-999.000,9,-999.000,     -999.0,-999.0000,-999.000,     5.2515,-999.000
  316N138_4,       P06C,     169,          1,         24,        132,2,19920630,       1626,   -32.4878,  -174.8200,       5743,  1211.3,   4.0754,  34.4106,2,  34.4169,2,    183.0,2,   180.2,2,   47.59,2,   32.74,2,    0.01,2,    2.33,3,   0.026,6,   0.014,6,  -999.0,9,  -999.0,9,-999.000,9,-999.0000,9, -999.00,9, -999.00,9,  -999.0,9,  -999.0,-999.000,9,-999.000,     -999.0,-999.0000,-999.000,     3.9813,-999.000
  316N138_4,       P06C,     169,          1,         23,        123,3,19920630,       1626,   -32.4878,  -174.8200,       5743,  1412.2,   3.2373,  34.4831,2,  34.5457,4,    171.2,2,   178.6,4,   52.44,4,   30.61,4,    0.01,4,    2.22,4,-999.000,5,-999.000,5,  -999.0,9,  -999.0,9,-999.000,9,-999.0000,9, -999.00,9, -999.00,9,  -999.0,9,  -999.0,-999.000,9,-999.000,     -999.0,-999.0000,-999.000,     3.1343,-999.000
  316N138_4,       P06C,     169,          1,         22,        128,2,19920630,       1626,   -32.4878,  -174.8200,       5743,  1615.0,   2.7922,  34.5599,2,  34.5604,2,    160.4,2,   158.5,2,   87.08,2,   35.01,2,    0.01,2,    2.56,3,   0.011,2,   0.011,2,  -999.0,9,  -999.0,9,-999.000,9,-999.0000,9, -999.00,9, -999.00,9,  -999.0,9,  -999.0,-999.000,9,-999.000,     -999.0,-999.0000,-999.000,     2.6773,-999.000
  316N138_4,       P06C,     169,          1,         21,        121,2,19920630,       1626,   -32.4878,  -174.8200,       5743,  1813.5,   2.5658,  34.5941,2,  34.5950,2,    154.5,2,   153.6,2,   98.81,2,   35.32,2,    0.00,2,    2.59,3,-999.000,5,-999.000,5,  -999.0,9,  -999.0,9,-999.000,9,-999.0000,9, -999.00,9, -999.00,9,  -999.0,9,  -999.0,-999.000,9,-999.000,     -999.0,-999.0000,-999.000,     2.4370,-999.000
  316N138_4,       P06C,     169,          1,         20,        120,2,19920630,       1626,   -32.4878,  -174.8200,       5743,  2021.3,   2.3935,  34.6148,2,  34.6154,2,    150.6,2,   149.3,2,  107.35,2,   35.55,2,    0.00,2,    2.63,3,  -0.001,2,-999.000,9,  -999.0,9,  -999.0,9,-999.000,9,-999.0000,9, -999.00,9, -999.00,9,  -999.0,9,  -999.0,-999.000,9,-999.000,     -999.0,-999.0000,-999.000,     2.2493,-999.000
  316N138_4,       P06C,     169,          1,         19,        133,3,19920630,       1626,   -32.4878,  -174.8200,       5743,  2219.9,   2.2669,  34.6298,2,  34.6315,2,    149.0,2,   148.4,2,  112.88,2,   35.55,2,    0.00,2,    2.64,3,-999.000,5,-999.000,5,  -999.0,9,  -999.0,9,-999.000,9,-999.0000,9, -999.00,9, -999.00,9,  -999.0,9,  -999.0,-999.000,9,-999.000,     -999.0,-999.0000,-999.000,     2.1072,-999.000
  316N138_4,       P06C,     169,          1,         18,        118,2,19920630,       1626,   -32.4878,  -174.8200,       5743,  2420.6,   2.1362,  34.6431,2,  34.6421,2,    148.7,2,   145.6,4,  118.75,2,   35.74,2,    0.00,2,    2.63,3,-999.000,5,-999.000,5,  -999.0,9,  -999.0,9,-999.000,9,-999.0000,9, -999.00,9, -999.00,9,  -999.0,9,  -999.0,-999.000,9,-999.000,     -999.0,-999.0000,-999.000,     1.9607,-999.000
  316N138_4,       P06C,     169,          1,         17,        117,2,19920630,       1626,   -32.4878,  -174.8200,       5743,  2626.6,   2.0106,  34.6540,2,  34.6551,2,    148.6,2,   147.6,2,  122.78,2,   35.66,2,    0.00,2,    2.62,3,-999.000,5,-999.000,5,  -999.0,9,  -999.0,9,-999.000,9,-999.0000,9, -999.00,9, -999.00,9,  -999.0,9,  -999.0,-999.000,9,-999.000,     -999.0,-999.0000,-999.000,     1.8185,-999.000
  316N138_4,       P06C,     169,          1,         16,        116,2,19920630,       1626,   -32.4878,  -174.8200,       5743,  2825.5,   1.8864,  34.6707,2,  34.6720,2,    153.9,2,   155.4,2,  122.29,2,   35.19,2,    0.00,2,    2.57,3,   0.001,2,   0.000,2,  -999.0,9,  -999.0,9,-999.000,9,-999.0000,9, -999.00,9, -999.00,9,  -999.0,9,  -999.0,-999.000,9,-999.000,     -999.0,-999.0000,-999.000,     1.6780,-999.000
  316N138_4,       P06C,     169,          1,         15,        115,2,19920630,       1626,   -32.4878,  -174.8200,       5743,  3024.0,   1.7773,  34.6963,2,  34.6960,2,    166.1,2,   168.3,2,  113.25,2,   33.72,2,    0.00,2,    2.46,3,-999.000,5,-999.000,5,  -999.0,9,  -999.0,9,-999.000,9,-999.0000,9, -999.00,9, -999.00,9,  -999.0,9,  -999.0,-999.000,9,-999.000,     -999.0,-999.0000,-999.000,     1.5519,-999.000
  316N138_4,       P06C,     169,          1,         14,        114,2,19920630,       1626,   -32.4878,  -174.8200,       5743,  3222.0,   1.6747,  34.7125,2,  34.7109,2,    181.5,2,   180.8,2,  107.74,2,   32.68,2,    0.00,2,    2.36,3,   0.001,2,   0.002,2,  -999.0,9,  -999.0,9,-999.000,9,-999.0000,9, -999.00,9, -999.00,9,  -999.0,9,  -999.0,-999.000,9,-999.000,     -999.0,-999.0000,-999.000,     1.4322,-999.000
  316N138_4,       P06C,     169,          1,         13,        125,2,19920630,       1626,   -32.4878,  -174.8200,       5743,  3410.0,   1.5721,  34.7214,2,  34.7213,2,    191.3,2,   190.0,2,  105.91,2,   32.06,2,    0.00,2,    2.32,3,-999.000,5,-999.000,5,  -999.0,9,  -999.0,9,-999.000,9,-999.0000,9, -999.00,9, -999.00,9,  -999.0,9,  -999.0,-999.000,9,-999.000,     -999.0,-999.0000,-999.000,     1.3131,-999.000
  316N138_4,       P06C,     169,          1,         12,        112,2,19920630,       1626,   -32.4878,  -174.8200,       5743,  3604.5,   1.4053,  34.7231,2,  34.7227,2,    197.6,2,   198.8,3,  107.93,2,   31.83,2,    0.00,2,    2.30,3,-999.000,5,-999.000,5,  -999.0,9,  -999.0,9,-999.000,9,-999.0000,9, -999.00,9, -999.00,9,  -999.0,9,  -999.0,-999.000,9,-999.000,     -999.0,-999.0000,-999.000,     1.1306,-999.000
  316N138_4,       P06C,     169,          1,         11,        129,2,19920630,       1626,   -32.4878,  -174.8200,       5743,  3791.1,   1.2452,  34.7193,2,  34.7195,2,    201.4,2,   200.4,2,  111.80,2,   31.97,2,    0.00,2,    2.31,3,   0.003,2,   0.002,2,  -999.0,9,  -999.0,9,-999.000,9,-999.0000,9, -999.00,9, -999.00,9,  -999.0,9,  -999.0,-999.000,9,-999.000,     -999.0,-999.0000,-999.000,     0.9555,-999.000
  316N138_4,       P06C,     169,          1,         10,        110,2,19920630,       1626,   -32.4878,  -174.8200,       5743,  3986.5,   1.1475,  34.7158,2,  34.7164,2,    204.3,2,   202.0,2,  114.48,2,   31.97,2,    0.01,2,    2.31,3,-999.000,5,-999.000,5,  -999.0,9,  -999.0,9,-999.000,9,-999.0000,9, -999.00,9, -999.00,9,  -999.0,9,  -999.0,-999.000,9,-999.000,     -999.0,-999.0000,-999.000,     0.8398,-999.000
  316N138_4,       P06C,     169,          1,          9,        126,2,19920630,       1626,   -32.4878,  -174.8200,       5743,  4182.9,   1.0733,  34.7128,2,  34.7144,2,    205.5,2,   204.7,2,  116.84,2,   32.22,2,    0.00,2,    2.32,3,-999.000,5,-999.000,5,  -999.0,9,  -999.0,9,-999.000,9,-999.0000,9, -999.00,9, -999.00,9,  -999.0,9,  -999.0,-999.000,9,-999.000,     -999.0,-999.0000,-999.000,     0.7466,-999.000
  316N138_4,       P06C,     169,          1,          8,        108,2,19920630,       1626,   -32.4878,  -174.8200,       5743,  4379.3,   1.0415,  34.7119,2,  34.7117,2,    206.1,2,   204.3,3,  117.85,2,   32.31,2,    0.00,2,    2.32,3,   0.003,2,  -0.003,2,  -999.0,9,  -999.0,9,-999.000,9,-999.0000,9, -999.00,9, -999.00,9,  -999.0,9,  -999.0,-999.000,9,-999.000,     -999.0,-999.0000,-999.000,     0.6941,-999.000
  316N138_4,       P06C,     169,          1,          7,        107,2,19920630,       1626,   -32.4878,  -174.8200,       5743,  4584.0,   1.0225,  34.7098,2,  34.7103,2,    206.7,2,   203.2,4,  119.21,2,   32.40,2,    0.01,2,    2.32,3,-999.000,5,-999.000,5,  -999.0,9,  -999.0,9,-999.000,9,-999.0000,9, -999.00,9, -999.00,9,  -999.0,9,  -999.0,-999.000,9,-999.000,     -999.0,-999.0000,-999.000,     0.6526,-999.000
  316N138_4,       P06C,     169,          1,          6,        180,2,19920630,       1626,   -32.4878,  -174.8200,       5743,  4782.2,   1.0154,  34.7087,2,  34.7079,2,    206.9,2,   206.4,2,  120.06,2,   32.50,2,    0.01,2,    2.32,3,   0.010,2,   0.000,2,  -999.0,9,  -999.0,9,-999.000,9,-999.0000,9, -999.00,9, -999.00,9,  -999.0,9,  -999.0,-999.000,9,-999.000,     -999.0,-999.0000,-999.000,     0.6231,-999.000
  316N138_4,       P06C,     169,          1,          5,        131,2,19920630,       1626,   -32.4878,  -174.8200,       5743,  4984.7,   1.0208,  34.7081,2,  34.7079,2,    207.0,2,   207.3,2,  120.58,2,   32.55,2,    0.01,2,    2.34,3,-999.000,5,-999.000,5,  -999.0,9,  -999.0,9,-999.000,9,-999.0000,9, -999.00,9, -999.00,9,  -999.0,9,  -999.0,-999.000,9,-999.000,     -999.0,-999.0000,-999.000,     0.6045,-999.000
  316N138_4,       P06C,     169,          1,          4,        104,2,19920630,       1626,   -32.4878,  -174.8200,       5743,  5193.2,   1.0360,  34.7079,2,  34.7068,2,    207.5,2,   207.8,2,  121.08,2,   32.60,2,    0.01,2,    2.35,3,   0.012,2,-999.000,9,  -999.0,9,  -999.0,9,-999.000,9,-999.0000,9, -999.00,9, -999.00,9,  -999.0,9,  -999.0,-999.000,9,-999.000,     -999.0,-999.0000,-999.000,     0.5941,-999.000
  316N138_4,       P06C,     169,          1,          3,        130,2,19920630,       1626,   -32.4878,  -174.8200,       5743,  5401.5,   1.0532,  34.7068,2,  34.7066,2,    207.1,2,   207.6,2,  121.27,2,   32.65,2,    0.01,2,    2.34,3,   0.012,2,  -0.001,2,  -999.0,9,  -999.0,9,-999.000,9,-999.0000,9, -999.00,9, -999.00,9,  -999.0,9,  -999.0,-999.000,9,-999.000,     -999.0,-999.0000,-999.000,     0.5852,-999.000
  316N138_4,       P06C,     169,          1,          2,        135,2,19920630,       1626,   -32.4878,  -174.8200,       5743,  5603.5,   1.0758,  34.7071,2,  34.7062,2,    207.3,2,   208.3,2,  121.45,2,   32.66,2,    0.01,2,    2.34,3,   0.010,2,   0.008,2,  -999.0,9,  -999.0,9,-999.000,9,-999.0000,9, -999.00,9, -999.00,9,  -999.0,9,  -999.0,-999.000,9,-999.000,     -999.0,-999.0000,-999.000,     0.5816,-999.000
  316N138_4,       P06C,     169,          1,          1,        134,2,19920630,       1626,   -32.4878,  -174.8200,       5743,  5851.4,   1.1049,  34.7069,2,  34.7081,2,    251.3,4,   206.7,2,  121.71,2,   32.31,2,    0.00,2,    2.32,2,   0.015,6,   0.007,6,  -999.0,9,  -999.0,9,-999.000,9,-999.0000,9, -999.00,9, -999.00,9,  -999.0,9,  -999.0,-999.000,9,-999.000,     -999.0,-999.0000,-999.000,     0.5778,-999.000