BOTTLE,20211025CCHSIORKP
EXPOCODE,SECT_ID,STNNBR,CASTNO,SAMPNO,BTLNBR,BTLNBR_FLAG_W,DATE,TIME,LATITUDE,LONGITUDE,DEPTH,CTDPRS,CTDTMP,CTDSAL,CTDSAL_FLAG_W,SALNTY,SALNTY_FLAG_W,CTDOXY,CTDOXY_FLAG_W,OXYGEN,OXYGEN_FLAG_W,SILCAT,SILCAT_FLAG_W,NITRAT,NITRAT_FLAG_W,NITRIT,NITRIT_FLAG_W,PHSPHT,PHSPHT_FLAG_W,CFC-11,CFC-11_FLAG_W,CFC-12,CFC-12_FLAG_W,TCARBN,TCARBN_FLAG_W,PCO2,PCO2_FLAG_W,TRITUM,TRITUM_FLAG_W,HELIUM,HELIUM_FLAG_W,DELHE3,DELHE3_FLAG_W,DELC13,DELC13_FLAG_W,DELC14,DELC14_FLAG_W,C14ERR,NEON,NEON_FLAG_W,NEONER,PCO2TMP,HELIER,DELHER,THETA,TRITER
,,,,,,,,,,,METERS,DBAR,ITS-90,PSS-78,,PSS-78,,UMOL/KG,,UMOL/KG,,UMOL/KG,,UMOL/KG,,UMOL/KG,,UMOL/KG,,PMOL/KG,,PMOL/KG,,UMOL/KG,,UATM,,TU,,NMOL/KG,,PERCNT,,/MILLE,,/MILLE,,/MILLE,NMOL/KG,,NMOL/KG,DEG_C,NMOL/KG,PERCNT,ITS-90,TU
  316N138_4,       P06C,     118,          1,         36,    02-9121,2,19920615,       1411,   -32.5052,  -142.3355,       4503,    19.5,  19.3359,  35.4845,2,  35.4841,2,    288.0,3,   228.5,2,    0.35,2,    0.02,2,    0.00,2,    0.10,2,   2.300,2,-999.000,5,  -999.0,9,  -999.0,9,-999.000,9,-999.0000,9, -999.00,9, -999.00,9,  -999.0,9,  -999.0,-999.000,9,-999.000,     -999.0,-999.0000,-999.000,    19.3324,-999.000
  316N138_4,       P06C,     118,          1,         35,    02-9454,2,19920615,       1411,   -32.5052,  -142.3355,       4503,    59.5,  19.3318,  35.4826,2,  35.4835,2,    230.8,2,   228.0,2,    0.35,2,    0.03,2,    0.00,2,    0.10,2,   2.312,2,-999.000,5,  -999.0,9,  -999.0,9,-999.000,9,-999.0000,9, -999.00,9, -999.00,9,  -999.0,9,  -999.0,-999.000,9,-999.000,     -999.0,-999.0000,-999.000,    19.3210,-999.000
  316N138_4,       P06C,     118,          1,         34,    02-9457,2,19920615,       1411,   -32.5052,  -142.3355,       4503,   108.4,  17.6440,  35.3996,2,  35.3993,2,    235.7,2,   236.3,2,    0.49,2,    0.03,2,    0.00,2,    0.14,2,   2.470,2,   1.311,2,  -999.0,9,  -999.0,9,-999.000,9,-999.0000,9, -999.00,9, -999.00,9,  -999.0,9,  -999.0,-999.000,9,-999.000,     -999.0,-999.0000,-999.000,    17.6256,-999.000
  316N138_4,       P06C,     118,          1,         33,    02-5367,2,19920615,       1411,   -32.5052,  -142.3355,       4503,   157.6,  16.3116,  35.2996,2,  35.2990,2,    223.7,2,   221.7,2,    0.63,2,    1.30,2,    0.05,2,    0.26,2,   2.442,3,   1.270,3,  -999.0,9,  -999.0,9,-999.000,9,-999.0000,9, -999.00,9, -999.00,9,  -999.0,9,  -999.0,-999.000,9,-999.000,     -999.0,-999.0000,-999.000,    16.2863,-999.000
  316N138_4,       P06C,     118,          1,         32,    02-9540,2,19920615,       1411,   -32.5052,  -142.3355,       4503,   205.7,  15.3234,  35.1797,2,  35.1823,2,    218.0,2,   218.5,2,    0.78,2,    2.76,2,    0.00,2,    0.35,2,   2.461,2,   1.288,2,  -999.0,9,  -999.0,9,-999.000,9,-999.0000,9, -999.00,9, -999.00,9,  -999.0,9,  -999.0,-999.000,9,-999.000,     -999.0,-999.0000,-999.000,    15.2917,-999.000
  316N138_4,       P06C,     118,          1,         31,    02-9539,2,19920615,       1411,   -32.5052,  -142.3355,       4503,   256.5,  14.2348,  35.1136,2,  35.1110,2,    199.4,2,   201.0,2,    1.50,2,    6.85,2,    0.00,2,    0.62,2,   2.045,2,   1.057,2,  -999.0,9,  -999.0,9,-999.000,9,-999.0000,9, -999.00,9, -999.00,9,  -999.0,9,  -999.0,-999.000,9,-999.000,     -999.0,-999.0000,-999.000,    14.1972,-999.000
  316N138_4,       P06C,     118,          1,         30,    02-9456,2,19920615,       1411,   -32.5052,  -142.3355,       4503,   306.1,  12.5627,  34.9467,2,  34.9256,2,    198.5,2,   195.9,2,    2.52,2,   11.17,2,    0.00,2,    0.87,2,   1.618,2,   0.836,2,  -999.0,9,  -999.0,9,-999.000,9,-999.0000,9, -999.00,9, -999.00,9,  -999.0,9,  -999.0,-999.000,9,-999.000,     -999.0,-999.0000,-999.000,    12.5214,-999.000
  316N138_4,       P06C,     118,          1,         29,    02-9458,2,19920615,       1411,   -32.5052,  -142.3355,       4503,   355.1,  10.8604,  34.7472,2,  34.7478,2,    205.5,2,   204.3,2,    3.11,2,   13.91,2,    0.00,2,    1.02,2,   1.754,2,   0.881,2,  -999.0,9,  -999.0,9,-999.000,9,-999.0000,9, -999.00,9, -999.00,9,  -999.0,9,  -999.0,-999.000,9,-999.000,     -999.0,-999.0000,-999.000,    10.8167,-999.000
  316N138_4,       P06C,     118,          1,         28,    02-9545,2,19920615,       1411,   -32.5052,  -142.3355,       4503,   404.2,   9.2787,  34.5745,2,  34.5902,2,    215.0,2,   214.0,2,    3.83,2,   16.91,2,    0.00,2,    1.20,2,   1.726,6,   0.840,6,  -999.0,9,  -999.0,9,-999.000,9,-999.0000,9, -999.00,9, -999.00,9,  -999.0,9,  -999.0,-999.000,9,-999.000,     -999.0,-999.0000,-999.000,     9.2337,-999.000
  316N138_4,       P06C,     118,          1,         27,    02-9453,2,19920615,       1411,   -32.5052,  -142.3355,       4503,   454.8,   8.3151,  34.5032,2,  34.5001,2,    221.2,2,   222.2,2,    4.84,2,   19.06,2,    0.00,2,    1.31,2,   1.584,6,   0.785,6,  -999.0,9,  -999.0,9,-999.000,9,-999.0000,9, -999.00,9, -999.00,9,  -999.0,9,  -999.0,-999.000,9,-999.000,     -999.0,-999.0000,-999.000,     8.2676,-999.000
  316N138_4,       P06C,     118,          1,         26,    02-9544,2,19920615,       1411,   -32.5052,  -142.3355,       4503,   505.5,   7.6834,  34.4478,2,  34.4475,2,    223.8,2,   225.6,2,    6.01,2,   20.74,2,    0.00,2,    1.42,2,   1.239,2,   0.624,2,  -999.0,9,  -999.0,9,-999.000,9,-999.0000,9, -999.00,9, -999.00,9,  -999.0,9,  -999.0,-999.000,9,-999.000,     -999.0,-999.0000,-999.000,     7.6328,-999.000
  316N138_4,       P06C,     118,          1,         25,    02-9455,2,19920615,       1411,   -32.5052,  -142.3355,       4503,   606.2,   6.8997,  34.3888,2,  34.3878,2,    234.0,2,   235.2,2,    7.61,2,   22.34,2,    0.00,2,    1.50,2,   1.030,2,   0.519,2,  -999.0,9,  -999.0,9,-999.000,9,-999.0000,9, -999.00,9, -999.00,9,  -999.0,9,  -999.0,-999.000,9,-999.000,     -999.0,-999.0000,-999.000,     6.8424,-999.000
  316N138_4,       P06C,     118,          1,         24,        132,2,19920615,       1411,   -32.5052,  -142.3355,       4503,   809.6,   5.7705,  34.3168,2,  34.3170,2,    231.9,2,   231.0,2,   12.99,2,   25.67,2,    0.00,2,    1.72,2,   0.416,2,   0.231,2,  -999.0,9,  -999.0,9,-999.000,9,-999.0000,9, -999.00,9, -999.00,9,  -999.0,9,  -999.0,-999.000,9,-999.000,     -999.0,-999.0000,-999.000,     5.6996,-999.000
  316N138_4,       P06C,     118,          1,         23,        123,2,19920615,       1411,   -32.5052,  -142.3355,       4503,   908.5,   5.2254,  34.3041,2,  34.3042,2,    222.3,2,   220.7,2,   18.38,2,   27.81,2,    0.00,2,    1.86,2,   0.246,6,   0.143,6,  -999.0,9,  -999.0,9,-999.000,9,-999.0000,9, -999.00,9, -999.00,9,  -999.0,9,  -999.0,-999.000,9,-999.000,     -999.0,-999.0000,-999.000,     5.1491,-999.000
  316N138_4,       P06C,     118,          1,         22,        128,2,19920615,       1411,   -32.5052,  -142.3355,       4503,  1010.9,   4.6554,  34.3190,2,  34.3174,2,    206.4,2,   205.6,2,   27.25,2,   30.15,2,    0.00,2,    2.02,2,   0.167,2,   0.082,2,  -999.0,9,  -999.0,9,-999.000,9,-999.0000,9, -999.00,9, -999.00,9,  -999.0,9,  -999.0,-999.000,9,-999.000,     -999.0,-999.0000,-999.000,     4.5740,-999.000
  316N138_4,       P06C,     118,          1,         21,        121,2,19920615,       1411,   -32.5052,  -142.3355,       4503,  1112.7,   4.0773,  34.3507,2,  34.3496,2,    194.4,2,   191.4,2,   38.32,2,   32.20,2,    0.00,2,    2.15,2,   0.046,2,   0.033,3,  -999.0,9,  -999.0,9,-999.000,9,-999.0000,9, -999.00,9, -999.00,9,  -999.0,9,  -999.0,-999.000,9,-999.000,     -999.0,-999.0000,-999.000,     3.9918,-999.000
  316N138_4,       P06C,     118,          1,         20,        120,2,19920615,       1411,   -32.5052,  -142.3355,       4503,  1213.4,   3.6061,  34.3909,2,  34.3955,2,    183.8,2,   180.1,2,   49.38,2,   33.44,2,    0.00,2,    2.27,2,   0.041,6,   0.016,6,  -999.0,9,  -999.0,9,-999.000,9,-999.0000,9, -999.00,9, -999.00,9,  -999.0,9,  -999.0,-999.000,9,-999.000,     -999.0,-999.0000,-999.000,     3.5163,-999.000
  316N138_4,       P06C,     118,          1,         19,        133,2,19920615,       1411,   -32.5052,  -142.3355,       4503,  1415.6,   2.9806,  34.4831,2,  34.4832,2,    169.0,2,   168.5,2,   68.44,2,   34.44,2,    0.00,2,    2.34,2,   0.000,2,-999.000,5,  -999.0,9,  -999.0,9,-999.000,9,-999.0000,9, -999.00,9, -999.00,9,  -999.0,9,  -999.0,-999.000,9,-999.000,     -999.0,-999.0000,-999.000,     2.8802,-999.000
  316N138_4,       P06C,     118,          1,         18,        118,2,19920615,       1411,   -32.5052,  -142.3355,       4503,  1616.3,   2.6180,  34.5529,2,  34.5535,2,    161.8,2,   162.0,2,   84.44,2,   34.82,2,    0.00,2,    2.40,2,   0.000,2,  -0.002,2,  -999.0,9,  -999.0,9,-999.000,9,-999.0000,9, -999.00,9, -999.00,9,  -999.0,9,  -999.0,-999.000,9,-999.000,     -999.0,-999.0000,-999.000,     2.5051,-999.000
  316N138_4,       P06C,     118,          1,         17,        117,2,19920615,       1411,   -32.5052,  -142.3355,       4503,  1820.3,   2.3266,  34.6097,2,  34.6091,2,    156.9,2,   156.4,2,  100.16,2,   35.01,2,    0.00,2,    2.43,2,-999.000,9,-999.000,9,  -999.0,9,  -999.0,9,-999.000,9,-999.0000,9, -999.00,9, -999.00,9,  -999.0,9,  -999.0,-999.000,9,-999.000,     -999.0,-999.0000,-999.000,     2.2006,-999.000
  316N138_4,       P06C,     118,          1,         16,        116,2,19920615,       1411,   -32.5052,  -142.3355,       4503,  2022.2,   2.1503,  34.6332,2,  34.6343,2,    154.3,2,   153.2,2,  110.64,2,   35.33,2,    0.00,2,    2.47,2,  -0.002,2,  -0.002,2,  -999.0,9,  -999.0,9,-999.000,9,-999.0000,9, -999.00,9, -999.00,9,  -999.0,9,  -999.0,-999.000,9,-999.000,     -999.0,-999.0000,-999.000,     2.0097,-999.000
  316N138_4,       P06C,     118,          1,         15,        115,2,19920615,       1411,   -32.5052,  -142.3355,       4503,  2226.3,   1.9999,  34.6488,2,  34.6486,2,    152.8,2,   152.0,2,  117.92,2,   35.53,2,    0.00,2,    2.50,2,-999.000,9,-999.000,9,  -999.0,9,  -999.0,9,-999.000,9,-999.0000,9, -999.00,9, -999.00,9,  -999.0,9,  -999.0,-999.000,9,-999.000,     -999.0,-999.0000,-999.000,     1.8441,-999.000
  316N138_4,       P06C,     118,          1,         14,        114,2,19920615,       1411,   -32.5052,  -142.3355,       4503,  2426.6,   1.8920,  34.6570,2,  34.6572,2,    153.8,2,   153.0,2,  122.00,2,   35.54,2,    0.00,2,    2.50,2,-999.000,9,-999.000,9,  -999.0,9,  -999.0,9,-999.000,9,-999.0000,9, -999.00,9, -999.00,9,  -999.0,9,  -999.0,-999.000,9,-999.000,     -999.0,-999.0000,-999.000,     1.7204,-999.000
  316N138_4,       P06C,     118,          1,         13,        125,2,19920615,       1411,   -32.5052,  -142.3355,       4503,  2628.0,   1.8144,  34.6635,2,  34.6645,2,    155.4,2,   154.4,2,  124.33,2,   35.51,2,    0.00,2,    2.49,2,   0.003,2,  -0.003,2,  -999.0,9,  -999.0,9,-999.000,9,-999.0000,9, -999.00,9, -999.00,9,  -999.0,9,  -999.0,-999.000,9,-999.000,     -999.0,-999.0000,-999.000,     1.6259,-999.000
  316N138_4,       P06C,     118,          1,         12,        112,2,19920615,       1411,   -32.5052,  -142.3355,       4503,  2830.3,   1.7345,  34.6693,2,  34.6737,3,    158.7,2,   158.6,2,  125.05,2,   35.25,2,    0.00,2,    2.48,2,-999.000,9,-999.000,9,  -999.0,9,  -999.0,9,-999.000,9,-999.0000,9, -999.00,9, -999.00,9,  -999.0,9,  -999.0,-999.000,9,-999.000,     -999.0,-999.0000,-999.000,     1.5287,-999.000
  316N138_4,       P06C,     118,          1,         11,        129,2,19920615,       1411,   -32.5052,  -142.3355,       4503,  2830.3,   1.7345,  34.6693,2,  34.6694,2,    158.7,2,   158.6,2,  125.06,2,   35.12,2,    0.00,2,    2.48,2,-999.000,9,-999.000,9,  -999.0,9,  -999.0,9,-999.000,9,-999.0000,9, -999.00,9, -999.00,9,  -999.0,9,  -999.0,-999.000,9,-999.000,     -999.0,-999.0000,-999.000,     1.5287,-999.000
  316N138_4,       P06C,     118,          1,         10,        110,2,19920615,       1411,   -32.5052,  -142.3355,       4503,  3030.4,   1.6708,  34.6751,2,  34.6745,2,    162.8,2,   162.3,2,  125.06,2,   34.95,2,    0.00,2,    2.46,2,   0.001,2,  -0.004,2,  -999.0,9,  -999.0,9,-999.000,9,-999.0000,9, -999.00,9, -999.00,9,  -999.0,9,  -999.0,-999.000,9,-999.000,     -999.0,-999.0000,-999.000,     1.4474,-999.000
  316N138_4,       P06C,     118,          1,          9,        126,2,19920615,       1411,   -32.5052,  -142.3355,       4503,  3235.2,   1.6261,  34.6787,2,  34.6826,2,    165.9,2,   165.5,2,  124.77,2,   34.69,2,    0.00,2,    2.45,2,-999.000,9,-999.000,9,  -999.0,9,  -999.0,9,-999.000,9,-999.0000,9, -999.00,9, -999.00,9,  -999.0,9,  -999.0,-999.000,9,-999.000,     -999.0,-999.0000,-999.000,     1.3837,-999.000
  316N138_4,       P06C,     118,          1,          8,        108,2,19920615,       1411,   -32.5052,  -142.3355,       4503,  3441.1,   1.5745,  34.6853,2,  34.6850,2,    169.6,2,   169.2,2,  124.48,2,   34.42,2,    0.00,2,    2.43,2,-999.000,9,-999.000,9,  -999.0,9,  -999.0,9,-999.000,9,-999.0000,9, -999.00,9, -999.00,9,  -999.0,9,  -999.0,-999.000,9,-999.000,     -999.0,-999.0000,-999.000,     1.3125,-999.000
  316N138_4,       P06C,     118,          1,          7,        107,2,19920615,       1411,   -32.5052,  -142.3355,       4503,  3647.9,   1.4956,  34.6903,2,  34.6905,2,    175.4,2,   175.0,2,  123.32,2,   33.98,2,    0.00,2,    2.40,2,  -0.002,2,  -0.002,2,  -999.0,9,  -999.0,9,-999.000,9,-999.0000,9, -999.00,9, -999.00,9,  -999.0,9,  -999.0,-999.000,9,-999.000,     -999.0,-999.0000,-999.000,     1.2143,-999.000
  316N138_4,       P06C,     118,          1,          6,        180,2,19920615,       1411,   -32.5052,  -142.3355,       4503,  3855.7,   1.4426,  34.6940,2,  34.6965,2,    179.8,2,   179.6,2,  122.59,2,   33.72,2,    0.00,2,    2.38,2,-999.000,9,-999.000,9,  -999.0,9,  -999.0,9,-999.000,9,-999.0000,9, -999.00,9, -999.00,9,  -999.0,9,  -999.0,-999.000,9,-999.000,     -999.0,-999.0000,-999.000,     1.1407,-999.000
  316N138_4,       P06C,     118,          1,          5,        131,3,19920615,       1411,   -32.5052,  -142.3355,       4503,  4059.0,   1.3467,  34.7007,2,  35.1254,4,    186.3,2,   195.3,4,   58.54,4,   17.65,4,    0.00,4,    1.27,4,-999.000,9,-999.000,9,  -999.0,9,  -999.0,9,-999.000,9,-999.0000,9, -999.00,9, -999.00,9,  -999.0,9,  -999.0,-999.000,9,-999.000,     -999.0,-999.0000,-999.000,     1.0257,-999.000
  316N138_4,       P06C,     118,          1,          4,        104,2,19920615,       1411,   -32.5052,  -142.3355,       4503,  4263.3,   1.3172,  34.7033,2,  34.7038,2,    190.4,2,   190.8,2,  120.12,2,   32.96,2,    0.00,2,    2.32,2,   0.001,2,  -0.003,2,  -999.0,9,  -999.0,9,-999.000,9,-999.0000,9, -999.00,9, -999.00,9,  -999.0,9,  -999.0,-999.000,9,-999.000,     -999.0,-999.0000,-999.000,     0.9745,-999.000
  316N138_4,       P06C,     118,          1,          3,        130,2,19920615,       1411,   -32.5052,  -142.3355,       4503,  4468.5,   1.2998,  34.7059,2,  34.7066,2,    193.3,2,   193.0,2,  119.83,2,   32.84,2,    0.00,2,    2.30,2,-999.000,9,-999.000,9,  -999.0,9,  -999.0,9,-999.000,9,-999.0000,9, -999.00,9, -999.00,9,  -999.0,9,  -999.0,-999.000,9,-999.000,     -999.0,-999.0000,-999.000,     0.9346,-999.000
  316N138_4,       P06C,     118,          1,          2,        135,2,19920615,       1411,   -32.5052,  -142.3355,       4503,  4673.5,   1.3050,  34.7056,2,  34.7060,2,    194.5,2,   194.6,2,  119.25,2,   32.75,2,    0.00,2,    2.30,2,-999.000,9,-999.000,9,  -999.0,9,  -999.0,9,-999.000,9,-999.0000,9, -999.00,9, -999.00,9,  -999.0,9,  -999.0,-999.000,9,-999.000,     -999.0,-999.0000,-999.000,     0.9160,-999.000
  316N138_4,       P06C,     118,          1,          1,        134,2,19920615,       1411,   -32.5052,  -142.3355,       4503,  4880.6,   1.3108,  34.7070,2,  34.7077,2,    194.4,2,   195.3,2,  119.03,2,   32.67,2,    0.00,2,    2.29,2,   0.002,2,   0.002,2,  -999.0,9,  -999.0,9,-999.000,9,-999.0000,9, -999.00,9, -999.00,9,  -999.0,9,  -999.0,-999.000,9,-999.000,     -999.0,-999.0000,-999.000,     0.8972,-999.000