BOTTLE,20211025CCHSIORKP
EXPOCODE,SECT_ID,STNNBR,CASTNO,SAMPNO,BTLNBR,BTLNBR_FLAG_W,DATE,TIME,LATITUDE,LONGITUDE,DEPTH,CTDPRS,CTDTMP,CTDSAL,CTDSAL_FLAG_W,SALNTY,SALNTY_FLAG_W,CTDOXY,CTDOXY_FLAG_W,OXYGEN,OXYGEN_FLAG_W,SILCAT,SILCAT_FLAG_W,NITRAT,NITRAT_FLAG_W,NITRIT,NITRIT_FLAG_W,PHSPHT,PHSPHT_FLAG_W,CFC-11,CFC-11_FLAG_W,CFC-12,CFC-12_FLAG_W,TCARBN,TCARBN_FLAG_W,PCO2,PCO2_FLAG_W,TRITUM,TRITUM_FLAG_W,HELIUM,HELIUM_FLAG_W,DELHE3,DELHE3_FLAG_W,DELC13,DELC13_FLAG_W,DELC14,DELC14_FLAG_W,C14ERR,NEON,NEON_FLAG_W,NEONER,PCO2TMP,HELIER,DELHER,THETA,TRITER
,,,,,,,,,,,METERS,DBAR,ITS-90,PSS-78,,PSS-78,,UMOL/KG,,UMOL/KG,,UMOL/KG,,UMOL/KG,,UMOL/KG,,UMOL/KG,,PMOL/KG,,PMOL/KG,,UMOL/KG,,UATM,,TU,,NMOL/KG,,PERCNT,,/MILLE,,/MILLE,,/MILLE,NMOL/KG,,NMOL/KG,DEG_C,NMOL/KG,PERCNT,ITS-90,TU
  316N138_4,       P06C,     188,          1,         23,        123,2,19920704,       1955,   -31.0875,   177.5345,       4131,    21.5,  17.1412,  35.6130,2,-999.0000,9,    249.0,2,  -999.0,9, -999.00,9, -999.00,9, -999.00,9, -999.00,9,-999.000,5,-999.000,5,  -999.0,9,  -999.0,9,-999.000,9,-999.0000,9, -999.00,9, -999.00,9,  -999.0,9,  -999.0,-999.000,9,-999.000,     -999.0,-999.0000,-999.000,    17.1376,-999.000
  316N138_4,       P06C,     188,          1,         24,        132,2,19920704,       1955,   -31.0875,   177.5345,       4131,    21.7,  17.1415,  35.6123,2,-999.0000,9,    249.0,2,  -999.0,9, -999.00,9, -999.00,9, -999.00,9, -999.00,9,-999.000,5,-999.000,5,  -999.0,9,  -999.0,9,-999.000,9,-999.0000,9, -999.00,9, -999.00,9,  -999.0,9,  -999.0,-999.000,9,-999.000,     -999.0,-999.0000,-999.000,    17.1379,-999.000
  316N138_4,       P06C,     188,          1,         22,        128,2,19920704,       1955,   -31.0875,   177.5345,       4131,    61.5,  17.1464,  35.6129,2,  35.6125,2,    234.2,2,   232.5,2,    1.36,2,    1.31,2,    0.15,2, -999.00,5,   2.635,2,   1.312,2,  2042.3,2,  -999.0,9,-999.000,9,-999.0000,9, -999.00,9, -999.00,9,  -999.0,9,  -999.0,-999.000,9,-999.000,     -999.0,-999.0000,-999.000,    17.1361,-999.000
  316N138_4,       P06C,     188,          1,         21,        121,2,19920704,       1955,   -31.0875,   177.5345,       4131,   111.6,  17.1474,  35.6197,2,  35.6206,2,    231.1,2,   233.0,2,    1.36,2,    1.20,2,    0.16,2, -999.00,5,   2.624,2,   1.317,2,  2044.0,2,  -999.0,9,-999.000,9,-999.0000,9, -999.00,9, -999.00,9,  -999.0,9,  -999.0,-999.000,9,-999.000,     -999.0,-999.0000,-999.000,    17.1288,-999.000
  316N138_4,       P06C,     188,          1,         20,        120,2,19920704,       1955,   -31.0875,   177.5345,       4131,   161.2,  15.8969,  35.4502,2,  35.4279,2,    216.4,2,   207.5,2,    2.50,2,    6.03,2,    0.04,2, -999.00,5,   2.400,2,   1.223,2,  2074.4,6,  -999.0,9,-999.000,9,-999.0000,9, -999.00,9, -999.00,9,  -999.0,9,  -999.0,-999.000,9,-999.000,     -999.0,-999.0000,-999.000,    15.8714,-999.000
  316N138_4,       P06C,     188,          1,         19,        133,2,19920704,       1955,   -31.0875,   177.5345,       4131,   209.0,  14.6665,  35.3211,2,  35.3232,2,    198.9,2,   197.3,2,    3.27,2,    8.92,2,    0.00,2, -999.00,5,   2.153,2,   1.080,2,  2087.6,2,  -999.0,9,-999.000,9,-999.0000,9, -999.00,9, -999.00,9,  -999.0,9,  -999.0,-999.000,9,-999.000,     -999.0,-999.0000,-999.000,    14.6353,-999.000
  316N138_4,       P06C,     188,          1,         18,        118,2,19920704,       1955,   -31.0875,   177.5345,       4131,   258.6,  13.7947,  35.2406,2,  35.2373,2,    197.8,2,   199.0,2,    4.03,2,   10.14,2,    0.00,2, -999.00,5,   2.123,2,   1.052,2,  2096.3,6,  -999.0,9,-999.000,9,-999.0000,9, -999.00,9, -999.00,9,  -999.0,9,  -999.0,-999.000,9,-999.000,     -999.0,-999.0000,-999.000,    13.7576,-999.000
  316N138_4,       P06C,     188,          1,         17,        117,2,19920704,       1955,   -31.0875,   177.5345,       4131,   310.3,  12.7257,  35.1134,2,  35.1116,2,    196.3,2,   193.3,2,    5.36,2,   12.86,2,    0.00,2, -999.00,5,   1.824,2,   0.925,2,  2108.5,2,  -999.0,9,-999.000,9,-999.0000,9, -999.00,9, -999.00,9,  -999.0,9,  -999.0,-999.000,9,-999.000,     -999.0,-999.0000,-999.000,    12.6835,-999.000
  316N138_4,       P06C,     188,          1,         16,        116,2,19920704,       1955,   -31.0875,   177.5345,       4131,   361.0,  11.6101,  34.9734,2,  34.9705,2,    193.2,2,   191.2,2,    6.13,2,   15.21,2,    0.00,2, -999.00,5,   1.519,2,   0.781,2,  2119.0,2,  -999.0,9,-999.000,9,-999.0000,9, -999.00,9, -999.00,9,  -999.0,9,  -999.0,-999.000,9,-999.000,     -999.0,-999.0000,-999.000,    11.5637,-999.000
  316N138_4,       P06C,     188,          1,         15,        115,2,19920704,       1955,   -31.0875,   177.5345,       4131,   407.7,  10.9164,  34.9140,2,  34.9085,2,    192.3,2,   191.8,2,    8.03,2,   16.89,2,   -0.01,2, -999.00,5,   1.457,2,   0.745,2,  2126.1,2,  -999.0,9,-999.000,9,-999.0000,9, -999.00,9, -999.00,9,  -999.0,9,  -999.0,-999.000,9,-999.000,     -999.0,-999.0000,-999.000,    10.8659,-999.000
  316N138_4,       P06C,     188,          1,         14,        114,2,19920704,       1955,   -31.0875,   177.5345,       4131,   456.2,  10.1264,  34.8071,2,  34.8027,2,    192.7,2,   193.4,2,    8.42,2,   18.28,2,    0.00,2, -999.00,5,-999.000,5,-999.000,5,  2131.6,2,  -999.0,9,-999.000,9,-999.0000,9, -999.00,9, -999.00,9,  -999.0,9,  -999.0,-999.000,9,-999.000,     -999.0,-999.0000,-999.000,    10.0725,-999.000
  316N138_4,       P06C,     188,          1,         13,        125,2,19920704,       1955,   -31.0875,   177.5345,       4131,   505.8,   9.5177,  34.7450,2,  34.7476,2,    195.5,2,   194.4,2,   10.32,2,   19.81,2,    0.00,2, -999.00,5,   1.127,2,   0.579,2,  2136.9,2,  -999.0,9,-999.000,9,-999.0000,9, -999.00,9, -999.00,9,  -999.0,9,  -999.0,-999.000,9,-999.000,     -999.0,-999.0000,-999.000,     9.4600,-999.000
  316N138_4,       P06C,     188,          1,         12,        112,2,19920704,       1955,   -31.0875,   177.5345,       4131,   605.8,   8.0381,  34.5526,2,  34.5525,2,    210.3,2,   208.4,2,   10.14,2,   21.90,2,    0.00,2, -999.00,5,   1.027,2,   0.518,2,  2140.1,2,  -999.0,9,-999.000,9,-999.0000,9, -999.00,9, -999.00,9,  -999.0,9,  -999.0,-999.000,9,-999.000,     -999.0,-999.0000,-999.000,     7.9754,-999.000
  316N138_4,       P06C,     188,          1,         11,        129,2,19920704,       1955,   -31.0875,   177.5345,       4131,   705.3,   7.2732,  34.4979,2,  34.4972,2,    205.7,2,   205.3,2,   14.12,2,   23.88,2,    0.00,2, -999.00,5,-999.000,5,-999.000,5,  2149.3,2,  -999.0,9,-999.000,9,-999.0000,9, -999.00,9, -999.00,9,  -999.0,9,  -999.0,-999.000,9,-999.000,     -999.0,-999.0000,-999.000,     7.2038,-999.000
  316N138_4,       P06C,     188,          1,         10,        110,2,19920704,       1955,   -31.0875,   177.5345,       4131,   805.1,   6.5480,  34.4644,2,  34.4654,2,    202.5,2,   200.9,2,   20.39,2,   26.00,2,    0.00,2, -999.00,5,   0.368,2,   0.205,2,  2162.4,2,  -999.0,9,-999.000,9,-999.0000,9, -999.00,9, -999.00,9,  -999.0,9,  -999.0,-999.000,9,-999.000,     -999.0,-999.0000,-999.000,     6.4726,-999.000
  316N138_4,       P06C,     188,          1,          9,        126,3,19920704,       1955,   -31.0875,   177.5345,       4131,   901.9,   5.8530,  34.4287,2,  34.4275,2,    198.7,2,   193.9,2,   25.90,2,   27.86,2,    0.00,2, -999.00,5,-999.000,5,-999.000,5,  2173.3,2,  -999.0,9,-999.000,9,-999.0000,9, -999.00,9, -999.00,9,  -999.0,9,  -999.0,-999.000,9,-999.000,     -999.0,-999.0000,-999.000,     5.7727,-999.000
  316N138_4,       P06C,     188,          1,          8,        108,2,19920704,       1955,   -31.0875,   177.5345,       4131,   997.5,   5.2163,  34.4240,2,  34.4226,2,    189.9,2,   189.9,2,   34.26,2,   29.65,2,    0.00,2, -999.00,5,   0.126,2,   0.071,2,  2189.7,2,  -999.0,9,-999.000,9,-999.0000,9, -999.00,9, -999.00,9,  -999.0,9,  -999.0,-999.000,9,-999.000,     -999.0,-999.0000,-999.000,     5.1318,-999.000
  316N138_4,       P06C,     188,          1,          7,        107,2,19920704,       1955,   -31.0875,   177.5345,       4131,  1093.7,   4.7624,  34.4406,2,  34.4400,2,    182.9,2,   181.9,2,   42.99,2,   30.88,2,    0.00,2, -999.00,5,   0.083,2,   0.049,2,  2204.0,2,  -999.0,9,-999.000,9,-999.0000,9, -999.00,9, -999.00,9,  -999.0,9,  -999.0,-999.000,9,-999.000,     -999.0,-999.0000,-999.000,     4.6726,-999.000
  316N138_4,       P06C,     188,          1,          6,        180,2,19920704,       1955,   -31.0875,   177.5345,       4131,  1193.9,   4.1937,  34.4673,2,  34.4667,2,    176.1,2,   175.4,2,   54.95,2,   32.13,2,    0.00,2, -999.00,5,   0.046,2,   0.027,2,  2221.9,2,  -999.0,9,-999.000,9,-999.0000,9, -999.00,9, -999.00,9,  -999.0,9,  -999.0,-999.000,9,-999.000,     -999.0,-999.0000,-999.000,     4.0999,-999.000
  316N138_4,       P06C,     188,          1,          5,        131,2,19920704,       1955,   -31.0875,   177.5345,       4131,  1295.5,   3.8237,  34.5177,2,  34.5178,2,    169.8,2,   167.5,2,   68.05,2,   32.80,2,    0.00,2, -999.00,5,   0.041,6,   0.024,6,  2239.0,2,  -999.0,9,-999.000,9,-999.0000,9, -999.00,9, -999.00,9,  -999.0,9,  -999.0,-999.000,9,-999.000,     -999.0,-999.0000,-999.000,     3.7245,-999.000
  316N138_4,       P06C,     188,          1,          4,        104,2,19920704,       1955,   -31.0875,   177.5345,       4131,  1395.1,   3.4973,  34.5439,2,  34.5433,2,    166.4,2,   163.9,2,   77.34,2,   33.33,2,    0.00,2, -999.00,5,   0.027,2,   0.015,2,  2251.5,2,  -999.0,9,-999.000,9,-999.0000,9, -999.00,9, -999.00,9,  -999.0,9,  -999.0,-999.000,9,-999.000,     -999.0,-999.0000,-999.000,     3.3929,-999.000
  316N138_4,       P06C,     188,          1,          3,        130,2,19920704,       1955,   -31.0875,   177.5345,       4131,  1494.4,   3.2443,  34.5662,2,  34.5651,2,    163.0,2,   161.4,2,   84.56,2,   33.69,2,    0.00,2, -999.00,5,   0.020,2,   0.009,2,  2260.4,2,  -999.0,9,-999.000,9,-999.0000,9, -999.00,9, -999.00,9,  -999.0,9,  -999.0,-999.000,9,-999.000,     -999.0,-999.0000,-999.000,     3.1341,-999.000
  316N138_4,       P06C,     188,          1,          2,        135,2,19920704,       1955,   -31.0875,   177.5345,       4131,  1594.0,   2.9439,  34.5878,2,  34.5871,2,    160.2,2,   158.2,2,   92.54,2,   34.12,2,    0.00,2, -999.00,5,   0.008,6,   0.009,6,  2271.1,2,  -999.0,9,-999.000,9,-999.0000,9, -999.00,9, -999.00,9,  -999.0,9,  -999.0,-999.000,9,-999.000,     -999.0,-999.0000,-999.000,     2.8288,-999.000
  316N138_4,       P06C,     188,          1,          1,        134,2,19920704,       1955,   -31.0875,   177.5345,       4131,  1796.2,   2.5813,  34.6130,2,  34.6136,2,    156.8,2,   154.7,2,  102.99,2,   34.70,2,    0.00,2, -999.00,5,   0.002,2,  -0.001,2,  2284.1,6,  -999.0,9,-999.000,9,-999.0000,9, -999.00,9, -999.00,9,  -999.0,9,  -999.0,-999.000,9,-999.000,     -999.0,-999.0000,-999.000,     2.4537,-999.000
  316N138_4,       P06C,     188,          1,         36,    02-9121,2,19920704,       1955,   -31.0875,   177.5345,       4131,  1998.7,   2.3526,  34.6320,2,  34.6331,2,    154.0,2,   153.3,2,  110.11,2,   35.26,2,    0.00,2, -999.00,5,   0.000,2,   0.005,2,  2294.2,6,  -999.0,9,-999.000,9,-999.0000,9, -999.00,9, -999.00,9,  -999.0,9,  -999.0,-999.000,9,-999.000,     -999.0,-999.0000,-999.000,     2.2110,-999.000
  316N138_4,       P06C,     188,          1,         35,    02-9454,2,19920704,       1955,   -31.0875,   177.5345,       4131,  2205.1,   2.1661,  34.6485,2,  34.6488,2,    153.4,2,   152.5,2,  115.23,2,   35.33,2,    0.00,2, -999.00,5,-999.000,5,-999.000,5,  2300.1,2,  -999.0,9,-999.000,9,-999.0000,9, -999.00,9, -999.00,9,  -999.0,9,  -999.0,-999.000,9,-999.000,     -999.0,-999.0000,-999.000,     2.0093,-999.000
  316N138_4,       P06C,     188,          1,         34,    02-9457,2,19920704,       1955,   -31.0875,   177.5345,       4131,  2412.8,   2.0408,  34.6593,2,  34.6602,2,    153.2,2,   152.5,2,  119.04,2,   35.38,2,   -0.01,2, -999.00,5,-999.000,5,-999.000,5,  2304.1,2,  -999.0,9,-999.000,9,-999.0000,9, -999.00,9, -999.00,9,  -999.0,9,  -999.0,-999.000,9,-999.000,     -999.0,-999.0000,-999.000,     1.8678,-999.000
  316N138_4,       P06C,     188,          1,         33,    02-5367,3,19920704,       1955,   -31.0875,   177.5345,       4131,  2616.9,   1.9394,  34.6692,2,  34.6698,2,    153.9,2,   153.1,2,  121.51,2,   35.41,2,   -0.01,2, -999.00,5,-999.000,5,-999.000,5,  2306.4,2,  -999.0,9,-999.000,9,-999.0000,9, -999.00,9, -999.00,9,  -999.0,9,  -999.0,-999.000,9,-999.000,     -999.0,-999.0000,-999.000,     1.7495,-999.000
  316N138_4,       P06C,     188,          1,         32,    02-9540,2,19920704,       1955,   -31.0875,   177.5345,       4131,  2820.0,   1.8957,  34.6739,2,  34.6753,2,    154.5,2,   153.6,2,  123.03,2,   35.45,2,   -0.01,2, -999.00,5,-999.000,5,-999.000,5,  2306.2,2,  -999.0,9,-999.000,9,-999.0000,9, -999.00,9, -999.00,9,  -999.0,9,  -999.0,-999.000,9,-999.000,     -999.0,-999.0000,-999.000,     1.6876,-999.000
  316N138_4,       P06C,     188,          1,         31,    02-9539,2,19920704,       1955,   -31.0875,   177.5345,       4131,  3025.0,   1.8635,  34.6781,2,  34.6777,2,    155.1,2,   154.1,2,  124.17,2,   35.34,2,   -0.01,2, -999.00,5,   0.000,2,   0.007,2,  2309.8,2,  -999.0,9,-999.000,9,-999.0000,9, -999.00,9, -999.00,9,  -999.0,9,  -999.0,-999.000,9,-999.000,     -999.0,-999.0000,-999.000,     1.6362,-999.000
  316N138_4,       P06C,     188,          1,         30,    02-9456,2,19920704,       1955,   -31.0875,   177.5345,       4131,  3230.1,   1.8525,  34.6796,2,  34.6806,2,    155.3,2,   154.3,2,  124.75,2,   35.33,2,   -0.01,2, -999.00,5,-999.000,5,-999.000,5,  2309.1,2,  -999.0,9,-999.000,9,-999.0000,9, -999.00,9, -999.00,9,  -999.0,9,  -999.0,-999.000,9,-999.000,     -999.0,-999.0000,-999.000,     1.6051,-999.000
  316N138_4,       P06C,     188,          1,         29,    02-9458,2,19920704,       1955,   -31.0875,   177.5345,       4131,  3436.2,   1.8552,  34.6812,2,  34.6826,2,    156.0,2,   154.4,2,  125.71,2,   35.32,2,   -0.01,2, -999.00,5,-999.000,5,-999.000,5,  2310.0,6,  -999.0,9,-999.000,9,-999.0000,9, -999.00,9, -999.00,9,  -999.0,9,  -999.0,-999.000,9,-999.000,     -999.0,-999.0000,-999.000,     1.5867,-999.000
  316N138_4,       P06C,     188,          1,         28,    02-9545,2,19920704,       1955,   -31.0875,   177.5345,       4131,  3641.7,   1.8649,  34.6819,2,  34.6836,2,    156.1,2,   154.1,2,  125.53,2,   35.26,2,   -0.01,2, -999.00,5,  -0.003,2,   0.004,2,  2310.4,2,  -999.0,9,-999.000,9,-999.0000,9, -999.00,9, -999.00,9,  -999.0,9,  -999.0,-999.000,9,-999.000,     -999.0,-999.0000,-999.000,     1.5746,-999.000
  316N138_4,       P06C,     188,          1,         27,    02-9453,2,19920704,       1955,   -31.0875,   177.5345,       4131,  3846.3,   1.8779,  34.6821,2,  34.6838,2,    156.3,2,   155.7,2,  125.92,2,   35.21,2,   -0.01,2, -999.00,5,-999.000,5,-999.000,5,  2310.9,2,  -999.0,9,-999.000,9,-999.0000,9, -999.00,9, -999.00,9,  -999.0,9,  -999.0,-999.000,9,-999.000,     -999.0,-999.0000,-999.000,     1.5653,-999.000
  316N138_4,       P06C,     188,          1,         26,    02-9544,2,19920704,       1955,   -31.0875,   177.5345,       4131,  4053.7,   1.8953,  34.6841,2,  34.6840,2,    156.8,2,   154.4,2,  126.50,2,   35.28,2,    0.00,2, -999.00,5,  -0.002,2,   0.004,2,  2312.1,2,  -999.0,9,-999.000,9,-999.0000,9, -999.00,9, -999.00,9,  -999.0,9,  -999.0,-999.000,9,-999.000,     -999.0,-999.0000,-999.000,     1.5593,-999.000
  316N138_4,       P06C,     188,          1,         25,        X25,2,19920704,       1955,   -31.0875,   177.5345,       4131,  4183.7,   1.9099,  34.6833,2,  34.6848,2,    155.0,2,   155.6,2,  126.16,2,   35.25,2,    0.00,2, -999.00,5,   0.000,6,   0.002,6,  2311.7,2,  -999.0,9,-999.000,9,-999.0000,9, -999.00,9, -999.00,9,  -999.0,9,  -999.0,-999.000,9,-999.000,     -999.0,-999.0000,-999.000,     1.5588,-999.000