BOTTLE,20211025CCHSIORKP
EXPOCODE,SECT_ID,STNNBR,CASTNO,SAMPNO,BTLNBR,BTLNBR_FLAG_W,DATE,TIME,LATITUDE,LONGITUDE,DEPTH,CTDPRS,CTDTMP,CTDSAL,CTDSAL_FLAG_W,SALNTY,SALNTY_FLAG_W,CTDOXY,CTDOXY_FLAG_W,OXYGEN,OXYGEN_FLAG_W,SILCAT,SILCAT_FLAG_W,NITRAT,NITRAT_FLAG_W,NITRIT,NITRIT_FLAG_W,PHSPHT,PHSPHT_FLAG_W,CFC-11,CFC-11_FLAG_W,CFC-12,CFC-12_FLAG_W,TCARBN,TCARBN_FLAG_W,PCO2,PCO2_FLAG_W,TRITUM,TRITUM_FLAG_W,HELIUM,HELIUM_FLAG_W,DELHE3,DELHE3_FLAG_W,DELC13,DELC13_FLAG_W,DELC14,DELC14_FLAG_W,C14ERR,NEON,NEON_FLAG_W,NEONER,PCO2TMP,HELIER,DELHER,THETA,TRITER
,,,,,,,,,,,METERS,DBAR,ITS-90,PSS-78,,PSS-78,,UMOL/KG,,UMOL/KG,,UMOL/KG,,UMOL/KG,,UMOL/KG,,UMOL/KG,,PMOL/KG,,PMOL/KG,,UMOL/KG,,UATM,,TU,,NMOL/KG,,PERCNT,,/MILLE,,/MILLE,,/MILLE,NMOL/KG,,NMOL/KG,DEG_C,NMOL/KG,PERCNT,ITS-90,TU
  316N138_4,       P06C,     139,          1,         36,    02-9121,2,19920622,       1837,   -32.5025,  -159.8332,       5316,    27.7,  17.7038,  35.3894,2,  35.3888,2,    306.4,3,   233.4,2,    0.53,2,    0.04,2,   -0.01,2,    0.12,2,-999.000,5,-999.000,5,  -999.0,9,  -999.0,9,-999.000,9,-999.0000,9, -999.00,9, -999.00,9,  -999.0,9,  -999.0,-999.000,9,-999.000,     -999.0,-999.0000,-999.000,    17.6991,-999.000
  316N138_4,       P06C,     139,          1,         35,    02-9454,2,19920622,       1837,   -32.5025,  -159.8332,       5316,    68.3,  17.7092,  35.3899,2,  35.3884,2,    241.5,2,   234.4,2,    0.53,2,    0.07,2,    0.00,2,    0.12,2,-999.000,5,-999.000,5,  -999.0,9,  -999.0,9,   0.661,2,   1.8250,2,   -1.39,2, -999.00,9,  -999.0,9,  -999.0,   7.429,2,   0.017,     -999.0,   0.0040,   0.150,    17.6977,   0.004
  316N138_4,       P06C,     139,          1,         34,    02-9457,2,19920622,       1837,   -32.5025,  -159.8332,       5316,   118.8,  17.6655,  35.3840,2,  35.3880,2,    237.2,2,   234.3,2,    0.53,2,    0.06,2,    0.00,2,    0.13,2,-999.000,5,-999.000,5,  -999.0,9,  -999.0,9,   0.619,2,   1.7950,2,   -1.38,2, -999.00,9,  -999.0,9,  -999.0,   7.363,2,   0.017,     -999.0,   0.0040,   0.150,    17.6453,   0.004
  316N138_4,       P06C,     139,          1,         33,    02-5367,2,19920622,       1837,   -32.5025,  -159.8332,       5316,   168.4,  16.1754,  35.3217,2,  35.3127,2,    226.7,2,   230.4,2,    0.83,2,    0.94,2,    0.12,2,    0.24,2,-999.000,5,-999.000,5,  -999.0,9,  -999.0,9,   0.635,2,   1.8250,2,   -1.42,2, -999.00,9,  -999.0,9,  -999.0,   7.538,2,   0.017,     -999.0,   0.0040,   0.150,    16.1485,   0.004
  316N138_4,       P06C,     139,          1,         32,    02-9540,2,19920622,       1837,   -32.5025,  -159.8332,       5316,   216.1,  14.7734,  35.2430,2,  35.2219,2,    213.6,2,   214.3,2,    1.28,2,    4.58,2,    0.00,2,    0.47,2,-999.000,5,-999.000,5,  -999.0,9,  -999.0,9,-999.000,9,-999.0000,9, -999.00,9, -999.00,9,  -999.0,9,  -999.0,-999.000,9,-999.000,     -999.0,-999.0000,-999.000,    14.7409,-999.000
  316N138_4,       P06C,     139,          1,         31,    02-9539,2,19920622,       1837,   -32.5025,  -159.8332,       5316,   266.6,  12.7418,  35.0245,2,  35.0323,2,    203.7,2,   201.4,2,    2.48,2,    9.97,2,    0.00,2,    0.78,2,-999.000,5,-999.000,5,  -999.0,9,  -999.0,9,   0.444,2,   1.8190,2,   -0.47,2, -999.00,9,  -999.0,9,  -999.0,   7.674,2,   0.018,     -999.0,   0.0040,   0.150,    12.7055,   0.004
  316N138_4,       P06C,     139,          1,         30,    02-9456,2,19920622,       1837,   -32.5025,  -159.8332,       5316,   318.1,  11.4431,  34.8830,2,  34.8696,2,    203.5,2,   203.7,2,    3.08,2,   13.14,2,    0.00,2,    0.95,2,-999.000,5,-999.000,5,  -999.0,9,  -999.0,9,   0.379,2,-999.0000,9, -999.00,9, -999.00,9,  -999.0,9,  -999.0,-999.000,9,-999.000,     -999.0,-999.0000,-999.000,    11.4027,   0.003
  316N138_4,       P06C,     139,          1,         29,    02-9458,2,19920622,       1837,   -32.5025,  -159.8332,       5316,   418.7,   8.9971,  34.6020,2,  34.6032,2,    220.5,2,   219.9,2,    4.29,2,   17.68,2,    0.00,2,    1.22,2,-999.000,5,-999.000,5,  -999.0,9,  -999.0,9,   0.301,2,   1.8500,2,   -0.47,2, -999.00,9,  -999.0,9,  -999.0,   7.881,2,   0.018,     -999.0,   0.0040,   0.150,     8.9514,   0.003
  316N138_4,       P06C,     139,          1,         28,    02-9545,2,19920622,       1837,   -32.5025,  -159.8332,       5316,   518.2,   7.9227,  34.4981,2,  34.4964,2,    232.5,2,   230.7,2,    5.33,2,   20.18,2,    0.00,2,    1.36,2,-999.000,5,-999.000,5,  -999.0,9,  -999.0,9,   0.229,2,   1.8540,2,   -0.50,2, -999.00,9,  -999.0,9,  -999.0,   7.931,2,   0.018,     -999.0,   0.0040,   0.150,     7.8698,   0.003
  316N138_4,       P06C,     139,          1,         27,    02-9453,2,19920622,       1837,   -32.5025,  -159.8332,       5316,   617.6,   7.3239,  34.4378,2,  34.4414,2,    238.8,2,   236.2,2,    6.39,2,   21.52,2,    0.01,2,    1.46,2,-999.000,5,-999.000,5,  -999.0,9,  -999.0,9,   0.257,2,   1.8580,2,   -0.25,2, -999.00,9,  -999.0,9,  -999.0,   8.016,2,   0.018,     -999.0,   0.0040,   0.150,     7.2634,   0.005
  316N138_4,       P06C,     139,          1,         26,    02-9544,2,19920622,       1837,   -32.5025,  -159.8332,       5316,   717.7,   6.7423,  34.3875,2,  34.3882,2,    238.7,2,   237.8,2,    8.20,2,   22.97,2,    0.00,2,    1.56,2,-999.000,5,-999.000,5,  -999.0,9,  -999.0,9,   0.156,2,   1.8590,2,   -0.11,2, -999.00,9,  -999.0,9,  -999.0,   7.998,2,   0.018,     -999.0,   0.0040,   0.150,     6.6746,   0.002
  316N138_4,       P06C,     139,          1,         25,    02-9455,3,19920622,       1837,   -32.5025,  -159.8332,       5316,   817.6,   6.1518,  34.3465,2,  34.3488,2,    234.9,2,   231.3,2,   11.35,2,   24.87,2,    0.00,2,    1.68,2,-999.000,5,-999.000,5,  2148.1,2,  -999.0,9,   0.103,2,   1.8630,2,   -0.16,2, -999.00,9,  -999.0,9,  -999.0,   8.064,2,   0.018,     -999.0,   0.0040,   0.150,     6.0778,   0.002
  316N138_4,       P06C,     139,          1,         24,        132,2,19920622,       1837,   -32.5025,  -159.8332,       5316,   917.3,   5.5282,  34.3194,2,  34.3262,2,    226.8,2,   219.8,2,   17.06,2,   27.08,2,    0.00,2,    1.85,2,-999.000,5,-999.000,5,  -999.0,9,  -999.0,9,   0.058,2,   1.8770,2,    0.39,2, -999.00,9,  -999.0,9,  -999.0,   8.121,2,   0.019,     -999.0,   0.0040,   0.150,     5.4489,   0.002
  316N138_4,       P06C,     139,          1,         23,        123,2,19920622,       1837,   -32.5025,  -159.8332,       5316,  1016.9,   4.9184,  34.3277,2,  34.3290,2,    213.4,3,   206.3,2,   25.17,2,   29.32,2,    0.00,2,    1.99,2,-999.000,5,-999.000,5,  -999.0,9,  -999.0,9,   0.029,2,   1.8890,2,    1.17,2, -999.00,9,  -999.0,9,  -999.0,   8.158,2,   0.019,     -999.0,   0.0040,   0.150,     4.8345,   0.002
  316N138_4,       P06C,     139,          1,         22,        128,2,19920622,       1837,   -32.5025,  -159.8332,       5316,  1216.0,   3.7989,  34.3794,2,  34.3792,2,    189.8,2,   186.7,2,   44.56,2,   32.49,2,   -0.01,2,    2.24,3,-999.000,5,-999.000,5,  -999.0,9,  -999.0,9,   0.008,2,-999.0000,9, -999.00,9, -999.00,9,  -999.0,9,  -999.0,-999.000,9,-999.000,     -999.0,-999.0000,-999.000,     3.7070,   0.002
  316N138_4,       P06C,     139,          1,         21,        121,2,19920622,       1837,   -32.5025,  -159.8332,       5316,  1419.1,   3.0877,  34.4731,2,  34.4740,2,    173.2,2,   171.9,2,   65.45,2,   33.92,2,   -0.01,2,    2.37,3,-999.000,5,-999.000,5,  -999.0,9,  -999.0,9,   0.002,2,   1.9330,2,    8.39,2, -999.00,9,  -999.0,9,  -999.0,   8.312,2,   0.019,     -999.0,   0.0040,   0.150,     2.9858,   0.002
  316N138_4,       P06C,     139,          1,         20,        120,2,19920622,       1837,   -32.5025,  -159.8332,       5316,  1620.6,   2.6580,  34.5616,2,  34.5618,2,    161.4,2,   159.8,2,   86.79,2,   34.71,2,   -0.01,2,    2.44,3,-999.000,5,-999.000,5,  -999.0,9,  -999.0,9,   0.003,2,   1.9550,2,   13.68,2, -999.00,9,  -999.0,9,  -999.0,   8.403,2,   0.019,     -999.0,   0.0040,   0.150,     2.5443,   0.002
  316N138_4,       P06C,     139,          1,         19,        133,2,19920622,       1837,   -32.5025,  -159.8332,       5316,  1824.3,   2.3998,  34.6069,2,  34.6071,2,    154.8,2,   153.8,2,  101.81,2,   35.29,2,   -0.01,2,    2.49,3,-999.000,5,-999.000,5,  -999.0,9,  -999.0,9,-999.000,9,-999.0000,9, -999.00,9, -999.00,9,  -999.0,9,  -999.0,-999.000,9,-999.000,     -999.0,-999.0000,-999.000,     2.2724,-999.000
  316N138_4,       P06C,     139,          1,         18,        118,2,19920622,       1837,   -32.5025,  -159.8332,       5316,  2027.4,   2.2072,  34.6316,2,  34.6313,2,    150.6,2,   149.3,2,  113.24,2,   35.75,2,    0.01,2,    2.55,3,-999.000,5,-999.000,5,  -999.0,9,  -999.0,9,  -0.002,2,   1.9960,2,   22.48,2, -999.00,9,  -999.0,9,  -999.0,   8.461,2,   0.019,     -999.0,   0.0040,   0.150,     2.0652,   0.002
  316N138_4,       P06C,     139,          1,         17,        117,2,19920622,       1837,   -32.5025,  -159.8332,       5316,  2230.0,   2.0832,  34.6417,2,  34.6437,2,    148.1,2,   147.1,2,  120.45,2,   36.13,2,    0.00,2,    2.59,3,-999.000,5,-999.000,5,  -999.0,9,  -999.0,9,-999.000,9,-999.0000,9, -999.00,9, -999.00,9,  -999.0,9,  -999.0,-999.000,9,-999.000,     -999.0,-999.0000,-999.000,     1.9256,-999.000
  316N138_4,       P06C,     139,          1,         16,        116,2,19920622,       1837,   -32.5025,  -159.8332,       5316,  2429.4,   1.9914,  34.6515,2,  34.6527,2,    146.8,2,   146.3,2,  124.96,2,   36.31,2,    0.01,2,    2.59,3,-999.000,5,-999.000,5,  -999.0,9,  -999.0,9,-999.000,9,-999.0000,9, -999.00,9, -999.00,9,  -999.0,9,  -999.0,-999.000,9,-999.000,     -999.0,-999.0000,-999.000,     1.8177,-999.000
  316N138_4,       P06C,     139,          1,         15,        115,2,19920622,       1837,   -32.5025,  -159.8332,       5316,  2632.7,   1.9093,  34.6596,2,  34.6598,2,    147.1,2,   147.0,2,  127.96,2,   36.45,2,    0.00,2,    2.60,3,-999.000,5,-999.000,5,  -999.0,9,  -999.0,9,-999.000,9,-999.0000,9, -999.00,9, -999.00,9,  -999.0,9,  -999.0,-999.000,9,-999.000,     -999.0,-999.0000,-999.000,     1.7186,-999.000
  316N138_4,       P06C,     139,          1,         14,        114,2,19920622,       1837,   -32.5025,  -159.8332,       5316,  2837.0,   1.8489,  34.6647,2,  34.6647,2,    148.7,2,   148.7,2,  129.77,2,   36.62,2,    0.00,2,    2.60,3,-999.000,5,-999.000,5,  -999.0,9,  -999.0,9,-999.000,9,-999.0000,9, -999.00,9, -999.00,9,  -999.0,9,  -999.0,-999.000,9,-999.000,     -999.0,-999.0000,-999.000,     1.6401,-999.000
  316N138_4,       P06C,     139,          1,         13,        125,2,19920622,       1837,   -32.5025,  -159.8332,       5316,  3038.6,   1.7845,  34.6714,2,  34.6726,2,    151.4,2,   151.6,2,  130.22,2,   36.35,2,    0.00,2,    2.59,3,-999.000,5,-999.000,5,  -999.0,9,  -999.0,9,-999.000,9,-999.0000,9, -999.00,9, -999.00,9,  -999.0,9,  -999.0,-999.000,9,-999.000,     -999.0,-999.0000,-999.000,     1.5577,-999.000
  316N138_4,       P06C,     139,          1,         12,        112,2,19920622,       1837,   -32.5025,  -159.8332,       5316,  3242.9,   1.7106,  34.6810,2,  34.6806,2,    157.3,2,   158.2,2,  128.57,2,   35.77,2,    0.00,2,    2.55,3,-999.000,5,-999.000,5,  -999.0,9,  -999.0,9,-999.000,9,-999.0000,9, -999.00,9, -999.00,9,  -999.0,9,  -999.0,-999.000,9,-999.000,     -999.0,-999.0000,-999.000,     1.4653,-999.000
  316N138_4,       P06C,     139,          1,         11,        129,2,19920622,       1837,   -32.5025,  -159.8332,       5316,  3447.0,   1.6437,  34.6940,2,  34.6960,2,    167.1,2,   169.2,2,  122.40,2,   34.55,2,    0.00,2,    2.46,3,-999.000,5,-999.000,5,  -999.0,9,  -999.0,9,-999.000,9,-999.0000,9, -999.00,9, -999.00,9,  -999.0,9,  -999.0,-999.000,9,-999.000,     -999.0,-999.0000,-999.000,     1.3794,-999.000
  316N138_4,       P06C,     139,          1,         10,        110,2,19920622,       1837,   -32.5025,  -159.8332,       5316,  3652.1,   1.5734,  34.7052,2,  34.7054,2,    178.8,2,   180.0,2,  117.00,2,   33.31,2,    0.01,2,    2.39,3,-999.000,5,-999.000,5,  -999.0,9,  -999.0,9,-999.000,9,-999.0000,9, -999.00,9, -999.00,9,  -999.0,9,  -999.0,-999.000,9,-999.000,     -999.0,-999.0000,-999.000,     1.2895,-999.000
  316N138_4,       P06C,     139,          1,          9,        126,2,19920622,       1837,   -32.5025,  -159.8332,       5316,  3855.2,   1.4762,  34.7146,2,  34.7150,2,    188.8,2,   190.1,2,  113.54,2,   32.24,2,    0.01,2,    2.33,3,-999.000,5,-999.000,5,  -999.0,9,  -999.0,9,-999.000,9,-999.0000,9, -999.00,9, -999.00,9,  -999.0,9,  -999.0,-999.000,9,-999.000,     -999.0,-999.0000,-999.000,     1.1734,-999.000
  316N138_4,       P06C,     139,          1,          8,        108,2,19920622,       1837,   -32.5025,  -159.8332,       5316,  4061.8,   1.3469,  34.7184,2,  34.7186,2,    196.8,2,   197.8,2,  113.40,2,   31.56,2,    0.01,2,    2.29,3,-999.000,5,-999.000,5,  -999.0,9,  -999.0,9,-999.000,9,-999.0000,9, -999.00,9, -999.00,9,  -999.0,9,  -999.0,-999.000,9,-999.000,     -999.0,-999.0000,-999.000,     1.0254,-999.000
  316N138_4,       P06C,     139,          1,          7,        107,2,19920622,       1837,   -32.5025,  -159.8332,       5316,  4261.9,   1.2383,  34.7174,2,  34.7174,2,    201.4,2,   205.3,3,  114.90,2,   31.24,2,    0.01,2,    2.29,3,-999.000,5,-999.000,5,  -999.0,9,  -999.0,9,-999.000,9,-999.0000,9, -999.00,9, -999.00,9,  -999.0,9,  -999.0,-999.000,9,-999.000,     -999.0,-999.0000,-999.000,     0.8981,-999.000
  316N138_4,       P06C,     139,          1,          6,        180,2,19920622,       1837,   -32.5025,  -159.8332,       5316,  4462.0,   1.1533,  34.7141,2,  34.7146,2,    204.1,2,   204.0,2,  117.61,2,   31.34,2,    0.00,2,    2.29,3,-999.000,5,-999.000,5,  -999.0,9,  -999.0,9,-999.000,9,-999.0000,9, -999.00,9, -999.00,9,  -999.0,9,  -999.0,-999.000,9,-999.000,     -999.0,-999.0000,-999.000,     0.7932,-999.000
  316N138_4,       P06C,     139,          1,          5,        131,2,19920622,       1837,   -32.5025,  -159.8332,       5316,  4659.7,   1.0934,  34.7122,2,  34.7119,2,    205.3,2,   205.9,2,  119.26,2,   31.42,2,    0.00,2,    2.30,3,-999.000,5,-999.000,5,  -999.0,9,  -999.0,9,-999.000,9,-999.0000,9, -999.00,9, -999.00,9,  -999.0,9,  -999.0,-999.000,9,-999.000,     -999.0,-999.0000,-999.000,     0.7127,-999.000
  316N138_4,       P06C,     139,          1,          4,        104,2,19920622,       1837,   -32.5025,  -159.8332,       5316,  4856.9,   1.0613,  34.7108,2,  34.7099,2,    206.5,2,   206.8,2,  120.62,2,   31.54,2,    0.00,2,    2.30,3,-999.000,5,-999.000,5,  -999.0,9,  -999.0,9,-999.000,9,-999.0000,9, -999.00,9, -999.00,9,  -999.0,9,  -999.0,-999.000,9,-999.000,     -999.0,-999.0000,-999.000,     0.6587,-999.000
  316N138_4,       P06C,     139,          1,          3,        130,2,19920622,       1837,   -32.5025,  -159.8332,       5316,  5047.0,   1.0633,  34.7087,2,  34.7087,2,    206.6,2,   206.7,2,  121.22,2,   31.67,2,    0.00,2,    2.29,3,-999.000,5,-999.000,5,  -999.0,9,  -999.0,9,-999.000,9,-999.0000,9, -999.00,9, -999.00,9,  -999.0,9,  -999.0,-999.000,9,-999.000,     -999.0,-999.0000,-999.000,     0.6381,-999.000
  316N138_4,       P06C,     139,          1,          2,        135,2,19920622,       1837,   -32.5025,  -159.8332,       5316,  5228.3,   1.0766,  34.7089,2,  34.7085,2,    206.7,2,   206.7,2,  121.52,2,   31.85,2,    0.01,2,    2.31,3,-999.000,5,-999.000,5,  -999.0,9,  -999.0,9,-999.000,9,-999.0000,9, -999.00,9, -999.00,9,  -999.0,9,  -999.0,-999.000,9,-999.000,     -999.0,-999.0000,-999.000,     0.6290,-999.000
  316N138_4,       P06C,     139,          1,          1,        134,2,19920622,       1837,   -32.5025,  -159.8332,       5316,  5412.8,   1.0940,  34.7108,2,  34.7091,2,    205.6,2,   206.6,2,  121.45,2,   31.98,2,    0.01,2,    2.30,3,-999.000,5,-999.000,5,  -999.0,9,  -999.0,9,-999.000,9,-999.0000,9, -999.00,9, -999.00,9,  -999.0,9,  -999.0,-999.000,9,-999.000,     -999.0,-999.0000,-999.000,     0.6231,-999.000