BOTTLE,20211025CCHSIORKP
EXPOCODE,SECT_ID,STNNBR,CASTNO,SAMPNO,BTLNBR,BTLNBR_FLAG_W,DATE,TIME,LATITUDE,LONGITUDE,DEPTH,CTDPRS,CTDTMP,CTDSAL,CTDSAL_FLAG_W,SALNTY,SALNTY_FLAG_W,CTDOXY,CTDOXY_FLAG_W,OXYGEN,OXYGEN_FLAG_W,SILCAT,SILCAT_FLAG_W,NITRAT,NITRAT_FLAG_W,NITRIT,NITRIT_FLAG_W,PHSPHT,PHSPHT_FLAG_W,CFC-11,CFC-11_FLAG_W,CFC-12,CFC-12_FLAG_W,TCARBN,TCARBN_FLAG_W,PCO2,PCO2_FLAG_W,TRITUM,TRITUM_FLAG_W,HELIUM,HELIUM_FLAG_W,DELHE3,DELHE3_FLAG_W,DELC13,DELC13_FLAG_W,DELC14,DELC14_FLAG_W,C14ERR,NEON,NEON_FLAG_W,NEONER,PCO2TMP,HELIER,DELHER,THETA,TRITER
,,,,,,,,,,,METERS,DBAR,ITS-90,PSS-78,,PSS-78,,UMOL/KG,,UMOL/KG,,UMOL/KG,,UMOL/KG,,UMOL/KG,,UMOL/KG,,PMOL/KG,,PMOL/KG,,UMOL/KG,,UATM,,TU,,NMOL/KG,,PERCNT,,/MILLE,,/MILLE,,/MILLE,NMOL/KG,,NMOL/KG,DEG_C,NMOL/KG,PERCNT,ITS-90,TU
  316N138_4,       P06C,     127,          1,         36,    02-9121,2,19920619,       0351,   -32.5085,  -149.8315,       5007,    30.1,  17.9424,  35.3338,2,  35.3323,2,    228.7,2,   233.2,2,    0.43,2,    0.06,2,   -0.02,2,    0.11,2,-999.000,9,-999.000,9,  2028.1,6,  -999.0,9,-999.000,9,-999.0000,9, -999.00,9,    1.39,2,   113.0,2,     5.3,-999.000,9,-999.000,     -999.0,-999.0000,-999.000,    17.9372,-999.000
  316N138_4,       P06C,     127,          1,         35,    02-9454,2,19920619,       0351,   -32.5085,  -149.8315,       5007,    70.3,  17.9095,  35.3326,2,  35.3311,2,    231.6,2,   233.6,2,    0.43,2,    0.05,2,   -0.01,2,    0.12,2,-999.000,9,-999.000,9,  2028.4,2,  -999.0,9,-999.000,9,-999.0000,9, -999.00,9, -999.00,9,  -999.0,9,  -999.0,-999.000,9,-999.000,     -999.0,-999.0000,-999.000,    17.8975,-999.000
  316N138_4,       P06C,     127,          1,         34,    02-9457,2,19920619,       0351,   -32.5085,  -149.8315,       5007,   119.9,  16.8281,  35.4263,2,  35.4180,2,    224.3,2,   223.2,2,    0.71,2,    0.77,2,    0.10,2,    0.22,2,-999.000,9,-999.000,9,  2050.9,2,  -999.0,9,-999.000,9,-999.0000,9, -999.00,9,    1.22,2,   123.2,2,     3.7,-999.000,9,-999.000,     -999.0,-999.0000,-999.000,    16.8085,-999.000
  316N138_4,       P06C,     127,          1,         33,    02-5367,2,19920619,       0351,   -32.5085,  -149.8315,       5007,   168.8,  15.8309,  35.3466,2,  35.3384,2,    214.4,2,   218.4,2,    1.01,2,    2.70,2,    0.02,2,    0.34,2,-999.000,9,-999.000,9,  2063.5,2,  -999.0,9,-999.000,9,-999.0000,9, -999.00,9, -999.00,9,  -999.0,9,  -999.0,-999.000,9,-999.000,     -999.0,-999.0000,-999.000,    15.8043,-999.000
  316N138_4,       P06C,     127,          1,         32,    02-9540,2,19920619,       0351,   -32.5085,  -149.8315,       5007,   218.4,  14.2516,  35.1018,2,  35.0984,2,    212.4,2,   222.5,4,    1.01,2,    3.78,2,    0.01,2,    0.44,2,-999.000,9,-999.000,9,  2071.1,2,  -999.0,9,-999.000,9,-999.0000,9, -999.00,9,    1.25,2,    85.6,2,     9.1,-999.000,9,-999.000,     -999.0,-999.0000,-999.000,    14.2196,-999.000
  316N138_4,       P06C,     127,          1,         31,    02-9539,2,19920619,       0351,   -32.5085,  -149.8315,       5007,   267.8,  12.6867,  34.9679,2,  34.9697,2,    207.3,2,   203.4,2,    2.15,2,    9.48,2,    0.02,2,    0.76,2,-999.000,9,-999.000,9,  2097.9,2,  -999.0,9,-999.000,9,-999.0000,9, -999.00,9, -999.00,9,  -999.0,9,  -999.0,-999.000,9,-999.000,     -999.0,-999.0000,-999.000,    12.6503,-999.000
  316N138_4,       P06C,     127,          1,         30,    02-9456,2,19920619,       0351,   -32.5085,  -149.8315,       5007,   318.3,  11.1463,  34.8049,2,  34.8045,2,    205.3,2,   202.8,2,    3.01,2,   13.16,2,    0.01,2,    0.98,2,-999.000,9,-999.000,9,  2111.1,2,  -999.0,9,-999.000,9,-999.0000,9, -999.00,9,    1.17,2,    37.3,2,     5.0,-999.000,9,-999.000,     -999.0,-999.0000,-999.000,    11.1065,-999.000
  316N138_4,       P06C,     127,          1,         29,    02-9458,2,19920619,       0351,   -32.5085,  -149.8315,       5007,   367.9,   9.7287,  34.6705,2,  34.6631,2,    208.1,2,   207.3,2,    4.15,2,   16.60,2,    0.01,2,    1.17,2,-999.000,9,-999.000,9,  2121.8,2,  -999.0,9,-999.000,9,-999.0000,9, -999.00,9, -999.00,9,  -999.0,9,  -999.0,-999.000,9,-999.000,     -999.0,-999.0000,-999.000,     9.6865,-999.000
  316N138_4,       P06C,     127,          1,         28,    02-9545,2,19920619,       0351,   -32.5085,  -149.8315,       5007,   417.5,   8.6835,  34.5606,2,  34.5588,2,    218.4,2,   216.4,2,    4.86,2,   18.51,2,    0.02,2,    1.29,2,-999.000,9,-999.000,9,  2126.9,2,  -999.0,9,-999.000,9,-999.0000,9, -999.00,9,    1.14,2,    30.0,2,     5.5,-999.000,9,-999.000,     -999.0,-999.0000,-999.000,     8.6388,-999.000
  316N138_4,       P06C,     127,          1,         27,    02-9453,2,19920619,       0351,   -32.5085,  -149.8315,       5007,   518.9,   7.5082,  34.4526,2,  34.4520,2,    237.4,2,   237.0,2,    5.72,2,   20.38,2,    0.01,2,    1.39,2,-999.000,9,-999.000,9,  2128.1,2,  -999.0,9,-999.000,9,-999.0000,9, -999.00,9,    1.32,2,     5.9,2,     7.2,-999.000,9,-999.000,     -999.0,-999.0000,-999.000,     7.4569,-999.000
  316N138_4,       P06C,     127,          1,         26,    02-9544,2,19920619,       0351,   -32.5085,  -149.8315,       5007,   616.1,   6.9493,  34.4035,2,  34.4049,2,    240.8,2,   238.3,2,    7.16,2,   21.92,2,    0.01,2,    1.47,2,-999.000,9,-999.000,9,  2131.8,2,  -999.0,9,-999.000,9,-999.0000,9, -999.00,9,    1.28,2,    -0.1,2,     3.3,-999.000,9,-999.000,     -999.0,-999.0000,-999.000,     6.8906,-999.000
  316N138_4,       P06C,     127,          1,         25,    02-9455,2,19920619,       0351,   -32.5085,  -149.8315,       5007,   715.6,   6.4590,  34.3632,2,  34.3635,2,    239.8,2,   238.0,2,    9.02,2,   23.41,2,    0.01,2,    1.58,2,-999.000,9,-999.000,9,  2136.9,2,  -999.0,9,-999.000,9,-999.0000,9, -999.00,9,    1.25,2,   -47.6,2,     6.2,-999.000,9,-999.000,     -999.0,-999.0000,-999.000,     6.3931,-999.000
  316N138_4,       P06C,     127,          1,         24,        132,2,19920619,       0351,   -32.5085,  -149.8315,       5007,   817.6,   5.8971,  34.3307,2,  34.3307,2,    232.1,2,   229.9,2,   12.60,2,   25.52,2,    0.00,2,    1.72,2,-999.000,9,-999.000,9,  2147.6,2,  -999.0,9,-999.000,9,-999.0000,9, -999.00,9,    1.10,2,   -57.2,6,     2.8,-999.000,9,-999.000,     -999.0,-999.0000,-999.000,     5.8247,-999.000
  316N138_4,       P06C,     127,          1,         23,        123,2,19920619,       0351,   -32.5085,  -149.8315,       5007,   918.2,   5.2836,  34.3170,2,  34.3156,2,    219.1,2,   217.0,2,   19.04,2,   27.90,2,    0.00,2,    1.87,2,-999.000,9,-999.000,9,  2164.2,2,  -999.0,9,-999.000,9,-999.0000,9, -999.00,9,    1.03,2,   -84.4,6,     7.1,-999.000,9,-999.000,     -999.0,-999.0000,-999.000,     5.2060,-999.000
  316N138_4,       P06C,     127,          1,         22,        128,2,19920619,       0351,   -32.5085,  -149.8315,       5007,  1015.9,   4.7143,  34.3319,2,  34.3250,2,    206.8,2,   203.7,2,   27.06,2,   30.09,2,    0.00,2,    2.02,2,-999.000,9,-999.000,9,  2181.2,2,  -999.0,9,-999.000,9,-999.0000,9, -999.00,9,    0.91,2,  -102.2,2,     5.2,-999.000,9,-999.000,     -999.0,-999.0000,-999.000,     4.6320,-999.000
  316N138_4,       P06C,     127,          1,         21,        121,2,19920619,       0351,   -32.5085,  -149.8315,       5007,  1115.9,   4.1563,  34.3493,2,  34.3476,2,    197.1,2,   193.3,2,   36.64,2,   31.91,2,    0.00,2,    2.14,2,-999.000,9,-999.000,9,  2198.8,2,  -999.0,9,-999.000,9,-999.0000,9, -999.00,9,    0.72,2,  -123.4,2,     7.5,-999.000,9,-999.000,     -999.0,-999.0000,-999.000,     4.0698,-999.000
  316N138_4,       P06C,     127,          1,         20,        120,2,19920619,       0351,   -32.5085,  -149.8315,       5007,  1316.3,   3.3194,  34.4289,2,  34.4283,2,    178.0,2,   177.5,2,   56.12,2,   33.92,2,    0.00,2,    2.31,2,-999.000,9,-999.000,9,  2229.1,2,  -999.0,9,-999.000,9,-999.0000,9, -999.00,9,    0.49,2,  -149.3,6,     3.4,-999.000,9,-999.000,     -999.0,-999.0000,-999.000,     3.2237,-999.000
  316N138_4,       P06C,     127,          1,         19,        133,2,19920619,       0351,   -32.5085,  -149.8315,       5007,  1517.6,   2.7925,  34.5241,2,  34.5231,2,    165.6,2,   163.8,2,   77.58,2,   34.86,2,    0.00,2,    2.40,2,-999.000,9,-999.000,9,  2258.3,6,  -999.0,9,-999.000,9,-999.0000,9, -999.00,9,    0.33,2,  -170.1,2,     3.4,-999.000,9,-999.000,     -999.0,-999.0000,-999.000,     2.6858,-999.000
  316N138_4,       P06C,     127,          1,         18,        118,2,19920619,       0351,   -32.5085,  -149.8315,       5007,  1725.0,   2.4512,  34.5904,2,  34.5875,2,    158.1,2,   156.8,2,   94.75,2,   35.23,2,    0.00,2,    2.43,2,-999.000,9,-999.000,9,  2277.7,6,  -999.0,9,-999.000,9,-999.0000,9, -999.00,9,    0.28,2,  -204.7,2,    10.6,-999.000,9,-999.000,     -999.0,-999.0000,-999.000,     2.3313,-999.000
  316N138_4,       P06C,     127,          1,         17,        117,2,19920619,       0351,   -32.5085,  -149.8315,       5007,  1931.3,   2.2463,  34.6227,2,  34.6213,2,    154.0,2,   153.3,2,  106.91,2,   35.48,2,   -0.01,2,    2.47,2,-999.000,9,-999.000,9,  2290.2,2,  -999.0,9,-999.000,9,-999.0000,9, -999.00,9,    0.20,2,  -196.5,6,    30.9,-999.000,9,-999.000,     -999.0,-999.0000,-999.000,     2.1120,-999.000
  316N138_4,       P06C,     127,          1,         16,        116,2,19920619,       0351,   -32.5085,  -149.8315,       5007,  2134.9,   2.1013,  34.6403,2,  34.6384,2,    152.0,2,   151.0,2,  113.93,2,   35.67,2,    0.00,2,    2.50,2,-999.000,9,-999.000,9,  2299.1,2,  -999.0,9,-999.000,9,-999.0000,9, -999.00,9,    0.09,2,  -203.3,2,     2.5,-999.000,9,-999.000,     -999.0,-999.0000,-999.000,     1.9517,-999.000
  316N138_4,       P06C,     127,          1,         15,        115,2,19920619,       0351,   -32.5085,  -149.8315,       5007,  2337.7,   1.9849,  34.6516,2,  34.6513,2,    151.1,2,   150.4,2,  119.94,2,   35.69,2,   -0.01,2,    2.51,2,-999.000,9,-999.000,9,  2304.5,2,  -999.0,9,-999.000,9,-999.0000,9, -999.00,9,    0.06,2,  -231.5,2,     7.1,-999.000,9,-999.000,     -999.0,-999.0000,-999.000,     1.8195,-999.000
  316N138_4,       P06C,     127,          1,         14,        114,2,19920619,       0351,   -32.5085,  -149.8315,       5007,  2540.5,   1.8810,  34.6605,2,  34.6606,2,    151.7,2,   153.7,4,  124.53,2,   35.87,2,   -0.01,2,    2.52,2,-999.000,9,-999.000,9,  2308.5,2,  -999.0,9,-999.000,9,-999.0000,9, -999.00,9,    0.05,2,  -222.7,2,     5.9,-999.000,9,-999.000,     -999.0,-999.0000,-999.000,     1.6993,-999.000
  316N138_4,       P06C,     127,          1,         13,        125,2,19920619,       0351,   -32.5085,  -149.8315,       5007,  2744.8,   1.7988,  34.6681,2,  34.6671,2,    152.4,2,   151.9,2,  127.82,2,   35.83,2,   -0.01,2,    2.52,2,-999.000,9,-999.000,9,  2310.6,2,  -999.0,9,-999.000,9,-999.0000,9, -999.00,9,    0.10,2,  -230.9,6,     5.5,-999.000,9,-999.000,     -999.0,-999.0000,-999.000,     1.5997,-999.000
  316N138_4,       P06C,     127,          1,         12,        112,2,19920619,       0351,   -32.5085,  -149.8315,       5007,  2950.0,   1.7330,  34.6741,2,  34.6753,2,    155.3,2,   154.8,2,  128.10,2,   35.67,2,   -0.02,2,    2.51,2,-999.000,9,-999.000,9,  2309.0,2,  -999.0,9,-999.000,9,-999.0000,9, -999.00,9,    0.14,2,  -206.2,2,     2.6,-999.000,9,-999.000,     -999.0,-999.0000,-999.000,     1.5159,-999.000
  316N138_4,       P06C,     127,          1,         11,        129,2,19920619,       0351,   -32.5085,  -149.8315,       5007,  3151.8,   1.6622,  34.6808,2,  34.6820,2,    160.6,2,   160.4,2,  127.25,2,   35.25,2,   -0.02,2,    2.47,2,-999.000,9,-999.000,9,  2304.4,2,  -999.0,9,-999.000,9,-999.0000,9, -999.00,9,    0.02,2,  -198.4,2,     2.9,-999.000,9,-999.000,     -999.0,-999.0000,-999.000,     1.4271,-999.000
  316N138_4,       P06C,     127,          1,         10,        110,2,19920619,       0351,   -32.5085,  -149.8315,       5007,  3355.0,   1.5732,  34.6891,2,  34.6881,2,    168.2,2,   167.9,2,  124.95,2,   34.66,2,   -0.02,2,    2.42,2,-999.000,9,-999.000,9,  2296.3,2,  -999.0,9,-999.000,9,-999.0000,9, -999.00,9,    0.08,2,  -212.1,2,     6.6,-999.000,9,-999.000,     -999.0,-999.0000,-999.000,     1.3199,-999.000
  316N138_4,       P06C,     127,          1,          9,        126,2,19920619,       0351,   -32.5085,  -149.8315,       5007,  3557.5,   1.4796,  34.6954,2,  34.6954,2,    175.5,2,   175.9,2,  122.67,2,   34.15,2,   -0.02,2,    2.38,2,-999.000,9,-999.000,9,  2288.8,2,  -999.0,9,-999.000,9,-999.0000,9, -999.00,9,    0.08,2,  -205.4,2,     7.1,-999.000,9,-999.000,     -999.0,-999.0000,-999.000,     1.2080,-999.000
  316N138_4,       P06C,     127,          1,          8,        108,2,19920619,       0351,   -32.5085,  -149.8315,       5007,  3760.2,   1.4177,  34.6988,2,  34.6991,2,    180.7,2,   182.8,2,  121.66,2,   33.78,2,   -0.02,2,    2.36,2,-999.000,9,-999.000,9,  2284.5,2,  -999.0,9,-999.000,9,-999.0000,9, -999.00,9,    0.24,2,  -209.1,2,     8.7,-999.000,9,-999.000,     -999.0,-999.0000,-999.000,     1.1266,-999.000
  316N138_4,       P06C,     127,          1,          7,        107,2,19920619,       0351,   -32.5085,  -149.8315,       5007,  3966.1,   1.3609,  34.7018,2,  34.7019,2,    185.8,2,   186.0,2,  121.09,2,   33.41,2,   -0.01,2,    2.33,2,-999.000,9,-999.000,9,  2280.2,2,  -999.0,9,-999.000,9,-999.0000,9, -999.00,9,    0.28,2,  -196.0,2,     3.2,-999.000,9,-999.000,     -999.0,-999.0000,-999.000,     1.0494,-999.000
  316N138_4,       P06C,     127,          1,          6,        180,2,19920619,       0351,   -32.5085,  -149.8315,       5007,  4168.4,   1.3106,  34.7045,2,  34.7032,2,    190.7,2,   189.7,2,  120.38,2,   33.16,2,    0.00,2,    2.34,3,-999.000,9,-999.000,9,  2276.5,2,  -999.0,9,-999.000,9,-999.0000,9, -999.00,9,    0.16,2,  -170.4,2,     4.4,-999.000,9,-999.000,     -999.0,-999.0000,-999.000,     0.9786,-999.000
  316N138_4,       P06C,     127,          1,          5,        131,2,19920619,       0351,   -32.5085,  -149.8315,       5007,  4369.9,   1.2757,  34.7072,2,  34.7072,2,    193.7,2,   193.4,2,  120.10,2,   32.94,2,    0.00,2,    2.30,2,-999.000,9,-999.000,9,  2273.9,2,  -999.0,9,-999.000,9,-999.0000,9, -999.00,9,    0.28,2,  -179.7,2,     2.9,-999.000,9,-999.000,     -999.0,-999.0000,-999.000,     0.9223,-999.000
  316N138_4,       P06C,     127,          1,          4,        104,2,19920619,       0351,   -32.5085,  -149.8315,       5007,  4571.6,   1.2327,  34.7094,2,  34.7085,2,    198.1,2,   197.3,2,  119.24,2,   32.67,2,    0.00,2,    2.29,2,-999.000,9,-999.000,9,  2269.7,2,  -999.0,9,-999.000,9,-999.0000,9, -999.00,9,    0.18,2,  -179.1,2,     4.1,-999.000,9,-999.000,     -999.0,-999.0000,-999.000,     0.8578,-999.000
  316N138_4,       P06C,     127,          1,          3,        130,2,19920619,       0351,   -32.5085,  -149.8315,       5007,  4775.9,   1.2012,  34.7106,2,  34.7099,2,    201.2,2,   200.3,2,  118.96,2,   32.48,2,    0.01,2,    2.28,2,-999.000,9,-999.000,9,  2266.9,2,  -999.0,9,-999.000,9,-999.0000,9, -999.00,9,    0.25,2,  -166.7,2,     3.0,-999.000,9,-999.000,     -999.0,-999.0000,-999.000,     0.8035,-999.000
  316N138_4,       P06C,     127,          1,          2,        135,2,19920619,       0351,   -32.5085,  -149.8315,       5007,  4978.6,   1.1613,  34.7113,2,  34.7125,2,    204.4,2,   203.7,2,  119.10,2,   32.29,2,    0.01,2,    2.26,2,-999.000,9,-999.000,9,  2265.0,2,  -999.0,9,-999.000,9,-999.0000,9, -999.00,9,    0.28,2,  -160.6,2,     3.2,-999.000,9,-999.000,     -999.0,-999.0000,-999.000,     0.7409,-999.000
  316N138_4,       P06C,     127,          1,          1,        134,2,19920619,       0351,   -32.5085,  -149.8315,       5007,  5176.0,   1.1438,  34.7113,2,  34.7129,2,    204.9,2,   204.7,2,  119.39,2,   32.28,2,   -0.01,2,    2.25,2,-999.000,9,-999.000,9,  2263.5,6,  -999.0,9,-999.000,9,-999.0000,9, -999.00,9,    0.25,2,  -163.0,2,     2.6,-999.000,9,-999.000,     -999.0,-999.0000,-999.000,     0.7002,-999.000