BOTTLE,20211025CCHSIORKP
EXPOCODE,SECT_ID,STNNBR,CASTNO,SAMPNO,BTLNBR,BTLNBR_FLAG_W,DATE,TIME,LATITUDE,LONGITUDE,DEPTH,CTDPRS,CTDTMP,CTDSAL,CTDSAL_FLAG_W,SALNTY,SALNTY_FLAG_W,CTDOXY,CTDOXY_FLAG_W,OXYGEN,OXYGEN_FLAG_W,SILCAT,SILCAT_FLAG_W,NITRAT,NITRAT_FLAG_W,NITRIT,NITRIT_FLAG_W,PHSPHT,PHSPHT_FLAG_W,CFC-11,CFC-11_FLAG_W,CFC-12,CFC-12_FLAG_W,TCARBN,TCARBN_FLAG_W,PCO2,PCO2_FLAG_W,TRITUM,TRITUM_FLAG_W,HELIUM,HELIUM_FLAG_W,DELHE3,DELHE3_FLAG_W,DELC13,DELC13_FLAG_W,DELC14,DELC14_FLAG_W,C14ERR,NEON,NEON_FLAG_W,NEONER,PCO2TMP,HELIER,DELHER,THETA,TRITER
,,,,,,,,,,,METERS,DBAR,ITS-90,PSS-78,,PSS-78,,UMOL/KG,,UMOL/KG,,UMOL/KG,,UMOL/KG,,UMOL/KG,,UMOL/KG,,PMOL/KG,,PMOL/KG,,UMOL/KG,,UATM,,TU,,NMOL/KG,,PERCNT,,/MILLE,,/MILLE,,/MILLE,NMOL/KG,,NMOL/KG,DEG_C,NMOL/KG,PERCNT,ITS-90,TU
  316N138_4,       P06C,     183,          1,         24,        132,2,19920703,       2057,   -32.4968,   179.4172,       3046,    16.8,  16.7852,  35.6087,2,-999.0000,9,    297.0,2,  -999.0,9, -999.00,9, -999.00,9, -999.00,9, -999.00,9,-999.000,5,-999.000,5,  -999.0,9,  -999.0,9,-999.000,9,-999.0000,9, -999.00,9, -999.00,9,  -999.0,9,  -999.0,-999.000,9,-999.000,     -999.0,-999.0000,-999.000,    16.7825,-999.000
  316N138_4,       P06C,     183,          1,         23,        123,2,19920703,       2057,   -32.4968,   179.4172,       3046,    56.8,  16.7869,  35.6099,2,  35.6080,2,    233.4,2,   234.7,2,    1.15,2,    1.30,2,    0.14,2, -999.00,5,   2.673,6,   1.318,6,  -999.0,9,  -999.0,9,-999.000,9,-999.0000,9, -999.00,9, -999.00,9,  -999.0,9,  -999.0,-999.000,9,-999.000,     -999.0,-999.0000,-999.000,    16.7776,-999.000
  316N138_4,       P06C,     183,          1,         22,        128,2,19920703,       2057,   -32.4968,   179.4172,       3046,   106.6,  15.6003,  35.4342,2,  35.4300,2,    236.3,2,   237.8,2,    1.53,2,    1.93,2,    0.22,2, -999.00,5,   2.893,6,   1.421,6,  -999.0,9,  -999.0,9,-999.000,9,-999.0000,9, -999.00,9, -999.00,9,  -999.0,9,  -999.0,-999.000,9,-999.000,     -999.0,-999.0000,-999.000,    15.5837,-999.000
  316N138_4,       P06C,     183,          1,         21,        121,2,19920703,       2057,   -32.4968,   179.4172,       3046,   156.8,  14.9723,  35.3735,2,  35.3669,2,    239.7,2,   226.1,2,    1.91,2,    3.89,2,    0.14,2, -999.00,5,-999.000,5,-999.000,5,  -999.0,9,  -999.0,9,-999.000,9,-999.0000,9, -999.00,9, -999.00,9,  -999.0,9,  -999.0,-999.000,9,-999.000,     -999.0,-999.0000,-999.000,    14.9486,-999.000
  316N138_4,       P06C,     183,          1,         20,        120,2,19920703,       2057,   -32.4968,   179.4172,       3046,   206.5,  13.3900,  35.1929,2,  35.2069,2,    221.3,2,   210.6,2,    3.07,2,    8.43,2,    0.02,2, -999.00,5,   2.691,2,   1.294,2,  -999.0,9,  -999.0,9,-999.000,9,-999.0000,9, -999.00,9, -999.00,9,  -999.0,9,  -999.0,-999.000,9,-999.000,     -999.0,-999.0000,-999.000,    13.3610,-999.000
  316N138_4,       P06C,     183,          1,         19,        133,2,19920703,       2057,   -32.4968,   179.4172,       3046,   256.8,  12.6209,  35.1022,2,  35.1051,2,    212.0,2,   208.9,2,    3.64,2,   10.32,2,    0.01,2, -999.00,5,-999.000,5,-999.000,5,  -999.0,9,  -999.0,9,-999.000,9,-999.0000,9, -999.00,9, -999.00,9,  -999.0,9,  -999.0,-999.000,9,-999.000,     -999.0,-999.0000,-999.000,    12.5861,-999.000
  316N138_4,       P06C,     183,          1,         18,        118,2,19920703,       2057,   -32.4968,   179.4172,       3046,   306.5,  11.9185,  35.0257,2,  35.0110,2,    209.6,2,   206.7,2,    4.40,2,   12.42,2,    0.01,2, -999.00,5,   2.370,2,   1.135,2,  -999.0,9,  -999.0,9,-999.000,9,-999.0000,9, -999.00,9, -999.00,9,  -999.0,9,  -999.0,-999.000,9,-999.000,     -999.0,-999.0000,-999.000,    11.8785,-999.000
  316N138_4,       P06C,     183,          1,         17,        117,2,19920703,       2057,   -32.4968,   179.4172,       3046,   407.5,  10.0030,  34.7846,2,  34.7679,2,    199.7,2,   197.1,2,    7.28,2,   17.96,2,    0.00,2, -999.00,5,   1.623,2,   0.788,2,  -999.0,9,  -999.0,9,-999.000,9,-999.0000,9, -999.00,9, -999.00,9,  -999.0,9,  -999.0,-999.000,9,-999.000,     -999.0,-999.0000,-999.000,     9.9554,-999.000
  316N138_4,       P06C,     183,          1,         16,        116,2,19920703,       2057,   -32.4968,   179.4172,       3046,   507.1,   8.6161,  34.6267,2,  34.6262,2,    202.0,2,   203.8,2,    9.57,2,   20.70,2,    0.00,2, -999.00,5,   1.143,2,   0.579,2,  -999.0,9,  -999.0,9,-999.000,9,-999.0000,9, -999.00,9, -999.00,9,  -999.0,9,  -999.0,-999.000,9,-999.000,     -999.0,-999.0000,-999.000,     8.5617,-999.000
  316N138_4,       P06C,     183,          1,         15,        115,3,19920703,       2057,   -32.4968,   179.4172,       3046,   607.2,   7.8968,  34.5477,2,  34.5514,2,    206.2,2,   212.0,2,   11.49,2,   22.35,2,    0.00,2, -999.00,5,-999.000,5,-999.000,5,  -999.0,9,  -999.0,9,-999.000,9,-999.0000,9, -999.00,9, -999.00,9,  -999.0,9,  -999.0,-999.000,9,-999.000,     -999.0,-999.0000,-999.000,     7.8346,-999.000
  316N138_4,       P06C,     183,          1,         14,        114,2,19920703,       2057,   -32.4968,   179.4172,       3046,   709.6,   7.3845,  34.5222,2,  34.5219,2,    206.3,2,   204.4,2,   15.12,2,   23.85,2,    0.00,2, -999.00,5,   0.605,2,   0.322,2,  -999.0,9,  -999.0,9,-999.000,9,-999.0000,9, -999.00,9, -999.00,9,  -999.0,9,  -999.0,-999.000,9,-999.000,     -999.0,-999.0000,-999.000,     7.3141,-999.000
  316N138_4,       P06C,     183,          1,         13,        125,2,19920703,       2057,   -32.4968,   179.4172,       3046,   809.5,   6.3583,  34.4316,2,  34.4261,2,    207.9,2,   207.2,2,   17.80,2,   25.86,2,    0.00,2, -999.00,5,   0.353,2,   0.188,2,  -999.0,9,  -999.0,9,-999.000,9,-999.0000,9, -999.00,9, -999.00,9,  -999.0,9,  -999.0,-999.000,9,-999.000,     -999.0,-999.0000,-999.000,     6.2837,-999.000
  316N138_4,       P06C,     183,          1,         12,        112,2,19920703,       2057,   -32.4968,   179.4172,       3046,   909.5,   5.7983,  34.3836,2,  34.4041,2,    203.7,2,   201.9,2,   23.16,2,   27.51,2,    0.00,2, -999.00,5,   0.226,2,   0.125,2,  -999.0,9,  -999.0,9,-999.000,9,-999.0000,9, -999.00,9, -999.00,9,  -999.0,9,  -999.0,-999.000,9,-999.000,     -999.0,-999.0000,-999.000,     5.7178,-999.000
  316N138_4,       P06C,     183,          1,         11,        129,2,19920703,       2057,   -32.4968,   179.4172,       3046,  1010.2,   5.2219,  34.3993,2,  34.3974,2,    195.9,2,  -999.0,9,   30.81,2,   29.29,2,    0.00,2, -999.00,5,   0.129,2,   0.071,2,  -999.0,9,  -999.0,9,-999.000,9,-999.0000,9, -999.00,9, -999.00,9,  -999.0,9,  -999.0,-999.000,9,-999.000,     -999.0,-999.0000,-999.000,     5.1362,-999.000
  316N138_4,       P06C,     183,          1,         10,        110,2,19920703,       2057,   -32.4968,   179.4172,       3046,  1111.5,   4.6892,  34.4210,2,  34.4184,2,    188.0,2,   184.6,2,   41.13,2,   30.85,2,    0.00,2, -999.00,5,-999.000,5,-999.000,5,  -999.0,9,  -999.0,9,-999.000,9,-999.0000,9, -999.00,9, -999.00,9,  -999.0,9,  -999.0,-999.000,9,-999.000,     -999.0,-999.0000,-999.000,     4.5984,-999.000
  316N138_4,       P06C,     183,          1,          9,        126,2,19920703,       2057,   -32.4968,   179.4172,       3046,  1212.1,   4.0539,  34.4349,2,  34.4308,2,    178.8,2,   177.0,2,   51.65,2,   32.62,2,    0.00,2, -999.00,5,   0.025,2,   0.016,2,  -999.0,9,  -999.0,9,-999.000,9,-999.0000,9, -999.00,9, -999.00,9,  -999.0,9,  -999.0,-999.000,9,-999.000,     -999.0,-999.0000,-999.000,     3.9599,-999.000
  316N138_4,       P06C,     183,          1,          8,        108,2,19920703,       2057,   -32.4968,   179.4172,       3046,  1312.7,   3.6503,  34.4697,2,  34.4687,2,    173.5,2,   171.2,2,   62.55,2,   33.31,2,    0.00,2, -999.00,5,   0.014,2,   0.011,2,  -999.0,9,  -999.0,9,-999.000,9,-999.0000,9, -999.00,9, -999.00,9,  -999.0,9,  -999.0,-999.000,9,-999.000,     -999.0,-999.0000,-999.000,     3.5515,-999.000
  316N138_4,       P06C,     183,          1,          7,        107,2,19920703,       2057,   -32.4968,   179.4172,       3046,  1413.9,   3.3635,  34.4970,2,  34.4948,2,    166.9,2,   166.9,2,   70.96,2,   33.85,2,    0.00,2, -999.00,5,   0.009,2,   0.004,2,  -999.0,9,  -999.0,9,-999.000,9,-999.0000,9, -999.00,9, -999.00,9,  -999.0,9,  -999.0,-999.000,9,-999.000,     -999.0,-999.0000,-999.000,     3.2590,-999.000
  316N138_4,       P06C,     183,          1,          6,        180,2,19920703,       2057,   -32.4968,   179.4172,       3046,  1515.7,   3.0660,  34.5367,2,  34.5345,2,    162.6,2,   161.9,2,   81.85,2,   34.31,2,    0.00,2, -999.00,5,   0.004,2,   0.002,2,  -999.0,9,  -999.0,9,-999.000,9,-999.0000,9, -999.00,9, -999.00,9,  -999.0,9,  -999.0,-999.000,9,-999.000,     -999.0,-999.0000,-999.000,     2.9562,-999.000
  316N138_4,       P06C,     183,          1,          5,        131,2,19920703,       2057,   -32.4968,   179.4172,       3046,  1615.5,   2.8241,  34.5642,2,  34.5626,2,    159.9,2,   158.9,2,   90.06,2,   34.54,2,    0.00,2, -999.00,5,-999.000,5,-999.000,5,  -999.0,9,  -999.0,9,-999.000,9,-999.0000,9, -999.00,9, -999.00,9,  -999.0,9,  -999.0,-999.000,9,-999.000,     -999.0,-999.0000,-999.000,     2.7087,-999.000
  316N138_4,       P06C,     183,          1,          4,        104,2,19920703,       2057,   -32.4968,   179.4172,       3046,  1716.9,   2.6906,  34.5831,2,  34.5830,2,    158.4,2,   158.2,2,   95.79,2,   34.72,2,    0.00,2, -999.00,5,   0.004,2,   0.001,2,  -999.0,9,  -999.0,9,-999.000,9,-999.0000,9, -999.00,9, -999.00,9,  -999.0,9,  -999.0,-999.000,9,-999.000,     -999.0,-999.0000,-999.000,     2.5683,-999.000
  316N138_4,       P06C,     183,          1,          3,        130,2,19920703,       2057,   -32.4968,   179.4172,       3046,  1818.8,   2.5875,  34.5937,2,  34.5985,2,    156.9,2,   156.1,2,  100.17,2,   34.76,2,    0.00,2, -999.00,5,-999.000,5,-999.000,5,  -999.0,9,  -999.0,9,-999.000,9,-999.0000,9, -999.00,9, -999.00,9,  -999.0,9,  -999.0,-999.000,9,-999.000,     -999.0,-999.0000,-999.000,     2.4580,-999.000
  316N138_4,       P06C,     183,          1,          2,        135,2,19920703,       2057,   -32.4968,   179.4172,       3046,  1918.8,   2.5132,  34.6079,2,  34.6087,2,    156.2,2,   155.5,2,  103.03,2,   34.85,2,    0.00,2, -999.00,5,  -0.001,2,  -0.005,2,  -999.0,9,  -999.0,9,-999.000,9,-999.0000,9, -999.00,9, -999.00,9,  -999.0,9,  -999.0,-999.000,9,-999.000,     -999.0,-999.0000,-999.000,     2.3761,-999.000
  316N138_4,       P06C,     183,          1,          1,        134,2,19920703,       2057,   -32.4968,   179.4172,       3046,  2021.4,   2.4232,  34.6215,2,  34.6197,2,    155.1,2,   153.6,3,  106.46,2,   34.81,2,    0.00,2, -999.00,5,-999.000,5,-999.000,5,  -999.0,9,  -999.0,9,-999.000,9,-999.0000,9, -999.00,9, -999.00,9,  -999.0,9,  -999.0,-999.000,9,-999.000,     -999.0,-999.0000,-999.000,     2.2785,-999.000
  316N138_4,       P06C,     183,          1,         36,    02-9121,2,19920703,       2057,   -32.4968,   179.4172,       3046,  2123.0,   2.3321,  34.6309,2,  34.6317,2,    154.6,2,   154.3,2,  109.69,2,   34.94,2,    0.00,2, -999.00,5,  -0.001,2,   0.001,2,  -999.0,9,  -999.0,9,-999.000,9,-999.0000,9, -999.00,9, -999.00,9,  -999.0,9,  -999.0,-999.000,9,-999.000,     -999.0,-999.0000,-999.000,     2.1800,-999.000
  316N138_4,       P06C,     183,          1,         35,    02-9454,2,19920703,       2057,   -32.4968,   179.4172,       3046,  2224.6,   2.2867,  34.6364,2,  34.6376,2,    154.2,2,   154.1,2,  111.40,2,   34.98,2,    0.00,2, -999.00,5,  -0.001,2,  -0.005,2,  -999.0,9,  -999.0,9,-999.000,9,-999.0000,9, -999.00,9, -999.00,9,  -999.0,9,  -999.0,-999.000,9,-999.000,     -999.0,-999.0000,-999.000,     2.1262,-999.000
  316N138_4,       P06C,     183,          1,         34,    02-9457,2,19920703,       2057,   -32.4968,   179.4172,       3046,  2326.3,   2.2116,  34.6451,2,  34.6453,2,    154.3,2,   153.4,2,  113.87,2,   34.98,2,    0.00,2, -999.00,5,   0.002,2,   0.002,2,  -999.0,9,  -999.0,9,-999.000,9,-999.0000,9, -999.00,9, -999.00,9,  -999.0,9,  -999.0,-999.000,9,-999.000,     -999.0,-999.0000,-999.000,     2.0432,-999.000
  316N138_4,       P06C,     183,          1,         33,    02-5367,2,19920703,       2057,   -32.4968,   179.4172,       3046,  2427.4,   2.1782,  34.6483,2,  34.6492,2,    154.1,2,   152.9,2,  114.82,2,   35.02,2,    0.00,2, -999.00,5,  -0.002,2,  -0.005,2,  -999.0,9,  -999.0,9,-999.000,9,-999.0000,9, -999.00,9, -999.00,9,  -999.0,9,  -999.0,-999.000,9,-999.000,     -999.0,-999.0000,-999.000,     2.0013,-999.000
  316N138_4,       P06C,     183,          1,         32,    02-9540,2,19920703,       2057,   -32.4968,   179.4172,       3046,  2529.5,   2.1587,  34.6514,2,  34.6511,2,    154.1,2,   155.8,4,  116.15,2,   35.07,2,    0.00,2, -999.00,5,-999.000,5,-999.000,5,  -999.0,9,  -999.0,9,-999.000,9,-999.0000,9, -999.00,9, -999.00,9,  -999.0,9,  -999.0,-999.000,9,-999.000,     -999.0,-999.0000,-999.000,     1.9727,-999.000
  316N138_4,       P06C,     183,          1,         31,    02-9539,4,19920703,       2057,   -32.4968,   179.4172,       3046,  2630.7,   2.1388,  34.6532,2,  35.3989,4,    154.1,2,   228.6,4,    4.01,4,    5.34,4,    0.10,4, -999.00,5,-999.000,5,-999.000,5,  -999.0,9,  -999.0,9,-999.000,9,-999.0000,9, -999.00,9, -999.00,9,  -999.0,9,  -999.0,-999.000,9,-999.000,     -999.0,-999.0000,-999.000,     1.9438,-999.000
  316N138_4,       P06C,     183,          1,         30,    02-9456,2,19920703,       2057,   -32.4968,   179.4172,       3046,  2733.3,   2.1314,  34.6551,2,  34.6555,2,    154.2,2,   156.1,4,  117.08,2,   35.12,2,   -0.01,2, -999.00,5,  -0.003,2,  -0.006,2,  -999.0,9,  -999.0,9,-999.000,9,-999.0000,9, -999.00,9, -999.00,9,  -999.0,9,  -999.0,-999.000,9,-999.000,     -999.0,-999.0000,-999.000,     1.9268,-999.000
  316N138_4,       P06C,     183,          1,         29,    02-9458,2,19920703,       2057,   -32.4968,   179.4172,       3046,  2835.1,   2.1171,  34.6563,2,  34.6572,2,    154.2,2,   154.7,2,  117.26,2,   35.07,2,    0.00,2, -999.00,5,  -0.002,2,  -0.002,2,  -999.0,9,  -999.0,9,-999.000,9,-999.0000,9, -999.00,9, -999.00,9,  -999.0,9,  -999.0,-999.000,9,-999.000,     -999.0,-999.0000,-999.000,     1.9030,-999.000
  316N138_4,       P06C,     183,          1,         28,    02-9545,2,19920703,       2057,   -32.4968,   179.4172,       3046,  2935.6,   2.0993,  34.6596,2,  34.6596,2,    154.2,2,   153.4,2,  118.20,2,   35.07,2,    0.00,2, -999.00,5,   0.001,2,  -0.003,2,  -999.0,9,  -999.0,9,-999.000,9,-999.0000,9, -999.00,9, -999.00,9,  -999.0,9,  -999.0,-999.000,9,-999.000,     -999.0,-999.0000,-999.000,     1.8758,-999.000
  316N138_4,       P06C,     183,          1,         27,    02-9453,2,19920703,       2057,   -32.4968,   179.4172,       3046,  3037.5,   2.0940,  34.6600,2,  34.6594,2,    154.2,2,   154.0,2,  118.38,2,   35.11,2,    0.00,2, -999.00,5,  -0.001,2,  -0.006,2,  -999.0,9,  -999.0,9,-999.000,9,-999.0000,9, -999.00,9, -999.00,9,  -999.0,9,  -999.0,-999.000,9,-999.000,     -999.0,-999.0000,-999.000,     1.8606,-999.000
  316N138_4,       P06C,     183,          1,         26,    02-9544,2,19920703,       2057,   -32.4968,   179.4172,       3046,  3148.2,   2.0973,  34.6613,2,  34.6606,2,    154.7,2,   153.1,2,  118.36,2,   35.06,2,    0.00,2, -999.00,5,   0.001,2,  -0.005,2,  -999.0,9,  -999.0,9,-999.000,9,-999.0000,9, -999.00,9, -999.00,9,  -999.0,9,  -999.0,-999.000,9,-999.000,     -999.0,-999.0000,-999.000,     1.8527,-999.000
  316N138_4,       P06C,     183,          1,         25,    02-9455,2,19920703,       2057,   -32.4968,   179.4172,       3046,  3216.6,   2.1027,  34.6610,2,  34.6627,2,    153.2,2,   154.1,2,  118.46,2,   35.07,2,    0.00,2, -999.00,5,   0.001,2,   0.004,2,  -999.0,9,  -999.0,9,-999.000,9,-999.0000,9, -999.00,9, -999.00,9,  -999.0,9,  -999.0,-999.000,9,-999.000,     -999.0,-999.0000,-999.000,     1.8511,-999.000