BOTTLE,20211025CCHSIORKP
EXPOCODE,SECT_ID,STNNBR,CASTNO,SAMPNO,BTLNBR,BTLNBR_FLAG_W,DATE,TIME,LATITUDE,LONGITUDE,DEPTH,CTDPRS,CTDTMP,CTDSAL,CTDSAL_FLAG_W,SALNTY,SALNTY_FLAG_W,CTDOXY,CTDOXY_FLAG_W,OXYGEN,OXYGEN_FLAG_W,SILCAT,SILCAT_FLAG_W,NITRAT,NITRAT_FLAG_W,NITRIT,NITRIT_FLAG_W,PHSPHT,PHSPHT_FLAG_W,CFC-11,CFC-11_FLAG_W,CFC-12,CFC-12_FLAG_W,TCARBN,TCARBN_FLAG_W,PCO2,PCO2_FLAG_W,TRITUM,TRITUM_FLAG_W,HELIUM,HELIUM_FLAG_W,DELHE3,DELHE3_FLAG_W,DELC13,DELC13_FLAG_W,DELC14,DELC14_FLAG_W,C14ERR,NEON,NEON_FLAG_W,NEONER,PCO2TMP,HELIER,DELHER,THETA,TRITER
,,,,,,,,,,,METERS,DBAR,ITS-90,PSS-78,,PSS-78,,UMOL/KG,,UMOL/KG,,UMOL/KG,,UMOL/KG,,UMOL/KG,,UMOL/KG,,PMOL/KG,,PMOL/KG,,UMOL/KG,,UATM,,TU,,NMOL/KG,,PERCNT,,/MILLE,,/MILLE,,/MILLE,NMOL/KG,,NMOL/KG,DEG_C,NMOL/KG,PERCNT,ITS-90,TU
  316N138_4,       P06C,     157,          1,         36,    02-9121,2,19920627,       0909,   -32.4972,  -169.8423,       5465,    18.2,  16.6863,  35.5146,2,  35.5146,2,    368.6,3,   237.8,2,   -0.06,2,    0.08,2,    0.01,2,    0.17,2,   2.777,2,-999.000,9,  -999.0,9,  -999.0,9,-999.000,9,-999.0000,9, -999.00,9,    1.54,2,   109.0,2,     3.8,-999.000,9,-999.000,     -999.0,-999.0000,-999.000,    16.6834,-999.000
  316N138_4,       P06C,     157,          1,         35,    02-9454,2,19920627,       0909,   -32.4972,  -169.8423,       5465,    58.3,  16.6973,  35.5148,2,-999.0000,9,    241.1,2,  -999.0,9, -999.00,9, -999.00,9, -999.00,9, -999.00,9,-999.000,5,-999.000,5,  -999.0,9,  -999.0,9,-999.000,9,-999.0000,9, -999.00,9, -999.00,9,  -999.0,9,  -999.0,-999.000,9,-999.000,     -999.0,-999.0000,-999.000,    16.6878,-999.000
  316N138_4,       P06C,     157,          1,         34,    02-9457,2,19920627,       0909,   -32.4972,  -169.8423,       5465,   107.0,  16.0851,  35.5420,2,  35.4722,2,    226.6,2,   232.5,2,    0.14,2,    0.49,2,    0.04,2,    0.21,2,   2.778,6,   1.335,6,  -999.0,9,  -999.0,9,-999.000,9,-999.0000,9, -999.00,9,    1.42,2,   102.8,2,     3.8,-999.000,9,-999.000,     -999.0,-999.0000,-999.000,    16.0681,-999.000
  316N138_4,       P06C,     157,          1,         33,    02-5367,2,19920627,       0909,   -32.4972,  -169.8423,       5465,   208.0,  13.0301,  35.0852,2,  35.1026,2,    206.5,2,   204.4,2,    1.71,2,    8.83,2,    0.01,2,    0.73,2,   2.523,2,   1.198,2,  -999.0,9,  -999.0,9,-999.000,9,-999.0000,9, -999.00,9,    1.30,4,    50.1,2,     4.3,-999.000,9,-999.000,     -999.0,-999.0000,-999.000,    13.0014,-999.000
  316N138_4,       P06C,     157,          1,         32,    02-9540,2,19920627,       0909,   -32.4972,  -169.8423,       5465,   308.4,  10.7684,  34.8233,2,  34.8159,2,    206.0,2,   211.2,2,    3.61,2,   13.44,2,    0.01,2,    1.01,2,   2.526,2,   1.167,2,  -999.0,9,  -999.0,9,-999.000,9,-999.0000,9, -999.00,9,    1.22,2,    47.1,2,     9.9,-999.000,9,-999.000,     -999.0,-999.0000,-999.000,    10.7307,-999.000
  316N138_4,       P06C,     157,          1,         31,    02-9539,2,19920627,       0909,   -32.4972,  -169.8423,       5465,   406.8,   8.7083,  34.5938,2,  34.5912,2,    215.9,2,   216.5,2,    5.35,2,   18.61,2,    0.00,2,    1.30,2,   1.709,2,   0.815,2,  -999.0,9,  -999.0,9,-999.000,9,-999.0000,9, -999.00,9,    1.22,2,    52.0,2,     7.2,-999.000,9,-999.000,     -999.0,-999.0000,-999.000,     8.6646,-999.000
  316N138_4,       P06C,     157,          1,         30,    02-9456,2,19920627,       0909,   -32.4972,  -169.8423,       5465,   507.6,   7.7560,  34.4857,2,  34.4871,2,    228.6,2,   229.0,2,    5.37,2,   20.49,2,    0.00,2,    1.42,2,   1.493,6,   0.723,6,  -999.0,9,  -999.0,9,-999.000,9,-999.0000,9, -999.00,9,    1.28,2,    33.7,2,     4.6,-999.000,9,-999.000,     -999.0,-999.0000,-999.000,     7.7050,-999.000
  316N138_4,       P06C,     157,          1,         29,    02-9458,2,19920627,       0909,   -32.4972,  -169.8423,       5465,   607.2,   7.1853,  34.4342,2,  34.4341,2,    235.6,2,   236.4,2,    6.60,2,   21.95,2,    0.01,2,    1.48,2,   1.054,2,   0.525,2,  -999.0,9,  -999.0,9,-999.000,9,-999.0000,9, -999.00,9,    1.30,2,     7.1,2,     3.6,-999.000,9,-999.000,     -999.0,-999.0000,-999.000,     7.1264,-999.000
  316N138_4,       P06C,     157,          1,         28,    02-9545,2,19920627,       0909,   -32.4972,  -169.8423,       5465,   707.3,   6.6567,  34.3876,2,  34.3864,2,    237.2,2,   232.9,2,    8.51,2,   23.45,2,    0.01,2,    1.59,2,   0.686,2,   0.357,2,  -999.0,9,  -999.0,9,-999.000,9,-999.0000,9, -999.00,9,    1.31,2,   -21.1,6,     7.4,-999.000,9,-999.000,     -999.0,-999.0000,-999.000,     6.5904,-999.000
  316N138_4,       P06C,     157,          1,         27,    02-9453,2,19920627,       0909,   -32.4972,  -169.8423,       5465,   806.8,   6.0529,  34.3473,2,  34.3470,2,    233.7,2,   226.6,2,   12.13,2,   25.58,2,    0.01,2,    1.73,2,   0.463,2,   0.245,2,  -999.0,9,  -999.0,9,-999.000,9,-999.0000,9, -999.00,9,    1.24,2,   -30.5,2,     2.9,-999.000,9,-999.000,     -999.0,-999.0000,-999.000,     5.9807,-999.000
  316N138_4,       P06C,     157,          1,         26,    02-9544,2,19920627,       0909,   -32.4972,  -169.8423,       5465,   907.4,   5.5653,  34.3412,2,  34.3413,2,    219.4,2,   215.3,2,   18.15,2,   27.87,2,    0.01,2,    1.87,2,   0.260,2,   0.128,2,  -999.0,9,  -999.0,9,-999.000,9,-999.0000,9, -999.00,9,    1.16,2,   -51.1,2,     2.9,-999.000,9,-999.000,     -999.0,-999.0000,-999.000,     5.4867,-999.000
  316N138_4,       P06C,     157,          1,         25,    02-9455,2,19920627,       0909,   -32.4972,  -169.8423,       5465,  1004.7,   4.9536,  34.3444,2,  34.3450,2,    208.4,3,   203.9,2,   26.23,2,   30.15,2,    0.01,2,    2.00,2,   0.128,2,   0.064,2,  -999.0,9,  -999.0,9,-999.000,9,-999.0000,9, -999.00,9,    0.60,3,   -95.2,2,     5.0,-999.000,9,-999.000,     -999.0,-999.0000,-999.000,     4.8705,-999.000
  316N138_4,       P06C,     157,          1,         24,        132,2,19920627,       0909,   -32.4972,  -169.8423,       5465,  1099.5,   4.3479,  34.3575,2,  34.3560,2,    198.0,3,   193.6,2,   34.99,2,   31.82,2,    0.09,3,    2.14,2,   0.064,6,   0.037,6,  -999.0,9,  -999.0,9,-999.000,9,-999.0000,9, -999.00,9,    0.87,2,  -113.0,2,     4.6,-999.000,9,-999.000,     -999.0,-999.0000,-999.000,     4.2612,-999.000
  316N138_4,       P06C,     157,          1,         23,        123,3,19920627,       0909,   -32.4972,  -169.8423,       5465,  1289.8,   3.4696,  34.4278,2,  34.5135,4,    180.5,2,   192.9,4,   37.07,4,   28.45,4,    0.00,4,    1.91,4,-999.000,5,-999.000,5,  -999.0,9,  -999.0,9,-999.000,9,-999.0000,9, -999.00,9, -999.00,9,  -999.0,9,  -999.0,-999.000,9,-999.000,     -999.0,-999.0000,-999.000,     3.3746,-999.000
  316N138_4,       P06C,     157,          1,         22,        128,2,19920627,       0909,   -32.4972,  -169.8423,       5465,  1486.2,   2.9440,  34.5134,2,  34.5131,2,    167.6,2,   166.2,2,   73.41,2,   35.10,2,    0.01,2,    2.39,2,   0.009,2,   0.006,2,  -999.0,9,  -999.0,9,-999.000,9,-999.0000,9, -999.00,9,    0.48,2,  -179.9,2,     6.3,-999.000,9,-999.000,     -999.0,-999.0000,-999.000,     2.8381,-999.000
  316N138_4,       P06C,     157,          1,         21,        121,2,19920627,       0909,   -32.4972,  -169.8423,       5465,  1687.2,   2.5712,  34.5859,2,  34.5848,2,    158.1,2,   155.8,2,   93.31,2,   35.48,2,    0.02,2,    2.47,2,   0.001,2,   0.003,2,  -999.0,9,  -999.0,9,-999.000,9,-999.0000,9, -999.00,9,    0.32,2,  -223.5,2,     5.0,-999.000,9,-999.000,     -999.0,-999.0000,-999.000,     2.4530,-999.000
  316N138_4,       P06C,     157,          1,         20,        120,2,19920627,       0909,   -32.4972,  -169.8423,       5465,  1889.2,   2.3713,  34.6157,2,  34.6156,2,    152.7,2,   152.5,2,  105.00,2,   35.68,2,    0.02,2,    2.50,2,  -0.004,2,-999.000,9,  -999.0,9,  -999.0,9,-999.000,9,-999.0000,9, -999.00,9,    0.26,2,  -192.0,3,     6.1,-999.000,9,-999.000,     -999.0,-999.0000,-999.000,     2.2388,-999.000
  316N138_4,       P06C,     157,          1,         19,        133,2,19920627,       0909,   -32.4972,  -169.8423,       5465,  2092.9,   2.2132,  34.6329,2,  34.6329,2,    149.6,2,   150.7,2,  113.25,2,   35.87,2,    0.01,2,    2.53,2,-999.000,5,-999.000,5,  -999.0,9,  -999.0,9,-999.000,9,-999.0000,9, -999.00,9,    0.22,2,  -208.7,2,     3.5,-999.000,9,-999.000,     -999.0,-999.0000,-999.000,     2.0655,-999.000
  316N138_4,       P06C,     157,          1,         18,        118,2,19920627,       0909,   -32.4972,  -169.8423,       5465,  2300.4,   2.0988,  34.6429,2,  34.6427,2,    148.0,2,   146.6,2,  120.14,2,   35.87,2,    0.01,2,    2.55,2,  -0.002,2,  -0.003,2,  -999.0,9,  -999.0,9,-999.000,9,-999.0000,9, -999.00,9,    0.17,2,  -222.8,2,     3.5,-999.000,9,-999.000,     -999.0,-999.0000,-999.000,     1.9348,-999.000
  316N138_4,       P06C,     157,          1,         17,        117,2,19920627,       0909,   -32.4972,  -169.8423,       5465,  2508.6,   2.0021,  34.6517,2,  34.6543,2,    147.1,2,   146.9,2,  124.12,2,   35.87,2,    0.01,2,    2.56,2,-999.000,5,-999.000,5,  -999.0,9,  -999.0,9,-999.000,9,-999.0000,9, -999.00,9,    0.13,2,  -227.3,2,     3.2,-999.000,9,-999.000,     -999.0,-999.0000,-999.000,     1.8210,-999.000
  316N138_4,       P06C,     157,          1,         16,        116,2,19920627,       0909,   -32.4972,  -169.8423,       5465,  2718.8,   1.9219,  34.6592,2,  34.6592,2,    147.6,2,   147.4,2,  126.56,2,   35.68,2,    0.01,2,    2.58,2,  -0.003,2,   0.001,2,  -999.0,9,  -999.0,9,-999.000,9,-999.0000,9, -999.00,9,    0.14,2,  -201.1,2,     2.8,-999.000,9,-999.000,     -999.0,-999.0000,-999.000,     1.7229,-999.000
  316N138_4,       P06C,     157,          1,         15,        115,2,19920627,       0909,   -32.4972,  -169.8423,       5465,  2928.1,   1.8455,  34.6663,2,  34.6649,2,    149.8,2,   150.3,2,  128.31,2,   35.53,2,    0.00,2,    2.53,2,-999.000,5,-999.000,5,  -999.0,9,  -999.0,9,-999.000,9,-999.0000,9, -999.00,9,    0.12,2,  -196.4,2,     2.5,-999.000,9,-999.000,     -999.0,-999.0000,-999.000,     1.6281,-999.000
  316N138_4,       P06C,     157,          1,         14,        114,2,19920627,       0909,   -32.4972,  -169.8423,       5465,  3134.2,   1.7662,  34.6773,2,  34.6771,2,    155.1,2,   155.1,2,  127.14,2,   35.10,2,   -0.01,2,    2.49,2,  -0.004,2,  -0.005,2,  -999.0,9,  -999.0,9,-999.000,9,-999.0000,9, -999.00,9,    0.18,2,  -193.8,2,     3.0,-999.000,9,-999.000,     -999.0,-999.0000,-999.000,     1.5304,-999.000
  316N138_4,       P06C,     157,          1,         13,        125,2,19920627,       0909,   -32.4972,  -169.8423,       5465,  3341.3,   1.6905,  34.6929,2,  34.6924,2,    167.4,2,   167.6,2,  120.67,2,   34.02,2,   -0.01,2,    2.39,2,-999.000,5,-999.000,5,  -999.0,9,  -999.0,9,-999.000,9,-999.0000,9, -999.00,9,    0.15,2,  -192.3,2,     2.8,-999.000,9,-999.000,     -999.0,-999.0000,-999.000,     1.4358,-999.000
  316N138_4,       P06C,     157,          1,         12,        112,2,19920627,       0909,   -32.4972,  -169.8423,       5465,  3543.4,   1.6075,  34.7082,2,  34.7076,2,    181.6,2,   180.2,2,  114.01,2,   32.89,2,    0.00,2,    2.32,2,  -0.003,2,  -0.002,2,  -999.0,9,  -999.0,9,-999.000,9,-999.0000,9, -999.00,9,    0.30,2,  -191.6,2,     5.5,-999.000,9,-999.000,     -999.0,-999.0000,-999.000,     1.3340,-999.000
  316N138_4,       P06C,     157,          1,         11,        129,2,19920627,       0909,   -32.4972,  -169.8423,       5465,  3749.6,   1.4819,  34.7194,2,  34.7193,2,    193.5,2,   193.1,2,  109.08,2,   32.01,2,    0.00,2,    2.26,2,-999.000,5,-999.000,5,  -999.0,9,  -999.0,9,-999.000,9,-999.0000,9, -999.00,9,    0.36,2,  -164.5,2,     3.1,-999.000,9,-999.000,     -999.0,-999.0000,-999.000,     1.1901,-999.000
  316N138_4,       P06C,     157,          1,         10,        110,2,19920627,       0909,   -32.4972,  -169.8423,       5465,  3954.7,   1.3257,  34.7190,2,  34.7201,2,    199.3,2,   198.8,2,  110.15,2,   31.91,2,    0.00,2,    2.24,2,  -0.001,2,  -0.001,2,  -999.0,9,  -999.0,9,-999.000,9,-999.0000,9, -999.00,9,    0.38,2,  -155.9,2,     5.5,-999.000,9,-999.000,     -999.0,-999.0000,-999.000,     1.0164,-999.000
  316N138_4,       P06C,     157,          1,          9,        126,3,19920627,       0909,   -32.4972,  -169.8423,       5465,  4159.3,   1.1902,  34.7176,2,  34.8530,4,    203.8,2,   198.8,4,   71.25,4,   23.33,4,    0.01,4,    1.65,4,-999.000,5,-999.000,5,  -999.0,9,  -999.0,9,-999.000,9,-999.0000,9, -999.00,9, -999.00,9,  -999.0,9,  -999.0,-999.000,9,-999.000,     -999.0,-999.0000,-999.000,     0.8626,-999.000
  316N138_4,       P06C,     157,          1,          8,        108,2,19920627,       0909,   -32.4972,  -169.8423,       5465,  4362.1,   1.0904,  34.7137,2,  34.7123,2,    205.3,2,   205.0,2,  117.25,2,   32.15,2,    0.00,2,    2.24,2,   0.002,2,  -0.003,2,  -999.0,9,  -999.0,9,-999.000,9,-999.0000,9, -999.00,9,    0.40,2,  -160.7,2,     3.1,-999.000,9,-999.000,     -999.0,-999.0000,-999.000,     0.7435,-999.000
  316N138_4,       P06C,     157,          1,          7,        107,2,19920627,       0909,   -32.4972,  -169.8423,       5465,  4566.2,   1.0448,  34.7116,2,  34.7113,2,    206.8,2,   207.1,2,  118.66,2,   32.34,2,    0.00,2,    2.25,2,-999.000,5,-999.000,5,  -999.0,9,  -999.0,9,-999.000,9,-999.0000,9, -999.00,9,    0.41,2,  -201.0,4,     5.3,-999.000,9,-999.000,     -999.0,-999.0000,-999.000,     0.6763,-999.000
  316N138_4,       P06C,     157,          1,          6,        180,2,19920627,       0909,   -32.4972,  -169.8423,       5465,  4770.5,   1.0264,  34.7089,2,  34.7095,2,    207.9,2,   207.3,2,  119.89,2,   32.52,2,    0.02,2,    2.25,2,   0.006,2,   0.006,2,  -999.0,9,  -999.0,9,-999.000,9,-999.0000,9, -999.00,9,    0.25,2,  -163.6,2,     5.2,-999.000,9,-999.000,     -999.0,-999.0000,-999.000,     0.6350,-999.000
  316N138_4,       P06C,     157,          1,          5,        131,2,19920627,       0909,   -32.4972,  -169.8423,       5465,  4972.0,   1.0247,  34.7080,2,  34.7083,2,    208.0,2,   211.0,4,  120.45,2,   32.66,2,    0.02,2,    2.25,2,-999.000,5,-999.000,5,  -999.0,9,  -999.0,9,-999.000,9,-999.0000,9, -999.00,9,    0.32,2,  -999.0,9,  -999.0,-999.000,9,-999.000,     -999.0,-999.0000,-999.000,     0.6098,-999.000
  316N138_4,       P06C,     157,          1,          4,        104,2,19920627,       0909,   -32.4972,  -169.8423,       5465,  5177.3,   1.0385,  34.7081,2,  34.7085,2,    208.0,2,   213.9,4,  121.00,2,   32.81,2,    0.01,2,    2.26,2,   0.009,2,   0.006,2,  -999.0,9,  -999.0,9,-999.000,9,-999.0000,9, -999.00,9,    0.23,2,  -169.4,2,     3.2,-999.000,9,-999.000,     -999.0,-999.0000,-999.000,     0.5984,-999.000
  316N138_4,       P06C,     157,          1,          3,        130,2,19920627,       0909,   -32.4972,  -169.8423,       5465,  5384.4,   1.0591,  34.7080,2,  34.7083,2,    208.4,2,   209.3,2,  121.04,2,   32.85,2,    0.02,2,    2.25,2,   0.012,2,   0.006,2,  -999.0,9,  -999.0,9,-999.000,9,-999.0000,9, -999.00,9, -999.00,9,  -999.0,9,  -999.0,-999.000,9,-999.000,     -999.0,-999.0000,-999.000,     0.5930,-999.000
  316N138_4,       P06C,     157,          1,          2,        135,3,19920627,       0909,   -32.4972,  -169.8423,       5465,  5590.2,   1.0853,  34.7077,2,  34.7079,2,    208.7,2,   208.2,2,  121.25,2,   32.83,2,    0.03,2,    2.24,2,   0.011,2,   0.006,2,  -999.0,9,  -999.0,9,-999.000,9,-999.0000,9, -999.00,9,    0.26,2,  -164.6,2,     6.2,-999.000,9,-999.000,     -999.0,-999.0000,-999.000,     0.5924,-999.000
  316N138_4,       P06C,     157,          1,          1,        134,2,19920627,       0909,   -32.4972,  -169.8423,       5465,  5705.1,   1.0999,  34.7079,2,  34.7083,2,    208.3,2,   209.0,2,  121.05,2,   32.70,2,    0.02,2,    2.24,2,   0.007,6,  -0.001,6,  -999.0,9,  -999.0,9,-999.000,9,-999.0000,9, -999.00,9,    0.23,2,  -163.6,2,     3.1,-999.000,9,-999.000,     -999.0,-999.0000,-999.000,     0.5919,-999.000