BOTTLE,20211025CCHSIORKP
EXPOCODE,SECT_ID,STNNBR,CASTNO,SAMPNO,BTLNBR,BTLNBR_FLAG_W,DATE,TIME,LATITUDE,LONGITUDE,DEPTH,CTDPRS,CTDTMP,CTDSAL,CTDSAL_FLAG_W,SALNTY,SALNTY_FLAG_W,CTDOXY,CTDOXY_FLAG_W,OXYGEN,OXYGEN_FLAG_W,SILCAT,SILCAT_FLAG_W,NITRAT,NITRAT_FLAG_W,NITRIT,NITRIT_FLAG_W,PHSPHT,PHSPHT_FLAG_W,CFC-11,CFC-11_FLAG_W,CFC-12,CFC-12_FLAG_W,TCARBN,TCARBN_FLAG_W,PCO2,PCO2_FLAG_W,TRITUM,TRITUM_FLAG_W,HELIUM,HELIUM_FLAG_W,DELHE3,DELHE3_FLAG_W,DELC13,DELC13_FLAG_W,DELC14,DELC14_FLAG_W,C14ERR,NEON,NEON_FLAG_W,NEONER,PCO2TMP,HELIER,DELHER,THETA,TRITER
,,,,,,,,,,,METERS,DBAR,ITS-90,PSS-78,,PSS-78,,UMOL/KG,,UMOL/KG,,UMOL/KG,,UMOL/KG,,UMOL/KG,,UMOL/KG,,PMOL/KG,,PMOL/KG,,UMOL/KG,,UATM,,TU,,NMOL/KG,,PERCNT,,/MILLE,,/MILLE,,/MILLE,NMOL/KG,,NMOL/KG,DEG_C,NMOL/KG,PERCNT,ITS-90,TU
  316N138_4,       P06C,     136,          1,         36,    02-9121,2,19920621,       2041,   -32.5035,  -157.3232,       5347,    22.3,  17.1826,  35.2759,2,  35.2753,2,    237.0,2,   236.3,2,    0.45,2,   -0.01,2,    0.00,2,    0.10,2,-999.000,5,-999.000,5,  2033.1,6,  -999.0,9,-999.000,9,-999.0000,9, -999.00,9, -999.00,9,  -999.0,9,  -999.0,-999.000,9,-999.000,     -999.0,-999.0000,-999.000,    17.1789,-999.000
  316N138_4,       P06C,     136,          1,         35,    02-9454,2,19920621,       2041,   -32.5035,  -157.3232,       5347,    61.1,  17.1851,  35.2783,2,  35.2729,2,    232.6,2,   237.4,2,    0.30,2,    0.03,2,    0.00,2,    0.09,2,   2.488,6,   1.368,6,  2033.4,2,  -999.0,9,-999.000,9,-999.0000,9, -999.00,9, -999.00,9,  -999.0,9,  -999.0,-999.000,9,-999.000,     -999.0,-999.0000,-999.000,    17.1749,-999.000
  316N138_4,       P06C,     136,          1,         34,    02-9457,2,19920621,       2041,   -32.5035,  -157.3232,       5347,   110.1,  16.9572,  35.2745,2,  35.2452,2,    232.2,2,   238.4,2,    0.45,2,    0.03,2,    0.00,2,    0.11,2,   2.531,2,   1.410,2,  2038.0,2,  -999.0,9,-999.000,9,-999.0000,9, -999.00,9, -999.00,9,  -999.0,9,  -999.0,-999.000,9,-999.000,     -999.0,-999.0000,-999.000,    16.9390,-999.000
  316N138_4,       P06C,     136,          1,         33,    02-5367,2,19920621,       2041,   -32.5035,  -157.3232,       5347,   161.6,  14.7267,  35.1665,2,  35.1612,2,    231.4,2,   231.4,2,    0.61,2,    1.41,2,    0.09,2,    0.32,2,   2.655,2,   1.449,2,  2062.2,2,  -999.0,9,-999.000,9,-999.0000,9, -999.00,9, -999.00,9,  -999.0,9,  -999.0,-999.000,9,-999.000,     -999.0,-999.0000,-999.000,    14.7025,-999.000
  316N138_4,       P06C,     136,          1,         32,    02-9540,2,19920621,       2041,   -32.5035,  -157.3232,       5347,   211.2,  13.5527,  35.0555,2,  35.0468,2,    222.2,2,   219.3,2,    1.20,2,    5.43,2,    0.01,2,    0.55,2,   2.522,2,   1.361,2,  2082.1,2,  -999.0,9,-999.000,9,-999.0000,9, -999.00,9, -999.00,9,  -999.0,9,  -999.0,-999.000,9,-999.000,     -999.0,-999.0000,-999.000,    13.5229,-999.000
  316N138_4,       P06C,     136,          1,         31,    02-9539,2,19920621,       2041,   -32.5035,  -157.3232,       5347,   259.4,  11.8026,  34.8907,2,  34.8814,2,    215.6,2,   211.6,2,    2.26,2,   10.47,2,    0.01,2,    0.83,2,   2.333,6,   1.196,6,  2104.1,2,  -999.0,9,-999.000,9,-999.0000,9, -999.00,9, -999.00,9,  -999.0,9,  -999.0,-999.000,9,-999.000,     -999.0,-999.0000,-999.000,    11.7691,-999.000
  316N138_4,       P06C,     136,          1,         30,    02-9456,3,19920621,       2041,   -32.5035,  -157.3232,       5347,   309.8,  10.2256,  34.7147,2,  34.8680,4,    217.5,2,   219.5,4,    2.26,4,    9.41,4,    0.01,4,    0.75,4,-999.000,5,-999.000,5,  2095.3,2,  -999.0,9,-999.000,9,-999.0000,9, -999.00,9, -999.00,9,  -999.0,9,  -999.0,-999.000,9,-999.000,     -999.0,-999.0000,-999.000,    10.1892,-999.000
  316N138_4,       P06C,     136,          1,         29,    02-9458,3,19920621,       2041,   -32.5035,  -157.3232,       5347,   408.2,   8.4152,  34.5351,2,  34.5323,2,    234.8,2,   233.9,2,    4.22,2,   17.44,2,    0.00,2,    1.22,2,   2.533,6,   1.259,6,  2123.3,6,  -999.0,9,-999.000,9,-999.0000,9, -999.00,9, -999.00,9,  -999.0,9,  -999.0,-999.000,9,-999.000,     -999.0,-999.0000,-999.000,     8.3724,-999.000
  316N138_4,       P06C,     136,          1,         28,    02-9545,2,19920621,       2041,   -32.5035,  -157.3232,       5347,   506.4,   7.7458,  34.4794,2,  34.4750,2,    238.1,2,   237.4,2,    5.27,2,   19.52,2,    0.00,2,    1.34,2,   2.126,2,   1.035,2,  2128.8,2,  -999.0,9,-999.000,9,-999.0000,9, -999.00,9, -999.00,9,  -999.0,9,  -999.0,-999.000,9,-999.000,     -999.0,-999.0000,-999.000,     7.6950,-999.000
  316N138_4,       P06C,     136,          1,         27,    02-9453,2,19920621,       2041,   -32.5035,  -157.3232,       5347,   606.9,   7.2000,  34.4278,2,  34.4284,2,    242.5,2,   238.3,2,    6.78,2,   21.07,2,    0.00,2,    1.43,2,   1.626,2,   0.796,2,  2132.3,2,  -999.0,9,-999.000,9,-999.0000,9, -999.00,9, -999.00,9,  -999.0,9,  -999.0,-999.000,9,-999.000,     -999.0,-999.0000,-999.000,     7.1411,-999.000
  316N138_4,       P06C,     136,          1,         26,    02-9544,2,19920621,       2041,   -32.5035,  -157.3232,       5347,   708.2,   6.6917,  34.3844,2,  34.3864,2,    240.1,2,   235.4,2,    8.59,2,   22.76,2,    0.00,2,    1.53,2,   0.992,2,   0.506,2,  2137.8,2,  -999.0,9,-999.000,9,-999.0000,9, -999.00,9, -999.00,9,  -999.0,9,  -999.0,-999.000,9,-999.000,     -999.0,-999.0000,-999.000,     6.6253,-999.000
  316N138_4,       P06C,     136,          1,         25,    02-9455,2,19920621,       2041,   -32.5035,  -157.3232,       5347,   807.0,   6.0737,  34.3437,2,  34.3450,2,    237.2,2,   228.6,2,   12.20,2,   24.88,2,    0.00,2,    1.68,2,   0.527,2,   0.274,2,  -999.0,9,  -999.0,9,-999.000,9,-999.0000,9, -999.00,9, -999.00,9,  -999.0,9,  -999.0,-999.000,9,-999.000,     -999.0,-999.0000,-999.000,     6.0013,-999.000
  316N138_4,       P06C,     136,          1,         24,        132,2,19920621,       2041,   -32.5035,  -157.3232,       5347,   911.0,   5.4319,  34.3179,2,  34.3191,2,    227.3,2,   219.4,2,   17.48,2,   27.14,2,    0.00,2,    1.82,2,   0.296,2,   0.181,2,  2160.6,2,  -999.0,9,-999.000,9,-999.0000,9, -999.00,9, -999.00,9,  -999.0,9,  -999.0,-999.000,9,-999.000,     -999.0,-999.0000,-999.000,     5.3538,-999.000
  316N138_4,       P06C,     136,          1,         23,        123,2,19920621,       2041,   -32.5035,  -157.3232,       5347,  1011.9,   4.9022,  34.3216,2,  34.3233,2,    214.3,3,   207.6,2,   24.71,2,   29.30,2,    0.00,2,    1.97,2,   0.164,6,   0.096,6,  2177.6,2,  -999.0,9,-999.000,9,-999.0000,9, -999.00,9, -999.00,9,  -999.0,9,  -999.0,-999.000,9,-999.000,     -999.0,-999.0000,-999.000,     4.8189,-999.000
  316N138_4,       P06C,     136,          1,         22,        128,2,19920621,       2041,   -32.5035,  -157.3232,       5347,  1214.0,   3.8078,  34.3716,2,  34.3702,2,    190.6,2,   188.9,2,   43.25,2,   32.59,2,    0.00,2,    2.20,2,   0.052,6,   0.030,6,  2210.6,2,  -999.0,9,-999.000,9,-999.0000,9, -999.00,9, -999.00,9,  -999.0,9,  -999.0,-999.000,9,-999.000,     -999.0,-999.0000,-999.000,     3.7160,-999.000
  316N138_4,       P06C,     136,          1,         21,        121,2,19920621,       2041,   -32.5035,  -157.3232,       5347,  1412.7,   3.0489,  34.4660,2,  34.4650,2,    177.0,3,   172.5,2,   63.61,2,   34.36,2,    0.00,2,    2.32,2,   0.005,2,   0.008,2,  2240.5,2,  -999.0,9,-999.000,9,-999.0000,9, -999.00,9, -999.00,9,  -999.0,9,  -999.0,-999.000,9,-999.000,     -999.0,-999.0000,-999.000,     2.9480,-999.000
  316N138_4,       P06C,     136,          1,         20,        120,2,19920621,       2041,   -32.5035,  -157.3232,       5347,  1610.4,   2.6744,  34.5581,2,  34.5580,2,    163.0,2,   161.7,2,   84.41,2,   35.09,2,    0.00,2,    2.41,2,-999.000,9,  -0.001,6,  2266.0,2,  -999.0,9,-999.000,9,-999.0000,9, -999.00,9, -999.00,9,  -999.0,9,  -999.0,-999.000,9,-999.000,     -999.0,-999.0000,-999.000,     2.5613,-999.000
  316N138_4,       P06C,     136,          1,         19,        133,2,19920621,       2041,   -32.5035,  -157.3232,       5347,  1809.6,   2.4219,  34.6064,2,  34.6060,2,    155.7,2,   154.7,2,   99.34,2,   35.64,2,    0.00,2,    2.45,2,-999.000,5,-999.000,5,  2284.2,2,  -999.0,9,-999.000,9,-999.0000,9, -999.00,9, -999.00,9,  -999.0,9,  -999.0,-999.000,9,-999.000,     -999.0,-999.0000,-999.000,     2.2953,-999.000
  316N138_4,       P06C,     136,          1,         18,        118,2,19920621,       2041,   -32.5035,  -157.3232,       5347,  2015.4,   2.2527,  34.6291,2,  34.6291,2,    151.5,2,   150.3,2,  109.61,2,   36.04,2,    0.00,2,    2.51,2,   0.004,2,-999.000,9,  2296.2,6,  -999.0,9,-999.000,9,-999.0000,9, -999.00,9, -999.00,9,  -999.0,9,  -999.0,-999.000,9,-999.000,     -999.0,-999.0000,-999.000,     2.1111,-999.000
  316N138_4,       P06C,     136,          1,         17,        117,2,19920621,       2041,   -32.5035,  -157.3232,       5347,  2217.5,   2.1103,  34.6424,2,  34.6429,2,    148.9,2,   148.6,2,  116.56,2,   36.29,2,    0.00,2,    2.53,2,-999.000,5,-999.000,5,  2303.3,2,  -999.0,9,-999.000,9,-999.0000,9, -999.00,9, -999.00,9,  -999.0,9,  -999.0,-999.000,9,-999.000,     -999.0,-999.0000,-999.000,     1.9534,-999.000
  316N138_4,       P06C,     136,          1,         16,        116,2,19920621,       2041,   -32.5035,  -157.3232,       5347,  2419.7,   2.0034,  34.6517,2,  34.6515,2,    147.3,2,   147.7,2,  122.45,2,   36.40,2,    0.01,2,    2.54,2,  -0.002,2,  -0.005,2,  2309.9,2,  -999.0,9,-999.000,9,-999.0000,9, -999.00,9, -999.00,9,  -999.0,9,  -999.0,-999.000,9,-999.000,     -999.0,-999.0000,-999.000,     1.8304,-999.000
  316N138_4,       P06C,     136,          1,         15,        115,2,19920621,       2041,   -32.5035,  -157.3232,       5347,  2620.8,   1.9114,  34.6593,2,  34.6582,2,    147.9,2,   147.2,2,  126.84,2,   36.23,2,    0.01,2,    2.56,2,-999.000,5,-999.000,5,  2314.0,2,  -999.0,9,-999.000,9,-999.0000,9, -999.00,9, -999.00,9,  -999.0,9,  -999.0,-999.000,9,-999.000,     -999.0,-999.0000,-999.000,     1.7217,-999.000
  316N138_4,       P06C,     136,          1,         14,        114,2,19920621,       2041,   -32.5035,  -157.3232,       5347,  2824.8,   1.8335,  34.6668,2,  34.6661,2,    149.1,2,   150.3,2,  129.12,2,   35.69,2,    0.01,2,    2.56,2,  -0.002,2,  -0.004,2,  2313.9,2,  -999.0,9,-999.000,9,-999.0000,9, -999.00,9, -999.00,9,  -999.0,9,  -999.0,-999.000,9,-999.000,     -999.0,-999.0000,-999.000,     1.6262,-999.000
  316N138_4,       P06C,     136,          1,         13,        125,2,19920621,       2041,   -32.5035,  -157.3232,       5347,  3025.2,   1.7716,  34.6725,2,  34.6720,2,    152.0,2,   152.5,2,  130.19,2,   35.20,2,    0.01,2,    2.53,2,-999.000,5,-999.000,5,  2312.4,2,  -999.0,9,-999.000,9,-999.0000,9, -999.00,9, -999.00,9,  -999.0,9,  -999.0,-999.000,9,-999.000,     -999.0,-999.0000,-999.000,     1.5464,-999.000
  316N138_4,       P06C,     136,          1,         12,        112,2,19920621,       2041,   -32.5035,  -157.3232,       5347,  3230.0,   1.7135,  34.6810,2,  34.6806,2,    158.5,2,   157.9,2,  128.25,2,   34.39,2,    0.00,2,    2.50,2,-999.000,5,-999.000,5,  2306.6,2,  -999.0,9,-999.000,9,-999.0000,9, -999.00,9, -999.00,9,  -999.0,9,  -999.0,-999.000,9,-999.000,     -999.0,-999.0000,-999.000,     1.4694,-999.000
  316N138_4,       P06C,     136,          1,         11,        129,2,19920621,       2041,   -32.5035,  -157.3232,       5347,  3433.9,   1.6442,  34.6931,2,  34.6930,2,    168.6,2,   168.5,2,  122.82,2,   33.42,2,    0.00,2,    2.42,2,  -0.003,2,  -0.003,2,  2294.0,2,  -999.0,9,-999.000,9,-999.0000,9, -999.00,9, -999.00,9,  -999.0,9,  -999.0,-999.000,9,-999.000,     -999.0,-999.0000,-999.000,     1.3812,-999.000
  316N138_4,       P06C,     136,          1,         10,        110,2,19920621,       2041,   -32.5035,  -157.3232,       5347,  3638.6,   1.5673,  34.7062,2,  34.7054,2,    179.7,2,   180.5,2,  116.80,2,   32.46,2,   -0.01,2,    2.32,2,-999.000,5,-999.000,5,  2280.4,2,  -999.0,9,-999.000,9,-999.0000,9, -999.00,9, -999.00,9,  -999.0,9,  -999.0,-999.000,9,-999.000,     -999.0,-999.0000,-999.000,     1.2850,-999.000
  316N138_4,       P06C,     136,          1,          9,        126,2,19920621,       2041,   -32.5035,  -157.3232,       5347,  3845.1,   1.4611,  34.7137,2,  34.7132,2,    190.8,2,   192.8,2,  114.10,2,   31.92,2,   -0.01,2,    2.29,2,-999.000,5,-999.000,5,  2270.8,2,  -999.0,9,-999.000,9,-999.0000,9, -999.00,9, -999.00,9,  -999.0,9,  -999.0,-999.000,9,-999.000,     -999.0,-999.0000,-999.000,     1.1598,-999.000
  316N138_4,       P06C,     136,          1,          8,        108,2,19920621,       2041,   -32.5035,  -157.3232,       5347,  4048.6,   1.3378,  34.7170,2,  34.7156,2,    197.8,2,   198.8,3,  113.36,2,   31.39,2,   -0.01,2,    2.26,2,   0.001,2,  -0.001,2,  2263.2,2,  -999.0,9,-999.000,9,-999.0000,9, -999.00,9, -999.00,9,  -999.0,9,  -999.0,-999.000,9,-999.000,     -999.0,-999.0000,-999.000,     1.0180,-999.000
  316N138_4,       P06C,     136,          1,          7,        107,2,19920621,       2041,   -32.5035,  -157.3232,       5347,  4255.1,   1.2317,  34.7161,2,  34.7154,2,    202.3,2,   201.4,2,  115.19,2,   31.36,2,   -0.01,2,    2.25,2,-999.000,5,-999.000,5,  2262.0,2,  -999.0,9,-999.000,9,-999.0000,9, -999.00,9, -999.00,9,  -999.0,9,  -999.0,-999.000,9,-999.000,     -999.0,-999.0000,-999.000,     0.8924,-999.000
  316N138_4,       P06C,     136,          1,          6,        180,2,19920621,       2041,   -32.5035,  -157.3232,       5347,  4459.3,   1.1402,  34.7140,2,  34.7144,2,    204.6,2,   203.8,2,  117.16,2,   31.43,2,    0.00,2,    2.26,2,-999.000,5,-999.000,5,  2262.4,2,  -999.0,9,-999.000,9,-999.0000,9, -999.00,9, -999.00,9,  -999.0,9,  -999.0,-999.000,9,-999.000,     -999.0,-999.0000,-999.000,     0.7808,-999.000
  316N138_4,       P06C,     136,          1,          5,        131,2,19920621,       2041,   -32.5035,  -157.3232,       5347,  4662.3,   1.0903,  34.7118,2,  34.7117,2,    206.2,2,   206.1,2,  118.98,2,   31.59,2,    0.00,2,    2.26,2,   0.006,2,   0.009,2,  2262.4,2,  -999.0,9,-999.000,9,-999.0000,9, -999.00,9, -999.00,9,  -999.0,9,  -999.0,-999.000,9,-999.000,     -999.0,-999.0000,-999.000,     0.7094,-999.000
  316N138_4,       P06C,     136,          1,          4,        104,2,19920621,       2041,   -32.5035,  -157.3232,       5347,  4869.0,   1.0675,  34.7116,2,  34.7107,2,    207.1,2,   213.3,4,  119.90,2,   31.71,2,    0.00,2,    2.28,2,-999.000,5,-999.000,5,  2261.6,2,  -999.0,9,-999.000,9,-999.0000,9, -999.00,9, -999.00,9,  -999.0,9,  -999.0,-999.000,9,-999.000,     -999.0,-999.0000,-999.000,     0.6633,-999.000
  316N138_4,       P06C,     136,          1,          3,        130,2,19920621,       2041,   -32.5035,  -157.3232,       5347,  5072.9,   1.0698,  34.7106,2,  34.7089,2,    204.8,2,   208.1,3,  120.67,2,   31.83,2,    0.00,2,    2.27,2,   0.003,2,  -0.002,2,  2262.2,2,  -999.0,9,-999.000,9,-999.0000,9, -999.00,9, -999.00,9,  -999.0,9,  -999.0,-999.000,9,-999.000,     -999.0,-999.0000,-999.000,     0.6412,-999.000
  316N138_4,       P06C,     136,          1,          2,        135,2,19920621,       2041,   -32.5035,  -157.3232,       5347,  5276.9,   1.0878,  34.7096,2,  34.7093,2,    204.0,2,   206.8,2,  120.69,2,   31.99,2,    0.00,2,    2.26,2,   0.006,2,-999.000,9,  2262.9,2,  -999.0,9,-999.000,9,-999.0000,9, -999.00,9, -999.00,9,  -999.0,9,  -999.0,-999.000,9,-999.000,     -999.0,-999.0000,-999.000,     0.6338,-999.000
  316N138_4,       P06C,     136,          1,          1,        134,2,19920621,       2041,   -32.5035,  -157.3232,       5347,  5449.7,   1.1092,  34.7100,2,  34.7107,2,    203.0,2,   207.0,2,  120.79,2,   32.19,2,    0.00,2,    2.26,2,   0.006,2,   0.006,2,  2262.6,6,  -999.0,9,-999.000,9,-999.0000,9, -999.00,9, -999.00,9,  -999.0,9,  -999.0,-999.000,9,-999.000,     -999.0,-999.0000,-999.000,     0.6330,-999.000