BOTTLE,20211025CCHSIORKP
EXPOCODE,SECT_ID,STNNBR,CASTNO,SAMPNO,BTLNBR,BTLNBR_FLAG_W,DATE,TIME,LATITUDE,LONGITUDE,DEPTH,CTDPRS,CTDTMP,CTDSAL,CTDSAL_FLAG_W,SALNTY,SALNTY_FLAG_W,CTDOXY,CTDOXY_FLAG_W,OXYGEN,OXYGEN_FLAG_W,SILCAT,SILCAT_FLAG_W,NITRAT,NITRAT_FLAG_W,NITRIT,NITRIT_FLAG_W,PHSPHT,PHSPHT_FLAG_W,CFC-11,CFC-11_FLAG_W,CFC-12,CFC-12_FLAG_W,TCARBN,TCARBN_FLAG_W,PCO2,PCO2_FLAG_W,TRITUM,TRITUM_FLAG_W,HELIUM,HELIUM_FLAG_W,DELHE3,DELHE3_FLAG_W,DELC13,DELC13_FLAG_W,DELC14,DELC14_FLAG_W,C14ERR,NEON,NEON_FLAG_W,NEONER,PCO2TMP,HELIER,DELHER,THETA,TRITER
,,,,,,,,,,,METERS,DBAR,ITS-90,PSS-78,,PSS-78,,UMOL/KG,,UMOL/KG,,UMOL/KG,,UMOL/KG,,UMOL/KG,,UMOL/KG,,PMOL/KG,,PMOL/KG,,UMOL/KG,,UATM,,TU,,NMOL/KG,,PERCNT,,/MILLE,,/MILLE,,/MILLE,NMOL/KG,,NMOL/KG,DEG_C,NMOL/KG,PERCNT,ITS-90,TU
  316N138_4,       P06C,     178,          1,         36,    02-9121,2,19920702,       2115,   -32.5002,  -178.4647,       4342,    20.5,  16.5726,  35.5787,2,  35.5784,2,    233.3,2,   234.8,2,    1.34,2,    1.48,2,    0.17,2, -999.00,5,-999.000,5,-999.000,5,  -999.0,9,  -999.0,9,-999.000,9,-999.0000,9, -999.00,9, -999.00,9,  -999.0,9,  -999.0,-999.000,9,-999.000,     -999.0,-999.0000,-999.000,    16.5693,-999.000
  316N138_4,       P06C,     178,          1,         35,    02-9454,2,19920702,       2115,   -32.5002,  -178.4647,       4342,    58.2,  16.5718,  35.5782,2,  35.5766,2,    236.0,2,   235.5,2,    1.33,2,    1.43,2,    0.17,2, -999.00,5,-999.000,5,-999.000,5,  -999.0,9,  -999.0,9,-999.000,9,-999.0000,9, -999.00,9, -999.00,9,  -999.0,9,  -999.0,-999.000,9,-999.000,     -999.0,-999.0000,-999.000,    16.5624,-999.000
  316N138_4,       P06C,     178,          1,         34,    02-9457,2,19920702,       2115,   -32.5002,  -178.4647,       4342,   104.4,  16.5515,  35.5751,2,  35.5744,2,    236.5,2,   233.9,2,    1.33,2,    1.35,2,    0.17,2, -999.00,5,-999.000,5,-999.000,5,  -999.0,9,  -999.0,9,-999.000,9,-999.0000,9, -999.00,9, -999.00,9,  -999.0,9,  -999.0,-999.000,9,-999.000,     -999.0,-999.0000,-999.000,    16.5346,-999.000
  316N138_4,       P06C,     178,          1,         33,    02-5367,2,19920702,       2115,   -32.5002,  -178.4647,       4342,   152.7,  16.3602,  35.5407,2,  35.5338,2,    233.9,2,   233.0,2,    1.33,2,    1.53,2,    0.25,2, -999.00,5,-999.000,5,-999.000,5,  -999.0,9,  -999.0,9,-999.000,9,-999.0000,9, -999.00,9, -999.00,9,  -999.0,9,  -999.0,-999.000,9,-999.000,     -999.0,-999.0000,-999.000,    16.3356,-999.000
  316N138_4,       P06C,     178,          1,         32,    02-9540,2,19920702,       2115,   -32.5002,  -178.4647,       4342,   202.3,  14.5774,  35.3340,2,  35.3165,2,    213.0,2,   201.6,2,    3.07,2,    8.03,2,    0.00,2, -999.00,5,-999.000,5,-999.000,5,  -999.0,9,  -999.0,9,-999.000,9,-999.0000,9, -999.00,9, -999.00,9,  -999.0,9,  -999.0,-999.000,9,-999.000,     -999.0,-999.0000,-999.000,    14.5473,-999.000
  316N138_4,       P06C,     178,          1,         31,    02-9539,2,19920702,       2115,   -32.5002,  -178.4647,       4342,   252.9,  13.5789,  35.2170,2,  35.2140,2,    202.1,2,   202.2,2,    3.45,2,    9.62,2,    0.00,2, -999.00,5,-999.000,5,-999.000,5,  -999.0,9,  -999.0,9,-999.000,9,-999.0000,9, -999.00,9, -999.00,9,  -999.0,9,  -999.0,-999.000,9,-999.000,     -999.0,-999.0000,-999.000,    13.5430,-999.000
  316N138_4,       P06C,     178,          1,         30,    02-9456,2,19920702,       2115,   -32.5002,  -178.4647,       4342,   302.1,  12.4743,  35.0793,2,  35.0762,2,    200.5,2,   197.8,2,    4.41,2,   12.15,2,    0.00,2, -999.00,5,-999.000,5,-999.000,5,  -999.0,9,  -999.0,9,-999.000,9,-999.0000,9, -999.00,9, -999.00,9,  -999.0,9,  -999.0,-999.000,9,-999.000,     -999.0,-999.0000,-999.000,    12.4336,-999.000
  316N138_4,       P06C,     178,          1,         29,    02-9458,2,19920702,       2115,   -32.5002,  -178.4647,       4342,   351.0,  11.3877,  34.9345,2,  34.9319,2,    198.8,2,   197.7,2,    5.18,2,   14.47,2,    0.00,2, -999.00,5,-999.000,5,-999.000,5,  -999.0,9,  -999.0,9,-999.000,9,-999.0000,9, -999.00,9, -999.00,9,  -999.0,9,  -999.0,-999.000,9,-999.000,     -999.0,-999.0000,-999.000,    11.3432,-999.000
  316N138_4,       P06C,     178,          1,         28,    02-9545,2,19920702,       2115,   -32.5002,  -178.4647,       4342,   401.5,  10.4396,  34.8161,2,  34.8151,2,    198.9,2,   198.3,2,    5.96,2,   16.41,2,    0.00,2, -999.00,5,-999.000,5,-999.000,5,  -999.0,9,  -999.0,9,-999.000,9,-999.0000,9, -999.00,9, -999.00,9,  -999.0,9,  -999.0,-999.000,9,-999.000,     -999.0,-999.0000,-999.000,    10.3914,-999.000
  316N138_4,       P06C,     178,          1,         27,    02-9453,2,19920702,       2115,   -32.5002,  -178.4647,       4342,   503.7,   8.9901,  34.6438,2,  34.6435,2,    205.2,2,   206.2,2,    7.31,2,   19.28,2,    0.00,2, -999.00,5,-999.000,5,-999.000,5,  -999.0,9,  -999.0,9,-999.000,9,-999.0000,9, -999.00,9, -999.00,9,  -999.0,9,  -999.0,-999.000,9,-999.000,     -999.0,-999.0000,-999.000,     8.9348,-999.000
  316N138_4,       P06C,     178,          1,         26,    02-9544,2,19920702,       2115,   -32.5002,  -178.4647,       4342,   607.2,   7.8700,  34.5131,2,  34.5137,2,    215.0,2,   217.8,2,    7.50,2,   21.10,2,    0.00,2, -999.00,5,-999.000,5,-999.000,5,  -999.0,9,  -999.0,9,-999.000,9,-999.0000,9, -999.00,9, -999.00,9,  -999.0,9,  -999.0,-999.000,9,-999.000,     -999.0,-999.0000,-999.000,     7.8079,-999.000
  316N138_4,       P06C,     178,          1,         25,    02-9455,2,19920702,       2115,   -32.5002,  -178.4647,       4342,   708.1,   7.0903,  34.4330,2,  34.4322,2,    225.1,2,   224.1,2,    8.85,2,   22.68,2,    0.01,2, -999.00,5,-999.000,5,-999.000,5,  -999.0,9,  -999.0,9,-999.000,9,-999.0000,9, -999.00,9, -999.00,9,  -999.0,9,  -999.0,-999.000,9,-999.000,     -999.0,-999.0000,-999.000,     7.0216,-999.000
  316N138_4,       P06C,     178,          1,         24,        132,2,19920702,       2115,   -32.5002,  -178.4647,       4342,   809.3,   6.6014,  34.4038,2,  34.4049,2,    222.9,2,   220.8,2,   12.14,2,   24.41,2,    0.00,2, -999.00,5,-999.000,5,-999.000,5,  -999.0,9,  -999.0,9,-999.000,9,-999.0000,9, -999.00,9, -999.00,9,  -999.0,9,  -999.0,-999.000,9,-999.000,     -999.0,-999.0000,-999.000,     6.5254,-999.000
  316N138_4,       P06C,     178,          1,         23,        123,2,19920702,       2115,   -32.5002,  -178.4647,       4342,   908.1,   6.0356,  34.3737,2,  34.3768,2,    217.0,2,   214.0,2,   16.97,2,   26.36,2,    0.00,2, -999.00,5,-999.000,5,-999.000,5,  -999.0,9,  -999.0,9,-999.000,9,-999.0000,9, -999.00,9, -999.00,9,  -999.0,9,  -999.0,-999.000,9,-999.000,     -999.0,-999.0000,-999.000,     5.9535,-999.000
  316N138_4,       P06C,     178,          1,         22,        128,3,19920702,       2115,   -32.5002,  -178.4647,       4342,  1008.8,   5.5622,  34.3850,2,  34.3855,2,    205.8,2,   201.7,2,   24.31,2,   28.14,2,    0.00,2, -999.00,5,-999.000,5,-999.000,5,  -999.0,9,  -999.0,9,-999.000,9,-999.0000,9, -999.00,9, -999.00,9,  -999.0,9,  -999.0,-999.000,9,-999.000,     -999.0,-999.0000,-999.000,     5.4740,-999.000
  316N138_4,       P06C,     178,          1,         21,        121,2,19920702,       2115,   -32.5002,  -178.4647,       4342,  1158.7,   4.7725,  34.4143,2,  34.4102,2,    193.3,3,   187.4,2,   38.61,2,   30.58,2,    0.01,2, -999.00,5,-999.000,5,-999.000,5,  -999.0,9,  -999.0,9,-999.000,9,-999.0000,9, -999.00,9, -999.00,9,  -999.0,9,  -999.0,-999.000,9,-999.000,     -999.0,-999.0000,-999.000,     4.6768,-999.000
  316N138_4,       P06C,     178,          1,         20,        120,2,19920702,       2115,   -32.5002,  -178.4647,       4342,  1309.6,   3.8529,  34.4371,2,  34.4392,2,    183.4,3,   177.3,2,   53.50,2,   32.78,2,    0.00,2, -999.00,5,-999.000,5,-999.000,5,  -999.0,9,  -999.0,9,-999.000,9,-999.0000,9, -999.00,9, -999.00,9,  -999.0,9,  -999.0,-999.000,9,-999.000,     -999.0,-999.0000,-999.000,     3.7523,-999.000
  316N138_4,       P06C,     178,          1,         19,        133,2,19920702,       2115,   -32.5002,  -178.4647,       4342,  1462.3,   3.2951,  34.4881,2,  34.4868,2,    173.4,3,   168.6,2,   67.40,2,   33.91,2,    0.00,2, -999.00,5,-999.000,5,-999.000,5,  -999.0,9,  -999.0,9,-999.000,9,-999.0000,9, -999.00,9, -999.00,9,  -999.0,9,  -999.0,-999.000,9,-999.000,     -999.0,-999.0000,-999.000,     3.1872,-999.000
  316N138_4,       P06C,     178,          1,         18,        118,2,19920702,       2115,   -32.5002,  -178.4647,       4342,  1613.5,   2.9451,  34.5449,2,  34.5457,2,    164.8,2,   160.5,2,   83.05,2,   34.56,2,    0.00,2, -999.00,5,-999.000,5,-999.000,5,  -999.0,9,  -999.0,9,-999.000,9,-999.0000,9, -999.00,9, -999.00,9,  -999.0,9,  -999.0,-999.000,9,-999.000,     -999.0,-999.0000,-999.000,     2.8285,-999.000
  316N138_4,       P06C,     178,          1,         17,        117,2,19920702,       2115,   -32.5002,  -178.4647,       4342,  1765.1,   2.7325,  34.5726,2,  34.5726,2,    159.5,2,   155.8,2,   91.93,2,   35.01,2,    0.00,2, -999.00,5,-999.000,5,-999.000,5,  -999.0,9,  -999.0,9,-999.000,9,-999.0000,9, -999.00,9, -999.00,9,  -999.0,9,  -999.0,-999.000,9,-999.000,     -999.0,-999.0000,-999.000,     2.6057,-999.000
  316N138_4,       P06C,     178,          1,         16,        116,2,19920702,       2115,   -32.5002,  -178.4647,       4342,  1915.4,   2.6398,  34.6017,2,  34.6036,2,    154.5,2,   155.9,2,   99.85,2,   34.74,2,    0.00,2, -999.00,5,-999.000,5,-999.000,5,  -999.0,9,  -999.0,9,-999.000,9,-999.0000,9, -999.00,9, -999.00,9,  -999.0,9,  -999.0,-999.000,9,-999.000,     -999.0,-999.0000,-999.000,     2.5012,-999.000
  316N138_4,       P06C,     178,          1,         15,        115,2,19920702,       2115,   -32.5002,  -178.4647,       4342,  2069.0,   2.4446,  34.6224,2,  34.6223,2,    153.4,2,   154.2,2,  106.02,2,   34.92,2,    0.00,2, -999.00,5,-999.000,5,-999.000,5,  -999.0,9,  -999.0,9,-999.000,9,-999.0000,9, -999.00,9, -999.00,9,  -999.0,9,  -999.0,-999.000,9,-999.000,     -999.0,-999.0000,-999.000,     2.2953,-999.000
  316N138_4,       P06C,     178,          1,         14,        114,2,19920702,       2115,   -32.5002,  -178.4647,       4342,  2222.1,   2.2567,  34.6417,2,  34.6423,2,    155.5,2,   154.1,2,  112.58,2,   35.10,2,    0.01,2, -999.00,5,-999.000,5,-999.000,5,  -999.0,9,  -999.0,9,-999.000,9,-999.0000,9, -999.00,9, -999.00,9,  -999.0,9,  -999.0,-999.000,9,-999.000,     -999.0,-999.0000,-999.000,     2.0969,-999.000
  316N138_4,       P06C,     178,          1,         13,        125,2,19920702,       2115,   -32.5002,  -178.4647,       4342,  2373.3,   2.1392,  34.6512,2,  34.6506,2,    154.5,2,   152.7,2,  115.67,2,   35.25,2,    0.01,2, -999.00,5,-999.000,5,-999.000,5,  -999.0,9,  -999.0,9,-999.000,9,-999.0000,9, -999.00,9, -999.00,9,  -999.0,9,  -999.0,-999.000,9,-999.000,     -999.0,-999.0000,-999.000,     1.9679,-999.000
  316N138_4,       P06C,     178,          1,         12,        112,2,19920702,       2115,   -32.5002,  -178.4647,       4342,  2525.1,   1.9644,  34.6694,2,  34.6671,2,    156.1,2,   156.8,2,  117.02,2,   34.97,2,    0.01,2, -999.00,5,-999.000,5,-999.000,5,  -999.0,9,  -999.0,9,-999.000,9,-999.0000,9, -999.00,9, -999.00,9,  -999.0,9,  -999.0,-999.000,9,-999.000,     -999.0,-999.0000,-999.000,     1.7824,-999.000
  316N138_4,       P06C,     178,          1,         11,        129,2,19920702,       2115,   -32.5002,  -178.4647,       4342,  2678.3,   1.8315,  34.6930,2,  34.6930,2,    167.1,3,   172.0,2,  111.21,2,   33.84,2,    0.01,2, -999.00,5,-999.000,5,-999.000,5,  -999.0,9,  -999.0,9,-999.000,9,-999.0000,9, -999.00,9, -999.00,9,  -999.0,9,  -999.0,-999.000,9,-999.000,     -999.0,-999.0000,-999.000,     1.6378,-999.000
  316N138_4,       P06C,     178,          1,         10,        110,2,19920702,       2115,   -32.5002,  -178.4647,       4342,  2830.1,   1.7283,  34.7135,2,  34.7136,2,    179.4,2,   182.6,2,  105.02,2,   32.67,2,    0.01,2, -999.00,5,-999.000,5,-999.000,5,  -999.0,9,  -999.0,9,-999.000,9,-999.0000,9, -999.00,9, -999.00,9,  -999.0,9,  -999.0,-999.000,9,-999.000,     -999.0,-999.0000,-999.000,     1.5225,-999.000
  316N138_4,       P06C,     178,          1,          9,        126,2,19920702,       2115,   -32.5002,  -178.4647,       4342,  2982.8,   1.6079,  34.7234,2,  34.7235,2,    188.4,2,   191.7,2,  103.86,2,   32.12,2,    0.01,2, -999.00,5,-999.000,5,-999.000,5,  -999.0,9,  -999.0,9,-999.000,9,-999.0000,9, -999.00,9, -999.00,9,  -999.0,9,  -999.0,-999.000,9,-999.000,     -999.0,-999.0000,-999.000,     1.3901,-999.000
  316N138_4,       P06C,     178,          1,          8,        108,2,19920702,       2115,   -32.5002,  -178.4647,       4342,  3133.1,   1.5091,  34.7257,2,  34.7252,2,    195.8,2,   196.5,2,  105.20,2,   31.94,2,    0.01,2, -999.00,5,-999.000,5,-999.000,5,  -999.0,9,  -999.0,9,-999.000,9,-999.0000,9, -999.00,9, -999.00,9,  -999.0,9,  -999.0,-999.000,9,-999.000,     -999.0,-999.0000,-999.000,     1.2791,-999.000
  316N138_4,       P06C,     178,          1,          7,        107,2,19920702,       2115,   -32.5002,  -178.4647,       4342,  3336.2,   1.3504,  34.7245,2,  34.7254,2,    199.1,2,   199.7,2,  108.28,2,   31.90,2,    0.01,2, -999.00,5,-999.000,5,-999.000,5,  -999.0,9,  -999.0,9,-999.000,9,-999.0000,9, -999.00,9, -999.00,9,  -999.0,9,  -999.0,-999.000,9,-999.000,     -999.0,-999.0000,-999.000,     1.1041,-999.000
  316N138_4,       P06C,     178,          1,          6,        180,2,19920702,       2115,   -32.5002,  -178.4647,       4342,  3538.1,   1.2270,  34.7200,2,  34.7221,2,    202.0,2,   201.0,2,  111.56,2,   31.91,2,    0.00,2, -999.00,5,-999.000,5,-999.000,5,  -999.0,9,  -999.0,9,-999.000,9,-999.0000,9, -999.00,9, -999.00,9,  -999.0,9,  -999.0,-999.000,9,-999.000,     -999.0,-999.0000,-999.000,     0.9638,-999.000
  316N138_4,       P06C,     178,          1,          5,        131,2,19920702,       2115,   -32.5002,  -178.4647,       4342,  3739.9,   1.1120,  34.7169,2,  34.7170,2,    203.8,2,   203.9,2,  115.22,2,   31.91,2,    0.00,2, -999.00,5,-999.000,5,-999.000,5,  -999.0,9,  -999.0,9,-999.000,9,-999.0000,9, -999.00,9, -999.00,9,  -999.0,9,  -999.0,-999.000,9,-999.000,     -999.0,-999.0000,-999.000,     0.8311,-999.000
  316N138_4,       P06C,     178,          1,          4,        104,2,19920702,       2115,   -32.5002,  -178.4647,       4342,  3941.0,   1.0228,  34.7126,2,  34.7148,2,    205.6,2,   208.1,3,  118.11,2,   31.87,2,    0.00,2, -999.00,5,-999.000,5,-999.000,5,  -999.0,9,  -999.0,9,-999.000,9,-999.0000,9, -999.00,9, -999.00,9,  -999.0,9,  -999.0,-999.000,9,-999.000,     -999.0,-999.0000,-999.000,     0.7234,-999.000
  316N138_4,       P06C,     178,          1,          3,        130,2,19920702,       2115,   -32.5002,  -178.4647,       4342,  4143.0,   1.0254,  34.7122,2,  34.7146,2,    206.0,2,   205.6,2,  118.50,2,   31.84,2,    0.00,2, -999.00,5,-999.000,5,-999.000,5,  -999.0,9,  -999.0,9,-999.000,9,-999.0000,9, -999.00,9, -999.00,9,  -999.0,9,  -999.0,-999.000,9,-999.000,     -999.0,-999.0000,-999.000,     0.7044,-999.000
  316N138_4,       P06C,     178,          1,          2,        135,2,19920702,       2115,   -32.5002,  -178.4647,       4342,  4343.4,   1.0379,  34.7119,2,-999.0000,9,    206.1,2,  -999.0,9, -999.00,9, -999.00,9, -999.00,9, -999.00,9,-999.000,5,-999.000,5,  -999.0,9,  -999.0,9,-999.000,9,-999.0000,9, -999.00,9, -999.00,9,  -999.0,9,  -999.0,-999.000,9,-999.000,     -999.0,-999.0000,-999.000,     0.6946,-999.000
  316N138_4,       P06C,     178,          1,          1,        134,2,19920702,       2115,   -32.5002,  -178.4647,       4342,  4470.8,   1.0460,  34.7115,2,  34.7123,2,    206.2,2,   206.3,2,  118.95,2,   31.98,2,    0.00,2, -999.00,5,-999.000,5,-999.000,5,  -999.0,9,  -999.0,9,-999.000,9,-999.0000,9, -999.00,9, -999.00,9,  -999.0,9,  -999.0,-999.000,9,-999.000,     -999.0,-999.0000,-999.000,     0.6883,-999.000