BOTTLE,20211025CCHSIORKP
EXPOCODE,SECT_ID,STNNBR,CASTNO,SAMPNO,BTLNBR,BTLNBR_FLAG_W,DATE,TIME,LATITUDE,LONGITUDE,DEPTH,CTDPRS,CTDTMP,CTDSAL,CTDSAL_FLAG_W,SALNTY,SALNTY_FLAG_W,CTDOXY,CTDOXY_FLAG_W,OXYGEN,OXYGEN_FLAG_W,SILCAT,SILCAT_FLAG_W,NITRAT,NITRAT_FLAG_W,NITRIT,NITRIT_FLAG_W,PHSPHT,PHSPHT_FLAG_W,CFC-11,CFC-11_FLAG_W,CFC-12,CFC-12_FLAG_W,TCARBN,TCARBN_FLAG_W,PCO2,PCO2_FLAG_W,TRITUM,TRITUM_FLAG_W,HELIUM,HELIUM_FLAG_W,DELHE3,DELHE3_FLAG_W,DELC13,DELC13_FLAG_W,DELC14,DELC14_FLAG_W,C14ERR,NEON,NEON_FLAG_W,NEONER,PCO2TMP,HELIER,DELHER,THETA,TRITER
,,,,,,,,,,,METERS,DBAR,ITS-90,PSS-78,,PSS-78,,UMOL/KG,,UMOL/KG,,UMOL/KG,,UMOL/KG,,UMOL/KG,,UMOL/KG,,PMOL/KG,,PMOL/KG,,UMOL/KG,,UATM,,TU,,NMOL/KG,,PERCNT,,/MILLE,,/MILLE,,/MILLE,NMOL/KG,,NMOL/KG,DEG_C,NMOL/KG,PERCNT,ITS-90,TU
  316N138_4,       P06C,     140,          1,         36,    02-9121,2,19920623,       0141,   -32.5010,  -160.4832,       5532,    21.3,  17.5290,  35.4228,2,  35.4210,2,    260.4,3,   234.9,2,    0.42,2,    0.04,2,    0.00,2,    0.12,2,   2.656,2,-999.000,9,  2032.5,6,  -999.0,9,-999.000,9,-999.0000,9, -999.00,9,    1.42,2,   111.1,2,     3.6,-999.000,9,-999.000,     -999.0,-999.0000,-999.000,    17.5254,-999.000
  316N138_4,       P06C,     140,          1,         35,    02-9454,2,19920623,       0141,   -32.5010,  -160.4832,       5532,    61.2,  17.5343,  35.4229,2,  35.4204,2,    238.1,2,   237.2,2,    0.43,2,    0.03,2,    0.00,2,    0.13,2,   2.666,6,   1.284,6,  2032.8,2,  -999.0,9,-999.000,9,-999.0000,9, -999.00,9, -999.00,9,  -999.0,9,  -999.0,-999.000,9,-999.000,     -999.0,-999.0000,-999.000,    17.5240,-999.000
  316N138_4,       P06C,     140,          1,         34,    02-9457,2,19920623,       0141,   -32.5010,  -160.4832,       5532,   111.7,  17.0647,  35.4034,2,  35.3705,2,    238.8,2,   236.4,2,    0.43,2,    0.10,2,    0.02,2,    0.17,2,   2.716,2,   1.325,2,  2038.4,2,  -999.0,9,-999.000,9,-999.0000,9, -999.00,9,    1.20,3,   117.4,2,     3.8,-999.000,9,-999.000,     -999.0,-999.0000,-999.000,    17.0461,-999.000
  316N138_4,       P06C,     140,          1,         33,    02-5367,2,19920623,       0141,   -32.5010,  -160.4832,       5532,   160.4,  15.2605,  35.2676,2,  35.2737,2,    228.2,2,   230.2,2,    0.88,2,    2.76,2,    0.02,2,    0.35,2,   2.702,2,   1.276,2,  2061.6,2,  -999.0,9,-999.000,9,-999.0000,9, -999.00,9, -999.00,9,  -999.0,9,  -999.0,-999.000,9,-999.000,     -999.0,-999.0000,-999.000,    15.2359,-999.000
  316N138_4,       P06C,     140,          1,         32,    02-9540,2,19920623,       0141,   -32.5010,  -160.4832,       5532,   210.8,  14.3862,  35.2059,2,  35.1849,2,    209.4,2,   213.1,2,    1.48,2,    5.56,2,    0.00,2,    0.54,2,   2.512,2,   1.239,2,  2077.9,2,  -999.0,9,-999.000,9,-999.0000,9, -999.00,9,    1.12,2,   106.6,2,    10.6,-999.000,9,-999.000,     -999.0,-999.0000,-999.000,    14.3552,-999.000
  316N138_4,       P06C,     140,          1,         31,    02-9539,2,19920623,       0141,   -32.5010,  -160.4832,       5532,   310.6,  11.2269,  34.8369,2,  34.8462,2,    204.1,2,   204.9,2,    3.13,2,   13.07,2,    0.00,2,    0.96,2,   2.042,2,   0.980,2,  2109.3,2,  -999.0,9,-999.000,9,-999.0000,9, -999.00,9,    1.14,2,    80.0,2,     6.4,-999.000,9,-999.000,     -999.0,-999.0000,-999.000,    11.1880,-999.000
  316N138_4,       P06C,     140,          1,         30,    02-9456,2,19920623,       0141,   -32.5010,  -160.4832,       5532,   408.4,   8.8267,  34.5734,2,  34.5753,2,    220.3,2,   222.3,2,    4.35,2,   17.92,2,    0.00,2,    1.23,2,   1.955,2,   0.933,2,  2123.1,2,  -999.0,9,-999.000,9,-999.0000,9, -999.00,9,    1.20,2,    49.0,2,     3.5,-999.000,9,-999.000,     -999.0,-999.0000,-999.000,     8.7825,-999.000
  316N138_4,       P06C,     140,          1,         29,    02-9458,2,19920623,       0141,   -32.5010,  -160.4832,       5532,   512.0,   7.7744,  34.4792,2,  34.4793,2,    233.5,2,   233.3,2,    5.55,2,   20.18,2,    0.00,2,    1.38,2,   1.754,2,   0.833,2,  2127.3,2,  -999.0,9,-999.000,9,-999.0000,9, -999.00,9, -999.00,9,  -999.0,9,  -999.0,-999.000,9,-999.000,     -999.0,-999.0000,-999.000,     7.7228,-999.000
  316N138_4,       P06C,     140,          1,         28,    02-9545,2,19920623,       0141,   -32.5010,  -160.4832,       5532,   612.3,   7.1442,  34.4264,2,  34.4273,2,    240.7,2,   236.5,2,    6.91,2,   21.69,2,    0.00,2,    1.47,2,   1.323,2,   0.665,2,  2129.3,2,  -999.0,9,-999.000,9,-999.0000,9, -999.00,9,    1.15,2,    14.9,2,     3.3,-999.000,9,-999.000,     -999.0,-999.0000,-999.000,     7.0850,-999.000
  316N138_4,       P06C,     140,          1,         27,    02-9453,2,19920623,       0141,   -32.5010,  -160.4832,       5532,   711.7,   6.7306,  34.3887,2,  34.3878,2,    239.6,2,   235.8,2,    8.25,2,   22.95,2,    0.01,2,    1.53,2,   0.907,2,   0.466,2,  2133.5,2,  -999.0,9,-999.000,9,-999.0000,9, -999.00,9,    1.11,2,    -6.9,2,     3.3,-999.000,9,-999.000,     -999.0,-999.0000,-999.000,     6.6636,-999.000
  316N138_4,       P06C,     140,          1,         26,    02-9544,2,19920623,       0141,   -32.5010,  -160.4832,       5532,   813.9,   6.1348,  34.3491,2,  34.3468,2,    236.3,2,   232.1,2,   11.41,2,   24.94,2,    0.00,2,    1.67,2,   0.541,2,   0.297,2,  2142.6,2,  -999.0,9,-999.000,9,-999.0000,9, -999.00,9,    1.21,2,   -43.2,2,     4.2,-999.000,9,-999.000,     -999.0,-999.0000,-999.000,     6.0613,-999.000
  316N138_4,       P06C,     140,          1,         25,    02-9455,2,19920623,       0141,   -32.5010,  -160.4832,       5532,   910.9,   5.6340,  34.3207,2,  34.3276,2,    224.7,2,   225.5,2,   16.07,2,   27.00,2,   -0.01,2,    1.79,2,   0.310,2,   0.158,2,  2155.1,2,  -999.0,9,-999.000,9,-999.0000,9, -999.00,9, -999.00,9,  -999.0,9,  -999.0,-999.000,9,-999.000,     -999.0,-999.0000,-999.000,     5.5547,-999.000
  316N138_4,       P06C,     140,          1,         24,        132,2,19920623,       0141,   -32.5010,  -160.4832,       5532,  1100.1,   4.5093,  34.3374,2,  34.3384,2,    201.8,2,   199.9,2,   31.22,2,   30.94,2,   -0.01,2,    2.06,2,   0.113,6,   0.058,6,  2187.4,2,  -999.0,9,-999.000,9,-999.0000,9, -999.00,9,    0.89,2,  -113.2,2,     5.6,-999.000,9,-999.000,     -999.0,-999.0000,-999.000,     4.4213,-999.000
  316N138_4,       P06C,     140,          1,         23,        123,2,19920623,       0141,   -32.5010,  -160.4832,       5532,  1299.1,   3.4520,  34.4164,2,  34.4147,2,    181.9,2,   183.2,2,   52.82,2,   33.73,2,   -0.01,2,    2.27,2,   0.008,2,   0.008,2,  2222.8,2,  -999.0,9,-999.000,9,-999.0000,9, -999.00,9,    0.69,4,  -999.0,9,  -999.0,-999.000,9,-999.000,     -999.0,-999.0000,-999.000,     3.3564,-999.000
  316N138_4,       P06C,     140,          1,         22,        128,2,19920623,       0141,   -32.5010,  -160.4832,       5532,  1492.2,   2.9163,  34.5032,2,  34.5034,2,    169.0,2,   168.7,2,   71.73,2,   34.62,2,   -0.01,2,    2.37,2,-999.000,5,-999.000,5,  2248.4,2,  -999.0,9,-999.000,9,-999.0000,9, -999.00,9,    0.49,2,  -155.8,2,     4.9,-999.000,9,-999.000,     -999.0,-999.0000,-999.000,     2.8103,-999.000
  316N138_4,       P06C,     140,          1,         21,        121,2,19920623,       0141,   -32.5010,  -160.4832,       5532,  1694.2,   2.5706,  34.5794,2,  34.5800,2,    159.3,2,   157.7,2,   91.68,2,   35.19,2,   -0.01,2,    2.43,2,-999.000,5,-999.000,5,  2272.7,2,  -999.0,9,-999.000,9,-999.0000,9, -999.00,9,    0.33,2,  -174.3,2,     4.2,-999.000,9,-999.000,     -999.0,-999.0000,-999.000,     2.4518,-999.000
  316N138_4,       P06C,     140,          1,         20,        120,2,19920623,       0141,   -32.5010,  -160.4832,       5532,  1894.1,   2.3738,  34.6135,2,  34.6130,2,    153.3,2,   153.3,2,  103.85,2,   35.48,2,   -0.01,2,    2.49,2,   0.012,2,  -0.001,2,  2285.7,2,  -999.0,9,-999.000,9,-999.0000,9, -999.00,9,    0.26,3,  -190.8,2,     2.8,-999.000,9,-999.000,     -999.0,-999.0000,-999.000,     2.2409,-999.000
  316N138_4,       P06C,     140,          1,         19,        133,2,19920623,       0141,   -32.5010,  -160.4832,       5532,  2101.7,   2.1977,  34.6331,2,  34.6323,2,    149.5,2,   148.3,2,  114.05,2,   35.84,2,   -0.01,2,    2.52,2,-999.000,5,-999.000,5,  2298.9,2,  -999.0,9,-999.000,9,-999.0000,9, -999.00,9,    0.18,2,  -208.6,2,     3.5,-999.000,9,-999.000,     -999.0,-999.0000,-999.000,     2.0495,-999.000
  316N138_4,       P06C,     140,          1,         18,        118,2,19920623,       0141,   -32.5010,  -160.4832,       5532,  2304.8,   2.0793,  34.6458,2,  34.6455,2,    147.7,2,   146.6,2,  120.06,2,   36.04,2,    0.00,2,    2.54,2,   0.002,2,   0.004,2,  2305.7,6,  -999.0,9,-999.000,9,-999.0000,9, -999.00,9,    0.12,2,  -213.7,2,     2.9,-999.000,9,-999.000,     -999.0,-999.0000,-999.000,     1.9152,-999.000
  316N138_4,       P06C,     140,          1,         17,        117,2,19920623,       0141,   -32.5010,  -160.4832,       5532,  2507.1,   1.9889,  34.6529,2,  34.6519,2,    147.2,2,   146.7,2,  124.27,2,   36.19,2,    0.00,2,    2.55,2,-999.000,5,-999.000,5,  2307.8,2,  -999.0,9,-999.000,9,-999.0000,9, -999.00,9,    0.12,2,  -220.0,2,     7.5,-999.000,9,-999.000,     -999.0,-999.0000,-999.000,     1.8082,-999.000
  316N138_4,       P06C,     140,          1,         16,        116,2,19920623,       0141,   -32.5010,  -160.4832,       5532,  2709.1,   1.9122,  34.6597,2,  34.6588,2,    148.1,2,   147.3,2,  127.13,2,   36.18,2,    0.01,2,    2.55,2,  -0.002,2,  -0.004,2,  2311.9,2,  -999.0,9,-999.000,9,-999.0000,9, -999.00,9,    0.12,2,  -219.6,2,     7.2,-999.000,9,-999.000,     -999.0,-999.0000,-999.000,     1.7143,-999.000
  316N138_4,       P06C,     140,          1,         15,        115,2,19920623,       0141,   -32.5010,  -160.4832,       5532,  2909.5,   1.8371,  34.6673,2,  34.6663,2,    149.9,2,   149.5,2,  129.11,2,   36.05,2,    0.02,2,    2.55,2,-999.000,5,-999.000,5,  2311.8,2,  -999.0,9,-999.000,9,-999.0000,9, -999.00,9,    0.11,2,  -232.2,2,     4.8,-999.000,9,-999.000,     -999.0,-999.0000,-999.000,     1.6216,-999.000
  316N138_4,       P06C,     140,          1,         14,        114,2,19920623,       0141,   -32.5010,  -160.4832,       5532,  3108.1,   1.7590,  34.6756,2,  34.6737,2,    153.9,2,   153.4,2,  128.96,2,   35.72,2,    0.01,2,    2.53,2,   0.000,2,  -0.002,2,  2309.3,2,  -999.0,9,-999.000,9,-999.0000,9, -999.00,9,    0.08,2,  -219.0,2,     3.1,-999.000,9,-999.000,     -999.0,-999.0000,-999.000,     1.5259,-999.000
  316N138_4,       P06C,     140,          1,         13,        125,2,19920623,       0141,   -32.5010,  -160.4832,       5532,  3313.2,   1.6905,  34.6857,2,  34.6838,2,    161.8,2,   161.3,2,  125.82,2,   35.07,2,    0.01,2,    2.47,2,-999.000,5,-999.000,5,  2300.2,2,  -999.0,9,-999.000,9,-999.0000,9, -999.00,9,    0.11,2,  -216.4,2,     3.5,-999.000,9,-999.000,     -999.0,-999.0000,-999.000,     1.4387,-999.000
  316N138_4,       P06C,     140,          1,         12,        112,2,19920623,       0141,   -32.5010,  -160.4832,       5532,  3526.5,   1.6201,  34.6999,2,  34.6981,2,    173.1,2,   171.9,2,  120.13,2,   34.08,2,    0.01,2,    2.41,2,  -0.004,2,   0.000,2,  2287.8,2,  -999.0,9,-999.000,9,-999.0000,9, -999.00,9,    0.20,2,  -192.8,2,     2.9,-999.000,9,-999.000,     -999.0,-999.0000,-999.000,     1.3482,-999.000
  316N138_4,       P06C,     140,          1,         11,        129,2,19920623,       0141,   -32.5010,  -160.4832,       5532,  3729.7,   1.5402,  34.7100,2,  34.7099,2,    184.6,2,   184.1,2,  114.29,2,   33.05,2,    0.01,2,    2.33,2,-999.000,5,-999.000,5,  2274.2,2,  -999.0,9,-999.000,9,-999.0000,9, -999.00,9,    0.25,2,  -179.9,2,     2.9,-999.000,9,-999.000,     -999.0,-999.0000,-999.000,     1.2490,-999.000
  316N138_4,       P06C,     140,          1,         10,        110,2,19920623,       0141,   -32.5010,  -160.4832,       5532,  3932.7,   1.4359,  34.7169,2,  34.7156,2,    194.2,2,   194.9,4,  112.05,2,   32.43,2,    0.01,2,    2.28,2,   0.002,2,   0.002,2,  2265.2,2,  -999.0,9,-999.000,9,-999.0000,9, -999.00,9,    0.42,3,  -169.0,2,     2.9,-999.000,9,-999.000,     -999.0,-999.0000,-999.000,     1.1258,-999.000
  316N138_4,       P06C,     140,          1,          9,        126,2,19920623,       0141,   -32.5010,  -160.4832,       5532,  4133.9,   1.3162,  34.7186,2,  34.7170,2,    200.3,2,   199.0,2,  112.81,2,   32.26,2,    0.02,2,    2.28,2,-999.000,5,-999.000,5,  2261.0,2,  -999.0,9,-999.000,9,-999.0000,9, -999.00,9,    0.24,2,  -168.9,2,     7.7,-999.000,9,-999.000,     -999.0,-999.0000,-999.000,     0.9878,-999.000
  316N138_4,       P06C,     140,          1,          8,        108,2,19920623,       0141,   -32.5010,  -160.4832,       5532,  4343.2,   1.1815,  34.7158,2,  34.7152,2,    203.8,2,   203.1,2,  115.82,2,   32.23,2,    0.01,2,    2.27,2,   0.002,2,   0.000,2,  2261.8,6,  -999.0,9,-999.000,9,-999.0000,9, -999.00,9,    0.20,2,  -161.0,2,     2.3,-999.000,9,-999.000,     -999.0,-999.0000,-999.000,     0.8339,-999.000
  316N138_4,       P06C,     140,          1,          7,        107,2,19920623,       0141,   -32.5010,  -160.4832,       5532,  4549.4,   1.0961,  34.7131,2,  34.7115,2,    205.1,2,   204.3,2,  118.39,2,   32.28,2,    0.00,2,    2.27,2,-999.000,5,-999.000,5,  2260.1,2,  -999.0,9,-999.000,9,-999.0000,9, -999.00,9,    0.23,2,  -181.8,4,     6.5,-999.000,9,-999.000,     -999.0,-999.0000,-999.000,     0.7279,-999.000
  316N138_4,       P06C,     140,          1,          6,        180,2,19920623,       0141,   -32.5010,  -160.4832,       5532,  4759.2,   1.0609,  34.7117,2,  34.7097,2,    206.7,2,   207.6,3,  119.90,2,   32.27,2,    0.00,2,    2.27,2,   0.003,2,   0.002,2,  2259.8,2,  -999.0,9,-999.000,9,-999.0000,9, -999.00,9,    0.20,2,  -160.0,2,     2.5,-999.000,9,-999.000,     -999.0,-999.0000,-999.000,     0.6697,-999.000
  316N138_4,       P06C,     140,          1,          5,        131,2,19920623,       0141,   -32.5010,  -160.4832,       5532,  4965.8,   1.0524,  34.7097,2,  34.7085,2,    206.9,2,   205.5,2,  120.81,2,   32.30,2,    0.00,2,    2.26,2,-999.000,5,-999.000,5,  2259.7,2,  -999.0,9,-999.000,9,-999.0000,9, -999.00,9,    0.27,2,  -155.8,2,     2.5,-999.000,9,-999.000,     -999.0,-999.0000,-999.000,     0.6373,-999.000
  316N138_4,       P06C,     140,          1,          4,        104,2,19920623,       0141,   -32.5010,  -160.4832,       5532,  5173.2,   1.0653,  34.7092,2,  34.7083,2,    207.0,2,   206.2,2,  120.98,2,   32.31,2,   -0.01,2,    2.27,2,   0.012,2,   0.005,2,  2260.6,2,  -999.0,9,-999.000,9,-999.0000,9, -999.00,9,    0.23,2,  -157.9,2,     2.5,-999.000,9,-999.000,     -999.0,-999.0000,-999.000,     0.6248,-999.000
  316N138_4,       P06C,     140,          1,          3,        130,2,19920623,       0141,   -32.5010,  -160.4832,       5532,  5377.8,   1.0856,  34.7097,2,  34.7079,2,    207.0,2,   206.1,2,  121.14,2,   32.30,2,    0.00,2,    2.26,2,   0.004,2,   0.001,2,  2260.4,2,  -999.0,9,-999.000,9,-999.0000,9, -999.00,9,    0.17,2,  -154.4,2,     2.4,-999.000,9,-999.000,     -999.0,-999.0000,-999.000,     0.6193,-999.000
  316N138_4,       P06C,     140,          1,          2,        135,2,19920623,       0141,   -32.5010,  -160.4832,       5532,  5588.2,   1.1118,  34.7093,2,  34.7081,2,    205.6,2,   206.5,2,  121.15,2,   32.34,2,    0.00,2,    2.26,2,   0.005,2,   0.000,2,  -999.0,9,  -999.0,9,-999.000,9,-999.0000,9, -999.00,9, -999.00,9,  -999.0,9,  -999.0,-999.000,9,-999.000,     -999.0,-999.0000,-999.000,     0.6182,-999.000
  316N138_4,       P06C,     140,          1,          1,        134,2,19920623,       0141,   -32.5010,  -160.4832,       5532,  5622.8,   1.1162,  34.7096,2,  34.7087,2,    206.2,2,   206.6,2,  120.76,2,   32.29,2,    0.00,2,    2.26,2,   0.006,6,   0.004,6,  2261.3,6,  -999.0,9,-999.000,9,-999.0000,9, -999.00,9,    0.23,2,  -159.2,2,     4.7,-999.000,9,-999.000,     -999.0,-999.0000,-999.000,     0.6180,-999.000