BOTTLE,20211025CCHSIORKP
EXPOCODE,SECT_ID,STNNBR,CASTNO,SAMPNO,BTLNBR,BTLNBR_FLAG_W,DATE,TIME,LATITUDE,LONGITUDE,DEPTH,CTDPRS,CTDTMP,CTDSAL,CTDSAL_FLAG_W,SALNTY,SALNTY_FLAG_W,CTDOXY,CTDOXY_FLAG_W,OXYGEN,OXYGEN_FLAG_W,SILCAT,SILCAT_FLAG_W,NITRAT,NITRAT_FLAG_W,NITRIT,NITRIT_FLAG_W,PHSPHT,PHSPHT_FLAG_W,CFC-11,CFC-11_FLAG_W,CFC-12,CFC-12_FLAG_W,TCARBN,TCARBN_FLAG_W,PCO2,PCO2_FLAG_W,TRITUM,TRITUM_FLAG_W,HELIUM,HELIUM_FLAG_W,DELHE3,DELHE3_FLAG_W,DELC13,DELC13_FLAG_W,DELC14,DELC14_FLAG_W,C14ERR,NEON,NEON_FLAG_W,NEONER,PCO2TMP,HELIER,DELHER,THETA,TRITER
,,,,,,,,,,,METERS,DBAR,ITS-90,PSS-78,,PSS-78,,UMOL/KG,,UMOL/KG,,UMOL/KG,,UMOL/KG,,UMOL/KG,,UMOL/KG,,PMOL/KG,,PMOL/KG,,UMOL/KG,,UATM,,TU,,NMOL/KG,,PERCNT,,/MILLE,,/MILLE,,/MILLE,NMOL/KG,,NMOL/KG,DEG_C,NMOL/KG,PERCNT,ITS-90,TU
  316N138_4,       P06C,      83,          1,         36,    02-9121,2,19920604,       0213,   -32.5030,  -118.6663,       3356,    20.6,  20.0610,  35.2330,2,  35.2353,2,    338.6,3,   228.5,2,    0.14,2,    0.03,2,    0.01,2,    0.12,2,-999.000,9,-999.000,9,  -999.0,9,  -999.0,9,-999.000,9,-999.0000,9, -999.00,9, -999.00,9,  -999.0,9,  -999.0,-999.000,9,-999.000,     -999.0,-999.0000,-999.000,    20.0572,-999.000
  316N138_4,       P06C,      83,          1,         35,    02-9454,2,19920604,       0213,   -32.5030,  -118.6663,       3356,    60.2,  20.0708,  35.2764,2,  35.2769,2,    233.4,2,   227.2,2,    0.15,2,    0.03,2,    0.01,2,    0.13,2,-999.000,9,-999.000,9,  -999.0,9,  -999.0,9,-999.000,9,-999.0000,9, -999.00,9, -999.00,9,  -999.0,9,  -999.0,-999.000,9,-999.000,     -999.0,-999.0000,-999.000,    20.0597,-999.000
  316N138_4,       P06C,      83,          1,         34,    02-9457,2,19920604,       0213,   -32.5030,  -118.6663,       3356,    89.5,  18.4816,  35.2386,2,  35.2355,2,    245.2,2,   241.0,2,    0.17,2,    0.03,2,    0.01,2,    0.14,2,-999.000,9,-999.000,9,  -999.0,9,  -999.0,9,-999.000,9,-999.0000,9, -999.00,9, -999.00,9,  -999.0,9,  -999.0,-999.000,9,-999.000,     -999.0,-999.0000,-999.000,    18.4660,-999.000
  316N138_4,       P06C,      83,          1,         33,    02-5367,2,19920604,       0213,   -32.5030,  -118.6663,       3356,   118.7,  17.7228,  35.1891,2,  35.1882,2,    242.0,2,   237.8,2,    0.03,2,    0.04,2,    0.00,2,    0.16,2,-999.000,9,-999.000,9,  -999.0,9,  -999.0,9,-999.000,9,-999.0000,9, -999.00,9, -999.00,9,  -999.0,9,  -999.0,-999.000,9,-999.000,     -999.0,-999.0000,-999.000,    17.7027,-999.000
  316N138_4,       P06C,      83,          1,         32,    02-9540,2,19920604,       0213,   -32.5030,  -118.6663,       3356,   147.4,  16.8821,  35.0811,2,  35.0803,2,    234.2,2,   230.4,2,    0.21,2,    0.15,2,    0.03,2,    0.21,2,-999.000,9,-999.000,9,  -999.0,9,  -999.0,9,-999.000,9,-999.0000,9, -999.00,9, -999.00,9,  -999.0,9,  -999.0,-999.000,9,-999.000,     -999.0,-999.0000,-999.000,    16.8580,-999.000
  316N138_4,       P06C,      83,          1,         31,    02-9539,2,19920604,       0213,   -32.5030,  -118.6663,       3356,   175.1,  16.1866,  35.0326,2,  35.0374,2,    224.8,2,   223.7,2,    0.22,2,    0.83,2,    0.17,2,    0.29,2,-999.000,9,-999.000,9,  -999.0,9,  -999.0,9,-999.000,9,-999.0000,9, -999.00,9, -999.00,9,  -999.0,9,  -999.0,-999.000,9,-999.000,     -999.0,-999.0000,-999.000,    16.1586,-999.000
  316N138_4,       P06C,      83,          1,         30,    02-9456,2,19920604,       0213,   -32.5030,  -118.6663,       3356,   224.1,  15.1060,  35.0192,2,  35.0216,2,    212.1,2,   206.1,2,    0.72,2,    4.58,2,    0.01,2,    0.52,2,-999.000,9,-999.000,9,  -999.0,9,  -999.0,9,-999.000,9,-999.0000,9, -999.00,9, -999.00,9,  -999.0,9,  -999.0,-999.000,9,-999.000,     -999.0,-999.0000,-999.000,    15.0718,-999.000
  316N138_4,       P06C,      83,          1,         29,    02-9458,2,19920604,       0213,   -32.5030,  -118.6663,       3356,   274.4,  13.2870,  34.8450,2,  34.8450,2,    208.5,2,   202.8,2,    1.37,2,    8.69,2,    0.01,2,    0.76,2,-999.000,9,-999.000,9,  -999.0,9,  -999.0,9,-999.000,9,-999.0000,9, -999.00,9, -999.00,9,  -999.0,9,  -999.0,-999.000,9,-999.000,     -999.0,-999.0000,-999.000,    13.2486,-999.000
  316N138_4,       P06C,      83,          1,         28,    02-9545,2,19920604,       0213,   -32.5030,  -118.6663,       3356,   323.0,  11.1103,  34.6430,2,  34.6504,2,    213.5,2,   206.2,2,    2.50,2,   13.32,2,    0.00,2,    1.04,2,-999.000,9,-999.000,9,  -999.0,9,  -999.0,9,-999.000,9,-999.0000,9, -999.00,9, -999.00,9,  -999.0,9,  -999.0,-999.000,9,-999.000,     -999.0,-999.0000,-999.000,    11.0701,-999.000
  316N138_4,       P06C,      83,          1,         27,    02-9453,2,19920604,       0213,   -32.5030,  -118.6663,       3356,   370.6,   9.6626,  34.5265,2,  34.5360,2,    216.9,2,   212.5,2,    3.47,2,   16.46,2,    0.01,2,    1.23,2,-999.000,9,-999.000,9,  -999.0,9,  -999.0,9,-999.000,9,-999.0000,9, -999.00,9, -999.00,9,  -999.0,9,  -999.0,-999.000,9,-999.000,     -999.0,-999.0000,-999.000,     9.6204,-999.000
  316N138_4,       P06C,      83,          1,         26,    02-9544,2,19920604,       0213,   -32.5030,  -118.6663,       3356,   419.9,   8.2513,  34.4277,2,  34.4255,2,    225.5,2,   224.5,2,    4.44,2,   19.28,2,    0.01,2,    1.39,2,-999.000,9,-999.000,9,  -999.0,9,  -999.0,9,-999.000,9,-999.0000,9, -999.00,9, -999.00,9,  -999.0,9,  -999.0,-999.000,9,-999.000,     -999.0,-999.0000,-999.000,     8.2078,-999.000
  316N138_4,       P06C,      83,          1,         25,    02-9455,2,19920604,       0213,   -32.5030,  -118.6663,       3356,   470.2,   7.5913,  34.3979,2,  34.3984,2,    232.9,2,   231.1,2,    5.41,2,   20.66,2,    0.00,2,    1.48,2,-999.000,9,-999.000,9,  -999.0,9,  -999.0,9,-999.000,9,-999.0000,9, -999.00,9, -999.00,9,  -999.0,9,  -999.0,-999.000,9,-999.000,     -999.0,-999.0000,-999.000,     7.5447,-999.000
  316N138_4,       P06C,      83,          1,         24,        132,2,19920604,       0213,   -32.5030,  -118.6663,       3356,   547.9,   6.9252,  34.3770,2,  34.3768,2,    245.6,2,   246.2,2,    6.22,2,   21.42,2,    0.00,2,    1.50,2,-999.000,9,-999.000,9,  -999.0,9,  -999.0,9,-999.000,9,-999.0000,9, -999.00,9, -999.00,9,  -999.0,9,  -999.0,-999.000,9,-999.000,     -999.0,-999.0000,-999.000,     6.8734,-999.000
  316N138_4,       P06C,      83,          1,         23,        123,2,19920604,       0213,   -32.5030,  -118.6663,       3356,   617.7,   6.5788,  34.3571,2,  34.3578,2,    247.6,2,   248.6,2,    7.35,2,   22.34,2,    0.00,2,    1.56,2,-999.000,9,-999.000,9,  -999.0,9,  -999.0,9,-999.000,9,-999.0000,9, -999.00,9, -999.00,9,  -999.0,9,  -999.0,-999.000,9,-999.000,     -999.0,-999.0000,-999.000,     6.5217,-999.000
  316N138_4,       P06C,      83,          1,         22,        128,2,19920604,       0213,   -32.5030,  -118.6663,       3356,   692.2,   6.2042,  34.3281,2,  34.3276,2,    247.6,2,   245.7,2,    8.64,2,   23.51,2,    0.00,2,    1.64,2,-999.000,9,-999.000,9,  -999.0,9,  -999.0,9,-999.000,9,-999.0000,9, -999.00,9, -999.00,9,  -999.0,9,  -999.0,-999.000,9,-999.000,     -999.0,-999.0000,-999.000,     6.1418,-999.000
  316N138_4,       P06C,      83,          1,         21,        121,2,19920604,       0213,   -32.5030,  -118.6663,       3356,   769.9,   5.7921,  34.2990,2,  34.2993,2,    244.6,2,   243.0,2,   10.24,2,   24.84,2,    0.00,2,    1.72,2,-999.000,9,-999.000,9,  -999.0,9,  -999.0,9,-999.000,9,-999.0000,9, -999.00,9, -999.00,9,  -999.0,9,  -999.0,-999.000,9,-999.000,     -999.0,-999.0000,-999.000,     5.7248,-999.000
  316N138_4,       P06C,      83,          1,         20,        120,3,19920604,       0213,   -32.5030,  -118.6663,       3356,   847.4,   5.4361,  34.2921,2,  34.2938,2,    239.0,2,   235.5,2,   13.59,2,   26.25,2,   -0.01,2,    1.82,2,-999.000,9,-999.000,9,  -999.0,9,  -999.0,9,-999.000,9,-999.0000,9, -999.00,9, -999.00,9,  -999.0,9,  -999.0,-999.000,9,-999.000,     -999.0,-999.0000,-999.000,     5.3639,-999.000
  316N138_4,       P06C,      83,          1,         19,        133,2,19920604,       0213,   -32.5030,  -118.6663,       3356,   950.8,   4.9985,  34.2869,2,  34.2895,2,    225.4,2,   221.6,2,   19.00,2,   28.45,2,    0.00,2,    1.96,2,-999.000,9,-999.000,9,  -999.0,9,  -999.0,9,-999.000,9,-999.0000,9, -999.00,9, -999.00,9,  -999.0,9,  -999.0,-999.000,9,-999.000,     -999.0,-999.0000,-999.000,     4.9200,-999.000
  316N138_4,       P06C,      83,          1,         18,        118,2,19920604,       0213,   -32.5030,  -118.6663,       3356,  1053.0,   4.3636,  34.3169,2,  34.3152,2,    207.9,3,   199.5,2,   30.44,2,   31.41,2,    0.00,2,    2.16,2,-999.000,9,-999.000,9,  -999.0,9,  -999.0,9,-999.000,9,-999.0000,9, -999.00,9, -999.00,9,  -999.0,9,  -999.0,-999.000,9,-999.000,     -999.0,-999.0000,-999.000,     4.2809,-999.000
  316N138_4,       P06C,      83,          1,         17,        117,2,19920604,       0213,   -32.5030,  -118.6663,       3356,  1155.0,   3.8328,  34.3630,2,  34.3633,2,    187.0,3,   178.6,2,   43.46,2,   33.81,2,    0.00,2,    2.33,2,-999.000,9,-999.000,9,  -999.0,9,  -999.0,9,-999.000,9,-999.0000,9, -999.00,9, -999.00,9,  -999.0,9,  -999.0,-999.000,9,-999.000,     -999.0,-999.0000,-999.000,     3.7458,-999.000
  316N138_4,       P06C,      83,          1,         16,        116,2,19920604,       0213,   -32.5030,  -118.6663,       3356,  1257.9,   3.3693,  34.4289,2,  34.4306,2,    171.9,3,   164.0,2,   57.59,2,   35.22,2,    0.00,2,    2.45,2,-999.000,9,-999.000,9,  -999.0,9,  -999.0,9,-999.000,9,-999.0000,9, -999.00,9, -999.00,9,  -999.0,9,  -999.0,-999.000,9,-999.000,     -999.0,-999.0000,-999.000,     3.2779,-999.000
  316N138_4,       P06C,      83,          1,         15,        115,2,19920604,       0213,   -32.5030,  -118.6663,       3356,  1358.6,   3.1155,  34.4688,2,  34.4675,2,    163.4,2,   160.1,2,   65.54,2,   35.48,2,   -0.01,2,    2.47,2,-999.000,9,-999.000,9,  -999.0,9,  -999.0,9,-999.000,9,-999.0000,9, -999.00,9, -999.00,9,  -999.0,9,  -999.0,-999.000,9,-999.000,     -999.0,-999.0000,-999.000,     3.0183,-999.000
  316N138_4,       P06C,      83,          1,         14,        114,2,19920604,       0213,   -32.5030,  -118.6663,       3356,  1510.4,   2.7471,  34.5285,2,  34.5278,2,    163.6,2,   162.3,2,   76.65,2,   35.11,2,   -0.01,2,    2.45,2,-999.000,9,-999.000,9,  -999.0,9,  -999.0,9,-999.000,9,-999.0000,9, -999.00,9, -999.00,9,  -999.0,9,  -999.0,-999.000,9,-999.000,     -999.0,-999.0000,-999.000,     2.6415,-999.000
  316N138_4,       P06C,      83,          1,         13,        125,2,19920604,       0213,   -32.5030,  -118.6663,       3356,  1610.1,   2.5493,  34.5652,2,  34.5649,2,    162.4,2,   161.1,2,   85.08,2,   35.06,2,   -0.01,2,    2.46,2,-999.000,9,-999.000,9,  -999.0,9,  -999.0,9,-999.000,9,-999.0000,9, -999.00,9, -999.00,9,  -999.0,9,  -999.0,-999.000,9,-999.000,     -999.0,-999.0000,-999.000,     2.4377,-999.000
  316N138_4,       P06C,      83,          1,         12,        112,2,19920604,       0213,   -32.5030,  -118.6663,       3356,  1764.9,   2.3304,  34.6041,2,  34.6062,2,    159.9,2,   158.7,2,   96.36,2,   35.10,2,    0.00,2,    2.47,2,-999.000,9,-999.000,9,  -999.0,9,  -999.0,9,-999.000,9,-999.0000,9, -999.00,9, -999.00,9,  -999.0,9,  -999.0,-999.000,9,-999.000,     -999.0,-999.0000,-999.000,     2.2089,-999.000
  316N138_4,       P06C,      83,          1,         11,        129,2,19920604,       0213,   -32.5030,  -118.6663,       3356,  1915.9,   2.1955,  34.6241,2,  34.6236,2,    158.1,2,   157.0,2,  103.83,2,   35.28,2,   -0.01,2,    2.49,2,-999.000,9,-999.000,9,  -999.0,9,  -999.0,9,-999.000,9,-999.0000,9, -999.00,9, -999.00,9,  -999.0,9,  -999.0,-999.000,9,-999.000,     -999.0,-999.0000,-999.000,     2.0632,-999.000
  316N138_4,       P06C,      83,          1,         10,        110,2,19920604,       0213,   -32.5030,  -118.6663,       3356,  2016.9,   2.1175,  34.6340,2,  34.6368,2,    157.2,2,   156.3,2,  107.96,2,   35.28,2,   -0.01,2,    2.50,2,-999.000,9,-999.000,9,  -999.0,9,  -999.0,9,-999.000,9,-999.0000,9, -999.00,9, -999.00,9,  -999.0,9,  -999.0,-999.000,9,-999.000,     -999.0,-999.0000,-999.000,     1.9778,-999.000
  316N138_4,       P06C,      83,          1,          9,        126,2,19920604,       0213,   -32.5030,  -118.6663,       3356,  2171.1,   2.0089,  34.6469,2,  34.6453,2,    157.3,2,   156.9,2,  112.58,2,   35.32,2,   -0.01,2,    2.50,2,-999.000,9,-999.000,9,  -999.0,9,  -999.0,9,-999.000,9,-999.0000,9, -999.00,9, -999.00,9,  -999.0,9,  -999.0,-999.000,9,-999.000,     -999.0,-999.0000,-999.000,     1.8578,-999.000
  316N138_4,       P06C,      83,          1,          8,        108,2,19920604,       0213,   -32.5030,  -118.6663,       3356,  2321.8,   1.9023,  34.6547,2,  34.6561,2,    158.0,2,   157.6,2,  116.56,2,   35.27,2,    0.00,2,    2.50,2,-999.000,9,-999.000,9,  -999.0,9,  -999.0,9,-999.000,9,-999.0000,9, -999.00,9, -999.00,9,  -999.0,9,  -999.0,-999.000,9,-999.000,     -999.0,-999.0000,-999.000,     1.7398,-999.000
  316N138_4,       P06C,      83,          1,          7,        107,2,19920604,       0213,   -32.5030,  -118.6663,       3356,  2473.5,   1.8239,  34.6623,2,  34.6604,2,    159.7,2,   159.7,2,  118.80,2,   35.21,2,    0.00,2,    2.49,2,-999.000,9,-999.000,9,  -999.0,9,  -999.0,9,-999.000,9,-999.0000,9, -999.00,9, -999.00,9,  -999.0,9,  -999.0,-999.000,9,-999.000,     -999.0,-999.0000,-999.000,     1.6492,-999.000
  316N138_4,       P06C,      83,          1,          6,        180,2,19920604,       0213,   -32.5030,  -118.6663,       3356,  2677.0,   1.7451,  34.6701,2,  34.6692,2,    163.0,2,   162.6,2,  120.25,2,   35.01,2,   -0.01,2,    2.48,2,-999.000,9,-999.000,9,  -999.0,9,  -999.0,9,-999.000,9,-999.0000,9, -999.00,9, -999.00,9,  -999.0,9,  -999.0,-999.000,9,-999.000,     -999.0,-999.0000,-999.000,     1.5533,-999.000
  316N138_4,       P06C,      83,          1,          5,        131,2,19920604,       0213,   -32.5030,  -118.6663,       3356,  2830.0,   1.7095,  34.6743,2,  34.6720,2,    164.5,2,   164.9,2,  120.74,2,   34.89,2,    0.00,2,    2.47,2,-999.000,9,-999.000,9,  -999.0,9,  -999.0,9,-999.000,9,-999.0000,9, -999.00,9, -999.00,9,  -999.0,9,  -999.0,-999.000,9,-999.000,     -999.0,-999.0000,-999.000,     1.5043,-999.000
  316N138_4,       P06C,      83,          1,          4,        104,2,19920604,       0213,   -32.5030,  -118.6663,       3356,  3033.6,   1.6960,  34.6772,2,  34.6759,2,    166.6,2,   165.9,2,  120.92,2,   34.79,2,    0.00,2,    2.45,2,-999.000,9,-999.000,9,  -999.0,9,  -999.0,9,-999.000,9,-999.0000,9, -999.00,9, -999.00,9,  -999.0,9,  -999.0,-999.000,9,-999.000,     -999.0,-999.0000,-999.000,     1.4716,-999.000
  316N138_4,       P06C,      83,          1,          3,        130,2,19920604,       0213,   -32.5030,  -118.6663,       3356,  3236.9,   1.6951,  34.6792,2,  34.6771,2,    168.3,2,   166.6,2,  120.94,2,   34.73,2,    0.00,2,    2.45,2,-999.000,9,-999.000,9,  -999.0,9,  -999.0,9,-999.000,9,-999.0000,9, -999.00,9, -999.00,9,  -999.0,9,  -999.0,-999.000,9,-999.000,     -999.0,-999.0000,-999.000,     1.4509,-999.000
  316N138_4,       P06C,      83,          1,          2,        135,2,19920604,       0213,   -32.5030,  -118.6663,       3356,  3387.1,   1.7052,  34.6798,2,  34.6773,2,    168.0,2,   166.6,2,  120.96,2,   34.73,2,    0.00,2,    2.45,2,-999.000,9,-999.000,9,  -999.0,9,  -999.0,9,-999.000,9,-999.0000,9, -999.00,9, -999.00,9,  -999.0,9,  -999.0,-999.000,9,-999.000,     -999.0,-999.0000,-999.000,     1.4456,-999.000
  316N138_4,       P06C,      83,          1,          1,        134,2,19920604,       0213,   -32.5030,  -118.6663,       3356,  3463.7,   1.7098,  34.6802,2,  34.6791,2,    167.9,2,   167.8,2,  120.78,2,   34.67,2,    0.00,2,    2.43,2,-999.000,9,-999.000,9,  -999.0,9,  -999.0,9,-999.000,9,-999.0000,9, -999.00,9, -999.00,9,  -999.0,9,  -999.0,-999.000,9,-999.000,     -999.0,-999.0000,-999.000,     1.4422,-999.000