BOTTLE,20211025CCHSIORKP
EXPOCODE,SECT_ID,STNNBR,CASTNO,SAMPNO,BTLNBR,BTLNBR_FLAG_W,DATE,TIME,LATITUDE,LONGITUDE,DEPTH,CTDPRS,CTDTMP,CTDSAL,CTDSAL_FLAG_W,SALNTY,SALNTY_FLAG_W,CTDOXY,CTDOXY_FLAG_W,OXYGEN,OXYGEN_FLAG_W,SILCAT,SILCAT_FLAG_W,NITRAT,NITRAT_FLAG_W,NITRIT,NITRIT_FLAG_W,PHSPHT,PHSPHT_FLAG_W,CFC-11,CFC-11_FLAG_W,CFC-12,CFC-12_FLAG_W,TCARBN,TCARBN_FLAG_W,PCO2,PCO2_FLAG_W,TRITUM,TRITUM_FLAG_W,HELIUM,HELIUM_FLAG_W,DELHE3,DELHE3_FLAG_W,DELC13,DELC13_FLAG_W,DELC14,DELC14_FLAG_W,C14ERR,NEON,NEON_FLAG_W,NEONER,PCO2TMP,HELIER,DELHER,THETA,TRITER
,,,,,,,,,,,METERS,DBAR,ITS-90,PSS-78,,PSS-78,,UMOL/KG,,UMOL/KG,,UMOL/KG,,UMOL/KG,,UMOL/KG,,UMOL/KG,,PMOL/KG,,PMOL/KG,,UMOL/KG,,UATM,,TU,,NMOL/KG,,PERCNT,,/MILLE,,/MILLE,,/MILLE,NMOL/KG,,NMOL/KG,DEG_C,NMOL/KG,PERCNT,ITS-90,TU
  316N138_4,       P06C,     172,          1,         36,    02-9121,2,19920701,       1001,   -32.4980,  -176.2463,       5583,    21.4,  16.6102,  35.5748,2,  35.5740,2,    252.8,2,   233.3,2,    0.76,2,    1.28,2,    0.09,2, -999.00,5,-999.000,5,-999.000,5,  2049.0,6,  -999.0,9,   0.661,2,-999.0000,9, -999.00,9, -999.00,9,  -999.0,9,  -999.0,-999.000,9,-999.000,     -999.0,-999.0000,-999.000,    16.6068,   0.004
  316N138_4,       P06C,     172,          1,         35,    02-9454,3,19920701,       1001,   -32.4980,  -176.2463,       5583,    60.6,  16.6041,  35.5748,2,  35.5713,2,    243.7,2,   233.5,2,    0.76,2,    1.18,2,    0.09,2, -999.00,5,-999.000,5,-999.000,5,  2048.4,2,  -999.0,9,   0.664,2,   1.7820,2,   -0.56,2, -999.00,9,  -999.0,9,  -999.0,-999.000,9,-999.000,     -999.0,-999.0000,   0.150,    16.5943,   0.004
  316N138_4,       P06C,     172,          1,         34,    02-9457,2,19920701,       1001,   -32.4980,  -176.2463,       5583,   109.0,  16.5492,  35.5658,2,  35.5582,2,    238.3,2,   230.1,2,    0.93,2,    1.70,2,    0.11,2, -999.00,5,-999.000,5,-999.000,5,  2053.5,2,  -999.0,9,   0.648,2,-999.0000,9, -999.00,9, -999.00,9,  -999.0,9,  -999.0,-999.000,9,-999.000,     -999.0,-999.0000,-999.000,    16.5315,   0.004
  316N138_4,       P06C,     172,          1,         33,    02-5367,2,19920701,       1001,   -32.4980,  -176.2463,       5583,   206.2,  13.7646,  35.2288,2,  35.2276,2,    201.1,2,   199.9,2,    2.92,2,    9.24,2,    0.01,2, -999.00,5,-999.000,5,-999.000,5,  2097.0,2,  -999.0,9,   0.502,2,   1.8280,2,    0.41,2, -999.00,9,  -999.0,9,  -999.0,-999.000,9,-999.000,     -999.0,-999.0000,   0.150,    13.7351,   0.004
  316N138_4,       P06C,     172,          1,         32,    02-9540,2,19920701,       1001,   -32.4980,  -176.2463,       5583,   305.2,  11.7227,  34.9729,2,  34.9744,2,    196.6,2,   201.8,2,    4.25,2,   12.90,2,    0.00,2, -999.00,5,-999.000,5,-999.000,5,  2113.6,2,  -999.0,9,   0.409,2,-999.0000,9, -999.00,9, -999.00,9,  -999.0,9,  -999.0,-999.000,9,-999.000,     -999.0,-999.0000,-999.000,    11.6833,   0.003
  316N138_4,       P06C,     172,          1,         31,    02-9539,2,19920701,       1001,   -32.4980,  -176.2463,       5583,   401.3,   9.6963,  34.7123,2,  35.3295,4,    204.0,2,   221.6,4,    2.27,4,    5.89,4,    0.05,4, -999.00,5,-999.000,5,-999.000,5,  2074.0,3,  -999.0,9,-999.000,9,-999.0000,9, -999.00,9, -999.00,9,  -999.0,9,  -999.0,-999.000,9,-999.000,     -999.0,-999.0000,-999.000,     9.6503,-999.000
  316N138_4,       P06C,     172,          1,         30,    02-9456,2,19920701,       1001,   -32.4980,  -176.2463,       5583,   496.6,   8.3877,  34.5720,2,  34.5753,2,    210.5,2,   227.8,3,    7.41,2,   20.19,2,    0.00,2, -999.00,5,-999.000,5,-999.000,5,  2136.5,2,  -999.0,9,   0.262,2,   1.8280,2,    1.32,2, -999.00,9,  -999.0,9,  -999.0,-999.000,9,-999.000,     -999.0,-999.0000,   0.150,     8.3354,   0.004
  316N138_4,       P06C,     172,          1,         29,    02-9458,2,19920701,       1001,   -32.4980,  -176.2463,       5583,   597.0,   7.7066,  34.5074,2,  34.7347,4,    216.4,2,   214.5,4,    6.91,4,   17.35,4,    0.02,4, -999.00,5,-999.000,5,-999.000,5,  2124.3,2,  -999.0,9,-999.000,9,-999.0000,9, -999.00,9, -999.00,9,  -999.0,9,  -999.0,-999.000,9,-999.000,     -999.0,-999.0000,-999.000,     7.6465,-999.000
  316N138_4,       P06C,     172,          1,         28,    02-9545,2,19920701,       1001,   -32.4980,  -176.2463,       5583,   696.0,   7.0835,  34.4487,2,  34.4496,2,    220.3,2,   218.5,2,   10.57,2,   22.97,2,    0.00,2, -999.00,5,-999.000,5,-999.000,5,  2144.8,2,  -999.0,9,   0.116,2,   1.8460,2,    1.36,2, -999.00,9,  -999.0,9,  -999.0,-999.000,9,-999.000,     -999.0,-999.0000,   0.150,     7.0161,   0.002
  316N138_4,       P06C,     172,          1,         27,    02-9453,2,19920701,       1001,   -32.4980,  -176.2463,       5583,   795.9,   6.3293,  34.3753,2,  34.3925,2,    222.2,2,   218.3,2,   13.71,2,   24.88,2,    0.00,2, -999.00,5,-999.000,5,-999.000,5,  2152.6,6,  -999.0,9,   0.096,2,   1.8510,2,    1.35,2, -999.00,9,  -999.0,9,  -999.0,-999.000,9,-999.000,     -999.0,-999.0000,   0.150,     6.2563,   0.003
  316N138_4,       P06C,     172,          1,         26,    02-9544,2,19920701,       1001,   -32.4980,  -176.2463,       5583,   894.3,   5.8336,  34.3795,2,  34.3784,2,    213.4,2,   208.3,2,   19.53,2,   26.93,2,    0.01,2, -999.00,5,-999.000,5,-999.000,5,  2165.6,2,  -999.0,9,-999.000,9,-999.0000,9, -999.00,9, -999.00,9,  -999.0,9,  -999.0,-999.000,9,-999.000,     -999.0,-999.0000,-999.000,     5.7543,-999.000
  316N138_4,       P06C,     172,          1,         25,    02-9455,2,19920701,       1001,   -32.4980,  -176.2463,       5583,   996.7,   5.1610,  34.3857,2,  34.3855,2,    204.0,2,   211.9,4,   28.99,2,   29.13,2,    0.01,2, -999.00,5,-999.000,5,-999.000,5,  2184.9,2,  -999.0,9,   0.036,2,   1.8620,2,    3.62,2, -999.00,9,  -999.0,9,  -999.0,-999.000,9,-999.000,     -999.0,-999.0000,   0.150,     5.0769,   0.003
  316N138_4,       P06C,     172,          1,         24,        132,2,19920701,       1001,   -32.4980,  -176.2463,       5583,  1193.8,   3.9209,  34.4048,2,  34.4045,2,    187.6,2,   195.5,4,   46.91,2,   32.22,2,    0.00,2, -999.00,5,-999.000,5,-999.000,5,  2215.3,2,  -999.0,9,   0.026,2,   1.8780,2,    6.16,2, -999.00,9,  -999.0,9,  -999.0,-999.000,9,-999.000,     -999.0,-999.0000,   0.150,     3.8298,   0.004
  316N138_4,       P06C,     172,          1,         23,        123,2,19920701,       1001,   -32.4980,  -176.2463,       5583,  1393.7,   3.2062,  34.4896,2,  34.4895,2,    172.2,2,   169.3,2,   68.15,2,   33.83,2,    0.00,2, -999.00,5,-999.000,5,-999.000,5,  2238.2,2,  -999.0,9,  -0.001,2,   1.9200,2,   10.74,2, -999.00,9,  -999.0,9,  -999.0,-999.000,9,-999.000,     -999.0,-999.0000,   0.150,     3.1052,   0.002
  316N138_4,       P06C,     172,          1,         22,        128,2,19920701,       1001,   -32.4980,  -176.2463,       5583,  1587.8,   2.8224,  34.5569,2,  34.5573,2,    161.5,2,   161.3,2,   86.22,2,   34.54,2,    0.00,2, -999.00,5,-999.000,5,-999.000,5,  2266.9,2,  -999.0,9,  -0.001,2,   1.9360,2,   16.03,2, -999.00,9,  -999.0,9,  -999.0,-999.000,9,-999.000,     -999.0,-999.0000,   0.150,     2.7093,   0.002
  316N138_4,       P06C,     172,          1,         21,        121,2,19920701,       1001,   -32.4980,  -176.2463,       5583,  1780.7,   2.5461,  34.5955,2,  34.5957,2,    155.3,2,   153.4,2,   98.99,2,   35.17,2,    0.00,2, -999.00,5,-999.000,5,-999.000,5,  2282.6,2,  -999.0,9,   0.007,2,   1.9580,2,   20.29,2, -999.00,9,  -999.0,9,  -999.0,-999.000,9,-999.000,     -999.0,-999.0000,   0.150,     2.4204,   0.003
  316N138_4,       P06C,     172,          1,         20,        120,2,19920701,       1001,   -32.4980,  -176.2463,       5583,  1980.7,   2.3873,  34.6164,2,  34.6164,2,    151.2,2,   149.9,2,  107.46,2,   35.53,2,    0.01,2, -999.00,5,-999.000,5,-999.000,5,  2292.5,2,  -999.0,9,  -0.004,2,   1.9880,2,   23.12,2, -999.00,9,  -999.0,9,  -999.0,-999.000,9,-999.000,     -999.0,-999.0000,   0.150,     2.2467,   0.002
  316N138_4,       P06C,     172,          1,         19,        133,2,19920701,       1001,   -32.4980,  -176.2463,       5583,  2177.9,   2.2685,  34.6299,2,  34.6307,2,    150.5,2,   148.2,2,  112.77,2,   35.72,2,    0.01,2, -999.00,5,-999.000,5,-999.000,5,  2297.8,2,  -999.0,9,-999.000,9,-999.0000,9, -999.00,9, -999.00,9,  -999.0,9,  -999.0,-999.000,9,-999.000,     -999.0,-999.0000,-999.000,     2.1125,-999.000
  316N138_4,       P06C,     172,          1,         18,        118,2,19920701,       1001,   -32.4980,  -176.2463,       5583,  2383.1,   2.1636,  34.6413,2,  34.6415,2,    148.0,2,   148.2,2,  117.24,2,   35.84,2,    0.01,2, -999.00,5,-999.000,5,-999.000,5,  2304.5,6,  -999.0,9,-999.000,9,-999.0000,9, -999.00,9, -999.00,9,  -999.0,9,  -999.0,-999.000,9,-999.000,     -999.0,-999.0000,-999.000,     1.9910,-999.000
  316N138_4,       P06C,     172,          1,         17,        117,2,19920701,       1001,   -32.4980,  -176.2463,       5583,  2591.2,   2.0559,  34.6502,2,  34.6511,2,    149.1,2,   148.7,2,  121.56,2,   35.92,2,    0.01,2, -999.00,5,-999.000,5,-999.000,5,  2306.5,2,  -999.0,9,-999.000,9,-999.0000,9, -999.00,9, -999.00,9,  -999.0,9,  -999.0,-999.000,9,-999.000,     -999.0,-999.0000,-999.000,     1.8663,-999.000
  316N138_4,       P06C,     172,          1,         16,        116,2,19920701,       1001,   -32.4980,  -176.2463,       5583,  2797.3,   1.9383,  34.6643,2,  34.6653,2,    151.7,2,   152.0,2,  122.72,2,   35.41,2,    0.01,2, -999.00,5,-999.000,5,-999.000,5,  2306.3,2,  -999.0,9,-999.000,9,-999.0000,9, -999.00,9, -999.00,9,  -999.0,9,  -999.0,-999.000,9,-999.000,     -999.0,-999.0000,-999.000,     1.7315,-999.000
  316N138_4,       P06C,     172,          1,         15,        115,2,19920701,       1001,   -32.4980,  -176.2463,       5583,  2999.6,   1.8202,  34.6845,2,  34.6853,2,    163.1,2,   164.5,2,  118.74,2,   34.27,2,    0.01,2, -999.00,5,-999.000,5,-999.000,5,  2294.7,2,  -999.0,9,-999.000,9,-999.0000,9, -999.00,9, -999.00,9,  -999.0,9,  -999.0,-999.000,9,-999.000,     -999.0,-999.0000,-999.000,     1.5963,-999.000
  316N138_4,       P06C,     172,          1,         14,        114,2,19920701,       1001,   -32.4980,  -176.2463,       5583,  3199.3,   1.7114,  34.7084,2,  34.7085,2,    180.3,2,   179.6,2,  109.29,2,   32.54,2,    0.01,2, -999.00,5,-999.000,5,-999.000,5,  2289.3,2,  -999.0,9,-999.000,9,-999.0000,9, -999.00,9, -999.00,9,  -999.0,9,  -999.0,-999.000,9,-999.000,     -999.0,-999.0000,-999.000,     1.4702,-999.000
  316N138_4,       P06C,     172,          1,         13,        125,2,19920701,       1001,   -32.4980,  -176.2463,       5583,  3400.4,   1.5659,  34.7189,2,  34.7221,2,    192.1,2,   191.3,2,  106.13,2,   31.45,3,    0.01,2, -999.00,5,-999.000,5,-999.000,5,  2262.3,2,  -999.0,9,-999.000,9,-999.0000,9, -999.00,9, -999.00,9,  -999.0,9,  -999.0,-999.000,9,-999.000,     -999.0,-999.0000,-999.000,     1.3080,-999.000
  316N138_4,       P06C,     172,          1,         12,        112,2,19920701,       1001,   -32.4980,  -176.2463,       5583,  3602.9,   1.4041,  34.7233,2,  34.7231,2,    198.0,2,   197.4,2,  108.29,2,   31.09,3,    0.00,2, -999.00,5,-999.000,5,-999.000,5,  2259.0,2,  -999.0,9,-999.000,9,-999.0000,9, -999.00,9, -999.00,9,  -999.0,9,  -999.0,-999.000,9,-999.000,     -999.0,-999.0000,-999.000,     1.1295,-999.000
  316N138_4,       P06C,     172,          1,         11,        129,2,19920701,       1001,   -32.4980,  -176.2463,       5583,  3804.7,   1.2670,  34.7199,2,  34.7207,2,    201.7,2,   208.0,4,  111.78,2,   31.07,3,    0.00,2, -999.00,5,-999.000,5,-999.000,5,  2258.9,2,  -999.0,9,-999.000,9,-999.0000,9, -999.00,9, -999.00,9,  -999.0,9,  -999.0,-999.000,9,-999.000,     -999.0,-999.0000,-999.000,     0.9753,-999.000
  316N138_4,       P06C,     172,          1,         10,        110,2,19920701,       1001,   -32.4980,  -176.2463,       5583,  4009.4,   1.1522,  34.7166,2,  34.7164,2,    204.4,2,   203.0,2,  114.93,2,   31.21,3,    0.00,2, -999.00,5,-999.000,5,-999.000,5,  2259.4,2,  -999.0,9,-999.000,9,-999.0000,9, -999.00,9, -999.00,9,  -999.0,9,  -999.0,-999.000,9,-999.000,     -999.0,-999.0000,-999.000,     0.8419,-999.000
  316N138_4,       P06C,     172,          1,          9,        126,2,19920701,       1001,   -32.4980,  -176.2463,       5583,  4222.2,   1.0823,  34.7126,2,  34.7129,2,    206.3,2,   206.3,2,  116.76,2,   31.34,3,    0.00,2, -999.00,5,-999.000,5,-999.000,5,  2259.9,2,  -999.0,9,-999.000,9,-999.0000,9, -999.00,9, -999.00,9,  -999.0,9,  -999.0,-999.000,9,-999.000,     -999.0,-999.0000,-999.000,     0.7511,-999.000
  316N138_4,       P06C,     172,          1,          8,        108,2,19920701,       1001,   -32.4980,  -176.2463,       5583,  4429.7,   1.0402,  34.7099,2,  34.7107,2,    207.1,2,   209.3,3,  118.42,2,   31.42,3,    0.01,2, -999.00,5,-999.000,5,-999.000,5,  2260.4,2,  -999.0,9,-999.000,9,-999.0000,9, -999.00,9, -999.00,9,  -999.0,9,  -999.0,-999.000,9,-999.000,     -999.0,-999.0000,-999.000,     0.6872,-999.000
  316N138_4,       P06C,     172,          1,          7,        107,2,19920701,       1001,   -32.4980,  -176.2463,       5583,  4640.4,   1.0239,  34.7091,2,  34.7093,2,    207.5,2,   207.3,2,  119.58,2,   31.49,3,    0.01,2, -999.00,5,-999.000,5,-999.000,5,  2260.4,2,  -999.0,9,-999.000,9,-999.0000,9, -999.00,9, -999.00,9,  -999.0,9,  -999.0,-999.000,9,-999.000,     -999.0,-999.0000,-999.000,     0.6476,-999.000
  316N138_4,       P06C,     172,          1,          6,        180,2,19920701,       1001,   -32.4980,  -176.2463,       5583,  4844.5,   1.0269,  34.7087,2,  34.7085,2,    208.0,2,   207.7,2,  120.24,2,   31.62,3,    0.01,2, -999.00,5,-999.000,5,-999.000,5,  2261.1,2,  -999.0,9,-999.000,9,-999.0000,9, -999.00,9, -999.00,9,  -999.0,9,  -999.0,-999.000,9,-999.000,     -999.0,-999.0000,-999.000,     0.6268,-999.000
  316N138_4,       P06C,     172,          1,          5,        131,2,19920701,       1001,   -32.4980,  -176.2463,       5583,  5052.3,   1.0350,  34.7080,2,  34.7083,2,    208.0,2,   214.6,3,  120.75,2,   31.77,3,    0.00,2, -999.00,5,-999.000,5,-999.000,5,  2261.8,2,  -999.0,9,-999.000,9,-999.0000,9, -999.00,9, -999.00,9,  -999.0,9,  -999.0,-999.000,9,-999.000,     -999.0,-999.0000,-999.000,     0.6101,-999.000
  316N138_4,       P06C,     172,          1,          4,        104,2,19920701,       1001,   -32.4980,  -176.2463,       5583,  5261.9,   1.0484,  34.7078,2,  34.7077,2,    207.6,2,   213.2,3,  121.25,2,   31.85,3,    0.00,2, -999.00,5,-999.000,5,-999.000,5,  2262.4,2,  -999.0,9,-999.000,9,-999.0000,9, -999.00,9, -999.00,9,  -999.0,9,  -999.0,-999.000,9,-999.000,     -999.0,-999.0000,-999.000,     0.5978,-999.000
  316N138_4,       P06C,     172,          1,          3,        130,2,19920701,       1001,   -32.4980,  -176.2463,       5583,  5479.0,   1.0717,  34.7070,2,  34.7074,2,    207.8,2,   206.3,2,  121.42,2,   32.02,2,    0.00,2, -999.00,5,-999.000,5,-999.000,5,  2263.0,2,  -999.0,9,-999.000,9,-999.0000,9, -999.00,9, -999.00,9,  -999.0,9,  -999.0,-999.000,9,-999.000,     -999.0,-999.0000,-999.000,     0.5934,-999.000
  316N138_4,       P06C,     172,          1,          2,        135,2,19920701,       1001,   -32.4980,  -176.2463,       5583,  5686.6,   1.0944,  34.7074,2,  34.7077,2,    207.3,2,  -999.0,9,  121.42,2,   32.10,2,    0.01,2, -999.00,5,-999.000,5,-999.000,5,  2263.4,2,  -999.0,9,-999.000,9,-999.0000,9, -999.00,9, -999.00,9,  -999.0,9,  -999.0,-999.000,9,-999.000,     -999.0,-999.0000,-999.000,     0.5889,-999.000
  316N138_4,       P06C,     172,          1,          1,        134,2,19920701,       1001,   -32.4980,  -176.2463,       5583,  5761.6,   1.1042,  34.7066,2,  34.7077,2,    249.3,2,  -999.0,9,  121.39,2,   32.34,2,    0.01,2, -999.00,5,-999.000,5,-999.000,5,  2261.8,6,  -999.0,9,-999.000,9,-999.0000,9, -999.00,9, -999.00,9,  -999.0,9,  -999.0,-999.000,9,-999.000,     -999.0,-999.0000,-999.000,     0.5888,-999.000