BOTTLE,20211025CCHSIORKP
EXPOCODE,SECT_ID,STNNBR,CASTNO,SAMPNO,BTLNBR,BTLNBR_FLAG_W,DATE,TIME,LATITUDE,LONGITUDE,DEPTH,CTDPRS,CTDTMP,CTDSAL,CTDSAL_FLAG_W,SALNTY,SALNTY_FLAG_W,CTDOXY,CTDOXY_FLAG_W,OXYGEN,OXYGEN_FLAG_W,SILCAT,SILCAT_FLAG_W,NITRAT,NITRAT_FLAG_W,NITRIT,NITRIT_FLAG_W,PHSPHT,PHSPHT_FLAG_W,CFC-11,CFC-11_FLAG_W,CFC-12,CFC-12_FLAG_W,TCARBN,TCARBN_FLAG_W,PCO2,PCO2_FLAG_W,TRITUM,TRITUM_FLAG_W,HELIUM,HELIUM_FLAG_W,DELHE3,DELHE3_FLAG_W,DELC13,DELC13_FLAG_W,DELC14,DELC14_FLAG_W,C14ERR,NEON,NEON_FLAG_W,NEONER,PCO2TMP,HELIER,DELHER,THETA,TRITER
,,,,,,,,,,,METERS,DBAR,ITS-90,PSS-78,,PSS-78,,UMOL/KG,,UMOL/KG,,UMOL/KG,,UMOL/KG,,UMOL/KG,,UMOL/KG,,PMOL/KG,,PMOL/KG,,UMOL/KG,,UATM,,TU,,NMOL/KG,,PERCNT,,/MILLE,,/MILLE,,/MILLE,NMOL/KG,,NMOL/KG,DEG_C,NMOL/KG,PERCNT,ITS-90,TU
  316N138_4,       P06C,     135,          1,         36,    02-9121,2,19920621,       1309,   -32.5140,  -156.4818,       5300,    21.1,  17.1418,  35.1743,2,  35.1729,2,    266.6,3,   237.1,2,    0.21,2,    0.01,2,    0.00,2,    0.16,2,-999.000,5,-999.000,5,  -999.0,9,  -999.0,9,-999.000,9,-999.0000,9, -999.00,9, -999.00,9,  -999.0,9,  -999.0,-999.000,9,-999.000,     -999.0,-999.0000,-999.000,    17.1383,-999.000
  316N138_4,       P06C,     135,          1,         35,    02-9454,2,19920621,       1309,   -32.5140,  -156.4818,       5300,    61.5,  17.1544,  35.1864,2,  35.1798,2,    237.8,2,   237.1,2,    0.21,2,    0.00,2,    0.00,2,    0.16,2,-999.000,5,-999.000,5,  -999.0,9,  -999.0,9,-999.000,9,-999.0000,9, -999.00,9, -999.00,9,  -999.0,9,  -999.0,-999.000,9,-999.000,     -999.0,-999.0000,-999.000,    17.1442,-999.000
  316N138_4,       P06C,     135,          1,         34,    02-9457,2,19920621,       1309,   -32.5140,  -156.4818,       5300,   111.2,  17.0066,  35.2011,2,  35.1992,2,    236.7,2,   237.7,2,    0.21,2,    0.00,2,    0.00,2,    0.08,2,-999.000,5,-999.000,5,  -999.0,9,  -999.0,9,-999.000,9,-999.0000,9, -999.00,9, -999.00,9,  -999.0,9,  -999.0,-999.000,9,-999.000,     -999.0,-999.0000,-999.000,    16.9882,-999.000
  316N138_4,       P06C,     135,          1,         33,    02-5367,2,19920621,       1309,   -32.5140,  -156.4818,       5300,   159.7,  14.7476,  35.1566,2,  35.1347,2,    233.8,2,   232.5,2,    0.52,2,    1.43,2,    0.11,2,    0.25,2,-999.000,5,-999.000,5,  -999.0,9,  -999.0,9,-999.000,9,-999.0000,9, -999.00,9, -999.00,9,  -999.0,9,  -999.0,-999.000,9,-999.000,     -999.0,-999.0000,-999.000,    14.7237,-999.000
  316N138_4,       P06C,     135,          1,         32,    02-9540,2,19920621,       1309,   -32.5140,  -156.4818,       5300,   210.6,  13.1837,  35.0174,2,  34.9959,2,    214.4,2,   219.7,2,    1.28,2,    5.93,2,    0.01,2,    0.52,2,-999.000,5,-999.000,5,  -999.0,9,  -999.0,9,-999.000,9,-999.0000,9, -999.00,9, -999.00,9,  -999.0,9,  -999.0,-999.000,9,-999.000,     -999.0,-999.0000,-999.000,    13.1545,-999.000
  316N138_4,       P06C,     135,          1,         31,    02-9539,2,19920621,       1309,   -32.5140,  -156.4818,       5300,   259.4,  11.5392,  34.8463,2,  34.8229,2,    212.1,2,   212.3,2,    2.04,2,   10.84,2,    0.00,2,    0.78,2,-999.000,5,-999.000,5,  -999.0,9,  -999.0,9,-999.000,9,-999.0000,9, -999.00,9, -999.00,9,  -999.0,9,  -999.0,-999.000,9,-999.000,     -999.0,-999.0000,-999.000,    11.5062,-999.000
  316N138_4,       P06C,     135,          1,         30,    02-9456,2,19920621,       1309,   -32.5140,  -156.4818,       5300,   309.9,   9.7955,  34.7083,2,  34.6608,2,    211.0,2,   212.3,2,    3.12,2,   15.16,2,    0.00,2,    1.03,2,-999.000,5,-999.000,5,  -999.0,9,  -999.0,9,-999.000,9,-999.0000,9, -999.00,9, -999.00,9,  -999.0,9,  -999.0,-999.000,9,-999.000,     -999.0,-999.0000,-999.000,     9.7600,-999.000
  316N138_4,       P06C,     135,          1,         29,    02-9458,2,19920621,       1309,   -32.5140,  -156.4818,       5300,   360.0,   8.9406,  34.5703,2,  34.5728,2,    219.6,2,   219.8,2,    3.72,2,   16.98,2,    0.00,2,    1.13,2,-999.000,5,-999.000,5,  -999.0,9,  -999.0,9,-999.000,9,-999.0000,9, -999.00,9, -999.00,9,  -999.0,9,  -999.0,-999.000,9,-999.000,     -999.0,-999.0000,-999.000,     8.9014,-999.000
  316N138_4,       P06C,     135,          1,         28,    02-9545,2,19920621,       1309,   -32.5140,  -156.4818,       5300,   409.7,   8.2397,  34.5143,2,  34.5135,2,    228.2,2,   228.4,2,    4.34,2,   18.45,2,    0.00,2,    1.21,2,-999.000,5,-999.000,5,  -999.0,9,  -999.0,9,-999.000,9,-999.0000,9, -999.00,9, -999.00,9,  -999.0,9,  -999.0,-999.000,9,-999.000,     -999.0,-999.0000,-999.000,     8.1973,-999.000
  316N138_4,       P06C,     135,          1,         27,    02-9453,2,19920621,       1309,   -32.5140,  -156.4818,       5300,   508.7,   7.4910,  34.4539,2,  34.4524,2,    236.7,2,   235.7,2,    5.71,2,   20.32,2,    0.01,2,    1.31,2,-999.000,5,-999.000,5,  -999.0,9,  -999.0,9,-999.000,9,-999.0000,9, -999.00,9, -999.00,9,  -999.0,9,  -999.0,-999.000,9,-999.000,     -999.0,-999.0000,-999.000,     7.4409,-999.000
  316N138_4,       P06C,     135,          1,         26,    02-9544,2,19920621,       1309,   -32.5140,  -156.4818,       5300,   611.5,   6.9565,  34.4067,2,  34.4061,2,    240.1,2,   239.1,2,    6.94,2,   21.93,2,    0.01,2,    1.42,2,-999.000,5,-999.000,5,  -999.0,9,  -999.0,9,-999.000,9,-999.0000,9, -999.00,9, -999.00,9,  -999.0,9,  -999.0,-999.000,9,-999.000,     -999.0,-999.0000,-999.000,     6.8983,-999.000
  316N138_4,       P06C,     135,          1,         25,    02-9455,2,19920621,       1309,   -32.5140,  -156.4818,       5300,   711.1,   6.4599,  34.3665,2,  34.3639,2,    238.4,2,   238.5,2,    9.23,2,   23.77,2,    0.01,2,    1.51,2,-999.000,5,-999.000,5,  -999.0,9,  -999.0,9,-999.000,9,-999.0000,9, -999.00,9, -999.00,9,  -999.0,9,  -999.0,-999.000,9,-999.000,     -999.0,-999.0000,-999.000,     6.3945,-999.000
  316N138_4,       P06C,     135,          1,         24,        132,2,19920621,       1309,   -32.5140,  -156.4818,       5300,   908.5,   5.2713,  34.3177,2,  34.3168,2,    222.0,2,   220.4,2,   18.87,2,   28.35,2,    0.01,2,    1.81,2,-999.000,5,-999.000,5,  -999.0,9,  -999.0,9,-999.000,9,-999.0000,9, -999.00,9, -999.00,9,  -999.0,9,  -999.0,-999.000,9,-999.000,     -999.0,-999.0000,-999.000,     5.1947,-999.000
  316N138_4,       P06C,     135,          1,         23,        123,2,19920621,       1309,   -32.5140,  -156.4818,       5300,  1103.4,   4.2851,  34.3507,2,  34.3472,2,    196.3,2,   194.7,2,   34.64,2,   32.02,2,    0.01,2,    2.06,2,-999.000,5,-999.000,5,  -999.0,9,  -999.0,9,-999.000,9,-999.0000,9, -999.00,9, -999.00,9,  -999.0,9,  -999.0,-999.000,9,-999.000,     -999.0,-999.0000,-999.000,     4.1986,-999.000
  316N138_4,       P06C,     135,          1,         22,        128,2,19920621,       1309,   -32.5140,  -156.4818,       5300,  1302.1,   3.3288,  34.4278,2,  34.4279,2,    179.4,2,   178.7,2,   55.44,2,   34.32,2,    0.01,2,    2.26,2,-999.000,5,-999.000,5,  -999.0,9,  -999.0,9,-999.000,9,-999.0000,9, -999.00,9, -999.00,9,  -999.0,9,  -999.0,-999.000,9,-999.000,     -999.0,-999.0000,-999.000,     3.2341,-999.000
  316N138_4,       P06C,     135,          1,         21,        121,2,19920621,       1309,   -32.5140,  -156.4818,       5300,  1501.5,   2.8285,  34.5219,2,  34.5213,2,    165.1,2,   164.7,2,   75.49,2,   35.02,2,    0.01,2,    2.34,2,-999.000,5,-999.000,5,  -999.0,9,  -999.0,9,-999.000,9,-999.0000,9, -999.00,9, -999.00,9,  -999.0,9,  -999.0,-999.000,9,-999.000,     -999.0,-999.0000,-999.000,     2.7226,-999.000
  316N138_4,       P06C,     135,          1,         20,        120,2,19920621,       1309,   -32.5140,  -156.4818,       5300,  1697.8,   2.5120,  34.5882,2,  34.5879,2,    156.5,2,   156.2,2,   94.61,2,   35.36,3,    0.01,2,    2.41,2,-999.000,5,-999.000,5,  -999.0,9,  -999.0,9,-999.000,9,-999.0000,9, -999.00,9, -999.00,9,  -999.0,9,  -999.0,-999.000,9,-999.000,     -999.0,-999.0000,-999.000,     2.3937,-999.000
  316N138_4,       P06C,     135,          1,         19,        133,2,19920621,       1309,   -32.5140,  -156.4818,       5300,  1893.3,   2.3077,  34.6190,2,  34.6187,2,    151.7,2,   151.2,2,  106.69,2,   35.52,3,    0.01,2,    2.46,2,-999.000,5,-999.000,5,  -999.0,9,  -999.0,9,-999.000,9,-999.0000,9, -999.00,9, -999.00,9,  -999.0,9,  -999.0,-999.000,9,-999.000,     -999.0,-999.0000,-999.000,     2.1758,-999.000
  316N138_4,       P06C,     135,          1,         18,        118,2,19920621,       1309,   -32.5140,  -156.4818,       5300,  2089.3,   2.1613,  34.6356,2,  34.6352,2,    149.5,2,   149.3,2,  114.49,2,   35.40,3,    0.01,2,    2.47,2,-999.000,5,-999.000,5,  -999.0,9,  -999.0,9,-999.000,9,-999.0000,9, -999.00,9, -999.00,9,  -999.0,9,  -999.0,-999.000,9,-999.000,     -999.0,-999.0000,-999.000,     2.0147,-999.000
  316N138_4,       P06C,     135,          1,         17,        117,2,19920621,       1309,   -32.5140,  -156.4818,       5300,  2276.4,   2.0454,  34.6461,2,  34.6478,2,    147.9,2,   147.3,2,  120.45,2,   35.42,3,    0.01,2,    2.50,2,-999.000,5,-999.000,5,  -999.0,9,  -999.0,9,-999.000,9,-999.0000,9, -999.00,9, -999.00,9,  -999.0,9,  -999.0,-999.000,9,-999.000,     -999.0,-999.0000,-999.000,     1.8844,-999.000
  316N138_4,       P06C,     135,          1,         16,        116,2,19920621,       1309,   -32.5140,  -156.4818,       5300,  2469.0,   1.9528,  34.6547,2,  34.6553,2,    147.0,2,   146.8,2,  125.18,2,   35.44,3,    0.00,2,    2.50,2,-999.000,5,-999.000,5,  -999.0,9,  -999.0,9,-999.000,9,-999.0000,9, -999.00,9, -999.00,9,  -999.0,9,  -999.0,-999.000,9,-999.000,     -999.0,-999.0000,-999.000,     1.7762,-999.000
  316N138_4,       P06C,     135,          1,         15,        115,2,19920621,       1309,   -32.5140,  -156.4818,       5300,  2661.2,   1.8812,  34.6606,2,  34.6596,2,    147.2,2,   147.8,2,  127.78,2,   35.47,3,   -0.01,2,    2.53,2,-999.000,5,-999.000,5,  -999.0,9,  -999.0,9,-999.000,9,-999.0000,9, -999.00,9, -999.00,9,  -999.0,9,  -999.0,-999.000,9,-999.000,     -999.0,-999.0000,-999.000,     1.6884,-999.000
  316N138_4,       P06C,     135,          1,         14,        114,2,19920621,       1309,   -32.5140,  -156.4818,       5300,  2851.0,   1.8225,  34.6664,2,  34.6661,2,    149.2,2,   148.8,2,  129.46,2,   35.53,3,    0.00,2,    2.51,2,-999.000,5,-999.000,5,  -999.0,9,  -999.0,9,-999.000,9,-999.0000,9, -999.00,9, -999.00,9,  -999.0,9,  -999.0,-999.000,9,-999.000,     -999.0,-999.0000,-999.000,     1.6129,-999.000
  316N138_4,       P06C,     135,          1,         13,        125,2,19920621,       1309,   -32.5140,  -156.4818,       5300,  3043.4,   1.7629,  34.6730,2,  34.6720,2,    150.8,2,   152.0,2,  130.06,2,   35.36,3,    0.00,2,    2.48,2,-999.000,5,-999.000,5,  -999.0,9,  -999.0,9,-999.000,9,-999.0000,9, -999.00,9, -999.00,9,  -999.0,9,  -999.0,-999.000,9,-999.000,     -999.0,-999.0000,-999.000,     1.5361,-999.000
  316N138_4,       P06C,     135,          1,         12,        112,2,19920621,       1309,   -32.5140,  -156.4818,       5300,  3237.1,   1.7015,  34.6795,2,  34.6798,2,    156.9,2,   157.3,2,  128.53,2,   35.06,3,    0.00,2,    2.46,2,-999.000,5,-999.000,5,  -999.0,9,  -999.0,9,-999.000,9,-999.0000,9, -999.00,9, -999.00,9,  -999.0,9,  -999.0,-999.000,9,-999.000,     -999.0,-999.0000,-999.000,     1.4571,-999.000
  316N138_4,       P06C,     135,          1,         11,        129,2,19920621,       1309,   -32.5140,  -156.4818,       5300,  3431.4,   1.6335,  34.6906,2,  34.6893,2,    166.3,2,   166.5,2,  124.39,2,   34.39,3,    0.00,2,    2.41,2,-999.000,5,-999.000,5,  -999.0,9,  -999.0,9,-999.000,9,-999.0000,9, -999.00,9, -999.00,9,  -999.0,9,  -999.0,-999.000,9,-999.000,     -999.0,-999.0000,-999.000,     1.3711,-999.000
  316N138_4,       P06C,     135,          1,         10,        110,2,19920621,       1309,   -32.5140,  -156.4818,       5300,  3624.3,   1.5725,  34.7007,2,  34.6997,2,    175.4,2,   175.3,2,  119.34,2,   33.76,3,    0.00,2,    2.35,2,-999.000,5,-999.000,5,  -999.0,9,  -999.0,9,-999.000,9,-999.0000,9, -999.00,9, -999.00,9,  -999.0,9,  -999.0,-999.000,9,-999.000,     -999.0,-999.0000,-999.000,     1.2916,-999.000
  316N138_4,       P06C,     135,          1,          9,        126,2,19920621,       1309,   -32.5140,  -156.4818,       5300,  3816.1,   1.5013,  34.7082,2,  34.7072,2,    183.6,2,   184.3,2,  115.81,2,   33.17,3,    0.00,2,    2.29,2,-999.000,5,-999.000,5,  -999.0,9,  -999.0,9,-999.000,9,-999.0000,9, -999.00,9, -999.00,9,  -999.0,9,  -999.0,-999.000,9,-999.000,     -999.0,-999.0000,-999.000,     1.2020,-999.000
  316N138_4,       P06C,     135,          1,          8,        108,2,19920621,       1309,   -32.5140,  -156.4818,       5300,  4012.3,   1.4137,  34.7139,2,  34.7134,2,    192.5,2,   193.6,2,  113.51,2,   32.78,3,    0.00,2,    2.26,2,-999.000,5,-999.000,5,  -999.0,9,  -999.0,9,-999.000,9,-999.0000,9, -999.00,9, -999.00,9,  -999.0,9,  -999.0,-999.000,9,-999.000,     -999.0,-999.0000,-999.000,     1.0956,-999.000
  316N138_4,       P06C,     135,          1,          7,        107,2,19920621,       1309,   -32.5140,  -156.4818,       5300,  4201.8,   1.2998,  34.7156,2,  34.7148,2,    198.0,2,   199.4,2,  113.81,2,   32.70,3,    0.00,2,    2.25,2,-999.000,5,-999.000,5,  -999.0,9,  -999.0,9,-999.000,9,-999.0000,9, -999.00,9, -999.00,9,  -999.0,9,  -999.0,-999.000,9,-999.000,     -999.0,-999.0000,-999.000,     0.9644,-999.000
  316N138_4,       P06C,     135,          1,          6,        180,2,19920621,       1309,   -32.5140,  -156.4818,       5300,  4398.0,   1.2177,  34.7150,2,  34.7142,2,    201.4,2,   201.3,2,  115.19,2,   32.86,3,    0.00,2,    2.24,2,-999.000,5,-999.000,5,  -999.0,9,  -999.0,9,-999.000,9,-999.0000,9, -999.00,9, -999.00,9,  -999.0,9,  -999.0,-999.000,9,-999.000,     -999.0,-999.0000,-999.000,     0.8629,-999.000
  316N138_4,       P06C,     135,          1,          5,        131,2,19920621,       1309,   -32.5140,  -156.4818,       5300,  4589.2,   1.1445,  34.7123,2,  34.7109,2,    203.6,2,   203.6,2,  117.47,2,   33.10,3,    0.01,2,    2.25,2,-999.000,5,-999.000,5,  -999.0,9,  -999.0,9,-999.000,9,-999.0000,9, -999.00,9, -999.00,9,  -999.0,9,  -999.0,-999.000,9,-999.000,     -999.0,-999.0000,-999.000,     0.7702,-999.000
  316N138_4,       P06C,     135,          1,          4,        104,2,19920621,       1309,   -32.5140,  -156.4818,       5300,  4786.4,   1.1153,  34.7111,2,  34.7119,2,    205.1,2,   205.0,2,  118.23,2,   33.17,3,    0.00,2,    2.25,2,-999.000,5,-999.000,5,  -999.0,9,  -999.0,9,-999.000,9,-999.0000,9, -999.00,9, -999.00,9,  -999.0,9,  -999.0,-999.000,9,-999.000,     -999.0,-999.0000,-999.000,     0.7192,-999.000
  316N138_4,       P06C,     135,          1,          3,        130,2,19920621,       1309,   -32.5140,  -156.4818,       5300,  4985.2,   1.1027,  34.7105,2,  34.7099,2,    205.7,2,   205.7,2,  119.30,2,   33.09,3,    0.01,2,    2.26,2,-999.000,5,-999.000,5,  -999.0,9,  -999.0,9,-999.000,9,-999.0000,9, -999.00,9, -999.00,9,  -999.0,9,  -999.0,-999.000,9,-999.000,     -999.0,-999.0000,-999.000,     0.6835,-999.000
  316N138_4,       P06C,     135,          1,          2,        135,2,19920621,       1309,   -32.5140,  -156.4818,       5300,  5196.2,   1.1108,  34.7108,2,  34.7101,2,    206.1,2,   206.1,2,  119.60,2,   33.01,3,    0.01,2,    2.27,2,-999.000,5,-999.000,5,  -999.0,9,  -999.0,9,-999.000,9,-999.0000,9, -999.00,9, -999.00,9,  -999.0,9,  -999.0,-999.000,9,-999.000,     -999.0,-999.0000,-999.000,     0.6659,-999.000
  316N138_4,       P06C,     135,          1,          1,        134,2,19920621,       1309,   -32.5140,  -156.4818,       5300,  5381.6,   1.1313,  34.7103,2,  34.7105,2,    204.4,2,   205.7,2,  120.03,2,   32.09,3,    0.01,2,    2.28,2,-999.000,5,-999.000,5,  -999.0,9,  -999.0,9,-999.000,9,-999.0000,9, -999.00,9, -999.00,9,  -999.0,9,  -999.0,-999.000,9,-999.000,     -999.0,-999.0000,-999.000,     0.6628,-999.000