BOTTLE,20211025CCHSIORKP
EXPOCODE,SECT_ID,STNNBR,CASTNO,SAMPNO,BTLNBR,BTLNBR_FLAG_W,DATE,TIME,LATITUDE,LONGITUDE,DEPTH,CTDPRS,CTDTMP,CTDSAL,CTDSAL_FLAG_W,SALNTY,SALNTY_FLAG_W,CTDOXY,CTDOXY_FLAG_W,OXYGEN,OXYGEN_FLAG_W,SILCAT,SILCAT_FLAG_W,NITRAT,NITRAT_FLAG_W,NITRIT,NITRIT_FLAG_W,PHSPHT,PHSPHT_FLAG_W,CFC-11,CFC-11_FLAG_W,CFC-12,CFC-12_FLAG_W,TCARBN,TCARBN_FLAG_W,PCO2,PCO2_FLAG_W,TRITUM,TRITUM_FLAG_W,HELIUM,HELIUM_FLAG_W,DELHE3,DELHE3_FLAG_W,DELC13,DELC13_FLAG_W,DELC14,DELC14_FLAG_W,C14ERR,NEON,NEON_FLAG_W,NEONER,PCO2TMP,HELIER,DELHER,THETA,TRITER
,,,,,,,,,,,METERS,DBAR,ITS-90,PSS-78,,PSS-78,,UMOL/KG,,UMOL/KG,,UMOL/KG,,UMOL/KG,,UMOL/KG,,UMOL/KG,,PMOL/KG,,PMOL/KG,,UMOL/KG,,UATM,,TU,,NMOL/KG,,PERCNT,,/MILLE,,/MILLE,,/MILLE,NMOL/KG,,NMOL/KG,DEG_C,NMOL/KG,PERCNT,ITS-90,TU
  316N138_4,       P06C,     132,          1,         36,    02-9121,2,19920620,       1532,   -32.5040,  -153.9917,       5017,    23.8,  18.4906,  35.4085,2,  35.4082,2,    256.7,3,   231.3,2,    0.50,2,    0.02,2,    0.00,2,    0.11,2,-999.000,5,-999.000,5,  -999.0,9,  -999.0,9,-999.000,9,-999.0000,9, -999.00,9, -999.00,9,  -999.0,9,  -999.0,-999.000,9,-999.000,     -999.0,-999.0000,-999.000,    18.4865,-999.000
  316N138_4,       P06C,     132,          1,         35,    02-9454,2,19920620,       1532,   -32.5040,  -153.9917,       5017,    64.2,  18.5053,  35.4100,2,  35.4089,2,    231.5,2,   230.6,2,    0.50,2,    0.01,2,    0.00,2,    0.10,2,   2.357,6,   1.319,6,  -999.0,9,  -999.0,9,-999.000,9,-999.0000,9, -999.00,9, -999.00,9,  -999.0,9,  -999.0,-999.000,9,-999.000,     -999.0,-999.0000,-999.000,    18.4941,-999.000
  316N138_4,       P06C,     132,          1,         34,    02-9457,2,19920620,       1532,   -32.5040,  -153.9917,       5017,   114.0,  18.4656,  35.4250,2,  35.4005,2,    226.0,2,   233.6,2,    0.50,2,    0.05,2,    0.01,2,    0.11,2,   2.376,2,   1.263,2,  -999.0,9,  -999.0,9,-999.000,9,-999.0000,9, -999.00,9, -999.00,9,  -999.0,9,  -999.0,-999.000,9,-999.000,     -999.0,-999.0000,-999.000,    18.4457,-999.000
  316N138_4,       P06C,     132,          1,         33,    02-5367,2,19920620,       1532,   -32.5040,  -153.9917,       5017,   163.1,  16.0433,  35.3523,2,  35.3510,2,    223.4,2,   228.7,2,    0.78,2,    0.91,2,    0.15,2,    0.25,2,   2.500,2,   1.343,2,  -999.0,9,  -999.0,9,-999.000,9,-999.0000,9, -999.00,9, -999.00,9,  -999.0,9,  -999.0,-999.000,9,-999.000,     -999.0,-999.0000,-999.000,    16.0175,-999.000
  316N138_4,       P06C,     132,          1,         32,    02-9540,2,19920620,       1532,   -32.5040,  -153.9917,       5017,   237.4,  14.7570,  35.2509,2,  35.2385,2,    203.5,2,   209.8,2,    1.47,2,    4.93,2,    0.01,2,    0.49,2,   2.349,2,   1.245,2,  -999.0,9,  -999.0,9,-999.000,9,-999.0000,9, -999.00,9, -999.00,9,  -999.0,9,  -999.0,-999.000,9,-999.000,     -999.0,-999.0000,-999.000,    14.7213,-999.000
  316N138_4,       P06C,     132,          1,         31,    02-9539,2,19920620,       1532,   -32.5040,  -153.9917,       5017,   313.9,  12.3476,  34.9601,2,  34.9300,2,    200.4,2,   203.4,2,    2.44,2,   10.52,2,    0.00,2,    0.81,2,   2.115,2,   1.093,2,  -999.0,9,  -999.0,9,-999.000,9,-999.0000,9, -999.00,9, -999.00,9,  -999.0,9,  -999.0,-999.000,9,-999.000,     -999.0,-999.0000,-999.000,    12.3057,-999.000
  316N138_4,       P06C,     132,          1,         30,    02-9456,3,19920620,       1532,   -32.5040,  -153.9917,       5017,   387.7,   9.7703,  34.6766,2,  34.8521,4,    208.6,2,   211.5,3,    3.13,2,   12.28,2,    0.01,2,    0.90,2,-999.000,5,-999.000,5,  -999.0,9,  -999.0,9,-999.000,9,-999.0000,9, -999.00,9, -999.00,9,  -999.0,9,  -999.0,-999.000,9,-999.000,     -999.0,-999.0000,-999.000,     9.7257,-999.000
  316N138_4,       P06C,     132,          1,         29,    02-9458,2,19920620,       1532,   -32.5040,  -153.9917,       5017,   463.8,   8.2917,  34.5231,2,  34.5188,2,    225.2,2,   225.3,2,    4.80,2,   18.79,2,    0.00,2,    1.28,2,   1.814,6,   0.892,6,  -999.0,9,  -999.0,9,-999.000,9,-999.0000,9, -999.00,9, -999.00,9,  -999.0,9,  -999.0,-999.000,9,-999.000,     -999.0,-999.0000,-999.000,     8.2433,-999.000
  316N138_4,       P06C,     132,          1,         28,    02-9545,2,19920620,       1532,   -32.5040,  -153.9917,       5017,   538.0,   7.5311,  34.4550,2,  34.4563,2,    235.9,2,   235.3,2,    5.76,2,   20.36,2,    0.00,2,    1.36,2,   1.694,2,   0.834,2,  -999.0,9,  -999.0,9,-999.000,9,-999.0000,9, -999.00,9, -999.00,9,  -999.0,9,  -999.0,-999.000,9,-999.000,     -999.0,-999.0000,-999.000,     7.4778,-999.000
  316N138_4,       P06C,     132,          1,         27,    02-9453,2,19920620,       1532,   -32.5040,  -153.9917,       5017,   614.1,   7.1026,  34.4172,2,  34.4169,2,    239.7,2,   241.6,2,    6.73,2,   21.40,2,    0.01,2,    1.43,2,   1.366,2,   0.679,2,  -999.0,9,  -999.0,9,-999.000,9,-999.0000,9, -999.00,9, -999.00,9,  -999.0,9,  -999.0,-999.000,9,-999.000,     -999.0,-999.0000,-999.000,     7.0434,-999.000
  316N138_4,       P06C,     132,          1,         26,    02-9544,2,19920620,       1532,   -32.5040,  -153.9917,       5017,   715.2,   6.7277,  34.3851,2,  34.3859,2,    239.3,2,   238.3,2,    7.98,2,   22.50,2,    0.01,2,    1.49,2,   1.022,2,   0.519,2,  -999.0,9,  -999.0,9,-999.000,9,-999.0000,9, -999.00,9, -999.00,9,  -999.0,9,  -999.0,-999.000,9,-999.000,     -999.0,-999.0000,-999.000,     6.6604,-999.000
  316N138_4,       P06C,     132,          1,         25,    02-9455,2,19920620,       1532,   -32.5040,  -153.9917,       5017,   814.2,   6.1993,  34.3444,2,  34.3468,2,    234.6,2,   234.8,2,   10.47,2,   24.24,2,    0.01,2,    1.60,2,   0.617,2,   0.328,2,  -999.0,9,  -999.0,9,-999.000,9,-999.0000,9, -999.00,9, -999.00,9,  -999.0,9,  -999.0,-999.000,9,-999.000,     -999.0,-999.0000,-999.000,     6.1254,-999.000
  316N138_4,       P06C,     132,          1,         24,        132,2,19920620,       1532,   -32.5040,  -153.9917,       5017,   915.0,   5.5815,  34.3227,2,  34.3219,2,    223.4,2,   222.5,2,   16.14,2,   26.86,2,    0.00,2,    1.77,2,   0.316,2,   0.174,2,  -999.0,9,  -999.0,9,-999.000,9,-999.0000,9, -999.00,9, -999.00,9,  -999.0,9,  -999.0,-999.000,9,-999.000,     -999.0,-999.0000,-999.000,     5.5021,-999.000
  316N138_4,       P06C,     132,          1,         23,        123,2,19920620,       1532,   -32.5040,  -153.9917,       5017,  1015.6,   4.9745,  34.3232,2,  34.3246,2,    208.4,2,   208.3,2,   24.02,2,   29.30,2,    0.00,2,    1.92,2,   0.133,2,   0.079,2,  -999.0,9,  -999.0,9,-999.000,9,-999.0000,9, -999.00,9, -999.00,9,  -999.0,9,  -999.0,-999.000,9,-999.000,     -999.0,-999.0000,-999.000,     4.8903,-999.000
  316N138_4,       P06C,     132,          1,         22,        128,2,19920620,       1532,   -32.5040,  -153.9917,       5017,  1115.7,   4.2369,  34.3538,2,  34.3527,2,    196.0,2,   206.4,4,   36.46,2,   31.86,2,    0.00,2,    2.11,2,   0.062,2,   0.031,2,  -999.0,9,  -999.0,9,-999.000,9,-999.0000,9, -999.00,9, -999.00,9,  -999.0,9,  -999.0,-999.000,9,-999.000,     -999.0,-999.0000,-999.000,     4.1497,-999.000
  316N138_4,       P06C,     132,          1,         21,        121,2,19920620,       1532,   -32.5040,  -153.9917,       5017,  1215.6,   3.7486,  34.3876,2,  34.3859,2,    188.1,2,   184.1,2,   45.87,2,   33.15,2,    0.00,2,    2.21,2,   0.015,6,   0.015,6,  -999.0,9,  -999.0,9,-999.000,9,-999.0000,9, -999.00,9, -999.00,9,  -999.0,9,  -999.0,-999.000,9,-999.000,     -999.0,-999.0000,-999.000,     3.6572,-999.000
  316N138_4,       P06C,     132,          1,         20,        120,2,19920620,       1532,   -32.5040,  -153.9917,       5017,  1418.2,   3.0042,  34.4813,2,  34.4807,2,    173.0,2,   170.0,2,   66.89,2,   34.58,2,    0.00,2,    2.34,2,-999.000,9,   0.007,2,  -999.0,9,  -999.0,9,-999.000,9,-999.0000,9, -999.00,9, -999.00,9,  -999.0,9,  -999.0,-999.000,9,-999.000,     -999.0,-999.0000,-999.000,     2.9033,-999.000
  316N138_4,       P06C,     132,          1,         19,        133,2,19920620,       1532,   -32.5040,  -153.9917,       5017,  1620.8,   2.6456,  34.5583,2,  34.5582,2,    161.8,2,   160.1,2,   84.99,2,   35.08,2,    0.00,2,    2.40,2,-999.000,5,-999.000,5,  -999.0,9,  -999.0,9,-999.000,9,-999.0000,9, -999.00,9, -999.00,9,  -999.0,9,  -999.0,-999.000,9,-999.000,     -999.0,-999.0000,-999.000,     2.5320,-999.000
  316N138_4,       P06C,     132,          1,         18,        118,2,19920620,       1532,   -32.5040,  -153.9917,       5017,  1822.9,   2.3817,  34.6107,2,  34.6097,2,    154.4,2,   153.9,2,  101.02,2,   35.45,2,    0.00,2,    2.46,2,  -0.003,2,  -0.002,2,  -999.0,9,  -999.0,9,-999.000,9,-999.0000,9, -999.00,9, -999.00,9,  -999.0,9,  -999.0,-999.000,9,-999.000,     -999.0,-999.0000,-999.000,     2.2547,-999.000
  316N138_4,       P06C,     132,          1,         17,        117,2,19920620,       1532,   -32.5040,  -153.9917,       5017,  2025.9,   2.2158,  34.6320,2,  34.6315,2,    150.4,2,   149.9,2,  111.12,2,   35.69,2,    0.00,2,    2.50,2,-999.000,5,-999.000,5,  -999.0,9,  -999.0,9,-999.000,9,-999.0000,9, -999.00,9, -999.00,9,  -999.0,9,  -999.0,-999.000,9,-999.000,     -999.0,-999.0000,-999.000,     2.0738,-999.000
  316N138_4,       P06C,     132,          1,         16,        116,2,19920620,       1532,   -32.5040,  -153.9917,       5017,  2229.9,   2.0643,  34.6455,2,  34.6455,2,    147.6,2,   147.4,2,  119.41,2,   35.97,2,    0.00,2,    2.54,2,  -0.004,2,   0.001,2,  -999.0,9,  -999.0,9,-999.000,9,-999.0000,9, -999.00,9, -999.00,9,  -999.0,9,  -999.0,-999.000,9,-999.000,     -999.0,-999.0000,-999.000,     1.9071,-999.000
  316N138_4,       P06C,     132,          1,         15,        115,2,19920620,       1532,   -32.5040,  -153.9917,       5017,  2433.4,   1.9703,  34.6536,2,  34.6535,2,    147.3,2,   148.0,2,  122.73,2,   35.97,2,    0.00,2,    2.54,2,-999.000,5,-999.000,5,  -999.0,9,  -999.0,9,-999.000,9,-999.0000,9, -999.00,9, -999.00,9,  -999.0,9,  -999.0,-999.000,9,-999.000,     -999.0,-999.0000,-999.000,     1.7966,-999.000
  316N138_4,       P06C,     132,          1,         14,        114,3,19920620,       1532,   -32.5040,  -153.9917,       5017,  2635.6,   1.8802,  34.6616,2,  34.6620,2,    148.8,2,   149.0,2,  126.60,2,   36.03,2,    0.00,2,    2.55,2,   0.000,2,  -0.004,2,  -999.0,9,  -999.0,9,-999.000,9,-999.0000,9, -999.00,9, -999.00,9,  -999.0,9,  -999.0,-999.000,9,-999.000,     -999.0,-999.0000,-999.000,     1.6898,-999.000
  316N138_4,       P06C,     132,          1,         13,        125,2,19920620,       1532,   -32.5040,  -153.9917,       5017,  2840.4,   1.8250,  34.6671,2,  34.6667,2,    149.5,2,   149.2,2,  129.09,2,   35.94,2,    0.00,2,    2.55,2,-999.000,5,-999.000,5,  -999.0,9,  -999.0,9,-999.000,9,-999.0000,9, -999.00,9, -999.00,9,  -999.0,9,  -999.0,-999.000,9,-999.000,     -999.0,-999.0000,-999.000,     1.6164,-999.000
  316N138_4,       P06C,     132,          1,         12,        112,2,19920620,       1532,   -32.5040,  -153.9917,       5017,  3042.9,   1.7566,  34.6742,2,  34.6736,2,    152.4,2,   152.5,2,  129.63,2,   35.75,2,    0.00,2,    2.53,2,  -0.005,2,  -0.002,2,  -999.0,9,  -999.0,9,-999.000,9,-999.0000,9, -999.00,9, -999.00,9,  -999.0,9,  -999.0,-999.000,9,-999.000,     -999.0,-999.0000,-999.000,     1.5300,-999.000
  316N138_4,       P06C,     132,          1,         11,        129,2,19920620,       1532,   -32.5040,  -153.9917,       5017,  3249.3,   1.6901,  34.6812,2,  34.6830,2,    157.7,2,   158.7,2,  127.97,2,   35.21,2,    0.00,2,    2.49,2,-999.000,5,-999.000,5,  -999.0,9,  -999.0,9,-999.000,9,-999.0000,9, -999.00,9, -999.00,9,  -999.0,9,  -999.0,-999.000,9,-999.000,     -999.0,-999.0000,-999.000,     1.4447,-999.000
  316N138_4,       P06C,     132,          1,         10,        110,2,19920620,       1532,   -32.5040,  -153.9917,       5017,  3452.4,   1.6231,  34.6916,2,  34.6905,2,    165.7,2,   166.3,2,  124.80,2,   34.52,2,    0.00,2,    2.45,2,  -0.003,2,  -0.001,2,  -999.0,9,  -999.0,9,-999.000,9,-999.0000,9, -999.00,9, -999.00,9,  -999.0,9,  -999.0,-999.000,9,-999.000,     -999.0,-999.0000,-999.000,     1.3588,-999.000
  316N138_4,       P06C,     132,          1,          9,        126,2,19920620,       1532,   -32.5040,  -153.9917,       5017,  3656.5,   1.5543,  34.6986,2,  34.6977,2,    174.3,2,   174.6,2,  121.20,2,   33.84,2,    0.00,2,    2.39,2,-999.000,5,-999.000,5,  -999.0,9,  -999.0,9,-999.000,9,-999.0000,9, -999.00,9, -999.00,9,  -999.0,9,  -999.0,-999.000,9,-999.000,     -999.0,-999.0000,-999.000,     1.2705,-999.000
  316N138_4,       P06C,     132,          1,          8,        108,2,19920620,       1532,   -32.5040,  -153.9917,       5017,  3860.2,   1.4552,  34.7062,2,  34.7054,2,    183.9,2,   184.2,2,  117.88,2,   33.15,2,    0.00,2,    2.33,2,  -0.002,2,  -0.004,2,  -999.0,9,  -999.0,9,-999.000,9,-999.0000,9, -999.00,9, -999.00,9,  -999.0,9,  -999.0,-999.000,9,-999.000,     -999.0,-999.0000,-999.000,     1.1524,-999.000
  316N138_4,       P06C,     132,          1,          7,        107,2,19920620,       1532,   -32.5040,  -153.9917,       5017,  4065.4,   1.3818,  34.7129,2,  34.7115,2,    191.5,2,   191.5,2,  115.39,2,   32.61,2,    0.00,2,    2.29,2,-999.000,5,-999.000,5,  -999.0,9,  -999.0,9,-999.000,9,-999.0000,9, -999.00,9, -999.00,9,  -999.0,9,  -999.0,-999.000,9,-999.000,     -999.0,-999.0000,-999.000,     1.0589,-999.000
  316N138_4,       P06C,     132,          1,          6,        180,2,19920620,       1532,   -32.5040,  -153.9917,       5017,  4268.2,   1.2643,  34.7132,2,  34.7140,2,    198.1,2,   198.4,2,  116.22,2,   32.42,2,    0.00,2,    2.28,2,  -0.001,2,  -0.002,2,  -999.0,9,  -999.0,9,-999.000,9,-999.0000,9, -999.00,9, -999.00,9,  -999.0,9,  -999.0,-999.000,9,-999.000,     -999.0,-999.0000,-999.000,     0.9226,-999.000
  316N138_4,       P06C,     132,          1,          5,        131,2,19920620,       1532,   -32.5040,  -153.9917,       5017,  4471.9,   1.1903,  34.7142,2,  34.7132,2,    201.4,2,   200.8,2,  117.05,2,   32.29,2,    0.00,2,    2.26,2,   0.000,2,  -0.004,2,  -999.0,9,  -999.0,9,-999.000,9,-999.0000,9, -999.00,9, -999.00,9,  -999.0,9,  -999.0,-999.000,9,-999.000,     -999.0,-999.0000,-999.000,     0.8279,-999.000
  316N138_4,       P06C,     132,          1,          4,        104,2,19920620,       1532,   -32.5040,  -153.9917,       5017,  4676.4,   1.1453,  34.7134,2,  34.7129,2,    204.1,2,   207.1,4,  118.15,2,   32.24,2,    0.01,2,    2.28,2,-999.000,5,-999.000,5,  -999.0,9,  -999.0,9,-999.000,9,-999.0000,9, -999.00,9, -999.00,9,  -999.0,9,  -999.0,-999.000,9,-999.000,     -999.0,-999.0000,-999.000,     0.7610,-999.000
  316N138_4,       P06C,     132,          1,          3,        130,2,19920620,       1532,   -32.5040,  -153.9917,       5017,  4880.7,   1.1293,  34.7121,2,  34.7125,2,    204.7,2,   204.0,2,  119.12,2,   32.25,2,    0.00,2,    2.28,2,  -0.002,2,   0.001,2,  -999.0,9,  -999.0,9,-999.000,9,-999.0000,9, -999.00,9, -999.00,9,  -999.0,9,  -999.0,-999.000,9,-999.000,     -999.0,-999.0000,-999.000,     0.7216,-999.000
  316N138_4,       P06C,     132,          1,          2,        135,2,19920620,       1532,   -32.5040,  -153.9917,       5017,  5084.8,   1.1121,  34.7121,2,  34.7117,2,    206.1,2,   205.6,2,  119.81,2,   32.26,2,    0.00,2,    2.27,2,  -0.001,2,   0.000,2,  -999.0,9,  -999.0,9,-999.000,9,-999.0000,9, -999.00,9, -999.00,9,  -999.0,9,  -999.0,-999.000,9,-999.000,     -999.0,-999.0000,-999.000,     0.6806,-999.000
  316N138_4,       P06C,     132,          1,          1,        134,2,19920620,       1532,   -32.5040,  -153.9917,       5017,  5161.1,   1.1185,  34.7117,2,  34.7125,2,    204.6,2,   205.0,2,  119.72,2,   32.16,2,    0.01,2,    2.28,2,   0.002,2,   0.000,2,  -999.0,9,  -999.0,9,-999.000,9,-999.0000,9, -999.00,9, -999.00,9,  -999.0,9,  -999.0,-999.000,9,-999.000,     -999.0,-999.0000,-999.000,     0.6776,-999.000