BOTTLE,20211025CCHSIORKP
EXPOCODE,SECT_ID,STNNBR,CASTNO,SAMPNO,BTLNBR,BTLNBR_FLAG_W,DATE,TIME,LATITUDE,LONGITUDE,DEPTH,CTDPRS,CTDTMP,CTDSAL,CTDSAL_FLAG_W,SALNTY,SALNTY_FLAG_W,CTDOXY,CTDOXY_FLAG_W,OXYGEN,OXYGEN_FLAG_W,SILCAT,SILCAT_FLAG_W,NITRAT,NITRAT_FLAG_W,NITRIT,NITRIT_FLAG_W,PHSPHT,PHSPHT_FLAG_W,CFC-11,CFC-11_FLAG_W,CFC-12,CFC-12_FLAG_W,TCARBN,TCARBN_FLAG_W,PCO2,PCO2_FLAG_W,TRITUM,TRITUM_FLAG_W,HELIUM,HELIUM_FLAG_W,DELHE3,DELHE3_FLAG_W,DELC13,DELC13_FLAG_W,DELC14,DELC14_FLAG_W,C14ERR,NEON,NEON_FLAG_W,NEONER,PCO2TMP,HELIER,DELHER,THETA,TRITER
,,,,,,,,,,,METERS,DBAR,ITS-90,PSS-78,,PSS-78,,UMOL/KG,,UMOL/KG,,UMOL/KG,,UMOL/KG,,UMOL/KG,,UMOL/KG,,PMOL/KG,,PMOL/KG,,UMOL/KG,,UATM,,TU,,NMOL/KG,,PERCNT,,/MILLE,,/MILLE,,/MILLE,NMOL/KG,,NMOL/KG,DEG_C,NMOL/KG,PERCNT,ITS-90,TU
  316N138_4,       P06C,     165,          1,         36,    02-9121,2,19920629,       0444,   -32.4892,  -173.1782,       5805,    27.0,  16.6051,  35.5354,2,  35.5298,2,    229.9,2,   239.5,2,    1.00,2,    0.51,2,    0.01,2, -999.00,5,   2.728,2,   1.377,2,  2046.5,6,  -999.0,9,-999.000,9,-999.0000,9, -999.00,9, -999.00,9,  -999.0,9,  -999.0,-999.000,9,-999.000,     -999.0,-999.0000,-999.000,    16.6008,-999.000
  316N138_4,       P06C,     165,          1,         35,    02-9454,2,19920629,       0444,   -32.4892,  -173.1782,       5805,    65.8,  16.5042,  35.5413,2,  35.5401,2,    237.0,2,   236.0,2,    1.00,2,    0.50,2,    0.02,2, -999.00,5,   2.747,6,   1.344,6,  2048.9,2,  -999.0,9,-999.000,9,-999.0000,9, -999.00,9, -999.00,9,  -999.0,9,  -999.0,-999.000,9,-999.000,     -999.0,-999.0000,-999.000,    16.4936,-999.000
  316N138_4,       P06C,     165,          1,         34,    02-9457,2,19920629,       0444,   -32.4892,  -173.1782,       5805,   116.9,  16.3286,  35.5130,2,  35.5105,2,    234.3,2,   242.4,2,    1.00,2,    0.54,2,    0.02,2, -999.00,5,   2.749,2,   1.352,2,  2048.5,2,  -999.0,9,-999.000,9,-999.0000,9, -999.00,9, -999.00,9,  -999.0,9,  -999.0,-999.000,9,-999.000,     -999.0,-999.0000,-999.000,    16.3098,-999.000
  316N138_4,       P06C,     165,          1,         33,    02-5367,2,19920629,       0444,   -32.4892,  -173.1782,       5805,   214.3,  13.5299,  35.2181,2,  35.2166,2,    205.8,2,   205.6,2,    3.32,2,    9.10,2,    0.00,2, -999.00,5,   2.440,2,   1.164,2,  2095.8,2,  -999.0,9,-999.000,9,-999.0000,9, -999.00,9, -999.00,9,  -999.0,9,  -999.0,-999.000,9,-999.000,     -999.0,-999.0000,-999.000,    13.4996,-999.000
  316N138_4,       P06C,     165,          1,         32,    02-9540,2,19920629,       0444,   -32.4892,  -173.1782,       5805,   313.3,  11.3206,  34.9189,2,  34.9152,2,    198.8,2,   199.9,2,    4.66,2,   14.10,2,    0.00,2, -999.00,5,   2.186,2,   1.025,2,  2117.9,2,  -999.0,9,-999.000,9,-999.0000,9, -999.00,9, -999.00,9,  -999.0,9,  -999.0,-999.000,9,-999.000,     -999.0,-999.0000,-999.000,    11.2811,-999.000
  316N138_4,       P06C,     165,          1,         31,    02-9539,2,19920629,       0444,   -32.4892,  -173.1782,       5805,   413.3,   9.3930,  34.6676,2,  34.6651,2,    208.0,2,   207.0,2,    5.65,2,   17.83,2,    0.00,2, -999.00,5,   1.847,2,   0.888,2,  2128.3,2,  -999.0,9,-999.000,9,-999.0000,9, -999.00,9, -999.00,9,  -999.0,9,  -999.0,-999.000,9,-999.000,     -999.0,-999.0000,-999.000,     9.3466,-999.000
  316N138_4,       P06C,     165,          1,         30,    02-9456,2,19920629,       0444,   -32.4892,  -173.1782,       5805,   509.0,   8.2517,  34.5446,2,  34.5443,2,    219.4,2,   218.1,2,    6.32,2,   19.81,2,    0.00,2, -999.00,5,   1.670,2,   0.788,2,  2131.8,2,  -999.0,9,-999.000,9,-999.0000,9, -999.00,9, -999.00,9,  -999.0,9,  -999.0,-999.000,9,-999.000,     -999.0,-999.0000,-999.000,     8.1986,-999.000
  316N138_4,       P06C,     165,          1,         29,    02-9458,2,19920629,       0444,   -32.4892,  -173.1782,       5805,   597.4,   7.6453,  34.4809,2,  34.4809,2,    226.4,2,   228.1,2,    6.98,2,   21.03,2,    0.00,2, -999.00,5,   1.395,2,   0.675,2,  2132.2,2,  -999.0,9,-999.000,9,-999.0000,9, -999.00,9, -999.00,9,  -999.0,9,  -999.0,-999.000,9,-999.000,     -999.0,-999.0000,-999.000,     7.5853,-999.000
  316N138_4,       P06C,     165,          1,         28,    02-9545,2,19920629,       0444,   -32.4892,  -173.1782,       5805,   697.8,   7.0088,  34.4233,2,  34.4243,2,    227.3,2,   225.8,2,    8.81,2,   22.73,2,    0.00,2, -999.00,5,   0.830,2,   0.423,2,  2137.4,6,  -999.0,9,-999.000,9,-999.0000,9, -999.00,9, -999.00,9,  -999.0,9,  -999.0,-999.000,9,-999.000,     -999.0,-999.0000,-999.000,     6.9416,-999.000
  316N138_4,       P06C,     165,          1,         27,    02-9453,2,19920629,       0444,   -32.4892,  -173.1782,       5805,   802.0,   6.4538,  34.3924,2,  34.3910,2,    221.1,2,   218.9,2,   12.97,2,   24.85,2,    0.00,2, -999.00,5,   0.446,2,   0.227,2,  2147.1,2,  -999.0,9,-999.000,9,-999.0000,9, -999.00,9, -999.00,9,  -999.0,9,  -999.0,-999.000,9,-999.000,     -999.0,-999.0000,-999.000,     6.3794,-999.000
  316N138_4,       P06C,     165,          1,         26,    02-9544,2,19920629,       0444,   -32.4892,  -173.1782,       5805,   898.5,   5.8409,  34.3715,2,  34.3654,2,    213.8,2,   208.8,2,   18.13,2,   27.02,2,    0.00,2, -999.00,5,   0.306,3,   0.126,3,  2162.3,2,  -999.0,9,-999.000,9,-999.0000,9, -999.00,9, -999.00,9,  -999.0,9,  -999.0,-999.000,9,-999.000,     -999.0,-999.0000,-999.000,     5.7611,-999.000
  316N138_4,       P06C,     165,          1,         25,    02-9455,2,19920629,       0444,   -32.4892,  -173.1782,       5805,  1091.5,   4.5209,  34.3762,2,  34.3686,2,    197.0,2,   193.6,2,   35.26,2,   30.97,2,    0.00,2, -999.00,5,   0.068,2,   0.038,2,  2193.1,2,  -999.0,9,-999.000,9,-999.0000,9, -999.00,9, -999.00,9,  -999.0,9,  -999.0,-999.000,9,-999.000,     -999.0,-999.0000,-999.000,     4.4335,-999.000
  316N138_4,       P06C,     165,          1,         24,        132,2,19920629,       0444,   -32.4892,  -173.1782,       5805,  1290.6,   3.6040,  34.4231,2,  34.4226,2,    180.7,2,   176.9,2,   53.22,2,   33.19,2,    0.00,2, -999.00,5,   0.019,6,   0.010,6,  2223.6,2,  -999.0,9,-999.000,9,-999.0000,9, -999.00,9, -999.00,9,  -999.0,9,  -999.0,-999.000,9,-999.000,     -999.0,-999.0000,-999.000,     3.5077,-999.000
  316N138_4,       P06C,     165,          1,         23,        123,2,19920629,       0444,   -32.4892,  -173.1782,       5805,  1487.4,   3.0158,  34.5113,2,  34.5117,2,    167.1,2,   164.6,2,   73.68,2,   34.32,2,    0.00,2, -999.00,5,   0.000,2,  -0.005,2,  2251.6,2,  -999.0,9,-999.000,9,-999.0000,9, -999.00,9, -999.00,9,  -999.0,9,  -999.0,-999.000,9,-999.000,     -999.0,-999.0000,-999.000,     2.9090,-999.000
  316N138_4,       P06C,     165,          1,         22,        128,2,19920629,       0444,   -32.4892,  -173.1782,       5805,  1689.3,   2.6493,  34.5778,2,  34.5783,2,    157.4,2,   155.7,2,   92.48,2,   34.88,2,    0.00,2, -999.00,5,-999.000,5,-999.000,5,  2274.4,2,  -999.0,9,-999.000,9,-999.0000,9, -999.00,9, -999.00,9,  -999.0,9,  -999.0,-999.000,9,-999.000,     -999.0,-999.0000,-999.000,     2.5299,-999.000
  316N138_4,       P06C,     165,          1,         21,        121,2,19920629,       0444,   -32.4892,  -173.1782,       5805,  1898.5,   2.4085,  34.6125,2,  34.6113,2,    151.6,2,   152.2,2,  104.62,2,   35.30,2,    0.00,2, -999.00,5,  -0.001,2,   0.002,2,  2289.1,2,  -999.0,9,-999.000,9,-999.0000,9, -999.00,9, -999.00,9,  -999.0,9,  -999.0,-999.000,9,-999.000,     -999.0,-999.0000,-999.000,     2.2747,-999.000
  316N138_4,       P06C,     165,          1,         20,        120,2,19920629,       0444,   -32.4892,  -173.1782,       5805,  2108.3,   2.2666,  34.6289,2,  34.6293,2,    148.8,2,   149.5,2,  112.44,2,   35.48,2,    0.00,2, -999.00,5,   0.002,2,   0.003,2,  2297.2,2,  -999.0,9,-999.000,9,-999.0000,9, -999.00,9, -999.00,9,  -999.0,9,  -999.0,-999.000,9,-999.000,     -999.0,-999.0000,-999.000,     2.1167,-999.000
  316N138_4,       P06C,     165,          1,         19,        133,3,19920629,       0444,   -32.4892,  -173.1782,       5805,  2317.0,   2.1245,  34.6411,2,  34.6427,2,    148.8,2,   148.9,2,  119.26,2,   35.85,2,    0.00,2, -999.00,5,-999.000,5,-999.000,5,  2305.4,2,  -999.0,9,-999.000,9,-999.0000,9, -999.00,9, -999.00,9,  -999.0,9,  -999.0,-999.000,9,-999.000,     -999.0,-999.0000,-999.000,     1.9585,-999.000
  316N138_4,       P06C,     165,          1,         18,        118,2,19920629,       0444,   -32.4892,  -173.1782,       5805,  2527.3,   2.0195,  34.6502,2,  34.6513,2,    147.6,2,   146.3,2,  123.26,2,   35.84,2,    0.00,2, -999.00,5,-999.000,5,-999.000,5,  2309.1,6,  -999.0,9,-999.000,9,-999.0000,9, -999.00,9, -999.00,9,  -999.0,9,  -999.0,-999.000,9,-999.000,     -999.0,-999.0000,-999.000,     1.8364,-999.000
  316N138_4,       P06C,     165,          1,         17,        117,2,19920629,       0444,   -32.4892,  -173.1782,       5805,  2739.0,   1.9185,  34.6608,2,  34.6606,2,    149.2,2,   146.5,4,  126.09,2,   35.84,2,    0.00,2, -999.00,5,  -0.002,2,   0.002,2,  2310.6,2,  -999.0,9,-999.000,9,-999.0000,9, -999.00,9, -999.00,9,  -999.0,9,  -999.0,-999.000,9,-999.000,     -999.0,-999.0000,-999.000,     1.7176,-999.000
  316N138_4,       P06C,     165,          1,         16,        116,2,19920629,       0444,   -32.4892,  -173.1782,       5805,  2942.0,   1.8250,  34.6726,2,  34.6745,2,    153.6,2,   154.0,2,  125.93,2,   35.36,2,    0.00,2, -999.00,5,-999.000,5,-999.000,5,  2306.8,2,  -999.0,9,-999.000,9,-999.0000,9, -999.00,9,    0.05,2,  -221.2,2,     5.0,-999.000,9,-999.000,     -999.0,-999.0000,-999.000,     1.6066,-999.000
  316N138_4,       P06C,     165,          1,         15,        115,2,19920629,       0444,   -32.4892,  -173.1782,       5805,  3147.0,   1.7370,  34.6888,2,  34.6889,2,    163.0,2,   164.9,2,  120.94,2,   34.32,2,    0.00,2, -999.00,5,  -0.002,2,  -0.003,2,  2294.3,2,  -999.0,9,-999.000,9,-999.0000,9, -999.00,9,    0.11,2,  -215.0,2,     4.8,-999.000,9,-999.000,     -999.0,-999.0000,-999.000,     1.5005,-999.000
  316N138_4,       P06C,     165,          1,         14,        114,2,19920629,       0444,   -32.4892,  -173.1782,       5805,  3346.7,   1.6596,  34.7048,2,  34.7070,2,    177.5,2,   176.9,2,  113.96,2,   33.13,2,    0.00,2, -999.00,5,-999.000,5,-999.000,5,  2278.7,2,  -999.0,9,-999.000,9,-999.0000,9, -999.00,9,    0.15,2,  -185.7,2,     3.7,-999.000,9,-999.000,     -999.0,-999.0000,-999.000,     1.4050,-999.000
  316N138_4,       P06C,     165,          1,         13,        125,2,19920629,       0444,   -32.4892,  -173.1782,       5805,  3552.0,   1.5435,  34.7196,2,  34.7193,2,    189.1,2,   190.5,2,  109.13,2,   32.23,2,    0.00,2, -999.00,5,   0.008,2,   0.003,2,  2265.5,2,  -999.0,9,-999.000,9,-999.0000,9, -999.00,9,    0.26,2,  -175.7,2,     4.4,-999.000,9,-999.000,     -999.0,-999.0000,-999.000,     1.2707,-999.000
  316N138_4,       P06C,     165,          1,         12,        112,2,19920629,       0444,   -32.4892,  -173.1782,       5805,  3753.3,   1.4249,  34.7216,2,  34.7213,2,    196.2,2,   196.6,2,  109.64,2,   31.85,2,    0.00,2, -999.00,5,-999.000,5,-999.000,5,  2260.6,2,  -999.0,9,-999.000,9,-999.0000,9, -999.00,9,    0.23,2,  -168.6,2,     2.8,-999.000,9,-999.000,     -999.0,-999.0000,-999.000,     1.1342,-999.000
  316N138_4,       P06C,     165,          1,         11,        129,2,19920629,       0444,   -32.4892,  -173.1782,       5805,  3953.7,   1.2984,  34.7197,2,  34.7207,2,    200.8,2,   199.5,2,  111.64,2,   31.80,2,    0.00,2, -999.00,5,   0.002,2,  -0.003,2,  2258.7,2,  -999.0,9,-999.000,9,-999.0000,9, -999.00,9,    0.25,2,  -172.1,2,     3.4,-999.000,9,-999.000,     -999.0,-999.0000,-999.000,     0.9900,-999.000
  316N138_4,       P06C,     165,          1,         10,        110,2,19920629,       0444,   -32.4892,  -173.1782,       5805,  4150.1,   1.1931,  34.7162,2,  34.7174,2,    203.4,2,   203.0,2,  114.31,2,   31.88,2,    0.00,2, -999.00,5,-999.000,5,-999.000,5,  2259.5,2,  -999.0,9,-999.000,9,-999.0000,9, -999.00,9,    0.29,2,  -166.6,2,     3.4,-999.000,9,-999.000,     -999.0,-999.0000,-999.000,     0.8664,-999.000
  316N138_4,       P06C,     165,          1,          9,        126,2,19920629,       0444,   -32.4892,  -173.1782,       5805,  4351.5,   1.1121,  34.7141,2,  34.7119,2,    205.0,2,   204.7,2,  116.81,2,   31.92,2,    0.00,2, -999.00,5,   0.005,2,  -0.001,2,  2259.3,2,  -999.0,9,-999.000,9,-999.0000,9, -999.00,9,   -0.45,4,  -183.3,4,     2.9,-999.000,9,-999.000,     -999.0,-999.0000,-999.000,     0.7657,-999.000
  316N138_4,       P06C,     165,          1,          8,        108,2,19920629,       0444,   -32.4892,  -173.1782,       5805,  4551.0,   1.0668,  34.7106,2,  34.7125,2,    206.0,2,   205.7,2,  118.47,2,   31.96,2,    0.00,2, -999.00,5,-999.000,5,-999.000,5,  2259.8,2,  -999.0,9,-999.000,9,-999.0000,9, -999.00,9,    0.41,2,  -165.4,2,     3.0,-999.000,9,-999.000,     -999.0,-999.0000,-999.000,     0.6994,-999.000
  316N138_4,       P06C,     165,          1,          7,        107,2,19920629,       0444,   -32.4892,  -173.1782,       5805,  4753.4,   1.0473,  34.7099,2,  34.7099,2,    206.7,2,   207.3,2,  119.80,2,   32.06,2,    0.00,2, -999.00,5,   0.010,2,   0.002,2,  2260.5,2,  -999.0,9,-999.000,9,-999.0000,9, -999.00,9,    0.41,2,  -155.5,2,     2.5,-999.000,9,-999.000,     -999.0,-999.0000,-999.000,     0.6573,-999.000
  316N138_4,       P06C,     165,          1,          6,        180,2,19920629,       0444,   -32.4892,  -173.1782,       5805,  4953.7,   1.0394,  34.7083,2,  34.7081,2,    207.1,2,   208.0,2,  120.48,2,   32.10,2,    0.00,2, -999.00,5,-999.000,5,-999.000,5,  2260.7,2,  -999.0,9,-999.000,9,-999.0000,9, -999.00,9,    0.42,2,  -155.2,2,     5.3,-999.000,9,-999.000,     -999.0,-999.0000,-999.000,     0.6260,-999.000
  316N138_4,       P06C,     165,          1,          5,        131,2,19920629,       0444,   -32.4892,  -173.1782,       5805,  5155.2,   1.0410,  34.7073,2,  34.7079,2,    207.2,2,   208.3,2,  121.31,2,   32.19,2,    0.00,2, -999.00,5,   0.013,2,   0.002,2,  2261.1,2,  -999.0,9,-999.000,9,-999.0000,9, -999.00,9,    0.43,2,  -173.9,4,     3.5,-999.000,9,-999.000,     -999.0,-999.0000,-999.000,     0.6035,-999.000
  316N138_4,       P06C,     165,          1,          4,        104,2,19920629,       0444,   -32.4892,  -173.1782,       5805,  5358.3,   1.0532,  34.7068,2,  34.7048,2,    207.5,2,   207.4,2,  121.48,2,   32.18,2,    0.00,2, -999.00,5,   0.013,2,   0.000,2,  2261.0,2,  -999.0,9,-999.000,9,-999.0000,9, -999.00,9,    0.41,2,  -155.2,2,     2.4,-999.000,9,-999.000,     -999.0,-999.0000,-999.000,     0.5905,-999.000
  316N138_4,       P06C,     165,          1,          3,        130,2,19920629,       0444,   -32.4892,  -173.1782,       5805,  5566.9,   1.0726,  34.7068,2,  34.7077,2,    208.0,2,   208.3,2,  122.15,2,   32.23,2,    0.00,2, -999.00,5,   0.014,2,   0.004,2,  2261.9,2,  -999.0,9,-999.000,9,-999.0000,9, -999.00,9,    0.43,2,  -149.8,2,     8.0,-999.000,9,-999.000,     -999.0,-999.0000,-999.000,     0.5832,-999.000
  316N138_4,       P06C,     165,          1,          2,        135,2,19920629,       0444,   -32.4892,  -173.1782,       5805,  5778.3,   1.0982,  34.7068,2,  34.7083,2,    208.2,2,   207.7,2,  122.16,2,   32.22,2,    0.00,2, -999.00,5,   0.012,2,   0.005,2,  2262.7,2,  -999.0,9,-999.000,9,-999.0000,9, -999.00,9,    0.28,2,  -163.5,2,     3.3,-999.000,9,-999.000,     -999.0,-999.0000,-999.000,     0.5808,-999.000
  316N138_4,       P06C,     165,          1,          1,        134,2,19920629,       0444,   -32.4892,  -173.1782,       5805,  5938.4,   1.1173,  34.7068,2,  34.7103,3,    253.7,4,   207.0,2,  122.00,2,   32.18,2,    0.00,2, -999.00,5,   0.015,6,   0.005,6,  2262.2,6,  -999.0,9,-999.000,9,-999.0000,9, -999.00,9,    0.33,2,  -161.4,2,     3.7,-999.000,9,-999.000,     -999.0,-999.0000,-999.000,     0.5784,-999.000