BOTTLE,20211025CCHSIORKP
EXPOCODE,SECT_ID,STNNBR,CASTNO,SAMPNO,BTLNBR,BTLNBR_FLAG_W,DATE,TIME,LATITUDE,LONGITUDE,DEPTH,CTDPRS,CTDTMP,CTDSAL,CTDSAL_FLAG_W,SALNTY,SALNTY_FLAG_W,CTDOXY,CTDOXY_FLAG_W,OXYGEN,OXYGEN_FLAG_W,SILCAT,SILCAT_FLAG_W,NITRAT,NITRAT_FLAG_W,NITRIT,NITRIT_FLAG_W,PHSPHT,PHSPHT_FLAG_W,CFC-11,CFC-11_FLAG_W,CFC-12,CFC-12_FLAG_W,TCARBN,TCARBN_FLAG_W,PCO2,PCO2_FLAG_W,TRITUM,TRITUM_FLAG_W,HELIUM,HELIUM_FLAG_W,DELHE3,DELHE3_FLAG_W,DELC13,DELC13_FLAG_W,DELC14,DELC14_FLAG_W,C14ERR,NEON,NEON_FLAG_W,NEONER,PCO2TMP,HELIER,DELHER,THETA,TRITER
,,,,,,,,,,,METERS,DBAR,ITS-90,PSS-78,,PSS-78,,UMOL/KG,,UMOL/KG,,UMOL/KG,,UMOL/KG,,UMOL/KG,,UMOL/KG,,PMOL/KG,,PMOL/KG,,UMOL/KG,,UATM,,TU,,NMOL/KG,,PERCNT,,/MILLE,,/MILLE,,/MILLE,NMOL/KG,,NMOL/KG,DEG_C,NMOL/KG,PERCNT,ITS-90,TU
  316N138_4,       P06C,     143,          1,         36,    02-9121,2,19920623,       1742,   -32.5260,  -161.8328,       5419,    28.3,  17.6085,  35.4631,2,  35.4620,2,    236.8,2,   232.4,2,    0.47,2,    0.00,2,   -0.01,2,    0.12,2,-999.000,5,-999.000,5,  -999.0,9,  -999.0,9,-999.000,9,-999.0000,9, -999.00,9, -999.00,9,  -999.0,9,  -999.0,-999.000,9,-999.000,     -999.0,-999.0000,-999.000,    17.6037,-999.000
  316N138_4,       P06C,     143,          1,         35,    02-9454,2,19920623,       1742,   -32.5260,  -161.8328,       5419,    66.2,  17.6137,  35.4637,2,  35.4606,2,    234.4,2,   233.4,2,    0.32,2,    0.00,2,   -0.01,2,    0.12,2,   2.625,6,-999.000,9,  -999.0,9,  -999.0,9,-999.000,9,-999.0000,9, -999.00,9, -999.00,9,  -999.0,9,  -999.0,-999.000,9,-999.000,     -999.0,-999.0000,-999.000,    17.6025,-999.000
  316N138_4,       P06C,     143,          1,         34,    02-9457,2,19920623,       1742,   -32.5260,  -161.8328,       5419,   117.1,  17.5994,  35.4640,2,  35.4590,2,    229.3,2,   231.4,2,    0.47,2,    0.11,2,    0.01,2,    0.14,2,   2.639,2,-999.000,9,  -999.0,9,  -999.0,9,-999.000,9,-999.0000,9, -999.00,9, -999.00,9,  -999.0,9,  -999.0,-999.000,9,-999.000,     -999.0,-999.0000,-999.000,    17.5795,-999.000
  316N138_4,       P06C,     143,          1,         33,    02-5367,2,19920623,       1742,   -32.5260,  -161.8328,       5419,   166.9,  15.6525,  35.3770,2,  35.3731,2,    214.7,2,   213.7,2,    0.92,2,    3.22,2,    0.01,2,    0.37,2,   2.616,2,   1.313,2,  -999.0,9,  -999.0,9,-999.000,9,-999.0000,9, -999.00,9, -999.00,9,  -999.0,9,  -999.0,-999.000,9,-999.000,     -999.0,-999.0000,-999.000,    15.6264,-999.000
  316N138_4,       P06C,     143,          1,         32,    02-9540,2,19920623,       1742,   -32.5260,  -161.8328,       5419,   217.7,  14.6895,  35.2831,2,  35.2830,2,    201.0,2,   200.2,2,    1.68,2,    6.55,2,    0.00,2,    0.57,2,   2.303,2,   1.175,2,  -999.0,9,  -999.0,9,-999.000,9,-999.0000,9, -999.00,9, -999.00,9,  -999.0,9,  -999.0,-999.000,9,-999.000,     -999.0,-999.0000,-999.000,    14.6569,-999.000
  316N138_4,       P06C,     143,          1,         31,    02-9539,2,19920623,       1742,   -32.5260,  -161.8328,       5419,   316.7,  11.2497,  34.8322,2,  34.8308,2,    208.1,2,   209.5,2,    2.73,2,   12.33,2,    0.00,2,    0.91,2,   2.441,2,   1.178,2,  -999.0,9,  -999.0,9,-999.000,9,-999.0000,9, -999.00,9, -999.00,9,  -999.0,9,  -999.0,-999.000,9,-999.000,     -999.0,-999.0000,-999.000,    11.2100,-999.000
  316N138_4,       P06C,     143,          1,         30,    02-9456,2,19920623,       1742,   -32.5260,  -161.8328,       5419,   416.6,   8.7330,  34.5695,2,  34.5671,2,    224.6,2,   224.2,2,    4.24,2,   17.67,2,    0.00,2,    1.20,2,   2.351,2,   1.089,2,  -999.0,9,  -999.0,9,-999.000,9,-999.0000,9, -999.00,9, -999.00,9,  -999.0,9,  -999.0,-999.000,9,-999.000,     -999.0,-999.0000,-999.000,     8.6882,-999.000
  316N138_4,       P06C,     143,          1,         29,    02-9458,2,19920623,       1742,   -32.5260,  -161.8328,       5419,   516.6,   7.6813,  34.4772,2,  34.4712,2,    235.8,2,   233.7,2,    5.60,2,   20.25,2,    0.00,2,    1.36,2,   1.923,2,   0.911,2,  -999.0,9,  -999.0,9,-999.000,9,-999.0000,9, -999.00,9, -999.00,9,  -999.0,9,  -999.0,-999.000,9,-999.000,     -999.0,-999.0000,-999.000,     7.6296,-999.000
  316N138_4,       P06C,     143,          1,         28,    02-9545,2,19920623,       1742,   -32.5260,  -161.8328,       5419,   617.1,   7.1082,  34.4208,2,  34.4182,2,    238.7,2,   235.6,2,    6.94,2,   21.88,2,    0.01,2,    1.45,2,   1.150,2,   0.581,2,  -999.0,9,  -999.0,9,-999.000,9,-999.0000,9, -999.00,9, -999.00,9,  -999.0,9,  -999.0,-999.000,9,-999.000,     -999.0,-999.0000,-999.000,     7.0487,-999.000
  316N138_4,       P06C,     143,          1,         27,    02-9453,2,19920623,       1742,   -32.5260,  -161.8328,       5419,   718.4,   6.5734,  34.3760,2,  34.3747,2,    237.8,2,   234.5,2,    8.75,2,   23.44,2,    0.01,2,    1.55,2,   0.697,2,   0.375,2,  -999.0,9,  -999.0,9,-999.000,9,-999.0000,9, -999.00,9, -999.00,9,  -999.0,9,  -999.0,-999.000,9,-999.000,     -999.0,-999.0000,-999.000,     6.5065,-999.000
  316N138_4,       P06C,     143,          1,         26,    02-9544,2,19920623,       1742,   -32.5260,  -161.8328,       5419,   817.9,   6.0580,  34.3430,2,  34.3421,2,    231.4,2,   228.2,2,   11.92,2,   25.28,2,    0.01,2,    1.67,2,   0.371,2,   0.211,2,  -999.0,9,  -999.0,9,-999.000,9,-999.0000,9, -999.00,9, -999.00,9,  -999.0,9,  -999.0,-999.000,9,-999.000,     -999.0,-999.0000,-999.000,     5.9847,-999.000
  316N138_4,       P06C,     143,          1,         25,    02-9455,2,19920623,       1742,   -32.5260,  -161.8328,       5419,   919.1,   5.5024,  34.3261,2,  34.3266,2,    221.8,2,   217.6,2,   17.34,2,   27.46,2,    0.01,2,    1.82,2,   0.223,2,   0.131,2,  -999.0,9,  -999.0,9,-999.000,9,-999.0000,9, -999.00,9, -999.00,9,  -999.0,9,  -999.0,-999.000,9,-999.000,     -999.0,-999.0000,-999.000,     5.4231,-999.000
  316N138_4,       P06C,     143,          1,         24,        132,2,19920623,       1742,   -32.5260,  -161.8328,       5419,  1020.5,   4.9726,  34.3265,2,  34.3256,2,    206.9,2,   206.6,2,   24.41,2,   29.47,2,    0.01,2,    1.95,2,   0.145,2,   0.089,2,  -999.0,9,  -999.0,9,-999.000,9,-999.0000,9, -999.00,9, -999.00,9,  -999.0,9,  -999.0,-999.000,9,-999.000,     -999.0,-999.0000,-999.000,     4.8879,-999.000
  316N138_4,       P06C,     143,          1,         23,        123,2,19920623,       1742,   -32.5260,  -161.8328,       5419,  1121.9,   4.3037,  34.3472,2,  34.3464,2,    193.2,2,   195.4,2,   34.49,2,   31.52,2,    0.01,2,    2.10,2,   0.066,2,   0.040,2,  -999.0,9,  -999.0,9,-999.000,9,-999.0000,9, -999.00,9, -999.00,9,  -999.0,9,  -999.0,-999.000,9,-999.000,     -999.0,-999.0000,-999.000,     4.2154,-999.000
  316N138_4,       P06C,     143,          1,         22,        128,2,19920623,       1742,   -32.5260,  -161.8328,       5419,  1321.3,   3.3288,  34.4315,2,  34.4292,2,    178.0,2,   176.9,2,   56.60,2,   33.89,2,    0.01,2,    2.30,2,   0.017,2,   0.006,2,  -999.0,9,  -999.0,9,-999.000,9,-999.0000,9, -999.00,9, -999.00,9,  -999.0,9,  -999.0,-999.000,9,-999.000,     -999.0,-999.0000,-999.000,     3.2325,-999.000
  316N138_4,       P06C,     143,          1,         21,        121,2,19920623,       1742,   -32.5260,  -161.8328,       5419,  1525.2,   2.8555,  34.5240,2,  34.5219,2,    163.5,2,   164.4,2,   76.47,2,   34.67,2,    0.01,2,    2.37,2,  -0.002,2,   0.000,2,  -999.0,9,  -999.0,9,-999.000,9,-999.0000,9, -999.00,9, -999.00,9,  -999.0,9,  -999.0,-999.000,9,-999.000,     -999.0,-999.0000,-999.000,     2.7473,-999.000
  316N138_4,       P06C,     143,          1,         20,        120,2,19920623,       1742,   -32.5260,  -161.8328,       5419,  1725.3,   2.5468,  34.5844,2,  34.5832,2,    156.3,2,   156.2,2,   94.06,2,   35.08,2,    0.01,2,    2.42,2,   0.004,2,-999.000,9,  -999.0,9,  -999.0,9,-999.000,9,-999.0000,9, -999.00,9, -999.00,9,  -999.0,9,  -999.0,-999.000,9,-999.000,     -999.0,-999.0000,-999.000,     2.4257,-999.000
  316N138_4,       P06C,     143,          1,         19,        133,2,19920623,       1742,   -32.5260,  -161.8328,       5419,  1927.7,   2.3344,  34.6180,2,  34.6160,2,    151.8,2,   150.7,2,  106.55,2,   35.49,2,    0.00,2,    2.47,2,  -0.002,2,-999.000,9,  -999.0,9,  -999.0,9,-999.000,9,-999.0000,9, -999.00,9, -999.00,9,  -999.0,9,  -999.0,-999.000,9,-999.000,     -999.0,-999.0000,-999.000,     2.1992,-999.000
  316N138_4,       P06C,     143,          1,         18,        118,2,19920623,       1742,   -32.5260,  -161.8328,       5419,  2133.4,   2.1820,  34.6343,2,  34.5004,4,    148.0,2,   147.8,2,  115.57,2,   35.78,2,    0.00,2,    2.51,2,   0.001,2,  -0.001,2,  -999.0,9,  -999.0,9,-999.000,9,-999.0000,9, -999.00,9, -999.00,9,  -999.0,9,  -999.0,-999.000,9,-999.000,     -999.0,-999.0000,-999.000,     2.0313,-999.000
  316N138_4,       P06C,     143,          1,         17,        117,2,19920623,       1742,   -32.5260,  -161.8328,       5419,  2336.0,   2.0808,  34.6440,2,  34.6429,2,    146.7,2,   146.1,2,  120.85,2,   35.99,2,    0.00,2,    2.53,2,  -0.003,2,  -0.002,2,  -999.0,9,  -999.0,9,-999.000,9,-999.0000,9, -999.00,9, -999.00,9,  -999.0,9,  -999.0,-999.000,9,-999.000,     -999.0,-999.0000,-999.000,     1.9139,-999.000
  316N138_4,       P06C,     143,          1,         16,        116,2,19920623,       1742,   -32.5260,  -161.8328,       5419,  2538.5,   1.9859,  34.6524,2,  34.0635,4,    146.1,2,   145.6,2,  125.21,2,   36.14,2,    0.00,2,    2.53,2,  -0.001,2,   0.000,2,  -999.0,9,  -999.0,9,-999.000,9,-999.0000,9, -999.00,9, -999.00,9,  -999.0,9,  -999.0,-999.000,9,-999.000,     -999.0,-999.0000,-999.000,     1.8024,-999.000
  316N138_4,       P06C,     143,          1,         15,        115,2,19920623,       1742,   -32.5260,  -161.8328,       5419,  2742.7,   1.9074,  34.6598,2,  34.6578,2,    146.9,2,   146.0,2,  128.22,2,   36.10,2,    0.00,2,    2.54,2,  -0.003,2,  -0.004,2,  -999.0,9,  -999.0,9,-999.000,9,-999.0000,9, -999.00,9, -999.00,9,  -999.0,9,  -999.0,-999.000,9,-999.000,     -999.0,-999.0000,-999.000,     1.7064,-999.000
  316N138_4,       P06C,     143,          1,         14,        114,2,19920623,       1742,   -32.5260,  -161.8328,       5419,  2944.4,   1.8387,  34.6661,2,  34.6647,2,    149.0,2,   148.4,2,  129.72,2,   35.98,2,    0.00,2,    2.53,2,  -0.002,2,   0.000,2,  -999.0,9,  -999.0,9,-999.000,9,-999.0000,9, -999.00,9, -999.00,9,  -999.0,9,  -999.0,-999.000,9,-999.000,     -999.0,-999.0000,-999.000,     1.6198,-999.000
  316N138_4,       P06C,     143,          1,         13,        125,2,19920623,       1742,   -32.5260,  -161.8328,       5419,  3148.3,   1.7761,  34.6738,2,  34.6726,2,    152.1,2,   152.2,2,  129.57,2,   35.66,2,    0.00,2,    2.51,2,-999.000,5,-999.000,5,  -999.0,9,  -999.0,9,-999.000,9,-999.0000,9, -999.00,9, -999.00,9,  -999.0,9,  -999.0,-999.000,9,-999.000,     -999.0,-999.0000,-999.000,     1.5387,-999.000
  316N138_4,       P06C,     143,          1,         12,        112,2,19920623,       1742,   -32.5260,  -161.8328,       5419,  3354.3,   1.7080,  34.6845,2,  34.6830,2,    160.8,2,   160.5,2,  126.26,2,   35.03,2,    0.00,2,    2.46,2,-999.000,5,-999.000,5,  -999.0,9,  -999.0,9,-999.000,9,-999.0000,9, -999.00,9, -999.00,9,  -999.0,9,  -999.0,-999.000,9,-999.000,     -999.0,-999.0000,-999.000,     1.4516,-999.000
  316N138_4,       P06C,     143,          1,         11,        129,2,19920623,       1742,   -32.5260,  -161.8328,       5419,  3558.8,   1.6354,  34.6986,2,  34.6967,2,    172.9,2,   172.3,2,  119.64,2,   34.00,2,    0.00,2,    2.37,2,  -0.002,2,  -0.002,2,  -999.0,9,  -999.0,9,-999.000,9,-999.0000,9, -999.00,9, -999.00,9,  -999.0,9,  -999.0,-999.000,9,-999.000,     -999.0,-999.0000,-999.000,     1.3598,-999.000
  316N138_4,       P06C,     143,          1,          9,        126,2,19920623,       1742,   -32.5260,  -161.8328,       5419,  3762.2,   1.5279,  34.7107,2,  34.7109,2,    185.3,2,   186.1,2,  113.63,2,   32.94,2,    0.00,2,    2.29,2,-999.000,5,-999.000,5,  -999.0,9,  -999.0,9,-999.000,9,-999.0000,9, -999.00,9, -999.00,9,  -999.0,9,  -999.0,-999.000,9,-999.000,     -999.0,-999.0000,-999.000,     1.2336,-999.000
  316N138_4,       P06C,     143,          1,         10,        110,2,19920623,       1742,   -32.5260,  -161.8328,       5419,  3762.3,   1.5279,  34.7107,2,  34.7119,2,    185.3,2,   186.0,2,  113.62,2,   32.94,2,    0.00,2,    2.29,2,-999.000,5,-999.000,5,  -999.0,9,  -999.0,9,-999.000,9,-999.0000,9, -999.00,9, -999.00,9,  -999.0,9,  -999.0,-999.000,9,-999.000,     -999.0,-999.0000,-999.000,     1.2336,-999.000
  316N138_4,       P06C,     143,          1,          8,        108,2,19920623,       1742,   -32.5260,  -161.8328,       5419,  3967.0,   1.4090,  34.7166,2,  34.7168,2,    194.1,2,   194.4,2,  111.97,2,   32.31,2,    0.01,2,    2.27,2,   0.004,2,-999.000,9,  -999.0,9,  -999.0,9,-999.000,9,-999.0000,9, -999.00,9, -999.00,9,  -999.0,9,  -999.0,-999.000,9,-999.000,     -999.0,-999.0000,-999.000,     1.0960,-999.000
  316N138_4,       P06C,     143,          1,          7,        107,2,19920623,       1742,   -32.5260,  -161.8328,       5419,  4375.8,   1.1629,  34.7148,2,  34.7148,2,    203.5,2,   202.7,2,  116.03,2,   32.19,2,    0.01,2,    2.25,2,-999.000,5,-999.000,5,  -999.0,9,  -999.0,9,-999.000,9,-999.0000,9, -999.00,9, -999.00,9,  -999.0,9,  -999.0,-999.000,9,-999.000,     -999.0,-999.0000,-999.000,     0.8122,-999.000
  316N138_4,       P06C,     143,          1,          6,        180,2,19920623,       1742,   -32.5260,  -161.8328,       5419,  4577.1,   1.0821,  34.7118,2,  34.7117,2,    205.7,2,   204.9,2,  118.45,2,   32.23,2,    0.01,2,    2.27,2,-999.000,5,-999.000,5,  -999.0,9,  -999.0,9,-999.000,9,-999.0000,9, -999.00,9, -999.00,9,  -999.0,9,  -999.0,-999.000,9,-999.000,     -999.0,-999.0000,-999.000,     0.7112,-999.000
  316N138_4,       P06C,     143,          1,          5,        131,2,19920623,       1742,   -32.5260,  -161.8328,       5419,  4781.9,   1.0481,  34.7100,2,  34.7101,2,    206.2,2,   206.0,2,  119.80,2,   32.30,2,    0.01,2,    2.27,2,   0.004,2,   0.002,2,  -999.0,9,  -999.0,9,-999.000,9,-999.0000,9, -999.00,9, -999.00,9,  -999.0,9,  -999.0,-999.000,9,-999.000,     -999.0,-999.0000,-999.000,     0.6547,-999.000
  316N138_4,       P06C,     143,          1,          4,        104,2,19920623,       1742,   -32.5260,  -161.8328,       5419,  4985.5,   1.0529,  34.7094,2,  34.7089,2,    206.9,2,   206.5,2,  120.70,2,   32.30,2,    0.01,2,    2.27,2,-999.000,5,-999.000,5,  -999.0,9,  -999.0,9,-999.000,9,-999.0000,9, -999.00,9, -999.00,9,  -999.0,9,  -999.0,-999.000,9,-999.000,     -999.0,-999.0000,-999.000,     0.6354,-999.000
  316N138_4,       P06C,     143,          1,          3,        130,2,19920623,       1742,   -32.5260,  -161.8328,       5419,  5189.6,   1.0612,  34.7084,2,  34.7087,2,    207.5,2,   206.3,2,  120.56,2,   32.31,2,    0.00,2,    2.25,2,   0.004,2,   0.004,2,  -999.0,9,  -999.0,9,-999.000,9,-999.0000,9, -999.00,9, -999.00,9,  -999.0,9,  -999.0,-999.000,9,-999.000,     -999.0,-999.0000,-999.000,     0.6189,-999.000
  316N138_4,       P06C,     143,          1,          2,        135,2,19920623,       1742,   -32.5260,  -161.8328,       5419,  5392.0,   1.0842,  34.7092,2,  34.7085,2,    207.0,2,   206.5,2,  121.16,2,   32.23,2,    0.01,2,    2.25,2,   0.004,2,-999.000,9,  -999.0,9,  -999.0,9,-999.000,9,-999.0000,9, -999.00,9, -999.00,9,  -999.0,9,  -999.0,-999.000,9,-999.000,     -999.0,-999.0000,-999.000,     0.6162,-999.000
  316N138_4,       P06C,     143,          1,          1,        134,2,19920623,       1742,   -32.5260,  -161.8328,       5419,  5508.6,   1.0963,  34.7087,2,  34.7081,2,    205.2,2,   206.0,2,  121.06,2,   32.18,2,    0.00,2,    2.25,2,   0.006,6,   0.005,6,  -999.0,9,  -999.0,9,-999.000,9,-999.0000,9, -999.00,9, -999.00,9,  -999.0,9,  -999.0,-999.000,9,-999.000,     -999.0,-999.0000,-999.000,     0.6133,-999.000