BOTTLE,20211025CCHSIORKP
EXPOCODE,SECT_ID,STNNBR,CASTNO,SAMPNO,BTLNBR,BTLNBR_FLAG_W,DATE,TIME,LATITUDE,LONGITUDE,DEPTH,CTDPRS,CTDTMP,CTDSAL,CTDSAL_FLAG_W,SALNTY,SALNTY_FLAG_W,CTDOXY,CTDOXY_FLAG_W,OXYGEN,OXYGEN_FLAG_W,SILCAT,SILCAT_FLAG_W,NITRAT,NITRAT_FLAG_W,NITRIT,NITRIT_FLAG_W,PHSPHT,PHSPHT_FLAG_W,CFC-11,CFC-11_FLAG_W,CFC-12,CFC-12_FLAG_W,TCARBN,TCARBN_FLAG_W,PCO2,PCO2_FLAG_W,TRITUM,TRITUM_FLAG_W,HELIUM,HELIUM_FLAG_W,DELHE3,DELHE3_FLAG_W,DELC13,DELC13_FLAG_W,DELC14,DELC14_FLAG_W,C14ERR,NEON,NEON_FLAG_W,NEONER,PCO2TMP,HELIER,DELHER,THETA,TRITER
,,,,,,,,,,,METERS,DBAR,ITS-90,PSS-78,,PSS-78,,UMOL/KG,,UMOL/KG,,UMOL/KG,,UMOL/KG,,UMOL/KG,,UMOL/KG,,PMOL/KG,,PMOL/KG,,UMOL/KG,,UATM,,TU,,NMOL/KG,,PERCNT,,/MILLE,,/MILLE,,/MILLE,NMOL/KG,,NMOL/KG,DEG_C,NMOL/KG,PERCNT,ITS-90,TU
  316N138_4,       P06C,     173,          1,         36,    02-9121,2,19920701,       1616,   -32.5085,  -176.7393,       6132,    22.5,  16.2869,  35.5142,2,  35.5137,2,    238.0,2,   238.8,2,    0.73,2,    0.71,2,    0.09,2, -999.00,5,   2.787,2,-999.000,9,  -999.0,9,  -999.0,9,-999.000,9,-999.0000,9, -999.00,9, -999.00,9,  -999.0,9,  -999.0,-999.000,9,-999.000,     -999.0,-999.0000,-999.000,    16.2833,-999.000
  316N138_4,       P06C,     173,          1,         35,    02-9454,2,19920701,       1616,   -32.5085,  -176.7393,       6132,    61.5,  16.2964,  35.5145,2,  35.5141,2,    239.9,2,   237.5,2,    0.73,2,    0.76,2,    0.09,2, -999.00,5,   2.810,2,   1.349,2,  -999.0,9,  -999.0,9,-999.000,9,-999.0000,9, -999.00,9, -999.00,9,  -999.0,9,  -999.0,-999.000,9,-999.000,     -999.0,-999.0000,-999.000,    16.2866,-999.000
  316N138_4,       P06C,     173,          1,         34,    02-9457,2,19920701,       1616,   -32.5085,  -176.7393,       6132,   110.8,  16.0416,  35.4878,2,  35.4847,2,    204.1,2,   229.2,2,    1.07,2,    1.97,2,    0.11,2, -999.00,5,   2.783,2,   1.330,2,  -999.0,9,  -999.0,9,-999.000,9,-999.0000,9, -999.00,9, -999.00,9,  -999.0,9,  -999.0,-999.000,9,-999.000,     -999.0,-999.0000,-999.000,    16.0241,-999.000
  316N138_4,       P06C,     173,          1,         33,    02-5367,2,19920701,       1616,   -32.5085,  -176.7393,       6132,   211.6,  13.0027,  35.1468,2,  35.1417,2,    197.7,2,   202.6,2,    3.39,2,   10.59,2,    0.01,2, -999.00,5,-999.000,5,-999.000,5,  -999.0,9,  -999.0,9,-999.000,9,-999.0000,9, -999.00,9, -999.00,9,  -999.0,9,  -999.0,-999.000,9,-999.000,     -999.0,-999.0000,-999.000,    12.9735,-999.000
  316N138_4,       P06C,     173,          1,         32,    02-9540,2,19920701,       1616,   -32.5085,  -176.7393,       6132,   311.6,  10.6713,  34.8345,2,  34.8290,2,    196.9,2,   195.7,2,    5.37,2,   16.24,2,    0.01,2, -999.00,5,   1.572,2,   0.786,2,  -999.0,9,  -999.0,9,-999.000,9,-999.0000,9, -999.00,9, -999.00,9,  -999.0,9,  -999.0,-999.000,9,-999.000,     -999.0,-999.0000,-999.000,    10.6335,-999.000
  316N138_4,       P06C,     173,          1,         31,    02-9539,2,19920701,       1616,   -32.5085,  -176.7393,       6132,   410.7,   9.1733,  34.6630,2,  34.6631,2,    201.6,2,   201.9,2,    6.87,2,   19.00,2,    0.01,2, -999.00,5,   1.334,6,   0.679,6,  -999.0,9,  -999.0,9,-999.000,9,-999.0000,9, -999.00,9, -999.00,9,  -999.0,9,  -999.0,-999.000,9,-999.000,     -999.0,-999.0000,-999.000,     9.1278,-999.000
  316N138_4,       P06C,     173,          1,         30,    02-9456,2,19920701,       1616,   -32.5085,  -176.7393,       6132,   509.1,   8.2331,  34.5717,2,  34.5743,2,    207.5,2,   206.7,2,    9.02,2,   20.97,2,    0.00,2, -999.00,5,   1.048,2,   0.525,2,  -999.0,9,  -999.0,9,-999.000,9,-999.0000,9, -999.00,9, -999.00,9,  -999.0,9,  -999.0,-999.000,9,-999.000,     -999.0,-999.0000,-999.000,     8.1800,-999.000
  316N138_4,       P06C,     173,          1,         29,    02-9458,2,19920701,       1616,   -32.5085,  -176.7393,       6132,   609.0,   7.2932,  34.4554,2,  34.4532,2,    221.9,2,   224.4,2,    8.04,2,   21.84,2,    0.00,2, -999.00,5,   0.993,2,   0.499,2,  -999.0,9,  -999.0,9,-999.000,9,-999.0000,9, -999.00,9, -999.00,9,  -999.0,9,  -999.0,-999.000,9,-999.000,     -999.0,-999.0000,-999.000,     7.2337,-999.000
  316N138_4,       P06C,     173,          1,         28,    02-9545,2,19920701,       1616,   -32.5085,  -176.7393,       6132,   705.4,   6.5546,  34.3836,2,  34.3845,2,    229.2,2,   228.3,2,   10.03,2,   23.57,2,    0.01,2, -999.00,5,   0.591,2,   0.317,2,  -999.0,9,  -999.0,9,-999.000,9,-999.0000,9, -999.00,9, -999.00,9,  -999.0,9,  -999.0,-999.000,9,-999.000,     -999.0,-999.0000,-999.000,     6.4891,-999.000
  316N138_4,       P06C,     173,          1,         27,    02-9453,2,19920701,       1616,   -32.5085,  -176.7393,       6132,   802.5,   6.1409,  34.3826,2,  34.3837,2,    218.2,2,   213.7,2,   15.81,2,   25.67,2,    0.01,2, -999.00,5,   0.340,2,   0.186,2,  -999.0,9,  -999.0,9,-999.000,9,-999.0000,9, -999.00,9, -999.00,9,  -999.0,9,  -999.0,-999.000,9,-999.000,     -999.0,-999.0000,-999.000,     6.0684,-999.000
  316N138_4,       P06C,     173,          1,         26,    02-9544,2,19920701,       1616,   -32.5085,  -176.7393,       6132,   994.6,   5.0927,  34.3898,2,  34.3900,2,    196.4,2,   194.2,2,   30.70,2,   29.21,2,    0.02,2, -999.00,5,   0.104,2,   0.055,2,  -999.0,9,  -999.0,9,-999.000,9,-999.0000,9, -999.00,9, -999.00,9,  -999.0,9,  -999.0,-999.000,9,-999.000,     -999.0,-999.0000,-999.000,     5.0094,-999.000
  316N138_4,       P06C,     173,          1,         25,    02-9455,2,19920701,       1616,   -32.5085,  -176.7393,       6132,  1184.6,   3.9458,  34.4214,2,  34.4230,2,    180.3,2,   178.8,2,   49.71,2,   32.23,2,    0.02,2, -999.00,5,   0.021,6,   0.011,6,  -999.0,9,  -999.0,9,-999.000,9,-999.0000,9, -999.00,9, -999.00,9,  -999.0,9,  -999.0,-999.000,9,-999.000,     -999.0,-999.0000,-999.000,     3.8552,-999.000
  316N138_4,       P06C,     173,          1,         24,        132,2,19920701,       1616,   -32.5085,  -176.7393,       6132,  1378.1,   3.1923,  34.4852,2,  34.4850,2,    168.3,2,   168.0,2,   67.89,2,   33.78,2,    0.01,2, -999.00,5,   0.000,6,   0.000,6,  -999.0,9,  -999.0,9,-999.000,9,-999.0000,9, -999.00,9, -999.00,9,  -999.0,9,  -999.0,-999.000,9,-999.000,     -999.0,-999.0000,-999.000,     3.0928,-999.000
  316N138_4,       P06C,     173,          1,         23,        123,2,19920701,       1616,   -32.5085,  -176.7393,       6132,  1571.0,   2.8177,  34.5571,2,  34.5580,2,    158.1,2,   159.0,2,   87.73,2,   34.50,2,    0.01,2, -999.00,5,   0.001,2,   0.000,2,  -999.0,9,  -999.0,9,-999.000,9,-999.0000,9, -999.00,9, -999.00,9,  -999.0,9,  -999.0,-999.000,9,-999.000,     -999.0,-999.0000,-999.000,     2.7062,-999.000
  316N138_4,       P06C,     173,          1,         22,        128,2,19920701,       1616,   -32.5085,  -176.7393,       6132,  1762.5,   2.5921,  34.5917,2,  34.5928,2,    152.2,2,   151.2,2,   99.98,2,   35.00,2,    0.01,2, -999.00,5,   0.007,2,   0.003,2,  -999.0,9,  -999.0,9,-999.000,9,-999.0000,9, -999.00,9, -999.00,9,  -999.0,9,  -999.0,-999.000,9,-999.000,     -999.0,-999.0000,-999.000,     2.4673,-999.000
  316N138_4,       P06C,     173,          1,         21,        121,2,19920701,       1616,   -32.5085,  -176.7393,       6132,  1954.6,   2.4520,  34.6085,2,  34.6093,2,    149.3,2,   148.9,2,  106.44,2,   35.31,2,    0.01,2, -999.00,5,   0.001,2,  -0.001,2,  -999.0,9,  -999.0,9,-999.000,9,-999.0000,9, -999.00,9, -999.00,9,  -999.0,9,  -999.0,-999.000,9,-999.000,     -999.0,-999.0000,-999.000,     2.3126,-999.000
  316N138_4,       P06C,     173,          1,         20,        120,2,19920701,       1616,   -32.5085,  -176.7393,       6132,  2151.7,   2.3422,  34.6218,2,  34.6231,2,    148.3,2,   148.9,2,  111.41,2,   35.50,2,    0.01,2, -999.00,5,  -0.002,2,   0.004,2,  -999.0,9,  -999.0,9,-999.000,9,-999.0000,9, -999.00,9, -999.00,9,  -999.0,9,  -999.0,-999.000,9,-999.000,     -999.0,-999.0000,-999.000,     2.1874,-999.000
  316N138_4,       P06C,     173,          1,         19,        133,2,19920701,       1616,   -32.5085,  -176.7393,       6132,  2347.8,   2.2192,  34.6337,2,  34.6341,2,    147.5,2,   146.8,2,  116.39,2,   35.71,2,    0.01,2, -999.00,5,-999.000,5,-999.000,5,  -999.0,9,  -999.0,9,-999.000,9,-999.0000,9, -999.00,9, -999.00,9,  -999.0,9,  -999.0,-999.000,9,-999.000,     -999.0,-999.0000,-999.000,     2.0488,-999.000
  316N138_4,       P06C,     173,          1,         18,        118,2,19920701,       1616,   -32.5085,  -176.7393,       6132,  2546.0,   2.1269,  34.6434,2,  34.6437,2,    148.1,2,   147.6,2,  119.55,2,   35.75,2,    0.01,2, -999.00,5,  -0.002,2,   0.002,2,  -999.0,9,  -999.0,9,-999.000,9,-999.0000,9, -999.00,9, -999.00,9,  -999.0,9,  -999.0,-999.000,9,-999.000,     -999.0,-999.0000,-999.000,     1.9400,-999.000
  316N138_4,       P06C,     173,          1,         17,        117,2,19920701,       1616,   -32.5085,  -176.7393,       6132,  2742.9,   2.0144,  34.6543,2,  34.6545,2,    148.5,2,   148.7,2,  123.20,2,   35.95,2,    0.01,2, -999.00,5,-999.000,5,-999.000,5,  -999.0,9,  -999.0,9,-999.000,9,-999.0000,9, -999.00,9, -999.00,9,  -999.0,9,  -999.0,-999.000,9,-999.000,     -999.0,-999.0000,-999.000,     1.8112,-999.000
  316N138_4,       P06C,     173,          1,         16,        116,2,19920701,       1616,   -32.5085,  -176.7393,       6132,  2944.9,   1.8975,  34.6693,2,  34.6698,2,    155.8,2,   153.7,2,  122.88,2,   35.53,3,    0.01,2, -999.00,5,  -0.004,2,  -0.003,2,  -999.0,9,  -999.0,9,-999.000,9,-999.0000,9, -999.00,9, -999.00,9,  -999.0,9,  -999.0,-999.000,9,-999.000,     -999.0,-999.0000,-999.000,     1.6774,-999.000
  316N138_4,       P06C,     173,          1,         15,        115,2,19920701,       1616,   -32.5085,  -176.7393,       6132,  3142.7,   1.7896,  34.6989,2,  34.6983,2,    174.3,2,   173.6,2,  111.98,2,   33.83,3,    0.01,2, -999.00,5,-999.000,5,-999.000,5,  -999.0,9,  -999.0,9,-999.000,9,-999.0000,9, -999.00,9, -999.00,9,  -999.0,9,  -999.0,-999.000,9,-999.000,     -999.0,-999.0000,-999.000,     1.5523,-999.000
  316N138_4,       P06C,     173,          1,         14,        114,2,19920701,       1616,   -32.5085,  -176.7393,       6132,  3343.3,   1.6905,  34.7179,2,  34.7182,2,    188.4,2,   187.0,2,  104.73,2,   32.65,3,    0.01,2, -999.00,5,-999.000,5,-999.000,5,  -999.0,9,  -999.0,9,-999.000,9,-999.0000,9, -999.00,9, -999.00,9,  -999.0,9,  -999.0,-999.000,9,-999.000,     -999.0,-999.0000,-999.000,     1.4355,-999.000
  316N138_4,       P06C,     173,          1,         13,        125,2,19920701,       1616,   -32.5085,  -176.7393,       6132,  3543.2,   1.5221,  34.7234,2,  34.7233,2,    194.1,2,   196.0,3,  106.06,2,   32.38,3,    0.01,2, -999.00,5,   0.006,2,   0.006,2,  -999.0,9,  -999.0,9,-999.000,9,-999.0000,9, -999.00,9, -999.00,9,  -999.0,9,  -999.0,-999.000,9,-999.000,     -999.0,-999.0000,-999.000,     1.2507,-999.000
  316N138_4,       P06C,     173,          1,         12,        112,2,19920701,       1616,   -32.5085,  -176.7393,       6132,  3744.6,   1.3492,  34.7219,2,  34.7209,2,    199.4,2,   200.2,2,  109.72,2,   32.43,3,    0.01,2, -999.00,5,-999.000,5,-999.000,5,  -999.0,9,  -999.0,9,-999.000,9,-999.0000,9, -999.00,9, -999.00,9,  -999.0,9,  -999.0,-999.000,9,-999.000,     -999.0,-999.0000,-999.000,     1.0614,-999.000
  316N138_4,       P06C,     173,          1,         11,        129,2,19920701,       1616,   -32.5085,  -176.7393,       6132,  3943.2,   1.2252,  34.7173,2,  34.7170,2,    202.5,2,   201.7,2,  112.87,2,   32.42,3,    0.01,2, -999.00,5,-999.000,5,-999.000,5,  -999.0,9,  -999.0,9,-999.000,9,-999.0000,9, -999.00,9, -999.00,9,  -999.0,9,  -999.0,-999.000,9,-999.000,     -999.0,-999.0000,-999.000,     0.9200,-999.000
  316N138_4,       P06C,     173,          1,         10,        110,2,19920701,       1616,   -32.5085,  -176.7393,       6132,  4191.7,   1.1118,  34.7141,2,  34.7140,2,    205.4,2,   204.6,2,  116.37,2,   32.36,2,    0.01,2, -999.00,5,   0.003,2,   0.004,2,  -999.0,9,  -999.0,9,-999.000,9,-999.0000,9, -999.00,9, -999.00,9,  -999.0,9,  -999.0,-999.000,9,-999.000,     -999.0,-999.0000,-999.000,     0.7830,-999.000
  316N138_4,       P06C,     173,          1,          9,        126,2,19920701,       1616,   -32.5085,  -176.7393,       6132,  4460.7,   1.0595,  34.7104,2,  34.7105,2,    206.4,2,   205.6,2,  118.54,2,   32.21,2,    0.01,2, -999.00,5,-999.000,5,-999.000,5,  -999.0,9,  -999.0,9,-999.000,9,-999.0000,9, -999.00,9, -999.00,9,  -999.0,9,  -999.0,-999.000,9,-999.000,     -999.0,-999.0000,-999.000,     0.7025,-999.000
  316N138_4,       P06C,     173,          1,          8,        108,2,19920701,       1616,   -32.5085,  -176.7393,       6132,  4718.6,   1.0391,  34.7091,2,  34.7085,2,    207.9,2,   206.1,2,  119.87,2,   31.99,2,    0.01,2, -999.00,5,-999.000,5,-999.000,5,  -999.0,9,  -999.0,9,-999.000,9,-999.0000,9, -999.00,9, -999.00,9,  -999.0,9,  -999.0,-999.000,9,-999.000,     -999.0,-999.0000,-999.000,     0.6533,-999.000
  316N138_4,       P06C,     173,          1,          7,        107,2,19920701,       1616,   -32.5085,  -176.7393,       6132,  4975.7,   1.0381,  34.7084,2,  34.7087,2,    208.0,2,   206.6,2,  120.72,2,   31.73,2,    0.01,2, -999.00,5,   0.011,2,   0.002,2,  -999.0,9,  -999.0,9,-999.000,9,-999.0000,9, -999.00,9, -999.00,9,  -999.0,9,  -999.0,-999.000,9,-999.000,     -999.0,-999.0000,-999.000,     0.6223,-999.000
  316N138_4,       P06C,     173,          1,          6,        180,2,19920701,       1616,   -32.5085,  -176.7393,       6132,  5184.6,   1.0500,  34.7074,2,  34.7074,2,    208.0,2,   208.0,2,  121.23,2,   31.58,2,    0.00,2, -999.00,5,-999.000,5,-999.000,5,  -999.0,9,  -999.0,9,-999.000,9,-999.0000,9, -999.00,9, -999.00,9,  -999.0,9,  -999.0,-999.000,9,-999.000,     -999.0,-999.0000,-999.000,     0.6088,-999.000
  316N138_4,       P06C,     173,          1,          5,        131,2,19920701,       1616,   -32.5085,  -176.7393,       6132,  5393.5,   1.0665,  34.7066,2,  34.7072,2,    208.0,2,   206.7,2,  121.58,2,   31.52,2,    0.00,2, -999.00,5,   0.006,2,   0.000,2,  -999.0,9,  -999.0,9,-999.000,9,-999.0000,9, -999.00,9, -999.00,9,  -999.0,9,  -999.0,-999.000,9,-999.000,     -999.0,-999.0000,-999.000,     0.5990,-999.000
  316N138_4,       P06C,     173,          1,          4,        104,2,19920701,       1616,   -32.5085,  -176.7393,       6132,  5607.0,   1.0866,  34.7068,2,  34.7068,2,    207.7,2,   207.4,2,  121.77,2,   31.62,2,    0.00,2, -999.00,5,   0.010,2,   0.003,2,  -999.0,9,  -999.0,9,-999.000,9,-999.0000,9, -999.00,9, -999.00,9,  -999.0,9,  -999.0,-999.000,9,-999.000,     -999.0,-999.0000,-999.000,     0.5916,-999.000
  316N138_4,       P06C,     173,          1,          3,        130,2,19920701,       1616,   -32.5085,  -176.7393,       6132,  5815.0,   1.1100,  34.7074,2,  34.7062,2,    208.5,2,   208.3,2,  121.78,2,   31.68,2,   -0.01,2, -999.00,5,   0.008,2,   0.008,2,  -999.0,9,  -999.0,9,-999.000,9,-999.0000,9, -999.00,9, -999.00,9,  -999.0,9,  -999.0,-999.000,9,-999.000,     -999.0,-999.0000,-999.000,     0.5874,-999.000
  316N138_4,       P06C,     173,          1,          2,        135,2,19920701,       1616,   -32.5085,  -176.7393,       6132,  6033.9,   1.1380,  34.7070,2,  34.7066,2,    207.6,2,   206.5,2,  121.63,2,   31.72,2,    0.00,2, -999.00,5,   0.009,2,   0.004,2,  -999.0,9,  -999.0,9,-999.000,9,-999.0000,9, -999.00,9, -999.00,9,  -999.0,9,  -999.0,-999.000,9,-999.000,     -999.0,-999.0000,-999.000,     0.5857,-999.000
  316N138_4,       P06C,     173,          1,          1,        134,2,19920701,       1616,   -32.5085,  -176.7393,       6132,  6240.5,   1.1658,  34.7070,2,  34.7070,2,    267.2,4,   206.3,2,  121.50,2,   32.16,2,    0.01,2, -999.00,5,   0.007,2,   0.007,2,  -999.0,9,  -999.0,9,-999.000,9,-999.0000,9, -999.00,9, -999.00,9,  -999.0,9,  -999.0,-999.000,9,-999.000,     -999.0,-999.0000,-999.000,     0.5848,-999.000