BOTTLE,20211025CCHSIORKP
EXPOCODE,SECT_ID,STNNBR,CASTNO,SAMPNO,BTLNBR,BTLNBR_FLAG_W,DATE,TIME,LATITUDE,LONGITUDE,DEPTH,CTDPRS,CTDTMP,CTDSAL,CTDSAL_FLAG_W,SALNTY,SALNTY_FLAG_W,CTDOXY,CTDOXY_FLAG_W,OXYGEN,OXYGEN_FLAG_W,SILCAT,SILCAT_FLAG_W,NITRAT,NITRAT_FLAG_W,NITRIT,NITRIT_FLAG_W,PHSPHT,PHSPHT_FLAG_W,CFC-11,CFC-11_FLAG_W,CFC-12,CFC-12_FLAG_W,TCARBN,TCARBN_FLAG_W,PCO2,PCO2_FLAG_W,TRITUM,TRITUM_FLAG_W,HELIUM,HELIUM_FLAG_W,DELHE3,DELHE3_FLAG_W,DELC13,DELC13_FLAG_W,DELC14,DELC14_FLAG_W,C14ERR,NEON,NEON_FLAG_W,NEONER,PCO2TMP,HELIER,DELHER,THETA,TRITER
,,,,,,,,,,,METERS,DBAR,ITS-90,PSS-78,,PSS-78,,UMOL/KG,,UMOL/KG,,UMOL/KG,,UMOL/KG,,UMOL/KG,,UMOL/KG,,PMOL/KG,,PMOL/KG,,UMOL/KG,,UATM,,TU,,NMOL/KG,,PERCNT,,/MILLE,,/MILLE,,/MILLE,NMOL/KG,,NMOL/KG,DEG_C,NMOL/KG,PERCNT,ITS-90,TU
  316N138_4,       P06C,      80,          1,         36,    02-9121,2,19920603,       0655,   -32.5020,  -116.6568,       2188,    17.3,  20.0301,  35.1511,2,  35.1628,2,    321.1,3,   226.6,2,    0.20,2,    0.04,2,    0.00,2,    0.14,2,   2.297,6,   1.193,6,  -999.0,9,  -999.0,9,-999.000,9,-999.0000,9, -999.00,9, -999.00,9,  -999.0,9,  -999.0,-999.000,9,-999.000,     -999.0,-999.0000,-999.000,    20.0269,-999.000
  316N138_4,       P06C,      80,          1,         35,    02-9454,2,19920603,       0655,   -32.5020,  -116.6568,       2188,    86.5,  18.9525,  35.2543,2,  35.2509,2,    239.1,2,   240.0,2,    0.20,2,    0.05,2,   -0.01,2,    0.16,2,   2.483,6,   1.280,6,  -999.0,9,  -999.0,9,-999.000,9,-999.0000,9, -999.00,9, -999.00,9,  -999.0,9,  -999.0,-999.000,9,-999.000,     -999.0,-999.0000,-999.000,    18.9372,-999.000
  316N138_4,       P06C,      80,          1,         34,    02-9457,2,19920603,       0655,   -32.5020,  -116.6568,       2188,   126.5,  17.4444,  35.1616,2,  35.1620,2,    238.3,2,   233.7,2,    0.21,2,    0.03,2,    0.01,2,    0.20,2,   2.530,2,   1.293,2,  -999.0,9,  -999.0,9,-999.000,9,-999.0000,9, -999.00,9, -999.00,9,  -999.0,9,  -999.0,-999.000,9,-999.000,     -999.0,-999.0000,-999.000,    17.4232,-999.000
  316N138_4,       P06C,      80,          1,         33,    02-5367,2,19920603,       0655,   -32.5020,  -116.6568,       2188,   156.3,  16.6066,  35.0799,2,  35.0764,2,    228.2,2,   222.3,2,    0.36,2,    0.52,2,    0.14,2,    0.28,2,   2.495,2,   1.277,2,  -999.0,9,  -999.0,9,-999.000,9,-999.0000,9, -999.00,9, -999.00,9,  -999.0,9,  -999.0,-999.000,9,-999.000,     -999.0,-999.0000,-999.000,    16.5812,-999.000
  316N138_4,       P06C,      80,          1,         32,    02-9540,2,19920603,       0655,   -32.5020,  -116.6568,       2188,   237.1,  14.6760,  34.9346,2,  34.9335,2,    214.8,2,   217.1,2,    0.69,2,    3.87,2,    0.01,2,    0.48,2,   2.490,2,   1.263,2,  -999.0,9,  -999.0,9,-999.000,9,-999.0000,9, -999.00,9, -999.00,9,  -999.0,9,  -999.0,-999.000,9,-999.000,     -999.0,-999.0000,-999.000,    14.6405,-999.000
  316N138_4,       P06C,      80,          1,         31,    02-9539,2,19920603,       0655,   -32.5020,  -116.6568,       2188,   285.5,  12.5472,  34.7220,2,  34.7089,2,    209.4,2,   204.9,2,    1.66,2,   10.05,2,    0.01,2,    0.85,2,   1.982,2,   0.992,2,  -999.0,9,  -999.0,9,-999.000,9,-999.0000,9, -999.00,9, -999.00,9,  -999.0,9,  -999.0,-999.000,9,-999.000,     -999.0,-999.0000,-999.000,    12.5089,-999.000
  316N138_4,       P06C,      80,          1,         30,    02-9456,2,19920603,       0655,   -32.5020,  -116.6568,       2188,   335.2,  10.4438,  34.5395,2,  34.5262,2,    212.1,2,   206.2,2,    2.95,2,   14.99,2,    0.00,2,    1.15,2,   1.737,2,   0.858,2,  -999.0,9,  -999.0,9,-999.000,9,-999.0000,9, -999.00,9, -999.00,9,  -999.0,9,  -999.0,-999.000,9,-999.000,     -999.0,-999.0000,-999.000,    10.4038,-999.000
  316N138_4,       P06C,      80,          1,         29,    02-9458,2,19920603,       0655,   -32.5020,  -116.6568,       2188,   385.7,   8.4821,  34.3964,2,  34.3965,2,    217.3,2,   210.2,2,    4.89,2,   20.05,2,    0.00,2,    1.45,2,   1.514,2,   0.751,2,  -999.0,9,  -999.0,9,-999.000,9,-999.0000,9, -999.00,9, -999.00,9,  -999.0,9,  -999.0,-999.000,9,-999.000,     -999.0,-999.0000,-999.000,     8.4416,-999.000
  316N138_4,       P06C,      80,          1,         28,    02-9545,2,19920603,       0655,   -32.5020,  -116.6568,       2188,   435.8,   7.5884,  34.3601,2,  34.3623,2,    213.5,2,   214.1,2,    6.35,2,   22.21,2,    0.00,2,    1.58,2,   1.368,6,   0.682,6,  -999.0,9,  -999.0,9,-999.000,9,-999.0000,9, -999.00,9, -999.00,9,  -999.0,9,  -999.0,-999.000,9,-999.000,     -999.0,-999.0000,-999.000,     7.5454,-999.000
  316N138_4,       P06C,      80,          1,         27,    02-9453,2,19920603,       0655,   -32.5020,  -116.6568,       2188,   485.7,   6.9798,  34.3466,2,  34.3484,2,    217.1,2,   221.2,2,    7.48,2,   23.37,2,    0.01,2,    1.64,2,   1.262,2,   0.625,2,  -999.0,9,  -999.0,9,-999.000,9,-999.0000,9, -999.00,9, -999.00,9,  -999.0,9,  -999.0,-999.000,9,-999.000,     -999.0,-999.0000,-999.000,     6.9339,-999.000
  316N138_4,       P06C,      80,          1,         26,    02-9544,2,19920603,       0655,   -32.5020,  -116.6568,       2188,   534.6,   6.5819,  34.3400,2,  34.3386,2,    224.7,2,   231.0,2,    7.97,2,   23.64,2,    0.00,2,    1.66,2,   1.176,2,   0.599,2,  -999.0,9,  -999.0,9,-999.000,9,-999.0000,9, -999.00,9, -999.00,9,  -999.0,9,  -999.0,-999.000,9,-999.000,     -999.0,-999.0000,-999.000,     6.5328,-999.000
  316N138_4,       P06C,      80,          1,         25,    02-9455,2,19920603,       0655,   -32.5020,  -116.6568,       2188,   584.8,   6.2916,  34.3277,2,  34.3276,2,    229.9,2,   231.6,2,    8.94,2,   24.33,2,    0.01,2,    1.70,2,   0.898,2,   0.470,2,  -999.0,9,  -999.0,9,-999.000,9,-999.0000,9, -999.00,9, -999.00,9,  -999.0,9,  -999.0,-999.000,9,-999.000,     -999.0,-999.0000,-999.000,     6.2390,-999.000
  316N138_4,       P06C,      80,          1,         24,        132,2,19920603,       0655,   -32.5020,  -116.6568,       2188,   634.1,   6.0289,  34.3126,2,  34.3123,2,    237.8,2,   283.3,4,    8.94,2,   24.04,3,    0.00,2,    1.66,3,-999.000,9,-999.000,9,  -999.0,9,  -999.0,9,-999.000,9,-999.0000,9, -999.00,9, -999.00,9,  -999.0,9,  -999.0,-999.000,9,-999.000,     -999.0,-999.0000,-999.000,     5.9730,-999.000
  316N138_4,       P06C,      80,          1,         23,        123,2,19920603,       0655,   -32.5020,  -116.6568,       2188,   686.4,   5.7416,  34.2942,2,  34.2960,2,    239.7,2,   242.2,2,   10.07,2,   24.81,2,    0.00,2,    1.72,2,   0.741,2,   0.405,2,  -999.0,9,  -999.0,9,-999.000,9,-999.0000,9, -999.00,9, -999.00,9,  -999.0,9,  -999.0,-999.000,9,-999.000,     -999.0,-999.0000,-999.000,     5.6823,-999.000
  316N138_4,       P06C,      80,          1,         22,        128,2,19920603,       0655,   -32.5020,  -116.6568,       2188,   736.1,   5.5547,  34.2849,2,  34.2846,2,    240.0,2,   239.7,2,   11.20,2,   25.47,2,    0.00,2,    1.77,2,-999.000,9,-999.000,9,  -999.0,9,  -999.0,9,-999.000,9,-999.0000,9, -999.00,9, -999.00,9,  -999.0,9,  -999.0,-999.000,9,-999.000,     -999.0,-999.0000,-999.000,     5.4919,-999.000
  316N138_4,       P06C,      80,          1,         21,        121,2,19920603,       0655,   -32.5020,  -116.6568,       2188,   785.7,   5.3294,  34.2774,2,  34.2781,2,    235.8,2,   233.4,2,   13.47,2,   26.65,2,    0.00,2,    1.85,2,   0.480,6,   0.278,6,  -999.0,9,  -999.0,9,-999.000,9,-999.0000,9, -999.00,9, -999.00,9,  -999.0,9,  -999.0,-999.000,9,-999.000,     -999.0,-999.0000,-999.000,     5.2635,-999.000
  316N138_4,       P06C,      80,          1,         20,        120,2,19920603,       0655,   -32.5020,  -116.6568,       2188,   835.7,   5.0944,  34.2743,2,  34.2744,2,    230.8,2,   228.0,2,   15.73,2,   27.62,2,    0.00,2,    1.90,2,-999.000,9,-999.000,9,  -999.0,9,  -999.0,9,-999.000,9,-999.0000,9, -999.00,9, -999.00,9,  -999.0,9,  -999.0,-999.000,9,-999.000,     -999.0,-999.0000,-999.000,     5.0255,-999.000
  316N138_4,       P06C,      80,          1,         19,        133,2,19920603,       0655,   -32.5020,  -116.6568,       2188,   885.8,   4.8369,  34.2801,2,  34.2805,2,    218.1,2,   214.6,2,   20.25,2,   29.26,2,    0.00,2,    2.02,2,   0.212,2,   0.137,2,  -999.0,9,  -999.0,9,-999.000,9,-999.0000,9, -999.00,9, -999.00,9,  -999.0,9,  -999.0,-999.000,9,-999.000,     -999.0,-999.0000,-999.000,     4.7653,-999.000
  316N138_4,       P06C,      80,          1,         18,        118,2,19920603,       0655,   -32.5020,  -116.6568,       2188,   955.3,   4.5413,  34.2998,2,  34.3007,2,    204.5,2,   197.2,2,   27.03,2,   31.32,2,    0.01,2,    2.15,2,   0.097,2,   0.065,2,  -999.0,9,  -999.0,9,-999.000,9,-999.0000,9, -999.00,9, -999.00,9,  -999.0,9,  -999.0,-999.000,9,-999.000,     -999.0,-999.0000,-999.000,     4.4657,-999.000
  316N138_4,       P06C,      80,          1,         17,        117,3,19920603,       0655,   -32.5020,  -116.6568,       2188,  1005.1,   4.2994,  34.3208,2,  34.3213,2,    196.2,3,   186.9,2,   32.35,2,   32.51,2,    0.01,2,    2.25,2,-999.000,9,-999.000,9,  -999.0,9,  -999.0,9,-999.000,9,-999.0000,9, -999.00,9, -999.00,9,  -999.0,9,  -999.0,-999.000,9,-999.000,     -999.0,-999.0000,-999.000,     4.2212,-999.000
  316N138_4,       P06C,      80,          1,         16,        116,2,19920603,       0655,   -32.5020,  -116.6568,       2188,  1079.4,   3.9685,  34.3542,2,  34.3554,2,    178.1,3,   172.0,2,   41.71,2,   34.13,2,    0.00,2,    2.35,2,-999.000,9,-999.000,9,  -999.0,9,  -999.0,9,-999.000,9,-999.0000,9, -999.00,9, -999.00,9,  -999.0,9,  -999.0,-999.000,9,-999.000,     -999.0,-999.0000,-999.000,     3.8868,-999.000
  316N138_4,       P06C,      80,          1,         15,        115,2,19920603,       0655,   -32.5020,  -116.6568,       2188,  1153.0,   3.7307,  34.3958,2,  34.3963,2,    163.5,3,   156.4,2,   51.23,2,   35.63,2,    0.00,2,    2.46,2,   0.013,2,-999.000,5,  -999.0,9,  -999.0,9,-999.000,9,-999.0000,9, -999.00,9, -999.00,9,  -999.0,9,  -999.0,-999.000,9,-999.000,     -999.0,-999.0000,-999.000,     3.6447,-999.000
  316N138_4,       P06C,      80,          1,         14,        114,2,19920603,       0655,   -32.5020,  -116.6568,       2188,  1228.3,   3.5281,  34.4379,2,  34.4369,2,    148.1,2,   145.5,2,   60.74,2,   36.47,2,    0.00,2,    2.53,2,-999.000,9,-999.000,9,  -999.0,9,  -999.0,9,-999.000,9,-999.0000,9, -999.00,9, -999.00,9,  -999.0,9,  -999.0,-999.000,9,-999.000,     -999.0,-999.0000,-999.000,     3.4376,-999.000
  316N138_4,       P06C,      80,          1,         13,        125,2,19920603,       0655,   -32.5020,  -116.6568,       2188,  1300.1,   3.3700,  34.4658,2,  34.4652,2,    144.4,2,   142.1,2,   66.88,2,   36.78,2,    0.00,2,    2.57,2,-999.000,5,   0.005,2,  -999.0,9,  -999.0,9,-999.000,9,-999.0000,9, -999.00,9, -999.00,9,  -999.0,9,  -999.0,-999.000,9,-999.000,     -999.0,-999.0000,-999.000,     3.2751,-999.000
  316N138_4,       P06C,      80,          1,         12,        112,2,19920603,       0655,   -32.5020,  -116.6568,       2188,  1374.1,   3.1426,  34.4900,2,  34.4895,2,    145.8,2,   146.8,2,   71.55,2,   36.28,2,   -0.01,2,    2.54,2,-999.000,9,-999.000,9,  -999.0,9,  -999.0,9,-999.000,9,-999.0000,9, -999.00,9, -999.00,9,  -999.0,9,  -999.0,-999.000,9,-999.000,     -999.0,-999.0000,-999.000,     3.0439,-999.000
  316N138_4,       P06C,      80,          1,         11,        129,2,19920603,       0655,   -32.5020,  -116.6568,       2188,  1446.6,   2.9529,  34.5134,2,  34.5125,2,    150.5,2,   151.4,2,   75.75,2,   35.89,2,    0.00,2,    2.50,2,   0.008,6,   0.007,6,  -999.0,9,  -999.0,9,-999.000,9,-999.0000,9, -999.00,9, -999.00,9,  -999.0,9,  -999.0,-999.000,9,-999.000,     -999.0,-999.0000,-999.000,     2.8502,-999.000
  316N138_4,       P06C,      80,          1,         10,        110,2,19920603,       0655,   -32.5020,  -116.6568,       2188,  1517.5,   2.7461,  34.5406,2,  34.5398,2,    153.4,2,   154.8,2,   80.92,2,   35.47,2,    0.00,2,    2.47,2,-999.000,9,-999.000,9,  -999.0,9,  -999.0,9,-999.000,9,-999.0000,9, -999.00,9, -999.00,9,  -999.0,9,  -999.0,-999.000,9,-999.000,     -999.0,-999.0000,-999.000,     2.6399,-999.000
  316N138_4,       P06C,      80,          1,          9,        126,2,19920603,       0655,   -32.5020,  -116.6568,       2188,  1593.0,   2.5953,  34.5626,2,  34.5616,2,    156.9,2,   157.3,2,   85.11,2,   35.17,2,    0.00,2,    2.45,2,  -0.001,2,   0.007,2,  -999.0,9,  -999.0,9,-999.000,9,-999.0000,9, -999.00,9, -999.00,9,  -999.0,9,  -999.0,-999.000,9,-999.000,     -999.0,-999.0000,-999.000,     2.4846,-999.000
  316N138_4,       P06C,      80,          1,          8,        108,2,19920603,       0655,   -32.5020,  -116.6568,       2188,  1666.5,   2.4890,  34.5806,2,  34.5791,2,    158.0,2,   159.5,2,   88.82,2,   35.06,2,    0.00,2,    2.45,2,-999.000,9,-999.000,9,  -999.0,9,  -999.0,9,-999.000,9,-999.0000,9, -999.00,9, -999.00,9,  -999.0,9,  -999.0,-999.000,9,-999.000,     -999.0,-999.0000,-999.000,     2.3735,-999.000
  316N138_4,       P06C,      80,          1,          7,        107,2,19920603,       0655,   -32.5020,  -116.6568,       2188,  1743.7,   2.3716,  34.6001,2,  34.5981,2,    158.5,2,   158.7,2,   94.46,2,   35.01,2,    0.00,2,    2.45,2,   0.000,2,   0.004,2,  -999.0,9,  -999.0,9,-999.000,9,-999.0000,9, -999.00,9, -999.00,9,  -999.0,9,  -999.0,-999.000,9,-999.000,     -999.0,-999.0000,-999.000,     2.2513,-999.000
  316N138_4,       P06C,      80,          1,          6,        180,2,19920603,       0655,   -32.5020,  -116.6568,       2188,  1817.7,   2.2817,  34.6141,2,  34.6134,2,    158.0,2,   157.4,2,   99.46,2,   35.00,2,    0.01,2,    2.45,2,-999.000,9,-999.000,9,  -999.0,9,  -999.0,9,-999.000,9,-999.0000,9, -999.00,9, -999.00,9,  -999.0,9,  -999.0,-999.000,9,-999.000,     -999.0,-999.0000,-999.000,     2.1564,-999.000
  316N138_4,       P06C,      80,          1,          5,        131,2,19920603,       0655,   -32.5020,  -116.6568,       2188,  1893.6,   2.2170,  34.6233,2,  34.6211,2,    157.5,2,   156.6,2,  103.01,2,   35.01,2,    0.00,2,    2.46,2,   0.005,2,   0.005,2,  -999.0,9,  -999.0,9,-999.000,9,-999.0000,9, -999.00,9, -999.00,9,  -999.0,9,  -999.0,-999.000,9,-999.000,     -999.0,-999.0000,-999.000,     2.0863,-999.000
  316N138_4,       P06C,      80,          1,          4,        104,2,19920603,       0655,   -32.5020,  -116.6568,       2188,  1972.7,   2.1535,  34.6316,2,  34.6366,4,    157.4,2,   156.4,2,  106.40,2,   35.06,2,    0.00,2,    2.47,2,-999.000,9,-999.000,9,  -999.0,9,  -999.0,9,-999.000,9,-999.0000,9, -999.00,9, -999.00,9,  -999.0,9,  -999.0,-999.000,9,-999.000,     -999.0,-999.0000,-999.000,     2.0170,-999.000
  316N138_4,       P06C,      80,          1,          3,        130,2,19920603,       0655,   -32.5020,  -116.6568,       2188,  2049.3,   2.0820,  34.6396,2,  34.6366,2,    155.9,2,   156.0,2,  109.79,2,   35.17,2,    0.00,2,    2.46,2,  -0.001,2,   0.003,2,  -999.0,9,  -999.0,9,-999.000,9,-999.0000,9, -999.00,9, -999.00,9,  -999.0,9,  -999.0,-999.000,9,-999.000,     -999.0,-999.0000,-999.000,     1.9401,-999.000
  316N138_4,       P06C,      80,          1,          2,        135,2,19920603,       0655,   -32.5020,  -116.6568,       2188,  2151.6,   1.9853,  34.6489,2,  34.6476,2,    156.8,2,   157.3,2,  113.82,2,   35.17,2,    0.00,2,    2.47,2,-999.000,9,-999.000,9,  -999.0,9,  -999.0,9,-999.000,9,-999.0000,9, -999.00,9, -999.00,9,  -999.0,9,  -999.0,-999.000,9,-999.000,     -999.0,-999.0000,-999.000,     1.8362,-999.000
  316N138_4,       P06C,      80,          1,          1,        134,2,19920603,       0655,   -32.5020,  -116.6568,       2188,  2208.4,   1.9755,  34.6492,2,  34.6482,2,    157.5,2,   156.7,2,  114.30,2,   35.18,2,    0.00,2,    2.47,2,   0.001,6,   0.003,6,  -999.0,9,  -999.0,9,-999.000,9,-999.0000,9, -999.00,9, -999.00,9,  -999.0,9,  -999.0,-999.000,9,-999.000,     -999.0,-999.0000,-999.000,     1.8217,-999.000