BOTTLE,20211025CCHSIORKP
EXPOCODE,SECT_ID,STNNBR,CASTNO,SAMPNO,BTLNBR,BTLNBR_FLAG_W,DATE,TIME,LATITUDE,LONGITUDE,DEPTH,CTDPRS,CTDTMP,CTDSAL,CTDSAL_FLAG_W,SALNTY,SALNTY_FLAG_W,CTDOXY,CTDOXY_FLAG_W,OXYGEN,OXYGEN_FLAG_W,SILCAT,SILCAT_FLAG_W,NITRAT,NITRAT_FLAG_W,NITRIT,NITRIT_FLAG_W,PHSPHT,PHSPHT_FLAG_W,CFC-11,CFC-11_FLAG_W,CFC-12,CFC-12_FLAG_W,TCARBN,TCARBN_FLAG_W,PCO2,PCO2_FLAG_W,TRITUM,TRITUM_FLAG_W,HELIUM,HELIUM_FLAG_W,DELHE3,DELHE3_FLAG_W,DELC13,DELC13_FLAG_W,DELC14,DELC14_FLAG_W,C14ERR,NEON,NEON_FLAG_W,NEONER,PCO2TMP,HELIER,DELHER,THETA,TRITER
,,,,,,,,,,,METERS,DBAR,ITS-90,PSS-78,,PSS-78,,UMOL/KG,,UMOL/KG,,UMOL/KG,,UMOL/KG,,UMOL/KG,,UMOL/KG,,PMOL/KG,,PMOL/KG,,UMOL/KG,,UATM,,TU,,NMOL/KG,,PERCNT,,/MILLE,,/MILLE,,/MILLE,NMOL/KG,,NMOL/KG,DEG_C,NMOL/KG,PERCNT,ITS-90,TU
  316N138_4,       P06C,     151,          1,         25,    02-9455,2,19920625,       0018,   -32.5030,  -167.1567,       5398,    20.8,  16.3969,  35.4192,2,  35.4222,2,    233.8,2,   238.8,2,    0.61,4,    0.11,4,    0.00,4,    0.17,4,   2.829,2,-999.000,9,  2044.0,2,  -999.0,9,-999.000,9,-999.0000,9, -999.00,9, -999.00,9,  -999.0,9,  -999.0,-999.000,9,-999.000,     -999.0,-999.0000,-999.000,    16.3936,-999.000
  316N138_4,       P06C,     151,          1,         36,    02-9121,2,19920625,       0018,   -32.5030,  -167.1567,       5398,   109.1,  16.4114,  35.4232,2,  35.4216,2,    238.8,2,   238.9,2,    0.58,2,    0.12,2,    0.00,2,    0.15,2,   2.820,2,   1.361,2,  2043.3,6,  -999.0,9,-999.000,9,-999.0000,9, -999.00,9, -999.00,9,  -999.0,9,  -999.0,-999.000,9,-999.000,     -999.0,-999.0000,-999.000,    16.3938,-999.000
  316N138_4,       P06C,     151,          1,         35,    02-9454,2,19920625,       0018,   -32.5030,  -167.1567,       5398,   160.4,  15.4500,  35.3407,2,  35.3553,2,    221.4,2,   227.6,2,    0.93,2,    1.44,2,    0.06,2,    0.28,2,   2.799,2,   1.336,2,  2060.5,2,  -999.0,9,-999.000,9,-999.0000,9, -999.00,9, -999.00,9,  -999.0,9,  -999.0,-999.000,9,-999.000,     -999.0,-999.0000,-999.000,    15.4252,-999.000
  316N138_4,       P06C,     151,          1,         34,    02-9457,2,19920625,       0018,   -32.5030,  -167.1567,       5398,   206.5,  14.0008,  35.2365,2,  35.2302,2,    209.3,2,   211.2,2,    1.83,2,    6.28,2,    0.01,2,    0.56,2,   2.706,2,   1.288,2,  2087.4,2,  -999.0,9,-999.000,9,-999.0000,9, -999.00,9, -999.00,9,  -999.0,9,  -999.0,-999.000,9,-999.000,     -999.0,-999.0000,-999.000,    13.9709,-999.000
  316N138_4,       P06C,     151,          1,         33,    02-5367,2,19920625,       0018,   -32.5030,  -167.1567,       5398,   255.0,  12.5650,  35.0433,2,  35.0636,2,    208.6,2,   207.2,2,    2.72,2,   10.07,2,    0.01,2,    0.79,2,   2.553,2,   1.208,2,  2104.1,2,  -999.0,9,-999.000,9,-999.0000,9, -999.00,9, -999.00,9,  -999.0,9,  -999.0,-999.000,9,-999.000,     -999.0,-999.0000,-999.000,    12.5306,-999.000
  316N138_4,       P06C,     151,          1,         32,    02-9540,2,19920625,       0018,   -32.5030,  -167.1567,       5398,   302.9,  11.1048,  34.8521,2,  34.8515,2,    209.4,2,   203.6,2,    3.61,2,   13.73,2,    0.00,2,    1.01,2,   2.147,2,   1.026,2,  2116.7,2,  -999.0,9,-999.000,9,-999.0000,9, -999.00,9, -999.00,9,  -999.0,9,  -999.0,-999.000,9,-999.000,     -999.0,-999.0000,-999.000,    11.0671,-999.000
  316N138_4,       P06C,     151,          1,         31,    02-9539,2,19920625,       0018,   -32.5030,  -167.1567,       5398,   355.6,  10.0619,  34.7273,2,  34.7164,2,    210.0,2,   210.4,2,    3.97,2,   15.73,2,    0.01,2,    1.12,2,   2.007,2,   0.957,2,  2120.4,2,  -999.0,9,-999.000,9,-999.0000,9, -999.00,9, -999.00,9,  -999.0,9,  -999.0,-999.000,9,-999.000,     -999.0,-999.0000,-999.000,    10.0203,-999.000
  316N138_4,       P06C,     151,          1,         30,    02-9456,2,19920625,       0018,   -32.5030,  -167.1567,       5398,   405.8,   9.0306,  34.6040,2,  34.6038,2,    216.4,2,   217.4,2,    4.51,2,   17.55,2,    0.00,2,    1.24,2,   1.924,2,   0.920,2,  2123.9,2,  -999.0,9,-999.000,9,-999.0000,9, -999.00,9, -999.00,9,  -999.0,9,  -999.0,-999.000,9,-999.000,     -999.0,-999.0000,-999.000,     8.9861,-999.000
  316N138_4,       P06C,     151,          1,         29,    02-9458,2,19920625,       0018,   -32.5030,  -167.1567,       5398,   454.6,   8.4031,  34.5390,2,  34.5372,2,    224.1,2,   224.4,2,    4.87,2,   18.64,2,    0.00,2,    1.29,2,   1.889,6,   0.883,6,  2126.5,2,  -999.0,9,-999.000,9,-999.0000,9, -999.00,9, -999.00,9,  -999.0,9,  -999.0,-999.000,9,-999.000,     -999.0,-999.0000,-999.000,     8.3553,-999.000
  316N138_4,       P06C,     151,          1,         28,    02-9545,2,19920625,       0018,   -32.5030,  -167.1567,       5398,   507.7,   7.8640,  34.4883,2,  34.4895,2,    232.5,2,   230.2,2,    5.41,2,   19.81,2,    0.00,2,    1.37,2,   1.758,2,   0.837,2,  2129.4,2,  -999.0,9,-999.000,9,-999.0000,9, -999.00,9, -999.00,9,  -999.0,9,  -999.0,-999.000,9,-999.000,     -999.0,-999.0000,-999.000,     7.8125,-999.000
  316N138_4,       P06C,     151,          1,         27,    02-9453,2,19920625,       0018,   -32.5030,  -167.1567,       5398,   554.6,   7.5085,  34.4558,2,  34.4559,2,    235.6,2,   236.3,2,    5.95,2,   20.52,2,    0.00,2,    1.41,2,   1.590,2,   0.762,2,  2129.5,6,  -999.0,9,-999.000,9,-999.0000,9, -999.00,9, -999.00,9,  -999.0,9,  -999.0,-999.000,9,-999.000,     -999.0,-999.0000,-999.000,     7.4536,-999.000
  316N138_4,       P06C,     151,          1,         26,    02-9544,4,19920625,       0018,   -32.5030,  -167.1567,       5398,   598.5,   7.2479,  34.4371,2,  34.6983,4,    234.1,2,   231.4,3,    5.06,3,   15.93,4,    0.00,2,    1.15,4,   1.495,2,   0.739,2,  2113.6,3,  -999.0,9,-999.000,9,-999.0000,9, -999.00,9, -999.00,9,  -999.0,9,  -999.0,-999.000,9,-999.000,     -999.0,-999.0000,-999.000,     7.1896,-999.000
  316N138_4,       P06C,     151,          1,         24,        132,2,19920625,       0018,   -32.5030,  -167.1567,       5398,   703.8,   6.7537,  34.4016,2,  34.3953,2,    235.1,2,   234.0,2,    8.46,2,   22.87,2,    0.03,3,    1.54,2,   0.748,2,   0.390,2,  2137.0,2,  -999.0,9,-999.000,9,-999.0000,9, -999.00,9, -999.00,9,  -999.0,9,  -999.0,-999.000,9,-999.000,     -999.0,-999.0000,-999.000,     6.6873,-999.000
  316N138_4,       P06C,     151,          1,         23,        123,2,19920625,       0018,   -32.5030,  -167.1567,       5398,   807.3,   6.1511,  34.3498,2,  34.3490,2,    234.1,2,   230.1,2,   11.49,2,   25.00,2,    0.00,2,    1.70,2,   0.457,2,-999.000,9,  2145.2,2,  -999.0,9,-999.000,9,-999.0000,9, -999.00,9, -999.00,9,  -999.0,9,  -999.0,-999.000,9,-999.000,     -999.0,-999.0000,-999.000,     6.0781,-999.000
  316N138_4,       P06C,     151,          1,         22,        128,2,19920625,       0018,   -32.5030,  -167.1567,       5398,   908.2,   5.6120,  34.3180,2,  34.3313,2,    223.7,2,   219.1,2,   16.66,2,   27.18,2,    0.00,2,    1.85,2,   0.274,2,   0.143,2,  2158.3,2,  -999.0,9,-999.000,9,-999.0000,9, -999.00,9, -999.00,9,  -999.0,9,  -999.0,-999.000,9,-999.000,     -999.0,-999.0000,-999.000,     5.5330,-999.000
  316N138_4,       P06C,     151,          1,         21,        121,2,19920625,       0018,   -32.5030,  -167.1567,       5398,  1012.8,   5.0265,  34.3353,2,  34.3360,2,    211.4,3,   204.4,2,   24.68,2,   29.56,2,    0.01,2,    2.01,2,   0.100,2,   0.059,2,  2176.9,2,  -999.0,9,-999.000,9,-999.0000,9, -999.00,9, -999.00,9,  -999.0,9,  -999.0,-999.000,9,-999.000,     -999.0,-999.0000,-999.000,     4.9421,-999.000
  316N138_4,       P06C,     151,          1,         20,        120,2,19920625,       0018,   -32.5030,  -167.1567,       5398,  1106.4,   4.4499,  34.3489,2,  34.3503,2,    200.8,3,   196.3,2,   33.42,2,   31.36,2,    0.01,2,    2.12,2,   0.045,2,   0.029,2,  2193.7,2,  -999.0,9,-999.000,9,-999.0000,9, -999.00,9, -999.00,9,  -999.0,9,  -999.0,-999.000,9,-999.000,     -999.0,-999.0000,-999.000,     4.3619,-999.000
  316N138_4,       P06C,     151,          1,         19,        133,2,19920625,       0018,   -32.5030,  -167.1567,       5398,  1205.5,   3.8612,  34.3808,2,  34.3798,2,    191.1,2,   187.8,2,   43.94,2,   32.83,2,    0.00,2,    2.23,2,   0.019,2,-999.000,9,  2210.6,2,  -999.0,9,-999.000,9,-999.0000,9, -999.00,9, -999.00,9,  -999.0,9,  -999.0,-999.000,9,-999.000,     -999.0,-999.0000,-999.000,     3.7697,-999.000
  316N138_4,       P06C,     151,          1,         18,        118,2,19920625,       0018,   -32.5030,  -167.1567,       5398,  1303.4,   3.3989,  34.4195,2,  34.4192,2,    184.1,3,   179.1,2,   53.92,2,   33.87,2,    0.00,2,    2.31,2,   0.008,2,-999.000,9,  2225.8,6,  -999.0,9,-999.000,9,-999.0000,9, -999.00,9, -999.00,9,  -999.0,9,  -999.0,-999.000,9,-999.000,     -999.0,-999.0000,-999.000,     3.3035,-999.000
  316N138_4,       P06C,     151,          1,         17,        117,2,19920625,       0018,   -32.5030,  -167.1567,       5398,  1405.0,   3.1127,  34.4672,2,  34.4675,2,    174.5,2,   172.1,2,   63.91,2,   34.41,2,    0.00,2,    2.37,2,   0.002,2,   0.000,2,  2240.6,2,  -999.0,9,-999.000,9,-999.0000,9, -999.00,9, -999.00,9,  -999.0,9,  -999.0,-999.000,9,-999.000,     -999.0,-999.0000,-999.000,     3.0117,-999.000
  316N138_4,       P06C,     151,          1,         16,        116,2,19920625,       0018,   -32.5030,  -167.1567,       5398,  1611.3,   2.6926,  34.5616,2,  34.5604,2,    162.3,2,   159.2,2,   86.36,2,   35.07,2,    0.00,2,    2.44,2,-999.000,5,-999.000,5,  2268.2,2,  -999.0,9,-999.000,9,-999.0000,9, -999.00,9, -999.00,9,  -999.0,9,  -999.0,-999.000,9,-999.000,     -999.0,-999.0000,-999.000,     2.5792,-999.000
  316N138_4,       P06C,     151,          1,         15,        115,2,19920625,       0018,   -32.5030,  -167.1567,       5398,  1814.8,   2.4252,  34.6074,2,  34.6056,2,    155.2,2,   153.8,2,  101.50,2,   35.53,2,    0.00,2,    2.50,2,   0.003,2,-999.000,9,  2286.7,2,  -999.0,9,-999.000,9,-999.0000,9, -999.00,9, -999.00,9,  -999.0,9,  -999.0,-999.000,9,-999.000,     -999.0,-999.0000,-999.000,     2.2981,-999.000
  316N138_4,       P06C,     151,          1,         14,        114,2,19920625,       0018,   -32.5030,  -167.1567,       5398,  2015.7,   2.2591,  34.6268,2,  34.6272,2,    151.0,2,   150.4,2,  111.31,2,   35.85,2,    0.01,2,    2.53,2,-999.000,5,-999.000,5,  2297.7,2,  -999.0,9,-999.000,9,-999.0000,9, -999.00,9, -999.00,9,  -999.0,9,  -999.0,-999.000,9,-999.000,     -999.0,-999.0000,-999.000,     2.1174,-999.000
  316N138_4,       P06C,     151,          1,         13,        125,2,19920625,       0018,   -32.5030,  -167.1567,       5398,  2217.4,   2.1160,  34.6413,2,  34.6429,2,    148.9,2,   146.8,2,  118.97,2,   36.02,2,    0.00,2,    2.57,2,-999.000,5,-999.000,5,  2306.1,2,  -999.0,9,-999.000,9,-999.0000,9, -999.00,9, -999.00,9,  -999.0,9,  -999.0,-999.000,9,-999.000,     -999.0,-999.0000,-999.000,     1.9590,-999.000
  316N138_4,       P06C,     151,          1,         12,        112,2,19920625,       0018,   -32.5030,  -167.1567,       5398,  2417.3,   2.0254,  34.6494,2,  34.6488,2,    147.9,2,   146.2,2,  123.42,2,   36.06,2,    0.00,2,    2.56,2,  -0.002,2,  -0.001,2,  2309.8,2,  -999.0,9,-999.000,9,-999.0000,9, -999.00,9, -999.00,9,  -999.0,9,  -999.0,-999.000,9,-999.000,     -999.0,-999.0000,-999.000,     1.8522,-999.000
  316N138_4,       P06C,     151,          1,         11,        129,2,19920625,       0018,   -32.5030,  -167.1567,       5398,  2615.4,   1.9549,  34.6554,2,  34.6567,2,    147.7,2,   146.6,2,  126.27,2,   35.97,2,   -0.01,2,    2.58,2,-999.000,5,-999.000,5,  2312.1,2,  -999.0,9,-999.000,9,-999.0000,9, -999.00,9, -999.00,9,  -999.0,9,  -999.0,-999.000,9,-999.000,     -999.0,-999.0000,-999.000,     1.7649,-999.000
  316N138_4,       P06C,     151,          1,         10,        110,2,19920625,       0018,   -32.5030,  -167.1567,       5398,  2815.8,   1.8718,  34.6635,2,  34.6669,2,    149.1,2,   149.3,2,  128.59,2,   35.84,2,   -0.01,2,    2.55,2,   0.003,2,   0.006,2,  2313.7,2,  -999.0,9,-999.000,9,-999.0000,9, -999.00,9, -999.00,9,  -999.0,9,  -999.0,-999.000,9,-999.000,     -999.0,-999.0000,-999.000,     1.6645,-999.000
  316N138_4,       P06C,     151,          1,          9,        126,2,19920625,       0018,   -32.5030,  -167.1567,       5398,  3014.5,   1.7977,  34.6721,2,  34.7176,4,    151.7,2,   159.7,3, -999.00,9, -999.00,9, -999.00,9, -999.00,9,-999.000,5,-999.000,5,  -999.0,9,  -999.0,9,-999.000,9,-999.0000,9, -999.00,9, -999.00,9,  -999.0,9,  -999.0,-999.000,9,-999.000,     -999.0,-999.0000,-999.000,     1.5729,-999.000
  316N138_4,       P06C,     151,          1,          8,        108,2,19920625,       0018,   -32.5030,  -167.1567,       5398,  3215.4,   1.7318,  34.6831,2,  34.6830,2,    160.3,2,  -999.0,9,  125.56,2,   34.78,2,    0.00,2,    2.46,2,-999.000,5,-999.000,5,  2303.3,2,  -999.0,9,-999.000,9,-999.0000,9, -999.00,9, -999.00,9,  -999.0,9,  -999.0,-999.000,9,-999.000,     -999.0,-999.0000,-999.000,     1.4887,-999.000
  316N138_4,       P06C,     151,          1,          7,        107,2,19920625,       0018,   -32.5030,  -167.1567,       5398,  3425.0,   1.6539,  34.6971,2,  34.6969,2,    171.6,2,   171.5,2,  119.86,2,   33.80,2,    0.00,2,    2.39,2,-999.000,5,-999.000,5,  2290.0,2,  -999.0,9,-999.000,9,-999.0000,9, -999.00,9, -999.00,9,  -999.0,9,  -999.0,-999.000,9,-999.000,     -999.0,-999.0000,-999.000,     1.3916,-999.000
  316N138_4,       P06C,     151,          1,          6,        180,2,19920625,       0018,   -32.5030,  -167.1567,       5398,  3628.6,   1.5576,  34.7107,2,  34.7095,2,    183.5,2,   183.4,2,  114.16,2,   32.78,2,    0.00,2,    2.31,2,   0.000,2,  -0.002,2,  2275.6,2,  -999.0,9,-999.000,9,-999.0000,9, -999.00,9, -999.00,9,  -999.0,9,  -999.0,-999.000,9,-999.000,     -999.0,-999.0000,-999.000,     1.2766,-999.000
  316N138_4,       P06C,     151,          1,          5,        131,2,19920625,       0018,   -32.5030,  -167.1567,       5398,  3831.5,   1.4177,  34.7200,2,  34.7176,2,    193.7,2,   197.3,4,  111.48,2,   32.05,2,    0.01,2,    2.26,2,-999.000,5,-999.000,5,  2266.0,2,  -999.0,9,-999.000,9,-999.0000,9, -999.00,9, -999.00,9,  -999.0,9,  -999.0,-999.000,9,-999.000,     -999.0,-999.0000,-999.000,     1.1189,-999.000
  316N138_4,       P06C,     151,          1,          4,        104,2,19920625,       0018,   -32.5030,  -167.1567,       5398,  4036.8,   1.2432,  34.7178,2,  34.7207,2,    202.1,2,   202.7,2,  113.62,2,   31.88,2,    0.00,2,    2.26,2,  -0.002,2,  -0.002,2,  2261.2,2,  -999.0,9,-999.000,9,-999.0000,9, -999.00,9, -999.00,9,  -999.0,9,  -999.0,-999.000,9,-999.000,     -999.0,-999.0000,-999.000,     0.9274,-999.000
  316N138_4,       P06C,     151,          1,          3,        130,2,19920625,       0018,   -32.5030,  -167.1567,       5398,  4241.5,   1.1233,  34.7146,2,  34.7142,2,    204.7,2,   207.5,4,  116.48,2,   31.96,2,    0.00,2,    2.25,2,   0.001,2,   0.001,2,  2261.8,2,  -999.0,9,-999.000,9,-999.0000,9, -999.00,9, -999.00,9,  -999.0,9,  -999.0,-999.000,9,-999.000,     -999.0,-999.0000,-999.000,     0.7887,-999.000
  316N138_4,       P06C,     151,          1,          2,        135,2,19920625,       0018,   -32.5030,  -167.1567,       5398,  4448.0,   1.0604,  34.7119,2,  34.7123,2,    206.0,2,   205.6,2,  118.44,2,   32.12,2,    0.01,2,    2.27,2,   0.004,2,   0.000,2,  2259.6,2,  -999.0,9,-999.000,9,-999.0000,9, -999.00,9, -999.00,9,  -999.0,9,  -999.0,-999.000,9,-999.000,     -999.0,-999.0000,-999.000,     0.7048,-999.000
  316N138_4,       P06C,     151,          1,          1,        134,2,19920625,       0018,   -32.5030,  -167.1567,       5398,  4672.7,   1.0264,  34.7100,2,  34.7103,2,    207.2,2,   207.8,2,  119.76,2,   32.28,2,    0.00,2,    2.27,2,   0.006,6,   0.006,6,  2261.0,6,  -999.0,9,-999.000,9,-999.0000,9, -999.00,9, -999.00,9,  -999.0,9,  -999.0,-999.000,9,-999.000,     -999.0,-999.0000,-999.000,     0.6463,-999.000