BOTTLE,20211025CCHSIORKP
EXPOCODE,SECT_ID,STNNBR,CASTNO,SAMPNO,BTLNBR,BTLNBR_FLAG_W,DATE,TIME,LATITUDE,LONGITUDE,DEPTH,CTDPRS,CTDTMP,CTDSAL,CTDSAL_FLAG_W,SALNTY,SALNTY_FLAG_W,CTDOXY,CTDOXY_FLAG_W,OXYGEN,OXYGEN_FLAG_W,SILCAT,SILCAT_FLAG_W,NITRAT,NITRAT_FLAG_W,NITRIT,NITRIT_FLAG_W,PHSPHT,PHSPHT_FLAG_W,CFC-11,CFC-11_FLAG_W,CFC-12,CFC-12_FLAG_W,TCARBN,TCARBN_FLAG_W,PCO2,PCO2_FLAG_W,TRITUM,TRITUM_FLAG_W,HELIUM,HELIUM_FLAG_W,DELHE3,DELHE3_FLAG_W,DELC13,DELC13_FLAG_W,DELC14,DELC14_FLAG_W,C14ERR,NEON,NEON_FLAG_W,NEONER,PCO2TMP,HELIER,DELHER,THETA,TRITER
,,,,,,,,,,,METERS,DBAR,ITS-90,PSS-78,,PSS-78,,UMOL/KG,,UMOL/KG,,UMOL/KG,,UMOL/KG,,UMOL/KG,,UMOL/KG,,PMOL/KG,,PMOL/KG,,UMOL/KG,,UATM,,TU,,NMOL/KG,,PERCNT,,/MILLE,,/MILLE,,/MILLE,NMOL/KG,,NMOL/KG,DEG_C,NMOL/KG,PERCNT,ITS-90,TU
  316N138_4,       P06C,      97,          1,         32,    02-9540,2,19920607,       2354,   -32.5067,  -127.9908,       4018,    18.5,  19.4435,  35.1513,2,-999.0000,9,    322.6,4,   226.3,2,    0.22,2,    0.03,2,    0.00,2,    0.13,2,-999.000,9,-999.000,9,  -999.0,9,  -999.0,9,-999.000,9,-999.0000,9, -999.00,9, -999.00,9,   127.1,6,     2.5,-999.000,9,-999.000,     -999.0,-999.0000,-999.000,    19.4402,-999.000
  316N138_4,       P06C,      97,          1,         31,    02-9539,2,19920607,       2354,   -32.5067,  -127.9908,       4018,    18.5,  19.4453,  35.1497,2,  35.1500,2,    322.6,4,   226.9,2,    0.22,2,    0.03,2,    0.00,2,    0.13,2,-999.000,9,-999.000,9,  -999.0,9,  -999.0,9,-999.000,9,-999.0000,9, -999.00,9, -999.00,9,   131.1,6,     2.6,-999.000,9,-999.000,     -999.0,-999.0000,-999.000,    19.4419,-999.000
  316N138_4,       P06C,      97,          1,         36,    02-9121,2,19920607,       2354,   -32.5067,  -127.9908,       4018,    18.7,  19.4435,  35.1493,2,  35.1496,2,    322.6,4,   230.8,2,    0.21,2,    0.03,2,    0.00,2,    0.11,2,-999.000,9,-999.000,9,  -999.0,9,  -999.0,9,   0.700,2,   1.7470,2,   -2.37,2, -999.00,9,   124.2,2,     3.7,   7.205,2,   0.016,     -999.0,   0.0040,   0.150,    19.4401,   0.004
  316N138_4,       P06C,      97,          1,         33,    02-5367,2,19920607,       2354,   -32.5067,  -127.9908,       4018,    19.0,  19.4458,  35.1486,2,  35.1506,2,    322.6,4,   231.8,2,    0.22,2,    0.03,2,    0.00,2,    0.13,2,-999.000,9,-999.000,9,  -999.0,9,  -999.0,9,-999.000,9,-999.0000,9, -999.00,9, -999.00,9,   127.4,6,     4.2,-999.000,9,-999.000,     -999.0,-999.0000,-999.000,    19.4424,-999.000
  316N138_4,       P06C,      97,          1,         34,    02-9457,2,19920607,       2354,   -32.5067,  -127.9908,       4018,    19.7,  19.4459,  35.1496,2,  35.1488,2,    322.7,4,   227.8,2,    0.21,2,    0.03,2,    0.00,2,    0.12,2,-999.000,9,-999.000,9,  -999.0,9,  -999.0,9,-999.000,9,-999.0000,9, -999.00,9, -999.00,9,   126.5,2,     7.5,-999.000,9,-999.000,     -999.0,-999.0000,-999.000,    19.4423,-999.000
  316N138_4,       P06C,      97,          1,         35,    02-9454,2,19920607,       2354,   -32.5067,  -127.9908,       4018,    19.8,  19.4459,  35.1492,2,  35.1504,2,    322.7,4,   225.6,2,    0.21,2,    0.03,2,    0.00,2,    0.12,2,-999.000,9,-999.000,9,  -999.0,9,  -999.0,9,-999.000,9,-999.0000,9, -999.00,9, -999.00,9,   135.3,2,     4.3,-999.000,9,-999.000,     -999.0,-999.0000,-999.000,    19.4423,-999.000
  316N138_4,       P06C,      97,          1,         30,    02-9456,2,19920607,       2354,   -32.5067,  -127.9908,       4018,    87.5,  17.4164,  35.0946,2,  35.0911,2,    245.2,2,   242.5,2,    0.23,2,    0.08,2,    0.00,2,    0.17,2,-999.000,9,-999.000,9,  -999.0,9,  -999.0,9,-999.000,9,-999.0000,9, -999.00,9, -999.00,9,  -999.0,9,  -999.0,-999.000,9,-999.000,     -999.0,-999.0000,-999.000,    17.4017,-999.000
  316N138_4,       P06C,      97,          1,         29,    02-9458,2,19920607,       2354,   -32.5067,  -127.9908,       4018,   156.9,  15.7390,  35.0625,2,  35.0571,2,    227.1,2,   226.3,2,    0.41,2,    0.76,2,    0.16,2,    0.28,2,-999.000,9,-999.000,9,  -999.0,9,  -999.0,9,   0.626,2,   1.7930,2,   -1.21,2, -999.00,9,  -999.0,9,  -999.0,   7.392,2,   0.017,     -999.0,   0.0040,   0.150,    15.7145,   0.004
  316N138_4,       P06C,      97,          1,         28,    02-9545,2,19920607,       2354,   -32.5067,  -127.9908,       4018,   254.4,  12.8170,  34.8616,2,  34.8497,2,    209.4,2,   201.1,2,    1.82,2,    9.48,2,    0.00,2,    0.79,2,-999.000,9,-999.000,9,  -999.0,9,  -999.0,9,   0.505,2,   1.8120,2,   -0.01,2, -999.00,9,  -999.0,9,  -999.0,   7.511,2,   0.017,     -999.0,   0.0040,   0.150,    12.7823,   0.006
  316N138_4,       P06C,      97,          1,         27,    02-9453,2,19920607,       2354,   -32.5067,  -127.9908,       4018,   406.9,   8.2176,  34.4528,2,  34.4442,2,    221.5,2,   215.6,2,    4.99,2,   19.51,2,    0.00,2,    1.38,2,-999.000,9,-999.000,9,  -999.0,9,  -999.0,9,   0.252,2,   1.8250,2,   -0.05,2, -999.00,9,  -999.0,9,  -999.0,   7.732,2,   0.018,     -999.0,   0.0040,   0.150,     8.1756,   0.003
  316N138_4,       P06C,      97,          1,         26,    02-9544,2,19920607,       2354,   -32.5067,  -127.9908,       4018,   555.2,   6.6745,  34.3588,2,  34.3584,2,    240.7,2,   241.0,2,    7.28,2,   22.41,2,    0.00,2,    1.54,2,-999.000,9,-999.000,9,  -999.0,9,  -999.0,9,   0.205,2,   1.8420,2,    0.14,2, -999.00,9,  -999.0,9,  -999.0,   7.901,2,   0.018,     -999.0,   0.0040,   0.150,     6.6230,   0.003
  316N138_4,       P06C,      97,          1,         25,    02-9455,2,19920607,       2354,   -32.5067,  -127.9908,       4018,   707.7,   5.9343,  34.3126,2,  34.3127,2,    241.8,2,   240.2,2,   10.28,2,   24.45,2,    0.00,2,    1.67,2,-999.000,9,-999.000,9,  -999.0,9,  -999.0,9,   0.133,2,   1.8460,2,    0.12,2, -999.00,9,  -999.0,9,  -999.0,   7.976,2,   0.018,     -999.0,   0.0040,   0.150,     5.8720,   0.002
  316N138_4,       P06C,      97,          1,         24,        132,2,19920607,       2354,   -32.5067,  -127.9908,       4018,   859.6,   5.1065,  34.2920,2,  34.2909,2,    228.8,2,   221.5,2,   18.20,2,   27.94,2,    0.00,2,    1.90,2,-999.000,9,-999.000,9,  -999.0,9,  -999.0,9,   0.057,2,   1.8600,2,    0.80,2, -999.00,9,  -999.0,9,  -999.0,   8.026,2,   0.018,     -999.0,   0.0040,   0.150,     5.0353,   0.002
  316N138_4,       P06C,      97,          1,         23,        123,2,19920607,       2354,   -32.5067,  -127.9908,       4018,  1008.6,   4.3775,  34.3204,2,  34.3258,2,    206.9,3,   202.3,2,   30.87,2,   31.19,2,    0.00,2,    2.12,2,-999.000,9,-999.000,9,  -999.0,9,  -999.0,9,   0.022,2,   1.8680,2,    2.67,2, -999.00,9,  -999.0,9,  -999.0,   8.022,2,   0.018,     -999.0,   0.0040,   0.150,     4.2986,   0.002
  316N138_4,       P06C,      97,          1,         22,        128,2,19920607,       2354,   -32.5067,  -127.9908,       4018,  1162.9,   3.6543,  34.3826,2,  34.3825,2,    182.3,2,   179.7,4,   47.23,2,   33.54,2,    0.00,2,    2.30,2,-999.000,9,-999.000,9,  -999.0,9,  -999.0,9,   0.007,2,   1.8970,2,    5.83,2, -999.00,9,  -999.0,9,  -999.0,   8.150,2,   0.019,     -999.0,   0.0040,   0.150,     3.5682,   0.001
  316N138_4,       P06C,      97,          1,         21,        121,3,19920607,       2354,   -32.5067,  -127.9908,       4018,  1311.3,   3.1598,  34.4525,2,  34.4616,2,    170.9,3,   175.3,2,   60.25,2,   34.03,2,    0.00,2,    2.34,2,-999.000,9,-999.000,9,  -999.0,9,  -999.0,9,-999.000,9,-999.0000,9, -999.00,9, -999.00,9,  -999.0,9,  -999.0,-999.000,9,-999.000,     -999.0,-999.0000,-999.000,     3.0662,-999.000
  316N138_4,       P06C,      97,          1,         20,        120,2,19920607,       2354,   -32.5067,  -127.9908,       4018,  1464.2,   2.7509,  34.5222,2,  34.5225,2,    165.0,2,   164.6,2,   76.79,2,   34.86,2,    0.00,2,    2.42,2,-999.000,9,-999.000,9,  -999.0,9,  -999.0,9,   0.004,2,   1.9250,2,   12.11,2, -999.00,9,  -999.0,9,  -999.0,   8.218,2,   0.019,     -999.0,   0.0040,   0.150,     2.6490,   0.002
  316N138_4,       P06C,      97,          1,         19,        133,2,19920607,       2354,   -32.5067,  -127.9908,       4018,  1614.6,   2.4970,  34.5714,2,  34.5708,2,    160.4,2,   159.0,2,   88.93,2,   35.05,2,    0.00,2,    2.44,2,-999.000,9,-999.000,9,  -999.0,9,  -999.0,9,   0.003,2,-999.0000,9, -999.00,9, -999.00,9,  -999.0,9,  -999.0,-999.000,9,-999.000,     -999.0,-999.0000,-999.000,     2.3857,   0.001
  316N138_4,       P06C,      97,          1,         18,        118,2,19920607,       2354,   -32.5067,  -127.9908,       4018,  1712.5,   2.3845,  34.5916,2,  34.5908,2,    158.2,2,   157.5,2,   95.08,2,   35.10,2,    0.00,2,    2.46,2,-999.000,9,-999.000,9,  -999.0,9,  -999.0,9,  -0.002,2,   1.7700,2,   16.28,2, -999.00,9,  -999.0,9,  -999.0,   7.525,2,   0.017,     -999.0,   0.0040,   0.150,     2.2666,   0.001
  316N138_4,       P06C,      97,          1,         17,        117,2,19920607,       2354,   -32.5067,  -127.9908,       4018,  1858.1,   2.2270,  34.6158,2,  34.6160,2,    156.6,2,   154.3,2,  103.00,2,   35.26,2,    0.00,2,    2.48,2,-999.000,9,-999.000,9,  -999.0,9,  -999.0,9,   0.004,2,   1.9490,2,   18.35,2, -999.00,9,  -999.0,9,  -999.0,   8.291,2,   0.019,     -999.0,   0.0040,   0.150,     2.0991,   0.001
  316N138_4,       P06C,      97,          1,         16,        116,2,19920607,       2354,   -32.5067,  -127.9908,       4018,  2057.8,   2.0438,  34.6380,2,  34.6376,2,    155.3,2,   155.7,2,  111.44,2,   35.36,2,    0.00,2,    2.49,2,-999.000,9,-999.000,9,  -999.0,9,  -999.0,9,  -0.002,2,   1.9690,2,   20.34,2, -999.00,9,  -999.0,9,  -999.0,   8.297,2,   0.019,     -999.0,   0.0040,   0.150,     1.9018,   0.002
  316N138_4,       P06C,      97,          1,         15,        115,2,19920607,       2354,   -32.5067,  -127.9908,       4018,  2257.1,   1.9354,  34.6497,2,  34.6482,2,    156.4,2,   155.9,2,  115.67,2,   35.41,2,    0.00,2,    2.50,2,-999.000,9,-999.000,9,  -999.0,9,  -999.0,9,-999.000,9,-999.0000,9, -999.00,9, -999.00,9,  -999.0,9,  -999.0,-999.000,9,-999.000,     -999.0,-999.0000,-999.000,     1.7780,-999.000
  316N138_4,       P06C,      97,          1,          9,        126,2,19920607,       2354,   -32.5067,  -127.9908,       4018,  2454.5,   1.8362,  34.6587,2,  34.6598,2,    158.3,2,   158.3,2,  118.68,2,   35.50,2,    0.00,2,    2.50,2,-999.000,9,-999.000,9,  -999.0,9,  -999.0,9,-999.000,9,-999.0000,9, -999.00,9, -999.00,9,  -208.2,6,     2.2,-999.000,9,-999.000,     -999.0,-999.0000,-999.000,     1.6630,-999.000
  316N138_4,       P06C,      97,          1,         11,        129,2,19920607,       2354,   -32.5067,  -127.9908,       4018,  2456.1,   1.8363,  34.6586,2,  34.6576,2,    158.4,2,   159.0,2,  118.67,2,   35.44,2,    0.00,2,    2.50,2,-999.000,9,-999.000,9,  -999.0,9,  -999.0,9,-999.000,9,-999.0000,9, -999.00,9, -999.00,9,  -999.0,9,  -999.0,-999.000,9,-999.000,     -999.0,-999.0000,-999.000,     1.6629,-999.000
  316N138_4,       P06C,      97,          1,         10,        110,2,19920607,       2354,   -32.5067,  -127.9908,       4018,  2456.8,   1.8357,  34.6587,2,  34.6592,2,    158.4,2,   158.1,2,  118.68,2,   35.50,2,    0.00,2,    2.51,2,-999.000,9,-999.000,9,  -999.0,9,  -999.0,9,-999.000,9,-999.0000,9, -999.00,9, -999.00,9,  -207.0,2,     3.9,-999.000,9,-999.000,     -999.0,-999.0000,-999.000,     1.6623,-999.000
  316N138_4,       P06C,      97,          1,         14,        114,2,19920607,       2354,   -32.5067,  -127.9908,       4018,  2457.0,   1.8352,  34.6584,2,  34.6565,2,    158.4,2,   157.0,2,  118.83,2,   35.32,2,    0.00,2,    2.50,2,-999.000,9,-999.000,9,  -999.0,9,  -999.0,9,-999.000,9,-999.0000,9, -999.00,9, -999.00,9,  -212.6,6,     6.2,-999.000,9,-999.000,     -999.0,-999.0000,-999.000,     1.6618,-999.000
  316N138_4,       P06C,      97,          1,         13,        125,2,19920607,       2354,   -32.5067,  -127.9908,       4018,  2457.8,   1.8350,  34.6584,2,  34.6561,2,    158.4,2,   159.0,2,  118.67,2,   35.33,2,    0.00,2,    2.50,2,-999.000,9,-999.000,9,  -999.0,9,  -999.0,9,-999.000,9,-999.0000,9, -999.00,9, -999.00,9,  -223.9,6,     5.1,-999.000,9,-999.000,     -999.0,-999.0000,-999.000,     1.6615,-999.000
  316N138_4,       P06C,      97,          1,         12,        112,2,19920607,       2354,   -32.5067,  -127.9908,       4018,  2458.2,   1.8353,  34.6587,2,  34.6563,2,    158.5,2,   158.7,2,  118.84,2,   35.39,2,    0.00,2,    2.50,2,-999.000,9,-999.000,9,  -999.0,9,  -999.0,9,-999.000,9,-999.0000,9, -999.00,9, -999.00,9,  -999.0,9,  -999.0,-999.000,9,-999.000,     -999.0,-999.0000,-999.000,     1.6618,-999.000
  316N138_4,       P06C,      97,          1,          8,        108,2,19920607,       2354,   -32.5067,  -127.9908,       4018,  2603.6,   1.7740,  34.6649,2,  34.6635,2,    160.3,2,   160.3,2,  120.44,2,   35.41,2,    0.00,2,    2.51,2,-999.000,9,-999.000,9,  -999.0,9,  -999.0,9,-999.000,9,-999.0000,9, -999.00,9, -999.00,9,  -999.0,9,  -999.0,-999.000,9,-999.000,     -999.0,-999.0000,-999.000,     1.5885,-999.000
  316N138_4,       P06C,      97,          1,          7,        107,2,19920607,       2354,   -32.5067,  -127.9908,       4018,  2799.4,   1.7260,  34.6686,2,  34.6722,3,    162.7,2,   162.2,2,  121.32,2,   35.32,2,    0.00,2,    2.49,2,-999.000,9,-999.000,9,  -999.0,9,  -999.0,9,-999.000,9,-999.0000,9, -999.00,9, -999.00,9,  -999.0,9,  -999.0,-999.000,9,-999.000,     -999.0,-999.0000,-999.000,     1.5233,-999.000
  316N138_4,       P06C,      97,          1,          6,        180,2,19920607,       2354,   -32.5067,  -127.9908,       4018,  2997.5,   1.6745,  34.6740,2,  34.6716,2,    164.5,2,   165.4,2,  122.21,2,   35.09,2,    0.00,2,    2.48,2,-999.000,9,-999.000,9,  -999.0,9,  -999.0,9,-999.000,9,-999.0000,9, -999.00,9, -999.00,9,  -999.0,9,  -999.0,-999.000,9,-999.000,     -999.0,-999.0000,-999.000,     1.4542,-999.000
  316N138_4,       P06C,      97,          1,          5,        131,2,19920607,       2354,   -32.5067,  -127.9908,       4018,  3196.8,   1.6491,  34.6772,2,  34.6757,2,    166.8,2,   167.4,2,  122.56,2,   34.81,2,    0.00,2,    2.47,2,-999.000,9,-999.000,9,  -999.0,9,  -999.0,9,-999.000,9,-999.0000,9, -999.00,9, -999.00,9,  -999.0,9,  -999.0,-999.000,9,-999.000,     -999.0,-999.0000,-999.000,     1.4099,-999.000
  316N138_4,       P06C,      97,          1,          4,        104,2,19920607,       2354,   -32.5067,  -127.9908,       4018,  3397.1,   1.6147,  34.6796,2,  34.6798,2,    170.0,2,   169.7,2,  122.39,2,   34.47,2,    0.00,2,    2.44,2,-999.000,9,-999.000,9,  -999.0,9,  -999.0,9,-999.000,9,-999.0000,9, -999.00,9, -999.00,9,  -999.0,9,  -999.0,-999.000,9,-999.000,     -999.0,-999.0000,-999.000,     1.3563,-999.000
  316N138_4,       P06C,      97,          1,          3,        130,2,19920607,       2354,   -32.5067,  -127.9908,       4018,  3607.4,   1.5939,  34.6832,2,  34.6824,2,    173.0,2,   171.9,2,  122.40,2,   34.28,2,    0.00,2,    2.42,2,-999.000,9,-999.000,9,  -999.0,9,  -999.0,9,-999.000,9,-999.0000,9, -999.00,9, -999.00,9,  -999.0,9,  -999.0,-999.000,9,-999.000,     -999.0,-999.0000,-999.000,     1.3143,-999.000
  316N138_4,       P06C,      97,          1,          2,        135,2,19920607,       2354,   -32.5067,  -127.9908,       4018,  3810.9,   1.5837,  34.6850,2,  34.6859,2,    175.2,2,   173.0,2,  122.39,2,   34.19,2,    0.00,2,    2.42,2,-999.000,9,-999.000,9,  -999.0,9,  -999.0,9,-999.000,9,-999.0000,9, -999.00,9, -999.00,9,  -999.0,9,  -999.0,-999.000,9,-999.000,     -999.0,-999.0000,-999.000,     1.2829,-999.000
  316N138_4,       P06C,      97,          1,          1,        134,2,19920607,       2354,   -32.5067,  -127.9908,       4018,  3962.7,   1.5891,  34.6865,2,  34.6873,2,    175.2,2,   175.2,2,  122.02,2,   34.04,2,    0.00,2,    2.39,3,-999.000,9,-999.000,9,  -999.0,9,  -999.0,9,-999.000,9,-999.0000,9, -999.00,9, -999.00,9,  -999.0,9,  -999.0,-999.000,9,-999.000,     -999.0,-999.0000,-999.000,     1.2717,-999.000