BOTTLE,20211025CCHSIORKP
EXPOCODE,SECT_ID,STNNBR,CASTNO,SAMPNO,BTLNBR,BTLNBR_FLAG_W,DATE,TIME,LATITUDE,LONGITUDE,DEPTH,CTDPRS,CTDTMP,CTDSAL,CTDSAL_FLAG_W,SALNTY,SALNTY_FLAG_W,CTDOXY,CTDOXY_FLAG_W,OXYGEN,OXYGEN_FLAG_W,SILCAT,SILCAT_FLAG_W,NITRAT,NITRAT_FLAG_W,NITRIT,NITRIT_FLAG_W,PHSPHT,PHSPHT_FLAG_W,CFC-11,CFC-11_FLAG_W,CFC-12,CFC-12_FLAG_W,TCARBN,TCARBN_FLAG_W,PCO2,PCO2_FLAG_W,TRITUM,TRITUM_FLAG_W,HELIUM,HELIUM_FLAG_W,DELHE3,DELHE3_FLAG_W,DELC13,DELC13_FLAG_W,DELC14,DELC14_FLAG_W,C14ERR,NEON,NEON_FLAG_W,NEONER,PCO2TMP,HELIER,DELHER,THETA,TRITER
,,,,,,,,,,,METERS,DBAR,ITS-90,PSS-78,,PSS-78,,UMOL/KG,,UMOL/KG,,UMOL/KG,,UMOL/KG,,UMOL/KG,,UMOL/KG,,PMOL/KG,,PMOL/KG,,UMOL/KG,,UATM,,TU,,NMOL/KG,,PERCNT,,/MILLE,,/MILLE,,/MILLE,NMOL/KG,,NMOL/KG,DEG_C,NMOL/KG,PERCNT,ITS-90,TU
  316N138_4,       P06C,     168,          1,         36,    02-9121,3,19920630,       1029,   -32.4878,  -174.3283,       5842,    22.3,  16.5612,  35.5429,2,  35.5415,2,    245.0,2,   235.2,2,    1.28,2,    0.77,2,    0.05,2,    0.35,3,-999.000,5,-999.000,5,  -999.0,9,  -999.0,9,-999.000,9,-999.0000,9, -999.00,9, -999.00,9,  -999.0,9,  -999.0,-999.000,9,-999.000,     -999.0,-999.0000,-999.000,    16.5576,-999.000
  316N138_4,       P06C,     168,          1,         35,    02-9454,3,19920630,       1029,   -32.4878,  -174.3283,       5842,    60.1,  16.5613,  35.5426,2,  35.5421,2,    234.7,2,   235.3,2,    1.28,2,    0.72,2,    0.05,2,    0.32,3,-999.000,5,-999.000,5,  -999.0,9,  -999.0,9,-999.000,9,-999.0000,9, -999.00,9, -999.00,9,  -999.0,9,  -999.0,-999.000,9,-999.000,     -999.0,-999.0000,-999.000,    16.5516,-999.000
  316N138_4,       P06C,     168,          1,         34,    02-9457,3,19920630,       1029,   -32.4878,  -174.3283,       5842,   108.6,  16.5469,  35.5513,2,  35.5502,2,    232.5,2,   234.1,2,    1.29,2,    1.03,2,    0.06,2,    0.34,3,-999.000,5,-999.000,5,  -999.0,9,  -999.0,9,-999.000,9,-999.0000,9, -999.00,9, -999.00,9,  -999.0,9,  -999.0,-999.000,9,-999.000,     -999.0,-999.0000,-999.000,    16.5293,-999.000
  316N138_4,       P06C,     168,          1,         33,    02-5367,2,19920630,       1029,   -32.4878,  -174.3283,       5842,   202.5,  13.7633,  35.2355,2,  35.2337,2,    202.7,2,   202.5,2,    3.48,2,    9.35,2,    0.01,2,    0.86,3,-999.000,5,-999.000,5,  -999.0,9,  -999.0,9,-999.000,9,-999.0000,9, -999.00,9, -999.00,9,  -999.0,9,  -999.0,-999.000,9,-999.000,     -999.0,-999.0000,-999.000,    13.7343,-999.000
  316N138_4,       P06C,     168,          1,         32,    02-9540,2,19920630,       1029,   -32.4878,  -174.3283,       5842,   298.6,  12.1484,  35.0376,2,  35.0400,2,    196.4,2,   201.5,2,    4.66,2,   12.27,2,    0.00,2,    1.02,3,-999.000,5,-999.000,5,  -999.0,9,  -999.0,9,-999.000,9,-999.0000,9, -999.00,9, -999.00,9,  -999.0,9,  -999.0,-999.000,9,-999.000,     -999.0,-999.0000,-999.000,    12.1089,-999.000
  316N138_4,       P06C,     168,          1,         31,    02-9539,2,19920630,       1029,   -32.4878,  -174.3283,       5842,   392.5,  10.3235,  34.7958,2,  34.7954,2,    197.9,2,   197.3,2,    6.01,2,   16.62,2,    0.00,2,    1.24,3,-999.000,5,-999.000,5,  -999.0,9,  -999.0,9,-999.000,9,-999.0000,9, -999.00,9, -999.00,9,  -999.0,9,  -999.0,-999.000,9,-999.000,     -999.0,-999.0000,-999.000,    10.2767,-999.000
  316N138_4,       P06C,     168,          1,         30,    02-9456,2,19920630,       1029,   -32.4878,  -174.3283,       5842,   486.8,   8.8589,  34.6149,2,  34.6144,2,    205.5,2,   207.7,2,    6.51,2,   19.26,2,    0.00,2,    1.40,3,-999.000,5,-999.000,5,  -999.0,9,  -999.0,9,-999.000,9,-999.0000,9, -999.00,9, -999.00,9,  -999.0,9,  -999.0,-999.000,9,-999.000,     -999.0,-999.0000,-999.000,     8.8059,-999.000
  316N138_4,       P06C,     168,          1,         29,    02-9458,2,19920630,       1029,   -32.4878,  -174.3283,       5842,   579.4,   7.9903,  34.5269,2,  34.5256,2,    215.4,2,   215.0,2,    7.70,2,   20.78,2,    0.00,2,    1.45,3,-999.000,5,-999.000,5,  -999.0,9,  -999.0,9,-999.000,9,-999.0000,9, -999.00,9, -999.00,9,  -999.0,9,  -999.0,-999.000,9,-999.000,     -999.0,-999.0000,-999.000,     7.9306,-999.000
  316N138_4,       P06C,     168,          1,         28,    02-9545,2,19920630,       1029,   -32.4878,  -174.3283,       5842,   674.3,   7.3103,  34.4649,2,  34.4646,2,    220.4,2,   218.4,2,    9.73,2,   22.45,2,    0.00,2,    1.57,3,-999.000,5,-999.000,5,  -999.0,9,  -999.0,9,-999.000,9,-999.0000,9, -999.00,9, -999.00,9,  -999.0,9,  -999.0,-999.000,9,-999.000,     -999.0,-999.0000,-999.000,     7.2440,-999.000
  316N138_4,       P06C,     168,          1,         27,    02-9453,2,19920630,       1029,   -32.4878,  -174.3283,       5842,   821.1,   6.2622,  34.3784,2,  34.3810,2,    222.5,2,   218.8,2,   14.11,2,   25.22,2,    0.00,2,    1.74,3,-999.000,5,-999.000,5,  -999.0,9,  -999.0,9,-999.000,9,-999.0000,9, -999.00,9, -999.00,9,  -999.0,9,  -999.0,-999.000,9,-999.000,     -999.0,-999.0000,-999.000,     6.1872,-999.000
  316N138_4,       P06C,     168,          1,         26,    02-9544,3,19920630,       1029,   -32.4878,  -174.3283,       5842,   972.9,   5.4309,  34.3683,2,  34.6085,4,    209.9,2,   207.5,3,   16.99,4,   22.71,4,    0.01,4,    1.60,4,-999.000,5,-999.000,5,  -999.0,9,  -999.0,9,-999.000,9,-999.0000,9, -999.00,9, -999.00,9,  -999.0,9,  -999.0,-999.000,9,-999.000,     -999.0,-999.0000,-999.000,     5.3470,-999.000
  316N138_4,       P06C,     168,          1,         25,    02-9455,2,19920630,       1029,   -32.4878,  -174.3283,       5842,  1165.2,   4.2608,  34.3901,2,  34.3910,2,    191.7,2,   189.6,2,   41.62,2,   31.51,2,    0.00,2,    2.21,3,-999.000,5,-999.000,5,  -999.0,9,  -999.0,9,-999.000,9,-999.0000,9, -999.00,9, -999.00,9,  -999.0,9,  -999.0,-999.000,9,-999.000,     -999.0,-999.0000,-999.000,     4.1690,-999.000
  316N138_4,       P06C,     168,          1,         24,        132,2,19920630,       1029,   -32.4878,  -174.3283,       5842,  1361.1,   3.3935,  34.4687,2,  34.4693,2,    175.8,3,   171.1,2,   63.89,2,   33.49,2,    0.00,2,    2.35,3,-999.000,5,-999.000,5,  -999.0,9,  -999.0,9,-999.000,9,-999.0000,9, -999.00,9, -999.00,9,  -999.0,9,  -999.0,-999.000,9,-999.000,     -999.0,-999.0000,-999.000,     3.2933,-999.000
  316N138_4,       P06C,     168,          1,         23,        123,3,19920630,       1029,   -32.4878,  -174.3283,       5842,  1553.2,   2.8406,  34.5435,2,  34.7585,4,    164.9,2,   176.4,4,   56.97,4,   26.95,4,    0.01,4,    1.92,4,-999.000,5,-999.000,5,  -999.0,9,  -999.0,9,-999.000,9,-999.0000,9, -999.00,9, -999.00,9,  -999.0,9,  -999.0,-999.000,9,-999.000,     -999.0,-999.0000,-999.000,     2.7302,-999.000
  316N138_4,       P06C,     168,          1,         22,        128,2,19920630,       1029,   -32.4878,  -174.3283,       5842,  1750.9,   2.5821,  34.5880,2,  34.5875,2,    155.8,2,   155.8,2,   97.29,2,   34.92,2,    0.00,2,    2.36,3,-999.000,5,-999.000,5,  -999.0,9,  -999.0,9,-999.000,9,-999.0000,9, -999.00,9, -999.00,9,  -999.0,9,  -999.0,-999.000,9,-999.000,     -999.0,-999.0000,-999.000,     2.4584,-999.000
  316N138_4,       P06C,     168,          1,         21,        121,2,19920630,       1029,   -32.4878,  -174.3283,       5842,  1951.9,   2.3997,  34.6132,2,  34.6150,2,    151.7,2,   149.8,2,  107.09,2,   35.32,2,    0.00,2,    2.41,3,-999.000,5,-999.000,5,  -999.0,9,  -999.0,9,-999.000,9,-999.0000,9, -999.00,9, -999.00,9,  -999.0,9,  -999.0,-999.000,9,-999.000,     -999.0,-999.0000,-999.000,     2.2614,-999.000
  316N138_4,       P06C,     168,          1,         20,        120,2,19920630,       1029,   -32.4878,  -174.3283,       5842,  2152.0,   2.2631,  34.6273,2,  34.6288,2,    149.5,2,   148.8,2,  113.34,2,   35.60,2,    0.00,2,    2.42,3,-999.000,5,-999.000,5,  -999.0,9,  -999.0,9,-999.000,9,-999.0000,9, -999.00,9, -999.00,9,  -999.0,9,  -999.0,-999.000,9,-999.000,     -999.0,-999.0000,-999.000,     2.1095,-999.000
  316N138_4,       P06C,     168,          1,         19,        133,3,19920630,       1029,   -32.4878,  -174.3283,       5842,  2348.0,   2.1490,  34.6392,2,  34.6423,2,    147.1,2,   146.7,2,  118.23,2,   35.69,2,    0.00,2,    2.45,3,-999.000,5,-999.000,5,  -999.0,9,  -999.0,9,-999.000,9,-999.0000,9, -999.00,9, -999.00,9,  -999.0,9,  -999.0,-999.000,9,-999.000,     -999.0,-999.0000,-999.000,     1.9798,-999.000
  316N138_4,       P06C,     168,          1,         18,        118,2,19920630,       1029,   -32.4878,  -174.3283,       5842,  2548.0,   2.0399,  34.6494,2,  34.6460,3,    147.0,2,   146.1,2,  123.30,2,   35.91,2,    0.00,2,    2.49,3,-999.000,5,-999.000,5,  -999.0,9,  -999.0,9,-999.000,9,-999.0000,9, -999.00,9, -999.00,9,  -999.0,9,  -999.0,-999.000,9,-999.000,     -999.0,-999.0000,-999.000,     1.8546,-999.000
  316N138_4,       P06C,     168,          1,         17,        117,2,19920630,       1029,   -32.4878,  -174.3283,       5842,  2746.6,   1.9416,  34.6598,2,  34.6484,4,    148.2,2,   148.3,2,  126.01,2,   35.91,2,    0.00,2,    2.49,3,-999.000,5,-999.000,5,  -999.0,9,  -999.0,9,-999.000,9,-999.0000,9, -999.00,9, -999.00,9,  -999.0,9,  -999.0,-999.000,9,-999.000,     -999.0,-999.0000,-999.000,     1.7396,-999.000
  316N138_4,       P06C,     168,          1,         16,        116,2,19920630,       1029,   -32.4878,  -174.3283,       5842,  2947.8,   1.8368,  34.6722,2,  34.6726,2,    153.6,2,   155.0,2,  125.84,2,   35.44,2,    0.00,2,    2.46,3,-999.000,5,-999.000,5,  -999.0,9,  -999.0,9,-999.000,9,-999.0000,9, -999.00,9, -999.00,9,  -999.0,9,  -999.0,-999.000,9,-999.000,     -999.0,-999.0000,-999.000,     1.6176,-999.000
  316N138_4,       P06C,     168,          1,         15,        115,2,19920630,       1029,   -32.4878,  -174.3283,       5842,  3157.0,   1.7475,  34.6916,2,  34.6912,2,    166.9,2,   167.3,2,  118.94,2,   34.23,2,    0.00,2,    2.38,3,-999.000,5,-999.000,5,  -999.0,9,  -999.0,9,-999.000,9,-999.0000,9, -999.00,9, -999.00,9,  -999.0,9,  -999.0,-999.000,9,-999.000,     -999.0,-999.0000,-999.000,     1.5098,-999.000
  316N138_4,       P06C,     168,          1,         14,        114,2,19920630,       1029,   -32.4878,  -174.3283,       5842,  3370.7,   1.6506,  34.7113,2,  34.7111,2,    181.6,2,   180.4,2,  110.50,2,   32.74,2,    0.00,2,    2.27,3,-999.000,5,-999.000,5,  -999.0,9,  -999.0,9,-999.000,9,-999.0000,9, -999.00,9, -999.00,9,  -999.0,9,  -999.0,-999.000,9,-999.000,     -999.0,-999.0000,-999.000,     1.3938,-999.000
  316N138_4,       P06C,     168,          1,         13,        125,2,19920630,       1029,   -32.4878,  -174.3283,       5842,  3574.8,   1.5156,  34.7213,2,  34.7211,2,    191.8,2,   192.3,2,  108.32,2,   31.90,2,    0.00,2,    2.24,3,-999.000,5,-999.000,5,  -999.0,9,  -999.0,9,-999.000,9,-999.0000,9, -999.00,9, -999.00,9,  -999.0,9,  -999.0,-999.000,9,-999.000,     -999.0,-999.0000,-999.000,     1.2412,-999.000
  316N138_4,       P06C,     168,          1,         12,        112,2,19920630,       1029,   -32.4878,  -174.3283,       5842,  3784.3,   1.3602,  34.7213,2,  34.7211,2,    198.3,2,   199.5,2,  110.68,2,   31.67,2,    0.00,2,    2.24,3,-999.000,5,-999.000,5,  -999.0,9,  -999.0,9,-999.000,9,-999.0000,9, -999.00,9, -999.00,9,  -999.0,9,  -999.0,-999.000,9,-999.000,     -999.0,-999.0000,-999.000,     1.0680,-999.000
  316N138_4,       P06C,     168,          1,         11,        129,2,19920630,       1029,   -32.4878,  -174.3283,       5842,  3994.6,   1.2138,  34.7174,2,  34.7168,2,    202.3,2,   202.4,2,  114.24,2,   31.67,2,    0.00,2,    2.24,3,-999.000,5,-999.000,5,  -999.0,9,  -999.0,9,-999.000,9,-999.0000,9, -999.00,9, -999.00,9,  -999.0,9,  -999.0,-999.000,9,-999.000,     -999.0,-999.0000,-999.000,     0.9034,-999.000
  316N138_4,       P06C,     168,          1,         10,        110,2,19920630,       1029,   -32.4878,  -174.3283,       5842,  4205.4,   1.1208,  34.7137,2,  34.7140,2,    204.0,2,   205.2,2,  117.28,2,   31.76,2,    0.00,2,    2.23,3,-999.000,5,-999.000,5,  -999.0,9,  -999.0,9,-999.000,9,-999.0000,9, -999.00,9, -999.00,9,  -999.0,9,  -999.0,-999.000,9,-999.000,     -999.0,-999.0000,-999.000,     0.7902,-999.000
  316N138_4,       P06C,     168,          1,          9,        126,2,19920630,       1029,   -32.4878,  -174.3283,       5842,  4410.9,   1.0675,  34.7122,2,  34.7125,2,    205.3,2,   205.9,2,  119.15,2,   31.80,2,    0.00,2,    2.21,3,-999.000,5,-999.000,5,  -999.0,9,  -999.0,9,-999.000,9,-999.0000,9, -999.00,9, -999.00,9,  -999.0,9,  -999.0,-999.000,9,-999.000,     -999.0,-999.0000,-999.000,     0.7158,-999.000
  316N138_4,       P06C,     168,          1,          8,        108,2,19920630,       1029,   -32.4878,  -174.3283,       5842,  4620.7,   1.0373,  34.7095,2,  34.7095,2,    206.4,2,   206.4,2,  120.17,2,   31.88,2,    0.00,2,    2.24,3,-999.000,5,-999.000,5,  -999.0,9,  -999.0,9,-999.000,9,-999.0000,9, -999.00,9, -999.00,9,  -999.0,9,  -999.0,-999.000,9,-999.000,     -999.0,-999.0000,-999.000,     0.6628,-999.000
  316N138_4,       P06C,     168,          1,          7,        107,2,19920630,       1029,   -32.4878,  -174.3283,       5842,  4832.6,   1.0280,  34.7088,2,  34.7081,2,    207.0,2,   207.3,2,  121.19,2,   31.92,2,    0.00,2,    2.23,3,-999.000,5,-999.000,5,  -999.0,9,  -999.0,9,-999.000,9,-999.0000,9, -999.00,9, -999.00,9,  -999.0,9,  -999.0,-999.000,9,-999.000,     -999.0,-999.0000,-999.000,     0.6293,-999.000
  316N138_4,       P06C,     168,          1,          6,        180,2,19920630,       1029,   -32.4878,  -174.3283,       5842,  5043.7,   1.0313,  34.7076,2,  34.7060,2,    206.8,2,   207.3,2,  121.88,2,   31.92,2,    0.00,2,    2.22,3,-999.000,5,-999.000,5,  -999.0,9,  -999.0,9,-999.000,9,-999.0000,9, -999.00,9, -999.00,9,  -999.0,9,  -999.0,-999.000,9,-999.000,     -999.0,-999.0000,-999.000,     0.6076,-999.000
  316N138_4,       P06C,     168,          1,          5,        131,2,19920630,       1029,   -32.4878,  -174.3283,       5842,  5252.3,   1.0433,  34.7070,2,  34.7070,2,    207.3,2,   206.8,2,  121.71,2,   31.91,2,    0.00,2,    2.21,3,-999.000,5,-999.000,5,  -999.0,9,  -999.0,9,-999.000,9,-999.0000,9, -999.00,9, -999.00,9,  -999.0,9,  -999.0,-999.000,9,-999.000,     -999.0,-999.0000,-999.000,     0.5940,-999.000
  316N138_4,       P06C,     168,          1,          4,        104,2,19920630,       1029,   -32.4878,  -174.3283,       5842,  5461.2,   1.0607,  34.7070,2,  34.7066,2,    207.0,2,   207.4,2,  122.39,2,   31.95,2,    0.00,2,    2.22,3,-999.000,5,-999.000,5,  -999.0,9,  -999.0,9,-999.000,9,-999.0000,9, -999.00,9, -999.00,9,  -999.0,9,  -999.0,-999.000,9,-999.000,     -999.0,-999.0000,-999.000,     0.5850,-999.000
  316N138_4,       P06C,     168,          1,          3,        130,2,19920630,       1029,   -32.4878,  -174.3283,       5842,  5662.3,   1.0823,  34.7069,2,  34.7060,2,    207.2,2,   206.6,2,  122.24,2,   32.00,2,    0.00,2,    2.22,3,-999.000,5,-999.000,5,  -999.0,9,  -999.0,9,-999.000,9,-999.0000,9, -999.00,9, -999.00,9,  -999.0,9,  -999.0,-999.000,9,-999.000,     -999.0,-999.0000,-999.000,     0.5804,-999.000
  316N138_4,       P06C,     168,          1,          2,        135,2,19920630,       1029,   -32.4878,  -174.3283,       5842,  5870.1,   1.1084,  34.7071,2,  34.7050,2,    207.0,2,   206.5,2,  122.41,2,   32.04,2,    0.00,2,    2.23,3,-999.000,5,-999.000,5,  -999.0,9,  -999.0,9,-999.000,9,-999.0000,9, -999.00,9, -999.00,9,  -999.0,9,  -999.0,-999.000,9,-999.000,     -999.0,-999.0000,-999.000,     0.5787,-999.000
  316N138_4,       P06C,     168,          1,          1,        134,2,19920630,       1029,   -32.4878,  -174.3283,       5842,  5964.3,   1.1205,  34.7072,2,  34.7070,2,    255.0,4,   206.3,2,  122.42,2,   32.07,2,    0.01,2,    2.25,3,-999.000,5,-999.000,5,  -999.0,9,  -999.0,9,-999.000,9,-999.0000,9, -999.00,9, -999.00,9,  -999.0,9,  -999.0,-999.000,9,-999.000,     -999.0,-999.0000,-999.000,     0.5781,-999.000