BOTTLE,20211025CCHSIORKP
EXPOCODE,SECT_ID,STNNBR,CASTNO,SAMPNO,BTLNBR,BTLNBR_FLAG_W,DATE,TIME,LATITUDE,LONGITUDE,DEPTH,CTDPRS,CTDTMP,CTDSAL,CTDSAL_FLAG_W,SALNTY,SALNTY_FLAG_W,CTDOXY,CTDOXY_FLAG_W,OXYGEN,OXYGEN_FLAG_W,SILCAT,SILCAT_FLAG_W,NITRAT,NITRAT_FLAG_W,NITRIT,NITRIT_FLAG_W,PHSPHT,PHSPHT_FLAG_W,CFC-11,CFC-11_FLAG_W,CFC-12,CFC-12_FLAG_W,TCARBN,TCARBN_FLAG_W,PCO2,PCO2_FLAG_W,TRITUM,TRITUM_FLAG_W,HELIUM,HELIUM_FLAG_W,DELHE3,DELHE3_FLAG_W,DELC13,DELC13_FLAG_W,DELC14,DELC14_FLAG_W,C14ERR,NEON,NEON_FLAG_W,NEONER,PCO2TMP,HELIER,DELHER,THETA,TRITER
,,,,,,,,,,,METERS,DBAR,ITS-90,PSS-78,,PSS-78,,UMOL/KG,,UMOL/KG,,UMOL/KG,,UMOL/KG,,UMOL/KG,,UMOL/KG,,PMOL/KG,,PMOL/KG,,UMOL/KG,,UATM,,TU,,NMOL/KG,,PERCNT,,/MILLE,,/MILLE,,/MILLE,NMOL/KG,,NMOL/KG,DEG_C,NMOL/KG,PERCNT,ITS-90,TU
  316N138_4,       P06C,     146,          1,         36,    02-9121,2,19920624,       1242,   -32.5097,  -163.8255,       5434,    21.2,  17.2479,  35.3871,2,  35.3859,2,    246.7,2,   234.8,2,    0.39,2,    0.04,2,   -0.01,2,    0.15,2,-999.000,5,-999.000,5,  2037.6,6,  -999.0,9,-999.000,9,-999.0000,9, -999.00,9, -999.00,9,  -999.0,9,  -999.0,-999.000,9,-999.000,     -999.0,-999.0000,-999.000,    17.2443,-999.000
  316N138_4,       P06C,     146,          1,         35,    02-9454,2,19920624,       1242,   -32.5097,  -163.8255,       5434,    60.2,  17.2443,  35.3854,2,  35.3833,2,    234.6,2,   235.3,2,    0.40,2,    0.04,2,   -0.01,2,    0.16,2,-999.000,5,-999.000,5,  2037.1,2,  -999.0,9,-999.000,9,-999.0000,9, -999.00,9, -999.00,9,  -999.0,9,  -999.0,-999.000,9,-999.000,     -999.0,-999.0000,-999.000,    17.2342,-999.000
  316N138_4,       P06C,     146,          1,         34,    02-9457,2,19920624,       1242,   -32.5097,  -163.8255,       5434,   109.0,  17.2281,  35.3873,2,  35.3790,2,    227.0,2,   234.9,2,    0.56,2,    0.08,2,   -0.01,2,    0.15,2,-999.000,5,-999.000,5,  2039.1,2,  -999.0,9,-999.000,9,-999.0000,9, -999.00,9, -999.00,9,  -999.0,9,  -999.0,-999.000,9,-999.000,     -999.0,-999.0000,-999.000,    17.2099,-999.000
  316N138_4,       P06C,     146,          1,         33,    02-5367,2,19920624,       1242,   -32.5097,  -163.8255,       5434,   153.8,  14.9481,  35.2879,2,  35.2867,2,    221.2,2,   224.9,2,    1.02,2,    2.70,2,    0.01,2,    0.41,2,-999.000,5,-999.000,5,  2069.1,2,  -999.0,9,-999.000,9,-999.0000,9, -999.00,9, -999.00,9,  -999.0,9,  -999.0,-999.000,9,-999.000,     -999.0,-999.0000,-999.000,    14.9248,-999.000
  316N138_4,       P06C,     146,          1,         32,    02-9540,3,19920624,       1242,   -32.5097,  -163.8255,       5434,   201.0,  13.7659,  35.1462,2,  35.1742,2,    206.9,2,   213.4,2,    1.48,2,    5.60,2,    0.00,2,    0.54,2,-999.000,5,-999.000,5,  2080.6,2,  -999.0,9,-999.000,9,-999.0000,9, -999.00,9, -999.00,9,  -999.0,9,  -999.0,-999.000,9,-999.000,     -999.0,-999.0000,-999.000,    13.7372,-999.000
  316N138_4,       P06C,     146,          1,         31,    02-9539,2,19920624,       1242,   -32.5097,  -163.8255,       5434,   249.0,  12.2755,  34.9665,2,  34.9545,2,    202.0,2,   203.7,2,    2.55,2,   10.72,2,    0.00,2,    0.86,2,-999.000,5,-999.000,5,  2104.3,2,  -999.0,9,-999.000,9,-999.0000,9, -999.00,9, -999.00,9,  -999.0,9,  -999.0,-999.000,9,-999.000,     -999.0,-999.0000,-999.000,    12.2425,-999.000
  316N138_4,       P06C,     146,          1,         30,    02-9456,2,19920624,       1242,   -32.5097,  -163.8255,       5434,   297.0,  10.6719,  34.7839,2,  34.7817,2,    203.7,2,   205.8,2,    3.46,2,   14.19,2,    0.00,2,    1.06,2,-999.000,5,-999.000,5,  2116.3,2,  -999.0,9,-999.000,9,-999.0000,9, -999.00,9, -999.00,9,  -999.0,9,  -999.0,-999.000,9,-999.000,     -999.0,-999.0000,-999.000,    10.6359,-999.000
  316N138_4,       P06C,     146,          1,         29,    02-9458,2,19920624,       1242,   -32.5097,  -163.8255,       5434,   346.4,   9.5267,  34.6584,2,  34.6590,2,    209.2,2,   210.6,2,    4.22,2,   16.75,2,    0.00,2,    1.21,2,-999.000,5,-999.000,5,  2124.0,2,  -999.0,9,-999.000,9,-999.0000,9, -999.00,9, -999.00,9,  -999.0,9,  -999.0,-999.000,9,-999.000,     -999.0,-999.0000,-999.000,     9.4876,-999.000
  316N138_4,       P06C,     146,          1,         28,    02-9545,2,19920624,       1242,   -32.5097,  -163.8255,       5434,   391.0,   8.6711,  34.5689,2,  34.5677,2,    215.7,2,   219.4,2,    4.83,2,   18.32,2,    0.00,2,    1.32,2,-999.000,5,-999.000,5,  2127.0,2,  -999.0,9,-999.000,9,-999.0000,9, -999.00,9, -999.00,9,  -999.0,9,  -999.0,-999.000,9,-999.000,     -999.0,-999.0000,-999.000,     8.6293,-999.000
  316N138_4,       P06C,     146,          1,         27,    02-9453,2,19920624,       1242,   -32.5097,  -163.8255,       5434,   487.0,   7.7305,  34.4769,2,  34.4787,2,    228.5,2,   231.0,2,    5.74,2,   20.22,2,    0.00,2,    1.41,2,-999.000,5,-999.000,5,  2129.7,6,  -999.0,9,-999.000,9,-999.0000,9, -999.00,9, -999.00,9,  -999.0,9,  -999.0,-999.000,9,-999.000,     -999.0,-999.0000,-999.000,     7.6817,-999.000
  316N138_4,       P06C,     146,          1,         26,    02-9544,2,19920624,       1242,   -32.5097,  -163.8255,       5434,   580.7,   7.1983,  34.4297,2,  34.4294,2,    235.8,2,   236.3,2,    6.81,2,   21.50,2,    0.00,2,    1.49,2,-999.000,5,-999.000,5,  2131.7,2,  -999.0,9,-999.000,9,-999.0000,9, -999.00,9, -999.00,9,  -999.0,9,  -999.0,-999.000,9,-999.000,     -999.0,-999.0000,-999.000,     7.1420,-999.000
  316N138_4,       P06C,     146,          1,         25,    02-9455,2,19920624,       1242,   -32.5097,  -163.8255,       5434,   777.5,   6.1535,  34.3483,2,  34.3480,2,    231.1,2,   229.8,2,   11.49,2,   24.84,2,    0.00,2,    1.71,2,-999.000,5,-999.000,5,  2145.3,2,  -999.0,9,-999.000,9,-999.0000,9, -999.00,9, -999.00,9,  -999.0,9,  -999.0,-999.000,9,-999.000,     -999.0,-999.0000,-999.000,     6.0834,-999.000
  316N138_4,       P06C,     146,          1,         24,        132,2,19920624,       1242,   -32.5097,  -163.8255,       5434,   979.2,   5.1494,  34.3301,2,  34.3313,2,    207.4,2,   208.9,2,   22.80,2,   28.84,2,    0.01,2,    1.97,2,-999.000,5,-999.000,5,  2172.4,2,  -999.0,9,-999.000,9,-999.0000,9, -999.00,9, -999.00,9,  -999.0,9,  -999.0,-999.000,9,-999.000,     -999.0,-999.0000,-999.000,     5.0671,-999.000
  316N138_4,       P06C,     146,          1,         23,        123,2,19920624,       1242,   -32.5097,  -163.8255,       5434,  1178.5,   3.8236,  34.3854,2,  34.3845,2,    187.5,2,   185.1,2,   44.97,2,   32.74,2,   -0.01,2,    2.27,2,-999.000,5,-999.000,5,  2212.3,2,  -999.0,9,-999.000,9,-999.0000,9, -999.00,9, -999.00,9,  -999.0,9,  -999.0,-999.000,9,-999.000,     -999.0,-999.0000,-999.000,     3.7346,-999.000
  316N138_4,       P06C,     146,          1,         22,        128,2,19920624,       1242,   -32.5097,  -163.8255,       5434,  1378.3,   3.1144,  34.4751,2,  34.4758,2,    172.0,2,   170.4,2,   66.23,2,   34.29,2,    0.00,2,    2.37,2,-999.000,5,-999.000,5,  2242.9,2,  -999.0,9,-999.000,9,-999.0000,9, -999.00,9, -999.00,9,  -999.0,9,  -999.0,-999.000,9,-999.000,     -999.0,-999.0000,-999.000,     3.0156,-999.000
  316N138_4,       P06C,     146,          1,         21,        121,2,19920624,       1242,   -32.5097,  -163.8255,       5434,  1588.4,   2.6485,  34.5654,2,  34.5675,2,    160.1,2,   158.4,2,   89.45,2,   34.95,2,    0.00,2,    2.47,2,-999.000,5,-999.000,5,  2272.1,2,  -999.0,9,-999.000,9,-999.0000,9, -999.00,9, -999.00,9,  -999.0,9,  -999.0,-999.000,9,-999.000,     -999.0,-999.0000,-999.000,     2.5375,-999.000
  316N138_4,       P06C,     146,          1,         20,        120,2,19920624,       1242,   -32.5097,  -163.8255,       5434,  1793.7,   2.4451,  34.6019,2,  34.6022,2,    153.1,2,   152.5,2,  101.52,2,   35.36,2,    0.00,2,    2.50,2,-999.000,5,-999.000,5,  2286.7,2,  -999.0,9,-999.000,9,-999.0000,9, -999.00,9, -999.00,9,  -999.0,9,  -999.0,-999.000,9,-999.000,     -999.0,-999.0000,-999.000,     2.3195,-999.000
  316N138_4,       P06C,     146,          1,         19,        133,2,19920624,       1242,   -32.5097,  -163.8255,       5434,  2002.0,   2.2962,  34.6222,2,  34.6231,2,    149.1,2,   148.9,2,  110.57,2,   35.70,2,    0.00,2,    2.55,2,-999.000,5,-999.000,5,  2297.2,2,  -999.0,9,-999.000,9,-999.0000,9, -999.00,9, -999.00,9,  -999.0,9,  -999.0,-999.000,9,-999.000,     -999.0,-999.0000,-999.000,     2.1552,-999.000
  316N138_4,       P06C,     146,          1,         18,        118,2,19920624,       1242,   -32.5097,  -163.8255,       5434,  2206.0,   2.1648,  34.6369,2,  34.6358,2,    146.6,2,   148.7,2,  117.82,2,   35.94,2,    0.00,2,    2.57,2,-999.000,5,-999.000,5,  2305.3,6,  -999.0,9,-999.000,9,-999.0000,9, -999.00,9, -999.00,9,  -999.0,9,  -999.0,-999.000,9,-999.000,     -999.0,-999.0000,-999.000,     2.0080,-999.000
  316N138_4,       P06C,     146,          1,         17,        117,2,19920624,       1242,   -32.5097,  -163.8255,       5434,  2413.6,   2.0594,  34.6457,2,  34.6464,2,    145.8,2,   146.9,2,  122.51,2,   36.11,2,    0.00,2,    2.58,2,-999.000,5,-999.000,5,  2310.1,2,  -999.0,9,-999.000,9,-999.0000,9, -999.00,9, -999.00,9,  -999.0,9,  -999.0,-999.000,9,-999.000,     -999.0,-999.0000,-999.000,     1.8859,-999.000
  316N138_4,       P06C,     146,          1,         16,        116,2,19920624,       1242,   -32.5097,  -163.8255,       5434,  2618.4,   1.9767,  34.6537,2,  34.6541,2,    145.9,2,   145.7,2,  126.14,2,   36.13,2,    0.01,2,    2.59,2,-999.000,5,-999.000,5,  2313.3,2,  -999.0,9,-999.000,9,-999.0000,9, -999.00,9, -999.00,9,  -999.0,9,  -999.0,-999.000,9,-999.000,     -999.0,-999.0000,-999.000,     1.7860,-999.000
  316N138_4,       P06C,     146,          1,         15,        115,2,19920624,       1242,   -32.5097,  -163.8255,       5434,  2823.3,   1.9004,  34.6605,2,  34.6610,2,    147.1,2,   147.0,2,  128.40,2,   36.12,2,    0.01,2,    2.59,2,-999.000,5,-999.000,5,  2314.7,2,  -999.0,9,-999.000,9,-999.0000,9, -999.00,9, -999.00,9,  -999.0,9,  -999.0,-999.000,9,-999.000,     -999.0,-999.0000,-999.000,     1.6919,-999.000
  316N138_4,       P06C,     146,          1,         14,        114,2,19920624,       1242,   -32.5097,  -163.8255,       5434,  3028.3,   1.8320,  34.6676,2,  34.6683,2,    149.9,2,   148.7,2,  130.23,2,   35.96,2,    0.01,2,    2.58,2,-999.000,5,-999.000,5,  2314.4,2,  -999.0,9,-999.000,9,-999.0000,9, -999.00,9, -999.00,9,  -999.0,9,  -999.0,-999.000,9,-999.000,     -999.0,-999.0000,-999.000,     1.6051,-999.000
  316N138_4,       P06C,     146,          1,         13,        125,2,19920624,       1242,   -32.5097,  -163.8255,       5434,  3229.3,   1.7677,  34.6770,2,  34.6763,2,    155.5,2,   156.3,2,  128.27,2,   35.42,2,    0.01,2,    2.54,2,-999.000,5,-999.000,5,  2308.0,2,  -999.0,9,-999.000,9,-999.0000,9, -999.00,9, -999.00,9,  -999.0,9,  -999.0,-999.000,9,-999.000,     -999.0,-999.0000,-999.000,     1.5224,-999.000
  316N138_4,       P06C,     146,          1,         12,        112,2,19920624,       1242,   -32.5097,  -163.8255,       5434,  3432.1,   1.6926,  34.6923,2,  34.6914,2,    167.2,2,   166.4,2,  122.40,2,   34.40,2,    0.01,2,    2.45,2,-999.000,5,-999.000,5,  2295.3,2,  -999.0,9,-999.000,9,-999.0000,9, -999.00,9, -999.00,9,  -999.0,9,  -999.0,-999.000,9,-999.000,     -999.0,-999.0000,-999.000,     1.4286,-999.000
  316N138_4,       P06C,     146,          1,         11,        129,2,19920624,       1242,   -32.5097,  -163.8255,       5434,  3432.1,   1.6926,  34.6923,2,  34.6930,2,    167.2,2,   167.3,2,  122.57,2,   34.35,2,    0.01,2,    2.45,2,-999.000,5,-999.000,5,  2295.3,2,  -999.0,9,-999.000,9,-999.0000,9, -999.00,9, -999.00,9,  -999.0,9,  -999.0,-999.000,9,-999.000,     -999.0,-999.0000,-999.000,     1.4286,-999.000
  316N138_4,       P06C,     146,          1,         10,        110,2,19920624,       1242,   -32.5097,  -163.8255,       5434,  3635.4,   1.5992,  34.7072,2,  34.7076,2,    181.9,2,   180.2,2,  115.19,2,   33.12,2,    0.00,2,    2.36,2,-999.000,5,-999.000,5,  2277.9,2,  -999.0,9,-999.000,9,-999.0000,9, -999.00,9, -999.00,9,  -999.0,9,  -999.0,-999.000,9,-999.000,     -999.0,-999.0000,-999.000,     1.3164,-999.000
  316N138_4,       P06C,     146,          1,          9,        126,2,19920624,       1242,   -32.5097,  -163.8255,       5434,  3834.3,   1.4676,  34.7158,2,  34.7160,2,    191.4,2,   190.3,2,  112.94,2,   32.50,2,    0.00,2,    2.29,2,-999.000,5,-999.000,5,  2268.6,2,  -999.0,9,-999.000,9,-999.0000,9, -999.00,9, -999.00,9,  -999.0,9,  -999.0,-999.000,9,-999.000,     -999.0,-999.0000,-999.000,     1.1673,-999.000
  316N138_4,       P06C,     146,          1,          8,        108,2,19920624,       1242,   -32.5097,  -163.8255,       5434,  4033.0,   1.3199,  34.7174,2,  34.7182,2,    198.3,2,   197.7,2,  113.10,2,   32.04,2,    0.00,2,    2.28,2,-999.000,5,-999.000,5,  2262.1,2,  -999.0,9,-999.000,9,-999.0000,9, -999.00,9, -999.00,9,  -999.0,9,  -999.0,-999.000,9,-999.000,     -999.0,-999.0000,-999.000,     1.0024,-999.000
  316N138_4,       P06C,     146,          1,          7,        107,2,19920624,       1242,   -32.5097,  -163.8255,       5434,  4435.1,   1.1025,  34.7134,2,  34.7127,2,    204.3,2,   204.3,2,  118.24,2,   32.08,2,    0.00,2,    2.28,2,-999.000,5,-999.000,5,  2261.7,2,  -999.0,9,-999.000,9,-999.0000,9, -999.00,9, -999.00,9,  -999.0,9,  -999.0,-999.000,9,-999.000,     -999.0,-999.0000,-999.000,     0.7470,-999.000
  316N138_4,       P06C,     146,          1,          6,        180,2,19920624,       1242,   -32.5097,  -163.8255,       5434,  4633.1,   1.0438,  34.7099,2,  34.7103,2,    205.7,2,   206.0,2,  120.21,2,   32.12,2,    0.00,2,    2.27,2,-999.000,5,-999.000,5,  2261.9,2,  -999.0,9,-999.000,9,-999.0000,9, -999.00,9, -999.00,9,  -999.0,9,  -999.0,-999.000,9,-999.000,     -999.0,-999.0000,-999.000,     0.6678,-999.000
  316N138_4,       P06C,     146,          1,          5,        131,2,19920624,       1242,   -32.5097,  -163.8255,       5434,  4834.0,   1.0274,  34.7088,2,  34.7103,2,    206.3,2,   206.6,2,  121.12,2,   32.17,2,   -0.01,2,    2.29,2,-999.000,5,-999.000,5,  2262.0,2,  -999.0,9,-999.000,9,-999.0000,9, -999.00,9, -999.00,9,  -999.0,9,  -999.0,-999.000,9,-999.000,     -999.0,-999.0000,-999.000,     0.6285,-999.000
  316N138_4,       P06C,     146,          1,          4,        104,2,19920624,       1242,   -32.5097,  -163.8255,       5434,  5036.9,   1.0359,  34.7079,2,  34.7095,2,    207.4,2,   206.8,2,  121.59,2,   32.20,2,    0.00,2,    2.27,2,-999.000,5,-999.000,5,  2261.5,2,  -999.0,9,-999.000,9,-999.0000,9, -999.00,9, -999.00,9,  -999.0,9,  -999.0,-999.000,9,-999.000,     -999.0,-999.0000,-999.000,     0.6129,-999.000
  316N138_4,       P06C,     146,          1,          3,        130,2,19920624,       1242,   -32.5097,  -163.8255,       5434,  5242.7,   1.0528,  34.7081,2,  34.7083,2,    207.0,2,   206.6,2,  121.75,2,   32.16,2,    0.00,2,    2.29,2,-999.000,5,-999.000,5,  2262.2,2,  -999.0,9,-999.000,9,-999.0000,9, -999.00,9, -999.00,9,  -999.0,9,  -999.0,-999.000,9,-999.000,     -999.0,-999.0000,-999.000,     0.6044,-999.000
  316N138_4,       P06C,     146,          1,          2,        135,2,19920624,       1242,   -32.5097,  -163.8255,       5434,  5450.1,   1.0759,  34.7085,2,  34.7079,2,    207.4,2,   206.5,2,  121.77,2,   32.20,2,    0.00,2,    2.27,2,-999.000,5,-999.000,5,  2262.4,2,  -999.0,9,-999.000,9,-999.0000,9, -999.00,9, -999.00,9,  -999.0,9,  -999.0,-999.000,9,-999.000,     -999.0,-999.0000,-999.000,     0.6010,-999.000
  316N138_4,       P06C,     146,          1,          1,        134,2,19920624,       1242,   -32.5097,  -163.8255,       5434,  5592.9,   1.0939,  34.7080,2,  34.7081,2,    205.9,2,   207.2,2,  121.35,2,   32.28,2,   -0.01,2,    2.26,2,-999.000,5,-999.000,5,  2262.4,6,  -999.0,9,-999.000,9,-999.0000,9, -999.00,9, -999.00,9,  -999.0,9,  -999.0,-999.000,9,-999.000,     -999.0,-999.0000,-999.000,     0.6004,-999.000