BOTTLE,20211025CCHSIORKP
EXPOCODE,SECT_ID,STNNBR,CASTNO,SAMPNO,BTLNBR,BTLNBR_FLAG_W,DATE,TIME,LATITUDE,LONGITUDE,DEPTH,CTDPRS,CTDTMP,CTDSAL,CTDSAL_FLAG_W,SALNTY,SALNTY_FLAG_W,CTDOXY,CTDOXY_FLAG_W,OXYGEN,OXYGEN_FLAG_W,SILCAT,SILCAT_FLAG_W,NITRAT,NITRAT_FLAG_W,NITRIT,NITRIT_FLAG_W,PHSPHT,PHSPHT_FLAG_W,CFC-11,CFC-11_FLAG_W,CFC-12,CFC-12_FLAG_W,TCARBN,TCARBN_FLAG_W,PCO2,PCO2_FLAG_W,TRITUM,TRITUM_FLAG_W,HELIUM,HELIUM_FLAG_W,DELHE3,DELHE3_FLAG_W,DELC13,DELC13_FLAG_W,DELC14,DELC14_FLAG_W,C14ERR,NEON,NEON_FLAG_W,NEONER,PCO2TMP,HELIER,DELHER,THETA,TRITER
,,,,,,,,,,,METERS,DBAR,ITS-90,PSS-78,,PSS-78,,UMOL/KG,,UMOL/KG,,UMOL/KG,,UMOL/KG,,UMOL/KG,,UMOL/KG,,PMOL/KG,,PMOL/KG,,UMOL/KG,,UATM,,TU,,NMOL/KG,,PERCNT,,/MILLE,,/MILLE,,/MILLE,NMOL/KG,,NMOL/KG,DEG_C,NMOL/KG,PERCNT,ITS-90,TU
  316N138_4,       P06C,     133,          1,         36,    02-9121,2,19920620,       2300,   -32.5020,  -154.8342,       4992,    18.4,  18.3196,  35.3704,2,  35.3675,2,    228.5,2,   232.0,2,    0.37,2,    0.02,2,    0.00,2,    0.10,2,-999.000,5,-999.000,5,  2028.0,6,  -999.0,9,-999.000,9,-999.0000,9, -999.00,9,    1.38,2,   100.3,2,     6.5,-999.000,9,-999.000,     -999.0,-999.0000,-999.000,    18.3164,-999.000
  316N138_4,       P06C,     133,          1,         35,    02-9454,2,19920620,       2300,   -32.5020,  -154.8342,       4992,    58.7,  18.1188,  35.3229,2,  35.3208,2,    231.3,2,   232.7,2,    0.37,2,    0.01,2,    0.00,2,    0.11,2,-999.000,5,-999.000,5,  2030.2,2,  -999.0,9,-999.000,9,-999.0000,9, -999.00,9, -999.00,9,  -999.0,9,  -999.0,-999.000,9,-999.000,     -999.0,-999.0000,-999.000,    18.1088,-999.000
  316N138_4,       P06C,     133,          1,         34,    02-9457,2,19920620,       2300,   -32.5020,  -154.8342,       4992,   108.0,  18.0624,  35.3278,2,  35.3106,2,    230.4,2,   234.5,2,    0.37,2,    0.00,2,    0.00,2,    0.12,2,-999.000,5,-999.000,5,  2032.1,2,  -999.0,9,-999.000,9,-999.0000,9, -999.00,9,    1.32,2,   138.6,2,     6.1,-999.000,9,-999.000,     -999.0,-999.0000,-999.000,    18.0438,-999.000
  316N138_4,       P06C,     133,          1,         33,    02-5367,2,19920620,       2300,   -32.5020,  -154.8342,       4992,   157.4,  15.4472,  35.2522,2,  35.2544,2,    232.2,2,   228.8,2,    0.64,2,    0.98,2,    0.16,2,    0.25,2,-999.000,5,-999.000,5,  2058.3,2,  -999.0,9,-999.000,9,-999.0000,9, -999.00,9,    1.27,2,    89.5,3,     5.1,-999.000,9,-999.000,     -999.0,-999.0000,-999.000,    15.4229,-999.000
  316N138_4,       P06C,     133,          1,         32,    02-9540,2,19920620,       2300,   -32.5020,  -154.8342,       4992,   208.0,  14.2424,  35.1535,2,  35.1191,2,    221.9,2,   216.7,2,    1.05,2,    4.47,2,    0.01,2,    0.46,2,-999.000,5,-999.000,5,  2076.5,2,  -999.0,9,-999.000,9,-999.0000,9, -999.00,9,    1.16,2,   112.3,2,     9.1,-999.000,9,-999.000,     -999.0,-999.0000,-999.000,    14.2120,-999.000
  316N138_4,       P06C,     133,          1,         31,    02-9539,2,19920620,       2300,   -32.5020,  -154.8342,       4992,   257.7,  12.7626,  34.9691,2,  34.9620,2,    211.5,2,   204.2,2,    2.02,2,    9.25,2,    0.00,2,    0.73,2,-999.000,5,-999.000,5,  2098.5,2,  -999.0,9,-999.000,9,-999.0000,9, -999.00,9,    1.06,2,    88.0,2,     3.0,-999.000,9,-999.000,     -999.0,-999.0000,-999.000,    12.7275,-999.000
  316N138_4,       P06C,     133,          1,         30,    02-9456,2,19920620,       2300,   -32.5020,  -154.8342,       4992,   307.3,  11.2126,  34.8113,2,  34.8206,2,    204.8,2,   201.9,2,    3.00,2,   13.11,2,    0.00,2,    0.95,2,-999.000,5,-999.000,5,  2112.8,2,  -999.0,9,-999.000,9,-999.0000,9, -999.00,9, -999.00,9,  -999.0,9,  -999.0,-999.000,9,-999.000,     -999.0,-999.0000,-999.000,    11.1741,-999.000
  316N138_4,       P06C,     133,          1,         29,    02-9458,2,19920620,       2300,   -32.5020,  -154.8342,       4992,   357.9,   9.8785,  34.6978,2,  34.6812,2,    208.6,2,   206.9,2,    3.96,2,   16.05,2,    0.00,2,    1.12,2,-999.000,5,-999.000,5,  2121.7,2,  -999.0,9,-999.000,9,-999.0000,9, -999.00,9,    1.06,2,    55.8,2,     2.7,-999.000,9,-999.000,     -999.0,-999.0000,-999.000,     9.8370,-999.000
  316N138_4,       P06C,     133,          1,         28,    02-9545,2,19920620,       2300,   -32.5020,  -154.8342,       4992,   408.1,   8.5778,  34.5518,2,  34.5563,2,    216.2,2,   215.5,2,    4.94,2,   18.64,2,    0.00,2,    1.28,2,-999.000,5,-999.000,5,  2128.3,2,  -999.0,9,-999.000,9,-999.0000,9, -999.00,9,    1.11,2,    28.7,2,     4.4,-999.000,9,-999.000,     -999.0,-999.0000,-999.000,     8.5345,-999.000
  316N138_4,       P06C,     133,          1,         27,    02-9453,2,19920620,       2300,   -32.5020,  -154.8342,       4992,   509.0,   7.7241,  34.4705,2,  34.4705,2,    226.6,2,   227.0,2,    5.91,2,   20.43,2,    0.00,2,    1.37,2,-999.000,5,-999.000,5,  2131.3,2,  -999.0,9,-999.000,9,-999.0000,9, -999.00,9,    1.18,2,    13.7,2,     4.2,-999.000,9,-999.000,     -999.0,-999.0000,-999.000,     7.6731,-999.000
  316N138_4,       P06C,     133,          1,         26,    02-9544,2,19920620,       2300,   -32.5020,  -154.8342,       4992,   610.4,   6.9296,  34.4003,2,  34.4017,2,    237.2,2,   234.9,2,    7.43,2,   22.23,2,    0.00,2,    1.47,2,-999.000,5,-999.000,5,  2134.8,2,  -999.0,9,-999.000,9,-999.0000,9, -999.00,9,    1.18,2,    -3.3,2,     4.1,-999.000,9,-999.000,     -999.0,-999.0000,-999.000,     6.8717,-999.000
  316N138_4,       P06C,     133,          1,         25,    02-9455,3,19920620,       2300,   -32.5020,  -154.8342,       4992,   710.3,   6.2871,  34.3554,2,  34.4463,4,    240.2,2,   233.9,2,    8.83,4,   21.80,4,    0.00,4,    1.46,4,-999.000,5,-999.000,5,  2130.8,2,  -999.0,9,-999.000,9,-999.0000,9, -999.00,9, -999.00,9,  -999.0,9,  -999.0,-999.000,9,-999.000,     -999.0,-999.0000,-999.000,     6.2226,-999.000
  316N138_4,       P06C,     133,          1,         24,        132,3,19920620,       2300,   -32.5020,  -154.8342,       4992,   811.6,   5.8178,  34.3271,2,  34.9567,4,    234.1,2,   227.6,2,    3.81,4,    9.62,4,    0.01,4,    0.72,4,-999.000,5,-999.000,5,  2083.9,3,  -999.0,9,-999.000,9,-999.0000,9, -999.00,9, -999.00,9,  -999.0,9,  -999.0,-999.000,9,-999.000,     -999.0,-999.0000,-999.000,     5.7464,-999.000
  316N138_4,       P06C,     133,          1,         23,        123,2,19920620,       2300,   -32.5020,  -154.8342,       4992,   911.6,   5.2810,  34.3183,2,  34.3187,2,    222.0,2,   216.4,2,   19.12,2,   28.04,2,    0.00,2,    1.84,2,-999.000,5,-999.000,5,  2165.1,2,  -999.0,9,-999.000,9,-999.0000,9, -999.00,9,    1.14,2,   -72.6,2,     3.2,-999.000,9,-999.000,     -999.0,-999.0000,-999.000,     5.2040,-999.000
  316N138_4,       P06C,     133,          1,         22,        128,2,19920620,       2300,   -32.5020,  -154.8342,       4992,  1012.7,   4.6592,  34.3204,2,  34.3278,2,    208.6,3,   203.0,2,   27.61,2,   30.30,2,    0.00,2,    1.98,2,-999.000,5,-999.000,5,  2184.4,2,  -999.0,9,-999.000,9,-999.0000,9, -999.00,9,    1.00,2,   -92.2,2,     3.1,-999.000,9,-999.000,     -999.0,-999.0000,-999.000,     4.5776,-999.000
  316N138_4,       P06C,     133,          1,         21,        121,2,19920620,       2300,   -32.5020,  -154.8342,       4992,  1162.2,   3.8658,  34.3717,2,  34.3696,2,    191.8,2,   187.8,2,   42.36,2,   32.70,2,    0.00,2,    2.17,2,-999.000,5,-999.000,5,  2209.7,2,  -999.0,9,-999.000,9,-999.0000,9, -999.00,9,    0.82,2,  -118.3,2,     3.0,-999.000,9,-999.000,     -999.0,-999.0000,-999.000,     3.7779,-999.000
  316N138_4,       P06C,     133,          1,         20,        120,2,19920620,       2300,   -32.5020,  -154.8342,       4992,  1315.6,   3.3331,  34.4260,2,  34.4281,2,    177.7,2,   178.0,2,   55.58,2,   33.98,2,    0.00,2,    2.29,2,-999.000,5,-999.000,5,  2230.0,2,  -999.0,9,-999.000,9,-999.0000,9, -999.00,9,    0.65,2,  -126.1,2,     3.0,-999.000,9,-999.000,     -999.0,-999.0000,-999.000,     3.2373,-999.000
  316N138_4,       P06C,     133,          1,         19,        133,2,19920620,       2300,   -32.5020,  -154.8342,       4992,  1466.7,   2.8775,  34.5083,2,  34.5119,2,    167.2,2,   166.6,2,   72.70,2,   34.73,2,    0.00,2,    2.35,2,-999.000,5,-999.000,5,  2252.6,2,  -999.0,9,-999.000,9,-999.0000,9, -999.00,9,    0.35,2,  -165.8,2,     3.0,-999.000,9,-999.000,     -999.0,-999.0000,-999.000,     2.7739,-999.000
  316N138_4,       P06C,     133,          1,         18,        118,2,19920620,       2300,   -32.5020,  -154.8342,       4992,  1617.3,   2.6158,  34.5689,2,  34.5688,2,    159.9,2,   159.1,2,   87.30,2,   34.96,2,    0.00,2,    2.40,2,-999.000,5,-999.000,5,  2270.3,6,  -999.0,9,-999.000,9,-999.0000,9, -999.00,9,    0.24,2,  -173.3,2,     3.0,-999.000,9,-999.000,     -999.0,-999.0000,-999.000,     2.5028,-999.000
  316N138_4,       P06C,     133,          1,         17,        117,2,19920620,       2300,   -32.5020,  -154.8342,       4992,  1821.2,   2.3488,  34.6146,2,  34.6140,2,    152.6,2,   152.5,2,  103.58,2,   35.33,2,    0.00,2,    2.46,2,-999.000,5,-999.000,5,  2290.3,2,  -999.0,9,-999.000,9,-999.0000,9, -999.00,9, -999.00,9,  -197.9,2,     2.8,-999.000,9,-999.000,     -999.0,-999.0000,-999.000,     2.2224,-999.000
  316N138_4,       P06C,     133,          1,         16,        116,2,19920620,       2300,   -32.5020,  -154.8342,       4992,  2023.4,   2.1823,  34.6350,2,  34.6339,2,    149.6,2,   150.2,2,  112.48,2,   35.62,2,    0.00,2,    2.50,2,-999.000,5,-999.000,5,  2300.3,2,  -999.0,9,-999.000,9,-999.0000,9, -999.00,9,    0.10,2,  -195.1,2,     2.9,-999.000,9,-999.000,     -999.0,-999.0000,-999.000,     2.0411,-999.000
  316N138_4,       P06C,     133,          1,         15,        115,2,19920620,       2300,   -32.5020,  -154.8342,       4992,  2227.6,   2.0527,  34.6459,2,  34.6460,2,    147.2,2,   147.0,2,  120.41,2,   35.94,2,    0.00,2,    2.54,2,-999.000,5,-999.000,5,  2309.1,2,  -999.0,9,-999.000,9,-999.0000,9, -999.00,9,    0.07,2,  -206.9,2,     2.8,-999.000,9,-999.000,     -999.0,-999.0000,-999.000,     1.8959,-999.000
  316N138_4,       P06C,     133,          1,         14,        114,2,19920620,       2300,   -32.5020,  -154.8342,       4992,  2431.3,   1.9574,  34.6545,2,  34.6541,2,    146.7,2,   147.1,2,  124.86,2,   35.98,2,    0.00,2,    2.53,2,-999.000,5,-999.000,5,  2313.5,2,  -999.0,9,-999.000,9,-999.0000,9, -999.00,9,   -0.02,2,  -211.3,2,     2.8,-999.000,9,-999.000,     -999.0,-999.0000,-999.000,     1.7841,-999.000
  316N138_4,       P06C,     133,          1,         13,        125,2,19920620,       2300,   -32.5020,  -154.8342,       4992,  2633.5,   1.8777,  34.6608,2,  34.6622,2,    147.6,2,   147.6,2,  127.49,2,   35.88,2,    0.00,2,    2.54,2,-999.000,5,-999.000,5,  2314.7,2,  -999.0,9,-999.000,9,-999.0000,9, -999.00,9, -999.00,9,  -999.0,9,  -999.0,-999.000,9,-999.000,     -999.0,-999.0000,-999.000,     1.6875,-999.000
  316N138_4,       P06C,     133,          1,         12,        112,2,19920620,       2300,   -32.5020,  -154.8342,       4992,  2838.3,   1.8064,  34.6674,2,  34.6677,2,    149.5,2,   149.8,2,  129.03,2,   35.68,2,    0.00,2,    2.53,2,-999.000,5,-999.000,5,  2315.1,2,  -999.0,9,-999.000,9,-999.0000,9, -999.00,9,    0.11,2,  -209.2,2,     2.8,-999.000,9,-999.000,     -999.0,-999.0000,-999.000,     1.5984,-999.000
  316N138_4,       P06C,     133,          1,         11,        129,2,19920620,       2300,   -32.5020,  -154.8342,       4992,  3042.8,   1.7475,  34.6741,2,  34.6745,2,    152.8,2,   153.5,2,  129.30,2,   35.50,2,    0.00,2,    2.52,2,-999.000,5,-999.000,5,  2311.4,2,  -999.0,9,-999.000,9,-999.0000,9, -999.00,9, -999.00,9,  -999.0,9,  -999.0,-999.000,9,-999.000,     -999.0,-999.0000,-999.000,     1.5211,-999.000
  316N138_4,       P06C,     133,          1,         10,        110,3,19920620,       2300,   -32.5020,  -154.8342,       4992,  3245.9,   1.6753,  34.6824,2,  34.8129,4,    159.4,2,   185.3,4,   38.97,4,   19.34,4,    0.01,4,    1.37,4,-999.000,5,-999.000,5,  2174.0,3,  -999.0,9,-999.000,9,-999.0000,9, -999.00,9, -999.00,9,  -999.0,9,  -999.0,-999.000,9,-999.000,     -999.0,-999.0000,-999.000,     1.4306,-999.000
  316N138_4,       P06C,     133,          1,          9,        126,2,19920620,       2300,   -32.5020,  -154.8342,       4992,  3449.5,   1.6032,  34.6907,2,  34.6920,2,    167.8,2,   168.0,2,  123.86,2,   34.40,2,    0.00,2,    2.41,2,-999.000,5,-999.000,5,  2296.7,2,  -999.0,9,-999.000,9,-999.0000,9, -999.00,9,    0.15,2,  -197.9,2,     2.9,-999.000,9,-999.000,     -999.0,-999.0000,-999.000,     1.3396,-999.000
  316N138_4,       P06C,     133,          1,          8,        108,2,19920620,       2300,   -32.5020,  -154.8342,       4992,  3652.9,   1.5297,  34.6992,2,  34.6999,2,    176.2,2,   176.5,2,  120.37,2,   33.63,2,    0.00,2,    2.37,2,-999.000,5,-999.000,5,  2287.9,6,  -999.0,9,-999.000,9,-999.0000,9, -999.00,9,    0.24,2,  -187.0,2,     2.5,-999.000,9,-999.000,     -999.0,-999.0000,-999.000,     1.2469,-999.000
  316N138_4,       P06C,     133,          1,          7,        107,2,19920620,       2300,   -32.5020,  -154.8342,       4992,  3858.0,   1.4556,  34.7069,2,  34.7085,2,    185.8,2,   185.1,2,  116.89,2,   33.07,2,    0.00,2,    2.31,2,-999.000,5,-999.000,5,  2277.6,2,  -999.0,9,-999.000,9,-999.0000,9, -999.00,9,    0.22,2,  -187.9,2,     2.9,-999.000,9,-999.000,     -999.0,-999.0000,-999.000,     1.1530,-999.000
  316N138_4,       P06C,     133,          1,          6,        180,2,19920620,       2300,   -32.5020,  -154.8342,       4992,  4059.2,   1.3632,  34.7094,2,  34.7101,2,    191.4,2,   191.1,2,  116.61,2,   32.77,2,    0.00,2,    2.28,2,-999.000,5,-999.000,5,  2273.5,2,  -999.0,9,-999.000,9,-999.0000,9, -999.00,9,    0.24,2,  -169.6,2,     2.8,-999.000,9,-999.000,     -999.0,-999.0000,-999.000,     1.0415,-999.000
  316N138_4,       P06C,     133,          1,          5,        131,2,19920620,       2300,   -32.5020,  -154.8342,       4992,  4261.2,   1.2624,  34.7132,2,  34.7131,2,    196.9,2,   197.7,2,  115.91,2,   32.44,2,    0.00,2,    2.27,2,-999.000,5,-999.000,5,  2266.1,2,  -999.0,9,-999.000,9,-999.0000,9, -999.00,9,    0.27,2,  -179.1,2,     2.8,-999.000,9,-999.000,     -999.0,-999.0000,-999.000,     0.9215,-999.000
  316N138_4,       P06C,     133,          1,          4,        104,2,19920620,       2300,   -32.5020,  -154.8342,       4992,  4468.3,   1.1884,  34.7115,2,  34.7115,2,    200.2,2,   198.9,2,  117.58,2,   32.38,2,    0.00,2,    2.27,2,-999.000,5,-999.000,5,  2266.9,2,  -999.0,9,-999.000,9,-999.0000,9, -999.00,9,    0.26,2,  -167.0,2,     2.2,-999.000,9,-999.000,     -999.0,-999.0000,-999.000,     0.8265,-999.000
  316N138_4,       P06C,     133,          1,          3,        130,2,19920620,       2300,   -32.5020,  -154.8342,       4992,  4675.3,   1.1573,  34.7120,2,  34.7119,2,    202.1,2,   202.1,2,  117.85,2,   32.33,2,    0.00,2,    2.25,2,-999.000,5,-999.000,5,  2266.0,2,  -999.0,9,-999.000,9,-999.0000,9, -999.00,9,    0.28,2,  -191.9,3,     4.6,-999.000,9,-999.000,     -999.0,-999.0000,-999.000,     0.7727,-999.000
  316N138_4,       P06C,     133,          1,          2,        135,2,19920620,       2300,   -32.5020,  -154.8342,       4992,  4881.0,   1.1238,  34.7116,2,  34.7119,2,    204.2,2,   204.1,2,  118.68,2,   32.24,2,    0.00,2,    2.26,2,-999.000,5,-999.000,5,  2265.1,2,  -999.0,9,-999.000,9,-999.0000,9, -999.00,9,    0.29,2,  -174.1,2,     5.1,-999.000,9,-999.000,     -999.0,-999.0000,-999.000,     0.7163,-999.000
  316N138_4,       P06C,     133,          1,          1,        134,2,19920620,       2300,   -32.5020,  -154.8342,       4992,  5092.3,   1.1393,  34.7114,2,  34.7166,4,    203.8,2,   205.0,2,  118.82,2,   32.17,2,    0.00,2,    2.25,2,-999.000,5,-999.000,5,  2264.4,6,  -999.0,9,-999.000,9,-999.0000,9, -999.00,9,    0.28,2,  -172.1,2,     3.2,-999.000,9,-999.000,     -999.0,-999.0000,-999.000,     0.7060,-999.000