BOTTLE,20211025CCHSIORKP
EXPOCODE,SECT_ID,STNNBR,CASTNO,SAMPNO,BTLNBR,BTLNBR_FLAG_W,DATE,TIME,LATITUDE,LONGITUDE,DEPTH,CTDPRS,CTDTMP,CTDSAL,CTDSAL_FLAG_W,SALNTY,SALNTY_FLAG_W,CTDOXY,CTDOXY_FLAG_W,OXYGEN,OXYGEN_FLAG_W,SILCAT,SILCAT_FLAG_W,NITRAT,NITRAT_FLAG_W,NITRIT,NITRIT_FLAG_W,PHSPHT,PHSPHT_FLAG_W,CFC-11,CFC-11_FLAG_W,CFC-12,CFC-12_FLAG_W,TCARBN,TCARBN_FLAG_W,PCO2,PCO2_FLAG_W,TRITUM,TRITUM_FLAG_W,HELIUM,HELIUM_FLAG_W,DELHE3,DELHE3_FLAG_W,DELC13,DELC13_FLAG_W,DELC14,DELC14_FLAG_W,C14ERR,NEON,NEON_FLAG_W,NEONER,PCO2TMP,HELIER,DELHER,THETA,TRITER
,,,,,,,,,,,METERS,DBAR,ITS-90,PSS-78,,PSS-78,,UMOL/KG,,UMOL/KG,,UMOL/KG,,UMOL/KG,,UMOL/KG,,UMOL/KG,,PMOL/KG,,PMOL/KG,,UMOL/KG,,UATM,,TU,,NMOL/KG,,PERCNT,,/MILLE,,/MILLE,,/MILLE,NMOL/KG,,NMOL/KG,DEG_C,NMOL/KG,PERCNT,ITS-90,TU
  316N138_4,       P06C,     114,          1,         24,        132,2,19920613,       1830,   -32.5068,  -139.3482,       4944,    22.8,  19.0323,  35.4089,2,-999.0000,9,    229.6,2,  -999.0,9, -999.00,9, -999.00,9, -999.00,9, -999.00,9,-999.000,9,-999.000,9,  -999.0,9,  -999.0,9,-999.000,9,-999.0000,9, -999.00,9, -999.00,9,  -999.0,9,  -999.0,-999.000,9,-999.000,     -999.0,-999.0000,-999.000,    19.0282,-999.000
  316N138_4,       P06C,     114,          1,         23,        123,3,19920613,       1830,   -32.5068,  -139.3482,       4944,    60.1,  19.0340,  35.4080,2,-999.0000,9,    229.8,2,   231.7,2,    0.33,2,    0.02,2,    0.00,2,    0.11,2,-999.000,9,-999.000,9,  -999.0,9,  -999.0,9,-999.000,9,-999.0000,9, -999.00,9, -999.00,9,  -999.0,9,  -999.0,-999.000,9,-999.000,     -999.0,-999.0000,-999.000,    19.0232,-999.000
  316N138_4,       P06C,     114,          1,         22,        128,2,19920613,       1830,   -32.5068,  -139.3482,       4944,   110.0,  16.6361,  35.3178,2,  35.1494,4,    239.6,2,   227.9,2,    1.23,4,    3.74,4,    0.08,4,    0.40,4,-999.000,9,-999.000,9,  -999.0,9,  -999.0,9,-999.000,9,-999.0000,9, -999.00,9, -999.00,9,  -999.0,9,  -999.0,-999.000,9,-999.000,     -999.0,-999.0000,-999.000,    16.6183,-999.000
  316N138_4,       P06C,     114,          1,         21,        121,2,19920613,       1830,   -32.5068,  -139.3482,       4944,   157.4,  15.6417,  35.2281,2,  35.3291,4,    222.6,2,   221.4,2,    0.63,2,    2.06,2,    0.02,2,    0.31,2,-999.000,9,-999.000,9,  -999.0,9,  -999.0,9,-999.000,9,-999.0000,9, -999.00,9, -999.00,9,  -999.0,9,  -999.0,-999.000,9,-999.000,     -999.0,-999.0000,-999.000,    15.6173,-999.000
  316N138_4,       P06C,     114,          1,         20,        120,2,19920613,       1830,   -32.5068,  -139.3482,       4944,   211.7,  14.4343,  35.0793,2,  35.0900,2,    218.3,2,   217.0,2,    0.94,2,    4.23,2,    0.01,2,    0.45,2,-999.000,9,-999.000,9,  -999.0,9,  -999.0,9,-999.000,9,-999.0000,9, -999.00,9, -999.00,9,  -999.0,9,  -999.0,-999.000,9,-999.000,     -999.0,-999.0000,-999.000,    14.4030,-999.000
  316N138_4,       P06C,     114,          1,         19,        133,2,19920613,       1830,   -32.5068,  -139.3482,       4944,   261.4,  13.2108,  34.9767,2,  34.9760,2,    205.1,2,   201.8,2,    1.84,2,    8.60,2,    0.00,2,    0.70,2,-999.000,9,-999.000,9,  -999.0,9,  -999.0,9,-999.000,9,-999.0000,9, -999.00,9, -999.00,9,  -999.0,9,  -999.0,-999.000,9,-999.000,     -999.0,-999.0000,-999.000,    13.1744,-999.000
  316N138_4,       P06C,     114,          1,         18,        118,2,19920613,       1830,   -32.5068,  -139.3482,       4944,   308.9,  11.2738,  34.7808,2,  34.7659,2,    208.7,2,   206.3,2,    2.43,2,   12.35,2,    0.00,2,    0.93,2,-999.000,9,-999.000,9,  -999.0,9,  -999.0,9,-999.000,9,-999.0000,9, -999.00,9, -999.00,9,  -999.0,9,  -999.0,-999.000,9,-999.000,     -999.0,-999.0000,-999.000,    11.2350,-999.000
  316N138_4,       P06C,     114,          1,         17,        117,2,19920613,       1830,   -32.5068,  -139.3482,       4944,   357.5,   9.5316,  34.5813,2,  34.5979,2,    216.4,2,   214.4,2,    3.48,2,   16.21,2,    0.00,2,    1.14,2,-999.000,9,-999.000,9,  -999.0,9,  -999.0,9,-999.000,9,-999.0000,9, -999.00,9, -999.00,9,  -999.0,9,  -999.0,-999.000,9,-999.000,     -999.0,-999.0000,-999.000,     9.4912,-999.000
  316N138_4,       P06C,     114,          1,         16,        116,2,19920613,       1830,   -32.5068,  -139.3482,       4944,   404.6,   8.3742,  34.4907,2,  34.4921,2,    227.2,2,   226.3,2,    4.22,2,   18.51,2,    0.00,2,    1.27,2,-999.000,9,-999.000,9,  -999.0,9,  -999.0,9,-999.000,9,-999.0000,9, -999.00,9, -999.00,9,  -999.0,9,  -999.0,-999.000,9,-999.000,     -999.0,-999.0000,-999.000,     8.3319,-999.000
  316N138_4,       P06C,     114,          1,         15,        115,2,19920613,       1830,   -32.5068,  -139.3482,       4944,   502.8,   7.4365,  34.4363,2,  34.4359,2,    242.8,2,   241.7,2,    5.57,2,   20.16,2,    0.00,2,    1.37,2,-999.000,9,-999.000,9,  -999.0,9,  -999.0,9,-999.000,9,-999.0000,9, -999.00,9, -999.00,9,  -999.0,9,  -999.0,-999.000,9,-999.000,     -999.0,-999.0000,-999.000,     7.3872,-999.000
  316N138_4,       P06C,     114,          1,         14,        114,2,19920613,       1830,   -32.5068,  -139.3482,       4944,   591.9,   7.0277,  34.4048,2,  34.4053,2,    244.1,2,   245.7,2,    6.61,2,   21.33,2,    0.00,2,    1.44,2,-999.000,9,-999.000,9,  -999.0,9,  -999.0,9,-999.000,9,-999.0000,9, -999.00,9, -999.00,9,  -999.0,9,  -999.0,-999.000,9,-999.000,     -999.0,-999.0000,-999.000,     6.9711,-999.000
  316N138_4,       P06C,     114,          1,         13,        125,2,19920613,       1830,   -32.5068,  -139.3482,       4944,   692.5,   6.4894,  34.3588,2,  34.3470,3,    242.7,2,   238.9,4,    9.89,4,   23.82,4,    0.00,4,    1.59,4,-999.000,9,-999.000,9,  -999.0,9,  -999.0,9,-999.000,9,-999.0000,9, -999.00,9, -999.00,9,  -999.0,9,  -999.0,-999.000,9,-999.000,     -999.0,-999.0000,-999.000,     6.4256,-999.000
  316N138_4,       P06C,     114,          1,         12,        112,2,19920613,       1830,   -32.5068,  -139.3482,       4944,   794.1,   6.0094,  34.3279,2,  34.3282,2,    235.7,2,   237.3,2,   10.93,2,   24.58,2,    0.00,2,    1.64,2,-999.000,9,-999.000,9,  -999.0,9,  -999.0,9,-999.000,9,-999.0000,9, -999.00,9, -999.00,9,  -999.0,9,  -999.0,-999.000,9,-999.000,     -999.0,-999.0000,-999.000,     5.9385,-999.000
  316N138_4,       P06C,     114,          1,         11,        129,2,19920613,       1830,   -32.5068,  -139.3482,       4944,   894.1,   5.4697,  34.3067,2,  34.3072,2,    224.4,2,   227.1,2,   15.55,2,   26.70,2,    0.00,2,    1.78,2,-999.000,9,-999.000,9,  -999.0,9,  -999.0,9,-999.000,9,-999.0000,9, -999.00,9, -999.00,9,  -999.0,9,  -999.0,-999.000,9,-999.000,     -999.0,-999.0000,-999.000,     5.3930,-999.000
  316N138_4,       P06C,     114,          1,         10,        110,2,19920613,       1830,   -32.5068,  -139.3482,       4944,   989.6,   4.9471,  34.3053,2,  34.3105,2,    213.3,2,   213.9,2,   22.70,2,   28.95,2,    0.00,2,    1.93,2,-999.000,9,-999.000,9,  -999.0,9,  -999.0,9,-999.000,9,-999.0000,9, -999.00,9, -999.00,9,  -999.0,9,  -999.0,-999.000,9,-999.000,     -999.0,-999.0000,-999.000,     4.8655,-999.000
  316N138_4,       P06C,     114,          1,          9,        126,2,19920613,       1830,   -32.5068,  -139.3482,       4944,  1084.8,   4.3316,  34.3281,2,  34.3293,2,    198.9,2,   198.3,2,   32.69,2,   31.21,2,    0.00,2,    2.08,2,-999.000,9,-999.000,9,  -999.0,9,  -999.0,9,-999.000,9,-999.0000,9, -999.00,9, -999.00,9,  -999.0,9,  -999.0,-999.000,9,-999.000,     -999.0,-999.0000,-999.000,     4.2463,-999.000
  316N138_4,       P06C,     114,          1,          8,        108,2,19920613,       1830,   -32.5068,  -139.3482,       4944,  1285.0,   3.3952,  34.4132,2,  34.4125,2,    177.8,2,   178.9,2,   53.67,2,   33.79,2,    0.00,2,    2.29,2,-999.000,9,-999.000,9,  -999.0,9,  -999.0,9,-999.000,9,-999.0000,9, -999.00,9, -999.00,9,  -999.0,9,  -999.0,-999.000,9,-999.000,     -999.0,-999.0000,-999.000,     3.3014,-999.000
  316N138_4,       P06C,     114,          1,          7,        107,2,19920613,       1830,   -32.5068,  -139.3482,       4944,  1476.0,   2.8817,  34.5013,2,  34.5021,2,    165.8,2,   166.1,2,   72.72,2,   34.69,2,   -0.01,2,    2.37,2,-999.000,9,-999.000,9,  -999.0,9,  -999.0,9,-999.000,9,-999.0000,9, -999.00,9, -999.00,9,  -999.0,9,  -999.0,-999.000,9,-999.000,     -999.0,-999.0000,-999.000,     2.7773,-999.000
  316N138_4,       P06C,     114,          1,          6,        180,2,19920613,       1830,   -32.5068,  -139.3482,       4944,  1675.0,   2.5174,  34.5714,2,  34.5708,2,    160.2,2,   160.4,2,   89.83,2,   34.92,2,    0.00,2,    2.41,2,-999.000,9,-999.000,9,  -999.0,9,  -999.0,9,-999.000,9,-999.0000,9, -999.00,9, -999.00,9,  -999.0,9,  -999.0,-999.000,9,-999.000,     -999.0,-999.0000,-999.000,     2.4009,-999.000
  316N138_4,       P06C,     114,          1,          5,        131,2,19920613,       1830,   -32.5068,  -139.3482,       4944,  1878.3,   2.2822,  34.6113,2,  34.6107,2,    156.9,2,   155.8,2,  103.22,2,   35.20,2,    0.00,2,    2.45,2,-999.000,9,-999.000,9,  -999.0,9,  -999.0,9,-999.000,9,-999.0000,9, -999.00,9, -999.00,9,  -999.0,9,  -999.0,-999.000,9,-999.000,     -999.0,-999.0000,-999.000,     2.1518,-999.000
  316N138_4,       P06C,     114,          1,          4,        104,3,19920613,       1830,   -32.5068,  -139.3482,       4944,  2077.8,   2.1133,  34.6342,2,  34.6570,4,    154.8,2,   155.9,3,  108.04,4,   34.52,4,   -0.01,4,    2.40,4,-999.000,9,-999.000,9,  -999.0,9,  -999.0,9,-999.000,9,-999.0000,9, -999.00,9, -999.00,9,  -999.0,9,  -999.0,-999.000,9,-999.000,     -999.0,-999.0000,-999.000,     1.9685,-999.000
  316N138_4,       P06C,     114,          1,          3,        130,2,19920613,       1830,   -32.5068,  -139.3482,       4944,  2276.5,   1.9674,  34.6475,2,  34.6490,2,    154.9,2,   154.1,2,  118.08,2,   35.38,2,    0.00,2,    2.50,2,  -0.001,2,   0.014,3,  -999.0,9,  -999.0,9,-999.000,9,-999.0000,9, -999.00,9, -999.00,9,  -999.0,9,  -999.0,-999.000,9,-999.000,     -999.0,-999.0000,-999.000,     1.8077,-999.000
  316N138_4,       P06C,     114,          1,          2,        135,2,19920613,       1830,   -32.5068,  -139.3482,       4944,  2472.8,   1.8614,  34.6580,2,  34.6592,2,    155.7,2,   155.2,2,  122.09,2,   35.29,2,    0.00,2,    2.49,2,-999.000,9,-999.000,9,  -999.0,9,  -999.0,9,-999.000,9,-999.0000,9, -999.00,9, -999.00,9,  -999.0,9,  -999.0,-999.000,9,-999.000,     -999.0,-999.0000,-999.000,     1.6861,-999.000
  316N138_4,       P06C,     114,          1,          1,        134,2,19920613,       1830,   -32.5068,  -139.3482,       4944,  2672.3,   1.7928,  34.6642,2,  34.6635,2,    157.8,2,   157.4,2,  123.42,2,   35.11,2,    0.00,2,    2.49,2,-999.000,9,-999.000,9,  -999.0,9,  -999.0,9,-999.000,9,-999.0000,9, -999.00,9, -999.00,9,  -999.0,9,  -999.0,-999.000,9,-999.000,     -999.0,-999.0000,-999.000,     1.6006,-999.000
  316N138_4,       P06C,     114,          1,         35,    02-9454,2,19920613,       1830,   -32.5068,  -139.3482,       4944,  2867.9,   1.7320,  34.6699,2,  34.6629,3,    160.5,2,   159.7,2,  124.91,2,   34.83,2,    0.00,2,    2.49,2,-999.000,9,-999.000,9,  -999.0,9,  -999.0,9,-999.000,9,-999.0000,9, -999.00,9, -999.00,9,  -999.0,9,  -999.0,-999.000,9,-999.000,     -999.0,-999.0000,-999.000,     1.5227,-999.000
  316N138_4,       P06C,     114,          1,         34,    02-9457,2,19920613,       1830,   -32.5068,  -139.3482,       4944,  3070.1,   1.6643,  34.6758,2,  34.6708,3,    163.5,2,   157.4,4,  124.75,2,   34.49,2,    0.00,2,    2.46,2,-999.000,9,-999.000,9,  -999.0,9,  -999.0,9,-999.000,9,-999.0000,9, -999.00,9, -999.00,9,  -999.0,9,  -999.0,-999.000,9,-999.000,     -999.0,-999.0000,-999.000,     1.4372,-999.000
  316N138_4,       P06C,     114,          1,         33,    02-5367,2,19920613,       1830,   -32.5068,  -139.3482,       4944,  3268.3,   1.6179,  34.6800,2,  34.6714,3,    166.9,2,   168.3,2,  121.74,3,   34.15,2,    0.00,2,    2.43,2,-999.000,9,-999.000,9,  -999.0,9,  -999.0,9,-999.000,9,-999.0000,9, -999.00,9, -999.00,9,  -999.0,9,  -999.0,-999.000,9,-999.000,     -999.0,-999.0000,-999.000,     1.3724,-999.000
  316N138_4,       P06C,     114,          1,         32,    02-9540,2,19920613,       1830,   -32.5068,  -139.3482,       4944,  3676.5,   1.4937,  34.6910,2,  34.6879,3,    175.0,2,   175.6,2,  123.22,2,   33.88,2,   -0.01,2,    2.40,2,-999.000,9,-999.000,9,  -999.0,9,  -999.0,9,-999.000,9,-999.0000,9, -999.00,9, -999.00,9,  -999.0,9,  -999.0,-999.000,9,-999.000,     -999.0,-999.0000,-999.000,     1.2095,-999.000
  316N138_4,       P06C,     114,          1,         31,    02-9539,2,19920613,       1830,   -32.5068,  -139.3482,       4944,  3879.4,   1.4253,  34.6961,2,  34.6926,3,    180.2,2,   180.4,2,  122.17,2,   33.51,2,   -0.01,2,    2.37,2,-999.000,9,-999.000,9,  -999.0,9,  -999.0,9,-999.000,9,-999.0000,9, -999.00,9, -999.00,9,  -999.0,9,  -999.0,-999.000,9,-999.000,     -999.0,-999.0000,-999.000,     1.1213,-999.000
  316N138_4,       P06C,     114,          1,         30,    02-9456,3,19920613,       1830,   -32.5068,  -139.3482,       4944,  4081.7,   1.3625,  34.7013,2,  34.8621,4,    185.7,2,   194.8,4,   40.10,4,   15.66,4,    0.00,4,    1.13,4,-999.000,9,-999.000,9,  -999.0,9,  -999.0,9,-999.000,9,-999.0000,9, -999.00,9, -999.00,9,  -999.0,9,  -999.0,-999.000,9,-999.000,     -999.0,-999.0000,-999.000,     1.0385,-999.000
  316N138_4,       P06C,     114,          1,         29,    02-9458,2,19920613,       1830,   -32.5068,  -139.3482,       4944,  4289.3,   1.3263,  34.7039,2,  34.6989,3,    189.6,2,   190.0,2,  119.93,2,   32.84,2,    0.00,2,    2.31,2,-999.000,9,-999.000,9,  -999.0,9,  -999.0,9,-999.000,9,-999.0000,9, -999.00,9, -999.00,9,  -999.0,9,  -999.0,-999.000,9,-999.000,     -999.0,-999.0000,-999.000,     0.9805,-999.000
  316N138_4,       P06C,     114,          1,         28,    02-9545,2,19920613,       1830,   -32.5068,  -139.3482,       4944,  4496.6,   1.3197,  34.7055,2,  34.7019,3,    192.0,2,   191.6,2,  119.48,2,   32.70,2,    0.00,2,    2.30,2,-999.000,9,-999.000,9,  -999.0,9,  -999.0,9,-999.000,9,-999.0000,9, -999.00,9, -999.00,9,  -999.0,9,  -999.0,-999.000,9,-999.000,     -999.0,-999.0000,-999.000,     0.9506,-999.000
  316N138_4,       P06C,     114,          1,         27,    02-9453,2,19920613,       1830,   -32.5068,  -139.3482,       4944,  4704.2,   1.3337,  34.7061,2,  34.7046,3,    193.1,2,   188.8,3,  119.32,2,   32.60,2,    0.00,2,    2.30,2,-999.000,9,-999.000,9,  -999.0,9,  -999.0,9,-999.000,9,-999.0000,9, -999.00,9, -999.00,9,  -999.0,9,  -999.0,-999.000,9,-999.000,     -999.0,-999.0000,-999.000,     0.9402,-999.000
  316N138_4,       P06C,     114,          1,         26,    02-9544,2,19920613,       1830,   -32.5068,  -139.3482,       4944,  4911.8,   1.3517,  34.7072,2,  34.7072,2,    194.2,2,   193.9,2,  119.35,2,   32.66,2,    0.00,2,    2.30,2,   0.004,2,   0.014,3,  -999.0,9,  -999.0,9,-999.000,9,-999.0000,9, -999.00,9, -999.00,9,  -999.0,9,  -999.0,-999.000,9,-999.000,     -999.0,-999.0000,-999.000,     0.9330,-999.000
  316N138_4,       P06C,     114,          1,         25,    02-9455,2,19920613,       1830,   -32.5068,  -139.3482,       4944,  5000.2,   1.3614,  34.7068,2,  34.7066,2,    194.0,2,   193.9,2,  119.07,2,   32.83,2,    0.00,2,    2.29,2,   0.008,6,   0.018,3,  -999.0,9,  -999.0,9,-999.000,9,-999.0000,9, -999.00,9, -999.00,9,  -999.0,9,  -999.0,-999.000,9,-999.000,     -999.0,-999.0000,-999.000,     0.9317,-999.000