BOTTLE,20211025CCHSIORKP
EXPOCODE,SECT_ID,STNNBR,CASTNO,SAMPNO,BTLNBR,BTLNBR_FLAG_W,DATE,TIME,LATITUDE,LONGITUDE,DEPTH,CTDPRS,CTDTMP,CTDSAL,CTDSAL_FLAG_W,SALNTY,SALNTY_FLAG_W,CTDOXY,CTDOXY_FLAG_W,OXYGEN,OXYGEN_FLAG_W,SILCAT,SILCAT_FLAG_W,NITRAT,NITRAT_FLAG_W,NITRIT,NITRIT_FLAG_W,PHSPHT,PHSPHT_FLAG_W,CFC-11,CFC-11_FLAG_W,CFC-12,CFC-12_FLAG_W,TCARBN,TCARBN_FLAG_W,PCO2,PCO2_FLAG_W,TRITUM,TRITUM_FLAG_W,HELIUM,HELIUM_FLAG_W,DELHE3,DELHE3_FLAG_W,DELC13,DELC13_FLAG_W,DELC14,DELC14_FLAG_W,C14ERR,NEON,NEON_FLAG_W,NEONER,PCO2TMP,HELIER,DELHER,THETA,TRITER
,,,,,,,,,,,METERS,DBAR,ITS-90,PSS-78,,PSS-78,,UMOL/KG,,UMOL/KG,,UMOL/KG,,UMOL/KG,,UMOL/KG,,UMOL/KG,,PMOL/KG,,PMOL/KG,,UMOL/KG,,UATM,,TU,,NMOL/KG,,PERCNT,,/MILLE,,/MILLE,,/MILLE,NMOL/KG,,NMOL/KG,DEG_C,NMOL/KG,PERCNT,ITS-90,TU
  316N138_4,       P06C,     158,          1,         36,    02-9121,2,19920627,       1455,   -32.5063,  -170.2402,       5744,    22.3,  16.3319,  35.4786,2,  35.4784,2,    391.4,3,   238.2,2,    0.33,2,    0.02,2,    0.01,2,    0.18,2,-999.000,5,-999.000,5,  -999.0,9,  -999.0,9,   0.621,2,   1.8010,2,   -0.74,2, -999.00,9,  -999.0,9,  -999.0,-999.000,9,-999.000,     -999.0,-999.0000,   0.150,    16.3284,   0.004
  316N138_4,       P06C,     158,          1,         35,    02-9454,2,19920627,       1455,   -32.5063,  -170.2402,       5744,    63.0,  16.3406,  35.4794,2,  35.4784,2,    242.7,2,   239.0,2,    0.32,2,    0.02,2,    0.01,2,    0.18,2,-999.000,5,-999.000,5,  -999.0,9,  -999.0,9,   0.634,2,   1.8110,2,   -0.96,2, -999.00,9,  -999.0,9,  -999.0,-999.000,9,-999.000,     -999.0,-999.0000,   0.150,    16.3305,   0.004
  316N138_4,       P06C,     158,          1,         34,    02-9457,2,19920627,       1455,   -32.5063,  -170.2402,       5744,   109.1,  16.3495,  35.4801,2,  35.4787,2,    240.9,2,   236.6,2,    0.32,2,    0.06,2,    0.01,2,    0.20,2,-999.000,5,-999.000,5,  -999.0,9,  -999.0,9,   0.625,2,   1.8170,2,   -0.57,2, -999.00,9,  -999.0,9,  -999.0,-999.000,9,-999.000,     -999.0,-999.0000,   0.150,    16.3320,   0.004
  316N138_4,       P06C,     158,          1,         33,    02-5367,2,19920627,       1455,   -32.5063,  -170.2402,       5744,   208.4,  13.2718,  35.1436,2,  35.1406,2,    216.2,2,   214.5,2,    1.70,2,    7.17,2,    0.02,2,    0.65,2,-999.000,5,-999.000,5,  -999.0,9,  -999.0,9,   0.494,2,   1.8160,2,   -0.55,2, -999.00,9,  -999.0,9,  -999.0,-999.000,9,-999.000,     -999.0,-999.0000,   0.150,    13.2427,   0.004
  316N138_4,       P06C,     158,          1,         32,    02-9540,2,19920627,       1455,   -32.5063,  -170.2402,       5744,   305.0,  11.1112,  34.8726,2,  34.8570,2,    204.7,2,   206.8,2,    3.59,2,   13.85,2,    0.01,2,    1.03,2,-999.000,5,-999.000,5,  -999.0,9,  -999.0,9,   0.382,2,   1.8440,2,   -0.04,2, -999.00,9,  -999.0,9,  -999.0,-999.000,9,-999.000,     -999.0,-999.0000,   0.150,    11.0732,   0.003
  316N138_4,       P06C,     158,          1,         31,    02-9539,2,19920627,       1455,   -32.5063,  -170.2402,       5744,   403.5,   9.1586,  34.6339,2,  34.6333,2,    211.6,2,   211.3,2,    4.62,2,   18.10,2,    0.01,2,    1.27,2,-999.000,5,-999.000,5,  -999.0,9,  -999.0,9,   0.280,2,   1.8560,2,    0.46,2, -999.00,9,  -999.0,9,  -999.0,-999.000,9,-999.000,     -999.0,-999.0000,   0.150,     9.1140,   0.003
  316N138_4,       P06C,     158,          1,         30,    02-9456,2,19920627,       1455,   -32.5063,  -170.2402,       5744,   503.6,   8.0527,  34.5156,2,  34.5148,2,    225.6,2,   224.4,2,    5.66,2,   20.51,2,    0.01,2,    1.41,2,-999.000,5,-999.000,5,  -999.0,9,  -999.0,9,   0.228,2,   1.8540,2,    0.31,2, -999.00,9,  -999.0,9,  -999.0,-999.000,9,-999.000,     -999.0,-999.0000,   0.150,     8.0008,   0.003
  316N138_4,       P06C,     158,          1,         29,    02-9458,2,19920627,       1455,   -32.5063,  -170.2402,       5744,   604.9,   7.3276,  34.4454,2,  34.4453,2,    235.5,2,   232.7,2,    6.51,2,   22.00,2,    0.01,2,    1.48,2,-999.000,5,-999.000,5,  -999.0,9,  -999.0,9,   0.210,2,   1.8490,2,    0.51,2, -999.00,9,  -999.0,9,  -999.0,-999.000,9,-999.000,     -999.0,-999.0000,   0.150,     7.2683,   0.003
  316N138_4,       P06C,     158,          1,         28,    02-9545,2,19920627,       1455,   -32.5063,  -170.2402,       5744,   706.0,   6.7877,  34.3932,2,  34.3937,2,    238.7,2,   236.7,2,    7.89,2,   23.47,2,    0.01,2,    1.57,2,-999.000,5,-999.000,5,  -999.0,9,  -999.0,9,   0.191,2,   1.8390,2,    0.59,2, -999.00,9,  -999.0,9,  -999.0,-999.000,9,-999.000,     -999.0,-999.0000,   0.150,     6.7209,   0.004
  316N138_4,       P06C,     158,          1,         27,    02-9453,2,19920627,       1455,   -32.5063,  -170.2402,       5744,   808.6,   6.2703,  34.3599,2,  34.3590,2,    231.2,2,   230.0,2,   10.99,2,   25.53,2,    0.01,2,    1.71,2,-999.000,5,-999.000,5,  -999.0,9,  -999.0,9,-999.000,9,-999.0000,9, -999.00,9, -999.00,9,  -999.0,9,  -999.0,-999.000,9,-999.000,     -999.0,-999.0000,-999.000,     6.1964,-999.000
  316N138_4,       P06C,     158,          1,         26,    02-9544,2,19920627,       1455,   -32.5063,  -170.2402,       5744,   911.1,   5.6937,  34.3414,2,  34.6382,4,    220.7,2,   218.7,2,   10.81,4,   19.94,4,    0.02,4,    1.40,4,-999.000,5,-999.000,5,  -999.0,9,  -999.0,9,-999.000,9,-999.0000,9, -999.00,9, -999.00,9,  -999.0,9,  -999.0,-999.000,9,-999.000,     -999.0,-999.0000,-999.000,     5.6139,-999.000
  316N138_4,       P06C,     158,          1,         25,    02-9455,2,19920627,       1455,   -32.5063,  -170.2402,       5744,  1105.3,   4.3468,  34.3581,2,  34.3601,2,    197.2,3,   192.6,2,   35.77,2,   32.48,2,    0.02,2,    2.19,2,-999.000,5,-999.000,5,  -999.0,9,  -999.0,9,   0.011,2,   1.8870,2,    4.28,2, -999.00,9,  -999.0,9,  -999.0,-999.000,9,-999.000,     -999.0,-999.0000,   0.150,     4.2596,   0.002
  316N138_4,       P06C,     158,          1,         24,        132,2,19920627,       1455,   -32.5063,  -170.2402,       5744,  1303.1,   3.3764,  34.4388,2,  34.4387,2,    179.6,2,   176.1,2,   57.11,2,   34.65,2,    0.07,3,    2.37,2,-999.000,5,-999.000,5,  -999.0,9,  -999.0,9,   0.002,2,   1.9060,2,    8.28,2, -999.00,9,  -999.0,9,  -999.0,-999.000,9,-999.000,     -999.0,-999.0000,   0.150,     3.2812,   0.002
  316N138_4,       P06C,     158,          1,         23,        123,2,19920627,       1455,   -32.5063,  -170.2402,       5744,  1502.0,   2.8849,  34.5243,2,  34.5248,2,    166.6,2,   164.2,2,   77.07,2,   35.24,2,    0.01,2,    2.42,2,-999.000,5,-999.000,5,  -999.0,9,  -999.0,9,  -0.003,2,   1.9300,2,   13.06,2, -999.00,9,  -999.0,9,  -999.0,-999.000,9,-999.000,     -999.0,-999.0000,   0.150,     2.7783,   0.001
  316N138_4,       P06C,     158,          1,         22,        128,2,19920627,       1455,   -32.5063,  -170.2402,       5744,  1704.1,   2.5932,  34.5823,2,  34.5826,2,    158.0,2,   156.1,2,   93.58,2,   35.28,2,    0.01,2,    2.49,2,-999.000,5,-999.000,5,  -999.0,9,  -999.0,9,  -0.001,2,   1.9510,2,   18.43,2, -999.00,9,  -999.0,9,  -999.0,-999.000,9,-999.000,     -999.0,-999.0000,   0.150,     2.4733,   0.002
  316N138_4,       P06C,     158,          1,         21,        121,2,19920627,       1455,   -32.5063,  -170.2402,       5744,  1904.1,   2.3929,  34.6129,2,  34.6138,2,    153.2,2,   151.2,2,  105.79,2,   35.46,2,    0.01,2,    2.54,2,-999.000,5,-999.000,5,  -999.0,9,  -999.0,9,  -0.001,2,   1.9660,2,   22.36,2, -999.00,9,  -999.0,9,  -999.0,-999.000,9,-999.000,     -999.0,-999.0000,   0.150,     2.2588,   0.002
  316N138_4,       P06C,     158,          1,         20,        120,2,19920627,       1455,   -32.5063,  -170.2402,       5744,  2105.6,   2.2412,  34.6302,2,  34.6305,2,    149.5,2,   148.0,2,  114.56,2,   35.60,2,    0.01,2,    2.56,2,-999.000,5,-999.000,5,  -999.0,9,  -999.0,9,   0.001,2,   1.9900,2,   25.73,2, -999.00,9,  -999.0,9,  -999.0,-999.000,9,-999.000,     -999.0,-999.0000,   0.150,     2.0920,   0.002
  316N138_4,       P06C,     158,          1,         19,        133,2,19920627,       1455,   -32.5063,  -170.2402,       5744,  2305.8,   2.1207,  34.6409,2,  34.6441,2,    148.0,2,   146.2,2,  120.05,2,   35.65,2,    0.00,2,    2.58,2,-999.000,5,-999.000,5,  -999.0,9,  -999.0,9,-999.000,9,-999.0000,9, -999.00,9, -999.00,9,  -999.0,9,  -999.0,-999.000,9,-999.000,     -999.0,-999.0000,-999.000,     1.9558,-999.000
  316N138_4,       P06C,     158,          1,         18,        118,2,19920627,       1455,   -32.5063,  -170.2402,       5744,  2508.9,   2.0199,  34.6511,2,  34.6508,2,    147.4,2,   146.0,2,  123.14,2,   35.94,2,    0.00,2,    2.56,2,-999.000,5,-999.000,5,  -999.0,9,  -999.0,9,-999.000,9,-999.0000,9, -999.00,9, -999.00,9,  -999.0,9,  -999.0,-999.000,9,-999.000,     -999.0,-999.0000,-999.000,     1.8384,-999.000
  316N138_4,       P06C,     158,          1,         17,        117,2,19920627,       1455,   -32.5063,  -170.2402,       5744,  2710.7,   1.9341,  34.6593,2,  34.6584,2,    148.1,2,   147.6,2,  126.24,2,   35.82,2,    0.01,2,    2.56,2,-999.000,5,-999.000,5,  -999.0,9,  -999.0,9,-999.000,9,-999.0000,9, -999.00,9, -999.00,9,  -999.0,9,  -999.0,-999.000,9,-999.000,     -999.0,-999.0000,-999.000,     1.7356,-999.000
  316N138_4,       P06C,     158,          1,         16,        116,2,19920627,       1455,   -32.5063,  -170.2402,       5744,  2910.9,   1.8685,  34.6665,2,  34.6665,2,    150.9,2,   150.8,2,  126.74,2,   35.76,2,    0.01,2,    2.55,2,-999.000,5,-999.000,5,  -999.0,9,  -999.0,9,-999.000,9,-999.0000,9, -999.00,9, -999.00,9,  -999.0,9,  -999.0,-999.000,9,-999.000,     -999.0,-999.0000,-999.000,     1.6522,-999.000
  316N138_4,       P06C,     158,          1,         15,        115,2,19920627,       1455,   -32.5063,  -170.2402,       5744,  3113.3,   1.7815,  34.6789,2,  34.6771,2,    157.5,2,   156.5,2,  124.32,2,   35.40,2,    0.01,2,    2.50,2,-999.000,5,-999.000,5,  -999.0,9,  -999.0,9,-999.000,9,-999.0000,9, -999.00,9, -999.00,9,  -999.0,9,  -999.0,-999.000,9,-999.000,     -999.0,-999.0000,-999.000,     1.5474,-999.000
  316N138_4,       P06C,     158,          1,         14,        114,2,19920627,       1455,   -32.5063,  -170.2402,       5744,  3314.1,   1.6905,  34.6942,2,  34.6946,2,    166.3,2,   169.3,2,  119.32,2,   34.25,2,    0.02,2,    2.44,2,-999.000,5,-999.000,5,  -999.0,9,  -999.0,9,-999.000,9,-999.0000,9, -999.00,9, -999.00,9,  -999.0,9,  -999.0,-999.000,9,-999.000,     -999.0,-999.0000,-999.000,     1.4385,-999.000
  316N138_4,       P06C,     158,          1,         13,        125,2,19920627,       1455,   -32.5063,  -170.2402,       5744,  3515.9,   1.5893,  34.7109,2,  34.7095,2,    183.2,2,   184.0,2,  111.75,2,   33.11,2,    0.02,2,    2.29,2,-999.000,5,-999.000,5,  -999.0,9,  -999.0,9,-999.000,9,-999.0000,9, -999.00,9, -999.00,9,  -999.0,9,  -999.0,-999.000,9,-999.000,     -999.0,-999.0000,-999.000,     1.3191,-999.000
  316N138_4,       P06C,     158,          1,         12,        112,2,19920627,       1455,   -32.5063,  -170.2402,       5744,  3716.8,   1.4593,  34.7193,2,  34.7174,2,    193.4,2,   192.8,2,  108.81,2,   32.71,2,    0.01,2,    2.27,2,-999.000,5,-999.000,5,  -999.0,9,  -999.0,9,-999.000,9,-999.0000,9, -999.00,9, -999.00,9,  -999.0,9,  -999.0,-999.000,9,-999.000,     -999.0,-999.0000,-999.000,     1.1716,-999.000
  316N138_4,       P06C,     158,          1,         11,        129,2,19920627,       1455,   -32.5063,  -170.2402,       5744,  3920.7,   1.3318,  34.7201,2,  34.7190,2,    199.4,2,   199.1,2,  110.18,2,   32.60,2,    0.01,2,    2.26,2,-999.000,5,-999.000,5,  -999.0,9,  -999.0,9,-999.000,9,-999.0000,9, -999.00,9, -999.00,9,  -999.0,9,  -999.0,-999.000,9,-999.000,     -999.0,-999.0000,-999.000,     1.0260,-999.000
  316N138_4,       P06C,     158,          1,         10,        110,2,19920627,       1455,   -32.5063,  -170.2402,       5744,  4125.2,   1.2109,  34.7173,2,  34.7176,2,    203.0,2,   202.3,2,  112.41,2,   32.60,2,    0.01,2,    2.26,2,-999.000,5,-999.000,5,  -999.0,9,  -999.0,9,-999.000,9,-999.0000,9, -999.00,9, -999.00,9,  -999.0,9,  -999.0,-999.000,9,-999.000,     -999.0,-999.0000,-999.000,     0.8865,-999.000
  316N138_4,       P06C,     158,          1,          9,        126,2,19920627,       1455,   -32.5063,  -170.2402,       5744,  4329.1,   1.0983,  34.7133,2,  34.7144,2,    205.8,2,   205.2,2,  116.02,2,   32.73,2,    0.01,2,    2.28,2,-999.000,5,-999.000,5,  -999.0,9,  -999.0,9,-999.000,9,-999.0000,9, -999.00,9, -999.00,9,  -999.0,9,  -999.0,-999.000,9,-999.000,     -999.0,-999.0000,-999.000,     0.7548,-999.000
  316N138_4,       P06C,     158,          1,          8,        108,2,19920627,       1455,   -32.5063,  -170.2402,       5744,  4535.0,   1.0504,  34.7105,2,  34.7105,2,    206.8,2,   205.8,2,  118.41,2,   32.82,2,    0.01,2,    2.31,2,-999.000,5,-999.000,5,  -999.0,9,  -999.0,9,-999.000,9,-999.0000,9, -999.00,9, -999.00,9,  -999.0,9,  -999.0,-999.000,9,-999.000,     -999.0,-999.0000,-999.000,     0.6853,-999.000
  316N138_4,       P06C,     158,          1,          7,        107,2,19920627,       1455,   -32.5063,  -170.2402,       5744,  4740.9,   1.0278,  34.7096,2,  34.7093,2,    207.5,2,   207.0,2,  118.92,2,   32.81,2,    0.01,2,    2.30,2,-999.000,5,-999.000,5,  -999.0,9,  -999.0,9,-999.000,9,-999.0000,9, -999.00,9, -999.00,9,  -999.0,9,  -999.0,-999.000,9,-999.000,     -999.0,-999.0000,-999.000,     0.6398,-999.000
  316N138_4,       P06C,     158,          1,          6,        180,2,19920627,       1455,   -32.5063,  -170.2402,       5744,  4946.9,   1.0293,  34.7083,2,  34.7077,2,    208.2,2,   208.2,2,  120.28,2,   32.94,2,    0.02,2,    2.29,2,-999.000,5,-999.000,5,  -999.0,9,  -999.0,9,-999.000,9,-999.0000,9, -999.00,9, -999.00,9,  -999.0,9,  -999.0,-999.000,9,-999.000,     -999.0,-999.0000,-999.000,     0.6172,-999.000
  316N138_4,       P06C,     158,          1,          5,        131,2,19920627,       1455,   -32.5063,  -170.2402,       5744,  5151.0,   1.0394,  34.7077,2,  34.7079,2,    207.8,2,   207.8,2,  120.79,2,   32.79,2,    0.01,2,    2.28,2,-999.000,5,-999.000,5,  -999.0,9,  -999.0,9,-999.000,9,-999.0000,9, -999.00,9, -999.00,9,  -999.0,9,  -999.0,-999.000,9,-999.000,     -999.0,-999.0000,-999.000,     0.6025,-999.000
  316N138_4,       P06C,     158,          1,          4,        104,2,19920627,       1455,   -32.5063,  -170.2402,       5744,  5357.7,   1.0563,  34.7075,2,  34.7076,2,    207.7,2,   207.1,2,  121.30,2,   32.64,2,    0.01,2,    2.28,2,-999.000,5,-999.000,5,  -999.0,9,  -999.0,9,-999.000,9,-999.0000,9, -999.00,9, -999.00,9,  -999.0,9,  -999.0,-999.000,9,-999.000,     -999.0,-999.0000,-999.000,     0.5936,-999.000
  316N138_4,       P06C,     158,          1,          3,        130,2,19920627,       1455,   -32.5063,  -170.2402,       5744,  5561.5,   1.0802,  34.7072,2,  34.7079,2,    207.9,2,   207.3,2,  121.81,2,   32.53,2,    0.01,2,    2.28,2,-999.000,5,-999.000,5,  -999.0,9,  -999.0,9,-999.000,9,-999.0000,9, -999.00,9, -999.00,9,  -999.0,9,  -999.0,-999.000,9,-999.000,     -999.0,-999.0000,-999.000,     0.5912,-999.000
  316N138_4,       P06C,     158,          1,          2,        135,2,19920627,       1455,   -32.5063,  -170.2402,       5744,  5767.1,   1.1064,  34.7074,2,  34.7087,2,    207.3,2,   207.3,2,  121.97,2,   32.23,2,    0.01,2,    2.29,2,-999.000,5,-999.000,5,  -999.0,9,  -999.0,9,-999.000,9,-999.0000,9, -999.00,9, -999.00,9,  -999.0,9,  -999.0,-999.000,9,-999.000,     -999.0,-999.0000,-999.000,     0.5901,-999.000
  316N138_4,       P06C,     158,          1,          1,        134,2,19920627,       1455,   -32.5063,  -170.2402,       5744,  5844.5,   1.1171,  34.7072,2,  34.7076,2,    212.5,2,   206.1,2,  121.89,2,   32.08,2,    0.00,2,    2.28,2,-999.000,5,-999.000,5,  -999.0,9,  -999.0,9,-999.000,9,-999.0000,9, -999.00,9, -999.00,9,  -999.0,9,  -999.0,-999.000,9,-999.000,     -999.0,-999.0000,-999.000,     0.5904,-999.000