BOTTLE,20211025CCHSIORKP
EXPOCODE,SECT_ID,STNNBR,CASTNO,SAMPNO,BTLNBR,BTLNBR_FLAG_W,DATE,TIME,LATITUDE,LONGITUDE,DEPTH,CTDPRS,CTDTMP,CTDSAL,CTDSAL_FLAG_W,SALNTY,SALNTY_FLAG_W,CTDOXY,CTDOXY_FLAG_W,OXYGEN,OXYGEN_FLAG_W,SILCAT,SILCAT_FLAG_W,NITRAT,NITRAT_FLAG_W,NITRIT,NITRIT_FLAG_W,PHSPHT,PHSPHT_FLAG_W,CFC-11,CFC-11_FLAG_W,CFC-12,CFC-12_FLAG_W,TCARBN,TCARBN_FLAG_W,PCO2,PCO2_FLAG_W,TRITUM,TRITUM_FLAG_W,HELIUM,HELIUM_FLAG_W,DELHE3,DELHE3_FLAG_W,DELC13,DELC13_FLAG_W,DELC14,DELC14_FLAG_W,C14ERR,NEON,NEON_FLAG_W,NEONER,PCO2TMP,HELIER,DELHER,THETA,TRITER
,,,,,,,,,,,METERS,DBAR,ITS-90,PSS-78,,PSS-78,,UMOL/KG,,UMOL/KG,,UMOL/KG,,UMOL/KG,,UMOL/KG,,UMOL/KG,,PMOL/KG,,PMOL/KG,,UMOL/KG,,UATM,,TU,,NMOL/KG,,PERCNT,,/MILLE,,/MILLE,,/MILLE,NMOL/KG,,NMOL/KG,DEG_C,NMOL/KG,PERCNT,ITS-90,TU
  316N138_4,       P06C,     155,          1,         36,    02-9121,2,19920626,       2201,   -32.5063,  -168.9928,       5372,    21.3,  16.9849,  35.4441,2,  35.4435,2,    362.3,3,   236.0,2,    0.52,2,    0.04,2,    0.00,2,    0.12,2,   2.735,2,-999.000,9,  -999.0,9,  -999.0,9,-999.000,9,-999.0000,9, -999.00,9, -999.00,9,  -999.0,9,  -999.0,-999.000,9,-999.000,     -999.0,-999.0000,-999.000,    16.9813,-999.000
  316N138_4,       P06C,     155,          1,         35,    02-9454,2,19920626,       2201,   -32.5063,  -168.9928,       5372,    60.4,  16.9925,  35.4444,2,  35.4438,2,    239.7,2,   235.4,2,    0.35,2,    0.04,2,    0.00,2,    0.14,2,   2.728,2,   1.350,2,  -999.0,9,  -999.0,9,-999.000,9,-999.0000,9, -999.00,9, -999.00,9,  -999.0,9,  -999.0,-999.000,9,-999.000,     -999.0,-999.0000,-999.000,    16.9825,-999.000
  316N138_4,       P06C,     155,          1,         34,    02-9457,2,19920626,       2201,   -32.5063,  -168.9928,       5372,   111.8,  16.8622,  35.3394,3,  35.4322,2,    220.3,2,   234.9,2,    0.19,2,    0.10,2,    0.02,2,    0.16,2,   2.743,2,   1.328,2,  -999.0,9,  -999.0,9,-999.000,9,-999.0000,9, -999.00,9, -999.00,9,  -999.0,9,  -999.0,-999.000,9,-999.000,     -999.0,-999.0000,-999.000,    16.8439,-999.000
  316N138_4,       P06C,     155,          1,         33,    02-5367,2,19920626,       2201,   -32.5063,  -168.9928,       5372,   160.3,  14.6796,  35.2902,2,  35.2848,2,    218.2,2,   220.3,2,    1.08,2,    3.39,2,    0.02,2,    0.40,2,   2.837,2,   1.336,2,  -999.0,9,  -999.0,9,-999.000,9,-999.0000,9, -999.00,9, -999.00,9,  -999.0,9,  -999.0,-999.000,9,-999.000,     -999.0,-999.0000,-999.000,    14.6557,-999.000
  316N138_4,       P06C,     155,          1,         32,    02-9540,2,19920626,       2201,   -32.5063,  -168.9928,       5372,   209.5,  13.7629,  35.1509,2,  35.1608,2,    207.6,2,   210.9,2,    1.44,2,    6.65,2,    0.01,2,    0.61,2,   2.689,2,   1.257,2,  -999.0,9,  -999.0,9,-999.000,9,-999.0000,9, -999.00,9, -999.00,9,  -999.0,9,  -999.0,-999.000,9,-999.000,     -999.0,-999.0000,-999.000,    13.7329,-999.000
  316N138_4,       P06C,     155,          1,         31,    02-9539,2,19920626,       2201,   -32.5063,  -168.9928,       5372,   312.0,  10.7689,  34.8193,2,  34.8163,2,    206.6,2,   208.6,2,    3.75,2,   14.00,2,    0.00,2,    1.04,2,   2.261,2,   1.072,2,  -999.0,9,  -999.0,9,-999.000,9,-999.0000,9, -999.00,9, -999.00,9,  -999.0,9,  -999.0,-999.000,9,-999.000,     -999.0,-999.0000,-999.000,    10.7308,-999.000
  316N138_4,       P06C,     155,          1,         30,    02-9456,2,19920626,       2201,   -32.5063,  -168.9928,       5372,   411.8,   8.8677,  34.5959,2,  34.6066,2,    214.4,2,   214.1,2,    4.81,2,   18.30,2,    0.00,2,    1.29,2,   1.659,6,   0.797,6,  -999.0,9,  -999.0,9,-999.000,9,-999.0000,9, -999.00,9, -999.00,9,  -999.0,9,  -999.0,-999.000,9,-999.000,     -999.0,-999.0000,-999.000,     8.8230,-999.000
  316N138_4,       P06C,     155,          1,         29,    02-9458,2,19920626,       2201,   -32.5063,  -168.9928,       5372,   510.8,   7.8648,  34.5005,2,  34.6732,4,    222.9,2,   223.1,2,    4.83,4,   16.78,4,    0.00,4,    1.19,4,   1.585,6,   0.773,6,  -999.0,9,  -999.0,9,-999.000,9,-999.0000,9, -999.00,9, -999.00,9,  -999.0,9,  -999.0,-999.000,9,-999.000,     -999.0,-999.0000,-999.000,     7.8129,-999.000
  316N138_4,       P06C,     155,          1,         28,    02-9545,2,19920626,       2201,   -32.5063,  -168.9928,       5372,   609.5,   7.1616,  34.4382,2,  34.4338,2,    231.8,2,   230.1,2,    7.13,2,   22.01,2,    0.00,2,    1.49,2,   0.952,2,   0.487,2,  -999.0,9,  -999.0,9,-999.000,9,-999.0000,9, -999.00,9, -999.00,9,  -999.0,9,  -999.0,-999.000,9,-999.000,     -999.0,-999.0000,-999.000,     7.1026,-999.000
  316N138_4,       P06C,     155,          1,         27,    02-9453,2,19920626,       2201,   -32.5063,  -168.9928,       5372,   707.9,   6.5805,  34.3719,2,  34.3831,2,    232.9,2,   229.9,2,    9.25,2,   23.65,2,    0.00,2,    1.60,2,   0.535,2,   0.287,2,  -999.0,9,  -999.0,9,-999.000,9,-999.0000,9, -999.00,9, -999.00,9,  -999.0,9,  -999.0,-999.000,9,-999.000,     -999.0,-999.0000,-999.000,     6.5146,-999.000
  316N138_4,       P06C,     155,          1,         26,    02-9544,2,19920626,       2201,   -32.5063,  -168.9928,       5372,   810.6,   6.0911,  34.3600,2,  34.3527,2,    229.0,2,   224.4,2,   12.60,2,   25.50,2,    0.00,2,    1.72,2,   0.304,2,   0.167,2,  -999.0,9,  -999.0,9,-999.000,9,-999.0000,9, -999.00,9, -999.00,9,  -999.0,9,  -999.0,-999.000,9,-999.000,     -999.0,-999.0000,-999.000,     6.0183,-999.000
  316N138_4,       P06C,     155,          1,         25,    02-9455,2,19920626,       2201,   -32.5063,  -168.9928,       5372,   913.3,   5.5211,  34.3428,2,  34.3423,2,    218.1,2,   213.2,2,   18.41,2,   27.61,2,    0.00,2,    1.87,2,   0.186,2,   0.103,2,  -999.0,9,  -999.0,9,-999.000,9,-999.0000,9, -999.00,9, -999.00,9,  -999.0,9,  -999.0,-999.000,9,-999.000,     -999.0,-999.0000,-999.000,     5.4422,-999.000
  316N138_4,       P06C,     155,          1,         24,        132,2,19920626,       2201,   -32.5063,  -168.9928,       5372,  1015.0,   4.9992,  34.3487,2,  34.3490,2,    205.0,2,   202.5,2,   25.97,2,   29.48,2,    0.06,3,    2.00,2,   0.095,2,   0.059,2,  -999.0,9,  -999.0,9,-999.000,9,-999.0000,9, -999.00,9, -999.00,9,  -999.0,9,  -999.0,-999.000,9,-999.000,     -999.0,-999.0000,-999.000,     4.9148,-999.000
  316N138_4,       P06C,     155,          1,         23,        123,2,19920626,       2201,   -32.5063,  -168.9928,       5372,  1112.7,   4.3719,  34.3323,3,  34.3588,2,    196.2,2,   193.9,2,   34.76,2,   31.42,2,    0.00,2,    2.14,2,   0.045,2,   0.020,2,  -999.0,9,  -999.0,9,-999.000,9,-999.0000,9, -999.00,9, -999.00,9,  -999.0,9,  -999.0,-999.000,9,-999.000,     -999.0,-999.0000,-999.000,     4.2839,-999.000
  316N138_4,       P06C,     155,          1,         22,        128,2,19920626,       2201,   -32.5063,  -168.9928,       5372,  1313.4,   3.3128,  34.4313,2,  34.4298,2,    181.0,2,   179.2,2,   55.84,2,   33.86,2,    0.00,2,    2.31,2,   0.028,2,-999.000,9,  -999.0,9,  -999.0,9,-999.000,9,-999.0000,9, -999.00,9, -999.00,9,  -999.0,9,  -999.0,-999.000,9,-999.000,     -999.0,-999.0000,-999.000,     3.2174,-999.000
  316N138_4,       P06C,     155,          1,         21,        121,2,19920626,       2201,   -32.5063,  -168.9928,       5372,  1514.5,   2.9067,  34.5179,2,  34.5182,2,    167.2,2,   165.5,2,   74.81,2,   34.65,2,    0.00,2,    2.40,2,   0.001,2,   0.009,2,  -999.0,9,  -999.0,9,-999.000,9,-999.0000,9, -999.00,9, -999.00,9,  -999.0,9,  -999.0,-999.000,9,-999.000,     -999.0,-999.0000,-999.000,     2.7989,-999.000
  316N138_4,       P06C,     155,          1,         20,        120,2,19920626,       2201,   -32.5063,  -168.9928,       5372,  1715.9,   2.5738,  34.5836,2,  34.5848,2,    158.8,2,   156.4,2,   92.71,2,   35.15,2,    0.00,2,    2.45,2,  -0.005,2,   0.003,2,  -999.0,9,  -999.0,9,-999.000,9,-999.0000,9, -999.00,9, -999.00,9,  -999.0,9,  -999.0,-999.000,9,-999.000,     -999.0,-999.0000,-999.000,     2.4532,-999.000
  316N138_4,       P06C,     155,          1,         19,        133,2,19920626,       2201,   -32.5063,  -168.9928,       5372,  1918.3,   2.3992,  34.6146,2,  34.6136,2,    152.8,2,   151.9,2,  104.65,2,   35.47,2,    0.00,2,    2.50,2,-999.000,5,-999.000,5,  -999.0,9,  -999.0,9,-999.000,9,-999.0000,9, -999.00,9, -999.00,9,  -999.0,9,  -999.0,-999.000,9,-999.000,     -999.0,-999.0000,-999.000,     2.2638,-999.000
  316N138_4,       P06C,     155,          1,         18,        118,2,19920626,       2201,   -32.5063,  -168.9928,       5372,  2119.2,   2.2333,  34.6320,2,  34.6317,2,    150.5,2,   149.2,2,  112.37,2,   35.84,2,    0.00,2,    2.53,2,-999.000,5,-999.000,5,  -999.0,9,  -999.0,9,-999.000,9,-999.0000,9, -999.00,9, -999.00,9,  -999.0,9,  -999.0,-999.000,9,-999.000,     -999.0,-999.0000,-999.000,     2.0830,-999.000
  316N138_4,       P06C,     155,          1,         17,        117,2,19920626,       2201,   -32.5063,  -168.9928,       5372,  2319.0,   2.1168,  34.6424,2,  34.6427,2,    148.3,2,   148.5,2,  118.16,2,   36.08,2,    0.01,2,    2.54,2,  -0.003,2,   0.000,2,  -999.0,9,  -999.0,9,-999.000,9,-999.0000,9, -999.00,9, -999.00,9,  -999.0,9,  -999.0,-999.000,9,-999.000,     -999.0,-999.0000,-999.000,     1.9508,-999.000
  316N138_4,       P06C,     155,          1,         16,        116,2,19920626,       2201,   -32.5063,  -168.9928,       5372,  2520.0,   2.0059,  34.6521,2,  34.6519,2,    147.5,2,   148.0,2,  123.24,2,   36.23,2,    0.01,2,    2.58,2,-999.000,5,-999.000,5,  -999.0,9,  -999.0,9,-999.000,9,-999.0000,9, -999.00,9, -999.00,9,  -999.0,9,  -999.0,-999.000,9,-999.000,     -999.0,-999.0000,-999.000,     1.8237,-999.000
  316N138_4,       P06C,     155,          1,         15,        115,2,19920626,       2201,   -32.5063,  -168.9928,       5372,  2721.9,   1.9083,  34.6599,2,  34.6610,2,    148.2,2,   149.0,2,  126.40,2,   36.15,2,    0.00,2,    2.56,2,-999.000,5,-999.000,5,  -999.0,9,  -999.0,9,-999.000,9,-999.0000,9, -999.00,9, -999.00,9,  -999.0,9,  -999.0,-999.000,9,-999.000,     -999.0,-999.0000,-999.000,     1.7093,-999.000
  316N138_4,       P06C,     155,          1,         14,        114,2,19920626,       2201,   -32.5063,  -168.9928,       5372,  2925.4,   1.8315,  34.6681,2,  34.6686,2,    150.6,2,   150.4,2,  127.80,2,   36.06,2,    0.00,2,    2.57,2,  -0.004,2,  -0.004,2,  -999.0,9,  -999.0,9,-999.000,9,-999.0000,9, -999.00,9, -999.00,9,  -999.0,9,  -999.0,-999.000,9,-999.000,     -999.0,-999.0000,-999.000,     1.6146,-999.000
  316N138_4,       P06C,     155,          1,         13,        125,2,19920626,       2201,   -32.5063,  -168.9928,       5372,  3125.4,   1.7511,  34.6787,2,  34.6800,2,    156.8,2,   156.9,2,  126.04,2,   35.46,2,    0.00,2,    2.52,2,-999.000,5,-999.000,5,  -999.0,9,  -999.0,9,-999.000,9,-999.0000,9, -999.00,9, -999.00,9,  -999.0,9,  -999.0,-999.000,9,-999.000,     -999.0,-999.0000,-999.000,     1.5165,-999.000
  316N138_4,       P06C,     155,          1,         12,        112,2,19920626,       2201,   -32.5063,  -168.9928,       5372,  3326.8,   1.6740,  34.6935,2,  34.6944,2,    167.5,2,   169.3,2,  120.43,2,   34.39,2,    0.01,2,    2.43,2,-999.000,5,-999.000,5,  -999.0,9,  -999.0,9,-999.000,9,-999.0000,9, -999.00,9, -999.00,9,  -999.0,9,  -999.0,-999.000,9,-999.000,     -999.0,-999.0000,-999.000,     1.4212,-999.000
  316N138_4,       P06C,     155,          1,         11,        129,2,19920626,       2201,   -32.5063,  -168.9928,       5372,  3526.1,   1.5945,  34.7059,2,  34.7060,2,    180.2,2,   180.0,2,  114.81,2,   33.32,2,    0.01,2,    2.35,2,   0.002,2,  -0.004,2,  -999.0,9,  -999.0,9,-999.000,9,-999.0000,9, -999.00,9, -999.00,9,  -999.0,9,  -999.0,-999.000,9,-999.000,     -999.0,-999.0000,-999.000,     1.3232,-999.000
  316N138_4,       P06C,     155,          1,         10,        110,3,19920626,       2201,   -32.5063,  -168.9928,       5372,  3724.9,   1.4668,  34.7167,2,  34.7115,3,    191.7,2,   191.1,2,  106.57,3,   31.92,2,    0.01,2,    2.26,2,-999.000,5,-999.000,5,  -999.0,9,  -999.0,9,-999.000,9,-999.0000,9, -999.00,9, -999.00,9,  -999.0,9,  -999.0,-999.000,9,-999.000,     -999.0,-999.0000,-999.000,     1.1780,-999.000
  316N138_4,       P06C,     155,          1,          9,        126,2,19920626,       2201,   -32.5063,  -168.9928,       5372,  3929.9,   1.3333,  34.7195,2,  34.7199,2,    198.7,2,   198.9,2,  111.13,2,   31.92,2,    0.00,2,    2.28,2,-999.000,5,-999.000,5,  -999.0,9,  -999.0,9,-999.000,9,-999.0000,9, -999.00,9, -999.00,9,  -999.0,9,  -999.0,-999.000,9,-999.000,     -999.0,-999.0000,-999.000,     1.0265,-999.000
  316N138_4,       P06C,     155,          1,          8,        108,3,19920626,       2201,   -32.5063,  -168.9928,       5372,  4131.2,   1.2011,  34.7175,2,  34.7168,2,    202.9,2,   202.8,2,  113.94,2,   31.79,2,    0.00,2,    2.25,2,   0.001,2,   0.000,2,  -999.0,9,  -999.0,9,-999.000,9,-999.0000,9, -999.00,9, -999.00,9,  -999.0,9,  -999.0,-999.000,9,-999.000,     -999.0,-999.0000,-999.000,     0.8762,-999.000
  316N138_4,       P06C,     155,          1,          7,        107,2,19920626,       2201,   -32.5063,  -168.9928,       5372,  4332.5,   1.0963,  34.7135,2,  34.7129,2,    205.3,2,   205.0,2,  117.09,2,   31.90,2,    0.00,2,    2.27,2,-999.000,5,-999.000,5,  -999.0,9,  -999.0,9,-999.000,9,-999.0000,9, -999.00,9, -999.00,9,  -999.0,9,  -999.0,-999.000,9,-999.000,     -999.0,-999.0000,-999.000,     0.7525,-999.000
  316N138_4,       P06C,     155,          1,          6,        180,2,19920626,       2201,   -32.5063,  -168.9928,       5372,  4533.1,   1.0399,  34.7101,2,  34.7105,2,    206.3,2,   206.9,2,  118.66,2,   31.97,2,    0.01,2,    2.27,2,-999.000,5,-999.000,5,  -999.0,9,  -999.0,9,-999.000,9,-999.0000,9, -999.00,9, -999.00,9,  -999.0,9,  -999.0,-999.000,9,-999.000,     -999.0,-999.0000,-999.000,     0.6753,-999.000
  316N138_4,       P06C,     155,          1,          5,        131,2,19920626,       2201,   -32.5063,  -168.9928,       5372,  4736.1,   1.0164,  34.7088,2,  34.7091,2,    207.2,2,   207.4,2,  119.54,2,   32.04,2,    0.01,2,    2.26,2,   0.009,2,  -0.004,2,  -999.0,9,  -999.0,9,-999.000,9,-999.0000,9, -999.00,9, -999.00,9,  -999.0,9,  -999.0,-999.000,9,-999.000,     -999.0,-999.0000,-999.000,     0.6293,-999.000
  316N138_4,       P06C,     155,          1,          4,        104,2,19920626,       2201,   -32.5063,  -168.9928,       5372,  4940.1,   1.0139,  34.7085,2,  34.7077,2,    207.6,2,   207.6,2,  120.76,2,   32.13,2,    0.00,2,    2.29,3,   0.007,2,   0.001,2,  -999.0,9,  -999.0,9,-999.000,9,-999.0000,9, -999.00,9, -999.00,9,  -999.0,9,  -999.0,-999.000,9,-999.000,     -999.0,-999.0000,-999.000,     0.6031,-999.000
  316N138_4,       P06C,     155,          1,          3,        130,2,19920626,       2201,   -32.5063,  -168.9928,       5372,  5142.7,   1.0294,  34.7071,2,  34.7074,2,    207.3,2,   213.1,4,  120.24,2,   32.16,2,    0.00,2,    2.27,2,   0.007,2,  -0.004,2,  -999.0,9,  -999.0,9,-999.000,9,-999.0000,9, -999.00,9, -999.00,9,  -999.0,9,  -999.0,-999.000,9,-999.000,     -999.0,-999.0000,-999.000,     0.5939,-999.000
  316N138_4,       P06C,     155,          1,          2,        135,2,19920626,       2201,   -32.5063,  -168.9928,       5372,  5349.7,   1.0552,  34.7080,2,  34.7085,2,    207.8,2,   208.0,2,  120.94,2,   32.19,2,    0.01,2,    2.29,2,   0.008,2,   0.005,2,  -999.0,9,  -999.0,9,-999.000,9,-999.0000,9, -999.00,9, -999.00,9,  -999.0,9,  -999.0,-999.000,9,-999.000,     -999.0,-999.0000,-999.000,     0.5935,-999.000
  316N138_4,       P06C,     155,          1,          1,        134,2,19920626,       2201,   -32.5063,  -168.9928,       5372,  5571.9,   1.0833,  34.7075,2,  34.7074,2,    205.0,2,   207.9,2,  120.76,2,   32.24,2,    0.01,2,    2.28,2,   0.009,6,   0.001,6,  -999.0,9,  -999.0,9,-999.000,9,-999.0000,9, -999.00,9, -999.00,9,  -999.0,9,  -999.0,-999.000,9,-999.000,     -999.0,-999.0000,-999.000,     0.5928,-999.000