BOTTLE,20211025CCHSIORKP
EXPOCODE,SECT_ID,STNNBR,CASTNO,SAMPNO,BTLNBR,BTLNBR_FLAG_W,DATE,TIME,LATITUDE,LONGITUDE,DEPTH,CTDPRS,CTDTMP,CTDSAL,CTDSAL_FLAG_W,SALNTY,SALNTY_FLAG_W,CTDOXY,CTDOXY_FLAG_W,OXYGEN,OXYGEN_FLAG_W,SILCAT,SILCAT_FLAG_W,NITRAT,NITRAT_FLAG_W,NITRIT,NITRIT_FLAG_W,PHSPHT,PHSPHT_FLAG_W,CFC-11,CFC-11_FLAG_W,CFC-12,CFC-12_FLAG_W,TCARBN,TCARBN_FLAG_W,PCO2,PCO2_FLAG_W,TRITUM,TRITUM_FLAG_W,HELIUM,HELIUM_FLAG_W,DELHE3,DELHE3_FLAG_W,DELC13,DELC13_FLAG_W,DELC14,DELC14_FLAG_W,C14ERR,NEON,NEON_FLAG_W,NEONER,PCO2TMP,HELIER,DELHER,THETA,TRITER
,,,,,,,,,,,METERS,DBAR,ITS-90,PSS-78,,PSS-78,,UMOL/KG,,UMOL/KG,,UMOL/KG,,UMOL/KG,,UMOL/KG,,UMOL/KG,,PMOL/KG,,PMOL/KG,,UMOL/KG,,UATM,,TU,,NMOL/KG,,PERCNT,,/MILLE,,/MILLE,,/MILLE,NMOL/KG,,NMOL/KG,DEG_C,NMOL/KG,PERCNT,ITS-90,TU
  316N138_4,       P06C,      76,          1,         36,    02-9121,2,19920602,       0233,   -32.5032,  -113.9952,       2787,    21.9,  20.1682,  35.3376,2,  35.3399,2,    249.9,3,   226.0,2,    0.27,2,    0.02,2,    0.01,2, -999.00,5,   2.250,6,   1.201,6,  -999.0,9,  -999.0,9,-999.000,9,-999.0000,9, -999.00,9, -999.00,9,  -999.0,9,  -999.0,-999.000,9,-999.000,     -999.0,-999.0000,-999.000,    20.1641,-999.000
  316N138_4,       P06C,      76,          1,         35,    02-9454,2,19920602,       0233,   -32.5032,  -113.9952,       2787,    61.7,  20.3312,  35.4289,2,  35.4332,2,    226.6,2,   225.3,2,    0.13,2,    0.03,2,    0.00,2, -999.00,5,   2.208,2,   1.165,2,  -999.0,9,  -999.0,9,-999.000,9,-999.0000,9, -999.00,9, -999.00,9,  -999.0,9,  -999.0,-999.000,9,-999.000,     -999.0,-999.0000,-999.000,    20.3197,-999.000
  316N138_4,       P06C,      76,          1,         34,    02-9457,2,19920602,       0233,   -32.5032,  -113.9952,       2787,    91.3,  19.6842,  35.3492,2,  35.3697,2,    231.6,2,   230.6,2,    0.29,2,    0.01,2,    0.01,2, -999.00,5,   2.297,2,   1.216,2,  -999.0,9,  -999.0,9,-999.000,9,-999.0000,9, -999.00,9, -999.00,9,  -999.0,9,  -999.0,-999.000,9,-999.000,     -999.0,-999.0000,-999.000,    19.6675,-999.000
  316N138_4,       P06C,      76,          1,         33,    02-5367,2,19920602,       0233,   -32.5032,  -113.9952,       2787,   121.5,  17.8966,  35.1642,2,  35.1705,2,    238.6,2,   241.1,2,    0.14,2,    0.01,2,    0.01,2, -999.00,5,   2.554,2,   1.308,2,  -999.0,9,  -999.0,9,-999.000,9,-999.0000,9, -999.00,9, -999.00,9,  -999.0,9,  -999.0,-999.000,9,-999.000,     -999.0,-999.0000,-999.000,    17.8758,-999.000
  316N138_4,       P06C,      76,          1,         32,    02-9540,2,19920602,       0233,   -32.5032,  -113.9952,       2787,   150.8,  17.3198,  35.1054,2,  35.1049,2,    236.8,2,   237.9,2,    0.15,2,    0.01,2,    0.01,2, -999.00,5,   2.561,2,   1.343,2,  -999.0,9,  -999.0,9,-999.000,9,-999.0000,9, -999.00,9, -999.00,9,  -999.0,9,  -999.0,-999.000,9,-999.000,     -999.0,-999.0000,-999.000,    17.2946,-999.000
  316N138_4,       P06C,      76,          1,         31,    02-9539,2,19920602,       0233,   -32.5032,  -113.9952,       2787,   189.4,  16.7827,  35.0502,2,  35.0520,2,    231.1,2,   232.4,2,    0.16,2,    0.09,2,    0.03,2, -999.00,5,   2.561,2,   1.332,2,  -999.0,9,  -999.0,9,-999.000,9,-999.0000,9, -999.00,9, -999.00,9,  -999.0,9,  -999.0,-999.000,9,-999.000,     -999.0,-999.0000,-999.000,    16.7517,-999.000
  316N138_4,       P06C,      76,          1,         30,    02-9456,2,19920602,       0233,   -32.5032,  -113.9952,       2787,   228.0,  16.0466,  35.0026,2,  34.9868,2,    221.4,2,   217.5,2,    0.33,2,    1.94,2,    0.09,2, -999.00,5,   2.410,2,   1.255,2,  -999.0,9,  -999.0,9,-999.000,9,-999.0000,9, -999.00,9, -999.00,9,  -999.0,9,  -999.0,-999.000,9,-999.000,     -999.0,-999.0000,-999.000,    16.0105,-999.000
  316N138_4,       P06C,      76,          1,         29,    02-9458,2,19920602,       0233,   -32.5032,  -113.9952,       2787,   271.3,  14.1571,  34.8340,2,  34.8263,2,    211.8,2,   204.8,2,    0.99,2,    6.76,2,    0.01,2, -999.00,5,   2.120,2,   1.079,2,  -999.0,9,  -999.0,9,-999.000,9,-999.0000,9, -999.00,9, -999.00,9,  -999.0,9,  -999.0,-999.000,9,-999.000,     -999.0,-999.0000,-999.000,    14.1175,-999.000
  316N138_4,       P06C,      76,          1,         28,    02-9545,2,19920602,       0233,   -32.5032,  -113.9952,       2787,   316.4,  12.6081,  34.6968,2,  34.6942,2,    210.1,2,   203.8,2,    1.64,2,    9.96,2,    0.01,2, -999.00,5,   1.964,2,   1.000,2,  -999.0,9,  -999.0,9,-999.000,9,-999.0000,9, -999.00,9, -999.00,9,  -999.0,9,  -999.0,-999.000,9,-999.000,     -999.0,-999.0000,-999.000,    12.5654,-999.000
  316N138_4,       P06C,      76,          1,         27,    02-9453,2,19920602,       0233,   -32.5032,  -113.9952,       2787,   356.7,  10.9910,  34.5686,2,  34.5622,2,    212.0,2,   206.1,2,    2.45,2,   13.83,2,    0.01,2, -999.00,5,   1.785,2,   0.898,2,  -999.0,9,  -999.0,9,-999.000,9,-999.0000,9, -999.00,9, -999.00,9,  -999.0,9,  -999.0,-999.000,9,-999.000,     -999.0,-999.0000,-999.000,    10.9469,-999.000
  316N138_4,       P06C,      76,          1,         26,    02-9544,2,19920602,       0233,   -32.5032,  -113.9952,       2787,   406.1,   9.3340,  34.4517,2,  34.4514,2,    212.9,2,   209.2,2,    3.92,2,   17.71,2,    0.00,2, -999.00,5,   1.619,2,   0.802,2,  -999.0,9,  -999.0,9,-999.000,9,-999.0000,9, -999.00,9, -999.00,9,  -999.0,9,  -999.0,-999.000,9,-999.000,     -999.0,-999.0000,-999.000,     9.2887,-999.000
  316N138_4,       P06C,      76,          1,         25,    02-9455,2,19920602,       0233,   -32.5032,  -113.9952,       2787,   456.2,   7.8361,  34.3739,2,  34.3749,2,    219.4,2,   218.3,2,    5.54,2,   21.15,2,    0.00,2, -999.00,5,   1.513,2,   0.746,2,  -999.0,9,  -999.0,9,-999.000,9,-999.0000,9, -999.00,9, -999.00,9,  -999.0,9,  -999.0,-999.000,9,-999.000,     -999.0,-999.0000,-999.000,     7.7902,-999.000
  316N138_4,       P06C,      76,          1,         24,        132,3,19920602,       0233,   -32.5032,  -113.9952,       2787,   505.6,   7.2030,  34.3576,2,  34.3594,2,    226.7,2,   226.6,2,    6.36,2,   22.21,2,    0.01,2, -999.00,5,   1.510,2,   0.757,2,  -999.0,9,  -999.0,9,-999.000,9,-999.0000,9, -999.00,9, -999.00,9,  -999.0,9,  -999.0,-999.000,9,-999.000,     -999.0,-999.0000,-999.000,     7.1543,-999.000
  316N138_4,       P06C,      76,          1,         23,        123,2,19920602,       0233,   -32.5032,  -113.9952,       2787,   554.4,   6.8276,  34.3528,2,  34.3570,2,    234.8,2,   234.7,2,    7.01,2,   22.53,2,    0.00,2, -999.00,5,   1.475,2,   0.734,2,  -999.0,9,  -999.0,9,-999.000,9,-999.0000,9, -999.00,9, -999.00,9,  -999.0,9,  -999.0,-999.000,9,-999.000,     -999.0,-999.0000,-999.000,     6.7756,-999.000
  316N138_4,       P06C,      76,          1,         22,        128,2,19920602,       0233,   -32.5032,  -113.9952,       2787,   604.3,   6.5422,  34.3417,2,  34.3415,2,    238.3,2,   238.0,2,    7.67,2,   23.20,2,    0.00,2, -999.00,5,   1.282,6,   0.650,6,  -999.0,9,  -999.0,9,-999.000,9,-999.0000,9, -999.00,9, -999.00,9,  -999.0,9,  -999.0,-999.000,9,-999.000,     -999.0,-999.0000,-999.000,     6.4866,-999.000
  316N138_4,       P06C,      76,          1,         21,        121,2,19920602,       0233,   -32.5032,  -113.9952,       2787,   653.1,   6.2487,  34.3259,2,  34.3301,2,    242.2,2,   242.1,2,    8.32,2,   23.66,2,    0.01,2, -999.00,5,-999.000,9,-999.000,9,  -999.0,9,  -999.0,9,-999.000,9,-999.0000,9, -999.00,9, -999.00,9,  -999.0,9,  -999.0,-999.000,9,-999.000,     -999.0,-999.0000,-999.000,     6.1899,-999.000
  316N138_4,       P06C,      76,          1,         20,        120,2,19920602,       0233,   -32.5032,  -113.9952,       2787,   703.8,   6.0123,  34.3096,2,  34.3119,2,    243.8,2,   243.6,2,    9.14,2,   24.12,2,    0.01,2, -999.00,5,   0.923,2,   0.485,2,  -999.0,9,  -999.0,9,-999.000,9,-999.0000,9, -999.00,9, -999.00,9,  -999.0,9,  -999.0,-999.000,9,-999.000,     -999.0,-999.0000,-999.000,     5.9500,-999.000
  316N138_4,       P06C,      76,          1,         19,        133,2,19920602,       0233,   -32.5032,  -113.9952,       2787,   753.4,   5.7447,  34.2942,2,  34.2960,2,    241.9,2,   243.0,2,   10.28,2,   24.78,2,    0.01,2, -999.00,5,-999.000,9,-999.000,9,  -999.0,9,  -999.0,9,-999.000,9,-999.0000,9, -999.00,9, -999.00,9,  -999.0,9,  -999.0,-999.000,9,-999.000,     -999.0,-999.0000,-999.000,     5.6792,-999.000
  316N138_4,       P06C,      76,          1,         18,        118,2,19920602,       0233,   -32.5032,  -113.9952,       2787,   803.7,   5.4991,  34.2801,2,  34.2805,2,    239.2,2,   240.6,2,   11.58,2,   25.66,2,    0.01,2, -999.00,5,   0.637,6,   0.346,6,  -999.0,9,  -999.0,9,-999.000,9,-999.0000,9, -999.00,9, -999.00,9,  -999.0,9,  -999.0,-999.000,9,-999.000,     -999.0,-999.0000,-999.000,     5.4305,-999.000
  316N138_4,       P06C,      76,          1,         17,        117,2,19920602,       0233,   -32.5032,  -113.9952,       2787,   880.2,   5.1259,  34.2720,2,  34.2762,2,    229.6,2,   227.1,2,   15.63,2,   27.55,2,    0.01,2, -999.00,5,-999.000,9,-999.000,9,  -999.0,9,  -999.0,9,-999.000,9,-999.0000,9, -999.00,9, -999.00,9,  -999.0,9,  -999.0,-999.000,9,-999.000,     -999.0,-999.0000,-999.000,     5.0528,-999.000
  316N138_4,       P06C,      76,          1,         16,        116,2,19920602,       0233,   -32.5032,  -113.9952,       2787,   956.7,   4.6920,  34.2798,2,  34.2809,2,    215.6,2,   210.2,2,   22.43,2,   30.06,2,    0.01,2, -999.00,5,   0.191,2,   0.112,2,  -999.0,9,  -999.0,9,-999.000,9,   1.8770,2,    1.45,2, -999.00,9,  -999.0,9,  -999.0,   8.111,2,   0.019,     -999.0,   0.0040,   0.150,     4.6151,-999.000
  316N138_4,       P06C,      76,          1,         15,        115,2,19920602,       0233,   -32.5032,  -113.9952,       2787,  1032.9,   4.3650,  34.3069,2,  34.3093,2,    196.6,2,   193.7,2,   30.03,2,   31.94,2,    0.01,2, -999.00,5,-999.000,9,-999.000,9,  -999.0,9,  -999.0,9,-999.000,9,   1.8330,2,    2.79,2, -999.00,9,  -999.0,9,  -999.0,   7.899,2,   0.018,     -999.0,   0.0040,   0.150,     4.2840,-999.000
  316N138_4,       P06C,      76,          1,         14,        114,2,19920602,       0233,   -32.5032,  -113.9952,       2787,  1160.9,   3.8432,  34.3741,2,  34.3751,2,    168.1,3,   162.0,2,   47.00,2,   35.21,2,    0.01,2, -999.00,5,   0.045,2,-999.000,5,  -999.0,9,  -999.0,9,-999.000,9,   1.8990,2,    6.09,2, -999.00,9,  -999.0,9,  -999.0,   8.145,2,   0.019,     -999.0,   0.0040,   0.150,     3.7556,-999.000
  316N138_4,       P06C,      76,          1,         13,        125,2,19920602,       0233,   -32.5032,  -113.9952,       2787,  1314.0,   3.4014,  34.4569,2,  34.4571,2,    145.8,2,   142.4,2,   65.27,2,   36.87,2,    0.00,2, -999.00,5,-999.000,9,-999.000,9,  -999.0,9,  -999.0,9,-999.000,9,   1.9330,2,   10.78,2, -999.00,9,  -999.0,9,  -999.0,   8.323,2,   0.019,     -999.0,   0.0040,   0.150,     3.3050,-999.000
  316N138_4,       P06C,      76,          1,         12,        112,2,19920602,       0233,   -32.5032,  -113.9952,       2787,  1469.0,   2.9109,  34.5129,2,  34.5168,2,    153.0,2,   152.7,2,   75.62,2,   35.90,2,    0.00,2, -999.00,5,   0.007,2,   0.011,3,  -999.0,9,  -999.0,9,-999.000,9,   1.9240,2,   13.03,2, -999.00,9,  -999.0,9,  -999.0,   8.301,2,   0.019,     -999.0,   0.0040,   0.150,     2.8068,-999.000
  316N138_4,       P06C,      76,          1,         11,        129,2,19920602,       0233,   -32.5032,  -113.9952,       2787,  1641.0,   2.5560,  34.5685,2,  34.5686,2,    157.7,2,   157.3,2,   86.28,2,   35.37,2,    0.01,2, -999.00,5,-999.000,9,-999.000,9,  -999.0,9,  -999.0,9,-999.000,9,   1.9500,2,   15.72,2, -999.00,9,  -999.0,9,  -999.0,   8.391,2,   0.019,     -999.0,   0.0040,   0.150,     2.4418,-999.000
  316N138_4,       P06C,      76,          1,         10,        110,2,19920602,       0233,   -32.5032,  -113.9952,       2787,  1782.5,   2.3276,  34.6068,2,  34.6091,2,    158.5,2,   157.9,2,   95.98,2,   35.04,2,    0.00,2, -999.00,5,   0.005,3,-999.000,5,  -999.0,9,  -999.0,9,-999.000,9,   1.9900,2,   17.06,2, -999.00,9,  -999.0,9,  -999.0,   8.434,2,   0.019,     -999.0,   0.0040,   0.150,     2.2047,-999.000
  316N138_4,       P06C,      76,          1,          9,        126,2,19920602,       0233,   -32.5032,  -113.9952,       2787,  1923.3,   2.1572,  34.6295,2,  34.6291,2,    157.1,2,   156.6,2,  105.04,2,   35.08,2,    0.01,2, -999.00,5,-999.000,9,-999.000,9,  -999.0,9,  -999.0,9,-999.000,9,   1.9670,2,   19.41,2, -999.00,9,  -999.0,9,  -999.0,   8.342,2,   0.019,     -999.0,   0.0040,   0.150,     2.0248,-999.000
  316N138_4,       P06C,      76,          1,          8,        108,2,19920602,       0233,   -32.5032,  -113.9952,       2787,  2055.9,   2.0359,  34.6416,2,  34.6423,2,    156.8,2,   156.6,2,  111.02,2,   35.19,2,    0.01,2, -999.00,5,   0.005,2,   0.001,2,  -999.0,9,  -999.0,9,-999.000,9,   1.9800,2,   19.77,2, -999.00,9,  -999.0,9,  -999.0,   8.382,2,   0.019,     -999.0,   0.0040,   0.150,     1.8941,-999.000
  316N138_4,       P06C,      76,          1,          7,        107,2,19920602,       0233,   -32.5032,  -113.9952,       2787,  2197.9,   1.9486,  34.6515,2,  34.6574,4,    157.3,2,   157.1,2,  114.90,2,   35.19,2,    0.00,2, -999.00,5,-999.000,5,   0.002,2,  -999.0,9,  -999.0,9,-999.000,9,   1.9790,2,   22.37,2, -999.00,9,  -999.0,9,  -999.0,   8.369,2,   0.019,     -999.0,   0.0040,   0.150,     1.7961,-999.000
  316N138_4,       P06C,      76,          1,          6,        136,3,19920602,       0233,   -32.5032,  -113.9952,       2787,  2339.0,   1.8639,  34.6583,2,  34.6608,2,    158.4,2,   158.6,2,  117.66,2,   35.08,2,    0.00,2, -999.00,5,-999.000,9,-999.000,9,  -999.0,9,  -999.0,9,-999.000,9,   1.9760,2,   22.83,2, -999.00,9,  -999.0,9,  -999.0,   8.336,2,   0.019,     -999.0,   0.0040,   0.150,     1.7005,-999.000
  316N138_4,       P06C,      76,          1,          5,        131,2,19920602,       0233,   -32.5032,  -113.9952,       2787,  2472.3,   1.8119,  34.6646,2,  34.6649,2,    159.8,2,   159.7,2,  119.60,2,   35.07,2,    0.00,2, -999.00,5,-999.000,9,-999.000,9,  -999.0,9,  -999.0,9,-999.000,9,   1.9760,2,   22.10,2, -999.00,9,  -999.0,9,  -999.0,   8.330,2,   0.019,     -999.0,   0.0040,   0.150,     1.6375,-999.000
  316N138_4,       P06C,      76,          1,          4,        104,2,19920602,       0233,   -32.5032,  -113.9952,       2787,  2604.1,   1.7890,  34.6677,2,  34.6673,2,    161.1,2,   160.4,2,  120.41,2,   35.01,2,    0.00,2, -999.00,5,  -0.001,2,-999.000,5,  -999.0,9,  -999.0,9,-999.000,9,   1.9740,2,   21.45,2, -999.00,9,  -999.0,9,  -999.0,   8.279,2,   0.019,     -999.0,   0.0040,   0.150,     1.6031,-999.000
  316N138_4,       P06C,      76,          1,          3,        130,2,19920602,       0233,   -32.5032,  -113.9952,       2787,  2736.8,   1.7919,  34.6686,2,  34.6694,2,    161.0,2,   160.9,2,  120.59,2,   35.01,2,    0.00,2, -999.00,5,-999.000,9,-999.000,9,  -999.0,9,  -999.0,9,-999.000,9,   1.9970,2,   21.60,2, -999.00,9,  -999.0,9,  -999.0,   8.363,2,   0.019,     -999.0,   0.0040,   0.150,     1.5937,-999.000
  316N138_4,       P06C,      76,          1,          2,        135,2,19920602,       0233,   -32.5032,  -113.9952,       2787,  2863.9,   1.7991,  34.6693,2,  34.6696,2,    160.2,2,   161.0,2,  120.59,2,   35.05,2,    0.01,2, -999.00,5,   0.004,2,   0.001,2,  -999.0,9,  -999.0,9,-999.000,9,   1.9670,2,   21.60,2, -999.00,9,  -999.0,9,  -999.0,   8.260,2,   0.019,     -999.0,   0.0040,   0.150,     1.5888,-999.000
  316N138_4,       P06C,      76,          1,          1,        134,2,19920602,       0233,   -32.5032,  -113.9952,       2787,  3007.4,   1.8125,  34.6697,2,  34.6716,2,    160.2,2,   161.3,2,  120.60,2,   35.00,2,    0.00,2, -999.00,5,   0.012,6,   0.007,6,  -999.0,9,  -999.0,9,-999.000,9,   1.9550,2,   21.02,2, -999.00,9,  -999.0,9,  -999.0,   8.253,2,   0.019,     -999.0,   0.0040,   0.150,     1.5881,-999.000