BOTTLE,20211025CCHSIORKP
EXPOCODE,SECT_ID,STNNBR,CASTNO,SAMPNO,BTLNBR,BTLNBR_FLAG_W,DATE,TIME,LATITUDE,LONGITUDE,DEPTH,CTDPRS,CTDTMP,CTDSAL,CTDSAL_FLAG_W,SALNTY,SALNTY_FLAG_W,CTDOXY,CTDOXY_FLAG_W,OXYGEN,OXYGEN_FLAG_W,SILCAT,SILCAT_FLAG_W,NITRAT,NITRAT_FLAG_W,NITRIT,NITRIT_FLAG_W,PHSPHT,PHSPHT_FLAG_W,CFC-11,CFC-11_FLAG_W,CFC-12,CFC-12_FLAG_W,TCARBN,TCARBN_FLAG_W,PCO2,PCO2_FLAG_W,TRITUM,TRITUM_FLAG_W,HELIUM,HELIUM_FLAG_W,DELHE3,DELHE3_FLAG_W,DELC13,DELC13_FLAG_W,DELC14,DELC14_FLAG_W,C14ERR,NEON,NEON_FLAG_W,NEONER,PCO2TMP,HELIER,DELHER,THETA,TRITER
,,,,,,,,,,,METERS,DBAR,ITS-90,PSS-78,,PSS-78,,UMOL/KG,,UMOL/KG,,UMOL/KG,,UMOL/KG,,UMOL/KG,,UMOL/KG,,PMOL/KG,,PMOL/KG,,UMOL/KG,,UATM,,TU,,NMOL/KG,,PERCNT,,/MILLE,,/MILLE,,/MILLE,NMOL/KG,,NMOL/KG,DEG_C,NMOL/KG,PERCNT,ITS-90,TU
  316N138_4,       P06C,     181,          1,         36,    02-9121,2,19920703,       1030,   -32.5105,  -179.5880,       2991,    19.2,  17.2859,  35.6277,2,  35.6271,2,    226.2,2,   233.6,2,    0.74,2,    1.44,2,    0.14,2, -999.00,5,   2.559,2,-999.000,9,  2046.8,6,  -999.0,9,-999.000,9,-999.0000,9, -999.00,9, -999.00,9,  -999.0,9,  -999.0,-999.000,9,-999.000,     -999.0,-999.0000,-999.000,    17.2826,-999.000
  316N138_4,       P06C,     181,          1,         35,    02-9454,2,19920703,       1030,   -32.5105,  -179.5880,       2991,    57.9,  17.2975,  35.6288,2,  35.6277,2,    227.8,2,   228.3,2,    0.74,2,    1.43,2,    0.14,2, -999.00,5,   2.554,2,   1.283,2,  2047.4,2,  -999.0,9,-999.000,9,-999.0000,9, -999.00,9, -999.00,9,  -999.0,9,  -999.0,-999.000,9,-999.000,     -999.0,-999.0000,-999.000,    17.2878,-999.000
  316N138_4,       P06C,     181,          1,         34,    02-9457,2,19920703,       1030,   -32.5105,  -179.5880,       2991,    88.9,  17.2506,  35.6188,2,  35.6167,2,    229.9,2,   226.5,2,    0.93,2,    1.70,2,    0.15,2, -999.00,5,-999.000,5,-999.000,5,  2048.6,2,  -999.0,9,-999.000,9,-999.0000,9, -999.00,9, -999.00,9,  -999.0,9,  -999.0,-999.000,9,-999.000,     -999.0,-999.0000,-999.000,    17.2357,-999.000
  316N138_4,       P06C,     181,          1,         33,    02-5367,2,19920703,       1030,   -32.5105,  -179.5880,       2991,   128.5,  16.7143,  35.5428,2,  35.5427,2,    235.2,2,   218.2,3,    1.12,2,    3.40,2,    0.13,2, -999.00,5,   2.483,2,   1.253,2,  2060.4,2,  -999.0,9,-999.000,9,-999.0000,9, -999.00,9, -999.00,9,  -999.0,9,  -999.0,-999.000,9,-999.000,     -999.0,-999.0000,-999.000,    16.6933,-999.000
  316N138_4,       P06C,     181,          1,         32,    02-9540,2,19920703,       1030,   -32.5105,  -179.5880,       2991,   167.4,  16.5653,  35.5201,2,  35.5143,2,    227.7,2,   239.0,2,    1.31,2,    3.46,2,    0.11,2, -999.00,5,-999.000,5,-999.000,5,  2063.9,2,  -999.0,9,-999.000,9,-999.0000,9, -999.00,9, -999.00,9,  -999.0,9,  -999.0,-999.000,9,-999.000,     -999.0,-999.0000,-999.000,    16.5381,-999.000
  316N138_4,       P06C,     181,          1,         31,    02-9539,2,19920703,       1030,   -32.5105,  -179.5880,       2991,   205.0,  15.4806,  35.4019,2,  35.3975,2,    213.9,2,   213.3,2,    2.07,2,    6.28,2,    0.02,2, -999.00,5,   2.426,2,   1.203,2,  2078.9,2,  -999.0,9,-999.000,9,-999.0000,9, -999.00,9, -999.00,9,  -999.0,9,  -999.0,-999.000,9,-999.000,     -999.0,-999.0000,-999.000,    15.4488,-999.000
  316N138_4,       P06C,     181,          1,         30,    02-9456,2,19920703,       1030,   -32.5105,  -179.5880,       2991,   255.3,  14.7843,  35.3401,2,  35.3336,2,    201.5,2,   206.6,2,    2.83,2,    8.00,2,    0.02,2, -999.00,5,-999.000,5,-999.000,5,  2088.7,2,  -999.0,9,-999.000,9,-999.0000,9, -999.00,9, -999.00,9,  -999.0,9,  -999.0,-999.000,9,-999.000,     -999.0,-999.0000,-999.000,    14.7458,-999.000
  316N138_4,       P06C,     181,          1,         29,    02-9458,2,19920703,       1030,   -32.5105,  -179.5880,       2991,   307.4,  13.4808,  35.1854,2,  35.1884,2,    201.5,2,   204.0,2,    3.40,2,   10.37,2,    0.02,2, -999.00,5,   2.115,2,   1.037,2,  2100.1,2,  -999.0,9,-999.000,9,-999.0000,9, -999.00,9, -999.00,9,  -999.0,9,  -999.0,-999.000,9,-999.000,     -999.0,-999.0000,-999.000,    13.4373,-999.000
  316N138_4,       P06C,     181,          1,         28,    02-9545,2,19920703,       1030,   -32.5105,  -179.5880,       2991,   356.6,  12.8917,  35.1182,2,  35.1150,2,    196.9,2,   203.7,2,    3.97,2,   11.64,2,    0.02,2, -999.00,5,-999.000,5,-999.000,5,  2106.0,6,  -999.0,9,-999.000,9,-999.0000,9, -999.00,9, -999.00,9,  -999.0,9,  -999.0,-999.000,9,-999.000,     -999.0,-999.0000,-999.000,    12.8425,-999.000
  316N138_4,       P06C,     181,          1,         27,    02-9453,2,19920703,       1030,   -32.5105,  -179.5880,       2991,   405.2,  11.6881,  34.9727,2,  34.9715,2,    200.9,2,   203.2,2,    4.74,2,   13.96,2,    0.02,2, -999.00,5,   1.843,2,   0.904,2,  2116.4,2,  -999.0,9,-999.000,9,-999.0000,9, -999.00,9, -999.00,9,  -999.0,9,  -999.0,-999.000,9,-999.000,     -999.0,-999.0000,-999.000,    11.6357,-999.000
  316N138_4,       P06C,     181,          1,         26,    02-9544,2,19920703,       1030,   -32.5105,  -179.5880,       2991,   502.1,  10.2552,  34.7958,2,  34.7964,2,    202.4,2,   202.6,2,    5.88,2,   16.83,2,    0.02,2, -999.00,5,   1.547,2,   0.771,2,  2126.6,2,  -999.0,9,-999.000,9,-999.0000,9, -999.00,9, -999.00,9,  -999.0,9,  -999.0,-999.000,9,-999.000,     -999.0,-999.0000,-999.000,    10.1954,-999.000
  316N138_4,       P06C,     181,          1,         25,    02-9455,2,19920703,       1030,   -32.5105,  -179.5880,       2991,   595.4,   8.4377,  34.5805,2,  34.5822,2,    210.3,2,   219.0,3,    7.59,2,   20.43,2,    0.01,2, -999.00,5,   1.153,2,   0.578,2,  2137.6,2,  -999.0,9,-999.000,9,-999.0000,9, -999.00,9, -999.00,9,  -999.0,9,  -999.0,-999.000,9,-999.000,     -999.0,-999.0000,-999.000,     8.3743,-999.000
  316N138_4,       P06C,     181,          1,         24,        132,2,19920703,       1030,   -32.5105,  -179.5880,       2991,   688.7,   7.5831,  34.4989,2,  34.4995,2,    213.7,2,   227.1,3,    9.87,2,   22.24,2,    0.01,2, -999.00,5,   0.855,2,   0.437,2,  2143.7,2,  -999.0,9,-999.000,9,-999.0000,9, -999.00,9, -999.00,9,  -999.0,9,  -999.0,-999.000,9,-999.000,     -999.0,-999.0000,-999.000,     7.5138,-999.000
  316N138_4,       P06C,     181,          1,         23,        123,2,19920703,       1030,   -32.5105,  -179.5880,       2991,   781.4,   6.8931,  34.4371,2,  34.4381,2,    215.0,2,   217.3,2,   12.36,2,   23.93,2,    0.00,2, -999.00,5,   0.559,2,   0.301,2,  2151.2,2,  -999.0,9,-999.000,9,-999.0000,9, -999.00,9, -999.00,9,  -999.0,9,  -999.0,-999.000,9,-999.000,     -999.0,-999.0000,-999.000,     6.8182,-999.000
  316N138_4,       P06C,     181,          1,         22,        128,2,19920703,       1030,   -32.5105,  -179.5880,       2991,   878.3,   6.4036,  34.4055,2,  34.4061,2,    213.5,2,   218.5,2,   15.22,2,   25.30,2,    0.00,2, -999.00,5,   0.409,2,   0.219,2,  2156.8,2,  -999.0,9,-999.000,9,-999.0000,9, -999.00,9, -999.00,9,  -999.0,9,  -999.0,-999.000,9,-999.000,     -999.0,-999.0000,-999.000,     6.3220,-999.000
  316N138_4,       P06C,     181,          1,         21,        121,2,19920703,       1030,   -32.5105,  -179.5880,       2991,   974.6,   5.9713,  34.3900,2,  34.3913,2,    208.3,2,   207.6,2,   19.42,2,   26.71,2,   -0.01,2, -999.00,5,   0.276,2,   0.148,2,  2167.0,2,  -999.0,9,-999.000,9,-999.0000,9, -999.00,9, -999.00,9,  -999.0,9,  -999.0,-999.000,9,-999.000,     -999.0,-999.0000,-999.000,     5.8833,-999.000
  316N138_4,       P06C,     181,          1,         20,        120,2,19920703,       1030,   -32.5105,  -179.5880,       2991,  1069.6,   5.2557,  34.3877,2,  34.3886,2,    199.7,2,   198.0,2,   28.95,2,   28.97,2,    0.00,2, -999.00,5,   0.137,2,   0.077,2,  2185.0,2,  -999.0,9,-999.000,9,-999.0000,9, -999.00,9, -999.00,9,  -999.0,9,  -999.0,-999.000,9,-999.000,     -999.0,-999.0000,-999.000,     5.1642,-999.000
  316N138_4,       P06C,     181,          1,         19,        133,2,19920703,       1030,   -32.5105,  -179.5880,       2991,  1168.6,   4.6684,  34.4000,2,  34.4010,2,    191.2,2,   190.3,2,   38.88,2,   30.74,2,    0.00,2, -999.00,5,   0.075,2,   0.031,2,  2202.7,2,  -999.0,9,-999.000,9,-999.0000,9, -999.00,9, -999.00,9,  -999.0,9,  -999.0,-999.000,9,-999.000,     -999.0,-999.0000,-999.000,     4.5727,-999.000
  316N138_4,       P06C,     181,          1,         18,        118,2,19920703,       1030,   -32.5105,  -179.5880,       2991,  1267.2,   4.1496,  34.4194,2,  34.4194,2,    184.7,3,   179.5,2,   48.23,2,   32.28,2,    0.00,2, -999.00,5,   0.022,2,   0.014,2,  2218.3,6,  -999.0,9,-999.000,9,-999.0000,9, -999.00,9, -999.00,9,  -999.0,9,  -999.0,-999.000,9,-999.000,     -999.0,-999.0000,-999.000,     4.0499,-999.000
  316N138_4,       P06C,     181,          1,         17,        117,2,19920703,       1030,   -32.5105,  -179.5880,       2991,  1368.5,   3.7514,  34.4504,2,  34.4512,2,    176.0,2,   172.4,2,   58.16,2,   33.13,2,    0.00,2, -999.00,5,-999.000,5,-999.000,5,  2235.0,2,  -999.0,9,-999.000,9,-999.0000,9, -999.00,9, -999.00,9,  -999.0,9,  -999.0,-999.000,9,-999.000,     -999.0,-999.0000,-999.000,     3.6468,-999.000
  316N138_4,       P06C,     181,          1,         16,        116,2,19920703,       1030,   -32.5105,  -179.5880,       2991,  1470.8,   3.5025,  34.4823,2,  34.4818,2,    170.7,2,   169.6,2,   66.94,2,   33.49,2,    0.00,2, -999.00,5,   0.010,2,   0.002,2,  2244.1,2,  -999.0,9,-999.000,9,-999.0000,9, -999.00,9, -999.00,9,  -999.0,9,  -999.0,-999.000,9,-999.000,     -999.0,-999.0000,-999.000,     3.3917,-999.000
  316N138_4,       P06C,     181,          1,         15,        115,3,19920703,       1030,   -32.5105,  -179.5880,       2991,  1572.9,   3.2068,  34.5203,2,  34.5201,2,    164.5,2,   167.1,2,   77.24,2,   33.84,2,    0.00,2, -999.00,5,-999.000,5,-999.000,5,  2256.5,2,  -999.0,9,-999.000,9,-999.0000,9, -999.00,9, -999.00,9,  -999.0,9,  -999.0,-999.000,9,-999.000,     -999.0,-999.0000,-999.000,     3.0906,-999.000
  316N138_4,       P06C,     181,          1,         14,        114,2,19920703,       1030,   -32.5105,  -179.5880,       2991,  1676.0,   2.8970,  34.5584,2,  34.5580,2,    160.9,2,   161.2,2,   88.12,2,   34.29,2,    0.00,2, -999.00,5,   0.003,2,  -0.002,2,  2270.6,2,  -999.0,9,-999.000,9,-999.0000,9, -999.00,9, -999.00,9,  -999.0,9,  -999.0,-999.000,9,-999.000,     -999.0,-999.0000,-999.000,     2.7755,-999.000
  316N138_4,       P06C,     181,          1,         13,        125,2,19920703,       1030,   -32.5105,  -179.5880,       2991,  1774.6,   2.7150,  34.5804,2,  34.5804,2,    158.5,2,   158.4,2,   94.41,2,   34.52,2,    0.00,2, -999.00,5,-999.000,5,-999.000,5,  2278.2,2,  -999.0,9,-999.000,9,-999.0000,9, -999.00,9, -999.00,9,  -999.0,9,  -999.0,-999.000,9,-999.000,     -999.0,-999.0000,-999.000,     2.5876,-999.000
  316N138_4,       P06C,     181,          1,         12,        112,2,19920703,       1030,   -32.5105,  -179.5880,       2991,  1875.1,   2.6146,  34.5934,2,  34.5936,2,    157.2,2,   157.2,2,   98.62,2,   34.65,2,   -0.01,2, -999.00,5,   0.001,2,  -0.001,2,  2281.9,2,  -999.0,9,-999.000,9,-999.0000,9, -999.00,9, -999.00,9,  -999.0,9,  -999.0,-999.000,9,-999.000,     -999.0,-999.0000,-999.000,     2.4798,-999.000
  316N138_4,       P06C,     181,          1,         11,        129,2,19920703,       1030,   -32.5105,  -179.5880,       2991,  1976.3,   2.5011,  34.6102,2,  34.6103,2,    156.5,2,   155.8,2,  103.02,2,   34.87,2,    0.00,2, -999.00,5,-999.000,5,-999.000,5,  2286.6,2,  -999.0,9,-999.000,9,-999.0000,9, -999.00,9, -999.00,9,  -999.0,9,  -999.0,-999.000,9,-999.000,     -999.0,-999.0000,-999.000,     2.3592,-999.000
  316N138_4,       P06C,     181,          1,         10,        110,2,19920703,       1030,   -32.5105,  -179.5880,       2991,  2077.3,   2.4060,  34.6204,2,  34.6201,2,    155.9,2,   154.8,2,  106.26,2,   35.04,2,    0.00,2, -999.00,5,  -0.002,2,  -0.003,2,  2291.5,2,  -999.0,9,-999.000,9,-999.0000,9, -999.00,9, -999.00,9,  -999.0,9,  -999.0,-999.000,9,-999.000,     -999.0,-999.0000,-999.000,     2.2567,-999.000
  316N138_4,       P06C,     181,          1,          9,        126,2,19920703,       1030,   -32.5105,  -179.5880,       2991,  2180.7,   2.3317,  34.6294,2,  34.6295,2,    155.1,2,   155.1,2,  108.93,2,   35.17,2,    0.00,2, -999.00,5,-999.000,5,-999.000,5,  2294.2,2,  -999.0,9,-999.000,9,-999.0000,9, -999.00,9, -999.00,9,  -999.0,9,  -999.0,-999.000,9,-999.000,     -999.0,-999.0000,-999.000,     2.1745,-999.000
  316N138_4,       P06C,     181,          1,          8,        108,2,19920703,       1030,   -32.5105,  -179.5880,       2991,  2283.8,   2.2384,  34.6403,2,  34.6399,2,    155.0,2,   155.5,2,  112.00,2,   35.26,2,    0.00,2, -999.00,5,  -0.001,2,  -0.003,2,  2297.7,2,  -999.0,9,-999.000,9,-999.0000,9, -999.00,9, -999.00,9,  -999.0,9,  -999.0,-999.000,9,-999.000,     -999.0,-999.0000,-999.000,     2.0734,-999.000
  316N138_4,       P06C,     181,          1,          7,        107,2,19920703,       1030,   -32.5105,  -179.5880,       2991,  2386.1,   2.1968,  34.6451,2,  34.6451,2,    155.1,2,   155.1,2,  113.72,2,   35.28,2,    0.00,2, -999.00,5,-999.000,5,-999.000,5,  2299.9,2,  -999.0,9,-999.000,9,-999.0000,9, -999.00,9, -999.00,9,  -999.0,9,  -999.0,-999.000,9,-999.000,     -999.0,-999.0000,-999.000,     2.0233,-999.000
  316N138_4,       P06C,     181,          1,          6,        180,2,19920703,       1030,   -32.5105,  -179.5880,       2991,  2487.5,   2.1807,  34.6472,2,  34.6470,2,    155.2,2,   154.6,2,  114.29,2,   35.32,2,    0.00,2, -999.00,5,  -0.001,2,  -0.005,2,  2301.1,2,  -999.0,9,-999.000,9,-999.0000,9, -999.00,9, -999.00,9,  -999.0,9,  -999.0,-999.000,9,-999.000,     -999.0,-999.0000,-999.000,     1.9982,-999.000
  316N138_4,       P06C,     181,          1,          5,        131,2,19920703,       1030,   -32.5105,  -179.5880,       2991,  2590.3,   2.1739,  34.6493,2,  34.6496,2,    155.4,2,   153.7,2,  114.87,2,   35.31,2,    0.01,2, -999.00,5,-999.000,5,-999.000,5,  2301.5,2,  -999.0,9,-999.000,9,-999.0000,9, -999.00,9, -999.00,9,  -999.0,9,  -999.0,-999.000,9,-999.000,     -999.0,-999.0000,-999.000,     1.9820,-999.000
  316N138_4,       P06C,     181,          1,          4,        104,2,19920703,       1030,   -32.5105,  -179.5880,       2991,  2695.0,   2.1709,  34.6502,2,  34.6523,2,    155.5,2,   153.1,2,  115.44,2,   35.31,2,    0.00,2, -999.00,5,  -0.003,2,  -0.005,2,  2302.1,2,  -999.0,9,-999.000,9,-999.0000,9, -999.00,9, -999.00,9,  -999.0,9,  -999.0,-999.000,9,-999.000,     -999.0,-999.0000,-999.000,     1.9691,-999.000
  316N138_4,       P06C,     181,          1,          3,        130,2,19920703,       1030,   -32.5105,  -179.5880,       2991,  2798.3,   2.1673,  34.6515,2,  34.6515,2,    155.7,2,   154.3,2,  116.03,2,   35.27,2,    0.00,2, -999.00,5,-999.000,5,-999.000,5,  2302.2,2,  -999.0,9,-999.000,9,-999.0000,9, -999.00,9, -999.00,9,  -999.0,9,  -999.0,-999.000,9,-999.000,     -999.0,-999.0000,-999.000,     1.9557,-999.000
  316N138_4,       P06C,     181,          1,          2,        135,2,19920703,       1030,   -32.5105,  -179.5880,       2991,  2900.3,   2.1708,  34.6513,2,  34.6525,2,    155.8,2,   153.6,2,  116.61,2,   35.17,2,    0.00,2, -999.00,5,  -0.002,2,  -0.005,2,  2302.2,2,  -999.0,9,-999.000,9,-999.0000,9, -999.00,9, -999.00,9,  -999.0,9,  -999.0,-999.000,9,-999.000,     -999.0,-999.0000,-999.000,     1.9492,-999.000
  316N138_4,       P06C,     181,          1,          1,        134,2,19920703,       1030,   -32.5105,  -179.5880,       2991,  2987.5,   2.1769,  34.6516,2,  34.6539,2,    155.4,2,   152.5,2,  116.00,2,   35.01,2,    0.00,2, -999.00,5,  -0.004,2,  -0.002,2,  2302.9,6,  -999.0,9,-999.000,9,-999.0000,9, -999.00,9, -999.00,9,  -999.0,9,  -999.0,-999.000,9,-999.000,     -999.0,-999.0000,-999.000,     1.9466,-999.000