BOTTLE,20211025CCHSIORKP
EXPOCODE,SECT_ID,STNNBR,CASTNO,SAMPNO,BTLNBR,BTLNBR_FLAG_W,DATE,TIME,LATITUDE,LONGITUDE,DEPTH,CTDPRS,CTDTMP,CTDSAL,CTDSAL_FLAG_W,SALNTY,SALNTY_FLAG_W,CTDOXY,CTDOXY_FLAG_W,OXYGEN,OXYGEN_FLAG_W,SILCAT,SILCAT_FLAG_W,NITRAT,NITRAT_FLAG_W,NITRIT,NITRIT_FLAG_W,PHSPHT,PHSPHT_FLAG_W,CFC-11,CFC-11_FLAG_W,CFC-12,CFC-12_FLAG_W,TCARBN,TCARBN_FLAG_W,PCO2,PCO2_FLAG_W,TRITUM,TRITUM_FLAG_W,HELIUM,HELIUM_FLAG_W,DELHE3,DELHE3_FLAG_W,DELC13,DELC13_FLAG_W,DELC14,DELC14_FLAG_W,C14ERR,NEON,NEON_FLAG_W,NEONER,PCO2TMP,HELIER,DELHER,THETA,TRITER
,,,,,,,,,,,METERS,DBAR,ITS-90,PSS-78,,PSS-78,,UMOL/KG,,UMOL/KG,,UMOL/KG,,UMOL/KG,,UMOL/KG,,UMOL/KG,,PMOL/KG,,PMOL/KG,,UMOL/KG,,UATM,,TU,,NMOL/KG,,PERCNT,,/MILLE,,/MILLE,,/MILLE,NMOL/KG,,NMOL/KG,DEG_C,NMOL/KG,PERCNT,ITS-90,TU
  316N138_4,       P06C,     130,          1,         36,    02-9121,2,19920620,       0139,   -32.5080,  -152.3218,       4377,    18.2,  17.3382,  35.2234,2,  35.2233,2,    235.3,2,   235.8,2,    0.45,2,    0.06,2,   -0.01,2,    0.12,2,   2.481,2,-999.000,5,  -999.0,9,  -999.0,9,   0.665,2,   1.7790,2,   -1.63,2, -999.00,9,  -999.0,9,  -999.0,   7.300,2,   0.017,     -999.0,   0.0040,   0.150,    17.3351,   0.004
  316N138_4,       P06C,     130,          1,         35,    02-9454,2,19920620,       0139,   -32.5080,  -152.3218,       4377,    59.1,  17.3415,  35.2249,2,  35.2241,2,    234.0,2,   236.1,2,    0.45,2,    0.06,2,   -0.01,2,    0.12,2,   2.479,2,   1.381,2,  -999.0,9,  -999.0,9,   0.642,2,   1.7720,2,   -1.22,2, -999.00,9,  -999.0,9,  -999.0,   7.284,2,   0.017,     -999.0,   0.0040,   0.150,    17.3316,   0.004
  316N138_4,       P06C,     130,          1,         34,    02-9457,2,19920620,       0139,   -32.5080,  -152.3218,       4377,   108.5,  17.3344,  35.2264,2,  35.2215,2,    237.4,2,   238.3,2,    0.30,2,    0.06,2,   -0.01,2,    0.13,2,   2.485,2,   1.339,2,  -999.0,9,  -999.0,9,   0.650,2,   1.7740,2,   -1.50,2, -999.00,9,  -999.0,9,  -999.0,   7.286,2,   0.017,     -999.0,   0.0040,   0.150,    17.3162,   0.004
  316N138_4,       P06C,     130,          1,         33,    02-5367,2,19920620,       0139,   -32.5080,  -152.3218,       4377,   157.6,  14.8284,  35.1215,2,  35.1079,2,    240.2,2,   238.2,2,    0.45,2,    0.56,2,    0.24,2,    0.25,2,   2.685,2,   1.449,2,  -999.0,9,  -999.0,9,-999.000,9,-999.0000,9, -999.00,9, -999.00,9,  -999.0,9,  -999.0,-999.000,9,-999.000,     -999.0,-999.0000,-999.000,    14.8047,-999.000
  316N138_4,       P06C,     130,          1,         32,    02-9540,2,19920620,       0139,   -32.5080,  -152.3218,       4377,   208.1,  13.5873,  34.9844,2,  34.9874,2,    220.2,2,   215.1,2,    1.16,2,    5.89,2,    0.00,2,    0.54,2,   2.470,2,   1.314,2,  -999.0,9,  -999.0,9,-999.000,9,   1.7960,2,   -0.85,2, -999.00,9,  -999.0,9,  -999.0,   7.483,2,   0.017,     -999.0,   0.0040,   0.150,    13.5578,-999.000
  316N138_4,       P06C,     130,          1,         31,    02-9539,2,19920620,       0139,   -32.5080,  -152.3218,       4377,   257.9,  12.1510,  34.8925,2,  34.9052,2,    219.7,2,   211.2,2,    2.02,2,    9.52,2,    0.00,2,    0.75,2,   2.442,2,   1.258,2,  -999.0,9,  -999.0,9,-999.000,9,-999.0000,9, -999.00,9, -999.00,9,  -999.0,9,  -999.0,-999.000,9,-999.000,     -999.0,-999.0000,-999.000,    12.1170,-999.000
  316N138_4,       P06C,     130,          1,         30,    02-9456,2,19920620,       0139,   -32.5080,  -152.3218,       4377,   308.0,  10.7664,  34.7570,2,  34.7480,2,    209.7,2,   208.2,2,    2.89,2,   13.63,2,   -0.01,2,    0.99,2,   2.086,2,   1.041,2,  -999.0,9,  -999.0,9,   0.374,2,   1.8230,2,   -0.65,2, -999.00,9,  -999.0,9,  -999.0,   7.698,2,   0.018,     -999.0,   0.0040,   0.150,    10.7288,   0.004
  316N138_4,       P06C,     130,          1,         29,    02-9458,2,19920620,       0139,   -32.5080,  -152.3218,       4377,   358.5,   9.3907,  34.6132,2,  34.6134,2,    214.7,2,   214.6,2,    3.75,2,   16.51,2,   -0.01,2,    1.14,2,   1.910,2,   0.947,2,  -999.0,9,  -999.0,9,-999.000,9,-999.0000,9, -999.00,9, -999.00,9,  -999.0,9,  -999.0,-999.000,9,-999.000,     -999.0,-999.0000,-999.000,     9.3506,-999.000
  316N138_4,       P06C,     130,          1,         28,    02-9545,2,19920620,       0139,   -32.5080,  -152.3218,       4377,   408.1,   8.5322,  34.5630,2,  34.5384,2,    221.6,2,   222.4,2,    4.46,2,   18.38,2,    0.00,2,    1.26,2,   1.805,2,   0.884,2,  -999.0,9,  -999.0,9,   0.280,2,   1.8250,2,   -0.45,2, -999.00,9,  -999.0,9,  -999.0,   7.810,2,   0.018,     -999.0,   0.0040,   0.150,     8.4890,   0.003
  316N138_4,       P06C,     130,          1,         27,    02-9453,2,19920620,       0139,   -32.5080,  -152.3218,       4377,   457.9,   7.8632,  34.4787,2,  34.4807,2,    231.5,2,   231.5,2,    5.19,2,   19.72,2,   -0.01,2,    1.32,2,   1.784,2,   0.890,2,  -999.0,9,  -999.0,9,-999.000,9,-999.0000,9, -999.00,9, -999.00,9,  -999.0,9,  -999.0,-999.000,9,-999.000,     -999.0,-999.0000,-999.000,     7.8169,-999.000
  316N138_4,       P06C,     130,          1,         26,    02-9544,2,19920620,       0139,   -32.5080,  -152.3218,       4377,   508.0,   7.5233,  34.4528,2,  34.4532,2,    236.0,2,   235.1,2,    5.75,2,   20.41,2,    0.00,2,    1.37,2,   1.690,6,   0.820,6,  -999.0,9,  -999.0,9,   0.245,2,   1.8270,2,   -0.23,2, -999.00,9,  -999.0,9,  -999.0,   7.840,2,   0.018,     -999.0,   0.0040,   0.150,     7.4731,   0.003
  316N138_4,       P06C,     130,          1,         25,    02-9455,2,19920620,       0139,   -32.5080,  -152.3218,       4377,   605.2,   6.9822,  34.4080,2,  34.4071,2,    241.0,2,   240.0,2,    6.91,2,   21.83,2,    0.00,2,    1.46,2,   1.306,2,   0.639,2,  -999.0,9,  -999.0,9,   0.204,2,   1.8180,2,    0.25,2, -999.00,9,  -999.0,9,  -999.0,   7.848,2,   0.018,     -999.0,   0.0040,   0.150,     6.9245,   0.003
  316N138_4,       P06C,     130,          1,         24,        132,2,19920620,       0139,   -32.5080,  -152.3218,       4377,   654.3,   6.7623,  34.3828,2,  34.3888,2,    242.1,2,   239.6,2,    7.77,2,   22.31,2,    0.00,2,    1.47,2,   1.095,6,   0.545,6,  -999.0,9,  -999.0,9,-999.000,9,-999.0000,9, -999.00,9, -999.00,9,  -999.0,9,  -999.0,-999.000,9,-999.000,     -999.0,-999.0000,-999.000,     6.7008,-999.000
  316N138_4,       P06C,     130,          1,         23,        123,2,19920620,       0139,   -32.5080,  -152.3218,       4377,   703.7,   6.4093,  34.3688,2,  34.3613,2,    240.4,2,   235.4,2,    9.20,2,   23.58,2,    0.00,2,    1.56,2,   0.790,2,   0.415,2,  -999.0,9,  -999.0,9,   0.146,2,   1.8350,2,    0.09,2, -999.00,9,  -999.0,9,  -999.0,   7.893,2,   0.018,     -999.0,   0.0040,   0.150,     6.3448,   0.002
  316N138_4,       P06C,     130,          1,         22,        128,2,19920620,       0139,   -32.5080,  -152.3218,       4377,   804.7,   5.8571,  34.3277,2,  34.3290,2,    235.1,2,   231.4,2,   12.79,2,   25.61,2,    0.00,2,    1.70,2,   0.516,2,   0.270,2,  -999.0,9,  -999.0,9,   0.087,2,   1.8350,2,    0.45,2, -999.00,9,  -999.0,9,  -999.0,   7.931,2,   0.018,     -999.0,   0.0040,   0.150,     5.7861,   0.002
  316N138_4,       P06C,     130,          1,         21,        121,2,19920620,       0139,   -32.5080,  -152.3218,       4377,   804.8,   5.8571,  34.3277,2,  34.3290,2,    235.1,2,   229.8,2,   12.79,2,   25.61,2,    0.00,2,    1.70,2,   0.485,2,   0.258,2,  -999.0,9,  -999.0,9,   0.097,2,   1.8460,2,    0.30,2, -999.00,9,  -999.0,9,  -999.0,   7.966,2,   0.018,     -999.0,   0.0040,   0.150,     5.7861,   0.002
  316N138_4,       P06C,     130,          1,         20,        120,2,19920620,       0139,   -32.5080,  -152.3218,       4377,  1005.3,   4.6582,  34.3287,2,  34.3290,2,    206.7,2,   203.0,2,   28.11,2,   30.29,2,    0.00,2,    2.01,2,   0.166,2,   0.081,2,  -999.0,9,  -999.0,9,   0.027,2,   1.8640,2,    2.26,2, -999.00,9,  -999.0,9,  -999.0,   8.070,2,   0.018,     -999.0,   0.0040,   0.150,     4.5773,   0.002
  316N138_4,       P06C,     130,          1,         19,        133,2,19920620,       0139,   -32.5080,  -152.3218,       4377,  1102.1,   4.1514,  34.3516,2,  34.3488,2,    196.0,2,   193.8,2,   36.43,2,   31.81,2,    0.00,2,    2.11,2,   0.065,6,   0.042,6,  -999.0,9,  -999.0,9,-999.000,9,-999.0000,9, -999.00,9, -999.00,9,  -999.0,9,  -999.0,-999.000,9,-999.000,     -999.0,-999.0000,-999.000,     4.0661,-999.000
  316N138_4,       P06C,     130,          1,         18,        118,2,19920620,       0139,   -32.5080,  -152.3218,       4377,  1198.8,   3.7126,  34.3787,2,  34.3782,2,    185.5,2,   186.5,2,   45.02,2,   32.94,2,    0.00,2,    2.21,2,   0.037,2,   0.036,3,  -999.0,9,  -999.0,9,   0.014,2,   1.8800,2,    4.82,2, -999.00,9,  -999.0,9,  -999.0,   8.170,2,   0.019,     -999.0,   0.0040,   0.150,     3.6230,   0.002
  316N138_4,       P06C,     130,          1,         17,        117,2,19920620,       0139,   -32.5080,  -152.3218,       4377,  1297.5,   3.3433,  34.4209,2,  34.4206,2,    177.9,2,   178.5,2,   54.47,2,   33.70,2,    0.00,2,    2.29,2,   0.011,2,   0.010,2,  -999.0,9,  -999.0,9,-999.000,9,-999.0000,9, -999.00,9, -999.00,9,  -999.0,9,  -999.0,-999.000,9,-999.000,     -999.0,-999.0000,-999.000,     3.2489,-999.000
  316N138_4,       P06C,     130,          1,         16,        116,2,19920620,       0139,   -32.5080,  -152.3218,       4377,  1397.1,   3.0215,  34.4762,2,  34.4754,2,    170.4,2,   170.9,2,   65.36,2,   34.31,2,    0.00,2,    2.31,2,   0.003,2,-999.000,5,  -999.0,9,  -999.0,9,   0.001,2,   1.9030,2,    8.74,2, -999.00,9,  -999.0,9,  -999.0,   8.252,2,   0.019,     -999.0,   0.0040,   0.150,     2.9222,   0.003
  316N138_4,       P06C,     130,          1,         15,        115,2,19920620,       0139,   -32.5080,  -152.3218,       4377,  1594.7,   2.6567,  34.5596,2,  34.5584,2,    160.1,2,   160.0,2,   84.55,2,   34.83,2,    0.00,2,    2.39,2,-999.000,9,-999.000,9,  -999.0,9,  -999.0,9,   0.000,2,   1.9190,2,   13.80,2, -999.00,9,  -999.0,9,  -999.0,   8.282,2,   0.019,     -999.0,   0.0040,   0.150,     2.5451,   0.002
  316N138_4,       P06C,     130,          1,         14,        114,2,19920620,       0139,   -32.5080,  -152.3218,       4377,  1792.0,   2.3953,  34.6108,2,  34.6117,2,    153.4,2,   152.7,2,  101.75,2,   35.26,2,    0.00,2,    2.45,2,  -0.002,2,  -0.002,2,  -999.0,9,  -999.0,9,   0.002,2,   1.9370,2,   19.64,2, -999.00,9,  -999.0,9,  -999.0,   8.282,2,   0.019,     -999.0,   0.0040,   0.150,     2.2707,   0.002
  316N138_4,       P06C,     130,          1,         13,        125,2,19920620,       0139,   -32.5080,  -152.3218,       4377,  1988.4,   2.2486,  34.6290,2,  34.6282,2,    150.1,2,   149.8,2,  110.49,2,   35.48,2,    0.01,2,    2.49,2,-999.000,9,-999.000,9,  -999.0,9,  -999.0,9,-999.000,9,-999.0000,9, -999.00,9, -999.00,9,  -999.0,9,  -999.0,-999.000,9,-999.000,     -999.0,-999.0000,-999.000,     2.1094,-999.000
  316N138_4,       P06C,     130,          1,         12,        112,2,19920620,       0139,   -32.5080,  -152.3218,       4377,  2190.0,   2.1083,  34.6423,2,  34.6435,2,    147.7,2,   148.0,2,  117.21,2,   35.64,2,    0.00,2,    2.51,2,-999.000,9,-999.000,9,  -999.0,9,  -999.0,9,-999.000,9,-999.0000,9, -999.00,9, -999.00,9,  -999.0,9,  -999.0,-999.000,9,-999.000,     -999.0,-999.0000,-999.000,     1.9538,-999.000
  316N138_4,       P06C,     130,          1,         11,        129,2,19920620,       0139,   -32.5080,  -152.3218,       4377,  2388.8,   1.9854,  34.6524,2,  34.6517,2,    147.0,2,   146.4,2,  124.23,2,   35.87,2,    0.01,2,    2.51,2,   0.001,2,   0.007,2,  -999.0,9,  -999.0,9,-999.000,9,-999.0000,9, -999.00,9, -999.00,9,  -999.0,9,  -999.0,-999.000,9,-999.000,     -999.0,-999.0000,-999.000,     1.8155,-999.000
  316N138_4,       P06C,     130,          1,         10,        110,2,19920620,       0139,   -32.5080,  -152.3218,       4377,  2590.1,   1.8990,  34.6601,2,  34.6598,2,    148.1,2,   146.9,2,  126.96,2,   35.82,2,    0.01,2,    2.52,2,-999.000,9,-999.000,9,  -999.0,9,  -999.0,9,-999.000,9,-999.0000,9, -999.00,9, -999.00,9,  -999.0,9,  -999.0,-999.000,9,-999.000,     -999.0,-999.0000,-999.000,     1.7124,-999.000
  316N138_4,       P06C,     130,          1,          9,        126,2,19920620,       0139,   -32.5080,  -152.3218,       4377,  2790.0,   1.8305,  34.6656,2,  34.6712,3,    149.4,2,   149.0,2,  129.12,2,   35.78,2,    0.01,2,    2.53,2,-999.000,9,-999.000,9,  -999.0,9,  -999.0,9,-999.000,9,-999.0000,9, -999.00,9, -999.00,9,  -999.0,9,  -999.0,-999.000,9,-999.000,     -999.0,-999.0000,-999.000,     1.6265,-999.000
  316N138_4,       P06C,     130,          1,          8,        108,2,19920620,       0139,   -32.5080,  -152.3218,       4377,  2989.0,   1.7729,  34.6719,2,  34.6716,2,    152.8,2,   151.9,2,  129.69,2,   35.60,2,    0.01,2,    2.51,2,  -0.003,2,  -0.002,2,  -999.0,9,  -999.0,9,-999.000,9,-999.0000,9, -999.00,9, -999.00,9,  -999.0,9,  -999.0,-999.000,9,-999.000,     -999.0,-999.0000,-999.000,     1.5511,-999.000
  316N138_4,       P06C,     130,          1,          7,        107,2,19920620,       0139,   -32.5080,  -152.3218,       4377,  3187.5,   1.6946,  34.6821,2,  34.6816,2,    158.7,2,   158.9,2,  127.54,2,   35.08,2,    0.01,2,    2.46,2,-999.000,9,-999.000,9,  -999.0,9,  -999.0,9,-999.000,9,-999.0000,9, -999.00,9, -999.00,9,  -999.0,9,  -999.0,-999.000,9,-999.000,     -999.0,-999.0000,-999.000,     1.4553,-999.000
  316N138_4,       P06C,     130,          1,          6,        180,2,19920620,       0139,   -32.5080,  -152.3218,       4377,  3389.4,   1.6368,  34.6913,2,  34.6908,2,    166.6,2,   166.4,2,  123.67,2,   34.52,2,    0.00,2,    2.41,2,-999.000,9,-999.000,9,  -999.0,9,  -999.0,9,-999.000,9,-999.0000,9, -999.00,9, -999.00,9,  -999.0,9,  -999.0,-999.000,9,-999.000,     -999.0,-999.0000,-999.000,     1.3785,-999.000
  316N138_4,       P06C,     130,          1,          5,        131,2,19920620,       0139,   -32.5080,  -152.3218,       4377,  3592.4,   1.5565,  34.7008,2,  34.6999,2,    175.4,2,   175.4,2,  120.38,2,   33.77,2,    0.00,2,    2.37,2,   0.003,2,  -0.003,2,  -999.0,9,  -999.0,9,-999.000,9,-999.0000,9, -999.00,9, -999.00,9,  -999.0,9,  -999.0,-999.000,9,-999.000,     -999.0,-999.0000,-999.000,     1.2793,-999.000
  316N138_4,       P06C,     130,          1,          4,        104,2,19920620,       0139,   -32.5080,  -152.3218,       4377,  3793.8,   1.4518,  34.7087,2,  34.7079,2,    187.1,2,   186.0,2,  116.52,2,   33.02,2,    0.00,2,    2.29,2,-999.000,9,-999.000,9,  -999.0,9,  -999.0,9,-999.000,9,-999.0000,9, -999.00,9, -999.00,9,  -999.0,9,  -999.0,-999.000,9,-999.000,     -999.0,-999.0000,-999.000,     1.1561,-999.000
  316N138_4,       P06C,     130,          1,          3,        130,2,19920620,       0139,   -32.5080,  -152.3218,       4377,  3996.1,   1.3772,  34.7148,2,  34.7138,2,    194.0,2,   194.5,2,  117.10,2,   32.45,2,    0.00,2,    2.26,2,-999.000,9,-999.000,9,  -999.0,9,  -999.0,9,-999.000,9,-999.0000,9, -999.00,9, -999.00,9,  -999.0,9,  -999.0,-999.000,9,-999.000,     -999.0,-999.0000,-999.000,     1.0619,-999.000
  316N138_4,       P06C,     130,          1,          2,        135,2,19920620,       0139,   -32.5080,  -152.3218,       4377,  4200.1,   1.2196,  34.7115,2,  34.7115,2,    197.1,2,   198.8,2,  117.10,2,   32.41,2,    0.00,2,    2.25,2,   0.006,2,-999.000,5,  -999.0,9,  -999.0,9,-999.000,9,-999.0000,9, -999.00,9, -999.00,9,  -999.0,9,  -999.0,-999.000,9,-999.000,     -999.0,-999.0000,-999.000,     0.8868,-999.000
  316N138_4,       P06C,     130,          1,          1,        134,2,19920620,       0139,   -32.5080,  -152.3218,       4377,  4373.2,   1.1938,  34.7106,2,  34.7109,2,    198.8,2,   199.8,2,  117.87,2,   32.32,2,    0.00,2,    2.25,2,   0.004,2,   0.001,2,  -999.0,9,  -999.0,9,-999.000,9,-999.0000,9, -999.00,9, -999.00,9,  -999.0,9,  -999.0,-999.000,9,-999.000,     -999.0,-999.0000,-999.000,     0.8425,-999.000