BOTTLE,20211025CCHSIORKP
EXPOCODE,SECT_ID,STNNBR,CASTNO,SAMPNO,BTLNBR,BTLNBR_FLAG_W,DATE,TIME,LATITUDE,LONGITUDE,DEPTH,CTDPRS,CTDTMP,CTDSAL,CTDSAL_FLAG_W,SALNTY,SALNTY_FLAG_W,CTDOXY,CTDOXY_FLAG_W,OXYGEN,OXYGEN_FLAG_W,SILCAT,SILCAT_FLAG_W,NITRAT,NITRAT_FLAG_W,NITRIT,NITRIT_FLAG_W,PHSPHT,PHSPHT_FLAG_W,CFC-11,CFC-11_FLAG_W,CFC-12,CFC-12_FLAG_W,TCARBN,TCARBN_FLAG_W,PCO2,PCO2_FLAG_W,TRITUM,TRITUM_FLAG_W,HELIUM,HELIUM_FLAG_W,DELHE3,DELHE3_FLAG_W,DELC13,DELC13_FLAG_W,DELC14,DELC14_FLAG_W,C14ERR,NEON,NEON_FLAG_W,NEONER,PCO2TMP,HELIER,DELHER,THETA,TRITER
,,,,,,,,,,,METERS,DBAR,ITS-90,PSS-78,,PSS-78,,UMOL/KG,,UMOL/KG,,UMOL/KG,,UMOL/KG,,UMOL/KG,,UMOL/KG,,PMOL/KG,,PMOL/KG,,UMOL/KG,,UATM,,TU,,NMOL/KG,,PERCNT,,/MILLE,,/MILLE,,/MILLE,NMOL/KG,,NMOL/KG,DEG_C,NMOL/KG,PERCNT,ITS-90,TU
  316N138_4,       P06C,     109,          1,         24,        132,2,19920611,       1206,   -32.4872,  -136.0077,       4309,    19.6,  19.2169,  35.2824,2,  35.2828,2,    300.1,3,   233.1,2,    0.18,2,    0.03,2,    0.00,2,    0.13,2,-999.000,9,-999.000,9,  -999.0,9,  -999.0,9,-999.000,5,   1.8220,2,   -1.41,2, -999.00,9,  -999.0,9,  -999.0,   7.375,2,   0.017,     -999.0,   0.0040,   0.150,    19.2134,-999.000
  316N138_4,       P06C,     109,          1,         23,        123,2,19920611,       1206,   -32.4872,  -136.0077,       4309,    47.6,  19.2233,  35.2817,2,  35.2854,2,    231.4,2,   231.4,2,    0.20,2,    0.03,2,    0.00,2,    0.13,2,-999.000,9,-999.000,9,  -999.0,9,  -999.0,9,   0.721,2,   1.7860,2,   -1.24,2, -999.00,9,  -999.0,9,  -999.0,   7.193,2,   0.016,     -999.0,   0.0040,   0.150,    19.2147,   0.004
  316N138_4,       P06C,     109,          1,         22,        128,2,19920611,       1206,   -32.4872,  -136.0077,       4309,    79.1,  19.2301,  35.2820,2,  35.2838,2,    230.4,2,   231.1,2,    0.20,2,    0.02,2,    0.00,2,    0.14,2,-999.000,9,-999.000,9,  -999.0,9,  -999.0,9,-999.000,9,-999.0000,9, -999.00,9, -999.00,9,  -999.0,9,  -999.0,-999.000,9,-999.000,     -999.0,-999.0000,-999.000,    19.2158,-999.000
  316N138_4,       P06C,     109,          1,         21,        121,2,19920611,       1206,   -32.4872,  -136.0077,       4309,   118.3,  17.3505,  35.1537,2,  35.1630,2,    240.5,2,   243.9,2,    0.40,2,    0.02,2,    0.00,2,    0.17,2,-999.000,9,-999.000,9,  -999.0,9,  -999.0,9,   0.701,2,   1.8320,2,   -0.77,2, -999.00,9,  -999.0,9,  -999.0,   7.431,2,   0.017,     -999.0,   0.0040,   0.150,    17.3307,   0.004
  316N138_4,       P06C,     109,          1,         20,        120,2,19920611,       1206,   -32.4872,  -136.0077,       4309,   155.7,  16.3950,  35.1030,2,  35.1152,2,    234.1,2,   236.2,2,    0.41,2,    0.09,2,    0.12,2,    0.23,2,-999.000,9,-999.000,9,  -999.0,9,  -999.0,9,-999.000,9,-999.0000,9, -999.00,9, -999.00,9,  -999.0,9,  -999.0,-999.000,9,-999.000,     -999.0,-999.0000,-999.000,    16.3700,-999.000
  316N138_4,       P06C,     109,          1,         19,        133,2,19920611,       1206,   -32.4872,  -136.0077,       4309,   209.0,  15.2712,  35.0862,2,  35.1022,2,    215.0,2,   221.1,2,    0.61,2,    2.31,2,    0.01,2,    0.38,2,-999.000,9,-999.000,9,  -999.0,9,  -999.0,9,   0.609,2,   1.7980,2,   -0.55,2, -999.00,9,  -999.0,9,  -999.0,   7.425,2,   0.017,     -999.0,   0.0040,   0.150,    15.2391,   0.004
  316N138_4,       P06C,     109,          1,         18,        118,2,19920611,       1206,   -32.4872,  -136.0077,       4309,   260.0,  14.1564,  34.9882,2,  34.9996,2,    200.9,2,   206.3,2,    1.31,2,    6.34,2,    0.00,2,    0.62,2,-999.000,9,-999.000,9,  -999.0,9,  -999.0,9,-999.000,9,-999.0000,9, -999.00,9, -999.00,9,  -999.0,9,  -999.0,-999.000,9,-999.000,     -999.0,-999.0000,-999.000,    14.1185,-999.000
  316N138_4,       P06C,     109,          1,         17,        117,2,19920611,       1206,   -32.4872,  -136.0077,       4309,   306.0,  12.4656,  34.8601,2,  34.8605,2,    200.2,2,   201.5,2,    2.02,2,   10.40,2,    0.00,2,    0.88,2,-999.000,9,-999.000,9,  -999.0,9,  -999.0,9,   0.414,2,   1.8310,2,    0.35,2, -999.00,9,  -999.0,9,  -999.0,   7.666,2,   0.018,     -999.0,   0.0040,   0.150,    12.4245,   0.003
  316N138_4,       P06C,     109,          1,         16,        116,2,19920611,       1206,   -32.4872,  -136.0077,       4309,   359.1,  10.8231,  34.6888,2,  34.6914,2,    204.4,2,   204.7,2,    3.08,2,   14.20,2,    0.00,2,    1.08,2,-999.000,9,-999.000,9,  -999.0,9,  -999.0,9,-999.000,9,-999.0000,9, -999.00,9, -999.00,9,  -999.0,9,  -999.0,-999.000,9,-999.000,     -999.0,-999.0000,-999.000,    10.7791,-999.000
  316N138_4,       P06C,     109,          1,         15,        115,3,19920611,       1206,   -32.4872,  -136.0077,       4309,   408.6,   9.0013,  34.5242,2,  34.5294,2,    214.3,2,   216.5,2,    4.13,2,   17.75,2,    0.00,2,    1.29,2,-999.000,9,-999.000,9,  -999.0,9,  -999.0,9,   0.277,2,   1.7290,2,    1.18,2, -999.00,9,  -999.0,9,  -999.0,   6.823,2,   0.016,     -999.0,   0.0030,   0.150,     8.9567,   0.003
  316N138_4,       P06C,     109,          1,         14,        114,2,19920611,       1206,   -32.4872,  -136.0077,       4309,   459.1,   7.8458,  34.4363,2,  34.4414,2,    225.8,2,   229.5,2,    5.19,2,   19.96,2,    0.00,2,    1.42,2,-999.000,9,-999.000,9,  -999.0,9,  -999.0,9,-999.000,9,-999.0000,9, -999.00,9, -999.00,9,  -999.0,9,  -999.0,-999.000,9,-999.000,     -999.0,-999.0000,-999.000,     7.7994,-999.000
  316N138_4,       P06C,     109,          1,         13,        125,2,19920611,       1206,   -32.4872,  -136.0077,       4309,   508.8,   7.2708,  34.4110,2,  34.4133,2,    236.3,2,   242.1,2,    5.90,2,   20.80,2,    0.00,2,    1.47,2,-999.000,9,-999.000,9,  -999.0,9,  -999.0,9,   0.233,2,   1.8460,2,    0.33,2, -999.00,9,  -999.0,9,  -999.0,   7.935,2,   0.018,     -999.0,   0.0040,   0.150,     7.2214,   0.003
  316N138_4,       P06C,     109,          1,         12,        112,2,19920611,       1206,   -32.4872,  -136.0077,       4309,   560.4,   6.9512,  34.3880,2,  34.3892,2,    242.8,2,   244.0,2,    6.79,2,   21.54,2,    0.00,2,    1.51,2,-999.000,9,-999.000,9,  -999.0,9,  -999.0,9,-999.000,9,-999.0000,9, -999.00,9, -999.00,9,  -999.0,9,  -999.0,-999.000,9,-999.000,     -999.0,-999.0000,-999.000,     6.8981,-999.000
  316N138_4,       P06C,     109,          1,         11,        129,2,19920611,       1206,   -32.4872,  -136.0077,       4309,   608.6,   6.5933,  34.3578,2,  34.3633,2,    245.3,2,   244.9,2,    7.67,2,   22.42,2,    0.00,2,    1.56,2,-999.000,9,-999.000,9,  -999.0,9,  -999.0,9,   0.188,2,   1.8340,2,    0.34,2, -999.00,9,  -999.0,9,  -999.0,   7.899,2,   0.018,     -999.0,   0.0040,   0.150,     6.5370,   0.002
  316N138_4,       P06C,     109,          1,         10,        110,2,19920611,       1206,   -32.4872,  -136.0077,       4309,   709.3,   5.9648,  34.3298,2,  34.3225,2,    244.3,2,   241.1,2,   10.46,2,   24.37,2,    0.00,2,    1.68,2,-999.000,9,-999.000,9,  -999.0,9,  -999.0,9,   0.135,2,   1.8410,2,    0.62,2, -999.00,9,  -999.0,9,  -999.0,   7.961,2,   0.018,     -999.0,   0.0040,   0.150,     5.9021,   0.002
  316N138_4,       P06C,     109,          1,          9,        126,2,19920611,       1206,   -32.4872,  -136.0077,       4309,   809.6,   5.5443,  34.3027,2,  34.3046,2,    236.1,2,   234.0,2,   14.12,2,   26.09,2,    0.00,2,    1.82,2,-999.000,9,-999.000,9,  -999.0,9,  -999.0,9,   0.098,2,   1.8690,2,    0.30,2, -999.00,9,  -999.0,9,  -999.0,   8.051,2,   0.018,     -999.0,   0.0040,   0.150,     5.4749,   0.004
  316N138_4,       P06C,     109,          1,          8,        108,2,19920611,       1206,   -32.4872,  -136.0077,       4309,   908.7,   5.1165,  34.3018,2,  35.1114,4,    224.7,2,   223.5,3,    0.95,4,    1.43,4,    0.03,4,    0.32,4,-999.000,9,-999.000,9,  -999.0,9,  -999.0,9,-999.000,5,   1.7970,2,   -0.80,2, -999.00,9,  -999.0,9,  -999.0,   7.420,2,   0.017,     -999.0,   0.0040,   0.150,     5.0409,-999.000
  316N138_4,       P06C,     109,          1,          7,        107,2,19920611,       1206,   -32.4872,  -136.0077,       4309,  1008.8,   4.5924,  34.3108,2,  34.3180,2,    209.5,2,   206.3,2,   27.68,2,   30.20,2,    0.00,2,    2.08,2,-999.000,9,-999.000,9,  -999.0,9,  -999.0,9,   0.037,2,   1.8570,2,    2.01,2, -999.00,9,  -999.0,9,  -999.0,   8.028,2,   0.018,     -999.0,   0.0040,   0.150,     4.5117,   0.002
  316N138_4,       P06C,     109,          1,          6,        180,2,19920611,       1206,   -32.4872,  -136.0077,       4309,  1162.2,   3.8395,  34.3658,2,  34.3643,2,    188.4,2,   188.4,2,   42.79,2,   32.73,2,    0.00,2,    2.26,2,-999.000,9,-999.000,9,  -999.0,9,  -999.0,9,-999.000,9,-999.0000,9, -999.00,9, -999.00,9,  -999.0,9,  -999.0,-999.000,9,-999.000,     -999.0,-999.0000,-999.000,     3.7518,-999.000
  316N138_4,       P06C,     109,          1,          5,        131,2,19920611,       1206,   -32.4872,  -136.0077,       4309,  1309.9,   3.2656,  34.4338,2,  34.4324,2,    175.4,2,   173.9,2,   57.90,2,   34.19,2,    0.00,2,    2.36,2,-999.000,9,-999.000,9,  -999.0,9,  -999.0,9,   0.005,2,   1.8880,2,    7.81,2, -999.00,9,  -999.0,9,  -999.0,   8.196,2,   0.019,     -999.0,   0.0040,   0.150,     3.1709,   0.001
  316N138_4,       P06C,     109,          1,          4,        104,2,19920611,       1206,   -32.4872,  -136.0077,       4309,  1515.1,   2.7513,  34.5245,2,  34.5270,2,    166.6,2,   165.5,2,   76.99,2,   34.70,2,    0.00,2,    2.41,2,-999.000,9,-999.000,9,  -999.0,9,  -999.0,9,   0.001,2,-999.0000,9, -999.00,9, -999.00,9,  -999.0,9,  -999.0,-999.000,9,-999.000,     -999.0,-999.0000,-999.000,     2.6453,   0.001
  316N138_4,       P06C,     109,          1,          3,        130,2,19920611,       1206,   -32.4872,  -136.0077,       4309,  1713.2,   2.4311,  34.5862,2,  34.5851,2,    159.2,2,   159.5,2,   93.66,2,   34.96,2,    0.01,2,    2.46,2,-999.000,9,-999.000,9,  -999.0,9,  -999.0,9,  -0.002,2,-999.0000,9, -999.00,9, -999.00,9,  -999.0,9,  -999.0,-999.000,9,-999.000,     -999.0,-999.0000,-999.000,     2.3125,   0.002
  316N138_4,       P06C,     109,          1,          2,        135,2,19920611,       1206,   -32.4872,  -136.0077,       4309,  1904.2,   2.2372,  34.6172,2,  34.6185,2,    156.7,2,   157.2,2,  104.09,2,   35.22,2,    0.00,2,    2.48,2,-999.000,9,-999.000,9,  -999.0,9,  -999.0,9,  -0.004,2,-999.0000,9, -999.00,9, -999.00,9,  -999.0,9,  -999.0,-999.000,9,-999.000,     -999.0,-999.0000,-999.000,     2.1053,   0.001
  316N138_4,       P06C,     109,          1,          1,        134,2,19920611,       1206,   -32.4872,  -136.0077,       4309,  2107.2,   2.0649,  34.6381,2,  34.6396,2,    155.6,2,   156.3,2,  112.60,2,   35.30,2,    0.00,2,    2.49,2,-999.000,9,-999.000,9,  -999.0,9,  -999.0,9,-999.000,9,-999.0000,9, -999.00,9, -999.00,9,  -999.0,9,  -999.0,-999.000,9,-999.000,     -999.0,-999.0000,-999.000,     1.9183,-999.000
  316N138_4,       P06C,     109,          1,         36,    02-9121,2,19920611,       1206,   -32.4872,  -136.0077,       4309,  2307.4,   1.9256,  34.6508,2,  34.6529,2,    155.8,2,   155.4,2,  118.17,2,   35.34,2,    0.01,2,    2.49,2,-999.000,9,-999.000,9,  -999.0,9,  -999.0,9,-999.000,9,-999.0000,9, -999.00,9, -999.00,9,  -999.0,9,  -999.0,-999.000,9,-999.000,     -999.0,-999.0000,-999.000,     1.7639,-999.000
  316N138_4,       P06C,     109,          1,         35,    02-9454,2,19920611,       1206,   -32.4872,  -136.0077,       4309,  2502.4,   1.8378,  34.6590,2,  34.6602,2,    157.8,2,   157.3,2,  121.30,2,   35.30,2,    0.00,2,    2.51,2,-999.000,9,-999.000,9,  -999.0,9,  -999.0,9,-999.000,9,-999.0000,9, -999.00,9, -999.00,9,  -999.0,9,  -999.0,-999.000,9,-999.000,     -999.0,-999.0000,-999.000,     1.6603,-999.000
  316N138_4,       P06C,     109,          1,         34,    02-9457,2,19920611,       1206,   -32.4872,  -136.0077,       4309,  2706.2,   1.7588,  34.6657,2,-999.0000,9,    159.8,2,   160.1,2,  122.88,2,   35.12,2,    0.00,2,    2.49,2,-999.000,9,-999.000,9,  -999.0,9,  -999.0,9,-999.000,9,-999.0000,9, -999.00,9, -999.00,9,  -999.0,9,  -999.0,-999.000,9,-999.000,     -999.0,-999.0000,-999.000,     1.5641,-999.000
  316N138_4,       P06C,     109,          1,         33,    02-5367,2,19920611,       1206,   -32.4872,  -136.0077,       4309,  2902.3,   1.6997,  34.6718,2,  34.6732,2,    162.3,2,   162.8,2,  123.41,2,   34.92,2,    0.00,2,    2.47,2,-999.000,9,-999.000,9,  -999.0,9,  -999.0,9,-999.000,9,-999.0000,9, -999.00,9, -999.00,9,  -999.0,9,  -999.0,-999.000,9,-999.000,     -999.0,-999.0000,-999.000,     1.4879,-999.000
  316N138_4,       P06C,     109,          1,         32,    02-9540,2,19920611,       1206,   -32.4872,  -136.0077,       4309,  3104.2,   1.6477,  34.6764,2,  34.6781,2,    165.6,2,   165.8,2,  123.77,2,   34.75,2,    0.00,2,    2.45,2,-999.000,9,-999.000,9,  -999.0,9,  -999.0,9,-999.000,9,-999.0000,9, -999.00,9, -999.00,9,  -999.0,9,  -999.0,-999.000,9,-999.000,     -999.0,-999.0000,-999.000,     1.4176,-999.000
  316N138_4,       P06C,     109,          1,         31,    02-9539,2,19920611,       1206,   -32.4872,  -136.0077,       4309,  3306.3,   1.6091,  34.6811,2,  34.6808,2,    168.8,2,   168.7,2,  123.45,2,   34.54,2,    0.01,2,    2.44,2,-999.000,9,-999.000,9,  -999.0,9,  -999.0,9,-999.000,9,-999.0000,9, -999.00,9, -999.00,9,  -999.0,9,  -999.0,-999.000,9,-999.000,     -999.0,-999.0000,-999.000,     1.3599,-999.000
  316N138_4,       P06C,     109,          1,         30,    02-9456,2,19920611,       1206,   -32.4872,  -136.0077,       4309,  3501.5,   1.5781,  34.6842,2,  34.6851,2,    171.6,2,   171.2,2,  123.28,2,   34.32,2,    0.00,2,    2.42,2,-999.000,9,-999.000,9,  -999.0,9,  -999.0,9,-999.000,9,-999.0000,9, -999.00,9, -999.00,9,  -999.0,9,  -999.0,-999.000,9,-999.000,     -999.0,-999.0000,-999.000,     1.3098,-999.000
  316N138_4,       P06C,     109,          1,         29,    02-9458,2,19920611,       1206,   -32.4872,  -136.0077,       4309,  3697.2,   1.5341,  34.6885,2,  34.6891,2,    175.0,2,   174.7,2,  122.79,2,   34.06,2,    0.01,2,    2.41,2,-999.000,9,-999.000,9,  -999.0,9,  -999.0,9,-999.000,9,-999.0000,9, -999.00,9, -999.00,9,  -999.0,9,  -999.0,-999.000,9,-999.000,     -999.0,-999.0000,-999.000,     1.2466,-999.000
  316N138_4,       P06C,     109,          1,         28,    02-9545,2,19920611,       1206,   -32.4872,  -136.0077,       4309,  3898.4,   1.4588,  34.6948,2,  34.6952,2,    180.4,2,   177.4,4,  121.76,2,   33.70,2,    0.01,2,    2.37,2,-999.000,9,-999.000,9,  -999.0,9,  -999.0,9,-999.000,9,-999.0000,9, -999.00,9, -999.00,9,  -999.0,9,  -999.0,-999.000,9,-999.000,     -999.0,-999.0000,-999.000,     1.1520,-999.000
  316N138_4,       P06C,     109,          1,         27,    02-9453,2,19920611,       1206,   -32.4872,  -136.0077,       4309,  4099.3,   1.3625,  34.7016,2,  34.7026,2,    187.1,2,   186.3,2,  120.56,2,   33.18,2,    0.01,2,    2.33,2,-999.000,9,-999.000,9,  -999.0,9,  -999.0,9,-999.000,9,-999.0000,9, -999.00,9, -999.00,9,  -999.0,9,  -999.0,-999.000,9,-999.000,     -999.0,-999.0000,-999.000,     1.0366,-999.000
  316N138_4,       P06C,     109,          1,         26,    02-9544,2,19920611,       1206,   -32.4872,  -136.0077,       4309,  4306.2,   1.3269,  34.7058,2,  34.7083,2,    190.8,2,   189.7,2,  119.53,2,   32.99,2,    0.01,2,    2.31,2,-999.000,9,-999.000,9,  -999.0,9,  -999.0,9,-999.000,9,-999.0000,9, -999.00,9, -999.00,9,  -999.0,9,  -999.0,-999.000,9,-999.000,     -999.0,-999.0000,-999.000,     0.9791,-999.000
  316N138_4,       P06C,     109,          1,         25,    02-9455,2,19920611,       1206,   -32.4872,  -136.0077,       4309,  4454.0,   1.3357,  34.7051,2,  34.7070,2,    192.0,2,   191.8,2,  119.27,2,   32.94,2,    0.01,2,    2.30,2,-999.000,9,-999.000,9,  -999.0,9,  -999.0,9,-999.000,9,-999.0000,9, -999.00,9, -999.00,9,  -999.0,9,  -999.0,-999.000,9,-999.000,     -999.0,-999.0000,-999.000,     0.9710,-999.000