BOTTLE,20211025CCHSIORKP
EXPOCODE,SECT_ID,STNNBR,CASTNO,SAMPNO,BTLNBR,BTLNBR_FLAG_W,DATE,TIME,LATITUDE,LONGITUDE,DEPTH,CTDPRS,CTDTMP,CTDSAL,CTDSAL_FLAG_W,SALNTY,SALNTY_FLAG_W,CTDOXY,CTDOXY_FLAG_W,OXYGEN,OXYGEN_FLAG_W,SILCAT,SILCAT_FLAG_W,NITRAT,NITRAT_FLAG_W,NITRIT,NITRIT_FLAG_W,PHSPHT,PHSPHT_FLAG_W,CFC-11,CFC-11_FLAG_W,CFC-12,CFC-12_FLAG_W,TCARBN,TCARBN_FLAG_W,PCO2,PCO2_FLAG_W,TRITUM,TRITUM_FLAG_W,HELIUM,HELIUM_FLAG_W,DELHE3,DELHE3_FLAG_W,DELC13,DELC13_FLAG_W,DELC14,DELC14_FLAG_W,C14ERR,NEON,NEON_FLAG_W,NEONER,PCO2TMP,HELIER,DELHER,THETA,TRITER
,,,,,,,,,,,METERS,DBAR,ITS-90,PSS-78,,PSS-78,,UMOL/KG,,UMOL/KG,,UMOL/KG,,UMOL/KG,,UMOL/KG,,UMOL/KG,,PMOL/KG,,PMOL/KG,,UMOL/KG,,UATM,,TU,,NMOL/KG,,PERCNT,,/MILLE,,/MILLE,,/MILLE,NMOL/KG,,NMOL/KG,DEG_C,NMOL/KG,PERCNT,ITS-90,TU
  316N138_4,       P06C,     156,          1,         36,    02-9121,2,19920627,       0340,   -32.5127,  -169.4913,       5513,    23.7,  16.8067,  35.5346,2,  35.5332,2,    237.9,2,   239.7,2,    0.59,2,    0.23,2,    0.00,2,    0.16,2,-999.000,5,-999.000,5,  -999.0,9,  -999.0,9,-999.000,9,-999.0000,9, -999.00,9, -999.00,9,  -999.0,9,  -999.0,-999.000,9,-999.000,     -999.0,-999.0000,-999.000,    16.8029,-999.000
  316N138_4,       P06C,     156,          1,         35,    02-9454,2,19920627,       0340,   -32.5127,  -169.4913,       5513,    64.5,  16.7947,  35.5334,2,-999.0000,9,    234.6,2,  -999.0,9, -999.00,9, -999.00,9, -999.00,9, -999.00,9,-999.000,5,-999.000,5,  -999.0,9,  -999.0,9,-999.000,9,-999.0000,9, -999.00,9, -999.00,9,  -999.0,9,  -999.0,-999.000,9,-999.000,     -999.0,-999.0000,-999.000,    16.7842,-999.000
  316N138_4,       P06C,     156,          1,         34,    02-9457,2,19920627,       0340,   -32.5127,  -169.4913,       5513,   113.2,  16.0359,  35.4386,2,  35.4220,2,    205.6,2,   225.6,2,    0.95,2,    1.83,2,    0.04,2,    0.33,2,-999.000,5,-999.000,5,  -999.0,9,  -999.0,9,-999.000,9,-999.0000,9, -999.00,9, -999.00,9,  -999.0,9,  -999.0,-999.000,9,-999.000,     -999.0,-999.0000,-999.000,    16.0180,-999.000
  316N138_4,       P06C,     156,          1,         33,    02-5367,2,19920627,       0340,   -32.5127,  -169.4913,       5513,   209.9,  13.7120,  35.2142,2,  35.2099,2,    200.1,2,   207.5,2,    2.16,2,    7.64,2,    0.01,2,    0.64,2,-999.000,5,-999.000,5,  -999.0,9,  -999.0,9,-999.000,9,-999.0000,9, -999.00,9, -999.00,9,  -999.0,9,  -999.0,-999.000,9,-999.000,     -999.0,-999.0000,-999.000,    13.6820,-999.000
  316N138_4,       P06C,     156,          1,         32,    02-9540,2,19920627,       0340,   -32.5127,  -169.4913,       5513,   301.1,  11.2745,  34.8905,2,  34.8802,2,    199.9,2,   207.4,2,    3.38,2,   12.92,2,    0.00,2,    0.96,2,-999.000,5,-999.000,5,  -999.0,9,  -999.0,9,-999.000,9,-999.0000,9, -999.00,9, -999.00,9,  -999.0,9,  -999.0,-999.000,9,-999.000,     -999.0,-999.0000,-999.000,    11.2367,-999.000
  316N138_4,       P06C,     156,          1,         31,    02-9539,2,19920627,       0340,   -32.5127,  -169.4913,       5513,   396.7,   9.2736,  34.6351,2,  34.6356,2,    208.6,2,   211.0,2,    4.42,2,   17.27,2,    0.00,2,    1.22,2,-999.000,5,-999.000,5,  -999.0,9,  -999.0,9,-999.000,9,-999.0000,9, -999.00,9, -999.00,9,  -999.0,9,  -999.0,-999.000,9,-999.000,     -999.0,-999.0000,-999.000,     9.2294,-999.000
  316N138_4,       P06C,     156,          1,         30,    02-9456,2,19920627,       0340,   -32.5127,  -169.4913,       5513,   498.0,   8.0968,  34.5218,2,  34.5229,2,    222.5,2,   220.7,2,    5.65,2,   20.18,2,   -0.01,2,    1.39,2,-999.000,5,-999.000,5,  -999.0,9,  -999.0,9,-999.000,9,-999.0000,9, -999.00,9, -999.00,9,  -999.0,9,  -999.0,-999.000,9,-999.000,     -999.0,-999.0000,-999.000,     8.0454,-999.000
  316N138_4,       P06C,     156,          1,         29,    02-9458,2,19920627,       0340,   -32.5127,  -169.4913,       5513,   599.9,   7.4212,  34.4557,2,  34.4565,2,    230.3,2,   227.6,2,    6.69,2,   21.58,2,    0.00,2,    1.46,2,-999.000,5,-999.000,5,  -999.0,9,  -999.0,9,-999.000,9,-999.0000,9, -999.00,9, -999.00,9,  -999.0,9,  -999.0,-999.000,9,-999.000,     -999.0,-999.0000,-999.000,     7.3620,-999.000
  316N138_4,       P06C,     156,          1,         28,    02-9545,2,19920627,       0340,   -32.5127,  -169.4913,       5513,   696.3,   6.8444,  34.4039,2,  34.4029,2,    233.5,2,   231.8,2,    8.25,2,   22.97,2,    0.00,2,    1.55,2,-999.000,5,-999.000,5,  -999.0,9,  -999.0,9,-999.000,9,-999.0000,9, -999.00,9, -999.00,9,  -999.0,9,  -999.0,-999.000,9,-999.000,     -999.0,-999.0000,-999.000,     6.7783,-999.000
  316N138_4,       P06C,     156,          1,         27,    02-9453,2,19920627,       0340,   -32.5127,  -169.4913,       5513,   792.2,   6.2933,  34.3635,2,  34.3637,2,    228.7,2,   226.2,2,   11.38,2,   24.91,2,    0.00,2,    1.69,2,-999.000,5,-999.000,5,  -999.0,9,  -999.0,9,-999.000,9,-999.0000,9, -999.00,9, -999.00,9,  -999.0,9,  -999.0,-999.000,9,-999.000,     -999.0,-999.0000,-999.000,     6.2209,-999.000
  316N138_4,       P06C,     156,          1,         26,    02-9544,2,19920627,       0340,   -32.5127,  -169.4913,       5513,   889.6,   5.7060,  34.3375,2,  34.3409,2,    218.9,2,   215.3,2,   16.75,2,   27.31,2,    0.01,2,    1.84,2,-999.000,5,-999.000,5,  -999.0,9,  -999.0,9,-999.000,9,-999.0000,9, -999.00,9, -999.00,9,  -999.0,9,  -999.0,-999.000,9,-999.000,     -999.0,-999.0000,-999.000,     5.6280,-999.000
  316N138_4,       P06C,     156,          1,         25,    02-9455,2,19920627,       0340,   -32.5127,  -169.4913,       5513,   992.9,   5.0644,  34.3435,2,  34.3411,2,    207.7,2,   203.8,2,   24.72,2,   29.54,2,    0.02,2,    2.00,2,-999.000,5,-999.000,5,  -999.0,9,  -999.0,9,-999.000,9,-999.0000,9, -999.00,9, -999.00,9,  -999.0,9,  -999.0,-999.000,9,-999.000,     -999.0,-999.0000,-999.000,     4.9815,-999.000
  316N138_4,       P06C,     156,          1,          1,        134,2,19920627,       0340,   -32.5127,  -169.4913,       5513,  1100.4,   4.3769,  34.3560,2,  34.3570,2,    197.5,2,   193.1,2,   34.84,2,   31.34,2,    0.01,2,    2.10,2,-999.000,5,-999.000,5,  -999.0,9,  -999.0,9,-999.000,9,-999.0000,9, -999.00,9, -999.00,9,  -999.0,9,  -999.0,-999.000,9,-999.000,     -999.0,-999.0000,-999.000,     4.2900,-999.000
  316N138_4,       P06C,     156,          1,         24,        132,2,19920627,       0340,   -32.5127,  -169.4913,       5513,  1200.2,   3.8377,  34.4035,3,  34.3888,2,    190.3,3,   184.5,2,   44.65,2,   32.89,4,    0.14,3,    2.24,2,-999.000,5,-999.000,5,  -999.0,9,  -999.0,9,-999.000,9,-999.0000,9, -999.00,9, -999.00,9,  -999.0,9,  -999.0,-999.000,9,-999.000,     -999.0,-999.0000,-999.000,     3.7467,-999.000
  316N138_4,       P06C,     156,          1,         23,        123,2,19920627,       0340,   -32.5127,  -169.4913,       5513,  1395.3,   3.1215,  34.4785,2,  34.4785,2,    172.4,2,   169.8,2,   66.15,2,   32.83,2,    0.00,2,    2.37,2,-999.000,5,-999.000,5,  -999.0,9,  -999.0,9,-999.000,9,-999.0000,9, -999.00,9, -999.00,9,  -999.0,9,  -999.0,-999.000,9,-999.000,     -999.0,-999.0000,-999.000,     3.0212,-999.000
  316N138_4,       P06C,     156,          1,         22,        128,2,19920627,       0340,   -32.5127,  -169.4913,       5513,  1589.5,   2.7310,  34.5547,2,  34.5553,2,    160.5,2,   159.5,2,   85.48,2,   34.22,2,    0.00,2,    2.44,2,-999.000,5,-999.000,5,  -999.0,9,  -999.0,9,-999.000,9,-999.0000,9, -999.00,9, -999.00,9,  -999.0,9,  -999.0,-999.000,9,-999.000,     -999.0,-999.0000,-999.000,     2.6190,-999.000
  316N138_4,       P06C,     156,          1,         21,        121,2,19920627,       0340,   -32.5127,  -169.4913,       5513,  1782.9,   2.4986,  34.5971,2,  34.5969,2,    154.3,2,   153.5,2,   98.95,2,   34.82,2,    0.00,2,    2.48,2,-999.000,5,-999.000,5,  -999.0,9,  -999.0,9,-999.000,9,-999.0000,9, -999.00,9, -999.00,9,  -999.0,9,  -999.0,-999.000,9,-999.000,     -999.0,-999.0000,-999.000,     2.3733,-999.000
  316N138_4,       P06C,     156,          1,         20,        120,2,19920627,       0340,   -32.5127,  -169.4913,       5513,  1978.9,   2.3222,  34.6218,2,  34.6211,2,    150.2,2,   146.9,3,  109.06,2,   35.11,2,    0.00,2,    2.51,2,-999.000,5,-999.000,5,  -999.0,9,  -999.0,9,-999.000,9,-999.0000,9, -999.00,9, -999.00,9,  -999.0,9,  -999.0,-999.000,9,-999.000,     -999.0,-999.0000,-999.000,     2.1828,-999.000
  316N138_4,       P06C,     156,          1,         19,        133,2,19920627,       0340,   -32.5127,  -169.4913,       5513,  2176.1,   2.1933,  34.6353,2,  34.6339,2,    148.3,2,   147.8,2,  116.33,2,   35.32,2,    0.00,2,    2.53,2,-999.000,5,-999.000,5,  -999.0,9,  -999.0,9,-999.000,9,-999.0000,9, -999.00,9, -999.00,9,  -999.0,9,  -999.0,-999.000,9,-999.000,     -999.0,-999.0000,-999.000,     2.0387,-999.000
  316N138_4,       P06C,     156,          1,         18,        118,2,19920627,       0340,   -32.5127,  -169.4913,       5513,  2373.5,   2.0808,  34.6452,2,  34.6449,2,    146.8,2,   146.1,2,  121.82,2,   35.49,2,    0.00,2,    2.55,2,-999.000,5,-999.000,5,  -999.0,9,  -999.0,9,-999.000,9,-999.0000,9, -999.00,9, -999.00,9,  -999.0,9,  -999.0,-999.000,9,-999.000,     -999.0,-999.0000,-999.000,     1.9105,-999.000
  316N138_4,       P06C,     156,          1,         17,        117,2,19920627,       0340,   -32.5127,  -169.4913,       5513,  2569.0,   1.9935,  34.6523,2,  34.6513,2,    146.8,2,   145.9,2,  125.38,2,   35.67,2,    0.00,2,    2.56,2,-999.000,5,-999.000,5,  -999.0,9,  -999.0,9,-999.000,9,-999.0000,9, -999.00,9, -999.00,9,  -999.0,9,  -999.0,-999.000,9,-999.000,     -999.0,-999.0000,-999.000,     1.8070,-999.000
  316N138_4,       P06C,     156,          1,         16,        116,2,19920627,       0340,   -32.5127,  -169.4913,       5513,  2764.3,   1.9114,  34.6602,2,  34.6598,2,    147.6,2,   147.2,2,  128.38,2,   35.75,2,    0.00,2,    2.55,2,-999.000,5,-999.000,5,  -999.0,9,  -999.0,9,-999.000,9,-999.0000,9, -999.00,9, -999.00,9,  -999.0,9,  -999.0,-999.000,9,-999.000,     -999.0,-999.0000,-999.000,     1.7083,-999.000
  316N138_4,       P06C,     156,          1,         15,        115,2,19920627,       0340,   -32.5127,  -169.4913,       5513,  2957.2,   1.8426,  34.6678,2,  34.6667,2,    149.2,2,   149.1,2,  129.45,2,   35.79,2,    0.00,2,    2.55,2,-999.000,5,-999.000,5,  -999.0,9,  -999.0,9,-999.000,9,-999.0000,9, -999.00,9, -999.00,9,  -999.0,9,  -999.0,-999.000,9,-999.000,     -999.0,-999.0000,-999.000,     1.6224,-999.000
  316N138_4,       P06C,     156,          1,         14,        114,2,19920627,       0340,   -32.5127,  -169.4913,       5513,  3158.1,   1.7669,  34.6767,2,  34.6761,2,    155.0,2,   155.4,2,  128.21,2,   35.49,2,    0.00,2,    2.53,2,-999.000,5,-999.000,5,  -999.0,9,  -999.0,9,-999.000,9,-999.0000,9, -999.00,9, -999.00,9,  -999.0,9,  -999.0,-999.000,9,-999.000,     -999.0,-999.0000,-999.000,     1.5287,-999.000
  316N138_4,       P06C,     156,          1,         13,        125,2,19920627,       0340,   -32.5127,  -169.4913,       5513,  3363.0,   1.6954,  34.6926,2,  34.6918,2,    165.5,2,   167.2,2,  121.64,2,   35.23,2,    0.00,2,    2.41,2,-999.000,5,-999.000,5,  -999.0,9,  -999.0,9,-999.000,9,-999.0000,9, -999.00,9, -999.00,9,  -999.0,9,  -999.0,-999.000,9,-999.000,     -999.0,-999.0000,-999.000,     1.4384,-999.000
  316N138_4,       P06C,     156,          1,         12,        112,2,19920627,       0340,   -32.5127,  -169.4913,       5513,  3561.7,   1.6130,  34.7075,2,  34.7068,2,    180.7,2,   180.2,2,  114.20,2,   34.18,2,    0.00,2,    2.33,2,-999.000,5,-999.000,5,  -999.0,9,  -999.0,9,-999.000,9,-999.0000,9, -999.00,9, -999.00,9,  -999.0,9,  -999.0,-999.000,9,-999.000,     -999.0,-999.0000,-999.000,     1.3376,-999.000
  316N138_4,       P06C,     156,          1,         11,        129,2,19920627,       0340,   -32.5127,  -169.4913,       5513,  3772.1,   1.4762,  34.7182,2,  34.7162,2,    191.4,2,   192.1,2,  110.65,2,   33.12,2,    0.00,2,    2.26,2,-999.000,5,-999.000,5,  -999.0,9,  -999.0,9,-999.000,9,-999.0000,9, -999.00,9, -999.00,9,  -999.0,9,  -999.0,-999.000,9,-999.000,     -999.0,-999.0000,-999.000,     1.1822,-999.000
  316N138_4,       P06C,     156,          1,         10,        110,2,19920627,       0340,   -32.5127,  -169.4913,       5513,  3978.5,   1.3297,  34.7200,2,  34.7213,2,    198.9,2,   198.5,2,  112.42,2,   32.23,2,    0.00,2,    2.24,2,-999.000,5,-999.000,5,  -999.0,9,  -999.0,9,-999.000,9,-999.0000,9, -999.00,9, -999.00,9,  -999.0,9,  -999.0,-999.000,9,-999.000,     -999.0,-999.0000,-999.000,     1.0177,-999.000
  316N138_4,       P06C,     156,          1,          9,        126,2,19920627,       0340,   -32.5127,  -169.4913,       5513,  4179.4,   1.1839,  34.7169,2,  34.7166,2,    203.4,2,   202.3,2,  114.90,2,   31.93,2,    0.00,2,    2.25,2,-999.000,5,-999.000,5,  -999.0,9,  -999.0,9,-999.000,9,-999.0000,9, -999.00,9, -999.00,9,  -999.0,9,  -999.0,-999.000,9,-999.000,     -999.0,-999.0000,-999.000,     0.8543,-999.000
  316N138_4,       P06C,     156,          1,          8,        108,2,19920627,       0340,   -32.5127,  -169.4913,       5513,  4375.0,   1.0980,  34.7132,2,  34.7136,2,    205.3,2,   204.3,2,  117.74,2,   31.93,2,    0.00,2,    2.26,2,-999.000,5,-999.000,5,  -999.0,9,  -999.0,9,-999.000,9,-999.0000,9, -999.00,9, -999.00,9,  -999.0,9,  -999.0,-999.000,9,-999.000,     -999.0,-999.0000,-999.000,     0.7494,-999.000
  316N138_4,       P06C,     156,          1,          7,        107,2,19920627,       0340,   -32.5127,  -169.4913,       5513,  4571.8,   1.0493,  34.7103,2,  34.7113,2,    206.6,2,   205.7,2,  120.05,2,   31.88,2,    0.00,2,    2.26,2,-999.000,5,-999.000,5,  -999.0,9,  -999.0,9,-999.000,9,-999.0000,9, -999.00,9, -999.00,9,  -999.0,9,  -999.0,-999.000,9,-999.000,     -999.0,-999.0000,-999.000,     0.6801,-999.000
  316N138_4,       P06C,     156,          1,          6,        180,2,19920627,       0340,   -32.5127,  -169.4913,       5513,  4770.3,   1.0283,  34.7085,2,  34.7101,2,    207.3,2,   206.1,2,  121.29,2,   31.85,2,    0.00,2,    2.26,2,-999.000,5,-999.000,5,  -999.0,9,  -999.0,9,-999.000,9,-999.0000,9, -999.00,9, -999.00,9,  -999.0,9,  -999.0,-999.000,9,-999.000,     -999.0,-999.0000,-999.000,     0.6368,-999.000
  316N138_4,       P06C,     156,          1,          5,        131,2,19920627,       0340,   -32.5127,  -169.4913,       5513,  4973.3,   1.0257,  34.7077,2,  34.7083,2,    207.7,2,   206.6,2,  121.64,2,   31.85,2,    0.00,2,    2.26,2,-999.000,5,-999.000,5,  -999.0,9,  -999.0,9,-999.000,9,-999.0000,9, -999.00,9, -999.00,9,  -999.0,9,  -999.0,-999.000,9,-999.000,     -999.0,-999.0000,-999.000,     0.6106,-999.000
  316N138_4,       P06C,     156,          1,          4,        104,2,19920627,       0340,   -32.5127,  -169.4913,       5513,  5181.2,   1.0369,  34.7078,2,  34.7076,2,    207.6,2,   206.7,2,  121.15,2,   31.88,2,    0.01,2,    2.26,2,-999.000,5,-999.000,5,  -999.0,9,  -999.0,9,-999.000,9,-999.0000,9, -999.00,9, -999.00,9,  -999.0,9,  -999.0,-999.000,9,-999.000,     -999.0,-999.0000,-999.000,     0.5964,-999.000
  316N138_4,       P06C,     156,          1,          3,        130,2,19920627,       0340,   -32.5127,  -169.4913,       5513,  5390.3,   1.0599,  34.7074,2,  34.7064,2,    207.3,2,   205.5,4,  121.36,2,   31.91,2,    0.02,2,    2.26,2,-999.000,5,-999.000,5,  -999.0,9,  -999.0,9,-999.000,9,-999.0000,9, -999.00,9, -999.00,9,  -999.0,9,  -999.0,-999.000,9,-999.000,     -999.0,-999.0000,-999.000,     0.5930,-999.000
  316N138_4,       P06C,     156,          1,          2,        135,2,19920627,       0340,   -32.5127,  -169.4913,       5513,  5597.1,   1.0855,  34.7072,2,  34.7064,2,    206.7,2,   206.9,2,  121.74,2,   31.93,2,    0.04,2,    2.26,2,-999.000,5,-999.000,5,  -999.0,9,  -999.0,9,-999.000,9,-999.0000,9, -999.00,9, -999.00,9,  -999.0,9,  -999.0,-999.000,9,-999.000,     -999.0,-999.0000,-999.000,     0.5918,-999.000