BOTTLE,20211025CCHSIORKP
EXPOCODE,SECT_ID,STNNBR,CASTNO,SAMPNO,BTLNBR,BTLNBR_FLAG_W,DATE,TIME,LATITUDE,LONGITUDE,DEPTH,CTDPRS,CTDTMP,CTDSAL,CTDSAL_FLAG_W,SALNTY,SALNTY_FLAG_W,CTDOXY,CTDOXY_FLAG_W,OXYGEN,OXYGEN_FLAG_W,SILCAT,SILCAT_FLAG_W,NITRAT,NITRAT_FLAG_W,NITRIT,NITRIT_FLAG_W,PHSPHT,PHSPHT_FLAG_W,CFC-11,CFC-11_FLAG_W,CFC-12,CFC-12_FLAG_W,TCARBN,TCARBN_FLAG_W,PCO2,PCO2_FLAG_W,TRITUM,TRITUM_FLAG_W,HELIUM,HELIUM_FLAG_W,DELHE3,DELHE3_FLAG_W,DELC13,DELC13_FLAG_W,DELC14,DELC14_FLAG_W,C14ERR,NEON,NEON_FLAG_W,NEONER,PCO2TMP,HELIER,DELHER,THETA,TRITER
,,,,,,,,,,,METERS,DBAR,ITS-90,PSS-78,,PSS-78,,UMOL/KG,,UMOL/KG,,UMOL/KG,,UMOL/KG,,UMOL/KG,,UMOL/KG,,PMOL/KG,,PMOL/KG,,UMOL/KG,,UATM,,TU,,NMOL/KG,,PERCNT,,/MILLE,,/MILLE,,/MILLE,NMOL/KG,,NMOL/KG,DEG_C,NMOL/KG,PERCNT,ITS-90,TU
  316N138_4,       P06C,      99,          1,         36,    02-9121,2,19920608,       1348,   -32.4988,  -129.3235,       4089,    19.6,  19.4854,  35.2486,2,  35.2536,2,    267.1,3,   228.2,2,    0.31,2,    0.03,2,    0.02,2,    0.12,2,-999.000,9,-999.000,9,  -999.0,9,  -999.0,9,-999.000,9,-999.0000,9, -999.00,9, -999.00,9,  -999.0,9,  -999.0,-999.000,9,-999.000,     -999.0,-999.0000,-999.000,    19.4818,-999.000
  316N138_4,       P06C,      99,          1,         35,    02-9454,2,19920608,       1348,   -32.4988,  -129.3235,       4089,    59.4,  19.4969,  35.2494,2,  35.2526,2,    229.8,2,   228.0,2,    0.14,2,    0.00,2,    0.02,2,    0.14,2,-999.000,9,-999.000,9,  -999.0,9,  -999.0,9,-999.000,9,-999.0000,9, -999.00,9, -999.00,9,  -999.0,9,  -999.0,-999.000,9,-999.000,     -999.0,-999.0000,-999.000,    19.4861,-999.000
  316N138_4,       P06C,      99,          1,         34,    02-9457,2,19920608,       1348,   -32.4988,  -129.3235,       4089,    89.5,  19.4860,  35.2498,2,  35.2519,2,    230.8,2,   228.3,2,    0.31,2,    0.03,2,    0.02,2,    0.14,2,-999.000,9,-999.000,9,  -999.0,9,  -999.0,9,-999.000,9,-999.0000,9, -999.00,9, -999.00,9,  -999.0,9,  -999.0,-999.000,9,-999.000,     -999.0,-999.0000,-999.000,    19.4698,-999.000
  316N138_4,       P06C,      99,          1,         33,    02-5367,2,19920608,       1348,   -32.4988,  -129.3235,       4089,   118.2,  17.9779,  35.1450,2,  35.1752,2,    238.9,2,   243.9,2,    0.30,2,    0.03,2,    0.02,2,    0.16,2,-999.000,9,-999.000,9,  -999.0,9,  -999.0,9,-999.000,9,-999.0000,9, -999.00,9, -999.00,9,  -999.0,9,  -999.0,-999.000,9,-999.000,     -999.0,-999.0000,-999.000,    17.9576,-999.000
  316N138_4,       P06C,      99,          1,         32,    02-9540,2,19920608,       1348,   -32.4988,  -129.3235,       4089,   149.7,  17.0428,  35.1175,2,  35.1376,2,    232.0,2,   240.9,2,    0.30,2,    0.02,2,    0.02,2,    0.19,2,-999.000,9,-999.000,9,  -999.0,9,  -999.0,9,-999.000,9,-999.0000,9, -999.00,9, -999.00,9,  -999.0,9,  -999.0,-999.000,9,-999.000,     -999.0,-999.0000,-999.000,    17.0180,-999.000
  316N138_4,       P06C,      99,          1,         31,    02-9539,2,19920608,       1348,   -32.4988,  -129.3235,       4089,   178.8,  15.9265,  35.0746,2,  35.0703,2,    223.6,2,   225.9,2,    0.30,2,    0.71,2,    0.16,2,    0.30,2,-999.000,9,-999.000,9,  -999.0,9,  -999.0,9,-999.000,9,-999.0000,9, -999.00,9, -999.00,9,  -999.0,9,  -999.0,-999.000,9,-999.000,     -999.0,-999.0000,-999.000,    15.8983,-999.000
  316N138_4,       P06C,      99,          1,         30,    02-9456,2,19920608,       1348,   -32.4988,  -129.3235,       4089,   208.7,  14.7576,  35.0278,2,  35.0348,2,    224.1,2,   212.7,2,    0.82,2,    4.25,2,    0.02,2,    0.49,2,-999.000,9,-999.000,9,  -999.0,9,  -999.0,9,-999.000,9,-999.0000,9, -999.00,9, -999.00,9,  -999.0,9,  -999.0,-999.000,9,-999.000,     -999.0,-999.0000,-999.000,    14.7263,-999.000
  316N138_4,       P06C,      99,          1,         29,    02-9458,2,19920608,       1348,   -32.4988,  -129.3235,       4089,   259.5,  13.4655,  34.9458,2,  34.9410,2,    207.1,2,   201.1,2,    1.52,2,    8.37,2,    0.01,2,    0.76,2,-999.000,9,-999.000,9,  -999.0,9,  -999.0,9,-999.000,9,-999.0000,9, -999.00,9, -999.00,9,  -999.0,9,  -999.0,-999.000,9,-999.000,     -999.0,-999.0000,-999.000,    13.4289,-999.000
  316N138_4,       P06C,      99,          1,         28,    02-9545,2,19920608,       1348,   -32.4988,  -129.3235,       4089,   309.1,  11.1396,  34.7137,2,  34.7107,2,    205.6,2,   203.8,2,    2.58,2,   13.39,2,    0.00,2,    1.03,2,-999.000,9,-999.000,9,  -999.0,9,  -999.0,9,-999.000,9,-999.0000,9, -999.00,9, -999.00,9,  -999.0,9,  -999.0,-999.000,9,-999.000,     -999.0,-999.0000,-999.000,    11.1011,-999.000
  316N138_4,       P06C,      99,          1,         27,    02-9453,2,19920608,       1348,   -32.4988,  -129.3235,       4089,   358.9,   9.2444,  34.5568,2,  34.5351,2,    217.2,2,   215.7,2,    3.81,2,   17.21,2,    0.00,2,    1.26,2,-999.000,9,-999.000,9,  -999.0,9,  -999.0,9,-999.000,9,-999.0000,9, -999.00,9, -999.00,9,  -999.0,9,  -999.0,-999.000,9,-999.000,     -999.0,-999.0000,-999.000,     9.2046,-999.000
  316N138_4,       P06C,      99,          1,         26,    02-9544,2,19920608,       1348,   -32.4988,  -129.3235,       4089,   410.6,   8.1811,  34.4571,2,  34.4585,2,    225.6,2,   224.9,2,    4.51,2,   19.17,2,    0.00,2,    1.37,2,-999.000,9,-999.000,9,  -999.0,9,  -999.0,9,-999.000,9,-999.0000,9, -999.00,9, -999.00,9,  -999.0,9,  -999.0,-999.000,9,-999.000,     -999.0,-999.0000,-999.000,     8.1388,-999.000
  316N138_4,       P06C,      99,          1,         25,    02-9455,2,19920608,       1348,   -32.4988,  -129.3235,       4089,   456.8,   7.5910,  34.4196,2,  34.4196,2,    233.6,2,   234.9,2,    5.21,2,   20.20,2,    0.00,2,    1.42,2,-999.000,9,-999.000,9,  -999.0,9,  -999.0,9,-999.000,9,-999.0000,9, -999.00,9, -999.00,9,  -999.0,9,  -999.0,-999.000,9,-999.000,     -999.0,-999.0000,-999.000,     7.5458,-999.000
  316N138_4,       P06C,      99,          1,         24,        132,2,19920608,       1348,   -32.4988,  -129.3235,       4089,   533.5,   6.9072,  34.3773,2,  34.3764,2,    241.4,2,   241.1,2,    6.61,2,   21.75,2,    0.00,2,    1.52,2,-999.000,9,-999.000,9,  -999.0,9,  -999.0,9,-999.000,9,-999.0000,9, -999.00,9, -999.00,9,  -999.0,9,  -999.0,-999.000,9,-999.000,     -999.0,-999.0000,-999.000,     6.8570,-999.000
  316N138_4,       P06C,      99,          1,         23,        123,2,19920608,       1348,   -32.4988,  -129.3235,       4089,   609.8,   6.5597,  34.3574,2,  34.3554,2,    244.1,2,   244.2,2,    7.67,2,   22.42,2,   -0.01,2,    1.56,2,-999.000,9,-999.000,9,  -999.0,9,  -999.0,9,-999.000,9,-999.0000,9, -999.00,9, -999.00,9,  -999.0,9,  -999.0,-999.000,9,-999.000,     -999.0,-999.0000,-999.000,     6.5035,-999.000
  316N138_4,       P06C,      99,          1,         22,        128,2,19920608,       1348,   -32.4988,  -129.3235,       4089,   687.2,   6.2046,  34.3311,2,  34.3313,2,    241.0,2,   241.3,2,    9.07,2,   23.58,2,    0.00,2,    1.64,2,-999.000,9,-999.000,9,  -999.0,9,  -999.0,9,-999.000,9,-999.0000,9, -999.00,9, -999.00,9,  -999.0,9,  -999.0,-999.000,9,-999.000,     -999.0,-999.0000,-999.000,     6.1428,-999.000
  316N138_4,       P06C,      99,          1,         21,        121,2,19920608,       1348,   -32.4988,  -129.3235,       4089,   759.9,   5.8073,  34.3076,2,  34.3062,2,    235.6,2,   236.4,2,   11.19,2,   24.99,2,    0.00,2,    1.73,2,-999.000,9,-999.000,9,  -999.0,9,  -999.0,9,-999.000,9,-999.0000,9, -999.00,9, -999.00,9,  -999.0,9,  -999.0,-999.000,9,-999.000,     -999.0,-999.0000,-999.000,     5.7408,-999.000
  316N138_4,       P06C,      99,          1,         20,        120,2,19920608,       1348,   -32.4988,  -129.3235,       4089,   839.3,   5.4528,  34.2958,2,  34.2934,2,    226.4,2,   229.3,2,   14.36,2,   26.41,2,   -0.01,2,    1.83,2,-999.000,9,-999.000,9,  -999.0,9,  -999.0,9,-999.000,9,-999.0000,9, -999.00,9, -999.00,9,  -999.0,9,  -999.0,-999.000,9,-999.000,     -999.0,-999.0000,-999.000,     5.3813,-999.000
  316N138_4,       P06C,      99,          1,         19,        133,2,19920608,       1348,   -32.4988,  -129.3235,       4089,   911.0,   5.0343,  34.2964,2,  34.2921,2,    215.5,2,   217.6,2,   19.81,2,   28.30,2,   -0.01,2,    1.94,2,-999.000,9,-999.000,9,  -999.0,9,  -999.0,9,-999.000,9,-999.0000,9, -999.00,9, -999.00,9,  -999.0,9,  -999.0,-999.000,9,-999.000,     -999.0,-999.0000,-999.000,     4.9591,-999.000
  316N138_4,       P06C,      99,          1,         18,        118,2,19920608,       1348,   -32.4988,  -129.3235,       4089,  1013.4,   4.4401,  34.3193,2,  34.3164,2,    200.9,2,   199.3,2,   30.38,2,   30.90,2,   -0.01,2,    2.12,2,-999.000,9,-999.000,9,  -999.0,9,  -999.0,9,-999.000,9,-999.0000,9, -999.00,9, -999.00,9,  -999.0,9,  -999.0,-999.000,9,-999.000,     -999.0,-999.0000,-999.000,     4.3603,-999.000
  316N138_4,       P06C,      99,          1,         17,        117,2,19920608,       1348,   -32.4988,  -129.3235,       4089,  1165.5,   3.7554,  34.3772,2,  34.3766,2,    181.7,2,   179.8,2,   45.70,2,   33.16,2,    0.00,2,    2.29,2,-999.000,9,-999.000,9,  -999.0,9,  -999.0,9,-999.000,9,-999.0000,9, -999.00,9, -999.00,9,  -999.0,9,  -999.0,-999.000,9,-999.000,     -999.0,-999.0000,-999.000,     3.6682,-999.000
  316N138_4,       P06C,      99,          1,         16,        116,2,19920608,       1348,   -32.4988,  -129.3235,       4089,  1314.9,   3.1840,  34.4454,2,  34.4449,2,    172.5,2,   171.6,2,   60.85,2,   34.22,2,   -0.01,2,    2.36,2,-999.000,9,-999.000,9,  -999.0,9,  -999.0,9,-999.000,9,-999.0000,9, -999.00,9, -999.00,9,  -999.0,9,  -999.0,-999.000,9,-999.000,     -999.0,-999.0000,-999.000,     3.0898,-999.000
  316N138_4,       P06C,      99,          1,         15,        115,2,19920608,       1348,   -32.4988,  -129.3235,       4089,  1517.5,   2.7071,  34.5314,2,  34.5292,2,    165.6,2,   163.7,2,   79.00,2,   34.59,2,   -0.01,2,    2.41,2,-999.000,9,-999.000,9,  -999.0,9,  -999.0,9,-999.000,9,-999.0000,9, -999.00,9, -999.00,9,  -999.0,9,  -999.0,-999.000,9,-999.000,     -999.0,-999.0000,-999.000,     2.6013,-999.000
  316N138_4,       P06C,      99,          1,         14,        114,2,19920608,       1348,   -32.4988,  -129.3235,       4089,  1719.5,   2.4342,  34.5842,2,  34.5800,2,    159.2,2,   159.3,2,   92.38,2,   34.79,2,   -0.01,2,    2.45,2,-999.000,9,-999.000,9,  -999.0,9,  -999.0,9,-999.000,9,-999.0000,9, -999.00,9, -999.00,9,  -999.0,9,  -999.0,-999.000,9,-999.000,     -999.0,-999.0000,-999.000,     2.3150,-999.000
  316N138_4,       P06C,      99,          1,         13,        125,2,19920608,       1348,   -32.4988,  -129.3235,       4089,  1917.0,   2.2095,  34.6197,2,  34.6150,2,    156.2,2,   156.0,2,  104.90,2,   34.97,2,   -0.01,2,    2.48,2,-999.000,9,-999.000,9,  -999.0,9,  -999.0,9,-999.000,9,-999.0000,9, -999.00,9, -999.00,9,  -999.0,9,  -999.0,-999.000,9,-999.000,     -999.0,-999.0000,-999.000,     2.0769,-999.000
  316N138_4,       P06C,      99,          1,         12,        112,2,19920608,       1348,   -32.4988,  -129.3235,       4089,  2121.5,   2.0202,  34.6397,2,  34.6372,2,    154.9,2,   155.0,2,  114.23,2,   35.11,2,   -0.01,2,    2.47,2,-999.000,9,-999.000,9,  -999.0,9,  -999.0,9,-999.000,9,-999.0000,9, -999.00,9, -999.00,9,  -999.0,9,  -999.0,-999.000,9,-999.000,     -999.0,-999.0000,-999.000,     1.8731,-999.000
  316N138_4,       P06C,      99,          1,         11,        129,2,19920608,       1348,   -32.4988,  -129.3235,       4089,  2327.0,   1.9056,  34.6518,2,  34.6496,2,    155.8,2,   156.2,2,  118.30,2,   35.11,2,   -0.01,2,    2.49,2,-999.000,9,-999.000,9,  -999.0,9,  -999.0,9,-999.000,9,-999.0000,9, -999.00,9, -999.00,9,  -999.0,9,  -999.0,-999.000,9,-999.000,     -999.0,-999.0000,-999.000,     1.7426,-999.000
  316N138_4,       P06C,      99,          1,         10,        110,3,19920608,       1348,   -32.4988,  -129.3235,       4089,  2529.5,   1.8108,  34.6603,2,  34.6531,4,    158.3,2,   158.7,2,  116.01,4,   34.48,4,   -0.01,4,    2.43,4,-999.000,9,-999.000,9,  -999.0,9,  -999.0,9,-999.000,9,-999.0000,9, -999.00,9, -999.00,9,  -999.0,9,  -999.0,-999.000,9,-999.000,     -999.0,-999.0000,-999.000,     1.6313,-999.000
  316N138_4,       P06C,      99,          1,          9,        126,2,19920608,       1348,   -32.4988,  -129.3235,       4089,  2736.0,   1.7390,  34.6667,2,-999.0000,9,    160.8,2,  -999.0,9, -999.00,9, -999.00,9, -999.00,9, -999.00,9,-999.000,9,-999.000,9,  -999.0,9,  -999.0,9,-999.000,9,-999.0000,9, -999.00,9, -999.00,9,  -999.0,9,  -999.0,-999.000,9,-999.000,     -999.0,-999.0000,-999.000,     1.5420,-999.000
  316N138_4,       P06C,      99,          1,          8,        108,2,19920608,       1348,   -32.4988,  -129.3235,       4089,  2939.5,   1.6885,  34.6716,2,  34.6663,2,    163.3,2,   164.0,2,  122.53,2,   34.66,2,    0.00,2,    2.46,2,-999.000,9,-999.000,9,  -999.0,9,  -999.0,9,-999.000,9,-999.0000,9, -999.00,9, -999.00,9,  -999.0,9,  -999.0,-999.000,9,-999.000,     -999.0,-999.0000,-999.000,     1.4734,-999.000
  316N138_4,       P06C,      99,          1,          7,        107,2,19920608,       1348,   -32.4988,  -129.3235,       4089,  3140.8,   1.6586,  34.6747,2,  34.6728,2,    165.9,2,   166.0,2,  122.89,2,   34.53,2,   -0.01,2,    2.45,2,-999.000,9,-999.000,9,  -999.0,9,  -999.0,9,-999.000,9,-999.0000,9, -999.00,9, -999.00,9,  -999.0,9,  -999.0,-999.000,9,-999.000,     -999.0,-999.0000,-999.000,     1.4247,-999.000
  316N138_4,       P06C,      99,          1,          6,        180,2,19920608,       1348,   -32.4988,  -129.3235,       4089,  3346.1,   1.6307,  34.6787,2,  34.6759,2,    168.5,2,   168.6,2,  122.54,2,   34.33,2,    0.00,2,    2.43,2,-999.000,9,-999.000,9,  -999.0,9,  -999.0,9,-999.000,9,-999.0000,9, -999.00,9, -999.00,9,  -999.0,9,  -999.0,-999.000,9,-999.000,     -999.0,-999.0000,-999.000,     1.3770,-999.000
  316N138_4,       P06C,      99,          1,          5,        131,2,19920608,       1348,   -32.4988,  -129.3235,       4089,  3549.0,   1.5835,  34.6826,2,  34.6822,2,    171.8,2,   171.8,2,  122.37,2,   34.08,2,    0.00,2,    2.41,2,-999.000,9,-999.000,9,  -999.0,9,  -999.0,9,-999.000,9,-999.0000,9, -999.00,9, -999.00,9,  -999.0,9,  -999.0,-999.000,9,-999.000,     -999.0,-999.0000,-999.000,     1.3102,-999.000
  316N138_4,       P06C,      99,          1,          4,        104,2,19920608,       1348,   -32.4988,  -129.3235,       4089,  3753.5,   1.5745,  34.6845,2,  34.6832,2,    173.9,2,   173.5,2,  122.20,2,   33.99,2,    0.00,2,    2.40,2,-999.000,9,-999.000,9,  -999.0,9,  -999.0,9,-999.000,9,-999.0000,9, -999.00,9, -999.00,9,  -999.0,9,  -999.0,-999.000,9,-999.000,     -999.0,-999.0000,-999.000,     1.2800,-999.000
  316N138_4,       P06C,      99,          1,          3,        130,2,19920608,       1348,   -32.4988,  -129.3235,       4089,  3956.4,   1.5762,  34.6864,2,  34.6846,2,    175.4,2,   174.5,2,  122.02,2,   33.90,2,    0.00,2,    2.41,2,-999.000,9,-999.000,9,  -999.0,9,  -999.0,9,-999.000,9,-999.0000,9, -999.00,9, -999.00,9,  -999.0,9,  -999.0,-999.000,9,-999.000,     -999.0,-999.0000,-999.000,     1.2599,-999.000
  316N138_4,       P06C,      99,          1,          2,        135,2,19920608,       1348,   -32.4988,  -129.3235,       4089,  4055.6,   1.5812,  34.6868,2,  34.6873,2,    175.6,2,   174.8,2,  122.21,2,   33.95,2,    0.00,2,    2.41,2,-999.000,9,-999.000,9,  -999.0,9,  -999.0,9,-999.000,9,-999.0000,9, -999.00,9, -999.00,9,  -999.0,9,  -999.0,-999.000,9,-999.000,     -999.0,-999.0000,-999.000,     1.2539,-999.000
  316N138_4,       P06C,      99,          1,          1,        134,2,19920608,       1348,   -32.4988,  -129.3235,       4089,  4157.1,   1.5854,  34.6879,2,  34.6899,2,    174.6,2,   175.5,2,  121.77,2,   33.91,2,    0.01,2,    2.39,2,-999.000,9,-999.000,9,  -999.0,9,  -999.0,9,-999.000,9,-999.0000,9, -999.00,9, -999.00,9,  -999.0,9,  -999.0,-999.000,9,-999.000,     -999.0,-999.0000,-999.000,     1.2467,-999.000