BOTTLE,20211025CCHSIORKP
EXPOCODE,SECT_ID,STNNBR,CASTNO,SAMPNO,BTLNBR,BTLNBR_FLAG_W,DATE,TIME,LATITUDE,LONGITUDE,DEPTH,CTDPRS,CTDTMP,CTDSAL,CTDSAL_FLAG_W,SALNTY,SALNTY_FLAG_W,CTDOXY,CTDOXY_FLAG_W,OXYGEN,OXYGEN_FLAG_W,SILCAT,SILCAT_FLAG_W,NITRAT,NITRAT_FLAG_W,NITRIT,NITRIT_FLAG_W,PHSPHT,PHSPHT_FLAG_W,CFC-11,CFC-11_FLAG_W,CFC-12,CFC-12_FLAG_W,TCARBN,TCARBN_FLAG_W,PCO2,PCO2_FLAG_W,TRITUM,TRITUM_FLAG_W,HELIUM,HELIUM_FLAG_W,DELHE3,DELHE3_FLAG_W,DELC13,DELC13_FLAG_W,DELC14,DELC14_FLAG_W,C14ERR,NEON,NEON_FLAG_W,NEONER,PCO2TMP,HELIER,DELHER,THETA,TRITER
,,,,,,,,,,,METERS,DBAR,ITS-90,PSS-78,,PSS-78,,UMOL/KG,,UMOL/KG,,UMOL/KG,,UMOL/KG,,UMOL/KG,,UMOL/KG,,PMOL/KG,,PMOL/KG,,UMOL/KG,,UATM,,TU,,NMOL/KG,,PERCNT,,/MILLE,,/MILLE,,/MILLE,NMOL/KG,,NMOL/KG,DEG_C,NMOL/KG,PERCNT,ITS-90,TU
  316N138_4,       P06C,     179,          1,         36,    02-9121,2,19920703,       0110,   -32.5023,  -178.6540,       3450,    17.7,  16.8121,  35.5979,2,-999.0000,9,    262.5,2,  -999.0,9, -999.00,9, -999.00,9, -999.00,9, -999.00,9,-999.000,5,-999.000,5,  -999.0,9,  -999.0,9,-999.000,9,-999.0000,9, -999.00,9, -999.00,9,  -999.0,9,  -999.0,-999.000,9,-999.000,     -999.0,-999.0000,-999.000,    16.8092,-999.000
  316N138_4,       P06C,     179,          1,         35,    02-9454,2,19920703,       0110,   -32.5023,  -178.6540,       3450,    57.6,  16.7889,  35.5979,2,  35.5967,2,    234.7,2,   233.0,2,    1.36,2,    1.53,2,    0.18,2, -999.00,5,   2.651,2,-999.000,9,  2048.9,6,  -999.0,9,-999.000,9,-999.0000,9, -999.00,9, -999.00,9,  -999.0,9,  -999.0,-999.000,9,-999.000,     -999.0,-999.0000,-999.000,    16.7795,-999.000
  316N138_4,       P06C,     179,          1,         34,    02-9457,2,19920703,       0110,   -32.5023,  -178.6540,       3450,   105.8,  16.7905,  35.5971,2,  35.5957,2,    233.3,2,   231.3,2,    1.55,2,    1.39,2,    0.19,2, -999.00,5,-999.000,5,-999.000,5,  2051.0,2,  -999.0,9,-999.000,9,-999.0000,9, -999.00,9, -999.00,9,  -999.0,9,  -999.0,-999.000,9,-999.000,     -999.0,-999.0000,-999.000,    16.7732,-999.000
  316N138_4,       P06C,     179,          1,         33,    02-5367,2,19920703,       0110,   -32.5023,  -178.6540,       3450,   152.7,  16.0417,  35.4765,2,  35.5946,3,    224.2,2,   230.5,3,    1.36,2,    1.44,2,    0.18,2, -999.00,5,   2.636,2,   1.310,2,  2050.6,2,  -999.0,9,-999.000,9,-999.0000,9, -999.00,9, -999.00,9,  -999.0,9,  -999.0,-999.000,9,-999.000,     -999.0,-999.0000,-999.000,    16.0175,-999.000
  316N138_4,       P06C,     179,          1,         32,    02-9540,2,19920703,       0110,   -32.5023,  -178.6540,       3450,   203.6,  14.3861,  35.2990,2,  35.2974,2,    209.3,2,   201.5,2,    3.09,2,    8.35,2,    0.00,2, -999.00,5,-999.000,5,-999.000,5,  2091.1,2,  -999.0,9,-999.000,9,-999.0000,9, -999.00,9, -999.00,9,  -999.0,9,  -999.0,-999.000,9,-999.000,     -999.0,-999.0000,-999.000,    14.3562,-999.000
  316N138_4,       P06C,     179,          1,         31,    02-9539,2,19920703,       0110,   -32.5023,  -178.6540,       3450,   252.4,  13.4447,  35.1864,2,  35.1998,2,    205.2,2,   205.8,2,    3.67,2,    9.98,2,    0.00,2, -999.00,5,   2.208,2,   1.074,2,  2100.8,6,  -999.0,9,-999.000,9,-999.0000,9, -999.00,9, -999.00,9,  -999.0,9,  -999.0,-999.000,9,-999.000,     -999.0,-999.0000,-999.000,    13.4091,-999.000
  316N138_4,       P06C,     179,          1,         30,    02-9456,2,19920703,       0110,   -32.5023,  -178.6540,       3450,   301.7,  12.2729,  35.0446,2,  35.0463,2,    200.6,2,   200.9,2,    4.83,2,   12.89,2,    0.00,2, -999.00,5,-999.000,5,-999.000,5,  2111.3,2,  -999.0,9,-999.000,9,-999.0000,9, -999.00,9, -999.00,9,  -999.0,9,  -999.0,-999.000,9,-999.000,     -999.0,-999.0000,-999.000,    12.2327,-999.000
  316N138_4,       P06C,     179,          1,         29,    02-9458,2,19920703,       0110,   -32.5023,  -178.6540,       3450,   352.6,  11.1624,  34.9035,2,  34.9006,2,    201.8,2,   198.1,2,    5.42,2,   14.93,2,    0.00,2, -999.00,5,   1.776,2,   0.866,2,  2120.4,2,  -999.0,9,-999.000,9,-999.0000,9, -999.00,9, -999.00,9,  -999.0,9,  -999.0,-999.000,9,-999.000,     -999.0,-999.0000,-999.000,    11.1182,-999.000
  316N138_4,       P06C,     179,          1,         28,    02-9545,2,19920703,       0110,   -32.5023,  -178.6540,       3450,   402.2,  10.4992,  34.8243,2,  34.8180,2,    202.0,2,   199.7,2,    6.00,2,   16.29,2,    0.00,2, -999.00,5,-999.000,5,-999.000,5,  2124.9,2,  -999.0,9,-999.000,9,-999.0000,9, -999.00,9, -999.00,9,  -999.0,9,  -999.0,-999.000,9,-999.000,     -999.0,-999.0000,-999.000,    10.4507,-999.000
  316N138_4,       P06C,     179,          1,         27,    02-9453,2,19920703,       0110,   -32.5023,  -178.6540,       3450,   452.7,   9.7887,  34.7395,2,  34.7384,2,    204.4,2,   202.9,2,    7.16,2,   17.69,2,    0.00,2, -999.00,5,   1.469,2,   0.725,2,  2128.6,2,  -999.0,9,-999.000,9,-999.0000,9, -999.00,9, -999.00,9,  -999.0,9,  -999.0,-999.000,9,-999.000,     -999.0,-999.0000,-999.000,     9.7363,-999.000
  316N138_4,       P06C,     179,          1,         26,    02-9544,2,19920703,       0110,   -32.5023,  -178.6540,       3450,   502.9,   9.0651,  34.6556,2,  34.6559,2,    207.4,2,   204.5,2,    7.35,2,   19.33,2,    0.00,2, -999.00,5,   1.342,2,   0.656,2,  2135.7,2,  -999.0,9,-999.000,9,-999.0000,9, -999.00,9, -999.00,9,  -999.0,9,  -999.0,-999.000,9,-999.000,     -999.0,-999.0000,-999.000,     9.0095,-999.000
  316N138_4,       P06C,     179,          1,         25,    02-9455,3,19920703,       0110,   -32.5023,  -178.6540,       3450,   554.3,   8.4463,  34.5917,2,  34.7858,4,    211.1,2,   230.2,4,    6.96,4,   16.90,4,    0.02,4, -999.00,5,-999.000,5,-999.000,5,  2121.7,2,  -999.0,9,-999.000,9,-999.0000,9, -999.00,9, -999.00,9,  -999.0,9,  -999.0,-999.000,9,-999.000,     -999.0,-999.0000,-999.000,     8.3874,-999.000
  316N138_4,       P06C,     179,          1,         24,        132,2,19920703,       0110,   -32.5023,  -178.6540,       3450,   605.1,   7.9231,  34.5214,2,  34.5211,2,    213.8,2,   218.7,2,    7.93,2,   21.15,2,    0.00,2, -999.00,5,   1.148,2,   0.566,2,  2136.7,2,  -999.0,9,-999.000,9,-999.0000,9, -999.00,9,    1.17,2,    19.5,2,     3.6,-999.000,9,-999.000,     -999.0,-999.0000,-999.000,     7.8610,-999.000
  316N138_4,       P06C,     179,          1,         23,        123,2,19920703,       0110,   -32.5023,  -178.6540,       3450,   654.9,   7.6449,  34.5020,2,  34.4985,2,    218.0,2,   216.1,2,    9.86,2,   22.01,2,    0.00,2, -999.00,5,-999.000,5,-999.000,5,  2141.1,2,  -999.0,9,-999.000,9,-999.0000,9, -999.00,9,    1.23,2,    -7.1,2,     3.5,-999.000,9,-999.000,     -999.0,-999.0000,-999.000,     7.5789,-999.000
  316N138_4,       P06C,     179,          1,         22,        128,2,19920703,       0110,   -32.5023,  -178.6540,       3450,   705.1,   7.1099,  34.4410,2,  34.4440,2,    220.3,2,   221.8,2,    9.67,2,   22.87,2,    0.00,2, -999.00,5,   0.767,2,   0.388,2,  2140.4,2,  -999.0,9,-999.000,9,-999.0000,9, -999.00,9,    1.15,2,   -13.0,2,     3.5,-999.000,9,-999.000,     -999.0,-999.0000,-999.000,     7.0414,-999.000
  316N138_4,       P06C,     179,          1,         21,        121,2,19920703,       0110,   -32.5023,  -178.6540,       3450,   757.1,   6.9486,  34.4495,2,  34.4491,2,    217.1,2,   212.5,2,   13.54,2,   24.05,2,    0.00,2, -999.00,5,-999.000,5,-999.000,5,  2150.3,2,  -999.0,9,-999.000,9,-999.0000,9, -999.00,9,    1.14,2,   -42.6,2,     3.2,-999.000,9,-999.000,     -999.0,-999.0000,-999.000,     6.8758,-999.000
  316N138_4,       P06C,     179,          1,         20,        120,2,19920703,       0110,   -32.5023,  -178.6540,       3450,   806.2,   6.5581,  34.4125,2,  34.4247,2,    214.6,2,   211.0,2,   15.67,2,   25.08,2,    0.01,2, -999.00,5,   0.443,2,   0.237,2,  2156.7,2,  -999.0,9,-999.000,9,-999.0000,9, -999.00,9,    0.70,2,   -56.1,2,     5.2,-999.000,9,-999.000,     -999.0,-999.0000,-999.000,     6.4826,-999.000
  316N138_4,       P06C,     179,          1,         19,        133,2,19920703,       0110,   -32.5023,  -178.6540,       3450,   856.9,   6.2846,  34.4149,2,  34.4116,2,    212.7,2,   208.8,2,   17.79,2,   25.90,2,    0.00,2, -999.00,5,-999.000,5,-999.000,5,  2161.1,2,  -999.0,9,-999.000,9,-999.0000,9, -999.00,9,    0.74,2,  -999.0,9,  -999.0,-999.000,9,-999.000,     -999.0,-999.0000,-999.000,     6.2059,-999.000
  316N138_4,       P06C,     179,          1,         18,        118,2,19920703,       0110,   -32.5023,  -178.6540,       3450,   958.0,   5.7682,  34.4195,2,  34.4180,2,    202.1,2,   198.4,2,   25.91,2,   27.72,2,    0.00,2, -999.00,5,   0.240,2,   0.131,2,  2175.9,6,  -999.0,9,-999.000,9,-999.0000,9, -999.00,9,    0.81,2,   -85.4,2,     3.0,-999.000,9,-999.000,     -999.0,-999.0000,-999.000,     5.6832,-999.000
  316N138_4,       P06C,     179,          1,         17,        117,2,19920703,       0110,   -32.5023,  -178.6540,       3450,  1059.4,   5.1326,  34.4184,2,  34.4155,2,    193.6,2,   191.0,2,   34.42,2,   29.57,2,    0.01,2, -999.00,5,-999.000,9,   0.070,2,  2191.3,2,  -999.0,9,-999.000,9,-999.0000,9, -999.00,9,    0.77,2,  -103.4,2,     3.0,-999.000,9,-999.000,     -999.0,-999.0000,-999.000,     5.0430,-999.000
  316N138_4,       P06C,     179,          1,         16,        116,2,19920703,       0110,   -32.5023,  -178.6540,       3450,  1161.1,   4.6324,  34.4272,2,  34.4271,2,    187.0,2,   184.5,2,   43.11,2,   30.89,2,    0.01,2, -999.00,5,-999.000,5,-999.000,5,  2206.1,2,  -999.0,9,-999.000,9,-999.0000,9, -999.00,9,    0.70,2,  -122.2,2,     5.2,-999.000,9,-999.000,     -999.0,-999.0000,-999.000,     4.5377,-999.000
  316N138_4,       P06C,     179,          1,         15,        115,2,19920703,       0110,   -32.5023,  -178.6540,       3450,  1261.9,   4.2370,  34.4472,2,  34.4424,2,    180.3,2,   179.0,2,   51.04,2,   31.97,2,    0.01,2, -999.00,5,   0.047,2,   0.029,2,  2218.2,2,  -999.0,9,-999.000,9,-999.0000,9, -999.00,9,    0.64,2,  -148.6,2,     6.2,-999.000,9,-999.000,     -999.0,-999.0000,-999.000,     4.1369,-999.000
  316N138_4,       P06C,     179,          1,         14,        114,2,19920703,       0110,   -32.5023,  -178.6540,       3450,  1364.0,   3.8299,  34.4736,2,  34.4730,2,    174.4,2,   173.4,2,   61.48,2,   32.89,2,    0.00,2, -999.00,5,-999.000,5,-999.000,5,  2233.4,2,  -999.0,9,-999.000,9,-999.0000,9, -999.00,9,    0.54,2,  -147.7,2,     6.0,-999.000,9,-999.000,     -999.0,-999.0000,-999.000,     3.7248,-999.000
  316N138_4,       P06C,     179,          1,         13,        125,2,19920703,       0110,   -32.5023,  -178.6540,       3450,  1464.2,   3.5311,  34.4910,2,  34.4985,2,    168.7,2,   171.9,2,   68.04,2,   33.47,2,    0.00,2, -999.00,5,   0.022,2,   0.005,2,  2243.6,2,  -999.0,9,-999.000,9,-999.0000,9, -999.00,9,    0.46,2,  -144.5,2,     4.4,-999.000,9,-999.000,     -999.0,-999.0000,-999.000,     3.4205,-999.000
  316N138_4,       P06C,     179,          1,         12,        112,2,19920703,       0110,   -32.5023,  -178.6540,       3450,  1614.8,   3.1041,  34.5565,2,  34.5500,2,    162.8,2,   162.6,2,   83.12,2,   34.11,2,    0.00,2, -999.00,5,   0.012,2,   0.005,2,  2261.8,2,  -999.0,9,-999.000,9,-999.0000,9, -999.00,9,    0.39,2,  -146.1,2,     8.1,-999.000,9,-999.000,     -999.0,-999.0000,-999.000,     2.9853,-999.000
  316N138_4,       P06C,     179,          1,         11,        129,2,19920703,       0110,   -32.5023,  -178.6540,       3450,  1766.9,   2.8316,  34.5885,2,  34.5899,2,    158.9,2,   157.9,2,   94.89,2,   34.28,2,    0.00,2, -999.00,5,   0.013,2,   0.000,2,  2275.4,2,  -999.0,9,-999.000,9,-999.0000,9, -999.00,9,    0.28,2,  -160.4,2,     6.2,-999.000,9,-999.000,     -999.0,-999.0000,-999.000,     2.7032,-999.000
  316N138_4,       P06C,     179,          1,         10,        110,2,19920703,       0110,   -32.5023,  -178.6540,       3450,  1916.4,   2.6486,  34.6079,2,  34.6083,2,    157.0,2,   156.5,2,  101.07,2,   34.54,2,    0.01,2, -999.00,5,   0.007,2,   0.000,2,  2282.7,2,  -999.0,9,-999.000,9,-999.0000,9, -999.00,9,    0.17,2,  -207.4,2,     5.3,-999.000,9,-999.000,     -999.0,-999.0000,-999.000,     2.5097,-999.000
  316N138_4,       P06C,     179,          1,          9,        126,2,19920703,       0110,   -32.5023,  -178.6540,       3450,  2067.0,   2.4311,  34.6228,2,  34.6238,2,    154.6,2,   153.0,2,  108.01,2,   35.00,2,    0.00,2, -999.00,5,   0.006,2,  -0.001,2,  2292.4,2,  -999.0,9,-999.000,9,-999.0000,9, -999.00,9,    0.21,2,  -195.8,2,     4.7,-999.000,9,-999.000,     -999.0,-999.0000,-999.000,     2.2823,-999.000
  316N138_4,       P06C,     179,          1,          8,        108,2,19920703,       0110,   -32.5023,  -178.6540,       3450,  2217.4,   2.2639,  34.6397,2,  34.6399,2,    154.0,2,   152.7,2,  113.23,2,   35.04,2,    0.00,2, -999.00,5,   0.000,2,   0.005,2,  2298.2,2,  -999.0,9,-999.000,9,-999.0000,9, -999.00,9,    0.11,2,  -214.7,2,    12.4,-999.000,9,-999.000,     -999.0,-999.0000,-999.000,     2.1044,-999.000
  316N138_4,       P06C,     179,          1,          7,        107,2,19920703,       0110,   -32.5023,  -178.6540,       3450,  2367.3,   2.2056,  34.6442,2,  34.6458,2,    153.9,2,   153.0,2,  115.15,2,   34.86,2,    0.00,2, -999.00,5,  -0.002,2,  -0.004,2,  2300.0,2,  -999.0,9,-999.000,9,-999.0000,9, -999.00,9,    0.16,2,  -209.1,2,     5.2,-999.000,9,-999.000,     -999.0,-999.0000,-999.000,     2.0336,-999.000
  316N138_4,       P06C,     179,          1,          6,        180,2,19920703,       0110,   -32.5023,  -178.6540,       3450,  2518.8,   1.9596,  34.6649,2,  34.6651,2,    155.2,2,   155.4,2,  119.97,2,   34.85,2,    0.00,2, -999.00,5,  -0.002,2,  -0.003,2,  2302.1,2,  -999.0,9,-999.000,9,-999.0000,9, -999.00,9,    0.07,2,  -230.9,3,     5.7,-999.000,9,-999.000,     -999.0,-999.0000,-999.000,     1.7783,-999.000
  316N138_4,       P06C,     179,          1,          5,        131,2,19920703,       0110,   -32.5023,  -178.6540,       3450,  2720.7,   1.8015,  34.7026,2,  34.7028,2,    175.6,2,   177.2,2,  108.57,2,   32.80,2,    0.01,2, -999.00,5,   0.000,2,  -0.002,2,  2278.1,2,  -999.0,9,-999.000,9,-999.0000,9, -999.00,9,    0.20,2,  -178.6,2,     4.2,-999.000,9,-999.000,     -999.0,-999.0000,-999.000,     1.6045,-999.000
  316N138_4,       P06C,     179,          1,          4,        104,2,19920703,       0110,   -32.5023,  -178.6540,       3450,  2920.7,   1.6518,  34.7186,2,  34.7191,2,    185.9,2,   187.1,2,  105.08,2,   31.94,2,    0.00,2, -999.00,5,   0.003,2,   0.000,2,  2267.0,2,  -999.0,9,-999.000,9,-999.0000,9, -999.00,9,    0.29,2,  -161.1,2,     4.9,-999.000,9,-999.000,     -999.0,-999.0000,-999.000,     1.4391,-999.000
  316N138_4,       P06C,     179,          1,          3,        130,2,19920703,       0110,   -32.5023,  -178.6540,       3450,  3123.3,   1.4467,  34.7266,2,  34.7260,2,    196.0,2,   196.6,2,  106.62,2,   31.58,2,    0.00,2, -999.00,5,   0.004,2,   0.001,2,  2260.0,2,  -999.0,9,-999.000,9,-999.0000,9, -999.00,9,    0.30,2,  -165.9,2,     4.8,-999.000,9,-999.000,     -999.0,-999.0000,-999.000,     1.2190,-999.000
  316N138_4,       P06C,     179,          1,          2,        135,2,19920703,       0110,   -32.5023,  -178.6540,       3450,  3326.0,   1.2708,  34.7224,2,  34.7231,2,    200.2,2,   200.0,2,  110.48,2,   31.57,2,    0.00,2, -999.00,5,   0.005,2,   0.003,2,  2260.7,2,  -999.0,9,-999.000,9,-999.0000,9, -999.00,9,    0.28,2,  -173.6,2,     9.1,-999.000,9,-999.000,     -999.0,-999.0000,-999.000,     1.0276,-999.000
  316N138_4,       P06C,     179,          1,          1,        134,2,19920703,       0110,   -32.5023,  -178.6540,       3450,  3477.2,   1.2172,  34.7204,2,  34.7217,2,    199.6,2,   201.2,2,  112.52,2,   31.82,2,    0.02,2, -999.00,5,   0.007,2,   0.001,2,  2260.7,6,  -999.0,9,-999.000,9,-999.0000,9, -999.00,9,    0.22,2,  -168.7,2,     4.7,-999.000,9,-999.000,     -999.0,-999.0000,-999.000,     0.9603,-999.000