BOTTLE,20211025CCHSIORKP
EXPOCODE,SECT_ID,STNNBR,CASTNO,SAMPNO,BTLNBR,BTLNBR_FLAG_W,DATE,TIME,LATITUDE,LONGITUDE,DEPTH,CTDPRS,CTDTMP,CTDSAL,CTDSAL_FLAG_W,SALNTY,SALNTY_FLAG_W,CTDOXY,CTDOXY_FLAG_W,OXYGEN,OXYGEN_FLAG_W,SILCAT,SILCAT_FLAG_W,NITRAT,NITRAT_FLAG_W,NITRIT,NITRIT_FLAG_W,PHSPHT,PHSPHT_FLAG_W,CFC-11,CFC-11_FLAG_W,CFC-12,CFC-12_FLAG_W,TCARBN,TCARBN_FLAG_W,PCO2,PCO2_FLAG_W,TRITUM,TRITUM_FLAG_W,HELIUM,HELIUM_FLAG_W,DELHE3,DELHE3_FLAG_W,DELC13,DELC13_FLAG_W,DELC14,DELC14_FLAG_W,C14ERR,NEON,NEON_FLAG_W,NEONER,PCO2TMP,HELIER,DELHER,THETA,TRITER
,,,,,,,,,,,METERS,DBAR,ITS-90,PSS-78,,PSS-78,,UMOL/KG,,UMOL/KG,,UMOL/KG,,UMOL/KG,,UMOL/KG,,UMOL/KG,,PMOL/KG,,PMOL/KG,,UMOL/KG,,UATM,,TU,,NMOL/KG,,PERCNT,,/MILLE,,/MILLE,,/MILLE,NMOL/KG,,NMOL/KG,DEG_C,NMOL/KG,PERCNT,ITS-90,TU
  316N138_4,       P06C,      92,          1,         36,    02-9121,2,19920606,       1320,   -32.5037,  -124.6660,       3714,    19.4,  20.1228,  35.2687,2,  35.2698,2,    305.0,3,   226.3,2,    0.39,2,    0.00,2,    0.00,2,    0.11,2,   2.273,6,   1.186,6,  -999.0,9,  -999.0,9,-999.000,9,-999.0000,9, -999.00,9, -999.00,9,  -999.0,9,  -999.0,-999.000,9,-999.000,     -999.0,-999.0000,-999.000,    20.1192,-999.000
  316N138_4,       P06C,      92,          1,         35,    02-9454,2,19920606,       1320,   -32.5037,  -124.6660,       3714,    57.9,  20.1263,  35.2678,2,  35.2688,2,    227.6,2,   226.2,2,    0.39,2,    0.05,2,    0.00,2,    0.12,2,   2.272,2,   1.177,2,  -999.0,9,  -999.0,9,-999.000,9,-999.0000,9, -999.00,9, -999.00,9,  -999.0,9,  -999.0,-999.000,9,-999.000,     -999.0,-999.0000,-999.000,    20.1155,-999.000
  316N138_4,       P06C,      92,          1,         34,    02-9457,2,19920606,       1320,   -32.5037,  -124.6660,       3714,    88.8,  19.9765,  35.2502,2,  35.2544,2,    232.0,2,   228.0,2,    0.40,2,    0.05,2,    0.00,2,    0.12,2,   2.305,2,   1.190,2,  -999.0,9,  -999.0,9,-999.000,9,-999.0000,9, -999.00,9, -999.00,9,  -999.0,9,  -999.0,-999.000,9,-999.000,     -999.0,-999.0000,-999.000,    19.9601,-999.000
  316N138_4,       P06C,      92,          1,         33,    02-5367,2,19920606,       1320,   -32.5037,  -124.6660,       3714,   116.6,  17.3535,  35.1683,2,  35.1689,2,    238.8,2,   244.8,2,    0.40,2,    0.05,2,    0.00,2,    0.17,2,-999.000,9,-999.000,9,  -999.0,9,  -999.0,9,-999.000,9,-999.0000,9, -999.00,9, -999.00,9,  -999.0,9,  -999.0,-999.000,9,-999.000,     -999.0,-999.0000,-999.000,    17.3340,-999.000
  316N138_4,       P06C,      92,          1,         32,    02-9540,2,19920606,       1320,   -32.5037,  -124.6660,       3714,   148.0,  16.3260,  35.1637,2,  35.1252,2,    227.9,2,   227.5,2,    0.40,2,    0.53,2,    0.14,2,    0.23,2,   2.538,2,   1.290,2,  -999.0,9,  -999.0,9,-999.000,9,-999.0000,9, -999.00,9, -999.00,9,  -999.0,9,  -999.0,-999.000,9,-999.000,     -999.0,-999.0000,-999.000,    16.3023,-999.000
  316N138_4,       P06C,      92,          1,         31,    02-9539,2,19920606,       1320,   -32.5037,  -124.6660,       3714,   177.5,  15.5714,  35.0780,2,  35.0791,2,    218.4,2,   219.1,2,    0.59,2,    2.33,2,    0.00,2,    0.35,2,-999.000,9,-999.000,9,  -999.0,9,  -999.0,9,-999.000,9,-999.0000,9, -999.00,9, -999.00,9,  -999.0,9,  -999.0,-999.000,9,-999.000,     -999.0,-999.0000,-999.000,    15.5438,-999.000
  316N138_4,       P06C,      92,          1,         30,    02-9456,2,19920606,       1320,   -32.5037,  -124.6660,       3714,   206.8,  14.5069,  34.9504,2,  34.9445,2,    208.3,2,   209.4,2,    0.94,2,    5.32,2,    0.00,2,    0.54,2,   2.289,2,   1.145,2,  -999.0,9,  -999.0,9,-999.000,9,-999.0000,9, -999.00,9, -999.00,9,  -999.0,9,  -999.0,-999.000,9,-999.000,     -999.0,-999.0000,-999.000,    14.4763,-999.000
  316N138_4,       P06C,      92,          1,         29,    02-9458,2,19920606,       1320,   -32.5037,  -124.6660,       3714,   256.7,  12.6829,  34.8145,2,  34.8139,2,    206.9,2,   203.6,2,    1.65,2,    9.69,2,    0.00,2,    0.80,2,   1.964,2,   0.979,2,  -999.0,9,  -999.0,9,-999.000,9,-999.0000,9, -999.00,9, -999.00,9,  -999.0,9,  -999.0,-999.000,9,-999.000,     -999.0,-999.0000,-999.000,    12.6481,-999.000
  316N138_4,       P06C,      92,          1,         28,    02-9545,2,19920606,       1320,   -32.5037,  -124.6660,       3714,   304.4,  11.2207,  34.6698,2,  34.6714,2,    207.9,2,   207.1,2,    2.54,2,   12.91,2,    0.00,2,    0.99,2,   1.839,2,   0.914,2,  -999.0,9,  -999.0,9,-999.000,9,-999.0000,9, -999.00,9, -999.00,9,  -999.0,9,  -999.0,-999.000,9,-999.000,     -999.0,-999.0000,-999.000,    11.1826,-999.000
  316N138_4,       P06C,      92,          1,         27,    02-9453,2,19920606,       1320,   -32.5037,  -124.6660,       3714,   352.2,   9.7832,  34.5553,2,  34.5549,2,    212.1,2,   211.7,2,    3.43,2,   16.08,2,    0.00,2,    1.16,2,   1.675,6,   0.821,6,  -999.0,9,  -999.0,9,-999.000,9,-999.0000,9, -999.00,9, -999.00,9,  -999.0,9,  -999.0,-999.000,9,-999.000,     -999.0,-999.0000,-999.000,     9.7427,-999.000
  316N138_4,       P06C,      92,          1,         26,    02-9544,2,19920606,       1320,   -32.5037,  -124.6660,       3714,   399.9,   8.4134,  34.4520,2,  34.4530,2,    222.1,2,   221.9,2,    4.49,2,   19.02,2,    0.00,2,    1.34,2,   1.670,2,-999.000,5,  -999.0,9,  -999.0,9,-999.000,9,-999.0000,9, -999.00,9, -999.00,9,  -999.0,9,  -999.0,-999.000,9,-999.000,     -999.0,-999.0000,-999.000,     8.3715,-999.000
  316N138_4,       P06C,      92,          1,         25,    02-9455,2,19920606,       1320,   -32.5037,  -124.6660,       3714,   446.8,   7.5803,  34.4064,2,  34.4059,2,    231.7,2,   232.5,2,    5.38,2,   20.46,2,    0.00,2,    1.42,2,   1.788,6,   0.860,6,  -999.0,9,  -999.0,9,-999.000,9,-999.0000,9, -999.00,9, -999.00,9,  -999.0,9,  -999.0,-999.000,9,-999.000,     -999.0,-999.0000,-999.000,     7.5362,-999.000
  316N138_4,       P06C,      92,          1,         24,        132,2,19920606,       1320,   -32.5037,  -124.6660,       3714,   521.1,   6.9522,  34.3777,2,  34.3792,2,    242.9,2,   244.0,2,    6.45,2,   21.51,2,    0.00,2,    1.47,2,   1.724,2,   0.823,2,  -999.0,9,  -999.0,9,-999.000,9,-999.0000,9, -999.00,9, -999.00,9,  -999.0,9,  -999.0,-999.000,9,-999.000,     -999.0,-999.0000,-999.000,     6.9029,-999.000
  316N138_4,       P06C,      92,          1,         23,        123,2,19920606,       1320,   -32.5037,  -124.6660,       3714,   598.1,   6.6491,  34.3625,2,  34.3623,2,    246.3,2,   246.6,2,    7.34,2,   22.16,2,    0.00,2,    1.50,2,   1.568,2,   0.834,2,  -999.0,9,  -999.0,9,-999.000,9,-999.0000,9, -999.00,9, -999.00,9,  -999.0,9,  -999.0,-999.000,9,-999.000,     -999.0,-999.0000,-999.000,     6.5936,-999.000
  316N138_4,       P06C,      92,          1,         22,        128,2,19920606,       1320,   -32.5037,  -124.6660,       3714,   676.7,   6.3075,  34.3395,2,  34.3388,2,    245.3,2,   247.0,2,    8.58,2,   23.17,2,    0.00,2,    1.57,2,   1.184,2,   0.594,2,  -999.0,9,  -999.0,9,-999.000,9,-999.0000,9, -999.00,9, -999.00,9,  -999.0,9,  -999.0,-999.000,9,-999.000,     -999.0,-999.0000,-999.000,     6.2461,-999.000
  316N138_4,       P06C,      92,          1,         21,        121,2,19920606,       1320,   -32.5037,  -124.6660,       3714,   751.9,   5.9128,  34.3144,2,  34.3135,2,    241.6,2,   242.5,2,   10.53,2,   24.42,2,    0.00,2,    1.65,2,   0.830,2,   0.424,2,  -999.0,9,  -999.0,9,-999.000,9,-999.0000,9, -999.00,9, -999.00,9,  -999.0,9,  -999.0,-999.000,9,-999.000,     -999.0,-999.0000,-999.000,     5.8465,-999.000
  316N138_4,       P06C,      92,          1,         20,        120,2,19920606,       1320,   -32.5037,  -124.6660,       3714,   823.8,   5.4673,  34.2935,2,  34.2938,2,    236.9,2,   234.3,2,   13.72,2,   26.25,2,    0.00,2,    1.77,2,   0.494,6,   0.266,6,  -999.0,9,  -999.0,9,-999.000,9,-999.0000,9, -999.00,9, -999.00,9,  -999.0,9,  -999.0,-999.000,9,-999.000,     -999.0,-999.0000,-999.000,     5.3971,-999.000
  316N138_4,       P06C,      92,          1,         19,        133,3,19920606,       1320,   -32.5037,  -124.6660,       3714,   896.6,   5.0881,  34.2913,2,  34.7337,4,    226.6,2,  -999.0,9,    5.94,4,   14.18,4,    0.00,4,    1.04,4,-999.000,9,-999.000,9,  -999.0,9,  -999.0,9,-999.000,9,-999.0000,9, -999.00,9, -999.00,9,  -999.0,9,  -999.0,-999.000,9,-999.000,     -999.0,-999.0000,-999.000,     5.0138,-999.000
  316N138_4,       P06C,      92,          1,         18,        118,3,19920606,       1320,   -32.5037,  -124.6660,       3714,   992.1,   4.5697,  34.3114,2,-999.0000,9,    209.6,2,  -999.0,9,    8.07,4,   14.98,4,    0.00,4,    1.07,4,-999.000,9,-999.000,9,  -999.0,9,  -999.0,9,-999.000,9,-999.0000,9, -999.00,9, -999.00,9,  -999.0,9,  -999.0,-999.000,9,-999.000,     -999.0,-999.0000,-999.000,     4.4907,-999.000
  316N138_4,       P06C,      92,          1,         17,        117,2,19920606,       1320,   -32.5037,  -124.6660,       3714,  1092.0,   4.1085,  34.3403,2,  34.3397,2,    196.2,2,   193.4,2,   36.43,2,   32.12,2,    0.00,2,    2.18,2,   0.085,6,   0.059,6,  -999.0,9,  -999.0,9,-999.000,9,-999.0000,9, -999.00,9, -999.00,9,  -999.0,9,  -999.0,-999.000,9,-999.000,     -999.0,-999.0000,-999.000,     4.0245,-999.000
  316N138_4,       P06C,      92,          1,         16,        116,2,19920606,       1320,   -32.5037,  -124.6660,       3714,  1196.6,   3.6265,  34.3889,2,  34.3868,2,    178.9,2,   176.8,2,   48.84,2,   33.92,2,    0.00,2,    2.31,2,   0.026,2,   0.018,2,  -999.0,9,  -999.0,9,-999.000,9,-999.0000,9, -999.00,9, -999.00,9,  -999.0,9,  -999.0,-999.000,9,-999.000,     -999.0,-999.0000,-999.000,     3.5379,-999.000
  316N138_4,       P06C,      92,          1,         15,        115,2,19920606,       1320,   -32.5037,  -124.6660,       3714,  1296.5,   3.2440,  34.4431,2,  34.4428,2,    170.5,2,   167.9,2,   60.36,2,   34.74,2,    0.00,2,    2.38,2,   0.008,2,   0.007,2,  -999.0,9,  -999.0,9,-999.000,9,-999.0000,9, -999.00,9, -999.00,9,  -999.0,9,  -999.0,-999.000,9,-999.000,     -999.0,-999.0000,-999.000,     3.1506,-999.000
  316N138_4,       P06C,      92,          1,         14,        114,2,19920606,       1320,   -32.5037,  -124.6660,       3714,  1453.3,   2.8666,  34.5052,2,  34.5070,2,    164.9,2,   163.9,2,   72.96,2,   34.90,2,    0.00,2,    2.41,2,   0.000,2,   0.001,2,  -999.0,9,  -999.0,9,-999.000,9,-999.0000,9, -999.00,9, -999.00,9,  -999.0,9,  -999.0,-999.000,9,-999.000,     -999.0,-999.0000,-999.000,     2.7642,-999.000
  316N138_4,       P06C,      92,          1,         13,        125,2,19920606,       1320,   -32.5037,  -124.6660,       3714,  1610.6,   2.5694,  34.5605,2,  34.5620,2,    162.4,2,   160.9,2,   85.74,2,   34.98,2,    0.00,2,    2.42,2,-999.000,9,-999.000,9,  -999.0,9,  -999.0,9,-999.000,9,-999.0000,9, -999.00,9, -999.00,9,  -999.0,9,  -999.0,-999.000,9,-999.000,     -999.0,-999.0000,-999.000,     2.4576,-999.000
  316N138_4,       P06C,      92,          1,         12,        112,2,19920606,       1320,   -32.5037,  -124.6660,       3714,  1766.1,   2.3744,  34.5957,2,  34.5954,2,    159.1,2,   158.6,2,   95.86,2,   35.08,2,    0.00,2,    2.44,2,-999.000,9,-999.000,9,  -999.0,9,  -999.0,9,-999.000,9,-999.0000,9, -999.00,9, -999.00,9,  -999.0,9,  -999.0,-999.000,9,-999.000,     -999.0,-999.0000,-999.000,     2.2522,-999.000
  316N138_4,       P06C,      92,          1,         11,        129,2,19920606,       1320,   -32.5037,  -124.6660,       3714,  1921.8,   2.2045,  34.6223,2,  34.6213,2,    157.0,2,   156.1,2,  104.74,2,   35.34,2,    0.00,2,    2.47,2,   0.002,2,  -0.001,2,  -999.0,9,  -999.0,9,-999.000,9,-999.0000,9, -999.00,9, -999.00,9,  -999.0,9,  -999.0,-999.000,9,-999.000,     -999.0,-999.0000,-999.000,     2.0716,-999.000
  316N138_4,       P06C,      92,          1,         10,        110,2,19920606,       1320,   -32.5037,  -124.6660,       3714,  2074.8,   2.0668,  34.6393,2,  34.6486,3,    156.2,2,   155.6,2,  111.14,2,   35.33,2,    0.00,2,    2.49,2,-999.000,9,-999.000,9,  -999.0,9,  -999.0,9,-999.000,9,-999.0000,9, -999.00,9, -999.00,9,  -999.0,9,  -999.0,-999.000,9,-999.000,     -999.0,-999.0000,-999.000,     1.9230,-999.000
  316N138_4,       P06C,      92,          1,          9,        126,2,19920606,       1320,   -32.5037,  -124.6660,       3714,  2324.1,   1.9038,  34.6551,2,  34.6563,2,    157.7,2,   157.3,2,  117.02,2,   35.27,2,    0.00,2,    2.49,2,-999.000,9,-999.000,9,  -999.0,9,  -999.0,9,-999.000,9,-999.0000,9, -999.00,9, -999.00,9,  -999.0,9,  -999.0,-999.000,9,-999.000,     -999.0,-999.0000,-999.000,     1.7410,-999.000
  316N138_4,       P06C,      92,          1,          8,        108,2,19920606,       1320,   -32.5037,  -124.6660,       3714,  2526.7,   1.8258,  34.6622,2,  34.6643,2,    159.7,2,   159.3,2,  119.52,2,   35.12,2,    0.00,2,    2.48,2,  -0.002,2,  -0.004,2,  -999.0,9,  -999.0,9,-999.000,9,-999.0000,9, -999.00,9, -999.00,9,  -999.0,9,  -999.0,-999.000,9,-999.000,     -999.0,-999.0000,-999.000,     1.6463,-999.000
  316N138_4,       P06C,      92,          1,          7,        107,2,19920606,       1320,   -32.5037,  -124.6660,       3714,  2733.4,   1.7621,  34.6675,2,  34.6724,4,    161.8,2,   161.7,2,  120.79,2,   35.01,2,    0.00,2,    2.46,2,-999.000,9,-999.000,9,  -999.0,9,  -999.0,9,-999.000,9,-999.0000,9, -999.00,9, -999.00,9,  -999.0,9,  -999.0,-999.000,9,-999.000,     -999.0,-999.0000,-999.000,     1.5648,-999.000
  316N138_4,       P06C,      92,          1,          6,        180,2,19920606,       1320,   -32.5037,  -124.6660,       3714,  2938.2,   1.7095,  34.6733,2,  34.6745,2,    164.6,2,   164.0,2,  121.69,2,   34.84,2,    0.00,2,    2.46,2,-999.000,9,-999.000,9,  -999.0,9,  -999.0,9,-999.000,9,-999.0000,9, -999.00,9, -999.00,9,  -999.0,9,  -999.0,-999.000,9,-999.000,     -999.0,-999.0000,-999.000,     1.4940,-999.000
  316N138_4,       P06C,      92,          1,          5,        131,2,19920606,       1320,   -32.5037,  -124.6660,       3714,  3142.5,   1.6450,  34.6792,2,  34.6808,2,    167.8,2,   167.7,2,  122.24,2,   34.63,2,    0.00,2,    2.43,2,   0.006,2,   0.001,2,  -999.0,9,  -999.0,9,-999.000,9,-999.0000,9, -999.00,9, -999.00,9,  -999.0,9,  -999.0,-999.000,9,-999.000,     -999.0,-999.0000,-999.000,     1.4113,-999.000
  316N138_4,       P06C,      92,          1,          4,        104,2,19920606,       1320,   -32.5037,  -124.6660,       3714,  3347.5,   1.6043,  34.6835,2,  34.6855,2,    171.2,2,   170.0,2,  122.44,2,   34.42,2,    0.00,2,    2.41,2,-999.000,9,-999.000,9,  -999.0,9,  -999.0,9,-999.000,9,-999.0000,9, -999.00,9, -999.00,9,  -999.0,9,  -999.0,-999.000,9,-999.000,     -999.0,-999.0000,-999.000,     1.3510,-999.000
  316N138_4,       P06C,      92,          1,          3,        130,2,19920606,       1320,   -32.5037,  -124.6660,       3714,  3551.5,   1.6100,  34.6850,2,  34.6844,2,    172.8,2,   171.2,2,  122.29,2,   34.41,2,    0.00,2,    2.42,2,-999.000,9,-999.000,9,  -999.0,9,  -999.0,9,-999.000,9,-999.0000,9, -999.00,9, -999.00,9,  -999.0,9,  -999.0,-999.000,9,-999.000,     -999.0,-999.0000,-999.000,     1.3358,-999.000
  316N138_4,       P06C,      92,          1,          2,        135,2,19920606,       1320,   -32.5037,  -124.6660,       3714,  3755.9,   1.6294,  34.6850,2,  34.6855,2,    172.9,2,   170.9,2,  122.31,2,   34.37,2,    0.00,2,    2.42,2,  -0.003,2,  -0.004,2,  -999.0,9,  -999.0,9,-999.000,9,-999.0000,9, -999.00,9, -999.00,9,  -999.0,9,  -999.0,-999.000,9,-999.000,     -999.0,-999.0000,-999.000,     1.3333,-999.000
  316N138_4,       P06C,      92,          1,          1,        134,2,19920606,       1320,   -32.5037,  -124.6660,       3714,  3834.7,   1.6375,  34.6857,2,  34.6855,2,    173.2,2,   171.0,2,  122.07,2,   34.37,2,    0.00,2,    2.41,2,   0.001,6,  -0.002,6,  -999.0,9,  -999.0,9,-999.000,9,-999.0000,9, -999.00,9, -999.00,9,  -999.0,9,  -999.0,-999.000,9,-999.000,     -999.0,-999.0000,-999.000,     1.3327,-999.000