BOTTLE,20211025CCHSIORKP
EXPOCODE,SECT_ID,STNNBR,CASTNO,SAMPNO,BTLNBR,BTLNBR_FLAG_W,DATE,TIME,LATITUDE,LONGITUDE,DEPTH,CTDPRS,CTDTMP,CTDSAL,CTDSAL_FLAG_W,SALNTY,SALNTY_FLAG_W,CTDOXY,CTDOXY_FLAG_W,OXYGEN,OXYGEN_FLAG_W,SILCAT,SILCAT_FLAG_W,NITRAT,NITRAT_FLAG_W,NITRIT,NITRIT_FLAG_W,PHSPHT,PHSPHT_FLAG_W,CFC-11,CFC-11_FLAG_W,CFC-12,CFC-12_FLAG_W,TCARBN,TCARBN_FLAG_W,PCO2,PCO2_FLAG_W,TRITUM,TRITUM_FLAG_W,HELIUM,HELIUM_FLAG_W,DELHE3,DELHE3_FLAG_W,DELC13,DELC13_FLAG_W,DELC14,DELC14_FLAG_W,C14ERR,NEON,NEON_FLAG_W,NEONER,PCO2TMP,HELIER,DELHER,THETA,TRITER
,,,,,,,,,,,METERS,DBAR,ITS-90,PSS-78,,PSS-78,,UMOL/KG,,UMOL/KG,,UMOL/KG,,UMOL/KG,,UMOL/KG,,UMOL/KG,,PMOL/KG,,PMOL/KG,,UMOL/KG,,UATM,,TU,,NMOL/KG,,PERCNT,,/MILLE,,/MILLE,,/MILLE,NMOL/KG,,NMOL/KG,DEG_C,NMOL/KG,PERCNT,ITS-90,TU
  316N138_4,       P06C,     163,          1,         36,    02-9121,2,19920628,       1755,   -32.4955,  -172.4273,       5739,    26.1,  16.3339,  35.4619,2,  35.4614,2,    229.2,2,   238.0,2,    0.56,2,    0.08,2,    0.00,2,    0.14,2,   2.823,2,-999.000,9,  -999.0,9,  -999.0,9,-999.000,9,-999.0000,9, -999.00,9, -999.00,9,  -999.0,9,  -999.0,-999.000,9,-999.000,     -999.0,-999.0000,-999.000,    16.3297,-999.000
  316N138_4,       P06C,     163,          1,         35,    02-9454,2,19920628,       1755,   -32.4955,  -172.4273,       5739,    64.5,  16.3610,  35.4711,2,  35.4720,2,    231.4,2,   238.0,2,    0.56,2,    0.07,2,    0.00,2,    0.16,2,   2.814,2,   1.393,2,  -999.0,9,  -999.0,9,-999.000,9,-999.0000,9, -999.00,9, -999.00,9,  -999.0,9,  -999.0,-999.000,9,-999.000,     -999.0,-999.0000,-999.000,    16.3507,-999.000
  316N138_4,       P06C,     163,          1,         34,    02-9457,2,19920628,       1755,   -32.4955,  -172.4273,       5739,   113.1,  16.3505,  35.4750,2,  35.4671,2,    219.8,2,   236.7,2,    0.73,2,    0.30,2,    0.00,2,    0.17,2,   2.831,2,   1.393,2,  -999.0,9,  -999.0,9,-999.000,9,-999.0000,9, -999.00,9, -999.00,9,  -999.0,9,  -999.0,-999.000,9,-999.000,     -999.0,-999.0000,-999.000,    16.3323,-999.000
  316N138_4,       P06C,     163,          1,         33,    02-5367,2,19920628,       1755,   -32.4955,  -172.4273,       5739,   211.2,  12.2122,  35.0065,2,  35.0197,2,    207.0,2,   209.4,2,    2.74,2,   10.24,2,    0.00,2,    0.73,2,   2.674,2,   1.236,2,  -999.0,9,  -999.0,9,-999.000,9,-999.0000,9, -999.00,9, -999.00,9,  -999.0,9,  -999.0,-999.000,9,-999.000,     -999.0,-999.0000,-999.000,    12.1843,-999.000
  316N138_4,       P06C,     163,          1,         32,    02-9540,2,19920628,       1755,   -32.4955,  -172.4273,       5739,   312.7,  10.2592,  34.7649,2,  34.7634,2,    205.8,2,   206.4,2,    4.42,2,   15.50,2,    0.00,2,    1.03,2,   2.326,2,   1.079,2,  -999.0,9,  -999.0,9,-999.000,9,-999.0000,9, -999.00,9, -999.00,9,  -999.0,9,  -999.0,-999.000,9,-999.000,     -999.0,-999.0000,-999.000,    10.2222,-999.000
  316N138_4,       P06C,     163,          1,         31,    02-9539,2,19920628,       1755,   -32.4955,  -172.4273,       5739,   410.9,   8.9716,  34.6216,2,  34.6201,2,    214.0,2,   210.3,2,    5.43,2,   18.62,2,    0.00,2,    1.18,2,   1.800,2,   0.859,2,  -999.0,9,  -999.0,9,-999.000,9,-999.0000,9, -999.00,9, -999.00,9,  -999.0,9,  -999.0,-999.000,9,-999.000,     -999.0,-999.0000,-999.000,     8.9268,-999.000
  316N138_4,       P06C,     163,          1,         30,    02-9456,2,19920628,       1755,   -32.4955,  -172.4273,       5739,   511.8,   7.9993,  34.5148,2,  34.5158,2,    221.8,2,   221.6,2,    6.10,2,   20.42,2,    0.00,2,    1.32,2,   1.572,2,   0.763,2,  -999.0,9,  -999.0,9,-999.000,9,-999.0000,9, -999.00,9, -999.00,9,  -999.0,9,  -999.0,-999.000,9,-999.000,     -999.0,-999.0000,-999.000,     7.9468,-999.000
  316N138_4,       P06C,     163,          1,         29,    02-9458,2,19920628,       1755,   -32.4955,  -172.4273,       5739,   610.0,   7.3315,  34.4479,2,  34.4489,2,    231.8,2,   229.8,2,    6.94,2,   21.70,2,    0.00,2,    1.39,2,   1.233,2,   0.614,2,  -999.0,9,  -999.0,9,-999.000,9,-999.0000,9, -999.00,9, -999.00,9,  -999.0,9,  -999.0,-999.000,9,-999.000,     -999.0,-999.0000,-999.000,     7.2717,-999.000
  316N138_4,       P06C,     163,          1,         28,    02-9545,2,19920628,       1755,   -32.4955,  -172.4273,       5739,   711.6,   6.8614,  34.4100,2,  34.4104,2,    229.2,2,   227.7,2,    9.13,2,   23.27,2,    0.00,2,    1.49,2,   0.813,2,   0.426,2,  -999.0,9,  -999.0,9,-999.000,9,-999.0000,9, -999.00,9, -999.00,9,  -999.0,9,  -999.0,-999.000,9,-999.000,     -999.0,-999.0000,-999.000,     6.7937,-999.000
  316N138_4,       P06C,     163,          1,         27,    02-9453,2,19920628,       1755,   -32.4955,  -172.4273,       5739,   810.9,   6.2585,  34.3662,2,  34.3684,2,    224.7,2,   222.8,2,   12.48,2,   25.21,2,    0.00,2,    1.60,2,   0.482,2,   0.264,2,  -999.0,9,  -999.0,9,-999.000,9,-999.0000,9, -999.00,9, -999.00,9,  -999.0,9,  -999.0,-999.000,9,-999.000,     -999.0,-999.0000,-999.000,     6.1845,-999.000
  316N138_4,       P06C,     163,          1,         26,    02-9544,2,19920628,       1755,   -32.4955,  -172.4273,       5739,   914.7,   5.6207,  34.3438,2,  34.3439,2,    213.2,2,   213.5,2,   18.18,2,   27.49,2,    0.00,2,    1.75,2,   0.287,2,   0.155,2,  -999.0,9,  -999.0,9,-999.000,9,-999.0000,9, -999.00,9, -999.00,9,  -999.0,9,  -999.0,-999.000,9,-999.000,     -999.0,-999.0000,-999.000,     5.5410,-999.000
  316N138_4,       P06C,     163,          1,         25,    02-9455,3,19920628,       1755,   -32.4955,  -172.4273,       5739,  1015.7,   4.9024,  34.3382,2,  34.6234,4,    202.9,2,   212.0,3,   15.00,4,   20.98,4,    0.00,4,    2.52,4,-999.000,5,-999.000,5,  -999.0,9,  -999.0,9,-999.000,9,-999.0000,9, -999.00,9, -999.00,9,  -999.0,9,  -999.0,-999.000,9,-999.000,     -999.0,-999.0000,-999.000,     4.8187,-999.000
  316N138_4,       P06C,     163,          1,         24,        132,2,19920628,       1755,   -32.4955,  -172.4273,       5739,  1419.6,   3.1348,  34.4942,2,  34.4909,2,    170.1,2,   168.0,2,   68.10,2,   34.21,2,    0.00,2,    2.29,2,   0.009,6,   0.002,6,  -999.0,9,  -999.0,9,-999.000,9,-999.0000,9, -999.00,9, -999.00,9,  -999.0,9,  -999.0,-999.000,9,-999.000,     -999.0,-999.0000,-999.000,     3.0324,-999.000
  316N138_4,       P06C,     163,          1,         23,        123,2,19920628,       1755,   -32.4955,  -172.4273,       5739,  1624.0,   2.7100,  34.5667,2,  34.5665,2,    159.4,2,   157.9,2,   87.86,2,   34.93,2,    0.00,2,    2.40,2,   0.000,2,   0.001,2,  -999.0,9,  -999.0,9,-999.000,9,-999.0000,9, -999.00,9, -999.00,9,  -999.0,9,  -999.0,-999.000,9,-999.000,     -999.0,-999.0000,-999.000,     2.5954,-999.000
  316N138_4,       P06C,     163,          1,         22,        128,2,19920628,       1755,   -32.4955,  -172.4273,       5739,  1829.2,   2.4741,  34.6039,2,  34.6052,2,    152.8,2,   151.2,2,  102.61,2,   35.39,2,    0.00,2,    2.43,2,-999.000,5,-999.000,5,  -999.0,9,  -999.0,9,-999.000,9,-999.0000,9, -999.00,9, -999.00,9,  -999.0,9,  -999.0,-999.000,9,-999.000,     -999.0,-999.0000,-999.000,     2.3452,-999.000
  316N138_4,       P06C,     163,          1,         21,        121,2,19920628,       1755,   -32.4955,  -172.4273,       5739,  2029.5,   2.3231,  34.6221,2,  34.6231,2,    149.2,2,   148.5,2,  109.81,2,   35.68,2,    0.00,2,    2.51,2,   0.001,2,-999.000,9,  -999.0,9,  -999.0,9,-999.000,9,-999.0000,9, -999.00,9, -999.00,9,  -999.0,9,  -999.0,-999.000,9,-999.000,     -999.0,-999.0000,-999.000,     2.1793,-999.000
  316N138_4,       P06C,     163,          1,         20,        120,2,19920628,       1755,   -32.4955,  -172.4273,       5739,  2233.0,   2.1966,  34.6365,2,  34.6366,2,    148.6,2,   148.3,2,  114.67,2,   35.77,2,    0.00,2,    2.53,2,  -0.003,2,   0.001,2,  -999.0,9,  -999.0,9,-999.000,9,-999.0000,9, -999.00,9, -999.00,9,  -999.0,9,  -999.0,-999.000,9,-999.000,     -999.0,-999.0000,-999.000,     2.0369,-999.000
  316N138_4,       P06C,     163,          1,         19,        133,2,19920628,       1755,   -32.4955,  -172.4273,       5739,  2434.5,   2.0814,  34.6465,2,  34.6474,2,    147.1,2,   147.7,2,  119.88,2,   35.96,2,    0.00,2,    2.58,2,  -0.001,2,  -0.002,2,  -999.0,9,  -999.0,9,-999.000,9,-999.0000,9, -999.00,9, -999.00,9,  -999.0,9,  -999.0,-999.000,9,-999.000,     -999.0,-999.0000,-999.000,     1.9056,-999.000
  316N138_4,       P06C,     163,          1,         18,        118,2,19920628,       1755,   -32.4955,  -172.4273,       5739,  2638.3,   1.9685,  34.6559,2,  34.6563,2,    147.3,2,   147.1,2,  123.90,2,   36.06,2,    0.00,2,    2.62,2,  -0.004,2,   0.001,2,  -999.0,9,  -999.0,9,-999.000,9,-999.0000,9, -999.00,9, -999.00,9,  -999.0,9,  -999.0,-999.000,9,-999.000,     -999.0,-999.0000,-999.000,     1.7761,-999.000
  316N138_4,       P06C,     163,          1,         17,        117,2,19920628,       1755,   -32.4955,  -172.4273,       5739,  2841.6,   1.8595,  34.6676,2,  34.6683,2,    150.5,2,   151.1,2,  125.42,2,   35.67,2,    0.00,2,    2.50,2,  -0.003,2,   0.000,2,  -999.0,9,  -999.0,9,-999.000,9,-999.0000,9, -999.00,9, -999.00,9,  -999.0,9,  -999.0,-999.000,9,-999.000,     -999.0,-999.0000,-999.000,     1.6500,-999.000
  316N138_4,       P06C,     163,          1,         16,        116,3,19920628,       1755,   -32.4955,  -172.4273,       5739,  3047.1,   1.7741,  34.6823,2,  34.6828,2,    160.3,2,   160.2,2,  121.91,2,   34.82,2,    0.00,2,    2.47,2,-999.000,5,-999.000,5,  -999.0,9,  -999.0,9,-999.000,9,-999.0000,9, -999.00,9, -999.00,9,  -999.0,9,  -999.0,-999.000,9,-999.000,     -999.0,-999.0000,-999.000,     1.5466,-999.000
  316N138_4,       P06C,     163,          1,         15,        115,2,19920628,       1755,   -32.4955,  -172.4273,       5739,  3249.0,   1.6766,  34.7010,2,  34.7009,2,    173.2,2,   173.7,2,  114.88,2,   33.72,2,    0.00,2,    2.40,2,  -0.004,2,  -0.003,2,  -999.0,9,  -999.0,9,-999.000,9,-999.0000,9, -999.00,9, -999.00,9,  -999.0,9,  -999.0,-999.000,9,-999.000,     -999.0,-999.0000,-999.000,     1.4315,-999.000
  316N138_4,       P06C,     163,          1,         14,        114,2,19920628,       1755,   -32.4955,  -172.4273,       5739,  3450.5,   1.5669,  34.7152,2,  34.7160,2,    185.9,2,   186.9,2,  109.20,2,   32.63,2,    0.00,2,    2.29,2,-999.000,5,-999.000,5,  -999.0,9,  -999.0,9,-999.000,9,-999.0000,9, -999.00,9, -999.00,9,  -999.0,9,  -999.0,-999.000,9,-999.000,     -999.0,-999.0000,-999.000,     1.3039,-999.000
  316N138_4,       P06C,     163,          1,         13,        125,2,19920628,       1755,   -32.4955,  -172.4273,       5739,  3649.6,   1.4379,  34.7204,2,  34.7205,2,    194.2,2,   194.1,2,  108.87,2,   32.20,2,    0.00,2,    2.29,2,-999.000,5,-999.000,5,  -999.0,9,  -999.0,9,-999.000,9,-999.0000,9, -999.00,9, -999.00,9,  -999.0,9,  -999.0,-999.000,9,-999.000,     -999.0,-999.0000,-999.000,     1.1577,-999.000
  316N138_4,       P06C,     163,          1,         12,        112,2,19920628,       1755,   -32.4955,  -172.4273,       5739,  3848.7,   1.3142,  34.7202,2,  34.7201,2,    199.9,2,   199.2,2,  110.56,2,   31.96,2,    0.00,2,    2.29,2,   0.000,2,  -0.001,2,  -999.0,9,  -999.0,9,-999.000,9,-999.0000,9, -999.00,9, -999.00,9,  -999.0,9,  -999.0,-999.000,9,-999.000,     -999.0,-999.0000,-999.000,     1.0165,-999.000
  316N138_4,       P06C,     163,          1,         11,        129,3,19920628,       1755,   -32.4955,  -172.4273,       5739,  4050.1,   1.1976,  34.7173,2,  34.7170,2,    203.1,2,   202.6,2,  113.41,2,   32.10,2,    0.00,2,    2.29,2,-999.000,5,-999.000,5,  -999.0,9,  -999.0,9,-999.000,9,-999.0000,9, -999.00,9, -999.00,9,  -999.0,9,  -999.0,-999.000,9,-999.000,     -999.0,-999.0000,-999.000,     0.8816,-999.000
  316N138_4,       P06C,     163,          1,         10,        110,2,19920628,       1755,   -32.4955,  -172.4273,       5739,  4252.8,   1.1116,  34.7136,2,  34.7131,2,    204.8,2,   204.0,2,  115.94,2,   32.25,2,    0.00,2,    2.29,2,-999.000,5,-999.000,5,  -999.0,9,  -999.0,9,-999.000,9,-999.0000,9, -999.00,9, -999.00,9,  -999.0,9,  -999.0,-999.000,9,-999.000,     -999.0,-999.0000,-999.000,     0.7761,-999.000
  316N138_4,       P06C,     163,          1,          9,        126,3,19920628,       1755,   -32.4955,  -172.4273,       5739,  4457.0,   1.0583,  34.7116,2,  34.7117,2,    206.3,2,   205.4,2,  117.62,2,   32.29,2,    0.00,2,    2.29,2,   0.008,2,   0.006,2,  -999.0,9,  -999.0,9,-999.000,9,-999.0000,9, -999.00,9, -999.00,9,  -999.0,9,  -999.0,-999.000,9,-999.000,     -999.0,-999.0000,-999.000,     0.7018,-999.000
  316N138_4,       P06C,     163,          1,          8,        108,2,19920628,       1755,   -32.4955,  -172.4273,       5739,  4663.1,   1.0334,  34.7089,2,  34.7099,2,    206.6,2,   206.3,2,  119.14,2,   32.33,2,    0.00,2,    2.29,2,-999.000,5,-999.000,5,  -999.0,9,  -999.0,9,-999.000,9,-999.0000,9, -999.00,9, -999.00,9,  -999.0,9,  -999.0,-999.000,9,-999.000,     -999.0,-999.0000,-999.000,     0.6542,-999.000
  316N138_4,       P06C,     163,          1,          7,        107,2,19920628,       1755,   -32.4955,  -172.4273,       5739,  4862.9,   1.0242,  34.7082,2,  34.7093,2,    207.1,2,   207.1,2,  119.48,2,   32.43,2,    0.00,2,    2.32,3,-999.000,5,-999.000,5,  -999.0,9,  -999.0,9,-999.000,9,-999.0000,9, -999.00,9, -999.00,9,  -999.0,9,  -999.0,-999.000,9,-999.000,     -999.0,-999.0000,-999.000,     0.6222,-999.000
  316N138_4,       P06C,     163,          1,          6,        180,2,19920628,       1755,   -32.4955,  -172.4273,       5739,  5064.6,   1.0274,  34.7073,2,  34.7074,2,    207.0,2,   206.9,2,  120.66,2,   32.38,2,    0.00,2,    2.31,3,   0.005,2,  -0.004,2,  -999.0,9,  -999.0,9,-999.000,9,-999.0000,9, -999.00,9, -999.00,9,  -999.0,9,  -999.0,-999.000,9,-999.000,     -999.0,-999.0000,-999.000,     0.6013,-999.000
  316N138_4,       P06C,     163,          1,          4,        104,3,19920628,       1755,   -32.4955,  -172.4273,       5739,  5267.4,   1.0425,  34.7073,2,  34.7077,2,    207.0,2,   206.7,2,  121.35,2,   32.29,2,    0.00,2,    2.29,2,-999.000,5,-999.000,5,  -999.0,9,  -999.0,9,-999.000,9,-999.0000,9, -999.00,9, -999.00,9,  -999.0,9,  -999.0,-999.000,9,-999.000,     -999.0,-999.0000,-999.000,     0.5914,-999.000
  316N138_4,       P06C,     163,          1,          5,        131,2,19920628,       1755,   -32.4955,  -172.4273,       5739,  5267.5,   1.0425,  34.7072,2,  34.7068,2,    207.0,2,   206.7,2,  121.34,2,   32.33,2,    0.00,2,    2.31,3,   0.008,2,   0.003,2,  -999.0,9,  -999.0,9,-999.000,9,-999.0000,9, -999.00,9, -999.00,9,  -999.0,9,  -999.0,-999.000,9,-999.000,     -999.0,-999.0000,-999.000,     0.5914,-999.000
  316N138_4,       P06C,     163,          1,          3,        130,2,19920628,       1755,   -32.4955,  -172.4273,       5739,  5468.1,   1.0635,  34.7077,2,  34.7072,2,    207.2,2,   207.2,2,  121.52,2,   32.23,2,    0.00,2,    2.28,2,   0.008,2,   0.007,2,  -999.0,9,  -999.0,9,-999.000,9,-999.0000,9, -999.00,9, -999.00,9,  -999.0,9,  -999.0,-999.000,9,-999.000,     -999.0,-999.0000,-999.000,     0.5868,-999.000
  316N138_4,       P06C,     163,          1,          2,        135,2,19920628,       1755,   -32.4955,  -172.4273,       5739,  5670.9,   1.0872,  34.7072,2,  34.7072,2,    207.5,2,   207.0,2,  121.71,2,   32.18,2,    0.00,2,    2.29,2,   0.008,2,   0.002,2,  -999.0,9,  -999.0,9,-999.000,9,-999.0000,9, -999.00,9, -999.00,9,  -999.0,9,  -999.0,-999.000,9,-999.000,     -999.0,-999.0000,-999.000,     0.5840,-999.000
  316N138_4,       P06C,     163,          1,          1,        134,2,19920628,       1755,   -32.4955,  -172.4273,       5739,  5854.8,   1.1098,  34.7069,2,  34.7085,2,    250.9,4,   206.7,2,  121.81,2,   32.18,2,    0.00,2,    2.28,2,   0.010,6,   0.002,6,  -999.0,9,  -999.0,9,-999.000,9,-999.0000,9, -999.00,9, -999.00,9,  -999.0,9,  -999.0,-999.000,9,-999.000,     -999.0,-999.0000,-999.000,     0.5821,-999.000