BOTTLE,20211025CCHSIORKP
EXPOCODE,SECT_ID,STNNBR,CASTNO,SAMPNO,BTLNBR,BTLNBR_FLAG_W,DATE,TIME,LATITUDE,LONGITUDE,DEPTH,CTDPRS,CTDTMP,CTDSAL,CTDSAL_FLAG_W,SALNTY,SALNTY_FLAG_W,CTDOXY,CTDOXY_FLAG_W,OXYGEN,OXYGEN_FLAG_W,SILCAT,SILCAT_FLAG_W,NITRAT,NITRAT_FLAG_W,NITRIT,NITRIT_FLAG_W,PHSPHT,PHSPHT_FLAG_W,CFC-11,CFC-11_FLAG_W,CFC-12,CFC-12_FLAG_W,TCARBN,TCARBN_FLAG_W,PCO2,PCO2_FLAG_W,TRITUM,TRITUM_FLAG_W,HELIUM,HELIUM_FLAG_W,DELHE3,DELHE3_FLAG_W,DELC13,DELC13_FLAG_W,DELC14,DELC14_FLAG_W,C14ERR,NEON,NEON_FLAG_W,NEONER,PCO2TMP,HELIER,DELHER,THETA,TRITER
,,,,,,,,,,,METERS,DBAR,ITS-90,PSS-78,,PSS-78,,UMOL/KG,,UMOL/KG,,UMOL/KG,,UMOL/KG,,UMOL/KG,,UMOL/KG,,PMOL/KG,,PMOL/KG,,UMOL/KG,,UATM,,TU,,NMOL/KG,,PERCNT,,/MILLE,,/MILLE,,/MILLE,NMOL/KG,,NMOL/KG,DEG_C,NMOL/KG,PERCNT,ITS-90,TU
  316N138_4,       P06C,     120,          1,         36,    02-9121,2,19920616,       0915,   -32.5083,  -144.0053,       4886,    20.9,  18.1293,  35.1864,2,  35.1863,2,    247.2,2,   233.3,2,    0.27,2,    0.00,2,    0.00,2,    0.13,2,   2.425,2,   1.285,2,  -999.0,9,  -999.0,9,   0.664,2,   1.7820,2,   -1.50,2, -999.00,9,  -999.0,9,  -999.0,   7.282,2,   0.017,     -999.0,   0.0040,   0.150,    18.1257,   0.004
  316N138_4,       P06C,     120,          1,         35,    02-9454,2,19920616,       0915,   -32.5083,  -144.0053,       4886,    59.4,  18.1393,  35.1871,2,  35.1874,2,    238.2,2,   233.5,2,    0.42,2,    0.01,2,    0.00,2,    0.13,2,   2.412,2,   1.301,2,  -999.0,9,  -999.0,9,-999.000,5,   1.7640,2,   -1.26,2, -999.00,9,  -999.0,9,  -999.0,   7.208,2,   0.017,     -999.0,   0.0040,   0.150,    18.1291,-999.000
  316N138_4,       P06C,     120,          1,         34,    02-9457,2,19920616,       0915,   -32.5083,  -144.0053,       4886,   108.8,  16.2810,  35.2523,2,  35.2389,2,    246.0,2,   243.5,2,    0.42,2,    0.01,2,    0.00,2,    0.15,2,   2.568,2,   1.385,2,  -999.0,9,  -999.0,9,   0.636,2,   1.7920,2,   -2.05,2, -999.00,9,  -999.0,9,  -999.0,   7.366,2,   0.017,     -999.0,   0.0040,   0.150,    16.2636,   0.004
  316N138_4,       P06C,     120,          1,         33,    02-5367,2,19920616,       0915,   -32.5083,  -144.0053,       4886,   160.2,  14.7824,  35.1155,2,  35.1079,2,    234.6,2,   237.4,2,    0.57,2,    1.85,2,    0.05,2,    0.33,2,   2.600,2,   1.375,2,  -999.0,9,  -999.0,9,   0.531,2,   1.8600,2,   -1.64,2, -999.00,9,  -999.0,9,  -999.0,   7.675,2,   0.018,     -999.0,   0.0040,   0.150,    14.7584,   0.004
  316N138_4,       P06C,     120,          1,         32,    02-9540,2,19920616,       0915,   -32.5083,  -144.0053,       4886,   208.3,  13.3801,  34.9657,2,  34.9902,2,    216.1,2,   208.0,2,    1.29,2,    6.98,2,    0.01,2,    0.62,2,   2.249,2,   1.178,2,  -999.0,9,  -999.0,9,   0.416,2,   1.7780,2,   -0.89,2, -999.00,9,  -999.0,9,  -999.0,   7.393,2,   0.017,     -999.0,   0.0040,   0.150,    13.3509,   0.004
  316N138_4,       P06C,     120,          1,         31,    02-9539,2,19920616,       0915,   -32.5083,  -144.0053,       4886,   260.3,  11.0950,  34.7542,2,  34.7758,2,    213.1,2,   204.3,2,    2.61,2,   12.73,2,    0.00,2,    0.96,2,   1.886,2,   0.961,2,  -999.0,9,  -999.0,9,-999.000,9,-999.0000,9, -999.00,9, -999.00,9,  -999.0,9,  -999.0,-999.000,9,-999.000,     -999.0,-999.0000,-999.000,    11.0627,-999.000
  316N138_4,       P06C,     120,          1,         30,    02-9456,3,19920616,       0915,   -32.5083,  -144.0053,       4886,   308.6,   9.5801,  34.6095,2,  34.7180,4,    215.6,2,   214.7,3,    2.89,2,   13.14,2,    0.01,2,    0.96,2,   1.880,2,   0.944,2,  -999.0,9,  -999.0,9,   0.355,2,   1.8340,2,   -0.32,2, -999.00,9,  -999.0,9,  -999.0,   7.722,2,   0.018,     -999.0,   0.0040,   0.150,     9.5452,   0.003
  316N138_4,       P06C,     120,          1,         29,    02-9458,2,19920616,       0915,   -32.5083,  -144.0053,       4886,   359.4,   8.4993,  34.5280,2,  34.5243,2,    223.1,2,   221.0,2,    4.36,2,   18.36,2,    0.00,2,    1.26,2,   1.687,2,   0.834,2,  -999.0,9,  -999.0,9,-999.000,9,-999.0000,9, -999.00,9, -999.00,9,  -999.0,9,  -999.0,-999.000,9,-999.000,     -999.0,-999.0000,-999.000,     8.4614,-999.000
  316N138_4,       P06C,     120,          1,         28,    02-9545,2,19920616,       0915,   -32.5083,  -144.0053,       4886,   409.0,   7.8103,  34.4639,2,  34.4659,2,    230.2,2,   231.0,2,    4.93,2,   19.70,2,    0.00,2,    1.36,2,   1.748,2,   0.874,2,  -999.0,9,  -999.0,9,   0.251,2,   1.8120,2,   -0.09,2, -999.00,9,  -999.0,9,  -999.0,   7.740,2,   0.018,     -999.0,   0.0040,   0.150,     7.7692,   0.003
  316N138_4,       P06C,     120,          1,         27,    02-9453,2,19920616,       0915,   -32.5083,  -144.0053,       4886,   460.5,   7.3986,  34.4343,2,  34.4359,2,    237.8,2,   237.9,2,    5.67,2,   20.53,2,    0.01,2,    1.40,2,   1.704,2,   0.821,2,  -999.0,9,  -999.0,9,-999.000,9,-999.0000,9, -999.00,9, -999.00,9,  -999.0,9,  -999.0,-999.000,9,-999.000,     -999.0,-999.0000,-999.000,     7.3537,-999.000
  316N138_4,       P06C,     120,          1,         26,    02-9544,2,19920616,       0915,   -32.5083,  -144.0053,       4886,   510.1,   7.1095,  34.4116,2,  34.4090,2,    243.8,2,   241.0,2,    6.39,2,   21.24,2,    0.01,2,    1.43,2,   1.581,6,   0.785,6,  -999.0,9,  -999.0,9,   0.219,2,   1.8610,2,    0.19,2, -999.00,9,  -999.0,9,  -999.0,   8.001,2,   0.018,     -999.0,   0.0040,   0.150,     7.0607,   0.003
  316N138_4,       P06C,     120,          1,         25,    02-9455,2,19920616,       0915,   -32.5083,  -144.0053,       4886,   610.9,   6.6435,  34.3844,2,  34.3770,2,    244.8,2,   241.9,2,    7.85,2,   22.49,2,    0.01,2,    1.49,2,   1.179,6,   0.599,6,  -999.0,9,  -999.0,9,   0.169,2,   1.8300,2,   -0.10,2, -999.00,9,  -999.0,9,  -999.0,   7.905,2,   0.018,     -999.0,   0.0040,   0.150,     6.5867,   0.002
  316N138_4,       P06C,     120,          1,         24,        132,2,19920616,       0915,   -32.5083,  -144.0053,       4886,   803.7,   5.7120,  34.3270,2,  34.3162,2,    232.5,2,   229.7,2,   13.69,2,   25.99,2,    0.01,2,    1.72,2,   0.534,2,   0.284,2,  -999.0,9,  -999.0,9,   0.111,2,   1.8290,2,    0.48,2, -999.00,9,  -999.0,9,  -999.0,   7.932,2,   0.018,     -999.0,   0.0040,   0.150,     5.6420,   0.004
  316N138_4,       P06C,     120,          1,         23,        123,2,19920616,       0915,   -32.5083,  -144.0053,       4886,   902.1,   5.2100,  34.3098,2,  34.3056,2,    216.6,2,   218.4,2,   19.23,2,   28.08,2,    0.01,2,    1.87,2,   0.262,2,   0.149,2,  -999.0,9,  -999.0,9,-999.000,9,-999.0000,9, -999.00,9, -999.00,9,  -999.0,9,  -999.0,-999.000,9,-999.000,     -999.0,-999.0000,-999.000,     5.1344,-999.000
  316N138_4,       P06C,     120,          1,         22,        128,2,19920616,       0915,   -32.5083,  -144.0053,       4886,  1000.8,   4.5588,  34.3214,2,  34.3417,3,    203.1,2,   196.6,4,   34.84,3,   31.55,3,    0.01,3,    2.10,3,   0.131,2,   0.065,2,  -999.0,9,  -999.0,9,   0.020,2,   1.8670,2,    3.73,2, -999.00,9,  -999.0,9,  -999.0,   8.091,2,   0.019,     -999.0,   0.0040,   0.150,     4.4791,   0.002
  316N138_4,       P06C,     120,          1,         21,        121,2,19920616,       0915,   -32.5083,  -144.0053,       4886,  1192.7,   3.6046,  34.3880,2,  34.3851,2,    186.9,2,   184.4,2,   47.39,2,   33.41,2,    0.01,2,    2.24,2,   0.028,2,   0.020,2,  -999.0,9,  -999.0,9,   0.010,2,-999.0000,9, -999.00,9, -999.00,9,  -999.0,9,  -999.0,-999.000,9,-999.000,     -999.0,-999.0000,-999.000,     3.5166,   0.002
  316N138_4,       P06C,     120,          1,         20,        120,2,19920616,       0915,   -32.5083,  -144.0053,       4886,  1376.9,   3.0023,  34.4735,2,  34.4822,2,    172.3,2,   171.2,2,   65.63,2,   34.67,2,    0.00,2,    2.34,2,-999.000,5,   0.008,2,  -999.0,9,  -999.0,9,   0.004,2,   1.9020,2,    9.05,2, -999.00,9,  -999.0,9,  -999.0,   8.287,2,   0.019,     -999.0,   0.0040,   0.150,     2.9048,   0.002
  316N138_4,       P06C,     120,          1,         19,        133,2,19920616,       0915,   -32.5083,  -144.0053,       4886,  1581.2,   2.6204,  34.5565,3,  34.5449,2,    162.7,2,   162.4,2,   83.86,2,   35.19,2,    0.00,2,    2.40,2,  -0.001,2,  -0.002,2,  -999.0,9,  -999.0,9,  -0.001,2,-999.0000,9, -999.00,9, -999.00,9,  -999.0,9,  -999.0,-999.000,9,-999.000,     -999.0,-999.0000,-999.000,     2.5104,   0.002
  316N138_4,       P06C,     120,          1,         18,        118,2,19920616,       0915,   -32.5083,  -144.0053,       4886,  1786.1,   2.3910,  34.6053,2,  34.5969,2,    155.1,2,   156.2,2,   98.74,2,   35.48,2,    0.00,2,    2.45,2,  -0.003,2,  -0.003,2,  -999.0,9,  -999.0,9,  -0.002,2,   1.9420,2,   18.66,2, -999.00,9,  -999.0,9,  -999.0,   8.278,2,   0.019,     -999.0,   0.0040,   0.150,     2.2669,   0.002
  316N138_4,       P06C,     120,          1,         17,        117,2,19920616,       0915,   -32.5083,  -144.0053,       4886,  1985.2,   2.1984,  34.6308,2,  34.6270,2,    152.6,2,   152.6,2,  108.95,2,   35.59,2,    0.00,2,    2.47,2,-999.000,9,-999.000,9,  -999.0,9,  -999.0,9,-999.000,9,-999.0000,9, -999.00,9, -999.00,9,  -999.0,9,  -999.0,-999.000,9,-999.000,     -999.0,-999.0000,-999.000,     2.0602,-999.000
  316N138_4,       P06C,     120,          1,         16,        116,2,19920616,       0915,   -32.5083,  -144.0053,       4886,  2181.8,   2.0380,  34.6474,2,  34.6380,2,    151.6,2,   151.3,2,  116.69,2,   35.70,2,    0.00,2,    2.49,2,   0.002,2,-999.000,5,  -999.0,9,  -999.0,9,-999.000,9,-999.0000,9, -999.00,9, -999.00,9,  -999.0,9,  -999.0,-999.000,9,-999.000,     -999.0,-999.0000,-999.000,     1.8854,-999.000
  316N138_4,       P06C,     120,          1,         15,        115,2,19920616,       0915,   -32.5083,  -144.0053,       4886,  2376.4,   1.9194,  34.6568,2,  34.6510,2,    152.4,2,   151.7,2,  121.64,2,   35.58,2,    0.00,2,    2.49,2,-999.000,9,-999.000,9,  -999.0,9,  -999.0,9,-999.000,9,-999.0000,9, -999.00,9, -999.00,9,  -999.0,9,  -999.0,-999.000,9,-999.000,     -999.0,-999.0000,-999.000,     1.7517,-999.000
  316N138_4,       P06C,     120,          1,         14,        114,2,19920616,       0915,   -32.5083,  -144.0053,       4886,  2581.8,   1.8218,  34.6631,2,  34.6673,2,    153.6,2,   153.4,2,  125.14,2,   35.41,2,    0.00,2,    2.49,2,  -0.002,2,-999.000,5,  -999.0,9,  -999.0,9,-999.000,9,-999.0000,9, -999.00,9, -999.00,9,  -999.0,9,  -999.0,-999.000,9,-999.000,     -999.0,-999.0000,-999.000,     1.6373,-999.000
  316N138_4,       P06C,     120,          1,         13,        125,2,19920616,       0915,   -32.5083,  -144.0053,       4886,  2788.1,   1.7438,  34.6691,2,  34.6720,2,    156.4,2,   157.2,2,  125.73,2,   35.10,2,    0.00,2,    2.47,2,-999.000,9,-999.000,9,  -999.0,9,  -999.0,9,-999.000,9,-999.0000,9, -999.00,9, -999.00,9,  -999.0,9,  -999.0,-999.000,9,-999.000,     -999.0,-999.0000,-999.000,     1.5418,-999.000
  316N138_4,       P06C,     120,          1,         12,        112,2,19920616,       0915,   -32.5083,  -144.0053,       4886,  2991.7,   1.6858,  34.6741,2,  34.6763,2,    159.7,2,   161.1,2,  126.02,2,   34.88,2,    0.00,2,    2.45,2,  -0.001,2,   0.001,2,  -999.0,9,  -999.0,9,-999.000,9,-999.0000,9, -999.00,9, -999.00,9,  -999.0,9,  -999.0,-999.000,9,-999.000,     -999.0,-999.0000,-999.000,     1.4657,-999.000
  316N138_4,       P06C,     120,          1,         11,        129,2,19920616,       0915,   -32.5083,  -144.0053,       4886,  2991.7,   1.6858,  34.6741,2,  34.6814,4,    159.7,2,   160.6,2,  126.02,2,   34.85,2,    0.00,2,    2.46,2,-999.000,9,-999.000,9,  -999.0,9,  -999.0,9,-999.000,9,-999.0000,9, -999.00,9, -999.00,9,  -999.0,9,  -999.0,-999.000,9,-999.000,     -999.0,-999.0000,-999.000,     1.4657,-999.000
  316N138_4,       P06C,     120,          1,         10,        110,2,19920616,       0915,   -32.5083,  -144.0053,       4886,  3195.9,   1.6270,  34.6795,2,  34.6824,2,    164.3,2,   164.7,2,  125.73,2,   34.54,2,    0.00,2,    2.43,2,  -0.005,2,  -0.003,2,  -999.0,9,  -999.0,9,-999.000,9,-999.0000,9, -999.00,9, -999.00,9,  -999.0,9,  -999.0,-999.000,9,-999.000,     -999.0,-999.0000,-999.000,     1.3884,-999.000
  316N138_4,       P06C,     120,          1,          9,        126,2,19920616,       0915,   -32.5083,  -144.0053,       4886,  3400.8,   1.5595,  34.6855,2,  34.6906,3,    169.0,2,   168.9,2,  124.85,2,   34.24,2,    0.00,2,    2.42,2,-999.000,9,-999.000,9,  -999.0,9,  -999.0,9,-999.000,9,-999.0000,9, -999.00,9, -999.00,9,  -999.0,9,  -999.0,-999.000,9,-999.000,     -999.0,-999.0000,-999.000,     1.3019,-999.000
  316N138_4,       P06C,     120,          1,          8,        108,2,19920616,       0915,   -32.5083,  -144.0053,       4886,  3607.3,   1.4951,  34.6898,2,  34.6924,2,    173.8,2,   174.7,2,  123.83,2,   33.93,2,    0.00,2,    2.39,2,  -0.002,2,  -0.003,2,  -999.0,9,  -999.0,9,-999.000,9,-999.0000,9, -999.00,9, -999.00,9,  -999.0,9,  -999.0,-999.000,9,-999.000,     -999.0,-999.0000,-999.000,     1.2180,-999.000
  316N138_4,       P06C,     120,          1,          7,        107,2,19920616,       0915,   -32.5083,  -144.0053,       4886,  3814.5,   1.4289,  34.6953,2,  34.6971,2,    180.2,2,   180.2,2,  122.36,2,   33.57,2,    0.00,2,    2.37,2,-999.000,9,-999.000,9,  -999.0,9,  -999.0,9,-999.000,9,-999.0000,9, -999.00,9, -999.00,9,  -999.0,9,  -999.0,-999.000,9,-999.000,     -999.0,-999.0000,-999.000,     1.1317,-999.000
  316N138_4,       P06C,     120,          1,          6,        180,2,19920616,       0915,   -32.5083,  -144.0053,       4886,  4022.3,   1.3497,  34.7006,2,  34.7129,4,    186.0,2,   187.0,2,  120.91,2,   33.17,2,    0.00,2,    2.32,2,  -0.001,2,   0.003,2,  -999.0,9,  -999.0,9,-999.000,9,-999.0000,9, -999.00,9, -999.00,9,  -999.0,9,  -999.0,-999.000,9,-999.000,     -999.0,-999.0000,-999.000,     1.0326,-999.000
  316N138_4,       P06C,     120,          1,          5,        131,2,19920616,       0915,   -32.5083,  -144.0053,       4886,  4228.2,   1.2995,  34.7058,2,  34.7227,4,    190.3,2,   190.9,2,  119.88,2,   32.91,2,    0.00,2,    2.29,2,-999.000,9,-999.000,9,  -999.0,9,  -999.0,9,-999.000,9,-999.0000,9, -999.00,9, -999.00,9,  -999.0,9,  -999.0,-999.000,9,-999.000,     -999.0,-999.0000,-999.000,     0.9612,-999.000
  316N138_4,       P06C,     120,          1,          4,        104,2,19920616,       0915,   -32.5083,  -144.0053,       4886,  4435.1,   1.2770,  34.7059,2,  34.7079,2,    194.2,2,   193.6,2,  119.45,2,   32.77,2,    0.01,2,    2.29,2,  -0.002,2,-999.000,5,  -999.0,9,  -999.0,9,-999.000,9,-999.0000,9, -999.00,9, -999.00,9,  -999.0,9,  -999.0,-999.000,9,-999.000,     -999.0,-999.0000,-999.000,     0.9163,-999.000
  316N138_4,       P06C,     120,          1,          3,        130,2,19920616,       0915,   -32.5083,  -144.0053,       4886,  4643.2,   1.2698,  34.7069,2,  34.7158,4,    196.5,2,   195.4,2,  119.16,2,   32.66,2,    0.01,2,    2.28,2,-999.000,9,-999.000,9,  -999.0,9,  -999.0,9,-999.000,9,-999.0000,9, -999.00,9, -999.00,9,  -999.0,9,  -999.0,-999.000,9,-999.000,     -999.0,-999.0000,-999.000,     0.8854,-999.000
  316N138_4,       P06C,     120,          1,          2,        135,2,19920616,       0915,   -32.5083,  -144.0053,       4886,  4851.3,   1.2781,  34.7078,2,  34.7074,2,    197.8,2,   196.3,2,  119.01,2,   32.62,2,    0.01,2,    2.28,2,  -0.003,2,-999.000,5,  -999.0,9,  -999.0,9,-999.000,9,-999.0000,9, -999.00,9, -999.00,9,  -999.0,9,  -999.0,-999.000,9,-999.000,     -999.0,-999.0000,-999.000,     0.8690,-999.000
  316N138_4,       P06C,     120,          1,          1,        134,2,19920616,       0915,   -32.5083,  -144.0053,       4886,  5138.5,   1.2877,  34.7087,2,  34.7109,2,    199.0,2,   197.9,2,  118.72,2,   32.49,2,    0.01,2,    2.26,2,  -0.001,2,  -0.001,2,  -999.0,9,  -999.0,9,-999.000,9,-999.0000,9, -999.00,9, -999.00,9,  -999.0,9,  -999.0,-999.000,9,-999.000,     -999.0,-999.0000,-999.000,     0.8437,-999.000