BOTTLE,20211025CCHSIORKP
EXPOCODE,SECT_ID,STNNBR,CASTNO,SAMPNO,BTLNBR,BTLNBR_FLAG_W,DATE,TIME,LATITUDE,LONGITUDE,DEPTH,CTDPRS,CTDTMP,CTDSAL,CTDSAL_FLAG_W,SALNTY,SALNTY_FLAG_W,CTDOXY,CTDOXY_FLAG_W,OXYGEN,OXYGEN_FLAG_W,SILCAT,SILCAT_FLAG_W,NITRAT,NITRAT_FLAG_W,NITRIT,NITRIT_FLAG_W,PHSPHT,PHSPHT_FLAG_W,CFC-11,CFC-11_FLAG_W,CFC-12,CFC-12_FLAG_W,TCARBN,TCARBN_FLAG_W,PCO2,PCO2_FLAG_W,TRITUM,TRITUM_FLAG_W,HELIUM,HELIUM_FLAG_W,DELHE3,DELHE3_FLAG_W,DELC13,DELC13_FLAG_W,DELC14,DELC14_FLAG_W,C14ERR,NEON,NEON_FLAG_W,NEONER,PCO2TMP,HELIER,DELHER,THETA,TRITER
,,,,,,,,,,,METERS,DBAR,ITS-90,PSS-78,,PSS-78,,UMOL/KG,,UMOL/KG,,UMOL/KG,,UMOL/KG,,UMOL/KG,,UMOL/KG,,PMOL/KG,,PMOL/KG,,UMOL/KG,,UATM,,TU,,NMOL/KG,,PERCNT,,/MILLE,,/MILLE,,/MILLE,NMOL/KG,,NMOL/KG,DEG_C,NMOL/KG,PERCNT,ITS-90,TU
  316N138_4,       P06C,     106,          1,         36,    02-9121,2,19920610,       1544,   -32.4898,  -134.0048,       4177,    22.5,  18.7690,  35.2535,2,  35.2532,2,    300.5,3,   231.8,2,    0.15,2,    0.07,2,   -0.01,2,    0.12,2,-999.000,9,-999.000,9,  2021.4,6,   288.7,2,-999.000,9,-999.0000,9, -999.00,9, -999.00,9,  -999.0,9,  -999.0,-999.000,9,-999.000,      20.20,-999.0000,-999.000,    18.7651,-999.000
  316N138_4,       P06C,     106,          1,         35,    02-9454,2,19920610,       1544,   -32.4898,  -134.0048,       4177,    50.6,  18.7680,  35.2521,2,  35.2550,2,    232.5,2,   232.9,2,    0.33,2,    0.07,2,   -0.01,2,    0.14,2,   2.385,6,   1.237,6,  2022.1,2,  -999.0,9,-999.000,9,-999.0000,9, -999.00,9, -999.00,9,  -999.0,9,  -999.0,-999.000,9,-999.000,     -999.0,-999.0000,-999.000,    18.7591,-999.000
  316N138_4,       P06C,     106,          1,         34,    02-9457,2,19920610,       1544,   -32.4898,  -134.0048,       4177,    82.8,  18.6513,  35.2362,2,  35.2381,2,    231.6,2,   232.2,2,    0.34,2,    0.06,2,   -0.01,2,    0.14,2,   2.393,2,   1.254,2,  2023.7,2,  -999.0,9,-999.000,9,-999.0000,9, -999.00,9, -999.00,9,  -999.0,9,  -999.0,-999.000,9,-999.000,     -999.0,-999.0000,-999.000,    18.6368,-999.000
  316N138_4,       P06C,     106,          1,         33,    02-5367,2,19920610,       1544,   -32.4898,  -134.0048,       4177,   112.1,  17.2528,  35.2616,2,  35.2688,2,    239.4,2,   238.7,2,    0.35,2,    0.05,2,    0.00,2,    0.16,2,   2.569,2,   1.326,2,  2033.0,2,   364.9,6,-999.000,9,-999.0000,9, -999.00,9, -999.00,9,  -999.0,9,  -999.0,-999.000,9,-999.000,      20.20,-999.0000,-999.000,    17.2341,-999.000
  316N138_4,       P06C,     106,          1,         32,    02-9540,2,19920610,       1544,   -32.4898,  -134.0048,       4177,   163.6,  15.5211,  35.0897,2,  35.0915,2,    224.6,2,   221.2,2,    0.55,2,    1.81,2,    0.02,2,    0.34,2,   2.524,2,   1.273,3,  2053.3,2,  -999.0,9,-999.000,9,-999.0000,9, -999.00,9, -999.00,9,  -999.0,9,  -999.0,-999.000,9,-999.000,     -999.0,-999.0000,-999.000,    15.4958,-999.000
  316N138_4,       P06C,     106,          1,         31,    02-9539,2,19920610,       1544,   -32.4898,  -134.0048,       4177,   213.2,  14.6205,  35.0677,2,  35.0703,2,    224.0,2,   216.7,2,    0.91,2,    3.82,2,    0.00,2,    0.46,2,   2.597,2,   1.245,2,  2067.0,2,  -999.0,9,-999.000,9,-999.0000,9, -999.00,9, -999.00,9,  -999.0,9,  -999.0,-999.000,9,-999.000,     -999.0,-999.0000,-999.000,    14.5887,-999.000
  316N138_4,       P06C,     106,          1,         30,    02-9456,2,19920610,       1544,   -32.4898,  -134.0048,       4177,   264.4,  13.2061,  34.9525,2,  34.9689,2,    212.6,2,   203.8,2,    1.62,2,    7.99,2,    0.00,2,    0.71,2,   2.120,2,   1.053,3,  2089.0,2,   511.4,2,-999.000,9,-999.0000,9, -999.00,9, -999.00,9,  -999.0,9,  -999.0,-999.000,9,-999.000,      20.20,-999.0000,-999.000,    13.1693,-999.000
  316N138_4,       P06C,     106,          1,         29,    02-9458,2,19920610,       1544,   -32.4898,  -134.0048,       4177,   311.0,  11.6648,  34.7616,2,  34.7667,2,    207.1,2,   202.8,2,    2.50,2,   12.22,2,    0.00,2,    0.95,2,   1.738,2,   0.860,2,  2101.9,2,  -999.0,9,-999.000,9,-999.0000,9, -999.00,9, -999.00,9,  -999.0,9,  -999.0,-999.000,9,-999.000,     -999.0,-999.0000,-999.000,    11.6249,-999.000
  316N138_4,       P06C,     106,          1,         28,    02-9545,2,19920610,       1544,   -32.4898,  -134.0048,       4177,   362.5,   9.7370,  34.5771,2,  34.5995,2,    211.1,2,   209.4,2,    3.74,2,   16.43,2,   -0.01,2,    1.20,2,   1.560,2,   0.775,2,  2117.1,2,  -999.0,9,-999.000,9,-999.0000,9, -999.00,9, -999.00,9,  -999.0,9,  -999.0,-999.000,9,-999.000,     -999.0,-999.0000,-999.000,     9.6955,-999.000
  316N138_4,       P06C,     106,          1,         27,    02-9453,2,19920610,       1544,   -32.4898,  -134.0048,       4177,   412.9,   8.6156,  34.5012,2,  34.5015,2,    217.4,2,   217.4,2,    4.63,2,   18.61,2,   -0.01,2,    1.32,2,   1.538,2,   0.753,2,  2124.2,2,   677.8,2,-999.000,9,-999.0000,9, -999.00,9, -999.00,9,  -999.0,9,  -999.0,-999.000,9,-999.000,      20.20,-999.0000,-999.000,     8.5716,-999.000
  316N138_4,       P06C,     106,          1,         26,    02-9544,2,19920610,       1544,   -32.4898,  -134.0048,       4177,   461.0,   7.7704,  34.4317,2,  34.4336,2,    227.0,2,   227.3,2,    5.52,2,   20.28,2,   -0.01,2,    1.44,2,   1.586,6,   0.763,6,  2127.6,2,  -999.0,9,-999.000,9,-999.0000,9, -999.00,9, -999.00,9,  -999.0,9,  -999.0,-999.000,9,-999.000,     -999.0,-999.0000,-999.000,     7.7241,-999.000
  316N138_4,       P06C,     106,          1,         25,    02-9455,2,19920610,       1544,   -32.4898,  -134.0048,       4177,   512.6,   7.2917,  34.4042,2,  34.4029,2,    235.1,2,   236.2,2,    6.06,2,   21.06,2,    0.00,2,    1.47,2,   1.605,2,   0.770,2,  2129.2,2,  -999.0,9,-999.000,9,-999.0000,9, -999.00,9, -999.00,9,  -999.0,9,  -999.0,-999.000,9,-999.000,     -999.0,-999.0000,-999.000,     7.2420,-999.000
  316N138_4,       P06C,     106,          1,         24,        132,2,19920610,       1544,   -32.4898,  -134.0048,       4177,   612.1,   6.7402,  34.3713,2,  34.3702,2,    240.7,2,   235.8,3,    7.46,2,   22.18,2,   -0.01,2,    1.52,2,   1.381,2,   0.703,2,  2132.2,2,   720.3,2,-999.000,9,-999.0000,9, -999.00,9, -999.00,9,  -999.0,9,  -999.0,-999.000,9,-999.000,      20.20,-999.0000,-999.000,     6.6830,-999.000
  316N138_4,       P06C,     106,          1,         23,        123,2,19920610,       1544,   -32.4898,  -134.0048,       4177,   712.5,   6.2530,  34.3353,2,  34.3370,2,    239.0,2,   241.6,2,    9.23,2,   23.58,2,    0.00,2,    1.62,2,   0.927,2,   0.470,2,  -999.0,9,  -999.0,9,-999.000,9,-999.0000,9, -999.00,9, -999.00,9,  -999.0,9,  -999.0,-999.000,9,-999.000,     -999.0,-999.0000,-999.000,     6.1885,-999.000
  316N138_4,       P06C,     106,          1,         22,        128,2,19920610,       1544,   -32.4898,  -134.0048,       4177,   814.5,   5.7212,  34.3127,2,  34.3133,2,    230.6,2,   232.8,2,   13.27,2,   25.73,2,    0.00,2,    1.77,2,   0.526,2,   0.276,2,  2146.8,2,   793.4,2,-999.000,9,-999.0000,9, -999.00,9, -999.00,9,  -999.0,9,  -999.0,-999.000,9,-999.000,      20.20,-999.0000,-999.000,     5.6502,-999.000
  316N138_4,       P06C,     106,          1,         21,        121,2,19920610,       1544,   -32.4898,  -134.0048,       4177,   913.1,   5.1493,  34.3130,2,  34.3052,2,    218.6,2,   218.9,2,   19.74,2,   28.11,2,    0.00,2,    1.91,2,   0.324,6,   0.178,6,  2164.0,2,  -999.0,9,-999.000,9,-999.0000,9, -999.00,9, -999.00,9,  -999.0,9,  -999.0,-999.000,9,-999.000,     -999.0,-999.0000,-999.000,     5.0730,-999.000
  316N138_4,       P06C,     106,          1,         20,        120,2,19920610,       1544,   -32.4898,  -134.0048,       4177,  1005.4,   4.5629,  34.3182,2,  34.3203,2,    204.8,2,   219.5,4,   28.68,2,   30.41,2,    0.00,2,    2.08,2,   0.159,2,   0.091,2,  2183.5,2,   900.1,2,-999.000,9,-999.0000,9, -999.00,9, -999.00,9,  -999.0,9,  -999.0,-999.000,9,-999.000,      20.20,-999.0000,-999.000,     4.4828,-999.000
  316N138_4,       P06C,     106,          1,         19,        133,2,19920610,       1544,   -32.4898,  -134.0048,       4177,  1105.5,   4.0248,  34.3519,2,  34.3478,2,    193.7,2,   192.2,2,   38.84,2,   32.35,2,    0.00,2,    2.23,2,   0.059,2,   0.044,3,  2203.3,2,  -999.0,9,-999.000,9,-999.0000,9, -999.00,9, -999.00,9,  -999.0,9,  -999.0,-999.000,9,-999.000,     -999.0,-999.0000,-999.000,     3.9404,-999.000
  316N138_4,       P06C,     106,          1,         18,        118,2,19920610,       1544,   -32.4898,  -134.0048,       4177,  1197.5,   3.5451,  34.3937,2,  34.3945,2,    184.4,2,   181.5,2,   49.87,2,   33.62,2,    0.00,2,    2.30,2,   0.027,2,   0.018,2,  2220.9,6,  1033.1,2,-999.000,9,-999.0000,9, -999.00,9, -999.00,9,  -999.0,9,  -999.0,-999.000,9,-999.000,      20.20,-999.0000,-999.000,     3.4572,-999.000
  316N138_4,       P06C,     106,          1,         17,        117,2,19920610,       1544,   -32.4898,  -134.0048,       4177,  1292.3,   3.2218,  34.4379,2,  34.4373,2,    175.8,2,   175.2,2,   58.79,2,   34.20,2,    0.00,2,    2.35,2,   0.012,2,   0.007,2,  2233.5,2,  -999.0,9,-999.000,9,-999.0000,9, -999.00,9, -999.00,9,  -999.0,9,  -999.0,-999.000,9,-999.000,     -999.0,-999.0000,-999.000,     3.1290,-999.000
  316N138_4,       P06C,     106,          1,         16,        116,2,19920610,       1544,   -32.4898,  -134.0048,       4177,  1442.3,   2.8653,  34.5015,2,  34.5029,2,    167.3,2,   166.3,2,   72.62,2,   34.76,2,    0.00,2,    2.40,2,  -0.001,2,   0.007,2,  2251.1,2,  1135.3,2,-999.000,9,-999.0000,9, -999.00,9, -999.00,9,  -999.0,9,  -999.0,-999.000,9,-999.000,      20.20,-999.0000,-999.000,     2.7639,-999.000
  316N138_4,       P06C,     106,          1,         15,        115,2,19920610,       1544,   -32.4898,  -134.0048,       4177,  1590.5,   2.5715,  34.5590,2,  34.5592,2,    162.6,2,   161.3,2,   86.09,2,   34.98,2,    0.01,2,    2.44,2,  -0.001,2,   0.000,2,  2266.4,2,  -999.0,9,-999.000,9,-999.0000,9, -999.00,9, -999.00,9,  -999.0,9,  -999.0,-999.000,9,-999.000,     -999.0,-999.0000,-999.000,     2.4613,-999.000
  316N138_4,       P06C,     106,          1,         14,        114,2,19920610,       1544,   -32.4898,  -134.0048,       4177,  1786.0,   2.3134,  34.6056,2,  34.6050,2,    157.9,2,   156.2,2,   99.92,2,   35.18,2,    0.01,2,    2.47,2,  -0.002,2,   0.003,2,  2281.9,2,  1137.9,2,-999.000,9,-999.0000,9, -999.00,9, -999.00,9,  -999.0,9,  -999.0,-999.000,9,-999.000,      20.20,-999.0000,-999.000,     2.1904,-999.000
  316N138_4,       P06C,     106,          1,         13,        125,2,19920610,       1544,   -32.4898,  -134.0048,       4177,  1991.2,   2.1553,  34.6292,2,  34.6278,2,    154.8,2,   156.2,2,  108.15,2,   35.31,2,    0.01,2,    2.48,2,-999.000,9,-999.000,9,  2290.9,2,  -999.0,9,-999.000,9,-999.0000,9, -999.00,9, -999.00,9,  -999.0,9,  -999.0,-999.000,9,-999.000,     -999.0,-999.0000,-999.000,     2.0172,-999.000
  316N138_4,       P06C,     106,          1,         12,        112,2,19920610,       1544,   -32.4898,  -134.0048,       4177,  2191.8,   1.9895,  34.6461,2,  34.6472,2,    155.1,2,   155.2,2,  115.68,2,   35.45,2,    0.01,2,    2.50,2,-999.000,9,-999.000,9,  2297.9,2,  1113.3,2,-999.000,9,-999.0000,9, -999.00,9, -999.00,9,  -999.0,9,  -999.0,-999.000,9,-999.000,      20.20,-999.0000,-999.000,     1.8369,-999.000
  316N138_4,       P06C,     106,          1,         11,        129,2,19920610,       1544,   -32.4898,  -134.0048,       4177,  2399.6,   1.8655,  34.6563,2,  34.6588,2,    156.0,2,   157.1,2,  120.06,2,   35.36,2,    0.01,2,    2.51,2,   0.004,2,   0.003,2,  2300.8,2,  -999.0,9,-999.000,9,-999.0000,9, -999.00,9, -999.00,9,  -999.0,9,  -999.0,-999.000,9,-999.000,     -999.0,-999.0000,-999.000,     1.6966,-999.000
  316N138_4,       P06C,     106,          1,         10,        110,2,19920610,       1544,   -32.4898,  -134.0048,       4177,  2607.5,   1.7740,  34.6648,2,  34.6651,2,    158.8,2,   159.5,2,  122.00,2,   35.18,2,    0.01,2,    2.48,2,-999.000,9,-999.000,9,  2301.1,2,  1095.0,6,-999.000,9,-999.0000,9, -999.00,9, -999.00,9,  -999.0,9,  -999.0,-999.000,9,-999.000,      20.20,-999.0000,-999.000,     1.5881,-999.000
  316N138_4,       P06C,     106,          1,          9,        126,2,19920610,       1544,   -32.4898,  -134.0048,       4177,  2820.4,   1.7076,  34.6704,2,  34.6671,2,    161.8,2,   162.3,2,  123.24,2,   35.03,2,    0.01,2,    2.47,2,-999.000,9,-999.000,9,  2300.4,2,  -999.0,9,-999.000,9,-999.0000,9, -999.00,9, -999.00,9,  -999.0,9,  -999.0,-999.000,9,-999.000,     -999.0,-999.0000,-999.000,     1.5033,-999.000
  316N138_4,       P06C,     106,          1,          8,        108,2,19920610,       1544,   -32.4898,  -134.0048,       4177,  3027.8,   1.6654,  34.6754,2,  34.6730,2,    164.4,2,   164.5,2,  123.42,2,   34.85,2,    0.01,2,    2.45,2,   0.000,2,  -0.002,2,  2298.7,2,  -999.0,9,-999.000,9,-999.0000,9, -999.00,9, -999.00,9,  -999.0,9,  -999.0,-999.000,9,-999.000,     -999.0,-999.0000,-999.000,     1.4424,-999.000
  316N138_4,       P06C,     106,          1,          7,        107,2,19920610,       1544,   -32.4898,  -134.0048,       4177,  3234.2,   1.6210,  34.6794,2,  34.6783,2,    167.6,2,   167.6,2,  123.78,2,   34.68,2,    0.00,2,    2.45,2,-999.000,9,-999.000,9,  2296.6,2,  1061.0,2,-999.000,9,-999.0000,9, -999.00,9, -999.00,9,  -999.0,9,  -999.0,-999.000,9,-999.000,      20.20,-999.0000,-999.000,     1.3788,-999.000
  316N138_4,       P06C,     106,          1,          6,        180,2,19920610,       1544,   -32.4898,  -134.0048,       4177,  3441.2,   1.5812,  34.6841,2,  34.6842,2,    170.9,2,   171.0,2,  123.44,2,   34.43,2,    0.00,2,    2.43,2,-999.000,9,-999.000,9,  2295.8,2,  -999.0,9,-999.000,9,-999.0000,9, -999.00,9, -999.00,9,  -999.0,9,  -999.0,-999.000,9,-999.000,     -999.0,-999.0000,-999.000,     1.3190,-999.000
  316N138_4,       P06C,     106,          1,          5,        131,2,19920610,       1544,   -32.4898,  -134.0048,       4177,  3647.7,   1.5450,  34.6874,2,  34.6885,2,    174.2,2,   174.6,2,  123.11,2,   34.26,2,    0.00,2,    2.41,2,   0.002,3,   0.001,2,  2293.3,2,  -999.0,9,-999.000,9,-999.0000,9, -999.00,9, -999.00,9,  -999.0,9,  -999.0,-999.000,9,-999.000,     -999.0,-999.0000,-999.000,     1.2624,-999.000
  316N138_4,       P06C,     106,          1,          4,        104,2,19920610,       1544,   -32.4898,  -134.0048,       4177,  3848.5,   1.4717,  34.6935,2,  34.6942,2,    178.7,2,   178.9,2,  121.90,2,   33.89,2,   -0.01,2,    2.37,2,-999.000,9,-999.000,9,  2288.5,2,  1054.9,6,-999.000,9,-999.0000,9, -999.00,9, -999.00,9,  -999.0,9,  -999.0,-999.000,9,-999.000,      20.20,-999.0000,-999.000,     1.1699,-999.000
  316N138_4,       P06C,     106,          1,          3,        130,2,19920610,       1544,   -32.4898,  -134.0048,       4177,  4001.6,   1.3797,  34.7006,2,  34.7001,2,    185.0,2,   187.8,3,  120.86,2,   33.46,2,   -0.01,2,    2.34,2,-999.000,9,-999.000,9,  2283.0,2,  -999.0,9,-999.000,9,-999.0000,9, -999.00,9, -999.00,9,  -999.0,9,  -999.0,-999.000,9,-999.000,     -999.0,-999.0000,-999.000,     1.0639,-999.000
  316N138_4,       P06C,     106,          1,          2,        135,2,19920610,       1544,   -32.4898,  -134.0048,       4177,  4152.3,   1.3257,  34.7042,2,  34.7060,2,    188.9,2,   189.5,2,  119.81,2,   33.18,2,   -0.01,2,    2.31,2,  -0.001,2,-999.000,5,  2280.2,2,  -999.0,9,-999.000,9,-999.0000,9, -999.00,9, -999.00,9,  -999.0,9,  -999.0,-999.000,9,-999.000,     -999.0,-999.0000,-999.000,     0.9951,-999.000
  316N138_4,       P06C,     106,          1,          1,        134,2,19920610,       1544,   -32.4898,  -134.0048,       4177,  4213.1,   1.3095,  34.7059,2,  34.7077,2,    190.4,2,   191.2,2,  119.39,2,   33.07,2,   -0.01,2,    2.31,2,  -0.001,2,   0.002,2,  2278.8,6,  1028.1,2,-999.000,9,-999.0000,9, -999.00,9, -999.00,9,  -999.0,9,  -999.0,-999.000,9,-999.000,      20.20,-999.0000,-999.000,     0.9726,-999.000