BOTTLE,20211025CCHSIORKP
EXPOCODE,SECT_ID,STNNBR,CASTNO,SAMPNO,BTLNBR,BTLNBR_FLAG_W,DATE,TIME,LATITUDE,LONGITUDE,DEPTH,CTDPRS,CTDTMP,CTDSAL,CTDSAL_FLAG_W,SALNTY,SALNTY_FLAG_W,CTDOXY,CTDOXY_FLAG_W,OXYGEN,OXYGEN_FLAG_W,SILCAT,SILCAT_FLAG_W,NITRAT,NITRAT_FLAG_W,NITRIT,NITRIT_FLAG_W,PHSPHT,PHSPHT_FLAG_W,CFC-11,CFC-11_FLAG_W,CFC-12,CFC-12_FLAG_W,TCARBN,TCARBN_FLAG_W,PCO2,PCO2_FLAG_W,TRITUM,TRITUM_FLAG_W,HELIUM,HELIUM_FLAG_W,DELHE3,DELHE3_FLAG_W,DELC13,DELC13_FLAG_W,DELC14,DELC14_FLAG_W,C14ERR,NEON,NEON_FLAG_W,NEONER,PCO2TMP,HELIER,DELHER,THETA,TRITER
,,,,,,,,,,,METERS,DBAR,ITS-90,PSS-78,,PSS-78,,UMOL/KG,,UMOL/KG,,UMOL/KG,,UMOL/KG,,UMOL/KG,,UMOL/KG,,PMOL/KG,,PMOL/KG,,UMOL/KG,,UATM,,TU,,NMOL/KG,,PERCNT,,/MILLE,,/MILLE,,/MILLE,NMOL/KG,,NMOL/KG,DEG_C,NMOL/KG,PERCNT,ITS-90,TU
  316N138_4,       P06C,     115,          1,         36,    02-9121,2,19920614,       0330,   -32.5065,  -140.0037,       4698,    23.6,  19.2089,  35.4084,2,  35.4147,2,    241.4,2,   230.5,2,    0.41,2,    0.04,2,    0.00,2,    0.10,2,   2.344,2,-999.000,5,  2023.1,6,   285.7,2,   0.740,2,-999.0000,9, -999.00,9,    1.36,2,   121.8,2,     4.1,-999.000,9,-999.000,      20.20,-999.0000,-999.000,    19.2046,   0.005
  316N138_4,       P06C,     115,          1,         35,    02-9454,2,19920614,       0330,   -32.5065,  -140.0037,       4698,    63.6,  19.2150,  35.4079,2,  35.4099,2,    236.8,2,   230.7,2,    0.41,2,    0.03,2,    0.00,2,    0.10,2,   2.329,2,   1.370,3,  2023.6,2,  -999.0,9,   0.743,2,   1.7780,2,   -1.42,2, -999.00,9,  -999.0,9,  -999.0,   7.225,2,   0.017,     -999.0,   0.0040,   0.150,    19.2035,   0.005
  316N138_4,       P06C,     115,          1,         34,    02-9457,2,19920614,       0330,   -32.5065,  -140.0037,       4698,   114.0,  19.1757,  35.4166,2,  35.4105,2,    228.2,2,   231.9,2,    0.40,2,    0.03,2,    0.00,2,    0.10,2,   2.328,2,   1.211,2,  2024.8,2,   314.2,2,   0.689,2,   1.7790,2,   -1.23,2,    1.38,2,   120.2,2,     4.6,   7.227,2,   0.017,      20.20,   0.0040,   0.150,    19.1552,   0.005
  316N138_4,       P06C,     115,          1,         33,    02-5367,2,19920614,       0330,   -32.5065,  -140.0037,       4698,   163.8,  15.9428,  35.2155,2,  35.2154,2,    220.8,2,   222.3,2,    0.69,2,    1.63,2,    0.02,2,    0.29,2,   2.476,2,   1.268,2,  2056.0,2,  -999.0,9,-999.000,9,-999.0000,9, -999.00,9, -999.00,9,  -999.0,9,  -999.0,-999.000,9,-999.000,     -999.0,-999.0000,-999.000,    15.9169,-999.000
  316N138_4,       P06C,     115,          1,         32,    02-9540,2,19920614,       0330,   -32.5065,  -140.0037,       4698,   213.8,  15.0165,  35.1323,2,  35.1319,2,    210.3,2,   212.0,2,    0.99,2,    4.05,2,    0.01,2,    0.44,2,   2.316,2,   1.214,2,  2069.9,2,   410.9,2,   0.577,2,   1.7980,2,   -0.22,2,    1.26,2,   116.0,2,     4.1,   7.454,2,   0.017,      20.20,   0.0040,   0.150,    14.9841,   0.004
  316N138_4,       P06C,     115,          1,         31,    02-9539,2,19920614,       0330,   -32.5065,  -140.0037,       4698,   256.2,  13.6807,  35.0012,2,  35.0024,2,    206.5,2,   205.8,2,    1.43,2,    7.39,2,    0.00,2,    0.63,2,-999.000,5,-999.000,5,  2086.9,2,  -999.0,9,-999.000,9,-999.0000,9, -999.00,9, -999.00,9,  -999.0,9,  -999.0,-999.000,9,-999.000,     -999.0,-999.0000,-999.000,    13.6442,-999.000
  316N138_4,       P06C,     115,          1,         30,    02-9456,2,19920614,       0330,   -32.5065,  -140.0037,       4698,   308.2,  11.5906,  34.7983,2,  34.8066,2,    204.8,2,   202.5,2,    2.60,2,   12.40,2,    0.00,2,    0.92,2,   1.768,2,   0.902,2,  2105.6,2,   564.2,2,   0.372,2,   1.8330,2,    0.07,2,    1.16,2,    80.0,2,     3.4,   7.680,2,   0.018,      20.20,   0.0040,   0.150,    11.5512,   0.003
  316N138_4,       P06C,     115,          1,         29,    02-9458,2,19920614,       0330,   -32.5065,  -140.0037,       4698,   361.6,   9.8712,  34.6292,2,  34.6323,2,    208.5,2,   205.8,2,    3.77,2,   16.39,2,    0.00,2,    1.16,2,   1.428,2,   0.737,2,  2117.8,2,  -999.0,9,-999.000,9,-999.0000,9, -999.00,9,    1.28,2,    61.8,2,     6.9,-999.000,9,-999.000,     -999.0,-999.0000,-999.000,     9.8294,-999.000
  316N138_4,       P06C,     115,          1,         28,    02-9545,2,19920614,       0330,   -32.5065,  -140.0037,       4698,   408.5,   8.7834,  34.5306,2,  34.5302,2,    212.4,2,   213.3,2,    4.94,2,   18.75,2,    0.00,2,    1.30,2,   1.270,2,   0.640,2,  2126.0,2,   697.6,2,   0.229,2,   1.8400,2,    0.17,2,    1.19,2,    43.4,2,     3.6,   7.817,2,   0.018,      20.20,   0.0040,   0.150,     8.7394,   0.003
  316N138_4,       P06C,     115,          1,         27,    02-9453,3,19920614,       0330,   -32.5065,  -140.0037,       4698,   512.3,   7.4281,  34.4329,2,  34.5793,4,    240.5,2,   236.1,4,    4.64,4,   17.12,4,    0.00,4,    1.20,4,   1.958,6,   0.968,6,  2113.2,3,  -999.0,9,-999.000,5,   1.8260,2,   -0.31,2, -999.00,9,  -999.0,9,  -999.0,   7.752,2,   0.018,     -999.0,   0.0040,   0.150,     7.3778,-999.000
  316N138_4,       P06C,     115,          1,         26,    02-9544,2,19920614,       0330,   -32.5065,  -140.0037,       4698,   615.3,   6.8400,  34.3877,2,  34.3866,2,    242.6,2,   244.9,2,    6.98,2,   21.90,2,    0.00,2,    1.48,2,   1.464,2,   0.713,2,  2131.2,2,   677.5,2,   0.209,2,   1.8250,2,   -0.06,2,    1.35,2,    25.4,2,     3.1,   7.867,2,   0.018,      20.20,   0.0040,   0.150,     6.7820,   0.003
  316N138_4,       P06C,     115,          1,         25,    02-9455,2,19920614,       0330,   -32.5065,  -140.0037,       4698,   712.9,   6.3776,  34.3521,2,  34.3527,2,    240.7,2,   243.2,2,    8.90,2,   23.43,2,    0.00,2,    1.56,2,-999.000,5,-999.000,5,  2133.6,2,  -999.0,9,   0.142,2,-999.0000,9, -999.00,9,    1.38,2,     5.0,2,     3.7,-999.000,9,-999.000,     -999.0,-999.0000,-999.000,     6.3124,   0.002
  316N138_4,       P06C,     115,          1,         24,        132,2,19920614,       0330,   -32.5065,  -140.0037,       4698,   812.1,   5.9143,  34.3274,2,  34.3260,2,    233.6,2,   237.5,2,   11.39,2,   25.01,2,    0.00,2,    1.67,2,   0.605,2,   0.317,2,  2143.0,2,   733.1,2,   0.108,2,-999.0000,9, -999.00,9,    1.39,2,   -28.0,2,     2.6,-999.000,9,-999.000,      20.20,-999.0000,-999.000,     5.8423,   0.002
  316N138_4,       P06C,     115,          1,         23,        123,2,19920614,       0330,   -32.5065,  -140.0037,       4698,   910.0,   5.3393,  34.3079,2,  34.3070,2,    222.4,2,   224.1,2,   17.26,2,   27.47,2,    0.00,2,    1.84,2,   0.332,2,   0.172,2,  2159.1,2,  -999.0,9,-999.000,9,-999.0000,9, -999.00,9,    1.07,2,   -66.8,2,     2.5,-999.000,9,-999.000,     -999.0,-999.0000,-999.000,     5.2620,-999.000
  316N138_4,       P06C,     115,          1,         22,        128,2,19920614,       0330,   -32.5065,  -140.0037,       4698,  1015.1,   4.6136,  34.3276,3,  34.3170,2,    207.7,2,   205.2,2,   27.09,2,   30.19,2,    0.01,2,    2.02,2,-999.000,5,-999.000,5,  2180.6,2,  -999.0,9,   0.030,2,   1.8320,2,    1.58,2,    0.91,2,  -104.3,2,     2.5,   7.976,2,   0.018,     -999.0,   0.0040,   0.150,     4.5322,   0.002
  316N138_4,       P06C,     115,          1,         21,        121,2,19920614,       0330,   -32.5065,  -140.0037,       4698,  1116.5,   4.0466,  34.3475,2,  34.3466,2,    194.3,2,   191.9,2,   38.11,2,   32.24,2,    0.01,2,    2.17,2,   0.063,2,   0.035,2,  2201.7,2,  1005.3,2,-999.000,9,-999.0000,9, -999.00,9,    0.84,2,  -122.1,2,     2.5,-999.000,9,-999.000,      20.20,-999.0000,-999.000,     3.9610,-999.000
  316N138_4,       P06C,     115,          1,         20,        120,2,19920614,       0330,   -32.5065,  -140.0037,       4698,  1217.0,   3.5991,  34.3873,2,  34.3880,2,    184.5,2,   183.1,2,   48.23,2,   33.45,2,    0.01,2,    2.26,2,   0.026,2,   0.017,2,  2217.9,2,  -999.0,9,   0.005,2,-999.0000,9, -999.00,9,    0.71,2,  -131.8,2,     2.7,-999.000,9,-999.000,     -999.0,-999.0000,-999.000,     3.5091,   0.001
  316N138_4,       P06C,     115,          1,         19,        133,2,19920614,       0330,   -32.5065,  -140.0037,       4698,  1315.5,   3.2451,  34.4357,2,  34.4338,2,    175.8,2,   175.9,2,   58.22,2,   34.14,2,    0.01,2,    2.31,2,   0.008,2,   0.002,2,  2232.8,2,  -999.0,9,-999.000,9,-999.0000,9, -999.00,9,    0.60,2,  -140.7,2,     2.7,-999.000,9,-999.000,     -999.0,-999.0000,-999.000,     3.1502,-999.000
  316N138_4,       P06C,     115,          1,         18,        118,2,19920614,       0330,   -32.5065,  -140.0037,       4698,  1413.7,   2.9910,  34.4804,2,  34.4785,2,    170.8,2,   170.8,2,   67.16,2,   34.51,2,    0.01,2,    2.36,2,   0.002,2,   0.003,2,  2244.4,6,  1134.6,2,   0.000,2,   1.8670,2,    9.64,2,    0.40,2,  -153.3,2,     2.5,   8.111,2,   0.019,      20.20,   0.0040,   0.150,     2.8906,   0.001
  316N138_4,       P06C,     115,          1,         17,        117,2,19920614,       0330,   -32.5065,  -140.0037,       4698,  1615.6,   2.5972,  34.5574,2,  34.5549,2,    163.5,2,   163.1,2,   84.92,2,   34.89,2,    0.00,2,    2.41,2,-999.000,9,-999.000,9,  2265.6,2,  -999.0,9,   0.001,2,-999.0000,9, -999.00,9,    0.37,2,  -171.5,2,     2.5,-999.000,9,-999.000,     -999.0,-999.0000,-999.000,     2.4846,   0.001
  316N138_4,       P06C,     115,          1,         16,        116,2,19920614,       0330,   -32.5065,  -140.0037,       4698,  1820.8,   2.3232,  34.6074,2,  34.6154,2,    157.1,2,   157.1,2,  100.63,2,   35.20,2,    0.01,2,    2.45,2,   0.002,2,  -0.005,2,  2283.1,2,  -999.0,9,  -0.002,2,   1.9400,2,   18.24,2,    0.28,2,  -194.8,2,     2.9,   8.281,2,   0.019,     -999.0,   0.0040,   0.150,     2.1972,   0.001
  316N138_4,       P06C,     115,          1,         15,        115,2,19920614,       0330,   -32.5065,  -140.0037,       4698,  2018.9,   2.1566,  34.6330,2,  34.6319,2,    154.4,2,   154.2,2,  110.32,2,   35.43,2,    0.01,2,    2.48,2,-999.000,9,-999.000,9,  2293.9,2,  1108.4,2,   0.002,2,   1.9540,2,   21.07,2,    0.20,2,  -199.8,2,     2.4,   8.315,2,   0.019,      20.20,   0.0040,   0.150,     2.0162,   0.002
  316N138_4,       P06C,     115,          1,         14,        114,2,19920614,       0330,   -32.5065,  -140.0037,       4698,  2224.0,   2.0091,  34.6471,2,  34.6464,2,    153.9,2,   153.3,2,  116.78,2,   35.53,2,    0.01,2,    2.50,2,  -0.002,2,  -0.004,2,  2300.4,2,  -999.0,9,-999.000,9,-999.0000,9, -999.00,9,    0.26,2,  -207.8,2,     2.5,-999.000,9,-999.000,     -999.0,-999.0000,-999.000,     1.8533,-999.000
  316N138_4,       P06C,     115,          1,         13,        125,2,19920614,       0330,   -32.5065,  -140.0037,       4698,  2427.2,   1.8905,  34.6561,2,  34.6553,2,    155.1,2,   154.8,2,  121.33,2,   35.53,2,    0.01,2,    2.50,2,-999.000,9,-999.000,9,  2303.2,2,  -999.0,9,-999.000,9,-999.0000,9, -999.00,9,    0.12,2,  -220.8,6,     4.2,-999.000,9,-999.000,     -999.0,-999.0000,-999.000,     1.7188,-999.000
  316N138_4,       P06C,     115,          1,         12,        112,2,19920614,       0330,   -32.5065,  -140.0037,       4698,  2631.4,   1.7954,  34.6633,2,  34.6661,2,    156.8,2,   156.8,2,  124.42,2,   35.48,2,    0.01,2,    2.50,2,   0.000,2,   0.003,2,  2304.9,2,  1113.3,2,-999.000,9,-999.0000,9, -999.00,9,    0.14,2,  -215.0,2,     2.5,-999.000,9,-999.000,      20.20,-999.0000,-999.000,     1.6069,-999.000
  316N138_4,       P06C,     115,          1,         11,        129,2,19920614,       0330,   -32.5065,  -140.0037,       4698,  2833.0,   1.7280,  34.6700,2,  34.6688,2,    159.4,2,   160.0,2,  125.16,2,   35.29,2,    0.01,2,    2.47,2,-999.000,9,-999.000,9,  2304.4,2,  -999.0,9,-999.000,9,-999.0000,9, -999.00,9,    0.13,2,  -220.6,2,     2.3,-999.000,9,-999.000,     -999.0,-999.0000,-999.000,     1.5221,-999.000
  316N138_4,       P06C,     115,          1,         10,        110,2,19920614,       0330,   -32.5065,  -140.0037,       4698,  3035.4,   1.6745,  34.6755,2,  34.6739,2,    163.4,2,   162.5,2,  125.45,2,   35.11,2,    0.01,2,    2.47,2,   0.000,2,   0.002,2,  2301.4,2,  -999.0,9,-999.000,9,-999.0000,9, -999.00,9,    0.18,2,  -216.8,2,     2.6,-999.000,9,-999.000,     -999.0,-999.0000,-999.000,     1.4505,-999.000
  316N138_4,       P06C,     115,          1,          9,        126,2,19920614,       0330,   -32.5065,  -140.0037,       4698,  3230.8,   1.6200,  34.6807,2,  34.6785,2,    166.9,2,   166.5,2,  125.01,2,   34.64,2,    0.01,2,    2.43,2,-999.000,9,-999.000,9,  2298.3,2,  1072.0,2,-999.000,9,-999.0000,9, -999.00,9,    0.21,2,  -236.4,2,     2.4,-999.000,9,-999.000,      20.20,-999.0000,-999.000,     1.3781,-999.000
  316N138_4,       P06C,     115,          1,          8,        108,2,19920614,       0330,   -32.5065,  -140.0037,       4698,  3448.5,   1.5492,  34.6864,2,  34.6848,2,    171.5,2,   172.2,2,  123.99,2,   34.40,2,    0.01,2,    2.42,2,   0.001,2,   0.007,2,  2294.5,2,  -999.0,9,-999.000,9,-999.0000,9, -999.00,9,    0.31,2,  -209.7,2,     2.7,-999.000,9,-999.000,     -999.0,-999.0000,-999.000,     1.2871,-999.000
  316N138_4,       P06C,     115,          1,          7,        107,2,19920614,       0330,   -32.5065,  -140.0037,       4698,  3652.4,   1.5082,  34.6898,2,  34.6897,2,    175.3,2,   175.8,2,  123.40,2,   34.13,2,    0.01,2,    2.41,2,-999.000,9,-999.000,9,  2291.0,2,  -999.0,9,-999.000,9,-999.0000,9, -999.00,9,    0.28,2,  -200.7,2,     2.8,-999.000,9,-999.000,     -999.0,-999.0000,-999.000,     1.2261,-999.000
  316N138_4,       P06C,     115,          1,          6,        180,2,19920614,       0330,   -32.5065,  -140.0037,       4698,  3857.0,   1.4307,  34.6957,2,  34.6954,2,    180.5,2,   181.5,2,  122.52,2,   33.66,2,    0.01,2,    2.37,2,   0.004,2,-999.000,5,  2285.7,2,  1005.1,2,-999.000,9,-999.0000,9, -999.00,9,    0.35,2,  -187.8,2,     2.7,-999.000,9,-999.000,      20.20,-999.0000,-999.000,     1.1290,-999.000
  316N138_4,       P06C,     115,          1,          5,        131,2,19920614,       0330,   -32.5065,  -140.0037,       4698,  4063.4,   1.3623,  34.7008,2,  34.6983,2,    186.6,2,   188.8,3,  120.91,2,   33.29,2,    0.01,2,    2.33,2,-999.000,9,-999.000,9,  2279.7,2,  -999.0,9,-999.000,9,-999.0000,9, -999.00,9,    0.38,2,  -188.2,2,     5.2,-999.000,9,-999.000,     -999.0,-999.0000,-999.000,     1.0403,-999.000
  316N138_4,       P06C,     115,          1,          4,        104,3,19920614,       0330,   -32.5065,  -140.0037,       4698,  4267.4,   1.3187,  34.7045,2,  34.7158,4,    191.2,2,   191.7,3,  112.10,4,   31.34,4,    0.01,4,    2.19,4,-999.000,9,-999.000,9,  2266.7,3,  -999.0,9,-999.000,9,-999.0000,9, -999.00,9,    0.39,2,  -170.7,2,     3.0,-999.000,9,-999.000,     -999.0,-999.0000,-999.000,     0.9755,-999.000
  316N138_4,       P06C,     115,          1,          3,        130,2,19920614,       0330,   -32.5065,  -140.0037,       4698,  4468.2,   1.3132,  34.7059,2,  34.7105,3,    193.1,2,   192.9,2,  119.59,2,   32.92,2,    0.01,2,    2.30,2,   0.003,2,-999.000,5,  2275.4,2,   995.5,2,-999.000,9,-999.0000,9, -999.00,9,    0.40,2,  -178.2,2,     2.7,-999.000,9,-999.000,      20.20,-999.0000,-999.000,     0.9476,-999.000
  316N138_4,       P06C,     115,          1,          2,        135,2,19920614,       0330,   -32.5065,  -140.0037,       4698,  4672.2,   1.3227,  34.7059,2,  34.7079,2,    194.7,2,   190.0,3,  119.30,2,   32.87,2,    0.01,2,    2.29,2,  -0.001,2,   0.002,2,  2274.7,2,  -999.0,9,-999.000,9,-999.0000,9, -999.00,9,    0.41,2,  -184.9,2,     3.8,-999.000,9,-999.000,     -999.0,-999.0000,-999.000,     0.9333,-999.000
  316N138_4,       P06C,     115,          1,          1,        134,2,19920614,       0330,   -32.5065,  -140.0037,       4698,  4809.4,   1.3380,  34.7066,2,  34.7068,2,    196.1,2,   194.3,2,  119.30,2,   32.89,2,    0.00,2,    2.29,2,   0.004,6,   0.005,2,  2274.5,6,  1041.1,2,-999.000,9,-999.0000,9, -999.00,9,    0.29,2,  -187.5,2,     5.1,-999.000,9,-999.000,      20.20,-999.0000,-999.000,     0.9319,-999.000