BOTTLE,20211025CCHSIORKP
EXPOCODE,SECT_ID,STNNBR,CASTNO,SAMPNO,BTLNBR,BTLNBR_FLAG_W,DATE,TIME,LATITUDE,LONGITUDE,DEPTH,CTDPRS,CTDTMP,CTDSAL,CTDSAL_FLAG_W,SALNTY,SALNTY_FLAG_W,CTDOXY,CTDOXY_FLAG_W,OXYGEN,OXYGEN_FLAG_W,SILCAT,SILCAT_FLAG_W,NITRAT,NITRAT_FLAG_W,NITRIT,NITRIT_FLAG_W,PHSPHT,PHSPHT_FLAG_W,CFC-11,CFC-11_FLAG_W,CFC-12,CFC-12_FLAG_W,TCARBN,TCARBN_FLAG_W,PCO2,PCO2_FLAG_W,TRITUM,TRITUM_FLAG_W,HELIUM,HELIUM_FLAG_W,DELHE3,DELHE3_FLAG_W,DELC13,DELC13_FLAG_W,DELC14,DELC14_FLAG_W,C14ERR,NEON,NEON_FLAG_W,NEONER,PCO2TMP,HELIER,DELHER,THETA,TRITER
,,,,,,,,,,,METERS,DBAR,ITS-90,PSS-78,,PSS-78,,UMOL/KG,,UMOL/KG,,UMOL/KG,,UMOL/KG,,UMOL/KG,,UMOL/KG,,PMOL/KG,,PMOL/KG,,UMOL/KG,,UATM,,TU,,NMOL/KG,,PERCNT,,/MILLE,,/MILLE,,/MILLE,NMOL/KG,,NMOL/KG,DEG_C,NMOL/KG,PERCNT,ITS-90,TU
  316N138_4,       P06C,     152,          1,         36,    02-9121,2,19920626,       0508,   -32.5117,  -167.4928,       5249,    28.8,  16.8002,  35.4370,2,  35.4369,2,    252.2,2,   237.1,2,    0.47,2,    0.09,2,    0.01,2,    0.15,2,-999.000,5,-999.000,5,  -999.0,9,  -999.0,9,-999.000,9,-999.0000,9, -999.00,9, -999.00,9,  -999.0,9,  -999.0,-999.000,9,-999.000,     -999.0,-999.0000,-999.000,    16.7955,-999.000
  316N138_4,       P06C,     152,          1,         35,    02-9454,2,19920626,       0508,   -32.5117,  -167.4928,       5249,    68.7,  16.8118,  35.4377,2,  35.4364,2,    245.4,2,   236.3,2,    0.47,2,    0.09,2,    0.00,2,    0.16,2,-999.000,5,-999.000,5,  -999.0,9,  -999.0,9,-999.000,9,-999.0000,9, -999.00,9, -999.00,9,  -999.0,9,  -999.0,-999.000,9,-999.000,     -999.0,-999.0000,-999.000,    16.8006,-999.000
  316N138_4,       P06C,     152,          1,         34,    02-9457,2,19920626,       0508,   -32.5117,  -167.4928,       5249,   118.7,  16.7367,  35.3987,2,  35.4312,2,    235.1,2,   234.0,2,    0.46,2,    0.04,2,    0.01,2,    0.15,2,-999.000,5,-999.000,5,  -999.0,9,  -999.0,9,-999.000,9,-999.0000,9, -999.00,9, -999.00,9,  -999.0,9,  -999.0,-999.000,9,-999.000,     -999.0,-999.0000,-999.000,    16.7173,-999.000
  316N138_4,       P06C,     152,          1,         33,    02-5367,2,19920626,       0508,   -32.5117,  -167.4928,       5249,   213.8,  14.1387,  35.2009,2,  35.1902,2,    219.7,2,   218.7,2,    1.33,2,    4.92,2,    0.02,2,    0.51,2,-999.000,5,-999.000,5,  -999.0,9,  -999.0,9,-999.000,9,-999.0000,9, -999.00,9, -999.00,9,  -999.0,9,  -999.0,-999.000,9,-999.000,     -999.0,-999.0000,-999.000,    14.1075,-999.000
  316N138_4,       P06C,     152,          1,         32,    02-9540,2,19920626,       0508,   -32.5117,  -167.4928,       5249,   308.9,  11.7626,  34.9387,2,  34.9345,2,    208.2,2,   210.3,2,    2.92,2,   11.56,2,    0.01,2,    0.88,2,-999.000,5,-999.000,5,  -999.0,9,  -999.0,9,-999.000,9,-999.0000,9, -999.00,9, -999.00,9,  -999.0,9,  -999.0,-999.000,9,-999.000,     -999.0,-999.0000,-999.000,    11.7227,-999.000
  316N138_4,       P06C,     152,          1,         31,    02-9539,2,19920626,       0508,   -32.5117,  -167.4928,       5249,   406.4,   9.5028,  34.6581,2,  34.6596,2,    214.3,2,   222.6,4,    3.95,2,   16.60,2,    0.01,2,    1.15,2,-999.000,5,-999.000,5,  -999.0,9,  -999.0,9,-999.000,9,-999.0000,9, -999.00,9, -999.00,9,  -999.0,9,  -999.0,-999.000,9,-999.000,     -999.0,-999.0000,-999.000,     9.4568,-999.000
  316N138_4,       P06C,     152,          1,         30,    02-9456,2,19920626,       0508,   -32.5117,  -167.4928,       5249,   507.8,   7.9989,  34.4996,2,  34.5015,2,    229.7,2,   229.5,2,    5.00,2,   19.50,2,    0.01,2,    1.37,2,-999.000,5,-999.000,5,  -999.0,9,  -999.0,9,-999.000,9,-999.0000,9, -999.00,9, -999.00,9,  -999.0,9,  -999.0,-999.000,9,-999.000,     -999.0,-999.0000,-999.000,     7.9468,-999.000
  316N138_4,       P06C,     152,          1,         29,    02-9458,2,19920626,       0508,   -32.5117,  -167.4928,       5249,   613.9,   7.2195,  34.4291,2,  34.4310,2,    239.8,2,   237.6,2,    6.41,2,   21.30,2,    0.00,2,    1.47,2,-999.000,5,-999.000,5,  -999.0,9,  -999.0,9,-999.000,9,-999.0000,9, -999.00,9, -999.00,9,  -999.0,9,  -999.0,-999.000,9,-999.000,     -999.0,-999.0000,-999.000,     7.1598,-999.000
  316N138_4,       P06C,     152,          1,         28,    02-9545,2,19920626,       0508,   -32.5117,  -167.4928,       5249,   713.2,   6.6633,  34.3732,2,  34.3825,2,    241.8,2,   237.7,2,    8.17,2,   23.01,2,    0.00,2,    1.55,2,-999.000,5,-999.000,5,  -999.0,9,  -999.0,9,-999.000,9,-999.0000,9, -999.00,9, -999.00,9,  -999.0,9,  -999.0,-999.000,9,-999.000,     -999.0,-999.0000,-999.000,     6.5964,-999.000
  316N138_4,       P06C,     152,          1,         27,    02-9453,2,19920626,       0508,   -32.5117,  -167.4928,       5249,   817.0,   6.1529,  34.3504,2,  34.3484,2,    233.8,2,   233.4,2,   11.51,2,   25.07,2,    0.00,2,    1.70,2,-999.000,5,-999.000,5,  -999.0,9,  -999.0,9,-999.000,9,-999.0000,9, -999.00,9, -999.00,9,  -999.0,9,  -999.0,-999.000,9,-999.000,     -999.0,-999.0000,-999.000,     6.0790,-999.000
  316N138_4,       P06C,     152,          1,         26,    02-9544,2,19920626,       0508,   -32.5117,  -167.4928,       5249,   920.4,   5.5834,  34.3333,2,  34.3313,2,    222.8,2,   217.2,2,   16.97,2,   27.31,2,    0.00,2,    1.84,2,-999.000,5,-999.000,5,  -999.0,9,  -999.0,9,-999.000,9,-999.0000,9, -999.00,9, -999.00,9,  -999.0,9,  -999.0,-999.000,9,-999.000,     -999.0,-999.0000,-999.000,     5.5034,-999.000
  316N138_4,       P06C,     152,          1,         25,    02-9455,2,19920626,       0508,   -32.5117,  -167.4928,       5249,  1019.0,   5.0782,  34.3400,2,  34.3354,2,    209.7,2,   207.0,2,   24.02,2,   29.35,2,    0.01,2,    1.97,2,-999.000,5,-999.000,5,  -999.0,9,  -999.0,9,-999.000,9,-999.0000,9, -999.00,9, -999.00,9,  -999.0,9,  -999.0,-999.000,9,-999.000,     -999.0,-999.0000,-999.000,     4.9928,-999.000
  316N138_4,       P06C,     152,          1,         24,        132,2,19920626,       0508,   -32.5117,  -167.4928,       5249,  1119.8,   4.4256,  34.3521,2,  34.3499,2,    199.2,2,   195.3,2,   33.54,2,   31.31,2,    0.02,2,    2.12,2,-999.000,5,-999.000,5,  -999.0,9,  -999.0,9,-999.000,9,-999.0000,9, -999.00,9, -999.00,9,  -999.0,9,  -999.0,-999.000,9,-999.000,     -999.0,-999.0000,-999.000,     4.3366,-999.000
  316N138_4,       P06C,     152,          1,         23,        123,2,19920626,       0508,   -32.5117,  -167.4928,       5249,  1221.8,   3.8729,  34.3805,2,  34.3770,2,    190.1,2,   186.7,2,   43.06,2,   32.65,2,    0.00,2,    2.21,2,-999.000,5,-999.000,5,  -999.0,9,  -999.0,9,-999.000,9,-999.0000,9, -999.00,9, -999.00,9,  -999.0,9,  -999.0,-999.000,9,-999.000,     -999.0,-999.0000,-999.000,     3.7799,-999.000
  316N138_4,       P06C,     152,          1,         22,        128,2,19920626,       0508,   -32.5117,  -167.4928,       5249,  1323.9,   3.3978,  34.4247,2,  34.4218,2,    180.6,2,   179.0,2,   54.35,2,   33.81,2,    0.01,2,    2.31,2,-999.000,5,-999.000,5,  -999.0,9,  -999.0,9,-999.000,9,-999.0000,9, -999.00,9, -999.00,9,  -999.0,9,  -999.0,-999.000,9,-999.000,     -999.0,-999.0000,-999.000,     3.3007,-999.000
  316N138_4,       P06C,     152,          1,         21,        121,2,19920626,       0508,   -32.5117,  -167.4928,       5249,  1524.1,   2.8804,  34.5228,2,  34.5237,2,    165.2,2,   165.2,2,   76.21,2,   34.72,2,    0.01,2,    2.41,2,-999.000,5,-999.000,5,  -999.0,9,  -999.0,9,-999.000,9,-999.0000,9, -999.00,9, -999.00,9,  -999.0,9,  -999.0,-999.000,9,-999.000,     -999.0,-999.0000,-999.000,     2.7720,-999.000
  316N138_4,       P06C,     152,          1,         20,        120,2,19920626,       0508,   -32.5117,  -167.4928,       5249,  1721.2,   2.6304,  34.5754,2,  34.5751,2,    157.7,2,   158.8,2,   90.66,2,   35.16,2,    0.02,2,    2.44,2,-999.000,5,-999.000,5,  -999.0,9,  -999.0,9,-999.000,9,-999.0000,9, -999.00,9, -999.00,9,  -999.0,9,  -999.0,-999.000,9,-999.000,     -999.0,-999.0000,-999.000,     2.5086,-999.000
  316N138_4,       P06C,     152,          1,         19,        133,2,19920626,       0508,   -32.5117,  -167.4928,       5249,  1916.7,   2.3931,  34.6138,2,  34.6136,2,    152.4,2,   151.5,2,  104.42,2,   35.59,2,    0.01,2,    2.49,2,-999.000,5,-999.000,5,  -999.0,9,  -999.0,9,-999.000,9,-999.0000,9, -999.00,9, -999.00,9,  -999.0,9,  -999.0,-999.000,9,-999.000,     -999.0,-999.0000,-999.000,     2.2580,-999.000
  316N138_4,       P06C,     152,          1,         18,        118,2,19920626,       0508,   -32.5117,  -167.4928,       5249,  2111.1,   2.2505,  34.6292,2,  34.6305,2,    149.9,2,   149.9,2,  111.82,2,   35.87,2,    0.01,2,    2.53,2,-999.000,5,-999.000,5,  -999.0,9,  -999.0,9,-999.000,9,-999.0000,9, -999.00,9, -999.00,9,  -999.0,9,  -999.0,-999.000,9,-999.000,     -999.0,-999.0000,-999.000,     2.1006,-999.000
  316N138_4,       P06C,     152,          1,         17,        117,2,19920626,       0508,   -32.5117,  -167.4928,       5249,  2308.1,   2.1317,  34.6414,2,  34.6409,2,    147.9,2,   148.1,2,  117.82,2,   36.12,2,    0.01,2,    2.54,2,-999.000,5,-999.000,5,  -999.0,9,  -999.0,9,-999.000,9,-999.0000,9, -999.00,9, -999.00,9,  -999.0,9,  -999.0,-999.000,9,-999.000,     -999.0,-999.0000,-999.000,     1.9664,-999.000
  316N138_4,       P06C,     152,          1,         16,        116,2,19920626,       0508,   -32.5117,  -167.4928,       5249,  2513.8,   2.0208,  34.6502,2,  34.6496,2,    147.3,2,   146.4,2,  122.94,2,   36.27,2,    0.01,2,    2.56,2,-999.000,5,-999.000,5,  -999.0,9,  -999.0,9,-999.000,9,-999.0000,9, -999.00,9, -999.00,9,  -999.0,9,  -999.0,-999.000,9,-999.000,     -999.0,-999.0000,-999.000,     1.8389,-999.000
  316N138_4,       P06C,     152,          1,         15,        115,2,19920626,       0508,   -32.5117,  -167.4928,       5249,  2718.7,   1.9418,  34.6578,2,  34.6574,2,    148.0,2,   147.0,2,  126.10,2,   36.19,2,    0.00,2,    2.56,2,-999.000,5,-999.000,5,  -999.0,9,  -999.0,9,-999.000,9,-999.0000,9, -999.00,9, -999.00,9,  -999.0,9,  -999.0,-999.000,9,-999.000,     -999.0,-999.0000,-999.000,     1.7424,-999.000
  316N138_4,       P06C,     152,          1,         14,        114,2,19920626,       0508,   -32.5117,  -167.4928,       5249,  2926.4,   1.8480,  34.6664,2,  34.6663,2,    150.4,2,   149.7,2,  128.04,2,   36.01,2,    0.01,2,    2.56,2,-999.000,5,-999.000,5,  -999.0,9,  -999.0,9,-999.000,9,-999.0000,9, -999.00,9, -999.00,9,  -999.0,9,  -999.0,-999.000,9,-999.000,     -999.0,-999.0000,-999.000,     1.6307,-999.000
  316N138_4,       P06C,     152,          1,         13,        125,2,19920626,       0508,   -32.5117,  -167.4928,       5249,  3131.4,   1.7644,  34.6778,2,  34.6897,4,    155.5,2,   155.4,2,  127.15,2,   35.47,2,    0.00,2,    2.52,2,-999.000,5,-999.000,5,  -999.0,9,  -999.0,9,-999.000,9,-999.0000,9, -999.00,9, -999.00,9,  -999.0,9,  -999.0,-999.000,9,-999.000,     -999.0,-999.0000,-999.000,     1.5289,-999.000
  316N138_4,       P06C,     152,          1,         12,        112,2,19920626,       0508,   -32.5117,  -167.4928,       5249,  3327.7,   1.6868,  34.6905,2,  34.6846,3,    165.4,2,   166.9,2,  122.21,2,   34.45,2,    0.00,2,    2.42,2,-999.000,5,-999.000,5,  -999.0,9,  -999.0,9,-999.000,9,-999.0000,9, -999.00,9, -999.00,9,  -999.0,9,  -999.0,-999.000,9,-999.000,     -999.0,-999.0000,-999.000,     1.4336,-999.000
  316N138_4,       P06C,     152,          1,         11,        129,2,19920626,       0508,   -32.5117,  -167.4928,       5249,  3527.4,   1.5969,  34.7052,2,  34.7162,4,    178.6,2,   180.9,2,  115.30,2,   33.27,2,    0.00,2,    2.34,2,-999.000,5,-999.000,5,  -999.0,9,  -999.0,9,-999.000,9,-999.0000,9, -999.00,9, -999.00,9,  -999.0,9,  -999.0,-999.000,9,-999.000,     -999.0,-999.0000,-999.000,     1.3254,-999.000
  316N138_4,       P06C,     152,          1,         10,        110,2,19920626,       0508,   -32.5117,  -167.4928,       5249,  3778.1,   1.4763,  34.7150,2,  34.7150,2,    191.8,2,   190.1,2,  111.26,2,   32.35,2,    0.00,2,    2.26,2,-999.000,5,-999.000,5,  -999.0,9,  -999.0,9,-999.000,9,-999.0000,9, -999.00,9, -999.00,9,  -999.0,9,  -999.0,-999.000,9,-999.000,     -999.0,-999.0000,-999.000,     1.1817,-999.000
  316N138_4,       P06C,     152,          1,          9,        126,2,19920626,       0508,   -32.5117,  -167.4928,       5249,  4031.1,   1.2899,  34.7187,2,  34.7184,2,    201.0,2,   200.3,2,  111.79,2,   31.96,2,    0.00,2,    2.23,2,-999.000,5,-999.000,5,  -999.0,9,  -999.0,9,-999.000,9,-999.0000,9, -999.00,9, -999.00,9,  -999.0,9,  -999.0,-999.000,9,-999.000,     -999.0,-999.0000,-999.000,     0.9734,-999.000
  316N138_4,       P06C,     152,          1,          8,        108,2,19920626,       0508,   -32.5117,  -167.4928,       5249,  4234.1,   1.1582,  34.7153,2,  34.7140,2,    204.6,2,   203.7,2,  114.78,2,   32.00,2,    0.00,2,    2.25,2,-999.000,5,-999.000,5,  -999.0,9,  -999.0,9,-999.000,9,-999.0000,9, -999.00,9, -999.00,9,  -999.0,9,  -999.0,-999.000,9,-999.000,     -999.0,-999.0000,-999.000,     0.8234,-999.000
  316N138_4,       P06C,     152,          1,          7,        107,2,19920626,       0508,   -32.5117,  -167.4928,       5249,  4443.9,   1.0774,  34.7116,2,  34.7119,2,    206.2,2,   205.4,2,  117.43,2,   32.15,2,    0.01,2,    2.24,2,-999.000,5,-999.000,5,  -999.0,9,  -999.0,9,-999.000,9,-999.0000,9, -999.00,9, -999.00,9,  -999.0,9,  -999.0,-999.000,9,-999.000,     -999.0,-999.0000,-999.000,     0.7217,-999.000
  316N138_4,       P06C,     152,          1,          6,        180,2,19920626,       0508,   -32.5117,  -167.4928,       5249,  4705.0,   1.0344,  34.7096,2,  34.7191,4,    207.0,2,   207.9,2,  119.19,2,   32.22,2,    0.02,2,    2.26,2,   0.007,2,   0.002,2,  -999.0,9,  -999.0,9,-999.000,9,-999.0000,9, -999.00,9, -999.00,9,  -999.0,9,  -999.0,-999.000,9,-999.000,     -999.0,-999.0000,-999.000,     0.6503,-999.000
  316N138_4,       P06C,     152,          1,          5,        131,2,19920626,       0508,   -32.5117,  -167.4928,       5249,  4954.0,   1.0278,  34.7081,2,  34.7081,2,    207.5,2,   207.0,2,  120.07,2,   32.29,2,    0.02,2,    2.26,2,   0.005,2,  -0.001,2,  -999.0,9,  -999.0,9,-999.000,9,-999.0000,9, -999.00,9, -999.00,9,  -999.0,9,  -999.0,-999.000,9,-999.000,     -999.0,-999.0000,-999.000,     0.6149,-999.000
  316N138_4,       P06C,     152,          1,          4,        104,2,19920626,       0508,   -32.5117,  -167.4928,       5249,  5159.1,   1.0372,  34.7074,2,  34.7070,2,    207.6,2,   208.2,2,  120.60,2,   32.33,2,    0.02,2,    2.25,2,   0.009,2,   0.003,2,  -999.0,9,  -999.0,9,-999.000,9,-999.0000,9, -999.00,9, -999.00,9,  -999.0,9,  -999.0,-999.000,9,-999.000,     -999.0,-999.0000,-999.000,     0.5994,-999.000
  316N138_4,       P06C,     152,          1,          3,        130,2,19920626,       0508,   -32.5117,  -167.4928,       5249,  5363.0,   1.0578,  34.7076,2,  34.7072,2,    208.4,2,   208.6,2,  120.77,2,   32.37,2,    0.01,2,    2.27,2,   0.001,2,  -0.001,2,  -999.0,9,  -999.0,9,-999.000,9,-999.0000,9, -999.00,9, -999.00,9,  -999.0,9,  -999.0,-999.000,9,-999.000,     -999.0,-999.0000,-999.000,     0.5944,-999.000
  316N138_4,       P06C,     152,          1,          2,        135,2,19920626,       0508,   -32.5117,  -167.4928,       5249,  5573.3,   1.0843,  34.7081,2,  34.7072,2,    208.1,2,   206.8,2,  120.77,2,   32.31,2,    0.02,2,    2.26,2,   0.006,2,   0.001,2,  -999.0,9,  -999.0,9,-999.000,9,-999.0000,9, -999.00,9, -999.00,9,  -999.0,9,  -999.0,-999.000,9,-999.000,     -999.0,-999.0000,-999.000,     0.5936,-999.000
  316N138_4,       P06C,     152,          1,          1,        134,2,19920626,       0508,   -32.5117,  -167.4928,       5249,  5814.8,   1.1165,  34.7077,2,  34.7072,2,     -0.2,4,   207.2,2,  120.59,2,   32.34,2,    0.01,2,    2.27,2,   0.006,2,   0.000,2,  -999.0,9,  -999.0,9,-999.000,9,-999.0000,9, -999.00,9, -999.00,9,  -999.0,9,  -999.0,-999.000,9,-999.000,     -999.0,-999.0000,-999.000,     0.5937,-999.000