BOTTLE,20211025CCHSIORKP
EXPOCODE,SECT_ID,STNNBR,CASTNO,SAMPNO,BTLNBR,BTLNBR_FLAG_W,DATE,TIME,LATITUDE,LONGITUDE,DEPTH,CTDPRS,CTDTMP,CTDSAL,CTDSAL_FLAG_W,SALNTY,SALNTY_FLAG_W,CTDOXY,CTDOXY_FLAG_W,OXYGEN,OXYGEN_FLAG_W,SILCAT,SILCAT_FLAG_W,NITRAT,NITRAT_FLAG_W,NITRIT,NITRIT_FLAG_W,PHSPHT,PHSPHT_FLAG_W,CFC-11,CFC-11_FLAG_W,CFC-12,CFC-12_FLAG_W,TCARBN,TCARBN_FLAG_W,PCO2,PCO2_FLAG_W,TRITUM,TRITUM_FLAG_W,HELIUM,HELIUM_FLAG_W,DELHE3,DELHE3_FLAG_W,DELC13,DELC13_FLAG_W,DELC14,DELC14_FLAG_W,C14ERR,NEON,NEON_FLAG_W,NEONER,PCO2TMP,HELIER,DELHER,THETA,TRITER
,,,,,,,,,,,METERS,DBAR,ITS-90,PSS-78,,PSS-78,,UMOL/KG,,UMOL/KG,,UMOL/KG,,UMOL/KG,,UMOL/KG,,UMOL/KG,,PMOL/KG,,PMOL/KG,,UMOL/KG,,UATM,,TU,,NMOL/KG,,PERCNT,,/MILLE,,/MILLE,,/MILLE,NMOL/KG,,NMOL/KG,DEG_C,NMOL/KG,PERCNT,ITS-90,TU
  316N138_4,       P06C,     105,          1,         36,    02-9121,2,19920610,       0907,   -32.4882,  -133.3373,       4238,    22.4,  18.9757,  35.2529,2,  35.2546,2,    238.2,2,   231.6,2,    0.11,2,    0.03,2,    0.00,2,    0.13,2,-999.000,9,-999.000,9,  -999.0,9,  -999.0,9,-999.000,9,-999.0000,9, -999.00,9, -999.00,9,  -999.0,9,  -999.0,-999.000,9,-999.000,     -999.0,-999.0000,-999.000,    18.9717,-999.000
  316N138_4,       P06C,     105,          1,         35,    02-9454,3,19920610,       0907,   -32.4882,  -133.3373,       4238,    49.8,  18.9877,  35.2520,2,  35.2568,2,    233.0,2,   228.2,2,    0.29,2,    0.07,2,    0.00,2,    0.15,2,-999.000,9,-999.000,9,  -999.0,9,  -999.0,9,-999.000,9,-999.0000,9, -999.00,9, -999.00,9,  -999.0,9,  -999.0,-999.000,9,-999.000,     -999.0,-999.0000,-999.000,    18.9788,-999.000
  316N138_4,       P06C,     105,          1,         34,    02-9457,2,19920610,       0907,   -32.4882,  -133.3373,       4238,    77.1,  18.2998,  35.2013,2,  35.1931,2,    238.6,2,   241.9,2,    0.30,2,    0.07,2,    0.00,2,    0.15,2,-999.000,9,-999.000,9,  -999.0,9,  -999.0,9,-999.000,9,-999.0000,9, -999.00,9, -999.00,9,  -999.0,9,  -999.0,-999.000,9,-999.000,     -999.0,-999.0000,-999.000,    18.2864,-999.000
  316N138_4,       P06C,     105,          1,         33,    02-5367,2,19920610,       0907,   -32.4882,  -133.3373,       4238,   104.7,  17.3019,  35.2650,2,  35.2656,2,    231.3,2,   238.5,2,    0.31,2,    0.07,2,    0.00,2,    0.18,2,-999.000,9,-999.000,9,  -999.0,9,  -999.0,9,-999.000,9,-999.0000,9, -999.00,9, -999.00,9,  -999.0,9,  -999.0,-999.000,9,-999.000,     -999.0,-999.0000,-999.000,    17.2845,-999.000
  316N138_4,       P06C,     105,          1,         32,    02-9540,2,19920610,       0907,   -32.4882,  -133.3373,       4238,   153.0,  16.0535,  35.1824,2,  35.1857,2,    221.0,2,   228.7,2,    0.50,2,    0.86,2,    0.08,2,    0.29,2,-999.000,9,-999.000,9,  -999.0,9,  -999.0,9,-999.000,9,-999.0000,9, -999.00,9, -999.00,9,  -999.0,9,  -999.0,-999.000,9,-999.000,     -999.0,-999.0000,-999.000,    16.0293,-999.000
  316N138_4,       P06C,     105,          1,         31,    02-9539,2,19920610,       0907,   -32.4882,  -133.3373,       4238,   203.6,  14.8953,  35.0555,2,-999.0000,9,    220.4,2,  -999.0,9, -999.00,9, -999.00,9, -999.00,9, -999.00,9,-999.000,9,-999.000,9,  -999.0,9,  -999.0,9,-999.000,9,-999.0000,9, -999.00,9, -999.00,9,  -999.0,9,  -999.0,-999.000,9,-999.000,     -999.0,-999.0000,-999.000,    14.8646,-999.000
  316N138_4,       P06C,     105,          1,         30,    02-9456,2,19920610,       0907,   -32.4882,  -133.3373,       4238,   248.2,  13.7862,  34.9546,2,  34.9536,2,    210.5,2,   205.5,2,    1.21,2,    6.32,2,    0.00,2,    0.62,2,-999.000,9,-999.000,9,  -999.0,9,  -999.0,9,-999.000,9,-999.0000,9, -999.00,9, -999.00,9,  -999.0,9,  -999.0,-999.000,9,-999.000,     -999.0,-999.0000,-999.000,    13.7507,-999.000
  316N138_4,       P06C,     105,          1,         29,    02-9458,2,19920610,       0907,   -32.4882,  -133.3373,       4238,   294.8,  11.9100,  34.7734,2,  34.7732,2,    204.7,2,   202.3,2,    2.27,2,   11.54,2,    0.00,2,    0.93,2,-999.000,9,-999.000,9,  -999.0,9,  -999.0,9,-999.000,9,-999.0000,9, -999.00,9, -999.00,9,  -999.0,9,  -999.0,-999.000,9,-999.000,     -999.0,-999.0000,-999.000,    11.8717,-999.000
  316N138_4,       P06C,     105,          1,         28,    02-9545,2,19920610,       0907,   -32.4882,  -133.3373,       4238,   345.0,  10.6175,  34.6635,2,  34.6680,2,    205.7,2,   206.0,2,    2.98,2,   14.29,2,    0.01,2,    1.09,2,-999.000,9,-999.000,9,  -999.0,9,  -999.0,9,-999.000,9,-999.0000,9, -999.00,9, -999.00,9,  -999.0,9,  -999.0,-999.000,9,-999.000,     -999.0,-999.0000,-999.000,    10.5758,-999.000
  316N138_4,       P06C,     105,          1,         27,    02-9453,3,19920610,       0907,   -32.4882,  -133.3373,       4238,   389.3,   9.2054,  34.5569,2,  34.6382,4,    213.3,2,   216.0,3,    3.33,2,   14.71,3,    0.01,2,    1.10,3,-999.000,9,-999.000,9,  -999.0,9,  -999.0,9,-999.000,9,-999.0000,9, -999.00,9, -999.00,9,  -999.0,9,  -999.0,-999.000,9,-999.000,     -999.0,-999.0000,-999.000,     9.1623,-999.000
  316N138_4,       P06C,     105,          1,         26,    02-9544,3,19920610,       0907,   -32.4882,  -133.3373,       4238,   438.4,   7.9958,  34.4501,2,  34.6299,4,    225.3,2,   226.6,3,    3.69,2,   14.99,3,    0.01,2,    1.10,3,-999.000,9,-999.000,9,  -999.0,9,  -999.0,9,-999.000,9,-999.0000,9, -999.00,9, -999.00,9,  -999.0,9,  -999.0,-999.000,9,-999.000,     -999.0,-999.0000,-999.000,     7.9511,-999.000
  316N138_4,       P06C,     105,          1,         25,    02-9455,2,19920610,       0907,   -32.4882,  -133.3373,       4238,   484.5,   7.4550,  34.4216,2,  34.4233,2,    236.1,2,   237.4,2,    5.45,2,   20.56,2,    0.01,2,    1.44,2,-999.000,9,-999.000,9,  -999.0,9,  -999.0,9,-999.000,9,-999.0000,9, -999.00,9, -999.00,9,  -999.0,9,  -999.0,-999.000,9,-999.000,     -999.0,-999.0000,-999.000,     7.4075,-999.000
  316N138_4,       P06C,     105,          1,         24,        132,2,19920610,       0907,   -32.4882,  -133.3373,       4238,   582.2,   6.8108,  34.3795,2,  34.3798,2,    244.4,2,   243.1,2,    7.38,2,   22.17,2,    0.01,2,    1.54,2,-999.000,9,-999.000,9,  -999.0,9,  -999.0,9,-999.000,9,-999.0000,9, -999.00,9, -999.00,9,  -999.0,9,  -999.0,-999.000,9,-999.000,     -999.0,-999.0000,-999.000,     6.7561,-999.000
  316N138_4,       P06C,     105,          1,         23,        123,2,19920610,       0907,   -32.4882,  -133.3373,       4238,   683.8,   6.3174,  34.3383,2,  34.3437,2,    241.5,2,   241.7,2,    8.80,2,   23.64,2,    0.01,2,    1.64,2,-999.000,9,-999.000,9,  -999.0,9,  -999.0,9,-999.000,9,-999.0000,9, -999.00,9, -999.00,9,  -999.0,9,  -999.0,-999.000,9,-999.000,     -999.0,-999.0000,-999.000,     6.2553,-999.000
  316N138_4,       P06C,     105,          1,         22,        128,3,19920610,       0907,   -32.4882,  -133.3373,       4238,   779.3,   5.7827,  34.3114,2,  34.7520,4,    235.9,2,   232.2,3,    4.96,4,   12.29,4,    0.02,4,    0.94,4,-999.000,9,-999.000,9,  -999.0,9,  -999.0,9,-999.000,9,-999.0000,9, -999.00,9, -999.00,9,  -999.0,9,  -999.0,-999.000,9,-999.000,     -999.0,-999.0000,-999.000,     5.7146,-999.000
  316N138_4,       P06C,     105,          1,         21,        121,3,19920610,       0907,   -32.4882,  -133.3373,       4238,   878.7,   5.2699,  34.2959,2,  34.8920,4,    224.3,2,   228.0,3,    3.57,4,    8.34,4,    0.02,4,    0.69,4,-999.000,9,-999.000,9,  -999.0,9,  -999.0,9,-999.000,9,-999.0000,9, -999.00,9, -999.00,9,  -999.0,9,  -999.0,-999.000,9,-999.000,     -999.0,-999.0000,-999.000,     5.1960,-999.000
  316N138_4,       P06C,     105,          1,         20,        120,2,19920610,       0907,   -32.4882,  -133.3373,       4238,   975.7,   4.6987,  34.3073,2,  34.3050,2,    210.3,2,   209.0,2,   25.28,2,   30.18,2,    0.01,2,    2.07,2,-999.000,9,-999.000,9,  -999.0,9,  -999.0,9,-999.000,9,-999.0000,9, -999.00,9, -999.00,9,  -999.0,9,  -999.0,-999.000,9,-999.000,     -999.0,-999.0000,-999.000,     4.6201,-999.000
  316N138_4,       P06C,     105,          1,         19,        133,2,19920610,       0907,   -32.4882,  -133.3373,       4238,  1073.3,   4.2674,  34.3290,2,  34.3264,2,    197.7,2,   195.3,2,   33.52,2,   31.94,2,    0.01,2,    2.18,2,-999.000,9,-999.000,9,  -999.0,9,  -999.0,9,-999.000,9,-999.0000,9, -999.00,9, -999.00,9,  -999.0,9,  -999.0,-999.000,9,-999.000,     -999.0,-999.0000,-999.000,     4.1837,-999.000
  316N138_4,       P06C,     105,          1,         18,        118,2,19920610,       0907,   -32.4882,  -133.3373,       4238,  1161.7,   3.7935,  34.3694,2,  34.3658,2,    184.2,2,   181.6,2,   44.38,2,   33.62,2,    0.01,2,    2.31,2,-999.000,9,-999.000,9,  -999.0,9,  -999.0,9,-999.000,9,-999.0000,9, -999.00,9, -999.00,9,  -999.0,9,  -999.0,-999.000,9,-999.000,     -999.0,-999.0000,-999.000,     3.7062,-999.000
  316N138_4,       P06C,     105,          1,         17,        117,2,19920610,       0907,   -32.4882,  -133.3373,       4238,  1251.1,   3.4223,  34.4172,2,  34.4194,2,    175.7,2,   173.8,2,   54.54,2,   34.49,2,    0.01,2,    2.40,2,-999.000,9,-999.000,9,  -999.0,9,  -999.0,9,-999.000,9,-999.0000,9, -999.00,9, -999.00,9,  -999.0,9,  -999.0,-999.000,9,-999.000,     -999.0,-999.0000,-999.000,     3.3310,-999.000
  316N138_4,       P06C,     105,          1,         16,        116,2,19920610,       0907,   -32.4882,  -133.3373,       4238,  1389.3,   2.9924,  34.4813,2,  34.4803,2,    168.3,2,   166.9,2,   68.72,2,   34.99,2,    0.00,2,    2.44,2,-999.000,9,-999.000,9,  -999.0,9,  -999.0,9,-999.000,9,-999.0000,9, -999.00,9, -999.00,9,  -999.0,9,  -999.0,-999.000,9,-999.000,     -999.0,-999.0000,-999.000,     2.8940,-999.000
  316N138_4,       P06C,     105,          1,         15,        115,2,19920610,       0907,   -32.4882,  -133.3373,       4238,  1528.1,   2.7026,  34.5343,2,  34.5335,2,    164.0,2,   163.0,2,   80.46,2,   35.13,2,    0.00,2,    2.46,2,-999.000,9,-999.000,9,  -999.0,9,  -999.0,9,-999.000,9,-999.0000,9, -999.00,9, -999.00,9,  -999.0,9,  -999.0,-999.000,9,-999.000,     -999.0,-999.0000,-999.000,     2.5960,-999.000
  316N138_4,       P06C,     105,          1,         14,        114,2,19920610,       0907,   -32.4882,  -133.3373,       4238,  1716.2,   2.4104,  34.5900,2,  34.5887,2,    158.1,2,   158.2,2,   94.65,2,   35.28,2,    0.01,2,    2.48,2,-999.000,9,-999.000,9,  -999.0,9,  -999.0,9,-999.000,9,-999.0000,9, -999.00,9, -999.00,9,  -999.0,9,  -999.0,-999.000,9,-999.000,     -999.0,-999.0000,-999.000,     2.2918,-999.000
  316N138_4,       P06C,     105,          1,         13,        125,2,19920610,       0907,   -32.4882,  -133.3373,       4238,  1906.3,   2.2168,  34.6201,2,  34.6211,2,    155.1,2,   154.4,2,  105.34,2,   35.44,2,    0.00,2,    2.50,2,-999.000,9,-999.000,9,  -999.0,9,  -999.0,9,-999.000,9,-999.0000,9, -999.00,9, -999.00,9,  -999.0,9,  -999.0,-999.000,9,-999.000,     -999.0,-999.0000,-999.000,     2.0850,-999.000
  316N138_4,       P06C,     105,          1,         12,        112,2,19920610,       0907,   -32.4882,  -133.3373,       4238,  2100.4,   2.0529,  34.6390,2,  34.6386,2,    154.4,2,   154.0,2,  113.05,2,   35.54,2,    0.00,2,    2.52,2,-999.000,9,-999.000,9,  -999.0,9,  -999.0,9,-999.000,9,-999.0000,9, -999.00,9, -999.00,9,  -999.0,9,  -999.0,-999.000,9,-999.000,     -999.0,-999.0000,-999.000,     1.9071,-999.000
  316N138_4,       P06C,     105,          1,         11,        129,2,19920610,       0907,   -32.4882,  -133.3373,       4238,  2299.3,   1.9264,  34.6519,2,  34.6504,2,    154.9,2,   155.1,2,  118.15,2,   35.55,2,    0.00,2,    2.51,2,-999.000,9,-999.000,9,  -999.0,9,  -999.0,9,-999.000,9,-999.0000,9, -999.00,9, -999.00,9,  -999.0,9,  -999.0,-999.000,9,-999.000,     -999.0,-999.0000,-999.000,     1.7654,-999.000
  316N138_4,       P06C,     105,          1,         10,        110,2,19920610,       0907,   -32.4882,  -133.3373,       4238,  2489.2,   1.8382,  34.6593,2,  34.6610,2,    156.9,2,   157.1,2,  120.79,2,   35.46,2,    0.00,2,    2.51,2,-999.000,9,-999.000,9,  -999.0,9,  -999.0,9,-999.000,9,-999.0000,9, -999.00,9, -999.00,9,  -999.0,9,  -999.0,-999.000,9,-999.000,     -999.0,-999.0000,-999.000,     1.6618,-999.000
  316N138_4,       P06C,     105,          1,          9,        126,2,19920610,       0907,   -32.4882,  -133.3373,       4238,  2688.9,   1.7600,  34.6661,2,  34.6649,2,    159.3,2,   159.4,2,  122.73,2,   35.33,2,    0.00,2,    2.50,2,-999.000,9,-999.000,9,  -999.0,9,  -999.0,9,-999.000,9,-999.0000,9, -999.00,9, -999.00,9,  -999.0,9,  -999.0,-999.000,9,-999.000,     -999.0,-999.0000,-999.000,     1.5669,-999.000
  316N138_4,       P06C,     105,          1,          8,        108,2,19920610,       0907,   -32.4882,  -133.3373,       4238,  2874.0,   1.7140,  34.6707,2,  34.6708,2,    162.3,2,   162.0,2,  123.09,2,   35.19,2,    0.00,2,    2.49,2,-999.000,9,-999.000,9,  -999.0,9,  -999.0,9,-999.000,9,-999.0000,9, -999.00,9, -999.00,9,  -999.0,9,  -999.0,-999.000,9,-999.000,     -999.0,-999.0000,-999.000,     1.5045,-999.000
  316N138_4,       P06C,     105,          1,          7,        107,2,19920610,       0907,   -32.4882,  -133.3373,       4238,  3064.5,   1.6735,  34.6747,2,  34.6765,2,    164.4,2,   164.2,2,  123.46,2,   35.06,2,    0.00,2,    2.48,2,-999.000,9,-999.000,9,  -999.0,9,  -999.0,9,-999.000,9,-999.0000,9, -999.00,9, -999.00,9,  -999.0,9,  -999.0,-999.000,9,-999.000,     -999.0,-999.0000,-999.000,     1.4467,-999.000
  316N138_4,       P06C,     105,          1,          6,        180,2,19920610,       0907,   -32.4882,  -133.3373,       4238,  3264.8,   1.6305,  34.6790,2,  34.7345,4,    167.5,2,   167.0,2,  123.47,2,   34.83,2,    0.00,2,    2.45,2,-999.000,9,-999.000,9,  -999.0,9,  -999.0,9,-999.000,9,-999.0000,9, -999.00,9, -999.00,9,  -999.0,9,  -999.0,-999.000,9,-999.000,     -999.0,-999.0000,-999.000,     1.3850,-999.000
  316N138_4,       P06C,     105,          1,          5,        131,2,19920610,       0907,   -32.4882,  -133.3373,       4238,  3471.1,   1.5890,  34.6836,2,  34.6814,2,    170.6,2,   170.5,2,  122.96,2,   34.60,2,    0.00,2,    2.43,2,-999.000,9,-999.000,9,  -999.0,9,  -999.0,9,-999.000,9,-999.0000,9, -999.00,9, -999.00,9,  -999.0,9,  -999.0,-999.000,9,-999.000,     -999.0,-999.0000,-999.000,     1.3236,-999.000
  316N138_4,       P06C,     105,          1,          3,        130,2,19920610,       0907,   -32.4882,  -133.3373,       4238,  3672.0,   1.5516,  34.6871,2,  34.6871,2,    173.3,2,   172.6,2,  122.64,2,   34.39,2,    0.00,2,    2.41,2,-999.000,9,-999.000,9,  -999.0,9,  -999.0,9,-999.000,9,-999.0000,9, -999.00,9, -999.00,9,  -999.0,9,  -999.0,-999.000,9,-999.000,     -999.0,-999.0000,-999.000,     1.2663,-999.000
  316N138_4,       P06C,     105,          1,          4,        104,2,19920610,       0907,   -32.4882,  -133.3373,       4238,  3672.1,   1.5516,  34.6870,2,  34.6867,2,    173.3,2,   173.8,2,  122.45,2,   34.38,2,    0.00,2,    2.40,2,-999.000,9,-999.000,9,  -999.0,9,  -999.0,9,-999.000,9,-999.0000,9, -999.00,9, -999.00,9,  -999.0,9,  -999.0,-999.000,9,-999.000,     -999.0,-999.0000,-999.000,     1.2663,-999.000
  316N138_4,       P06C,     105,          1,          2,        135,2,19920610,       0907,   -32.4882,  -133.3373,       4238,  3879.0,   1.4831,  34.6931,2,  34.6934,2,    178.5,2,   177.7,2,  121.78,2,   33.98,2,    0.00,2,    2.38,2,-999.000,9,-999.000,9,  -999.0,9,  -999.0,9,-999.000,9,-999.0000,9, -999.00,9, -999.00,9,  -999.0,9,  -999.0,-999.000,9,-999.000,     -999.0,-999.0000,-999.000,     1.1777,-999.000
  316N138_4,       P06C,     105,          1,          1,        134,2,19920610,       0907,   -32.4882,  -133.3373,       4238,  4323.5,   1.3279,  34.7055,2,  34.7076,2,    190.2,2,   189.9,2,  119.03,2,   33.16,2,   -0.01,2,    2.31,2,-999.000,9,-999.000,9,  -999.0,9,  -999.0,9,-999.000,9,-999.0000,9, -999.00,9, -999.00,9,  -999.0,9,  -999.0,-999.000,9,-999.000,     -999.0,-999.0000,-999.000,     0.9782,-999.000