BOTTLE,20211025CCHSIORKP
EXPOCODE,SECT_ID,STNNBR,CASTNO,SAMPNO,BTLNBR,BTLNBR_FLAG_W,DATE,TIME,LATITUDE,LONGITUDE,DEPTH,CTDPRS,CTDTMP,CTDSAL,CTDSAL_FLAG_W,SALNTY,SALNTY_FLAG_W,CTDOXY,CTDOXY_FLAG_W,OXYGEN,OXYGEN_FLAG_W,SILCAT,SILCAT_FLAG_W,NITRAT,NITRAT_FLAG_W,NITRIT,NITRIT_FLAG_W,PHSPHT,PHSPHT_FLAG_W,CFC-11,CFC-11_FLAG_W,CFC-12,CFC-12_FLAG_W,TCARBN,TCARBN_FLAG_W,PCO2,PCO2_FLAG_W,TRITUM,TRITUM_FLAG_W,HELIUM,HELIUM_FLAG_W,DELHE3,DELHE3_FLAG_W,DELC13,DELC13_FLAG_W,DELC14,DELC14_FLAG_W,C14ERR,NEON,NEON_FLAG_W,NEONER,PCO2TMP,HELIER,DELHER,THETA,TRITER
,,,,,,,,,,,METERS,DBAR,ITS-90,PSS-78,,PSS-78,,UMOL/KG,,UMOL/KG,,UMOL/KG,,UMOL/KG,,UMOL/KG,,UMOL/KG,,PMOL/KG,,PMOL/KG,,UMOL/KG,,UATM,,TU,,NMOL/KG,,PERCNT,,/MILLE,,/MILLE,,/MILLE,NMOL/KG,,NMOL/KG,DEG_C,NMOL/KG,PERCNT,ITS-90,TU
  316N138_4,       P06C,     144,          1,         36,    02-9121,2,19920624,       0005,   -32.5055,  -162.4887,       5094,    22.0,  17.7115,  35.4499,2,-999.0000,9,    242.3,2,  -999.0,9, -999.00,9, -999.00,9, -999.00,9, -999.00,9,-999.000,5,-999.000,5,  -999.0,9,  -999.0,9,-999.000,9,-999.0000,9, -999.00,9, -999.00,9,  -999.0,9,  -999.0,-999.000,9,-999.000,     -999.0,-999.0000,-999.000,    17.7077,-999.000
  316N138_4,       P06C,     144,          1,         35,    02-9454,2,19920624,       0005,   -32.5055,  -162.4887,       5094,    60.6,  17.7199,  35.4493,2,-999.0000,9,    236.6,2,   232.5,2,    0.40,2,    0.00,2,   -0.02,2,    0.12,2,-999.000,5,-999.000,5,  2033.7,2,  -999.0,9,-999.000,9,-999.0000,9, -999.00,9, -999.00,9,  -999.0,9,  -999.0,-999.000,9,-999.000,     -999.0,-999.0000,-999.000,    17.7096,-999.000
  316N138_4,       P06C,     144,          1,         34,    02-9457,2,19920624,       0005,   -32.5055,  -162.4887,       5094,   110.1,  17.5889,  35.4484,2,  35.4470,2,    225.5,2,   233.4,2,    0.41,2,    0.02,2,   -0.01,2,    0.12,2,-999.000,5,-999.000,5,  2036.2,6,  -999.0,9,-999.000,9,-999.0000,9, -999.00,9, -999.00,9,  -999.0,9,  -999.0,-999.000,9,-999.000,     -999.0,-999.0000,-999.000,    17.5702,-999.000
  316N138_4,       P06C,     144,          1,         33,    02-5367,2,19920624,       0005,   -32.5055,  -162.4887,       5094,   158.9,  14.7343,  35.2152,2,  35.4093,3,    227.5,2,   234.1,2,    0.57,2,    0.20,2,    0.02,2,    0.17,2,-999.000,5,-999.000,5,  2046.4,2,  -999.0,9,-999.000,9,-999.0000,9, -999.00,9, -999.00,9,  -999.0,9,  -999.0,-999.000,9,-999.000,     -999.0,-999.0000,-999.000,    14.7105,-999.000
  316N138_4,       P06C,     144,          1,         32,    02-9540,2,19920624,       0005,   -32.5055,  -162.4887,       5094,   208.5,  14.3414,  35.2548,2,  35.2461,2,    205.0,2,   201.6,2,    1.91,2,    6.98,2,   -0.01,2,    0.61,2,-999.000,5,-999.000,5,  2092.1,2,  -999.0,9,-999.000,9,-999.0000,9, -999.00,9, -999.00,9,  -999.0,9,  -999.0,-999.000,9,-999.000,     -999.0,-999.0000,-999.000,    14.3107,-999.000
  316N138_4,       P06C,     144,          1,         31,    02-9539,2,19920624,       0005,   -32.5055,  -162.4887,       5094,   258.1,  13.1552,  35.1211,2,  35.1193,2,    194.0,2,   196.1,2,    2.67,2,   10.09,2,   -0.01,2,    0.79,2,-999.000,5,-999.000,5,  2106.5,2,  -999.0,9,-999.000,9,-999.0000,9, -999.00,9, -999.00,9,  -999.0,9,  -999.0,-999.000,9,-999.000,     -999.0,-999.0000,-999.000,    13.1194,-999.000
  316N138_4,       P06C,     144,          1,         30,    02-9456,2,19920624,       0005,   -32.5055,  -162.4887,       5094,   304.9,  11.8779,  34.9560,2,  34.9563,2,    195.3,2,   197.4,2,    3.43,2,   12.84,2,   -0.01,2,    0.94,2,-999.000,5,-999.000,5,  2116.0,2,  -999.0,9,-999.000,9,-999.0000,9, -999.00,9, -999.00,9,  -999.0,9,  -999.0,-999.000,9,-999.000,     -999.0,-999.0000,-999.000,    11.8383,-999.000
  316N138_4,       P06C,     144,          1,         29,    02-9458,2,19920624,       0005,   -32.5055,  -162.4887,       5094,   402.8,   9.5591,  34.6693,2,  34.6779,2,    210.0,2,   208.1,2,    4.63,2,   17.06,2,    0.00,2,    1.19,2,-999.000,5,-999.000,5,  2127.7,2,  -999.0,9,-999.000,9,-999.0000,9, -999.00,9, -999.00,9,  -999.0,9,  -999.0,-999.000,9,-999.000,     -999.0,-999.0000,-999.000,     9.5133,-999.000
  316N138_4,       P06C,     144,          1,         28,    02-9545,2,19920624,       0005,   -32.5055,  -162.4887,       5094,   495.0,   8.0206,  34.5068,2,  34.5048,2,    227.5,2,   226.0,2,    5.68,2,   20.14,2,    0.00,2,    1.37,2,-999.000,5,-999.000,5,  2132.3,2,  -999.0,9,-999.000,9,-999.0000,9, -999.00,9, -999.00,9,  -999.0,9,  -999.0,-999.000,9,-999.000,     -999.0,-999.0000,-999.000,     7.9698,-999.000
  316N138_4,       P06C,     144,          1,         27,    02-9453,2,19920624,       0005,   -32.5055,  -162.4887,       5094,   594.2,   7.2080,  34.4313,2,  34.4310,2,    237.9,2,   229.8,4,    7.03,2,   21.97,2,    0.00,2,    1.47,2,-999.000,5,-999.000,5,  -999.0,9,  -999.0,9,-999.000,9,-999.0000,9, -999.00,9, -999.00,9,  -999.0,9,  -999.0,-999.000,9,-999.000,     -999.0,-999.0000,-999.000,     7.1503,-999.000
  316N138_4,       P06C,     144,          1,         26,    02-9544,2,19920624,       0005,   -32.5055,  -162.4887,       5094,   692.1,   6.6909,  34.3867,2,  34.3845,2,    233.5,2,   230.9,2,    8.68,2,   23.38,2,    0.00,2,    1.56,2,-999.000,5,-999.000,5,  2138.4,2,  -999.0,9,-999.000,9,-999.0000,9, -999.00,9, -999.00,9,  -999.0,9,  -999.0,-999.000,9,-999.000,     -999.0,-999.0000,-999.000,     6.6260,-999.000
  316N138_4,       P06C,     144,          1,         25,    02-9455,2,19920624,       0005,   -32.5055,  -162.4887,       5094,   785.2,   6.2575,  34.3558,2,  34.3547,2,    229.9,2,   228.1,2,   10.49,2,   24.84,2,    0.00,2,    1.64,2,-999.000,5,-999.000,5,  2143.0,6,  -999.0,9,-999.000,9,-999.0000,9, -999.00,9, -999.00,9,  -999.0,9,  -999.0,-999.000,9,-999.000,     -999.0,-999.0000,-999.000,     6.1860,-999.000
  316N138_4,       P06C,     144,          1,         23,        123,2,19920624,       0005,   -32.5055,  -162.4887,       5094,   979.6,   5.1468,  34.3324,2,  34.3290,2,    210.3,2,   207.9,2,   22.30,2,   29.12,2,    0.00,2,    1.92,2,-999.000,5,-999.000,5,  2172.2,2,  -999.0,9,-999.000,9,-999.0000,9, -999.00,9, -999.00,9,  -999.0,9,  -999.0,-999.000,9,-999.000,     -999.0,-999.0000,-999.000,     5.0645,-999.000
  316N138_4,       P06C,     144,          1,         22,        128,2,19920624,       0005,   -32.5055,  -162.4887,       5094,  1079.7,   4.5471,  34.3399,2,  34.3372,2,    201.4,2,   199.4,2,   30.53,2,   30.99,2,    0.00,2,    2.07,2,-999.000,5,-999.000,5,  2189.2,2,  -999.0,9,-999.000,9,-999.0000,9, -999.00,9, -999.00,9,  -999.0,9,  -999.0,-999.000,9,-999.000,     -999.0,-999.0000,-999.000,     4.4605,-999.000
  316N138_4,       P06C,     144,          1,         21,        121,2,19920624,       0005,   -32.5055,  -162.4887,       5094,  1178.5,   3.9402,  34.3680,2,  34.3662,2,    192.2,2,   190.2,2,   40.84,2,   32.60,2,    0.01,2,    2.21,2,-999.000,5,-999.000,5,  2207.0,2,  -999.0,9,-999.000,9,-999.0000,9, -999.00,9, -999.00,9,  -999.0,9,  -999.0,-999.000,9,-999.000,     -999.0,-999.0000,-999.000,     3.8503,-999.000
  316N138_4,       P06C,     144,          1,         20,        120,2,19920624,       0005,   -32.5055,  -162.4887,       5094,  1381.2,   3.1843,  34.4571,2,  34.4573,2,    174.3,2,   172.8,2,   61.75,2,   34.34,2,    0.01,2,    2.33,2,-999.000,5,-999.000,5,  2238.2,2,  -999.0,9,-999.000,9,-999.0000,9, -999.00,9, -999.00,9,  -999.0,9,  -999.0,-999.000,9,-999.000,     -999.0,-999.0000,-999.000,     3.0847,-999.000
  316N138_4,       P06C,     144,          1,         19,        133,2,19920624,       0005,   -32.5055,  -162.4887,       5094,  1581.2,   2.7655,  34.5421,2,  34.5445,2,    162.2,2,   161.0,2,   81.17,2,   34.93,2,    0.01,2,    2.42,2,-999.000,5,-999.000,5,  2262.8,2,  -999.0,9,-999.000,9,-999.0000,9, -999.00,9, -999.00,9,  -999.0,9,  -999.0,-999.000,9,-999.000,     -999.0,-999.0000,-999.000,     2.6538,-999.000
  316N138_4,       P06C,     144,          1,         18,        118,2,19920624,       0005,   -32.5055,  -162.4887,       5094,  1780.7,   2.5088,  34.5934,2,  34.5967,2,    154.9,2,   154.5,2,   96.70,2,   35.26,2,    0.01,2,    2.46,2,-999.000,5,-999.000,5,  2283.1,6,  -999.0,9,-999.000,9,-999.0000,9, -999.00,9, -999.00,9,  -999.0,9,  -999.0,-999.000,9,-999.000,     -999.0,-999.0000,-999.000,     2.3836,-999.000
  316N138_4,       P06C,     144,          1,         17,        117,2,19920624,       0005,   -32.5055,  -162.4887,       5094,  1985.0,   2.3142,  34.6212,2,  34.6197,2,    150.4,2,   149.5,2,  107.90,2,   35.56,2,    0.00,2,    2.49,2,-999.000,5,-999.000,5,  2294.1,2,  -999.0,9,-999.000,9,-999.0000,9, -999.00,9, -999.00,9,  -999.0,9,  -999.0,-999.000,9,-999.000,     -999.0,-999.0000,-999.000,     2.1744,-999.000
  316N138_4,       P06C,     144,          1,         16,        116,2,19920624,       0005,   -32.5055,  -162.4887,       5094,  2188.0,   2.1679,  34.6374,2,  34.6358,2,    147.8,2,   148.5,2,  115.96,2,   35.85,2,    0.00,2,    2.53,2,-999.000,5,-999.000,5,  2302.6,2,  -999.0,9,-999.000,9,-999.0000,9, -999.00,9, -999.00,9,  -999.0,9,  -999.0,-999.000,9,-999.000,     -999.0,-999.0000,-999.000,     2.0126,-999.000
  316N138_4,       P06C,     144,          1,         15,        115,2,19920624,       0005,   -32.5055,  -162.4887,       5094,  2393.0,   2.0488,  34.6471,2,  34.6462,2,    146.5,2,   146.3,2,  121.79,2,   36.03,2,   -0.01,2,    2.55,2,-999.000,5,-999.000,5,  2309.3,2,  -999.0,9,-999.000,9,-999.0000,9, -999.00,9, -999.00,9,  -999.0,9,  -999.0,-999.000,9,-999.000,     -999.0,-999.0000,-999.000,     1.8773,-999.000
  316N138_4,       P06C,     144,          1,         14,        114,2,19920624,       0005,   -32.5055,  -162.4887,       5094,  2594.9,   1.9673,  34.6532,2,  34.6555,2,    146.3,2,   145.8,2,  125.38,2,   36.16,2,   -0.02,2,    2.55,2,-999.000,5,-999.000,5,  2312.2,2,  -999.0,9,-999.000,9,-999.0000,9, -999.00,9, -999.00,9,  -999.0,9,  -999.0,-999.000,9,-999.000,     -999.0,-999.0000,-999.000,     1.7789,-999.000
  316N138_4,       P06C,     144,          1,         13,        125,2,19920624,       0005,   -32.5055,  -162.4887,       5094,  2799.7,   1.8749,  34.6628,2,  34.6614,2,    148.0,2,   147.9,2,  128.07,2,   36.08,2,   -0.01,2,    2.55,2,-999.000,5,-999.000,5,  2313.5,2,  -999.0,9,-999.000,9,-999.0000,9, -999.00,9, -999.00,9,  -999.0,9,  -999.0,-999.000,9,-999.000,     -999.0,-999.0000,-999.000,     1.6692,-999.000
  316N138_4,       P06C,     144,          1,         12,        112,2,19920624,       0005,   -32.5055,  -162.4887,       5094,  3006.2,   1.8033,  34.6699,2,  34.6696,2,    149.5,2,   150.5,2,  129.42,2,   35.91,2,   -0.01,2,    2.53,2,-999.000,5,-999.000,5,  2313.1,2,  -999.0,9,-999.000,9,-999.0000,9, -999.00,9, -999.00,9,  -999.0,9,  -999.0,-999.000,9,-999.000,     -999.0,-999.0000,-999.000,     1.5792,-999.000
  316N138_4,       P06C,     144,          1,         11,        129,2,19920624,       0005,   -32.5055,  -162.4887,       5094,  3006.2,   1.8033,  34.6699,2,  34.6694,2,    149.5,2,   149.9,2,  129.71,2,   36.00,2,   -0.01,2,    2.54,2,-999.000,5,-999.000,5,  2313.3,2,  -999.0,9,-999.000,9,-999.0000,9, -999.00,9, -999.00,9,  -999.0,9,  -999.0,-999.000,9,-999.000,     -999.0,-999.0000,-999.000,     1.5792,-999.000
  316N138_4,       P06C,     144,          1,         10,        110,2,19920624,       0005,   -32.5055,  -162.4887,       5094,  3410.7,   1.6608,  34.6954,2,  34.6952,2,    168.1,2,   170.5,2,  120.01,2,   34.20,2,    0.00,2,    2.40,2,-999.000,5,-999.000,5,  2290.7,2,  -999.0,9,-999.000,9,-999.0000,9, -999.00,9, -999.00,9,  -999.0,9,  -999.0,-999.000,9,-999.000,     -999.0,-999.0000,-999.000,     1.3998,-999.000
  316N138_4,       P06C,     144,          1,          9,        126,2,19920624,       0005,   -32.5055,  -162.4887,       5094,  3410.7,   1.6608,  34.6954,2,  34.6948,2,    168.1,2,   170.1,2,  120.17,2,   34.29,2,    0.00,2,    2.39,2,-999.000,5,-999.000,5,  2291.0,2,  -999.0,9,-999.000,9,-999.0000,9, -999.00,9, -999.00,9,  -999.0,9,  -999.0,-999.000,9,-999.000,     -999.0,-999.0000,-999.000,     1.3998,-999.000
  316N138_4,       P06C,     144,          1,          8,        108,2,19920624,       0005,   -32.5055,  -162.4887,       5094,  3817.0,   1.4618,  34.7159,2,  34.7148,2,    191.3,2,   193.4,4,  111.51,2,   32.59,2,   -0.01,2,    2.28,2,-999.000,5,-999.000,5,  2267.3,2,  -999.0,9,-999.000,9,-999.0000,9, -999.00,9, -999.00,9,  -999.0,9,  -999.0,-999.000,9,-999.000,     -999.0,-999.0000,-999.000,     1.1635,-999.000
  316N138_4,       P06C,     144,          1,          7,        107,2,19920624,       0005,   -32.5055,  -162.4887,       5094,  4022.8,   1.3341,  34.7188,2,  34.7180,2,    197.7,2,   199.7,3,  112.11,2,   32.26,2,    0.00,2,    2.25,2,-999.000,5,-999.000,5,  2262.6,2,  -999.0,9,-999.000,9,-999.0000,9, -999.00,9, -999.00,9,  -999.0,9,  -999.0,-999.000,9,-999.000,     -999.0,-999.0000,-999.000,     1.0172,-999.000
  316N138_4,       P06C,     144,          1,          6,        180,2,19920624,       0005,   -32.5055,  -162.4887,       5094,  4022.8,   1.3341,  34.7188,2,  34.7164,2,    197.7,2,   198.5,2,  111.82,2,   32.29,2,    0.00,2,    2.25,2,-999.000,5,-999.000,5,  2262.2,2,  -999.0,9,-999.000,9,-999.0000,9, -999.00,9, -999.00,9,  -999.0,9,  -999.0,-999.000,9,-999.000,     -999.0,-999.0000,-999.000,     1.0172,-999.000
  316N138_4,       P06C,     144,          1,          5,        131,2,19920624,       0005,   -32.5055,  -162.4887,       5094,  4435.0,   1.1153,  34.7137,2,  34.7115,2,    204.7,2,   204.7,2,  116.45,2,   32.33,2,    0.00,2,    2.27,2,-999.000,5,-999.000,5,  2261.4,2,  -999.0,9,-999.000,9,-999.0000,9, -999.00,9, -999.00,9,  -999.0,9,  -999.0,-999.000,9,-999.000,     -999.0,-999.0000,-999.000,     0.7594,-999.000
  316N138_4,       P06C,     144,          1,          4,        104,2,19920624,       0005,   -32.5055,  -162.4887,       5094,  4637.7,   1.0418,  34.7102,2,  34.7087,2,    205.7,2,   207.8,3,  118.99,2,   32.42,2,    0.00,2,    2.28,2,-999.000,5,-999.000,5,  2261.6,2,  -999.0,9,-999.000,9,-999.0000,9, -999.00,9, -999.00,9,  -999.0,9,  -999.0,-999.000,9,-999.000,     -999.0,-999.0000,-999.000,     0.6653,-999.000
  316N138_4,       P06C,     144,          1,          3,        130,2,19920624,       0005,   -32.5055,  -162.4887,       5094,  4842.4,   1.0364,  34.7096,2,  34.7097,2,    206.8,2,   206.0,2,  119.23,2,   32.27,2,    0.00,2,    2.26,2,-999.000,5,-999.000,5,  2262.2,2,  -999.0,9,-999.000,9,-999.0000,9, -999.00,9, -999.00,9,  -999.0,9,  -999.0,-999.000,9,-999.000,     -999.0,-999.0000,-999.000,     0.6363,-999.000
  316N138_4,       P06C,     144,          1,          2,        135,2,19920624,       0005,   -32.5055,  -162.4887,       5094,  5047.7,   1.0431,  34.7091,2,  34.7089,2,    207.1,2,   207.1,2,  119.90,2,   32.28,2,    0.00,2,    2.25,2,-999.000,5,-999.000,5,  2261.6,2,  -999.0,9,-999.000,9,-999.0000,9, -999.00,9, -999.00,9,  -999.0,9,  -999.0,-999.000,9,-999.000,     -999.0,-999.0000,-999.000,     0.6186,-999.000
  316N138_4,       P06C,     144,          1,          1,        134,2,19920624,       0005,   -32.5055,  -162.4887,       5094,  5258.7,   1.0654,  34.7084,2,  34.7103,2,    206.0,2,   206.5,2,  120.60,2,   32.33,2,    0.00,2,    2.27,2,-999.000,5,-999.000,5,  2262.0,6,  -999.0,9,-999.000,9,-999.0000,9, -999.00,9, -999.00,9,  -999.0,9,  -999.0,-999.000,9,-999.000,     -999.0,-999.0000,-999.000,     0.6146,-999.000
  316N138_4,       P06C,     144,          1,         24,        132,2,19920624,       0005,   -32.5055,  -162.4887,       5094,  5258.7,   1.0654,  34.7084,2,  34.7077,2,    206.0,2,   206.6,2,  120.41,2,   32.46,2,    0.01,2,    2.29,3,-999.000,5,-999.000,5,  2263.0,2,  -999.0,9,-999.000,9,-999.0000,9, -999.00,9, -999.00,9,  -999.0,9,  -999.0,-999.000,9,-999.000,     -999.0,-999.0000,-999.000,     0.6146,-999.000