BOTTLE,20211025CCHSIORKP
EXPOCODE,SECT_ID,STNNBR,CASTNO,SAMPNO,BTLNBR,BTLNBR_FLAG_W,DATE,TIME,LATITUDE,LONGITUDE,DEPTH,CTDPRS,CTDTMP,CTDSAL,CTDSAL_FLAG_W,SALNTY,SALNTY_FLAG_W,CTDOXY,CTDOXY_FLAG_W,OXYGEN,OXYGEN_FLAG_W,SILCAT,SILCAT_FLAG_W,NITRAT,NITRAT_FLAG_W,NITRIT,NITRIT_FLAG_W,PHSPHT,PHSPHT_FLAG_W,CFC-11,CFC-11_FLAG_W,CFC-12,CFC-12_FLAG_W,TCARBN,TCARBN_FLAG_W,PCO2,PCO2_FLAG_W,TRITUM,TRITUM_FLAG_W,HELIUM,HELIUM_FLAG_W,DELHE3,DELHE3_FLAG_W,DELC13,DELC13_FLAG_W,DELC14,DELC14_FLAG_W,C14ERR,NEON,NEON_FLAG_W,NEONER,PCO2TMP,HELIER,DELHER,THETA,TRITER
,,,,,,,,,,,METERS,DBAR,ITS-90,PSS-78,,PSS-78,,UMOL/KG,,UMOL/KG,,UMOL/KG,,UMOL/KG,,UMOL/KG,,UMOL/KG,,PMOL/KG,,PMOL/KG,,UMOL/KG,,UATM,,TU,,NMOL/KG,,PERCNT,,/MILLE,,/MILLE,,/MILLE,NMOL/KG,,NMOL/KG,DEG_C,NMOL/KG,PERCNT,ITS-90,TU
  316N138_4,       P06C,     182,          1,         36,    02-9121,2,19920703,       1550,   -32.5138,   179.9162,       2748,    17.7,  16.5142,  35.5940,2,  35.5934,2,    238.1,2,   239.5,2,    1.29,2,    1.10,2,    0.13,2, -999.00,5,-999.000,5,-999.000,5,  -999.0,9,  -999.0,9,   0.685,2,   1.7740,2,   -1.16,2,    1.32,2,    95.9,2,     9.6,-999.000,9,-999.000,     -999.0,-999.0000,   0.150,    16.5114,   0.004
  316N138_4,       P06C,     182,          1,         35,    02-9454,2,19920703,       1550,   -32.5138,   179.9162,       2748,    58.3,  16.5022,  35.5566,2,  35.5827,2,    238.3,2,   236.9,2,    1.29,2,    1.23,2,    0.14,2, -999.00,5,-999.000,5,-999.000,5,  -999.0,9,  -999.0,9,   0.688,2,   1.7850,2,   -1.47,2, -999.00,9,  -999.0,9,  -999.0,-999.000,9,-999.000,     -999.0,-999.0000,   0.150,    16.4928,   0.004
  316N138_4,       P06C,     182,          1,         34,    02-9457,2,19920703,       1550,   -32.5138,   179.9162,       2748,    87.3,  16.3255,  35.5454,2,  35.5577,2,    238.2,2,   238.3,2,    1.29,2,    1.55,2,    0.18,2, -999.00,5,-999.000,5,-999.000,5,  -999.0,9,  -999.0,9,   0.568,2,   1.7840,2,   -1.19,2, -999.00,9,  -999.0,9,  -999.0,-999.000,9,-999.000,     -999.0,-999.0000,   0.150,    16.3115,   0.004
  316N138_4,       P06C,     182,          1,         33,    02-5367,2,19920703,       1550,   -32.5138,   179.9162,       2748,   128.2,  15.5302,  35.4258,2,  35.4200,2,    235.6,2,   237.4,2,    1.47,2,    1.88,2,    0.24,2, -999.00,5,-999.000,5,-999.000,5,  -999.0,9,  -999.0,9,   0.558,2,   1.8070,2,   -1.32,2,    1.38,2,   105.6,2,     3.3,-999.000,9,-999.000,     -999.0,-999.0000,   0.150,    15.5103,   0.004
  316N138_4,       P06C,     182,          1,         32,    02-9540,2,19920703,       1550,   -32.5138,   179.9162,       2748,   168.3,  14.7421,  35.3441,2,  35.3380,2,    221.1,2,   210.8,2,    2.61,2,    6.55,2,    0.02,2, -999.00,5,-999.000,5,-999.000,5,  -999.0,9,  -999.0,9,   0.474,2,   1.7940,2,   -0.70,2, -999.00,9,  -999.0,9,  -999.0,-999.000,9,-999.000,     -999.0,-999.0000,   0.150,    14.7169,   0.004
  316N138_4,       P06C,     182,          1,         31,    02-9539,2,19920703,       1550,   -32.5138,   179.9162,       2748,   207.7,  13.7468,  35.2474,2,  35.2454,2,    208.0,2,   206.9,2,    3.55,2,    9.10,2,    0.01,2, -999.00,5,-999.000,5,-999.000,5,  -999.0,9,  -999.0,9,-999.000,9,-999.0000,9, -999.00,9,    1.04,2,    66.9,6,     4.0,-999.000,9,-999.000,     -999.0,-999.0000,-999.000,    13.7171,-999.000
  316N138_4,       P06C,     182,          1,         30,    02-9456,2,19920703,       1550,   -32.5138,   179.9162,       2748,   257.0,  12.9504,  35.1519,2,  35.1408,2,    206.7,2,   207.7,2,    3.93,2,   10.59,2,    0.01,2, -999.00,5,-999.000,5,-999.000,5,  -999.0,9,  -999.0,9,   0.454,2,   1.8050,2,   -0.29,2, -999.00,9,  -999.0,9,  -999.0,-999.000,9,-999.000,     -999.0,-999.0000,   0.150,    12.9150,   0.004
  316N138_4,       P06C,     182,          1,         29,    02-9458,2,19920703,       1550,   -32.5138,   179.9162,       2748,   306.8,  12.1255,  35.0373,2,  35.0346,2,    200.7,2,   203.5,2,    4.70,2,   12.50,2,    0.01,2, -999.00,5,-999.000,5,-999.000,5,  -999.0,9,  -999.0,9,-999.000,9,-999.0000,9, -999.00,9,    0.99,2,    62.5,2,     3.2,-999.000,9,-999.000,     -999.0,-999.0000,-999.000,    12.0850,-999.000
  316N138_4,       P06C,     182,          1,         28,    02-9545,2,19920703,       1550,   -32.5138,   179.9162,       2748,   356.9,  11.2833,  34.9263,2,  34.9262,2,    197.4,2,   198.2,2,    5.64,2,   14.58,2,    0.01,2, -999.00,5,-999.000,5,-999.000,5,  -999.0,9,  -999.0,9,   0.436,2,   1.8000,2,    0.17,2,    1.06,2,    37.7,2,     3.1,-999.000,9,-999.000,     -999.0,-999.0000,   0.150,    11.2383,   0.005
  316N138_4,       P06C,     182,          1,         27,    02-9453,2,19920703,       1550,   -32.5138,   179.9162,       2748,   406.5,  10.5219,  34.8356,2,  34.8349,2,    199.0,2,   196.0,2,    6.59,2,   16.63,2,    0.00,2, -999.00,5,-999.000,5,-999.000,5,  -999.0,9,  -999.0,9,-999.000,9,-999.0000,9, -999.00,9,    1.05,2,    51.3,2,     3.2,-999.000,9,-999.000,     -999.0,-999.0000,-999.000,    10.4728,-999.000
  316N138_4,       P06C,     182,          1,         26,    02-9544,2,19920703,       1550,   -32.5138,   179.9162,       2748,   456.7,   9.6095,  34.7171,2,  34.7146,2,    201.8,2,   200.5,2,    6.97,2,   18.34,2,    0.01,2, -999.00,5,-999.000,5,-999.000,5,  -999.0,9,  -999.0,9,   0.320,2,   1.8210,2,    0.83,2, -999.00,9,  -999.0,9,  -999.0,-999.000,9,-999.000,     -999.0,-999.0000,   0.150,     9.5573,   0.005
  316N138_4,       P06C,     182,          1,         25,    02-9455,2,19920703,       1550,   -32.5138,   179.9162,       2748,   506.3,   8.8453,  34.6279,2,  34.6236,2,    205.9,2,   207.5,2,    7.73,2,   19.84,2,    0.01,2, -999.00,5,-999.000,5,-999.000,5,  -999.0,9,  -999.0,9,-999.000,9,-999.0000,9, -999.00,9,    1.05,2,    34.7,2,     4.1,-999.000,9,-999.000,     -999.0,-999.0000,-999.000,     8.7901,-999.000
  316N138_4,       P06C,     182,          1,         24,        132,2,19920703,       1550,   -32.5138,   179.9162,       2748,   606.7,   7.4192,  34.4802,2,  34.4720,2,    214.8,2,   218.7,2,    9.83,2,   22.39,2,    0.00,2, -999.00,5,-999.000,5,-999.000,5,  -999.0,9,  -999.0,9,   0.171,2,   1.8270,2,    0.79,2,    1.14,2,    -4.0,2,     3.2,-999.000,9,-999.000,     -999.0,-999.0000,   0.150,     7.3593,   0.004
  316N138_4,       P06C,     182,          1,         23,        123,2,19920703,       1550,   -32.5138,   179.9162,       2748,   707.2,   6.9487,  34.4381,2,  34.4373,2,    216.2,2,   221.2,2,   11.92,2,   23.56,2,    0.00,2, -999.00,5,-999.000,5,-999.000,5,  -999.0,9,  -999.0,9,-999.000,9,-999.0000,9, -999.00,9,    1.04,2,   -30.1,2,     3.4,-999.000,9,-999.000,     -999.0,-999.0000,-999.000,     6.8809,-999.000
  316N138_4,       P06C,     182,          1,         22,        128,2,19920703,       1550,   -32.5138,   179.9162,       2748,   807.5,   6.3972,  34.4078,2,  34.4082,2,    211.9,2,   213.1,2,   15.92,2,   25.45,2,    0.00,2, -999.00,5,-999.000,5,-999.000,5,  -999.0,9,  -999.0,9,   0.099,2,   1.8440,2,    1.83,2,    1.10,2,   -54.3,2,     3.3,-999.000,9,-999.000,     -999.0,-999.0000,   0.150,     6.3226,   0.004
  316N138_4,       P06C,     182,          1,         21,        121,2,19920703,       1550,   -32.5138,   179.9162,       2748,   906.2,   5.8638,  34.3899,2,  34.3892,2,    208.0,2,   207.3,2,   21.06,2,   27.04,2,    0.00,2, -999.00,5,-999.000,5,-999.000,5,  -999.0,9,  -999.0,9,-999.000,9,-999.0000,9, -999.00,9,    0.93,2,   -70.2,2,     3.3,-999.000,9,-999.000,     -999.0,-999.0000,-999.000,     5.7831,-999.000
  316N138_4,       P06C,     182,          1,         20,        120,2,19920703,       1550,   -32.5138,   179.9162,       2748,  1002.3,   5.3670,  34.3915,2,  34.3900,2,    202.0,2,   198.4,2,   28.11,2,   28.62,2,    0.00,2, -999.00,5,-999.000,5,-999.000,5,  -999.0,9,  -999.0,9,-999.000,5,   1.8620,2,    4.88,2,    0.86,2,   -89.9,2,     3.2,-999.000,9,-999.000,     -999.0,-999.0000,   0.150,     5.2808,-999.000
  316N138_4,       P06C,     182,          1,         19,        133,2,19920703,       1550,   -32.5138,   179.9162,       2748,  1100.6,   4.7711,  34.3980,2,  34.3986,2,    190.3,2,   191.3,2,   37.64,2,   30.43,2,    0.00,2, -999.00,5,-999.000,5,-999.000,5,  -999.0,9,  -999.0,9,   0.027,2,   1.8690,2,    7.08,2,    0.70,2,  -111.8,2,     5.5,-999.000,9,-999.000,     -999.0,-999.0000,   0.150,     4.6807,   0.003
  316N138_4,       P06C,     182,          1,         18,        118,3,19920703,       1550,   -32.5138,   179.9162,       2748,  1199.6,   4.2445,  34.4257,2,  34.8389,4,    183.6,2,   198.9,4,   18.96,4,   16.62,4,    0.05,4, -999.00,5,-999.000,5,-999.000,5,  -999.0,9,  -999.0,9,-999.000,9,-999.0000,9, -999.00,9, -999.00,9,  -999.0,9,  -999.0,-999.000,9,-999.000,     -999.0,-999.0000,-999.000,     4.1498,-999.000
  316N138_4,       P06C,     182,          1,         17,        117,2,19920703,       1550,   -32.5138,   179.9162,       2748,  1297.5,   3.7641,  34.4535,2,  34.4520,2,    175.2,2,   174.9,2,   58.61,2,   33.14,2,    0.00,2, -999.00,5,-999.000,5,-999.000,5,  -999.0,9,  -999.0,9,   0.016,2,   1.9000,2,   10.24,2,    0.48,2,  -141.9,2,     4.9,-999.000,9,-999.000,     -999.0,-999.0000,   0.150,     3.6654,   0.004
  316N138_4,       P06C,     182,          1,         16,        116,2,19920703,       1550,   -32.5138,   179.9162,       2748,  1395.0,   3.4121,  34.4869,2,  34.4877,2,    167.4,2,   168.1,2,   68.91,2,   33.63,2,    0.00,2, -999.00,5,-999.000,5,-999.000,5,  -999.0,9,  -999.0,9,-999.000,9,-999.0000,9, -999.00,9,    0.37,2,  -151.6,2,     3.0,-999.000,9,-999.000,     -999.0,-999.0000,-999.000,     3.3088,-999.000
  316N138_4,       P06C,     182,          1,         15,        115,2,19920703,       1550,   -32.5138,   179.9162,       2748,  1492.1,   3.0854,  34.5286,2,  34.5280,2,    164.3,2,   162.7,2,   80.34,2,   34.03,2,    0.00,2, -999.00,5,-999.000,5,-999.000,5,  -999.0,9,  -999.0,9,  -0.001,2,   1.8900,2,   15.24,2,    0.34,2,  -173.5,2,     3.0,-999.000,9,-999.000,     -999.0,-999.0000,   0.150,     2.9774,   0.002
  316N138_4,       P06C,     182,          1,         14,        114,2,19920703,       1550,   -32.5138,   179.9162,       2748,  1589.4,   2.8739,  34.5577,2,  34.5576,2,    161.3,2,   167.0,3,   88.55,2,   34.24,2,    0.00,2, -999.00,5,-999.000,5,-999.000,5,  -999.0,9,  -999.0,9,-999.000,9,-999.0000,9, -999.00,9, -999.00,9,  -999.0,9,  -999.0,-999.000,9,-999.000,     -999.0,-999.0000,-999.000,     2.7601,-999.000
  316N138_4,       P06C,     182,          1,         13,        125,2,19920703,       1550,   -32.5138,   179.9162,       2748,  1688.5,   2.7170,  34.5793,2,  34.5787,2,    159.1,2,   158.6,2,   94.84,2,   34.47,2,    0.00,2, -999.00,5,-999.000,5,-999.000,5,  -999.0,9,  -999.0,9,   0.004,2,   1.9270,2,   17.88,2, -999.00,9,  -999.0,9,  -999.0,-999.000,9,-999.000,     -999.0,-999.0000,   0.150,     2.5969,   0.002
  316N138_4,       P06C,     182,          1,         12,        112,2,19920703,       1550,   -32.5138,   179.9162,       2748,  1785.9,   2.5378,  34.6032,2,  34.6028,2,    157.5,2,   157.0,2,  101.72,2,   34.58,2,    0.01,2, -999.00,5,-999.000,5,-999.000,5,  -999.0,9,  -999.0,9,-999.000,9,-999.0000,9, -999.00,9, -999.00,9,  -999.0,9,  -999.0,-999.000,9,-999.000,     -999.0,-999.0000,-999.000,     2.4117,-999.000
  316N138_4,       P06C,     182,          1,         11,        129,2,19920703,       1550,   -32.5138,   179.9162,       2748,  1884.6,   2.4370,  34.6154,2,  34.6154,2,    157.1,2,   155.1,2,  105.35,2,   34.62,2,    0.01,2, -999.00,5,-999.000,5,-999.000,5,  -999.0,9,  -999.0,9,  -0.003,2,   1.9490,2,   18.98,2, -999.00,9,  -999.0,9,  -999.0,-999.000,9,-999.000,     -999.0,-999.0000,   0.150,     2.3038,   0.002
  316N138_4,       P06C,     182,          1,         10,        110,2,19920703,       1550,   -32.5138,   179.9162,       2748,  1983.3,   2.3446,  34.6268,2,  34.6266,2,    155.4,2,   154.7,2,  108.60,2,   34.66,2,    0.01,2, -999.00,5,-999.000,5,-999.000,5,  -999.0,9,  -999.0,9,-999.000,9,-999.0000,9, -999.00,9, -999.00,9,  -999.0,9,  -999.0,-999.000,9,-999.000,     -999.0,-999.0000,-999.000,     2.2044,-999.000
  316N138_4,       P06C,     182,          1,          9,        126,2,19920703,       1550,   -32.5138,   179.9162,       2748,  2082.3,   2.2964,  34.6321,2,  34.6323,2,    155.5,2,   155.4,2,  110.51,2,   34.88,2,    0.01,2, -999.00,5,-999.000,5,-999.000,5,  -999.0,9,  -999.0,9,-999.000,9,-999.0000,9, -999.00,9, -999.00,9,  -999.0,9,  -999.0,-999.000,9,-999.000,     -999.0,-999.0000,-999.000,     2.1484,-999.000
  316N138_4,       P06C,     182,          1,          8,        108,2,19920703,       1550,   -32.5138,   179.9162,       2748,  2178.9,   2.2937,  34.6338,2,  34.6335,2,    155.4,2,   157.4,4,  110.72,2,   34.87,2,    0.01,2, -999.00,5,-999.000,5,-999.000,5,  -999.0,9,  -999.0,9,-999.000,9,-999.0000,9, -999.00,9, -999.00,9,  -999.0,9,  -999.0,-999.000,9,-999.000,     -999.0,-999.0000,-999.000,     2.1373,-999.000
  316N138_4,       P06C,     182,          1,          7,        107,2,19920703,       1550,   -32.5138,   179.9162,       2748,  2273.9,   2.2708,  34.6367,2,  34.6374,2,    155.5,2,   154.9,2,  111.68,2,   34.86,2,    0.01,2, -999.00,5,-999.000,5,-999.000,5,  -999.0,9,  -999.0,9,-999.000,9,-999.0000,9, -999.00,9, -999.00,9,  -999.0,9,  -999.0,-999.000,9,-999.000,     -999.0,-999.0000,-999.000,     2.1062,-999.000
  316N138_4,       P06C,     182,          1,          6,        180,2,19920703,       1550,   -32.5138,   179.9162,       2748,  2368.1,   2.2573,  34.6391,2,  34.6402,2,    155.8,2,   153.8,2,  112.26,2,   34.85,2,    0.02,2, -999.00,5,-999.000,5,-999.000,5,  -999.0,9,  -999.0,9,-999.000,9,-999.0000,9, -999.00,9, -999.00,9,  -999.0,9,  -999.0,-999.000,9,-999.000,     -999.0,-999.0000,-999.000,     2.0844,-999.000
  316N138_4,       P06C,     182,          1,          5,        131,2,19920703,       1550,   -32.5138,   179.9162,       2748,  2467.0,   2.2417,  34.6413,2,  34.6421,2,    156.0,2,   157.7,4,  113.03,2,   34.85,2,    0.01,2, -999.00,5,-999.000,5,-999.000,5,  -999.0,9,  -999.0,9,-999.000,9,-999.0000,9, -999.00,9, -999.00,9,  -999.0,9,  -999.0,-999.000,9,-999.000,     -999.0,-999.0000,-999.000,     2.0600,-999.000
  316N138_4,       P06C,     182,          1,          4,        104,2,19920703,       1550,   -32.5138,   179.9162,       2748,  2564.0,   2.2344,  34.6432,2,  34.6433,2,    156.1,2,   159.1,4,  113.42,2,   34.84,2,    0.01,2, -999.00,5,-999.000,5,-999.000,5,  -999.0,9,  -999.0,9,-999.000,9,-999.0000,9, -999.00,9, -999.00,9,  -999.0,9,  -999.0,-999.000,9,-999.000,     -999.0,-999.0000,-999.000,     2.0438,-999.000
  316N138_4,       P06C,     182,          1,          3,        130,2,19920703,       1550,   -32.5138,   179.9162,       2748,  2660.8,   2.2348,  34.6443,2,  34.6441,2,    155.7,2,   154.4,2,  113.63,2,   34.83,2,    0.01,2, -999.00,5,-999.000,5,-999.000,5,  -999.0,9,  -999.0,9,-999.000,9,-999.0000,9, -999.00,9, -999.00,9,  -999.0,9,  -999.0,-999.000,9,-999.000,     -999.0,-999.0000,-999.000,     2.0350,-999.000
  316N138_4,       P06C,     182,          1,          2,        135,2,19920703,       1550,   -32.5138,   179.9162,       2748,  2762.4,   2.2368,  34.6451,2,  34.6447,2,    156.7,2,   155.2,2,  113.82,2,   34.89,2,    0.02,2, -999.00,5,-999.000,5,-999.000,5,  -999.0,9,  -999.0,9,-999.000,9,-999.0000,9, -999.00,9, -999.00,9,  -999.0,9,  -999.0,-999.000,9,-999.000,     -999.0,-999.0000,-999.000,     2.0273,-999.000
  316N138_4,       P06C,     182,          1,          1,        134,2,19920703,       1550,   -32.5138,   179.9162,       2748,  2944.5,   2.2150,  34.6484,2,  34.6486,2,    155.2,2,   153.7,2,  115.00,2,   34.92,2,    0.02,2, -999.00,5,-999.000,5,-999.000,5,  -999.0,9,  -999.0,9,-999.000,9,-999.0000,9, -999.00,9, -999.00,9,  -999.0,9,  -999.0,-999.000,9,-999.000,     -999.0,-999.0000,-999.000,     1.9881,-999.000