BOTTLE,20211025CCHSIORKP
EXPOCODE,SECT_ID,STNNBR,CASTNO,SAMPNO,BTLNBR,BTLNBR_FLAG_W,DATE,TIME,LATITUDE,LONGITUDE,DEPTH,CTDPRS,CTDTMP,CTDSAL,CTDSAL_FLAG_W,SALNTY,SALNTY_FLAG_W,CTDOXY,CTDOXY_FLAG_W,OXYGEN,OXYGEN_FLAG_W,SILCAT,SILCAT_FLAG_W,NITRAT,NITRAT_FLAG_W,NITRIT,NITRIT_FLAG_W,PHSPHT,PHSPHT_FLAG_W,CFC-11,CFC-11_FLAG_W,CFC-12,CFC-12_FLAG_W,TCARBN,TCARBN_FLAG_W,PCO2,PCO2_FLAG_W,TRITUM,TRITUM_FLAG_W,HELIUM,HELIUM_FLAG_W,DELHE3,DELHE3_FLAG_W,DELC13,DELC13_FLAG_W,DELC14,DELC14_FLAG_W,C14ERR,NEON,NEON_FLAG_W,NEONER,PCO2TMP,HELIER,DELHER,THETA,TRITER
,,,,,,,,,,,METERS,DBAR,ITS-90,PSS-78,,PSS-78,,UMOL/KG,,UMOL/KG,,UMOL/KG,,UMOL/KG,,UMOL/KG,,UMOL/KG,,PMOL/KG,,PMOL/KG,,UMOL/KG,,UATM,,TU,,NMOL/KG,,PERCNT,,/MILLE,,/MILLE,,/MILLE,NMOL/KG,,NMOL/KG,DEG_C,NMOL/KG,PERCNT,ITS-90,TU
  316N138_4,       P06C,     164,          1,         35,    02-9454,2,19920628,       2338,   -32.4912,  -172.9293,       5970,    20.4,  16.4943,  35.5352,2,  35.5330,2,    282.3,3,   236.9,2,    1.59,2,    0.61,2,    0.01,2,    0.19,2,-999.000,5,-999.000,5,  -999.0,9,  -999.0,9,-999.000,9,-999.0000,9, -999.00,9, -999.00,9,  -999.0,9,  -999.0,-999.000,9,-999.000,     -999.0,-999.0000,-999.000,    16.4910,-999.000
  316N138_4,       P06C,     164,          1,         34,    02-9457,2,19920628,       2338,   -32.4912,  -172.9293,       5970,    58.6,  16.2452,  35.5068,2,  35.5016,2,    238.0,2,   246.1,2,    1.63,2,    0.61,2,    0.01,2,    0.20,2,-999.000,5,-999.000,5,  -999.0,9,  -999.0,9,-999.000,9,-999.0000,9, -999.00,9, -999.00,9,  -999.0,9,  -999.0,-999.000,9,-999.000,     -999.0,-999.0000,-999.000,    16.2359,-999.000
  316N138_4,       P06C,     164,          1,         33,    02-5367,2,19920628,       2338,   -32.4912,  -172.9293,       5970,   108.5,  16.1144,  35.4927,2,  35.4878,2,    231.5,2,   249.3,2,    1.68,2,    0.93,2,    0.01,2,    0.23,2,-999.000,5,-999.000,5,  -999.0,9,  -999.0,9,-999.000,9,-999.0000,9, -999.00,9, -999.00,9,  -999.0,9,  -999.0,-999.000,9,-999.000,     -999.0,-999.0000,-999.000,    16.0971,-999.000
  316N138_4,       P06C,     164,          1,         32,    02-9540,2,19920628,       2338,   -32.4912,  -172.9293,       5970,   208.2,  13.6165,  35.2277,2,  35.2219,2,    203.4,2,   212.6,3,    3.72,2,    8.69,2,    0.00,2,    0.69,2,-999.000,5,-999.000,5,  -999.0,9,  -999.0,9,-999.000,9,-999.0000,9, -999.00,9, -999.00,9,  -999.0,9,  -999.0,-999.000,9,-999.000,     -999.0,-999.0000,-999.000,    13.5869,-999.000
  316N138_4,       P06C,     164,          1,         31,    02-9539,2,19920628,       2338,   -32.4912,  -172.9293,       5970,   307.7,  11.2644,  34.8987,2,  34.9006,2,    207.5,2,   207.3,2,    4.76,2,   13.25,2,    0.00,2,    0.96,2,-999.000,5,-999.000,5,  -999.0,9,  -999.0,9,-999.000,9,-999.0000,9, -999.00,9, -999.00,9,  -999.0,9,  -999.0,-999.000,9,-999.000,     -999.0,-999.0000,-999.000,    11.2258,-999.000
  316N138_4,       P06C,     164,          1,         30,    02-9456,2,19920628,       2338,   -32.4912,  -172.9293,       5970,   409.9,   9.3536,  34.6677,2,  34.6673,2,    206.1,2,   215.8,3,    6.47,2,   18.04,2,    0.00,2,    1.22,2,-999.000,5,-999.000,5,  -999.0,9,  -999.0,9,-999.000,9,-999.0000,9, -999.00,9, -999.00,9,  -999.0,9,  -999.0,-999.000,9,-999.000,     -999.0,-999.0000,-999.000,     9.3076,-999.000
  316N138_4,       P06C,     164,          1,         29,    02-9458,2,19920628,       2338,   -32.4912,  -172.9293,       5970,   509.3,   8.1238,  34.5287,2,  34.5294,2,    220.8,2,   225.3,2,    7.19,2,   20.25,2,    0.00,2,    1.35,2,-999.000,5,-999.000,5,  -999.0,9,  -999.0,9,-999.000,9,-999.0000,9, -999.00,9, -999.00,9,  -999.0,9,  -999.0,-999.000,9,-999.000,     -999.0,-999.0000,-999.000,     8.0711,-999.000
  316N138_4,       P06C,     164,          1,         28,    02-9545,2,19920628,       2338,   -32.4912,  -172.9293,       5970,   608.6,   7.3848,  34.4577,2,  34.4612,2,    228.0,2,   235.5,4,    8.58,2,   21.84,2,    0.00,2,    1.44,2,-999.000,5,-999.000,5,  -999.0,9,  -999.0,9,-999.000,9,-999.0000,9, -999.00,9, -999.00,9,  -999.0,9,  -999.0,-999.000,9,-999.000,     -999.0,-999.0000,-999.000,     7.3249,-999.000
  316N138_4,       P06C,     164,          1,         27,    02-9453,2,19920628,       2338,   -32.4912,  -172.9293,       5970,   910.5,   5.6581,  34.3629,2,  34.3668,2,    213.1,2,   213.8,2,   21.46,2,   27.76,2,    0.00,2,    1.80,2,-999.000,5,-999.000,5,  -999.0,9,  -999.0,9,-999.000,9,-999.0000,9, -999.00,9, -999.00,9,  -999.0,9,  -999.0,-999.000,9,-999.000,     -999.0,-999.0000,-999.000,     5.5786,-999.000
  316N138_4,       P06C,     164,          1,         26,    02-9544,2,19920628,       2338,   -32.4912,  -172.9293,       5970,  1112.6,   4.2852,  34.3896,3,  34.3762,2,    193.2,2,   194.8,2,   39.71,2,   31.67,2,    0.00,2,    2.11,2,-999.000,5,-999.000,5,  -999.0,9,  -999.0,9,-999.000,9,-999.0000,9, -999.00,9, -999.00,9,  -999.0,9,  -999.0,-999.000,9,-999.000,     -999.0,-999.0000,-999.000,     4.1978,-999.000
  316N138_4,       P06C,     164,          1,         25,    02-9455,3,19920628,       2338,   -32.4912,  -172.9293,       5970,  1308.2,   3.4442,  34.4384,2,  34.5066,4,    177.0,2,   185.5,3,   52.27,4,   31.09,4,    0.00,4,    2.10,4,-999.000,5,-999.000,5,  -999.0,9,  -999.0,9,-999.000,9,-999.0000,9, -999.00,9, -999.00,9,  -999.0,9,  -999.0,-999.000,9,-999.000,     -999.0,-999.0000,-999.000,     3.3479,-999.000
  316N138_4,       P06C,     164,          1,         24,        132,2,19920628,       2338,   -32.4912,  -172.9293,       5970,  1505.2,   2.8747,  34.5371,2,  34.5341,2,    163.6,2,   164.8,2,   80.36,2,   34.47,2,    0.00,2,    2.39,2,-999.000,5,-999.000,5,  -999.0,9,  -999.0,9,-999.000,9,-999.0000,9, -999.00,9, -999.00,9,  -999.0,9,  -999.0,-999.000,9,-999.000,     -999.0,-999.0000,-999.000,     2.7679,-999.000
  316N138_4,       P06C,     164,          1,         23,        123,2,19920628,       2338,   -32.4912,  -172.9293,       5970,  1709.6,   2.5833,  34.5864,2,  34.5863,2,    156.1,2,   155.1,2,   96.44,2,   35.08,2,    0.00,2, -999.00,5,-999.000,5,-999.000,5,  -999.0,9,  -999.0,9,-999.000,9,-999.0000,9, -999.00,9, -999.00,9,  -999.0,9,  -999.0,-999.000,9,-999.000,     -999.0,-999.0000,-999.000,     2.4630,-999.000
  316N138_4,       P06C,     164,          1,         22,        128,2,19920628,       2338,   -32.4912,  -172.9293,       5970,  1917.0,   2.3787,  34.6152,2,  34.6144,2,    151.4,2,   152.5,2,  107.69,2,   35.49,2,    0.00,2, -999.00,5,-999.000,5,-999.000,5,  -999.0,9,  -999.0,9,-999.000,9,-999.0000,9, -999.00,9, -999.00,9,  -999.0,9,  -999.0,-999.000,9,-999.000,     -999.0,-999.0000,-999.000,     2.2437,-999.000
  316N138_4,       P06C,     164,          1,         21,        121,2,19920628,       2338,   -32.4912,  -172.9293,       5970,  2122.3,   2.2292,  34.6311,2,  34.6321,2,    149.3,2,   148.6,2,  115.77,2,   35.77,2,    0.00,2, -999.00,5,-999.000,5,-999.000,5,  -999.0,9,  -999.0,9,-999.000,9,-999.0000,9, -999.00,9, -999.00,9,  -999.0,9,  -999.0,-999.000,9,-999.000,     -999.0,-999.0000,-999.000,     2.0787,-999.000
  316N138_4,       P06C,     164,          1,         20,        120,2,19920628,       2338,   -32.4912,  -172.9293,       5970,  2325.4,   2.1163,  34.6411,2,  34.6411,2,    147.1,2,   147.1,2,  120.85,2,   35.91,2,    0.00,2, -999.00,5,-999.000,5,-999.000,5,  -999.0,9,  -999.0,9,-999.000,9,-999.0000,9, -999.00,9, -999.00,9,  -999.0,9,  -999.0,-999.000,9,-999.000,     -999.0,-999.0000,-999.000,     1.9497,-999.000
  316N138_4,       P06C,     164,          1,         19,        133,2,19920628,       2338,   -32.4912,  -172.9293,       5970,  2530.1,   2.0214,  34.6506,2,  34.6504,2,    147.0,2,   146.9,2,  124.75,2,   35.90,2,    0.00,2, -999.00,5,-999.000,5,-999.000,5,  -999.0,9,  -999.0,9,-999.000,9,-999.0000,9, -999.00,9, -999.00,9,  -999.0,9,  -999.0,-999.000,9,-999.000,     -999.0,-999.0000,-999.000,     1.8380,-999.000
  316N138_4,       P06C,     164,          1,         18,        118,2,19920628,       2338,   -32.4912,  -172.9293,       5970,  2728.5,   1.9225,  34.6602,2,  34.6604,2,    148.2,2,   148.7,2,  128.33,2,   35.85,2,    0.00,2,    2.58,2,-999.000,5,-999.000,5,  -999.0,9,  -999.0,9,-999.000,9,-999.0000,9, -999.00,9, -999.00,9,  -999.0,9,  -999.0,-999.000,9,-999.000,     -999.0,-999.0000,-999.000,     1.7226,-999.000
  316N138_4,       P06C,     164,          1,         17,        117,2,19920628,       2338,   -32.4912,  -172.9293,       5970,  2927.5,   1.8335,  34.6700,2,  34.6714,2,    152.1,2,   154.0,2,  128.23,2,   35.46,2,    0.00,2,    2.55,2,-999.000,5,-999.000,5,  -999.0,9,  -999.0,9,-999.000,9,-999.0000,9, -999.00,9, -999.00,9,  -999.0,9,  -999.0,-999.000,9,-999.000,     -999.0,-999.0000,-999.000,     1.6164,-999.000
  316N138_4,       P06C,     164,          1,         16,        116,2,19920628,       2338,   -32.4912,  -172.9293,       5970,  3134.8,   1.7537,  34.6864,2,  34.6853,2,    162.7,2,   163.0,2,  123.78,2,   34.61,2,    0.00,2,    2.47,2,-999.000,5,-999.000,5,  -999.0,9,  -999.0,9,-999.000,9,-999.0000,9, -999.00,9, -999.00,9,  -999.0,9,  -999.0,-999.000,9,-999.000,     -999.0,-999.0000,-999.000,     1.5181,-999.000
  316N138_4,       P06C,     164,          1,         15,        115,2,19920628,       2338,   -32.4912,  -172.9293,       5970,  3337.3,   1.6586,  34.7064,2,  34.7072,2,    177.6,2,   180.7,2,  114.32,2,   33.14,2,    0.00,2,    2.35,2,-999.000,5,-999.000,5,  -999.0,9,  -999.0,9,-999.000,9,-999.0000,9, -999.00,9, -999.00,9,  -999.0,9,  -999.0,-999.000,9,-999.000,     -999.0,-999.0000,-999.000,     1.4050,-999.000
  316N138_4,       P06C,     164,          1,         14,        114,2,19920628,       2338,   -32.4912,  -172.9293,       5970,  3542.8,   1.5411,  34.7182,2,  34.7188,2,    189.1,2,   194.4,4,  110.36,2,   32.25,2,    0.00,2,    2.29,2,-999.000,5,-999.000,5,  -999.0,9,  -999.0,9,-999.000,9,-999.0000,9, -999.00,9, -999.00,9,  -999.0,9,  -999.0,-999.000,9,-999.000,     -999.0,-999.0000,-999.000,     1.2693,-999.000
  316N138_4,       P06C,     164,          1,         13,        125,2,19920628,       2338,   -32.4912,  -172.9293,       5970,  3744.6,   1.4316,  34.7214,2,  34.7219,2,    196.3,2,   196.7,2,  110.59,2,   31.91,2,    0.00,2,    2.28,2,-999.000,5,-999.000,5,  -999.0,9,  -999.0,9,-999.000,9,-999.0000,9, -999.00,9, -999.00,9,  -999.0,9,  -999.0,-999.000,9,-999.000,     -999.0,-999.0000,-999.000,     1.1416,-999.000
  316N138_4,       P06C,     164,          1,         12,        112,2,19920628,       2338,   -32.4912,  -172.9293,       5970,  3943.8,   1.2872,  34.7193,2,  34.7203,2,    200.6,2,   200.3,2,  113.84,2,   31.95,2,    0.00,2,    2.27,2,-999.000,5,-999.000,5,  -999.0,9,  -999.0,9,-999.000,9,-999.0000,9, -999.00,9, -999.00,9,  -999.0,9,  -999.0,-999.000,9,-999.000,     -999.0,-999.0000,-999.000,     0.9802,-999.000
  316N138_4,       P06C,     164,          1,         11,        129,2,19920628,       2338,   -32.4912,  -172.9293,       5970,  4145.5,   1.1875,  34.7171,2,  34.7170,2,    204.0,2,   203.2,2,  116.07,2,   31.99,2,    0.00,2,    2.27,2,-999.000,5,-999.000,5,  -999.0,9,  -999.0,9,-999.000,9,-999.0000,9, -999.00,9, -999.00,9,  -999.0,9,  -999.0,-999.000,9,-999.000,     -999.0,-999.0000,-999.000,     0.8615,-999.000
  316N138_4,       P06C,     164,          1,         10,        110,2,19920628,       2338,   -32.4912,  -172.9293,       5970,  4351.6,   1.1105,  34.7138,2,  34.7142,2,    205.4,2,   205.6,2,  118.14,2,   32.13,2,    0.00,2,    2.27,2,-999.000,5,-999.000,5,  -999.0,9,  -999.0,9,-999.000,9,-999.0000,9, -999.00,9, -999.00,9,  -999.0,9,  -999.0,-999.000,9,-999.000,     -999.0,-999.0000,-999.000,     0.7641,-999.000
  316N138_4,       P06C,     164,          1,          9,        126,2,19920628,       2338,   -32.4912,  -172.9293,       5970,  4548.2,   1.0733,  34.7105,2,  34.7123,2,    206.5,2,   206.6,2,  119.72,2,   32.22,2,    0.00,2,    2.28,2,-999.000,5,-999.000,5,  -999.0,9,  -999.0,9,-999.000,9,-999.0000,9, -999.00,9, -999.00,9,  -999.0,9,  -999.0,-999.000,9,-999.000,     -999.0,-999.0000,-999.000,     0.7060,-999.000
  316N138_4,       P06C,     164,          1,          8,        108,2,19920628,       2338,   -32.4912,  -172.9293,       5970,  4747.5,   1.0493,  34.7101,2,  34.7109,2,    206.8,2,   208.3,3,  118.78,3,   32.30,2,    0.00,2,    2.29,2,-999.000,5,-999.000,5,  -999.0,9,  -999.0,9,-999.000,9,-999.0000,9, -999.00,9, -999.00,9,  -999.0,9,  -999.0,-999.000,9,-999.000,     -999.0,-999.0000,-999.000,     0.6599,-999.000
  316N138_4,       P06C,     164,          1,          7,        107,2,19920628,       2338,   -32.4912,  -172.9293,       5970,  4956.5,   1.0391,  34.7088,2,  34.7089,2,    207.7,2,   211.4,3,  119.85,2,   32.30,2,    0.00,2,    2.29,2,-999.000,5,-999.000,5,  -999.0,9,  -999.0,9,-999.000,9,-999.0000,9, -999.00,9, -999.00,9,  -999.0,9,  -999.0,-999.000,9,-999.000,     -999.0,-999.0000,-999.000,     0.6254,-999.000
  316N138_4,       P06C,     164,          1,          6,        180,2,19920628,       2338,   -32.4912,  -172.9293,       5970,  5161.9,   1.0446,  34.7082,2,  34.7085,2,    208.0,2,   208.1,2,  120.42,2,   32.29,2,    0.00,2,    2.29,2,-999.000,5,-999.000,5,  -999.0,9,  -999.0,9,-999.000,9,-999.0000,9, -999.00,9, -999.00,9,  -999.0,9,  -999.0,-999.000,9,-999.000,     -999.0,-999.0000,-999.000,     0.6063,-999.000
  316N138_4,       P06C,     164,          1,          5,        131,2,19920628,       2338,   -32.4912,  -172.9293,       5970,  5360.5,   1.0568,  34.7072,2,  34.7079,2,    208.6,2,   208.5,2,  120.99,2,   32.38,2,    0.00,2,    2.29,2,-999.000,5,-999.000,5,  -999.0,9,  -999.0,9,-999.000,9,-999.0000,9, -999.00,9, -999.00,9,  -999.0,9,  -999.0,-999.000,9,-999.000,     -999.0,-999.0000,-999.000,     0.5937,-999.000
  316N138_4,       P06C,     164,          1,          4,        104,2,19920628,       2338,   -32.4912,  -172.9293,       5970,  5556.3,   1.0739,  34.7069,2,  34.7076,2,    208.6,2,   213.1,4,  121.55,2,   32.33,2,    0.00,2,    2.29,2,-999.000,5,-999.000,5,  -999.0,9,  -999.0,9,-999.000,9,-999.0000,9, -999.00,9, -999.00,9,  -999.0,9,  -999.0,-999.000,9,-999.000,     -999.0,-999.0000,-999.000,     0.5858,-999.000
  316N138_4,       P06C,     164,          1,          3,        130,2,19920628,       2338,   -32.4912,  -172.9293,       5970,  5755.7,   1.0958,  34.7075,2,  34.7064,2,    208.9,2,   207.0,2,  121.95,2,   32.37,2,    0.00,2,    2.30,2,-999.000,5,-999.000,5,  -999.0,9,  -999.0,9,-999.000,9,-999.0000,9, -999.00,9, -999.00,9,  -999.0,9,  -999.0,-999.000,9,-999.000,     -999.0,-999.0000,-999.000,     0.5814,-999.000
  316N138_4,       P06C,     164,          1,          2,        135,2,19920628,       2338,   -32.4912,  -172.9293,       5970,  5960.0,   1.1234,  34.7069,2,  34.7064,2,    207.4,2,   207.6,2,  122.02,2,   32.32,2,    0.00,2,    2.32,2,-999.000,5,-999.000,5,  -999.0,9,  -999.0,9,-999.000,9,-999.0000,9, -999.00,9, -999.00,9,  -999.0,9,  -999.0,-999.000,9,-999.000,     -999.0,-999.0000,-999.000,     0.5814,-999.000
  316N138_4,       P06C,     164,          1,          1,        134,2,19920628,       2338,   -32.4912,  -172.9293,       5970,  6087.8,   1.1398,  34.7068,2,  34.7040,3,    221.8,4,   206.6,2,  121.86,2,   32.25,2,    0.00,2,    2.29,2,-999.000,5,-999.000,5,  -999.0,9,  -999.0,9,-999.000,9,-999.0000,9, -999.00,9, -999.00,9,  -999.0,9,  -999.0,-999.000,9,-999.000,     -999.0,-999.0000,-999.000,     0.5803,-999.000