BOTTLE,20211025CCHSIORKP
EXPOCODE,SECT_ID,STNNBR,CASTNO,SAMPNO,BTLNBR,BTLNBR_FLAG_W,DATE,TIME,LATITUDE,LONGITUDE,DEPTH,CTDPRS,CTDTMP,CTDSAL,CTDSAL_FLAG_W,SALNTY,SALNTY_FLAG_W,CTDOXY,CTDOXY_FLAG_W,OXYGEN,OXYGEN_FLAG_W,SILCAT,SILCAT_FLAG_W,NITRAT,NITRAT_FLAG_W,NITRIT,NITRIT_FLAG_W,PHSPHT,PHSPHT_FLAG_W,CFC-11,CFC-11_FLAG_W,CFC-12,CFC-12_FLAG_W,TCARBN,TCARBN_FLAG_W,PCO2,PCO2_FLAG_W,TRITUM,TRITUM_FLAG_W,HELIUM,HELIUM_FLAG_W,DELHE3,DELHE3_FLAG_W,DELC13,DELC13_FLAG_W,DELC14,DELC14_FLAG_W,C14ERR,NEON,NEON_FLAG_W,NEONER,PCO2TMP,HELIER,DELHER,THETA,TRITER
,,,,,,,,,,,METERS,DBAR,ITS-90,PSS-78,,PSS-78,,UMOL/KG,,UMOL/KG,,UMOL/KG,,UMOL/KG,,UMOL/KG,,UMOL/KG,,PMOL/KG,,PMOL/KG,,UMOL/KG,,UATM,,TU,,NMOL/KG,,PERCNT,,/MILLE,,/MILLE,,/MILLE,NMOL/KG,,NMOL/KG,DEG_C,NMOL/KG,PERCNT,ITS-90,TU
  316N138_4,       P06C,     101,          1,         24,        132,2,19920609,       0426,   -32.5040,  -130.6547,       3462,    20.9,  18.7894,  35.0919,2,-999.0000,9,    271.9,3,  -999.0,9, -999.00,9, -999.00,9, -999.00,9, -999.00,9,-999.000,9,-999.000,9,  -999.0,9,  -999.0,9,-999.000,9,-999.0000,9, -999.00,9, -999.00,9,  -999.0,9,  -999.0,-999.000,9,-999.000,     -999.0,-999.0000,-999.000,    18.7857,-999.000
  316N138_4,       P06C,     101,          1,         23,        123,2,19920609,       0426,   -32.5040,  -130.6547,       3462,    60.1,  18.7968,  35.0930,2,-999.0000,9,    233.7,2,  -999.0,9, -999.00,9, -999.00,9, -999.00,9, -999.00,9,-999.000,9,-999.000,9,  -999.0,9,  -999.0,9,-999.000,9,-999.0000,9, -999.00,9, -999.00,9,  -999.0,9,  -999.0,-999.000,9,-999.000,     -999.0,-999.0000,-999.000,    18.7862,-999.000
  316N138_4,       P06C,     101,          1,         22,        128,2,19920609,       0426,   -32.5040,  -130.6547,       3462,    60.1,  18.7968,  35.0930,2,  35.0943,2,    233.6,2,   232.5,2,    0.04,2,    0.00,2,   -0.01,2,    0.13,2,-999.000,9,-999.000,9,  2018.8,6,  -999.0,9,-999.000,9,-999.0000,9, -999.00,9, -999.00,9,  -999.0,9,  -999.0,-999.000,9,-999.000,     -999.0,-999.0000,-999.000,    18.7862,-999.000
  316N138_4,       P06C,     101,          1,         21,        121,2,19920609,       0426,   -32.5040,  -130.6547,       3462,   118.6,  15.7239,  34.9691,2,  34.9707,2,    247.0,2,   246.5,2,    0.04,2,    0.05,2,    0.00,2,    0.20,2,-999.000,9,-999.000,9,  2037.9,2,  -999.0,9,-999.000,9,-999.0000,9, -999.00,9, -999.00,9,  -999.0,9,  -999.0,-999.000,9,-999.000,     -999.0,-999.0000,-999.000,    15.7054,-999.000
  316N138_4,       P06C,     101,          1,         20,        120,2,19920609,       0426,   -32.5040,  -130.6547,       3462,   149.0,  14.7662,  34.9687,2,  34.9681,2,    234.3,2,   229.5,2,    0.22,2,    1.70,2,    0.22,2,    0.33,2,-999.000,9,-999.000,9,  -999.0,9,  -999.0,9,-999.000,9,-999.0000,9, -999.00,9, -999.00,9,  -999.0,9,  -999.0,-999.000,9,-999.000,     -999.0,-999.0000,-999.000,    14.7439,-999.000
  316N138_4,       P06C,     101,          1,         19,        133,2,19920609,       0426,   -32.5040,  -130.6547,       3462,   179.3,  14.2225,  34.9333,2,  34.9390,2,    221.9,2,   221.1,2,    0.58,2,    3.95,2,    0.02,2,    0.46,2,-999.000,9,-999.000,9,  2064.1,2,  -999.0,9,-999.000,9,-999.0000,9, -999.00,9, -999.00,9,  -999.0,9,  -999.0,-999.000,9,-999.000,     -999.0,-999.0000,-999.000,    14.1963,-999.000
  316N138_4,       P06C,     101,          1,         18,        118,2,19920609,       0426,   -32.5040,  -130.6547,       3462,   208.8,  13.6609,  34.9396,2,  34.9132,2,    213.6,2,   211.4,2,    0.94,2,    6.32,2,    0.00,2,    0.61,2,-999.000,9,-999.000,9,  -999.0,9,  -999.0,9,-999.000,9,-999.0000,9, -999.00,9, -999.00,9,  -999.0,9,  -999.0,-999.000,9,-999.000,     -999.0,-999.0000,-999.000,    13.6312,-999.000
  316N138_4,       P06C,     101,          1,         17,        117,2,19920609,       0426,   -32.5040,  -130.6547,       3462,   258.1,  12.0164,  34.8033,2,  34.7994,2,    209.8,2,   203.4,2,    1.82,2,   10.81,2,    0.01,2,    0.87,2,-999.000,9,-999.000,9,  2097.6,2,  -999.0,9,-999.000,9,-999.0000,9, -999.00,9, -999.00,9,  -999.0,9,  -999.0,-999.000,9,-999.000,     -999.0,-999.0000,-999.000,    11.9827,-999.000
  316N138_4,       P06C,     101,          1,         16,        116,2,19920609,       0426,   -32.5040,  -130.6547,       3462,   309.2,  10.5523,  34.6405,2,  34.6515,2,    210.8,2,   208.1,2,    2.71,2,   14.05,2,    0.01,2,    1.05,2,-999.000,9,-999.000,9,  -999.0,9,  -999.0,9,-999.000,9,-999.0000,9, -999.00,9, -999.00,9,  -999.0,9,  -999.0,-999.000,9,-999.000,     -999.0,-999.0000,-999.000,    10.5151,-999.000
  316N138_4,       P06C,     101,          1,         15,        115,2,19920609,       0426,   -32.5040,  -130.6547,       3462,   359.7,   8.6967,  34.4870,2,  34.4885,2,    221.0,2,   216.8,2,    4.12,2,   18.31,2,    0.01,2,    1.32,2,-999.000,9,-999.000,9,  2123.5,2,  -999.0,9,-999.000,9,-999.0000,9, -999.00,9, -999.00,9,  -999.0,9,  -999.0,-999.000,9,-999.000,     -999.0,-999.0000,-999.000,     8.6583,-999.000
  316N138_4,       P06C,     101,          1,         14,        114,2,19920609,       0426,   -32.5040,  -130.6547,       3462,   407.8,   7.7587,  34.4305,2,  34.4318,2,    229.4,2,   230.8,2,    5.00,2,   19.99,2,    0.01,2,    1.41,2,-999.000,9,-999.000,9,  -999.0,9,  -999.0,9,-999.000,9,-999.0000,9, -999.00,9, -999.00,9,  -999.0,9,  -999.0,-999.000,9,-999.000,     -999.0,-999.0000,-999.000,     7.7179,-999.000
  316N138_4,       P06C,     101,          1,         13,        125,2,19920609,       0426,   -32.5040,  -130.6547,       3462,   459.7,   7.1856,  34.3919,2,  34.4004,2,    238.0,2,   237.0,2,    5.89,2,   21.11,2,    0.01,2,    1.47,2,-999.000,9,-999.000,9,  2128.8,2,  -999.0,9,-999.000,9,-999.0000,9, -999.00,9, -999.00,9,  -999.0,9,  -999.0,-999.000,9,-999.000,     -999.0,-999.0000,-999.000,     7.1415,-999.000
  316N138_4,       P06C,     101,          1,         12,        112,2,19920609,       0426,   -32.5040,  -130.6547,       3462,   535.5,   6.7736,  34.3715,2,  34.3790,2,    243.8,2,   242.2,2,    6.95,2,   22.02,2,    0.03,3,    1.53,2,-999.000,9,-999.000,9,  -999.0,9,  -999.0,9,-999.000,9,-999.0000,9, -999.00,9, -999.00,9,  -999.0,9,  -999.0,-999.000,9,-999.000,     -999.0,-999.0000,-999.000,     6.7237,-999.000
  316N138_4,       P06C,     101,          1,         11,        129,2,19920609,       0426,   -32.5040,  -130.6547,       3462,   610.0,   6.4445,  34.3478,2,  34.3566,2,    240.6,2,   243.6,2,    8.20,2,   23.05,2,    0.03,3,    1.60,2,-999.000,9,-999.000,9,  2132.3,2,  -999.0,9,-999.000,9,-999.0000,9, -999.00,9, -999.00,9,  -999.0,9,  -999.0,-999.000,9,-999.000,     -999.0,-999.0000,-999.000,     6.3888,-999.000
  316N138_4,       P06C,     101,          1,         10,        110,2,19920609,       0426,   -32.5040,  -130.6547,       3462,   686.9,   6.0394,  34.3239,2,  34.3256,2,    237.5,2,   239.3,2,   10.14,2,   24.44,2,    0.04,3,    1.68,2,-999.000,9,-999.000,9,  -999.0,9,  -999.0,9,-999.000,9,-999.0000,9, -999.00,9, -999.00,9,  -999.0,9,  -999.0,-999.000,9,-999.000,     -999.0,-999.0000,-999.000,     5.9784,-999.000
  316N138_4,       P06C,     101,          1,          9,        126,2,19920609,       0426,   -32.5040,  -130.6547,       3462,   760.5,   5.6416,  34.3084,2,  34.3105,2,    232.5,2,   232.8,2,   13.14,2,   25.94,2,    0.04,3,    1.78,2,-999.000,9,-999.000,9,  2146.3,2,  -999.0,9,-999.000,9,-999.0000,9, -999.00,9, -999.00,9,  -999.0,9,  -999.0,-999.000,9,-999.000,     -999.0,-999.0000,-999.000,     5.5762,-999.000
  316N138_4,       P06C,     101,          1,          8,        108,2,19920609,       0426,   -32.5040,  -130.6547,       3462,   835.3,   5.2380,  34.3022,2,  34.3019,2,    225.9,2,   217.9,4,   17.91,2,   27.81,2,    0.05,3,    1.90,2,-999.000,9,-999.000,9,  -999.0,9,  -999.0,9,-999.000,9,-999.0000,9, -999.00,9, -999.00,9,  -999.0,9,  -999.0,-999.000,9,-999.000,     -999.0,-999.0000,-999.000,     5.1682,-999.000
  316N138_4,       P06C,     101,          1,          7,        107,2,19920609,       0426,   -32.5040,  -130.6547,       3462,   912.6,   4.8465,  34.3043,2,  34.3070,2,    211.7,2,   212.1,2,   23.39,2,   29.40,2,    0.05,3,    2.01,2,-999.000,9,-999.000,9,  2171.1,2,  -999.0,9,-999.000,9,-999.0000,9, -999.00,9, -999.00,9,  -999.0,9,  -999.0,-999.000,9,-999.000,     -999.0,-999.0000,-999.000,     4.7725,-999.000
  316N138_4,       P06C,     101,          1,          6,        180,2,19920609,       0426,   -32.5040,  -130.6547,       3462,  1011.2,   4.1954,  34.3365,3,  34.3466,2,    198.0,2,   195.2,2,   34.51,2,   31.64,2,    0.03,3,    2.18,2,-999.000,9,-999.000,9,  -999.0,9,  -999.0,9,-999.000,9,-999.0000,9, -999.00,9, -999.00,9,  -999.0,9,  -999.0,-999.000,9,-999.000,     -999.0,-999.0000,-999.000,     4.1175,-999.000
  316N138_4,       P06C,     101,          1,          5,        131,2,19920609,       0426,   -32.5040,  -130.6547,       3462,  1107.9,   3.7700,  34.3693,2,  34.3698,2,    187.5,2,   185.5,2,   44.22,2,   33.01,2,    0.02,3,    2.28,2,-999.000,9,-999.000,9,  2213.8,2,  -999.0,9,-999.000,9,-999.0000,9, -999.00,9, -999.00,9,  -999.0,9,  -999.0,-999.000,9,-999.000,     -999.0,-999.0000,-999.000,     3.6874,-999.000
  316N138_4,       P06C,     101,          1,          4,        104,2,19920609,       0426,   -32.5040,  -130.6547,       3462,  1203.2,   3.3489,  34.4156,2,  34.4155,2,    179.7,2,   177.8,2,   54.64,2,   33.79,2,    0.00,2,    2.34,2,-999.000,9,-999.000,9,  -999.0,9,  -999.0,9,-999.000,9,-999.0000,9, -999.00,9, -999.00,9,  -999.0,9,  -999.0,-999.000,9,-999.000,     -999.0,-999.0000,-999.000,     3.2622,-999.000
  316N138_4,       P06C,     101,          1,          3,        130,2,19920609,       0426,   -32.5040,  -130.6547,       3462,  1351.7,   2.9870,  34.4737,2,  34.4742,2,    170.0,2,   169.4,2,   66.47,2,   34.35,2,   -0.01,2,    2.39,2,-999.000,9,-999.000,9,  2245.0,2,  -999.0,9,-999.000,9,-999.0000,9, -999.00,9, -999.00,9,  -999.0,9,  -999.0,-999.000,9,-999.000,     -999.0,-999.0000,-999.000,     2.8917,-999.000
  316N138_4,       P06C,     101,          1,          2,        135,2,19920609,       0426,   -32.5040,  -130.6547,       3462,  1501.5,   2.6648,  34.5388,2,  34.5384,2,    163.2,2,   163.2,2,   80.76,2,   34.72,2,    0.00,2,    2.43,2,-999.000,9,-999.000,9,  -999.0,9,  -999.0,9,-999.000,9,-999.0000,9, -999.00,9, -999.00,9,  -999.0,9,  -999.0,-999.000,9,-999.000,     -999.0,-999.0000,-999.000,     2.5608,-999.000
  316N138_4,       P06C,     101,          1,          1,        134,2,19920609,       0426,   -32.5040,  -130.6547,       3462,  1654.5,   2.4274,  34.5850,2,  34.5875,2,    160.1,2,   158.9,2,   92.94,2,   34.86,2,    0.00,2,    2.46,2,-999.000,9,-999.000,9,  2275.6,2,  -999.0,9,-999.000,9,-999.0000,9, -999.00,9, -999.00,9,  -999.0,9,  -999.0,-999.000,9,-999.000,     -999.0,-999.0000,-999.000,     2.3137,-999.000
  316N138_4,       P06C,     101,          1,         36,    02-9121,2,19920609,       0426,   -32.5040,  -130.6547,       3462,  1811.8,   2.2688,  34.6114,2,  34.6124,2,    156.9,2,   156.3,2,  101.78,2,   35.05,2,   -0.01,2,    2.48,2,-999.000,9,-999.000,9,  -999.0,9,  -999.0,9,-999.000,9,-999.0000,9, -999.00,9, -999.00,9,  -999.0,9,  -999.0,-999.000,9,-999.000,     -999.0,-999.0000,-999.000,     2.1442,-999.000
  316N138_4,       P06C,     101,          1,         35,    02-9454,2,19920609,       0426,   -32.5040,  -130.6547,       3462,  1964.1,   2.1055,  34.6325,2,  34.6313,2,    155.7,2,   155.0,2,  109.71,2,   35.16,2,   -0.01,2,    2.50,2,-999.000,9,-999.000,9,  2294.2,2,  -999.0,9,-999.000,9,-999.0000,9, -999.00,9, -999.00,9,  -999.0,9,  -999.0,-999.000,9,-999.000,     -999.0,-999.0000,-999.000,     1.9705,-999.000
  316N138_4,       P06C,     101,          1,         34,    02-9457,2,19920609,       0426,   -32.5040,  -130.6547,       3462,  2122.1,   1.9945,  34.6436,2,  34.6423,2,    155.7,2,   155.4,2,  114.66,2,   35.19,2,    0.00,2,    2.50,2,-999.000,9,-999.000,9,  -999.0,9,  -999.0,9,-999.000,9,-999.0000,9, -999.00,9, -999.00,9,  -999.0,9,  -999.0,-999.000,9,-999.000,     -999.0,-999.0000,-999.000,     1.8478,-999.000
  316N138_4,       P06C,     101,          1,         33,    02-5367,2,19920609,       0426,   -32.5040,  -130.6547,       3462,  2273.6,   1.8874,  34.6530,2,  34.6549,2,    156.4,2,   162.2,3,  118.37,2,   35.19,2,    0.00,2,    2.51,2,-999.000,9,-999.000,9,  2299.4,6,  -999.0,9,-999.000,9,-999.0000,9, -999.00,9, -999.00,9,  -999.0,9,  -999.0,-999.000,9,-999.000,     -999.0,-999.0000,-999.000,     1.7294,-999.000
  316N138_4,       P06C,     101,          1,         32,    02-9540,2,19920609,       0426,   -32.5040,  -130.6547,       3462,  2424.9,   1.8359,  34.6580,2,  34.6576,2,    157.4,2,   157.7,2,  119.97,2,   35.14,2,    0.01,2,    2.50,2,-999.000,9,-999.000,9,  -999.0,9,  -999.0,9,-999.000,9,-999.0000,9, -999.00,9, -999.00,9,  -999.0,9,  -999.0,-999.000,9,-999.000,     -999.0,-999.0000,-999.000,     1.6653,-999.000
  316N138_4,       P06C,     101,          1,         31,    02-9539,2,19920609,       0426,   -32.5040,  -130.6547,       3462,  2575.9,   1.7734,  34.6621,2,  34.6647,2,    159.1,2,   158.8,2,  121.39,2,   35.09,2,    0.00,2,    2.50,2,-999.000,9,-999.000,9,  2302.0,2,  -999.0,9,-999.000,9,-999.0000,9, -999.00,9, -999.00,9,  -999.0,9,  -999.0,-999.000,9,-999.000,     -999.0,-999.0000,-999.000,     1.5904,-999.000
  316N138_4,       P06C,     101,          1,         30,    02-9456,2,19920609,       0426,   -32.5040,  -130.6547,       3462,  2730.8,   1.7319,  34.6671,2,  34.6708,2,    161.3,2,   161.4,2,  121.92,2,   34.94,2,    0.01,2,    2.49,2,-999.000,9,-999.000,9,  -999.0,9,  -999.0,9,-999.000,9,-999.0000,9, -999.00,9, -999.00,9,  -999.0,9,  -999.0,-999.000,9,-999.000,     -999.0,-999.0000,-999.000,     1.5355,-999.000
  316N138_4,       P06C,     101,          1,         29,    02-9458,2,19920609,       0426,   -32.5040,  -130.6547,       3462,  2930.7,   1.6647,  34.6743,2,  34.6755,2,    164.6,2,   164.4,2,  122.63,2,   34.77,2,    0.00,2,    2.48,2,-999.000,9,-999.000,9,  2298.2,6,  -999.0,9,-999.000,9,-999.0000,9, -999.00,9, -999.00,9,  -999.0,9,  -999.0,-999.000,9,-999.000,     -999.0,-999.0000,-999.000,     1.4510,-999.000
  316N138_4,       P06C,     101,          1,         28,    02-9545,2,19920609,       0426,   -32.5040,  -130.6547,       3462,  3131.1,   1.6250,  34.6768,2,  34.6779,2,    167.1,2,   167.3,2,  122.82,2,   34.61,2,    0.00,2,    2.47,2,-999.000,9,-999.000,9,  -999.0,9,  -999.0,9,-999.000,9,-999.0000,9, -999.00,9, -999.00,9,  -999.0,9,  -999.0,-999.000,9,-999.000,     -999.0,-999.0000,-999.000,     1.3928,-999.000
  316N138_4,       P06C,     101,          1,         27,    02-9453,2,19920609,       0426,   -32.5040,  -130.6547,       3462,  3328.6,   1.5974,  34.6803,2,  34.6798,2,    169.7,2,   169.1,2,  122.83,2,   34.51,2,    0.01,2,    2.46,2,-999.000,9,-999.000,9,  2294.3,2,  -999.0,9,-999.000,9,-999.0000,9, -999.00,9, -999.00,9,  -999.0,9,  -999.0,-999.000,9,-999.000,     -999.0,-999.0000,-999.000,     1.3462,-999.000
  316N138_4,       P06C,     101,          1,         26,    02-9544,2,19920609,       0426,   -32.5040,  -130.6547,       3462,  3527.4,   1.5796,  34.6836,2,  34.6851,2,    171.9,2,   171.2,2,  122.47,2,   34.45,2,    0.02,2,    2.44,2,-999.000,9,-999.000,9,  -999.0,9,  -999.0,9,-999.000,9,-999.0000,9, -999.00,9, -999.00,9,  -999.0,9,  -999.0,-999.000,9,-999.000,     -999.0,-999.0000,-999.000,     1.3086,-999.000
  316N138_4,       P06C,     101,          1,         25,    02-9455,2,19920609,       0426,   -32.5040,  -130.6547,       3462,  3708.2,   1.5520,  34.6862,2,  34.6877,2,    173.3,2,   173.9,2,  121.94,2,   34.12,2,    0.00,2,    2.41,2,-999.000,9,-999.000,9,  2292.4,2,  -999.0,9,-999.000,9,-999.0000,9, -999.00,9, -999.00,9,  -999.0,9,  -999.0,-999.000,9,-999.000,     -999.0,-999.0000,-999.000,     1.2629,-999.000