BOTTLE,20211025CCHSIORKP
EXPOCODE,SECT_ID,STNNBR,CASTNO,SAMPNO,BTLNBR,BTLNBR_FLAG_W,DATE,TIME,LATITUDE,LONGITUDE,DEPTH,CTDPRS,CTDTMP,CTDSAL,CTDSAL_FLAG_W,SALNTY,SALNTY_FLAG_W,CTDOXY,CTDOXY_FLAG_W,OXYGEN,OXYGEN_FLAG_W,SILCAT,SILCAT_FLAG_W,NITRAT,NITRAT_FLAG_W,NITRIT,NITRIT_FLAG_W,PHSPHT,PHSPHT_FLAG_W,CFC-11,CFC-11_FLAG_W,CFC-12,CFC-12_FLAG_W,TCARBN,TCARBN_FLAG_W,PCO2,PCO2_FLAG_W,TRITUM,TRITUM_FLAG_W,HELIUM,HELIUM_FLAG_W,DELHE3,DELHE3_FLAG_W,DELC13,DELC13_FLAG_W,DELC14,DELC14_FLAG_W,C14ERR,NEON,NEON_FLAG_W,NEONER,PCO2TMP,HELIER,DELHER,THETA,TRITER
,,,,,,,,,,,METERS,DBAR,ITS-90,PSS-78,,PSS-78,,UMOL/KG,,UMOL/KG,,UMOL/KG,,UMOL/KG,,UMOL/KG,,UMOL/KG,,PMOL/KG,,PMOL/KG,,UMOL/KG,,UATM,,TU,,NMOL/KG,,PERCNT,,/MILLE,,/MILLE,,/MILLE,NMOL/KG,,NMOL/KG,DEG_C,NMOL/KG,PERCNT,ITS-90,TU
  316N138_4,       P06C,     103,          1,         36,    02-9121,2,19920609,       1930,   -32.4983,  -132.0043,       4262,    18.7,  18.5115,  35.1875,2,  35.1880,2,    268.1,3,   232.3,2,    0.23,2,    0.04,2,    0.02,2,    0.14,2,-999.000,9,-999.000,9,  -999.0,9,  -999.0,9,   0.721,2,-999.0000,9, -999.00,9, -999.00,9,  -999.0,9,  -999.0,-999.000,9,-999.000,     -999.0,-999.0000,-999.000,    18.5083,   0.004
  316N138_4,       P06C,     103,          1,         35,    02-9454,2,19920609,       1930,   -32.4983,  -132.0043,       4262,    48.3,  18.5159,  35.1858,2,  35.1884,2,    229.2,2,   228.3,2,    0.23,2,    0.04,2,    0.02,2,    0.14,2,-999.000,9,-999.000,9,  -999.0,9,  -999.0,9,-999.000,9,-999.0000,9, -999.00,9, -999.00,9,  -999.0,9,  -999.0,-999.000,9,-999.000,     -999.0,-999.0000,-999.000,    18.5075,-999.000
  316N138_4,       P06C,     103,          1,         34,    02-9457,2,19920609,       1930,   -32.4983,  -132.0043,       4262,    89.2,  18.5226,  35.1875,2,  35.1859,2,    229.7,2,   231.1,2,    0.23,2,    0.03,2,    0.02,2,    0.15,2,-999.000,9,-999.000,9,  -999.0,9,  -999.0,9,   0.715,2,   1.7790,2,   -1.07,2, -999.00,9,  -999.0,9,  -999.0,   7.216,2,   0.017,     -999.0,   0.0040,   0.150,    18.5070,   0.004
  316N138_4,       P06C,     103,          1,         33,    02-5367,2,19920609,       1930,   -32.4983,  -132.0043,       4262,   108.0,  16.4202,  35.1663,2,  35.1228,2,    238.6,2,   236.5,2,    0.42,2,    0.06,2,    0.04,2,    0.19,2,-999.000,9,-999.000,9,  -999.0,9,  -999.0,9,-999.000,9,-999.0000,9, -999.00,9, -999.00,9,  -999.0,9,  -999.0,-999.000,9,-999.000,     -999.0,-999.0000,-999.000,    16.4028,-999.000
  316N138_4,       P06C,     103,          1,         32,    02-9540,2,19920609,       1930,   -32.4983,  -132.0043,       4262,   156.9,  15.4817,  35.1095,2,  35.1148,2,    225.1,2,   224.7,2,    0.60,2,    1.26,2,    0.12,2,    0.30,2,-999.000,9,-999.000,9,  -999.0,9,  -999.0,9,   0.733,2,   1.7910,2,   -1.10,2, -999.00,9,  -999.0,9,  -999.0,   7.432,2,   0.017,     -999.0,   0.0040,   0.150,    15.4574,   0.006
  316N138_4,       P06C,     103,          1,         31,    02-9539,2,19920609,       1930,   -32.4983,  -132.0043,       4262,   207.5,  14.3507,  35.0062,2,  34.9984,2,    211.2,2,   214.0,2,    0.96,2,    4.68,2,    0.04,2,    0.51,2,-999.000,9,-999.000,9,  -999.0,9,  -999.0,9,-999.000,9,-999.0000,9, -999.00,9, -999.00,9,  -999.0,9,  -999.0,-999.000,9,-999.000,     -999.0,-999.0000,-999.000,    14.3202,-999.000
  316N138_4,       P06C,     103,          1,         30,    02-9456,2,19920609,       1930,   -32.4983,  -132.0043,       4262,   258.4,  12.8494,  34.8918,2,  34.8814,2,    201.7,2,   202.8,2,    1.84,2,    9.18,2,    0.04,3,    0.79,2,-999.000,9,-999.000,9,  -999.0,9,  -999.0,9,   0.439,2,   1.8250,2,   -0.20,2, -999.00,9,  -999.0,9,  -999.0,   7.512,2,   0.017,     -999.0,   0.0040,   0.150,    12.8140,   0.003
  316N138_4,       P06C,     103,          1,         29,    02-9458,2,19920609,       1930,   -32.4983,  -132.0043,       4262,   307.2,  10.8010,  34.7148,2,  34.7044,3,    209.0,2,   200.2,4,    2.71,2,   13.62,2,    0.04,3,    1.04,2,-999.000,9,-999.000,9,  -999.0,9,  -999.0,9,-999.000,9,-999.0000,9, -999.00,9, -999.00,9,  -999.0,9,  -999.0,-999.000,9,-999.000,     -999.0,-999.0000,-999.000,    10.7635,-999.000
  316N138_4,       P06C,     103,          1,         28,    02-9545,2,19920609,       1930,   -32.4983,  -132.0043,       4262,   355.3,   8.9557,  34.5619,2,  34.5072,2,    217.6,2,   212.5,2,    4.12,2,   17.88,2,    0.05,3,    1.30,2,-999.000,9,-999.000,9,  -999.0,9,  -999.0,9,   0.275,2,   1.8060,2,    0.36,2, -999.00,9,  -999.0,9,  -999.0,   7.370,2,   0.017,     -999.0,   0.0040,   0.150,     8.9171,   0.003
  316N138_4,       P06C,     103,          1,         27,    02-9453,2,19920609,       1930,   -32.4983,  -132.0043,       4262,   404.7,   7.9578,  34.4342,2,  34.4420,2,    225.4,2,   223.9,2,    5.00,2,   19.94,2,    0.05,3,    1.42,2,-999.000,9,-999.000,9,  -999.0,9,  -999.0,9,-999.000,9,-999.0000,9, -999.00,9, -999.00,9,  -999.0,9,  -999.0,-999.000,9,-999.000,     -999.0,-999.0000,-999.000,     7.9167,-999.000
  316N138_4,       P06C,     103,          1,         26,    02-9544,2,19920609,       1930,   -32.4983,  -132.0043,       4262,   453.5,   7.4721,  34.4068,2,  34.4137,2,    233.2,2,   233.0,2,    5.71,2,   20.81,2,    0.06,3,    1.47,2,-999.000,9,-999.000,9,  -999.0,9,  -999.0,9,   0.271,2,   1.8660,2,    0.02,2, -999.00,9,  -999.0,9,  -999.0,   7.990,2,   0.018,     -999.0,   0.0040,   0.150,     7.4277,   0.004
  316N138_4,       P06C,     103,          1,         25,    02-9455,2,19920609,       1930,   -32.4983,  -132.0043,       4262,   506.0,   7.0201,  34.3884,2,  34.3892,2,    240.5,2,   238.9,2,    6.42,2,   21.56,2,    0.06,3,    1.51,2,-999.000,9,-999.000,9,  -999.0,9,  -999.0,9,-999.000,9,-999.0000,9, -999.00,9, -999.00,9,  -999.0,9,  -999.0,-999.000,9,-999.000,     -999.0,-999.0000,-999.000,     6.9720,-999.000
  316N138_4,       P06C,     103,          1,         24,        132,2,19920609,       1930,   -32.4983,  -132.0043,       4262,   557.1,   6.7773,  34.3734,2,  34.3741,2,    243.3,2,   246.6,2,    7.12,2,   22.09,2,    0.05,3,    1.54,2,-999.000,9,-999.000,9,  -999.0,9,  -999.0,9,   0.236,2,   1.8400,2,   -0.10,2, -999.00,9,  -999.0,9,  -999.0,   7.911,2,   0.018,     -999.0,   0.0040,   0.150,     6.7253,   0.004
  316N138_4,       P06C,     103,          1,         23,        123,2,19920609,       1930,   -32.4983,  -132.0043,       4262,   660.9,   6.2702,  34.3356,2,  34.3417,2,    242.9,2,   240.6,2,    8.88,2,   23.45,2,    0.04,3,    1.63,2,-999.000,9,-999.000,9,  -999.0,9,  -999.0,9,   0.157,2,   1.8450,2,    0.03,2, -999.00,9,  -999.0,9,  -999.0,   7.943,2,   0.018,     -999.0,   0.0040,   0.150,     6.2105,   0.002
  316N138_4,       P06C,     103,          1,         22,        128,2,19920609,       1930,   -32.4983,  -132.0043,       4262,   759.9,   5.8376,  34.3110,2,  34.3115,2,    238.0,2,   233.2,2,   11.52,2,   24.97,2,    0.02,3,    1.73,2,-999.000,9,-999.000,9,  -999.0,9,  -999.0,9,   0.120,2,   1.8410,2,    0.09,2, -999.00,9,  -999.0,9,  -999.0,   7.924,2,   0.018,     -999.0,   0.0040,   0.150,     5.7710,   0.002
  316N138_4,       P06C,     103,          1,         21,        121,2,19920609,       1930,   -32.4983,  -132.0043,       4262,   859.4,   5.3393,  34.2984,2,  34.3011,2,    226.6,2,   224.9,2,   16.43,2,   27.07,2,    0.00,2,    1.86,2,-999.000,9,-999.000,9,  -999.0,9,  -999.0,9,   0.106,2,   1.8550,2,    0.73,2, -999.00,9,  -999.0,9,  -999.0,   8.011,2,   0.018,     -999.0,   0.0040,   0.150,     5.2666,   0.004
  316N138_4,       P06C,     103,          1,         20,        120,2,19920609,       1930,   -32.4983,  -132.0043,       4262,   960.2,   4.7903,  34.3021,2,  34.3060,2,    209.7,2,   210.1,2,   23.44,2,   29.33,2,    0.00,2,    2.01,2,-999.000,9,-999.000,9,  -999.0,9,  -999.0,9,-999.000,9,-999.0000,9, -999.00,9, -999.00,9,  -999.0,9,  -999.0,-999.000,9,-999.000,     -999.0,-999.0000,-999.000,     4.7125,-999.000
  316N138_4,       P06C,     103,          1,         19,        133,2,19920609,       1930,   -32.4983,  -132.0043,       4262,  1008.3,   4.5032,  34.3233,2,  34.3219,2,    200.2,2,   201.8,2,   28.53,2,   30.50,2,    0.00,2,    2.09,2,-999.000,9,-999.000,9,  -999.0,9,  -999.0,9,   0.029,2,   1.8560,2,    2.33,2, -999.00,9,  -999.0,9,  -999.0,   8.065,2,   0.018,     -999.0,   0.0040,   0.150,     4.4233,   0.002
  316N138_4,       P06C,     103,          1,         18,        118,2,19920609,       1930,   -32.4983,  -132.0043,       4262,  1107.2,   3.9763,  34.3523,2,  34.3533,2,    188.1,2,   189.7,2,   39.58,2,   32.43,2,    0.00,2,    2.23,2,-999.000,9,-999.000,9,  -999.0,9,  -999.0,9,   0.015,2,   1.8760,2,    4.19,2, -999.00,9,  -999.0,9,  -999.0,   8.145,2,   0.019,     -999.0,   0.0040,   0.150,     3.8922,   0.002
  316N138_4,       P06C,     103,          1,         17,        117,2,19920609,       1930,   -32.4983,  -132.0043,       4262,  1256.6,   3.3045,  34.4291,2,  34.4247,2,    174.4,2,   173.0,2,   56.94,2,   34.10,2,   -0.01,2,    2.35,2,-999.000,9,-999.000,9,  -999.0,9,  -999.0,9,   0.003,2,   1.8920,2,    7.86,2, -999.00,9,  -999.0,9,  -999.0,   8.121,2,   0.019,     -999.0,   0.0040,   0.150,     3.2138,   0.001
  316N138_4,       P06C,     103,          1,         16,        116,2,19920609,       1930,   -32.4983,  -132.0043,       4262,  1448.3,   2.7770,  34.5176,2,  34.5166,2,    165.8,2,   164.5,2,   75.87,2,   34.76,2,   -0.01,2,    2.42,2,-999.000,9,-999.000,9,  -999.0,9,  -999.0,9,  -0.002,2,   1.9180,2,   12.05,2, -999.00,9,  -999.0,9,  -999.0,   8.264,2,   0.019,     -999.0,   0.0040,   0.150,     2.6761,   0.001
  316N138_4,       P06C,     103,          1,         15,        115,2,19920609,       1930,   -32.4983,  -132.0043,       4262,  1648.9,   2.4382,  34.5829,2,  34.5849,2,    160.3,2,   158.6,2,   92.70,2,   34.98,2,    0.00,2,    2.46,2,-999.000,9,-999.000,9,  -999.0,9,  -999.0,9,   0.001,2,   1.9350,2,   16.88,2, -999.00,9,  -999.0,9,  -999.0,   8.276,2,   0.019,     -999.0,   0.0040,   0.150,     2.3248,   0.002
  316N138_4,       P06C,     103,          1,         14,        114,2,19920609,       1930,   -32.4983,  -132.0043,       4262,  1856.6,   2.2206,  34.6178,2,  34.6181,2,    156.2,2,   155.3,2,  104.27,2,   35.19,2,   -0.01,2,    2.47,2,-999.000,9,-999.000,9,  -999.0,9,  -999.0,9,  -0.004,2,   1.9560,2,   19.45,2, -999.00,9,  -999.0,9,  -999.0,   8.288,2,   0.019,     -999.0,   0.0040,   0.150,     2.0929,   0.002
  316N138_4,       P06C,     103,          1,         13,        125,2,19920609,       1930,   -32.4983,  -132.0043,       4262,  2063.3,   2.0261,  34.6406,2,  34.6392,2,    155.2,2,   155.1,2,  113.38,2,   35.31,2,    0.00,2,    2.50,2,-999.000,9,-999.000,9,  -999.0,9,  -999.0,9,-999.000,9,-999.0000,9, -999.00,9, -999.00,9,  -999.0,9,  -999.0,-999.000,9,-999.000,     -999.0,-999.0000,-999.000,     1.8838,-999.000
  316N138_4,       P06C,     103,          1,         12,        112,2,19920609,       1930,   -32.4983,  -132.0043,       4262,  2275.2,   1.9149,  34.6510,2,  34.6515,2,    155.8,2,   155.5,2,  118.30,2,   35.36,2,    0.00,2,    2.50,2,-999.000,9,-999.000,9,  -999.0,9,  -999.0,9,-999.000,9,-999.0000,9, -999.00,9, -999.00,9,  -999.0,9,  -999.0,-999.000,9,-999.000,     -999.0,-999.0000,-999.000,     1.7562,-999.000
  316N138_4,       P06C,     103,          1,         11,        129,2,19920609,       1930,   -32.4983,  -132.0043,       4262,  2480.0,   1.8198,  34.6603,2,  34.6596,2,    157.4,2,   157.7,2,  121.11,2,   35.27,2,    0.00,2,    2.50,2,-999.000,9,-999.000,9,  -999.0,9,  -999.0,9,-999.000,9,-999.0000,9, -999.00,9, -999.00,9,  -999.0,9,  -999.0,-999.000,9,-999.000,     -999.0,-999.0000,-999.000,     1.6446,-999.000
  316N138_4,       P06C,     103,          1,         10,        110,2,19920609,       1930,   -32.4983,  -132.0043,       4262,  2680.4,   1.7372,  34.6665,2,  34.6655,2,    160.1,2,   160.3,2,  122.51,2,   35.04,2,   -0.01,2,    2.48,2,-999.000,9,-999.000,9,  -999.0,9,  -999.0,9,-999.000,9,-999.0000,9, -999.00,9, -999.00,9,  -999.0,9,  -999.0,-999.000,9,-999.000,     -999.0,-999.0000,-999.000,     1.5454,-999.000
  316N138_4,       P06C,     103,          1,          9,        126,2,19920609,       1930,   -32.4983,  -132.0043,       4262,  2884.0,   1.6895,  34.6724,2,  34.6704,2,    162.8,2,   162.7,2,  123.05,2,   34.89,2,    0.00,2,    2.46,2,-999.000,9,-999.000,9,  -999.0,9,  -999.0,9,-999.000,9,-999.0000,9, -999.00,9, -999.00,9,  -999.0,9,  -999.0,-999.000,9,-999.000,     -999.0,-999.0000,-999.000,     1.4796,-999.000
  316N138_4,       P06C,     103,          1,          8,        108,2,19920609,       1930,   -32.4983,  -132.0043,       4262,  3082.7,   1.6500,  34.6754,2,  34.6759,2,    165.1,2,   165.3,2,  123.40,2,   34.76,2,   -0.01,2,    2.45,2,-999.000,9,-999.000,9,  -999.0,9,  -999.0,9,-999.000,9,-999.0000,9, -999.00,9, -999.00,9,  -999.0,9,  -999.0,-999.000,9,-999.000,     -999.0,-999.0000,-999.000,     1.4220,-999.000
  316N138_4,       P06C,     103,          1,          7,        107,2,19920609,       1930,   -32.4983,  -132.0043,       4262,  3288.6,   1.6151,  34.6800,2,  34.6785,2,    168.1,2,   167.8,2,  123.24,2,   34.60,2,    0.00,2,    2.44,2,-999.000,9,-999.000,9,  -999.0,9,  -999.0,9,-999.000,9,-999.0000,9, -999.00,9, -999.00,9,  -999.0,9,  -999.0,-999.000,9,-999.000,     -999.0,-999.0000,-999.000,     1.3676,-999.000
  316N138_4,       P06C,     103,          1,          6,        180,2,19920609,       1930,   -32.4983,  -132.0043,       4262,  3497.5,   1.5843,  34.6831,2,  34.6924,3,    170.5,2,   170.5,2,  123.06,2,   34.37,2,    0.00,2,    2.42,2,-999.000,9,-999.000,9,  -999.0,9,  -999.0,9,-999.000,9,-999.0000,9, -999.00,9, -999.00,9,  -999.0,9,  -999.0,-999.000,9,-999.000,     -999.0,-999.0000,-999.000,     1.3163,-999.000
  316N138_4,       P06C,     103,          1,          5,        131,2,19920609,       1930,   -32.4983,  -132.0043,       4262,  3702.5,   1.5545,  34.6868,2,  34.6930,3,    173.7,2,   172.9,2,  122.72,2,   34.13,2,    0.00,2,    2.41,2,-999.000,9,-999.000,9,  -999.0,9,  -999.0,9,-999.000,9,-999.0000,9, -999.00,9, -999.00,9,  -999.0,9,  -999.0,-999.000,9,-999.000,     -999.0,-999.0000,-999.000,     1.2659,-999.000
  316N138_4,       P06C,     103,          1,          4,        104,2,19920609,       1930,   -32.4983,  -132.0043,       4262,  3906.7,   1.4796,  34.6936,2,  34.6908,2,    178.0,2,   178.1,2,  121.85,2,   33.80,2,    0.00,2,    2.38,2,-999.000,9,-999.000,9,  -999.0,9,  -999.0,9,-999.000,9,-999.0000,9, -999.00,9, -999.00,9,  -999.0,9,  -999.0,-999.000,9,-999.000,     -999.0,-999.0000,-999.000,     1.1713,-999.000
  316N138_4,       P06C,     103,          1,          3,        130,2,19920609,       1930,   -32.4983,  -132.0043,       4262,  4112.4,   1.3833,  34.7007,2,  34.7020,2,    184.7,2,   186.3,2,  120.45,2,   33.33,2,    0.00,2,    2.34,2,-999.000,9,-999.000,9,  -999.0,9,  -999.0,9,-999.000,9,-999.0000,9, -999.00,9, -999.00,9,  -999.0,9,  -999.0,-999.000,9,-999.000,     -999.0,-999.0000,-999.000,     1.0553,-999.000
  316N138_4,       P06C,     103,          1,          2,        135,2,19920609,       1930,   -32.4983,  -132.0043,       4262,  4312.9,   1.3451,  34.7037,2,  34.7046,2,    188.3,2,   188.8,2,  119.75,2,   33.09,2,    0.00,2,    2.32,2,-999.000,9,-999.000,9,  -999.0,9,  -999.0,9,-999.000,9,-999.0000,9, -999.00,9, -999.00,9,  -999.0,9,  -999.0,-999.000,9,-999.000,     -999.0,-999.0000,-999.000,     0.9960,-999.000
  316N138_4,       P06C,     103,          1,          1,        134,2,19920609,       1930,   -32.4983,  -132.0043,       4262,  4323.6,   1.3456,  34.7040,2,  34.7062,2,    188.9,2,   187.1,2,  119.58,2,   33.06,2,    0.01,2,    2.31,2,-999.000,9,-999.000,9,  -999.0,9,  -999.0,9,-999.000,9,-999.0000,9, -999.00,9, -999.00,9,  -999.0,9,  -999.0,-999.000,9,-999.000,     -999.0,-999.0000,-999.000,     0.9953,-999.000