BOTTLE,20211025CCHSIORKP
EXPOCODE,SECT_ID,STNNBR,CASTNO,SAMPNO,BTLNBR,BTLNBR_FLAG_W,DATE,TIME,LATITUDE,LONGITUDE,DEPTH,CTDPRS,CTDTMP,CTDSAL,CTDSAL_FLAG_W,SALNTY,SALNTY_FLAG_W,CTDOXY,CTDOXY_FLAG_W,OXYGEN,OXYGEN_FLAG_W,SILCAT,SILCAT_FLAG_W,NITRAT,NITRAT_FLAG_W,NITRIT,NITRIT_FLAG_W,PHSPHT,PHSPHT_FLAG_W,CFC-11,CFC-11_FLAG_W,CFC-12,CFC-12_FLAG_W,TCARBN,TCARBN_FLAG_W,PCO2,PCO2_FLAG_W,TRITUM,TRITUM_FLAG_W,HELIUM,HELIUM_FLAG_W,DELHE3,DELHE3_FLAG_W,DELC13,DELC13_FLAG_W,DELC14,DELC14_FLAG_W,C14ERR,NEON,NEON_FLAG_W,NEONER,PCO2TMP,HELIER,DELHER,THETA,TRITER
,,,,,,,,,,,METERS,DBAR,ITS-90,PSS-78,,PSS-78,,UMOL/KG,,UMOL/KG,,UMOL/KG,,UMOL/KG,,UMOL/KG,,UMOL/KG,,PMOL/KG,,PMOL/KG,,UMOL/KG,,UATM,,TU,,NMOL/KG,,PERCNT,,/MILLE,,/MILLE,,/MILLE,NMOL/KG,,NMOL/KG,DEG_C,NMOL/KG,PERCNT,ITS-90,TU
  316N138_4,       P06C,     148,          1,         36,    02-9121,2,19920625,       0213,   -32.5118,  -165.1632,       6341,    24.3,  16.5663,  35.3801,2,-999.0000,9,    238.1,2,  -999.0,9, -999.00,9, -999.00,9, -999.00,9, -999.00,9,-999.000,5,-999.000,5,  -999.0,9,  -999.0,9,-999.000,9,-999.0000,9, -999.00,9, -999.00,9,  -999.0,9,  -999.0,-999.000,9,-999.000,     -999.0,-999.0000,-999.000,    16.5624,-999.000
  316N138_4,       P06C,     148,          1,         35,    02-9454,2,19920625,       0213,   -32.5118,  -165.1632,       6341,    63.2,  16.5701,  35.3808,2,  35.3798,2,    232.4,2,   238.9,2,    0.61,2,    0.06,2,    0.00,2,    0.18,2,-999.000,5,-999.000,5,  2040.1,6,  -999.0,9,-999.000,9,-999.0000,9, -999.00,9,    1.36,2,   102.1,2,     5.6,-999.000,9,-999.000,     -999.0,-999.0000,-999.000,    16.5599,-999.000
  316N138_4,       P06C,     148,          1,         34,    02-9457,2,19920625,       0213,   -32.5118,  -165.1632,       6341,   113.3,  15.2820,  35.3075,2,  35.3058,2,    227.2,2,   227.4,2,    0.91,2,    1.48,2,    0.08,2,    0.34,2,-999.000,5,-999.000,5,  2062.4,2,  -999.0,9,-999.000,9,-999.0000,9, -999.00,9,    1.21,2,   103.2,2,     6.2,-999.000,9,-999.000,     -999.0,-999.0000,-999.000,    15.2646,-999.000
  316N138_4,       P06C,     148,          1,         33,    02-5367,2,19920625,       0213,   -32.5118,  -165.1632,       6341,   212.6,  12.7020,  35.0493,2,  35.0439,2,    203.2,2,   204.0,2,    2.57,2,    9.99,2,    0.00,2,    0.80,2,-999.000,5,-999.000,5,  2101.0,2,  -999.0,9,-999.000,9,-999.0000,9, -999.00,9,    1.04,2,    84.6,2,     4.1,-999.000,9,-999.000,     -999.0,-999.0000,-999.000,    12.6731,-999.000
  316N138_4,       P06C,     148,          1,         32,    02-9540,2,19920625,       0213,   -32.5118,  -165.1632,       6341,   413.3,   8.7968,  34.5875,2,  34.5849,2,    217.2,2,   218.5,2,    4.97,2,   18.22,2,    0.00,2,    1.30,2,-999.000,5,-999.000,5,  2126.6,2,  -999.0,9,-999.000,9,-999.0000,9, -999.00,9,    1.15,2,    33.0,2,     3.5,-999.000,9,-999.000,     -999.0,-999.0000,-999.000,     8.7522,-999.000
  316N138_4,       P06C,     148,          1,         31,    02-9539,2,19920625,       0213,   -32.5118,  -165.1632,       6341,   513.4,   7.7965,  34.4860,2,  34.4803,2,    225.8,2,   228.3,2,    5.88,2,   20.52,2,    0.00,2,    1.43,2,-999.000,5,-999.000,5,  2129.8,2,  -999.0,9,-999.000,9,-999.0000,9, -999.00,9,    1.11,2,    27.3,2,     3.1,-999.000,9,-999.000,     -999.0,-999.0000,-999.000,     7.7446,-999.000
  316N138_4,       P06C,     148,          1,         30,    02-9456,2,19920625,       0213,   -32.5118,  -165.1632,       6341,   613.7,   7.0965,  34.4196,2,  34.4192,2,    231.7,2,   236.3,2,    6.94,2,   21.81,2,    0.00,2,    1.50,2,-999.000,5,-999.000,5,  2131.6,2,  -999.0,9,-999.000,9,-999.0000,9, -999.00,9,    1.25,2,    10.6,2,     3.0,-999.000,9,-999.000,     -999.0,-999.0000,-999.000,     7.0374,-999.000
  316N138_4,       P06C,     148,          1,         29,    02-9458,2,19920625,       0213,   -32.5118,  -165.1632,       6341,   714.5,   6.5336,  34.3751,2,  34.3715,2,    233.9,2,   242.7,4,    9.34,2,   23.65,2,    0.00,2,    1.62,2,-999.000,5,-999.000,5,  2137.7,2,  -999.0,9,-999.000,9,-999.0000,9, -999.00,9,    0.72,3,   -33.7,2,     4.3,-999.000,9,-999.000,     -999.0,-999.0000,-999.000,     6.4673,-999.000
  316N138_4,       P06C,     148,          1,         28,    02-9545,2,19920625,       0213,   -32.5118,  -165.1632,       6341,   815.2,   5.9621,  34.3370,2,  34.3378,2,    231.2,2,   228.2,2,   12.80,2,   25.65,2,    0.01,2,    1.74,2,-999.000,5,-999.000,5,  2148.1,6,  -999.0,9,-999.000,9,-999.0000,9, -999.00,9,    1.16,2,   -42.8,2,     4.6,-999.000,9,-999.000,     -999.0,-999.0000,-999.000,     5.8895,-999.000
  316N138_4,       P06C,     148,          1,         27,    02-9453,2,19920625,       0213,   -32.5118,  -165.1632,       6341,  1017.8,   4.9007,  34.3548,2,  34.3513,2,    206.6,3,   199.0,2,   28.39,2,   30.08,2,    0.01,2,    2.05,2,-999.000,5,-999.000,5,  2183.0,2,  -999.0,9,-999.000,9,-999.0000,9, -999.00,9,    0.80,2,   -79.3,2,     2.9,-999.000,9,-999.000,     -999.0,-999.0000,-999.000,     4.8168,-999.000
  316N138_4,       P06C,     148,          1,         26,    02-9544,2,19920625,       0213,   -32.5118,  -165.1632,       6341,  1218.0,   3.6742,  34.3910,2,  34.3894,2,    188.4,2,   185.7,2,   47.29,2,   33.16,2,    0.01,2,    2.27,2,-999.000,5,-999.000,5,  2214.6,2,  -999.0,9,-999.000,9,-999.0000,9, -999.00,9,    0.56,2,  -112.1,2,     2.9,-999.000,9,-999.000,     -999.0,-999.0000,-999.000,     3.5833,-999.000
  316N138_4,       P06C,     148,          1,         25,    02-9455,2,19920625,       0213,   -32.5118,  -165.1632,       6341,  1218.1,   3.6742,  34.3910,2,  34.3851,2,    188.4,2,   184.4,2,   45.64,2,   33.08,2,    0.01,2,    2.27,2,-999.000,5,-999.000,5,  2213.8,2,  -999.0,9,-999.000,9,-999.0000,9, -999.00,9,    0.54,2,  -107.9,2,     2.9,-999.000,9,-999.000,     -999.0,-999.0000,-999.000,     3.5833,-999.000
  316N138_4,       P06C,     148,          1,         23,        123,2,19920625,       0213,   -32.5118,  -165.1632,       6341,  1814.5,   2.4273,  34.6085,2,  34.6060,2,    153.6,2,   155.6,2,  102.15,2,   35.53,2,    0.02,2,    2.51,2,-999.000,5,-999.000,5,  2286.0,2,  -999.0,9,-999.000,9,-999.0000,9, -999.00,9,    0.16,2,  -198.7,2,     3.0,-999.000,9,-999.000,     -999.0,-999.0000,-999.000,     2.3002,-999.000
  316N138_4,       P06C,     148,          1,         22,        128,2,19920625,       0213,   -32.5118,  -165.1632,       6341,  2014.1,   2.2680,  34.6272,2,  34.6262,2,    149.8,2,   149.1,2,  111.29,2,   35.82,2,    0.02,2,    2.53,2,-999.000,5,-999.000,5,  2296.9,2,  -999.0,9,-999.000,9,-999.0000,9, -999.00,9,    0.07,2,  -196.4,2,     2.7,-999.000,9,-999.000,     -999.0,-999.0000,-999.000,     2.1263,-999.000
  316N138_4,       P06C,     148,          1,         21,        121,2,19920625,       0213,   -32.5118,  -165.1632,       6341,  2362.4,   2.0473,  34.6472,2,  34.6445,2,    146.8,2,   146.6,2,  121.93,2,   36.19,2,    0.02,2,    2.56,2,-999.000,5,-999.000,5,  2308.2,2,  -999.0,9,-999.000,9,-999.0000,9, -999.00,9,   -0.01,2,  -224.5,6,     5.3,-999.000,9,-999.000,     -999.0,-999.0000,-999.000,     1.8786,-999.000
  316N138_4,       P06C,     148,          1,         20,        120,2,19920625,       0213,   -32.5118,  -165.1632,       6341,  2518.8,   1.9749,  34.6536,2,  34.6519,2,    146.9,2,   147.9,2,  125.08,2,   36.24,2,    0.02,2,    2.58,2,-999.000,5,-999.000,5,  2310.8,2,  -999.0,9,-999.000,9,-999.0000,9, -999.00,9,    0.01,2,  -222.6,2,     2.5,-999.000,9,-999.000,     -999.0,-999.0000,-999.000,     1.7934,-999.000
  316N138_4,       P06C,     148,          1,         19,        133,2,19920625,       0213,   -32.5118,  -165.1632,       6341,  2770.6,   1.8805,  34.6617,2,  34.6608,2,    147.5,2,   147.7,2,  128.53,2,   36.12,2,    0.01,2,    2.56,2,-999.000,5,-999.000,5,  2314.4,2,  -999.0,9,-999.000,9,-999.0000,9, -999.00,9,   -0.03,2,  -230.8,2,     3.3,-999.000,9,-999.000,     -999.0,-999.0000,-999.000,     1.6775,-999.000
  316N138_4,       P06C,     148,          1,         18,        118,2,19920625,       0213,   -32.5118,  -165.1632,       6341,  3023.9,   1.7892,  34.6729,2,  34.6722,2,    152.4,2,   151.8,2,  129.13,2,   35.66,2,    0.02,2,    2.54,2,-999.000,5,-999.000,5,  2310.5,6,  -999.0,9,-999.000,9,-999.0000,9, -999.00,9,    0.02,2,  -215.2,2,     2.6,-999.000,9,-999.000,     -999.0,-999.0000,-999.000,     1.5637,-999.000
  316N138_4,       P06C,     148,          1,         17,        117,2,19920625,       0213,   -32.5118,  -165.1632,       6341,  3226.4,   1.7128,  34.6860,2,  34.6859,2,    162.3,2,   162.0,2,  124.49,2,   34.74,2,    0.01,2,    2.47,2,-999.000,5,-999.000,5,  2299.7,2,  -999.0,9,-999.000,9,-999.0000,9, -999.00,9,    0.12,2,  -207.0,2,     2.7,-999.000,9,-999.000,     -999.0,-999.0000,-999.000,     1.4690,-999.000
  316N138_4,       P06C,     148,          1,         16,        116,2,19920625,       0213,   -32.5118,  -165.1632,       6341,  3432.6,   1.6285,  34.6985,2,  34.6977,2,    172.6,2,   172.4,2,  119.84,2,   33.86,2,    0.01,2,    2.39,2,-999.000,5,-999.000,5,  2288.9,2,  -999.0,9,-999.000,9,-999.0000,9, -999.00,9,    0.12,2,  -199.0,6,     2.3,-999.000,9,-999.000,     -999.0,-999.0000,-999.000,     1.3660,-999.000
  316N138_4,       P06C,     148,          1,         15,        115,2,19920625,       0213,   -32.5118,  -165.1632,       6341,  3636.9,   1.5406,  34.7109,2,  34.7117,2,    185.2,2,   184.4,2,  113.86,2,   32.81,2,    0.01,2,    2.32,2,-999.000,5,-999.000,5,  2272.9,2,  -999.0,9,-999.000,9,-999.0000,9, -999.00,9,    0.17,2,  -184.3,2,     3.9,-999.000,9,-999.000,     -999.0,-999.0000,-999.000,     1.2591,-999.000
  316N138_4,       P06C,     148,          1,         14,        114,2,19920625,       0213,   -32.5118,  -165.1632,       6341,  3838.6,   1.4276,  34.7173,2,  34.7172,2,    194.9,2,   193.5,2,  111.77,2,   32.24,2,    0.00,2,    2.27,2,  -0.002,2,  -0.003,2,  2263.7,2,  -999.0,9,-999.000,9,-999.0000,9, -999.00,9,    0.22,2,  -167.1,3,     2.8,-999.000,9,-999.000,     -999.0,-999.0000,-999.000,     1.1278,-999.000
  316N138_4,       P06C,     148,          1,         13,        125,2,19920625,       0213,   -32.5118,  -165.1632,       6341,  3838.6,   1.4276,  34.7173,2,  34.7184,2,    194.9,2,   194.3,3,  111.47,2,   32.24,2,    0.00,2,    2.28,2,-999.000,5,-999.000,5,  2263.2,2,  -999.0,9,-999.000,9,-999.0000,9, -999.00,9,    0.20,2,  -177.9,2,     3.4,-999.000,9,-999.000,     -999.0,-999.0000,-999.000,     1.1278,-999.000
  316N138_4,       P06C,     148,          1,         12,        112,2,19920625,       0213,   -32.5118,  -165.1632,       6341,  4292.9,   1.1193,  34.7148,2,  34.7146,2,    205.3,2,   205.0,2,  116.57,2,   32.15,2,    0.01,2,    2.27,2,-999.000,5,-999.000,5,  2259.9,2,  -999.0,9,-999.000,9,-999.0000,9, -999.00,9,    0.24,2,  -155.8,4,     2.7,-999.000,9,-999.000,     -999.0,-999.0000,-999.000,     0.7792,-999.000
  316N138_4,       P06C,     148,          1,         11,        129,2,19920625,       0213,   -32.5118,  -165.1632,       6341,  4543.7,   1.0301,  34.7102,2,  34.7103,2,    207.3,2,   207.2,2,  119.72,2,   32.27,2,    0.01,2,    2.28,2,-999.000,5,-999.000,5,  2260.5,2,  -999.0,9,-999.000,9,-999.0000,9, -999.00,9,    0.23,2,  -167.0,2,     2.5,-999.000,9,-999.000,     -999.0,-999.0000,-999.000,     0.6646,-999.000
  316N138_4,       P06C,     148,          1,         10,        110,2,19920625,       0213,   -32.5118,  -165.1632,       6341,  4543.7,   1.0301,  34.7102,2,  34.7099,2,    207.3,2,   205.9,2,  119.87,2,   32.31,2,    0.01,2,    2.28,2,-999.000,5,-999.000,5,  2260.1,2,  -999.0,9,-999.000,9,-999.0000,9, -999.00,9, -999.00,9,  -999.0,9,  -999.0,-999.000,9,-999.000,     -999.0,-999.0000,-999.000,     0.6646,-999.000
  316N138_4,       P06C,     148,          1,          9,        126,2,19920625,       0213,   -32.5118,  -165.1632,       6341,  4794.6,   1.0026,  34.7077,2,  34.7085,2,    207.4,2,   207.1,2,  121.07,2,   32.35,2,    0.01,2,    2.29,2,-999.000,5,-999.000,5,  2261.2,2,  -999.0,9,-999.000,9,-999.0000,9, -999.00,9,    0.25,2,  -164.1,2,     2.9,-999.000,9,-999.000,     -999.0,-999.0000,-999.000,     0.6093,-999.000
  316N138_4,       P06C,     148,          1,          8,        108,2,19920625,       0213,   -32.5118,  -165.1632,       6341,  5049.1,   1.0089,  34.7070,2,  34.7066,2,    208.0,2,   208.0,2,  121.52,2,   32.39,2,    0.01,2,    2.29,2,-999.000,5,-999.000,5,  2260.9,2,  -999.0,9,-999.000,9,-999.0000,9, -999.00,9,    0.21,2,  -163.1,2,     2.6,-999.000,9,-999.000,     -999.0,-999.0000,-999.000,     0.5853,-999.000
  316N138_4,       P06C,     148,          1,          7,        107,2,19920625,       0213,   -32.5118,  -165.1632,       6341,  5247.0,   1.0259,  34.7068,2,  34.7076,2,    208.6,2,   208.1,2,  121.84,2,   32.43,2,    0.01,2,    2.29,2,-999.000,5,-999.000,5,  2261.1,2,  -999.0,9,-999.000,9,-999.0000,9, -999.00,9,    0.28,2,  -162.6,2,     2.3,-999.000,9,-999.000,     -999.0,-999.0000,-999.000,     0.5778,-999.000
  316N138_4,       P06C,     148,          1,          6,        180,2,19920625,       0213,   -32.5118,  -165.1632,       6341,  5457.6,   1.0507,  34.7066,2,  34.7058,2,    208.3,2,   208.1,2,  121.84,2,   32.44,2,    0.00,2,    2.28,2,-999.000,5,-999.000,5,  2260.8,2,  -999.0,9,-999.000,9,-999.0000,9, -999.00,9,    0.23,2,  -159.8,2,     3.2,-999.000,9,-999.000,     -999.0,-999.0000,-999.000,     0.5758,-999.000
  316N138_4,       P06C,     148,          1,          5,        131,2,19920625,       0213,   -32.5118,  -165.1632,       6341,  5664.9,   1.0773,  34.7063,2,  34.7072,2,    208.2,2,   210.7,3,  121.84,2,   32.48,2,    0.00,2,    2.29,2,   0.022,2,   0.005,2,  2266.6,3,  -999.0,9,-999.000,9,-999.0000,9, -999.00,9,    0.27,2,  -154.3,2,     2.7,-999.000,9,-999.000,     -999.0,-999.0000,-999.000,     0.5753,-999.000
  316N138_4,       P06C,     148,          1,          4,        104,2,19920625,       0213,   -32.5118,  -165.1632,       6341,  5866.0,   1.1040,  34.7070,2,  34.7062,2,    208.6,2,   207.1,2,  121.69,2,   32.43,2,    0.01,2,    2.28,2,   0.020,2,   0.013,2,  2261.7,2,  -999.0,9,-999.000,9,-999.0000,9, -999.00,9, -999.00,9,  -999.0,9,  -999.0,-999.000,9,-999.000,     -999.0,-999.0000,-999.000,     0.5750,-999.000
  316N138_4,       P06C,     148,          1,          3,        130,2,19920625,       0213,   -32.5118,  -165.1632,       6341,  6069.3,   1.1318,  34.7071,2,  34.7060,2,    208.7,2,   208.0,2,  122.00,2,   32.43,2,    0.01,2,    2.27,2,   0.017,2,   0.011,2,  2262.0,2,  -999.0,9,-999.000,9,-999.0000,9, -999.00,9,    0.26,2,  -153.1,2,     3.4,-999.000,9,-999.000,     -999.0,-999.0000,-999.000,     0.5751,-999.000
  316N138_4,       P06C,     148,          1,          2,        135,2,19920625,       0213,   -32.5118,  -165.1632,       6341,  6279.6,   1.1611,  34.7069,2,  34.7056,2,    208.7,2,   210.3,3,  122.15,2,   32.40,2,    0.00,2,    2.28,2,   0.023,2,-999.000,9,  2262.5,2,  -999.0,9,-999.000,9,-999.0000,9, -999.00,9, -999.00,9,  -999.0,9,  -999.0,-999.000,9,-999.000,     -999.0,-999.0000,-999.000,     0.5751,-999.000
  316N138_4,       P06C,     148,          1,         24,        132,2,19920625,       0213,   -32.5118,  -165.1632,       6341,  6458.8,   1.1862,  34.7071,2,  34.7064,2,    208.7,2,   207.2,2,  122.22,2,   32.39,2,    0.02,2,    2.29,2,-999.000,5,-999.000,5,  2260.4,2,  -999.0,9,-999.000,9,-999.0000,9, -999.00,9,    0.25,2,  -161.9,2,     3.7,-999.000,9,-999.000,     -999.0,-999.0000,-999.000,     0.5747,-999.000
  316N138_4,       P06C,     148,          1,          1,        134,2,19920625,       0213,   -32.5118,  -165.1632,       6341,  6459.0,   1.1862,  34.7071,2,  34.7074,2,    208.7,2,   208.0,2,  122.31,2,   32.33,2,    0.00,2,    2.27,2,   0.020,2,   0.012,2,  2261.1,6,  -999.0,9,-999.000,9,-999.0000,9, -999.00,9,    0.24,2,  -152.6,2,     2.6,-999.000,9,-999.000,     -999.0,-999.0000,-999.000,     0.5747,-999.000