BOTTLE,20211025CCHSIORKP
EXPOCODE,SECT_ID,STNNBR,CASTNO,SAMPNO,BTLNBR,BTLNBR_FLAG_W,DATE,TIME,LATITUDE,LONGITUDE,DEPTH,CTDPRS,CTDTMP,CTDSAL,CTDSAL_FLAG_W,SALNTY,SALNTY_FLAG_W,CTDOXY,CTDOXY_FLAG_W,OXYGEN,OXYGEN_FLAG_W,SILCAT,SILCAT_FLAG_W,NITRAT,NITRAT_FLAG_W,NITRIT,NITRIT_FLAG_W,PHSPHT,PHSPHT_FLAG_W,CFC-11,CFC-11_FLAG_W,CFC-12,CFC-12_FLAG_W,TCARBN,TCARBN_FLAG_W,PCO2,PCO2_FLAG_W,TRITUM,TRITUM_FLAG_W,HELIUM,HELIUM_FLAG_W,DELHE3,DELHE3_FLAG_W,DELC13,DELC13_FLAG_W,DELC14,DELC14_FLAG_W,C14ERR,NEON,NEON_FLAG_W,NEONER,PCO2TMP,HELIER,DELHER,THETA,TRITER
,,,,,,,,,,,METERS,DBAR,ITS-90,PSS-78,,PSS-78,,UMOL/KG,,UMOL/KG,,UMOL/KG,,UMOL/KG,,UMOL/KG,,UMOL/KG,,PMOL/KG,,PMOL/KG,,UMOL/KG,,UATM,,TU,,NMOL/KG,,PERCNT,,/MILLE,,/MILLE,,/MILLE,NMOL/KG,,NMOL/KG,DEG_C,NMOL/KG,PERCNT,ITS-90,TU
  316N138_4,       P06C,      81,          1,         36,    02-9121,2,19920603,       1320,   -32.5002,  -117.3335,       3270,    20.3,  19.8007,  35.2126,2,  35.2168,2,    295.2,3,   227.6,2,    0.22,2,    0.01,2,    0.00,2,    0.12,2,-999.000,9,-999.000,9,  -999.0,9,  -999.0,9,-999.000,9,-999.0000,9, -999.00,9, -999.00,9,  -999.0,9,  -999.0,-999.000,9,-999.000,     -999.0,-999.0000,-999.000,    19.7970,-999.000
  316N138_4,       P06C,      81,          1,         35,    02-9454,2,19920603,       1320,   -32.5002,  -117.3335,       3270,    61.8,  19.8056,  35.2125,2,  35.2128,2,    226.6,2,   226.9,2,    0.23,2,    0.01,2,    0.00,2,    0.12,2,-999.000,9,-999.000,9,  -999.0,9,  -999.0,9,-999.000,9,-999.0000,9, -999.00,9, -999.00,9,  -999.0,9,  -999.0,-999.000,9,-999.000,     -999.0,-999.0000,-999.000,    19.7943,-999.000
  316N138_4,       P06C,      81,          1,         34,    02-9457,2,19920603,       1320,   -32.5002,  -117.3335,       3270,    90.7,  19.7162,  35.2456,2,  35.2416,2,    231.0,2,   229.6,2,    0.23,2,    0.00,2,    0.01,2,    0.13,2,-999.000,9,-999.000,9,  -999.0,9,  -999.0,9,-999.000,9,-999.0000,9, -999.00,9, -999.00,9,  -999.0,9,  -999.0,-999.000,9,-999.000,     -999.0,-999.0000,-999.000,    19.6996,-999.000
  316N138_4,       P06C,      81,          1,         33,    02-5367,2,19920603,       1320,   -32.5002,  -117.3335,       3270,   121.3,  18.0128,  35.2169,2,  35.2201,2,    236.1,2,   237.1,2,    0.24,2,    0.01,2,    0.00,2,    0.15,2,-999.000,9,-999.000,9,  -999.0,9,  -999.0,9,-999.000,9,-999.0000,9, -999.00,9, -999.00,9,  -999.0,9,  -999.0,-999.000,9,-999.000,     -999.0,-999.0000,-999.000,    17.9919,-999.000
  316N138_4,       P06C,      81,          1,         32,    02-9540,2,19920603,       1320,   -32.5002,  -117.3335,       3270,   150.2,  17.0007,  35.1295,2,  35.1329,2,    232.0,2,   229.0,2,    0.25,2,    0.07,2,    0.05,2,    0.20,2,-999.000,9,-999.000,9,  -999.0,9,  -999.0,9,-999.000,9,-999.0000,9, -999.00,9, -999.00,9,  -999.0,9,  -999.0,-999.000,9,-999.000,     -999.0,-999.0000,-999.000,    16.9759,-999.000
  316N138_4,       P06C,      81,          1,         31,    02-9539,2,19920603,       1320,   -32.5002,  -117.3335,       3270,   179.8,  16.2949,  35.0851,2,  35.0833,2,    219.9,2,   220.3,2,    0.42,2,    0.87,2,    0.16,2,    0.28,2,-999.000,9,-999.000,9,  -999.0,9,  -999.0,9,-999.000,9,-999.0000,9, -999.00,9, -999.00,9,  -999.0,9,  -999.0,-999.000,9,-999.000,     -999.0,-999.0000,-999.000,    16.2660,-999.000
  316N138_4,       P06C,      81,          1,         30,    02-9456,2,19920603,       1320,   -32.5002,  -117.3335,       3270,   209.1,  15.2616,  35.0004,2,  35.0010,2,    212.7,2,   210.6,2,    0.74,2,    3.61,2,    0.01,2,    0.45,2,-999.000,9,-999.000,9,  -999.0,9,  -999.0,9,-999.000,9,-999.0000,9, -999.00,9, -999.00,9,  -999.0,9,  -999.0,-999.000,9,-999.000,     -999.0,-999.0000,-999.000,    15.2295,-999.000
  316N138_4,       P06C,      81,          1,         29,    02-9458,2,19920603,       1320,   -32.5002,  -117.3335,       3270,   259.0,  13.5468,  34.8696,2,  34.8654,2,    206.8,2,   203.6,2,    1.23,2,    7.77,2,    0.00,2,    0.69,2,-999.000,9,-999.000,9,  -999.0,9,  -999.0,9,-999.000,9,-999.0000,9, -999.00,9, -999.00,9,  -999.0,9,  -999.0,-999.000,9,-999.000,     -999.0,-999.0000,-999.000,    13.5103,-999.000
  316N138_4,       P06C,      81,          1,         28,    02-9545,2,19920603,       1320,   -32.5002,  -117.3335,       3270,   309.3,  11.8348,  34.7121,2,  34.7011,2,    207.3,2,   204.4,2,    2.20,2,   11.85,2,    0.01,2,    0.94,2,-999.000,9,-999.000,9,  -999.0,9,  -999.0,9,-999.000,9,-999.0000,9, -999.00,9, -999.00,9,  -999.0,9,  -999.0,-999.000,9,-999.000,     -999.0,-999.0000,-999.000,    11.7947,-999.000
  316N138_4,       P06C,      81,          1,         27,    02-9453,2,19920603,       1320,   -32.5002,  -117.3335,       3270,   358.7,  10.0456,  34.5558,2,  34.5476,2,    211.9,2,   211.3,2,    3.33,2,   15.83,2,    0.00,2,    1.17,2,-999.000,9,-999.000,9,  -999.0,9,  -999.0,9,-999.000,9,-999.0000,9, -999.00,9, -999.00,9,  -999.0,9,  -999.0,-999.000,9,-999.000,     -999.0,-999.0000,-999.000,    10.0037,-999.000
  316N138_4,       P06C,      81,          1,         26,    02-9544,2,19920603,       1320,   -32.5002,  -117.3335,       3270,   409.8,   8.4557,  34.4449,2,  34.4434,2,    219.9,2,   219.3,2,    4.63,2,   19.14,2,    0.01,2,    1.37,2,-999.000,9,-999.000,9,  -999.0,9,  -999.0,9,-999.000,9,-999.0000,9, -999.00,9, -999.00,9,  -999.0,9,  -999.0,-999.000,9,-999.000,     -999.0,-999.0000,-999.000,     8.4126,-999.000
  316N138_4,       P06C,      81,          1,         25,    02-9455,2,19920603,       1320,   -32.5002,  -117.3335,       3270,   460.1,   7.6573,  34.4028,2,  34.4023,2,    227.9,2,   230.9,2,    5.44,2,   20.55,2,    0.01,2,    1.45,2,-999.000,9,-999.000,9,  -999.0,9,  -999.0,9,-999.000,9,-999.0000,9, -999.00,9, -999.00,9,  -999.0,9,  -999.0,-999.000,9,-999.000,     -999.0,-999.0000,-999.000,     7.6116,-999.000
  316N138_4,       P06C,      81,          1,         24,        132,2,19920603,       1320,   -32.5002,  -117.3335,       3270,   520.0,   7.0216,  34.3807,2,  34.3819,2,    240.1,2,   242.7,2,    6.09,2,   21.32,2,    0.00,2,    1.47,2,-999.000,9,-999.000,9,  -999.0,9,  -999.0,9,-999.000,9,-999.0000,9, -999.00,9, -999.00,9,  -999.0,9,  -999.0,-999.000,9,-999.000,     -999.0,-999.0000,-999.000,     6.9722,-999.000
  316N138_4,       P06C,      81,          1,         23,        123,2,19920603,       1320,   -32.5002,  -117.3335,       3270,   580.7,   6.5450,  34.3550,2,  34.3562,2,    246.4,2,   245.6,2,    7.37,2,   22.39,2,    0.00,2,    1.53,2,-999.000,9,-999.000,9,  -999.0,9,  -999.0,9,-999.000,9,-999.0000,9, -999.00,9, -999.00,9,  -999.0,9,  -999.0,-999.000,9,-999.000,     -999.0,-999.0000,-999.000,     6.4916,-999.000
  316N138_4,       P06C,      81,          1,         22,        128,2,19920603,       1320,   -32.5002,  -117.3335,       3270,   642.4,   6.2716,  34.3364,2,  34.3370,2,    245.6,2,   244.0,2,    8.51,2,   23.35,2,    0.01,2,    1.61,2,-999.000,9,-999.000,9,  -999.0,9,  -999.0,9,-999.000,9,-999.0000,9, -999.00,9, -999.00,9,  -999.0,9,  -999.0,-999.000,9,-999.000,     -999.0,-999.0000,-999.000,     6.2137,-999.000
  316N138_4,       P06C,      81,          1,         21,        121,2,19920603,       1320,   -32.5002,  -117.3335,       3270,   701.9,   6.0487,  34.3235,2,  34.3262,2,    244.1,2,   242.6,2,    9.64,2,   24.02,2,    0.00,2,    1.65,2,-999.000,9,-999.000,9,  -999.0,9,  -999.0,9,-999.000,9,-999.0000,9, -999.00,9, -999.00,9,  -999.0,9,  -999.0,-999.000,9,-999.000,     -999.0,-999.0000,-999.000,     5.9864,-999.000
  316N138_4,       P06C,      81,          1,         20,        120,2,19920603,       1320,   -32.5002,  -117.3335,       3270,   761.8,   5.8210,  34.3105,2,  34.3115,2,    240.9,2,   240.3,2,   11.10,2,   24.89,2,    0.00,2,    1.70,2,-999.000,9,-999.000,9,  -999.0,9,  -999.0,9,-999.000,9,-999.0000,9, -999.00,9, -999.00,9,  -999.0,9,  -999.0,-999.000,9,-999.000,     -999.0,-999.0000,-999.000,     5.7543,-999.000
  316N138_4,       P06C,      81,          1,         19,        133,2,19920603,       1320,   -32.5002,  -117.3335,       3270,   842.2,   5.4103,  34.2937,2,  34.2938,2,    231.9,2,   232.6,2,   14.31,2,   26.47,2,    0.00,2,    1.81,2,-999.000,9,-999.000,9,  -999.0,9,  -999.0,9,-999.000,9,-999.0000,9, -999.00,9, -999.00,9,  -999.0,9,  -999.0,-999.000,9,-999.000,     -999.0,-999.0000,-999.000,     5.3387,-999.000
  316N138_4,       P06C,      81,          1,         18,        118,2,19920603,       1320,   -32.5002,  -117.3335,       3270,   912.7,   5.0680,  34.2902,2,  34.2923,2,    221.6,2,   222.1,2,   18.66,2,   28.15,2,    0.01,2,    1.91,2,-999.000,9,-999.000,9,  -999.0,9,  -999.0,9,-999.000,9,-999.0000,9, -999.00,9, -999.00,9,  -999.0,9,  -999.0,-999.000,9,-999.000,     -999.0,-999.0000,-999.000,     4.9924,-999.000
  316N138_4,       P06C,      81,          1,         17,        117,2,19920603,       1320,   -32.5002,  -117.3335,       3270,  1011.4,   4.5388,  34.3102,2,  34.3107,2,    204.9,2,   204.7,2,   27.35,2,   30.49,2,    0.00,2,    2.08,2,-999.000,9,-999.000,9,  -999.0,9,  -999.0,9,-999.000,9,-999.0000,9, -999.00,9, -999.00,9,  -999.0,9,  -999.0,-999.000,9,-999.000,     -999.0,-999.0000,-999.000,     4.4583,-999.000
  316N138_4,       P06C,      81,          1,         16,        116,2,19920603,       1320,   -32.5002,  -117.3335,       3270,  1163.2,   3.7501,  34.3712,2,  34.3745,2,    181.7,2,   179.1,2,   45.21,2,   33.59,2,    0.01,2,    2.30,2,-999.000,9,-999.000,9,  -999.0,9,  -999.0,9,-999.000,9,-999.0000,9, -999.00,9, -999.00,9,  -999.0,9,  -999.0,-999.000,9,-999.000,     -999.0,-999.0000,-999.000,     3.6632,-999.000
  316N138_4,       P06C,      81,          1,         15,        115,2,19920603,       1320,   -32.5002,  -117.3335,       3270,  1262.9,   3.4028,  34.4199,2,  34.4206,2,    169.6,2,   167.5,2,   55.82,2,   34.81,2,    0.00,2,    2.39,2,-999.000,9,-999.000,9,  -999.0,9,  -999.0,9,-999.000,9,-999.0000,9, -999.00,9, -999.00,9,  -999.0,9,  -999.0,-999.000,9,-999.000,     -999.0,-999.0000,-999.000,     3.3106,-999.000
  316N138_4,       P06C,      81,          1,         14,        114,2,19920603,       1320,   -32.5002,  -117.3335,       3270,  1415.4,   2.9090,  34.5020,2,  34.5021,2,    161.3,2,   160.3,2,   71.90,2,   35.27,2,    0.00,2,    2.43,2,-999.000,9,-999.000,9,  -999.0,9,  -999.0,9,-999.000,9,-999.0000,9, -999.00,9, -999.00,9,  -999.0,9,  -999.0,-999.000,9,-999.000,     -999.0,-999.0000,-999.000,     2.8093,-999.000
  316N138_4,       P06C,      81,          1,         13,        125,2,19920603,       1320,   -32.5002,  -117.3335,       3270,  1566.6,   2.6139,  34.5539,2,  34.5541,2,    160.8,2,   160.5,2,   82.68,2,   35.00,2,    0.01,2,    2.44,2,-999.000,9,-999.000,9,  -999.0,9,  -999.0,9,-999.000,9,-999.0000,9, -999.00,9, -999.00,9,  -999.0,9,  -999.0,-999.000,9,-999.000,     -999.0,-999.0000,-999.000,     2.5052,-999.000
  316N138_4,       P06C,      81,          1,         12,        112,2,19920603,       1320,   -32.5002,  -117.3335,       3270,  1717.6,   2.3936,  34.5953,2,  34.5959,2,    159.2,2,   158.3,2,   93.12,2,   35.01,2,    0.00,2,    2.43,2,-999.000,9,-999.000,9,  -999.0,9,  -999.0,9,-999.000,9,-999.0000,9, -999.00,9, -999.00,9,  -999.0,9,  -999.0,-999.000,9,-999.000,     -999.0,-999.0000,-999.000,     2.2752,-999.000
  316N138_4,       P06C,      81,          1,         11,        129,2,19920603,       1320,   -32.5002,  -117.3335,       3270,  1869.1,   2.2055,  34.6228,2,  34.6223,2,    157.4,2,   156.6,2,  103.26,2,   35.10,2,    0.01,2,    2.45,2,-999.000,9,-999.000,9,  -999.0,9,  -999.0,9,-999.000,9,-999.0000,9, -999.00,9, -999.00,9,  -999.0,9,  -999.0,-999.000,9,-999.000,     -999.0,-999.0000,-999.000,     2.0770,-999.000
  316N138_4,       P06C,      81,          1,         10,        110,2,19920603,       1320,   -32.5002,  -117.3335,       3270,  2022.5,   2.0725,  34.6387,2,  34.6390,2,    156.4,2,   155.1,2,  110.49,2,   35.22,2,    0.01,2,    2.46,2,-999.000,9,-999.000,9,  -999.0,9,  -999.0,9,-999.000,9,-999.0000,9, -999.00,9, -999.00,9,  -999.0,9,  -999.0,-999.000,9,-999.000,     -999.0,-999.0000,-999.000,     1.9330,-999.000
  316N138_4,       P06C,      81,          1,          9,        126,2,19920603,       1320,   -32.5002,  -117.3335,       3270,  2172.6,   1.9724,  34.6493,2,  34.6472,2,    156.6,2,   156.1,2,  114.52,2,   35.27,2,    0.01,2,    2.47,2,-999.000,9,-999.000,9,  -999.0,9,  -999.0,9,-999.000,9,-999.0000,9, -999.00,9, -999.00,9,  -999.0,9,  -999.0,-999.000,9,-999.000,     -999.0,-999.0000,-999.000,     1.8217,-999.000
  316N138_4,       P06C,      81,          1,          8,        108,2,19920603,       1320,   -32.5002,  -117.3335,       3270,  2327.3,   1.8881,  34.6568,2,  34.6563,2,    157.5,2,   157.3,2,  119.82,3,   35.11,3,    0.00,3,    2.46,3,-999.000,9,-999.000,9,  -999.0,9,  -999.0,9,-999.000,9,-999.0000,9, -999.00,9, -999.00,9,  -999.0,9,  -999.0,-999.000,9,-999.000,     -999.0,-999.0000,-999.000,     1.7254,-999.000
  316N138_4,       P06C,      81,          1,          7,        107,2,19920603,       1320,   -32.5002,  -117.3335,       3270,  2478.3,   1.8188,  34.6636,2,  34.6629,2,    159.5,2,   158.6,2,  118.06,3,   35.23,3,    0.00,3,    2.47,3,-999.000,9,-999.000,9,  -999.0,9,  -999.0,9,-999.000,9,-999.0000,9, -999.00,9, -999.00,9,  -999.0,9,  -999.0,-999.000,9,-999.000,     -999.0,-999.0000,-999.000,     1.6438,-999.000
  316N138_4,       P06C,      81,          1,          6,        180,2,19920603,       1320,   -32.5002,  -117.3335,       3270,  2629.9,   1.7674,  34.6688,2,  34.6686,2,    161.0,2,   160.8,2,  120.79,2,   34.95,2,    0.01,2,    2.46,2,-999.000,9,-999.000,9,  -999.0,9,  -999.0,9,-999.000,9,-999.0000,9, -999.00,9, -999.00,9,  -999.0,9,  -999.0,-999.000,9,-999.000,     -999.0,-999.0000,-999.000,     1.5795,-999.000
  316N138_4,       P06C,      81,          1,          5,        131,2,19920603,       1320,   -32.5002,  -117.3335,       3270,  2782.6,   1.7358,  34.6730,2,  34.6747,2,    163.3,2,   162.6,2,  121.28,2,   34.85,2,    0.00,2,    2.43,2,-999.000,9,-999.000,9,  -999.0,9,  -999.0,9,-999.000,9,-999.0000,9, -999.00,9, -999.00,9,  -999.0,9,  -999.0,-999.000,9,-999.000,     -999.0,-999.0000,-999.000,     1.5344,-999.000
  316N138_4,       P06C,      81,          1,          4,        104,2,19920603,       1320,   -32.5002,  -117.3335,       3270,  2934.4,   1.7208,  34.6750,2,  34.6755,2,    164.5,2,   163.8,2,  121.60,2,   34.82,2,   -0.01,2,    2.44,2,-999.000,9,-999.000,9,  -999.0,9,  -999.0,9,-999.000,9,-999.0000,9, -999.00,9, -999.00,9,  -999.0,9,  -999.0,-999.000,9,-999.000,     -999.0,-999.0000,-999.000,     1.5054,-999.000
  316N138_4,       P06C,      81,          1,          3,        130,2,19920603,       1320,   -32.5002,  -117.3335,       3270,  3087.6,   1.7154,  34.6779,2,  34.6769,2,    165.6,2,   164.1,2,  121.77,2,   34.76,2,    0.00,2,    2.43,2,-999.000,9,-999.000,9,  -999.0,9,  -999.0,9,-999.000,9,-999.0000,9, -999.00,9, -999.00,9,  -999.0,9,  -999.0,-999.000,9,-999.000,     -999.0,-999.0000,-999.000,     1.4853,-999.000
  316N138_4,       P06C,      81,          1,          2,        135,2,19920603,       1320,   -32.5002,  -117.3335,       3270,  3292.7,   1.7281,  34.6783,2,  34.6775,2,    166.2,2,   164.7,2,  121.78,2,   34.75,2,    0.01,2,    2.43,2,-999.000,9,-999.000,9,  -999.0,9,  -999.0,9,-999.000,9,-999.0000,9, -999.00,9, -999.00,9,  -999.0,9,  -999.0,-999.000,9,-999.000,     -999.0,-999.0000,-999.000,     1.4773,-999.000
  316N138_4,       P06C,      81,          1,          1,        134,2,19920603,       1320,   -32.5002,  -117.3335,       3270,  3407.3,   1.7383,  34.6782,2,  34.6779,2,    166.0,2,   165.1,2,  121.62,2,   34.75,2,    0.01,2,    2.43,2,-999.000,9,-999.000,9,  -999.0,9,  -999.0,9,-999.000,9,-999.0000,9, -999.00,9, -999.00,9,  -999.0,9,  -999.0,-999.000,9,-999.000,     -999.0,-999.0000,-999.000,     1.4756,-999.000