BOTTLE,20211025CCHSIORKP
EXPOCODE,SECT_ID,STNNBR,CASTNO,SAMPNO,BTLNBR,BTLNBR_FLAG_W,DATE,TIME,LATITUDE,LONGITUDE,DEPTH,CTDPRS,CTDTMP,CTDSAL,CTDSAL_FLAG_W,SALNTY,SALNTY_FLAG_W,CTDOXY,CTDOXY_FLAG_W,OXYGEN,OXYGEN_FLAG_W,SILCAT,SILCAT_FLAG_W,NITRAT,NITRAT_FLAG_W,NITRIT,NITRIT_FLAG_W,PHSPHT,PHSPHT_FLAG_W,CFC-11,CFC-11_FLAG_W,CFC-12,CFC-12_FLAG_W,TCARBN,TCARBN_FLAG_W,PCO2,PCO2_FLAG_W,TRITUM,TRITUM_FLAG_W,HELIUM,HELIUM_FLAG_W,DELHE3,DELHE3_FLAG_W,DELC13,DELC13_FLAG_W,DELC14,DELC14_FLAG_W,C14ERR,NEON,NEON_FLAG_W,NEONER,PCO2TMP,HELIER,DELHER,THETA,TRITER
,,,,,,,,,,,METERS,DBAR,ITS-90,PSS-78,,PSS-78,,UMOL/KG,,UMOL/KG,,UMOL/KG,,UMOL/KG,,UMOL/KG,,UMOL/KG,,PMOL/KG,,PMOL/KG,,UMOL/KG,,UATM,,TU,,NMOL/KG,,PERCNT,,/MILLE,,/MILLE,,/MILLE,NMOL/KG,,NMOL/KG,DEG_C,NMOL/KG,PERCNT,ITS-90,TU
  316N138_4,       P06C,     102,          1,         36,    02-9121,2,19920609,       1246,   -32.5013,  -131.3293,       4165,    17.5,  18.9278,  35.1706,2,  35.1786,2,    235.5,2,   230.9,2,    0.28,2,    0.00,2,    0.01,2,    0.13,2,   2.383,6,-999.000,5,  -999.0,9,  -999.0,9,-999.000,9,-999.0000,9, -999.00,9, -999.00,9,  -999.0,9,  -999.0,-999.000,9,-999.000,     -999.0,-999.0000,-999.000,    18.9246,-999.000
  316N138_4,       P06C,     102,          1,         35,    02-9454,2,19920609,       1246,   -32.5013,  -131.3293,       4165,    57.7,  18.9333,  35.1690,2,  35.1699,2,    234.9,2,   230.1,2,    0.11,2,    0.04,2,    0.01,2,    0.14,2,-999.000,9,-999.000,9,  -999.0,9,  -999.0,9,-999.000,9,-999.0000,9, -999.00,9, -999.00,9,  -999.0,9,  -999.0,-999.000,9,-999.000,     -999.0,-999.0000,-999.000,    18.9230,-999.000
  316N138_4,       P06C,     102,          1,         34,    02-9457,2,19920609,       1246,   -32.5013,  -131.3293,       4165,    85.8,  18.8651,  35.1644,2,  35.1437,2,    233.6,2,   233.8,2,    0.28,2,    0.04,2,    0.01,2,    0.16,2,   2.429,2,   1.282,2,  -999.0,9,  -999.0,9,-999.000,9,-999.0000,9, -999.00,9, -999.00,9,  -999.0,9,  -999.0,-999.000,9,-999.000,     -999.0,-999.0000,-999.000,    18.8499,-999.000
  316N138_4,       P06C,     102,          1,         33,    02-5367,2,19920609,       1246,   -32.5013,  -131.3293,       4165,   118.6,  15.9792,  35.0421,2,  35.0455,2,    245.1,2,   244.5,2,    0.28,2,    0.08,2,    0.01,2,    0.21,2,-999.000,9,-999.000,9,  -999.0,9,  -999.0,9,-999.000,9,-999.0000,9, -999.00,9, -999.00,9,  -999.0,9,  -999.0,-999.000,9,-999.000,     -999.0,-999.0000,-999.000,    15.9605,-999.000
  316N138_4,       P06C,     102,          1,         32,    02-9540,2,19920609,       1246,   -32.5013,  -131.3293,       4165,   148.6,  15.0654,  34.9952,2,  34.9880,2,    230.9,2,   230.6,2,    0.47,2,    1.25,2,    0.21,2,    0.33,2,   2.660,2,   1.352,2,  -999.0,9,  -999.0,9,-999.000,9,-999.0000,9, -999.00,9, -999.00,9,  -999.0,9,  -999.0,-999.000,9,-999.000,     -999.0,-999.0000,-999.000,    15.0429,-999.000
  316N138_4,       P06C,     102,          1,         31,    02-9539,2,19920609,       1246,   -32.5013,  -131.3293,       4165,   176.1,  14.4930,  34.9739,2,  34.9707,2,    221.9,2,   219.5,2,    0.64,2,    3.71,2,    0.02,2,    0.46,2,   2.538,2,   1.266,2,  -999.0,9,  -999.0,9,-999.000,9,-999.0000,9, -999.00,9, -999.00,9,  -999.0,9,  -999.0,-999.000,9,-999.000,     -999.0,-999.0000,-999.000,    14.4670,-999.000
  316N138_4,       P06C,     102,          1,         30,    02-9456,2,19920609,       1246,   -32.5013,  -131.3293,       4165,   205.7,  13.4926,  34.9074,2,  34.9077,2,    218.0,2,   206.0,2,    1.17,2,    7.25,2,    0.01,2,    0.66,2,-999.000,9,-999.000,9,  -999.0,9,  -999.0,9,-999.000,9,-999.0000,9, -999.00,9, -999.00,9,  -999.0,9,  -999.0,-999.000,9,-999.000,     -999.0,-999.0000,-999.000,    13.4637,-999.000
  316N138_4,       P06C,     102,          1,         29,    02-9458,2,19920609,       1246,   -32.5013,  -131.3293,       4165,   255.5,  11.8547,  34.7599,2,  34.7665,2,    209.1,2,   203.6,2,    2.05,2,   11.37,2,    0.02,2,    0.91,2,   1.974,2,   0.972,2,  -999.0,9,  -999.0,9,-999.000,9,-999.0000,9, -999.00,9, -999.00,9,  -999.0,9,  -999.0,-999.000,9,-999.000,     -999.0,-999.0000,-999.000,    11.8216,-999.000
  316N138_4,       P06C,     102,          1,         28,    02-9545,2,19920609,       1246,   -32.5013,  -131.3293,       4165,   305.7,   9.7974,  34.5738,2,  34.5816,2,    216.0,2,   210.4,2,    3.28,2,   15.81,2,    0.01,2,    1.16,2,   1.771,2,   0.853,2,  -999.0,9,  -999.0,9,-999.000,9,-999.0000,9, -999.00,9, -999.00,9,  -999.0,9,  -999.0,-999.000,9,-999.000,     -999.0,-999.0000,-999.000,     9.7624,-999.000
  316N138_4,       P06C,     102,          1,         27,    02-9453,2,19920609,       1246,   -32.5013,  -131.3293,       4165,   350.2,   8.3509,  34.4625,2,  34.4567,2,    224.3,2,   222.6,2,    4.51,2,   19.06,2,    0.00,2,    1.38,2,   1.739,2,   0.856,2,  -999.0,9,  -999.0,9,-999.000,9,-999.0000,9, -999.00,9, -999.00,9,  -999.0,9,  -999.0,-999.000,9,-999.000,     -999.0,-999.0000,-999.000,     8.3145,-999.000
  316N138_4,       P06C,     102,          1,         26,    02-9544,2,19920609,       1246,   -32.5013,  -131.3293,       4165,   400.3,   7.6280,  34.4205,2,  34.4182,2,    232.5,2,   231.3,2,    5.22,2,   20.40,2,    0.01,2,    1.44,2,   1.771,6,   0.840,6,  -999.0,9,  -999.0,9,-999.000,9,-999.0000,9, -999.00,9, -999.00,9,  -999.0,9,  -999.0,-999.000,9,-999.000,     -999.0,-999.0000,-999.000,     7.5884,-999.000
  316N138_4,       P06C,     102,          1,         25,    02-9455,2,19920609,       1246,   -32.5013,  -131.3293,       4165,   450.8,   7.2861,  34.4017,2,  34.4021,2,    238.9,2,   236.9,2,    5.93,2,   21.00,2,    0.01,2,    1.47,2,   1.779,2,   0.837,2,  -999.0,9,  -999.0,9,-999.000,9,-999.0000,9, -999.00,9, -999.00,9,  -999.0,9,  -999.0,-999.000,9,-999.000,     -999.0,-999.0000,-999.000,     7.2425,-999.000
  316N138_4,       P06C,     102,          1,         24,        132,2,19920609,       1246,   -32.5013,  -131.3293,       4165,   604.9,   6.5169,  34.3557,2,  34.3560,2,    243.9,2,   244.8,2,    7.86,2,   22.74,2,    0.00,2,    1.57,2,   1.340,2,   0.647,2,  -999.0,9,  -999.0,9,-999.000,9,-999.0000,9, -999.00,9, -999.00,9,  -999.0,9,  -999.0,-999.000,9,-999.000,     -999.0,-999.0000,-999.000,     6.4613,-999.000
  316N138_4,       P06C,     102,          1,         23,        123,2,19920609,       1246,   -32.5013,  -131.3293,       4165,   681.4,   6.1252,  34.3303,2,  34.3321,2,    241.0,2,   242.3,2,    9.80,2,   24.00,2,    0.00,2,    1.64,2,   0.945,2,   0.470,2,  -999.0,9,  -999.0,9,-999.000,9,-999.0000,9, -999.00,9, -999.00,9,  -999.0,9,  -999.0,-999.000,9,-999.000,     -999.0,-999.0000,-999.000,     6.0644,-999.000
  316N138_4,       P06C,     102,          1,         22,        128,2,19920609,       1246,   -32.5013,  -131.3293,       4165,   757.3,   5.7297,  34.3084,2,  34.3080,2,    237.0,2,   235.7,2,   12.26,2,   25.30,2,    0.00,2,    1.73,2,   0.687,6,   0.352,6,  -999.0,9,  -999.0,9,-999.000,9,-999.0000,9, -999.00,9, -999.00,9,  -999.0,9,  -999.0,-999.000,9,-999.000,     -999.0,-999.0000,-999.000,     5.6639,-999.000
  316N138_4,       P06C,     102,          1,         21,        121,2,19920609,       1246,   -32.5013,  -131.3293,       4165,   831.1,   5.3337,  34.2998,2,  34.3005,2,    229.7,2,   226.4,2,   16.30,2,   26.89,2,    0.00,2,    1.84,2,   0.472,2,   0.241,2,  -999.0,9,  -999.0,9,-999.000,9,-999.0000,9, -999.00,9, -999.00,9,  -999.0,9,  -999.0,-999.000,9,-999.000,     -999.0,-999.0000,-999.000,     5.2636,-999.000
  316N138_4,       P06C,     102,          1,         20,        120,2,19920609,       1246,   -32.5013,  -131.3293,       4165,   907.9,   4.8950,  34.3055,2,  34.3064,2,    218.6,2,   214.1,2,   22.27,2,   28.77,2,    0.00,2,    1.95,2,   0.304,2,   0.163,2,  -999.0,9,  -999.0,9,-999.000,9,-999.0000,9, -999.00,9, -999.00,9,  -999.0,9,  -999.0,-999.000,9,-999.000,     -999.0,-999.0000,-999.000,     4.8210,-999.000
  316N138_4,       P06C,     102,          1,         19,        133,2,19920609,       1246,   -32.5013,  -131.3293,       4165,  1058.5,   4.1144,  34.3411,2,  34.3464,2,    197.2,2,   193.8,2,   36.33,2,   31.78,2,    0.00,2,    2.17,2,   0.105,6,   0.055,6,  -999.0,9,  -999.0,9,-999.000,9,-999.0000,9, -999.00,9, -999.00,9,  -999.0,9,  -999.0,-999.000,9,-999.000,     -999.0,-999.0000,-999.000,     4.0332,-999.000
  316N138_4,       P06C,     102,          1,         18,        118,2,19920609,       1246,   -32.5013,  -131.3293,       4165,  1210.5,   3.4707,  34.4056,2,  34.4043,2,    177.8,2,   178.4,2,   51.96,2,   33.61,2,    0.00,2,    2.31,2,   0.027,2,   0.015,2,  -999.0,9,  -999.0,9,-999.000,9,-999.0000,9, -999.00,9, -999.00,9,  -999.0,9,  -999.0,-999.000,9,-999.000,     -999.0,-999.0000,-999.000,     3.3823,-999.000
  316N138_4,       P06C,     102,          1,         17,        117,2,19920609,       1246,   -32.5013,  -131.3293,       4165,  1410.7,   2.9290,  34.4908,2,  34.4881,2,    166.7,2,   166.0,2,   69.52,2,   34.46,2,    0.00,2,    2.39,2,   0.006,2,   0.009,2,  -999.0,9,  -999.0,9,-999.000,9,-999.0000,9, -999.00,9, -999.00,9,  -999.0,9,  -999.0,-999.000,9,-999.000,     -999.0,-999.0000,-999.000,     2.8295,-999.000
  316N138_4,       P06C,     102,          1,         16,        116,2,19920609,       1246,   -32.5013,  -131.3293,       4165,  1410.7,   2.9290,  34.4908,2,  34.4873,2,    166.7,2,   167.3,2,   69.35,2,   34.51,2,    0.00,2,    2.39,2,-999.000,5,-999.000,5,  -999.0,9,  -999.0,9,-999.000,9,-999.0000,9, -999.00,9, -999.00,9,  -999.0,9,  -999.0,-999.000,9,-999.000,     -999.0,-999.0000,-999.000,     2.8295,-999.000
  316N138_4,       P06C,     102,          1,         15,        115,2,19920609,       1246,   -32.5013,  -131.3293,       4165,  1616.2,   2.4941,  34.5729,2,  34.5675,2,    161.5,2,   159.5,2,   89.19,2,   34.80,2,    0.00,2,    2.43,2,   0.001,2,   0.006,2,  -999.0,9,  -999.0,9,-999.000,9,-999.0000,9, -999.00,9, -999.00,9,  -999.0,9,  -999.0,-999.000,9,-999.000,     -999.0,-999.0000,-999.000,     2.3828,-999.000
  316N138_4,       P06C,     102,          1,         14,        114,2,19920609,       1246,   -32.5013,  -131.3293,       4165,  1818.0,   2.2467,  34.6135,2,  34.6126,2,    157.8,2,   157.1,2,  101.82,2,   35.03,2,    0.00,2,    2.46,2,   0.000,2,  -0.001,2,  -999.0,9,  -999.0,9,-999.000,9,-999.0000,9, -999.00,9, -999.00,9,  -999.0,9,  -999.0,-999.000,9,-999.000,     -999.0,-999.0000,-999.000,     2.1219,-999.000
  316N138_4,       P06C,     102,          1,         13,        125,2,19920609,       1246,   -32.5013,  -131.3293,       4165,  2012.8,   2.0743,  34.6355,2,  34.6344,2,    155.5,2,   155.3,2,  110.60,2,   35.23,2,    0.00,2,    2.48,2,-999.000,9,-999.000,9,  -999.0,9,  -999.0,9,-999.000,9,-999.0000,9, -999.00,9, -999.00,9,  -999.0,9,  -999.0,-999.000,9,-999.000,     -999.0,-999.0000,-999.000,     1.9356,-999.000
  316N138_4,       P06C,     102,          1,         12,        112,2,19920609,       1246,   -32.5013,  -131.3293,       4165,  2209.9,   1.9609,  34.6478,2,  34.6519,3,    156.1,2,   156.9,3,  115.15,2,   35.28,2,    0.00,2,    2.49,2,-999.000,9,-999.000,9,  -999.0,9,  -999.0,9,-999.000,9,-999.0000,9, -999.00,9, -999.00,9,  -999.0,9,  -999.0,-999.000,9,-999.000,     -999.0,-999.0000,-999.000,     1.8072,-999.000
  316N138_4,       P06C,     102,          1,         11,        129,2,19920609,       1246,   -32.5013,  -131.3293,       4165,  2420.7,   1.8335,  34.6599,2,  34.6590,2,    157.7,2,   157.3,2,  119.36,2,   35.23,2,    0.00,2,    2.49,2,   0.001,2,   0.002,2,  -999.0,9,  -999.0,9,-999.000,9,-999.0000,9, -999.00,9, -999.00,9,  -999.0,9,  -999.0,-999.000,9,-999.000,     -999.0,-999.0000,-999.000,     1.6633,-999.000
  316N138_4,       P06C,     102,          1,         10,        110,2,19920609,       1246,   -32.5013,  -131.3293,       4165,  2624.6,   1.7507,  34.6660,2,  34.6661,2,    159.9,2,   159.9,2,  121.28,2,   35.14,2,    0.00,2,    2.47,2,-999.000,9,-999.000,9,  -999.0,9,  -999.0,9,-999.000,9,-999.0000,9, -999.00,9, -999.00,9,  -999.0,9,  -999.0,-999.000,9,-999.000,     -999.0,-999.0000,-999.000,     1.5637,-999.000
  316N138_4,       P06C,     102,          1,          9,        126,3,19920609,       1246,   -32.5013,  -131.3293,       4165,  2832.5,   1.6910,  34.6719,2,-999.0000,9,    163.0,2,  -999.0,9, -999.00,9, -999.00,9, -999.00,9, -999.00,9,-999.000,9,-999.000,9,  -999.0,9,  -999.0,9,-999.000,9,-999.0000,9, -999.00,9, -999.00,9,  -999.0,9,  -999.0,-999.000,9,-999.000,     -999.0,-999.0000,-999.000,     1.4859,-999.000
  316N138_4,       P06C,     102,          1,          8,        108,2,19920609,       1246,   -32.5013,  -131.3293,       4165,  3039.7,   1.6415,  34.6771,2,  34.6755,2,    165.7,2,   166.0,2,  121.81,2,   34.76,2,    0.00,2,    2.45,2,  -0.001,2,  -0.005,2,  -999.0,9,  -999.0,9,-999.000,9,-999.0000,9, -999.00,9, -999.00,9,  -999.0,9,  -999.0,-999.000,9,-999.000,     -999.0,-999.0000,-999.000,     1.4178,-999.000
  316N138_4,       P06C,     102,          1,          7,        107,2,19920609,       1246,   -32.5013,  -131.3293,       4165,  3240.2,   1.6096,  34.6798,2,  34.6810,2,    168.0,2,   168.2,2,  122.15,2,   34.61,2,    0.00,2,    2.45,2,-999.000,9,-999.000,9,  -999.0,9,  -999.0,9,-999.000,9,-999.0000,9, -999.00,9, -999.00,9,  -999.0,9,  -999.0,-999.000,9,-999.000,     -999.0,-999.0000,-999.000,     1.3669,-999.000
  316N138_4,       P06C,     102,          1,          6,        180,2,19920609,       1246,   -32.5013,  -131.3293,       4165,  3446.2,   1.5982,  34.6829,2,  34.6826,2,    169.8,2,   170.1,2,  122.31,2,   34.61,2,    0.00,2,    2.43,2,-999.000,9,-999.000,9,  -999.0,9,  -999.0,9,-999.000,9,-999.0000,9, -999.00,9, -999.00,9,  -999.0,9,  -999.0,-999.000,9,-999.000,     -999.0,-999.0000,-999.000,     1.3351,-999.000
  316N138_4,       P06C,     102,          1,          5,        131,2,19920609,       1246,   -32.5013,  -131.3293,       4165,  3650.3,   1.5613,  34.6860,2,  34.6861,2,    172.7,2,   173.1,2,  121.79,2,   34.39,2,    0.00,2,    2.41,2,   0.002,2,  -0.003,2,  -999.0,9,  -999.0,9,-999.000,9,-999.0000,9, -999.00,9, -999.00,9,  -999.0,9,  -999.0,-999.000,9,-999.000,     -999.0,-999.0000,-999.000,     1.2780,-999.000
  316N138_4,       P06C,     102,          1,          4,        104,2,19920609,       1246,   -32.5013,  -131.3293,       4165,  3855.9,   1.5026,  34.6915,2,  34.6918,2,    176.9,2,   177.0,2,  121.08,2,   34.14,2,    0.00,2,    2.39,2,-999.000,9,-999.000,9,  -999.0,9,  -999.0,9,-999.000,9,-999.0000,9, -999.00,9, -999.00,9,  -999.0,9,  -999.0,-999.000,9,-999.000,     -999.0,-999.0000,-999.000,     1.1991,-999.000
  316N138_4,       P06C,     102,          1,          3,        130,2,19920609,       1246,   -32.5013,  -131.3293,       4165,  4062.5,   1.3867,  34.7006,2,  34.7011,2,    184.1,2,   184.4,2,  119.66,2,   33.68,2,    0.00,2,    2.35,2,-999.000,9,-999.000,9,  -999.0,9,  -999.0,9,-999.000,9,-999.0000,9, -999.00,9, -999.00,9,  -999.0,9,  -999.0,-999.000,9,-999.000,     -999.0,-999.0000,-999.000,     1.0640,-999.000
  316N138_4,       P06C,     102,          1,          2,        135,2,19920609,       1246,   -32.5013,  -131.3293,       4165,  4161.8,   1.3555,  34.7031,2,  34.7030,2,    186.6,2,   187.4,2,  119.65,2,   33.49,2,    0.00,2,    2.33,2,   0.001,2,   0.003,2,  -999.0,9,  -999.0,9,-999.000,9,-999.0000,9, -999.00,9, -999.00,9,  -999.0,9,  -999.0,-999.000,9,-999.000,     -999.0,-999.0000,-999.000,     1.0229,-999.000
  316N138_4,       P06C,     102,          1,          1,        134,2,19920609,       1246,   -32.5013,  -131.3293,       4165,  4241.6,   1.3476,  34.7041,2,  34.7052,2,    187.7,2,   188.2,2,  119.29,2,   33.25,2,    0.00,2,    2.31,2,   0.002,6,   0.002,6,  -999.0,9,  -999.0,9,-999.000,9,-999.0000,9, -999.00,9, -999.00,9,  -999.0,9,  -999.0,-999.000,9,-999.000,     -999.0,-999.0000,-999.000,     1.0064,-999.000