BOTTLE,20211025CCHSIORKP
EXPOCODE,SECT_ID,STNNBR,CASTNO,SAMPNO,BTLNBR,BTLNBR_FLAG_W,DATE,TIME,LATITUDE,LONGITUDE,DEPTH,CTDPRS,CTDTMP,CTDSAL,CTDSAL_FLAG_W,SALNTY,SALNTY_FLAG_W,CTDOXY,CTDOXY_FLAG_W,OXYGEN,OXYGEN_FLAG_W,SILCAT,SILCAT_FLAG_W,NITRAT,NITRAT_FLAG_W,NITRIT,NITRIT_FLAG_W,PHSPHT,PHSPHT_FLAG_W,CFC-11,CFC-11_FLAG_W,CFC-12,CFC-12_FLAG_W,TCARBN,TCARBN_FLAG_W,PCO2,PCO2_FLAG_W,TRITUM,TRITUM_FLAG_W,HELIUM,HELIUM_FLAG_W,DELHE3,DELHE3_FLAG_W,DELC13,DELC13_FLAG_W,DELC14,DELC14_FLAG_W,C14ERR,NEON,NEON_FLAG_W,NEONER,PCO2TMP,HELIER,DELHER,THETA,TRITER
,,,,,,,,,,,METERS,DBAR,ITS-90,PSS-78,,PSS-78,,UMOL/KG,,UMOL/KG,,UMOL/KG,,UMOL/KG,,UMOL/KG,,UMOL/KG,,PMOL/KG,,PMOL/KG,,UMOL/KG,,UATM,,TU,,NMOL/KG,,PERCNT,,/MILLE,,/MILLE,,/MILLE,NMOL/KG,,NMOL/KG,DEG_C,NMOL/KG,PERCNT,ITS-90,TU
  316N138_4,       P06C,     134,          1,         36,    02-9121,2,19920621,       0613,   -32.5052,  -155.6582,       5151,    22.3,  17.6148,  35.2779,2,  35.2773,2,    289.1,3,   233.6,2,    0.36,2,    0.08,2,    0.00,2,    0.13,2,   2.481,2,-999.000,9,  2029.8,6,  -999.0,9,   0.658,2,   1.8080,2,   -2.68,2, -999.00,9,  -999.0,9,  -999.0,   7.422,2,   0.017,     -999.0,   0.0040,   0.150,    17.6110,   0.004
  316N138_4,       P06C,     134,          1,         35,    02-9454,2,19920621,       0613,   -32.5052,  -155.6582,       5151,    62.7,  17.5862,  35.2711,2,  35.2684,2,    234.7,2,   235.1,2,    0.36,2,    0.07,2,    0.00,2,    0.14,2,   2.452,2,   1.442,2,  2030.2,2,  -999.0,9,   0.624,2,   1.8170,2,   -2.35,2, -999.00,9,  -999.0,9,  -999.0,   7.415,2,   0.017,     -999.0,   0.0040,   0.150,    17.5756,   0.004
  316N138_4,       P06C,     134,          1,         34,    02-9457,2,19920621,       0613,   -32.5052,  -155.6582,       5151,   112.3,  15.4978,  35.2078,2,  35.1973,2,    242.8,2,   237.5,2,    0.63,2,    0.26,2,    0.13,2,    0.22,2,   2.630,2,   1.424,2,  2049.2,2,  -999.0,9,   0.631,2,-999.0000,9, -999.00,9, -999.00,9,  -999.0,9,  -999.0,-999.000,9,-999.000,     -999.0,-999.0000,-999.000,    15.4804,   0.004
  316N138_4,       P06C,     134,          1,         33,    02-5367,2,19920621,       0613,   -32.5052,  -155.6582,       5151,   162.2,  14.6022,  35.0948,2,  35.0909,2,    232.8,2,   231.8,2,    0.62,2,    1.65,2,    0.03,2,    0.31,2,   2.678,2,   1.469,2,  2056.8,2,  -999.0,9,   0.589,2,   1.8390,2,   -2.74,2, -999.00,9,  -999.0,9,  -999.0,   7.638,2,   0.017,     -999.0,   0.0040,   0.150,    14.5781,   0.004
  316N138_4,       P06C,     134,          1,         32,    02-9540,2,19920621,       0613,   -32.5052,  -155.6582,       5151,   211.7,  13.7447,  35.0736,2,  35.0476,2,    223.6,2,   214.3,2,    1.33,2,    5.53,2,    0.01,2,    0.54,2,   2.434,2,   1.313,2,  2079.3,2,  -999.0,9,-999.000,9,-999.0000,9, -999.00,9, -999.00,9,  -999.0,9,  -999.0,-999.000,9,-999.000,     -999.0,-999.0000,-999.000,    13.7145,-999.000
  316N138_4,       P06C,     134,          1,         31,    02-9539,2,19920621,       0613,   -32.5052,  -155.6582,       5151,   262.6,  12.4974,  34.9987,2,  35.1567,4,    207.9,2,   224.1,4,    1.04,4,    3.33,4,    0.01,4,    0.37,4,   2.362,2,   1.364,2,  2054.5,2,  -999.0,9,   0.595,2,-999.0000,9, -999.00,9, -999.00,9,  -999.0,9,  -999.0,   7.664,2,   0.018,     -999.0,   0.0040,-999.000,    12.4621,   0.004
  316N138_4,       P06C,     134,          1,         30,    02-9456,2,19920621,       0613,   -32.5052,  -155.6582,       5151,   312.0,  10.7164,  34.7671,2,  34.7581,2,    208.2,2,   207.2,2,    3.28,2,   13.58,2,    0.00,2,    1.00,2,   1.982,2,   0.993,2,  2112.3,2,  -999.0,9,   0.349,2,   1.8560,2,   -1.07,2, -999.00,9,  -999.0,9,  -999.0,   7.900,2,   0.018,     -999.0,   0.0040,   0.150,    10.6784,   0.003
  316N138_4,       P06C,     134,          1,         29,    02-9458,2,19920621,       0613,   -32.5052,  -155.6582,       5151,   361.7,   9.3717,  34.6241,2,  34.6174,2,    215.4,2,   215.4,2,    3.55,2,   16.19,2,    0.00,2,    1.13,2,   1.939,2,   0.968,2,  2120.7,2,  -999.0,9,-999.000,9,-999.0000,9, -999.00,9, -999.00,9,  -999.0,9,  -999.0,-999.000,9,-999.000,     -999.0,-999.0000,-999.000,     9.3312,-999.000
  316N138_4,       P06C,     134,          1,         28,    02-9545,2,19920621,       0613,   -32.5052,  -155.6582,       5151,   412.2,   8.5430,  34.5356,2,  34.5360,2,    223.9,2,   224.9,2,    4.26,2,   17.81,2,    0.01,2,    1.23,2,   2.010,6,   0.992,6,  2124.0,2,  -999.0,9,   0.292,2,   1.8780,2,   -1.55,2, -999.00,9,  -999.0,9,  -999.0,   8.016,2,   0.018,     -999.0,   0.0040,   0.150,     8.4994,   0.003
  316N138_4,       P06C,     134,          1,         27,    02-9453,2,19920621,       0613,   -32.5052,  -155.6582,       5151,   512.5,   7.5624,  34.4604,2,  34.4569,2,    237.3,2,   235.4,2,    5.51,2,   20.10,2,    0.01,2,    1.36,2,   1.759,2,-999.000,9,  2128.2,2,  -999.0,9,   0.237,2,   1.8850,2,   -1.54,2, -999.00,9,  -999.0,9,  -999.0,   8.051,2,   0.018,     -999.0,   0.0040,   0.150,     7.5116,   0.003
  316N138_4,       P06C,     134,          1,         26,    02-9544,2,19920621,       0613,   -32.5052,  -155.6582,       5151,   613.1,   6.9831,  34.4055,2,  34.4065,2,    241.7,2,   240.1,2,    6.92,2,   21.66,2,    0.00,2,    1.44,2,   1.348,2,   0.676,2,  2130.6,2,  -999.0,9,   0.211,2,   1.8270,2,    0.30,2, -999.00,9,  -999.0,9,  -999.0,   7.866,2,   0.018,     -999.0,   0.0040,   0.150,     6.9246,   0.003
  316N138_4,       P06C,     134,          1,         25,    02-9455,2,19920621,       0613,   -32.5052,  -155.6582,       5151,   712.9,   6.4273,  34.3608,2,  34.3605,2,    239.4,2,   237.6,2,    9.02,2,   23.48,2,    0.00,2,    1.55,2,   0.813,2,   0.420,2,  2136.4,2,  -999.0,9,   0.144,2,   1.8940,2,    0.56,2, -999.00,9,  -999.0,9,  -999.0,   8.104,2,   0.019,     -999.0,   0.0040,   0.150,     6.3618,   0.002
  316N138_4,       P06C,     134,          1,         24,        132,2,19920621,       0613,   -32.5052,  -155.6582,       5151,   814.6,   5.9350,  34.3324,2,  34.3344,2,    231.6,2,   230.9,2,   12.24,2,   25.31,2,    0.00,2,    1.66,2,   0.512,2,   0.269,2,  2147.1,2,  -999.0,9,   0.102,2,   1.8390,2,    0.76,2, -999.00,9,  -999.0,9,  -999.0,   7.920,2,   0.018,     -999.0,   0.0040,   0.150,     5.8626,   0.002
  316N138_4,       P06C,     134,          1,         23,        123,2,19920621,       0613,   -32.5052,  -155.6582,       5151,   914.7,   5.3595,  34.3184,2,  34.3182,2,    219.1,2,   217.7,2,   18.13,2,   27.79,2,    0.00,2,    1.82,2,   0.285,2,   0.151,2,  2160.9,2,  -999.0,9,-999.000,9,-999.0000,9, -999.00,9, -999.00,9,  -999.0,9,  -999.0,-999.000,9,-999.000,     -999.0,-999.0000,-999.000,     5.2816,-999.000
  316N138_4,       P06C,     134,          1,         22,        128,2,19920621,       0613,   -32.5052,  -155.6582,       5151,  1014.2,   4.7583,  34.3309,2,  34.3293,2,    205.0,2,   204.3,2,   26.83,2,   30.23,2,    0.00,2,    1.98,2,   0.193,2,   0.101,2,  2180.6,2,  -999.0,9,   0.039,2,   1.8540,2,    2.28,2, -999.00,9,  -999.0,9,  -999.0,   8.027,2,   0.018,     -999.0,   0.0040,   0.150,     4.6758,   0.002
  316N138_4,       P06C,     134,          1,         21,        121,2,19920621,       0613,   -32.5052,  -155.6582,       5151,  1215.8,   3.6629,  34.3850,2,  34.3849,2,    185.8,2,   185.7,2,   46.20,2,   33.41,2,    0.01,2,    2.21,2,   0.028,6,   0.021,6,  2212.8,2,  -999.0,9,   0.010,2,   1.8790,2,    4.80,2, -999.00,9,  -999.0,9,  -999.0,   8.073,2,   0.018,     -999.0,   0.0040,   0.150,     3.5723,   0.002
  316N138_4,       P06C,     134,          1,         20,        120,2,19920621,       0613,   -32.5052,  -155.6582,       5151,  1416.6,   2.9375,  34.4979,2,  34.4991,2,    169.6,2,   167.9,2,   70.06,2,   35.01,2,    0.01,2,    2.33,2,-999.000,9,   0.004,2,  2248.0,2,  -999.0,9,   0.001,2,   1.9060,2,    9.98,2, -999.00,9,  -999.0,9,  -999.0,   8.143,2,   0.019,     -999.0,   0.0040,   0.150,     2.8375,   0.002
  316N138_4,       P06C,     134,          1,         19,        133,2,19920621,       0613,   -32.5052,  -155.6582,       5151,  1617.0,   2.6003,  34.5716,2,  34.5734,2,    159.5,2,   157.9,2,   89.00,2,   35.62,2,    0.01,2,    2.42,2,   0.001,2,-999.000,9,  2271.1,2,  -999.0,9,  -0.003,2,   1.9210,2,   15.40,2, -999.00,9,  -999.0,9,  -999.0,   8.191,2,   0.019,     -999.0,   0.0040,   0.150,     2.4876,   0.002
  316N138_4,       P06C,     134,          1,         18,        118,2,19920621,       0613,   -32.5052,  -155.6582,       5151,  1819.8,   2.3847,  34.6096,2,  34.6105,2,    153.5,2,   152.5,2,  102.06,2,   36.07,2,    0.00,2,    2.47,2,  -0.005,2,  -0.003,2,  2286.6,6,  -999.0,9,   0.003,2,   1.9360,2,   20.35,2, -999.00,9,  -999.0,9,  -999.0,   8.215,2,   0.019,     -999.0,   0.0040,   0.150,     2.2579,   0.002
  316N138_4,       P06C,     134,          1,         17,        117,2,19920621,       0613,   -32.5052,  -155.6582,       5151,  2018.2,   2.2086,  34.6307,2,  34.6311,2,    150.6,2,   150.0,2,  111.32,2,   36.31,2,    0.00,2,    2.51,2,-999.000,5,-999.000,5,  2297.5,2,  -999.0,9,-999.000,9,-999.0000,9, -999.00,9, -999.00,9,  -999.0,9,  -999.0,-999.000,9,-999.000,     -999.0,-999.0000,-999.000,     2.0674,-999.000
  316N138_4,       P06C,     134,          1,         16,        116,2,19920621,       0613,   -32.5052,  -155.6582,       5151,  2217.2,   2.0622,  34.6445,2,  34.6455,2,    147.3,2,   146.9,2,  119.45,2,   36.51,2,    0.00,2,    2.54,2,  -0.003,2,  -0.003,2,  2305.0,2,  -999.0,9,-999.000,9,-999.0000,9, -999.00,9, -999.00,9,  -999.0,9,  -999.0,-999.000,9,-999.000,     -999.0,-999.0000,-999.000,     1.9061,-999.000
  316N138_4,       P06C,     134,          1,         15,        115,2,19920621,       0613,   -32.5052,  -155.6582,       5151,  2418.7,   1.9774,  34.6528,2,  34.6531,2,    147.1,2,   146.5,2,  123.79,2,   36.32,2,    0.01,2,    2.56,2,-999.000,5,-999.000,5,  2310.6,2,  -999.0,9,-999.000,9,-999.0000,9, -999.00,9, -999.00,9,  -999.0,9,  -999.0,-999.000,9,-999.000,     -999.0,-999.0000,-999.000,     1.8049,-999.000
  316N138_4,       P06C,     134,          1,         14,        114,2,19920621,       0613,   -32.5052,  -155.6582,       5151,  2618.5,   1.8889,  34.6596,2,  34.6604,2,    147.7,2,   147.4,2,  127.30,2,   36.00,2,    0.01,2,    2.55,2,  -0.001,2,  -0.003,2,  2312.5,2,  -999.0,9,-999.000,9,-999.0000,9, -999.00,9, -999.00,9,  -999.0,9,  -999.0,-999.000,9,-999.000,     -999.0,-999.0000,-999.000,     1.6999,-999.000
  316N138_4,       P06C,     134,          1,         13,        125,2,19920621,       0613,   -32.5052,  -155.6582,       5151,  2818.5,   1.8147,  34.6670,2,  34.6677,2,    149.1,2,   149.1,2,  129.82,2,   35.68,2,    0.00,2,    2.55,2,-999.000,5,-999.000,5,  2312.9,2,  -999.0,9,-999.000,9,-999.0000,9, -999.00,9, -999.00,9,  -999.0,9,  -999.0,-999.000,9,-999.000,     -999.0,-999.0000,-999.000,     1.6084,-999.000
  316N138_4,       P06C,     134,          1,         12,        112,2,19920621,       0613,   -32.5052,  -155.6582,       5151,  3019.6,   1.7698,  34.6720,2,  34.6724,2,    151.6,2,   151.8,2,  130.37,2,   35.28,2,   -0.01,2,    2.54,2,  -0.004,2,  -0.001,2,  2311.9,2,  -999.0,9,-999.000,9,-999.0000,9, -999.00,9, -999.00,9,  -999.0,9,  -999.0,-999.000,9,-999.000,     -999.0,-999.0000,-999.000,     1.5451,-999.000
  316N138_4,       P06C,     134,          1,         11,        129,2,19920621,       0613,   -32.5052,  -155.6582,       5151,  3222.8,   1.7265,  34.6776,2,  34.6769,2,    156.1,2,   155.3,2,  129.66,2,   35.00,2,    0.00,2,    2.49,2,-999.000,5,-999.000,5,  2308.1,2,  -999.0,9,-999.000,9,-999.0000,9, -999.00,9, -999.00,9,  -999.0,9,  -999.0,-999.000,9,-999.000,     -999.0,-999.0000,-999.000,     1.4828,-999.000
  316N138_4,       P06C,     134,          1,         10,        110,2,19920621,       0613,   -32.5052,  -155.6582,       5151,  3424.4,   1.6444,  34.6887,2,  34.6891,2,    165.9,2,   165.2,2,  125.44,2,   34.22,2,   -0.01,2,    2.42,2,  -0.001,2,  -0.001,2,  2298.2,2,  -999.0,9,-999.000,9,-999.0000,9, -999.00,9, -999.00,9,  -999.0,9,  -999.0,-999.000,9,-999.000,     -999.0,-999.0000,-999.000,     1.3824,-999.000
  316N138_4,       P06C,     134,          1,          9,        126,2,19920621,       0613,   -32.5052,  -155.6582,       5151,  3624.3,   1.5691,  34.6999,2,  34.6997,2,    176.1,2,   175.2,2,  120.25,2,   33.38,2,   -0.01,2,    2.35,2,-999.000,5,-999.000,5,  2287.6,6,  -999.0,9,-999.000,9,-999.0000,9, -999.00,9, -999.00,9,  -999.0,9,  -999.0,-999.000,9,-999.000,     -999.0,-999.0000,-999.000,     1.2883,-999.000
  316N138_4,       P06C,     134,          1,          8,        108,2,19920621,       0613,   -32.5052,  -155.6582,       5151,  3828.3,   1.4906,  34.7081,2,  34.7076,2,    184.8,2,   184.4,2,  116.73,2,   32.63,2,   -0.01,2,    2.30,2,   0.000,2,   0.002,2,  2276.7,2,  -999.0,9,-999.000,9,-999.0000,9, -999.00,9, -999.00,9,  -999.0,9,  -999.0,-999.000,9,-999.000,     -999.0,-999.0000,-999.000,     1.1903,-999.000
  316N138_4,       P06C,     134,          1,          7,        107,2,19920621,       0613,   -32.5052,  -155.6582,       5151,  4030.1,   1.3982,  34.7164,2,  34.7162,2,    193.7,2,   194.3,2,  113.50,2,   31.93,2,   -0.01,2,    2.27,2,-999.000,5,-999.000,5,  2265.4,2,  -999.0,9,-999.000,9,-999.0000,9, -999.00,9, -999.00,9,  -999.0,9,  -999.0,-999.000,9,-999.000,     -999.0,-999.0000,-999.000,     1.0786,-999.000
  316N138_4,       P06C,     134,          1,          6,        180,2,19920621,       0613,   -32.5052,  -155.6582,       5151,  4232.8,   1.2805,  34.7162,2,  34.7164,2,    199.8,2,   199.1,2,  114.33,2,   31.75,2,   -0.01,2,    2.23,2,   0.000,2,  -0.001,2,  2263.0,2,  -999.0,9,-999.000,9,-999.0000,9, -999.00,9, -999.00,9,  -999.0,9,  -999.0,-999.000,9,-999.000,     -999.0,-999.0000,-999.000,     0.9422,-999.000
  316N138_4,       P06C,     134,          1,          5,        131,2,19920621,       0613,   -32.5052,  -155.6582,       5151,  4438.0,   1.1668,  34.7134,2,  34.7134,2,    202.4,2,   202.0,2,  117.13,2,   31.81,2,   -0.01,2,    2.26,2,-999.000,5,-999.000,5,  2263.3,2,  -999.0,9,-999.000,9,-999.0000,9, -999.00,9, -999.00,9,  -999.0,9,  -999.0,-999.000,9,-999.000,     -999.0,-999.0000,-999.000,     0.8090,-999.000
  316N138_4,       P06C,     134,          1,          4,        104,2,19920621,       0613,   -32.5052,  -155.6582,       5151,  4642.9,   1.1373,  34.7131,2,  34.7129,2,    203.3,2,   203.3,2,  118.25,2,   31.81,2,    0.00,2,    2.25,2,  -0.004,2,  -0.005,2,  2262.5,2,  -999.0,9,-999.000,9,-999.0000,9, -999.00,9, -999.00,9,  -999.0,9,  -999.0,-999.000,9,-999.000,     -999.0,-999.0000,-999.000,     0.7571,-999.000
  316N138_4,       P06C,     134,          1,          3,        130,2,19920621,       0613,   -32.5052,  -155.6582,       5151,  4848.7,   1.0954,  34.7111,2,  34.7113,2,    205.3,2,   204.8,2,  119.65,2,   31.86,2,    0.00,2,    2.25,2,-999.000,5,-999.000,5,  2262.7,2,  -999.0,9,-999.000,9,-999.0000,9, -999.00,9, -999.00,9,  -999.0,9,  -999.0,-999.000,9,-999.000,     -999.0,-999.0000,-999.000,     0.6926,-999.000
  316N138_4,       P06C,     134,          1,          2,        135,2,19920621,       0613,   -32.5052,  -155.6582,       5151,  5052.5,   1.1000,  34.7106,2,  34.7113,2,    205.9,2,   205.2,2,  119.92,2,   31.86,2,    0.01,2,    2.25,2,   0.001,2,  -0.001,2,  2263.2,2,  -999.0,9,-999.000,9,-999.0000,9, -999.00,9, -999.00,9,  -999.0,9,  -999.0,-999.000,9,-999.000,     -999.0,-999.0000,-999.000,     0.6728,-999.000
  316N138_4,       P06C,     134,          1,          1,        134,2,19920621,       0613,   -32.5052,  -155.6582,       5151,  5223.4,   1.1169,  34.7105,2,  34.7107,2,    204.5,2,   205.4,2,  119.98,2,   31.96,2,    0.01,2,    2.25,2,   0.004,2,   0.005,2,  2262.6,6,  -999.0,9,-999.000,9,-999.0000,9, -999.00,9, -999.00,9,  -999.0,9,  -999.0,-999.000,9,-999.000,     -999.0,-999.0000,-999.000,     0.6684,-999.000