BOTTLE,20211025CCHSIORKP
EXPOCODE,SECT_ID,STNNBR,CASTNO,SAMPNO,BTLNBR,BTLNBR_FLAG_W,DATE,TIME,LATITUDE,LONGITUDE,DEPTH,CTDPRS,CTDTMP,CTDSAL,CTDSAL_FLAG_W,SALNTY,SALNTY_FLAG_W,CTDOXY,CTDOXY_FLAG_W,OXYGEN,OXYGEN_FLAG_W,SILCAT,SILCAT_FLAG_W,NITRAT,NITRAT_FLAG_W,NITRIT,NITRIT_FLAG_W,PHSPHT,PHSPHT_FLAG_W,CFC-11,CFC-11_FLAG_W,CFC-12,CFC-12_FLAG_W,TCARBN,TCARBN_FLAG_W,PCO2,PCO2_FLAG_W,TRITUM,TRITUM_FLAG_W,HELIUM,HELIUM_FLAG_W,DELHE3,DELHE3_FLAG_W,DELC13,DELC13_FLAG_W,DELC14,DELC14_FLAG_W,C14ERR,NEON,NEON_FLAG_W,NEONER,PCO2TMP,HELIER,DELHER,THETA,TRITER
,,,,,,,,,,,METERS,DBAR,ITS-90,PSS-78,,PSS-78,,UMOL/KG,,UMOL/KG,,UMOL/KG,,UMOL/KG,,UMOL/KG,,UMOL/KG,,PMOL/KG,,PMOL/KG,,UMOL/KG,,UATM,,TU,,NMOL/KG,,PERCNT,,/MILLE,,/MILLE,,/MILLE,NMOL/KG,,NMOL/KG,DEG_C,NMOL/KG,PERCNT,ITS-90,TU
  316N138_4,       P06C,     159,          1,         36,    02-9121,2,19920627,       2120,   -32.5000,  -170.7442,       5718,    20.8,  16.4603,  35.4878,2,  35.4870,2,    408.4,3,   237.3,2,    1.28,2,    0.12,2,    0.00,2,    0.19,2,   2.811,2,-999.000,9,  -999.0,9,  -999.0,9,-999.000,9,-999.0000,9, -999.00,9, -999.00,9,  -999.0,9,  -999.0,-999.000,9,-999.000,     -999.0,-999.0000,-999.000,    16.4570,-999.000
  316N138_4,       P06C,     159,          1,         35,    02-9454,2,19920627,       2120,   -32.5000,  -170.7442,       5718,    62.3,  16.4432,  35.4936,2,  35.4914,2,    239.8,2,   240.7,2,    1.31,2,    0.17,2,    0.00,2,    0.18,2,   2.803,2,   1.384,2,  -999.0,9,  -999.0,9,-999.000,9,-999.0000,9, -999.00,9, -999.00,9,  -999.0,9,  -999.0,-999.000,9,-999.000,     -999.0,-999.0000,-999.000,    16.4332,-999.000
  316N138_4,       P06C,     159,          1,         34,    02-9457,2,19920627,       2120,   -32.5000,  -170.7442,       5718,   110.5,  16.4409,  35.5057,2,  35.5034,2,    233.2,2,   236.6,2,    1.35,2,    0.18,2,    0.00,2,    0.20,2,   2.817,2,   1.386,2,  -999.0,9,  -999.0,9,-999.000,9,-999.0000,9, -999.00,9, -999.00,9,  -999.0,9,  -999.0,-999.000,9,-999.000,     -999.0,-999.0000,-999.000,    16.4231,-999.000
  316N138_4,       P06C,     159,          1,         33,    02-5367,2,19920627,       2120,   -32.5000,  -170.7442,       5718,   210.6,  13.3197,  35.1530,2,  35.1506,2,    206.3,2,   212.3,2,    2.92,2,    7.53,2,    0.01,2,    0.66,2,   2.719,2,   1.274,2,  -999.0,9,  -999.0,9,-999.000,9,-999.0000,9, -999.00,9, -999.00,9,  -999.0,9,  -999.0,-999.000,9,-999.000,     -999.0,-999.0000,-999.000,    13.2902,-999.000
  316N138_4,       P06C,     159,          1,         32,    02-9540,2,19920627,       2120,   -32.5000,  -170.7442,       5718,   310.9,  10.8494,  34.8322,2,  34.8263,2,    213.4,2,   211.4,2,    4.50,2,   13.17,2,    0.01,2,    1.02,2,   2.533,2,   1.199,2,  -999.0,9,  -999.0,9,-999.000,9,-999.0000,9, -999.00,9, -999.00,9,  -999.0,9,  -999.0,-999.000,9,-999.000,     -999.0,-999.0000,-999.000,    10.8112,-999.000
  316N138_4,       P06C,     159,          1,         31,    02-9539,2,19920627,       2120,   -32.5000,  -170.7442,       5718,   410.3,   8.8863,  34.6082,2,  34.6093,2,    211.9,2,   214.5,2,    6.07,2,   18.10,2,    0.00,2,    1.30,2,   1.627,6,   0.784,6,  -999.0,9,  -999.0,9,-999.000,9,-999.0000,9, -999.00,9, -999.00,9,  -999.0,9,  -999.0,-999.000,9,-999.000,     -999.0,-999.0000,-999.000,     8.8417,-999.000
  316N138_4,       P06C,     159,          1,         30,    02-9456,2,19920627,       2120,   -32.5000,  -170.7442,       5718,   508.8,   7.8997,  34.5016,2,  34.5007,2,    223.4,2,   226.6,2,    6.80,2,   19.99,2,   -0.01,2,    1.42,2,   1.500,2,   0.722,2,  -999.0,9,  -999.0,9,-999.000,9,-999.0000,9, -999.00,9, -999.00,9,  -999.0,9,  -999.0,-999.000,9,-999.000,     -999.0,-999.0000,-999.000,     7.8479,-999.000
  316N138_4,       P06C,     159,          1,         29,    02-9458,2,19920627,       2120,   -32.5000,  -170.7442,       5718,   610.9,   7.1679,  34.4280,2,  34.4286,2,    235.6,2,   234.7,2,    7.69,2,   21.28,2,    0.00,2,    1.47,2,   1.177,2,   0.589,2,  -999.0,9,  -999.0,9,-999.000,9,-999.0000,9, -999.00,9, -999.00,9,  -999.0,9,  -999.0,-999.000,9,-999.000,     -999.0,-999.0000,-999.000,     7.1087,-999.000
  316N138_4,       P06C,     159,          1,         28,    02-9545,2,19920627,       2120,   -32.5000,  -170.7442,       5718,   712.0,   6.6868,  34.3881,2,  34.3894,2,    238.2,2,   231.5,2,    9.94,2,   23.09,2,   -0.01,2,    1.60,2,   0.631,2,   0.333,2,  -999.0,9,  -999.0,9,-999.000,9,-999.0000,9, -999.00,9, -999.00,9,  -999.0,9,  -999.0,-999.000,9,-999.000,     -999.0,-999.0000,-999.000,     6.6200,-999.000
  316N138_4,       P06C,     159,          1,         27,    02-9453,2,19920627,       2120,   -32.5000,  -170.7442,       5718,   813.0,   6.2128,  34.3581,2,  34.3578,2,    231.9,2,   249.6,4,   12.89,2,   24.78,2,   -0.01,2,    1.71,2,   0.422,2,   0.231,2,  -999.0,9,  -999.0,9,-999.000,9,-999.0000,9, -999.00,9, -999.00,9,  -999.0,9,  -999.0,-999.000,9,-999.000,     -999.0,-999.0000,-999.000,     6.1389,-999.000
  316N138_4,       P06C,     159,          1,         26,    02-9544,2,19920627,       2120,   -32.5000,  -170.7442,       5718,   912.5,   5.6491,  34.3381,2,  34.3360,2,    220.4,2,   219.4,2,   18.06,2,   26.92,2,    0.00,2,    1.85,2,   0.263,2,   0.150,2,  -999.0,9,  -999.0,9,-999.000,9,-999.0000,9, -999.00,9, -999.00,9,  -999.0,9,  -999.0,-999.000,9,-999.000,     -999.0,-999.0000,-999.000,     5.5695,-999.000
  316N138_4,       P06C,     159,          1,         25,    02-9455,2,19920627,       2120,   -32.5000,  -170.7442,       5718,  1012.5,   5.0574,  34.3353,2,  34.3358,2,    208.7,2,   209.8,2,   25.45,2,   29.15,2,    0.01,2,    1.99,2,   0.151,2,   0.086,2,  -999.0,9,  -999.0,9,-999.000,9,-999.0000,9, -999.00,9, -999.00,9,  -999.0,9,  -999.0,-999.000,9,-999.000,     -999.0,-999.0000,-999.000,     4.9728,-999.000
  316N138_4,       P06C,     159,          1,         24,        132,2,19920627,       2120,   -32.5000,  -170.7442,       5718,  1213.4,   3.7795,  34.3821,2,  34.3825,2,    191.8,3,   187.0,2,   46.17,2,   32.52,2,    0.22,3,    2.25,2,   0.025,6,   0.014,6,  -999.0,9,  -999.0,9,-999.000,9,-999.0000,9, -999.00,9, -999.00,9,  -999.0,9,  -999.0,-999.000,9,-999.000,     -999.0,-999.0000,-999.000,     3.6880,-999.000
  316N138_4,       P06C,     159,          1,         23,        123,2,19920627,       2120,   -32.5000,  -170.7442,       5718,  1414.2,   3.1452,  34.4722,2,  34.4724,2,    172.5,2,   171.6,2,   66.05,2,   34.30,2,   -0.01,2,    2.36,2,   0.000,2,   0.002,2,  -999.0,9,  -999.0,9,-999.000,9,-999.0000,9, -999.00,9, -999.00,9,  -999.0,9,  -999.0,-999.000,9,-999.000,     -999.0,-999.0000,-999.000,     3.0432,-999.000
  316N138_4,       P06C,     159,          1,         22,        128,2,19920627,       2120,   -32.5000,  -170.7442,       5718,  1613.9,   2.7215,  34.5583,2,  34.5588,2,    161.9,2,   161.2,2,   86.77,2,   35.02,2,    0.03,3,    2.41,2,   0.008,2,   0.002,2,  -999.0,9,  -999.0,9,-999.000,9,-999.0000,9, -999.00,9, -999.00,9,  -999.0,9,  -999.0,-999.000,9,-999.000,     -999.0,-999.0000,-999.000,     2.6076,-999.000
  316N138_4,       P06C,     159,          1,         21,        121,2,19920627,       2120,   -32.5000,  -170.7442,       5718,  1811.8,   2.5003,  34.5986,2,  34.5993,2,    155.7,2,   154.0,2,  100.15,2,   35.51,2,    0.00,2,    2.48,2,  -0.005,2,   0.000,2,  -999.0,9,  -999.0,9,-999.000,9,-999.0000,9, -999.00,9, -999.00,9,  -999.0,9,  -999.0,-999.000,9,-999.000,     -999.0,-999.0000,-999.000,     2.3726,-999.000
  316N138_4,       P06C,     159,          1,         20,        120,2,19920627,       2120,   -32.5000,  -170.7442,       5718,  2016.2,   2.3166,  34.6230,2,  34.6227,2,    150.9,2,   150.8,2,  110.79,2,   35.90,2,    0.02,2,    2.51,2,  -0.001,2,   0.005,2,  -999.0,9,  -999.0,9,-999.000,9,-999.0000,9, -999.00,9, -999.00,9,  -999.0,9,  -999.0,-999.000,9,-999.000,     -999.0,-999.0000,-999.000,     2.1740,-999.000
  316N138_4,       P06C,     159,          1,         19,        133,2,19920627,       2120,   -32.5000,  -170.7442,       5718,  2216.8,   2.1721,  34.6382,2,  34.6376,2,    149.1,2,   148.8,2,  117.66,2,   36.16,2,    0.02,2,    2.54,2,-999.000,5,-999.000,5,  -999.0,9,  -999.0,9,-999.000,9,-999.0000,9, -999.00,9, -999.00,9,  -999.0,9,  -999.0,-999.000,9,-999.000,     -999.0,-999.0000,-999.000,     2.0142,-999.000
  316N138_4,       P06C,     159,          1,         18,        118,2,19920627,       2120,   -32.5000,  -170.7442,       5718,  2420.3,   2.0508,  34.6479,2,  34.6476,2,    147.7,2,   147.5,2,  121.64,2,   36.15,2,    0.00,2,    2.55,2,  -0.003,2,   0.003,2,  -999.0,9,  -999.0,9,-999.000,9,-999.0000,9, -999.00,9, -999.00,9,  -999.0,9,  -999.0,-999.000,9,-999.000,     -999.0,-999.0000,-999.000,     1.8768,-999.000
  316N138_4,       P06C,     159,          1,         17,        117,2,19920627,       2120,   -32.5000,  -170.7442,       5718,  2621.6,   1.9619,  34.6571,2,  34.6574,2,    148.3,2,   148.4,2,  124.94,2,   35.83,2,    0.04,3,    2.53,2,  -0.003,2,  -0.003,2,  -999.0,9,  -999.0,9,-999.000,9,-999.0000,9, -999.00,9, -999.00,9,  -999.0,9,  -999.0,-999.000,9,-999.000,     -999.0,-999.0000,-999.000,     1.7712,-999.000
  316N138_4,       P06C,     159,          1,         16,        116,2,19920627,       2120,   -32.5000,  -170.7442,       5718,  2827.5,   1.8657,  34.6658,2,  34.6661,2,    150.4,2,   150.3,2,  127.03,2,   35.64,2,    0.00,2,    2.54,3,  -0.003,2,  -0.003,2,  -999.0,9,  -999.0,9,-999.000,9,-999.0000,9, -999.00,9, -999.00,9,  -999.0,9,  -999.0,-999.000,9,-999.000,     -999.0,-999.0000,-999.000,     1.6575,-999.000
  316N138_4,       P06C,     159,          1,         15,        115,2,19920627,       2120,   -32.5000,  -170.7442,       5718,  3033.2,   1.7746,  34.6758,2,  34.6749,2,    154.2,2,   156.2,2,  127.58,2,   34.90,2,    0.00,2,    2.50,3,-999.000,5,-999.000,5,  -999.0,9,  -999.0,9,-999.000,9,-999.0000,9, -999.00,9, -999.00,9,  -999.0,9,  -999.0,-999.000,9,-999.000,     -999.0,-999.0000,-999.000,     1.5485,-999.000
  316N138_4,       P06C,     159,          1,         14,        114,2,19920627,       2120,   -32.5000,  -170.7442,       5718,  3233.3,   1.7126,  34.6935,2,  34.6938,2,    168.8,2,   174.7,4,  118.90,2,   33.37,2,    0.00,2,    2.42,3,-999.000,5,-999.000,5,  -999.0,9,  -999.0,9,-999.000,9,-999.0000,9, -999.00,9, -999.00,9,  -999.0,9,  -999.0,-999.000,9,-999.000,     -999.0,-999.0000,-999.000,     1.4681,-999.000
  316N138_4,       P06C,     159,          1,         13,        125,2,19920627,       2120,   -32.5000,  -170.7442,       5718,  3436.2,   1.5897,  34.7099,2,  34.7101,2,    182.5,2,   176.2,3,  112.95,2,   32.05,3,   -0.01,2,    2.33,3,   0.000,2,   0.005,2,  -999.0,9,  -999.0,9,-999.000,9,-999.0000,9, -999.00,9, -999.00,9,  -999.0,9,  -999.0,-999.000,9,-999.000,     -999.0,-999.0000,-999.000,     1.3277,-999.000
  316N138_4,       P06C,     159,          1,         12,        112,2,19920627,       2120,   -32.5000,  -170.7442,       5718,  3641.0,   1.4612,  34.7181,2,  34.7174,2,    192.4,2,   191.2,2,  111.11,2,   31.45,3,    0.00,2,    2.28,3,-999.000,5,-999.000,5,  -999.0,9,  -999.0,9,-999.000,9,-999.0000,9, -999.00,9, -999.00,9,  -999.0,9,  -999.0,-999.000,9,-999.000,     -999.0,-999.0000,-999.000,     1.1813,-999.000
  316N138_4,       P06C,     159,          1,         11,        129,2,19920627,       2120,   -32.5000,  -170.7442,       5718,  3842.6,   1.3517,  34.7200,2,  34.7195,2,    198.0,2,   198.6,2,  111.84,2,   31.11,3,    0.01,2,    2.24,3,-999.000,5,-999.000,5,  -999.0,9,  -999.0,9,-999.000,9,-999.0000,9, -999.00,9, -999.00,9,  -999.0,9,  -999.0,-999.000,9,-999.000,     -999.0,-999.0000,-999.000,     1.0535,-999.000
  316N138_4,       P06C,     159,          1,         10,        110,2,19920627,       2120,   -32.5000,  -170.7442,       5718,  4049.4,   1.2612,  34.7181,2,  34.7186,2,    201.2,2,   200.7,2,  113.25,2,   31.09,3,   -0.01,2,    2.24,3,-999.000,5,-999.000,5,  -999.0,9,  -999.0,9,-999.000,9,-999.0000,9, -999.00,9, -999.00,9,  -999.0,9,  -999.0,-999.000,9,-999.000,     -999.0,-999.0000,-999.000,     0.9436,-999.000
  316N138_4,       P06C,     159,          1,          9,        126,2,19920627,       2120,   -32.5000,  -170.7442,       5718,  4255.2,   1.1630,  34.7163,2,  34.7170,2,    204.0,2,   206.3,3,  116.37,2,   31.05,3,   -0.01,2,    2.24,3,   0.002,2,   0.004,2,  -999.0,9,  -999.0,9,-999.000,9,-999.0000,9, -999.00,9, -999.00,9,  -999.0,9,  -999.0,-999.000,9,-999.000,     -999.0,-999.0000,-999.000,     0.8257,-999.000
  316N138_4,       P06C,     159,          1,          8,        108,2,19920627,       2120,   -32.5000,  -170.7442,       5718,  4457.6,   1.0901,  34.7134,2,  34.7131,2,    205.7,2,   205.6,2,  118.12,2,   31.21,3,    0.00,2,    2.25,3,-999.000,5,-999.000,5,  -999.0,9,  -999.0,9,-999.000,9,-999.0000,9, -999.00,9, -999.00,9,  -999.0,9,  -999.0,-999.000,9,-999.000,     -999.0,-999.0000,-999.000,     0.7325,-999.000
  316N138_4,       P06C,     159,          1,          7,        107,2,19920627,       2120,   -32.5000,  -170.7442,       5718,  4663.1,   1.0579,  34.7114,2,  34.7119,2,    206.8,2,   207.3,2,  120.05,2,   31.37,3,    0.01,2,    2.24,3,-999.000,5,-999.000,5,  -999.0,9,  -999.0,9,-999.000,9,-999.0000,9, -999.00,9, -999.00,9,  -999.0,9,  -999.0,-999.000,9,-999.000,     -999.0,-999.0000,-999.000,     0.6779,-999.000
  316N138_4,       P06C,     159,          1,          6,        180,2,19920627,       2120,   -32.5000,  -170.7442,       5718,  4866.4,   1.0349,  34.7096,2,  34.7097,2,    207.6,2,   207.2,2,  120.95,2,   31.40,3,    0.04,3,    2.25,3,-999.000,5,-999.000,5,  -999.0,9,  -999.0,9,-999.000,9,-999.0000,9, -999.00,9, -999.00,9,  -999.0,9,  -999.0,-999.000,9,-999.000,     -999.0,-999.0000,-999.000,     0.6320,-999.000
  316N138_4,       P06C,     159,          1,          5,        131,2,19920627,       2120,   -32.5000,  -170.7442,       5718,  5072.1,   1.0399,  34.7085,2,  34.7081,2,    207.7,2,   207.4,2,  121.85,2,   31.51,3,    0.04,3,    2.24,3,   0.006,2,  -0.003,2,  -999.0,9,  -999.0,9,-999.000,9,-999.0000,9, -999.00,9, -999.00,9,  -999.0,9,  -999.0,-999.000,9,-999.000,     -999.0,-999.0000,-999.000,     0.6125,-999.000
  316N138_4,       P06C,     159,          1,          4,        104,2,19920627,       2120,   -32.5000,  -170.7442,       5718,  5278.4,   1.0519,  34.7077,2,  34.7070,2,    208.0,2,   207.3,2,  121.71,2,   31.84,2,   -0.02,2,    2.24,3,   0.005,2,   0.005,2,  -999.0,9,  -999.0,9,-999.000,9,-999.0000,9, -999.00,9, -999.00,9,  -999.0,9,  -999.0,-999.000,9,-999.000,     -999.0,-999.0000,-999.000,     0.5991,-999.000
  316N138_4,       P06C,     159,          1,          3,        130,2,19920627,       2120,   -32.5000,  -170.7442,       5718,  5484.5,   1.0713,  34.7081,2,  34.7068,2,    208.2,2,   207.9,2,  122.44,2,   31.93,2,   -0.01,2,    2.25,3,   0.004,2,   0.002,2,  -999.0,9,  -999.0,9,-999.000,9,-999.0000,9, -999.00,9, -999.00,9,  -999.0,9,  -999.0,-999.000,9,-999.000,     -999.0,-999.0000,-999.000,     0.5923,-999.000
  316N138_4,       P06C,     159,          1,          2,        135,2,19920627,       2120,   -32.5000,  -170.7442,       5718,  5688.6,   1.0966,  34.7078,2,  34.7068,2,    207.3,2,   207.2,2,  121.96,2,   31.88,2,    0.02,2,    2.24,3,   0.005,2,   0.003,2,  -999.0,9,  -999.0,9,-999.000,9,-999.0000,9, -999.00,9, -999.00,9,  -999.0,9,  -999.0,-999.000,9,-999.000,     -999.0,-999.0000,-999.000,     0.5908,-999.000
  316N138_4,       P06C,     159,          1,          1,        134,2,19920627,       2120,   -32.5000,  -170.7442,       5718,  5809.1,   1.1126,  34.7083,2,  34.7064,2,    211.4,2,   207.1,2,  121.69,2,   32.14,2,    0.00,2,    2.24,3,   0.006,6,   0.002,6,  -999.0,9,  -999.0,9,-999.000,9,-999.0000,9, -999.00,9, -999.00,9,  -999.0,9,  -999.0,-999.000,9,-999.000,     -999.0,-999.0000,-999.000,     0.5907,-999.000