BOTTLE,20211025CCHSIORKP
EXPOCODE,SECT_ID,STNNBR,CASTNO,SAMPNO,BTLNBR,BTLNBR_FLAG_W,DATE,TIME,LATITUDE,LONGITUDE,DEPTH,CTDPRS,CTDTMP,CTDSAL,CTDSAL_FLAG_W,SALNTY,SALNTY_FLAG_W,CTDOXY,CTDOXY_FLAG_W,OXYGEN,OXYGEN_FLAG_W,SILCAT,SILCAT_FLAG_W,NITRAT,NITRAT_FLAG_W,NITRIT,NITRIT_FLAG_W,PHSPHT,PHSPHT_FLAG_W,CFC-11,CFC-11_FLAG_W,CFC-12,CFC-12_FLAG_W,TCARBN,TCARBN_FLAG_W,PCO2,PCO2_FLAG_W,TRITUM,TRITUM_FLAG_W,HELIUM,HELIUM_FLAG_W,DELHE3,DELHE3_FLAG_W,DELC13,DELC13_FLAG_W,DELC14,DELC14_FLAG_W,C14ERR,NEON,NEON_FLAG_W,NEONER,PCO2TMP,HELIER,DELHER,THETA,TRITER
,,,,,,,,,,,METERS,DBAR,ITS-90,PSS-78,,PSS-78,,UMOL/KG,,UMOL/KG,,UMOL/KG,,UMOL/KG,,UMOL/KG,,UMOL/KG,,PMOL/KG,,PMOL/KG,,UMOL/KG,,UATM,,TU,,NMOL/KG,,PERCNT,,/MILLE,,/MILLE,,/MILLE,NMOL/KG,,NMOL/KG,DEG_C,NMOL/KG,PERCNT,ITS-90,TU
  316N138_4,       P06C,      96,          1,         36,    02-9121,2,19920607,       1641,   -32.5000,  -127.3248,       3209,    20.3,  19.6884,  35.2379,2,  35.2422,2,    351.2,3,   227.0,2,    0.18,2,    0.05,2,   -0.01,2,    0.10,2,   2.311,6,   1.220,6,  2013.1,6,   341.6,6,-999.000,9,-999.0000,9, -999.00,9, -999.00,9,  -999.0,9,  -999.0,-999.000,9,-999.000,      20.20,-999.0000,-999.000,    19.6847,-999.000
  316N138_4,       P06C,      96,          1,         35,    02-9454,2,19920607,       1641,   -32.5000,  -127.3248,       3209,    50.2,  19.6898,  35.2380,2,  35.2416,2,    227.0,2,   227.2,2,    0.18,2,    0.05,2,   -0.01,2,    0.13,2,   2.307,2,   1.169,2,  2013.3,2,  -999.0,9,-999.000,9,-999.0000,9, -999.00,9, -999.00,9,  -999.0,9,  -999.0,-999.000,9,-999.000,     -999.0,-999.0000,-999.000,    19.6806,-999.000
  316N138_4,       P06C,      96,          1,         34,    02-9457,2,19920607,       1641,   -32.5000,  -127.3248,       3209,    89.6,  17.5558,  35.2093,2,  35.2166,2,    244.0,2,   240.3,2,    0.35,2,    0.05,2,   -0.01,2,    0.16,2,-999.000,9,-999.000,9,  2028.6,2,  -999.0,9,-999.000,9,-999.0000,9, -999.00,9, -999.00,9,  -999.0,9,  -999.0,-999.000,9,-999.000,     -999.0,-999.0000,-999.000,    17.5407,-999.000
  316N138_4,       P06C,      96,          1,         33,    02-5367,2,19920607,       1641,   -32.5000,  -127.3248,       3209,   120.3,  16.6944,  35.1594,2,  35.1668,2,    240.7,2,   232.9,2,    0.35,2,    0.11,2,    0.03,2,    0.19,2,   2.582,2,   1.300,2,  2037.6,2,  -999.0,9,-999.000,9,-999.0000,9, -999.00,9, -999.00,9,  -999.0,9,  -999.0,-999.000,9,-999.000,     -999.0,-999.0000,-999.000,    16.6749,-999.000
  316N138_4,       P06C,      96,          1,         32,    02-9540,3,19920607,       1641,   -32.5000,  -127.3248,       3209,   158.6,  15.1415,  34.9843,2,  35.0028,2,    230.7,2,   221.9,2,    0.53,2,    2.33,2,    0.06,2,    0.37,2,-999.000,9,-999.000,9,  2052.8,2,  -999.0,9,-999.000,9,-999.0000,9, -999.00,9, -999.00,9,  -999.0,9,  -999.0,-999.000,9,-999.000,     -999.0,-999.0000,-999.000,    15.1174,-999.000
  316N138_4,       P06C,      96,          1,         31,    02-9539,2,19920607,       1641,   -32.5000,  -127.3248,       3209,   200.1,  14.2436,  34.9658,2,  34.9516,2,    215.4,2,   209.5,2,    0.88,2,    5.52,2,   -0.01,2,    0.59,2,   2.285,2,   1.146,2,  2072.1,2,   486.5,6,-999.000,9,-999.0000,9, -999.00,9, -999.00,9,  -999.0,9,  -999.0,-999.000,9,-999.000,      20.20,-999.0000,-999.000,    14.2144,-999.000
  316N138_4,       P06C,      96,          1,         30,    02-9456,2,19920607,       1641,   -32.5000,  -127.3248,       3209,   236.8,  13.2536,  34.8686,2,  34.8670,2,    207.8,2,   205.7,2,    1.41,2,    8.10,2,   -0.01,2,    0.73,2,-999.000,9,-999.000,9,  2084.4,2,  -999.0,9,-999.000,9,-999.0000,9, -999.00,9, -999.00,9,  -999.0,9,  -999.0,-999.000,9,-999.000,     -999.0,-999.0000,-999.000,    13.2206,-999.000
  316N138_4,       P06C,      96,          1,         29,    02-9458,2,19920607,       1641,   -32.5000,  -127.3248,       3209,   279.0,  11.7399,  34.7232,2,  34.7195,2,    209.8,2,   206.6,2,    2.12,2,   11.60,2,   -0.01,2,    0.93,2,   1.956,2,   0.967,2,  2098.2,2,  -999.0,9,-999.000,9,-999.0000,9, -999.00,9, -999.00,9,  -999.0,9,  -999.0,-999.000,9,-999.000,     -999.0,-999.0000,-999.000,    11.7040,-999.000
  316N138_4,       P06C,      96,          1,         28,    02-9545,2,19920607,       1641,   -32.5000,  -127.3248,       3209,   318.9,  10.1628,  34.5799,2,  34.5885,2,    213.8,2,   210.2,2,    3.00,2,   15.15,2,   -0.01,2,    1.12,2,   1.773,2,   0.878,2,  2110.3,6,  -999.0,9,-999.000,9,-999.0000,9, -999.00,9, -999.00,9,  -999.0,9,  -999.0,-999.000,9,-999.000,     -999.0,-999.0000,-999.000,    10.1254,-999.000
  316N138_4,       P06C,      96,          1,         27,    02-9453,2,19920607,       1641,   -32.5000,  -127.3248,       3209,   357.2,   9.2389,  34.5037,2,  34.5093,2,    217.3,2,   215.4,2,    3.88,2,   17.42,2,   -0.01,2,    1.27,2,   1.645,2,   0.812,2,  2118.5,2,  -999.0,9,-999.000,9,-999.0000,9, -999.00,9, -999.00,9,  -999.0,9,  -999.0,-999.000,9,-999.000,     -999.0,-999.0000,-999.000,     9.1994,-999.000
  316N138_4,       P06C,      96,          1,         26,    02-9544,2,19920607,       1641,   -32.5000,  -127.3248,       3209,   399.1,   8.3219,  34.4416,2,  34.4555,2,    222.0,2,   218.6,2,    4.76,2,   19.34,2,   -0.01,2,    1.38,2,   1.523,2,   0.737,2,  2125.0,2,  -999.0,9,-999.000,9,-999.0000,9, -999.00,9, -999.00,9,  -999.0,9,  -999.0,-999.000,9,-999.000,     -999.0,-999.0000,-999.000,     8.2804,-999.000
  316N138_4,       P06C,      96,          1,         25,    02-9455,2,19920607,       1641,   -32.5000,  -127.3248,       3209,   416.8,   8.1789,  34.4389,2,  34.4416,2,    223.1,2,   221.2,2,    4.93,2,   19.80,2,    0.00,2,    1.42,2,   1.502,2,   0.738,2,  2126.8,2,   727.8,6,-999.000,9,-999.0000,9, -999.00,9, -999.00,9,  -999.0,9,  -999.0,-999.000,9,-999.000,      20.20,-999.0000,-999.000,     8.1359,-999.000
  316N138_4,       P06C,      96,          1,         24,        132,2,19920607,       1641,   -32.5000,  -127.3248,       3209,   456.1,   7.5894,  34.4123,2,  34.4139,2,    228.8,2,   229.5,2,    5.64,2,   20.85,2,    0.00,2,    1.47,2,   1.511,6,   0.746,6,  2129.6,2,  -999.0,9,-999.000,9,-999.0000,9, -999.00,9, -999.00,9,  -999.0,9,  -999.0,-999.000,9,-999.000,     -999.0,-999.0000,-999.000,     7.5443,-999.000
  316N138_4,       P06C,      96,          1,         23,        123,2,19920607,       1641,   -32.5000,  -127.3248,       3209,   503.6,   7.0006,  34.3820,2,  34.3831,2,    236.8,2,   238.0,2,    6.70,2,   21.96,2,    0.00,2,    1.52,2,-999.000,5,   0.681,2,  2131.7,2,  -999.0,9,-999.000,9,-999.0000,9, -999.00,9, -999.00,9,  -999.0,9,  -999.0,-999.000,9,-999.000,     -999.0,-999.0000,-999.000,     6.9528,-999.000
  316N138_4,       P06C,      96,          1,         22,        128,2,19920607,       1641,   -32.5000,  -127.3248,       3209,   575.8,   6.5975,  34.3597,2,  34.3629,2,    243.7,2,   243.9,2,    7.58,2,   22.62,2,    0.01,2,    1.57,2,   1.301,6,   0.654,6,  2131.9,2,  -999.0,9,-999.000,9,-999.0000,9, -999.00,9, -999.00,9,  -999.0,9,  -999.0,-999.000,9,-999.000,     -999.0,-999.0000,-999.000,     6.5444,-999.000
  316N138_4,       P06C,      96,          1,         21,        121,2,19920607,       1641,   -32.5000,  -127.3248,       3209,   652.4,   6.2405,  34.3348,2,  34.3372,2,    244.4,2,   242.0,2,    8.99,2,   23.64,2,    0.00,2,    1.63,2,   0.974,2,   0.501,2,  2135.9,2,  -999.0,9,-999.000,9,-999.0000,9, -999.00,9, -999.00,9,  -999.0,9,  -999.0,-999.000,9,-999.000,     -999.0,-999.0000,-999.000,     6.1818,-999.000
  316N138_4,       P06C,      96,          1,         20,        120,2,19920607,       1641,   -32.5000,  -127.3248,       3209,   727.6,   5.9357,  34.3213,2,  34.3162,2,    242.6,2,   240.5,2,   10.39,2,   24.55,2,    0.00,2,    1.69,2,   0.737,6,   0.404,6,  2139.4,2,  -999.0,9,-999.000,9,-999.0000,9, -999.00,9, -999.00,9,  -999.0,9,  -999.0,-999.000,9,-999.000,     -999.0,-999.0000,-999.000,     5.8715,-999.000
  316N138_4,       P06C,      96,          1,         19,        133,2,19920607,       1641,   -32.5000,  -127.3248,       3209,   802.4,   5.4811,  34.2975,2,  34.2987,2,    235.2,2,   233.0,2,   14.10,2,   26.42,2,    0.00,2,    1.81,2,   0.466,2,   0.253,2,  2150.0,2,   838.5,6,-999.000,9,-999.0000,9, -999.00,9, -999.00,9,  -999.0,9,  -999.0,-999.000,9,-999.000,      20.20,-999.0000,-999.000,     5.4127,-999.000
  316N138_4,       P06C,      96,          1,         18,        118,2,19920607,       1641,   -32.5000,  -127.3248,       3209,   876.4,   5.0674,  34.2935,2,  34.2976,2,    224.0,2,   221.3,2,   19.03,2,   28.30,2,    0.00,2,    1.93,2,   0.287,2,   0.160,2,  2162.7,6,  -999.0,9,-999.000,9,-999.0000,9, -999.00,9, -999.00,9,  -999.0,9,  -999.0,-999.000,9,-999.000,     -999.0,-999.0000,-999.000,     4.9950,-999.000
  316N138_4,       P06C,      96,          1,         17,        117,2,19920607,       1641,   -32.5000,  -127.3248,       3209,   952.3,   4.6722,  34.3047,2,  34.3036,2,    211.5,2,   207.1,2,   25.38,2,   30.09,2,    0.00,2,    2.06,2,   0.174,2,   0.113,2,  2178.0,2,  -999.0,9,-999.000,9,-999.0000,9, -999.00,9, -999.00,9,  -999.0,9,  -999.0,-999.000,9,-999.000,     -999.0,-999.0000,-999.000,     4.5959,-999.000
  316N138_4,       P06C,      96,          1,         16,        116,2,19920607,       1641,   -32.5000,  -127.3248,       3209,  1026.4,   4.2407,  34.3306,2,  34.3293,2,    199.4,3,   194.9,2,   33.83,2,   31.88,2,    0.00,2,    2.17,2,   0.087,2,   0.057,2,  2195.0,2,  -999.0,9,-999.000,9,-999.0000,9, -999.00,9, -999.00,9,  -999.0,9,  -999.0,-999.000,9,-999.000,     -999.0,-999.0000,-999.000,     4.1612,-999.000
  316N138_4,       P06C,      96,          1,         15,        115,2,19920607,       1641,   -32.5000,  -127.3248,       3209,  1099.9,   3.8567,  34.3642,2,  34.3613,2,    191.2,3,   183.4,2,   42.81,2,   33.19,2,   -0.01,2,    2.28,2,   0.048,2,   0.033,2,  2210.7,2,  -999.0,9,-999.000,9,-999.0000,9, -999.00,9, -999.00,9,  -999.0,9,  -999.0,-999.000,9,-999.000,     -999.0,-999.0000,-999.000,     3.7742,-999.000
  316N138_4,       P06C,      96,          1,         14,        114,2,19920607,       1641,   -32.5000,  -127.3248,       3209,  1200.8,   3.4612,  34.4089,2,  34.4082,2,    178.5,2,   174.9,2,   53.38,2,   34.21,2,    0.00,2,    2.35,2,   0.020,2,   0.027,3,  2227.0,2,  -999.0,9,-999.000,9,-999.0000,9, -999.00,9, -999.00,9,  -999.0,9,  -999.0,-999.000,9,-999.000,     -999.0,-999.0000,-999.000,     3.3737,-999.000
  316N138_4,       P06C,      96,          1,         13,        125,2,19920607,       1641,   -32.5000,  -127.3248,       3209,  1355.2,   3.0399,  34.4700,2,  34.4703,2,    169.0,2,   169.4,2,   65.89,2,   34.69,2,    0.00,2,    2.39,2,-999.000,9,-999.000,9,  2242.9,2,  -999.0,9,-999.000,9,-999.0000,9, -999.00,9, -999.00,9,  -999.0,9,  -999.0,-999.000,9,-999.000,     -999.0,-999.0000,-999.000,     2.9438,-999.000
  316N138_4,       P06C,      96,          1,         12,        112,2,19920607,       1641,   -32.5000,  -127.3248,       3209,  1502.7,   2.7411,  34.5257,2,  34.5241,2,    164.1,2,   164.6,2,   77.51,2,   34.89,2,    0.00,2,    2.42,2,   0.004,2,   0.004,2,  2256.4,2,  -999.0,9,-999.000,9,-999.0000,9, -999.00,9, -999.00,9,  -999.0,9,  -999.0,-999.000,9,-999.000,     -999.0,-999.0000,-999.000,     2.6362,-999.000
  316N138_4,       P06C,      96,          1,         11,        129,2,19920607,       1641,   -32.5000,  -127.3248,       3209,  1656.5,   2.4721,  34.5778,2,  34.5763,2,    160.8,2,   160.3,2,   90.71,2,   35.08,2,    0.00,2,    2.45,2,-999.000,9,-999.000,9,  2271.2,2,  -999.0,9,-999.000,9,-999.0000,9, -999.00,9, -999.00,9,  -999.0,9,  -999.0,-999.000,9,-999.000,     -999.0,-999.0000,-999.000,     2.3577,-999.000
  316N138_4,       P06C,      96,          1,         10,        110,2,19920607,       1641,   -32.5000,  -127.3248,       3209,  1808.0,   2.2751,  34.6095,2,  34.6111,2,    157.4,2,   157.4,2,  101.28,2,   35.23,2,    0.00,2,    2.48,2,   0.000,2,  -0.006,2,  2283.0,2,  1195.6,6,-999.000,9,-999.0000,9, -999.00,9, -999.00,9,  -999.0,9,  -999.0,-999.000,9,-999.000,      20.20,-999.0000,-999.000,     2.1507,-999.000
  316N138_4,       P06C,      96,          1,          9,        126,2,19920607,       1641,   -32.5000,  -127.3248,       3209,  1957.2,   2.1222,  34.6295,2,  34.6299,2,    156.6,2,   156.0,2,  108.67,2,   35.32,2,    0.00,2,    2.50,2,-999.000,9,-999.000,9,  2290.8,2,  -999.0,9,-999.000,9,-999.0000,9, -999.00,9, -999.00,9,  -999.0,9,  -999.0,-999.000,9,-999.000,     -999.0,-999.0000,-999.000,     1.9875,-999.000
  316N138_4,       P06C,      96,          1,          8,        108,2,19920607,       1641,   -32.5000,  -127.3248,       3209,  2109.7,   2.0282,  34.6398,2,  34.6407,2,    156.5,2,   156.3,2,  112.71,2,   35.33,2,    0.00,2,    2.50,2,   0.001,2,   0.003,2,  2293.4,2,  -999.0,9,-999.000,9,-999.0000,9, -999.00,9, -999.00,9,  -999.0,9,  -999.0,-999.000,9,-999.000,     -999.0,-999.0000,-999.000,     1.8820,-999.000
  316N138_4,       P06C,      96,          1,          7,        107,3,19920607,       1641,   -32.5000,  -127.3248,       3209,  2268.7,   1.9242,  34.6505,2,  34.6496,2,    157.3,2,   158.0,2,  114.29,3,   35.00,3,    0.00,3,    2.47,3,-999.000,9,-999.000,9,  2292.2,3,  -999.0,9,-999.000,9,-999.0000,9, -999.00,9, -999.00,9,  -999.0,9,  -999.0,-999.000,9,-999.000,     -999.0,-999.0000,-999.000,     1.7660,-999.000
  316N138_4,       P06C,      96,          1,          6,        180,2,19920607,       1641,   -32.5000,  -127.3248,       3209,  2422.9,   1.8406,  34.6579,2,  34.6596,2,    159.2,2,   158.4,2,  119.22,2,   35.25,2,    0.00,2,    2.49,2,-999.000,9,-999.000,9,  2298.6,2,  -999.0,9,-999.000,9,-999.0000,9, -999.00,9, -999.00,9,  -999.0,9,  -999.0,-999.000,9,-999.000,     -999.0,-999.0000,-999.000,     1.6701,-999.000
  316N138_4,       P06C,      96,          1,          5,        131,2,19920607,       1641,   -32.5000,  -127.3248,       3209,  2629.5,   1.7730,  34.6651,2,  34.6677,2,    161.6,2,   161.0,2,  120.79,2,   35.10,2,    0.00,2,    2.48,2,-999.000,9,-999.000,9,  2298.2,2,  -999.0,9,-999.000,9,-999.0000,9, -999.00,9, -999.00,9,  -999.0,9,  -999.0,-999.000,9,-999.000,     -999.0,-999.0000,-999.000,     1.5851,-999.000
  316N138_4,       P06C,      96,          1,          4,        104,2,19920607,       1641,   -32.5000,  -127.3248,       3209,  2836.2,   1.7190,  34.6700,2,  34.6726,2,    164.0,2,   163.4,2,  121.67,2,   35.01,2,    0.00,2,    2.47,2,  -0.002,2,   0.006,2,  2297.7,2,  -999.0,9,-999.000,9,-999.0000,9, -999.00,9, -999.00,9,  -999.0,9,  -999.0,-999.000,9,-999.000,     -999.0,-999.0000,-999.000,     1.5130,-999.000
  316N138_4,       P06C,      96,          1,          3,        130,2,19920607,       1641,   -32.5000,  -127.3248,       3209,  3039.2,   1.6755,  34.6748,2,  34.6783,2,    166.7,2,   165.9,2,  122.55,2,   34.82,2,    0.00,2,    2.45,2,-999.000,9,-999.000,9,  2297.6,2,  -999.0,9,-999.000,9,-999.0000,9, -999.00,9, -999.00,9,  -999.0,9,  -999.0,-999.000,9,-999.000,     -999.0,-999.0000,-999.000,     1.4511,-999.000
  316N138_4,       P06C,      96,          1,          2,        135,2,19920607,       1641,   -32.5000,  -127.3248,       3209,  3280.3,   1.6608,  34.6769,2,  34.6816,2,    168.3,2,   166.9,2,  122.72,2,   34.72,2,    0.00,2,    2.44,2,-999.000,9,-999.000,9,  2296.8,6,  -999.0,9,-999.000,9,-999.0000,9, -999.00,9, -999.00,9,  -999.0,9,  -999.0,-999.000,9,-999.000,     -999.0,-999.0000,-999.000,     1.4130,-999.000
  316N138_4,       P06C,      96,          1,          1,        134,2,19920607,       1641,   -32.5000,  -127.3248,       3209,  3298.4,   1.6584,  34.6775,2,  34.6812,2,    168.4,2,   168.5,2,  122.63,2,   34.63,2,    0.00,2,    2.45,2,   0.000,6,   0.001,6,  2296.3,2,  1159.5,6,-999.000,9,-999.0000,9, -999.00,9, -999.00,9,  -999.0,9,  -999.0,-999.000,9,-999.000,      20.20,-999.0000,-999.000,     1.4089,-999.000