BOTTLE,20211025CCHSIORKP
EXPOCODE,SECT_ID,STNNBR,CASTNO,SAMPNO,BTLNBR,BTLNBR_FLAG_W,DATE,TIME,LATITUDE,LONGITUDE,DEPTH,CTDPRS,CTDTMP,CTDSAL,CTDSAL_FLAG_W,SALNTY,SALNTY_FLAG_W,CTDOXY,CTDOXY_FLAG_W,OXYGEN,OXYGEN_FLAG_W,SILCAT,SILCAT_FLAG_W,NITRAT,NITRAT_FLAG_W,NITRIT,NITRIT_FLAG_W,PHSPHT,PHSPHT_FLAG_W,CFC-11,CFC-11_FLAG_W,CFC-12,CFC-12_FLAG_W,TCARBN,TCARBN_FLAG_W,PCO2,PCO2_FLAG_W,TRITUM,TRITUM_FLAG_W,HELIUM,HELIUM_FLAG_W,DELHE3,DELHE3_FLAG_W,DELC13,DELC13_FLAG_W,DELC14,DELC14_FLAG_W,C14ERR,NEON,NEON_FLAG_W,NEONER,PCO2TMP,HELIER,DELHER,THETA,TRITER
,,,,,,,,,,,METERS,DBAR,ITS-90,PSS-78,,PSS-78,,UMOL/KG,,UMOL/KG,,UMOL/KG,,UMOL/KG,,UMOL/KG,,UMOL/KG,,PMOL/KG,,PMOL/KG,,UMOL/KG,,UATM,,TU,,NMOL/KG,,PERCNT,,/MILLE,,/MILLE,,/MILLE,NMOL/KG,,NMOL/KG,DEG_C,NMOL/KG,PERCNT,ITS-90,TU
  316N138_4,       P06C,      98,          1,         36,    02-9121,2,19920608,       0636,   -32.5007,  -128.6642,       4223,    19.5,  19.5154,  35.3002,2,  35.3025,2,    261.8,3,   227.6,2,    0.16,2,    0.02,2,   -0.01,2,    0.14,2,   2.316,6,   1.215,6,  2015.0,6,  -999.0,9,-999.000,9,-999.0000,9, -999.00,9, -999.00,9,  -999.0,9,  -999.0,-999.000,9,-999.000,     -999.0,-999.0000,-999.000,    19.5119,-999.000
  316N138_4,       P06C,      98,          1,         35,    02-9454,2,19920608,       0636,   -32.5007,  -128.6642,       4223,    47.8,  19.5158,  35.3009,2,  35.3027,2,    227.4,2,   228.2,2,    0.16,2,    0.02,2,   -0.01,2,    0.15,2,   2.318,2,   1.188,2,  2014.2,2,   331.5,6,-999.000,9,-999.0000,9, -999.00,9, -999.00,9,  -999.0,9,  -999.0,-999.000,9,-999.000,      20.10,-999.0000,-999.000,    19.5071,-999.000
  316N138_4,       P06C,      98,          1,         34,    02-9457,2,19920608,       0636,   -32.5007,  -128.6642,       4223,    89.0,  19.5180,  35.3015,2,  35.3049,2,    228.2,2,   228.5,2,    0.16,2,    0.02,2,   -0.01,2,    0.15,2,   2.314,2,   1.181,2,  2016.0,2,  -999.0,9,-999.000,9,-999.0000,9, -999.00,9, -999.00,9,  -999.0,9,  -999.0,-999.000,9,-999.000,     -999.0,-999.0000,-999.000,    19.5018,-999.000
  316N138_4,       P06C,      98,          1,         33,    02-5367,2,19920608,       0636,   -32.5007,  -128.6642,       4223,   119.5,  16.9934,  35.1106,2,  35.1252,2,    242.2,2,   239.5,2,    0.16,2,    0.01,2,    0.00,2,    0.21,2,   2.605,2,   1.316,2,  2029.9,2,  -999.0,9,-999.000,9,-999.0000,9, -999.00,9, -999.00,9,  -999.0,9,  -999.0,-999.000,9,-999.000,     -999.0,-999.0000,-999.000,    16.9736,-999.000
  316N138_4,       P06C,      98,          1,         32,    02-9540,2,19920608,       0636,   -32.5007,  -128.6642,       4223,   157.0,  15.9800,  35.1108,2,  35.1169,2,    230.3,2,   225.1,2,    0.33,2,    0.76,2,    0.13,2,    0.31,2,   2.534,2,   1.264,2,  2046.8,2,  -999.0,9,-999.000,9,-999.0000,9, -999.00,9, -999.00,9,  -999.0,9,  -999.0,-999.000,9,-999.000,     -999.0,-999.0000,-999.000,    15.9552,-999.000
  316N138_4,       P06C,      98,          1,         31,    02-9539,2,19920608,       0636,   -32.5007,  -128.6642,       4223,   196.1,  15.0587,  35.0844,2,  35.0829,2,    218.5,2,   214.0,2,    0.68,2,    3.46,2,    0.01,2,    0.46,2,   2.407,2,   1.204,2,  2063.0,2,  -999.0,9,-999.000,9,-999.0000,9, -999.00,9, -999.00,9,  -999.0,9,  -999.0,-999.000,9,-999.000,     -999.0,-999.0000,-999.000,    15.0289,-999.000
  316N138_4,       P06C,      98,          1,         30,    02-9456,2,19920608,       0636,   -32.5007,  -128.6642,       4223,   232.7,  13.9553,  34.9987,2,  34.9902,2,    210.7,2,   201.0,2,    1.20,2,    7.38,2,    0.01,2,    0.71,2,   2.014,2,   0.999,2,  2082.1,2,  -999.0,9,-999.000,9,-999.0000,9, -999.00,9, -999.00,9,  -999.0,9,  -999.0,-999.000,9,-999.000,     -999.0,-999.0000,-999.000,    13.9218,-999.000
  316N138_4,       P06C,      98,          1,         29,    02-9458,2,19920608,       0636,   -32.5007,  -128.6642,       4223,   272.0,  12.7433,  34.8731,2,  34.8733,2,    202.6,2,   200.0,2,    1.90,2,    9.83,2,    0.01,2,    0.84,2,   1.870,2,   0.921,2,  2092.5,2,  -999.0,9,-999.000,9,-999.0000,9, -999.00,9, -999.00,9,  -999.0,9,  -999.0,-999.000,9,-999.000,     -999.0,-999.0000,-999.000,    12.7063,-999.000
  316N138_4,       P06C,      98,          1,         28,    02-9545,2,19920608,       0636,   -32.5007,  -128.6642,       4223,   313.4,  11.3631,  34.7328,2,  34.7309,2,    203.8,2,   202.3,2,    2.61,2,   12.91,2,    0.01,2,    1.03,2,   1.686,2,   0.837,2,  2103.6,2,  -999.0,9,-999.000,9,-999.0000,9, -999.00,9, -999.00,9,  -999.0,9,  -999.0,-999.000,9,-999.000,     -999.0,-999.0000,-999.000,    11.3236,-999.000
  316N138_4,       P06C,      98,          1,         27,    02-9453,2,19920608,       0636,   -32.5007,  -128.6642,       4223,   352.5,  10.1577,  34.6124,2,  34.6105,2,    208.2,2,   208.2,2,    3.14,2,   15.15,2,    0.01,2,    1.16,2,   1.700,2,   0.821,2,  2110.7,2,  -999.0,9,-999.000,9,-999.0000,9, -999.00,9, -999.00,9,  -999.0,9,  -999.0,-999.000,9,-999.000,     -999.0,-999.0000,-999.000,    10.1163,-999.000
  316N138_4,       P06C,      98,          1,         26,    02-9544,2,19920608,       0636,   -32.5007,  -128.6642,       4223,   400.5,   8.7551,  34.4884,2,  34.4976,2,    217.4,2,   214.3,2,    4.37,2,   18.32,2,    0.01,2,    1.34,2,   1.467,2,   0.726,2,  2120.3,2,  -999.0,9,-999.000,9,-999.0000,9, -999.00,9, -999.00,9,  -999.0,9,  -999.0,-999.000,9,-999.000,     -999.0,-999.0000,-999.000,     8.7121,-999.000
  316N138_4,       P06C,      98,          1,         25,    02-9455,2,19920608,       0636,   -32.5007,  -128.6642,       4223,   443.6,   7.9412,  34.4349,2,  34.4369,2,    224.3,2,   225.4,2,    5.07,2,   19.88,2,    0.01,2,    1.43,2,   1.582,2,   0.765,2,  2126.0,2,  -999.0,9,-999.000,9,-999.0000,9, -999.00,9, -999.00,9,  -999.0,9,  -999.0,-999.000,9,-999.000,     -999.0,-999.0000,-999.000,     7.8961,-999.000
  316N138_4,       P06C,      98,          1,         24,        132,2,19920608,       0636,   -32.5007,  -128.6642,       4223,   494.0,   7.3392,  34.3992,2,  34.4012,2,    230.2,2,   230.9,2,    6.12,2,   21.25,2,    0.01,2,    1.50,2,   1.384,6,   0.680,6,  2130.3,2,  -999.0,9,-999.000,9,-999.0000,9, -999.00,9, -999.00,9,  -999.0,9,  -999.0,-999.000,9,-999.000,     -999.0,-999.0000,-999.000,     7.2911,-999.000
  316N138_4,       P06C,      98,          1,         23,        123,2,19920608,       0636,   -32.5007,  -128.6642,       4223,   543.5,   6.9443,  34.3750,2,  34.3802,2,    236.3,2,   237.3,2,    6.65,2,   21.86,2,    0.01,2,    1.52,2,   1.333,2,   0.656,2,  2132.0,2,  -999.0,9,-999.000,9,-999.0000,9, -999.00,9, -999.00,9,  -999.0,9,  -999.0,-999.000,9,-999.000,     -999.0,-999.0000,-999.000,     6.8929,-999.000
  316N138_4,       P06C,      98,          1,         22,        128,2,19920608,       0636,   -32.5007,  -128.6642,       4223,   599.7,   6.6119,  34.3610,2,  34.3600,2,    240.0,2,   241.8,2,    7.53,2,   22.53,2,    0.01,2,    1.56,2,   1.242,2,   0.607,2,  2132.2,2,  -999.0,9,-999.000,9,-999.0000,9, -999.00,9, -999.00,9,  -999.0,9,  -999.0,-999.000,9,-999.000,     -999.0,-999.0000,-999.000,     6.5564,-999.000
  316N138_4,       P06C,      98,          1,         21,        121,2,19920608,       0636,   -32.5007,  -128.6642,       4223,   652.2,   6.3300,  34.3403,2,  34.3407,2,    241.6,2,   241.4,2,    8.59,2,   23.26,2,    0.02,2,    1.61,2,   0.964,2,   0.488,2,  2134.8,2,  -999.0,9,-999.000,9,-999.0000,9, -999.00,9, -999.00,9,  -999.0,9,  -999.0,-999.000,9,-999.000,     -999.0,-999.0000,-999.000,     6.2709,-999.000
  316N138_4,       P06C,      98,          1,         20,        120,2,19920608,       0636,   -32.5007,  -128.6642,       4223,   706.1,   6.1140,  34.3270,2,  34.3266,2,    239.2,2,   239.7,2,    9.64,2,   23.98,2,    0.01,2,    1.64,2,   0.779,2,   0.397,2,  2138.5,2,  -999.0,9,-999.000,9,-999.0000,9, -999.00,9, -999.00,9,  -999.0,9,  -999.0,-999.000,9,-999.000,     -999.0,-999.0000,-999.000,     6.0509,-999.000
  316N138_4,       P06C,      98,          1,         19,        133,2,19920608,       0636,   -32.5007,  -128.6642,       4223,   758.9,   5.8610,  34.3110,2,  34.3138,2,    237.0,2,   236.9,2,   10.87,2,   24.88,2,    0.01,2,    1.71,2,   0.542,2,   0.289,2,  2142.2,6,  -999.0,9,-999.000,9,-999.0000,9, -999.00,9, -999.00,9,  -999.0,9,  -999.0,-999.000,9,-999.000,     -999.0,-999.0000,-999.000,     5.7943,-999.000
  316N138_4,       P06C,      98,          1,         18,        118,2,19920608,       0636,   -32.5007,  -128.6642,       4223,   808.7,   5.6752,  34.3038,2,  34.3054,2,    232.9,2,   233.9,2,   12.63,2,   25.59,2,    0.01,2,    1.76,2,   0.501,2,   0.277,2,  2144.9,2,   768.7,6,-999.000,9,-999.0000,9, -999.00,9, -999.00,9,  -999.0,9,  -999.0,-999.000,9,-999.000,      20.10,-999.0000,-999.000,     5.6051,-999.000
  316N138_4,       P06C,      98,          1,         17,        117,2,19920608,       0636,   -32.5007,  -128.6642,       4223,   883.8,   5.2870,  34.2944,2,  34.2911,2,    224.5,2,   223.7,2,   16.32,2,   27.35,2,    0.01,2,    1.88,2,   0.280,2,   0.155,2,  2157.4,2,  -999.0,9,-999.000,9,-999.0000,9, -999.00,9, -999.00,9,  -999.0,9,  -999.0,-999.000,9,-999.000,     -999.0,-999.0000,-999.000,     5.2124,-999.000
  316N138_4,       P06C,      98,          1,         16,        116,2,19920608,       0636,   -32.5007,  -128.6642,       4223,   959.2,   4.8920,  34.3017,2,  34.2958,2,    212.7,2,   211.7,2,   22.31,2,   29.20,2,    0.01,2,    1.99,2,   0.164,2,   0.110,2,  2172.1,2,  -999.0,9,-999.000,9,-999.0000,9, -999.00,9, -999.00,9,  -999.0,9,  -999.0,-999.000,9,-999.000,     -999.0,-999.0000,-999.000,     4.8135,-999.000
  316N138_4,       P06C,      98,          1,         15,        115,2,19920608,       0636,   -32.5007,  -128.6642,       4223,  1034.8,   4.5154,  34.3157,2,  34.3140,2,    202.3,2,   200.1,2,   28.99,2,   30.72,2,    0.01,2,    2.10,2,-999.000,9,-999.000,9,  2185.8,2,  -999.0,9,-999.000,9,-999.0000,9, -999.00,9, -999.00,9,  -999.0,9,  -999.0,-999.000,9,-999.000,     -999.0,-999.0000,-999.000,     4.4331,-999.000
  316N138_4,       P06C,      98,          1,         14,        114,2,19920608,       0636,   -32.5007,  -128.6642,       4223,  1110.1,   4.2209,  34.3347,2,  34.3286,2,    192.0,2,   193.4,2,   34.80,2,   31.68,2,    0.01,2,    2.17,2,   0.075,2,   0.052,2,  2196.0,2,  -999.0,9,-999.000,9,-999.0000,9, -999.00,9, -999.00,9,  -999.0,9,  -999.0,-999.000,9,-999.000,     -999.0,-999.0000,-999.000,     4.1344,-999.000
  316N138_4,       P06C,      98,          1,         13,        125,2,19920608,       0636,   -32.5007,  -128.6642,       4223,  1255.3,   3.4519,  34.4088,2,  34.4061,2,    175.3,2,   174.1,2,   53.46,2,   33.82,2,    0.01,2,    2.34,2,-999.000,9,-999.000,9,  2226.3,2,  -999.0,9,-999.000,9,-999.0000,9, -999.00,9, -999.00,9,  -999.0,9,  -999.0,-999.000,9,-999.000,     -999.0,-999.0000,-999.000,     3.3600,-999.000
  316N138_4,       P06C,      98,          1,         12,        112,2,19920608,       0636,   -32.5007,  -128.6642,       4223,  1509.3,   2.7362,  34.5271,2,  34.5201,2,    164.9,2,   164.1,2,   77.57,2,   34.58,2,    0.01,2,    2.42,2,   0.003,2,   0.006,2,  2256.7,2,  -999.0,9,-999.000,9,-999.0000,9, -999.00,9, -999.00,9,  -999.0,9,  -999.0,-999.000,9,-999.000,     -999.0,-999.0000,-999.000,     2.6308,-999.000
  316N138_4,       P06C,      98,          1,         11,        129,2,19920608,       0636,   -32.5007,  -128.6642,       4223,  1763.5,   2.3307,  34.6000,2,  34.5942,2,    158.1,2,   157.1,2,   98.51,2,   34.88,2,    0.00,2,    2.46,2,-999.000,9,-999.000,9,  2280.3,2,  -999.0,9,-999.000,9,-999.0000,9, -999.00,9, -999.00,9,  -999.0,9,  -999.0,-999.000,9,-999.000,     -999.0,-999.0000,-999.000,     2.2093,-999.000
  316N138_4,       P06C,      98,          1,         10,        110,2,19920608,       0636,   -32.5007,  -128.6642,       4223,  2014.5,   2.1025,  34.6327,2,  34.6270,2,    154.8,2,   155.0,2,  110.30,2,   35.05,2,    0.01,2,    2.49,2,  -0.001,2,  -0.003,2,  2292.6,2,  -999.0,9,-999.000,9,-999.0000,9, -999.00,9, -999.00,9,  -999.0,9,  -999.0,-999.000,9,-999.000,     -999.0,-999.0000,-999.000,     1.9633,-999.000
  316N138_4,       P06C,      98,          1,          9,        126,2,19920608,       0636,   -32.5007,  -128.6642,       4223,  2500.5,   1.8270,  34.6580,2,  34.6588,2,    157.0,2,   158.1,2,  120.86,2,   35.02,2,    0.00,2,    2.50,2,-999.000,9,-999.000,9,  2300.8,2,  -999.0,9,-999.000,9,-999.0000,9, -999.00,9, -999.00,9,  -999.0,9,  -999.0,-999.000,9,-999.000,     -999.0,-999.0000,-999.000,     1.6498,-999.000
  316N138_4,       P06C,      98,          1,          8,        108,2,19920608,       0636,   -32.5007,  -128.6642,       4223,  2748.6,   1.7370,  34.6667,2,  34.6667,2,    160.6,2,   161.2,2,  122.45,2,   34.84,2,    0.00,2,    2.49,2,  -0.002,2,   0.004,2,  2300.0,2,  -999.0,9,-999.000,9,-999.0000,9, -999.00,9, -999.00,9,  -999.0,9,  -999.0,-999.000,9,-999.000,     -999.0,-999.0000,-999.000,     1.5389,-999.000
  316N138_4,       P06C,      98,          1,          7,        107,2,19920608,       0636,   -32.5007,  -128.6642,       4223,  2996.4,   1.6865,  34.6712,2,  34.6677,2,    163.9,2,   164.3,2,  122.80,2,   34.64,2,    0.00,2,    2.47,2,-999.000,9,-999.000,9,  2298.9,2,  -999.0,9,-999.000,9,-999.0000,9, -999.00,9, -999.00,9,  -999.0,9,  -999.0,-999.000,9,-999.000,     -999.0,-999.0000,-999.000,     1.4659,-999.000
  316N138_4,       P06C,      98,          1,          6,        180,2,19920608,       0636,   -32.5007,  -128.6642,       4223,  3241.6,   1.6425,  34.6771,2,  34.6730,2,    167.2,2,   167.1,2,  122.97,2,   34.42,2,    0.00,2,    2.45,2,  -0.002,2,   0.007,2,  2296.9,2,  -999.0,9,-999.000,9,-999.0000,9, -999.00,9, -999.00,9,  -999.0,9,  -999.0,-999.000,9,-999.000,     -999.0,-999.0000,-999.000,     1.3990,-999.000
  316N138_4,       P06C,      98,          1,          5,        131,2,19920608,       0636,   -32.5007,  -128.6642,       4223,  3498.1,   1.6049,  34.6810,2,  34.6798,2,    170.6,2,   170.1,2,  122.97,2,   34.22,2,    0.00,2,    2.43,2,-999.000,9,-999.000,9,  2295.0,2,  -999.0,9,-999.000,9,-999.0000,9, -999.00,9, -999.00,9,  -999.0,9,  -999.0,-999.000,9,-999.000,     -999.0,-999.0000,-999.000,     1.3363,-999.000
  316N138_4,       P06C,      98,          1,          4,        104,2,19920608,       0636,   -32.5007,  -128.6642,       4223,  3753.7,   1.5813,  34.6846,2,  34.6820,2,    173.2,2,   173.1,2,  122.27,2,   34.03,2,    0.00,2,    2.42,2,  -0.003,2,   0.002,2,  2292.6,2,  -999.0,9,-999.000,9,-999.0000,9, -999.00,9, -999.00,9,  -999.0,9,  -999.0,-999.000,9,-999.000,     -999.0,-999.0000,-999.000,     1.2866,-999.000
  316N138_4,       P06C,      98,          1,          3,        130,2,19920608,       0636,   -32.5007,  -128.6642,       4223,  4014.6,   1.5777,  34.6869,2,  34.6855,2,    175.9,2,   174.7,2,  122.27,2,   33.95,2,    0.00,2,    2.42,2,-999.000,9,-999.000,9,  2291.8,2,  -999.0,9,-999.000,9,-999.0000,9, -999.00,9, -999.00,9,  -999.0,9,  -999.0,-999.000,9,-999.000,     -999.0,-999.0000,-999.000,     1.2550,-999.000
  316N138_4,       P06C,      98,          1,          2,        135,2,19920608,       0636,   -32.5007,  -128.6642,       4223,  4241.4,   1.5897,  34.6877,2,  34.6887,2,    177.0,2,   176.0,2,  121.74,2,   33.90,2,    0.00,2,    2.42,2,-999.000,9,-999.000,9,  2291.2,2,  1081.1,6,-999.000,9,-999.0000,9, -999.00,9, -999.00,9,  -999.0,9,  -999.0,-999.000,9,-999.000,      20.10,-999.0000,-999.000,     1.2414,-999.000
  316N138_4,       P06C,      98,          1,          1,        134,2,19920608,       0636,   -32.5007,  -128.6642,       4223,  4321.6,   1.5948,  34.6886,2,  34.6897,2,    176.8,2,   179.2,4,  121.64,2,   33.86,2,   -0.01,2,    2.43,2,   0.004,2,-999.000,5,  2290.5,6,  -999.0,9,-999.000,9,-999.0000,9, -999.00,9, -999.00,9,  -999.0,9,  -999.0,-999.000,9,-999.000,     -999.0,-999.0000,-999.000,     1.2373,-999.000