BOTTLE,20211025CCHSIORKP
EXPOCODE,SECT_ID,STNNBR,CASTNO,SAMPNO,BTLNBR,BTLNBR_FLAG_W,DATE,TIME,LATITUDE,LONGITUDE,DEPTH,CTDPRS,CTDTMP,CTDSAL,CTDSAL_FLAG_W,SALNTY,SALNTY_FLAG_W,CTDOXY,CTDOXY_FLAG_W,OXYGEN,OXYGEN_FLAG_W,SILCAT,SILCAT_FLAG_W,NITRAT,NITRAT_FLAG_W,NITRIT,NITRIT_FLAG_W,PHSPHT,PHSPHT_FLAG_W,CFC-11,CFC-11_FLAG_W,CFC-12,CFC-12_FLAG_W,TCARBN,TCARBN_FLAG_W,PCO2,PCO2_FLAG_W,TRITUM,TRITUM_FLAG_W,HELIUM,HELIUM_FLAG_W,DELHE3,DELHE3_FLAG_W,DELC13,DELC13_FLAG_W,DELC14,DELC14_FLAG_W,C14ERR,NEON,NEON_FLAG_W,NEONER,PCO2TMP,HELIER,DELHER,THETA,TRITER
,,,,,,,,,,,METERS,DBAR,ITS-90,PSS-78,,PSS-78,,UMOL/KG,,UMOL/KG,,UMOL/KG,,UMOL/KG,,UMOL/KG,,UMOL/KG,,PMOL/KG,,PMOL/KG,,UMOL/KG,,UATM,,TU,,NMOL/KG,,PERCNT,,/MILLE,,/MILLE,,/MILLE,NMOL/KG,,NMOL/KG,DEG_C,NMOL/KG,PERCNT,ITS-90,TU
  316N138_4,       P06C,     147,          1,         36,    02-9121,2,19920624,       1900,   -32.4973,  -164.4882,       5506,    22.7,  16.8801,  35.3327,2,  35.3328,2,    288.8,3,   236.0,2,    0.42,2,    0.01,2,    0.00,2,    0.14,2,-999.000,5,-999.000,5,  -999.0,9,  -999.0,9,-999.000,9,-999.0000,9, -999.00,9, -999.00,9,  -999.0,9,  -999.0,-999.000,9,-999.000,     -999.0,-999.0000,-999.000,    16.8764,-999.000
  316N138_4,       P06C,     147,          1,         35,    02-9454,2,19920624,       1900,   -32.4973,  -164.4882,       5506,    62.9,  16.8909,  35.3329,2,  35.3330,2,    232.7,2,   236.1,2,    0.43,2,    0.01,2,    0.00,2,    0.15,2,   2.783,2,-999.000,9,  -999.0,9,  -999.0,9,-999.000,9,-999.0000,9, -999.00,9, -999.00,9,  -999.0,9,  -999.0,-999.000,9,-999.000,     -999.0,-999.0000,-999.000,    16.8806,-999.000
  316N138_4,       P06C,     147,          1,         34,    02-9457,2,19920624,       1900,   -32.4973,  -164.4882,       5506,   110.6,  16.8723,  35.3325,2,  35.3303,2,    228.7,2,   239.5,2,    0.45,2,    0.01,2,    0.00,2,    0.16,2,   2.761,6,   1.417,6,  -999.0,9,  -999.0,9,-999.000,9,-999.0000,9, -999.00,9, -999.00,9,  -999.0,9,  -999.0,-999.000,9,-999.000,     -999.0,-999.0000,-999.000,    16.8543,-999.000
  316N138_4,       P06C,     147,          1,         33,    02-5367,2,19920624,       1900,   -32.4973,  -164.4882,       5506,   208.5,  13.6633,  35.1331,2,  35.1305,2,    208.1,2,   209.2,2,    1.66,2,    6.63,2,    0.01,2,    0.61,2,   2.629,2,   1.261,2,  -999.0,9,  -999.0,9,-999.000,9,-999.0000,9, -999.00,9, -999.00,9,  -999.0,9,  -999.0,-999.000,9,-999.000,     -999.0,-999.0000,-999.000,    13.6336,-999.000
  316N138_4,       P06C,     147,          1,         32,    02-9540,2,19920624,       1900,   -32.4973,  -164.4882,       5506,   303.4,  10.8639,  34.8119,2,  34.8145,2,    202.8,2,   204.7,2,    3.32,2,   13.85,2,    0.00,2,    1.04,2,   2.107,2,   1.058,2,  -999.0,9,  -999.0,9,-999.000,9,-999.0000,9, -999.00,9, -999.00,9,  -999.0,9,  -999.0,-999.000,9,-999.000,     -999.0,-999.0000,-999.000,    10.8266,-999.000
  316N138_4,       P06C,     147,          1,         31,    02-9539,2,19920624,       1900,   -32.4973,  -164.4882,       5506,   391.7,   8.7066,  34.5750,2,  34.5769,2,    214.5,2,   216.4,2,    4.83,2,   18.34,2,    0.00,2,    1.30,2,   1.740,6,   0.833,6,  -999.0,9,  -999.0,9,-999.000,9,-999.0000,9, -999.00,9, -999.00,9,  -999.0,9,  -999.0,-999.000,9,-999.000,     -999.0,-999.0000,-999.000,     8.6646,-999.000
  316N138_4,       P06C,     147,          1,         30,    02-9456,2,19920624,       1900,   -32.4973,  -164.4882,       5506,   503.1,   7.6543,  34.4730,2,  34.4738,2,    228.0,2,   230.2,2,    5.89,2,   20.47,2,    0.00,2,    1.43,2,   1.577,2,   0.757,2,  -999.0,9,  -999.0,9,-999.000,9,-999.0000,9, -999.00,9, -999.00,9,  -999.0,9,  -999.0,-999.000,9,-999.000,     -999.0,-999.0000,-999.000,     7.6041,-999.000
  316N138_4,       P06C,     147,          1,         29,    02-9458,2,19920624,       1900,   -32.4973,  -164.4882,       5506,   599.3,   7.1099,  34.4220,2,  34.4228,2,    234.8,2,   234.9,2,    6.95,2,   21.80,2,    0.00,2,    1.50,2,   1.155,2,   0.580,2,  -999.0,9,  -999.0,9,-999.000,9,-999.0000,9, -999.00,9, -999.00,9,  -999.0,9,  -999.0,-999.000,9,-999.000,     -999.0,-999.0000,-999.000,     7.0521,-999.000
  316N138_4,       P06C,     147,          1,         28,    02-9545,2,19920624,       1900,   -32.4973,  -164.4882,       5506,   694.4,   6.6268,  34.3791,2,  34.3821,2,    236.5,2,   234.1,2,    8.77,2,   23.26,2,    0.00,2,    1.59,2,   0.743,2,   0.390,2,  -999.0,9,  -999.0,9,-999.000,9,-999.0000,9, -999.00,9, -999.00,9,  -999.0,9,  -999.0,-999.000,9,-999.000,     -999.0,-999.0000,-999.000,     6.5620,-999.000
  316N138_4,       P06C,     147,          1,         27,    02-9453,2,19920624,       1900,   -32.4973,  -164.4882,       5506,   789.1,   6.0875,  34.3427,2,  34.3441,2,    232.5,2,   229.9,2,   11.63,2,   25.09,2,    0.00,2,    1.72,2,   0.496,2,   0.262,2,  -999.0,9,  -999.0,9,-999.000,9,-999.0000,9, -999.00,9, -999.00,9,  -999.0,9,  -999.0,-999.000,9,-999.000,     -999.0,-999.0000,-999.000,     6.0168,-999.000
  316N138_4,       P06C,     147,          1,         26,    02-9544,2,19920624,       1900,   -32.4973,  -164.4882,       5506,   885.2,   5.5619,  34.3250,2,  34.3256,2,    221.5,2,   219.5,2,   16.60,2,   27.18,2,    0.00,2,    1.85,2,   0.294,2,   0.171,2,  -999.0,9,  -999.0,9,-999.000,9,-999.0000,9, -999.00,9, -999.00,9,  -999.0,9,  -999.0,-999.000,9,-999.000,     -999.0,-999.0000,-999.000,     5.4854,-999.000
  316N138_4,       P06C,     147,          1,         25,    02-9455,2,19920624,       1900,   -32.4973,  -164.4882,       5506,   979.4,   5.0407,  34.3252,2,  34.3260,2,    211.1,2,   208.1,2,   23.22,2,   29.22,2,    0.00,2,    1.98,2,   0.164,2,   0.091,2,  -999.0,9,  -999.0,9,-999.000,9,-999.0000,9, -999.00,9, -999.00,9,  -999.0,9,  -999.0,-999.000,9,-999.000,     -999.0,-999.0000,-999.000,     4.9592,-999.000
  316N138_4,       P06C,     147,          1,         23,        123,2,19920624,       1900,   -32.4973,  -164.4882,       5506,  1172.9,   3.9476,  34.3711,2,  34.3705,2,    191.1,2,   188.5,2,   41.42,2,   32.55,2,    0.00,2,    2.23,2,-999.000,9,   0.023,2,  -999.0,9,  -999.0,9,-999.000,9,-999.0000,9, -999.00,9, -999.00,9,  -999.0,9,  -999.0,-999.000,9,-999.000,     -999.0,-999.0000,-999.000,     3.8581,-999.000
  316N138_4,       P06C,     147,          1,         22,        128,2,19920624,       1900,   -32.4973,  -164.4882,       5506,  1371.5,   3.1764,  34.4604,2,  34.4597,2,    175.3,2,   172.2,2,   62.30,2,   34.24,2,    0.00,2,    2.36,2,   0.017,2,   0.008,2,  -999.0,9,  -999.0,9,-999.000,9,-999.0000,9, -999.00,9, -999.00,9,  -999.0,9,  -999.0,-999.000,9,-999.000,     -999.0,-999.0000,-999.000,     3.0776,-999.000
  316N138_4,       P06C,     147,          1,         21,        121,2,19920624,       1900,   -32.4973,  -164.4882,       5506,  1573.2,   2.7690,  34.5431,2,  34.5431,2,    162.7,2,   161.2,2,   81.52,2,   34.87,2,    0.00,2,    2.44,2,  -0.002,2,   0.006,2,  -999.0,9,  -999.0,9,-999.000,9,-999.0000,9, -999.00,9, -999.00,9,  -999.0,9,  -999.0,-999.000,9,-999.000,     -999.0,-999.0000,-999.000,     2.6579,-999.000
  316N138_4,       P06C,     147,          1,         20,        120,2,19920624,       1900,   -32.4973,  -164.4882,       5506,  1776.9,   2.4891,  34.5962,2,  34.5959,2,    155.4,2,   153.8,2,   98.35,2,   35.33,2,    0.00,2,    2.50,2,  -0.002,2,-999.000,9,  -999.0,9,  -999.0,9,-999.000,9,-999.0000,9, -999.00,9, -999.00,9,  -999.0,9,  -999.0,-999.000,9,-999.000,     -999.0,-999.0000,-999.000,     2.3645,-999.000
  316N138_4,       P06C,     147,          1,         19,        133,2,19920624,       1900,   -32.4973,  -164.4882,       5506,  1989.1,   2.2912,  34.6240,2,  34.6238,2,    150.0,2,   149.7,2,  109.76,2,   35.67,2,   -0.01,2,    2.53,2,   0.001,2,-999.000,9,  -999.0,9,  -999.0,9,-999.000,9,-999.0000,9, -999.00,9, -999.00,9,  -999.0,9,  -999.0,-999.000,9,-999.000,     -999.0,-999.0000,-999.000,     2.1514,-999.000
  316N138_4,       P06C,     147,          1,         18,        118,2,19920624,       1900,   -32.4973,  -164.4882,       5506,  2197.9,   2.1507,  34.6381,2,  34.6382,2,    147.6,2,   146.6,2,  117.73,2,   35.94,2,    0.00,2,    2.56,2,  -0.001,2,   0.008,2,  -999.0,9,  -999.0,9,-999.000,9,-999.0000,9, -999.00,9, -999.00,9,  -999.0,9,  -999.0,-999.000,9,-999.000,     -999.0,-999.0000,-999.000,     1.9948,-999.000
  316N138_4,       P06C,     147,          1,         17,        117,2,19920624,       1900,   -32.4973,  -164.4882,       5506,  2398.0,   2.0483,  34.6476,2,  34.6482,2,    146.6,2,   145.8,2,  122.54,2,   35.99,2,   -0.01,2,    2.57,2,  -0.001,2,   0.004,2,  -999.0,9,  -999.0,9,-999.000,9,-999.0000,9, -999.00,9, -999.00,9,  -999.0,9,  -999.0,-999.000,9,-999.000,     -999.0,-999.0000,-999.000,     1.8764,-999.000
  316N138_4,       P06C,     147,          1,         16,        116,2,19920624,       1900,   -32.4973,  -164.4882,       5506,  2598.5,   1.9590,  34.6552,2,  34.6555,2,    146.3,2,   145.8,2,  126.31,2,   35.99,2,   -0.01,2,    2.57,2,-999.000,5,-999.000,5,  -999.0,9,  -999.0,9,-999.000,9,-999.0000,9, -999.00,9, -999.00,9,  -999.0,9,  -999.0,-999.000,9,-999.000,     -999.0,-999.0000,-999.000,     1.7705,-999.000
  316N138_4,       P06C,     147,          1,         15,        115,2,19920624,       1900,   -32.4973,  -164.4882,       5506,  2800.4,   1.8813,  34.6619,2,  34.6608,2,    147.5,2,   147.2,2,  128.73,2,   35.90,2,   -0.01,2,    2.56,2,  -0.004,2,  -0.001,2,  -999.0,9,  -999.0,9,-999.000,9,-999.0000,9, -999.00,9, -999.00,9,  -999.0,9,  -999.0,-999.000,9,-999.000,     -999.0,-999.0000,-999.000,     1.6754,-999.000
  316N138_4,       P06C,     147,          1,         14,        114,2,19920624,       1900,   -32.4973,  -164.4882,       5506,  3008.7,   1.7940,  34.6710,2,  34.6710,2,    151.1,2,   151.2,2,  129.63,2,   35.57,2,   -0.01,2,    2.53,2,-999.000,5,-999.000,5,  -999.0,9,  -999.0,9,-999.000,9,-999.0000,9, -999.00,9, -999.00,9,  -999.0,9,  -999.0,-999.000,9,-999.000,     -999.0,-999.0000,-999.000,     1.5699,-999.000
  316N138_4,       P06C,     147,          1,         13,        125,2,19920624,       1900,   -32.4973,  -164.4882,       5506,  3008.7,   1.7940,  34.6710,2,  34.6710,2,    151.1,2,   150.8,2,  129.64,2,   35.60,2,    0.00,2,    2.54,2,-999.000,5,-999.000,5,  -999.0,9,  -999.0,9,-999.000,9,-999.0000,9, -999.00,9, -999.00,9,  -999.0,9,  -999.0,-999.000,9,-999.000,     -999.0,-999.0000,-999.000,     1.5699,-999.000
  316N138_4,       P06C,     147,          1,         12,        112,2,19920624,       1900,   -32.4973,  -164.4882,       5506,  3423.7,   1.6585,  34.6933,2,  34.6942,2,    166.9,2,   168.0,2,  121.99,2,   34.22,2,    0.00,2,    2.42,2,  -0.004,2,   0.005,2,  -999.0,9,  -999.0,9,-999.000,9,-999.0000,9, -999.00,9, -999.00,9,  -999.0,9,  -999.0,-999.000,9,-999.000,     -999.0,-999.0000,-999.000,     1.3962,-999.000
  316N138_4,       P06C,     147,          1,         11,        129,2,19920624,       1900,   -32.4973,  -164.4882,       5506,  3423.7,   1.6585,  34.6933,2,  34.6940,2,    166.9,2,   168.1,2,  121.86,2,   34.18,2,    0.00,2,    2.42,2,-999.000,5,-999.000,5,  -999.0,9,  -999.0,9,-999.000,9,-999.0000,9, -999.00,9, -999.00,9,  -999.0,9,  -999.0,-999.000,9,-999.000,     -999.0,-999.0000,-999.000,     1.3962,-999.000
  316N138_4,       P06C,     147,          1,         10,        110,2,19920624,       1900,   -32.4973,  -164.4882,       5506,  3831.0,   1.4964,  34.7168,2,  34.7166,2,    189.9,2,   190.4,2,  111.20,2,   32.38,2,    0.00,2,    2.29,2,-999.000,5,-999.000,5,  -999.0,9,  -999.0,9,-999.000,9,-999.0000,9, -999.00,9, -999.00,9,  -999.0,9,  -999.0,-999.000,9,-999.000,     -999.0,-999.0000,-999.000,     1.1956,-999.000
  316N138_4,       P06C,     147,          1,          9,        126,2,19920624,       1900,   -32.4973,  -164.4882,       5506,  3831.0,   1.4964,  34.7168,2,  34.7166,2,    189.9,2,   190.0,2,  111.37,2,   32.34,2,    0.00,2,    2.29,2,   0.001,2,  -0.002,2,  -999.0,9,  -999.0,9,-999.000,9,-999.0000,9, -999.00,9, -999.00,9,  -999.0,9,  -999.0,-999.000,9,-999.000,     -999.0,-999.0000,-999.000,     1.1956,-999.000
  316N138_4,       P06C,     147,          1,          8,        108,2,19920624,       1900,   -32.4973,  -164.4882,       5506,  4039.0,   1.3484,  34.7207,2,  34.7197,2,    198.7,2,   199.1,2,  111.07,2,   31.87,2,    0.00,2,    2.25,2,-999.000,5,-999.000,5,  -999.0,9,  -999.0,9,-999.000,9,-999.0000,9, -999.00,9, -999.00,9,  -999.0,9,  -999.0,-999.000,9,-999.000,     -999.0,-999.0000,-999.000,     1.0293,-999.000
  316N138_4,       P06C,     147,          1,          7,        107,2,19920624,       1900,   -32.4973,  -164.4882,       5506,  4449.7,   1.0810,  34.7123,2,  34.7052,4,    205.0,2,   204.5,2,  118.59,2,   32.13,2,    0.00,2,    2.28,2,-999.000,5,-999.000,5,  -999.0,9,  -999.0,9,-999.000,9,-999.0000,9, -999.00,9, -999.00,9,  -999.0,9,  -999.0,-999.000,9,-999.000,     -999.0,-999.0000,-999.000,     0.7246,-999.000
  316N138_4,       P06C,     147,          1,          6,        180,2,19920624,       1900,   -32.4973,  -164.4882,       5506,  4657.5,   1.0416,  34.7108,2,  34.7105,2,    206.2,2,   205.7,2,  119.95,2,   32.20,2,    0.01,2,    2.27,2,   0.009,2,   0.006,2,  -999.0,9,  -999.0,9,-999.000,9,-999.0000,9, -999.00,9, -999.00,9,  -999.0,9,  -999.0,-999.000,9,-999.000,     -999.0,-999.0000,-999.000,     0.6628,-999.000
  316N138_4,       P06C,     147,          1,          5,        131,2,19920624,       1900,   -32.4973,  -164.4882,       5506,  4863.3,   1.0329,  34.7087,2,  34.7077,2,    206.8,2,   206.4,2,  120.71,2,   32.24,2,    0.01,2,    2.28,2,-999.000,5,-999.000,5,  -999.0,9,  -999.0,9,-999.000,9,-999.0000,9, -999.00,9, -999.00,9,  -999.0,9,  -999.0,-999.000,9,-999.000,     -999.0,-999.0000,-999.000,     0.6304,-999.000
  316N138_4,       P06C,     147,          1,          4,        104,2,19920624,       1900,   -32.4973,  -164.4882,       5506,  5075.0,   1.0361,  34.7089,2,  34.7081,2,    207.6,2,   207.4,2,  121.33,2,   32.31,2,    0.01,2,    2.27,2,   0.010,2,   0.015,2,  -999.0,9,  -999.0,9,-999.000,9,-999.0000,9, -999.00,9, -999.00,9,  -999.0,9,  -999.0,-999.000,9,-999.000,     -999.0,-999.0000,-999.000,     0.6085,-999.000
  316N138_4,       P06C,     147,          1,          3,        130,2,19920624,       1900,   -32.4973,  -164.4882,       5506,  5286.3,   1.0573,  34.7076,2,  34.7079,2,    207.2,2,   207.0,2,  121.48,2,   32.28,2,    0.01,2,    2.28,2,-999.000,5,-999.000,5,  -999.0,9,  -999.0,9,-999.000,9,-999.0000,9, -999.00,9, -999.00,9,  -999.0,9,  -999.0,-999.000,9,-999.000,     -999.0,-999.0000,-999.000,     0.6034,-999.000
  316N138_4,       P06C,     147,          1,          2,        135,2,19920624,       1900,   -32.4973,  -164.4882,       5506,  5493.1,   1.0813,  34.7079,2,  34.7115,2,    207.3,2,   207.6,2,  121.35,2,   32.28,2,    0.01,2,    2.26,2,   0.014,2,   0.005,2,  -999.0,9,  -999.0,9,-999.000,9,-999.0000,9, -999.00,9, -999.00,9,  -999.0,9,  -999.0,-999.000,9,-999.000,     -999.0,-999.0000,-999.000,     0.6008,-999.000
  316N138_4,       P06C,     147,          1,          1,        134,2,19920624,       1900,   -32.4973,  -164.4882,       5506,  5698.0,   1.0943,  34.7075,2,  34.7099,2,    207.5,2,   206.3,2,  121.46,2,   32.21,2,    0.00,2,    2.27,2,   0.019,6,   0.011,6,  -999.0,9,  -999.0,9,-999.000,9,-999.0000,9, -999.00,9, -999.00,9,  -999.0,9,  -999.0,-999.000,9,-999.000,     -999.0,-999.0000,-999.000,     0.5874,-999.000
  316N138_4,       P06C,     147,          1,         24,        132,2,19920624,       1900,   -32.4973,  -164.4882,       5506,  5698.0,   1.0943,  34.7075,2,  34.7087,2,    207.5,2,   207.4,2,  121.72,2,   32.33,2,    0.00,2,    2.30,3,   0.022,6,   0.016,6,  -999.0,9,  -999.0,9,-999.000,9,-999.0000,9, -999.00,9, -999.00,9,  -999.0,9,  -999.0,-999.000,9,-999.000,     -999.0,-999.0000,-999.000,     0.5874,-999.000