BOTTLE,20211025CCHSIORKP
EXPOCODE,SECT_ID,STNNBR,CASTNO,SAMPNO,BTLNBR,BTLNBR_FLAG_W,DATE,TIME,LATITUDE,LONGITUDE,DEPTH,CTDPRS,CTDTMP,CTDSAL,CTDSAL_FLAG_W,SALNTY,SALNTY_FLAG_W,CTDOXY,CTDOXY_FLAG_W,OXYGEN,OXYGEN_FLAG_W,SILCAT,SILCAT_FLAG_W,NITRAT,NITRAT_FLAG_W,NITRIT,NITRIT_FLAG_W,PHSPHT,PHSPHT_FLAG_W,CFC-11,CFC-11_FLAG_W,CFC-12,CFC-12_FLAG_W,TCARBN,TCARBN_FLAG_W,PCO2,PCO2_FLAG_W,TRITUM,TRITUM_FLAG_W,HELIUM,HELIUM_FLAG_W,DELHE3,DELHE3_FLAG_W,DELC13,DELC13_FLAG_W,DELC14,DELC14_FLAG_W,C14ERR,NEON,NEON_FLAG_W,NEONER,PCO2TMP,HELIER,DELHER,THETA,TRITER
,,,,,,,,,,,METERS,DBAR,ITS-90,PSS-78,,PSS-78,,UMOL/KG,,UMOL/KG,,UMOL/KG,,UMOL/KG,,UMOL/KG,,UMOL/KG,,PMOL/KG,,PMOL/KG,,UMOL/KG,,UATM,,TU,,NMOL/KG,,PERCNT,,/MILLE,,/MILLE,,/MILLE,NMOL/KG,,NMOL/KG,DEG_C,NMOL/KG,PERCNT,ITS-90,TU
  316N138_4,       P06C,     167,          1,         36,    02-9121,2,19920630,       0548,   -32.4807,  -174.0123,       5810,    22.5,  16.7167,  35.5639,2,  35.5614,2,    243.9,2,   236.3,2,    1.00,2,    0.53,2,    0.14,2,    0.25,2,   2.731,2,-999.000,9,  -999.0,9,  -999.0,9,-999.000,9,-999.0000,9, -999.00,9, -999.00,9,  -999.0,9,  -999.0,-999.000,9,-999.000,     -999.0,-999.0000,-999.000,    16.7131,-999.000
  316N138_4,       P06C,     167,          1,         35,    02-9454,2,19920630,       0548,   -32.4807,  -174.0123,       5810,    62.6,  16.7238,  35.5641,2,  35.5622,2,    238.1,2,   232.8,3,    1.00,2,    0.54,2,    0.13,2,    0.26,2,   2.725,6,   1.328,6,  -999.0,9,  -999.0,9,-999.000,9,-999.0000,9, -999.00,9, -999.00,9,  -999.0,9,  -999.0,-999.000,9,-999.000,     -999.0,-999.0000,-999.000,    16.7136,-999.000
  316N138_4,       P06C,     167,          1,         34,    02-9457,2,19920630,       0548,   -32.4807,  -174.0123,       5810,   112.5,  16.6796,  35.5682,2,  35.5622,2,    233.7,2,   235.0,2,    1.00,2,    0.58,2,    0.14,2,    0.27,2,   2.700,2,   1.307,2,  -999.0,9,  -999.0,9,-999.000,9,-999.0000,9, -999.00,9, -999.00,9,  -999.0,9,  -999.0,-999.000,9,-999.000,     -999.0,-999.0000,-999.000,    16.6613,-999.000
  316N138_4,       P06C,     167,          1,         33,    02-5367,2,19920630,       0548,   -32.4807,  -174.0123,       5810,   212.8,  13.5388,  35.1952,2,  35.2056,2,    201.8,2,   201.7,2,    3.16,2,    9.41,2,    0.10,2,    0.82,2,   2.339,2,   1.136,2,  -999.0,9,  -999.0,9,-999.000,9,-999.0000,9, -999.00,9, -999.00,9,  -999.0,9,  -999.0,-999.000,9,-999.000,     -999.0,-999.0000,-999.000,    13.5088,-999.000
  316N138_4,       P06C,     167,          1,         32,    02-9540,3,19920630,       0548,   -32.4807,  -174.0123,       5810,   312.5,  11.3935,  34.9171,2,  34.9953,4,    203.5,2,   205.4,4,    3.84,2,   11.99,2,    0.10,2,    0.98,2,-999.000,5,-999.000,5,  -999.0,9,  -999.0,9,-999.000,9,-999.0000,9, -999.00,9, -999.00,9,  -999.0,9,  -999.0,-999.000,9,-999.000,     -999.0,-999.0000,-999.000,    11.3539,-999.000
  316N138_4,       P06C,     167,          1,         31,    02-9539,2,19920630,       0548,   -32.4807,  -174.0123,       5810,   413.1,   9.5737,  34.6795,2,  34.6926,2,    203.5,2,   217.0,4,    6.01,2,   17.94,2,    0.09,2,    1.34,3,   1.573,2,   0.775,2,  -999.0,9,  -999.0,9,-999.000,9,-999.0000,9, -999.00,9, -999.00,9,  -999.0,9,  -999.0,-999.000,9,-999.000,     -999.0,-999.0000,-999.000,     9.5267,-999.000
  316N138_4,       P06C,     167,          1,         30,    02-9456,2,19920630,       0548,   -32.4807,  -174.0123,       5810,   514.5,   8.3092,  34.5562,2,  34.5541,2,    217.5,2,   231.5,4,    6.67,2,   20.16,2,    0.09,2,    1.47,3,   1.407,6,   0.692,6,  -999.0,9,  -999.0,9,-999.000,9,-999.0000,9, -999.00,9, -999.00,9,  -999.0,9,  -999.0,-999.000,9,-999.000,     -999.0,-999.0000,-999.000,     8.2552,-999.000
  316N138_4,       P06C,     167,          1,         29,    02-9458,2,19920630,       0548,   -32.4807,  -174.0123,       5810,   611.9,   7.4754,  34.4725,2,  34.4712,2,    227.1,2,   220.3,2,    7.68,2,   21.81,2,    0.09,2,    1.58,3,   1.110,2,   0.521,2,  -999.0,9,  -999.0,9,-999.000,9,-999.0000,9, -999.00,9, -999.00,9,  -999.0,9,  -999.0,-999.000,9,-999.000,     -999.0,-999.0000,-999.000,     7.4147,-999.000
  316N138_4,       P06C,     167,          1,         28,    02-9545,2,19920630,       0548,   -32.4807,  -174.0123,       5810,   713.1,   6.9285,  34.4241,2,  34.4251,2,    226.3,2,   221.4,2,   10.01,2,   23.43,2,    0.08,2,    1.68,3,   0.630,2,   0.337,2,  -999.0,9,  -999.0,9,-999.000,9,-999.0000,9, -999.00,9, -999.00,9,  -999.0,9,  -999.0,-999.000,9,-999.000,     -999.0,-999.0000,-999.000,     6.8603,-999.000
  316N138_4,       P06C,     167,          1,         27,    02-9453,2,19920630,       0548,   -32.4807,  -174.0123,       5810,   815.9,   6.2825,  34.3782,2,  34.3813,2,    220.4,2,   215.9,2,   13.85,2,   25.52,2,    0.07,2,    1.84,3,   0.356,2,   0.198,2,  -999.0,9,  -999.0,9,-999.000,9,-999.0000,9, -999.00,9, -999.00,9,  -999.0,9,  -999.0,-999.000,9,-999.000,     -999.0,-999.0000,-999.000,     6.2078,-999.000
  316N138_4,       P06C,     167,          1,         26,    02-9544,2,19920630,       0548,   -32.4807,  -174.0123,       5810,   912.6,   5.7490,  34.3660,2,  34.3735,2,    212.5,2,   204.9,3,   20.53,2,   27.59,2,    0.07,2,    1.97,3,   0.190,2,   0.113,2,  -999.0,9,  -999.0,9,-999.000,9,-999.0000,9, -999.00,9, -999.00,9,  -999.0,9,  -999.0,-999.000,9,-999.000,     -999.0,-999.0000,-999.000,     5.6685,-999.000
  316N138_4,       P06C,     167,          1,         25,    02-9455,2,19920630,       0548,   -32.4807,  -174.0123,       5810,  1013.2,   5.2652,  34.3743,2,  34.3729,2,    199.4,2,   194.9,3,   26.54,2,   29.03,2,    0.20,3,    2.08,3,   0.113,2,   0.072,2,  -999.0,9,  -999.0,9,-999.000,9,-999.0000,9, -999.00,9, -999.00,9,  -999.0,9,  -999.0,-999.000,9,-999.000,     -999.0,-999.0000,-999.000,     5.1789,-999.000
  316N138_4,       P06C,     167,          1,         23,        123,2,19920630,       0548,   -32.4807,  -174.0123,       5810,  1217.3,   3.8941,  34.3947,2,  34.3937,2,    183.5,2,   184.2,2,   45.75,2,   32.31,2,    0.19,3,    2.35,3,   0.016,2,   0.015,2,  -999.0,9,  -999.0,9,-999.000,9,-999.0000,9, -999.00,9, -999.00,9,  -999.0,9,  -999.0,-999.000,9,-999.000,     -999.0,-999.0000,-999.000,     3.8013,-999.000
  316N138_4,       P06C,     167,          1,         22,        128,2,19920630,       0548,   -32.4807,  -174.0123,       5810,  1419.0,   3.1625,  34.4866,2,  34.4852,2,    169.6,2,   167.9,2,   68.14,2,   33.80,2,    0.17,3,    2.46,3,   0.010,2,   0.001,2,  -999.0,9,  -999.0,9,-999.000,9,-999.0000,9, -999.00,9, -999.00,9,  -999.0,9,  -999.0,-999.000,9,-999.000,     -999.0,-999.0000,-999.000,     3.0599,-999.000
  316N138_4,       P06C,     167,          1,         21,        121,2,19920630,       0548,   -32.4807,  -174.0123,       5810,  1620.2,   2.7283,  34.5599,2,  34.5606,2,    159.6,2,   157.9,2,   87.51,2,   34.64,2,    0.01,2,    2.50,3,-999.000,5,-999.000,5,  -999.0,9,  -999.0,9,-999.000,9,-999.0000,9, -999.00,9, -999.00,9,  -999.0,9,  -999.0,-999.000,9,-999.000,     -999.0,-999.0000,-999.000,     2.6138,-999.000
  316N138_4,       P06C,     167,          1,         20,        120,2,19920630,       0548,   -32.4807,  -174.0123,       5810,  1818.9,   2.5160,  34.5953,2,  34.5957,2,    154.7,2,   155.0,2,   99.04,2,   35.02,2,    0.00,2,    2.54,3,   0.003,2,  -0.001,2,  -999.0,9,  -999.0,9,-999.000,9,-999.0000,9, -999.00,9, -999.00,9,  -999.0,9,  -999.0,-999.000,9,-999.000,     -999.0,-999.0000,-999.000,     2.3874,-999.000
  316N138_4,       P06C,     167,          1,         19,        133,3,19920630,       0548,   -32.4807,  -174.0123,       5810,  2023.1,   2.3372,  34.6198,2,  34.6213,2,    151.5,2,   151.3,2,  109.08,2,   35.34,2,    0.00,2,    2.57,3,-999.000,5,-999.000,5,  -999.0,9,  -999.0,9,-999.000,9,-999.0000,9, -999.00,9, -999.00,9,  -999.0,9,  -999.0,-999.000,9,-999.000,     -999.0,-999.0000,-999.000,     2.1937,-999.000
  316N138_4,       P06C,     167,          1,         18,        118,2,19920630,       0548,   -32.4807,  -174.0123,       5810,  2226.7,   2.1794,  34.6360,2,  34.6362,2,    148.8,2,   149.4,2,  116.44,2,   35.56,2,    0.01,2,    2.59,3,  -0.008,2,   0.003,2,  -999.0,9,  -999.0,9,-999.000,9,-999.0000,9, -999.00,9, -999.00,9,  -999.0,9,  -999.0,-999.000,9,-999.000,     -999.0,-999.0000,-999.000,     2.0205,-999.000
  316N138_4,       P06C,     167,          1,         17,        117,2,19920630,       0548,   -32.4807,  -174.0123,       5810,  2428.6,   2.0554,  34.6467,2,  34.6464,2,    147.8,2,   146.6,2,  121.79,2,   35.70,2,    0.01,2,    2.58,3,-999.000,5,-999.000,5,  -999.0,9,  -999.0,9,-999.000,9,-999.0000,9, -999.00,9, -999.00,9,  -999.0,9,  -999.0,-999.000,9,-999.000,     -999.0,-999.0000,-999.000,     1.8806,-999.000
  316N138_4,       P06C,     167,          1,         16,        116,2,19920630,       0548,   -32.4807,  -174.0123,       5810,  2633.2,   1.9683,  34.6548,2,  34.6545,2,    148.4,2,   147.2,2,  124.82,2,   35.69,2,    0.01,2,    2.56,2,   0.003,2,   0.002,2,  -999.0,9,  -999.0,9,-999.000,9,-999.0000,9, -999.00,9, -999.00,9,  -999.0,9,  -999.0,-999.000,9,-999.000,     -999.0,-999.0000,-999.000,     1.7764,-999.000
  316N138_4,       P06C,     167,          1,         15,        115,2,19920630,       0548,   -32.4807,  -174.0123,       5810,  2832.9,   1.8921,  34.6637,2,  34.6622,2,    151.1,2,   150.2,2,  126.17,2,   35.46,2,    0.01,2,    2.53,2,-999.000,5,-999.000,5,  -999.0,9,  -999.0,9,-999.000,9,-999.0000,9, -999.00,9, -999.00,9,  -999.0,9,  -999.0,-999.000,9,-999.000,     -999.0,-999.0000,-999.000,     1.6829,-999.000
  316N138_4,       P06C,     167,          1,         14,        114,2,19920630,       0548,   -32.4807,  -174.0123,       5810,  3032.4,   1.8209,  34.6738,2,  34.6737,2,    154.6,2,   154.1,2,  125.51,2,   35.09,2,    0.01,2,    2.51,2,   0.002,2,   0.002,2,  -999.0,9,  -999.0,9,-999.000,9,-999.0000,9, -999.00,9, -999.00,9,  -999.0,9,  -999.0,-999.000,9,-999.000,     -999.0,-999.0000,-999.000,     1.5938,-999.000
  316N138_4,       P06C,     167,          1,         13,        125,2,19920630,       0548,   -32.4807,  -174.0123,       5810,  3223.9,   1.7455,  34.6887,2,  34.6883,2,    165.2,2,   165.6,2,  120.34,2,   34.17,2,    0.01,2,    2.43,2,-999.000,5,-999.000,5,  -999.0,9,  -999.0,9,-999.000,9,-999.0000,9, -999.00,9, -999.00,9,  -999.0,9,  -999.0,-999.000,9,-999.000,     -999.0,-999.0000,-999.000,     1.5012,-999.000
  316N138_4,       P06C,     167,          1,         12,        112,2,19920630,       0548,   -32.4807,  -174.0123,       5810,  3402.9,   1.6745,  34.7048,2,  34.7054,2,    178.5,2,   177.9,2,  113.51,2,   33.06,2,    0.01,2,    2.34,2,   0.000,2,   0.002,2,  -999.0,9,  -999.0,9,-999.000,9,-999.0000,9, -999.00,9, -999.00,9,  -999.0,9,  -999.0,-999.000,9,-999.000,     -999.0,-999.0000,-999.000,     1.4139,-999.000
  316N138_4,       P06C,     167,          1,         11,        129,2,19920630,       0548,   -32.4807,  -174.0123,       5810,  3586.9,   1.5651,  34.7165,2,  34.7176,2,    189.7,2,   187.5,2,  109.00,2,   32.18,2,    0.01,2,    2.25,3,-999.000,5,-999.000,5,  -999.0,9,  -999.0,9,-999.000,9,-999.0000,9, -999.00,9, -999.00,9,  -999.0,9,  -999.0,-999.000,9,-999.000,     -999.0,-999.0000,-999.000,     1.2882,-999.000
  316N138_4,       P06C,     167,          1,         10,        110,2,19920630,       0548,   -32.4807,  -174.0123,       5810,  3782.0,   1.4348,  34.7214,2,  34.7215,2,    196.5,2,   196.3,2,  108.68,2,   31.81,2,    0.01,2,    2.21,3,   0.001,2,   0.002,2,  -999.0,9,  -999.0,9,-999.000,9,-999.0000,9, -999.00,9, -999.00,9,  -999.0,9,  -999.0,-999.000,9,-999.000,     -999.0,-999.0000,-999.000,     1.1408,-999.000
  316N138_4,       P06C,     167,          1,          9,        126,2,19920630,       0548,   -32.4807,  -174.0123,       5810,  3981.9,   1.2856,  34.7188,2,  34.7190,2,    200.8,2,   201.2,2,  111.71,2,   31.86,2,    0.01,2,    2.23,3,-999.000,5,-999.000,5,  -999.0,9,  -999.0,9,-999.000,9,-999.0000,9, -999.00,9, -999.00,9,  -999.0,9,  -999.0,-999.000,9,-999.000,     -999.0,-999.0000,-999.000,     0.9745,-999.000
  316N138_4,       P06C,     167,          1,          8,        108,2,19920630,       0548,   -32.4807,  -174.0123,       5810,  4184.0,   1.1762,  34.7159,2,  34.7162,2,    203.2,2,   204.0,2,  114.73,2,   31.86,2,    0.01,2,    2.24,3,   0.002,2,   0.001,2,  -999.0,9,  -999.0,9,-999.000,9,-999.0000,9, -999.00,9, -999.00,9,  -999.0,9,  -999.0,-999.000,9,-999.000,     -999.0,-999.0000,-999.000,     0.8463,-999.000
  316N138_4,       P06C,     167,          1,          7,        107,2,19920630,       0548,   -32.4807,  -174.0123,       5810,  4388.7,   1.1003,  34.7125,2,  34.7129,2,    205.0,2,   204.4,2,  116.75,2,   31.89,2,    0.01,2,    2.25,3,-999.000,5,-999.000,5,  -999.0,9,  -999.0,9,-999.000,9,-999.0000,9, -999.00,9, -999.00,9,  -999.0,9,  -999.0,-999.000,9,-999.000,     -999.0,-999.0000,-999.000,     0.7501,-999.000
  316N138_4,       P06C,     167,          1,          6,        180,2,19920630,       0548,   -32.4807,  -174.0123,       5810,  4588.6,   1.0519,  34.7106,2,  34.7099,2,    206.2,2,   205.7,2,  118.77,2,   31.94,2,    0.01,2,    2.25,3,   0.004,2,   0.000,2,  -999.0,9,  -999.0,9,-999.000,9,-999.0000,9, -999.00,9, -999.00,9,  -999.0,9,  -999.0,-999.000,9,-999.000,     -999.0,-999.0000,-999.000,     0.6807,-999.000
  316N138_4,       P06C,     167,          1,          5,        131,2,19920630,       0548,   -32.4807,  -174.0123,       5810,  4792.0,   1.0345,  34.7094,2,  34.7085,2,    206.0,2,   206.0,2,  120.13,2,   31.89,2,    0.01,2,    2.24,3,-999.000,5,-999.000,5,  -999.0,9,  -999.0,9,-999.000,9,-999.0000,9, -999.00,9, -999.00,9,  -999.0,9,  -999.0,-999.000,9,-999.000,     -999.0,-999.0000,-999.000,     0.6403,-999.000
  316N138_4,       P06C,     167,          1,          4,        104,2,19920630,       0548,   -32.4807,  -174.0123,       5810,  4995.9,   1.0294,  34.7073,2,  34.7070,2,    207.1,2,   206.6,2,  120.98,2,   31.85,2,    0.01,2,    2.26,3,   0.010,2,  -0.001,2,  -999.0,9,  -999.0,9,-999.000,9,-999.0000,9, -999.00,9, -999.00,9,  -999.0,9,  -999.0,-999.000,9,-999.000,     -999.0,-999.0000,-999.000,     0.6115,-999.000
  316N138_4,       P06C,     167,          1,          3,        130,2,19920630,       0548,   -32.4807,  -174.0123,       5810,  5201.9,   1.0372,  34.7070,2,  34.7060,2,    207.0,2,   206.7,2,  121.49,2,   31.88,2,    0.01,2,    2.25,3,   0.008,2,   0.006,2,  -999.0,9,  -999.0,9,-999.000,9,-999.0000,9, -999.00,9, -999.00,9,  -999.0,9,  -999.0,-999.000,9,-999.000,     -999.0,-999.0000,-999.000,     0.5942,-999.000
  316N138_4,       P06C,     167,          1,          2,        135,2,19920630,       0548,   -32.4807,  -174.0123,       5810,  5405.9,   1.0543,  34.7062,2,  34.7060,2,    207.4,2,   206.6,2,  121.67,2,   31.93,2,    0.01,2,    2.25,3,   0.012,2,   0.003,2,  -999.0,9,  -999.0,9,-999.000,9,-999.0000,9, -999.00,9, -999.00,9,  -999.0,9,  -999.0,-999.000,9,-999.000,     -999.0,-999.0000,-999.000,     0.5857,-999.000
  316N138_4,       P06C,     167,          1,          1,        134,2,19920630,       0548,   -32.4807,  -174.0123,       5810,  5610.9,   1.0746,  34.7062,2,  34.7066,2,    207.0,2,   207.0,2,  121.76,2,   31.95,2,    0.02,2,    2.27,2,   0.011,6,   0.006,6,  -999.0,9,  -999.0,9,-999.000,9,-999.0000,9, -999.00,9, -999.00,9,  -999.0,9,  -999.0,-999.000,9,-999.000,     -999.0,-999.0000,-999.000,     0.5795,-999.000
  316N138_4,       P06C,     167,          1,         24,        132,2,19920630,       0548,   -32.4807,  -174.0123,       5810,  5866.6,   1.1075,  34.7068,2,  34.7056,2,    250.4,4,   208.3,2,  122.19,2,   32.01,2,    0.21,3,    2.33,3,   0.011,6,   0.005,6,  -999.0,9,  -999.0,9,-999.000,9,-999.0000,9, -999.00,9, -999.00,9,  -999.0,9,  -999.0,-999.000,9,-999.000,     -999.0,-999.0000,-999.000,     0.5783,-999.000