BOTTLE,20211025CCHSIORKP
EXPOCODE,SECT_ID,STNNBR,CASTNO,SAMPNO,BTLNBR,BTLNBR_FLAG_W,DATE,TIME,LATITUDE,LONGITUDE,DEPTH,CTDPRS,CTDTMP,CTDSAL,CTDSAL_FLAG_W,SALNTY,SALNTY_FLAG_W,CTDOXY,CTDOXY_FLAG_W,OXYGEN,OXYGEN_FLAG_W,SILCAT,SILCAT_FLAG_W,NITRAT,NITRAT_FLAG_W,NITRIT,NITRIT_FLAG_W,PHSPHT,PHSPHT_FLAG_W,CFC-11,CFC-11_FLAG_W,CFC-12,CFC-12_FLAG_W,TCARBN,TCARBN_FLAG_W,PCO2,PCO2_FLAG_W,TRITUM,TRITUM_FLAG_W,HELIUM,HELIUM_FLAG_W,DELHE3,DELHE3_FLAG_W,DELC13,DELC13_FLAG_W,DELC14,DELC14_FLAG_W,C14ERR,NEON,NEON_FLAG_W,NEONER,PCO2TMP,HELIER,DELHER,THETA,TRITER
,,,,,,,,,,,METERS,DBAR,ITS-90,PSS-78,,PSS-78,,UMOL/KG,,UMOL/KG,,UMOL/KG,,UMOL/KG,,UMOL/KG,,UMOL/KG,,PMOL/KG,,PMOL/KG,,UMOL/KG,,UATM,,TU,,NMOL/KG,,PERCNT,,/MILLE,,/MILLE,,/MILLE,NMOL/KG,,NMOL/KG,DEG_C,NMOL/KG,PERCNT,ITS-90,TU
  316N138_4,       P06C,     124,          1,         36,    02-9121,2,19920618,       0700,   -32.5117,  -147.3400,       4608,    21.0,  17.4807,  35.1063,2,  35.1061,2,    294.1,3,   236.5,2,    0.28,2,   -0.03,2,    0.00,2,    0.13,2,   2.468,2,   1.361,2,  -999.0,9,  -999.0,9,-999.000,9,-999.0000,9, -999.00,9, -999.00,9,  -999.0,9,  -999.0,-999.000,9,-999.000,     -999.0,-999.0000,-999.000,    17.4772,-999.000
  316N138_4,       P06C,     124,          1,         35,    02-9454,2,19920618,       0700,   -32.5117,  -147.3400,       4608,    50.6,  17.4872,  35.1067,2,  35.1057,2,    236.8,2,   237.3,2,    0.28,2,   -0.03,2,    0.00,2,    0.14,2,   2.454,6,   1.332,6,  -999.0,9,  -999.0,9,-999.000,9,-999.0000,9, -999.00,9, -999.00,9,  -999.0,9,  -999.0,-999.000,9,-999.000,     -999.0,-999.0000,-999.000,    17.4787,-999.000
  316N138_4,       P06C,     124,          1,         34,    02-9457,2,19920618,       0700,   -32.5117,  -147.3400,       4608,    91.0,  17.4831,  35.1070,2,  35.1071,2,    237.0,2,   236.4,2,    0.28,2,    0.03,2,   -0.01,2,    0.14,2,   2.471,2,   1.309,2,  -999.0,9,  -999.0,9,-999.000,9,-999.0000,9, -999.00,9, -999.00,9,  -999.0,9,  -999.0,-999.000,9,-999.000,     -999.0,-999.0000,-999.000,    17.4678,-999.000
  316N138_4,       P06C,     124,          1,         33,    02-5367,2,19920618,       0700,   -32.5117,  -147.3400,       4608,   110.7,  15.9366,  35.1428,2,  35.1421,2,    242.4,2,   250.6,2,    0.28,2,    0.02,2,    0.00,2,    0.19,2,   2.692,2,   1.485,2,  -999.0,9,  -999.0,9,-999.000,9,-999.0000,9, -999.00,9, -999.00,9,  -999.0,9,  -999.0,-999.000,9,-999.000,     -999.0,-999.0000,-999.000,    15.9192,-999.000
  316N138_4,       P06C,     124,          1,         32,    02-9540,2,19920618,       0700,   -32.5117,  -147.3400,       4608,   158.4,  14.3774,  35.0851,2,  35.0850,2,    227.9,2,   230.8,2,    0.58,2,    2.07,2,    0.08,2,    0.33,2,   2.657,2,   1.471,2,  -999.0,9,  -999.0,9,-999.000,9,-999.0000,9, -999.00,9, -999.00,9,  -999.0,9,  -999.0,-999.000,9,-999.000,     -999.0,-999.0000,-999.000,    14.3542,-999.000
  316N138_4,       P06C,     124,          1,         31,    02-9539,2,19920618,       0700,   -32.5117,  -147.3400,       4608,   205.6,  13.3793,  35.0052,2,  34.9974,2,    216.1,2,   217.5,2,    1.15,2,    5.96,2,    0.00,2,    0.57,2,   2.501,2,   1.296,2,  -999.0,9,  -999.0,9,-999.000,9,-999.0000,9, -999.00,9, -999.00,9,  -999.0,9,  -999.0,-999.000,9,-999.000,     -999.0,-999.0000,-999.000,    13.3505,-999.000
  316N138_4,       P06C,     124,          1,         30,    02-9456,2,19920618,       0700,   -32.5117,  -147.3400,       4608,   250.9,  11.6735,  34.8146,2,  34.9970,4,    213.8,2,   210.8,2,    2.01,2,   10.72,2,    0.00,2,    0.81,2,   2.326,2,   1.190,2,  -999.0,9,  -999.0,9,-999.000,9,-999.0000,9, -999.00,9, -999.00,9,  -999.0,9,  -999.0,-999.000,9,-999.000,     -999.0,-999.0000,-999.000,    11.6414,-999.000
  316N138_4,       P06C,     124,          1,         29,    02-9458,2,19920618,       0700,   -32.5117,  -147.3400,       4608,   298.1,   9.8328,  34.6375,2,  34.8196,4,    218.5,2,   215.5,2,    3.02,2,   15.15,2,    0.00,2,    1.06,2,   2.151,2,   1.059,2,  -999.0,9,  -999.0,9,-999.000,9,-999.0000,9, -999.00,9, -999.00,9,  -999.0,9,  -999.0,-999.000,9,-999.000,     -999.0,-999.0000,-999.000,     9.7985,-999.000
  316N138_4,       P06C,     124,          1,         28,    02-9545,2,19920618,       0700,   -32.5117,  -147.3400,       4608,   347.6,   8.7878,  34.5526,2,  34.5614,2,    223.9,2,   221.7,2,    3.89,2,   17.42,2,    0.00,2,    1.19,2,   1.981,2,   0.980,2,  -999.0,9,  -999.0,9,-999.000,9,-999.0000,9, -999.00,9, -999.00,9,  -999.0,9,  -999.0,-999.000,9,-999.000,     -999.0,-999.0000,-999.000,     8.7504,-999.000
  316N138_4,       P06C,     124,          1,         27,    02-9453,2,19920618,       0700,   -32.5117,  -147.3400,       4608,   419.9,   7.8291,  34.4776,2,  34.4783,2,    231.8,2,   233.8,2,    5.19,2,   19.78,2,    0.00,2,    1.32,2,   1.905,6,   0.934,6,  -999.0,9,  -999.0,9,-999.000,9,-999.0000,9, -999.00,9, -999.00,9,  -999.0,9,  -999.0,-999.000,9,-999.000,     -999.0,-999.0000,-999.000,     7.7868,-999.000
  316N138_4,       P06C,     124,          1,         26,    02-9544,2,19920618,       0700,   -32.5117,  -147.3400,       4608,   493.0,   7.3644,  34.4404,2,  34.4414,2,    239.8,2,   239.0,2,    5.90,2,   20.82,2,    0.00,2,    1.41,2,   1.746,6,   0.852,6,  -999.0,9,  -999.0,9,-999.000,9,-999.0000,9, -999.00,9, -999.00,9,  -999.0,9,  -999.0,-999.000,9,-999.000,     -999.0,-999.0000,-999.000,     7.3162,-999.000
  316N138_4,       P06C,     124,          1,         25,    02-9455,2,19920618,       0700,   -32.5117,  -147.3400,       4608,   590.5,   6.9314,  34.4005,2,  34.4047,2,    241.4,2,   240.7,2,    7.05,2,   22.04,2,    0.00,2,    1.45,2,   1.336,2,   0.665,2,  -999.0,9,  -999.0,9,-999.000,9,-999.0000,9, -999.00,9, -999.00,9,  -999.0,9,  -999.0,-999.000,9,-999.000,     -999.0,-999.0000,-999.000,     6.8754,-999.000
  316N138_4,       P06C,     124,          1,         24,        132,2,19920618,       0700,   -32.5117,  -147.3400,       4608,   688.1,   6.4558,  34.3627,2,  34.3627,2,    240.4,2,   238.7,2,    8.93,2,   23.62,2,    0.00,2,    1.56,2,   0.844,2,   0.444,2,  -999.0,9,  -999.0,9,-999.000,9,-999.0000,9, -999.00,9, -999.00,9,  -999.0,9,  -999.0,-999.000,9,-999.000,     -999.0,-999.0000,-999.000,     6.3925,-999.000
  316N138_4,       P06C,     124,          1,         23,        123,2,19920618,       0700,   -32.5117,  -147.3400,       4608,   789.7,   5.9322,  34.3323,2,  34.3321,2,    234.5,2,   232.0,2,   12.39,2,   25.56,2,    0.00,2,    1.66,2,   0.655,2,   0.340,2,  -999.0,9,  -999.0,9,-999.000,9,-999.0000,9, -999.00,9, -999.00,9,  -999.0,9,  -999.0,-999.000,9,-999.000,     -999.0,-999.0000,-999.000,     5.8622,-999.000
  316N138_4,       P06C,     124,          1,         22,        128,2,19920618,       0700,   -32.5117,  -147.3400,       4608,   889.8,   5.3648,  34.3171,2,  34.3174,2,    224.1,2,   219.8,2,   18.15,2,   27.74,2,   -0.01,2,    1.83,2,   0.357,2,   0.190,2,  -999.0,9,  -999.0,9,-999.000,9,-999.0000,9, -999.00,9, -999.00,9,  -999.0,9,  -999.0,-999.000,9,-999.000,     -999.0,-999.0000,-999.000,     5.2891,-999.000
  316N138_4,       P06C,     124,          1,         21,        121,2,19920618,       0700,   -32.5117,  -147.3400,       4608,   986.7,   4.8243,  34.3217,2,  34.3238,2,    211.0,2,   208.3,2,   25.36,2,   29.60,2,   -0.01,2,    1.97,2,   0.192,2,   0.106,2,  -999.0,9,  -999.0,9,-999.000,9,-999.0000,9, -999.00,9, -999.00,9,  -999.0,9,  -999.0,-999.000,9,-999.000,     -999.0,-999.0000,-999.000,     4.7438,-999.000
  316N138_4,       P06C,     124,          1,         20,        120,2,19920618,       0700,   -32.5117,  -147.3400,       4608,  1080.9,   4.2684,  34.3415,2,  34.3417,2,    198.2,2,   198.3,2,   34.44,2,   31.26,2,   -0.01,2,    2.09,2,   0.099,2,   0.052,2,  -999.0,9,  -999.0,9,-999.000,9,-999.0000,9, -999.00,9, -999.00,9,  -999.0,9,  -999.0,-999.000,9,-999.000,     -999.0,-999.0000,-999.000,     4.1840,-999.000
  316N138_4,       P06C,     124,          1,         19,        133,2,19920618,       0700,   -32.5117,  -147.3400,       4608,  1224.8,   3.5131,  34.4007,2,  34.4019,2,    184.4,2,   182.6,2,   50.29,2,   32.93,2,   -0.01,2,    2.23,2,   0.018,6,   0.015,6,  -999.0,9,  -999.0,9,-999.000,9,-999.0000,9, -999.00,9, -999.00,9,  -999.0,9,  -999.0,-999.000,9,-999.000,     -999.0,-999.0000,-999.000,     3.4232,-999.000
  316N138_4,       P06C,     124,          1,         18,        118,2,19920618,       0700,   -32.5117,  -147.3400,       4608,  1417.4,   2.9420,  34.4879,2,  34.4871,2,    171.4,2,   170.0,2,   68.46,2,   33.96,2,   -0.01,2,    2.33,2,-999.000,9,-999.000,9,  -999.0,9,  -999.0,9,-999.000,9,-999.0000,9, -999.00,9, -999.00,9,  -999.0,9,  -999.0,-999.000,9,-999.000,     -999.0,-999.0000,-999.000,     2.8419,-999.000
  316N138_4,       P06C,     124,          1,         17,        117,3,19920618,       0700,   -32.5117,  -147.3400,       4608,  1604.1,   2.5891,  34.5679,2,  34.5688,2,    161.2,2,   160.3,2,   87.50,2,   34.31,2,   -0.01,2,    2.39,2,-999.000,9,-999.000,9,  -999.0,9,  -999.0,9,-999.000,9,-999.0000,9, -999.00,9, -999.00,9,  -999.0,9,  -999.0,-999.000,9,-999.000,     -999.0,-999.0000,-999.000,     2.4776,-999.000
  316N138_4,       P06C,     124,          1,         16,        116,2,19920618,       0700,   -32.5117,  -147.3400,       4608,  1802.7,   2.3578,  34.6106,2,  34.6134,2,    154.7,2,   154.8,2,  101.49,2,   34.62,2,   -0.01,2,    2.43,2,  -0.004,2,  -0.003,2,  -999.0,9,  -999.0,9,-999.000,9,-999.0000,9, -999.00,9, -999.00,9,  -999.0,9,  -999.0,-999.000,9,-999.000,     -999.0,-999.0000,-999.000,     2.2328,-999.000
  316N138_4,       P06C,     124,          1,         15,        115,2,19920618,       0700,   -32.5117,  -147.3400,       4608,  1991.1,   2.1817,  34.6327,2,  34.6327,2,    152.1,2,   151.7,2,  110.58,2,   34.80,2,   -0.01,2,    2.45,2,-999.000,9,-999.000,9,  -999.0,9,  -999.0,9,-999.000,9,-999.0000,9, -999.00,9, -999.00,9,  -999.0,9,  -999.0,-999.000,9,-999.000,     -999.0,-999.0000,-999.000,     2.0432,-999.000
  316N138_4,       P06C,     124,          1,         14,        114,2,19920618,       0700,   -32.5117,  -147.3400,       4608,  2188.4,   2.0488,  34.6446,2,  34.6455,2,    151.7,2,   152.0,2,  116.80,2,   34.97,2,   -0.01,2,    2.47,2,  -0.003,2,-999.000,5,  -999.0,9,  -999.0,9,-999.000,9,-999.0000,9, -999.00,9, -999.00,9,  -999.0,9,  -999.0,-999.000,9,-999.000,     -999.0,-999.0000,-999.000,     1.8955,-999.000
  316N138_4,       P06C,     124,          1,         13,        125,2,19920618,       0700,   -32.5117,  -147.3400,       4608,  2396.4,   1.9439,  34.6554,2,  34.6551,2,    151.0,2,   150.7,2,  121.87,2,   35.01,2,   -0.01,2,    2.49,2,-999.000,9,-999.000,9,  -999.0,9,  -999.0,9,-999.000,9,-999.0000,9, -999.00,9, -999.00,9,  -999.0,9,  -999.0,-999.000,9,-999.000,     -999.0,-999.0000,-999.000,     1.7740,-999.000
  316N138_4,       P06C,     124,          1,         12,        112,2,19920618,       0700,   -32.5117,  -147.3400,       4608,  2606.4,   1.8465,  34.6632,2,  34.6631,2,    151.3,2,   146.8,3,  125.49,2,   35.04,2,   -0.01,2,    2.48,2,-999.000,9,-999.000,9,  -999.0,9,  -999.0,9,-999.000,9,-999.0000,9, -999.00,9, -999.00,9,  -999.0,9,  -999.0,-999.000,9,-999.000,     -999.0,-999.0000,-999.000,     1.6593,-999.000
  316N138_4,       P06C,     124,          1,         11,        129,2,19920618,       0700,   -32.5117,  -147.3400,       4608,  2816.9,   1.7615,  34.6705,2,  34.6710,2,    153.8,2,   154.7,2,  127.39,2,   34.90,2,   -0.01,2,    2.47,2,   0.002,2,  -0.003,2,  -999.0,9,  -999.0,9,-999.000,9,-999.0000,9, -999.00,9, -999.00,9,  -999.0,9,  -999.0,-999.000,9,-999.000,     -999.0,-999.0000,-999.000,     1.5564,-999.000
  316N138_4,       P06C,     124,          1,         10,        110,2,19920618,       0700,   -32.5117,  -147.3400,       4608,  3021.1,   1.7010,  34.6767,2,  34.6765,2,    157.9,2,   157.2,2,  127.54,2,   34.67,2,   -0.01,2,    2.47,2,-999.000,9,-999.000,9,  -999.0,9,  -999.0,9,-999.000,9,-999.0000,9, -999.00,9, -999.00,9,  -999.0,9,  -999.0,-999.000,9,-999.000,     -999.0,-999.0000,-999.000,     1.4777,-999.000
  316N138_4,       P06C,     124,          1,          9,        126,2,19920618,       0700,   -32.5117,  -147.3400,       4608,  3230.9,   1.6121,  34.6839,2,  34.6881,3,    164.6,2,   164.7,2,  125.98,2,   34.21,2,   -0.01,2,    2.42,2,-999.000,9,-999.000,9,  -999.0,9,  -999.0,9,-999.000,9,-999.0000,9, -999.00,9, -999.00,9,  -999.0,9,  -999.0,-999.000,9,-999.000,     -999.0,-999.0000,-999.000,     1.3704,-999.000
  316N138_4,       P06C,     124,          1,          8,        108,2,19920618,       0700,   -32.5117,  -147.3400,       4608,  3438.1,   1.5411,  34.6903,2,  34.6897,2,    171.2,2,   171.0,2,  124.26,2,   33.80,2,   -0.01,2,    2.39,2,   0.002,2,  -0.002,2,  -999.0,9,  -999.0,9,-999.000,9,-999.0000,9, -999.00,9, -999.00,9,  -999.0,9,  -999.0,-999.000,9,-999.000,     -999.0,-999.0000,-999.000,     1.2802,-999.000
  316N138_4,       P06C,     124,          1,          7,        107,2,19920618,       0700,   -32.5117,  -147.3400,       4608,  3641.7,   1.4585,  34.6957,2,  34.6960,2,    177.5,2,   178.3,2,  122.40,2,   33.34,2,   -0.01,2,    2.35,2,-999.000,9,-999.000,9,  -999.0,9,  -999.0,9,-999.000,9,-999.0000,9, -999.00,9, -999.00,9,  -999.0,9,  -999.0,-999.000,9,-999.000,     -999.0,-999.0000,-999.000,     1.1788,-999.000
  316N138_4,       P06C,     124,          1,          6,        180,2,19920618,       0700,   -32.5117,  -147.3400,       4608,  3853.6,   1.3868,  34.7001,2,  34.7003,2,    183.4,2,   183.9,2,  121.12,2,   33.02,2,   -0.01,2,    2.31,2,-999.000,9,-999.000,9,  -999.0,9,  -999.0,9,-999.000,9,-999.0000,9, -999.00,9, -999.00,9,  -999.0,9,  -999.0,-999.000,9,-999.000,     -999.0,-999.0000,-999.000,     1.0866,-999.000
  316N138_4,       P06C,     124,          1,          5,        131,2,19920618,       0700,   -32.5117,  -147.3400,       4608,  4059.6,   1.3115,  34.7047,2,  34.7040,2,    189.0,2,   184.0,4,  120.13,2,   32.65,2,   -0.01,2,    2.29,2,   0.000,2,   0.002,2,  -999.0,9,  -999.0,9,-999.000,9,-999.0000,9, -999.00,9, -999.00,9,  -999.0,9,  -999.0,-999.000,9,-999.000,     -999.0,-999.0000,-999.000,     0.9914,-999.000
  316N138_4,       P06C,     124,          1,          4,        104,2,19920618,       0700,   -32.5117,  -147.3400,       4608,  4264.6,   1.2747,  34.7074,2,  34.7060,2,    193.3,2,   188.7,4,  119.42,2,   32.45,2,    0.00,2,    2.28,2,-999.000,9,-999.000,9,  -999.0,9,  -999.0,9,-999.000,9,-999.0000,9, -999.00,9, -999.00,9,  -999.0,9,  -999.0,-999.000,9,-999.000,     -999.0,-999.0000,-999.000,     0.9331,-999.000
  316N138_4,       P06C,     124,          1,          3,        130,2,19920618,       0700,   -32.5117,  -147.3400,       4608,  4475.2,   1.2468,  34.7082,2,  34.7087,2,    196.7,2,   195.8,2,  119.30,2,   32.39,2,    0.00,2,    2.27,2,-999.000,9,-999.000,9,  -999.0,9,  -999.0,9,-999.000,9,-999.0000,9, -999.00,9, -999.00,9,  -999.0,9,  -999.0,-999.000,9,-999.000,     -999.0,-999.0000,-999.000,     0.8824,-999.000
  316N138_4,       P06C,     124,          1,          2,        135,2,19920618,       0700,   -32.5117,  -147.3400,       4608,  4679.2,   1.2422,  34.7097,2,  34.7099,2,    198.8,2,   196.4,2,  118.88,2,   32.29,2,    0.00,2,    2.27,2,   0.000,2,   0.000,2,  -999.0,9,  -999.0,9,-999.000,9,-999.0000,9, -999.00,9, -999.00,9,  -999.0,9,  -999.0,-999.000,9,-999.000,     -999.0,-999.0000,-999.000,     0.8545,-999.000
  316N138_4,       P06C,     124,          1,          1,        134,2,19920618,       0700,   -32.5117,  -147.3400,       4608,  4766.0,   1.2464,  34.7101,2,  34.7081,2,    198.4,2,   198.3,2,  118.52,2,   32.33,2,    0.00,2,    2.25,2,  -0.002,2,  -0.003,2,  -999.0,9,  -999.0,9,-999.000,9,-999.0000,9, -999.00,9, -999.00,9,  -999.0,9,  -999.0,-999.000,9,-999.000,     -999.0,-999.0000,-999.000,     0.8484,-999.000