BOTTLE,20211025CCHSIORKP
EXPOCODE,SECT_ID,STNNBR,CASTNO,SAMPNO,BTLNBR,BTLNBR_FLAG_W,DATE,TIME,LATITUDE,LONGITUDE,DEPTH,CTDPRS,CTDTMP,CTDSAL,CTDSAL_FLAG_W,SALNTY,SALNTY_FLAG_W,CTDOXY,CTDOXY_FLAG_W,OXYGEN,OXYGEN_FLAG_W,SILCAT,SILCAT_FLAG_W,NITRAT,NITRAT_FLAG_W,NITRIT,NITRIT_FLAG_W,PHSPHT,PHSPHT_FLAG_W,CFC-11,CFC-11_FLAG_W,CFC-12,CFC-12_FLAG_W,TCARBN,TCARBN_FLAG_W,PCO2,PCO2_FLAG_W,TRITUM,TRITUM_FLAG_W,HELIUM,HELIUM_FLAG_W,DELHE3,DELHE3_FLAG_W,DELC13,DELC13_FLAG_W,DELC14,DELC14_FLAG_W,C14ERR,NEON,NEON_FLAG_W,NEONER,PCO2TMP,HELIER,DELHER,THETA,TRITER
,,,,,,,,,,,METERS,DBAR,ITS-90,PSS-78,,PSS-78,,UMOL/KG,,UMOL/KG,,UMOL/KG,,UMOL/KG,,UMOL/KG,,UMOL/KG,,PMOL/KG,,PMOL/KG,,UMOL/KG,,UATM,,TU,,NMOL/KG,,PERCNT,,/MILLE,,/MILLE,,/MILLE,NMOL/KG,,NMOL/KG,DEG_C,NMOL/KG,PERCNT,ITS-90,TU
  316N138_4,       P06C,     129,          1,         36,    02-9121,2,19920619,       1827,   -32.5133,  -151.4972,       5501,    27.9,  17.5469,  35.2453,2,  35.2454,2,    236.9,2,   235.1,2,    0.52,2,    0.09,2,   -0.02,2,    0.13,2,-999.000,9,-999.000,9,  2028.9,6,  -999.0,9,-999.000,9,-999.0000,9, -999.00,9, -999.00,9,  -999.0,9,  -999.0,-999.000,9,-999.000,     -999.0,-999.0000,-999.000,    17.5422,-999.000
  316N138_4,       P06C,     129,          1,         35,    02-9454,2,19920619,       1827,   -32.5133,  -151.4972,       5501,    67.8,  17.5421,  35.2451,2,  35.2436,2,    234.1,2,   235.1,2,    0.52,2,    0.08,2,   -0.01,2,    0.13,2,-999.000,9,-999.000,9,  2029.6,2,  -999.0,9,-999.000,9,-999.0000,9, -999.00,9, -999.00,9,  -999.0,9,  -999.0,-999.000,9,-999.000,     -999.0,-999.0000,-999.000,    17.5307,-999.000
  316N138_4,       P06C,     129,          1,         34,    02-9457,2,19920619,       1827,   -32.5133,  -151.4972,       5501,   116.8,  16.0882,  35.2475,2,  35.2489,2,    241.2,2,   240.9,2,    0.66,2,    0.12,2,    0.01,2,    0.18,2,-999.000,9,-999.000,9,  2043.3,2,  -999.0,9,-999.000,9,-999.0000,9, -999.00,9, -999.00,9,  -999.0,9,  -999.0,-999.000,9,-999.000,     -999.0,-999.0000,-999.000,    16.0697,-999.000
  316N138_4,       P06C,     129,          1,         33,    02-5367,2,19920619,       1827,   -32.5133,  -151.4972,       5501,   166.7,  14.9787,  35.1660,2,  35.1648,2,    228.5,2,   230.2,2,    0.66,2,    1.31,2,    0.12,2,    0.28,2,-999.000,9,-999.000,9,  2057.7,2,  -999.0,9,-999.000,9,-999.0000,9, -999.00,9, -999.00,9,  -999.0,9,  -999.0,-999.000,9,-999.000,     -999.0,-999.0000,-999.000,    14.9535,-999.000
  316N138_4,       P06C,     129,          1,         32,    02-9540,2,19920619,       1827,   -32.5133,  -151.4972,       5501,   215.4,  13.8889,  35.0826,2,  35.0722,2,    214.6,2,   212.2,2,    1.38,2,    5.70,2,   -0.01,2,    0.54,2,-999.000,9,-999.000,9,  2079.6,2,  -999.0,9,-999.000,9,-999.0000,9, -999.00,9, -999.00,9,  -999.0,9,  -999.0,-999.000,9,-999.000,     -999.0,-999.0000,-999.000,    13.8579,-999.000
  316N138_4,       P06C,     129,          1,         31,    02-9539,2,19920619,       1827,   -32.5133,  -151.4972,       5501,   265.0,  12.1554,  34.8895,2,  34.8991,2,    204.9,2,   204.8,2,    2.09,2,   10.02,2,   -0.01,2,    0.79,2,-999.000,9,-999.000,9,  2098.3,2,  -999.0,9,-999.000,9,-999.0000,9, -999.00,9, -999.00,9,  -999.0,9,  -999.0,-999.000,9,-999.000,     -999.0,-999.0000,-999.000,    12.1205,-999.000
  316N138_4,       P06C,     129,          1,         30,    02-9456,2,19920619,       1827,   -32.5133,  -151.4972,       5501,   315.2,  10.5129,  34.7210,2,  34.7170,2,    207.8,2,   209.5,2,    3.10,2,   13.96,2,   -0.01,2,    1.02,2,-999.000,9,-999.000,9,  2112.0,2,  -999.0,9,-999.000,9,-999.0000,9, -999.00,9, -999.00,9,  -999.0,9,  -999.0,-999.000,9,-999.000,     -999.0,-999.0000,-999.000,    10.4751,-999.000
  316N138_4,       P06C,     129,          1,         29,    02-9458,2,19920619,       1827,   -32.5133,  -151.4972,       5501,   365.2,   9.2263,  34.5931,2,  34.5969,2,    218.4,2,   220.3,2,    3.53,2,   16.00,2,    0.00,2,    1.13,2,-999.000,9,-999.000,9,  2118.3,2,  -999.0,9,-999.000,9,-999.0000,9, -999.00,9, -999.00,9,  -999.0,9,  -999.0,-999.000,9,-999.000,     -999.0,-999.0000,-999.000,     9.1859,-999.000
  316N138_4,       P06C,     129,          1,         28,    02-9545,2,19920619,       1827,   -32.5133,  -151.4972,       5501,   413.5,   8.3742,  34.5211,2,  34.5221,2,    226.6,2,   225.8,2,    4.52,2,   18.18,2,    0.00,2,    1.26,2,-999.000,9,-999.000,9,  2123.6,6,  -999.0,9,-999.000,9,-999.0000,9, -999.00,9, -999.00,9,  -999.0,9,  -999.0,-999.000,9,-999.000,     -999.0,-999.0000,-999.000,     8.3309,-999.000
  316N138_4,       P06C,     129,          1,         27,    02-9453,2,19920619,       1827,   -32.5133,  -151.4972,       5501,   462.9,   7.7832,  34.4761,2,  34.4744,2,    230.3,2,   230.9,2,    5.38,2,   19.67,2,    0.00,2,    1.34,2,-999.000,9,-999.000,9,  2126.1,2,  -999.0,9,-999.000,9,-999.0000,9, -999.00,9, -999.00,9,  -999.0,9,  -999.0,-999.000,9,-999.000,     -999.0,-999.0000,-999.000,     7.7366,-999.000
  316N138_4,       P06C,     129,          1,         26,    02-9544,2,19920619,       1827,   -32.5133,  -151.4972,       5501,   511.2,   7.3537,  34.4368,2,  34.4371,2,    236.8,2,   235.9,2,    6.24,2,   20.70,2,    0.00,2,    1.40,2,-999.000,9,-999.000,9,  2127.8,2,  -999.0,9,-999.000,9,-999.0000,9, -999.00,9, -999.00,9,  -999.0,9,  -999.0,-999.000,9,-999.000,     -999.0,-999.0000,-999.000,     7.3038,-999.000
  316N138_4,       P06C,     129,          1,         25,    02-9455,2,19920619,       1827,   -32.5133,  -151.4972,       5501,   610.0,   6.7732,  34.3888,2,  34.3888,2,    239.1,2,   238.6,2,    7.67,2,   22.18,2,    0.00,2,    1.49,2,-999.000,9,-999.000,9,  2132.3,2,  -999.0,9,-999.000,9,-999.0000,9, -999.00,9, -999.00,9,  -999.0,9,  -999.0,-999.000,9,-999.000,     -999.0,-999.0000,-999.000,     6.7160,-999.000
  316N138_4,       P06C,     129,          1,         24,        132,2,19920619,       1827,   -32.5133,  -151.4972,       5501,   811.5,   5.8151,  34.3272,2,  34.3276,2,    230.8,2,   228.0,2,   13.38,2,   25.44,2,    0.00,2,    1.71,2,-999.000,9,-999.000,9,  2147.9,2,  -999.0,9,-999.000,9,-999.0000,9, -999.00,9, -999.00,9,  -999.0,9,  -999.0,-999.000,9,-999.000,     -999.0,-999.0000,-999.000,     5.7438,-999.000
  316N138_4,       P06C,     129,          1,         23,        123,2,19920619,       1827,   -32.5133,  -151.4972,       5501,  1007.5,   4.8054,  34.3241,2,  34.3252,2,    208.3,2,   206.5,2,   26.10,2,   29.37,2,    0.00,2,    1.97,2,-999.000,9,-999.000,9,  2177.7,2,  -999.0,9,-999.000,9,-999.0000,9, -999.00,9, -999.00,9,  -999.0,9,  -999.0,-999.000,9,-999.000,     -999.0,-999.0000,-999.000,     4.7232,-999.000
  316N138_4,       P06C,     129,          1,         22,        128,2,19920619,       1827,   -32.5133,  -151.4972,       5501,  1208.1,   3.7057,  34.3834,2,  34.3829,2,    187.3,2,   185.1,2,   46.09,2,   32.63,2,    0.00,2,    2.20,2,-999.000,9,-999.000,9,  2212.8,2,  -999.0,9,-999.000,9,-999.0000,9, -999.00,9, -999.00,9,  -999.0,9,  -999.0,-999.000,9,-999.000,     -999.0,-999.0000,-999.000,     3.6153,-999.000
  316N138_4,       P06C,     129,          1,         21,        121,2,19920619,       1827,   -32.5133,  -151.4972,       5501,  1407.8,   3.0318,  34.4769,2,  34.4718,2,    173.0,2,   171.6,2,   65.07,2,   33.97,2,    0.00,2,    2.31,2,-999.000,9,-999.000,9,  2240.0,2,  -999.0,9,-999.000,9,-999.0000,9, -999.00,9, -999.00,9,  -999.0,9,  -999.0,-999.000,9,-999.000,     -999.0,-999.0000,-999.000,     2.9315,-999.000
  316N138_4,       P06C,     129,          1,         20,        120,3,19920619,       1827,   -32.5133,  -151.4972,       5501,  1607.1,   2.6482,  34.5614,2,  34.5555,2,    161.6,2,   161.0,2,   84.62,2,   34.49,2,    0.00,2,    2.38,2,-999.000,9,-999.000,9,  2263.8,2,  -999.0,9,-999.000,9,-999.0000,9, -999.00,9, -999.00,9,  -999.0,9,  -999.0,-999.000,9,-999.000,     -999.0,-999.0000,-999.000,     2.5357,-999.000
  316N138_4,       P06C,     129,          1,         19,        133,2,19920619,       1827,   -32.5133,  -151.4972,       5501,  1808.9,   2.4417,  34.6044,2,  34.6018,2,    155.3,2,   154.3,2,   98.88,2,   34.95,2,    0.00,2,    2.43,2,-999.000,9,-999.000,9,  2281.6,2,  -999.0,9,-999.000,9,-999.0000,9, -999.00,9, -999.00,9,  -999.0,9,  -999.0,-999.000,9,-999.000,     -999.0,-999.0000,-999.000,     2.3149,-999.000
  316N138_4,       P06C,     129,          1,         18,        118,2,19920619,       1827,   -32.5133,  -151.4972,       5501,  2008.0,   2.2448,  34.6286,2,  34.6290,2,    151.1,2,   150.3,2,  110.30,2,   35.25,2,   -0.01,2,    2.48,2,-999.000,9,-999.000,9,  2295.1,6,  -999.0,9,-999.000,9,-999.0000,9, -999.00,9, -999.00,9,  -999.0,9,  -999.0,-999.000,9,-999.000,     -999.0,-999.0000,-999.000,     2.1039,-999.000
  316N138_4,       P06C,     129,          1,         17,        117,2,19920619,       1827,   -32.5133,  -151.4972,       5501,  2206.4,   2.0942,  34.6427,2,  34.6431,2,    147.8,2,   147.3,2,  118.84,2,   35.63,2,   -0.01,2,    2.50,2,-999.000,9,-999.000,9,  2303.9,2,  -999.0,9,-999.000,9,-999.0000,9, -999.00,9, -999.00,9,  -999.0,9,  -999.0,-999.000,9,-999.000,     -999.0,-999.0000,-999.000,     1.9385,-999.000
  316N138_4,       P06C,     129,          1,         16,        116,2,19920619,       1827,   -32.5133,  -151.4972,       5501,  2409.9,   1.9804,  34.6525,2,  34.6533,2,    146.9,2,   146.4,2,  124.26,2,   35.77,2,   -0.01,2,    2.52,2,-999.000,9,-999.000,9,  2309.7,2,  -999.0,9,-999.000,9,-999.0000,9, -999.00,9, -999.00,9,  -999.0,9,  -999.0,-999.000,9,-999.000,     -999.0,-999.0000,-999.000,     1.8086,-999.000
  316N138_4,       P06C,     129,          1,         15,        115,2,19920619,       1827,   -32.5133,  -151.4972,       5501,  2611.7,   1.8947,  34.6604,2,  34.6610,2,    148.0,2,   147.3,2,  127.39,2,   35.82,2,   -0.01,2,    2.52,2,-999.000,9,-999.000,9,  2312.0,2,  -999.0,9,-999.000,9,-999.0000,9, -999.00,9, -999.00,9,  -999.0,9,  -999.0,-999.000,9,-999.000,     -999.0,-999.0000,-999.000,     1.7062,-999.000
  316N138_4,       P06C,     129,          1,         14,        114,2,19920619,       1827,   -32.5133,  -151.4972,       5501,  2815.7,   1.8217,  34.6663,2,  34.6669,2,    150.0,2,   149.7,2,  128.94,2,   35.74,2,   -0.01,2,    2.51,2,-999.000,9,-999.000,9,  2311.7,2,  -999.0,9,-999.000,9,-999.0000,9, -999.00,9, -999.00,9,  -999.0,9,  -999.0,-999.000,9,-999.000,     -999.0,-999.0000,-999.000,     1.6155,-999.000
  316N138_4,       P06C,     129,          1,         13,        125,2,19920619,       1827,   -32.5133,  -151.4972,       5501,  3022.1,   1.7613,  34.6725,2,  34.6739,2,    152.8,2,   152.9,2,  129.36,2,   35.52,2,   -0.01,2,    2.50,2,-999.000,9,-999.000,9,  2310.2,2,  -999.0,9,-999.000,9,-999.0000,9, -999.00,9, -999.00,9,  -999.0,9,  -999.0,-999.000,9,-999.000,     -999.0,-999.0000,-999.000,     1.5366,-999.000
  316N138_4,       P06C,     129,          1,         12,        112,2,19920619,       1827,   -32.5133,  -151.4972,       5501,  3224.9,   1.6915,  34.6830,2,  34.6832,2,    158.2,2,   159.4,2,  127.06,2,   34.86,2,    0.00,2,    2.45,2,-999.000,9,-999.000,9,  2304.3,2,  -999.0,9,-999.000,9,-999.0000,9, -999.00,9, -999.00,9,  -999.0,9,  -999.0,-999.000,9,-999.000,     -999.0,-999.0000,-999.000,     1.4485,-999.000
  316N138_4,       P06C,     129,          1,         11,        129,2,19920619,       1827,   -32.5133,  -151.4972,       5501,  3427.4,   1.6239,  34.6944,2,  34.6952,2,    168.9,2,   169.6,2,  122.20,2,   34.09,2,   -0.01,2,    2.38,2,-999.000,9,-999.000,9,  2291.0,2,  -999.0,9,-999.000,9,-999.0000,9, -999.00,9, -999.00,9,  -999.0,9,  -999.0,-999.000,9,-999.000,     -999.0,-999.0000,-999.000,     1.3621,-999.000
  316N138_4,       P06C,     129,          1,         10,        110,2,19920619,       1827,   -32.5133,  -151.4972,       5501,  3629.1,   1.5611,  34.7046,2,  34.7050,2,    179.5,2,   179.2,2,  117.34,2,   33.26,2,   -0.01,2,    2.32,2,-999.000,9,-999.000,9,  2279.3,2,  -999.0,9,-999.000,9,-999.0000,9, -999.00,9, -999.00,9,  -999.0,9,  -999.0,-999.000,9,-999.000,     -999.0,-999.0000,-999.000,     1.2799,-999.000
  316N138_4,       P06C,     129,          1,          9,        126,2,19920619,       1827,   -32.5133,  -151.4972,       5501,  3833.3,   1.4626,  34.7122,2,  34.7127,2,    189.0,2,   188.8,2,  114.48,2,   32.47,2,    0.00,2,    2.28,2,-999.000,9,-999.000,9,  2269.4,2,  -999.0,9,-999.000,9,-999.0000,9, -999.00,9, -999.00,9,  -999.0,9,  -999.0,-999.000,9,-999.000,     -999.0,-999.0000,-999.000,     1.1625,-999.000
  316N138_4,       P06C,     129,          1,          8,        108,2,19920619,       1827,   -32.5133,  -151.4972,       5501,  4040.6,   1.3592,  34.7153,2,  34.4677,4,    195.4,2,   172.9,4,   63.86,4,   34.05,4,    0.00,4,    2.31,4,-999.000,9,-999.000,9,  2238.4,3,  -999.0,9,-999.000,9,-999.0000,9, -999.00,9, -999.00,9,  -999.0,9,  -999.0,-999.000,9,-999.000,     -999.0,-999.0000,-999.000,     1.0397,-999.000
  316N138_4,       P06C,     129,          1,          7,        107,2,19920619,       1827,   -32.5133,  -151.4972,       5501,  4246.2,   1.2548,  34.7149,2,  34.7148,2,    199.7,2,   199.6,2,  115.60,2,   31.97,2,    0.00,2,    2.25,2,-999.000,9,-999.000,9,  2263.6,2,  -999.0,9,-999.000,9,-999.0000,9, -999.00,9, -999.00,9,  -999.0,9,  -999.0,-999.000,9,-999.000,     -999.0,-999.0000,-999.000,     0.9158,-999.000
  316N138_4,       P06C,     129,          1,          6,        180,2,19920619,       1827,   -32.5133,  -151.4972,       5501,  4453.0,   1.1733,  34.7137,2,  34.7140,2,    202.4,2,   201.8,2,  117.16,2,   31.98,2,    0.00,2,    2.24,2,-999.000,9,-999.000,9,  2263.5,2,  -999.0,9,-999.000,9,-999.0000,9, -999.00,9, -999.00,9,  -999.0,9,  -999.0,-999.000,9,-999.000,     -999.0,-999.0000,-999.000,     0.8136,-999.000
  316N138_4,       P06C,     129,          1,          5,        131,2,19920619,       1827,   -32.5133,  -151.4972,       5501,  4661.3,   1.1403,  34.7124,2,  34.7132,2,    203.8,2,   203.3,2,  118.00,2,   32.03,2,    0.00,2,    2.24,2,-999.000,9,-999.000,9,  2262.4,2,  -999.0,9,-999.000,9,-999.0000,9, -999.00,9, -999.00,9,  -999.0,9,  -999.0,-999.000,9,-999.000,     -999.0,-999.0000,-999.000,     0.7579,-999.000
  316N138_4,       P06C,     129,          1,          4,        104,2,19920619,       1827,   -32.5133,  -151.4972,       5501,  4868.1,   1.1197,  34.7123,2,  34.7134,2,    204.9,2,   204.6,2,  118.98,2,   32.23,2,    0.00,2,    2.24,2,-999.000,9,-999.000,9,  2262.4,2,  -999.0,9,-999.000,9,-999.0000,9, -999.00,9, -999.00,9,  -999.0,9,  -999.0,-999.000,9,-999.000,     -999.0,-999.0000,-999.000,     0.7138,-999.000
  316N138_4,       P06C,     129,          1,          3,        130,2,19920619,       1827,   -32.5133,  -151.4972,       5501,  5072.7,   1.1244,  34.7113,2,  34.7125,2,    205.2,2,   205.7,2,  119.55,2,   32.14,2,    0.00,2,    2.24,2,-999.000,9,-999.000,9,  2262.2,2,  -999.0,9,-999.000,9,-999.0000,9, -999.00,9, -999.00,9,  -999.0,9,  -999.0,-999.000,9,-999.000,     -999.0,-999.0000,-999.000,     0.6940,-999.000
  316N138_4,       P06C,     129,          1,          2,        135,2,19920619,       1827,   -32.5133,  -151.4972,       5501,  5280.2,   1.1367,  34.7108,2,  34.7121,2,    205.4,2,   205.7,2,  119.68,2,   32.05,2,    0.00,2,    2.24,2,-999.000,9,-999.000,9,  2262.8,2,  -999.0,9,-999.000,9,-999.0000,9, -999.00,9, -999.00,9,  -999.0,9,  -999.0,-999.000,9,-999.000,     -999.0,-999.0000,-999.000,     0.6806,-999.000
  316N138_4,       P06C,     129,          1,          1,        134,2,19920619,       1827,   -32.5133,  -151.4972,       5501,  5497.0,   1.1568,  34.7104,2,  34.7127,2,    205.3,2,   206.1,2,  119.69,2,   32.15,2,   -0.01,2,    2.24,2,-999.000,9,-999.000,9,  2264.5,6,  -999.0,9,-999.000,9,-999.0000,9, -999.00,9, -999.00,9,  -999.0,9,  -999.0,-999.000,9,-999.000,     -999.0,-999.0000,-999.000,     0.6729,-999.000