BOTTLE,20211025CCHSIORKP
EXPOCODE,SECT_ID,STNNBR,CASTNO,SAMPNO,BTLNBR,BTLNBR_FLAG_W,DATE,TIME,LATITUDE,LONGITUDE,DEPTH,CTDPRS,CTDTMP,CTDSAL,CTDSAL_FLAG_W,SALNTY,SALNTY_FLAG_W,CTDOXY,CTDOXY_FLAG_W,OXYGEN,OXYGEN_FLAG_W,SILCAT,SILCAT_FLAG_W,NITRAT,NITRAT_FLAG_W,NITRIT,NITRIT_FLAG_W,PHSPHT,PHSPHT_FLAG_W,CFC-11,CFC-11_FLAG_W,CFC-12,CFC-12_FLAG_W,TCARBN,TCARBN_FLAG_W,PCO2,PCO2_FLAG_W,TRITUM,TRITUM_FLAG_W,HELIUM,HELIUM_FLAG_W,DELHE3,DELHE3_FLAG_W,DELC13,DELC13_FLAG_W,DELC14,DELC14_FLAG_W,C14ERR,NEON,NEON_FLAG_W,NEONER,PCO2TMP,HELIER,DELHER,THETA,TRITER
,,,,,,,,,,,METERS,DBAR,ITS-90,PSS-78,,PSS-78,,UMOL/KG,,UMOL/KG,,UMOL/KG,,UMOL/KG,,UMOL/KG,,UMOL/KG,,PMOL/KG,,PMOL/KG,,UMOL/KG,,UATM,,TU,,NMOL/KG,,PERCNT,,/MILLE,,/MILLE,,/MILLE,NMOL/KG,,NMOL/KG,DEG_C,NMOL/KG,PERCNT,ITS-90,TU
  316N138_4,       P06C,     122,          1,         36,    02-9121,2,19920617,       1209,   -32.5140,  -145.6607,       5002,    20.3,  18.4463,  35.3375,2,  35.3372,2,    306.8,3,   232.4,2,    0.45,2,    0.03,2,   -0.01,2,    0.10,2,   2.362,2,-999.000,5,  -999.0,9,  -999.0,9,-999.000,9,-999.0000,9, -999.00,9, -999.00,9,  -999.0,9,  -999.0,-999.000,9,-999.000,     -999.0,-999.0000,-999.000,    18.4428,-999.000
  316N138_4,       P06C,     122,          1,         35,    02-9454,2,19920617,       1209,   -32.5140,  -145.6607,       5002,    59.7,  18.4570,  35.3386,2,  35.3409,2,    238.8,2,   232.6,2,    0.46,2,    0.01,2,    0.00,2,    0.12,2,   2.356,6,   1.298,6,  -999.0,9,  -999.0,9,-999.000,9,-999.0000,9, -999.00,9, -999.00,9,  -999.0,9,  -999.0,-999.000,9,-999.000,     -999.0,-999.0000,-999.000,    18.4466,-999.000
  316N138_4,       P06C,     122,          1,         34,    02-9457,2,19920617,       1209,   -32.5140,  -145.6607,       5002,   110.9,  16.9781,  35.3733,2,  35.3668,2,    235.0,2,   229.8,2,    0.61,2,    0.11,2,    0.04,2,    0.19,2,   2.412,2,   1.287,2,  -999.0,9,  -999.0,9,-999.000,9,-999.0000,9, -999.00,9, -999.00,9,  -999.0,9,  -999.0,-999.000,9,-999.000,     -999.0,-999.0000,-999.000,    16.9598,-999.000
  316N138_4,       P06C,     122,          1,         33,    02-5367,2,19920617,       1209,   -32.5140,  -145.6607,       5002,   160.9,  15.8783,  35.2624,2,  35.2702,2,    230.9,2,   222.8,2,    0.75,2,    1.71,2,    0.06,2,    0.28,2,   2.454,2,   1.320,2,  -999.0,9,  -999.0,9,-999.000,9,-999.0000,9, -999.00,9, -999.00,9,  -999.0,9,  -999.0,-999.000,9,-999.000,     -999.0,-999.0000,-999.000,    15.8530,-999.000
  316N138_4,       P06C,     122,          1,         32,    02-9540,2,19920617,       1209,   -32.5140,  -145.6607,       5002,   211.8,  14.6223,  35.1213,2,  35.1215,2,    226.5,2,   226.4,2,    0.75,2,    2.54,2,    0.01,2,    0.35,2,   2.584,2,   1.365,2,  -999.0,9,  -999.0,9,-999.000,9,-999.0000,9, -999.00,9, -999.00,9,  -999.0,9,  -999.0,-999.000,9,-999.000,     -999.0,-999.0000,-999.000,    14.5907,-999.000
  316N138_4,       P06C,     122,          1,         31,    02-9539,2,19920617,       1209,   -32.5140,  -145.6607,       5002,   260.0,  13.6159,  35.0557,2,  35.0443,2,    203.7,2,   199.5,2,    1.91,2,    8.65,2,    0.00,2,    0.69,2,   1.905,2,   0.990,2,  -999.0,9,  -999.0,9,-999.000,9,-999.0000,9, -999.00,9, -999.00,9,  -999.0,9,  -999.0,-999.000,9,-999.000,     -999.0,-999.0000,-999.000,    13.5789,-999.000
  316N138_4,       P06C,     122,          1,         30,    02-9456,2,19920617,       1209,   -32.5140,  -145.6607,       5002,   309.7,  12.1578,  34.9319,2,  34.9246,2,    201.1,2,   197.9,2,    2.79,2,   11.75,2,    0.00,2,    0.89,2,   1.739,2,   0.895,2,  -999.0,9,  -999.0,9,-999.000,9,-999.0000,9, -999.00,9, -999.00,9,  -999.0,9,  -999.0,-999.000,9,-999.000,     -999.0,-999.0000,-999.000,    12.1169,-999.000
  316N138_4,       P06C,     122,          1,         29,    02-9458,2,19920617,       1209,   -32.5140,  -145.6607,       5002,   357.6,  10.3454,  34.7171,2,  34.7103,2,    209.5,2,   207.2,2,    3.53,2,   14.95,2,   -0.01,2,    1.05,2,   1.798,2,   0.900,2,  -999.0,9,  -999.0,9,-999.000,9,-999.0000,9, -999.00,9, -999.00,9,  -999.0,9,  -999.0,-999.000,9,-999.000,     -999.0,-999.0000,-999.000,    10.3028,-999.000
  316N138_4,       P06C,     122,          1,         28,    02-9545,2,19920617,       1209,   -32.5140,  -145.6607,       5002,   403.4,   9.1423,  34.5818,2,  34.5818,2,    217.6,2,   214.7,2,    4.25,2,   17.31,2,    0.00,2,    1.20,2,   1.645,6,   0.827,6,  -999.0,9,  -999.0,9,-999.000,9,-999.0000,9, -999.00,9, -999.00,9,  -999.0,9,  -999.0,-999.000,9,-999.000,     -999.0,-999.0000,-999.000,     9.0978,-999.000
  316N138_4,       P06C,     122,          1,         27,    02-9453,2,19920617,       1209,   -32.5140,  -145.6607,       5002,   448.4,   8.2683,  34.5075,2,  34.5944,4,    226.1,2,   225.8,3,    4.32,3,   16.92,3,    0.00,3,    1.26,3,   1.903,6,   0.941,6,  -999.0,9,  -999.0,9,-999.000,9,-999.0000,9, -999.00,9, -999.00,9,  -999.0,9,  -999.0,-999.000,9,-999.000,     -999.0,-999.0000,-999.000,     8.2216,-999.000
  316N138_4,       P06C,     122,          1,         26,    02-9544,2,19920617,       1209,   -32.5140,  -145.6607,       5002,   500.2,   7.6414,  34.4501,2,-999.0000,9,    235.2,2,  -999.0,9, -999.00,9, -999.00,9, -999.00,9, -999.00,9,-999.000,9,-999.000,9,  -999.0,9,  -999.0,9,-999.000,9,-999.0000,9, -999.00,9, -999.00,9,  -999.0,9,  -999.0,-999.000,9,-999.000,     -999.0,-999.0000,-999.000,     7.5915,-999.000
  316N138_4,       P06C,     122,          1,         25,    02-9455,2,19920617,       1209,   -32.5140,  -145.6607,       5002,   604.2,   6.9354,  34.3988,2,  34.3980,2,    241.9,2,   241.4,2,    6.89,2,   21.75,2,    0.01,2,    1.42,2,   1.335,6,   0.683,6,  -999.0,9,  -999.0,9,-999.000,9,-999.0000,9, -999.00,9, -999.00,9,  -999.0,9,  -999.0,-999.000,9,-999.000,     -999.0,-999.0000,-999.000,     6.8780,-999.000
  316N138_4,       P06C,     122,          1,         24,        132,3,19920617,       1209,   -32.5140,  -145.6607,       5002,   703.7,   6.4480,  34.3567,2,  34.8857,4,    241.6,2,   229.6,4,    2.95,4,    8.16,4,    0.03,4,    0.70,4,-999.000,9,-999.000,9,  -999.0,9,  -999.0,9,-999.000,9,-999.0000,9, -999.00,9, -999.00,9,  -999.0,9,  -999.0,-999.000,9,-999.000,     -999.0,-999.0000,-999.000,     6.3833,-999.000
  316N138_4,       P06C,     122,          1,         23,        123,2,19920617,       1209,   -32.5140,  -145.6607,       5002,   801.4,   5.9548,  34.3257,2,  34.3293,2,    234.1,2,   235.0,2,   11.41,2,   25.01,2,    0.01,2,    1.66,2,   0.547,6,   0.299,6,  -999.0,9,  -999.0,9,-999.000,9,-999.0000,9, -999.00,9, -999.00,9,  -999.0,9,  -999.0,-999.000,9,-999.000,     -999.0,-999.0000,-999.000,     5.8835,-999.000
  316N138_4,       P06C,     122,          1,         22,        128,2,19920617,       1209,   -32.5140,  -145.6607,       5002,  1005.5,   4.7845,  34.3118,2,  34.3211,2,    209.9,2,   208.3,2,   25.41,2,   29.78,2,    0.01,2,    1.98,2,   0.205,2,   0.097,2,  -999.0,9,  -999.0,9,-999.000,9,-999.0000,9, -999.00,9, -999.00,9,  -999.0,9,  -999.0,-999.000,9,-999.000,     -999.0,-999.0000,-999.000,     4.7026,-999.000
  316N138_4,       P06C,     122,          1,         21,        121,2,19920617,       1209,   -32.5140,  -145.6607,       5002,  1207.1,   3.7306,  34.3751,2,  34.3815,2,    187.1,2,   185.6,2,   45.25,2,   33.08,2,    0.01,2,    2.22,2,   0.032,6,   0.023,6,  -999.0,9,  -999.0,9,-999.000,9,-999.0000,9, -999.00,9, -999.00,9,  -999.0,9,  -999.0,-999.000,9,-999.000,     -999.0,-999.0000,-999.000,     3.6401,-999.000
  316N138_4,       P06C,     122,          1,         20,        120,2,19920617,       1209,   -32.5140,  -145.6607,       5002,  1405.9,   2.9731,  34.4848,2,  34.4836,2,    171.3,2,   169.9,2,   67.56,2,   34.57,2,    0.02,2,    2.34,2,   0.011,2,  -0.003,2,  -999.0,9,  -999.0,9,-999.000,9,-999.0000,9, -999.00,9, -999.00,9,  -999.0,9,  -999.0,-999.000,9,-999.000,     -999.0,-999.0000,-999.000,     2.8736,-999.000
  316N138_4,       P06C,     122,          1,         19,        133,2,19920617,       1209,   -32.5140,  -145.6607,       5002,  1606.8,   2.6179,  34.5537,2,  34.5594,2,    163.1,2,   161.5,2,   85.06,2,   35.03,2,    0.02,2,    2.40,2,   0.001,2,  -0.001,2,  -999.0,9,  -999.0,9,-999.000,9,-999.0000,9, -999.00,9, -999.00,9,  -999.0,9,  -999.0,-999.000,9,-999.000,     -999.0,-999.0000,-999.000,     2.5058,-999.000
  316N138_4,       P06C,     122,          1,         18,        118,2,19920617,       1209,   -32.5140,  -145.6607,       5002,  1789.7,   2.3670,  34.6021,2,  34.6062,2,    157.1,2,   156.1,2,   99.51,2,   35.36,2,    0.02,2,    2.46,2,  -0.002,2,  -0.004,2,  -999.0,9,  -999.0,9,-999.000,9,-999.0000,9, -999.00,9, -999.00,9,  -999.0,9,  -999.0,-999.000,9,-999.000,     -999.0,-999.0000,-999.000,     2.2430,-999.000
  316N138_4,       P06C,     122,          1,         17,        117,2,19920617,       1209,   -32.5140,  -145.6607,       5002,  1970.9,   2.2017,  34.6263,2,  34.6519,4,    154.4,2,   153.2,2,  108.70,2,   35.66,2,    0.01,2,    2.50,2,-999.000,9,-999.000,9,  -999.0,9,  -999.0,9,-999.000,9,-999.0000,9, -999.00,9, -999.00,9,  -999.0,9,  -999.0,-999.000,9,-999.000,     -999.0,-999.0000,-999.000,     2.0647,-999.000
  316N138_4,       P06C,     122,          1,         16,        116,2,19920617,       1209,   -32.5140,  -145.6607,       5002,  2154.4,   2.0513,  34.6420,2,  34.6506,3,    152.8,2,   151.5,2,  116.44,2,   35.75,2,    0.01,2,    2.52,2,  -0.001,2,  -0.001,2,  -999.0,9,  -999.0,9,-999.000,9,-999.0000,9, -999.00,9, -999.00,9,  -999.0,9,  -999.0,-999.000,9,-999.000,     -999.0,-999.0000,-999.000,     1.9009,-999.000
  316N138_4,       P06C,     122,          1,         15,        115,2,19920617,       1209,   -32.5140,  -145.6607,       5002,  2349.1,   1.9354,  34.6519,2,  34.6637,3,    152.2,2,   151.3,2,  121.38,2,   36.03,2,    0.01,2,    2.51,2,-999.000,9,-999.000,9,  -999.0,9,  -999.0,9,-999.000,9,-999.0000,9, -999.00,9, -999.00,9,  -999.0,9,  -999.0,-999.000,9,-999.000,     -999.0,-999.0000,-999.000,     1.7699,-999.000
  316N138_4,       P06C,     122,          1,         14,        114,2,19920617,       1209,   -32.5140,  -145.6607,       5002,  2550.7,   1.8413,  34.6609,2,  34.6680,3,    154.7,2,   151.8,2,  125.32,2,   36.08,2,    0.01,2,    2.52,2,   0.002,2,  -0.001,2,  -999.0,9,  -999.0,9,-999.000,9,-999.0000,9, -999.00,9, -999.00,9,  -999.0,9,  -999.0,-999.000,9,-999.000,     -999.0,-999.0000,-999.000,     1.6593,-999.000
  316N138_4,       P06C,     122,          1,         13,        125,2,19920617,       1209,   -32.5140,  -145.6607,       5002,  2743.4,   1.7730,  34.6655,2,  34.6625,2,    155.5,2,   155.5,2,  125.95,2,   35.91,2,    0.01,2,    2.51,2,-999.000,9,-999.000,9,  -999.0,9,  -999.0,9,-999.000,9,-999.0000,9, -999.00,9, -999.00,9,  -999.0,9,  -999.0,-999.000,9,-999.000,     -999.0,-999.0000,-999.000,     1.5746,-999.000
  316N138_4,       P06C,     122,          1,         12,        112,2,19920617,       1209,   -32.5140,  -145.6607,       5002,  2941.0,   1.7075,  34.6726,2,  34.6708,2,    158.2,2,   158.4,2,  126.69,2,   35.68,2,    0.01,2,    2.48,2,-999.000,9,-999.000,9,  -999.0,9,  -999.0,9,-999.000,9,-999.0000,9, -999.00,9, -999.00,9,  -999.0,9,  -999.0,-999.000,9,-999.000,     -999.0,-999.0000,-999.000,     1.4918,-999.000
  316N138_4,       P06C,     122,          1,         11,        129,2,19920617,       1209,   -32.5140,  -145.6607,       5002,  3139.8,   1.6600,  34.6751,2,  34.6730,2,    162.6,2,   162.6,2,  125.97,2,   35.27,2,    0.01,2,    2.46,2,-999.000,9,-999.000,9,  -999.0,9,  -999.0,9,-999.000,9,-999.0000,9, -999.00,9, -999.00,9,  -999.0,9,  -999.0,-999.000,9,-999.000,     -999.0,-999.0000,-999.000,     1.4262,-999.000
  316N138_4,       P06C,     122,          1,         10,        110,2,19920617,       1209,   -32.5140,  -145.6607,       5002,  3333.9,   1.6126,  34.6813,2,  34.6800,2,    165.9,2,   165.6,2,  126.13,2,   34.86,2,    0.01,2,    2.44,2,  -0.003,2,  -0.005,2,  -999.0,9,  -999.0,9,-999.000,9,-999.0000,9, -999.00,9, -999.00,9,  -999.0,9,  -999.0,-999.000,9,-999.000,     -999.0,-999.0000,-999.000,     1.3606,-999.000
  316N138_4,       P06C,     122,          1,          9,        126,2,19920617,       1209,   -32.5140,  -145.6607,       5002,  3536.8,   1.5322,  34.6865,2,  34.6863,2,    171.6,2,   171.9,2,  124.68,2,   34.26,2,    0.01,2,    2.40,2,-999.000,9,-999.000,9,  -999.0,9,  -999.0,9,-999.000,9,-999.0000,9, -999.00,9, -999.00,9,  -999.0,9,  -999.0,-999.000,9,-999.000,     -999.0,-999.0000,-999.000,     1.2614,-999.000
  316N138_4,       P06C,     122,          1,          8,        108,2,19920617,       1209,   -32.5140,  -145.6607,       5002,  3728.4,   1.4722,  34.6927,2,  34.6920,2,    176.9,2,   177.4,2,  123.52,2,   33.76,2,    0.01,2,    2.38,2,-999.000,9,-999.000,9,  -999.0,9,  -999.0,9,-999.000,9,-999.0000,9, -999.00,9, -999.00,9,  -999.0,9,  -999.0,-999.000,9,-999.000,     -999.0,-999.0000,-999.000,     1.1831,-999.000
  316N138_4,       P06C,     122,          1,          7,        107,2,19920617,       1209,   -32.5140,  -145.6607,       5002,  3926.1,   1.3932,  34.6982,2,  34.6962,2,    182.9,2,   184.1,2,  121.78,2,   33.30,2,    0.00,2,    2.34,2,-999.000,9,-999.000,9,  -999.0,9,  -999.0,9,-999.000,9,-999.0000,9, -999.00,9, -999.00,9,  -999.0,9,  -999.0,-999.000,9,-999.000,     -999.0,-999.0000,-999.000,     1.0851,-999.000
  316N138_4,       P06C,     122,          1,          6,        180,2,19920617,       1209,   -32.5140,  -145.6607,       5002,  4133.1,   1.3475,  34.7012,2,  34.6991,2,    188.1,2,   187.8,2,  120.92,2,   32.99,2,    0.00,2,    2.32,2,  -0.001,2,  -0.002,2,  -999.0,9,  -999.0,9,-999.000,9,-999.0000,9, -999.00,9, -999.00,9,  -999.0,9,  -999.0,-999.000,9,-999.000,     -999.0,-999.0000,-999.000,     1.0183,-999.000
  316N138_4,       P06C,     122,          1,          5,        131,2,19920617,       1209,   -32.5140,  -145.6607,       5002,  4342.4,   1.2868,  34.7044,2,  34.7034,2,    192.7,2,   193.7,2,  119.76,2,   32.67,2,    0.00,2,    2.31,2,-999.000,9,-999.000,9,  -999.0,9,  -999.0,9,-999.000,9,-999.0000,9, -999.00,9, -999.00,9,  -999.0,9,  -999.0,-999.000,9,-999.000,     -999.0,-999.0000,-999.000,     0.9362,-999.000
  316N138_4,       P06C,     122,          1,          4,        104,2,19920617,       1209,   -32.5140,  -145.6607,       5002,  4547.0,   1.2452,  34.7068,2,  34.7058,2,    197.0,2,   197.4,2,  119.18,2,   32.47,2,    0.01,2,    2.29,2,-999.000,9,-999.000,9,  -999.0,9,  -999.0,9,-999.000,9,-999.0000,9, -999.00,9, -999.00,9,  -999.0,9,  -999.0,-999.000,9,-999.000,     -999.0,-999.0000,-999.000,     0.8727,-999.000
  316N138_4,       P06C,     122,          1,          3,        130,2,19920617,       1209,   -32.5140,  -145.6607,       5002,  4754.0,   1.2242,  34.7088,2,  34.7066,2,    199.4,2,   199.5,2,  119.04,2,   32.38,2,    0.01,2,    2.28,2,-999.000,9,-999.000,9,  -999.0,9,  -999.0,9,-999.000,9,-999.0000,9, -999.00,9, -999.00,9,  -999.0,9,  -999.0,-999.000,9,-999.000,     -999.0,-999.0000,-999.000,     0.8284,-999.000
  316N138_4,       P06C,     122,          1,          2,        135,3,19920617,       1209,   -32.5140,  -145.6607,       5002,  4974.9,   1.2251,  34.7085,2,  34.6989,4,    201.1,2,   187.0,4,  120.96,4,   33.23,4,    0.01,4,    2.31,4,  -0.002,2,  -0.004,2,  -999.0,9,  -999.0,9,-999.000,9,-999.0000,9, -999.00,9, -999.00,9,  -999.0,9,  -999.0,-999.000,9,-999.000,     -999.0,-999.0000,-999.000,     0.8031,-999.000
  316N138_4,       P06C,     122,          1,          1,        134,2,19920617,       1209,   -32.5140,  -145.6607,       5002,  5140.0,   1.2433,  34.7098,2,  34.7103,2,    200.9,2,   201.2,2,  118.37,2,   32.48,2,    0.00,2,    2.26,2,  -0.001,2,  -0.002,2,  -999.0,9,  -999.0,9,-999.000,9,-999.0000,9, -999.00,9, -999.00,9,  -999.0,9,  -999.0,-999.000,9,-999.000,     -999.0,-999.0000,-999.000,     0.8007,-999.000