BOTTLE,20211025CCHSIORKP
EXPOCODE,SECT_ID,STNNBR,CASTNO,SAMPNO,BTLNBR,BTLNBR_FLAG_W,DATE,TIME,LATITUDE,LONGITUDE,DEPTH,CTDPRS,CTDTMP,CTDSAL,CTDSAL_FLAG_W,SALNTY,SALNTY_FLAG_W,CTDOXY,CTDOXY_FLAG_W,OXYGEN,OXYGEN_FLAG_W,SILCAT,SILCAT_FLAG_W,NITRAT,NITRAT_FLAG_W,NITRIT,NITRIT_FLAG_W,PHSPHT,PHSPHT_FLAG_W,CFC-11,CFC-11_FLAG_W,CFC-12,CFC-12_FLAG_W,TCARBN,TCARBN_FLAG_W,PCO2,PCO2_FLAG_W,TRITUM,TRITUM_FLAG_W,HELIUM,HELIUM_FLAG_W,DELHE3,DELHE3_FLAG_W,DELC13,DELC13_FLAG_W,DELC14,DELC14_FLAG_W,C14ERR,NEON,NEON_FLAG_W,NEONER,PCO2TMP,HELIER,DELHER,THETA,TRITER
,,,,,,,,,,,METERS,DBAR,ITS-90,PSS-78,,PSS-78,,UMOL/KG,,UMOL/KG,,UMOL/KG,,UMOL/KG,,UMOL/KG,,UMOL/KG,,PMOL/KG,,PMOL/KG,,UMOL/KG,,UATM,,TU,,NMOL/KG,,PERCNT,,/MILLE,,/MILLE,,/MILLE,NMOL/KG,,NMOL/KG,DEG_C,NMOL/KG,PERCNT,ITS-90,TU
  316N138_4,       P06C,      85,          1,         36,    02-9121,2,19920604,       1449,   -32.4995,  -120.0030,       2958,    23.9,  19.8295,  35.1989,2,  35.2002,2,    301.4,3,   229.3,2,    0.16,2,    0.03,2,    0.01,2,    0.13,2,-999.000,9,-999.000,9,  2010.1,6,  -999.0,9,   0.814,2,   1.7820,2,   -1.54,2,    1.33,2,   124.3,2,     9.6,   7.223,2,   0.017,     -999.0,   0.0040,   0.150,    19.8251,   0.005
  316N138_4,       P06C,      85,          1,         35,    02-9454,2,19920604,       1449,   -32.4995,  -120.0030,       2958,    62.8,  19.8234,  35.1999,2,  35.1987,2,    230.8,2,   228.7,2,    0.28,2,   -0.01,2,    0.00,2,    0.13,2,-999.000,9,-999.000,9,  2010.1,2,   311.0,2,   0.874,2,   1.7890,2,   -1.39,2, -999.00,9,  -999.0,9,  -999.0,   7.224,2,   0.017,      20.20,   0.0040,   0.150,    19.8119,   0.007
  316N138_4,       P06C,      85,          1,         34,    02-9457,2,19920604,       1449,   -32.4995,  -120.0030,       2958,    92.3,  19.6472,  35.2423,2,  35.2296,2,    230.8,2,   230.8,2,    0.10,2,    0.03,2,    0.00,2,    0.14,2,-999.000,9,-999.000,9,  2012.0,2,  -999.0,9,-999.000,9,-999.0000,9, -999.00,9, -999.00,9,  -999.0,9,  -999.0,-999.000,9,-999.000,     -999.0,-999.0000,-999.000,    19.6303,-999.000
  316N138_4,       P06C,      85,          1,         33,    02-5367,2,19920604,       1449,   -32.4995,  -120.0030,       2958,   122.4,  17.5843,  35.1716,2,  35.1581,2,    238.9,2,   237.9,2,    0.07,2,    0.02,2,    0.01,2,    0.17,2,-999.000,9,-999.000,9,  2024.9,2,   341.0,2,   0.752,2,   1.7920,2,   -1.53,2,    1.37,2,   119.8,2,     4.3,   7.372,2,   0.017,      20.20,   0.0040,   0.150,    17.5637,   0.004
  316N138_4,       P06C,      85,          1,         32,    02-9540,2,19920604,       1449,   -32.4995,  -120.0030,       2958,   152.6,  16.9671,  35.1289,2,  35.1347,2,    227.8,2,   229.1,2,    0.20,2,    0.10,2,    0.07,2,    0.21,2,-999.000,9,-999.000,9,  2034.5,2,  -999.0,9,-999.000,9,-999.0000,9, -999.00,9, -999.00,9,  -999.0,9,  -999.0,-999.000,9,-999.000,     -999.0,-999.0000,-999.000,    16.9419,-999.000
  316N138_4,       P06C,      85,          1,         31,    02-9539,2,19920604,       1449,   -32.4995,  -120.0030,       2958,   182.7,  15.8249,  35.1133,2,  35.0874,2,    222.6,2,   218.5,2,    0.33,2,    1.88,2,    0.05,2,    0.35,2,-999.000,9,-999.000,9,  2052.1,2,   394.9,2,   0.676,2,-999.0000,9, -999.00,9,    1.26,2,   116.9,2,     3.6,-999.000,9,-999.000,      20.20,-999.0000,-999.000,    15.7962,   0.004
  316N138_4,       P06C,      85,          1,         30,    02-9456,2,19920604,       1449,   -32.4995,  -120.0030,       2958,   232.7,  14.5463,  34.9629,2,  34.9685,2,    215.2,2,   207.3,2,    0.78,2,    5.70,2,    0.01,2,    0.58,2,-999.000,9,-999.000,9,  2072.4,2,  -999.0,9,-999.000,9,-999.0000,9, -999.00,9,    1.28,2,   116.5,2,     4.8,-999.000,9,-999.000,     -999.0,-999.0000,-999.000,    14.5117,-999.000
  316N138_4,       P06C,      85,          1,         29,    02-9458,2,19920604,       1449,   -32.4995,  -120.0030,       2958,   283.0,  12.8698,  34.8350,2,  34.8357,2,    210.9,2,   200.6,2,    1.55,2,    9.69,2,    0.01,2,    0.82,2,-999.000,9,-999.000,9,  2090.0,2,   539.7,2,   0.466,2,   1.8060,2,    0.18,2, -999.00,9,  -999.0,9,  -999.0,   7.500,2,   0.017,      20.20,   0.0040,   0.150,    12.8310,   0.004
  316N138_4,       P06C,      85,          1,         28,    02-9545,2,19920604,       1449,   -32.4995,  -120.0030,       2958,   331.4,  11.1945,  34.6714,2,  34.6718,2,    211.4,2,   207.2,2,    2.17,2,   12.97,2,    0.00,2,    1.01,2,-999.000,9,-999.000,9,  2101.8,2,  -999.0,9,-999.000,9,-999.0000,9, -999.00,9,    1.27,2,    80.8,2,     6.9,-999.000,9,-999.000,     -999.0,-999.0000,-999.000,    11.1531,-999.000
  316N138_4,       P06C,      85,          1,         27,    02-9453,2,19920604,       1449,   -32.4995,  -120.0030,       2958,   382.3,   9.9052,  34.5581,2,  34.5598,2,    214.3,2,   211.5,2,    2.94,2,   15.84,2,    0.00,2,    1.18,2,-999.000,9,-999.000,9,  2112.3,2,   605.8,2,   0.329,2,   1.8430,2,    0.01,2,    1.26,2,    59.0,2,     5.0,   7.761,2,   0.018,      20.20,   0.0040,   0.150,     9.8609,   0.003
  316N138_4,       P06C,      85,          1,         26,    02-9544,2,19920604,       1449,   -32.4995,  -120.0030,       2958,   431.7,   8.4289,  34.4494,2,  34.4457,2,    225.3,2,   225.7,2,    4.03,2,   18.85,2,    0.00,2,    1.35,2,-999.000,9,-999.000,9,  2122.1,2,  -999.0,9,-999.000,9,-999.0000,9, -999.00,9,    1.32,2,    57.9,2,     4.0,-999.000,9,-999.000,     -999.0,-999.0000,-999.000,     8.3835,-999.000
  316N138_4,       P06C,      85,          1,         25,    02-9455,2,19920604,       1449,   -32.4995,  -120.0030,       2958,   482.3,   7.4184,  34.3764,2,  34.3776,2,    231.9,2,   228.0,2,    5.61,2,   21.52,2,    0.01,2,    1.51,2,-999.000,9,-999.000,9,  2133.3,2,  -999.0,9,   0.274,2,   1.8360,2,    0.08,2,    1.27,2,    25.3,2,     2.5,   7.868,2,   0.018,     -999.0,   0.0040,   0.150,     7.3712,   0.003
  316N138_4,       P06C,      85,          1,         24,        132,2,19920604,       1449,   -32.4995,  -120.0030,       2958,   562.2,   6.7125,  34.3555,2,  34.3576,2,    241.5,2,   240.2,2,    6.86,2,   22.60,2,    0.00,2,    1.56,2,-999.000,9,-999.000,9,  2133.7,2,   704.7,2,   0.222,2,   1.8340,2,   -0.21,2,    1.28,2,    12.5,2,     5.6,   7.889,2,   0.018,      20.20,   0.0040,   0.150,     6.6602,   0.003
  316N138_4,       P06C,      85,          1,         23,        123,2,19920604,       1449,   -32.4995,  -120.0030,       2958,   636.7,   6.2624,  34.3308,2,  34.3321,2,    244.7,2,   243.6,2,    7.95,2,   23.58,2,    0.00,2,    1.62,2,-999.000,9,-999.000,9,  2135.4,2,   694.3,2,   0.176,2,   1.8430,2,    0.24,2,    1.31,2,    -5.5,2,     3.3,   7.914,2,   0.018,      20.20,   0.0040,   0.150,     6.2050,   0.002
  316N138_4,       P06C,      85,          1,         22,        128,4,19920604,       1449,   -32.4995,  -120.0030,       2958,   712.2,   5.9146,  34.3084,2,  35.0941,4,    245.1,2,   221.2,4,    0.55,4,    2.77,4,    0.01,4,    0.38,4,-999.000,9,-999.000,9,  -999.0,9,  -999.0,9,-999.000,9,-999.0000,9, -999.00,9, -999.00,9,  -999.0,9,  -999.0,-999.000,9,-999.000,     -999.0,-999.0000,-999.000,     5.8520,-999.000
  316N138_4,       P06C,      85,          1,         21,        121,3,19920604,       1449,   -32.4995,  -120.0030,       2958,   787.0,   5.5610,  34.2881,2,  34.2966,2,    241.6,2,   239.2,2,   11.25,2,   25.55,2,    0.00,2,    1.76,2,-999.000,9,-999.000,9,  2146.9,2,   740.0,2,-999.000,9,-999.0000,9, -999.00,9, -999.00,9,  -999.0,9,  -999.0,-999.000,9,-999.000,      20.20,-999.0000,-999.000,     5.4935,-999.000
  316N138_4,       P06C,      85,          1,         20,        120,2,19920604,       1449,   -32.4995,  -120.0030,       2958,   862.9,   5.1593,  34.2825,2,  34.2870,2,    233.5,2,   227.5,2,   15.86,2,   27.69,2,    0.00,2,    1.89,2,-999.000,9,-999.000,9,  2160.4,2,  -999.0,9,   0.075,2,   1.8490,2,    0.58,2,    1.17,2,   -65.6,2,     3.2,   7.999,2,   0.018,     -999.0,   0.0040,   0.150,     5.0875,   0.002
  316N138_4,       P06C,      85,          1,         19,        133,2,19920604,       1449,   -32.4995,  -120.0030,       2958,   964.4,   4.7058,  34.2976,2,  34.3013,2,    216.1,2,   210.8,2,   23.68,2,   29.94,2,    0.00,2,    2.06,2,-999.000,9,-999.000,9,  2180.2,2,   839.0,2,   0.047,2,   1.8600,2,    1.90,2,    1.03,2,   -83.5,2,     4.5,   8.072,2,   0.018,      20.20,   0.0040,   0.150,     4.6282,   0.002
  316N138_4,       P06C,      85,          1,         18,        118,2,19920604,       1449,   -32.4995,  -120.0030,       2958,  1063.9,   4.2009,  34.3296,2,  34.3268,2,    202.2,3,   196.6,2,   32.92,2,   31.84,2,    0.00,2,    2.19,2,-999.000,9,-999.000,9,  2196.6,6,  -999.0,9,   0.024,2,-999.0000,9, -999.00,9,    0.88,2,  -105.4,2,     6.3,-999.000,9,-999.000,     -999.0,-999.0000,-999.000,     4.1185,   0.002
  316N138_4,       P06C,      85,          1,         17,        117,3,19920604,       1449,   -32.4995,  -120.0030,       2958,  1165.0,   3.7268,  34.3740,2,  34.3741,2,    184.7,2,   180.4,2,   44.89,2,   33.81,2,    0.00,2,    2.32,2,-999.000,9,-999.000,9,  2218.5,2,  1006.2,2,-999.000,9,-999.0000,9, -999.00,9, -999.00,9,  -999.0,9,  -999.0,-999.000,9,-999.000,      20.20,-999.0000,-999.000,     3.6399,-999.000
  316N138_4,       P06C,      85,          1,         16,        116,2,19920604,       1449,   -32.4995,  -120.0030,       2958,  1265.1,   3.3616,  34.4242,2,  34.4237,2,    173.0,2,   170.1,2,   55.73,2,   34.87,2,   -0.01,2,    2.42,2,-999.000,9,-999.000,9,  2235.4,2,  -999.0,9,   0.005,2,   1.8850,2,    7.76,2,    0.58,2,  -139.3,2,     2.8,   8.117,2,   0.019,     -999.0,   0.0040,   0.150,     3.2697,   0.001
  316N138_4,       P06C,      85,          1,         15,        115,2,19920604,       1449,   -32.4995,  -120.0030,       2958,  1368.8,   3.0853,  34.4678,2,  34.4695,2,    167.0,2,   163.0,2,   64.33,2,   35.18,2,    0.00,2,    2.44,2,-999.000,9,-999.000,9,  2246.0,2,  1072.9,2,  -0.002,2,   1.9020,2,    9.87,2, -999.00,9,  -999.0,9,  -999.0,   8.163,2,   0.019,      20.20,   0.0040,   0.150,     2.9876,   0.003
  316N138_4,       P06C,      85,          1,         14,        114,2,19920604,       1449,   -32.4995,  -120.0030,       2958,  1469.8,   2.8408,  34.5113,2,  34.5091,2,    164.2,2,   162.2,2,   72.29,2,   35.24,2,   -0.01,2,    2.43,2,-999.000,9,-999.000,9,  2254.5,2,  -999.0,9,-999.000,9,-999.0000,9, -999.00,9,    0.41,2,  -168.2,2,     2.7,-999.000,9,-999.000,     -999.0,-999.0000,-999.000,     2.7374,-999.000
  316N138_4,       P06C,      85,          1,         13,        125,2,19920604,       1449,   -32.4995,  -120.0030,       2958,  1570.6,   2.6692,  34.5436,2,  34.5439,2,    162.5,2,   162.9,2,   79.44,2,   35.18,2,    0.00,2,    2.44,2,-999.000,9,-999.000,9,  2261.6,2,  1084.3,2,   0.000,2,   1.9280,2,   13.66,2, -999.00,9,  -999.0,9,  -999.0,   8.229,2,   0.019,      20.20,   0.0040,   0.150,     2.5594,   0.002
  316N138_4,       P06C,      85,          1,         12,        112,2,19920604,       1449,   -32.4995,  -120.0030,       2958,  1671.8,   2.4927,  34.5779,2,  34.5779,2,    161.4,2,   161.0,2,   87.71,2,   35.29,2,    0.00,2,    2.44,2,-999.000,9,-999.000,9,  2270.2,2,  -999.0,9,   0.001,2,   1.9080,2,   15.36,2,    0.33,2,  -177.3,2,     3.0,   8.167,2,   0.019,     -999.0,   0.0040,   0.150,     2.3767,   0.001
  316N138_4,       P06C,      85,          1,         11,        129,2,19920604,       1449,   -32.4995,  -120.0030,       2958,  1772.1,   2.3740,  34.5990,2,  34.6028,2,    159.1,2,   159.5,2,   94.06,2,   35.29,2,    0.00,2,    2.45,2,-999.000,9,-999.000,9,  2278.1,2,  1073.8,2,-999.000,9,-999.0000,9, -999.00,9,    0.25,2,  -185.0,2,     3.2,-999.000,9,-999.000,      20.20,-999.0000,-999.000,     2.2514,-999.000
  316N138_4,       P06C,      85,          1,         10,        110,2,19920604,       1449,   -32.4995,  -120.0030,       2958,  1873.4,   2.2238,  34.6206,2,  34.6248,2,    157.7,2,   157.7,2,  102.16,2,   35.49,2,    0.01,2,    2.47,2,-999.000,9,-999.000,9,  2285.7,2,  -999.0,9,-999.000,9,-999.0000,9, -999.00,9,    0.23,2,  -197.6,2,     2.3,-999.000,9,-999.000,     -999.0,-999.0000,-999.000,     2.0947,-999.000
  316N138_4,       P06C,      85,          1,          9,        126,2,19920604,       1449,   -32.4995,  -120.0030,       2958,  2024.3,   2.0991,  34.6375,2,  34.6360,2,    156.9,2,   157.2,2,  108.36,2,   35.50,2,    0.00,2,    2.48,2,-999.000,9,-999.000,9,  2291.7,2,  1155.2,2,-999.000,9,-999.0000,9, -999.00,9,    0.18,2,  -203.8,2,     2.2,-999.000,9,-999.000,      20.20,-999.0000,-999.000,     1.9591,-999.000
  316N138_4,       P06C,      85,          1,          8,        108,2,19920604,       1449,   -32.4995,  -120.0030,       2958,  2174.9,   2.0146,  34.6466,2,  34.6472,2,    157.2,2,   157.2,2,  112.14,2,   35.50,2,    0.00,2,    2.49,2,-999.000,9,-999.000,9,  2295.1,2,  -999.0,9,-999.000,9,-999.0000,9, -999.00,9, -999.00,9,  -999.0,9,  -999.0,-999.000,9,-999.000,     -999.0,-999.0000,-999.000,     1.8630,-999.000
  316N138_4,       P06C,      85,          1,          7,        107,2,19920604,       1449,   -32.4995,  -120.0030,       2958,  2327.0,   1.9254,  34.6552,2,  34.6535,2,    158.3,2,   158.0,2,  115.45,2,   35.57,2,    0.00,2,    2.48,2,-999.000,9,-999.000,9,  2297.8,2,  1049.9,2,-999.000,9,-999.0000,9, -999.00,9,    0.22,2,  -208.2,2,     3.0,-999.000,9,-999.000,      20.20,-999.0000,-999.000,     1.7620,-999.000
  316N138_4,       P06C,      85,          1,          6,        180,2,19920604,       1449,   -32.4995,  -120.0030,       2958,  2480.5,   1.8260,  34.6619,2,  34.6612,2,    159.3,2,   159.6,2,  119.40,2,   35.51,2,    0.00,2,    2.48,2,-999.000,9,-999.000,9,  2300.4,2,  -999.0,9,-999.000,9,-999.0000,9, -999.00,9,    0.20,2,  -211.6,2,     5.7,-999.000,9,-999.000,     -999.0,-999.0000,-999.000,     1.6506,-999.000
  316N138_4,       P06C,      85,          1,          5,        131,2,19920604,       1449,   -32.4995,  -120.0030,       2958,  2630.6,   1.7636,  34.6688,2,  34.6682,2,    161.8,2,   162.0,2,  121.59,2,   35.34,2,    0.01,2,    2.47,2,-999.000,9,-999.000,9,  2300.1,2,  1041.2,6,-999.000,9,-999.0000,9, -999.00,9, -999.00,9,  -999.0,9,  -999.0,-999.000,9,-999.000,      20.20,-999.0000,-999.000,     1.5758,-999.000
  316N138_4,       P06C,      85,          1,          4,        104,2,19920604,       1449,   -32.4995,  -120.0030,       2958,  2783.6,   1.7386,  34.6717,2,  34.6724,2,    163.5,2,   163.5,2,  121.54,2,   35.24,2,    0.01,2,    2.46,2,-999.000,9,-999.000,9,  2299.9,2,  -999.0,9,-999.000,9,-999.0000,9, -999.00,9,    0.22,2,  -209.4,2,     2.5,-999.000,9,-999.000,     -999.0,-999.0000,-999.000,     1.5371,-999.000
  316N138_4,       P06C,      85,          1,          3,        130,2,19920604,       1449,   -32.4995,  -120.0030,       2958,  2959.8,   1.7223,  34.6749,2,  34.6739,2,    165.2,2,   164.6,2,  121.49,2,   35.19,2,    0.01,2,    2.45,2,-999.000,9,-999.000,9,  2299.8,2,  -999.0,9,-999.000,9,-999.0000,9, -999.00,9,    0.20,2,  -206.7,2,     2.8,-999.000,9,-999.000,     -999.0,-999.0000,-999.000,     1.5045,-999.000
  316N138_4,       P06C,      85,          1,          2,        135,2,19920604,       1449,   -32.4995,  -120.0030,       2958,  3137.8,   1.7064,  34.6781,2,  34.6808,2,    165.4,2,   165.6,2,  122.40,2,   35.10,2,    0.00,2,    2.45,2,-999.000,9,-999.000,9,  2298.8,2,  1009.6,2,-999.000,9,-999.0000,9, -999.00,9,    0.20,2,  -205.1,2,    12.3,-999.000,9,-999.000,      20.20,-999.0000,-999.000,     1.4716,-999.000
  316N138_4,       P06C,      85,          1,          1,        134,2,19920604,       1449,   -32.4995,  -120.0030,       2958,  3197.3,   1.7005,  34.6784,2,  34.6798,2,    164.9,2,   166.2,2,  122.63,2,   34.94,2,    0.00,2,    2.43,2,-999.000,9,-999.000,9,  2297.9,6,  -999.0,9,-999.000,9,-999.0000,9, -999.00,9, -999.00,9,  -999.0,9,  -999.0,-999.000,9,-999.000,     -999.0,-999.0000,-999.000,     1.4600,-999.000