BOTTLE,20211025CCHSIORKP
EXPOCODE,SECT_ID,STNNBR,CASTNO,SAMPNO,BTLNBR,BTLNBR_FLAG_W,DATE,TIME,LATITUDE,LONGITUDE,DEPTH,CTDPRS,CTDTMP,CTDSAL,CTDSAL_FLAG_W,SALNTY,SALNTY_FLAG_W,CTDOXY,CTDOXY_FLAG_W,OXYGEN,OXYGEN_FLAG_W,SILCAT,SILCAT_FLAG_W,NITRAT,NITRAT_FLAG_W,NITRIT,NITRIT_FLAG_W,PHSPHT,PHSPHT_FLAG_W,CFC-11,CFC-11_FLAG_W,CFC-12,CFC-12_FLAG_W,TCARBN,TCARBN_FLAG_W,PCO2,PCO2_FLAG_W,TRITUM,TRITUM_FLAG_W,HELIUM,HELIUM_FLAG_W,DELHE3,DELHE3_FLAG_W,DELC13,DELC13_FLAG_W,DELC14,DELC14_FLAG_W,C14ERR,NEON,NEON_FLAG_W,NEONER,PCO2TMP,HELIER,DELHER,THETA,TRITER
,,,,,,,,,,,METERS,DBAR,ITS-90,PSS-78,,PSS-78,,UMOL/KG,,UMOL/KG,,UMOL/KG,,UMOL/KG,,UMOL/KG,,UMOL/KG,,PMOL/KG,,PMOL/KG,,UMOL/KG,,UATM,,TU,,NMOL/KG,,PERCNT,,/MILLE,,/MILLE,,/MILLE,NMOL/KG,,NMOL/KG,DEG_C,NMOL/KG,PERCNT,ITS-90,TU
  316N138_4,       P06C,     186,          1,         36,    02-9121,2,19920704,       1058,   -31.5873,   177.9865,       3812,    19.1,  16.7331,  35.6037,2,  35.6042,2,    308.4,3,   234.6,2,    1.25,2,    1.40,2,    0.20,2, -999.00,5,-999.000,5,-999.000,5,  2046.2,6,  -999.0,9,   0.680,2,-999.0000,9, -999.00,9, -999.00,9,  -999.0,9,  -999.0,-999.000,9,-999.000,     -999.0,-999.0000,-999.000,    16.7300,   0.004
  316N138_4,       P06C,     186,          1,         35,    02-9454,2,19920704,       1058,   -31.5873,   177.9865,       3812,    59.3,  16.7435,  35.6046,2,  35.6032,2,    236.0,2,   233.1,2,    1.25,2,    1.40,2,    0.20,2, -999.00,5,-999.000,5,-999.000,5,  2045.3,2,  -999.0,9,   0.654,2,-999.0000,9, -999.00,9, -999.00,9,  -999.0,9,  -999.0,-999.000,9,-999.000,     -999.0,-999.0000,-999.000,    16.7338,   0.004
  316N138_4,       P06C,     186,          1,         34,    02-9457,2,19920704,       1058,   -31.5873,   177.9865,       3812,   109.7,  16.7558,  35.6056,2,  35.6056,2,    237.7,2,   234.1,2,    1.44,2,    1.40,2,    0.20,2, -999.00,5,-999.000,5,-999.000,5,  2045.1,2,  -999.0,9,   0.581,2,-999.0000,9, -999.00,9, -999.00,9,  -999.0,9,  -999.0,-999.000,9,-999.000,     -999.0,-999.0000,-999.000,    16.7379,   0.004
  316N138_4,       P06C,     186,          1,         33,    02-5367,2,19920704,       1058,   -31.5873,   177.9865,       3812,   159.2,  16.7206,  35.5971,2,  35.5948,2,    235.3,2,   233.9,2,    1.25,2,    1.39,2,    0.21,2, -999.00,5,-999.000,5,-999.000,5,  2047.0,2,  -999.0,9,-999.000,9,-999.0000,9, -999.00,9, -999.00,9,  -999.0,9,  -999.0,-999.000,9,-999.000,     -999.0,-999.0000,-999.000,    16.6946,-999.000
  316N138_4,       P06C,     186,          1,         32,    02-9540,2,19920704,       1058,   -31.5873,   177.9865,       3812,   207.4,  16.2230,  35.5027,2,  35.4935,2,    217.8,3,   229.2,2,    1.63,2,    2.57,2,    0.13,2, -999.00,5,-999.000,5,-999.000,5,  2054.2,2,  -999.0,9,   0.622,2,-999.0000,9, -999.00,9, -999.00,9,  -999.0,9,  -999.0,-999.000,9,-999.000,     -999.0,-999.0000,-999.000,    16.1897,   0.004
  316N138_4,       P06C,     186,          1,         31,    02-9539,2,19920704,       1058,   -31.5873,   177.9865,       3812,   302.4,  14.4583,  35.3228,2,  35.3190,2,    205.6,2,   203.3,2,    3.15,2,    8.20,2,   -0.02,2, -999.00,5,-999.000,5,-999.000,5,  2086.4,2,  -999.0,9,   0.555,2,-999.0000,9, -999.00,9, -999.00,9,  -999.0,9,  -999.0,-999.000,9,-999.000,     -999.0,-999.0000,-999.000,    14.4134,   0.004
  316N138_4,       P06C,     186,          1,         30,    02-9456,2,19920704,       1058,   -31.5873,   177.9865,       3812,   400.1,  12.4483,  35.0798,2,  35.0772,2,    198.9,2,   199.2,2,    4.47,2,   12.22,2,   -0.03,2, -999.00,5,-999.000,5,-999.000,5,  2106.0,2,  -999.0,9,   0.435,2,-999.0000,9, -999.00,9, -999.00,9,  -999.0,9,  -999.0,-999.000,9,-999.000,     -999.0,-999.0000,-999.000,    12.3943,   0.004
  316N138_4,       P06C,     186,          1,         29,    02-9458,2,19920704,       1058,   -31.5873,   177.9865,       3812,   501.0,  10.7899,  34.8650,2,  34.8619,2,    194.7,2,   196.2,2,    6.18,2,   16.22,2,   -0.04,2, -999.00,5,-999.000,5,-999.000,5,  2121.5,2,  -999.0,9,   0.336,2,-999.0000,9, -999.00,9, -999.00,9,  -999.0,9,  -999.0,-999.000,9,-999.000,     -999.0,-999.0000,-999.000,    10.7281,   0.004
  316N138_4,       P06C,     186,          1,         28,    02-9545,2,19920704,       1058,   -31.5873,   177.9865,       3812,   601.9,   9.0053,  34.6594,2,  34.6580,2,    202.8,2,   202.3,2,    8.46,2,   19.83,2,   -0.04,2, -999.00,5,-999.000,5,-999.000,5,  2133.7,2,  -999.0,9,   0.237,2,-999.0000,9, -999.00,9, -999.00,9,  -999.0,9,  -999.0,-999.000,9,-999.000,     -999.0,-999.0000,-999.000,     8.9388,   0.003
  316N138_4,       P06C,     186,          1,         27,    02-9453,2,19920704,       1058,   -31.5873,   177.9865,       3812,   702.6,   7.6400,  34.5137,2,  34.5139,2,    210.8,2,   209.6,2,   10.92,2,   22.65,2,   -0.03,2, -999.00,5,-999.000,5,-999.000,5,  2143.2,6,  -999.0,9,   0.161,2,-999.0000,9, -999.00,9, -999.00,9,  -999.0,9,  -999.0,-999.000,9,-999.000,     -999.0,-999.0000,-999.000,     7.5690,   0.002
  316N138_4,       P06C,     186,          1,         26,    02-9544,2,19920704,       1058,   -31.5873,   177.9865,       3812,   802.0,   6.8202,  34.4529,2,  34.4500,2,    211.4,2,   208.4,2,   14.90,2,   24.66,2,   -0.03,2, -999.00,5,-999.000,5,-999.000,5,  2150.6,2,  -999.0,9,   0.112,2,   1.8340,2,    2.12,2, -999.00,9,  -999.0,9,  -999.0,-999.000,9,-999.000,     -999.0,-999.0000,   0.150,     6.7436,   0.002
  316N138_4,       P06C,     186,          1,         25,    02-9455,2,19920704,       1058,   -31.5873,   177.9865,       3812,   901.8,   6.0449,  34.4048,2,  34.4025,2,    210.0,2,   207.4,2,   19.82,2,   26.72,2,   -0.04,2, -999.00,5,-999.000,5,-999.000,5,  2161.8,2,  -999.0,9,   0.068,2,   1.8430,2,    3.08,2, -999.00,9,  -999.0,9,  -999.0,-999.000,9,-999.000,     -999.0,-999.0000,   0.150,     5.9635,   0.002
  316N138_4,       P06C,     186,          1,         24,        132,3,19920704,       1058,   -31.5873,   177.9865,       3812,  1000.0,   5.3016,  34.3892,2,  35.1614,4,    203.5,2,   218.4,4,    9.22,4,   10.34,4,    0.11,4, -999.00,5,-999.000,5,-999.000,5,  2100.7,3,  -999.0,9,-999.000,9,-999.0000,9, -999.00,9, -999.00,9,  -999.0,9,  -999.0,-999.000,9,-999.000,     -999.0,-999.0000,-999.000,     5.2161,-999.000
  316N138_4,       P06C,     186,          1,         23,        123,2,19920704,       1058,   -31.5873,   177.9865,       3812,  1098.6,   4.7135,  34.4035,2,  34.4029,2,    192.0,3,   187.5,2,   38.75,2,   30.74,2,   -0.04,2, -999.00,5,-999.000,5,-999.000,5,  2197.2,2,  -999.0,9,   0.019,2,   1.8600,2,    6.91,2, -999.00,9,  -999.0,9,  -999.0,-999.000,9,-999.000,     -999.0,-999.0000,   0.150,     4.6237,   0.002
  316N138_4,       P06C,     186,          1,         22,        128,2,19920704,       1058,   -31.5873,   177.9865,       3812,  1200.1,   4.2115,  34.4320,2,  34.4306,2,    182.5,2,   180.0,2,   49.54,2,   32.07,2,   -0.04,2, -999.00,5,-999.000,5,-999.000,5,  2214.5,2,  -999.0,9,-999.000,9,-999.0000,9, -999.00,9, -999.00,9,  -999.0,9,  -999.0,-999.000,9,-999.000,     -999.0,-999.0000,-999.000,     4.1171,-999.000
  316N138_4,       P06C,     186,          1,         21,        121,2,19920704,       1058,   -31.5873,   177.9865,       3812,  1302.0,   3.8265,  34.4652,2,  34.4652,2,    173.1,2,   172.0,2,   59.40,2,   32.75,2,   -0.04,2, -999.00,5,-999.000,5,-999.000,5,  2229.6,2,  -999.0,9,   0.008,2,   1.8850,2,   10.98,2, -999.00,9,  -999.0,9,  -999.0,-999.000,9,-999.000,     -999.0,-999.0000,   0.150,     3.7268,   0.002
  316N138_4,       P06C,     186,          1,         20,        120,2,19920704,       1058,   -31.5873,   177.9865,       3812,  1402.8,   3.4882,  34.5062,2,  34.5042,2,    166.6,2,   166.5,2,   70.94,2,   33.37,2,   -0.03,2, -999.00,5,-999.000,5,-999.000,5,  2244.2,2,  -999.0,9,-999.000,9,-999.0000,9, -999.00,9, -999.00,9,  -999.0,9,  -999.0,-999.000,9,-999.000,     -999.0,-999.0000,-999.000,     3.3833,-999.000
  316N138_4,       P06C,     186,          1,         19,        133,2,19920704,       1058,   -31.5873,   177.9865,       3812,  1506.0,   3.2358,  34.5468,2,  34.5465,2,    162.4,2,   163.1,2,   81.54,2,   33.69,2,   -0.03,2, -999.00,5,-999.000,5,-999.000,5,  2257.0,2,  -999.0,9,   0.002,2,-999.0000,9, -999.00,9, -999.00,9,  -999.0,9,  -999.0,-999.000,9,-999.000,     -999.0,-999.0000,-999.000,     3.1248,   0.002
  316N138_4,       P06C,     186,          1,         18,        118,2,19920704,       1058,   -31.5873,   177.9865,       3812,  1606.8,   2.9270,  34.5609,2,  34.5590,2,    160.1,2,   160.1,2,   88.17,2,   34.18,2,   -0.03,2, -999.00,5,-999.000,5,-999.000,5,  2265.8,6,  -999.0,9,-999.000,9,-999.0000,9, -999.00,9, -999.00,9,  -999.0,9,  -999.0,-999.000,9,-999.000,     -999.0,-999.0000,-999.000,     2.8111,-999.000
  316N138_4,       P06C,     186,          1,         17,        117,2,19920704,       1058,   -31.5873,   177.9865,       3812,  1706.1,   2.7364,  34.5835,2,  34.5834,2,    158.2,2,   157.9,2,   95.36,2,   34.46,2,   -0.03,2, -999.00,5,-999.000,5,-999.000,5,  2274.0,2,  -999.0,9,-999.000,9,-999.0000,9, -999.00,9, -999.00,9,  -999.0,9,  -999.0,-999.000,9,-999.000,     -999.0,-999.0000,-999.000,     2.6145,-999.000
  316N138_4,       P06C,     186,          1,         16,        116,2,19920704,       1058,   -31.5873,   177.9865,       3812,  1806.7,   2.6132,  34.6029,2,  34.6016,2,    156.5,2,   156.0,2,  100.10,2,   34.49,2,   -0.03,2, -999.00,5,-999.000,5,-999.000,5,  2278.7,2,  -999.0,9,   0.002,2,   1.9190,2,   18.49,2, -999.00,9,  -999.0,9,  -999.0,-999.000,9,-999.000,     -999.0,-999.0000,   0.150,     2.4843,   0.002
  316N138_4,       P06C,     186,          1,         15,        115,2,19920704,       1058,   -31.5873,   177.9865,       3812,  1905.9,   2.4851,  34.6232,2,  34.6207,2,    155.1,2,   154.9,2,  105.97,2,   34.68,2,   -0.03,2, -999.00,5,-999.000,5,-999.000,5,  2285.8,2,  -999.0,9,-999.000,9,-999.0000,9, -999.00,9, -999.00,9,  -999.0,9,  -999.0,-999.000,9,-999.000,     -999.0,-999.0000,-999.000,     2.3495,-999.000
  316N138_4,       P06C,     186,          1,         14,        114,2,19920704,       1058,   -31.5873,   177.9865,       3812,  2006.9,   2.3606,  34.6316,2,  34.6319,2,    154.2,2,   154.1,2,  109.20,2,   34.81,2,   -0.03,2, -999.00,5,-999.000,5,-999.000,5,  2289.7,2,  -999.0,9,-999.000,9,-999.0000,9, -999.00,9, -999.00,9,  -999.0,9,  -999.0,-999.000,9,-999.000,     -999.0,-999.0000,-999.000,     2.2181,-999.000
  316N138_4,       P06C,     186,          1,         13,        125,2,19920704,       1058,   -31.5873,   177.9865,       3812,  2160.9,   2.2080,  34.6450,2,  34.6457,2,    153.6,2,   156.4,4,  113.93,2,   34.93,2,   -0.02,2, -999.00,5,-999.000,5,-999.000,5,  2294.9,2,  -999.0,9,  -0.001,2,   1.9430,2,   19.44,2, -999.00,9,  -999.0,9,  -999.0,-999.000,9,-999.000,     -999.0,-999.0000,   0.150,     2.0544,   0.002
  316N138_4,       P06C,     186,          1,         12,        112,2,19920704,       1058,   -31.5873,   177.9865,       3812,  2314.5,   2.0589,  34.6575,2,  34.6568,2,    152.9,2,   153.5,2,  117.72,2,   35.07,2,   -0.02,2, -999.00,5,-999.000,5,-999.000,5,  2299.2,2,  -999.0,9,-999.000,9,-999.0000,9, -999.00,9, -999.00,9,  -999.0,9,  -999.0,-999.000,9,-999.000,     -999.0,-999.0000,-999.000,     1.8942,-999.000
  316N138_4,       P06C,     186,          1,         11,        129,2,19920704,       1058,   -31.5873,   177.9865,       3812,  2468.9,   1.9759,  34.6654,2,  34.6659,2,    153.3,2,   153.3,2,  120.18,2,   35.06,2,   -0.02,2, -999.00,5,-999.000,5,-999.000,5,  2301.5,2,  -999.0,9,-999.000,9,-999.0000,9, -999.00,9, -999.00,9,  -999.0,9,  -999.0,-999.000,9,-999.000,     -999.0,-999.0000,-999.000,     1.7989,-999.000
  316N138_4,       P06C,     186,          1,         10,        110,2,19920704,       1058,   -31.5873,   177.9865,       3812,  2623.0,   1.9099,  34.6714,2,  34.6720,2,    154.2,2,   154.4,2,  121.89,2,   35.11,2,   -0.02,2, -999.00,5,-999.000,5,-999.000,5,  2304.1,2,  -999.0,9,-999.000,9,-999.0000,9, -999.00,9, -999.00,9,  -999.0,9,  -999.0,-999.000,9,-999.000,     -999.0,-999.0000,-999.000,     1.7200,-999.000
  316N138_4,       P06C,     186,          1,          9,        126,3,19920704,       1058,   -31.5873,   177.9865,       3812,  2773.9,   1.8760,  34.6751,2,  34.6755,2,    154.5,2,   154.0,2,  122.85,2,   35.06,2,   -0.02,2, -999.00,5,-999.000,5,-999.000,5,  2305.0,2,  -999.0,9,-999.000,9,-999.0000,9, -999.00,9, -999.00,9,  -999.0,9,  -999.0,-999.000,9,-999.000,     -999.0,-999.0000,-999.000,     1.6727,-999.000
  316N138_4,       P06C,     186,          1,          8,        108,2,19920704,       1058,   -31.5873,   177.9865,       3812,  2924.9,   1.8510,  34.6778,2,  34.6789,2,    154.6,2,   154.2,2,  123.79,2,   35.10,2,   -0.02,2, -999.00,5,-999.000,5,-999.000,5,  2306.7,2,  -999.0,9,-999.000,9,-999.0000,9, -999.00,9, -999.00,9,  -999.0,9,  -999.0,-999.000,9,-999.000,     -999.0,-999.0000,-999.000,     1.6337,-999.000
  316N138_4,       P06C,     186,          1,          7,        107,2,19920704,       1058,   -31.5873,   177.9865,       3812,  3073.9,   1.8430,  34.6798,2,  34.6802,2,    154.9,2,   154.3,2,  123.99,2,   35.00,2,   -0.02,2, -999.00,5,-999.000,5,-999.000,5,  2306.6,2,  -999.0,9,-999.000,9,-999.0000,9, -999.00,9, -999.00,9,  -999.0,9,  -999.0,-999.000,9,-999.000,     -999.0,-999.0000,-999.000,     1.6114,-999.000
  316N138_4,       P06C,     186,          1,          6,        180,2,19920704,       1058,   -31.5873,   177.9865,       3812,  3221.7,   1.8450,  34.6804,2,  34.6816,2,    155.3,2,   156.1,2,  124.37,2,   35.09,2,   -0.02,2, -999.00,5,-999.000,5,-999.000,5,  2308.1,2,  -999.0,9,-999.000,9,-999.0000,9, -999.00,9, -999.00,9,  -999.0,9,  -999.0,-999.000,9,-999.000,     -999.0,-999.0000,-999.000,     1.5986,-999.000
  316N138_4,       P06C,     186,          1,          5,        131,2,19920704,       1058,   -31.5873,   177.9865,       3812,  3370.5,   1.8479,  34.6819,2,  34.6814,2,    155.4,2,   154.9,2,  124.94,2,   35.18,2,   -0.02,2, -999.00,5,-999.000,5,-999.000,5,  2309.7,2,  -999.0,9,-999.000,9,-999.0000,9, -999.00,9, -999.00,9,  -999.0,9,  -999.0,-999.000,9,-999.000,     -999.0,-999.0000,-999.000,     1.5863,-999.000
  316N138_4,       P06C,     186,          1,          4,        104,2,19920704,       1058,   -31.5873,   177.9865,       3812,  3520.2,   1.8540,  34.6824,2,  34.6824,2,    155.7,2,   159.1,4,  124.94,2,   35.09,2,   -0.02,2, -999.00,5,-999.000,5,-999.000,5,  2308.7,2,  -999.0,9,-999.000,9,-999.0000,9, -999.00,9, -999.00,9,  -999.0,9,  -999.0,-999.000,9,-999.000,     -999.0,-999.0000,-999.000,     1.5768,-999.000
  316N138_4,       P06C,     186,          1,          3,        130,2,19920704,       1058,   -31.5873,   177.9865,       3812,  3671.0,   1.8650,  34.6832,2,  34.6834,2,    155.6,2,   156.0,2,  125.52,2,   35.18,2,   -0.02,2, -999.00,5,-999.000,5,-999.000,5,  2310.4,2,  -999.0,9,-999.000,9,-999.0000,9, -999.00,9, -999.00,9,  -999.0,9,  -999.0,-999.000,9,-999.000,     -999.0,-999.0000,-999.000,     1.5716,-999.000
  316N138_4,       P06C,     186,          1,          2,        135,2,19920704,       1058,   -31.5873,   177.9865,       3812,  3819.5,   1.8781,  34.6831,2,  34.6824,2,    154.9,2,   157.0,2,  125.71,2,   35.25,2,   -0.02,2, -999.00,5,-999.000,5,-999.000,5,  2312.0,2,  -999.0,9,-999.000,9,-999.0000,9, -999.00,9, -999.00,9,  -999.0,9,  -999.0,-999.000,9,-999.000,     -999.0,-999.0000,-999.000,     1.5684,-999.000
  316N138_4,       P06C,     186,          1,          1,        134,2,19920704,       1058,   -31.5873,   177.9865,       3812,  3867.1,   1.8834,  34.6830,2,  34.6830,2,    154.1,2,   154.9,2,  125.82,2,   35.21,2,   -0.02,2, -999.00,5,-999.000,5,-999.000,5,  2312.3,6,  -999.0,9,-999.000,9,-999.0000,9, -999.00,9, -999.00,9,  -999.0,9,  -999.0,-999.000,9,-999.000,     -999.0,-999.0000,-999.000,     1.5684,-999.000