BOTTLE,20211025CCHSIORKP
EXPOCODE,SECT_ID,STNNBR,CASTNO,SAMPNO,BTLNBR,BTLNBR_FLAG_W,DATE,TIME,LATITUDE,LONGITUDE,DEPTH,CTDPRS,CTDTMP,CTDSAL,CTDSAL_FLAG_W,SALNTY,SALNTY_FLAG_W,CTDOXY,CTDOXY_FLAG_W,OXYGEN,OXYGEN_FLAG_W,SILCAT,SILCAT_FLAG_W,NITRAT,NITRAT_FLAG_W,NITRIT,NITRIT_FLAG_W,PHSPHT,PHSPHT_FLAG_W,CFC-11,CFC-11_FLAG_W,CFC-12,CFC-12_FLAG_W,TCARBN,TCARBN_FLAG_W,PCO2,PCO2_FLAG_W,TRITUM,TRITUM_FLAG_W,HELIUM,HELIUM_FLAG_W,DELHE3,DELHE3_FLAG_W,DELC13,DELC13_FLAG_W,DELC14,DELC14_FLAG_W,C14ERR,NEON,NEON_FLAG_W,NEONER,PCO2TMP,HELIER,DELHER,THETA,TRITER
,,,,,,,,,,,METERS,DBAR,ITS-90,PSS-78,,PSS-78,,UMOL/KG,,UMOL/KG,,UMOL/KG,,UMOL/KG,,UMOL/KG,,UMOL/KG,,PMOL/KG,,PMOL/KG,,UMOL/KG,,UATM,,TU,,NMOL/KG,,PERCNT,,/MILLE,,/MILLE,,/MILLE,NMOL/KG,,NMOL/KG,DEG_C,NMOL/KG,PERCNT,ITS-90,TU
  316N138_4,       P06C,      77,          1,         36,    02-9121,2,19920602,       0840,   -32.5055,  -114.6737,       2913,    17.9,  20.4031,  35.4669,2,  35.4705,2,    306.8,3,   224.2,2,    0.20,2,    0.04,2,    0.00,2,    0.11,2,-999.000,9,-999.000,9,  -999.0,9,  -999.0,9,-999.000,9,-999.0000,9, -999.00,9,    1.36,2,   141.9,2,     6.2,-999.000,9,-999.000,     -999.0,-999.0000,-999.000,    20.3997,-999.000
  316N138_4,       P06C,      77,          1,         35,    02-9454,2,19920602,       0840,   -32.5055,  -114.6737,       2913,    57.6,  20.4162,  35.4675,2,  35.4707,2,    225.2,2,   224.3,2,    0.20,2,    0.04,2,    0.00,2,    0.12,2,-999.000,9,-999.000,9,  -999.0,9,  -999.0,9,-999.000,9,-999.0000,9, -999.00,9, -999.00,9,  -999.0,9,  -999.0,-999.000,9,-999.000,     -999.0,-999.0000,-999.000,    20.4054,-999.000
  316N138_4,       P06C,      77,          1,         34,    02-9457,2,19920602,       0840,   -32.5055,  -114.6737,       2913,    86.9,  20.4173,  35.4670,2,  35.4705,2,    226.9,2,   224.7,2,    0.20,2,    0.04,2,    0.00,2,    0.12,2,-999.000,9,-999.000,9,  -999.0,9,  -999.0,9,-999.000,9,-999.0000,9, -999.00,9, -999.00,9,  -999.0,9,  -999.0,-999.000,9,-999.000,     -999.0,-999.0000,-999.000,    20.4010,-999.000
  316N138_4,       P06C,      77,          1,         33,    02-5367,2,19920602,       0840,   -32.5055,  -114.6737,       2913,   115.6,  18.8755,  35.3354,2,  35.3417,2,    233.0,2,   239.3,2,    0.20,2,    0.04,2,    0.00,2,    0.14,2,-999.000,9,-999.000,9,  -999.0,9,  -999.0,9,-999.000,9,-999.0000,9, -999.00,9,    1.36,2,   132.1,2,     3.5,-999.000,9,-999.000,     -999.0,-999.0000,-999.000,    18.8549,-999.000
  316N138_4,       P06C,      77,          1,         32,    02-9540,2,19920602,       0840,   -32.5055,  -114.6737,       2913,   146.3,  17.7254,  35.1757,2,  35.1874,2,    233.4,2,   234.5,2,    0.21,2,    0.04,2,    0.00,2,    0.17,2,-999.000,9,-999.000,9,  -999.0,9,  -999.0,9,-999.000,9,-999.0000,9, -999.00,9,    1.37,2,   129.9,2,     3.4,-999.000,9,-999.000,     -999.0,-999.0000,-999.000,    17.7006,-999.000
  316N138_4,       P06C,      77,          1,         31,    02-9539,2,19920602,       0840,   -32.5055,  -114.6737,       2913,   180.7,  16.9503,  35.1167,2,  35.1158,2,    226.7,2,   222.2,2,    0.21,2,    0.28,2,    0.12,2,    0.24,2,-999.000,9,-999.000,9,  -999.0,9,  -999.0,9,-999.000,9,-999.0000,9, -999.00,9,    1.31,2,   136.1,2,     5.8,-999.000,9,-999.000,     -999.0,-999.0000,-999.000,    16.9205,-999.000
  316N138_4,       P06C,      77,          1,         30,    02-9456,2,19920602,       0840,   -32.5055,  -114.6737,       2913,   230.2,  15.5165,  34.9644,2,  34.9622,2,    211.3,2,   208.3,2,    0.53,2,    3.80,2,    0.01,2,    0.46,2,-999.000,9,-999.000,9,  -999.0,9,  -999.0,9,-999.000,9,-999.0000,9, -999.00,9,    1.29,2,   115.2,2,     4.8,-999.000,9,-999.000,     -999.0,-999.0000,-999.000,    15.4808,-999.000
  316N138_4,       P06C,      77,          1,         29,    02-9458,2,19920602,       0840,   -32.5055,  -114.6737,       2913,   280.5,  13.4403,  34.7698,2,  34.7679,2,    207.4,2,   204.5,2,    1.18,2,    8.13,2,    0.00,2,    0.71,2,-999.000,9,-999.000,9,  -999.0,9,  -999.0,9,-999.000,9,-999.0000,9, -999.00,9,    1.34,2,    97.3,2,     5.8,-999.000,9,-999.000,     -999.0,-999.0000,-999.000,    13.4008,-999.000
  316N138_4,       P06C,      77,          1,         28,    02-9545,2,19920602,       0840,   -32.5055,  -114.6737,       2913,   329.4,  11.5925,  34.6055,2,  34.6048,2,    208.0,2,   205.7,2,    1.99,2,   12.29,2,    0.00,2,    0.97,2,-999.000,9,-999.000,9,  -999.0,9,  -999.0,9,-999.000,9,-999.0000,9, -999.00,9,    1.33,2,    75.7,2,     2.9,-999.000,9,-999.000,     -999.0,-999.0000,-999.000,    11.5504,-999.000
  316N138_4,       P06C,      77,          1,         27,    02-9453,2,19920602,       0840,   -32.5055,  -114.6737,       2913,   404.8,   9.0793,  34.4447,2,  34.4343,2,    212.9,2,   210.2,2,    4.09,2,   18.25,2,    0.00,2,    1.31,2,-999.000,9,-999.000,9,  -999.0,9,  -999.0,9,-999.000,9,-999.0000,9, -999.00,9,    1.31,2,    41.0,2,     4.1,-999.000,9,-999.000,     -999.0,-999.0000,-999.000,     9.0349,-999.000
  316N138_4,       P06C,      77,          1,         26,    02-9544,2,19920602,       0840,   -32.5055,  -114.6737,       2913,   478.2,   7.5329,  34.3648,2,  34.3662,2,    223.0,2,   222.2,2,    5.88,2,   21.85,2,    0.00,2,    1.51,2,-999.000,9,-999.000,9,  -999.0,9,  -999.0,9,-999.000,9,-999.0000,9, -999.00,9,    1.26,2,    38.4,2,     4.9,-999.000,9,-999.000,     -999.0,-999.0000,-999.000,     7.4857,-999.000
  316N138_4,       P06C,      77,          1,         25,    02-9455,2,19920602,       0840,   -32.5055,  -114.6737,       2913,   553.0,   6.8109,  34.3489,2,  34.3537,2,    235.9,2,   235.8,2,    7.01,2,   22.55,2,    0.00,2,    1.55,2,-999.000,9,-999.000,9,  -999.0,9,  -999.0,9,-999.000,9,-999.0000,9, -999.00,9,    1.30,2,    10.4,2,     5.4,-999.000,9,-999.000,     -999.0,-999.0000,-999.000,     6.7591,-999.000
  316N138_4,       P06C,      77,          1,         24,        132,3,19920602,       0840,   -32.5055,  -114.6737,       2913,   628.8,   6.3298,  34.3299,2,  34.7878,4,    242.3,2,   232.2,4,    4.76,4,   14.34,4,    0.01,4,    1.03,4,-999.000,9,-999.000,9,  -999.0,9,  -999.0,9,-999.000,9,-999.0000,9, -999.00,9, -999.00,9,  -999.0,9,  -999.0,-999.000,9,-999.000,     -999.0,-999.0000,-999.000,     6.2729,-999.000
  316N138_4,       P06C,      77,          1,         23,        123,2,19920602,       0840,   -32.5055,  -114.6737,       2913,   676.5,   6.0852,  34.3129,2,  34.3162,2,    243.4,2,   242.5,2,    8.79,2,   24.06,2,    0.00,2,    1.64,2,-999.000,9,-999.000,9,  -999.0,9,  -999.0,9,-999.000,9,-999.0000,9, -999.00,9,    1.32,2,   -11.4,2,     2.9,-999.000,9,-999.000,     -999.0,-999.0000,-999.000,     6.0251,-999.000
  316N138_4,       P06C,      77,          1,         22,        128,4,19920602,       0840,   -32.5055,  -114.6737,       2913,   724.0,   5.8634,  34.3015,2,  35.4717,4,    243.8,2,   226.7,4,    0.39,4,    0.14,4,    0.00,4,    0.15,4,-999.000,9,-999.000,9,  -999.0,9,  -999.0,9,-999.000,9,-999.0000,9, -999.00,9, -999.00,9,  -999.0,9,  -999.0,-999.000,9,-999.000,     -999.0,-999.0000,-999.000,     5.7999,-999.000
  316N138_4,       P06C,      77,          1,         21,        121,2,19920602,       0840,   -32.5055,  -114.6737,       2913,   799.1,   5.4859,  34.2787,2,  34.2807,2,    240.3,2,   237.7,2,   12.04,2,   26.05,2,    0.01,2,    1.77,2,-999.000,9,-999.000,9,  -999.0,9,  -999.0,9,-999.000,9,-999.0000,9, -999.00,9,    1.26,2,   -54.8,2,     4.2,-999.000,9,-999.000,     -999.0,-999.0000,-999.000,     5.4178,-999.000
  316N138_4,       P06C,      77,          1,         20,        120,2,19920602,       0840,   -32.5055,  -114.6737,       2913,   871.0,   5.0869,  34.2700,2,  34.3978,4,    231.1,2,   226.3,3,   13.49,4,   24.60,4,    0.00,4,    1.68,4,-999.000,9,-999.000,9,  -999.0,9,  -999.0,9,-999.000,9,-999.0000,9, -999.00,9,    1.21,2,   -44.8,2,     3.8,-999.000,9,-999.000,     -999.0,-999.0000,-999.000,     5.0149,-999.000
  316N138_4,       P06C,      77,          1,         19,        133,3,19920602,       0840,   -32.5055,  -114.6737,       2913,   942.6,   4.7499,  34.2781,2,  34.9693,4,    216.2,2,   218.3,4,    8.48,4,   12.26,4,    0.01,4,    0.94,4,-999.000,9,-999.000,9,  -999.0,9,  -999.0,9,-999.000,9,-999.0000,9, -999.00,9,    1.24,2,    50.2,4,     5.1,-999.000,9,-999.000,     -999.0,-999.0000,-999.000,     4.6739,-999.000
  316N138_4,       P06C,      77,          1,         18,        118,2,19920602,       0840,   -32.5055,  -114.6737,       2913,  1040.1,   4.2973,  34.3086,2,  34.3138,2,    193.6,2,   190.5,2,   31.76,2,   32.53,2,    0.00,2,    2.21,2,-999.000,9,-999.000,9,  -999.0,9,  -999.0,9,-999.000,9,-999.0000,9, -999.00,9,    0.87,2,  -110.0,2,     2.7,-999.000,9,-999.000,     -999.0,-999.0000,-999.000,     4.2163,-999.000
  316N138_4,       P06C,      77,          1,         17,        117,2,19920602,       0840,   -32.5055,  -114.6737,       2913,  1137.5,   3.8953,  34.3611,2,  34.3968,3,    170.9,2,   172.5,3,   40.16,3,   32.91,3,    0.01,3,    2.25,3,-999.000,9,-999.000,9,  -999.0,9,  -999.0,9,-999.000,9,-999.0000,9, -999.00,9, -999.00,9,  -999.0,9,  -999.0,-999.000,9,-999.000,     -999.0,-999.0000,-999.000,     3.8093,-999.000
  316N138_4,       P06C,      77,          1,         16,        116,2,19920602,       0840,   -32.5055,  -114.6737,       2913,  1237.9,   3.5831,  34.4254,2,  34.4316,2,    150.8,3,   144.3,2,   59.38,2,   36.90,2,    0.00,2,    2.53,2,-999.000,9,-999.000,9,  -999.0,9,  -999.0,9,-999.000,9,-999.0000,9, -999.00,9, -999.00,9,  -999.0,9,  -999.0,-999.000,9,-999.000,     -999.0,-999.0000,-999.000,     3.4915,-999.000
  316N138_4,       P06C,      77,          1,         15,        115,2,19920602,       0840,   -32.5055,  -114.6737,       2913,  1387.5,   3.2160,  34.4875,2,  34.4891,2,    139.4,2,   140.0,2,   72.94,2,   37.13,2,    0.00,2,    2.56,2,-999.000,9,-999.000,9,  -999.0,9,  -999.0,9,-999.000,9,-999.0000,9, -999.00,9, -999.00,9,  -999.0,9,  -999.0,-999.000,9,-999.000,     -999.0,-999.0000,-999.000,     3.1155,-999.000
  316N138_4,       P06C,      77,          1,         14,        114,2,19920602,       0840,   -32.5055,  -114.6737,       2913,  1489.5,   2.9271,  34.5106,2,  34.5142,2,    151.8,2,   152.0,2,   75.85,2,   36.06,2,    0.00,2,    2.49,2,-999.000,9,-999.000,9,  -999.0,9,  -999.0,9,-999.000,9,-999.0000,9, -999.00,9, -999.00,9,  -999.0,9,  -999.0,-999.000,9,-999.000,     -999.0,-999.0000,-999.000,     2.8211,-999.000
  316N138_4,       P06C,      77,          1,         13,        125,2,19920602,       0840,   -32.5055,  -114.6737,       2913,  1591.3,   2.6751,  34.5451,2,  34.5478,2,    156.9,2,   156.4,2,   81.49,2,   35.61,2,    0.00,2,    2.45,2,-999.000,9,-999.000,9,  -999.0,9,  -999.0,9,-999.000,9,-999.0000,9, -999.00,9, -999.00,9,  -999.0,9,  -999.0,-999.000,9,-999.000,     -999.0,-999.0000,-999.000,     2.5636,-999.000
  316N138_4,       P06C,      77,          1,         12,        112,2,19920602,       0840,   -32.5055,  -114.6737,       2913,  1741.6,   2.4060,  34.5909,2,  34.5957,2,    158.5,2,   157.9,2,   92.48,2,   35.34,2,    0.00,2,    2.44,2,-999.000,9,-999.000,9,  -999.0,9,  -999.0,9,-999.000,9,-999.0000,9, -999.00,9, -999.00,9,  -999.0,9,  -999.0,-999.000,9,-999.000,     -999.0,-999.0000,-999.000,     2.2855,-999.000
  316N138_4,       P06C,      77,          1,         11,        129,2,19920602,       0840,   -32.5055,  -114.6737,       2913,  1842.5,   2.2985,  34.6086,2,  34.6119,2,    157.6,2,   157.8,2,   98.12,2,   35.22,2,    0.00,2,    2.43,2,-999.000,9,-999.000,9,  -999.0,9,  -999.0,9,-999.000,9,-999.0000,9, -999.00,9, -999.00,9,  -999.0,9,  -999.0,-999.000,9,-999.000,     -999.0,-999.0000,-999.000,     2.1710,-999.000
  316N138_4,       P06C,      77,          1,         10,        110,2,19920602,       0840,   -32.5055,  -114.6737,       2913,  1944.8,   2.1755,  34.6249,2,  34.6262,2,    156.8,2,   156.5,2,  104.74,2,   35.27,2,    0.00,2,    2.46,2,-999.000,9,-999.000,9,  -999.0,9,  -999.0,9,-999.000,9,-999.0000,9, -999.00,9, -999.00,9,  -999.0,9,  -999.0,-999.000,9,-999.000,     -999.0,-999.0000,-999.000,     2.0410,-999.000
  316N138_4,       P06C,      77,          1,          9,        126,2,19920602,       0840,   -32.5055,  -114.6737,       2913,  2096.8,   2.0314,  34.6408,2,  34.6462,2,    156.5,2,   156.4,2,  111.69,2,   35.36,2,    0.01,2,    2.46,2,-999.000,9,-999.000,9,  -999.0,9,  -999.0,9,-999.000,9,-999.0000,9, -999.00,9, -999.00,9,  -999.0,9,  -999.0,-999.000,9,-999.000,     -999.0,-999.0000,-999.000,     1.8862,-999.000
  316N138_4,       P06C,      77,          1,          8,        108,2,19920602,       0840,   -32.5055,  -114.6737,       2913,  2198.0,   1.9599,  34.6475,2,  34.6521,2,    156.8,2,   157.1,2,  114.75,2,   35.37,2,    0.00,2,    2.47,2,-999.000,9,-999.000,9,  -999.0,9,  -999.0,9,-999.000,9,-999.0000,9, -999.00,9, -999.00,9,  -999.0,9,  -999.0,-999.000,9,-999.000,     -999.0,-999.0000,-999.000,     1.8072,-999.000
  316N138_4,       P06C,      77,          1,          7,        107,2,19920602,       0840,   -32.5055,  -114.6737,       2913,  2301.0,   1.8988,  34.6541,2,  34.6563,2,    157.7,2,   157.7,2,  116.84,2,   35.36,2,    0.01,2,    2.45,2,-999.000,9,-999.000,9,  -999.0,9,  -999.0,9,-999.000,9,-999.0000,9, -999.00,9, -999.00,9,  -999.0,9,  -999.0,-999.000,9,-999.000,     -999.0,-999.0000,-999.000,     1.7382,-999.000
  316N138_4,       P06C,      77,          1,          6,        180,2,19920602,       0840,   -32.5055,  -114.6737,       2913,  2403.6,   1.8521,  34.6575,2,  34.6584,2,    158.8,2,   158.8,2,  118.62,2,   35.31,2,    0.00,2,    2.47,2,-999.000,9,-999.000,9,  -999.0,9,  -999.0,9,-999.000,9,-999.0000,9, -999.00,9, -999.00,9,  -999.0,9,  -999.0,-999.000,9,-999.000,     -999.0,-999.0000,-999.000,     1.6832,-999.000
  316N138_4,       P06C,      77,          1,          5,        131,2,19920602,       0840,   -32.5055,  -114.6737,       2913,  2504.9,   1.8202,  34.6614,2,  34.6624,2,    159.4,2,   159.9,2,  119.74,2,   35.19,2,    0.01,2,    2.44,2,-999.000,9,-999.000,9,  -999.0,9,  -999.0,9,-999.000,9,-999.0000,9, -999.00,9, -999.00,9,  -999.0,9,  -999.0,-999.000,9,-999.000,     -999.0,-999.0000,-999.000,     1.6427,-999.000
  316N138_4,       P06C,      77,          1,          4,        104,2,19920602,       0840,   -32.5055,  -114.6737,       2913,  2609.2,   1.7990,  34.6639,2,  34.6669,2,    160.6,2,   160.4,2,  120.23,2,   35.13,2,    0.01,2,    2.44,2,-999.000,9,-999.000,9,  -999.0,9,  -999.0,9,-999.000,9,-999.0000,9, -999.00,9, -999.00,9,  -999.0,9,  -999.0,-999.000,9,-999.000,     -999.0,-999.0000,-999.000,     1.6125,-999.000
  316N138_4,       P06C,      77,          1,          3,        130,2,19920602,       0840,   -32.5055,  -114.6737,       2913,  2762.3,   1.7912,  34.6666,2,  34.6690,2,    160.7,2,   161.0,2,  120.86,2,   35.08,2,    0.01,2,    2.44,2,-999.000,9,-999.000,9,  -999.0,9,  -999.0,9,-999.000,9,-999.0000,9, -999.00,9, -999.00,9,  -999.0,9,  -999.0,-999.000,9,-999.000,     -999.0,-999.0000,-999.000,     1.5906,-999.000
  316N138_4,       P06C,      77,          1,          2,        135,2,19920602,       0840,   -32.5055,  -114.6737,       2913,  2865.8,   1.7943,  34.6668,2,  34.6679,2,    160.7,2,   161.3,2,  120.71,2,   35.01,2,    0.01,2,    2.43,2,-999.000,9,-999.000,9,  -999.0,9,  -999.0,9,-999.000,9,-999.0000,9, -999.00,9, -999.00,9,  -999.0,9,  -999.0,-999.000,9,-999.000,     -999.0,-999.0000,-999.000,     1.5839,-999.000
  316N138_4,       P06C,      77,          1,          1,        134,2,19920602,       0840,   -32.5055,  -114.6737,       2913,  2932.6,   1.7931,  34.6679,2,  34.6720,3,    160.8,2,   163.1,3,  121.02,2,   34.95,2,    0.01,2,    2.44,2,-999.000,9,-999.000,9,  -999.0,9,  -999.0,9,-999.000,9,-999.0000,9, -999.00,9, -999.00,9,  -999.0,9,  -999.0,-999.000,9,-999.000,     -999.0,-999.0000,-999.000,     1.5763,-999.000