BOTTLE,20211025CCHSIORKP
EXPOCODE,SECT_ID,STNNBR,CASTNO,SAMPNO,BTLNBR,BTLNBR_FLAG_W,DATE,TIME,LATITUDE,LONGITUDE,DEPTH,CTDPRS,CTDTMP,CTDSAL,CTDSAL_FLAG_W,SALNTY,SALNTY_FLAG_W,CTDOXY,CTDOXY_FLAG_W,OXYGEN,OXYGEN_FLAG_W,SILCAT,SILCAT_FLAG_W,NITRAT,NITRAT_FLAG_W,NITRIT,NITRIT_FLAG_W,PHSPHT,PHSPHT_FLAG_W,CFC-11,CFC-11_FLAG_W,CFC-12,CFC-12_FLAG_W,TCARBN,TCARBN_FLAG_W,PCO2,PCO2_FLAG_W,TRITUM,TRITUM_FLAG_W,HELIUM,HELIUM_FLAG_W,DELHE3,DELHE3_FLAG_W,DELC13,DELC13_FLAG_W,DELC14,DELC14_FLAG_W,C14ERR,NEON,NEON_FLAG_W,NEONER,PCO2TMP,HELIER,DELHER,THETA,TRITER
,,,,,,,,,,,METERS,DBAR,ITS-90,PSS-78,,PSS-78,,UMOL/KG,,UMOL/KG,,UMOL/KG,,UMOL/KG,,UMOL/KG,,UMOL/KG,,PMOL/KG,,PMOL/KG,,UMOL/KG,,UATM,,TU,,NMOL/KG,,PERCNT,,/MILLE,,/MILLE,,/MILLE,NMOL/KG,,NMOL/KG,DEG_C,NMOL/KG,PERCNT,ITS-90,TU
  316N138_4,       P06C,     175,          1,         36,    02-9121,2,19920702,       0538,   -32.5090,  -177.6543,       7428,    22.6,  15.6003,  35.3756,2,  35.3758,2,    232.2,2,   243.7,2,    1.09,2,    0.43,2,    0.03,2, -999.00,5,   2.928,2,-999.000,9,  2048.5,6,  -999.0,9,-999.000,9,-999.0000,9, -999.00,9, -999.00,9,  -999.0,9,  -999.0,-999.000,9,-999.000,     -999.0,-999.0000,-999.000,    15.5968,-999.000
  316N138_4,       P06C,     175,          1,         35,    02-9454,2,19920702,       0538,   -32.5090,  -177.6543,       7428,    62.2,  15.6277,  35.3867,2,  35.3871,2,    237.2,2,   240.6,2,    1.30,2,    0.58,2,    0.06,2, -999.00,5,   2.927,2,   1.414,2,  2049.7,2,  -999.0,9,-999.000,9,-999.0000,9, -999.00,9, -999.00,9,  -999.0,9,  -999.0,-999.000,9,-999.000,     -999.0,-999.0000,-999.000,    15.6181,-999.000
  316N138_4,       P06C,     175,          1,         34,    02-9457,2,19920702,       0538,   -32.5090,  -177.6543,       7428,   112.1,  15.6365,  35.3966,2,  35.3965,2,    236.2,2,   245.6,2,    1.30,2,    0.75,2,    0.06,2, -999.00,5,   2.922,2,   1.383,2,  2050.6,2,  -999.0,9,-999.000,9,-999.0000,9, -999.00,9, -999.00,9,  -999.0,9,  -999.0,-999.000,9,-999.000,     -999.0,-999.0000,-999.000,    15.6191,-999.000
  316N138_4,       P06C,     175,          1,         33,    02-5367,2,19920702,       0538,   -32.5090,  -177.6543,       7428,   209.3,  12.9647,  35.1494,2,  35.1475,2,    210.4,2,   221.4,2,    3.25,2,    8.87,2,    0.01,2, -999.00,5,   2.812,2,   1.314,2,  2096.3,2,  -999.0,9,-999.000,9,-999.0000,9, -999.00,9, -999.00,9,  -999.0,9,  -999.0,-999.000,9,-999.000,     -999.0,-999.0000,-999.000,    12.9359,-999.000
  316N138_4,       P06C,     175,          1,         32,    02-9540,2,19920702,       0538,   -32.5090,  -177.6543,       7428,   312.3,  11.1060,  34.8825,2,  34.8762,2,    195.6,2,   206.4,2,    4.82,2,   14.45,2,    0.00,2, -999.00,5,   2.200,2,   1.056,2,  2119.1,2,  -999.0,9,-999.000,9,-999.0000,9, -999.00,9, -999.00,9,  -999.0,9,  -999.0,-999.000,9,-999.000,     -999.0,-999.0000,-999.000,    11.0671,-999.000
  316N138_4,       P06C,     175,          1,         31,    02-9539,2,19920702,       0538,   -32.5090,  -177.6543,       7428,   410.6,   9.1066,  34.6447,2,  34.6366,2,    205.2,2,   211.6,2,    6.19,2,   18.58,2,    0.00,2, -999.00,5,   1.819,2,   0.876,2,  2131.6,2,  -999.0,9,-999.000,9,-999.0000,9, -999.00,9, -999.00,9,  -999.0,9,  -999.0,-999.000,9,-999.000,     -999.0,-999.0000,-999.000,     9.0613,-999.000
  316N138_4,       P06C,     175,          1,         30,    02-9456,2,19920702,       0538,   -32.5090,  -177.6543,       7428,   508.2,   7.8264,  34.4987,2,  34.4977,2,    220.8,2,   226.6,2,    6.79,2,   20.69,2,    0.00,2, -999.00,5,   1.500,2,   0.725,2,  2132.9,2,  -999.0,9,-999.000,9,-999.0000,9, -999.00,9, -999.00,9,  -999.0,9,  -999.0,-999.000,9,-999.000,     -999.0,-999.0000,-999.000,     7.7749,-999.000
  316N138_4,       P06C,     175,          1,         29,    02-9458,2,19920702,       0538,   -32.5090,  -177.6543,       7428,   606.3,   7.2862,  34.4531,2,  34.4546,2,    222.6,2,   228.5,2,    8.95,2,   22.25,2,    0.00,2, -999.00,5,   0.983,2,   0.498,2,  2137.1,2,  -999.0,9,-999.000,9,-999.0000,9, -999.00,9, -999.00,9,  -999.0,9,  -999.0,-999.000,9,-999.000,     -999.0,-999.0000,-999.000,     7.2269,-999.000
  316N138_4,       P06C,     175,          1,         28,    02-9545,2,19920702,       0538,   -32.5090,  -177.6543,       7428,   707.1,   6.7769,  34.4211,2,  34.4220,2,    218.7,2,   219.2,2,   11.89,2,   24.05,2,    0.00,2, -999.00,5,   0.569,2,   0.300,2,  2145.8,6,  -999.0,9,-999.000,9,-999.0000,9, -999.00,9, -999.00,9,  -999.0,9,  -999.0,-999.000,9,-999.000,     -999.0,-999.0000,-999.000,     6.7101,-999.000
  316N138_4,       P06C,     175,          1,         27,    02-9453,2,19920702,       0538,   -32.5090,  -177.6543,       7428,   805.2,   6.1604,  34.3862,2,  34.3866,2,    216.4,2,   216.2,2,   16.39,2,   26.06,2,    0.00,2, -999.00,5,   0.302,2,   0.179,2,  2157.2,2,  -999.0,9,-999.000,9,-999.0000,9, -999.00,9, -999.00,9,  -999.0,9,  -999.0,-999.000,9,-999.000,     -999.0,-999.0000,-999.000,     6.0875,-999.000
  316N138_4,       P06C,     175,          1,         26,    02-9544,2,19920702,       0538,   -32.5090,  -177.6543,       7428,   906.9,   5.4880,  34.3726,2,  34.3723,2,    205.4,2,   206.0,2,   23.64,2,   28.26,2,    0.00,2, -999.00,5,   0.188,2,   0.099,2,  2172.7,2,  -999.0,9,-999.000,9,-999.0000,9, -999.00,9, -999.00,9,  -999.0,9,  -999.0,-999.000,9,-999.000,     -999.0,-999.0000,-999.000,     5.4099,-999.000
  316N138_4,       P06C,     175,          1,         25,    02-9455,2,19920702,       0538,   -32.5090,  -177.6543,       7428,  1006.9,   4.8040,  34.3591,2,  34.3596,2,    198.3,2,   200.3,2,   30.70,2,   30.18,2,    0.00,2, -999.00,5,   0.106,2,   0.059,2,  2186.7,2,  -999.0,9,-999.000,9,-999.0000,9, -999.00,9, -999.00,9,  -999.0,9,  -999.0,-999.000,9,-999.000,     -999.0,-999.0000,-999.000,     4.7218,-999.000
  316N138_4,       P06C,     175,          1,         24,        132,2,19920702,       0538,   -32.5090,  -177.6543,       7428,  1206.9,   3.8337,  34.4214,2,  34.4214,2,    177.3,2,   176.4,2,   52.26,2,   33.10,2,    0.00,2, -999.00,5,   0.009,6,   0.006,6,  2221.7,2,  -999.0,9,-999.000,9,-999.0000,9, -999.00,9,    0.57,2,  -130.3,2,     6.3,-999.000,9,-999.000,     -999.0,-999.0000,-999.000,     3.7422,-999.000
  316N138_4,       P06C,     175,          1,         23,        123,2,19920702,       0538,   -32.5090,  -177.6543,       7428,  1410.3,   3.1823,  34.5011,2,  34.5015,2,    166.6,2,   166.6,2,   72.83,2,   34.25,2,    0.01,2, -999.00,5,   0.005,2,   0.003,2,  2249.4,2,  -999.0,9,-999.000,9,-999.0000,9, -999.00,9,    0.44,2,  -182.0,2,     3.2,-999.000,9,-999.000,     -999.0,-999.0000,-999.000,     3.0801,-999.000
  316N138_4,       P06C,     175,          1,         22,        128,2,19920702,       0538,   -32.5090,  -177.6543,       7428,  1611.8,   2.7960,  34.5655,2,  34.5663,2,    157.1,2,   159.0,2,   91.05,2,   34.83,2,    0.01,2, -999.00,5,   0.012,2,   0.002,2,  2272.4,2,  -999.0,9,-999.000,9,-999.0000,9, -999.00,9,    0.27,2,  -183.8,2,     3.3,-999.000,9,-999.000,     -999.0,-999.0000,-999.000,     2.6813,-999.000
  316N138_4,       P06C,     175,          1,         21,        121,2,19920702,       0538,   -32.5090,  -177.6543,       7428,  1814.8,   2.5508,  34.5957,2,  34.5956,2,    151.7,2,   153.2,2,  101.45,2,   35.32,2,    0.01,2, -999.00,5,   0.001,2,   0.005,2,  2285.5,2,  -999.0,9,-999.000,9,-999.0000,9, -999.00,9,    0.03,2,  -196.4,2,     5.3,-999.000,9,-999.000,     -999.0,-999.0000,-999.000,     2.4221,-999.000
  316N138_4,       P06C,     175,          1,         20,        120,2,19920702,       0538,   -32.5090,  -177.6543,       7428,  2015.1,   2.3828,  34.6170,2,  34.6168,2,    149.7,2,   149.5,2,  109.89,2,   35.64,2,    0.00,2, -999.00,5,-999.000,5,-999.000,5,  2294.9,2,  -999.0,9,-999.000,9,-999.0000,9, -999.00,9,    0.15,2,  -214.1,2,     3.4,-999.000,9,-999.000,     -999.0,-999.0000,-999.000,     2.2393,-999.000
  316N138_4,       P06C,     175,          1,         19,        133,2,19920702,       0538,   -32.5090,  -177.6543,       7428,  2219.9,   2.2672,  34.6295,2,  34.6297,2,    148.8,2,   149.0,2,  114.61,2,   35.76,2,    0.00,2, -999.00,5,-999.000,5,-999.000,5,  2301.1,2,  -999.0,9,-999.000,9,-999.0000,9, -999.00,9,    0.00,2,  -197.0,2,     3.1,-999.000,9,-999.000,     -999.0,-999.0000,-999.000,     2.1075,-999.000
  316N138_4,       P06C,     175,          1,         18,        118,2,19920702,       0538,   -32.5090,  -177.6543,       7428,  2423.1,   2.1536,  34.6394,2,  34.6398,2,    148.9,2,   147.6,2,  119.52,2,   35.90,2,    0.00,2, -999.00,5,-999.000,5,-999.000,5,  2305.7,6,  -999.0,9,-999.000,9,-999.0000,9, -999.00,9,    0.07,2,  -217.6,2,     6.2,-999.000,9,-999.000,     -999.0,-999.0000,-999.000,     1.9775,-999.000
  316N138_4,       P06C,     175,          1,         17,        117,2,19920702,       0538,   -32.5090,  -177.6543,       7428,  2623.8,   2.0529,  34.6481,2,  34.6476,2,    148.3,2,   147.2,2,  123.65,2,   36.08,2,    0.00,2, -999.00,5,  -0.003,2,  -0.004,2,  2309.9,2,  -999.0,9,-999.000,9,-999.0000,9, -999.00,9,    0.05,2,  -212.0,2,     4.5,-999.000,9,-999.000,     -999.0,-999.0000,-999.000,     1.8603,-999.000
  316N138_4,       P06C,     175,          1,         16,        116,2,19920702,       0538,   -32.5090,  -177.6543,       7428,  2828.7,   1.9224,  34.6605,2,  34.6614,2,    150.3,2,   149.6,2,  127.00,3,   35.93,2,    0.00,2, -999.00,5,-999.000,5,-999.000,5,  2311.4,2,  -999.0,9,-999.000,9,-999.0000,9, -999.00,9,    0.04,2,  -218.0,2,     5.6,-999.000,9,-999.000,     -999.0,-999.0000,-999.000,     1.7130,-999.000
  316N138_4,       P06C,     175,          1,         15,        115,2,19920702,       0538,   -32.5090,  -177.6543,       7428,  3031.4,   1.8361,  34.6729,2,  34.6730,2,    157.8,2,   159.1,2,  125.64,3,   35.39,2,    0.00,2, -999.00,5,  -0.002,2,  -0.004,2,  2306.5,2,  -999.0,9,-999.000,9,-999.0000,9, -999.00,9,    0.03,2,  -206.3,2,     3.1,-999.000,9,-999.000,     -999.0,-999.0000,-999.000,     1.6088,-999.000
  316N138_4,       P06C,     175,          1,         14,        114,2,19920702,       0538,   -32.5090,  -177.6543,       7428,  3231.3,   1.7649,  34.7049,2,  34.7050,2,    175.7,3,   183.8,2,  109.96,2,   33.13,2,    0.00,2, -999.00,5,-999.000,5,-999.000,5,  2276.3,2,  -999.0,9,-999.000,9,-999.0000,9, -999.00,9,    0.20,2,  -174.6,2,     5.6,-999.000,9,-999.000,     -999.0,-999.0000,-999.000,     1.5193,-999.000
  316N138_4,       P06C,     175,          1,         13,        125,2,19920702,       0538,   -32.5090,  -177.6543,       7428,  3531.4,   1.5351,  34.7235,2,  34.7233,2,    195.5,2,   194.6,2,  106.25,2,   31.92,2,    0.00,2, -999.00,5,   0.008,2,   0.002,2,  2260.1,2,  -999.0,9,-999.000,9,-999.0000,9, -999.00,9,    0.29,2,  -198.4,3,     5.8,-999.000,9,-999.000,     -999.0,-999.0000,-999.000,     1.2646,-999.000
  316N138_4,       P06C,     175,          1,         12,        112,2,19920702,       0538,   -32.5090,  -177.6543,       7428,  3838.8,   1.2434,  34.7191,2,  34.7203,2,    202.0,2,   202.5,2,  112.54,2,   31.88,2,   -0.01,2, -999.00,5,   0.007,2,   0.008,2,  2259.3,2,  -999.0,9,-999.000,9,-999.0000,9, -999.00,9,    0.31,2,  -151.6,2,     4.6,-999.000,9,-999.000,     -999.0,-999.0000,-999.000,     0.9487,-999.000
  316N138_4,       P06C,     175,          1,         11,        129,2,19920702,       0538,   -32.5090,  -177.6543,       7428,  4144.6,   1.0659,  34.7129,2,  34.7119,2,    205.5,2,   206.9,2,  118.04,2,   32.10,2,   -0.01,2, -999.00,5,   0.019,2,   0.006,2,  2260.4,2,  -999.0,9,-999.000,9,-999.0000,9, -999.00,9,    0.27,2,  -152.3,2,     6.3,-999.000,9,-999.000,     -999.0,-999.0000,-999.000,     0.7436,-999.000
  316N138_4,       P06C,     175,          1,         10,        110,2,19920702,       0538,   -32.5090,  -177.6543,       7428,  4451.3,   1.0317,  34.7101,2,  34.7093,2,    207.2,2,   207.8,2,  120.02,2,   32.05,2,   -0.01,2, -999.00,5,-999.000,5,-999.000,5,  2260.3,2,  -999.0,9,-999.000,9,-999.0000,9, -999.00,9,    0.32,2,  -157.5,2,     6.2,-999.000,9,-999.000,     -999.0,-999.0000,-999.000,     0.6765,-999.000
  316N138_4,       P06C,     175,          1,          9,        126,2,19920702,       0538,   -32.5090,  -177.6543,       7428,  4756.3,   1.0214,  34.7078,2,  34.7087,2,    207.5,2,   208.3,2,  121.02,2,   32.00,2,   -0.01,2, -999.00,5,   0.019,2,   0.009,2,  2261.2,2,  -999.0,9,-999.000,9,-999.0000,9, -999.00,9,    0.33,2,  -164.9,2,     3.3,-999.000,9,-999.000,     -999.0,-999.0000,-999.000,     0.6318,-999.000
  316N138_4,       P06C,     175,          1,          8,        108,2,19920702,       0538,   -32.5090,  -177.6543,       7428,  5058.9,   1.0372,  34.7066,2,  34.7072,2,    207.9,2,   212.7,3,  121.42,2,   32.00,2,   -0.01,2, -999.00,5,-999.000,5,-999.000,5,  2261.4,2,  -999.0,9,-999.000,9,-999.0000,9, -999.00,9,    0.31,2,  -163.3,2,     3.1,-999.000,9,-999.000,     -999.0,-999.0000,-999.000,     0.6115,-999.000
  316N138_4,       P06C,     175,          1,          7,        107,2,19920702,       0538,   -32.5090,  -177.6543,       7428,  5365.4,   1.0608,  34.7067,2,  34.7072,2,    208.9,2,   209.5,3,  121.83,2,   31.95,2,   -0.01,2, -999.00,5,   0.010,2,   0.010,2,  2261.6,2,  -999.0,9,-999.000,9,-999.0000,9, -999.00,9,    0.31,2,  -159.3,2,     6.4,-999.000,9,-999.000,     -999.0,-999.0000,-999.000,     0.5970,-999.000
  316N138_4,       P06C,     175,          1,          6,        180,2,19920702,       0538,   -32.5090,  -177.6543,       7428,  5671.3,   1.0915,  34.7062,2,  34.7062,2,    209.3,2,   210.8,4,  122.03,2,   31.99,2,   -0.01,2, -999.00,5,-999.000,5,-999.000,5,  2262.3,2,  -999.0,9,-999.000,9,-999.0000,9, -999.00,9,    0.33,2,  -169.5,2,     5.8,-999.000,9,-999.000,     -999.0,-999.0000,-999.000,     0.5881,-999.000
  316N138_4,       P06C,     175,          1,          5,        131,2,19920702,       0538,   -32.5090,  -177.6543,       7428,  5982.2,   1.1267,  34.7066,2,  34.7064,2,    210.1,2,   209.5,2,  122.05,2,   32.12,2,   -0.01,2, -999.00,5,   0.013,2,   0.005,2,  2262.5,2,  -999.0,9,-999.000,9,-999.0000,9, -999.00,9,    0.41,2,  -156.7,2,     4.8,-999.000,9,-999.000,     -999.0,-999.0000,-999.000,     0.5817,-999.000
  316N138_4,       P06C,     175,          1,          4,        104,2,19920702,       0538,   -32.5090,  -177.6543,       7428,  6292.0,   1.1657,  34.7063,2,  34.7056,2,    209.6,2,   208.9,2,  122.26,2,   32.07,2,   -0.01,2, -999.00,5,   0.011,2,   0.003,2,  2262.5,2,  -999.0,9,-999.000,9,-999.0000,9, -999.00,9,    0.37,2,  -178.5,2,     7.0,-999.000,9,-999.000,     -999.0,-999.0000,-999.000,     0.5778,-999.000
  316N138_4,       P06C,     175,          1,          3,        130,2,19920702,       0538,   -32.5090,  -177.6543,       7428,  6498.2,   1.1923,  34.7069,2,  34.7056,2,    210.0,2,   209.3,2,  122.28,2,   32.11,2,   -0.01,2, -999.00,5,   0.009,2,   0.002,2,  2262.7,2,  -999.0,9,-999.000,9,-999.0000,9, -999.00,9,    0.40,2,  -162.5,2,     3.3,-999.000,9,-999.000,     -999.0,-999.0000,-999.000,     0.5752,-999.000
  316N138_4,       P06C,     175,          1,          2,        135,2,19920702,       0538,   -32.5090,  -177.6543,       7428,  6709.9,   1.2202,  34.7043,2,  34.7058,2,    228.7,3,   207.5,2,  122.29,2,   32.15,2,   -0.01,2, -999.00,5,-999.000,5,-999.000,5,  2262.9,2,  -999.0,9,-999.000,9,-999.0000,9, -999.00,9,    0.38,2,  -177.2,2,     4.6,-999.000,9,-999.000,     -999.0,-999.0000,-999.000,     0.5726,-999.000
  316N138_4,       P06C,     175,          1,          1,        134,2,19920702,       0538,   -32.5090,  -177.6543,       7428,  6904.1,   1.2492,  34.7076,2,  34.7085,3,    284.1,3,   208.6,2,  122.39,2,   32.27,2,    0.00,2, -999.00,5,   0.010,6,   0.006,6,  2262.2,6,  -999.0,9,-999.000,9,-999.0000,9, -999.00,9,    0.36,2,  -165.5,2,     4.9,-999.000,9,-999.000,     -999.0,-999.0000,-999.000,     0.5729,-999.000