BOTTLE,20211025CCHSIORKP
EXPOCODE,SECT_ID,STNNBR,CASTNO,SAMPNO,BTLNBR,BTLNBR_FLAG_W,DATE,TIME,LATITUDE,LONGITUDE,DEPTH,CTDPRS,CTDTMP,CTDSAL,CTDSAL_FLAG_W,SALNTY,SALNTY_FLAG_W,CTDOXY,CTDOXY_FLAG_W,OXYGEN,OXYGEN_FLAG_W,SILCAT,SILCAT_FLAG_W,NITRAT,NITRAT_FLAG_W,NITRIT,NITRIT_FLAG_W,PHSPHT,PHSPHT_FLAG_W,CFC-11,CFC-11_FLAG_W,CFC-12,CFC-12_FLAG_W,TCARBN,TCARBN_FLAG_W,PCO2,PCO2_FLAG_W,TRITUM,TRITUM_FLAG_W,HELIUM,HELIUM_FLAG_W,DELHE3,DELHE3_FLAG_W,DELC13,DELC13_FLAG_W,DELC14,DELC14_FLAG_W,C14ERR,NEON,NEON_FLAG_W,NEONER,PCO2TMP,HELIER,DELHER,THETA,TRITER
,,,,,,,,,,,METERS,DBAR,ITS-90,PSS-78,,PSS-78,,UMOL/KG,,UMOL/KG,,UMOL/KG,,UMOL/KG,,UMOL/KG,,UMOL/KG,,PMOL/KG,,PMOL/KG,,UMOL/KG,,UATM,,TU,,NMOL/KG,,PERCNT,,/MILLE,,/MILLE,,/MILLE,NMOL/KG,,NMOL/KG,DEG_C,NMOL/KG,PERCNT,ITS-90,TU
  316N138_4,       P06C,      79,          1,         36,    02-9121,2,19920603,       0020,   -32.5102,  -116.0192,       3108,    18.3,  20.5712,  35.4287,2,  35.4318,2,    219.1,2,   224.1,2,    0.17,2,    0.04,2,    0.00,2,    0.10,2,-999.000,9,-999.000,9,  -999.0,9,  -999.0,9,   0.808,2,   1.7780,2,   -1.27,2, -999.00,9,  -999.0,9,  -999.0,-999.000,9,-999.000,     -999.0,-999.0000,   0.150,    20.5678,   0.005
  316N138_4,       P06C,      79,          1,         35,    02-9454,2,19920603,       0020,   -32.5102,  -116.0192,       3108,    57.3,  20.5270,  35.4314,2,  35.4328,2,    222.2,2,   224.4,2,    0.00,2,    0.03,2,    0.01,2,    0.11,2,-999.000,9,-999.000,9,  2014.1,6,   328.9,2,-999.000,9,-999.0000,9, -999.00,9, -999.00,9,  -999.0,9,  -999.0,-999.000,9,-999.000,      19.90,-999.0000,-999.000,    20.5162,-999.000
  316N138_4,       P06C,      79,          1,         34,    02-9457,2,19920603,       0020,   -32.5102,  -116.0192,       3108,    87.5,  19.6117,  35.3915,2,  35.3886,2,    228.4,2,   234.3,2,    0.17,2,    0.03,2,    0.01,2,    0.12,2,-999.000,9,-999.000,9,  -999.0,9,  -999.0,9,   0.787,2,   1.7820,2,   -1.05,2, -999.00,9,  -999.0,9,  -999.0,-999.000,9,-999.000,     -999.0,-999.0000,   0.150,    19.5958,   0.005
  316N138_4,       P06C,      79,          1,         33,    02-5367,2,19920603,       0020,   -32.5102,  -116.0192,       3108,   117.2,  18.2712,  35.2857,2,  35.2861,2,    238.1,2,   233.4,2,    0.17,2,    0.03,2,    0.01,2,    0.15,2,-999.000,9,-999.000,9,  2024.0,2,   358.6,2,-999.000,9,-999.0000,9, -999.00,9, -999.00,9,  -999.0,9,  -999.0,-999.000,9,-999.000,      19.90,-999.0000,-999.000,    18.2508,-999.000
  316N138_4,       P06C,      79,          1,         32,    02-9540,2,19920603,       0020,   -32.5102,  -116.0192,       3108,   146.3,  17.5981,  35.2079,2,  35.2083,2,    235.4,2,   227.8,2,    0.17,2,    0.04,2,    0.01,2,    0.18,2,-999.000,9,-999.000,9,  -999.0,9,  -999.0,9,   0.623,2,   1.8020,2,   -1.18,2, -999.00,9,  -999.0,9,  -999.0,-999.000,9,-999.000,     -999.0,-999.0000,   0.150,    17.5733,   0.004
  316N138_4,       P06C,      79,          1,         31,    02-9539,2,19920603,       0020,   -32.5102,  -116.0192,       3108,   175.8,  16.8351,  35.1201,2,  35.1181,2,    228.6,2,   218.1,2,    0.17,2,    0.40,2,    0.17,2,    0.25,2,-999.000,9,-999.000,9,  2042.0,2,   412.2,2,-999.000,9,-999.0000,9, -999.00,9, -999.00,9,  -999.0,9,  -999.0,-999.000,9,-999.000,      19.90,-999.0000,-999.000,    16.8062,-999.000
  316N138_4,       P06C,      79,          1,         30,    02-9456,2,19920603,       0020,   -32.5102,  -116.0192,       3108,   206.1,  16.0191,  35.0596,2,  35.0632,2,    220.7,2,   205.8,2,    0.49,2,    2.95,2,    0.03,2,    0.41,2,-999.000,9,-999.000,9,  -999.0,9,  -999.0,9,   0.619,2,   1.8150,2,   -0.52,2, -999.00,9,  -999.0,9,  -999.0,-999.000,9,-999.000,     -999.0,-999.0000,   0.150,    15.9864,   0.005
  316N138_4,       P06C,      79,          1,         29,    02-9458,2,19920603,       0020,   -32.5102,  -116.0192,       3108,   255.4,  14.3275,  34.8853,2,  34.8823,2,    209.3,2,   201.9,2,    0.98,2,    6.49,2,    0.02,2,    0.62,2,-999.000,9,-999.000,9,  2073.1,2,   500.5,2,   0.538,2,   1.8610,2,   -0.22,2, -999.00,9,  -999.0,9,  -999.0,-999.000,9,-999.000,      19.90,-999.0000,   0.150,    14.2900,   0.004
  316N138_4,       P06C,      79,          1,         28,    02-9545,2,19920603,       0020,   -32.5102,  -116.0192,       3108,   356.1,  10.4746,  34.5281,2,  34.5305,2,    208.0,2,   208.1,2,    2.60,2,   14.76,2,    0.01,2,    1.10,2,-999.000,9,-999.000,9,  -999.0,9,  -999.0,9,   0.345,2,   1.8600,2,    0.06,2, -999.00,9,  -999.0,9,  -999.0,-999.000,9,-999.000,     -999.0,-999.0000,   0.150,    10.4320,   0.003
  316N138_4,       P06C,      79,          1,         27,    02-9453,2,19920603,       0020,   -32.5102,  -116.0192,       3108,   455.8,   7.5297,  34.3642,2,  34.3674,2,    221.7,2,   221.1,2,    5.84,2,   21.75,2,    0.00,2,    1.51,2,-999.000,9,-999.000,9,  2133.4,2,   774.5,2,   0.206,2,   1.8440,2,    0.10,2, -999.00,9,  -999.0,9,  -999.0,-999.000,9,-999.000,      19.90,-999.0000,   0.150,     7.4848,   0.003
  316N138_4,       P06C,      79,          1,         26,    02-9544,2,19920603,       0020,   -32.5102,  -116.0192,       3108,   557.0,   6.5572,  34.3423,2,  34.3460,2,    237.2,2,   236.9,2,    7.46,2,   23.18,2,    0.01,2,    1.58,2,-999.000,9,-999.000,9,  -999.0,9,  -999.0,9,   0.209,2,   1.8660,2,    0.37,2, -999.00,9,  -999.0,9,  -999.0,-999.000,9,-999.000,     -999.0,-999.0000,   0.150,     6.5060,   0.003
  316N138_4,       P06C,      79,          1,         25,    02-9455,2,19920603,       0020,   -32.5102,  -116.0192,       3108,   617.9,   6.2137,  34.3244,2,  34.3258,2,    242.3,2,   242.1,2,    8.27,2,   23.71,2,    0.00,2,    1.61,2,-999.000,9,-999.000,9,  2136.0,2,   735.0,2,-999.000,9,-999.0000,9, -999.00,9, -999.00,9,  -999.0,9,  -999.0,-999.000,9,-999.000,      19.90,-999.0000,-999.000,     6.1583,-999.000
  316N138_4,       P06C,      79,          1,         24,        132,2,19920603,       0020,   -32.5102,  -116.0192,       3108,   667.2,   5.9615,  34.3095,2,  34.3144,2,    244.7,2,   242.1,2,    9.08,2,   24.15,2,    0.01,2,    1.65,2,-999.000,9,-999.000,9,  -999.0,9,  -999.0,9,   0.164,2,   1.8370,2,    0.51,2, -999.00,9,  -999.0,9,  -999.0,-999.000,9,-999.000,     -999.0,-999.0000,   0.150,     5.9028,   0.002
  316N138_4,       P06C,      79,          1,         23,        123,2,19920603,       0020,   -32.5102,  -116.0192,       3108,   727.6,   5.7090,  34.2922,2,  34.2958,2,    242.6,2,   242.4,2,   10.23,2,   24.96,2,    0.01,2,    1.69,2,-999.000,9,-999.000,9,  2139.4,2,   820.8,2,-999.000,9,-999.0000,9, -999.00,9, -999.00,9,  -999.0,9,  -999.0,-999.000,9,-999.000,      19.90,-999.0000,-999.000,     5.6461,-999.000
  316N138_4,       P06C,      79,          1,         22,        128,2,19920603,       0020,   -32.5102,  -116.0192,       3108,   779.3,   5.4524,  34.2800,2,  34.2815,2,    239.7,2,   235.6,2,   12.34,2,   26.21,2,    0.01,2,    1.79,2,-999.000,9,-999.000,9,  -999.0,9,  -999.0,9,   0.109,2,   1.8060,2,    0.80,2, -999.00,9,  -999.0,9,  -999.0,-999.000,9,-999.000,     -999.0,-999.0000,   0.150,     5.3863,   0.002
  316N138_4,       P06C,      79,          1,         21,        121,2,19920603,       0020,   -32.5102,  -116.0192,       3108,   829.6,   5.1724,  34.2747,2,  34.2778,2,    235.2,2,   228.8,2,   15.09,2,   27.37,2,    0.01,2,    1.86,2,-999.000,9,-999.000,9,  2154.5,2,   866.7,2,-999.000,9,-999.0000,9, -999.00,9, -999.00,9,  -999.0,9,  -999.0,-999.000,9,-999.000,      19.90,-999.0000,-999.000,     5.1036,-999.000
  316N138_4,       P06C,      79,          1,         20,        120,3,19920603,       0020,   -32.5102,  -116.0192,       3108,   888.9,   4.9146,  34.2783,2,  34.2779,2,    225.2,2,   219.5,2,   18.98,2,   28.80,2,    0.01,2,    1.95,2,-999.000,9,-999.000,9,  -999.0,9,  -999.0,9,   0.062,2,   1.8680,2,    0.76,2, -999.00,9,  -999.0,9,  -999.0,-999.000,9,-999.000,     -999.0,-999.0000,   0.150,     4.8421,   0.002
  316N138_4,       P06C,      79,          1,         19,        133,2,19920603,       0020,   -32.5102,  -116.0192,       3108,   949.5,   4.6397,  34.2862,2,  34.2881,2,    214.3,2,   208.6,2,   23.52,2,   30.32,2,    0.01,2,    2.05,2,-999.000,9,-999.000,9,  2177.4,2,   958.5,2,-999.000,9,-999.0000,9, -999.00,9, -999.00,9,  -999.0,9,  -999.0,-999.000,9,-999.000,      19.90,-999.0000,-999.000,     4.5639,-999.000
  316N138_4,       P06C,      79,          1,         18,        118,2,19920603,       0020,   -32.5102,  -116.0192,       3108,  1057.7,   4.2198,  34.3211,2,  34.3219,2,    189.4,2,   185.4,2,   33.75,2,   32.89,2,    0.00,2,    2.22,2,-999.000,9,-999.000,9,  -999.0,9,  -999.0,9,   0.012,2,   1.8720,2,    2.83,2, -999.00,9,  -999.0,9,  -999.0,-999.000,9,-999.000,     -999.0,-999.0000,   0.150,     4.1378,   0.004
  316N138_4,       P06C,      79,          1,         17,        117,2,19920603,       0020,   -32.5102,  -116.0192,       3108,  1139.1,   3.8440,  34.3739,2,  34.3751,2,    169.9,3,   164.2,2,   46.40,2,   35.05,2,    0.01,2,    2.39,2,-999.000,9,-999.000,9,  2226.1,2,  1197.2,2,-999.000,9,-999.0000,9, -999.00,9, -999.00,9,  -999.0,9,  -999.0,-999.000,9,-999.000,      19.90,-999.0000,-999.000,     3.7582,-999.000
  316N138_4,       P06C,      79,          1,         16,        116,2,19920603,       0020,   -32.5102,  -116.0192,       3108,  1227.8,   3.5529,  34.4324,2,  34.4347,2,    154.0,3,   145.8,2,   59.86,2,   36.70,2,    0.01,2,    2.51,2,-999.000,9,-999.000,9,  -999.0,9,  -999.0,9,   0.001,2,   1.9030,2,    9.49,2, -999.00,9,  -999.0,9,  -999.0,-999.000,9,-999.000,     -999.0,-999.0000,   0.150,     3.4624,   0.003
  316N138_4,       P06C,      79,          1,         15,        115,2,19920603,       0020,   -32.5102,  -116.0192,       3108,  1308.4,   3.3661,  34.4752,2,  34.4763,2,    143.3,3,   135.7,2,   69.58,2,   37.43,2,    0.00,2,    2.59,2,-999.000,9,-999.000,9,  2264.7,2,  1314.8,2,   0.007,2,   1.9080,2,   12.62,2, -999.00,9,  -999.0,9,  -999.0,-999.000,9,-999.000,      19.90,-999.0000,   0.150,     3.2705,   0.004
  316N138_4,       P06C,      79,          1,         14,        114,2,19920603,       0020,   -32.5102,  -116.0192,       3108,  1388.4,   3.1797,  34.5043,2,  34.5085,2,    138.5,2,   135.1,2,   76.22,2,   37.37,2,    0.01,2,    2.58,2,-999.000,9,-999.000,9,  -999.0,9,  -999.0,9,-999.000,9,-999.0000,9, -999.00,9, -999.00,9,  -999.0,9,  -999.0,-999.000,9,-999.000,     -999.0,-999.0000,-999.000,     3.0794,-999.000
  316N138_4,       P06C,      79,          1,         13,        125,2,19920603,       0020,   -32.5102,  -116.0192,       3108,  1456.7,   2.9937,  34.5198,2,  34.5203,2,    142.6,2,   143.6,2,   78.98,2,   36.65,2,    0.01,2,    2.53,2,-999.000,9,-999.000,9,  2270.0,2,  1294.2,2,   0.015,2,   1.9220,2,   15.41,2, -999.00,9,  -999.0,9,  -999.0,-999.000,9,-999.000,      19.90,-999.0000,   0.150,     2.8897,   0.004
  316N138_4,       P06C,      79,          1,         12,        112,2,19920603,       0020,   -32.5102,  -116.0192,       3108,  1556.1,   2.7623,  34.5415,2,  34.5419,2,    152.9,2,   152.6,2,   81.73,2,   35.82,2,    0.01,2,    2.47,2,-999.000,9,-999.000,9,  -999.0,9,  -999.0,9,   0.005,2,   1.9230,2,   15.51,2, -999.00,9,  -999.0,9,  -999.0,-999.000,9,-999.000,     -999.0,-999.0000,   0.150,     2.6528,   0.003
  316N138_4,       P06C,      79,          1,         11,        129,2,19920603,       0020,   -32.5102,  -116.0192,       3108,  1654.9,   2.5363,  34.5717,2,  34.5794,3,    157.7,2,   157.8,2,   87.40,2,   35.26,2,    0.01,2,    2.44,2,-999.000,9,-999.000,9,  2269.9,2,  1217.3,2,-999.000,9,-999.0000,9, -999.00,9, -999.00,9,  -999.0,9,  -999.0,-999.000,9,-999.000,      19.90,-999.0000,-999.000,     2.4212,-999.000
  316N138_4,       P06C,      79,          1,         10,        110,2,19920603,       0020,   -32.5102,  -116.0192,       3108,  1813.7,   2.3124,  34.6086,2,  34.6111,2,    157.7,2,   157.5,2,   97.94,2,   35.15,2,    0.01,2,    2.42,2,-999.000,9,-999.000,9,  -999.0,9,  -999.0,9,-999.000,9,-999.0000,9, -999.00,9, -999.00,9,  -999.0,9,  -999.0,-999.000,9,-999.000,     -999.0,-999.0000,-999.000,     2.1871,-999.000
  316N138_4,       P06C,      79,          1,          9,        126,2,19920603,       0020,   -32.5102,  -116.0192,       3108,  1964.4,   2.1405,  34.6309,2,-999.0000,5,    149.9,3,   156.1,2,  107.17,2,   35.27,2,    0.00,2,    2.46,2,-999.000,9,-999.000,9,  2289.5,2,  1185.2,2,-999.000,9,-999.0000,9, -999.00,9, -999.00,9,  -999.0,9,  -999.0,-999.000,9,-999.000,      19.90,-999.0000,-999.000,     2.0049,-999.000
  316N138_4,       P06C,      79,          1,          8,        108,2,19920603,       0020,   -32.5102,  -116.0192,       3108,  2069.3,   2.0484,  34.6409,2,  34.6429,2,    151.6,3,   156.0,2,  111.54,2,   35.31,2,    0.00,2,    2.47,2,-999.000,9,-999.000,9,  -999.0,9,  -999.0,9,-999.000,9,-999.0000,9, -999.00,9, -999.00,9,  -999.0,9,  -999.0,-999.000,9,-999.000,     -999.0,-999.0000,-999.000,     1.9053,-999.000
  316N138_4,       P06C,      79,          1,          7,        107,2,19920603,       0020,   -32.5102,  -116.0192,       3108,  2222.1,   1.9494,  34.6515,2,  34.6527,2,    155.6,2,   156.6,2,  115.58,2,   35.31,2,    0.00,2,    2.46,2,-999.000,9,-999.000,9,  2296.5,2,  1183.6,2,-999.000,9,-999.0000,9, -999.00,9, -999.00,9,  -999.0,9,  -999.0,-999.000,9,-999.000,      19.90,-999.0000,-999.000,     1.7948,-999.000
  316N138_4,       P06C,      79,          1,          6,        180,3,19920603,       0020,   -32.5102,  -116.0192,       3108,  2321.2,   1.8983,  34.6569,2,  34.7386,4,    156.6,2,   175.3,4,   72.94,4,   26.14,4,    0.00,4,    1.84,4,-999.000,9,-999.000,9,  -999.0,9,  -999.0,9,-999.000,9,-999.0000,9, -999.00,9, -999.00,9,  -999.0,9,  -999.0,-999.000,9,-999.000,     -999.0,-999.0000,-999.000,     1.7359,-999.000
  316N138_4,       P06C,      79,          1,          5,        131,2,19920603,       0020,   -32.5102,  -116.0192,       3108,  2473.4,   1.8344,  34.6622,2,  34.6616,2,    157.7,2,   158.9,2,  119.14,2,   35.18,2,   -0.01,2,    2.45,2,-999.000,9,-999.000,9,  -999.0,9,  -999.0,9,-999.000,9,-999.0000,9, -999.00,9, -999.00,9,  -999.0,9,  -999.0,-999.000,9,-999.000,     -999.0,-999.0000,-999.000,     1.6595,-999.000
  316N138_4,       P06C,      79,          1,          4,        104,2,19920603,       0020,   -32.5102,  -116.0192,       3108,  2572.7,   1.8004,  34.6673,2,  34.6683,2,    159.1,2,   160.0,2,  119.95,2,   35.12,2,    0.00,2,    2.43,2,-999.000,9,-999.000,9,  2298.4,2,  1169.0,6,-999.000,9,-999.0000,9, -999.00,9, -999.00,9,  -999.0,9,  -999.0,-999.000,9,-999.000,      19.90,-999.0000,-999.000,     1.6172,-999.000
  316N138_4,       P06C,      79,          1,          3,        130,2,19920603,       0020,   -32.5102,  -116.0192,       3108,  2725.7,   1.7714,  34.6705,2,  34.6700,2,    161.0,2,   161.3,2,  120.75,2,   35.01,2,    0.00,2,    2.43,2,-999.000,9,-999.000,9,  -999.0,9,  -999.0,9,-999.000,9,-999.0000,9, -999.00,9, -999.00,9,  -999.0,9,  -999.0,-999.000,9,-999.000,     -999.0,-999.0000,-999.000,     1.5746,-999.000
  316N138_4,       P06C,      79,          1,          2,        135,2,19920603,       0020,   -32.5102,  -116.0192,       3108,  2826.8,   1.7534,  34.6721,2,  34.6739,2,    162.0,2,   162.3,2,  121.07,2,   34.96,2,    0.00,2,    2.42,2,-999.000,9,-999.000,9,  -999.0,9,  -999.0,9,-999.000,9,-999.0000,9, -999.00,9, -999.00,9,  -999.0,9,  -999.0,-999.000,9,-999.000,     -999.0,-999.0000,-999.000,     1.5475,-999.000
  316N138_4,       P06C,      79,          1,          1,        134,2,19920603,       0020,   -32.5102,  -116.0192,       3108,  2926.7,   1.7484,  34.6742,2,  34.6739,2,    161.4,2,   163.2,2,  121.12,2,   34.91,2,    0.00,2,    2.42,2,-999.000,9,-999.000,9,  2297.9,6,  1141.9,2,-999.000,9,-999.0000,9, -999.00,9, -999.00,9,  -999.0,9,  -999.0,-999.000,9,-999.000,      19.90,-999.0000,-999.000,     1.5331,-999.000