BOTTLE,20211025CCHSIORKP
EXPOCODE,SECT_ID,STNNBR,CASTNO,SAMPNO,BTLNBR,BTLNBR_FLAG_W,DATE,TIME,LATITUDE,LONGITUDE,DEPTH,CTDPRS,CTDTMP,CTDSAL,CTDSAL_FLAG_W,SALNTY,SALNTY_FLAG_W,CTDOXY,CTDOXY_FLAG_W,OXYGEN,OXYGEN_FLAG_W,SILCAT,SILCAT_FLAG_W,NITRAT,NITRAT_FLAG_W,NITRIT,NITRIT_FLAG_W,PHSPHT,PHSPHT_FLAG_W,CFC-11,CFC-11_FLAG_W,CFC-12,CFC-12_FLAG_W,TCARBN,TCARBN_FLAG_W,PCO2,PCO2_FLAG_W,TRITUM,TRITUM_FLAG_W,HELIUM,HELIUM_FLAG_W,DELHE3,DELHE3_FLAG_W,DELC13,DELC13_FLAG_W,DELC14,DELC14_FLAG_W,C14ERR,NEON,NEON_FLAG_W,NEONER,PCO2TMP,HELIER,DELHER,THETA,TRITER
,,,,,,,,,,,METERS,DBAR,ITS-90,PSS-78,,PSS-78,,UMOL/KG,,UMOL/KG,,UMOL/KG,,UMOL/KG,,UMOL/KG,,UMOL/KG,,PMOL/KG,,PMOL/KG,,UMOL/KG,,UATM,,TU,,NMOL/KG,,PERCNT,,/MILLE,,/MILLE,,/MILLE,NMOL/KG,,NMOL/KG,DEG_C,NMOL/KG,PERCNT,ITS-90,TU
  316N138_4,       P06C,     116,          1,         36,    02-9121,2,19920614,       1914,   -32.5010,  -140.6682,       4925,    18.9,  18.6445,  35.2928,2,  35.2922,2,    279.3,3,   229.9,2,    0.44,2,    0.02,2,    0.00,2,    0.09,2,-999.000,9,-999.000,9,  2023.4,6,   348.6,2,-999.000,9,-999.0000,9, -999.00,9, -999.00,9,  -999.0,9,  -999.0,-999.000,9,-999.000,      20.20,-999.0000,-999.000,    18.6412,-999.000
  316N138_4,       P06C,     116,          1,         35,    02-9454,2,19920614,       1914,   -32.5010,  -140.6682,       4925,    58.9,  18.6458,  35.2924,2,  35.2928,2,    224.8,2,   228.0,2,    0.44,2,    0.02,2,    0.00,2,    0.10,2,   2.379,2,   1.323,2,  2023.9,2,  -999.0,9,-999.000,9,-999.0000,9, -999.00,9, -999.00,9,  -999.0,9,  -999.0,-999.000,9,-999.000,     -999.0,-999.0000,-999.000,    18.6355,-999.000
  316N138_4,       P06C,     116,          1,         34,    02-9457,2,19920614,       1914,   -32.5010,  -140.6682,       4925,   107.7,  17.6660,  35.4227,2,  35.3618,2,    224.9,2,   241.1,2,    0.59,2,    0.06,2,    0.00,2,    0.11,2,   2.571,2,   1.370,2,  2032.4,2,   355.6,2,-999.000,9,-999.0000,9, -999.00,9, -999.00,9,  -999.0,9,  -999.0,-999.000,9,-999.000,      20.20,-999.0000,-999.000,    17.6477,-999.000
  316N138_4,       P06C,     116,          1,         33,    02-5367,2,19920614,       1914,   -32.5010,  -140.6682,       4925,   157.0,  15.8440,  35.2472,2,  35.2456,2,    216.8,2,   222.7,2,    0.59,2,    1.50,2,    0.03,2,    0.27,2,   2.562,2,   1.354,2,  2054.7,2,  -999.0,9,-999.000,9,-999.0000,9, -999.00,9, -999.00,9,  -999.0,9,  -999.0,-999.000,9,-999.000,     -999.0,-999.0000,-999.000,    15.8193,-999.000
  316N138_4,       P06C,     116,          1,         32,    02-9540,2,19920614,       1914,   -32.5010,  -140.6682,       4925,   205.8,  15.0380,  35.1715,2,  35.1648,2,    214.4,2,   211.2,2,    1.03,2,    3.55,2,    0.01,2,    0.39,2,   2.390,2,   1.223,2,  2067.9,2,  -999.0,9,-999.000,9,-999.0000,9, -999.00,9, -999.00,9,  -999.0,9,  -999.0,-999.000,9,-999.000,     -999.0,-999.0000,-999.000,    15.0067,-999.000
  316N138_4,       P06C,     116,          1,         31,    02-9539,2,19920614,       1914,   -32.5010,  -140.6682,       4925,   255.4,  13.6427,  35.0490,2,  35.0524,2,    201.1,2,   200.9,2,    1.60,2,    7.62,2,    0.01,2,    0.63,2,   2.104,2,   1.072,2,  2088.7,2,   484.0,2,-999.000,9,-999.0000,9, -999.00,9, -999.00,9,  -999.0,9,  -999.0,-999.000,9,-999.000,      20.20,-999.0000,-999.000,    13.6064,-999.000
  316N138_4,       P06C,     116,          1,         30,    02-9456,2,19920614,       1914,   -32.5010,  -140.6682,       4925,   306.6,  11.6046,  34.8178,2,  34.8047,2,    202.9,2,   202.4,2,    2.63,2,   12.24,2,    0.01,2,    0.91,2,   1.907,2,   0.964,2,  2105.3,2,  -999.0,9,-999.000,9,-999.0000,9, -999.00,9, -999.00,9,  -999.0,9,  -999.0,-999.000,9,-999.000,     -999.0,-999.0000,-999.000,    11.5654,-999.000
  316N138_4,       P06C,     116,          1,         29,    02-9458,2,19920614,       1914,   -32.5010,  -140.6682,       4925,   357.1,   9.7896,  34.6198,2,  34.6374,2,    209.4,2,   200.4,3,    3.65,2,   16.16,2,    0.01,2,    1.13,2,   1.662,6,   0.832,6,  2119.0,2,  -999.0,9,-999.000,9,-999.0000,9, -999.00,9, -999.00,9,  -999.0,9,  -999.0,-999.000,9,-999.000,     -999.0,-999.0000,-999.000,     9.7486,-999.000
  316N138_4,       P06C,     116,          1,         28,    02-9545,2,19920614,       1914,   -32.5010,  -140.6682,       4925,   408.7,   8.3717,  34.5019,2,  34.5054,2,    218.0,2,   217.2,2,    4.96,2,   19.12,2,    0.01,2,    1.30,2,   1.524,6,   0.760,6,  2128.0,2,   704.7,2,-999.000,9,-999.0000,9, -999.00,9, -999.00,9,  -999.0,9,  -999.0,-999.000,9,-999.000,      20.20,-999.0000,-999.000,     8.3290,-999.000
  316N138_4,       P06C,     116,          1,         27,    02-9453,2,19920614,       1914,   -32.5010,  -140.6682,       4925,   505.5,   7.2612,  34.4197,2,  34.4165,2,    235.4,2,   232.9,2,    6.28,2,   21.01,2,    0.01,2,    1.41,2,   1.579,6,   0.775,6,  2130.8,2,  -999.0,9,-999.000,9,-999.0000,9, -999.00,9, -999.00,9,  -999.0,9,  -999.0,-999.000,9,-999.000,     -999.0,-999.0000,-999.000,     7.2122,-999.000
  316N138_4,       P06C,     116,          1,         26,    02-9544,2,19920614,       1914,   -32.5010,  -140.6682,       4925,   604.2,   6.7610,  34.3829,2,  34.3813,2,    241.4,2,   240.1,2,    7.44,2,   22.17,2,    0.00,2,    1.48,2,   1.295,2,   0.647,2,  2134.4,2,  -999.0,9,-999.000,9,-999.0000,9, -999.00,9, -999.00,9,  -999.0,9,  -999.0,-999.000,9,-999.000,     -999.0,-999.0000,-999.000,     6.7044,-999.000
  316N138_4,       P06C,     116,          1,         25,    02-9455,2,19920614,       1914,   -32.5010,  -140.6682,       4925,   705.4,   6.2395,  34.3413,2,  34.3378,2,    238.5,2,   234.7,2,    9.49,2,   23.82,2,    0.01,2,    1.59,2,   0.723,2,   0.400,2,  2139.3,2,   750.3,2,-999.000,9,-999.0000,9, -999.00,9, -999.00,9,  -999.0,9,  -999.0,-999.000,9,-999.000,      20.20,-999.0000,-999.000,     6.1758,-999.000
  316N138_4,       P06C,     116,          1,          1,        134,2,19920614,       1914,   -32.5010,  -140.6682,       4925,   807.5,   5.7109,  34.3126,2,  34.3133,2,    232.7,2,   232.6,2,   13.00,2,   25.83,2,    0.00,2,    1.70,2,   0.442,2,   0.237,2,  2147.7,6,   785.4,6,-999.000,9,-999.0000,9, -999.00,9, -999.00,9,  -999.0,9,  -999.0,-999.000,9,-999.000,      20.20,-999.0000,-999.000,     5.6406,-999.000
  316N138_4,       P06C,     116,          1,         24,        132,2,19920614,       1914,   -32.5010,  -140.6682,       4925,   905.7,   5.1445,  34.3079,2,  34.3060,2,    220.8,2,   212.4,3,   19.57,2,   28.27,2,    0.00,2,    1.88,2,   0.206,6,   0.121,6,  2166.0,2,  -999.0,9,-999.000,9,-999.0000,9, -999.00,9, -999.00,9,  -999.0,9,  -999.0,-999.000,9,-999.000,     -999.0,-999.0000,-999.000,     5.0689,-999.000
  316N138_4,       P06C,     116,          1,         23,        123,2,19920614,       1914,   -32.5010,  -140.6682,       4925,  1003.7,   4.6319,  34.3198,2,  34.3170,2,    206.9,2,   205.5,2,   27.89,2,   30.34,2,    0.00,2,    2.03,2,   0.100,2,   0.058,2,  2183.2,2,  -999.0,9,-999.000,9,-999.0000,9, -999.00,9, -999.00,9,  -999.0,9,  -999.0,-999.000,9,-999.000,     -999.0,-999.0000,-999.000,     4.5513,-999.000
  316N138_4,       P06C,     116,          1,         22,        128,2,19920614,       1914,   -32.5010,  -140.6682,       4925,  1100.9,   4.1604,  34.3463,2,  34.3525,2,    192.9,2,   190.8,2,   37.09,2,   31.99,2,    0.01,2,    2.14,2,   0.064,6,   0.037,6,  2200.4,2,  1023.0,2,-999.000,9,-999.0000,9, -999.00,9, -999.00,9,  -999.0,9,  -999.0,-999.000,9,-999.000,      20.20,-999.0000,-999.000,     4.0752,-999.000
  316N138_4,       P06C,     116,          1,         21,        121,2,19920614,       1914,   -32.5010,  -140.6682,       4925,  1302.9,   3.3206,  34.4255,2,  34.4255,2,    176.4,2,   174.4,2,   56.37,2,   33.97,2,    0.01,2,    2.31,2,   0.016,2,   0.020,3,  2231.3,2,  -999.0,9,-999.000,9,-999.0000,9, -999.00,9, -999.00,9,  -999.0,9,  -999.0,-999.000,9,-999.000,     -999.0,-999.0000,-999.000,     3.2260,-999.000
  316N138_4,       P06C,     116,          1,         20,        120,2,19920614,       1914,   -32.5010,  -140.6682,       4925,  1504.9,   2.7648,  34.5228,2,  34.5201,2,    165.4,2,   165.4,2,   76.95,2,   34.66,2,    0.01,2,    2.38,2,   0.016,2,   0.009,2,  2257.8,2,  -999.0,9,-999.000,9,-999.0000,9, -999.00,9, -999.00,9,  -999.0,9,  -999.0,-999.000,9,-999.000,     -999.0,-999.0000,-999.000,     2.6595,-999.000
  316N138_4,       P06C,     116,          1,         19,        133,2,19920614,       1914,   -32.5010,  -140.6682,       4925,  1707.3,   2.4635,  34.5821,2,  34.5802,2,    159.4,2,   157.2,2,   92.73,2,   34.97,2,    0.01,2,    2.42,2,   0.002,2,-999.000,5,  2276.0,2,  1088.8,2,-999.000,9,-999.0000,9, -999.00,9, -999.00,9,  -999.0,9,  -999.0,-999.000,9,-999.000,      20.20,-999.0000,-999.000,     2.3450,-999.000
  316N138_4,       P06C,     116,          1,         18,        118,2,19920614,       1914,   -32.5010,  -140.6682,       4925,  1914.4,   2.2310,  34.6173,2,  34.6162,2,    154.4,2,   153.3,2,  106.02,2,   35.25,2,    0.01,2,    2.45,2,-999.000,9,-999.000,9,  2290.9,6,  -999.0,9,-999.000,9,-999.0000,9, -999.00,9, -999.00,9,  -999.0,9,  -999.0,-999.000,9,-999.000,     -999.0,-999.0000,-999.000,     2.0983,-999.000
  316N138_4,       P06C,     116,          1,         17,        117,2,19920614,       1914,   -32.5010,  -140.6682,       4925,  2117.4,   2.0534,  34.6393,2,  34.6374,2,    152.9,2,   152.7,2,  114.50,2,   35.38,2,    0.01,2,    2.48,2,-999.000,9,-999.000,9,  2300.0,2,  -999.0,9,-999.000,9,-999.0000,9, -999.00,9, -999.00,9,  -999.0,9,  -999.0,-999.000,9,-999.000,     -999.0,-999.0000,-999.000,     1.9061,-999.000
  316N138_4,       P06C,     116,          1,         16,        116,2,19920614,       1914,   -32.5010,  -140.6682,       4925,  2326.6,   1.9334,  34.6513,2,  34.6476,2,    153.5,2,   154.0,2,  119.32,2,   35.37,2,    0.02,2,    2.49,2,   0.006,2,-999.000,5,  2303.6,2,  1177.0,2,-999.000,9,-999.0000,9, -999.00,9, -999.00,9,  -999.0,9,  -999.0,-999.000,9,-999.000,      20.20,-999.0000,-999.000,     1.7699,-999.000
  316N138_4,       P06C,     116,          1,         15,        115,2,19920614,       1914,   -32.5010,  -140.6682,       4925,  2530.7,   1.8247,  34.6615,2,  34.6576,2,    155.5,2,   155.1,2,  122.09,2,   35.28,2,    0.01,2,    2.48,2,-999.000,9,-999.000,9,  2305.3,2,  -999.0,9,-999.000,9,-999.0000,9, -999.00,9, -999.00,9,  -999.0,9,  -999.0,-999.000,9,-999.000,     -999.0,-999.0000,-999.000,     1.6448,-999.000
  316N138_4,       P06C,     116,          1,         14,        114,2,19920614,       1914,   -32.5010,  -140.6682,       4925,  2734.8,   1.7493,  34.6677,2,  34.6661,2,    157.6,2,   157.9,2,  124.00,2,   35.14,2,    0.01,2,    2.47,2,   0.000,2,  -0.001,2,  -999.0,9,  -999.0,9,-999.000,9,-999.0000,9, -999.00,9, -999.00,9,  -999.0,9,  -999.0,-999.000,9,-999.000,     -999.0,-999.0000,-999.000,     1.5522,-999.000
  316N138_4,       P06C,     116,          1,         13,        125,2,19920614,       1914,   -32.5010,  -140.6682,       4925,  2938.9,   1.6992,  34.6723,2,  34.6702,2,    160.5,2,   161.0,2,  124.30,2,   34.95,2,    0.01,2,    2.46,2,-999.000,9,-999.000,9,  2302.7,2,  1203.1,2,-999.000,9,-999.0000,9, -999.00,9, -999.00,9,  -999.0,9,  -999.0,-999.000,9,-999.000,      20.20,-999.0000,-999.000,     1.4839,-999.000
  316N138_4,       P06C,     116,          1,         12,        112,2,19920614,       1914,   -32.5010,  -140.6682,       4925,  3143.5,   1.6481,  34.6770,2,  34.6924,4,    164.3,2,   163.7,2,  124.15,2,   34.72,2,    0.01,2,    2.44,2,  -0.001,2,   0.007,2,  2300.7,2,  -999.0,9,-999.000,9,-999.0000,9, -999.00,9, -999.00,9,  -999.0,9,  -999.0,-999.000,9,-999.000,     -999.0,-999.0000,-999.000,     1.4142,-999.000
  316N138_4,       P06C,     116,          1,         11,        129,2,19920614,       1914,   -32.5010,  -140.6682,       4925,  3346.5,   1.5966,  34.6813,2,  34.6922,4,    167.1,2,   168.0,2,  124.31,2,   34.47,2,    0.01,2,    2.44,2,-999.000,9,-999.000,9,  2298.8,2,  1138.8,2,-999.000,9,-999.0000,9, -999.00,9, -999.00,9,  -999.0,9,  -999.0,-999.000,9,-999.000,      20.20,-999.0000,-999.000,     1.3436,-999.000
  316N138_4,       P06C,     116,          1,         10,        110,2,19920614,       1914,   -32.5010,  -140.6682,       4925,  3550.3,   1.5440,  34.6874,2,  34.6793,4,    171.0,2,   173.7,3,  123.85,2,   34.23,2,    0.01,2,    2.40,2,-999.000,9,-999.000,9,  2295.1,2,  -999.0,9,-999.000,9,-999.0000,9, -999.00,9, -999.00,9,  -999.0,9,  -999.0,-999.000,9,-999.000,     -999.0,-999.0000,-999.000,     1.2716,-999.000
  316N138_4,       P06C,     116,          1,          9,        126,2,19920614,       1914,   -32.5010,  -140.6682,       4925,  3755.4,   1.4756,  34.6926,2,  34.6916,2,    175.9,2,   175.4,3,  122.85,2,   33.88,2,    0.00,2,    2.37,2,-999.000,9,-999.000,9,  2290.5,2,  1084.2,6,-999.000,9,-999.0000,9, -999.00,9, -999.00,9,  -999.0,9,  -999.0,-999.000,9,-999.000,      20.20,-999.0000,-999.000,     1.1835,-999.000
  316N138_4,       P06C,     116,          1,          8,        108,2,19920614,       1914,   -32.5010,  -140.6682,       4925,  3960.0,   1.4102,  34.6975,2,  34.6973,2,    181.5,2,   182.1,2,  121.69,2,   33.50,2,    0.01,2,    2.35,2,   0.000,2,   0.002,2,  2285.4,2,  -999.0,9,-999.000,9,-999.0000,9, -999.00,9, -999.00,9,  -999.0,9,  -999.0,-999.000,9,-999.000,     -999.0,-999.0000,-999.000,     1.0980,-999.000
  316N138_4,       P06C,     116,          1,          7,        107,2,19920614,       1914,   -32.5010,  -140.6682,       4925,  4163.2,   1.3583,  34.7015,2,  34.7007,2,    186.0,2,   185.0,3,  120.82,2,   33.22,2,    0.00,2,    2.32,2,-999.000,9,-999.000,9,  2281.7,2,  1069.4,2,-999.000,9,-999.0000,9, -999.00,9, -999.00,9,  -999.0,9,  -999.0,-999.000,9,-999.000,      20.20,-999.0000,-999.000,     1.0255,-999.000
  316N138_4,       P06C,     116,          1,          6,        180,2,19920614,       1914,   -32.5010,  -140.6682,       4925,  4367.4,   1.3237,  34.7040,2,  34.7056,2,    190.4,2,   191.0,2,  119.95,2,   32.99,2,    0.00,2,    2.31,2,-999.000,9,-999.000,9,  2276.8,2,  -999.0,9,-999.000,9,-999.0000,9, -999.00,9, -999.00,9,  -999.0,9,  -999.0,-999.000,9,-999.000,     -999.0,-999.0000,-999.000,     0.9692,-999.000
  316N138_4,       P06C,     116,          1,          5,        131,2,19920614,       1914,   -32.5010,  -140.6682,       4925,  4570.0,   1.3248,  34.7053,2,  34.7101,4,    192.0,2,   191.9,2,  119.81,2,   32.88,2,    0.01,2,    2.31,2,   0.001,2,   0.004,2,  2277.5,2,  1015.6,6,-999.000,9,-999.0000,9, -999.00,9, -999.00,9,  -999.0,9,  -999.0,-999.000,9,-999.000,      20.20,-999.0000,-999.000,     0.9471,-999.000
  316N138_4,       P06C,     116,          1,          4,        104,2,19920614,       1914,   -32.5010,  -140.6682,       4925,  4770.9,   1.3397,  34.7065,2,  34.7040,2,    192.8,2,   192.3,2,   99.65,4,   29.84,4,    0.00,4,    2.08,4,-999.000,9,-999.000,9,  2261.3,4,  -999.0,9,-999.000,9,-999.0000,9, -999.00,9, -999.00,9,  -999.0,9,  -999.0,-999.000,9,-999.000,     -999.0,-999.0000,-999.000,     0.9381,-999.000
  316N138_4,       P06C,     116,          1,          3,        130,2,19920614,       1914,   -32.5010,  -140.6682,       4925,  4977.8,   1.3541,  34.7067,2,  34.6983,4,    193.1,2,   193.0,2,  119.39,2,   32.79,2,    0.00,2,    2.30,2,-999.000,9,-999.000,9,  2276.3,2,  1085.8,2,-999.000,9,-999.0000,9, -999.00,9, -999.00,9,  -999.0,9,  -999.0,-999.000,9,-999.000,      20.20,-999.0000,-999.000,     0.9274,-999.000
  316N138_4,       P06C,     116,          1,          2,        135,2,19920614,       1914,   -32.5010,  -140.6682,       4925,  5025.3,   1.3548,  34.7069,2,  34.7056,2,    193.4,2,   190.7,3,  119.68,2,   32.92,2,    0.00,2,    2.29,2,   0.003,2,-999.000,5,  2276.1,2,  -999.0,9,-999.000,9,-999.0000,9, -999.00,9, -999.00,9,  -999.0,9,  -999.0,-999.000,9,-999.000,     -999.0,-999.0000,-999.000,     0.9223,-999.000