BOTTLE,20211025CCHSIORKP
EXPOCODE,SECT_ID,STNNBR,CASTNO,SAMPNO,BTLNBR,BTLNBR_FLAG_W,DATE,TIME,LATITUDE,LONGITUDE,DEPTH,CTDPRS,CTDTMP,CTDSAL,CTDSAL_FLAG_W,SALNTY,SALNTY_FLAG_W,CTDOXY,CTDOXY_FLAG_W,OXYGEN,OXYGEN_FLAG_W,SILCAT,SILCAT_FLAG_W,NITRAT,NITRAT_FLAG_W,NITRIT,NITRIT_FLAG_W,PHSPHT,PHSPHT_FLAG_W,CFC-11,CFC-11_FLAG_W,CFC-12,CFC-12_FLAG_W,TCARBN,TCARBN_FLAG_W,PCO2,PCO2_FLAG_W,TRITUM,TRITUM_FLAG_W,HELIUM,HELIUM_FLAG_W,DELHE3,DELHE3_FLAG_W,DELC13,DELC13_FLAG_W,DELC14,DELC14_FLAG_W,C14ERR,NEON,NEON_FLAG_W,NEONER,PCO2TMP,HELIER,DELHER,THETA,TRITER
,,,,,,,,,,,METERS,DBAR,ITS-90,PSS-78,,PSS-78,,UMOL/KG,,UMOL/KG,,UMOL/KG,,UMOL/KG,,UMOL/KG,,UMOL/KG,,PMOL/KG,,PMOL/KG,,UMOL/KG,,UATM,,TU,,NMOL/KG,,PERCNT,,/MILLE,,/MILLE,,/MILLE,NMOL/KG,,NMOL/KG,DEG_C,NMOL/KG,PERCNT,ITS-90,TU
  316N138_4,       P06C,     100,          1,         35,    02-9454,2,19920608,       2125,   -32.5038,  -129.9875,       3887,    17.8,  19.4808,  35.2614,2,  35.2643,2,    226.5,2,   227.4,2,    0.21,2,    0.01,2,    0.00,2,    0.12,2,   2.325,2,   1.228,2,  2018.4,6,   346.8,2,-999.000,9,-999.0000,9, -999.00,9,    1.38,2,   140.0,2,     3.7,-999.000,9,-999.000,      20.10,-999.0000,-999.000,    19.4776,-999.000
  316N138_4,       P06C,     100,          1,         36,    02-9121,2,19920608,       2125,   -32.5038,  -129.9875,       3887,    18.4,  19.4854,  35.2613,2,  35.2456,3,    226.5,2,  -999.0,9, -999.00,9, -999.00,9, -999.00,9, -999.00,9,-999.000,9,-999.000,9,  -999.0,9,  -999.0,9,-999.000,9,-999.0000,9, -999.00,9, -999.00,9,  -999.0,9,  -999.0,-999.000,9,-999.000,     -999.0,-999.0000,-999.000,    19.4821,-999.000
  316N138_4,       P06C,     100,          1,         34,    02-9457,2,19920608,       2125,   -32.5038,  -129.9875,       3887,    68.9,  19.4445,  35.2419,2,  35.2582,2,    227.1,2,   227.6,2,    0.21,2,    0.01,2,    0.00,2,    0.12,2,   2.336,2,   1.212,2,  2019.8,2,   355.6,2,-999.000,9,-999.0000,9, -999.00,9, -999.00,9,  -999.0,9,  -999.0,-999.000,9,-999.000,      20.10,-999.0000,-999.000,    19.4320,-999.000
  316N138_4,       P06C,     100,          1,         33,    02-5367,2,19920608,       2125,   -32.5038,  -129.9875,       3887,   118.0,  16.0733,  35.1173,2,  35.1181,2,    240.4,2,   233.9,2,    0.40,2,    0.22,2,    0.07,2,    0.21,2,-999.000,9,-999.000,9,  2044.1,2,  -999.0,9,-999.000,9,-999.0000,9, -999.00,9,    1.37,2,   135.9,2,     3.6,-999.000,9,-999.000,     -999.0,-999.0000,-999.000,    16.0546,-999.000
  316N138_4,       P06C,     100,          1,         32,    02-9540,2,19920608,       2125,   -32.5038,  -129.9875,       3887,   146.2,  15.4451,  35.0684,2,  35.0697,2,    228.2,2,   227.3,2,    0.58,2,    1.19,2,    0.11,2,    0.29,2,   2.612,2,   1.311,2,  2051.7,2,   459.7,2,-999.000,9,-999.0000,9, -999.00,9, -999.00,9,  -999.0,9,  -999.0,-999.000,9,-999.000,      20.10,-999.0000,-999.000,    15.4226,-999.000
  316N138_4,       P06C,     100,          1,         31,    02-9539,2,19920608,       2125,   -32.5038,  -129.9875,       3887,   175.4,  15.0106,  35.0282,2,  35.0297,2,    224.1,2,   225.2,2,    0.58,2,    1.92,2,    0.06,2,    0.34,2,-999.000,9,-999.000,9,  2056.2,2,  -999.0,9,-999.000,9,-999.0000,9, -999.00,9,    1.35,2,   130.7,2,     3.2,-999.000,9,-999.000,     -999.0,-999.0000,-999.000,    14.9840,-999.000
  316N138_4,       P06C,     100,          1,         30,    02-9456,2,19920608,       2125,   -32.5038,  -129.9875,       3887,   203.4,  14.4230,  34.9901,2,  34.9925,2,    218.8,2,   217.3,2,    0.76,2,    3.95,2,    0.00,2,    0.47,2,   2.516,2,-999.000,5,  2066.8,2,   494.1,2,-999.000,9,-999.0000,9, -999.00,9, -999.00,9,  -999.0,9,  -999.0,-999.000,9,-999.000,      20.10,-999.0000,-999.000,    14.3930,-999.000
  316N138_4,       P06C,     100,          1,         29,    02-9458,2,19920608,       2125,   -32.5038,  -129.9875,       3887,   250.4,  13.0564,  34.8918,2,  34.8957,2,    206.8,2,   203.0,2,    1.64,2,    8.61,2,    0.00,2,    0.74,2,   2.147,2,   1.058,2,  2089.5,2,  -999.0,9,-999.000,9,-999.0000,9, -999.00,9,    1.31,2,   107.4,2,     3.0,-999.000,9,-999.000,     -999.0,-999.0000,-999.000,    13.0218,-999.000
  316N138_4,       P06C,     100,          1,         28,    02-9545,2,19920608,       2125,   -32.5038,  -129.9875,       3887,   303.2,  10.9279,  34.6795,2,  34.7052,2,    207.2,2,   204.3,2,    2.70,2,   13.24,2,    0.00,2,    1.01,2,   1.828,2,   0.908,2,  2107.4,2,  -999.0,9,-999.000,9,-999.0000,9, -999.00,9,    1.27,2,    83.6,2,     3.2,-999.000,9,-999.000,     -999.0,-999.0000,-999.000,    10.8906,-999.000
  316N138_4,       P06C,     100,          1,         27,    02-9453,2,19920608,       2125,   -32.5038,  -129.9875,       3887,   350.1,   9.1715,  34.5162,2,  34.5209,2,    215.6,2,   215.6,2,    3.75,2,   17.25,2,    0.00,2,    1.24,2,   1.786,2,   0.901,2,  2120.7,2,   702.8,2,-999.000,9,-999.0000,9, -999.00,9, -999.00,9,  -999.0,9,  -999.0,-999.000,9,-999.000,      20.10,-999.0000,-999.000,     9.1329,-999.000
  316N138_4,       P06C,     100,          1,         26,    02-9544,2,19920608,       2125,   -32.5038,  -129.9875,       3887,   397.4,   8.0303,  34.4393,2,  34.4422,2,    225.5,2,   225.0,2,    4.81,2,   19.54,2,    0.00,2,    1.38,2,   1.741,2,   0.836,2,  2126.5,2,  -999.0,9,-999.000,9,-999.0000,9, -999.00,9, -999.00,9,  -999.0,9,  -999.0,-999.000,9,-999.000,     -999.0,-999.0000,-999.000,     7.9898,-999.000
  316N138_4,       P06C,     100,          1,         25,    02-9455,2,19920608,       2125,   -32.5038,  -129.9875,       3887,   447.4,   7.3623,  34.4081,2,  34.4092,2,    232.7,2,   235.7,2,    5.69,2,   20.66,2,    0.00,2,    1.44,2,   1.785,6,   0.849,6,  2129.2,2,  -999.0,9,-999.000,9,-999.0000,9, -999.00,9,    1.29,2,    40.6,2,     2.8,-999.000,9,-999.000,     -999.0,-999.0000,-999.000,     7.3188,-999.000
  316N138_4,       P06C,     100,          1,         24,        132,2,19920608,       2125,   -32.5038,  -129.9875,       3887,   522.7,   6.8251,  34.3765,2,  34.3778,2,    242.6,2,   243.5,2,    6.75,2,   21.69,2,    0.00,2,    1.49,2,   1.655,2,   0.856,2,  2130.1,2,   756.9,6,-999.000,9,-999.0000,9, -999.00,9,    1.35,2,    18.2,2,     3.0,-999.000,9,-999.000,      20.10,-999.0000,-999.000,     6.7762,-999.000
  316N138_4,       P06C,     100,          1,         23,        123,2,19920608,       2125,   -32.5038,  -129.9875,       3887,   598.1,   6.4746,  34.3532,2,  34.3566,2,    243.7,2,   243.2,2,    7.98,2,   22.73,2,    0.00,2,    1.55,2,   1.236,6,   0.617,6,  2132.6,2,  -999.0,9,-999.000,9,-999.0000,9, -999.00,9,    1.30,2,     5.3,2,     2.9,-999.000,9,-999.000,     -999.0,-999.0000,-999.000,     6.4200,-999.000
  316N138_4,       P06C,     100,          1,         22,        128,2,19920608,       2125,   -32.5038,  -129.9875,       3887,   669.3,   6.1844,  34.3324,2,  34.3741,4,    242.0,2,   241.9,2,    9.39,2,   23.72,2,    0.00,2,    1.62,2,   0.929,6,   0.469,2,  2137.2,2,  -999.0,9,-999.000,9,-999.0000,9, -999.00,9,    1.31,2,   -14.1,2,     4.5,-999.000,9,-999.000,     -999.0,-999.0000,-999.000,     6.1244,-999.000
  316N138_4,       P06C,     100,          1,         21,        121,3,19920608,       2125,   -32.5038,  -129.9875,       3887,   741.9,   5.8322,  34.3142,2,  34.3248,3,    239.2,2,   237.2,2,   11.50,2,   24.71,2,    0.00,2,    1.70,2,-999.000,9,-999.000,9,  2143.3,2,   845.6,2,-999.000,9,-999.0000,9, -999.00,9,    1.27,2,   -32.5,2,     4.6,-999.000,9,-999.000,      20.10,-999.0000,-999.000,     5.7673,-999.000
  316N138_4,       P06C,     100,          1,         20,        120,2,19920608,       2125,   -32.5038,  -129.9875,       3887,   811.6,   5.4907,  34.3020,2,  34.3040,2,    232.9,2,   228.4,2,   14.84,2,   26.40,2,    0.00,2,    1.80,2,   0.536,6,   0.277,6,  2152.6,2,  -999.0,9,-999.000,9,-999.0000,9, -999.00,9,    1.21,2,   -50.8,2,     3.8,-999.000,9,-999.000,     -999.0,-999.0000,-999.000,     5.4214,-999.000
  316N138_4,       P06C,     100,          1,         19,        133,2,19920608,       2125,   -32.5038,  -129.9875,       3887,   885.6,   5.1282,  34.2997,2,  34.3007,2,    222.0,2,   220.0,2,   19.06,2,   27.92,2,    0.00,2,    1.90,2,   0.396,2,-999.000,5,  2163.3,2,  -999.0,9,-999.000,9,-999.0000,9, -999.00,9,    1.13,2,   -63.2,2,     3.7,-999.000,9,-999.000,     -999.0,-999.0000,-999.000,     5.0546,-999.000
  316N138_4,       P06C,     100,          1,         18,        118,2,19920608,       2125,   -32.5038,  -129.9875,       3887,   984.5,   4.5352,  34.3177,2,  34.3174,2,    208.0,2,   204.1,2,   28.53,2,   30.37,2,    0.00,2,    2.07,2,   0.182,2,   0.096,2,  2184.0,6,  1003.0,6,-999.000,9,-999.0000,9, -999.00,9, -999.00,9,  -999.0,9,  -999.0,-999.000,9,-999.000,      20.10,-999.0000,-999.000,     4.4571,-999.000
  316N138_4,       P06C,     100,          1,         17,        117,2,19920608,       2125,   -32.5038,  -129.9875,       3887,  1082.9,   4.1030,  34.3412,2,  34.3382,2,    194.7,2,   194.1,2,   36.27,2,   31.80,2,    0.00,2,    2.18,2,   0.112,2,   0.069,2,  2199.5,2,  -999.0,9,-999.000,9,-999.0000,9, -999.00,9,    0.86,2,  -106.0,2,     3.7,-999.000,9,-999.000,     -999.0,-999.0000,-999.000,     4.0198,-999.000
  316N138_4,       P06C,     100,          1,         16,        116,2,19920608,       2125,   -32.5038,  -129.9875,       3887,  1230.3,   3.4722,  34.4018,2,  34.4014,2,    178.4,2,   178.1,2,   51.37,2,   33.69,2,    0.00,2,    2.31,2,   0.033,2,   0.019,2,  2224.1,2,  -999.0,9,-999.000,9,   1.8860,2,    6.51,2,    0.67,2,  -131.3,2,     3.7,   8.102,2,   0.019,     -999.0,   0.0040,   0.150,     3.3822,-999.000
  316N138_4,       P06C,     100,          1,         15,        115,2,19920608,       2125,   -32.5038,  -129.9875,       3887,  1374.8,   2.9853,  34.4778,2,  34.4756,2,    169.5,2,   168.2,2,   66.81,2,   34.60,2,    0.00,2,    2.38,2,   0.005,2,   0.007,2,  2246.0,2,  1241.5,3,-999.000,9,   1.9020,2,    9.80,2,    0.47,2,  -153.1,2,     4.1,   8.146,2,   0.019,      20.10,   0.0040,   0.150,     2.8882,-999.000
  316N138_4,       P06C,     100,          1,         14,        114,2,19920608,       2125,   -32.5038,  -129.9875,       3887,  1580.4,   2.5446,  34.5631,2,  34.5620,2,    161.6,2,   160.5,2,   85.95,2,   34.93,2,    0.00,2,    2.42,2,   0.001,2,  -0.001,2,  2268.0,2,  -999.0,9,-999.000,9,   1.9230,2,   14.65,2,    0.33,2,  -173.2,2,     2.4,   8.193,2,   0.019,     -999.0,   0.0040,   0.150,     2.4356,-999.000
  316N138_4,       P06C,     100,          1,         13,        125,2,19920608,       2125,   -32.5038,  -129.9875,       3887,  1782.6,   2.3043,  34.6048,2,  34.6071,2,    156.8,2,   158.2,2,   99.29,2,   35.27,2,    0.00,2,    2.46,2,-999.000,9,-999.000,9,  2282.6,2,  -999.0,9,-999.000,9,   1.8960,2,   19.02,2,    0.27,2,  -192.2,2,     3.7,   7.605,2,   0.017,     -999.0,   0.0040,   0.150,     2.1817,-999.000
  316N138_4,       P06C,     100,          1,         12,        112,2,19920608,       2125,   -32.5038,  -129.9875,       3887,  1979.8,   2.1062,  34.6306,2,  34.6344,2,    155.1,2,   154.8,2,  109.46,2,   35.41,2,    0.00,2,    2.48,2,   0.000,2,   0.002,2,  2293.0,2,  1197.2,6,-999.000,9,   1.9580,2,   20.64,2, -999.00,9,  -999.0,9,  -999.0,   8.319,2,   0.019,      20.10,   0.0040,   0.150,     1.9699,-999.000
  316N138_4,       P06C,     100,          1,         11,        129,2,19920608,       2125,   -32.5038,  -129.9875,       3887,  2174.7,   1.9616,  34.6479,2,  34.6421,3,    154.9,2,   154.4,2,  116.13,2,   35.46,2,    0.00,2,    2.49,2,-999.000,9,-999.000,9,  2298.9,2,  -999.0,9,-999.000,9,   1.9600,2,   22.01,2,    0.13,2,  -209.2,2,     2.9,   8.324,2,   0.019,     -999.0,   0.0040,   0.150,     1.8109,-999.000
  316N138_4,       P06C,     100,          1,         10,        110,2,19920608,       2125,   -32.5038,  -129.9875,       3887,  2370.3,   1.8433,  34.6568,2,  34.6565,2,    156.2,2,   156.6,2,  119.63,2,   35.46,2,    0.00,2,    2.48,2,-999.000,9,-999.000,9,  2301.3,2,  -999.0,9,-999.000,9,   1.9720,2,   22.43,2, -999.00,9,  -999.0,9,  -999.0,   8.316,2,   0.019,     -999.0,   0.0040,   0.150,     1.6774,-999.000
  316N138_4,       P06C,     100,          1,          9,        126,2,19920608,       2125,   -32.5038,  -129.9875,       3887,  2565.1,   1.7735,  34.6630,2,  34.6625,2,    158.4,2,   158.5,2,  121.04,2,   35.37,2,    0.00,2,    2.48,2,   0.000,2,  -0.003,2,  2302.5,2,  1142.8,2,-999.000,9,   1.9680,2,   21.66,2,    0.21,2,  -212.1,2,     2.4,   8.333,2,   0.019,      20.10,   0.0040,   0.150,     1.5915,-999.000
  316N138_4,       P06C,     100,          1,          8,        108,2,19920608,       2125,   -32.5038,  -129.9875,       3887,  2764.7,   1.7255,  34.6672,2,  34.6667,2,    161.3,2,   162.4,2,  121.57,2,   35.27,2,    0.00,2,    2.47,2,-999.000,9,-999.000,9,  2300.4,2,  -999.0,9,-999.000,9,   1.9710,2,   20.83,2,    0.19,2,  -205.5,2,     4.4,   8.352,2,   0.019,     -999.0,   0.0040,   0.150,     1.5261,-999.000
  316N138_4,       P06C,     100,          1,          7,        107,2,19920608,       2125,   -32.5038,  -129.9875,       3887,  2966.9,   1.6649,  34.6727,2,  34.6749,2,    163.9,2,   165.0,2,  121.92,2,   35.13,2,    0.00,2,    2.45,2,-999.000,9,-999.000,9,  2299.2,2,  1152.5,2,-999.000,9,   1.9690,2,   20.16,2, -999.00,9,  -999.0,9,  -999.0,   8.383,2,   0.019,      20.10,   0.0040,   0.150,     1.4477,-999.000
  316N138_4,       P06C,     100,          1,          6,        180,2,19920608,       2125,   -32.5038,  -129.9875,       3887,  3168.5,   1.6305,  34.6773,2,  34.6763,2,    166.6,2,   165.9,2,  122.08,2,   34.99,2,    0.00,2,    2.44,2,   0.001,2,   0.003,2,  2297.3,2,  -999.0,9,-999.000,9,-999.0000,9, -999.00,9,    0.22,2,  -200.1,2,     2.7,-999.000,9,-999.000,     -999.0,-999.0000,-999.000,     1.3945,-999.000
  316N138_4,       P06C,     100,          1,          5,        131,2,19920608,       2125,   -32.5038,  -129.9875,       3887,  3370.3,   1.6061,  34.6802,2,  34.6808,2,    168.9,2,   169.6,2,  122.26,2,   34.90,2,    0.00,2,    2.44,2,-999.000,9,-999.000,9,  2296.3,2,  1112.4,2,-999.000,9,-999.0000,9, -999.00,9,    0.23,2,  -203.5,2,     2.7,-999.000,9,-999.000,      20.10,-999.0000,-999.000,     1.3505,-999.000
  316N138_4,       P06C,     100,          1,          4,        104,2,19920608,       2125,   -32.5038,  -129.9875,       3887,  3575.5,   1.5769,  34.6836,2,  34.6840,2,    171.2,2,   177.5,3,  121.91,2,   34.72,2,    0.00,2,    2.43,2,  -0.003,2,  -0.002,2,  2294.1,2,  -999.0,9,-999.000,9,   1.8940,2,   18.34,2,    0.24,2,  -201.9,2,     3.1,   7.938,2,   0.018,     -999.0,   0.0040,   0.150,     1.3010,-999.000
  316N138_4,       P06C,     100,          1,          3,        130,2,19920608,       2125,   -32.5038,  -129.9875,       3887,  3783.3,   1.5738,  34.6856,2,  34.6846,2,    173.8,2,   174.1,2,  122.01,2,   34.34,2,    0.00,2,    2.39,2,-999.000,9,-999.000,9,  2293.7,2,  1109.1,2,-999.000,9,-999.0000,9, -999.00,9, -999.00,9,  -999.0,9,  -999.0,-999.000,9,-999.000,      20.10,-999.0000,-999.000,     1.2762,-999.000
  316N138_4,       P06C,     100,          1,          2,        135,2,19920608,       2125,   -32.5038,  -129.9875,       3887,  3994.9,   1.5638,  34.6876,2,  34.6897,2,    175.8,2,   174.7,2,  121.66,2,   34.25,2,    0.00,2,    2.39,2,   0.003,2,-999.000,5,  2292.5,2,  -999.0,9,-999.000,9,   1.9600,2,   16.70,2,    0.26,2,  -198.0,2,     2.4,   8.354,2,   0.019,     -999.0,   0.0040,   0.150,     1.2436,-999.000
  316N138_4,       P06C,     100,          1,          1,        134,2,19920608,       2125,   -32.5038,  -129.9875,       3887,  4144.9,   1.5566,  34.6896,2,  34.6901,2,    175.8,2,   176.5,2,  121.51,2,   33.97,2,    0.00,2,    2.40,2,   0.005,6,   0.004,6,  2290.0,6,  1122.8,2,-999.000,9,   1.9640,2,   16.56,2, -999.00,9,  -999.0,9,  -999.0,   8.363,2,   0.019,      20.10,   0.0040,   0.150,     1.2201,-999.000