BOTTLE,20211025CCHSIORKP
EXPOCODE,SECT_ID,STNNBR,CASTNO,SAMPNO,BTLNBR,BTLNBR_FLAG_W,DATE,TIME,LATITUDE,LONGITUDE,DEPTH,CTDPRS,CTDTMP,CTDSAL,CTDSAL_FLAG_W,SALNTY,SALNTY_FLAG_W,CTDOXY,CTDOXY_FLAG_W,OXYGEN,OXYGEN_FLAG_W,SILCAT,SILCAT_FLAG_W,NITRAT,NITRAT_FLAG_W,NITRIT,NITRIT_FLAG_W,PHSPHT,PHSPHT_FLAG_W,CFC-11,CFC-11_FLAG_W,CFC-12,CFC-12_FLAG_W,TCARBN,TCARBN_FLAG_W,PCO2,PCO2_FLAG_W,TRITUM,TRITUM_FLAG_W,HELIUM,HELIUM_FLAG_W,DELHE3,DELHE3_FLAG_W,DELC13,DELC13_FLAG_W,DELC14,DELC14_FLAG_W,C14ERR,NEON,NEON_FLAG_W,NEONER,PCO2TMP,HELIER,DELHER,THETA,TRITER
,,,,,,,,,,,METERS,DBAR,ITS-90,PSS-78,,PSS-78,,UMOL/KG,,UMOL/KG,,UMOL/KG,,UMOL/KG,,UMOL/KG,,UMOL/KG,,PMOL/KG,,PMOL/KG,,UMOL/KG,,UATM,,TU,,NMOL/KG,,PERCNT,,/MILLE,,/MILLE,,/MILLE,NMOL/KG,,NMOL/KG,DEG_C,NMOL/KG,PERCNT,ITS-90,TU
  316N138_4,       P06C,      91,          1,         36,    02-9121,2,19920606,       0710,   -32.4980,  -123.9975,       2288,    16.6,  19.8542,  35.1253,2,  35.1260,2,    234.5,2,   227.3,2,    0.21,2,    0.03,2,    0.01,2,    0.11,2,-999.000,9,-999.000,9,  2010.6,2,  -999.0,9,   0.759,2,   1.7800,2,   -1.32,2, -999.00,9,  -999.0,9,  -999.0,   7.175,2,   0.016,     -999.0,   0.0040,   0.150,    19.8512,   0.005
  316N138_4,       P06C,      91,          1,         35,    02-9454,2,19920606,       0710,   -32.4980,  -123.9975,       2288,    46.6,  19.8902,  35.1671,2,  35.1671,2,    228.2,2,   227.1,2,    0.22,2,    0.03,2,    0.01,2,    0.11,2,-999.000,9,-999.000,9,  -999.0,9,  -999.0,9,   0.769,2,   1.7610,2,   -1.10,2, -999.00,9,  -999.0,9,  -999.0,   7.107,2,   0.016,     -999.0,   0.0040,   0.150,    19.8817,   0.005
  316N138_4,       P06C,      91,          1,         34,    02-9457,2,19920606,       0710,   -32.4980,  -123.9975,       2288,    85.5,  19.6193,  35.1659,2,  35.1547,2,    232.1,2,   231.9,2,    0.22,2,    0.04,2,    0.00,2,    0.12,2,-999.000,9,-999.000,9,  2015.0,6,   335.3,6,   0.695,2,   1.7860,2,   -1.34,2, -999.00,9,  -999.0,9,  -999.0,   7.187,2,   0.016,      20.10,   0.0040,   0.150,    19.6037,   0.004
  316N138_4,       P06C,      91,          1,         33,    02-5367,2,19920606,       0710,   -32.4980,  -123.9975,       2288,   115.4,  17.1888,  35.1460,2,  35.1065,2,    237.7,2,   240.7,2,    0.22,2,    0.03,2,    0.01,2,    0.16,2,-999.000,9,-999.000,9,  -999.0,9,  -999.0,9,   0.712,2,   1.8080,2,   -1.44,2, -999.00,9,  -999.0,9,  -999.0,   7.349,2,   0.017,     -999.0,   0.0040,   0.150,    17.1696,   0.004
  316N138_4,       P06C,      91,          1,         32,    02-9540,2,19920606,       0710,   -32.4980,  -123.9975,       2288,   155.3,  16.1019,  35.0499,2,  35.0392,2,    227.0,2,   227.7,2,    0.41,2,    0.48,2,    0.17,2,    0.25,2,-999.000,9,-999.000,9,  -999.0,9,  -999.0,9,   0.659,2,   1.8120,2,   -1.19,2, -999.00,9,  -999.0,9,  -999.0,   7.440,2,   0.017,     -999.0,   0.0040,   0.150,    16.0773,   0.004
  316N138_4,       P06C,      91,          1,         31,    02-9539,2,19920606,       0710,   -32.4980,  -123.9975,       2288,   204.5,  14.9102,  34.9827,2,  34.9791,2,    214.0,2,   212.9,2,    0.78,2,    4.03,2,    0.01,2,    0.45,2,-999.000,9,-999.000,9,  2065.3,2,   456.3,2,   0.573,2,   1.8070,2,   -0.58,2, -999.00,9,  -999.0,9,  -999.0,   7.483,2,   0.017,      20.10,   0.0040,   0.150,    14.8794,   0.004
  316N138_4,       P06C,      91,          1,         30,    02-9456,2,19920606,       0710,   -32.4980,  -123.9975,       2288,   254.7,  13.4576,  34.8916,2,  34.8881,2,    200.9,2,   203.4,2,    1.33,2,    8.08,2,    0.00,2,    0.69,2,-999.000,9,-999.000,9,  -999.0,9,  -999.0,9,-999.000,9,-999.0000,9, -999.00,9, -999.00,9,  -999.0,9,  -999.0,-999.000,9,-999.000,     -999.0,-999.0000,-999.000,    13.4217,-999.000
  316N138_4,       P06C,      91,          1,         29,    02-9458,2,19920606,       0710,   -32.4980,  -123.9975,       2288,   304.5,  11.4432,  34.7170,2,  34.7148,2,    205.1,2,   203.7,2,    2.60,2,   12.71,2,    0.00,2,    0.97,2,-999.000,9,-999.000,9,  2104.9,2,   603.0,2,   0.414,2,   1.8120,2,    0.20,2, -999.00,9,  -999.0,9,  -999.0,   7.647,2,   0.018,      20.10,   0.0040,   0.150,    11.4046,   0.003
  316N138_4,       P06C,      91,          1,         28,    02-9545,2,19920606,       0710,   -32.4980,  -123.9975,       2288,   355.2,   9.7838,  34.5559,2,  34.5521,2,    212.3,2,   212.1,2,    3.33,2,   16.12,2,    0.00,2,    1.16,2,-999.000,9,-999.000,9,  -999.0,9,  -999.0,9,-999.000,9,-999.0000,9, -999.00,9, -999.00,9,  -999.0,9,  -999.0,-999.000,9,-999.000,     -999.0,-999.0000,-999.000,     9.7430,-999.000
  316N138_4,       P06C,      91,          1,         27,    02-9453,3,19920606,       0710,   -32.4980,  -123.9975,       2288,   404.3,   8.2902,  34.4447,2,  34.5305,4,    225.4,2,   223.9,3,    3.87,2,   16.15,3,    0.01,2,    1.15,3,-999.000,9,-999.000,9,  2111.1,2,   607.9,2,-999.000,9,-999.0000,9, -999.00,9, -999.00,9,  -999.0,9,  -999.0,-999.000,9,-999.000,      20.10,-999.0000,-999.000,     8.2482,-999.000
  316N138_4,       P06C,      91,          1,         26,    02-9544,2,19920606,       0710,   -32.4980,  -123.9975,       2288,   456.6,   7.4925,  34.4057,2,  34.4088,2,    236.0,2,   234.7,2,    5.50,2,   20.44,2,    0.00,2,    1.41,2,-999.000,9,-999.000,9,  -999.0,9,  -999.0,9,   0.232,2,   1.8340,2,   -0.20,2, -999.00,9,  -999.0,9,  -999.0,   7.851,2,   0.018,     -999.0,   0.0040,   0.150,     7.4477,   0.003
  316N138_4,       P06C,      91,          1,         25,    02-9455,2,19920606,       0710,   -32.4980,  -123.9975,       2288,   504.8,   7.0627,  34.3884,2,  34.3882,2,    243.6,2,   231.3,3,    6.23,2,   21.15,2,    0.00,2,    1.44,2,-999.000,9,-999.000,9,  2130.9,2,   710.0,2,-999.000,9,-999.0000,9, -999.00,9, -999.00,9,  -999.0,9,  -999.0,-999.000,9,-999.000,      20.10,-999.0000,-999.000,     7.0146,-999.000
  316N138_4,       P06C,      91,          1,         24,        132,2,19920606,       0710,   -32.4980,  -123.9975,       2288,   554.6,   6.7938,  34.3752,2,  34.3731,2,    246.7,2,   247.3,2,    6.95,2,   21.69,2,    0.00,2,    1.47,2,-999.000,9,-999.000,9,  -999.0,9,  -999.0,9,-999.000,9,-999.0000,9, -999.00,9, -999.00,9,  -999.0,9,  -999.0,-999.000,9,-999.000,     -999.0,-999.0000,-999.000,     6.7419,-999.000
  316N138_4,       P06C,      91,          1,         23,        123,2,19920606,       0710,   -32.4980,  -123.9975,       2288,   606.1,   6.5699,  34.3599,2,  34.3613,2,    248.0,2,   244.5,2,    7.68,2,   22.30,2,    0.00,2,    1.51,2,-999.000,9,-999.000,9,  2134.1,2,   714.1,2,   0.231,2,   1.8330,2,   -0.12,2, -999.00,9,  -999.0,9,  -999.0,   7.931,2,   0.018,      20.10,   0.0040,   0.150,     6.5140,   0.003
  316N138_4,       P06C,      91,          1,         22,        128,2,19920606,       0710,   -32.4980,  -123.9975,       2288,   656.7,   6.4120,  34.3488,2,  34.3490,2,    246.5,2,   244.9,2,    8.22,2,   22.84,2,    0.01,2,    1.55,2,-999.000,9,-999.000,9,  -999.0,9,  -999.0,9,   0.207,2,   1.8390,2,    0.01,2, -999.00,9,  -999.0,9,  -999.0,   7.966,2,   0.018,     -999.0,   0.0040,   0.150,     6.3520,   0.003
  316N138_4,       P06C,      91,          1,         21,        121,2,19920606,       0710,   -32.4980,  -123.9975,       2288,   707.0,   6.1960,  34.3341,2,  34.3323,2,    245.9,2,   243.8,2,    9.30,2,   23.60,2,    0.00,2,    1.60,2,-999.000,9,-999.000,9,  2138.6,2,   723.3,2,-999.000,9,-999.0000,9, -999.00,9, -999.00,9,  -999.0,9,  -999.0,-999.000,9,-999.000,      20.10,-999.0000,-999.000,     6.1324,-999.000
  316N138_4,       P06C,      91,          1,         20,        120,2,19920606,       0710,   -32.4980,  -123.9975,       2288,   757.9,   5.9092,  34.3189,2,  34.3172,2,    243.5,2,   240.4,2,   10.56,2,   24.41,2,    0.00,2,    1.65,2,-999.000,9,-999.000,9,  -999.0,9,  -999.0,9,   0.147,2,   1.8440,2,    0.19,2, -999.00,9,  -999.0,9,  -999.0,   7.987,2,   0.018,     -999.0,   0.0040,   0.150,     5.8423,   0.002
  316N138_4,       P06C,      91,          1,         19,        133,2,19920606,       0710,   -32.4980,  -123.9975,       2288,   807.7,   5.6542,  34.3039,2,  34.3036,2,    238.7,2,   235.1,2,   12.54,2,   25.47,2,    0.00,2,    1.72,2,-999.000,9,-999.000,9,  2148.4,2,   784.0,6,-999.000,9,-999.0000,9, -999.00,9, -999.00,9,  -999.0,9,  -999.0,-999.000,9,-999.000,      20.10,-999.0000,-999.000,     5.5844,-999.000
  316N138_4,       P06C,      91,          1,         18,        118,2,19920606,       0710,   -32.4980,  -123.9975,       2288,   882.4,   5.2154,  34.2956,2,  34.2944,2,    226.4,2,   223.6,2,   17.23,2,   27.45,2,    0.00,2,    1.85,2,-999.000,9,-999.000,9,  -999.0,9,  -999.0,9,   0.074,2,   1.8520,2,    0.45,2, -999.00,9,  -999.0,9,  -999.0,   8.019,2,   0.018,     -999.0,   0.0040,   0.150,     5.1416,   0.002
  316N138_4,       P06C,      91,          1,         17,        117,2,19920606,       0710,   -32.4980,  -123.9975,       2288,   964.8,   4.7857,  34.3012,2,  34.3001,2,    214.0,2,   212.4,2,   23.53,2,   29.34,2,    0.00,2,    1.99,2,-999.000,9,-999.000,9,  -999.0,9,  -999.0,9,-999.000,9,-999.0000,9, -999.00,9, -999.00,9,  -999.0,9,  -999.0,-999.000,9,-999.000,     -999.0,-999.0000,-999.000,     4.7074,-999.000
  316N138_4,       P06C,      91,          1,         16,        116,2,19920606,       0710,   -32.4980,  -123.9975,       2288,  1040.4,   4.3589,  34.3219,2,  34.3195,2,    201.6,3,   196.8,2,   31.45,2,   31.29,2,    0.00,2,    2.11,2,-999.000,9,-999.000,9,  -999.0,9,  -999.0,9,   0.026,2,   1.8680,2,    2.16,2, -999.00,9,  -999.0,9,  -999.0,   8.079,2,   0.019,     -999.0,   0.0040,   0.150,     4.2772,   0.002
  316N138_4,       P06C,      91,          1,         15,        115,2,19920606,       0710,   -32.4980,  -123.9975,       2288,  1115.2,   3.9609,  34.3532,2,  34.3531,2,    190.3,2,   187.0,2,   40.26,2,   32.73,2,   -0.01,2,    2.23,2,-999.000,9,-999.000,9,  2211.9,2,  1018.9,2,   0.012,2,   1.7790,2,    4.43,2, -999.00,9,  -999.0,9,  -999.0,   7.408,2,   0.017,      20.10,   0.0040,   0.150,     3.8763,   0.002
  316N138_4,       P06C,      91,          1,         14,        114,2,19920606,       0710,   -32.4980,  -123.9975,       2288,  1190.4,   3.6021,  34.3928,2,  34.3925,2,    178.8,3,   173.5,2,   49.97,2,   33.95,2,    0.00,2,    2.32,2,-999.000,9,-999.000,9,  -999.0,9,  -999.0,9,-999.000,9,-999.0000,9, -999.00,9, -999.00,9,  -999.0,9,  -999.0,-999.000,9,-999.000,     -999.0,-999.0000,-999.000,     3.5143,-999.000
  316N138_4,       P06C,      91,          1,         13,        125,2,19920606,       0710,   -32.4980,  -123.9975,       2288,  1264.3,   3.3183,  34.4322,2,  34.4302,2,    173.7,2,   169.9,2,   58.04,2,   34.53,2,    0.00,2,    2.37,2,-999.000,9,-999.000,9,  2237.5,2,  1121.5,2,-999.000,9,-999.0000,9, -999.00,9, -999.00,9,  -999.0,9,  -999.0,-999.000,9,-999.000,      20.10,-999.0000,-999.000,     3.2268,-999.000
  316N138_4,       P06C,      91,          1,         12,        112,2,19920606,       0710,   -32.4980,  -123.9975,       2288,  1310.7,   3.2283,  34.4454,2,  34.4463,2,    170.1,2,   167.0,2,   61.25,2,   34.73,2,    0.00,2,    2.38,2,-999.000,9,-999.000,9,  -999.0,9,  -999.0,9,   0.004,2,   1.8970,2,    8.37,2, -999.00,9,  -999.0,9,  -999.0,   8.108,2,   0.019,     -999.0,   0.0040,   0.150,     3.1339,   0.001
  316N138_4,       P06C,      91,          1,         11,        129,2,19920606,       0710,   -32.4980,  -123.9975,       2288,  1385.3,   3.0414,  34.4754,2,  34.4724,2,    167.0,2,   166.9,2,   66.79,2,   34.99,2,    0.00,2,    2.40,2,-999.000,9,-999.000,9,  -999.0,9,  -999.0,9,-999.000,9,-999.0000,9, -999.00,9, -999.00,9,  -999.0,9,  -999.0,-999.000,9,-999.000,     -999.0,-999.0000,-999.000,     2.9428,-999.000
  316N138_4,       P06C,      91,          1,         10,        110,2,19920606,       0710,   -32.4980,  -123.9975,       2288,  1484.3,   2.8465,  34.5088,2,  34.5076,2,    164.8,2,   163.8,2,   73.95,2,   34.89,2,    0.00,2,    2.40,2,-999.000,9,-999.000,9,  -999.0,9,  -999.0,9,   0.000,2,   1.9140,2,   11.37,2, -999.00,9,  -999.0,9,  -999.0,   8.169,2,   0.019,     -999.0,   0.0040,   0.150,     2.7418,   0.001
  316N138_4,       P06C,      91,          1,          9,        126,2,19920606,       0710,   -32.4980,  -123.9975,       2288,  1584.5,   2.6576,  34.5453,2,  34.5445,2,    161.9,2,   162.0,2,   81.81,2,   34.94,2,    0.00,2,    2.43,2,-999.000,9,-999.000,9,  2265.1,2,  1149.2,2,-999.000,9,-999.0000,9, -999.00,9, -999.00,9,  -999.0,9,  -999.0,-999.000,9,-999.000,      20.10,-999.0000,-999.000,     2.5469,-999.000
  316N138_4,       P06C,      91,          1,          8,        108,2,19920606,       0710,   -32.4980,  -123.9975,       2288,  1687.1,   2.4337,  34.5860,2,  34.5883,2,    159.8,2,   159.4,2,   92.70,2,   34.98,2,    0.00,2,    2.44,2,-999.000,9,-999.000,9,  -999.0,9,  -999.0,9,-999.000,9,-999.0000,9, -999.00,9, -999.00,9,  -999.0,9,  -999.0,-999.000,9,-999.000,     -999.0,-999.0000,-999.000,     2.3172,-999.000
  316N138_4,       P06C,      91,          1,          7,        107,2,19920606,       0710,   -32.4980,  -123.9975,       2288,  1792.1,   2.3207,  34.6035,2,  34.6040,2,    158.2,2,   157.6,2,   98.76,2,   35.03,2,    0.00,2,    2.45,2,-999.000,9,-999.000,9,  2290.6,2,  1145.2,2,-999.000,9,-999.0000,9, -999.00,9, -999.00,9,  -999.0,9,  -999.0,-999.000,9,-999.000,      20.10,-999.0000,-999.000,     2.1971,-999.000
  316N138_4,       P06C,      91,          1,          6,        180,2,19920606,       0710,   -32.4980,  -123.9975,       2288,  1893.3,   2.2048,  34.6227,2,  34.6207,2,    157.0,2,   156.2,2,  104.80,2,   35.14,2,    0.00,2,    2.46,2,-999.000,9,-999.000,9,  -999.0,9,  -999.0,9,-999.000,9,-999.0000,9, -999.00,9, -999.00,9,  -999.0,9,  -999.0,-999.000,9,-999.000,     -999.0,-999.0000,-999.000,     2.0743,-999.000
  316N138_4,       P06C,      91,          1,          5,        131,2,19920606,       0710,   -32.4980,  -123.9975,       2288,  2020.7,   2.1068,  34.6347,2,  34.6344,2,    156.4,2,   155.1,2,  109.41,2,   35.14,2,    0.00,2,    2.48,2,-999.000,9,-999.000,9,  -999.0,9,  -999.0,9,-999.000,9,-999.0000,9, -999.00,9, -999.00,9,  -999.0,9,  -999.0,-999.000,9,-999.000,     -999.0,-999.0000,-999.000,     1.9670,-999.000
  316N138_4,       P06C,      91,          1,          4,        104,2,19920606,       0710,   -32.4980,  -123.9975,       2288,  2170.7,   1.9609,  34.6491,2,  34.6484,2,    157.2,2,   156.7,2,  115.08,2,   35.14,2,    0.00,2,    2.48,2,-999.000,9,-999.000,9,  -999.0,9,  -999.0,9,-999.000,9,-999.0000,9, -999.00,9, -999.00,9,  -999.0,9,  -999.0,-999.000,9,-999.000,     -999.0,-999.0000,-999.000,     1.8105,-999.000
  316N138_4,       P06C,      91,          1,          3,        130,2,19920606,       0710,   -32.4980,  -123.9975,       2288,  2292.3,   1.9039,  34.6546,2,  34.6541,2,    156.7,2,   156.7,2,  117.17,2,   35.14,2,    0.00,2,    2.47,2,-999.000,9,-999.000,9,  -999.0,9,  -999.0,9,-999.000,9,-999.0000,9, -999.00,9, -999.00,9,  -999.0,9,  -999.0,-999.000,9,-999.000,     -999.0,-999.0000,-999.000,     1.7439,-999.000
  316N138_4,       P06C,      91,          1,          2,        135,2,19920606,       0710,   -32.4980,  -123.9975,       2288,  2343.7,   1.8580,  34.6590,2,  34.6602,2,    157.6,2,   157.5,2,  118.19,2,   35.09,2,    0.00,2,    2.48,2,-999.000,9,-999.000,9,  -999.0,9,  -999.0,9,-999.000,9,-999.0000,9, -999.00,9, -999.00,9,  -999.0,9,  -999.0,-999.000,9,-999.000,     -999.0,-999.0000,-999.000,     1.6942,-999.000
  316N138_4,       P06C,      91,          1,          1,        134,2,19920606,       0710,   -32.4980,  -123.9975,       2288,  2379.7,   1.8600,  34.6582,2,  34.6594,2,    153.7,3,   159.4,2,  117.72,2,   35.05,2,    0.00,2,    2.46,2,-999.000,9,-999.000,9,  2301.2,2,  1128.6,6,-999.000,9,-999.0000,9, -999.00,9, -999.00,9,  -999.0,9,  -999.0,-999.000,9,-999.000,      20.10,-999.0000,-999.000,     1.6930,-999.000