BOTTLE,20211025CCHSIORKP
EXPOCODE,SECT_ID,STNNBR,CASTNO,SAMPNO,BTLNBR,BTLNBR_FLAG_W,DATE,TIME,LATITUDE,LONGITUDE,DEPTH,CTDPRS,CTDTMP,CTDSAL,CTDSAL_FLAG_W,SALNTY,SALNTY_FLAG_W,CTDOXY,CTDOXY_FLAG_W,OXYGEN,OXYGEN_FLAG_W,SILCAT,SILCAT_FLAG_W,NITRAT,NITRAT_FLAG_W,NITRIT,NITRIT_FLAG_W,PHSPHT,PHSPHT_FLAG_W,CFC-11,CFC-11_FLAG_W,CFC-12,CFC-12_FLAG_W,TCARBN,TCARBN_FLAG_W,PCO2,PCO2_FLAG_W,TRITUM,TRITUM_FLAG_W,HELIUM,HELIUM_FLAG_W,DELHE3,DELHE3_FLAG_W,DELC13,DELC13_FLAG_W,DELC14,DELC14_FLAG_W,C14ERR,NEON,NEON_FLAG_W,NEONER,PCO2TMP,HELIER,DELHER,THETA,TRITER
,,,,,,,,,,,METERS,DBAR,ITS-90,PSS-78,,PSS-78,,UMOL/KG,,UMOL/KG,,UMOL/KG,,UMOL/KG,,UMOL/KG,,UMOL/KG,,PMOL/KG,,PMOL/KG,,UMOL/KG,,UATM,,TU,,NMOL/KG,,PERCNT,,/MILLE,,/MILLE,,/MILLE,NMOL/KG,,NMOL/KG,DEG_C,NMOL/KG,PERCNT,ITS-90,TU
  316N138_4,       P06C,      93,          1,         36,    02-9121,2,19920606,       1942,   -32.5093,  -125.3293,       2246,    16.3,  19.2767,  35.0273,2,  35.0313,2,    234.2,2,   230.1,2,    0.21,2,    0.04,2,    0.01,2,    0.13,2,-999.000,9,-999.000,9,  2014.3,6,   342.0,2,-999.000,9,-999.0000,9, -999.00,9,    1.49,2,   122.0,2,     3.8,-999.000,9,-999.000,      20.20,-999.0000,-999.000,    19.2738,-999.000
  316N138_4,       P06C,      93,          1,         35,    02-9454,2,19920606,       1942,   -32.5093,  -125.3293,       2246,    44.7,  19.2703,  35.0248,2,  35.0256,2,    231.0,2,   230.5,2,    0.21,2,    0.04,2,    0.01,2,    0.13,2,-999.000,9,-999.000,9,  2014.2,2,  -999.0,9,-999.000,9,-999.0000,9, -999.00,9, -999.00,9,  -999.0,9,  -999.0,-999.000,9,-999.000,     -999.0,-999.0000,-999.000,    19.2622,-999.000
  316N138_4,       P06C,      93,          1,         34,    02-9457,2,19920606,       1942,   -32.5093,  -125.3293,       2246,    85.4,  18.6613,  35.1331,2,  35.1307,2,    234.2,2,   240.2,2,    0.21,2,    0.00,2,    0.01,2,    0.14,2,-999.000,9,-999.000,9,  2020.5,2,  -999.0,9,-999.000,9,-999.0000,9, -999.00,9, -999.00,9,  -999.0,9,  -999.0,-999.000,9,-999.000,     -999.0,-999.0000,-999.000,    18.6463,-999.000
  316N138_4,       P06C,      93,          1,         33,    02-5367,2,19920606,       1942,   -32.5093,  -125.3293,       2246,   113.8,  16.7701,  35.0985,2,  35.0980,2,    242.9,2,   237.0,2,    0.22,2,    0.03,2,    0.02,2,    0.18,2,-999.000,9,-999.000,9,  2035.6,2,  -999.0,9,-999.000,9,-999.0000,9, -999.00,9,    1.51,2,   124.2,2,     3.3,-999.000,9,-999.000,     -999.0,-999.0000,-999.000,    16.7516,-999.000
  316N138_4,       P06C,      93,          1,         32,    02-9540,2,19920606,       1942,   -32.5093,  -125.3293,       2246,   153.6,  15.9011,  35.0569,2,  35.0524,2,    224.1,2,   224.8,2,    0.40,2,    0.98,2,    0.19,2,    0.28,2,-999.000,9,-999.000,9,  2050.6,2,   458.3,2,-999.000,9,-999.0000,9, -999.00,9, -999.00,9,  -999.0,9,  -999.0,-999.000,9,-999.000,      20.20,-999.0000,-999.000,    15.8769,-999.000
  316N138_4,       P06C,      93,          1,         31,    02-9539,2,19920606,       1942,   -32.5093,  -125.3293,       2246,   192.2,  15.0261,  35.0012,2,  35.0012,2,    212.2,2,   213.9,2,    0.75,2,    3.76,2,    0.02,2,    0.44,2,-999.000,9,-999.000,9,  2065.9,2,  -999.0,9,-999.000,9,-999.0000,9, -999.00,9,    1.40,2,   118.8,2,     3.3,-999.000,9,-999.000,     -999.0,-999.0000,-999.000,    14.9970,-999.000
  316N138_4,       P06C,      93,          1,         30,    02-9456,2,19920606,       1942,   -32.5093,  -125.3293,       2246,   229.5,  14.0609,  34.9470,2,  34.9486,2,    205.7,2,   204.1,2,    1.11,2,    6.65,2,    0.01,2,    0.61,2,-999.000,9,-999.000,9,  2081.2,2,   519.3,2,-999.000,9,-999.0000,9, -999.00,9, -999.00,9,  -999.0,9,  -999.0,-999.000,9,-999.000,      20.20,-999.0000,-999.000,    14.0276,-999.000
  316N138_4,       P06C,      93,          1,         29,    02-9458,2,19920606,       1942,   -32.5093,  -125.3293,       2246,   269.9,  12.5394,  34.7997,2,  34.8072,2,    205.6,2,   203.5,2,    1.82,2,   10.00,2,    0.01,2,    0.81,2,-999.000,9,-999.000,9,  2095.3,2,  -999.0,9,-999.000,9,-999.0000,9, -999.00,9,    1.39,2,    91.9,2,     3.3,-999.000,9,-999.000,     -999.0,-999.0000,-999.000,    12.5031,-999.000
  316N138_4,       P06C,      93,          1,         28,    02-9545,3,19920606,       1942,   -32.5093,  -125.3293,       2246,   309.0,  11.3958,  34.7056,2,  34.8521,4,    206.7,2,   211.8,3,    1.64,4,    8.37,4,    0.02,4,    0.69,4,-999.000,9,-999.000,9,  2077.7,2,   513.8,2,-999.000,9,-999.0000,9, -999.00,9,    1.36,2,    91.7,2,     3.2,-999.000,9,-999.000,      20.20,-999.0000,-999.000,    11.3568,-999.000
  316N138_4,       P06C,      93,          1,         27,    02-9453,2,19920606,       1942,   -32.5093,  -125.3293,       2246,   348.0,   9.9885,  34.5797,2,  34.5802,2,    210.1,2,   208.5,2,    3.41,2,   15.84,2,    0.01,2,    1.15,2,-999.000,9,-999.000,9,  2116.2,2,  -999.0,9,-999.000,9,-999.0000,9, -999.00,9, -999.00,9,  -999.0,9,  -999.0,-999.000,9,-999.000,     -999.0,-999.0000,-999.000,     9.9481,-999.000
  316N138_4,       P06C,      93,          1,         26,    02-9544,2,19920606,       1942,   -32.5093,  -125.3293,       2246,   387.0,   8.8103,  34.4864,2,  34.4897,2,    216.4,2,   214.9,2,    4.29,2,   18.45,2,    0.01,2,    1.31,2,-999.000,9,-999.000,9,  2125.0,2,   702.7,2,-999.000,9,-999.0000,9, -999.00,9,    1.39,2,    50.0,2,     3.6,-999.000,9,-999.000,      20.20,-999.0000,-999.000,     8.7686,-999.000
  316N138_4,       P06C,      93,          1,         25,    02-9455,2,19920606,       1942,   -32.5093,  -125.3293,       2246,   426.1,   7.7569,  34.4180,2,  34.4208,2,    226.9,2,   225.4,2,    5.35,2,   20.49,2,    0.00,2,    1.42,2,-999.000,9,-999.000,9,  2130.9,2,  -999.0,9,-999.000,9,-999.0000,9, -999.00,9, -999.00,9,  -999.0,9,  -999.0,-999.000,9,-999.000,     -999.0,-999.0000,-999.000,     7.7143,-999.000
  316N138_4,       P06C,      93,          1,         24,        132,2,19920606,       1942,   -32.5093,  -125.3293,       2246,   462.2,   7.2966,  34.3981,2,  34.4004,2,    234.3,2,   236.7,2,    5.88,2,   21.09,2,    0.01,2,    1.45,2,-999.000,9,-999.000,9,  2131.1,2,   732.5,2,-999.000,9,-999.0000,9, -999.00,9, -999.00,9,  -999.0,9,  -999.0,-999.000,9,-999.000,      20.20,-999.0000,-999.000,     7.2519,-999.000
  316N138_4,       P06C,      93,          1,         23,        123,2,19920606,       1942,   -32.5093,  -125.3293,       2246,   499.3,   7.0539,  34.3929,2,  34.3927,2,    240.7,2,   242.4,2,    6.23,2,   21.34,2,    0.01,2,    1.47,2,-999.000,9,-999.000,9,  2131.0,2,  -999.0,9,-999.000,9,-999.0000,9, -999.00,9,    1.45,2,    32.2,2,     3.0,-999.000,9,-999.000,     -999.0,-999.0000,-999.000,     7.0064,-999.000
  316N138_4,       P06C,      93,          1,         22,        128,2,19920606,       1942,   -32.5093,  -125.3293,       2246,   571.2,   6.6818,  34.3665,2,  34.3672,2,    245.0,2,   244.4,2,    7.30,2,   22.25,2,    0.01,2,    1.52,2,-999.000,9,-999.000,9,  2132.5,2,   737.0,6,-999.000,9,-999.0000,9, -999.00,9,    1.43,2,    26.6,2,     3.5,-999.000,9,-999.000,      20.20,-999.0000,-999.000,     6.6287,-999.000
  316N138_4,       P06C,      93,          1,         21,        121,2,19920606,       1942,   -32.5093,  -125.3293,       2246,   643.4,   6.2902,  34.3389,2,  34.3384,2,    244.9,2,   244.6,2,    8.53,2,   23.39,2,    0.01,2,    1.58,2,-999.000,9,-999.000,9,  2136.9,2,  -999.0,9,-999.000,9,-999.0000,9, -999.00,9,    1.44,2,     3.3,2,     3.3,-999.000,9,-999.000,     -999.0,-999.0000,-999.000,     6.2321,-999.000
  316N138_4,       P06C,      93,          1,         20,        120,2,19920606,       1942,   -32.5093,  -125.3293,       2246,   720.6,   5.8057,  34.3070,2,  34.3109,2,    242.1,2,   240.1,2,   11.00,2,   25.02,2,    0.01,2,    1.69,2,-999.000,9,-999.000,9,  2143.6,2,  -999.0,9,-999.000,9,-999.0000,9, -999.00,9,    1.43,2,   -37.8,2,     4.5,-999.000,9,-999.000,     -999.0,-999.0000,-999.000,     5.7429,-999.000
  316N138_4,       P06C,      93,          1,         19,        133,2,19920606,       1942,   -32.5093,  -125.3293,       2246,   899.8,   4.9784,  34.2937,2,  34.2936,2,    221.3,2,   217.1,2,   20.14,2,   28.84,2,    0.01,2,    1.94,2,-999.000,9,-999.000,9,  2169.1,2,   898.9,2,-999.000,9,-999.0000,9, -999.00,9,    1.20,2,   -73.7,2,     2.9,-999.000,9,-999.000,      20.20,-999.0000,-999.000,     4.9046,-999.000
  316N138_4,       P06C,      93,          1,         18,        118,2,19920606,       1942,   -32.5093,  -125.3293,       2246,   977.9,   4.6262,  34.3074,2,  34.3074,2,    206.8,2,   204.9,2,   26.13,2,   30.45,2,    0.00,2,    2.06,2,-999.000,9,-999.000,9,  2183.2,6,  -999.0,9,-999.000,9,-999.0000,9, -999.00,9,    1.09,2,   -90.6,2,     3.6,-999.000,9,-999.000,     -999.0,-999.0000,-999.000,     4.5480,-999.000
  316N138_4,       P06C,      93,          1,         17,        117,2,19920606,       1942,   -32.5093,  -125.3293,       2246,  1055.1,   4.2142,  34.3323,2,  34.3341,2,    194.6,2,   192.4,2,   34.40,2,   32.17,2,    0.00,2,    2.18,2,-999.000,9,-999.000,9,  2200.7,2,  -999.0,9,-999.000,9,-999.0000,9, -999.00,9,    0.97,2,  -111.9,2,     3.2,-999.000,9,-999.000,     -999.0,-999.0000,-999.000,     4.1325,-999.000
  316N138_4,       P06C,      93,          1,         16,        116,2,19920606,       1942,   -32.5093,  -125.3293,       2246,  1141.9,   3.8700,  34.3658,2,  34.3617,2,    184.9,2,   183.6,2,   42.33,2,   33.25,2,    0.01,2,    2.26,2,-999.000,9,-999.000,9,  2213.4,2,  1123.3,2,-999.000,9,-999.0000,9, -999.00,9,    0.84,2,  -121.6,2,     4.9,-999.000,9,-999.000,      20.20,-999.0000,-999.000,     3.7838,-999.000
  316N138_4,       P06C,      93,          1,         15,        115,2,19920606,       1942,   -32.5093,  -125.3293,       2246,  1219.2,   3.5623,  34.3953,2,  34.3955,2,    180.0,2,   179.1,2,   49.89,2,   33.88,2,    0.01,2,    2.31,2,-999.000,9,-999.000,9,  2223.8,2,  -999.0,9,-999.000,9,-999.0000,9, -999.00,9,    0.77,2,  -131.7,2,     3.0,-999.000,9,-999.000,     -999.0,-999.0000,-999.000,     3.4725,-999.000
  316N138_4,       P06C,      93,          1,         14,        114,2,19920606,       1942,   -32.5093,  -125.3293,       2246,  1293.1,   3.3475,  34.4249,2,  34.4247,2,    175.1,2,   174.0,2,   56.22,2,   34.30,2,    0.00,2,    2.35,2,-999.000,9,-999.000,9,  2233.2,2,  -999.0,9,-999.000,9,-999.0000,9, -999.00,9,    0.60,2,  -140.9,2,     3.0,-999.000,9,-999.000,     -999.0,-999.0000,-999.000,     3.2534,-999.000
  316N138_4,       P06C,      93,          1,         13,        125,2,19920606,       1942,   -32.5093,  -125.3293,       2246,  1364.8,   3.1224,  34.4577,2,  34.4569,2,    170.3,2,   170.6,2,   63.09,2,   34.65,2,    0.01,2,    2.38,2,-999.000,9,-999.000,9,  2241.7,2,  1156.7,2,-999.000,9,-999.0000,9, -999.00,9, -999.00,9,  -999.0,9,  -999.0,-999.000,9,-999.000,      20.20,-999.0000,-999.000,     3.0247,-999.000
  316N138_4,       P06C,      93,          1,         12,        112,2,19920606,       1942,   -32.5093,  -125.3293,       2246,  1435.7,   2.9219,  34.4909,2,  34.4948,2,    167.6,2,   167.5,2,   69.95,2,   34.82,2,    0.01,2,    2.39,2,-999.000,9,-999.000,9,  2250.3,2,  -999.0,9,-999.000,9,-999.0000,9, -999.00,9, -999.00,9,  -999.0,9,  -999.0,-999.000,9,-999.000,     -999.0,-999.0000,-999.000,     2.8205,-999.000
  316N138_4,       P06C,      93,          1,         11,        129,2,19920606,       1942,   -32.5093,  -125.3293,       2246,  1507.2,   2.6865,  34.5355,2,  34.5374,2,    165.5,2,   164.3,2,   79.10,2,   34.98,2,    0.00,2,    2.42,2,-999.000,9,-999.000,9,  2262.8,2,  -999.0,9,-999.000,9,-999.0000,9, -999.00,9, -999.00,9,  -999.0,9,  -999.0,-999.000,9,-999.000,     -999.0,-999.0000,-999.000,     2.5818,-999.000
  316N138_4,       P06C,      93,          1,         10,        110,2,19920606,       1942,   -32.5093,  -125.3293,       2246,  1579.2,   2.5726,  34.5604,2,  34.5584,2,    163.2,2,   162.4,2,   84.56,2,   34.97,2,    0.00,2,    2.42,2,-999.000,9,-999.000,9,  2266.9,2,  1163.3,2,-999.000,9,-999.0000,9, -999.00,9, -999.00,9,  -999.0,9,  -999.0,-999.000,9,-999.000,      20.20,-999.0000,-999.000,     2.4633,-999.000
  316N138_4,       P06C,      93,          1,          9,        126,2,19920606,       1942,   -32.5093,  -125.3293,       2246,  1649.9,   2.4785,  34.5795,2,  34.5789,2,    161.5,2,   160.5,2,   89.48,2,   35.03,2,    0.00,2,    2.43,2,-999.000,9,-999.000,9,  2273.4,2,  -999.0,9,-999.000,9,-999.0000,9, -999.00,9, -999.00,9,  -999.0,9,  -999.0,-999.000,9,-999.000,     -999.0,-999.0000,-999.000,     2.3646,-999.000
  316N138_4,       P06C,      93,          1,          8,        108,2,19920606,       1942,   -32.5093,  -125.3293,       2246,  1724.4,   2.3772,  34.5983,2,  34.5973,2,    159.7,2,   158.8,2,   95.29,2,   35.13,2,    0.00,2,    2.46,2,-999.000,9,-999.000,9,  2279.2,2,  -999.0,9,-999.000,9,-999.0000,9, -999.00,9, -999.00,9,  -999.0,9,  -999.0,-999.000,9,-999.000,     -999.0,-999.0000,-999.000,     2.2584,-999.000
  316N138_4,       P06C,      93,          1,          7,        107,2,19920606,       1942,   -32.5093,  -125.3293,       2246,  1776.6,   2.3482,  34.6032,2,  34.6052,2,    158.6,2,   158.0,2,   97.05,2,   35.18,2,    0.00,2,    2.45,2,-999.000,9,-999.000,9,  2281.4,2,  1215.3,2,-999.000,9,-999.0000,9, -999.00,9, -999.00,9,  -999.0,9,  -999.0,-999.000,9,-999.000,      20.20,-999.0000,-999.000,     2.2255,-999.000
  316N138_4,       P06C,      93,          1,          6,        180,2,19920606,       1942,   -32.5093,  -125.3293,       2246,  1872.4,   2.2141,  34.6236,2,  34.6236,2,    157.2,2,   156.8,2,  104.44,2,   35.29,2,    0.00,2,    2.47,2,-999.000,9,-999.000,9,  2290.2,2,  -999.0,9,-999.000,9,-999.0000,9, -999.00,9, -999.00,9,  -999.0,9,  -999.0,-999.000,9,-999.000,     -999.0,-999.0000,-999.000,     2.0852,-999.000
  316N138_4,       P06C,      93,          1,          5,        131,2,19920606,       1942,   -32.5093,  -125.3293,       2246,  1967.8,   2.1403,  34.6329,2,  34.6339,2,    155.9,2,   155.5,2,  108.14,2,   35.33,2,    0.00,2,    2.48,2,-999.000,9,-999.000,9,  2292.5,2,  -999.0,9,-999.000,9,-999.0000,9, -999.00,9, -999.00,9,  -999.0,9,  -999.0,-999.000,9,-999.000,     -999.0,-999.0000,-999.000,     2.0044,-999.000
  316N138_4,       P06C,      93,          1,          4,        104,2,19920606,       1942,   -32.5093,  -125.3293,       2246,  2065.7,   2.0756,  34.6404,2,  34.6484,3,    155.2,2,   155.7,2,  110.79,2,   35.33,2,    0.00,2,    2.48,2,-999.000,9,-999.000,9,  2294.4,6,  1158.2,2,-999.000,9,-999.0000,9, -999.00,9, -999.00,9,  -999.0,9,  -999.0,-999.000,9,-999.000,      20.20,-999.0000,-999.000,     1.9324,-999.000
  316N138_4,       P06C,      93,          1,          3,        130,2,19920606,       1942,   -32.5093,  -125.3293,       2246,  2161.4,   1.9889,  34.6477,2,  34.6490,2,    155.7,2,   156.5,2,  114.30,2,   35.38,2,    0.00,2,    2.48,2,-999.000,9,-999.000,9,  2299.3,2,  -999.0,9,-999.000,9,-999.0000,9, -999.00,9, -999.00,9,  -999.0,9,  -999.0,-999.000,9,-999.000,     -999.0,-999.0000,-999.000,     1.8389,-999.000
  316N138_4,       P06C,      93,          1,          2,        135,2,19920606,       1942,   -32.5093,  -125.3293,       2246,  2269.5,   1.9261,  34.6535,2,  34.6543,2,    155.8,2,   156.9,2,  116.42,2,   35.34,2,   -0.01,2,    2.49,2,-999.000,9,-999.000,9,  2300.0,2,  -999.0,9,-999.000,9,-999.0000,9, -999.00,9, -999.00,9,  -999.0,9,  -999.0,-999.000,9,-999.000,     -999.0,-999.0000,-999.000,     1.7678,-999.000
  316N138_4,       P06C,      93,          1,          1,        134,2,19920606,       1942,   -32.5093,  -125.3293,       2246,  2321.7,   1.9002,  34.6538,2,  34.6580,2,    156.1,2,   157.9,2,  117.14,2,   35.25,2,    0.00,2,    2.46,3,-999.000,9,-999.000,9,  2300.2,6,  1148.9,6,-999.000,9,-999.0000,9, -999.00,9, -999.00,9,  -999.0,9,  -999.0,-999.000,9,-999.000,      20.20,-999.0000,-999.000,     1.7377,-999.000