BOTTLE,20211025CCHSIORKP
EXPOCODE,SECT_ID,STNNBR,CASTNO,SAMPNO,BTLNBR,BTLNBR_FLAG_W,DATE,TIME,LATITUDE,LONGITUDE,DEPTH,CTDPRS,CTDTMP,CTDSAL,CTDSAL_FLAG_W,SALNTY,SALNTY_FLAG_W,CTDOXY,CTDOXY_FLAG_W,OXYGEN,OXYGEN_FLAG_W,SILCAT,SILCAT_FLAG_W,NITRAT,NITRAT_FLAG_W,NITRIT,NITRIT_FLAG_W,PHSPHT,PHSPHT_FLAG_W,CFC-11,CFC-11_FLAG_W,CFC-12,CFC-12_FLAG_W,TCARBN,TCARBN_FLAG_W,PCO2,PCO2_FLAG_W,TRITUM,TRITUM_FLAG_W,HELIUM,HELIUM_FLAG_W,DELHE3,DELHE3_FLAG_W,DELC13,DELC13_FLAG_W,DELC14,DELC14_FLAG_W,C14ERR,NEON,NEON_FLAG_W,NEONER,PCO2TMP,HELIER,DELHER,THETA,TRITER
,,,,,,,,,,,METERS,DBAR,ITS-90,PSS-78,,PSS-78,,UMOL/KG,,UMOL/KG,,UMOL/KG,,UMOL/KG,,UMOL/KG,,UMOL/KG,,PMOL/KG,,PMOL/KG,,UMOL/KG,,UATM,,TU,,NMOL/KG,,PERCNT,,/MILLE,,/MILLE,,/MILLE,NMOL/KG,,NMOL/KG,DEG_C,NMOL/KG,PERCNT,ITS-90,TU
  316N138_4,       P06C,     121,          1,         36,    02-9121,2,19920616,       2337,   -32.5112,  -144.8305,       5262,    20.6,  18.2355,  35.2354,2,  35.2341,2,    284.3,3,   231.4,2,    0.29,2,    0.00,2,    0.00,2,    0.12,2,-999.000,9,-999.000,9,  2022.5,6,   357.5,2,-999.000,9,-999.0000,9, -999.00,9,    1.55,2,   116.2,2,     3.5,-999.000,9,-999.000,      20.20,-999.0000,-999.000,    18.2319,-999.000
  316N138_4,       P06C,     121,          1,         35,    02-9454,2,19920616,       2337,   -32.5112,  -144.8305,       5262,    61.6,  18.2466,  35.2346,2,  35.2341,2,    232.6,2,   232.8,2,    0.44,2,    0.01,2,    0.00,2,    0.11,2,-999.000,9,-999.000,9,  2021.8,2,   337.0,6,-999.000,9,-999.0000,9, -999.00,9, -999.00,9,  -999.0,9,  -999.0,-999.000,9,-999.000,      20.20,-999.0000,-999.000,    18.2359,-999.000
  316N138_4,       P06C,     121,          1,         34,    02-9457,2,19920616,       2337,   -32.5112,  -144.8305,       5262,   110.0,  16.7092,  35.2939,2,  35.2968,2,    235.1,2,   238.1,2,    0.44,2,    0.00,2,    0.01,2,    0.16,2,-999.000,9,-999.000,9,  2034.1,2,  -999.0,9,-999.000,9,-999.0000,9, -999.00,9,    1.46,2,   114.2,2,     4.6,-999.000,9,-999.000,     -999.0,-999.0000,-999.000,    16.6913,-999.000
  316N138_4,       P06C,     121,          1,         33,    02-5367,2,19920616,       2337,   -32.5112,  -144.8305,       5262,   158.1,  15.3448,  35.1899,2,  35.1845,2,    226.8,2,   225.5,2,    0.59,2,    1.66,2,    0.04,2,    0.29,2,-999.000,9,-999.000,9,  2056.6,2,   433.8,2,-999.000,9,-999.0000,9, -999.00,9,    1.36,2,   115.6,2,     5.8,-999.000,9,-999.000,      20.20,-999.0000,-999.000,    15.3205,-999.000
  316N138_4,       P06C,     121,          1,         32,    02-9540,2,19920616,       2337,   -32.5112,  -144.8305,       5262,   208.9,  14.1905,  35.0871,2,  35.0850,2,    216.8,2,   209.0,2,    1.31,2,    6.04,2,    0.01,2,    0.55,2,-999.000,9,-999.000,9,  2079.9,2,  -999.0,9,-999.000,9,-999.0000,9, -999.00,9,    1.36,2,    96.9,2,     3.1,-999.000,9,-999.000,     -999.0,-999.0000,-999.000,    14.1600,-999.000
  316N138_4,       P06C,     121,          1,         31,    02-9539,2,19920616,       2337,   -32.5112,  -144.8305,       5262,   258.3,  12.5189,  34.9358,2,  34.9266,2,    208.2,2,   198.5,2,    2.32,2,   10.62,2,    0.01,2,    0.81,2,-999.000,9,-999.000,9,  2097.2,2,   594.2,2,-999.000,9,-999.0000,9, -999.00,9,    1.26,2,    79.1,2,     3.1,-999.000,9,-999.000,      20.20,-999.0000,-999.000,    12.4842,-999.000
  316N138_4,       P06C,     121,          1,         30,    02-9456,2,19920616,       2337,   -32.5112,  -144.8305,       5262,   308.3,  11.2276,  34.7919,2,  34.7860,2,    204.5,2,   204.6,2,    2.91,2,   13.47,2,    0.01,2,    0.99,2,-999.000,9,-999.000,9,  2107.9,2,  -999.0,9,-999.000,9,-999.0000,9, -999.00,9,    1.27,2,    62.3,2,     3.9,-999.000,9,-999.000,     -999.0,-999.0000,-999.000,    11.1890,-999.000
  316N138_4,       P06C,     121,          1,         29,    02-9458,2,19920616,       2337,   -32.5112,  -144.8305,       5262,   356.4,   9.4455,  34.6231,2,  34.5973,2,    213.8,2,   213.5,2,    3.78,2,   16.82,2,    0.01,2,    1.18,2,-999.000,9,-999.000,9,  2118.9,2,   706.5,2,-999.000,9,-999.0000,9, -999.00,9,    1.19,2,    47.5,2,     3.4,-999.000,9,-999.000,      20.20,-999.0000,-999.000,     9.4054,-999.000
  316N138_4,       P06C,     121,          1,         28,    02-9545,2,19920616,       2337,   -32.5112,  -144.8305,       5262,   413.4,   8.3233,  34.4990,2,  34.5050,2,    226.1,2,   224.2,2,    4.51,2,   18.83,2,    0.01,2,    1.30,2,-999.000,9,-999.000,9,  2123.6,2,  -999.0,9,-999.000,9,-999.0000,9, -999.00,9,    1.33,2,    43.0,2,     6.6,-999.000,9,-999.000,     -999.0,-999.0000,-999.000,     8.2802,-999.000
  316N138_4,       P06C,     121,          1,         27,    02-9453,2,19920616,       2337,   -32.5112,  -144.8305,       5262,   509.5,   7.3862,  34.4236,2,  34.4334,2,    242.0,2,   231.0,4,    5.82,2,   20.67,2,    0.01,2,    1.39,2,-999.000,9,-999.000,9,  2119.0,2,   735.8,2,-999.000,9,-999.0000,9, -999.00,9,    1.30,2,    28.6,2,     7.1,-999.000,9,-999.000,      20.20,-999.0000,-999.000,     7.3364,-999.000
  316N138_4,       P06C,     121,          1,         26,    02-9544,2,19920616,       2337,   -32.5112,  -144.8305,       5262,   609.3,   6.7132,  34.3808,2,  34.3774,2,    243.7,2,   239.1,2,    7.57,2,   22.54,2,    0.01,2,    1.50,2,-999.000,9,-999.000,9,  2130.8,2,  -999.0,9,-999.000,9,-999.0000,9, -999.00,9,    1.38,2,   -21.5,2,     7.7,-999.000,9,-999.000,     -999.0,-999.0000,-999.000,     6.6564,-999.000
  316N138_4,       P06C,     121,          1,         25,    02-9455,2,19920616,       2337,   -32.5112,  -144.8305,       5262,   711.5,   6.1926,  34.3429,2,  34.3405,2,    242.0,2,   236.7,2,   10.04,2,   24.34,2,    0.00,2,    1.61,2,-999.000,9,-999.000,9,  2137.4,2,   811.8,2,-999.000,9,-999.0000,9, -999.00,9,    1.27,2,   -42.0,2,     2.0,-999.000,9,-999.000,      20.20,-999.0000,-999.000,     6.1285,-999.000
  316N138_4,       P06C,     121,          1,         24,        132,2,19920616,       2337,   -32.5112,  -144.8305,       5262,   813.9,   5.6722,  34.3103,2,  34.3146,2,    237.0,2,   229.9,2,   13.83,2,   26.32,2,    0.00,2,    1.74,2,-999.000,9,-999.000,9,  2149.7,2,  -999.0,9,-999.000,9,-999.0000,9, -999.00,9,    1.29,2,   -57.5,2,     2.3,-999.000,9,-999.000,     -999.0,-999.0000,-999.000,     5.6017,-999.000
  316N138_4,       P06C,     121,          1,         23,        123,2,19920616,       2337,   -32.5112,  -144.8305,       5262,  1013.1,   4.6985,  34.3207,2,  34.3156,2,    209.2,2,   208.9,2,   26.50,2,   30.34,2,    0.00,2,    2.00,2,-999.000,9,-999.000,9,  2179.4,2,  -999.0,9,-999.000,9,-999.0000,9, -999.00,9,    1.05,2,   -99.9,2,     2.8,-999.000,9,-999.000,     -999.0,-999.0000,-999.000,     4.6166,-999.000
  316N138_4,       P06C,     121,          1,         22,        128,2,19920616,       2337,   -32.5112,  -144.8305,       5262,  1215.3,   3.5773,  34.3899,2,  34.3880,2,    184.0,2,   182.9,2,   48.20,2,   33.64,2,    0.00,2,    2.27,2,-999.000,9,-999.000,9,  2216.3,2,  1113.8,2,-999.000,9,-999.0000,9, -999.00,9,    0.74,2,  -137.7,2,     2.2,-999.000,9,-999.000,      20.20,-999.0000,-999.000,     3.4876,-999.000
  316N138_4,       P06C,     121,          1,         21,        121,2,19920616,       2337,   -32.5112,  -144.8305,       5262,  1416.0,   2.9696,  34.4854,2,  34.4828,2,    170.8,2,   170.5,2,   67.71,2,   34.78,2,    0.00,2,    2.36,2,-999.000,9,-999.000,9,  2243.7,2,  -999.0,9,-999.000,9,-999.0000,9, -999.00,9,    0.55,2,  -164.4,2,     3.0,-999.000,9,-999.000,     -999.0,-999.0000,-999.000,     2.8693,-999.000
  316N138_4,       P06C,     121,          1,         20,        120,2,19920616,       2337,   -32.5112,  -144.8305,       5262,  1617.8,   2.5761,  34.5641,2,  34.5582,2,    161.0,2,   161.5,2,   86.49,2,   35.10,2,    0.00,2,    2.41,2,-999.000,9,-999.000,9,  2266.4,2,  -999.0,9,-999.000,9,-999.0000,9, -999.00,9,    0.43,2,  -192.6,2,     3.0,-999.000,9,-999.000,     -999.0,-999.0000,-999.000,     2.4636,-999.000
  316N138_4,       P06C,     121,          1,         19,        133,2,19920616,       2337,   -32.5112,  -144.8305,       5262,  1820.1,   2.3492,  34.6101,2,  34.6052,2,    155.3,2,   155.6,2,  100.61,2,   35.28,2,    0.00,2,    2.45,2,-999.000,9,-999.000,9,  2283.1,2,  1219.2,2,-999.000,9,-999.0000,9, -999.00,9, -999.00,9,  -999.0,9,  -999.0,-999.000,9,-999.000,      20.20,-999.0000,-999.000,     2.2229,-999.000
  316N138_4,       P06C,     121,          1,         18,        118,2,19920616,       2337,   -32.5112,  -144.8305,       5262,  2020.3,   2.1904,  34.6325,2,  34.6293,2,    152.4,2,   151.8,2,  110.23,2,   35.37,2,    0.00,2,    2.49,2,-999.000,9,-999.000,9,  2292.8,6,  -999.0,9,-999.000,9,-999.0000,9, -999.00,9, -999.00,9,  -999.0,9,  -999.0,-999.000,9,-999.000,     -999.0,-999.0000,-999.000,     2.0493,-999.000
  316N138_4,       P06C,     121,          1,         17,        117,2,19920616,       2337,   -32.5112,  -144.8305,       5262,  2223.2,   2.0146,  34.6483,2,  34.6462,2,    151.5,2,   151.4,2,  117.95,2,   35.38,2,   -0.01,2,    2.50,2,-999.000,9,-999.000,9,  2302.2,2,  -999.0,9,-999.000,9,-999.0000,9, -999.00,9, -999.00,9,  -999.0,9,  -999.0,-999.000,9,-999.000,     -999.0,-999.0000,-999.000,     1.8588,-999.000
  316N138_4,       P06C,     121,          1,         16,        116,2,19920616,       2337,   -32.5112,  -144.8305,       5262,  2423.1,   1.9019,  34.6561,2,  34.6545,2,    152.1,2,   151.9,2,  122.63,2,   35.47,2,   -0.01,2,    2.51,2,-999.000,9,-999.000,9,  2304.9,2,  1171.7,6,-999.000,9,-999.0000,9, -999.00,9, -999.00,9,  -999.0,9,  -999.0,-999.000,9,-999.000,      20.20,-999.0000,-999.000,     1.7304,-999.000
  316N138_4,       P06C,     121,          1,         15,        115,2,19920616,       2337,   -32.5112,  -144.8305,       5262,  2627.7,   1.8160,  34.6639,2,  34.6606,2,    153.7,2,   153.0,2,  125.41,2,   35.37,2,   -0.01,2,    2.51,2,-999.000,9,-999.000,9,  2307.0,2,  -999.0,9,-999.000,9,-999.0000,9, -999.00,9, -999.00,9,  -999.0,9,  -999.0,-999.000,9,-999.000,     -999.0,-999.0000,-999.000,     1.6275,-999.000
  316N138_4,       P06C,     121,          1,         14,        114,2,19920616,       2337,   -32.5112,  -144.8305,       5262,  2832.7,   1.7388,  34.6691,2,  34.6684,2,    156.3,2,   156.7,2,  126.87,2,   35.24,2,   -0.01,2,    2.49,2,-999.000,9,-999.000,9,  2305.9,2,  -999.0,9,-999.000,9,-999.0000,9, -999.00,9, -999.00,9,  -999.0,9,  -999.0,-999.000,9,-999.000,     -999.0,-999.0000,-999.000,     1.5327,-999.000
  316N138_4,       P06C,     121,          1,         13,        125,2,19920616,       2337,   -32.5112,  -144.8305,       5262,  3033.9,   1.6820,  34.6750,2,  34.6734,2,    160.5,2,   160.4,2,  126.29,2,   34.96,2,   -0.01,2,    2.46,2,-999.000,9,-999.000,9,  2302.9,2,  1178.3,2,-999.000,9,-999.0000,9, -999.00,9, -999.00,9,  -999.0,9,  -999.0,-999.000,9,-999.000,      20.20,-999.0000,-999.000,     1.4579,-999.000
  316N138_4,       P06C,     121,          1,         12,        112,2,19920616,       2337,   -32.5112,  -144.8305,       5262,  3240.5,   1.6091,  34.6814,2,  34.6802,2,    164.8,2,   166.0,2,  125.73,2,   34.59,2,   -0.01,2,    2.44,2,-999.000,9,-999.000,9,  2298.2,2,  -999.0,9,-999.000,9,-999.0000,9, -999.00,9, -999.00,9,  -999.0,9,  -999.0,-999.000,9,-999.000,     -999.0,-999.0000,-999.000,     1.3664,-999.000
  316N138_4,       P06C,     121,          1,         11,        129,2,19920616,       2337,   -32.5112,  -144.8305,       5262,  3442.7,   1.5462,  34.6863,2,  34.6846,2,    169.2,2,   169.9,2,  124.71,2,   34.23,2,   -0.01,2,    2.42,2,-999.000,9,-999.000,9,  2294.3,2,  -999.0,9,-999.000,9,-999.0000,9, -999.00,9, -999.00,9,  -999.0,9,  -999.0,-999.000,9,-999.000,     -999.0,-999.0000,-999.000,     1.2847,-999.000
  316N138_4,       P06C,     121,          1,         10,        110,3,19920616,       2337,   -32.5112,  -144.8305,       5262,  3648.5,   1.4970,  34.6903,2,  34.6736,4,    174.4,2,   173.3,3,  108.99,4,   32.20,4,    0.00,4,    2.28,4,-999.000,9,-999.000,9,  2281.6,3,  1126.3,2,-999.000,9,-999.0000,9, -999.00,9, -999.00,9,  -999.0,9,  -999.0,-999.000,9,-999.000,      20.20,-999.0000,-999.000,     1.2156,-999.000
  316N138_4,       P06C,     121,          1,          9,        126,2,19920616,       2337,   -32.5112,  -144.8305,       5262,  3850.0,   1.4222,  34.6954,2,  34.6942,2,    180.2,2,   181.6,2,  122.10,2,   33.48,2,    0.00,2,    2.33,2,-999.000,9,-999.000,9,  2284.4,2,  -999.0,9,-999.000,9,-999.0000,9, -999.00,9, -999.00,9,  -999.0,9,  -999.0,-999.000,9,-999.000,     -999.0,-999.0000,-999.000,     1.1215,-999.000
  316N138_4,       P06C,     121,          1,          8,        108,2,19920616,       2337,   -32.5112,  -144.8305,       5262,  4052.8,   1.3677,  34.6994,2,  34.6991,2,    185.9,2,   186.6,2,  120.95,2,   33.12,2,    0.00,2,    2.32,2,-999.000,9,-999.000,9,  2279.8,2,  -999.0,9,-999.000,9,-999.0000,9, -999.00,9, -999.00,9,  -999.0,9,  -999.0,-999.000,9,-999.000,     -999.0,-999.0000,-999.000,     1.0466,-999.000
  316N138_4,       P06C,     121,          1,          7,        107,3,19920616,       2337,   -32.5112,  -144.8305,       5262,  4259.2,   1.3166,  34.7037,2,  34.6997,3,    190.2,2,   189.5,4,  111.63,4,   31.69,4,    0.00,4,    2.22,4,-999.000,9,-999.000,9,  2272.3,2,  1100.4,2,-999.000,9,-999.0000,9, -999.00,9, -999.00,9,  -999.0,9,  -999.0,-999.000,9,-999.000,      20.20,-999.0000,-999.000,     0.9744,-999.000
  316N138_4,       P06C,     121,          1,          6,        180,2,19920616,       2337,   -32.5112,  -144.8305,       5262,  4463.1,   1.2682,  34.7068,2,  34.7040,2,    194.3,2,   195.1,2,  119.07,2,   32.56,2,    0.00,2,    2.27,2,-999.000,9,-999.000,9,  2272.2,2,  -999.0,9,-999.000,9,-999.0000,9, -999.00,9, -999.00,9,  -999.0,9,  -999.0,-999.000,9,-999.000,     -999.0,-999.0000,-999.000,     0.9045,-999.000
  316N138_4,       P06C,     121,          1,          5,        131,2,19920616,       2337,   -32.5112,  -144.8305,       5262,  4663.9,   1.2472,  34.7083,2,  34.7064,2,    197.2,2,   197.1,2,  118.79,2,   32.42,2,    0.00,2,    2.28,2,-999.000,9,-999.000,9,  2270.1,2,  -999.0,9,-999.000,9,-999.0000,9, -999.00,9, -999.00,9,  -999.0,9,  -999.0,-999.000,9,-999.000,     -999.0,-999.0000,-999.000,     0.8611,-999.000
  316N138_4,       P06C,     121,          1,          4,        104,2,19920616,       2337,   -32.5112,  -144.8305,       5262,  4865.0,   1.2432,  34.7090,2,  34.7054,2,    199.4,2,   198.9,2,  118.65,2,   32.33,2,    0.00,2,    2.27,2,-999.000,9,-999.000,9,  2268.3,2,  1064.0,6,-999.000,9,-999.0000,9, -999.00,9, -999.00,9,  -999.0,9,  -999.0,-999.000,9,-999.000,      20.20,-999.0000,-999.000,     0.8337,-999.000
  316N138_4,       P06C,     121,          1,          3,        130,2,19920616,       2337,   -32.5112,  -144.8305,       5262,  5072.1,   1.2437,  34.7101,2,  34.7064,2,    201.1,2,   200.4,2,  118.81,2,   32.29,2,    0.00,2,    2.24,2,-999.000,9,-999.000,9,  2267.9,2,  -999.0,9,-999.000,9,-999.0000,9, -999.00,9, -999.00,9,  -999.0,9,  -999.0,-999.000,9,-999.000,     -999.0,-999.0000,-999.000,     0.8093,-999.000
  316N138_4,       P06C,     121,          1,          2,        135,2,19920616,       2337,   -32.5112,  -144.8305,       5262,  5279.9,   1.2616,  34.7100,2,  34.7074,2,    202.1,2,   201.7,2,  118.67,2,   32.29,2,    0.00,2,    2.25,2,-999.000,9,-999.000,9,  2268.0,2,  -999.0,9,-999.000,9,-999.0000,9, -999.00,9, -999.00,9,  -999.0,9,  -999.0,-999.000,9,-999.000,     -999.0,-999.0000,-999.000,     0.8011,-999.000
  316N138_4,       P06C,     121,          1,          1,        134,2,19920616,       2337,   -32.5112,  -144.8305,       5262,  5383.3,   1.2745,  34.7102,2,  34.7089,2,    202.4,2,   200.2,2,  118.52,2,   32.35,2,    0.00,2,    2.25,2,-999.000,9,-999.000,9,  2266.7,6,  1096.1,2,-999.000,9,-999.0000,9, -999.00,9, -999.00,9,  -999.0,9,  -999.0,-999.000,9,-999.000,      20.20,-999.0000,-999.000,     0.8007,-999.000