BOTTLE,20211025CCHSIORKP
EXPOCODE,SECT_ID,STNNBR,CASTNO,SAMPNO,BTLNBR,BTLNBR_FLAG_W,DATE,TIME,LATITUDE,LONGITUDE,DEPTH,CTDPRS,CTDTMP,CTDSAL,CTDSAL_FLAG_W,SALNTY,SALNTY_FLAG_W,CTDOXY,CTDOXY_FLAG_W,OXYGEN,OXYGEN_FLAG_W,SILCAT,SILCAT_FLAG_W,NITRAT,NITRAT_FLAG_W,NITRIT,NITRIT_FLAG_W,PHSPHT,PHSPHT_FLAG_W,CFC-11,CFC-11_FLAG_W,CFC-12,CFC-12_FLAG_W,TCARBN,TCARBN_FLAG_W,PCO2,PCO2_FLAG_W,TRITUM,TRITUM_FLAG_W,HELIUM,HELIUM_FLAG_W,DELHE3,DELHE3_FLAG_W,DELC13,DELC13_FLAG_W,DELC14,DELC14_FLAG_W,C14ERR,NEON,NEON_FLAG_W,NEONER,PCO2TMP,HELIER,DELHER,THETA,TRITER
,,,,,,,,,,,METERS,DBAR,ITS-90,PSS-78,,PSS-78,,UMOL/KG,,UMOL/KG,,UMOL/KG,,UMOL/KG,,UMOL/KG,,UMOL/KG,,PMOL/KG,,PMOL/KG,,UMOL/KG,,UATM,,TU,,NMOL/KG,,PERCNT,,/MILLE,,/MILLE,,/MILLE,NMOL/KG,,NMOL/KG,DEG_C,NMOL/KG,PERCNT,ITS-90,TU
  316N138_4,       P06C,      82,          1,         36,    02-9121,3,19920603,       1945,   -32.5095,  -117.9883,       3411,    18.9,  19.9418,  35.2223,2,  35.2217,2,    326.0,3,   227.8,2,    0.07,2,    0.00,2,    0.00,2,    0.11,2,   2.293,6,   1.223,6,  2010.6,6,  -999.0,9,-999.000,9,-999.0000,9, -999.00,9, -999.00,9,  -999.0,9,  -999.0,-999.000,9,-999.000,     -999.0,-999.0000,-999.000,    19.9383,-999.000
  316N138_4,       P06C,      82,          1,         35,    02-9454,2,19920603,       1945,   -32.5095,  -117.9883,       3411,    57.8,  19.8781,  35.2214,2,  35.2209,2,    233.0,2,   228.8,2,    0.10,2,    0.00,2,    0.00,2,    0.13,2,   2.287,2,   1.211,2,  2010.8,2,  -999.0,9,-999.000,9,-999.0000,9, -999.00,9, -999.00,9,  -999.0,9,  -999.0,-999.000,9,-999.000,     -999.0,-999.0000,-999.000,    19.8674,-999.000
  316N138_4,       P06C,      82,          1,         34,    02-9457,2,19920603,       1945,   -32.5095,  -117.9883,       3411,    87.3,  18.7971,  35.2881,2,  35.2871,2,    243.9,2,   242.3,2,    0.13,2,    0.00,2,    0.00,2,    0.13,2,-999.000,9,-999.000,9,  2016.4,2,  -999.0,9,-999.000,9,-999.0000,9, -999.00,9, -999.00,9,  -999.0,9,  -999.0,-999.000,9,-999.000,     -999.0,-999.0000,-999.000,    18.7816,-999.000
  316N138_4,       P06C,      82,          1,         33,    02-5367,2,19920603,       1945,   -32.5095,  -117.9883,       3411,   117.0,  17.9619,  35.2677,2,  35.2672,2,    244.2,2,   246.8,2,    0.16,2,    0.00,2,    0.01,2,    0.14,2,   2.517,2,   1.298,2,  2021.9,2,  -999.0,9,-999.000,9,-999.0000,9, -999.00,9, -999.00,9,  -999.0,9,  -999.0,-999.000,9,-999.000,     -999.0,-999.0000,-999.000,    17.9419,-999.000
  316N138_4,       P06C,      82,          1,         32,    02-9540,2,19920603,       1945,   -32.5095,  -117.9883,       3411,   146.4,  17.5310,  35.2300,2,  35.2266,2,    236.0,2,   234.0,2,    0.19,2,    0.04,2,    0.01,2,    0.17,2,-999.000,9,-999.000,9,  2027.1,2,  -999.0,9,-999.000,9,-999.0000,9, -999.00,9, -999.00,9,  -999.0,9,  -999.0,-999.000,9,-999.000,     -999.0,-999.0000,-999.000,    17.5063,-999.000
  316N138_4,       P06C,      82,          1,         31,    02-9539,2,19920603,       1945,   -32.5095,  -117.9883,       3411,   173.1,  17.1557,  35.1723,2,  35.1675,2,    232.8,2,   230.2,2,    0.21,2,    0.16,2,    0.14,2,    0.20,2,   2.571,2,   1.347,2,  2032.4,2,  -999.0,9,-999.000,9,-999.0000,9, -999.00,9, -999.00,9,  -999.0,9,  -999.0,-999.000,9,-999.000,     -999.0,-999.0000,-999.000,    17.1269,-999.000
  316N138_4,       P06C,      82,          1,         30,    02-9456,2,19920603,       1945,   -32.5095,  -117.9883,       3411,   223.0,  15.4939,  35.0114,2,  35.0181,2,    225.6,2,   212.0,2,    0.56,2,    3.23,2,    0.01,2,    0.42,2,   2.290,2,   1.168,2,  2058.2,2,  -999.0,9,-999.000,9,-999.0000,9, -999.00,9, -999.00,9,  -999.0,9,  -999.0,-999.000,9,-999.000,     -999.0,-999.0000,-999.000,    15.4593,-999.000
  316N138_4,       P06C,      82,          1,         29,    02-9458,2,19920603,       1945,   -32.5095,  -117.9883,       3411,   270.5,  14.1821,  34.9282,2,  34.9246,2,    212.4,2,   203.8,2,    1.06,2,    6.54,2,    0.00,2,    0.62,2,   2.076,2,   1.070,2,  2076.1,2,  -999.0,9,-999.000,9,-999.0000,9, -999.00,9, -999.00,9,  -999.0,9,  -999.0,-999.000,9,-999.000,     -999.0,-999.0000,-999.000,    14.1426,-999.000
  316N138_4,       P06C,      82,          1,         28,    02-9545,2,19920603,       1945,   -32.5095,  -117.9883,       3411,   318.4,  12.1793,  34.7354,2,  34.7309,2,    211.1,2,   205.4,2,    1.89,2,   10.82,2,    0.00,2,    0.89,2,   1.885,2,   0.960,2,  2093.0,2,  -999.0,9,-999.000,9,-999.0000,9, -999.00,9, -999.00,9,  -999.0,9,  -999.0,-999.000,9,-999.000,     -999.0,-999.0000,-999.000,    12.1372,-999.000
  316N138_4,       P06C,      82,          1,         27,    02-9453,2,19920603,       1945,   -32.5095,  -117.9883,       3411,   365.1,  10.6027,  34.5992,2,  34.5977,2,    212.6,2,   209.2,2,    2.89,2,   14.35,2,    0.00,2,    1.08,2,   1.744,2,   0.870,2,  2105.7,2,  -999.0,9,-999.000,9,-999.0000,9, -999.00,9, -999.00,9,  -999.0,9,  -999.0,-999.000,9,-999.000,     -999.0,-999.0000,-999.000,    10.5586,-999.000
  316N138_4,       P06C,      82,          1,         26,    02-9544,2,19920603,       1945,   -32.5095,  -117.9883,       3411,   412.8,   8.8405,  34.4644,2,  34.4657,2,    219.7,2,   218.1,2,    4.20,2,   18.22,2,    0.00,2,    1.31,2,-999.000,9,-999.000,9,  -999.0,9,  -999.0,9,-999.000,9,-999.0000,9, -999.00,9, -999.00,9,  -999.0,9,  -999.0,-999.000,9,-999.000,     -999.0,-999.0000,-999.000,     8.7959,-999.000
  316N138_4,       P06C,      82,          1,         25,    02-9455,2,19920603,       1945,   -32.5095,  -117.9883,       3411,   459.7,   7.7253,  34.3969,2,  34.3998,2,    229.1,2,   229.4,2,    5.35,2,   20.39,2,    0.00,2,    1.44,2,   1.712,2,   0.849,2,  2119.7,2,  -999.0,9,-999.000,9,-999.0000,9, -999.00,9, -999.00,9,  -999.0,9,  -999.0,-999.000,9,-999.000,     -999.0,-999.0000,-999.000,     7.6794,-999.000
  316N138_4,       P06C,      82,          1,         24,        132,2,19920603,       1945,   -32.5095,  -117.9883,       3411,   535.2,   7.0241,  34.3758,2,  34.3749,2,    239.1,2,   241.1,2,    6.34,2,   21.50,2,    0.00,2,    1.50,2,-999.000,9,-999.000,9,  2126.8,2,  -999.0,9,-999.000,9,-999.0000,9, -999.00,9, -999.00,9,  -999.0,9,  -999.0,-999.000,9,-999.000,     -999.0,-999.0000,-999.000,     6.9732,-999.000
  316N138_4,       P06C,      82,          1,         23,        123,2,19920603,       1945,   -32.5095,  -117.9883,       3411,   607.8,   6.5989,  34.3563,2,  34.3596,2,    244.8,2,   244.4,2,    7.49,2,   22.36,2,    0.00,2,    1.54,2,   1.459,2,   0.737,2,  2129.4,2,  -999.0,9,-999.000,9,-999.0000,9, -999.00,9, -999.00,9,  -999.0,9,  -999.0,-999.000,9,-999.000,     -999.0,-999.0000,-999.000,     6.5427,-999.000
  316N138_4,       P06C,      82,          1,         22,        128,2,19920603,       1945,   -32.5095,  -117.9883,       3411,   678.4,   6.2438,  34.3321,2,  34.3360,2,    245.8,2,   244.8,2,    8.80,2,   23.38,2,    0.00,2,    1.62,2,-999.000,9,-999.000,9,  2130.9,2,  -999.0,9,-999.000,9,-999.0000,9, -999.00,9, -999.00,9,  -999.0,9,  -999.0,-999.000,9,-999.000,     -999.0,-999.0000,-999.000,     6.1826,-999.000
  316N138_4,       P06C,      82,          1,         21,        121,2,19920603,       1945,   -32.5095,  -117.9883,       3411,   751.7,   5.8452,  34.3054,2,  34.3082,2,    244.5,2,   242.2,2,   10.60,2,   24.66,2,    0.00,2,    1.68,2,   0.679,2,   0.374,2,  2134.2,2,  -999.0,9,-999.000,9,-999.0000,9, -999.00,9, -999.00,9,  -999.0,9,  -999.0,-999.000,9,-999.000,     -999.0,-999.0000,-999.000,     5.7793,-999.000
  316N138_4,       P06C,      82,          1,         20,        120,2,19920603,       1945,   -32.5095,  -117.9883,       3411,   824.9,   5.4487,  34.2886,2,  34.2936,2,    239.5,2,   236.2,2,   13.51,2,   26.19,2,    0.00,2,    1.78,2,   0.488,2,   0.292,2,  2139.4,2,  -999.0,9,-999.000,9,-999.0000,9, -999.00,9, -999.00,9,  -999.0,9,  -999.0,-999.000,9,-999.000,     -999.0,-999.0000,-999.000,     5.3785,-999.000
  316N138_4,       P06C,      82,          1,         19,        133,2,19920603,       1945,   -32.5095,  -117.9883,       3411,   923.1,   5.0227,  34.2843,2,  34.2842,2,    224.9,2,   225.5,2,   18.68,2,   28.26,2,    0.00,2,    1.91,2,   0.288,2,   0.173,2,  2148.2,2,  -999.0,9,-999.000,9,-999.0000,9, -999.00,9, -999.00,9,  -999.0,9,  -999.0,-999.000,9,-999.000,     -999.0,-999.0000,-999.000,     4.9464,-999.000
  316N138_4,       P06C,      82,          1,         18,        118,2,19920603,       1945,   -32.5095,  -117.9883,       3411,  1021.2,   4.5305,  34.3077,2,  34.3072,2,    205.7,2,   205.6,2,   27.53,2,   30.54,2,    0.00,2,    2.07,2,   0.151,2,   0.102,2,  2182.8,6,  -999.0,9,-999.000,9,-999.0000,9, -999.00,9, -999.00,9,  -999.0,9,  -999.0,-999.000,9,-999.000,     -999.0,-999.0000,-999.000,     4.4492,-999.000
  316N138_4,       P06C,      82,          1,         17,        117,2,19920603,       1945,   -32.5095,  -117.9883,       3411,  1117.8,   4.0181,  34.3440,2,  34.3421,2,    191.3,2,   187.0,2,   38.79,2,   32.87,2,    0.00,2,    2.25,2,   0.055,2,   0.044,3,  2206.0,2,  -999.0,9,-999.000,9,   1.8820,2,    4.60,2, -999.00,9,  -999.0,9,  -999.0,   8.158,2,   0.019,     -999.0,   0.0040,   0.150,     3.9328,-999.000
  316N138_4,       P06C,      82,          1,         16,        116,2,19920603,       1945,   -32.5095,  -117.9883,       3411,  1215.4,   3.5903,  34.3929,2,  34.3931,2,    181.9,3,   172.8,2,   50.53,2,   34.32,2,    0.00,2,    2.35,2,   0.025,2,   0.020,2,  2226.8,2,  -999.0,9,-999.000,9,   1.8560,2,    7.05,2, -999.00,9,  -999.0,9,  -999.0,   8.002,2,   0.018,     -999.0,   0.0040,   0.150,     3.5005,-999.000
  316N138_4,       P06C,      82,          1,         15,        115,2,19920603,       1945,   -32.5095,  -117.9883,       3411,  1315.8,   3.2384,  34.4459,2,  34.4453,2,    168.9,3,   164.5,2,   61.62,2,   35.11,2,    0.00,2,    2.42,2,   0.011,6,   0.007,6,  2241.6,2,  -999.0,9,-999.000,9,-999.0000,9, -999.00,9, -999.00,9,  -999.0,9,  -999.0,-999.000,9,-999.000,     -999.0,-999.0000,-999.000,     3.1435,-999.000
  316N138_4,       P06C,      82,          1,         14,        114,2,19920603,       1945,   -32.5095,  -117.9883,       3411,  1416.7,   2.9484,  34.4940,2,  34.4940,2,    164.0,2,   161.9,2,   70.79,2,   35.23,2,   -0.01,2,    2.45,2,   0.010,2,   0.009,2,  2252.7,2,  -999.0,9,-999.000,9,   1.9410,2,   11.33,2, -999.00,9,  -999.0,9,  -999.0,   8.310,2,   0.019,     -999.0,   0.0040,   0.150,     2.8482,-999.000
  316N138_4,       P06C,      82,          1,         13,        125,2,19920603,       1945,   -32.5095,  -117.9883,       3411,  1522.1,   2.6937,  34.5379,2,  34.5382,2,    163.2,2,   161.6,2,   79.64,2,   35.11,2,    0.00,2,    2.44,2,-999.000,5,   0.008,2,  2260.8,2,  -999.0,9,-999.000,9,   1.6660,2,   13.56,2, -999.00,9,  -999.0,9,  -999.0,   6.796,2,   0.016,     -999.0,   0.0030,   0.150,     2.5876,-999.000
  316N138_4,       P06C,      82,          1,         12,        112,2,19920603,       1945,   -32.5095,  -117.9883,       3411,  1626.1,   2.5121,  34.5734,2,  34.5739,2,    161.7,2,   160.1,2,   87.36,2,   35.11,2,    0.00,2,    2.45,2,   0.006,2,   0.001,2,  2268.7,2,  -999.0,9,-999.000,9,   1.9280,2,   15.63,2, -999.00,9,  -999.0,9,  -999.0,   8.217,2,   0.019,     -999.0,   0.0040,   0.150,     2.3996,-999.000
  316N138_4,       P06C,      82,          1,         11,        129,2,19920603,       1945,   -32.5095,  -117.9883,       3411,  1731.9,   2.3769,  34.5965,2,  34.5983,2,    160.3,2,   159.6,2,   94.75,2,   35.07,2,   -0.01,2,    2.46,2,-999.000,5,-999.000,5,  2276.3,2,  -999.0,9,-999.000,9,   1.9520,2,   16.61,2, -999.00,9,  -999.0,9,  -999.0,   8.239,2,   0.019,     -999.0,   0.0040,   0.150,     2.2576,-999.000
  316N138_4,       P06C,      82,          1,         10,        110,2,19920603,       1945,   -32.5095,  -117.9883,       3411,  1887.0,   2.2026,  34.6220,2,  34.6231,2,    158.3,2,   156.9,2,  104.40,2,   35.22,2,    0.00,2,    2.47,2,-999.000,9,-999.000,9,  2287.0,2,  -999.0,9,-999.000,9,   1.9490,2,   18.94,2, -999.00,9,  -999.0,9,  -999.0,   8.229,2,   0.019,     -999.0,   0.0040,   0.150,     2.0726,-999.000
  316N138_4,       P06C,      82,          1,          9,        126,2,19920603,       1945,   -32.5095,  -117.9883,       3411,  2042.7,   2.0572,  34.6393,2,  34.6394,2,    157.2,2,   156.3,2,  111.16,2,   35.27,2,    0.00,2,    2.47,2,   0.004,2,   0.003,2,  2290.5,2,  -999.0,9,-999.000,9,   1.9690,2,   20.44,2, -999.00,9,  -999.0,9,  -999.0,   8.296,2,   0.019,     -999.0,   0.0040,   0.150,     1.9162,-999.000
  316N138_4,       P06C,      82,          1,          8,        108,2,19920603,       1945,   -32.5095,  -117.9883,       3411,  2247.6,   1.9212,  34.6520,2,  34.6677,3,    157.9,2,   157.9,2,  116.79,2,   35.27,2,    0.00,2,    2.50,3,-999.000,9,-999.000,9,  2297.7,2,  -999.0,9,-999.000,9,   1.9690,2,   21.63,2, -999.00,9,  -999.0,9,  -999.0,   8.303,2,   0.019,     -999.0,   0.0040,   0.150,     1.7648,-999.000
  316N138_4,       P06C,      82,          1,          7,        107,2,19920603,       1945,   -32.5095,  -117.9883,       3411,  2401.0,   1.8462,  34.6603,2,  34.6627,2,    159.4,2,   159.2,2,  119.06,2,   35.22,2,    0.00,2,    2.47,2,   0.000,2,   0.006,2,  2298.7,2,  -999.0,9,-999.000,9,   1.9710,2,   21.99,2, -999.00,9,  -999.0,9,  -999.0,   8.328,2,   0.019,     -999.0,   0.0040,   0.150,     1.6776,-999.000
  316N138_4,       P06C,      82,          1,          6,        180,2,19920603,       1945,   -32.5095,  -117.9883,       3411,  2607.3,   1.7678,  34.6678,2,  34.6675,2,    161.7,2,   162.0,2,  120.69,2,   35.01,2,    0.00,2,    2.47,2,-999.000,9,-999.000,9,  2298.2,2,  -999.0,9,-999.000,9,   1.9630,2,   21.64,2, -999.00,9,  -999.0,9,  -999.0,   8.289,2,   0.019,     -999.0,   0.0040,   0.150,     1.5820,-999.000
  316N138_4,       P06C,      82,          1,          5,        131,2,19920603,       1945,   -32.5095,  -117.9883,       3411,  2816.1,   1.7293,  34.6722,2,  34.6730,2,    164.1,2,   164.2,2,  121.51,2,   34.89,2,    0.00,2,    2.46,2,-999.000,5,   0.003,2,  2298.3,2,  -999.0,9,-999.000,9,   1.8730,2,   20.96,2, -999.00,9,  -999.0,9,  -999.0,   7.855,2,   0.018,     -999.0,   0.0040,   0.150,     1.5249,-999.000
  316N138_4,       P06C,      82,          1,          4,        104,2,19920603,       1945,   -32.5095,  -117.9883,       3411,  3024.2,   1.7166,  34.6754,2,  34.6765,2,    165.3,2,   165.1,2,  121.85,2,   34.80,2,    0.00,2,    2.45,2,-999.000,9,-999.000,9,  2299.1,2,  -999.0,9,-999.000,9,   1.9510,2,   20.84,2, -999.00,9,  -999.0,9,  -999.0,   8.303,2,   0.019,     -999.0,   0.0040,   0.150,     1.4927,-999.000
  316N138_4,       P06C,      82,          1,          3,        130,2,19920603,       1945,   -32.5095,  -117.9883,       3411,  3234.0,   1.7203,  34.6772,2,  34.6775,2,    165.8,2,   165.5,2,  121.71,2,   34.69,2,    0.00,2,    2.44,2,  -0.002,2,   0.004,2,  2297.5,2,  -999.0,9,-999.000,9,   1.9670,2,   20.02,2, -999.00,9,  -999.0,9,  -999.0,   8.339,2,   0.019,     -999.0,   0.0040,   0.150,     1.4757,-999.000
  316N138_4,       P06C,      82,          1,          2,        135,2,19920603,       1945,   -32.5095,  -117.9883,       3411,  3427.7,   1.7333,  34.6773,2,  34.6771,2,    166.8,2,   166.3,2,  121.89,2,   34.74,2,    0.00,2,    2.44,2,   0.001,2,  -0.002,2,  2298.2,2,  -999.0,9,-999.000,9,   1.9640,2,   20.12,2, -999.00,9,  -999.0,9,  -999.0,   8.365,2,   0.019,     -999.0,   0.0040,   0.150,     1.4687,-999.000
  316N138_4,       P06C,      82,          1,          1,        134,2,19920603,       1945,   -32.5095,  -117.9883,       3411,  3479.0,   1.7384,  34.6778,2,  34.6765,2,    166.5,2,   166.3,2,  121.77,2,   34.69,2,    0.00,2,    2.42,2,   0.002,6,   0.004,6,  2297.3,6,  -999.0,9,-999.000,9,-999.0000,9, -999.00,9, -999.00,9,  -999.0,9,  -999.0,-999.000,9,-999.000,     -999.0,-999.0000,-999.000,     1.4684,-999.000