BOTTLE,20211025CCHSIORKP
EXPOCODE,SECT_ID,STNNBR,CASTNO,SAMPNO,BTLNBR,BTLNBR_FLAG_W,DATE,TIME,LATITUDE,LONGITUDE,DEPTH,CTDPRS,CTDTMP,CTDSAL,CTDSAL_FLAG_W,SALNTY,SALNTY_FLAG_W,CTDOXY,CTDOXY_FLAG_W,OXYGEN,OXYGEN_FLAG_W,SILCAT,SILCAT_FLAG_W,NITRAT,NITRAT_FLAG_W,NITRIT,NITRIT_FLAG_W,PHSPHT,PHSPHT_FLAG_W,CFC-11,CFC-11_FLAG_W,CFC-12,CFC-12_FLAG_W,TCARBN,TCARBN_FLAG_W,PCO2,PCO2_FLAG_W,TRITUM,TRITUM_FLAG_W,HELIUM,HELIUM_FLAG_W,DELHE3,DELHE3_FLAG_W,DELC13,DELC13_FLAG_W,DELC14,DELC14_FLAG_W,C14ERR,NEON,NEON_FLAG_W,NEONER,PCO2TMP,HELIER,DELHER,THETA,TRITER
,,,,,,,,,,,METERS,DBAR,ITS-90,PSS-78,,PSS-78,,UMOL/KG,,UMOL/KG,,UMOL/KG,,UMOL/KG,,UMOL/KG,,UMOL/KG,,PMOL/KG,,PMOL/KG,,UMOL/KG,,UATM,,TU,,NMOL/KG,,PERCNT,,/MILLE,,/MILLE,,/MILLE,NMOL/KG,,NMOL/KG,DEG_C,NMOL/KG,PERCNT,ITS-90,TU
  316N138_4,       P06C,     128,          1,         36,    02-9121,2,19920619,       1117,   -32.5135,  -150.6653,       5099,    22.8,  17.7966,  35.3139,2,  35.3131,2,    235.9,2,   234.5,2,    0.40,2,    0.00,2,    0.01,2,    0.11,2,   2.432,2,-999.000,5,  -999.0,9,  -999.0,9,-999.000,9,-999.0000,9, -999.00,9, -999.00,9,  -999.0,9,  -999.0,-999.000,9,-999.000,     -999.0,-999.0000,-999.000,    17.7927,-999.000
  316N138_4,       P06C,     128,          1,         35,    02-9454,2,19920619,       1117,   -32.5135,  -150.6653,       5099,    59.5,  17.7940,  35.3142,2,  35.3125,2,    233.1,2,   234.7,2,    0.40,2,    0.00,2,    0.02,2,    0.10,2,   2.435,6,   1.309,6,  -999.0,9,  -999.0,9,-999.000,9,-999.0000,9, -999.00,9, -999.00,9,  -999.0,9,  -999.0,-999.000,9,-999.000,     -999.0,-999.0000,-999.000,    17.7839,-999.000
  316N138_4,       P06C,     128,          1,         34,    02-9457,2,19920619,       1117,   -32.5135,  -150.6653,       5099,   109.3,  17.0427,  35.2633,2,  35.2824,2,    235.9,2,   240.1,2,    0.41,2,    0.00,2,    0.01,2,    0.13,2,   2.510,2,   1.326,2,  -999.0,9,  -999.0,9,-999.000,9,-999.0000,9, -999.00,9, -999.00,9,  -999.0,9,  -999.0,-999.000,9,-999.000,     -999.0,-999.0000,-999.000,    17.0246,-999.000
  316N138_4,       P06C,     128,          1,         33,    02-5367,2,19920619,       1117,   -32.5135,  -150.6653,       5099,   157.8,  15.4392,  35.2476,2,  35.2463,2,    224.4,2,   224.5,2,    0.56,2,    1.61,2,    0.10,2,    0.28,2,   2.521,2,   1.345,2,  -999.0,9,  -999.0,9,-999.000,9,-999.0000,9, -999.00,9, -999.00,9,  -999.0,9,  -999.0,-999.000,9,-999.000,     -999.0,-999.0000,-999.000,    15.4148,-999.000
  316N138_4,       P06C,     128,          1,         32,    02-9540,2,19920619,       1117,   -32.5135,  -150.6653,       5099,   204.7,  14.5564,  35.1662,2,  35.1634,2,    217.2,2,   219.4,2,    0.84,2,    3.45,2,    0.02,2,    0.39,2,   2.525,2,   1.348,2,  -999.0,9,  -999.0,9,-999.000,9,-999.0000,9, -999.00,9, -999.00,9,  -999.0,9,  -999.0,-999.000,9,-999.000,     -999.0,-999.0000,-999.000,    14.5260,-999.000
  316N138_4,       P06C,     128,          1,         31,    02-9539,2,19920619,       1117,   -32.5135,  -150.6653,       5099,   250.0,  13.7765,  35.1080,2,  35.1110,2,    202.9,2,   203.4,2,    1.70,2,    7.28,2,    0.02,2,    0.62,2,   2.206,2,   1.151,2,  -999.0,9,  -999.0,9,-999.000,9,-999.0000,9, -999.00,9, -999.00,9,  -999.0,9,  -999.0,-999.000,9,-999.000,     -999.0,-999.0000,-999.000,    13.7407,-999.000
  316N138_4,       P06C,     128,          1,         30,    02-9456,2,19920619,       1117,   -32.5135,  -150.6653,       5099,   298.3,  12.0890,  34.9371,2,  34.9410,3,    203.2,2,   200.0,2,    2.56,2,   11.22,2,    0.01,2,    0.84,2,   1.984,2,   0.992,2,  -999.0,9,  -999.0,9,-999.000,9,-999.0000,9, -999.00,9, -999.00,9,  -999.0,9,  -999.0,-999.000,9,-999.000,     -999.0,-999.0000,-999.000,    12.0497,-999.000
  316N138_4,       P06C,     128,          1,         29,    02-9458,2,19920619,       1117,   -32.5135,  -150.6653,       5099,   346.2,  10.4392,  34.7423,2,  34.7414,2,    208.1,2,   206.7,2,    3.28,2,   14.59,2,    0.01,2,    1.04,2,   1.903,2,   0.948,2,  -999.0,9,  -999.0,9,-999.000,9,-999.0000,9, -999.00,9, -999.00,9,  -999.0,9,  -999.0,-999.000,9,-999.000,     -999.0,-999.0000,-999.000,    10.3977,-999.000
  316N138_4,       P06C,     128,          1,         28,    02-9545,2,19920619,       1117,   -32.5135,  -150.6653,       5099,   391.7,   9.1531,  34.6037,2,  34.6026,2,    215.4,2,   214.6,2,    3.99,2,   17.23,2,    0.01,2,    1.19,2,   1.775,6,   0.875,6,  -999.0,9,  -999.0,9,-999.000,9,-999.0000,9, -999.00,9, -999.00,9,  -999.0,9,  -999.0,-999.000,9,-999.000,     -999.0,-999.0000,-999.000,     9.1099,-999.000
  316N138_4,       P06C,     128,          1,         27,    02-9453,2,19920619,       1117,   -32.5135,  -150.6653,       5099,   439.6,   8.4239,  34.5336,2,  34.5364,2,    222.5,2,   220.7,2,    4.85,2,   18.85,2,    0.01,2,    1.28,2,   1.595,2,   0.783,2,  -999.0,9,  -999.0,9,-999.000,9,-999.0000,9, -999.00,9, -999.00,9,  -999.0,9,  -999.0,-999.000,9,-999.000,     -999.0,-999.0000,-999.000,     8.3776,-999.000
  316N138_4,       P06C,     128,          1,         26,    02-9544,2,19920619,       1117,   -32.5135,  -150.6653,       5099,   485.6,   7.8939,  34.4840,2,  34.4858,2,    230.3,2,   229.4,2,    5.28,2,   19.92,2,    0.01,2,    1.34,2,   1.612,6,   0.783,6,  -999.0,9,  -999.0,9,-999.000,9,-999.0000,9, -999.00,9, -999.00,9,  -999.0,9,  -999.0,-999.000,9,-999.000,     -999.0,-999.0000,-999.000,     7.8446,-999.000
  316N138_4,       P06C,     128,          1,         25,    02-9455,2,19920619,       1117,   -32.5135,  -150.6653,       5099,   586.3,   7.1225,  34.4195,2,  34.4210,2,    240.0,2,   236.6,2,    6.72,2,   21.64,2,    0.01,2,    1.43,2,   1.245,6,   0.615,6,  -999.0,9,  -999.0,9,-999.000,9,-999.0000,9, -999.00,9, -999.00,9,  -999.0,9,  -999.0,-999.000,9,-999.000,     -999.0,-999.0000,-999.000,     7.0660,-999.000
  316N138_4,       P06C,     128,          1,         24,        132,3,19920619,       1117,   -32.5135,  -150.6653,       5099,   685.0,   6.6044,  34.3750,2,  34.8106,4,    238.3,2,   233.5,3,    4.73,4,   13.13,4,    0.01,4,    0.93,4,-999.000,9,-999.000,9,  -999.0,9,  -999.0,9,-999.000,9,-999.0000,9, -999.00,9, -999.00,9,  -999.0,9,  -999.0,-999.000,9,-999.000,     -999.0,-999.0000,-999.000,     6.5406,-999.000
  316N138_4,       P06C,     128,          1,         23,        123,2,19920619,       1117,   -32.5135,  -150.6653,       5099,   783.7,   6.0750,  34.3441,2,  34.3411,2,    232.8,2,   231.4,2,   11.28,2,   25.03,2,    0.00,2,    1.64,2,   0.482,6,   0.262,6,  -999.0,9,  -999.0,9,-999.000,9,-999.0000,9, -999.00,9, -999.00,9,  -999.0,9,  -999.0,-999.000,9,-999.000,     -999.0,-999.0000,-999.000,     6.0049,-999.000
  316N138_4,       P06C,     128,          1,         22,        128,2,19920619,       1117,   -32.5135,  -150.6653,       5099,   881.7,   5.4677,  34.3206,2,  34.3186,2,    222.7,2,   220.1,2,   17.13,2,   27.44,2,    0.00,2,    1.80,2,   0.283,6,   0.161,6,  -999.0,9,  -999.0,9,-999.000,9,-999.0000,9, -999.00,9, -999.00,9,  -999.0,9,  -999.0,-999.000,9,-999.000,     -999.0,-999.0000,-999.000,     5.3922,-999.000
  316N138_4,       P06C,     128,          1,         21,        121,3,19920619,       1117,   -32.5135,  -150.6653,       5099,  1082.2,   4.3336,  34.3462,2,  34.3682,3,    196.6,2,   196.9,2,   32.11,4,   30.49,4,    0.01,4,    2.01,4,-999.000,9,-999.000,9,  -999.0,9,  -999.0,9,-999.000,9,-999.0000,9, -999.00,9, -999.00,9,  -999.0,9,  -999.0,-999.000,9,-999.000,     -999.0,-999.0000,-999.000,     4.2485,-999.000
  316N138_4,       P06C,     128,          1,         20,        120,2,19920619,       1117,   -32.5135,  -150.6653,       5099,  1280.1,   3.4156,  34.4208,2,  34.4180,2,    178.4,2,   178.0,2,   53.92,2,   33.83,2,    0.00,2,    2.26,2,   0.020,6,   0.008,6,  -999.0,9,  -999.0,9,-999.000,9,-999.0000,9, -999.00,9, -999.00,9,  -999.0,9,  -999.0,-999.000,9,-999.000,     -999.0,-999.0000,-999.000,     3.3220,-999.000
  316N138_4,       P06C,     128,          1,         19,        133,2,19920619,       1117,   -32.5135,  -150.6653,       5099,  1477.9,   2.8332,  34.5161,2,  34.5142,2,    166.5,2,   167.0,2,   74.16,2,   34.71,2,    0.00,2,    2.34,2,   0.002,2,-999.000,5,  -999.0,9,  -999.0,9,-999.000,9,-999.0000,9, -999.00,9, -999.00,9,  -999.0,9,  -999.0,-999.000,9,-999.000,     -999.0,-999.0000,-999.000,     2.7292,-999.000
  316N138_4,       P06C,     128,          1,         18,        118,2,19920619,       1117,   -32.5135,  -150.6653,       5099,  1677.5,   2.5266,  34.5854,2,  34.5848,2,    158.0,2,   156.6,2,   92.25,2,   35.13,2,    0.00,2,    2.40,2,-999.000,9,-999.000,9,  -999.0,9,  -999.0,9,-999.000,9,-999.0000,9, -999.00,9, -999.00,9,  -999.0,9,  -999.0,-999.000,9,-999.000,     -999.0,-999.0000,-999.000,     2.4098,-999.000
  316N138_4,       P06C,     128,          1,         17,        117,2,19920619,       1117,   -32.5135,  -150.6653,       5099,  1876.1,   2.3206,  34.6186,2,  34.6179,2,    153.0,2,   151.7,2,  104.94,2,   35.41,2,    0.00,2,    2.44,2,  -0.003,2,  -0.002,2,  -999.0,9,  -999.0,9,-999.000,9,-999.0000,9, -999.00,9, -999.00,9,  -999.0,9,  -999.0,-999.000,9,-999.000,     -999.0,-999.0000,-999.000,     2.1899,-999.000
  316N138_4,       P06C,     128,          1,         16,        116,2,19920619,       1117,   -32.5135,  -150.6653,       5099,  2074.6,   2.1664,  34.6366,2,  34.6362,2,    149.9,2,   148.5,2,  113.78,2,   35.69,2,    0.00,2,    2.49,2,-999.000,9,-999.000,9,  -999.0,9,  -999.0,9,-999.000,9,-999.0000,9, -999.00,9, -999.00,9,  -999.0,9,  -999.0,-999.000,9,-999.000,     -999.0,-999.0000,-999.000,     2.0210,-999.000
  316N138_4,       P06C,     128,          1,         15,        115,2,19920619,       1117,   -32.5135,  -150.6653,       5099,  2271.2,   2.0415,  34.6468,2,  34.6478,2,    147.8,2,   147.2,2,  120.62,2,   35.96,2,    0.01,2,    2.50,2,-999.000,9,-999.000,9,  -999.0,9,  -999.0,9,-999.000,9,-999.0000,9, -999.00,9, -999.00,9,  -999.0,9,  -999.0,-999.000,9,-999.000,     -999.0,-999.0000,-999.000,     1.8810,-999.000
  316N138_4,       P06C,     128,          1,         14,        114,2,19920619,       1117,   -32.5135,  -150.6653,       5099,  2469.7,   1.9539,  34.6547,2,  34.6551,2,    147.8,2,   146.6,2,  125.03,2,   36.11,2,    0.01,2,    2.52,2,   0.000,2,  -0.002,2,  -999.0,9,  -999.0,9,-999.000,9,-999.0000,9, -999.00,9, -999.00,9,  -999.0,9,  -999.0,-999.000,9,-999.000,     -999.0,-999.0000,-999.000,     1.7772,-999.000
  316N138_4,       P06C,     128,          1,         13,        125,2,19920619,       1117,   -32.5135,  -150.6653,       5099,  2678.0,   1.8707,  34.6618,2,  34.6624,2,    148.9,2,   148.1,2,  127.60,2,   36.02,2,    0.01,2,    2.51,2,-999.000,9,-999.000,9,  -999.0,9,  -999.0,9,-999.000,9,-999.0000,9, -999.00,9, -999.00,9,  -999.0,9,  -999.0,-999.000,9,-999.000,     -999.0,-999.0000,-999.000,     1.6764,-999.000
  316N138_4,       P06C,     128,          1,         12,        112,2,19920619,       1117,   -32.5135,  -150.6653,       5099,  2889.2,   1.7970,  34.6695,2,  34.6694,2,    151.9,2,   150.7,2,  129.03,2,   35.79,2,    0.01,2,    2.49,2,-999.000,9,-999.000,9,  -999.0,9,  -999.0,9,-999.000,9,-999.0000,9, -999.00,9, -999.00,9,  -999.0,9,  -999.0,-999.000,9,-999.000,     -999.0,-999.0000,-999.000,     1.5843,-999.000
  316N138_4,       P06C,     128,          1,         11,        129,2,19920619,       1117,   -32.5135,  -150.6653,       5099,  3091.2,   1.7290,  34.6755,2,  34.6753,2,    156.5,2,   156.8,2,  128.31,2,   35.42,2,    0.01,2,    2.46,2,  -0.002,2,  -0.001,2,  -999.0,9,  -999.0,9,-999.000,9,-999.0000,9, -999.00,9, -999.00,9,  -999.0,9,  -999.0,-999.000,9,-999.000,     -999.0,-999.0000,-999.000,     1.4983,-999.000
  316N138_4,       P06C,     128,          1,         10,        110,2,19920619,       1117,   -32.5135,  -150.6653,       5099,  3295.9,   1.6658,  34.6824,2,  34.6824,2,    161.8,2,   161.5,2,  127.17,2,   34.96,2,    0.01,2,    2.44,2,-999.000,9,-999.000,9,  -999.0,9,  -999.0,9,-999.000,9,-999.0000,9, -999.00,9, -999.00,9,  -999.0,9,  -999.0,-999.000,9,-999.000,     -999.0,-999.0000,-999.000,     1.4163,-999.000
  316N138_4,       P06C,     128,          1,          9,        126,2,19920619,       1117,   -32.5135,  -150.6653,       5099,  3497.3,   1.5958,  34.6932,2,  34.6932,2,    169.5,2,   169.9,2,  123.32,2,   34.23,2,    0.01,2,    2.39,2,-999.000,9,-999.000,9,  -999.0,9,  -999.0,9,-999.000,9,-999.0000,9, -999.00,9, -999.00,9,  -999.0,9,  -999.0,-999.000,9,-999.000,     -999.0,-999.0000,-999.000,     1.3275,-999.000
  316N138_4,       P06C,     128,          1,          8,        108,2,19920619,       1117,   -32.5135,  -150.6653,       5099,  3698.4,   1.5263,  34.7016,2,  34.7009,2,    177.5,2,   178.5,2,  120.05,2,   33.55,2,    0.00,2,    2.33,2,  -0.003,2,  -0.002,2,  -999.0,9,  -999.0,9,-999.000,9,-999.0000,9, -999.00,9, -999.00,9,  -999.0,9,  -999.0,-999.000,9,-999.000,     -999.0,-999.0000,-999.000,     1.2388,-999.000
  316N138_4,       P06C,     128,          1,          7,        107,2,19920619,       1117,   -32.5135,  -150.6653,       5099,  3900.1,   1.4441,  34.7071,2,  34.7070,2,    185.1,2,   185.2,2,  117.63,2,   33.04,2,    0.00,2,    2.29,2,-999.000,9,-999.000,9,  -999.0,9,  -999.0,9,-999.000,9,-999.0000,9, -999.00,9, -999.00,9,  -999.0,9,  -999.0,-999.000,9,-999.000,     -999.0,-999.0000,-999.000,     1.1373,-999.000
  316N138_4,       P06C,     128,          1,          6,        180,2,19920619,       1117,   -32.5135,  -150.6653,       5099,  4111.1,   1.3567,  34.7134,2,  34.7123,2,    192.9,2,   193.9,2,  115.34,2,   32.49,2,    0.00,2,    2.27,2,-999.000,9,-999.000,9,  -999.0,9,  -999.0,9,-999.000,9,-999.0000,9, -999.00,9, -999.00,9,  -999.0,9,  -999.0,-999.000,9,-999.000,     -999.0,-999.0000,-999.000,     1.0296,-999.000
  316N138_4,       P06C,     128,          1,          5,        131,2,19920619,       1117,   -32.5135,  -150.6653,       5099,  4316.0,   1.2668,  34.7144,2,  34.7142,2,    198.9,2,   198.7,2,  115.35,2,   32.22,2,    0.00,2,    2.24,2,   0.002,2,  -0.001,2,  -999.0,9,  -999.0,9,-999.000,9,-999.0000,9, -999.00,9, -999.00,9,  -999.0,9,  -999.0,-999.000,9,-999.000,     -999.0,-999.0000,-999.000,     0.9197,-999.000
  316N138_4,       P06C,     128,          1,          4,        104,2,19920619,       1117,   -32.5135,  -150.6653,       5099,  4521.9,   1.1862,  34.7122,2,  34.7127,2,    201.3,2,   200.9,2,  117.77,2,   32.26,2,    0.01,2,    2.24,2,-999.000,9,-999.000,9,  -999.0,9,  -999.0,9,-999.000,9,-999.0000,9, -999.00,9, -999.00,9,  -999.0,9,  -999.0,-999.000,9,-999.000,     -999.0,-999.0000,-999.000,     0.8183,-999.000
  316N138_4,       P06C,     128,          1,          3,        130,2,19920619,       1117,   -32.5135,  -150.6653,       5099,  4726.6,   1.1458,  34.7113,2,  34.7121,2,    203.0,2,   202.0,2,  118.91,2,   32.26,2,    0.01,2,    2.23,2,-999.000,9,-999.000,9,  -999.0,9,  -999.0,9,-999.000,9,-999.0000,9, -999.00,9, -999.00,9,  -999.0,9,  -999.0,-999.000,9,-999.000,     -999.0,-999.0000,-999.000,     0.7556,-999.000
  316N138_4,       P06C,     128,          1,          2,        135,2,19920619,       1117,   -32.5135,  -150.6653,       5099,  4930.7,   1.1254,  34.7116,2,  34.7117,2,    205.1,2,   204.0,2,  119.20,2,   32.22,2,    0.01,2,    2.22,2,   0.001,2,  -0.005,2,  -999.0,9,  -999.0,9,-999.000,9,-999.0000,9, -999.00,9, -999.00,9,  -999.0,9,  -999.0,-999.000,9,-999.000,     -999.0,-999.0000,-999.000,     0.7119,-999.000
  316N138_4,       P06C,     128,          1,          1,        134,2,19920619,       1117,   -32.5135,  -150.6653,       5099,  5122.7,   1.1253,  34.7112,2,  34.7115,2,    206.3,2,   205.8,2,  119.54,2,   32.13,2,    0.01,2,    2.22,2,  -0.001,2,   0.000,2,  -999.0,9,  -999.0,9,-999.000,9,-999.0000,9, -999.00,9, -999.00,9,  -999.0,9,  -999.0,-999.000,9,-999.000,     -999.0,-999.0000,-999.000,     0.6888,-999.000