BOTTLE,20211025CCHSIORKP
EXPOCODE,SECT_ID,STNNBR,CASTNO,SAMPNO,BTLNBR,BTLNBR_FLAG_W,DATE,TIME,LATITUDE,LONGITUDE,DEPTH,CTDPRS,CTDTMP,CTDSAL,CTDSAL_FLAG_W,SALNTY,SALNTY_FLAG_W,CTDOXY,CTDOXY_FLAG_W,OXYGEN,OXYGEN_FLAG_W,SILCAT,SILCAT_FLAG_W,NITRAT,NITRAT_FLAG_W,NITRIT,NITRIT_FLAG_W,PHSPHT,PHSPHT_FLAG_W,CFC-11,CFC-11_FLAG_W,CFC-12,CFC-12_FLAG_W,TCARBN,TCARBN_FLAG_W,PCO2,PCO2_FLAG_W,TRITUM,TRITUM_FLAG_W,HELIUM,HELIUM_FLAG_W,DELHE3,DELHE3_FLAG_W,DELC13,DELC13_FLAG_W,DELC14,DELC14_FLAG_W,C14ERR,NEON,NEON_FLAG_W,NEONER,PCO2TMP,HELIER,DELHER,THETA,TRITER
,,,,,,,,,,,METERS,DBAR,ITS-90,PSS-78,,PSS-78,,UMOL/KG,,UMOL/KG,,UMOL/KG,,UMOL/KG,,UMOL/KG,,UMOL/KG,,PMOL/KG,,PMOL/KG,,UMOL/KG,,UATM,,TU,,NMOL/KG,,PERCNT,,/MILLE,,/MILLE,,/MILLE,NMOL/KG,,NMOL/KG,DEG_C,NMOL/KG,PERCNT,ITS-90,TU
  316N138_4,       P06C,     176,          1,         36,    02-9121,2,19920702,       1150,   -32.5055,  -177.9942,       5868,    19.8,  15.8478,  35.4444,2,  35.4423,2,    240.3,2,   242.1,2,    0.80,2,    0.35,2,    0.05,2, -999.00,5,-999.000,5,-999.000,5,  2046.0,6,  -999.0,9,   0.617,2,   1.8050,2,   -1.50,2, -999.00,9,  -999.0,9,  -999.0,-999.000,9,-999.000,     -999.0,-999.0000,   0.150,    15.8447,   0.004
  316N138_4,       P06C,     176,          1,         35,    02-9454,2,19920702,       1150,   -32.5055,  -177.9942,       5868,    58.9,  15.8482,  35.4425,2,  35.4427,2,    235.5,2,   240.6,2,    0.80,2,    0.29,2,    0.06,2, -999.00,5,-999.000,5,-999.000,5,  2046.1,2,  -999.0,9,   0.618,2,   1.7830,2,   -1.35,2, -999.00,9,  -999.0,9,  -999.0,-999.000,9,-999.000,     -999.0,-999.0000,   0.150,    15.8390,   0.004
  316N138_4,       P06C,     176,          1,         34,    02-9457,2,19920702,       1150,   -32.5055,  -177.9942,       5868,   109.4,  15.1874,  35.3874,2,  35.3845,2,    240.0,2,   222.9,2,    1.58,2,    3.67,2,    0.08,2, -999.00,5,-999.000,5,-999.000,5,  2068.1,2,  -999.0,9,   0.582,2,   1.7890,2,   -1.05,2, -999.00,9,  -999.0,9,  -999.0,-999.000,9,-999.000,     -999.0,-999.0000,   0.150,    15.1707,   0.004
  316N138_4,       P06C,     176,          1,         33,    02-5367,2,19920702,       1150,   -32.5055,  -177.9942,       5868,   209.7,  13.0538,  35.1643,2,  35.1508,2,    208.5,2,   212.4,2,    3.14,2,    9.17,2,    0.01,2, -999.00,5,-999.000,5,-999.000,5,  2097.1,2,  -999.0,9,   0.481,2,   1.8110,2,   -1.16,2, -999.00,9,  -999.0,9,  -999.0,-999.000,9,-999.000,     -999.0,-999.0000,   0.150,    13.0248,   0.004
  316N138_4,       P06C,     176,          1,         32,    02-9540,2,19920702,       1150,   -32.5055,  -177.9942,       5868,   308.8,  11.2270,  34.9187,2,  34.8955,2,    208.0,2,   204.1,2,    4.33,2,   13.88,2,    0.01,2, -999.00,5,-999.000,5,-999.000,5,  2115.9,2,  -999.0,9,   0.380,2,   1.8230,2,   -0.42,2, -999.00,9,  -999.0,9,  -999.0,-999.000,9,-999.000,     -999.0,-999.0000,   0.150,    11.1883,   0.003
  316N138_4,       P06C,     176,          1,         31,    02-9539,2,19920702,       1150,   -32.5055,  -177.9942,       5868,   407.9,   9.3165,  34.6570,2,  34.6431,2,    205.7,2,   211.3,2,    5.30,2,   17.91,2,    0.01,2, -999.00,5,-999.000,5,-999.000,5,  2127.7,2,  -999.0,9,   0.285,2,   1.8230,2,   -0.31,2, -999.00,9,  -999.0,9,  -999.0,-999.000,9,-999.000,     -999.0,-999.0000,   0.150,     9.2709,   0.003
  316N138_4,       P06C,     176,          1,         30,    02-9456,2,19920702,       1150,   -32.5055,  -177.9942,       5868,   507.6,   8.0365,  34.5222,2,  34.5168,2,    217.8,2,   223.7,2,    6.08,2,   20.09,2,    0.00,2, -999.00,5,-999.000,5,-999.000,5,  2130.0,2,  -999.0,9,   0.240,2,   1.8250,2,   -0.25,2, -999.00,9,  -999.0,9,  -999.0,-999.000,9,-999.000,     -999.0,-999.0000,   0.150,     7.9843,   0.003
  316N138_4,       P06C,     176,          1,         29,    02-9458,2,19920702,       1150,   -32.5055,  -177.9942,       5868,   607.6,   7.3366,  34.4506,2,  34.4491,2,    226.8,2,   229.7,2,    7.06,2,   21.59,2,    0.00,2, -999.00,5,-999.000,5,-999.000,5,  2132.3,2,  -999.0,9,   0.201,2,   1.8520,2,    1.11,2, -999.00,9,  -999.0,9,  -999.0,-999.000,9,-999.000,     -999.0,-999.0000,   0.150,     7.2770,   0.003
  316N138_4,       P06C,     176,          1,         28,    02-9545,2,19920702,       1150,   -32.5055,  -177.9942,       5868,   707.9,   6.7340,  34.3891,2,  34.3951,2,    229.4,2,   239.1,2,    9.02,2,   23.13,2,    0.00,2, -999.00,5,-999.000,5,-999.000,5,  2136.7,2,  -999.0,9,   0.148,2,   1.8230,2,    1.14,2, -999.00,9,  -999.0,9,  -999.0,-999.000,9,-999.000,     -999.0,-999.0000,   0.150,     6.6674,   0.002
  316N138_4,       P06C,     176,          1,         27,    02-9453,2,19920702,       1150,   -32.5055,  -177.9942,       5868,   809.0,   6.0805,  34.3579,2,  34.3566,2,    227.9,2,   221.7,2,   13.71,2,   25.62,2,    0.00,2, -999.00,5,-999.000,5,-999.000,5,  2148.4,2,  -999.0,9,   0.082,2,   1.8330,2,    1.65,2, -999.00,9,  -999.0,9,  -999.0,-999.000,9,-999.000,     -999.0,-999.0000,   0.150,     6.0079,   0.002
  316N138_4,       P06C,     176,          1,         26,    02-9544,2,19920702,       1150,   -32.5055,  -177.9942,       5868,   960.2,   5.4192,  34.3847,2,  34.3835,2,    204.7,2,   199.2,2,   25.63,2,   28.63,2,    0.02,2, -999.00,5,-999.000,5,-999.000,5,  2175.8,2,  -999.0,9,   0.038,2,   1.8510,2,    4.00,2, -999.00,9,  -999.0,9,  -999.0,-999.000,9,-999.000,     -999.0,-999.0000,   0.150,     5.3365,   0.002
  316N138_4,       P06C,     176,          1,         25,    02-9455,2,19920702,       1150,   -32.5055,  -177.9942,       5868,  1111.6,   4.4318,  34.4068,3,  34.3931,2,    193.8,3,   186.2,2,   39.89,2,   31.45,2,    0.01,2, -999.00,5,-999.000,5,-999.000,5,  2201.7,2,  -999.0,9,   0.011,2,   1.8630,2,    6.18,2, -999.00,9,  -999.0,9,  -999.0,-999.000,9,-999.000,     -999.0,-999.0000,   0.150,     4.3434,   0.002
  316N138_4,       P06C,     176,          1,         24,        132,2,19920702,       1150,   -32.5055,  -177.9942,       5868,  1312.3,   3.4587,  34.4594,2,  34.4636,2,    177.0,2,   172.7,2,   61.96,2,   33.73,2,    0.00,2, -999.00,5,-999.000,5,-999.000,5,  2235.5,2,  -999.0,9,   0.007,2,   1.8910,2,   10.53,2, -999.00,9,  -999.0,9,  -999.0,-999.000,9,-999.000,     -999.0,-999.0000,   0.150,     3.3619,   0.002
  316N138_4,       P06C,     176,          1,         23,        123,2,19920702,       1150,   -32.5055,  -177.9942,       5868,  1514.6,   2.9927,  34.5374,2,  34.5386,2,    165.1,2,   160.3,2,   81.89,2,   34.58,2,    0.00,2, -999.00,5,-999.000,5,-999.000,5,  2262.9,6,  -999.0,9,   0.003,2,-999.0000,9, -999.00,9, -999.00,9,  -999.0,9,  -999.0,-999.000,9,-999.000,     -999.0,-999.0000,-999.000,     2.8838,   0.002
  316N138_4,       P06C,     176,          1,         22,        128,2,19920702,       1150,   -32.5055,  -177.9942,       5868,  1716.5,   2.6833,  34.5770,2,  34.5775,2,    156.9,2,   154.5,2,   94.00,2,   35.17,2,    0.00,2, -999.00,5,-999.000,5,-999.000,5,  2275.5,2,  -999.0,9,   0.001,2,   1.9250,2,   20.28,2, -999.00,9,  -999.0,9,  -999.0,-999.000,9,-999.000,     -999.0,-999.0000,   0.150,     2.5612,   0.002
  316N138_4,       P06C,     176,          1,         21,        121,2,19920702,       1150,   -32.5055,  -177.9942,       5868,  1917.9,   2.5064,  34.6032,2,  34.6044,2,    152.7,2,   149.8,2,  104.55,2,   35.52,2,    0.01,2, -999.00,5,-999.000,5,-999.000,5,  2289.3,2,  -999.0,9,-999.000,9,-999.0000,9, -999.00,9, -999.00,9,  -999.0,9,  -999.0,-999.000,9,-999.000,     -999.0,-999.0000,-999.000,     2.3695,-999.000
  316N138_4,       P06C,     176,          1,         20,        120,3,19920702,       1150,   -32.5055,  -177.9942,       5868,  2117.3,   2.3635,  34.6197,2,  35.1128,4,    149.4,2,   176.3,4,   20.75,4,   11.40,4,    0.05,4, -999.00,5,-999.000,5,-999.000,5,  2186.5,3,  -999.0,9,-999.000,9,   1.9170,2,   17.97,2, -999.00,9,  -999.0,9,  -999.0,-999.000,9,-999.000,     -999.0,-999.0000,   0.150,     2.2114,-999.000
  316N138_4,       P06C,     176,          1,         19,        133,2,19920702,       1150,   -32.5055,  -177.9942,       5868,  2320.2,   2.2357,  34.6345,2,  34.6341,2,    149.7,2,   148.4,2,  115.69,2,   35.89,2,    0.00,2, -999.00,5,-999.000,5,-999.000,5,  2301.8,2,  -999.0,9,-999.000,9,-999.0000,9, -999.00,9, -999.00,9,  -999.0,9,  -999.0,-999.000,9,-999.000,     -999.0,-999.0000,-999.000,     2.0675,-999.000
  316N138_4,       P06C,     176,          1,         18,        118,2,19920702,       1150,   -32.5055,  -177.9942,       5868,  2523.0,   2.1123,  34.6474,2,  34.6451,2,    148.7,2,   147.2,2,  120.00,2,   35.93,2,    0.00,2, -999.00,5,-999.000,5,-999.000,5,  2305.9,6,  -999.0,9,-999.000,9,-999.0000,9, -999.00,9, -999.00,9,  -999.0,9,  -999.0,-999.000,9,-999.000,     -999.0,-999.0000,-999.000,     1.9278,-999.000
  316N138_4,       P06C,     176,          1,         17,        117,2,19920702,       1150,   -32.5055,  -177.9942,       5868,  2726.1,   1.9905,  34.6566,2,  34.6568,2,    148.3,2,   147.9,2,  124.49,2,   35.93,2,    0.00,2, -999.00,5,-999.000,5,-999.000,5,  2309.5,2,  -999.0,9,-999.000,9,-999.0000,9, -999.00,9, -999.00,9,  -999.0,9,  -999.0,-999.000,9,-999.000,     -999.0,-999.0000,-999.000,     1.7894,-999.000
  316N138_4,       P06C,     176,          1,         16,        116,2,19920702,       1150,   -32.5055,  -177.9942,       5868,  2928.4,   1.8604,  34.6759,2,  34.6747,2,    154.1,2,   157.3,2,  122.54,2,   35.11,2,    0.00,2, -999.00,5,-999.000,5,-999.000,5,  2299.5,2,  -999.0,9,-999.000,9,-999.0000,9, -999.00,9, -999.00,9,  -999.0,9,  -999.0,-999.000,9,-999.000,     -999.0,-999.0000,-999.000,     1.6426,-999.000
  316N138_4,       P06C,     176,          1,         15,        115,2,19920702,       1150,   -32.5055,  -177.9942,       5868,  3130.1,   1.7514,  34.7055,2,  34.7056,2,    173.8,2,   176.8,2,  110.82,2,   33.15,2,    0.00,2, -999.00,5,-999.000,5,-999.000,5,  2275.7,2,  -999.0,9,-999.000,9,-999.0000,9, -999.00,9, -999.00,9,  -999.0,9,  -999.0,-999.000,9,-999.000,     -999.0,-999.0000,-999.000,     1.5162,-999.000
  316N138_4,       P06C,     176,          1,         14,        114,2,19920702,       1150,   -32.5055,  -177.9942,       5868,  3334.0,   1.5795,  34.7226,2,  34.7217,2,    190.9,2,   191.3,2,  106.13,2,   31.87,2,    0.01,2, -999.00,5,-999.000,5,-999.000,5,  2261.0,2,  -999.0,9,-999.000,9,-999.0000,9, -999.00,9, -999.00,9,  -999.0,9,  -999.0,-999.000,9,-999.000,     -999.0,-999.0000,-999.000,     1.3280,-999.000
  316N138_4,       P06C,     176,          1,         13,        125,2,19920702,       1150,   -32.5055,  -177.9942,       5868,  3538.6,   1.4122,  34.7251,2,  34.7256,2,    198.0,2,   198.1,2,  108.29,2,   31.59,2,    0.02,2, -999.00,5,-999.000,5,-999.000,5,  2258.0,2,  -999.0,9,-999.000,9,-999.0000,9, -999.00,9, -999.00,9,  -999.0,9,  -999.0,-999.000,9,-999.000,     -999.0,-999.0000,-999.000,     1.1440,-999.000
  316N138_4,       P06C,     176,          1,         12,        112,2,19920702,       1150,   -32.5055,  -177.9942,       5868,  3742.8,   1.2258,  34.7220,2,  34.7215,2,    201.8,2,   202.6,2,  112.78,2,   31.52,2,   -0.01,2, -999.00,5,-999.000,5,-999.000,5,  2258.0,2,  -999.0,9,-999.000,9,-999.0000,9, -999.00,9, -999.00,9,  -999.0,9,  -999.0,-999.000,9,-999.000,     -999.0,-999.0000,-999.000,     0.9416,-999.000
  316N138_4,       P06C,     176,          1,         11,        129,2,19920702,       1150,   -32.5055,  -177.9942,       5868,  3948.2,   1.1038,  34.7164,2,  34.7168,2,    204.4,2,   205.3,2,  116.50,2,   31.71,2,   -0.01,2, -999.00,5,-999.000,5,-999.000,5,  2258.7,2,  -999.0,9,-999.000,9,-999.0000,9, -999.00,9, -999.00,9,  -999.0,9,  -999.0,-999.000,9,-999.000,     -999.0,-999.0000,-999.000,     0.8014,-999.000
  316N138_4,       P06C,     176,          1,         10,        110,2,19920702,       1150,   -32.5055,  -177.9942,       5868,  4153.8,   1.0406,  34.7126,2,  34.7113,2,    205.8,2,   206.0,2,  118.46,2,   31.80,2,   -0.01,2, -999.00,5,-999.000,5,-999.000,5,  2259.0,2,  -999.0,9,-999.000,9,-999.0000,9, -999.00,9, -999.00,9,  -999.0,9,  -999.0,-999.000,9,-999.000,     -999.0,-999.0000,-999.000,     0.7179,-999.000
  316N138_4,       P06C,     176,          1,          9,        126,2,19920702,       1150,   -32.5055,  -177.9942,       5868,  4358.8,   1.0137,  34.7114,2,  34.7097,2,    206.0,2,   206.3,2,  119.83,2,   31.83,2,    0.00,2, -999.00,5,-999.000,5,-999.000,5,  2259.4,2,  -999.0,9,-999.000,9,-999.0000,9, -999.00,9, -999.00,9,  -999.0,9,  -999.0,-999.000,9,-999.000,     -999.0,-999.0000,-999.000,     0.6694,-999.000
  316N138_4,       P06C,     176,          1,          8,        108,2,19920702,       1150,   -32.5055,  -177.9942,       5868,  4563.3,   1.0014,  34.7100,2,  34.7083,2,    206.9,2,   210.0,2,  120.42,2,   31.88,2,    0.00,2, -999.00,5,-999.000,5,-999.000,5,  2259.3,2,  -999.0,9,-999.000,9,-999.0000,9, -999.00,9, -999.00,9,  -999.0,9,  -999.0,-999.000,9,-999.000,     -999.0,-999.0000,-999.000,     0.6346,-999.000
  316N138_4,       P06C,     176,          1,          7,        107,2,19920702,       1150,   -32.5055,  -177.9942,       5868,  4769.2,   1.0054,  34.7086,2,  34.7085,2,    207.3,2,   209.9,2,  120.82,2,   31.90,2,    0.01,2, -999.00,5,-999.000,5,-999.000,5,  2259.9,2,  -999.0,9,-999.000,9,-999.0000,9, -999.00,9, -999.00,9,  -999.0,9,  -999.0,-999.000,9,-999.000,     -999.0,-999.0000,-999.000,     0.6149,-999.000
  316N138_4,       P06C,     176,          1,          6,        180,2,19920702,       1150,   -32.5055,  -177.9942,       5868,  4974.6,   1.0139,  34.7084,2,  34.7074,2,    208.1,2,   210.8,2,  121.41,2,   31.94,2,    0.01,2, -999.00,5,-999.000,5,-999.000,5,  2260.6,2,  -999.0,9,-999.000,9,-999.0000,9, -999.00,9, -999.00,9,  -999.0,9,  -999.0,-999.000,9,-999.000,     -999.0,-999.0000,-999.000,     0.5990,-999.000
  316N138_4,       P06C,     176,          1,          5,        131,2,19920702,       1150,   -32.5055,  -177.9942,       5868,  5180.5,   1.0294,  34.7073,2,  34.7074,2,    208.5,2,   211.4,2,  121.61,2,   31.99,2,    0.01,2, -999.00,5,-999.000,5,-999.000,5,  2260.5,2,  -999.0,9,-999.000,9,-999.0000,9, -999.00,9, -999.00,9,  -999.0,9,  -999.0,-999.000,9,-999.000,     -999.0,-999.0000,-999.000,     0.5893,-999.000
  316N138_4,       P06C,     176,          1,          4,        104,2,19920702,       1150,   -32.5055,  -177.9942,       5868,  5386.2,   1.0468,  34.7079,2,  34.7066,2,    208.4,2,   210.3,2,  121.81,2,   32.13,2,    0.01,2, -999.00,5,-999.000,5,-999.000,5,  2260.9,2,  -999.0,9,-999.000,9,-999.0000,9, -999.00,9, -999.00,9,  -999.0,9,  -999.0,-999.000,9,-999.000,     -999.0,-999.0000,-999.000,     0.5809,-999.000
  316N138_4,       P06C,     176,          1,          3,        130,2,19920702,       1150,   -32.5055,  -177.9942,       5868,  5591.7,   1.0678,  34.7076,2,  34.7060,2,    208.9,2,   210.0,2,  121.82,2,   32.12,2,    0.01,2, -999.00,5,-999.000,5,-999.000,5,  2261.2,2,  -999.0,9,-999.000,9,-999.0000,9, -999.00,9, -999.00,9,  -999.0,9,  -999.0,-999.000,9,-999.000,     -999.0,-999.0000,-999.000,     0.5754,-999.000
  316N138_4,       P06C,     176,          1,          2,        135,2,19920702,       1150,   -32.5055,  -177.9942,       5868,  5797.5,   1.0923,  34.7072,2,  34.7058,2,    209.2,2,   208.5,2,  122.01,2,   32.10,2,    0.03,2, -999.00,5,-999.000,5,-999.000,5,  2261.3,2,  -999.0,9,-999.000,9,-999.0000,9, -999.00,9, -999.00,9,  -999.0,9,  -999.0,-999.000,9,-999.000,     -999.0,-999.0000,-999.000,     0.5727,-999.000
  316N138_4,       P06C,     176,          1,          1,        134,2,19920702,       1150,   -32.5055,  -177.9942,       5868,  5975.1,   1.1163,  34.7072,2,  34.7070,2,    251.8,4,   208.2,2,  122.23,2,   32.10,2,    0.02,2, -999.00,5,-999.000,5,-999.000,5,  2260.9,6,  -999.0,9,-999.000,9,-999.0000,9, -999.00,9, -999.00,9,  -999.0,9,  -999.0,-999.000,9,-999.000,     -999.0,-999.0000,-999.000,     0.5726,-999.000