BOTTLE,20211025CCHSIORKP
EXPOCODE,SECT_ID,STNNBR,CASTNO,SAMPNO,BTLNBR,BTLNBR_FLAG_W,DATE,TIME,LATITUDE,LONGITUDE,DEPTH,CTDPRS,CTDTMP,CTDSAL,CTDSAL_FLAG_W,SALNTY,SALNTY_FLAG_W,CTDOXY,CTDOXY_FLAG_W,OXYGEN,OXYGEN_FLAG_W,SILCAT,SILCAT_FLAG_W,NITRAT,NITRAT_FLAG_W,NITRIT,NITRIT_FLAG_W,PHSPHT,PHSPHT_FLAG_W,CFC-11,CFC-11_FLAG_W,CFC-12,CFC-12_FLAG_W,TCARBN,TCARBN_FLAG_W,PCO2,PCO2_FLAG_W,TRITUM,TRITUM_FLAG_W,HELIUM,HELIUM_FLAG_W,DELHE3,DELHE3_FLAG_W,DELC13,DELC13_FLAG_W,DELC14,DELC14_FLAG_W,C14ERR,NEON,NEON_FLAG_W,NEONER,PCO2TMP,HELIER,DELHER,THETA,TRITER
,,,,,,,,,,,METERS,DBAR,ITS-90,PSS-78,,PSS-78,,UMOL/KG,,UMOL/KG,,UMOL/KG,,UMOL/KG,,UMOL/KG,,UMOL/KG,,PMOL/KG,,PMOL/KG,,UMOL/KG,,UATM,,TU,,NMOL/KG,,PERCNT,,/MILLE,,/MILLE,,/MILLE,NMOL/KG,,NMOL/KG,DEG_C,NMOL/KG,PERCNT,ITS-90,TU
  316N138_4,       P06C,     138,          1,         36,    02-9121,2,19920622,       1125,   -32.5032,  -158.9812,       5285,    22.6,  17.4284,  35.3753,2,  35.3742,2,    235.9,2,   236.4,2,    0.66,2,    0.02,2,    0.00,2,    0.14,2,-999.000,5,-999.000,5,  -999.0,9,  -999.0,9,-999.000,9,-999.0000,9, -999.00,9, -999.00,9,  -999.0,9,  -999.0,-999.000,9,-999.000,     -999.0,-999.0000,-999.000,    17.4246,-999.000
  316N138_4,       P06C,     138,          1,         35,    02-9454,2,19920622,       1125,   -32.5032,  -158.9812,       5285,    62.0,  17.4327,  35.3757,2,  35.3742,2,    235.1,2,   235.6,2,    0.82,2,    0.07,2,    0.00,2,    0.15,2,   2.462,6,   1.317,6,  -999.0,9,  -999.0,9,-999.000,9,-999.0000,9, -999.00,9, -999.00,9,  -999.0,9,  -999.0,-999.000,9,-999.000,     -999.0,-999.0000,-999.000,    17.4223,-999.000
  316N138_4,       P06C,     138,          1,         34,    02-9457,2,19920622,       1125,   -32.5032,  -158.9812,       5285,   113.4,  17.4269,  35.3758,2,  35.3733,2,    239.0,2,   237.3,2,    0.67,2,    0.05,2,    0.01,2,    0.14,2,   2.471,2,   1.303,2,  -999.0,9,  -999.0,9,-999.000,9,-999.0000,9, -999.00,9, -999.00,9,  -999.0,9,  -999.0,-999.000,9,-999.000,     -999.0,-999.0000,-999.000,    17.4078,-999.000
  316N138_4,       P06C,     138,          1,         33,    02-5367,2,19920622,       1125,   -32.5032,  -158.9812,       5285,   159.5,  15.3973,  35.2839,2,  35.2792,2,    234.9,2,   228.3,2,    0.99,2,    1.18,2,    0.12,2,    0.30,2,   2.600,2,   1.401,2,  -999.0,9,  -999.0,9,-999.000,9,-999.0000,9, -999.00,9, -999.00,9,  -999.0,9,  -999.0,-999.000,9,-999.000,     -999.0,-999.0000,-999.000,    15.3727,-999.000
  316N138_4,       P06C,     138,          1,         32,    02-9540,2,19920622,       1125,   -32.5032,  -158.9812,       5285,   207.7,  14.4453,  35.2034,2,  35.1963,2,    215.6,2,   214.5,2,    1.59,2,    4.97,2,    0.01,2,    0.50,2,   2.438,2,   1.303,2,  -999.0,9,  -999.0,9,-999.000,9,-999.0000,9, -999.00,9, -999.00,9,  -999.0,9,  -999.0,-999.000,9,-999.000,     -999.0,-999.0000,-999.000,    14.4146,-999.000
  316N138_4,       P06C,     138,          1,         31,    02-9539,2,19920622,       1125,   -32.5032,  -158.9812,       5285,   256.7,  12.9863,  35.0476,2,  35.0848,3,    203.9,2,   205.9,2,    2.35,2,    8.26,2,    0.01,2,    0.69,2,   2.257,2,   1.164,2,  -999.0,9,  -999.0,9,-999.000,9,-999.0000,9, -999.00,9, -999.00,9,  -999.0,9,  -999.0,-999.000,9,-999.000,     -999.0,-999.0000,-999.000,    12.9509,-999.000
  316N138_4,       P06C,     138,          1,         30,    02-9456,2,19920622,       1125,   -32.5032,  -158.9812,       5285,   305.3,  11.5794,  34.8915,2,  34.8890,2,    202.5,2,   202.2,2,    3.26,2,   12.69,2,    0.01,2,    0.94,2,   2.008,2,   1.010,2,  -999.0,9,  -999.0,9,-999.000,9,-999.0000,9, -999.00,9, -999.00,9,  -999.0,9,  -999.0,-999.000,9,-999.000,     -999.0,-999.0000,-999.000,    11.5404,-999.000
  316N138_4,       P06C,     138,          1,         29,    02-9458,2,19920622,       1125,   -32.5032,  -158.9812,       5285,   406.2,   8.9261,  34.6096,2,  34.5957,2,    217.9,2,   219.7,2,    4.62,2,   17.58,2,    0.01,2,    1.23,2,   1.896,2,   0.927,2,  -999.0,9,  -999.0,9,-999.000,9,-999.0000,9, -999.00,9, -999.00,9,  -999.0,9,  -999.0,-999.000,9,-999.000,     -999.0,-999.0000,-999.000,     8.8818,-999.000
  316N138_4,       P06C,     138,          1,         28,    02-9545,2,19920622,       1125,   -32.5032,  -158.9812,       5285,   500.8,   7.9410,  34.5008,2,  34.4950,2,    229.1,2,   229.3,2,    5.54,2,   19.73,2,    0.00,2,    1.36,2,   1.710,2,   0.848,2,  -999.0,9,  -999.0,9,-999.000,9,-999.0000,9, -999.00,9, -999.00,9,  -999.0,9,  -999.0,-999.000,9,-999.000,     -999.0,-999.0000,-999.000,     7.8899,-999.000
  316N138_4,       P06C,     138,          1,         27,    02-9453,2,19920622,       1125,   -32.5032,  -158.9812,       5285,   604.1,   7.1968,  34.4365,2,  34.4308,2,    239.6,2,   237.7,2,    6.75,2,   21.12,2,    0.00,2,    1.43,2,   1.422,2,   0.697,2,  -999.0,9,  -999.0,9,-999.000,9,-999.0000,9, -999.00,9, -999.00,9,  -999.0,9,  -999.0,-999.000,9,-999.000,     -999.0,-999.0000,-999.000,     7.1381,-999.000
  316N138_4,       P06C,     138,          1,         26,    02-9544,2,19920622,       1125,   -32.5032,  -158.9812,       5285,   700.6,   6.7364,  34.3869,2,  34.3874,2,    240.7,2,   238.8,2,    8.26,2,   22.57,2,   -0.01,2,    1.52,2,   1.022,2,   0.533,2,  -999.0,9,  -999.0,9,-999.000,9,-999.0000,9, -999.00,9, -999.00,9,  -999.0,9,  -999.0,-999.000,9,-999.000,     -999.0,-999.0000,-999.000,     6.6705,-999.000
  316N138_4,       P06C,     138,          1,         25,    02-9455,2,19920622,       1125,   -32.5032,  -158.9812,       5285,   799.6,   6.2653,  34.3513,2,  34.3521,2,    235.9,2,   233.9,2,   10.68,2,   24.21,2,    0.00,2,    1.62,2,   0.647,6,   0.341,6,  -999.0,9,  -999.0,9,-999.000,9,-999.0000,9, -999.00,9, -999.00,9,  -999.0,9,  -999.0,-999.000,9,-999.000,     -999.0,-999.0000,-999.000,     6.1924,-999.000
  316N138_4,       P06C,     138,          1,         24,        132,2,19920622,       1125,   -32.5032,  -158.9812,       5285,   899.0,   5.6945,  34.3367,2,  34.3282,2,    224.9,2,   222.8,2,   15.51,2,   26.60,2,    0.00,2,    1.77,2,   0.376,2,   0.203,2,  -999.0,9,  -999.0,9,-999.000,9,-999.0000,9, -999.00,9, -999.00,9,  -999.0,9,  -999.0,-999.000,9,-999.000,     -999.0,-999.0000,-999.000,     5.6158,-999.000
  316N138_4,       P06C,     138,          1,         23,        123,2,19920622,       1125,   -32.5032,  -158.9812,       5285,  1000.2,   4.9972,  34.3360,2,  34.3274,2,    211.4,2,   207.4,2,   24.41,2,   29.54,2,    0.00,2,    1.96,2,   0.152,6,   0.094,6,  -999.0,9,  -999.0,9,-999.000,9,-999.0000,9, -999.00,9, -999.00,9,  -999.0,9,  -999.0,-999.000,9,-999.000,     -999.0,-999.0000,-999.000,     4.9142,-999.000
  316N138_4,       P06C,     138,          1,         22,        128,2,19920622,       1125,   -32.5032,  -158.9812,       5285,  1201.0,   3.8614,  34.3738,2,  34.3749,2,    192.5,3,   187.0,2,   43.88,2,   32.93,2,    0.00,2,    2.20,2,   0.037,2,   0.013,2,  -999.0,9,  -999.0,9,-999.000,9,-999.0000,9, -999.00,9, -999.00,9,  -999.0,9,  -999.0,-999.000,9,-999.000,     -999.0,-999.0000,-999.000,     3.7703,-999.000
  316N138_4,       P06C,     138,          1,         21,        121,2,19920622,       1125,   -32.5032,  -158.9812,       5285,  1397.7,   3.1447,  34.4613,2,  34.4601,2,    176.0,2,   172.9,2,   63.19,2,   34.52,2,    0.00,2,    2.33,2,   0.001,2,   0.003,2,  -999.0,9,  -999.0,9,-999.000,9,-999.0000,9, -999.00,9, -999.00,9,  -999.0,9,  -999.0,-999.000,9,-999.000,     -999.0,-999.0000,-999.000,     3.0441,-999.000
  316N138_4,       P06C,     138,          1,         20,        120,2,19920622,       1125,   -32.5032,  -158.9812,       5285,  1596.6,   2.6867,  34.5556,2,  34.5537,2,    163.5,2,   162.5,2,   84.44,2,   35.32,2,    0.00,2,    2.41,2,   0.002,2,  -0.001,2,  -999.0,9,  -999.0,9,-999.000,9,-999.0000,9, -999.00,9, -999.00,9,  -999.0,9,  -999.0,-999.000,9,-999.000,     -999.0,-999.0000,-999.000,     2.5746,-999.000
  316N138_4,       P06C,     138,          1,         19,        133,2,19920622,       1125,   -32.5032,  -158.9812,       5285,  1791.0,   2.4143,  34.6056,2,  34.6046,2,    156.3,2,   154.2,2,  101.19,2,   35.91,2,    0.00,2,    2.47,2,  -0.003,2,  -0.005,2,  -999.0,9,  -999.0,9,-999.000,9,-999.0000,9, -999.00,9, -999.00,9,  -999.0,9,  -999.0,-999.000,9,-999.000,     -999.0,-999.0000,-999.000,     2.2895,-999.000
  316N138_4,       P06C,     138,          1,         18,        118,2,19920622,       1125,   -32.5032,  -158.9812,       5285,  1984.3,   2.2631,  34.6256,2,  34.6252,2,    151.5,2,   150.7,2,  110.39,2,   36.30,2,    0.00,2,    2.50,2,-999.000,5,-999.000,5,  -999.0,9,  -999.0,9,-999.000,9,-999.0000,9, -999.00,9, -999.00,9,  -999.0,9,  -999.0,-999.000,9,-999.000,     -999.0,-999.0000,-999.000,     2.1240,-999.000
  316N138_4,       P06C,     138,          1,         17,        117,2,19920622,       1125,   -32.5032,  -158.9812,       5285,  2185.7,   2.1177,  34.6405,2,  34.6401,2,    148.5,2,   147.8,2,  118.39,2,   36.60,2,    0.00,2,    2.55,2,  -0.003,2,  -0.002,2,  -999.0,9,  -999.0,9,-999.000,9,-999.0000,9, -999.00,9, -999.00,9,  -999.0,9,  -999.0,-999.000,9,-999.000,     -999.0,-999.0000,-999.000,     1.9635,-999.000
  316N138_4,       P06C,     138,          1,         16,        116,2,19920622,       1125,   -32.5032,  -158.9812,       5285,  2383.0,   2.0089,  34.6500,2,  34.6498,2,    146.6,2,   145.8,2,  124.27,2,   36.80,2,    0.00,2,    2.56,2,-999.000,5,-999.000,5,  -999.0,9,  -999.0,9,-999.000,9,-999.0000,9, -999.00,9, -999.00,9,  -999.0,9,  -999.0,-999.000,9,-999.000,     -999.0,-999.0000,-999.000,     1.8391,-999.000
  316N138_4,       P06C,     138,          1,         15,        115,2,19920622,       1125,   -32.5032,  -158.9812,       5285,  2584.0,   1.9289,  34.6575,2,  34.6592,2,    146.9,2,   146.5,2,  128.34,2,   36.69,2,    0.00,2,    2.56,2,  -0.001,2,  -0.002,2,  -999.0,9,  -999.0,9,-999.000,9,-999.0000,9, -999.00,9, -999.00,9,  -999.0,9,  -999.0,-999.000,9,-999.000,     -999.0,-999.0000,-999.000,     1.7423,-999.000
  316N138_4,       P06C,     138,          1,         14,        114,2,19920622,       1125,   -32.5032,  -158.9812,       5285,  2783.5,   1.8542,  34.6644,2,  34.6673,2,    148.3,2,   148.6,2,  117.49,4,   34.09,4,    0.00,4,    2.41,4,-999.000,5,-999.000,5,  -999.0,9,  -999.0,9,-999.000,9,-999.0000,9, -999.00,9, -999.00,9,  -999.0,9,  -999.0,-999.000,9,-999.000,     -999.0,-999.0000,-999.000,     1.6504,-999.000
  316N138_4,       P06C,     138,          1,         13,        125,2,19920622,       1125,   -32.5032,  -158.9812,       5285,  2981.7,   1.7905,  34.6703,2,  34.6698,2,    150.7,2,   154.0,4,  131.22,2,   35.88,2,    0.01,2,    2.53,2,  -0.001,2,  -0.004,2,  -999.0,9,  -999.0,9,-999.000,9,-999.0000,9, -999.00,9, -999.00,9,  -999.0,9,  -999.0,-999.000,9,-999.000,     -999.0,-999.0000,-999.000,     1.5691,-999.000
  316N138_4,       P06C,     138,          1,         12,        112,2,19920622,       1125,   -32.5032,  -158.9812,       5285,  3178.2,   1.7325,  34.6770,2,  34.6769,2,    154.4,2,   155.1,2,  130.48,2,   35.02,2,    0.01,2,    2.52,2,-999.000,5,-999.000,5,  -999.0,9,  -999.0,9,-999.000,9,-999.0000,9, -999.00,9, -999.00,9,  -999.0,9,  -999.0,-999.000,9,-999.000,     -999.0,-999.0000,-999.000,     1.4931,-999.000
  316N138_4,       P06C,     138,          1,         11,        129,2,19920622,       1125,   -32.5032,  -158.9812,       5285,  3373.3,   1.6795,  34.6866,2,  34.6869,2,    161.5,2,   163.1,2,  127.01,2,   34.03,2,    0.00,2,    2.45,2,-999.000,5,-999.000,5,  -999.0,9,  -999.0,9,-999.000,9,-999.0000,9, -999.00,9, -999.00,9,  -999.0,9,  -999.0,-999.000,9,-999.000,     -999.0,-999.0000,-999.000,     1.4219,-999.000
  316N138_4,       P06C,     138,          1,         10,        110,2,19920622,       1125,   -32.5032,  -158.9812,       5285,  3575.8,   1.6091,  34.7005,2,  34.6999,2,    173.9,2,   174.8,2,  120.68,2,   32.98,2,    0.00,2,    2.36,2,-999.000,5,-999.000,5,  -999.0,9,  -999.0,9,-999.000,9,-999.0000,9, -999.00,9, -999.00,9,  -999.0,9,  -999.0,-999.000,9,-999.000,     -999.0,-999.0000,-999.000,     1.3323,-999.000
  316N138_4,       P06C,     138,          1,          9,        126,2,19920622,       1125,   -32.5032,  -158.9812,       5285,  3778.7,   1.5174,  34.7123,2,  34.7111,2,    186.0,2,   187.0,2,  115.41,2,   32.03,2,   -0.01,2,    2.29,2,   0.000,2,  -0.003,2,  -999.0,9,  -999.0,9,-999.000,9,-999.0000,9, -999.00,9, -999.00,9,  -999.0,9,  -999.0,-999.000,9,-999.000,     -999.0,-999.0000,-999.000,     1.2216,-999.000
  316N138_4,       P06C,     138,          1,          8,        108,2,19920622,       1125,   -32.5032,  -158.9812,       5285,  3979.8,   1.4039,  34.7180,2,  34.7174,2,    194.4,2,   195.0,2,  113.61,2,   31.43,2,   -0.01,2,    2.25,2,-999.000,5,-999.000,5,  -999.0,9,  -999.0,9,-999.000,9,-999.0000,9, -999.00,9, -999.00,9,  -999.0,9,  -999.0,-999.000,9,-999.000,     -999.0,-999.0000,-999.000,     1.0896,-999.000
  316N138_4,       P06C,     138,          1,          7,        107,2,19920622,       1125,   -32.5032,  -158.9812,       5285,  4181.6,   1.2873,  34.7177,2,  34.7180,2,    200.0,2,   201.5,4,  114.37,2,   31.28,2,   -0.01,2,    2.24,2,-999.000,5,-999.000,5,  -999.0,9,  -999.0,9,-999.000,9,-999.0000,9, -999.00,9, -999.00,9,  -999.0,9,  -999.0,-999.000,9,-999.000,     -999.0,-999.0000,-999.000,     0.9545,-999.000
  316N138_4,       P06C,     138,          1,          6,        180,2,19920622,       1125,   -32.5032,  -158.9812,       5285,  4387.4,   1.1880,  34.7169,2,  34.7156,2,    203.2,2,   203.2,2,  116.64,2,   31.31,2,    0.00,2,    2.23,2,  -0.003,2,  -0.001,2,  -999.0,9,  -999.0,9,-999.000,9,-999.0000,9, -999.00,9, -999.00,9,  -999.0,9,  -999.0,-999.000,9,-999.000,     -999.0,-999.0000,-999.000,     0.8352,-999.000
  316N138_4,       P06C,     138,          1,          5,        131,2,19920622,       1125,   -32.5032,  -158.9812,       5285,  4594.5,   1.1071,  34.7132,2,  34.7138,2,    204.9,2,   205.9,2,  119.36,2,   31.46,2,    0.00,2,    2.24,2,-999.000,5,-999.000,5,  -999.0,9,  -999.0,9,-999.000,9,-999.0000,9, -999.00,9, -999.00,9,  -999.0,9,  -999.0,-999.000,9,-999.000,     -999.0,-999.0000,-999.000,     0.7334,-999.000
  316N138_4,       P06C,     138,          1,          4,        104,2,19920622,       1125,   -32.5032,  -158.9812,       5285,  4805.1,   1.0636,  34.7116,2,  34.7107,2,    206.2,2,   206.9,2,  120.58,2,   31.75,2,    0.01,2,    2.24,2,-999.000,5,-999.000,5,  -999.0,9,  -999.0,9,-999.000,9,-999.0000,9, -999.00,9, -999.00,9,  -999.0,9,  -999.0,-999.000,9,-999.000,     -999.0,-999.0000,-999.000,     0.6670,-999.000
  316N138_4,       P06C,     138,          1,          3,        130,2,19920622,       1125,   -32.5032,  -158.9812,       5285,  5013.1,   1.0591,  34.7103,2,  34.7101,2,    206.9,2,   206.4,2,  121.63,2,   31.94,2,    0.01,2,    2.26,2,   0.002,2,  -0.002,2,  -999.0,9,  -999.0,9,-999.000,9,-999.0000,9, -999.00,9, -999.00,9,  -999.0,9,  -999.0,-999.000,9,-999.000,     -999.0,-999.0000,-999.000,     0.6381,-999.000
  316N138_4,       P06C,     138,          1,          2,        135,2,19920622,       1125,   -32.5032,  -158.9812,       5285,  5220.4,   1.0729,  34.7102,2,  34.7093,2,    206.8,2,   206.3,2,  121.94,2,   32.09,2,    0.01,2,    2.26,2,   0.003,2,   0.006,2,  -999.0,9,  -999.0,9,-999.000,9,-999.0000,9, -999.00,9, -999.00,9,  -999.0,9,  -999.0,-999.000,9,-999.000,     -999.0,-999.0000,-999.000,     0.6264,-999.000
  316N138_4,       P06C,     138,          1,          1,        134,2,19920622,       1125,   -32.5032,  -158.9812,       5285,  5366.0,   1.0900,  34.7095,2,  34.7095,2,    206.0,2,   207.3,2,  121.31,2,   32.15,2,    0.01,2,    2.26,2,   0.006,6,   0.001,6,  -999.0,9,  -999.0,9,-999.000,9,-999.0000,9, -999.00,9, -999.00,9,  -999.0,9,  -999.0,-999.000,9,-999.000,     -999.0,-999.0000,-999.000,     0.6249,-999.000