BOTTLE,20211025CCHSIORKP
EXPOCODE,SECT_ID,STNNBR,CASTNO,SAMPNO,BTLNBR,BTLNBR_FLAG_W,DATE,TIME,LATITUDE,LONGITUDE,DEPTH,CTDPRS,CTDTMP,CTDSAL,CTDSAL_FLAG_W,SALNTY,SALNTY_FLAG_W,CTDOXY,CTDOXY_FLAG_W,OXYGEN,OXYGEN_FLAG_W,SILCAT,SILCAT_FLAG_W,NITRAT,NITRAT_FLAG_W,NITRIT,NITRIT_FLAG_W,PHSPHT,PHSPHT_FLAG_W,CFC-11,CFC-11_FLAG_W,CFC-12,CFC-12_FLAG_W,TCARBN,TCARBN_FLAG_W,PCO2,PCO2_FLAG_W,TRITUM,TRITUM_FLAG_W,HELIUM,HELIUM_FLAG_W,DELHE3,DELHE3_FLAG_W,DELC13,DELC13_FLAG_W,DELC14,DELC14_FLAG_W,C14ERR,NEON,NEON_FLAG_W,NEONER,PCO2TMP,HELIER,DELHER,THETA,TRITER
,,,,,,,,,,,METERS,DBAR,ITS-90,PSS-78,,PSS-78,,UMOL/KG,,UMOL/KG,,UMOL/KG,,UMOL/KG,,UMOL/KG,,UMOL/KG,,PMOL/KG,,PMOL/KG,,UMOL/KG,,UATM,,TU,,NMOL/KG,,PERCNT,,/MILLE,,/MILLE,,/MILLE,NMOL/KG,,NMOL/KG,DEG_C,NMOL/KG,PERCNT,ITS-90,TU
  316N138_4,       P06C,     117,          1,         36,    02-9121,2,19920615,       0538,   -32.5075,  -141.4927,       4513,    25.1,  19.3843,  35.5051,2,  35.5058,2,    242.8,2,   228.7,2,    0.31,2,    0.06,2,    0.01,2,    0.10,2,-999.000,9,-999.000,9,  2023.0,6,   333.1,2,-999.000,9,-999.0000,9, -999.00,9, -999.00,9,  -999.0,9,  -999.0,-999.000,9,-999.000,      20.30,-999.0000,-999.000,    19.3797,-999.000
  316N138_4,       P06C,     117,          1,         35,    02-9454,2,19920615,       0538,   -32.5075,  -141.4927,       4513,    65.2,  19.3845,  35.5050,2,  35.5101,2,    232.0,2,   229.6,2,    0.46,2,    0.02,2,    0.00,2,    0.10,2,-999.000,9,-999.000,9,  2023.7,2,  -999.0,9,-999.000,9,-999.0000,9, -999.00,9, -999.00,9,  -999.0,9,  -999.0,-999.000,9,-999.000,     -999.0,-999.0000,-999.000,    19.3727,-999.000
  316N138_4,       P06C,     117,          1,         34,    02-9457,2,19920615,       0538,   -32.5075,  -141.4927,       4513,   115.7,  17.3042,  35.3742,2,  35.3731,2,    241.2,2,   231.9,2,    0.46,2,    0.08,2,    0.03,2,    0.17,2,-999.000,9,-999.000,9,  2041.3,2,   366.3,6,-999.000,9,-999.0000,9, -999.00,9, -999.00,9,  -999.0,9,  -999.0,-999.000,9,-999.000,      20.30,-999.0000,-999.000,    17.2848,-999.000
  316N138_4,       P06C,     117,          1,         33,    02-5367,2,19920615,       0538,   -32.5075,  -141.4927,       4513,   162.5,  16.0491,  35.2583,2,  35.2582,2,    226.4,2,   226.5,2,    0.61,2,    1.52,2,    0.02,2,    0.27,2,-999.000,9,-999.000,9,  2052.9,2,  -999.0,9,-999.000,9,-999.0000,9, -999.00,9, -999.00,9,  -999.0,9,  -999.0,-999.000,9,-999.000,     -999.0,-999.0000,-999.000,    16.0234,-999.000
  316N138_4,       P06C,     117,          1,         32,    02-9540,2,19920615,       0538,   -32.5075,  -141.4927,       4513,   212.0,  15.2205,  35.1724,2,  35.1709,2,    216.4,2,   216.6,2,    0.90,2,    3.24,2,    0.01,2,    0.39,2,-999.000,9,-999.000,9,  2063.9,2,   432.2,2,-999.000,9,-999.0000,9, -999.00,9, -999.00,9,  -999.0,9,  -999.0,-999.000,9,-999.000,      20.30,-999.0000,-999.000,    15.1881,-999.000
  316N138_4,       P06C,     117,          1,         31,    02-9539,2,19920615,       0538,   -32.5075,  -141.4927,       4513,   261.6,  13.6845,  35.0530,2,  35.0587,2,    206.0,2,   199.3,2,    1.92,2,    7.97,2,    0.01,2,    0.67,2,-999.000,9,-999.000,9,  2089.5,2,  -999.0,9,-999.000,9,-999.0000,9, -999.00,9, -999.00,9,  -999.0,9,  -999.0,-999.000,9,-999.000,     -999.0,-999.0000,-999.000,    13.6472,-999.000
  316N138_4,       P06C,     117,          1,         30,    02-9456,2,19920615,       0538,   -32.5075,  -141.4927,       4513,   309.0,  12.1672,  34.8851,2,  34.8865,2,    200.3,2,   197.5,2,    2.80,2,   12.10,2,    0.00,2,    0.92,2,-999.000,9,-999.000,9,  2104.9,2,   595.2,2,-999.000,9,-999.0000,9, -999.00,9, -999.00,9,  -999.0,9,  -999.0,-999.000,9,-999.000,      20.30,-999.0000,-999.000,    12.1264,-999.000
  316N138_4,       P06C,     117,          1,         29,    02-9458,2,19920615,       0538,   -32.5075,  -141.4927,       4513,   359.2,  10.3969,  34.6895,2,  34.6977,2,    204.6,2,   203.1,2,    3.54,2,   15.25,2,    0.00,2,    1.10,2,-999.000,9,-999.000,9,  2116.1,2,  -999.0,9,-999.000,9,-999.0000,9, -999.00,9, -999.00,9,  -999.0,9,  -999.0,-999.000,9,-999.000,     -999.0,-999.0000,-999.000,    10.3540,-999.000
  316N138_4,       P06C,     117,          1,         28,    02-9545,2,19920615,       0538,   -32.5075,  -141.4927,       4513,   410.9,   9.2547,  34.5884,2,  34.5859,2,    211.9,2,   211.1,2,    4.12,2,   17.43,2,    0.00,2,    1.23,2,-999.000,9,-999.000,9,  2123.2,2,  -999.0,9,-999.000,9,-999.0000,9, -999.00,9, -999.00,9,  -999.0,9,  -999.0,-999.000,9,-999.000,     -999.0,-999.0000,-999.000,     9.2090,-999.000
  316N138_4,       P06C,     117,          1,         27,    02-9453,2,19920615,       0538,   -32.5075,  -141.4927,       4513,   462.5,   8.1079,  34.4863,2,  34.4875,2,    223.0,2,   227.9,2,    5.01,2,   19.52,2,    0.00,2,    1.35,2,-999.000,9,-999.000,9,  2128.5,2,   708.0,2,-999.000,9,-999.0000,9, -999.00,9, -999.00,9,  -999.0,9,  -999.0,-999.000,9,-999.000,      20.30,-999.0000,-999.000,     8.0602,-999.000
  316N138_4,       P06C,     117,          1,         26,    02-9544,2,19920615,       0538,   -32.5075,  -141.4927,       4513,   514.2,   7.5812,  34.4427,2,  34.4434,2,    230.5,2,   231.8,2,    5.74,2,   20.73,2,    0.00,2,    1.41,2,-999.000,9,-999.000,9,  2132.0,2,  -999.0,9,-999.000,9,-999.0000,9, -999.00,9, -999.00,9,  -999.0,9,  -999.0,-999.000,9,-999.000,     -999.0,-999.0000,-999.000,     7.5301,-999.000
  316N138_4,       P06C,     117,          1,         25,    02-9455,2,19920615,       0538,   -32.5075,  -141.4927,       4513,   563.0,   7.1633,  34.4124,2,  34.4127,2,    237.6,2,   240.5,2,    6.18,2,   21.20,2,    0.00,2,    1.45,2,-999.000,9,-999.000,9,  2127.7,2,  -999.0,9,-999.000,9,-999.0000,9, -999.00,9, -999.00,9,  -999.0,9,  -999.0,-999.000,9,-999.000,     -999.0,-999.0000,-999.000,     7.1090,-999.000
  316N138_4,       P06C,     117,          1,         24,        132,3,19920615,       0538,   -32.5075,  -141.4927,       4513,   612.0,   6.8207,  34.3819,2,  34.4141,4,    240.4,2,   250.8,4,    6.92,3,   21.42,3,    0.00,3,    1.47,3,-999.000,9,-999.000,9,  2129.4,6,  -999.0,9,-999.000,9,-999.0000,9, -999.00,9, -999.00,9,  -999.0,9,  -999.0,-999.000,9,-999.000,     -999.0,-999.0000,-999.000,     6.7631,-999.000
  316N138_4,       P06C,     117,          1,         23,        123,2,19920615,       0538,   -32.5075,  -141.4927,       4513,   712.0,   6.2438,  34.3369,2,  34.3437,2,    239.6,2,   239.7,2,    9.41,2,   23.98,2,    0.00,2,    1.61,2,-999.000,9,-999.000,9,  2140.0,2,   787.3,2,-999.000,9,-999.0000,9, -999.00,9, -999.00,9,  -999.0,9,  -999.0,-999.000,9,-999.000,      20.30,-999.0000,-999.000,     6.1794,-999.000
  316N138_4,       P06C,     117,          1,         22,        128,2,19920615,       0538,   -32.5075,  -141.4927,       4513,   812.8,   5.7596,  34.3142,2,  34.3138,2,    232.0,2,   233.6,2,   12.48,2,   25.61,2,   -0.01,2,    1.72,2,-999.000,9,-999.000,9,  2145.2,2,  -999.0,9,-999.000,9,-999.0000,9, -999.00,9, -999.00,9,  -999.0,9,  -999.0,-999.000,9,-999.000,     -999.0,-999.0000,-999.000,     5.6885,-999.000
  316N138_4,       P06C,     117,          1,         21,        121,2,19920615,       0538,   -32.5075,  -141.4927,       4513,   910.1,   5.2398,  34.3043,2,  34.3103,2,    221.2,2,   222.7,2,   18.20,2,   27.83,2,    0.00,2,    1.86,2,-999.000,9,-999.000,9,  2162.2,2,   912.8,2,-999.000,9,-999.0000,9, -999.00,9, -999.00,9,  -999.0,9,  -999.0,-999.000,9,-999.000,      20.30,-999.0000,-999.000,     5.1633,-999.000
  316N138_4,       P06C,     117,          1,         20,        120,2,19920615,       0538,   -32.5075,  -141.4927,       4513,  1008.1,   4.7594,  34.3161,2,  34.3164,2,    208.2,2,   206.6,2,   25.53,2,   29.74,2,    0.00,2,    1.99,2,-999.000,9,-999.000,9,  2178.6,2,  -999.0,9,-999.000,9,-999.0000,9, -999.00,9, -999.00,9,  -999.0,9,  -999.0,-999.000,9,-999.000,     -999.0,-999.0000,-999.000,     4.6775,-999.000
  316N138_4,       P06C,     117,          1,         19,        133,2,19920615,       0538,   -32.5075,  -141.4927,       4513,  1100.8,   4.1786,  34.3407,2,  34.3403,2,    197.2,2,   194.2,2,   35.78,2,   31.83,2,    0.00,2,    2.15,2,-999.000,9,-999.000,9,  2196.4,2,  1024.1,2,-999.000,9,-999.0000,9, -999.00,9, -999.00,9,  -999.0,9,  -999.0,-999.000,9,-999.000,      20.30,-999.0000,-999.000,     4.0932,-999.000
  316N138_4,       P06C,     117,          1,         18,        118,2,19920615,       0538,   -32.5075,  -141.4927,       4513,  1297.6,   3.3220,  34.4272,2,  34.4283,2,    178.1,2,   175.8,2,   56.43,2,   34.00,2,    0.00,2,    2.31,2,-999.000,9,-999.000,9,  2231.6,6,  -999.0,9,-999.000,9,-999.0000,9, -999.00,9, -999.00,9,  -999.0,9,  -999.0,-999.000,9,-999.000,     -999.0,-999.0000,-999.000,     3.2278,-999.000
  316N138_4,       P06C,     117,          1,         17,        117,2,19920615,       0538,   -32.5075,  -141.4927,       4513,  1495.6,   2.8129,  34.5141,2,  34.5144,2,    166.5,2,   167.5,2,   75.03,2,   34.70,2,    0.00,2,    2.39,2,-999.000,9,-999.000,9,  2254.9,2,  -999.0,9,-999.000,9,-999.0000,9, -999.00,9, -999.00,9,  -999.0,9,  -999.0,-999.000,9,-999.000,     -999.0,-999.0000,-999.000,     2.7077,-999.000
  316N138_4,       P06C,     117,          1,         16,        116,2,19920615,       0538,   -32.5075,  -141.4927,       4513,  1690.0,   2.5116,  34.5739,2,  34.5745,2,    160.3,2,   159.4,2,   90.70,2,   34.98,2,    0.00,2,    2.44,2,-999.000,9,-999.000,9,  2267.3,2,  1146.4,6,-999.000,9,-999.0000,9, -999.00,9, -999.00,9,  -999.0,9,  -999.0,-999.000,9,-999.000,      20.30,-999.0000,-999.000,     2.3940,-999.000
  316N138_4,       P06C,     117,          1,         15,        115,2,19920615,       0538,   -32.5075,  -141.4927,       4513,  1886.1,   2.2827,  34.6133,2,  34.6132,2,    155.9,2,   155.6,2,  103.30,2,   35.17,2,    0.00,2,    2.46,2,-999.000,9,-999.000,9,  2286.6,2,  -999.0,9,-999.000,9,-999.0000,9, -999.00,9, -999.00,9,  -999.0,9,  -999.0,-999.000,9,-999.000,     -999.0,-999.0000,-999.000,     2.1517,-999.000
  316N138_4,       P06C,     117,          1,         14,        114,2,19920615,       0538,   -32.5075,  -141.4927,       4513,  2087.8,   2.1182,  34.6351,2,  34.6380,2,    153.9,2,   153.2,2,  111.94,2,   35.40,2,    0.00,2,    2.49,2,-999.000,9,-999.000,9,  2295.7,2,  -999.0,9,-999.000,9,-999.0000,9, -999.00,9, -999.00,9,  -999.0,9,  -999.0,-999.000,9,-999.000,     -999.0,-999.0000,-999.000,     1.9725,-999.000
  316N138_4,       P06C,     117,          1,         13,        125,2,19920615,       0538,   -32.5075,  -141.4927,       4513,  2289.8,   1.9869,  34.6487,2,  34.6500,2,    153.8,2,   153.2,2,  117.94,2,   35.45,2,    0.00,2,    2.50,2,-999.000,9,-999.000,9,  2301.5,2,  1153.5,2,-999.000,9,-999.0000,9, -999.00,9, -999.00,9,  -999.0,9,  -999.0,-999.000,9,-999.000,      20.30,-999.0000,-999.000,     1.8257,-999.000
  316N138_4,       P06C,     117,          1,         12,        112,2,19920615,       0538,   -32.5075,  -141.4927,       4513,  2493.4,   1.8754,  34.6576,2,  34.6588,2,    154.9,2,   154.7,2,  122.05,2,   35.45,2,    0.00,2,    2.49,2,-999.000,9,-999.000,9,  2303.6,2,  -999.0,9,-999.000,9,-999.0000,9, -999.00,9, -999.00,9,  -999.0,9,  -999.0,-999.000,9,-999.000,     -999.0,-999.0000,-999.000,     1.6981,-999.000
  316N138_4,       P06C,     117,          1,         11,        129,2,19920615,       0538,   -32.5075,  -141.4927,       4513,  2697.9,   1.7900,  34.6646,2,  34.6649,2,    157.3,2,   156.9,2,  124.11,2,   35.31,2,    0.00,2,    2.49,2,-999.000,9,-999.000,9,  2304.6,2,  -999.0,9,-999.000,9,-999.0000,9, -999.00,9, -999.00,9,  -999.0,9,  -999.0,-999.000,9,-999.000,     -999.0,-999.0000,-999.000,     1.5955,-999.000
  316N138_4,       P06C,     117,          1,         10,        110,2,19920615,       0538,   -32.5075,  -141.4927,       4513,  2899.7,   1.7190,  34.6713,2,  34.6718,2,    160.4,2,   159.3,2,  125.13,2,   35.14,2,    0.00,2,    2.51,2,-999.000,9,-999.000,9,  2301.0,2,  1179.5,2,-999.000,9,-999.0000,9, -999.00,9, -999.00,9,  -999.0,9,  -999.0,-999.000,9,-999.000,      20.30,-999.0000,-999.000,     1.5070,-999.000
  316N138_4,       P06C,     117,          1,          9,        126,2,19920615,       0538,   -32.5075,  -141.4927,       4513,  3102.7,   1.6635,  34.6759,2,  34.6777,2,    163.6,2,   163.9,2,  124.98,2,   34.85,2,    0.00,2,    2.46,2,-999.000,9,-999.000,9,  2300.9,2,  -999.0,9,-999.000,9,-999.0000,9, -999.00,9, -999.00,9,  -999.0,9,  -999.0,-999.000,9,-999.000,     -999.0,-999.0000,-999.000,     1.4332,-999.000
  316N138_4,       P06C,     117,          1,          8,        108,2,19920615,       0538,   -32.5075,  -141.4927,       4513,  3305.2,   1.6140,  34.6802,2,  34.6816,2,    166.9,2,   166.9,2,  124.99,2,   34.63,2,    0.00,2,    2.44,2,-999.000,9,-999.000,9,  2298.3,2,  -999.0,9,-999.000,9,-999.0000,9, -999.00,9, -999.00,9,  -999.0,9,  -999.0,-999.000,9,-999.000,     -999.0,-999.0000,-999.000,     1.3649,-999.000
  316N138_4,       P06C,     117,          1,          7,        107,2,19920615,       0538,   -32.5075,  -141.4927,       4513,  3508.0,   1.5514,  34.6863,2,  34.6879,2,    171.2,2,   171.6,2,  124.41,2,   34.31,2,    0.00,2,    2.43,2,-999.000,9,-999.000,9,  2295.0,2,  1171.2,2,-999.000,9,-999.0000,9, -999.00,9, -999.00,9,  -999.0,9,  -999.0,-999.000,9,-999.000,      20.30,-999.0000,-999.000,     1.2831,-999.000
  316N138_4,       P06C,     117,          1,          6,        180,2,19920615,       0538,   -32.5075,  -141.4927,       4513,  3712.6,   1.4831,  34.6916,2,  34.6930,2,    175.9,2,   176.6,2,  123.23,2,   33.89,2,    0.00,2,    2.39,2,-999.000,9,-999.000,9,  2289.9,2,  -999.0,9,-999.000,9,-999.0000,9, -999.00,9, -999.00,9,  -999.0,9,  -999.0,-999.000,9,-999.000,     -999.0,-999.0000,-999.000,     1.1953,-999.000
  316N138_4,       P06C,     117,          1,          5,        131,2,19920615,       0538,   -32.5075,  -141.4927,       4513,  3917.0,   1.4122,  34.6964,2,  34.6975,2,    181.2,2,   182.4,2,  122.07,2,   33.52,2,    0.00,2,    2.36,2,-999.000,9,-999.000,9,  2285.3,2,  -999.0,9,-999.000,9,-999.0000,9, -999.00,9, -999.00,9,  -999.0,9,  -999.0,-999.000,9,-999.000,     -999.0,-999.0000,-999.000,     1.1046,-999.000
  316N138_4,       P06C,     117,          1,          4,        104,3,19920615,       0538,   -32.5075,  -141.4927,       4513,  4119.1,   1.3603,  34.7005,2,  34.7062,3,    186.1,2,   187.7,2,  116.80,4,   32.40,4,    0.00,4,    2.29,4,-999.000,9,-999.000,9,  2278.5,2,  1051.7,2,-999.000,9,-999.0000,9, -999.00,9, -999.00,9,  -999.0,9,  -999.0,-999.000,9,-999.000,      20.30,-999.0000,-999.000,     1.0323,-999.000
  316N138_4,       P06C,     117,          1,          3,        130,2,19920615,       0538,   -32.5075,  -141.4927,       4513,  4317.2,   1.3324,  34.7035,2,  34.7058,2,    189.8,2,   190.1,2,  120.17,2,   33.01,2,    0.00,2,    2.32,2,-999.000,9,-999.000,9,  2278.2,2,  -999.0,9,-999.000,9,-999.0000,9, -999.00,9, -999.00,9,  -999.0,9,  -999.0,-999.000,9,-999.000,     -999.0,-999.0000,-999.000,     0.9833,-999.000
  316N138_4,       P06C,     117,          1,          2,        135,2,19920615,       0538,   -32.5075,  -141.4927,       4513,  4524.1,   1.3221,  34.7046,2,  34.7048,2,    191.8,2,   192.2,2,  119.88,2,   32.86,2,    0.01,2,    2.31,2,-999.000,9,-999.000,9,  2276.0,2,  -999.0,9,-999.000,9,-999.0000,9, -999.00,9, -999.00,9,  -999.0,9,  -999.0,-999.000,9,-999.000,     -999.0,-999.0000,-999.000,     0.9498,-999.000
  316N138_4,       P06C,     117,          1,          1,        134,2,19920615,       0538,   -32.5075,  -141.4927,       4513,  4634.7,   1.3146,  34.7061,2,  34.7062,2,    193.1,2,   193.5,2,  119.20,2,   32.80,2,    0.01,2,    2.29,2,-999.000,9,-999.000,9,  2274.3,6,  1054.5,2,-999.000,9,-999.0000,9, -999.00,9, -999.00,9,  -999.0,9,  -999.0,-999.000,9,-999.000,      20.30,-999.0000,-999.000,     0.9298,-999.000