BOTTLE,20211025CCHSIORKP
EXPOCODE,SECT_ID,STNNBR,CASTNO,SAMPNO,BTLNBR,BTLNBR_FLAG_W,DATE,TIME,LATITUDE,LONGITUDE,DEPTH,CTDPRS,CTDTMP,CTDSAL,CTDSAL_FLAG_W,SALNTY,SALNTY_FLAG_W,CTDOXY,CTDOXY_FLAG_W,OXYGEN,OXYGEN_FLAG_W,SILCAT,SILCAT_FLAG_W,NITRAT,NITRAT_FLAG_W,NITRIT,NITRIT_FLAG_W,PHSPHT,PHSPHT_FLAG_W,CFC-11,CFC-11_FLAG_W,CFC-12,CFC-12_FLAG_W,TCARBN,TCARBN_FLAG_W,PCO2,PCO2_FLAG_W,TRITUM,TRITUM_FLAG_W,HELIUM,HELIUM_FLAG_W,DELHE3,DELHE3_FLAG_W,DELC13,DELC13_FLAG_W,DELC14,DELC14_FLAG_W,C14ERR,NEON,NEON_FLAG_W,NEONER,PCO2TMP,HELIER,DELHER,THETA,TRITER
,,,,,,,,,,,METERS,DBAR,ITS-90,PSS-78,,PSS-78,,UMOL/KG,,UMOL/KG,,UMOL/KG,,UMOL/KG,,UMOL/KG,,UMOL/KG,,PMOL/KG,,PMOL/KG,,UMOL/KG,,UATM,,TU,,NMOL/KG,,PERCNT,,/MILLE,,/MILLE,,/MILLE,NMOL/KG,,NMOL/KG,DEG_C,NMOL/KG,PERCNT,ITS-90,TU
  316N138_4,       P06C,      88,          1,         36,    02-9121,2,19920605,       1238,   -32.5060,  -122.0053,       2978,    17.7,  20.1449,  35.2406,2,  35.2408,2,    223.5,2,   226.7,2,   -0.01,2,    0.04,2,   -0.01,2,    0.11,2,   2.288,6,   1.188,6,  -999.0,9,  -999.0,9,-999.000,9,-999.0000,9, -999.00,9, -999.00,9,  -999.0,9,  -999.0,-999.000,9,-999.000,     -999.0,-999.0000,-999.000,    20.1416,-999.000
  316N138_4,       P06C,      88,          1,         35,    02-9454,2,19920605,       1238,   -32.5060,  -122.0053,       2978,    57.9,  20.1051,  35.2488,2,  35.2491,2,    223.5,2,   224.5,2,    0.03,2,    0.05,2,   -0.02,2,    0.12,2,   2.238,2,   1.213,2,  -999.0,9,  -999.0,9,-999.000,9,-999.0000,9, -999.00,9, -999.00,9,  -999.0,9,  -999.0,-999.000,9,-999.000,     -999.0,-999.0000,-999.000,    20.0944,-999.000
  316N138_4,       P06C,      88,          1,         34,    02-9457,2,19920605,       1238,   -32.5060,  -122.0053,       2978,    88.3,  19.0634,  35.3023,3,  35.2588,2,    234.3,2,   236.9,2,    0.08,2,    0.04,2,   -0.01,2,    0.14,2,   2.468,2,   1.289,2,  -999.0,9,  -999.0,9,-999.000,9,-999.0000,9, -999.00,9, -999.00,9,  -999.0,9,  -999.0,-999.000,9,-999.000,     -999.0,-999.0000,-999.000,    19.0476,-999.000
  316N138_4,       P06C,      88,          1,         33,    02-5367,2,19920605,       1238,   -32.5060,  -122.0053,       2978,   117.8,  17.5715,  35.1900,2,  35.1874,2,    234.0,2,   235.4,2,    0.13,2,    0.04,2,   -0.01,2,    0.16,2,   2.539,2,   1.290,3,  -999.0,9,  -999.0,9,-999.000,9,-999.0000,9, -999.00,9, -999.00,9,  -999.0,9,  -999.0,-999.000,9,-999.000,     -999.0,-999.0000,-999.000,    17.5516,-999.000
  316N138_4,       P06C,      88,          1,         32,    02-9540,2,19920605,       1238,   -32.5060,  -122.0053,       2978,   149.0,  16.3145,  35.0849,2,  35.0817,2,    227.5,2,   228.1,2,    0.17,2,    0.41,2,    0.14,2,    0.23,2,   2.515,2,   1.288,2,  -999.0,9,  -999.0,9,-999.000,9,-999.0000,9, -999.00,9, -999.00,9,  -999.0,9,  -999.0,-999.000,9,-999.000,     -999.0,-999.0000,-999.000,    16.2906,-999.000
  316N138_4,       P06C,      88,          1,         31,    02-9539,2,19920605,       1238,   -32.5060,  -122.0053,       2978,   182.7,  15.3298,  34.9547,2,  35.0020,2,    220.2,2,   214.7,2,    0.57,2,    2.90,2,    0.01,2,    0.39,2,   2.423,2,-999.000,5,  -999.0,9,  -999.0,9,-999.000,9,-999.0000,9, -999.00,9, -999.00,9,  -999.0,9,  -999.0,-999.000,9,-999.000,     -999.0,-999.0000,-999.000,    15.3017,-999.000
  316N138_4,       P06C,      88,          1,         30,    02-9456,2,19920605,       1238,   -32.5060,  -122.0053,       2978,   232.4,  13.8985,  34.9222,2,  34.8991,2,    209.7,2,   206.7,2,    0.98,2,    6.36,2,    0.00,2,    0.60,2,-999.000,9,-999.000,9,  -999.0,9,  -999.0,9,-999.000,9,-999.0000,9, -999.00,9, -999.00,9,  -999.0,9,  -999.0,-999.000,9,-999.000,     -999.0,-999.0000,-999.000,    13.8651,-999.000
  316N138_4,       P06C,      88,          1,         29,    02-9458,2,19920605,       1238,   -32.5060,  -122.0053,       2978,   281.8,  12.5031,  34.7042,3,  34.7925,2,    207.9,2,   205.4,2,    1.55,2,    9.34,2,    0.00,2,    0.77,2,   2.085,2,   1.052,2,  -999.0,9,  -999.0,9,-999.000,9,-999.0000,9, -999.00,9, -999.00,9,  -999.0,9,  -999.0,-999.000,9,-999.000,     -999.0,-999.0000,-999.000,    12.4653,-999.000
  316N138_4,       P06C,      88,          1,         28,    02-9545,2,19920605,       1238,   -32.5060,  -122.0053,       2978,   332.6,  10.4667,  34.5775,2,  34.5932,2,    211.6,2,   205.1,2,    2.84,2,   14.69,2,    0.00,2,    1.09,2,   1.846,2,   0.910,2,  -999.0,9,  -999.0,9,-999.000,9,-999.0000,9, -999.00,9, -999.00,9,  -999.0,9,  -999.0,-999.000,9,-999.000,     -999.0,-999.0000,-999.000,    10.4269,-999.000
  316N138_4,       P06C,      88,          1,         27,    02-9453,2,19920605,       1238,   -32.5060,  -122.0053,       2978,   407.6,   8.4321,  34.4544,2,  34.4514,2,    217.9,2,   211.0,3,    5.02,2,   19.38,2,   -0.01,2,    1.37,2,   1.518,2,   0.745,2,  -999.0,9,  -999.0,9,-999.000,9,-999.0000,9, -999.00,9, -999.00,9,  -999.0,9,  -999.0,-999.000,9,-999.000,     -999.0,-999.0000,-999.000,     8.3893,-999.000
  316N138_4,       P06C,      88,          1,         26,    02-9544,2,19920605,       1238,   -32.5060,  -122.0053,       2978,   482.6,   7.3242,  34.3948,2,  34.3978,2,    235.4,2,   236.9,2,    5.78,2,   20.77,2,    0.00,2,    1.44,2,   1.842,6,   0.896,6,  -999.0,9,  -999.0,9,-999.000,9,-999.0000,9, -999.00,9, -999.00,9,  -999.0,9,  -999.0,-999.000,9,-999.000,     -999.0,-999.0000,-999.000,     7.2774,-999.000
  316N138_4,       P06C,      88,          1,         25,    02-9455,2,19920605,       1238,   -32.5060,  -122.0053,       2978,   558.4,   6.8497,  34.3784,2,  34.3786,2,    246.3,2,   204.4,4,    6.71,2,   21.57,2,   -0.01,2,    1.48,2,   1.828,2,   0.877,2,  -999.0,9,  -999.0,9,-999.000,9,-999.0000,9, -999.00,9, -999.00,9,  -999.0,9,  -999.0,-999.000,9,-999.000,     -999.0,-999.0000,-999.000,     6.7972,-999.000
  316N138_4,       P06C,      88,          1,         24,        132,2,19920605,       1238,   -32.5060,  -122.0053,       2978,   635.4,   6.4817,  34.3547,2,  34.3584,2,    246.1,2,   239.4,3,    8.00,2,   22.66,2,    0.00,2,    1.54,2,   1.422,2,   0.705,2,  -999.0,9,  -999.0,9,-999.000,9,-999.0000,9, -999.00,9, -999.00,9,  -999.0,9,  -999.0,-999.000,9,-999.000,     -999.0,-999.0000,-999.000,     6.4235,-999.000
  316N138_4,       P06C,      88,          1,         23,        123,2,19920605,       1238,   -32.5060,  -122.0053,       2978,   685.2,   6.2838,  34.3398,2,  34.3433,2,    245.0,2,   243.7,2,    8.94,2,   23.22,2,   -0.01,2,    1.58,2,   1.221,2,   0.618,2,  -999.0,9,  -999.0,9,-999.000,9,-999.0000,9, -999.00,9, -999.00,9,  -999.0,9,  -999.0,-999.000,9,-999.000,     -999.0,-999.0000,-999.000,     6.2217,-999.000
  316N138_4,       P06C,      88,          1,         22,        128,2,19920605,       1238,   -32.5060,  -122.0053,       2978,   735.6,   6.0278,  34.3238,2,  34.3258,2,    242.6,2,   241.3,2,   10.40,2,   24.12,2,   -0.01,2,    1.64,2,   0.976,2,   0.516,2,  -999.0,9,  -999.0,9,-999.000,9,-999.0000,9, -999.00,9, -999.00,9,  -999.0,9,  -999.0,-999.000,9,-999.000,     -999.0,-999.0000,-999.000,     5.9623,-999.000
  316N138_4,       P06C,      88,          1,         21,        121,2,19920605,       1238,   -32.5060,  -122.0053,       2978,   810.3,   5.6377,  34.3042,2,  34.3082,2,    237.7,2,   234.1,2,   12.77,2,   25.58,2,   -0.01,2,    1.72,2,   0.650,2,   0.346,2,  -999.0,9,  -999.0,9,-999.000,9,-999.0000,9, -999.00,9, -999.00,9,  -999.0,9,  -999.0,-999.000,9,-999.000,     -999.0,-999.0000,-999.000,     5.5677,-999.000
  316N138_4,       P06C,      88,          1,         20,        120,2,19920605,       1238,   -32.5060,  -122.0053,       2978,   886.8,   5.1899,  34.2956,2,  34.2968,2,    227.2,2,   224.8,2,   17.23,2,   27.45,2,   -0.01,2,    1.86,2,   0.410,6,   0.234,2,  -999.0,9,  -999.0,9,-999.000,9,-999.0000,9, -999.00,9, -999.00,9,  -999.0,9,  -999.0,-999.000,9,-999.000,     -999.0,-999.0000,-999.000,     5.1157,-999.000
  316N138_4,       P06C,      88,          1,         19,        133,2,19920605,       1238,   -32.5060,  -122.0053,       2978,   960.5,   4.7745,  34.2990,2,  34.3032,2,    215.3,2,   211.4,2,   23.12,2,   29.36,2,   -0.01,2,    1.97,2,   0.255,2,   0.149,2,  -999.0,9,  -999.0,9,-999.000,9,-999.0000,9, -999.00,9, -999.00,9,  -999.0,9,  -999.0,-999.000,9,-999.000,     -999.0,-999.0000,-999.000,     4.6967,-999.000
  316N138_4,       P06C,      88,          1,         18,        118,2,19920605,       1238,   -32.5060,  -122.0053,       2978,  1061.5,   4.3008,  34.3217,2,  34.3223,2,    197.8,2,   194.5,2,   31.71,2,   31.72,2,   -0.02,2,    2.12,2,   0.080,2,   0.053,3,  -999.0,9,  -999.0,9,-999.000,9,-999.0000,9, -999.00,9, -999.00,9,  -999.0,9,  -999.0,-999.000,9,-999.000,     -999.0,-999.0000,-999.000,     4.2178,-999.000
  316N138_4,       P06C,      88,          1,         17,        117,2,19920605,       1238,   -32.5060,  -122.0053,       2978,  1163.5,   3.8326,  34.3677,2,  34.3662,2,    180.6,2,   178.7,2,   43.32,2,   33.71,2,   -0.01,2,    2.27,2,-999.000,9,-999.000,9,  -999.0,9,  -999.0,9,-999.000,9,-999.0000,9, -999.00,9, -999.00,9,  -999.0,9,  -999.0,-999.000,9,-999.000,     -999.0,-999.0000,-999.000,     3.7448,-999.000
  316N138_4,       P06C,      88,          1,         16,        116,2,19920605,       1238,   -32.5060,  -122.0053,       2978,  1264.1,   3.4528,  34.4180,2,  34.4198,2,    168.0,2,   166.8,2,   54.67,2,   34.65,2,   -0.01,2,    2.38,2,   0.014,2,-999.000,5,  -999.0,9,  -999.0,9,-999.000,9,-999.0000,9, -999.00,9, -999.00,9,  -999.0,9,  -999.0,-999.000,9,-999.000,     -999.0,-999.0000,-999.000,     3.3602,-999.000
  316N138_4,       P06C,      88,          1,         15,        115,2,19920605,       1238,   -32.5060,  -122.0053,       2978,  1416.7,   2.9636,  34.4890,2,  34.4944,2,    164.6,2,   163.7,2,   69.74,2,   34.90,2,   -0.01,2,    2.41,2,   0.003,2,   0.006,2,  -999.0,9,  -999.0,9,-999.000,9,-999.0000,9, -999.00,9, -999.00,9,  -999.0,9,  -999.0,-999.000,9,-999.000,     -999.0,-999.0000,-999.000,     2.8633,-999.000
  316N138_4,       P06C,      88,          1,         14,        114,2,19920605,       1238,   -32.5060,  -122.0053,       2978,  1517.8,   2.7449,  34.5284,2,  34.5268,2,    163.2,2,   163.6,2,   77.60,2,   34.89,2,    0.00,2,    2.42,2,   0.001,2,   0.005,2,  -999.0,9,  -999.0,9,-999.000,9,-999.0000,9, -999.00,9, -999.00,9,  -999.0,9,  -999.0,-999.000,9,-999.000,     -999.0,-999.0000,-999.000,     2.6387,-999.000
  316N138_4,       P06C,      88,          1,         13,        125,2,19920605,       1238,   -32.5060,  -122.0053,       2978,  1618.5,   2.5395,  34.5701,2,  34.5651,2,    160.9,2,   160.3,2,   86.70,2,   35.04,2,    0.00,2,    2.43,2,-999.000,9,-999.000,9,  -999.0,9,  -999.0,9,-999.000,9,-999.0000,9, -999.00,9, -999.00,9,  -999.0,9,  -999.0,-999.000,9,-999.000,     -999.0,-999.0000,-999.000,     2.4274,-999.000
  316N138_4,       P06C,      88,          1,         12,        112,2,19920605,       1238,   -32.5060,  -122.0053,       2978,  1770.8,   2.3341,  34.6030,2,  34.6028,2,    157.7,2,   156.9,2,   97.58,2,   34.93,2,    0.00,2,    2.45,2,-999.000,9,-999.000,9,  -999.0,9,  -999.0,9,-999.000,9,-999.0000,9, -999.00,9, -999.00,9,  -999.0,9,  -999.0,-999.000,9,-999.000,     -999.0,-999.0000,-999.000,     2.2121,-999.000
  316N138_4,       P06C,      88,          1,         11,        129,2,19920605,       1238,   -32.5060,  -122.0053,       2978,  1872.2,   2.2240,  34.6203,2,  34.6187,2,    156.0,2,   156.6,2,  103.66,2,   35.25,2,    0.01,2,    2.47,2,   0.002,6,   0.004,6,  -999.0,9,  -999.0,9,-999.000,9,-999.0000,9, -999.00,9, -999.00,9,  -999.0,9,  -999.0,-999.000,9,-999.000,     -999.0,-999.0000,-999.000,     2.0950,-999.000
  316N138_4,       P06C,      88,          1,         10,        110,3,19920605,       1238,   -32.5060,  -122.0053,       2978,  1973.9,   2.1600,  34.6289,2,  34.6779,4,    155.5,2,   172.7,4,   68.52,4,   26.62,4,    0.01,4,    1.88,4,-999.000,9,-999.000,9,  -999.0,9,  -999.0,9,-999.000,9,-999.0000,9, -999.00,9, -999.00,9,  -999.0,9,  -999.0,-999.000,9,-999.000,     -999.0,-999.0000,-999.000,     2.0233,-999.000
  316N138_4,       P06C,      88,          1,          9,        126,2,19920605,       1238,   -32.5060,  -122.0053,       2978,  2124.3,   2.0249,  34.6450,2,  34.6439,2,    155.8,2,   155.9,2,  112.80,2,   35.29,2,    0.01,2,    2.48,2,  -0.001,2,   0.005,2,  -999.0,9,  -999.0,9,-999.000,9,-999.0000,9, -999.00,9, -999.00,9,  -999.0,9,  -999.0,-999.000,9,-999.000,     -999.0,-999.0000,-999.000,     1.8774,-999.000
  316N138_4,       P06C,      88,          1,          8,        108,2,19920605,       1238,   -32.5060,  -122.0053,       2978,  2227.2,   1.9755,  34.6491,2,  34.6502,2,    156.4,2,   156.9,2,  114.79,2,   35.30,2,    0.00,2,    2.49,2,  -0.002,6,-999.000,5,  -999.0,9,  -999.0,9,-999.000,9,-999.0000,9, -999.00,9, -999.00,9,  -999.0,9,  -999.0,-999.000,9,-999.000,     -999.0,-999.0000,-999.000,     1.8200,-999.000
  316N138_4,       P06C,      88,          1,          7,        107,3,19920605,       1238,   -32.5060,  -122.0053,       2978,  2329.7,   1.9127,  34.6559,2,  34.6527,2,    157.1,2,   160.3,3,  115.18,2,   35.09,2,    0.01,2,    2.47,2,-999.000,9,-999.000,9,  -999.0,9,  -999.0,9,-999.000,9,-999.0000,9, -999.00,9, -999.00,9,  -999.0,9,  -999.0,-999.000,9,-999.000,     -999.0,-999.0000,-999.000,     1.7493,-999.000
  316N138_4,       P06C,      88,          1,          6,        180,2,19920605,       1238,   -32.5060,  -122.0053,       2978,  2430.5,   1.8671,  34.6597,2,-999.0000,9,    158.0,2,  -999.0,9, -999.00,9, -999.00,9, -999.00,9, -999.00,9,-999.000,9,-999.000,9,  -999.0,9,  -999.0,9,-999.000,9,-999.0000,9, -999.00,9, -999.00,9,  -999.0,9,  -999.0,-999.000,9,-999.000,     -999.0,-999.0000,-999.000,     1.6955,-999.000
  316N138_4,       P06C,      88,          1,          5,        131,2,19920605,       1238,   -32.5060,  -122.0053,       2978,  2531.2,   1.8220,  34.6642,2,  34.6649,2,    159.1,2,   159.6,2,  119.49,2,   35.10,2,    0.00,2,    2.47,2,-999.000,9,-999.000,9,  -999.0,9,  -999.0,9,-999.000,9,-999.0000,9, -999.00,9, -999.00,9,  -999.0,9,  -999.0,-999.000,9,-999.000,     -999.0,-999.0000,-999.000,     1.6421,-999.000
  316N138_4,       P06C,      88,          1,          4,        104,2,19920605,       1238,   -32.5060,  -122.0053,       2978,  2630.4,   1.7776,  34.6678,2,  34.6584,4,    160.4,2,   175.9,4,   99.81,4,   31.81,4,    0.01,4,    2.27,4,-999.000,9,-999.000,9,  -999.0,9,  -999.0,9,-999.000,9,-999.0000,9, -999.00,9, -999.00,9,  -999.0,9,  -999.0,-999.000,9,-999.000,     -999.0,-999.0000,-999.000,     1.5895,-999.000
  316N138_4,       P06C,      88,          1,          3,        130,3,19920605,       1238,   -32.5060,  -122.0053,       2978,  2834.9,   1.7099,  34.6742,2,  34.7223,4,    163.2,2,   215.9,4,   18.15,4,   15.36,4,    0.02,4,    1.14,4,-999.000,9,-999.000,9,  -999.0,9,  -999.0,9,-999.000,9,-999.0000,9, -999.00,9, -999.00,9,  -999.0,9,  -999.0,-999.000,9,-999.000,     -999.0,-999.0000,-999.000,     1.5042,-999.000
  316N138_4,       P06C,      88,          1,          2,        135,2,19920605,       1238,   -32.5060,  -122.0053,       2978,  3037.2,   1.6814,  34.6771,2,  34.6783,2,    165.0,2,   166.4,2,  122.09,2,   34.72,2,    0.02,2,    2.44,2,-999.000,9,-999.000,9,  -999.0,9,  -999.0,9,-999.000,9,-999.0000,9, -999.00,9, -999.00,9,  -999.0,9,  -999.0,-999.000,9,-999.000,     -999.0,-999.0000,-999.000,     1.4571,-999.000
  316N138_4,       P06C,      88,          1,          1,        134,2,19920605,       1238,   -32.5060,  -122.0053,       2978,  3087.4,   1.6792,  34.6776,2,  34.6769,2,    165.9,2,   168.6,4,  121.98,2,   34.73,2,    0.01,2,    2.45,2,   0.000,2,   0.007,2,  -999.0,9,  -999.0,9,-999.000,9,-999.0000,9, -999.00,9, -999.00,9,  -999.0,9,  -999.0,-999.000,9,-999.000,     -999.0,-999.0000,-999.000,     1.4501,-999.000