BOTTLE,20211025CCHSIORKP
EXPOCODE,SECT_ID,STNNBR,CASTNO,SAMPNO,BTLNBR,BTLNBR_FLAG_W,DATE,TIME,LATITUDE,LONGITUDE,DEPTH,CTDPRS,CTDTMP,CTDSAL,CTDSAL_FLAG_W,SALNTY,SALNTY_FLAG_W,CTDOXY,CTDOXY_FLAG_W,OXYGEN,OXYGEN_FLAG_W,SILCAT,SILCAT_FLAG_W,NITRAT,NITRAT_FLAG_W,NITRIT,NITRIT_FLAG_W,PHSPHT,PHSPHT_FLAG_W,CFC-11,CFC-11_FLAG_W,CFC-12,CFC-12_FLAG_W,TCARBN,TCARBN_FLAG_W,PCO2,PCO2_FLAG_W,TRITUM,TRITUM_FLAG_W,HELIUM,HELIUM_FLAG_W,DELHE3,DELHE3_FLAG_W,DELC13,DELC13_FLAG_W,DELC14,DELC14_FLAG_W,C14ERR,NEON,NEON_FLAG_W,NEONER,PCO2TMP,HELIER,DELHER,THETA,TRITER
,,,,,,,,,,,METERS,DBAR,ITS-90,PSS-78,,PSS-78,,UMOL/KG,,UMOL/KG,,UMOL/KG,,UMOL/KG,,UMOL/KG,,UMOL/KG,,PMOL/KG,,PMOL/KG,,UMOL/KG,,UATM,,TU,,NMOL/KG,,PERCNT,,/MILLE,,/MILLE,,/MILLE,NMOL/KG,,NMOL/KG,DEG_C,NMOL/KG,PERCNT,ITS-90,TU
  316N138_4,       P06C,     160,          1,         36,    02-9121,2,19920628,       0337,   -32.5015,  -171.2452,       5460,    22.3,  16.5878,  35.5260,2,  35.5255,2,    247.3,2,   238.6,2,    1.01,2,    0.25,2,    0.02,2,    0.19,2,-999.000,5,-999.000,5,  -999.0,9,  -999.0,9,-999.000,9,-999.0000,9, -999.00,9, -999.00,9,  -999.0,9,  -999.0,-999.000,9,-999.000,     -999.0,-999.0000,-999.000,    16.5842,-999.000
  316N138_4,       P06C,     160,          1,         35,    02-9454,2,19920628,       0337,   -32.5015,  -171.2452,       5460,    61.5,  16.5848,  35.5248,2,  35.5231,2,    236.2,2,   238.1,2,    1.00,2,    0.29,2,    0.02,2,    0.19,2,-999.000,5,-999.000,5,  -999.0,9,  -999.0,9,-999.000,9,-999.0000,9, -999.00,9, -999.00,9,  -999.0,9,  -999.0,-999.000,9,-999.000,     -999.0,-999.0000,-999.000,    16.5749,-999.000
  316N138_4,       P06C,     160,          1,         34,    02-9457,2,19920628,       0337,   -32.5015,  -171.2452,       5460,   111.7,  16.5808,  35.5241,2,  35.5219,2,    209.2,4,   238.7,2,    1.00,2,    0.38,2,    0.01,2,    0.20,2,-999.000,5,-999.000,5,  -999.0,9,  -999.0,9,-999.000,9,-999.0000,9, -999.00,9, -999.00,9,  -999.0,9,  -999.0,-999.000,9,-999.000,     -999.0,-999.0000,-999.000,    16.5627,-999.000
  316N138_4,       P06C,     160,          1,         33,    02-5367,2,19920628,       0337,   -32.5015,  -171.2452,       5460,   160.8,  14.7122,  35.3467,2,  35.3352,2,    198.8,3,   207.3,2,    2.35,2,    6.73,2,    0.02,2,    0.59,2,-999.000,5,-999.000,5,  -999.0,9,  -999.0,9,-999.000,9,-999.0000,9, -999.00,9, -999.00,9,  -999.0,9,  -999.0,-999.000,9,-999.000,     -999.0,-999.0000,-999.000,    14.6881,-999.000
  316N138_4,       P06C,     160,          1,         32,    02-9540,2,19920628,       0337,   -32.5015,  -171.2452,       5460,   210.8,  13.4697,  35.2023,2,  35.1829,2,    197.4,2,   202.3,2,    3.20,2,    9.58,2,    0.01,2,    0.77,2,-999.000,5,-999.000,5,  -999.0,9,  -999.0,9,-999.000,9,-999.0000,9, -999.00,9, -999.00,9,  -999.0,9,  -999.0,-999.000,9,-999.000,     -999.0,-999.0000,-999.000,    13.4400,-999.000
  316N138_4,       P06C,     160,          1,         31,    02-9539,2,19920628,       0337,   -32.5015,  -171.2452,       5460,   309.8,  11.5558,  34.9446,2,  34.9418,2,    192.9,2,   198.0,2,    4.39,2,   13.90,2,    0.01,2,    1.03,2,-999.000,5,-999.000,5,  -999.0,9,  -999.0,9,-999.000,9,-999.0000,9, -999.00,9, -999.00,9,  -999.0,9,  -999.0,-999.000,9,-999.000,     -999.0,-999.0000,-999.000,    11.5162,-999.000
  316N138_4,       P06C,     160,          1,         30,    02-9456,2,19920628,       0337,   -32.5015,  -171.2452,       5460,   408.2,   9.5007,  34.6894,2,  34.6857,2,    203.6,2,   205.4,2,    5.92,2,   18.13,2,    0.00,2,    1.28,2,-999.000,5,-999.000,5,  -999.0,9,  -999.0,9,-999.000,9,-999.0000,9, -999.00,9, -999.00,9,  -999.0,9,  -999.0,-999.000,9,-999.000,     -999.0,-999.0000,-999.000,     9.4545,-999.000
  316N138_4,       P06C,     160,          1,         29,    02-9458,2,19920628,       0337,   -32.5015,  -171.2452,       5460,   506.7,   8.2199,  34.5372,2,  34.5360,2,    219.8,2,   220.5,2,    6.08,2,   20.00,2,    0.02,2,    1.38,2,-999.000,5,-999.000,5,  -999.0,9,  -999.0,9,-999.000,9,-999.0000,9, -999.00,9, -999.00,9,  -999.0,9,  -999.0,-999.000,9,-999.000,     -999.0,-999.0000,-999.000,     8.1671,-999.000
  316N138_4,       P06C,     160,          1,         28,    02-9545,2,19920628,       0337,   -32.5015,  -171.2452,       5460,   604.8,   7.3534,  34.4499,2,  34.4489,2,    228.8,2,   228.2,2,    6.93,2,   21.60,2,    0.00,2,    1.47,2,-999.000,5,-999.000,5,  -999.0,9,  -999.0,9,-999.000,9,-999.0000,9, -999.00,9, -999.00,9,  -999.0,9,  -999.0,-999.000,9,-999.000,     -999.0,-999.0000,-999.000,     7.2939,-999.000
  316N138_4,       P06C,     160,          1,         27,    02-9453,2,19920628,       0337,   -32.5015,  -171.2452,       5460,   705.3,   6.8068,  34.4008,2,  34.4016,2,    232.3,2,   231.0,2,    8.80,2,   23.11,2,    0.01,2,    1.59,2,-999.000,5,-999.000,5,  -999.0,9,  -999.0,9,-999.000,9,-999.0000,9, -999.00,9, -999.00,9,  -999.0,9,  -999.0,-999.000,9,-999.000,     -999.0,-999.0000,-999.000,     6.7400,-999.000
  316N138_4,       P06C,     160,          1,         26,    02-9544,2,19920628,       0337,   -32.5015,  -171.2452,       5460,   806.1,   6.1852,  34.3588,2,  34.3578,2,    227.2,2,   226.4,2,   12.37,2,   25.17,2,    0.01,2,    1.73,2,-999.000,5,-999.000,5,  -999.0,9,  -999.0,9,-999.000,9,-999.0000,9, -999.00,9, -999.00,9,  -999.0,9,  -999.0,-999.000,9,-999.000,     -999.0,-999.0000,-999.000,     6.1121,-999.000
  316N138_4,       P06C,     160,          1,         25,    02-9455,2,19920628,       0337,   -32.5015,  -171.2452,       5460,   905.6,   5.6655,  34.3530,2,  34.3529,2,    218.1,2,   211.3,2,   18.82,2,   27.53,2,    0.01,2,    1.87,2,-999.000,5,-999.000,5,  -999.0,9,  -999.0,9,-999.000,9,-999.0000,9, -999.00,9, -999.00,9,  -999.0,9,  -999.0,-999.000,9,-999.000,     -999.0,-999.0000,-999.000,     5.5864,-999.000
  316N138_4,       P06C,     160,          1,         24,        132,2,19920628,       0337,   -32.5015,  -171.2452,       5460,  1007.3,   5.0660,  34.3468,2,  34.3482,2,    207.7,2,   204.0,2,   25.62,2,   29.46,2,    0.01,2,    2.00,2,-999.000,5,-999.000,5,  -999.0,9,  -999.0,9,-999.000,9,-999.0000,9, -999.00,9, -999.00,9,  -999.0,9,  -999.0,-999.000,9,-999.000,     -999.0,-999.0000,-999.000,     4.9818,-999.000
  316N138_4,       P06C,     160,          1,         23,        123,2,19920628,       0337,   -32.5015,  -171.2452,       5460,  1105.7,   4.5244,  34.3647,2,  34.3641,2,    196.1,2,   196.3,2,   34.28,2,   31.11,2,    0.01,2,    2.13,2,-999.000,5,-999.000,5,  -999.0,9,  -999.0,9,-999.000,9,-999.0000,9, -999.00,9, -999.00,9,  -999.0,9,  -999.0,-999.000,9,-999.000,     -999.0,-999.0000,-999.000,     4.4357,-999.000
  316N138_4,       P06C,     160,          1,         22,        128,2,19920628,       0337,   -32.5015,  -171.2452,       5460,  1308.3,   3.5133,  34.4286,2,  34.4286,2,    180.1,2,   181.5,2,   54.84,2,   33.47,2,    0.00,2,    2.31,2,-999.000,5,-999.000,5,  -999.0,9,  -999.0,9,-999.000,9,-999.0000,9, -999.00,9, -999.00,9,  -999.0,9,  -999.0,-999.000,9,-999.000,     -999.0,-999.0000,-999.000,     3.4163,-999.000
  316N138_4,       P06C,     160,          1,         21,        121,2,19920628,       0337,   -32.5015,  -171.2452,       5460,  1507.1,   2.9368,  34.5190,2,  34.5182,2,    166.3,2,   169.3,3,   76.06,2,   34.58,2,    0.01,2,    2.43,2,-999.000,5,-999.000,5,  -999.0,9,  -999.0,9,-999.000,9,-999.0000,9, -999.00,9, -999.00,9,  -999.0,9,  -999.0,-999.000,9,-999.000,     -999.0,-999.0000,-999.000,     2.8293,-999.000
  316N138_4,       P06C,     160,          1,         20,        120,2,19920628,       0337,   -32.5015,  -171.2452,       5460,  1712.8,   2.5881,  34.5849,2,  34.5859,2,    157.8,2,   156.8,2,   95.08,2,   35.20,2,    0.00,2,    2.48,2,-999.000,5,-999.000,5,  -999.0,9,  -999.0,9,-999.000,9,-999.0000,9, -999.00,9, -999.00,9,  -999.0,9,  -999.0,-999.000,9,-999.000,     -999.0,-999.0000,-999.000,     2.4675,-999.000
  316N138_4,       P06C,     160,          1,         19,        133,2,19920628,       0337,   -32.5015,  -171.2452,       5460,  1915.9,   2.3774,  34.6152,2,  34.6148,2,    153.0,2,   152.7,2,  105.94,2,   35.48,2,    0.00,2,    2.52,2,-999.000,5,-999.000,5,  -999.0,9,  -999.0,9,-999.000,9,-999.0000,9, -999.00,9, -999.00,9,  -999.0,9,  -999.0,-999.000,9,-999.000,     -999.0,-999.0000,-999.000,     2.2425,-999.000
  316N138_4,       P06C,     160,          1,         18,        118,2,19920628,       0337,   -32.5015,  -171.2452,       5460,  2119.8,   2.2451,  34.6302,2,  34.6295,2,    150.6,2,   149.4,2,  112.90,2,   35.76,2,    0.00,2,    2.54,2,-999.000,5,-999.000,5,  -999.0,9,  -999.0,9,-999.000,9,-999.0000,9, -999.00,9, -999.00,9,  -999.0,9,  -999.0,-999.000,9,-999.000,     -999.0,-999.0000,-999.000,     2.0946,-999.000
  316N138_4,       P06C,     160,          1,         17,        117,2,19920628,       0337,   -32.5015,  -171.2452,       5460,  2322.3,   2.1241,  34.6414,2,  34.6407,2,    148.8,2,   150.1,2,  118.67,2,   35.97,2,    0.00,2,    2.56,2,-999.000,5,-999.000,5,  -999.0,9,  -999.0,9,-999.000,9,-999.0000,9, -999.00,9, -999.00,9,  -999.0,9,  -999.0,-999.000,9,-999.000,     -999.0,-999.0000,-999.000,     1.9577,-999.000
  316N138_4,       P06C,     160,          1,         16,        116,2,19920628,       0337,   -32.5015,  -171.2452,       5460,  2525.1,   2.0096,  34.6527,2,  34.6519,2,    148.4,2,   147.1,2,  123.76,2,   36.08,2,    0.01,2,    2.59,2,-999.000,5,-999.000,5,  -999.0,9,  -999.0,9,-999.000,9,-999.0000,9, -999.00,9, -999.00,9,  -999.0,9,  -999.0,-999.000,9,-999.000,     -999.0,-999.0000,-999.000,     1.8269,-999.000
  316N138_4,       P06C,     160,          1,         15,        115,2,19920628,       0337,   -32.5015,  -171.2452,       5460,  2727.5,   1.9264,  34.6600,2,  34.6594,2,    149.7,2,   150.1,2,  126.47,2,   36.05,2,    0.00,2,    2.61,2,-999.000,5,-999.000,5,  -999.0,9,  -999.0,9,-999.000,9,-999.0000,9, -999.00,9, -999.00,9,  -999.0,9,  -999.0,-999.000,9,-999.000,     -999.0,-999.0000,-999.000,     1.7265,-999.000
  316N138_4,       P06C,     160,          1,         14,        114,2,19920628,       0337,   -32.5015,  -171.2452,       5460,  2930.8,   1.8428,  34.6687,2,  34.6704,2,    152.6,2,   151.4,2,  127.14,2,   35.78,2,    0.01,2,    2.56,2,-999.000,5,-999.000,5,  -999.0,9,  -999.0,9,-999.000,9,-999.0000,9, -999.00,9, -999.00,9,  -999.0,9,  -999.0,-999.000,9,-999.000,     -999.0,-999.0000,-999.000,     1.6252,-999.000
  316N138_4,       P06C,     160,          1,         13,        125,2,19920628,       0337,   -32.5015,  -171.2452,       5460,  3133.5,   1.7641,  34.6846,2,  34.6848,2,    161.8,2,   164.4,2,  122.04,2,   34.84,2,    0.00,2,    2.51,2,-999.000,5,-999.000,5,  -999.0,9,  -999.0,9,-999.000,9,-999.0000,9, -999.00,9, -999.00,9,  -999.0,9,  -999.0,-999.000,9,-999.000,     -999.0,-999.0000,-999.000,     1.5284,-999.000
  316N138_4,       P06C,     160,          1,         12,        112,2,19920628,       0337,   -32.5015,  -171.2452,       5460,  3338.1,   1.6697,  34.7016,2,  34.7038,2,    175.3,2,   177.2,2,  115.59,2,   33.55,2,    0.00,2,    2.43,2,-999.000,5,-999.000,5,  -999.0,9,  -999.0,9,-999.000,9,-999.0000,9, -999.00,9, -999.00,9,  -999.0,9,  -999.0,-999.000,9,-999.000,     -999.0,-999.0000,-999.000,     1.4158,-999.000
  316N138_4,       P06C,     160,          1,         11,        129,2,19920628,       0337,   -32.5015,  -171.2452,       5460,  3541.9,   1.5600,  34.7156,2,  34.7150,2,    188.2,2,   190.5,4,  109.98,2,   32.61,2,    0.00,2,    2.32,2,-999.000,5,-999.000,5,  -999.0,9,  -999.0,9,-999.000,9,-999.0000,9, -999.00,9, -999.00,9,  -999.0,9,  -999.0,-999.000,9,-999.000,     -999.0,-999.0000,-999.000,     1.2879,-999.000
  316N138_4,       P06C,     160,          1,         10,        110,2,19920628,       0337,   -32.5015,  -171.2452,       5460,  3746.2,   1.4229,  34.7206,2,  34.7195,2,    196.0,2,   197.0,2,  109.64,2,   32.06,2,    0.00,2,    2.30,2,-999.000,5,-999.000,5,  -999.0,9,  -999.0,9,-999.000,9,-999.0000,9, -999.00,9, -999.00,9,  -999.0,9,  -999.0,-999.000,9,-999.000,     -999.0,-999.0000,-999.000,     1.1330,-999.000
  316N138_4,       P06C,     160,          1,          9,        126,2,19920628,       0337,   -32.5015,  -171.2452,       5460,  3951.0,   1.2754,  34.7200,2,  34.7199,2,    201.4,2,   201.7,2,  112.01,2,   31.93,2,    0.00,2,    2.28,2,-999.000,5,-999.000,5,  -999.0,9,  -999.0,9,-999.000,9,-999.0000,9, -999.00,9, -999.00,9,  -999.0,9,  -999.0,-999.000,9,-999.000,     -999.0,-999.0000,-999.000,     0.9679,-999.000
  316N138_4,       P06C,     160,          1,          8,        108,2,19920628,       0337,   -32.5015,  -171.2452,       5460,  4155.5,   1.1576,  34.7166,2,  34.7158,2,    203.7,2,   205.0,2,  115.06,2,   31.97,2,    0.00,2,    2.29,2,-999.000,5,-999.000,5,  -999.0,9,  -999.0,9,-999.000,9,-999.0000,9, -999.00,9, -999.00,9,  -999.0,9,  -999.0,-999.000,9,-999.000,     -999.0,-999.0000,-999.000,     0.8314,-999.000
  316N138_4,       P06C,     160,          1,          7,        107,2,19920628,       0337,   -32.5015,  -171.2452,       5460,  4360.6,   1.0993,  34.7130,2,  34.7132,2,    204.9,2,   206.0,2,  116.92,2,   32.02,2,   -0.01,2,    2.30,2,-999.000,5,-999.000,5,  -999.0,9,  -999.0,9,-999.000,9,-999.0000,9, -999.00,9, -999.00,9,  -999.0,9,  -999.0,-999.000,9,-999.000,     -999.0,-999.0000,-999.000,     0.7523,-999.000
  316N138_4,       P06C,     160,          1,          6,        180,2,19920628,       0337,   -32.5015,  -171.2452,       5460,  4564.8,   1.0508,  34.7105,2,  34.7117,2,    206.2,2,   206.6,2,  118.96,2,   32.06,2,   -0.01,2,    2.31,2,-999.000,5,-999.000,5,  -999.0,9,  -999.0,9,-999.000,9,-999.0000,9, -999.00,9, -999.00,9,  -999.0,9,  -999.0,-999.000,9,-999.000,     -999.0,-999.0000,-999.000,     0.6823,-999.000
  316N138_4,       P06C,     160,          1,          5,        131,2,19920628,       0337,   -32.5015,  -171.2452,       5460,  4769.8,   1.0304,  34.7094,2,  34.7089,2,    206.6,2,   211.9,4,  119.80,2,   32.06,2,   -0.01,2,    2.29,2,-999.000,5,-999.000,5,  -999.0,9,  -999.0,9,-999.000,9,-999.0000,9, -999.00,9, -999.00,9,  -999.0,9,  -999.0,-999.000,9,-999.000,     -999.0,-999.0000,-999.000,     0.6389,-999.000
  316N138_4,       P06C,     160,          1,          4,        104,2,19920628,       0337,   -32.5015,  -171.2452,       5460,  4926.2,   1.0239,  34.7083,2,  34.7083,2,    206.4,2,   210.8,4,  120.31,2,   32.07,2,    0.01,2,    2.31,2,-999.000,5,-999.000,5,  -999.0,9,  -999.0,9,-999.000,9,-999.0000,9, -999.00,9, -999.00,9,  -999.0,9,  -999.0,-999.000,9,-999.000,     -999.0,-999.0000,-999.000,     0.6144,-999.000
  316N138_4,       P06C,     160,          1,          3,        130,2,19920628,       0337,   -32.5015,  -171.2452,       5460,  5079.3,   1.0307,  34.7080,2,  34.7083,2,    206.9,2,   208.3,2,  120.48,2,   32.24,2,    0.01,2,    2.30,2,-999.000,5,-999.000,5,  -999.0,9,  -999.0,9,-999.000,9,-999.0000,9, -999.00,9, -999.00,9,  -999.0,9,  -999.0,-999.000,9,-999.000,     -999.0,-999.0000,-999.000,     0.6027,-999.000
  316N138_4,       P06C,     160,          1,          2,        135,2,19920628,       0337,   -32.5015,  -171.2452,       5460,  5280.6,   1.0439,  34.7079,2,  34.7074,2,    207.0,2,   208.6,2,  121.15,2,   32.20,2,    0.01,2,    2.29,2,-999.000,5,-999.000,5,  -999.0,9,  -999.0,9,-999.000,9,-999.0000,9, -999.00,9, -999.00,9,  -999.0,9,  -999.0,-999.000,9,-999.000,     -999.0,-999.0000,-999.000,     0.5911,-999.000
  316N138_4,       P06C,     160,          1,          1,        134,2,19920628,       0337,   -32.5015,  -171.2452,       5460,  5538.0,   1.0744,  34.7071,2,  34.7079,2,    202.3,2,   208.6,2,  121.14,2,   32.20,2,    0.00,2,    2.29,2,-999.000,5,-999.000,5,  -999.0,9,  -999.0,9,-999.000,9,-999.0000,9, -999.00,9, -999.00,9,  -999.0,9,  -999.0,-999.000,9,-999.000,     -999.0,-999.0000,-999.000,     0.5885,-999.000