BOTTLE,20211025CCHSIORKP
EXPOCODE,SECT_ID,STNNBR,CASTNO,SAMPNO,BTLNBR,BTLNBR_FLAG_W,DATE,TIME,LATITUDE,LONGITUDE,DEPTH,CTDPRS,CTDTMP,CTDSAL,CTDSAL_FLAG_W,SALNTY,SALNTY_FLAG_W,CTDOXY,CTDOXY_FLAG_W,OXYGEN,OXYGEN_FLAG_W,SILCAT,SILCAT_FLAG_W,NITRAT,NITRAT_FLAG_W,NITRIT,NITRIT_FLAG_W,PHSPHT,PHSPHT_FLAG_W,CFC-11,CFC-11_FLAG_W,CFC-12,CFC-12_FLAG_W,TCARBN,TCARBN_FLAG_W,PCO2,PCO2_FLAG_W,TRITUM,TRITUM_FLAG_W,HELIUM,HELIUM_FLAG_W,DELHE3,DELHE3_FLAG_W,DELC13,DELC13_FLAG_W,DELC14,DELC14_FLAG_W,C14ERR,NEON,NEON_FLAG_W,NEONER,PCO2TMP,HELIER,DELHER,THETA,TRITER
,,,,,,,,,,,METERS,DBAR,ITS-90,PSS-78,,PSS-78,,UMOL/KG,,UMOL/KG,,UMOL/KG,,UMOL/KG,,UMOL/KG,,UMOL/KG,,PMOL/KG,,PMOL/KG,,UMOL/KG,,UATM,,TU,,NMOL/KG,,PERCNT,,/MILLE,,/MILLE,,/MILLE,NMOL/KG,,NMOL/KG,DEG_C,NMOL/KG,PERCNT,ITS-90,TU
  316N138_4,       P06C,     161,          1,         36,    02-9121,2,19920628,       0807,   -32.5065,  -171.5887,       4833,    24.1,  16.3283,  35.4457,2,  35.4456,2,    239.1,2,   238.2,2,    0.60,2,    0.03,2,    0.03,2,    0.17,2,   2.832,2,-999.000,9,  -999.0,9,  -999.0,9,-999.000,9,-999.0000,9, -999.00,9, -999.00,9,  -999.0,9,  -999.0,-999.000,9,-999.000,     -999.0,-999.0000,-999.000,    16.3245,-999.000
  316N138_4,       P06C,     161,          1,         35,    02-9454,2,19920628,       0807,   -32.5065,  -171.5887,       4833,    63.9,  16.3326,  35.4464,2,  35.4456,2,    241.7,2,   238.6,2,    0.60,2,    0.03,2,    0.02,2,    0.16,2,   2.811,2,   1.361,2,  -999.0,9,  -999.0,9,-999.000,9,-999.0000,9, -999.00,9, -999.00,9,  -999.0,9,  -999.0,-999.000,9,-999.000,     -999.0,-999.0000,-999.000,    16.3224,-999.000
  316N138_4,       P06C,     161,          1,         34,    02-9457,2,19920628,       0807,   -32.5065,  -171.5887,       4833,   113.0,  14.6245,  35.2734,2,  35.2591,2,    233.8,2,   225.6,2,    1.27,2,    2.68,2,    0.06,2,    0.39,2,   2.941,2,   1.367,2,  -999.0,9,  -999.0,9,-999.000,9,-999.0000,9, -999.00,9, -999.00,9,  -999.0,9,  -999.0,-999.000,9,-999.000,     -999.0,-999.0000,-999.000,    14.6077,-999.000
  316N138_4,       P06C,     161,          1,         33,    02-5367,2,19920628,       0807,   -32.5065,  -171.5887,       4833,   162.5,  13.2355,  35.1323,2,  35.1238,2,    214.6,2,   215.2,2,    1.94,2,    7.34,2,    0.02,2,    0.60,2,   2.820,2,   1.323,2,  -999.0,9,  -999.0,9,-999.000,9,-999.0000,9, -999.00,9, -999.00,9,  -999.0,9,  -999.0,-999.000,9,-999.000,     -999.0,-999.0000,-999.000,    13.2129,-999.000
  316N138_4,       P06C,     161,          1,         32,    02-9540,2,19920628,       0807,   -32.5065,  -171.5887,       4833,   211.8,  12.3748,  35.0480,2,  35.0415,2,    208.6,2,   209.6,2,    2.96,2,   10.43,2,    0.01,2,    0.76,2,   2.579,2,   1.206,2,  -999.0,9,  -999.0,9,-999.000,9,-999.0000,9, -999.00,9, -999.00,9,  -999.0,9,  -999.0,-999.000,9,-999.000,     -999.0,-999.0000,-999.000,    12.3466,-999.000
  316N138_4,       P06C,     161,          1,         31,    02-9539,2,19920628,       0807,   -32.5065,  -171.5887,       4833,   263.4,  11.3484,  34.9067,2,  34.9118,2,    205.9,2,   207.7,2,    3.81,2,   13.18,2,    0.01,2,    0.93,2,   2.303,2,   1.088,2,  -999.0,9,  -999.0,9,-999.000,9,-999.0000,9, -999.00,9, -999.00,9,  -999.0,9,  -999.0,-999.000,9,-999.000,     -999.0,-999.0000,-999.000,    11.3152,-999.000
  316N138_4,       P06C,     161,          1,         30,    02-9456,2,19920628,       0807,   -32.5065,  -171.5887,       4833,   312.0,  10.2568,  34.7689,2,  34.7648,2,    205.6,2,   205.4,2,    4.48,2,   15.74,2,    0.01,2,    1.06,2,   2.051,2,   0.974,2,  -999.0,9,  -999.0,9,-999.000,9,-999.0000,9, -999.00,9, -999.00,9,  -999.0,9,  -999.0,-999.000,9,-999.000,     -999.0,-999.0000,-999.000,    10.2199,-999.000
  316N138_4,       P06C,     161,          1,         29,    02-9458,2,19920628,       0807,   -32.5065,  -171.5887,       4833,   361.1,   9.4428,  34.6728,2,  34.6718,2,    207.9,2,   206.7,2,    5.16,2,   17.75,2,    0.01,2,    1.18,2,   1.735,2,   0.834,2,  -999.0,9,  -999.0,9,-999.000,9,-999.0000,9, -999.00,9, -999.00,9,  -999.0,9,  -999.0,-999.000,9,-999.000,     -999.0,-999.0000,-999.000,     9.4022,-999.000
  316N138_4,       P06C,     161,          1,         28,    02-9545,2,19920628,       0807,   -32.5065,  -171.5887,       4833,   410.5,   8.8649,  34.6072,2,  34.6077,2,    214.5,2,   213.9,2,    5.50,2,   18.64,2,    0.00,2,    1.21,2,   1.709,2,   0.814,2,  -999.0,9,  -999.0,9,-999.000,9,-999.0000,9, -999.00,9, -999.00,9,  -999.0,9,  -999.0,-999.000,9,-999.000,     -999.0,-999.0000,-999.000,     8.8203,-999.000
  316N138_4,       P06C,     161,          1,         27,    02-9453,2,19920628,       0807,   -32.5065,  -171.5887,       4833,   509.5,   7.9291,  34.5069,2,  34.5074,2,    227.0,2,   223.6,2,    6.01,2,   20.28,2,    0.00,2,    1.33,2,   1.528,2,   0.720,2,  -999.0,9,  -999.0,9,-999.000,9,-999.0000,9, -999.00,9, -999.00,9,  -999.0,9,  -999.0,-999.000,9,-999.000,     -999.0,-999.0000,-999.000,     7.8771,-999.000
  316N138_4,       P06C,     161,          1,         26,    02-9544,2,19920628,       0807,   -32.5065,  -171.5887,       4833,   609.2,   7.2515,  34.4412,2,  34.4436,2,    231.2,2,   230.9,2,    7.19,2,   21.87,2,    0.00,2,    1.43,2,   1.135,2,   0.554,2,  -999.0,9,  -999.0,9,-999.000,9,-999.0000,9, -999.00,9, -999.00,9,  -999.0,9,  -999.0,-999.000,9,-999.000,     -999.0,-999.0000,-999.000,     7.1921,-999.000
  316N138_4,       P06C,     161,          1,         25,    02-9455,2,19920628,       0807,   -32.5065,  -171.5887,       4833,   708.5,   6.7233,  34.4030,2,  34.4033,2,    231.0,2,   225.4,2,    9.89,2,   23.77,2,    0.01,2,    1.49,2,   0.624,2,   0.324,2,  -999.0,9,  -999.0,9,-999.000,9,-999.0000,9, -999.00,9, -999.00,9,  -999.0,9,  -999.0,-999.000,9,-999.000,     -999.0,-999.0000,-999.000,     6.6566,-999.000
  316N138_4,       P06C,     161,          1,         24,        132,3,19920628,       0807,   -32.5065,  -171.5887,       4833,   810.5,   6.2824,  34.3775,2,  34.3780,2,    222.4,2,   220.9,2,   13.12,2,   25.37,2,    0.01,2,    1.63,2,-999.000,5,-999.000,5,  -999.0,9,  -999.0,9,-999.000,9,-999.0000,9, -999.00,9, -999.00,9,  -999.0,9,  -999.0,-999.000,9,-999.000,     -999.0,-999.0000,-999.000,     6.2083,-999.000
  316N138_4,       P06C,     161,          1,         23,        123,2,19920628,       0807,   -32.5065,  -171.5887,       4833,   911.3,   5.5497,  34.3513,2,  34.3535,2,    214.0,2,   209.3,2,   20.22,2,   28.03,2,    0.01,2,    1.79,2,   0.213,6,   0.117,6,  -999.0,9,  -999.0,9,-999.000,9,-999.0000,9, -999.00,9, -999.00,9,  -999.0,9,  -999.0,-999.000,9,-999.000,     -999.0,-999.0000,-999.000,     5.4708,-999.000
  316N138_4,       P06C,     161,          1,         22,        128,2,19920628,       0807,   -32.5065,  -171.5887,       4833,  1011.6,   4.9392,  34.3557,2,  34.3558,2,    205.0,3,   200.3,2,   28.35,2,   30.01,2,    0.00,2,    1.96,2,   0.119,2,   0.055,2,  -999.0,9,  -999.0,9,-999.000,9,-999.0000,9, -999.00,9, -999.00,9,  -999.0,9,  -999.0,-999.000,9,-999.000,     -999.0,-999.0000,-999.000,     4.8556,-999.000
  316N138_4,       P06C,     161,          1,         21,        121,2,19920628,       0807,   -32.5065,  -171.5887,       4833,  1111.3,   4.3700,  34.3686,2,  34.3698,2,    194.7,2,   190.6,2,   36.81,2,   31.69,2,    0.00,2,    2.08,2,   0.039,2,   0.017,2,  -999.0,9,  -999.0,9,-999.000,9,-999.0000,9, -999.00,9, -999.00,9,  -999.0,9,  -999.0,-999.000,9,-999.000,     -999.0,-999.0000,-999.000,     4.2821,-999.000
  316N138_4,       P06C,     161,          1,         20,        120,2,19920628,       0807,   -32.5065,  -171.5887,       4833,  1210.2,   3.7882,  34.4029,2,  34.4041,2,    186.8,2,   183.0,2,   48.15,2,   33.01,2,    0.00,2,    2.21,2,   0.021,2,   0.013,2,  -999.0,9,  -999.0,9,-999.000,9,-999.0000,9, -999.00,9, -999.00,9,  -999.0,9,  -999.0,-999.000,9,-999.000,     -999.0,-999.0000,-999.000,     3.6968,-999.000
  316N138_4,       P06C,     161,          1,         19,        133,2,19920628,       0807,   -32.5065,  -171.5887,       4833,  1309.4,   3.4687,  34.4374,2,  34.4373,2,    179.7,2,   177.4,2,   56.61,2,   33.70,2,    0.00,2,    2.27,2,   0.010,2,-999.000,9,  -999.0,9,  -999.0,9,-999.000,9,-999.0000,9, -999.00,9, -999.00,9,  -999.0,9,  -999.0,-999.000,9,-999.000,     -999.0,-999.0000,-999.000,     3.3721,-999.000
  316N138_4,       P06C,     161,          1,         18,        118,2,19920628,       0807,   -32.5065,  -171.5887,       4833,  1510.1,   2.8556,  34.5387,2,  34.5396,2,    165.5,2,   162.8,2,   80.81,2,   34.83,2,    0.00,2,    2.41,2,   0.002,2,   0.003,2,  -999.0,9,  -999.0,9,-999.000,9,-999.0000,9, -999.00,9, -999.00,9,  -999.0,9,  -999.0,-999.000,9,-999.000,     -999.0,-999.0000,-999.000,     2.7486,-999.000
  316N138_4,       P06C,     161,          1,         17,        117,2,19920628,       0807,   -32.5065,  -171.5887,       4833,  1711.1,   2.5654,  34.5888,2,  34.5889,2,    157.2,2,   156.2,2,   96.04,2,   35.34,2,    0.00,2,    2.48,2,-999.000,5,-999.000,5,  -999.0,9,  -999.0,9,-999.000,9,-999.0000,9, -999.00,9, -999.00,9,  -999.0,9,  -999.0,-999.000,9,-999.000,     -999.0,-999.0000,-999.000,     2.4453,-999.000
  316N138_4,       P06C,     161,          1,         16,        116,2,19920628,       0807,   -32.5065,  -171.5887,       4833,  1915.1,   2.3783,  34.6146,2,  34.6146,2,    152.9,2,   152.0,2,  106.02,2,   35.62,2,    0.00,2,    2.56,2,  -0.002,2,  -0.003,2,  -999.0,9,  -999.0,9,-999.000,9,-999.0000,9, -999.00,9, -999.00,9,  -999.0,9,  -999.0,-999.000,9,-999.000,     -999.0,-999.0000,-999.000,     2.2435,-999.000
  316N138_4,       P06C,     161,          1,         15,        115,2,19920628,       0807,   -32.5065,  -171.5887,       4833,  2118.3,   2.2313,  34.6321,2,  34.6329,2,    150.3,2,   148.9,2,  113.14,2,   35.89,2,    0.01,2,    2.59,2,-999.000,5,-999.000,5,  -999.0,9,  -999.0,9,-999.000,9,-999.0000,9, -999.00,9, -999.00,9,  -999.0,9,  -999.0,-999.000,9,-999.000,     -999.0,-999.0000,-999.000,     2.0811,-999.000
  316N138_4,       P06C,     161,          1,         14,        114,3,19920628,       0807,   -32.5065,  -171.5887,       4833,  2323.2,   2.0959,  34.6442,2,  34.6457,2,    149.0,2,   147.1,2,  119.58,2,   36.03,2,    0.01,2,    2.62,2,  -0.004,2,  -0.004,2,  -999.0,9,  -999.0,9,-999.000,9,-999.0000,9, -999.00,9, -999.00,9,  -999.0,9,  -999.0,-999.000,9,-999.000,     -999.0,-999.0000,-999.000,     1.9299,-999.000
  316N138_4,       P06C,     161,          1,         13,        125,2,19920628,       0807,   -32.5065,  -171.5887,       4833,  2528.3,   1.9869,  34.6548,2,  34.6539,2,    149.9,2,   147.6,2,  123.64,2,   36.08,2,    0.01,2,    2.64,2,-999.000,5,-999.000,5,  -999.0,9,  -999.0,9,-999.000,9,-999.0000,9, -999.00,9, -999.00,9,  -999.0,9,  -999.0,-999.000,9,-999.000,     -999.0,-999.0000,-999.000,     1.8043,-999.000
  316N138_4,       P06C,     161,          1,         12,        112,2,19920628,       0807,   -32.5065,  -171.5887,       4833,  2732.0,   1.9096,  34.6631,2,  34.6635,2,    152.0,2,   149.9,2,  125.16,2,   35.94,2,    0.00,2,    2.63,2,  -0.004,2,  -0.003,2,  -999.0,9,  -999.0,9,-999.000,9,-999.0000,9, -999.00,9, -999.00,9,  -999.0,9,  -999.0,-999.000,9,-999.000,     -999.0,-999.0000,-999.000,     1.7096,-999.000
  316N138_4,       P06C,     161,          1,         11,        129,2,19920628,       0807,   -32.5065,  -171.5887,       4833,  2937.7,   1.8310,  34.6741,2,  34.6757,2,    156.3,2,   157.7,2,  124.66,2,   35.52,2,    0.00,2,    2.61,2,-999.000,5,-999.000,5,  -999.0,9,  -999.0,9,-999.000,9,-999.0000,9, -999.00,9, -999.00,9,  -999.0,9,  -999.0,-999.000,9,-999.000,     -999.0,-999.0000,-999.000,     1.6129,-999.000
  316N138_4,       P06C,     161,          1,         10,        110,2,19920628,       0807,   -32.5065,  -171.5887,       4833,  3143.8,   1.7440,  34.6877,2,  34.6891,2,    164.1,2,   165.5,2,  121.11,2,   34.63,2,    0.00,2,    2.55,2,  -0.003,2,  -0.004,2,  -999.0,9,  -999.0,9,-999.000,9,-999.0000,9, -999.00,9, -999.00,9,  -999.0,9,  -999.0,-999.000,9,-999.000,     -999.0,-999.0000,-999.000,     1.5077,-999.000
  316N138_4,       P06C,     161,          1,          9,        126,2,19920628,       0807,   -32.5065,  -171.5887,       4833,  3348.2,   1.6306,  34.7066,2,  34.7081,2,    179.9,2,   180.4,2,  113.50,2,   33.26,2,    0.00,2,    2.42,2,-999.000,5,-999.000,5,  -999.0,9,  -999.0,9,-999.000,9,-999.0000,9, -999.00,9, -999.00,9,  -999.0,9,  -999.0,-999.000,9,-999.000,     -999.0,-999.0000,-999.000,     1.3766,-999.000
  316N138_4,       P06C,     161,          1,          8,        108,2,19920628,       0807,   -32.5065,  -171.5887,       4833,  3554.3,   1.5192,  34.7180,2,  34.7172,2,    189.7,2,   190.3,2,  109.94,2,   32.33,2,   -0.01,2,    2.39,2,  -0.002,2,  -0.001,2,  -999.0,9,  -999.0,9,-999.000,9,-999.0000,9, -999.00,9, -999.00,9,  -999.0,9,  -999.0,-999.000,9,-999.000,     -999.0,-999.0000,-999.000,     1.2468,-999.000
  316N138_4,       P06C,     161,          1,          7,        107,2,19920628,       0807,   -32.5065,  -171.5887,       4833,  3755.4,   1.3988,  34.7225,2,  34.7221,2,    197.2,2,   197.6,2,  110.45,2,   32.05,2,   -0.01,2,    2.31,2,-999.000,5,-999.000,5,  -999.0,9,  -999.0,9,-999.000,9,-999.0000,9, -999.00,9, -999.00,9,  -999.0,9,  -999.0,-999.000,9,-999.000,     -999.0,-999.0000,-999.000,     1.1085,-999.000
  316N138_4,       P06C,     161,          1,          6,        180,2,19920628,       0807,   -32.5065,  -171.5887,       4833,  3961.0,   1.2774,  34.7199,2,  34.7193,2,    200.9,2,   200.6,2,  112.49,2,   31.90,2,   -0.01,2,    2.32,2,  -0.002,2,   0.000,2,  -999.0,9,  -999.0,9,-999.000,9,-999.0000,9, -999.00,9, -999.00,9,  -999.0,9,  -999.0,-999.000,9,-999.000,     -999.0,-999.0000,-999.000,     0.9688,-999.000
  316N138_4,       P06C,     161,          1,          5,        131,2,19920628,       0807,   -32.5065,  -171.5887,       4833,  4162.9,   1.1453,  34.7152,2,  34.7170,2,    204.1,2,   203.3,2,  115.37,2,   32.00,2,   -0.01,2,    2.32,2,-999.000,5,-999.000,5,  -999.0,9,  -999.0,9,-999.000,9,-999.0000,9, -999.00,9, -999.00,9,  -999.0,9,  -999.0,-999.000,9,-999.000,     -999.0,-999.0000,-999.000,     0.8186,-999.000
  316N138_4,       P06C,     161,          1,          4,        104,2,19920628,       0807,   -32.5065,  -171.5887,       4833,  4369.5,   1.0744,  34.7132,2,  34.7132,2,    205.4,2,   205.9,2,  117.74,2,   32.03,2,    0.00,2,    2.32,2,   0.004,2,   0.001,2,  -999.0,9,  -999.0,9,-999.000,9,-999.0000,9, -999.00,9, -999.00,9,  -999.0,9,  -999.0,-999.000,9,-999.000,     -999.0,-999.0000,-999.000,     0.7271,-999.000
  316N138_4,       P06C,     161,          1,          3,        130,2,19920628,       0807,   -32.5065,  -171.5887,       4833,  4573.1,   1.0418,  34.7113,2,  34.7115,2,    206.2,2,   206.4,2,  119.10,2,   32.13,2,    0.00,2,    2.32,2,   0.006,6,   0.001,6,  -999.0,9,  -999.0,9,-999.000,9,-999.0000,9, -999.00,9, -999.00,9,  -999.0,9,  -999.0,-999.000,9,-999.000,     -999.0,-999.0000,-999.000,     0.6727,-999.000
  316N138_4,       P06C,     161,          1,          2,        135,2,19920628,       0807,   -32.5065,  -171.5887,       4833,  4779.5,   1.0244,  34.7090,2,  34.7095,2,    206.3,2,   206.2,2,  120.46,2,   32.18,2,   -0.01,2,    2.32,2,-999.000,5,-999.000,5,  -999.0,9,  -999.0,9,-999.000,9,-999.0000,9, -999.00,9, -999.00,9,  -999.0,9,  -999.0,-999.000,9,-999.000,     -999.0,-999.0000,-999.000,     0.6320,-999.000
  316N138_4,       P06C,     161,          1,          1,        134,2,19920628,       0807,   -32.5065,  -171.5887,       4833,  4902.2,   1.0158,  34.7080,2,  34.7083,2,    185.0,4,   206.3,2,  120.86,2,   32.24,2,    0.01,2,    2.29,3,   0.008,6,   0.000,6,  -999.0,9,  -999.0,9,-999.000,9,-999.0000,9, -999.00,9, -999.00,9,  -999.0,9,  -999.0,-999.000,9,-999.000,     -999.0,-999.0000,-999.000,     0.6094,-999.000