BOTTLE,20211025CCHSIORKP
# Original header:
#Changed TRITUM fill flag to 9
#code : jjward hyd_to_exchange.pl 
#original files copied from HTML directory: 20030219
#original HYD file: p06chy.txt   Wed Feb 19 08:32:59 2003
#original SUM file: p06csu.txt   Tue Sep 25 12:24:13 2001
EXPOCODE,SECT_ID,STNNBR,CASTNO,SAMPNO,BTLNBR,BTLNBR_FLAG_W,DATE,TIME,LATITUDE,LONGITUDE,DEPTH,CTDPRS,CTDTMP,CTDSAL,CTDSAL_FLAG_W,SALNTY,SALNTY_FLAG_W,CTDOXY,CTDOXY_FLAG_W,OXYGEN,OXYGEN_FLAG_W,SILCAT,SILCAT_FLAG_W,NITRAT,NITRAT_FLAG_W,NITRIT,NITRIT_FLAG_W,PHSPHT,PHSPHT_FLAG_W,CFC-11,CFC-11_FLAG_W,CFC-12,CFC-12_FLAG_W,TCARBN,TCARBN_FLAG_W,PCO2,PCO2_FLAG_W,TRITUM,TRITUM_FLAG_W,HELIUM,HELIUM_FLAG_W,DELHE3,DELHE3_FLAG_W,DELC13,DELC13_FLAG_W,DELC14,DELC14_FLAG_W,C14ERR,NEON,NEON_FLAG_W,NEONER,PCO2TMP,HELIER,DELHER,THETA,TRITER
,,,,,,,,,,,METERS,DBAR,ITS-90,PSS-78,,PSS-78,,UMOL/KG,,UMOL/KG,,UMOL/KG,,UMOL/KG,,UMOL/KG,,UMOL/KG,,PMOL/KG,,PMOL/KG,,UMOL/KG,,UATM,,TU,,NMOL/KG,,PERCNT,,/MILLE,,/MILLE,,/MILLE,NMOL/KG,,NMOL/KG,DEG_C,NMOL/KG,PERCNT,ITS-90,TU
  316N138_4,       P06C,      75,          1,         36,    02-9121,2,19920601,       1645,   -32.5063,  -113.3348,       2793,    18.2,  20.1272,  35.3560,2,  35.3535,2,    219.9,2,   227.4,2,    0.15,2,    0.03,2,    0.01,2,    0.13,2,-999.000,9,-999.000,9,  2013.4,6,  -999.0,9,-999.000,9,-999.0000,9, -999.00,9, -999.00,9,  -999.0,9,  -999.0,-999.000,9,-999.000,     -999.0,-999.0000,-999.000,    20.1238,-999.000
  316N138_4,       P06C,      75,          1,         35,    02-9454,2,19920601,       1645,   -32.5063,  -113.3348,       2793,    58.0,  20.1770,  35.3940,2,  35.3912,2,    215.1,2,   227.4,2,    0.15,2,    0.08,2,    0.01,2,    0.13,2,-999.000,9,-999.000,9,  2015.0,2,   373.5,2,-999.000,9,-999.0000,9, -999.00,9, -999.00,9,  -999.0,9,  -999.0,-999.000,9,-999.000,      20.20,-999.0000,-999.000,    20.1662,-999.000
  316N138_4,       P06C,      75,          1,         34,    02-9457,2,19920601,       1645,   -32.5063,  -113.3348,       2793,    87.2,  20.0875,  35.4497,2,  35.4164,2,    219.1,2,   227.6,2,    0.15,2,    0.03,2,    0.01,2,    0.13,2,-999.000,9,-999.000,9,  2016.8,2,  -999.0,9,-999.000,9,-999.0000,9, -999.00,9, -999.00,9,  -999.0,9,  -999.0,-999.000,9,-999.000,     -999.0,-999.0000,-999.000,    20.0714,-999.000
  316N138_4,       P06C,      75,          1,         33,    02-5367,2,19920601,       1645,   -32.5063,  -113.3348,       2793,   117.3,  17.9623,  35.1956,2,  35.1937,2,    230.4,2,   243.5,2,    0.15,2,    0.08,2,    0.01,2,    0.15,2,-999.000,9,-999.000,9,  2022.4,2,  -999.0,9,-999.000,9,-999.0000,9, -999.00,9, -999.00,9,  -999.0,9,  -999.0,-999.000,9,-999.000,     -999.0,-999.0000,-999.000,    17.9422,-999.000
  316N138_4,       P06C,      75,          1,         32,    02-9540,2,19920601,       1645,   -32.5063,  -113.3348,       2793,   147.3,  17.0480,  35.0900,2,  35.0892,2,    230.9,2,   236.1,2,    0.15,2,    0.07,2,    0.02,2,    0.18,2,-999.000,9,-999.000,9,  2027.8,2,  -999.0,9,-999.000,9,-999.0000,9, -999.00,9, -999.00,9,  -999.0,9,  -999.0,-999.000,9,-999.000,     -999.0,-999.0000,-999.000,    17.0236,-999.000
  316N138_4,       P06C,      75,          1,         31,    02-9539,2,19920601,       1645,   -32.5063,  -113.3348,       2793,   181.5,  16.5811,  35.0347,2,  35.0358,2,    228.4,2,   232.6,2,    0.14,2,    0.18,2,    0.10,2,    0.21,2,-999.000,9,-999.000,9,  2033.8,2,   381.5,2,-999.000,9,-999.0000,9, -999.00,9, -999.00,9,  -999.0,9,  -999.0,-999.000,9,-999.000,      20.20,-999.0000,-999.000,    16.5517,-999.000
  316N138_4,       P06C,      75,          1,         30,    02-9456,2,19920601,       1645,   -32.5063,  -113.3348,       2793,   231.6,  15.0611,  34.9637,2,  34.9404,2,    212.7,2,   209.3,2,    0.62,2,    4.16,2,    0.02,2,    0.49,2,-999.000,9,-999.000,9,  2061.7,2,  -999.0,9,-999.000,9,-999.0000,9, -999.00,9, -999.00,9,  -999.0,9,  -999.0,-999.000,9,-999.000,     -999.0,-999.0000,-999.000,    15.0259,-999.000
  316N138_4,       P06C,      75,          1,         29,    02-9458,2,19920601,       1645,   -32.5063,  -113.3348,       2793,   282.0,  13.5296,  34.7679,2,  34.7685,2,    205.6,2,   205.3,2,    1.11,2,    8.16,2,    0.01,2,    0.73,2,-999.000,9,-999.000,9,  2080.3,2,   539.0,2,-999.000,9,-999.0000,9, -999.00,9, -999.00,9,  -999.0,9,  -999.0,-999.000,9,-999.000,      20.20,-999.0000,-999.000,    13.4898,-999.000
  316N138_4,       P06C,      75,          1,         28,    02-9545,2,19920601,       1645,   -32.5063,  -113.3348,       2793,   332.5,  11.4059,  34.6067,2,  34.5798,2,    211.1,2,   208.2,2,    2.25,2,   12.95,2,    0.01,2,    1.02,2,-999.000,9,-999.000,9,  2099.8,2,  -999.0,9,-999.000,9,-999.0000,9, -999.00,9, -999.00,9,  -999.0,9,  -999.0,-999.000,9,-999.000,     -999.0,-999.0000,-999.000,    11.3639,-999.000
  316N138_4,       P06C,      75,          1,         27,    02-9453,2,19920601,       1645,   -32.5063,  -113.3348,       2793,   406.5,   8.7738,  34.4509,2,  34.4514,2,    227.3,2,   220.1,2,    4.03,2,   18.33,2,    0.01,2,    1.33,2,-999.000,9,-999.000,9,  2120.7,2,   706.3,2,-999.000,9,-999.0000,9, -999.00,9, -999.00,9,  -999.0,9,  -999.0,-999.000,9,-999.000,      20.20,-999.0000,-999.000,     8.7301,-999.000
  316N138_4,       P06C,      75,          1,         26,    02-9544,2,19920601,       1645,   -32.5063,  -113.3348,       2793,   482.8,   7.3248,  34.3749,2,  34.3766,2,    235.0,2,   228.8,2,    6.47,2,   21.76,2,    0.01,2,    1.52,2,-999.000,9,-999.000,9,  2132.7,2,  -999.0,9,-999.000,9,-999.0000,9, -999.00,9, -999.00,9,  -999.0,9,  -999.0,-999.000,9,-999.000,     -999.0,-999.0000,-999.000,     7.2780,-999.000
  316N138_4,       P06C,      75,          1,         25,    02-9455,2,19920601,       1645,   -32.5063,  -113.3348,       2793,   557.9,   6.7703,  34.3626,2,  34.3590,2,    243.8,2,   239.9,2,    6.95,2,   22.42,2,    0.01,2,    1.57,2,-999.000,9,-999.000,9,  2132.9,2,   758.7,2,-999.000,9,-999.0000,9, -999.00,9, -999.00,9,  -999.0,9,  -999.0,-999.000,9,-999.000,      20.20,-999.0000,-999.000,     6.7182,-999.000
  316N138_4,       P06C,      75,          1,         24,        132,3,19920601,       1645,   -32.5063,  -113.3348,       2793,   632.0,   6.3633,  34.3381,2,  34.3584,3,    247.7,2,   244.5,2,    7.76,2,   22.62,3,    0.01,2,    1.57,3,-999.000,9,-999.000,9,  2131.4,2,  -999.0,9,-999.000,9,-999.0000,9, -999.00,9, -999.00,9,  -999.0,9,  -999.0,-999.000,9,-999.000,     -999.0,-999.0000,-999.000,     6.3059,-999.000
  316N138_4,       P06C,      75,          1,         23,        123,2,19920601,       1645,   -32.5063,  -113.3348,       2793,   681.7,   6.0897,  34.3205,2,  34.3207,2,    247.5,2,   245.9,2,    8.73,2,   23.94,2,    0.01,2,    1.65,2,-999.000,9,-999.000,9,  2135.6,2,   760.2,2,-999.000,9,-999.0000,9, -999.00,9, -999.00,9,  -999.0,9,  -999.0,-999.000,9,-999.000,      20.20,-999.0000,-999.000,     6.0291,-999.000
  316N138_4,       P06C,      75,          1,         22,        128,2,19920601,       1645,   -32.5063,  -113.3348,       2793,   732.1,   5.8279,  34.3063,2,  34.3042,2,    245.4,2,   243.3,2,   10.03,2,   24.66,2,    0.01,2,    1.70,2,-999.000,9,-999.000,9,  2139.0,2,  -999.0,9,-999.000,9,-999.0000,9, -999.00,9, -999.00,9,  -999.0,9,  -999.0,-999.000,9,-999.000,     -999.0,-999.0000,-999.000,     5.7639,-999.000
  316N138_4,       P06C,      75,          1,         21,        121,3,19920601,       1645,   -32.5063,  -113.3348,       2793,   807.3,   5.4244,  34.2776,2,  34.3029,3,    240.9,2,   240.2,2,   11.49,3,   25.17,3,    0.00,3,    1.74,3,-999.000,9,-999.000,9,  2142.4,2,   799.9,2,-999.000,9,-999.0000,9, -999.00,9, -999.00,9,  -999.0,9,  -999.0,-999.000,9,-999.000,      20.20,-999.0000,-999.000,     5.3559,-999.000
  316N138_4,       P06C,      75,          1,         20,        120,2,19920601,       1645,   -32.5063,  -113.3348,       2793,   882.0,   5.0416,  34.2704,2,  34.2725,2,    229.8,2,   227.6,2,   16.03,2,   28.04,2,    0.01,2,    1.91,2,-999.000,9,-999.000,9,  2158.7,2,  -999.0,9,-999.000,9,-999.0000,9, -999.00,9, -999.00,9,  -999.0,9,  -999.0,-999.000,9,-999.000,     -999.0,-999.0000,-999.000,     4.9689,-999.000
  316N138_4,       P06C,      75,          1,         19,        133,2,19920601,       1645,   -32.5063,  -113.3348,       2793,   957.7,   4.6962,  34.2820,2,  34.2811,2,    211.7,2,   210.3,2,   22.36,2,   30.20,2,    0.00,2,    2.05,2,-999.000,9,-999.000,9,  2175.4,2,   955.3,2,-999.000,9,-999.0000,9, -999.00,9, -999.00,9,  -999.0,9,  -999.0,-999.000,9,-999.000,      20.20,-999.0000,-999.000,     4.6192,-999.000
  316N138_4,       P06C,      75,          1,         18,        118,3,19920601,       1645,   -32.5063,  -113.3348,       2793,  1007.7,   4.4882,  34.2997,2,  34.3097,2,    198.8,2,   201.9,2,   27.07,2,   31.13,2,    0.00,2,    2.14,2,-999.000,9,-999.000,9,  2185.7,6,  -999.0,9,-999.000,9,-999.0000,9, -999.00,9, -999.00,9,  -999.0,9,  -999.0,-999.000,9,-999.000,     -999.0,-999.0000,-999.000,     4.4085,-999.000
  316N138_4,       P06C,      75,          1,         17,        117,3,19920601,       1645,   -32.5063,  -113.3348,       2793,  1132.7,   3.9242,  34.3497,2,  34.3519,2,    185.3,2,   184.2,2,   40.21,2,   33.31,2,    0.00,2,    2.29,2,-999.000,9,-999.000,9,  2209.6,2,  1084.0,2,-999.000,9,-999.0000,9, -999.00,9, -999.00,9,  -999.0,9,  -999.0,-999.000,9,-999.000,      20.20,-999.0000,-999.000,     3.8383,-999.000
  316N138_4,       P06C,      75,          1,         16,        116,2,19920601,       1645,   -32.5063,  -113.3348,       2793,  1259.6,   3.4891,  34.4087,2,  34.4106,2,    168.9,2,   166.2,2,   54.00,2,   35.08,2,    0.00,2,    2.41,2,-999.000,9,-999.000,9,  2233.7,2,  -999.0,9,-999.000,9,-999.0000,9, -999.00,9, -999.00,9,  -999.0,9,  -999.0,-999.000,9,-999.000,     -999.0,-999.0000,-999.000,     3.3965,-999.000
  316N138_4,       P06C,      75,          1,         15,        115,3,19920601,       1645,   -32.5063,  -113.3348,       2793,  1360.2,   3.1442,  34.4718,2,  34.4714,2,    158.4,2,   155.7,2,   66.65,2,   35.87,2,    0.00,2,    2.48,2,-999.000,9,-999.000,9,  2252.6,2,  1221.1,2,-999.000,9,-999.0000,9, -999.00,9, -999.00,9,  -999.0,9,  -999.0,-999.000,9,-999.000,      20.20,-999.0000,-999.000,     3.0467,-999.000
  316N138_4,       P06C,      75,          1,         14,        114,2,19920601,       1645,   -32.5063,  -113.3348,       2793,  1461.4,   2.8614,  34.5173,2,  34.5117,2,    156.8,2,   156.4,2,   74.60,2,   35.76,2,   -0.01,2,    2.47,2,-999.000,9,-999.000,9,  2259.9,2,  -999.0,9,-999.000,9,-999.0000,9, -999.00,9, -999.00,9,  -999.0,9,  -999.0,-999.000,9,-999.000,     -999.0,-999.0000,-999.000,     2.7584,-999.000
  316N138_4,       P06C,      75,          1,         13,        125,2,19920601,       1645,   -32.5063,  -113.3348,       2793,  1564.5,   2.6741,  34.5471,2,  34.5470,2,    159.3,2,   158.8,2,   80.43,2,   35.39,2,    0.00,2,    2.45,2,-999.000,9,-999.000,9,  2263.7,2,  1249.8,2,-999.000,9,-999.0000,9, -999.00,9, -999.00,9,  -999.0,9,  -999.0,-999.000,9,-999.000,      20.20,-999.0000,-999.000,     2.5648,-999.000
  316N138_4,       P06C,      75,          1,         12,        112,2,19920601,       1645,   -32.5063,  -113.3348,       2793,  1665.1,   2.4595,  34.5882,2,  34.5842,2,    158.9,2,   158.5,2,   89.51,2,   35.23,2,    0.00,2,    2.45,2,-999.000,9,-999.000,9,  2273.3,2,  -999.0,9,-999.000,9,-999.0000,9, -999.00,9, -999.00,9,  -999.0,9,  -999.0,-999.000,9,-999.000,     -999.0,-999.0000,-999.000,     2.3445,-999.000
  316N138_4,       P06C,      75,          1,         11,        129,2,19920601,       1645,   -32.5063,  -113.3348,       2793,  1766.9,   2.3318,  34.6075,2,  34.6079,2,    158.7,2,   158.2,2,   95.51,2,   35.18,2,    0.00,2,    2.44,2,-999.000,9,-999.000,9,  2277.7,2,  1226.1,2,-999.000,9,-999.0000,9, -999.00,9, -999.00,9,  -999.0,9,  -999.0,-999.000,9,-999.000,      20.20,-999.0000,-999.000,     2.2101,-999.000
  316N138_4,       P06C,      75,          1,         10,        110,2,19920601,       1645,   -32.5063,  -113.3348,       2793,  1868.4,   2.2148,  34.6241,2,  34.6233,2,    158.3,2,   158.0,2,  101.50,2,   35.17,2,    0.00,2,    2.45,2,-999.000,9,-999.000,9,  2283.6,2,  -999.0,9,-999.000,9,-999.0000,9, -999.00,9, -999.00,9,  -999.0,9,  -999.0,-999.000,9,-999.000,     -999.0,-999.0000,-999.000,     2.0862,-999.000
  316N138_4,       P06C,      75,          1,          9,        126,2,19920601,       1645,   -32.5063,  -113.3348,       2793,  1972.2,   2.1072,  34.6376,2,  34.6388,2,    157.9,2,   157.3,2,  107.02,2,   35.22,2,    0.00,2,    2.47,2,-999.000,9,-999.000,9,  2288.9,2,  1226.1,6,-999.000,9,-999.0000,9, -999.00,9, -999.00,9,  -999.0,9,  -999.0,-999.000,9,-999.000,      20.20,-999.0000,-999.000,     1.9715,-999.000
  316N138_4,       P06C,      75,          1,          8,        108,2,19920601,       1645,   -32.5063,  -113.3348,       2793,  2072.9,   1.9997,  34.6496,2,  34.6458,2,    157.7,2,   158.2,2,  111.87,2,   35.27,2,    0.00,2,    2.46,2,-999.000,9,-999.000,9,  2293.3,2,  -999.0,9,-999.000,9,-999.0000,9, -999.00,9, -999.00,9,  -999.0,9,  -999.0,-999.000,9,-999.000,     -999.0,-999.0000,-999.000,     1.8571,-999.000
  316N138_4,       P06C,      75,          1,          7,        107,2,19920601,       1645,   -32.5063,  -113.3348,       2793,  2173.8,   1.9177,  34.6555,2,  34.6602,4,    158.7,2,   158.3,2,  115.28,2,   35.22,2,    0.00,2,    2.47,2,-999.000,9,-999.000,9,  2296.4,2,  1233.5,3,-999.000,9,-999.0000,9, -999.00,9, -999.00,9,  -999.0,9,  -999.0,-999.000,9,-999.000,      20.20,-999.0000,-999.000,     1.7678,-999.000
  316N138_4,       P06C,      75,          1,          6,        136,3,19920601,       1645,   -32.5063,  -113.3348,       2793,  2277.2,   1.8902,  34.6595,2,  34.6572,2,    159.3,2,   158.9,2,  116.08,2,   35.06,2,    0.00,2,    2.45,2,-999.000,9,-999.000,9,  2296.4,2,  -999.0,9,-999.000,9,-999.0000,9, -999.00,9, -999.00,9,  -999.0,9,  -999.0,-999.000,9,-999.000,     -999.0,-999.0000,-999.000,     1.7318,-999.000
  316N138_4,       P06C,      75,          1,          5,        131,2,19920601,       1645,   -32.5063,  -113.3348,       2793,  2377.3,   1.8717,  34.6611,2,  34.6598,2,    159.6,2,   159.0,2,  117.53,2,   35.22,2,    0.00,2,    2.45,2,-999.000,9,-999.000,9,  2297.8,2,  -999.0,9,-999.000,9,-999.0000,9, -999.00,9, -999.00,9,  -999.0,9,  -999.0,-999.000,9,-999.000,     -999.0,-999.0000,-999.000,     1.7047,-999.000
  316N138_4,       P06C,      75,          1,          4,        104,2,19920601,       1645,   -32.5063,  -113.3348,       2793,  2477.5,   1.8355,  34.6652,2,  34.6726,3,    160.6,2,   159.9,2,  118.99,2,   35.16,2,    0.00,2,    2.45,2,-999.000,9,-999.000,9,  2297.9,2,  -999.0,9,-999.000,9,-999.0000,9, -999.00,9, -999.00,9,  -999.0,9,  -999.0,-999.000,9,-999.000,     -999.0,-999.0000,-999.000,     1.6602,-999.000
  316N138_4,       P06C,      75,          1,          3,        130,2,19920601,       1645,   -32.5063,  -113.3348,       2793,  2580.8,   1.8227,  34.6672,2,  34.6653,2,    161.2,2,   160.3,2,  119.96,2,   35.11,2,   -0.01,2,    2.44,2,-999.000,9,-999.000,9,  2299.4,2,  1264.8,3,-999.000,9,-999.0000,9, -999.00,9, -999.00,9,  -999.0,9,  -999.0,-999.000,9,-999.000,      20.20,-999.0000,-999.000,     1.6383,-999.000
  316N138_4,       P06C,      75,          1,          2,        135,3,19920601,       1645,   -32.5063,  -113.3348,       2793,  2779.4,   1.8277,  34.6686,2,  34.6769,4,    161.8,2,   162.0,3,  117.68,4,   34.54,4,   -0.01,4,    2.41,4,-999.000,9,-999.000,9,  2289.2,3,  -999.0,9,-999.000,9,-999.0000,9, -999.00,9, -999.00,9,  -999.0,9,  -999.0,-999.000,9,-999.000,     -999.0,-999.0000,-999.000,     1.6248,-999.000
  316N138_4,       P06C,      75,          1,          1,        134,2,19920601,       1645,   -32.5063,  -113.3348,       2793,  2861.4,   1.8340,  34.6686,2,  34.6675,2,    162.3,2,   160.6,2,  120.27,2,   35.10,2,    0.00,2,    2.43,2,-999.000,9,-999.000,9,  2299.3,6,  1257.7,3,-999.000,9,-999.0000,9, -999.00,9, -999.00,9,  -999.0,9,  -999.0,-999.000,9,-999.000,      20.20,-999.0000,-999.000,     1.6232,-999.000