BOTTLE,20211025CCHSIORKP
EXPOCODE,SECT_ID,STNNBR,CASTNO,SAMPNO,BTLNBR,BTLNBR_FLAG_W,DATE,TIME,LATITUDE,LONGITUDE,DEPTH,CTDPRS,CTDTMP,CTDSAL,CTDSAL_FLAG_W,SALNTY,SALNTY_FLAG_W,CTDOXY,CTDOXY_FLAG_W,OXYGEN,OXYGEN_FLAG_W,SILCAT,SILCAT_FLAG_W,NITRAT,NITRAT_FLAG_W,NITRIT,NITRIT_FLAG_W,PHSPHT,PHSPHT_FLAG_W,CFC-11,CFC-11_FLAG_W,CFC-12,CFC-12_FLAG_W,TCARBN,TCARBN_FLAG_W,PCO2,PCO2_FLAG_W,TRITUM,TRITUM_FLAG_W,HELIUM,HELIUM_FLAG_W,DELHE3,DELHE3_FLAG_W,DELC13,DELC13_FLAG_W,DELC14,DELC14_FLAG_W,C14ERR,NEON,NEON_FLAG_W,NEONER,PCO2TMP,HELIER,DELHER,THETA,TRITER
,,,,,,,,,,,METERS,DBAR,ITS-90,PSS-78,,PSS-78,,UMOL/KG,,UMOL/KG,,UMOL/KG,,UMOL/KG,,UMOL/KG,,UMOL/KG,,PMOL/KG,,PMOL/KG,,UMOL/KG,,UATM,,TU,,NMOL/KG,,PERCNT,,/MILLE,,/MILLE,,/MILLE,NMOL/KG,,NMOL/KG,DEG_C,NMOL/KG,PERCNT,ITS-90,TU
  316N138_4,       P06C,     185,          1,         24,        132,2,19920704,       0530,   -32.0838,   178.5000,       3094,    63.8,  16.8070,  35.6074,2,-999.0000,9,    228.7,2,  -999.0,9, -999.00,9, -999.00,9, -999.00,9, -999.00,9,-999.000,5,-999.000,5,  -999.0,9,  -999.0,9,-999.000,9,-999.0000,9, -999.00,9, -999.00,9,  -999.0,9,  -999.0,-999.000,9,-999.000,     -999.0,-999.0000,-999.000,    16.7966,-999.000
  316N138_4,       P06C,     185,          1,         23,        123,2,19920704,       0530,   -32.0838,   178.5000,       3094,   113.8,  16.8078,  35.6084,2,  35.6088,2,    231.7,2,   175.2,4,    1.55,2,    1.34,2,    0.24,2, -999.00,5,   2.675,6,   1.283,6,  -999.0,9,  -999.0,9,-999.000,9,-999.0000,9, -999.00,9, -999.00,9,  -999.0,9,  -999.0,-999.000,9,-999.000,     -999.0,-999.0000,-999.000,    16.7892,-999.000
  316N138_4,       P06C,     185,          1,         22,        128,2,19920704,       0530,   -32.0838,   178.5000,       3094,   163.5,  15.7628,  35.4404,2,  35.4371,2,    224.0,2,   171.9,4,    2.13,2,    5.27,2,    0.02,2, -999.00,5,   2.568,2,   1.218,2,  -999.0,9,  -999.0,9,-999.000,9,-999.0000,9, -999.00,9, -999.00,9,  -999.0,9,  -999.0,-999.000,9,-999.000,     -999.0,-999.0000,-999.000,    15.7371,-999.000
  316N138_4,       P06C,     185,          1,         21,        121,2,19920704,       0530,   -32.0838,   178.5000,       3094,   214.0,  14.9247,  35.3943,2,  35.3654,2,    208.5,2,   162.1,4,    2.89,2,    7.15,2,    0.01,2, -999.00,5,-999.000,5,-999.000,5,  -999.0,9,  -999.0,9,-999.000,9,-999.0000,9, -999.00,9, -999.00,9,  -999.0,9,  -999.0,-999.000,9,-999.000,     -999.0,-999.0000,-999.000,    14.8923,-999.000
  316N138_4,       P06C,     185,          1,         20,        120,2,19920704,       0530,   -32.0838,   178.5000,       3094,   264.3,  14.0874,  35.3078,2,  35.3058,2,    209.3,2,   170.3,4,    3.07,2,    7.86,2,    0.00,2, -999.00,5,   2.530,2,   1.177,2,  -999.0,9,  -999.0,9,-999.000,9,-999.0000,9, -999.00,9, -999.00,9,  -999.0,9,  -999.0,-999.000,9,-999.000,     -999.0,-999.0000,-999.000,    14.0489,-999.000
  316N138_4,       P06C,     185,          1,         19,        133,2,19920704,       0530,   -32.0838,   178.5000,       3094,   313.9,  13.5180,  35.2349,2,  35.2207,2,    211.4,2,   168.0,4,    3.65,2,    9.41,2,    0.00,2, -999.00,5,-999.000,5,-999.000,5,  -999.0,9,  -999.0,9,-999.000,9,-999.0000,9, -999.00,9, -999.00,9,  -999.0,9,  -999.0,-999.000,9,-999.000,     -999.0,-999.0000,-999.000,    13.4734,-999.000
  316N138_4,       P06C,     185,          1,         18,        118,2,19920704,       0530,   -32.0838,   178.5000,       3094,   364.0,  12.1274,  35.0578,2,  35.0445,2,    207.6,2,   161.2,4,    4.79,2,   12.71,2,    0.00,2, -999.00,5,   2.049,2,   0.982,2,  -999.0,9,  -999.0,9,-999.000,9,-999.0000,9, -999.00,9, -999.00,9,  -999.0,9,  -999.0,-999.000,9,-999.000,     -999.0,-999.0000,-999.000,    12.0792,-999.000
  316N138_4,       P06C,     185,          1,         17,        117,2,19920704,       0530,   -32.0838,   178.5000,       3094,   414.1,  11.1154,  34.9077,2,  34.9075,2,    201.4,2,   155.2,4,    5.74,2,   15.23,2,    0.00,2, -999.00,5,-999.000,5,-999.000,5,  -999.0,9,  -999.0,9,-999.000,9,-999.0000,9, -999.00,9, -999.00,9,  -999.0,9,  -999.0,-999.000,9,-999.000,     -999.0,-999.0000,-999.000,    11.0635,-999.000
  316N138_4,       P06C,     185,          1,         16,        116,2,19920704,       0530,   -32.0838,   178.5000,       3094,   463.2,  10.5709,  34.8530,2,  34.8285,2,    201.4,2,   165.8,4,    6.31,2,   16.42,2,    0.00,2, -999.00,5,   1.629,2,   0.789,2,  -999.0,9,  -999.0,9,-999.000,9,-999.0000,9, -999.00,9, -999.00,9,  -999.0,9,  -999.0,-999.000,9,-999.000,     -999.0,-999.0000,-999.000,    10.5146,-999.000
  316N138_4,       P06C,     185,          1,         15,        115,2,19920704,       0530,   -32.0838,   178.5000,       3094,   513.7,   9.5748,  34.7174,2,  34.7131,2,    204.8,2,   160.4,4,    6.88,2,   18.16,2,    0.00,2, -999.00,5,-999.000,5,-999.000,5,  -999.0,9,  -999.0,9,-999.000,9,-999.0000,9, -999.00,9, -999.00,9,  -999.0,9,  -999.0,-999.000,9,-999.000,     -999.0,-999.0000,-999.000,     9.5160,-999.000
  316N138_4,       P06C,     185,          1,         14,        114,2,19920704,       0530,   -32.0838,   178.5000,       3094,   614.0,   8.7514,  34.6197,2,  34.6179,2,    209.3,2,   160.4,4,    7.83,2,   19.86,2,    0.00,2, -999.00,5,   1.245,2,   0.610,2,  -999.0,9,  -999.0,9,-999.000,9,-999.0000,9, -999.00,9, -999.00,9,  -999.0,9,  -999.0,-999.000,9,-999.000,     -999.0,-999.0000,-999.000,     8.6845,-999.000
  316N138_4,       P06C,     185,          1,         13,        125,2,19920704,       0530,   -32.0838,   178.5000,       3094,   715.1,   8.0003,  34.5360,2,  34.5374,2,    214.7,2,   162.3,4,    8.98,2,   21.37,2,    0.00,2, -999.00,5,   1.013,2,   0.495,2,  -999.0,9,  -999.0,9,-999.000,9,-999.0000,9, -999.00,9, -999.00,9,  -999.0,9,  -999.0,-999.000,9,-999.000,     -999.0,-999.0000,-999.000,     7.9260,-999.000
  316N138_4,       P06C,     185,          1,         12,        112,2,19920704,       0530,   -32.0838,   178.5000,       3094,   816.1,   7.1417,  34.4614,2,  34.4622,2,    217.3,2,  -999.0,5,   12.01,2,   23.39,2,    0.00,2, -999.00,5,   0.669,2,   0.340,2,  -999.0,9,  -999.0,9,-999.000,9,-999.0000,9, -999.00,9, -999.00,9,  -999.0,9,  -999.0,-999.000,9,-999.000,     -999.0,-999.0000,-999.000,     7.0616,-999.000
  316N138_4,       P06C,     185,          1,         11,        129,2,19920704,       0530,   -32.0838,   178.5000,       3094,   915.8,   6.4400,  34.4246,2,  34.4239,2,    211.5,2,   241.7,4,   17.32,2,   25.64,2,    0.00,2, -999.00,5,   0.386,2,   0.200,2,  -999.0,9,  -999.0,9,-999.000,9,-999.0000,9, -999.00,9, -999.00,9,  -999.0,9,  -999.0,-999.000,9,-999.000,     -999.0,-999.0000,-999.000,     6.3544,-999.000
  316N138_4,       P06C,     185,          1,         10,        110,2,19920704,       0530,   -32.0838,   178.5000,       3094,  1015.9,   5.8792,  34.4039,2,  34.4023,2,    205.3,2,   212.6,4,   22.62,2,   27.33,2,    0.00,2, -999.00,5,   0.250,2,   0.129,2,  -999.0,9,  -999.0,9,-999.000,9,-999.0000,9, -999.00,9, -999.00,9,  -999.0,9,  -999.0,-999.000,9,-999.000,     -999.0,-999.0000,-999.000,     5.7878,-999.000
  316N138_4,       P06C,     185,          1,          9,        126,2,19920704,       0530,   -32.0838,   178.5000,       3094,  1118.0,   4.9819,  34.4132,2,  34.4139,2,    193.4,2,   207.1,4,   36.83,2,   29.99,2,    0.00,2, -999.00,5,   0.109,2,   0.059,2,  -999.0,9,  -999.0,9,-999.000,9,-999.0000,9, -999.00,9, -999.00,9,  -999.0,9,  -999.0,-999.000,9,-999.000,     -999.0,-999.0000,-999.000,     4.8881,-999.000
  316N138_4,       P06C,     185,          1,          8,        108,2,19920704,       0530,   -32.0838,   178.5000,       3094,  1219.0,   4.5513,  34.4391,2,  34.4369,2,    185.5,2,   209.5,4,   46.31,2,   30.99,2,    0.00,2, -999.00,5,   0.080,2,   0.047,2,  -999.0,9,  -999.0,9,-999.000,9,-999.0000,9, -999.00,9, -999.00,9,  -999.0,9,  -999.0,-999.000,9,-999.000,     -999.0,-999.0000,-999.000,     4.4521,-999.000
  316N138_4,       P06C,     185,          1,          7,        107,2,19920704,       0530,   -32.0838,   178.5000,       3094,  1319.8,   4.2618,  34.4558,2,  34.4530,2,    180.8,2,   210.3,4,   52.94,2,   31.73,2,   -0.01,2, -999.00,5,   0.055,2,   0.028,2,  -999.0,9,  -999.0,9,-999.000,9,-999.0000,9, -999.00,9, -999.00,9,  -999.0,9,  -999.0,-999.000,9,-999.000,     -999.0,-999.0000,-999.000,     4.1562,-999.000
  316N138_4,       P06C,     185,          1,          6,        180,2,19920704,       0530,   -32.0838,   178.5000,       3094,  1422.2,   3.7283,  34.4919,2,  34.4885,2,    174.4,2,   199.1,4,   65.44,2,   32.83,2,    0.00,2, -999.00,5,   0.031,2,   0.022,2,  -999.0,9,  -999.0,9,-999.000,9,-999.0000,9, -999.00,9, -999.00,9,  -999.0,9,  -999.0,-999.000,9,-999.000,     -999.0,-999.0000,-999.000,     3.6191,-999.000
  316N138_4,       P06C,     185,          1,          5,        131,2,19920704,       0530,   -32.0838,   178.5000,       3094,  1521.7,   3.2770,  34.5187,2,  34.5184,2,    167.1,2,   200.6,4,   76.99,2,   33.83,2,    0.00,2, -999.00,5,-999.000,5,-999.000,5,  -999.0,9,  -999.0,9,-999.000,9,-999.0000,9, -999.00,9, -999.00,9,  -999.0,9,  -999.0,-999.000,9,-999.000,     -999.0,-999.0000,-999.000,     3.1642,-999.000
  316N138_4,       P06C,     185,          1,          4,        104,2,19920704,       0530,   -32.0838,   178.5000,       3094,  1622.7,   3.0625,  34.5434,2,  34.5415,2,    163.6,2,   203.9,4,   83.44,2,   34.11,2,    0.00,2, -999.00,5,   0.007,2,   0.003,2,  -999.0,9,  -999.0,9,-999.000,9,-999.0000,9, -999.00,9, -999.00,9,  -999.0,9,  -999.0,-999.000,9,-999.000,     -999.0,-999.0000,-999.000,     2.9436,-999.000
  316N138_4,       P06C,     185,          1,          3,        130,2,19920704,       0530,   -32.0838,   178.5000,       3094,  1724.4,   2.8085,  34.5736,2,  34.5724,2,    160.3,2,   207.6,4,   92.71,2,   34.52,2,    0.00,2, -999.00,5,-999.000,5,-999.000,5,  -999.0,9,  -999.0,9,-999.000,9,-999.0000,9, -999.00,9, -999.00,9,  -999.0,9,  -999.0,-999.000,9,-999.000,     -999.0,-999.0000,-999.000,     2.6841,-999.000
  316N138_4,       P06C,     185,          1,          2,        135,2,19920704,       0530,   -32.0838,   178.5000,       3094,  1826.4,   2.6886,  34.5953,2,  34.5961,2,    157.8,2,   215.6,4,   98.40,2,   34.60,2,    0.00,2, -999.00,5,   0.002,2,   0.005,2,  -999.0,9,  -999.0,9,-999.000,9,-999.0000,9, -999.00,9, -999.00,9,  -999.0,9,  -999.0,-999.000,9,-999.000,     -999.0,-999.0000,-999.000,     2.5570,-999.000
  316N138_4,       P06C,     185,          1,          1,    02-9121,2,19920704,       0530,   -32.0838,   178.5000,       3094,  1926.5,   2.5313,  34.6130,2,  34.6134,2,    156.1,2,   215.0,4,  104.08,2,   34.78,2,    0.00,2, -999.00,5,-999.000,5,-999.000,5,  -999.0,9,  -999.0,9,-999.000,9,-999.0000,9, -999.00,9, -999.00,9,  -999.0,9,  -999.0,-999.000,9,-999.000,     -999.0,-999.0000,-999.000,     2.3933,-999.000
  316N138_4,       P06C,     185,          1,         35,    02-9454,2,19920704,       0530,   -32.0838,   178.5000,       3094,  2027.2,   2.4311,  34.6250,2,  34.6248,2,    155.4,2,   207.6,4,  107.30,2,   34.88,2,    0.00,2, -999.00,5,-999.000,5,-999.000,5,  -999.0,9,  -999.0,9,-999.000,9,-999.0000,9, -999.00,9, -999.00,9,  -999.0,9,  -999.0,-999.000,9,-999.000,     -999.0,-999.0000,-999.000,     2.2858,-999.000
  316N138_4,       P06C,     185,          1,         34,    02-9457,2,19920704,       0530,   -32.0838,   178.5000,       3094,  2128.8,   2.3149,  34.6366,2,  34.6376,2,    154.5,2,   219.1,4,  110.72,2,   34.87,2,    0.00,2, -999.00,5,   0.002,2,   0.001,2,  -999.0,9,  -999.0,9,-999.000,9,-999.0000,9, -999.00,9, -999.00,9,  -999.0,9,  -999.0,-999.000,9,-999.000,     -999.0,-999.0000,-999.000,     2.1625,-999.000
  316N138_4,       P06C,     185,          1,         33,    02-5367,2,19920704,       0530,   -32.0838,   178.5000,       3094,  2230.0,   2.1815,  34.6497,2,  34.6480,2,    154.1,2,   206.9,4,  114.69,2,   34.99,2,    0.01,2, -999.00,5,-999.000,5,-999.000,5,  -999.0,9,  -999.0,9,-999.000,9,-999.0000,9, -999.00,9, -999.00,9,  -999.0,9,  -999.0,-999.000,9,-999.000,     -999.0,-999.0000,-999.000,     2.0223,-999.000
  316N138_4,       P06C,     185,          1,         32,    02-9540,2,19920704,       0530,   -32.0838,   178.5000,       3094,  2331.0,   2.0214,  34.6608,2,  34.6608,2,    154.4,2,   186.7,4,  118.49,2,   35.09,2,    0.00,2, -999.00,5,   0.000,2,   0.003,2,  -999.0,9,  -999.0,9,-999.000,9,-999.0000,9, -999.00,9, -999.00,9,  -999.0,9,  -999.0,-999.000,9,-999.000,     -999.0,-999.0000,-999.000,     1.8559,-999.000
  316N138_4,       P06C,     185,          1,         31,    02-9539,2,19920704,       0530,   -32.0838,   178.5000,       3094,  2431.7,   1.9396,  34.6686,2,  34.6683,2,    154.0,2,   185.9,4,  120.77,2,   35.13,2,    0.01,2, -999.00,5,   0.001,2,   0.002,2,  -999.0,9,  -999.0,9,-999.000,9,-999.0000,9, -999.00,9, -999.00,9,  -999.0,9,  -999.0,-999.000,9,-999.000,     -999.0,-999.0000,-999.000,     1.7666,-999.000
  316N138_4,       P06C,     185,          1,         30,    02-9456,2,19920704,       0530,   -32.0838,   178.5000,       3094,  2533.5,   1.9016,  34.6720,2,  34.6718,2,    154.4,2,   178.4,4,  122.09,2,   35.13,2,    0.01,2, -999.00,5,-999.000,5,-999.000,5,  -999.0,9,  -999.0,9,-999.000,9,-999.0000,9, -999.00,9, -999.00,9,  -999.0,9,  -999.0,-999.000,9,-999.000,     -999.0,-999.0000,-999.000,     1.7201,-999.000
  316N138_4,       P06C,     185,          1,         29,    02-9458,2,19920704,       0530,   -32.0838,   178.5000,       3094,  2635.4,   1.8760,  34.6746,2,  34.6741,2,    154.4,2,   165.5,4,  122.66,2,   35.23,2,    0.00,2, -999.00,5,  -0.001,2,   0.000,2,  -999.0,9,  -999.0,9,-999.000,9,-999.0000,9, -999.00,9, -999.00,9,  -999.0,9,  -999.0,-999.000,9,-999.000,     -999.0,-999.0000,-999.000,     1.6856,-999.000
  316N138_4,       P06C,     185,          1,         28,    02-9545,2,19920704,       0530,   -32.0838,   178.5000,       3094,  2736.0,   1.8510,  34.6764,2,  34.6765,2,    154.7,2,   162.0,4,  123.62,2,   35.18,2,    0.00,2, -999.00,5,-999.000,5,-999.000,5,  -999.0,9,  -999.0,9,-999.000,9,-999.0000,9, -999.00,9, -999.00,9,  -999.0,9,  -999.0,-999.000,9,-999.000,     -999.0,-999.0000,-999.000,     1.6516,-999.000
  316N138_4,       P06C,     185,          1,         27,    02-9453,2,19920704,       0530,   -32.0838,   178.5000,       3094,  2937.7,   1.8276,  34.6807,2,  34.6798,2,    155.0,2,   160.4,4,  124.56,2,   35.21,2,    0.01,2, -999.00,5,  -0.002,2,   0.000,2,  -999.0,9,  -999.0,9,-999.000,9,-999.0000,9, -999.00,9, -999.00,9,  -999.0,9,  -999.0,-999.000,9,-999.000,     -999.0,-999.0000,-999.000,     1.6096,-999.000
  316N138_4,       P06C,     185,          1,         26,    02-9544,2,19920704,       0530,   -32.0838,   178.5000,       3094,  3043.0,   1.8219,  34.6817,2,  34.6808,2,    154.6,2,   157.8,4,  125.71,2,   35.21,2,    0.01,2, -999.00,5,-999.000,5,-999.000,5,  -999.0,9,  -999.0,9,-999.000,9,-999.0000,9, -999.00,9, -999.00,9,  -999.0,9,  -999.0,-999.000,9,-999.000,     -999.0,-999.0000,-999.000,     1.5937,-999.000
  316N138_4,       P06C,     185,          1,         25,    02-9455,2,19920704,       0530,   -32.0838,   178.5000,       3094,  3133.2,   1.8225,  34.6821,2,  34.6832,2,    154.1,2,  -999.0,5,  125.59,2,   35.20,2,    0.01,2, -999.00,5,   0.004,2,   0.006,2,  -999.0,9,  -999.0,9,-999.000,9,-999.0000,9, -999.00,9, -999.00,9,  -999.0,9,  -999.0,-999.000,9,-999.000,     -999.0,-999.0000,-999.000,     1.5855,-999.000