BOTTLE,20211025CCHSIORKP
EXPOCODE,SECT_ID,STNNBR,CASTNO,SAMPNO,BTLNBR,BTLNBR_FLAG_W,DATE,TIME,LATITUDE,LONGITUDE,DEPTH,CTDPRS,CTDTMP,CTDSAL,CTDSAL_FLAG_W,SALNTY,SALNTY_FLAG_W,CTDOXY,CTDOXY_FLAG_W,OXYGEN,OXYGEN_FLAG_W,SILCAT,SILCAT_FLAG_W,NITRAT,NITRAT_FLAG_W,NITRIT,NITRIT_FLAG_W,PHSPHT,PHSPHT_FLAG_W,CFC-11,CFC-11_FLAG_W,CFC-12,CFC-12_FLAG_W,TCARBN,TCARBN_FLAG_W,PCO2,PCO2_FLAG_W,TRITUM,TRITUM_FLAG_W,HELIUM,HELIUM_FLAG_W,DELHE3,DELHE3_FLAG_W,DELC13,DELC13_FLAG_W,DELC14,DELC14_FLAG_W,C14ERR,NEON,NEON_FLAG_W,NEONER,PCO2TMP,HELIER,DELHER,THETA,TRITER
,,,,,,,,,,,METERS,DBAR,ITS-90,PSS-78,,PSS-78,,UMOL/KG,,UMOL/KG,,UMOL/KG,,UMOL/KG,,UMOL/KG,,UMOL/KG,,PMOL/KG,,PMOL/KG,,UMOL/KG,,UATM,,TU,,NMOL/KG,,PERCNT,,/MILLE,,/MILLE,,/MILLE,NMOL/KG,,NMOL/KG,DEG_C,NMOL/KG,PERCNT,ITS-90,TU
  316N138_4,       P06C,     123,          1,         36,    02-9121,2,19920617,       2246,   -32.5090,  -146.4960,       5130,    20.5,  18.1235,  35.2893,2,  35.2997,2,    238.4,2,   232.4,2,    0.20,2,    0.05,2,    0.00,2,    0.11,2,-999.000,9,-999.000,9,  2025.6,6,   355.4,2,-999.000,9,-999.0000,9, -999.00,9, -999.00,9,  -999.0,9,  -999.0,-999.000,9,-999.000,      20.20,-999.0000,-999.000,    18.1200,-999.000
  316N138_4,       P06C,     123,          1,         35,    02-9454,2,19920617,       2246,   -32.5090,  -146.4960,       5130,    60.6,  18.1325,  35.2905,2,  35.3011,2,    232.0,2,   233.2,2,    0.20,2,    0.05,2,    0.00,2,    0.10,2,-999.000,9,-999.000,9,  2025.2,2,   338.2,2,-999.000,9,-999.0000,9, -999.00,9, -999.00,9,  -999.0,9,  -999.0,-999.000,9,-999.000,      20.20,-999.0000,-999.000,    18.1221,-999.000
  316N138_4,       P06C,     123,          1,         34,    02-9457,2,19920617,       2246,   -32.5090,  -146.4960,       5130,   110.5,  16.6464,  35.3785,2,  35.3685,2,    235.3,2,   228.2,2,    0.48,2,    0.59,2,    0.11,2,    0.20,2,-999.000,9,-999.000,9,  2046.8,2,   378.0,2,-999.000,9,-999.0000,9, -999.00,9, -999.00,9,  -999.0,9,  -999.0,-999.000,9,-999.000,      20.20,-999.0000,-999.000,    16.6285,-999.000
  316N138_4,       P06C,     123,          1,         33,    02-5367,2,19920617,       2246,   -32.5090,  -146.4960,       5130,   159.7,  15.4591,  35.2383,2,  35.2505,2,    227.0,2,   225.1,2,    0.61,2,    1.78,2,    0.06,2,    0.30,2,-999.000,9,-999.000,9,  2057.8,2,  -999.0,9,-999.000,9,-999.0000,9, -999.00,9, -999.00,9,  -999.0,9,  -999.0,-999.000,9,-999.000,     -999.0,-999.0000,-999.000,    15.4344,-999.000
  316N138_4,       P06C,     123,          1,         32,    02-9540,2,19920617,       2246,   -32.5090,  -146.4960,       5130,   209.8,  14.7738,  35.2140,2,  35.2231,2,    211.0,2,   210.0,2,    1.04,2,    4.76,2,    0.01,2,    0.46,2,-999.000,9,-999.000,9,  2074.4,2,  -999.0,9,-999.000,9,-999.0000,9, -999.00,9, -999.00,9,  -999.0,9,  -999.0,-999.000,9,-999.000,     -999.0,-999.0000,-999.000,    14.7423,-999.000
  316N138_4,       P06C,     123,          1,         31,    02-9539,2,19920617,       2246,   -32.5090,  -146.4960,       5130,   258.6,  13.3608,  35.0499,2,  35.0628,2,    201.4,2,   201.9,2,    1.77,2,    8.71,2,    0.01,2,    0.71,2,-999.000,9,-999.000,9,  2093.2,2,  -999.0,9,-999.000,9,-999.0000,9, -999.00,9, -999.00,9,  -999.0,9,  -999.0,-999.000,9,-999.000,     -999.0,-999.0000,-999.000,    13.3245,-999.000
  316N138_4,       P06C,     123,          1,         30,    02-9456,2,19920617,       2246,   -32.5090,  -146.4960,       5130,   308.3,  11.3703,  34.8168,2,  34.8314,2,    205.3,2,   201.0,2,    2.92,2,   13.43,2,    0.01,2,    0.97,2,-999.000,9,-999.000,9,  2109.4,2,   590.6,2,-999.000,9,-999.0000,9, -999.00,9, -999.00,9,  -999.0,9,  -999.0,-999.000,9,-999.000,      20.20,-999.0000,-999.000,    11.3314,-999.000
  316N138_4,       P06C,     123,          1,         29,    02-9458,2,19920617,       2246,   -32.5090,  -146.4960,       5130,   354.9,   9.7762,  34.6511,2,  34.6600,2,    210.9,2,   208.4,2,    3.64,2,   16.60,2,    0.00,2,    1.16,2,-999.000,9,-999.000,9,  2120.0,2,  -999.0,9,-999.000,9,-999.0000,9, -999.00,9, -999.00,9,  -999.0,9,  -999.0,-999.000,9,-999.000,     -999.0,-999.0000,-999.000,     9.7354,-999.000
  316N138_4,       P06C,     123,          1,         28,    02-9545,2,19920617,       2246,   -32.5090,  -146.4960,       5130,   402.5,   8.4152,  34.5180,2,  34.5441,2,    220.9,2,   218.9,2,    4.51,2,   18.66,2,    0.01,2,    1.29,2,-999.000,9,-999.000,9,  2125.3,2,   668.8,2,-999.000,9,-999.0000,9, -999.00,9, -999.00,9,  -999.0,9,  -999.0,-999.000,9,-999.000,      20.20,-999.0000,-999.000,     8.3730,-999.000
  316N138_4,       P06C,     123,          1,         27,    02-9453,2,19920617,       2246,   -32.5090,  -146.4960,       5130,   490.0,   7.4560,  34.4391,2,  34.4512,2,    236.1,2,   236.4,2,    5.67,2,   20.55,2,    0.01,2,    1.39,2,-999.000,9,-999.000,9,  2127.9,2,  -999.0,9,-999.000,9,-999.0000,9, -999.00,9, -999.00,9,  -999.0,9,  -999.0,-999.000,9,-999.000,     -999.0,-999.0000,-999.000,     7.4079,-999.000
  316N138_4,       P06C,     123,          1,         26,    02-9544,2,19920617,       2246,   -32.5090,  -146.4960,       5130,   574.6,   6.9598,  34.3995,2,  34.4106,2,    241.3,2,   236.3,2,    6.68,2,   21.70,2,    0.00,2,    1.47,2,-999.000,9,-999.000,9,  2130.1,2,   704.5,2,-999.000,9,-999.0000,9, -999.00,9, -999.00,9,  -999.0,9,  -999.0,-999.000,9,-999.000,      20.20,-999.0000,-999.000,     6.9052,-999.000
  316N138_4,       P06C,     123,          1,         25,    02-9455,2,19920617,       2246,   -32.5090,  -146.4960,       5130,   672.6,   6.4596,  34.3608,2,  34.3727,2,    240.6,2,   241.3,2,    8.27,2,   23.08,2,    0.00,2,    1.54,2,-999.000,9,-999.000,9,  2135.3,2,  -999.0,9,-999.000,9,-999.0000,9, -999.00,9, -999.00,9,  -999.0,9,  -999.0,-999.000,9,-999.000,     -999.0,-999.0000,-999.000,     6.3979,-999.000
  316N138_4,       P06C,     123,          1,         24,        132,3,19920617,       2246,   -32.5090,  -146.4960,       5130,   767.8,   5.9812,  34.3301,2,  34.8975,4,    236.6,2,   226.4,4,    3.60,4,    9.90,4,    0.01,4,    0.74,4,-999.000,9,-999.000,9,  -999.0,9,  -999.0,9,-999.000,9,-999.0000,9, -999.00,9, -999.00,9,  -999.0,9,  -999.0,-999.000,9,-999.000,     -999.0,-999.0000,-999.000,     5.9129,-999.000
  316N138_4,       P06C,     123,          1,         23,        123,2,19920617,       2246,   -32.5090,  -146.4960,       5130,   862.3,   5.5089,  34.3148,2,  34.3268,4,    225.9,2,   226.7,2,   15.55,2,   26.94,2,    0.00,2,    1.78,2,-999.000,9,-999.000,9,  2156.1,2,   809.5,2,-999.000,9,-999.0000,9, -999.00,9, -999.00,9,  -999.0,9,  -999.0,-999.000,9,-999.000,      20.20,-999.0000,-999.000,     5.4349,-999.000
  316N138_4,       P06C,     123,          1,         22,        128,2,19920617,       2246,   -32.5090,  -146.4960,       5130,  1059.7,   4.3270,  34.3439,2,  34.3509,4,    200.6,2,   198.1,2,   32.74,2,   31.37,2,    0.00,2,    2.10,2,-999.000,9,-999.000,9,  2193.5,2,  -999.0,9,-999.000,9,   1.7010,2,    3.45,2, -999.00,9,  -999.0,9,  -999.0,   7.204,2,   0.016,     -999.0,   0.0030,   0.150,     4.2439,-999.000
  316N138_4,       P06C,     123,          1,         21,        121,3,19920617,       2246,   -32.5090,  -146.4960,       5130,  1261.0,   3.4227,  34.4121,2,  34.7819,4,    179.6,2,   225.1,4,    6.35,4,   12.98,4,    0.01,4,    0.93,4,-999.000,9,-999.000,9,  -999.0,9,  -999.0,9,-999.000,9,-999.0000,9, -999.00,9, -999.00,9,  -999.0,9,  -999.0,-999.000,9,-999.000,     -999.0,-999.0000,-999.000,     3.3306,-999.000
  316N138_4,       P06C,     123,          1,         20,        120,2,19920617,       2246,   -32.5090,  -146.4960,       5130,  1467.2,   2.8094,  34.5180,2,  34.5327,4,    167.1,2,   166.1,2,   74.26,2,   35.04,2,    0.00,2,    2.39,2,-999.000,9,-999.000,9,  2254.1,2,  1137.0,2,-999.000,9,   1.9060,2,   11.81,2, -999.00,9,  -999.0,9,  -999.0,   8.222,2,   0.019,      20.20,   0.0040,   0.150,     2.7066,-999.000
  316N138_4,       P06C,     123,          1,         19,        133,2,19920617,       2246,   -32.5090,  -146.4960,       5130,  1675.3,   2.5194,  34.5782,2,  34.5961,4,    159.1,2,   158.4,2,   90.73,2,   35.46,2,    0.00,2,    2.45,2,-999.000,9,-999.000,9,  2274.8,2,  -999.0,9,-999.000,9,   1.9390,2,   16.58,2, -999.00,9,  -999.0,9,  -999.0,   8.282,2,   0.019,     -999.0,   0.0040,   0.150,     2.4029,-999.000
  316N138_4,       P06C,     123,          1,         18,        118,2,19920617,       2246,   -32.5090,  -146.4960,       5130,  1880.6,   2.2653,  34.6188,2,  34.6335,4,    154.4,2,   153.7,2,  104.58,2,   35.83,2,    0.00,2,    2.48,2,-999.000,9,-999.000,9,  2290.4,6,  1157.0,2,-999.000,9,   1.9530,2,   20.85,2, -999.00,9,  -999.0,9,  -999.0,   8.312,2,   0.019,      20.20,   0.0040,   0.150,     2.1350,-999.000
  316N138_4,       P06C,     123,          1,         17,        117,2,19920617,       2246,   -32.5090,  -146.4960,       5130,  2092.6,   2.1026,  34.6397,2,  34.6525,4,    152.0,2,   152.0,2,  112.73,2,   35.97,2,    0.00,2,    2.50,2,-999.000,9,-999.000,9,  2298.0,2,  -999.0,9,-999.000,9,   1.9570,2,   22.28,2, -999.00,9,  -999.0,9,  -999.0,   8.286,2,   0.019,     -999.0,   0.0040,   0.150,     1.9567,-999.000
  316N138_4,       P06C,     123,          1,         16,        116,2,19920617,       2246,   -32.5090,  -146.4960,       5130,  2304.0,   1.9694,  34.6522,2,  34.6627,4,    151.0,2,   151.8,2,  119.73,2,   36.11,2,    0.00,2,    2.53,2,-999.000,9,-999.000,9,  2305.8,2,  -999.0,9,-999.000,9,   1.9650,2,   23.72,2, -999.00,9,  -999.0,9,  -999.0,   8.324,2,   0.019,     -999.0,   0.0040,   0.150,     1.8073,-999.000
  316N138_4,       P06C,     123,          1,         15,        115,2,19920617,       2246,   -32.5090,  -146.4960,       5130,  2512.9,   1.8619,  34.6607,2,  34.6726,4,    151.1,2,   150.4,2,  124.83,2,   36.03,2,   -0.01,2,    2.53,2,-999.000,9,-999.000,9,  2310.7,2,  1148.3,6,-999.000,9,   1.9740,2,   24.17,2, -999.00,9,  -999.0,9,  -999.0,   8.326,2,   0.019,      20.20,   0.0040,   0.150,     1.6829,-999.000
  316N138_4,       P06C,     123,          1,         14,        114,2,19920617,       2246,   -32.5090,  -146.4960,       5130,  2716.2,   1.7979,  34.6664,2,  34.6785,4,    152.7,2,   152.3,2,  126.57,2,   35.75,2,   -0.01,2,    2.52,2,-999.000,9,-999.000,9,  2311.1,2,  -999.0,9,-999.000,9,-999.0000,9, -999.00,9, -999.00,9,  -999.0,9,  -999.0,-999.000,9,-999.000,     -999.0,-999.0000,-999.000,     1.6015,-999.000
  316N138_4,       P06C,     123,          1,         13,        125,2,19920617,       2246,   -32.5090,  -146.4960,       5130,  2913.5,   1.7352,  34.6725,2,  34.6865,4,    156.2,2,   154.5,2,  127.00,2,   35.29,2,    0.00,2,    2.50,2,-999.000,9,-999.000,9,  2307.8,2,  -999.0,9,-999.000,9,   1.9680,2,   22.63,2, -999.00,9,  -999.0,9,  -999.0,   8.338,2,   0.019,     -999.0,   0.0040,   0.150,     1.5215,-999.000
  316N138_4,       P06C,     123,          1,         12,        112,2,19920617,       2246,   -32.5090,  -146.4960,       5130,  3116.9,   1.6776,  34.6782,2,  34.6967,4,    160.1,2,   158.5,2,  126.71,2,   34.93,2,   -0.01,2,    2.46,2,-999.000,9,-999.000,9,  2305.7,2,  1167.3,2,-999.000,9,-999.0000,9, -999.00,9, -999.00,9,  -999.0,9,  -999.0,-999.000,9,-999.000,      20.20,-999.0000,-999.000,     1.4456,-999.000
  316N138_4,       P06C,     123,          1,         11,        129,2,19920617,       2246,   -32.5090,  -146.4960,       5130,  3321.0,   1.6066,  34.6849,2,  34.7007,4,    165.6,2,   165.2,2,  125.25,2,   34.56,2,   -0.01,2,    2.42,2,-999.000,9,-999.000,9,  2299.3,2,  -999.0,9,-999.000,9,   1.9610,2,   19.47,2, -999.00,9,  -999.0,9,  -999.0,   8.359,2,   0.019,     -999.0,   0.0040,   0.150,     1.3559,-999.000
  316N138_4,       P06C,     123,          1,         10,        110,2,19920617,       2246,   -32.5090,  -146.4960,       5130,  3524.3,   1.5387,  34.6904,2,  34.7028,4,    171.6,2,   171.1,2,  123.50,2,   34.15,2,   -0.01,2,    2.39,2,-999.000,9,-999.000,9,  2293.6,2,  -999.0,9,-999.000,9,-999.0000,9, -999.00,9, -999.00,9,  -999.0,9,  -999.0,-999.000,9,-999.000,     -999.0,-999.0000,-999.000,     1.2691,-999.000
  316N138_4,       P06C,     123,          1,          9,        126,2,19920617,       2246,   -32.5090,  -146.4960,       5130,  3725.4,   1.4772,  34.6963,2,  34.6985,2,    177.5,2,   177.5,2,  121.92,2,   33.84,2,   -0.01,2,    2.35,2,-999.000,9,-999.000,9,  2287.9,2,  1137.7,2,-999.000,9,   1.9600,2,   16.65,2, -999.00,9,  -999.0,9,  -999.0,   8.381,2,   0.019,      20.20,   0.0040,   0.150,     1.1882,-999.000
  316N138_4,       P06C,     123,          1,          8,        108,2,19920617,       2246,   -32.5090,  -146.4960,       5130,  3925.6,   1.3956,  34.7020,2,  34.7044,2,    183.6,2,   182.7,2,  120.17,2,   33.48,2,   -0.01,2,    2.33,2,-999.000,9,-999.000,9,  2281.0,2,  -999.0,9,-999.000,9,-999.0000,9, -999.00,9, -999.00,9,  -999.0,9,  -999.0,-999.000,9,-999.000,     -999.0,-999.0000,-999.000,     1.0875,-999.000
  316N138_4,       P06C,     123,          1,          7,        107,2,19920617,       2246,   -32.5090,  -146.4960,       5130,  4125.6,   1.3227,  34.7056,2,  34.7054,2,    189.0,2,   189.5,2,  119.14,2,   33.20,2,   -0.01,2,    2.30,2,-999.000,9,-999.000,9,  2276.2,2,  -999.0,9,-999.000,9,   1.9550,2,   12.97,2, -999.00,9,  -999.0,9,  -999.0,   8.410,2,   0.019,     -999.0,   0.0040,   0.150,     0.9951,-999.000
  316N138_4,       P06C,     123,          1,          6,        180,2,19920617,       2246,   -32.5090,  -146.4960,       5130,  4325.1,   1.2733,  34.7084,2,  34.7068,2,    193.2,2,   193.4,2,  118.56,2,   32.97,2,    0.00,2,    2.29,2,-999.000,9,-999.000,9,  2272.7,2,  1034.4,2,-999.000,9,-999.0000,9, -999.00,9, -999.00,9,  -999.0,9,  -999.0,-999.000,9,-999.000,      20.20,-999.0000,-999.000,     0.9250,-999.000
  316N138_4,       P06C,     123,          1,          5,        131,2,19920617,       2246,   -32.5090,  -146.4960,       5130,  4536.2,   1.2252,  34.7100,2,  34.7099,2,    197.3,2,   198.1,2,  118.11,2,   32.88,2,   -0.01,2,    2.29,2,-999.000,9,-999.000,9,  2270.3,2,  -999.0,9,-999.000,9,   1.9490,2,   10.91,2, -999.00,9,  -999.0,9,  -999.0,   8.422,2,   0.019,     -999.0,   0.0040,   0.150,     0.8545,-999.000
  316N138_4,       P06C,     123,          1,          4,        104,2,19920617,       2246,   -32.5090,  -146.4960,       5130,  4746.3,   1.2131,  34.7102,2,  34.7097,2,    199.4,2,   194.8,4,  117.96,2,   32.84,2,   -0.01,2,    2.26,2,-999.000,9,-999.000,9,  2268.1,2,  -999.0,9,-999.000,9,-999.0000,9, -999.00,9, -999.00,9,  -999.0,9,  -999.0,-999.000,9,-999.000,     -999.0,-999.0000,-999.000,     0.8185,-999.000
  316N138_4,       P06C,     123,          1,          3,        130,2,19920617,       2246,   -32.5090,  -146.4960,       5130,  4955.8,   1.2243,  34.7116,2,  34.7099,2,    200.7,2,   199.6,2,  117.81,2,   32.78,2,    0.00,2,    2.28,2,-999.000,9,-999.000,9,  2268.2,2,  1047.1,6,-999.000,9,   1.9370,2,    9.97,2, -999.00,9,  -999.0,9,  -999.0,   8.408,2,   0.019,      20.20,   0.0040,   0.150,     0.8046,-999.000
  316N138_4,       P06C,     123,          1,          2,        135,2,19920617,       2246,   -32.5090,  -146.4960,       5130,  5165.7,   1.2467,  34.7113,2,  34.7103,2,    201.8,2,   200.0,2,  117.98,2,   32.59,2,    0.00,2,    2.27,2,-999.000,9,-999.000,9,  2268.2,2,  -999.0,9,-999.000,9,-999.0000,9, -999.00,9, -999.00,9,  -999.0,9,  -999.0,-999.000,9,-999.000,     -999.0,-999.0000,-999.000,     0.8008,-999.000
  316N138_4,       P06C,     123,          1,          1,        134,2,19920617,       2246,   -32.5090,  -146.4960,       5130,  5217.0,   1.2532,  34.7119,2,  34.7125,3,    201.2,2,   198.9,2, -999.00,9, -999.00,9, -999.00,9, -999.00,9,-999.000,9,-999.000,9,  2267.3,6,  1116.6,2,-999.000,9,   1.9400,2,    9.98,2, -999.00,9,  -999.0,9,  -999.0,   8.413,2,   0.019,      20.20,   0.0040,   0.150,     0.8008,-999.000