BOTTLE,20211025CCHSIORKP
EXPOCODE,SECT_ID,STNNBR,CASTNO,SAMPNO,BTLNBR,BTLNBR_FLAG_W,DATE,TIME,LATITUDE,LONGITUDE,DEPTH,CTDPRS,CTDTMP,CTDSAL,CTDSAL_FLAG_W,SALNTY,SALNTY_FLAG_W,CTDOXY,CTDOXY_FLAG_W,OXYGEN,OXYGEN_FLAG_W,SILCAT,SILCAT_FLAG_W,NITRAT,NITRAT_FLAG_W,NITRIT,NITRIT_FLAG_W,PHSPHT,PHSPHT_FLAG_W,CFC-11,CFC-11_FLAG_W,CFC-12,CFC-12_FLAG_W,TCARBN,TCARBN_FLAG_W,PCO2,PCO2_FLAG_W,TRITUM,TRITUM_FLAG_W,HELIUM,HELIUM_FLAG_W,DELHE3,DELHE3_FLAG_W,DELC13,DELC13_FLAG_W,DELC14,DELC14_FLAG_W,C14ERR,NEON,NEON_FLAG_W,NEONER,PCO2TMP,HELIER,DELHER,THETA,TRITER
,,,,,,,,,,,METERS,DBAR,ITS-90,PSS-78,,PSS-78,,UMOL/KG,,UMOL/KG,,UMOL/KG,,UMOL/KG,,UMOL/KG,,UMOL/KG,,PMOL/KG,,PMOL/KG,,UMOL/KG,,UATM,,TU,,NMOL/KG,,PERCNT,,/MILLE,,/MILLE,,/MILLE,NMOL/KG,,NMOL/KG,DEG_C,NMOL/KG,PERCNT,ITS-90,TU
  316N138_4,       P06C,     111,          1,         24,        132,2,19920612,       0208,   -32.4902,  -137.3425,       4309,    48.3,  18.8779,  35.3253,2,  35.3299,2,    228.9,2,   231.3,2,    0.44,2,    0.02,2,    0.00,2,    0.12,2,-999.000,9,-999.000,9,  -999.0,9,  -999.0,9,-999.000,9,-999.0000,9, -999.00,9, -999.00,9,  -999.0,9,  -999.0,-999.000,9,-999.000,     -999.0,-999.0000,-999.000,    18.8693,-999.000
  316N138_4,       P06C,     111,          1,         23,        123,2,19920612,       0208,   -32.4902,  -137.3425,       4309,    79.4,  18.8492,  35.3323,2,  35.3405,2,    226.4,2,   230.7,2,    0.44,2,    0.08,2,   -0.01,2,    0.14,2,-999.000,9,-999.000,9,  -999.0,9,  -999.0,9,-999.000,9,-999.0000,9, -999.00,9, -999.00,9,  -999.0,9,  -999.0,-999.000,9,-999.000,     -999.0,-999.0000,-999.000,    18.8352,-999.000
  316N138_4,       P06C,     111,          1,         22,        128,2,19920612,       0208,   -32.4902,  -137.3425,       4309,   111.2,  18.6782,  35.3289,2,  35.3380,2,    225.7,2,   230.6,2,    0.44,2,    0.03,2,   -0.01,2,    0.14,2,-999.000,9,-999.000,9,  -999.0,9,  -999.0,9,-999.000,9,-999.0000,9, -999.00,9, -999.00,9,  -999.0,9,  -999.0,-999.000,9,-999.000,     -999.0,-999.0000,-999.000,    18.6586,-999.000
  316N138_4,       P06C,     111,          1,         21,        121,2,19920612,       0208,   -32.4902,  -137.3425,       4309,   154.7,  16.7091,  35.2849,2,  35.2855,2,    226.5,2,   224.9,2,    0.59,2,    0.49,2,    0.07,2,    0.23,2,-999.000,9,-999.000,9,  -999.0,9,  -999.0,9,-999.000,9,-999.0000,9, -999.00,9, -999.00,9,  -999.0,9,  -999.0,-999.000,9,-999.000,     -999.0,-999.0000,-999.000,    16.6839,-999.000
  316N138_4,       P06C,     111,          1,         20,        120,2,19920612,       0208,   -32.4902,  -137.3425,       4309,   206.8,  15.6555,  35.2144,2,  35.2176,2,    222.5,2,   223.6,2,    0.72,2,    1.49,2,    0.05,2,    0.31,2,-999.000,9,-999.000,9,  -999.0,9,  -999.0,9,-999.000,9,-999.0000,9, -999.00,9, -999.00,9,  -999.0,9,  -999.0,-999.000,9,-999.000,     -999.0,-999.0000,-999.000,    15.6232,-999.000
  316N138_4,       P06C,     111,          1,         19,        133,2,19920612,       0208,   -32.4902,  -137.3425,       4309,   258.5,  14.4705,  35.0982,2,  35.1003,2,    206.2,2,   199.0,2,    1.44,2,    6.31,2,    0.00,2,    0.60,2,-999.000,9,-999.000,9,  -999.0,9,  -999.0,9,-999.000,9,-999.0000,9, -999.00,9, -999.00,9,  -999.0,9,  -999.0,-999.000,9,-999.000,     -999.0,-999.0000,-999.000,    14.4322,-999.000
  316N138_4,       P06C,     111,          1,         18,        118,2,19920612,       0208,   -32.4902,  -137.3425,       4309,   307.3,  13.4168,  34.9874,2,  34.9957,2,    194.0,2,   196.5,2,    1.86,2,    8.80,2,    0.00,2,    0.75,2,-999.000,9,-999.000,9,  -999.0,9,  -999.0,9,-999.000,9,-999.0000,9, -999.00,9, -999.00,9,  -999.0,9,  -999.0,-999.000,9,-999.000,     -999.0,-999.0000,-999.000,    13.3735,-999.000
  316N138_4,       P06C,     111,          1,         17,        117,2,19920612,       0208,   -32.4902,  -137.3425,       4309,   357.6,  11.3158,  34.8167,2,  34.7826,2,    200.3,2,   200.3,2,    2.84,2,   13.04,2,    0.00,2,    1.01,2,-999.000,9,-999.000,9,  -999.0,9,  -999.0,9,-999.000,9,-999.0000,9, -999.00,9, -999.00,9,  -999.0,9,  -999.0,-999.000,9,-999.000,     -999.0,-999.0000,-999.000,    11.2707,-999.000
  316N138_4,       P06C,     111,          1,         16,        116,2,19920612,       0208,   -32.4902,  -137.3425,       4309,   405.7,   9.1831,  34.5142,2,  34.5529,2,    212.9,2,   212.4,2,    3.83,2,   17.27,2,    0.00,2,    1.25,2,-999.000,9,-999.000,9,  -999.0,9,  -999.0,9,-999.000,9,-999.0000,9, -999.00,9, -999.00,9,  -999.0,9,  -999.0,-999.000,9,-999.000,     -999.0,-999.0000,-999.000,     9.1382,-999.000
  316N138_4,       P06C,     111,          1,         15,        115,2,19920612,       0208,   -32.4902,  -137.3425,       4309,   457.6,   8.0745,  34.4701,2,  34.4697,2,    219.7,2,   224.4,2,    4.83,2,   19.28,2,    0.00,2,    1.37,2,-999.000,9,-999.000,9,  -999.0,9,  -999.0,9,-999.000,9,-999.0000,9, -999.00,9, -999.00,9,  -999.0,9,  -999.0,-999.000,9,-999.000,     -999.0,-999.0000,-999.000,     8.0275,-999.000
  316N138_4,       P06C,     111,          1,         14,        114,2,19920612,       0208,   -32.4902,  -137.3425,       4309,   509.0,   7.5339,  34.4353,2,  34.4379,2,    230.0,2,   235.5,2,    5.38,2,   20.32,2,    0.00,2,    1.42,2,-999.000,9,-999.000,9,  -999.0,9,  -999.0,9,-999.000,9,-999.0000,9, -999.00,9, -999.00,9,  -999.0,9,  -999.0,-999.000,9,-999.000,     -999.0,-999.0000,-999.000,     7.4836,-999.000
  316N138_4,       P06C,     111,          1,         13,        125,2,19920612,       0208,   -32.4902,  -137.3425,       4309,   556.7,   7.1766,  34.4127,2,  34.4122,2,    237.8,2,   240.6,2,    6.10,2,   20.90,2,    0.00,2,    1.47,2,-999.000,9,-999.000,9,  -999.0,9,  -999.0,9,-999.000,9,-999.0000,9, -999.00,9, -999.00,9,  -999.0,9,  -999.0,-999.000,9,-999.000,     -999.0,-999.0000,-999.000,     7.1228,-999.000
  316N138_4,       P06C,     111,          1,         12,        112,2,19920612,       0208,   -32.4902,  -137.3425,       4309,   608.0,   6.8587,  34.3841,2,  34.3967,2,    240.5,2,   241.5,2,    6.94,2,   21.82,2,    0.00,2,    1.51,2,-999.000,9,-999.000,9,  -999.0,9,  -999.0,9,-999.000,9,-999.0000,9, -999.00,9, -999.00,9,  -999.0,9,  -999.0,-999.000,9,-999.000,     -999.0,-999.0000,-999.000,     7.1228,-999.000
  316N138_4,       P06C,     111,          1,         11,        129,2,19920612,       0208,   -32.4902,  -137.3425,       4309,   707.7,   6.3185,  34.3425,2,  34.3419,2,    240.9,2,   240.5,2,    8.77,2,   23.35,2,    0.00,2,    1.61,2,-999.000,9,-999.000,9,  -999.0,9,  -999.0,9,-999.000,9,-999.0000,9, -999.00,9, -999.00,9,  -999.0,9,  -999.0,-999.000,9,-999.000,     -999.0,-999.0000,-999.000,     6.2541,-999.000
  316N138_4,       P06C,     111,          1,         10,        110,2,19920612,       0208,   -32.4902,  -137.3425,       4309,   807.5,   5.8559,  34.3161,2,  34.3162,2,    236.9,2,   234.8,2,   11.31,2,   24.88,2,    0.00,2,    1.71,2,-999.000,9,-999.000,9,  -999.0,9,  -999.0,9,-999.000,9,-999.0000,9, -999.00,9, -999.00,9,  -999.0,9,  -999.0,-999.000,9,-999.000,     -999.0,-999.0000,-999.000,     5.7847,-999.000
  316N138_4,       P06C,     111,          1,          9,        126,2,19920612,       0208,   -32.4902,  -137.3425,       4309,   907.0,   5.3800,  34.3005,2,  34.3001,2,    227.5,2,   226.5,2,   15.83,2,   26.87,2,    0.00,2,    1.86,2,-999.000,9,-999.000,9,  -999.0,9,  -999.0,9,-999.000,9,-999.0000,9, -999.00,9, -999.00,9,  -999.0,9,  -999.0,-999.000,9,-999.000,     -999.0,-999.0000,-999.000,     5.3027,-999.000
  316N138_4,       P06C,     111,          1,          8,        108,3,19920612,       0208,   -32.4902,  -137.3425,       4309,   907.1,   5.3800,  34.3005,2,  34.8676,4,    227.5,2,   197.4,4,    2.72,4,   11.61,4,    0.01,4,    0.93,4,-999.000,9,-999.000,9,  -999.0,9,  -999.0,9,-999.000,9,-999.0000,9, -999.00,9, -999.00,9,  -999.0,9,  -999.0,-999.000,9,-999.000,     -999.0,-999.0000,-999.000,     5.3027,-999.000
  316N138_4,       P06C,     111,          1,          7,        107,2,19920612,       0208,   -32.4902,  -137.3425,       4309,  1111.3,   4.1161,  34.3504,2,  34.3468,2,    193.2,2,   191.2,2,   36.43,2,   32.09,2,    0.00,2,    2.21,2,-999.000,9,-999.000,9,  -999.0,9,  -999.0,9,-999.000,9,-999.0000,9, -999.00,9, -999.00,9,  -999.0,9,  -999.0,-999.000,9,-999.000,     -999.0,-999.0000,-999.000,     4.0304,-999.000
  316N138_4,       P06C,     111,          1,          6,        180,2,19920612,       0208,   -32.4902,  -137.3425,       4309,  1209.5,   3.6334,  34.3878,2,  34.3906,2,    181.4,2,   180.3,2,   47.84,2,   33.54,2,    0.00,2,    2.32,2,-999.000,9,-999.000,9,  -999.0,9,  -999.0,9,-999.000,9,-999.0000,9, -999.00,9, -999.00,9,  -999.0,9,  -999.0,-999.000,9,-999.000,     -999.0,-999.0000,-999.000,     3.5436,-999.000
  316N138_4,       P06C,     111,          1,          5,        131,2,19920612,       0208,   -32.4902,  -137.3425,       4309,  1409.5,   3.0192,  34.4698,2,  34.4714,2,    169.3,2,   169.4,2,   65.89,2,   34.52,2,    0.00,2,    2.40,2,-999.000,9,-999.000,9,  -999.0,9,  -999.0,9,-999.000,9,-999.0000,9, -999.00,9, -999.00,9,  -999.0,9,  -999.0,-999.000,9,-999.000,     -999.0,-999.0000,-999.000,     2.9189,-999.000
  316N138_4,       P06C,     111,          1,          4,        104,2,19920612,       0208,   -32.4902,  -137.3425,       4309,  1608.9,   2.6236,  34.5504,2,  34.5521,2,    160.7,2,   159.2,2,   83.80,2,   34.93,2,    0.01,2,    2.45,2,-999.000,9,-999.000,9,  -999.0,9,  -999.0,9,-999.000,9,-999.0000,9, -999.00,9, -999.00,9,  -999.0,9,  -999.0,-999.000,9,-999.000,     -999.0,-999.0000,-999.000,     2.5113,-999.000
  316N138_4,       P06C,     111,          1,          3,        130,2,19920612,       0208,   -32.4902,  -137.3425,       4309,  1810.0,   2.3466,  34.6006,2,  34.6048,2,    156.4,2,   156.8,2,   98.74,2,   35.18,2,    0.00,2,    2.48,2,-999.000,9,-999.000,9,  -999.0,9,  -999.0,9,-999.000,9,-999.0000,9, -999.00,9, -999.00,9,  -999.0,9,  -999.0,-999.000,9,-999.000,     -999.0,-999.0000,-999.000,     2.2212,-999.000
  316N138_4,       P06C,     111,          1,          2,        135,2,19920612,       0208,   -32.4902,  -137.3425,       4309,  2010.6,   2.1413,  34.6287,2,  34.6307,2,    154.1,2,   153.8,2,  109.74,2,   35.40,2,    0.00,2,    2.51,2,-999.000,9,-999.000,9,  -999.0,9,  -999.0,9,-999.000,9,-999.0000,9, -999.00,9, -999.00,9,  -999.0,9,  -999.0,-999.000,9,-999.000,     -999.0,-999.0000,-999.000,     2.0018,-999.000
  316N138_4,       P06C,     111,          1,          1,        134,2,19920612,       0208,   -32.4902,  -137.3425,       4309,  2010.6,   2.1413,  34.6287,2,  34.6282,2,    154.1,2,   154.1,2,  109.74,2,   35.27,2,    0.00,2,    2.51,2,-999.000,9,-999.000,9,  -999.0,9,  -999.0,9,-999.000,9,-999.0000,9, -999.00,9, -999.00,9,  -999.0,9,  -999.0,-999.000,9,-999.000,     -999.0,-999.0000,-999.000,     2.0018,-999.000
  316N138_4,       P06C,     111,          1,         36,    02-9121,2,19920612,       0208,   -32.4902,  -137.3425,       4309,  2212.5,   2.0204,  34.6431,2,  34.6427,2,    153.6,2,   153.5,2,  115.39,2,   35.51,2,    0.00,2,    2.51,2,-999.000,9,-999.000,9,  -999.0,9,  -999.0,9,-999.000,9,-999.0000,9, -999.00,9, -999.00,9,  -999.0,9,  -999.0,-999.000,9,-999.000,     -999.0,-999.0000,-999.000,     1.8654,-999.000
  316N138_4,       P06C,     111,          1,         35,    02-9454,2,19920612,       0208,   -32.4902,  -137.3425,       4309,  2410.1,   1.8991,  34.6536,2,  34.6559,2,    154.6,2,   154.5,2,  119.90,2,   35.40,2,    0.00,2,    2.53,2,-999.000,9,-999.000,9,  -999.0,9,  -999.0,9,-999.000,9,-999.0000,9, -999.00,9, -999.00,9,  -999.0,9,  -999.0,-999.000,9,-999.000,     -999.0,-999.0000,-999.000,     1.7288,-999.000
  316N138_4,       P06C,     111,          1,         34,    02-9457,2,19920612,       0208,   -32.4902,  -137.3425,       4309,  2605.3,   1.8020,  34.6631,2,  34.6631,2,    157.4,2,   156.6,2,  122.29,2,   35.30,2,    0.01,2,    2.52,2,-999.000,9,-999.000,9,  -999.0,9,  -999.0,9,-999.000,9,-999.0000,9, -999.00,9, -999.00,9,  -999.0,9,  -999.0,-999.000,9,-999.000,     -999.0,-999.0000,-999.000,     1.6158,-999.000
  316N138_4,       P06C,     111,          1,         33,    02-5367,2,19920612,       0208,   -32.4902,  -137.3425,       4309,  2799.7,   1.7345,  34.6687,2,  34.6679,2,    160.0,2,   160.1,2,  122.72,2,   35.07,2,    0.01,2,    2.51,2,-999.000,9,-999.000,9,  -999.0,9,  -999.0,9,-999.000,9,-999.0000,9, -999.00,9, -999.00,9,  -999.0,9,  -999.0,-999.000,9,-999.000,     -999.0,-999.0000,-999.000,     1.5316,-999.000
  316N138_4,       P06C,     111,          1,         32,    02-9540,2,19920612,       0208,   -32.4902,  -137.3425,       4309,  3006.6,   1.6819,  34.6737,2,  34.6745,2,    163.0,2,   163.1,2,  123.56,2,   34.92,2,    0.01,2,    2.48,2,-999.000,9,-999.000,9,  -999.0,9,  -999.0,9,-999.000,9,-999.0000,9, -999.00,9, -999.00,9,  -999.0,9,  -999.0,-999.000,9,-999.000,     -999.0,-999.0000,-999.000,     1.4605,-999.000
  316N138_4,       P06C,     111,          1,         31,    02-9539,2,19920612,       0208,   -32.4902,  -137.3425,       4309,  3218.5,   1.6450,  34.6784,2,-999.0000,9,    166.1,2,  -999.0,9, -999.00,9, -999.00,9, -999.00,9, -999.00,9,-999.000,9,-999.000,9,  -999.0,9,  -999.0,9,-999.000,9,-999.0000,9, -999.00,9, -999.00,9,  -999.0,9,  -999.0,-999.000,9,-999.000,     -999.0,-999.0000,-999.000,     1.4038,-999.000
  316N138_4,       P06C,     111,          1,         30,    02-9456,2,19920612,       0208,   -32.4902,  -137.3425,       4309,  3420.6,   1.6011,  34.6819,2,  34.6859,2,    169.4,2,   169.0,2,  123.28,2,   34.50,2,    0.01,2,    2.45,2,-999.000,9,-999.000,9,  -999.0,9,  -999.0,9,-999.000,9,-999.0000,9, -999.00,9, -999.00,9,  -999.0,9,  -999.0,-999.000,9,-999.000,     -999.0,-999.0000,-999.000,     1.3405,-999.000
  316N138_4,       P06C,     111,          1,         29,    02-9458,2,19920612,       0208,   -32.4902,  -137.3425,       4309,  3623.1,   1.5487,  34.6880,2,  34.6879,2,    173.2,2,   173.8,2,  122.86,2,   34.18,2,    0.01,2,    2.43,2,-999.000,9,-999.000,9,  -999.0,9,  -999.0,9,-999.000,9,-999.0000,9, -999.00,9, -999.00,9,  -999.0,9,  -999.0,-999.000,9,-999.000,     -999.0,-999.0000,-999.000,     1.2686,-999.000
  316N138_4,       P06C,     111,          1,         28,    02-9545,2,19920612,       0208,   -32.4902,  -137.3425,       4309,  3827.0,   1.4744,  34.6935,2,  34.6963,2,    178.1,2,   177.5,2,  121.88,2,   33.85,2,    0.01,2,    2.39,2,-999.000,9,-999.000,9,  -999.0,9,  -999.0,9,-999.000,9,-999.0000,9, -999.00,9, -999.00,9,  -999.0,9,  -999.0,-999.000,9,-999.000,     -999.0,-999.0000,-999.000,     1.1748,-999.000
  316N138_4,       P06C,     111,          1,         27,    02-9453,2,19920612,       0208,   -32.4902,  -137.3425,       4309,  4033.3,   1.3625,  34.7022,2,  34.7034,2,    185.2,2,   186.0,2,  120.19,2,   33.30,2,    0.00,2,    2.35,2,-999.000,9,-999.000,9,  -999.0,9,  -999.0,9,-999.000,9,-999.0000,9, -999.00,9, -999.00,9,  -999.0,9,  -999.0,-999.000,9,-999.000,     -999.0,-999.0000,-999.000,     1.0437,-999.000
  316N138_4,       P06C,     111,          1,         26,    02-9544,2,19920612,       0208,   -32.4902,  -137.3425,       4309,  4235.1,   1.3137,  34.7057,2,  34.7056,2,    190.3,2,   189.1,2,  119.34,2,   33.06,2,    0.00,2,    2.32,2,-999.000,9,-999.000,9,  -999.0,9,  -999.0,9,-999.000,9,-999.0000,9, -999.00,9, -999.00,9,  -999.0,9,  -999.0,-999.000,9,-999.000,     -999.0,-999.0000,-999.000,     0.9743,-999.000
  316N138_4,       P06C,     111,          1,         25,    02-9455,2,19920612,       0208,   -32.4902,  -137.3425,       4309,  4350.5,   1.3171,  34.7061,2,  34.7115,4,    189.8,2,   190.5,2,  119.24,2,   32.95,2,    0.00,2,    2.32,2,-999.000,9,-999.000,9,  -999.0,9,  -999.0,9,-999.000,9,-999.0000,9, -999.00,9, -999.00,9,  -999.0,9,  -999.0,-999.000,9,-999.000,     -999.0,-999.0000,-999.000,     0.9647,-999.000