BOTTLE,20211025CCHSIORKP
EXPOCODE,SECT_ID,STNNBR,CASTNO,SAMPNO,BTLNBR,BTLNBR_FLAG_W,DATE,TIME,LATITUDE,LONGITUDE,DEPTH,CTDPRS,CTDTMP,CTDSAL,CTDSAL_FLAG_W,SALNTY,SALNTY_FLAG_W,CTDOXY,CTDOXY_FLAG_W,OXYGEN,OXYGEN_FLAG_W,SILCAT,SILCAT_FLAG_W,NITRAT,NITRAT_FLAG_W,NITRIT,NITRIT_FLAG_W,PHSPHT,PHSPHT_FLAG_W,CFC-11,CFC-11_FLAG_W,CFC-12,CFC-12_FLAG_W,TCARBN,TCARBN_FLAG_W,PCO2,PCO2_FLAG_W,TRITUM,TRITUM_FLAG_W,HELIUM,HELIUM_FLAG_W,DELHE3,DELHE3_FLAG_W,DELC13,DELC13_FLAG_W,DELC14,DELC14_FLAG_W,C14ERR,NEON,NEON_FLAG_W,NEONER,PCO2TMP,HELIER,DELHER,THETA,TRITER
,,,,,,,,,,,METERS,DBAR,ITS-90,PSS-78,,PSS-78,,UMOL/KG,,UMOL/KG,,UMOL/KG,,UMOL/KG,,UMOL/KG,,UMOL/KG,,PMOL/KG,,PMOL/KG,,UMOL/KG,,UATM,,TU,,NMOL/KG,,PERCNT,,/MILLE,,/MILLE,,/MILLE,NMOL/KG,,NMOL/KG,DEG_C,NMOL/KG,PERCNT,ITS-90,TU
  316N138_4,       P06C,      89,          1,         36,    02-9121,2,19920605,       1845,   -32.4945,  -122.6642,       2218,    16.2,  19.5717,  35.0102,2,  35.0100,2,    237.8,2,   228.9,2,    0.00,2,    0.00,2,    0.00,2,    0.13,2,-999.000,9,-999.000,9,  2009.2,6,   323.5,2,-999.000,9,-999.0000,9, -999.00,9, -999.00,9,  -999.0,9,  -999.0,-999.000,9,-999.000,      20.80,-999.0000,-999.000,    19.5688,-999.000
  316N138_4,       P06C,      89,          1,         35,    02-9454,2,19920605,       1845,   -32.4945,  -122.6642,       2218,    56.4,  19.4757,  35.0046,2,  35.0043,2,    228.5,2,   229.2,2,    0.20,2,    0.00,2,    0.00,2,    0.13,2,-999.000,9,-999.000,9,  -999.0,9,  -999.0,9,-999.000,9,-999.0000,9, -999.00,9, -999.00,9,  -999.0,9,  -999.0,-999.000,9,-999.000,     -999.0,-999.0000,-999.000,    19.4655,-999.000
  316N138_4,       P06C,      89,          1,         34,    02-9457,2,19920605,       1845,   -32.4945,  -122.6642,       2218,    85.5,  18.3567,  35.1164,2,  35.1169,2,    235.8,2,   243.4,2,    0.04,2,    0.00,2,    0.01,2,    0.14,2,-999.000,9,-999.000,9,  2017.5,2,   339.2,2,-999.000,9,-999.0000,9, -999.00,9, -999.00,9,  -999.0,9,  -999.0,-999.000,9,-999.000,      20.80,-999.0000,-999.000,    18.3418,-999.000
  316N138_4,       P06C,      89,          1,         33,    02-5367,2,19920605,       1845,   -32.4945,  -122.6642,       2218,   115.4,  17.4071,  35.2365,2,  35.2400,2,    232.0,2,   231.8,2,    0.41,2,    0.03,2,    0.02,2,    0.18,2,-999.000,9,-999.000,9,  -999.0,9,  -999.0,9,-999.000,9,-999.0000,9, -999.00,9, -999.00,9,  -999.0,9,  -999.0,-999.000,9,-999.000,     -999.0,-999.0000,-999.000,    17.3877,-999.000
  316N138_4,       P06C,      89,          1,         32,    02-9540,2,19920605,       1845,   -32.4945,  -122.6642,       2218,   145.0,  16.1820,  35.1227,2,  35.1222,2,    222.4,2,   221.2,2,    0.42,2,    0.98,2,    0.12,2,    0.27,2,-999.000,9,-999.000,9,  2047.7,2,   400.7,2,-999.000,9,-999.0000,9, -999.00,9, -999.00,9,  -999.0,9,  -999.0,-999.000,9,-999.000,      20.80,-999.0000,-999.000,    16.1589,-999.000
  316N138_4,       P06C,      89,          1,         31,    02-9539,2,19920605,       1845,   -32.4945,  -122.6642,       2218,   174.7,  15.5325,  35.0542,2,  35.0772,2,    215.0,2,   213.5,2,    0.62,2,    2.83,2,    0.02,2,    0.38,2,-999.000,9,-999.000,9,  -999.0,9,  -999.0,9,-999.000,9,-999.0000,9, -999.00,9, -999.00,9,  -999.0,9,  -999.0,-999.000,9,-999.000,     -999.0,-999.0000,-999.000,    15.5054,-999.000
  316N138_4,       P06C,      89,          1,         30,    02-9456,2,19920605,       1845,   -32.4945,  -122.6642,       2218,   224.4,  14.4089,  34.9898,2,  34.9801,2,    211.9,2,   204.5,2,    1.16,2,    5.86,2,    0.00,2,    0.57,2,-999.000,9,-999.000,9,  2074.6,2,   462.9,2,-999.000,9,-999.0000,9, -999.00,9, -999.00,9,  -999.0,9,  -999.0,-999.000,9,-999.000,      20.80,-999.0000,-999.000,    14.3758,-999.000
  316N138_4,       P06C,      89,          1,         29,    02-9458,2,19920605,       1845,   -32.4945,  -122.6642,       2218,   274.6,  12.7321,  34.8113,2,  34.8064,2,    208.1,2,   205.3,2,    1.71,2,    9.42,2,    0.01,2,    0.78,2,-999.000,9,-999.000,9,  -999.0,9,  -999.0,9,-999.000,9,-999.0000,9, -999.00,9, -999.00,9,  -999.0,9,  -999.0,-999.000,9,-999.000,     -999.0,-999.0000,-999.000,    12.6949,-999.000
  316N138_4,       P06C,      89,          1,         28,    02-9545,2,19920605,       1845,   -32.4945,  -122.6642,       2218,   324.2,  10.8653,  34.6417,2,  34.6382,2,    210.9,2,   208.2,2,    2.79,2,   13.63,2,    0.00,2,    1.04,2,-999.000,9,-999.000,9,  2105.6,2,   591.5,2,-999.000,9,-999.0000,9, -999.00,9, -999.00,9,  -999.0,9,  -999.0,-999.000,9,-999.000,      20.80,-999.0000,-999.000,    10.8255,-999.000
  316N138_4,       P06C,      89,          1,         27,    02-9453,2,19920605,       1845,   -32.4945,  -122.6642,       2218,   371.9,   9.3496,  34.5046,2,  34.5129,2,    214.0,2,   214.7,2,    3.87,2,   17.08,2,    0.00,2,    1.23,2,-999.000,9,-999.000,9,  -999.0,9,  -999.0,9,-999.000,9,-999.0000,9, -999.00,9, -999.00,9,  -999.0,9,  -999.0,-999.000,9,-999.000,     -999.0,-999.0000,-999.000,     9.3081,-999.000
  316N138_4,       P06C,      89,          1,         26,    02-9544,2,19920605,       1845,   -32.4945,  -122.6642,       2218,   425.4,   8.1407,  34.4372,2,  34.4375,2,    224.6,2,   222.2,2,    4.95,2,   19.60,2,    0.00,2,    1.38,2,-999.000,9,-999.000,9,  2125.7,2,   693.4,2,-999.000,9,-999.0000,9, -999.00,9, -999.00,9,  -999.0,9,  -999.0,-999.000,9,-999.000,      20.80,-999.0000,-999.000,     8.0971,-999.000
  316N138_4,       P06C,      89,          1,         25,    02-9455,2,19920605,       1845,   -32.4945,  -122.6642,       2218,   472.5,   7.3612,  34.3990,2,  34.4002,2,    235.9,2,   236.7,2,    5.68,2,   20.71,2,    0.00,2,    1.44,2,-999.000,9,-999.000,9,  -999.0,9,  -999.0,9,-999.000,9,-999.0000,9, -999.00,9, -999.00,9,  -999.0,9,  -999.0,-999.000,9,-999.000,     -999.0,-999.0000,-999.000,     7.3151,-999.000
  316N138_4,       P06C,      89,          1,         24,        132,2,19920605,       1845,   -32.4945,  -122.6642,       2218,   521.0,   7.0305,  34.3881,2,  34.3888,2,    244.1,2,   243.8,2,    6.22,2,   21.16,2,    0.00,2,    1.46,2,-999.000,9,-999.000,9,  2128.4,2,   697.5,2,-999.000,9,-999.0000,9, -999.00,9, -999.00,9,  -999.0,9,  -999.0,-999.000,9,-999.000,      20.80,-999.0000,-999.000,     6.9809,-999.000
  316N138_4,       P06C,      89,          1,         23,        123,2,19920605,       1845,   -32.4945,  -122.6642,       2218,   589.7,   6.6855,  34.3688,2,  34.3684,2,    247.6,2,   246.7,2,    7.30,2,   22.01,2,    0.00,2,    1.50,2,-999.000,9,-999.000,9,  -999.0,9,  -999.0,9,-999.000,9,-999.0000,9, -999.00,9, -999.00,9,  -999.0,9,  -999.0,-999.000,9,-999.000,     -999.0,-999.0000,-999.000,     6.6307,-999.000
  316N138_4,       P06C,      89,          1,         22,        128,2,19920605,       1845,   -32.4945,  -122.6642,       2218,   671.9,   6.3335,  34.3440,2,  34.3454,2,    246.9,2,   244.0,2,    8.73,2,   23.06,2,    0.00,2,    1.58,2,-999.000,9,-999.000,9,  2136.0,2,   731.8,2,-999.000,9,-999.0000,9, -999.00,9, -999.00,9,  -999.0,9,  -999.0,-999.000,9,-999.000,      20.80,-999.0000,-999.000,     6.2725,-999.000
  316N138_4,       P06C,      89,          1,         21,        121,2,19920605,       1845,   -32.4945,  -122.6642,       2218,   763.4,   5.7695,  34.3062,2,  34.3048,2,    241.0,2,   237.5,2,   11.41,2,   25.03,2,    0.00,2,    1.70,2,-999.000,9,-999.000,9,  -999.0,9,  -999.0,9,-999.000,9,-999.0000,9, -999.00,9, -999.00,9,  -999.0,9,  -999.0,-999.000,9,-999.000,     -999.0,-999.0000,-999.000,     5.7029,-999.000
  316N138_4,       P06C,      89,          1,         20,        120,2,19920605,       1845,   -32.4945,  -122.6642,       2218,   855.2,   5.2859,  34.2867,2,  34.5724,4,    230.8,2,   227.2,3,    8.94,4,   17.11,4,    0.01,4,    1.23,4,-999.000,9,-999.000,9,  2117.4,3,   619.4,4,-999.000,9,-999.0000,9, -999.00,9, -999.00,9,  -999.0,9,  -999.0,-999.000,9,-999.000,      20.80,-999.0000,-999.000,     5.2139,-999.000
  316N138_4,       P06C,      89,          1,         19,        133,2,19920605,       1845,   -32.4945,  -122.6642,       2218,   906.4,   5.0580,  34.2877,2,  34.2887,2,    223.9,2,   220.3,2,   18.35,2,   28.32,2,    0.00,2,    1.92,2,-999.000,9,-999.000,9,  -999.0,9,  -999.0,9,-999.000,9,-999.0000,9, -999.00,9, -999.00,9,  -999.0,9,  -999.0,-999.000,9,-999.000,     -999.0,-999.0000,-999.000,     4.9830,-999.000
  316N138_4,       P06C,      89,          1,         18,        118,2,19920605,       1845,   -32.4945,  -122.6642,       2218,   953.5,   4.8196,  34.2959,2,  34.2954,2,    216.6,2,   211.8,2,   22.26,2,   29.43,2,    0.00,2,    2.00,2,-999.000,9,-999.000,9,  2172.9,6,   876.9,2,-999.000,9,-999.0000,9, -999.00,9, -999.00,9,  -999.0,9,  -999.0,-999.000,9,-999.000,      20.80,-999.0000,-999.000,     4.7422,-999.000
  316N138_4,       P06C,      89,          1,         17,        117,2,19920605,       1845,   -32.4945,  -122.6642,       2218,  1002.2,   4.4934,  34.3119,2,  34.3107,2,    207.9,3,   200.1,2,   28.30,2,   30.97,2,    0.00,2,    2.11,2,-999.000,9,-999.000,9,  -999.0,9,  -999.0,9,-999.000,9,-999.0000,9, -999.00,9, -999.00,9,  -999.0,9,  -999.0,-999.000,9,-999.000,     -999.0,-999.0000,-999.000,     4.4141,-999.000
  316N138_4,       P06C,      89,          1,         16,        116,2,19920605,       1845,   -32.4945,  -122.6642,       2218,  1052.2,   4.2639,  34.3279,2,  34.3270,2,    196.7,3,   191.7,2,   33.46,2,   32.00,2,    0.00,2,    2.18,2,-999.000,9,-999.000,9,  2196.7,2,   990.0,2,-999.000,9,-999.0000,9, -999.00,9, -999.00,9,  -999.0,9,  -999.0,-999.000,9,-999.000,      20.80,-999.0000,-999.000,     4.1820,-999.000
  316N138_4,       P06C,      89,          1,         15,        115,2,19920605,       1845,   -32.4945,  -122.6642,       2218,  1105.6,   3.8696,  34.3613,2,  34.3629,2,    188.8,3,   182.8,2,   41.97,2,   33.22,2,    0.00,2,    2.27,2,-999.000,9,-999.000,9,  -999.0,9,  -999.0,9,-999.000,9,   1.8760,2,    4.85,2, -999.00,9,  -999.0,9,  -999.0,   8.076,2,   0.018,     -999.0,   0.0040,   0.150,     3.7865,-999.000
  316N138_4,       P06C,      89,          1,         14,        114,2,19920605,       1845,   -32.4945,  -122.6642,       2218,  1191.6,   3.4730,  34.4130,2,  34.4151,2,    175.1,2,   172.0,2,   53.68,2,   34.35,2,    0.00,2,    2.36,2,-999.000,9,-999.000,9,  2230.7,2,  1082.5,2,-999.000,9,   1.8970,2,    7.19,2, -999.00,9,  -999.0,9,  -999.0,   8.112,2,   0.019,      20.80,   0.0040,   0.150,     3.3861,-999.000
  316N138_4,       P06C,      89,          1,         13,        125,2,19920605,       1845,   -32.4945,  -122.6642,       2218,  1259.2,   3.3019,  34.4371,2,  34.4371,2,    170.4,2,   168.4,2,   59.19,2,   34.71,2,    0.00,2,    2.38,2,-999.000,9,-999.000,9,  -999.0,9,  -999.0,9,-999.000,9,   1.9090,2,    8.27,2, -999.00,9,  -999.0,9,  -999.0,   8.204,2,   0.019,     -999.0,   0.0040,   0.150,     3.2110,-999.000
  316N138_4,       P06C,      89,          1,         12,        112,2,19920605,       1845,   -32.4945,  -122.6642,       2218,  1335.1,   3.1357,  34.4637,2,  34.4620,2,    168.0,2,   166.8,2,   64.69,2,   34.76,2,    0.00,2,    2.38,2,-999.000,9,-999.000,9,  2244.3,2,  1103.5,2,-999.000,9,   1.9130,2,    9.31,2, -999.00,9,  -999.0,9,  -999.0,   8.174,2,   0.019,      20.80,   0.0040,   0.150,     3.0403,-999.000
  316N138_4,       P06C,      89,          1,         11,        129,2,19920605,       1845,   -32.4945,  -122.6642,       2218,  1410.5,   2.8418,  34.5117,2,  34.5117,2,    164.4,2,   163.3,2,   74.81,2,   34.97,2,    0.00,2,    2.41,2,-999.000,9,-999.000,9,  -999.0,9,  -999.0,9,-999.000,9,   1.9110,2,   11.99,2, -999.00,9,  -999.0,9,  -999.0,   8.157,2,   0.019,     -999.0,   0.0040,   0.150,     2.7432,-999.000
  316N138_4,       P06C,      89,          1,         10,        110,2,19920605,       1845,   -32.4945,  -122.6642,       2218,  1498.6,   2.7545,  34.5274,2,  34.5256,2,    163.6,2,   162.9,2,   78.54,2,   34.97,2,    0.00,2,    2.42,2,-999.000,9,-999.000,9,  2259.6,2,  -999.0,9,-999.000,9,   1.9220,2,   12.91,2, -999.00,9,  -999.0,9,  -999.0,   8.280,2,   0.019,     -999.0,   0.0040,   0.150,     2.6498,-999.000
  316N138_4,       P06C,      89,          1,          9,        126,2,19920605,       1845,   -32.4945,  -122.6642,       2218,  1562.0,   2.5657,  34.5597,2,  34.5594,2,    161.3,2,   160.7,2,   87.05,2,   34.96,2,    0.01,2,    2.42,2,-999.000,9,-999.000,9,  -999.0,9,  -999.0,9,-999.000,9,   1.9550,2,   14.84,2, -999.00,9,  -999.0,9,  -999.0,   8.302,2,   0.019,     -999.0,   0.0040,   0.150,     2.4579,-999.000
  316N138_4,       P06C,      89,          1,          8,        108,2,19920605,       1845,   -32.4945,  -122.6642,       2218,  1636.3,   2.4531,  34.5818,2,  34.5796,2,    160.1,2,   161.3,3,   92.73,2,   35.01,2,    0.00,2,    2.43,2,-999.000,9,-999.000,9,  -999.0,9,  -999.0,9,-999.000,9,   1.9230,2,   16.28,2, -999.00,9,  -999.0,9,  -999.0,   8.224,2,   0.019,     -999.0,   0.0040,   0.150,     2.3405,-999.000
  316N138_4,       P06C,      89,          1,          7,        107,2,19920605,       1845,   -32.4945,  -122.6642,       2218,  1713.0,   2.4017,  34.5907,2,  34.5889,2,    159.4,2,   158.9,2,   94.34,2,   35.07,2,    0.00,2,    2.44,2,-999.000,9,-999.000,9,  2277.0,2,  1145.9,6,-999.000,9,   1.9410,2,   17.12,2, -999.00,9,  -999.0,9,  -999.0,   8.219,2,   0.019,      20.80,   0.0040,   0.150,     2.2836,-999.000
  316N138_4,       P06C,      89,          1,          6,        180,2,19920605,       1845,   -32.4945,  -122.6642,       2218,  1814.5,   2.2995,  34.6071,2,  34.6058,2,    158.4,2,   157.8,2,   99.49,2,   35.12,2,    0.00,2,    2.44,2,-999.000,9,-999.000,9,  -999.0,9,  -999.0,9,-999.000,9,   1.9510,2,   17.84,2, -999.00,9,  -999.0,9,  -999.0,   8.245,2,   0.019,     -999.0,   0.0040,   0.150,     2.1743,-999.000
  316N138_4,       P06C,      89,          1,          5,        131,2,19920605,       1845,   -32.4945,  -122.6642,       2218,  1916.0,   2.1688,  34.6260,2,  34.6264,2,    157.1,2,   156.6,2,  105.89,2,   35.22,2,    0.00,2,    2.45,2,-999.000,9,-999.000,9,  -999.0,9,  -999.0,9,-999.000,9,-999.0000,9, -999.00,9, -999.00,9,  -999.0,9,  -999.0,-999.000,9,-999.000,     -999.0,-999.0000,-999.000,     2.0369,-999.000
  316N138_4,       P06C,      89,          1,          4,        104,2,19920605,       1845,   -32.4945,  -122.6642,       2218,  2092.0,   2.0393,  34.6424,2,  34.6427,2,    155.0,2,   156.6,2,  111.38,2,   35.22,2,    0.00,2,    2.46,2,-999.000,9,-999.000,9,  2295.3,2,  1139.6,2,-999.000,9,   2.0370,2,   19.84,2, -999.00,9,  -999.0,9,  -999.0,   8.536,2,   0.020,      20.80,   0.0040,   0.150,     1.8944,-999.000
  316N138_4,       P06C,      89,          1,          3,        130,2,19920605,       1845,   -32.4945,  -122.6642,       2218,  2217.2,   1.9610,  34.6509,2,  34.6506,2,    155.7,2,   156.1,2,  114.59,2,   35.21,2,    0.01,2,    2.46,2,-999.000,9,-999.000,9,  -999.0,9,  -999.0,9,-999.000,9,   1.9330,2,   21.29,2, -999.00,9,  -999.0,9,  -999.0,   8.188,2,   0.019,     -999.0,   0.0040,   0.150,     1.8066,-999.000
  316N138_4,       P06C,      89,          1,          2,        135,2,19920605,       1845,   -32.4945,  -122.6642,       2218,  2369.3,   1.8923,  34.6603,2,  34.6578,2,    156.8,2,   157.8,2,  117.44,2,   35.17,2,    0.00,2,    2.45,2,-999.000,9,-999.000,9,  -999.0,9,  -999.0,9,-999.000,9,   1.9630,2,   21.01,2, -999.00,9,  -999.0,9,  -999.0,   8.287,2,   0.019,     -999.0,   0.0040,   0.150,     1.7257,-999.000
  316N138_4,       P06C,      89,          1,          1,        134,2,19920605,       1845,   -32.4945,  -122.6642,       2218,  2390.7,   1.8806,  34.6588,2,  34.6608,2,    157.5,2,   158.5,2,  117.81,2,   35.16,2,    0.01,2,    2.45,2,-999.000,9,-999.000,9,  2298.4,6,  -999.0,9,-999.000,9,   1.9670,2,   21.35,2, -999.00,9,  -999.0,9,  -999.0,   8.338,2,   0.019,     -999.0,   0.0040,   0.150,     1.7124,-999.000