BOTTLE,20211025CCHSIORKP
EXPOCODE,SECT_ID,STNNBR,CASTNO,SAMPNO,BTLNBR,BTLNBR_FLAG_W,DATE,TIME,LATITUDE,LONGITUDE,DEPTH,CTDPRS,CTDTMP,CTDSAL,CTDSAL_FLAG_W,SALNTY,SALNTY_FLAG_W,CTDOXY,CTDOXY_FLAG_W,OXYGEN,OXYGEN_FLAG_W,SILCAT,SILCAT_FLAG_W,NITRAT,NITRAT_FLAG_W,NITRIT,NITRIT_FLAG_W,PHSPHT,PHSPHT_FLAG_W,CFC-11,CFC-11_FLAG_W,CFC-12,CFC-12_FLAG_W,TCARBN,TCARBN_FLAG_W,PCO2,PCO2_FLAG_W,TRITUM,TRITUM_FLAG_W,HELIUM,HELIUM_FLAG_W,DELHE3,DELHE3_FLAG_W,DELC13,DELC13_FLAG_W,DELC14,DELC14_FLAG_W,C14ERR,NEON,NEON_FLAG_W,NEONER,PCO2TMP,HELIER,DELHER,THETA,TRITER
,,,,,,,,,,,METERS,DBAR,ITS-90,PSS-78,,PSS-78,,UMOL/KG,,UMOL/KG,,UMOL/KG,,UMOL/KG,,UMOL/KG,,UMOL/KG,,PMOL/KG,,PMOL/KG,,UMOL/KG,,UATM,,TU,,NMOL/KG,,PERCNT,,/MILLE,,/MILLE,,/MILLE,NMOL/KG,,NMOL/KG,DEG_C,NMOL/KG,PERCNT,ITS-90,TU
  316N138_4,       P06C,     142,          1,         35,    02-9454,2,19920623,       1139,   -32.5072,  -161.1507,       5135,    22.2,  17.6963,  35.4379,2,  35.4360,2,    300.0,3,   236.8,2,    0.47,2,    0.01,2,    0.00,2,    0.12,2,-999.000,5,-999.000,5,  -999.0,9,  -999.0,9,-999.000,9,-999.0000,9, -999.00,9, -999.00,9,  -999.0,9,  -999.0,-999.000,9,-999.000,     -999.0,-999.0000,-999.000,    17.6925,-999.000
  316N138_4,       P06C,     142,          1,         34,    02-9457,2,19920623,       1139,   -32.5072,  -161.1507,       5135,    62.2,  17.6867,  35.4407,2,  35.4354,2,    235.0,2,   235.2,2,    0.48,2,    0.00,2,    0.00,2,    0.13,2,-999.000,5,-999.000,5,  -999.0,9,  -999.0,9,-999.000,9,-999.0000,9, -999.00,9, -999.00,9,  -999.0,9,  -999.0,-999.000,9,-999.000,     -999.0,-999.0000,-999.000,    17.6761,-999.000
  316N138_4,       P06C,     142,          1,         33,    02-5367,2,19920623,       1139,   -32.5072,  -161.1507,       5135,   111.5,  17.3288,  35.4029,2,  35.4005,2,    233.4,2,   235.7,2,    0.48,2,    0.00,2,    0.00,2,    0.15,2,-999.000,5,-999.000,5,  -999.0,9,  -999.0,9,-999.000,9,-999.0000,9, -999.00,9, -999.00,9,  -999.0,9,  -999.0,-999.000,9,-999.000,     -999.0,-999.0000,-999.000,    17.3101,-999.000
  316N138_4,       P06C,     142,          1,         32,    02-9540,2,19920623,       1139,   -32.5072,  -161.1507,       5135,   207.1,  14.7032,  35.2459,2,  35.2337,2,    209.6,2,   217.5,2,    1.08,2,    3.91,2,    0.01,2,    0.44,2,-999.000,5,-999.000,5,  -999.0,9,  -999.0,9,-999.000,9,-999.0000,9, -999.00,9, -999.00,9,  -999.0,9,  -999.0,-999.000,9,-999.000,     -999.0,-999.0000,-999.000,    14.6722,-999.000
  316N138_4,       P06C,     142,          1,         31,    02-9539,2,19920623,       1139,   -32.5072,  -161.1507,       5135,   255.6,  13.0714,  35.0570,2,  35.0583,2,    199.7,2,   201.5,2,    2.15,2,    9.02,2,    0.01,2,    0.72,2,-999.000,5,-999.000,5,  -999.0,9,  -999.0,9,-999.000,9,-999.0000,9, -999.00,9, -999.00,9,  -999.0,9,  -999.0,-999.000,9,-999.000,     -999.0,-999.0000,-999.000,    13.0360,-999.000
  316N138_4,       P06C,     142,          1,         30,    02-9456,2,19920623,       1139,   -32.5072,  -161.1507,       5135,   303.7,  11.5293,  34.8764,2,  34.8690,2,    200.6,2,   202.8,2,    3.06,2,   12.74,2,    0.01,2,    0.95,2,-999.000,5,-999.000,5,  -999.0,9,  -999.0,9,-999.000,9,-999.0000,9, -999.00,9, -999.00,9,  -999.0,9,  -999.0,-999.000,9,-999.000,     -999.0,-999.0000,-999.000,    11.4906,-999.000
  316N138_4,       P06C,     142,          1,         29,    02-9458,2,19920623,       1139,   -32.5072,  -161.1507,       5135,   353.1,  10.3714,  34.7510,2,  34.7392,2,    206.6,2,   207.1,2,    3.67,2,   14.78,2,    0.01,2,    1.05,2,-999.000,5,-999.000,5,  -999.0,9,  -999.0,9,-999.000,9,-999.0000,9, -999.00,9, -999.00,9,  -999.0,9,  -999.0,-999.000,9,-999.000,     -999.0,-999.0000,-999.000,    10.3293,-999.000
  316N138_4,       P06C,     142,          1,         28,    02-9545,2,19920623,       1139,   -32.5072,  -161.1507,       5135,   401.4,   9.0469,  34.6337,2,  34.6066,2,    217.1,2,   216.9,2,    4.28,2,   17.24,2,    0.01,2,    1.20,2,-999.000,5,-999.000,5,  -999.0,9,  -999.0,9,-999.000,9,-999.0000,9, -999.00,9, -999.00,9,  -999.0,9,  -999.0,-999.000,9,-999.000,     -999.0,-999.0000,-999.000,     9.0029,-999.000
  316N138_4,       P06C,     142,          1,         27,    02-9453,2,19920623,       1139,   -32.5072,  -161.1507,       5135,   501.1,   7.8550,  34.4899,2,  34.4889,2,    231.9,2,   230.7,2,    5.49,2,   19.90,2,    0.01,2,    1.36,2,-999.000,5,-999.000,5,  -999.0,9,  -999.0,9,-999.000,9,-999.0000,9, -999.00,9, -999.00,9,  -999.0,9,  -999.0,-999.000,9,-999.000,     -999.0,-999.0000,-999.000,     7.8042,-999.000
  316N138_4,       P06C,     142,          1,         26,    02-9544,2,19920623,       1139,   -32.5072,  -161.1507,       5135,   595.4,   7.2617,  34.4352,2,  34.4343,2,    238.3,2,   237.0,2,    6.55,2,   21.33,2,    0.01,2,    1.44,2,-999.000,5,-999.000,5,  -999.0,9,  -999.0,9,-999.000,9,-999.0000,9, -999.00,9, -999.00,9,  -999.0,9,  -999.0,-999.000,9,-999.000,     -999.0,-999.0000,-999.000,     7.2036,-999.000
  316N138_4,       P06C,     142,          1,         25,    02-9455,2,19920623,       1139,   -32.5072,  -161.1507,       5135,   691.2,   6.7869,  34.3966,2,  34.3943,2,    238.9,2,   236.4,2,    8.07,2,   22.72,2,    0.01,2,    1.54,2,-999.000,5,-999.000,5,  -999.0,9,  -999.0,9,-999.000,9,-999.0000,9, -999.00,9, -999.00,9,  -999.0,9,  -999.0,-999.000,9,-999.000,     -999.0,-999.0000,-999.000,     6.7216,-999.000
  316N138_4,       P06C,     142,          1,         24,        132,2,19920623,       1139,   -32.5072,  -161.1507,       5135,   790.7,   6.2359,  34.3535,2,  34.3513,2,    236.3,2,   234.5,2,   10.80,2,   24.51,2,    0.02,2,    1.65,2,-999.000,5,-999.000,5,  -999.0,9,  -999.0,9,-999.000,9,-999.0000,9, -999.00,9, -999.00,9,  -999.0,9,  -999.0,-999.000,9,-999.000,     -999.0,-999.0000,-999.000,     6.1640,-999.000
  316N138_4,       P06C,     142,          1,         23,        123,2,19920623,       1139,   -32.5072,  -161.1507,       5135,   886.5,   5.6850,  34.3285,2,  34.3290,2,    228.9,2,   221.4,2,   15.66,2,   26.77,2,    0.02,2,    1.79,2,-999.000,5,-999.000,5,  -999.0,9,  -999.0,9,-999.000,9,-999.0000,9, -999.00,9, -999.00,9,  -999.0,9,  -999.0,-999.000,9,-999.000,     -999.0,-999.0000,-999.000,     5.6076,-999.000
  316N138_4,       P06C,     142,          1,         22,        128,2,19920623,       1139,   -32.5072,  -161.1507,       5135,   982.8,   5.0765,  34.3262,2,  34.3260,2,    215.3,2,   209.2,2,   23.08,2,   29.05,2,    0.02,2,    1.95,2,-999.000,5,-999.000,5,  -999.0,9,  -999.0,9,-999.000,9,-999.0000,9, -999.00,9, -999.00,9,  -999.0,9,  -999.0,-999.000,9,-999.000,     -999.0,-999.0000,-999.000,     4.9945,-999.000
  316N138_4,       P06C,     142,          1,         21,        121,2,19920623,       1139,   -32.5072,  -161.1507,       5135,  1177.2,   3.9713,  34.3670,2,  34.3664,2,    193.7,2,   191.0,2,   41.27,2,   32.37,2,    0.02,2,    2.17,2,-999.000,5,-999.000,5,  -999.0,9,  -999.0,9,-999.000,9,-999.0000,9, -999.00,9, -999.00,9,  -999.0,9,  -999.0,-999.000,9,-999.000,     -999.0,-999.0000,-999.000,     3.8813,-999.000
  316N138_4,       P06C,     142,          1,         20,        120,2,19920623,       1139,   -32.5072,  -161.1507,       5135,  1371.1,   3.2524,  34.4437,2,  34.4410,2,    176.8,2,   176.3,2,   58.83,2,   33.84,2,    0.01,2,    2.31,2,-999.000,5,-999.000,5,  -999.0,9,  -999.0,9,-999.000,9,-999.0000,9, -999.00,9, -999.00,9,  -999.0,9,  -999.0,-999.000,9,-999.000,     -999.0,-999.0000,-999.000,     3.1528,-999.000
  316N138_4,       P06C,     142,          1,         19,        133,2,19920623,       1139,   -32.5072,  -161.1507,       5135,  1570.9,   2.7720,  34.5410,2,  34.5398,2,    164.7,2,   163.5,2,   81.08,2,   34.63,2,    0.00,2,    2.40,2,-999.000,5,-999.000,5,  -999.0,9,  -999.0,9,-999.000,9,-999.0000,9, -999.00,9, -999.00,9,  -999.0,9,  -999.0,-999.000,9,-999.000,     -999.0,-999.0000,-999.000,     2.6611,-999.000
  316N138_4,       P06C,     142,          1,         18,        118,2,19920623,       1139,   -32.5072,  -161.1507,       5135,  1765.4,   2.5078,  34.5925,2,  34.5920,2,    156.9,2,   155.1,2,   96.96,2,   35.03,2,    0.01,2,    2.46,2,-999.000,5,-999.000,5,  -999.0,9,  -999.0,9,-999.000,9,-999.0000,9, -999.00,9, -999.00,9,  -999.0,9,  -999.0,-999.000,9,-999.000,     -999.0,-999.0000,-999.000,     2.3839,-999.000
  316N138_4,       P06C,     142,          1,         17,        117,2,19920623,       1139,   -32.5072,  -161.1507,       5135,  1967.0,   2.3207,  34.6194,2,  34.6187,2,    151.9,2,   152.2,2,  107.09,2,   35.36,2,    0.01,2,    2.51,2,-999.000,5,-999.000,5,  -999.0,9,  -999.0,9,-999.000,9,-999.0000,9, -999.00,9, -999.00,9,  -999.0,9,  -999.0,-999.000,9,-999.000,     -999.0,-999.0000,-999.000,     2.1823,-999.000
  316N138_4,       P06C,     142,          1,         16,        116,2,19920623,       1139,   -32.5072,  -161.1507,       5135,  2162.5,   2.1731,  34.6356,2,  34.6354,2,    149.4,2,   148.7,2,  115.38,2,   35.65,2,    0.01,2,    2.52,2,-999.000,5,-999.000,5,  -999.0,9,  -999.0,9,-999.000,9,-999.0000,9, -999.00,9, -999.00,9,  -999.0,9,  -999.0,-999.000,9,-999.000,     -999.0,-999.0000,-999.000,     2.0200,-999.000
  316N138_4,       P06C,     142,          1,         15,        115,2,19920623,       1139,   -32.5072,  -161.1507,       5135,  2362.2,   2.0532,  34.6467,2,  34.6466,2,    147.4,2,   147.0,2,  121.56,2,   35.98,2,    0.00,2,    2.56,2,-999.000,5,-999.000,5,  -999.0,9,  -999.0,9,-999.000,9,-999.0000,9, -999.00,9, -999.00,9,  -999.0,9,  -999.0,-999.000,9,-999.000,     -999.0,-999.0000,-999.000,     1.8844,-999.000
  316N138_4,       P06C,     142,          1,         14,        114,2,19920623,       1139,   -32.5072,  -161.1507,       5135,  2564.1,   1.9554,  34.6555,2,  34.6549,2,    147.4,2,   146.5,2,  126.22,2,   36.07,2,    0.00,2,    2.58,2,-999.000,5,-999.000,5,  -999.0,9,  -999.0,9,-999.000,9,-999.0000,9, -999.00,9, -999.00,9,  -999.0,9,  -999.0,-999.000,9,-999.000,     -999.0,-999.0000,-999.000,     1.7701,-999.000
  316N138_4,       P06C,     142,          1,         13,        125,2,19920623,       1139,   -32.5072,  -161.1507,       5135,  2564.1,   1.9554,  34.6555,2,  34.6549,3,    147.4,2,   146.0,2,  126.03,2,   36.14,2,    0.00,2,    2.57,2,-999.000,5,-999.000,5,  -999.0,9,  -999.0,9,-999.000,9,-999.0000,9, -999.00,9, -999.00,9,  -999.0,9,  -999.0,-999.000,9,-999.000,     -999.0,-999.0000,-999.000,     1.7701,-999.000
  316N138_4,       P06C,     142,          1,         12,        112,2,19920623,       1139,   -32.5072,  -161.1507,       5135,  2959.9,   1.8311,  34.6677,2,  34.6673,2,    149.8,2,   151.4,2,  129.48,2,   35.99,2,   -0.01,2,    2.55,2,-999.000,5,-999.000,5,  -999.0,9,  -999.0,9,-999.000,9,-999.0000,9, -999.00,9, -999.00,9,  -999.0,9,  -999.0,-999.000,9,-999.000,     -999.0,-999.0000,-999.000,     1.6109,-999.000
  316N138_4,       P06C,     142,          1,         11,        129,2,19920623,       1139,   -32.5072,  -161.1507,       5135,  3163.8,   1.7595,  34.6758,2,  34.6787,2,    154.7,2,   153.9,2,  129.14,2,   35.62,2,    0.00,2,    2.53,2,-999.000,5,-999.000,5,  -999.0,9,  -999.0,9,-999.000,9,-999.0000,9, -999.00,9, -999.00,9,  -999.0,9,  -999.0,-999.000,9,-999.000,     -999.0,-999.0000,-999.000,     1.5209,-999.000
  316N138_4,       P06C,     142,          1,         10,        110,2,19920623,       1139,   -32.5072,  -161.1507,       5135,  3366.7,   1.6985,  34.6872,2,  34.6877,2,    163.7,2,   162.7,2,  124.73,2,   34.92,2,   -0.01,2,    2.48,2,-999.000,5,-999.000,5,  -999.0,9,  -999.0,9,-999.000,9,-999.0000,9, -999.00,9, -999.00,9,  -999.0,9,  -999.0,-999.000,9,-999.000,     -999.0,-999.0000,-999.000,     1.4411,-999.000
  316N138_4,       P06C,     142,          1,          9,        126,2,19920623,       1139,   -32.5072,  -161.1507,       5135,  3366.7,   1.6985,  34.6872,2,  34.6859,2,    163.7,2,   162.4,2,  124.70,2,   34.95,2,    0.01,2,    2.48,2,-999.000,5,-999.000,5,  -999.0,9,  -999.0,9,-999.000,9,-999.0000,9, -999.00,9, -999.00,9,  -999.0,9,  -999.0,-999.000,9,-999.000,     -999.0,-999.0000,-999.000,     1.4411,-999.000
  316N138_4,       P06C,     142,          1,          8,        108,2,19920623,       1139,   -32.5072,  -161.1507,       5135,  3568.7,   1.6295,  34.7004,2,  34.6999,2,    175.5,2,   174.2,2,  118.48,2,   33.97,2,    0.01,2,    2.40,2,-999.000,5,-999.000,5,  -999.0,9,  -999.0,9,-999.000,9,-999.0000,9, -999.00,9, -999.00,9,  -999.0,9,  -999.0,-999.000,9,-999.000,     -999.0,-999.0000,-999.000,     1.3530,-999.000
  316N138_4,       P06C,     142,          1,          7,        107,2,19920623,       1139,   -32.5072,  -161.1507,       5135,  3970.2,   1.4041,  34.7174,2,  34.7172,2,    196.2,2,   195.6,2,  111.95,2,   32.45,2,    0.01,2,    2.29,2,-999.000,5,-999.000,5,  -999.0,9,  -999.0,9,-999.000,9,-999.0000,9, -999.00,9, -999.00,9,  -999.0,9,  -999.0,-999.000,9,-999.000,     -999.0,-999.0000,-999.000,     1.0908,-999.000
  316N138_4,       P06C,     142,          1,          6,        180,2,19920623,       1139,   -32.5072,  -161.1507,       5135,  4174.3,   1.2514,  34.7180,2,  34.7170,2,    201.7,2,   201.4,2,  113.44,2,   32.20,2,    0.01,2,    2.28,2,-999.000,5,-999.000,5,  -999.0,9,  -999.0,9,-999.000,9,-999.0000,9, -999.00,9, -999.00,9,  -999.0,9,  -999.0,-999.000,9,-999.000,     -999.0,-999.0000,-999.000,     0.9204,-999.000
  316N138_4,       P06C,     142,          1,          5,        131,2,19920623,       1139,   -32.5072,  -161.1507,       5135,  4376.6,   1.1479,  34.7153,2,  34.7144,2,    204.4,2,   202.9,2,  116.12,2,   32.29,2,    0.01,2,    2.28,2,-999.000,5,-999.000,5,  -999.0,9,  -999.0,9,-999.000,9,-999.0000,9, -999.00,9, -999.00,9,  -999.0,9,  -999.0,-999.000,9,-999.000,     -999.0,-999.0000,-999.000,     0.7976,-999.000
  316N138_4,       P06C,     142,          1,          4,        104,2,19920623,       1139,   -32.5072,  -161.1507,       5135,  4577.3,   1.0733,  34.7111,2,  34.7129,2,    205.6,2,   209.6,4,  118.66,2,   32.32,2,    0.01,2,    2.29,2,-999.000,5,-999.000,5,  -999.0,9,  -999.0,9,-999.000,9,-999.0000,9, -999.00,9, -999.00,9,  -999.0,9,  -999.0,-999.000,9,-999.000,     -999.0,-999.0000,-999.000,     0.7027,-999.000
  316N138_4,       P06C,     142,          1,          3,        130,2,19920623,       1139,   -32.5072,  -161.1507,       5135,  4778.5,   1.0430,  34.7106,2,  34.7111,2,    206.2,2,   205.0,2,  118.94,2,   32.29,2,    0.01,2,    2.29,2,-999.000,5,-999.000,5,  -999.0,9,  -999.0,9,-999.000,9,-999.0000,9, -999.00,9, -999.00,9,  -999.0,9,  -999.0,-999.000,9,-999.000,     -999.0,-999.0000,-999.000,     0.6502,-999.000
  316N138_4,       P06C,     142,          1,          2,        135,2,19920623,       1139,   -32.5072,  -161.1507,       5135,  4986.2,   1.0418,  34.7090,2,  34.7101,2,    207.3,2,   206.0,2,  120.12,2,   32.29,2,    0.01,2,    2.27,2,-999.000,5,-999.000,5,  -999.0,9,  -999.0,9,-999.000,9,-999.0000,9, -999.00,9, -999.00,9,  -999.0,9,  -999.0,-999.000,9,-999.000,     -999.0,-999.0000,-999.000,     0.6247,-999.000
  316N138_4,       P06C,     142,          1,          1,        134,2,19920623,       1139,   -32.5072,  -161.1507,       5135,  5222.2,   1.0610,  34.7085,2,  34.7091,2,    205.1,2,   206.7,2,  120.97,2,   32.14,2,    0.01,2,    2.25,2,-999.000,5,-999.000,5,  -999.0,9,  -999.0,9,-999.000,9,-999.0000,9, -999.00,9, -999.00,9,  -999.0,9,  -999.0,-999.000,9,-999.000,     -999.0,-999.0000,-999.000,     0.6148,-999.000