BOTTLE,20211025CCHSIORKP
EXPOCODE,SECT_ID,STNNBR,CASTNO,SAMPNO,BTLNBR,BTLNBR_FLAG_W,DATE,TIME,LATITUDE,LONGITUDE,DEPTH,CTDPRS,CTDTMP,CTDSAL,CTDSAL_FLAG_W,SALNTY,SALNTY_FLAG_W,CTDOXY,CTDOXY_FLAG_W,OXYGEN,OXYGEN_FLAG_W,SILCAT,SILCAT_FLAG_W,NITRAT,NITRAT_FLAG_W,NITRIT,NITRIT_FLAG_W,PHSPHT,PHSPHT_FLAG_W,CFC-11,CFC-11_FLAG_W,CFC-12,CFC-12_FLAG_W,TCARBN,TCARBN_FLAG_W,PCO2,PCO2_FLAG_W,TRITUM,TRITUM_FLAG_W,HELIUM,HELIUM_FLAG_W,DELHE3,DELHE3_FLAG_W,DELC13,DELC13_FLAG_W,DELC14,DELC14_FLAG_W,C14ERR,NEON,NEON_FLAG_W,NEONER,PCO2TMP,HELIER,DELHER,THETA,TRITER
,,,,,,,,,,,METERS,DBAR,ITS-90,PSS-78,,PSS-78,,UMOL/KG,,UMOL/KG,,UMOL/KG,,UMOL/KG,,UMOL/KG,,UMOL/KG,,PMOL/KG,,PMOL/KG,,UMOL/KG,,UATM,,TU,,NMOL/KG,,PERCNT,,/MILLE,,/MILLE,,/MILLE,NMOL/KG,,NMOL/KG,DEG_C,NMOL/KG,PERCNT,ITS-90,TU
  316N138_4,       P06C,      78,          1,         36,    02-9121,2,19920602,       1459,   -32.5003,  -115.3352,       3219,    13.9,  20.5815,  35.5040,2,  35.5056,2,    226.5,2,   224.2,2,    0.23,2,    0.04,2,    0.00,2,    0.11,2,-999.000,9,-999.000,9,  2016.7,6,   335.5,2,-999.000,9,-999.0000,9, -999.00,9, -999.00,9,  -999.0,9,  -999.0,-999.000,9,-999.000,      20.00,-999.0000,-999.000,    20.5789,-999.000
  316N138_4,       P06C,      78,          1,         35,    02-9454,2,19920602,       1459,   -32.5003,  -115.3352,       3219,    54.2,  20.5895,  35.5031,2,  35.5044,2,    225.3,2,   224.5,2,    0.08,2,    0.03,2,    0.00,2,    0.12,2,-999.000,9,-999.000,9,  2016.4,2,  -999.0,9,-999.000,9,-999.0000,9, -999.00,9, -999.00,9,  -999.0,9,  -999.0,-999.000,9,-999.000,     -999.0,-999.0000,-999.000,    20.5793,-999.000
  316N138_4,       P06C,      78,          1,         34,    02-9457,2,19920602,       1459,   -32.5003,  -115.3352,       3219,    83.7,  20.5875,  35.5024,2,  35.5062,2,    223.0,2,   224.2,2,    0.25,2,    0.03,2,    0.00,2,    0.12,2,-999.000,9,-999.000,9,  2016.5,2,   321.7,2,-999.000,9,-999.0000,9, -999.00,9, -999.00,9,  -999.0,9,  -999.0,-999.000,9,-999.000,      20.00,-999.0000,-999.000,    20.5717,-999.000
  316N138_4,       P06C,      78,          1,         33,    02-5367,2,19920602,       1459,   -32.5003,  -115.3352,       3219,   113.7,  19.0311,  35.3465,2,  35.3437,2,    232.2,2,   237.8,2,    0.25,2,    0.02,2,    0.01,2,    0.13,2,   2.430,2,   1.259,2,  2020.3,2,  -999.0,9,-999.000,9,-999.0000,9, -999.00,9, -999.00,9,  -999.0,9,  -999.0,-999.000,9,-999.000,     -999.0,-999.0000,-999.000,    19.0108,-999.000
  316N138_4,       P06C,      78,          1,         32,    02-9540,2,19920602,       1459,   -32.5003,  -115.3352,       3219,   145.0,  17.9645,  35.2493,2,  35.2580,2,    228.7,2,   231.3,2,    0.26,2,    0.07,2,    0.01,2,    0.16,2,-999.000,9,-999.000,9,  2026.8,2,   386.9,2,-999.000,9,-999.0000,9, -999.00,9, -999.00,9,  -999.0,9,  -999.0,-999.000,9,-999.000,      20.00,-999.0000,-999.000,    17.9396,-999.000
  316N138_4,       P06C,      78,          1,         31,    02-9539,2,19920602,       1459,   -32.5003,  -115.3352,       3219,   175.3,  17.1516,  35.1593,2,  35.1498,2,    221.1,2,   222.2,2,    0.27,2,    0.31,2,    0.13,2,    0.22,2,-999.000,9,-999.000,9,  2039.8,2,  -999.0,9,-999.000,9,-999.0000,9, -999.00,9, -999.00,9,  -999.0,9,  -999.0,-999.000,9,-999.000,     -999.0,-999.0000,-999.000,    17.1225,-999.000
  316N138_4,       P06C,      78,          1,         30,    02-9456,2,19920602,       1459,   -32.5003,  -115.3352,       3219,   204.5,  16.5182,  35.1171,2,  35.1085,2,    214.3,2,   212.0,2,    0.44,2,    1.71,2,    0.13,2,    0.32,2,-999.000,9,-999.000,9,  2052.7,2,   426.7,2,-999.000,9,-999.0000,9, -999.00,9, -999.00,9,  -999.0,9,  -999.0,-999.000,9,-999.000,      20.00,-999.0000,-999.000,    16.4851,-999.000
  316N138_4,       P06C,      78,          1,         29,    02-9458,2,19920602,       1459,   -32.5003,  -115.3352,       3219,   253.8,  14.8814,  34.9647,2,  34.9683,2,    204.7,2,   202.0,2,    0.93,2,    5.48,2,    0.01,2,    0.56,2,   2.074,2,   1.068,2,  2070.5,2,  -999.0,9,-999.000,9,-999.0000,9, -999.00,9, -999.00,9,  -999.0,9,  -999.0,-999.000,9,-999.000,     -999.0,-999.0000,-999.000,    14.8431,-999.000
  316N138_4,       P06C,      78,          1,         28,    02-9545,2,19920602,       1459,   -32.5003,  -115.3352,       3219,   355.6,  10.8446,  34.5531,2,  34.5392,2,    210.9,2,   207.7,2,    2.55,2,   14.43,2,    0.01,2,    1.08,2,-999.000,9,-999.000,9,  2105.3,2,   675.5,2,-999.000,9,-999.0000,9, -999.00,9, -999.00,9,  -999.0,9,  -999.0,-999.000,9,-999.000,      20.00,-999.0000,-999.000,    10.8010,-999.000
  316N138_4,       P06C,      78,          1,         27,    02-9453,2,19920602,       1459,   -32.5003,  -115.3352,       3219,   455.6,   7.7353,  34.3698,2,  34.3780,2,    220.1,2,   221.2,2,    5.63,2,   21.37,2,    0.01,2,    1.48,2,   1.514,2,   0.751,2,  2132.1,2,  -999.0,9,-999.000,9,-999.0000,9, -999.00,9, -999.00,9,  -999.0,9,  -999.0,-999.000,9,-999.000,     -999.0,-999.0000,-999.000,     7.6898,-999.000
  316N138_4,       P06C,      78,          1,         26,    02-9544,2,19920602,       1459,   -32.5003,  -115.3352,       3219,   556.8,   6.6129,  34.3465,2,  34.3490,2,    236.9,2,   238.0,2,    7.40,2,   22.90,2,    0.00,2,    1.57,2,   1.350,6,   0.672,6,  2136.1,2,   806.8,2,-999.000,9,-999.0000,9, -999.00,9, -999.00,9,  -999.0,9,  -999.0,-999.000,9,-999.000,      20.00,-999.0000,-999.000,     6.5616,-999.000
  316N138_4,       P06C,      78,          1,         25,    02-9455,2,19920602,       1459,   -32.5003,  -115.3352,       3219,   601.8,   6.3438,  34.3353,2,  34.3333,2,    241.8,2,   242.0,2,    8.06,2,   23.42,2,    0.01,2,    1.59,2,-999.000,9,-999.000,9,  2136.7,2,  -999.0,9,-999.000,9,-999.0000,9, -999.00,9, -999.00,9,  -999.0,9,  -999.0,-999.000,9,-999.000,     -999.0,-999.0000,-999.000,     6.2894,-999.000
  316N138_4,       P06C,      78,          1,         24,        132,2,19920602,       1459,   -32.5003,  -115.3352,       3219,   653.3,   6.0348,  34.3125,2,  34.3136,2,    244.6,2,   243.6,2,    8.88,2,   23.97,2,    0.01,2,    1.64,2,   0.919,2,   0.472,2,  2137.5,2,   804.5,2,-999.000,9,-999.0000,9, -999.00,9, -999.00,9,  -999.0,9,  -999.0,-999.000,9,-999.000,      20.00,-999.0000,-999.000,     5.9770,-999.000
  316N138_4,       P06C,      78,          1,         23,        123,2,19920602,       1459,   -32.5003,  -115.3352,       3219,   717.2,   5.7546,  34.2970,2,  34.2982,2,    244.9,2,   243.7,2,   10.01,2,   24.69,2,    0.01,2,    1.67,2,   0.772,2,   0.434,2,  2139.3,2,  -999.0,9,-999.000,9,-999.0000,9, -999.00,9, -999.00,9,  -999.0,9,  -999.0,-999.000,9,-999.000,     -999.0,-999.0000,-999.000,     5.6924,-999.000
  316N138_4,       P06C,      78,          1,         22,        128,2,19920602,       1459,   -32.5003,  -115.3352,       3219,   759.7,   5.5901,  34.2883,2,  34.2897,2,    244.0,2,   242.1,2,   10.99,2,   25.33,2,    0.01,2,    1.73,2,-999.000,9,-999.000,9,  2142.8,2,   831.1,2,-999.000,9,-999.0000,9, -999.00,9, -999.00,9,  -999.0,9,  -999.0,-999.000,9,-999.000,      20.00,-999.0000,-999.000,     5.5249,-999.000
  316N138_4,       P06C,      78,          1,         21,        121,2,19920602,       1459,   -32.5003,  -115.3352,       3219,   809.9,   5.3810,  34.2798,2,  34.2793,2,    239.9,2,   238.0,2,   12.45,2,   26.09,2,    0.01,2,    1.79,2,   0.533,2,   0.293,2,  2147.5,2,  -999.0,9,-999.000,9,-999.0000,9, -999.00,9, -999.00,9,  -999.0,9,  -999.0,-999.000,9,-999.000,     -999.0,-999.0000,-999.000,     5.3125,-999.000
  316N138_4,       P06C,      78,          1,         20,        120,3,19920602,       1459,   -32.5003,  -115.3352,       3219,   865.2,   5.0709,  34.2766,2,  34.3776,4,    231.0,2,   228.8,2,   12.94,2,   24.57,4,    0.00,4,    1.68,4,-999.000,9,-999.000,9,  2143.1,2,   800.6,2,-999.000,9,-999.0000,9, -999.00,9, -999.00,9,  -999.0,9,  -999.0,-999.000,9,-999.000,      20.00,-999.0000,-999.000,     4.9995,-999.000
  316N138_4,       P06C,      78,          1,         19,        133,2,19920602,       1459,   -32.5003,  -115.3352,       3219,   919.7,   4.7888,  34.2833,2,  34.2793,2,    219.7,2,   215.6,2,   20.05,2,   29.28,2,    0.00,2,    1.98,2,-999.000,9,-999.000,9,  2168.5,2,  -999.0,9,-999.000,9,-999.0000,9, -999.00,9, -999.00,9,  -999.0,9,  -999.0,-999.000,9,-999.000,     -999.0,-999.0000,-999.000,     4.7145,-999.000
  316N138_4,       P06C,      78,          1,         18,        118,2,19920602,       1459,   -32.5003,  -115.3352,       3219,  1030.5,   4.2601,  34.3213,2,  34.3158,2,    192.9,2,   188.7,2,   32.32,2,   32.43,2,    0.00,2,    2.21,2,-999.000,9,-999.000,9,  2198.8,6,  1095.4,2,-999.000,9,-999.0000,9, -999.00,9, -999.00,9,  -999.0,9,  -999.0,-999.000,9,-999.000,      20.00,-999.0000,-999.000,     4.1802,-999.000
  316N138_4,       P06C,      78,          1,         17,        117,2,19920602,       1459,   -32.5003,  -115.3352,       3219,  1095.4,   4.0220,  34.3495,2,  34.3446,2,    180.2,3,   172.7,2,   39.75,2,   33.94,2,    0.00,2,    2.31,2,   0.030,2,   0.030,3,  2212.8,2,  -999.0,9,-999.000,9,-999.0000,9, -999.00,9, -999.00,9,  -999.0,9,  -999.0,-999.000,9,-999.000,     -999.0,-999.0000,-999.000,     3.9385,-999.000
  316N138_4,       P06C,      78,          1,         16,        116,2,19920602,       1459,   -32.5003,  -115.3352,       3219,  1184.3,   3.7139,  34.4006,2,  34.3927,2,    162.7,3,   156.4,2,   50.89,2,   35.65,2,    0.00,2,    2.43,2,-999.000,9,-999.000,9,  2235.3,2,  1221.6,2,-999.000,9,-999.0000,9, -999.00,9, -999.00,9,  -999.0,9,  -999.0,-999.000,9,-999.000,      20.00,-999.0000,-999.000,     3.6255,-999.000
  316N138_4,       P06C,      78,          1,         15,        115,2,19920602,       1459,   -32.5003,  -115.3352,       3219,  1259.4,   3.4804,  34.4532,3,  34.4387,2,    145.9,2,   142.4,2,   61.39,2,   36.93,2,    0.00,2,    2.52,2,   0.003,2,   0.009,2,  2254.2,2,  -999.0,9,-999.000,9,-999.0000,9, -999.00,9, -999.00,9,  -999.0,9,  -999.0,-999.000,9,-999.000,     -999.0,-999.0000,-999.000,     3.3878,-999.000
  316N138_4,       P06C,      78,          1,         14,        114,2,19920602,       1459,   -32.5003,  -115.3352,       3219,  1344.4,   3.3083,  34.4852,3,  34.4750,2,    138.1,2,   134.9,2,   70.11,2,   37.49,2,    0.00,2,    2.58,2,-999.000,9,-999.000,9,  2265.7,2,  1302.8,2,-999.000,9,-999.0000,9, -999.00,9, -999.00,9,  -999.0,9,  -999.0,-999.000,9,-999.000,      20.00,-999.0000,-999.000,     3.2102,-999.000
  316N138_4,       P06C,      78,          1,         13,        125,2,19920602,       1459,   -32.5003,  -115.3352,       3219,  1419.5,   3.1203,  34.5128,2,  34.5042,2,    137.9,3,   133.5,2,   76.90,2,   37.54,2,    0.00,2,    2.59,2,-999.000,9,-999.000,9,  2273.6,2,  -999.0,9,-999.000,9,-999.0000,9, -999.00,9, -999.00,9,  -999.0,9,  -999.0,-999.000,9,-999.000,     -999.0,-999.0000,-999.000,     3.0179,-999.000
  316N138_4,       P06C,      78,          1,         12,        112,2,19920602,       1459,   -32.5003,  -115.3352,       3219,  1610.7,   2.6256,  34.5610,2,  34.5386,4,    155.3,2,   155.0,2,   80.62,3,   35.63,2,    0.00,2,    2.45,2,   0.002,2,   0.003,2,  2265.4,2,  1258.1,2,-999.000,9,-999.0000,9, -999.00,9, -999.00,9,  -999.0,9,  -999.0,-999.000,9,-999.000,      20.00,-999.0000,-999.000,     2.5131,-999.000
  316N138_4,       P06C,      78,          1,         11,        129,2,19920602,       1459,   -32.5003,  -115.3352,       3219,  1719.3,   2.4400,  34.5887,2,  34.5865,2,    157.7,2,   157.8,2,   91.43,2,   35.24,2,    0.00,2,    2.44,2,-999.000,9,-999.000,9,  2273.5,2,  -999.0,9,-999.000,9,-999.0000,9, -999.00,9, -999.00,9,  -999.0,9,  -999.0,-999.000,9,-999.000,     -999.0,-999.0000,-999.000,     2.3208,-999.000
  316N138_4,       P06C,      78,          1,         10,        110,2,19920602,       1459,   -32.5003,  -115.3352,       3219,  1873.8,   2.2570,  34.6181,2,  34.6152,2,    157.3,2,   157.3,2,  100.15,2,   35.12,2,    0.00,2,    2.43,2,  -0.002,2,   0.007,2,  2281.4,2,  -999.0,9,-999.000,9,-999.0000,9, -999.00,9, -999.00,9,  -999.0,9,  -999.0,-999.000,9,-999.000,     -999.0,-999.0000,-999.000,     2.1274,-999.000
  316N138_4,       P06C,      78,          1,          9,        126,2,19920602,       1459,   -32.5003,  -115.3352,       3219,  2032.7,   2.1054,  34.6356,2,  34.6339,2,    156.1,2,   156.1,2,  108.72,2,   35.22,2,    0.01,2,    2.45,2,-999.000,9,-999.000,9,  2290.3,2,  1178.8,2,-999.000,9,-999.0000,9, -999.00,9, -999.00,9,  -999.0,9,  -999.0,-999.000,9,-999.000,      20.00,-999.0000,-999.000,     1.9646,-999.000
  316N138_4,       P06C,      78,          1,          8,        108,2,19920602,       1459,   -32.5003,  -115.3352,       3219,  2192.1,   1.9839,  34.6485,2,  34.6455,2,    156.6,2,   156.3,2,  113.88,2,   35.23,2,    0.00,2,    2.46,2,-999.000,9,-999.000,9,  2294.9,2,  -999.0,9,-999.000,9,-999.0000,9, -999.00,9, -999.00,9,  -999.0,9,  -999.0,-999.000,9,-999.000,     -999.0,-999.0000,-999.000,     1.8313,-999.000
  316N138_4,       P06C,      78,          1,          7,        107,2,19920602,       1459,   -32.5003,  -115.3352,       3219,  2297.0,   1.9204,  34.6558,2,  34.6527,2,    157.0,2,   157.0,2,  116.64,2,   35.22,2,    0.00,2,    2.45,2,   0.003,2,   0.005,2,  2296.8,2,  -999.0,9,-999.000,9,-999.0000,9, -999.00,9, -999.00,9,  -999.0,9,  -999.0,-999.000,9,-999.000,     -999.0,-999.0000,-999.000,     1.7597,-999.000
  316N138_4,       P06C,      78,          1,          6,        180,2,19920602,       1459,   -32.5003,  -115.3352,       3219,  2464.4,   1.8459,  34.6625,2,  34.6798,4,    158.6,2,   158.7,2,  119.23,2,   35.21,2,    0.01,2,    2.44,2,-999.000,9,-999.000,9,  2298.6,2,  1148.6,2,-999.000,9,-999.0000,9, -999.00,9, -999.00,9,  -999.0,9,  -999.0,-999.000,9,-999.000,      20.00,-999.0000,-999.000,     1.6716,-999.000
  316N138_4,       P06C,      78,          1,          5,        131,2,19920602,       1459,   -32.5003,  -115.3352,       3219,  2612.5,   1.8029,  34.6665,2,  34.6682,2,    160.3,2,   160.3,2,  120.53,2,   35.03,2,    0.01,2,    2.43,2,-999.000,9,-999.000,9,  2298.8,2,  -999.0,9,-999.000,9,-999.0000,9, -999.00,9, -999.00,9,  -999.0,9,  -999.0,-999.000,9,-999.000,     -999.0,-999.0000,-999.000,     1.6160,-999.000
  316N138_4,       P06C,      78,          1,          4,        104,2,19920602,       1459,   -32.5003,  -115.3352,       3219,  2820.8,   1.7704,  34.6711,2,  34.6700,2,    162.3,2,   162.2,2,  121.35,2,   34.93,2,    0.00,2,    2.42,2,-999.000,5,-999.000,5,  2298.6,2,  -999.0,9,-999.000,9,-999.0000,9, -999.00,9, -999.00,9,  -999.0,9,  -999.0,-999.000,9,-999.000,     -999.0,-999.0000,-999.000,     1.5647,-999.000
  316N138_4,       P06C,      78,          1,          3,        130,2,19920602,       1459,   -32.5003,  -115.3352,       3219,  2981.2,   1.7704,  34.6720,2,  34.6737,2,    163.3,2,   162.7,2,  121.53,2,   34.91,2,    0.01,2,    2.42,2,   0.007,2,-999.000,5,  2299.1,2,  1092.4,2,-999.000,9,-999.0000,9, -999.00,9, -999.00,9,  -999.0,9,  -999.0,-999.000,9,-999.000,      20.00,-999.0000,-999.000,     1.5494,-999.000
  316N138_4,       P06C,      78,          1,          2,        135,2,19920602,       1459,   -32.5003,  -115.3352,       3219,  3191.7,   1.7789,  34.6738,2,  34.6732,2,    164.1,2,   162.8,2,  121.54,2,   34.86,2,    0.01,2,    2.43,2,-999.000,9,-999.000,9,  2298.7,2,  -999.0,9,-999.000,9,-999.0000,9, -999.00,9, -999.00,9,  -999.0,9,  -999.0,-999.000,9,-999.000,     -999.0,-999.0000,-999.000,     1.5371,-999.000
  316N138_4,       P06C,      78,          1,          1,        134,2,19920602,       1459,   -32.5003,  -115.3352,       3219,  3258.5,   1.7829,  34.6739,2,  34.6728,2,    163.1,2,   162.1,2,  121.87,2,   34.74,2,    0.01,2,    2.44,2,   0.003,2,   0.005,2,  2298.3,6,  1065.7,2,-999.000,9,-999.0000,9, -999.00,9, -999.00,9,  -999.0,9,  -999.0,-999.000,9,-999.000,      20.00,-999.0000,-999.000,     1.5343,-999.000