BOTTLE,20211025CCHSIORKP
EXPOCODE,SECT_ID,STNNBR,CASTNO,SAMPNO,BTLNBR,BTLNBR_FLAG_W,DATE,TIME,LATITUDE,LONGITUDE,DEPTH,CTDPRS,CTDTMP,CTDSAL,CTDSAL_FLAG_W,SALNTY,SALNTY_FLAG_W,CTDOXY,CTDOXY_FLAG_W,OXYGEN,OXYGEN_FLAG_W,SILCAT,SILCAT_FLAG_W,NITRAT,NITRAT_FLAG_W,NITRIT,NITRIT_FLAG_W,PHSPHT,PHSPHT_FLAG_W,CFC-11,CFC-11_FLAG_W,CFC-12,CFC-12_FLAG_W,TCARBN,TCARBN_FLAG_W,PCO2,PCO2_FLAG_W,TRITUM,TRITUM_FLAG_W,HELIUM,HELIUM_FLAG_W,DELHE3,DELHE3_FLAG_W,DELC13,DELC13_FLAG_W,DELC14,DELC14_FLAG_W,C14ERR,NEON,NEON_FLAG_W,NEONER,PCO2TMP,HELIER,DELHER,THETA,TRITER
,,,,,,,,,,,METERS,DBAR,ITS-90,PSS-78,,PSS-78,,UMOL/KG,,UMOL/KG,,UMOL/KG,,UMOL/KG,,UMOL/KG,,UMOL/KG,,PMOL/KG,,PMOL/KG,,UMOL/KG,,UATM,,TU,,NMOL/KG,,PERCNT,,/MILLE,,/MILLE,,/MILLE,NMOL/KG,,NMOL/KG,DEG_C,NMOL/KG,PERCNT,ITS-90,TU
  316N138_4,       P06C,     137,          1,         36,    02-9121,2,19920622,       0412,   -32.5088,  -158.1572,       5656,    29.0,  17.2365,  35.2882,2,  35.2930,2,    229.9,2,   236.4,2,    0.48,2,    0.01,2,    0.00,2,    0.13,2,-999.000,5,-999.000,5,  2031.8,6,  -999.0,9,-999.000,9,-999.0000,9, -999.00,9, -999.00,9,  -999.0,9,  -999.0,-999.000,9,-999.000,     -999.0,-999.0000,-999.000,    17.2316,-999.000
  316N138_4,       P06C,     137,          1,         35,    02-9454,2,19920622,       0412,   -32.5088,  -158.1572,       5656,    64.5,  17.2332,  35.2843,2,  35.2822,2,    233.4,2,   237.6,2,    0.77,2,    0.01,2,    0.00,2,    0.15,2,-999.000,5,-999.000,5,  2032.3,2,  -999.0,9,-999.000,9,-999.0000,9, -999.00,9, -999.00,9,  -999.0,9,  -999.0,-999.000,9,-999.000,     -999.0,-999.0000,-999.000,    17.2224,-999.000
  316N138_4,       P06C,     137,          1,         34,    02-9457,2,19920622,       0412,   -32.5088,  -158.1572,       5656,   107.4,  17.1768,  35.2861,2,  35.2948,2,    229.9,2,   235.6,2,    0.61,2,    0.05,2,    0.01,2,    0.16,2,-999.000,5,-999.000,5,  2035.5,2,  -999.0,9,-999.000,9,-999.0000,9, -999.00,9, -999.00,9,  -999.0,9,  -999.0,-999.000,9,-999.000,     -999.0,-999.0000,-999.000,    17.1589,-999.000
  316N138_4,       P06C,     137,          1,         33,    02-5367,2,19920622,       0412,   -32.5088,  -158.1572,       5656,   204.9,  13.9228,  35.1536,2,  35.1551,2,    209.6,2,   206.1,2,    1.96,2,    7.00,2,    0.00,2,    0.62,2,-999.000,5,-999.000,5,  2088.1,2,  -999.0,9,-999.000,9,-999.0000,9, -999.00,9, -999.00,9,  -999.0,9,  -999.0,-999.000,9,-999.000,     -999.0,-999.0000,-999.000,    13.8933,-999.000
  316N138_4,       P06C,     137,          1,         32,    02-9540,2,19920622,       0412,   -32.5088,  -158.1572,       5656,   310.9,  10.4715,  34.7568,2,  34.7565,2,    209.4,2,   206.7,2,    3.59,2,   14.99,2,    0.00,2,    1.05,2,-999.000,5,-999.000,5,  2117.0,2,  -999.0,9,-999.000,9,-999.0000,9, -999.00,9, -999.00,9,  -999.0,9,  -999.0,-999.000,9,-999.000,     -999.0,-999.0000,-999.000,    10.4343,-999.000
  316N138_4,       P06C,     137,          1,         31,    02-9539,2,19920622,       0412,   -32.5088,  -158.1572,       5656,   415.9,   8.4539,  34.5416,2,  34.5415,2,    223.8,2,   224.0,2,    4.94,2,   18.91,2,    0.00,2,    1.31,2,-999.000,5,-999.000,5,  2126.4,2,  -999.0,9,-999.000,9,-999.0000,9, -999.00,9, -999.00,9,  -999.0,9,  -999.0,-999.000,9,-999.000,     -999.0,-999.0000,-999.000,     8.4101,-999.000
  316N138_4,       P06C,     137,          1,         30,    02-9456,2,19920622,       0412,   -32.5088,  -158.1572,       5656,   518.3,   7.5486,  34.4582,2,  34.4603,2,    238.5,2,   235.6,2,    6.13,2,   20.90,2,    0.00,2,    1.41,2,-999.000,5,-999.000,5,  2130.0,2,  -999.0,9,-999.000,9,-999.0000,9, -999.00,9, -999.00,9,  -999.0,9,  -999.0,-999.000,9,-999.000,     -999.0,-999.0000,-999.000,     7.4972,-999.000
  316N138_4,       P06C,     137,          1,         29,    02-9458,2,19920622,       0412,   -32.5088,  -158.1572,       5656,   620.0,   7.0590,  34.4162,2,  34.4177,2,    240.7,2,   238.0,2,    7.18,2,   21.94,2,    0.00,2,    1.48,2,-999.000,5,-999.000,5,  2132.6,2,  -999.0,9,-999.000,9,-999.0000,9, -999.00,9, -999.00,9,  -999.0,9,  -999.0,-999.000,9,-999.000,     -999.0,-999.0000,-999.000,     6.9994,-999.000
  316N138_4,       P06C,     137,          1,         28,    02-9545,2,19920622,       0412,   -32.5088,  -158.1572,       5656,   720.5,   6.4877,  34.3705,2,  34.3692,2,    239.6,2,   236.5,2,    9.42,2,   23.55,2,    0.00,2,    1.59,2,-999.000,5,-999.000,5,  2138.4,2,  -999.0,9,-999.000,9,-999.0000,9, -999.00,9, -999.00,9,  -999.0,9,  -999.0,-999.000,9,-999.000,     -999.0,-999.0000,-999.000,     6.4212,-999.000
  316N138_4,       P06C,     137,          1,         27,    02-9453,2,19920622,       0412,   -32.5088,  -158.1572,       5656,   821.6,   5.9400,  34.3168,2,  34.3372,2,    232.5,2,   228.5,2,   13.00,2,   25.29,2,    0.01,2,    1.72,2,-999.000,5,-999.000,5,  2149.2,2,  -999.0,9,-999.000,9,-999.0000,9, -999.00,9, -999.00,9,  -999.0,9,  -999.0,-999.000,9,-999.000,     -999.0,-999.0000,-999.000,     5.8669,-999.000
  316N138_4,       P06C,     137,          1,         26,    02-9544,2,19920622,       0412,   -32.5088,  -158.1572,       5656,   921.0,   5.3654,  34.3220,2,  34.3235,2,    221.6,2,   217.1,2,   19.13,2,   27.54,2,   -0.01,2,    1.87,2,-999.000,5,-999.000,5,  2164.5,2,  -999.0,9,-999.000,9,-999.0000,9, -999.00,9, -999.00,9,  -999.0,9,  -999.0,-999.000,9,-999.000,     -999.0,-999.0000,-999.000,     5.2869,-999.000
  316N138_4,       P06C,     137,          1,         25,    02-9455,2,19920622,       0412,   -32.5088,  -158.1572,       5656,  1022.2,   4.8436,  34.3275,2,  34.3291,2,    207.0,2,   205.4,2,   26.31,2,   29.41,2,    0.00,2,    1.99,2,-999.000,5,-999.000,5,  2180.5,2,  -999.0,9,-999.000,9,   1.8900,2,    1.19,2, -999.00,9,  -999.0,9,  -999.0,   8.226,2,   0.019,     -999.0,   0.0040,   0.150,     4.7598,-999.000
  316N138_4,       P06C,     137,          1,         24,        132,2,19920622,       0412,   -32.5088,  -158.1572,       5656,  1225.0,   3.6790,  34.3806,2,  34.3859,2,    187.6,2,   186.8,2,   46.20,2,   32.60,2,   -0.01,2,    2.24,2,-999.000,5,-999.000,5,  2216.6,6,  -999.0,9,-999.000,9,-999.0000,9, -999.00,9, -999.00,9,  -999.0,9,  -999.0,-999.000,9,-999.000,     -999.0,-999.0000,-999.000,     3.5875,-999.000
  316N138_4,       P06C,     137,          1,         23,        123,2,19920622,       0412,   -32.5088,  -158.1572,       5656,  1425.5,   2.9792,  34.4969,2,  34.4877,2,    172.3,2,   169.8,2,   68.34,2,   34.05,2,   -0.01,2,    2.37,2,-999.000,5,-999.000,5,  2245.8,2,  -999.0,9,-999.000,9,   1.9290,2,    9.23,2, -999.00,9,  -999.0,9,  -999.0,   8.346,2,   0.019,     -999.0,   0.0040,   0.150,     2.8780,-999.000
  316N138_4,       P06C,     137,          1,         22,        128,2,19920622,       0412,   -32.5088,  -158.1572,       5656,  1630.0,   2.6293,  34.5657,2,  34.5683,2,    160.9,2,   160.4,2,   88.39,2,   34.69,2,   -0.01,2,    2.44,2,-999.000,5,-999.000,5,  2271.3,2,  -999.0,9,-999.000,9,   1.9630,2,   14.33,2, -999.00,9,  -999.0,9,  -999.0,   8.409,2,   0.019,     -999.0,   0.0040,   0.150,     2.5151,-999.000
  316N138_4,       P06C,     137,          1,         21,        121,2,19920622,       0412,   -32.5088,  -158.1572,       5656,  1830.2,   2.3851,  34.6082,2,  34.6101,2,    155.2,2,   153.3,2,  102.91,2,   35.18,2,    0.00,2,    2.50,2,-999.000,5,-999.000,5,  2288.5,2,  -999.0,9,-999.000,9,   1.9920,2,   19.06,2, -999.00,9,  -999.0,9,  -999.0,   8.448,2,   0.019,     -999.0,   0.0040,   0.150,     2.2574,-999.000
  316N138_4,       P06C,     137,          1,         20,        120,2,19920622,       0412,   -32.5088,  -158.1572,       5656,  2030.7,   2.1998,  34.6296,2,  34.6319,2,    151.3,2,   149.9,2,  112.64,2,   35.71,2,    0.00,2,    2.52,2,-999.000,5,-999.000,5,  2299.3,2,  -999.0,9,-999.000,9,-999.0000,9, -999.00,9, -999.00,9,  -999.0,9,  -999.0,-999.000,9,-999.000,     -999.0,-999.0000,-999.000,     2.0577,-999.000
  316N138_4,       P06C,     137,          1,         19,        133,2,19920622,       0412,   -32.5088,  -158.1572,       5656,  2235.4,   2.0842,  34.6395,2,  34.6435,2,    148.1,2,   147.9,2,  119.54,2,   36.16,2,    0.00,2,    2.57,2,-999.000,5,-999.000,5,  2307.8,2,  -999.0,9,-999.000,9,   2.0180,2,   24.30,2, -999.00,9,  -999.0,9,  -999.0,   8.480,2,   0.019,     -999.0,   0.0040,   0.150,     1.9262,-999.000
  316N138_4,       P06C,     137,          1,         18,        118,2,19920622,       0412,   -32.5088,  -158.1572,       5656,  2440.3,   1.9754,  34.6496,2,  34.6523,2,    147.8,2,   146.9,2,  124.63,2,   36.43,2,    0.00,2,    2.57,2,-999.000,5,-999.000,5,  2311.8,6,  -999.0,9,-999.000,9,   2.0140,2,   24.28,2, -999.00,9,  -999.0,9,  -999.0,   8.470,2,   0.019,     -999.0,   0.0040,   0.150,     1.8010,-999.000
  316N138_4,       P06C,     137,          1,         17,        117,2,19920622,       0412,   -32.5088,  -158.1572,       5656,  2641.1,   1.9017,  34.6563,2,  34.6596,2,    148.2,2,   147.1,2,  127.50,2,   36.54,2,    0.00,2,    2.59,2,-999.000,5,-999.000,5,  -999.0,9,  -999.0,9,-999.000,9,   2.0150,2,   23.74,2, -999.00,9,  -999.0,9,  -999.0,   8.510,2,   0.019,     -999.0,   0.0040,   0.150,     1.7103,-999.000
  316N138_4,       P06C,     137,          1,         16,        116,2,19920622,       0412,   -32.5088,  -158.1572,       5656,  2842.3,   1.8366,  34.6628,2,  34.6647,2,    149.6,2,   152.4,4,  129.45,2,   36.56,2,    0.00,2,    2.58,2,-999.000,5,-999.000,5,  2314.7,2,  -999.0,9,-999.000,9,   2.0010,2,   22.94,2, -999.00,9,  -999.0,9,  -999.0,   8.420,2,   0.019,     -999.0,   0.0040,   0.150,     1.6276,-999.000
  316N138_4,       P06C,     137,          1,         15,        115,2,19920622,       0412,   -32.5088,  -158.1572,       5656,  3044.2,   1.7700,  34.6693,2,  34.6714,2,    152.2,2,   151.7,2,  130.51,2,   36.35,2,    0.00,2,    2.57,2,-999.000,5,-999.000,5,  2313.1,2,  -999.0,9,-999.000,9,   2.0020,2,   21.95,2, -999.00,9,  -999.0,9,  -999.0,   8.480,2,   0.019,     -999.0,   0.0040,   0.150,     1.5430,-999.000
  316N138_4,       P06C,     137,          1,         14,        114,2,19920622,       0412,   -32.5088,  -158.1572,       5656,  3247.7,   1.7171,  34.6756,2,  34.6783,2,    157.3,2,   157.0,2,  128.88,2,   35.75,2,    0.00,2,    2.53,2,-999.000,5,-999.000,5,  2307.8,2,  -999.0,9,   0.004,2,   2.0050,2,   19.71,2, -999.00,9,  -999.0,9,  -999.0,   8.559,2,   0.020,     -999.0,   0.0040,   0.150,     1.4711,   0.002
  316N138_4,       P06C,     137,          1,         13,        125,2,19920622,       0412,   -32.5088,  -158.1572,       5656,  3451.6,   1.6477,  34.6868,2,  34.6889,2,    166.6,2,   166.0,2,  125.30,2,   34.69,2,    0.00,2,    2.48,2,-999.000,5,-999.000,5,  2298.6,2,  -999.0,9,-999.000,9,-999.0000,9, -999.00,9, -999.00,9,  -999.0,9,  -999.0,-999.000,9,-999.000,     -999.0,-999.0000,-999.000,     1.3828,-999.000
  316N138_4,       P06C,     137,          1,         12,        112,2,19920622,       0412,   -32.5088,  -158.1572,       5656,  3655.6,   1.5792,  34.6993,2,  34.7017,2,    177.1,2,   176.9,2,  120.51,2,   33.34,2,    0.00,2,    2.40,2,-999.000,5,-999.000,5,  2286.2,2,  -999.0,9,   0.000,2,   1.9900,2,   14.51,2, -999.00,9,  -999.0,9,  -999.0,   8.526,2,   0.020,     -999.0,   0.0040,   0.150,     1.2948,   0.002
  316N138_4,       P06C,     137,          1,         11,        129,2,19920622,       0412,   -32.5088,  -158.1572,       5656,  3855.5,   1.4950,  34.7078,2,  34.7107,2,    187.8,2,   188.3,2,  115.13,2,   32.18,2,    0.00,2,    2.32,2,-999.000,5,-999.000,5,  2273.7,2,  -999.0,9,-999.000,9,-999.0000,9, -999.00,9, -999.00,9,  -999.0,9,  -999.0,-999.000,9,-999.000,     -999.0,-999.0000,-999.000,     1.1917,-999.000
  316N138_4,       P06C,     137,          1,         10,        110,2,19920622,       0412,   -32.5088,  -158.1572,       5656,  4061.3,   1.3791,  34.7138,2,  34.7199,3,    196.0,2,   196.2,2,  113.95,2,   31.54,2,    0.00,2,    2.29,2,-999.000,5,-999.000,5,  2266.0,2,  -999.0,9,-999.000,9,   2.0020,2,    9.80,2, -999.00,9,  -999.0,9,  -999.0,   8.596,2,   0.020,     -999.0,   0.0040,   0.150,     1.0567,-999.000
  316N138_4,       P06C,     137,          1,          9,        126,2,19920622,       0412,   -32.5088,  -158.1572,       5656,  4264.5,   1.2672,  34.7127,2,  34.7150,2,    201.0,2,   199.7,2,  115.16,2,   31.39,2,   -0.01,2,    2.28,2,-999.000,5,-999.000,5,  2263.7,2,  -999.0,9,-999.000,9,-999.0000,9, -999.00,9, -999.00,9,  -999.0,9,  -999.0,-999.000,9,-999.000,     -999.0,-999.0000,-999.000,     0.9258,-999.000
  316N138_4,       P06C,     137,          1,          8,        108,2,19920622,       0412,   -32.5088,  -158.1572,       5656,  4464.4,   1.1903,  34.7130,2,  34.7144,2,    204.0,2,   202.5,2,  116.51,2,   31.32,2,   -0.01,2,    2.26,2,-999.000,5,-999.000,5,  2262.4,2,  -999.0,9,-999.000,9,-999.0000,9, -999.00,9, -999.00,9,  -999.0,9,  -999.0,-999.000,9,-999.000,     -999.0,-999.0000,-999.000,     0.8288,-999.000
  316N138_4,       P06C,     137,          1,          7,        107,2,19920622,       0412,   -32.5088,  -158.1572,       5656,  4667.2,   1.1143,  34.7091,2,  34.7123,2,    206.1,2,   205.2,2,  118.62,2,   31.44,2,   -0.01,2,    2.28,2,-999.000,5,-999.000,5,  2262.8,2,  -999.0,9,-999.000,9,   1.9780,2,    7.75,2, -999.00,9,  -999.0,9,  -999.0,   8.555,2,   0.020,     -999.0,   0.0040,   0.150,     0.7320,-999.000
  316N138_4,       P06C,     137,          1,          6,        180,2,19920622,       0412,   -32.5088,  -158.1572,       5656,  4870.0,   1.0742,  34.7078,2,  34.7103,2,    206.7,2,   206.0,2,  120.14,2,   31.49,2,    0.00,2,    2.27,2,-999.000,5,-999.000,5,  2262.4,2,  -999.0,9,-999.000,9,-999.0000,9, -999.00,9, -999.00,9,  -999.0,9,  -999.0,-999.000,9,-999.000,     -999.0,-999.0000,-999.000,     0.6696,-999.000
  316N138_4,       P06C,     137,          1,          5,        131,2,19920622,       0412,   -32.5088,  -158.1572,       5656,  5071.8,   1.0772,  34.7071,2,  34.7093,2,    207.0,2,   206.8,2,  120.60,2,   31.61,2,    0.00,2,    2.29,2,-999.000,5,-999.000,5,  2263.0,2,  -999.0,9,-999.000,9,   1.9690,2,    7.45,2, -999.00,9,  -999.0,9,  -999.0,   8.564,2,   0.020,     -999.0,   0.0040,   0.150,     0.6485,-999.000
  316N138_4,       P06C,     137,          1,          4,        104,2,19920622,       0412,   -32.5088,  -158.1572,       5656,  5275.4,   1.0915,  34.7063,2,  34.7095,2,    207.5,2,   207.0,2,  121.05,2,   31.63,2,    0.01,2,    2.28,2,   0.002,2,  -0.002,2,  2262.7,2,  -999.0,9,-999.000,9,-999.0000,9, -999.00,9, -999.00,9,  -999.0,9,  -999.0,-999.000,9,-999.000,     -999.0,-999.0000,-999.000,     0.6376,-999.000
  316N138_4,       P06C,     137,          1,          3,        130,2,19920622,       0412,   -32.5088,  -158.1572,       5656,  5477.6,   1.1133,  34.7056,2,  34.7085,2,    207.6,2,   207.0,2,  120.77,2,   31.85,2,    0.01,2,    2.28,2,   0.002,2,   0.003,2,  2262.6,2,  -999.0,9,-999.000,9,-999.0000,9, -999.00,9, -999.00,9,  -999.0,9,  -999.0,-999.000,9,-999.000,     -999.0,-999.0000,-999.000,     0.6335,-999.000
  316N138_4,       P06C,     137,          1,          2,        135,2,19920622,       0412,   -32.5088,  -158.1572,       5656,  5682.0,   1.1393,  34.7058,2,  34.7085,2,    207.3,2,   206.1,2,  120.93,2,   31.90,2,    0.02,2,    2.29,2,   0.005,2,   0.006,2,  2263.4,2,  -999.0,9,-999.000,9,   1.9800,2,    7.81,2, -999.00,9,  -999.0,9,  -999.0,   8.604,2,   0.020,     -999.0,   0.0040,   0.150,     0.6326,-999.000
  316N138_4,       P06C,     137,          1,          1,        134,2,19920622,       0412,   -32.5088,  -158.1572,       5656,  5794.3,   1.1554,  34.4894,3,  34.7099,2,    207.1,2,   206.7,2,  120.65,2,   32.29,2,    0.00,2,    2.28,2,   0.007,6,   0.011,6,  2263.3,6,  -999.0,9,-999.000,9,-999.0000,9, -999.00,9, -999.00,9,  -999.0,9,  -999.0,-999.000,9,-999.000,     -999.0,-999.0000,-999.000,     0.6356,-999.000