BOTTLE,20211025CCHSIORKP
EXPOCODE,SECT_ID,STNNBR,CASTNO,SAMPNO,BTLNBR,BTLNBR_FLAG_W,DATE,TIME,LATITUDE,LONGITUDE,DEPTH,CTDPRS,CTDTMP,CTDSAL,CTDSAL_FLAG_W,SALNTY,SALNTY_FLAG_W,CTDOXY,CTDOXY_FLAG_W,OXYGEN,OXYGEN_FLAG_W,SILCAT,SILCAT_FLAG_W,NITRAT,NITRAT_FLAG_W,NITRIT,NITRIT_FLAG_W,PHSPHT,PHSPHT_FLAG_W,CFC-11,CFC-11_FLAG_W,CFC-12,CFC-12_FLAG_W,TCARBN,TCARBN_FLAG_W,PCO2,PCO2_FLAG_W,TRITUM,TRITUM_FLAG_W,HELIUM,HELIUM_FLAG_W,DELHE3,DELHE3_FLAG_W,DELC13,DELC13_FLAG_W,DELC14,DELC14_FLAG_W,C14ERR,NEON,NEON_FLAG_W,NEONER,PCO2TMP,HELIER,DELHER,THETA,TRITER
,,,,,,,,,,,METERS,DBAR,ITS-90,PSS-78,,PSS-78,,UMOL/KG,,UMOL/KG,,UMOL/KG,,UMOL/KG,,UMOL/KG,,UMOL/KG,,PMOL/KG,,PMOL/KG,,UMOL/KG,,UATM,,TU,,NMOL/KG,,PERCNT,,/MILLE,,/MILLE,,/MILLE,NMOL/KG,,NMOL/KG,DEG_C,NMOL/KG,PERCNT,ITS-90,TU
  316N138_4,       P06C,     119,          1,         36,    02-9121,2,19920615,       2330,   -32.5227,  -143.1505,       5376,    21.1,  18.8140,  35.3319,2,  35.3281,2,    284.2,3,   229.7,2,    0.44,2,   -0.01,2,    0.02,2,    0.11,2,-999.000,9,-999.000,9,  2022.9,6,   334.0,2,-999.000,9,-999.0000,9, -999.00,9, -999.00,9,  -999.0,9,  -999.0,-999.000,9,-999.000,      20.20,-999.0000,-999.000,    18.8103,-999.000
  316N138_4,       P06C,     119,          1,         35,    02-9454,2,19920615,       2330,   -32.5227,  -143.1505,       5376,    60.8,  18.8437,  35.3489,2,  35.3470,2,    228.2,2,   271.1,3,    0.44,2,   -0.01,2,    0.02,2,    0.11,2,-999.000,9,-999.000,9,  2023.8,2,  -999.0,9,-999.000,9,-999.0000,9, -999.00,9, -999.00,9,  -999.0,9,  -999.0,-999.000,9,-999.000,     -999.0,-999.0000,-999.000,    18.8330,-999.000
  316N138_4,       P06C,     119,          1,         34,    02-9457,2,19920615,       2330,   -32.5227,  -143.1505,       5376,   110.2,  16.5659,  35.3405,2,  35.2769,2,    242.3,2,   242.6,2,    0.44,2,    0.00,2,    0.02,2,    0.17,2,-999.000,9,-999.000,9,  2039.0,2,   369.6,6,-999.000,9,-999.0000,9, -999.00,9, -999.00,9,  -999.0,9,  -999.0,-999.000,9,-999.000,      20.20,-999.0000,-999.000,    16.5481,-999.000
  316N138_4,       P06C,     119,          1,         33,    02-5367,2,19920615,       2330,   -32.5227,  -143.1505,       5376,   160.7,  15.3425,  35.1717,2,  35.1632,2,    228.1,2,   227.5,2,    0.73,2,    1.30,2,    0.10,2,    0.29,2,-999.000,9,-999.000,9,  2054.4,2,  -999.0,9,-999.000,9,-999.0000,9, -999.00,9, -999.00,9,  -999.0,9,  -999.0,-999.000,9,-999.000,     -999.0,-999.0000,-999.000,    15.3178,-999.000
  316N138_4,       P06C,     119,          1,         32,    02-9540,2,19920615,       2330,   -32.5227,  -143.1505,       5376,   210.3,  14.0675,  35.0518,2,  35.0429,2,    223.1,2,   213.1,2,    1.31,2,    5.30,2,    0.02,2,    0.53,2,-999.000,9,-999.000,9,  2076.0,2,   449.7,2,-999.000,9,-999.0000,9, -999.00,9, -999.00,9,  -999.0,9,  -999.0,-999.000,9,-999.000,      20.20,-999.0000,-999.000,    14.0370,-999.000
  316N138_4,       P06C,     119,          1,         31,    02-9539,2,19920615,       2330,   -32.5227,  -143.1505,       5376,   259.6,  12.3210,  34.9093,2,  34.8989,2,    211.1,2,   201.8,2,    2.33,2,   10.60,2,    0.01,2,    0.83,2,-999.000,9,-999.000,9,  2100.8,2,  -999.0,9,-999.000,9,-999.0000,9, -999.00,9, -999.00,9,  -999.0,9,  -999.0,-999.000,9,-999.000,     -999.0,-999.0000,-999.000,    12.2866,-999.000
  316N138_4,       P06C,     119,          1,         30,    02-9456,2,19920615,       2330,   -32.5227,  -143.1505,       5376,   309.9,  10.8627,  34.7413,2,  34.7480,2,    207.0,2,   202.2,2,    3.20,2,   14.02,2,    0.01,2,    1.03,2,-999.000,9,-999.000,9,  2112.8,2,  -999.0,9,-999.000,9,-999.0000,9, -999.00,9, -999.00,9,  -999.0,9,  -999.0,-999.000,9,-999.000,     -999.0,-999.0000,-999.000,    10.8247,-999.000
  316N138_4,       P06C,     119,          1,         29,    02-9458,2,19920615,       2330,   -32.5227,  -143.1505,       5376,   359.6,   9.5204,  34.5833,2,  34.6160,2,    210.4,2,   207.6,2,    4.08,2,   16.91,2,    0.01,2,    1.20,2,-999.000,9,-999.000,9,  2122.8,2,   669.1,2,-999.000,9,-999.0000,9, -999.00,9, -999.00,9,  -999.0,9,  -999.0,-999.000,9,-999.000,      20.20,-999.0000,-999.000,     9.4798,-999.000
  316N138_4,       P06C,     119,          1,         28,    02-9545,2,19920615,       2330,   -32.5227,  -143.1505,       5376,   409.5,   8.2609,  34.5024,2,  34.5005,2,    221.4,2,   222.4,2,    4.82,2,   18.97,2,    0.01,2,    1.32,2,-999.000,9,-999.000,9,  2128.2,2,  -999.0,9,-999.000,9,-999.0000,9, -999.00,9, -999.00,9,  -999.0,9,  -999.0,-999.000,9,-999.000,     -999.0,-999.0000,-999.000,     8.2184,-999.000
  316N138_4,       P06C,     119,          1,         27,    02-9453,2,19920615,       2330,   -32.5227,  -143.1505,       5376,   508.6,   7.3146,  34.4278,2,  34.4283,2,    237.2,2,   218.1,4,    6.12,2,   20.81,2,    0.00,2,    1.42,2,-999.000,9,-999.000,9,  2131.4,2,   722.1,2,-999.000,9,-999.0000,9, -999.00,9, -999.00,9,  -999.0,9,  -999.0,-999.000,9,-999.000,      20.20,-999.0000,-999.000,     7.2652,-999.000
  316N138_4,       P06C,     119,          1,         26,    02-9544,2,19920615,       2330,   -32.5227,  -143.1505,       5376,   605.8,   6.7785,  34.3858,2,  34.3829,2,    240.9,2,   238.9,2,    7.44,2,   22.09,2,    0.00,2,    1.50,2,-999.000,9,-999.000,9,  2134.1,2,  -999.0,9,-999.000,9,-999.0000,9, -999.00,9, -999.00,9,  -999.0,9,  -999.0,-999.000,9,-999.000,     -999.0,-999.0000,-999.000,     6.7217,-999.000
  316N138_4,       P06C,     119,          1,         25,    02-9455,2,19920615,       2330,   -32.5227,  -143.1505,       5376,   809.5,   5.7686,  34.3203,2,  34.3197,2,    230.5,2,   229.0,2,   13.28,2,   25.69,2,    0.00,2,    1.72,2,-999.000,9,-999.000,9,  2149.5,2,   770.5,2,-999.000,9,-999.0000,9, -999.00,9, -999.00,9,  -999.0,9,  -999.0,-999.000,9,-999.000,      20.20,-999.0000,-999.000,     5.6978,-999.000
  316N138_4,       P06C,     119,          1,         24,        132,2,19920615,       2330,   -32.5227,  -143.1505,       5376,  1008.5,   4.6057,  34.3236,2,  34.3221,2,    205.9,2,   205.2,2,   27.86,2,   30.21,2,    0.00,2,    2.02,2,-999.000,9,-999.000,9,  2183.7,2,  -999.0,9,-999.000,9,-999.0000,9, -999.00,9, -999.00,9,  -999.0,9,  -999.0,-999.000,9,-999.000,     -999.0,-999.0000,-999.000,     4.5249,-999.000
  316N138_4,       P06C,     119,          1,         23,        123,2,19920615,       2330,   -32.5227,  -143.1505,       5376,  1202.5,   3.6052,  34.3906,2,  34.3896,2,    184.4,2,   181.7,2,   48.28,2,   33.22,2,    0.00,2,    2.24,2,-999.000,9,-999.000,9,  2218.3,2,  1089.9,2,-999.000,9,-999.0000,9, -999.00,9, -999.00,9,  -999.0,9,  -999.0,-999.000,9,-999.000,      20.20,-999.0000,-999.000,     3.5163,-999.000
  316N138_4,       P06C,     119,          1,         22,        128,2,19920615,       2330,   -32.5227,  -143.1505,       5376,  1399.1,   2.9408,  34.4848,2,  34.4834,2,    172.4,2,   169.0,2,   68.12,2,   34.33,2,   -0.01,2,    2.36,2,-999.000,9,-999.000,9,  2246.0,2,  -999.0,9,-999.000,9,-999.0000,9, -999.00,9, -999.00,9,  -999.0,9,  -999.0,-999.000,9,-999.000,     -999.0,-999.0000,-999.000,     2.8422,-999.000
  316N138_4,       P06C,     119,          1,         21,        121,2,19920615,       2330,   -32.5227,  -143.1505,       5376,  1599.9,   2.5725,  34.5617,2,  34.5602,2,    162.6,2,   161.6,2,   86.20,2,   34.79,2,   -0.01,2,    2.42,2,-999.000,9,-999.000,9,  2268.4,2,  -999.0,9,-999.000,9,-999.0000,9, -999.00,9, -999.00,9,  -999.0,9,  -999.0,-999.000,9,-999.000,     -999.0,-999.0000,-999.000,     2.4615,-999.000
  316N138_4,       P06C,     119,          1,         20,        120,3,19920615,       2330,   -32.5227,  -143.1505,       5376,  1796.8,   2.3734,  34.6015,2,  34.5997,2,    156.3,2,   156.8,2,   98.16,2,   35.02,2,   -0.01,2,    2.44,2,-999.000,9,-999.000,9,  2282.0,2,  1235.5,3,-999.000,9,-999.0000,9, -999.00,9, -999.00,9,  -999.0,9,  -999.0,-999.000,9,-999.000,      20.20,-999.0000,-999.000,     2.2487,-999.000
  316N138_4,       P06C,     119,          1,         19,        133,2,19920615,       2330,   -32.5227,  -143.1505,       5376,  1987.7,   2.1904,  34.6290,2,  34.6297,2,    153.5,2,   152.7,2,  108.81,2,   35.26,2,   -0.01,2,    2.47,2,-999.000,9,-999.000,9,  2293.2,2,  -999.0,9,-999.000,9,-999.0000,9, -999.00,9, -999.00,9,  -999.0,9,  -999.0,-999.000,9,-999.000,     -999.0,-999.0000,-999.000,     2.0521,-999.000
  316N138_4,       P06C,     119,          1,         18,        118,2,19920615,       2330,   -32.5227,  -143.1505,       5376,  2196.5,   2.0333,  34.6468,2,  34.6451,2,    152.1,2,   151.0,2,  116.25,2,   35.40,2,   -0.01,2,    2.50,2,-999.000,9,-999.000,9,  2301.4,6,  -999.0,9,-999.000,9,-999.0000,9, -999.00,9, -999.00,9,  -999.0,9,  -999.0,-999.000,9,-999.000,     -999.0,-999.0000,-999.000,     1.8795,-999.000
  316N138_4,       P06C,     119,          1,         17,        117,2,19920615,       2330,   -32.5227,  -143.1505,       5376,  2402.3,   1.9083,  34.6562,2,  34.6567,2,    152.7,2,   152.7,2,  121.35,2,   35.45,2,   -0.01,2,    2.51,2,-999.000,9,-999.000,9,  2306.1,2,  1179.7,2,-999.000,9,-999.0000,9, -999.00,9, -999.00,9,  -999.0,9,  -999.0,-999.000,9,-999.000,      20.20,-999.0000,-999.000,     1.7385,-999.000
  316N138_4,       P06C,     119,          1,         16,        116,2,19920615,       2330,   -32.5227,  -143.1505,       5376,  2607.3,   1.8055,  34.6634,2,  34.6633,2,    154.6,2,   154.0,2,  124.56,2,   35.36,2,   -0.01,2,    2.49,2,-999.000,9,-999.000,9,  2307.1,2,  -999.0,9,-999.000,9,-999.0000,9, -999.00,9, -999.00,9,  -999.0,9,  -999.0,-999.000,9,-999.000,     -999.0,-999.0000,-999.000,     1.6190,-999.000
  316N138_4,       P06C,     119,          1,         15,        115,2,19920615,       2330,   -32.5227,  -143.1505,       5376,  2808.0,   1.7281,  34.6704,2,  34.6696,2,    157.8,2,   157.3,2,  125.59,2,   35.19,2,   -0.01,2,    2.49,2,-999.000,9,-999.000,9,  2305.8,2,  -999.0,9,-999.000,9,-999.0000,9, -999.00,9, -999.00,9,  -999.0,9,  -999.0,-999.000,9,-999.000,     -999.0,-999.0000,-999.000,     1.5246,-999.000
  316N138_4,       P06C,     119,          1,         14,        114,2,19920615,       2330,   -32.5227,  -143.1505,       5376,  3009.0,   1.6780,  34.6743,2,  34.6737,2,    161.4,2,   161.7,2,  125.45,2,   35.01,2,   -0.01,2,    2.47,2,-999.000,9,-999.000,9,  2303.6,2,  1155.2,6,-999.000,9,-999.0000,9, -999.00,9, -999.00,9,  -999.0,9,  -999.0,-999.000,9,-999.000,      20.20,-999.0000,-999.000,     1.4565,-999.000
  316N138_4,       P06C,     119,          1,         13,        125,2,19920615,       2330,   -32.5227,  -143.1505,       5376,  3212.5,   1.6161,  34.6798,2,  34.6806,2,    165.4,2,   165.7,2,  125.01,2,   34.74,2,    0.00,2,    2.45,2,-999.000,9,-999.000,9,  2300.4,2,  -999.0,9,-999.000,9,-999.0000,9, -999.00,9, -999.00,9,  -999.0,9,  -999.0,-999.000,9,-999.000,     -999.0,-999.0000,-999.000,     1.3761,-999.000
  316N138_4,       P06C,     119,          1,         12,        112,2,19920615,       2330,   -32.5227,  -143.1505,       5376,  3413.9,   1.5627,  34.6837,2,  34.6840,2,    169.2,2,   170.4,2,  124.29,2,   34.42,2,    0.00,2,    2.42,2,-999.000,9,-999.000,9,  2296.8,2,  -999.0,9,-999.000,9,-999.0000,9, -999.00,9, -999.00,9,  -999.0,9,  -999.0,-999.000,9,-999.000,     -999.0,-999.0000,-999.000,     1.3037,-999.000
  316N138_4,       P06C,     119,          1,         11,        129,2,19920615,       2330,   -32.5227,  -143.1505,       5376,  3616.6,   1.5094,  34.6893,2,  34.6887,2,    173.8,2,   174.2,2,  123.71,2,   34.15,2,    0.00,2,    2.39,2,-999.000,9,-999.000,9,  2292.1,2,  1132.1,2,-999.000,9,-999.0000,9, -999.00,9, -999.00,9,  -999.0,9,  -999.0,-999.000,9,-999.000,      20.20,-999.0000,-999.000,     1.2310,-999.000
  316N138_4,       P06C,     119,          1,         10,        110,2,19920615,       2330,   -32.5227,  -143.1505,       5376,  3823.7,   1.4382,  34.6939,2,  34.6952,2,    179.7,2,   179.4,2,  122.54,2,   33.80,2,    0.00,2,    2.37,2,-999.000,9,-999.000,9,  2287.7,2,  -999.0,9,-999.000,9,-999.0000,9, -999.00,9, -999.00,9,  -999.0,9,  -999.0,-999.000,9,-999.000,     -999.0,-999.0000,-999.000,     1.1398,-999.000
  316N138_4,       P06C,     119,          1,          9,        126,2,19920615,       2330,   -32.5227,  -143.1505,       5376,  4032.9,   1.3733,  34.6993,2,  34.6989,2,    184.5,2,   184.4,2,  121.09,2,   33.39,2,    0.00,2,    2.33,2,-999.000,9,-999.000,9,  2283.1,2,  1121.4,6,-999.000,9,-999.0000,9, -999.00,9, -999.00,9,  -999.0,9,  -999.0,-999.000,9,-999.000,      20.20,-999.0000,-999.000,     1.0543,-999.000
  316N138_4,       P06C,     119,          1,          8,        108,2,19920615,       2330,   -32.5227,  -143.1505,       5376,  4245.8,   1.3170,  34.7034,2,  34.7028,2,    190.3,2,   189.4,2,  120.22,2,   33.03,2,    0.00,2,    2.32,2,-999.000,9,-999.000,9,  2278.4,2,  -999.0,9,-999.000,9,-999.0000,9, -999.00,9, -999.00,9,  -999.0,9,  -999.0,-999.000,9,-999.000,     -999.0,-999.0000,-999.000,     0.9763,-999.000
  316N138_4,       P06C,     119,          1,          7,        107,2,19920615,       2330,   -32.5227,  -143.1505,       5376,  4453.7,   1.2918,  34.7054,2,  34.7042,2,    192.8,2,   192.7,2,  119.79,2,   32.85,2,    0.00,2,    2.31,2,-999.000,9,-999.000,9,  2275.0,2,  -999.0,9,-999.000,9,-999.0000,9, -999.00,9, -999.00,9,  -999.0,9,  -999.0,-999.000,9,-999.000,     -999.0,-999.0000,-999.000,     0.9285,-999.000
  316N138_4,       P06C,     119,          1,          6,        180,2,19920615,       2330,   -32.5227,  -143.1505,       5376,  4656.1,   1.2943,  34.7067,2,  34.7046,2,    194.1,2,   194.2,2,  119.49,2,   32.77,2,    0.00,2,    2.29,2,-999.000,9,-999.000,9,  2274.2,2,  1084.4,2,-999.000,9,-999.0000,9, -999.00,9, -999.00,9,  -999.0,9,  -999.0,-999.000,9,-999.000,      20.20,-999.0000,-999.000,     0.9076,-999.000
  316N138_4,       P06C,     119,          1,          5,        131,2,19920615,       2330,   -32.5227,  -143.1505,       5376,  4862.4,   1.3062,  34.7070,2,  34.7060,2,    195.2,2,   194.6,2,  119.36,2,   32.87,2,    0.00,2,    2.28,2,-999.000,9,-999.000,9,  2273.1,2,  -999.0,9,-999.000,9,-999.0000,9, -999.00,9, -999.00,9,  -999.0,9,  -999.0,-999.000,9,-999.000,     -999.0,-999.0000,-999.000,     0.8949,-999.000
  316N138_4,       P06C,     119,          1,          4,        104,2,19920615,       2330,   -32.5227,  -143.1505,       5376,  5065.8,   1.3248,  34.7064,2,  34.7188,4,    195.8,2,   195.2,2,  119.21,2,   32.70,2,    0.00,2,    2.29,2,-999.000,9,-999.000,9,  2272.8,2,  -999.0,9,-999.000,9,-999.0000,9, -999.00,9, -999.00,9,  -999.0,9,  -999.0,-999.000,9,-999.000,     -999.0,-999.0000,-999.000,     0.8884,-999.000
  316N138_4,       P06C,     119,          1,          3,        130,2,19920615,       2330,   -32.5227,  -143.1505,       5376,  5267.8,   1.3456,  34.7079,2,  34.7062,2,    195.9,2,   195.6,2,  119.06,2,   32.61,2,    0.00,2,    2.27,2,-999.000,9,-999.000,9,  2272.7,2,  1129.9,2,-999.000,9,-999.0000,9, -999.00,9, -999.00,9,  -999.0,9,  -999.0,-999.000,9,-999.000,      20.20,-999.0000,-999.000,     0.8837,-999.000
  316N138_4,       P06C,     119,          1,          2,        135,2,19920615,       2330,   -32.5227,  -143.1505,       5376,  5471.7,   1.3629,  34.7075,2,  34.7064,2,    195.4,2,   196.4,2,  118.93,2,   32.66,2,    0.00,2,    2.28,2,-999.000,9,-999.000,9,  -999.0,9,  -999.0,9,-999.000,9,-999.0000,9, -999.00,9, -999.00,9,  -999.0,9,  -999.0,-999.000,9,-999.000,     -999.0,-999.0000,-999.000,     0.8748,-999.000
  316N138_4,       P06C,     119,          1,          1,        134,2,19920615,       2330,   -32.5227,  -143.1505,       5376,  5622.7,   1.3744,  34.7082,2,  34.7083,2,    195.7,2,   197.1,2,  118.79,2,   32.63,2,    0.01,2,    2.27,2,-999.000,9,-999.000,9,  2271.1,6,  1159.8,2,-999.000,9,-999.0000,9, -999.00,9, -999.00,9,  -999.0,9,  -999.0,-999.000,9,-999.000,      20.20,-999.0000,-999.000,     0.8666,-999.000