BOTTLE,20211025CCHSIORKP
EXPOCODE,SECT_ID,STNNBR,CASTNO,SAMPNO,BTLNBR,BTLNBR_FLAG_W,DATE,TIME,LATITUDE,LONGITUDE,DEPTH,CTDPRS,CTDTMP,CTDSAL,CTDSAL_FLAG_W,SALNTY,SALNTY_FLAG_W,CTDOXY,CTDOXY_FLAG_W,OXYGEN,OXYGEN_FLAG_W,SILCAT,SILCAT_FLAG_W,NITRAT,NITRAT_FLAG_W,NITRIT,NITRIT_FLAG_W,PHSPHT,PHSPHT_FLAG_W,CFC-11,CFC-11_FLAG_W,CFC-12,CFC-12_FLAG_W,TCARBN,TCARBN_FLAG_W,PCO2,PCO2_FLAG_W,TRITUM,TRITUM_FLAG_W,HELIUM,HELIUM_FLAG_W,DELHE3,DELHE3_FLAG_W,DELC13,DELC13_FLAG_W,DELC14,DELC14_FLAG_W,C14ERR,NEON,NEON_FLAG_W,NEONER,PCO2TMP,HELIER,DELHER,THETA,TRITER
,,,,,,,,,,,METERS,DBAR,ITS-90,PSS-78,,PSS-78,,UMOL/KG,,UMOL/KG,,UMOL/KG,,UMOL/KG,,UMOL/KG,,UMOL/KG,,PMOL/KG,,PMOL/KG,,UMOL/KG,,UATM,,TU,,NMOL/KG,,PERCNT,,/MILLE,,/MILLE,,/MILLE,NMOL/KG,,NMOL/KG,DEG_C,NMOL/KG,PERCNT,ITS-90,TU
  316N138_4,       P06C,     162,          1,         36,    02-9121,2,19920628,       1249,   -32.4950,  -171.9303,       4140,    19.0,  16.3843,  35.4618,2,  35.4618,2,    330.0,3,   239.0,2,    0.54,2,    0.05,2,    0.00,2,    0.18,2,-999.000,5,-999.000,5,  -999.0,9,  -999.0,9,-999.000,9,-999.0000,9, -999.00,9, -999.00,9,  -999.0,9,  -999.0,-999.000,9,-999.000,     -999.0,-999.0000,-999.000,    16.3813,-999.000
  316N138_4,       P06C,     162,          1,         35,    02-9454,2,19920628,       1249,   -32.4950,  -171.9303,       4140,    57.7,  16.3876,  35.4614,2,  35.4610,2,    238.4,2,   240.7,2,    0.55,2,    0.04,2,    0.00,2,    0.18,2,-999.000,5,-999.000,5,  -999.0,9,  -999.0,9,-999.000,9,-999.0000,9, -999.00,9, -999.00,9,  -999.0,9,  -999.0,-999.000,9,-999.000,     -999.0,-999.0000,-999.000,    16.3784,-999.000
  316N138_4,       P06C,     162,          1,         34,    02-9457,2,19920628,       1249,   -32.4950,  -171.9303,       4140,   108.2,  16.3669,  35.4571,2,  35.4504,2,    227.3,2,   240.0,2,    0.71,2,    0.21,2,    0.01,2,    0.19,2,-999.000,5,-999.000,5,  -999.0,9,  -999.0,9,-999.000,9,-999.0000,9, -999.00,9, -999.00,9,  -999.0,9,  -999.0,-999.000,9,-999.000,     -999.0,-999.0000,-999.000,    16.3495,-999.000
  316N138_4,       P06C,     162,          1,         33,    02-5367,2,19920628,       1249,   -32.4950,  -171.9303,       4140,   156.5,  13.7973,  35.1937,2,  35.1874,2,    216.5,2,   221.6,2,    1.73,2,    5.71,2,    0.01,2,    0.55,2,-999.000,5,-999.000,5,  -999.0,9,  -999.0,9,-999.000,9,-999.0000,9, -999.00,9, -999.00,9,  -999.0,9,  -999.0,-999.000,9,-999.000,     -999.0,-999.0000,-999.000,    13.7749,-999.000
  316N138_4,       P06C,     162,          1,         32,    02-9540,2,19920628,       1249,   -32.4950,  -171.9303,       4140,   205.7,  12.4114,  35.0532,2,  35.0459,2,    210.5,2,   210.8,2,    2.91,2,   10.52,2,    0.00,2,    0.77,2,-999.000,5,-999.000,5,  -999.0,9,  -999.0,9,-999.000,9,-999.0000,9, -999.00,9, -999.00,9,  -999.0,9,  -999.0,-999.000,9,-999.000,     -999.0,-999.0000,-999.000,    12.3839,-999.000
  316N138_4,       P06C,     162,          1,         31,    02-9539,2,19920628,       1249,   -32.4950,  -171.9303,       4140,   254.9,  11.2342,  34.8915,2,-999.0000,9,    208.1,2,  -999.0,9, -999.00,9, -999.00,9, -999.00,9, -999.00,9,-999.000,5,-999.000,5,  -999.0,9,  -999.0,9,-999.000,9,-999.0000,9, -999.00,9, -999.00,9,  -999.0,9,  -999.0,-999.000,9,-999.000,     -999.0,-999.0000,-999.000,    11.2023,-999.000
  316N138_4,       P06C,     162,          1,         30,    02-9456,2,19920628,       1249,   -32.4950,  -171.9303,       4140,   305.1,  10.1789,  34.7563,2,  34.7522,2,    205.9,2,   218.4,4,    4.59,2,   15.75,2,    0.00,2,    1.08,2,-999.000,5,-999.000,5,  -999.0,9,  -999.0,9,-999.000,9,-999.0000,9, -999.00,9, -999.00,9,  -999.0,9,  -999.0,-999.000,9,-999.000,     -999.0,-999.0000,-999.000,    10.1430,-999.000
  316N138_4,       P06C,     162,          1,         29,    02-9458,2,19920628,       1249,   -32.4950,  -171.9303,       4140,   356.4,   9.2635,  34.6718,2,  34.6480,2,    208.7,2,   214.5,3,    5.10,2,   17.71,2,    0.00,2,    1.18,2,-999.000,5,-999.000,5,  -999.0,9,  -999.0,9,-999.000,9,-999.0000,9, -999.00,9, -999.00,9,  -999.0,9,  -999.0,-999.000,9,-999.000,     -999.0,-999.0000,-999.000,     9.2239,-999.000
  316N138_4,       P06C,     162,          1,         28,    02-9545,2,19920628,       1249,   -32.4950,  -171.9303,       4140,   408.1,   8.6156,  34.5819,2,  34.5804,2,    215.5,2,   219.5,3,    5.77,2,   19.24,2,    0.00,2,    1.26,2,-999.000,5,-999.000,5,  -999.0,9,  -999.0,9,-999.000,9,-999.0000,9, -999.00,9, -999.00,9,  -999.0,9,  -999.0,-999.000,9,-999.000,     -999.0,-999.0000,-999.000,     8.5721,-999.000
  316N138_4,       P06C,     162,          1,         27,    02-9453,2,19920628,       1249,   -32.4950,  -171.9303,       4140,   459.4,   8.1452,  34.5342,2,  34.5341,2,    220.7,2,   219.0,2,    6.28,2,   20.28,2,   -0.01,2,    1.33,2,-999.000,5,-999.000,5,  -999.0,9,  -999.0,9,-999.000,9,-999.0000,9, -999.00,9, -999.00,9,  -999.0,9,  -999.0,-999.000,9,-999.000,     -999.0,-999.0000,-999.000,     8.0979,-999.000
  316N138_4,       P06C,     162,          1,         26,    02-9544,2,19920628,       1249,   -32.4950,  -171.9303,       4140,   510.1,   7.8182,  34.4929,2,  34.5009,2,    224.0,2,   224.5,2,    6.46,2,   20.74,2,   -0.01,2,    1.36,2,-999.000,5,-999.000,5,  -999.0,9,  -999.0,9,-999.000,9,-999.0000,9, -999.00,9, -999.00,9,  -999.0,9,  -999.0,-999.000,9,-999.000,     -999.0,-999.0000,-999.000,     7.7666,-999.000
  316N138_4,       P06C,     162,          1,         25,    02-9455,2,19920628,       1249,   -32.4950,  -171.9303,       4140,   557.9,   7.4574,  34.4651,2,  34.4646,2,    227.9,2,   230.3,2,    7.13,2,   21.47,2,    0.00,2,    1.42,2,-999.000,5,-999.000,5,  -999.0,9,  -999.0,9,-999.000,9,-999.0000,9, -999.00,9, -999.00,9,  -999.0,9,  -999.0,-999.000,9,-999.000,     -999.0,-999.0000,-999.000,     7.4024,-999.000
  316N138_4,       P06C,     162,          1,         24,        132,2,19920628,       1249,   -32.4950,  -171.9303,       4140,   610.9,   7.1688,  34.4277,2,  34.4373,2,    230.0,2,   232.6,2,    7.80,2,   22.17,2,   -0.01,2,    1.47,2,-999.000,5,-999.000,5,  -999.0,9,  -999.0,9,-999.000,9,-999.0000,9, -999.00,9, -999.00,9,  -999.0,9,  -999.0,-999.000,9,-999.000,     -999.0,-999.0000,-999.000,     7.1096,-999.000
  316N138_4,       P06C,     162,          1,         23,        123,2,19920628,       1249,   -32.4950,  -171.9303,       4140,   710.3,   6.5638,  34.3852,2,  34.3831,2,    232.0,2,   230.6,2,    9.99,2,   23.79,2,    0.00,2,    1.54,2,-999.000,5,-999.000,5,  -999.0,9,  -999.0,9,-999.000,9,-999.0000,9, -999.00,9, -999.00,9,  -999.0,9,  -999.0,-999.000,9,-999.000,     -999.0,-999.0000,-999.000,     6.4978,-999.000
  316N138_4,       P06C,     162,          1,         22,        128,2,19920628,       1249,   -32.4950,  -171.9303,       4140,   808.1,   6.0608,  34.3514,2,  34.3505,2,    227.0,2,   231.5,4,   13.19,2,   25.51,2,    0.00,2,    1.65,2,-999.000,5,-999.000,5,  -999.0,9,  -999.0,9,-999.000,9,-999.0000,9, -999.00,9, -999.00,9,  -999.0,9,  -999.0,-999.000,9,-999.000,     -999.0,-999.0000,-999.000,     5.9884,-999.000
  316N138_4,       P06C,     162,          1,         21,        121,2,19920628,       1249,   -32.4950,  -171.9303,       4140,   905.9,   5.5523,  34.3451,2,  34.3446,2,    216.0,2,   215.9,2,   19.08,2,   27.57,2,    0.00,2,    1.80,2,-999.000,5,-999.000,5,  -999.0,9,  -999.0,9,-999.000,9,-999.0000,9, -999.00,9, -999.00,9,  -999.0,9,  -999.0,-999.000,9,-999.000,     -999.0,-999.0000,-999.000,     5.4739,-999.000
  316N138_4,       P06C,     162,          1,         20,        120,2,19920628,       1249,   -32.4950,  -171.9303,       4140,  1007.8,   4.8428,  34.3683,3,  34.3456,3,    205.9,2,   206.0,2,   28.00,2,   29.85,2,    0.00,2,    1.97,2,-999.000,5,-999.000,5,  -999.0,9,  -999.0,9,-999.000,9,-999.0000,9, -999.00,9, -999.00,9,  -999.0,9,  -999.0,-999.000,9,-999.000,     -999.0,-999.0000,-999.000,     4.7602,-999.000
  316N138_4,       P06C,     162,          1,         19,        133,2,19920628,       1249,   -32.4950,  -171.9303,       4140,  1105.0,   4.3590,  34.3581,2,  34.3582,2,    196.1,2,   198.6,2,   35.39,2,   31.25,2,    0.00,2,    2.08,2,-999.000,5,-999.000,5,  -999.0,9,  -999.0,9,-999.000,9,-999.0000,9, -999.00,9, -999.00,9,  -999.0,9,  -999.0,-999.000,9,-999.000,     -999.0,-999.0000,-999.000,     4.2717,-999.000
  316N138_4,       P06C,     162,          1,         18,        118,2,19920628,       1249,   -32.4950,  -171.9303,       4140,  1203.9,   3.8338,  34.4026,2,  34.3957,2,    187.1,2,   186.4,2,   46.15,2,   32.55,2,    0.00,2,    2.19,2,-999.000,5,-999.000,5,  -999.0,9,  -999.0,9,-999.000,9,-999.0000,9, -999.00,9, -999.00,9,  -999.0,9,  -999.0,-999.000,9,-999.000,     -999.0,-999.0000,-999.000,     3.7425,-999.000
  316N138_4,       P06C,     162,          1,         17,        117,2,19920628,       1249,   -32.4950,  -171.9303,       4140,  1303.4,   3.4066,  34.4469,2,  34.4481,2,    179.9,2,   176.2,2,   58.60,2,   33.47,2,    0.00,2,    2.31,2,-999.000,5,-999.000,5,  -999.0,9,  -999.0,9,-999.000,9,-999.0000,9, -999.00,9, -999.00,9,  -999.0,9,  -999.0,-999.000,9,-999.000,     -999.0,-999.0000,-999.000,     3.3111,-999.000
  316N138_4,       P06C,     162,          1,         16,        116,2,19920628,       1249,   -32.4950,  -171.9303,       4140,  1402.2,   3.1212,  34.4935,2,  34.4911,2,    171.6,2,   169.1,2,   68.68,2,   34.08,2,    0.00,2,    2.33,2,-999.000,5,-999.000,5,  -999.0,9,  -999.0,9,-999.000,9,-999.0000,9, -999.00,9, -999.00,9,  -999.0,9,  -999.0,-999.000,9,-999.000,     -999.0,-999.0000,-999.000,     3.0203,-999.000
  316N138_4,       P06C,     162,          1,         15,        115,2,19920628,       1249,   -32.4950,  -171.9303,       4140,  1601.1,   2.7172,  34.5632,2,  34.5608,2,    160.4,2,   161.2,2,   87.33,2,   34.72,2,    0.00,2,    2.43,2,-999.000,5,-999.000,5,  -999.0,9,  -999.0,9,-999.000,9,-999.0000,9, -999.00,9, -999.00,9,  -999.0,9,  -999.0,-999.000,9,-999.000,     -999.0,-999.0000,-999.000,     2.6044,-999.000
  316N138_4,       P06C,     162,          1,         14,        114,2,19920628,       1249,   -32.4950,  -171.9303,       4140,  1800.6,   2.4844,  34.6012,2,  34.6012,2,    155.5,2,   154.2,2,   99.77,2,   35.09,2,    0.00,2,    2.49,2,-999.000,5,-999.000,5,  -999.0,9,  -999.0,9,-999.000,9,-999.0000,9, -999.00,9, -999.00,9,  -999.0,9,  -999.0,-999.000,9,-999.000,     -999.0,-999.0000,-999.000,     2.3578,-999.000
  316N138_4,       P06C,     162,          1,         13,        125,2,19920628,       1249,   -32.4950,  -171.9303,       4140,  2001.4,   2.3191,  34.6239,2,  34.6229,2,    152.2,2,   152.8,2,  108.35,2,   35.41,2,    0.00,2,    2.52,2,-999.000,5,-999.000,5,  -999.0,9,  -999.0,9,-999.000,9,-999.0000,9, -999.00,9, -999.00,9,  -999.0,9,  -999.0,-999.000,9,-999.000,     -999.0,-999.0000,-999.000,     2.1778,-999.000
  316N138_4,       P06C,     162,          1,         12,        112,2,19920628,       1249,   -32.4950,  -171.9303,       4140,  2202.3,   2.1893,  34.6360,2,  34.6360,2,    150.4,2,   151.5,4,  114.73,2,   35.55,2,    0.00,2,    2.55,2,-999.000,5,-999.000,5,  -999.0,9,  -999.0,9,-999.000,9,-999.0000,9, -999.00,9, -999.00,9,  -999.0,9,  -999.0,-999.000,9,-999.000,     -999.0,-999.0000,-999.000,     2.0324,-999.000
  316N138_4,       P06C,     162,          1,         11,        129,2,19920628,       1249,   -32.4950,  -171.9303,       4140,  2403.1,   2.0793,  34.6457,2,  34.6458,2,    149.0,2,   149.2,2,  120.11,2,   35.73,2,    0.00,2,    2.59,2,-999.000,5,-999.000,5,  -999.0,9,  -999.0,9,-999.000,9,-999.0000,9, -999.00,9, -999.00,9,  -999.0,9,  -999.0,-999.000,9,-999.000,     -999.0,-999.0000,-999.000,     1.9064,-999.000
  316N138_4,       P06C,     162,          1,         10,        110,2,19920628,       1249,   -32.4950,  -171.9303,       4140,  2605.0,   1.9690,  34.6566,2,  34.6555,2,    150.4,2,   148.5,2,  123.14,2,   35.82,2,    0.00,2,    2.61,2,-999.000,5,-999.000,5,  -999.0,9,  -999.0,9,-999.000,9,-999.0000,9, -999.00,9, -999.00,9,  -999.0,9,  -999.0,-999.000,9,-999.000,     -999.0,-999.0000,-999.000,     1.7797,-999.000
  316N138_4,       P06C,     162,          1,          9,        126,2,19920628,       1249,   -32.4950,  -171.9303,       4140,  2806.3,   1.8784,  34.6659,2,  34.6659,2,    153.0,2,   151.8,2,  125.16,2,   35.59,2,    0.00,2,    2.60,2,-999.000,5,-999.000,5,  -999.0,9,  -999.0,9,-999.000,9,-999.0000,9, -999.00,9, -999.00,9,  -999.0,9,  -999.0,-999.000,9,-999.000,     -999.0,-999.0000,-999.000,     1.6720,-999.000
  316N138_4,       P06C,     162,          1,          8,        108,2,19920628,       1249,   -32.4950,  -171.9303,       4140,  3006.5,   1.7829,  34.6804,2,  34.6808,2,    161.2,2,   163.3,3,  121.97,2,   34.83,2,    0.00,2,    2.50,2,-999.000,5,-999.000,5,  -999.0,9,  -999.0,9,-999.000,9,-999.0000,9, -999.00,9, -999.00,9,  -999.0,9,  -999.0,-999.000,9,-999.000,     -999.0,-999.0000,-999.000,     1.5592,-999.000
  316N138_4,       P06C,     162,          1,          7,        107,2,19920628,       1249,   -32.4950,  -171.9303,       4140,  3208.9,   1.6904,  34.6967,2,  34.6977,2,    173.2,2,   174.4,2,  116.25,2,   33.80,2,    0.00,2,    2.44,2,-999.000,5,-999.000,5,  -999.0,9,  -999.0,9,-999.000,9,-999.0000,9, -999.00,9, -999.00,9,  -999.0,9,  -999.0,-999.000,9,-999.000,     -999.0,-999.0000,-999.000,     1.4489,-999.000
  316N138_4,       P06C,     162,          1,          6,        180,2,19920628,       1249,   -32.4950,  -171.9303,       4140,  3408.3,   1.5871,  34.7124,2,  34.7131,2,    185.3,2,   191.6,4,  110.54,2,   32.77,2,    0.00,2,    2.35,2,-999.000,5,-999.000,5,  -999.0,9,  -999.0,9,-999.000,9,-999.0000,9, -999.00,9, -999.00,9,  -999.0,9,  -999.0,-999.000,9,-999.000,     -999.0,-999.0000,-999.000,     1.3280,-999.000
  316N138_4,       P06C,     162,          1,          5,        131,2,19920628,       1249,   -32.4950,  -171.9303,       4140,  3607.8,   1.4613,  34.7188,2,  34.7193,2,    193.5,2,   195.4,4,  108.86,2,   32.20,2,    0.01,2,    2.31,2,-999.000,5,-999.000,5,  -999.0,9,  -999.0,9,-999.000,9,-999.0000,9, -999.00,9, -999.00,9,  -999.0,9,  -999.0,-999.000,9,-999.000,     -999.0,-999.0000,-999.000,     1.1849,-999.000
  316N138_4,       P06C,     162,          1,          4,        104,2,19920628,       1249,   -32.4950,  -171.9303,       4140,  3806.3,   1.3522,  34.7201,2,  34.7195,2,    198.1,2,   201.4,3,  110.04,2,   32.00,2,    0.01,2,    2.30,2,-999.000,5,-999.000,5,  -999.0,9,  -999.0,9,-999.000,9,-999.0000,9, -999.00,9, -999.00,9,  -999.0,9,  -999.0,-999.000,9,-999.000,     -999.0,-999.0000,-999.000,     1.0579,-999.000
  316N138_4,       P06C,     162,          1,          3,        130,2,19920628,       1249,   -32.4950,  -171.9303,       4140,  4012.3,   1.2520,  34.7186,2,  34.7186,2,    201.7,2,   201.2,2,  112.05,2,   32.00,2,    0.01,2,    2.31,2,-999.000,5,-999.000,5,  -999.0,9,  -999.0,9,-999.000,9,-999.0000,9, -999.00,9, -999.00,9,  -999.0,9,  -999.0,-999.000,9,-999.000,     -999.0,-999.0000,-999.000,     0.9386,-999.000
  316N138_4,       P06C,     162,          1,          2,        135,2,19920628,       1249,   -32.4950,  -171.9303,       4140,  4218.3,   1.1373,  34.7156,2,  34.7160,2,    204.8,2,   204.1,2,  115.08,2,   31.99,2,    0.01,2,    2.31,2,-999.000,5,-999.000,5,  -999.0,9,  -999.0,9,-999.000,9,-999.0000,9, -999.00,9, -999.00,9,  -999.0,9,  -999.0,-999.000,9,-999.000,     -999.0,-999.0000,-999.000,     0.8048,-999.000
  316N138_4,       P06C,     162,          1,          1,        134,2,19920628,       1249,   -32.4950,  -171.9303,       4140,  4417.7,   1.0942,  34.7132,2,  34.7131,2,    204.0,2,   205.6,2,  116.85,2,   32.07,2,    0.00,2,    2.32,2,-999.000,5,-999.000,5,  -999.0,9,  -999.0,9,-999.000,9,-999.0000,9, -999.00,9, -999.00,9,  -999.0,9,  -999.0,-999.000,9,-999.000,     -999.0,-999.0000,-999.000,     0.7409,-999.000