BOTTLE,20211025CCHSIORKP
EXPOCODE,SECT_ID,STNNBR,CASTNO,SAMPNO,BTLNBR,BTLNBR_FLAG_W,DATE,TIME,LATITUDE,LONGITUDE,DEPTH,CTDPRS,CTDTMP,CTDSAL,CTDSAL_FLAG_W,SALNTY,SALNTY_FLAG_W,CTDOXY,CTDOXY_FLAG_W,OXYGEN,OXYGEN_FLAG_W,SILCAT,SILCAT_FLAG_W,NITRAT,NITRAT_FLAG_W,NITRIT,NITRIT_FLAG_W,PHSPHT,PHSPHT_FLAG_W,CFC-11,CFC-11_FLAG_W,CFC-12,CFC-12_FLAG_W,TCARBN,TCARBN_FLAG_W,PCO2,PCO2_FLAG_W,TRITUM,TRITUM_FLAG_W,HELIUM,HELIUM_FLAG_W,DELHE3,DELHE3_FLAG_W,DELC13,DELC13_FLAG_W,DELC14,DELC14_FLAG_W,C14ERR,NEON,NEON_FLAG_W,NEONER,PCO2TMP,HELIER,DELHER,THETA,TRITER
,,,,,,,,,,,METERS,DBAR,ITS-90,PSS-78,,PSS-78,,UMOL/KG,,UMOL/KG,,UMOL/KG,,UMOL/KG,,UMOL/KG,,UMOL/KG,,PMOL/KG,,PMOL/KG,,UMOL/KG,,UATM,,TU,,NMOL/KG,,PERCNT,,/MILLE,,/MILLE,,/MILLE,NMOL/KG,,NMOL/KG,DEG_C,NMOL/KG,PERCNT,ITS-90,TU
  316N138_4,       P06C,     184,          1,         24,        132,2,19920704,       0058,   -32.4963,   178.9178,       1519,    14.6,  17.1371,  35.6441,2,-999.0000,9,    238.8,2,  -999.0,9, -999.00,9, -999.00,9, -999.00,9, -999.00,9,-999.000,5,-999.000,5,  -999.0,9,  -999.0,9,-999.000,9,-999.0000,9, -999.00,9, -999.00,9,  -999.0,9,  -999.0,-999.000,9,-999.000,     -999.0,-999.0000,-999.000,    17.1346,-999.000
  316N138_4,       P06C,     184,          1,         23,        123,2,19920704,       0058,   -32.4963,   178.9178,       1519,    42.0,  17.1271,  35.6414,2,  35.6419,2,    228.7,2,   230.4,2,    1.33,2,    1.13,2,    0.22,2, -999.00,5,-999.000,5,-999.000,5,  2045.5,6,  -999.0,9,-999.000,9,-999.0000,9, -999.00,9, -999.00,9,  -999.0,9,  -999.0,-999.000,9,-999.000,     -999.0,-999.0000,-999.000,    17.1201,-999.000
  316N138_4,       P06C,     184,          1,         22,        128,2,19920704,       0058,   -32.4963,   178.9178,       1519,    78.2,  17.0897,  35.6400,2,  35.6400,2,    230.1,2,   231.8,2,    1.33,2,    1.09,2,    0.21,2, -999.00,5,-999.000,5,-999.000,5,  2046.0,2,  -999.0,9,-999.000,9,-999.0000,9, -999.00,9, -999.00,9,  -999.0,9,  -999.0,-999.000,9,-999.000,     -999.0,-999.0000,-999.000,    17.0767,-999.000
  316N138_4,       P06C,     184,          1,         21,        121,2,19920704,       0058,   -32.4963,   178.9178,       1519,   119.7,  17.0268,  35.6339,2,  35.6328,2,    232.4,2,   232.0,2,    1.33,2,    1.21,2,    0.19,2, -999.00,5,-999.000,5,-999.000,5,  2046.2,2,  -999.0,9,-999.000,9,-999.0000,9, -999.00,9, -999.00,9,  -999.0,9,  -999.0,-999.000,9,-999.000,     -999.0,-999.0000,-999.000,    17.0069,-999.000
  316N138_4,       P06C,     184,          1,         20,        120,2,19920704,       0058,   -32.4963,   178.9178,       1519,   161.6,  16.9292,  35.6299,2,  35.6273,2,    231.9,2,   232.9,2,    1.33,2,    1.28,2,    0.16,2, -999.00,5,-999.000,5,-999.000,5,  2046.7,2,  -999.0,9,-999.000,9,-999.0000,9, -999.00,9, -999.00,9,  -999.0,9,  -999.0,-999.000,9,-999.000,     -999.0,-999.0000,-999.000,    16.9026,-999.000
  316N138_4,       P06C,     184,          1,         19,        133,2,19920704,       0058,   -32.4963,   178.9178,       1519,   203.1,  16.8820,  35.6228,2,  35.5857,2,    220.6,2,   229.4,2,    1.52,2,    1.86,2,    0.16,2, -999.00,5,-999.000,5,-999.000,5,  2049.0,2,  -999.0,9,-999.000,9,-999.0000,9, -999.00,9, -999.00,9,  -999.0,9,  -999.0,-999.000,9,-999.000,     -999.0,-999.0000,-999.000,    16.8486,-999.000
  316N138_4,       P06C,     184,          1,         18,        118,2,19920704,       0058,   -32.4963,   178.9178,       1519,   252.2,  14.6416,  35.2954,2,  35.3409,2,    202.6,2,   203.7,2,    2.85,2,    8.01,2,    0.01,2, -999.00,5,-999.000,5,-999.000,5,  2085.6,2,  -999.0,9,-999.000,9,-999.0000,9, -999.00,9, -999.00,9,  -999.0,9,  -999.0,-999.000,9,-999.000,     -999.0,-999.0000,-999.000,    14.6039,-999.000
  316N138_4,       P06C,     184,          1,         17,        117,2,19920704,       0058,   -32.4963,   178.9178,       1519,   302.9,  14.0017,  35.2604,2,  35.2542,2,    200.9,2,   199.4,2,    3.61,2,    9.43,2,    0.00,2, -999.00,5,-999.000,5,-999.000,5,  2094.1,2,  -999.0,9,-999.000,9,-999.0000,9, -999.00,9, -999.00,9,  -999.0,9,  -999.0,-999.000,9,-999.000,     -999.0,-999.0000,-999.000,    13.9577,-999.000
  316N138_4,       P06C,     184,          1,         16,        116,2,19920704,       0058,   -32.4963,   178.9178,       1519,   354.3,  12.7768,  35.1209,2,  35.1104,2,    197.8,2,   194.7,2,    4.75,2,   12.18,2,    0.00,2, -999.00,5,-999.000,5,-999.000,5,  2107.1,2,  -999.0,9,-999.000,9,-999.0000,9, -999.00,9, -999.00,9,  -999.0,9,  -999.0,-999.000,9,-999.000,     -999.0,-999.0000,-999.000,    12.7282,-999.000
  316N138_4,       P06C,     184,          1,         15,        115,2,19920704,       0058,   -32.4963,   178.9178,       1519,   404.3,  11.5872,  34.9985,2,  34.9691,2,    196.1,2,   193.2,2,    5.70,2,   14.47,2,    0.00,2, -999.00,5,-999.000,5,-999.000,5,  2117.2,2,  -999.0,9,-999.000,9,-999.0000,9, -999.00,9, -999.00,9,  -999.0,9,  -999.0,-999.000,9,-999.000,     -999.0,-999.0000,-999.000,    11.5352,-999.000
  316N138_4,       P06C,     184,          1,         14,        114,2,19920704,       0058,   -32.4963,   178.9178,       1519,   454.5,  11.1989,  34.9221,2,  34.9144,2,    193.9,2,   192.6,2,    6.08,2,   15.43,2,    0.00,2, -999.00,5,-999.000,5,-999.000,5,  2121.6,2,  -999.0,9,-999.000,9,-999.0000,9, -999.00,9, -999.00,9,  -999.0,9,  -999.0,-999.000,9,-999.000,     -999.0,-999.0000,-999.000,    11.1415,-999.000
  316N138_4,       P06C,     184,          1,         13,        125,2,19920704,       0058,   -32.4963,   178.9178,       1519,   504.9,  10.1909,  34.8128,2,  34.8064,2,    198.0,2,   199.0,2,    6.85,2,   17.16,2,    0.00,2, -999.00,5,-999.000,5,-999.000,5,  2127.4,2,  -999.0,9,-999.000,9,-999.0000,9, -999.00,9, -999.00,9,  -999.0,9,  -999.0,-999.000,9,-999.000,     -999.0,-999.0000,-999.000,    10.1309,-999.000
  316N138_4,       P06C,     184,          1,         12,        112,2,19920704,       0058,   -32.4963,   178.9178,       1519,   555.4,   8.9791,  34.6776,2,  34.6490,2,    202.2,2,   202.5,2,    7.99,2,   19.64,2,   -0.01,2, -999.00,5,-999.000,5,-999.000,5,  2135.1,6,  -999.0,9,-999.000,9,-999.0000,9, -999.00,9, -999.00,9,  -999.0,9,  -999.0,-999.000,9,-999.000,     -999.0,-999.0000,-999.000,     8.9180,-999.000
  316N138_4,       P06C,     184,          1,         11,        129,2,19920704,       0058,   -32.4963,   178.9178,       1519,   605.4,   8.6551,  34.5955,2,  34.6101,2,    203.8,2,   204.7,2,    8.37,2,   20.27,2,    0.00,2, -999.00,5,-999.000,5,-999.000,5,  2136.3,2,  -999.0,9,-999.000,9,-999.0000,9, -999.00,9, -999.00,9,  -999.0,9,  -999.0,-999.000,9,-999.000,     -999.0,-999.0000,-999.000,     8.5896,-999.000
  316N138_4,       P06C,     184,          1,         10,        110,2,19920704,       0058,   -32.4963,   178.9178,       1519,   656.1,   8.1838,  34.5774,2,  34.5700,2,    207.1,2,   206.9,2,    9.14,2,   21.05,2,    0.00,2, -999.00,5,-999.000,5,-999.000,5,  2139.0,2,  -999.0,9,-999.000,9,-999.0000,9, -999.00,9, -999.00,9,  -999.0,9,  -999.0,-999.000,9,-999.000,     -999.0,-999.0000,-999.000,     8.1151,-999.000
  316N138_4,       P06C,     184,          1,          9,        126,2,19920704,       0058,   -32.4963,   178.9178,       1519,   705.4,   7.5750,  34.5127,2,  34.5062,2,    210.3,2,   210.0,2,   10.85,2,   22.42,2,    0.00,2, -999.00,5,-999.000,5,-999.000,5,  2142.7,2,  -999.0,9,-999.000,9,-999.0000,9, -999.00,9, -999.00,9,  -999.0,9,  -999.0,-999.000,9,-999.000,     -999.0,-999.0000,-999.000,     7.5040,-999.000
  316N138_4,       P06C,     184,          1,          8,        108,2,19920704,       0058,   -32.4963,   178.9178,       1519,   805.6,   6.9634,  34.4626,2,  34.4569,2,    212.0,2,   210.3,2,   13.33,2,   23.92,2,    0.00,2, -999.00,5,-999.000,5,-999.000,5,  2149.5,2,  -999.0,9,-999.000,9,-999.0000,9, -999.00,9, -999.00,9,  -999.0,9,  -999.0,-999.000,9,-999.000,     -999.0,-999.0000,-999.000,     6.8855,-999.000
  316N138_4,       P06C,     184,          1,          7,        107,2,19920704,       0058,   -32.4963,   178.9178,       1519,   906.1,   6.3682,  34.4267,2,  34.4218,2,    206.2,2,   206.2,2,   17.90,2,   25.71,2,    0.00,2, -999.00,5,-999.000,5,-999.000,5,  2159.7,2,  -999.0,9,-999.000,9,-999.0000,9, -999.00,9, -999.00,9,  -999.0,9,  -999.0,-999.000,9,-999.000,     -999.0,-999.0000,-999.000,     6.2841,-999.000
  316N138_4,       P06C,     184,          1,          6,        180,2,19920704,       0058,   -32.4963,   178.9178,       1519,  1006.9,   5.5570,  34.3934,2,  34.4000,2,    199.3,2,   198.2,2,   26.10,2,   28.08,2,    0.00,2, -999.00,5,-999.000,5,-999.000,5,  2176.7,2,  -999.0,9,-999.000,9,-999.0000,9, -999.00,9, -999.00,9,  -999.0,9,  -999.0,-999.000,9,-999.000,     -999.0,-999.0000,-999.000,     5.4690,-999.000
  316N138_4,       P06C,     184,          1,          5,        131,2,19920704,       0058,   -32.4963,   178.9178,       1519,  1105.5,   5.0736,  34.4063,2,  34.4057,2,    192.2,2,   191.0,2,   34.10,2,   29.64,2,    0.00,2, -999.00,5,-999.000,5,-999.000,5,  2190.7,2,  -999.0,9,-999.000,9,-999.0000,9, -999.00,9, -999.00,9,  -999.0,9,  -999.0,-999.000,9,-999.000,     -999.0,-999.0000,-999.000,     4.9802,-999.000
  316N138_4,       P06C,     184,          1,          4,        104,3,19920704,       0058,   -32.4963,   178.9178,       1519,  1206.8,   4.4252,  34.4385,2,  34.4440,2,    182.4,2,   181.3,2,   47.82,2,   31.01,2,    0.00,2, -999.00,5,-999.000,5,-999.000,5,  2211.6,2,  -999.0,9,-999.000,9,-999.0000,9, -999.00,9, -999.00,9,  -999.0,9,  -999.0,-999.000,9,-999.000,     -999.0,-999.0000,-999.000,     4.3284,-999.000
  316N138_4,       P06C,     184,          1,          3,        130,2,19920704,       0058,   -32.4963,   178.9178,       1519,  1308.6,   4.0651,  34.4614,2,  34.4646,2,    176.9,2,   176.3,2,   56.79,2,   32.02,2,    0.00,2, -999.00,5,-999.000,5,-999.000,5,  2224.9,2,  -999.0,9,-999.000,9,-999.0000,9, -999.00,9, -999.00,9,  -999.0,9,  -999.0,-999.000,9,-999.000,     -999.0,-999.0000,-999.000,     3.9625,-999.000
  316N138_4,       P06C,     184,          1,          2,        135,2,19920704,       0058,   -32.4963,   178.9178,       1519,  1410.3,   3.7707,  34.4874,2,  34.4820,2,    174.2,2,   171.8,2,   63.46,2,   32.54,2,    0.01,2, -999.00,5,-999.000,5,-999.000,5,  2234.5,2,  -999.0,9,-999.000,9,-999.0000,9, -999.00,9, -999.00,9,  -999.0,9,  -999.0,-999.000,9,-999.000,     -999.0,-999.0000,-999.000,     3.6621,-999.000
  316N138_4,       P06C,     184,          1,          1,        134,2,19920704,       0058,   -32.4963,   178.9178,       1519,  1556.4,   3.6429,  34.4968,2,  34.4979,2,    167.7,2,   169.7,2,   68.22,2,   32.94,2,    0.00,2, -999.00,5,-999.000,5,-999.000,5,  2239.7,6,  -999.0,9,-999.000,9,-999.0000,9, -999.00,9, -999.00,9,  -999.0,9,  -999.0,-999.000,9,-999.000,     -999.0,-999.0000,-999.000,     3.5230,-999.000