BOTTLE,20211025CCHSIORKP
EXPOCODE,SECT_ID,STNNBR,CASTNO,SAMPNO,BTLNBR,BTLNBR_FLAG_W,DATE,TIME,LATITUDE,LONGITUDE,DEPTH,CTDPRS,CTDTMP,CTDSAL,CTDSAL_FLAG_W,SALNTY,SALNTY_FLAG_W,CTDOXY,CTDOXY_FLAG_W,OXYGEN,OXYGEN_FLAG_W,SILCAT,SILCAT_FLAG_W,NITRAT,NITRAT_FLAG_W,NITRIT,NITRIT_FLAG_W,PHSPHT,PHSPHT_FLAG_W,CFC-11,CFC-11_FLAG_W,CFC-12,CFC-12_FLAG_W,TCARBN,TCARBN_FLAG_W,PCO2,PCO2_FLAG_W,TRITUM,TRITUM_FLAG_W,HELIUM,HELIUM_FLAG_W,DELHE3,DELHE3_FLAG_W,DELC13,DELC13_FLAG_W,DELC14,DELC14_FLAG_W,C14ERR,NEON,NEON_FLAG_W,NEONER,PCO2TMP,HELIER,DELHER,THETA,TRITER
,,,,,,,,,,,METERS,DBAR,ITS-90,PSS-78,,PSS-78,,UMOL/KG,,UMOL/KG,,UMOL/KG,,UMOL/KG,,UMOL/KG,,UMOL/KG,,PMOL/KG,,PMOL/KG,,UMOL/KG,,UATM,,TU,,NMOL/KG,,PERCNT,,/MILLE,,/MILLE,,/MILLE,NMOL/KG,,NMOL/KG,DEG_C,NMOL/KG,PERCNT,ITS-90,TU
  316N138_4,       P06C,     126,          1,         36,    02-9121,2,19920618,       2053,   -32.4963,  -148.9910,       4925,    19.8,  17.8726,  35.2939,2,  35.2930,2,    312.9,3,   236.4,2,    0.58,2,    0.00,2,    0.00,2,    0.11,2,   2.431,2,-999.000,5,  -999.0,9,  -999.0,9,-999.000,9,-999.0000,9, -999.00,9, -999.00,9,  -999.0,9,  -999.0,-999.000,9,-999.000,     -999.0,-999.0000,-999.000,    17.8692,-999.000
  316N138_4,       P06C,     126,          1,         35,    02-9454,2,19920618,       2053,   -32.4963,  -148.9910,       4925,    60.0,  17.8500,  35.2903,2,  35.2887,2,    238.3,2,   235.2,2,    0.58,2,    0.05,2,    0.00,2,    0.11,2,   2.423,6,   1.339,6,  -999.0,9,  -999.0,9,-999.000,9,-999.0000,9, -999.00,9, -999.00,9,  -999.0,9,  -999.0,-999.000,9,-999.000,     -999.0,-999.0000,-999.000,    17.8398,-999.000
  316N138_4,       P06C,     126,          1,         34,    02-9457,2,19920618,       2053,   -32.4963,  -148.9910,       4925,   110.2,  16.7894,  35.3951,2,  35.3660,2,    240.3,2,   236.3,2,    0.58,2,    0.06,2,    0.03,2,    0.15,2,   2.539,2,   1.384,2,  -999.0,9,  -999.0,9,-999.000,9,-999.0000,9, -999.00,9, -999.00,9,  -999.0,9,  -999.0,-999.000,9,-999.000,     -999.0,-999.0000,-999.000,    16.7714,-999.000
  316N138_4,       P06C,     126,          1,         33,    02-5367,2,19920618,       2053,   -32.4963,  -148.9910,       4925,   159.8,  15.5197,  35.2586,2,  35.2544,2,    233.0,2,   224.4,2,    0.71,2,    1.57,2,    0.07,2,    0.28,2,   2.537,3,   1.359,3,  -999.0,9,  -999.0,9,-999.000,9,-999.0000,9, -999.00,9, -999.00,9,  -999.0,9,  -999.0,-999.000,9,-999.000,     -999.0,-999.0000,-999.000,    15.4949,-999.000
  316N138_4,       P06C,     126,          1,         32,    02-9540,2,19920618,       2053,   -32.4963,  -148.9910,       4925,   211.1,  14.6185,  35.1381,2,  35.1796,2,    215.7,2,   220.2,2,    1.00,2,    3.34,2,    0.03,2,    0.39,2,   2.474,2,   1.325,2,  -999.0,9,  -999.0,9,-999.000,9,-999.0000,9, -999.00,9, -999.00,9,  -999.0,9,  -999.0,-999.000,9,-999.000,     -999.0,-999.0000,-999.000,    14.5870,-999.000
  316N138_4,       P06C,     126,          1,         31,    02-9539,2,19920618,       2053,   -32.4963,  -148.9910,       4925,   259.5,  12.6255,  34.9376,2,  35.0957,3,    209.7,2,   210.9,2,    1.29,2,    5.11,2,    0.04,2,    0.48,2,   2.346,2,   1.240,2,  -999.0,9,  -999.0,9,-999.000,9,-999.0000,9, -999.00,9, -999.00,9,  -999.0,9,  -999.0,-999.000,9,-999.000,     -999.0,-999.0000,-999.000,    12.5904,-999.000
  316N138_4,       P06C,     126,          1,         30,    02-9456,2,19920618,       2053,   -32.4963,  -148.9910,       4925,   310.3,  11.1582,  34.8141,2,  34.8123,2,    206.8,2,   197.6,2,    3.29,2,   13.64,2,    0.02,2,    0.99,2,   1.652,2,   0.840,2,  -999.0,9,  -999.0,9,-999.000,9,-999.0000,9, -999.00,9, -999.00,9,  -999.0,9,  -999.0,-999.000,9,-999.000,     -999.0,-999.0000,-999.000,    11.1194,-999.000
  316N138_4,       P06C,     126,          1,         29,    02-9458,2,19920618,       2053,   -32.4963,  -148.9910,       4925,   359.6,   9.4744,  34.6253,2,  34.6181,2,    210.9,2,   208.2,2,    4.29,2,   17.01,2,    0.02,2,    1.19,2,   1.472,6,   0.731,6,  -999.0,9,  -999.0,9,-999.000,9,-999.0000,9, -999.00,9, -999.00,9,  -999.0,9,  -999.0,-999.000,9,-999.000,     -999.0,-999.0000,-999.000,     9.4339,-999.000
  316N138_4,       P06C,     126,          1,         28,    02-9545,2,19920618,       2053,   -32.4963,  -148.9910,       4925,   408.9,   8.2716,  34.5149,2,  34.5131,2,    219.4,2,   222.2,2,    5.00,2,   19.10,2,    0.02,2,    1.31,2,   1.453,2,   0.716,2,  -999.0,9,  -999.0,9,-999.000,9,-999.0000,9, -999.00,9, -999.00,9,  -999.0,9,  -999.0,-999.000,9,-999.000,     -999.0,-999.0000,-999.000,     8.2291,-999.000
  316N138_4,       P06C,     126,          1,         27,    02-9453,2,19920618,       2053,   -32.4963,  -148.9910,       4925,   457.5,   7.8318,  34.4753,2,  34.4724,2,    226.9,2,   228.8,2,    5.43,2,   19.84,2,    0.02,2,    1.35,2,   1.606,6,   0.782,6,  -999.0,9,  -999.0,9,-999.000,9,-999.0000,9, -999.00,9, -999.00,9,  -999.0,9,  -999.0,-999.000,9,-999.000,     -999.0,-999.0000,-999.000,     7.7856,-999.000
  316N138_4,       P06C,     126,          1,         26,    02-9544,2,19920618,       2053,   -32.4963,  -148.9910,       4925,   509.5,   7.4070,  34.4461,2,  34.4416,2,    236.8,2,   232.1,2,    6.01,2,   20.53,2,    0.02,2,    1.39,2,   1.743,2,   0.851,2,  -999.0,9,  -999.0,9,-999.000,9,-999.0000,9, -999.00,9, -999.00,9,  -999.0,9,  -999.0,-999.000,9,-999.000,     -999.0,-999.0000,-999.000,     7.3571,-999.000
  316N138_4,       P06C,     126,          1,         25,    02-9455,2,19920618,       2053,   -32.4963,  -148.9910,       4925,   611.1,   6.8678,  34.3964,2,  34.3990,2,    244.4,2,   239.2,2,    7.43,2,   22.00,2,    0.01,2,    1.47,2,   1.288,2,   0.642,2,  -999.0,9,  -999.0,9,-999.000,9,-999.0000,9, -999.00,9, -999.00,9,  -999.0,9,  -999.0,-999.000,9,-999.000,     -999.0,-999.0000,-999.000,     6.8100,-999.000
  316N138_4,       P06C,     126,          1,         24,        132,2,19920618,       2053,   -32.4963,  -148.9910,       4925,   711.2,   6.3473,  34.3566,2,  34.3564,2,    242.3,2,   239.6,2,    9.58,2,   23.55,2,    0.01,2,    1.57,2,   0.834,2,   0.433,2,  -999.0,9,  -999.0,9,-999.000,9,-999.0000,9, -999.00,9, -999.00,9,  -999.0,9,  -999.0,-999.000,9,-999.000,     -999.0,-999.0000,-999.000,     6.2824,-999.000
  316N138_4,       P06C,     126,          1,         23,        123,2,19920618,       2053,   -32.4963,  -148.9910,       4925,   812.0,   5.8178,  34.3267,2,  34.3278,2,    234.8,2,   222.9,4,   13.73,2,   25.93,2,    0.01,2,    1.72,2,   0.388,6,   0.225,6,  -999.0,9,  -999.0,9,-999.000,9,-999.0000,9, -999.00,9, -999.00,9,  -999.0,9,  -999.0,-999.000,9,-999.000,     -999.0,-999.0000,-999.000,     5.7464,-999.000
  316N138_4,       P06C,     126,          1,         22,        128,2,19920618,       2053,   -32.4963,  -148.9910,       4925,  1013.5,   4.6955,  34.3242,2,  34.3256,2,    209.1,2,   198.8,3,   27.75,2,   30.27,2,    0.00,2,    2.00,2,   0.122,2,   0.072,2,  -999.0,9,  -999.0,9,-999.000,9,-999.0000,9, -999.00,9, -999.00,9,  -999.0,9,  -999.0,-999.000,9,-999.000,     -999.0,-999.0000,-999.000,     4.6136,-999.000
  316N138_4,       P06C,     126,          1,         21,        121,2,19920618,       2053,   -32.4963,  -148.9910,       4925,  1112.5,   4.0688,  34.3599,2,  34.3584,2,    196.4,3,   189.2,2,   39.05,2,   32.32,2,    0.00,2,    2.15,2,   0.035,6,   0.029,6,  -999.0,9,  -999.0,9,-999.000,9,-999.0000,9, -999.00,9, -999.00,9,  -999.0,9,  -999.0,-999.000,9,-999.000,     -999.0,-999.0000,-999.000,     3.9834,-999.000
  316N138_4,       P06C,     126,          1,         20,        120,2,19920618,       2053,   -32.4963,  -148.9910,       4925,  1311.2,   3.2955,  34.4364,2,  34.4363,2,    176.8,2,   176.7,2,   57.93,2,   33.92,2,    0.00,2,    2.30,2,   0.018,3,-999.000,5,  -999.0,9,  -999.0,9,-999.000,9,-999.0000,9, -999.00,9, -999.00,9,  -999.0,9,  -999.0,-999.000,9,-999.000,     -999.0,-999.0000,-999.000,     3.2004,-999.000
  316N138_4,       P06C,     126,          1,         19,        133,2,19920618,       2053,   -32.4963,  -148.9910,       4925,  1505.8,   2.8202,  34.5188,2,  34.5188,2,    167.0,2,   166.1,2,   76.24,2,   34.71,2,   -0.01,2,    2.38,2,  -0.001,2,   0.003,2,  -999.0,9,  -999.0,9,-999.000,9,-999.0000,9, -999.00,9, -999.00,9,  -999.0,9,  -999.0,-999.000,9,-999.000,     -999.0,-999.0000,-999.000,     2.7140,-999.000
  316N138_4,       P06C,     126,          1,         18,        118,2,19920618,       2053,   -32.4963,  -148.9910,       4925,  1707.1,   2.4839,  34.5858,2,  34.5834,2,    159.3,2,   157.5,2,   92.84,2,   35.03,2,   -0.01,2,    2.41,2,   0.003,2,-999.000,5,  -999.0,9,  -999.0,9,-999.000,9,-999.0000,9, -999.00,9, -999.00,9,  -999.0,9,  -999.0,-999.000,9,-999.000,     -999.0,-999.0000,-999.000,     2.3652,-999.000
  316N138_4,       P06C,     126,          1,         17,        117,2,19920618,       2053,   -32.4963,  -148.9910,       4925,  1911.9,   2.2679,  34.6203,2,  34.6201,2,    154.5,2,   152.8,2,  105.86,2,   35.35,2,   -0.01,2,    2.46,2,-999.000,9,-999.000,9,  -999.0,9,  -999.0,9,-999.000,9,-999.0000,9, -999.00,9, -999.00,9,  -999.0,9,  -999.0,-999.000,9,-999.000,     -999.0,-999.0000,-999.000,     2.1349,-999.000
  316N138_4,       P06C,     126,          1,         16,        116,2,19920618,       2053,   -32.4963,  -148.9910,       4925,  2114.4,   2.1117,  34.6393,2,  34.6394,2,    152.2,2,   151.8,2,  113.73,2,   35.50,2,   -0.01,2,    2.49,2,  -0.002,2,  -0.005,2,  -999.0,9,  -999.0,9,-999.000,9,-999.0000,9, -999.00,9, -999.00,9,  -999.0,9,  -999.0,-999.000,9,-999.000,     -999.0,-999.0000,-999.000,     1.9638,-999.000
  316N138_4,       P06C,     126,          1,         15,        115,2,19920618,       2053,   -32.4963,  -148.9910,       4925,  2319.8,   1.9787,  34.6515,2,  34.6502,2,    151.6,2,   151.3,2,  119.89,2,   35.69,2,   -0.01,2,    2.50,2,-999.000,9,-999.000,9,  -999.0,9,  -999.0,9,-999.000,9,-999.0000,9, -999.00,9, -999.00,9,  -999.0,9,  -999.0,-999.000,9,-999.000,     -999.0,-999.0000,-999.000,     1.8150,-999.000
  316N138_4,       P06C,     126,          1,         14,        114,2,19920618,       2053,   -32.4963,  -148.9910,       4925,  2522.3,   1.8822,  34.6592,2,  34.6594,2,    152.0,2,   151.1,2,  124.18,2,   35.73,2,   -0.01,2,    2.51,2,-999.000,9,-999.000,9,  -999.0,9,  -999.0,9,-999.000,9,-999.0000,9, -999.00,9, -999.00,9,  -999.0,9,  -999.0,-999.000,9,-999.000,     -999.0,-999.0000,-999.000,     1.7021,-999.000
  316N138_4,       P06C,     126,          1,         13,        125,2,19920618,       2053,   -32.4963,  -148.9910,       4925,  2724.6,   1.7997,  34.6668,2,  34.6645,2,    153.2,2,   153.8,2,  126.76,2,   35.65,2,   -0.01,2,    2.51,2,   0.003,2,  -0.005,2,  -999.0,9,  -999.0,9,-999.000,9,-999.0000,9, -999.00,9, -999.00,9,  -999.0,9,  -999.0,-999.000,9,-999.000,     -999.0,-999.0000,-999.000,     1.6025,-999.000
  316N138_4,       P06C,     126,          1,         12,        112,2,19920618,       2053,   -32.4963,  -148.9910,       4925,  2928.7,   1.7205,  34.6737,2,  34.6728,2,    156.6,2,   157.5,2,  127.34,2,   35.38,2,   -0.01,2,    2.49,2,-999.000,9,-999.000,9,  -999.0,9,  -999.0,9,-999.000,9,-999.0000,9, -999.00,9, -999.00,9,  -999.0,9,  -999.0,-999.000,9,-999.000,     -999.0,-999.0000,-999.000,     1.5057,-999.000
  316N138_4,       P06C,     126,          1,         11,        129,2,19920618,       2053,   -32.4963,  -148.9910,       4925,  3132.6,   1.6522,  34.6803,2,  34.6791,2,    161.1,2,   159.8,2,  126.77,2,   35.06,2,    0.00,2,    2.47,2,-999.000,9,-999.000,9,  -999.0,9,  -999.0,9,-999.000,9,-999.0000,9, -999.00,9, -999.00,9,  -999.0,9,  -999.0,-999.000,9,-999.000,     -999.0,-999.0000,-999.000,     1.4193,-999.000
  316N138_4,       P06C,     126,          1,         10,        110,2,19920618,       2053,   -32.4963,  -148.9910,       4925,  3339.1,   1.5852,  34.6872,2,  34.6871,2,    167.4,2,   166.3,2,  125.34,2,   34.46,2,    0.00,2,    2.43,2,  -0.001,2,  -0.001,2,  -999.0,9,  -999.0,9,-999.000,9,-999.0000,9, -999.00,9, -999.00,9,  -999.0,9,  -999.0,-999.000,9,-999.000,     -999.0,-999.0000,-999.000,     1.3332,-999.000
  316N138_4,       P06C,     126,          1,          9,        126,2,19920618,       2053,   -32.4963,  -148.9910,       4925,  3544.5,   1.4996,  34.6934,2,-999.0000,9,    173.6,2,  -999.0,9, -999.00,9, -999.00,9, -999.00,9, -999.00,9,-999.000,9,-999.000,9,  -999.0,9,  -999.0,9,-999.000,9,-999.0000,9, -999.00,9, -999.00,9,  -999.0,9,  -999.0,-999.000,9,-999.000,     -999.0,-999.0000,-999.000,     1.2289,-999.000
  316N138_4,       P06C,     126,          1,          8,        108,2,19920618,       2053,   -32.4963,  -148.9910,       4925,  3751.8,   1.4203,  34.6984,2,  34.6975,2,    180.9,2,   180.5,2,  121.92,2,   33.60,2,    0.00,2,    2.36,2,-999.000,9,-999.000,9,  -999.0,9,  -999.0,9,-999.000,9,-999.0000,9, -999.00,9, -999.00,9,  -999.0,9,  -999.0,-999.000,9,-999.000,     -999.0,-999.0000,-999.000,     1.1300,-999.000
  316N138_4,       P06C,     126,          1,          7,        107,2,19920618,       2053,   -32.4963,  -148.9910,       4925,  3957.2,   1.3548,  34.7019,2,  34.7024,2,    186.3,2,   185.8,2,  120.92,2,   33.18,2,    0.01,2,    2.34,2,-999.000,9,-999.000,9,  -999.0,9,  -999.0,9,-999.000,9,-999.0000,9, -999.00,9, -999.00,9,  -999.0,9,  -999.0,-999.000,9,-999.000,     -999.0,-999.0000,-999.000,     1.0444,-999.000
  316N138_4,       P06C,     126,          1,          6,        180,2,19920618,       2053,   -32.4963,  -148.9910,       4925,  4162.8,   1.3127,  34.7046,2,  34.7052,2,    190.5,2,   192.1,3,  120.35,2,   32.97,2,    0.01,2,    2.30,2,  -0.001,2,   0.001,2,  -999.0,9,  -999.0,9,-999.000,9,-999.0000,9, -999.00,9, -999.00,9,  -999.0,9,  -999.0,-999.000,9,-999.000,     -999.0,-999.0000,-999.000,     0.9813,-999.000
  316N138_4,       P06C,     126,          1,          5,        131,2,19920618,       2053,   -32.4963,  -148.9910,       4925,  4367.3,   1.2672,  34.7074,2,  34.7064,2,    194.7,2,   193.6,2,  119.64,2,   32.75,2,    0.00,2,    2.30,2,-999.000,9,-999.000,9,  -999.0,9,  -999.0,9,-999.000,9,-999.0000,9, -999.00,9, -999.00,9,  -999.0,9,  -999.0,-999.000,9,-999.000,     -999.0,-999.0000,-999.000,     0.9144,-999.000
  316N138_4,       P06C,     126,          1,          4,        104,2,19920618,       2053,   -32.4963,  -148.9910,       4925,  4571.0,   1.2332,  34.7084,2,  34.7083,2,    198.1,2,   200.8,4,  119.50,2,   32.57,2,    0.00,2,    2.29,2,-999.000,9,-999.000,9,  -999.0,9,  -999.0,9,-999.000,9,-999.0000,9, -999.00,9, -999.00,9,  -999.0,9,  -999.0,-999.000,9,-999.000,     -999.0,-999.0000,-999.000,     0.8583,-999.000
  316N138_4,       P06C,     126,          1,          3,        130,2,19920618,       2053,   -32.4963,  -148.9910,       4925,  4775.0,   1.2303,  34.7089,2,  34.7093,2,    199.7,2,   199.9,2,  119.51,2,   32.48,2,    0.00,2,    2.29,2,-999.000,9,-999.000,9,  -999.0,9,  -999.0,9,-999.000,9,-999.0000,9, -999.00,9, -999.00,9,  -999.0,9,  -999.0,-999.000,9,-999.000,     -999.0,-999.0000,-999.000,     0.8318,-999.000
  316N138_4,       P06C,     126,          1,          2,        135,2,19920618,       2053,   -32.4963,  -148.9910,       4925,  4979.1,   1.2028,  34.7105,2,  34.7105,2,    202.2,2,   198.8,4,  119.23,2,   32.35,2,    0.00,2,    2.27,2,   0.001,2,  -0.003,2,  -999.0,9,  -999.0,9,-999.000,9,-999.0000,9, -999.00,9, -999.00,9,  -999.0,9,  -999.0,-999.000,9,-999.000,     -999.0,-999.0000,-999.000,     0.7809,-999.000
  316N138_4,       P06C,     126,          1,          1,        134,2,19920618,       2053,   -32.4963,  -148.9910,       4925,  5120.2,   1.2039,  34.7113,2,  34.7121,2,    202.4,2,   198.4,4,  119.03,2,   32.30,2,    0.00,2,    2.26,2,   0.001,2,   0.008,2,  -999.0,9,  -999.0,9,-999.000,9,-999.0000,9, -999.00,9, -999.00,9,  -999.0,9,  -999.0,-999.000,9,-999.000,     -999.0,-999.0000,-999.000,     0.7650,-999.000