BOTTLE,20211025CCHSIORKP
EXPOCODE,SECT_ID,STNNBR,CASTNO,SAMPNO,BTLNBR,BTLNBR_FLAG_W,DATE,TIME,LATITUDE,LONGITUDE,DEPTH,CTDPRS,CTDTMP,CTDSAL,CTDSAL_FLAG_W,SALNTY,SALNTY_FLAG_W,CTDOXY,CTDOXY_FLAG_W,OXYGEN,OXYGEN_FLAG_W,SILCAT,SILCAT_FLAG_W,NITRAT,NITRAT_FLAG_W,NITRIT,NITRIT_FLAG_W,PHSPHT,PHSPHT_FLAG_W,CFC-11,CFC-11_FLAG_W,CFC-12,CFC-12_FLAG_W,TCARBN,TCARBN_FLAG_W,PCO2,PCO2_FLAG_W,TRITUM,TRITUM_FLAG_W,HELIUM,HELIUM_FLAG_W,DELHE3,DELHE3_FLAG_W,DELC13,DELC13_FLAG_W,DELC14,DELC14_FLAG_W,C14ERR,NEON,NEON_FLAG_W,NEONER,PCO2TMP,HELIER,DELHER,THETA,TRITER
,,,,,,,,,,,METERS,DBAR,ITS-90,PSS-78,,PSS-78,,UMOL/KG,,UMOL/KG,,UMOL/KG,,UMOL/KG,,UMOL/KG,,UMOL/KG,,PMOL/KG,,PMOL/KG,,UMOL/KG,,UATM,,TU,,NMOL/KG,,PERCNT,,/MILLE,,/MILLE,,/MILLE,NMOL/KG,,NMOL/KG,DEG_C,NMOL/KG,PERCNT,ITS-90,TU
  316N138_4,       P06C,      84,          1,         36,    02-9121,2,19920604,       0840,   -32.5095,  -119.3450,       3452,    19.8,  19.7624,  35.1644,2,  35.1646,2,    319.5,3,   229.0,2,    0.35,2,    0.02,2,    0.00,2,    0.13,2,   2.330,6,   1.267,2,  -999.0,9,  -999.0,9,-999.000,9,-999.0000,9, -999.00,9, -999.00,9,  -999.0,9,  -999.0,-999.000,9,-999.000,     -999.0,-999.0000,-999.000,    19.7587,-999.000
  316N138_4,       P06C,      84,          1,         35,    02-9454,2,19920604,       0840,   -32.5095,  -119.3450,       3452,    58.7,  19.6780,  35.1577,2,  35.1571,2,    225.6,2,   231.1,3,    0.40,2,    0.02,2,    0.00,2,    0.14,2,   2.323,2,   1.291,2,  -999.0,9,  -999.0,9,-999.000,9,-999.0000,9, -999.00,9, -999.00,9,  -999.0,9,  -999.0,-999.000,9,-999.000,     -999.0,-999.0000,-999.000,    19.6673,-999.000
  316N138_4,       P06C,      84,          1,         34,    02-9457,2,19920604,       0840,   -32.5095,  -119.3450,       3452,    88.9,  19.7846,  35.2131,2,  35.2152,2,    226.2,2,   228.3,2,    0.45,2,    0.02,2,    0.00,2,    0.13,2,   2.320,2,   1.218,2,  -999.0,9,  -999.0,9,-999.000,9,-999.0000,9, -999.00,9, -999.00,9,  -999.0,9,  -999.0,-999.000,9,-999.000,     -999.0,-999.0000,-999.000,    19.7683,-999.000
  316N138_4,       P06C,      84,          1,         33,    02-5367,2,19920604,       0840,   -32.5095,  -119.3450,       3452,   119.0,  17.7411,  35.1161,2,  35.1152,2,    239.9,2,   242.8,2,    0.34,2,    0.02,2,    0.00,2,    0.16,2,   2.590,2,   1.368,2,  -999.0,9,  -999.0,9,-999.000,9,-999.0000,9, -999.00,9, -999.00,9,  -999.0,9,  -999.0,-999.000,9,-999.000,     -999.0,-999.0000,-999.000,    17.7208,-999.000
  316N138_4,       P06C,      84,          1,         32,    02-9540,2,19920604,       0840,   -32.5095,  -119.3450,       3452,   147.5,  16.7884,  35.0775,2,  35.0709,2,    237.6,2,   237.8,2,    0.39,2,    0.06,2,    0.01,2,    0.21,2,   2.611,2,   1.270,2,  -999.0,9,  -999.0,9,-999.000,9,-999.0000,9, -999.00,9, -999.00,9,  -999.0,9,  -999.0,-999.000,9,-999.000,     -999.0,-999.0000,-999.000,    16.7643,-999.000
  316N138_4,       P06C,      84,          1,         31,    02-9539,2,19920604,       0840,   -32.5095,  -119.3450,       3452,   177.1,  15.9796,  35.0300,2,  35.0293,2,    229.1,2,   231.2,2,    0.61,2,    0.50,2,    0.15,2,    0.27,2,   2.558,2,   1.388,2,  -999.0,9,  -999.0,9,-999.000,9,-999.0000,9, -999.00,9, -999.00,9,  -999.0,9,  -999.0,-999.000,9,-999.000,     -999.0,-999.0000,-999.000,    15.9516,-999.000
  316N138_4,       P06C,      84,          1,         30,    02-9456,2,19920604,       0840,   -32.5095,  -119.3450,       3452,   226.3,  14.7162,  34.9803,2,  34.9774,2,    217.1,2,   211.7,2,    1.13,2,    4.68,2,    0.01,2,    0.52,2,   2.316,2,   1.172,2,  -999.0,9,  -999.0,9,-999.000,9,-999.0000,9, -999.00,9, -999.00,9,  -999.0,9,  -999.0,-999.000,9,-999.000,     -999.0,-999.0000,-999.000,    14.6823,-999.000
  316N138_4,       P06C,      84,          1,         29,    02-9458,2,19920604,       0840,   -32.5095,  -119.3450,       3452,   275.7,  13.0713,  34.8298,2,  34.8469,2,    210.3,2,   205.3,2,    1.83,2,    8.71,2,    0.00,2,    0.77,2,   2.041,2,   1.024,2,  -999.0,9,  -999.0,9,-999.000,9,-999.0000,9, -999.00,9, -999.00,9,  -999.0,9,  -999.0,-999.000,9,-999.000,     -999.0,-999.0000,-999.000,    13.0332,-999.000
  316N138_4,       P06C,      84,          1,         28,    02-9545,2,19920604,       0840,   -32.5095,  -119.3450,       3452,   324.5,  11.3119,  34.6617,2,  34.6643,2,    210.5,2,   207.9,2,    2.83,2,   12.65,2,    0.00,2,    1.00,2,   1.872,2,   1.007,2,  -999.0,9,  -999.0,9,-999.000,9,-999.0000,9, -999.00,9, -999.00,9,  -999.0,9,  -999.0,-999.000,9,-999.000,     -999.0,-999.0000,-999.000,    11.2711,-999.000
  316N138_4,       P06C,      84,          1,         27,    02-9453,2,19920604,       0840,   -32.5095,  -119.3450,       3452,   373.2,   9.4406,  34.5057,2,  34.5101,2,    216.3,2,   212.5,2,    4.15,2,   17.01,2,    0.00,2,    1.26,2,   1.615,2,   0.812,2,  -999.0,9,  -999.0,9,-999.000,9,-999.0000,9, -999.00,9, -999.00,9,  -999.0,9,  -999.0,-999.000,9,-999.000,     -999.0,-999.0000,-999.000,     9.3986,-999.000
  316N138_4,       P06C,      84,          1,         26,    02-9544,2,19920604,       0840,   -32.5095,  -119.3450,       3452,   421.6,   8.2512,  34.4299,2,  34.4300,2,    222.1,2,   222.8,2,    5.32,2,   19.60,2,    0.00,2,    1.42,2,   1.583,6,   0.812,2,  -999.0,9,  -999.0,9,-999.000,9,-999.0000,9, -999.00,9, -999.00,9,  -999.0,9,  -999.0,-999.000,9,-999.000,     -999.0,-999.0000,-999.000,     8.2075,-999.000
  316N138_4,       P06C,      84,          1,         25,    02-9455,2,19920604,       0840,   -32.5095,  -119.3450,       3452,   471.7,   7.5434,  34.3928,2,  34.3923,2,    228.8,2,   230.4,2,    6.17,2,   20.92,2,    0.00,2,    1.48,2,   1.607,2,   0.863,2,  -999.0,9,  -999.0,9,-999.000,9,-999.0000,9, -999.00,9, -999.00,9,  -999.0,9,  -999.0,-999.000,9,-999.000,     -999.0,-999.0000,-999.000,     7.4968,-999.000
  316N138_4,       P06C,      84,          1,         24,        132,2,19920604,       0840,   -32.5095,  -119.3450,       3452,   548.7,   6.8247,  34.3662,2,  34.3672,2,    241.1,2,   243.3,2,    7.34,2,   22.00,2,    0.00,2,    1.54,2,   1.642,2,   0.822,3,  -999.0,9,  -999.0,9,-999.000,9,-999.0000,9, -999.00,9, -999.00,9,  -999.0,9,  -999.0,-999.000,9,-999.000,     -999.0,-999.0000,-999.000,     6.7733,-999.000
  316N138_4,       P06C,      84,          1,         23,        123,2,19920604,       0840,   -32.5095,  -119.3450,       3452,   621.9,   6.4583,  34.3458,2,  34.3458,2,    246.4,2,   246.8,2,    8.34,2,   22.83,2,    0.00,2,    1.59,2,   1.374,6,   0.730,6,  -999.0,9,  -999.0,9,-999.000,9,-999.0000,9, -999.00,9, -999.00,9,  -999.0,9,  -999.0,-999.000,9,-999.000,     -999.0,-999.0000,-999.000,     6.4015,-999.000
  316N138_4,       P06C,      84,          1,         22,        128,3,19920604,       0840,   -32.5095,  -119.3450,       3452,   696.1,   6.0307,  34.3110,2,  34.6093,4,    246.5,2,   235.4,4,    5.84,4,   14.81,4,    0.00,4,    1.11,4,-999.000,9,-999.000,9,  -999.0,9,  -999.0,9,-999.000,9,-999.0000,9, -999.00,9, -999.00,9,  -999.0,9,  -999.0,-999.000,9,-999.000,     -999.0,-999.0000,-999.000,     5.9689,-999.000
  316N138_4,       P06C,      84,          1,         21,        121,2,19920604,       0840,   -32.5095,  -119.3450,       3452,   768.8,   5.7363,  34.2944,2,  34.2982,2,    244.8,2,   245.2,2,   11.16,2,   24.98,2,    0.00,2,    1.72,2,   0.699,6,   0.421,3,  -999.0,9,  -999.0,9,-999.000,9,-999.0000,9, -999.00,9, -999.00,9,  -999.0,9,  -999.0,-999.000,9,-999.000,     -999.0,-999.0000,-999.000,     5.6694,-999.000
  316N138_4,       P06C,      84,          1,         20,        120,2,19920604,       0840,   -32.5095,  -119.3450,       3452,   840.5,   5.3781,  34.2802,2,  34.2858,2,    239.3,2,   237.1,2,   14.08,2,   26.48,2,    0.00,2,    1.83,2,   0.485,2,   0.257,2,  -999.0,9,  -999.0,9,-999.000,9,-999.0000,9, -999.00,9, -999.00,9,  -999.0,9,  -999.0,-999.000,9,-999.000,     -999.0,-999.0000,-999.000,     5.3069,-999.000
  316N138_4,       P06C,      84,          1,         19,        133,2,19920604,       0840,   -32.5095,  -119.3450,       3452,   938.5,   4.9108,  34.2854,2,  34.2854,2,    221.4,2,   218.6,2,   20.66,2,   28.93,2,    0.00,2,    1.99,2,   0.245,2,-999.000,5,  -999.0,9,  -999.0,9,-999.000,9,-999.0000,9, -999.00,9, -999.00,9,  -999.0,9,  -999.0,-999.000,9,-999.000,     -999.0,-999.0000,-999.000,     4.8340,-999.000
  316N138_4,       P06C,      84,          1,         18,        118,2,19920604,       0840,   -32.5095,  -119.3450,       3452,  1036.1,   4.5031,  34.3071,2,  34.3103,2,    205.2,2,   203.2,2,   28.68,2,   30.91,2,    0.00,2,    2.13,2,   0.128,2,   0.088,2,  -999.0,9,  -999.0,9,-999.000,9,-999.0000,9, -999.00,9, -999.00,9,  -999.0,9,  -999.0,-999.000,9,-999.000,     -999.0,-999.0000,-999.000,     4.4207,-999.000
  316N138_4,       P06C,      84,          1,         17,        117,3,19920604,       0840,   -32.5095,  -119.3450,       3452,  1135.5,   4.0259,  34.3432,2,  34.3480,2,    187.6,2,   186.5,2,   38.60,2,   32.73,2,    0.00,2,    2.27,2,-999.000,9,-999.000,9,  -999.0,9,  -999.0,9,-999.000,9,-999.0000,9, -999.00,9, -999.00,9,  -999.0,9,  -999.0,-999.000,9,-999.000,     -999.0,-999.0000,-999.000,     3.9390,-999.000
  316N138_4,       P06C,      84,          1,         16,        116,2,19920604,       0840,   -32.5095,  -119.3450,       3452,  1233.5,   3.5495,  34.3960,2,  34.3970,2,    177.1,2,   174.1,2,   51.41,2,   34.31,2,    0.00,2,    2.37,2,-999.000,9,-999.000,9,  -999.0,9,  -999.0,9,-999.000,9,-999.0000,9, -999.00,9, -999.00,9,  -999.0,9,  -999.0,-999.000,9,-999.000,     -999.0,-999.0000,-999.000,     3.4586,-999.000
  316N138_4,       P06C,      84,          1,         15,        115,2,19920604,       0840,   -32.5095,  -119.3450,       3452,  1331.9,   3.2241,  34.4451,2,  34.4459,2,    168.1,2,   166.9,2,   61.81,2,   35.10,2,    0.00,2,    2.43,2,   0.007,2,   0.011,2,  -999.0,9,  -999.0,9,-999.000,9,-999.0000,9, -999.00,9, -999.00,9,  -999.0,9,  -999.0,-999.000,9,-999.000,     -999.0,-999.0000,-999.000,     3.1280,-999.000
  316N138_4,       P06C,      84,          1,         14,        114,2,19920604,       0840,   -32.5095,  -119.3450,       3452,  1432.2,   2.9185,  34.4941,2,  34.4946,2,    164.9,2,   165.2,2,   70.94,2,   35.05,2,    0.00,2,    2.43,2,-999.000,9,-999.000,9,  -999.0,9,  -999.0,9,-999.000,9,-999.0000,9, -999.00,9, -999.00,9,  -999.0,9,  -999.0,-999.000,9,-999.000,     -999.0,-999.0000,-999.000,     2.8173,-999.000
  316N138_4,       P06C,      84,          1,         13,        125,2,19920604,       0840,   -32.5095,  -119.3450,       3452,  1533.8,   2.7134,  34.5337,2,  34.5329,2,    163.2,2,   162.7,2,   78.97,2,   35.11,2,    0.00,2,    2.46,2,-999.000,5,   0.007,2,  -999.0,9,  -999.0,9,-999.000,9,-999.0000,9, -999.00,9, -999.00,9,  -999.0,9,  -999.0,-999.000,9,-999.000,     -999.0,-999.0000,-999.000,     2.6063,-999.000
  316N138_4,       P06C,      84,          1,         12,        112,2,19920604,       0840,   -32.5095,  -119.3450,       3452,  1635.6,   2.5241,  34.5698,2,  34.5702,2,    161.3,2,   161.5,2,   87.29,2,   35.06,2,    0.00,2,    2.45,2,-999.000,9,-999.000,9,  -999.0,9,  -999.0,9,-999.000,9,-999.0000,9, -999.00,9, -999.00,9,  -999.0,9,  -999.0,-999.000,9,-999.000,     -999.0,-999.0000,-999.000,     2.4107,-999.000
  316N138_4,       P06C,      84,          1,         11,        129,2,19920604,       0840,   -32.5095,  -119.3450,       3452,  1735.1,   2.3828,  34.5960,2,  34.5965,2,    159.7,2,   158.5,2,   94.84,2,   35.10,2,    0.01,2,    2.46,2,   0.001,2,   0.009,2,  -999.0,9,  -999.0,9,-999.000,9,-999.0000,9, -999.00,9, -999.00,9,  -999.0,9,  -999.0,-999.000,9,-999.000,     -999.0,-999.0000,-999.000,     2.2631,-999.000
  316N138_4,       P06C,      84,          1,         10,        110,2,19920604,       0840,   -32.5095,  -119.3450,       3452,  1884.6,   2.2097,  34.6225,2,  34.6260,2,    157.3,2,   157.4,2,  104.13,2,   35.21,2,    0.01,2,    2.47,2,-999.000,9,-999.000,9,  -999.0,9,  -999.0,9,-999.000,9,-999.0000,9, -999.00,9, -999.00,9,  -999.0,9,  -999.0,-999.000,9,-999.000,     -999.0,-999.0000,-999.000,     2.0798,-999.000
  316N138_4,       P06C,      84,          1,          9,        126,2,19920604,       0840,   -32.5095,  -119.3450,       3452,  2035.4,   2.0757,  34.6386,2,  34.6380,2,    156.2,2,   156.4,2,  110.72,2,   35.27,2,    0.01,2,    2.49,2,  -0.002,2,   0.006,2,  -999.0,9,  -999.0,9,-999.000,9,-999.0000,9, -999.00,9, -999.00,9,  -999.0,9,  -999.0,-999.000,9,-999.000,     -999.0,-999.0000,-999.000,     1.9351,-999.000
  316N138_4,       P06C,      84,          1,          8,        108,2,19920604,       0840,   -32.5095,  -119.3450,       3452,  2236.1,   1.9636,  34.6499,2,  34.6563,4,    156.7,2,   157.0,2,  115.88,2,   35.31,2,    0.01,2,    2.50,2,-999.000,9,-999.000,9,  -999.0,9,  -999.0,9,-999.000,9,-999.0000,9, -999.00,9, -999.00,9,  -999.0,9,  -999.0,-999.000,9,-999.000,     -999.0,-999.0000,-999.000,     1.8075,-999.000
  316N138_4,       P06C,      84,          1,          7,        107,2,19920604,       0840,   -32.5095,  -119.3450,       3452,  2387.1,   1.8852,  34.6578,2,  34.6618,3,    157.7,2,   158.2,2,  118.47,2,   35.27,2,    0.01,2,    2.49,2,  -0.004,2,   0.001,2,  -999.0,9,  -999.0,9,-999.000,9,-999.0000,9, -999.00,9, -999.00,9,  -999.0,9,  -999.0,-999.000,9,-999.000,     -999.0,-999.0000,-999.000,     1.7172,-999.000
  316N138_4,       P06C,      84,          1,          6,        180,2,19920604,       0840,   -32.5095,  -119.3450,       3452,  2589.0,   1.7860,  34.6667,2,  34.6673,2,    160.5,2,   161.3,2,  120.92,2,   35.11,2,    0.01,2,    2.48,2,-999.000,9,-999.000,9,  -999.0,9,  -999.0,9,-999.000,9,-999.0000,9, -999.00,9, -999.00,9,  -999.0,9,  -999.0,-999.000,9,-999.000,     -999.0,-999.0000,-999.000,     1.6015,-999.000
  316N138_4,       P06C,      84,          1,          5,        131,2,19920604,       0840,   -32.5095,  -119.3450,       3452,  2791.4,   1.7361,  34.6719,2,  34.6722,2,    163.1,2,   163.3,2,  121.77,2,   34.95,2,    0.01,2,    2.47,2,   0.003,2,   0.008,2,  -999.0,9,  -999.0,9,-999.000,9,-999.0000,9, -999.00,9, -999.00,9,  -999.0,9,  -999.0,-999.000,9,-999.000,     -999.0,-999.0000,-999.000,     1.5339,-999.000
  316N138_4,       P06C,      84,          1,          4,        104,2,19920604,       0840,   -32.5095,  -119.3450,       3452,  2993.2,   1.6990,  34.6764,2,  34.6783,2,    165.5,2,   165.6,2,  122.14,2,   34.81,2,    0.01,2,    2.45,2,-999.000,9,-999.000,9,  -999.0,9,  -999.0,9,-999.000,9,-999.0000,9, -999.00,9, -999.00,9,  -999.0,9,  -999.0,-999.000,9,-999.000,     -999.0,-999.0000,-999.000,     1.4785,-999.000
  316N138_4,       P06C,      84,          1,          3,        130,2,19920604,       0840,   -32.5095,  -119.3450,       3452,  3200.3,   1.6922,  34.6785,2,  34.6765,2,    166.8,2,   166.7,2,  122.36,2,   34.85,2,    0.01,2,    2.45,2,  -0.002,2,   0.008,2,  -999.0,9,  -999.0,9,-999.000,9,-999.0000,9, -999.00,9, -999.00,9,  -999.0,9,  -999.0,-999.000,9,-999.000,     -999.0,-999.0000,-999.000,     1.4517,-999.000
  316N138_4,       P06C,      84,          1,          2,        135,2,19920604,       0840,   -32.5095,  -119.3450,       3452,  3429.9,   1.7012,  34.6801,2,  34.6785,2,    166.7,2,   167.1,2,  122.42,2,   34.81,2,    0.01,2,    2.45,2,  -0.004,2,   0.005,2,  -999.0,9,  -999.0,9,-999.000,9,-999.0000,9, -999.00,9, -999.00,9,  -999.0,9,  -999.0,-999.000,9,-999.000,     -999.0,-999.0000,-999.000,     1.4373,-999.000
  316N138_4,       P06C,      84,          1,          1,        134,2,19920604,       0840,   -32.5095,  -119.3450,       3452,  3483.4,   1.7069,  34.6797,2,  34.6793,2,    167.4,2,   167.1,2,  121.96,2,   34.72,2,    0.00,2,    2.44,2,  -0.001,2,   0.005,2,  -999.0,9,  -999.0,9,-999.000,9,-999.0000,9, -999.00,9, -999.00,9,  -999.0,9,  -999.0,-999.000,9,-999.000,     -999.0,-999.0000,-999.000,     1.4374,-999.000