BOTTLE,20211025CCHSIORKP
EXPOCODE,SECT_ID,STNNBR,CASTNO,SAMPNO,BTLNBR,BTLNBR_FLAG_W,DATE,TIME,LATITUDE,LONGITUDE,DEPTH,CTDPRS,CTDTMP,CTDSAL,CTDSAL_FLAG_W,SALNTY,SALNTY_FLAG_W,CTDOXY,CTDOXY_FLAG_W,OXYGEN,OXYGEN_FLAG_W,SILCAT,SILCAT_FLAG_W,NITRAT,NITRAT_FLAG_W,NITRIT,NITRIT_FLAG_W,PHSPHT,PHSPHT_FLAG_W,CFC-11,CFC-11_FLAG_W,CFC-12,CFC-12_FLAG_W,TCARBN,TCARBN_FLAG_W,PCO2,PCO2_FLAG_W,TRITUM,TRITUM_FLAG_W,HELIUM,HELIUM_FLAG_W,DELHE3,DELHE3_FLAG_W,DELC13,DELC13_FLAG_W,DELC14,DELC14_FLAG_W,C14ERR,NEON,NEON_FLAG_W,NEONER,PCO2TMP,HELIER,DELHER,THETA,TRITER
,,,,,,,,,,,METERS,DBAR,ITS-90,PSS-78,,PSS-78,,UMOL/KG,,UMOL/KG,,UMOL/KG,,UMOL/KG,,UMOL/KG,,UMOL/KG,,PMOL/KG,,PMOL/KG,,UMOL/KG,,UATM,,TU,,NMOL/KG,,PERCNT,,/MILLE,,/MILLE,,/MILLE,NMOL/KG,,NMOL/KG,DEG_C,NMOL/KG,PERCNT,ITS-90,TU
  316N138_4,       P06C,     154,          1,         36,    02-9121,2,19920626,       1625,   -32.5118,  -168.4998,       5481,    29.2,  16.8380,  35.3956,2,  35.3957,2,    249.7,2,   238.7,2,    0.44,2,    0.01,2,    0.00,2,    0.12,2,-999.000,5,-999.000,5,  -999.0,9,  -999.0,9,-999.000,9,-999.0000,9, -999.00,9, -999.00,9,  -999.0,9,  -999.0,-999.000,9,-999.000,     -999.0,-999.0000,-999.000,    16.8333,-999.000
  316N138_4,       P06C,     154,          1,         35,    02-9454,2,19920626,       1625,   -32.5118,  -168.4998,       5481,    67.4,  16.8448,  35.3967,2,  35.3953,2,    240.4,2,   236.9,2,    0.62,2,    0.00,2,    0.00,2,    0.12,2,-999.000,5,-999.000,5,  -999.0,9,  -999.0,9,-999.000,9,-999.0000,9, -999.00,9, -999.00,9,  -999.0,9,  -999.0,-999.000,9,-999.000,     -999.0,-999.0000,-999.000,    16.8338,-999.000
  316N138_4,       P06C,     154,          1,         34,    02-9457,2,19920626,       1625,   -32.5118,  -168.4998,       5481,   114.9,  16.8401,  35.3936,2,  35.3940,2,    232.7,2,   239.1,2,    0.46,2,    0.04,2,    0.00,2,    0.14,2,-999.000,5,-999.000,5,  -999.0,9,  -999.0,9,-999.000,9,-999.0000,9, -999.00,9, -999.00,9,  -999.0,9,  -999.0,-999.000,9,-999.000,     -999.0,-999.0000,-999.000,    16.8213,-999.000
  316N138_4,       P06C,     154,          1,         33,    02-5367,2,19920626,       1625,   -32.5118,  -168.4998,       5481,   214.6,  13.8997,  35.1813,2,  35.1736,2,    217.2,2,   214.3,2,    1.70,2,    5.89,2,    0.00,2,    0.55,2,-999.000,5,-999.000,5,  -999.0,9,  -999.0,9,-999.000,9,-999.0000,9, -999.00,9, -999.00,9,  -999.0,9,  -999.0,-999.000,9,-999.000,     -999.0,-999.0000,-999.000,    13.8688,-999.000
  316N138_4,       P06C,     154,          1,         32,    02-9540,2,19920626,       1625,   -32.5118,  -168.4998,       5481,   317.1,  11.2359,  34.9193,2,  34.8871,2,    212.0,2,   211.1,2,    3.11,2,   12.28,2,    0.00,2,    0.91,2,-999.000,5,-999.000,5,  -999.0,9,  -999.0,9,-999.000,9,-999.0000,9, -999.00,9, -999.00,9,  -999.0,9,  -999.0,-999.000,9,-999.000,     -999.0,-999.0000,-999.000,    11.1961,-999.000
  316N138_4,       P06C,     154,          1,         31,    02-9539,2,19920626,       1625,   -32.5118,  -168.4998,       5481,   418.7,   8.8298,  34.5831,2,  34.5812,2,    218.5,2,   218.0,2,    4.87,2,   18.05,2,    0.00,2,    1.25,2,-999.000,5,-999.000,5,  -999.0,9,  -999.0,9,-999.000,9,-999.0000,9, -999.00,9, -999.00,9,  -999.0,9,  -999.0,-999.000,9,-999.000,     -999.0,-999.0000,-999.000,     8.7845,-999.000
  316N138_4,       P06C,     154,          1,         30,    02-9456,2,19920626,       1625,   -32.5118,  -168.4998,       5481,   512.7,   7.8401,  34.4898,2,  34.4907,2,    229.2,2,   228.8,2,    5.94,2,   20.21,2,   -0.01,2,    1.38,2,-999.000,5,-999.000,5,  -999.0,9,  -999.0,9,-999.000,9,-999.0000,9, -999.00,9, -999.00,9,  -999.0,9,  -999.0,-999.000,9,-999.000,     -999.0,-999.0000,-999.000,     7.7881,-999.000
  316N138_4,       P06C,     154,          1,         29,    02-9458,2,19920626,       1625,   -32.5118,  -168.4998,       5481,   600.6,   7.3447,  34.4447,2,  34.4445,2,    235.8,2,   233.9,2,    6.65,2,   21.35,2,   -0.01,2,    1.46,2,-999.000,5,-999.000,5,  -999.0,9,  -999.0,9,-999.000,9,-999.0000,9, -999.00,9, -999.00,9,  -999.0,9,  -999.0,-999.000,9,-999.000,     -999.0,-999.0000,-999.000,     7.2858,-999.000
  316N138_4,       P06C,     154,          1,         28,    02-9545,2,19920626,       1625,   -32.5118,  -168.4998,       5481,   697.5,   6.8458,  34.3991,2,  34.4008,2,    237.2,2,   234.8,2,    7.89,2,   22.79,2,   -0.01,2,    1.52,2,-999.000,5,-999.000,5,  -999.0,9,  -999.0,9,-999.000,9,-999.0000,9, -999.00,9, -999.00,9,  -999.0,9,  -999.0,-999.000,9,-999.000,     -999.0,-999.0000,-999.000,     6.7796,-999.000
  316N138_4,       P06C,     154,          1,         27,    02-9453,2,19920626,       1625,   -32.5118,  -168.4998,       5481,   801.2,   6.2748,  34.3598,2,  34.3611,2,    229.7,2,   227.9,2,   11.42,2,   24.94,2,   -0.01,2,    1.65,2,-999.000,5,-999.000,5,  -999.0,9,  -999.0,9,-999.000,9,-999.0000,9, -999.00,9, -999.00,9,  -999.0,9,  -999.0,-999.000,9,-999.000,     -999.0,-999.0000,-999.000,     6.2016,-999.000
  316N138_4,       P06C,     154,          1,         26,    02-9544,2,19920626,       1625,   -32.5118,  -168.4998,       5481,   904.1,   5.6057,  34.3266,2,  34.3266,2,    220.0,2,   221.8,2,   16.00,2,   27.13,2,   -0.01,2,    1.81,2,-999.000,5,-999.000,5,  -999.0,9,  -999.0,9,-999.000,9,-999.0000,9, -999.00,9, -999.00,9,  -999.0,9,  -999.0,-999.000,9,-999.000,     -999.0,-999.0000,-999.000,     5.5271,-999.000
  316N138_4,       P06C,     154,          1,         25,    02-9455,2,19920626,       1625,   -32.5118,  -168.4998,       5481,  1009.0,   4.9733,  34.3248,2,  34.3268,2,    212.1,2,   207.9,2,   23.75,2,   29.65,2,    0.00,2,    1.98,2,-999.000,5,-999.000,5,  -999.0,9,  -999.0,9,-999.000,9,   1.8640,2,    2.65,2, -999.00,9,  -999.0,9,  -999.0,-999.000,9,-999.000,     -999.0,-999.0000,   0.150,     4.8897,-999.000
  316N138_4,       P06C,     154,          1,         24,        132,3,19920626,       1625,   -32.5118,  -168.4998,       5481,  1108.6,   4.3558,  34.3437,2,  34.7744,4,    201.8,2,   212.4,4,   14.79,4,   17.21,4,    0.05,4,    1.23,4,-999.000,5,-999.000,5,  -999.0,9,  -999.0,9,-999.000,9,-999.0000,9, -999.00,9, -999.00,9,  -999.0,9,  -999.0,-999.000,9,-999.000,     -999.0,-999.0000,-999.000,     4.2682,-999.000
  316N138_4,       P06C,     154,          1,         23,        123,2,19920626,       1625,   -32.5118,  -168.4998,       5481,  1310.0,   3.4400,  34.4181,2,  34.4188,2,    183.7,2,   179.4,2,   53.67,2,   33.92,2,   -0.01,2,    2.32,2,-999.000,5,-999.000,5,  -999.0,9,  -999.0,9,-999.000,9,   1.8950,2,    7.56,2, -999.00,9,  -999.0,9,  -999.0,-999.000,9,-999.000,     -999.0,-999.0000,   0.150,     3.3437,-999.000
  316N138_4,       P06C,     154,          1,         22,        128,2,19920626,       1625,   -32.5118,  -168.4998,       5481,  1510.1,   2.8772,  34.5234,2,  34.5223,2,    167.5,2,   164.1,2,   76.55,2,   34.89,2,   -0.01,2,    2.42,2,-999.000,5,-999.000,5,  -999.0,9,  -999.0,9,-999.000,9,   1.9190,2,   12.60,2, -999.00,9,  -999.0,9,  -999.0,-999.000,9,-999.000,     -999.0,-999.0000,   0.150,     2.7700,-999.000
  316N138_4,       P06C,     154,          1,         21,        121,2,19920626,       1625,   -32.5118,  -168.4998,       5481,  1715.6,   2.5721,  34.5843,2,  34.5846,2,    159.2,2,   155.2,2,   94.34,2,   35.35,2,   -0.01,2,    2.48,2,-999.000,5,-999.000,5,  -999.0,9,  -999.0,9,-999.000,9,   1.9570,2,   18.29,2, -999.00,9,  -999.0,9,  -999.0,-999.000,9,-999.000,     -999.0,-999.0000,   0.150,     2.4515,-999.000
  316N138_4,       P06C,     154,          1,         20,        120,2,19920626,       1625,   -32.5118,  -168.4998,       5481,  1914.3,   2.3785,  34.6136,2,  34.6126,2,    153.4,2,   150.7,2,  105.08,2,   35.60,2,    0.00,2,    2.53,2,-999.000,5,-999.000,5,  -999.0,9,  -999.0,9,-999.000,9,   1.9690,2,   22.42,2, -999.00,9,  -999.0,9,  -999.0,-999.000,9,-999.000,     -999.0,-999.0000,   0.150,     2.2438,-999.000
  316N138_4,       P06C,     154,          1,         19,        133,3,19920626,       1625,   -32.5118,  -168.4998,       5481,  2116.2,   2.2333,  34.6310,2,  35.0789,4,    150.5,2,   225.4,4,    5.32,4,    8.02,4,    0.00,4,    0.67,4,-999.000,5,-999.000,5,  -999.0,9,  -999.0,9,-999.000,9,-999.0000,9, -999.00,9, -999.00,9,  -999.0,9,  -999.0,-999.000,9,-999.000,     -999.0,-999.0000,-999.000,     2.0833,-999.000
  316N138_4,       P06C,     154,          1,         18,        118,2,19920626,       1625,   -32.5118,  -168.4998,       5481,  2320.7,   2.1028,  34.6427,2,  34.6415,2,    147.9,2,   146.5,2,  120.06,2,   36.08,2,   -0.01,2,    2.56,2,-999.000,5,-999.000,5,  -999.0,9,  -999.0,9,-999.000,9,   1.9810,2,   26.32,2, -999.00,9,  -999.0,9,  -999.0,-999.000,9,-999.000,     -999.0,-999.0000,   0.150,     1.9369,-999.000
  316N138_4,       P06C,     154,          1,         17,        117,2,19920626,       1625,   -32.5118,  -168.4998,       5481,  2522.8,   2.0124,  34.6513,2,  34.6500,2,    147.4,2,   146.4,2,  123.78,2,   36.08,2,    0.00,2,    2.57,2,-999.000,5,-999.000,5,  -999.0,9,  -999.0,9,-999.000,9,-999.0000,9, -999.00,9, -999.00,9,  -999.0,9,  -999.0,-999.000,9,-999.000,     -999.0,-999.0000,-999.000,     1.8298,-999.000
  316N138_4,       P06C,     154,          1,         16,        116,2,19920626,       1625,   -32.5118,  -168.4998,       5481,  2725.8,   1.9273,  34.6590,2,  34.6570,2,    148.2,2,   148.1,2,  126.62,2,   36.11,2,    0.00,2,    2.56,2,-999.000,5,-999.000,5,  -999.0,9,  -999.0,9,-999.000,9,   1.9960,2,   25.01,2, -999.00,9,  -999.0,9,  -999.0,-999.000,9,-999.000,     -999.0,-999.0000,   0.150,     1.7275,-999.000
  316N138_4,       P06C,     154,          1,         15,        115,2,19920626,       1625,   -32.5118,  -168.4998,       5481,  2928.3,   1.8459,  34.6668,2,  34.6645,2,    150.4,2,   150.3,2,  128.22,2,   36.01,2,   -0.01,2,    2.55,2,-999.000,5,-999.000,5,  -999.0,9,  -999.0,9,-999.000,9,   1.9750,2,   24.00,2, -999.00,9,  -999.0,9,  -999.0,-999.000,9,-999.000,     -999.0,-999.0000,   0.150,     1.6284,-999.000
  316N138_4,       P06C,     154,          1,         14,        114,2,19920626,       1625,   -32.5118,  -168.4998,       5481,  3130.0,   1.7687,  34.6776,2,  34.6759,2,    154.0,2,   156.2,2,  127.00,2,   35.49,2,    0.00,2,    2.53,2,-999.000,5,-999.000,5,  -999.0,9,  -999.0,9,-999.000,9,   1.9900,2,   21.95,2, -999.00,9,  -999.0,9,  -999.0,-999.000,9,-999.000,     -999.0,-999.0000,   0.150,     1.5332,-999.000
  316N138_4,       P06C,     154,          1,         13,        125,2,19920626,       1625,   -32.5118,  -168.4998,       5481,  3331.1,   1.6929,  34.6905,2,  34.6891,2,    165.2,2,   166.0,2,  121.91,2,   34.69,2,    0.00,2,    2.44,2,-999.000,5,-999.000,5,  -999.0,9,  -999.0,9,-999.000,9,-999.0000,9, -999.00,9, -999.00,9,  -999.0,9,  -999.0,-999.000,9,-999.000,     -999.0,-999.0000,-999.000,     1.4392,-999.000
  316N138_4,       P06C,     154,          1,         12,        112,2,19920626,       1625,   -32.5118,  -168.4998,       5481,  3538.3,   1.6176,  34.7045,2,  34.7024,2,    179.3,2,   178.3,2,  115.41,2,   33.63,2,    0.00,2,    2.38,2,-999.000,5,-999.000,5,  -999.0,9,  -999.0,9,-999.000,9,   1.9460,2,   15.12,2, -999.00,9,  -999.0,9,  -999.0,-999.000,9,-999.000,     -999.0,-999.0000,   0.150,     1.3445,-999.000
  316N138_4,       P06C,     154,          1,         11,        129,2,19920626,       1625,   -32.5118,  -168.4998,       5481,  3743.4,   1.4853,  34.7164,2,  34.7158,2,    191.1,2,   191.0,2,  110.15,2,   32.67,2,    0.00,2,    2.30,2,-999.000,5,-999.000,5,  -999.0,9,  -999.0,9,-999.000,9,-999.0000,9, -999.00,9, -999.00,9,  -999.0,9,  -999.0,-999.000,9,-999.000,     -999.0,-999.0000,-999.000,     1.1941,-999.000
  316N138_4,       P06C,     154,          1,         10,        110,2,19920626,       1625,   -32.5118,  -168.4998,       5481,  3950.8,   1.3427,  34.7204,2,  34.7178,2,    198.7,2,   197.8,2,  111.04,2,   32.29,2,    0.00,2,    2.28,2,-999.000,5,-999.000,5,  -999.0,9,  -999.0,9,-999.000,9,-999.0000,9, -999.00,9, -999.00,9,  -999.0,9,  -999.0,-999.000,9,-999.000,     -999.0,-999.0000,-999.000,     1.0333,-999.000
  316N138_4,       P06C,     154,          1,          9,        126,2,19920626,       1625,   -32.5118,  -168.4998,       5481,  4155.7,   1.2099,  34.7157,2,  34.7152,2,    202.9,2,   203.3,2,  113.70,2,   32.29,2,    0.00,2,    2.28,2,-999.000,5,-999.000,5,  -999.0,9,  -999.0,9,-999.000,9,   1.9300,2,    8.92,2, -999.00,9,  -999.0,9,  -999.0,-999.000,9,-999.000,     -999.0,-999.0000,   0.150,     0.8822,-999.000
  316N138_4,       P06C,     154,          1,          8,        108,2,19920626,       1625,   -32.5118,  -168.4998,       5481,  4359.0,   1.1092,  34.7141,2,  34.7142,2,    205.2,2,   205.5,2,  116.53,2,   32.29,2,    0.00,2,    2.29,2,-999.000,5,-999.000,5,  -999.0,9,  -999.0,9,-999.000,9,-999.0000,9, -999.00,9, -999.00,9,  -999.0,9,  -999.0,-999.000,9,-999.000,     -999.0,-999.0000,-999.000,     0.7620,-999.000
  316N138_4,       P06C,     154,          1,          7,        107,2,19920626,       1625,   -32.5118,  -168.4998,       5481,  4560.5,   1.0448,  34.7110,2,  34.7099,2,    206.1,2,   206.2,2,  119.02,2,   32.33,2,    0.01,2,    2.29,2,-999.000,5,-999.000,5,  -999.0,9,  -999.0,9,-999.000,9,-999.0000,9, -999.00,9, -999.00,9,  -999.0,9,  -999.0,-999.000,9,-999.000,     -999.0,-999.0000,-999.000,     0.6770,-999.000
  316N138_4,       P06C,     154,          1,          6,        180,2,19920626,       1625,   -32.5118,  -168.4998,       5481,  4763.8,   1.0227,  34.7096,2,  34.7081,2,    207.6,2,   206.9,2,  120.27,2,   32.37,2,    0.01,2,    2.29,2,-999.000,5,-999.000,5,  -999.0,9,  -999.0,9,-999.000,9,-999.0000,9, -999.00,9, -999.00,9,  -999.0,9,  -999.0,-999.000,9,-999.000,     -999.0,-999.0000,-999.000,     0.6322,-999.000
  316N138_4,       P06C,     154,          1,          5,        131,2,19920626,       1625,   -32.5118,  -168.4998,       5481,  4967.3,   1.0237,  34.7084,2,  34.7064,2,    207.6,2,   207.1,2,  121.17,2,   32.38,2,    0.00,2,    2.28,2,-999.000,5,-999.000,5,  -999.0,9,  -999.0,9,-999.000,9,-999.0000,9, -999.00,9, -999.00,9,  -999.0,9,  -999.0,-999.000,9,-999.000,     -999.0,-999.0000,-999.000,     0.6094,-999.000
  316N138_4,       P06C,     154,          1,          4,        104,2,19920626,       1625,   -32.5118,  -168.4998,       5481,  5170.6,   1.0339,  34.7081,2,  34.7054,2,    208.4,2,   207.5,2,  121.54,2,   32.34,2,    0.00,2,    2.28,2,-999.000,5,-999.000,5,  -999.0,9,  -999.0,9,-999.000,9,   2.0100,2,    8.28,2, -999.00,9,  -999.0,9,  -999.0,-999.000,9,-999.000,     -999.0,-999.0000,   0.150,     0.5948,-999.000
  316N138_4,       P06C,     154,          1,          3,        130,2,19920626,       1625,   -32.5118,  -168.4998,       5481,  5378.5,   1.0573,  34.7077,2,  34.7062,2,    207.9,2,   208.3,2,  121.56,2,   32.35,2,    0.00,2,    2.27,2,-999.000,5,-999.000,5,  -999.0,9,  -999.0,9,-999.000,9,-999.0000,9, -999.00,9, -999.00,9,  -999.0,9,  -999.0,-999.000,9,-999.000,     -999.0,-999.0000,-999.000,     0.5920,-999.000
  316N138_4,       P06C,     154,          1,          2,        135,2,19920626,       1625,   -32.5118,  -168.4998,       5481,  5483.4,   1.0707,  34.7067,2,  34.7060,2,    208.1,2,   207.6,2,  121.75,2,   32.39,2,    0.00,2,    2.28,2,-999.000,5,-999.000,5,  -999.0,9,  -999.0,9,-999.000,9,-999.0000,9, -999.00,9, -999.00,9,  -999.0,9,  -999.0,-999.000,9,-999.000,     -999.0,-999.0000,-999.000,     0.5918,-999.000
  316N138_4,       P06C,     154,          1,          1,        134,2,19920626,       1625,   -32.5118,  -168.4998,       5481,  5600.3,   1.0854,  34.7081,2,  34.7060,2,    205.9,2,   206.8,2,  121.34,2,   32.45,2,    0.01,2,    2.28,2,-999.000,5,-999.000,5,  -999.0,9,  -999.0,9,-999.000,9,-999.0000,9, -999.00,9, -999.00,9,  -999.0,9,  -999.0,-999.000,9,-999.000,     -999.0,-999.0000,-999.000,     0.5913,-999.000