BOTTLE,20211025CCHSIORKP
EXPOCODE,SECT_ID,STNNBR,CASTNO,SAMPNO,BTLNBR,BTLNBR_FLAG_W,DATE,TIME,LATITUDE,LONGITUDE,DEPTH,CTDPRS,CTDTMP,CTDSAL,CTDSAL_FLAG_W,SALNTY,SALNTY_FLAG_W,CTDOXY,CTDOXY_FLAG_W,OXYGEN,OXYGEN_FLAG_W,SILCAT,SILCAT_FLAG_W,NITRAT,NITRAT_FLAG_W,NITRIT,NITRIT_FLAG_W,PHSPHT,PHSPHT_FLAG_W,CFC-11,CFC-11_FLAG_W,CFC-12,CFC-12_FLAG_W,TCARBN,TCARBN_FLAG_W,PCO2,PCO2_FLAG_W,TRITUM,TRITUM_FLAG_W,HELIUM,HELIUM_FLAG_W,DELHE3,DELHE3_FLAG_W,DELC13,DELC13_FLAG_W,DELC14,DELC14_FLAG_W,C14ERR,NEON,NEON_FLAG_W,NEONER,PCO2TMP,HELIER,DELHER,THETA,TRITER
,,,,,,,,,,,METERS,DBAR,ITS-90,PSS-78,,PSS-78,,UMOL/KG,,UMOL/KG,,UMOL/KG,,UMOL/KG,,UMOL/KG,,UMOL/KG,,PMOL/KG,,PMOL/KG,,UMOL/KG,,UATM,,TU,,NMOL/KG,,PERCNT,,/MILLE,,/MILLE,,/MILLE,NMOL/KG,,NMOL/KG,DEG_C,NMOL/KG,PERCNT,ITS-90,TU
  316N138_4,       P06C,     150,          1,         36,    02-9121,2,19920625,       1748,   -32.5023,  -166.4913,       5300,    26.4,  16.7599,  35.4231,2,  35.4226,2,    247.4,2,   236.6,2,    0.66,2,    0.11,2,    0.01,2,    0.17,2,-999.000,5,-999.000,5,  -999.0,9,  -999.0,9,   0.624,2,   1.8060,2,   -1.42,2, -999.00,9,  -999.0,9,  -999.0,   7.350,2,   0.017,     -999.0,   0.0040,   0.150,    16.7556,   0.004
  316N138_4,       P06C,     150,          1,         35,    02-9454,2,19920625,       1748,   -32.5023,  -166.4913,       5300,    63.3,  16.7635,  35.4233,2,  35.4235,2,    241.4,2,   237.6,2,    0.66,2,    0.11,2,    0.01,2,    0.15,2,-999.000,5,-999.000,5,  -999.0,9,  -999.0,9,   0.645,2,   1.7850,2,   -1.17,2, -999.00,9,  -999.0,9,  -999.0,   7.272,2,   0.017,     -999.0,   0.0040,   0.150,    16.7532,   0.004
  316N138_4,       P06C,     150,          1,         34,    02-9457,2,19920625,       1748,   -32.5023,  -166.4913,       5300,   113.0,  16.7718,  35.4249,2,  35.4243,2,    231.7,2,   236.5,2,    0.54,2,    0.10,2,    0.01,2,    0.18,2,-999.000,5,-999.000,5,  -999.0,9,  -999.0,9,   0.635,2,   1.7880,2,   -1.33,2, -999.00,9,  -999.0,9,  -999.0,   7.301,2,   0.017,     -999.0,   0.0040,   0.150,    16.7533,   0.004
  316N138_4,       P06C,     150,          1,         33,    02-5367,2,19920625,       1748,   -32.5023,  -166.4913,       5300,   160.5,  14.9465,  35.2984,2,  35.2988,2,    220.0,2,   220.4,2,    1.22,2,    3.03,2,    0.02,2,    0.41,2,-999.000,5,-999.000,5,  -999.0,9,  -999.0,9,   0.597,2,   1.8180,2,   -1.01,2, -999.00,9,  -999.0,9,  -999.0,   7.484,2,   0.017,     -999.0,   0.0040,   0.150,    14.9222,   0.004
  316N138_4,       P06C,     150,          1,         32,    02-9540,2,19920625,       1748,   -32.5023,  -166.4913,       5300,   213.3,  13.6448,  35.1510,2,  35.1475,2,    207.3,2,   209.5,2,    2.05,2,    6.90,2,    0.01,2,    0.63,2,-999.000,5,-999.000,5,  -999.0,9,  -999.0,9,   0.508,2,   1.8290,2,   -0.30,2, -999.00,9,  -999.0,9,  -999.0,   7.554,2,   0.017,     -999.0,   0.0040,   0.150,    13.6145,   0.004
  316N138_4,       P06C,     150,          1,         31,    02-9539,2,19920625,       1748,   -32.5023,  -166.4913,       5300,   318.5,  10.9385,  34.8390,2,  34.8410,2,    204.1,2,   205.8,2,    3.85,2,   13.75,2,    0.00,2,    1.02,2,-999.000,5,-999.000,5,  -999.0,9,  -999.0,9,   0.366,2,-999.0000,9, -999.00,9, -999.00,9,  -999.0,9,  -999.0,-999.000,9,-999.000,     -999.0,-999.0000,-999.000,    10.8992,   0.003
  316N138_4,       P06C,     150,          1,         30,    02-9456,2,19920625,       1748,   -32.5023,  -166.4913,       5300,   413.0,   8.9059,  34.5993,2,  34.5971,2,    214.1,2,   219.3,2,    4.96,2,   17.82,2,    0.00,2,    1.25,2,-999.000,5,-999.000,5,  -999.0,9,  -999.0,9,   0.301,2,   1.8350,2,   -0.13,2, -999.00,9,  -999.0,9,  -999.0,   7.750,2,   0.018,     -999.0,   0.0040,   0.150,     8.8609,   0.003
  316N138_4,       P06C,     150,          1,         29,    02-9458,2,19920625,       1748,   -32.5023,  -166.4913,       5300,   511.9,   7.9934,  34.5063,2,  34.5097,2,    225.2,2,   228.3,2,    5.79,2,   19.72,2,   -0.01,2,    1.37,2,-999.000,5,-999.000,5,  -999.0,9,  -999.0,9,   0.262,2,   1.8550,2,    0.03,2, -999.00,9,  -999.0,9,  -999.0,   7.876,2,   0.018,     -999.0,   0.0040,   0.150,     7.9409,   0.003
  316N138_4,       P06C,     150,          1,         28,    02-9545,2,19920625,       1748,   -32.5023,  -166.4913,       5300,   613.5,   7.2924,  34.4445,2,  34.4506,2,    232.4,2,   231.6,2,    7.03,2,   21.42,2,    0.00,2,    1.47,2,-999.000,5,-999.000,5,  -999.0,9,  -999.0,9,   0.212,2,   1.8450,2,    0.10,2, -999.00,9,  -999.0,9,  -999.0,   7.931,2,   0.018,     -999.0,   0.0040,   0.150,     7.2324,   0.003
  316N138_4,       P06C,     150,          1,         27,    02-9453,2,19920625,       1748,   -32.5023,  -166.4913,       5300,   711.8,   6.7972,  34.3998,2,  34.3998,2,    233.8,2,   232.2,2,    8.69,2,   22.89,2,    0.00,2,    1.56,2,-999.000,5,-999.000,5,  -999.0,9,  -999.0,9,   0.161,2,   1.8920,2,    0.26,2, -999.00,9,  -999.0,9,  -999.0,   8.103,2,   0.019,     -999.0,   0.0040,   0.150,     6.7298,   0.002
  316N138_4,       P06C,     150,          1,         26,    02-9544,2,19920625,       1748,   -32.5023,  -166.4913,       5300,   806.0,   6.2855,  34.3625,2,  34.3627,2,    230.1,2,   228.7,2,   11.59,2,   24.65,2,    0.00,2,    1.67,2,-999.000,5,-999.000,5,  -999.0,9,  -999.0,9,   0.114,2,   1.8520,2,    0.34,2, -999.00,9,  -999.0,9,  -999.0,   8.005,2,   0.018,     -999.0,   0.0040,   0.150,     6.2118,   0.002
  316N138_4,       P06C,     150,          1,         25,    02-9455,2,19920625,       1748,   -32.5023,  -166.4913,       5300,   903.1,   5.7105,  34.3451,2,  34.3466,2,    220.6,2,   216.2,2,   17.39,2,   26.94,2,    0.01,2,    1.84,2,-999.000,5,-999.000,5,  -999.0,9,  -999.0,9,-999.000,9,-999.0000,9, -999.00,9, -999.00,9,  -999.0,9,  -999.0,-999.000,9,-999.000,     -999.0,-999.0000,-999.000,     5.6312,-999.000
  316N138_4,       P06C,     150,          1,         24,        132,2,19920625,       1748,   -32.5023,  -166.4913,       5300,  1011.4,   5.1109,  34.3468,2,  34.3464,2,    206.8,2,   204.3,2,   24.69,2,   28.86,2,    0.10,3,    1.97,2,-999.000,5,-999.000,5,  -999.0,9,  -999.0,9,   0.037,2,   1.8630,2,    1.90,2, -999.00,9,  -999.0,9,  -999.0,   8.064,2,   0.018,     -999.0,   0.0040,   0.150,     5.0260,   0.002
  316N138_4,       P06C,     150,          1,         23,        123,2,19920625,       1748,   -32.5023,  -166.4913,       5300,  1116.9,   4.2422,  34.3588,2,  34.3578,2,    198.5,3,   192.9,2,   36.70,2,   31.59,2,    0.00,2,    2.15,2,-999.000,5,-999.000,5,  -999.0,9,  -999.0,9,-999.000,9,-999.0000,9, -999.00,9, -999.00,9,  -999.0,9,  -999.0,-999.000,9,-999.000,     -999.0,-999.0000,-999.000,     4.1549,-999.000
  316N138_4,       P06C,     150,          1,         22,        128,2,19920625,       1748,   -32.5023,  -166.4913,       5300,  1215.0,   3.7314,  34.3932,2,  34.3927,2,    187.4,2,   184.6,2,   47.33,2,   32.88,2,    0.01,2,    2.26,2,-999.000,5,-999.000,5,  -999.0,9,  -999.0,9,   0.005,2,   1.9080,2,    5.18,2, -999.00,9,  -999.0,9,  -999.0,   8.178,2,   0.019,     -999.0,   0.0040,   0.150,     3.6402,   0.002
  316N138_4,       P06C,     150,          1,         21,        121,2,19920625,       1748,   -32.5023,  -166.4913,       5300,  1416.6,   3.0695,  34.4847,2,  34.4836,2,    172.3,2,   170.6,2,   67.33,2,   34.25,2,    0.01,2,    2.38,2,-999.000,5,-999.000,5,  -999.0,9,  -999.0,9,  -0.002,2,-999.0000,9, -999.00,9, -999.00,9,  -999.0,9,  -999.0,-999.000,9,-999.000,     -999.0,-999.0000,-999.000,     2.9680,   0.002
  316N138_4,       P06C,     150,          1,         20,        120,2,19920625,       1748,   -32.5023,  -166.4913,       5300,  1620.7,   2.6683,  34.5650,2,  34.5671,2,    159.6,2,   158.5,2,   88.29,2,   34.86,2,    0.02,2,    2.45,2,-999.000,5,-999.000,5,  -999.0,9,  -999.0,9,  -0.001,2,   1.9490,2,   14.53,2, -999.00,9,  -999.0,9,  -999.0,   8.352,2,   0.019,     -999.0,   0.0040,   0.150,     2.5544,   0.002
  316N138_4,       P06C,     150,          1,         19,        133,2,19920625,       1748,   -32.5023,  -166.4913,       5300,  1825.4,   2.4432,  34.6057,2,  34.6056,2,    153.1,2,   153.1,2,  101.95,2,   35.33,2,    0.00,2,    2.52,2,-999.000,5,-999.000,5,  -999.0,9,  -999.0,9,-999.000,9,-999.0000,9, -999.00,9, -999.00,9,  -999.0,9,  -999.0,-999.000,9,-999.000,     -999.0,-999.0000,-999.000,     2.3150,-999.000
  316N138_4,       P06C,     150,          1,         18,        118,2,19920625,       1748,   -32.5023,  -166.4913,       5300,  2027.3,   2.2541,  34.6284,2,  34.6284,2,    149.5,2,   149.5,2,  111.61,2,   35.65,2,    0.01,2,    2.54,2,-999.000,5,-999.000,5,  -999.0,9,  -999.0,9,  -0.001,2,   2.1100,2,   21.30,2, -999.00,9,  -999.0,9,  -999.0,   8.837,2,   0.020,     -999.0,   0.0040,   0.150,     2.1114,   0.002
  316N138_4,       P06C,     150,          1,         17,        117,2,19920625,       1748,   -32.5023,  -166.4913,       5300,  2231.1,   2.1306,  34.6396,2,  34.6403,2,    147.4,2,   147.0,2,  118.25,2,   35.89,2,    0.01,2,    2.57,2,-999.000,5,-999.000,5,  -999.0,9,  -999.0,9,-999.000,9,-999.0000,9, -999.00,9, -999.00,9,  -999.0,9,  -999.0,-999.000,9,-999.000,     -999.0,-999.0000,-999.000,     1.9722,-999.000
  316N138_4,       P06C,     150,          1,         16,        116,2,19920625,       1748,   -32.5023,  -166.4913,       5300,  2435.0,   2.0264,  34.6490,2,  34.6498,2,    147.0,2,   145.9,2,  123.22,2,   36.05,2,    0.02,2,    2.58,2,-999.000,5,-999.000,5,  -999.0,9,  -999.0,9,-999.000,9,-999.0000,9, -999.00,9, -999.00,9,  -999.0,9,  -999.0,-999.000,9,-999.000,     -999.0,-999.0000,-999.000,     1.8516,-999.000
  316N138_4,       P06C,     150,          1,         15,        115,2,19920625,       1748,   -32.5023,  -166.4913,       5300,  2639.0,   1.9424,  34.6562,2,  34.6572,2,    147.2,2,   146.1,2,  126.82,2,   36.18,2,    0.00,2,    2.57,2,-999.000,5,-999.000,5,  -999.0,9,  -999.0,9,-999.000,9,-999.0000,9, -999.00,9, -999.00,9,  -999.0,9,  -999.0,-999.000,9,-999.000,     -999.0,-999.0000,-999.000,     1.7504,-999.000
  316N138_4,       P06C,     150,          1,         14,        114,2,19920625,       1748,   -32.5023,  -166.4913,       5300,  2843.3,   1.8645,  34.6637,2,  34.6643,2,    148.2,2,   147.7,2,  129.32,2,   36.01,2,    0.00,2,    2.57,2,-999.000,5,-999.000,5,  -999.0,9,  -999.0,9,-999.000,9,-999.0000,9, -999.00,9, -999.00,9,  -999.0,9,  -999.0,-999.000,9,-999.000,     -999.0,-999.0000,-999.000,     1.6548,-999.000
  316N138_4,       P06C,     150,          1,         13,        125,2,19920625,       1748,   -32.5023,  -166.4913,       5300,  3045.0,   1.8000,  34.6710,2,  34.6718,2,    151.9,2,   151.0,2,  130.43,2,   35.64,2,   -0.01,2,    2.56,2,-999.000,5,-999.000,5,  -999.0,9,  -999.0,9,-999.000,9,-999.0000,9, -999.00,9, -999.00,9,  -999.0,9,  -999.0,-999.000,9,-999.000,     -999.0,-999.0000,-999.000,     1.5722,-999.000
  316N138_4,       P06C,     150,          1,         12,        112,2,19920625,       1748,   -32.5023,  -166.4913,       5300,  3250.1,   1.7195,  34.6816,2,  34.6830,2,    160.2,2,   159.2,2,  127.69,2,   34.86,2,    0.00,2,    2.49,2,-999.000,5,-999.000,5,  -999.0,9,  -999.0,9,-999.000,9,-999.0000,9, -999.00,9, -999.00,9,  -999.0,9,  -999.0,-999.000,9,-999.000,     -999.0,-999.0000,-999.000,     1.4732,-999.000
  316N138_4,       P06C,     150,          1,         11,        129,2,19920625,       1748,   -32.5023,  -166.4913,       5300,  3454.2,   1.6422,  34.6966,2,  34.6979,2,    172.0,2,   170.9,2,  121.21,2,   33.82,2,   -0.01,2,    2.41,2,-999.000,5,-999.000,5,  -999.0,9,  -999.0,9,-999.000,9,-999.0000,9, -999.00,9, -999.00,9,  -999.0,9,  -999.0,-999.000,9,-999.000,     -999.0,-999.0000,-999.000,     1.3772,-999.000
  316N138_4,       P06C,     150,          1,         10,        110,2,19920625,       1748,   -32.5023,  -166.4913,       5300,  3657.2,   1.5522,  34.7097,2,  34.7099,2,    184.8,2,   183.2,2,  115.29,2,   32.68,2,   -0.01,2,    2.31,2,-999.000,5,-999.000,5,  -999.0,9,  -999.0,9,-999.000,9,-999.0000,9, -999.00,9, -999.00,9,  -999.0,9,  -999.0,-999.000,9,-999.000,     -999.0,-999.0000,-999.000,     1.2683,-999.000
  316N138_4,       P06C,     150,          1,          9,        126,2,19920625,       1748,   -32.5023,  -166.4913,       5300,  3861.7,   1.4141,  34.7188,2,  34.7195,2,    194.8,2,   194.1,2,  112.13,2,   31.87,2,   -0.01,2,    2.26,2,-999.000,5,-999.000,5,  -999.0,9,  -999.0,9,-999.000,9,-999.0000,9, -999.00,9, -999.00,9,  -999.0,9,  -999.0,-999.000,9,-999.000,     -999.0,-999.0000,-999.000,     1.1122,-999.000
  316N138_4,       P06C,     150,          1,          8,        108,2,19920625,       1748,   -32.5023,  -166.4913,       5300,  4066.7,   1.2456,  34.7165,2,  34.7182,2,    202.0,2,   201.2,2,  114.35,2,   31.70,2,   -0.01,2,    2.26,2,-999.000,5,-999.000,5,  -999.0,9,  -999.0,9,-999.000,9,-999.0000,9, -999.00,9, -999.00,9,  -999.0,9,  -999.0,-999.000,9,-999.000,     -999.0,-999.0000,-999.000,     0.9266,-999.000
  316N138_4,       P06C,     150,          1,          7,        107,2,19920625,       1748,   -32.5023,  -166.4913,       5300,  4267.3,   1.1321,  34.7143,2,  34.7150,2,    204.5,2,   204.6,2,  117.26,2,   31.77,2,    0.00,2,    2.26,2,-999.000,5,-999.000,5,  -999.0,9,  -999.0,9,-999.000,9,-999.0000,9, -999.00,9, -999.00,9,  -999.0,9,  -999.0,-999.000,9,-999.000,     -999.0,-999.0000,-999.000,     0.7944,-999.000
  316N138_4,       P06C,     150,          1,          6,        180,2,19920625,       1748,   -32.5023,  -166.4913,       5300,  4474.3,   1.0498,  34.7111,2,  34.7123,2,    205.8,2,   205.3,2,  119.76,2,   31.83,2,    0.02,2,    2.26,2,-999.000,5,-999.000,5,  -999.0,9,  -999.0,9,-999.000,9,-999.0000,9, -999.00,9, -999.00,9,  -999.0,9,  -999.0,-999.000,9,-999.000,     -999.0,-999.0000,-999.000,     0.6916,-999.000
  316N138_4,       P06C,     150,          1,          5,        131,2,19920625,       1748,   -32.5023,  -166.4913,       5300,  4675.9,   1.0122,  34.7089,2,  34.7097,2,    207.2,2,   206.4,2,  121.15,2,   31.91,2,    0.01,2,    2.27,2,-999.000,5,-999.000,5,  -999.0,9,  -999.0,9,-999.000,9,-999.0000,9, -999.00,9, -999.00,9,  -999.0,9,  -999.0,-999.000,9,-999.000,     -999.0,-999.0000,-999.000,     0.6322,-999.000
  316N138_4,       P06C,     150,          1,          4,        104,2,19920625,       1748,   -32.5023,  -166.4913,       5300,  4880.8,   1.0119,  34.7090,2,  34.7093,2,    208.0,2,   206.4,2,  121.86,2,   32.00,2,    0.00,2,    2.27,2,-999.000,5,-999.000,5,  -999.0,9,  -999.0,9,-999.000,9,-999.0000,9, -999.00,9, -999.00,9,  -999.0,9,  -999.0,-999.000,9,-999.000,     -999.0,-999.0000,-999.000,     0.6082,-999.000
  316N138_4,       P06C,     150,          1,          3,        130,2,19920625,       1748,   -32.5023,  -166.4913,       5300,  5087.4,   1.0295,  34.7086,2,  34.7089,2,    207.4,2,  -999.0,9,  121.87,2,   32.02,2,    0.01,2,    2.28,2,-999.000,5,-999.000,5,  -999.0,9,  -999.0,9,-999.000,9,-999.0000,9, -999.00,9, -999.00,9,  -999.0,9,  -999.0,-999.000,9,-999.000,     -999.0,-999.0000,-999.000,     0.6006,-999.000
  316N138_4,       P06C,     150,          1,          2,        135,2,19920625,       1748,   -32.5023,  -166.4913,       5300,  5293.5,   1.0513,  34.7075,2,  34.7081,2,    207.6,2,   206.7,2,  121.60,2,   31.97,2,    0.01,2,    2.27,2,-999.000,5,-999.000,5,  -999.0,9,  -999.0,9,-999.000,9,-999.0000,9, -999.00,9, -999.00,9,  -999.0,9,  -999.0,-999.000,9,-999.000,     -999.0,-999.0000,-999.000,     0.5967,-999.000
  316N138_4,       P06C,     150,          1,          1,        134,2,19920625,       1748,   -32.5023,  -166.4913,       5300,  5521.9,   1.0797,  34.7082,2,  34.7085,2,    207.2,2,   206.8,2,  121.73,2,   32.23,2,    0.01,2,    2.28,2,-999.000,5,-999.000,5,  -999.0,9,  -999.0,9,-999.000,9,-999.0000,9, -999.00,9, -999.00,9,  -999.0,9,  -999.0,-999.000,9,-999.000,     -999.0,-999.0000,-999.000,     0.5957,-999.000