BOTTLE,20211025CCHSIORKP
EXPOCODE,SECT_ID,STNNBR,CASTNO,SAMPNO,BTLNBR,BTLNBR_FLAG_W,DATE,TIME,LATITUDE,LONGITUDE,DEPTH,CTDPRS,CTDTMP,CTDSAL,CTDSAL_FLAG_W,SALNTY,SALNTY_FLAG_W,CTDOXY,CTDOXY_FLAG_W,OXYGEN,OXYGEN_FLAG_W,SILCAT,SILCAT_FLAG_W,NITRAT,NITRAT_FLAG_W,NITRIT,NITRIT_FLAG_W,PHSPHT,PHSPHT_FLAG_W,CFC-11,CFC-11_FLAG_W,CFC-12,CFC-12_FLAG_W,TCARBN,TCARBN_FLAG_W,PCO2,PCO2_FLAG_W,TRITUM,TRITUM_FLAG_W,HELIUM,HELIUM_FLAG_W,DELHE3,DELHE3_FLAG_W,DELC13,DELC13_FLAG_W,DELC14,DELC14_FLAG_W,C14ERR,NEON,NEON_FLAG_W,NEONER,PCO2TMP,HELIER,DELHER,THETA,TRITER
,,,,,,,,,,,METERS,DBAR,ITS-90,PSS-78,,PSS-78,,UMOL/KG,,UMOL/KG,,UMOL/KG,,UMOL/KG,,UMOL/KG,,UMOL/KG,,PMOL/KG,,PMOL/KG,,UMOL/KG,,UATM,,TU,,NMOL/KG,,PERCNT,,/MILLE,,/MILLE,,/MILLE,NMOL/KG,,NMOL/KG,DEG_C,NMOL/KG,PERCNT,ITS-90,TU
  316N138_4,       P06C,     170,          1,         36,    02-9121,2,19920630,       2214,   -32.4948,  -175.2513,       5723,    18.5,  16.7853,  35.5984,2,  35.5969,2,    232.4,2,   231.4,2,    1.35,2,    1.27,2,    0.10,2,    0.27,2,-999.000,5,-999.000,5,  2049.1,6,  -999.0,9,-999.000,9,-999.0000,9, -999.00,9, -999.00,9,  -999.0,9,  -999.0,-999.000,9,-999.000,     -999.0,-999.0000,-999.000,    16.7823,-999.000
  316N138_4,       P06C,     170,          1,         35,    02-9454,2,19920630,       2214,   -32.4948,  -175.2513,       5723,    57.8,  16.7801,  35.5986,2,  35.5955,2,    231.2,2,   230.6,2,    1.35,2,    1.31,2,    0.10,2,    0.29,2,-999.000,5,-999.000,5,  2049.8,2,  -999.0,9,-999.000,9,-999.0000,9, -999.00,9, -999.00,9,  -999.0,9,  -999.0,-999.000,9,-999.000,     -999.0,-999.0000,-999.000,    16.7707,-999.000
  316N138_4,       P06C,     170,          1,         34,    02-9457,2,19920630,       2214,   -32.4948,  -175.2513,       5723,   109.6,  16.7344,  35.5858,2,  35.5811,2,    210.5,2,   227.7,2,    1.35,2,    1.82,2,    0.10,2,    0.32,2,-999.000,5,-999.000,5,  2053.0,2,  -999.0,9,-999.000,9,-999.0000,9, -999.00,9, -999.00,9,  -999.0,9,  -999.0,-999.000,9,-999.000,     -999.0,-999.0000,-999.000,    16.7165,-999.000
  316N138_4,       P06C,     170,          1,         33,    02-5367,2,19920630,       2214,   -32.4948,  -175.2513,       5723,   206.3,  14.2682,  35.2820,2,  35.2808,2,    195.5,2,   196.7,2,    3.37,2,    9.12,2,    0.01,2,    0.76,2,-999.000,5,-999.000,5,  2093.9,2,  -999.0,9,-999.000,9,-999.0000,9, -999.00,9, -999.00,9,  -999.0,9,  -999.0,-999.000,9,-999.000,     -999.0,-999.0000,-999.000,    14.2379,-999.000
  316N138_4,       P06C,     170,          1,         32,    02-9540,2,19920630,       2214,   -32.4948,  -175.2513,       5723,   305.9,  12.4289,  35.0576,2,  35.0571,2,    190.0,2,   196.1,2,    4.54,2,   12.71,2,    0.01,2,    0.99,2,-999.000,5,-999.000,5,  2110.7,2,  -999.0,9,-999.000,9,-999.0000,9, -999.00,9, -999.00,9,  -999.0,9,  -999.0,-999.000,9,-999.000,     -999.0,-999.0000,-999.000,    12.3878,-999.000
  316N138_4,       P06C,     170,          1,         31,    02-9539,2,19920630,       2214,   -32.4948,  -175.2513,       5723,   404.8,  10.0052,  34.7563,2,-999.0000,9,    196.5,2,  -999.0,9, -999.00,9, -999.00,9, -999.00,9, -999.00,9,-999.000,5,-999.000,5,  -999.0,9,  -999.0,9,-999.000,9,-999.0000,9, -999.00,9, -999.00,9,  -999.0,9,  -999.0,-999.000,9,-999.000,     -999.0,-999.0000,-999.000,     9.9579,-999.000
  316N138_4,       P06C,     170,          1,         30,    02-9456,2,19920630,       2214,   -32.4948,  -175.2513,       5723,   507.8,   8.6770,  34.5901,2,  34.5932,2,    207.7,2,   207.6,2,    6.73,2,   20.15,2,    0.01,2,    1.43,2,-999.000,5,-999.000,5,  2130.5,2,  -999.0,9,-999.000,9,-999.0000,9, -999.00,9, -999.00,9,  -999.0,9,  -999.0,-999.000,9,-999.000,     -999.0,-999.0000,-999.000,     8.6223,-999.000
  316N138_4,       P06C,     170,          1,         29,    02-9458,2,19920630,       2214,   -32.4948,  -175.2513,       5723,   607.3,   7.5964,  34.4958,2,  34.4832,2,    218.6,2,   217.9,2,    7.74,2,   22.08,2,    0.01,2,    1.56,2,-999.000,5,-999.000,5,  2138.4,2,  -999.0,9,-999.000,9,-999.0000,9, -999.00,9, -999.00,9,  -999.0,9,  -999.0,-999.000,9,-999.000,     -999.0,-999.0000,-999.000,     7.5356,-999.000
  316N138_4,       P06C,     170,          1,         28,    02-9545,2,19920630,       2214,   -32.4948,  -175.2513,       5723,   709.9,   6.8747,  34.4195,2,  34.4202,2,    222.3,2,   220.6,2,   10.43,2,   23.79,2,    0.00,2,    1.67,2,-999.000,5,-999.000,5,  2142.5,6,  -999.0,9,-999.000,9,-999.0000,9, -999.00,9, -999.00,9,  -999.0,9,  -999.0,-999.000,9,-999.000,     -999.0,-999.0000,-999.000,     6.8072,-999.000
  316N138_4,       P06C,     170,          1,         27,    02-9453,2,19920630,       2214,   -32.4948,  -175.2513,       5723,   808.5,   6.2138,  34.3732,2,  34.3768,2,    217.3,2,   215.4,2,   14.81,2,   25.83,2,    0.00,2,    1.81,2,-999.000,5,-999.000,5,  2154.4,2,  -999.0,9,-999.000,9,-999.0000,9, -999.00,9, -999.00,9,  -999.0,9,  -999.0,-999.000,9,-999.000,     -999.0,-999.0000,-999.000,     6.1403,-999.000
  316N138_4,       P06C,     170,          1,         26,    02-9544,2,19920630,       2214,   -32.4948,  -175.2513,       5723,   912.3,   5.6717,  34.3640,2,  34.3682,2,    207.2,2,   207.5,2,   20.52,2,   27.53,2,    0.00,2,    1.93,2,-999.000,5,-999.000,5,  2167.0,2,  -999.0,9,-999.000,9,-999.0000,9, -999.00,9, -999.00,9,  -999.0,9,  -999.0,-999.000,9,-999.000,     -999.0,-999.0000,-999.000,     5.5919,-999.000
  316N138_4,       P06C,     170,          1,         25,    02-9455,2,19920630,       2214,   -32.4948,  -175.2513,       5723,  1013.0,   5.2455,  34.3899,2,  34.3896,2,    194.0,2,   195.7,2,   28.93,2,   29.22,2,    0.00,2,    2.04,2,-999.000,5,-999.000,5,  2183.6,2,  -999.0,9,-999.000,9,-999.0000,9, -999.00,9, -999.00,9,  -999.0,9,  -999.0,-999.000,9,-999.000,     -999.0,-999.0000,-999.000,     5.1594,-999.000
  316N138_4,       P06C,     170,          1,         24,        132,2,19920630,       2214,   -32.4948,  -175.2513,       5723,  1212.5,   3.9789,  34.4178,2,  34.4171,2,    179.8,2,   179.4,2,   49.11,2,   32.43,2,    0.00,2,    2.27,2,-999.000,5,-999.000,5,  2218.3,2,  -999.0,9,-999.000,9,-999.0000,9, -999.00,9, -999.00,9,  -999.0,9,  -999.0,-999.000,9,-999.000,     -999.0,-999.0000,-999.000,     3.8857,-999.000
  316N138_4,       P06C,     170,          1,         23,        123,2,19920630,       2214,   -32.4948,  -175.2513,       5723,  1417.8,   3.2457,  34.4933,2,  34.4928,2,    167.6,2,   167.6,2,   69.12,2,   33.88,2,    0.00,2,    2.40,2,-999.000,5,-999.000,5,  2246.6,2,  -999.0,9,-999.000,9,-999.0000,9, -999.00,9, -999.00,9,  -999.0,9,  -999.0,-999.000,9,-999.000,     -999.0,-999.0000,-999.000,     3.1421,-999.000
  316N138_4,       P06C,     170,          1,         22,        128,2,19920630,       2214,   -32.4948,  -175.2513,       5723,  1617.2,   2.8039,  34.5630,2,  34.5641,2,    158.6,2,   158.2,2,   88.63,2,   34.68,2,    0.00,2,    2.48,2,-999.000,5,-999.000,5,  2271.3,2,  -999.0,9,-999.000,9,-999.0000,9, -999.00,9, -999.00,9,  -999.0,9,  -999.0,-999.000,9,-999.000,     -999.0,-999.0000,-999.000,     2.6887,-999.000
  316N138_4,       P06C,     170,          1,         21,        121,2,19920630,       2214,   -32.4948,  -175.2513,       5723,  1821.1,   2.5254,  34.6009,2,  34.5997,2,    153.2,2,   152.6,2,  101.24,2,   35.24,2,    0.00,2,    2.53,2,-999.000,5,-999.000,5,  2285.7,2,  -999.0,9,-999.000,9,-999.0000,9, -999.00,9, -999.00,9,  -999.0,9,  -999.0,-999.000,9,-999.000,     -999.0,-999.0000,-999.000,     2.3965,-999.000
  316N138_4,       P06C,     170,          1,         20,        120,2,19920630,       2214,   -32.4948,  -175.2513,       5723,  2024.4,   2.3333,  34.6221,2,  34.6215,2,    149.8,2,   148.8,2,  110.14,2,   35.71,2,    0.00,2,    2.56,2,-999.000,5,-999.000,5,  2296.8,2,  -999.0,9,-999.000,9,-999.0000,9, -999.00,9, -999.00,9,  -999.0,9,  -999.0,-999.000,9,-999.000,     -999.0,-999.0000,-999.000,     2.1898,-999.000
  316N138_4,       P06C,     170,          1,         19,        133,2,19920630,       2214,   -32.4948,  -175.2513,       5723,  2225.8,   2.2253,  34.6336,2,  34.6344,2,    147.9,2,   147.5,2,  115.35,2,   36.03,2,    0.00,2,    2.57,2,-999.000,5,-999.000,5,  2303.1,2,  -999.0,9,-999.000,9,-999.0000,9, -999.00,9, -999.00,9,  -999.0,9,  -999.0,-999.000,9,-999.000,     -999.0,-999.0000,-999.000,     2.0657,-999.000
  316N138_4,       P06C,     170,          1,         18,        118,2,19920630,       2214,   -32.4948,  -175.2513,       5723,  2432.7,   2.1022,  34.6452,2,  34.6453,2,    147.1,2,   148.3,2,  120.22,2,   36.25,2,    0.00,2,    2.58,2,-999.000,5,-999.000,5,  2308.0,6,  -999.0,9,-999.000,9,-999.0000,9, -999.00,9, -999.00,9,  -999.0,9,  -999.0,-999.000,9,-999.000,     -999.0,-999.0000,-999.000,     1.9262,-999.000
  316N138_4,       P06C,     170,          1,         17,        117,2,19920630,       2214,   -32.4948,  -175.2513,       5723,  2633.5,   1.9941,  34.6555,2,  34.6561,2,    148.5,2,   148.3,2,  123.63,2,   35.92,2,    0.00,2,    2.56,2,-999.000,5,-999.000,5,  2310.2,2,  -999.0,9,-999.000,9,-999.0000,9, -999.00,9, -999.00,9,  -999.0,9,  -999.0,-999.000,9,-999.000,     -999.0,-999.0000,-999.000,     1.8016,-999.000
  316N138_4,       P06C,     170,          1,         16,        116,2,19920630,       2214,   -32.4948,  -175.2513,       5723,  2836.4,   1.8794,  34.6712,2,  34.6724,2,    154.4,2,   154.2,2,  123.15,2,   35.34,2,    0.00,2,    2.51,2,-999.000,5,-999.000,5,  2304.7,2,  -999.0,9,-999.000,9,-999.0000,9, -999.00,9, -999.00,9,  -999.0,9,  -999.0,-999.000,9,-999.000,     -999.0,-999.0000,-999.000,     1.6701,-999.000
  316N138_4,       P06C,     170,          1,         15,        115,2,19920630,       2214,   -32.4948,  -175.2513,       5723,  3039.0,   1.7696,  34.6937,2,  34.6938,2,    167.9,2,   168.5,2,  115.72,2,   34.05,2,    0.00,2,    2.39,2,-999.000,5,-999.000,5,  2288.8,2,  -999.0,9,-999.000,9,-999.0000,9, -999.00,9, -999.00,9,  -999.0,9,  -999.0,-999.000,9,-999.000,     -999.0,-999.0000,-999.000,     1.5430,-999.000
  316N138_4,       P06C,     170,          1,         14,        114,2,19920630,       2214,   -32.4948,  -175.2513,       5723,  3242.0,   1.6594,  34.7123,2,  34.7125,2,    182.0,2,   182.8,2,  108.94,2,   32.76,2,    0.00,2,    2.35,2,-999.000,5,-999.000,5,  2271.3,2,  -999.0,9,-999.000,9,-999.0000,9, -999.00,9, -999.00,9,  -999.0,9,  -999.0,-999.000,9,-999.000,     -999.0,-999.0000,-999.000,     1.4153,-999.000
  316N138_4,       P06C,     170,          1,         13,        125,2,19920630,       2214,   -32.4948,  -175.2513,       5723,  3446.7,   1.5284,  34.7222,2,  34.7217,2,    193.2,2,   192.6,2,  106.41,2,   32.15,2,   -0.01,2,    2.30,2,-999.000,5,-999.000,5,  2261.8,2,  -999.0,9,-999.000,9,-999.0000,9, -999.00,9, -999.00,9,  -999.0,9,  -999.0,-999.000,9,-999.000,     -999.0,-999.0000,-999.000,     1.2668,-999.000
  316N138_4,       P06C,     170,          1,         12,        112,2,19920630,       2214,   -32.4948,  -175.2513,       5723,  3652.8,   1.3963,  34.7229,2,  34.7233,2,    198.6,2,   197.5,2,  107.59,2,   31.81,2,   -0.01,2,    2.31,2,-999.000,5,-999.000,5,  2259.0,2,  -999.0,9,-999.000,9,-999.0000,9, -999.00,9, -999.00,9,  -999.0,9,  -999.0,-999.000,9,-999.000,     -999.0,-999.0000,-999.000,     1.1168,-999.000
  316N138_4,       P06C,     170,          1,         11,        129,2,19920630,       2214,   -32.4948,  -175.2513,       5723,  3855.5,   1.2380,  34.7190,2,  34.7191,2,    202.4,2,   201.4,2,  112.28,2,   31.75,2,   -0.01,2,    2.29,2,-999.000,5,-999.000,5,  2258.5,2,  -999.0,9,-999.000,9,-999.0000,9, -999.00,9, -999.00,9,  -999.0,9,  -999.0,-999.000,9,-999.000,     -999.0,-999.0000,-999.000,     0.9417,-999.000
  316N138_4,       P06C,     170,          1,         10,        110,2,19920630,       2214,   -32.4948,  -175.2513,       5723,  4058.8,   1.1466,  34.7146,2,  34.7160,2,    204.0,2,   203.5,2,  114.97,2,   31.75,2,   -0.01,2,    2.31,2,-999.000,5,-999.000,5,  2259.1,2,  -999.0,9,-999.000,9,-999.0000,9, -999.00,9, -999.00,9,  -999.0,9,  -999.0,-999.000,9,-999.000,     -999.0,-999.0000,-999.000,     0.8312,-999.000
  316N138_4,       P06C,     170,          1,          9,        126,2,19920630,       2214,   -32.4948,  -175.2513,       5723,  4265.0,   1.0773,  34.7125,2,  34.7142,2,    205.4,2,   205.2,2,  117.32,2,   31.88,2,   -0.02,2,    2.30,2,-999.000,5,-999.000,5,  2259.5,2,  -999.0,9,-999.000,9,-999.0000,9, -999.00,9, -999.00,9,  -999.0,9,  -999.0,-999.000,9,-999.000,     -999.0,-999.0000,-999.000,     0.7415,-999.000
  316N138_4,       P06C,     170,          1,          8,        108,2,19920630,       2214,   -32.4948,  -175.2513,       5723,  4469.4,   1.0351,  34.7109,2,  34.7103,2,    206.2,2,   207.0,2,  118.83,2,   31.97,2,   -0.02,2,    2.30,2,-999.000,5,-999.000,5,  2259.9,2,  -999.0,9,-999.000,9,-999.0000,9, -999.00,9, -999.00,9,  -999.0,9,  -999.0,-999.000,9,-999.000,     -999.0,-999.0000,-999.000,     0.6778,-999.000
  316N138_4,       P06C,     170,          1,          7,        107,2,19920630,       2214,   -32.4948,  -175.2513,       5723,  4673.9,   1.0233,  34.7091,2,  34.7091,2,    206.5,2,   207.5,2,  119.83,2,   32.20,2,   -0.02,2,    2.30,2,-999.000,5,-999.000,5,  2260.9,2,  -999.0,9,-999.000,9,-999.0000,9, -999.00,9, -999.00,9,  -999.0,9,  -999.0,-999.000,9,-999.000,     -999.0,-999.0000,-999.000,     0.6431,-999.000
  316N138_4,       P06C,     170,          1,          6,        180,2,19920630,       2214,   -32.4948,  -175.2513,       5723,  4882.1,   1.0236,  34.7084,2,  34.7089,2,    207.0,2,   207.3,2,  120.51,2,   32.32,2,   -0.01,2,    2.31,2,-999.000,5,-999.000,5,  2260.6,2,  -999.0,9,-999.000,9,-999.0000,9, -999.00,9, -999.00,9,  -999.0,9,  -999.0,-999.000,9,-999.000,     -999.0,-999.0000,-999.000,     0.6193,-999.000
  316N138_4,       P06C,     170,          1,          5,        131,2,19920630,       2214,   -32.4948,  -175.2513,       5723,  5084.2,   1.0341,  34.7075,2,  34.7081,2,    207.3,2,   207.3,2,  120.50,2,   32.41,2,   -0.01,2,    2.30,2,-999.000,5,-999.000,5,  2261.5,2,  -999.0,9,-999.000,9,-999.0000,9, -999.00,9, -999.00,9,  -999.0,9,  -999.0,-999.000,9,-999.000,     -999.0,-999.0000,-999.000,     0.6054,-999.000
  316N138_4,       P06C,     170,          1,          4,        104,2,19920630,       2214,   -32.4948,  -175.2513,       5723,  5289.0,   1.0486,  34.7072,2,  34.7081,2,    207.3,2,   206.7,2,  121.00,2,   32.45,2,   -0.01,2,    2.30,2,-999.000,5,-999.000,5,  2261.2,2,  -999.0,9,-999.000,9,-999.0000,9, -999.00,9, -999.00,9,  -999.0,9,  -999.0,-999.000,9,-999.000,     -999.0,-999.0000,-999.000,     0.5946,-999.000
  316N138_4,       P06C,     170,          1,          3,        130,2,19920630,       2214,   -32.4948,  -175.2513,       5723,  5496.7,   1.0703,  34.7070,2,  34.7081,2,    207.7,2,   207.3,2,  121.16,2,   32.57,2,    0.00,2,    2.31,2,-999.000,5,-999.000,5,  2262.0,2,  -999.0,9,-999.000,9,-999.0000,9, -999.00,9, -999.00,9,  -999.0,9,  -999.0,-999.000,9,-999.000,     -999.0,-999.0000,-999.000,     0.5898,-999.000
  316N138_4,       P06C,     170,          1,          2,        135,2,19920630,       2214,   -32.4948,  -175.2513,       5723,  5701.1,   1.0910,  34.7069,2,  34.7076,2,    206.9,2,   207.0,2,  121.33,2,   32.62,2,   -0.01,2,    2.29,2,-999.000,5,-999.000,5,  2262.1,2,  -999.0,9,-999.000,9,-999.0000,9, -999.00,9, -999.00,9,  -999.0,9,  -999.0,-999.000,9,-999.000,     -999.0,-999.0000,-999.000,     0.5838,-999.000
  316N138_4,       P06C,     170,          1,          1,        134,2,19920630,       2214,   -32.4948,  -175.2513,       5723,  5826.2,   1.1053,  34.7065,2,  34.7072,2,    250.8,4,   206.7,2,  121.76,2,   32.56,2,    0.00,2,    2.29,2,-999.000,5,-999.000,5,  2261.2,6,  -999.0,9,-999.000,9,-999.0000,9, -999.00,9, -999.00,9,  -999.0,9,  -999.0,-999.000,9,-999.000,     -999.0,-999.0000,-999.000,     0.5815,-999.000