BOTTLE,20211025CCHSIORKP
EXPOCODE,SECT_ID,STNNBR,CASTNO,SAMPNO,BTLNBR,BTLNBR_FLAG_W,DATE,TIME,LATITUDE,LONGITUDE,DEPTH,CTDPRS,CTDTMP,CTDSAL,CTDSAL_FLAG_W,SALNTY,SALNTY_FLAG_W,CTDOXY,CTDOXY_FLAG_W,OXYGEN,OXYGEN_FLAG_W,SILCAT,SILCAT_FLAG_W,NITRAT,NITRAT_FLAG_W,NITRIT,NITRIT_FLAG_W,PHSPHT,PHSPHT_FLAG_W,CFC-11,CFC-11_FLAG_W,CFC-12,CFC-12_FLAG_W,TCARBN,TCARBN_FLAG_W,PCO2,PCO2_FLAG_W,TRITUM,TRITUM_FLAG_W,HELIUM,HELIUM_FLAG_W,DELHE3,DELHE3_FLAG_W,DELC13,DELC13_FLAG_W,DELC14,DELC14_FLAG_W,C14ERR,NEON,NEON_FLAG_W,NEONER,PCO2TMP,HELIER,DELHER,THETA,TRITER
,,,,,,,,,,,METERS,DBAR,ITS-90,PSS-78,,PSS-78,,UMOL/KG,,UMOL/KG,,UMOL/KG,,UMOL/KG,,UMOL/KG,,UMOL/KG,,PMOL/KG,,PMOL/KG,,UMOL/KG,,UATM,,TU,,NMOL/KG,,PERCNT,,/MILLE,,/MILLE,,/MILLE,NMOL/KG,,NMOL/KG,DEG_C,NMOL/KG,PERCNT,ITS-90,TU
  316N138_4,       P06C,     171,          1,         36,    02-9121,2,19920701,       0409,   -32.5033,  -175.7368,       5774,    24.7,  16.5843,  35.5548,2,  35.5551,2,    238.8,2,   237.7,2,    1.08,2,    0.71,2,    0.08,2,    0.30,2,   2.750,2,-999.000,9,  -999.0,9,  -999.0,9,-999.000,9,-999.0000,9, -999.00,9,    1.33,2,   114.3,2,     3.8,-999.000,9,-999.000,     -999.0,-999.0000,-999.000,    16.5803,-999.000
  316N138_4,       P06C,     171,          1,         35,    02-9454,2,19920701,       0409,   -32.5033,  -175.7368,       5774,    64.7,  16.5888,  35.5866,2,  35.5861,2,    231.3,2,   242.7,2,    1.08,2,    0.85,2,    0.09,2,    0.31,2,   2.736,2,   1.324,2,  -999.0,9,  -999.0,9,-999.000,9,-999.0000,9, -999.00,9, -999.00,9,  -999.0,9,  -999.0,-999.000,9,-999.000,     -999.0,-999.0000,-999.000,    16.5783,-999.000
  316N138_4,       P06C,     171,          1,         34,    02-9457,2,19920701,       0409,   -32.5033,  -175.7368,       5774,   115.4,  14.9655,  35.3708,2,  35.3671,2,    237.3,4,   207.9,2,    2.41,2,    6.14,2,    0.01,2,    0.66,2,   2.483,2,   1.188,2,  -999.0,9,  -999.0,9,-999.000,9,-999.0000,9, -999.00,9,    1.10,2,   103.9,2,     4.0,-999.000,9,-999.000,     -999.0,-999.0000,-999.000,    14.9481,-999.000
  316N138_4,       P06C,     171,          1,         33,    02-5367,2,19920701,       0409,   -32.5033,  -175.7368,       5774,   213.1,  13.1038,  35.1592,2,  35.1272,2,    188.5,2,   192.1,2,    4.07,2,   11.71,2,    0.00,2,    0.99,2,   1.822,2,   0.901,2,  -999.0,9,  -999.0,9,-999.000,9,-999.0000,9, -999.00,9,    1.02,2,    63.8,2,     7.2,-999.000,9,-999.000,     -999.0,-999.0000,-999.000,    13.0742,-999.000
  316N138_4,       P06C,     171,          1,         32,    02-9540,2,19920701,       0409,   -32.5033,  -175.7368,       5774,   315.5,  11.4550,  34.9387,2,  34.9335,2,    192.8,2,   196.4,2,    5.23,2,   14.94,2,    0.00,2,    1.19,2,   1.636,2,   0.821,2,  -999.0,9,  -999.0,9,-999.000,9,-999.0000,9, -999.00,9,    1.03,2,    40.2,2,     8.7,-999.000,9,-999.000,     -999.0,-999.0000,-999.000,    11.4150,-999.000
  316N138_4,       P06C,     171,          1,         31,    02-9539,2,19920701,       0409,   -32.5033,  -175.7368,       5774,   413.0,   9.8117,  34.7347,2,  34.7359,2,    199.1,2,   200.3,2,    6.56,2,   18.21,2,    0.00,2,    1.40,2,   1.319,2,   0.653,2,  -999.0,9,  -999.0,9,-999.000,9,-999.0000,9, -999.00,9,    1.02,2,    33.1,2,     3.4,-999.000,9,-999.000,     -999.0,-999.0000,-999.000,     9.7640,-999.000
  316N138_4,       P06C,     171,          1,         30,    02-9456,2,19920701,       0409,   -32.5033,  -175.7368,       5774,   514.7,   8.6854,  34.6212,2,  34.6176,2,    206.6,2,   211.4,2,    8.56,2,   20.63,2,    0.00,2,    1.54,2,   1.202,2,   0.601,2,  -999.0,9,  -999.0,9,-999.000,9,-999.0000,9, -999.00,9,    0.99,2,    18.2,2,     4.1,-999.000,9,-999.000,     -999.0,-999.0000,-999.000,     8.6299,-999.000
  316N138_4,       P06C,     171,          1,         29,    02-9458,2,19920701,       0409,   -32.5033,  -175.7368,       5774,   615.9,   7.6431,  34.5060,2,  34.5072,2,    212.7,2,   217.7,2,   10.05,2,   22.69,2,    0.00,2,    1.67,2,   0.862,2,   0.435,2,  -999.0,9,  -999.0,9,-999.000,9,-999.0000,9, -999.00,9,    1.05,2,    -5.0,2,     3.2,-999.000,9,-999.000,     -999.0,-999.0000,-999.000,     7.5812,-999.000
  316N138_4,       P06C,     171,          1,         28,    02-9545,2,19920701,       0409,   -32.5033,  -175.7368,       5774,   717.0,   6.8374,  34.4324,2,  34.4369,2,    219.7,2,   215.9,2,   12.38,2,   24.52,2,    0.00,2,    1.80,2,   0.542,2,   0.288,2,  -999.0,9,  -999.0,9,-999.000,9,-999.0000,9, -999.00,9,    0.90,2,   -33.3,2,     3.5,-999.000,9,-999.000,     -999.0,-999.0000,-999.000,     6.7692,-999.000
  316N138_4,       P06C,     171,          1,         27,    02-9453,2,19920701,       0409,   -32.5033,  -175.7368,       5774,   815.5,   6.2855,  34.4038,2,  34.4045,2,    212.7,2,   213.0,2,   17.37,2,   26.58,2,    0.00,2,    1.93,2,   0.335,2,   0.183,2,  -999.0,9,  -999.0,9,-999.000,9,-999.0000,9, -999.00,9,    0.94,2,   -53.3,2,     2.9,-999.000,9,-999.000,     -999.0,-999.0000,-999.000,     6.2108,-999.000
  316N138_4,       P06C,     171,          1,         26,    02-9544,2,19920701,       0409,   -32.5033,  -175.7368,       5774,   914.7,   5.4425,  34.3498,2,  34.3494,2,    211.1,2,   207.1,2,   21.36,2,   28.59,2,    0.00,2,    2.07,2,   0.190,2,   0.113,2,  -999.0,9,  -999.0,9,-999.000,9,-999.0000,9, -999.00,9,    0.96,2,   -74.4,2,     3.9,-999.000,9,-999.000,     -999.0,-999.0000,-999.000,     5.3639,-999.000
  316N138_4,       P06C,     171,          1,         25,    02-9455,2,19920701,       0409,   -32.5033,  -175.7368,       5774,  1115.4,   4.2079,  34.3929,2,  34.3900,2,    192.2,2,   187.6,2,   41.81,2,   32.25,2,   -0.01,2,    2.32,2,   0.049,2,   0.031,2,  -999.0,9,  -999.0,9,-999.000,9,-999.0000,9, -999.00,9,    0.66,2,  -125.6,2,     4.1,-999.000,9,-999.000,     -999.0,-999.0000,-999.000,     4.1209,-999.000
  316N138_4,       P06C,     171,          1,         24,        132,2,19920701,       0409,   -32.5033,  -175.7368,       5774,  1318.3,   3.4222,  34.4732,2,  34.4714,2,    173.7,2,   173.1,2,   63.60,2,   33.87,2,   -0.01,2,    2.47,2,   0.011,2,-999.000,9,  -999.0,9,  -999.0,9,-999.000,9,-999.0000,9, -999.00,9,    0.40,2,  -151.7,2,     4.3,-999.000,9,-999.000,     -999.0,-999.0000,-999.000,     3.3252,-999.000
  316N138_4,       P06C,     171,          1,         23,        123,2,19920701,       0409,   -32.5033,  -175.7368,       5774,  1516.3,   2.9423,  34.5374,2,  34.5388,2,    164.8,2,   161.3,2,   80.86,2,   34.34,2,   -0.02,2,    2.51,2,   0.000,6,  -0.001,6,  -999.0,9,  -999.0,9,-999.000,9,-999.0000,9, -999.00,9,    0.29,2,  -173.9,2,     3.4,-999.000,9,-999.000,     -999.0,-999.0000,-999.000,     2.8339,-999.000
  316N138_4,       P06C,     171,          1,         22,        128,2,19920701,       0409,   -32.5033,  -175.7368,       5774,  1715.9,   2.6544,  34.5824,2,  34.5832,2,    156.5,2,   154.6,2,   94.64,2,   34.86,2,   -0.02,2,    2.54,2,   0.010,2,   0.003,2,  -999.0,9,  -999.0,9,-999.000,9,-999.0000,9, -999.00,9,    0.22,2,  -190.6,2,     2.8,-999.000,9,-999.000,     -999.0,-999.0000,-999.000,     2.5327,-999.000
  316N138_4,       P06C,     171,          1,         21,        121,2,19920701,       0409,   -32.5033,  -175.7368,       5774,  1913.7,   2.4437,  34.6105,2,  34.6107,2,    151.8,2,   151.3,2,  105.19,2,   35.03,2,   -0.01,2,    2.62,2,  -0.001,2,  -0.003,2,  -999.0,9,  -999.0,9,-999.000,9,-999.0000,9, -999.00,9,    0.13,2,  -215.6,2,     5.0,-999.000,9,-999.000,     -999.0,-999.0000,-999.000,     2.3080,-999.000
  316N138_4,       P06C,     171,          1,         20,        120,2,19920701,       0409,   -32.5033,  -175.7368,       5774,  2113.9,   2.3137,  34.6263,2,  34.6260,2,    149.8,2,   148.9,2,  111.20,2,   35.26,2,   -0.01,2,    2.65,2,  -0.004,2,  -0.002,2,  -999.0,9,  -999.0,9,-999.000,9,-999.0000,9, -999.00,9,    0.12,2,  -235.6,2,     4.3,-999.000,9,-999.000,     -999.0,-999.0000,-999.000,     2.1627,-999.000
  316N138_4,       P06C,     171,          1,         19,        133,3,19920701,       0409,   -32.5033,  -175.7368,       5774,  2314.4,   2.2078,  34.6366,2,  34.6362,2,    148.5,2,   149.4,2,  115.70,2,   35.43,2,   -0.01,2,    2.66,2,-999.000,5,-999.000,5,  -999.0,9,  -999.0,9,-999.000,9,-999.0000,9, -999.00,9,    0.00,2,  -214.4,2,     2.7,-999.000,9,-999.000,     -999.0,-999.0000,-999.000,     2.0406,-999.000
  316N138_4,       P06C,     171,          1,         18,        118,2,19920701,       0409,   -32.5033,  -175.7368,       5774,  2513.1,   2.1040,  34.6457,2,  34.6458,2,    149.0,2,   148.1,2,  119.71,2,   35.66,2,   -0.01,2,    2.66,2,-999.000,5,-999.000,5,  -999.0,9,  -999.0,9,-999.000,9,-999.0000,9, -999.00,9,    0.00,2,  -210.2,2,     2.8,-999.000,9,-999.000,     -999.0,-999.0000,-999.000,     1.9206,-999.000
  316N138_4,       P06C,     171,          1,         17,        117,2,19920701,       0409,   -32.5033,  -175.7368,       5774,  2715.1,   1.9713,  34.6596,2,  34.6606,2,    150.3,2,   149.9,2,  122.89,2,   35.54,2,    0.00,2,    2.64,2,  -0.001,2,  -0.002,2,  -999.0,9,  -999.0,9,-999.000,9,-999.0000,9, -999.00,9,    0.04,2,  -209.1,2,     3.7,-999.000,9,-999.000,     -999.0,-999.0000,-999.000,     1.7716,-999.000
  316N138_4,       P06C,     171,          1,         16,        116,2,19920701,       0409,   -32.5033,  -175.7368,       5774,  2913.7,   1.8552,  34.6868,2,  34.6873,2,    162.8,2,   164.7,4,  114.75,2,   34.12,2,    0.00,2,    2.52,2,-999.000,5,-999.000,5,  -999.0,9,  -999.0,9,-999.000,9,-999.0000,9, -999.00,9,    0.08,2,  -185.7,2,     3.5,-999.000,9,-999.000,     -999.0,-999.0000,-999.000,     1.6388,-999.000
  316N138_4,       P06C,     171,          1,         15,        115,2,19920701,       0409,   -32.5033,  -175.7368,       5774,  3110.5,   1.7420,  34.7037,2,  34.7032,2,    175.2,2,   181.2,4,  110.77,2,   33.34,2,    0.00,2,    2.45,2,   0.001,2,  -0.002,2,  -999.0,9,  -999.0,9,-999.000,9,-999.0000,9, -999.00,9,    0.15,2,  -171.3,2,     3.5,-999.000,9,-999.000,     -999.0,-999.0000,-999.000,     1.5089,-999.000
  316N138_4,       P06C,     171,          1,         14,        114,2,19920701,       0409,   -32.5033,  -175.7368,       5774,  3311.9,   1.6345,  34.7174,2,  34.7182,2,    187.2,2,   189.7,4,  106.12,2,   32.40,2,    0.01,2,    2.37,2,-999.000,5,-999.000,5,  -999.0,9,  -999.0,9,-999.000,9,-999.0000,9, -999.00,9,    0.18,2,  -165.0,2,     2.7,-999.000,9,-999.000,     -999.0,-999.0000,-999.000,     1.3840,-999.000
  316N138_4,       P06C,     171,          1,         13,        125,2,19920701,       0409,   -32.5033,  -175.7368,       5774,  3519.9,   1.4868,  34.7238,2,  34.7250,2,    195.4,2,   195.9,2,  106.64,2,   32.06,2,    0.01,2,    2.35,2,   0.005,2,  -0.001,2,  -999.0,9,  -999.0,9,-999.000,9,-999.0000,9, -999.00,9,    0.27,2,  -155.8,2,     2.7,-999.000,9,-999.000,     -999.0,-999.0000,-999.000,     1.2187,-999.000
  316N138_4,       P06C,     171,          1,         12,        112,2,19920701,       0409,   -32.5033,  -175.7368,       5774,  3724.7,   1.3141,  34.7206,2,  34.7217,2,    199.9,2,   202.0,3,  110.32,2,   32.04,2,    0.01,2,    2.35,2,-999.000,5,-999.000,5,  -999.0,9,  -999.0,9,-999.000,9,-999.0000,9, -999.00,9, -999.00,9,  -999.0,9,  -999.0,-999.000,9,-999.000,     -999.0,-999.0000,-999.000,     1.0294,-999.000
  316N138_4,       P06C,     171,          1,         11,        129,2,19920701,       0409,   -32.5033,  -175.7368,       5774,  3934.5,   1.1994,  34.7188,2,  34.7174,2,    202.4,2,   202.6,2,  113.34,2,   32.12,2,    0.01,2,    2.35,2,   0.005,2,  -0.002,2,  -999.0,9,  -999.0,9,-999.000,9,-999.0000,9, -999.00,9,    0.20,2,  -161.6,2,     2.8,-999.000,9,-999.000,     -999.0,-999.0000,-999.000,     0.8957,-999.000
  316N138_4,       P06C,     171,          1,         10,        110,2,19920701,       0409,   -32.5033,  -175.7368,       5774,  4134.3,   1.1078,  34.7142,2,  34.7154,2,    204.9,2,   204.9,2,  116.02,2,   32.01,2,    0.01,2,    2.35,2,-999.000,5,-999.000,5,  -999.0,9,  -999.0,9,-999.000,9,-999.0000,9, -999.00,9,    0.27,2,  -164.9,2,     3.6,-999.000,9,-999.000,     -999.0,-999.0000,-999.000,     0.7854,-999.000
  316N138_4,       P06C,     171,          1,          9,        126,2,19920701,       0409,   -32.5033,  -175.7368,       5774,  4340.4,   1.0637,  34.7118,2,  34.7131,2,    206.7,2,   206.2,2,  117.87,2,   31.87,2,    0.00,2,    2.35,2,   0.011,2,  -0.002,2,  -999.0,9,  -999.0,9,-999.000,9,-999.0000,9, -999.00,9, -999.00,9,  -999.0,9,  -999.0,-999.000,9,-999.000,     -999.0,-999.0000,-999.000,     0.7200,-999.000
  316N138_4,       P06C,     171,          1,          8,        108,2,19920701,       0409,   -32.5033,  -175.7368,       5774,  4545.1,   1.0393,  34.7108,2,  34.7093,2,    207.0,2,   206.7,2,  119.38,2,   31.70,2,    0.01,2,    2.35,2,-999.000,5,-999.000,5,  -999.0,9,  -999.0,9,-999.000,9,-999.0000,9, -999.00,9,    0.27,2,  -152.4,2,     2.6,-999.000,9,-999.000,     -999.0,-999.0000,-999.000,     0.6733,-999.000
  316N138_4,       P06C,     171,          1,          7,        107,2,19920701,       0409,   -32.5033,  -175.7368,       5774,  4756.1,   1.0252,  34.7088,2,  34.7105,3,    208.5,2,   205.3,4,  120.40,2,   31.64,2,    0.01,2,    2.36,2,   0.007,2,   0.002,2,  -999.0,9,  -999.0,9,-999.000,9,-999.0000,9, -999.00,9,    0.24,2,  -155.0,2,     2.7,-999.000,9,-999.000,     -999.0,-999.0000,-999.000,     0.6355,-999.000
  316N138_4,       P06C,     171,          1,          6,        180,2,19920701,       0409,   -32.5033,  -175.7368,       5774,  4965.5,   1.0319,  34.7084,2,  34.7081,2,    208.2,2,   207.1,2,  121.08,2,   31.58,2,    0.00,2,    2.34,2,-999.000,5,-999.000,5,  -999.0,9,  -999.0,9,-999.000,9,-999.0000,9, -999.00,9,    0.29,2,  -146.3,3,     3.0,-999.000,9,-999.000,     -999.0,-999.0000,-999.000,     0.6175,-999.000
  316N138_4,       P06C,     171,          1,          5,        131,2,19920701,       0409,   -32.5033,  -175.7368,       5774,  5172.6,   1.0431,  34.7079,2,  34.7083,2,    208.2,2,   208.5,2,  121.44,2,   31.57,2,    0.00,2,    2.34,2,   0.009,2,   0.004,2,  -999.0,9,  -999.0,9,-999.000,9,-999.0000,9, -999.00,9,    0.25,2,  -170.6,2,     2.6,-999.000,9,-999.000,     -999.0,-999.0000,-999.000,     0.6036,-999.000
  316N138_4,       P06C,     171,          1,          4,        104,2,19920701,       0409,   -32.5033,  -175.7368,       5774,  5381.4,   1.0601,  34.7071,2,  34.7089,2,    208.2,2,   207.0,2,  121.29,2,   31.70,2,    0.00,2,    2.33,2,   0.005,2,   0.005,2,  -999.0,9,  -999.0,9,-999.000,9,-999.0000,9, -999.00,9,    0.25,2,  -176.8,2,     3.0,-999.000,9,-999.000,     -999.0,-999.0000,-999.000,     0.5943,-999.000
  316N138_4,       P06C,     171,          1,          3,        130,2,19920701,       0409,   -32.5033,  -175.7368,       5774,  5590.1,   1.0829,  34.7071,2,  34.7064,2,    207.7,2,   207.2,2,  121.14,2,   31.82,2,    0.01,2,    2.33,2,   0.011,2,   0.002,2,  -999.0,9,  -999.0,9,-999.000,9,-999.0000,9, -999.00,9,    0.25,2,  -174.6,2,     2.6,-999.000,9,-999.000,     -999.0,-999.0000,-999.000,     0.5902,-999.000
  316N138_4,       P06C,     171,          1,          2,        135,2,19920701,       0409,   -32.5033,  -175.7368,       5774,  5801.2,   1.1078,  34.7080,2,  34.7070,2,    207.3,2,   207.0,2,  121.49,2,   32.00,2,    0.01,2,    2.33,2,   0.014,2,-999.000,9,  -999.0,9,  -999.0,9,-999.000,9,-999.0000,9, -999.00,9, -999.00,9,  -999.0,9,  -999.0,-999.000,9,-999.000,     -999.0,-999.0000,-999.000,     0.5871,-999.000
  316N138_4,       P06C,     171,          1,          1,        134,2,19920701,       0409,   -32.5033,  -175.7368,       5774,  5981.1,   1.1318,  34.7077,2,  34.7077,2,    257.4,4,   207.0,2,  121.52,2,   32.11,2,    0.00,2,    2.33,2,   0.010,6,   0.003,6,  -999.0,9,  -999.0,9,-999.000,9,-999.0000,9, -999.00,9,    0.18,2,  -168.5,2,     3.3,-999.000,9,-999.000,     -999.0,-999.0000,-999.000,     0.5867,-999.000