BOTTLE,20211025CCHSIORKP
EXPOCODE,SECT_ID,STNNBR,CASTNO,SAMPNO,BTLNBR,BTLNBR_FLAG_W,DATE,TIME,LATITUDE,LONGITUDE,DEPTH,CTDPRS,CTDTMP,CTDSAL,CTDSAL_FLAG_W,SALNTY,SALNTY_FLAG_W,CTDOXY,CTDOXY_FLAG_W,OXYGEN,OXYGEN_FLAG_W,SILCAT,SILCAT_FLAG_W,NITRAT,NITRAT_FLAG_W,NITRIT,NITRIT_FLAG_W,PHSPHT,PHSPHT_FLAG_W,CFC-11,CFC-11_FLAG_W,CFC-12,CFC-12_FLAG_W,TCARBN,TCARBN_FLAG_W,PCO2,PCO2_FLAG_W,TRITUM,TRITUM_FLAG_W,HELIUM,HELIUM_FLAG_W,DELHE3,DELHE3_FLAG_W,DELC13,DELC13_FLAG_W,DELC14,DELC14_FLAG_W,C14ERR,NEON,NEON_FLAG_W,NEONER,PCO2TMP,HELIER,DELHER,THETA,TRITER
,,,,,,,,,,,METERS,DBAR,ITS-90,PSS-78,,PSS-78,,UMOL/KG,,UMOL/KG,,UMOL/KG,,UMOL/KG,,UMOL/KG,,UMOL/KG,,PMOL/KG,,PMOL/KG,,UMOL/KG,,UATM,,TU,,NMOL/KG,,PERCNT,,/MILLE,,/MILLE,,/MILLE,NMOL/KG,,NMOL/KG,DEG_C,NMOL/KG,PERCNT,ITS-90,TU
  316N138_4,       P06C,      94,          1,         36,    02-9121,2,19920607,       0220,   -32.5027,  -125.9900,       3512,    22.3,  19.2263,  35.0144,2,  35.0163,2,    305.9,3,   230.0,2,    0.31,2,    0.08,2,    0.01,2,    0.13,2,   2.377,2,   1.221,2,  -999.0,9,  -999.0,9,-999.000,9,-999.0000,9, -999.00,9, -999.00,9,  -999.0,9,  -999.0,-999.000,9,-999.000,     -999.0,-999.0000,-999.000,    19.2223,-999.000
  316N138_4,       P06C,      94,          1,         35,    02-9454,2,19920607,       0220,   -32.5027,  -125.9900,       3512,    64.0,  19.2359,  35.0143,2,  35.0142,2,    227.4,2,   229.2,2,    0.14,2,    0.08,2,    0.01,2,    0.13,2,   2.361,2,   1.222,2,  -999.0,9,  -999.0,9,-999.000,9,-999.0000,9, -999.00,9, -999.00,9,  -999.0,9,  -999.0,-999.000,9,-999.000,     -999.0,-999.0000,-999.000,    19.2244,-999.000
  316N138_4,       P06C,      94,          1,         34,    02-9457,2,19920607,       0220,   -32.5027,  -125.9900,       3512,    91.2,  19.1602,  35.0394,2,  35.0492,2,    231.2,2,   232.1,2,    0.14,2,    0.07,2,    0.02,2,    0.13,2,   2.389,2,   1.230,2,  -999.0,9,  -999.0,9,-999.000,9,-999.0000,9, -999.00,9, -999.00,9,  -999.0,9,  -999.0,-999.000,9,-999.000,     -999.0,-999.0000,-999.000,    19.1438,-999.000
  316N138_4,       P06C,      94,          1,         33,    02-5367,2,19920607,       0220,   -32.5027,  -125.9900,       3512,   122.7,  17.0376,  35.0550,2,  35.0827,2,    230.5,2,   240.4,2,    0.30,2,    0.07,2,    0.02,2,    0.16,2,   2.599,2,   1.402,2,  -999.0,9,  -999.0,9,-999.000,9,-999.0000,9, -999.00,9, -999.00,9,  -999.0,9,  -999.0,-999.000,9,-999.000,     -999.0,-999.0000,-999.000,    17.0173,-999.000
  316N138_4,       P06C,      94,          1,         32,    02-9540,2,19920607,       0220,   -32.5027,  -125.9900,       3512,   152.5,  16.4198,  35.0802,2,  35.0774,2,    216.8,2,   234.9,2,    0.30,2,    0.16,2,    0.03,2,    0.20,2,   2.596,6,   1.322,6,  -999.0,9,  -999.0,9,-999.000,9,-999.0000,9, -999.00,9, -999.00,9,  -999.0,9,  -999.0,-999.000,9,-999.000,     -999.0,-999.0000,-999.000,    16.3953,-999.000
  316N138_4,       P06C,      94,          1,         31,    02-9539,2,19920607,       0220,   -32.5027,  -125.9900,       3512,   182.1,  15.3663,  34.9940,2,  35.0106,2,    210.9,2,   225.0,2,    0.48,2,    1.77,2,    0.09,2,    0.33,2,   2.519,2,   1.327,2,  -999.0,9,  -999.0,9,-999.000,9,-999.0000,9, -999.00,9, -999.00,9,  -999.0,9,  -999.0,-999.000,9,-999.000,     -999.0,-999.0000,-999.000,    15.3383,-999.000
  316N138_4,       P06C,      94,          1,         30,    02-9456,2,19920607,       0220,   -32.5027,  -125.9900,       3512,   211.2,  14.7460,  34.9817,2,  34.9766,2,    204.6,2,   212.1,2,    0.65,2,    4.37,2,    0.01,2,    0.48,2,   2.334,2,   1.209,2,  -999.0,9,  -999.0,9,-999.000,9,-999.0000,9, -999.00,9, -999.00,9,  -999.0,9,  -999.0,-999.000,9,-999.000,     -999.0,-999.0000,-999.000,    14.7144,-999.000
  316N138_4,       P06C,      94,          1,         29,    02-9458,2,19920607,       0220,   -32.5027,  -125.9900,       3512,   261.0,  13.2156,  34.8798,2,  34.8743,2,    199.8,2,   203.7,2,    1.52,2,    8.64,2,    0.01,2,    0.73,2,   2.035,2,   1.023,2,  -999.0,9,  -999.0,9,-999.000,9,-999.0000,9, -999.00,9, -999.00,9,  -999.0,9,  -999.0,-999.000,9,-999.000,     -999.0,-999.0000,-999.000,    13.1793,-999.000
  316N138_4,       P06C,      94,          1,         28,    02-9545,2,19920607,       0220,   -32.5027,  -125.9900,       3512,   308.5,  11.2592,  34.6876,2,  34.6850,2,    204.7,2,   205.4,2,    2.40,2,   12.83,2,    0.01,2,    0.98,2,   1.822,2,   0.913,2,  -999.0,9,  -999.0,9,-999.000,9,-999.0000,9, -999.00,9, -999.00,9,  -999.0,9,  -999.0,-999.000,9,-999.000,     -999.0,-999.0000,-999.000,    11.2206,-999.000
  316N138_4,       P06C,      94,          1,         27,    02-9453,2,19920607,       0220,   -32.5027,  -125.9900,       3512,   359.9,   9.9873,  34.5718,2,  34.5708,2,    207.4,2,   210.2,2,    3.28,2,   15.69,2,    0.00,2,    1.14,2,   1.711,2,   0.855,2,  -999.0,9,  -999.0,9,-999.000,9,-999.0000,9, -999.00,9, -999.00,9,  -999.0,9,  -999.0,-999.000,9,-999.000,     -999.0,-999.0000,-999.000,     9.9455,-999.000
  316N138_4,       P06C,      94,          1,         26,    02-9544,2,19920607,       0220,   -32.5027,  -125.9900,       3512,   408.8,   8.5382,  34.4700,2,  34.4697,2,    216.6,2,   216.2,2,    4.69,2,   19.10,2,    0.01,2,    1.35,2,   1.448,2,   0.710,2,  -999.0,9,  -999.0,9,-999.000,9,-999.0000,9, -999.00,9, -999.00,9,  -999.0,9,  -999.0,-999.000,9,-999.000,     -999.0,-999.0000,-999.000,     8.4949,-999.000
  316N138_4,       P06C,      94,          1,         25,    02-9455,2,19920607,       0220,   -32.5027,  -125.9900,       3512,   458.0,   7.6308,  34.4120,2,  34.4104,2,    226.2,2,   224.9,2,    5.74,2,   21.01,2,    0.00,2,    1.46,2,   1.415,2,   0.697,2,  -999.0,9,  -999.0,9,-999.000,9,-999.0000,9, -999.00,9, -999.00,9,  -999.0,9,  -999.0,-999.000,9,-999.000,     -999.0,-999.0000,-999.000,     7.5853,-999.000
  316N138_4,       P06C,      94,          1,         24,        132,2,19920607,       0220,   -32.5027,  -125.9900,       3512,   537.1,   6.9304,  34.3793,2,  34.3764,2,    237.4,2,   238.1,2,    6.80,2,   22.02,2,    0.00,2,    1.50,2,   1.454,2,   0.735,2,  -999.0,9,  -999.0,9,-999.000,9,-999.0000,9, -999.00,9, -999.00,9,  -999.0,9,  -999.0,-999.000,9,-999.000,     -999.0,-999.0000,-999.000,     6.8796,-999.000
  316N138_4,       P06C,      94,          1,         23,        123,2,19920607,       0220,   -32.5027,  -125.9900,       3512,   609.8,   6.5319,  34.3542,2,  34.3568,2,    241.9,2,   242.0,2,    7.68,2,   22.87,2,    0.00,2,    1.55,2,   1.177,6,   0.598,6,  -999.0,9,  -999.0,9,-999.000,9,-999.0000,9, -999.00,9, -999.00,9,  -999.0,9,  -999.0,-999.000,9,-999.000,     -999.0,-999.0000,-999.000,     6.4758,-999.000
  316N138_4,       P06C,      94,          1,         22,        128,2,19920607,       0220,   -32.5027,  -125.9900,       3512,   683.7,   6.1470,  34.3287,2,  34.3284,2,    240.8,2,   241.6,2,    9.08,2,   23.92,2,    0.00,2,    1.62,2,   0.860,2,   0.447,2,  -999.0,9,  -999.0,9,-999.000,9,-999.0000,9, -999.00,9, -999.00,9,  -999.0,9,  -999.0,-999.000,9,-999.000,     -999.0,-999.0000,-999.000,     6.0858,-999.000
  316N138_4,       P06C,      94,          1,         21,        121,2,19920607,       0220,   -32.5027,  -125.9900,       3512,   758.6,   5.7904,  34.3084,2,  34.3076,2,    238.7,2,   239.3,2,   11.01,2,   25.07,2,    0.00,2,    1.70,2,   0.683,2,   0.364,2,  -999.0,9,  -999.0,9,-999.000,9,-999.0000,9, -999.00,9, -999.00,9,  -999.0,9,  -999.0,-999.000,9,-999.000,     -999.0,-999.0000,-999.000,     5.7242,-999.000
  316N138_4,       P06C,      94,          1,         20,        120,2,19920607,       0220,   -32.5027,  -125.9900,       3512,   835.4,   5.3995,  34.3003,2,  34.2972,2,    232.8,2,   230.2,2,   15.06,2,   26.74,2,    0.00,2,    1.81,2,   0.478,2,   0.261,2,  -999.0,9,  -999.0,9,-999.000,9,-999.0000,9, -999.00,9, -999.00,9,  -999.0,9,  -999.0,-999.000,9,-999.000,     -999.0,-999.0000,-999.000,     5.3286,-999.000
  316N138_4,       P06C,      94,          1,         19,        133,2,19920607,       0220,   -32.5027,  -125.9900,       3512,   911.4,   5.0350,  34.3012,2,  34.3025,2,    222.9,2,   217.6,2,   19.63,2,   28.38,2,   -0.01,2,    1.92,2,   0.308,2,-999.000,5,  -999.0,9,  -999.0,9,-999.000,9,-999.0000,9, -999.00,9, -999.00,9,  -999.0,9,  -999.0,-999.000,9,-999.000,     -999.0,-999.0000,-999.000,     4.9597,-999.000
  316N138_4,       P06C,      94,          1,         18,        118,2,19920607,       0220,   -32.5027,  -125.9900,       3512,  1012.4,   4.4019,  34.3222,2,  34.3190,2,    207.1,3,   201.0,2,   30.37,2,   31.08,2,   -0.01,2,    2.11,2,   0.140,2,   0.086,2,  -999.0,9,  -999.0,9,-999.000,9,-999.0000,9, -999.00,9, -999.00,9,  -999.0,9,  -999.0,-999.000,9,-999.000,     -999.0,-999.0000,-999.000,     4.3225,-999.000
  316N138_4,       P06C,      94,          1,         17,        117,2,19920607,       0220,   -32.5027,  -125.9900,       3512,  1112.9,   3.8692,  34.3611,2,  34.3586,2,    192.2,3,   187.7,2,   41.45,2,   32.86,2,   -0.01,2,    2.23,2,   0.065,2,   0.039,2,  -999.0,9,  -999.0,9,-999.000,9,-999.0000,9, -999.00,9, -999.00,9,  -999.0,9,  -999.0,-999.000,9,-999.000,     -999.0,-999.0000,-999.000,     3.7855,-999.000
  316N138_4,       P06C,      94,          1,         16,        116,2,19920607,       0220,   -32.5027,  -125.9900,       3512,  1210.6,   3.4372,  34.4106,2,  34.4065,2,    181.7,3,   175.7,2,   52.88,2,   34.06,2,   -0.01,2,    2.33,2,-999.000,9,-999.000,9,  -999.0,9,  -999.0,9,-999.000,9,-999.0000,9, -999.00,9, -999.00,9,  -999.0,9,  -999.0,-999.000,9,-999.000,     -999.0,-999.0000,-999.000,     3.3491,-999.000
  316N138_4,       P06C,      94,          1,         15,        115,2,19920607,       0220,   -32.5027,  -125.9900,       3512,  1360.7,   3.0104,  34.4773,2,  34.4732,2,    170.1,2,   168.1,2,   66.59,2,   34.73,2,   -0.01,2,    2.40,2,   0.007,2,   0.008,2,  -999.0,9,  -999.0,9,-999.000,9,-999.0000,9, -999.00,9, -999.00,9,  -999.0,9,  -999.0,-999.000,9,-999.000,     -999.0,-999.0000,-999.000,     2.9142,-999.000
  316N138_4,       P06C,      94,          1,         14,        114,2,19920607,       0220,   -32.5027,  -125.9900,       3512,  1509.9,   2.7165,  34.5321,2,  34.5290,2,    164.6,2,   163.7,2,   77.84,2,   34.98,2,   -0.01,2,    2.42,2,-999.000,9,-999.000,9,  -999.0,9,  -999.0,9,-999.000,9,-999.0000,9, -999.00,9, -999.00,9,  -999.0,9,  -999.0,-999.000,9,-999.000,     -999.0,-999.0000,-999.000,     2.6113,-999.000
  316N138_4,       P06C,      94,          1,         13,        125,2,19920607,       0220,   -32.5027,  -125.9900,       3512,  1660.8,   2.4507,  34.5841,2,  34.5848,2,    159.5,2,   159.6,2,   91.01,2,   35.12,2,   -0.01,2,    2.45,2,-999.000,5,   0.001,2,  -999.0,9,  -999.0,9,-999.000,9,-999.0000,9, -999.00,9, -999.00,9,  -999.0,9,  -999.0,-999.000,9,-999.000,     -999.0,-999.0000,-999.000,     2.3361,-999.000
  316N138_4,       P06C,      94,          1,         12,        112,2,19920607,       0220,   -32.5027,  -125.9900,       3512,  1814.4,   2.2773,  34.6146,2,  34.6144,2,    156.3,2,   156.4,2,  100.67,2,   35.27,2,   -0.02,2,    2.48,2,-999.000,9,-999.000,9,  -999.0,9,  -999.0,9,-999.000,9,-999.0000,9, -999.00,9, -999.00,9,  -999.0,9,  -999.0,-999.000,9,-999.000,     -999.0,-999.0000,-999.000,     2.1523,-999.000
  316N138_4,       P06C,      94,          1,         11,        129,2,19920607,       0220,   -32.5027,  -125.9900,       3512,  1962.3,   2.1558,  34.6301,2,  34.6268,2,    155.5,2,   155.6,2,  106.99,2,   35.36,2,   -0.01,2,    2.50,2,   0.001,2,  -0.003,2,  -999.0,9,  -999.0,9,-999.000,9,-999.0000,9, -999.00,9, -999.00,9,  -999.0,9,  -999.0,-999.000,9,-999.000,     -999.0,-999.0000,-999.000,     2.0202,-999.000
  316N138_4,       P06C,      94,          1,         10,        110,2,19920607,       0220,   -32.5027,  -125.9900,       3512,  2114.3,   2.0437,  34.6443,2,  34.6488,3,    155.4,2,   154.9,2,  111.89,2,   35.46,2,   -0.02,2,    2.50,2,-999.000,9,-999.000,9,  -999.0,9,  -999.0,9,-999.000,9,-999.0000,9, -999.00,9, -999.00,9,  -999.0,9,  -999.0,-999.000,9,-999.000,     -999.0,-999.0000,-999.000,     1.8968,-999.000
  316N138_4,       P06C,      94,          1,          9,        126,2,19920607,       0220,   -32.5027,  -125.9900,       3512,  2263.5,   1.9444,  34.6530,2,  34.6510,2,    156.4,2,   156.2,2,  115.56,2,   35.45,2,   -0.01,2,    2.51,2,-999.000,5,-999.000,5,  -999.0,9,  -999.0,9,-999.000,9,-999.0000,9, -999.00,9, -999.00,9,  -999.0,9,  -999.0,-999.000,9,-999.000,     -999.0,-999.0000,-999.000,     1.7863,-999.000
  316N138_4,       P06C,      94,          1,          8,        108,2,19920607,       0220,   -32.5027,  -125.9900,       3512,  2417.1,   1.8606,  34.6609,2,  34.6574,2,    157.4,2,   158.9,2,  118.18,2,   35.44,2,    0.00,2,    2.51,2,-999.000,9,-999.000,9,  -999.0,9,  -999.0,9,-999.000,9,-999.0000,9, -999.00,9, -999.00,9,  -999.0,9,  -999.0,-999.000,9,-999.000,     -999.0,-999.0000,-999.000,     1.6903,-999.000
  316N138_4,       P06C,      94,          1,          7,        107,2,19920607,       0220,   -32.5027,  -125.9900,       3512,  2617.8,   1.7779,  34.6674,2,  34.6657,2,    160.2,2,   160.1,2,  120.27,2,   35.25,2,    0.00,2,    2.50,2,   0.002,2,   0.001,2,  -999.0,9,  -999.0,9,-999.000,9,-999.0000,9, -999.00,9, -999.00,9,  -999.0,9,  -999.0,-999.000,9,-999.000,     -999.0,-999.0000,-999.000,     1.5910,-999.000
  316N138_4,       P06C,      94,          1,          6,        180,2,19920607,       0220,   -32.5027,  -125.9900,       3512,  2816.5,   1.7165,  34.6732,2,  34.6726,2,    162.6,2,   163.8,2,  121.31,2,   35.01,2,    0.00,2,    2.49,2,-999.000,9,-999.000,9,  -999.0,9,  -999.0,9,-999.000,9,-999.0000,9, -999.00,9, -999.00,9,  -999.0,9,  -999.0,-999.000,9,-999.000,     -999.0,-999.0000,-999.000,     1.5124,-999.000
  316N138_4,       P06C,      94,          1,          5,        131,2,19920607,       0220,   -32.5027,  -125.9900,       3512,  3015.6,   1.6669,  34.6774,2,  34.6781,2,    165.6,2,   165.8,2,  122.00,2,   34.82,2,   -0.01,2,    2.47,2,   0.002,2,-999.000,5,  -999.0,9,  -999.0,9,-999.000,9,-999.0000,9, -999.00,9, -999.00,9,  -999.0,9,  -999.0,-999.000,9,-999.000,     -999.0,-999.0000,-999.000,     1.4450,-999.000
  316N138_4,       P06C,      94,          1,          4,        104,2,19920607,       0220,   -32.5027,  -125.9900,       3512,  3216.4,   1.6499,  34.6797,2,  34.6791,2,    168.4,2,   167.8,2,  121.98,2,   34.68,2,   -0.01,2,    2.46,2,-999.000,9,-999.000,9,  -999.0,9,  -999.0,9,-999.000,9,-999.0000,9, -999.00,9, -999.00,9,  -999.0,9,  -999.0,-999.000,9,-999.000,     -999.0,-999.0000,-999.000,     1.4087,-999.000
  316N138_4,       P06C,      94,          1,          3,        130,2,19920607,       0220,   -32.5027,  -125.9900,       3512,  3424.8,   1.6251,  34.6824,2,  34.6853,2,    170.1,2,   170.5,2,  121.78,2,   34.53,2,   -0.01,2,    2.44,2,   0.004,2,  -0.004,2,  -999.0,9,  -999.0,9,-999.000,9,-999.0000,9, -999.00,9, -999.00,9,  -999.0,9,  -999.0,-999.000,9,-999.000,     -999.0,-999.0000,-999.000,     1.3636,-999.000
  316N138_4,       P06C,      94,          1,          2,        135,2,19920607,       0220,   -32.5027,  -125.9900,       3512,  3577.4,   1.6160,  34.6843,2,  34.6824,2,    171.8,2,   170.7,2,  121.94,2,   34.48,2,   -0.01,2,    2.44,2,-999.000,9,-999.000,9,  -999.0,9,  -999.0,9,-999.000,9,-999.0000,9, -999.00,9, -999.00,9,  -999.0,9,  -999.0,-999.000,9,-999.000,     -999.0,-999.0000,-999.000,     1.3390,-999.000
  316N138_4,       P06C,      94,          1,          1,        134,2,19920607,       0220,   -32.5027,  -125.9900,       3512,  3634.9,   1.6199,  34.6847,2,  34.6887,2,    172.4,2,   173.3,2,  121.68,2,   34.40,2,    0.01,2,    2.41,3,   0.003,2,   0.002,2,  -999.0,9,  -999.0,9,-999.000,9,-999.0000,9, -999.00,9, -999.00,9,  -999.0,9,  -999.0,-999.000,9,-999.000,     -999.0,-999.0000,-999.000,     1.3368,-999.000