BOTTLE,20211025CCHSIORKP
EXPOCODE,SECT_ID,STNNBR,CASTNO,SAMPNO,BTLNBR,BTLNBR_FLAG_W,DATE,TIME,LATITUDE,LONGITUDE,DEPTH,CTDPRS,CTDTMP,CTDSAL,CTDSAL_FLAG_W,SALNTY,SALNTY_FLAG_W,CTDOXY,CTDOXY_FLAG_W,OXYGEN,OXYGEN_FLAG_W,SILCAT,SILCAT_FLAG_W,NITRAT,NITRAT_FLAG_W,NITRIT,NITRIT_FLAG_W,PHSPHT,PHSPHT_FLAG_W,CFC-11,CFC-11_FLAG_W,CFC-12,CFC-12_FLAG_W,TCARBN,TCARBN_FLAG_W,PCO2,PCO2_FLAG_W,TRITUM,TRITUM_FLAG_W,HELIUM,HELIUM_FLAG_W,DELHE3,DELHE3_FLAG_W,DELC13,DELC13_FLAG_W,DELC14,DELC14_FLAG_W,C14ERR,NEON,NEON_FLAG_W,NEONER,PCO2TMP,HELIER,DELHER,THETA,TRITER
,,,,,,,,,,,METERS,DBAR,ITS-90,PSS-78,,PSS-78,,UMOL/KG,,UMOL/KG,,UMOL/KG,,UMOL/KG,,UMOL/KG,,UMOL/KG,,PMOL/KG,,PMOL/KG,,UMOL/KG,,UATM,,TU,,NMOL/KG,,PERCNT,,/MILLE,,/MILLE,,/MILLE,NMOL/KG,,NMOL/KG,DEG_C,NMOL/KG,PERCNT,ITS-90,TU
  316N138_4,       P06C,     104,          1,         36,    02-9121,2,19920610,       0222,   -32.4965,  -132.6507,       4350,    21.8,  19.1333,  35.2567,2,  35.2574,2,    297.0,3,   229.9,2,    0.31,2,    0.04,2,    0.00,2,    0.11,2,   2.343,2,-999.000,5,  2015.4,6,  -999.0,9,-999.000,9,-999.0000,9, -999.00,9, -999.00,9,  -999.0,9,  -999.0,-999.000,9,-999.000,     -999.0,-999.0000,-999.000,    19.1294,-999.000
  316N138_4,       P06C,     104,          1,         35,    02-9454,2,19920610,       0222,   -32.4965,  -132.6507,       4350,    52.6,  19.1373,  35.2569,2,  35.2580,2,    230.3,2,   231.4,2,    0.32,2,    0.03,2,    0.01,2,    0.12,2,   2.340,2,   1.277,2,  2017.2,2,  -999.0,9,-999.000,9,-999.0000,9, -999.00,9, -999.00,9,  -999.0,9,  -999.0,-999.000,9,-999.000,     -999.0,-999.0000,-999.000,    19.1279,-999.000
  316N138_4,       P06C,     104,          1,         34,    02-9457,2,19920610,       0222,   -32.4965,  -132.6507,       4350,    81.4,  19.1393,  35.2571,2,  35.2601,2,    231.1,2,   230.4,2,    0.32,2,    0.03,2,    0.01,2,    0.12,2,   2.339,2,   1.227,2,  2018.9,2,  -999.0,9,-999.000,9,-999.0000,9, -999.00,9, -999.00,9,  -999.0,9,  -999.0,-999.000,9,-999.000,     -999.0,-999.0000,-999.000,    19.1247,-999.000
  316N138_4,       P06C,     104,          1,         33,    02-5367,2,19920610,       0222,   -32.4965,  -132.6507,       4350,   109.6,  19.1090,  35.2716,2,  35.2542,2,    228.8,2,   231.9,2,    0.16,2,    0.03,2,    0.01,2,    0.13,2,   2.372,2,   1.243,2,  2019.2,2,  -999.0,9,-999.000,9,-999.0000,9, -999.00,9, -999.00,9,  -999.0,9,  -999.0,-999.000,9,-999.000,     -999.0,-999.0000,-999.000,    19.0893,-999.000
  316N138_4,       P06C,     104,          1,         32,    02-9540,2,19920610,       0222,   -32.4965,  -132.6507,       4350,   157.1,  16.4072,  35.0852,2,  35.0894,2,    231.1,2,   231.8,2,    0.33,2,    0.10,2,    0.08,2,    0.21,2,   2.560,2,   1.380,2,  2037.1,2,  -999.0,9,-999.000,9,-999.0000,9, -999.00,9, -999.00,9,  -999.0,9,  -999.0,-999.000,9,-999.000,     -999.0,-999.0000,-999.000,    16.3819,-999.000
  316N138_4,       P06C,     104,          1,         31,    02-9539,2,19920610,       0222,   -32.4965,  -132.6507,       4350,   207.4,  15.1945,  35.0591,2,  35.0474,2,    216.3,2,   222.8,2,    0.52,2,    2.10,2,    0.03,2,    0.34,2,-999.000,5,   1.292,2,  2053.2,2,  -999.0,9,-999.000,9,-999.0000,9, -999.00,9, -999.00,9,  -999.0,9,  -999.0,-999.000,9,-999.000,     -999.0,-999.0000,-999.000,    15.1628,-999.000
  316N138_4,       P06C,     104,          1,         30,    02-9456,2,19920610,       0222,   -32.4965,  -132.6507,       4350,   259.5,  14.0950,  34.9938,2,  34.9937,2,    209.3,2,   206.1,2,    1.04,2,    6.14,2,    0.01,2,    0.60,2,   2.196,2,   1.103,2,  2076.4,2,  -999.0,9,-999.000,9,-999.0000,9, -999.00,9, -999.00,9,  -999.0,9,  -999.0,-999.000,9,-999.000,     -999.0,-999.0000,-999.000,    14.0573,-999.000
  316N138_4,       P06C,     104,          1,         29,    02-9458,2,19920610,       0222,   -32.4965,  -132.6507,       4350,   308.9,  12.0440,  34.7898,2,  34.7848,2,    205.4,2,   203.2,2,    2.11,2,   11.18,2,    0.02,2,    0.91,2,   1.864,2,   0.934,2,  2093.3,2,  -999.0,9,-999.000,9,-999.0000,9, -999.00,9, -999.00,9,  -999.0,9,  -999.0,-999.000,9,-999.000,     -999.0,-999.0000,-999.000,    12.0035,-999.000
  316N138_4,       P06C,     104,          1,         28,    02-9545,2,19920610,       0222,   -32.4965,  -132.6507,       4350,   357.4,   9.8518,  34.5885,2,  34.5865,2,    212.3,2,   208.7,2,    3.52,2,   16.04,2,    0.02,2,    1.18,2,   1.612,2,   0.790,2,  2113.8,2,  -999.0,9,-999.000,9,-999.0000,9, -999.00,9, -999.00,9,  -999.0,9,  -999.0,-999.000,9,-999.000,     -999.0,-999.0000,-999.000,     9.8105,-999.000
  316N138_4,       P06C,     104,          1,         27,    02-9453,2,19920610,       0222,   -32.4965,  -132.6507,       4350,   408.9,   8.4468,  34.4711,2,  34.4691,2,    218.3,2,   217.5,2,    4.57,2,   19.05,2,    0.02,2,    1.35,2,   1.519,2,   0.748,2,  2123.3,2,  -999.0,9,-999.000,9,-999.0000,9, -999.00,9, -999.00,9,  -999.0,9,  -999.0,-999.000,9,-999.000,     -999.0,-999.0000,-999.000,     8.4038,-999.000
  316N138_4,       P06C,     104,          1,         26,    02-9544,2,19920610,       0222,   -32.4965,  -132.6507,       4350,   458.0,   7.6929,  34.4192,2,  34.4239,2,    227.9,2,   229.2,2,    5.28,2,   20.35,2,    0.03,3,    1.42,2,   1.620,6,   0.794,6,  2125.5,2,  -999.0,9,-999.000,9,-999.0000,9, -999.00,9, -999.00,9,  -999.0,9,  -999.0,-999.000,9,-999.000,     -999.0,-999.0000,-999.000,     7.6472,-999.000
  316N138_4,       P06C,     104,          1,         25,    02-9455,2,19920610,       0222,   -32.4965,  -132.6507,       4350,   507.7,   7.2120,  34.3971,2,  34.3978,2,    236.5,2,   237.9,2,    5.99,2,   21.14,2,    0.03,3,    1.47,2,   1.662,2,   0.863,2,  2127.9,2,  -999.0,9,-999.000,9,-999.0000,9, -999.00,9, -999.00,9,  -999.0,9,  -999.0,-999.000,9,-999.000,     -999.0,-999.0000,-999.000,     7.1630,-999.000
  316N138_4,       P06C,     104,          1,         24,        132,2,19920610,       0222,   -32.4965,  -132.6507,       4350,   558.6,   6.9353,  34.3824,2,  34.3853,2,    241.7,2,   243.3,2,    6.53,2,   21.69,2,    0.03,3,    1.49,2,   1.640,6,   0.805,6,  2128.5,2,  -999.0,9,-999.000,9,-999.0000,9, -999.00,9, -999.00,9,  -999.0,9,  -999.0,-999.000,9,-999.000,     -999.0,-999.0000,-999.000,     6.8824,-999.000
  316N138_4,       P06C,     104,          1,         23,        123,2,19920610,       0222,   -32.4965,  -132.6507,       4350,   659.5,   6.4053,  34.3475,2,  34.3464,2,    241.3,2,   243.0,2,    8.28,2,   23.04,2,    0.03,3,    1.59,2,   1.121,2,   0.556,2,  2131.6,2,  -999.0,9,-999.000,9,-999.0000,9, -999.00,9, -999.00,9,  -999.0,9,  -999.0,-999.000,9,-999.000,     -999.0,-999.0000,-999.000,     6.3451,-999.000
  316N138_4,       P06C,     104,          1,         22,        128,2,19920610,       0222,   -32.4965,  -132.6507,       4350,   759.3,   5.8523,  34.3109,2,  34.3115,2,    237.9,2,   239.1,2,   10.92,2,   24.87,2,    0.03,3,    1.70,2,   0.666,2,   0.404,3,  2140.6,2,  -999.0,9,-999.000,9,-999.0000,9, -999.00,9, -999.00,9,  -999.0,9,  -999.0,-999.000,9,-999.000,     -999.0,-999.0000,-999.000,     5.7856,-999.000
  316N138_4,       P06C,     104,          1,         21,        121,2,19920610,       0222,   -32.4965,  -132.6507,       4350,   860.5,   5.3635,  34.2985,2,  34.2985,2,    229.8,2,   228.9,2,   15.49,2,   26.87,2,    0.04,3,    1.83,2,   0.410,2,   0.220,2,  2157.7,6,  -999.0,9,-999.000,9,-999.0000,9, -999.00,9, -999.00,9,  -999.0,9,  -999.0,-999.000,9,-999.000,     -999.0,-999.0000,-999.000,     5.2905,-999.000
  316N138_4,       P06C,     104,          1,         20,        120,2,19920610,       0222,   -32.4965,  -132.6507,       4350,   962.6,   4.8494,  34.3015,2,  34.2997,2,    213.7,2,   215.3,2,   22.53,2,   29.28,2,    0.04,3,    1.98,2,   0.220,2,-999.000,5,  2169.7,2,  -999.0,9,-999.000,9,-999.0000,9, -999.00,9, -999.00,9,  -999.0,9,  -999.0,-999.000,9,-999.000,     -999.0,-999.0000,-999.000,     4.7709,-999.000
  316N138_4,       P06C,     104,          1,         19,        133,2,19920610,       0222,   -32.4965,  -132.6507,       4350,  1060.9,   4.3122,  34.3259,2,  34.3260,2,    199.0,2,   197.5,2,   32.36,2,   31.53,2,    0.03,3,    2.15,2,   0.107,2,   0.051,2,  2190.1,2,  -999.0,9,-999.000,9,-999.0000,9, -999.00,9, -999.00,9,  -999.0,9,  -999.0,-999.000,9,-999.000,     -999.0,-999.0000,-999.000,     4.2292,-999.000
  316N138_4,       P06C,     104,          1,         18,        118,2,19920610,       0222,   -32.4965,  -132.6507,       4350,  1163.7,   3.8047,  34.3697,2,  34.3747,2,    184.6,2,   183.8,2,   43.96,2,   33.32,2,    0.04,3,    2.29,2,   0.038,2,   0.018,2,  2211.9,6,  -999.0,9,-999.000,9,-999.0000,9, -999.00,9, -999.00,9,  -999.0,9,  -999.0,-999.000,9,-999.000,     -999.0,-999.0000,-999.000,     3.7172,-999.000
  316N138_4,       P06C,     104,          1,         17,        117,2,19920610,       0222,   -32.4965,  -132.6507,       4350,  1362.9,   3.0488,  34.4698,2,  34.4720,2,    170.2,2,   168.8,2,   65.56,2,   34.78,2,    0.04,3,    2.41,2,-999.000,9,-999.000,9,  2241.6,2,  -999.0,9,-999.000,9,-999.0000,9, -999.00,9, -999.00,9,  -999.0,9,  -999.0,-999.000,9,-999.000,     -999.0,-999.0000,-999.000,     2.9520,-999.000
  316N138_4,       P06C,     104,          1,         16,        116,2,19920610,       0222,   -32.4965,  -132.6507,       4350,  1564.9,   2.5842,  34.5593,2,  34.5598,2,    162.2,2,   160.4,2,   86.10,2,   35.25,2,    0.05,3,    2.45,2,   0.000,2,   0.000,2,  2265.7,2,  -999.0,9,-999.000,9,-999.0000,9, -999.00,9, -999.00,9,  -999.0,9,  -999.0,-999.000,9,-999.000,     -999.0,-999.0000,-999.000,     2.4759,-999.000
  316N138_4,       P06C,     104,          1,         15,        115,2,19920610,       0222,   -32.4965,  -132.6507,       4350,  1770.7,   2.3221,  34.6032,2,  34.6026,2,    157.5,2,   156.4,2,   99.10,2,   35.48,2,    0.05,3,    2.49,2,-999.000,9,-999.000,9,  2280.2,2,  -999.0,9,-999.000,9,-999.0000,9, -999.00,9, -999.00,9,  -999.0,9,  -999.0,-999.000,9,-999.000,     -999.0,-999.0000,-999.000,     2.2003,-999.000
  316N138_4,       P06C,     104,          1,         14,        114,2,19920610,       0222,   -32.4965,  -132.6507,       4350,  1977.6,   2.1496,  34.6274,2,  34.6291,2,    155.3,2,   154.6,2,  108.05,2,   35.71,2,    0.06,3,    2.50,2,   0.000,2,  -0.002,2,  2289.0,2,  -999.0,9,-999.000,9,-999.0000,9, -999.00,9, -999.00,9,  -999.0,9,  -999.0,-999.000,9,-999.000,     -999.0,-999.0000,-999.000,     2.0128,-999.000
  316N138_4,       P06C,     104,          1,         13,        125,2,19920610,       0222,   -32.4965,  -132.6507,       4350,  2178.7,   2.0012,  34.6441,2,  34.6462,2,    154.4,2,   154.2,2,  114.91,2,   35.85,2,    0.06,3,    2.52,2,-999.000,9,-999.000,9,  2295.4,2,  -999.0,9,-999.000,9,-999.0000,9, -999.00,9, -999.00,9,  -999.0,9,  -999.0,-999.000,9,-999.000,     -999.0,-999.0000,-999.000,     1.8495,-999.000
  316N138_4,       P06C,     104,          1,         12,        112,2,19920610,       0222,   -32.4965,  -132.6507,       4350,  2378.4,   1.8858,  34.6531,2,  34.6543,2,    155.0,2,   154.9,2,  119.83,2,   35.85,2,    0.06,3,    2.51,2,   0.002,2,   0.000,2,  2300.1,6,  -999.0,9,-999.000,9,-999.0000,9, -999.00,9, -999.00,9,  -999.0,9,  -999.0,-999.000,9,-999.000,     -999.0,-999.0000,-999.000,     1.7186,-999.000
  316N138_4,       P06C,     104,          1,         11,        129,2,19920610,       0222,   -32.4965,  -132.6507,       4350,  2580.6,   1.8058,  34.6622,2,  34.6677,4,    157.1,2,   156.9,2,  122.11,2,   35.62,2,    0.06,3,    2.51,2,-999.000,9,-999.000,9,  2300.6,2,  -999.0,9,-999.000,9,-999.0000,9, -999.00,9, -999.00,9,  -999.0,9,  -999.0,-999.000,9,-999.000,     -999.0,-999.0000,-999.000,     1.6218,-999.000
  316N138_4,       P06C,     104,          1,         10,        110,2,19920610,       0222,   -32.4965,  -132.6507,       4350,  2785.5,   1.7429,  34.6678,2,  34.6724,4,    159.9,2,   160.0,2,  123.18,2,   35.29,2,    0.05,3,    2.50,2,   0.000,2,   0.002,2,  2299.8,2,  -999.0,9,-999.000,9,-999.0000,9, -999.00,9, -999.00,9,  -999.0,9,  -999.0,-999.000,9,-999.000,     -999.0,-999.0000,-999.000,     1.5412,-999.000
  316N138_4,       P06C,     104,          1,          9,        126,2,19920610,       0222,   -32.4965,  -132.6507,       4350,  2985.8,   1.6831,  34.6732,2,  34.6716,2,    162.8,2,   161.7,2,  123.70,2,   34.93,2,    0.03,2,    2.47,2,-999.000,9,-999.000,9,  2298.8,2,  -999.0,9,-999.000,9,-999.0000,9, -999.00,9, -999.00,9,  -999.0,9,  -999.0,-999.000,9,-999.000,     -999.0,-999.0000,-999.000,     1.4636,-999.000
  316N138_4,       P06C,     104,          1,          8,        108,2,19920610,       0222,   -32.4965,  -132.6507,       4350,  3189.3,   1.6449,  34.6770,2,  34.6779,2,    166.1,2,   166.0,2,  123.54,2,   34.62,2,    0.01,2,    2.46,2,   0.004,2,  -0.002,2,  2297.2,2,  -999.0,9,-999.000,9,-999.0000,9, -999.00,9, -999.00,9,  -999.0,9,  -999.0,-999.000,9,-999.000,     -999.0,-999.0000,-999.000,     1.4066,-999.000
  316N138_4,       P06C,     104,          1,          7,        107,3,19920610,       0222,   -32.4965,  -132.6507,       4350,  3390.8,   1.6013,  34.6825,2,  34.6468,4,    169.1,2,   165.2,4,   89.47,4,   30.37,4,    0.01,4,    2.13,4,-999.000,9,-999.000,9,  2288.1,3,  -999.0,9,-999.000,9,-999.0000,9, -999.00,9, -999.00,9,  -999.0,9,  -999.0,-999.000,9,-999.000,     -999.0,-999.0000,-999.000,     1.3437,-999.000
  316N138_4,       P06C,     104,          1,          6,        180,2,19920610,       0222,   -32.4965,  -132.6507,       4350,  3589.5,   1.5661,  34.6854,2,  34.6857,2,    172.7,2,   172.3,2,  122.67,2,   34.16,2,    0.00,2,    2.41,2,   0.001,2,  -0.003,2,  2292.1,2,  -999.0,9,-999.000,9,-999.0000,9, -999.00,9, -999.00,9,  -999.0,9,  -999.0,-999.000,9,-999.000,     -999.0,-999.0000,-999.000,     1.2890,-999.000
  316N138_4,       P06C,     104,          1,          5,        131,2,19920610,       0222,   -32.4965,  -132.6507,       4350,  3788.6,   1.5303,  34.6889,2,  34.6908,2,    175.5,2,   175.5,2,  122.50,2,   33.98,2,    0.00,2,    2.39,2,-999.000,9,-999.000,9,  2289.9,2,  -999.0,9,-999.000,9,-999.0000,9, -999.00,9, -999.00,9,  -999.0,9,  -999.0,-999.000,9,-999.000,     -999.0,-999.0000,-999.000,     1.2333,-999.000
  316N138_4,       P06C,     104,          1,          4,        104,2,19920610,       0222,   -32.4965,  -132.6507,       4350,  3986.4,   1.4371,  34.6972,2,  34.7054,3,    181.5,2,   181.2,2,  121.10,2,   33.50,2,    0.00,2,    2.35,2,   0.001,2,   0.003,2,  2283.7,2,  -999.0,9,   0.003,2,-999.0000,9, -999.00,9, -999.00,9,  -999.0,9,  -999.0,-999.000,9,-999.000,     -999.0,-999.0000,-999.000,     1.1213,   0.002
  316N138_4,       P06C,     104,          1,          3,        130,2,19920610,       0222,   -32.4965,  -132.6507,       4350,  4185.0,   1.3679,  34.7032,2,  34.7030,2,    187.4,2,   186.6,2,  119.87,2,   33.13,2,    0.00,2,    2.32,2,-999.000,9,-999.000,9,  2280.0,2,  -999.0,9,-999.000,9,-999.0000,9, -999.00,9, -999.00,9,  -999.0,9,  -999.0,-999.000,9,-999.000,     -999.0,-999.0000,-999.000,     1.0324,-999.000
  316N138_4,       P06C,     104,          1,          2,        135,2,19920610,       0222,   -32.4965,  -132.6507,       4350,  4382.2,   1.3532,  34.7049,2,  34.7038,2,    189.8,2,   187.1,3,  120.24,3,   33.22,3,    0.00,3,    2.33,3,   0.001,2,   0.001,2,  2280.0,2,  -999.0,9,-999.000,9,-999.0000,9, -999.00,9, -999.00,9,  -999.0,9,  -999.0,-999.000,9,-999.000,     -999.0,-999.0000,-999.000,     0.9961,-999.000
  316N138_4,       P06C,     104,          1,          1,        134,2,19920610,       0222,   -32.4965,  -132.6507,       4350,  4414.9,   1.3488,  34.7048,2,  34.6003,4,    190.5,2,   189.7,2,  119.31,2,   32.99,2,    0.00,2,    2.29,2,   0.002,2,   0.000,2,  2276.6,6,  -999.0,9,-999.000,9,-999.0000,9, -999.00,9, -999.00,9,  -999.0,9,  -999.0,-999.000,9,-999.000,     -999.0,-999.0000,-999.000,     0.9881,-999.000