BOTTLE,20211025CCHSIORKP
EXPOCODE,SECT_ID,STNNBR,CASTNO,SAMPNO,BTLNBR,BTLNBR_FLAG_W,DATE,TIME,LATITUDE,LONGITUDE,DEPTH,CTDPRS,CTDTMP,CTDSAL,CTDSAL_FLAG_W,SALNTY,SALNTY_FLAG_W,CTDOXY,CTDOXY_FLAG_W,OXYGEN,OXYGEN_FLAG_W,SILCAT,SILCAT_FLAG_W,NITRAT,NITRAT_FLAG_W,NITRIT,NITRIT_FLAG_W,PHSPHT,PHSPHT_FLAG_W,CFC-11,CFC-11_FLAG_W,CFC-12,CFC-12_FLAG_W,TCARBN,TCARBN_FLAG_W,PCO2,PCO2_FLAG_W,TRITUM,TRITUM_FLAG_W,HELIUM,HELIUM_FLAG_W,DELHE3,DELHE3_FLAG_W,DELC13,DELC13_FLAG_W,DELC14,DELC14_FLAG_W,C14ERR,NEON,NEON_FLAG_W,NEONER,PCO2TMP,HELIER,DELHER,THETA,TRITER
,,,,,,,,,,,METERS,DBAR,ITS-90,PSS-78,,PSS-78,,UMOL/KG,,UMOL/KG,,UMOL/KG,,UMOL/KG,,UMOL/KG,,UMOL/KG,,PMOL/KG,,PMOL/KG,,UMOL/KG,,UATM,,TU,,NMOL/KG,,PERCNT,,/MILLE,,/MILLE,,/MILLE,NMOL/KG,,NMOL/KG,DEG_C,NMOL/KG,PERCNT,ITS-90,TU
  316N138_4,       P06C,     107,          1,         36,    02-9121,2,19920610,       2229,   -32.4837,  -134.6670,       4261,    19.0,  18.9962,  35.2369,2,  35.2373,2,    293.2,3,   230.8,2,    0.16,2,    0.05,2,   -0.01,2,    0.11,2,-999.000,9,-999.000,9,  -999.0,9,  -999.0,9,-999.000,9,-999.0000,9, -999.00,9, -999.00,9,  -999.0,9,  -999.0,-999.000,9,-999.000,     -999.0,-999.0000,-999.000,    18.9928,-999.000
  316N138_4,       P06C,     107,          1,         35,    02-9454,2,19920610,       2229,   -32.4837,  -134.6670,       4261,    49.9,  18.9998,  35.2369,2,  35.2414,2,    230.3,2,   229.4,2,    0.19,2,    0.05,2,   -0.01,2,    0.10,2,-999.000,9,-999.000,9,  -999.0,9,  -999.0,9,-999.000,9,-999.0000,9, -999.00,9, -999.00,9,  -999.0,9,  -999.0,-999.000,9,-999.000,     -999.0,-999.0000,-999.000,    18.9909,-999.000
  316N138_4,       P06C,     107,          1,         34,    02-9457,2,19920610,       2229,   -32.4837,  -134.6670,       4261,    79.6,  18.9365,  35.2514,2,  35.2524,2,    231.7,2,   230.5,2,    0.38,2,    0.05,2,   -0.01,2,    0.11,2,-999.000,9,-999.000,9,  -999.0,9,  -999.0,9,-999.000,9,-999.0000,9, -999.00,9, -999.00,9,  -999.0,9,  -999.0,-999.000,9,-999.000,     -999.0,-999.0000,-999.000,    18.9223,-999.000
  316N138_4,       P06C,     107,          1,         33,    02-5367,2,19920610,       2229,   -32.4837,  -134.6670,       4261,   117.0,  17.1797,  35.1597,2,  35.1545,2,    242.2,2,   241.0,2,    0.41,2,    0.04,2,   -0.01,2,    0.15,2,-999.000,9,-999.000,9,  -999.0,9,  -999.0,9,-999.000,9,-999.0000,9, -999.00,9, -999.00,9,  -999.0,9,  -999.0,-999.000,9,-999.000,     -999.0,-999.0000,-999.000,    17.1602,-999.000
  316N138_4,       P06C,     107,          1,         32,    02-9540,2,19920610,       2229,   -32.4837,  -134.6670,       4261,   155.9,  16.0535,  35.1087,2,  35.1095,2,    237.4,2,   228.6,2,    0.44,2,    0.30,2,    0.18,2,    0.23,2,-999.000,9,-999.000,9,  -999.0,9,  -999.0,9,-999.000,9,-999.0000,9, -999.00,9, -999.00,9,  -999.0,9,  -999.0,-999.000,9,-999.000,     -999.0,-999.0000,-999.000,    16.0289,-999.000
  316N138_4,       P06C,     107,          1,         31,    02-9539,2,19920610,       2229,   -32.4837,  -134.6670,       4261,   204.9,  15.0710,  35.0752,2,  35.0752,2,    226.5,2,   217.7,2,    0.82,2,    3.02,2,    0.00,2,    0.39,2,-999.000,9,-999.000,9,  -999.0,9,  -999.0,9,-999.000,9,-999.0000,9, -999.00,9, -999.00,9,  -999.0,9,  -999.0,-999.000,9,-999.000,     -999.0,-999.0000,-999.000,    15.0398,-999.000
  316N138_4,       P06C,     107,          1,         30,    02-9456,2,19920610,       2229,   -32.4837,  -134.6670,       4261,   255.1,  13.6453,  34.9588,2,  34.9603,2,    205.9,2,   201.8,2,    1.56,2,    7.81,2,   -0.01,2,    0.67,2,-999.000,9,-999.000,9,  -999.0,9,  -999.0,9,-999.000,9,-999.0000,9, -999.00,9, -999.00,9,  -999.0,9,  -999.0,-999.000,9,-999.000,     -999.0,-999.0000,-999.000,    13.6090,-999.000
  316N138_4,       P06C,     107,          1,         29,    02-9458,2,19920610,       2229,   -32.4837,  -134.6670,       4261,   306.6,  12.1398,  34.8206,2,  34.8287,2,    203.9,2,   201.5,2,    2.29,2,   11.10,2,   -0.01,2,    0.87,2,-999.000,9,-999.000,9,  -999.0,9,  -999.0,9,-999.000,9,-999.0000,9, -999.00,9, -999.00,9,  -999.0,9,  -999.0,-999.000,9,-999.000,     -999.0,-999.0000,-999.000,    12.0994,-999.000
  316N138_4,       P06C,     107,          1,         28,    02-9545,2,19920610,       2229,   -32.4837,  -134.6670,       4261,   356.8,  10.5070,  34.6556,2,  34.6639,2,    207.9,2,   205.3,2,    3.21,2,   14.62,2,    0.00,2,    1.07,2,-999.000,9,-999.000,9,  -999.0,9,  -999.0,9,-999.000,9,-999.0000,9, -999.00,9, -999.00,9,  -999.0,9,  -999.0,-999.000,9,-999.000,     -999.0,-999.0000,-999.000,    10.4641,-999.000
  316N138_4,       P06C,     107,          1,         27,    02-9453,2,19920610,       2229,   -32.4837,  -134.6670,       4261,   406.8,   8.6533,  34.4782,2,  34.5042,2,    218.6,2,   217.5,2,    4.49,2,   18.42,2,   -0.01,2,    1.29,2,-999.000,9,-999.000,9,  -999.0,9,  -999.0,9,-999.000,9,-999.0000,9, -999.00,9, -999.00,9,  -999.0,9,  -999.0,-999.000,9,-999.000,     -999.0,-999.0000,-999.000,     8.6099,-999.000
  316N138_4,       P06C,     107,          1,         26,    02-9544,2,19920610,       2229,   -32.4837,  -134.6670,       4261,   459.3,   7.5598,  34.4402,2,  34.4365,2,    231.2,2,   229.1,2,    5.58,2,   20.27,2,   -0.01,2,    1.40,2,-999.000,9,-999.000,9,  -999.0,9,  -999.0,9,-999.000,9,-999.0000,9, -999.00,9, -999.00,9,  -999.0,9,  -999.0,-999.000,9,-999.000,     -999.0,-999.0000,-999.000,     7.5144,-999.000
  316N138_4,       P06C,     107,          1,         25,    02-9455,2,19920610,       2229,   -32.4837,  -134.6670,       4261,   506.5,   7.1373,  34.3995,2,  34.4023,2,    238.7,2,   238.4,2,    6.50,2,   21.24,2,    0.00,2,    1.46,2,-999.000,9,-999.000,9,  -999.0,9,  -999.0,9,-999.000,9,-999.0000,9, -999.00,9, -999.00,9,  -999.0,9,  -999.0,-999.000,9,-999.000,     -999.0,-999.0000,-999.000,     7.0887,-999.000
  316N138_4,       P06C,     107,          1,         24,        132,2,19920610,       2229,   -32.4837,  -134.6670,       4261,   608.6,   6.6101,  34.3653,2,  34.3651,2,    244.4,2,   243.2,2,    7.94,2,   22.50,2,   -0.01,2,    1.52,2,-999.000,9,-999.000,9,  -999.0,9,  -999.0,9,-999.000,9,-999.0000,9, -999.00,9, -999.00,9,  -999.0,9,  -999.0,-999.000,9,-999.000,     -999.0,-999.0000,-999.000,     6.5537,-999.000
  316N138_4,       P06C,     107,          1,         23,        123,2,19920610,       2229,   -32.4837,  -134.6670,       4261,   703.6,   6.1584,  34.3328,2,  34.3356,2,    242.0,2,   240.0,2,    9.75,2,   23.87,2,    0.00,2,    1.61,2,-999.000,9,-999.000,9,  -999.0,9,  -999.0,9,-999.000,9,-999.0000,9, -999.00,9, -999.00,9,  -999.0,9,  -999.0,-999.000,9,-999.000,     -999.0,-999.0000,-999.000,     6.0953,-999.000
  316N138_4,       P06C,     107,          1,         22,        128,2,19920610,       2229,   -32.4837,  -134.6670,       4261,   805.9,   5.6661,  34.3064,2,  34.3070,2,    235.3,2,   234.4,2,   13.15,2,   25.73,2,    0.00,2,    1.73,2,-999.000,9,-999.000,9,  -999.0,9,  -999.0,9,-999.000,9,-999.0000,9, -999.00,9, -999.00,9,  -999.0,9,  -999.0,-999.000,9,-999.000,     -999.0,-999.0000,-999.000,     5.5964,-999.000
  316N138_4,       P06C,     107,          1,         21,        121,2,19920610,       2229,   -32.4837,  -134.6670,       4261,   905.0,   5.1159,  34.2998,2,  34.3007,2,    222.5,2,   220.2,2,   19.57,2,   28.12,2,   -0.01,2,    1.89,2,-999.000,9,-999.000,9,  -999.0,9,  -999.0,9,-999.000,9,-999.0000,9, -999.00,9, -999.00,9,  -999.0,9,  -999.0,-999.000,9,-999.000,     -999.0,-999.0000,-999.000,     5.0406,-999.000
  316N138_4,       P06C,     107,          1,         20,        120,2,19920610,       2229,   -32.4837,  -134.6670,       4261,  1001.5,   4.6318,  34.3140,2,  34.3138,2,    207.2,2,   206.2,2,   27.40,2,   30.17,2,    0.00,2,    2.03,2,-999.000,9,-999.000,9,  -999.0,9,  -999.0,9,-999.000,9,-999.0000,9, -999.00,9, -999.00,9,  -999.0,9,  -999.0,-999.000,9,-999.000,     -999.0,-999.0000,-999.000,     4.5515,-999.000
  316N138_4,       P06C,     107,          1,         19,        133,2,19920610,       2229,   -32.4837,  -134.6670,       4261,  1097.5,   4.1423,  34.3419,2,  34.3419,2,    196.7,2,   193.2,2,   36.47,2,   31.95,2,   -0.01,2,    2.14,2,-999.000,9,-999.000,9,  -999.0,9,  -999.0,9,-999.000,9,-999.0000,9, -999.00,9, -999.00,9,  -999.0,9,  -999.0,-999.000,9,-999.000,     -999.0,-999.0000,-999.000,     4.0575,-999.000
  316N138_4,       P06C,     107,          1,         18,        118,2,19920610,       2229,   -32.4837,  -134.6670,       4261,  1193.9,   3.7075,  34.3785,2,  34.3770,2,    186.1,2,   184.1,2,   46.25,2,   33.21,2,    0.00,2,    2.24,2,-999.000,9,-999.000,9,  -999.0,9,  -999.0,9,-999.000,9,-999.0000,9, -999.00,9, -999.00,9,  -999.0,9,  -999.0,-999.000,9,-999.000,     -999.0,-999.0000,-999.000,     3.6183,-999.000
  316N138_4,       P06C,     107,          1,         17,        117,2,19920610,       2229,   -32.4837,  -134.6670,       4261,  1290.8,   3.2573,  34.4335,2,  34.4330,2,    178.3,2,   175.2,2,   58.32,2,   34.19,2,    0.00,2,    2.31,2,-999.000,9,-999.000,9,  -999.0,9,  -999.0,9,-999.000,9,-999.0000,9, -999.00,9, -999.00,9,  -999.0,9,  -999.0,-999.000,9,-999.000,     -999.0,-999.0000,-999.000,     3.1643,-999.000
  316N138_4,       P06C,     107,          1,         16,        116,2,19920610,       2229,   -32.4837,  -134.6670,       4261,  1438.6,   2.8635,  34.5006,2,  34.5032,2,    169.9,2,   167.6,2,   72.16,2,   34.70,2,    0.00,2,    2.37,2,-999.000,9,-999.000,9,  -999.0,9,  -999.0,9,-999.000,9,-999.0000,9, -999.00,9, -999.00,9,  -999.0,9,  -999.0,-999.000,9,-999.000,     -999.0,-999.0000,-999.000,     2.7624,-999.000
  316N138_4,       P06C,     107,          1,         15,        115,2,19920610,       2229,   -32.4837,  -134.6670,       4261,  1582.1,   2.5949,  34.5555,2,  34.5523,2,    164.2,2,   162.3,2,   84.75,2,   34.94,2,    0.00,2,    2.41,2,-999.000,9,-999.000,9,  -999.0,9,  -999.0,9,-999.000,9,-999.0000,9, -999.00,9, -999.00,9,  -999.0,9,  -999.0,-999.000,9,-999.000,     -999.0,-999.0000,-999.000,     2.4851,-999.000
  316N138_4,       P06C,     107,          1,         14,        114,2,19920610,       2229,   -32.4837,  -134.6670,       4261,  1727.5,   2.4139,  34.5893,2,  34.5881,2,    159.7,2,   158.8,2,   94.67,2,   35.08,2,    0.00,2,    2.41,2,-999.000,9,-999.000,9,  -999.0,9,  -999.0,9,-999.000,9,-999.0000,9, -999.00,9, -999.00,9,  -999.0,9,  -999.0,-999.000,9,-999.000,     -999.0,-999.0000,-999.000,     2.2943,-999.000
  316N138_4,       P06C,     107,          1,         13,        125,2,19920610,       2229,   -32.4837,  -134.6670,       4261,  1911.8,   2.2233,  34.6201,2,  34.6219,2,    156.8,2,   155.8,2,  105.10,2,   35.25,2,    0.01,2,    2.42,2,-999.000,9,-999.000,9,  -999.0,9,  -999.0,9,-999.000,9,-999.0000,9, -999.00,9, -999.00,9,  -999.0,9,  -999.0,-999.000,9,-999.000,     -999.0,-999.0000,-999.000,     2.0910,-999.000
  316N138_4,       P06C,     107,          1,         12,        112,2,19920610,       2229,   -32.4837,  -134.6670,       4261,  2111.7,   2.0545,  34.6409,2,  34.6419,2,    155.9,2,   155.2,2,  112.89,2,   35.34,2,    0.01,2,    2.45,2,-999.000,9,-999.000,9,  -999.0,9,  -999.0,9,-999.000,9,-999.0000,9, -999.00,9, -999.00,9,  -999.0,9,  -999.0,-999.000,9,-999.000,     -999.0,-999.0000,-999.000,     1.9077,-999.000
  316N138_4,       P06C,     107,          1,         11,        129,2,19920610,       2229,   -32.4837,  -134.6670,       4261,  2309.7,   1.9217,  34.6519,2,  34.6551,2,    156.4,2,   155.9,2,  118.00,2,   35.39,2,    0.00,2,    2.45,2,-999.000,9,-999.000,9,  -999.0,9,  -999.0,9,-999.000,9,-999.0000,9, -999.00,9, -999.00,9,  -999.0,9,  -999.0,-999.000,9,-999.000,     -999.0,-999.0000,-999.000,     1.7599,-999.000
  316N138_4,       P06C,     107,          1,         10,        110,2,19920610,       2229,   -32.4837,  -134.6670,       4261,  2498.5,   1.8392,  34.6595,2,  34.6608,2,    158.2,2,   157.6,2,  120.46,2,   35.39,2,    0.00,2,    2.44,2,-999.000,9,-999.000,9,  -999.0,9,  -999.0,9,-999.000,9,-999.0000,9, -999.00,9, -999.00,9,  -999.0,9,  -999.0,-999.000,9,-999.000,     -999.0,-999.0000,-999.000,     1.6620,-999.000
  316N138_4,       P06C,     107,          1,          9,        126,2,19920610,       2229,   -32.4837,  -134.6670,       4261,  2699.5,   1.7655,  34.6662,2,  34.6655,2,    160.2,2,   159.8,2,  122.22,2,   35.16,2,    0.01,2,    2.44,2,-999.000,9,-999.000,9,  -999.0,9,  -999.0,9,-999.000,9,-999.0000,9, -999.00,9, -999.00,9,  -999.0,9,  -999.0,-999.000,9,-999.000,     -999.0,-999.0000,-999.000,     1.5713,-999.000
  316N138_4,       P06C,     107,          1,          8,        108,2,19920610,       2229,   -32.4837,  -134.6670,       4261,  2889.7,   1.7073,  34.6708,2,  34.6749,3,    162.9,2,   162.6,2,  122.90,2,   34.96,2,    0.01,2,    2.42,2,-999.000,9,-999.000,9,  -999.0,9,  -999.0,9,-999.000,9,-999.0000,9, -999.00,9, -999.00,9,  -999.0,9,  -999.0,-999.000,9,-999.000,     -999.0,-999.0000,-999.000,     1.4965,-999.000
  316N138_4,       P06C,     107,          1,          7,        107,2,19920610,       2229,   -32.4837,  -134.6670,       4261,  3088.7,   1.6650,  34.6754,2,  34.6749,2,    166.0,2,   165.4,2,  123.07,2,   34.78,2,    0.01,2,    2.41,2,-999.000,9,-999.000,9,  -999.0,9,  -999.0,9,-999.000,9,-999.0000,9, -999.00,9, -999.00,9,  -999.0,9,  -999.0,-999.000,9,-999.000,     -999.0,-999.0000,-999.000,     1.4361,-999.000
  316N138_4,       P06C,     107,          1,          6,        180,2,19920610,       2229,   -32.4837,  -134.6670,       4261,  3293.7,   1.6295,  34.6792,2,  34.6761,2,    168.3,2,   168.0,2,  123.40,2,   34.64,2,    0.01,2,    2.39,2,-999.000,9,-999.000,9,  -999.0,9,  -999.0,9,-999.000,9,-999.0000,9, -999.00,9, -999.00,9,  -999.0,9,  -999.0,-999.000,9,-999.000,     -999.0,-999.0000,-999.000,     1.3811,-999.000
  316N138_4,       P06C,     107,          1,          5,        131,2,19920610,       2229,   -32.4837,  -134.6670,       4261,  3504.8,   1.5952,  34.6831,2,  34.6826,2,    171.1,2,   170.7,2,  122.68,2,   34.44,2,    0.01,2,    2.37,2,-999.000,9,-999.000,9,  -999.0,9,  -999.0,9,-999.000,9,-999.0000,9, -999.00,9, -999.00,9,  -999.0,9,  -999.0,-999.000,9,-999.000,     -999.0,-999.0000,-999.000,     1.3262,-999.000
  316N138_4,       P06C,     107,          1,          4,        104,2,19920610,       2229,   -32.4837,  -134.6670,       4261,  3708.4,   1.5577,  34.6870,2,  34.6871,2,    174.1,2,   174.8,2,  122.48,2,   34.21,2,    0.01,2,    2.35,2,-999.000,9,-999.000,9,  -999.0,9,  -999.0,9,-999.000,9,-999.0000,9, -999.00,9, -999.00,9,  -999.0,9,  -999.0,-999.000,9,-999.000,     -999.0,-999.0000,-999.000,     1.2684,-999.000
  316N138_4,       P06C,     107,          1,          3,        130,2,19920610,       2229,   -32.4837,  -134.6670,       4261,  3917.5,   1.4697,  34.6943,2,  34.6954,2,    179.5,2,   180.6,2,  121.75,2,   33.74,2,    0.01,2,    2.31,2,-999.000,9,-999.000,9,  -999.0,9,  -999.0,9,-999.000,9,-999.0000,9, -999.00,9, -999.00,9,  -999.0,9,  -999.0,-999.000,9,-999.000,     -999.0,-999.0000,-999.000,     1.1605,-999.000
  316N138_4,       P06C,     107,          1,          2,        135,2,19920610,       2229,   -32.4837,  -134.6670,       4261,  4125.6,   1.3640,  34.7025,2,  34.6999,2,    186.9,2,   187.1,2,  119.48,2,   33.29,2,    0.00,2,    2.27,2,-999.000,9,-999.000,9,  -999.0,9,  -999.0,9,-999.000,9,-999.0000,9, -999.00,9, -999.00,9,  -999.0,9,  -999.0,-999.000,9,-999.000,     -999.0,-999.0000,-999.000,     1.0352,-999.000
  316N138_4,       P06C,     107,          1,          1,        134,2,19920610,       2229,   -32.4837,  -134.6670,       4261,  4343.2,   1.3274,  34.7051,2,  34.7097,3,    190.1,2,   191.9,2,  119.01,2,   33.01,2,    0.00,2,    2.25,2,-999.000,9,-999.000,9,  -999.0,9,  -999.0,9,-999.000,9,-999.0000,9, -999.00,9, -999.00,9,  -999.0,9,  -999.0,-999.000,9,-999.000,     -999.0,-999.0000,-999.000,     0.9755,-999.000