BOTTLE,20211025CCHSIORKP
EXPOCODE,SECT_ID,STNNBR,CASTNO,SAMPNO,BTLNBR,BTLNBR_FLAG_W,DATE,TIME,LATITUDE,LONGITUDE,DEPTH,CTDPRS,CTDTMP,CTDSAL,CTDSAL_FLAG_W,SALNTY,SALNTY_FLAG_W,CTDOXY,CTDOXY_FLAG_W,OXYGEN,OXYGEN_FLAG_W,SILCAT,SILCAT_FLAG_W,NITRAT,NITRAT_FLAG_W,NITRIT,NITRIT_FLAG_W,PHSPHT,PHSPHT_FLAG_W,CFC-11,CFC-11_FLAG_W,CFC-12,CFC-12_FLAG_W,TCARBN,TCARBN_FLAG_W,PCO2,PCO2_FLAG_W,TRITUM,TRITUM_FLAG_W,HELIUM,HELIUM_FLAG_W,DELHE3,DELHE3_FLAG_W,DELC13,DELC13_FLAG_W,DELC14,DELC14_FLAG_W,C14ERR,NEON,NEON_FLAG_W,NEONER,PCO2TMP,HELIER,DELHER,THETA,TRITER
,,,,,,,,,,,METERS,DBAR,ITS-90,PSS-78,,PSS-78,,UMOL/KG,,UMOL/KG,,UMOL/KG,,UMOL/KG,,UMOL/KG,,UMOL/KG,,PMOL/KG,,PMOL/KG,,UMOL/KG,,UATM,,TU,,NMOL/KG,,PERCNT,,/MILLE,,/MILLE,,/MILLE,NMOL/KG,,NMOL/KG,DEG_C,NMOL/KG,PERCNT,ITS-90,TU
  316N138_4,       P06C,     177,          1,         36,    02-9121,2,19920702,       1648,   -32.5040,  -178.2803,       5042,    20.5,  16.4874,  35.5617,2,  35.5612,2,    227.1,2,   235.9,2,    1.38,2,    1.44,2,    0.16,2, -999.00,5,   2.724,2,-999.000,9,  2048.2,6,  -999.0,9,-999.000,9,-999.0000,9, -999.00,9, -999.00,9,  -999.0,9,  -999.0,-999.000,9,-999.000,     -999.0,-999.0000,-999.000,    16.4841,-999.000
  316N138_4,       P06C,     177,          1,         35,    02-9454,2,19920702,       1648,   -32.5040,  -178.2803,       5042,    58.9,  16.4661,  35.5568,2,  35.5551,2,    232.0,2,   233.5,2,    1.38,2,    1.52,2,    0.16,2, -999.00,5,   2.697,2,   1.312,2,  2049.6,2,  -999.0,9,-999.000,9,-999.0000,9, -999.00,9, -999.00,9,  -999.0,9,  -999.0,-999.000,9,-999.000,     -999.0,-999.0000,-999.000,    16.4566,-999.000
  316N138_4,       P06C,     177,          1,         34,    02-9457,2,19920702,       1648,   -32.5040,  -178.2803,       5042,   108.9,  16.2092,  35.5246,2,  35.5231,2,    232.6,2,   232.4,2,    1.39,2,    1.36,2,    0.15,2, -999.00,5,-999.000,5,-999.000,5,  2049.7,2,  -999.0,9,-999.000,9,-999.0000,9, -999.00,9, -999.00,9,  -999.0,9,  -999.0,-999.000,9,-999.000,     -999.0,-999.0000,-999.000,    16.1918,-999.000
  316N138_4,       P06C,     177,          1,         33,    02-5367,2,19920702,       1648,   -32.5040,  -178.2803,       5042,   159.8,  14.6609,  35.4240,4,  35.3317,2,    236.6,3,   202.5,2,    2.94,2,    7.85,2,    0.00,2, -999.00,5,   2.337,2,   1.143,2,  2086.2,2,  -999.0,9,-999.000,9,-999.0000,9, -999.00,9, -999.00,9,  -999.0,9,  -999.0,-999.000,9,-999.000,     -999.0,-999.0000,-999.000,    14.6370,-999.000
  316N138_4,       P06C,     177,          1,         32,    02-9540,2,19920702,       1648,   -32.5040,  -178.2803,       5042,   209.2,  14.0564,  35.2732,2,  35.2682,2,    194.5,2,   203.1,2,    3.13,2,    8.56,2,    0.00,2, -999.00,5,   2.370,2,   1.157,2,  2092.2,2,  -999.0,9,-999.000,9,-999.0000,9, -999.00,9, -999.00,9,  -999.0,9,  -999.0,-999.000,9,-999.000,     -999.0,-999.0000,-999.000,    14.0260,-999.000
  316N138_4,       P06C,     177,          1,         31,    02-9539,2,19920702,       1648,   -32.5040,  -178.2803,       5042,   310.5,  12.0708,  35.0364,2,  35.0126,2,    193.4,2,   202.9,2,    4.69,2,   13.15,2,    0.00,2, -999.00,5,   1.994,2,   0.965,2,  2113.5,2,  -999.0,9,-999.000,9,-999.0000,9, -999.00,9, -999.00,9,  -999.0,9,  -999.0,-999.000,9,-999.000,     -999.0,-999.0000,-999.000,    12.0299,-999.000
  316N138_4,       P06C,     177,          1,         30,    02-9456,2,19920702,       1648,   -32.5040,  -178.2803,       5042,   409.9,  10.1632,  34.7675,2,  34.7773,2,    198.4,2,   201.2,2,    6.05,2,   16.93,2,    0.00,2, -999.00,5,   1.601,2,   0.791,2,  2126.6,2,  -999.0,9,-999.000,9,-999.0000,9, -999.00,9, -999.00,9,  -999.0,9,  -999.0,-999.000,9,-999.000,     -999.0,-999.0000,-999.000,    10.1148,-999.000
  316N138_4,       P06C,     177,          1,         29,    02-9458,2,19920702,       1648,   -32.5040,  -178.2803,       5042,   510.6,   8.6375,  34.6276,2,  34.6077,2,    204.8,2,   208.3,2,    7.61,2,   19.91,2,    0.00,2, -999.00,5,   1.293,2,   0.640,2,  2134.8,2,  -999.0,9,-999.000,9,-999.0000,9, -999.00,9, -999.00,9,  -999.0,9,  -999.0,-999.000,9,-999.000,     -999.0,-999.0000,-999.000,     8.5826,-999.000
  316N138_4,       P06C,     177,          1,         28,    02-9545,2,19920702,       1648,   -32.5040,  -178.2803,       5042,   612.2,   7.9831,  34.5373,2,  34.5362,2,    210.3,2,   214.4,2,    8.98,2,   21.39,2,    0.00,2, -999.00,5,   1.193,2,   0.581,2,  2138.3,2,  -999.0,9,-999.000,9,-999.0000,9, -999.00,9, -999.00,9,  -999.0,9,  -999.0,-999.000,9,-999.000,     -999.0,-999.0000,-999.000,     7.9199,-999.000
  316N138_4,       P06C,     177,          1,         27,    02-9453,2,19920702,       1648,   -32.5040,  -178.2803,       5042,   710.7,   7.0025,  34.4189,2,  34.4214,2,    227.8,2,   227.7,2,    8.39,2,   22.48,2,    0.00,2, -999.00,5,-999.000,5,-999.000,5,  2135.9,2,  -999.0,9,-999.000,9,-999.0000,9, -999.00,9, -999.00,9,  -999.0,9,  -999.0,-999.000,9,-999.000,     -999.0,-999.0000,-999.000,     6.9341,-999.000
  316N138_4,       P06C,     177,          1,         26,    02-9544,2,19920702,       1648,   -32.5040,  -178.2803,       5042,   811.2,   6.4703,  34.3824,2,  34.3862,2,    225.4,2,   225.7,2,   11.70,2,   24.31,2,    0.00,2, -999.00,5,   0.548,2,   0.295,2,  2144.8,2,  -999.0,9,-999.000,9,-999.0000,9, -999.00,9, -999.00,9,  -999.0,9,  -999.0,-999.000,9,-999.000,     -999.0,-999.0000,-999.000,     6.3950,-999.000
  316N138_4,       P06C,     177,          1,         25,    02-9455,2,19920702,       1648,   -32.5040,  -178.2803,       5042,   911.9,   6.1202,  34.3941,2,  34.3931,2,    209.9,2,   208.0,2,   17.73,2,   26.34,2,    0.00,2, -999.00,5,-999.000,5,-999.000,5,  2162.1,2,  -999.0,9,-999.000,9,-999.0000,9, -999.00,9, -999.00,9,  -999.0,9,  -999.0,-999.000,9,-999.000,     -999.0,-999.0000,-999.000,     6.0374,-999.000
  316N138_4,       P06C,     177,          1,         24,        132,2,19920702,       1648,   -32.5040,  -178.2803,       5042,  1014.3,   5.4641,  34.3815,2,  34.3806,2,    200.7,2,   200.5,2,   25.11,2,   28.55,2,   -0.01,2, -999.00,5,   0.155,2,   0.084,2,  -999.0,9,  -999.0,9,-999.000,9,-999.0000,9, -999.00,9, -999.00,9,  -999.0,9,  -999.0,-999.000,9,-999.000,     -999.0,-999.0000,-999.000,     5.3762,-999.000
  316N138_4,       P06C,     177,          1,         23,        123,2,19920702,       1648,   -32.5040,  -178.2803,       5042,  1112.9,   4.7725,  34.4025,2,  34.3988,2,    191.0,2,   193.4,2,   36.59,2,   30.56,2,    0.00,2, -999.00,5,   0.072,2,   0.038,2,  2196.4,2,  -999.0,9,-999.000,9,-999.0000,9, -999.00,9, -999.00,9,  -999.0,9,  -999.0,-999.000,9,-999.000,     -999.0,-999.0000,-999.000,     4.6809,-999.000
  316N138_4,       P06C,     177,          1,         22,        128,3,19920702,       1648,   -32.5040,  -178.2803,       5042,  1213.0,   4.1642,  34.4100,2,  34.4108,2,    182.9,2,   184.5,2,   45.72,2,   32.05,2,    0.00,2, -999.00,5,   0.041,2,   0.015,2,  -999.0,9,  -999.0,9,-999.000,9,-999.0000,9, -999.00,9, -999.00,9,  -999.0,9,  -999.0,-999.000,9,-999.000,     -999.0,-999.0000,-999.000,     4.0691,-999.000
  316N138_4,       P06C,     177,          1,         21,        121,2,19920702,       1648,   -32.5040,  -178.2803,       5042,  1313.8,   3.5959,  34.4375,2,  34.4390,2,    177.7,2,   177.0,2,   56.04,2,   33.17,2,    0.00,2, -999.00,5,   0.020,2,   0.007,2,  2227.8,2,  -999.0,9,-999.000,9,-999.0000,9, -999.00,9, -999.00,9,  -999.0,9,  -999.0,-999.000,9,-999.000,     -999.0,-999.0000,-999.000,     3.4977,-999.000
  316N138_4,       P06C,     177,          1,         20,        120,2,19920702,       1648,   -32.5040,  -178.2803,       5042,  1416.5,   3.3747,  34.4720,2,  34.4748,2,    169.0,2,   168.0,2,   65.37,2,   33.93,2,    0.00,2, -999.00,5,   0.003,2,   0.004,2,  -999.0,9,  -999.0,9,-999.000,9,-999.0000,9, -999.00,9, -999.00,9,  -999.0,9,  -999.0,-999.000,9,-999.000,     -999.0,-999.0000,-999.000,     3.2700,-999.000
  316N138_4,       P06C,     177,          1,         19,        133,2,19920702,       1648,   -32.5040,  -178.2803,       5042,  1619.9,   2.9183,  34.5538,2,  34.5525,2,    160.1,2,   155.9,2,   85.40,2,   34.52,2,    0.00,2, -999.00,5,-999.000,9,  -0.002,2,  2266.6,2,  -999.0,9,-999.000,9,-999.0000,9, -999.00,9, -999.00,9,  -999.0,9,  -999.0,-999.000,9,-999.000,     -999.0,-999.0000,-999.000,     2.8015,-999.000
  316N138_4,       P06C,     177,          1,         18,        118,2,19920702,       1648,   -32.5040,  -178.2803,       5042,  1820.5,   2.6231,  34.5906,2,  34.5906,2,    154.4,2,   152.7,2,   98.04,2,   35.14,2,    0.00,2, -999.00,5,  -0.002,2,  -0.001,2,  -999.0,9,  -999.0,9,-999.000,9,-999.0000,9, -999.00,9, -999.00,9,  -999.0,9,  -999.0,-999.000,9,-999.000,     -999.0,-999.0000,-999.000,     2.4929,-999.000
  316N138_4,       P06C,     177,          1,         17,        117,2,19920702,       1648,   -32.5040,  -178.2803,       5042,  2022.3,   2.4351,  34.6140,2,  34.6132,2,    151.3,2,   149.1,2,  107.19,2,   35.49,2,    0.00,2, -999.00,5,   0.000,2,  -0.005,2,  2294.0,2,  -999.0,9,-999.000,9,-999.0000,9, -999.00,9, -999.00,9,  -999.0,9,  -999.0,-999.000,9,-999.000,     -999.0,-999.0000,-999.000,     2.2902,-999.000
  316N138_4,       P06C,     177,          1,         16,        116,2,19920702,       1648,   -32.5040,  -178.2803,       5042,  2224.3,   2.3194,  34.6264,2,  34.6278,2,    149.8,2,   148.9,2,  112.05,2,   35.63,2,    0.00,2, -999.00,5,  -0.002,2,  -0.002,2,  -999.0,9,  -999.0,9,-999.000,9,-999.0000,9, -999.00,9, -999.00,9,  -999.0,9,  -999.0,-999.000,9,-999.000,     -999.0,-999.0000,-999.000,     2.1585,-999.000
  316N138_4,       P06C,     177,          1,         15,        115,2,19920702,       1648,   -32.5040,  -178.2803,       5042,  2428.0,   2.2106,  34.6378,2,  34.6372,2,    148.6,2,   151.0,2,  116.73,2,   35.75,2,    0.00,2, -999.00,5,-999.000,5,-999.000,5,  2303.5,2,  -999.0,9,-999.000,9,-999.0000,9, -999.00,9, -999.00,9,  -999.0,9,  -999.0,-999.000,9,-999.000,     -999.0,-999.0000,-999.000,     2.0331,-999.000
  316N138_4,       P06C,     177,          1,         14,        114,2,19920702,       1648,   -32.5040,  -178.2803,       5042,  2629.6,   2.0751,  34.6522,2,  34.6527,2,    150.4,2,   153.1,2,  120.62,2,   35.70,2,    0.00,2, -999.00,5,  -0.004,2,  -0.005,2,  -999.0,9,  -999.0,9,-999.000,9,-999.0000,9, -999.00,9, -999.00,9,  -999.0,9,  -999.0,-999.000,9,-999.000,     -999.0,-999.0000,-999.000,     1.8814,-999.000
  316N138_4,       P06C,     177,          1,         13,        125,3,19920702,       1648,   -32.5040,  -178.2803,       5042,  2828.2,   1.8837,  34.6774,2,  34.8165,4,    166.9,3,   174.4,3,   83.29,4,   28.12,4,    0.02,4, -999.00,5,-999.000,5,-999.000,5,  2230.5,3,  -999.0,9,-999.000,9,-999.0000,9, -999.00,9, -999.00,9,  -999.0,9,  -999.0,-999.000,9,-999.000,     -999.0,-999.0000,-999.000,     1.6751,-999.000
  316N138_4,       P06C,     177,          1,         12,        112,2,19920702,       1648,   -32.5040,  -178.2803,       5042,  3029.4,   1.7622,  34.7106,2,  34.7113,2,    185.1,2,   184.6,2,  106.24,2,   32.42,2,   -0.01,2, -999.00,5,   0.000,6,  -0.001,6,  -999.0,9,  -999.0,9,-999.000,9,-999.0000,9, -999.00,9, -999.00,9,  -999.0,9,  -999.0,-999.000,9,-999.000,     -999.0,-999.0000,-999.000,     1.5366,-999.000
  316N138_4,       P06C,     177,          1,         11,        129,2,19920702,       1648,   -32.5040,  -178.2803,       5042,  3229.0,   1.6016,  34.7244,2,  34.7237,2,    193.5,2,   191.7,2,  104.89,2,   31.60,2,   -0.01,2, -999.00,5,-999.000,5,-999.000,5,  2262.6,2,  -999.0,9,-999.000,9,-999.0000,9, -999.00,9, -999.00,9,  -999.0,9,  -999.0,-999.000,9,-999.000,     -999.0,-999.0000,-999.000,     1.3600,-999.000
  316N138_4,       P06C,     177,          1,         10,        110,2,19920702,       1648,   -32.5040,  -178.2803,       5042,  3426.7,   1.4092,  34.7251,2,  34.7250,2,    198.9,2,   196.9,2,  107.62,2,   31.42,2,   -0.01,2, -999.00,5,   0.006,2,   0.003,2,  -999.0,9,  -999.0,9,-999.000,9,-999.0000,9, -999.00,9, -999.00,9,  -999.0,9,  -999.0,-999.000,9,-999.000,     -999.0,-999.0000,-999.000,     1.1525,-999.000
  316N138_4,       P06C,     177,          1,          9,        126,2,19920702,       1648,   -32.5040,  -178.2803,       5042,  3632.1,   1.2220,  34.7205,2,  34.7211,2,    202.6,2,   200.6,2,  112.29,2,   31.59,2,   -0.01,2, -999.00,5,-999.000,5,-999.000,5,  2259.9,2,  -999.0,9,-999.000,9,-999.0000,9, -999.00,9, -999.00,9,  -999.0,9,  -999.0,-999.000,9,-999.000,     -999.0,-999.0000,-999.000,     0.9493,-999.000
  316N138_4,       P06C,     177,          1,          8,        108,2,19920702,       1648,   -32.5040,  -178.2803,       5042,  3834.9,   1.0998,  34.7160,2,  34.7160,2,    204.4,2,   204.9,2,  116.01,2,   31.68,2,   -0.01,2, -999.00,5,   0.011,2,   0.002,2,  -999.0,9,  -999.0,9,-999.000,9,-999.0000,9, -999.00,9, -999.00,9,  -999.0,9,  -999.0,-999.000,9,-999.000,     -999.0,-999.0000,-999.000,     0.8094,-999.000
  316N138_4,       P06C,     177,          1,          7,        107,2,19920702,       1648,   -32.5040,  -178.2803,       5042,  4040.6,   1.0348,  34.7133,2,  34.7131,2,    206.0,2,   205.2,2,  118.15,2,   31.82,2,   -0.01,2, -999.00,5,-999.000,5,-999.000,5,  2260.9,2,  -999.0,9,-999.000,9,-999.0000,9, -999.00,9, -999.00,9,  -999.0,9,  -999.0,-999.000,9,-999.000,     -999.0,-999.0000,-999.000,     0.7245,-999.000
  316N138_4,       P06C,     177,          1,          6,        180,2,19920702,       1648,   -32.5040,  -178.2803,       5042,  4244.7,   1.0174,  34.7116,2,  34.7115,2,    206.0,2,   207.2,2,  119.13,2,   31.86,2,   -0.01,2, -999.00,5,   0.016,6,   0.009,6,  -999.0,9,  -999.0,9,-999.000,9,-999.0000,9, -999.00,9, -999.00,9,  -999.0,9,  -999.0,-999.000,9,-999.000,     -999.0,-999.0000,-999.000,     0.6855,-999.000
  316N138_4,       P06C,     177,          1,          5,        131,2,19920702,       1648,   -32.5040,  -178.2803,       5042,  4448.4,   1.0094,  34.7100,2,  34.7101,2,    206.7,2,   207.2,2,  119.92,2,   31.89,2,   -0.01,2, -999.00,5,-999.000,5,-999.000,5,  2262.0,2,  -999.0,9,-999.000,9,-999.0000,9, -999.00,9, -999.00,9,  -999.0,9,  -999.0,-999.000,9,-999.000,     -999.0,-999.0000,-999.000,     0.6553,-999.000
  316N138_4,       P06C,     177,          1,          4,        104,2,19920702,       1648,   -32.5040,  -178.2803,       5042,  4653.6,   1.0091,  34.7087,2,  34.7089,2,    207.2,2,   204.7,4,  120.51,2,   31.89,2,   -0.01,2, -999.00,5,   0.019,2,   0.008,2,  -999.0,9,  -999.0,9,-999.000,9,-999.0000,9, -999.00,9, -999.00,9,  -999.0,9,  -999.0,-999.000,9,-999.000,     -999.0,-999.0000,-999.000,     0.6317,-999.000
  316N138_4,       P06C,     177,          1,          3,        130,2,19920702,       1648,   -32.5040,  -178.2803,       5042,  4858.9,   1.0167,  34.7090,2,  34.7083,2,    207.5,2,   209.2,2,  121.10,2,   31.93,2,   -0.01,2, -999.00,5,   0.021,2,   0.010,2,  2263.1,2,  -999.0,9,-999.000,9,-999.0000,9, -999.00,9, -999.00,9,  -999.0,9,  -999.0,-999.000,9,-999.000,     -999.0,-999.0000,-999.000,     0.6154,-999.000
  316N138_4,       P06C,     177,          1,          2,        135,2,19920702,       1648,   -32.5040,  -178.2803,       5042,  5066.8,   1.0266,  34.7085,2,  34.7077,2,    208.1,2,   207.6,2,  121.70,2,   31.97,2,   -0.01,2, -999.00,5,   0.023,2,   0.012,2,  -999.0,9,  -999.0,9,-999.000,9,-999.0000,9, -999.00,9, -999.00,9,  -999.0,9,  -999.0,-999.000,9,-999.000,     -999.0,-999.0000,-999.000,     0.6003,-999.000
  316N138_4,       P06C,     177,          1,          1,        134,2,19920702,       1648,   -32.5040,  -178.2803,       5042,  5202.9,   1.0419,  34.7078,2,  34.7074,2,    227.5,4,   207.6,2,  121.64,2,   31.99,2,   -0.01,2, -999.00,5,   0.021,2,   0.008,2,  2260.9,6,  -999.0,9,-999.000,9,-999.0000,9, -999.00,9, -999.00,9,  -999.0,9,  -999.0,-999.000,9,-999.000,     -999.0,-999.0000,-999.000,     0.5987,-999.000