BOTTLE,20211025CCHSIORKP
EXPOCODE,SECT_ID,STNNBR,CASTNO,SAMPNO,BTLNBR,BTLNBR_FLAG_W,DATE,TIME,LATITUDE,LONGITUDE,DEPTH,CTDPRS,CTDTMP,CTDSAL,CTDSAL_FLAG_W,SALNTY,SALNTY_FLAG_W,CTDOXY,CTDOXY_FLAG_W,OXYGEN,OXYGEN_FLAG_W,SILCAT,SILCAT_FLAG_W,NITRAT,NITRAT_FLAG_W,NITRIT,NITRIT_FLAG_W,PHSPHT,PHSPHT_FLAG_W,CFC-11,CFC-11_FLAG_W,CFC-12,CFC-12_FLAG_W,TCARBN,TCARBN_FLAG_W,PCO2,PCO2_FLAG_W,TRITUM,TRITUM_FLAG_W,HELIUM,HELIUM_FLAG_W,DELHE3,DELHE3_FLAG_W,DELC13,DELC13_FLAG_W,DELC14,DELC14_FLAG_W,C14ERR,NEON,NEON_FLAG_W,NEONER,PCO2TMP,HELIER,DELHER,THETA,TRITER
,,,,,,,,,,,METERS,DBAR,ITS-90,PSS-78,,PSS-78,,UMOL/KG,,UMOL/KG,,UMOL/KG,,UMOL/KG,,UMOL/KG,,UMOL/KG,,PMOL/KG,,PMOL/KG,,UMOL/KG,,UATM,,TU,,NMOL/KG,,PERCNT,,/MILLE,,/MILLE,,/MILLE,NMOL/KG,,NMOL/KG,DEG_C,NMOL/KG,PERCNT,ITS-90,TU
  316N138_4,       P06C,     131,          1,         36,    02-9121,2,19920620,       0828,   -32.5002,  -153.1670,       5202,    20.7,  17.7341,  35.3209,2,  35.3194,2,    258.9,3,   236.2,2,    0.41,2,    0.02,2,    0.00,2,    0.11,2,-999.000,5,-999.000,5,  2030.8,6,  -999.0,9,-999.000,9,-999.0000,9, -999.00,9, -999.00,9,  -999.0,9,  -999.0,-999.000,9,-999.000,     -999.0,-999.0000,-999.000,    17.7306,-999.000
  316N138_4,       P06C,     131,          1,         35,    02-9454,2,19920620,       0828,   -32.5002,  -153.1670,       5202,    59.6,  17.6666,  35.3055,2,  35.3072,2,    239.6,2,   238.3,2,    0.41,2,    0.03,2,   -0.01,2,    0.11,2,-999.000,5,-999.000,5,  2031.6,2,  -999.0,9,-999.000,9,-999.0000,9, -999.00,9, -999.00,9,  -999.0,9,  -999.0,-999.000,9,-999.000,     -999.0,-999.0000,-999.000,    17.6565,-999.000
  316N138_4,       P06C,     131,          1,         34,    02-9457,2,19920620,       0828,   -32.5002,  -153.1670,       5202,   109.7,  17.4797,  35.2735,2,  35.2725,2,    239.4,2,   238.6,2,    0.41,2,    0.02,2,   -0.01,2,    0.13,2,-999.000,5,-999.000,5,  2030.6,2,  -999.0,9,-999.000,9,-999.0000,9, -999.00,9, -999.00,9,  -999.0,9,  -999.0,-999.000,9,-999.000,     -999.0,-999.0000,-999.000,    17.4612,-999.000
  316N138_4,       P06C,     131,          1,         33,    02-5367,2,19920620,       0828,   -32.5002,  -153.1670,       5202,   158.4,  15.3343,  35.1868,2,  35.1790,2,    240.3,2,   234.6,2,    0.56,2,    0.45,2,    0.23,2,    0.23,2,-999.000,5,-999.000,5,  2052.7,2,  -999.0,9,-999.000,9,-999.0000,9, -999.00,9, -999.00,9,  -999.0,9,  -999.0,-999.000,9,-999.000,     -999.0,-999.0000,-999.000,    15.3100,-999.000
  316N138_4,       P06C,     131,          1,         32,    02-9540,2,19920620,       0828,   -32.5002,  -153.1670,       5202,   208.9,  14.5302,  35.1026,2,  35.1081,2,    231.9,2,   224.5,2,    0.83,2,    2.79,2,    0.01,2,    0.37,2,-999.000,5,-999.000,5,  2065.1,2,  -999.0,9,-999.000,9,-999.0000,9, -999.00,9, -999.00,9,  -999.0,9,  -999.0,-999.000,9,-999.000,     -999.0,-999.0000,-999.000,    14.4992,-999.000
  316N138_4,       P06C,     131,          1,         31,    02-9539,2,19920620,       0828,   -32.5002,  -153.1670,       5202,   258.9,  12.6861,  34.9507,2,  34.9496,2,    220.3,2,   206.9,2,    1.93,2,    8.86,2,    0.00,2,    0.70,2,-999.000,5,-999.000,5,  2094.7,2,  -999.0,9,-999.000,9,-999.0000,9, -999.00,9, -999.00,9,  -999.0,9,  -999.0,-999.000,9,-999.000,     -999.0,-999.0000,-999.000,    12.6510,-999.000
  316N138_4,       P06C,     131,          1,         30,    02-9456,2,19920620,       0828,   -32.5002,  -153.1670,       5202,   309.2,  10.8610,  34.7649,2,  34.7638,2,    211.0,2,   207.5,2,    2.91,2,   13.51,2,    0.00,2,    0.96,2,-999.000,5,-999.000,5,  2111.5,2,  -999.0,9,-999.000,9,-999.0000,9, -999.00,9, -999.00,9,  -999.0,9,  -999.0,-999.000,9,-999.000,     -999.0,-999.0000,-999.000,    10.8231,-999.000
  316N138_4,       P06C,     131,          1,         29,    02-9458,2,19920620,       0828,   -32.5002,  -153.1670,       5202,   357.6,   9.5163,  34.6254,2,  34.6236,2,    216.1,2,   215.8,2,    3.60,2,   16.04,2,    0.00,2,    1.10,2,-999.000,5,-999.000,5,  2118.5,2,  -999.0,9,-999.000,9,-999.0000,9, -999.00,9, -999.00,9,  -999.0,9,  -999.0,-999.000,9,-999.000,     -999.0,-999.0000,-999.000,     9.4759,-999.000
  316N138_4,       P06C,     131,          1,         28,    02-9545,2,19920620,       0828,   -32.5002,  -153.1670,       5202,   409.4,   8.6121,  34.5451,2,  34.5413,2,    226.6,2,   230.3,2,    4.01,2,   17.71,2,    0.00,2,    1.18,2,-999.000,5,-999.000,5,  2122.6,6,  -999.0,9,-999.000,9,-999.0000,9, -999.00,9, -999.00,9,  -999.0,9,  -999.0,-999.000,9,-999.000,     -999.0,-999.0000,-999.000,     8.5685,-999.000
  316N138_4,       P06C,     131,          1,         27,    02-9453,2,19920620,       0828,   -32.5002,  -153.1670,       5202,   512.2,   7.7345,  34.4811,2,  34.4710,2,    237.8,2,   235.7,2,    5.26,2,   19.93,2,    0.00,2,    1.31,2,-999.000,5,-999.000,5,  2126.1,2,  -999.0,9,-999.000,9,-999.0000,9, -999.00,9, -999.00,9,  -999.0,9,  -999.0,-999.000,9,-999.000,     -999.0,-999.0000,-999.000,     7.6831,-999.000
  316N138_4,       P06C,     131,          1,         26,    02-9544,2,19920620,       0828,   -32.5002,  -153.1670,       5202,   611.0,   7.1867,  34.4231,2,  34.4237,2,    241.4,2,   240.4,2,    6.51,2,   21.38,2,    0.00,2,    1.40,2,-999.000,5,-999.000,5,  2130.3,2,  -999.0,9,-999.000,9,-999.0000,9, -999.00,9, -999.00,9,  -999.0,9,  -999.0,-999.000,9,-999.000,     -999.0,-999.0000,-999.000,     7.1274,-999.000
  316N138_4,       P06C,     131,          1,         25,    02-9455,2,19920620,       0828,   -32.5002,  -153.1670,       5202,   708.5,   6.6680,  34.3767,2,  34.3788,2,    239.8,2,   239.3,2,    8.04,2,   22.88,2,    0.00,2,    1.48,2,-999.000,5,-999.000,5,  2136.5,2,  -999.0,9,-999.000,9,-999.0000,9, -999.00,9, -999.00,9,  -999.0,9,  -999.0,-999.000,9,-999.000,     -999.0,-999.0000,-999.000,     6.6016,-999.000
  316N138_4,       P06C,     131,          1,         24,        132,2,19920620,       0828,   -32.5002,  -153.1670,       5202,   856.0,   5.8517,  34.3325,2,  34.3291,2,    228.0,2,   228.1,2,   13.17,2,   25.92,2,    0.00,2,    1.67,2,-999.000,5,-999.000,5,  2149.9,2,  -999.0,9,-999.000,9,-999.0000,9, -999.00,9, -999.00,9,  -999.0,9,  -999.0,-999.000,9,-999.000,     -999.0,-999.0000,-999.000,     5.7759,-999.000
  316N138_4,       P06C,     131,          1,         23,        123,2,19920620,       0828,   -32.5002,  -153.1670,       5202,  1008.1,   4.8739,  34.3213,2,  34.3227,2,    209.3,2,   207.3,2,   25.09,2,   29.81,2,    0.00,2,    1.94,2,-999.000,5,-999.000,5,  2178.5,2,  -999.0,9,-999.000,9,-999.0000,9, -999.00,9, -999.00,9,  -999.0,9,  -999.0,-999.000,9,-999.000,     -999.0,-999.0000,-999.000,     4.7912,-999.000
  316N138_4,       P06C,     131,          1,         22,        128,2,19920620,       0828,   -32.5002,  -153.1670,       5202,  1163.9,   4.0446,  34.3566,2,  34.3570,2,    192.3,2,   192.3,2,   38.95,2,   32.44,2,    0.00,2,    2.11,2,-999.000,5,-999.000,5,  2203.8,2,  -999.0,9,-999.000,9,-999.0000,9, -999.00,9, -999.00,9,  -999.0,9,  -999.0,-999.000,9,-999.000,     -999.0,-999.0000,-999.000,     3.9551,-999.000
  316N138_4,       P06C,     131,          1,         21,        121,2,19920620,       0828,   -32.5002,  -153.1670,       5202,  1368.0,   3.1450,  34.4466,2,  34.4532,2,    177.9,2,   174.0,2,   61.41,2,   34.43,2,    0.00,2,    2.30,2,-999.000,9,-999.000,9,  2237.0,2,  -999.0,9,-999.000,9,-999.0000,9, -999.00,9, -999.00,9,  -999.0,9,  -999.0,-999.000,9,-999.000,     -999.0,-999.0000,-999.000,     3.0469,-999.000
  316N138_4,       P06C,     131,          1,         20,        120,2,19920620,       0828,   -32.5002,  -153.1670,       5202,  1569.2,   2.7150,  34.5472,2,  34.5468,2,    164.3,2,   162.1,2,   81.65,2,   35.07,2,    0.00,2,    2.38,2,-999.000,9,-999.000,9,  2262.9,2,  -999.0,9,-999.000,9,-999.0000,9, -999.00,9, -999.00,9,  -999.0,9,  -999.0,-999.000,9,-999.000,     -999.0,-999.0000,-999.000,     2.6049,-999.000
  316N138_4,       P06C,     131,          1,         19,        133,2,19920620,       0828,   -32.5002,  -153.1670,       5202,  1770.5,   2.4269,  34.6043,2,  34.6042,2,    156.1,2,   154.1,2,   99.27,2,   35.44,2,    0.00,2,    2.43,2,-999.000,9,-999.000,9,  2283.7,2,  -999.0,9,-999.000,9,-999.0000,9, -999.00,9, -999.00,9,  -999.0,9,  -999.0,-999.000,9,-999.000,     -999.0,-999.0000,-999.000,     2.3035,-999.000
  316N138_4,       P06C,     131,          1,         18,        118,2,19920620,       0828,   -32.5002,  -153.1670,       5202,  1973.7,   2.2591,  34.6275,2,  34.6264,2,    151.5,2,   150.4,2,  109.67,2,   35.76,2,    0.00,2,    2.48,2,-999.000,9,-999.000,9,  2295.8,6,  -999.0,9,-999.000,9,-999.0000,9, -999.00,9, -999.00,9,  -999.0,9,  -999.0,-999.000,9,-999.000,     -999.0,-999.0000,-999.000,     2.1210,-999.000
  316N138_4,       P06C,     131,          1,         17,        117,2,19920620,       0828,   -32.5002,  -153.1670,       5202,  2176.9,   2.1138,  34.6416,2,  34.6423,2,    149.0,2,   148.4,2,  117.88,2,   36.05,2,    0.00,2,    2.52,2,-999.000,9,-999.000,9,  2304.9,2,  -999.0,9,-999.000,9,-999.0000,9, -999.00,9, -999.00,9,  -999.0,9,  -999.0,-999.000,9,-999.000,     -999.0,-999.0000,-999.000,     1.9604,-999.000
  316N138_4,       P06C,     131,          1,         16,        116,2,19920620,       0828,   -32.5002,  -153.1670,       5202,  2377.7,   2.0088,  34.6500,2,  34.6508,2,    146.9,2,   146.5,2,  123.58,2,   36.27,2,    0.00,2,    2.53,2,-999.000,9,-999.000,9,  2310.9,2,  -999.0,9,-999.000,9,-999.0000,9, -999.00,9, -999.00,9,  -999.0,9,  -999.0,-999.000,9,-999.000,     -999.0,-999.0000,-999.000,     1.8394,-999.000
  316N138_4,       P06C,     131,          1,         15,        115,2,19920620,       0828,   -32.5002,  -153.1670,       5202,  2583.0,   1.9206,  34.6590,2,  34.6574,2,    147.4,2,   146.6,2,  127.49,2,   36.28,2,    0.00,2,    2.54,2,-999.000,9,-999.000,9,  2313.9,2,  -999.0,9,-999.000,9,-999.0000,9, -999.00,9, -999.00,9,  -999.0,9,  -999.0,-999.000,9,-999.000,     -999.0,-999.0000,-999.000,     1.7342,-999.000
  316N138_4,       P06C,     131,          1,         14,        114,2,19920620,       0828,   -32.5002,  -153.1670,       5202,  2787.1,   1.8589,  34.6634,2,  34.6653,2,    148.4,2,   147.7,2,  129.58,2,   36.15,2,    0.00,2,    2.54,2,-999.000,9,-999.000,9,  2314.7,2,  -999.0,9,-999.000,9,-999.0000,9, -999.00,9, -999.00,9,  -999.0,9,  -999.0,-999.000,9,-999.000,     -999.0,-999.0000,-999.000,     1.6546,-999.000
  316N138_4,       P06C,     131,          1,         13,        125,2,19920620,       0828,   -32.5002,  -153.1670,       5202,  2989.4,   1.7883,  34.6711,2,  34.6718,2,    151.4,2,   150.9,2,  130.43,2,   35.98,2,    0.00,2,    2.54,2,-999.000,9,-999.000,9,  2313.7,2,  -999.0,9,-999.000,9,-999.0000,9, -999.00,9, -999.00,9,  -999.0,9,  -999.0,-999.000,9,-999.000,     -999.0,-999.0000,-999.000,     1.5662,-999.000
  316N138_4,       P06C,     131,          1,         12,        112,2,19920620,       0828,   -32.5002,  -153.1670,       5202,  3193.4,   1.7053,  34.6814,2,  34.6802,2,    157.3,2,   157.5,2,  128.51,2,   35.39,2,    0.00,2,    2.49,2,-999.000,9,-999.000,9,  2307.2,2,  -999.0,9,-999.000,9,-999.0000,9, -999.00,9, -999.00,9,  -999.0,9,  -999.0,-999.000,9,-999.000,     -999.0,-999.0000,-999.000,     1.4650,-999.000
  316N138_4,       P06C,     131,          1,         11,        129,2,19920620,       0828,   -32.5002,  -153.1670,       5202,  3396.5,   1.6371,  34.6903,2,  34.6875,2,    165.5,2,   165.6,2,  125.20,2,   34.68,2,    0.00,2,    2.43,2,-999.000,9,-999.000,9,  2298.0,2,  -999.0,9,-999.000,9,-999.0000,9, -999.00,9, -999.00,9,  -999.0,9,  -999.0,-999.000,9,-999.000,     -999.0,-999.0000,-999.000,     1.3781,-999.000
  316N138_4,       P06C,     131,          1,         10,        110,2,19920620,       0828,   -32.5002,  -153.1670,       5202,  3601.7,   1.5569,  34.6990,2,  34.6989,2,    174.5,2,   175.9,2,  121.19,2,   33.96,2,    0.00,2,    2.37,2,-999.000,9,-999.000,9,  2288.2,2,  -999.0,9,-999.000,9,-999.0000,9, -999.00,9, -999.00,9,  -999.0,9,  -999.0,-999.000,9,-999.000,     -999.0,-999.0000,-999.000,     1.2787,-999.000
  316N138_4,       P06C,     131,          1,          9,        126,2,19920620,       0828,   -32.5002,  -153.1670,       5202,  3805.2,   1.4608,  34.7060,2,  34.7062,2,    183.7,2,   186.6,2,  118.44,2,   33.28,2,    0.00,2,    2.33,2,-999.000,9,-999.000,9,  2279.1,2,  -999.0,9,-999.000,9,-999.0000,9, -999.00,9, -999.00,9,  -999.0,9,  -999.0,-999.000,9,-999.000,     -999.0,-999.0000,-999.000,     1.1638,-999.000
  316N138_4,       P06C,     131,          1,          8,        108,2,19920620,       0828,   -32.5002,  -153.1670,       5202,  4007.7,   1.3811,  34.7109,2,  34.7113,2,    191.3,2,   191.6,2,  116.50,2,   32.78,2,    0.00,2,    2.28,2,-999.000,9,-999.000,9,  2271.2,2,  -999.0,9,-999.000,9,-999.0000,9, -999.00,9, -999.00,9,  -999.0,9,  -999.0,-999.000,9,-999.000,     -999.0,-999.0000,-999.000,     1.0645,-999.000
  316N138_4,       P06C,     131,          1,          7,        107,2,19920620,       0828,   -32.5002,  -153.1670,       5202,  4214.2,   1.2832,  34.7119,2,  34.7123,2,    197.2,2,   195.9,2,  116.81,2,   32.52,2,    0.00,2,    2.28,2,-999.000,9,-999.000,9,  2268.1,2,  -999.0,9,-999.000,9,-999.0000,9, -999.00,9, -999.00,9,  -999.0,9,  -999.0,-999.000,9,-999.000,     -999.0,-999.0000,-999.000,     0.9469,-999.000
  316N138_4,       P06C,     131,          1,          6,        180,2,19920620,       0828,   -32.5002,  -153.1670,       5202,  4418.6,   1.2161,  34.7120,2,  34.7129,2,    200.1,2,   200.3,2,  117.52,2,   32.43,2,    0.00,2,    2.28,2,-999.000,9,-999.000,9,  2266.5,2,  -999.0,9,-999.000,9,-999.0000,9, -999.00,9, -999.00,9,  -999.0,9,  -999.0,-999.000,9,-999.000,     -999.0,-999.0000,-999.000,     0.8591,-999.000
  316N138_4,       P06C,     131,          1,          5,        131,2,19920620,       0828,   -32.5002,  -153.1670,       5202,  4622.9,   1.1766,  34.7117,2,  34.7121,2,    202.4,2,   200.0,3,  118.37,2,   32.39,2,    0.00,2,    2.27,2,-999.000,9,-999.000,9,  2265.9,2,  -999.0,9,-999.000,9,-999.0000,9, -999.00,9, -999.00,9,  -999.0,9,  -999.0,-999.000,9,-999.000,     -999.0,-999.0000,-999.000,     0.7974,-999.000
  316N138_4,       P06C,     131,          1,          4,        104,2,19920620,       0828,   -32.5002,  -153.1670,       5202,  4829.3,   1.1515,  34.7116,2,  34.7113,2,    204.2,2,   204.5,2,  118.66,2,   32.35,2,    0.00,2,    2.26,2,-999.000,9,-999.000,9,  2264.9,2,  -999.0,9,-999.000,9,-999.0000,9, -999.00,9, -999.00,9,  -999.0,9,  -999.0,-999.000,9,-999.000,     -999.0,-999.0000,-999.000,     0.7491,-999.000
  316N138_4,       P06C,     131,          1,          3,        130,2,19920620,       0828,   -32.5002,  -153.1670,       5202,  5034.1,   1.1380,  34.7112,2,  34.7117,2,    205.2,2,   204.3,2,  119.37,2,   32.36,2,    0.00,2,    2.26,2,-999.000,9,-999.000,9,  2264.4,2,  -999.0,9,-999.000,9,-999.0000,9, -999.00,9, -999.00,9,  -999.0,9,  -999.0,-999.000,9,-999.000,     -999.0,-999.0000,-999.000,     0.7118,-999.000
  316N138_4,       P06C,     131,          1,          2,        135,2,19920620,       0828,   -32.5002,  -153.1670,       5202,  5240.5,   1.1513,  34.7108,2,  34.7115,2,    204.9,2,   204.5,2,  119.39,2,   32.37,2,    0.00,2,    2.26,2,-999.000,9,-999.000,9,  2264.6,2,  -999.0,9,-999.000,9,-999.0000,9, -999.00,9, -999.00,9,  -999.0,9,  -999.0,-999.000,9,-999.000,     -999.0,-999.0000,-999.000,     0.6995,-999.000
  316N138_4,       P06C,     131,          1,          1,        134,2,19920620,       0828,   -32.5002,  -153.1670,       5202,  5301.6,   1.1559,  34.7110,2,  34.7131,2,    204.9,2,   204.9,2,  119.63,2,   32.30,2,    0.00,2,    2.26,2,-999.000,9,-999.000,9,  2264.5,6,  -999.0,9,-999.000,9,-999.0000,9, -999.00,9, -999.00,9,  -999.0,9,  -999.0,-999.000,9,-999.000,     -999.0,-999.0000,-999.000,     0.6964,-999.000