BOTTLE,20211025CCHSIORKP
EXPOCODE,SECT_ID,STNNBR,CASTNO,SAMPNO,BTLNBR,BTLNBR_FLAG_W,DATE,TIME,LATITUDE,LONGITUDE,DEPTH,CTDPRS,CTDTMP,CTDSAL,CTDSAL_FLAG_W,SALNTY,SALNTY_FLAG_W,CTDOXY,CTDOXY_FLAG_W,OXYGEN,OXYGEN_FLAG_W,SILCAT,SILCAT_FLAG_W,NITRAT,NITRAT_FLAG_W,NITRIT,NITRIT_FLAG_W,PHSPHT,PHSPHT_FLAG_W,CFC-11,CFC-11_FLAG_W,CFC-12,CFC-12_FLAG_W,TCARBN,TCARBN_FLAG_W,PCO2,PCO2_FLAG_W,TRITUM,TRITUM_FLAG_W,HELIUM,HELIUM_FLAG_W,DELHE3,DELHE3_FLAG_W,DELC13,DELC13_FLAG_W,DELC14,DELC14_FLAG_W,C14ERR,NEON,NEON_FLAG_W,NEONER,PCO2TMP,HELIER,DELHER,THETA,TRITER
,,,,,,,,,,,METERS,DBAR,ITS-90,PSS-78,,PSS-78,,UMOL/KG,,UMOL/KG,,UMOL/KG,,UMOL/KG,,UMOL/KG,,UMOL/KG,,PMOL/KG,,PMOL/KG,,UMOL/KG,,UATM,,TU,,NMOL/KG,,PERCNT,,/MILLE,,/MILLE,,/MILLE,NMOL/KG,,NMOL/KG,DEG_C,NMOL/KG,PERCNT,ITS-90,TU
  316N138_4,       P06C,     149,          1,         36,    02-9121,2,19920625,       1024,   -32.5162,  -165.8155,       5414,    22.0,  16.5378,  35.3829,2,-999.0000,9,    246.0,2,  -999.0,9, -999.00,9, -999.00,9, -999.00,9, -999.00,9,-999.000,5,-999.000,5,  -999.0,9,  -999.0,9,-999.000,9,-999.0000,9, -999.00,9, -999.00,9,  -999.0,9,  -999.0,-999.000,9,-999.000,     -999.0,-999.0000,-999.000,    16.5343,-999.000
  316N138_4,       P06C,     149,          1,         35,    02-9454,2,19920625,       1024,   -32.5162,  -165.8155,       5414,    61.1,  16.5517,  35.3829,2,  35.3837,2,    233.7,2,   238.0,2,    0.59,2,    0.13,2,    0.00,2,    0.19,2,   2.810,6,-999.000,9,  2040.6,2,  -999.0,9,-999.000,9,-999.0000,9, -999.00,9, -999.00,9,  -999.0,9,  -999.0,-999.000,9,-999.000,     -999.0,-999.0000,-999.000,    16.5418,-999.000
  316N138_4,       P06C,     149,          1,         34,    02-9457,2,19920625,       1024,   -32.5162,  -165.8155,       5414,   108.6,  16.5464,  35.3819,2,  35.3819,2,    225.8,2,   238.9,2,    0.59,2,    0.13,2,    0.00,2,    0.19,2,   2.794,2,-999.000,9,  2039.9,2,  -999.0,9,-999.000,9,-999.0000,9, -999.00,9, -999.00,9,  -999.0,9,  -999.0,-999.000,9,-999.000,     -999.0,-999.0000,-999.000,    16.5288,-999.000
  316N138_4,       P06C,     149,          1,         33,    02-5367,2,19920625,       1024,   -32.5162,  -165.8155,       5414,   156.2,  15.0462,  35.3103,2,  35.3819,4,    215.4,2,   241.0,3,    0.59,2,    0.12,2,    0.00,2,    0.20,2,   2.819,2,-999.000,9,  2040.9,2,  -999.0,9,-999.000,9,-999.0000,9, -999.00,9, -999.00,9,  -999.0,9,  -999.0,-999.000,9,-999.000,     -999.0,-999.0000,-999.000,    15.0225,-999.000
  316N138_4,       P06C,     149,          1,         32,    02-9540,2,19920625,       1024,   -32.5162,  -165.8155,       5414,   206.3,  13.8070,  35.1641,2,  35.1628,2,    202.1,2,   211.3,2,    1.84,2,    6.61,2,    0.01,2,    0.62,2,   2.627,2,   1.262,2,  2084.6,2,  -999.0,9,-999.000,9,-999.0000,9, -999.00,9, -999.00,9,  -999.0,9,  -999.0,-999.000,9,-999.000,     -999.0,-999.0000,-999.000,    13.7774,-999.000
  316N138_4,       P06C,     149,          1,         31,    02-9539,2,19920625,       1024,   -32.5162,  -165.8155,       5414,   308.4,  11.0284,  34.8424,2,  34.8371,2,    202.0,2,   206.2,2,    3.51,2,   13.70,2,    0.00,2,    1.01,2,   2.208,2,   1.079,2,  2113.0,2,  -999.0,9,-999.000,9,-999.0000,9, -999.00,9, -999.00,9,  -999.0,9,  -999.0,-999.000,9,-999.000,     -999.0,-999.0000,-999.000,    10.9901,-999.000
  316N138_4,       P06C,     149,          1,         30,    02-9456,2,19920625,       1024,   -32.5162,  -165.8155,       5414,   411.6,   9.1428,  34.6277,2,  34.6264,2,    209.0,2,   211.9,2,    4.89,2,   18.02,2,   -0.01,2,    1.28,2,   1.727,2,   0.824,2,  2126.1,2,  -999.0,9,-999.000,9,-999.0000,9, -999.00,9, -999.00,9,  -999.0,9,  -999.0,-999.000,9,-999.000,     -999.0,-999.0000,-999.000,     9.0973,-999.000
  316N138_4,       P06C,     149,          1,         29,    02-9458,2,19920625,       1024,   -32.5162,  -165.8155,       5414,   512.5,   8.0541,  34.5189,2,  34.5168,2,    222.5,2,   224.5,2,    5.59,2,   20.00,2,   -0.01,2,    1.38,2,   1.665,2,   0.801,2,  2127.9,2,  -999.0,9,-999.000,9,-999.0000,9, -999.00,9, -999.00,9,  -999.0,9,  -999.0,-999.000,9,-999.000,     -999.0,-999.0000,-999.000,     8.0013,-999.000
  316N138_4,       P06C,     149,          1,         28,    02-9545,2,19920625,       1024,   -32.5162,  -165.8155,       5414,   610.6,   7.3336,  34.4462,2,  34.4459,2,    230.6,2,   233.6,2,    6.84,2,   21.69,2,   -0.01,2,    1.47,2,   1.283,2,   0.653,2,  2131.0,2,  -999.0,9,-999.000,9,-999.0000,9, -999.00,9, -999.00,9,  -999.0,9,  -999.0,-999.000,9,-999.000,     -999.0,-999.0000,-999.000,     7.2737,-999.000
  316N138_4,       P06C,     149,          1,         27,    02-9453,2,19920625,       1024,   -32.5162,  -165.8155,       5414,   701.8,   6.8619,  34.4053,2,  34.4051,2,    232.2,2,   236.9,2,    8.51,2,   22.98,2,    0.01,2,    1.57,2,   0.919,2,   0.466,2,  2136.8,2,  -999.0,9,-999.000,9,-999.0000,9, -999.00,9, -999.00,9,  -999.0,9,  -999.0,-999.000,9,-999.000,     -999.0,-999.0000,-999.000,     6.7951,-999.000
  316N138_4,       P06C,     149,          1,         26,    02-9544,2,19920625,       1024,   -32.5162,  -165.8155,       5414,   786.8,   6.4238,  34.3737,2,  34.3737,2,    229.0,2,   229.8,2,   10.86,2,   24.64,2,    0.00,2,    1.65,2,   0.656,2,   0.344,2,  2142.3,6,  -999.0,9,-999.000,9,-999.0000,9, -999.00,9, -999.00,9,  -999.0,9,  -999.0,-999.000,9,-999.000,     -999.0,-999.0000,-999.000,     6.3511,-999.000
  316N138_4,       P06C,     149,          1,         25,    02-9455,2,19920625,       1024,   -32.5162,  -165.8155,       5414,   880.7,   5.7786,  34.3519,2,  34.3521,2,    219.6,2,   217.2,2,   16.97,2,   27.14,2,    0.00,2,    1.84,2,   0.382,2,   0.203,2,  -999.0,9,  -999.0,9,-999.000,9,-999.0000,9, -999.00,9, -999.00,9,  -999.0,9,  -999.0,-999.000,9,-999.000,     -999.0,-999.0000,-999.000,     5.7010,-999.000
  316N138_4,       P06C,     149,          1,         24,        132,2,19920625,       1024,   -32.5162,  -165.8155,       5414,   994.3,   5.1214,  34.3506,2,  34.3519,2,    206.4,2,   203.3,2,   25.43,2,   29.46,2,    0.00,2,    1.99,2,   0.199,2,   0.112,2,  2176.6,2,  -999.0,9,-999.000,9,-999.0000,9, -999.00,9, -999.00,9,  -999.0,9,  -999.0,-999.000,9,-999.000,     -999.0,-999.0000,-999.000,     5.0379,-999.000
  316N138_4,       P06C,     149,          1,         23,        123,2,19920625,       1024,   -32.5162,  -165.8155,       5414,  1207.4,   3.7867,  34.3892,2,  34.3910,2,    189.4,2,   185.2,2,   45.96,2,   33.23,2,    0.00,2,    2.27,2,   0.025,2,   0.015,2,  2212.4,2,  -999.0,9,-999.000,9,-999.0000,9, -999.00,9, -999.00,9,  -999.0,9,  -999.0,-999.000,9,-999.000,     -999.0,-999.0000,-999.000,     3.6956,-999.000
  316N138_4,       P06C,     149,          1,         22,        128,2,19920625,       1024,   -32.5162,  -165.8155,       5414,  1407.7,   3.0949,  34.4701,2,  34.4738,2,    174.0,2,   171.9,2,   64.82,2,   34.69,2,    0.01,2,    2.39,2,   0.019,2,   0.001,2,  2239.1,2,  -999.0,9,-999.000,9,-999.0000,9, -999.00,9, -999.00,9,  -999.0,9,  -999.0,-999.000,9,-999.000,     -999.0,-999.0000,-999.000,     2.9939,-999.000
  316N138_4,       P06C,     149,          1,         21,        121,2,19920625,       1024,   -32.5162,  -165.8155,       5414,  1604.4,   2.7087,  34.5547,2,  34.5559,2,    162.9,2,   161.3,2,   83.83,2,   35.33,2,    0.01,2,    2.47,2,   0.000,2,   0.001,2,  2262.5,2,  -999.0,9,-999.000,9,-999.0000,9, -999.00,9, -999.00,9,  -999.0,9,  -999.0,-999.000,9,-999.000,     -999.0,-999.0000,-999.000,     2.5958,-999.000
  316N138_4,       P06C,     149,          1,         20,        120,2,19920625,       1024,   -32.5162,  -165.8155,       5414,  1802.3,   2.4591,  34.6025,2,  34.6030,2,    155.4,2,   154.7,2,   98.95,2,   35.58,2,    0.01,2,    2.52,2,-999.000,5,-999.000,5,  2281.1,2,  -999.0,9,-999.000,9,-999.0000,9, -999.00,9, -999.00,9,  -999.0,9,  -999.0,-999.000,9,-999.000,     -999.0,-999.0000,-999.000,     2.3327,-999.000
  316N138_4,       P06C,     149,          1,         19,        133,2,19920625,       1024,   -32.5162,  -165.8155,       5414,  2001.2,   2.2937,  34.6254,2,  34.6270,2,    151.4,2,   150.5,2,  109.92,2,   35.97,2,    0.01,2,    2.57,2,  -0.001,2,-999.000,9,  2294.1,2,  -999.0,9,-999.000,9,-999.0000,9, -999.00,9, -999.00,9,  -999.0,9,  -999.0,-999.000,9,-999.000,     -999.0,-999.0000,-999.000,     2.1528,-999.000
  316N138_4,       P06C,     149,          1,         18,        118,2,19920625,       1024,   -32.5162,  -165.8155,       5414,  2201.2,   2.1550,  34.6403,2,  34.6405,2,    149.1,2,   148.9,2,  115.47,2,   36.17,2,    0.02,2,    2.58,2,-999.000,5,-999.000,5,  -999.0,9,  -999.0,9,-999.000,9,-999.0000,9, -999.00,9, -999.00,9,  -999.0,9,  -999.0,-999.000,9,-999.000,     -999.0,-999.0000,-999.000,     1.9988,-999.000
  316N138_4,       P06C,     149,          1,         17,        117,2,19920625,       1024,   -32.5162,  -165.8155,       5414,  2393.6,   2.0503,  34.6489,2,  34.6498,2,    148.1,2,   149.4,3,  120.35,2,   36.31,2,    0.01,2,    2.60,2,  -0.002,2,  -0.005,2,  2305.9,2,  -999.0,9,-999.000,9,-999.0000,9, -999.00,9, -999.00,9,  -999.0,9,  -999.0,-999.000,9,-999.000,     -999.0,-999.0000,-999.000,     1.8788,-999.000
  316N138_4,       P06C,     149,          1,         16,        116,2,19920625,       1024,   -32.5162,  -165.8155,       5414,  2592.1,   1.9598,  34.6561,2,  34.6578,2,    147.4,2,   147.8,2,  124.53,2,   36.44,2,    0.01,2,    2.62,2,-999.000,5,-999.000,5,  2309.1,2,  -999.0,9,-999.000,9,-999.0000,9, -999.00,9, -999.00,9,  -999.0,9,  -999.0,-999.000,9,-999.000,     -999.0,-999.0000,-999.000,     1.7718,-999.000
  316N138_4,       P06C,     149,          1,         15,        115,2,19920625,       1024,   -32.5162,  -165.8155,       5414,  2788.5,   1.8808,  34.6630,2,  34.6649,2,    148.9,2,   148.9,2,  127.46,2,   36.41,2,    0.00,2,    2.61,2,  -0.001,2,  -0.003,2,  2311.0,2,  -999.0,9,-999.000,9,-999.0000,9, -999.00,9, -999.00,9,  -999.0,9,  -999.0,-999.000,9,-999.000,     -999.0,-999.0000,-999.000,     1.6760,-999.000
  316N138_4,       P06C,     149,          1,         14,        114,2,19920625,       1024,   -32.5162,  -165.8155,       5414,  2981.4,   1.8136,  34.6690,2,  34.6716,2,    150.8,2,   150.7,2,  128.85,2,   36.20,2,    0.00,2,    2.60,2,-999.000,5,-999.000,5,  2310.9,2,  -999.0,9,-999.000,9,-999.0000,9, -999.00,9, -999.00,9,  -999.0,9,  -999.0,-999.000,9,-999.000,     -999.0,-999.0000,-999.000,     1.5917,-999.000
  316N138_4,       P06C,     149,          1,         13,        125,2,19920625,       1024,   -32.5162,  -165.8155,       5414,  2981.4,   1.8136,  34.6690,2,  34.6702,2,    150.8,2,   152.9,3,  129.43,2,   36.34,2,   -0.01,2,    2.60,2,   0.002,2,  -0.004,2,  2310.5,2,  -999.0,9,-999.000,9,-999.0000,9, -999.00,9, -999.00,9,  -999.0,9,  -999.0,-999.000,9,-999.000,     -999.0,-999.0000,-999.000,     1.5917,-999.000
  316N138_4,       P06C,     149,          1,         12,        112,2,19920625,       1024,   -32.5162,  -165.8155,       5414,  3374.7,   1.6673,  34.6948,2,  34.6965,2,    168.9,2,   170.4,2,  121.52,2,   34.52,2,   -0.01,2,    2.49,2,-999.000,5,-999.000,5,  2289.7,2,  -999.0,9,-999.000,9,-999.0000,9, -999.00,9, -999.00,9,  -999.0,9,  -999.0,-999.000,9,-999.000,     -999.0,-999.0000,-999.000,     1.4098,-999.000
  316N138_4,       P06C,     149,          1,         11,        129,2,19920625,       1024,   -32.5162,  -165.8155,       5414,  3569.9,   1.5817,  34.7088,2,  34.7107,2,    180.4,2,   181.9,2,  115.29,2,   33.34,2,   -0.01,2,    2.38,2,  -0.001,2,  -0.001,2,  2275.8,2,  -999.0,9,-999.000,9,-999.0000,9, -999.00,9, -999.00,9,  -999.0,9,  -999.0,-999.000,9,-999.000,     -999.0,-999.0000,-999.000,     1.3061,-999.000
  316N138_4,       P06C,     149,          1,         10,        110,2,19920625,       1024,   -32.5162,  -165.8155,       5414,  3569.9,   1.5817,  34.7088,2,  34.7103,2,    180.4,2,   181.6,2,  115.59,2,   33.34,2,   -0.01,2,    2.38,2,-999.000,5,-999.000,5,  2276.0,2,  -999.0,9,-999.000,9,-999.0000,9, -999.00,9, -999.00,9,  -999.0,9,  -999.0,-999.000,9,-999.000,     -999.0,-999.0000,-999.000,     1.3061,-999.000
  316N138_4,       P06C,     149,          1,          9,        126,2,19920625,       1024,   -32.5162,  -165.8155,       5414,  3764.2,   1.4478,  34.7179,2,  34.7195,2,    192.0,2,   193.0,2,  111.99,2,   32.50,2,   -0.01,2,    2.31,2,   0.002,2,   0.000,2,  2264.8,2,  -999.0,9,-999.000,9,-999.0000,9, -999.00,9, -999.00,9,  -999.0,9,  -999.0,-999.000,9,-999.000,     -999.0,-999.0000,-999.000,     1.1553,-999.000
  316N138_4,       P06C,     149,          1,          8,        108,2,19920625,       1024,   -32.5162,  -165.8155,       5414,  3954.0,   1.3052,  34.7193,2,  34.7215,2,    199.5,2,   199.4,2,  112.84,2,   32.15,2,    0.00,2,    2.28,2,-999.000,5,-999.000,5,  2260.0,2,  -999.0,9,-999.000,9,-999.0000,9, -999.00,9, -999.00,9,  -999.0,9,  -999.0,-999.000,9,-999.000,     -999.0,-999.0000,-999.000,     0.9966,-999.000
  316N138_4,       P06C,     149,          1,          7,        107,2,19920625,       1024,   -32.5162,  -165.8155,       5414,  4148.5,   1.1487,  34.7151,2,  34.7146,2,    203.4,2,   204.9,2,  119.25,2,   32.32,2,    0.00,2,    2.28,2,-999.000,5,-999.000,5,  2260.0,2,  -999.0,9,-999.000,9,-999.0000,9, -999.00,9, -999.00,9,  -999.0,9,  -999.0,-999.000,9,-999.000,     -999.0,-999.0000,-999.000,     0.8235,-999.000
  316N138_4,       P06C,     149,          1,          6,        180,2,19920625,       1024,   -32.5162,  -165.8155,       5414,  4545.7,   1.0152,  34.7101,2,  34.7117,2,    206.5,2,   207.3,2,  120.78,2,   32.49,2,    0.00,2,    2.29,2,-999.000,5,-999.000,5,  2260.4,2,  -999.0,9,-999.000,9,-999.0000,9, -999.00,9, -999.00,9,  -999.0,9,  -999.0,-999.000,9,-999.000,     -999.0,-999.0000,-999.000,     0.6499,-999.000
  316N138_4,       P06C,     149,          1,          5,        131,2,19920625,       1024,   -32.5162,  -165.8155,       5414,  4744.8,   1.0015,  34.7080,2,  34.7103,2,    207.0,2,   206.7,2,  121.49,2,   32.44,2,    0.01,2,    2.29,2,   0.012,2,   0.003,2,  2260.7,2,  -999.0,9,-999.000,9,-999.0000,9, -999.00,9, -999.00,9,  -999.0,9,  -999.0,-999.000,9,-999.000,     -999.0,-999.0000,-999.000,     0.6140,-999.000
  316N138_4,       P06C,     149,          1,          4,        104,2,19920625,       1024,   -32.5162,  -165.8155,       5414,  4943.5,   1.0099,  34.7077,2,  34.7097,2,    207.3,2,   206.9,2,  121.65,2,   32.58,2,    0.00,2,    2.29,2,   0.012,2,   0.009,2,  2260.5,2,  -999.0,9,-999.000,9,-999.0000,9, -999.00,9, -999.00,9,  -999.0,9,  -999.0,-999.000,9,-999.000,     -999.0,-999.0000,-999.000,     0.5989,-999.000
  316N138_4,       P06C,     149,          1,          3,        130,2,19920625,       1024,   -32.5162,  -165.8155,       5414,  5141.6,   1.0230,  34.7071,2,  34.7087,2,    207.9,2,   208.0,2,  121.81,2,   32.49,2,    0.01,2,    2.29,2,   0.016,2,   0.002,2,  2260.8,2,  -999.0,9,-999.000,9,-999.0000,9, -999.00,9, -999.00,9,  -999.0,9,  -999.0,-999.000,9,-999.000,     -999.0,-999.0000,-999.000,     0.5878,-999.000
  316N138_4,       P06C,     149,          1,          2,        135,2,19920625,       1024,   -32.5162,  -165.8155,       5414,  5350.3,   1.0448,  34.7076,2,  34.7089,2,    207.5,2,   208.3,2,  122.10,2,   32.49,2,    0.01,2,    2.29,2,   0.017,2,   0.013,2,  2260.6,2,  -999.0,9,-999.000,9,-999.0000,9, -999.00,9, -999.00,9,  -999.0,9,  -999.0,-999.000,9,-999.000,     -999.0,-999.0000,-999.000,     0.5834,-999.000
  316N138_4,       P06C,     149,          1,          1,        134,2,19920625,       1024,   -32.5162,  -165.8155,       5414,  5499.0,   1.0627,  34.7068,2,  34.7083,2,    206.7,2,   207.7,2,  121.81,2,   32.64,2,    0.01,2,    2.30,2,   0.019,6,   0.009,6,  2260.5,2,  -999.0,9,-999.000,9,-999.0000,9, -999.00,9, -999.00,9,  -999.0,9,  -999.0,-999.000,9,-999.000,     -999.0,-999.0000,-999.000,     0.5822,-999.000