BOTTLE,20211025CCHSIORKP
EXPOCODE,SECT_ID,STNNBR,CASTNO,SAMPNO,BTLNBR,BTLNBR_FLAG_W,DATE,TIME,LATITUDE,LONGITUDE,DEPTH,CTDPRS,CTDTMP,CTDSAL,CTDSAL_FLAG_W,SALNTY,SALNTY_FLAG_W,CTDOXY,CTDOXY_FLAG_W,OXYGEN,OXYGEN_FLAG_W,SILCAT,SILCAT_FLAG_W,NITRAT,NITRAT_FLAG_W,NITRIT,NITRIT_FLAG_W,PHSPHT,PHSPHT_FLAG_W,CFC-11,CFC-11_FLAG_W,CFC-12,CFC-12_FLAG_W,TCARBN,TCARBN_FLAG_W,PCO2,PCO2_FLAG_W,TRITUM,TRITUM_FLAG_W,HELIUM,HELIUM_FLAG_W,DELHE3,DELHE3_FLAG_W,DELC13,DELC13_FLAG_W,DELC14,DELC14_FLAG_W,C14ERR,NEON,NEON_FLAG_W,NEONER,PCO2TMP,HELIER,DELHER,THETA,TRITER
,,,,,,,,,,,METERS,DBAR,ITS-90,PSS-78,,PSS-78,,UMOL/KG,,UMOL/KG,,UMOL/KG,,UMOL/KG,,UMOL/KG,,UMOL/KG,,PMOL/KG,,PMOL/KG,,UMOL/KG,,UATM,,TU,,NMOL/KG,,PERCNT,,/MILLE,,/MILLE,,/MILLE,NMOL/KG,,NMOL/KG,DEG_C,NMOL/KG,PERCNT,ITS-90,TU
  316N138_4,       P06C,      90,          1,         36,    02-9121,2,19920606,       0106,   -32.5007,  -123.3253,       3341,    23.0,  19.8634,  35.1291,2,  35.4190,3,    223.2,2,   227.3,2,    0.00,2,    0.00,2,    0.01,2,    0.11,2,   2.311,2,   1.210,2,  -999.0,9,  -999.0,9,-999.000,9,-999.0000,9, -999.00,9, -999.00,9,  -999.0,9,  -999.0,-999.000,9,-999.000,     -999.0,-999.0000,-999.000,    19.8592,-999.000
  316N138_4,       P06C,      90,          1,         35,    02-9454,2,19920606,       0106,   -32.5007,  -123.3253,       3341,    62.6,  20.4637,  35.4220,2,  35.1370,3,    225.3,2,   225.0,2,    0.00,2,    0.00,2,    0.01,2,    0.11,2,   2.231,2,   1.153,2,  -999.0,9,  -999.0,9,-999.000,9,-999.0000,9, -999.00,9, -999.00,9,  -999.0,9,  -999.0,-999.000,9,-999.000,     -999.0,-999.0000,-999.000,    20.4519,-999.000
  316N138_4,       P06C,      90,          1,         34,    02-9457,2,19920606,       0106,   -32.5007,  -123.3253,       3341,    92.1,  18.5163,  35.2423,2,  35.2426,2,    236.0,2,   240.3,2,    0.00,2,    0.00,2,    0.01,2,    0.13,2,   2.524,2,   1.290,2,  -999.0,9,  -999.0,9,-999.000,9,-999.0000,9, -999.00,9, -999.00,9,  -999.0,9,  -999.0,-999.000,9,-999.000,     -999.0,-999.0000,-999.000,    18.5002,-999.000
  316N138_4,       P06C,      90,          1,         33,    02-5367,2,19920606,       0106,   -32.5007,  -123.3253,       3341,   122.6,  16.9481,  35.1177,2,  35.1179,2,    235.9,2,   235.5,2,    0.00,2,    0.00,2,    0.02,2,    0.17,2,   2.584,2,   1.316,2,  -999.0,9,  -999.0,9,-999.000,9,-999.0000,9, -999.00,9, -999.00,9,  -999.0,9,  -999.0,-999.000,9,-999.000,     -999.0,-999.0000,-999.000,    16.9279,-999.000
  316N138_4,       P06C,      90,          1,         32,    02-9540,2,19920606,       0106,   -32.5007,  -123.3253,       3341,   152.3,  16.2480,  35.0914,2,  35.0905,2,    232.1,2,   227.2,2,    0.00,2,    0.13,2,    0.15,2,    0.23,2,   2.548,2,   1.319,2,  -999.0,9,  -999.0,9,-999.000,9,-999.0000,9, -999.00,9, -999.00,9,  -999.0,9,  -999.0,-999.000,9,-999.000,     -999.0,-999.0000,-999.000,    16.2237,-999.000
  316N138_4,       P06C,      90,          1,         31,    02-9539,2,19920606,       0106,   -32.5007,  -123.3253,       3341,   182.2,  15.6010,  35.0680,2,  35.0701,2,    223.8,2,   213.9,2,    0.35,2,    2.66,2,    0.03,2,    0.37,2,   2.375,2,   1.241,2,  -999.0,9,  -999.0,9,-999.000,9,-999.0000,9, -999.00,9, -999.00,9,  -999.0,9,  -999.0,-999.000,9,-999.000,     -999.0,-999.0000,-999.000,    15.5727,-999.000
  316N138_4,       P06C,      90,          1,         30,    02-9456,2,19920606,       0106,   -32.5007,  -123.3253,       3341,   211.1,  14.6272,  35.0196,2,  35.0187,2,    217.0,2,   205.2,2,    0.71,2,    5.14,2,    0.02,2,    0.54,2,   2.193,2,   1.132,2,  -999.0,9,  -999.0,9,-999.000,9,-999.0000,9, -999.00,9, -999.00,9,  -999.0,9,  -999.0,-999.000,9,-999.000,     -999.0,-999.0000,-999.000,    14.5958,-999.000
  316N138_4,       P06C,      90,          1,         29,    02-9458,2,19920606,       0106,   -32.5007,  -123.3253,       3341,   262.0,  13.4544,  34.8575,2,  34.8703,2,    207.9,2,   202.0,2,    1.24,2,    8.21,2,    0.02,2,    0.72,2,   2.036,2,   1.028,2,  -999.0,9,  -999.0,9,-999.000,9,-999.0000,9, -999.00,9, -999.00,9,  -999.0,9,  -999.0,-999.000,9,-999.000,     -999.0,-999.0000,-999.000,    13.4175,-999.000
  316N138_4,       P06C,      90,          1,         28,    02-9545,2,19920606,       0106,   -32.5007,  -123.3253,       3341,   311.7,  11.4763,  34.7191,2,  34.6991,2,    209.2,2,   204.4,2,    1.95,2,   12.05,2,    0.01,2,    0.95,2,   1.871,2,   0.945,2,  -999.0,9,  -999.0,9,-999.000,9,-999.0000,9, -999.00,9, -999.00,9,  -999.0,9,  -999.0,-999.000,9,-999.000,     -999.0,-999.0000,-999.000,    11.4368,-999.000
  316N138_4,       P06C,      90,          1,         27,    02-9453,2,19920606,       0106,   -32.5007,  -123.3253,       3341,   361.7,   9.7333,  34.5629,2,  34.5504,2,    213.8,2,   213.5,2,    3.02,2,   15.82,2,    0.02,2,    1.17,2,   1.757,2,   0.925,2,  -999.0,9,  -999.0,9,-999.000,9,-999.0000,9, -999.00,9, -999.00,9,  -999.0,9,  -999.0,-999.000,9,-999.000,     -999.0,-999.0000,-999.000,     9.6919,-999.000
  316N138_4,       P06C,      90,          1,         26,    02-9544,2,19920606,       0106,   -32.5007,  -123.3253,       3341,   411.9,   8.3211,  34.4513,2,  34.4506,2,    224.9,2,   222.9,2,    4.08,2,   18.65,2,    0.00,2,    1.33,2,   1.774,2,-999.000,5,  -999.0,9,  -999.0,9,-999.000,9,-999.0000,9, -999.00,9, -999.00,9,  -999.0,9,  -999.0,-999.000,9,-999.000,     -999.0,-999.0000,-999.000,     8.2782,-999.000
  316N138_4,       P06C,      90,          1,         25,    02-9455,2,19920606,       0106,   -32.5007,  -123.3253,       3341,   462.4,   7.3970,  34.3987,2,  34.4019,2,    235.2,2,   237.9,2,    5.15,2,   21.18,2,    0.00,2,    1.43,2,   1.894,2,   0.925,2,  -999.0,9,  -999.0,9,-999.000,9,-999.0000,9, -999.00,9, -999.00,9,  -999.0,9,  -999.0,-999.000,9,-999.000,     -999.0,-999.0000,-999.000,     7.3519,-999.000
  316N138_4,       P06C,      90,          1,         24,        132,2,19920606,       0106,   -32.5007,  -123.3253,       3341,   538.2,   6.7752,  34.3747,2,  34.3719,2,    246.5,2,   245.8,2,    6.56,2,   22.32,2,    0.00,2,    1.49,2,   1.760,6,   0.901,2,  -999.0,9,  -999.0,9,-999.000,9,-999.0000,9, -999.00,9, -999.00,9,  -999.0,9,  -999.0,-999.000,9,-999.000,     -999.0,-999.0000,-999.000,     6.7250,-999.000
  316N138_4,       P06C,      90,          1,         23,        123,2,19920606,       0106,   -32.5007,  -123.3253,       3341,   613.2,   6.4179,  34.3556,2,  34.3517,2,    247.4,2,   244.7,2,    7.80,2,   23.31,2,    0.00,2,    1.56,2,   1.380,2,   0.675,2,  -999.0,9,  -999.0,9,-999.000,9,-999.0000,9, -999.00,9, -999.00,9,  -999.0,9,  -999.0,-999.000,9,-999.000,     -999.0,-999.0000,-999.000,     6.3620,-999.000
  316N138_4,       P06C,      90,          1,         22,        128,2,19920606,       0106,   -32.5007,  -123.3253,       3341,   688.7,   6.0905,  34.3277,2,  34.3240,2,    244.5,2,   243.4,2,    9.22,2,   24.35,2,    0.00,2,    1.63,2,   0.976,2,   0.524,2,  -999.0,9,  -999.0,9,-999.000,9,-999.0000,9, -999.00,9, -999.00,9,  -999.0,9,  -999.0,-999.000,9,-999.000,     -999.0,-999.0000,-999.000,     6.0293,-999.000
  316N138_4,       P06C,      90,          1,         21,        121,2,19920606,       0106,   -32.5007,  -123.3253,       3341,   764.7,   5.6359,  34.3014,2,  34.3011,2,    239.3,2,   237.1,2,   12.06,2,   25.95,2,    0.00,2,    1.74,2,   0.617,2,   0.322,2,  -999.0,9,  -999.0,9,-999.000,9,-999.0000,9, -999.00,9, -999.00,9,  -999.0,9,  -999.0,-999.000,9,-999.000,     -999.0,-999.0000,-999.000,     5.5701,-999.000
  316N138_4,       P06C,      90,          1,         20,        120,2,19920606,       0106,   -32.5007,  -123.3253,       3341,   839.7,   5.2288,  34.2955,2,  34.2966,2,    228.8,2,   227.1,2,   16.32,2,   27.76,2,    0.00,2,    1.86,2,   0.432,2,   0.239,2,  -999.0,9,  -999.0,9,-999.000,9,-999.0000,9, -999.00,9, -999.00,9,  -999.0,9,  -999.0,-999.000,9,-999.000,     -999.0,-999.0000,-999.000,     5.1587,-999.000
  316N138_4,       P06C,      90,          1,         19,        133,3,19920606,       0106,   -32.5007,  -123.3253,       3341,   916.1,   4.8156,  34.2956,2,  34.3019,2,    215.3,2,   211.0,2,   22.35,2,   30.05,2,    0.00,2,    2.01,2,   0.164,2,-999.000,5,  -999.0,9,  -999.0,9,-999.000,9,-999.0000,9, -999.00,9, -999.00,9,  -999.0,9,  -999.0,-999.000,9,-999.000,     -999.0,-999.0000,-999.000,     4.7415,-999.000
  316N138_4,       P06C,      90,          1,         18,        118,3,19920606,       0106,   -32.5007,  -123.3253,       3341,  1017.1,   4.4227,  34.3184,2,  34.3209,2,    199.9,2,   199.5,2,   29.80,2,   31.66,2,    0.00,2,    2.12,2,   0.113,6,   0.073,6,  -999.0,9,  -999.0,9,-999.000,9,-999.0000,9, -999.00,9, -999.00,9,  -999.0,9,  -999.0,-999.000,9,-999.000,     -999.0,-999.0000,-999.000,     4.3427,-999.000
  316N138_4,       P06C,      90,          1,         17,        117,3,19920606,       0106,   -32.5007,  -123.3253,       3341,  1117.7,   4.0062,  34.3527,2,  34.3503,2,    190.0,2,   191.3,2,   38.85,2,   33.04,2,    0.00,2,    2.22,2,-999.000,9,-999.000,9,  -999.0,9,  -999.0,9,-999.000,9,-999.0000,9, -999.00,9, -999.00,9,  -999.0,9,  -999.0,-999.000,9,-999.000,     -999.0,-999.0000,-999.000,     3.9210,-999.000
  316N138_4,       P06C,      90,          1,         16,        116,2,19920606,       0106,   -32.5007,  -123.3253,       3341,  1216.7,   3.5145,  34.4041,2,  34.4074,2,    177.0,2,   173.6,2,   51.44,2,   34.61,2,    0.00,2,    2.34,2,   0.023,2,   0.026,3,  -999.0,9,  -999.0,9,-999.000,9,-999.0000,9, -999.00,9, -999.00,9,  -999.0,9,  -999.0,-999.000,9,-999.000,     -999.0,-999.0000,-999.000,     3.4252,-999.000
  316N138_4,       P06C,      90,          1,         15,        115,2,19920606,       0106,   -32.5007,  -123.3253,       3341,  1319.1,   3.1244,  34.4603,2,  34.4604,2,    169.2,2,   166.8,2,   63.14,2,   35.26,2,    0.00,2,    2.40,2,   0.009,2,-999.000,5,  -999.0,9,  -999.0,9,-999.000,9,-999.0000,9, -999.00,9, -999.00,9,  -999.0,9,  -999.0,-999.000,9,-999.000,     -999.0,-999.0000,-999.000,     3.0305,-999.000
  316N138_4,       P06C,      90,          1,         14,        114,2,19920606,       0106,   -32.5007,  -123.3253,       3341,  1419.5,   2.8685,  34.5044,2,  34.5021,2,    165.8,2,   164.0,2,   72.18,2,   35.36,2,    0.00,2,    2.41,2,-999.000,9,-999.000,9,  -999.0,9,  -999.0,9,-999.000,9,-999.0000,9, -999.00,9, -999.00,9,  -999.0,9,  -999.0,-999.000,9,-999.000,     -999.0,-999.0000,-999.000,     2.7689,-999.000
  316N138_4,       P06C,      90,          1,         13,        125,2,19920606,       0106,   -32.5007,  -123.3253,       3341,  1519.4,   2.6448,  34.5467,2,  34.5465,2,    163.3,2,   165.0,4,   81.05,2,   35.39,2,    0.00,2,    2.42,2,   0.015,3,   0.007,2,  -999.0,9,  -999.0,9,-999.000,9,-999.0000,9, -999.00,9, -999.00,9,  -999.0,9,  -999.0,-999.000,9,-999.000,     -999.0,-999.0000,-999.000,     2.5395,-999.000
  316N138_4,       P06C,      90,          1,         12,        112,2,19920606,       0106,   -32.5007,  -123.3253,       3341,  1673.5,   2.4229,  34.5905,2,  34.5875,2,    160.2,2,   158.9,2,   92.04,2,   35.41,2,    0.00,2,    2.44,2,-999.000,9,-999.000,9,  -999.0,9,  -999.0,9,-999.000,9,-999.0000,9, -999.00,9, -999.00,9,  -999.0,9,  -999.0,-999.000,9,-999.000,     -999.0,-999.0000,-999.000,     2.3076,-999.000
  316N138_4,       P06C,      90,          1,         11,        129,2,19920606,       0106,   -32.5007,  -123.3253,       3341,  1824.3,   2.2799,  34.6118,2,  34.6130,2,    157.5,2,   157.0,2,  100.37,2,   35.56,2,    0.00,2,    2.46,2,   0.001,2,-999.000,5,  -999.0,9,  -999.0,9,-999.000,9,-999.0000,9, -999.00,9, -999.00,9,  -999.0,9,  -999.0,-999.000,9,-999.000,     -999.0,-999.0000,-999.000,     2.1541,-999.000
  316N138_4,       P06C,      90,          1,         10,        110,3,19920606,       0106,   -32.5007,  -123.3253,       3341,  1977.8,   2.1595,  34.6283,2,  34.6712,4,    156.7,2,   164.3,4,   84.41,4,   30.71,4,    0.00,4,    2.15,4,-999.000,9,-999.000,9,  -999.0,9,  -999.0,9,-999.000,9,-999.0000,9, -999.00,9, -999.00,9,  -999.0,9,  -999.0,-999.000,9,-999.000,     -999.0,-999.0000,-999.000,     2.0225,-999.000
  316N138_4,       P06C,      90,          1,          9,        126,2,19920606,       0106,   -32.5007,  -123.3253,       3341,  2129.5,   2.0463,  34.6413,2,  34.6388,2,    156.6,2,   156.1,2,  111.19,2,   35.58,2,    0.00,2,    2.47,2,   0.000,2,   0.001,2,  -999.0,9,  -999.0,9,-999.000,9,-999.0000,9, -999.00,9, -999.00,9,  -999.0,9,  -999.0,-999.000,9,-999.000,     -999.0,-999.0000,-999.000,     1.8981,-999.000
  316N138_4,       P06C,      90,          1,          8,        108,2,19920606,       0106,   -32.5007,  -123.3253,       3341,  2282.3,   1.9619,  34.6503,2,  34.6631,3,    157.1,2,   156.6,2,  114.73,2,   35.56,2,    0.00,2,    2.48,2,-999.000,9,-999.000,9,  -999.0,9,  -999.0,9,-999.000,9,-999.0000,9, -999.00,9, -999.00,9,  -999.0,9,  -999.0,-999.000,9,-999.000,     -999.0,-999.0000,-999.000,     1.8018,-999.000
  316N138_4,       P06C,      90,          1,          7,        107,2,19920606,       0106,   -32.5007,  -123.3253,       3341,  2435.0,   1.8873,  34.6585,2,  34.6622,2,    157.5,2,   158.0,2,  117.57,2,   35.54,2,    0.00,2,    2.48,2,  -0.004,2,   0.004,2,  -999.0,9,  -999.0,9,-999.000,9,-999.0000,9, -999.00,9, -999.00,9,  -999.0,9,  -999.0,-999.000,9,-999.000,     -999.0,-999.0000,-999.000,     1.7150,-999.000
  316N138_4,       P06C,      90,          1,          6,        180,2,19920606,       0106,   -32.5007,  -123.3253,       3341,  2637.8,   1.7940,  34.6667,2,  34.6631,2,    160.6,2,   159.9,2,  119.88,2,   35.37,2,    0.00,2,    2.48,2,-999.000,9,-999.000,9,  -999.0,9,  -999.0,9,-999.000,9,-999.0000,9, -999.00,9, -999.00,9,  -999.0,9,  -999.0,-999.000,9,-999.000,     -999.0,-999.0000,-999.000,     1.6049,-999.000
  316N138_4,       P06C,      90,          1,          5,        131,2,19920606,       0106,   -32.5007,  -123.3253,       3341,  2840.3,   1.7339,  34.6717,2,  34.6710,2,    163.0,2,   162.1,2,  120.77,2,   35.25,2,    0.00,2,    2.46,2,-999.000,5,-999.000,5,  -999.0,9,  -999.0,9,-999.000,9,-999.0000,9, -999.00,9, -999.00,9,  -999.0,9,  -999.0,-999.000,9,-999.000,     -999.0,-999.0000,-999.000,     1.5272,-999.000
  316N138_4,       P06C,      90,          1,          4,        104,2,19920606,       0106,   -32.5007,  -123.3253,       3341,  3042.3,   1.6956,  34.6761,2,  34.6887,4,    165.5,2,   165.6,2,  121.47,2,   35.02,2,    0.00,2,    2.44,2,-999.000,9,-999.000,9,  -999.0,9,  -999.0,9,-999.000,9,-999.0000,9, -999.00,9, -999.00,9,  -999.0,9,  -999.0,-999.000,9,-999.000,     -999.0,-999.0000,-999.000,     1.4704,-999.000
  316N138_4,       P06C,      90,          1,          3,        130,2,19920606,       0106,   -32.5007,  -123.3253,       3341,  3238.4,   1.6464,  34.6808,2,  34.6783,2,    167.9,2,   167.7,2,  121.64,2,   34.72,2,    0.00,2,    2.41,2,  -0.004,2,  -0.004,2,  -999.0,9,  -999.0,9,-999.000,9,-999.0000,9, -999.00,9, -999.00,9,  -999.0,9,  -999.0,-999.000,9,-999.000,     -999.0,-999.0000,-999.000,     1.4031,-999.000
  316N138_4,       P06C,      90,          1,          2,        135,2,19920606,       0106,   -32.5007,  -123.3253,       3341,  3436.0,   1.6262,  34.6833,2,  34.6840,2,    170.3,2,   170.3,2,  121.82,2,   34.63,2,    0.00,2,    2.42,3,-999.000,9,-999.000,9,  -999.0,9,  -999.0,9,-999.000,9,-999.0000,9, -999.00,9, -999.00,9,  -999.0,9,  -999.0,-999.000,9,-999.000,     -999.0,-999.0000,-999.000,     1.3635,-999.000
  316N138_4,       P06C,      90,          1,          1,        134,2,19920606,       0106,   -32.5007,  -123.3253,       3341,  3541.1,   1.6291,  34.6846,2,  34.6877,3,    171.1,2,   170.3,2,  121.78,2,   34.50,2,    0.01,2,    2.39,2,  -0.001,2,   0.000,2,  -999.0,9,  -999.0,9,-999.000,9,-999.0000,9, -999.00,9, -999.00,9,  -999.0,9,  -999.0,-999.000,9,-999.000,     -999.0,-999.0000,-999.000,     1.3555,-999.000