BOTTLE,20211025CCHSIORKP
EXPOCODE,SECT_ID,STNNBR,CASTNO,SAMPNO,BTLNBR,BTLNBR_FLAG_W,DATE,TIME,LATITUDE,LONGITUDE,DEPTH,CTDPRS,CTDTMP,CTDSAL,CTDSAL_FLAG_W,SALNTY,SALNTY_FLAG_W,CTDOXY,CTDOXY_FLAG_W,OXYGEN,OXYGEN_FLAG_W,SILCAT,SILCAT_FLAG_W,NITRAT,NITRAT_FLAG_W,NITRIT,NITRIT_FLAG_W,PHSPHT,PHSPHT_FLAG_W,CFC-11,CFC-11_FLAG_W,CFC-12,CFC-12_FLAG_W,TCARBN,TCARBN_FLAG_W,PCO2,PCO2_FLAG_W,TRITUM,TRITUM_FLAG_W,HELIUM,HELIUM_FLAG_W,DELHE3,DELHE3_FLAG_W,DELC13,DELC13_FLAG_W,DELC14,DELC14_FLAG_W,C14ERR,NEON,NEON_FLAG_W,NEONER,PCO2TMP,HELIER,DELHER,THETA,TRITER
,,,,,,,,,,,METERS,DBAR,ITS-90,PSS-78,,PSS-78,,UMOL/KG,,UMOL/KG,,UMOL/KG,,UMOL/KG,,UMOL/KG,,UMOL/KG,,PMOL/KG,,PMOL/KG,,UMOL/KG,,UATM,,TU,,NMOL/KG,,PERCNT,,/MILLE,,/MILLE,,/MILLE,NMOL/KG,,NMOL/KG,DEG_C,NMOL/KG,PERCNT,ITS-90,TU
  316N138_4,       P06C,     180,          1,         24,        132,2,19920703,       0446,   -32.4992,  -178.9155,       1994,    20.3,  16.6763,  35.5787,2,  35.5766,2,    276.0,3,   239.2,2,    1.22,2,    1.36,2,    0.17,2, -999.00,5,-999.000,5,-999.000,5,  -999.0,9,  -999.0,9,-999.000,9,-999.0000,9, -999.00,9, -999.00,9,  -999.0,9,  -999.0,-999.000,9,-999.000,     -999.0,-999.0000,-999.000,    16.6730,-999.000
  316N138_4,       P06C,     180,          1,         23,        123,2,19920703,       0446,   -32.4992,  -178.9155,       1994,    61.0,  16.5879,  35.5708,2,  35.5697,2,    234.2,2,   236.2,2,    1.41,2,    1.50,2,    0.16,2, -999.00,5,-999.000,5,-999.000,5,  -999.0,9,  -999.0,9,-999.000,9,-999.0000,9, -999.00,9, -999.00,9,  -999.0,9,  -999.0,-999.000,9,-999.000,     -999.0,-999.0000,-999.000,    16.5780,-999.000
  316N138_4,       P06C,     180,          1,         22,        128,2,19920703,       0446,   -32.4992,  -178.9155,       1994,   110.6,  16.5608,  35.5701,2,  35.5681,2,    235.1,2,   226.3,3,    1.20,2,    1.64,2,    0.20,2, -999.00,5,-999.000,5,-999.000,5,  -999.0,9,  -999.0,9,-999.000,9,-999.0000,9, -999.00,9, -999.00,9,  -999.0,9,  -999.0,-999.000,9,-999.000,     -999.0,-999.0000,-999.000,    16.5429,-999.000
  316N138_4,       P06C,     180,          1,         21,        121,3,19920703,       0446,   -32.4992,  -178.9155,       1994,   157.9,  16.4336,  35.5587,2,  35.5578,2,    236.6,2,   246.3,3,    1.20,2,    1.41,2,    0.25,2, -999.00,5,-999.000,5,-999.000,5,  -999.0,9,  -999.0,9,-999.000,9,-999.0000,9, -999.00,9, -999.00,9,  -999.0,9,  -999.0,-999.000,9,-999.000,     -999.0,-999.0000,-999.000,    16.4081,-999.000
  316N138_4,       P06C,     180,          1,         20,        120,2,19920703,       0446,   -32.4992,  -178.9155,       1994,   206.5,  15.4952,  35.4201,2,  35.4210,2,    225.4,2,   210.6,2,    2.14,2,    5.43,2,    0.05,2, -999.00,5,-999.000,5,-999.000,5,  -999.0,9,  -999.0,9,-999.000,9,-999.0000,9, -999.00,9, -999.00,9,  -999.0,9,  -999.0,-999.000,9,-999.000,     -999.0,-999.0000,-999.000,    15.4631,-999.000
  316N138_4,       P06C,     180,          1,         19,        133,2,19920703,       0446,   -32.4992,  -178.9155,       1994,   256.8,  14.3470,  35.3035,2,  35.3017,2,    207.3,2,   201.8,2,    3.08,2,    8.33,2,    0.01,2, -999.00,5,-999.000,5,-999.000,5,  -999.0,9,  -999.0,9,-999.000,9,-999.0000,9, -999.00,9, -999.00,9,  -999.0,9,  -999.0,-999.000,9,-999.000,     -999.0,-999.0000,-999.000,    14.3091,-999.000
  316N138_4,       P06C,     180,          1,         18,        118,2,19920703,       0446,   -32.4992,  -178.9155,       1994,   307.0,  13.2173,  35.1639,2,  35.1697,2,    205.7,2,   203.4,2,    3.46,2,   10.24,2,    0.00,2, -999.00,5,-999.000,5,-999.000,5,  -999.0,9,  -999.0,9,-999.000,9,-999.0000,9, -999.00,9, -999.00,9,  -999.0,9,  -999.0,-999.000,9,-999.000,     -999.0,-999.0000,-999.000,    13.1744,-999.000
  316N138_4,       P06C,     180,          1,         17,        117,2,19920703,       0446,   -32.4992,  -178.9155,       1994,   406.4,  11.0853,  34.8938,2,  34.8906,2,    202.7,2,   196.3,2,    5.35,2,   15.28,2,    0.00,2, -999.00,5,-999.000,5,-999.000,5,  -999.0,9,  -999.0,9,-999.000,9,-999.0000,9, -999.00,9, -999.00,9,  -999.0,9,  -999.0,-999.000,9,-999.000,     -999.0,-999.0000,-999.000,    11.0346,-999.000
  316N138_4,       P06C,     180,          1,         16,        116,2,19920703,       0446,   -32.4992,  -178.9155,       1994,   506.4,   9.4309,  34.6982,2,  34.6969,2,    206.9,2,   207.5,2,    6.92,2,   18.64,2,    0.00,2, -999.00,5,-999.000,5,-999.000,5,  -999.0,9,  -999.0,9,-999.000,9,-999.0000,9, -999.00,9, -999.00,9,  -999.0,9,  -999.0,-999.000,9,-999.000,     -999.0,-999.0000,-999.000,     9.3735,-999.000
  316N138_4,       P06C,     180,          1,         15,        115,2,19920703,       0446,   -32.4992,  -178.9155,       1994,   605.4,   8.5147,  34.5943,2,  34.5928,2,    210.5,2,   215.4,2,    7.87,2,   20.41,2,    0.00,2, -999.00,5,-999.000,5,-999.000,5,  -999.0,9,  -999.0,9,-999.000,9,-999.0000,9, -999.00,9, -999.00,9,  -999.0,9,  -999.0,-999.000,9,-999.000,     -999.0,-999.0000,-999.000,     8.4499,-999.000
  316N138_4,       P06C,     180,          1,         14,        114,2,19920703,       0446,   -32.4992,  -178.9155,       1994,   700.2,   7.7021,  34.5123,2,  34.5117,2,    217.7,2,   217.7,2,    9.72,2,   22.02,2,   -0.01,2, -999.00,5,-999.000,5,-999.000,5,  -999.0,9,  -999.0,9,-999.000,9,-999.0000,9, -999.00,9, -999.00,9,  -999.0,9,  -999.0,-999.000,9,-999.000,     -999.0,-999.0000,-999.000,     7.6310,-999.000
  316N138_4,       P06C,     180,          1,         13,        125,2,19920703,       0446,   -32.4992,  -178.9155,       1994,   800.8,   7.1401,  34.4647,2,  34.4638,2,    214.5,2,   227.8,3,   11.99,2,   23.47,2,   -0.01,2, -999.00,5,-999.000,5,-999.000,5,  -999.0,9,  -999.0,9,-999.000,9,-999.0000,9, -999.00,9, -999.00,9,  -999.0,9,  -999.0,-999.000,9,-999.000,     -999.0,-999.0000,-999.000,     7.0616,-999.000
  316N138_4,       P06C,     180,          1,         12,        112,2,19920703,       0446,   -32.4992,  -178.9155,       1994,   904.3,   6.4336,  34.4222,2,  34.4210,2,    212.5,2,   212.4,2,   16.75,2,   25.49,2,   -0.01,2, -999.00,5,-999.000,5,-999.000,5,  -999.0,9,  -999.0,9,-999.000,9,-999.0000,9, -999.00,9, -999.00,9,  -999.0,9,  -999.0,-999.000,9,-999.000,     -999.0,-999.0000,-999.000,     6.3492,-999.000
  316N138_4,       P06C,     180,          1,         11,        129,2,19920703,       0446,   -32.4992,  -178.9155,       1994,  1006.1,   5.8238,  34.4116,3,  34.4002,2,    204.0,3,   209.3,2,   22.46,2,   27.39,2,   -0.01,2, -999.00,5,-999.000,5,-999.000,5,  -999.0,9,  -999.0,9,-999.000,9,-999.0000,9, -999.00,9, -999.00,9,  -999.0,9,  -999.0,-999.000,9,-999.000,     -999.0,-999.0000,-999.000,     5.7338,-999.000
  316N138_4,       P06C,     180,          1,         10,        110,2,19920703,       0446,   -32.4992,  -178.9155,       1994,  1107.7,   5.1750,  34.4162,2,  34.4127,2,    195.0,2,   192.0,2,   32.93,2,   29.28,2,   -0.01,2, -999.00,5,-999.000,5,-999.000,5,  -999.0,9,  -999.0,9,-999.000,9,-999.0000,9, -999.00,9, -999.00,9,  -999.0,9,  -999.0,-999.000,9,-999.000,     -999.0,-999.0000,-999.000,     5.0805,-999.000
  316N138_4,       P06C,     180,          1,          9,        126,2,19920703,       0446,   -32.4992,  -178.9155,       1994,  1210.7,   4.4157,  34.4329,2,  34.4322,2,    184.1,2,   180.6,2,   46.45,2,   31.35,2,   -0.01,2, -999.00,5,-999.000,5,-999.000,5,  -999.0,9,  -999.0,9,-999.000,9,-999.0000,9, -999.00,9, -999.00,9,  -999.0,9,  -999.0,-999.000,9,-999.000,     -999.0,-999.0000,-999.000,     4.3186,-999.000
  316N138_4,       P06C,     180,          1,          8,        108,2,19920703,       0446,   -32.4992,  -178.9155,       1994,  1310.7,   3.9153,  34.4628,2,  34.4597,2,    176.6,2,   174.0,2,   57.48,2,   32.49,2,   -0.01,2, -999.00,5,-999.000,5,-999.000,5,  -999.0,9,  -999.0,9,-999.000,9,-999.0000,9, -999.00,9, -999.00,9,  -999.0,9,  -999.0,-999.000,9,-999.000,     -999.0,-999.0000,-999.000,     3.8140,-999.000
  316N138_4,       P06C,     180,          1,          7,        107,2,19920703,       0446,   -32.4992,  -178.9155,       1994,  1411.1,   3.5192,  34.5018,2,  34.4995,2,    170.1,2,   170.0,2,   68.33,2,   33.34,2,    0.00,2, -999.00,5,-999.000,5,-999.000,5,  -999.0,9,  -999.0,9,-999.000,9,-999.0000,9, -999.00,9, -999.00,9,  -999.0,9,  -999.0,-999.000,9,-999.000,     -999.0,-999.0000,-999.000,     3.4133,-999.000
  316N138_4,       P06C,     180,          1,          6,        180,2,19920703,       0446,   -32.4992,  -178.9155,       1994,  1512.8,   3.2903,  34.5327,2,  34.5309,2,    165.9,2,   167.0,2,   76.70,2,   33.72,2,   -0.01,2, -999.00,5,-999.000,5,-999.000,5,  -999.0,9,  -999.0,9,-999.000,9,-999.0000,9, -999.00,9, -999.00,9,  -999.0,9,  -999.0,-999.000,9,-999.000,     -999.0,-999.0000,-999.000,     3.1781,-999.000
  316N138_4,       P06C,     180,          1,          5,        131,2,19920703,       0446,   -32.4992,  -178.9155,       1994,  1614.5,   3.0098,  34.5583,2,  34.5565,2,    162.5,2,   162.9,2,   86.02,2,   34.13,2,   -0.01,2, -999.00,5,-999.000,5,-999.000,5,  -999.0,9,  -999.0,9,-999.000,9,-999.0000,9, -999.00,9, -999.00,9,  -999.0,9,  -999.0,-999.000,9,-999.000,     -999.0,-999.0000,-999.000,     2.8922,-999.000
  316N138_4,       P06C,     180,          1,          4,        104,2,19920703,       0446,   -32.4992,  -178.9155,       1994,  1717.1,   2.7908,  34.5885,2,  34.5865,2,    159.2,2,   158.9,2,   93.82,2,   34.49,2,    0.00,2, -999.00,5,-999.000,5,-999.000,5,  -999.0,9,  -999.0,9,-999.000,9,-999.0000,9, -999.00,9, -999.00,9,  -999.0,9,  -999.0,-999.000,9,-999.000,     -999.0,-999.0000,-999.000,     2.6673,-999.000
  316N138_4,       P06C,     180,          1,          3,        130,2,19920703,       0446,   -32.4992,  -178.9155,       1994,  1819.2,   2.6652,  34.6027,2,  34.6022,2,    157.9,2,   166.9,3,   98.76,2,   34.63,2,    0.00,2, -999.00,5,-999.000,5,-999.000,5,  -999.0,9,  -999.0,9,-999.000,9,-999.0000,9, -999.00,9, -999.00,9,  -999.0,9,  -999.0,-999.000,9,-999.000,     -999.0,-999.0000,-999.000,     2.5345,-999.000
  316N138_4,       P06C,     180,          1,          2,        135,2,19920703,       0446,   -32.4992,  -178.9155,       1994,  1921.4,   2.5287,  34.6171,2,  34.6160,2,    155.3,2,   157.8,2,  103.50,2,   34.82,2,    0.01,2, -999.00,5,-999.000,5,-999.000,5,  -999.0,9,  -999.0,9,-999.000,9,-999.0000,9, -999.00,9, -999.00,9,  -999.0,9,  -999.0,-999.000,9,-999.000,     -999.0,-999.0000,-999.000,     2.3911,-999.000
  316N138_4,       P06C,     180,          1,          1,        134,2,19920703,       0446,   -32.4992,  -178.9155,       1994,  1978.1,   2.3987,  34.6291,2,  34.6288,2,    153.1,2,   159.7,4,  107.16,2,   34.91,2,    0.01,2, -999.00,5,-999.000,5,-999.000,5,  -999.0,9,  -999.0,9,-999.000,9,-999.0000,9, -999.00,9, -999.00,9,  -999.0,9,  -999.0,-999.000,9,-999.000,     -999.0,-999.0000,-999.000,     2.2581,-999.000