BOTTLE,20211025CCHSIORKP
EXPOCODE,SECT_ID,STNNBR,CASTNO,SAMPNO,BTLNBR,BTLNBR_FLAG_W,DATE,TIME,LATITUDE,LONGITUDE,DEPTH,CTDPRS,CTDTMP,CTDSAL,CTDSAL_FLAG_W,SALNTY,SALNTY_FLAG_W,CTDOXY,CTDOXY_FLAG_W,OXYGEN,OXYGEN_FLAG_W,SILCAT,SILCAT_FLAG_W,NITRAT,NITRAT_FLAG_W,NITRIT,NITRIT_FLAG_W,PHSPHT,PHSPHT_FLAG_W,CFC-11,CFC-11_FLAG_W,CFC-12,CFC-12_FLAG_W,TCARBN,TCARBN_FLAG_W,PCO2,PCO2_FLAG_W,TRITUM,TRITUM_FLAG_W,HELIUM,HELIUM_FLAG_W,DELHE3,DELHE3_FLAG_W,DELC13,DELC13_FLAG_W,DELC14,DELC14_FLAG_W,C14ERR,NEON,NEON_FLAG_W,NEONER,PCO2TMP,HELIER,DELHER,THETA,TRITER
,,,,,,,,,,,METERS,DBAR,ITS-90,PSS-78,,PSS-78,,UMOL/KG,,UMOL/KG,,UMOL/KG,,UMOL/KG,,UMOL/KG,,UMOL/KG,,PMOL/KG,,PMOL/KG,,UMOL/KG,,UATM,,TU,,NMOL/KG,,PERCNT,,/MILLE,,/MILLE,,/MILLE,NMOL/KG,,NMOL/KG,DEG_C,NMOL/KG,PERCNT,ITS-90,TU
  316N138_4,       P06C,      95,          1,         36,    02-9121,2,19920607,       1000,   -32.4997,  -126.6607,       2347,    17.9,  20.0103,  35.3549,2,  35.3583,2,    236.6,2,   226.1,2,    0.21,2,    0.02,2,    0.00,2,    0.09,2,-999.000,9,-999.000,9,  -999.0,9,  -999.0,9,-999.000,9,-999.0000,9, -999.00,9, -999.00,9,  -999.0,9,  -999.0,-999.000,9,-999.000,     -999.0,-999.0000,-999.000,    20.0070,-999.000
  316N138_4,       P06C,      95,          1,         35,    02-9454,2,19920607,       1000,   -32.4997,  -126.6607,       2347,    46.3,  20.0112,  35.3558,2,  35.3557,2,    227.0,2,   226.4,2,    0.21,2,    0.02,2,    0.00,2,    0.11,2,-999.000,9,-999.000,9,  -999.0,9,  -999.0,9,-999.000,9,-999.0000,9, -999.00,9, -999.00,9,  -999.0,9,  -999.0,-999.000,9,-999.000,     -999.0,-999.0000,-999.000,    20.0027,-999.000
  316N138_4,       P06C,      95,          1,         34,    02-9457,2,19920607,       1000,   -32.4997,  -126.6607,       2347,    87.9,  18.6139,  35.2824,2,  35.2854,2,    236.8,2,   239.0,2,    0.21,2,    0.02,2,    0.00,2,    0.12,2,-999.000,9,-999.000,9,  -999.0,9,  -999.0,9,-999.000,9,-999.0000,9, -999.00,9, -999.00,9,  -999.0,9,  -999.0,-999.000,9,-999.000,     -999.0,-999.0000,-999.000,    18.5985,-999.000
  316N138_4,       P06C,      95,          1,         33,    02-5367,2,19920607,       1000,   -32.4997,  -126.6607,       2347,   117.8,  17.0647,  35.1697,2,  35.1736,2,    240.8,2,   237.2,2,    0.22,2,    0.05,2,    0.02,2,    0.17,2,-999.000,9,-999.000,9,  -999.0,9,  -999.0,9,-999.000,9,-999.0000,9, -999.00,9, -999.00,9,  -999.0,9,  -999.0,-999.000,9,-999.000,     -999.0,-999.0000,-999.000,    17.0452,-999.000
  316N138_4,       P06C,      95,          1,         32,    02-9540,2,19920607,       1000,   -32.4997,  -126.6607,       2347,   155.1,  15.8264,  35.0807,2,  35.0886,2,    234.4,2,   225.7,2,    0.40,2,    0.97,2,    0.17,2,    0.28,2,-999.000,9,-999.000,9,  -999.0,9,  -999.0,9,-999.000,9,-999.0000,9, -999.00,9, -999.00,9,  -999.0,9,  -999.0,-999.000,9,-999.000,     -999.0,-999.0000,-999.000,    15.8021,-999.000
  316N138_4,       P06C,      95,          1,         31,    02-9539,2,19920607,       1000,   -32.4997,  -126.6607,       2347,   186.8,  14.9968,  34.9804,2,  34.9868,2,    221.0,2,   218.8,2,    0.58,2,    3.10,2,    0.04,2,    0.41,2,-999.000,9,-999.000,9,  -999.0,9,  -999.0,9,-999.000,9,-999.0000,9, -999.00,9, -999.00,9,  -999.0,9,  -999.0,-999.000,9,-999.000,     -999.0,-999.0000,-999.000,    14.9685,-999.000
  316N138_4,       P06C,      95,          1,         30,    02-9456,2,19920607,       1000,   -32.4997,  -126.6607,       2347,   228.1,  13.9874,  34.9381,2,  34.9406,2,    210.0,2,   209.2,2,    1.11,2,    6.54,2,    0.02,2,    0.62,2,-999.000,9,-999.000,9,  -999.0,9,  -999.0,9,-999.000,9,-999.0000,9, -999.00,9, -999.00,9,  -999.0,9,  -999.0,-999.000,9,-999.000,     -999.0,-999.0000,-999.000,    13.9545,-999.000
  316N138_4,       P06C,      95,          1,         29,    02-9458,2,19920607,       1000,   -32.4997,  -126.6607,       2347,   270.4,  12.9377,  34.8504,2,  34.8534,2,    205.7,2,   204.2,2,    1.64,2,    9.18,2,    0.02,2,    0.78,2,-999.000,9,-999.000,9,  -999.0,9,  -999.0,9,-999.000,9,-999.0000,9, -999.00,9, -999.00,9,  -999.0,9,  -999.0,-999.000,9,-999.000,     -999.0,-999.0000,-999.000,    12.9005,-999.000
  316N138_4,       P06C,      95,          1,         28,    02-9545,2,19920607,       1000,   -32.4997,  -126.6607,       2347,   309.9,  11.3989,  34.6983,2,  34.7113,2,    207.4,2,   204.7,2,    2.34,2,   12.42,2,    0.02,2,    0.97,2,-999.000,9,-999.000,9,  -999.0,9,  -999.0,9,-999.000,9,-999.0000,9, -999.00,9, -999.00,9,  -999.0,9,  -999.0,-999.000,9,-999.000,     -999.0,-999.0000,-999.000,    11.3598,-999.000
  316N138_4,       P06C,      95,          1,         27,    02-9453,2,19920607,       1000,   -32.4997,  -126.6607,       2347,   344.4,  10.2158,  34.6281,2,  34.6077,2,    212.2,2,   207.7,2,    3.06,2,   15.22,2,    0.02,2,    1.13,2,-999.000,9,-999.000,9,  -999.0,9,  -999.0,9,-999.000,9,-999.0000,9, -999.00,9, -999.00,9,  -999.0,9,  -999.0,-999.000,9,-999.000,     -999.0,-999.0000,-999.000,    10.1753,-999.000
  316N138_4,       P06C,      95,          1,         26,    02-9544,2,19920607,       1000,   -32.4997,  -126.6607,       2347,   384.2,   9.0484,  34.5064,2,  34.5085,2,    219.0,2,   213.6,2,    4.11,2,   17.87,2,    0.02,2,    1.28,2,-999.000,9,-999.000,9,  -999.0,9,  -999.0,9,-999.000,9,-999.0000,9, -999.00,9, -999.00,9,  -999.0,9,  -999.0,-999.000,9,-999.000,     -999.0,-999.0000,-999.000,     9.0064,-999.000
  316N138_4,       P06C,      95,          1,         25,    02-9455,2,19920607,       1000,   -32.4997,  -126.6607,       2347,   421.1,   8.2399,  34.4498,2,  34.4506,2,    224.8,2,   221.7,2,    4.82,2,   19.54,2,    0.02,2,    1.39,2,-999.000,9,-999.000,9,  -999.0,9,  -999.0,9,-999.000,9,-999.0000,9, -999.00,9, -999.00,9,  -999.0,9,  -999.0,-999.000,9,-999.000,     -999.0,-999.0000,-999.000,     8.1963,-999.000
  316N138_4,       P06C,      95,          1,          1,        134,2,19920607,       1000,   -32.4997,  -126.6607,       2347,   457.9,   7.6102,  34.4076,2,  34.4059,2,    230.9,2,   233.2,2,    5.36,2,   20.60,2,   -0.01,2,    1.43,2,-999.000,9,-999.000,9,  -999.0,9,  -999.0,9,-999.000,9,-999.0000,9, -999.00,9, -999.00,9,  -999.0,9,  -999.0,-999.000,9,-999.000,     -999.0,-999.0000,-999.000,     7.5648,-999.000
  316N138_4,       P06C,      95,          1,         24,        132,2,19920607,       1000,   -32.4997,  -126.6607,       2347,   498.0,   7.2302,  34.3900,2,  34.3910,2,    235.8,2,   236.1,2,    5.87,2,   21.30,2,    0.01,2,    1.49,2,-999.000,9,-999.000,9,  -999.0,9,  -999.0,9,-999.000,9,-999.0000,9, -999.00,9, -999.00,9,  -999.0,9,  -999.0,-999.000,9,-999.000,     -999.0,-999.0000,-999.000,     7.1821,-999.000
  316N138_4,       P06C,      95,          1,         23,        123,2,19920607,       1000,   -32.4997,  -126.6607,       2347,   572.6,   6.7032,  34.3614,2,  34.3651,2,    244.2,2,   241.9,2,    6.94,2,   22.31,2,    0.01,2,    1.54,2,-999.000,9,-999.000,9,  -999.0,9,  -999.0,9,-999.000,9,-999.0000,9, -999.00,9, -999.00,9,  -999.0,9,  -999.0,-999.000,9,-999.000,     -999.0,-999.0000,-999.000,     6.6500,-999.000
  316N138_4,       P06C,      95,          1,         22,        128,2,19920607,       1000,   -32.4997,  -126.6607,       2347,   645.3,   6.3672,  34.3428,2,  34.3484,2,    247.0,2,   245.5,2,    7.99,2,   23.02,2,    0.01,2,    1.59,2,-999.000,9,-999.000,9,  -999.0,9,  -999.0,9,-999.000,9,-999.0000,9, -999.00,9, -999.00,9,  -999.0,9,  -999.0,-999.000,9,-999.000,     -999.0,-999.0000,-999.000,     6.3085,-999.000
  316N138_4,       P06C,      95,          1,         21,        121,2,19920607,       1000,   -32.4997,  -126.6607,       2347,   718.7,   5.9690,  34.3137,2,  34.3211,2,    245.4,2,   243.2,2,    9.75,2,   24.32,2,    0.01,2,    1.67,2,-999.000,9,-999.000,9,  -999.0,9,  -999.0,9,-999.000,9,-999.0000,9, -999.00,9, -999.00,9,  -999.0,9,  -999.0,-999.000,9,-999.000,     -999.0,-999.0000,-999.000,     5.9054,-999.000
  316N138_4,       P06C,      95,          1,         20,        120,2,19920607,       1000,   -32.4997,  -126.6607,       2347,   886.5,   5.0517,  34.2939,2,  34.2995,2,    223.9,2,   221.1,2,   18.89,2,   28.24,2,    0.01,2,    1.93,2,-999.000,9,-999.000,9,  -999.0,9,  -999.0,9,-999.000,9,-999.0000,9, -999.00,9, -999.00,9,  -999.0,9,  -999.0,-999.000,9,-999.000,     -999.0,-999.0000,-999.000,     4.9785,-999.000
  316N138_4,       P06C,      95,          1,         19,        133,2,19920607,       1000,   -32.4997,  -126.6607,       2347,   962.3,   4.7034,  34.3012,2,  34.3034,2,    209.7,2,   209.9,2,   24.52,2,   29.99,2,    0.00,2,    2.06,2,-999.000,9,-999.000,9,  -999.0,9,  -999.0,9,-999.000,9,-999.0000,9, -999.00,9, -999.00,9,  -999.0,9,  -999.0,-999.000,9,-999.000,     -999.0,-999.0000,-999.000,     4.6260,-999.000
  316N138_4,       P06C,      95,          1,         18,        118,2,19920607,       1000,   -32.4997,  -126.6607,       2347,  1036.7,   4.3760,  34.3201,2,  34.3182,2,    200.1,2,   199.1,2,   30.32,2,   31.39,2,   -0.01,2,    2.15,2,-999.000,9,-999.000,9,  -999.0,9,  -999.0,9,-999.000,9,-999.0000,9, -999.00,9, -999.00,9,  -999.0,9,  -999.0,-999.000,9,-999.000,     -999.0,-999.0000,-999.000,     4.2947,-999.000
  316N138_4,       P06C,      95,          1,         17,        117,2,19920607,       1000,   -32.4997,  -126.6607,       2347,  1118.1,   3.8048,  34.3724,2,  34.3711,2,    186.8,3,   180.8,2,   43.86,2,   33.59,2,    0.00,2,    2.32,2,-999.000,9,-999.000,9,  -999.0,9,  -999.0,9,-999.000,9,-999.0000,9, -999.00,9, -999.00,9,  -999.0,9,  -999.0,-999.000,9,-999.000,     -999.0,-999.0000,-999.000,     3.7211,-999.000
  316N138_4,       P06C,      95,          1,         16,        116,2,19920607,       1000,   -32.4997,  -126.6607,       2347,  1195.6,   3.5749,  34.3959,2,  34.3959,2,    176.3,2,   174.0,2,   50.35,2,   34.37,2,    0.00,2,    2.37,2,-999.000,9,-999.000,9,  -999.0,9,  -999.0,9,-999.000,9,-999.0000,9, -999.00,9, -999.00,9,  -999.0,9,  -999.0,-999.000,9,-999.000,     -999.0,-999.0000,-999.000,     3.4869,-999.000
  316N138_4,       P06C,      95,          1,         15,        115,2,19920607,       1000,   -32.4997,  -126.6607,       2347,  1269.0,   3.3287,  34.4286,2,  34.4281,2,    171.3,2,   168.4,3,   57.56,2,   34.90,2,    0.00,2,    2.41,2,-999.000,9,-999.000,9,  -999.0,9,  -999.0,9,-999.000,9,-999.0000,9, -999.00,9, -999.00,9,  -999.0,9,  -999.0,-999.000,9,-999.000,     -999.0,-999.0000,-999.000,     3.2368,-999.000
  316N138_4,       P06C,      95,          1,         14,        114,2,19920607,       1000,   -32.4997,  -126.6607,       2347,  1343.3,   3.1198,  34.4617,2,  34.4624,2,    167.0,2,   164.8,3,   64.42,2,   35.24,2,    0.00,2,    2.44,2,-999.000,9,-999.000,9,  -999.0,9,  -999.0,9,-999.000,9,-999.0000,9, -999.00,9, -999.00,9,  -999.0,9,  -999.0,-999.000,9,-999.000,     -999.0,-999.0000,-999.000,     3.0238,-999.000
  316N138_4,       P06C,      95,          1,         13,        125,2,19920607,       1000,   -32.4997,  -126.6607,       2347,  1417.0,   2.9226,  34.4927,2,  34.5250,3,    164.7,2,   164.4,2,   70.74,3,   35.19,3,    0.00,3,    2.45,3,-999.000,9,-999.000,9,  -999.0,9,  -999.0,9,-999.000,9,-999.0000,9, -999.00,9, -999.00,9,  -999.0,9,  -999.0,-999.000,9,-999.000,     -999.0,-999.0000,-999.000,     2.8220,-999.000
  316N138_4,       P06C,      95,          1,         12,        112,2,19920607,       1000,   -32.4997,  -126.6607,       2347,  1492.8,   2.7488,  34.5233,2,  34.5250,3,    165.4,3,   164.0,2,   77.41,3,   35.03,3,    0.01,3,    2.45,3,-999.000,9,-999.000,9,  -999.0,9,  -999.0,9,-999.000,9,-999.0000,9, -999.00,9, -999.00,9,  -999.0,9,  -999.0,-999.000,9,-999.000,     -999.0,-999.0000,-999.000,     2.6446,-999.000
  316N138_4,       P06C,      95,          1,         11,        129,2,19920607,       1000,   -32.4997,  -126.6607,       2347,  1569.8,   2.6129,  34.5515,2,  34.5710,3,    163.4,2,   162.2,2,   83.39,3,   34.99,3,    0.01,3,    2.46,3,-999.000,9,-999.000,9,  -999.0,9,  -999.0,9,-999.000,9,-999.0000,9, -999.00,9, -999.00,9,  -999.0,9,  -999.0,-999.000,9,-999.000,     -999.0,-999.0000,-999.000,     2.5039,-999.000
  316N138_4,       P06C,      95,          1,         10,        110,2,19920607,       1000,   -32.4997,  -126.6607,       2347,  1644.6,   2.5001,  34.5772,2,  34.5914,3,    161.9,2,   160.4,2,   88.65,3,   35.01,3,   -0.01,3,    2.47,3,-999.000,9,-999.000,9,  -999.0,9,  -999.0,9,-999.000,9,-999.0000,9, -999.00,9, -999.00,9,  -999.0,9,  -999.0,-999.000,9,-999.000,     -999.0,-999.0000,-999.000,     2.3863,-999.000
  316N138_4,       P06C,      95,          1,          9,        126,2,19920607,       1000,   -32.4997,  -126.6607,       2347,  1721.0,   2.4009,  34.5912,2,  34.6254,3,    159.6,2,   158.2,2,   94.27,3,   35.01,3,    0.00,3,    2.48,3,-999.000,9,-999.000,9,  -999.0,9,  -999.0,9,-999.000,9,-999.0000,9, -999.00,9, -999.00,9,  -999.0,9,  -999.0,-999.000,9,-999.000,     -999.0,-999.0000,-999.000,     2.2821,-999.000
  316N138_4,       P06C,      95,          1,          8,        108,2,19920607,       1000,   -32.4997,  -126.6607,       2347,  1781.0,   2.3339,  34.6024,2,  34.6231,3,    156.6,2,   157.4,2,   97.22,3,   35.15,3,    0.00,3,    2.49,3,-999.000,9,-999.000,9,  -999.0,9,  -999.0,9,-999.000,9,-999.0000,9, -999.00,9, -999.00,9,  -999.0,9,  -999.0,-999.000,9,-999.000,     -999.0,-999.0000,-999.000,     2.2110,-999.000
  316N138_4,       P06C,      95,          1,          7,        107,2,19920607,       1000,   -32.4997,  -126.6607,       2347,  1880.0,   2.1890,  34.6218,2,  34.6219,2,    150.3,3,   155.8,2,  105.16,2,   35.16,2,    0.00,2,    2.49,2,-999.000,9,-999.000,9,  -999.0,9,  -999.0,9,-999.000,9,-999.0000,9, -999.00,9, -999.00,9,  -999.0,9,  -999.0,-999.000,9,-999.000,     -999.0,-999.0000,-999.000,     2.0598,-999.000
  316N138_4,       P06C,      95,          1,          6,        180,2,19920607,       1000,   -32.4997,  -126.6607,       2347,  1983.9,   2.1179,  34.6307,2,  34.6317,2,    156.8,2,   156.1,2,  108.50,2,   35.25,2,    0.00,2,    2.49,2,-999.000,9,-999.000,9,  -999.0,9,  -999.0,9,-999.000,9,-999.0000,9, -999.00,9, -999.00,9,  -999.0,9,  -999.0,-999.000,9,-999.000,     -999.0,-999.0000,-999.000,     1.9810,-999.000
  316N138_4,       P06C,      95,          1,          5,        131,2,19920607,       1000,   -32.4997,  -126.6607,       2347,  2087.0,   2.0393,  34.6397,2,  34.6403,2,    156.5,2,   156.4,2,  111.83,2,   35.30,2,   -0.01,2,    2.50,2,-999.000,9,-999.000,9,  -999.0,9,  -999.0,9,-999.000,9,-999.0000,9, -999.00,9, -999.00,9,  -999.0,9,  -999.0,-999.000,9,-999.000,     -999.0,-999.0000,-999.000,     1.8949,-999.000
  316N138_4,       P06C,      95,          1,          4,        104,2,19920607,       1000,   -32.4997,  -126.6607,       2347,  2189.6,   1.9719,  34.6448,2,  34.6455,2,    157.4,2,   156.8,2,  114.29,2,   35.26,2,   -0.01,2,    2.49,2,-999.000,9,-999.000,9,  -999.0,9,  -999.0,9,-999.000,9,-999.0000,9, -999.00,9, -999.00,9,  -999.0,9,  -999.0,-999.000,9,-999.000,     -999.0,-999.0000,-999.000,     1.8197,-999.000
  316N138_4,       P06C,      95,          1,          3,        130,2,19920607,       1000,   -32.4997,  -126.6607,       2347,  2387.0,   1.8676,  34.6558,2,  34.6561,2,    159.0,2,   158.4,2,  117.81,2,   35.26,2,   -0.01,2,    2.49,2,-999.000,9,-999.000,9,  -999.0,9,  -999.0,9,-999.000,9,-999.0000,9, -999.00,9, -999.00,9,  -999.0,9,  -999.0,-999.000,9,-999.000,     -999.0,-999.0000,-999.000,     1.6998,-999.000
  316N138_4,       P06C,      95,          1,          2,        135,2,19920607,       1000,   -32.4997,  -126.6607,       2347,  2438.3,   1.8494,  34.6579,2,  34.6592,2,    159.1,2,   158.9,2,  118.33,2,   35.20,2,    0.00,2,    2.50,2,-999.000,9,-999.000,9,  -999.0,9,  -999.0,9,-999.000,9,-999.0000,9, -999.00,9, -999.00,9,  -999.0,9,  -999.0,-999.000,9,-999.000,     -999.0,-999.0000,-999.000,     1.6774,-999.000