BOTTLE,20211025CCHSIORKP
EXPOCODE,SECT_ID,STNNBR,CASTNO,SAMPNO,BTLNBR,BTLNBR_FLAG_W,DATE,TIME,LATITUDE,LONGITUDE,DEPTH,CTDPRS,CTDTMP,CTDSAL,CTDSAL_FLAG_W,SALNTY,SALNTY_FLAG_W,CTDOXY,CTDOXY_FLAG_W,OXYGEN,OXYGEN_FLAG_W,SILCAT,SILCAT_FLAG_W,NITRAT,NITRAT_FLAG_W,NITRIT,NITRIT_FLAG_W,PHSPHT,PHSPHT_FLAG_W,CFC-11,CFC-11_FLAG_W,CFC-12,CFC-12_FLAG_W,TCARBN,TCARBN_FLAG_W,PCO2,PCO2_FLAG_W,TRITUM,TRITUM_FLAG_W,HELIUM,HELIUM_FLAG_W,DELHE3,DELHE3_FLAG_W,DELC13,DELC13_FLAG_W,DELC14,DELC14_FLAG_W,C14ERR,NEON,NEON_FLAG_W,NEONER,PCO2TMP,HELIER,DELHER,THETA,TRITER
,,,,,,,,,,,METERS,DBAR,ITS-90,PSS-78,,PSS-78,,UMOL/KG,,UMOL/KG,,UMOL/KG,,UMOL/KG,,UMOL/KG,,UMOL/KG,,PMOL/KG,,PMOL/KG,,UMOL/KG,,UATM,,TU,,NMOL/KG,,PERCNT,,/MILLE,,/MILLE,,/MILLE,NMOL/KG,,NMOL/KG,DEG_C,NMOL/KG,PERCNT,ITS-90,TU
  316N138_4,       P06C,     110,          1,         24,        132,2,19920611,       1837,   -32.4897,  -136.6668,       4328,    20.4,  18.8830,  35.2544,2,-999.0000,9,    232.3,2,  -999.0,9, -999.00,9, -999.00,9, -999.00,9, -999.00,9,-999.000,9,-999.000,9,  -999.0,9,  -999.0,9,-999.000,9,-999.0000,9, -999.00,9, -999.00,9,  -999.0,9,  -999.0,-999.000,9,-999.000,     -999.0,-999.0000,-999.000,    18.8794,-999.000
  316N138_4,       P06C,     110,          1,         23,        123,2,19920611,       1837,   -32.4897,  -136.6668,       4328,    51.0,  18.8864,  35.2545,2,  35.2589,2,    232.6,2,   229.9,2,    0.35,2,    0.00,2,    0.00,2,    0.12,2,   2.361,6,   1.311,6,  2017.4,2,   328.8,2,-999.000,9,-999.0000,9, -999.00,9, -999.00,9,  -999.0,9,  -999.0,-999.000,9,-999.000,      20.30,-999.0000,-999.000,    18.8774,-999.000
  316N138_4,       P06C,     110,          1,         22,        128,2,19920611,       1837,   -32.4897,  -136.6668,       4328,    90.8,  18.8784,  35.2541,2,  35.2556,2,    231.8,2,   228.7,2,    0.35,2,    0.05,2,    0.00,2,    0.13,2,   2.414,2,-999.000,5,  2018.3,2,  -999.0,9,-999.000,9,-999.0000,9, -999.00,9, -999.00,9,  -999.0,9,  -999.0,-999.000,9,-999.000,     -999.0,-999.0000,-999.000,    18.8623,-999.000
  316N138_4,       P06C,     110,          1,         21,        121,2,19920611,       1837,   -32.4897,  -136.6668,       4328,   116.4,  17.0392,  35.1356,2,  35.1400,2,    237.6,2,   239.2,2,    0.35,2,    0.05,2,    0.00,2,    0.17,2,   2.587,2,   1.330,2,  2026.5,2,   349.7,2,-999.000,9,-999.0000,9, -999.00,9, -999.00,9,  -999.0,9,  -999.0,-999.000,9,-999.000,      20.30,-999.0000,-999.000,    17.0199,-999.000
  316N138_4,       P06C,     110,          1,         20,        120,2,19920611,       1837,   -32.4897,  -136.6668,       4328,   155.9,  16.1367,  35.1000,2,  35.1020,2,    225.4,2,   228.7,2,    0.35,2,    0.21,2,    0.16,2,    0.23,2,   2.590,2,-999.000,5,  2039.5,2,  -999.0,9,-999.000,9,-999.0000,9, -999.00,9, -999.00,9,  -999.0,9,  -999.0,-999.000,9,-999.000,     -999.0,-999.0000,-999.000,    16.1119,-999.000
  316N138_4,       P06C,     110,          1,         19,        133,2,19920611,       1837,   -32.4897,  -136.6668,       4328,   205.0,  15.1991,  35.0664,2,  35.0711,2,    216.5,2,   215.2,2,    0.70,2,    3.02,2,    0.01,2,    0.40,2,-999.000,9,-999.000,9,  2056.8,2,   417.7,2,-999.000,9,-999.0000,9, -999.00,9, -999.00,9,  -999.0,9,  -999.0,-999.000,9,-999.000,      20.30,-999.0000,-999.000,    15.1678,-999.000
  316N138_4,       P06C,     110,          1,         18,        118,2,19920611,       1837,   -32.4897,  -136.6668,       4328,   256.2,  13.6796,  34.9608,2,  34.9675,2,    197.7,2,   199.5,2,    1.41,2,    7.62,2,    0.01,2,    0.67,2,   2.035,2,   1.024,2,  2082.2,6,  -999.0,9,-999.000,9,-999.0000,9, -999.00,9, -999.00,9,  -999.0,9,  -999.0,-999.000,9,-999.000,     -999.0,-999.0000,-999.000,    13.6431,-999.000
  316N138_4,       P06C,     110,          1,         17,        117,2,19920611,       1837,   -32.4897,  -136.6668,       4328,   302.4,  12.3330,  34.8276,2,  34.8292,2,    201.2,2,   199.9,2,    2.10,2,   10.55,2,    0.01,2,    0.88,2,   1.888,2,   0.931,2,  2093.4,2,  -999.0,9,-999.000,9,-999.0000,9, -999.00,9, -999.00,9,  -999.0,9,  -999.0,-999.000,9,-999.000,     -999.0,-999.0000,-999.000,    12.2927,-999.000
  316N138_4,       P06C,     110,          1,         16,        116,2,19920611,       1837,   -32.4897,  -136.6668,       4328,   349.0,  10.5950,  34.6125,2,  34.6506,2,    202.6,2,   204.5,2,    2.98,2,   14.32,2,    0.00,2,    1.08,2,   1.721,2,   0.900,2,  2107.3,2,   605.7,2,-999.000,9,-999.0000,9, -999.00,9, -999.00,9,  -999.0,9,  -999.0,-999.000,9,-999.000,      20.30,-999.0000,-999.000,    10.5529,-999.000
  316N138_4,       P06C,     110,          1,         15,        115,2,19920611,       1837,   -32.4897,  -136.6668,       4328,   397.5,   9.1946,  34.5214,2,  34.5349,2,    211.0,2,   212.8,2,    3.86,2,   17.31,2,    0.01,2,    1.25,2,   1.633,2,   0.842,2,  2116.4,2,  -999.0,9,-999.000,9,-999.0000,9, -999.00,9, -999.00,9,  -999.0,9,  -999.0,-999.000,9,-999.000,     -999.0,-999.0000,-999.000,     9.1506,-999.000
  316N138_4,       P06C,     110,          1,         14,        114,2,19920611,       1837,   -32.4897,  -136.6668,       4328,   447.7,   8.0365,  34.4377,2,  34.4424,2,    222.9,2,   224.6,2,    4.90,2,   19.67,2,    0.00,2,    1.40,2,   1.638,2,   0.843,2,  2123.8,2,  -999.0,9,-999.000,9,-999.0000,9, -999.00,9, -999.00,9,  -999.0,9,  -999.0,-999.000,9,-999.000,     -999.0,-999.0000,-999.000,     7.9907,-999.000
  316N138_4,       P06C,     110,          1,         13,        125,2,19920611,       1837,   -32.4897,  -136.6668,       4328,   501.3,   7.3196,  34.4000,2,  34.4027,2,    230.2,2,   232.8,2,    5.96,2,   21.00,2,    0.01,2,    1.47,2,   1.661,2,   0.798,2,  2127.1,2,   692.4,2,-999.000,9,-999.0000,9, -999.00,9, -999.00,9,  -999.0,9,  -999.0,-999.000,9,-999.000,      20.30,-999.0000,-999.000,     7.2709,-999.000
  316N138_4,       P06C,     110,          1,         12,        112,2,19920611,       1837,   -32.4897,  -136.6668,       4328,   551.5,   6.9627,  34.3822,2,  34.3876,2,    236.2,2,   236.2,2,    6.66,2,   21.66,2,    0.00,2,    1.50,2,   1.515,2,-999.000,5,  2128.9,2,  -999.0,9,-999.000,9,-999.0000,9, -999.00,9, -999.00,9,  -999.0,9,  -999.0,-999.000,9,-999.000,     -999.0,-999.0000,-999.000,     6.9104,-999.000
  316N138_4,       P06C,     110,          1,         11,        129,2,19920611,       1837,   -32.4897,  -136.6668,       4328,   595.2,   6.7093,  34.3667,2,  34.3719,2,    237.0,2,   238.9,2,    7.36,2,   22.25,2,    0.00,2,    1.54,2,   1.310,2,   0.657,2,  2130.6,2,  -999.0,9,-999.000,9,-999.0000,9, -999.00,9, -999.00,9,  -999.0,9,  -999.0,-999.000,9,-999.000,     -999.0,-999.0000,-999.000,     6.6539,-999.000
  316N138_4,       P06C,     110,          1,         10,        110,2,19920611,       1837,   -32.4897,  -136.6668,       4328,   690.8,   6.1756,  34.3339,2,  34.3343,2,    239.3,2,   239.2,2,    9.29,2,   23.75,2,    0.00,2,    1.63,2,   0.851,2,   0.479,2,  2135.5,2,   732.7,6,-999.000,9,-999.0000,9, -999.00,9, -999.00,9,  -999.0,9,  -999.0,-999.000,9,-999.000,      20.30,-999.0000,-999.000,     6.1136,-999.000
  316N138_4,       P06C,     110,          1,          9,        126,2,19920611,       1837,   -32.4897,  -136.6668,       4328,   790.4,   5.6990,  34.3054,2,  34.3082,2,    232.1,2,   236.0,2,   12.27,2,   25.42,2,    0.00,2,    1.75,2,   0.558,6,   0.297,2,  2144.6,2,  -999.0,9,-999.000,9,-999.0000,9, -999.00,9, -999.00,9,  -999.0,9,  -999.0,-999.000,9,-999.000,     -999.0,-999.0000,-999.000,     5.6304,-999.000
  316N138_4,       P06C,     110,          1,          8,        108,2,19920611,       1837,   -32.4897,  -136.6668,       4328,   881.4,   5.2460,  34.2958,2,  34.2997,2,    221.2,2,   222.4,2,   17.35,2,   27.52,2,    0.00,2,    1.89,2,   0.330,3,-999.000,5,  2157.2,2,  -999.0,9,-999.000,9,-999.0000,9, -999.00,9, -999.00,9,  -999.0,9,  -999.0,-999.000,9,-999.000,     -999.0,-999.0000,-999.000,     5.1720,-999.000
  316N138_4,       P06C,     110,          1,          7,        107,2,19920611,       1837,   -32.4897,  -136.6668,       4328,   973.9,   4.7433,  34.3085,2,  34.3093,2,    205.9,2,   208.6,2,   25.06,2,   29.75,2,    0.00,2,    2.02,2,   0.185,6,   0.101,6,  2174.7,2,   886.9,2,-999.000,9,-999.0000,9, -999.00,9, -999.00,9,  -999.0,9,  -999.0,-999.000,9,-999.000,      20.30,-999.0000,-999.000,     4.6645,-999.000
  316N138_4,       P06C,     110,          1,          6,        180,2,19920611,       1837,   -32.4897,  -136.6668,       4328,  1127.0,   4.0575,  34.3455,2,  34.3525,2,    190.1,2,   190.5,2,   38.19,2,   32.28,2,    0.00,2,    2.21,2,   0.070,2,   0.035,2,  2200.8,2,  -999.0,9,-999.000,9,-999.0000,9, -999.00,9, -999.00,9,  -999.0,9,  -999.0,-999.000,9,-999.000,     -999.0,-999.0000,-999.000,     3.9709,-999.000
  316N138_4,       P06C,     110,          1,          5,        131,2,19920611,       1837,   -32.4897,  -136.6668,       4328,  1277.1,   3.4268,  34.4107,3,  34.4300,4,    174.8,2,   175.3,2,   53.60,2,   33.95,2,    0.01,2,    2.34,2,   0.020,6,   0.013,6,  2225.8,2,  -999.0,9,-999.000,9,-999.0000,9, -999.00,9, -999.00,9,  -999.0,9,  -999.0,-999.000,9,-999.000,     -999.0,-999.0000,-999.000,     3.3334,-999.000
  316N138_4,       P06C,     110,          1,          4,        104,2,19920611,       1837,   -32.4897,  -136.6668,       4328,  1484.0,   2.7869,  34.5141,2,  34.5156,2,    163.0,2,   164.5,2,   75.31,2,   34.75,2,    0.01,2,    2.41,2,   0.005,2,   0.001,2,  2253.2,2,  1097.5,6,-999.000,9,-999.0000,9, -999.00,9, -999.00,9,  -999.0,9,  -999.0,-999.000,9,-999.000,      20.30,-999.0000,-999.000,     2.6830,-999.000
  316N138_4,       P06C,     110,          1,          3,        130,2,19920611,       1837,   -32.4897,  -136.6668,       4328,  1676.6,   2.4802,  34.5757,2,  34.5775,2,    158.0,2,   158.3,2,   91.42,2,   35.03,2,    0.01,2,    2.45,2,-999.000,9,-999.000,9,  2271.9,2,  -999.0,9,-999.000,9,-999.0000,9, -999.00,9, -999.00,9,  -999.0,9,  -999.0,-999.000,9,-999.000,     -999.0,-999.0000,-999.000,     2.3641,-999.000
  316N138_4,       P06C,     110,          1,          2,        135,2,19920611,       1837,   -32.4897,  -136.6668,       4328,  1887.9,   2.2305,  34.6139,2,  34.6172,2,    154.8,2,   156.1,2,  105.07,2,   35.27,2,    0.01,2,    2.48,2,-999.000,9,-999.000,9,  2286.8,2,  -999.0,9,-999.000,9,-999.0000,9, -999.00,9, -999.00,9,  -999.0,9,  -999.0,-999.000,9,-999.000,     -999.0,-999.0000,-999.000,     2.1001,-999.000
  316N138_4,       P06C,     110,          1,          1,        134,2,19920611,       1837,   -32.4897,  -136.6668,       4328,  2091.7,   2.0618,  34.6357,2,  34.6419,2,    152.5,2,   155.8,2,  113.81,2,   35.45,2,    0.01,2,    2.50,2,   0.005,2,   0.002,2,  2295.4,6,  1123.0,2,-999.000,9,-999.0000,9, -999.00,9, -999.00,9,  -999.0,9,  -999.0,-999.000,9,-999.000,      20.30,-999.0000,-999.000,     1.9166,-999.000
  316N138_4,       P06C,     110,          1,         36,    02-9121,2,19920611,       1837,   -32.4897,  -136.6668,       4328,  2293.9,   1.9405,  34.6486,2,  34.6478,2,    154.2,2,   152.6,3,  118.71,2,   35.55,2,    0.01,2,    2.51,2,-999.000,9,-999.000,9,  2300.5,6,  1114.5,2,-999.000,9,-999.0000,9, -999.00,9, -999.00,9,  -999.0,9,  -999.0,-999.000,9,-999.000,      20.30,-999.0000,-999.000,     1.7798,-999.000
  316N138_4,       P06C,     110,          1,         35,    02-9454,2,19920611,       1837,   -32.4897,  -136.6668,       4328,  2497.5,   1.8434,  34.6573,2,  34.6582,2,    155.6,2,   155.3,2,  121.85,2,   35.40,2,    0.01,2,    2.50,2,-999.000,9,-999.000,9,  2302.1,2,  -999.0,9,-999.000,9,-999.0000,9, -999.00,9, -999.00,9,  -999.0,9,  -999.0,-999.000,9,-999.000,     -999.0,-999.0000,-999.000,     1.6662,-999.000
  316N138_4,       P06C,     110,          1,         34,    02-9457,2,19920611,       1837,   -32.4897,  -136.6668,       4328,  2700.4,   1.7604,  34.6650,2,  34.6649,2,    158.2,2,   157.8,2,  123.25,2,   35.30,2,    0.01,2,    2.49,2,   0.003,2,   0.003,2,  2299.2,6,  -999.0,9,-999.000,9,-999.0000,9, -999.00,9, -999.00,9,  -999.0,9,  -999.0,-999.000,9,-999.000,     -999.0,-999.0000,-999.000,     1.5663,-999.000
  316N138_4,       P06C,     110,          1,         33,    02-5367,2,19920611,       1837,   -32.4897,  -136.6668,       4328,  2906.1,   1.7008,  34.6707,2,  34.6704,2,    161.7,2,   161.3,2,  123.24,2,   34.98,2,    0.00,2,    2.47,2,-999.000,9,-999.000,9,  2299.5,2,  1092.6,6,-999.000,9,-999.0000,9, -999.00,9, -999.00,9,  -999.0,9,  -999.0,-999.000,9,-999.000,      20.30,-999.0000,-999.000,     1.4886,-999.000
  316N138_4,       P06C,     110,          1,         32,    02-9540,2,19920611,       1837,   -32.4897,  -136.6668,       4328,  3117.1,   1.6500,  34.6765,2,  34.6798,2,    164.7,2,   164.3,2,  123.75,2,   34.80,2,    0.00,2,    2.45,2,-999.000,9,-999.000,9,  2297.3,2,  -999.0,9,-999.000,9,-999.0000,9, -999.00,9, -999.00,9,  -999.0,9,  -999.0,-999.000,9,-999.000,     -999.0,-999.0000,-999.000,     1.4186,-999.000
  316N138_4,       P06C,     110,          1,         31,    02-9539,2,19920611,       1837,   -32.4897,  -136.6668,       4328,  3324.1,   1.6095,  34.6802,2,  34.6824,2,    168.2,2,   167.4,2,  123.58,2,   34.55,2,    0.00,2,    2.44,2,   0.001,2,-999.000,5,  2295.4,2,  1094.6,2,-999.000,9,-999.0000,9, -999.00,9, -999.00,9,  -999.0,9,  -999.0,-999.000,9,-999.000,      20.30,-999.0000,-999.000,     1.3585,-999.000
  316N138_4,       P06C,     110,          1,         30,    02-9456,2,19920611,       1837,   -32.4897,  -136.6668,       4328,  3532.5,   1.5671,  34.6848,2,  34.6838,2,    171.3,2,   171.5,2,  123.04,2,   34.32,2,    0.01,2,    2.41,2,-999.000,9,-999.000,9,  2292.0,2,  -999.0,9,-999.000,9,-999.0000,9, -999.00,9, -999.00,9,  -999.0,9,  -999.0,-999.000,9,-999.000,     -999.0,-999.0000,-999.000,     1.2959,-999.000
  316N138_4,       P06C,     110,          1,         29,    02-9458,2,19920611,       1837,   -32.4897,  -136.6668,       4328,  3743.7,   1.5275,  34.6893,2,  34.6895,2,    175.1,2,   175.5,2,  122.51,2,   34.08,2,    0.00,2,    2.40,2,-999.000,9,-999.000,9,  2289.9,2,  1050.4,2,-999.000,9,-999.0000,9, -999.00,9, -999.00,9,  -999.0,9,  -999.0,-999.000,9,-999.000,      20.30,-999.0000,-999.000,     1.2353,-999.000
  316N138_4,       P06C,     110,          1,         28,    02-9545,2,19920611,       1837,   -32.4897,  -136.6668,       4328,  3952.8,   1.4349,  34.6968,2,  34.6977,2,    181.9,2,   182.5,2,  121.28,2,   33.61,2,    0.00,2,    2.35,2,   0.003,6,-999.000,5,  2283.3,2,  -999.0,9,-999.000,9,-999.0000,9, -999.00,9, -999.00,9,  -999.0,9,  -999.0,-999.000,9,-999.000,     -999.0,-999.0000,-999.000,     1.1228,-999.000
  316N138_4,       P06C,     110,          1,         27,    02-9453,2,19920611,       1837,   -32.4897,  -136.6668,       4328,  4159.9,   1.3566,  34.7024,2,  34.7044,2,    187.2,2,   186.8,2,  120.22,2,   33.24,2,    0.00,2,    2.32,2,-999.000,9,-999.000,9,  2278.2,2,  1015.2,2,-999.000,9,-999.0000,9, -999.00,9, -999.00,9,  -999.0,9,  -999.0,-999.000,9,-999.000,      20.30,-999.0000,-999.000,     1.0242,-999.000
  316N138_4,       P06C,     110,          1,         26,    02-9544,2,19920611,       1837,   -32.4897,  -136.6668,       4328,  4365.5,   1.3345,  34.7048,2,  34.7070,2,    190.5,2,   190.8,2,  119.51,2,   33.09,2,    0.00,2,    2.32,2,   0.002,2,   0.009,2,  2275.7,2,  -999.0,9,-999.000,9,-999.0000,9, -999.00,9, -999.00,9,  -999.0,9,  -999.0,-999.000,9,-999.000,     -999.0,-999.0000,-999.000,     0.9799,-999.000
  316N138_4,       P06C,     110,          1,         25,    02-9455,2,19920611,       1837,   -32.4897,  -136.6668,       4328,  4396.0,   1.3350,  34.7053,2,  34.7064,2,    190.1,2,   190.0,2,  119.44,2,   33.04,2,    0.00,2,    2.29,3,   0.003,2,   0.006,2,  2277.2,2,  1013.3,2,-999.000,9,-999.0000,9, -999.00,9, -999.00,9,  -999.0,9,  -999.0,-999.000,9,-999.000,      20.30,-999.0000,-999.000,     0.9769,-999.000