BOTTLE,20211025CCHSIORKP
EXPOCODE,SECT_ID,STNNBR,CASTNO,SAMPNO,BTLNBR,BTLNBR_FLAG_W,DATE,TIME,LATITUDE,LONGITUDE,DEPTH,CTDPRS,CTDTMP,CTDSAL,CTDSAL_FLAG_W,SALNTY,SALNTY_FLAG_W,CTDOXY,CTDOXY_FLAG_W,OXYGEN,OXYGEN_FLAG_W,SILCAT,SILCAT_FLAG_W,NITRAT,NITRAT_FLAG_W,NITRIT,NITRIT_FLAG_W,PHSPHT,PHSPHT_FLAG_W,CFC-11,CFC-11_FLAG_W,CFC-12,CFC-12_FLAG_W,TCARBN,TCARBN_FLAG_W,PCO2,PCO2_FLAG_W,TRITUM,TRITUM_FLAG_W,HELIUM,HELIUM_FLAG_W,DELHE3,DELHE3_FLAG_W,DELC13,DELC13_FLAG_W,DELC14,DELC14_FLAG_W,C14ERR,NEON,NEON_FLAG_W,NEONER,PCO2TMP,HELIER,DELHER,THETA,TRITER
,,,,,,,,,,,METERS,DBAR,ITS-90,PSS-78,,PSS-78,,UMOL/KG,,UMOL/KG,,UMOL/KG,,UMOL/KG,,UMOL/KG,,UMOL/KG,,PMOL/KG,,PMOL/KG,,UMOL/KG,,UATM,,TU,,NMOL/KG,,PERCNT,,/MILLE,,/MILLE,,/MILLE,NMOL/KG,,NMOL/KG,DEG_C,NMOL/KG,PERCNT,ITS-90,TU
  316N138_4,       P06C,     145,          1,         36,    02-9121,2,19920624,       0628,   -32.4988,  -163.1637,       5223,    14.0,  17.2950,  35.4139,2,  35.4129,2,    230.7,2,   243.4,2,    0.45,2,    0.00,2,   -0.01,2,    0.11,2,   2.711,2,-999.000,9,  -999.0,9,  -999.0,9,   0.615,2,   1.7880,2,   -1.67,2, -999.00,9,  -999.0,9,  -999.0,   7.322,2,   0.017,     -999.0,   0.0040,   0.150,    17.2926,   0.004
  316N138_4,       P06C,     145,          1,         35,    02-9454,2,19920624,       0628,   -32.4988,  -163.1637,       5223,    53.5,  17.3088,  35.4144,2,  35.4137,2,    236.5,2,   236.0,2,    0.46,2,    0.00,2,   -0.01,2,    0.12,2,   2.706,6,-999.000,9,  -999.0,9,  -999.0,9,   0.659,2,   1.7870,2,   -1.74,2, -999.00,9,  -999.0,9,  -999.0,   7.323,2,   0.017,     -999.0,   0.0040,   0.150,    17.2998,   0.004
  316N138_4,       P06C,     145,          1,         34,    02-9457,2,19920624,       0628,   -32.4988,  -163.1637,       5223,   103.6,  17.2896,  35.4260,2,  35.3975,2,    234.2,2,   233.9,2,    0.61,2,    0.12,2,    0.01,2,    0.17,2,   2.749,2,-999.000,9,  -999.0,9,  -999.0,9,   0.592,2,   1.7950,2,   -1.67,2, -999.00,9,  -999.0,9,  -999.0,   7.354,2,   0.017,     -999.0,   0.0040,   0.150,    17.2724,   0.004
  316N138_4,       P06C,     145,          1,         33,    02-5367,2,19920624,       0628,   -32.4988,  -163.1637,       5223,   154.3,  15.1460,  35.3179,2,  35.3110,2,    225.0,2,   220.7,2,    1.06,2,    2.91,2,    0.01,2,    0.36,2,   2.836,2,   1.401,2,  -999.0,9,  -999.0,9,   0.600,2,   1.7990,2,   -1.33,2, -999.00,9,  -999.0,9,  -999.0,   7.509,2,   0.017,     -999.0,   0.0040,   0.150,    15.1225,   0.004
  316N138_4,       P06C,     145,          1,         32,    02-9540,2,19920624,       0628,   -32.4988,  -163.1637,       5223,   202.5,  13.9938,  35.1970,2,  35.1870,2,    211.4,2,   207.6,2,    1.82,2,    6.67,2,    0.00,2,    0.59,2,   2.585,2,   1.237,2,  -999.0,9,  -999.0,9,   0.527,2,   1.8310,2,   -1.12,2, -999.00,9,  -999.0,9,  -999.0,   7.628,2,   0.017,     -999.0,   0.0040,   0.150,    13.9645,   0.004
  316N138_4,       P06C,     145,          1,         31,    02-9539,2,19920624,       0628,   -32.4988,  -163.1637,       5223,   251.7,  12.3267,  35.0081,2,  35.0120,2,    205.0,2,   201.8,2,    2.87,2,   11.13,2,    0.00,2,    0.83,2,   2.302,2,   1.102,2,  -999.0,9,  -999.0,9,   0.429,2,   1.8260,2,   -0.86,2, -999.00,9,  -999.0,9,  -999.0,   7.673,2,   0.018,     -999.0,   0.0040,   0.150,    12.2932,   0.004
  316N138_4,       P06C,     145,          1,         30,    02-9456,2,19920624,       0628,   -32.4988,  -163.1637,       5223,   302.7,  11.1934,  34.8763,2,  34.8731,2,    201.5,2,   198.8,2,    3.93,2,   14.30,2,    0.00,2,    1.03,2,   1.857,2,   0.907,2,  -999.0,9,  -999.0,9,   0.354,2,   1.8270,2,   -0.40,2, -999.00,9,  -999.0,9,  -999.0,   7.691,2,   0.018,     -999.0,   0.0040,   0.150,    11.1555,   0.003
  316N138_4,       P06C,     145,          1,         29,    02-9458,2,19920624,       0628,   -32.4988,  -163.1637,       5223,   403.2,   8.8368,  34.5858,2,  34.5734,2,    219.7,2,   225.0,2,    4.23,2,   17.30,2,    0.00,2,    1.21,2,   2.551,2,   1.181,2,  -999.0,9,  -999.0,9,   0.290,2,   1.8420,2,   -0.63,2, -999.00,9,  -999.0,9,  -999.0,   7.847,2,   0.018,     -999.0,   0.0040,   0.150,     8.7931,   0.003
  316N138_4,       P06C,     145,          1,         28,    02-9545,2,19920624,       0628,   -32.4988,  -163.1637,       5223,   502.8,   7.7620,  34.4700,2,  34.4793,2,    230.8,2,   232.2,2,    5.43,2,   20.14,2,    0.00,2,    1.37,2,   1.879,2,   0.882,2,  -999.0,9,  -999.0,9,-999.000,9,-999.0000,9, -999.00,9, -999.00,9,  -999.0,9,  -999.0,-999.000,9,-999.000,     -999.0,-999.0000,-999.000,     7.7114,-999.000
  316N138_4,       P06C,     145,          1,         27,    02-9453,2,19920624,       0628,   -32.4988,  -163.1637,       5223,   603.6,   7.1948,  34.4278,2,  34.4275,2,    237.5,2,   236.6,2,    6.78,2,   21.59,2,    0.01,2,    1.46,2,   1.373,2,   0.675,2,  -999.0,9,  -999.0,9,   0.215,2,   1.8270,2,   -0.38,2, -999.00,9,  -999.0,9,  -999.0,   7.910,2,   0.018,     -999.0,   0.0040,   0.150,     7.1362,   0.003
  316N138_4,       P06C,     145,          1,         26,    02-9544,2,19920624,       0628,   -32.4988,  -163.1637,       5223,   705.2,   6.6913,  34.3836,2,  34.3837,2,    239.0,2,   235.9,2,    8.28,2,   23.10,2,    0.00,2,    1.54,2,   0.948,2,   0.478,2,  -999.0,9,  -999.0,9,-999.000,9,-999.0000,9, -999.00,9, -999.00,9,  -999.0,9,  -999.0,-999.000,9,-999.000,     -999.0,-999.0000,-999.000,     6.6252,-999.000
  316N138_4,       P06C,     145,          1,         25,    02-9455,2,19920624,       0628,   -32.4988,  -163.1637,       5223,   804.7,   6.1583,  34.3466,2,  34.3456,2,    234.5,2,   232.4,2,   11.13,2,   24.89,2,    0.00,2,    1.65,2,   0.597,2,   0.313,2,  -999.0,9,  -999.0,9,   0.130,2,   1.8540,2,   -0.18,2, -999.00,9,  -999.0,9,  -999.0,   8.009,2,   0.018,     -999.0,   0.0040,   0.150,     6.0855,   0.004
  316N138_4,       P06C,     145,          1,         24,        132,2,19920624,       0628,   -32.4988,  -163.1637,       5223,   905.0,   5.5364,  34.3266,2,  34.3270,2,    224.8,2,   219.2,2,   17.10,2,   27.43,2,    0.01,2,    1.84,2,   0.325,2,   0.175,2,  -999.0,9,  -999.0,9,-999.000,9,-999.0000,9, -999.00,9, -999.00,9,  -999.0,9,  -999.0,-999.000,9,-999.000,     -999.0,-999.0000,-999.000,     5.4582,-999.000
  316N138_4,       P06C,     145,          1,         23,        123,2,19920624,       0628,   -32.4988,  -163.1637,       5223,  1006.1,   4.8093,  34.3260,2,  34.3305,2,    209.8,3,   205.0,2,   26.67,2,   30.07,2,    0.00,2,    2.01,2,   0.170,2,   0.092,2,  -999.0,9,  -999.0,9,   0.035,2,   1.8970,2,    1.48,2, -999.00,9,  -999.0,9,  -999.0,   8.216,2,   0.019,     -999.0,   0.0040,   0.150,     4.7272,   0.002
  316N138_4,       P06C,     145,          1,         22,        128,2,19920624,       0628,   -32.4988,  -163.1637,       5223,  1108.5,   4.2468,  34.3493,2,  34.3499,2,    200.0,3,   195.2,2,   35.49,2,   31.78,2,    0.00,2,    2.13,2,   0.094,2,   0.054,2,  -999.0,9,  -999.0,9,   0.015,2,   1.8810,2,    2.89,2, -999.00,9,  -999.0,9,  -999.0,   8.151,2,   0.019,     -999.0,   0.0040,   0.150,     4.1602,   0.002
  316N138_4,       P06C,     145,          1,         21,        121,2,19920624,       0628,   -32.4988,  -163.1637,       5223,  1309.2,   3.3245,  34.4286,2,  34.4304,2,    180.0,2,   178.4,2,   56.54,2,   34.02,2,    0.00,2,    2.31,2,   0.004,2,   0.005,2,  -999.0,9,  -999.0,9,   0.001,2,   1.9090,2,    6.53,2, -999.00,9,  -999.0,9,  -999.0,   8.278,2,   0.019,     -999.0,   0.0040,   0.150,     3.2293,   0.002
  316N138_4,       P06C,     145,          1,         20,        120,2,19920624,       0628,   -32.4988,  -163.1637,       5223,  1511.6,   2.8127,  34.5313,2,  34.5309,2,    165.0,2,   163.2,2,   78.95,2,   34.86,2,    0.00,2,    2.38,2,  -0.002,2,   0.003,2,  -999.0,9,  -999.0,9,-999.000,9,-999.0000,9, -999.00,9, -999.00,9,  -999.0,9,  -999.0,-999.000,9,-999.000,     -999.0,-999.0000,-999.000,     2.7062,-999.000
  316N138_4,       P06C,     145,          1,         19,        133,2,19920624,       0628,   -32.4988,  -163.1637,       5223,  1715.3,   2.5059,  34.5929,2,  34.5916,2,    156.1,2,   154.9,2,   96.87,2,   35.35,2,    0.00,2,    2.46,2,   0.001,2,-999.000,9,  -999.0,9,  -999.0,9,   0.000,2,   1.9600,2,   17.71,2, -999.00,9,  -999.0,9,  -999.0,   8.405,2,   0.019,     -999.0,   0.0040,   0.150,     2.3862,   0.002
  316N138_4,       P06C,     145,          1,         18,        118,2,19920624,       0628,   -32.4988,  -163.1637,       5223,  1916.6,   2.3092,  34.6191,2,  34.6191,2,    151.3,2,   150.0,2,  108.38,2,   35.69,2,    0.00,2,    2.49,2,-999.000,5,-999.000,5,  -999.0,9,  -999.0,9,  -0.002,2,   1.9820,2,   22.20,2, -999.00,9,  -999.0,9,  -999.0,   8.416,2,   0.019,     -999.0,   0.0040,   0.150,     2.1753,   0.002
  316N138_4,       P06C,     145,          1,         17,        117,2,19920624,       0628,   -32.4988,  -163.1637,       5223,  2118.1,   2.1754,  34.6351,2,  34.6348,2,    148.4,2,   148.1,2,  115.86,2,   35.94,2,    0.00,2,    2.51,2,  -0.004,2,  -0.001,2,  -999.0,9,  -999.0,9,-999.000,9,-999.0000,9, -999.00,9, -999.00,9,  -999.0,9,  -999.0,-999.000,9,-999.000,     -999.0,-999.0000,-999.000,     2.0261,-999.000
  316N138_4,       P06C,     145,          1,         16,        116,2,19920624,       0628,   -32.4988,  -163.1637,       5223,  2319.1,   2.0688,  34.6454,2,  34.6460,2,    147.4,2,   145.5,2,  121.09,2,   36.10,2,    0.01,2,    2.54,2,-999.000,5,-999.000,5,  -999.0,9,  -999.0,9,-999.000,9,-999.0000,9, -999.00,9, -999.00,9,  -999.0,9,  -999.0,-999.000,9,-999.000,     -999.0,-999.0000,-999.000,     1.9036,-999.000
  316N138_4,       P06C,     145,          1,         15,        115,2,19920624,       0628,   -32.4988,  -163.1637,       5223,  2522.0,   1.9853,  34.6524,2,  34.6539,2,    146.8,2,   145.8,2,  124.84,2,   36.18,2,    0.01,2,    2.55,2,  -0.002,2,  -0.001,2,  -999.0,9,  -999.0,9,-999.000,9,-999.0000,9, -999.00,9, -999.00,9,  -999.0,9,  -999.0,-999.000,9,-999.000,     -999.0,-999.0000,-999.000,     1.8033,-999.000
  316N138_4,       P06C,     145,          1,         14,        114,2,19920624,       0628,   -32.4988,  -163.1637,       5223,  2723.9,   1.9089,  34.6593,2,  34.6588,2,    147.1,2,   146.8,2,  128.29,2,   36.18,2,    0.01,2,    2.55,2,-999.000,5,-999.000,5,  -999.0,9,  -999.0,9,-999.000,9,-999.0000,9, -999.00,9, -999.00,9,  -999.0,9,  -999.0,-999.000,9,-999.000,     -999.0,-999.0000,-999.000,     1.7097,-999.000
  316N138_4,       P06C,     145,          1,         13,        125,2,19920624,       0628,   -32.4988,  -163.1637,       5223,  2723.9,   1.9089,  34.6593,2,  34.6602,2,    147.1,2,   146.3,2,  128.30,2,   36.26,2,    0.01,2,    2.55,2,   0.000,2,  -0.001,2,  -999.0,9,  -999.0,9,-999.000,9,-999.0000,9, -999.00,9, -999.00,9,  -999.0,9,  -999.0,-999.000,9,-999.000,     -999.0,-999.0000,-999.000,     1.7097,-999.000
  316N138_4,       P06C,     145,          1,         12,        112,2,19920624,       0628,   -32.4988,  -163.1637,       5223,  3133.0,   1.7655,  34.6737,2,  34.6726,2,    152.7,2,   152.7,2,  129.95,2,   35.84,2,    0.02,2,    2.51,2,-999.000,5,-999.000,5,  -999.0,9,  -999.0,9,-999.000,9,-999.0000,9, -999.00,9, -999.00,9,  -999.0,9,  -999.0,-999.000,9,-999.000,     -999.0,-999.0000,-999.000,     1.5298,-999.000
  316N138_4,       P06C,     145,          1,         11,        129,2,19920624,       0628,   -32.4988,  -163.1637,       5223,  3338.4,   1.6843,  34.6847,2,  34.6844,2,    159.9,2,   160.3,2,  126.67,2,   35.13,2,    0.02,2,    2.45,2,   0.002,2,   0.003,2,  -999.0,9,  -999.0,9,-999.000,9,-999.0000,9, -999.00,9, -999.00,9,  -999.0,9,  -999.0,-999.000,9,-999.000,     -999.0,-999.0000,-999.000,     1.4301,-999.000
  316N138_4,       P06C,     145,          1,         10,        110,2,19920624,       0628,   -32.4988,  -163.1637,       5223,  3541.1,   1.5980,  34.7015,2,  34.6995,2,    173.9,2,   174.3,2,  118.92,2,   33.79,2,    0.02,2,    2.37,2,-999.000,5,-999.000,5,  -999.0,9,  -999.0,9,-999.000,9,-999.0000,9, -999.00,9, -999.00,9,  -999.0,9,  -999.0,-999.000,9,-999.000,     -999.0,-999.0000,-999.000,     1.3250,-999.000
  316N138_4,       P06C,     145,          1,          9,        126,2,19920624,       0628,   -32.4988,  -163.1637,       5223,  3541.1,   1.5980,  34.7015,2,  34.7001,2,    173.9,2,   175.0,2,  118.78,2,   33.84,2,    0.02,2,    2.36,2,  -0.002,2,  -0.003,2,  -999.0,9,  -999.0,9,-999.000,9,-999.0000,9, -999.00,9, -999.00,9,  -999.0,9,  -999.0,-999.000,9,-999.000,     -999.0,-999.0000,-999.000,     1.3250,-999.000
  316N138_4,       P06C,     145,          1,          8,        108,2,19920624,       0628,   -32.4988,  -163.1637,       5223,  3950.9,   1.4050,  34.7173,2,  34.7156,2,    195.2,2,   194.6,2,  111.62,2,   32.36,2,    0.03,2,    2.25,2,-999.000,5,-999.000,5,  -999.0,9,  -999.0,9,-999.000,9,-999.0000,9, -999.00,9, -999.00,9,  -999.0,9,  -999.0,-999.000,9,-999.000,     -999.0,-999.0000,-999.000,     1.0938,-999.000
  316N138_4,       P06C,     145,          1,          7,        107,2,19920624,       0628,   -32.4988,  -163.1637,       5223,  4156.2,   1.2912,  34.7168,2,  34.7162,2,    200.3,2,   199.7,2,  112.98,2,   32.20,2,    0.03,2,    2.24,2,  -0.004,2,  -0.002,2,  -999.0,9,  -999.0,9,-999.000,9,-999.0000,9, -999.00,9, -999.00,9,  -999.0,9,  -999.0,-999.000,9,-999.000,     -999.0,-999.0000,-999.000,     0.9611,-999.000
  316N138_4,       P06C,     145,          1,          6,        180,2,19920624,       0628,   -32.4988,  -163.1637,       5223,  4361.4,   1.1503,  34.7153,2,  34.7136,2,    204.1,2,   203.4,2,  115.98,2,   32.26,2,    0.02,2,    2.22,2,-999.000,5,-999.000,5,  -999.0,9,  -999.0,9,-999.000,9,-999.0000,9, -999.00,9, -999.00,9,  -999.0,9,  -999.0,-999.000,9,-999.000,     -999.0,-999.0000,-999.000,     0.8016,-999.000
  316N138_4,       P06C,     145,          1,          5,        131,2,19920624,       0628,   -32.4988,  -163.1637,       5223,  4565.0,   1.0559,  34.7110,2,  34.7103,2,    206.6,2,   205.4,2,  118.97,2,   32.38,2,    0.02,2,    2.25,2,   0.007,2,   0.007,2,  -999.0,9,  -999.0,9,-999.000,9,-999.0000,9, -999.00,9, -999.00,9,  -999.0,9,  -999.0,-999.000,9,-999.000,     -999.0,-999.0000,-999.000,     0.6872,-999.000
  316N138_4,       P06C,     145,          1,          4,        104,2,19920624,       0628,   -32.4988,  -163.1637,       5223,  4767.6,   1.0404,  34.7094,2,  34.7087,2,    206.6,2,   205.9,2,  119.88,2,   32.47,2,    0.01,2,    2.26,2,-999.000,5,-999.000,5,  -999.0,9,  -999.0,9,-999.000,9,-999.0000,9, -999.00,9, -999.00,9,  -999.0,9,  -999.0,-999.000,9,-999.000,     -999.0,-999.0000,-999.000,     0.6488,-999.000
  316N138_4,       P06C,     145,          1,          3,        130,2,19920624,       0628,   -32.4988,  -163.1637,       5223,  4972.8,   1.0374,  34.7091,2,  34.7085,2,    207.3,2,   206.9,2,  120.19,2,   32.43,2,    0.01,2,    2.25,2,   0.010,2,   0.012,2,  -999.0,9,  -999.0,9,-999.000,9,-999.0000,9, -999.00,9, -999.00,9,  -999.0,9,  -999.0,-999.000,9,-999.000,     -999.0,-999.0000,-999.000,     0.6219,-999.000
  316N138_4,       P06C,     145,          1,          2,        135,2,19920624,       0628,   -32.4988,  -163.1637,       5223,  5184.6,   1.0514,  34.7083,2,  34.7089,2,    207.4,2,   206.6,2,  120.50,2,   32.43,2,    0.01,2,    2.25,2,   0.008,2,   0.008,2,  -999.0,9,  -999.0,9,-999.000,9,-999.0000,9, -999.00,9, -999.00,9,  -999.0,9,  -999.0,-999.000,9,-999.000,     -999.0,-999.0000,-999.000,     0.6101,-999.000
  316N138_4,       P06C,     145,          1,          1,        XX1,2,19920624,       0628,   -32.4988,  -163.1637,       5223,  5360.3,   1.0717,  34.7078,2,  34.7085,2,    206.0,2,   206.9,2,  120.83,2,   32.39,2,    0.00,2,    2.26,2,   0.011,2,   0.006,2,  -999.0,9,  -999.0,9,-999.000,9,-999.0000,9, -999.00,9, -999.00,9,  -999.0,9,  -999.0,-999.000,9,-999.000,     -999.0,-999.0000,-999.000,     0.6081,-999.000