BOTTLE,20211025CCHSIORKP
EXPOCODE,SECT_ID,STNNBR,CASTNO,SAMPNO,BTLNBR,BTLNBR_FLAG_W,DATE,TIME,LATITUDE,LONGITUDE,DEPTH,CTDPRS,CTDTMP,CTDSAL,CTDSAL_FLAG_W,SALNTY,SALNTY_FLAG_W,CTDOXY,CTDOXY_FLAG_W,OXYGEN,OXYGEN_FLAG_W,SILCAT,SILCAT_FLAG_W,NITRAT,NITRAT_FLAG_W,NITRIT,NITRIT_FLAG_W,PHSPHT,PHSPHT_FLAG_W,CFC-11,CFC-11_FLAG_W,CFC-12,CFC-12_FLAG_W,TCARBN,TCARBN_FLAG_W,PCO2,PCO2_FLAG_W,TRITUM,TRITUM_FLAG_W,HELIUM,HELIUM_FLAG_W,DELHE3,DELHE3_FLAG_W,DELC13,DELC13_FLAG_W,DELC14,DELC14_FLAG_W,C14ERR,NEON,NEON_FLAG_W,NEONER,PCO2TMP,HELIER,DELHER,THETA,TRITER
,,,,,,,,,,,METERS,DBAR,ITS-90,PSS-78,,PSS-78,,UMOL/KG,,UMOL/KG,,UMOL/KG,,UMOL/KG,,UMOL/KG,,UMOL/KG,,PMOL/KG,,PMOL/KG,,UMOL/KG,,UATM,,TU,,NMOL/KG,,PERCNT,,/MILLE,,/MILLE,,/MILLE,NMOL/KG,,NMOL/KG,DEG_C,NMOL/KG,PERCNT,ITS-90,TU
  316N138_4,       P06C,     113,          1,         24,        132,2,19920613,       0953,   -32.4993,  -138.6638,       4584,    50.3,  18.7786,  35.3306,2,  35.3275,2,    231.9,2,   231.8,2,    0.44,2,    0.05,2,    0.00,2,    0.13,2,   2.402,2,   1.299,2,  2021.6,2,  -999.0,9,-999.000,9,-999.0000,9, -999.00,9, -999.00,9,  -999.0,9,  -999.0,-999.000,9,-999.000,     -999.0,-999.0000,-999.000,    18.7698,-999.000
  316N138_4,       P06C,     113,          1,         23,        123,2,19920613,       0953,   -32.4993,  -138.6638,       4584,    80.3,  18.7992,  35.3486,2,  35.3492,2,    233.5,2,   233.6,2,    0.44,2,    0.04,2,    0.00,2,    0.13,2,   2.368,6,   1.296,6,  2022.8,2,  -999.0,9,-999.000,9,-999.0000,9, -999.00,9, -999.00,9,  -999.0,9,  -999.0,-999.000,9,-999.000,     -999.0,-999.0000,-999.000,    18.7850,-999.000
  316N138_4,       P06C,     113,          1,         22,        128,2,19920613,       0953,   -32.4993,  -138.6638,       4584,   119.5,  17.0168,  35.3474,2,  35.2189,4,    237.9,2,   231.9,3,    0.89,2,    2.23,2,    0.02,2,    0.32,2,   2.484,2,   1.270,2,  2048.1,2,   424.6,2,-999.000,9,-999.0000,9, -999.00,9, -999.00,9,  -999.0,9,  -999.0,-999.000,9,-999.000,      20.10,-999.0000,-999.000,    16.9970,-999.000
  316N138_4,       P06C,     113,          1,         21,        121,2,19920613,       0953,   -32.4993,  -138.6638,       4584,   155.8,  16.0549,  35.2599,2,  35.2566,2,    228.1,2,   228.6,2,    0.60,2,    0.32,2,    0.15,2,    0.24,2,   2.566,2,   1.324,2,  2046.9,2,  -999.0,9,-999.000,9,-999.0000,9, -999.00,9, -999.00,9,  -999.0,9,  -999.0,-999.000,9,-999.000,     -999.0,-999.0000,-999.000,    16.0303,-999.000
  316N138_4,       P06C,     113,          1,         20,        120,2,19920613,       0953,   -32.4993,  -138.6638,       4584,   205.4,  14.9428,  35.1316,2,  35.1384,2,    214.7,2,   221.2,2,    0.89,2,    2.91,2,    0.00,2,    0.39,2,   2.508,2,   1.316,2,  2061.0,2,  -999.0,9,-999.000,9,-999.0000,9, -999.00,9, -999.00,9,  -999.0,9,  -999.0,-999.000,9,-999.000,     -999.0,-999.0000,-999.000,    14.9117,-999.000
  316N138_4,       P06C,     113,          1,         19,        133,2,19920613,       0953,   -32.4993,  -138.6638,       4584,   257.0,  13.3418,  35.0025,2,  35.0183,2,    198.0,2,   201.9,2,    1.78,2,    7.95,2,    0.00,2,    0.69,2,   2.047,2,   1.037,2,  2087.5,2,   533.5,2,-999.000,9,-999.0000,9, -999.00,9, -999.00,9,  -999.0,9,  -999.0,-999.000,9,-999.000,      20.10,-999.0000,-999.000,    13.3057,-999.000
  316N138_4,       P06C,     113,          1,         18,        118,2,19920613,       0953,   -32.4993,  -138.6638,       4584,   307.1,  11.3322,  34.7818,2,  34.7901,2,    202.8,2,   202.3,2,    2.81,2,   12.86,2,   -0.01,2,    0.98,2,   1.771,2,   0.891,2,  2106.3,6,  -999.0,9,-999.000,9,-999.0000,9, -999.00,9, -999.00,9,  -999.0,9,  -999.0,-999.000,9,-999.000,     -999.0,-999.0000,-999.000,    11.2935,-999.000
  316N138_4,       P06C,     113,          1,         17,        117,2,19920613,       0953,   -32.4993,  -138.6638,       4584,   355.8,   9.9201,  34.6376,2,  34.6352,2,    206.5,2,   204.5,2,    3.99,2,   16.46,2,   -0.01,2,    1.19,2,   1.359,2,   0.690,2,  2117.6,2,   671.1,2,-999.000,9,-999.0000,9, -999.00,9, -999.00,9,  -999.0,9,  -999.0,-999.000,9,-999.000,      20.10,-999.0000,-999.000,     9.8788,-999.000
  316N138_4,       P06C,     113,          1,         16,        116,2,19920613,       0953,   -32.4993,  -138.6638,       4584,   404.7,   8.7305,  34.5320,2,  34.5245,2,    212.6,2,   211.9,2,    5.03,2,   19.01,2,   -0.01,2,    1.34,2,   1.199,2,   0.624,2,  2125.6,2,  -999.0,9,-999.000,9,-999.0000,9, -999.00,9, -999.00,9,  -999.0,9,  -999.0,-999.000,9,-999.000,     -999.0,-999.0000,-999.000,     8.6870,-999.000
  316N138_4,       P06C,     113,          1,         15,        115,2,19920613,       0953,   -32.4993,  -138.6638,       4584,   506.2,   7.4450,  34.4258,2,  34.4239,2,    231.8,2,   233.4,2,    5.92,2,   20.79,2,   -0.01,2,    1.43,2,   1.494,6,   0.747,6,  2128.7,2,   649.6,2,-999.000,9,-999.0000,9, -999.00,9, -999.00,9,  -999.0,9,  -999.0,-999.000,9,-999.000,      20.10,-999.0000,-999.000,     7.3953,-999.000
  316N138_4,       P06C,     113,          1,         14,        114,2,19920613,       0953,   -32.4993,  -138.6638,       4584,   604.6,   6.6450,  34.3746,2,  34.3670,2,    239.0,2,   238.6,2,    7.84,2,   22.71,2,   -0.01,2,    1.54,2,   0.992,2,   0.521,2,  2133.3,2,  -999.0,9,-999.000,9,-999.0000,9, -999.00,9, -999.00,9,  -999.0,9,  -999.0,-999.000,9,-999.000,     -999.0,-999.0000,-999.000,     6.5888,-999.000
  316N138_4,       P06C,     113,          1,         13,        125,2,19920613,       0953,   -32.4993,  -138.6638,       4584,   803.7,   5.6829,  34.3093,2,  34.3207,3,    232.8,2,   232.6,2,   12.73,2,   25.40,3,   -0.01,2,    1.72,3,   0.499,2,   0.273,2,  2146.0,2,   779.0,2,-999.000,9,-999.0000,9, -999.00,9, -999.00,9,  -999.0,9,  -999.0,-999.000,9,-999.000,      20.10,-999.0000,-999.000,     5.6132,-999.000
  316N138_4,       P06C,     113,          1,         12,        112,2,19920613,       0953,   -32.4993,  -138.6638,       4584,   803.8,   5.6829,  34.3093,2,  34.3056,2,    232.9,2,   232.4,2,   12.87,2,   25.94,2,   -0.01,2,    1.75,2,   0.391,2,   0.225,2,  -999.0,9,  -999.0,9,-999.000,9,-999.0000,9, -999.00,9, -999.00,9,  -999.0,9,  -999.0,-999.000,9,-999.000,     -999.0,-999.0000,-999.000,     5.6132,-999.000
  316N138_4,       P06C,     113,          1,         11,        129,2,19920613,       0953,   -32.4993,  -138.6638,       4584,   903.1,   5.1441,  34.3043,2,  34.2987,2,    221.5,2,   219.6,2,   19.38,2,   28.44,2,   -0.01,2,    1.91,2,   0.220,2,   0.121,2,  2162.4,2,   842.8,6,-999.000,9,-999.0000,9, -999.00,9, -999.00,9,  -999.0,9,  -999.0,-999.000,9,-999.000,      20.10,-999.0000,-999.000,     5.0688,-999.000
  316N138_4,       P06C,     113,          1,         10,        110,2,19920613,       0953,   -32.4993,  -138.6638,       4584,  1004.1,   4.6264,  34.3171,2,  34.3144,2,    207.6,2,   204.9,2,   27.22,2,   30.36,2,   -0.01,2,    2.04,2,   0.128,6,   0.075,6,  2181.0,2,  -999.0,9,-999.000,9,-999.0000,9, -999.00,9, -999.00,9,  -999.0,9,  -999.0,-999.000,9,-999.000,     -999.0,-999.0000,-999.000,     4.5459,-999.000
  316N138_4,       P06C,     113,          1,          9,        126,3,19920613,       0953,   -32.4993,  -138.6638,       4584,  1103.1,   4.1565,  34.3549,2,  34.3466,2,    190.7,2,   190.9,2,   37.29,2,   32.24,2,   -0.01,2,    2.19,2,-999.000,9,-999.000,9,  2200.0,2,   964.6,2,-999.000,9,   1.8730,2,    3.87,2, -999.00,9,  -999.0,9,  -999.0,   8.069,2,   0.018,      20.10,   0.0040,   0.150,     4.0711,-999.000
  316N138_4,       P06C,     113,          1,          8,        108,2,19920613,       0953,   -32.4993,  -138.6638,       4584,  1207.1,   3.6891,  34.3891,2,  34.3594,4,    182.5,2,   185.5,4,   41.44,4,   32.81,4,   -0.01,4,    2.24,4,   0.031,2,   0.020,2,  2208.1,2,  -999.0,9,-999.000,9,-999.0000,9, -999.00,9, -999.00,9,  -999.0,9,  -999.0,-999.000,9,-999.000,     -999.0,-999.0000,-999.000,     3.5990,-999.000
  316N138_4,       P06C,     113,          1,          7,        107,2,19920613,       0953,   -32.4993,  -138.6638,       4584,  1306.1,   3.2771,  34.4481,2,  34.4383,2,    174.7,2,   172.3,2,   59.78,2,   34.30,2,   -0.01,2,    2.34,2,   0.012,2,-999.000,5,  2234.2,2,  1084.6,6,-999.000,9,   1.8990,2,    8.40,2, -999.00,9,  -999.0,9,  -999.0,   8.174,2,   0.019,      20.10,   0.0040,   0.150,     3.1826,-999.000
  316N138_4,       P06C,     113,          1,          6,        180,2,19920613,       0953,   -32.4993,  -138.6638,       4584,  1511.3,   2.7970,  34.5210,2,  34.5162,2,    165.1,2,   163.7,2,   78.27,2,   34.89,2,   -0.01,2,    2.42,2,   0.001,2,   0.003,2,  2257.2,2,  -999.0,9,-999.000,9,-999.0000,9, -999.00,9, -999.00,9,  -999.0,9,  -999.0,-999.000,9,-999.000,     -999.0,-999.0000,-999.000,     2.6908,-999.000
  316N138_4,       P06C,     113,          1,          5,        131,2,19920613,       0953,   -32.4993,  -138.6638,       4584,  1709.7,   2.4696,  34.5802,2,  34.5743,2,    160.0,2,   158.8,2,   93.52,2,   35.22,2,   -0.01,2,    2.47,2,   0.004,2,   0.000,2,  2274.9,2,  -999.0,9,-999.000,9,   1.9350,2,   16.57,2, -999.00,9,  -999.0,9,  -999.0,   8.249,2,   0.019,     -999.0,   0.0040,   0.150,     2.3509,-999.000
  316N138_4,       P06C,     113,          1,          4,        104,3,19920613,       0953,   -32.4993,  -138.6638,       4584,  1913.8,   2.2368,  34.6163,2,  34.6288,3,    156.5,2,   160.0,3,   99.43,4,   34.11,4,    0.00,4,    2.41,4,-999.000,9,-999.000,9,  2276.9,2,  1073.0,2,-999.000,9,   1.9820,2,   18.23,2, -999.00,9,  -999.0,9,  -999.0,   8.416,2,   0.019,      20.10,   0.0040,   0.150,     2.1041,-999.000
  316N138_4,       P06C,     113,          1,          3,        130,2,19920613,       0953,   -32.4993,  -138.6638,       4584,  2121.0,   2.0718,  34.6369,2,  34.6350,2,    154.2,2,   153.7,2,  114.09,2,   35.75,2,   -0.01,2,    2.52,2,-999.000,9,-999.000,9,  2297.7,2,  -999.0,9,-999.000,9,   2.0050,2,   22.09,2, -999.00,9,  -999.0,9,  -999.0,   8.488,2,   0.019,     -999.0,   0.0040,   0.150,     1.9239,-999.000
  316N138_4,       P06C,     113,          1,          2,        135,2,19920613,       0953,   -32.4993,  -138.6638,       4584,  2327.9,   1.9347,  34.6505,2,  34.6460,3,    154.5,2,   153.6,2,  119.71,2,   35.60,2,    0.00,2,    2.54,2,   0.000,2,  -0.003,2,  2302.5,6,  -999.0,9,-999.000,9,   1.8530,2,   23.51,2, -999.00,9,  -999.0,9,  -999.0,   7.547,2,   0.017,     -999.0,   0.0040,   0.150,     1.7711,-999.000
  316N138_4,       P06C,     113,          1,          1,        134,2,19920613,       0953,   -32.4993,  -138.6638,       4584,  2327.9,   1.9347,  34.6505,2,  34.6482,2,    154.5,2,   154.3,2,  119.71,2,   35.51,2,    0.00,2,    2.54,2,-999.000,9,-999.000,9,  2302.7,2,  1127.2,2,-999.000,9,   1.8530,2,   23.51,2, -999.00,9,  -999.0,9,  -999.0,   7.547,2,   0.017,      20.10,   0.0040,   0.150,     1.7711,-999.000
  316N138_4,       P06C,     113,          1,         36,    02-9121,2,19920613,       0953,   -32.4993,  -138.6638,       4584,  2532.4,   1.8413,  34.6595,2,  34.6584,2,    156.0,2,   155.8,2,  122.08,2,   35.36,2,    0.00,2,    2.53,2,   0.001,2,   0.003,2,  2303.1,6,  1141.7,2,-999.000,9,   1.9770,2,   23.11,2, -999.00,9,  -999.0,9,  -999.0,   8.388,2,   0.019,      20.10,   0.0040,   0.150,     1.6610,-999.000
  316N138_4,       P06C,     113,          1,         35,    02-9454,2,19920613,       0953,   -32.4993,  -138.6638,       4584,  2733.3,   1.7642,  34.6666,2,  34.6665,2,    159.3,2,   159.0,2,  123.57,2,   35.13,2,    0.00,2,    2.52,2,-999.000,9,-999.000,9,  2302.7,2,  -999.0,9,-999.000,9,   1.9760,2,   21.80,2, -999.00,9,  -999.0,9,  -999.0,   8.330,2,   0.019,     -999.0,   0.0040,   0.150,     1.5669,-999.000
  316N138_4,       P06C,     113,          1,         34,    02-9457,2,19920613,       0953,   -32.4993,  -138.6638,       4584,  2936.5,   1.6978,  34.6722,2,  34.6706,2,    161.9,2,   161.7,2,  124.16,2,   34.84,2,    0.00,2,    2.50,2,   0.003,2,-999.000,5,  2302.0,2,  1124.5,2,-999.000,9,   1.9790,2,   20.99,2, -999.00,9,  -999.0,9,  -999.0,   8.366,2,   0.019,      20.10,   0.0040,   0.150,     1.4827,-999.000
  316N138_4,       P06C,     113,          1,         33,    02-5367,2,19920613,       0953,   -32.4993,  -138.6638,       4584,  3141.2,   1.6555,  34.6766,2,  34.6765,2,    164.6,2,   167.2,3,  124.02,2,   34.65,2,    0.00,2,    2.49,2,-999.000,9,-999.000,9,  2299.6,2,  -999.0,9,-999.000,9,   1.9690,2,   20.04,2, -999.00,9,  -999.0,9,  -999.0,   8.363,2,   0.019,     -999.0,   0.0040,   0.150,     1.4216,-999.000
  316N138_4,       P06C,     113,          1,         32,    02-9540,2,19920613,       0953,   -32.4993,  -138.6638,       4584,  3346.6,   1.6124,  34.6809,2,  34.6820,2,    168.1,2,   169.0,2,  124.02,2,   34.41,2,    0.00,2,    2.47,2,   0.008,2,   0.009,2,  2296.7,2,  -999.0,9,-999.000,9,   1.9630,2,   19.03,2, -999.00,9,  -999.0,9,  -999.0,   8.373,2,   0.019,     -999.0,   0.0040,   0.150,     1.3591,-999.000
  316N138_4,       P06C,     113,          1,         31,    02-9539,2,19920613,       0953,   -32.4993,  -138.6638,       4584,  3551.2,   1.5611,  34.6842,2,  34.6905,4,    171.4,2,   172.6,2,  123.88,2,   34.12,2,    0.00,2,    2.45,2,-999.000,9,-999.000,9,  2295.9,2,   998.7,3,-999.000,9,-999.0000,9, -999.00,9, -999.00,9,  -999.0,9,  -999.0,-999.000,9,-999.000,      20.10,-999.0000,-999.000,     1.2881,-999.000
  316N138_4,       P06C,     113,          1,         30,    02-9456,2,19920613,       0953,   -32.4993,  -138.6638,       4584,  3751.3,   1.5071,  34.6906,2,  34.6906,2,    175.9,2,   178.2,2,  123.14,2,   33.78,2,    0.00,2,    2.43,2,   0.008,2,   0.007,2,  2291.2,2,  -999.0,9,-999.000,9,   1.9660,2,   17.36,2, -999.00,9,  -999.0,9,  -999.0,   8.441,2,   0.019,     -999.0,   0.0040,   0.150,     1.2146,-999.000
  316N138_4,       P06C,     113,          1,         29,    02-9458,2,19920613,       0953,   -32.4993,  -138.6638,       4584,  3959.9,   1.4212,  34.6972,2,  34.6958,2,    182.4,2,   182.5,2,  121.52,2,   33.40,2,    0.00,2,    2.39,2,-999.000,9,-999.000,9,  2285.1,2,  -999.0,9,-999.000,9,   1.6900,2,   15.18,2, -999.00,9,  -999.0,9,  -999.0,   6.965,2,   0.016,     -999.0,   0.0030,   0.150,     1.1087,-999.000
  316N138_4,       P06C,     113,          1,         28,    02-9545,2,19920613,       0953,   -32.4993,  -138.6638,       4584,  4160.4,   1.3583,  34.7019,2,  34.7005,2,    187.2,2,   187.6,2,  120.48,2,   33.25,2,    0.00,2,    2.36,2,   0.002,6,-999.000,5,  2280.3,2,  1029.8,2,-999.000,9,-999.0000,9, -999.00,9, -999.00,9,  -999.0,9,  -999.0,-999.000,9,-999.000,      20.10,-999.0000,-999.000,     1.0258,-999.000
  316N138_4,       P06C,     113,          1,         27,    02-9453,2,19920613,       0953,   -32.4993,  -138.6638,       4584,  4365.6,   1.3266,  34.7041,2,  34.7034,2,    190.7,2,   194.5,4,  119.75,2,   32.97,2,    0.00,2,    2.34,2,-999.000,9,-999.000,9,  2277.9,2,  -999.0,9,-999.000,9,   1.9520,2,   12.32,2, -999.00,9,  -999.0,9,  -999.0,   8.407,2,   0.019,     -999.0,   0.0040,   0.150,     0.9722,-999.000
  316N138_4,       P06C,     113,          1,         26,    02-9544,2,19920613,       0953,   -32.4993,  -138.6638,       4584,  4574.6,   1.3269,  34.7062,2,  34.7058,2,    192.1,2,   191.8,2,  119.45,2,   32.82,2,    0.00,2,    2.32,2,   0.003,2,-999.000,5,  2273.5,2,  -999.0,9,-999.000,9,-999.0000,9, -999.00,9, -999.00,9,  -999.0,9,  -999.0,-999.000,9,-999.000,     -999.0,-999.0000,-999.000,     0.9486,-999.000
  316N138_4,       P06C,     113,          1,         25,    02-9455,2,19920613,       0953,   -32.4993,  -138.6638,       4584,  4657.7,   1.3344,  34.7065,2,  34.7077,2,    192.7,2,   191.9,2,  119.13,2,   32.92,2,    0.00,2,    2.32,2,-999.000,5,-999.000,5,  2273.5,2,   986.0,2,-999.000,9,   1.9550,2,   11.94,2, -999.00,9,  -999.0,9,  -999.0,   8.362,2,   0.019,      20.10,   0.0040,   0.150,     0.9463,-999.000