BOTTLE,20211025CCHSIORKP
EXPOCODE,SECT_ID,STNNBR,CASTNO,SAMPNO,BTLNBR,BTLNBR_FLAG_W,DATE,TIME,LATITUDE,LONGITUDE,DEPTH,CTDPRS,CTDTMP,CTDSAL,CTDSAL_FLAG_W,SALNTY,SALNTY_FLAG_W,CTDOXY,CTDOXY_FLAG_W,OXYGEN,OXYGEN_FLAG_W,SILCAT,SILCAT_FLAG_W,NITRAT,NITRAT_FLAG_W,NITRIT,NITRIT_FLAG_W,PHSPHT,PHSPHT_FLAG_W,CFC-11,CFC-11_FLAG_W,CFC-12,CFC-12_FLAG_W,TCARBN,TCARBN_FLAG_W,PCO2,PCO2_FLAG_W,TRITUM,TRITUM_FLAG_W,HELIUM,HELIUM_FLAG_W,DELHE3,DELHE3_FLAG_W,DELC13,DELC13_FLAG_W,DELC14,DELC14_FLAG_W,C14ERR,NEON,NEON_FLAG_W,NEONER,PCO2TMP,HELIER,DELHER,THETA,TRITER
,,,,,,,,,,,METERS,DBAR,ITS-90,PSS-78,,PSS-78,,UMOL/KG,,UMOL/KG,,UMOL/KG,,UMOL/KG,,UMOL/KG,,UMOL/KG,,PMOL/KG,,PMOL/KG,,UMOL/KG,,UATM,,TU,,NMOL/KG,,PERCNT,,/MILLE,,/MILLE,,/MILLE,NMOL/KG,,NMOL/KG,DEG_C,NMOL/KG,PERCNT,ITS-90,TU
  316N138_4,       P06C,     166,          1,         36,    02-9121,2,19920629,       2327,   -32.4988,  -173.6687,       5651,    16.4,  16.6582,  35.5534,2,  35.5444,2,    229.1,2,   234.8,2,    1.02,2,    0.62,2,    0.04,2, -999.00,5,-999.000,5,-999.000,5,  -999.0,9,  -999.0,9,   0.638,2,   1.8040,2,   -0.99,2, -999.00,9,  -999.0,9,  -999.0,-999.000,9,-999.000,     -999.0,-999.0000,   0.150,    16.6556,   0.004
  316N138_4,       P06C,     166,          1,         35,    02-9454,3,19920629,       2327,   -32.4988,  -173.6687,       5651,    57.1,  16.6563,  35.5525,2,  35.5529,2,    231.3,2,   233.8,2,    1.01,2,    0.62,2,    0.03,2, -999.00,5,-999.000,5,-999.000,5,  -999.0,9,  -999.0,9,   0.609,2,   1.7750,2,   -0.86,2, -999.00,9,  -999.0,9,  -999.0,-999.000,9,-999.000,     -999.0,-999.0000,   0.150,    16.6470,   0.004
  316N138_4,       P06C,     166,          1,         34,    02-9457,2,19920629,       2327,   -32.4988,  -173.6687,       5651,   105.5,  16.6443,  35.5514,2,  35.5502,2,    222.9,2,   234.0,2,    1.01,2,    0.67,2,    0.03,2, -999.00,5,-999.000,5,-999.000,5,  -999.0,9,  -999.0,9,   0.619,2,   1.7800,2,   -1.10,2, -999.00,9,  -999.0,9,  -999.0,-999.000,9,-999.000,     -999.0,-999.0000,   0.150,    16.6271,   0.004
  316N138_4,       P06C,     166,          1,         33,    02-5367,2,19920629,       2327,   -32.4988,  -173.6687,       5651,   204.9,  13.8157,  35.2491,2,  35.2513,2,    206.6,2,   205.3,2,    2.83,2,    8.27,2,    0.01,2,    0.75,3,-999.000,5,-999.000,5,  -999.0,9,  -999.0,9,   0.509,2,   1.7910,2,   -0.36,2, -999.00,9,  -999.0,9,  -999.0,-999.000,9,-999.000,     -999.0,-999.0000,   0.150,    13.7863,   0.004
  316N138_4,       P06C,     166,          1,         32,    02-9540,2,19920629,       2327,   -32.4988,  -173.6687,       5651,   305.6,  11.9340,  35.0018,2,  35.0091,2,    199.5,2,   199.5,2,    3.98,2,   12.49,2,    0.00,2,    1.02,3,-999.000,5,-999.000,5,  -999.0,9,  -999.0,9,   0.414,2,   1.8130,2,    0.15,2, -999.00,9,  -999.0,9,  -999.0,-999.000,9,-999.000,     -999.0,-999.0000,   0.150,    11.8941,   0.004
  316N138_4,       P06C,     166,          1,         31,    02-9539,2,19920629,       2327,   -32.4988,  -173.6687,       5651,   404.7,   9.7919,  34.7162,2,  34.7195,2,    204.2,2,   203.2,2,    5.31,2,   17.15,2,    0.00,2,    1.31,3,-999.000,5,-999.000,5,  -999.0,9,  -999.0,9,   0.305,2,   1.8490,2,    0.82,2, -999.00,9,  -999.0,9,  -999.0,-999.000,9,-999.000,     -999.0,-999.0000,   0.150,     9.7453,   0.003
  316N138_4,       P06C,     166,          1,         30,    02-9456,2,19920629,       2327,   -32.4988,  -173.6687,       5651,   501.8,   8.3931,  34.5690,2,  34.5590,2,    216.9,2,   216.1,2,    6.13,2,   19.73,2,    0.00,2,    1.47,3,-999.000,5,-999.000,5,  -999.0,9,  -999.0,9,   0.241,2,   1.8400,2,    0.75,2, -999.00,9,  -999.0,9,  -999.0,-999.000,9,-999.000,     -999.0,-999.0000,   0.150,     8.3402,   0.003
  316N138_4,       P06C,     166,          1,         29,    02-9458,2,19920629,       2327,   -32.4988,  -173.6687,       5651,   602.1,   7.6862,  34.4849,2,  34.4854,2,    223.8,2,   223.9,2,    6.96,2,   21.20,2,    0.00,2,    1.57,3,-999.000,5,-999.000,5,  -999.0,9,  -999.0,9,   0.216,2,   1.8410,2,    0.79,2, -999.00,9,  -999.0,9,  -999.0,-999.000,9,-999.000,     -999.0,-999.0000,   0.150,     7.6255,   0.003
  316N138_4,       P06C,     166,          1,         28,    02-9545,2,19920629,       2327,   -32.4988,  -173.6687,       5651,   700.3,   7.0299,  34.4275,2,  34.4281,2,    226.2,2,   224.5,2,    8.79,2,   23.04,2,    0.00,2,    1.69,3,-999.000,5,-999.000,5,  -999.0,9,  -999.0,9,   0.145,2,   1.8470,2,    0.78,2, -999.00,9,  -999.0,9,  -999.0,-999.000,9,-999.000,     -999.0,-999.0000,   0.150,     6.9624,   0.002
  316N138_4,       P06C,     166,          1,         27,    02-9453,2,19920629,       2327,   -32.4988,  -173.6687,       5651,   799.2,   6.3787,  34.3757,2,  34.3768,2,    225.2,2,   222.7,2,   11.96,2,   25.02,2,    0.00,2,    1.81,3,-999.000,5,-999.000,5,  -999.0,9,  -999.0,9,   0.090,2,   1.8430,2,    1.22,2, -999.00,9,  -999.0,9,  -999.0,-999.000,9,-999.000,     -999.0,-999.0000,   0.150,     6.3051,   0.002
  316N138_4,       P06C,     166,          1,         26,    02-9544,2,19920629,       2327,   -32.4988,  -173.6687,       5651,   899.2,   5.8943,  34.3727,2,  34.3755,2,    211.3,2,   210.0,2,   18.30,2,   27.17,2,    0.00,2,    1.95,3,-999.000,5,-999.000,5,  -999.0,9,  -999.0,9,   0.055,2,   1.8570,2,    1.99,2, -999.00,9,  -999.0,9,  -999.0,-999.000,9,-999.000,     -999.0,-999.0000,   0.150,     5.8141,   0.002
  316N138_4,       P06C,     166,          1,         25,    02-9455,2,19920629,       2327,   -32.4988,  -173.6687,       5651,  1002.8,   5.0792,  34.3572,2,  34.3549,2,    203.2,2,   202.0,2,   25.81,2,   29.42,2,    0.01,2,    2.12,3,-999.000,5,-999.000,5,  -999.0,9,  -999.0,9,   0.025,2,   1.8630,2,    2.62,2, -999.00,9,  -999.0,9,  -999.0,-999.000,9,-999.000,     -999.0,-999.0000,   0.150,     4.9953,   0.002
  316N138_4,       P06C,     166,          1,         23,        123,2,19920629,       2327,   -32.4988,  -173.6687,       5651,  1204.7,   3.9029,  34.3939,2,  34.3935,2,    185.8,2,   184.2,2,   45.36,2,   32.78,2,    0.00,2,    2.36,3,-999.000,5,-999.000,5,  -999.0,9,  -999.0,9,   0.006,2,   1.8880,2,    5.36,2, -999.00,9,  -999.0,9,  -999.0,-999.000,9,-999.000,     -999.0,-999.0000,   0.150,     3.8110,   0.002
  316N138_4,       P06C,     166,          1,         22,        128,2,19920629,       2327,   -32.4988,  -173.6687,       5651,  1409.2,   3.1689,  34.4878,2,  34.4866,2,    170.2,2,   169.2,2,   67.41,2,   34.33,2,    0.01,2,    2.48,3,-999.000,5,-999.000,5,  -999.0,9,  -999.0,9,   0.003,2,   1.9160,2,   10.16,2, -999.00,9,  -999.0,9,  -999.0,-999.000,9,-999.000,     -999.0,-999.0000,   0.150,     3.0670,   0.002
  316N138_4,       P06C,     166,          1,         21,        121,2,19920629,       2327,   -32.4988,  -173.6687,       5651,  1609.2,   2.7880,  34.5536,2,  34.5551,2,    160.2,2,   159.6,2,   84.79,2,   34.93,2,    0.00,2,    2.53,3,-999.000,5,-999.000,5,  -999.0,9,  -999.0,9,   0.001,2,   1.9430,2,   15.18,2, -999.00,9,  -999.0,9,  -999.0,-999.000,9,-999.000,     -999.0,-999.0000,   0.150,     2.6737,   0.002
  316N138_4,       P06C,     166,          1,         20,        120,2,19920629,       2327,   -32.4988,  -173.6687,       5651,  1808.2,   2.5035,  34.6014,2,  34.6003,2,    154.0,2,   152.4,2,  100.66,2,   35.33,2,    0.00,2,    2.57,3,-999.000,5,-999.000,5,  -999.0,9,  -999.0,9,   0.000,2,   1.9630,2,   20.63,2, -999.00,9,  -999.0,9,  -999.0,-999.000,9,-999.000,     -999.0,-999.0000,   0.150,     2.3760,   0.002
  316N138_4,       P06C,     166,          1,         19,        133,2,19920629,       2327,   -32.4988,  -173.6687,       5651,  2000.3,   2.3452,  34.6200,2,  34.6209,2,    151.4,2,   153.3,4,  108.85,2,   35.45,2,    0.00,2,    2.61,3,-999.000,5,-999.000,5,  -999.0,9,  -999.0,9,-999.000,9,-999.0000,9, -999.00,9, -999.00,9,  -999.0,9,  -999.0,-999.000,9,-999.000,     -999.0,-999.0000,-999.000,     2.2036,-999.000
  316N138_4,       P06C,     166,          1,         18,        118,2,19920629,       2327,   -32.4988,  -173.6687,       5651,  2206.6,   2.2166,  34.6344,2,  34.6343,2,    149.4,2,   148.9,2,  115.03,2,   35.67,2,    0.00,2,    2.61,3,-999.000,5,-999.000,5,  -999.0,9,  -999.0,9,-999.000,9,-999.0000,9, -999.00,9, -999.00,9,  -999.0,9,  -999.0,-999.000,9,-999.000,     -999.0,-999.0000,-999.000,     2.0589,-999.000
  316N138_4,       P06C,     166,          1,         17,        117,2,19920629,       2327,   -32.4988,  -173.6687,       5651,  2414.8,   2.0818,  34.6461,2,  34.6458,2,    148.4,2,   147.2,2,  120.04,2,   35.65,2,    0.00,2,    2.61,3,-999.000,5,-999.000,5,  -999.0,9,  -999.0,9,-999.000,9,-999.0000,9, -999.00,9, -999.00,9,  -999.0,9,  -999.0,-999.000,9,-999.000,     -999.0,-999.0000,-999.000,     1.9078,-999.000
  316N138_4,       P06C,     166,          1,         16,        116,2,19920629,       2327,   -32.4988,  -173.6687,       5651,  2620.0,   1.9753,  34.6557,2,  34.6557,2,    148.8,2,   148.2,2,  124.05,2,   35.77,2,    0.00,2,    2.62,3,-999.000,5,-999.000,5,  -999.0,9,  -999.0,9,-999.000,9,-999.0000,9, -999.00,9, -999.00,9,  -999.0,9,  -999.0,-999.000,9,-999.000,     -999.0,-999.0000,-999.000,     1.7845,-999.000
  316N138_4,       P06C,     166,          1,         15,        115,2,19920629,       2327,   -32.4988,  -173.6687,       5651,  2824.2,   1.8825,  34.6666,2,  34.6665,2,    151.1,2,   150.9,2,  125.54,2,   35.62,2,    0.00,2,    2.60,3,-999.000,9,   0.000,2,  -999.0,9,  -999.0,9,-999.000,9,-999.0000,9, -999.00,9, -999.00,9,  -999.0,9,  -999.0,-999.000,9,-999.000,     -999.0,-999.0000,-999.000,     1.6743,-999.000
  316N138_4,       P06C,     166,          1,         14,        114,2,19920629,       2327,   -32.4988,  -173.6687,       5651,  3029.3,   1.7983,  34.6773,2,  34.6789,2,    158.0,2,   157.1,2,  124.20,2,   35.10,2,    0.00,2,    2.56,3,-999.000,5,-999.000,5,  -999.0,9,  -999.0,9,-999.000,9,-999.0000,9, -999.00,9, -999.00,9,  -999.0,9,  -999.0,-999.000,9,-999.000,     -999.0,-999.0000,-999.000,     1.5720,-999.000
  316N138_4,       P06C,     166,          1,         13,        125,2,19920629,       2327,   -32.4988,  -173.6687,       5651,  3233.7,   1.7077,  34.6976,2,  34.6975,2,    170.8,2,   172.2,2,  116.84,2,   33.94,2,    0.00,2,    2.47,3,-999.000,5,-999.000,5,  -999.0,9,  -999.0,9,-999.000,9,-999.0000,9, -999.00,9, -999.00,9,  -999.0,9,  -999.0,-999.000,9,-999.000,     -999.0,-999.0000,-999.000,     1.4633,-999.000
  316N138_4,       P06C,     166,          1,         12,        112,2,19920629,       2327,   -32.4988,  -173.6687,       5651,  3440.0,   1.6130,  34.7129,2,  34.7132,2,    184.8,2,   184.7,2,  109.64,2,   32.72,2,    0.00,2,    2.38,3,-999.000,5,-999.000,5,  -999.0,9,  -999.0,9,-999.000,9,-999.0000,9, -999.00,9, -999.00,9,  -999.0,9,  -999.0,-999.000,9,-999.000,     -999.0,-999.0000,-999.000,     1.3501,-999.000
  316N138_4,       P06C,     166,          1,         11,        129,2,19920629,       2327,   -32.4988,  -173.6687,       5651,  3643.7,   1.4931,  34.7191,2,  34.7201,2,    194.4,2,   193.1,2,  107.96,2,   32.26,2,    0.00,2,    2.32,3,-999.000,5,-999.000,5,  -999.0,9,  -999.0,9,-999.000,9,-999.0000,9, -999.00,9, -999.00,9,  -999.0,9,  -999.0,-999.000,9,-999.000,     -999.0,-999.0000,-999.000,     1.2121,-999.000
  316N138_4,       P06C,     166,          1,         10,        110,2,19920629,       2327,   -32.4988,  -173.6687,       5651,  3847.3,   1.3507,  34.7211,2,  34.7215,2,    199.1,2,   199.0,2,  109.96,2,   32.01,2,    0.00,2,    2.32,3,-999.000,5,-999.000,5,  -999.0,9,  -999.0,9,-999.000,9,-999.0000,9, -999.00,9, -999.00,9,  -999.0,9,  -999.0,-999.000,9,-999.000,     -999.0,-999.0000,-999.000,     1.0521,-999.000
  316N138_4,       P06C,     166,          1,          9,        126,2,19920629,       2327,   -32.4988,  -173.6687,       5651,  4051.3,   1.2248,  34.7186,2,  34.7190,2,    202.9,2,   202.7,2,  112.46,2,   32.00,2,    0.00,2,    2.32,3,-999.000,5,-999.000,5,  -999.0,9,  -999.0,9,-999.000,9,-999.0000,9, -999.00,9, -999.00,9,  -999.0,9,  -999.0,-999.000,9,-999.000,     -999.0,-999.0000,-999.000,     0.9080,-999.000
  316N138_4,       P06C,     166,          1,          8,        108,2,19920629,       2327,   -32.4988,  -173.6687,       5651,  4256.0,   1.1322,  34.7152,2,  34.7156,2,    204.7,2,   204.6,2,  115.13,2,   32.02,2,    0.01,2,    2.35,3,-999.000,5,-999.000,5,  -999.0,9,  -999.0,9,-999.000,9,-999.0000,9, -999.00,9, -999.00,9,  -999.0,9,  -999.0,-999.000,9,-999.000,     -999.0,-999.0000,-999.000,     0.7957,-999.000
  316N138_4,       P06C,     166,          1,          7,        107,2,19920629,       2327,   -32.4988,  -173.6687,       5651,  4462.3,   1.0695,  34.7125,2,  34.7117,2,    206.6,2,   205.9,2,  117.64,2,   32.02,2,    0.00,2,    2.37,3,   0.009,2,   0.002,2,  -999.0,9,  -999.0,9,-999.000,9,-999.0000,9, -999.00,9, -999.00,9,  -999.0,9,  -999.0,-999.000,9,-999.000,     -999.0,-999.0000,-999.000,     0.7120,-999.000
  316N138_4,       P06C,     166,          1,          6,        180,3,19920629,       2327,   -32.4988,  -173.6687,       5651,  4668.2,   1.0354,  34.7097,2,  34.3590,4,    207.1,2,   195.6,4,   31.46,4,   30.49,4,    0.00,4,    2.24,4,-999.000,5,-999.000,5,  -999.0,9,  -999.0,9,-999.000,9,-999.0000,9, -999.00,9, -999.00,9,  -999.0,9,  -999.0,-999.000,9,-999.000,     -999.0,-999.0000,-999.000,     0.6555,-999.000
  316N138_4,       P06C,     166,          1,          5,        131,2,19920629,       2327,   -32.4988,  -173.6687,       5651,  5075.9,   1.0266,  34.7068,2,  34.7083,2,    207.9,2,   209.0,2,  120.97,2,   31.94,2,    0.00,2, -999.00,5,-999.000,5,-999.000,5,  -999.0,9,  -999.0,9,-999.000,9,-999.0000,9, -999.00,9, -999.00,9,  -999.0,9,  -999.0,-999.000,9,-999.000,     -999.0,-999.0000,-999.000,     0.5992,-999.000
  316N138_4,       P06C,     166,          1,          4,        104,2,19920629,       2327,   -32.4988,  -173.6687,       5651,  5281.6,   1.0404,  34.7072,2,  34.7083,2,    207.6,2,   207.3,2,  121.13,2,   32.02,2,    0.00,2, -999.00,5,   0.018,2,   0.002,2,  -999.0,9,  -999.0,9,-999.000,9,-999.0000,9, -999.00,9, -999.00,9,  -999.0,9,  -999.0,-999.000,9,-999.000,     -999.0,-999.0000,-999.000,     0.5876,-999.000
  316N138_4,       P06C,     166,          1,          3,        130,2,19920629,       2327,   -32.4988,  -173.6687,       5651,  5488.2,   1.0600,  34.7063,2,  34.7068,2,    207.5,2,   207.3,2,  121.46,2,   31.96,2,    0.00,2,    2.32,3,-999.000,5,-999.000,5,  -999.0,9,  -999.0,9,-999.000,9,-999.0000,9, -999.00,9, -999.00,9,  -999.0,9,  -999.0,-999.000,9,-999.000,     -999.0,-999.0000,-999.000,     0.5809,-999.000
  316N138_4,       P06C,     166,          1,          2,        135,2,19920629,       2327,   -32.4988,  -173.6687,       5651,  5693.6,   1.0852,  34.7071,2,  34.7074,2,    207.5,2,   207.3,2,  121.79,2,   32.00,2,    0.00,2,    2.30,2,   0.018,2,   0.001,2,  -999.0,9,  -999.0,9,-999.000,9,-999.0000,9, -999.00,9, -999.00,9,  -999.0,9,  -999.0,-999.000,9,-999.000,     -999.0,-999.0000,-999.000,     0.5792,-999.000
  316N138_4,       P06C,     166,          1,          1,        134,2,19920629,       2327,   -32.4988,  -173.6687,       5651,  5764.2,   1.0942,  34.7068,2,  34.7089,2,    207.8,2,   207.6,2,  121.63,2,   32.10,2,    0.00,2,    2.29,2,   0.018,6,   0.003,6,  -999.0,9,  -999.0,9,-999.000,9,-999.0000,9, -999.00,9, -999.00,9,  -999.0,9,  -999.0,-999.000,9,-999.000,     -999.0,-999.0000,-999.000,     0.5788,-999.000