BOTTLE,20211025CCHSIORKP
EXPOCODE,SECT_ID,STNNBR,CASTNO,SAMPNO,BTLNBR,BTLNBR_FLAG_W,DATE,TIME,LATITUDE,LONGITUDE,DEPTH,CTDPRS,CTDTMP,CTDSAL,CTDSAL_FLAG_W,SALNTY,SALNTY_FLAG_W,CTDOXY,CTDOXY_FLAG_W,OXYGEN,OXYGEN_FLAG_W,SILCAT,SILCAT_FLAG_W,NITRAT,NITRAT_FLAG_W,NITRIT,NITRIT_FLAG_W,PHSPHT,PHSPHT_FLAG_W,CFC-11,CFC-11_FLAG_W,CFC-12,CFC-12_FLAG_W,TCARBN,TCARBN_FLAG_W,PCO2,PCO2_FLAG_W,TRITUM,TRITUM_FLAG_W,HELIUM,HELIUM_FLAG_W,DELHE3,DELHE3_FLAG_W,DELC13,DELC13_FLAG_W,DELC14,DELC14_FLAG_W,C14ERR,NEON,NEON_FLAG_W,NEONER,PCO2TMP,HELIER,DELHER,THETA,TRITER
,,,,,,,,,,,METERS,DBAR,ITS-90,PSS-78,,PSS-78,,UMOL/KG,,UMOL/KG,,UMOL/KG,,UMOL/KG,,UMOL/KG,,UMOL/KG,,PMOL/KG,,PMOL/KG,,UMOL/KG,,UATM,,TU,,NMOL/KG,,PERCNT,,/MILLE,,/MILLE,,/MILLE,NMOL/KG,,NMOL/KG,DEG_C,NMOL/KG,PERCNT,ITS-90,TU
  316N138_4,       P06C,      86,          1,         35,    02-9454,2,19920604,       2344,   -32.4998,  -120.6723,       3335,    17.5,  20.1153,  35.3065,2,  35.3029,2,    218.2,2,   224.6,2,    0.26,2,    0.00,2,    0.00,2,    0.12,2,   2.277,6,-999.000,5,  -999.0,9,  -999.0,9,-999.000,9,-999.0000,9, -999.00,9, -999.00,9,  -999.0,9,  -999.0,-999.000,9,-999.000,     -999.0,-999.0000,-999.000,    20.1120,-999.000
  316N138_4,       P06C,      86,          1,         34,    02-9457,2,19920604,       2344,   -32.4998,  -120.6723,       3335,    57.9,  20.0620,  35.3012,2,  35.2986,2,    220.3,2,   226.0,2,    0.27,2,    0.00,2,    0.01,2,    0.12,2,-999.000,9,-999.000,9,  -999.0,9,  -999.0,9,-999.000,9,-999.0000,9, -999.00,9, -999.00,9,  -999.0,9,  -999.0,-999.000,9,-999.000,     -999.0,-999.0000,-999.000,    20.0513,-999.000
  316N138_4,       P06C,      86,          1,         33,    02-5367,4,19920604,       2344,   -32.4998,  -120.6723,       3335,    87.6,  19.9776,  35.3121,2,-999.0000,9,    224.8,2,  -999.0,9, -999.00,9, -999.00,9, -999.00,9, -999.00,9,-999.000,9,-999.000,9,  -999.0,9,  -999.0,9,-999.000,9,-999.0000,9, -999.00,9, -999.00,9,  -999.0,9,  -999.0,-999.000,9,-999.000,     -999.0,-999.0000,-999.000,    19.9614,-999.000
  316N138_4,       P06C,      86,          1,         32,    02-9540,2,19920604,       2344,   -32.4998,  -120.6723,       3335,   117.4,  17.8191,  35.1724,2,  35.1624,2,    237.9,2,   238.6,2,    0.27,2,    0.05,2,    0.00,2,    0.16,2,   2.559,2,-999.000,5,  -999.0,9,  -999.0,9,-999.000,9,-999.0000,9, -999.00,9, -999.00,9,  -999.0,9,  -999.0,-999.000,9,-999.000,     -999.0,-999.0000,-999.000,    17.7991,-999.000
  316N138_4,       P06C,      86,          1,         31,    02-9539,2,19920604,       2344,   -32.4998,  -120.6723,       3335,   147.8,  16.9954,  35.1588,2,  35.1425,2,    229.2,2,   231.4,2,    0.28,2,    0.11,2,    0.04,2,    0.20,2,   2.524,2,-999.000,5,  -999.0,9,  -999.0,9,-999.000,9,-999.0000,9, -999.00,9, -999.00,9,  -999.0,9,  -999.0,-999.000,9,-999.000,     -999.0,-999.0000,-999.000,    16.9710,-999.000
  316N138_4,       P06C,      86,          1,         30,    02-9456,2,19920604,       2344,   -32.4998,  -120.6723,       3335,   177.6,  16.1920,  35.0861,2,  35.0949,2,    222.2,2,   220.7,2,    0.47,2,    1.07,2,    0.10,2,    0.29,2,   2.474,2,-999.000,5,  -999.0,9,  -999.0,9,-999.000,9,-999.0000,9, -999.00,9, -999.00,9,  -999.0,9,  -999.0,-999.000,9,-999.000,     -999.0,-999.0000,-999.000,    16.1637,-999.000
  316N138_4,       P06C,      86,          1,         29,    02-9458,2,19920604,       2344,   -32.4998,  -120.6723,       3335,   227.0,  15.0163,  35.0186,2,  35.0100,2,    205.3,2,   202.2,2,    0.83,2,    4.93,2,    0.01,2,    0.52,2,   2.159,2,-999.000,5,  -999.0,9,  -999.0,9,-999.000,9,-999.0000,9, -999.00,9, -999.00,9,  -999.0,9,  -999.0,-999.000,9,-999.000,     -999.0,-999.0000,-999.000,    14.9819,-999.000
  316N138_4,       P06C,      86,          1,         28,    02-9545,2,19920604,       2344,   -32.4998,  -120.6723,       3335,   278.1,  13.2208,  34.8802,2,  34.8572,2,    202.6,2,   196.7,2,    1.72,2,    9.05,2,    0.00,2,    0.76,2,   1.867,2,-999.000,5,  -999.0,9,  -999.0,9,-999.000,9,-999.0000,9, -999.00,9, -999.00,9,  -999.0,9,  -999.0,-999.000,9,-999.000,     -999.0,-999.0000,-999.000,    13.1821,-999.000
  316N138_4,       P06C,      86,          1,         27,    02-9453,2,19920604,       2344,   -32.4998,  -120.6723,       3335,   327.3,  11.6042,  34.7118,2,  34.6983,2,    206.1,2,   203.7,2,    2.26,2,   12.05,2,    0.00,2,    0.94,2,   1.870,6,-999.000,5,  -999.0,9,  -999.0,9,-999.000,9,-999.0000,9, -999.00,9, -999.00,9,  -999.0,9,  -999.0,-999.000,9,-999.000,     -999.0,-999.0000,-999.000,    11.5623,-999.000
  316N138_4,       P06C,      86,          1,         26,    02-9544,2,19920604,       2344,   -32.4998,  -120.6723,       3335,   376.8,   9.9205,  34.5547,2,  34.5496,2,    213.2,2,   209.4,2,    3.15,2,   15.73,2,    0.00,2,    1.15,2,   1.799,2,-999.000,5,  -999.0,9,  -999.0,9,-999.000,9,-999.0000,9, -999.00,9, -999.00,9,  -999.0,9,  -999.0,-999.000,9,-999.000,     -999.0,-999.0000,-999.000,     9.8768,-999.000
  316N138_4,       P06C,      86,          1,         25,    02-9455,2,19920604,       2344,   -32.4998,  -120.6723,       3335,   426.7,   8.6224,  34.4544,2,  34.4481,2,    224.4,2,   223.7,2,    4.05,2,   18.47,2,    0.01,2,    1.31,2,   1.857,2,-999.000,5,  -999.0,9,  -999.0,9,-999.000,9,-999.0000,9, -999.00,9, -999.00,9,  -999.0,9,  -999.0,-999.000,9,-999.000,     -999.0,-999.0000,-999.000,     8.5769,-999.000
  316N138_4,       P06C,      86,          1,         36,    02-9121,2,19920604,       2344,   -32.4998,  -120.6723,       3335,   477.4,   7.5329,  34.4020,2,  34.3984,2,    233.9,2,   230.0,2,    5.23,2,   20.57,2,    0.00,2,    1.41,2,-999.000,5,-999.000,5,  -999.0,9,  -999.0,9,-999.000,9,-999.0000,9, -999.00,9, -999.00,9,  -999.0,9,  -999.0,-999.000,9,-999.000,     -999.0,-999.0000,-999.000,     7.4858,-999.000
  316N138_4,       P06C,      86,          1,         24,        132,3,19920604,       2344,   -32.4998,  -120.6723,       3335,   556.9,   6.8965,  34.3785,2,  34.3902,4,    243.8,2,   241.7,2,    6.36,2,   21.19,2,    0.00,2,    1.46,2,   2.297,3,-999.000,5,  -999.0,9,  -999.0,9,-999.000,9,-999.0000,9, -999.00,9, -999.00,9,  -999.0,9,  -999.0,-999.000,9,-999.000,     -999.0,-999.0000,-999.000,     6.8441,-999.000
  316N138_4,       P06C,      86,          1,         23,        123,2,19920604,       2344,   -32.4998,  -120.6723,       3335,   631.0,   6.5203,  34.3565,2,  34.3539,2,    244.8,2,   242.4,2,    7.61,2,   22.56,2,    0.00,2,    1.53,2,   1.401,6,-999.000,5,  -999.0,9,  -999.0,9,-999.000,9,-999.0000,9, -999.00,9, -999.00,9,  -999.0,9,  -999.0,-999.000,9,-999.000,     -999.0,-999.0000,-999.000,     6.4622,-999.000
  316N138_4,       P06C,      86,          1,         22,        128,2,19920604,       2344,   -32.4998,  -120.6723,       3335,   704.1,   6.1496,  34.3312,2,  34.3284,2,    243.9,2,   242.7,2,    9.04,2,   23.63,2,    0.01,2,    1.61,2,   1.030,6,-999.000,5,  -999.0,9,  -999.0,9,-999.000,9,-999.0000,9, -999.00,9, -999.00,9,  -999.0,9,  -999.0,-999.000,9,-999.000,     -999.0,-999.0000,-999.000,     6.0865,-999.000
  316N138_4,       P06C,      86,          1,         21,        121,3,19920604,       2344,   -32.4998,  -120.6723,       3335,   773.0,   5.8237,  34.3119,2,  34.3454,4,    241.1,2,   238.6,2,   10.11,2,   23.71,2,    0.00,2,    1.62,2,-999.000,9,-999.000,9,  -999.0,9,  -999.0,9,-999.000,9,-999.0000,9, -999.00,9, -999.00,9,  -999.0,9,  -999.0,-999.000,9,-999.000,     -999.0,-999.0000,-999.000,     5.7559,-999.000
  316N138_4,       P06C,      86,          1,         20,        120,2,19920604,       2344,   -32.4998,  -120.6723,       3335,   843.5,   5.4135,  34.2962,2,  34.2938,2,    234.2,2,   231.5,2,   14.38,2,   26.55,2,    0.00,2,    1.80,2,   0.502,2,-999.000,5,  -999.0,9,  -999.0,9,-999.000,9,-999.0000,9, -999.00,9, -999.00,9,  -999.0,9,  -999.0,-999.000,9,-999.000,     -999.0,-999.0000,-999.000,     5.3417,-999.000
  316N138_4,       P06C,      86,          1,         19,        133,2,19920604,       2344,   -32.4998,  -120.6723,       3335,   945.5,   4.9040,  34.2972,2,  34.2936,2,    220.2,2,   214.0,2,   20.94,2,   28.89,2,    0.00,2,    1.95,2,   0.273,6,-999.000,5,  -999.0,9,  -999.0,9,-999.000,9,-999.0000,9, -999.00,9, -999.00,9,  -999.0,9,  -999.0,-999.000,9,-999.000,     -999.0,-999.0000,-999.000,     4.8266,-999.000
  316N138_4,       P06C,      86,          1,         18,        118,3,19920604,       2344,   -32.4998,  -120.6723,       3335,  1050.4,   4.3871,  34.3197,2,  34.3207,2,    202.6,2,   199.0,2,   30.00,2,   31.08,2,    0.00,2,    2.10,2,-999.000,9,-999.000,9,  -999.0,9,  -999.0,9,-999.000,9,-999.0000,9, -999.00,9, -999.00,9,  -999.0,9,  -999.0,-999.000,9,-999.000,     -999.0,-999.0000,-999.000,     4.3046,-999.000
  316N138_4,       P06C,      86,          1,         17,        117,2,19920604,       2344,   -32.4998,  -120.6723,       3335,  1159.7,   3.7831,  34.3716,2,  34.3682,2,    182.5,2,   179.7,2,   44.20,2,   33.55,2,    0.00,2,    2.29,2,   0.045,2,-999.000,5,  -999.0,9,  -999.0,9,-999.000,9,-999.0000,9, -999.00,9, -999.00,9,  -999.0,9,  -999.0,-999.000,9,-999.000,     -999.0,-999.0000,-999.000,     3.6961,-999.000
  316N138_4,       P06C,      86,          1,         16,        116,2,19920604,       2344,   -32.4998,  -120.6723,       3335,  1261.0,   3.3627,  34.4279,2,  34.4226,2,    168.2,2,   167.1,2,   56.62,2,   34.81,2,    0.00,2,    2.38,2,   0.020,2,-999.000,5,  -999.0,9,  -999.0,9,-999.000,9,-999.0000,9, -999.00,9, -999.00,9,  -999.0,9,  -999.0,-999.000,9,-999.000,     -999.0,-999.0000,-999.000,     3.2711,-999.000
  316N138_4,       P06C,      86,          1,         15,        115,2,19920604,       2344,   -32.4998,  -120.6723,       3335,  1363.6,   3.0825,  34.4718,2,  34.4663,2,    163.9,2,   162.3,2,   65.32,2,   35.07,2,    0.00,2,    2.41,2,   0.009,2,-999.000,5,  -999.0,9,  -999.0,9,-999.000,9,-999.0000,9, -999.00,9, -999.00,9,  -999.0,9,  -999.0,-999.000,9,-999.000,     -999.0,-999.0000,-999.000,     2.9853,-999.000
  316N138_4,       P06C,      86,          1,         14,        114,2,19920604,       2344,   -32.4998,  -120.6723,       3335,  1464.4,   2.7905,  34.5193,2,  34.5139,2,    164.2,2,   165.0,2,   74.19,2,   34.92,2,    0.00,2,    2.41,2,-999.000,9,-999.000,9,  -999.0,9,  -999.0,9,-999.000,9,-999.0000,9, -999.00,9, -999.00,9,  -999.0,9,  -999.0,-999.000,9,-999.000,     -999.0,-999.0000,-999.000,     2.6882,-999.000
  316N138_4,       P06C,      86,          1,         13,        125,2,19920604,       2344,   -32.4998,  -120.6723,       3335,  1566.9,   2.6053,  34.5569,2,  34.5527,2,    161.9,2,   160.1,2,   83.59,2,   35.07,2,    0.00,2,    2.43,2,   0.011,2,-999.000,5,  -999.0,9,  -999.0,9,-999.000,9,-999.0000,9, -999.00,9, -999.00,9,  -999.0,9,  -999.0,-999.000,9,-999.000,     -999.0,-999.0000,-999.000,     2.4966,-999.000
  316N138_4,       P06C,      86,          1,         12,        112,2,19920604,       2344,   -32.4998,  -120.6723,       3335,  1668.4,   2.4593,  34.5850,2,  34.5814,2,    159.4,2,   158.0,2,   91.22,2,   35.11,2,    0.01,2,    2.45,2,-999.000,9,-999.000,9,  -999.0,9,  -999.0,9,-999.000,9,-999.0000,9, -999.00,9, -999.00,9,  -999.0,9,  -999.0,-999.000,9,-999.000,     -999.0,-999.0000,-999.000,     2.3441,-999.000
  316N138_4,       P06C,      86,          1,         11,        129,2,19920604,       2344,   -32.4998,  -120.6723,       3335,  1769.3,   2.3338,  34.6067,2,  34.6126,4,    157.8,2,   156.6,2,   97.43,2,   35.11,2,    0.01,2,    2.46,2,   0.009,2,-999.000,5,  -999.0,9,  -999.0,9,-999.000,9,-999.0000,9, -999.00,9, -999.00,9,  -999.0,9,  -999.0,-999.000,9,-999.000,     -999.0,-999.0000,-999.000,     2.2119,-999.000
  316N138_4,       P06C,      86,          1,         10,        110,2,19920604,       2344,   -32.4998,  -120.6723,       3335,  1919.2,   2.2048,  34.6268,2,  34.6231,2,    155.8,2,   154.6,2,  104.17,2,   35.21,2,    0.01,2,    2.47,2,-999.000,9,-999.000,9,  -999.0,9,  -999.0,9,-999.000,9,-999.0000,9, -999.00,9, -999.00,9,  -999.0,9,  -999.0,-999.000,9,-999.000,     -999.0,-999.0000,-999.000,     2.0721,-999.000
  316N138_4,       P06C,      86,          1,          9,        126,2,19920604,       2344,   -32.4998,  -120.6723,       3335,  2070.4,   2.0847,  34.6397,2,  34.6402,2,    155.6,2,   157.9,4,  110.02,2,   35.26,2,    0.01,2,    2.48,2,   0.003,2,-999.000,5,  -999.0,9,  -999.0,9,-999.000,9,-999.0000,9, -999.00,9, -999.00,9,  -999.0,9,  -999.0,-999.000,9,-999.000,     -999.0,-999.0000,-999.000,     1.9410,-999.000
  316N138_4,       P06C,      86,          1,          8,        108,2,19920604,       2344,   -32.4998,  -120.6723,       3335,  2275.8,   1.9326,  34.6551,2,  34.6531,2,    155.7,2,   156.0,2,  116.04,2,   35.21,2,    0.01,2,    2.49,2,  -0.002,2,-999.000,5,  -999.0,9,  -999.0,9,-999.000,9,-999.0000,9, -999.00,9, -999.00,9,  -999.0,9,  -999.0,-999.000,9,-999.000,     -999.0,-999.0000,-999.000,     1.7736,-999.000
  316N138_4,       P06C,      86,          1,          7,        107,3,19920604,       2344,   -32.4998,  -120.6723,       3335,  2427.8,   1.8555,  34.6626,2,  34.6610,2,    157.2,2,   158.6,2,  116.74,3,   34.85,3,    0.00,3,    2.46,3,-999.000,9,-999.000,9,  -999.0,9,  -999.0,9,-999.000,9,-999.0000,9, -999.00,9, -999.00,9,  -999.0,9,  -999.0,-999.000,9,-999.000,     -999.0,-999.0000,-999.000,     1.6843,-999.000
  316N138_4,       P06C,      86,          1,          6,        180,2,19920604,       2344,   -32.4998,  -120.6723,       3335,  2630.2,   1.7620,  34.6703,2,  34.6661,2,    161.0,2,   160.8,2,  121.00,2,   35.00,2,    0.00,2,    2.47,2,-999.000,9,-999.000,9,  -999.0,9,  -999.0,9,-999.000,9,-999.0000,9, -999.00,9, -999.00,9,  -999.0,9,  -999.0,-999.000,9,-999.000,     -999.0,-999.0000,-999.000,     1.5743,-999.000
  316N138_4,       P06C,      86,          1,          5,        131,2,19920604,       2344,   -32.4998,  -120.6723,       3335,  2830.4,   1.7048,  34.6757,2,  34.6734,2,    164.2,2,   163.0,2,  121.71,2,   34.85,2,    0.00,2,    2.45,2,   0.009,2,-999.000,5,  -999.0,9,  -999.0,9,-999.000,9,-999.0000,9, -999.00,9, -999.00,9,  -999.0,9,  -999.0,-999.000,9,-999.000,     -999.0,-999.0000,-999.000,     1.4996,-999.000
  316N138_4,       P06C,      86,          1,          4,        104,2,19920604,       2344,   -32.4998,  -120.6723,       3335,  3032.1,   1.6735,  34.6793,2,  34.6775,2,    166.6,2,   166.1,2,  121.88,2,   34.69,2,    0.00,2,    2.46,2,-999.000,9,-999.000,9,  -999.0,9,  -999.0,9,-999.000,9,-999.0000,9, -999.00,9, -999.00,9,  -999.0,9,  -999.0,-999.000,9,-999.000,     -999.0,-999.0000,-999.000,     1.4498,-999.000
  316N138_4,       P06C,      86,          1,          3,        130,2,19920604,       2344,   -32.4998,  -120.6723,       3335,  3230.1,   1.6606,  34.6823,2,  34.6785,2,    167.7,2,   167.0,2,  122.24,2,   34.58,2,    0.00,2,    2.44,2,  -0.004,2,-999.000,5,  -999.0,9,  -999.0,9,-999.000,9,-999.0000,9, -999.00,9, -999.00,9,  -999.0,9,  -999.0,-999.000,9,-999.000,     -999.0,-999.0000,-999.000,     1.4178,-999.000
  316N138_4,       P06C,      86,          1,          2,        135,2,19920604,       2344,   -32.4998,  -120.6723,       3335,  3438.4,   1.6746,  34.6828,2,  34.6798,2,    167.0,2,   167.1,2,  122.23,2,   34.57,2,    0.00,2,    2.44,2,-999.000,9,-999.000,9,  -999.0,9,  -999.0,9,-999.000,9,-999.0000,9, -999.00,9, -999.00,9,  -999.0,9,  -999.0,-999.000,9,-999.000,     -999.0,-999.0000,-999.000,     1.4105,-999.000
  316N138_4,       P06C,      86,          1,          1,        134,2,19920604,       2344,   -32.4998,  -120.6723,       3335,  3462.6,   1.6759,  34.6828,2,  34.6863,4,    166.9,2,   169.5,3,  121.95,2,   34.58,2,    0.00,2,    2.42,2,   0.003,2,-999.000,5,  -999.0,9,  -999.0,9,-999.000,9,-999.0000,9, -999.00,9, -999.00,9,  -999.0,9,  -999.0,-999.000,9,-999.000,     -999.0,-999.0000,-999.000,     1.4093,-999.000