BOTTLE,20211025CCHSIORKP
EXPOCODE,SECT_ID,STNNBR,CASTNO,SAMPNO,BTLNBR,BTLNBR_FLAG_W,DATE,TIME,LATITUDE,LONGITUDE,DEPTH,CTDPRS,CTDTMP,CTDSAL,CTDSAL_FLAG_W,SALNTY,SALNTY_FLAG_W,CTDOXY,CTDOXY_FLAG_W,OXYGEN,OXYGEN_FLAG_W,SILCAT,SILCAT_FLAG_W,NITRAT,NITRAT_FLAG_W,NITRIT,NITRIT_FLAG_W,PHSPHT,PHSPHT_FLAG_W,CFC-11,CFC-11_FLAG_W,CFC-12,CFC-12_FLAG_W,TCARBN,TCARBN_FLAG_W,PCO2,PCO2_FLAG_W,TRITUM,TRITUM_FLAG_W,HELIUM,HELIUM_FLAG_W,DELHE3,DELHE3_FLAG_W,DELC13,DELC13_FLAG_W,DELC14,DELC14_FLAG_W,C14ERR,NEON,NEON_FLAG_W,NEONER,PCO2TMP,HELIER,DELHER,THETA,TRITER
,,,,,,,,,,,METERS,DBAR,ITS-90,PSS-78,,PSS-78,,UMOL/KG,,UMOL/KG,,UMOL/KG,,UMOL/KG,,UMOL/KG,,UMOL/KG,,PMOL/KG,,PMOL/KG,,UMOL/KG,,UATM,,TU,,NMOL/KG,,PERCNT,,/MILLE,,/MILLE,,/MILLE,NMOL/KG,,NMOL/KG,DEG_C,NMOL/KG,PERCNT,ITS-90,TU
  316N138_4,       P06C,      87,          1,         36,    02-9121,2,19920605,       0607,   -32.5073,  -121.3345,       3230,    17.1,  20.2296,  35.2969,2,  35.3019,2,    236.0,2,   225.2,2,    0.31,2,    0.00,2,    0.00,2,    0.13,2,-999.000,9,-999.000,9,  -999.0,9,  -999.0,9,-999.000,9,-999.0000,9, -999.00,9, -999.00,9,  -999.0,9,  -999.0,-999.000,9,-999.000,     -999.0,-999.0000,-999.000,    20.2264,-999.000
  316N138_4,       P06C,      87,          1,         35,    02-9454,2,19920605,       0607,   -32.5073,  -121.3345,       3230,    57.0,  20.1633,  35.3054,2,  35.3072,2,    230.2,2,   225.7,2,    0.33,2,    0.00,2,    0.00,2,    0.13,2,-999.000,9,-999.000,9,  2009.7,6,   315.7,2,-999.000,9,-999.0000,9, -999.00,9, -999.00,9,  -999.0,9,  -999.0,-999.000,9,-999.000,      20.20,-999.0000,-999.000,    20.1527,-999.000
  316N138_4,       P06C,      87,          1,         34,    02-9457,2,19920605,       0607,   -32.5073,  -121.3345,       3230,    86.9,  19.3182,  35.2968,2,  35.2954,2,    235.4,2,   235.1,2,    0.36,2,    0.00,2,    0.00,2,    0.15,2,-999.000,9,-999.000,9,  -999.0,9,  -999.0,9,-999.000,9,-999.0000,9, -999.00,9, -999.00,9,  -999.0,9,  -999.0,-999.000,9,-999.000,     -999.0,-999.0000,-999.000,    19.3025,-999.000
  316N138_4,       P06C,      87,          1,         33,    02-5367,2,19920605,       0607,   -32.5073,  -121.3345,       3230,   117.0,  17.7385,  35.2119,2,  35.2716,2,    234.8,2,   233.5,2,    0.39,2,    0.05,2,    0.00,2,    0.18,2,-999.000,9,-999.000,9,  2025.3,2,   350.6,2,-999.000,9,-999.0000,9, -999.00,9, -999.00,9,  -999.0,9,  -999.0,-999.000,9,-999.000,      20.20,-999.0000,-999.000,    17.7186,-999.000
  316N138_4,       P06C,      87,          1,         32,    02-9540,2,19920605,       0607,   -32.5073,  -121.3345,       3230,   147.4,  16.7842,  35.1325,2,  35.1234,2,    224.8,2,   223.0,2,    0.60,2,    0.32,2,    0.15,2,    0.24,2,-999.000,9,-999.000,9,  -999.0,9,  -999.0,9,-999.000,9,-999.0000,9, -999.00,9, -999.00,9,  -999.0,9,  -999.0,-999.000,9,-999.000,     -999.0,-999.0000,-999.000,    16.7601,-999.000
  316N138_4,       P06C,      87,          1,         31,    02-9539,2,19920605,       0607,   -32.5073,  -121.3345,       3230,   176.5,  15.9959,  35.0716,2,  35.0685,2,    219.4,2,   214.1,2,    0.62,2,    2.07,2,    0.06,2,    0.37,2,-999.000,9,-999.000,9,  2052.4,2,   402.6,2,-999.000,9,-999.0000,9, -999.00,9, -999.00,9,  -999.0,9,  -999.0,-999.000,9,-999.000,      20.20,-999.0000,-999.000,    15.9680,-999.000
  316N138_4,       P06C,      87,          1,         30,    02-9456,2,19920605,       0607,   -32.5073,  -121.3345,       3230,   225.1,  14.7313,  34.9939,2,  34.9768,2,    209.4,2,   202.5,2,    1.17,2,    5.73,2,    0.01,2,    0.58,2,-999.000,9,-999.000,9,  -999.0,9,  -999.0,9,-999.000,9,-999.0000,9, -999.00,9, -999.00,9,  -999.0,9,  -999.0,-999.000,9,-999.000,     -999.0,-999.0000,-999.000,    14.6976,-999.000
  316N138_4,       P06C,      87,          1,         29,    02-9458,2,19920605,       0607,   -32.5073,  -121.3345,       3230,   275.4,  12.7754,  34.8153,2,  34.8082,2,    207.0,2,   202.1,2,    1.90,2,    9.67,2,    0.02,2,    0.81,2,-999.000,9,-999.000,9,  2089.5,2,   535.2,2,-999.000,9,-999.0000,9, -999.00,9, -999.00,9,  -999.0,9,  -999.0,-999.000,9,-999.000,      20.20,-999.0000,-999.000,    12.7379,-999.000
  316N138_4,       P06C,      87,          1,         28,    02-9545,2,19920605,       0607,   -32.5073,  -121.3345,       3230,   326.3,  10.7577,  34.6247,2,  34.6148,2,    209.5,2,   203.1,2,    3.17,2,   14.43,2,    0.01,2,    1.08,2,-999.000,9,-999.000,9,  -999.0,9,  -999.0,9,-999.000,9,-999.0000,9, -999.00,9, -999.00,9,  -999.0,9,  -999.0,-999.000,9,-999.000,     -999.0,-999.0000,-999.000,    10.7179,-999.000
  316N138_4,       P06C,      87,          1,         27,    02-9453,2,19920605,       0607,   -32.5073,  -121.3345,       3230,   376.6,   9.0133,  34.4806,2,  34.4754,2,    214.1,2,   212.2,2,    4.43,2,   18.09,2,    0.00,2,    1.30,2,-999.000,9,-999.000,9,  2120.8,2,   685.2,2,-999.000,9,-999.0000,9, -999.00,9, -999.00,9,  -999.0,9,  -999.0,-999.000,9,-999.000,      20.20,-999.0000,-999.000,     8.9722,-999.000
  316N138_4,       P06C,      87,          1,         26,    02-9544,2,19920605,       0607,   -32.5073,  -121.3345,       3230,   425.7,   8.1342,  34.4239,2,  34.4198,2,    219.2,2,   218.0,2,    5.52,2,   20.16,2,    0.00,2,    1.43,2,-999.000,9,-999.000,9,  -999.0,9,  -999.0,9,-999.000,9,-999.0000,9, -999.00,9, -999.00,9,  -999.0,9,  -999.0,-999.000,9,-999.000,     -999.0,-999.0000,-999.000,     8.0906,-999.000
  316N138_4,       P06C,      87,          1,         25,    02-9455,2,19920605,       0607,   -32.5073,  -121.3345,       3230,   476.0,   7.3717,  34.3797,2,  34.3809,2,    225.0,2,   227.5,2,    6.43,2,   21.61,2,    0.00,2,    1.51,2,-999.000,9,-999.000,9,  2132.9,2,   727.7,2,-999.000,9,-999.0000,9, -999.00,9, -999.00,9,  -999.0,9,  -999.0,-999.000,9,-999.000,      20.20,-999.0000,-999.000,     7.3254,-999.000
  316N138_4,       P06C,      87,          1,         24,        132,2,19920605,       0607,   -32.5073,  -121.3345,       3230,   553.6,   6.8411,  34.3651,2,  34.3652,2,    235.5,2,   237.1,2,    7.16,2,   22.24,2,    0.01,2,    1.54,2,-999.000,9,-999.000,9,  -999.0,9,  -999.0,9,-999.000,9,-999.0000,9, -999.00,9, -999.00,9,  -999.0,9,  -999.0,-999.000,9,-999.000,     -999.0,-999.0000,-999.000,     6.7891,-999.000
  316N138_4,       P06C,      87,          1,         23,        123,2,19920605,       0607,   -32.5073,  -121.3345,       3230,   629.9,   6.3754,  34.3401,2,  34.3384,2,    242.1,2,   241.4,2,    8.42,2,   23.25,2,    0.00,2,    1.60,2,-999.000,9,-999.000,9,  2134.2,2,   724.4,2,-999.000,9,-999.0000,9, -999.00,9, -999.00,9,  -999.0,9,  -999.0,-999.000,9,-999.000,      20.20,-999.0000,-999.000,     6.3181,-999.000
  316N138_4,       P06C,      87,          1,         22,        128,2,19920605,       0607,   -32.5073,  -121.3345,       3230,   705.5,   6.0655,  34.3196,2,  34.3190,2,    240.9,2,   240.5,2,    9.68,2,   24.25,2,    0.01,2,    1.67,2,-999.000,9,-999.000,9,  -999.0,9,  -999.0,9,-999.000,9,-999.0000,9, -999.00,9, -999.00,9,  -999.0,9,  -999.0,-999.000,9,-999.000,     -999.0,-999.0000,-999.000,     6.0028,-999.000
  316N138_4,       P06C,      87,          1,         21,        121,2,19920605,       0607,   -32.5073,  -121.3345,       3230,   779.8,   5.6628,  34.2974,2,  34.2962,2,    237.2,2,   237.0,2,   11.83,2,   25.51,2,    0.01,2,    1.74,2,-999.000,9,-999.000,9,  2143.2,2,   767.4,2,-999.000,9,-999.0000,9, -999.00,9, -999.00,9,  -999.0,9,  -999.0,-999.000,9,-999.000,      20.20,-999.0000,-999.000,     5.5955,-999.000
  316N138_4,       P06C,      87,          1,         20,        120,2,19920605,       0607,   -32.5073,  -121.3345,       3230,   853.6,   5.2684,  34.2888,2,  34.2876,2,    226.8,2,   226.3,2,   15.74,2,   27.27,2,    0.00,2,    1.85,2,-999.000,9,-999.000,9,  -999.0,9,  -999.0,9,-999.000,9,-999.0000,9, -999.00,9, -999.00,9,  -999.0,9,  -999.0,-999.000,9,-999.000,     -999.0,-999.0000,-999.000,     5.1968,-999.000
  316N138_4,       P06C,      87,          1,         19,        133,2,19920605,       0607,   -32.5073,  -121.3345,       3230,   953.4,   4.7190,  34.2961,2,  34.2972,2,    209.8,2,   207.0,2,   24.41,2,   30.11,2,    0.01,2,    2.05,2,-999.000,9,-999.000,9,  2177.0,2,   903.0,2,-999.000,9,-999.0000,9, -999.00,9, -999.00,9,  -999.0,9,  -999.0,-999.000,9,-999.000,      20.20,-999.0000,-999.000,     4.6422,-999.000
  316N138_4,       P06C,      87,          1,         18,        118,2,19920605,       0607,   -32.5073,  -121.3345,       3230,  1055.5,   4.1510,  34.3380,2,  34.3344,2,    193.0,2,   191.1,2,   35.56,2,   32.26,2,    0.00,2,    2.20,2,-999.000,9,-999.000,9,  -999.0,9,  -999.0,9,-999.000,9,-999.0000,9, -999.00,9, -999.00,9,  -999.0,9,  -999.0,-999.000,9,-999.000,     -999.0,-999.0000,-999.000,     4.0697,-999.000
  316N138_4,       P06C,      87,          1,         17,        117,2,19920605,       0607,   -32.5073,  -121.3345,       3230,  1155.0,   3.7774,  34.3707,2,  34.3727,2,    178.5,2,   178.1,2,   45.28,2,   33.74,2,    0.00,2,    2.31,2,-999.000,9,-999.000,9,  2216.8,2,  1099.3,2,-999.000,9,-999.0000,9, -999.00,9, -999.00,9,  -999.0,9,  -999.0,-999.000,9,-999.000,      20.20,-999.0000,-999.000,     3.6908,-999.000
  316N138_4,       P06C,      87,          1,         16,        116,2,19920605,       0607,   -32.5073,  -121.3345,       3230,  1255.4,   3.3523,  34.4274,2,  34.4283,2,    170.3,2,   168.1,2,   57.31,2,   34.76,2,    0.00,2,    2.39,2,-999.000,9,-999.000,9,  -999.0,9,  -999.0,9,-999.000,9,-999.0000,9, -999.00,9, -999.00,9,  -999.0,9,  -999.0,-999.000,9,-999.000,     -999.0,-999.0000,-999.000,     3.2612,-999.000
  316N138_4,       P06C,      87,          1,         15,        115,2,19920605,       0607,   -32.5073,  -121.3345,       3230,  1349.3,   3.0591,  34.4729,2,  34.4707,2,    165.9,2,   164.8,2,   65.98,2,   34.97,2,    0.00,2,    2.40,2,-999.000,9,-999.000,9,  2245.4,2,  1140.5,2,-999.000,9,-999.0000,9, -999.00,9, -999.00,9,  -999.0,9,  -999.0,-999.000,9,-999.000,      20.20,-999.0000,-999.000,     2.9633,-999.000
  316N138_4,       P06C,      87,          1,         14,        114,2,19920605,       0607,   -32.5073,  -121.3345,       3230,  1445.4,   2.8099,  34.5147,2,  34.5174,2,    164.5,2,   164.0,2,   74.65,2,   34.96,2,    0.01,2,    2.41,2,-999.000,9,-999.000,9,  -999.0,9,  -999.0,9,-999.000,9,-999.0000,9, -999.00,9, -999.00,9,  -999.0,9,  -999.0,-999.000,9,-999.000,     -999.0,-999.0000,-999.000,     2.7088,-999.000
  316N138_4,       P06C,      87,          1,         13,        125,2,19920605,       0607,   -32.5073,  -121.3345,       3230,  1542.4,   2.6364,  34.5482,2,  34.5476,2,    162.9,2,   161.9,2,   81.73,2,   34.96,2,    0.01,2,    2.44,2,-999.000,9,-999.000,9,  2262.0,2,  1116.0,2,-999.000,9,-999.0000,9, -999.00,9, -999.00,9,  -999.0,9,  -999.0,-999.000,9,-999.000,      20.20,-999.0000,-999.000,     2.5294,-999.000
  316N138_4,       P06C,      87,          1,         12,        112,2,19920605,       0607,   -32.5073,  -121.3345,       3230,  1641.7,   2.5082,  34.5723,2,  34.5706,2,    160.9,2,   159.9,2,   87.93,2,   35.02,2,    0.00,2,    2.44,2,-999.000,9,-999.000,9,  -999.0,9,  -999.0,9,-999.000,9,-999.0000,9, -999.00,9, -999.00,9,  -999.0,9,  -999.0,-999.000,9,-999.000,     -999.0,-999.0000,-999.000,     2.3946,-999.000
  316N138_4,       P06C,      87,          1,         11,        129,2,19920605,       0607,   -32.5073,  -121.3345,       3230,  1739.6,   2.4057,  34.5932,2,  34.5961,2,    159.1,2,   158.3,2,   93.59,2,   35.07,2,    0.00,2,    2.45,2,-999.000,9,-999.000,9,  2274.5,2,  1137.3,2,-999.000,9,-999.0000,9, -999.00,9, -999.00,9,  -999.0,9,  -999.0,-999.000,9,-999.000,      20.20,-999.0000,-999.000,     2.2853,-999.000
  316N138_4,       P06C,      87,          1,         10,        110,2,19920605,       0607,   -32.5073,  -121.3345,       3230,  1888.7,   2.2217,  34.6216,2,  34.6217,2,    156.8,2,   156.6,2,  103.14,2,   35.12,2,    0.00,2,    2.47,2,-999.000,9,-999.000,9,  -999.0,9,  -999.0,9,-999.000,9,-999.0000,9, -999.00,9, -999.00,9,  -999.0,9,  -999.0,-999.000,9,-999.000,     -999.0,-999.0000,-999.000,     2.0913,-999.000
  316N138_4,       P06C,      87,          1,          9,        126,2,19920605,       0607,   -32.5073,  -121.3345,       3230,  2030.8,   2.1143,  34.6351,2,  34.6337,2,    155.6,2,   155.4,2,  108.46,2,   35.23,2,    0.00,2,    2.46,2,-999.000,9,-999.000,9,  2290.7,2,  1132.9,2,-999.000,9,-999.0000,9, -999.00,9, -999.00,9,  -999.0,9,  -999.0,-999.000,9,-999.000,      20.20,-999.0000,-999.000,     1.9735,-999.000
  316N138_4,       P06C,      87,          1,          8,        108,2,19920605,       0607,   -32.5073,  -121.3345,       3230,  2176.1,   2.0035,  34.6471,2,  34.6464,2,    156.0,2,   156.6,2,  113.25,2,   35.28,2,    0.00,2,    2.49,2,-999.000,9,-999.000,9,  -999.0,9,  -999.0,9,-999.000,9,-999.0000,9, -999.00,9, -999.00,9,  -999.0,9,  -999.0,-999.000,9,-999.000,     -999.0,-999.0000,-999.000,     1.8520,-999.000
  316N138_4,       P06C,      87,          1,          7,        107,2,19920605,       0607,   -32.5073,  -121.3345,       3230,  2271.4,   1.9511,  34.6521,2,  34.6531,2,    156.4,2,   156.5,2,  115.21,2,   35.23,2,    0.00,2,    2.47,2,-999.000,9,-999.000,9,  2296.7,2,  1148.4,2,-999.000,9,-999.0000,9, -999.00,9, -999.00,9,  -999.0,9,  -999.0,-999.000,9,-999.000,      20.20,-999.0000,-999.000,     1.7922,-999.000
  316N138_4,       P06C,      87,          1,          6,        180,2,19920605,       0607,   -32.5073,  -121.3345,       3230,  2470.3,   1.8360,  34.6625,2,  34.6620,2,    158.5,2,   158.4,2,  118.76,2,   35.17,2,    0.00,2,    2.46,2,-999.000,9,-999.000,9,  -999.0,9,  -999.0,9,-999.000,9,-999.0000,9, -999.00,9, -999.00,9,  -999.0,9,  -999.0,-999.000,9,-999.000,     -999.0,-999.0000,-999.000,     1.6614,-999.000
  316N138_4,       P06C,      87,          1,          5,        131,2,19920605,       0607,   -32.5073,  -121.3345,       3230,  2625.3,   1.7750,  34.6679,2,  34.6704,2,    160.8,2,   160.3,2,  120.02,2,   35.07,2,    0.00,2,    2.47,2,-999.000,9,-999.000,9,  -999.0,9,  -999.0,9,-999.000,9,-999.0000,9, -999.00,9, -999.00,9,  -999.0,9,  -999.0,-999.000,9,-999.000,     -999.0,-999.0000,-999.000,     1.5875,-999.000
  316N138_4,       P06C,      87,          1,          4,        104,2,19920605,       0607,   -32.5073,  -121.3345,       3230,  2777.7,   1.7290,  34.6724,2,  34.6732,2,    162.8,2,   162.2,2,  120.75,2,   34.96,2,    0.00,2,    2.45,2,-999.000,9,-999.000,9,  2298.3,2,  1119.2,6,-999.000,9,-999.0000,9, -999.00,9, -999.00,9,  -999.0,9,  -999.0,-999.000,9,-999.000,      20.20,-999.0000,-999.000,     1.5283,-999.000
  316N138_4,       P06C,      87,          1,          3,        130,2,19920605,       0607,   -32.5073,  -121.3345,       3230,  2975.9,   1.6853,  34.6767,2,  34.6791,2,    165.6,2,   164.8,2,  121.48,2,   34.75,2,    0.01,2,    2.44,2,-999.000,9,-999.000,9,  -999.0,9,  -999.0,9,-999.000,9,-999.0000,9, -999.00,9, -999.00,9,  -999.0,9,  -999.0,-999.000,9,-999.000,     -999.0,-999.0000,-999.000,     1.4667,-999.000
  316N138_4,       P06C,      87,          1,          2,        135,2,19920605,       0607,   -32.5073,  -121.3345,       3230,  3174.9,   1.6858,  34.6783,2,  34.6822,2,    167.0,2,   165.3,2,  121.50,2,   34.76,2,    0.00,2,    2.43,2,-999.000,9,-999.000,9,  -999.0,9,  -999.0,9,-999.000,9,-999.0000,9, -999.00,9, -999.00,9,  -999.0,9,  -999.0,-999.000,9,-999.000,     -999.0,-999.0000,-999.000,     1.4479,-999.000
  316N138_4,       P06C,      87,          1,          1,        134,2,19920605,       0607,   -32.5073,  -121.3345,       3230,  3287.5,   1.6905,  34.6793,2,  34.6816,2,    165.4,2,   165.8,2,  121.40,2,   34.67,2,    0.00,2,    2.44,2,-999.000,9,-999.000,9,  2296.9,6,  1091.6,2,-999.000,9,-999.0000,9, -999.00,9, -999.00,9,  -999.0,9,  -999.0,-999.000,9,-999.000,      20.20,-999.0000,-999.000,     1.4413,-999.000