BOTTLE,20211025CCHSIORKP
EXPOCODE,SECT_ID,STNNBR,CASTNO,SAMPNO,BTLNBR,BTLNBR_FLAG_W,DATE,TIME,LATITUDE,LONGITUDE,DEPTH,CTDPRS,CTDTMP,CTDSAL,CTDSAL_FLAG_W,SALNTY,SALNTY_FLAG_W,CTDOXY,CTDOXY_FLAG_W,OXYGEN,OXYGEN_FLAG_W,SILCAT,SILCAT_FLAG_W,NITRAT,NITRAT_FLAG_W,NITRIT,NITRIT_FLAG_W,PHSPHT,PHSPHT_FLAG_W,CFC-11,CFC-11_FLAG_W,CFC-12,CFC-12_FLAG_W,TCARBN,TCARBN_FLAG_W,PCO2,PCO2_FLAG_W,TRITUM,TRITUM_FLAG_W,HELIUM,HELIUM_FLAG_W,DELHE3,DELHE3_FLAG_W,DELC13,DELC13_FLAG_W,DELC14,DELC14_FLAG_W,C14ERR,NEON,NEON_FLAG_W,NEONER,PCO2TMP,HELIER,DELHER,THETA,TRITER
,,,,,,,,,,,METERS,DBAR,ITS-90,PSS-78,,PSS-78,,UMOL/KG,,UMOL/KG,,UMOL/KG,,UMOL/KG,,UMOL/KG,,UMOL/KG,,PMOL/KG,,PMOL/KG,,UMOL/KG,,UATM,,TU,,NMOL/KG,,PERCNT,,/MILLE,,/MILLE,,/MILLE,NMOL/KG,,NMOL/KG,DEG_C,NMOL/KG,PERCNT,ITS-90,TU
  316N138_4,       P06C,     125,          1,         36,    02-9121,2,19920618,       1411,   -32.4973,  -148.1603,       4547,    23.8,  17.6326,  35.2584,2,  35.2582,2,    251.4,2,   235.3,2,    0.35,2,    0.00,2,    0.01,2,    0.11,2,-999.000,9,-999.000,9,  2029.9,6,   350.7,2,-999.000,9,-999.0000,9, -999.00,9, -999.00,9,  -999.0,9,  -999.0,-999.000,9,-999.000,      20.30,-999.0000,-999.000,    17.6286,-999.000
  316N138_4,       P06C,     125,          1,         35,    02-9454,2,19920618,       1411,   -32.4973,  -148.1603,       4547,    64.3,  17.6378,  35.2584,2,  35.2578,2,    237.6,2,   235.4,2,    0.35,2,    0.00,2,    0.01,2,    0.12,2,-999.000,9,-999.000,9,  2030.6,2,  -999.0,9,   0.624,2,-999.0000,9, -999.00,9, -999.00,9,  -999.0,9,  -999.0,-999.000,9,-999.000,     -999.0,-999.0000,-999.000,    17.6269,   0.004
  316N138_4,       P06C,     125,          1,         34,    02-9457,2,19920618,       1411,   -32.4973,  -148.1603,       4547,   112.9,  16.3408,  35.2779,2,  35.2804,2,    241.7,2,   239.8,2,    0.50,2,    0.10,2,    0.05,2,    0.17,2,-999.000,9,-999.000,9,  2044.4,2,   360.9,6,   0.660,2,   1.7880,2,   -1.20,2, -999.00,9,  -999.0,9,  -999.0,-999.000,9,-999.000,      20.30,-999.0000,   0.150,    16.3227,   0.004
  316N138_4,       P06C,     125,          1,         33,    02-5367,2,19920618,       1411,   -32.4973,  -148.1603,       4547,   162.9,  15.4383,  35.2340,2,  35.2325,2,    229.1,2,   228.0,2,    0.64,2,    1.34,2,    0.09,2,    0.26,2,-999.000,9,-999.000,9,  2058.4,2,  -999.0,9,   0.603,2,   1.7890,2,   -0.87,2, -999.00,9,  -999.0,9,  -999.0,-999.000,9,-999.000,     -999.0,-999.0000,   0.150,    15.4131,   0.004
  316N138_4,       P06C,     125,          1,         32,    02-9540,2,19920618,       1411,   -32.4973,  -148.1603,       4547,   212.5,  14.2286,  35.0922,2,  35.0726,2,    226.9,2,   219.9,2,    1.07,2,    4.37,2,    0.01,2,    0.45,2,-999.000,9,-999.000,9,  2074.4,2,   464.5,2,   0.537,2,   1.8010,2,   -1.14,2, -999.00,9,  -999.0,9,  -999.0,-999.000,9,-999.000,      20.30,-999.0000,   0.150,    14.1975,   0.004
  316N138_4,       P06C,     125,          1,         31,    02-9539,2,19920618,       1411,   -32.4973,  -148.1603,       4547,   262.7,  11.9781,  34.8548,2,  34.8762,2,    212.5,2,   205.1,2,    2.50,2,   10.66,2,    0.01,2,    0.84,2,-999.000,9,-999.000,9,  2103.2,2,  -999.0,9,   0.420,2,   1.8040,2,   -0.23,2, -999.00,9,  -999.0,9,  -999.0,-999.000,9,-999.000,     -999.0,-999.0000,   0.150,    11.9438,   0.004
  316N138_4,       P06C,     125,          1,         30,    02-9456,2,19920618,       1411,   -32.4973,  -148.1603,       4547,   313.6,   9.9305,  34.6596,2,  34.6651,2,    213.1,2,   212.2,2,    3.36,2,   15.18,2,    0.01,2,    1.08,2,-999.000,9,-999.000,9,  2117.3,2,   597.8,2,   0.310,2,   1.8220,2,   -0.15,2, -999.00,9,  -999.0,9,  -999.0,-999.000,9,-999.000,      20.30,-999.0000,   0.150,     9.8942,   0.003
  316N138_4,       P06C,     125,          1,         29,    02-9458,2,19920618,       1411,   -32.4973,  -148.1603,       4547,   363.3,   8.9080,  34.5670,2,  34.5686,2,    219.2,2,   218.7,2,    4.36,2,   17.50,2,    0.01,2,    1.22,2,-999.000,9,-999.000,9,  2123.2,2,  -999.0,9,-999.000,9,-999.0000,9, -999.00,9, -999.00,9,  -999.0,9,  -999.0,-999.000,9,-999.000,     -999.0,-999.0000,-999.000,     8.8686,-999.000
  316N138_4,       P06C,     125,          1,         28,    02-9545,2,19920618,       1411,   -32.4973,  -148.1603,       4547,   413.3,   8.0501,  34.4885,2,  34.4970,2,    230.5,2,   232.0,2,    4.79,2,   18.88,2,    0.00,2,    1.30,2,-999.000,9,-999.000,9,  2126.1,2,   657.4,2,   0.278,2,   1.8220,2,   -0.36,2, -999.00,9,  -999.0,9,  -999.0,-999.000,9,-999.000,      20.30,-999.0000,   0.150,     8.0078,   0.003
  316N138_4,       P06C,     125,          1,         27,    02-9453,2,19920618,       1411,   -32.4973,  -148.1603,       4547,   464.4,   7.6346,  34.4636,2,  34.4638,2,    238.7,2,   237.1,2,    5.50,2,   19.83,2,    0.00,2,    1.35,2,-999.000,9,-999.000,9,  2127.5,2,  -999.0,9,-999.000,9,-999.0000,9, -999.00,9, -999.00,9,  -999.0,9,  -999.0,-999.000,9,-999.000,     -999.0,-999.0000,-999.000,     7.5884,-999.000
  316N138_4,       P06C,     125,          1,         26,    02-9544,2,19920618,       1411,   -32.4973,  -148.1603,       4547,   514.0,   7.4062,  34.4420,2,  34.4422,2,    241.4,2,   239.3,2,    5.93,2,   20.51,2,    0.00,2,    1.40,2,-999.000,9,-999.000,9,  2130.0,2,   669.6,2,   0.247,2,   1.8220,2,   -0.24,2, -999.00,9,  -999.0,9,  -999.0,-999.000,9,-999.000,      20.30,-999.0000,   0.150,     7.3559,   0.003
  316N138_4,       P06C,     125,          1,         25,    02-9455,2,19920618,       1411,   -32.4973,  -148.1603,       4547,   614.1,   6.8408,  34.3949,2,  34.3949,2,    244.0,2,   241.1,2,    7.64,2,   22.07,2,    0.00,2,    1.50,2,-999.000,9,-999.000,9,  2131.8,2,   680.3,2,   0.192,2,   1.8430,2,    0.20,2, -999.00,9,  -999.0,9,  -999.0,-999.000,9,-999.000,      20.30,-999.0000,   0.150,     6.7829,   0.002
  316N138_4,       P06C,     125,          1,         24,        132,3,19920618,       1411,   -32.4973,  -148.1603,       4547,   715.0,   6.3295,  34.3556,2,  34.9203,4,    244.1,2,   231.6,4,    2.78,4,    8.29,4,    0.01,4,    0.67,4,-999.000,9,-999.000,9,  2081.6,3,  -999.0,9,-999.000,9,-999.0000,9, -999.00,9, -999.00,9,  -999.0,9,  -999.0,-999.000,9,-999.000,     -999.0,-999.0000,-999.000,     6.2643,-999.000
  316N138_4,       P06C,     125,          1,         23,        123,2,19920618,       1411,   -32.4973,  -148.1603,       4547,   816.7,   5.8135,  34.3274,2,  34.3293,2,    238.4,2,   228.2,2,   13.64,2,   25.90,2,    0.00,2,    1.74,2,-999.000,9,-999.000,9,  2149.8,2,  -999.0,9,   0.089,2,   1.8520,2,    0.78,2, -999.00,9,  -999.0,9,  -999.0,-999.000,9,-999.000,     -999.0,-999.0000,   0.150,     5.7417,   0.002
  316N138_4,       P06C,     125,          1,         22,        128,2,19920618,       1411,   -32.4973,  -148.1603,       4547,   914.8,   5.1846,  34.3195,2,  34.3191,2,    222.5,2,   214.5,2,   20.64,2,   28.21,2,    0.00,2,    1.90,2,-999.000,9,-999.000,9,  2169.0,2,   834.2,2,   0.053,2,   1.8450,2,    1.39,2, -999.00,9,  -999.0,9,  -999.0,-999.000,9,-999.000,      20.30,-999.0000,   0.150,     5.1079,   0.002
  316N138_4,       P06C,     125,          1,         21,        121,2,19920618,       1411,   -32.4973,  -148.1603,       4547,  1012.4,   4.6480,  34.3294,2,  34.3291,2,    209.9,3,   202.9,2,   28.36,2,   30.14,2,   -0.01,2,    2.05,2,-999.000,9,-999.000,9,  2184.0,2,  -999.0,9,-999.000,9,-999.0000,9, -999.00,9, -999.00,9,  -999.0,9,  -999.0,-999.000,9,-999.000,     -999.0,-999.0000,-999.000,     4.5665,-999.000
  316N138_4,       P06C,     125,          1,         20,        120,3,19920618,       1411,   -32.4973,  -148.1603,       4547,  1110.0,   4.0925,  34.3536,2,  34.5675,4,    196.5,2,   206.1,4,   24.78,4,   23.51,4,    0.01,4,    1.62,4,-999.000,9,-999.000,9,  2156.7,3,  -999.0,9,-999.000,9,-999.0000,9, -999.00,9, -999.00,9,  -999.0,9,  -999.0,-999.000,9,-999.000,     -999.0,-999.0000,-999.000,     4.0071,-999.000
  316N138_4,       P06C,     125,          1,         19,        133,2,19920618,       1411,   -32.4973,  -148.1603,       4547,  1210.2,   3.7025,  34.3821,2,  34.3792,2,    187.1,2,   187.4,2,   45.06,2,   32.76,2,    0.00,2,    2.23,2,-999.000,9,-999.000,9,  2214.0,2,  1005.4,2,   0.010,2,   1.8690,2,    5.56,2, -999.00,9,  -999.0,9,  -999.0,-999.000,9,-999.000,      20.30,-999.0000,   0.150,     3.6120,   0.002
  316N138_4,       P06C,     125,          1,         18,        118,2,19920618,       1411,   -32.4973,  -148.1603,       4547,  1311.7,   3.3078,  34.4285,2,  34.4286,2,    178.6,2,   178.3,2,   55.77,2,   33.63,2,    0.00,2,    2.32,2,-999.000,9,-999.000,9,  2230.7,6,  -999.0,9,   0.001,2,   1.9030,2,    7.24,2, -999.00,9,  -999.0,9,  -999.0,-999.000,9,-999.000,     -999.0,-999.0000,   0.150,     3.2126,   0.002
  316N138_4,       P06C,     125,          1,         17,        117,2,19920618,       1411,   -32.4973,  -148.1603,       4547,  1518.7,   2.7630,  34.5297,2,  34.5313,2,    166.6,2,   164.9,2,   76.77,2,   34.49,2,    0.00,2,    2.41,2,-999.000,9,-999.000,9,  2257.0,2,  -999.0,9,   0.000,2,   1.9260,2,   11.79,2, -999.00,9,  -999.0,9,  -999.0,-999.000,9,-999.000,     -999.0,-999.0000,   0.150,     2.6565,   0.001
  316N138_4,       P06C,     125,          1,         16,        116,2,19920618,       1411,   -32.4973,  -148.1603,       4547,  1721.3,   2.4663,  34.5945,2,  34.5952,2,    157.9,2,   156.8,2,   94.47,2,   34.81,2,    0.00,2,    2.46,2,-999.000,9,-999.000,9,  2277.9,2,  1070.2,2,  -0.002,2,   1.9430,2,   16.98,2, -999.00,9,  -999.0,9,  -999.0,-999.000,9,-999.000,      20.30,-999.0000,   0.150,     2.3466,   0.002
  316N138_4,       P06C,     125,          1,         15,        115,2,19920618,       1411,   -32.4973,  -148.1603,       4547,  1923.1,   2.2712,  34.6241,2,  34.6244,2,    154.2,2,   153.0,2,  105.76,2,   35.08,2,    0.00,2,    2.50,2,-999.000,9,-999.000,9,  2291.0,2,  1090.4,2,   0.000,2,   1.9460,2,   20.19,2, -999.00,9,  -999.0,9,  -999.0,-999.000,9,-999.000,      20.30,-999.0000,   0.150,     2.1372,   0.002
  316N138_4,       P06C,     125,          1,         14,        114,2,19920618,       1411,   -32.4973,  -148.1603,       4547,  2126.5,   2.1238,  34.6387,2,  34.6394,2,    152.6,2,   151.4,2,  112.90,2,   35.17,2,    0.00,2,    2.54,2,-999.000,9,-999.000,9,  2298.6,2,  -999.0,9,-999.000,9,-999.0000,9, -999.00,9, -999.00,9,  -999.0,9,  -999.0,-999.000,9,-999.000,     -999.0,-999.0000,-999.000,     1.9746,-999.000
  316N138_4,       P06C,     125,          1,         13,        125,2,19920618,       1411,   -32.4973,  -148.1603,       4547,  2329.4,   1.9742,  34.6527,2,  34.6517,2,    152.0,2,   151.0,2,  119.75,2,   35.39,2,    0.00,2,    2.53,2,-999.000,9,-999.000,9,  2305.2,2,  -999.0,9,-999.000,9,-999.0000,9, -999.00,9, -999.00,9,  -999.0,9,  -999.0,-999.000,9,-999.000,     -999.0,-999.0000,-999.000,     1.8097,-999.000
  316N138_4,       P06C,     125,          1,         12,        112,2,19920618,       1411,   -32.4973,  -148.1603,       4547,  2532.4,   1.8819,  34.6607,2,  34.6604,2,    152.1,2,   151.0,2,  123.90,2,   35.39,2,    0.00,2,    2.53,2,-999.000,9,-999.000,9,  2308.7,2,  -999.0,9,-999.000,9,-999.0000,9, -999.00,9, -999.00,9,  -999.0,9,  -999.0,-999.000,9,-999.000,     -999.0,-999.0000,-999.000,     1.7009,-999.000
  316N138_4,       P06C,     125,          1,         11,        129,2,19920618,       1411,   -32.4973,  -148.1603,       4547,  2735.8,   1.7795,  34.6692,2,  34.6688,2,    153.6,2,   152.9,2,  126.47,2,   35.30,2,    0.00,2,    2.54,2,-999.000,9,-999.000,9,  2311.0,2,  -999.0,9,-999.000,9,-999.0000,9, -999.00,9, -999.00,9,  -999.0,9,  -999.0,-999.000,9,-999.000,     -999.0,-999.0000,-999.000,     1.5817,-999.000
  316N138_4,       P06C,     125,          1,         10,        110,2,19920618,       1411,   -32.4973,  -148.1603,       4547,  2939.0,   1.7092,  34.6755,2,  34.6759,2,    157.0,2,   157.3,2,  126.90,2,   34.88,2,    0.00,2,    2.51,2,-999.000,9,-999.000,9,  2307.3,2,  1102.3,2,-999.000,9,-999.0000,9, -999.00,9, -999.00,9,  -999.0,9,  -999.0,-999.000,9,-999.000,      20.30,-999.0000,-999.000,     1.4936,-999.000
  316N138_4,       P06C,     125,          1,          9,        126,2,19920618,       1411,   -32.4973,  -148.1603,       4547,  3141.8,   1.6471,  34.6804,2,  34.6818,2,    161.5,2,   162.2,2,  127.04,2,   34.57,2,    0.00,2,    2.50,2,-999.000,9,-999.000,9,  2303.4,2,  -999.0,9,-999.000,9,-999.0000,9, -999.00,9, -999.00,9,  -999.0,9,  -999.0,-999.000,9,-999.000,     -999.0,-999.0000,-999.000,     1.4134,-999.000
  316N138_4,       P06C,     125,          1,          8,        108,4,19920618,       1411,   -32.4973,  -148.1603,       4547,  3348.0,   1.5531,  34.6889,2,  35.2582,4,    168.6,2,   239.4,4,   -0.37,4,    0.13,4,    0.00,4,    0.14,4,-999.000,9,-999.000,9,  2029.1,3,  -999.0,9,-999.000,9,-999.0000,9, -999.00,9, -999.00,9,  -999.0,9,  -999.0,-999.000,9,-999.000,     -999.0,-999.0000,-999.000,     1.3010,-999.000
  316N138_4,       P06C,     125,          1,          7,        107,2,19920618,       1411,   -32.4973,  -148.1603,       4547,  3553.6,   1.4725,  34.6947,2,  34.6954,2,    176.1,2,   176.6,2,  122.34,2,   33.65,2,    0.00,2,    2.42,2,-999.000,9,-999.000,9,  2289.5,2,   997.0,3,-999.000,9,-999.0000,9, -999.00,9, -999.00,9,  -999.0,9,  -999.0,-999.000,9,-999.000,      20.30,-999.0000,-999.000,     1.2015,-999.000
  316N138_4,       P06C,     125,          1,          6,        180,2,19920618,       1411,   -32.4973,  -148.1603,       4547,  3757.7,   1.3949,  34.6994,2,  34.7007,2,    182.7,2,   182.9,2,  121.19,2,   33.24,2,    0.00,2,    2.38,2,-999.000,9,-999.000,9,  2284.4,2,  -999.0,9,-999.000,9,-999.0000,9, -999.00,9, -999.00,9,  -999.0,9,  -999.0,-999.000,9,-999.000,     -999.0,-999.0000,-999.000,     1.1046,-999.000
  316N138_4,       P06C,     125,          1,          5,        131,2,19920618,       1411,   -32.4973,  -148.1603,       4547,  3961.9,   1.3201,  34.7024,2,  34.7044,2,    188.1,2,   189.1,2,  120.05,2,   32.87,2,    0.00,2,    2.34,2,-999.000,9,-999.000,9,  2279.0,2,  -999.0,9,-999.000,9,-999.0000,9, -999.00,9, -999.00,9,  -999.0,9,  -999.0,-999.000,9,-999.000,     -999.0,-999.0000,-999.000,     1.0103,-999.000
  316N138_4,       P06C,     125,          1,          4,        104,2,19920618,       1411,   -32.4973,  -148.1603,       4547,  4166.4,   1.2897,  34.7052,2,  34.7066,2,    192.0,2,   192.1,2,  119.62,2,   32.78,2,    0.00,2,    2.34,2,-999.000,9,-999.000,9,  2275.8,2,  1092.0,6,-999.000,9,-999.0000,9, -999.00,9, -999.00,9,  -999.0,9,  -999.0,-999.000,9,-999.000,      20.30,-999.0000,-999.000,     0.9586,-999.000
  316N138_4,       P06C,     125,          1,          3,        130,2,19920618,       1411,   -32.4973,  -148.1603,       4547,  4370.6,   1.2618,  34.7068,2,  34.7077,2,    195.5,2,   194.4,2,  119.05,2,   32.65,2,    0.00,2,    2.33,2,-999.000,9,-999.000,9,  2274.8,2,  -999.0,9,-999.000,9,-999.0000,9, -999.00,9, -999.00,9,  -999.0,9,  -999.0,-999.000,9,-999.000,     -999.0,-999.0000,-999.000,     0.9088,-999.000
  316N138_4,       P06C,     125,          1,          2,        135,2,19920618,       1411,   -32.4973,  -148.1603,       4547,  4577.1,   1.2278,  34.7092,2,  34.7089,2,    198.2,2,   197.5,2,  118.62,2,   32.51,2,    0.00,2,    2.31,2,-999.000,9,-999.000,9,  2272.4,2,  -999.0,9,-999.000,9,-999.0000,9, -999.00,9, -999.00,9,  -999.0,9,  -999.0,-999.000,9,-999.000,     -999.0,-999.0000,-999.000,     0.8524,-999.000
  316N138_4,       P06C,     125,          1,          1,        134,2,19920618,       1411,   -32.4973,  -148.1603,       4547,  4642.5,   1.2151,  34.7096,2,  34.7105,2,    198.8,2,   198.7,2,  118.85,2,   32.35,2,    0.01,2,    2.30,2,-999.000,9,-999.000,9,  2271.4,6,  1028.8,2,-999.000,9,-999.0000,9, -999.00,9, -999.00,9,  -999.0,9,  -999.0,-999.000,9,-999.000,      20.30,-999.0000,-999.000,     0.8325,-999.000