BOTTLE,20214727JOAExport
EXPOCODE,SECT_ID,STNNBR,CASTNO,SAMPNO,BTLNBR,BTLNBR_FLAG_W,DATE,TIME,LATITUDE,LONGITUDE,DEPTH,CTDPRS,CTDTMP,CTDSAL,CTDSAL_FLAG_W,SALNTY,SALNTY_FLAG_W,CTDOXY,CTDOXY_FLAG_W,OXYGEN,OXYGEN_FLAG_W,SILCAT,SILCAT_FLAG_W,NINI,NINI_FLAG_W,PHSPHT,PHSPHT_FLAG_W,REVP
,,,,,,,,,,,,DB,IPTS-68,PSS-78,,PSS-78,,UMOL/KG,,UMOL/KG,,UMOL/KG,,UMOL/KG,,UMOL/KG,,DBAR
           NA,HOT timeseries 1988to2019 27SEP2021,      6,  99,-999.0,      12,-999.0,19890624,0156,  22.7983, -157.9433,  4749,   15.300,   25.753,   34.592,2, -999.000,4, -999.000,3,  215.500,2,    0.920,2,    0.050,2,    0.140,2, -999.000
           NA,HOT timeseries 1988to2019 27SEP2021,      6,  99,-999.0,      11,-999.0,19890624,0156,  22.7983, -157.9433,  4749,   49.100,   25.601,   34.631,2, -999.000,3, -999.000,3,  213.400,2,    1.300,2,    0.020,2,    0.160,2, -999.000
           NA,HOT timeseries 1988to2019 27SEP2021,      6,  99,-999.0,      11,-999.0,19890624,0156,  22.7983, -157.9433,  4749,   79.600,   24.270,   34.672,2,   34.643,2,  223.300,2,  219.600,2,    0.920,2,    0.020,2,    0.120,2, -999.000
           NA,HOT timeseries 1988to2019 27SEP2021,      6,  99,-999.0,      10,-999.0,19890624,0156,  22.7983, -157.9433,  4749,   99.500,   23.782,   34.889,2,   34.885,2,  217.200,2,  218.600,2,    1.300,2,    0.020,2,    0.160,2, -999.000
           NA,HOT timeseries 1988to2019 27SEP2021,      6,  99,-999.0,      10,-999.0,19890624,0156,  22.7983, -157.9433,  4749,  127.600,   23.144,   35.101,2,   35.069,2,  208.600,2,  213.500,2,    1.300,2,    0.050,2,    0.080,2, -999.000
           NA,HOT timeseries 1988to2019 27SEP2021,      6,  99,-999.0,       9,-999.0,19890624,0156,  22.7983, -157.9433,  4749,  139.500,   22.173,   35.081,2,   35.082,2,  206.800,2,  205.100,2,    1.300,2,    0.360,2,    0.170,2, -999.000
           NA,HOT timeseries 1988to2019 27SEP2021,      6,  99,-999.0,       8,-999.0,19890624,0156,  22.7983, -157.9433,  4749,  199.200,   18.492,   34.874,2,   34.867,2,  173.200,2,  176.600,2,    3.800,2,    5.050,2,    0.470,2, -999.000
           NA,HOT timeseries 1988to2019 27SEP2021,      6,  99,-999.0,       9,-999.0,19890624,0156,  22.7983, -157.9433,  4749,  225.500,   17.557,   34.786,2,   34.803,2,  186.700,2,  175.700,2,    4.380,2,    5.730,2,    0.500,2, -999.000
           NA,HOT timeseries 1988to2019 27SEP2021,      6,  99,-999.0,       7,-999.0,19890624,0156,  22.7983, -157.9433,  4749,  242.800,   15.145,   34.505,2,   34.487,2,  148.300,2,  161.400,2,    9.480,2,   10.180,2,    0.840,2, -999.000
           NA,HOT timeseries 1988to2019 27SEP2021,      6,  99,-999.0,       6,-999.0,19890624,0156,  22.7983, -157.9433,  4749,  304.800,   11.738,   34.250,2,   34.259,2,  191.200,2,  207.400,2,   12.070,2,   11.610,2,    0.870,2, -999.000
           NA,HOT timeseries 1988to2019 27SEP2021,      6,  99,-999.0,       5,-999.0,19890624,0156,  22.7983, -157.9433,  4749,  403.500,    8.757,   34.103,2, -999.000,3, -999.000,3,  171.500,2,   29.190,2,   21.510,2,    1.560,2, -999.000
           NA,HOT timeseries 1988to2019 27SEP2021,      6,  99,-999.0,       4,-999.0,19890624,0156,  22.7983, -157.9433,  4749,  530.900,    6.443,   34.069,2,   34.060,2,   97.600,2,   98.000,2,   58.440,2,   32.410,2,    2.350,2, -999.000
           NA,HOT timeseries 1988to2019 27SEP2021,      6,  99,-999.0,       3,-999.0,19890624,0156,  22.7983, -157.9433,  4749,  612.500,    5.561,   34.165,2,   34.167,2,   50.700,2,   48.100,2,   76.520,2,   38.080,2,    2.790,2, -999.000
           NA,HOT timeseries 1988to2019 27SEP2021,      6,  99,-999.0,       7,-999.0,19890624,0156,  22.7983, -157.9433,  4749,  620.500,    5.490,   34.163,2,   34.159,2,   45.600,2,   45.800,2,   76.520,2,   38.310,2,    2.760,2, -999.000
           NA,HOT timeseries 1988to2019 27SEP2021,      6,  99,-999.0,       2,-999.0,19890624,0156,  22.7983, -157.9433,  4749,  770.100,    4.688,   34.341,2,   34.337,2,   27.900,2,   26.100,2,   96.900,2,   41.630,2,    3.050,2, -999.000
           NA,HOT timeseries 1988to2019 27SEP2021,      6,  99,-999.0,       6,-999.0,19890624,0156,  22.7983, -157.9433,  4749,  821.300,    4.377,   34.368,2,   34.368,2,   26.000,2,   26.100,2,  103.430,2,   42.070,2,    3.050,2, -999.000
           NA,HOT timeseries 1988to2019 27SEP2021,      6,  99,-999.0,       5,-999.0,19890624,0156,  22.7983, -157.9433,  4749, 1017.300,    3.897,   34.495,2,   34.494,2,   44.700,2,   43.000,2,  112.460,2,   41.960,2,    3.020,2, -999.000
           NA,HOT timeseries 1988to2019 27SEP2021,      6,  99,-999.0,       1,-999.0,19890624,0156,  22.7983, -157.9433,  4749, 1018.300,    3.894,   34.489,2,   34.496,2,   43.400,2,   45.300,2,  113.040,2,   41.850,2, -999.000,3, -999.000
           NA,HOT timeseries 1988to2019 27SEP2021,      6,  99,-999.0,       4,-999.0,19890624,0156,  22.7983, -157.9433,  4749, 1218.700,    3.436,   34.536,2,   34.536,2,   50.400,2,   51.800,2,  122.070,2,   41.630,2,    2.970,2, -999.000
           NA,HOT timeseries 1988to2019 27SEP2021,      6,  99,-999.0,       3,-999.0,19890624,0156,  22.7983, -157.9433,  4749, 1420.600,    2.968,   34.565,2,   34.566,2,   64.700,2,   66.300,2, -999.000,3,   40.850,2,    2.910,2, -999.000
           NA,HOT timeseries 1988to2019 27SEP2021,      6,  99,-999.0,       2,-999.0,19890624,0156,  22.7983, -157.9433,  4749, 1623.200,    2.665,   34.589,2,   34.591,2,   75.000,2,   74.600,2,  137.450,2,   40.510,2,    2.890,2, -999.000
           NA,HOT timeseries 1988to2019 27SEP2021,      6,  99,-999.0,       1,-999.0,19890624,0156,  22.7983, -157.9433,  4749, 1843.000,    2.310,   34.610,2,   34.613,2,   87.500,2,   86.400,2,  145.440,2,   39.910,2, -999.000,3, -999.000
           NA,HOT timeseries 1988to2019 27SEP2021,      7,  99,-999.0,      12,-999.0,19890728,2141,  22.8167, -157.9200,  4699,   54.300,   23.719,   35.143,2,   35.113,2,  228.600,2,  226.800,2,    0.900,2,    0.020,2,    0.070,2, -999.000
           NA,HOT timeseries 1988to2019 27SEP2021,      7,  99,-999.0,      11,-999.0,19890728,2141,  22.8167, -157.9200,  4699,   98.500,   22.625,   35.258,2,   35.253,2,  221.600,2,  220.600,2,    0.900,2,    0.020,2,    0.090,2, -999.000
           NA,HOT timeseries 1988to2019 27SEP2021,      7,  99,-999.0,      10,-999.0,19890728,2141,  22.8167, -157.9200,  4699,  148.500,   20.218,   35.177,2,   35.187,2,  195.900,2,  199.700,2,    1.650,2,    1.340,2,    0.210,2, -999.000
           NA,HOT timeseries 1988to2019 27SEP2021,      7,  99,-999.0,       9,-999.0,19890728,2141,  22.8167, -157.9200,  4699,  206.800,   16.690,   34.753,2,   34.773,2,  198.500,2,  198.300,2,    3.720,2,    4.300,2,    0.420,2, -999.000
           NA,HOT timeseries 1988to2019 27SEP2021,      7,  99,-999.0,      11,-999.0,19890728,2141,  22.8167, -157.9200,  4699,  228.000,   15.250,   34.579,2,   34.583,2,  204.400,2,  198.100,2,    5.610,2,    5.910,2,    0.540,2, -999.000
           NA,HOT timeseries 1988to2019 27SEP2021,      7,  99,-999.0,      10,-999.0,19890728,2141,  22.8167, -157.9200,  4699,  253.500,   13.645,   34.410,2,   34.408,2,  206.000,2,  207.300,2,    7.490,2,    7.450,2,    0.640,2, -999.000
           NA,HOT timeseries 1988to2019 27SEP2021,      7,  99,-999.0,       8,-999.0,19890728,2141,  22.8167, -157.9200,  4699,  288.000,   11.962,   34.257,2,   34.257,2,  209.700,2,  211.300,2,   10.330,2,   10.630,2,    0.830,2, -999.000
           NA,HOT timeseries 1988to2019 27SEP2021,      7,  99,-999.0,       9,-999.0,19890728,2141,  22.8167, -157.9200,  4699,  304.800,   11.502,   34.204,2,   34.205,2,  196.700,2,  199.300,2,   13.350,2,   12.410,2,    1.010,2, -999.000
           NA,HOT timeseries 1988to2019 27SEP2021,      7,  99,-999.0,       8,-999.0,19890728,2141,  22.8167, -157.9200,  4699,  356.000,    9.935,   34.119,2,   34.120,2,  191.800,2,  191.200,2,   20.950,2,   16.750,2,    1.290,2, -999.000
           NA,HOT timeseries 1988to2019 27SEP2021,      7,  99,-999.0,       7,-999.0,19890728,2141,  22.8167, -157.9200,  4699,  403.500,    8.607,   34.072,2,   34.069,2,  170.800,2,  170.100,2,   29.380,2,   21.770,2,    1.590,2, -999.000
           NA,HOT timeseries 1988to2019 27SEP2021,      7,  99,-999.0,       7,-999.0,19890728,2141,  22.8167, -157.9200,  4699,  405.700,    8.720,   34.072,2,   34.071,2,  170.600,2,  172.600,2,   28.820,2,   21.090,2,    1.590,2, -999.000
           NA,HOT timeseries 1988to2019 27SEP2021,      7,  99,-999.0,       6,-999.0,19890728,2141,  22.8167, -157.9200,  4699,  483.800,    6.963,   34.057,2,   34.069,2,  114.700,2,  110.000,2,   49.190,2,   30.410,2,    2.250,2, -999.000
           NA,HOT timeseries 1988to2019 27SEP2021,      7,  99,-999.0,       6,-999.0,19890728,2141,  22.8167, -157.9200,  4699,  507.600,    6.561,   34.047,2,   34.044,2,  101.400,2,  100.700,2,   55.790,2,   31.760,2,    2.380,2, -999.000
           NA,HOT timeseries 1988to2019 27SEP2021,      7,  99,-999.0,       5,-999.0,19890728,2141,  22.8167, -157.9200,  4699,  564.300,    5.635,   34.062,2,   34.058,2,   79.000,2,   74.400,2,   68.990,2,   36.160,2,    2.650,2, -999.000
           NA,HOT timeseries 1988to2019 27SEP2021,      7,  99,-999.0,       5,-999.0,19890728,2141,  22.8167, -157.9200,  4699,  605.700,    5.225,   34.105,2,   34.104,2,   54.100,2,   53.600,2,   79.360,2,   38.320,2,    2.840,2, -999.000
           NA,HOT timeseries 1988to2019 27SEP2021,      7,  99,-999.0,       4,-999.0,19890728,2141,  22.8167, -157.9200,  4699,  635.000,    5.195,   34.126,2,   34.124,2,   52.100,2,   47.500,2,   80.300,2,   39.190,2,    2.880,2, -999.000
           NA,HOT timeseries 1988to2019 27SEP2021,      7,  99,-999.0,       4,-999.0,19890728,2141,  22.8167, -157.9200,  4699,  708.300,    4.629,   34.258,2,   34.258,2,   24.400,2,   23.600,2, -999.000,3, -999.000,3, -999.000,3, -999.000
           NA,HOT timeseries 1988to2019 27SEP2021,      7,  99,-999.0,       3,-999.0,19890728,2141,  22.8167, -157.9200,  4699,  765.200,    4.696,   34.306,2,   34.307,2,   26.300,2,   25.100,2,   96.330,2,   41.680,2,    3.100,2, -999.000
           NA,HOT timeseries 1988to2019 27SEP2021,      7,  99,-999.0,       3,-999.0,19890728,2141,  22.8167, -157.9200,  4699,  808.100,    4.389,   34.384,2,   34.385,2,   26.800,2,   28.200,2, -999.000,5, -999.000,5, -999.000,5, -999.000
           NA,HOT timeseries 1988to2019 27SEP2021,      7,  99,-999.0,       2,-999.0,19890728,2141,  22.8167, -157.9200,  4699,  855.600,    4.392,   34.387,2,   34.386,2,   29.400,2,   29.100,2,  103.200,2,   41.990,2,    3.110,2, -999.000
           NA,HOT timeseries 1988to2019 27SEP2021,      7,  99,-999.0,       2,-999.0,19890728,2141,  22.8167, -157.9200,  4699,  909.900,    4.037,   34.428,2,   34.427,2,   31.600,2,   33.200,2,  112.350,2,   41.990,2,    3.130,2, -999.000
           NA,HOT timeseries 1988to2019 27SEP2021,      7,  99,-999.0,       1,-999.0,19890728,2141,  22.8167, -157.9200,  4699, 1012.300,    3.801,   34.476,2,   34.481,2,   40.200,2,   42.100,2,  114.800,2,   41.880,2,    3.100,2, -999.000
           NA,HOT timeseries 1988to2019 27SEP2021,      7,  99,-999.0,       1,-999.0,19890728,2141,  22.8167, -157.9200,  4699, 1012.500,    3.801,   34.481,2,   34.482,2,   41.400,2,   44.300,2,  115.740,2,   41.790,2,    3.100,2, -999.000
           NA,HOT timeseries 1988to2019 27SEP2021,      8,  99,-999.0,      12,-999.0,19890824,0459,  22.8200, -157.9900,  4799,    4.800,   26.261,   34.679,2, -999.000,5,  216.000,2,  208.800,2,    2.240,2,    0.010,2,    0.110,2, -999.000
           NA,HOT timeseries 1988to2019 27SEP2021,      8,  99,-999.0,      11,-999.0,19890824,0459,  22.8200, -157.9900,  4799,   25.800,   26.140,   34.674,2, -999.000,5,  217.200,2,  208.500,2,    1.250,2,    0.020,2,    0.110,2, -999.000
           NA,HOT timeseries 1988to2019 27SEP2021,      8,  99,-999.0,      10,-999.0,19890824,0459,  22.8200, -157.9900,  4799,   45.800,   26.020,   34.680,2, -999.000,5,  214.100,2,  209.900,2,    1.620,2,    0.020,2,    0.110,2, -999.000
           NA,HOT timeseries 1988to2019 27SEP2021,      8,  99,-999.0,       9,-999.0,19890824,0459,  22.8200, -157.9900,  4799,   61.600,   25.076,   34.797,2, -999.000,5,  223.000,2,  215.200,2,    1.250,2,    0.020,2,    0.100,2, -999.000
           NA,HOT timeseries 1988to2019 27SEP2021,      8,  99,-999.0,       8,-999.0,19890824,0459,  22.8200, -157.9900,  4799,   76.100,   23.886,   34.999,2, -999.000,5,  216.700,2,  216.200,2,    1.250,2,    0.020,2,    0.080,2, -999.000
           NA,HOT timeseries 1988to2019 27SEP2021,      8,  99,-999.0,       7,-999.0,19890824,0459,  22.8200, -157.9900,  4799,   87.300,   23.378,   35.128,2, -999.000,5,  221.300,2,  216.700,2,    0.880,2,    0.000,2,    0.070,2, -999.000
           NA,HOT timeseries 1988to2019 27SEP2021,      8,  99,-999.0,       6,-999.0,19890824,0459,  22.8200, -157.9900,  4799,   97.400,   23.080,   35.182,2, -999.000,5,  219.000,2,  216.400,2,    1.060,2,    0.010,2,    0.060,2, -999.000
           NA,HOT timeseries 1988to2019 27SEP2021,      8,  99,-999.0,       5,-999.0,19890824,0459,  22.8200, -157.9900,  4799,  109.000,   22.843,   35.229,2, -999.000,5,  218.900,2,  216.800,2,    1.250,2,    0.020,2,    0.060,2, -999.000
           NA,HOT timeseries 1988to2019 27SEP2021,      8,  99,-999.0,       4,-999.0,19890824,0459,  22.8200, -157.9900,  4799,  118.000,   22.488,   35.267,2, -999.000,5,  220.700,2,  215.600,2,    1.250,2,    0.040,2,    0.060,2, -999.000
           NA,HOT timeseries 1988to2019 27SEP2021,      8,  99,-999.0,       3,-999.0,19890824,0459,  22.8200, -157.9900,  4799,  130.500,   21.999,   35.286,2,   35.282,2,  213.900,2,  211.700,2,    1.060,2,    0.130,2,    0.070,2, -999.000
           NA,HOT timeseries 1988to2019 27SEP2021,      8,  99,-999.0,       2,-999.0,19890824,0459,  22.8200, -157.9900,  4799,  157.000,   20.978,   35.264,2, -999.000,5,  205.100,2,  201.500,2,    1.710,2,    0.910,2,    0.140,2, -999.000
           NA,HOT timeseries 1988to2019 27SEP2021,      8,  99,-999.0,       1,-999.0,19890824,0459,  22.8200, -157.9900,  4799,  181.800,   19.146,   35.057,2, -999.000,5,  191.400,2,  190.100,2,    2.350,2,    2.750,2,    0.270,2, -999.000
           NA,HOT timeseries 1988to2019 27SEP2021,      8,  99,-999.0,      12,-999.0,19890824,0459,  22.8200, -157.9900,  4799,  203.800,   16.996,   34.803,2, -999.000,5,  197.100,2,  195.700,2,    3.900,2,    3.910,2,    0.380,2, -999.000
           NA,HOT timeseries 1988to2019 27SEP2021,      8,  99,-999.0,      11,-999.0,19890824,0459,  22.8200, -157.9900,  4799,  230.900,   15.798,   34.635,2, -999.000,5,  196.000,2,  195.900,2,    4.580,2,    5.050,2,    0.460,2, -999.000
           NA,HOT timeseries 1988to2019 27SEP2021,      8,  99,-999.0,      10,-999.0,19890824,0459,  22.8200, -157.9900,  4799,  255.600,   14.071,   34.431,2, -999.000,5,  196.600,2,  197.100,2,    6.800,2,    7.380,2,    0.640,2, -999.000
           NA,HOT timeseries 1988to2019 27SEP2021,      8,  99,-999.0,       9,-999.0,19890824,0459,  22.8200, -157.9900,  4799,  305.400,   11.809,   34.206,2, -999.000,5,  195.400,2,  195.100,2,   11.790,2,   11.830,2,    0.940,2, -999.000
           NA,HOT timeseries 1988to2019 27SEP2021,      8,  99,-999.0,       8,-999.0,19890824,0459,  22.8200, -157.9900,  4799,  355.500,    9.886,   34.130,2, -999.000,5,  192.100,2,  195.200,2,   20.680,2,   16.520,2,    1.240,2, -999.000
           NA,HOT timeseries 1988to2019 27SEP2021,      8,  99,-999.0,       7,-999.0,19890824,0459,  22.8200, -157.9900,  4799,  408.100,    8.507,   34.080,2,   34.073,2,  172.400,2,  172.600,2,   30.300,2,   21.370,2,    1.590,2, -999.000
           NA,HOT timeseries 1988to2019 27SEP2021,      8,  99,-999.0,       6,-999.0,19890824,0459,  22.8200, -157.9900,  4799,  508.400,    7.546,   34.228,2, -999.000,5,   66.100,2, -999.000,4, -999.000,3, -999.000,3, -999.000,3, -999.000
           NA,HOT timeseries 1988to2019 27SEP2021,      8,  99,-999.0,       5,-999.0,19890824,0459,  22.8200, -157.9900,  4799,  612.900,    5.777,   34.205,2, -999.000,5,   47.100,2,   46.300,2,   74.700,2,   37.640,2,    2.810,2, -999.000
           NA,HOT timeseries 1988to2019 27SEP2021,      8,  99,-999.0,       4,-999.0,19890824,0459,  22.8200, -157.9900,  4799,  709.800,    5.037,   34.307,2, -999.000,5,   32.400,2,   31.700,2,   90.410,2,   40.390,2,    2.990,2, -999.000
           NA,HOT timeseries 1988to2019 27SEP2021,      8,  99,-999.0,      12,-999.0,19890824,0459,  22.8200, -157.9900,  4799,  779.300,    4.735,   34.377,2,   34.378,2,   33.700,2,   32.400,2,   95.960,2,   41.130,2,    3.050,2, -999.000
           NA,HOT timeseries 1988to2019 27SEP2021,      8,  99,-999.0,       3,-999.0,19890824,0459,  22.8200, -157.9900,  4799,  814.600,    4.588,   34.421,2, -999.000,5,   34.900,2,   34.700,2,  100.950,2,   41.270,2,    3.050,2, -999.000
           NA,HOT timeseries 1988to2019 27SEP2021,      8,  99,-999.0,      11,-999.0,19890824,0459,  22.8200, -157.9900,  4799,  911.200,    4.252,   34.454,2,   34.454,2,   40.700,2,   42.000,2,  106.120,2,   41.340,2,    3.050,2, -999.000
           NA,HOT timeseries 1988to2019 27SEP2021,      8,  99,-999.0,       2,-999.0,19890824,0459,  22.8200, -157.9900,  4799,  919.300,    4.195,   34.477,2, -999.000,5,   42.500,2,   41.900,2,  107.970,2,   41.440,2,    3.050,2, -999.000
           NA,HOT timeseries 1988to2019 27SEP2021,      8,  99,-999.0,       1,-999.0,19890824,0459,  22.8200, -157.9900,  4799, 1022.200,    3.913,   34.507,2,   34.508,2,   46.100,2,   47.100,2,  113.520,2,   41.440,2,    3.050,2, -999.000
           NA,HOT timeseries 1988to2019 27SEP2021,      8,  99,-999.0,      10,-999.0,19890824,0459,  22.8200, -157.9900,  4799, 1053.800,    3.887,   34.504,2,   34.504,2,   49.600,2,   48.500,2,  113.140,2,   41.340,2,    3.050,2, -999.000
           NA,HOT timeseries 1988to2019 27SEP2021,      8,  99,-999.0,       9,-999.0,19890824,0459,  22.8200, -157.9900,  4799, 1198.100,    3.473,   34.534,2,   34.534,2,   55.800,2,   55.800,2,  120.910,2,   41.240,2,    3.020,2, -999.000
           NA,HOT timeseries 1988to2019 27SEP2021,      8,  99,-999.0,       8,-999.0,19890824,0459,  22.8200, -157.9900,  4799, 1352.300,    3.085,   34.560,2,   34.560,2,   63.300,2,   62.700,2,  130.160,2,   41.020,2,    2.990,2, -999.000
           NA,HOT timeseries 1988to2019 27SEP2021,      8,  99,-999.0,       7,-999.0,19890824,0459,  22.8200, -157.9900,  4799, 1499.700,    2.869,   34.573,2,   34.573,2,   67.700,2,   68.600,2,  134.780,2,   40.700,2,    2.980,2, -999.000
           NA,HOT timeseries 1988to2019 27SEP2021,      8,  99,-999.0,       6,-999.0,19890824,0459,  22.8200, -157.9900,  4799, 1649.700,    2.650,   34.587,2,   34.587,2,   73.800,2,   74.900,2,  139.400,2,   40.490,2,    2.940,2, -999.000
           NA,HOT timeseries 1988to2019 27SEP2021,      8,  99,-999.0,       5,-999.0,19890824,0459,  22.8200, -157.9900,  4799, 1802.700,    2.444,   34.600,2,   34.596,2,   79.600,2,   80.500,2,  143.100,2,   40.280,2,    2.910,2, -999.000
           NA,HOT timeseries 1988to2019 27SEP2021,      8,  99,-999.0,       4,-999.0,19890824,0459,  22.8200, -157.9900,  4799, 1952.600,    2.228,   34.614,2,   34.615,2,   88.400,2,   88.700,2,  147.720,2,   39.750,2,    2.870,2, -999.000
           NA,HOT timeseries 1988to2019 27SEP2021,      8,  99,-999.0,       3,-999.0,19890824,0459,  22.8200, -157.9900,  4799, 2100.300,    2.057,   34.626,2,   34.627,2,   94.800,2,   95.800,2,  150.490,2,   39.430,2,    2.820,2, -999.000
           NA,HOT timeseries 1988to2019 27SEP2021,      8,  99,-999.0,       1,-999.0,19890824,0459,  22.8200, -157.9900,  4799, 2508.200,    1.778,   34.648,2,   34.649,2,  109.300,2,  107.700,2,  158.440,2,   38.790,2,    2.770,2, -999.000