BOTTLE,20214727JOAExport
EXPOCODE,SECT_ID,STNNBR,CASTNO,SAMPNO,BTLNBR,BTLNBR_FLAG_W,DATE,TIME,LATITUDE,LONGITUDE,DEPTH,CTDPRS,CTDTMP,CTDSAL,CTDSAL_FLAG_W,SALNTY,SALNTY_FLAG_W,CTDOXY,CTDOXY_FLAG_W,OXYGEN,OXYGEN_FLAG_W,SILCAT,SILCAT_FLAG_W,NINI,NINI_FLAG_W,PHSPHT,PHSPHT_FLAG_W,REVP
,,,,,,,,,,,,DB,IPTS-68,PSS-78,,PSS-78,,UMOL/KG,,UMOL/KG,,UMOL/KG,,UMOL/KG,,UMOL/KG,,DBAR
           NA,HOT timeseries 1988to2019 27SEP2021,    226,  99,-999.0,    8024,-999.0,20120530,2126,  22.7497, -158.0012,  4711,    5.000,   24.269,   35.137,2,   35.137,2,  211.500,2,  210.900,2,    1.160,2,    0.040,2,    0.110,2, -999.000
           NA,HOT timeseries 1988to2019 27SEP2021,    226,  99,-999.0,    8024,-999.0,20120530,2126,  22.7497, -158.0012,  4711,    5.400,   24.195,   35.143,2,   35.142,2,  212.000,2,  211.000,2,    1.060,2,    0.030,2,    0.120,2, -999.000
           NA,HOT timeseries 1988to2019 27SEP2021,    226,  99,-999.0,    8023,-999.0,20120530,2126,  22.7497, -158.0012,  4711,   35.500,   23.961,   35.305,2,   35.302,2,  214.200,2,  213.900,2,    1.140,2,    0.050,2,    0.080,2, -999.000
           NA,HOT timeseries 1988to2019 27SEP2021,    226,  99,-999.0,    8022,-999.0,20120530,2126,  22.7497, -158.0012,  4711,   74.400,   22.778,   35.367,2,   35.365,2,  219.500,2,  218.800,2,    1.170,2,    0.050,2,    0.050,2, -999.000
           NA,HOT timeseries 1988to2019 27SEP2021,    226,  99,-999.0,    8021,-999.0,20120530,2126,  22.7497, -158.0012,  4711,  114.000,   22.343,   35.387,2,   35.387,2,  214.900,2,  214.500,2,    1.190,2,    0.030,2,    0.050,2, -999.000
           NA,HOT timeseries 1988to2019 27SEP2021,    226,  99,-999.0,    8020,-999.0,20120530,2126,  22.7497, -158.0012,  4711,  159.100,   21.541,   35.326,2,   35.326,2,  208.800,2, -999.000,3,    1.490,2,    0.580,2,    0.080,2, -999.000
           NA,HOT timeseries 1988to2019 27SEP2021,    226,  99,-999.0,    8019,-999.0,20120530,2126,  22.7497, -158.0012,  4711,  207.400,   19.659,   35.066,2,   35.068,2,  198.500,2,  199.600,2,    2.330,2,    1.770,2,    0.170,2, -999.000
           NA,HOT timeseries 1988to2019 27SEP2021,    226,  99,-999.0,    8018,-999.0,20120530,2126,  22.7497, -158.0012,  4711,  258.700,   16.553,   34.647,2,   34.660,2,  201.000,2,  201.800,2,    4.220,2,    4.050,2,    0.320,2, -999.000
           NA,HOT timeseries 1988to2019 27SEP2021,    226,  99,-999.0,    8017,-999.0,20120530,2126,  22.7497, -158.0012,  4711,  304.000,   13.862,   34.360,2,   34.363,2,  208.400,2,  207.100,2,    7.290,2,    7.530,2,    0.550,2, -999.000
           NA,HOT timeseries 1988to2019 27SEP2021,    226,  99,-999.0,    8016,-999.0,20120530,2126,  22.7497, -158.0012,  4711,  346.700,   12.471,   34.258,2,   34.258,2,  206.600,2,  207.100,2,   10.040,2,   10.310,2,    0.730,2, -999.000
           NA,HOT timeseries 1988to2019 27SEP2021,    226,  99,-999.0,    8015,-999.0,20120530,2126,  22.7497, -158.0012,  4711,  400.700,   10.465,   34.146,2,   34.155,2,  201.300,2,  200.100,2,   16.760,2,   15.140,2,    1.050,2, -999.000
           NA,HOT timeseries 1988to2019 27SEP2021,    226,  99,-999.0,    8014,-999.0,20120530,2126,  22.7497, -158.0012,  4711,  457.600,    8.756,   34.072,2,   34.072,2,  165.500,2,  164.700,2,   28.950,2,   21.880,2,    1.540,2, -999.000
           NA,HOT timeseries 1988to2019 27SEP2021,    226,  99,-999.0,    8025,-999.0,20120530,2126,  22.7497, -158.0012,  4711,  506.200,    7.746,   34.055,2,   34.053,2,  127.000,2,  128.000,2,   39.860,2,   27.440,2,    1.940,2, -999.000
           NA,HOT timeseries 1988to2019 27SEP2021,    226,  99,-999.0,    8012,-999.0,20120530,2126,  22.7497, -158.0012,  4711,  528.700,    7.262,   34.056,2,   34.055,2,  108.600,2,  109.400,2,   46.260,2,   29.850,2,    2.130,2, -999.000
           NA,HOT timeseries 1988to2019 27SEP2021,    226,  99,-999.0,    8011,-999.0,20120530,2126,  22.7497, -158.0012,  4711,  561.900,    6.535,   34.055,2,   34.055,2,   88.800,2,   88.800,2,   55.680,2,   32.900,2,    2.350,2, -999.000
           NA,HOT timeseries 1988to2019 27SEP2021,    226,  99,-999.0,    8009,-999.0,20120530,2126,  22.7497, -158.0012,  4711,  650.900,    5.343,   34.129,2,   34.129,2,   45.800,2,   45.800,2,   78.070,2,   38.450,2,    2.780,2, -999.000
           NA,HOT timeseries 1988to2019 27SEP2021,    226,  99,-999.0,    8008,-999.0,20120530,2126,  22.7497, -158.0012,  4711,  706.600,    4.988,   34.213,2,   34.212,2,   28.600,2,   27.700,2,   87.730,2,   40.610,2,    2.940,2, -999.000
           NA,HOT timeseries 1988to2019 27SEP2021,    226,  99,-999.0,    8026,-999.0,20120530,2126,  22.7497, -158.0012,  4711,  738.600,    4.745,   34.247,2,   34.247,2,   25.600,2,   25.100,2,   93.200,2,   41.190,2,    2.970,2, -999.000
           NA,HOT timeseries 1988to2019 27SEP2021,    226,  99,-999.0,    8006,-999.0,20120530,2126,  22.7497, -158.0012,  4711,  774.400,    4.584,   34.283,2,   34.283,2,   22.900,2,   22.400,2,   97.450,2,   41.730,2,    3.010,2, -999.000
           NA,HOT timeseries 1988to2019 27SEP2021,    226,  99,-999.0,    8005,-999.0,20120530,2126,  22.7497, -158.0012,  4711,  823.500,    4.489,   34.330,2,   34.331,2,   24.200,2,   24.100,2,  100.460,2,   41.760,2,    3.020,2, -999.000
           NA,HOT timeseries 1988to2019 27SEP2021,    226,  99,-999.0,    8004,-999.0,20120530,2126,  22.7497, -158.0012,  4711,  868.800,    4.349,   34.377,2,   34.378,2,   27.100,2,   26.400,2,  103.740,2,   42.110,2,    3.020,2, -999.000
           NA,HOT timeseries 1988to2019 27SEP2021,    226,  99,-999.0,    8003,-999.0,20120530,2126,  22.7497, -158.0012,  4711,  938.700,    4.071,   34.422,2,   34.422,2,   30.200,2, -999.000,5,  109.460,2,   42.180,2,    3.020,2, -999.000
           NA,HOT timeseries 1988to2019 27SEP2021,    226,  99,-999.0,    8001,-999.0,20120530,2126,  22.7497, -158.0012,  4711, 1020.700,    3.900,   34.465,2,   34.466,2,   37.400,2,   37.500,2,  112.340,2,   41.700,2,    2.980,2, -999.000
           NA,HOT timeseries 1988to2019 27SEP2021,    226,  99,-999.0,    8020,-999.0,20120530,2126,  22.7497, -158.0012,  4711, 1199.600,    3.445,   34.524,2,   34.524,2,   50.000,2,   51.200,2,  120.980,2,   41.220,2,    2.960,2, -999.000
           NA,HOT timeseries 1988to2019 27SEP2021,    226,  99,-999.0,    8019,-999.0,20120530,2126,  22.7497, -158.0012,  4711, 1398.700,    3.002,   34.556,2,   34.556,2,   59.700,2,   60.300,2,  130.700,2,   40.950,2,    2.930,2, -999.000
           NA,HOT timeseries 1988to2019 27SEP2021,    226,  99,-999.0,    8018,-999.0,20120530,2126,  22.7497, -158.0012,  4711, 1600.400,    2.638,   34.582,2,   34.581,2,   72.300,2,   71.500,2,  138.540,2,   40.430,2,    2.870,2, -999.000
           NA,HOT timeseries 1988to2019 27SEP2021,    226,  99,-999.0,    8017,-999.0,20120530,2126,  22.7497, -158.0012,  4711, 1800.200,    2.375,   34.600,2,   34.600,2,   78.200,2,   77.800,2,  144.370,2,   40.190,2,    2.850,2, -999.000
           NA,HOT timeseries 1988to2019 27SEP2021,    226,  99,-999.0,    8016,-999.0,20120530,2126,  22.7497, -158.0012,  4711, 2001.100,    2.125,   34.617,2,   34.616,2,   85.200,2,   85.800,2,  150.880,2,   39.600,2,    2.800,2, -999.000
           NA,HOT timeseries 1988to2019 27SEP2021,    226,  99,-999.0,    8015,-999.0,20120530,2126,  22.7497, -158.0012,  4711, 2199.000,    1.905,   34.633,2,   34.633,2,   93.400,2, -999.000,3,  155.960,2,   39.110,2,    2.750,2, -999.000
           NA,HOT timeseries 1988to2019 27SEP2021,    226,  99,-999.0,    8014,-999.0,20120530,2126,  22.7497, -158.0012,  4711, 2400.100,    1.780,   34.645,2,   34.645,2,  102.900,2,  103.300,2,  156.840,2,   38.540,2,    2.700,2, -999.000
           NA,HOT timeseries 1988to2019 27SEP2021,    226,  99,-999.0,    8025,-999.0,20120530,2126,  22.7497, -158.0012,  4711, 2599.900,    1.675,   34.654,2,   34.654,2,  110.600,2,  111.500,2,  158.470,2,   38.120,2,    2.670,2, -999.000
           NA,HOT timeseries 1988to2019 27SEP2021,    226,  99,-999.0,    8012,-999.0,20120530,2126,  22.7497, -158.0012,  4711, 2799.200,    1.612,   34.661,2,   34.661,2,  117.000,2,  117.100,2,  158.900,2,   37.560,2,    2.650,2, -999.000
           NA,HOT timeseries 1988to2019 27SEP2021,    226,  99,-999.0,    8011,-999.0,20120530,2126,  22.7497, -158.0012,  4711, 2999.600,    1.550,   34.668,2,   34.667,2,  124.300,2,  124.600,2,  157.410,2,   37.200,2,    2.590,2, -999.000
           NA,HOT timeseries 1988to2019 27SEP2021,    226,  99,-999.0,    8010,-999.0,20120530,2126,  22.7497, -158.0012,  4711, 3200.800,    1.513,   34.673,2,   34.673,2,  130.100,2,  129.800,2,  156.490,2,   36.740,2,    2.560,2, -999.000
           NA,HOT timeseries 1988to2019 27SEP2021,    226,  99,-999.0,    8009,-999.0,20120530,2126,  22.7497, -158.0012,  4711, 3399.800,    1.478,   34.677,2,   34.678,2,  136.400,2,  136.600,2,  154.830,2,   36.510,2,    2.540,2, -999.000
           NA,HOT timeseries 1988to2019 27SEP2021,    226,  99,-999.0,    8008,-999.0,20120530,2126,  22.7497, -158.0012,  4711, 3599.600,    1.459,   34.681,2,   34.681,2,  141.100,2,  141.300,2,  153.250,2,   36.140,2,    2.510,2, -999.000
           NA,HOT timeseries 1988to2019 27SEP2021,    226,  99,-999.0,    8026,-999.0,20120530,2126,  22.7497, -158.0012,  4711, 3799.400,    1.458,   34.682,2,   34.682,2,  144.000,2,  144.000,2,  151.880,2,   35.780,2,    2.490,2, -999.000
           NA,HOT timeseries 1988to2019 27SEP2021,    226,  99,-999.0,    8006,-999.0,20120530,2126,  22.7497, -158.0012,  4711, 3999.000,    1.459,   34.685,2,   34.685,2,  147.300,2,  146.700,2,  150.810,2,   35.680,2,    2.480,2, -999.000
           NA,HOT timeseries 1988to2019 27SEP2021,    226,  99,-999.0,    8005,-999.0,20120530,2126,  22.7497, -158.0012,  4711, 4200.100,    1.466,   34.686,2,   34.685,2,  149.600,2,  149.100,2,  148.980,2,   35.590,2,    2.470,2, -999.000
           NA,HOT timeseries 1988to2019 27SEP2021,    226,  99,-999.0,    8004,-999.0,20120530,2126,  22.7497, -158.0012,  4711, 4401.100,    1.479,   34.687,2,   34.687,2,  151.200,2,  150.700,2,  148.530,2,   35.630,2,    2.470,2, -999.000
           NA,HOT timeseries 1988to2019 27SEP2021,    226,  99,-999.0,    8003,-999.0,20120530,2126,  22.7497, -158.0012,  4711, 4500.300,    1.487,   34.687,2,   34.687,2,  151.800,2,  151.600,2,  148.200,2,   35.560,2,    2.470,2, -999.000
           NA,HOT timeseries 1988to2019 27SEP2021,    226,  99,-999.0,    8002,-999.0,20120530,2126,  22.7497, -158.0012,  4711, 4601.400,    1.495,   34.687,2,   34.688,2,  152.300,2,  152.000,2,  147.740,2,   35.420,2,    2.470,2, -999.000
           NA,HOT timeseries 1988to2019 27SEP2021,    226,  99,-999.0,    8001,-999.0,20120530,2126,  22.7497, -158.0012,  4711, 4809.900,    1.515,   34.688,2,   34.689,2,  153.000,2,  152.900,2,  146.400,2,   35.340,2,    2.460,2, -999.000