BOTTLE,20214727JOAExport
EXPOCODE,SECT_ID,STNNBR,CASTNO,SAMPNO,BTLNBR,BTLNBR_FLAG_W,DATE,TIME,LATITUDE,LONGITUDE,DEPTH,CTDPRS,CTDTMP,CTDSAL,CTDSAL_FLAG_W,SALNTY,SALNTY_FLAG_W,CTDOXY,CTDOXY_FLAG_W,OXYGEN,OXYGEN_FLAG_W,SILCAT,SILCAT_FLAG_W,NINI,NINI_FLAG_W,PHSPHT,PHSPHT_FLAG_W,REVP
,,,,,,,,,,,,DB,IPTS-68,PSS-78,,PSS-78,,UMOL/KG,,UMOL/KG,,UMOL/KG,,UMOL/KG,,UMOL/KG,,DBAR
           NA,HOT timeseries 1988to2019 27SEP2021,    138,  99,-999.0,      31,-999.0,20021124,1848,  22.7558, -158.0032,  4749,    8.800,   25.305,   35.297,2,   35.298,2,  182.300,2, -999.000,3,    1.010,2,    0.020,2,    0.010,2, -999.000
           NA,HOT timeseries 1988to2019 27SEP2021,    138,  99,-999.0,      31,-999.0,20021124,1848,  22.7558, -158.0032,  4749,    9.500,   25.290,   35.275,2,   35.276,2,  209.900,2, -999.000,3,    1.040,2,    0.020,2,    0.020,2, -999.000
           NA,HOT timeseries 1988to2019 27SEP2021,    138,  99,-999.0,      30,-999.0,20021124,1848,  22.7558, -158.0032,  4749,   51.400,   25.279,   35.293,2,   35.294,2,  182.800,2, -999.000,3,    1.330,2,    0.020,2,    0.020,2, -999.000
           NA,HOT timeseries 1988to2019 27SEP2021,    138,  99,-999.0,      22,-999.0,20021124,1848,  22.7558, -158.0032,  4749,   96.500,   22.718,   35.307,2,   35.303,2,  196.500,2, -999.000,3,    1.330,2,    0.050,2,    0.020,2, -999.000
           NA,HOT timeseries 1988to2019 27SEP2021,    138,  99,-999.0,      21,-999.0,20021124,1848,  22.7558, -158.0032,  4749,  116.400,   21.602,   35.272,2, -999.000,3, -999.000,3, -999.000,3,    1.520,2,    0.260,2, -999.000,3, -999.000
           NA,HOT timeseries 1988to2019 27SEP2021,    138,  99,-999.0,      20,-999.0,20021124,1848,  22.7558, -158.0032,  4749,  188.100,   19.716,   35.134,2, -999.000,3, -999.000,3, -999.000,3,    2.190,2,    1.890,2, -999.000,3, -999.000
           NA,HOT timeseries 1988to2019 27SEP2021,    138,  99,-999.0,      19,-999.0,20021124,1848,  22.7558, -158.0032,  4749,  220.700,   18.477,   34.949,2,   34.951,2,  184.000,2, -999.000,3,    2.990,2,    2.870,2,    0.210,2, -999.000
           NA,HOT timeseries 1988to2019 27SEP2021,    138,  99,-999.0,      18,-999.0,20021124,1848,  22.7558, -158.0032,  4749,  262.000,   15.731,   34.585,2,   34.597,2,  185.300,2, -999.000,3,    4.910,2,    5.640,2,    0.470,2, -999.000
           NA,HOT timeseries 1988to2019 27SEP2021,    138,  99,-999.0,      17,-999.0,20021124,1848,  22.7558, -158.0032,  4749,  300.900,   13.323,   34.346,2,   34.350,2,  192.800,2, -999.000,3,    8.280,2,    9.200,2,    0.610,2, -999.000
           NA,HOT timeseries 1988to2019 27SEP2021,    138,  99,-999.0,      16,-999.0,20021124,1848,  22.7558, -158.0032,  4749,  344.400,   11.697,   34.246,2,   34.252,2,  196.300,2, -999.000,3,   11.880,2,   12.190,2,    0.860,2, -999.000
           NA,HOT timeseries 1988to2019 27SEP2021,    138,  99,-999.0,      23,-999.0,20021124,1848,  22.7558, -158.0032,  4749,  404.200,   10.349,   34.169,2,   34.170,2,  189.100,2, -999.000,3,   17.170,2,   15.310,2, -999.000,3, -999.000
           NA,HOT timeseries 1988to2019 27SEP2021,    138,  99,-999.0,      40,-999.0,20021124,1848,  22.7558, -158.0032,  4749,  450.400,    9.330,   34.112,2,   34.114,2,  173.300,2, -999.000,3,   23.650,2,   19.240,2,    1.370,2, -999.000
           NA,HOT timeseries 1988to2019 27SEP2021,    138,  99,-999.0,      13,-999.0,20021124,1848,  22.7558, -158.0032,  4749,  483.200,    8.487,   34.069,2,   34.072,2,  153.400,2, -999.000,3,   30.370,2,   22.950,2,    1.640,2, -999.000
           NA,HOT timeseries 1988to2019 27SEP2021,    138,  99,-999.0,      12,-999.0,20021124,1848,  22.7558, -158.0032,  4749,  541.700,    7.233,   34.058,2,   34.057,2,  112.500,2, -999.000,3,   44.770,2,   29.200,2,    2.100,2, -999.000
           NA,HOT timeseries 1988to2019 27SEP2021,    138,  99,-999.0,      39,-999.0,20021124,1848,  22.7558, -158.0032,  4749,  571.000,    6.723,   34.075,2,   34.082,2,   88.000,2, -999.000,3,   52.940,2,   32.280,2,    2.350,2, -999.000
           NA,HOT timeseries 1988to2019 27SEP2021,    138,  99,-999.0,      32,-999.0,20021124,1848,  22.7558, -158.0032,  4749,  615.700,    6.138,   34.100,2,   34.099,2,   64.500,2, -999.000,3,   62.780,2,   35.130,2,    2.570,2, -999.000
           NA,HOT timeseries 1988to2019 27SEP2021,    138,  99,-999.0,       3,-999.0,20021124,1848,  22.7558, -158.0032,  4749,  662.400,    5.647,   34.146,2,   34.139,2,   48.100,2, -999.000,3, -999.000,4,   37.730,2,    2.760,2, -999.000
           NA,HOT timeseries 1988to2019 27SEP2021,    138,  99,-999.0,      29,-999.0,20021124,1848,  22.7558, -158.0032,  4749,  706.400,    5.236,   34.225,2,   34.223,2,   29.500,2, -999.000,3, -999.000,4,   40.850,2,    2.940,2, -999.000
           NA,HOT timeseries 1988to2019 27SEP2021,    138,  99,-999.0,      28,-999.0,20021124,1848,  22.7558, -158.0032,  4749,  769.700,    4.865,   34.315,2,   34.316,2,   23.100,2, -999.000,3, -999.000,4, -999.000,3,    3.030,2, -999.000
           NA,HOT timeseries 1988to2019 27SEP2021,    138,  99,-999.0,       7,-999.0,20021124,1848,  22.7558, -158.0032,  4749,  799.600,    4.749,   34.357,2,   34.355,2,   23.500,2, -999.000,3, -999.000,4, -999.000,3,    3.040,2, -999.000
           NA,HOT timeseries 1988to2019 27SEP2021,    138,  99,-999.0,      38,-999.0,20021124,1848,  22.7558, -158.0032,  4749,  857.000,    4.618,   34.403,2,   34.401,2,   24.700,2, -999.000,3,   96.870,2, -999.000,3,    3.060,2, -999.000
           NA,HOT timeseries 1988to2019 27SEP2021,    138,  99,-999.0,      36,-999.0,20021124,1848,  22.7558, -158.0032,  4749,  902.300,    4.452,   34.448,2,   34.445,2,   30.600,2, -999.000,3,   98.550,2,   42.290,2,    3.020,2, -999.000
           NA,HOT timeseries 1988to2019 27SEP2021,    138,  99,-999.0,      34,-999.0,20021124,1848,  22.7558, -158.0032,  4749,  995.000,    4.170,   34.487,2,   34.487,2,   36.900,2, -999.000,3, -999.000,4,   42.320,2,    3.000,2, -999.000
           NA,HOT timeseries 1988to2019 27SEP2021,    138,  99,-999.0,      33,-999.0,20021124,1848,  22.7558, -158.0032,  4749, 1032.200,    4.043,   34.499,2,   34.498,2,   40.300,2, -999.000,3, -999.000,4,   42.150,2,    3.000,2, -999.000
           NA,HOT timeseries 1988to2019 27SEP2021,    138,  99,-999.0,      20,-999.0,20021124,1848,  22.7558, -158.0032,  4749, 1196.200,    3.635,   34.522,2,   34.520,2,   48.000,2, -999.000,3,  116.490,2, -999.000,3,    3.000,2, -999.000
           NA,HOT timeseries 1988to2019 27SEP2021,    138,  99,-999.0,      19,-999.0,20021124,1848,  22.7558, -158.0032,  4749, 1398.800,    3.182,   34.556,2, -999.000,3, -999.000,3, -999.000,3,  126.180,2,   41.730,2,    2.960,2, -999.000
           NA,HOT timeseries 1988to2019 27SEP2021,    138,  99,-999.0,      18,-999.0,20021124,1848,  22.7558, -158.0032,  4749, 1597.200,    2.787,   34.581,2,   34.579,2,   68.400,2, -999.000,3,  134.930,2,   41.170,2, -999.000,3, -999.000
           NA,HOT timeseries 1988to2019 27SEP2021,    138,  99,-999.0,      17,-999.0,20021124,1848,  22.7558, -158.0032,  4749, 1795.000,    2.477,   34.600,2,   34.598,2,   77.800,2, -999.000,3,  141.580,2,   40.700,2,    2.860,2, -999.000
           NA,HOT timeseries 1988to2019 27SEP2021,    138,  99,-999.0,      16,-999.0,20021124,1848,  22.7558, -158.0032,  4749, 1998.000,    2.207,   34.618,2,   34.616,2,   88.300,2, -999.000,3,  148.320,2,   40.230,2,    2.790,2, -999.000
           NA,HOT timeseries 1988to2019 27SEP2021,    138,  99,-999.0,      23,-999.0,20021124,1848,  22.7558, -158.0032,  4749, 2199.500,    1.973,   34.636,2, -999.000,4, -999.000,3, -999.000,3,  152.090,2,   39.690,2,    2.750,2, -999.000
           NA,HOT timeseries 1988to2019 27SEP2021,    138,  99,-999.0,      40,-999.0,20021124,1848,  22.7558, -158.0032,  4749, 2391.600,    1.792,   34.650,2,   34.648,2,  108.200,2, -999.000,3, -999.000,3,   38.930,2,    2.700,2, -999.000
           NA,HOT timeseries 1988to2019 27SEP2021,    138,  99,-999.0,      13,-999.0,20021124,1848,  22.7558, -158.0032,  4749, 2604.000,    1.704,   34.658,2,   34.657,2,  114.500,2, -999.000,3, -999.000,3,   38.530,2,    2.680,2, -999.000
           NA,HOT timeseries 1988to2019 27SEP2021,    138,  99,-999.0,      12,-999.0,20021124,1848,  22.7558, -158.0032,  4749, 2796.500,    1.627,   34.664,2,   34.665,2,  118.600,2, -999.000,3,  158.110,2,   38.410,2,    2.650,2, -999.000
           NA,HOT timeseries 1988to2019 27SEP2021,    138,  99,-999.0,      39,-999.0,20021124,1848,  22.7558, -158.0032,  4749, 2997.000,    1.558,   34.671,2,   34.670,2,  124.500,2, -999.000,3,  157.960,2,   37.880,2,    2.620,2, -999.000
           NA,HOT timeseries 1988to2019 27SEP2021,    138,  99,-999.0,      32,-999.0,20021124,1848,  22.7558, -158.0032,  4749, 3200.200,    1.518,   34.676,2, -999.000,4, -999.000,3, -999.000,3,  157.040,2,   37.510,2,    2.590,2, -999.000
           NA,HOT timeseries 1988to2019 27SEP2021,    138,  99,-999.0,       3,-999.0,20021124,1848,  22.7558, -158.0032,  4749, 3403.400,    1.489,   34.680,2,   34.680,2,  135.800,2, -999.000,3,  155.450,2,   37.110,2,    2.570,2, -999.000
           NA,HOT timeseries 1988to2019 27SEP2021,    138,  99,-999.0,      29,-999.0,20021124,1848,  22.7558, -158.0032,  4749, 3599.400,    1.471,   34.683,2,   34.686,2,  140.800,2, -999.000,3,  153.940,2,   36.860,2,    2.530,2, -999.000
           NA,HOT timeseries 1988to2019 27SEP2021,    138,  99,-999.0,      28,-999.0,20021124,1848,  22.7558, -158.0032,  4749, 3801.700,    1.462,   34.686,2,   34.685,2,  144.800,2, -999.000,3,  151.790,2,   36.590,2,    2.520,2, -999.000
           NA,HOT timeseries 1988to2019 27SEP2021,    138,  99,-999.0,       7,-999.0,20021124,1848,  22.7558, -158.0032,  4749, 4003.800,    1.461,   34.688,2,   34.687,2,  148.200,2, -999.000,3,  150.430,2,   36.280,2,    2.490,2, -999.000
           NA,HOT timeseries 1988to2019 27SEP2021,    138,  99,-999.0,      38,-999.0,20021124,1848,  22.7558, -158.0032,  4749, 4206.000,    1.469,   34.689,2,   34.688,2,  150.500,2, -999.000,3,  149.400,2,   36.100,2, -999.000,3, -999.000
           NA,HOT timeseries 1988to2019 27SEP2021,    138,  99,-999.0,      36,-999.0,20021124,1848,  22.7558, -158.0032,  4749, 4403.700,    1.480,   34.689,2,   34.689,2,  152.100,2, -999.000,3,  148.310,2,   35.920,2,    2.480,2, -999.000
           NA,HOT timeseries 1988to2019 27SEP2021,    138,  99,-999.0,      35,-999.0,20021124,1848,  22.7558, -158.0032,  4749, 4506.800,    1.488,   34.690,2,   34.689,2,  152.800,2, -999.000,3,  148.300,2,   35.780,2,    2.440,2, -999.000
           NA,HOT timeseries 1988to2019 27SEP2021,    138,  99,-999.0,      34,-999.0,20021124,1848,  22.7558, -158.0032,  4749, 4603.200,    1.496,   34.690,2,   34.691,2,  153.400,2, -999.000,3,  147.950,2,   35.650,2,    2.460,2, -999.000
           NA,HOT timeseries 1988to2019 27SEP2021,    138,  99,-999.0,      33,-999.0,20021124,1848,  22.7558, -158.0032,  4749, 4805.600,    1.519,   34.690,2,   34.690,2,  153.400,2, -999.000,3,  147.420,2,   35.820,2,    2.440,2, -999.000