BOTTLE,20214727JOAExport
EXPOCODE,SECT_ID,STNNBR,CASTNO,SAMPNO,BTLNBR,BTLNBR_FLAG_W,DATE,TIME,LATITUDE,LONGITUDE,DEPTH,CTDPRS,CTDTMP,CTDSAL,CTDSAL_FLAG_W,SALNTY,SALNTY_FLAG_W,CTDOXY,CTDOXY_FLAG_W,OXYGEN,OXYGEN_FLAG_W,SILCAT,SILCAT_FLAG_W,NINI,NINI_FLAG_W,PHSPHT,PHSPHT_FLAG_W,REVP
,,,,,,,,,,,,DB,IPTS-68,PSS-78,,PSS-78,,UMOL/KG,,UMOL/KG,,UMOL/KG,,UMOL/KG,,UMOL/KG,,DBAR
           NA,HOT timeseries 1988to2019 27SEP2021,    184,  99,-999.0,    8024,-999.0,20061209,1442,  22.7500, -157.9992,  4799,    8.800,   24.910,   35.241,2,   35.240,2,  207.800,2,  206.800,2,    0.530,2,    0.050,2,    0.010,2, -999.000
           NA,HOT timeseries 1988to2019 27SEP2021,    184,  99,-999.0,    8024,-999.0,20061209,1442,  22.7500, -157.9992,  4799,   10.600,   24.921,   35.241,2,   35.240,2,  207.100,2,  207.000,2, -999.000,3,    0.040,2,    0.000,2, -999.000
           NA,HOT timeseries 1988to2019 27SEP2021,    184,  99,-999.0,    8023,-999.0,20061209,1442,  22.7500, -157.9992,  4799,   51.800,   24.924,   35.243,2,   35.242,2,  207.100,2,  206.700,2, -999.000,3,    0.040,2,    0.000,2, -999.000
           NA,HOT timeseries 1988to2019 27SEP2021,    184,  99,-999.0,    8022,-999.0,20061209,1442,  22.7500, -157.9992,  4799,   93.400,   23.183,   35.200,2,   35.198,2,  215.800,2,  215.000,2,    0.540,2,    0.040,2,    0.020,2, -999.000
           NA,HOT timeseries 1988to2019 27SEP2021,    184,  99,-999.0,    8021,-999.0,20061209,1442,  22.7500, -157.9992,  4799,  117.500,   21.689,   35.184,2,   35.183,2,  203.600,2,  205.100,2,    0.780,2,    0.380,2,    0.060,2, -999.000
           NA,HOT timeseries 1988to2019 27SEP2021,    184,  99,-999.0,    8020,-999.0,20061209,1442,  22.7500, -157.9992,  4799,  153.500,   19.109,   34.963,2,   34.967,2,  196.900,2,  197.700,2, -999.000,4,    2.270,2,    0.200,2, -999.000
           NA,HOT timeseries 1988to2019 27SEP2021,    184,  99,-999.0,    8019,-999.0,20061209,1442,  22.7500, -157.9992,  4799,  217.600,   15.819,   34.585,2,   34.576,2,  198.200,2,  198.100,2, -999.000,3,    5.610,2,    0.430,2, -999.000
           NA,HOT timeseries 1988to2019 27SEP2021,    184,  99,-999.0,    8018,-999.0,20061209,1442,  22.7500, -157.9992,  4799,  266.100,   13.875,   34.386,2,   34.392,2,  200.800,2,  201.000,2, -999.000,3,    8.130,2,    0.600,2, -999.000
           NA,HOT timeseries 1988to2019 27SEP2021,    184,  99,-999.0,    8017,-999.0,20061209,1442,  22.7500, -157.9992,  4799,  313.000,   12.251,   34.308,2,   34.307,2,  206.900,2,  205.300,2,   10.020,2,   11.240,2,    0.810,2, -999.000
           NA,HOT timeseries 1988to2019 27SEP2021,    184,  99,-999.0,    8016,-999.0,20061209,1442,  22.7500, -157.9992,  4799,  387.000,   10.589,   34.203,2,   34.200,2,  194.700,2,  194.100,2,   16.630,2,   15.430,2,    1.100,2, -999.000
           NA,HOT timeseries 1988to2019 27SEP2021,    184,  99,-999.0,    8015,-999.0,20061209,1442,  22.7500, -157.9992,  4799,  437.400,    9.222,   34.131,2,   34.131,2,  172.400,2,  173.100,2,   25.110,2,   19.990,2,    1.420,2, -999.000
           NA,HOT timeseries 1988to2019 27SEP2021,    184,  99,-999.0,    8014,-999.0,20061209,1442,  22.7500, -157.9992,  4799,  478.600,    8.398,   34.095,2,   34.092,2,  157.300,2,  157.500,2,   31.850,2,   23.090,2,    1.650,2, -999.000
           NA,HOT timeseries 1988to2019 27SEP2021,    184,  99,-999.0,    8025,-999.0,20061209,1442,  22.7500, -157.9992,  4799,  518.200,    7.417,   34.065,2,   34.064,2,  135.200,2,  131.700,2,   42.920,2,   27.320,2,    1.960,2, -999.000
           NA,HOT timeseries 1988to2019 27SEP2021,    184,  99,-999.0,    8012,-999.0,20061209,1442,  22.7500, -157.9992,  4799,  553.300,    6.657,   34.063,2,   34.062,2,  107.100,2,  106.600,2,   54.090,2,   30.920,2,    2.230,2, -999.000
           NA,HOT timeseries 1988to2019 27SEP2021,    184,  99,-999.0,    8011,-999.0,20061209,1442,  22.7500, -157.9992,  4799,  601.200,    5.722,   34.078,2,   34.077,2,   81.200,2,   78.100,2,   69.560,2,   34.900,2,    2.530,2, -999.000
           NA,HOT timeseries 1988to2019 27SEP2021,    184,  99,-999.0,    8010,-999.0,20061209,1442,  22.7500, -157.9992,  4799,  642.400,    5.287,   34.127,2,   34.125,2,   59.200,2,   57.000,2,   80.130,2,   37.500,2,    2.730,2, -999.000
           NA,HOT timeseries 1988to2019 27SEP2021,    184,  99,-999.0,    8008,-999.0,20061209,1442,  22.7500, -157.9992,  4799,  764.300,    4.678,   34.318,2,   34.320,2,   26.400,2,   25.600,2,   97.420,2,   41.220,2,    3.030,2, -999.000
           NA,HOT timeseries 1988to2019 27SEP2021,    184,  99,-999.0,    8026,-999.0,20061209,1442,  22.7500, -157.9992,  4799,  803.500,    4.518,   34.360,2,   34.363,2,   27.200,2,   26.500,2,  101.630,2,   41.660,2,    3.060,2, -999.000
           NA,HOT timeseries 1988to2019 27SEP2021,    184,  99,-999.0,    8006,-999.0,20061209,1442,  22.7500, -157.9992,  4799,  841.500,    4.392,   34.400,2,   34.397,2,   30.400,2,   29.700,2,  105.540,2,   41.500,2,    3.040,2, -999.000
           NA,HOT timeseries 1988to2019 27SEP2021,    184,  99,-999.0,    8005,-999.0,20061209,1442,  22.7500, -157.9992,  4799,  882.000,    4.278,   34.427,2,   34.428,2,   33.300,2,   32.800,2,  106.580,2,   41.510,2,    3.050,2, -999.000
           NA,HOT timeseries 1988to2019 27SEP2021,    184,  99,-999.0,    8004,-999.0,20061209,1442,  22.7500, -157.9992,  4799,  920.900,    4.182,   34.443,2,   34.442,2,   35.100,2,   34.400,2,  107.750,2,   41.650,2,    3.040,2, -999.000
           NA,HOT timeseries 1988to2019 27SEP2021,    184,  99,-999.0,    8003,-999.0,20061209,1442,  22.7500, -157.9992,  4799,  959.200,    4.074,   34.463,2,   34.463,2,   38.200,2,   38.100,2,  109.480,2,   41.590,2,    3.040,2, -999.000
           NA,HOT timeseries 1988to2019 27SEP2021,    184,  99,-999.0,    8002,-999.0,20061209,1442,  22.7500, -157.9992,  4799,  998.100,    3.976,   34.475,2,   34.476,2,   39.700,2,   40.900,2,  112.230,2,   41.630,2,    3.030,2, -999.000
           NA,HOT timeseries 1988to2019 27SEP2021,    184,  99,-999.0,    8001,-999.0,20061209,1442,  22.7500, -157.9992,  4799, 1020.700,    3.905,   34.486,2,   34.485,2,   41.900,2,   41.900,2, -999.000,4,   41.520,2,    3.020,2, -999.000
           NA,HOT timeseries 1988to2019 27SEP2021,    184,  99,-999.0,    8020,-999.0,20061209,1442,  22.7500, -157.9992,  4799, 1201.900,    3.417,   34.528,2,   34.527,2,   51.900,2,   51.800,2,  124.140,2,   41.050,2,    2.990,2, -999.000
           NA,HOT timeseries 1988to2019 27SEP2021,    184,  99,-999.0,    8019,-999.0,20061209,1442,  22.7500, -157.9992,  4799, 1401.400,    2.983,   34.558,2,   34.559,2,   61.700,2,   61.300,2,  133.230,2,   40.660,2,    2.940,2, -999.000
           NA,HOT timeseries 1988to2019 27SEP2021,    184,  99,-999.0,    8018,-999.0,20061209,1442,  22.7500, -157.9992,  4799, 1600.200,    2.669,   34.583,2,   34.584,2,   70.700,2,   71.100,2,  140.790,2,   40.260,2,    2.910,2, -999.000
           NA,HOT timeseries 1988to2019 27SEP2021,    184,  99,-999.0,    8017,-999.0,20061209,1442,  22.7500, -157.9992,  4799, 1802.300,    2.364,   34.602,2,   34.603,2,   78.000,2,   78.500,2,  148.230,2,   39.810,2,    2.860,2, -999.000
           NA,HOT timeseries 1988to2019 27SEP2021,    184,  99,-999.0,    8016,-999.0,20061209,1442,  22.7500, -157.9992,  4799, 2001.500,    2.114,   34.619,2,   34.620,2,   85.800,2,   86.700,2,  152.960,2,   39.350,2,    2.820,2, -999.000
           NA,HOT timeseries 1988to2019 27SEP2021,    184,  99,-999.0,    8015,-999.0,20061209,1442,  22.7500, -157.9992,  4799, 2200.000,    1.910,   34.636,2,   34.635,2,   93.700,2,   93.900,2,  157.790,2,   38.900,2,    2.780,2, -999.000
           NA,HOT timeseries 1988to2019 27SEP2021,    184,  99,-999.0,    8014,-999.0,20061209,1442,  22.7500, -157.9992,  4799, 2400.900,    1.777,   34.647,2,   34.648,2,  101.000,2,  101.600,2,  161.560,2,   38.390,2,    2.740,2, -999.000
           NA,HOT timeseries 1988to2019 27SEP2021,    184,  99,-999.0,    8025,-999.0,20061209,1442,  22.7500, -157.9992,  4799, 2600.600,    1.656,   34.659,2,   34.662,2,  110.300,2,  110.900,2,  162.910,2,   37.910,2,    2.690,2, -999.000
           NA,HOT timeseries 1988to2019 27SEP2021,    184,  99,-999.0,    8012,-999.0,20061209,1442,  22.7500, -157.9992,  4799, 2799.800,    1.585,   34.667,2,   34.667,2,  118.200,2,  118.200,2,  163.300,2,   37.360,2,    2.650,2, -999.000
           NA,HOT timeseries 1988to2019 27SEP2021,    184,  99,-999.0,    8011,-999.0,20061209,1442,  22.7500, -157.9992,  4799, 3001.500,    1.523,   34.674,2,   34.675,2,  126.300,2,  126.800,2,  159.700,2,   36.640,2,    2.600,2, -999.000
           NA,HOT timeseries 1988to2019 27SEP2021,    184,  99,-999.0,    8010,-999.0,20061209,1442,  22.7500, -157.9992,  4799, 3201.100,    1.486,   34.680,2,   34.679,2,  133.600,2,  133.200,2,  158.430,2,   36.360,2,    2.570,2, -999.000
           NA,HOT timeseries 1988to2019 27SEP2021,    184,  99,-999.0,    8009,-999.0,20061209,1442,  22.7500, -157.9992,  4799, 3399.100,    1.470,   34.683,2,   34.682,2,  137.700,2,  137.500,2,  158.150,2,   36.190,2,    2.550,2, -999.000
           NA,HOT timeseries 1988to2019 27SEP2021,    184,  99,-999.0,    8008,-999.0,20061209,1442,  22.7500, -157.9992,  4799, 3600.700,    1.454,   34.686,2,   34.686,2,  142.300,2,  142.300,2,  154.050,2,   35.860,2,    2.530,2, -999.000
           NA,HOT timeseries 1988to2019 27SEP2021,    184,  99,-999.0,    8026,-999.0,20061209,1442,  22.7500, -157.9992,  4799, 3800.500,    1.453,   34.688,2,   34.688,2,  145.300,2,  145.000,2,  151.490,2,   35.770,2,    2.520,2, -999.000
           NA,HOT timeseries 1988to2019 27SEP2021,    184,  99,-999.0,    8006,-999.0,20061209,1442,  22.7500, -157.9992,  4799, 4000.800,    1.458,   34.690,2,   34.689,2,  147.600,2,  147.500,2, -999.000,4,   35.550,2,    2.500,2, -999.000
           NA,HOT timeseries 1988to2019 27SEP2021,    184,  99,-999.0,    8005,-999.0,20061209,1442,  22.7500, -157.9992,  4799, 4200.300,    1.467,   34.691,2, -999.000,4, -999.000,3,  149.100,2,  152.250,2,   35.470,2,    2.490,2, -999.000
           NA,HOT timeseries 1988to2019 27SEP2021,    184,  99,-999.0,    8004,-999.0,20061209,1442,  22.7500, -157.9992,  4799, 4400.100,    1.480,   34.692,2,   34.692,2,  151.100,2,  150.700,2,  151.360,2,   35.500,2,    2.490,2, -999.000
           NA,HOT timeseries 1988to2019 27SEP2021,    184,  99,-999.0,    8003,-999.0,20061209,1442,  22.7500, -157.9992,  4799, 4500.300,    1.488,   34.692,2,   34.692,2,  151.000,2,  150.900,2, -999.000,4,   35.440,2,    2.490,2, -999.000
           NA,HOT timeseries 1988to2019 27SEP2021,    184,  99,-999.0,    8002,-999.0,20061209,1442,  22.7500, -157.9992,  4799, 4601.200,    1.491,   34.693,2,   34.692,2,  152.500,2,  154.200,2,  151.370,2,   35.320,2,    2.480,2, -999.000
           NA,HOT timeseries 1988to2019 27SEP2021,    184,  99,-999.0,    8001,-999.0,20061209,1442,  22.7500, -157.9992,  4799, 4806.100,    1.498,   34.694,2,   34.694,2,  154.600,2,  156.800,2,  149.730,2,   35.150,2,    2.470,2, -999.000