BOTTLE,20214727JOAExport
EXPOCODE,SECT_ID,STNNBR,CASTNO,SAMPNO,BTLNBR,BTLNBR_FLAG_W,DATE,TIME,LATITUDE,LONGITUDE,DEPTH,CTDPRS,CTDTMP,CTDSAL,CTDSAL_FLAG_W,SALNTY,SALNTY_FLAG_W,CTDOXY,CTDOXY_FLAG_W,OXYGEN,OXYGEN_FLAG_W,SILCAT,SILCAT_FLAG_W,NINI,NINI_FLAG_W,PHSPHT,PHSPHT_FLAG_W,REVP
,,,,,,,,,,,,DB,IPTS-68,PSS-78,,PSS-78,,UMOL/KG,,UMOL/KG,,UMOL/KG,,UMOL/KG,,UMOL/KG,,DBAR
           NA,HOT timeseries 1988to2019 27SEP2021,    218,  99,-999.0,    8024,-999.0,20110901,0543,  22.7500, -158.0003,  4743,    5.900,   25.934,   35.210,2,   35.209,2,  206.800,2,  206.500,2, -999.000,3,    0.010,2,    0.090,2, -999.000
           NA,HOT timeseries 1988to2019 27SEP2021,    218,  99,-999.0,    8023,-999.0,20110901,0543,  22.7500, -158.0003,  4743,   46.600,   25.719,   35.206,2,   35.203,2,  210.100,2,  210.500,2,    0.980,2,    0.020,2,    0.080,2, -999.000
           NA,HOT timeseries 1988to2019 27SEP2021,    218,  99,-999.0,    8022,-999.0,20110901,0543,  22.7500, -158.0003,  4743,   78.400,   24.059,   35.333,2,   35.337,2,  219.400,2,  219.100,2,    1.110,2,    0.020,2,    0.080,2, -999.000
           NA,HOT timeseries 1988to2019 27SEP2021,    218,  99,-999.0,    8021,-999.0,20110901,0543,  22.7500, -158.0003,  4743,   83.600,   23.992,   35.342,2,   35.343,2,  219.300,2,  218.800,2, -999.000,3,    0.030,2,    0.080,2, -999.000
           NA,HOT timeseries 1988to2019 27SEP2021,    218,  99,-999.0,    8020,-999.0,20110901,0543,  22.7500, -158.0003,  4743,  111.600,   22.249,   35.356,2,   35.356,2,  212.200,2,  211.700,2,    1.170,2,    0.040,2,    0.110,2, -999.000
           NA,HOT timeseries 1988to2019 27SEP2021,    218,  99,-999.0,    8019,-999.0,20110901,0543,  22.7500, -158.0003,  4743,  119.700,   22.008,   35.347,2,   35.345,2,  207.600,2,  211.100,2,    1.280,2,    0.030,2,    0.090,2, -999.000
           NA,HOT timeseries 1988to2019 27SEP2021,    218,  99,-999.0,    8018,-999.0,20110901,0543,  22.7500, -158.0003,  4743,  191.700,   18.840,   34.981,2,   34.987,2,  194.200,2,  194.500,2,    2.430,2, -999.000,4,    0.170,2, -999.000
           NA,HOT timeseries 1988to2019 27SEP2021,    218,  99,-999.0,    8017,-999.0,20110901,0543,  22.7500, -158.0003,  4743,  259.900,   15.602,   34.539,2,   34.524,2,  189.800,2,  194.400,2,    5.300,2, -999.000,4,    0.380,2, -999.000
           NA,HOT timeseries 1988to2019 27SEP2021,    218,  99,-999.0,    8016,-999.0,20110901,0543,  22.7500, -158.0003,  4743,  328.800,   11.999,   34.244,2,   34.239,2,  201.700,2,  202.500,2,   11.850,2,   11.730,2,    0.870,2, -999.000
           NA,HOT timeseries 1988to2019 27SEP2021,    218,  99,-999.0,    8015,-999.0,20110901,0543,  22.7500, -158.0003,  4743,  375.100,   10.115,   34.127,2,   34.122,2,  190.500,2,  187.600,2,   19.630,2,   16.920,2,    1.250,2, -999.000
           NA,HOT timeseries 1988to2019 27SEP2021,    218,  99,-999.0,    8014,-999.0,20110901,0543,  22.7500, -158.0003,  4743,  424.800,    8.612,   34.057,2,   34.056,2,  161.600,2,  164.400,2,   32.200,2,   21.960,2,    1.650,2, -999.000
           NA,HOT timeseries 1988to2019 27SEP2021,    218,  99,-999.0,    8025,-999.0,20110901,0543,  22.7500, -158.0003,  4743,  470.600,    7.878,   34.034,2,   34.037,2,  140.100,2,  140.100,2,   38.040,2,   25.840,2, -999.000,3, -999.000
           NA,HOT timeseries 1988to2019 27SEP2021,    218,  99,-999.0,    8012,-999.0,20110901,0543,  22.7500, -158.0003,  4743,  514.700,    7.227,   34.027,2,   34.030,2,  120.300,2,  121.600,2,   45.100,2,   28.750,2, -999.000,3, -999.000
           NA,HOT timeseries 1988to2019 27SEP2021,    218,  99,-999.0,    8011,-999.0,20110901,0543,  22.7500, -158.0003,  4743,  529.700,    6.928,   34.025,2,   34.026,2,  109.500,2,  110.800,2,   49.200,2,   30.060,2, -999.000,3, -999.000
           NA,HOT timeseries 1988to2019 27SEP2021,    218,  99,-999.0,    8010,-999.0,20110901,0543,  22.7500, -158.0003,  4743,  554.000,    6.665,   34.040,2,   34.038,2,   93.900,2,   97.700,2,   53.820,2,   32.000,2, -999.000,3, -999.000
           NA,HOT timeseries 1988to2019 27SEP2021,    218,  99,-999.0,    8008,-999.0,20110901,0543,  22.7500, -158.0003,  4743,  633.500,    5.408,   34.078,2,   34.081,2,   59.800,2,   60.200,2,   74.610,2,   37.640,2,    2.840,2, -999.000
           NA,HOT timeseries 1988to2019 27SEP2021,    218,  99,-999.0,    8026,-999.0,20110901,0543,  22.7500, -158.0003,  4743,  699.500,    4.888,   34.156,2,   34.155,2,   38.900,2,   38.200,2,   87.800,2, -999.000,3,    2.900,2, -999.000
           NA,HOT timeseries 1988to2019 27SEP2021,    218,  99,-999.0,    8006,-999.0,20110901,0543,  22.7500, -158.0003,  4743,  761.300,    4.473,   34.249,2,   34.252,2,   26.200,2,   24.900,2,   99.820,2,   41.400,2,    2.970,2, -999.000
           NA,HOT timeseries 1988to2019 27SEP2021,    218,  99,-999.0,    8004,-999.0,20110901,0543,  22.7500, -158.0003,  4743,  833.000,    4.338,   34.376,2,   34.378,2,   29.200,2,   29.700,2,  103.080,2,   41.610,2,    2.970,2, -999.000
           NA,HOT timeseries 1988to2019 27SEP2021,    218,  99,-999.0,    8003,-999.0,20110901,0543,  22.7500, -158.0003,  4743,  911.200,    4.219,   34.429,2,   34.430,2,   37.000,2,   37.300,2,  105.640,2,   41.090,2,    2.960,2, -999.000
           NA,HOT timeseries 1988to2019 27SEP2021,    218,  99,-999.0,    8002,-999.0,20110901,0543,  22.7500, -158.0003,  4743,  989.500,    3.992,   34.470,2,   34.469,2,   43.800,2,   43.700,2,  110.210,2,   41.370,2,    2.970,2, -999.000
           NA,HOT timeseries 1988to2019 27SEP2021,    218,  99,-999.0,    8001,-999.0,20110901,0543,  22.7500, -158.0003,  4743, 1019.800,    3.864,   34.481,2,   34.480,2,   46.100,2,   45.200,2,  111.970,2, -999.000,3,    2.980,2, -999.000
           NA,HOT timeseries 1988to2019 27SEP2021,    218,  99,-999.0,    8020,-999.0,20110901,0543,  22.7500, -158.0003,  4743, 1201.400,    3.488,   34.526,2,   34.525,2,   54.700,2,   54.600,2,  119.060,2,   41.050,2,    2.960,2, -999.000
           NA,HOT timeseries 1988to2019 27SEP2021,    218,  99,-999.0,    8019,-999.0,20110901,0543,  22.7500, -158.0003,  4743, 1400.500,    3.053,   34.559,2,   34.559,2,   64.100,2,   64.000,2,  128.160,2,   40.740,2,    2.930,2, -999.000
           NA,HOT timeseries 1988to2019 27SEP2021,    218,  99,-999.0,    8018,-999.0,20110901,0543,  22.7500, -158.0003,  4743, 1600.600,    2.636,   34.584,2,   34.584,2,   74.000,2,   74.700,2,  137.360,2,   40.080,2,    2.880,2, -999.000
           NA,HOT timeseries 1988to2019 27SEP2021,    218,  99,-999.0,    8017,-999.0,20110901,0543,  22.7500, -158.0003,  4743, 1800.500,    2.356,   34.602,2,   34.602,2,   81.600,2,   82.200,2,  143.410,2,   39.800,2,    2.840,2, -999.000
           NA,HOT timeseries 1988to2019 27SEP2021,    218,  99,-999.0,    8016,-999.0,20110901,0543,  22.7500, -158.0003,  4743, 2001.100,    2.100,   34.619,2,   34.619,2,   85.900,2,   87.900,2,  150.170,2,   39.520,2,    2.810,2, -999.000
           NA,HOT timeseries 1988to2019 27SEP2021,    218,  99,-999.0,    8015,-999.0,20110901,0543,  22.7500, -158.0003,  4743, 2200.400,    1.926,   34.635,2,   34.634,2,   97.000,2,   96.000,2,  152.990,2,   38.970,2,    2.770,2, -999.000
           NA,HOT timeseries 1988to2019 27SEP2021,    218,  99,-999.0,    8014,-999.0,20110901,0543,  22.7500, -158.0003,  4743, 2401.300,    1.770,   34.644,2,   34.644,2,  100.500,2,  101.300,2,  158.950,2,   38.740,2,    2.740,2, -999.000
           NA,HOT timeseries 1988to2019 27SEP2021,    218,  99,-999.0,    8025,-999.0,20110901,0543,  22.7500, -158.0003,  4743, 2601.900,    1.678,   34.654,2,   34.654,2,  109.100,2,  109.800,2,  158.510,2,   38.130,2,    2.700,2, -999.000
           NA,HOT timeseries 1988to2019 27SEP2021,    218,  99,-999.0,    8012,-999.0,20110901,0543,  22.7500, -158.0003,  4743, 2800.000,    1.600,   34.663,2,   34.663,2,  118.000,2,  118.600,2,  158.180,2,   37.610,2,    2.630,2, -999.000
           NA,HOT timeseries 1988to2019 27SEP2021,    218,  99,-999.0,    8011,-999.0,20110901,0543,  22.7500, -158.0003,  4743, 2999.800,    1.552,   34.669,2,   34.668,2,  124.100,2,  124.400,2,  157.440,2,   37.210,2,    2.610,2, -999.000
           NA,HOT timeseries 1988to2019 27SEP2021,    218,  99,-999.0,    8010,-999.0,20110901,0543,  22.7500, -158.0003,  4743, 3199.800,    1.513,   34.674,2,   34.674,2,  129.900,2,  130.100,2,  156.580,2,   36.870,2,    2.570,2, -999.000
           NA,HOT timeseries 1988to2019 27SEP2021,    218,  99,-999.0,    8009,-999.0,20110901,0543,  22.7500, -158.0003,  4743, 3401.000,    1.480,   34.679,2,   34.678,2,  135.700,2,  135.800,2,  156.050,2,   36.530,2,    2.540,2, -999.000
           NA,HOT timeseries 1988to2019 27SEP2021,    218,  99,-999.0,    8008,-999.0,20110901,0543,  22.7500, -158.0003,  4743, 3599.400,    1.458,   34.682,2,   34.681,2,  141.200,2,  141.300,2,  153.480,2,   36.270,2,    2.520,2, -999.000
           NA,HOT timeseries 1988to2019 27SEP2021,    218,  99,-999.0,    8026,-999.0,20110901,0543,  22.7500, -158.0003,  4743, 3800.400,    1.452,   34.685,2,   34.684,2,  145.300,2,  144.900,2,  151.780,2,   35.890,2,    2.490,2, -999.000
           NA,HOT timeseries 1988to2019 27SEP2021,    218,  99,-999.0,    8006,-999.0,20110901,0543,  22.7500, -158.0003,  4743, 3999.600,    1.454,   34.686,2,   34.686,2,  148.300,2,  147.600,2,  150.270,2,   35.780,2,    2.490,2, -999.000
           NA,HOT timeseries 1988to2019 27SEP2021,    218,  99,-999.0,    8005,-999.0,20110901,0543,  22.7500, -158.0003,  4743, 4200.600,    1.465,   34.688,2,   34.687,2,  150.500,2,  149.200,2,  149.500,2,   35.660,2,    2.460,2, -999.000
           NA,HOT timeseries 1988to2019 27SEP2021,    218,  99,-999.0,    8004,-999.0,20110901,0543,  22.7500, -158.0003,  4743, 4401.000,    1.479,   34.688,2,   34.688,2,  151.400,2,  150.500,2,  149.950,2,   35.620,2,    2.450,2, -999.000
           NA,HOT timeseries 1988to2019 27SEP2021,    218,  99,-999.0,    8003,-999.0,20110901,0543,  22.7500, -158.0003,  4743, 4500.100,    1.488,   34.688,2,   34.688,2,  151.100,2,  151.600,2,  148.970,2,   35.750,2,    2.460,2, -999.000
           NA,HOT timeseries 1988to2019 27SEP2021,    218,  99,-999.0,    8002,-999.0,20110901,0543,  22.7500, -158.0003,  4743, 4600.700,    1.498,   34.688,2,   34.688,2,  151.500,2,  151.500,2,  148.660,2,   35.620,2,    2.450,2, -999.000
           NA,HOT timeseries 1988to2019 27SEP2021,    218,  99,-999.0,    8001,-999.0,20110901,0543,  22.7500, -158.0003,  4743, 4803.100,    1.520,   34.688,2,   34.689,2,  151.500,2,  152.700,2,  148.070,2,   35.630,2,    2.460,2, -999.000