BOTTLE,20214727JOAExport
EXPOCODE,SECT_ID,STNNBR,CASTNO,SAMPNO,BTLNBR,BTLNBR_FLAG_W,DATE,TIME,LATITUDE,LONGITUDE,DEPTH,CTDPRS,CTDTMP,CTDSAL,CTDSAL_FLAG_W,SALNTY,SALNTY_FLAG_W,CTDOXY,CTDOXY_FLAG_W,OXYGEN,OXYGEN_FLAG_W,SILCAT,SILCAT_FLAG_W,NINI,NINI_FLAG_W,PHSPHT,PHSPHT_FLAG_W,REVP
,,,,,,,,,,,,DB,IPTS-68,PSS-78,,PSS-78,,UMOL/KG,,UMOL/KG,,UMOL/KG,,UMOL/KG,,UMOL/KG,,DBAR
           NA,HOT timeseries 1988to2019 27SEP2021,    107,  99,-999.0,      31,-999.0,20000202,1758,  22.7492, -158.0110,  4723,    4.700,   22.910,   35.341,2,   35.341,2,  213.400,2,  214.700,2,    1.310,2,    0.000,2,    0.110,2, -999.000
           NA,HOT timeseries 1988to2019 27SEP2021,    107,  99,-999.0,      31,-999.0,20000202,1758,  22.7492, -158.0110,  4723,    5.000,   22.891,   35.335,2,   35.335,2,  213.500,2,  214.200,2,    2.710,2,    0.420,2,    0.110,2, -999.000
           NA,HOT timeseries 1988to2019 27SEP2021,    107,  99,-999.0,      30,-999.0,20000202,1758,  22.7492, -158.0110,  4723,   49.600,   22.871,   35.366,2,   35.371,2,  213.100,2,  214.000,2,    1.300,2,    0.000,2,    0.090,2, -999.000
           NA,HOT timeseries 1988to2019 27SEP2021,    107,  99,-999.0,      22,-999.0,20000202,1758,  22.7492, -158.0110,  4723,  110.600,   21.994,   35.288,2,   35.288,2,  207.300,2,  208.400,2,    1.660,2,    0.350,2,    0.120,2, -999.000
           NA,HOT timeseries 1988to2019 27SEP2021,    107,  99,-999.0,      21,-999.0,20000202,1758,  22.7492, -158.0110,  4723,  148.300,   19.843,   35.136,2,   35.141,2,  198.500,2,  199.300,2,    2.390,2,    1.690,2,    0.250,2, -999.000
           NA,HOT timeseries 1988to2019 27SEP2021,    107,  99,-999.0,      20,-999.0,20000202,1758,  22.7492, -158.0110,  4723,  179.700,   18.482,   34.957,2,   34.956,2,  194.600,2,  194.400,2,    3.280,2,    3.200,2,    0.330,2, -999.000
           NA,HOT timeseries 1988to2019 27SEP2021,    107,  99,-999.0,      19,-999.0,20000202,1758,  22.7492, -158.0110,  4723,  219.700,   15.857,   34.626,2,   34.631,2,  196.600,2,  197.500,2,    5.090,2,    5.170,2,    0.440,2, -999.000
           NA,HOT timeseries 1988to2019 27SEP2021,    107,  99,-999.0,      18,-999.0,20000202,1758,  22.7492, -158.0110,  4723,  259.700,   13.663,   34.385,2,   34.381,2,  199.400,2,  198.500,2,    7.990,2,    8.230,2,    0.640,2, -999.000
           NA,HOT timeseries 1988to2019 27SEP2021,    107,  99,-999.0,      17,-999.0,20000202,1758,  22.7492, -158.0110,  4723,  309.000,   12.191,   34.287,2,   34.285,2,  202.900,2,  203.500,2,   11.040,2,   10.840,2,    0.800,2, -999.000
           NA,HOT timeseries 1988to2019 27SEP2021,    107,  99,-999.0,      16,-999.0,20000202,1758,  22.7492, -158.0110,  4723,  344.000,   11.369,   34.241,2,   34.241,2,  204.300,2,  204.800,2,   13.330,2,   12.560,2,    0.900,2, -999.000
           NA,HOT timeseries 1988to2019 27SEP2021,    107,  99,-999.0,      15,-999.0,20000202,1758,  22.7492, -158.0110,  4723,  379.400,   10.137,   34.155,2,   34.154,2,  191.400,2,  192.700,2,   18.940,2,   16.240,2,    1.200,2, -999.000
           NA,HOT timeseries 1988to2019 27SEP2021,    107,  99,-999.0,      14,-999.0,20000202,1758,  22.7492, -158.0110,  4723,  415.000,    9.317,   34.118,2,   34.119,2,  186.300,2,  185.800,2,   24.000,2,   18.700,2,    1.360,2, -999.000
           NA,HOT timeseries 1988to2019 27SEP2021,    107,  99,-999.0,      13,-999.0,20000202,1758,  22.7492, -158.0110,  4723,  440.800,    8.720,   34.081,2,   34.081,2,  175.000,2,  176.100,2,   28.040,2,   20.840,2,    1.510,2, -999.000
           NA,HOT timeseries 1988to2019 27SEP2021,    107,  99,-999.0,      30,-999.0,20000202,1758,  22.7492, -158.0110,  4723,  499.600,    6.968,   34.028,2,   34.026,2,  132.400,2,  132.700,2,   45.730,2,   27.620,2,    1.940,2, -999.000
           NA,HOT timeseries 1988to2019 27SEP2021,    107,  99,-999.0,      11,-999.0,20000202,1758,  22.7492, -158.0110,  4723,  541.900,    6.438,   34.023,2,   34.023,2,  114.900,2,  114.300,2,   53.550,2,   30.800,2,    2.260,2, -999.000
           NA,HOT timeseries 1988to2019 27SEP2021,    107,  99,-999.0,      32,-999.0,20000202,1758,  22.7492, -158.0110,  4723,  577.500,    5.579,   34.054,2,   34.053,2,   73.900,2,   74.700,2,   69.190,2,   35.710,2,    2.620,2, -999.000
           NA,HOT timeseries 1988to2019 27SEP2021,    107,  99,-999.0,       3,-999.0,20000202,1758,  22.7492, -158.0110,  4723,  609.700,    5.433,   34.146,2,   34.147,2,   54.800,2,   52.700,2,   76.800,2,   37.740,2,    2.790,2, -999.000
           NA,HOT timeseries 1988to2019 27SEP2021,    107,  99,-999.0,      29,-999.0,20000202,1758,  22.7492, -158.0110,  4723,  657.000,    5.165,   34.237,2,   34.236,2,   41.800,2,   40.100,2,   84.360,2,   39.170,2,    2.910,2, -999.000
           NA,HOT timeseries 1988to2019 27SEP2021,    107,  99,-999.0,      28,-999.0,20000202,1758,  22.7492, -158.0110,  4723,  695.000,    5.140,   34.296,2,   34.296,2,   38.600,2,   37.300,2,   86.550,2,   39.750,2,    2.920,2, -999.000
           NA,HOT timeseries 1988to2019 27SEP2021,    107,  99,-999.0,       7,-999.0,20000202,1758,  22.7492, -158.0110,  4723,  753.500,    4.959,   34.353,2,   34.351,2,   36.100,2,   35.100,2,   90.290,2,   40.340,2,    3.000,2, -999.000
           NA,HOT timeseries 1988to2019 27SEP2021,    107,  99,-999.0,      38,-999.0,20000202,1758,  22.7492, -158.0110,  4723,  808.800,    4.812,   34.394,2,   34.393,2,   36.000,2,   34.700,2,   93.340,2,   40.640,2,    3.020,2, -999.000
           NA,HOT timeseries 1988to2019 27SEP2021,    107,  99,-999.0,      36,-999.0,20000202,1758,  22.7492, -158.0110,  4723,  868.100,    4.630,   34.426,2,   34.427,2,   37.200,2,   36.700,2,   97.270,2,   41.110,2,    3.030,2, -999.000
           NA,HOT timeseries 1988to2019 27SEP2021,    107,  99,-999.0,      35,-999.0,20000202,1758,  22.7492, -158.0110,  4723,  919.500,    4.458,   34.451,2,   34.452,2,   39.200,2,   39.300,2,  100.320,2,   41.120,2,    3.030,2, -999.000
           NA,HOT timeseries 1988to2019 27SEP2021,    107,  99,-999.0,      34,-999.0,20000202,1758,  22.7492, -158.0110,  4723,  969.900,    4.273,   34.468,2,   34.467,2,   41.600,2,   41.900,2,  103.940,2,   41.260,2,    3.040,2, -999.000
           NA,HOT timeseries 1988to2019 27SEP2021,    107,  99,-999.0,      33,-999.0,20000202,1758,  22.7492, -158.0110,  4723, 1020.700,    4.070,   34.482,2,   34.481,2,   44.200,2,   43.800,2,  108.220,2,   41.260,2,    3.060,2, -999.000
           NA,HOT timeseries 1988to2019 27SEP2021,    107,  99,-999.0,      20,-999.0,20000202,1758,  22.7492, -158.0110,  4723, 1200.400,    3.600,   34.519,2,   34.518,2,   50.300,2,   50.600,2,  118.220,2,   41.240,2,    2.940,2, -999.000
           NA,HOT timeseries 1988to2019 27SEP2021,    107,  99,-999.0,      19,-999.0,20000202,1758,  22.7492, -158.0110,  4723, 1399.400,    3.187,   34.552,2,   34.550,2,   59.200,2,   59.200,2,  126.470,2,   40.920,2,    2.930,2, -999.000
           NA,HOT timeseries 1988to2019 27SEP2021,    107,  99,-999.0,      18,-999.0,20000202,1758,  22.7492, -158.0110,  4723, 1600.300,    2.790,   34.574,2,   34.573,2,   66.600,2,   67.900,2,  136.420,2,   40.550,2,    2.890,2, -999.000
           NA,HOT timeseries 1988to2019 27SEP2021,    107,  99,-999.0,      17,-999.0,20000202,1758,  22.7492, -158.0110,  4723, 1801.700,    2.464,   34.597,2,   34.596,2,   78.000,2,   77.900,2,  142.720,2,   40.120,2,    2.840,2, -999.000
           NA,HOT timeseries 1988to2019 27SEP2021,    107,  99,-999.0,      16,-999.0,20000202,1758,  22.7492, -158.0110,  4723, 2000.800,    2.196,   34.615,2,   34.614,2,   85.200,2,   86.300,2,  148.830,2,   39.780,2,    2.810,2, -999.000
           NA,HOT timeseries 1988to2019 27SEP2021,    107,  99,-999.0,      15,-999.0,20000202,1758,  22.7492, -158.0110,  4723, 2198.200,    2.002,   34.632,2,   34.632,2,   94.100,2,   95.300,2,  152.360,2,   39.310,2,    2.750,2, -999.000
           NA,HOT timeseries 1988to2019 27SEP2021,    107,  99,-999.0,      14,-999.0,20000202,1758,  22.7492, -158.0110,  4723, 2398.400,    1.861,   34.644,2,   34.645,2,  101.600,2,  102.800,2,  154.730,2,   38.860,2, -999.000,3, -999.000
           NA,HOT timeseries 1988to2019 27SEP2021,    107,  99,-999.0,      13,-999.0,20000202,1758,  22.7492, -158.0110,  4723, 2599.700,    1.755,   34.651,2,   34.652,2,  108.100,2, -999.000,3,  156.250,2,   38.490,2,    2.700,2, -999.000
           NA,HOT timeseries 1988to2019 27SEP2021,    107,  99,-999.0,      12,-999.0,20000202,1758,  22.7492, -158.0110,  4723, 2799.200,    1.651,   34.661,2,   34.661,2,  115.400,2,  116.900,2,  157.940,2,   37.950,2,    2.660,2, -999.000
           NA,HOT timeseries 1988to2019 27SEP2021,    107,  99,-999.0,      11,-999.0,20000202,1758,  22.7492, -158.0110,  4723, 3000.500,    1.581,   34.668,2,   34.667,2,  122.100,2,  122.600,2,  158.050,2,   37.530,2,    2.630,2, -999.000
           NA,HOT timeseries 1988to2019 27SEP2021,    107,  99,-999.0,      32,-999.0,20000202,1758,  22.7492, -158.0110,  4723, 3200.400,    1.543,   34.673,2,   34.673,2,  127.500,2,  127.900,2,  158.110,2,   37.310,2,    2.580,2, -999.000
           NA,HOT timeseries 1988to2019 27SEP2021,    107,  99,-999.0,       3,-999.0,20000202,1758,  22.7492, -158.0110,  4723, 3398.800,    1.499,   34.678,2,   34.678,2,  133.600,2,  134.400,2,  156.500,2,   36.940,2,    2.570,2, -999.000
           NA,HOT timeseries 1988to2019 27SEP2021,    107,  99,-999.0,      29,-999.0,20000202,1758,  22.7492, -158.0110,  4723, 3599.900,    1.481,   34.681,2,   34.681,2,  138.600,2,  139.400,2,  155.370,2,   36.630,2,    2.540,2, -999.000
           NA,HOT timeseries 1988to2019 27SEP2021,    107,  99,-999.0,      28,-999.0,20000202,1758,  22.7492, -158.0110,  4723, 3799.200,    1.469,   34.684,2,   34.685,2,  143.400,2,  143.600,2,  153.500,2,   36.350,2, -999.000,3, -999.000
           NA,HOT timeseries 1988to2019 27SEP2021,    107,  99,-999.0,       7,-999.0,20000202,1758,  22.7492, -158.0110,  4723, 4000.500,    1.461,   34.686,2,   34.687,2,  147.300,2,  147.200,2,  151.950,2,   36.160,2, -999.000,3, -999.000
           NA,HOT timeseries 1988to2019 27SEP2021,    107,  99,-999.0,      38,-999.0,20000202,1758,  22.7492, -158.0110,  4723, 4201.200,    1.465,   34.688,2,   34.688,2,  150.500,2,  150.100,2,  150.050,2,   35.800,2, -999.000,4, -999.000
           NA,HOT timeseries 1988to2019 27SEP2021,    107,  99,-999.0,      36,-999.0,20000202,1758,  22.7492, -158.0110,  4723, 4402.900,    1.478,   34.689,2,   34.690,2,  152.000,2,  151.500,2,  149.560,2,   35.780,2,    2.450,2, -999.000
           NA,HOT timeseries 1988to2019 27SEP2021,    107,  99,-999.0,      35,-999.0,20000202,1758,  22.7492, -158.0110,  4723, 4501.100,    1.487,   34.689,2,   34.689,2,  152.400,2,  151.900,2,  149.590,2,   35.680,2,    2.460,2, -999.000
           NA,HOT timeseries 1988to2019 27SEP2021,    107,  99,-999.0,      34,-999.0,20000202,1758,  22.7492, -158.0110,  4723, 4599.900,    1.497,   34.689,2,   34.689,2,  153.100,2,  152.200,2,  148.970,2,   35.700,2, -999.000,4, -999.000
           NA,HOT timeseries 1988to2019 27SEP2021,    107,  99,-999.0,      33,-999.0,20000202,1758,  22.7492, -158.0110,  4723, 4804.400,    1.513,   34.690,2,   34.690,2,  154.700,2,  153.800,2,  147.960,2,   35.600,2,    2.470,2, -999.000