BOTTLE,20214727JOAExport
EXPOCODE,SECT_ID,STNNBR,CASTNO,SAMPNO,BTLNBR,BTLNBR_FLAG_W,DATE,TIME,LATITUDE,LONGITUDE,DEPTH,CTDPRS,CTDTMP,CTDSAL,CTDSAL_FLAG_W,SALNTY,SALNTY_FLAG_W,CTDOXY,CTDOXY_FLAG_W,OXYGEN,OXYGEN_FLAG_W,SILCAT,SILCAT_FLAG_W,NINI,NINI_FLAG_W,PHSPHT,PHSPHT_FLAG_W,REVP
,,,,,,,,,,,,DB,IPTS-68,PSS-78,,PSS-78,,UMOL/KG,,UMOL/KG,,UMOL/KG,,UMOL/KG,,UMOL/KG,,DBAR
           NA,HOT timeseries 1988to2019 27SEP2021,    152,  99,-999.0,      31,-999.0,20040224,1754, -22.7510, -158.0008,  4749,    3.800,   24.746,   34.867,2,   34.867,2,  207.300,2,  209.300,2,    0.970,2,    0.050,2,    0.020,2, -999.000
           NA,HOT timeseries 1988to2019 27SEP2021,    152,  99,-999.0,      30,-999.0,20040224,1754, -22.7510, -158.0008,  4749,   26.700,   23.976,   35.253,2, -999.000,3, -999.000,3,  212.700,2,    1.010,2,    0.020,2,    0.070,2, -999.000
           NA,HOT timeseries 1988to2019 27SEP2021,    152,  99,-999.0,      22,-999.0,20040224,1754, -22.7510, -158.0008,  4749,   73.400,   23.333,   35.326,2, -999.000,4, -999.000,3,  214.600,2,    1.030,2,    0.060,2,    0.060,2, -999.000
           NA,HOT timeseries 1988to2019 27SEP2021,    152,  99,-999.0,      21,-999.0,20040224,1754, -22.7510, -158.0008,  4749,  117.400,   22.052,   35.301,2,   35.300,2,  204.200,2,  204.400,2,    1.410,2,    0.510,2,    0.010,2, -999.000
           NA,HOT timeseries 1988to2019 27SEP2021,    152,  99,-999.0,      20,-999.0,20040224,1754, -22.7510, -158.0008,  4749,  176.000,   19.557,   35.099,2,   35.105,2,  195.400,2,  197.400,2,    2.260,2,    2.030,2, -999.000,3, -999.000
           NA,HOT timeseries 1988to2019 27SEP2021,    152,  99,-999.0,      19,-999.0,20040224,1754, -22.7510, -158.0008,  4749,  242.600,   15.629,   34.561,2,   34.560,2,  198.600,2,  198.100,2,    4.870,2,    5.940,2,    0.510,2, -999.000
           NA,HOT timeseries 1988to2019 27SEP2021,    152,  99,-999.0,      18,-999.0,20040224,1754, -22.7510, -158.0008,  4749,  276.000,   13.528,   34.337,2,   34.337,2,  198.100,2,  198.000,2,    7.850,2,    9.120,2,    0.720,2, -999.000
           NA,HOT timeseries 1988to2019 27SEP2021,    152,  99,-999.0,      17,-999.0,20040224,1754, -22.7510, -158.0008,  4749,  311.300,   12.040,   34.231,2,   34.232,2,  199.500,2,  198.200,2,   11.060,2,   12.130,2,    0.920,2, -999.000
           NA,HOT timeseries 1988to2019 27SEP2021,    152,  99,-999.0,      16,-999.0,20040224,1754, -22.7510, -158.0008,  4749,  367.600,   10.317,   34.167,2,   34.167,2,  185.200,2,  185.500,2,   18.440,2,   17.010,2,    1.250,2, -999.000
           NA,HOT timeseries 1988to2019 27SEP2021,    152,  99,-999.0,      23,-999.0,20040224,1754, -22.7510, -158.0008,  4749,  424.100,    8.810,   34.104,2,   34.108,2,  157.800,2,  157.200,2,   28.760,2,   22.830,2,    1.660,2, -999.000
           NA,HOT timeseries 1988to2019 27SEP2021,    152,  99,-999.0,     101,-999.0,20040224,1754, -22.7510, -158.0008,  4749,  459.200,    7.713,   34.063,2,   34.063,2,  136.500,2,  137.100,2,   39.070,2,   26.960,2,    1.940,2, -999.000
           NA,HOT timeseries 1988to2019 27SEP2021,    152,  99,-999.0,      42,-999.0,20040224,1754, -22.7510, -158.0008,  4749,  491.200,    7.230,   34.048,2,   34.047,2,  123.600,2,  127.500,2,   44.000,2,   28.880,2,    2.090,2, -999.000
           NA,HOT timeseries 1988to2019 27SEP2021,    152,  99,-999.0,      12,-999.0,20040224,1754, -22.7510, -158.0008,  4749,  553.200,    6.299,   34.051,2,   34.050,2,   93.700,2,   95.600,2,   57.140,2,   33.380,2,    2.390,2, -999.000
           NA,HOT timeseries 1988to2019 27SEP2021,    152,  99,-999.0,      39,-999.0,20040224,1754, -22.7510, -158.0008,  4749,  605.100,    5.768,   34.060,2,   34.054,2,   80.500,2,   80.500,2,   65.880,2,   35.750,2,    2.560,2, -999.000
           NA,HOT timeseries 1988to2019 27SEP2021,    152,  99,-999.0,      32,-999.0,20040224,1754, -22.7510, -158.0008,  4749,  654.600,    5.249,   34.096,2,   34.096,2,   58.100,2,   56.000,2, -999.000,4,   38.720,2,    2.790,2, -999.000
           NA,HOT timeseries 1988to2019 27SEP2021,    152,  99,-999.0,       3,-999.0,20040224,1754, -22.7510, -158.0008,  4749,  688.200,    4.997,   34.128,2,   34.127,2,   44.600,2,   44.800,2, -999.000,4,   40.040,2,    2.900,2, -999.000
           NA,HOT timeseries 1988to2019 27SEP2021,    152,  99,-999.0,      28,-999.0,20040224,1754, -22.7510, -158.0008,  4749,  759.000,    4.812,   34.252,2,   34.255,2,   31.100,2,   30.900,2, -999.000,4,   41.280,2,    3.010,2, -999.000
           NA,HOT timeseries 1988to2019 27SEP2021,    152,  99,-999.0,      13,-999.0,20040224,1754, -22.7510, -158.0008,  4749,  793.000,    4.728,   34.315,2,   34.314,2,   30.400,2,   30.800,2, -999.000,4,   41.500,2,    3.010,2, -999.000
           NA,HOT timeseries 1988to2019 27SEP2021,    152,  99,-999.0,      38,-999.0,20040224,1754, -22.7510, -158.0008,  4749,  829.400,    4.514,   34.335,2,   34.334,2,   31.200,2,   30.900,2, -999.000,4,   41.880,2,    3.030,2, -999.000
           NA,HOT timeseries 1988to2019 27SEP2021,    152,  99,-999.0,      36,-999.0,20040224,1754, -22.7510, -158.0008,  4749,  866.100,    4.336,   34.383,2,   34.382,2,   33.200,2,   33.200,2,  103.280,2,   42.020,2,    3.060,2, -999.000
           NA,HOT timeseries 1988to2019 27SEP2021,    152,  99,-999.0,      35,-999.0,20040224,1754, -22.7510, -158.0008,  4749,  922.700,    4.234,   34.444,2,   34.444,2,   40.000,2,   39.500,2,  105.510,2,   41.940,2,    3.040,2, -999.000
           NA,HOT timeseries 1988to2019 27SEP2021,    152,  99,-999.0,      34,-999.0,20040224,1754, -22.7510, -158.0008,  4749,  979.500,    4.101,   34.483,2,   34.483,2,   43.800,2,   44.300,2,  105.400,2,   41.760,2,    3.040,2, -999.000
           NA,HOT timeseries 1988to2019 27SEP2021,    152,  99,-999.0,      33,-999.0,20040224,1754, -22.7510, -158.0008,  4749, 1025.200,    3.958,   34.497,2,   34.498,2,   47.100,2,   47.100,2, -999.000,4,   41.550,2,    2.990,2, -999.000
           NA,HOT timeseries 1988to2019 27SEP2021,    152,  99,-999.0,      20,-999.0,20040224,1754, -22.7510, -158.0008,  4749, 1199.800,    3.472,   34.532,2,   34.532,2,   54.700,2,   55.200,2,  119.470,2,   41.460,2,    2.980,2, -999.000
           NA,HOT timeseries 1988to2019 27SEP2021,    152,  99,-999.0,      19,-999.0,20040224,1754, -22.7510, -158.0008,  4749, 1399.600,    2.974,   34.559,2,   34.559,2,   64.300,2,   64.100,2,  130.510,2,   41.070,2,    2.930,2, -999.000
           NA,HOT timeseries 1988to2019 27SEP2021,    152,  99,-999.0,      18,-999.0,20040224,1754, -22.7510, -158.0008,  4749, 1601.200,    2.583,   34.584,2,   34.585,2,   73.600,2,   73.800,2,  139.620,2,   40.670,2,    2.840,2, -999.000
           NA,HOT timeseries 1988to2019 27SEP2021,    152,  99,-999.0,      17,-999.0,20040224,1754, -22.7510, -158.0008,  4749, 1800.100,    2.312,   34.608,2,   34.608,2,   83.600,2,   84.100,2,  144.790,2,   40.040,2,    2.790,2, -999.000
           NA,HOT timeseries 1988to2019 27SEP2021,    152,  99,-999.0,      16,-999.0,20040224,1754, -22.7510, -158.0008,  4749, 2000.100,    2.062,   34.620,2,   34.620,2,   90.900,2,   90.800,2,  151.200,2,   39.600,2,    2.770,2, -999.000
           NA,HOT timeseries 1988to2019 27SEP2021,    152,  99,-999.0,      23,-999.0,20040224,1754, -22.7510, -158.0008,  4749, 2199.700,    1.893,   34.634,2,   34.634,2,   98.300,2,   97.900,2,  156.130,2,   38.640,2,    2.720,2, -999.000
           NA,HOT timeseries 1988to2019 27SEP2021,    152,  99,-999.0,     101,-999.0,20040224,1754, -22.7510, -158.0008,  4749, 2400.300,    1.782,   34.646,2,   34.647,2,  105.000,2,  105.800,2,  155.840,2,   38.680,2,    2.730,2, -999.000
           NA,HOT timeseries 1988to2019 27SEP2021,    152,  99,-999.0,      42,-999.0,20040224,1754, -22.7510, -158.0008,  4749, 2600.200,    1.689,   34.656,2,   34.657,2,  112.800,2,  113.400,2,  157.900,2,   37.920,2,    2.670,2, -999.000
           NA,HOT timeseries 1988to2019 27SEP2021,    152,  99,-999.0,      12,-999.0,20040224,1754, -22.7510, -158.0008,  4749, 2799.900,    1.605,   34.664,2,   34.665,2,  119.500,2,  119.500,2,  157.010,2,   37.740,2,    2.690,2, -999.000
           NA,HOT timeseries 1988to2019 27SEP2021,    152,  99,-999.0,      39,-999.0,20040224,1754, -22.7510, -158.0008,  4749, 3000.200,    1.543,   34.670,2,   34.671,2,  125.200,2,  126.200,2,  157.710,2,   37.100,2,    2.630,2, -999.000
           NA,HOT timeseries 1988to2019 27SEP2021,    152,  99,-999.0,      32,-999.0,20040224,1754, -22.7510, -158.0008,  4749, 3199.300,    1.495,   34.676,2,   34.676,2,  132.900,2,  133.100,2,  156.630,2,   36.790,2,    2.580,2, -999.000
           NA,HOT timeseries 1988to2019 27SEP2021,    152,  99,-999.0,       3,-999.0,20040224,1754, -22.7510, -158.0008,  4749, 3399.900,    1.469,   34.680,2,   34.680,2,  137.900,2,  138.300,2,  154.910,2,   36.400,2,    2.560,2, -999.000
           NA,HOT timeseries 1988to2019 27SEP2021,    152,  99,-999.0,      29,-999.0,20040224,1754, -22.7510, -158.0008,  4749, 3599.300,    1.455,   34.683,2,   34.683,2,  142.600,2,  142.500,2,  153.060,2,   36.170,2,    2.530,2, -999.000
           NA,HOT timeseries 1988to2019 27SEP2021,    152,  99,-999.0,      28,-999.0,20040224,1754, -22.7510, -158.0008,  4749, 3799.800,    1.446,   34.686,2,   34.687,2,  146.900,2,  146.300,2,  151.340,2,   35.940,2, -999.000,3, -999.000
           NA,HOT timeseries 1988to2019 27SEP2021,    152,  99,-999.0,      13,-999.0,20040224,1754, -22.7510, -158.0008,  4749, 3999.700,    1.449,   34.688,2,   34.687,2,  149.500,2,  149.300,2,  149.510,2,   35.680,2,    2.520,2, -999.000
           NA,HOT timeseries 1988to2019 27SEP2021,    152,  99,-999.0,      38,-999.0,20040224,1754, -22.7510, -158.0008,  4749, 4199.400,    1.461,   34.689,2,   34.688,2,  151.000,2,  151.200,2,  149.410,2,   35.660,2,    2.480,2, -999.000
           NA,HOT timeseries 1988to2019 27SEP2021,    152,  99,-999.0,      36,-999.0,20040224,1754, -22.7510, -158.0008,  4749, 4398.400,    1.475,   34.689,2,   34.689,2,  152.500,2,  152.200,2,  148.980,2,   35.610,2,    2.470,2, -999.000
           NA,HOT timeseries 1988to2019 27SEP2021,    152,  99,-999.0,      35,-999.0,20040224,1754, -22.7510, -158.0008,  4749, 4498.300,    1.486,   34.689,2,   34.690,2,  152.600,2,  152.500,2,  149.260,2,   35.830,2,    2.480,2, -999.000
           NA,HOT timeseries 1988to2019 27SEP2021,    152,  99,-999.0,      34,-999.0,20040224,1754, -22.7510, -158.0008,  4749, 4598.300,    1.498,   34.690,2,   34.689,2,  153.000,2,  152.700,2,  148.650,2,   35.810,2,    2.480,2, -999.000
           NA,HOT timeseries 1988to2019 27SEP2021,    152,  99,-999.0,      33,-999.0,20040224,1754, -22.7510, -158.0008,  4749, 4803.600,    1.502,   34.691,2,   34.691,2,  155.700,2,  155.700,2, -999.000,4,   35.520,2,    2.440,2, -999.000