BOTTLE,20214727JOAExport
EXPOCODE,SECT_ID,STNNBR,CASTNO,SAMPNO,BTLNBR,BTLNBR_FLAG_W,DATE,TIME,LATITUDE,LONGITUDE,DEPTH,CTDPRS,CTDTMP,CTDSAL,CTDSAL_FLAG_W,SALNTY,SALNTY_FLAG_W,CTDOXY,CTDOXY_FLAG_W,OXYGEN,OXYGEN_FLAG_W,SILCAT,SILCAT_FLAG_W,NINI,NINI_FLAG_W,PHSPHT,PHSPHT_FLAG_W,REVP
,,,,,,,,,,,,DB,IPTS-68,PSS-78,,PSS-78,,UMOL/KG,,UMOL/KG,,UMOL/KG,,UMOL/KG,,UMOL/KG,,DBAR
           NA,HOT timeseries 1988to2019 27SEP2021,     17,  99,-999.0,      23,-999.0,19900612,2047,  22.7383, -157.9283,  4779,   13.000,   24.460,   35.069,2,   35.069,2,  227.800,2,  211.700,2,    0.800,2,    0.050,2,    0.090,2, -999.000
           NA,HOT timeseries 1988to2019 27SEP2021,     17,  99,-999.0,      22,-999.0,19900612,2047,  22.7383, -157.9283,  4779,   28.200,   24.433,   35.068,2,   35.068,2,  228.300,2,  224.200,2,    0.610,2,    0.000,2,    0.090,2, -999.000
           NA,HOT timeseries 1988to2019 27SEP2021,     17,  99,-999.0,      21,-999.0,19900612,2047,  22.7383, -157.9283,  4779,   53.300,   23.425,   35.109,2,   35.105,2,  222.100,2,  217.600,2,    1.360,2,    0.000,2,    0.090,2, -999.000
           NA,HOT timeseries 1988to2019 27SEP2021,     17,  99,-999.0,      20,-999.0,19900612,2047,  22.7383, -157.9283,  4779,   78.300,   22.458,   35.130,2,   35.131,2,  207.300,2,  216.500,2,    0.610,2,    0.000,2,    0.090,2, -999.000
           NA,HOT timeseries 1988to2019 27SEP2021,     17,  99,-999.0,      19,-999.0,19900612,2047,  22.7383, -157.9283,  4779,  115.800,   21.647,   35.186,2,   35.185,2,  192.800,2,  206.400,2,    0.800,2,    0.380,2,    0.120,2, -999.000
           NA,HOT timeseries 1988to2019 27SEP2021,     17,  99,-999.0,      18,-999.0,19900612,2047,  22.7383, -157.9283,  4779,  154.000,   20.347,   35.190,2,   35.189,2,  175.000,2,  200.000,2,    1.550,2,    1.410,2,    0.170,2, -999.000
           NA,HOT timeseries 1988to2019 27SEP2021,     17,  99,-999.0,      17,-999.0,19900612,2047,  22.7383, -157.9283,  4779,  194.700,   19.461,   35.143,2,   35.151,2,  190.000,2,  204.500,2,    1.740,2,    1.460,2,    0.170,2, -999.000
           NA,HOT timeseries 1988to2019 27SEP2021,     17,  99,-999.0,      16,-999.0,19900612,2047,  22.7383, -157.9283,  4779,  217.400,   18.200,   34.970,2,   34.979,2,  178.400,2,  196.700,2,    2.680,2,    3.080,2,    0.310,2, -999.000
           NA,HOT timeseries 1988to2019 27SEP2021,     17,  99,-999.0,      15,-999.0,19900612,2047,  22.7383, -157.9283,  4779,  264.100,   16.016,   34.700,2,   34.708,2,  193.300,2,  196.800,2,    4.750,2,    5.240,2,    0.440,2, -999.000
           NA,HOT timeseries 1988to2019 27SEP2021,     17,  99,-999.0,      14,-999.0,19900612,2047,  22.7383, -157.9283,  4779,  309.200,   13.935,   34.467,2,   34.487,2,  162.200,2,  203.900,2,    7.010,2,    7.750,2,    0.610,2, -999.000
           NA,HOT timeseries 1988to2019 27SEP2021,     17,  99,-999.0,      13,-999.0,19900612,2047,  22.7383, -157.9283,  4779,  354.100,   11.815,   34.219,2,   34.224,2,  175.100,2,  165.800,2,   14.170,2,   15.070,2,    1.130,2, -999.000
           NA,HOT timeseries 1988to2019 27SEP2021,     17,  99,-999.0,      12,-999.0,19900612,2047,  22.7383, -157.9283,  4779,  385.000,   10.585,   34.175,2,   34.178,2,  158.500,2,  159.200,2,   19.070,2,   18.460,2,    1.380,2, -999.000
           NA,HOT timeseries 1988to2019 27SEP2021,     17,  99,-999.0,      11,-999.0,19900612,2047,  22.7383, -157.9283,  4779,  424.900,    9.001,   34.105,2,   34.105,2,  180.900,2,  160.500,2,   27.170,2,   21.710,2,    1.580,2, -999.000
           NA,HOT timeseries 1988to2019 27SEP2021,     17,  99,-999.0,      10,-999.0,19900612,2047,  22.7383, -157.9283,  4779,  493.900,    7.128,   34.059,2,   34.059,2,  126.600,2,  123.200,2,   46.380,2,   28.990,2,    2.040,2, -999.000
           NA,HOT timeseries 1988to2019 27SEP2021,     17,  99,-999.0,       9,-999.0,19900612,2047,  22.7383, -157.9283,  4779,  536.400,    6.347,   34.056,2,   34.056,2,  103.100,2,   96.500,2,   57.680,2,   32.750,2,    2.340,2, -999.000
           NA,HOT timeseries 1988to2019 27SEP2021,     17,  99,-999.0,       8,-999.0,19900612,2047,  22.7383, -157.9283,  4779,  578.000,    5.872,   34.112,2,   34.110,2,   63.200,2,   64.600,2,   68.040,2,   36.380,2,    2.600,2, -999.000
           NA,HOT timeseries 1988to2019 27SEP2021,     17,  99,-999.0,       7,-999.0,19900612,2047,  22.7383, -157.9283,  4779,  607.100,    5.533,   34.174,2,   34.172,2,   47.300,2,   49.200,2,   76.510,2,   38.270,2,    2.770,2, -999.000
           NA,HOT timeseries 1988to2019 27SEP2021,     17,  99,-999.0,       6,-999.0,19900612,2047,  22.7383, -157.9283,  4779,  664.600,    4.991,   34.227,2,   34.227,2,   31.900,2,   35.200,2,   88.370,2,   40.400,2,    2.910,2, -999.000
           NA,HOT timeseries 1988to2019 27SEP2021,     17,  99,-999.0,       5,-999.0,19900612,2047,  22.7383, -157.9283,  4779,  738.100,    4.806,   34.337,2,   34.335,2,   15.800,2,   23.900,2,   94.390,2,   41.770,2,    3.020,2, -999.000
           NA,HOT timeseries 1988to2019 27SEP2021,     17,  99,-999.0,       4,-999.0,19900612,2047,  22.7383, -157.9283,  4779,  754.100,    4.733,   34.346,2,   34.346,2,   17.200,2,   24.200,2,   95.890,2,   41.770,2,    3.040,2, -999.000
           NA,HOT timeseries 1988to2019 27SEP2021,     17,  99,-999.0,       3,-999.0,19900612,2047,  22.7383, -157.9283,  4779,  823.400,    4.457,   34.404,2,   34.404,2,   22.300,2,   29.000,2,  102.200,2,   42.150,2,    3.040,2, -999.000
           NA,HOT timeseries 1988to2019 27SEP2021,     17,  99,-999.0,       2,-999.0,19900612,2047,  22.7383, -157.9283,  4779,  912.400,    4.216,   34.452,2,   34.454,2,   31.300,2,   34.400,2,  106.620,2,   42.150,2,    3.020,2, -999.000
           NA,HOT timeseries 1988to2019 27SEP2021,     17,  99,-999.0,      23,-999.0,19900612,2047,  22.7383, -157.9283,  4779, 1009.900,    4.077,   34.474,2,   34.475,2,   37.800,2,   38.400,2,  110.010,2,   42.020,2,    3.000,2, -999.000
           NA,HOT timeseries 1988to2019 27SEP2021,     17,  99,-999.0,       1,-999.0,19900612,2047,  22.7383, -157.9283,  4779, 1032.600,    3.904,   34.495,2,   34.496,2,   40.800,2,   39.500,2,  113.200,2,   42.150,2,    3.010,2, -999.000
           NA,HOT timeseries 1988to2019 27SEP2021,     17,  99,-999.0,      22,-999.0,19900612,2047,  22.7383, -157.9283,  4779, 1113.400,    3.806,   34.505,2,   34.505,2,   46.300,2,   44.700,2,  115.090,2,   41.890,2,    2.980,2, -999.000
           NA,HOT timeseries 1988to2019 27SEP2021,     17,  99,-999.0,      21,-999.0,19900612,2047,  22.7383, -157.9283,  4779, 1258.700,    3.469,   34.530,2,   34.530,2,   52.400,2,   50.500,2,  122.620,2,   41.770,2,    2.970,2, -999.000
           NA,HOT timeseries 1988to2019 27SEP2021,     17,  99,-999.0,      20,-999.0,19900612,2047,  22.7383, -157.9283,  4779, 1406.500,    3.090,   34.555,2,   34.555,2,   59.100,2,   57.800,2,  130.430,2,   41.520,2,    2.940,2, -999.000
           NA,HOT timeseries 1988to2019 27SEP2021,     17,  99,-999.0,      19,-999.0,19900612,2047,  22.7383, -157.9283,  4779, 1470.700,    2.944,   34.562,2,   34.563,2,   62.100,2,   60.500,2,  133.910,2,   41.520,2,    2.940,2, -999.000
           NA,HOT timeseries 1988to2019 27SEP2021,     17,  99,-999.0,      18,-999.0,19900612,2047,  22.7383, -157.9283,  4779, 1700.200,    2.581,   34.595,2,   34.595,2,   75.300,2,   73.300,2,  141.070,2,   40.880,2,    2.870,2, -999.000
           NA,HOT timeseries 1988to2019 27SEP2021,     17,  99,-999.0,      17,-999.0,19900612,2047,  22.7383, -157.9283,  4779, 1849.100,    2.335,   34.608,2,   34.609,2,   82.500,2,   81.600,2,  146.150,2,   40.260,2,    2.820,2, -999.000
           NA,HOT timeseries 1988to2019 27SEP2021,     17,  99,-999.0,      16,-999.0,19900612,2047,  22.7383, -157.9283,  4779, 1999.800,    2.128,   34.620,2,   34.620,2,   90.100,2,   89.700,2,  150.470,2,   40.010,2,    2.770,2, -999.000
           NA,HOT timeseries 1988to2019 27SEP2021,     17,  99,-999.0,      15,-999.0,19900612,2047,  22.7383, -157.9283,  4779, 2201.200,    1.942,   34.633,2,   34.633,2,   96.800,2,   98.100,2,  153.290,2,   39.510,2,    2.740,2, -999.000
           NA,HOT timeseries 1988to2019 27SEP2021,     17,  99,-999.0,      14,-999.0,19900612,2047,  22.7383, -157.9283,  4779, 2398.900,    1.801,   34.644,2,   34.644,2,  104.200,2,  105.200,2,  156.500,2,   39.130,2,    2.700,2, -999.000
           NA,HOT timeseries 1988to2019 27SEP2021,     17,  99,-999.0,      13,-999.0,19900612,2047,  22.7383, -157.9283,  4779, 2606.400,    1.696,   34.654,2,   34.654,2,  108.200,2,  111.900,2,  158.380,2,   38.630,2,    2.670,2, -999.000
           NA,HOT timeseries 1988to2019 27SEP2021,     17,  99,-999.0,      12,-999.0,19900612,2047,  22.7383, -157.9283,  4779, 2803.100,    1.628,   34.660,2,   34.660,2,  113.100,2,  115.400,2,  160.820,2,   38.380,2,    2.640,2, -999.000
           NA,HOT timeseries 1988to2019 27SEP2021,     17,  99,-999.0,      11,-999.0,19900612,2047,  22.7383, -157.9283,  4779, 2991.000,    1.577,   34.666,2,   34.667,2,  118.900,2,  119.500,2,  159.880,2,   38.000,2,    2.630,2, -999.000
           NA,HOT timeseries 1988to2019 27SEP2021,     17,  99,-999.0,      10,-999.0,19900612,2047,  22.7383, -157.9283,  4779, 3189.300,    1.531,   34.671,2,   34.671,2,  127.300,2,  127.700,2,  158.380,2,   37.500,2,    2.590,2, -999.000
           NA,HOT timeseries 1988to2019 27SEP2021,     17,  99,-999.0,       9,-999.0,19900612,2047,  22.7383, -157.9283,  4779, 3377.000,    1.490,   34.676,2,   34.675,2,  134.800,2,  134.600,2,  156.490,2,   37.120,2,    2.550,2, -999.000
           NA,HOT timeseries 1988to2019 27SEP2021,     17,  99,-999.0,       8,-999.0,19900612,2047,  22.7383, -157.9283,  4779, 3595.200,    1.469,   34.680,2,   34.679,2,  140.100,2,  139.500,2,  154.610,2,   36.750,2,    2.520,2, -999.000
           NA,HOT timeseries 1988to2019 27SEP2021,     17,  99,-999.0,       7,-999.0,19900612,2047,  22.7383, -157.9283,  4779, 3799.200,    1.460,   34.683,2,   34.682,2,  144.300,2,  143.700,2,  152.550,2,   36.440,2,    2.490,2, -999.000
           NA,HOT timeseries 1988to2019 27SEP2021,     17,  99,-999.0,       6,-999.0,19900612,2047,  22.7383, -157.9283,  4779, 3998.500,    1.459,   34.685,2,   34.684,2,  147.800,2,  146.500,2,  151.410,2,   36.250,2,    2.490,2, -999.000
           NA,HOT timeseries 1988to2019 27SEP2021,     17,  99,-999.0,       5,-999.0,19900612,2047,  22.7383, -157.9283,  4779, 4196.800,    1.466,   34.686,2,   34.685,2,  149.000,2,  149.100,2,  150.460,2,   36.120,2,    2.520,2, -999.000
           NA,HOT timeseries 1988to2019 27SEP2021,     17,  99,-999.0,       4,-999.0,19900612,2047,  22.7383, -157.9283,  4779, 4403.400,    1.480,   34.687,2,   34.686,2,  150.600,2,  150.100,2,  149.900,2,   36.000,2,    2.460,2, -999.000
           NA,HOT timeseries 1988to2019 27SEP2021,     17,  99,-999.0,       3,-999.0,19900612,2047,  22.7383, -157.9283,  4779, 4495.500,    1.488,   34.687,2,   34.686,2,  151.300,2,  150.200,2,  149.530,2,   35.870,2,    2.450,2, -999.000
           NA,HOT timeseries 1988to2019 27SEP2021,     17,  99,-999.0,       2,-999.0,19900612,2047,  22.7383, -157.9283,  4779, 4597.900,    1.498,   34.688,2,   34.687,2,  150.100,2,  151.000,2,  148.590,2,   36.000,2,    2.460,2, -999.000