BOTTLE,20214727JOAExport
EXPOCODE,SECT_ID,STNNBR,CASTNO,SAMPNO,BTLNBR,BTLNBR_FLAG_W,DATE,TIME,LATITUDE,LONGITUDE,DEPTH,CTDPRS,CTDTMP,CTDSAL,CTDSAL_FLAG_W,SALNTY,SALNTY_FLAG_W,CTDOXY,CTDOXY_FLAG_W,OXYGEN,OXYGEN_FLAG_W,SILCAT,SILCAT_FLAG_W,NINI,NINI_FLAG_W,PHSPHT,PHSPHT_FLAG_W,REVP
,,,,,,,,,,,,DB,IPTS-68,PSS-78,,PSS-78,,UMOL/KG,,UMOL/KG,,UMOL/KG,,UMOL/KG,,UMOL/KG,,DBAR
           NA,HOT timeseries 1988to2019 27SEP2021,    208,  99,-999.0,    8024,-999.0,20100807,1525,  22.7485, -157.9982,  4742,    7.200,   25.409,   35.213,2,   35.212,2,  209.000,2,  208.400,2,    1.010,2,    0.040,2,    0.080,2, -999.000
           NA,HOT timeseries 1988to2019 27SEP2021,    208,  99,-999.0,    8024,-999.0,20100807,1525,  22.7485, -157.9982,  4742,   25.500,   25.437,   35.201,2,   35.200,2,  208.400,2,  208.500,2,    1.050,2,    0.080,2,    0.060,2, -999.000
           NA,HOT timeseries 1988to2019 27SEP2021,    208,  99,-999.0,    8023,-999.0,20100807,1525,  22.7485, -157.9982,  4742,   66.400,   25.323,   35.225,2,   35.228,2,  209.700,2,  209.800,2,    1.040,2,    0.090,2,    0.060,2, -999.000
           NA,HOT timeseries 1988to2019 27SEP2021,    208,  99,-999.0,    8022,-999.0,20100807,1525,  22.7485, -157.9982,  4742,  107.600,   23.565,   35.181,2,   35.182,2,  216.300,2,  216.600,2,    1.150,2,    0.070,2,    0.080,2, -999.000
           NA,HOT timeseries 1988to2019 27SEP2021,    208,  99,-999.0,    8021,-999.0,20100807,1525,  22.7485, -157.9982,  4742,  140.600,   22.074,   35.187,2,   35.186,2,  207.700,2,  210.200,2,    1.390,2,    0.100,2,    0.120,2, -999.000
           NA,HOT timeseries 1988to2019 27SEP2021,    208,  99,-999.0,    8020,-999.0,20100807,1525,  22.7485, -157.9982,  4742,  160.300,   21.403,   35.291,2,   35.289,2,  204.800,2,  208.500,2,    1.440,2,    0.510,2,    0.110,2, -999.000
           NA,HOT timeseries 1988to2019 27SEP2021,    208,  99,-999.0,    8019,-999.0,20100807,1525,  22.7485, -157.9982,  4742,  190.500,   20.543,   35.288,2,   35.288,2,  204.100,2,  206.200,2,    1.640,2,    0.940,2,    0.110,2, -999.000
           NA,HOT timeseries 1988to2019 27SEP2021,    208,  99,-999.0,    8018,-999.0,20100807,1525,  22.7485, -157.9982,  4742,  239.000,   18.544,   35.017,2,   35.008,2,  206.800,2,  205.600,2,    2.640,2,    2.230,2,    0.180,2, -999.000
           NA,HOT timeseries 1988to2019 27SEP2021,    208,  99,-999.0,    8017,-999.0,20100807,1525,  22.7485, -157.9982,  4742,  288.000,   16.745,   34.709,2,   34.696,2,  207.300,2,  208.200,2,    3.810,2,    3.350,2,    0.260,2, -999.000
           NA,HOT timeseries 1988to2019 27SEP2021,    208,  99,-999.0,    8016,-999.0,20100807,1525,  22.7485, -157.9982,  4742,  349.600,   11.965,   34.177,2,   34.179,2,  190.500,2,  191.200,2,   11.830,2,   12.350,2,    0.920,2, -999.000
           NA,HOT timeseries 1988to2019 27SEP2021,    208,  99,-999.0,    8015,-999.0,20100807,1525,  22.7485, -157.9982,  4742,  379.500,   10.619,   34.122,2,   34.122,2,  173.100,2,  172.700,2,   18.350,2,   16.910,2,    1.270,2, -999.000
           NA,HOT timeseries 1988to2019 27SEP2021,    208,  99,-999.0,    8014,-999.0,20100807,1525,  22.7485, -157.9982,  4742,  412.800,    9.842,   34.121,2,   34.120,2,  154.900,2,  151.600,2,   24.380,2,   20.430,2,    1.530,2, -999.000
           NA,HOT timeseries 1988to2019 27SEP2021,    208,  99,-999.0,    8025,-999.0,20100807,1525,  22.7485, -157.9982,  4742,  446.300,    9.240,   34.137,2,   34.139,2,  137.200,2,  132.700,2,   29.920,2,   23.440,2,    1.760,2, -999.000
           NA,HOT timeseries 1988to2019 27SEP2021,    208,  99,-999.0,    8012,-999.0,20100807,1525,  22.7485, -157.9982,  4742,  508.300,    7.646,   34.115,2,   34.114,2,  100.200,2,   98.300,2,   44.940,2,   29.640,2,    2.210,2, -999.000
           NA,HOT timeseries 1988to2019 27SEP2021,    208,  99,-999.0,    8011,-999.0,20100807,1525,  22.7485, -157.9982,  4742,  547.400,    6.802,   34.098,2,   34.097,2,   86.900,2,   85.300,2,   54.690,2,   32.590,2,    2.370,2, -999.000
           NA,HOT timeseries 1988to2019 27SEP2021,    208,  99,-999.0,    8010,-999.0,20100807,1525,  22.7485, -157.9982,  4742,  580.700,    6.239,   34.133,2,   34.134,2,   71.600,2,   68.500,2,   63.630,2,   35.020,2,    2.570,2, -999.000
           NA,HOT timeseries 1988to2019 27SEP2021,    208,  99,-999.0,    8009,-999.0,20100807,1525,  22.7485, -157.9982,  4742,  643.800,    5.819,   34.189,2,   34.189,2,   49.000,2,   48.200,2,   72.450,2,   37.620,2,    2.780,2, -999.000
           NA,HOT timeseries 1988to2019 27SEP2021,    208,  99,-999.0,    8008,-999.0,20100807,1525,  22.7485, -157.9982,  4742,  694.200,    5.386,   34.248,2,   34.250,2,   41.200,2,   40.500,2,   81.770,2,   39.080,2,    2.880,2, -999.000
           NA,HOT timeseries 1988to2019 27SEP2021,    208,  99,-999.0,    8026,-999.0,20100807,1525,  22.7485, -157.9982,  4742,  737.100,    5.146,   34.285,2,   34.285,2,   39.800,2,   39.300,2,   86.150,2,   39.760,2,    2.910,2, -999.000
           NA,HOT timeseries 1988to2019 27SEP2021,    208,  99,-999.0,    8006,-999.0,20100807,1525,  22.7485, -157.9982,  4742,  777.700,    4.871,   34.326,2,   34.327,2,   35.700,2,   37.000,2,   91.710,2,   40.390,2,    2.960,2, -999.000
           NA,HOT timeseries 1988to2019 27SEP2021,    208,  99,-999.0,    8005,-999.0,20100807,1525,  22.7485, -157.9982,  4742,  826.300,    4.656,   34.362,2,   34.364,2,   37.200,2,   36.700,2,   96.440,2,   40.740,2,    2.970,2, -999.000
           NA,HOT timeseries 1988to2019 27SEP2021,    208,  99,-999.0,    8004,-999.0,20100807,1525,  22.7485, -157.9982,  4742,  874.500,    4.465,   34.402,2,   34.402,2,   38.400,2,   38.300,2,  100.440,2,   41.070,2,    2.970,2, -999.000
           NA,HOT timeseries 1988to2019 27SEP2021,    208,  99,-999.0,    8002,-999.0,20100807,1525,  22.7485, -157.9982,  4742,  942.200,    4.243,   34.434,2,   34.434,2,   41.200,2,   41.200,2,  104.430,2,   41.200,2,    2.980,2, -999.000
           NA,HOT timeseries 1988to2019 27SEP2021,    208,  99,-999.0,    8017,-999.0,20100807,1525,  22.7485, -157.9982,  4742, 1799.300,    2.359,   34.603,2,   34.602,2,   81.500,2,   82.100,2,  144.840,2,   40.210,2,    2.830,2, -999.000
           NA,HOT timeseries 1988to2019 27SEP2021,    208,  99,-999.0,    8016,-999.0,20100807,1525,  22.7485, -157.9982,  4742, 2000.200,    2.108,   34.620,2,   34.620,2,   89.800,2,   90.000,2,  150.420,2,   39.660,2,    2.800,2, -999.000
           NA,HOT timeseries 1988to2019 27SEP2021,    208,  99,-999.0,    8015,-999.0,20100807,1525,  22.7485, -157.9982,  4742, 2200.000,    1.934,   34.634,2,   34.632,2,   97.400,2,   97.700,2,  153.960,2,   39.310,2, -999.000,3, -999.000
           NA,HOT timeseries 1988to2019 27SEP2021,    208,  99,-999.0,    8014,-999.0,20100807,1525,  22.7485, -157.9982,  4742, 2399.500,    1.780,   34.646,2,   34.645,2,  103.900,2,  104.500,2,  157.390,2,   38.950,2, -999.000,3, -999.000
           NA,HOT timeseries 1988to2019 27SEP2021,    208,  99,-999.0,    8025,-999.0,20100807,1525,  22.7485, -157.9982,  4742, 2599.700,    1.682,   34.655,2,   34.654,2,  111.500,2,  111.600,2,  158.600,2,   38.310,2,    2.690,2, -999.000
           NA,HOT timeseries 1988to2019 27SEP2021,    208,  99,-999.0,    8012,-999.0,20100807,1525,  22.7485, -157.9982,  4742, 2800.800,    1.599,   34.663,2,   34.664,2,  118.600,2,  118.700,2,  159.260,2,   37.850,2,    2.660,2, -999.000
           NA,HOT timeseries 1988to2019 27SEP2021,    208,  99,-999.0,    8011,-999.0,20100807,1525,  22.7485, -157.9982,  4742, 3000.200,    1.549,   34.670,2,   34.669,2,  125.000,2,  125.100,2,  158.520,2,   37.570,2,    2.610,2, -999.000
           NA,HOT timeseries 1988to2019 27SEP2021,    208,  99,-999.0,    8010,-999.0,20100807,1525,  22.7485, -157.9982,  4742, 3200.900,    1.503,   34.675,2,   34.675,2,  131.200,2,  131.900,2,  158.170,2,   37.080,2,    2.590,2, -999.000
           NA,HOT timeseries 1988to2019 27SEP2021,    208,  99,-999.0,    8009,-999.0,20100807,1525,  22.7485, -157.9982,  4742, 3399.800,    1.482,   34.679,2,   34.679,2,  136.200,2,  135.700,2,  156.880,2,   36.830,2,    2.560,2, -999.000
           NA,HOT timeseries 1988to2019 27SEP2021,    208,  99,-999.0,    8008,-999.0,20100807,1525,  22.7485, -157.9982,  4742, 3600.500,    1.463,   34.683,2,   34.682,2,  141.300,2,  140.900,2,  155.180,2,   36.380,2,    2.550,2, -999.000
           NA,HOT timeseries 1988to2019 27SEP2021,    208,  99,-999.0,    8026,-999.0,20100807,1525,  22.7485, -157.9982,  4742, 3800.100,    1.457,   34.685,2,   34.685,2,  145.000,2,  144.500,2,  153.470,2,   36.210,2,    2.510,2, -999.000
           NA,HOT timeseries 1988to2019 27SEP2021,    208,  99,-999.0,    8006,-999.0,20100807,1525,  22.7485, -157.9982,  4742, 3999.100,    1.457,   34.687,2,   34.687,2,  147.900,2,  147.800,2,  151.990,2,   35.900,2,    2.490,2, -999.000
           NA,HOT timeseries 1988to2019 27SEP2021,    208,  99,-999.0,    8005,-999.0,20100807,1525,  22.7485, -157.9982,  4742, 4200.300,    1.465,   34.688,2,   34.688,2,  150.200,2,  149.600,2,  150.830,2,   35.770,2, -999.000,3, -999.000
           NA,HOT timeseries 1988to2019 27SEP2021,    208,  99,-999.0,    8004,-999.0,20100807,1525,  22.7485, -157.9982,  4742, 4399.700,    1.477,   34.689,2,   34.690,2,  151.700,2,  151.500,2,  149.470,2,   35.560,2,    2.470,2, -999.000
           NA,HOT timeseries 1988to2019 27SEP2021,    208,  99,-999.0,    8003,-999.0,20100807,1525,  22.7485, -157.9982,  4742, 4500.100,    1.485,   34.689,2,   34.689,2,  152.400,2,  152.600,2,  149.430,2,   35.600,2,    2.470,2, -999.000
           NA,HOT timeseries 1988to2019 27SEP2021,    208,  99,-999.0,    8002,-999.0,20100807,1525,  22.7485, -157.9982,  4742, 4599.600,    1.493,   34.690,2,   34.690,2,  152.900,2,  152.800,2,  148.460,2,   35.630,2,    2.490,2, -999.000
           NA,HOT timeseries 1988to2019 27SEP2021,    208,  99,-999.0,    8001,-999.0,20100807,1525,  22.7485, -157.9982,  4742, 4807.700,    1.510,   34.690,2,   34.691,2,  153.800,2,  154.300,2,  147.330,2,   35.450,2, -999.000,3, -999.000
           NA,HOT timeseries 1988to2019 27SEP2021,    209,  99,-999.0,    8024,-999.0,20100904,0026,  22.7483, -157.9775,  4733,   25.300,   25.638,   35.225,2,   35.226,2,  208.900,2,  208.500,2,    1.140,2,    0.040,2,    0.080,2, -999.000
           NA,HOT timeseries 1988to2019 27SEP2021,    209,  99,-999.0,    8023,-999.0,20100904,0026,  22.7483, -157.9775,  4733,   80.700,   24.692,   35.214,2,   35.216,2,  219.800,2,  218.600,2,    1.260,2,    0.020,2,    0.070,2, -999.000
           NA,HOT timeseries 1988to2019 27SEP2021,    209,  99,-999.0,    8022,-999.0,20100904,0026,  22.7483, -157.9775,  4733,   96.100,   23.837,   35.218,2,   35.220,2,  217.800,2,  217.700,2,    1.210,2,    0.030,2,    0.080,2, -999.000
           NA,HOT timeseries 1988to2019 27SEP2021,    209,  99,-999.0,    8021,-999.0,20100904,0026,  22.7483, -157.9775,  4733,  144.600,   22.079,   35.274,2,   35.273,2,  202.800,2,  204.400,2,    1.440,2,    0.510,2,    0.130,2, -999.000
           NA,HOT timeseries 1988to2019 27SEP2021,    209,  99,-999.0,    8020,-999.0,20100904,0026,  22.7483, -157.9775,  4733,  171.100,   20.942,   35.283,2,   35.283,2,  203.200,2,  203.200,2,    1.740,2,    0.970,2,    0.140,2, -999.000
           NA,HOT timeseries 1988to2019 27SEP2021,    209,  99,-999.0,    8019,-999.0,20100904,0026,  22.7483, -157.9775,  4733,  205.200,   20.076,   35.264,2,   35.257,2,  203.500,2,  204.400,2,    1.920,2,    1.520,2,    0.140,2, -999.000
           NA,HOT timeseries 1988to2019 27SEP2021,    209,  99,-999.0,    8018,-999.0,20100904,0026,  22.7483, -157.9775,  4733,  239.700,   18.777,   35.086,2,   35.083,2,  209.400,2,  207.600,2,    2.520,2,    1.920,2,    0.160,2, -999.000
           NA,HOT timeseries 1988to2019 27SEP2021,    209,  99,-999.0,    8017,-999.0,20100904,0026,  22.7483, -157.9775,  4733,  286.100,   15.784,   34.578,2,   34.576,2,  193.000,2,  194.100,2,    5.180,2,    5.950,2,    0.460,2, -999.000
           NA,HOT timeseries 1988to2019 27SEP2021,    209,  99,-999.0,    8016,-999.0,20100904,0026,  22.7483, -157.9775,  4733,  327.700,   13.369,   34.287,2,   34.285,2,  189.800,2,  188.500,2,    8.820,2,    9.940,2,    0.750,2, -999.000
           NA,HOT timeseries 1988to2019 27SEP2021,    209,  99,-999.0,    8015,-999.0,20100904,0026,  22.7483, -157.9775,  4733,  368.100,   11.635,   34.155,2,   34.156,2,  188.100,2,  188.400,2,   13.130,2,   13.570,2,    1.000,2, -999.000
           NA,HOT timeseries 1988to2019 27SEP2021,    209,  99,-999.0,    8014,-999.0,20100904,0026,  22.7483, -157.9775,  4733,  406.600,   10.203,   34.109,2,   34.111,2,  173.500,2,  172.700,2,   19.910,2,   18.040,2,    1.320,2, -999.000
           NA,HOT timeseries 1988to2019 27SEP2021,    209,  99,-999.0,    8025,-999.0,20100904,0026,  22.7483, -157.9775,  4733,  455.000,    9.100,   34.107,2,   34.108,2,  141.600,2,  143.000,2,   29.230,2,   23.110,2,    1.690,2, -999.000
           NA,HOT timeseries 1988to2019 27SEP2021,    209,  99,-999.0,    8012,-999.0,20100904,0026,  22.7483, -157.9775,  4733,  520.400,    7.658,   34.121,2,   34.121,2,   98.400,2,   96.400,2,   45.060,2,   30.030,2,    2.190,2, -999.000
           NA,HOT timeseries 1988to2019 27SEP2021,    209,  99,-999.0,    8011,-999.0,20100904,0026,  22.7483, -157.9775,  4733,  549.500,    6.942,   34.112,2,   34.112,2,   81.700,2,   81.400,2,   53.670,2,   32.750,2,    2.380,2, -999.000
           NA,HOT timeseries 1988to2019 27SEP2021,    209,  99,-999.0,    8010,-999.0,20100904,0026,  22.7483, -157.9775,  4733,  571.300,    6.499,   34.113,2,   34.112,2,   73.400,2,   73.000,2,   59.410,2,   34.370,2,    2.500,2, -999.000
           NA,HOT timeseries 1988to2019 27SEP2021,    209,  99,-999.0,    8009,-999.0,20100904,0026,  22.7483, -157.9775,  4733,  585.400,    6.260,   34.130,2,   34.132,2,   63.200,2,   63.100,2,   63.660,2,   35.700,2,    2.590,2, -999.000
           NA,HOT timeseries 1988to2019 27SEP2021,    209,  99,-999.0,    8008,-999.0,20100904,0026,  22.7483, -157.9775,  4733,  625.200,    5.742,   34.182,2,   34.181,2,   46.400,2,   45.100,2,   73.490,2,   38.390,2,    2.800,2, -999.000
           NA,HOT timeseries 1988to2019 27SEP2021,    209,  99,-999.0,    8006,-999.0,20100904,0026,  22.7483, -157.9775,  4733,  699.200,    5.404,   34.285,2,   34.284,2,   32.900,2,   32.600,2,   82.260,2,   40.090,2,    2.920,2, -999.000
           NA,HOT timeseries 1988to2019 27SEP2021,    209,  99,-999.0,    8005,-999.0,20100904,0026,  22.7483, -157.9775,  4733,  765.200,    5.014,   34.333,2,   34.334,2,   32.600,2,   33.300,2,   90.360,2,   40.760,2,    2.960,2, -999.000
           NA,HOT timeseries 1988to2019 27SEP2021,    209,  99,-999.0,    8004,-999.0,20100904,0026,  22.7483, -157.9775,  4733,  816.200,    4.639,   34.361,2,   34.367,2,   35.900,2,   34.900,2,   97.680,2,   41.420,2,    2.990,2, -999.000
           NA,HOT timeseries 1988to2019 27SEP2021,    209,  99,-999.0,    8003,-999.0,20100904,0026,  22.7483, -157.9775,  4733,  867.100,    4.458,   34.396,2,   34.396,2,   38.500,2,   37.700,2,  100.980,2,   41.470,2,    2.980,2, -999.000
           NA,HOT timeseries 1988to2019 27SEP2021,    209,  99,-999.0,    8002,-999.0,20100904,0026,  22.7483, -157.9775,  4733,  944.600,    4.216,   34.432,2,   34.432,2,   40.000,2,   39.800,2,  106.250,2,   41.870,2,    2.990,2, -999.000
           NA,HOT timeseries 1988to2019 27SEP2021,    209,  99,-999.0,    8001,-999.0,20100904,0026,  22.7483, -157.9775,  4733, 1023.200,    3.982,   34.468,2,   34.467,2,   45.300,2,   46.200,2,  110.450,2,   41.540,2,    2.980,2, -999.000
           NA,HOT timeseries 1988to2019 27SEP2021,    209,  99,-999.0,    8016,-999.0,20100904,0026,  22.7483, -157.9775,  4733, 1400.900,    3.107,   34.552,2,   34.552,2,   63.000,2,   62.800,2,  128.650,2,   41.070,2,    2.930,2, -999.000
           NA,HOT timeseries 1988to2019 27SEP2021,    209,  99,-999.0,    8015,-999.0,20100904,0026,  22.7483, -157.9775,  4733, 1599.600,    2.717,   34.577,2,   34.576,2,   71.400,2,   71.200,2,  136.820,2,   40.870,2,    2.900,2, -999.000
           NA,HOT timeseries 1988to2019 27SEP2021,    209,  99,-999.0,    8014,-999.0,20100904,0026,  22.7483, -157.9775,  4733, 1800.500,    2.385,   34.599,2,   34.598,2,   80.600,2,   80.900,2,  143.930,2,   40.270,2,    2.860,2, -999.000
           NA,HOT timeseries 1988to2019 27SEP2021,    209,  99,-999.0,    8025,-999.0,20100904,0026,  22.7483, -157.9775,  4733, 2000.400,    2.168,   34.616,2,   34.615,2,   88.000,2,   88.700,2,  149.340,2,   39.960,2,    2.810,2, -999.000
           NA,HOT timeseries 1988to2019 27SEP2021,    209,  99,-999.0,    8012,-999.0,20100904,0026,  22.7483, -157.9775,  4733, 2200.300,    1.946,   34.632,2,   34.632,2,   96.700,2,   97.100,2,  153.760,2,   39.450,2,    2.770,2, -999.000
           NA,HOT timeseries 1988to2019 27SEP2021,    209,  99,-999.0,    8011,-999.0,20100904,0026,  22.7483, -157.9775,  4733, 2400.700,    1.816,   34.644,2,   34.644,2,  104.700,2,  104.900,2,  155.200,2,   38.970,2,    2.740,2, -999.000
           NA,HOT timeseries 1988to2019 27SEP2021,    209,  99,-999.0,    8010,-999.0,20100904,0026,  22.7483, -157.9775,  4733, 2599.900,    1.710,   34.653,2,   34.654,2,  110.300,2,  110.400,2,  157.580,2,   38.570,2,    2.710,2, -999.000
           NA,HOT timeseries 1988to2019 27SEP2021,    209,  99,-999.0,    8009,-999.0,20100904,0026,  22.7483, -157.9775,  4733, 2799.700,    1.611,   34.662,2,   34.662,2,  117.700,2,  117.900,2,  158.340,2,   38.000,2,    2.660,2, -999.000
           NA,HOT timeseries 1988to2019 27SEP2021,    209,  99,-999.0,    8008,-999.0,20100904,0026,  22.7483, -157.9775,  4733, 3000.300,    1.556,   34.668,2,   34.667,2,  123.500,2,  123.400,2,  158.980,2,   37.770,2,    2.620,2, -999.000
           NA,HOT timeseries 1988to2019 27SEP2021,    209,  99,-999.0,    8026,-999.0,20100904,0026,  22.7483, -157.9775,  4733, 3199.400,    1.518,   34.674,2, -999.000,4, -999.000,3,  129.600,2,  157.720,2,   37.400,2,    2.600,2, -999.000
           NA,HOT timeseries 1988to2019 27SEP2021,    209,  99,-999.0,    8006,-999.0,20100904,0026,  22.7483, -157.9775,  4733, 3400.400,    1.492,   34.678,2,   34.679,2,  134.900,2,  135.000,2,  157.330,2,   36.970,2,    2.580,2, -999.000
           NA,HOT timeseries 1988to2019 27SEP2021,    209,  99,-999.0,    8005,-999.0,20100904,0026,  22.7483, -157.9775,  4733, 3600.700,    1.468,   34.682,2,   34.682,2,  140.400,2,  140.500,2,  156.390,2,   36.600,2,    2.550,2, -999.000
           NA,HOT timeseries 1988to2019 27SEP2021,    209,  99,-999.0,    8004,-999.0,20100904,0026,  22.7483, -157.9775,  4733, 3799.500,    1.456,   34.685,2,   34.685,2,  145.100,2,  144.700,2,  153.100,2,   36.210,2,    2.510,2, -999.000
           NA,HOT timeseries 1988to2019 27SEP2021,    209,  99,-999.0,    8003,-999.0,20100904,0026,  22.7483, -157.9775,  4733, 3999.700,    1.458,   34.686,2,   34.686,2,  148.100,2,  147.800,2,  152.200,2,   35.940,2,    2.510,2, -999.000
           NA,HOT timeseries 1988to2019 27SEP2021,    209,  99,-999.0,    8002,-999.0,20100904,0026,  22.7483, -157.9775,  4733, 4199.400,    1.466,   34.688,2,   34.688,2,  150.100,2,  149.700,2,  151.000,2,   35.930,2,    2.510,2, -999.000
           NA,HOT timeseries 1988to2019 27SEP2021,    209,  99,-999.0,    8001,-999.0,20100904,0026,  22.7483, -157.9775,  4733, 4399.700,    1.479,   34.689,2,   34.688,2,  151.900,2,  151.200,2,  149.790,2,   35.810,2,    2.490,2, -999.000