BOTTLE,20214727JOAExport
EXPOCODE,SECT_ID,STNNBR,CASTNO,SAMPNO,BTLNBR,BTLNBR_FLAG_W,DATE,TIME,LATITUDE,LONGITUDE,DEPTH,CTDPRS,CTDTMP,CTDSAL,CTDSAL_FLAG_W,SALNTY,SALNTY_FLAG_W,CTDOXY,CTDOXY_FLAG_W,OXYGEN,OXYGEN_FLAG_W,SILCAT,SILCAT_FLAG_W,NINI,NINI_FLAG_W,PHSPHT,PHSPHT_FLAG_W,REVP
,,,,,,,,,,,,DB,IPTS-68,PSS-78,,PSS-78,,UMOL/KG,,UMOL/KG,,UMOL/KG,,UMOL/KG,,UMOL/KG,,DBAR
           NA,HOT timeseries 1988to2019 27SEP2021,     77,  99,-999.0,      31,-999.0,19970311,1437,  22.7472, -157.9793,  4720,    4.400,   23.055,   35.025,2,   35.030,2,  216.700,2,  214.700,2,    1.770,2,    0.000,2,    0.090,2, -999.000
           NA,HOT timeseries 1988to2019 27SEP2021,     77,  99,-999.0,      31,-999.0,19970311,1437,  22.7472, -157.9793,  4720,    4.700,   23.121,   35.029,2,   35.027,2,  222.400,2,  214.900,2,    1.600,2,    0.000,2,    0.050,2, -999.000
           NA,HOT timeseries 1988to2019 27SEP2021,     77,  99,-999.0,      30,-999.0,19970311,1437,  22.7472, -157.9793,  4720,   73.000,   20.987,   35.080,2,   35.088,2,  216.200,2,  216.200,2,    1.840,2,    0.010,2,    0.090,2, -999.000
           NA,HOT timeseries 1988to2019 27SEP2021,     77,  99,-999.0,      30,-999.0,19970311,1437,  22.7472, -157.9793,  4720,   74.800,   21.652,   35.070,2,   35.068,2,  224.000,2,  220.100,2,    1.740,2,    0.010,2,    0.050,2, -999.000
           NA,HOT timeseries 1988to2019 27SEP2021,     77,  99,-999.0,      22,-999.0,19970311,1437,  22.7472, -157.9793,  4720,   86.800,   21.480,   35.071,2,   35.067,2,  224.800,2,  219.200,2,    1.800,2,    0.020,2,    0.050,2, -999.000
           NA,HOT timeseries 1988to2019 27SEP2021,     77,  99,-999.0,      21,-999.0,19970311,1437,  22.7472, -157.9793,  4720,  119.700,   20.492,   35.075,2,   35.075,2,  212.900,2,  208.700,2,    2.370,2,    0.280,2,    0.100,2, -999.000
           NA,HOT timeseries 1988to2019 27SEP2021,     77,  99,-999.0,      20,-999.0,19970311,1437,  22.7472, -157.9793,  4720,  156.500,   18.918,   34.979,2,   34.979,2,  204.000,2,  202.300,2,    2.990,2,    1.870,2,    0.190,2, -999.000
           NA,HOT timeseries 1988to2019 27SEP2021,     77,  99,-999.0,      19,-999.0,19970311,1437,  22.7472, -157.9793,  4720,  227.100,   16.133,   34.704,2,   34.700,2,  211.100,2,  205.800,2,    6.890,2,    4.310,2,    0.350,2, -999.000
           NA,HOT timeseries 1988to2019 27SEP2021,     77,  99,-999.0,      18,-999.0,19970311,1437,  22.7472, -157.9793,  4720,  314.300,   11.795,   34.237,2,   34.234,2,  199.000,2,  197.300,2,   12.140,2,   11.910,2,    0.840,2, -999.000
           NA,HOT timeseries 1988to2019 27SEP2021,     77,  99,-999.0,      17,-999.0,19970311,1437,  22.7472, -157.9793,  4720,  356.600,   10.487,   34.164,2,   34.162,2,  197.200,2,  197.200,2,   17.380,2,   15.000,2,    1.060,2, -999.000
           NA,HOT timeseries 1988to2019 27SEP2021,     77,  99,-999.0,      16,-999.0,19970311,1437,  22.7472, -157.9793,  4720,  398.600,    9.331,   34.113,2,   34.111,2,  182.100,2,  181.500,2,   23.710,2,   18.880,2,    1.330,2, -999.000
           NA,HOT timeseries 1988to2019 27SEP2021,     77,  99,-999.0,      15,-999.0,19970311,1437,  22.7472, -157.9793,  4720,  428.200,    8.836,   34.094,2,   34.095,2,  176.200,2,  171.200,2,   27.520,2,   20.870,2,    1.470,2, -999.000
           NA,HOT timeseries 1988to2019 27SEP2021,     77,  99,-999.0,      14,-999.0,19970311,1437,  22.7472, -157.9793,  4720,  510.800,    6.984,   34.060,2,   34.062,2,  124.400,2,  116.000,2,   47.890,2,   29.570,2,    2.100,2, -999.000
           NA,HOT timeseries 1988to2019 27SEP2021,     77,  99,-999.0,      22,-999.0,19970311,1437,  22.7472, -157.9793,  4720,  516.600,    7.379,   34.057,2, -999.000,4, -999.000,3,  132.700,2,   41.690,2,   26.960,2,    1.900,2, -999.000
           NA,HOT timeseries 1988to2019 27SEP2021,     77,  99,-999.0,      13,-999.0,19970311,1437,  22.7472, -157.9793,  4720,  520.500,    6.811,   34.058,2,   34.058,2,  106.300,2,  110.500,2,   50.370,2,   30.300,2,    2.160,2, -999.000
           NA,HOT timeseries 1988to2019 27SEP2021,     77,  99,-999.0,      12,-999.0,19970311,1437,  22.7472, -157.9793,  4720,  547.100,    6.393,   34.060,2,   34.059,2,   98.600,2,   97.700,2,   55.990,2,   32.240,2,    2.310,2, -999.000
           NA,HOT timeseries 1988to2019 27SEP2021,     77,  99,-999.0,      11,-999.0,19970311,1437,  22.7472, -157.9793,  4720,  598.600,    5.701,   34.102,2,   34.100,2,   69.300,2,   65.500,2,   69.200,2,   36.230,2,    2.600,2, -999.000
           NA,HOT timeseries 1988to2019 27SEP2021,     77,  99,-999.0,      32,-999.0,19970311,1437,  22.7472, -157.9793,  4720,  632.500,    5.458,   34.185,2,   34.183,2,   39.700,2,   42.200,2,   76.970,2,   38.470,2,    2.790,2, -999.000
           NA,HOT timeseries 1988to2019 27SEP2021,     77,  99,-999.0,       3,-999.0,19970311,1437,  22.7472, -157.9793,  4720,  648.900,    5.315,   34.206,2,   34.208,2,   38.000,2,   38.400,2,   80.130,2,   39.240,2,    2.860,2, -999.000
           NA,HOT timeseries 1988to2019 27SEP2021,     77,  99,-999.0,      29,-999.0,19970311,1437,  22.7472, -157.9793,  4720,  690.400,    5.123,   34.266,2,   34.265,2,   32.700,2,   31.000,2,   85.760,2,   40.280,2,    2.940,2, -999.000
           NA,HOT timeseries 1988to2019 27SEP2021,     77,  99,-999.0,      21,-999.0,19970311,1437,  22.7472, -157.9793,  4720,  746.500,    4.726,   34.306,2,   34.303,2,   25.600,2,   24.500,2,   92.970,2,   41.010,2,    2.950,2, -999.000
           NA,HOT timeseries 1988to2019 27SEP2021,     77,  99,-999.0,      28,-999.0,19970311,1437,  22.7472, -157.9793,  4720,  749.400,    4.790,   34.301,2,   34.300,2,   26.000,2,   25.400,2,   92.380,2,   41.210,2,    3.000,2, -999.000
           NA,HOT timeseries 1988to2019 27SEP2021,     77,  99,-999.0,       7,-999.0,19970311,1437,  22.7472, -157.9793,  4720,  763.900,    4.795,   34.328,2,   34.328,2,   27.200,2,   26.900,2,   93.080,2,   41.230,2,    3.000,2, -999.000
           NA,HOT timeseries 1988to2019 27SEP2021,     77,  99,-999.0,      38,-999.0,19970311,1437,  22.7472, -157.9793,  4720,  799.900,    4.731,   34.364,2,   34.362,2,   29.400,2,   28.000,2,   94.140,2,   41.350,2,    3.000,2, -999.000
           NA,HOT timeseries 1988to2019 27SEP2021,     77,  99,-999.0,      36,-999.0,19970311,1437,  22.7472, -157.9793,  4720,  850.000,    4.541,   34.421,2,   34.423,2,   31.400,2,   30.300,2,   97.650,2,   41.520,2,    3.010,2, -999.000
           NA,HOT timeseries 1988to2019 27SEP2021,     77,  99,-999.0,      35,-999.0,19970311,1437,  22.7472, -157.9793,  4720,  900.400,    4.303,   34.436,2,   34.433,2,   30.800,2,   31.600,2,  103.420,2,   41.810,2,    3.040,2, -999.000
           NA,HOT timeseries 1988to2019 27SEP2021,     77,  99,-999.0,      34,-999.0,19970311,1437,  22.7472, -157.9793,  4720,  949.900,    4.129,   34.454,2,   34.453,2,   34.800,2,   34.200,2,  106.440,2,   41.770,2,    3.040,2, -999.000
           NA,HOT timeseries 1988to2019 27SEP2021,     77,  99,-999.0,      33,-999.0,19970311,1437,  22.7472, -157.9793,  4720, 1026.700,    3.956,   34.484,2,   34.481,2,   39.000,2,   39.900,2,  109.720,2,   41.820,2,    3.020,2, -999.000
           NA,HOT timeseries 1988to2019 27SEP2021,     77,  99,-999.0,      20,-999.0,19970311,1437,  22.7472, -157.9793,  4720, 1200.200,    3.523,   34.528,2,   34.526,2,   50.300,2,   51.000,2,  116.610,2,   41.350,2,    2.950,2, -999.000
           NA,HOT timeseries 1988to2019 27SEP2021,     77,  99,-999.0,      19,-999.0,19970311,1437,  22.7472, -157.9793,  4720, 1400.700,    3.083,   34.558,2, -999.000,4, -999.000,3,   58.900,2,  127.080,2,   41.250,2,    2.940,2, -999.000
           NA,HOT timeseries 1988to2019 27SEP2021,     77,  99,-999.0,      18,-999.0,19970311,1437,  22.7472, -157.9793,  4720, 1599.900,    2.722,   34.582,2,   34.582,2,   68.400,2,   67.200,2,  135.110,2,   40.860,2,    2.900,2, -999.000
           NA,HOT timeseries 1988to2019 27SEP2021,     77,  99,-999.0,      17,-999.0,19970311,1437,  22.7472, -157.9793,  4720, 1799.900,    2.402,   34.602,2,   34.604,2,   78.300,2,   79.700,2,  141.870,2,   40.350,2,    2.850,2, -999.000
           NA,HOT timeseries 1988to2019 27SEP2021,     77,  99,-999.0,      16,-999.0,19970311,1437,  22.7472, -157.9793,  4720, 1999.700,    2.127,   34.618,2,   34.621,2,   85.800,2,   85.800,2,  148.590,2,   39.840,2,    2.830,2, -999.000
           NA,HOT timeseries 1988to2019 27SEP2021,     77,  99,-999.0,      15,-999.0,19970311,1437,  22.7472, -157.9793,  4720, 2200.100,    1.893,   34.634,2,   34.634,2,   94.300,2,   94.500,2,  154.520,2,   39.390,2,    2.760,2, -999.000
           NA,HOT timeseries 1988to2019 27SEP2021,     77,  99,-999.0,      14,-999.0,19970311,1437,  22.7472, -157.9793,  4720, 2400.900,    1.758,   34.646,2,   34.646,2,  102.000,2,  102.100,2,  157.290,2,   38.850,2,    2.730,2, -999.000
           NA,HOT timeseries 1988to2019 27SEP2021,     77,  99,-999.0,      13,-999.0,19970311,1437,  22.7472, -157.9793,  4720, 2600.100,    1.661,   34.657,2,   34.658,2,  113.000,2,  110.700,2, -999.000,3,   38.300,2,    2.680,2, -999.000
           NA,HOT timeseries 1988to2019 27SEP2021,     77,  99,-999.0,      12,-999.0,19970311,1437,  22.7472, -157.9793,  4720, 2800.100,    1.579,   34.666,2,   34.666,2,  120.400,2,  120.200,2,  156.410,2,   37.840,2,    2.630,2, -999.000
           NA,HOT timeseries 1988to2019 27SEP2021,     77,  99,-999.0,      11,-999.0,19970311,1437,  22.7472, -157.9793,  4720, 3000.800,    1.523,   34.672,2,   34.670,2,  126.000,2,  127.200,2,  155.470,2,   37.460,2,    2.600,2, -999.000
           NA,HOT timeseries 1988to2019 27SEP2021,     77,  99,-999.0,      32,-999.0,19970311,1437,  22.7472, -157.9793,  4720, 3200.600,    1.486,   34.677,2,   34.677,2,  132.400,2,  133.300,2,  154.100,2,   37.000,2,    2.560,2, -999.000
           NA,HOT timeseries 1988to2019 27SEP2021,     77,  99,-999.0,       3,-999.0,19970311,1437,  22.7472, -157.9793,  4720, 3400.700,    1.460,   34.681,2,   34.680,2,  138.200,2,  138.600,2,  152.710,2,   36.600,2,    2.540,2, -999.000
           NA,HOT timeseries 1988to2019 27SEP2021,     77,  99,-999.0,      29,-999.0,19970311,1437,  22.7472, -157.9793,  4720, 3601.400,    1.448,   34.684,2,   34.685,2,  141.900,2,  143.200,2,  151.180,2,   36.350,2,    2.520,2, -999.000
           NA,HOT timeseries 1988to2019 27SEP2021,     77,  99,-999.0,      28,-999.0,19970311,1437,  22.7472, -157.9793,  4720, 3800.500,    1.441,   34.686,2, -999.000,4, -999.000,3,  146.500,2,  149.000,2,   36.100,2,    2.500,2, -999.000
           NA,HOT timeseries 1988to2019 27SEP2021,     77,  99,-999.0,       7,-999.0,19970311,1437,  22.7472, -157.9793,  4720, 4001.700,    1.448,   34.688,2,   34.686,2,  148.900,2,  149.000,2,  148.180,2,   35.920,2,    2.480,2, -999.000
           NA,HOT timeseries 1988to2019 27SEP2021,     77,  99,-999.0,      38,-999.0,19970311,1437,  22.7472, -157.9793,  4720, 4201.700,    1.456,   34.689,2,   34.689,2,  151.300,2,  151.300,2,  146.770,2,   35.920,2,    2.470,2, -999.000
           NA,HOT timeseries 1988to2019 27SEP2021,     77,  99,-999.0,      36,-999.0,19970311,1437,  22.7472, -157.9793,  4720, 4400.600,    1.475,   34.689,2,   34.689,2,  152.200,2,  151.400,2,  146.730,2,   35.840,2,    2.460,2, -999.000
           NA,HOT timeseries 1988to2019 27SEP2021,     77,  99,-999.0,      35,-999.0,19970311,1437,  22.7472, -157.9793,  4720, 4500.600,    1.485,   34.689,2,   34.688,2,  151.200,2,  152.700,2,  146.560,2, -999.000,3,    2.460,2, -999.000
           NA,HOT timeseries 1988to2019 27SEP2021,     77,  99,-999.0,      34,-999.0,19970311,1437,  22.7472, -157.9793,  4720, 4601.000,    1.494,   34.690,2,   34.691,2,  153.300,2,  152.500,2,  146.830,2,   35.910,2,    2.470,2, -999.000
           NA,HOT timeseries 1988to2019 27SEP2021,     77,  99,-999.0,      33,-999.0,19970311,1437,  22.7472, -157.9793,  4720, 4798.800,    1.498,   34.692,2,   34.690,2,  156.200,2,  155.900,2, -999.000,3,   35.610,2,    2.440,2, -999.000