BOTTLE,20214727JOAExport
EXPOCODE,SECT_ID,STNNBR,CASTNO,SAMPNO,BTLNBR,BTLNBR_FLAG_W,DATE,TIME,LATITUDE,LONGITUDE,DEPTH,CTDPRS,CTDTMP,CTDSAL,CTDSAL_FLAG_W,SALNTY,SALNTY_FLAG_W,CTDOXY,CTDOXY_FLAG_W,OXYGEN,OXYGEN_FLAG_W,SILCAT,SILCAT_FLAG_W,NINI,NINI_FLAG_W,PHSPHT,PHSPHT_FLAG_W,REVP
,,,,,,,,,,,,DB,IPTS-68,PSS-78,,PSS-78,,UMOL/KG,,UMOL/KG,,UMOL/KG,,UMOL/KG,,UMOL/KG,,DBAR
           NA,HOT timeseries 1988to2019 27SEP2021,      9,  99,-999.0,      24,-999.0,19890922,0605,  22.7550, -157.9783,  4749,    7.200,   26.374,   34.778,2,   34.775,2,  208.800,2,  205.500,2,    0.760,2,    0.050,2,    0.090,2, -999.000
           NA,HOT timeseries 1988to2019 27SEP2021,      9,  99,-999.0,      23,-999.0,19890922,0605,  22.7550, -157.9783,  4749,   86.700,   25.318,   34.844,2,   34.850,2,  213.300,2,  213.800,2,    0.760,2,    0.070,2,    0.110,2, -999.000
           NA,HOT timeseries 1988to2019 27SEP2021,      9,  99,-999.0,      22,-999.0,19890922,0605,  22.7550, -157.9783,  4749,   96.600,   24.292,   34.932,2,   34.929,2,  218.300,2,  215.400,2,    0.560,2,    0.050,2,    0.080,2, -999.000
           NA,HOT timeseries 1988to2019 27SEP2021,      9,  99,-999.0,      21,-999.0,19890922,0605,  22.7550, -157.9783,  4749,  108.300,   23.761,   34.985,2,   34.988,2,  213.200,2,  213.800,2,    0.560,2,    0.070,2,    0.080,2, -999.000
           NA,HOT timeseries 1988to2019 27SEP2021,      9,  99,-999.0,      20,-999.0,19890922,0605,  22.7550, -157.9783,  4749,  123.400,   22.674,   35.010,2,   35.014,2,  205.800,2,  206.200,2,    0.760,2,    0.140,2,    0.130,2, -999.000
           NA,HOT timeseries 1988to2019 27SEP2021,      9,  99,-999.0,      19,-999.0,19890922,0605,  22.7550, -157.9783,  4749,  132.900,   22.197,   35.047,2,   35.047,2,  194.600,2,  201.300,2,    0.760,2,    0.690,2,    0.160,2, -999.000
           NA,HOT timeseries 1988to2019 27SEP2021,      9,  99,-999.0,      18,-999.0,19890922,0605,  22.7550, -157.9783,  4749,  143.800,   20.217,   34.974,2,   34.982,2,  188.400,2,  182.300,2,    1.790,2,    3.190,2,    0.330,2, -999.000
           NA,HOT timeseries 1988to2019 27SEP2021,      9,  99,-999.0,      17,-999.0,19890922,0605,  22.7550, -157.9783,  4749,  182.800,   18.599,   34.910,2,   34.908,2,  170.100,2,  178.100,2,    2.610,2,    4.780,2,    0.420,2, -999.000
           NA,HOT timeseries 1988to2019 27SEP2021,      9,  99,-999.0,      16,-999.0,19890922,0605,  22.7550, -157.9783,  4749,  217.700,   16.292,   34.675,2,   34.679,2,  186.800,2,  182.200,2,    4.660,2,    6.450,2,    0.540,2, -999.000
           NA,HOT timeseries 1988to2019 27SEP2021,      9,  99,-999.0,      15,-999.0,19890922,0605,  22.7550, -157.9783,  4749,  274.200,   12.896,   34.308,2,   34.309,2,  180.300,2,  176.500,2,    9.590,2,   12.010,2,    0.930,2, -999.000
           NA,HOT timeseries 1988to2019 27SEP2021,      9,  99,-999.0,      14,-999.0,19890922,0605,  22.7550, -157.9783,  4749,  285.200,   12.616,   34.281,2,   34.284,2,  169.400,2,  180.000,2,   10.000,2,   12.180,2,    0.950,2, -999.000
           NA,HOT timeseries 1988to2019 27SEP2021,      9,  99,-999.0,      13,-999.0,19890922,0605,  22.7550, -157.9783,  4749,  303.200,   11.466,   34.187,2,   34.195,2,  200.900,2,  203.300,2,   11.020,2,   12.840,2,    0.920,2, -999.000
           NA,HOT timeseries 1988to2019 27SEP2021,      9,  99,-999.0,      12,-999.0,19890922,0605,  22.7550, -157.9783,  4749,  345.000,    9.981,   34.111,2,   34.113,2,  195.800,2,  194.300,2,   17.800,2,   16.530,2,    1.210,2, -999.000
           NA,HOT timeseries 1988to2019 27SEP2021,      9,  99,-999.0,      11,-999.0,19890922,0605,  22.7550, -157.9783,  4749,  404.400,    8.895,   34.120,2,   34.125,2,  149.900,2,  152.000,2,   28.460,2,   22.630,2,    1.670,2, -999.000
           NA,HOT timeseries 1988to2019 27SEP2021,      9,  99,-999.0,      10,-999.0,19890922,0605,  22.7550, -157.9783,  4749,  465.200,    7.402,   34.102,2,   34.104,2,  115.800,2,  107.600,2,   45.490,2,   29.510,2,    2.170,2, -999.000
           NA,HOT timeseries 1988to2019 27SEP2021,      9,  99,-999.0,       9,-999.0,19890922,0605,  22.7550, -157.9783,  4749,  489.700,    6.710,   34.078,2,   34.082,2,   90.000,2,   92.600,2,   53.700,2,   32.530,2,    2.370,2, -999.000
           NA,HOT timeseries 1988to2019 27SEP2021,      9,  99,-999.0,       8,-999.0,19890922,0605,  22.7550, -157.9783,  4749,  509.300,    6.340,   34.069,2,   34.073,2,   86.700,2,   82.800,2,   59.230,2,   33.990,2,    2.480,2, -999.000
           NA,HOT timeseries 1988to2019 27SEP2021,      9,  99,-999.0,       7,-999.0,19890922,0605,  22.7550, -157.9783,  4749,  538.100,    5.885,   34.104,2,   34.107,2,   63.700,2,   60.800,2,   67.440,2,   36.800,2,    2.700,2, -999.000
           NA,HOT timeseries 1988to2019 27SEP2021,      9,  99,-999.0,       6,-999.0,19890922,0605,  22.7550, -157.9783,  4749,  601.600,    5.429,   34.172,2,   34.176,2,   40.100,2,   40.500,2,   78.730,2,   39.410,2,    2.870,2, -999.000
           NA,HOT timeseries 1988to2019 27SEP2021,      9,  99,-999.0,       5,-999.0,19890922,0605,  22.7550, -157.9783,  4749,  674.800,    5.280,   34.276,2,   34.277,2,   30.300,2,   31.700,2,   83.850,2,   40.440,2,    2.970,2, -999.000
           NA,HOT timeseries 1988to2019 27SEP2021,      9,  99,-999.0,      24,-999.0,19890922,0605,  22.7550, -157.9783,  4749,  803.600,    4.701,   34.409,2,   34.409,2,   33.200,2,   31.600,2,   97.170,2,   41.800,2,    3.010,2, -999.000
           NA,HOT timeseries 1988to2019 27SEP2021,      9,  99,-999.0,       3,-999.0,19890922,0605,  22.7550, -157.9783,  4749,  814.900,    4.655,   34.419,2,   34.420,2,   34.500,2,   33.700,2,   97.170,2,   41.690,2,    3.040,2, -999.000
           NA,HOT timeseries 1988to2019 27SEP2021,      9,  99,-999.0,      23,-999.0,19890922,0605,  22.7550, -157.9783,  4749,  903.700,    4.408,   34.466,2,   34.466,2,   37.700,2,   37.500,2,  103.320,2,   42.000,2,    3.040,2, -999.000
           NA,HOT timeseries 1988to2019 27SEP2021,      9,  99,-999.0,       2,-999.0,19890922,0605,  22.7550, -157.9783,  4749,  994.800,    4.143,   34.486,2,   34.484,2,   41.900,2,   42.000,2,  107.420,2,   41.950,2,    3.050,2, -999.000
           NA,HOT timeseries 1988to2019 27SEP2021,      9,  99,-999.0,       1,-999.0,19890922,0605,  22.7550, -157.9783,  4749, 1023.500,    4.013,   34.491,2,   34.492,2,   44.600,2,   41.900,2,  110.500,2,   41.900,2,    3.040,2, -999.000
           NA,HOT timeseries 1988to2019 27SEP2021,      9,  99,-999.0,      20,-999.0,19890922,0605,  22.7550, -157.9783,  4749, 1103.900,    3.788,   34.514,2,   34.515,2,   49.200,2,   48.000,2, -999.000,5,   41.900,2,    3.020,2, -999.000
           NA,HOT timeseries 1988to2019 27SEP2021,      9,  99,-999.0,      19,-999.0,19890922,0605,  22.7550, -157.9783,  4749, 1404.600,    3.105,   34.558,2,   34.559,2,   61.500,2,   61.600,2,  129.970,2,   41.590,2,    2.930,2, -999.000
           NA,HOT timeseries 1988to2019 27SEP2021,      9,  99,-999.0,      18,-999.0,19890922,0605,  22.7550, -157.9783,  4749, 1552.700,    2.820,   34.575,2,   34.575,2,   68.200,2,   67.100,2,  136.130,2,   41.480,2,    2.920,2, -999.000
           NA,HOT timeseries 1988to2019 27SEP2021,      9,  99,-999.0,      17,-999.0,19890922,0605,  22.7550, -157.9783,  4749, 1699.400,    2.545,   34.589,2,   34.589,2,   72.700,2,   72.900,2,  141.870,2,   41.060,2,    2.890,2, -999.000
           NA,HOT timeseries 1988to2019 27SEP2021,      9,  99,-999.0,      15,-999.0,19890922,0605,  22.7550, -157.9783,  4749, 1851.800,    2.316,   34.608,2,   34.609,2,   80.500,2,   83.300,2,  146.380,2,   40.650,2,    2.830,2, -999.000
           NA,HOT timeseries 1988to2019 27SEP2021,      9,  99,-999.0,      14,-999.0,19890922,0605,  22.7550, -157.9783,  4749, 2002.500,    2.126,   34.620,2,   34.622,2,   88.800,2,   89.800,2,  149.040,2,   40.230,2,    2.790,2, -999.000
           NA,HOT timeseries 1988to2019 27SEP2021,      9,  99,-999.0,      13,-999.0,19890922,0605,  22.7550, -157.9783,  4749, 2199.800,    1.937,   34.635,2,   34.633,2,   97.500,2,   98.800,2,  154.570,2,   39.710,2,    2.790,2, -999.000
           NA,HOT timeseries 1988to2019 27SEP2021,      9,  99,-999.0,       8,-999.0,19890922,0605,  22.7550, -157.9783,  4749, 3189.400,    1.507,   34.674,2,   34.675,2,  130.500,2,  134.600,2,  156.620,2,   37.320,2,    2.540,2, -999.000
           NA,HOT timeseries 1988to2019 27SEP2021,      9,  99,-999.0,       7,-999.0,19890922,0605,  22.7550, -157.9783,  4749, 3392.200,    1.482,   34.679,2,   34.681,2,  136.200,2,  134.600,2,  154.570,2,   36.900,2,    2.520,2, -999.000
           NA,HOT timeseries 1988to2019 27SEP2021,      9,  99,-999.0,       2,-999.0,19890922,0605,  22.7550, -157.9783,  4749, 4397.200,    1.478,   34.689,2,   34.689,2,  150.000,2,  152.400,2,  148.570,2,   36.220,2,    2.430,2, -999.000
           NA,HOT timeseries 1988to2019 27SEP2021,      9,  99,-999.0,       1,-999.0,19890922,0605,  22.7550, -157.9783,  4749, 4525.900,    1.487,   34.689,2,   34.689,2,  151.500,2, -999.000,3,  149.030,2,   36.160,2,    2.480,2, -999.000
           NA,HOT timeseries 1988to2019 27SEP2021,     10,  99,-999.0,      23,-999.0,19891018,0527,  22.7300, -158.0500,  4749,    9.500,   26.180,   34.881,2,   34.785,2,  212.500,2,  207.300,2, -999.000,3,   -0.010,2,    0.060,2, -999.000
           NA,HOT timeseries 1988to2019 27SEP2021,     10,  99,-999.0,      22,-999.0,19891018,0527,  22.7300, -158.0500,  4749,   26.300,   26.154,   34.891,2,   34.801,2,  211.800,2,  207.600,2,    0.150,2,   -0.010,2,    0.050,2, -999.000
           NA,HOT timeseries 1988to2019 27SEP2021,     10,  99,-999.0,      20,-999.0,19891018,0527,  22.7300, -158.0500,  4749,   78.900,   23.569,   35.218,2,   35.171,2,  223.700,2,  221.900,2, -999.000,3,   -0.010,2,    0.030,2, -999.000
           NA,HOT timeseries 1988to2019 27SEP2021,     10,  99,-999.0,      19,-999.0,19891018,0527,  22.7300, -158.0500,  4749,  118.100,   22.144,   35.344,2,   35.314,2,  214.000,2,  217.100,2,    0.350,2,    0.010,2,    0.030,2, -999.000
           NA,HOT timeseries 1988to2019 27SEP2021,     10,  99,-999.0,      18,-999.0,19891018,0527,  22.7300, -158.0500,  4749,  133.300,   21.836,   35.364,2,   35.336,2,  208.800,2,  211.600,2,    0.350,2,    0.180,2,    0.060,2, -999.000
           NA,HOT timeseries 1988to2019 27SEP2021,     10,  99,-999.0,      17,-999.0,19891018,0527,  22.7300, -158.0500,  4749,  198.500,   18.599,   35.005,2,   35.023,2,  197.800,2,  198.500,2,    1.760,2,    2.630,2,    0.240,2, -999.000
           NA,HOT timeseries 1988to2019 27SEP2021,     10,  99,-999.0,      16,-999.0,19891018,0527,  22.7300, -158.0500,  4749,  246.100,   16.216,   34.723,2,   34.735,2,  202.100,2,  203.400,2,    3.360,2,    4.430,2,    0.370,2, -999.000
           NA,HOT timeseries 1988to2019 27SEP2021,     10,  99,-999.0,      15,-999.0,19891018,0527,  22.7300, -158.0500,  4749,  296.300,   13.651,   34.449,2,   34.449,2,  211.200,2,  212.700,2,    7.380,2,    7.700,2,    0.600,2, -999.000
           NA,HOT timeseries 1988to2019 27SEP2021,     10,  99,-999.0,      14,-999.0,19891018,0527,  22.7300, -158.0500,  4749,  330.300,   12.312,   34.321,2,   34.328,2,  214.900,2,  215.900,2,    9.180,2,    9.890,2,    0.740,2, -999.000
           NA,HOT timeseries 1988to2019 27SEP2021,     10,  99,-999.0,      13,-999.0,19891018,0527,  22.7300, -158.0500,  4749,  380.800,   10.499,   34.188,2,   34.190,2,  210.500,2,  209.400,2,   15.600,2,   14.480,2,    1.050,2, -999.000
           NA,HOT timeseries 1988to2019 27SEP2021,     10,  99,-999.0,      12,-999.0,19891018,0527,  22.7300, -158.0500,  4749,  441.500,    9.092,   34.102,2,   34.105,2,  197.500,2,  193.000,2,   23.930,2,   19.030,2,    1.360,2, -999.000
           NA,HOT timeseries 1988to2019 27SEP2021,     10,  99,-999.0,      11,-999.0,19891018,0527,  22.7300, -158.0500,  4749,  487.800,    7.854,   34.049,2,   34.049,2,  159.700,2,  159.800,2,   36.280,2,   24.650,2,    1.750,2, -999.000
           NA,HOT timeseries 1988to2019 27SEP2021,     10,  99,-999.0,      10,-999.0,19891018,0527,  22.7300, -158.0500,  4749,  522.100,    7.309,   34.054,2,   34.049,2,  132.100,2, -999.000,3, -999.000,3, -999.000,3, -999.000,3, -999.000
           NA,HOT timeseries 1988to2019 27SEP2021,     10,  99,-999.0,       9,-999.0,19891018,0527,  22.7300, -158.0500,  4749,  552.800,    6.524,   34.048,2,   34.047,2,  102.300,2,  100.100,2,   55.340,2,   32.380,2,    2.350,2, -999.000
           NA,HOT timeseries 1988to2019 27SEP2021,     10,  99,-999.0,       8,-999.0,19891018,0527,  22.7300, -158.0500,  4749,  591.900,    5.834,   34.096,2,   34.095,2,   69.100,2,   62.600,2,   68.990,2,   36.780,2,    2.700,2, -999.000
           NA,HOT timeseries 1988to2019 27SEP2021,     10,  99,-999.0,       7,-999.0,19891018,0527,  22.7300, -158.0500,  4749,  642.900,    5.258,   34.149,2,   34.149,2,   45.000,2,   44.700,2,   81.020,2,   39.520,2,    2.920,2, -999.000
           NA,HOT timeseries 1988to2019 27SEP2021,     10,  99,-999.0,       6,-999.0,19891018,0527,  22.7300, -158.0500,  4749,  687.000,    5.061,   34.228,2,   34.225,2,   31.800,2,   28.400,2, -999.000,3,   40.940,2,    3.030,2, -999.000
           NA,HOT timeseries 1988to2019 27SEP2021,     10,  99,-999.0,       5,-999.0,19891018,0527,  22.7300, -158.0500,  4749,  747.300,    4.809,   34.310,2,   34.310,2,   29.200,2,   27.400,2,   95.050,2,   41.650,2,    3.070,2, -999.000
           NA,HOT timeseries 1988to2019 27SEP2021,     10,  99,-999.0,      23,-999.0,19891018,0527,  22.7300, -158.0500,  4749,  801.000,    4.758,   34.335,2, -999.000,5,   28.500,2, -999.000,3,   96.460,2,   41.770,2,    3.070,2, -999.000
           NA,HOT timeseries 1988to2019 27SEP2021,     10,  99,-999.0,       4,-999.0,19891018,0527,  22.7300, -158.0500,  4749,  802.600,    4.774,   34.373,2,   34.372,2,   31.900,2,   32.200,2,   95.450,2,   41.540,2,    3.070,2, -999.000
           NA,HOT timeseries 1988to2019 27SEP2021,     10,  99,-999.0,       3,-999.0,19891018,0527,  22.7300, -158.0500,  4749,  867.000,    4.602,   34.419,2,   34.418,2,   35.700,2,   33.500,2,   99.060,2,   41.770,2,    3.080,2, -999.000
           NA,HOT timeseries 1988to2019 27SEP2021,     10,  99,-999.0,      22,-999.0,19891018,0527,  22.7300, -158.0500,  4749,  900.600,    4.443,   34.434,2, -999.000,5,   36.000,2,   35.200,2,  101.460,2,   41.890,2,    3.040,2, -999.000
           NA,HOT timeseries 1988to2019 27SEP2021,     10,  99,-999.0,      21,-999.0,19891018,0527,  22.7300, -158.0500,  4749, 1000.700,    4.147,   34.484,2, -999.000,4, -999.000,3, -999.000,3, -999.000,3, -999.000,3, -999.000,3, -999.000
           NA,HOT timeseries 1988to2019 27SEP2021,     10,  99,-999.0,       1,-999.0,19891018,0527,  22.7300, -158.0500,  4749, 1012.400,    4.233,   34.487,2,   34.486,2,   42.300,2,   45.400,2,  105.480,2,   41.880,2,    3.080,2, -999.000
           NA,HOT timeseries 1988to2019 27SEP2021,     10,  99,-999.0,      20,-999.0,19891018,0527,  22.7300, -158.0500,  4749, 1099.700,    3.896,   34.510,2,   34.509,2,   48.000,2,   48.100,2,  111.490,2,   41.880,2,    3.030,2, -999.000
           NA,HOT timeseries 1988to2019 27SEP2021,     10,  99,-999.0,      19,-999.0,19891018,0527,  22.7300, -158.0500,  4749, 1249.700,    3.538,   34.536,2, -999.000,4, -999.000,3, -999.000,3, -999.000,3, -999.000,3, -999.000,3, -999.000
           NA,HOT timeseries 1988to2019 27SEP2021,     10,  99,-999.0,      18,-999.0,19891018,0527,  22.7300, -158.0500,  4749, 1397.800,    3.170,   34.556,2,   34.556,2,   60.400,2,   60.300,2,  127.140,2,   41.530,2,    2.990,2, -999.000
           NA,HOT timeseries 1988to2019 27SEP2021,     10,  99,-999.0,      17,-999.0,19891018,0527,  22.7300, -158.0500,  4749, 1548.100,    2.901,   34.571,2,   34.571,2,   66.200,2,   65.000,2,  133.560,2,   41.290,2,    2.960,2, -999.000
           NA,HOT timeseries 1988to2019 27SEP2021,     10,  99,-999.0,      16,-999.0,19891018,0527,  22.7300, -158.0500,  4749, 1697.900,    2.623,   34.587,2,   34.588,2,   73.400,2, -999.000,5,  139.170,2,   40.820,2,    2.920,2, -999.000
           NA,HOT timeseries 1988to2019 27SEP2021,     10,  99,-999.0,      15,-999.0,19891018,0527,  22.7300, -158.0500,  4749, 1849.000,    2.374,   34.601,2,   34.601,2,   79.500,2,   80.400,2,  146.200,2,   40.570,2,    2.890,2, -999.000
           NA,HOT timeseries 1988to2019 27SEP2021,     10,  99,-999.0,      14,-999.0,19891018,0527,  22.7300, -158.0500,  4749, 1999.800,    2.172,   34.615,2, -999.000,4, -999.000,3, -999.000,3, -999.000,3, -999.000,3, -999.000,3, -999.000
           NA,HOT timeseries 1988to2019 27SEP2021,     10,  99,-999.0,      13,-999.0,19891018,0527,  22.7300, -158.0500,  4749, 2200.200,    1.953,   34.632,2,   34.633,2,   93.400,2,   96.700,2,  154.610,2,   39.620,2,    2.800,2, -999.000
           NA,HOT timeseries 1988to2019 27SEP2021,     10,  99,-999.0,      12,-999.0,19891018,0527,  22.7300, -158.0500,  4749, 2401.200,    1.814,   34.644,2,   34.644,2,  102.700,2,  105.900,2,  157.220,2,   39.030,2,    2.770,2, -999.000
           NA,HOT timeseries 1988to2019 27SEP2021,     10,  99,-999.0,      11,-999.0,19891018,0527,  22.7300, -158.0500,  4749, 2602.100,    1.705,   34.654,2, -999.000,4, -999.000,3, -999.000,3,  158.620,2,   39.030,2,    2.750,2, -999.000
           NA,HOT timeseries 1988to2019 27SEP2021,     10,  99,-999.0,      10,-999.0,19891018,0527,  22.7300, -158.0500,  4749, 2796.700,    1.624,   34.662,2,   34.661,2,  117.600,2,  117.800,2,  159.620,2,   38.310,2,    2.680,2, -999.000
           NA,HOT timeseries 1988to2019 27SEP2021,     10,  99,-999.0,       9,-999.0,19891018,0527,  22.7300, -158.0500,  4749, 2995.200,    1.560,   34.669,2,   34.669,2,  124.700,2,  124.300,2,  157.790,2,   37.720,2, -999.000,5, -999.000
           NA,HOT timeseries 1988to2019 27SEP2021,     10,  99,-999.0,       8,-999.0,19891018,0527,  22.7300, -158.0500,  4749, 3198.300,    1.508,   34.675,2,   34.674,2,  131.500,2,  133.000,2,  155.210,2,   37.240,2,    2.600,2, -999.000
           NA,HOT timeseries 1988to2019 27SEP2021,     10,  99,-999.0,       7,-999.0,19891018,0527,  22.7300, -158.0500,  4749, 3396.100,    1.477,   34.679,2,   34.679,2,  137.600,2,  138.700,2,  155.210,2,   36.770,2,    2.560,2, -999.000
           NA,HOT timeseries 1988to2019 27SEP2021,     10,  99,-999.0,       6,-999.0,19891018,0527,  22.7300, -158.0500,  4749, 3590.900,    1.455,   34.683,2,   34.683,2,  143.200,2,  144.400,2,  153.200,2,   36.520,2,    2.530,2, -999.000
           NA,HOT timeseries 1988to2019 27SEP2021,     10,  99,-999.0,       5,-999.0,19891018,0527,  22.7300, -158.0500,  4749, 3792.200,    1.447,   34.685,2, -999.000,4, -999.000,3, -999.000,3,  150.590,2,   36.290,2,    2.520,2, -999.000
           NA,HOT timeseries 1988to2019 27SEP2021,     10,  99,-999.0,       3,-999.0,19891018,0527,  22.7300, -158.0500,  4749, 4204.500,    1.462,   34.688,2,   34.688,2,  152.700,2,  151.600,2,  149.590,2,   35.930,2,    2.500,2, -999.000
           NA,HOT timeseries 1988to2019 27SEP2021,     10,  99,-999.0,       1,-999.0,19891018,0527,  22.7300, -158.0500,  4749, 4603.900,    1.497,   34.690,2,   34.690,2,  159.700,2,  153.600,2,  148.590,2,   35.810,2,    2.460,2, -999.000