BOTTLE,20214727JOAExport
EXPOCODE,SECT_ID,STNNBR,CASTNO,SAMPNO,BTLNBR,BTLNBR_FLAG_W,DATE,TIME,LATITUDE,LONGITUDE,DEPTH,CTDPRS,CTDTMP,CTDSAL,CTDSAL_FLAG_W,SALNTY,SALNTY_FLAG_W,CTDOXY,CTDOXY_FLAG_W,OXYGEN,OXYGEN_FLAG_W,SILCAT,SILCAT_FLAG_W,NINI,NINI_FLAG_W,PHSPHT,PHSPHT_FLAG_W,REVP
,,,,,,,,,,,,DB,IPTS-68,PSS-78,,PSS-78,,UMOL/KG,,UMOL/KG,,UMOL/KG,,UMOL/KG,,UMOL/KG,,DBAR
           NA,HOT timeseries 1988to2019 27SEP2021,     86,  99,-999.0,      31,-999.0,19980218,1400,  22.7440, -157.9962,  4729,    5.400,   22.635,   35.267,2,   35.267,2,  216.300,2,  215.200,2,    1.330,2,    0.000,2,    0.060,2, -999.000
           NA,HOT timeseries 1988to2019 27SEP2021,     86,  99,-999.0,      30,-999.0,19980218,1400,  22.7440, -157.9962,  4729,   50.500,   22.628,   35.248,2,   35.252,2,  213.800,2,  214.900,2,    1.200,2,    0.000,2,    0.060,2, -999.000
           NA,HOT timeseries 1988to2019 27SEP2021,     86,  99,-999.0,      22,-999.0,19980218,1400,  22.7440, -157.9962,  4729,   94.000,   21.727,   35.219,2, -999.000,4, -999.000,3,  212.600,2, -999.000,3,    0.030,2,    0.080,2, -999.000
           NA,HOT timeseries 1988to2019 27SEP2021,     86,  99,-999.0,      21,-999.0,19980218,1400,  22.7440, -157.9962,  4729,  144.500,   19.705,   35.015,2,   35.002,2,  196.700,2,  197.400,2,    2.200,2,    1.480,2,    0.200,2, -999.000
           NA,HOT timeseries 1988to2019 27SEP2021,     86,  99,-999.0,      20,-999.0,19980218,1400,  22.7440, -157.9962,  4729,  199.100,   17.565,   34.813,2,   34.811,2,  202.100,2,  201.800,2,    3.380,2,    2.590,2,    0.270,2, -999.000
           NA,HOT timeseries 1988to2019 27SEP2021,     86,  99,-999.0,      19,-999.0,19980218,1400,  22.7440, -157.9962,  4729,  232.300,   16.117,   34.673,2,   34.672,2,  202.700,2,  201.900,2,    4.590,2,    4.390,2,    0.390,2, -999.000
           NA,HOT timeseries 1988to2019 27SEP2021,     86,  99,-999.0,      18,-999.0,19980218,1400,  22.7440, -157.9962,  4729,  308.300,   12.195,   34.250,2,   34.250,2,  205.300,2,  205.600,2,    9.840,2,   10.220,2,    0.760,2, -999.000
           NA,HOT timeseries 1988to2019 27SEP2021,     86,  99,-999.0,      17,-999.0,19980218,1400,  22.7440, -157.9962,  4729,  352.300,   10.628,   34.158,2,   34.159,2,  201.200,2,  202.800,2,   15.300,2,   14.050,2, -999.000,4, -999.000
           NA,HOT timeseries 1988to2019 27SEP2021,     86,  99,-999.0,      16,-999.0,19980218,1400,  22.7440, -157.9962,  4729,  421.700,    8.872,   34.074,2,   34.074,2,  179.400,2,  178.100,2,   25.410,2,   19.840,2,    1.590,2, -999.000
           NA,HOT timeseries 1988to2019 27SEP2021,     86,  99,-999.0,      15,-999.0,19980218,1400,  22.7440, -157.9962,  4729,  450.600,    7.926,   34.055,2,   34.054,2,  149.400,2,  148.000,2,   35.240,2,   24.560,2,    1.770,2, -999.000
           NA,HOT timeseries 1988to2019 27SEP2021,     86,  99,-999.0,      14,-999.0,19980218,1400,  22.7440, -157.9962,  4729,  496.100,    7.046,   34.049,2,   34.048,2,  122.000,2,  119.700,2,   46.580,2,   29.170,2,    2.060,2, -999.000
           NA,HOT timeseries 1988to2019 27SEP2021,     86,  99,-999.0,      13,-999.0,19980218,1400,  22.7440, -157.9962,  4729,  514.800,    6.515,   34.049,2,   34.049,2,  101.600,2,  101.600,2,   54.460,2,   31.540,2,    2.290,2, -999.000
           NA,HOT timeseries 1988to2019 27SEP2021,     86,  99,-999.0,      12,-999.0,19980218,1400,  22.7440, -157.9962,  4729,  558.000,    5.774,   34.079,2,   34.079,2,   70.900,2,   70.700,2,   67.930,2,   35.390,2,    2.550,2, -999.000
           NA,HOT timeseries 1988to2019 27SEP2021,     86,  99,-999.0,      11,-999.0,19980218,1400,  22.7440, -157.9962,  4729,  611.000,    5.274,   34.133,2, -999.000,4, -999.000,3, -999.000,5, -999.000,4, -999.000,4, -999.000,4, -999.000
           NA,HOT timeseries 1988to2019 27SEP2021,     86,  99,-999.0,      32,-999.0,19980218,1400,  22.7440, -157.9962,  4729,  671.600,    5.010,   34.209,2,   34.208,2,   30.700,2,   31.700,2,   86.830,2,   39.700,2,    2.890,2, -999.000
           NA,HOT timeseries 1988to2019 27SEP2021,     86,  99,-999.0,       3,-999.0,19980218,1400,  22.7440, -157.9962,  4729,  699.700,    4.980,   34.233,2,   34.232,2,   29.900,2,   31.700,2,   88.750,2,   40.240,2,    2.940,2, -999.000
           NA,HOT timeseries 1988to2019 27SEP2021,     86,  99,-999.0,      29,-999.0,19980218,1400,  22.7440, -157.9962,  4729,  750.100,    4.800,   34.316,2,   34.316,2,   25.300,2,   25.400,2,   94.290,2,   40.960,2,    3.000,2, -999.000
           NA,HOT timeseries 1988to2019 27SEP2021,     86,  99,-999.0,      28,-999.0,19980218,1400,  22.7440, -157.9962,  4729,  799.800,    4.728,   34.380,2,   34.380,2,   27.000,2,   28.000,2,   96.270,2,   41.070,2,    3.010,2, -999.000
           NA,HOT timeseries 1988to2019 27SEP2021,     86,  99,-999.0,       7,-999.0,19980218,1400,  22.7440, -157.9962,  4729,  836.000,    4.619,   34.405,2,   34.404,2,   28.900,2,   30.700,2,   98.080,2,   41.220,2,    3.000,2, -999.000
           NA,HOT timeseries 1988to2019 27SEP2021,     86,  99,-999.0,      38,-999.0,19980218,1400,  22.7440, -157.9962,  4729,  870.700,    4.531,   34.435,2,   34.434,2,   31.300,2,   31.900,2,   99.850,2,   41.350,2,    2.980,2, -999.000
           NA,HOT timeseries 1988to2019 27SEP2021,     86,  99,-999.0,      36,-999.0,19980218,1400,  22.7440, -157.9962,  4729,  900.800,    4.451,   34.450,2,   34.449,2,   33.000,2,   33.600,2,  101.580,2,   41.420,2,    3.030,2, -999.000
           NA,HOT timeseries 1988to2019 27SEP2021,     86,  99,-999.0,      34,-999.0,19980218,1400,  22.7440, -157.9962,  4729,  998.200,    4.163,   34.488,2,   34.486,2,   38.900,2,   41.800,2,  107.300,2,   41.980,2,    3.010,2, -999.000
           NA,HOT timeseries 1988to2019 27SEP2021,     86,  99,-999.0,      33,-999.0,19980218,1400,  22.7440, -157.9962,  4729, 1019.400,    4.103,   34.493,2,   34.493,2,   40.400,2,   43.000,2,  108.130,2,   41.480,2,    2.980,2, -999.000
           NA,HOT timeseries 1988to2019 27SEP2021,     86,  99,-999.0,      20,-999.0,19980218,1400,  22.7440, -157.9962,  4729, 1201.700,    3.541,   34.535,2,   34.534,2,   51.100,2,   50.500,2,  119.890,2,   40.900,2,    2.940,2, -999.000
           NA,HOT timeseries 1988to2019 27SEP2021,     86,  99,-999.0,      19,-999.0,19980218,1400,  22.7440, -157.9962,  4729, 1401.700,    2.992,   34.567,2,   34.567,2,   62.600,2, -999.000,3,  131.440,2,   40.730,2,    2.900,2, -999.000
           NA,HOT timeseries 1988to2019 27SEP2021,     86,  99,-999.0,      18,-999.0,19980218,1400,  22.7440, -157.9962,  4729, 1600.300,    2.686,   34.585,2,   34.584,2,   70.500,2,   70.000,2,  138.630,2,   40.310,2,    2.870,2, -999.000
           NA,HOT timeseries 1988to2019 27SEP2021,     86,  99,-999.0,      17,-999.0,19980218,1400,  22.7440, -157.9962,  4729, 1802.800,    2.365,   34.605,2,   34.604,2,   80.200,2,   80.100,2,  145.760,2,   39.600,2,    2.810,2, -999.000
           NA,HOT timeseries 1988to2019 27SEP2021,     86,  99,-999.0,      16,-999.0,19980218,1400,  22.7440, -157.9962,  4729, 2000.000,    2.082,   34.621,2,   34.620,2,   88.200,2,   88.700,2,  153.510,2,   39.180,2,    2.780,2, -999.000
           NA,HOT timeseries 1988to2019 27SEP2021,     86,  99,-999.0,      15,-999.0,19980218,1400,  22.7440, -157.9962,  4729, 2201.700,    1.894,   34.638,2,   34.638,2,   98.900,2,   99.600,2,  155.610,2,   38.580,2,    2.730,2, -999.000
           NA,HOT timeseries 1988to2019 27SEP2021,     86,  99,-999.0,      14,-999.0,19980218,1400,  22.7440, -157.9962,  4729, 2401.300,    1.766,   34.649,2,   34.648,2,  105.800,2,  107.100,2,  158.690,2,   38.180,2,    2.710,2, -999.000
           NA,HOT timeseries 1988to2019 27SEP2021,     86,  99,-999.0,      13,-999.0,19980218,1400,  22.7440, -157.9962,  4729, 2600.500,    1.682,   34.656,2,   34.656,2,  111.200,2,  111.600,2,  159.340,2,   37.820,2,    2.670,2, -999.000
           NA,HOT timeseries 1988to2019 27SEP2021,     86,  99,-999.0,      12,-999.0,19980218,1400,  22.7440, -157.9962,  4729, 2799.900,    1.613,   34.663,2,   34.663,2,  118.100,2,  118.400,2,  159.730,2,   37.700,2,    2.650,2, -999.000
           NA,HOT timeseries 1988to2019 27SEP2021,     86,  99,-999.0,      11,-999.0,19980218,1400,  22.7440, -157.9962,  4729, 3002.300,    1.542,   34.670,2,   34.674,2,  125.500,2,  126.400,2,  158.770,2,   37.080,2,    2.600,2, -999.000
           NA,HOT timeseries 1988to2019 27SEP2021,     86,  99,-999.0,      32,-999.0,19980218,1400,  22.7440, -157.9962,  4729, 3199.300,    1.503,   34.675,2,   34.676,2,  130.900,2,  133.100,2,  158.270,2,   36.760,2,    2.580,2, -999.000
           NA,HOT timeseries 1988to2019 27SEP2021,     86,  99,-999.0,       3,-999.0,19980218,1400,  22.7440, -157.9962,  4729, 3400.600,    1.475,   34.680,2,   34.681,2,  137.200,2,  137.300,2,  156.370,2,   36.330,2,    2.550,2, -999.000
           NA,HOT timeseries 1988to2019 27SEP2021,     86,  99,-999.0,      29,-999.0,19980218,1400,  22.7440, -157.9962,  4729, 3600.800,    1.459,   34.683,2,   34.683,2,  141.800,2,  141.700,2,  154.830,2,   36.120,2,    2.550,2, -999.000
           NA,HOT timeseries 1988to2019 27SEP2021,     86,  99,-999.0,      28,-999.0,19980218,1400,  22.7440, -157.9962,  4729, 3800.100,    1.454,   34.685,2,   34.687,2,  145.200,2,  145.400,2,  154.010,2,   35.920,2,    2.510,2, -999.000
           NA,HOT timeseries 1988to2019 27SEP2021,     86,  99,-999.0,       7,-999.0,19980218,1400,  22.7440, -157.9962,  4729, 3999.900,    1.455,   34.687,2,   34.688,2,  147.900,2,  148.300,2,  152.510,2,   35.840,2,    2.500,2, -999.000
           NA,HOT timeseries 1988to2019 27SEP2021,     86,  99,-999.0,      38,-999.0,19980218,1400,  22.7440, -157.9962,  4729, 4201.300,    1.462,   34.688,2,   34.689,2,  150.500,2,  150.500,2,  150.680,2,   35.630,2,    2.490,2, -999.000
           NA,HOT timeseries 1988to2019 27SEP2021,     86,  99,-999.0,      36,-999.0,19980218,1400,  22.7440, -157.9962,  4729, 4400.400,    1.477,   34.689,2,   34.689,2,  151.900,2,  151.800,2, -999.000,3,   35.460,2,    2.470,2, -999.000
           NA,HOT timeseries 1988to2019 27SEP2021,     86,  99,-999.0,      35,-999.0,19980218,1400,  22.7440, -157.9962,  4729, 4502.000,    1.486,   34.689,2,   34.691,2,  152.500,2,  152.000,2,  150.400,2,   35.460,2,    2.470,2, -999.000
           NA,HOT timeseries 1988to2019 27SEP2021,     86,  99,-999.0,      34,-999.0,19980218,1400,  22.7440, -157.9962,  4729, 4601.000,    1.495,   34.689,2, -999.000,2,  153.500,2, -999.000,2, -999.000,2, -999.000,3, -999.000,2, -999.000
           NA,HOT timeseries 1988to2019 27SEP2021,     86,  99,-999.0,      33,-999.0,19980218,1400,  22.7440, -157.9962,  4729, 4805.700,    1.516,   34.690,2,   34.690,2,  154.100,2,  153.400,2,  149.220,2,   35.370,2,    2.480,2, -999.000