BOTTLE,20214727JOAExport
EXPOCODE,SECT_ID,STNNBR,CASTNO,SAMPNO,BTLNBR,BTLNBR_FLAG_W,DATE,TIME,LATITUDE,LONGITUDE,DEPTH,CTDPRS,CTDTMP,CTDSAL,CTDSAL_FLAG_W,SALNTY,SALNTY_FLAG_W,CTDOXY,CTDOXY_FLAG_W,OXYGEN,OXYGEN_FLAG_W,SILCAT,SILCAT_FLAG_W,NINI,NINI_FLAG_W,PHSPHT,PHSPHT_FLAG_W,REVP
,,,,,,,,,,,,DB,IPTS-68,PSS-78,,PSS-78,,UMOL/KG,,UMOL/KG,,UMOL/KG,,UMOL/KG,,UMOL/KG,,DBAR
           NA,HOT timeseries 1988to2019 27SEP2021,     54,  99,-999.0,      31,-999.0,19941014,1611,  22.7440, -158.0017,  4724,    4.700,   26.178,   34.922,2,   34.926,2,  203.000,2,  202.900,2,    0.980,2,    0.000,2,    0.050,2, -999.000
           NA,HOT timeseries 1988to2019 27SEP2021,     54,  99,-999.0,      31,-999.0,19941014,1611,  22.7440, -158.0017,  4724,    4.800,   26.222,   34.902,2,   34.901,2,  187.500,2,  203.100,2,    1.160,2,    0.010,2,    0.080,2, -999.000
           NA,HOT timeseries 1988to2019 27SEP2021,     54,  99,-999.0,      30,-999.0,19941014,1611,  22.7440, -158.0017,  4724,   60.200,   25.569,   35.103,2, -999.000,3, -999.000,3,  211.600,2,    1.260,2,    0.010,2,    0.040,2, -999.000
           NA,HOT timeseries 1988to2019 27SEP2021,     54,  99,-999.0,      22,-999.0,19941014,1611,  22.7440, -158.0017,  4724,   70.900,   24.220,   34.998,2,   35.009,2,  190.300,2,  220.700,2,    1.360,2,    0.020,2,    0.050,2, -999.000
           NA,HOT timeseries 1988to2019 27SEP2021,     54,  99,-999.0,      30,-999.0,19941014,1611,  22.7440, -158.0017,  4724,   80.400,   23.160,   35.003,2,   35.002,2,  220.900,2,  221.000,2,    1.260,2,    0.000,2,    0.050,2, -999.000
           NA,HOT timeseries 1988to2019 27SEP2021,     54,  99,-999.0,      21,-999.0,19941014,1611,  22.7440, -158.0017,  4724,   82.100,   23.284,   34.978,2,   34.978,2,  197.000,2,  221.500,2,    1.410,2,    0.000,2,    0.060,2, -999.000
           NA,HOT timeseries 1988to2019 27SEP2021,     54,  99,-999.0,      20,-999.0,19941014,1611,  22.7440, -158.0017,  4724,   99.900,   22.571,   35.057,2,   35.057,2,  202.000,2,  219.500,2,    1.360,2,    0.000,2,    0.070,2, -999.000
           NA,HOT timeseries 1988to2019 27SEP2021,     54,  99,-999.0,      19,-999.0,19941014,1611,  22.7440, -158.0017,  4724,  120.100,   21.861,   35.144,2,   35.141,2,  205.700,2,  206.400,2,    1.380,2,    0.220,2,    0.100,2, -999.000
           NA,HOT timeseries 1988to2019 27SEP2021,     54,  99,-999.0,      18,-999.0,19941014,1611,  22.7440, -158.0017,  4724,  150.700,   20.939,   35.193,2,   35.190,2,  207.500,2,  198.200,2,    1.570,2,    0.810,2,    0.130,2, -999.000
           NA,HOT timeseries 1988to2019 27SEP2021,     54,  99,-999.0,      17,-999.0,19941014,1611,  22.7440, -158.0017,  4724,  177.200,   20.312,   35.198,2,   35.196,2,  208.600,2,  197.400,2,    1.730,2,    1.210,2,    0.150,2, -999.000
           NA,HOT timeseries 1988to2019 27SEP2021,     54,  99,-999.0,      16,-999.0,19941014,1611,  22.7440, -158.0017,  4724,  199.800,   19.362,   35.098,2,   35.098,2,  196.800,2,  194.200,2,    2.180,2,    2.010,2,    0.210,2, -999.000
           NA,HOT timeseries 1988to2019 27SEP2021,     54,  99,-999.0,      15,-999.0,19941014,1611,  22.7440, -158.0017,  4724,  225.300,   18.223,   34.939,2,   34.947,2,  196.300,2,  191.200,2,    2.910,2,    3.110,2,    0.270,2, -999.000
           NA,HOT timeseries 1988to2019 27SEP2021,     54,  99,-999.0,      14,-999.0,19941014,1611,  22.7440, -158.0017,  4724,  269.000,   16.471,   34.762,2,   34.752,2,  202.700,2,  201.500,2,    4.690,2,    4.390,2,    0.330,2, -999.000
           NA,HOT timeseries 1988to2019 27SEP2021,     54,  99,-999.0,      13,-999.0,19941014,1611,  22.7440, -158.0017,  4724,  300.700,   14.700,   34.530,2,   34.526,2,  195.600,2,  196.200,2,    6.590,2,    7.060,2,    0.530,2, -999.000
           NA,HOT timeseries 1988to2019 27SEP2021,     54,  99,-999.0,      12,-999.0,19941014,1611,  22.7440, -158.0017,  4724,  360.200,   11.639,   34.200,2,   34.203,2,  192.000,2,  188.100,2,   12.640,2,   12.980,2,    0.930,2, -999.000
           NA,HOT timeseries 1988to2019 27SEP2021,     54,  99,-999.0,      11,-999.0,19941014,1611,  22.7440, -158.0017,  4724,  398.100,    9.993,   34.111,2,   34.108,2,  176.700,2,  175.700,2,   19.970,2,   17.800,2,    1.280,2, -999.000
           NA,HOT timeseries 1988to2019 27SEP2021,     54,  99,-999.0,      32,-999.0,19941014,1611,  22.7440, -158.0017,  4724,  453.500,    8.556,   34.087,2,   34.086,2,  146.100,2,  143.900,2,   31.940,2,   23.790,2,    1.710,2, -999.000
           NA,HOT timeseries 1988to2019 27SEP2021,     54,  99,-999.0,       3,-999.0,19941014,1611,  22.7440, -158.0017,  4724,  500.800,    7.280,   34.093,2,   34.086,2,  104.000,2,  101.100,2,   47.530,2,   30.030,2,    2.200,2, -999.000
           NA,HOT timeseries 1988to2019 27SEP2021,     54,  99,-999.0,      22,-999.0,19941014,1611,  22.7440, -158.0017,  4724,  502.500,    7.405,   34.080,2,   34.079,2,  111.200,2,  110.900,2,   44.960,2,   28.920,2,    2.080,2, -999.000
           NA,HOT timeseries 1988to2019 27SEP2021,     54,  99,-999.0,      29,-999.0,19941014,1611,  22.7440, -158.0017,  4724,  523.100,    6.917,   34.116,2,   34.114,2,   76.600,2,   77.800,2,   54.530,2,   32.740,2,    2.420,2, -999.000
           NA,HOT timeseries 1988to2019 27SEP2021,     54,  99,-999.0,      28,-999.0,19941014,1611,  22.7440, -158.0017,  4724,  556.600,    6.264,   34.096,2,   34.095,2,   71.600,2,   68.600,2,   62.480,2,   34.910,2,    2.580,2, -999.000
           NA,HOT timeseries 1988to2019 27SEP2021,     54,  99,-999.0,       7,-999.0,19941014,1611,  22.7440, -158.0017,  4724,  641.400,    5.610,   34.215,2,   34.214,2,   33.700,2,   32.000,2,   78.410,2,   39.070,2,    2.910,2, -999.000
           NA,HOT timeseries 1988to2019 27SEP2021,     54,  99,-999.0,      23,-999.0,19941014,1611,  22.7440, -158.0017,  4724,  687.100,    5.486,   34.267,2,   34.266,2,   28.300,2,   27.000,2,   82.090,2,   40.110,2,    3.000,2, -999.000
           NA,HOT timeseries 1988to2019 27SEP2021,     54,  99,-999.0,      36,-999.0,19941014,1611,  22.7440, -158.0017,  4724,  755.700,    5.255,   34.375,2,   34.373,2,   22.500,2,   22.000,2,   87.890,2,   41.140,2,    3.080,2, -999.000
           NA,HOT timeseries 1988to2019 27SEP2021,     54,  99,-999.0,      35,-999.0,19941014,1611,  22.7440, -158.0017,  4724,  855.800,    4.766,   34.431,2,   34.429,2,   31.500,2,   30.000,2,   96.540,2,   41.640,2,    3.080,2, -999.000
           NA,HOT timeseries 1988to2019 27SEP2021,     54,  99,-999.0,      34,-999.0,19941014,1611,  22.7440, -158.0017,  4724,  955.900,    4.430,   34.479,2,   34.478,2,   36.500,2,   36.400,2,  102.940,2,   42.310,2,    3.090,2, -999.000
           NA,HOT timeseries 1988to2019 27SEP2021,     54,  99,-999.0,      33,-999.0,19941014,1611,  22.7440, -158.0017,  4724, 1017.700,    4.265,   34.491,2,   34.491,2,   40.500,2,   38.200,2,  106.150,2,   42.010,2,    3.090,2, -999.000
           NA,HOT timeseries 1988to2019 27SEP2021,     54,  99,-999.0,      20,-999.0,19941014,1611,  22.7440, -158.0017,  4724, 1401.100,    3.231,   34.553,2,   34.556,2,   56.400,2,   56.600,2,  127.740,2,   41.750,2,    3.010,2, -999.000
           NA,HOT timeseries 1988to2019 27SEP2021,     54,  99,-999.0,      19,-999.0,19941014,1611,  22.7440, -158.0017,  4724, 1600.500,    2.821,   34.577,2,   34.579,2,   65.800,2,   65.500,2,  137.220,2,   41.100,2,    2.970,2, -999.000
           NA,HOT timeseries 1988to2019 27SEP2021,     54,  99,-999.0,      18,-999.0,19941014,1611,  22.7440, -158.0017,  4724, 1800.000,    2.534,   34.594,2,   34.593,2,   75.000,2,   74.800,2,  143.430,2,   40.530,2,    2.920,2, -999.000
           NA,HOT timeseries 1988to2019 27SEP2021,     54,  99,-999.0,      17,-999.0,19941014,1611,  22.7440, -158.0017,  4724, 1999.300,    2.252,   34.613,2,   34.613,2,   84.800,2,   84.700,2,  149.850,2,   40.040,2,    2.870,2, -999.000
           NA,HOT timeseries 1988to2019 27SEP2021,     54,  99,-999.0,      16,-999.0,19941014,1611,  22.7440, -158.0017,  4724, 2199.200,    2.042,   34.627,2,   34.628,2,   93.200,2,   93.300,2,  154.190,2,   39.410,2,    2.820,2, -999.000
           NA,HOT timeseries 1988to2019 27SEP2021,     54,  99,-999.0,      15,-999.0,19941014,1611,  22.7440, -158.0017,  4724, 2399.600,    1.877,   34.639,2,   34.639,2,  102.600,2,  102.800,2,  156.830,2,   39.040,2,    2.770,2, -999.000
           NA,HOT timeseries 1988to2019 27SEP2021,     54,  99,-999.0,      14,-999.0,19941014,1611,  22.7440, -158.0017,  4724, 2600.000,    1.741,   34.648,2,   34.648,2,  107.600,2,  107.800,2,  160.670,2,   38.660,2,    2.740,2, -999.000
           NA,HOT timeseries 1988to2019 27SEP2021,     54,  99,-999.0,      13,-999.0,19941014,1611,  22.7440, -158.0017,  4724, 2801.000,    1.658,   34.656,2,   34.659,2,  114.200,2,  114.200,2,  161.630,2,   38.220,2,    2.710,2, -999.000
           NA,HOT timeseries 1988to2019 27SEP2021,     54,  99,-999.0,      12,-999.0,19941014,1611,  22.7440, -158.0017,  4724, 3000.100,    1.602,   34.663,2,   34.663,2,  120.100,2,  120.700,2,  161.600,2,   38.050,2,    2.670,2, -999.000
           NA,HOT timeseries 1988to2019 27SEP2021,     54,  99,-999.0,      11,-999.0,19941014,1611,  22.7440, -158.0017,  4724, 3200.000,    1.552,   34.669,2,   34.669,2,  126.800,2,  126.400,2,  161.120,2,   37.500,2,    2.640,2, -999.000
           NA,HOT timeseries 1988to2019 27SEP2021,     54,  99,-999.0,      32,-999.0,19941014,1611,  22.7440, -158.0017,  4724, 3399.300,    1.520,   34.674,2, -999.000,4, -999.000,3,  132.700,2,  160.090,2,   37.180,2,    2.600,2, -999.000
           NA,HOT timeseries 1988to2019 27SEP2021,     54,  99,-999.0,       3,-999.0,19941014,1611,  22.7440, -158.0017,  4724, 3599.400,    1.490,   34.678,2,   34.679,2,  138.200,2,  137.800,2,  157.490,2,   36.700,2,    2.580,2, -999.000
           NA,HOT timeseries 1988to2019 27SEP2021,     54,  99,-999.0,      29,-999.0,19941014,1611,  22.7440, -158.0017,  4724, 3800.100,    1.474,   34.681,2,   34.681,2,  142.600,2,  143.000,2,  155.870,2,   36.390,2,    2.550,2, -999.000
           NA,HOT timeseries 1988to2019 27SEP2021,     54,  99,-999.0,      28,-999.0,19941014,1611,  22.7440, -158.0017,  4724, 3998.700,    1.466,   34.683,2,   34.682,2,  146.700,2,  146.300,2,  154.300,2,   36.190,2,    2.530,2, -999.000
           NA,HOT timeseries 1988to2019 27SEP2021,     54,  99,-999.0,       7,-999.0,19941014,1611,  22.7440, -158.0017,  4724, 4200.600,    1.468,   34.685,2,   34.684,2,  149.700,2,  149.400,2,  152.670,2,   35.870,2,    2.520,2, -999.000
           NA,HOT timeseries 1988to2019 27SEP2021,     54,  99,-999.0,      23,-999.0,19941014,1611,  22.7440, -158.0017,  4724, 4299.700,    1.471,   34.686,2,   34.686,2,  150.600,2,  150.900,2,  152.130,2,   35.860,2,    2.510,2, -999.000
           NA,HOT timeseries 1988to2019 27SEP2021,     54,  99,-999.0,      36,-999.0,19941014,1611,  22.7440, -158.0017,  4724, 4399.100,    1.477,   34.686,2,   34.687,2,  151.300,2,  151.000,2,  151.980,2,   35.790,2,    2.490,2, -999.000
           NA,HOT timeseries 1988to2019 27SEP2021,     54,  99,-999.0,      35,-999.0,19941014,1611,  22.7440, -158.0017,  4724, 4499.100,    1.485,   34.687,2,   34.687,2,  152.000,2,  152.100,2,  151.430,2,   35.990,2,    2.490,2, -999.000
           NA,HOT timeseries 1988to2019 27SEP2021,     54,  99,-999.0,      34,-999.0,19941014,1611,  22.7440, -158.0017,  4724, 4598.700,    1.494,   34.687,2,   34.687,2,  152.500,2,  152.800,2,  151.520,2,   35.830,2,    2.490,2, -999.000
           NA,HOT timeseries 1988to2019 27SEP2021,     54,  99,-999.0,      33,-999.0,19941014,1611,  22.7440, -158.0017,  4724, 4808.300,    1.510,   34.688,2,   34.689,2,  153.700,2,  153.700,2, -999.000,5, -999.000,5, -999.000,5, -999.000