BOTTLE,20214727JOAExport
EXPOCODE,SECT_ID,STNNBR,CASTNO,SAMPNO,BTLNBR,BTLNBR_FLAG_W,DATE,TIME,LATITUDE,LONGITUDE,DEPTH,CTDPRS,CTDTMP,CTDSAL,CTDSAL_FLAG_W,SALNTY,SALNTY_FLAG_W,CTDOXY,CTDOXY_FLAG_W,OXYGEN,OXYGEN_FLAG_W,SILCAT,SILCAT_FLAG_W,NINI,NINI_FLAG_W,PHSPHT,PHSPHT_FLAG_W,REVP
,,,,,,,,,,,,DB,IPTS-68,PSS-78,,PSS-78,,UMOL/KG,,UMOL/KG,,UMOL/KG,,UMOL/KG,,UMOL/KG,,DBAR
           NA,HOT timeseries 1988to2019 27SEP2021,     72,  99,-999.0,      31,-999.0,19961001,1136,  22.7507, -157.9998,  4719,    4.600,   27.065,   34.787,2,   34.790,2,  201.400,2,  198.800,2,    1.470,2,    0.000,2,    0.040,2, -999.000
           NA,HOT timeseries 1988to2019 27SEP2021,     72,  99,-999.0,      31,-999.0,19961001,1136,  22.7507, -157.9998,  4719,    4.800,   27.196,   34.826,2,   34.825,2,  199.300,2,  198.900,2,    1.260,2,    0.000,2,    0.060,2, -999.000
           NA,HOT timeseries 1988to2019 27SEP2021,     72,  99,-999.0,      30,-999.0,19961001,1136,  22.7507, -157.9998,  4719,   24.900,   27.184,   34.882,2, -999.000,4, -999.000,3,  199.100,2,    1.270,2,    0.010,2,    0.060,2, -999.000
           NA,HOT timeseries 1988to2019 27SEP2021,     72,  99,-999.0,      22,-999.0,19961001,1136,  22.7507, -157.9998,  4719,   54.400,   26.744,   34.996,2, -999.000,3, -999.000,3,  202.300,2,    1.250,2,    0.010,2,    0.050,2, -999.000
           NA,HOT timeseries 1988to2019 27SEP2021,     72,  99,-999.0,      21,-999.0,19961001,1136,  22.7507, -157.9998,  4719,   70.000,   25.553,   35.093,2,   35.096,2,  216.800,2,  220.200,2,    1.320,2,    0.010,2,    0.040,2, -999.000
           NA,HOT timeseries 1988to2019 27SEP2021,     72,  99,-999.0,      30,-999.0,19961001,1136,  22.7507, -157.9998,  4719,   79.400,   23.294,   35.116,2,   35.118,2,  221.000,2,  221.900,2,    1.680,2,   -0.010,2,    0.040,2, -999.000
           NA,HOT timeseries 1988to2019 27SEP2021,     72,  99,-999.0,      20,-999.0,19961001,1136,  22.7507, -157.9998,  4719,   85.500,   24.145,   35.122,2,   35.120,2,  218.000,2,  222.800,2,    2.040,2,    0.010,2,    0.040,2, -999.000
           NA,HOT timeseries 1988to2019 27SEP2021,     72,  99,-999.0,      19,-999.0,19961001,1136,  22.7507, -157.9998,  4719,  109.800,   22.219,   35.140,2,   35.131,2,  220.700,2,  220.900,2,    1.820,2,    0.010,2,    0.060,2, -999.000
           NA,HOT timeseries 1988to2019 27SEP2021,     72,  99,-999.0,      18,-999.0,19961001,1136,  22.7507, -157.9998,  4719,  115.200,   21.923,   35.127,2,   35.124,2,  218.200,2,  219.600,2,    1.850,2,    0.020,2,    0.060,2, -999.000
           NA,HOT timeseries 1988to2019 27SEP2021,     72,  99,-999.0,      17,-999.0,19961001,1136,  22.7507, -157.9998,  4719,  169.400,   18.986,   34.996,2,   34.998,2,  196.900,2,  199.000,2,    2.700,2,    1.830,2,    0.220,2, -999.000
           NA,HOT timeseries 1988to2019 27SEP2021,     72,  99,-999.0,      16,-999.0,19961001,1136,  22.7507, -157.9998,  4719,  258.500,   16.073,   34.682,2,   34.675,2,  207.000,2,  204.600,2,    4.910,2,    4.290,2,    0.350,2, -999.000
           NA,HOT timeseries 1988to2019 27SEP2021,     72,  99,-999.0,      15,-999.0,19961001,1136,  22.7507, -157.9998,  4719,  344.100,   12.125,   34.308,2,   34.309,2,  198.700,2,  198.200,2,   12.100,2,   11.550,2,    0.830,2, -999.000
           NA,HOT timeseries 1988to2019 27SEP2021,     72,  99,-999.0,      14,-999.0,19961001,1136,  22.7507, -157.9998,  4719,  385.100,   10.728,   34.210,2,   34.210,2,  196.000,2,  192.500,2,   17.370,2,   14.980,2,    1.050,2, -999.000
           NA,HOT timeseries 1988to2019 27SEP2021,     72,  99,-999.0,      13,-999.0,19961001,1136,  22.7507, -157.9998,  4719,  443.300,    9.150,   34.118,2,   34.119,2,  174.900,2,  172.600,2,   26.150,2,   19.890,2,    1.400,2, -999.000
           NA,HOT timeseries 1988to2019 27SEP2021,     72,  99,-999.0,      22,-999.0,19961001,1136,  22.7507, -157.9998,  4719,  516.700,    7.064,   34.049,2,   34.049,2,  131.800,2,  129.900,2,   45.930,2,   27.250,2,    1.890,2, -999.000
           NA,HOT timeseries 1988to2019 27SEP2021,     72,  99,-999.0,      12,-999.0,19961001,1136,  22.7507, -157.9998,  4719,  529.400,    7.219,   34.050,2,   34.049,2,  139.200,2,  135.000,2,   43.920,2,   27.110,2,    1.900,2, -999.000
           NA,HOT timeseries 1988to2019 27SEP2021,     72,  99,-999.0,      11,-999.0,19961001,1136,  22.7507, -157.9998,  4719,  539.600,    6.972,   34.050,2,   34.050,2,  130.700,2,  124.800,2,   47.580,2,   28.770,2,    2.020,2, -999.000
           NA,HOT timeseries 1988to2019 27SEP2021,     72,  99,-999.0,      32,-999.0,19961001,1136,  22.7507, -157.9998,  4719,  564.600,    6.926,   34.140,2,   34.139,2,   85.600,2,   81.500,2,   53.440,2,   32.000,2,    2.340,2, -999.000
           NA,HOT timeseries 1988to2019 27SEP2021,     72,  99,-999.0,       3,-999.0,19961001,1136,  22.7507, -157.9998,  4719,  580.600,    6.604,   34.123,2,   34.126,2,   65.000,2,   79.300,2,   57.380,2,   33.000,2,    2.390,2, -999.000
           NA,HOT timeseries 1988to2019 27SEP2021,     72,  99,-999.0,      29,-999.0,19961001,1136,  22.7507, -157.9998,  4719,  608.600,    5.720,   34.066,2,   34.065,2,   84.300,2,   78.100,2,   67.580,2,   34.880,2,    2.500,2, -999.000
           NA,HOT timeseries 1988to2019 27SEP2021,     72,  99,-999.0,      28,-999.0,19961001,1136,  22.7507, -157.9998,  4719,  642.000,    5.782,   34.194,2,   34.186,2,   44.300,2,   45.600,2,   72.440,2,   37.470,2,    2.740,2, -999.000
           NA,HOT timeseries 1988to2019 27SEP2021,     72,  99,-999.0,       7,-999.0,19961001,1136,  22.7507, -157.9998,  4719,  689.600,    5.534,   34.291,2,   34.289,2,   28.600,2,   27.200,2,   79.560,2,   39.570,2,    2.900,2, -999.000
           NA,HOT timeseries 1988to2019 27SEP2021,     72,  99,-999.0,      38,-999.0,19961001,1136,  22.7507, -157.9998,  4719,  749.600,    5.180,   34.318,2,   34.321,2,   25.800,2,   26.800,2,   86.090,2,   40.410,2,    2.940,2, -999.000
           NA,HOT timeseries 1988to2019 27SEP2021,     72,  99,-999.0,      21,-999.0,19961001,1136,  22.7507, -157.9998,  4719,  792.600,    5.157,   34.356,2,   34.354,2,   26.500,2,   25.600,2,   86.430,2,   40.160,2,    2.860,2, -999.000
           NA,HOT timeseries 1988to2019 27SEP2021,     72,  99,-999.0,      36,-999.0,19961001,1136,  22.7507, -157.9998,  4719,  827.400,    5.070,   34.371,2,   34.370,2,   26.700,2,   26.400,2,   89.140,2,   40.840,2,    2.970,2, -999.000
           NA,HOT timeseries 1988to2019 27SEP2021,     72,  99,-999.0,      35,-999.0,19961001,1136,  22.7507, -157.9998,  4719,  901.100,    4.594,   34.416,2,   34.415,2,   29.700,2,   28.400,2,   97.690,2,   41.620,2,    3.010,2, -999.000
           NA,HOT timeseries 1988to2019 27SEP2021,     72,  99,-999.0,      34,-999.0,19961001,1136,  22.7507, -157.9998,  4719,  951.300,    4.407,   34.458,2,   34.458,2,   33.600,2,   34.000,2,  101.140,2,   41.690,2,    3.000,2, -999.000
           NA,HOT timeseries 1988to2019 27SEP2021,     72,  99,-999.0,      20,-999.0,19961001,1136,  22.7507, -157.9998,  4719, 1000.800,    4.180,   34.462,2,   34.460,2,   36.900,2,   36.100,2,  105.270,2,   41.450,2, -999.000,3, -999.000
           NA,HOT timeseries 1988to2019 27SEP2021,     72,  99,-999.0,      33,-999.0,19961001,1136,  22.7507, -157.9998,  4719, 1021.400,    4.090,   34.470,2,   34.471,2,   38.300,2,   38.200,2,  107.750,2, -999.000,3, -999.000,3, -999.000
           NA,HOT timeseries 1988to2019 27SEP2021,     72,  99,-999.0,      19,-999.0,19961001,1136,  22.7507, -157.9998,  4719, 1398.900,    3.172,   34.549,2,   34.548,2,   56.400,2,   55.900,2,  126.590,2,   41.170,2,    2.930,2, -999.000
           NA,HOT timeseries 1988to2019 27SEP2021,     72,  99,-999.0,      18,-999.0,19961001,1136,  22.7507, -157.9998,  4719, 1601.800,    2.733,   34.577,2,   34.576,2,   67.500,2,   67.200,2,  136.020,2,   40.630,2,    2.890,2, -999.000
           NA,HOT timeseries 1988to2019 27SEP2021,     72,  99,-999.0,      17,-999.0,19961001,1136,  22.7507, -157.9998,  4719, 1799.400,    2.401,   34.599,2,   34.598,2,   77.100,2,   76.700,2,  142.100,2,   39.950,2,    2.830,2, -999.000
           NA,HOT timeseries 1988to2019 27SEP2021,     72,  99,-999.0,      16,-999.0,19961001,1136,  22.7507, -157.9998,  4719, 1999.200,    2.066,   34.620,2,   34.620,2,   86.600,2,   86.900,2,  151.760,2,   39.570,2,    2.780,2, -999.000
           NA,HOT timeseries 1988to2019 27SEP2021,     72,  99,-999.0,      15,-999.0,19961001,1136,  22.7507, -157.9998,  4719, 2201.600,    1.853,   34.636,2,   34.637,2,   95.200,2,   95.700,2,  157.540,2,   39.280,2,    2.740,2, -999.000
           NA,HOT timeseries 1988to2019 27SEP2021,     72,  99,-999.0,      14,-999.0,19961001,1136,  22.7507, -157.9998,  4719, 2400.300,    1.724,   34.649,2,   34.647,2,  106.000,2,  107.000,2,  157.830,2,   38.440,2,    2.700,2, -999.000
           NA,HOT timeseries 1988to2019 27SEP2021,     72,  99,-999.0,      13,-999.0,19961001,1136,  22.7507, -157.9998,  4719, 2598.600,    1.636,   34.657,2,   34.658,2,  112.100,2,  112.300,2,  159.000,2,   38.040,2,    2.650,2, -999.000
           NA,HOT timeseries 1988to2019 27SEP2021,     72,  99,-999.0,      12,-999.0,19961001,1136,  22.7507, -157.9998,  4719, 2799.300,    1.575,   34.664,2,   34.664,2,  118.900,2,  119.900,2,  157.850,2,   37.580,2,    2.630,2, -999.000
           NA,HOT timeseries 1988to2019 27SEP2021,     72,  99,-999.0,      11,-999.0,19961001,1136,  22.7507, -157.9998,  4719, 2999.400,    1.531,   34.670,2,   34.669,2,  125.400,2,  125.800,2,  157.040,2,   37.250,2,    2.590,2, -999.000
           NA,HOT timeseries 1988to2019 27SEP2021,     72,  99,-999.0,      32,-999.0,19961001,1136,  22.7507, -157.9998,  4719, 3198.100,    1.498,   34.674,2,   34.674,2,  131.500,2,  131.900,2,  156.110,2,   37.020,2,    2.570,2, -999.000
           NA,HOT timeseries 1988to2019 27SEP2021,     72,  99,-999.0,       3,-999.0,19961001,1136,  22.7507, -157.9998,  4719, 3399.200,    1.473,   34.678,2,   34.679,2,  136.000,2,  136.400,2,  154.470,2,   36.800,2,    2.560,2, -999.000
           NA,HOT timeseries 1988to2019 27SEP2021,     72,  99,-999.0,      29,-999.0,19961001,1136,  22.7507, -157.9998,  4719, 3598.900,    1.459,   34.681,2,   34.681,2,  139.900,2,  140.600,2,  153.580,2,   36.490,2,    2.540,2, -999.000
           NA,HOT timeseries 1988to2019 27SEP2021,     72,  99,-999.0,      28,-999.0,19961001,1136,  22.7507, -157.9998,  4719, 3799.300,    1.452,   34.683,2,   34.683,2,  144.300,2,  144.300,2,  151.460,2,   36.180,2,    2.520,2, -999.000
           NA,HOT timeseries 1988to2019 27SEP2021,     72,  99,-999.0,       7,-999.0,19961001,1136,  22.7507, -157.9998,  4719, 3998.400,    1.454,   34.685,2,   34.685,2,  147.200,2,  147.500,2,  149.950,2,   36.040,2,    2.510,2, -999.000
           NA,HOT timeseries 1988to2019 27SEP2021,     72,  99,-999.0,      38,-999.0,19961001,1136,  22.7507, -157.9998,  4719, 4199.000,    1.463,   34.686,2,   34.686,2,  148.900,2,  149.100,2,  148.080,2,   35.780,2,    2.480,2, -999.000
           NA,HOT timeseries 1988to2019 27SEP2021,     72,  99,-999.0,      36,-999.0,19961001,1136,  22.7507, -157.9998,  4719, 4398.400,    1.477,   34.687,2,   34.689,2,  151.100,2,  150.800,2,  147.570,2,   35.710,2,    2.480,2, -999.000
           NA,HOT timeseries 1988to2019 27SEP2021,     72,  99,-999.0,      35,-999.0,19961001,1136,  22.7507, -157.9998,  4719, 4498.700,    1.485,   34.687,2,   34.688,2,  151.400,2,  151.200,2, -999.000,3,   35.710,2,    2.470,2, -999.000
           NA,HOT timeseries 1988to2019 27SEP2021,     72,  99,-999.0,      34,-999.0,19961001,1136,  22.7507, -157.9998,  4719, 4598.800,    1.491,   34.688,2,   34.691,2,  152.800,2,  151.800,2,  146.550,2,   35.730,2,    2.460,2, -999.000
           NA,HOT timeseries 1988to2019 27SEP2021,     72,  99,-999.0,      33,-999.0,19961001,1136,  22.7507, -157.9998,  4719, 4809.800,    1.508,   34.688,2,   34.688,2,  153.800,2,  153.000,2,  145.610,2,   35.650,2,    2.440,2, -999.000