BOTTLE,20214727JOAExport
EXPOCODE,SECT_ID,STNNBR,CASTNO,SAMPNO,BTLNBR,BTLNBR_FLAG_W,DATE,TIME,LATITUDE,LONGITUDE,DEPTH,CTDPRS,CTDTMP,CTDSAL,CTDSAL_FLAG_W,SALNTY,SALNTY_FLAG_W,CTDOXY,CTDOXY_FLAG_W,OXYGEN,OXYGEN_FLAG_W,SILCAT,SILCAT_FLAG_W,NINI,NINI_FLAG_W,PHSPHT,PHSPHT_FLAG_W,REVP
,,,,,,,,,,,,DB,IPTS-68,PSS-78,,PSS-78,,UMOL/KG,,UMOL/KG,,UMOL/KG,,UMOL/KG,,UMOL/KG,,DBAR
           NA,HOT timeseries 1988to2019 27SEP2021,     28,  99,-999.0,      23,-999.0,19911020,1850,  22.7500, -158.0000,  4789,    6.000,   26.973,   34.864,2,   34.869,2,  200.300,2,  201.800,2,    1.090,2,    0.000,2,    0.100,2, -999.000
           NA,HOT timeseries 1988to2019 27SEP2021,     28,  99,-999.0,      23,-999.0,19911020,1850,  22.7500, -158.0000,  4789,   10.000,   27.004,   34.851,2,   34.849,2,  201.000,2,  201.900,2,    1.520,2,    0.000,2,    0.070,2, -999.000
           NA,HOT timeseries 1988to2019 27SEP2021,     28,  99,-999.0,      22,-999.0,19911020,1850,  22.7500, -158.0000,  4789,   46.100,   26.765,   35.017,2,   35.021,2,  201.800,2,  204.500,2,    1.520,2,    0.000,2,    0.060,2, -999.000
           NA,HOT timeseries 1988to2019 27SEP2021,     28,  99,-999.0,      21,-999.0,19911020,1850,  22.7500, -158.0000,  4789,   71.700,   25.066,   35.160,2,   35.161,2,  215.300,2,  216.000,2,    1.520,2,    0.000,2,    0.040,2, -999.000
           NA,HOT timeseries 1988to2019 27SEP2021,     28,  99,-999.0,      20,-999.0,19911020,1850,  22.7500, -158.0000,  4789,   92.200,   23.624,   35.163,2,   35.157,2,  216.900,2,  219.200,2,    1.310,2,    0.000,2,    0.060,2, -999.000
           NA,HOT timeseries 1988to2019 27SEP2021,     28,  99,-999.0,      19,-999.0,19911020,1850,  22.7500, -158.0000,  4789,  112.300,   21.809,   35.220,2,   35.213,2,  224.800,2,  221.900,2,    1.750,2,    0.080,2,    0.070,2, -999.000
           NA,HOT timeseries 1988to2019 27SEP2021,     28,  99,-999.0,      18,-999.0,19911020,1850,  22.7500, -158.0000,  4789,  129.100,   20.587,   35.212,2,   35.211,2,  218.000,2,  217.000,2,    1.640,2,    0.230,2,    0.100,2, -999.000
           NA,HOT timeseries 1988to2019 27SEP2021,     28,  99,-999.0,      17,-999.0,19911020,1850,  22.7500, -158.0000,  4789,  159.800,   18.977,   35.122,2,   35.120,2,  217.800,2,  216.100,2,    1.970,2,    0.570,2,    0.110,2, -999.000
           NA,HOT timeseries 1988to2019 27SEP2021,     28,  99,-999.0,      15,-999.0,19911020,1850,  22.7500, -158.0000,  4789,  209.500,   16.669,   34.805,2,   34.798,2,  206.700,2,  205.400,2, -999.000,5, -999.000,5, -999.000,5, -999.000
           NA,HOT timeseries 1988to2019 27SEP2021,     28,  99,-999.0,      16,-999.0,19911020,1850,  22.7500, -158.0000,  4789,  218.900,   16.136,   34.725,2,   34.719,2,  199.900,2,  197.900,2,    4.580,2,    4.780,2,    0.400,2, -999.000
           NA,HOT timeseries 1988to2019 27SEP2021,     28,  99,-999.0,      14,-999.0,19911020,1850,  22.7500, -158.0000,  4789,  224.700,   16.102,   34.723,2,   34.722,2,  199.900,2,  199.400,2,    4.370,2,    4.780,2,    0.390,2, -999.000
           NA,HOT timeseries 1988to2019 27SEP2021,     28,  99,-999.0,      13,-999.0,19911020,1850,  22.7500, -158.0000,  4789,  232.700,   15.344,   34.617,2,   34.615,2,  193.500,2,  194.600,2, -999.000,5, -999.000,5, -999.000,5, -999.000
           NA,HOT timeseries 1988to2019 27SEP2021,     28,  99,-999.0,      12,-999.0,19911020,1850,  22.7500, -158.0000,  4789,  249.100,   14.248,   34.481,2,   34.482,2,  196.100,2,  194.500,2,    6.770,2,    7.660,2,    0.600,2, -999.000
           NA,HOT timeseries 1988to2019 27SEP2021,     28,  99,-999.0,      22,-999.0,19911020,1850,  22.7500, -158.0000,  4789,  251.000,   14.626,   34.528,2,   34.524,2,  194.300,2,  195.300,2,    5.680,2,    7.220,2,    0.600,2, -999.000
           NA,HOT timeseries 1988to2019 27SEP2021,     28,  99,-999.0,      15,-999.0,19911020,1850,  22.7500, -158.0000,  4789,  265.900,   13.934,   34.448,2,   34.443,2,  198.700,2,  196.200,2,    7.200,2,    8.060,2,    0.640,2, -999.000
           NA,HOT timeseries 1988to2019 27SEP2021,     28,  99,-999.0,      11,-999.0,19911020,1850,  22.7500, -158.0000,  4789,  274.400,   13.188,   34.389,2,   34.386,2,  203.600,2,  200.900,2,    8.730,2,    9.250,2,    0.690,2, -999.000
           NA,HOT timeseries 1988to2019 27SEP2021,     28,  99,-999.0,      10,-999.0,19911020,1850,  22.7500, -158.0000,  4789,  300.100,   12.423,   34.319,2,   34.316,2,  203.500,2,  202.200,2,   10.470,2,   10.650,2,    0.800,2, -999.000
           NA,HOT timeseries 1988to2019 27SEP2021,     28,  99,-999.0,      14,-999.0,19911020,1850,  22.7500, -158.0000,  4789,  309.600,   12.173,   34.296,2,   34.297,2,  204.800,2,  202.400,2,   10.910,2,   11.020,2,    0.820,2, -999.000
           NA,HOT timeseries 1988to2019 27SEP2021,     28,  99,-999.0,       9,-999.0,19911020,1850,  22.7500, -158.0000,  4789,  325.600,   11.456,   34.249,2,   34.248,2,  207.500,2,  204.900,2,   13.100,2,   12.490,2,    0.920,2, -999.000
           NA,HOT timeseries 1988to2019 27SEP2021,     28,  99,-999.0,       8,-999.0,19911020,1850,  22.7500, -158.0000,  4789,  349.300,   11.097,   34.225,2,   34.223,2,  207.800,2,  205.300,2,   14.190,2,   13.220,2,    0.960,2, -999.000
           NA,HOT timeseries 1988to2019 27SEP2021,     28,  99,-999.0,      13,-999.0,19911020,1850,  22.7500, -158.0000,  4789,  355.500,   11.070,   34.224,2,   34.222,2,  207.500,2,  205.500,2,   14.630,2,   13.100,2,    0.960,2, -999.000
           NA,HOT timeseries 1988to2019 27SEP2021,     28,  99,-999.0,       7,-999.0,19911020,1850,  22.7500, -158.0000,  4789,  399.800,    9.599,   34.134,2,   34.136,2,  194.700,2,  192.400,2,   21.390,2,   17.640,2,    1.250,2, -999.000
           NA,HOT timeseries 1988to2019 27SEP2021,     28,  99,-999.0,      12,-999.0,19911020,1850,  22.7500, -158.0000,  4789,  406.700,    9.204,   34.114,2,   34.113,2,  183.700,2,  183.200,2,   24.670,2,   19.110,2,    1.380,2, -999.000
           NA,HOT timeseries 1988to2019 27SEP2021,     28,  99,-999.0,      21,-999.0,19911020,1850,  22.7500, -158.0000,  4789,  481.200,    7.476,   34.061,2,   34.064,2,  133.700,2,  134.700,2,   41.050,2,   27.060,2,    1.940,2, -999.000
           NA,HOT timeseries 1988to2019 27SEP2021,     28,  99,-999.0,      11,-999.0,19911020,1850,  22.7500, -158.0000,  4789,  500.700,    7.128,   34.059,2,   34.058,2,  124.100,2,  122.500,2,   46.510,2,   28.720,2,    2.060,2, -999.000
           NA,HOT timeseries 1988to2019 27SEP2021,     28,  99,-999.0,       6,-999.0,19911020,1850,  22.7500, -158.0000,  4789,  506.900,    7.434,   34.060,2,   34.058,2,  135.100,2,  133.000,2,   42.790,2,   27.540,2,    1.970,2, -999.000
           NA,HOT timeseries 1988to2019 27SEP2021,     28,  99,-999.0,      10,-999.0,19911020,1850,  22.7500, -158.0000,  4789,  522.800,    6.517,   34.067,2,   34.066,2,   98.500,2,   97.900,2,   55.890,2,   31.970,2,    2.320,2, -999.000
           NA,HOT timeseries 1988to2019 27SEP2021,     28,  99,-999.0,       9,-999.0,19911020,1850,  22.7500, -158.0000,  4789,  582.300,    5.953,   34.105,2,   34.105,2,   72.800,2,   70.600,2,   66.810,2,   35.400,2,    2.580,2, -999.000
           NA,HOT timeseries 1988to2019 27SEP2021,     28,  99,-999.0,       8,-999.0,19911020,1850,  22.7500, -158.0000,  4789,  616.200,    5.529,   34.161,2,   34.159,2,   51.800,2,   50.000,2,   75.980,2,   37.720,2,    2.780,2, -999.000
           NA,HOT timeseries 1988to2019 27SEP2021,     28,  99,-999.0,       7,-999.0,19911020,1850,  22.7500, -158.0000,  4789,  677.700,    5.149,   34.239,2,   34.240,2,   38.800,2,   36.800,2,   85.800,2,   39.560,2,    2.890,2, -999.000
           NA,HOT timeseries 1988to2019 27SEP2021,     28,  99,-999.0,      25,-999.0,19911020,1850,  22.7500, -158.0000,  4789,  705.100,    5.105,   34.246,2,   34.247,2,   37.500,2,   35.500,2,   87.540,2,   40.160,2,    2.920,2, -999.000
           NA,HOT timeseries 1988to2019 27SEP2021,     28,  99,-999.0,       6,-999.0,19911020,1850,  22.7500, -158.0000,  4789,  763.600,    4.744,   34.315,2,   34.312,2,   32.000,2,   30.900,2,   95.180,2,   40.900,2,    2.990,2, -999.000
           NA,HOT timeseries 1988to2019 27SEP2021,     28,  99,-999.0,      26,-999.0,19911020,1850,  22.7500, -158.0000,  4789,  763.600,    4.744,   34.315,2,   34.312,2,   32.000,2,   31.100,2,   95.180,2,   40.900,2,    2.990,2, -999.000
           NA,HOT timeseries 1988to2019 27SEP2021,     28,  99,-999.0,       3,-999.0,19911020,1850,  22.7500, -158.0000,  4789,  807.300,    4.653,   34.338,2,   34.343,2,   30.000,2,   28.200,2,   98.010,2,   41.820,2,    3.020,2, -999.000
           NA,HOT timeseries 1988to2019 27SEP2021,     28,  99,-999.0,      25,-999.0,19911020,1850,  22.7500, -158.0000,  4789,  859.700,    4.413,   34.396,2,   34.393,2,   34.900,2,   32.800,2,  103.250,2,   41.880,2,    3.020,2, -999.000
           NA,HOT timeseries 1988to2019 27SEP2021,     28,  99,-999.0,       3,-999.0,19911020,1850,  22.7500, -158.0000,  4789,  900.300,    4.285,   34.428,2,   34.426,2,   35.500,2,   34.100,2,  104.990,2,   41.880,2,    3.030,2, -999.000
           NA,HOT timeseries 1988to2019 27SEP2021,     28,  99,-999.0,       2,-999.0,19911020,1850,  22.7500, -158.0000,  4789,  907.000,    4.292,   34.427,2,   34.428,2,   35.400,2,   33.800,2,  105.420,2,   42.120,2,    3.030,2, -999.000
           NA,HOT timeseries 1988to2019 27SEP2021,     28,  99,-999.0,       2,-999.0,19911020,1850,  22.7500, -158.0000,  4789,  950.600,    4.173,   34.455,2,   34.456,2,   38.300,2,   36.900,2,  107.610,2,   41.880,2,    3.030,2, -999.000
           NA,HOT timeseries 1988to2019 27SEP2021,     28,  99,-999.0,       1,-999.0,19911020,1850,  22.7500, -158.0000,  4789, 1023.000,    3.997,   34.482,2,   34.483,2,   43.300,2,   41.500,2,  110.880,2,   41.850,2,    3.030,2, -999.000
           NA,HOT timeseries 1988to2019 27SEP2021,     28,  99,-999.0,       1,-999.0,19911020,1850,  22.7500, -158.0000,  4789, 1033.200,    3.928,   34.488,2,   34.488,2,   43.600,2,   42.300,2,  112.630,2,   41.990,2,    3.030,2, -999.000
           NA,HOT timeseries 1988to2019 27SEP2021,     28,  99,-999.0,      20,-999.0,19911020,1850,  22.7500, -158.0000,  4789, 1200.700,    3.549,   34.523,2,   34.524,2,   51.300,2,   50.700,2,  119.600,2,   41.570,2,    3.000,2, -999.000
           NA,HOT timeseries 1988to2019 27SEP2021,     28,  99,-999.0,      19,-999.0,19911020,1850,  22.7500, -158.0000,  4789, 1399.400,    3.050,   34.557,2,   34.558,2,   62.600,2,   60.900,2,  130.520,2,   41.260,2,    2.970,2, -999.000
           NA,HOT timeseries 1988to2019 27SEP2021,     28,  99,-999.0,      18,-999.0,19911020,1850,  22.7500, -158.0000,  4789, 1601.700,    2.652,   34.581,2,   34.583,2,   71.100,2,   70.400,2,  139.250,2,   41.010,2,    2.930,2, -999.000
           NA,HOT timeseries 1988to2019 27SEP2021,     28,  99,-999.0,      17,-999.0,19911020,1850,  22.7500, -158.0000,  4789, 1801.300,    2.335,   34.600,2,   34.602,2,   79.200,2,   80.200,2,  146.450,2,   40.400,2,    2.890,2, -999.000
           NA,HOT timeseries 1988to2019 27SEP2021,     28,  99,-999.0,      16,-999.0,19911020,1850,  22.7500, -158.0000,  4789, 2002.200,    2.088,   34.617,2,   34.620,2,   86.400,2,   86.900,2,  151.790,2,   40.030,2,    2.860,2, -999.000
           NA,HOT timeseries 1988to2019 27SEP2021,     28,  99,-999.0,      15,-999.0,19911020,1850,  22.7500, -158.0000,  4789, 2197.400,    1.909,   34.631,2, -999.000,4, -999.000,3,   94.600,2,  157.800,2,   39.540,2,    2.800,2, -999.000
           NA,HOT timeseries 1988to2019 27SEP2021,     28,  99,-999.0,      14,-999.0,19911020,1850,  22.7500, -158.0000,  4789, 2395.800,    1.785,   34.641,2, -999.000,4, -999.000,3,  101.500,2,  158.450,2,   39.170,2,    2.760,2, -999.000
           NA,HOT timeseries 1988to2019 27SEP2021,     28,  99,-999.0,      13,-999.0,19911020,1850,  22.7500, -158.0000,  4789, 2598.700,    1.676,   34.652,2, -999.000,3, -999.000,3,  113.000,2,  158.880,2,   38.440,2,    2.710,2, -999.000
           NA,HOT timeseries 1988to2019 27SEP2021,     28,  99,-999.0,      12,-999.0,19911020,1850,  22.7500, -158.0000,  4789, 2801.000,    1.607,   34.660,2,   34.661,2,  120.600,2,  120.200,2,  158.880,2,   38.070,2,    2.670,2, -999.000
           NA,HOT timeseries 1988to2019 27SEP2021,     28,  99,-999.0,      11,-999.0,19911020,1850,  22.7500, -158.0000,  4789, 2997.300,    1.553,   34.666,2,   34.666,2,  124.700,2,  125.000,2,  159.530,2,   37.820,2,    2.640,2, -999.000
           NA,HOT timeseries 1988to2019 27SEP2021,     28,  99,-999.0,      10,-999.0,19911020,1850,  22.7500, -158.0000,  4789, 3190.400,    1.507,   34.671,2,   34.672,2,  129.100,2,  131.100,2,  158.450,2,   37.340,2,    2.610,2, -999.000
           NA,HOT timeseries 1988to2019 27SEP2021,     28,  99,-999.0,       9,-999.0,19911020,1850,  22.7500, -158.0000,  4789, 3399.000,    1.472,   34.676,2,   34.676,2,  136.100,2,  137.400,2,  156.700,2,   36.850,2,    2.580,2, -999.000
           NA,HOT timeseries 1988to2019 27SEP2021,     28,  99,-999.0,       8,-999.0,19911020,1850,  22.7500, -158.0000,  4789, 3576.200,    1.461,   34.679,2,   34.677,2,  140.700,2,  141.400,2,  155.390,2,   36.600,2,    2.560,2, -999.000
           NA,HOT timeseries 1988to2019 27SEP2021,     28,  99,-999.0,       7,-999.0,19911020,1850,  22.7500, -158.0000,  4789, 3798.200,    1.449,   34.682,2,   34.682,2,  145.800,2,  146.100,2,  152.990,2,   36.230,2,    2.540,2, -999.000
           NA,HOT timeseries 1988to2019 27SEP2021,     28,  99,-999.0,       6,-999.0,19911020,1850,  22.7500, -158.0000,  4789, 4000.100,    1.453,   34.684,2,   34.683,2,  148.700,2,  148.500,2,  150.800,2,   36.110,2,    2.530,2, -999.000
           NA,HOT timeseries 1988to2019 27SEP2021,     28,  99,-999.0,      26,-999.0,19911020,1850,  22.7500, -158.0000,  4789, 4187.300,    1.462,   34.685,2,   34.686,2,  150.700,2,  150.400,2,  150.800,2,   35.990,2,    2.560,2, -999.000
           NA,HOT timeseries 1988to2019 27SEP2021,     28,  99,-999.0,      25,-999.0,19911020,1850,  22.7500, -158.0000,  4789, 4398.400,    1.478,   34.686,2,   34.685,2,  153.100,2,  151.600,2,  149.930,2,   35.870,2,    2.510,2, -999.000
           NA,HOT timeseries 1988to2019 27SEP2021,     28,  99,-999.0,       3,-999.0,19911020,1850,  22.7500, -158.0000,  4789, 4499.700,    1.486,   34.686,2,   34.687,2,  151.100,2,  151.900,2,  149.270,2,   35.740,2,    2.500,2, -999.000
           NA,HOT timeseries 1988to2019 27SEP2021,     28,  99,-999.0,       2,-999.0,19911020,1850,  22.7500, -158.0000,  4789, 4601.800,    1.496,   34.687,2,   34.686,2,  153.000,2,  153.700,2,  149.060,2,   35.740,2,    2.500,2, -999.000
           NA,HOT timeseries 1988to2019 27SEP2021,     28,  99,-999.0,       1,-999.0,19911020,1850,  22.7500, -158.0000,  4789, 4750.900,    1.506,   34.687,2,   34.688,2,  155.300,2,  153.700,2,  147.960,2,   35.630,2,    2.490,2, -999.000