BOTTLE,20214727JOAExport
EXPOCODE,SECT_ID,STNNBR,CASTNO,SAMPNO,BTLNBR,BTLNBR_FLAG_W,DATE,TIME,LATITUDE,LONGITUDE,DEPTH,CTDPRS,CTDTMP,CTDSAL,CTDSAL_FLAG_W,SALNTY,SALNTY_FLAG_W,CTDOXY,CTDOXY_FLAG_W,OXYGEN,OXYGEN_FLAG_W,SILCAT,SILCAT_FLAG_W,NINI,NINI_FLAG_W,PHSPHT,PHSPHT_FLAG_W,REVP
,,,,,,,,,,,,DB,IPTS-68,PSS-78,,PSS-78,,UMOL/KG,,UMOL/KG,,UMOL/KG,,UMOL/KG,,UMOL/KG,,DBAR
           NA,HOT timeseries 1988to2019 27SEP2021,    215,  99,-999.0,    8024,-999.0,20110412,0116,  22.7498, -158.0000,  4742,    6.900,   24.073,   35.067,2,   35.068,2,  210.000,2,  211.100,2,    1.070,2,    0.000,2,    0.090,2, -999.000
           NA,HOT timeseries 1988to2019 27SEP2021,    215,  99,-999.0,    8023,-999.0,20110412,0116,  22.7498, -158.0000,  4742,   42.600,   23.953,   35.114,2, -999.000,4, -999.000,3,  212.300,2,    1.040,2,    0.010,2,    0.090,2, -999.000
           NA,HOT timeseries 1988to2019 27SEP2021,    215,  99,-999.0,    8022,-999.0,20110412,0116,  22.7498, -158.0000,  4742,   82.500,   23.816,   35.205,2,   35.205,2,  211.600,2,  211.600,2,    1.040,2,    0.000,2,    0.080,2, -999.000
           NA,HOT timeseries 1988to2019 27SEP2021,    215,  99,-999.0,    8021,-999.0,20110412,0116,  22.7498, -158.0000,  4742,  140.800,   22.070,   35.324,2,   35.328,2,  201.900,2,  202.600,2,    1.320,2,    0.410,2,    0.110,2, -999.000
           NA,HOT timeseries 1988to2019 27SEP2021,    215,  99,-999.0,    8020,-999.0,20110412,0116,  22.7498, -158.0000,  4742,  156.000,   21.629,   35.345,2,   35.339,2,  201.900,2,  200.900,2,    1.420,2,    0.700,2,    0.110,2, -999.000
           NA,HOT timeseries 1988to2019 27SEP2021,    215,  99,-999.0,    8019,-999.0,20110412,0116,  22.7498, -158.0000,  4742,  186.000,   19.810,   35.174,2, -999.000,4, -999.000,3,  201.700,2,    1.990,2,    1.280,2,    0.130,2, -999.000
           NA,HOT timeseries 1988to2019 27SEP2021,    215,  99,-999.0,    8017,-999.0,20110412,0116,  22.7498, -158.0000,  4742,  272.400,   15.930,   34.594,2,   34.593,2,  202.100,2,  202.200,2,    4.750,2,    4.600,2,    0.400,2, -999.000
           NA,HOT timeseries 1988to2019 27SEP2021,    215,  99,-999.0,    8016,-999.0,20110412,0116,  22.7498, -158.0000,  4742,  330.000,   13.107,   34.327,2,   34.329,2,  218.900,2,  219.700,2,    8.620,2,    7.950,2, -999.000,3, -999.000
           NA,HOT timeseries 1988to2019 27SEP2021,    215,  99,-999.0,    8015,-999.0,20110412,0116,  22.7498, -158.0000,  4742,  349.700,   12.475,   34.294,2,   34.297,2,  217.800,2,  216.800,2,   10.180,2,    9.600,2, -999.000,3, -999.000
           NA,HOT timeseries 1988to2019 27SEP2021,    215,  99,-999.0,    8014,-999.0,20110412,0116,  22.7498, -158.0000,  4742,  393.300,   11.080,   34.204,2,   34.208,2,  199.100,2,  198.300,2,   15.210,2,   13.950,2,    0.980,2, -999.000
           NA,HOT timeseries 1988to2019 27SEP2021,    215,  99,-999.0,    8025,-999.0,20110412,0116,  22.7498, -158.0000,  4742,  449.700,    8.813,   34.085,2,   34.085,2,  145.400,2,  146.100,2,   30.400,2,   23.010,2,    1.660,2, -999.000
           NA,HOT timeseries 1988to2019 27SEP2021,    215,  99,-999.0,    8012,-999.0,20110412,0116,  22.7498, -158.0000,  4742,  508.100,    7.461,   34.074,2,   34.072,2,  110.000,2,  109.400,2,   44.390,2,   28.940,2,    2.080,2, -999.000
           NA,HOT timeseries 1988to2019 27SEP2021,    215,  99,-999.0,    8011,-999.0,20110412,0116,  22.7498, -158.0000,  4742,  510.300,    7.344,   34.076,2,   34.075,2,  108.200,2, -999.000,3,   46.520,2,   29.750,2,    2.120,2, -999.000
           NA,HOT timeseries 1988to2019 27SEP2021,    215,  99,-999.0,    8010,-999.0,20110412,0116,  22.7498, -158.0000,  4742,  542.500,    6.706,   34.078,2,   34.077,2,   88.400,2,   87.400,2,   54.580,2,   32.450,2,    2.340,2, -999.000
           NA,HOT timeseries 1988to2019 27SEP2021,    215,  99,-999.0,    8009,-999.0,20110412,0116,  22.7498, -158.0000,  4742,  582.100,    6.235,   34.137,2,   34.137,2,   58.700,2,   58.500,2,   63.870,2,   35.740,2,    2.600,2, -999.000
           NA,HOT timeseries 1988to2019 27SEP2021,    215,  99,-999.0,    8008,-999.0,20110412,0116,  22.7498, -158.0000,  4742,  641.700,    5.832,   34.214,2,   34.213,2,   39.200,2,   37.500,2,   72.910,2,   38.150,2,    2.800,2, -999.000
           NA,HOT timeseries 1988to2019 27SEP2021,    215,  99,-999.0,    8026,-999.0,20110412,0116,  22.7498, -158.0000,  4742,  692.500,    5.403,   34.273,2,   34.271,2,   29.700,2,   29.100,2,   81.930,2,   39.780,2,    2.920,2, -999.000
           NA,HOT timeseries 1988to2019 27SEP2021,    215,  99,-999.0,    8005,-999.0,20110412,0116,  22.7498, -158.0000,  4742,  773.100,    5.041,   34.368,2,   34.366,2,   27.000,2,   27.200,2,   89.700,2,   40.910,2,    2.990,2, -999.000
           NA,HOT timeseries 1988to2019 27SEP2021,    215,  99,-999.0,    8004,-999.0,20110412,0116,  22.7498, -158.0000,  4742,  819.400,    4.877,   34.409,2, -999.000,4, -999.000,3,   30.700,2,   93.260,2,   41.060,2,    2.990,2, -999.000
           NA,HOT timeseries 1988to2019 27SEP2021,    215,  99,-999.0,    8003,-999.0,20110412,0116,  22.7498, -158.0000,  4742,  865.700,    4.707,   34.431,2,   34.431,2,   33.100,2,   32.800,2,   96.530,2,   41.140,2,    2.990,2, -999.000
           NA,HOT timeseries 1988to2019 27SEP2021,    215,  99,-999.0,    8002,-999.0,20110412,0116,  22.7498, -158.0000,  4742,  942.400,    4.406,   34.471,2,   34.471,2,   37.300,2,   37.200,2,  101.890,2,   41.360,2,    2.990,2, -999.000
           NA,HOT timeseries 1988to2019 27SEP2021,    215,  99,-999.0,    8001,-999.0,20110412,0116,  22.7498, -158.0000,  4742, 1019.000,    4.172,   34.488,2,   34.488,2,   41.500,2,   41.700,2,  106.290,2,   41.280,2,    2.980,2, -999.000
           NA,HOT timeseries 1988to2019 27SEP2021,    215,  99,-999.0,    8020,-999.0,20110412,0116,  22.7498, -158.0000,  4742, 1198.500,    3.730,   34.523,2,   34.522,2,   47.900,2,   48.200,2, -999.000,3,   41.390,2,    3.010,2, -999.000
           NA,HOT timeseries 1988to2019 27SEP2021,    215,  99,-999.0,    8019,-999.0,20110412,0116,  22.7498, -158.0000,  4742, 1399.500,    3.261,   34.547,2,   34.547,2,   59.400,2,   59.300,2, -999.000,3,   40.740,2,    2.950,2, -999.000
           NA,HOT timeseries 1988to2019 27SEP2021,    215,  99,-999.0,    8018,-999.0,20110412,0116,  22.7498, -158.0000,  4742, 1601.100,    2.843,   34.570,2,   34.571,2,   68.500,2,   68.800,2, -999.000,3,   40.180,2,    2.910,2, -999.000
           NA,HOT timeseries 1988to2019 27SEP2021,    215,  99,-999.0,    8017,-999.0,20110412,0116,  22.7498, -158.0000,  4742, 1800.500,    2.508,   34.590,2,   34.591,2,   76.000,2,   76.700,2, -999.000,3,   39.860,2,    2.860,2, -999.000
           NA,HOT timeseries 1988to2019 27SEP2021,    215,  99,-999.0,    8016,-999.0,20110412,0116,  22.7498, -158.0000,  4742, 1999.200,    2.247,   34.610,2,   34.611,2,   84.100,2,   85.100,2,  149.910,2,   39.520,2,    2.830,2, -999.000
           NA,HOT timeseries 1988to2019 27SEP2021,    215,  99,-999.0,    8015,-999.0,20110412,0116,  22.7498, -158.0000,  4742, 2199.800,    2.028,   34.627,2,   34.627,2,   91.800,2,   93.300,2,  155.120,2,   39.190,2,    2.780,2, -999.000
           NA,HOT timeseries 1988to2019 27SEP2021,    215,  99,-999.0,    8014,-999.0,20110412,0116,  22.7498, -158.0000,  4742, 2401.000,    1.890,   34.639,2,   34.640,2,   99.300,2,  100.000,2,  156.990,2,   38.670,2,    2.750,2, -999.000
           NA,HOT timeseries 1988to2019 27SEP2021,    215,  99,-999.0,    8025,-999.0,20110412,0116,  22.7498, -158.0000,  4742, 2599.000,    1.781,   34.647,2,   34.648,2,  106.300,2,  106.900,2,  159.250,2,   38.390,2,    2.710,2, -999.000
           NA,HOT timeseries 1988to2019 27SEP2021,    215,  99,-999.0,    8012,-999.0,20110412,0116,  22.7498, -158.0000,  4742, 2799.500,    1.688,   34.656,2,   34.655,2,  111.900,2,  112.900,2,  159.990,2,   38.100,2,    2.670,2, -999.000
           NA,HOT timeseries 1988to2019 27SEP2021,    215,  99,-999.0,    8011,-999.0,20110412,0116,  22.7498, -158.0000,  4742, 3000.400,    1.623,   34.662,2,   34.661,2,  117.700,2,  118.500,2,  159.180,2,   37.610,2,    2.650,2, -999.000
           NA,HOT timeseries 1988to2019 27SEP2021,    215,  99,-999.0,    8010,-999.0,20110412,0116,  22.7498, -158.0000,  4742, 3199.900,    1.554,   34.670,2,   34.670,2,  125.700,2,  126.300,2,  158.420,2,   37.130,2,    2.610,2, -999.000
           NA,HOT timeseries 1988to2019 27SEP2021,    215,  99,-999.0,    8009,-999.0,20110412,0116,  22.7498, -158.0000,  4742, 3399.700,    1.514,   34.676,2,   34.676,2,  131.700,2,  131.900,2,  156.490,2,   36.800,2,    2.580,2, -999.000
           NA,HOT timeseries 1988to2019 27SEP2021,    215,  99,-999.0,    8008,-999.0,20110412,0116,  22.7498, -158.0000,  4742, 3598.900,    1.491,   34.680,2,   34.679,2,  136.500,2,  136.400,2,  154.780,2,   36.550,2,    2.550,2, -999.000
           NA,HOT timeseries 1988to2019 27SEP2021,    215,  99,-999.0,    8026,-999.0,20110412,0116,  22.7498, -158.0000,  4742, 3799.400,    1.475,   34.682,2,   34.682,2,  141.100,2,  141.300,2,  152.930,2,   36.270,2,    2.530,2, -999.000
           NA,HOT timeseries 1988to2019 27SEP2021,    215,  99,-999.0,    8006,-999.0,20110412,0116,  22.7498, -158.0000,  4742, 3998.000,    1.465,   34.685,2,   34.685,2,  145.900,2,  145.500,2,  150.850,2,   35.810,2,    2.500,2, -999.000
           NA,HOT timeseries 1988to2019 27SEP2021,    215,  99,-999.0,    8005,-999.0,20110412,0116,  22.7498, -158.0000,  4742, 4197.700,    1.471,   34.687,2,   34.686,2,  148.600,2,  148.200,2,  150.040,2,   35.690,2,    2.480,2, -999.000
           NA,HOT timeseries 1988to2019 27SEP2021,    215,  99,-999.0,    8004,-999.0,20110412,0116,  22.7498, -158.0000,  4742, 4400.500,    1.482,   34.688,2,   34.687,2,  150.600,2,  150.100,2,  148.970,2,   35.490,2,    2.470,2, -999.000
           NA,HOT timeseries 1988to2019 27SEP2021,    215,  99,-999.0,    8003,-999.0,20110412,0116,  22.7498, -158.0000,  4742, 4498.700,    1.487,   34.688,2,   34.688,2,  151.600,2,  151.100,2,  148.780,2,   35.560,2,    2.470,2, -999.000
           NA,HOT timeseries 1988to2019 27SEP2021,    215,  99,-999.0,    8002,-999.0,20110412,0116,  22.7498, -158.0000,  4742, 4600.400,    1.493,   34.688,2,   34.689,2,  152.800,2,  153.000,2,  148.380,2,   35.770,2,    2.470,2, -999.000
           NA,HOT timeseries 1988to2019 27SEP2021,    215,  99,-999.0,    8001,-999.0,20110412,0116,  22.7498, -158.0000,  4742, 4807.600,    1.509,   34.689,2,   34.690,2,  154.300,2,  153.300,2,  147.370,2,   35.440,2,    2.450,2, -999.000