BOTTLE,20214727JOAExport
EXPOCODE,SECT_ID,STNNBR,CASTNO,SAMPNO,BTLNBR,BTLNBR_FLAG_W,DATE,TIME,LATITUDE,LONGITUDE,DEPTH,CTDPRS,CTDTMP,CTDSAL,CTDSAL_FLAG_W,SALNTY,SALNTY_FLAG_W,CTDOXY,CTDOXY_FLAG_W,OXYGEN,OXYGEN_FLAG_W,SILCAT,SILCAT_FLAG_W,NINI,NINI_FLAG_W,PHSPHT,PHSPHT_FLAG_W,REVP
,,,,,,,,,,,,DB,IPTS-68,PSS-78,,PSS-78,,UMOL/KG,,UMOL/KG,,UMOL/KG,,UMOL/KG,,UMOL/KG,,DBAR
           NA,HOT timeseries 1988to2019 27SEP2021,     98,  99,-999.0,      31,-999.0,19990217,2058,  22.7633, -157.9968,  4719,    5.700,   23.097,   35.350,2,   35.351,2,  213.300,2,  213.000,2,    1.790,2,    0.000,2,    0.090,2, -999.000
           NA,HOT timeseries 1988to2019 27SEP2021,     98,  99,-999.0,      31,-999.0,19990217,2058,  22.7633, -157.9968,  4719,    5.900,   23.270,   35.353,2,   35.355,2,  210.400,2,  213.500,2,    1.700,2,    0.000,2,    0.080,2, -999.000
           NA,HOT timeseries 1988to2019 27SEP2021,     98,  99,-999.0,      30,-999.0,19990217,2058,  22.7633, -157.9968,  4719,   61.300,   22.934,   35.350,2,   35.349,2,  214.400,2,  213.000,2,    1.670,2,    0.000,2,    0.080,2, -999.000
           NA,HOT timeseries 1988to2019 27SEP2021,     98,  99,-999.0,      22,-999.0,19990217,2058,  22.7633, -157.9968,  4719,  121.700,   22.397,   35.405,2,   35.409,2,  200.800,2,  211.900,2,    2.920,2,    0.050,2,    0.070,2, -999.000
           NA,HOT timeseries 1988to2019 27SEP2021,     98,  99,-999.0,      21,-999.0,19990217,2058,  22.7633, -157.9968,  4719,  168.800,   19.073,   34.991,2,   34.991,2,  193.300,2,  195.400,2,    2.900,2,    2.160,2,    0.240,2, -999.000
           NA,HOT timeseries 1988to2019 27SEP2021,     98,  99,-999.0,      20,-999.0,19990217,2058,  22.7633, -157.9968,  4719,  201.400,   17.109,   34.776,2,   34.777,2,  199.900,2,  198.500,2,    4.250,2,    3.550,2,    0.320,2, -999.000
           NA,HOT timeseries 1988to2019 27SEP2021,     98,  99,-999.0,      19,-999.0,19990217,2058,  22.7633, -157.9968,  4719,  243.700,   15.474,   34.625,2,   34.625,2,  216.200,2,  208.300,2,    5.470,2,    4.750,2,    0.400,2, -999.000
           NA,HOT timeseries 1988to2019 27SEP2021,     98,  99,-999.0,      18,-999.0,19990217,2058,  22.7633, -157.9968,  4719,  292.300,   13.750,   34.414,2,   34.415,2,  203.800,2,  203.500,2,    7.820,2,    7.670,2,    0.600,2, -999.000
           NA,HOT timeseries 1988to2019 27SEP2021,     98,  99,-999.0,      17,-999.0,19990217,2058,  22.7633, -157.9968,  4719,  331.900,   11.854,   34.234,2,   34.238,2,  188.700,2,  197.900,2,   11.990,2,   11.740,2,    0.860,2, -999.000
           NA,HOT timeseries 1988to2019 27SEP2021,     98,  99,-999.0,      16,-999.0,19990217,2058,  22.7633, -157.9968,  4719,  382.100,   10.543,   34.136,2,   34.137,2,  190.000,2,  189.700,2,   16.680,2,   15.330,2,    1.110,2, -999.000
           NA,HOT timeseries 1988to2019 27SEP2021,     98,  99,-999.0,      15,-999.0,19990217,2058,  22.7633, -157.9968,  4719,  410.700,    9.738,   34.096,2,   34.097,2,  174.300,2,  182.000,2,   20.750,2,   17.840,2,    1.280,2, -999.000
           NA,HOT timeseries 1988to2019 27SEP2021,     98,  99,-999.0,      14,-999.0,19990217,2058,  22.7633, -157.9968,  4719,  438.300,    8.965,   34.076,2,   34.077,2,  189.400,2,  176.200,2,   25.690,2,   20.220,2,    1.440,2, -999.000
           NA,HOT timeseries 1988to2019 27SEP2021,     98,  99,-999.0,      13,-999.0,19990217,2058,  22.7633, -157.9968,  4719,  505.900,    7.453,   34.034,2,   34.038,2,  144.500,2,  143.200,2,   39.380,2,   26.000,2,    1.890,2, -999.000
           NA,HOT timeseries 1988to2019 27SEP2021,     98,  99,-999.0,      30,-999.0,19990217,2058,  22.7633, -157.9968,  4719,  541.300,    6.961,   34.030,2,   34.030,2,  117.900,2,  122.800,2,   45.900,2,   28.350,2,    2.030,2, -999.000
           NA,HOT timeseries 1988to2019 27SEP2021,     98,  99,-999.0,      12,-999.0,19990217,2058,  22.7633, -157.9968,  4719,  546.300,    6.680,   34.032,2,   34.032,2,  116.700,2,  111.200,2,   50.440,2,   30.580,2,    2.210,2, -999.000
           NA,HOT timeseries 1988to2019 27SEP2021,     98,  99,-999.0,      11,-999.0,19990217,2058,  22.7633, -157.9968,  4719,  602.900,    5.805,   34.064,2,   34.064,2,   75.900,2,   75.000,2,   65.730,2,   35.450,2,    2.570,2, -999.000
           NA,HOT timeseries 1988to2019 27SEP2021,     98,  99,-999.0,      32,-999.0,19990217,2058,  22.7633, -157.9968,  4719,  655.600,    5.221,   34.128,2,   34.128,2,   43.900,2,   45.600,2,   79.350,2,   38.910,2,    2.820,2, -999.000
           NA,HOT timeseries 1988to2019 27SEP2021,     98,  99,-999.0,       3,-999.0,19990217,2058,  22.7633, -157.9968,  4719,  703.500,    4.900,   34.204,2,   34.205,2,   33.200,2,   31.600,2,   87.970,2,   40.420,2,    2.970,2, -999.000
           NA,HOT timeseries 1988to2019 27SEP2021,     98,  99,-999.0,      29,-999.0,19990217,2058,  22.7633, -157.9968,  4719,  735.000,    4.717,   34.254,2,   34.254,2,   27.600,2,   25.700,2,   93.410,2,   41.350,2,    3.040,2, -999.000
           NA,HOT timeseries 1988to2019 27SEP2021,     98,  99,-999.0,      28,-999.0,19990217,2058,  22.7633, -157.9968,  4719,  773.600,    4.610,   34.299,2,   34.298,2,   26.500,2,   24.300,2,   96.430,2,   41.550,2,    3.050,2, -999.000
           NA,HOT timeseries 1988to2019 27SEP2021,     98,  99,-999.0,       7,-999.0,19990217,2058,  22.7633, -157.9968,  4719,  801.800,    4.515,   34.337,2,   34.337,2,   26.300,2,   25.100,2,   99.280,2,   41.520,2,    3.050,2, -999.000
           NA,HOT timeseries 1988to2019 27SEP2021,     98,  99,-999.0,      38,-999.0,19990217,2058,  22.7633, -157.9968,  4719,  850.000,    4.378,   34.385,2,   34.385,2,   29.000,2,   27.900,2,  101.950,2,   41.690,2,    3.070,2, -999.000
           NA,HOT timeseries 1988to2019 27SEP2021,     98,  99,-999.0,      36,-999.0,19990217,2058,  22.7633, -157.9968,  4719,  900.500,    4.242,   34.421,2,   34.420,2,   33.000,2,   31.800,2,  104.820,2,   41.690,2,    3.070,2, -999.000
           NA,HOT timeseries 1988to2019 27SEP2021,     98,  99,-999.0,      35,-999.0,19990217,2058,  22.7633, -157.9968,  4719,  941.200,    4.126,   34.440,2,   34.440,2,   34.300,2,   34.300,2,  107.010,2,   41.790,2,    3.060,2, -999.000
           NA,HOT timeseries 1988to2019 27SEP2021,     98,  99,-999.0,      34,-999.0,19990217,2058,  22.7633, -157.9968,  4719,  991.100,    3.950,   34.462,2,   34.462,2,   38.800,2,   39.200,2,  110.240,2,   41.730,2,    3.050,2, -999.000
           NA,HOT timeseries 1988to2019 27SEP2021,     98,  99,-999.0,      33,-999.0,19990217,2058,  22.7633, -157.9968,  4719, 1023.200,    3.875,   34.473,2,   34.474,2,   40.100,2,   41.100,2,  111.900,2,   41.710,2,    3.060,2, -999.000
           NA,HOT timeseries 1988to2019 27SEP2021,     98,  99,-999.0,      20,-999.0,19990217,2058,  22.7633, -157.9968,  4719, 1204.400,    3.423,   34.527,2,   34.527,2,   49.500,2,   54.400,2,  120.550,2,   41.300,2,    2.940,2, -999.000
           NA,HOT timeseries 1988to2019 27SEP2021,     98,  99,-999.0,      19,-999.0,19990217,2058,  22.7633, -157.9968,  4719, 1402.900,    3.078,   34.557,2,   34.556,2,   58.000,2,   59.200,2,  127.800,2,   41.080,2,    2.920,2, -999.000
           NA,HOT timeseries 1988to2019 27SEP2021,     98,  99,-999.0,      18,-999.0,19990217,2058,  22.7633, -157.9968,  4719, 1601.700,    2.649,   34.582,2,   34.581,2,   68.900,2,   69.500,2,  137.660,2,   40.650,2,    2.860,2, -999.000
           NA,HOT timeseries 1988to2019 27SEP2021,     98,  99,-999.0,      17,-999.0,19990217,2058,  22.7633, -157.9968,  4719, 1801.500,    2.318,   34.604,2,   34.605,2,   79.000,2,   79.600,2,  144.910,2,   40.280,2,    2.820,2, -999.000
           NA,HOT timeseries 1988to2019 27SEP2021,     98,  99,-999.0,      16,-999.0,19990217,2058,  22.7633, -157.9968,  4719, 2001.600,    2.092,   34.620,2,   34.621,2,   87.000,2,   87.800,2,  149.910,2,   39.800,2,    2.770,2, -999.000
           NA,HOT timeseries 1988to2019 27SEP2021,     98,  99,-999.0,      15,-999.0,19990217,2058,  22.7633, -157.9968,  4719, 2201.500,    1.958,   34.631,2,   34.631,2,   93.300,2,   93.800,2,  152.890,2,   39.330,2,    2.750,2, -999.000
           NA,HOT timeseries 1988to2019 27SEP2021,     98,  99,-999.0,      14,-999.0,19990217,2058,  22.7633, -157.9968,  4719, 2401.300,    1.795,   34.645,2,   34.645,2,  103.100,2,  104.400,2,  155.350,2,   38.830,2,    2.700,2, -999.000
           NA,HOT timeseries 1988to2019 27SEP2021,     98,  99,-999.0,      13,-999.0,19990217,2058,  22.7633, -157.9968,  4719, 2601.500,    1.699,   34.653,2,   34.652,2,  108.100,2,  108.500,2,  157.540,2,   38.260,2,    2.660,2, -999.000
           NA,HOT timeseries 1988to2019 27SEP2021,     98,  99,-999.0,      12,-999.0,19990217,2058,  22.7633, -157.9968,  4719, 2801.900,    1.620,   34.661,2,   34.662,2,  115.600,2,  117.000,2,  156.710,2,   37.910,2,    2.640,2, -999.000
           NA,HOT timeseries 1988to2019 27SEP2021,     98,  99,-999.0,      11,-999.0,19990217,2058,  22.7633, -157.9968,  4719, 3000.000,    1.563,   34.668,2,   34.669,2,  121.600,2,  121.200,2,  158.780,2,   37.620,2,    2.600,2, -999.000
           NA,HOT timeseries 1988to2019 27SEP2021,     98,  99,-999.0,      32,-999.0,19990217,2058,  22.7633, -157.9968,  4719, 3200.500,    1.515,   34.674,2,   34.674,2,  129.500,2,  128.800,2,  156.320,2,   37.160,2,    2.560,2, -999.000
           NA,HOT timeseries 1988to2019 27SEP2021,     98,  99,-999.0,       3,-999.0,19990217,2058,  22.7633, -157.9968,  4719, 3400.100,    1.484,   34.678,2,   34.678,2,  135.300,2,  135.600,2,  153.840,2,   36.730,2,    2.530,2, -999.000
           NA,HOT timeseries 1988to2019 27SEP2021,     98,  99,-999.0,      29,-999.0,19990217,2058,  22.7633, -157.9968,  4719, 3601.100,    1.460,   34.681,2,   34.681,2,  141.900,2,  141.000,2,  151.800,2,   36.510,2,    2.510,2, -999.000
           NA,HOT timeseries 1988to2019 27SEP2021,     98,  99,-999.0,      28,-999.0,19990217,2058,  22.7633, -157.9968,  4719, 3800.200,    1.458,   34.683,2,   34.684,2,  144.100,2,  144.200,2,  150.880,2,   36.210,2,    2.490,2, -999.000
           NA,HOT timeseries 1988to2019 27SEP2021,     98,  99,-999.0,       7,-999.0,19990217,2058,  22.7633, -157.9968,  4719, 4000.900,    1.459,   34.685,2,   34.686,2,  146.500,2,  147.100,2,  149.920,2,   35.890,2,    2.470,2, -999.000
           NA,HOT timeseries 1988to2019 27SEP2021,     98,  99,-999.0,      38,-999.0,19990217,2058,  22.7633, -157.9968,  4719, 4201.300,    1.466,   34.687,2,   34.686,2,  148.800,2, -999.000,4,  148.670,2,   35.850,2,    2.460,2, -999.000
           NA,HOT timeseries 1988to2019 27SEP2021,     98,  99,-999.0,      36,-999.0,19990217,2058,  22.7633, -157.9968,  4719, 4401.300,    1.479,   34.687,2,   34.686,2,  150.800,2,  150.700,2,  148.180,2,   35.970,2, -999.000,3, -999.000
           NA,HOT timeseries 1988to2019 27SEP2021,     98,  99,-999.0,      35,-999.0,19990217,2058,  22.7633, -157.9968,  4719, 4501.300,    1.487,   34.688,2,   34.689,2,  150.900,2,  151.300,2,  147.160,2,   35.790,2, -999.000,3, -999.000
           NA,HOT timeseries 1988to2019 27SEP2021,     98,  99,-999.0,      34,-999.0,19990217,2058,  22.7633, -157.9968,  4719, 4602.600,    1.497,   34.688,2,   34.688,2,  152.300,2,  152.100,2,  146.750,2,   35.800,2, -999.000,3, -999.000
           NA,HOT timeseries 1988to2019 27SEP2021,     98,  99,-999.0,      33,-999.0,19990217,2058,  22.7633, -157.9968,  4719, 4799.900,    1.507,   34.689,2,   34.690,2,  153.900,2,  153.600,2,  145.600,2,   35.590,2,    2.470,2, -999.000