BOTTLE,20214727JOAExport
EXPOCODE,SECT_ID,STNNBR,CASTNO,SAMPNO,BTLNBR,BTLNBR_FLAG_W,DATE,TIME,LATITUDE,LONGITUDE,DEPTH,CTDPRS,CTDTMP,CTDSAL,CTDSAL_FLAG_W,SALNTY,SALNTY_FLAG_W,CTDOXY,CTDOXY_FLAG_W,OXYGEN,OXYGEN_FLAG_W,SILCAT,SILCAT_FLAG_W,NINI,NINI_FLAG_W,PHSPHT,PHSPHT_FLAG_W,REVP
,,,,,,,,,,,,DB,IPTS-68,PSS-78,,PSS-78,,UMOL/KG,,UMOL/KG,,UMOL/KG,,UMOL/KG,,UMOL/KG,,DBAR
           NA,HOT timeseries 1988to2019 27SEP2021,    144,  99,-999.0,      31,-999.0,20030520,1856,  22.7472, -157.9948,  4724,    4.100,   25.235,   35.071,2,   35.070,2,  209.500,2,  208.300,2,    0.740,2,    0.080,2,    0.050,2, -999.000
           NA,HOT timeseries 1988to2019 27SEP2021,    144,  99,-999.0,      31,-999.0,20030520,1856,  22.7472, -157.9948,  4724,    4.300,   25.239,   35.072,2,   35.073,2,  209.800,2,  211.200,2,    0.790,2,    0.030,2,    0.030,2, -999.000
           NA,HOT timeseries 1988to2019 27SEP2021,    144,  99,-999.0,      30,-999.0,20030520,1856,  22.7472, -157.9948,  4724,   33.700,   25.208,   35.069,2,   35.069,2,  210.000,2,  208.500,2,    0.730,2,    0.100,2,    0.060,2, -999.000
           NA,HOT timeseries 1988to2019 27SEP2021,    144,  99,-999.0,      22,-999.0,20030520,1856,  22.7472, -157.9948,  4724,   76.900,   23.722,   35.191,2, -999.000,3, -999.000,3,  213.300,2,    0.860,2,    0.060,2,    0.030,2, -999.000
           NA,HOT timeseries 1988to2019 27SEP2021,    144,  99,-999.0,      21,-999.0,20030520,1856,  22.7472, -157.9948,  4724,  112.300,   22.003,   35.314,2,   35.318,2,  207.700,2,  206.500,2,    1.100,2,    0.240,2,    0.030,2, -999.000
           NA,HOT timeseries 1988to2019 27SEP2021,    144,  99,-999.0,      20,-999.0,20030520,1856,  22.7472, -157.9948,  4724,  148.400,   20.571,   35.215,2,   35.214,2,  195.700,2,  198.100,2,    1.660,2,    1.510,2, -999.000,3, -999.000
           NA,HOT timeseries 1988to2019 27SEP2021,    144,  99,-999.0,      19,-999.0,20030520,1856,  22.7472, -157.9948,  4724,  178.200,   19.753,   35.128,2,   35.125,2,  197.500,2,  196.800,2,    2.070,2,    2.130,2, -999.000,3, -999.000
           NA,HOT timeseries 1988to2019 27SEP2021,    144,  99,-999.0,      18,-999.0,20030520,1856,  22.7472, -157.9948,  4724,  244.900,   16.072,   34.619,2,   34.604,2,  181.200,2,  184.900,2,    4.590,2,    6.550,2,    0.570,2, -999.000
           NA,HOT timeseries 1988to2019 27SEP2021,    144,  99,-999.0,      17,-999.0,20030520,1856,  22.7472, -157.9948,  4724,  287.300,   14.181,   34.407,2,   34.390,2,  197.300,2,  197.700,2,    6.830,2,    8.240,2,    0.670,2, -999.000
           NA,HOT timeseries 1988to2019 27SEP2021,    144,  99,-999.0,      16,-999.0,20030520,1856,  22.7472, -157.9948,  4724,  330.300,   12.219,   34.281,2,   34.283,2,  209.400,2,  208.300,2, -999.000,5, -999.000,5, -999.000,5, -999.000
           NA,HOT timeseries 1988to2019 27SEP2021,    144,  99,-999.0,      23,-999.0,20030520,1856,  22.7472, -157.9948,  4724,  378.400,   10.910,   34.222,2,   34.222,2,  206.700,2,  205.200,2,   14.620,2,   14.240,2,    1.030,2, -999.000
           NA,HOT timeseries 1988to2019 27SEP2021,    144,  99,-999.0,      40,-999.0,20030520,1856,  22.7472, -157.9948,  4724,  436.600,    9.164,   34.110,2,   34.107,2,  177.100,2,  178.900,2,   23.860,2,   19.940,2,    1.440,2, -999.000
           NA,HOT timeseries 1988to2019 27SEP2021,    144,  99,-999.0,      13,-999.0,20030520,1856,  22.7472, -157.9948,  4724,  472.700,    8.549,   34.075,2,   34.075,2,  167.700,2,  164.600,2,   29.480,2,   22.750,2,    1.570,2, -999.000
           NA,HOT timeseries 1988to2019 27SEP2021,    144,  99,-999.0,      12,-999.0,20030520,1856,  22.7472, -157.9948,  4724,  508.800,    7.612,   34.043,2,   34.042,2,  142.800,2,  142.000,2,   37.540,2,   26.680,2,    1.900,2, -999.000
           NA,HOT timeseries 1988to2019 27SEP2021,    144,  99,-999.0,      30,-999.0,20030520,1856,  22.7472, -157.9948,  4724,  529.000,    7.037,   34.032,2,   34.034,2,  125.800,2,  125.200,2,   45.270,2,   28.850,2,    2.090,2, -999.000
           NA,HOT timeseries 1988to2019 27SEP2021,    144,  99,-999.0,      39,-999.0,20030520,1856,  22.7472, -157.9948,  4724,  549.300,    6.769,   34.033,2,   34.034,2,  116.900,2,  115.400,2,   49.350,2,   30.520,2,    2.160,2, -999.000
           NA,HOT timeseries 1988to2019 27SEP2021,    144,  99,-999.0,      32,-999.0,20030520,1856,  22.7472, -157.9948,  4724,  601.200,    5.975,   34.061,2,   34.059,2,   84.700,2,   83.600,2,   61.950,2,   34.970,2,    2.490,2, -999.000
           NA,HOT timeseries 1988to2019 27SEP2021,    144,  99,-999.0,       3,-999.0,20030520,1856,  22.7472, -157.9948,  4724,  667.600,    5.395,   34.112,2,   34.110,2,   58.100,2,   56.700,2, -999.000,4,   38.230,2,    2.750,2, -999.000
           NA,HOT timeseries 1988to2019 27SEP2021,    144,  99,-999.0,      29,-999.0,20030520,1856,  22.7472, -157.9948,  4724,  700.500,    5.184,   34.144,2,   34.144,2,   47.300,2,   46.300,2, -999.000,4,   39.390,2,    2.850,2, -999.000
           NA,HOT timeseries 1988to2019 27SEP2021,    144,  99,-999.0,      28,-999.0,20030520,1856,  22.7472, -157.9948,  4724,  733.900,    4.965,   34.194,2,   34.195,2,   37.000,2,   35.800,2, -999.000,4,   40.630,2,    2.950,2, -999.000
           NA,HOT timeseries 1988to2019 27SEP2021,    144,  99,-999.0,      38,-999.0,20030520,1856,  22.7472, -157.9948,  4724,  832.800,    4.527,   34.357,2,   34.356,2,   26.200,2,   26.200,2, -999.000,4,   42.330,2,    3.080,2, -999.000
           NA,HOT timeseries 1988to2019 27SEP2021,    144,  99,-999.0,      36,-999.0,20030520,1856,  22.7472, -157.9948,  4724,  876.500,    4.401,   34.382,2,   34.384,2,   28.600,2,   28.700,2, -999.000,4,   42.240,2,    3.080,2, -999.000
           NA,HOT timeseries 1988to2019 27SEP2021,    144,  99,-999.0,      35,-999.0,20030520,1856,  22.7472, -157.9948,  4724,  924.100,    4.327,   34.416,2,   34.416,2,   31.400,2,   31.700,2, -999.000,4,   42.070,2,    3.040,2, -999.000
           NA,HOT timeseries 1988to2019 27SEP2021,    144,  99,-999.0,      34,-999.0,20030520,1856,  22.7472, -157.9948,  4724,  982.600,    4.208,   34.453,2,   34.451,2,   34.900,2,   35.400,2,  104.160,2,   42.230,2,    3.040,2, -999.000
           NA,HOT timeseries 1988to2019 27SEP2021,    144,  99,-999.0,      33,-999.0,20030520,1856,  22.7472, -157.9948,  4724, 1019.600,    4.128,   34.478,2,   34.478,2,   38.800,2,   40.200,2, -999.000,4,   41.980,2,    3.030,2, -999.000
           NA,HOT timeseries 1988to2019 27SEP2021,    144,  99,-999.0,      20,-999.0,20030520,1856,  22.7472, -157.9948,  4724, 1199.600,    3.467,   34.522,2,   34.522,2,   51.300,2,   51.200,2,  120.380,2,   41.180,2,    3.000,2, -999.000
           NA,HOT timeseries 1988to2019 27SEP2021,    144,  99,-999.0,      19,-999.0,20030520,1856,  22.7472, -157.9948,  4724, 1398.900,    3.027,   34.562,2,   34.562,2,   61.800,2,   62.100,2,  129.890,2,   40.780,2,    2.960,2, -999.000
           NA,HOT timeseries 1988to2019 27SEP2021,    144,  99,-999.0,      18,-999.0,20030520,1856,  22.7472, -157.9948,  4724, 1600.700,    2.699,   34.583,2,   34.582,2,   69.900,2,   71.000,2,  137.300,2,   40.610,2,    2.900,2, -999.000
           NA,HOT timeseries 1988to2019 27SEP2021,    144,  99,-999.0,      17,-999.0,20030520,1856,  22.7472, -157.9948,  4724, 1799.000,    2.423,   34.599,2,   34.597,2,   78.200,2,   78.500,2,  142.660,2,   40.120,2,    2.850,2, -999.000
           NA,HOT timeseries 1988to2019 27SEP2021,    144,  99,-999.0,      16,-999.0,20030520,1856,  22.7472, -157.9948,  4724, 1997.100,    2.167,   34.618,2,   34.617,2,   87.300,2,   87.600,2,  149.370,2,   39.720,2,    2.790,2, -999.000
           NA,HOT timeseries 1988to2019 27SEP2021,    144,  99,-999.0,      23,-999.0,20030520,1856,  22.7472, -157.9948,  4724, 2198.000,    1.948,   34.632,2,   34.630,2,   94.600,2,   95.000,2,  154.470,2,   39.390,2,    2.770,2, -999.000
           NA,HOT timeseries 1988to2019 27SEP2021,    144,  99,-999.0,      40,-999.0,20030520,1856,  22.7472, -157.9948,  4724, 2400.000,    1.812,   34.642,2,   34.640,2,  100.600,2,  100.600,2,  157.600,2,   38.990,2,    2.730,2, -999.000
           NA,HOT timeseries 1988to2019 27SEP2021,    144,  99,-999.0,      13,-999.0,20030520,1856,  22.7472, -157.9948,  4724, 2599.500,    1.716,   34.653,2,   34.653,2,  108.300,2,  108.600,2,  158.700,2,   38.500,2,    2.700,2, -999.000
           NA,HOT timeseries 1988to2019 27SEP2021,    144,  99,-999.0,      12,-999.0,20030520,1856,  22.7472, -157.9948,  4724, 2799.200,    1.624,   34.662,2,   34.661,2,  116.000,2,  116.200,2,  159.960,2,   38.020,2,    2.650,2, -999.000
           NA,HOT timeseries 1988to2019 27SEP2021,    144,  99,-999.0,      39,-999.0,20030520,1856,  22.7472, -157.9948,  4724, 3000.100,    1.556,   34.668,2,   34.670,2,  123.200,2,  123.300,2,  158.190,2,   37.540,2,    2.630,2, -999.000
           NA,HOT timeseries 1988to2019 27SEP2021,    144,  99,-999.0,      32,-999.0,20030520,1856,  22.7472, -157.9948,  4724, 3199.400,    1.513,   34.675,2,   34.675,2,  130.500,2,  130.600,2,  158.590,2,   36.970,2,    2.580,2, -999.000
           NA,HOT timeseries 1988to2019 27SEP2021,    144,  99,-999.0,       3,-999.0,20030520,1856,  22.7472, -157.9948,  4724, 3399.700,    1.485,   34.679,2,   34.679,2,  136.100,2,  136.300,2,  156.980,2,   36.570,2,    2.560,2, -999.000
           NA,HOT timeseries 1988to2019 27SEP2021,    144,  99,-999.0,      29,-999.0,20030520,1856,  22.7472, -157.9948,  4724, 3600.300,    1.468,   34.682,2,   34.682,2,  140.700,2,  140.800,2,  155.080,2,   36.340,2,    2.520,2, -999.000
           NA,HOT timeseries 1988to2019 27SEP2021,    144,  99,-999.0,      28,-999.0,20030520,1856,  22.7472, -157.9948,  4724, 3800.900,    1.463,   34.685,2,   34.686,2,  144.600,2,  144.300,2,  152.780,2,   36.090,2,    2.530,2, -999.000
           NA,HOT timeseries 1988to2019 27SEP2021,    144,  99,-999.0,       7,-999.0,20030520,1856,  22.7472, -157.9948,  4724, 3998.700,    1.462,   34.687,2,   34.686,2,  147.800,2,  147.700,2,  151.470,2,   35.880,2,    2.480,2, -999.000
           NA,HOT timeseries 1988to2019 27SEP2021,    144,  99,-999.0,      38,-999.0,20030520,1856,  22.7472, -157.9948,  4724, 4200.000,    1.469,   34.688,2,   34.688,2,  150.200,2,  150.200,2,  150.060,2,   35.750,2,    2.520,2, -999.000
           NA,HOT timeseries 1988to2019 27SEP2021,    144,  99,-999.0,      36,-999.0,20030520,1856,  22.7472, -157.9948,  4724, 4399.100,    1.479,   34.689,2,   34.690,2,  152.000,2,  152.000,2,  149.020,2,   35.510,2,    2.470,2, -999.000
           NA,HOT timeseries 1988to2019 27SEP2021,    144,  99,-999.0,      35,-999.0,20030520,1856,  22.7472, -157.9948,  4724, 4499.500,    1.488,   34.690,2,   34.689,2,  152.400,2,  152.500,2,  148.310,2,   35.460,2,    2.460,2, -999.000
           NA,HOT timeseries 1988to2019 27SEP2021,    144,  99,-999.0,      34,-999.0,20030520,1856,  22.7472, -157.9948,  4724, 4600.300,    1.496,   34.690,2,   34.691,2,  153.200,2,  152.800,2,  149.110,2,   35.570,2,    2.460,2, -999.000
           NA,HOT timeseries 1988to2019 27SEP2021,    144,  99,-999.0,      33,-999.0,20030520,1856,  22.7472, -157.9948,  4724, 4802.200,    1.521,   34.690,2,   34.690,2,  153.200,2,  152.700,2,  149.060,2,   35.640,2,    2.450,2, -999.000