BOTTLE,20214727JOAExport
EXPOCODE,SECT_ID,STNNBR,CASTNO,SAMPNO,BTLNBR,BTLNBR_FLAG_W,DATE,TIME,LATITUDE,LONGITUDE,DEPTH,CTDPRS,CTDTMP,CTDSAL,CTDSAL_FLAG_W,SALNTY,SALNTY_FLAG_W,CTDOXY,CTDOXY_FLAG_W,OXYGEN,OXYGEN_FLAG_W,SILCAT,SILCAT_FLAG_W,NINI,NINI_FLAG_W,PHSPHT,PHSPHT_FLAG_W,REVP
,,,,,,,,,,,,DB,IPTS-68,PSS-78,,PSS-78,,UMOL/KG,,UMOL/KG,,UMOL/KG,,UMOL/KG,,UMOL/KG,,DBAR
           NA,HOT timeseries 1988to2019 27SEP2021,    211,  99,-999.0,    8024,-999.0,20101122,0713,  22.7498, -157.9998,  4720,    4.900,   25.083,   35.205,2,   35.204,2,  206.700,2,  207.500,2,    0.960,2,    0.030,2,    0.080,2, -999.000
           NA,HOT timeseries 1988to2019 27SEP2021,    211,  99,-999.0,    8024,-999.0,20101122,0713,  22.7498, -157.9998,  4720,    5.100,   25.059,   35.214,2,   35.216,2,  207.100,2,  208.200,2,    1.070,2,    0.020,2,    0.080,2, -999.000
           NA,HOT timeseries 1988to2019 27SEP2021,    211,  99,-999.0,    8023,-999.0,20101122,0713,  22.7498, -157.9998,  4720,   54.900,   25.076,   35.237,2,   35.239,2,  208.100,2,  208.100,2,    0.990,2, -999.000,2,    0.090,2, -999.000
           NA,HOT timeseries 1988to2019 27SEP2021,    211,  99,-999.0,    8022,-999.0,20101122,0713,  22.7498, -157.9998,  4720,  104.000,   23.321,   35.205,2,   35.207,2,  212.900,2,  212.400,2,    1.040,2,    0.050,2,    0.110,2, -999.000
           NA,HOT timeseries 1988to2019 27SEP2021,    211,  99,-999.0,    8021,-999.0,20101122,0713,  22.7498, -157.9998,  4720,  133.000,   21.835,   35.293,2,   35.296,2,  205.000,2,  206.700,2,    1.180,2,    0.680,2,    0.100,2, -999.000
           NA,HOT timeseries 1988to2019 27SEP2021,    211,  99,-999.0,    8020,-999.0,20101122,0713,  22.7498, -157.9998,  4720,  174.200,   20.418,   35.266,2,   35.267,2,  200.900,2,  202.800,2,    1.880,2,    1.220,2,    0.120,2, -999.000
           NA,HOT timeseries 1988to2019 27SEP2021,    211,  99,-999.0,    8019,-999.0,20101122,0713,  22.7498, -157.9998,  4720,  194.300,   19.819,   35.222,2,   35.213,2,  203.700,2,  204.400,2,    2.140,2,    1.430,2,    0.130,2, -999.000
           NA,HOT timeseries 1988to2019 27SEP2021,    211,  99,-999.0,    8018,-999.0,20101122,0713,  22.7498, -157.9998,  4720,  236.000,   18.054,   34.954,2,   34.942,2,  209.400,2,  208.300,2,    3.000,2,    2.340,2,    0.180,2, -999.000
           NA,HOT timeseries 1988to2019 27SEP2021,    211,  99,-999.0,    8017,-999.0,20101122,0713,  22.7498, -157.9998,  4720,  275.900,   16.101,   34.634,2,   34.628,2,  203.000,2,  202.600,2,    4.820,2,    4.770,2,    0.380,2, -999.000
           NA,HOT timeseries 1988to2019 27SEP2021,    211,  99,-999.0,    8016,-999.0,20101122,0713,  22.7498, -157.9998,  4720,  330.000,   12.839,   34.296,2,   34.299,2,  197.400,2,  197.200,2,   10.470,2,   10.620,2,    0.770,2, -999.000
           NA,HOT timeseries 1988to2019 27SEP2021,    211,  99,-999.0,    8015,-999.0,20101122,0713,  22.7498, -157.9998,  4720,  353.400,   12.033,   34.231,2,   34.229,2,  182.200,2, -999.000,3,   12.560,2,   12.630,2,    0.920,2, -999.000
           NA,HOT timeseries 1988to2019 27SEP2021,    211,  99,-999.0,    8014,-999.0,20101122,0713,  22.7498, -157.9998,  4720,  390.800,   10.307,   34.123,2,   34.126,2,  159.700,2,  159.700,2,   21.400,2,   18.680,2,    1.390,2, -999.000
           NA,HOT timeseries 1988to2019 27SEP2021,    211,  99,-999.0,    8025,-999.0,20101122,0713,  22.7498, -157.9998,  4720,  427.800,    8.566,   34.115,2,   34.115,2,  124.200,2,  127.600,2,   34.230,2,   25.220,2,    1.860,2, -999.000
           NA,HOT timeseries 1988to2019 27SEP2021,    211,  99,-999.0,    8012,-999.0,20101122,0713,  22.7498, -157.9998,  4720,  499.800,    7.456,   34.102,2,   34.102,2,   98.900,2,   98.800,2,   46.700,2,   30.090,2,    2.210,2, -999.000
           NA,HOT timeseries 1988to2019 27SEP2021,    211,  99,-999.0,    8011,-999.0,20101122,0713,  22.7498, -157.9998,  4720,  537.700,    6.884,   34.111,2,   34.109,2,   80.600,2,   80.900,2,   54.320,2,   32.680,2,    2.410,2, -999.000
           NA,HOT timeseries 1988to2019 27SEP2021,    211,  99,-999.0,    8010,-999.0,20101122,0713,  22.7498, -157.9998,  4720,  581.300,    5.923,   34.071,2,   34.071,2,   73.900,2,   72.800,2,   66.000,2,   35.460,2,    2.570,2, -999.000
           NA,HOT timeseries 1988to2019 27SEP2021,    211,  99,-999.0,    8009,-999.0,20101122,0713,  22.7498, -157.9998,  4720,  625.100,    5.412,   34.081,2,   34.083,2,   58.000,2,   57.800,2,   75.600,2,   37.710,2,    2.740,2, -999.000
           NA,HOT timeseries 1988to2019 27SEP2021,    211,  99,-999.0,    8008,-999.0,20101122,0713,  22.7498, -157.9998,  4720,  638.600,    5.216,   34.103,2,   34.103,2,   50.500,2,   48.700,2,   79.710,2,   38.830,2,    2.820,2, -999.000
           NA,HOT timeseries 1988to2019 27SEP2021,    211,  99,-999.0,    8026,-999.0,20101122,0713,  22.7498, -157.9998,  4720,  698.900,    4.803,   34.183,2,   34.185,2,   29.600,2,   28.900,2,   91.270,2,   41.100,2,    3.000,2, -999.000
           NA,HOT timeseries 1988to2019 27SEP2021,    211,  99,-999.0,    8006,-999.0,20101122,0713,  22.7498, -157.9998,  4720,  764.400,    4.498,   34.272,2,   34.271,2,   21.400,2,   21.200,2,  100.350,2,   42.010,2,    3.080,2, -999.000
           NA,HOT timeseries 1988to2019 27SEP2021,    211,  99,-999.0,    8005,-999.0,20101122,0713,  22.7498, -157.9998,  4720,  806.500,    4.365,   34.313,2,   34.312,2,   21.500,2,   20.900,2,  104.350,2,   42.300,2,    3.110,2, -999.000
           NA,HOT timeseries 1988to2019 27SEP2021,    211,  99,-999.0,    8004,-999.0,20101122,0713,  22.7498, -157.9998,  4720,  846.500,    4.223,   34.360,2,   34.361,2,   23.800,2, -999.000,3,  107.770,2,   42.430,2,    3.100,2, -999.000
           NA,HOT timeseries 1988to2019 27SEP2021,    211,  99,-999.0,    8003,-999.0,20101122,0713,  22.7498, -157.9998,  4720,  912.900,    4.048,   34.416,2,   34.419,2,   31.400,2,   31.500,2,  111.140,2,   42.130,2,    3.060,2, -999.000
           NA,HOT timeseries 1988to2019 27SEP2021,    211,  99,-999.0,    8002,-999.0,20101122,0713,  22.7498, -157.9998,  4720,  977.800,    3.892,   34.452,2,   34.454,2,   38.900,2,   39.300,2,  113.370,2,   41.890,2,    3.040,2, -999.000
           NA,HOT timeseries 1988to2019 27SEP2021,    211,  99,-999.0,    8001,-999.0,20101122,0713,  22.7498, -157.9998,  4720, 1020.100,    3.802,   34.473,2,   34.472,2,   43.200,2,   43.000,2,  114.130,2,   41.570,2,    3.020,2, -999.000
           NA,HOT timeseries 1988to2019 27SEP2021,    211,  99,-999.0,    8020,-999.0,20101122,0713,  22.7498, -157.9998,  4720, 1200.000,    3.437,   34.523,2,   34.523,2,   54.300,2,   54.500,2,  121.590,2,   41.130,2,    2.950,2, -999.000
           NA,HOT timeseries 1988to2019 27SEP2021,    211,  99,-999.0,    8019,-999.0,20101122,0713,  22.7498, -157.9998,  4720, 1399.900,    3.051,   34.558,2,   34.558,2,   62.500,2,   62.900,2,  129.110,2,   40.940,2,    2.920,2, -999.000
           NA,HOT timeseries 1988to2019 27SEP2021,    211,  99,-999.0,    8018,-999.0,20101122,0713,  22.7498, -157.9998,  4720, 1599.900,    2.706,   34.582,2,   34.581,2,   71.000,2,   71.500,2,  136.690,2,   40.610,2,    2.870,2, -999.000
           NA,HOT timeseries 1988to2019 27SEP2021,    211,  99,-999.0,    8017,-999.0,20101122,0713,  22.7498, -157.9998,  4720, 1799.000,    2.388,   34.603,2,   34.603,2,   79.600,2,   80.400,2,  143.460,2,   40.010,2,    2.830,2, -999.000
           NA,HOT timeseries 1988to2019 27SEP2021,    211,  99,-999.0,    8016,-999.0,20101122,0713,  22.7498, -157.9998,  4720, 2000.400,    2.130,   34.619,2,   34.619,2,   88.600,2,   89.300,2,  149.710,2,   39.520,2,    2.790,2, -999.000
           NA,HOT timeseries 1988to2019 27SEP2021,    211,  99,-999.0,    8015,-999.0,20101122,0713,  22.7498, -157.9998,  4720, 2199.200,    1.943,   34.632,2,   34.633,2,   95.200,2,   96.200,2,  153.780,2,   39.220,2,    2.750,2, -999.000
           NA,HOT timeseries 1988to2019 27SEP2021,    211,  99,-999.0,    8014,-999.0,20101122,0713,  22.7498, -157.9998,  4720, 2400.400,    1.817,   34.643,2,   34.643,2,  102.800,2,  103.200,2,  156.070,2,   38.760,2,    2.720,2, -999.000
           NA,HOT timeseries 1988to2019 27SEP2021,    211,  99,-999.0,    8025,-999.0,20101122,0713,  22.7498, -157.9998,  4720, 2599.500,    1.688,   34.654,2,   34.654,2,  109.900,2,  111.100,2,  159.020,2,   38.420,2,    2.680,2, -999.000
           NA,HOT timeseries 1988to2019 27SEP2021,    211,  99,-999.0,    8012,-999.0,20101122,0713,  22.7498, -157.9998,  4720, 2800.800,    1.619,   34.663,2,   34.662,2,  119.100,2,  119.700,2,  156.990,2,   37.810,2,    2.630,2, -999.000
           NA,HOT timeseries 1988to2019 27SEP2021,    211,  99,-999.0,    8011,-999.0,20101122,0713,  22.7498, -157.9998,  4720, 3000.500,    1.558,   34.669,2,   34.668,2,  124.300,2,  124.900,2,  158.470,2,   37.510,2,    2.610,2, -999.000
           NA,HOT timeseries 1988to2019 27SEP2021,    211,  99,-999.0,    8010,-999.0,20101122,0713,  22.7498, -157.9998,  4720, 3199.400,    1.522,   34.674,2,   34.673,2,  128.900,2,  129.300,2,  158.210,2,   37.380,2,    2.590,2, -999.000
           NA,HOT timeseries 1988to2019 27SEP2021,    211,  99,-999.0,    8009,-999.0,20101122,0713,  22.7498, -157.9998,  4720, 3400.200,    1.494,   34.678,2,   34.677,2,  134.400,2,  134.800,2,  157.350,2,   36.990,2,    2.560,2, -999.000
           NA,HOT timeseries 1988to2019 27SEP2021,    211,  99,-999.0,    8008,-999.0,20101122,0713,  22.7498, -157.9998,  4720, 3599.100,    1.466,   34.682,2,   34.681,2,  140.400,2,  140.200,2,  155.530,2,   36.400,2,    2.520,2, -999.000
           NA,HOT timeseries 1988to2019 27SEP2021,    211,  99,-999.0,    8026,-999.0,20101122,0713,  22.7498, -157.9998,  4720, 3799.100,    1.462,   34.684,2,   34.683,2,  143.900,2,  143.200,2,  154.760,2,   36.120,2,    2.500,2, -999.000
           NA,HOT timeseries 1988to2019 27SEP2021,    211,  99,-999.0,    8006,-999.0,20101122,0713,  22.7498, -157.9998,  4720, 4000.000,    1.456,   34.687,2,   34.686,2,  147.900,2,  147.300,2,  151.560,2,   35.780,2,    2.480,2, -999.000
           NA,HOT timeseries 1988to2019 27SEP2021,    211,  99,-999.0,    8005,-999.0,20101122,0713,  22.7498, -157.9998,  4720, 4199.900,    1.464,   34.688,2,   34.687,2,  150.300,2,  150.100,2,  150.280,2,   35.740,2,    2.490,2, -999.000
           NA,HOT timeseries 1988to2019 27SEP2021,    211,  99,-999.0,    8004,-999.0,20101122,0713,  22.7498, -157.9998,  4720, 4399.300,    1.480,   34.689,2,   34.688,2,  151.400,2,  150.500,2,  149.810,2,   35.530,2,    2.460,2, -999.000
           NA,HOT timeseries 1988to2019 27SEP2021,    211,  99,-999.0,    8003,-999.0,20101122,0713,  22.7498, -157.9998,  4720, 4500.000,    1.489,   34.689,2,   34.688,2,  152.100,2,  151.500,2,  150.030,2,   35.720,2,    2.470,2, -999.000
           NA,HOT timeseries 1988to2019 27SEP2021,    211,  99,-999.0,    8002,-999.0,20101122,0713,  22.7498, -157.9998,  4720, 4599.600,    1.495,   34.689,2,   34.689,2,  152.300,2,  152.400,2,  149.110,2,   35.770,2,    2.480,2, -999.000
           NA,HOT timeseries 1988to2019 27SEP2021,    211,  99,-999.0,    8001,-999.0,20101122,0713,  22.7498, -157.9998,  4720, 4808.100,    1.501,   34.691,2,   34.691,2,  155.000,2,  155.400,2,  146.830,2,   35.330,2, -999.000,3, -999.000
           NA,HOT timeseries 1988to2019 27SEP2021,    212,   3,-999.0,    8024,-999.0,20110109,1715,  22.7502, -157.9997,  4743,    4.100,   23.776,   35.409,2,   35.410,2,  212.600,2,  212.600,2,    1.040,2,    0.080,2,    0.050,2, -999.000
           NA,HOT timeseries 1988to2019 27SEP2021,    212,   3,-999.0,    8023,-999.0,20110109,1715,  22.7502, -157.9997,  4743,  499.800,    7.655,   34.054,2,   34.056,2,  129.600,2,  129.300,2,   41.120,2,   27.460,2,    1.980,2, -999.000
           NA,HOT timeseries 1988to2019 27SEP2021,    212,   3,-999.0,    8022,-999.0,20110109,1715,  22.7502, -157.9997,  4743,  751.200,    4.751,   34.306,2,   34.303,2,   32.200,2,   32.000,2,   93.530,2,   41.230,2,    2.960,2, -999.000
           NA,HOT timeseries 1988to2019 27SEP2021,    212,   3,-999.0,    8021,-999.0,20110109,1715,  22.7502, -157.9997,  4743, 1000.700,    3.985,   34.474,2,   34.474,2,   45.700,2,   44.200,2,  109.330,2,   41.770,2, -999.000,4, -999.000
           NA,HOT timeseries 1988to2019 27SEP2021,    212,   3,-999.0,    8020,-999.0,20110109,1715,  22.7502, -157.9997,  4743, 1199.700,    3.404,   34.532,2,   34.531,2,   55.600,2,   55.500,2,  121.390,2,   41.670,2,    2.980,2, -999.000
           NA,HOT timeseries 1988to2019 27SEP2021,    212,   3,-999.0,    8019,-999.0,20110109,1715,  22.7502, -157.9997,  4743, 1400.200,    2.983,   34.558,2,   34.558,2,   63.500,2,   63.600,2,  130.880,2,   41.470,2, -999.000,4, -999.000
           NA,HOT timeseries 1988to2019 27SEP2021,    212,   3,-999.0,    8018,-999.0,20110109,1715,  22.7502, -157.9997,  4743, 1600.500,    2.612,   34.581,2,   34.581,2,   72.100,2,   73.000,2,  139.390,2,   40.970,2,    2.940,2, -999.000
           NA,HOT timeseries 1988to2019 27SEP2021,    212,   3,-999.0,    8017,-999.0,20110109,1715,  22.7502, -157.9997,  4743, 1800.500,    2.343,   34.599,2,   34.599,2,   78.800,2,   79.700,2,  145.420,2,   40.640,2,    2.920,2, -999.000
           NA,HOT timeseries 1988to2019 27SEP2021,    212,   3,-999.0,    8016,-999.0,20110109,1715,  22.7502, -157.9997,  4743, 2000.700,    2.080,   34.618,2,   34.618,2,   87.300,2,   87.600,2,  152.100,2,   40.180,2,    2.880,2, -999.000
           NA,HOT timeseries 1988to2019 27SEP2021,    212,   3,-999.0,    8015,-999.0,20110109,1715,  22.7502, -157.9997,  4743, 2200.700,    1.909,   34.632,2,   34.632,2,   95.500,2,   96.100,2,  155.670,2,   39.700,2,    2.820,2, -999.000
           NA,HOT timeseries 1988to2019 27SEP2021,    212,   3,-999.0,    8014,-999.0,20110109,1715,  22.7502, -157.9997,  4743, 2399.500,    1.790,   34.643,2,   34.643,2,  101.900,2,  102.100,2,  158.310,2,   39.410,2, -999.000,4, -999.000
           NA,HOT timeseries 1988to2019 27SEP2021,    212,   3,-999.0,    8025,-999.0,20110109,1715,  22.7502, -157.9997,  4743, 2599.800,    1.699,   34.654,2,   34.654,2,  111.000,2,  110.400,2,  158.350,2,   38.900,2, -999.000,3, -999.000
           NA,HOT timeseries 1988to2019 27SEP2021,    212,   3,-999.0,    8012,-999.0,20110109,1715,  22.7502, -157.9997,  4743, 2799.800,    1.605,   34.661,2,   34.661,2,  116.300,2,  116.300,2,  160.240,2,   38.250,2,    2.690,2, -999.000
           NA,HOT timeseries 1988to2019 27SEP2021,    212,   3,-999.0,    8011,-999.0,20110109,1715,  22.7502, -157.9997,  4743, 3001.000,    1.553,   34.668,2,   34.668,2,  124.100,2,  123.700,2,  159.380,2,   37.720,2,    2.630,2, -999.000
           NA,HOT timeseries 1988to2019 27SEP2021,    212,   3,-999.0,    8010,-999.0,20110109,1715,  22.7502, -157.9997,  4743, 3199.700,    1.510,   34.674,2,   34.674,2,  130.700,2,  130.800,2,  157.430,2,   37.260,2,    2.580,2, -999.000
           NA,HOT timeseries 1988to2019 27SEP2021,    212,   3,-999.0,    8009,-999.0,20110109,1715,  22.7502, -157.9997,  4743, 3399.700,    1.483,   34.679,2,   34.679,2,  136.400,2,  136.200,2,  156.000,2,   36.870,2, -999.000,3, -999.000
           NA,HOT timeseries 1988to2019 27SEP2021,    212,   3,-999.0,    8008,-999.0,20110109,1715,  22.7502, -157.9997,  4743, 3598.600,    1.465,   34.681,2,   34.681,2,  141.200,2,  141.100,2,  154.460,2,   36.570,2,    2.550,2, -999.000
           NA,HOT timeseries 1988to2019 27SEP2021,    212,   3,-999.0,    8026,-999.0,20110109,1715,  22.7502, -157.9997,  4743, 3798.700,    1.454,   34.684,2,   34.683,2,  145.600,2,  145.600,2,  153.390,2,   36.170,2,    2.520,2, -999.000
           NA,HOT timeseries 1988to2019 27SEP2021,    212,   3,-999.0,    8006,-999.0,20110109,1715,  22.7502, -157.9997,  4743, 4001.000,    1.457,   34.686,2,   34.685,2,  148.100,2,  147.900,2,  150.910,2,   35.980,2,    2.510,2, -999.000
           NA,HOT timeseries 1988to2019 27SEP2021,    212,   3,-999.0,    8005,-999.0,20110109,1715,  22.7502, -157.9997,  4743, 4200.000,    1.465,   34.687,2,   34.687,2,  150.200,2,  149.700,2,  149.850,2,   35.850,2,    2.490,2, -999.000
           NA,HOT timeseries 1988to2019 27SEP2021,    212,   3,-999.0,    8004,-999.0,20110109,1715,  22.7502, -157.9997,  4743, 4399.700,    1.478,   34.688,2,   34.687,2,  151.600,2,  151.600,2,  149.520,2,   35.850,2,    2.480,2, -999.000
           NA,HOT timeseries 1988to2019 27SEP2021,    212,   3,-999.0,    8003,-999.0,20110109,1715,  22.7502, -157.9997,  4743, 4498.300,    1.485,   34.688,2,   34.689,2,  152.600,2,  152.800,2,  148.750,2,   35.680,2,    2.480,2, -999.000
           NA,HOT timeseries 1988to2019 27SEP2021,    212,   3,-999.0,    8002,-999.0,20110109,1715,  22.7502, -157.9997,  4743, 4599.400,    1.492,   34.689,2,   34.689,2,  153.400,2,  153.400,2,  147.810,2,   35.550,2,    2.470,2, -999.000
           NA,HOT timeseries 1988to2019 27SEP2021,    212,   3,-999.0,    8001,-999.0,20110109,1715,  22.7502, -157.9997,  4743, 4807.300,    1.507,   34.689,2,   34.690,2,  154.500,2,  155.000,2,  147.310,2,   35.520,2, -999.000,4, -999.000