BOTTLE,20214727JOAExport
EXPOCODE,SECT_ID,STNNBR,CASTNO,SAMPNO,BTLNBR,BTLNBR_FLAG_W,DATE,TIME,LATITUDE,LONGITUDE,DEPTH,CTDPRS,CTDTMP,CTDSAL,CTDSAL_FLAG_W,SALNTY,SALNTY_FLAG_W,CTDOXY,CTDOXY_FLAG_W,OXYGEN,OXYGEN_FLAG_W,SILCAT,SILCAT_FLAG_W,NINI,NINI_FLAG_W,PHSPHT,PHSPHT_FLAG_W,REVP
,,,,,,,,,,,,DB,IPTS-68,PSS-78,,PSS-78,,UMOL/KG,,UMOL/KG,,UMOL/KG,,UMOL/KG,,UMOL/KG,,DBAR
           NA,HOT timeseries 1988to2019 27SEP2021,     32,  99,-999.0,      18,-999.0,19920306,0130,  22.7250, -157.8783,  4779,   11.500,   23.828,   34.880,2,   34.882,2,  163.400,2,  211.200,2,    0.890,2,   -0.030,2,    0.120,2, -999.000
           NA,HOT timeseries 1988to2019 27SEP2021,     32,  99,-999.0,      23,-999.0,19920306,0130,  22.7250, -157.8783,  4779,   14.300,   23.806,   34.867,2, -999.000,4, -999.000,3,  210.900,2,    1.390,2,   -0.010,2,    0.140,2, -999.000
           NA,HOT timeseries 1988to2019 27SEP2021,     32,  99,-999.0,      17,-999.0,19920306,0130,  22.7250, -157.8783,  4779,   62.200,   23.451,   35.003,2,   35.007,2,  213.100,2,  211.500,2,    1.410,2,   -0.020,2,    0.120,2, -999.000
           NA,HOT timeseries 1988to2019 27SEP2021,     32,  99,-999.0,      16,-999.0,19920306,0130,  22.7250, -157.8783,  4779,  166.900,   20.240,   35.149,2,   35.149,2,  196.700,2,  199.000,2,    1.870,2,    1.570,2,    0.220,2, -999.000
           NA,HOT timeseries 1988to2019 27SEP2021,     32,  99,-999.0,      22,-999.0,19920306,0130,  22.7250, -157.8783,  4779,  180.900,   19.791,   35.122,2,   35.129,2,  197.900,2,  195.600,2,    2.510,2,    1.940,2,    0.240,2, -999.000
           NA,HOT timeseries 1988to2019 27SEP2021,     32,  99,-999.0,      15,-999.0,19920306,0130,  22.7250, -157.8783,  4779,  228.300,   17.240,   34.873,2,   34.867,2,  197.100,2,  194.800,2,    3.980,2,    4.170,2,    0.380,2, -999.000
           NA,HOT timeseries 1988to2019 27SEP2021,     32,  99,-999.0,      14,-999.0,19920306,0130,  22.7250, -157.8783,  4779,  279.000,   14.331,   34.505,2,   34.498,2,  198.600,2,  198.400,2,    6.750,2,    7.430,2,    0.600,2, -999.000
           NA,HOT timeseries 1988to2019 27SEP2021,     32,  99,-999.0,      13,-999.0,19920306,0130,  22.7250, -157.8783,  4779,  326.000,   12.313,   34.290,2,   34.292,2,  196.300,2,  197.500,2,   10.470,2,   11.160,2,    0.840,2, -999.000
           NA,HOT timeseries 1988to2019 27SEP2021,     32,  99,-999.0,      12,-999.0,19920306,0130,  22.7250, -157.8783,  4779,  370.700,   10.843,   34.180,2,   34.177,2,  195.600,2,  198.100,2,   14.620,2,   14.320,2,    1.050,2, -999.000
           NA,HOT timeseries 1988to2019 27SEP2021,     32,  99,-999.0,      11,-999.0,19920306,0130,  22.7250, -157.8783,  4779,  432.000,    9.011,   34.105,2,   34.103,2,  173.400,2,  175.600,2,   25.570,2,   20.280,2,    1.460,2, -999.000
           NA,HOT timeseries 1988to2019 27SEP2021,     32,  99,-999.0,      10,-999.0,19920306,0130,  22.7250, -157.8783,  4779,  462.600,    8.416,   34.118,2,   34.117,2,  135.700,2,  144.200,2, -999.000,4, -999.000,4, -999.000,4, -999.000
           NA,HOT timeseries 1988to2019 27SEP2021,     32,  99,-999.0,      21,-999.0,19920306,0130,  22.7250, -157.8783,  4779,  504.400,    7.377,   34.117,2,   34.118,2,  102.000,2,  100.500,2,   46.800,2,   29.860,2,    2.140,2, -999.000
           NA,HOT timeseries 1988to2019 27SEP2021,     32,  99,-999.0,       9,-999.0,19920306,0130,  22.7250, -157.8783,  4779,  506.100,    7.404,   34.116,2,   34.114,2,  102.600,2,  102.900,2,   46.400,2,   30.050,2,    2.210,2, -999.000
           NA,HOT timeseries 1988to2019 27SEP2021,     32,  99,-999.0,       8,-999.0,19920306,0130,  22.7250, -157.8783,  4779,  541.500,    6.985,   34.144,2,   34.139,2,   79.600,2,   79.000,2,   52.960,2,   32.680,2,    2.430,2, -999.000
           NA,HOT timeseries 1988to2019 27SEP2021,     32,  99,-999.0,       6,-999.0,19920306,0130,  22.7250, -157.8783,  4779,  577.200,    6.557,   34.178,2,   34.177,2,   57.200,2,   56.000,2,   60.770,2,   35.450,2,    2.620,2, -999.000
           NA,HOT timeseries 1988to2019 27SEP2021,     32,  99,-999.0,       7,-999.0,19920306,0130,  22.7250, -157.8783,  4779,  641.600,    5.876,   34.216,2,   34.214,2,   41.400,2,   40.500,2,   72.300,2,   38.300,2,    2.810,2, -999.000
           NA,HOT timeseries 1988to2019 27SEP2021,     32,  99,-999.0,      26,-999.0,19920306,0130,  22.7250, -157.8783,  4779,  712.000,    5.143,   34.238,2, -999.000,3, -999.000,3,   35.800,2,   85.340,2,   40.310,2,    2.920,2, -999.000
           NA,HOT timeseries 1988to2019 27SEP2021,     32,  99,-999.0,      25,-999.0,19920306,0130,  22.7250, -157.8783,  4779,  784.600,    5.060,   34.352,2,   34.350,2,   29.700,2,   28.300,2,   88.920,2,   41.490,2,    3.000,2, -999.000
           NA,HOT timeseries 1988to2019 27SEP2021,     32,  99,-999.0,       3,-999.0,19920306,0130,  22.7250, -157.8783,  4779,  866.200,    4.561,   34.407,2,   34.407,2,   32.600,2,   32.300,2,   98.300,2,   41.170,2,    3.020,2, -999.000
           NA,HOT timeseries 1988to2019 27SEP2021,     32,  99,-999.0,       2,-999.0,19920306,0130,  22.7250, -157.8783,  4779,  933.300,    4.311,   34.440,2,   34.439,2,   36.500,2,   36.600,2,  103.920,2,   42.010,2,    3.010,2, -999.000
           NA,HOT timeseries 1988to2019 27SEP2021,     32,  99,-999.0,       1,-999.0,19920306,0130,  22.7250, -157.8783,  4779, 1039.300,    3.936,   34.483,2,   34.483,2,   42.600,2,   43.200,2,  110.650,2,   42.210,2,    3.020,2, -999.000
           NA,HOT timeseries 1988to2019 27SEP2021,     32,  99,-999.0,      20,-999.0,19920306,0130,  22.7250, -157.8783,  4779, 1205.800,    3.458,   34.527,2,   34.529,2,   51.600,2,   52.700,2,  118.980,2,   41.770,2, -999.000,4, -999.000
           NA,HOT timeseries 1988to2019 27SEP2021,     32,  99,-999.0,      19,-999.0,19920306,0130,  22.7250, -157.8783,  4779, 1407.000,    3.001,   34.560,2, -999.000,2,   60.000,2, -999.000,2, -999.000,2, -999.000,2, -999.000,2, -999.000
           NA,HOT timeseries 1988to2019 27SEP2021,     32,  99,-999.0,      18,-999.0,19920306,0130,  22.7250, -157.8783,  4779, 1604.000,    2.615,   34.586,2,   34.585,2,   69.300,2,   72.000,2,  136.620,2,   41.290,2,    2.870,2, -999.000
           NA,HOT timeseries 1988to2019 27SEP2021,     32,  99,-999.0,      16,-999.0,19920306,0130,  22.7250, -157.8783,  4779, 2005.000,    2.103,   34.618,2,   34.618,2,   83.800,2,   88.100,2,  148.070,2,   40.520,2,    2.790,2, -999.000
           NA,HOT timeseries 1988to2019 27SEP2021,     32,  99,-999.0,      15,-999.0,19920306,0130,  22.7250, -157.8783,  4779, 2172.400,    1.952,   34.630,2, -999.000,5,   87.700,2,   95.500,2,  148.580,2,   39.730,2,    2.750,2, -999.000
           NA,HOT timeseries 1988to2019 27SEP2021,     32,  99,-999.0,      14,-999.0,19920306,0130,  22.7250, -157.8783,  4779, 2390.100,    1.778,   34.646,2,   34.647,2,   96.000,2,  105.000,2,  153.220,2,   39.190,2,    2.720,2, -999.000
           NA,HOT timeseries 1988to2019 27SEP2021,     32,  99,-999.0,      13,-999.0,19920306,0130,  22.7250, -157.8783,  4779, 2595.700,    1.686,   34.654,2, -999.000,4, -999.000,3,  110.700,2,  153.990,2,   38.660,2,    2.680,2, -999.000
           NA,HOT timeseries 1988to2019 27SEP2021,     32,  99,-999.0,      12,-999.0,19920306,0130,  22.7250, -157.8783,  4779, 2800.700,    1.619,   34.662,2,   34.660,2,  112.000,2,  117.500,2,  156.090,2,   38.350,2,    2.650,2, -999.000
           NA,HOT timeseries 1988to2019 27SEP2021,     32,  99,-999.0,      11,-999.0,19920306,0130,  22.7250, -157.8783,  4779, 2990.700,    1.567,   34.667,2,   34.668,2,  124.400,2,  122.200,2,  156.700,2,   38.070,2,    2.620,2, -999.000
           NA,HOT timeseries 1988to2019 27SEP2021,     32,  99,-999.0,      10,-999.0,19920306,0130,  22.7250, -157.8783,  4779, 3197.800,    1.525,   34.673,2,   34.673,2,  131.200,2,  128.600,2,  155.240,2,   37.430,2,    2.590,2, -999.000
           NA,HOT timeseries 1988to2019 27SEP2021,     32,  99,-999.0,       9,-999.0,19920306,0130,  22.7250, -157.8783,  4779, 3384.900,    1.500,   34.677,2, -999.000,2,  136.200,2, -999.000,2, -999.000,2, -999.000,2, -999.000,2, -999.000
           NA,HOT timeseries 1988to2019 27SEP2021,     32,  99,-999.0,       8,-999.0,19920306,0130,  22.7250, -157.8783,  4779, 3565.000,    1.484,   34.680,2,   34.680,2,  139.900,2,  137.200,2,  153.770,2,   37.210,2,    2.540,2, -999.000
           NA,HOT timeseries 1988to2019 27SEP2021,     32,  99,-999.0,       6,-999.0,19920306,0130,  22.7250, -157.8783,  4779, 3800.800,    1.467,   34.684,2,   34.685,2,  145.100,2,  142.500,2,  150.870,2,   36.930,2,    2.530,2, -999.000
           NA,HOT timeseries 1988to2019 27SEP2021,     32,  99,-999.0,       7,-999.0,19920306,0130,  22.7250, -157.8783,  4779, 3999.700,    1.465,   34.686,2,   34.685,2,  147.200,2,  146.500,2,  150.540,2,   36.710,2,    2.500,2, -999.000
           NA,HOT timeseries 1988to2019 27SEP2021,     32,  99,-999.0,      26,-999.0,19920306,0130,  22.7250, -157.8783,  4779, 4179.300,    1.469,   34.687,2,   34.688,2,  148.900,2, -999.000,4,  148.090,2,   36.520,2,    2.490,2, -999.000
           NA,HOT timeseries 1988to2019 27SEP2021,     32,  99,-999.0,      25,-999.0,19920306,0130,  22.7250, -157.8783,  4779, 4389.100,    1.476,   34.689,2,   34.688,2,  148.500,2,  150.800,2,  146.960,2,   36.290,2,    2.480,2, -999.000
           NA,HOT timeseries 1988to2019 27SEP2021,     32,  99,-999.0,       3,-999.0,19920306,0130,  22.7250, -157.8783,  4779, 4483.500,    1.481,   34.689,2,   34.690,2,  149.900,2,  153.900,2,  145.870,2,   36.270,2,    2.500,2, -999.000
           NA,HOT timeseries 1988to2019 27SEP2021,     32,  99,-999.0,       2,-999.0,19920306,0130,  22.7250, -157.8783,  4779, 4629.000,    1.489,   34.690,2,   34.691,2,  151.400,2,  152.900,2,  147.330,2,   35.840,2,    2.480,2, -999.000
           NA,HOT timeseries 1988to2019 27SEP2021,     32,  99,-999.0,       1,-999.0,19920306,0130,  22.7250, -157.8783,  4779, 4729.000,    1.498,   34.691,2, -999.000,3, -999.000,3,  154.700,2,  146.080,2,   36.220,2,    2.480,2, -999.000