BOTTLE,20214727JOAExport
EXPOCODE,SECT_ID,STNNBR,CASTNO,SAMPNO,BTLNBR,BTLNBR_FLAG_W,DATE,TIME,LATITUDE,LONGITUDE,DEPTH,CTDPRS,CTDTMP,CTDSAL,CTDSAL_FLAG_W,SALNTY,SALNTY_FLAG_W,CTDOXY,CTDOXY_FLAG_W,OXYGEN,OXYGEN_FLAG_W,SILCAT,SILCAT_FLAG_W,NINI,NINI_FLAG_W,PHSPHT,PHSPHT_FLAG_W,REVP
,,,,,,,,,,,,DB,IPTS-68,PSS-78,,PSS-78,,UMOL/KG,,UMOL/KG,,UMOL/KG,,UMOL/KG,,UMOL/KG,,DBAR
           NA,HOT timeseries 1988to2019 27SEP2021,     25,  99,-999.0,      23,-999.0,19910709,2001,  22.7467, -157.9867,  4799,   13.200,   25.475,   34.869,2,   34.870,2,  284.300,2,  208.300,2,    1.430,2,    0.000,2,    0.120,2, -999.000
           NA,HOT timeseries 1988to2019 27SEP2021,     25,  99,-999.0,      22,-999.0,19910709,2001,  22.7467, -157.9867,  4799,   53.500,   24.790,   34.845,2,   34.847,2,  231.700,2,  215.600,2,    1.250,2,    0.000,2,    0.130,2, -999.000
           NA,HOT timeseries 1988to2019 27SEP2021,     25,  99,-999.0,      21,-999.0,19910709,2001,  22.7467, -157.9867,  4799,   66.400,   24.319,   35.000,2,   34.999,2,  240.000,2,  217.200,2,    1.250,2,    0.000,2,    0.100,2, -999.000
           NA,HOT timeseries 1988to2019 27SEP2021,     25,  99,-999.0,      20,-999.0,19910709,2001,  22.7467, -157.9867,  4799,  110.100,   22.332,   35.136,2,   35.131,2,  216.500,2,  214.900,2,    1.060,2,    0.030,2,    0.120,2, -999.000
           NA,HOT timeseries 1988to2019 27SEP2021,     25,  99,-999.0,      19,-999.0,19910709,2001,  22.7467, -157.9867,  4799,  143.400,   21.356,   35.235,2,   35.235,2,  208.500,2,  208.500,2,    1.600,2,    0.350,2,    0.130,2, -999.000
           NA,HOT timeseries 1988to2019 27SEP2021,     25,  99,-999.0,      18,-999.0,19910709,2001,  22.7467, -157.9867,  4799,  186.000,   19.885,   35.204,2,   35.211,2,  201.700,2,  202.700,2,    1.960,2,    1.300,2,    0.180,2, -999.000
           NA,HOT timeseries 1988to2019 27SEP2021,     25,  99,-999.0,      17,-999.0,19910709,2001,  22.7467, -157.9867,  4799,  244.200,   16.313,   34.729,2,   34.728,2,  190.300,2,  193.600,2,    4.630,2,    4.620,2,    0.420,2, -999.000
           NA,HOT timeseries 1988to2019 27SEP2021,     25,  99,-999.0,      16,-999.0,19910709,2001,  22.7467, -157.9867,  4799,  315.900,   12.205,   34.267,2,   34.265,2,  201.200,2,  200.100,2,   11.220,2,   10.680,2,    0.830,2, -999.000
           NA,HOT timeseries 1988to2019 27SEP2021,     25,  99,-999.0,      15,-999.0,19910709,2001,  22.7467, -157.9867,  4799,  372.800,   10.491,   34.164,2,   34.166,2,  198.700,2,  190.200,2,   17.280,2,   15.580,2,    1.130,2, -999.000
           NA,HOT timeseries 1988to2019 27SEP2021,     25,  99,-999.0,      14,-999.0,19910709,2001,  22.7467, -157.9867,  4799,  409.100,    9.253,   34.122,2,   34.122,2,  170.900,2,  164.200,2,   26.890,2,   20.470,2,    1.520,2, -999.000
           NA,HOT timeseries 1988to2019 27SEP2021,     25,  99,-999.0,      13,-999.0,19910709,2001,  22.7467, -157.9867,  4799,  421.100,    8.872,   34.114,2,   34.113,2,  156.500,2,  155.000,2,   29.920,2,   22.110,2,    1.610,2, -999.000
           NA,HOT timeseries 1988to2019 27SEP2021,     25,  99,-999.0,      12,-999.0,19910709,2001,  22.7467, -157.9867,  4799,  485.700,    7.481,   34.089,2,   34.089,2,  115.400,2,  118.700,2,   45.070,2,   28.020,2,    2.050,2, -999.000
           NA,HOT timeseries 1988to2019 27SEP2021,     25,  99,-999.0,      11,-999.0,19910709,2001,  22.7467, -157.9867,  4799,  528.300,    6.805,   34.101,2,   34.102,2,   95.500,2,   94.400,2,   54.690,2,   31.650,2,    2.320,2, -999.000
           NA,HOT timeseries 1988to2019 27SEP2021,     25,  99,-999.0,      10,-999.0,19910709,2001,  22.7467, -157.9867,  4799,  574.300,    6.153,   34.131,2,   34.130,2,   68.600,2,   67.800,2,   65.550,2,   35.050,2,    2.600,2, -999.000
           NA,HOT timeseries 1988to2019 27SEP2021,     25,  99,-999.0,       9,-999.0,19910709,2001,  22.7467, -157.9867,  4799,  620.400,    5.750,   34.181,2,   34.181,2,   49.400,2,   50.900,2,   74.450,2,   37.180,2,    2.730,2, -999.000
           NA,HOT timeseries 1988to2019 27SEP2021,     25,  99,-999.0,       8,-999.0,19910709,2001,  22.7467, -157.9867,  4799,  688.600,    5.163,   34.243,2,   34.242,2,   31.300,2,   36.700,2,   86.920,2,   39.320,2,    2.900,2, -999.000
           NA,HOT timeseries 1988to2019 27SEP2021,     25,  99,-999.0,       7,-999.0,19910709,2001,  22.7467, -157.9867,  4799,  768.100,    4.716,   34.324,2,   34.324,2,   21.800,2,   31.000,2,   96.710,2,   40.820,2,    2.980,2, -999.000
           NA,HOT timeseries 1988to2019 27SEP2021,     25,  99,-999.0,       6,-999.0,19910709,2001,  22.7467, -157.9867,  4799,  791.200,    4.558,   34.335,2,   34.334,2,   27.700,2,   30.600,2,  100.270,2,   41.450,2,    3.000,2, -999.000
           NA,HOT timeseries 1988to2019 27SEP2021,     25,  99,-999.0,      26,-999.0,19910709,2001,  22.7467, -157.9867,  4799,  811.700,    4.494,   34.347,2,   34.350,2,   28.200,2,   31.200,2,  101.170,2,   41.450,2,    3.000,2, -999.000
           NA,HOT timeseries 1988to2019 27SEP2021,     25,  99,-999.0,      25,-999.0,19910709,2001,  22.7467, -157.9867,  4799,  857.400,    4.315,   34.393,2,   34.394,2,   32.900,2,   33.700,2,  104.720,2,   41.700,2,    3.030,2, -999.000
           NA,HOT timeseries 1988to2019 27SEP2021,     25,  99,-999.0,       3,-999.0,19910709,2001,  22.7467, -157.9867,  4799,  893.200,    4.158,   34.415,2,   34.416,2,   31.900,2,   34.600,2,  108.290,2,   41.700,2,    3.040,2, -999.000
           NA,HOT timeseries 1988to2019 27SEP2021,     25,  99,-999.0,       2,-999.0,19910709,2001,  22.7467, -157.9867,  4799,  987.600,    4.010,   34.479,2,   34.480,2,   42.600,2,   42.800,2,  110.950,2,   41.950,2,    3.040,2, -999.000
           NA,HOT timeseries 1988to2019 27SEP2021,     25,  99,-999.0,       1,-999.0,19910709,2001,  22.7467, -157.9867,  4799, 1037.700,    3.817,   34.497,2,   34.498,2,   44.900,2,   44.900,2,  115.670,2,   41.820,2,    3.050,2, -999.000
           NA,HOT timeseries 1988to2019 27SEP2021,     25,  99,-999.0,      21,-999.0,19910709,2001,  22.7467, -157.9867,  4799, 1207.100,    3.360,   34.525,2,   34.526,2,   56.100,2,   54.700,2,  123.410,2,   41.320,2,    2.980,2, -999.000
           NA,HOT timeseries 1988to2019 27SEP2021,     25,  99,-999.0,      20,-999.0,19910709,2001,  22.7467, -157.9867,  4799, 1405.700,    2.923,   34.563,2,   34.564,2,   69.900,2,   63.500,2,  134.090,2,   40.940,2,    2.930,2, -999.000
           NA,HOT timeseries 1988to2019 27SEP2021,     25,  99,-999.0,      19,-999.0,19910709,2001,  22.7467, -157.9867,  4799, 1606.100,    2.582,   34.584,2,   34.585,2,   76.200,2,   72.100,2,  141.210,2,   40.560,2,    2.900,2, -999.000
           NA,HOT timeseries 1988to2019 27SEP2021,     25,  99,-999.0,      18,-999.0,19910709,2001,  22.7467, -157.9867,  4799, 1808.300,    2.283,   34.603,2, -999.000,4, -999.000,3,   82.000,2, -999.000,4, -999.000,4, -999.000,4, -999.000
           NA,HOT timeseries 1988to2019 27SEP2021,     25,  99,-999.0,      17,-999.0,19910709,2001,  22.7467, -157.9867,  4799, 2007.500,    2.075,   34.618,2,   34.621,2,   89.000,2,   87.900,2,  153.680,2,   39.810,2,    2.810,2, -999.000
           NA,HOT timeseries 1988to2019 27SEP2021,     25,  99,-999.0,      16,-999.0,19910709,2001,  22.7467, -157.9867,  4799, 2204.900,    1.884,   34.631,2,   34.632,2,   95.100,2,   93.900,2,  158.600,2,   39.350,2,    2.790,2, -999.000
           NA,HOT timeseries 1988to2019 27SEP2021,     25,  99,-999.0,      15,-999.0,19910709,2001,  22.7467, -157.9867,  4799, 2399.200,    1.755,   34.644,2,   34.645,2,  102.800,2,  102.800,2,  159.910,2,   38.670,2,    2.730,2, -999.000
           NA,HOT timeseries 1988to2019 27SEP2021,     25,  99,-999.0,      14,-999.0,19910709,2001,  22.7467, -157.9867,  4799, 2604.900,    1.654,   34.655,2,   34.658,2,  111.200,2,  112.400,2,  161.680,2,   38.300,2,    2.690,2, -999.000
           NA,HOT timeseries 1988to2019 27SEP2021,     25,  99,-999.0,      13,-999.0,19910709,2001,  22.7467, -157.9867,  4799, 2799.000,    1.600,   34.661,2,   34.662,2,  116.100,2,  117.800,2,  160.790,2,   37.800,2,    2.660,2, -999.000
           NA,HOT timeseries 1988to2019 27SEP2021,     25,  99,-999.0,      12,-999.0,19910709,2001,  22.7467, -157.9867,  4799, 3003.200,    1.535,   34.667,2,   34.668,2,  128.100,2,  126.500,2,  159.010,2,   37.170,2,    2.620,2, -999.000
           NA,HOT timeseries 1988to2019 27SEP2021,     25,  99,-999.0,      11,-999.0,19910709,2001,  22.7467, -157.9867,  4799, 3203.600,    1.490,   34.673,2,   34.674,2,  132.500,2,  133.000,2,  158.170,2,   36.760,2,    2.590,2, -999.000
           NA,HOT timeseries 1988to2019 27SEP2021,     25,  99,-999.0,      10,-999.0,19910709,2001,  22.7467, -157.9867,  4799, 3405.700,    1.464,   34.678,2,   34.678,2,  138.400,2,  138.800,2,  155.100,2,   36.540,2,    2.540,2, -999.000
           NA,HOT timeseries 1988to2019 27SEP2021,     25,  99,-999.0,       9,-999.0,19910709,2001,  22.7467, -157.9867,  4799, 3607.100,    1.448,   34.681,2,   34.682,2,  144.000,2,  143.100,2,  151.530,2, -999.000,3,    2.520,2, -999.000
           NA,HOT timeseries 1988to2019 27SEP2021,     25,  99,-999.0,       8,-999.0,19910709,2001,  22.7467, -157.9867,  4799, 3805.700,    1.446,   34.683,2,   34.684,2,  146.700,2,  147.100,2,  152.780,2,   35.920,2,    2.500,2, -999.000
           NA,HOT timeseries 1988to2019 27SEP2021,     25,  99,-999.0,       7,-999.0,19910709,2001,  22.7467, -157.9867,  4799, 4005.000,    1.452,   34.684,2,   34.685,2,  148.500,2,  148.400,2,  149.750,2,   35.660,2,    2.490,2, -999.000
           NA,HOT timeseries 1988to2019 27SEP2021,     25,  99,-999.0,       6,-999.0,19910709,2001,  22.7467, -157.9867,  4799, 4206.500,    1.464,   34.686,2,   34.686,2,  149.200,2,  150.400,2,  150.640,2, -999.000,3, -999.000,3, -999.000
           NA,HOT timeseries 1988to2019 27SEP2021,     25,  99,-999.0,      26,-999.0,19910709,2001,  22.7467, -157.9867,  4799, 4402.700,    1.477,   34.687,2,   34.686,2,  151.100,2,  151.900,2,  149.750,2,   35.660,2,    2.490,2, -999.000
           NA,HOT timeseries 1988to2019 27SEP2021,     25,  99,-999.0,      25,-999.0,19910709,2001,  22.7467, -157.9867,  4799, 4503.500,    1.484,   34.687,2,   34.689,2,  153.300,2,  152.700,2,  149.210,2,   35.610,2,    2.480,2, -999.000
           NA,HOT timeseries 1988to2019 27SEP2021,     25,  99,-999.0,       3,-999.0,19910709,2001,  22.7467, -157.9867,  4799, 4606.200,    1.492,   34.687,2,   34.688,2,  152.200,2,  153.600,2,  148.860,2,   35.410,2,    2.460,2, -999.000
           NA,HOT timeseries 1988to2019 27SEP2021,     25,  99,-999.0,       2,-999.0,19910709,2001,  22.7467, -157.9867,  4799, 4758.200,    1.497,   34.689,2,   34.688,2,  156.600,2,  155.700,2,  148.860,2,   35.280,2,    2.460,2, -999.000
           NA,HOT timeseries 1988to2019 27SEP2021,     25,  99,-999.0,       1,-999.0,19910709,2001,  22.7467, -157.9867,  4799, 4758.200,    1.497,   34.689,2,   34.688,2,  156.600,2,  155.200,2,  148.060,2,   35.280,2,    2.460,2, -999.000