BOTTLE,20214727JOAExport
EXPOCODE,SECT_ID,STNNBR,CASTNO,SAMPNO,BTLNBR,BTLNBR_FLAG_W,DATE,TIME,LATITUDE,LONGITUDE,DEPTH,CTDPRS,CTDTMP,CTDSAL,CTDSAL_FLAG_W,SALNTY,SALNTY_FLAG_W,CTDOXY,CTDOXY_FLAG_W,OXYGEN,OXYGEN_FLAG_W,SILCAT,SILCAT_FLAG_W,NINI,NINI_FLAG_W,PHSPHT,PHSPHT_FLAG_W,REVP
,,,,,,,,,,,,DB,IPTS-68,PSS-78,,PSS-78,,UMOL/KG,,UMOL/KG,,UMOL/KG,,UMOL/KG,,UMOL/KG,,DBAR
           NA,HOT timeseries 1988to2019 27SEP2021,    132,  99,-999.0,      31,-999.0,20020312,1246,  22.7490, -158.0010,  4722,    4.800,   22.713,   35.353,2, -999.000,5,  217.500,2,  217.100,2,    1.260,2,    0.010,2,    0.030,2, -999.000
           NA,HOT timeseries 1988to2019 27SEP2021,    132,  99,-999.0,      31,-999.0,20020312,1246,  22.7490, -158.0010,  4722,   24.700,   22.708,   35.361,2,   35.360,2,  216.000,2,  216.600,2,    1.320,2,    0.050,2,    0.030,2, -999.000
           NA,HOT timeseries 1988to2019 27SEP2021,    132,  99,-999.0,      30,-999.0,20020312,1246,  22.7490, -158.0010,  4722,   74.600,   22.588,   35.358,2,   35.356,2,  215.900,2,  216.500,2,    1.190,2,    0.030,2,    0.030,2, -999.000
           NA,HOT timeseries 1988to2019 27SEP2021,    132,  99,-999.0,      22,-999.0,20020312,1246,  22.7490, -158.0010,  4722,  109.700,   22.571,   35.361,2,   35.360,2,  215.500,2,  215.600,2,    1.200,2,    0.020,2,    0.020,2, -999.000
           NA,HOT timeseries 1988to2019 27SEP2021,    132,  99,-999.0,      21,-999.0,20020312,1246,  22.7490, -158.0010,  4722,  150.100,   22.490,   35.360,2,   35.362,2,  214.200,2,  214.100,2,    1.220,2,    0.030,2,    0.040,2, -999.000
           NA,HOT timeseries 1988to2019 27SEP2021,    132,  99,-999.0,      20,-999.0,20020312,1246,  22.7490, -158.0010,  4722,  178.800,   20.867,   35.321,2,   35.323,2,  206.700,2,  207.400,2,    1.600,2,    0.780,2,    0.050,2, -999.000
           NA,HOT timeseries 1988to2019 27SEP2021,    132,  99,-999.0,      19,-999.0,20020312,1246,  22.7490, -158.0010,  4722,  214.100,   20.279,   35.283,2,   35.286,2,  204.400,2,  202.600,2,    1.860,2,    1.250,2,    0.170,2, -999.000
           NA,HOT timeseries 1988to2019 27SEP2021,    132,  99,-999.0,      18,-999.0,20020312,1246,  22.7490, -158.0010,  4722,  248.100,   19.234,   35.104,2,   35.113,2,  202.200,2,  201.500,2,    2.540,2,    1.980,2,    0.180,2, -999.000
           NA,HOT timeseries 1988to2019 27SEP2021,    132,  99,-999.0,      17,-999.0,20020312,1246,  22.7490, -158.0010,  4722,  290.900,   16.295,   34.649,2,   34.644,2,  197.200,2,  196.400,2,    4.880,2,    4.960,2,    0.370,2, -999.000
           NA,HOT timeseries 1988to2019 27SEP2021,    132,  99,-999.0,      16,-999.0,20020312,1246,  22.7490, -158.0010,  4722,  345.000,   11.676,   34.167,2,   34.172,2,  194.600,2,  193.700,2,   12.510,2,   12.660,2, -999.000,3, -999.000
           NA,HOT timeseries 1988to2019 27SEP2021,    132,  99,-999.0,      23,-999.0,20020312,1246,  22.7490, -158.0010,  4722,  378.800,   10.240,   34.115,2,   34.116,2,  186.000,2,  186.300,2,   18.570,2,   16.900,2, -999.000,3, -999.000
           NA,HOT timeseries 1988to2019 27SEP2021,    132,  99,-999.0,      14,-999.0,20020312,1246,  22.7490, -158.0010,  4722,  423.700,    8.810,   34.069,2,   34.069,2,  163.400,2,  165.000,2,   28.050,2,   22.070,2, -999.000,3, -999.000
           NA,HOT timeseries 1988to2019 27SEP2021,    132,  99,-999.0,      13,-999.0,20020312,1246,  22.7490, -158.0010,  4722,  464.700,    7.798,   34.038,2,   34.040,2,  148.400,2,  145.300,2,   36.550,2,   25.850,2, -999.000,3, -999.000
           NA,HOT timeseries 1988to2019 27SEP2021,    132,  99,-999.0,      12,-999.0,20020312,1246,  22.7490, -158.0010,  4722,  504.300,    7.137,   34.032,2,   34.032,2,  124.200,2,  122.500,2,   44.660,2,   29.160,2, -999.000,3, -999.000
           NA,HOT timeseries 1988to2019 27SEP2021,    132,  99,-999.0,      11,-999.0,20020312,1246,  22.7490, -158.0010,  4722,  544.800,    6.471,   34.050,2,   34.050,2,   92.500,2,   92.000,2,   54.830,2,   33.040,2, -999.000,3, -999.000
           NA,HOT timeseries 1988to2019 27SEP2021,    132,  99,-999.0,       3,-999.0,20020312,1246,  22.7490, -158.0010,  4722,  642.600,    5.227,   34.112,2,   34.112,2,   49.600,2,   49.300,2, -999.000,3,   39.180,2, -999.000,3, -999.000
           NA,HOT timeseries 1988to2019 27SEP2021,    132,  99,-999.0,      29,-999.0,20020312,1246,  22.7490, -158.0010,  4722,  688.000,    4.898,   34.179,2,   34.179,2,   33.300,2,   33.600,2, -999.000,3,   40.710,2, -999.000,4, -999.000
           NA,HOT timeseries 1988to2019 27SEP2021,    132,  99,-999.0,      28,-999.0,20020312,1246,  22.7490, -158.0010,  4722,  735.300,    4.594,   34.266,2,   34.267,2,   23.900,2,   23.600,2, -999.000,3,   42.040,2, -999.000,4, -999.000
           NA,HOT timeseries 1988to2019 27SEP2021,    132,  99,-999.0,       7,-999.0,20020312,1246,  22.7490, -158.0010,  4722,  772.800,    4.486,   34.306,2,   34.307,2,   23.700,2,   23.400,2, -999.000,3,   42.310,2, -999.000,4, -999.000
           NA,HOT timeseries 1988to2019 27SEP2021,    132,  99,-999.0,      38,-999.0,20020312,1246,  22.7490, -158.0010,  4722,  816.700,    4.350,   34.354,2,   34.353,2,   25.300,2,   25.200,2, -999.000,3,   42.310,2, -999.000,4, -999.000
           NA,HOT timeseries 1988to2019 27SEP2021,    132,  99,-999.0,      36,-999.0,20020312,1246,  22.7490, -158.0010,  4722,  874.000,    4.210,   34.411,2,   34.410,2,   29.400,2,   30.400,2,  103.860,2,   42.370,2, -999.000,4, -999.000
           NA,HOT timeseries 1988to2019 27SEP2021,    132,  99,-999.0,      34,-999.0,20020312,1246,  22.7490, -158.0010,  4722,  979.700,    3.873,   34.471,2,   34.471,2,   39.100,2,   39.400,2,  109.130,2,   42.120,2, -999.000,4, -999.000
           NA,HOT timeseries 1988to2019 27SEP2021,    132,  99,-999.0,      33,-999.0,20020312,1246,  22.7490, -158.0010,  4722, 1022.800,    3.776,   34.486,2,   34.484,2,   41.400,2,   41.800,2,  111.820,2,   42.170,2, -999.000,4, -999.000
           NA,HOT timeseries 1988to2019 27SEP2021,    132,  99,-999.0,      20,-999.0,20020312,1246,  22.7490, -158.0010,  4722, 1199.400,    3.349,   34.537,2,   34.537,2,   52.500,2,   52.200,2,  123.420,2,   41.950,2, -999.000,4, -999.000
           NA,HOT timeseries 1988to2019 27SEP2021,    132,  99,-999.0,      19,-999.0,20020312,1246,  22.7490, -158.0010,  4722, 1401.400,    2.968,   34.565,2, -999.000,5,   62.900,2,   62.600,2,  131.450,2,   41.790,2, -999.000,4, -999.000
           NA,HOT timeseries 1988to2019 27SEP2021,    132,  99,-999.0,      18,-999.0,20020312,1246,  22.7490, -158.0010,  4722, 1600.000,    2.662,   34.588,2,   34.586,2,   71.000,2,   71.300,2,  137.780,2,   41.170,2, -999.000,4, -999.000
           NA,HOT timeseries 1988to2019 27SEP2021,    132,  99,-999.0,      17,-999.0,20020312,1246,  22.7490, -158.0010,  4722, 1801.700,    2.356,   34.606,2,   34.605,2,   81.000,2,   81.300,2, -999.000,3,   40.470,2,    2.890,2, -999.000
           NA,HOT timeseries 1988to2019 27SEP2021,    132,  99,-999.0,      16,-999.0,20020312,1246,  22.7490, -158.0010,  4722, 1999.600,    2.121,   34.623,2,   34.623,2,   89.900,2,   90.000,2,  147.510,2,   40.100,2, -999.000,4, -999.000
           NA,HOT timeseries 1988to2019 27SEP2021,    132,  99,-999.0,      23,-999.0,20020312,1246,  22.7490, -158.0010,  4722, 2200.800,    1.958,   34.636,2,   34.636,2,   96.700,2,   97.500,2,  153.050,2,   39.720,2, -999.000,4, -999.000
           NA,HOT timeseries 1988to2019 27SEP2021,    132,  99,-999.0,      14,-999.0,20020312,1246,  22.7490, -158.0010,  4722, 2402.300,    1.811,   34.647,2,   34.645,2,  104.000,2,  104.800,2,  156.730,2,   39.290,2, -999.000,4, -999.000
           NA,HOT timeseries 1988to2019 27SEP2021,    132,  99,-999.0,      13,-999.0,20020312,1246,  22.7490, -158.0010,  4722, 2601.400,    1.702,   34.654,2,   34.653,2,  110.300,2,  110.500,2,  158.090,2,   38.860,2,    2.750,2, -999.000
           NA,HOT timeseries 1988to2019 27SEP2021,    132,  99,-999.0,      12,-999.0,20020312,1246,  22.7490, -158.0010,  4722, 2798.700,    1.625,   34.662,2,   34.661,2,  117.400,2,  117.900,2,  157.760,2,   38.440,2, -999.000,4, -999.000
           NA,HOT timeseries 1988to2019 27SEP2021,    132,  99,-999.0,      11,-999.0,20020312,1246,  22.7490, -158.0010,  4722, 3000.400,    1.569,   34.669,2,   34.668,2,  121.900,2,  122.900,2,  157.530,2,   38.190,2, -999.000,4, -999.000
           NA,HOT timeseries 1988to2019 27SEP2021,    132,  99,-999.0,      32,-999.0,20020312,1246,  22.7490, -158.0010,  4722, 3201.800,    1.529,   34.674,2,   34.674,2,  129.200,2,  130.500,2,  159.160,2,   37.750,2, -999.000,4, -999.000
           NA,HOT timeseries 1988to2019 27SEP2021,    132,  99,-999.0,       3,-999.0,20020312,1246,  22.7490, -158.0010,  4722, 3400.900,    1.498,   34.678,2,   34.679,2,  134.100,2,  134.400,2,  155.180,2,   37.380,2,    2.540,2, -999.000
           NA,HOT timeseries 1988to2019 27SEP2021,    132,  99,-999.0,      29,-999.0,20020312,1246,  22.7490, -158.0010,  4722, 3599.900,    1.479,   34.681,2,   34.682,2,  139.300,2,  139.600,2,  153.960,2,   37.080,2, -999.000,4, -999.000
           NA,HOT timeseries 1988to2019 27SEP2021,    132,  99,-999.0,      28,-999.0,20020312,1246,  22.7490, -158.0010,  4722, 3799.000,    1.464,   34.684,2,   34.684,2,  144.400,2,  143.800,2,  153.970,2,   36.720,2, -999.000,4, -999.000
           NA,HOT timeseries 1988to2019 27SEP2021,    132,  99,-999.0,       7,-999.0,20020312,1246,  22.7490, -158.0010,  4722, 3999.700,    1.460,   34.686,2,   34.688,2,  148.300,2,  147.800,2,  150.450,2,   36.500,2, -999.000,3, -999.000
           NA,HOT timeseries 1988to2019 27SEP2021,    132,  99,-999.0,      38,-999.0,20020312,1246,  22.7490, -158.0010,  4722, 4200.800,    1.467,   34.688,2,   34.688,2,  150.700,2,  150.300,2,  149.680,2,   36.360,2, -999.000,3, -999.000
           NA,HOT timeseries 1988to2019 27SEP2021,    132,  99,-999.0,      36,-999.0,20020312,1246,  22.7490, -158.0010,  4722, 4399.000,    1.479,   34.688,2,   34.688,2,  152.200,2,  151.800,2,  149.280,2,   36.190,2, -999.000,4, -999.000
           NA,HOT timeseries 1988to2019 27SEP2021,    132,  99,-999.0,      35,-999.0,20020312,1246,  22.7490, -158.0010,  4722, 4499.400,    1.486,   34.689,2,   34.689,2,  153.200,2,  152.600,2,  149.290,2,   36.080,2, -999.000,4, -999.000
           NA,HOT timeseries 1988to2019 27SEP2021,    132,  99,-999.0,      34,-999.0,20020312,1246,  22.7490, -158.0010,  4722, 4600.400,    1.494,   34.689,2,   34.690,2,  154.000,2,  153.100,2,  148.570,2,   35.690,2, -999.000,4, -999.000
           NA,HOT timeseries 1988to2019 27SEP2021,    132,  99,-999.0,      33,-999.0,20020312,1246,  22.7490, -158.0010,  4722, 4804.000,    1.515,   34.689,2,   34.690,2,  154.300,2,  154.100,2,  148.020,2,   35.600,2, -999.000,4, -999.000