BOTTLE,20214727JOAExport
EXPOCODE,SECT_ID,STNNBR,CASTNO,SAMPNO,BTLNBR,BTLNBR_FLAG_W,DATE,TIME,LATITUDE,LONGITUDE,DEPTH,CTDPRS,CTDTMP,CTDSAL,CTDSAL_FLAG_W,SALNTY,SALNTY_FLAG_W,CTDOXY,CTDOXY_FLAG_W,OXYGEN,OXYGEN_FLAG_W,SILCAT,SILCAT_FLAG_W,NINI,NINI_FLAG_W,PHSPHT,PHSPHT_FLAG_W,REVP
,,,,,,,,,,,,DB,IPTS-68,PSS-78,,PSS-78,,UMOL/KG,,UMOL/KG,,UMOL/KG,,UMOL/KG,,UMOL/KG,,DBAR
           NA,HOT timeseries 1988to2019 27SEP2021,    126,  99,-999.0,      31,-999.0,20011001,1805,  22.7465, -158.0008,  4726,    5.400,   26.273,   35.285,2,   35.285,2,  203.300,2,  204.300,2, -999.000,9, -999.000,9, -999.000,9, -999.000
           NA,HOT timeseries 1988to2019 27SEP2021,    126,  99,-999.0,      30,-999.0,20011001,1805,  22.7465, -158.0008,  4726,   53.700,   26.198,   35.383,2,   35.383,2,  204.800,2,  205.900,2, -999.000,9, -999.000,9, -999.000,9, -999.000
           NA,HOT timeseries 1988to2019 27SEP2021,    126,  99,-999.0,      21,-999.0,20011001,1805,  22.7465, -158.0008,  4726,   98.900,   22.368,   35.319,2,   35.323,2,  224.000,2,  223.800,2, -999.000,9, -999.000,9, -999.000,9, -999.000
           NA,HOT timeseries 1988to2019 27SEP2021,    126,  99,-999.0,      20,-999.0,20011001,1805,  22.7465, -158.0008,  4726,  125.300,   21.239,   35.327,2,   35.326,2,  216.000,2,  215.400,2, -999.000,9, -999.000,9, -999.000,9, -999.000
           NA,HOT timeseries 1988to2019 27SEP2021,    126,  99,-999.0,      19,-999.0,20011001,1805,  22.7465, -158.0008,  4726,  167.400,   19.649,   35.159,2,   35.160,2,  206.600,2,  205.200,2, -999.000,9, -999.000,9, -999.000,9, -999.000
           NA,HOT timeseries 1988to2019 27SEP2021,    126,  99,-999.0,      18,-999.0,20011001,1805,  22.7465, -158.0008,  4726,  227.600,   15.784,   34.594,2,   34.597,2,  200.800,2,  199.000,2, -999.000,9, -999.000,9, -999.000,9, -999.000
           NA,HOT timeseries 1988to2019 27SEP2021,    126,  99,-999.0,      17,-999.0,20011001,1805,  22.7465, -158.0008,  4726,  265.300,   13.454,   34.308,2,   34.311,2,  202.700,2,  201.400,2, -999.000,9, -999.000,9, -999.000,9, -999.000
           NA,HOT timeseries 1988to2019 27SEP2021,    126,  99,-999.0,      16,-999.0,20011001,1805,  22.7465, -158.0008,  4726,  299.000,   11.985,   34.203,2,   34.202,2,  204.700,2,  203.900,2, -999.000,9, -999.000,9, -999.000,9, -999.000
           NA,HOT timeseries 1988to2019 27SEP2021,    126,  99,-999.0,      23,-999.0,20011001,1805,  22.7465, -158.0008,  4726,  350.100,   10.707,   34.197,2,   34.193,2,  203.300,2,  207.000,2, -999.000,9, -999.000,9, -999.000,9, -999.000
           NA,HOT timeseries 1988to2019 27SEP2021,    126,  99,-999.0,      14,-999.0,20011001,1805,  22.7465, -158.0008,  4726,  412.300,    8.764,   34.080,2,   34.081,2,  174.300,2,  174.500,2, -999.000,9, -999.000,9, -999.000,9, -999.000
           NA,HOT timeseries 1988to2019 27SEP2021,    126,  99,-999.0,      13,-999.0,20011001,1805,  22.7465, -158.0008,  4726,  448.400,    7.836,   34.043,2,   34.044,2,  156.100,2,  156.900,2, -999.000,9, -999.000,9, -999.000,9, -999.000
           NA,HOT timeseries 1988to2019 27SEP2021,    126,  99,-999.0,      12,-999.0,20011001,1805,  22.7465, -158.0008,  4726,  490.200,    6.918,   34.028,2,   34.026,2,  127.400,2,  128.000,2, -999.000,9, -999.000,9, -999.000,9, -999.000
           NA,HOT timeseries 1988to2019 27SEP2021,    126,  99,-999.0,      11,-999.0,20011001,1805,  22.7465, -158.0008,  4726,  514.700,    6.594,   34.065,2,   34.069,2,   97.700,2,   96.400,2, -999.000,9, -999.000,9, -999.000,9, -999.000
           NA,HOT timeseries 1988to2019 27SEP2021,    126,  99,-999.0,      32,-999.0,20011001,1805,  22.7465, -158.0008,  4726,  579.700,    6.011,   34.122,2,   34.119,2,   67.700,2,   65.000,2, -999.000,9, -999.000,9, -999.000,9, -999.000
           NA,HOT timeseries 1988to2019 27SEP2021,    126,  99,-999.0,       3,-999.0,20011001,1805,  22.7465, -158.0008,  4726,  624.900,    5.465,   34.156,2, -999.000,3, -999.000,3,   49.900,2, -999.000,9, -999.000,9, -999.000,9, -999.000
           NA,HOT timeseries 1988to2019 27SEP2021,    126,  99,-999.0,      29,-999.0,20011001,1805,  22.7465, -158.0008,  4726,  665.100,    5.094,   34.197,2,   34.194,2,   39.000,2,   34.700,2, -999.000,9, -999.000,9, -999.000,9, -999.000
           NA,HOT timeseries 1988to2019 27SEP2021,    126,  99,-999.0,      28,-999.0,20011001,1805,  22.7465, -158.0008,  4726,  700.400,    4.861,   34.231,2,   34.235,2,   31.400,2,   28.100,2, -999.000,9, -999.000,9, -999.000,9, -999.000
           NA,HOT timeseries 1988to2019 27SEP2021,    126,  99,-999.0,       7,-999.0,20011001,1805,  22.7465, -158.0008,  4726,  744.500,    4.652,   34.291,2,   34.290,2,   26.100,2,   23.400,2, -999.000,9, -999.000,9, -999.000,9, -999.000
           NA,HOT timeseries 1988to2019 27SEP2021,    126,  99,-999.0,      38,-999.0,20011001,1805,  22.7465, -158.0008,  4726,  789.800,    4.589,   34.362,2,   34.359,2,   27.900,2,   27.800,2, -999.000,9, -999.000,9, -999.000,9, -999.000
           NA,HOT timeseries 1988to2019 27SEP2021,    126,  99,-999.0,      36,-999.0,20011001,1805,  22.7465, -158.0008,  4726,  825.100,    4.544,   34.409,2,   34.411,2,   31.000,2,   29.700,2, -999.000,9, -999.000,9, -999.000,9, -999.000
           NA,HOT timeseries 1988to2019 27SEP2021,    126,  99,-999.0,      35,-999.0,20011001,1805,  22.7465, -158.0008,  4726,  890.400,    4.240,   34.442,2,   34.439,2,   34.700,2,   33.600,2, -999.000,9, -999.000,9, -999.000,9, -999.000
           NA,HOT timeseries 1988to2019 27SEP2021,    126,  99,-999.0,      34,-999.0,20011001,1805,  22.7465, -158.0008,  4726,  960.100,    4.093,   34.484,2,   34.483,2,   40.600,2,   39.900,2, -999.000,9, -999.000,9, -999.000,9, -999.000
           NA,HOT timeseries 1988to2019 27SEP2021,    126,  99,-999.0,      33,-999.0,20011001,1805,  22.7465, -158.0008,  4726, 1019.900,    3.841,   34.494,2,   34.493,2,   44.100,2,   44.100,2, -999.000,9, -999.000,9, -999.000,9, -999.000
           NA,HOT timeseries 1988to2019 27SEP2021,    126,  99,-999.0,      20,-999.0,20011001,1805,  22.7465, -158.0008,  4726, 1200.200,    3.429,   34.536,2,   34.537,2,   53.000,2,   53.300,2, -999.000,9, -999.000,9, -999.000,9, -999.000
           NA,HOT timeseries 1988to2019 27SEP2021,    126,  99,-999.0,      19,-999.0,20011001,1805,  22.7465, -158.0008,  4726, 1402.100,    2.998,   34.568,2,   34.568,2,   61.800,2,   61.200,2, -999.000,9, -999.000,9, -999.000,9, -999.000
           NA,HOT timeseries 1988to2019 27SEP2021,    126,  99,-999.0,      18,-999.0,20011001,1805,  22.7465, -158.0008,  4726, 1600.700,    2.658,   34.591,2,   34.590,2,   70.900,2,   70.700,2, -999.000,9, -999.000,9, -999.000,9, -999.000
           NA,HOT timeseries 1988to2019 27SEP2021,    126,  99,-999.0,      17,-999.0,20011001,1805,  22.7465, -158.0008,  4726, 1798.100,    2.336,   34.608,2,   34.607,2,   79.600,2,   80.400,2, -999.000,9, -999.000,9, -999.000,9, -999.000
           NA,HOT timeseries 1988to2019 27SEP2021,    126,  99,-999.0,      16,-999.0,20011001,1805,  22.7465, -158.0008,  4726, 1997.800,    2.078,   34.624,2,   34.623,2,   87.700,2,   89.100,2, -999.000,9, -999.000,9, -999.000,9, -999.000
           NA,HOT timeseries 1988to2019 27SEP2021,    126,  99,-999.0,      23,-999.0,20011001,1805,  22.7465, -158.0008,  4726, 2202.200,    1.919,   34.636,2,   34.636,2,   94.900,2,   97.800,2, -999.000,9, -999.000,9, -999.000,9, -999.000
           NA,HOT timeseries 1988to2019 27SEP2021,    126,  99,-999.0,      14,-999.0,20011001,1805,  22.7465, -158.0008,  4726, 2404.600,    1.784,   34.649,2,   34.648,2,  103.200,2,  105.700,2, -999.000,9, -999.000,9, -999.000,9, -999.000
           NA,HOT timeseries 1988to2019 27SEP2021,    126,  99,-999.0,      13,-999.0,20011001,1805,  22.7465, -158.0008,  4726, 2601.400,    1.694,   34.657,2,   34.657,2,  110.700,2,  112.100,2, -999.000,9, -999.000,9, -999.000,9, -999.000
           NA,HOT timeseries 1988to2019 27SEP2021,    126,  99,-999.0,      12,-999.0,20011001,1805,  22.7465, -158.0008,  4726, 2799.100,    1.616,   34.665,2,   34.664,2,  117.400,2,  119.400,2, -999.000,9, -999.000,9, -999.000,9, -999.000
           NA,HOT timeseries 1988to2019 27SEP2021,    126,  99,-999.0,      11,-999.0,20011001,1805,  22.7465, -158.0008,  4726, 2998.300,    1.564,   34.671,2,   34.671,2,  123.300,2,  124.700,2, -999.000,9, -999.000,9, -999.000,9, -999.000
           NA,HOT timeseries 1988to2019 27SEP2021,    126,  99,-999.0,      32,-999.0,20011001,1805,  22.7465, -158.0008,  4726, 3197.200,    1.523,   34.676,2,   34.676,2,  128.600,2,  129.900,2, -999.000,9, -999.000,9, -999.000,9, -999.000
           NA,HOT timeseries 1988to2019 27SEP2021,    126,  99,-999.0,       3,-999.0,20011001,1805,  22.7465, -158.0008,  4726, 3401.500,    1.491,   34.680,2,   34.680,2,  134.700,2,  134.900,2, -999.000,9, -999.000,9, -999.000,9, -999.000
           NA,HOT timeseries 1988to2019 27SEP2021,    126,  99,-999.0,      29,-999.0,20011001,1805,  22.7465, -158.0008,  4726, 3600.200,    1.477,   34.683,2,   34.683,2,  139.100,2,  139.400,2, -999.000,9, -999.000,9, -999.000,9, -999.000
           NA,HOT timeseries 1988to2019 27SEP2021,    126,  99,-999.0,      28,-999.0,20011001,1805,  22.7465, -158.0008,  4726, 3799.800,    1.468,   34.686,2,   34.686,2,  143.200,2,  142.900,2, -999.000,9, -999.000,9, -999.000,9, -999.000
           NA,HOT timeseries 1988to2019 27SEP2021,    126,  99,-999.0,       7,-999.0,20011001,1805,  22.7465, -158.0008,  4726, 3998.800,    1.463,   34.687,2,   34.688,2,  147.400,2,  147.200,2, -999.000,9, -999.000,9, -999.000,9, -999.000
           NA,HOT timeseries 1988to2019 27SEP2021,    126,  99,-999.0,      38,-999.0,20011001,1805,  22.7465, -158.0008,  4726, 4199.900,    1.466,   34.689,2,   34.689,2,  150.500,2,  150.400,2, -999.000,9, -999.000,9, -999.000,9, -999.000
           NA,HOT timeseries 1988to2019 27SEP2021,    126,  99,-999.0,      36,-999.0,20011001,1805,  22.7465, -158.0008,  4726, 4400.600,    1.474,   34.690,2,   34.692,2,  153.200,2,  152.600,2, -999.000,9, -999.000,9, -999.000,9, -999.000
           NA,HOT timeseries 1988to2019 27SEP2021,    126,  99,-999.0,      35,-999.0,20011001,1805,  22.7465, -158.0008,  4726, 4500.800,    1.480,   34.690,2,   34.691,2,  154.100,2,  153.800,2, -999.000,9, -999.000,9, -999.000,9, -999.000
           NA,HOT timeseries 1988to2019 27SEP2021,    126,  99,-999.0,      34,-999.0,20011001,1805,  22.7465, -158.0008,  4726, 4602.200,    1.488,   34.691,2,   34.692,2,  155.100,2,  153.800,2, -999.000,9, -999.000,9, -999.000,9, -999.000
           NA,HOT timeseries 1988to2019 27SEP2021,    126,  99,-999.0,      33,-999.0,20011001,1805,  22.7465, -158.0008,  4726, 4805.700,    1.508,   34.691,2,   34.693,2,  155.200,2,  154.500,2, -999.000,9, -999.000,9, -999.000,9, -999.000