BOTTLE,20214727JOAExport
EXPOCODE,SECT_ID,STNNBR,CASTNO,SAMPNO,BTLNBR,BTLNBR_FLAG_W,DATE,TIME,LATITUDE,LONGITUDE,DEPTH,CTDPRS,CTDTMP,CTDSAL,CTDSAL_FLAG_W,SALNTY,SALNTY_FLAG_W,CTDOXY,CTDOXY_FLAG_W,OXYGEN,OXYGEN_FLAG_W,SILCAT,SILCAT_FLAG_W,NINI,NINI_FLAG_W,PHSPHT,PHSPHT_FLAG_W,REVP
,,,,,,,,,,,,DB,IPTS-68,PSS-78,,PSS-78,,UMOL/KG,,UMOL/KG,,UMOL/KG,,UMOL/KG,,UMOL/KG,,DBAR
           NA,HOT timeseries 1988to2019 27SEP2021,     63,  99,-999.0,      31,-999.0,19951026,1136,  22.7383, -157.9843,  4739,    4.500,   25.951,   35.027,2,   35.030,2,  201.800,2,  202.900,2,    1.000,2,    0.000,2,    0.040,2, -999.000
           NA,HOT timeseries 1988to2019 27SEP2021,     63,  99,-999.0,      31,-999.0,19951026,1136,  22.7383, -157.9843,  4739,    4.800,   25.966,   35.020,2,   35.021,2,  203.700,2,  202.700,2,    0.830,2,    0.000,2,    0.020,2, -999.000
           NA,HOT timeseries 1988to2019 27SEP2021,     63,  99,-999.0,      30,-999.0,19951026,1136,  22.7383, -157.9843,  4739,   67.500,   23.485,   34.968,2,   34.965,2,  216.800,2,  221.300,2,    1.280,2,    0.000,2,    0.040,2, -999.000
           NA,HOT timeseries 1988to2019 27SEP2021,     63,  99,-999.0,      22,-999.0,19951026,1136,  22.7383, -157.9843,  4739,   83.600,   22.754,   35.098,2,   35.101,2,  224.900,2,  223.900,2,    1.220,2,    0.000,2,    0.010,2, -999.000
           NA,HOT timeseries 1988to2019 27SEP2021,     63,  99,-999.0,      30,-999.0,19951026,1136,  22.7383, -157.9843,  4739,  104.900,   21.905,   35.120,2,   35.126,2,  217.800,2,  216.200,2,    1.500,2,    0.010,2,    0.060,2, -999.000
           NA,HOT timeseries 1988to2019 27SEP2021,     63,  99,-999.0,      21,-999.0,19951026,1136,  22.7383, -157.9843,  4739,  113.800,   21.165,   35.136,2,   35.137,2,  220.900,2,  219.200,2,    1.450,2,    0.010,2,    0.030,2, -999.000
           NA,HOT timeseries 1988to2019 27SEP2021,     63,  99,-999.0,      20,-999.0,19951026,1136,  22.7383, -157.9843,  4739,  139.600,   20.119,   35.152,2,   35.152,2,  206.100,2,  204.000,2,    1.630,2,    0.760,2,    0.100,2, -999.000
           NA,HOT timeseries 1988to2019 27SEP2021,     63,  99,-999.0,      19,-999.0,19951026,1136,  22.7383, -157.9843,  4739,  165.800,   19.393,   35.068,2,   35.068,2,  207.500,2,  203.900,2,    1.990,2,    1.140,2,    0.120,2, -999.000
           NA,HOT timeseries 1988to2019 27SEP2021,     63,  99,-999.0,      18,-999.0,19951026,1136,  22.7383, -157.9843,  4739,  227.500,   16.809,   34.730,2,   34.735,2,  178.900,2,  181.900,2,    4.280,2,    5.340,2,    0.420,2, -999.000
           NA,HOT timeseries 1988to2019 27SEP2021,     63,  99,-999.0,      17,-999.0,19951026,1136,  22.7383, -157.9843,  4739,  311.000,   12.593,   34.332,2,   34.335,2,  204.700,2,  203.900,2,    9.410,2,    9.700,2,    0.660,2, -999.000
           NA,HOT timeseries 1988to2019 27SEP2021,     63,  99,-999.0,      16,-999.0,19951026,1136,  22.7383, -157.9843,  4739,  363.100,   10.788,   34.195,2,   34.197,2,  193.600,2,  195.600,2,   15.330,2,   14.200,2,    0.980,2, -999.000
           NA,HOT timeseries 1988to2019 27SEP2021,     63,  99,-999.0,      15,-999.0,19951026,1136,  22.7383, -157.9843,  4739,  400.600,    9.510,   34.115,2,   34.116,2,  187.200,2,  187.700,2,   21.110,2,   17.630,2,    1.220,2, -999.000
           NA,HOT timeseries 1988to2019 27SEP2021,     63,  99,-999.0,      14,-999.0,19951026,1136,  22.7383, -157.9843,  4739,  425.400,    8.756,   34.080,2,   34.083,2,  175.700,2,  176.200,2,   26.620,2,   20.380,2,    1.410,2, -999.000
           NA,HOT timeseries 1988to2019 27SEP2021,     63,  99,-999.0,      22,-999.0,19951026,1136,  22.7383, -157.9843,  4739,  519.800,    6.875,   34.031,2,   34.034,2,  120.600,2,  120.200,2,   47.000,2,   28.540,2,    2.050,2, -999.000
           NA,HOT timeseries 1988to2019 27SEP2021,     63,  99,-999.0,      12,-999.0,19951026,1136,  22.7383, -157.9843,  4739,  530.000,    6.676,   34.031,2,   34.031,2,  115.600,2,  111.700,2,   50.600,2,   29.970,2,    2.120,2, -999.000
           NA,HOT timeseries 1988to2019 27SEP2021,     63,  99,-999.0,      11,-999.0,19951026,1136,  22.7383, -157.9843,  4739,  554.400,    6.210,   34.048,2,   34.047,2,   90.700,2,   89.400,2,   58.350,2,   32.760,2,    2.350,2, -999.000
           NA,HOT timeseries 1988to2019 27SEP2021,     63,  99,-999.0,      32,-999.0,19951026,1136,  22.7383, -157.9843,  4739,  595.000,    5.630,   34.066,2,   34.066,2,   72.900,2,   68.700,2,   68.740,2,   35.620,2,    2.560,2, -999.000
           NA,HOT timeseries 1988to2019 27SEP2021,     63,  99,-999.0,       3,-999.0,19951026,1136,  22.7383, -157.9843,  4739,  627.200,    5.321,   34.137,2,   34.137,2,   44.100,2,   40.900,2,   78.330,2,   38.370,2,    2.790,2, -999.000
           NA,HOT timeseries 1988to2019 27SEP2021,     63,  99,-999.0,      29,-999.0,19951026,1136,  22.7383, -157.9843,  4739,  693.200,    4.968,   34.220,2,   34.217,2,   26.300,2,   24.900,2,   88.140,2,   40.200,2,    2.980,2, -999.000
           NA,HOT timeseries 1988to2019 27SEP2021,     63,  99,-999.0,      28,-999.0,19951026,1136,  22.7383, -157.9843,  4739,  725.800,    4.941,   34.257,2,   34.258,2,   22.800,2,   22.300,2,   89.820,2,   40.290,2,    2.990,2, -999.000
           NA,HOT timeseries 1988to2019 27SEP2021,     63,  99,-999.0,       7,-999.0,19951026,1136,  22.7383, -157.9843,  4739,  772.800,    4.760,   34.319,2,   34.320,2,   19.800,2,   19.800,2,   94.550,2,   41.050,2,    3.050,2, -999.000
           NA,HOT timeseries 1988to2019 27SEP2021,     63,  99,-999.0,      23,-999.0,19951026,1136,  22.7383, -157.9843,  4739,  825.100,    4.625,   34.368,2,   34.368,2,   22.200,2,   24.200,2,   97.110,2,   41.050,2,    3.030,2, -999.000
           NA,HOT timeseries 1988to2019 27SEP2021,     63,  99,-999.0,      36,-999.0,19951026,1136,  22.7383, -157.9843,  4739,  872.100,    4.497,   34.403,2,   34.402,2,   26.400,2,   26.900,2,  100.090,2,   41.260,2,    3.040,2, -999.000
           NA,HOT timeseries 1988to2019 27SEP2021,     63,  99,-999.0,      21,-999.0,19951026,1136,  22.7383, -157.9843,  4739,  900.300,    4.291,   34.446,2,   34.447,2,   31.200,2,   33.000,2,  103.350,2,   41.240,2,    3.030,2, -999.000
           NA,HOT timeseries 1988to2019 27SEP2021,     63,  99,-999.0,      35,-999.0,19951026,1136,  22.7383, -157.9843,  4739,  930.500,    4.289,   34.446,2,   34.445,2,   32.800,2,   33.800,2,  103.750,2,   41.100,2,    3.020,2, -999.000
           NA,HOT timeseries 1988to2019 27SEP2021,     63,  99,-999.0,      34,-999.0,19951026,1136,  22.7383, -157.9843,  4739, 1010.000,    4.062,   34.478,2,   34.477,2,   37.400,2,   37.600,2,  108.850,2,   41.290,2,    3.020,2, -999.000
           NA,HOT timeseries 1988to2019 27SEP2021,     63,  99,-999.0,      33,-999.0,19951026,1136,  22.7383, -157.9843,  4739, 1026.500,    3.993,   34.486,2,   34.487,2,   36.300,2,   39.100,2,  109.780,2,   41.100,2,    3.030,2, -999.000
           NA,HOT timeseries 1988to2019 27SEP2021,     63,  99,-999.0,      20,-999.0,19951026,1136,  22.7383, -157.9843,  4739, 1399.100,    3.032,   34.557,2,   34.558,2,   60.700,2,   61.000,2,  129.770,2,   40.430,2,    2.940,2, -999.000
           NA,HOT timeseries 1988to2019 27SEP2021,     63,  99,-999.0,      19,-999.0,19951026,1136,  22.7383, -157.9843,  4739, 1601.500,    2.670,   34.583,2,   34.585,2,   70.400,2,   70.400,2,  137.570,2,   39.970,2,    2.910,2, -999.000
           NA,HOT timeseries 1988to2019 27SEP2021,     63,  99,-999.0,      18,-999.0,19951026,1136,  22.7383, -157.9843,  4739, 1800.200,    2.379,   34.602,2,   34.602,2,   80.400,2,   78.500,2,  143.980,2,   39.630,2,    2.870,2, -999.000
           NA,HOT timeseries 1988to2019 27SEP2021,     63,  99,-999.0,      17,-999.0,19951026,1136,  22.7383, -157.9843,  4739, 2000.200,    2.119,   34.618,2,   34.619,2,   90.500,2,   86.600,2,  151.570,2,   39.180,2,    2.820,2, -999.000
           NA,HOT timeseries 1988to2019 27SEP2021,     63,  99,-999.0,      16,-999.0,19951026,1136,  22.7383, -157.9843,  4739, 2200.500,    1.928,   34.633,2,   34.632,2,   99.300,2,   96.000,2,  154.410,2,   38.930,2,    2.780,2, -999.000
           NA,HOT timeseries 1988to2019 27SEP2021,     63,  99,-999.0,      15,-999.0,19951026,1136,  22.7383, -157.9843,  4739, 2400.900,    1.802,   34.645,2,   34.646,2,  108.700,2,  104.200,2,  155.900,2,   38.100,2,    2.740,2, -999.000
           NA,HOT timeseries 1988to2019 27SEP2021,     63,  99,-999.0,      14,-999.0,19951026,1136,  22.7383, -157.9843,  4739, 2599.500,    1.691,   34.655,2,   34.655,2,  115.400,2,  112.300,2,  157.280,2,   37.630,2,    2.700,2, -999.000
           NA,HOT timeseries 1988to2019 27SEP2021,     63,  99,-999.0,      13,-999.0,19951026,1136,  22.7383, -157.9843,  4739, 2800.200,    1.617,   34.660,2, -999.000,4, -999.000,3, -999.000,4, -999.000,4, -999.000,4, -999.000,4, -999.000
           NA,HOT timeseries 1988to2019 27SEP2021,     63,  99,-999.0,      12,-999.0,19951026,1136,  22.7383, -157.9843,  4739, 3001.100,    1.555,   34.668,2,   34.667,2,  123.700,2,  122.000,2,  158.970,2,   37.080,2,    2.640,2, -999.000
           NA,HOT timeseries 1988to2019 27SEP2021,     63,  99,-999.0,      11,-999.0,19951026,1136,  22.7383, -157.9843,  4739, 3199.300,    1.511,   34.674,2,   34.673,2,  129.300,2,  128.700,2,  158.740,2,   36.760,2,    2.600,2, -999.000
           NA,HOT timeseries 1988to2019 27SEP2021,     63,  99,-999.0,      32,-999.0,19951026,1136,  22.7383, -157.9843,  4739, 3400.400,    1.480,   34.679,2,   34.679,2,  134.900,2,  135.600,2,  155.780,2,   36.180,2,    2.570,2, -999.000
           NA,HOT timeseries 1988to2019 27SEP2021,     63,  99,-999.0,       3,-999.0,19951026,1136,  22.7383, -157.9843,  4739, 3599.700,    1.467,   34.682,2,   34.681,2,  139.800,2,  140.200,2,  153.550,2,   35.940,2,    2.540,2, -999.000
           NA,HOT timeseries 1988to2019 27SEP2021,     63,  99,-999.0,      29,-999.0,19951026,1136,  22.7383, -157.9843,  4739, 3801.700,    1.454,   34.684,2,   34.684,2,  144.400,2,  144.600,2,  152.660,2,   35.680,2,    2.520,2, -999.000
           NA,HOT timeseries 1988to2019 27SEP2021,     63,  99,-999.0,      28,-999.0,19951026,1136,  22.7383, -157.9843,  4739, 4000.900,    1.449,   34.687,2,   34.686,2,  149.600,2,  148.100,2,  150.570,2,   35.460,2,    2.510,2, -999.000
           NA,HOT timeseries 1988to2019 27SEP2021,     63,  99,-999.0,       7,-999.0,19951026,1136,  22.7383, -157.9843,  4739, 4200.400,    1.460,   34.688,2,   34.687,2,  152.000,2,  149.900,2,  149.830,2,   35.320,2,    2.490,2, -999.000
           NA,HOT timeseries 1988to2019 27SEP2021,     63,  99,-999.0,      23,-999.0,19951026,1136,  22.7383, -157.9843,  4739, 4401.000,    1.478,   34.688,2,   34.688,2,  152.700,2,  150.200,2,  149.420,2,   35.200,2,    2.480,2, -999.000
           NA,HOT timeseries 1988to2019 27SEP2021,     63,  99,-999.0,      36,-999.0,19951026,1136,  22.7383, -157.9843,  4739, 4501.500,    1.486,   34.689,2,   34.688,2,  152.400,2,  151.000,2,  148.990,2,   35.290,2,    2.480,2, -999.000
           NA,HOT timeseries 1988to2019 27SEP2021,     63,  99,-999.0,      35,-999.0,19951026,1136,  22.7383, -157.9843,  4739, 4600.900,    1.498,   34.689,2,   34.689,2,  152.200,2,  151.400,2,  149.700,2,   35.260,2,    2.490,2, -999.000
           NA,HOT timeseries 1988to2019 27SEP2021,     63,  99,-999.0,      34,-999.0,19951026,1136,  22.7383, -157.9843,  4739, 4701.500,    1.507,   34.689,2,   34.688,2,  153.300,2,  151.300,2,  150.220,2,   35.310,2,    2.480,2, -999.000
           NA,HOT timeseries 1988to2019 27SEP2021,     63,  99,-999.0,      33,-999.0,19951026,1136,  22.7383, -157.9843,  4739, 4808.000,    1.504,   34.690,2,   34.691,2,  156.900,2,  154.300,2,  147.220,2,   35.110,2,    2.470,2, -999.000