BOTTLE,20214727JOAExport
EXPOCODE,SECT_ID,STNNBR,CASTNO,SAMPNO,BTLNBR,BTLNBR_FLAG_W,DATE,TIME,LATITUDE,LONGITUDE,DEPTH,CTDPRS,CTDTMP,CTDSAL,CTDSAL_FLAG_W,SALNTY,SALNTY_FLAG_W,CTDOXY,CTDOXY_FLAG_W,OXYGEN,OXYGEN_FLAG_W,SILCAT,SILCAT_FLAG_W,NINI,NINI_FLAG_W,PHSPHT,PHSPHT_FLAG_W,REVP
,,,,,,,,,,,,DB,IPTS-68,PSS-78,,PSS-78,,UMOL/KG,,UMOL/KG,,UMOL/KG,,UMOL/KG,,UMOL/KG,,DBAR
           NA,HOT timeseries 1988to2019 27SEP2021,     92,  99,-999.0,      31,-999.0,19980811,1359,  22.7515, -158.0005,  4724,    4.900,   25.326,   35.187,2,   35.187,2,  210.100,2,  208.900,2,    1.040,2,    0.000,2,    0.070,2, -999.000
           NA,HOT timeseries 1988to2019 27SEP2021,     92,  99,-999.0,      31,-999.0,19980811,1359,  22.7515, -158.0005,  4724,    5.800,   25.377,   35.204,2,   35.206,2,  208.400,2,  208.000,2,    1.250,2,    0.000,2,    0.090,2, -999.000
           NA,HOT timeseries 1988to2019 27SEP2021,     92,  99,-999.0,      30,-999.0,19980811,1359,  22.7515, -158.0005,  4724,    9.800,   25.324,   35.187,2,   35.188,2,  210.100,2,  208.900,2,    1.080,2,    0.000,2,    0.090,2, -999.000
           NA,HOT timeseries 1988to2019 27SEP2021,     92,  99,-999.0,      22,-999.0,19980811,1359,  22.7515, -158.0005,  4724,   43.100,   24.053,   35.124,2,   35.126,2,  214.500,2,  218.800,2,    1.150,2,    0.010,2,    0.080,2, -999.000
           NA,HOT timeseries 1988to2019 27SEP2021,     92,  99,-999.0,      21,-999.0,19980811,1359,  22.7515, -158.0005,  4724,   90.300,   21.705,   35.176,2,   35.176,2,  208.100,2,  209.900,2,    1.290,2,    0.010,2,    0.100,2, -999.000
           NA,HOT timeseries 1988to2019 27SEP2021,     92,  99,-999.0,      20,-999.0,19980811,1359,  22.7515, -158.0005,  4724,  150.600,   19.967,   35.202,2,   35.211,2,  210.700,2,  211.600,2,    1.850,2,    0.830,2,    0.100,2, -999.000
           NA,HOT timeseries 1988to2019 27SEP2021,     92,  99,-999.0,      19,-999.0,19980811,1359,  22.7515, -158.0005,  4724,  155.900,   19.476,   35.121,2,   35.105,2,  206.100,2,  207.000,2,    2.030,2,    1.280,2,    0.140,2, -999.000
           NA,HOT timeseries 1988to2019 27SEP2021,     92,  99,-999.0,      18,-999.0,19980811,1359,  22.7515, -158.0005,  4724,  216.400,   16.208,   34.723,2,   34.720,2,  211.400,2,  211.200,2,    4.050,2,    3.490,2,    0.290,2, -999.000
           NA,HOT timeseries 1988to2019 27SEP2021,     92,  99,-999.0,      17,-999.0,19980811,1359,  22.7515, -158.0005,  4724,  311.900,   11.658,   34.210,2,   34.219,2,  202.900,2,  200.400,2,   11.270,2,   11.620,2,    0.810,2, -999.000
           NA,HOT timeseries 1988to2019 27SEP2021,     92,  99,-999.0,      16,-999.0,19980811,1359,  22.7515, -158.0005,  4724,  348.200,   10.562,   34.183,2, -999.000,3, -999.000,3,  205.900,2,   15.210,2,   13.900,2,    0.950,2, -999.000
           NA,HOT timeseries 1988to2019 27SEP2021,     92,  99,-999.0,      15,-999.0,19980811,1359,  22.7515, -158.0005,  4724,  411.600,    8.743,   34.070,2,   34.071,2,  187.600,2,  184.700,2,   25.850,2,   19.900,2,    1.350,2, -999.000
           NA,HOT timeseries 1988to2019 27SEP2021,     92,  99,-999.0,      14,-999.0,19980811,1359,  22.7515, -158.0005,  4724,  450.300,    7.977,   34.035,2,   34.038,2,  166.800,2,  165.300,2,   32.400,2,   23.190,2,    1.580,2, -999.000
           NA,HOT timeseries 1988to2019 27SEP2021,     92,  99,-999.0,      13,-999.0,19980811,1359,  22.7515, -158.0005,  4724,  478.100,    7.506,   34.064,2,   34.065,2,  131.500,2,  126.600,2,   41.290,2,   27.290,2,    1.940,2, -999.000
           NA,HOT timeseries 1988to2019 27SEP2021,     92,  99,-999.0,      12,-999.0,19980811,1359,  22.7515, -158.0005,  4724,  509.500,    6.457,   34.017,2,   34.018,2,  119.100,2,  116.800,2,   51.220,2,   30.430,2,    2.140,2, -999.000
           NA,HOT timeseries 1988to2019 27SEP2021,     92,  99,-999.0,      11,-999.0,19980811,1359,  22.7515, -158.0005,  4724,  547.400,    5.801,   34.037,2,   34.038,2,   88.800,2,   83.600,2,   63.730,2,   34.670,2,    2.440,2, -999.000
           NA,HOT timeseries 1988to2019 27SEP2021,     92,  99,-999.0,      32,-999.0,19980811,1359,  22.7515, -158.0005,  4724,  592.500,    5.237,   34.093,2,   34.095,2,   55.500,2,   57.400,2,   77.570,2,   38.170,2,    2.740,2, -999.000
           NA,HOT timeseries 1988to2019 27SEP2021,     92,  99,-999.0,       3,-999.0,19980811,1359,  22.7515, -158.0005,  4724,  650.000,    4.766,   34.169,2,   34.169,2,   36.000,2,   34.800,2,   89.650,2,   40.440,2,    2.900,2, -999.000
           NA,HOT timeseries 1988to2019 27SEP2021,     92,  99,-999.0,      29,-999.0,19980811,1359,  22.7515, -158.0005,  4724,  699.900,    4.510,   34.230,2,   34.234,2,   27.400,2,   25.800,2,   97.750,2,   41.720,2,    2.990,2, -999.000
           NA,HOT timeseries 1988to2019 27SEP2021,     92,  99,-999.0,      28,-999.0,19980811,1359,  22.7515, -158.0005,  4724,  730.700,    4.370,   34.263,2,   34.261,2,   22.700,2,   21.800,2,  102.380,2,   42.100,2,    3.030,2, -999.000
           NA,HOT timeseries 1988to2019 27SEP2021,     92,  99,-999.0,      38,-999.0,19980811,1359,  22.7515, -158.0005,  4724,  825.500,    4.043,   34.348,2,   34.348,2,   24.700,2,   21.600,2,  110.940,2,   42.310,2,    3.080,2, -999.000
           NA,HOT timeseries 1988to2019 27SEP2021,     92,  99,-999.0,      36,-999.0,19980811,1359,  22.7515, -158.0005,  4724,  870.500,    3.934,   34.387,2,   34.387,2,   21.200,2,   21.400,2,  114.070,2,   42.540,2,    3.060,2, -999.000
           NA,HOT timeseries 1988to2019 27SEP2021,     92,  99,-999.0,      35,-999.0,19980811,1359,  22.7515, -158.0005,  4724,  901.000,    3.887,   34.411,2,   34.413,2,   23.900,2,   23.700,2,  114.660,2,   42.510,2,    3.090,2, -999.000
           NA,HOT timeseries 1988to2019 27SEP2021,     92,  99,-999.0,      34,-999.0,19980811,1359,  22.7515, -158.0005,  4724,  961.600,    3.796,   34.445,2,   34.447,2,   29.300,2,   30.500,2,  116.240,2,   42.560,2,    3.070,2, -999.000
           NA,HOT timeseries 1988to2019 27SEP2021,     92,  99,-999.0,      33,-999.0,19980811,1359,  22.7515, -158.0005,  4724, 1020.200,    3.704,   34.470,2,   34.472,2,   39.200,2,   39.300,2,  117.070,2,   42.000,2,    3.020,2, -999.000
           NA,HOT timeseries 1988to2019 27SEP2021,     92,  99,-999.0,      20,-999.0,19980811,1359,  22.7515, -158.0005,  4724, 1200.900,    3.284,   34.530,2,   34.532,2,   53.300,2,   53.700,2,  124.430,2,   41.230,2,    2.930,2, -999.000
           NA,HOT timeseries 1988to2019 27SEP2021,     92,  99,-999.0,      19,-999.0,19980811,1359,  22.7515, -158.0005,  4724, 1400.900,    2.919,   34.567,2,   34.567,2,   65.100,2,   64.400,2,  132.460,2,   40.850,2,    2.900,2, -999.000
           NA,HOT timeseries 1988to2019 27SEP2021,     92,  99,-999.0,      18,-999.0,19980811,1359,  22.7515, -158.0005,  4724, 1599.800,    2.554,   34.592,2,   34.594,2,   73.400,2,   73.700,2,  140.750,2,   40.540,2,    2.850,2, -999.000
           NA,HOT timeseries 1988to2019 27SEP2021,     92,  99,-999.0,      17,-999.0,19980811,1359,  22.7515, -158.0005,  4724, 1799.500,    2.256,   34.610,2,   34.609,2,   82.000,2,   82.400,2,  147.540,2,   39.860,2,    2.820,2, -999.000
           NA,HOT timeseries 1988to2019 27SEP2021,     92,  99,-999.0,      16,-999.0,19980811,1359,  22.7515, -158.0005,  4724, 1999.800,    2.041,   34.629,2,   34.630,2,   91.700,2,   92.900,2,  151.630,2,   39.290,2,    2.770,2, -999.000
           NA,HOT timeseries 1988to2019 27SEP2021,     92,  99,-999.0,      15,-999.0,19980811,1359,  22.7515, -158.0005,  4724, 2200.200,    1.886,   34.639,2,   34.639,2,   98.800,2,   99.400,2,  155.000,2,   38.990,2,    2.750,2, -999.000
           NA,HOT timeseries 1988to2019 27SEP2021,     92,  99,-999.0,      14,-999.0,19980811,1359,  22.7515, -158.0005,  4724, 2400.500,    1.752,   34.651,2,   34.651,2,  106.700,2,  107.700,2,  156.180,2,   38.320,2,    2.710,2, -999.000
           NA,HOT timeseries 1988to2019 27SEP2021,     92,  99,-999.0,      13,-999.0,19980811,1359,  22.7515, -158.0005,  4724, 2599.700,    1.664,   34.659,2,   34.659,2,  113.200,2,  115.200,2,  156.850,2,   38.100,2,    2.670,2, -999.000
           NA,HOT timeseries 1988to2019 27SEP2021,     92,  99,-999.0,      12,-999.0,19980811,1359,  22.7515, -158.0005,  4724, 2800.200,    1.599,   34.666,2,   34.665,2,  119.000,2,  118.900,2,  158.400,2,   37.860,2,    2.650,2, -999.000
           NA,HOT timeseries 1988to2019 27SEP2021,     92,  99,-999.0,      11,-999.0,19980811,1359,  22.7515, -158.0005,  4724, 3000.200,    1.538,   34.672,2,   34.672,2,  124.900,2,  125.700,2,  158.520,2,   37.450,2,    2.620,2, -999.000
           NA,HOT timeseries 1988to2019 27SEP2021,     92,  99,-999.0,      32,-999.0,19980811,1359,  22.7515, -158.0005,  4724, 3200.400,    1.493,   34.678,2,   34.679,2,  131.900,2,  133.300,2,  156.840,2,   37.020,2,    2.580,2, -999.000
           NA,HOT timeseries 1988to2019 27SEP2021,     92,  99,-999.0,       3,-999.0,19980811,1359,  22.7515, -158.0005,  4724, 3400.700,    1.469,   34.681,2,   34.681,2,  136.900,2,  137.100,2,  155.720,2,   36.570,2,    2.570,2, -999.000
           NA,HOT timeseries 1988to2019 27SEP2021,     92,  99,-999.0,      29,-999.0,19980811,1359,  22.7515, -158.0005,  4724, 3600.600,    1.450,   34.685,2,   34.687,2,  142.600,2,  142.500,2,  153.280,2,   36.230,2,    2.530,2, -999.000
           NA,HOT timeseries 1988to2019 27SEP2021,     92,  99,-999.0,      28,-999.0,19980811,1359,  22.7515, -158.0005,  4724, 3800.500,    1.445,   34.687,2,   34.687,2,  146.500,2,  146.000,2,  152.020,2,   36.040,2,    2.510,2, -999.000
           NA,HOT timeseries 1988to2019 27SEP2021,     92,  99,-999.0,       7,-999.0,19980811,1359,  22.7515, -158.0005,  4724, 4001.000,    1.447,   34.689,2,   34.689,2,  149.400,2,  149.000,2,  151.030,2,   35.890,2,    2.500,2, -999.000
           NA,HOT timeseries 1988to2019 27SEP2021,     92,  99,-999.0,      38,-999.0,19980811,1359,  22.7515, -158.0005,  4724, 4201.700,    1.459,   34.690,2,   34.690,2,  151.200,2,  150.300,2,  149.540,2,   35.750,2,    2.490,2, -999.000
           NA,HOT timeseries 1988to2019 27SEP2021,     92,  99,-999.0,      36,-999.0,19980811,1359,  22.7515, -158.0005,  4724, 4401.600,    1.476,   34.690,2,   34.691,2,  152.800,2,  151.500,2,  149.580,2,   35.720,2,    2.470,2, -999.000
           NA,HOT timeseries 1988to2019 27SEP2021,     92,  99,-999.0,      35,-999.0,19980811,1359,  22.7515, -158.0005,  4724, 4501.400,    1.485,   34.691,2,   34.691,2,  153.000,2,  152.500,2,  149.100,2,   35.720,2,    2.470,2, -999.000
           NA,HOT timeseries 1988to2019 27SEP2021,     92,  99,-999.0,      34,-999.0,19980811,1359,  22.7515, -158.0005,  4724, 4600.500,    1.495,   34.691,2,   34.691,2,  153.700,2,  154.300,2,  149.200,2,   35.760,2, -999.000,3, -999.000
           NA,HOT timeseries 1988to2019 27SEP2021,     92,  99,-999.0,      33,-999.0,19980811,1359,  22.7515, -158.0005,  4724, 4802.900,    1.518,   34.691,2,   34.693,2,  154.000,2, -999.000,5,  148.300,2,   35.830,2,    2.470,2, -999.000