BOTTLE,20214727JOAExport
EXPOCODE,SECT_ID,STNNBR,CASTNO,SAMPNO,BTLNBR,BTLNBR_FLAG_W,DATE,TIME,LATITUDE,LONGITUDE,DEPTH,CTDPRS,CTDTMP,CTDSAL,CTDSAL_FLAG_W,SALNTY,SALNTY_FLAG_W,CTDOXY,CTDOXY_FLAG_W,OXYGEN,OXYGEN_FLAG_W,SILCAT,SILCAT_FLAG_W,NINI,NINI_FLAG_W,PHSPHT,PHSPHT_FLAG_W,REVP
,,,,,,,,,,,,DB,IPTS-68,PSS-78,,PSS-78,,UMOL/KG,,UMOL/KG,,UMOL/KG,,UMOL/KG,,UMOL/KG,,DBAR
           NA,HOT timeseries 1988to2019 27SEP2021,    213,  99,-999.0,    8024,-999.0,20110128,1426,  22.7498, -158.0000,  4745,    7.600,   23.598,   35.398,2,   35.397,2,  211.200,2,  210.400,2,    1.490,2,    0.050,2,    0.030,2, -999.000
           NA,HOT timeseries 1988to2019 27SEP2021,    213,  99,-999.0,    8024,-999.0,20110128,1426,  22.7498, -158.0000,  4745,   97.000,   22.402,   35.374,2,   35.374,2,  209.300,2,  209.100,2,    1.500,2,    0.060,2,    0.050,2, -999.000
           NA,HOT timeseries 1988to2019 27SEP2021,    213,  99,-999.0,    8023,-999.0,20110128,1426,  22.7498, -158.0000,  4745,  109.400,   21.755,   35.335,2,   35.329,2,  209.200,2,  209.200,2,    1.590,2,    0.290,2,    0.070,2, -999.000
           NA,HOT timeseries 1988to2019 27SEP2021,    213,  99,-999.0,    8022,-999.0,20110128,1426,  22.7498, -158.0000,  4745,  131.100,   19.805,   35.148,2,   35.157,2,  204.900,2,  206.300,2,    2.470,2,    1.180,2,    0.130,2, -999.000
           NA,HOT timeseries 1988to2019 27SEP2021,    213,  99,-999.0,    8021,-999.0,20110128,1426,  22.7498, -158.0000,  4745,  189.800,   17.062,   34.759,2,   34.769,2,  202.000,2,  201.200,2,    3.730,2,    3.580,2,    0.290,2, -999.000
           NA,HOT timeseries 1988to2019 27SEP2021,    213,  99,-999.0,    8020,-999.0,20110128,1426,  22.7498, -158.0000,  4745,  210.400,   16.009,   34.611,2,   34.605,2,  207.800,2,  207.200,2,    4.490,2,    4.280,2,    0.330,2, -999.000
           NA,HOT timeseries 1988to2019 27SEP2021,    213,  99,-999.0,    8019,-999.0,20110128,1426,  22.7498, -158.0000,  4745,  250.100,   14.399,   34.413,2,   34.411,2,  209.000,2,  208.100,2,    6.410,2,    6.420,2,    0.470,2, -999.000
           NA,HOT timeseries 1988to2019 27SEP2021,    213,  99,-999.0,    8018,-999.0,20110128,1426,  22.7498, -158.0000,  4745,  314.600,   12.344,   34.275,2,   34.273,2,  203.000,2,  203.200,2,   11.080,2,   11.280,2,    0.790,2, -999.000
           NA,HOT timeseries 1988to2019 27SEP2021,    213,  99,-999.0,    8017,-999.0,20110128,1426,  22.7498, -158.0000,  4745,  362.300,   10.618,   34.165,2,   34.159,2,  190.700,2,  190.700,2,   17.470,2,   15.900,2,    1.120,2, -999.000
           NA,HOT timeseries 1988to2019 27SEP2021,    213,  99,-999.0,    8016,-999.0,20110128,1426,  22.7498, -158.0000,  4745,  401.400,    9.611,   34.119,2,   34.116,2,  181.800,2,  182.100,2,   22.790,2,   18.710,2,    1.310,2, -999.000
           NA,HOT timeseries 1988to2019 27SEP2021,    213,  99,-999.0,    8014,-999.0,20110128,1426,  22.7498, -158.0000,  4745,  464.700,    8.130,   34.075,2,   34.073,2,  144.900,2,  137.000,2,   38.220,2,   25.790,2,    1.850,2, -999.000
           NA,HOT timeseries 1988to2019 27SEP2021,    213,  99,-999.0,    8025,-999.0,20110128,1426,  22.7498, -158.0000,  4745,  494.500,    7.531,   34.086,2,   34.086,2,  108.600,2,  108.900,2,   44.690,2,   29.410,2,    2.120,2, -999.000
           NA,HOT timeseries 1988to2019 27SEP2021,    213,  99,-999.0,    8012,-999.0,20110128,1426,  22.7498, -158.0000,  4745,  523.500,    7.001,   34.115,2,   34.113,2,   83.400,2,   83.400,2,   52.510,2,   32.300,2,    2.370,2, -999.000
           NA,HOT timeseries 1988to2019 27SEP2021,    213,  99,-999.0,    8011,-999.0,20110128,1426,  22.7498, -158.0000,  4745,  569.700,    6.134,   34.133,2,   34.132,2,   62.600,2,   59.900,2,   65.140,2,   35.900,2,    2.620,2, -999.000
           NA,HOT timeseries 1988to2019 27SEP2021,    213,  99,-999.0,    8010,-999.0,20110128,1426,  22.7498, -158.0000,  4745,  600.000,    5.745,   34.118,2,   34.118,2,   57.800,2,   56.600,2,   70.490,2,   37.110,2,    2.690,2, -999.000
           NA,HOT timeseries 1988to2019 27SEP2021,    213,  99,-999.0,    8009,-999.0,20110128,1426,  22.7498, -158.0000,  4745,  638.500,    5.402,   34.146,2,   34.144,2,   47.000,2,   46.500,2,   77.480,2,   38.580,2,    2.810,2, -999.000
           NA,HOT timeseries 1988to2019 27SEP2021,    213,  99,-999.0,    8008,-999.0,20110128,1426,  22.7498, -158.0000,  4745,  660.800,    5.230,   34.183,2,   34.178,2,   39.700,2,   39.900,2,   81.610,2,   39.340,2,    2.870,2, -999.000
           NA,HOT timeseries 1988to2019 27SEP2021,    213,  99,-999.0,    8026,-999.0,20110128,1426,  22.7498, -158.0000,  4745,  695.100,    5.047,   34.225,2,   34.224,2,   33.700,2,   34.600,2,   86.720,2,   40.040,2,    2.930,2, -999.000
           NA,HOT timeseries 1988to2019 27SEP2021,    213,  99,-999.0,    8006,-999.0,20110128,1426,  22.7498, -158.0000,  4745,  755.700,    4.716,   34.299,2,   34.299,2,   29.000,2,   29.000,2,   95.080,2,   41.250,2,    3.000,2, -999.000
           NA,HOT timeseries 1988to2019 27SEP2021,    213,  99,-999.0,    8004,-999.0,20110128,1426,  22.7498, -158.0000,  4745,  821.800,    4.440,   34.395,2,   34.396,2,   33.500,2,   32.700,2,  100.880,2,   41.530,2,    3.020,2, -999.000
           NA,HOT timeseries 1988to2019 27SEP2021,    213,  99,-999.0,    8003,-999.0,20110128,1426,  22.7498, -158.0000,  4745,  887.700,    4.195,   34.435,2,   34.438,2,   39.200,2,   39.300,2,  106.010,2,   41.350,2,    2.990,2, -999.000
           NA,HOT timeseries 1988to2019 27SEP2021,    213,  99,-999.0,    8002,-999.0,20110128,1426,  22.7498, -158.0000,  4745,  952.200,    3.972,   34.465,2,   34.468,2,   42.300,2,   43.000,2,  110.540,2,   41.700,2,    3.010,2, -999.000
           NA,HOT timeseries 1988to2019 27SEP2021,    213,  99,-999.0,    8001,-999.0,20110128,1426,  22.7498, -158.0000,  4745, 1020.200,    3.807,   34.491,2,   34.493,2,   46.600,2,   46.300,2,  113.260,2,   41.350,2,    2.980,2, -999.000
           NA,HOT timeseries 1988to2019 27SEP2021,    213,  99,-999.0,    8020,-999.0,20110128,1426,  22.7498, -158.0000,  4745, 1199.800,    3.480,   34.525,2,   34.525,2,   53.300,2,   53.900,2,  120.590,2,   41.350,2,    2.950,2, -999.000
           NA,HOT timeseries 1988to2019 27SEP2021,    213,  99,-999.0,    8019,-999.0,20110128,1426,  22.7498, -158.0000,  4745, 1400.000,    3.039,   34.553,2,   34.553,2,   61.400,2,   61.700,2,  130.400,2,   41.160,2,    2.940,2, -999.000
           NA,HOT timeseries 1988to2019 27SEP2021,    213,  99,-999.0,    8018,-999.0,20110128,1426,  22.7498, -158.0000,  4745, 1599.400,    2.633,   34.583,2,   34.583,2,   72.000,2,   72.100,2,  139.140,2,   40.570,2,    2.890,2, -999.000
           NA,HOT timeseries 1988to2019 27SEP2021,    213,  99,-999.0,    8017,-999.0,20110128,1426,  22.7498, -158.0000,  4745, 1799.300,    2.298,   34.601,2,   34.601,2,   79.900,2,   80.200,2,  147.430,2,   40.210,2,    2.850,2, -999.000
           NA,HOT timeseries 1988to2019 27SEP2021,    213,  99,-999.0,    8016,-999.0,20110128,1426,  22.7498, -158.0000,  4745, 1998.700,    2.074,   34.620,2,   34.620,2,   89.300,2,   90.200,2,  151.550,2,   39.540,2,    2.800,2, -999.000
           NA,HOT timeseries 1988to2019 27SEP2021,    213,  99,-999.0,    8015,-999.0,20110128,1426,  22.7498, -158.0000,  4745, 2199.300,    1.902,   34.635,2,   34.635,2,   97.500,2,   97.900,2,  155.300,2,   39.240,2,    2.760,2, -999.000
           NA,HOT timeseries 1988to2019 27SEP2021,    213,  99,-999.0,    8014,-999.0,20110128,1426,  22.7498, -158.0000,  4745, 2399.500,    1.794,   34.645,2,   34.645,2,  103.800,2,  104.500,2,  156.750,2,   39.160,2,    2.720,2, -999.000
           NA,HOT timeseries 1988to2019 27SEP2021,    213,  99,-999.0,    8025,-999.0,20110128,1426,  22.7498, -158.0000,  4745, 2599.000,    1.686,   34.652,2,   34.653,2,  109.400,2,  109.700,2,  159.700,2,   38.530,2,    2.700,2, -999.000
           NA,HOT timeseries 1988to2019 27SEP2021,    213,  99,-999.0,    8012,-999.0,20110128,1426,  22.7498, -158.0000,  4745, 2798.700,    1.615,   34.660,2,   34.660,2,  116.000,2,  116.900,2,  159.620,2,   38.020,2,    2.680,2, -999.000
           NA,HOT timeseries 1988to2019 27SEP2021,    213,  99,-999.0,    8011,-999.0,20110128,1426,  22.7498, -158.0000,  4745, 2999.400,    1.548,   34.667,2,   34.667,2,  123.900,2,  124.100,2,  158.800,2,   37.560,2,    2.620,2, -999.000
           NA,HOT timeseries 1988to2019 27SEP2021,    213,  99,-999.0,    8010,-999.0,20110128,1426,  22.7498, -158.0000,  4745, 3199.700,    1.501,   34.673,2,   34.674,2,  130.100,2,  130.600,2,  158.030,2,   37.230,2,    2.590,2, -999.000
           NA,HOT timeseries 1988to2019 27SEP2021,    213,  99,-999.0,    8009,-999.0,20110128,1426,  22.7498, -158.0000,  4745, 3399.100,    1.477,   34.678,2,   34.678,2,  135.900,2,  136.000,2,  156.970,2,   36.950,2,    2.560,2, -999.000
           NA,HOT timeseries 1988to2019 27SEP2021,    213,  99,-999.0,    8008,-999.0,20110128,1426,  22.7498, -158.0000,  4745, 3598.600,    1.459,   34.681,2,   34.680,2,  141.100,2,  141.100,2,  154.150,2,   36.550,2,    2.540,2, -999.000
           NA,HOT timeseries 1988to2019 27SEP2021,    213,  99,-999.0,    8026,-999.0,20110128,1426,  22.7498, -158.0000,  4745, 3799.600,    1.452,   34.683,2,   34.683,2,  144.800,2,  144.700,2,  152.870,2,   36.260,2,    2.520,2, -999.000
           NA,HOT timeseries 1988to2019 27SEP2021,    213,  99,-999.0,    8006,-999.0,20110128,1426,  22.7498, -158.0000,  4745, 3999.600,    1.456,   34.685,2,   34.684,2,  147.400,2,  147.300,2,  151.340,2,   36.030,2,    2.510,2, -999.000
           NA,HOT timeseries 1988to2019 27SEP2021,    213,  99,-999.0,    8005,-999.0,20110128,1426,  22.7498, -158.0000,  4745, 4198.700,    1.461,   34.687,2,   34.687,2,  150.300,2,  149.800,2,  149.560,2,   36.030,2,    2.500,2, -999.000
           NA,HOT timeseries 1988to2019 27SEP2021,    213,  99,-999.0,    8004,-999.0,20110128,1426,  22.7498, -158.0000,  4745, 4399.300,    1.475,   34.688,2,   34.687,2,  151.600,2,  151.300,2,  149.370,2,   35.730,2,    2.480,2, -999.000
           NA,HOT timeseries 1988to2019 27SEP2021,    213,  99,-999.0,    8003,-999.0,20110128,1426,  22.7498, -158.0000,  4745, 4498.000,    1.484,   34.688,2,   34.688,2,  152.000,2,  152.000,2,  148.720,2,   35.870,2,    2.490,2, -999.000
           NA,HOT timeseries 1988to2019 27SEP2021,    213,  99,-999.0,    8002,-999.0,20110128,1426,  22.7498, -158.0000,  4745, 4599.800,    1.493,   34.688,2,   34.688,2,  152.700,2,  152.100,2,  148.700,2,   35.690,2,    2.480,2, -999.000
           NA,HOT timeseries 1988to2019 27SEP2021,    213,  99,-999.0,    8001,-999.0,20110128,1426,  22.7498, -158.0000,  4745, 4807.500,    1.507,   34.689,2,   34.690,2,  153.800,2,  153.900,2,  147.020,2,   35.510,2,    2.470,2, -999.000