BOTTLE,20214727JOAExport
EXPOCODE,SECT_ID,STNNBR,CASTNO,SAMPNO,BTLNBR,BTLNBR_FLAG_W,DATE,TIME,LATITUDE,LONGITUDE,DEPTH,CTDPRS,CTDTMP,CTDSAL,CTDSAL_FLAG_W,SALNTY,SALNTY_FLAG_W,CTDOXY,CTDOXY_FLAG_W,OXYGEN,OXYGEN_FLAG_W,SILCAT,SILCAT_FLAG_W,NINI,NINI_FLAG_W,PHSPHT,PHSPHT_FLAG_W,REVP
,,,,,,,,,,,,DB,IPTS-68,PSS-78,,PSS-78,,UMOL/KG,,UMOL/KG,,UMOL/KG,,UMOL/KG,,UMOL/KG,,DBAR
           NA,HOT timeseries 1988to2019 27SEP2021,     20,  99,-999.0,      23,-999.0,19910203,0317,  22.7500, -158.0000,  4749,   12.600,   23.331,   35.105,2,   35.105,2,  269.400,2,  217.400,2,    0.950,2,    0.000,2,    0.070,2, -999.000
           NA,HOT timeseries 1988to2019 27SEP2021,     20,  99,-999.0,      23,-999.0,19910203,0317,  22.7500, -158.0000,  4749,   15.000,   23.158,   35.148,2,   35.145,2,  254.100,2,  212.200,2,    0.570,2,    0.000,2,    0.070,2, -999.000
           NA,HOT timeseries 1988to2019 27SEP2021,     20,  99,-999.0,      22,-999.0,19910203,0317,  22.7500, -158.0000,  4749,   53.400,   22.939,   35.193,2,   35.193,2,  243.400,2,  215.100,2,    0.760,2,    0.000,2,    0.060,2, -999.000
           NA,HOT timeseries 1988to2019 27SEP2021,     20,  99,-999.0,      21,-999.0,19910203,0317,  22.7500, -158.0000,  4749,   85.400,   22.709,   35.227,2,   35.228,2,  231.700,2,  213.200,2,    0.760,2,    0.000,2,    0.060,2, -999.000
           NA,HOT timeseries 1988to2019 27SEP2021,     20,  99,-999.0,      20,-999.0,19910203,0317,  22.7500, -158.0000,  4749,  110.100,   22.694,   35.228,2,   35.229,2,  230.600,2,  213.000,2,    0.570,2,    0.000,2,    0.060,2, -999.000
           NA,HOT timeseries 1988to2019 27SEP2021,     20,  99,-999.0,      22,-999.0,19910203,0317,  22.7500, -158.0000,  4749,  119.400,   21.469,   35.195,2,   35.205,2,  209.500,2,  203.700,2,    1.520,2,    0.540,2,    0.110,2, -999.000
           NA,HOT timeseries 1988to2019 27SEP2021,     20,  99,-999.0,      19,-999.0,19910203,0317,  22.7500, -158.0000,  4749,  138.400,   21.246,   35.178,2,   35.175,2,  215.000,2,  200.600,2,    1.330,2,    0.890,2,    0.140,2, -999.000
           NA,HOT timeseries 1988to2019 27SEP2021,     20,  99,-999.0,      18,-999.0,19910203,0317,  22.7500, -158.0000,  4749,  209.200,   17.406,   34.898,2,   34.892,2,  200.200,2,  198.400,2,    3.320,2,    3.400,2,    0.300,2, -999.000
           NA,HOT timeseries 1988to2019 27SEP2021,     20,  99,-999.0,      17,-999.0,19910203,0317,  22.7500, -158.0000,  4749,  243.400,   15.681,   34.673,2,   34.672,2,  199.200,2,  199.200,2,    4.750,2,    5.220,2,    0.430,2, -999.000
           NA,HOT timeseries 1988to2019 27SEP2021,     20,  99,-999.0,      15,-999.0,19910203,0317,  22.7500, -158.0000,  4749,  374.500,   10.822,   34.229,2,   34.236,2,  219.300,2,  215.300,2,   14.430,2,   12.870,2,    0.940,2, -999.000
           NA,HOT timeseries 1988to2019 27SEP2021,     20,  99,-999.0,      21,-999.0,19910203,0317,  22.7500, -158.0000,  4749,  553.800,    6.213,   34.068,2,   34.067,2,   84.800,2,   89.100,2,   60.420,2,   33.390,2,    2.370,2, -999.000
           NA,HOT timeseries 1988to2019 27SEP2021,     20,  99,-999.0,      10,-999.0,19910203,0317,  22.7500, -158.0000,  4749,  585.100,    5.836,   34.088,2,   34.087,2,   71.100,2,   69.200,2,   68.590,2,   35.830,2,    2.650,2, -999.000
           NA,HOT timeseries 1988to2019 27SEP2021,     20,  99,-999.0,       9,-999.0,19910203,0317,  22.7500, -158.0000,  4749,  642.300,    5.361,   34.140,2,   34.138,2,   48.600,2,   46.000,2,   78.460,2,   38.260,2,    2.830,2, -999.000
           NA,HOT timeseries 1988to2019 27SEP2021,     20,  99,-999.0,       8,-999.0,19910203,0317,  22.7500, -158.0000,  4749,  708.000,    4.992,   34.228,2,   34.227,2,   31.300,2,   30.800,2,   89.470,2,   40.150,2,    2.990,2, -999.000
           NA,HOT timeseries 1988to2019 27SEP2021,     20,  99,-999.0,       7,-999.0,19910203,0317,  22.7500, -158.0000,  4749,  756.500,    4.786,   34.278,2,   34.278,2,   34.800,2,   33.000,2,   93.850,2,   41.100,2,    3.000,2, -999.000
           NA,HOT timeseries 1988to2019 27SEP2021,     20,  99,-999.0,       6,-999.0,19910203,0317,  22.7500, -158.0000,  4749,  793.400,    4.624,   34.309,2,   34.305,2,   33.700,2,   31.700,2,   97.450,2,   41.230,2,    3.020,2, -999.000
           NA,HOT timeseries 1988to2019 27SEP2021,     20,  99,-999.0,      26,-999.0,19910203,0317,  22.7500, -158.0000,  4749,  817.600,    4.438,   34.320,2,   34.318,2,   32.600,2,   32.600,2,  101.250,2,   41.100,2,    3.030,2, -999.000
           NA,HOT timeseries 1988to2019 27SEP2021,     20,  99,-999.0,       4,-999.0,19910203,0317,  22.7500, -158.0000,  4749,  855.300,    4.242,   34.365,2,   34.364,2,   33.700,2,   33.200,2,  105.610,2,   40.960,2,    3.050,2, -999.000
           NA,HOT timeseries 1988to2019 27SEP2021,     20,  99,-999.0,       3,-999.0,19910203,0317,  22.7500, -158.0000,  4749,  889.300,    4.207,   34.409,2,   34.410,2,   36.000,2,   36.000,2,  106.940,2,   40.960,2,    3.050,2, -999.000
           NA,HOT timeseries 1988to2019 27SEP2021,     20,  99,-999.0,       2,-999.0,19910203,0317,  22.7500, -158.0000,  4749,  997.400,    3.984,   34.481,2,   34.482,2,   43.200,2,   44.400,2,  110.730,2,   41.090,2,    3.030,2, -999.000
           NA,HOT timeseries 1988to2019 27SEP2021,     20,  99,-999.0,      20,-999.0,19910203,0317,  22.7500, -158.0000,  4749, 1021.100,    3.855,   34.475,2,   34.475,2,   45.800,2,   43.900,2,  113.860,2,   42.040,2,    3.000,2, -999.000
           NA,HOT timeseries 1988to2019 27SEP2021,     20,  99,-999.0,       1,-999.0,19910203,0317,  22.7500, -158.0000,  4749, 1066.600,    3.782,   34.500,2,   34.501,2,   61.500,2,   47.600,2,  115.760,2,   41.970,2,    3.030,2, -999.000
           NA,HOT timeseries 1988to2019 27SEP2021,     20,  99,-999.0,      19,-999.0,19910203,0317,  22.7500, -158.0000,  4749, 1214.200,    3.401,   34.527,2,   34.526,2,   55.500,2,   54.300,2,  124.030,2,   41.230,2,    2.960,2, -999.000
           NA,HOT timeseries 1988to2019 27SEP2021,     20,  99,-999.0,      18,-999.0,19910203,0317,  22.7500, -158.0000,  4749, 1420.100,    2.907,   34.568,2,   34.567,2,   67.700,2,   64.100,2,  133.520,2,   41.090,2,    2.930,2, -999.000
           NA,HOT timeseries 1988to2019 27SEP2021,     20,  99,-999.0,      17,-999.0,19910203,0317,  22.7500, -158.0000,  4749, 1615.400,    2.567,   34.586,2,   34.584,2,   75.000,2,   72.800,2,  142.050,2,   40.280,2,    2.880,2, -999.000
           NA,HOT timeseries 1988to2019 27SEP2021,     20,  99,-999.0,      16,-999.0,19910203,0317,  22.7500, -158.0000,  4749, 1817.900,    2.256,   34.612,2,   34.612,2,   83.600,2,   83.400,2,  148.700,2,   40.280,2,    2.830,2, -999.000
           NA,HOT timeseries 1988to2019 27SEP2021,     20,  99,-999.0,      15,-999.0,19910203,0317,  22.7500, -158.0000,  4749, 2037.500,    2.029,   34.624,2,   34.626,2,  -14.300,2,   89.500,2,  154.210,2,   40.000,2,    2.810,2, -999.000
           NA,HOT timeseries 1988to2019 27SEP2021,     20,  99,-999.0,      14,-999.0,19910203,0317,  22.7500, -158.0000,  4749, 2168.300,    1.908,   34.631,2,   34.631,2,   95.200,2,   94.000,2,  155.350,2,   39.190,2,    2.780,2, -999.000
           NA,HOT timeseries 1988to2019 27SEP2021,     20,  99,-999.0,      13,-999.0,19910203,0317,  22.7500, -158.0000,  4749, 2400.700,    1.771,   34.647,2,   34.647,2,  101.700,2,  103.800,2,  157.250,2,   39.060,2,    2.750,2, -999.000
           NA,HOT timeseries 1988to2019 27SEP2021,     20,  99,-999.0,      12,-999.0,19910203,0317,  22.7500, -158.0000,  4749, 2606.700,    1.669,   34.657,2,   34.657,2,  107.100,2,  111.000,2,  158.760,2,   38.520,2,    2.700,2, -999.000
           NA,HOT timeseries 1988to2019 27SEP2021,     20,  99,-999.0,      11,-999.0,19910203,0317,  22.7500, -158.0000,  4749, 2810.700,    1.584,   34.664,2,   34.665,2,  114.100,2,  118.500,2,  161.610,2,   38.110,2,    2.660,2, -999.000
           NA,HOT timeseries 1988to2019 27SEP2021,     20,  99,-999.0,      10,-999.0,19910203,0317,  22.7500, -158.0000,  4749, 3010.300,    1.525,   34.671,2,   34.671,2,  121.700,2,  126.300,2,  158.290,2,   37.780,2,    2.610,2, -999.000
           NA,HOT timeseries 1988to2019 27SEP2021,     20,  99,-999.0,       9,-999.0,19910203,0317,  22.7500, -158.0000,  4749, 3188.800,    1.491,   34.675,2,   34.675,2,  127.400,2,  132.300,2,  156.300,2,   37.030,2,    2.590,2, -999.000
           NA,HOT timeseries 1988to2019 27SEP2021,     20,  99,-999.0,       8,-999.0,19910203,0317,  22.7500, -158.0000,  4749, 3400.400,    1.466,   34.680,2,   34.680,2,  132.900,2,  138.300,2,  154.960,2,   36.620,2,    2.560,2, -999.000
           NA,HOT timeseries 1988to2019 27SEP2021,     20,  99,-999.0,       7,-999.0,19910203,0317,  22.7500, -158.0000,  4749, 3588.200,    1.451,   34.683,2,   34.685,2,  139.300,2,  142.700,2,  153.440,2,   36.360,2,    2.530,2, -999.000
           NA,HOT timeseries 1988to2019 27SEP2021,     20,  99,-999.0,       6,-999.0,19910203,0317,  22.7500, -158.0000,  4749, 3789.400,    1.448,   34.685,2,   34.685,2,  144.000,2,  145.900,2,  152.120,2,   36.490,2,    2.520,2, -999.000
           NA,HOT timeseries 1988to2019 27SEP2021,     20,  99,-999.0,      26,-999.0,19910203,0317,  22.7500, -158.0000,  4749, 3999.300,    1.452,   34.687,2,   34.688,2,  148.100,2,  148.900,2,  151.550,2,   36.360,2,    2.500,2, -999.000
           NA,HOT timeseries 1988to2019 27SEP2021,     20,  99,-999.0,       4,-999.0,19910203,0317,  22.7500, -158.0000,  4749, 4173.000,    1.462,   34.688,2,   34.688,2,  151.500,2,  150.300,2,  150.210,2,   36.220,2,    2.490,2, -999.000
           NA,HOT timeseries 1988to2019 27SEP2021,     20,  99,-999.0,       3,-999.0,19910203,0317,  22.7500, -158.0000,  4749, 4395.800,    1.478,   34.689,2,   34.689,2,  154.700,2,  151.400,2,  149.930,2,   36.020,2,    2.490,2, -999.000
           NA,HOT timeseries 1988to2019 27SEP2021,     20,  99,-999.0,       2,-999.0,19910203,0317,  22.7500, -158.0000,  4749, 4519.800,    1.490,   34.689,2,   34.689,2,  157.100,2,  151.900,2,  150.210,2,   35.950,2,    2.480,2, -999.000
           NA,HOT timeseries 1988to2019 27SEP2021,     20,  99,-999.0,       1,-999.0,19910203,0317,  22.7500, -158.0000,  4749, 4638.300,    1.499,   34.690,2,   34.689,2,  158.800,2,  152.700,2,  149.260,2,   35.670,2,    2.480,2, -999.000
           NA,HOT timeseries 1988to2019 27SEP2021,     21,   7,-999.0,      23,-999.0,19910308,1809,  22.7483, -158.0733,  4810,    4.500,   23.489,   35.008,2,   35.007,2,  236.600,2,  213.700,2,    1.320,2,    0.000,2,    0.100,2, -999.000
           NA,HOT timeseries 1988to2019 27SEP2021,     21,   7,-999.0,      22,-999.0,19910308,1809,  22.7483, -158.0733,  4810,   31.100,   23.487,   35.006,2,   35.008,2,  236.300,2,  213.900,2,    1.690,2,    0.000,2,    0.100,2, -999.000
           NA,HOT timeseries 1988to2019 27SEP2021,     21,   7,-999.0,      21,-999.0,19910308,1809,  22.7483, -158.0733,  4810,   49.600,   22.862,   35.182,2,   35.190,2,  216.500,2,  217.600,2,    1.120,2,    0.000,2,    0.060,2, -999.000
           NA,HOT timeseries 1988to2019 27SEP2021,     21,   7,-999.0,      20,-999.0,19910308,1809,  22.7483, -158.0733,  4810,   72.900,   22.425,   35.205,2,   35.207,2,  172.900,2,  211.900,2,    1.320,2,    0.060,2,    0.070,2, -999.000
           NA,HOT timeseries 1988to2019 27SEP2021,     21,   7,-999.0,      19,-999.0,19910308,1809,  22.7483, -158.0733,  4810,  101.700,   22.015,   35.223,2,   35.222,2,  139.200,2,  210.200,2,    1.320,2,    0.230,2,    0.080,2, -999.000
           NA,HOT timeseries 1988to2019 27SEP2021,     21,   7,-999.0,      17,-999.0,19910308,1809,  22.7483, -158.0733,  4810,  124.600,   21.309,   35.191,2,   35.220,2,  182.600,2,  204.100,2,    1.320,2,    0.690,2,    0.110,2, -999.000
           NA,HOT timeseries 1988to2019 27SEP2021,     21,   7,-999.0,      16,-999.0,19910308,1809,  22.7483, -158.0733,  4810,  139.500,   20.624,   35.220,2, -999.000,3, -999.000,3,  199.400,2,    2.070,2,    1.350,2,    0.170,2, -999.000
           NA,HOT timeseries 1988to2019 27SEP2021,     21,   7,-999.0,      14,-999.0,19910308,1809,  22.7483, -158.0733,  4810,  147.600,   19.939,   35.134,2, -999.000,4, -999.000,3,  194.500,2,    2.440,2,    2.810,2,    0.260,2, -999.000
           NA,HOT timeseries 1988to2019 27SEP2021,     21,   7,-999.0,      13,-999.0,19910308,1809,  22.7483, -158.0733,  4810,  156.000,   19.562,   35.062,2,   35.099,2,  174.800,2,  196.600,2,    2.070,2,    2.150,2,    0.220,2, -999.000
           NA,HOT timeseries 1988to2019 27SEP2021,     21,   7,-999.0,      12,-999.0,19910308,1809,  22.7483, -158.0733,  4810,  179.900,   18.839,   35.010,2, -999.000,4, -999.000,3,  197.300,2,    2.260,2,    2.180,2,    0.220,2, -999.000
           NA,HOT timeseries 1988to2019 27SEP2021,     21,   7,-999.0,      11,-999.0,19910308,1809,  22.7483, -158.0733,  4810,  406.100,    8.865,   34.071,2,   34.095,2,  197.800,2,  175.600,2,   27.830,2,   20.090,2,    1.400,2, -999.000
           NA,HOT timeseries 1988to2019 27SEP2021,     21,   7,-999.0,      10,-999.0,19910308,1809,  22.7483, -158.0733,  4810,  504.900,    6.848,   34.051,2,   34.068,2,  139.800,2,  109.900,2,   52.090,2,   30.500,2,    2.150,2, -999.000
           NA,HOT timeseries 1988to2019 27SEP2021,     21,   7,-999.0,       9,-999.0,19910308,1809,  22.7483, -158.0733,  4810,  765.900,    4.642,   34.340,2,   34.340,2,   29.100,2,   26.400,2,   98.330,2,   41.330,2,    3.000,2, -999.000
           NA,HOT timeseries 1988to2019 27SEP2021,     21,   7,-999.0,       8,-999.0,19910308,1809,  22.7483, -158.0733,  4810, 1019.300,    3.807,   34.492,2,   34.488,2,   44.200,2,   44.700,2,  115.050,2,   41.620,2,    2.980,2, -999.000
           NA,HOT timeseries 1988to2019 27SEP2021,     21,   7,-999.0,       7,-999.0,19910308,1809,  22.7483, -158.0733,  4810, 1498.900,    2.723,   34.571,2,   34.572,2,   66.400,2,   70.700,2,  138.720,2,   40.610,2,    2.900,2, -999.000
           NA,HOT timeseries 1988to2019 27SEP2021,     21,   7,-999.0,       6,-999.0,19910308,1809,  22.7483, -158.0733,  4810, 2015.700,    2.049,   34.624,2,   34.624,2,   88.600,2,   90.600,2,  153.580,2,   39.680,2,    2.800,2, -999.000
           NA,HOT timeseries 1988to2019 27SEP2021,     21,   7,-999.0,      26,-999.0,19910308,1809,  22.7483, -158.0733,  4810, 2504.900,    1.695,   34.652,2,   34.653,2,  102.500,2,  109.100,2,  161.270,2,   38.890,2,    2.710,2, -999.000
           NA,HOT timeseries 1988to2019 27SEP2021,     21,   7,-999.0,      25,-999.0,19910308,1809,  22.7483, -158.0733,  4810, 3002.300,    1.539,   34.671,2, -999.000,4, -999.000,3, -999.000,4, -999.000,4, -999.000,4, -999.000,4, -999.000
           NA,HOT timeseries 1988to2019 27SEP2021,     21,   7,-999.0,       2,-999.0,19910308,1809,  22.7483, -158.0733,  4810, 4006.800,    1.446,   34.688,2,   34.685,2,  152.000,2,  150.000,2,  150.000,2,   36.730,2,    2.510,2, -999.000
           NA,HOT timeseries 1988to2019 27SEP2021,     21,   7,-999.0,       1,-999.0,19910308,1809,  22.7483, -158.0733,  4810, 4543.200,    1.488,   34.690,2, -999.000,3, -999.000,3,  153.000,2,  149.060,2,   35.800,2,    2.470,2, -999.000