BOTTLE,20214727JOAExport
EXPOCODE,SECT_ID,STNNBR,CASTNO,SAMPNO,BTLNBR,BTLNBR_FLAG_W,DATE,TIME,LATITUDE,LONGITUDE,DEPTH,CTDPRS,CTDTMP,CTDSAL,CTDSAL_FLAG_W,SALNTY,SALNTY_FLAG_W,CTDOXY,CTDOXY_FLAG_W,OXYGEN,OXYGEN_FLAG_W,SILCAT,SILCAT_FLAG_W,NINI,NINI_FLAG_W,PHSPHT,PHSPHT_FLAG_W,REVP
,,,,,,,,,,,,DB,IPTS-68,PSS-78,,PSS-78,,UMOL/KG,,UMOL/KG,,UMOL/KG,,UMOL/KG,,UMOL/KG,,DBAR
           NA,HOT timeseries 1988to2019 27SEP2021,    137,  99,-999.0,      31,-999.0,20021103,1146,  22.7507, -158.0132,  4726,    5.100,   25.849,   35.125,2,   35.128,2,  205.900,2,  207.300,2,    1.060,2,    0.040,2,    0.010,2, -999.000
           NA,HOT timeseries 1988to2019 27SEP2021,    137,  99,-999.0,      31,-999.0,20021103,1146,  22.7507, -158.0132,  4726,   15.000,   25.901,   35.143,2,   35.143,2,  205.700,2,  205.000,2,    1.010,2,    0.040,2,    0.030,2, -999.000
           NA,HOT timeseries 1988to2019 27SEP2021,    137,  99,-999.0,      30,-999.0,20021103,1146,  22.7507, -158.0132,  4726,   73.800,   24.680,   35.169,2,   35.168,2,  216.400,2,  217.200,2,    1.140,2,    0.030,2,    0.030,2, -999.000
           NA,HOT timeseries 1988to2019 27SEP2021,    137,  99,-999.0,      22,-999.0,20021103,1146,  22.7507, -158.0132,  4726,   81.600,   23.709,   35.219,2,   35.217,2,  222.400,2,  219.700,2,    1.160,2,    0.060,2,    0.010,2, -999.000
           NA,HOT timeseries 1988to2019 27SEP2021,    137,  99,-999.0,      21,-999.0,20021103,1146,  22.7507, -158.0132,  4726,  110.800,   22.347,   35.298,2,   35.299,2,  204.600,2,  206.600,2,    1.300,2,    0.320,2,    0.050,2, -999.000
           NA,HOT timeseries 1988to2019 27SEP2021,    137,  99,-999.0,      20,-999.0,20021103,1146,  22.7507, -158.0132,  4726,  164.700,   20.045,   35.173,2,   35.174,2,  191.600,2,  192.800,2,    2.060,2,    1.930,2, -999.000,3, -999.000
           NA,HOT timeseries 1988to2019 27SEP2021,    137,  99,-999.0,      19,-999.0,20021103,1146,  22.7507, -158.0132,  4726,  203.400,   18.139,   34.915,2,   34.913,2,  202.000,2,  199.900,2,    3.110,2,    2.830,2, -999.000,3, -999.000
           NA,HOT timeseries 1988to2019 27SEP2021,    137,  99,-999.0,      18,-999.0,20021103,1146,  22.7507, -158.0132,  4726,  239.500,   15.714,   34.583,2,   34.586,2,  200.600,2,  200.100,2,    5.360,2,    5.420,2, -999.000,3, -999.000
           NA,HOT timeseries 1988to2019 27SEP2021,    137,  99,-999.0,      17,-999.0,20021103,1146,  22.7507, -158.0132,  4726,  283.700,   13.726,   34.381,2,   34.382,2,  207.800,2,  206.900,2,    7.850,2,    7.930,2, -999.000,3, -999.000
           NA,HOT timeseries 1988to2019 27SEP2021,    137,  99,-999.0,      16,-999.0,20021103,1146,  22.7507, -158.0132,  4726,  328.600,   11.742,   34.250,2,   34.254,2,  207.300,2,  206.600,2,   12.000,2,   11.630,2, -999.000,3, -999.000
           NA,HOT timeseries 1988to2019 27SEP2021,    137,  99,-999.0,      23,-999.0,20021103,1146,  22.7507, -158.0132,  4726,  363.400,   10.491,   34.164,2,   34.166,2,  199.100,2,  199.200,2,   16.390,2,   14.900,2, -999.000,3, -999.000
           NA,HOT timeseries 1988to2019 27SEP2021,    137,  99,-999.0,      40,-999.0,20021103,1146,  22.7507, -158.0132,  4726,  436.200,    8.895,   34.088,2,   34.093,2,  173.700,2,  172.700,2,   26.730,2,   20.730,2, -999.000,3, -999.000
           NA,HOT timeseries 1988to2019 27SEP2021,    137,  99,-999.0,      13,-999.0,20021103,1146,  22.7507, -158.0132,  4726,  474.400,    7.671,   34.046,2,   34.049,2,  136.800,2, -999.000,3,   39.680,2,   27.060,2, -999.000,3, -999.000
           NA,HOT timeseries 1988to2019 27SEP2021,    137,  99,-999.0,      12,-999.0,20021103,1146,  22.7507, -158.0132,  4726,  512.300,    6.852,   34.051,2,   34.051,2,  104.400,2,  103.300,2,   50.020,2,   30.890,2, -999.000,3, -999.000
           NA,HOT timeseries 1988to2019 27SEP2021,    137,  99,-999.0,      39,-999.0,20021103,1146,  22.7507, -158.0132,  4726,  550.500,    6.365,   34.070,2,   34.070,2,   82.500,2,   82.200,2,   57.780,2,   33.640,2, -999.000,3, -999.000
           NA,HOT timeseries 1988to2019 27SEP2021,    137,  99,-999.0,      32,-999.0,20021103,1146,  22.7507, -158.0132,  4726,  594.700,    5.794,   34.088,2,   34.089,2,   62.900,2,   61.700,2,   66.730,2,   36.580,2, -999.000,3, -999.000
           NA,HOT timeseries 1988to2019 27SEP2021,    137,  99,-999.0,       3,-999.0,20021103,1146,  22.7507, -158.0132,  4726,  640.400,    5.545,   34.163,2,   34.165,2,   41.500,2,   41.300,2,   79.670,2, -999.000,3, -999.000,3, -999.000
           NA,HOT timeseries 1988to2019 27SEP2021,    137,  99,-999.0,      28,-999.0,20021103,1146,  22.7507, -158.0132,  4726,  774.800,    4.807,   34.330,2,   34.331,2,   23.100,2,   21.900,2, -999.000,3,   41.520,2, -999.000,3, -999.000
           NA,HOT timeseries 1988to2019 27SEP2021,    137,  99,-999.0,       7,-999.0,20021103,1146,  22.7507, -158.0132,  4726,  814.700,    4.682,   34.372,2,   34.373,2,   21.000,2,   20.800,2, -999.000,3, -999.000,3, -999.000,4, -999.000
           NA,HOT timeseries 1988to2019 27SEP2021,    137,  99,-999.0,      38,-999.0,20021103,1146,  22.7507, -158.0132,  4726,  855.900,    4.575,   34.409,2,   34.409,2,   23.600,2,   23.300,2, -999.000,3,   42.200,2, -999.000,3, -999.000
           NA,HOT timeseries 1988to2019 27SEP2021,    137,  99,-999.0,      36,-999.0,20021103,1146,  22.7507, -158.0132,  4726,  897.700,    4.425,   34.443,2,   34.442,2,   28.600,2,   29.100,2, -999.000,3,   42.210,2, -999.000,4, -999.000
           NA,HOT timeseries 1988to2019 27SEP2021,    137,  99,-999.0,      35,-999.0,20021103,1146,  22.7507, -158.0132,  4726,  941.800,    4.309,   34.472,2,   34.472,2,   33.700,2,   34.100,2, -999.000,3,   42.030,2, -999.000,3, -999.000
           NA,HOT timeseries 1988to2019 27SEP2021,    137,  99,-999.0,      33,-999.0,20021103,1146,  22.7507, -158.0132,  4726, 1018.900,    4.107,   34.494,2,   34.492,2,   38.100,2,   38.500,2, -999.000,3,   41.930,2, -999.000,3, -999.000
           NA,HOT timeseries 1988to2019 27SEP2021,    137,  99,-999.0,      20,-999.0,20021103,1146,  22.7507, -158.0132,  4726, 1201.700,    3.616,   34.529,2,   34.527,2,   47.700,2,   47.600,2,  117.220,2,   42.000,2, -999.000,3, -999.000
           NA,HOT timeseries 1988to2019 27SEP2021,    137,  99,-999.0,      19,-999.0,20021103,1146,  22.7507, -158.0132,  4726, 1401.900,    3.137,   34.557,2,   34.556,2,   58.300,2,   59.300,2,  126.410,2,   41.200,2, -999.000,3, -999.000
           NA,HOT timeseries 1988to2019 27SEP2021,    137,  99,-999.0,      18,-999.0,20021103,1146,  22.7507, -158.0132,  4726, 1603.000,    2.724,   34.583,2,   34.580,2,   70.000,2,   70.000,2,  135.660,2,   40.630,2, -999.000,3, -999.000
           NA,HOT timeseries 1988to2019 27SEP2021,    137,  99,-999.0,      17,-999.0,20021103,1146,  22.7507, -158.0132,  4726, 1802.200,    2.453,   34.599,2,   34.598,2,   77.400,2,   77.900,2,  143.280,2,   39.950,2, -999.000,3, -999.000
           NA,HOT timeseries 1988to2019 27SEP2021,    137,  99,-999.0,      16,-999.0,20021103,1146,  22.7507, -158.0132,  4726, 2003.200,    2.220,   34.616,2,   34.614,2,   87.100,2,   86.900,2,  147.890,2,   39.680,2,    2.830,2, -999.000
           NA,HOT timeseries 1988to2019 27SEP2021,    137,  99,-999.0,      23,-999.0,20021103,1146,  22.7507, -158.0132,  4726, 2203.700,    2.017,   34.630,2,   34.629,2,   94.600,2,   95.100,2,  152.500,2,   39.030,2,    2.780,2, -999.000
           NA,HOT timeseries 1988to2019 27SEP2021,    137,  99,-999.0,      40,-999.0,20021103,1146,  22.7507, -158.0132,  4726, 2403.500,    1.877,   34.642,2, -999.000,4, -999.000,3, -999.000,3, -999.000,3,   38.840,2, -999.000,4, -999.000
           NA,HOT timeseries 1988to2019 27SEP2021,    137,  99,-999.0,      13,-999.0,20021103,1146,  22.7507, -158.0132,  4726, 2603.500,    1.750,   34.650,2,   34.650,2,  106.700,2,  106.200,2,  158.000,2,   38.920,2, -999.000,4, -999.000
           NA,HOT timeseries 1988to2019 27SEP2021,    137,  99,-999.0,      12,-999.0,20021103,1146,  22.7507, -158.0132,  4726, 2802.900,    1.669,   34.659,2, -999.000,4, -999.000,3, -999.000,4, -999.000,5, -999.000,4, -999.000,4, -999.000
           NA,HOT timeseries 1988to2019 27SEP2021,    137,  99,-999.0,      39,-999.0,20021103,1146,  22.7507, -158.0132,  4726, 3002.800,    1.599,   34.666,2,   34.664,2,  119.700,2,  120.400,2,  157.990,2,   37.890,2, -999.000,4, -999.000
           NA,HOT timeseries 1988to2019 27SEP2021,    137,  99,-999.0,      32,-999.0,20021103,1146,  22.7507, -158.0132,  4726, 3203.200,    1.549,   34.672,2,   34.672,2,  125.900,2,  125.900,2,  157.230,2,   37.550,2, -999.000,4, -999.000
           NA,HOT timeseries 1988to2019 27SEP2021,    137,  99,-999.0,       3,-999.0,20021103,1146,  22.7507, -158.0132,  4726, 3402.500,    1.510,   34.677,2,   34.676,2,  132.400,2,  132.400,2,  155.300,2,   37.110,2, -999.000,4, -999.000
           NA,HOT timeseries 1988to2019 27SEP2021,    137,  99,-999.0,      29,-999.0,20021103,1146,  22.7507, -158.0132,  4726, 3601.600,    1.487,   34.681,2,   34.682,2,  137.700,2,  137.900,2,  153.000,2,   36.930,2, -999.000,4, -999.000
           NA,HOT timeseries 1988to2019 27SEP2021,    137,  99,-999.0,      28,-999.0,20021103,1146,  22.7507, -158.0132,  4726, 3801.000,    1.470,   34.684,2,   34.683,2,  142.700,2,  143.700,2,  151.610,2,   36.430,2, -999.000,4, -999.000
           NA,HOT timeseries 1988to2019 27SEP2021,    137,  99,-999.0,       7,-999.0,20021103,1146,  22.7507, -158.0132,  4726, 4001.700,    1.465,   34.686,2,   34.685,2,  146.600,2,  146.200,2,  153.170,2,   36.080,2, -999.000,4, -999.000
           NA,HOT timeseries 1988to2019 27SEP2021,    137,  99,-999.0,      38,-999.0,20021103,1146,  22.7507, -158.0132,  4726, 4200.200,    1.468,   34.688,2,   34.688,2,  149.400,2,  149.000,2,  152.010,2,   36.120,2, -999.000,4, -999.000
           NA,HOT timeseries 1988to2019 27SEP2021,    137,  99,-999.0,      36,-999.0,20021103,1146,  22.7507, -158.0132,  4726, 4398.500,    1.480,   34.688,2,   34.688,2,  150.900,2,  150.700,2,  150.090,2,   36.070,2, -999.000,4, -999.000
           NA,HOT timeseries 1988to2019 27SEP2021,    137,  99,-999.0,      35,-999.0,20021103,1146,  22.7507, -158.0132,  4726, 4498.200,    1.488,   34.688,2,   34.688,2,  151.400,2,  151.400,2,  147.670,2,   35.950,2, -999.000,4, -999.000
           NA,HOT timeseries 1988to2019 27SEP2021,    137,  99,-999.0,      34,-999.0,20021103,1146,  22.7507, -158.0132,  4726, 4598.200,    1.496,   34.689,2,   34.689,2,  152.100,2,  151.700,2,  147.370,2,   35.770,2, -999.000,4, -999.000
           NA,HOT timeseries 1988to2019 27SEP2021,    137,  99,-999.0,      33,-999.0,20021103,1146,  22.7507, -158.0132,  4726, 4811.100,    1.520,   34.689,2,   34.689,2,  152.300,2,  152.600,2,  147.050,2,   35.650,2, -999.000,4, -999.000