BOTTLE,20214727JOAExport
EXPOCODE,SECT_ID,STNNBR,CASTNO,SAMPNO,BTLNBR,BTLNBR_FLAG_W,DATE,TIME,LATITUDE,LONGITUDE,DEPTH,CTDPRS,CTDTMP,CTDSAL,CTDSAL_FLAG_W,SALNTY,SALNTY_FLAG_W,CTDOXY,CTDOXY_FLAG_W,OXYGEN,OXYGEN_FLAG_W,SILCAT,SILCAT_FLAG_W,NINI,NINI_FLAG_W,PHSPHT,PHSPHT_FLAG_W,REVP
,,,,,,,,,,,,DB,IPTS-68,PSS-78,,PSS-78,,UMOL/KG,,UMOL/KG,,UMOL/KG,,UMOL/KG,,UMOL/KG,,DBAR
           NA,HOT timeseries 1988to2019 27SEP2021,      2,  99,-999.0,    8010,-999.0,20180724,2102,  22.7473, -158.0010,  4702, 3202.000,    1.518,   34.674,2,   34.674,2,  130.600,2,  130.700,2,  157.130,2,   36.940,2,    2.610,2, -999.000
           NA,HOT timeseries 1988to2019 27SEP2021,      2,  99,-999.0,    8009,-999.0,20180724,2102,  22.7473, -158.0010,  4702, 3402.100,    1.491,   34.678,2,   34.678,2,  136.600,2,  136.700,2,  155.670,2,   36.580,2,    2.570,2, -999.000
           NA,HOT timeseries 1988to2019 27SEP2021,      2,  99,-999.0,    8008,-999.0,20180724,2102,  22.7473, -158.0010,  4702, 3601.800,    1.468,   34.682,2,   34.682,2,  141.800,2,  142.500,2,  153.910,2,   36.350,2,    2.560,2, -999.000
           NA,HOT timeseries 1988to2019 27SEP2021,      2,  99,-999.0,    8060,-999.0,20180724,2102,  22.7473, -158.0010,  4702, 3801.500,    1.460,   34.684,2,   34.684,2,  145.400,2,  145.400,2,  152.260,2,   36.140,2,    2.530,2, -999.000
           NA,HOT timeseries 1988to2019 27SEP2021,      2,  99,-999.0,    8006,-999.0,20180724,2102,  22.7473, -158.0010,  4702, 4003.200,    1.459,   34.686,2,   34.686,2,  149.100,2,  148.200,2,  150.580,2,   36.020,2,    2.500,2, -999.000
           NA,HOT timeseries 1988to2019 27SEP2021,      2,  99,-999.0,    8005,-999.0,20180724,2102,  22.7473, -158.0010,  4702, 4204.400,    1.469,   34.687,2,   34.686,2,  151.000,2,  150.600,2,  149.820,2,   35.750,2,    2.510,2, -999.000
           NA,HOT timeseries 1988to2019 27SEP2021,      2,  99,-999.0,    8059,-999.0,20180724,2102,  22.7473, -158.0010,  4702, 4401.900,    1.484,   34.688,2,   34.688,2,  152.300,2,  151.500,2,  149.360,2,   35.740,2,    2.500,2, -999.000
           NA,HOT timeseries 1988to2019 27SEP2021,      2,  99,-999.0,    8003,-999.0,20180724,2102,  22.7473, -158.0010,  4702, 4499.100,    1.491,   34.688,2,   34.688,2,  153.200,2,  152.800,2,  148.580,2,   35.670,2,    2.500,2, -999.000
           NA,HOT timeseries 1988to2019 27SEP2021,      2,  99,-999.0,    8002,-999.0,20180724,2102,  22.7473, -158.0010,  4702, 4601.800,    1.500,   34.689,2,   34.688,2,  153.800,2,  155.100,2,  147.990,2,   35.720,2,    2.490,2, -999.000
           NA,HOT timeseries 1988to2019 27SEP2021,      2,  99,-999.0,    8001,-999.0,20180724,2102,  22.7473, -158.0010,  4702, 4806.300,    1.510,   34.690,2,   34.690,2,  155.900,2,  155.500,2,  146.030,2,   35.240,2,    2.470,2, -999.000
           NA,HOT timeseries 1988to2019 27SEP2021,      2,  99,-999.0,    8058,-999.0,20180910,2104,  22.7502, -158.0002,  4741,    6.100,   27.243,   34.563,2,   34.565,2,  202.700,2,  202.700,2,    1.670,2,    0.030,2,    0.090,2, -999.000
           NA,HOT timeseries 1988to2019 27SEP2021,      2,  99,-999.0,    8023,-999.0,20180910,2104,  22.7502, -158.0002,  4741,   11.800,   27.179,   34.562,2,   34.563,2,  202.800,2,  203.400,2,    2.030,2,    0.050,2,    0.090,2, -999.000
           NA,HOT timeseries 1988to2019 27SEP2021,      2,  99,-999.0,    8022,-999.0,20180910,2104,  22.7502, -158.0002,  4741,   33.200,   25.230,   34.907,2,   34.905,2,  216.600,2,  216.600,2, -999.000,3,    0.050,2,    0.060,2, -999.000
           NA,HOT timeseries 1988to2019 27SEP2021,      2,  99,-999.0,    8021,-999.0,20180910,2104,  22.7502, -158.0002,  4741,   41.000,   24.513,   34.981,2,   34.985,2,  217.200,2,  217.300,2, -999.000,3,    0.070,2,    0.070,2, -999.000
           NA,HOT timeseries 1988to2019 27SEP2021,      2,  99,-999.0,    8020,-999.0,20180910,2104,  22.7502, -158.0002,  4741,   62.700,   22.851,   35.047,2,   35.051,2,  209.900,2,  209.600,2,    2.190,2,    0.070,2,    0.110,2, -999.000
           NA,HOT timeseries 1988to2019 27SEP2021,      2,  99,-999.0,    8018,-999.0,20180910,2104,  22.7502, -158.0002,  4741,  141.800,   18.827,   34.945,2,   34.947,2,  201.900,2,  201.800,2,    2.890,2,    2.350,2,    0.250,2, -999.000
           NA,HOT timeseries 1988to2019 27SEP2021,      2,  99,-999.0,    8017,-999.0,20180910,2104,  22.7502, -158.0002,  4741,  189.000,   16.038,   34.634,2,   34.646,2,  206.100,2,  205.200,2,    5.160,2,    4.790,2,    0.400,2, -999.000
           NA,HOT timeseries 1988to2019 27SEP2021,      2,  99,-999.0,    8016,-999.0,20180910,2104,  22.7502, -158.0002,  4741,  243.200,   13.900,   34.425,2,   34.415,2,  208.800,2,  209.300,2,    8.460,2,    8.480,2,    0.630,2, -999.000
           NA,HOT timeseries 1988to2019 27SEP2021,      2,  99,-999.0,    8015,-999.0,20180910,2104,  22.7502, -158.0002,  4741,  293.700,   11.694,   34.232,2,   34.235,2,  210.400,2,  210.100,2,   13.870,2,   12.220,2,    0.880,2, -999.000
           NA,HOT timeseries 1988to2019 27SEP2021,      2,  99,-999.0,    8014,-999.0,20180910,2104,  22.7502, -158.0002,  4741,  346.900,   10.401,   34.166,2,   34.167,2,  198.900,2,  198.900,2,   22.620,2,   15.760,2,    1.130,2, -999.000
           NA,HOT timeseries 1988to2019 27SEP2021,      2,  99,-999.0,    8025,-999.0,20180910,2104,  22.7502, -158.0002,  4741,  409.700,    8.675,   34.086,2,   34.087,2,  160.100,2,  159.500,2,   32.640,2,   22.740,2,    1.630,2, -999.000
           NA,HOT timeseries 1988to2019 27SEP2021,      2,  99,-999.0,    8012,-999.0,20180910,2104,  22.7502, -158.0002,  4741,  453.500,    7.863,   34.065,2,   34.067,2,  145.100,2,  142.300,2,   43.460,2,   26.000,2,    1.860,2, -999.000
           NA,HOT timeseries 1988to2019 27SEP2021,      2,  99,-999.0,    8011,-999.0,20180910,2104,  22.7502, -158.0002,  4741,  492.700,    7.082,   34.050,2,   34.050,2,  120.800,2,  121.300,2,   49.250,2,   29.230,2,    2.090,2, -999.000
           NA,HOT timeseries 1988to2019 27SEP2021,      2,  99,-999.0,    8010,-999.0,20180910,2104,  22.7502, -158.0002,  4741,  526.800,    6.539,   34.058,2,   34.057,2,  100.900,2,  101.500,2,   56.850,2,   31.810,2,    2.280,2, -999.000
           NA,HOT timeseries 1988to2019 27SEP2021,      2,  99,-999.0,    8009,-999.0,20180910,2104,  22.7502, -158.0002,  4741,  575.900,    5.828,   34.093,2,   34.093,2,   73.200,2,   72.500,2,   69.750,2,   35.610,2,    2.580,2, -999.000
           NA,HOT timeseries 1988to2019 27SEP2021,      2,  99,-999.0,    8008,-999.0,20180910,2104,  22.7502, -158.0002,  4741,  626.900,    5.293,   34.140,2,   34.140,2,   54.800,2, -999.000,4,   79.580,2,   38.230,2,    2.760,2, -999.000
           NA,HOT timeseries 1988to2019 27SEP2021,      2,  99,-999.0,    8060,-999.0,20180910,2104,  22.7502, -158.0002,  4741,  691.800,    5.029,   34.204,2,   34.204,2,   44.000,2,   38.400,2,   88.220,2,   39.910,2,    2.900,2, -999.000
           NA,HOT timeseries 1988to2019 27SEP2021,      2,  99,-999.0,    8006,-999.0,20180910,2104,  22.7502, -158.0002,  4741,  744.200,    4.651,   34.275,2,   34.275,2,   33.300,2,   32.500,2,   95.920,2,   41.210,2,    2.990,2, -999.000
           NA,HOT timeseries 1988to2019 27SEP2021,      2,  99,-999.0,    8005,-999.0,20180910,2104,  22.7502, -158.0002,  4741,  782.400,    4.477,   34.317,2,   34.317,2,   31.400,2, -999.000,3,   99.830,2,   41.510,2,    3.010,2, -999.000
           NA,HOT timeseries 1988to2019 27SEP2021,      2,  99,-999.0,    8059,-999.0,20180910,2104,  22.7502, -158.0002,  4741,  859.300,    4.283,   34.374,2,   34.372,2,   32.900,2,   32.900,2,  104.430,2,   41.760,2,    3.030,2, -999.000
           NA,HOT timeseries 1988to2019 27SEP2021,      2,  99,-999.0,    8003,-999.0,20180910,2104,  22.7502, -158.0002,  4741,  914.800,    4.141,   34.436,2,   34.435,2,   38.700,2,   39.300,2,  106.770,2,   41.690,2,    3.020,2, -999.000
           NA,HOT timeseries 1988to2019 27SEP2021,      2,  99,-999.0,    8002,-999.0,20180910,2104,  22.7502, -158.0002,  4741,  966.400,    4.020,   34.472,2,   34.472,2,   42.400,2,   42.200,2,  111.220,2,   41.810,2,    3.020,2, -999.000
           NA,HOT timeseries 1988to2019 27SEP2021,      2,  99,-999.0,    8020,-999.0,20180910,2104,  22.7502, -158.0002,  4741, 1200.300,    3.461,   34.530,2,   34.530,2,   52.100,2,   52.900,2,  122.590,2,   41.440,2,    3.020,2, -999.000
           NA,HOT timeseries 1988to2019 27SEP2021,      2,  99,-999.0,    8019,-999.0,20180910,2104,  22.7502, -158.0002,  4741, 1401.800,    3.018,   34.559,2,   34.560,2,   62.100,2,   62.000,2,  131.760,2,   41.040,2,    2.970,2, -999.000
           NA,HOT timeseries 1988to2019 27SEP2021,      2,  99,-999.0,    8018,-999.0,20180910,2104,  22.7502, -158.0002,  4741, 1600.500,    2.639,   34.580,2,   34.580,2,   71.200,2,   71.100,2,  139.230,2,   40.510,2,    2.930,2, -999.000
           NA,HOT timeseries 1988to2019 27SEP2021,      2,  99,-999.0,    8017,-999.0,20180910,2104,  22.7502, -158.0002,  4741, 1800.500,    2.361,   34.600,2,   34.600,2,   79.500,2,   79.700,2,  145.250,2,   40.010,2,    2.880,2, -999.000
           NA,HOT timeseries 1988to2019 27SEP2021,      2,  99,-999.0,    8016,-999.0,20180910,2104,  22.7502, -158.0002,  4741, 1999.800,    2.099,   34.620,2,   34.620,2,   89.100,2,   89.400,2,  151.080,2,   39.490,2,    2.830,2, -999.000
           NA,HOT timeseries 1988to2019 27SEP2021,      2,  99,-999.0,    8015,-999.0,20180910,2104,  22.7502, -158.0002,  4741, 2200.800,    1.926,   34.632,2,   34.632,2,   95.200,2,   95.000,2,  155.750,2,   39.230,2,    2.790,2, -999.000
           NA,HOT timeseries 1988to2019 27SEP2021,      2,  99,-999.0,    8014,-999.0,20180910,2104,  22.7502, -158.0002,  4741, 2401.500,    1.771,   34.643,2,   34.643,2,  102.700,2,  102.400,2,  157.900,2,   38.870,2,    2.750,2, -999.000
           NA,HOT timeseries 1988to2019 27SEP2021,      2,  99,-999.0,    8025,-999.0,20180910,2104,  22.7502, -158.0002,  4741, 2600.900,    1.657,   34.654,2,   34.654,2,  111.700,2,  112.500,2,  157.820,2,   38.290,2,    2.700,2, -999.000
           NA,HOT timeseries 1988to2019 27SEP2021,      2,  99,-999.0,    8012,-999.0,20180910,2104,  22.7502, -158.0002,  4741, 2799.100,    1.588,   34.661,2,   34.661,2,  119.400,2,  119.800,2,  157.740,2,   37.700,2,    2.650,2, -999.000
           NA,HOT timeseries 1988to2019 27SEP2021,      2,  99,-999.0,    8011,-999.0,20180910,2104,  22.7502, -158.0002,  4741, 3000.800,    1.531,   34.669,2,   34.670,2,  126.900,2,  127.500,2,  157.620,2,   37.280,2,    2.630,2, -999.000
           NA,HOT timeseries 1988to2019 27SEP2021,      2,  99,-999.0,    8010,-999.0,20180910,2104,  22.7502, -158.0002,  4741, 3202.500,    1.506,   34.674,2,   34.674,2,  131.900,2,  131.800,2,  156.840,2,   36.950,2,    2.590,2, -999.000
           NA,HOT timeseries 1988to2019 27SEP2021,      2,  99,-999.0,    8009,-999.0,20180910,2104,  22.7502, -158.0002,  4741, 3400.300,    1.475,   34.679,2,   34.679,2,  138.300,2,  138.500,2,  156.100,2,   36.460,2,    2.560,2, -999.000
           NA,HOT timeseries 1988to2019 27SEP2021,      2,  99,-999.0,    8008,-999.0,20180910,2104,  22.7502, -158.0002,  4741, 3601.700,    1.463,   34.682,2,   34.682,2,  142.200,2,  142.700,2,  153.920,2,   36.210,2,    2.530,2, -999.000
           NA,HOT timeseries 1988to2019 27SEP2021,      2,  99,-999.0,    8060,-999.0,20180910,2104,  22.7502, -158.0002,  4741, 3802.300,    1.456,   34.684,2,   34.684,2,  146.200,2,  146.200,2,  152.050,2,   35.920,2,    2.520,2, -999.000
           NA,HOT timeseries 1988to2019 27SEP2021,      2,  99,-999.0,    8006,-999.0,20180910,2104,  22.7502, -158.0002,  4741, 4002.600,    1.460,   34.686,2,   34.686,2,  148.800,2,  148.500,2,  150.530,2,   35.830,2,    2.530,2, -999.000
           NA,HOT timeseries 1988to2019 27SEP2021,      2,  99,-999.0,    8005,-999.0,20180910,2104,  22.7502, -158.0002,  4741, 4200.100,    1.468,   34.687,2,   34.686,2,  151.000,2,  150.400,2,  150.230,2,   35.690,2,    2.490,2, -999.000
           NA,HOT timeseries 1988to2019 27SEP2021,      2,  99,-999.0,    8059,-999.0,20180910,2104,  22.7502, -158.0002,  4741, 4401.000,    1.483,   34.688,2,   34.688,2,  152.400,2,  152.300,2,  150.060,2,   35.500,2,    2.490,2, -999.000
           NA,HOT timeseries 1988to2019 27SEP2021,      2,  99,-999.0,    8003,-999.0,20180910,2104,  22.7502, -158.0002,  4741, 4501.600,    1.492,   34.688,2,   34.689,2,  152.800,2,  152.600,2,  150.280,2,   35.550,2,    2.480,2, -999.000
           NA,HOT timeseries 1988to2019 27SEP2021,      2,  99,-999.0,    8002,-999.0,20180910,2104,  22.7502, -158.0002,  4741, 4602.400,    1.501,   34.688,2,   34.688,2,  153.200,2,  152.400,2,  148.830,2,   35.570,2,    2.470,2, -999.000
           NA,HOT timeseries 1988to2019 27SEP2021,      2,  99,-999.0,    8001,-999.0,20180910,2104,  22.7502, -158.0002,  4741, 4807.500,    1.519,   34.689,2,   34.689,2,  154.100,2,  153.900,2, -999.000,4,   35.670,2,    2.480,2, -999.000
           NA,HOT timeseries 1988to2019 27SEP2021,      2,  99,-999.0,    8058,-999.0,20181012,2306,  22.7498, -158.0000,  4740,    5.600,   26.597,   34.993,2,   34.992,2,  205.100,2,  204.900,2,    0.860,2,    0.080,2,    0.040,2, -999.000
           NA,HOT timeseries 1988to2019 27SEP2021,      2,  99,-999.0,    8023,-999.0,20181012,2306,  22.7498, -158.0000,  4740,   39.800,   26.526,   35.004,2,   35.005,2,  205.300,2,  205.900,2,    0.890,2,    0.110,2,    0.040,2, -999.000
           NA,HOT timeseries 1988to2019 27SEP2021,      2,  99,-999.0,    8022,-999.0,20181012,2306,  22.7498, -158.0000,  4740,   52.100,   25.465,   35.085,2,   35.085,2,  217.700,2,  218.700,2,    0.980,2,    0.090,2,    0.030,2, -999.000
           NA,HOT timeseries 1988to2019 27SEP2021,      2,  99,-999.0,    8021,-999.0,20181012,2306,  22.7498, -158.0000,  4740,   70.000,   23.295,   35.170,2,   35.169,2,  227.500,2,  227.100,2,    1.280,2,    0.060,2,    0.030,2, -999.000
           NA,HOT timeseries 1988to2019 27SEP2021,      2,  99,-999.0,    8020,-999.0,20181012,2306,  22.7498, -158.0000,  4740,   84.600,   22.239,   35.184,2,   35.181,2,  230.300,2,  229.400,2,    1.470,2,    0.040,2,    0.040,2, -999.000
           NA,HOT timeseries 1988to2019 27SEP2021,      2,  99,-999.0,    8019,-999.0,20181012,2306,  22.7498, -158.0000,  4740,   94.000,   21.691,   35.171,2,   35.171,2,  227.300,2,  224.200,2,    1.630,2,    0.080,2,    0.060,2, -999.000
           NA,HOT timeseries 1988to2019 27SEP2021,      2,  99,-999.0,    8018,-999.0,20181012,2306,  22.7498, -158.0000,  4740,  116.300,   20.478,   35.105,2,   35.107,2,  211.300,2,  209.300,2,    1.900,2,    0.370,2,    0.120,2, -999.000
           NA,HOT timeseries 1988to2019 27SEP2021,      2,  99,-999.0,    8017,-999.0,20181012,2306,  22.7498, -158.0000,  4740,  135.800,   19.177,   34.983,2,   34.994,2,  203.000,2,  205.700,2,    2.480,2,    1.690,2,    0.200,2, -999.000
           NA,HOT timeseries 1988to2019 27SEP2021,      2,  99,-999.0,    8016,-999.0,20181012,2306,  22.7498, -158.0000,  4740,  191.200,   15.605,   34.580,2,   34.579,2,  202.800,2,  203.200,2,    6.000,2,    5.790,2,    0.460,2, -999.000
           NA,HOT timeseries 1988to2019 27SEP2021,      2,  99,-999.0,    8015,-999.0,20181012,2306,  22.7498, -158.0000,  4740,  275.200,   12.171,   34.271,2,   34.272,2,  209.100,2,  209.000,2,   11.640,2,   11.260,2,    0.810,2, -999.000
           NA,HOT timeseries 1988to2019 27SEP2021,      2,  99,-999.0,    8014,-999.0,20181012,2306,  22.7498, -158.0000,  4740,  346.600,   10.639,   34.176,2,   34.178,2,  200.000,2,  199.800,2,   17.760,2,   15.110,2,    1.070,2, -999.000
           NA,HOT timeseries 1988to2019 27SEP2021,      2,  99,-999.0,    8025,-999.0,20181012,2306,  22.7498, -158.0000,  4740,  400.700,    8.955,   34.073,2,   34.078,2,  167.300,2,  168.800,2,   27.300,2,   21.130,2,    1.500,2, -999.000
           NA,HOT timeseries 1988to2019 27SEP2021,      2,  99,-999.0,    8012,-999.0,20181012,2306,  22.7498, -158.0000,  4740,  464.700,    7.606,   34.055,2,   34.057,2,  121.700,2,  121.000,2,   42.100,2,   28.090,2,    2.030,2, -999.000
           NA,HOT timeseries 1988to2019 27SEP2021,      2,  99,-999.0,    8010,-999.0,20181012,2306,  22.7498, -158.0000,  4740,  516.900,    6.673,   34.063,2,   34.063,2,   90.100,2,   89.200,2,   54.730,2,   31.940,2,    2.310,2, -999.000
           NA,HOT timeseries 1988to2019 27SEP2021,      2,  99,-999.0,    8009,-999.0,20181012,2306,  22.7498, -158.0000,  4740,  564.800,    6.022,   34.105,2,   34.105,2,   61.600,2,   60.100,2,   66.290,2,   34.620,2,    2.520,2, -999.000
           NA,HOT timeseries 1988to2019 27SEP2021,      2,  99,-999.0,    8008,-999.0,20181012,2306,  22.7498, -158.0000,  4740,  604.000,    5.492,   34.146,2,   34.144,2,   43.300,2,   42.800,2,   76.070,2,   37.600,2,    2.740,2, -999.000
           NA,HOT timeseries 1988to2019 27SEP2021,      2,  99,-999.0,    8060,-999.0,20181012,2306,  22.7498, -158.0000,  4740,  650.500,    5.100,   34.220,2,   34.220,2,   29.400,2,   28.600,2,   85.550,2,   39.650,2,    2.900,2, -999.000
           NA,HOT timeseries 1988to2019 27SEP2021,      2,  99,-999.0,    8006,-999.0,20181012,2306,  22.7498, -158.0000,  4740,  684.000,    5.019,   34.293,2,   34.293,2,   24.800,2,   25.100,2,   89.000,2,   40.720,2,    2.970,2, -999.000
           NA,HOT timeseries 1988to2019 27SEP2021,      2,  99,-999.0,    8059,-999.0,20181012,2306,  22.7498, -158.0000,  4740,  768.800,    4.803,   34.369,2,   34.369,2,   31.000,2,   27.400,2,   94.250,2, -999.000,3, -999.000,3, -999.000
           NA,HOT timeseries 1988to2019 27SEP2021,      2,  99,-999.0,    8003,-999.0,20181012,2306,  22.7498, -158.0000,  4740,  826.600,    4.639,   34.422,2,   34.422,2,   31.300,2,   32.300,2,   96.810,2,   41.720,2,    3.020,2, -999.000
           NA,HOT timeseries 1988to2019 27SEP2021,      2,  99,-999.0,    8002,-999.0,20181012,2306,  22.7498, -158.0000,  4740, 1007.100,    4.162,   34.495,2,   34.496,2,   41.600,2,   41.700,2,  106.290,2,   41.700,2,    3.020,2, -999.000
           NA,HOT timeseries 1988to2019 27SEP2021,      2,  99,-999.0,    8001,-999.0,20181012,2306,  22.7498, -158.0000,  4740, 1019.900,    4.136,   34.497,2,   34.499,2,   42.400,2,   42.300,2, -999.000,3,   41.770,2,    3.010,2, -999.000
           NA,HOT timeseries 1988to2019 27SEP2021,      2,  99,-999.0,    8020,-999.0,20181012,2306,  22.7498, -158.0000,  4740, 1198.900,    3.709,   34.526,2,   34.527,2,   48.100,2,   48.000,2,  116.960,2,   41.750,2,    3.040,2, -999.000
           NA,HOT timeseries 1988to2019 27SEP2021,      2,  99,-999.0,    8019,-999.0,20181012,2306,  22.7498, -158.0000,  4740, 1400.100,    3.211,   34.557,2,   34.558,2,   58.200,2,   58.000,2,  125.500,2,   41.210,2,    3.000,2, -999.000
           NA,HOT timeseries 1988to2019 27SEP2021,      2,  99,-999.0,    8018,-999.0,20181012,2306,  22.7498, -158.0000,  4740, 1599.600,    2.796,   34.579,2,   34.579,2,   67.500,2,   67.600,2,  134.770,2,   40.730,2,    2.950,2, -999.000
           NA,HOT timeseries 1988to2019 27SEP2021,      2,  99,-999.0,    8017,-999.0,20181012,2306,  22.7498, -158.0000,  4740, 1800.200,    2.499,   34.597,2,   34.598,2,   76.000,2,   76.200,2,  141.190,2,   40.320,2,    2.900,2, -999.000
           NA,HOT timeseries 1988to2019 27SEP2021,      2,  99,-999.0,    8016,-999.0,20181012,2306,  22.7498, -158.0000,  4740, 2000.200,    2.225,   34.613,2,   34.614,2,   84.300,2, -999.000,3,  147.770,2,   39.850,2,    2.840,2, -999.000
           NA,HOT timeseries 1988to2019 27SEP2021,      2,  99,-999.0,    8015,-999.0,20181012,2306,  22.7498, -158.0000,  4740, 2198.400,    2.009,   34.628,2,   34.628,2,   92.000,2,   91.900,2,  152.850,2,   39.550,2,    2.810,2, -999.000
           NA,HOT timeseries 1988to2019 27SEP2021,      2,  99,-999.0,    8014,-999.0,20181012,2306,  22.7498, -158.0000,  4740, 2399.000,    1.827,   34.641,2,   34.641,2,  100.000,2,  100.900,2,  157.560,2,   38.960,2,    2.770,2, -999.000