BOTTLE,20214727JOAExport
EXPOCODE,SECT_ID,STNNBR,CASTNO,SAMPNO,BTLNBR,BTLNBR_FLAG_W,DATE,TIME,LATITUDE,LONGITUDE,DEPTH,CTDPRS,CTDTMP,CTDSAL,CTDSAL_FLAG_W,SALNTY,SALNTY_FLAG_W,CTDOXY,CTDOXY_FLAG_W,OXYGEN,OXYGEN_FLAG_W,SILCAT,SILCAT_FLAG_W,NINI,NINI_FLAG_W,PHSPHT,PHSPHT_FLAG_W,REVP
,,,,,,,,,,,,DB,IPTS-68,PSS-78,,PSS-78,,UMOL/KG,,UMOL/KG,,UMOL/KG,,UMOL/KG,,UMOL/KG,,DBAR
           NA,HOT timeseries 1988to2019 27SEP2021,     94,  99,-999.0,      31,-999.0,19981018,1359,  22.7497, -157.9993,  4720,    5.600,   25.487,   35.356,2,   35.357,2,  207.900,2,  208.100,2,    1.230,2,    0.000,2,    0.060,2, -999.000
           NA,HOT timeseries 1988to2019 27SEP2021,     94,  99,-999.0,      31,-999.0,19981018,1359,  22.7497, -157.9993,  4720,    5.900,   25.508,   35.352,2,   35.353,2,  206.200,2,  205.900,2,    1.320,2,    0.000,2,    0.040,2, -999.000
           NA,HOT timeseries 1988to2019 27SEP2021,     94,  99,-999.0,      30,-999.0,19981018,1359,  22.7497, -157.9993,  4720,   60.900,   25.125,   35.467,2, -999.000,4, -999.000,3,  207.200,2,    1.370,2,    0.010,2,    0.050,2, -999.000
           NA,HOT timeseries 1988to2019 27SEP2021,     94,  99,-999.0,      22,-999.0,19981018,1359,  22.7497, -157.9993,  4720,   78.200,   23.747,   35.251,2,   35.254,2,  215.400,2,  218.800,2,    1.450,2,    0.000,2,    0.070,2, -999.000
           NA,HOT timeseries 1988to2019 27SEP2021,     94,  99,-999.0,      21,-999.0,19981018,1359,  22.7497, -157.9993,  4720,  109.400,   21.873,   35.260,2,   35.260,2,  218.800,2,  218.600,2,    1.560,2,    0.000,2,    0.060,2, -999.000
           NA,HOT timeseries 1988to2019 27SEP2021,     94,  99,-999.0,      20,-999.0,19981018,1359,  22.7497, -157.9993,  4720,  146.000,   19.892,   35.218,2,   35.216,2,  219.300,2,  218.400,2,    2.040,2,    0.100,2,    0.060,2, -999.000
           NA,HOT timeseries 1988to2019 27SEP2021,     94,  99,-999.0,      19,-999.0,19981018,1359,  22.7497, -157.9993,  4720,  149.600,   19.831,   35.212,2,   35.208,2,  219.000,2,  217.600,2,    1.960,2,    0.140,2,    0.060,2, -999.000
           NA,HOT timeseries 1988to2019 27SEP2021,     94,  99,-999.0,      18,-999.0,19981018,1359,  22.7497, -157.9993,  4720,  237.600,   15.966,   34.664,2,   34.667,2,  203.400,2,  206.200,2, -999.000,5, -999.000,5, -999.000,5, -999.000
           NA,HOT timeseries 1988to2019 27SEP2021,     94,  99,-999.0,      17,-999.0,19981018,1359,  22.7497, -157.9993,  4720,  334.100,   11.233,   34.187,2,   34.187,2,  195.000,2,  197.200,2,   13.530,2,   13.060,2,    0.890,2, -999.000
           NA,HOT timeseries 1988to2019 27SEP2021,     94,  99,-999.0,      16,-999.0,19981018,1359,  22.7497, -157.9993,  4720,  373.700,   10.118,   34.130,2,   34.130,2,  199.500,2,  197.400,2,   17.900,2,   15.630,2,    1.070,2, -999.000
           NA,HOT timeseries 1988to2019 27SEP2021,     94,  99,-999.0,      15,-999.0,19981018,1359,  22.7497, -157.9993,  4720,  433.400,    8.208,   34.050,2,   34.050,2,  167.600,2,  165.100,2,   31.590,2,   22.600,2,    1.560,2, -999.000
           NA,HOT timeseries 1988to2019 27SEP2021,     94,  99,-999.0,      14,-999.0,19981018,1359,  22.7497, -157.9993,  4720,  480.200,    6.995,   34.037,2,   34.037,2,  118.000,2,  120.500,2,   46.680,2,   28.930,2,    2.020,2, -999.000
           NA,HOT timeseries 1988to2019 27SEP2021,     94,  99,-999.0,      13,-999.0,19981018,1359,  22.7497, -157.9993,  4720,  507.200,    6.481,   34.038,2,   34.036,2,  111.200,2,  104.200,2,   53.870,2,   31.450,2,    2.240,2, -999.000
           NA,HOT timeseries 1988to2019 27SEP2021,     94,  99,-999.0,      12,-999.0,19981018,1359,  22.7497, -157.9993,  4720,  515.100,    6.371,   34.039,2,   34.037,2,  100.100,2,   98.100,2,   56.080,2,   32.260,2,    2.320,2, -999.000
           NA,HOT timeseries 1988to2019 27SEP2021,     94,  99,-999.0,      11,-999.0,19981018,1359,  22.7497, -157.9993,  4720,  552.600,    5.754,   34.055,2,   34.054,2,   76.900,2,   74.900,2,   66.620,2,   35.360,2,    2.540,2, -999.000
           NA,HOT timeseries 1988to2019 27SEP2021,     94,  99,-999.0,      32,-999.0,19981018,1359,  22.7497, -157.9993,  4720,  600.500,    5.565,   34.095,2,   34.094,2,   63.200,2,   58.800,2,   72.270,2,   36.910,2,    2.670,2, -999.000
           NA,HOT timeseries 1988to2019 27SEP2021,     94,  99,-999.0,       3,-999.0,19981018,1359,  22.7497, -157.9993,  4720,  620.700,    5.527,   34.146,2, -999.000,3, -999.000,3,   52.800,2,   74.540,2,   37.490,2,    2.710,2, -999.000
           NA,HOT timeseries 1988to2019 27SEP2021,     94,  99,-999.0,      29,-999.0,19981018,1359,  22.7497, -157.9993,  4720,  663.200,    4.988,   34.178,2,   34.186,2,   38.100,2,   34.800,2,   87.050,2,   39.830,2,    2.900,2, -999.000
           NA,HOT timeseries 1988to2019 27SEP2021,     94,  99,-999.0,      28,-999.0,19981018,1359,  22.7497, -157.9993,  4720,  700.800,    4.831,   34.233,2,   34.231,2,   32.100,2,   30.900,2,   91.040,2,   40.400,2,    2.960,2, -999.000
           NA,HOT timeseries 1988to2019 27SEP2021,     94,  99,-999.0,       7,-999.0,19981018,1359,  22.7497, -157.9993,  4720,  741.200,    4.738,   34.293,2,   34.294,2,   30.900,2,   30.300,2,   94.600,2,   40.770,2,    2.960,2, -999.000
           NA,HOT timeseries 1988to2019 27SEP2021,     94,  99,-999.0,      38,-999.0,19981018,1359,  22.7497, -157.9993,  4720,  780.100,    4.588,   34.347,2,   34.348,2,   28.500,2,   28.500,2,   98.020,2,   41.200,2,    2.990,2, -999.000
           NA,HOT timeseries 1988to2019 27SEP2021,     94,  99,-999.0,      36,-999.0,19981018,1359,  22.7497, -157.9993,  4720,  821.000,    4.428,   34.385,2,   34.386,2,   28.100,2,   29.800,2,  101.900,2,   41.500,2,    3.010,2, -999.000
           NA,HOT timeseries 1988to2019 27SEP2021,     94,  99,-999.0,      35,-999.0,19981018,1359,  22.7497, -157.9993,  4720,  900.900,    4.189,   34.436,2,   34.437,2,   32.700,2,   33.300,2,  106.300,2,   41.760,2,    2.960,2, -999.000
           NA,HOT timeseries 1988to2019 27SEP2021,     94,  99,-999.0,      34,-999.0,19981018,1359,  22.7497, -157.9993,  4720,  988.500,    4.032,   34.474,2,   34.472,2,   37.100,2,   39.100,2,  109.450,2,   41.690,2,    3.000,2, -999.000
           NA,HOT timeseries 1988to2019 27SEP2021,     94,  99,-999.0,      21,-999.0,19981018,1359,  22.7497, -157.9993,  4720, 1000.800,    3.969,   34.485,2,   34.485,2,   40.600,2,   40.000,2,  109.860,2,   41.550,2,    2.970,2, -999.000
           NA,HOT timeseries 1988to2019 27SEP2021,     94,  99,-999.0,      33,-999.0,19981018,1359,  22.7497, -157.9993,  4720, 1020.700,    3.973,   34.484,2,   34.484,2,   39.400,2,   40.400,2,  110.420,2,   41.640,2,    3.020,2, -999.000
           NA,HOT timeseries 1988to2019 27SEP2021,     94,  99,-999.0,      20,-999.0,19981018,1359,  22.7497, -157.9993,  4720, 1200.400,    3.502,   34.528,2,   34.528,2,   51.300,2,   50.400,2,  119.230,2,   41.240,2, -999.000,3, -999.000
           NA,HOT timeseries 1988to2019 27SEP2021,     94,  99,-999.0,      19,-999.0,19981018,1359,  22.7497, -157.9993,  4720, 1402.200,    3.083,   34.558,2,   34.560,2,   60.700,2,   61.000,2,  128.380,2,   40.940,2,    2.910,2, -999.000
           NA,HOT timeseries 1988to2019 27SEP2021,     94,  99,-999.0,      17,-999.0,19981018,1359,  22.7497, -157.9993,  4720, 1802.200,    2.344,   34.599,2,   34.599,2,   78.600,2,   78.900,2,  145.780,2,   39.770,2, -999.000,3, -999.000
           NA,HOT timeseries 1988to2019 27SEP2021,     94,  99,-999.0,      16,-999.0,19981018,1359,  22.7497, -157.9993,  4720, 2001.500,    2.104,   34.617,2,   34.617,2,   87.900,2,   88.100,2,  150.870,2,   39.570,2,    2.780,2, -999.000
           NA,HOT timeseries 1988to2019 27SEP2021,     94,  99,-999.0,      15,-999.0,19981018,1359,  22.7497, -157.9993,  4720, 2201.900,    1.908,   34.632,2,   34.631,2,   95.200,2,   96.500,2,  155.330,2,   39.020,2,    2.750,2, -999.000
           NA,HOT timeseries 1988to2019 27SEP2021,     94,  99,-999.0,      14,-999.0,19981018,1359,  22.7497, -157.9993,  4720, 2401.500,    1.768,   34.645,2,   34.644,2,  103.900,2,  105.300,2,  156.880,2,   38.520,2,    2.700,2, -999.000
           NA,HOT timeseries 1988to2019 27SEP2021,     94,  99,-999.0,      13,-999.0,19981018,1359,  22.7497, -157.9993,  4720, 2601.100,    1.668,   34.654,2,   34.655,2,  111.200,2,  111.400,2,  158.540,2,   37.970,2,    2.660,2, -999.000
           NA,HOT timeseries 1988to2019 27SEP2021,     94,  99,-999.0,      12,-999.0,19981018,1359,  22.7497, -157.9993,  4720, 2801.700,    1.592,   34.662,2,   34.662,2,  119.400,2,  120.700,2,  158.900,2,   37.700,2,    2.620,2, -999.000
           NA,HOT timeseries 1988to2019 27SEP2021,     94,  99,-999.0,      11,-999.0,19981018,1359,  22.7497, -157.9993,  4720, 3000.300,    1.544,   34.668,2,   34.670,2,  125.700,2,  125.600,2,  156.700,2,   37.190,2,    2.600,2, -999.000
           NA,HOT timeseries 1988to2019 27SEP2021,     94,  99,-999.0,      32,-999.0,19981018,1359,  22.7497, -157.9993,  4720, 3200.000,    1.503,   34.673,2,   34.674,2,  131.900,2,  132.400,2,  155.150,2,   36.800,2,    2.560,2, -999.000
           NA,HOT timeseries 1988to2019 27SEP2021,     94,  99,-999.0,       3,-999.0,19981018,1359,  22.7497, -157.9993,  4720, 3401.500,    1.475,   34.677,2,   34.674,2,  136.500,2,  135.700,2,  155.560,2,   36.650,2, -999.000,3, -999.000
           NA,HOT timeseries 1988to2019 27SEP2021,     94,  99,-999.0,      29,-999.0,19981018,1359,  22.7497, -157.9993,  4720, 3600.700,    1.457,   34.681,2,   34.680,2,  141.400,2,  141.800,2,  153.930,2,   36.280,2,    2.520,2, -999.000
           NA,HOT timeseries 1988to2019 27SEP2021,     94,  99,-999.0,      28,-999.0,19981018,1359,  22.7497, -157.9993,  4720, 3800.000,    1.449,   34.683,2,   34.685,2,  145.600,2,  145.100,2,  151.720,2,   35.990,2,    2.500,2, -999.000
           NA,HOT timeseries 1988to2019 27SEP2021,     94,  99,-999.0,       7,-999.0,19981018,1359,  22.7497, -157.9993,  4720, 4000.900,    1.453,   34.685,2,   34.685,2,  148.700,2,  148.200,2,  150.410,2,   35.770,2,    2.490,2, -999.000
           NA,HOT timeseries 1988to2019 27SEP2021,     94,  99,-999.0,      38,-999.0,19981018,1359,  22.7497, -157.9993,  4720, 4201.500,    1.464,   34.686,2,   34.685,2,  150.200,2,  150.100,2,  149.610,2,   35.670,2,    2.460,2, -999.000
           NA,HOT timeseries 1988to2019 27SEP2021,     94,  99,-999.0,      36,-999.0,19981018,1359,  22.7497, -157.9993,  4720, 4401.400,    1.481,   34.686,2,   34.686,2,  150.900,2,  150.900,2,  148.750,2,   35.650,2,    2.480,2, -999.000
           NA,HOT timeseries 1988to2019 27SEP2021,     94,  99,-999.0,      35,-999.0,19981018,1359,  22.7497, -157.9993,  4720, 4501.700,    1.491,   34.686,2,   34.686,2,  151.900,2,  151.400,2,  148.680,2,   35.630,2,    2.460,2, -999.000
           NA,HOT timeseries 1988to2019 27SEP2021,     94,  99,-999.0,      34,-999.0,19981018,1359,  22.7497, -157.9993,  4720, 4601.700,    1.500,   34.687,2,   34.685,2,  152.100,2,  151.600,2,  148.740,2,   35.590,2,    2.470,2, -999.000
           NA,HOT timeseries 1988to2019 27SEP2021,     94,  99,-999.0,      33,-999.0,19981018,1359,  22.7497, -157.9993,  4720, 4806.200,    1.520,   34.687,2,   34.688,2,  152.300,2,  152.900,2,  147.730,2,   35.540,2,    2.470,2, -999.000