BOTTLE,20214727JOAExport
EXPOCODE,SECT_ID,STNNBR,CASTNO,SAMPNO,BTLNBR,BTLNBR_FLAG_W,DATE,TIME,LATITUDE,LONGITUDE,DEPTH,CTDPRS,CTDTMP,CTDSAL,CTDSAL_FLAG_W,SALNTY,SALNTY_FLAG_W,CTDOXY,CTDOXY_FLAG_W,OXYGEN,OXYGEN_FLAG_W,SILCAT,SILCAT_FLAG_W,NINI,NINI_FLAG_W,PHSPHT,PHSPHT_FLAG_W,REVP
,,,,,,,,,,,,DB,IPTS-68,PSS-78,,PSS-78,,UMOL/KG,,UMOL/KG,,UMOL/KG,,UMOL/KG,,UMOL/KG,,DBAR
           NA,HOT timeseries 1988to2019 27SEP2021,    179,  99,-999.0,    8030,-999.0,20060712,1550,  22.7498, -157.9998,  4743,    5.400,   25.292,   34.909,2,   34.907,2,  209.100,2,  211.300,2,    0.860,2,    0.010,2,    0.070,2, -999.000
           NA,HOT timeseries 1988to2019 27SEP2021,    179,  99,-999.0,    8030,-999.0,20060712,1550,  22.7498, -157.9998,  4743,    5.800,   25.295,   34.890,2,   34.889,2,  209.100,2,  208.300,2,    0.840,2,    0.020,2,    0.080,2, -999.000
           NA,HOT timeseries 1988to2019 27SEP2021,    179,  99,-999.0,    8039,-999.0,20060712,1550,  22.7498, -157.9998,  4743,   54.200,   24.291,   34.979,2,   34.974,2,  219.300,2,  216.500,2,    0.920,2,    0.020,2,    0.040,2, -999.000
           NA,HOT timeseries 1988to2019 27SEP2021,    179,  99,-999.0,    8058,-999.0,20060712,1550,  22.7498, -157.9998,  4743,   74.300,   23.411,   35.082,2, -999.000,3, -999.000,3,  215.400,2,    0.920,2,    0.060,2,    0.050,2, -999.000
           NA,HOT timeseries 1988to2019 27SEP2021,    179,  99,-999.0,    8052,-999.0,20060712,1550,  22.7498, -157.9998,  4743,  143.500,   22.001,   35.229,2,   35.228,2,  204.300,2,  203.800,2,    1.150,2,    0.420,2,    0.090,2, -999.000
           NA,HOT timeseries 1988to2019 27SEP2021,    179,  99,-999.0,    8049,-999.0,20060712,1550,  22.7498, -157.9998,  4743,  203.900,   18.753,   34.879,2,   34.878,2,  192.400,2,  189.700,2,    2.880,2,    3.220,2,    0.290,2, -999.000
           NA,HOT timeseries 1988to2019 27SEP2021,    179,  99,-999.0,    8043,-999.0,20060712,1550,  22.7498, -157.9998,  4743,  259.200,   15.006,   34.388,2,   34.383,2,  186.900,2,  187.600,2,    5.250,2,    6.940,2,    0.590,2, -999.000
           NA,HOT timeseries 1988to2019 27SEP2021,    179,  99,-999.0,    8045,-999.0,20060712,1550,  22.7498, -157.9998,  4743,  302.000,   13.208,   34.241,2,   34.236,2,  190.200,2,  190.500,2,    8.110,2,    9.620,2,    0.770,2, -999.000
           NA,HOT timeseries 1988to2019 27SEP2021,    179,  99,-999.0,    8007,-999.0,20060712,1550,  22.7498, -157.9998,  4743,  345.800,   11.458,   34.150,2,   34.146,2,  186.100,2,  187.600,2,   12.810,2,   13.330,2,    1.020,2, -999.000
           NA,HOT timeseries 1988to2019 27SEP2021,    179,  99,-999.0,    8034,-999.0,20060712,1550,  22.7498, -157.9998,  4743,  384.700,   10.485,   34.145,2,   34.141,2,  182.500,2,  180.800,2,   17.440,2,   16.440,2,    1.230,2, -999.000
           NA,HOT timeseries 1988to2019 27SEP2021,    179,  99,-999.0,    8033,-999.0,20060712,1550,  22.7498, -157.9998,  4743,  441.500,    8.793,   34.121,2,   34.118,2,  143.800,2,  142.100,2,   30.150,2,   23.380,2,    1.740,2, -999.000
           NA,HOT timeseries 1988to2019 27SEP2021,    179,  99,-999.0,    8029,-999.0,20060712,1550,  22.7498, -157.9998,  4743,  500.000,    7.443,   34.124,2,   34.122,2,   94.000,2,   92.400,2,   45.450,2,   30.380,2,    2.280,2, -999.000
           NA,HOT timeseries 1988to2019 27SEP2021,    179,  99,-999.0,    8055,-999.0,20060712,1550,  22.7498, -157.9998,  4743,  524.000,    7.008,   34.151,2,   34.148,2,   72.600,2,   73.700,2,   52.480,2,   32.720,2,    2.470,2, -999.000
           NA,HOT timeseries 1988to2019 27SEP2021,    179,  99,-999.0,    8036,-999.0,20060712,1550,  22.7498, -157.9998,  4743,  566.500,    6.555,   34.208,2,   34.207,2,   48.900,2,   49.400,2,   62.010,2,   35.630,2,    2.690,2, -999.000
           NA,HOT timeseries 1988to2019 27SEP2021,    179,  99,-999.0,    8050,-999.0,20060712,1550,  22.7498, -157.9998,  4743,  613.900,    6.349,   34.282,2,   34.283,2,   38.300,2,   36.800,2,   66.080,2,   37.230,2,    2.800,2, -999.000
           NA,HOT timeseries 1988to2019 27SEP2021,    179,  99,-999.0,    8047,-999.0,20060712,1550,  22.7498, -157.9998,  4743,  691.700,    5.574,   34.284,2,   34.283,2,   33.500,2,   32.600,2,   76.310,2,   39.270,2,    2.940,2, -999.000
           NA,HOT timeseries 1988to2019 27SEP2021,    179,  99,-999.0,    8035,-999.0,20060712,1550,  22.7498, -157.9998,  4743,  734.600,    5.291,   34.328,2,   34.330,2,   29.600,2,   30.200,2,   84.960,2,   40.150,2,    3.000,2, -999.000
           NA,HOT timeseries 1988to2019 27SEP2021,    179,  99,-999.0,    8046,-999.0,20060712,1550,  22.7498, -157.9998,  4743,  777.600,    4.861,   34.345,2,   34.345,2,   30.200,2,   29.900,2,   93.150,2,   40.870,2,    3.030,2, -999.000
           NA,HOT timeseries 1988to2019 27SEP2021,    179,  99,-999.0,    8048,-999.0,20060712,1550,  22.7498, -157.9998,  4743,  827.100,    4.549,   34.345,2,   34.344,2,   25.600,2,   27.100,2,   99.480,2,   41.620,2,    3.080,2, -999.000
           NA,HOT timeseries 1988to2019 27SEP2021,    179,  99,-999.0,    8037,-999.0,20060712,1550,  22.7498, -157.9998,  4743,  877.500,    4.385,   34.390,2,   34.389,2,   28.700,2,   28.500,2,  103.210,2,   41.760,2,    3.080,2, -999.000
           NA,HOT timeseries 1988to2019 27SEP2021,    179,  99,-999.0,    8038,-999.0,20060712,1550,  22.7498, -157.9998,  4743,  913.300,    4.243,   34.426,2,   34.426,2,   33.100,2,   33.000,2,  105.950,2,   41.670,2,    3.070,2, -999.000
           NA,HOT timeseries 1988to2019 27SEP2021,    179,  99,-999.0,    8054,-999.0,20060712,1550,  22.7498, -157.9998,  4743,  947.900,    4.164,   34.441,2,   34.438,2,   34.500,2,   34.300,2,  107.290,2,   41.880,2,    3.080,2, -999.000
           NA,HOT timeseries 1988to2019 27SEP2021,    179,  99,-999.0,    8053,-999.0,20060712,1550,  22.7498, -157.9998,  4743,  983.300,    4.107,   34.451,2,   34.454,2,   36.400,2,   36.600,2,  108.340,2,   41.500,2,    3.050,2, -999.000
           NA,HOT timeseries 1988to2019 27SEP2021,    179,  99,-999.0,    8027,-999.0,20060712,1550,  22.7498, -157.9998,  4743, 1020.200,    4.046,   34.479,2,   34.481,2,   39.700,2,   40.400,2,  109.980,2,   41.550,2,    3.060,2, -999.000
           NA,HOT timeseries 1988to2019 27SEP2021,    179,  99,-999.0,    8049,-999.0,20060712,1550,  22.7498, -157.9998,  4743, 1199.200,    3.532,   34.511,2,   34.511,2,   48.900,2,   49.700,2,  119.820,2,   41.300,2,    2.980,2, -999.000
           NA,HOT timeseries 1988to2019 27SEP2021,    179,  99,-999.0,    8043,-999.0,20060712,1550,  22.7498, -157.9998,  4743, 1398.600,    3.075,   34.546,2,   34.545,2,   59.700,2,   59.900,2,  130.150,2,   40.980,2,    2.940,2, -999.000
           NA,HOT timeseries 1988to2019 27SEP2021,    179,  99,-999.0,    8045,-999.0,20060712,1550,  22.7498, -157.9998,  4743, 1597.900,    2.763,   34.582,2,   34.581,2,   67.800,2,   68.200,2,  136.800,2,   40.540,2,    2.910,2, -999.000
           NA,HOT timeseries 1988to2019 27SEP2021,    179,  99,-999.0,    8007,-999.0,20060712,1550,  22.7498, -157.9998,  4743, 1801.400,    2.479,   34.603,2,   34.602,2,   76.600,2,   76.800,2,  143.640,2,   40.210,2,    2.880,2, -999.000
           NA,HOT timeseries 1988to2019 27SEP2021,    179,  99,-999.0,    8034,-999.0,20060712,1550,  22.7498, -157.9998,  4743, 2000.300,    2.237,   34.617,2,   34.616,2,   85.000,2,   85.400,2,  149.090,2,   39.730,2,    2.840,2, -999.000
           NA,HOT timeseries 1988to2019 27SEP2021,    179,  99,-999.0,    8033,-999.0,20060712,1550,  22.7498, -157.9998,  4743, 2199.700,    1.994,   34.632,2,   34.632,2,   94.900,2,   94.900,2,  152.180,2,   39.280,2,    2.780,2, -999.000
           NA,HOT timeseries 1988to2019 27SEP2021,    179,  99,-999.0,    8029,-999.0,20060712,1550,  22.7498, -157.9998,  4743, 2398.800,    1.839,   34.645,2,   34.644,2,  102.800,2,  103.000,2,  155.380,2,   38.780,2,    2.740,2, -999.000
           NA,HOT timeseries 1988to2019 27SEP2021,    179,  99,-999.0,    8055,-999.0,20060712,1550,  22.7498, -157.9998,  4743, 2598.400,    1.729,   34.653,2,   34.654,2,  108.300,2,  108.600,2,  158.700,2,   38.440,2,    2.710,2, -999.000
           NA,HOT timeseries 1988to2019 27SEP2021,    179,  99,-999.0,    8036,-999.0,20060712,1550,  22.7498, -157.9998,  4743, 2800.800,    1.632,   34.663,2,   34.662,2,  117.500,2,  117.900,2,  157.290,2,   37.780,2,    2.640,2, -999.000
           NA,HOT timeseries 1988to2019 27SEP2021,    179,  99,-999.0,    8050,-999.0,20060712,1550,  22.7498, -157.9998,  4743, 2998.700,    1.569,   34.669,2, -999.000,4, -999.000,3,  122.900,2,  159.300,2,   37.390,2,    2.620,2, -999.000
           NA,HOT timeseries 1988to2019 27SEP2021,    179,  99,-999.0,    8052,-999.0,20060712,1550,  22.7498, -157.9998,  4743, 3197.700,    1.528,   34.674,2,   34.674,2,  128.200,2,  128.300,2,  157.490,2,   37.050,2,    2.590,2, -999.000
           NA,HOT timeseries 1988to2019 27SEP2021,    179,  99,-999.0,    8047,-999.0,20060712,1550,  22.7498, -157.9998,  4743, 3399.500,    1.500,   34.678,2,   34.678,2,  133.200,2,  133.300,2,  157.150,2,   36.790,2,    2.570,2, -999.000
           NA,HOT timeseries 1988to2019 27SEP2021,    179,  99,-999.0,    8035,-999.0,20060712,1550,  22.7498, -157.9998,  4743, 3599.000,    1.477,   34.682,2,   34.681,2,  138.300,2,  138.500,2,  155.560,2,   36.560,2,    2.520,2, -999.000
           NA,HOT timeseries 1988to2019 27SEP2021,    179,  99,-999.0,    8046,-999.0,20060712,1550,  22.7498, -157.9998,  4743, 3798.800,    1.463,   34.685,2,   34.684,2,  143.100,2,  143.300,2,  155.430,2,   36.080,2,    2.510,2, -999.000
           NA,HOT timeseries 1988to2019 27SEP2021,    179,  99,-999.0,    8037,-999.0,20060712,1550,  22.7498, -157.9998,  4743, 4199.000,    1.472,   34.688,2,   34.687,2,  148.200,2,  147.700,2,  151.340,2,   35.720,2,    2.480,2, -999.000
           NA,HOT timeseries 1988to2019 27SEP2021,    179,  99,-999.0,    8038,-999.0,20060712,1550,  22.7498, -157.9998,  4743, 4399.300,    1.485,   34.689,2,   34.689,2,  149.800,2, -999.000,3,  151.790,2,   35.510,2,    2.470,2, -999.000
           NA,HOT timeseries 1988to2019 27SEP2021,    179,  99,-999.0,    8054,-999.0,20060712,1550,  22.7498, -157.9998,  4743, 4499.200,    1.493,   34.690,2,   34.689,2,  150.200,2,  150.100,2,  150.590,2,   35.720,2,    2.480,2, -999.000
           NA,HOT timeseries 1988to2019 27SEP2021,    179,  99,-999.0,    8053,-999.0,20060712,1550,  22.7498, -157.9998,  4743, 4599.000,    1.501,   34.690,2, -999.000,3, -999.000,3,  150.400,2,  149.600,2,   35.630,2,    2.470,2, -999.000
           NA,HOT timeseries 1988to2019 27SEP2021,    179,  99,-999.0,    8027,-999.0,20060712,1550,  22.7498, -157.9998,  4743, 4800.900,    1.523,   34.690,2,   34.689,2,  151.200,2,  151.000,2,  149.890,2,   35.610,2,    2.480,2, -999.000