BOTTLE,20214727JOAExport
EXPOCODE,SECT_ID,STNNBR,CASTNO,SAMPNO,BTLNBR,BTLNBR_FLAG_W,DATE,TIME,LATITUDE,LONGITUDE,DEPTH,CTDPRS,CTDTMP,CTDSAL,CTDSAL_FLAG_W,SALNTY,SALNTY_FLAG_W,CTDOXY,CTDOXY_FLAG_W,OXYGEN,OXYGEN_FLAG_W,SILCAT,SILCAT_FLAG_W,NINI,NINI_FLAG_W,PHSPHT,PHSPHT_FLAG_W,REVP
,,,,,,,,,,,,DB,IPTS-68,PSS-78,,PSS-78,,UMOL/KG,,UMOL/KG,,UMOL/KG,,UMOL/KG,,UMOL/KG,,DBAR
           NA,HOT timeseries 1988to2019 27SEP2021,    171,  99,-999.0,      23,-999.0,20051111,1437,  22.7502, -157.9938,  4749,    9.600,   25.274,   35.091,2,   35.090,2,  206.300,2,  206.300,2,    0.940,2, -999.000,3,    0.030,2, -999.000
           NA,HOT timeseries 1988to2019 27SEP2021,    171,  99,-999.0,      24,-999.0,20051111,1437,  22.7502, -157.9938,  4749,    9.700,   25.260,   35.094,2,   35.093,2,  206.500,2,  206.100,2,    0.980,2,    0.000,2,    0.030,2, -999.000
           NA,HOT timeseries 1988to2019 27SEP2021,    171,  99,-999.0,      23,-999.0,20051111,1437,  22.7502, -157.9938,  4749,   43.700,   25.257,   35.095,2,   35.092,2,  206.300,2,  205.200,2,    1.270,2,    0.040,2,    0.040,2, -999.000
           NA,HOT timeseries 1988to2019 27SEP2021,    171,  99,-999.0,      22,-999.0,20051111,1437,  22.7502, -157.9938,  4749,   81.400,   25.227,   35.097,2,   35.105,2,  205.900,2,  206.200,2,    0.880,2,    0.050,2,    0.040,2, -999.000
           NA,HOT timeseries 1988to2019 27SEP2021,    171,  99,-999.0,      21,-999.0,20051111,1437,  22.7502, -157.9938,  4749,   97.500,   23.544,   35.100,2,   35.098,2,  211.900,2, -999.000,5,    1.020,2,    0.060,2,    0.060,2, -999.000
           NA,HOT timeseries 1988to2019 27SEP2021,    171,  99,-999.0,      20,-999.0,20051111,1437,  22.7502, -157.9938,  4749,  139.800,   21.803,   35.174,2,   35.172,2,  198.700,2,  200.300,2,    1.260,2,    0.680,2,    0.100,2, -999.000
           NA,HOT timeseries 1988to2019 27SEP2021,    171,  99,-999.0,      19,-999.0,20051111,1437,  22.7502, -157.9938,  4749,  206.600,   18.542,   34.817,2,   34.826,2,  192.200,2, -999.000,5, -999.000,4,    2.730,2,    0.270,2, -999.000
           NA,HOT timeseries 1988to2019 27SEP2021,    171,  99,-999.0,      18,-999.0,20051111,1437,  22.7502, -157.9938,  4749,  252.700,   14.545,   34.339,2,   34.344,2,  195.300,2,  195.500,2,    5.560,2,    6.700,2,    0.530,2, -999.000
           NA,HOT timeseries 1988to2019 27SEP2021,    171,  99,-999.0,      17,-999.0,20051111,1437,  22.7502, -157.9938,  4749,  291.300,   12.941,   34.202,2,   34.200,2,  201.200,2, -999.000,5,    8.320,2,    9.260,2,    0.700,2, -999.000
           NA,HOT timeseries 1988to2019 27SEP2021,    171,  99,-999.0,      16,-999.0,20051111,1437,  22.7502, -157.9938,  4749,  330.400,   11.357,   34.157,2, -999.000,5,  196.200,2, -999.000,5,   12.280,2,   12.200,2,    0.880,2, -999.000
           NA,HOT timeseries 1988to2019 27SEP2021,    171,  99,-999.0,      15,-999.0,20051111,1437,  22.7502, -157.9938,  4749,  374.300,   10.172,   34.137,2,   34.140,2,  187.000,2, -999.000,5,   18.300,2,   16.460,2,    1.130,2, -999.000
           NA,HOT timeseries 1988to2019 27SEP2021,    171,  99,-999.0,      14,-999.0,20051111,1437,  22.7502, -157.9938,  4749,  433.200,    8.767,   34.098,2,   34.096,2,  160.800,2,  160.200,2,   29.160,2,   22.240,2,    1.570,2, -999.000
           NA,HOT timeseries 1988to2019 27SEP2021,    171,  99,-999.0,      13,-999.0,20051111,1437,  22.7502, -157.9938,  4749,  473.500,    8.170,   34.084,2,   34.086,2,  136.700,2,  139.600,2,   35.810,2,   25.480,2,    1.830,2, -999.000
           NA,HOT timeseries 1988to2019 27SEP2021,    171,  99,-999.0,      37,-999.0,20051111,1437,  22.7502, -157.9938,  4749,  500.700,    7.179,   34.049,2,   34.048,2,  116.300,2,  116.200,2,   45.890,2,   29.610,2,    2.110,2, -999.000
           NA,HOT timeseries 1988to2019 27SEP2021,    171,  99,-999.0,      12,-999.0,20051111,1437,  22.7502, -157.9938,  4749,  511.900,    7.183,   34.047,2,   34.047,2,  119.700,2,  119.500,2,   44.910,2,   29.060,2,    2.070,2, -999.000
           NA,HOT timeseries 1988to2019 27SEP2021,    171,  99,-999.0,      11,-999.0,20051111,1437,  22.7502, -157.9938,  4749,  549.900,    6.507,   34.054,2,   34.058,2,   93.200,2,   94.800,2,   54.880,2,   32.370,2,    2.330,2, -999.000
           NA,HOT timeseries 1988to2019 27SEP2021,    171,  99,-999.0,      10,-999.0,20051111,1437,  22.7502, -157.9938,  4749,  606.100,    6.079,   34.103,2,   34.104,2,   66.800,2,   65.800,2,   64.310,2,   35.540,2,    2.600,2, -999.000
           NA,HOT timeseries 1988to2019 27SEP2021,    171,  99,-999.0,       9,-999.0,20051111,1437,  22.7502, -157.9938,  4749,  656.200,    5.307,   34.111,2,   34.110,2,   56.000,2,   55.600,2,   76.950,2,   37.920,2,    2.750,2, -999.000
           NA,HOT timeseries 1988to2019 27SEP2021,    171,  99,-999.0,       8,-999.0,20051111,1437,  22.7502, -157.9938,  4749,  720.400,    4.820,   34.170,2, -999.000,4, -999.000,3, -999.000,4, -999.000,4, -999.000,4, -999.000,4, -999.000
           NA,HOT timeseries 1988to2019 27SEP2021,    171,  99,-999.0,      22,-999.0,20051111,1437,  22.7502, -157.9938,  4749,  752.800,    4.489,   34.245,2,   34.245,2,   27.800,2,   27.800,2, -999.000,4,   41.750,2,    3.010,2, -999.000
           NA,HOT timeseries 1988to2019 27SEP2021,    171,  99,-999.0,       7,-999.0,20051111,1437,  22.7502, -157.9938,  4749,  772.700,    4.431,   34.266,2,   34.268,2,   26.600,2,   26.000,2, -999.000,3,   41.880,2,    3.050,2, -999.000
           NA,HOT timeseries 1988to2019 27SEP2021,    171,  99,-999.0,       6,-999.0,20051111,1437,  22.7502, -157.9938,  4749,  812.800,    4.299,   34.314,2,   34.314,2,   24.600,2,   25.000,2,  104.520,2,   42.290,2,    3.090,2, -999.000
           NA,HOT timeseries 1988to2019 27SEP2021,    171,  99,-999.0,       5,-999.0,20051111,1437,  22.7502, -157.9938,  4749,  856.200,    4.156,   34.362,2,   34.363,2,   26.700,2,   25.800,2,  108.070,2,   42.220,2,    3.070,2, -999.000
           NA,HOT timeseries 1988to2019 27SEP2021,    171,  99,-999.0,       4,-999.0,20051111,1437,  22.7502, -157.9938,  4749,  891.600,    4.086,   34.388,2,   34.387,2,   29.400,2,   29.800,2,  108.630,2,   42.140,2,    3.070,2, -999.000
           NA,HOT timeseries 1988to2019 27SEP2021,    171,  99,-999.0,       3,-999.0,20051111,1437,  22.7502, -157.9938,  4749,  925.900,    4.004,   34.411,2,   34.409,2,   32.300,2,   31.700,2,  110.620,2,   42.170,2,    3.070,2, -999.000
           NA,HOT timeseries 1988to2019 27SEP2021,    171,  99,-999.0,       2,-999.0,20051111,1437,  22.7502, -157.9938,  4749,  962.800,    3.894,   34.433,2,   34.433,2,   34.900,2,   35.100,2,  113.070,2,   42.090,2,    3.060,2, -999.000
           NA,HOT timeseries 1988to2019 27SEP2021,    171,  99,-999.0,       1,-999.0,20051111,1437,  22.7502, -157.9938,  4749,  998.300,    3.834,   34.450,2,   34.452,2,   37.500,2,   38.900,2,  114.820,2,   41.930,2,    3.030,2, -999.000
           NA,HOT timeseries 1988to2019 27SEP2021,    171,  99,-999.0,      16,-999.0,20051111,1437,  22.7502, -157.9938,  4749, 1199.400,    3.325,   34.527,2,   34.526,2,   55.000,2,   54.500,2,  124.540,2,   41.220,2,    3.000,2, -999.000
           NA,HOT timeseries 1988to2019 27SEP2021,    171,  99,-999.0,      19,-999.0,20051111,1437,  22.7502, -157.9938,  4749, 1404.300,    2.950,   34.575,2,   34.575,2,   60.600,2,   61.200,2,  131.670,2,   41.250,2, -999.000,3, -999.000
           NA,HOT timeseries 1988to2019 27SEP2021,    171,  99,-999.0,      18,-999.0,20051111,1437,  22.7502, -157.9938,  4749, 1602.800,    2.622,   34.587,2,   34.589,2,   72.300,2,   72.100,2,  138.990,2,   40.630,2,    2.930,2, -999.000
           NA,HOT timeseries 1988to2019 27SEP2021,    171,  99,-999.0,      17,-999.0,20051111,1437,  22.7502, -157.9938,  4749, 1799.400,    2.342,   34.609,2,   34.607,2,   81.400,2,   81.300,2,  145.480,2,   40.050,2,    2.890,2, -999.000
           NA,HOT timeseries 1988to2019 27SEP2021,    171,  99,-999.0,      34,-999.0,20051111,1437,  22.7502, -157.9938,  4749, 1998.800,    2.088,   34.624,2,   34.623,2,   89.900,2,   90.200,2,  150.390,2,   39.600,2,    2.850,2, -999.000
           NA,HOT timeseries 1988to2019 27SEP2021,    171,  99,-999.0,     102,-999.0,20051111,1437,  22.7502, -157.9938,  4749, 2198.600,    1.889,   34.639,2,   34.640,2,   99.700,2,   99.800,2,  154.740,2,   38.870,2,    2.780,2, -999.000
           NA,HOT timeseries 1988to2019 27SEP2021,    171,  99,-999.0,     101,-999.0,20051111,1437,  22.7502, -157.9938,  4749, 2399.700,    1.753,   34.651,2,   34.651,2,  108.100,2,  107.100,2,  159.280,2,   38.300,2,    2.740,2, -999.000
           NA,HOT timeseries 1988to2019 27SEP2021,    171,  99,-999.0,      42,-999.0,20051111,1437,  22.7502, -157.9938,  4749, 2600.100,    1.670,   34.659,2,   34.658,2,  114.300,2,  115.500,2,  157.300,2,   38.130,2,    2.690,2, -999.000
           NA,HOT timeseries 1988to2019 27SEP2021,    171,  99,-999.0,      12,-999.0,20051111,1437,  22.7502, -157.9938,  4749, 2798.400,    1.607,   34.666,2,   34.665,2,  120.300,2, -999.000,4,  157.730,2,   37.520,2,    2.680,2, -999.000
           NA,HOT timeseries 1988to2019 27SEP2021,    171,  99,-999.0,      39,-999.0,20051111,1437,  22.7502, -157.9938,  4749, 2999.400,    1.545,   34.672,2,   34.673,2,  126.600,2,  126.600,2,  158.560,2,   36.950,2,    2.630,2, -999.000
           NA,HOT timeseries 1988to2019 27SEP2021,    171,  99,-999.0,      33,-999.0,20051111,1437,  22.7502, -157.9938,  4749, 3198.900,    1.501,   34.677,2, -999.000,4, -999.000,3, -999.000,5,  156.420,2, -999.000,4, -999.000,4, -999.000
           NA,HOT timeseries 1988to2019 27SEP2021,    171,  99,-999.0,       3,-999.0,20051111,1437,  22.7502, -157.9938,  4749, 3399.000,    1.478,   34.681,2,   34.680,2,  135.200,2, -999.000,4,  157.330,2,   36.530,2,    2.590,2, -999.000
           NA,HOT timeseries 1988to2019 27SEP2021,    171,  99,-999.0,      29,-999.0,20051111,1437,  22.7502, -157.9938,  4749, 3599.300,    1.456,   34.684,2,   34.684,2,  141.000,2, -999.000,4,  154.670,2,   36.240,2,    2.560,2, -999.000
           NA,HOT timeseries 1988to2019 27SEP2021,    171,  99,-999.0,      28,-999.0,20051111,1437,  22.7502, -157.9938,  4749, 3799.800,    1.445,   34.687,2, -999.000,3, -999.000,3,  145.600,2,  153.470,2,   36.090,2,    2.540,2, -999.000
           NA,HOT timeseries 1988to2019 27SEP2021,    171,  99,-999.0,      13,-999.0,20051111,1437,  22.7502, -157.9938,  4749, 4000.000,    1.452,   34.689,2,   34.689,2,  147.700,2,  147.800,2,  151.810,2,   35.800,2,    2.520,2, -999.000
           NA,HOT timeseries 1988to2019 27SEP2021,    171,  99,-999.0,      38,-999.0,20051111,1437,  22.7502, -157.9938,  4749, 4198.200,    1.462,   34.690,2,   34.691,2,  149.600,2,  148.500,2,  150.170,2,   35.660,2,    2.500,2, -999.000
           NA,HOT timeseries 1988to2019 27SEP2021,    171,  99,-999.0,      36,-999.0,20051111,1437,  22.7502, -157.9938,  4749, 4399.100,    1.476,   34.691,2,   34.691,2,  151.000,2,  151.000,2,  148.900,2,   35.460,2,    2.490,2, -999.000
           NA,HOT timeseries 1988to2019 27SEP2021,    171,  99,-999.0,      35,-999.0,20051111,1437,  22.7502, -157.9938,  4749, 4498.500,    1.485,   34.691,2,   34.689,2,  151.200,2,  151.300,2,  149.610,2,   35.410,2,    2.490,2, -999.000
           NA,HOT timeseries 1988to2019 27SEP2021,    171,  99,-999.0,       7,-999.0,20051111,1437,  22.7502, -157.9938,  4749, 4599.700,    1.495,   34.691,2, -999.000,4, -999.000,3, -999.000,5, -999.000,4, -999.000,4, -999.000,4, -999.000
           NA,HOT timeseries 1988to2019 27SEP2021,    171,  99,-999.0,      11,-999.0,20051111,1437,  22.7502, -157.9938,  4749, 4799.400,    1.518,   34.691,2,   34.691,2,  151.800,2,  152.400,2,  149.200,2,   35.270,2,    2.490,2, -999.000