BOTTLE,20214727JOAExport
EXPOCODE,SECT_ID,STNNBR,CASTNO,SAMPNO,BTLNBR,BTLNBR_FLAG_W,DATE,TIME,LATITUDE,LONGITUDE,DEPTH,CTDPRS,CTDTMP,CTDSAL,CTDSAL_FLAG_W,SALNTY,SALNTY_FLAG_W,CTDOXY,CTDOXY_FLAG_W,OXYGEN,OXYGEN_FLAG_W,SILCAT,SILCAT_FLAG_W,NINI,NINI_FLAG_W,PHSPHT,PHSPHT_FLAG_W,REVP
,,,,,,,,,,,,DB,IPTS-68,PSS-78,,PSS-78,,UMOL/KG,,UMOL/KG,,UMOL/KG,,UMOL/KG,,UMOL/KG,,DBAR
           NA,HOT timeseries 1988to2019 27SEP2021,     87,  99,-999.0,      31,-999.0,19980317,1328,  22.7473, -158.0022,  4724,    4.900,   24.484,   35.156,2,   35.156,2,  210.800,2,  210.600,2,    1.240,2,    0.000,2,    0.060,2, -999.000
           NA,HOT timeseries 1988to2019 27SEP2021,     87,  99,-999.0,      31,-999.0,19980317,1328,  22.7473, -158.0022,  4724,    5.000,   24.529,   35.164,2, -999.000,4, -999.000,3,  210.800,2,    1.380,2,    0.000,2,    0.110,2, -999.000
           NA,HOT timeseries 1988to2019 27SEP2021,     87,  99,-999.0,      30,-999.0,19980317,1328,  22.7473, -158.0022,  4724,   24.500,   24.457,   35.159,2,   35.161,2,  212.400,2,  211.200,2,    1.300,2,    0.000,2,    0.110,2, -999.000
           NA,HOT timeseries 1988to2019 27SEP2021,     87,  99,-999.0,      22,-999.0,19980317,1328,  22.7473, -158.0022,  4724,   66.700,   23.661,   35.156,2,   35.159,2,  213.800,2,  212.100,2,    1.260,2,    0.000,2,    0.090,2, -999.000
           NA,HOT timeseries 1988to2019 27SEP2021,     87,  99,-999.0,      30,-999.0,19980317,1328,  22.7473, -158.0022,  4724,  110.700,   22.072,   35.228,2,   35.226,2,  213.800,2,  209.800,2,    1.280,2,    0.130,2,    0.080,2, -999.000
           NA,HOT timeseries 1988to2019 27SEP2021,     87,  99,-999.0,      21,-999.0,19980317,1328,  22.7473, -158.0022,  4724,  124.200,   21.967,   35.230,2,   35.230,2,  210.200,2,  210.200,2,    1.340,2,    0.110,2,    0.100,2, -999.000
           NA,HOT timeseries 1988to2019 27SEP2021,     87,  99,-999.0,      20,-999.0,19980317,1328,  22.7473, -158.0022,  4724,  175.000,   19.202,   34.937,2,   34.937,2,  189.000,2,  190.600,2,    2.590,2,    2.300,2,    0.270,2, -999.000
           NA,HOT timeseries 1988to2019 27SEP2021,     87,  99,-999.0,      19,-999.0,19980317,1328,  22.7473, -158.0022,  4724,  249.000,   15.936,   34.619,2,   34.620,2,  199.700,2,  195.800,2,    4.760,2,    4.970,2,    0.440,2, -999.000
           NA,HOT timeseries 1988to2019 27SEP2021,     87,  99,-999.0,      18,-999.0,19980317,1328,  22.7473, -158.0022,  4724,  305.300,   12.098,   34.253,2,   34.253,2,  199.200,2,  199.800,2,   10.750,2,   11.010,2,    0.810,2, -999.000
           NA,HOT timeseries 1988to2019 27SEP2021,     87,  99,-999.0,      17,-999.0,19980317,1328,  22.7473, -158.0022,  4724,  344.700,   10.484,   34.157,2,   34.163,2,  202.400,2,  202.100,2,   15.440,2,   14.190,2,    1.000,2, -999.000
           NA,HOT timeseries 1988to2019 27SEP2021,     87,  99,-999.0,      16,-999.0,19980317,1328,  22.7473, -158.0022,  4724,  370.200,    9.840,   34.122,2,   34.121,2,  196.900,2,  196.000,2,   19.140,2,   16.440,2,    1.150,2, -999.000
           NA,HOT timeseries 1988to2019 27SEP2021,     87,  99,-999.0,      15,-999.0,19980317,1328,  22.7473, -158.0022,  4724,  412.600,    8.881,   34.074,2,   34.078,2,  181.300,2,  180.900,2,   24.890,2,   19.630,2,    1.370,2, -999.000
           NA,HOT timeseries 1988to2019 27SEP2021,     87,  99,-999.0,      14,-999.0,19980317,1328,  22.7473, -158.0022,  4724,  479.200,    7.419,   34.042,2,   34.042,2,  138.500,2,  137.400,2,   40.490,2,   26.650,2,    1.910,2, -999.000
           NA,HOT timeseries 1988to2019 27SEP2021,     87,  99,-999.0,      22,-999.0,19980317,1328,  22.7473, -158.0022,  4724,  503.900,    6.750,   34.043,2,   34.042,2,  110.200,2,  111.100,2, -999.000,3,   29.860,2,    2.130,2, -999.000
           NA,HOT timeseries 1988to2019 27SEP2021,     87,  99,-999.0,      13,-999.0,19980317,1328,  22.7473, -158.0022,  4724,  529.300,    6.609,   34.046,2,   34.049,2,  106.800,2,  105.000,2,   52.720,2,   31.290,2,    2.240,2, -999.000
           NA,HOT timeseries 1988to2019 27SEP2021,     87,  99,-999.0,      12,-999.0,19980317,1328,  22.7473, -158.0022,  4724,  551.600,    6.359,   34.054,2,   34.058,2,   94.200,2,   92.900,2,   57.300,2,   32.610,2,    2.370,2, -999.000
           NA,HOT timeseries 1988to2019 27SEP2021,     87,  99,-999.0,      11,-999.0,19980317,1328,  22.7473, -158.0022,  4724,  592.400,    5.860,   34.078,2,   34.075,2,   74.500,2,   74.100,2,   65.680,2,   35.100,2,    2.550,2, -999.000
           NA,HOT timeseries 1988to2019 27SEP2021,     87,  99,-999.0,      32,-999.0,19980317,1328,  22.7473, -158.0022,  4724,  625.700,    5.374,   34.116,2,   34.116,2,   54.900,2,   52.300,2,   76.510,2,   37.860,2,    2.740,2, -999.000
           NA,HOT timeseries 1988to2019 27SEP2021,     87,  99,-999.0,       3,-999.0,19980317,1328,  22.7473, -158.0022,  4724,  681.600,    5.027,   34.209,2,   34.210,2,   34.400,2,   32.000,2,   86.660,2,   40.120,2,    2.920,2, -999.000
           NA,HOT timeseries 1988to2019 27SEP2021,     87,  99,-999.0,      29,-999.0,19980317,1328,  22.7473, -158.0022,  4724,  710.500,    4.951,   34.246,2,   34.245,2,   28.600,2,   27.100,2,   89.410,2,   40.660,2,    2.960,2, -999.000
           NA,HOT timeseries 1988to2019 27SEP2021,     87,  99,-999.0,      28,-999.0,19980317,1328,  22.7473, -158.0022,  4724,  757.700,    4.699,   34.310,2,   34.310,2,   25.400,2,   23.500,2,   95.770,2,   41.510,2,    3.030,2, -999.000
           NA,HOT timeseries 1988to2019 27SEP2021,     87,  99,-999.0,      38,-999.0,19980317,1328,  22.7473, -158.0022,  4724,  827.800,    4.475,   34.402,2,   34.401,2,   30.900,2, -999.000,3,  101.010,2,   41.760,2,    3.000,2, -999.000
           NA,HOT timeseries 1988to2019 27SEP2021,     87,  99,-999.0,      36,-999.0,19980317,1328,  22.7473, -158.0022,  4724,  870.200,    4.420,   34.429,2,   34.428,2,   32.700,2,   32.000,2,  102.010,2,   41.730,2,    2.970,2, -999.000
           NA,HOT timeseries 1988to2019 27SEP2021,     87,  99,-999.0,      35,-999.0,19980317,1328,  22.7473, -158.0022,  4724,  910.500,    4.306,   34.460,2, -999.000,4, -999.000,3,   33.500,2,  101.730,2,   41.710,2,    2.980,2, -999.000
           NA,HOT timeseries 1988to2019 27SEP2021,     87,  99,-999.0,      34,-999.0,19980317,1328,  22.7473, -158.0022,  4724,  994.600,    4.114,   34.487,2,   34.487,2,   40.400,2,   40.000,2,  107.220,2,   41.760,2,    3.010,2, -999.000
           NA,HOT timeseries 1988to2019 27SEP2021,     87,  99,-999.0,      21,-999.0,19980317,1328,  22.7473, -158.0022,  4724, 1001.700,    4.072,   34.492,2,   34.491,2,   40.600,2,   40.300,2,  107.440,2,   41.270,2, -999.000,3, -999.000
           NA,HOT timeseries 1988to2019 27SEP2021,     87,  99,-999.0,      33,-999.0,19980317,1328,  22.7473, -158.0022,  4724, 1019.100,    4.016,   34.498,2,   34.498,2,   42.200,2,   41.600,2,  108.860,2,   41.750,2,    3.000,2, -999.000
           NA,HOT timeseries 1988to2019 27SEP2021,     87,  99,-999.0,      20,-999.0,19980317,1328,  22.7473, -158.0022,  4724, 1200.800,    3.507,   34.535,2,   34.535,2,   50.400,2,   49.700,2,  118.010,2,   41.150,2, -999.000,3, -999.000
           NA,HOT timeseries 1988to2019 27SEP2021,     87,  99,-999.0,      19,-999.0,19980317,1328,  22.7473, -158.0022,  4724, 1402.100,    3.092,   34.562,2,   34.562,2,   58.800,2, -999.000,4,  128.920,2,   40.850,2,    2.920,2, -999.000
           NA,HOT timeseries 1988to2019 27SEP2021,     87,  99,-999.0,      18,-999.0,19980317,1328,  22.7473, -158.0022,  4724, 1602.400,    2.719,   34.585,2,   34.585,2,   68.100,2,   69.500,2,  137.480,2,   40.680,2,    2.890,2, -999.000
           NA,HOT timeseries 1988to2019 27SEP2021,     87,  99,-999.0,      17,-999.0,19980317,1328,  22.7473, -158.0022,  4724, 1801.100,    2.426,   34.602,2,   34.603,2,   75.700,2,   77.700,2,  143.480,2,   40.120,2,    2.830,2, -999.000
           NA,HOT timeseries 1988to2019 27SEP2021,     87,  99,-999.0,      16,-999.0,19980317,1328,  22.7473, -158.0022,  4724, 2001.700,    2.151,   34.619,2,   34.619,2,   85.200,2,   86.400,2,  149.920,2,   39.570,2,    2.790,2, -999.000
           NA,HOT timeseries 1988to2019 27SEP2021,     87,  99,-999.0,      15,-999.0,19980317,1328,  22.7473, -158.0022,  4724, 2201.500,    1.968,   34.632,2,   34.633,2,   93.100,2,   94.200,2,  154.040,2,   39.090,2,    2.760,2, -999.000
           NA,HOT timeseries 1988to2019 27SEP2021,     87,  99,-999.0,      14,-999.0,19980317,1328,  22.7473, -158.0022,  4724, 2400.200,    1.814,   34.645,2,   34.645,2,  100.500,2,  101.800,2,  157.240,2,   38.780,2,    2.750,2, -999.000
           NA,HOT timeseries 1988to2019 27SEP2021,     87,  99,-999.0,      13,-999.0,19980317,1328,  22.7473, -158.0022,  4724, 2600.600,    1.689,   34.655,2,   34.656,2,  110.500,2,  111.300,2,  159.310,2,   38.110,2,    2.680,2, -999.000
           NA,HOT timeseries 1988to2019 27SEP2021,     87,  99,-999.0,      12,-999.0,19980317,1328,  22.7473, -158.0022,  4724, 2801.100,    1.598,   34.664,2,   34.664,2,  119.000,2,  118.100,2,  159.670,2,   37.670,2,    2.650,2, -999.000
           NA,HOT timeseries 1988to2019 27SEP2021,     87,  99,-999.0,      11,-999.0,19980317,1328,  22.7473, -158.0022,  4724, 3000.300,    1.549,   34.670,2,   34.671,2,  125.600,2,  124.600,2,  158.570,2,   37.420,2,    2.620,2, -999.000
           NA,HOT timeseries 1988to2019 27SEP2021,     87,  99,-999.0,      32,-999.0,19980317,1328,  22.7473, -158.0022,  4724, 3201.100,    1.518,   34.674,2,   34.674,2,  130.900,2,  130.400,2,  156.960,2,   37.240,2,    2.610,2, -999.000
           NA,HOT timeseries 1988to2019 27SEP2021,     87,  99,-999.0,       3,-999.0,19980317,1328,  22.7473, -158.0022,  4724, 3400.800,    1.483,   34.679,2,   34.680,2,  136.800,2,  135.400,2,  155.990,2,   36.840,2,    2.570,2, -999.000
           NA,HOT timeseries 1988to2019 27SEP2021,     87,  99,-999.0,      29,-999.0,19980317,1328,  22.7473, -158.0022,  4724, 3601.100,    1.468,   34.682,2,   34.683,2,  141.100,2,  140.000,2,  154.240,2,   36.400,2,    2.540,2, -999.000
           NA,HOT timeseries 1988to2019 27SEP2021,     87,  99,-999.0,      28,-999.0,19980317,1328,  22.7473, -158.0022,  4724, 3800.900,    1.458,   34.685,2,   34.685,2,  144.700,2,  144.400,2,  152.850,2,   36.080,2, -999.000,3, -999.000
           NA,HOT timeseries 1988to2019 27SEP2021,     87,  99,-999.0,       7,-999.0,19980317,1328,  22.7473, -158.0022,  4724, 4001.500,    1.459,   34.687,2,   34.688,2,  147.400,2,  147.000,2,  151.290,2,   36.010,2,    2.490,2, -999.000
           NA,HOT timeseries 1988to2019 27SEP2021,     87,  99,-999.0,      38,-999.0,19980317,1328,  22.7473, -158.0022,  4724, 4200.400,    1.466,   34.688,2,   34.688,2,  149.500,2,  150.400,2,  150.280,2,   35.990,2,    2.490,2, -999.000
           NA,HOT timeseries 1988to2019 27SEP2021,     87,  99,-999.0,      36,-999.0,19980317,1328,  22.7473, -158.0022,  4724, 4401.000,    1.479,   34.689,2, -999.000,3, -999.000,3,  151.000,2,  149.070,2,   35.810,2,    2.480,2, -999.000
           NA,HOT timeseries 1988to2019 27SEP2021,     87,  99,-999.0,      35,-999.0,19980317,1328,  22.7473, -158.0022,  4724, 4499.800,    1.486,   34.690,2,   34.691,2,  151.100,2,  151.300,2,  149.010,2,   35.690,2,    2.490,2, -999.000
           NA,HOT timeseries 1988to2019 27SEP2021,     87,  99,-999.0,      34,-999.0,19980317,1328,  22.7473, -158.0022,  4724, 4600.600,    1.495,   34.690,2,   34.689,2,  152.000,2,  151.700,2,  148.660,2,   35.660,2,    2.480,2, -999.000
           NA,HOT timeseries 1988to2019 27SEP2021,     87,  99,-999.0,      33,-999.0,19980317,1328,  22.7473, -158.0022,  4724, 4805.300,    1.514,   34.691,2,   34.689,2,  152.700,2,  153.400,2,  147.990,2,   35.610,2,    2.460,2, -999.000