BOTTLE,20214727JOAExport
EXPOCODE,SECT_ID,STNNBR,CASTNO,SAMPNO,BTLNBR,BTLNBR_FLAG_W,DATE,TIME,LATITUDE,LONGITUDE,DEPTH,CTDPRS,CTDTMP,CTDSAL,CTDSAL_FLAG_W,SALNTY,SALNTY_FLAG_W,CTDOXY,CTDOXY_FLAG_W,OXYGEN,OXYGEN_FLAG_W,SILCAT,SILCAT_FLAG_W,NINI,NINI_FLAG_W,PHSPHT,PHSPHT_FLAG_W,REVP
,,,,,,,,,,,,DB,IPTS-68,PSS-78,,PSS-78,,UMOL/KG,,UMOL/KG,,UMOL/KG,,UMOL/KG,,UMOL/KG,,DBAR
           NA,HOT timeseries 1988to2019 27SEP2021,    101,  99,-999.0,      31,-999.0,19990509,1900,  22.7498, -158.0078,  4724,    6.700,   23.641,   35.365,2,   35.363,2,  212.700,2,  214.800,2,    1.500,2,    0.000,2,    0.090,2, -999.000
           NA,HOT timeseries 1988to2019 27SEP2021,    101,  99,-999.0,      31,-999.0,19990509,1900,  22.7498, -158.0078,  4724,   12.700,   23.603,   35.365,2,   35.366,2,  216.400,2,  214.700,2,    1.550,2,    0.010,2,    0.080,2, -999.000
           NA,HOT timeseries 1988to2019 27SEP2021,    101,  99,-999.0,      30,-999.0,19990509,1900,  22.7498, -158.0078,  4724,   58.600,   22.499,   35.394,2,   35.397,2,  218.700,2,  219.700,2,    1.500,2,    0.000,2,    0.080,2, -999.000
           NA,HOT timeseries 1988to2019 27SEP2021,    101,  99,-999.0,      22,-999.0,19990509,1900,  22.7498, -158.0078,  4724,  100.600,   21.180,   35.358,2,   35.357,2,  214.700,2,  215.300,2,    1.700,2,    0.040,2,    0.090,2, -999.000
           NA,HOT timeseries 1988to2019 27SEP2021,    101,  99,-999.0,      21,-999.0,19990509,1900,  22.7498, -158.0078,  4724,  135.100,   19.673,   35.103,2,   35.100,2,  198.100,2,  198.900,2,    2.370,2,    1.680,2,    0.210,2, -999.000
           NA,HOT timeseries 1988to2019 27SEP2021,    101,  99,-999.0,      20,-999.0,19990509,1900,  22.7498, -158.0078,  4724,  165.600,   17.525,   34.789,2,   34.799,2,  191.800,2,  193.700,2,    3.620,2,    3.550,2,    0.340,2, -999.000
           NA,HOT timeseries 1988to2019 27SEP2021,    101,  99,-999.0,      19,-999.0,19990509,1900,  22.7498, -158.0078,  4724,  197.400,   15.772,   34.571,2,   34.579,2,  191.100,2,  192.400,2,    5.290,2,    5.450,2,    0.480,2, -999.000
           NA,HOT timeseries 1988to2019 27SEP2021,    101,  99,-999.0,      17,-999.0,19990509,1900,  22.7498, -158.0078,  4724,  295.900,   12.078,   34.263,2,   34.260,2,  204.100,2,  204.400,2,   10.880,2,   10.750,2,    0.790,2, -999.000
           NA,HOT timeseries 1988to2019 27SEP2021,    101,  99,-999.0,      16,-999.0,19990509,1900,  22.7498, -158.0078,  4724,  332.600,   11.136,   34.209,2,   34.210,2,  202.300,2,  202.200,2,   14.090,2,   13.070,2,    0.950,2, -999.000
           NA,HOT timeseries 1988to2019 27SEP2021,    101,  99,-999.0,      15,-999.0,19990509,1900,  22.7498, -158.0078,  4724,  367.800,   10.213,   34.147,2,   34.148,2,  200.200,2,  200.400,2,   17.630,2,   15.320,2,    1.070,2, -999.000
           NA,HOT timeseries 1988to2019 27SEP2021,    101,  99,-999.0,      14,-999.0,19990509,1900,  22.7498, -158.0078,  4724,  423.700,    8.679,   34.073,2,   34.072,2,  176.800,2,  177.800,2,   27.690,2,   20.480,2,    1.460,2, -999.000
           NA,HOT timeseries 1988to2019 27SEP2021,    101,  99,-999.0,      13,-999.0,19990509,1900,  22.7498, -158.0078,  4724,  459.700,    7.933,   34.052,2,   34.056,2,  157.400,2,  158.400,2,   35.210,2,   23.760,2,    1.680,2, -999.000
           NA,HOT timeseries 1988to2019 27SEP2021,    101,  99,-999.0,      12,-999.0,19990509,1900,  22.7498, -158.0078,  4724,  504.700,    7.048,   34.022,2,   34.025,2,  140.400,2,  140.300,2,   44.670,2,   27.210,2,    1.960,2, -999.000
           NA,HOT timeseries 1988to2019 27SEP2021,    101,  99,-999.0,      11,-999.0,19990509,1900,  22.7498, -158.0078,  4724,  555.900,    6.163,   34.029,2,   34.028,2,  110.600,2,  108.700,2,   58.570,2,   31.550,2,    2.290,2, -999.000
           NA,HOT timeseries 1988to2019 27SEP2021,    101,  99,-999.0,      32,-999.0,19990509,1900,  22.7498, -158.0078,  4724,  600.700,    5.602,   34.050,2,   34.050,2,   87.100,2,   85.900,2,   69.270,2,   34.380,2,    2.520,2, -999.000
           NA,HOT timeseries 1988to2019 27SEP2021,    101,  99,-999.0,       3,-999.0,19990509,1900,  22.7498, -158.0078,  4724,  646.000,    5.167,   34.083,2,   34.082,2,   67.200,2,   66.300,2,   78.800,2,   36.710,2,    2.700,2, -999.000
           NA,HOT timeseries 1988to2019 27SEP2021,    101,  99,-999.0,      29,-999.0,19990509,1900,  22.7498, -158.0078,  4724,  702.500,    4.853,   34.181,2,   34.181,2,   38.800,2,   36.200,2,   89.680,2,   39.660,2,    2.930,2, -999.000
           NA,HOT timeseries 1988to2019 27SEP2021,    101,  99,-999.0,      28,-999.0,19990509,1900,  22.7498, -158.0078,  4724,  742.900,    4.724,   34.242,2,   34.243,2,   27.800,2,   27.200,2,   94.420,2,   40.690,2,    3.020,2, -999.000
           NA,HOT timeseries 1988to2019 27SEP2021,    101,  99,-999.0,       7,-999.0,19990509,1900,  22.7498, -158.0078,  4724,  783.200,    4.597,   34.292,2,   34.299,2,   25.300,2,   24.900,2,   98.030,2,   41.070,2,    3.060,2, -999.000
           NA,HOT timeseries 1988to2019 27SEP2021,    101,  99,-999.0,      38,-999.0,19990509,1900,  22.7498, -158.0078,  4724,  823.100,    4.511,   34.334,2,   34.332,2,   25.500,2,   25.600,2,  100.350,2,   41.190,2,    3.070,2, -999.000
           NA,HOT timeseries 1988to2019 27SEP2021,    101,  99,-999.0,      36,-999.0,19990509,1900,  22.7498, -158.0078,  4724,  862.500,    4.394,   34.379,2,   34.380,2,   27.300,2,   27.600,2,  102.240,2,   41.240,2,    3.070,2, -999.000
           NA,HOT timeseries 1988to2019 27SEP2021,    101,  99,-999.0,      35,-999.0,19990509,1900,  22.7498, -158.0078,  4724,  911.900,    4.278,   34.416,2,   34.414,2,   30.900,2,   31.100,2,  103.660,2,   41.230,2,    3.060,2, -999.000
           NA,HOT timeseries 1988to2019 27SEP2021,    101,  99,-999.0,      34,-999.0,19990509,1900,  22.7498, -158.0078,  4724,  971.000,    4.097,   34.451,2,   34.453,2,   35.900,2,   35.900,2,  107.370,2,   40.990,2,    3.030,2, -999.000
           NA,HOT timeseries 1988to2019 27SEP2021,    101,  99,-999.0,      21,-999.0,19990509,1900,  22.7498, -158.0078,  4724,  997.400,    3.994,   34.475,2,   34.476,2,   39.800,2,   39.700,2,  109.740,2,   40.920,2,    3.000,2, -999.000
           NA,HOT timeseries 1988to2019 27SEP2021,    101,  99,-999.0,      33,-999.0,19990509,1900,  22.7498, -158.0078,  4724, 1021.500,    3.971,   34.478,2,   34.478,2,   40.000,2,   40.300,2,  109.660,2,   41.290,2,    3.040,2, -999.000
           NA,HOT timeseries 1988to2019 27SEP2021,    101,  99,-999.0,      20,-999.0,19990509,1900,  22.7498, -158.0078,  4724, 1197.900,    3.419,   34.528,2,   34.527,2,   52.000,2,   52.100,2,  122.120,2,   40.730,2,    2.990,2, -999.000
           NA,HOT timeseries 1988to2019 27SEP2021,    101,  99,-999.0,      19,-999.0,19990509,1900,  22.7498, -158.0078,  4724, 1395.100,    2.973,   34.562,2,   34.561,2,   61.800,2,   61.600,2,  132.090,2,   40.480,2,    2.950,2, -999.000
           NA,HOT timeseries 1988to2019 27SEP2021,    101,  99,-999.0,      18,-999.0,19990509,1900,  22.7498, -158.0078,  4724, 1594.600,    2.681,   34.588,2,   34.588,2,   69.900,2,   70.100,2,  138.620,2,   40.190,2,    2.920,2, -999.000
           NA,HOT timeseries 1988to2019 27SEP2021,    101,  99,-999.0,      17,-999.0,19990509,1900,  22.7498, -158.0078,  4724, 1795.900,    2.406,   34.604,2,   34.604,2,   78.100,2,   78.000,2,  144.960,2,   39.670,2,    2.880,2, -999.000
           NA,HOT timeseries 1988to2019 27SEP2021,    101,  99,-999.0,      16,-999.0,19990509,1900,  22.7498, -158.0078,  4724, 1999.600,    2.157,   34.619,2,   34.619,2,   85.700,2,   86.200,2,  150.580,2, -999.000,3, -999.000,3, -999.000
           NA,HOT timeseries 1988to2019 27SEP2021,    101,  99,-999.0,      15,-999.0,19990509,1900,  22.7498, -158.0078,  4724, 2201.500,    1.915,   34.634,2,   34.636,2,   93.100,2,   94.100,2,  157.260,2,   38.700,2,    2.840,2, -999.000
           NA,HOT timeseries 1988to2019 27SEP2021,    101,  99,-999.0,      14,-999.0,19990509,1900,  22.7498, -158.0078,  4724, 2396.400,    1.780,   34.646,2,   34.645,2,  101.600,2,  101.700,2,  159.730,2,   38.370,2,    2.740,2, -999.000
           NA,HOT timeseries 1988to2019 27SEP2021,    101,  99,-999.0,      13,-999.0,19990509,1900,  22.7498, -158.0078,  4724, 2598.100,    1.691,   34.654,2,   34.655,2,  108.200,2,  108.900,2,  160.260,2,   37.960,2,    2.720,2, -999.000
           NA,HOT timeseries 1988to2019 27SEP2021,    101,  99,-999.0,      12,-999.0,19990509,1900,  22.7498, -158.0078,  4724, 2794.600,    1.612,   34.664,2, -999.000,4, -999.000,3,  117.500,2, -999.000,3,   37.170,2,    2.640,2, -999.000
           NA,HOT timeseries 1988to2019 27SEP2021,    101,  99,-999.0,      11,-999.0,19990509,1900,  22.7498, -158.0078,  4724, 2994.200,    1.550,   34.671,2,   34.671,2,  123.100,2,  123.900,2,  160.040,2,   36.960,2,    2.630,2, -999.000
           NA,HOT timeseries 1988to2019 27SEP2021,    101,  99,-999.0,      32,-999.0,19990509,1900,  22.7498, -158.0078,  4724, 3198.800,    1.503,   34.677,2, -999.000,4, -999.000,3,  128.500,2, -999.000,3,   36.460,2,    2.590,2, -999.000
           NA,HOT timeseries 1988to2019 27SEP2021,    101,  99,-999.0,       3,-999.0,19990509,1900,  22.7498, -158.0078,  4724, 3397.500,    1.471,   34.681,2,   34.681,2,  136.800,2,  136.800,2,  156.950,2,   36.120,2,    2.560,2, -999.000
           NA,HOT timeseries 1988to2019 27SEP2021,    101,  99,-999.0,      29,-999.0,19990509,1900,  22.7498, -158.0078,  4724, 3600.900,    1.459,   34.683,2,   34.684,2,  140.500,2,  141.200,2,  156.570,2,   35.920,2,    2.540,2, -999.000
           NA,HOT timeseries 1988to2019 27SEP2021,    101,  99,-999.0,      28,-999.0,19990509,1900,  22.7498, -158.0078,  4724, 3796.600,    1.453,   34.686,2,   34.684,2,  145.000,2,  145.100,2,  154.040,2,   35.610,2,    2.530,2, -999.000
           NA,HOT timeseries 1988to2019 27SEP2021,    101,  99,-999.0,       7,-999.0,19990509,1900,  22.7498, -158.0078,  4724, 3997.400,    1.453,   34.687,2,   34.686,2,  148.200,2,  148.100,2,  151.280,2,   35.440,2,    2.510,2, -999.000
           NA,HOT timeseries 1988to2019 27SEP2021,    101,  99,-999.0,      38,-999.0,19990509,1900,  22.7498, -158.0078,  4724, 4198.800,    1.462,   34.688,2,   34.687,2,  150.300,2,  150.200,2,  150.660,2,   35.210,2,    2.490,2, -999.000
           NA,HOT timeseries 1988to2019 27SEP2021,    101,  99,-999.0,      36,-999.0,19990509,1900,  22.7498, -158.0078,  4724, 4402.500,    1.478,   34.689,2,   34.690,2,  151.800,2,  151.400,2,  150.680,2,   35.220,2,    2.470,2, -999.000
           NA,HOT timeseries 1988to2019 27SEP2021,    101,  99,-999.0,      35,-999.0,19990509,1900,  22.7498, -158.0078,  4724, 4502.600,    1.488,   34.689,2,   34.692,2,  152.600,2,  151.600,2,  149.580,2,   35.210,2,    2.480,2, -999.000
           NA,HOT timeseries 1988to2019 27SEP2021,    101,  99,-999.0,      34,-999.0,19990509,1900,  22.7498, -158.0078,  4724, 4603.300,    1.497,   34.690,2, -999.000,3, -999.000,3,  151.300,2,  148.960,2,   35.090,2,    2.470,2, -999.000
           NA,HOT timeseries 1988to2019 27SEP2021,    101,  99,-999.0,      33,-999.0,19990509,1900,  22.7498, -158.0078,  4724, 4805.500,    1.513,   34.690,2,   34.691,2,  154.700,2, -999.000,5,  147.560,2,   35.230,2,    2.460,2, -999.000