BOTTLE,20214727JOAExport
EXPOCODE,SECT_ID,STNNBR,CASTNO,SAMPNO,BTLNBR,BTLNBR_FLAG_W,DATE,TIME,LATITUDE,LONGITUDE,DEPTH,CTDPRS,CTDTMP,CTDSAL,CTDSAL_FLAG_W,SALNTY,SALNTY_FLAG_W,CTDOXY,CTDOXY_FLAG_W,OXYGEN,OXYGEN_FLAG_W,SILCAT,SILCAT_FLAG_W,NINI,NINI_FLAG_W,PHSPHT,PHSPHT_FLAG_W,REVP
,,,,,,,,,,,,DB,IPTS-68,PSS-78,,PSS-78,,UMOL/KG,,UMOL/KG,,UMOL/KG,,UMOL/KG,,UMOL/KG,,DBAR
           NA,HOT timeseries 1988to2019 27SEP2021,    233,  99,-999.0,    8024,-999.0,20130212,1502,  22.7498, -158.0005,  4738,    5.400,   23.343,   35.306,2,   35.307,2,  214.500,2,  213.300,2,    1.270,2, -999.000,3,    0.120,2, -999.000
           NA,HOT timeseries 1988to2019 27SEP2021,    233,  99,-999.0,    8024,-999.0,20130212,1502,  22.7498, -158.0005,  4738,    7.900,   23.358,   35.306,2,   35.306,2,  212.700,2,  213.300,2,    1.270,2,    0.080,2,    0.110,2, -999.000
           NA,HOT timeseries 1988to2019 27SEP2021,    233,  99,-999.0,    8023,-999.0,20130212,1502,  22.7498, -158.0005,  4738,   66.800,   23.016,   35.350,2,   35.349,2,  212.800,2,  214.100,2,    1.300,2,    0.030,2,    0.100,2, -999.000
           NA,HOT timeseries 1988to2019 27SEP2021,    233,  99,-999.0,    8022,-999.0,20130212,1502,  22.7498, -158.0005,  4738,  126.200,   21.905,   35.289,2,   35.290,2,  205.800,2,  206.100,2,    1.550,2,    0.370,2,    0.110,2, -999.000
           NA,HOT timeseries 1988to2019 27SEP2021,    233,  99,-999.0,    8021,-999.0,20130212,1502,  22.7498, -158.0005,  4738,  183.300,   18.671,   34.925,2,   34.928,2,  200.000,2,  197.300,2,    2.840,2,    2.550,2,    0.230,2, -999.000
           NA,HOT timeseries 1988to2019 27SEP2021,    233,  99,-999.0,    8020,-999.0,20130212,1502,  22.7498, -158.0005,  4738,  238.900,   14.929,   34.424,2,   34.419,2,  198.600,2,  199.000,2,    5.840,2,    6.190,2,    0.480,2, -999.000
           NA,HOT timeseries 1988to2019 27SEP2021,    233,  99,-999.0,    8019,-999.0,20130212,1502,  22.7498, -158.0005,  4738,  274.800,   13.427,   34.285,2,   34.287,2,  201.700,2,  201.200,2,    7.920,2,    8.440,2,    0.620,2, -999.000
           NA,HOT timeseries 1988to2019 27SEP2021,    233,  99,-999.0,    8018,-999.0,20130212,1502,  22.7498, -158.0005,  4738,  310.800,   12.107,   34.212,2,   34.201,2,  203.300,2,  202.900,2,   11.650,2,   11.720,2,    0.840,2, -999.000
           NA,HOT timeseries 1988to2019 27SEP2021,    233,  99,-999.0,    8017,-999.0,20130212,1502,  22.7498, -158.0005,  4738,  343.900,   10.681,   34.149,2,   34.149,2,  193.900,2,  194.700,2,   16.090,2,   14.800,2,    1.060,2, -999.000
           NA,HOT timeseries 1988to2019 27SEP2021,    233,  99,-999.0,    8016,-999.0,20130212,1502,  22.7498, -158.0005,  4738,  377.800,    9.419,   34.091,2,   34.089,2,  176.000,2,  175.000,2,   24.010,2,   19.580,2,    1.390,2, -999.000
           NA,HOT timeseries 1988to2019 27SEP2021,    233,  99,-999.0,    8014,-999.0,20130212,1502,  22.7498, -158.0005,  4738,  445.600,    8.422,   34.138,2,   34.136,2,  103.300,2,  107.400,2,   36.900,2,   26.930,2,    2.010,2, -999.000
           NA,HOT timeseries 1988to2019 27SEP2021,    233,  99,-999.0,    8025,-999.0,20130212,1502,  22.7498, -158.0005,  4738,  480.600,    7.922,   34.140,2,   34.141,2,   92.900,2,   92.500,2,   43.220,2,   29.300,2,    2.170,2, -999.000
           NA,HOT timeseries 1988to2019 27SEP2021,    233,  99,-999.0,    8012,-999.0,20130212,1502,  22.7498, -158.0005,  4738,  535.600,    6.936,   34.100,2,   34.102,2,   80.300,2,   79.100,2,   53.110,2,   32.640,2,    2.400,2, -999.000
           NA,HOT timeseries 1988to2019 27SEP2021,    233,  99,-999.0,    8011,-999.0,20130212,1502,  22.7498, -158.0005,  4738,  594.900,    6.136,   34.131,2,   34.127,2,   55.800,2,   56.000,2,   64.560,2,   35.780,2,    2.620,2, -999.000
           NA,HOT timeseries 1988to2019 27SEP2021,    233,  99,-999.0,    8009,-999.0,20130212,1502,  22.7498, -158.0005,  4738,  695.700,    5.749,   34.324,2,   34.326,2,   19.700,2,   20.200,2,   77.540,2,   39.860,2,    2.980,2, -999.000
           NA,HOT timeseries 1988to2019 27SEP2021,    233,  99,-999.0,    8026,-999.0,20130212,1502,  22.7498, -158.0005,  4738,  785.000,    5.299,   34.397,2,   34.399,2,   22.600,2,   22.900,2,   84.990,2,   41.000,2,    3.010,2, -999.000
           NA,HOT timeseries 1988to2019 27SEP2021,    233,  99,-999.0,    8006,-999.0,20130212,1502,  22.7498, -158.0005,  4738,  838.800,    4.954,   34.420,2,   34.420,2,   29.700,2,   28.800,2,   90.370,2,   41.380,2,    2.990,2, -999.000
           NA,HOT timeseries 1988to2019 27SEP2021,    233,  99,-999.0,    8005,-999.0,20130212,1502,  22.7498, -158.0005,  4738,  891.200,    4.776,   34.447,2,   34.445,2,   31.800,2,   31.400,2,   93.300,2,   41.500,2,    2.990,2, -999.000
           NA,HOT timeseries 1988to2019 27SEP2021,    233,  99,-999.0,    8004,-999.0,20130212,1502,  22.7498, -158.0005,  4738,  922.500,    4.683,   34.458,2,   34.459,2,   32.400,2,   32.600,2,   95.230,2,   41.920,2,    3.010,2, -999.000
           NA,HOT timeseries 1988to2019 27SEP2021,    233,  99,-999.0,    8003,-999.0,20130212,1502,  22.7498, -158.0005,  4738,  956.500,    4.549,   34.471,2,   34.471,2,   34.800,2,   34.500,2,   97.320,2,   41.910,2,    3.010,2, -999.000
           NA,HOT timeseries 1988to2019 27SEP2021,    233,  99,-999.0,    8001,-999.0,20130212,1502,  22.7498, -158.0005,  4738, 1019.400,    4.367,   34.483,2,   34.485,2,   39.100,2,   39.200,2,  100.950,2,   41.810,2,    3.000,2, -999.000
           NA,HOT timeseries 1988to2019 27SEP2021,    233,  99,-999.0,    8020,-999.0,20130212,1502,  22.7498, -158.0005,  4738, 1199.700,    3.837,   34.520,2,   34.520,2,   45.900,2,   47.200,2,  111.880,2,   41.920,2,    3.010,2, -999.000
           NA,HOT timeseries 1988to2019 27SEP2021,    233,  99,-999.0,    8019,-999.0,20130212,1502,  22.7498, -158.0005,  4738, 1399.800,    3.361,   34.546,2,   34.546,2,   52.600,2,   55.000,2,  122.170,2,   41.720,2,    2.970,2, -999.000
           NA,HOT timeseries 1988to2019 27SEP2021,    233,  99,-999.0,    8018,-999.0,20130212,1502,  22.7498, -158.0005,  4738, 1600.300,    2.931,   34.572,2,   34.572,2,   63.600,2,   63.900,2,  131.330,2,   41.410,2,    2.940,2, -999.000
           NA,HOT timeseries 1988to2019 27SEP2021,    233,  99,-999.0,    8017,-999.0,20130212,1502,  22.7498, -158.0005,  4738, 1800.100,    2.570,   34.594,2,   34.593,2,   74.400,2,   74.300,2,  138.920,2,   40.680,2,    2.880,2, -999.000
           NA,HOT timeseries 1988to2019 27SEP2021,    233,  99,-999.0,    8016,-999.0,20130212,1502,  22.7498, -158.0005,  4738, 2000.500,    2.253,   34.614,2,   34.614,2,   84.800,2,   85.500,2,  145.670,2,   40.180,2,    2.810,2, -999.000
           NA,HOT timeseries 1988to2019 27SEP2021,    233,  99,-999.0,    8015,-999.0,20130212,1502,  22.7498, -158.0005,  4738, 2200.900,    2.060,   34.626,2,   34.626,2,   92.500,2,   92.800,2,  149.890,2,   39.870,2,    2.780,2, -999.000
           NA,HOT timeseries 1988to2019 27SEP2021,    233,  99,-999.0,    8014,-999.0,20130212,1502,  22.7498, -158.0005,  4738, 2401.700,    1.921,   34.637,2,   34.636,2,   99.000,2,   99.900,2, -999.000,3,   39.580,2,    2.750,2, -999.000
           NA,HOT timeseries 1988to2019 27SEP2021,    233,  99,-999.0,    8025,-999.0,20130212,1502,  22.7498, -158.0005,  4738, 2599.700,    1.782,   34.648,2,   34.646,2,  108.500,2,  108.800,2, -999.000,3,   38.870,2,    2.710,2, -999.000
           NA,HOT timeseries 1988to2019 27SEP2021,    233,  99,-999.0,    8012,-999.0,20130212,1502,  22.7498, -158.0005,  4738, 2800.400,    1.689,   34.656,2,   34.657,2,  115.200,2,  115.700,2, -999.000,3,   38.030,2,    2.650,2, -999.000
           NA,HOT timeseries 1988to2019 27SEP2021,    233,  99,-999.0,    8011,-999.0,20130212,1502,  22.7498, -158.0005,  4738, 3000.800,    1.611,   34.663,2,   34.663,2,  120.200,2,  120.400,2,  157.240,2,   37.680,2,    2.600,2, -999.000
           NA,HOT timeseries 1988to2019 27SEP2021,    233,  99,-999.0,    8010,-999.0,20130212,1502,  22.7498, -158.0005,  4738, 3200.200,    1.570,   34.668,2,   34.668,2,  125.500,2,  126.000,2,  156.490,2,   37.450,2,    2.570,2, -999.000
           NA,HOT timeseries 1988to2019 27SEP2021,    233,  99,-999.0,    8009,-999.0,20130212,1502,  22.7498, -158.0005,  4738, 3400.300,    1.527,   34.674,2,   34.674,2,  131.300,2,  130.900,2,  156.580,2,   37.160,2,    2.560,2, -999.000
           NA,HOT timeseries 1988to2019 27SEP2021,    233,  99,-999.0,    8008,-999.0,20130212,1502,  22.7498, -158.0005,  4738, 3600.300,    1.495,   34.679,2,   34.678,2,  137.100,2,  136.900,2,  154.980,2,   36.670,2,    2.530,2, -999.000
           NA,HOT timeseries 1988to2019 27SEP2021,    233,  99,-999.0,    8026,-999.0,20130212,1502,  22.7498, -158.0005,  4738, 3800.800,    1.475,   34.682,2,   34.681,2,  142.500,2,  141.800,2,  152.620,2,   36.310,2,    2.490,2, -999.000
           NA,HOT timeseries 1988to2019 27SEP2021,    233,  99,-999.0,    8006,-999.0,20130212,1502,  22.7498, -158.0005,  4738, 3999.500,    1.471,   34.684,2,   34.683,2,  146.100,2,  145.500,2,  151.220,2,   36.040,2,    2.480,2, -999.000
           NA,HOT timeseries 1988to2019 27SEP2021,    233,  99,-999.0,    8005,-999.0,20130212,1502,  22.7498, -158.0005,  4738, 4200.900,    1.474,   34.686,2,   34.685,2,  148.800,2,  148.100,2,  150.050,2,   35.920,2,    2.460,2, -999.000
           NA,HOT timeseries 1988to2019 27SEP2021,    233,  99,-999.0,    8004,-999.0,20130212,1502,  22.7498, -158.0005,  4738, 4399.100,    1.483,   34.687,2,   34.686,2,  151.300,2,  150.800,2,  148.870,2,   35.830,2,    2.450,2, -999.000
           NA,HOT timeseries 1988to2019 27SEP2021,    233,  99,-999.0,    8003,-999.0,20130212,1502,  22.7498, -158.0005,  4738, 4501.400,    1.490,   34.687,2,   34.687,2,  151.800,2,  151.400,2,  148.090,2,   35.830,2,    2.440,2, -999.000
           NA,HOT timeseries 1988to2019 27SEP2021,    233,  99,-999.0,    8002,-999.0,20130212,1502,  22.7498, -158.0005,  4738, 4599.200,    1.498,   34.688,2,   34.687,2,  152.400,2,  152.700,2,  147.720,2,   35.820,2,    2.440,2, -999.000
           NA,HOT timeseries 1988to2019 27SEP2021,    233,  99,-999.0,    8001,-999.0,20130212,1502,  22.7498, -158.0005,  4738, 4809.000,    1.520,   34.688,2,   34.688,2,  153.100,2,  154.000,2,  147.440,2,   35.650,2,    2.440,2, -999.000