BOTTLE,20214727JOAExport
EXPOCODE,SECT_ID,STNNBR,CASTNO,SAMPNO,BTLNBR,BTLNBR_FLAG_W,DATE,TIME,LATITUDE,LONGITUDE,DEPTH,CTDPRS,CTDTMP,CTDSAL,CTDSAL_FLAG_W,SALNTY,SALNTY_FLAG_W,CTDOXY,CTDOXY_FLAG_W,OXYGEN,OXYGEN_FLAG_W,SILCAT,SILCAT_FLAG_W,NINI,NINI_FLAG_W,PHSPHT,PHSPHT_FLAG_W,REVP
,,,,,,,,,,,,DB,IPTS-68,PSS-78,,PSS-78,,UMOL/KG,,UMOL/KG,,UMOL/KG,,UMOL/KG,,UMOL/KG,,DBAR
           NA,HOT timeseries 1988to2019 27SEP2021,     14,  99,-999.0,      23,-999.0,19900318,2326,  22.7733, -158.1033,  4699,    1.700,   23.424,   34.848,2,   34.848,2, -999.000,5,  214.000,2,    1.080,2,    0.000,2,    0.130,2, -999.000
           NA,HOT timeseries 1988to2019 27SEP2021,     14,  99,-999.0,      22,-999.0,19900318,2326,  22.7733, -158.1033,  4699,   24.600,   23.327,   34.842,2,   34.840,2, -999.000,5,  213.900,2,    1.080,2,    0.020,2,    0.130,2, -999.000
           NA,HOT timeseries 1988to2019 27SEP2021,     14,  99,-999.0,      21,-999.0,19900318,2326,  22.7733, -158.1033,  4699,   49.400,   23.263,   34.845,2,   34.843,2, -999.000,5,  214.300,2,    1.080,2,    0.000,2,    0.130,2, -999.000
           NA,HOT timeseries 1988to2019 27SEP2021,     14,  99,-999.0,      20,-999.0,19900318,2326,  22.7733, -158.1033,  4699,   75.500,   23.183,   34.836,2,   34.838,2, -999.000,5,  214.600,2,    1.080,2,    0.000,2,    0.120,2, -999.000
           NA,HOT timeseries 1988to2019 27SEP2021,     14,  99,-999.0,      19,-999.0,19900318,2326,  22.7733, -158.1033,  4699,  108.000,   22.995,   34.945,2,   34.940,2, -999.000,5,  212.000,2,    1.290,2,    0.000,2,    0.110,2, -999.000
           NA,HOT timeseries 1988to2019 27SEP2021,     14,  99,-999.0,      18,-999.0,19900318,2326,  22.7733, -158.1033,  4699,  142.000,   21.339,   35.093,2,   35.081,2, -999.000,5,  198.700,2, -999.000,3,    0.960,2,    0.200,2, -999.000
           NA,HOT timeseries 1988to2019 27SEP2021,     14,  99,-999.0,      17,-999.0,19900318,2326,  22.7733, -158.1033,  4699,  153.200,   20.472,   35.068,2,   35.070,2, -999.000,5,  191.300,2,    1.710,2,    1.650,2,    0.270,2, -999.000
           NA,HOT timeseries 1988to2019 27SEP2021,     14,  99,-999.0,      16,-999.0,19900318,2326,  22.7733, -158.1033,  4699,  174.100,   18.997,   34.957,2,   34.958,2, -999.000,5,  180.700,2,    2.740,2,    3.850,2,    0.400,2, -999.000
           NA,HOT timeseries 1988to2019 27SEP2021,     14,  99,-999.0,      15,-999.0,19900318,2326,  22.7733, -158.1033,  4699,  174.100,   18.997,   34.957,2,   34.957,2, -999.000,5,  180.900,2,    2.950,2,    3.850,2,    0.400,2, -999.000
           NA,HOT timeseries 1988to2019 27SEP2021,     14,  99,-999.0,      14,-999.0,19900318,2326,  22.7733, -158.1033,  4699,  226.700,   15.669,   34.548,2,   34.560,2, -999.000,5,  176.600,2,    5.660,2,    7.380,2,    0.640,2, -999.000
           NA,HOT timeseries 1988to2019 27SEP2021,     14,  99,-999.0,      13,-999.0,19900318,2326,  22.7733, -158.1033,  4699,  296.100,   11.998,   34.249,2,   34.246,2, -999.000,5,  144.300,2,   15.830,2,   17.040,2,    1.320,2, -999.000
           NA,HOT timeseries 1988to2019 27SEP2021,     14,  99,-999.0,      12,-999.0,19900318,2326,  22.7733, -158.1033,  4699,  395.000,    8.867,   34.087,2,   34.085,2, -999.000,5,  166.300,2,   28.510,2,   21.650,2,    1.580,2, -999.000
           NA,HOT timeseries 1988to2019 27SEP2021,     14,  99,-999.0,      11,-999.0,19900318,2326,  22.7733, -158.1033,  4699,  395.000,    8.867,   34.087,2,   34.085,2, -999.000,5,  166.200,2,   27.460,2,   21.530,2,    1.570,2, -999.000
           NA,HOT timeseries 1988to2019 27SEP2021,     14,  99,-999.0,      10,-999.0,19900318,2326,  22.7733, -158.1033,  4699,  469.200,    7.278,   34.065,2,   34.061,2, -999.000,5,  113.500,2,   46.160,2,   29.290,2,    2.140,2, -999.000
           NA,HOT timeseries 1988to2019 27SEP2021,     14,  99,-999.0,       9,-999.0,19900318,2326,  22.7733, -158.1033,  4699,  508.300,    6.729,   34.111,2,   34.106,2, -999.000,5,   78.000,2,   56.540,2,   33.350,2,    2.430,2, -999.000
           NA,HOT timeseries 1988to2019 27SEP2021,     14,  99,-999.0,       8,-999.0,19900318,2326,  22.7733, -158.1033,  4699,  508.300,    6.729,   34.111,2,   34.108,2, -999.000,5,   77.400,2,   56.540,2,   33.470,2,    2.440,2, -999.000
           NA,HOT timeseries 1988to2019 27SEP2021,     14,  99,-999.0,       7,-999.0,19900318,2326,  22.7733, -158.1033,  4699,  557.700,    5.895,   34.130,2,   34.126,2, -999.000,5,   52.400,2,   70.040,2,   37.290,2,    2.720,2, -999.000
           NA,HOT timeseries 1988to2019 27SEP2021,     14,  99,-999.0,       6,-999.0,19900318,2326,  22.7733, -158.1033,  4699,  652.100,    4.949,   34.228,2,   34.224,2, -999.000,5,   27.800,2,   90.800,2,   41.120,2,    2.980,2, -999.000
           NA,HOT timeseries 1988to2019 27SEP2021,     14,  99,-999.0,       5,-999.0,19900318,2326,  22.7733, -158.1033,  4699,  730.500,    4.704,   34.351,2,   34.348,2, -999.000,5,   24.500,2,   98.060,2,   42.060,2,    3.050,2, -999.000
           NA,HOT timeseries 1988to2019 27SEP2021,     14,  99,-999.0,      22,-999.0,19900318,2326,  22.7733, -158.1033,  4699,  797.300,    4.661,   34.397,2,   34.395,2, -999.000,5,   27.900,2,   99.100,2,   42.060,2,    3.020,2, -999.000
           NA,HOT timeseries 1988to2019 27SEP2021,     14,  99,-999.0,       4,-999.0,19900318,2326,  22.7733, -158.1033,  4699,  820.600,    4.534,   34.421,2,   34.417,2, -999.000,5,   30.400,2,  101.800,2,   42.190,2,    3.040,2, -999.000
           NA,HOT timeseries 1988to2019 27SEP2021,     14,  99,-999.0,       3,-999.0,19900318,2326,  22.7733, -158.1033,  4699,  820.600,    4.534,   34.421,2,   34.417,2, -999.000,5,   30.400,2,  101.800,2,   42.190,2,    3.040,2, -999.000
           NA,HOT timeseries 1988to2019 27SEP2021,     14,  99,-999.0,       2,-999.0,19900318,2326,  22.7733, -158.1033,  4699,  911.200,    4.278,   34.459,2,   34.455,2, -999.000,5,   35.200,2,  106.360,2,   42.190,2,    3.040,2, -999.000
           NA,HOT timeseries 1988to2019 27SEP2021,     14,  99,-999.0,      20,-999.0,19900318,2326,  22.7733, -158.1033,  4699,  999.100,    4.004,   34.491,2,   34.488,2, -999.000,5,   41.800,2,  112.590,2,   42.190,2,    3.020,2, -999.000
           NA,HOT timeseries 1988to2019 27SEP2021,     14,  99,-999.0,       1,-999.0,19900318,2326,  22.7733, -158.1033,  4699, 1025.300,    3.992,   34.504,2,   34.501,2, -999.000,5,   41.800,2,  111.550,2,   42.190,2,    3.030,2, -999.000
           NA,HOT timeseries 1988to2019 27SEP2021,     14,  99,-999.0,      19,-999.0,19900318,2326,  22.7733, -158.1033,  4699, 1099.000,    3.757,   34.517,2,   34.513,2, -999.000,5,   47.800,2,  116.740,2,   41.940,2,    2.980,2, -999.000
           NA,HOT timeseries 1988to2019 27SEP2021,     14,  99,-999.0,      18,-999.0,19900318,2326,  22.7733, -158.1033,  4699, 1255.000,    3.380,   34.543,2,   34.540,2, -999.000,5,   52.800,2,  125.670,2,   41.820,2,    2.980,2, -999.000
           NA,HOT timeseries 1988to2019 27SEP2021,     14,  99,-999.0,      17,-999.0,19900318,2326,  22.7733, -158.1033,  4699, 1407.800,    3.036,   34.565,2,   34.562,2, -999.000,5,   63.700,2,  132.310,2,   41.340,2,    2.930,2, -999.000
           NA,HOT timeseries 1988to2019 27SEP2021,     14,  99,-999.0,      16,-999.0,19900318,2326,  22.7733, -158.1033,  4699, 1554.300,    2.773,   34.583,2,   34.580,2, -999.000,5,   68.600,2,  137.080,2,   41.110,2,    2.910,2, -999.000
           NA,HOT timeseries 1988to2019 27SEP2021,     14,  99,-999.0,      15,-999.0,19900318,2326,  22.7733, -158.1033,  4699, 1690.700,    2.564,   34.596,2,   34.593,2, -999.000,5,   75.200,2,  141.230,2,   40.860,2,    2.880,2, -999.000
           NA,HOT timeseries 1988to2019 27SEP2021,     14,  99,-999.0,      14,-999.0,19900318,2326,  22.7733, -158.1033,  4699, 1845.300,    2.345,   34.608,2,   34.605,2, -999.000,5,   80.900,2,  146.840,2,   40.500,2,    2.840,2, -999.000
           NA,HOT timeseries 1988to2019 27SEP2021,     14,  99,-999.0,      13,-999.0,19900318,2326,  22.7733, -158.1033,  4699, 1999.200,    2.163,   34.621,2,   34.619,2, -999.000,5,   88.100,2,  149.530,2,   40.020,2,    2.810,2, -999.000
           NA,HOT timeseries 1988to2019 27SEP2021,     14,  99,-999.0,      12,-999.0,19900318,2326,  22.7733, -158.1033,  4699, 2201.500,    1.957,   34.636,2,   34.635,2, -999.000,5,   97.900,2,  153.680,2,   39.430,2,    2.750,2, -999.000
           NA,HOT timeseries 1988to2019 27SEP2021,     14,  99,-999.0,      11,-999.0,19900318,2326,  22.7733, -158.1033,  4699, 2401.900,    1.817,   34.647,2,   34.644,2, -999.000,5,  104.600,2,  159.080,2,   39.190,2,    2.730,2, -999.000
           NA,HOT timeseries 1988to2019 27SEP2021,     14,  99,-999.0,      10,-999.0,19900318,2326,  22.7733, -158.1033,  4699, 2603.500,    1.691,   34.658,2,   34.656,2, -999.000,5,  112.800,2,  157.830,2,   38.600,2,    2.700,2, -999.000
           NA,HOT timeseries 1988to2019 27SEP2021,     14,  99,-999.0,       9,-999.0,19900318,2326,  22.7733, -158.1033,  4699, 2804.600,    1.625,   34.665,2,   34.662,2, -999.000,5,  119.300,2,  158.250,2,   38.120,2,    2.650,2, -999.000
           NA,HOT timeseries 1988to2019 27SEP2021,     14,  99,-999.0,       8,-999.0,19900318,2326,  22.7733, -158.1033,  4699, 3004.100,    1.567,   34.671,2,   34.669,2, -999.000,5,  124.300,2,  157.210,2,   37.760,2,    2.630,2, -999.000
           NA,HOT timeseries 1988to2019 27SEP2021,     14,  99,-999.0,       7,-999.0,19900318,2326,  22.7733, -158.1033,  4699, 3205.000,    1.528,   34.676,2,   34.674,2, -999.000,5,  128.800,2,  153.680,2,   37.160,2,    2.570,2, -999.000
           NA,HOT timeseries 1988to2019 27SEP2021,     14,  99,-999.0,       6,-999.0,19900318,2326,  22.7733, -158.1033,  4699, 3405.700,    1.491,   34.681,2,   34.679,2, -999.000,5,  135.700,2,  154.710,2,   36.800,2,    2.550,2, -999.000
           NA,HOT timeseries 1988to2019 27SEP2021,     14,  99,-999.0,       5,-999.0,19900318,2326,  22.7733, -158.1033,  4699, 3606.800,    1.467,   34.684,2,   34.682,2, -999.000,5,  141.100,2,  152.020,2,   36.330,2,    2.500,2, -999.000
           NA,HOT timeseries 1988to2019 27SEP2021,     14,  99,-999.0,       4,-999.0,19900318,2326,  22.7733, -158.1033,  4699, 3800.400,    1.456,   34.687,2,   34.684,2, -999.000,5,  145.400,2,  150.980,2,   36.330,2,    2.500,2, -999.000
           NA,HOT timeseries 1988to2019 27SEP2021,     14,  99,-999.0,       3,-999.0,19900318,2326,  22.7733, -158.1033,  4699, 4000.600,    1.458,   34.689,2,   34.686,2, -999.000,5,  148.500,2,  150.560,2,   36.200,2,    2.490,2, -999.000
           NA,HOT timeseries 1988to2019 27SEP2021,     14,  99,-999.0,       2,-999.0,19900318,2326,  22.7733, -158.1033,  4699, 4204.300,    1.465,   34.690,2,   34.688,2, -999.000,5,  150.400,2,  148.490,2,   35.850,2,    2.480,2, -999.000
           NA,HOT timeseries 1988to2019 27SEP2021,     14,  99,-999.0,       1,-999.0,19900318,2326,  22.7733, -158.1033,  4699, 4396.100,    1.480,   34.691,2,   34.688,2, -999.000,5,  151.000,2,  149.940,2,   35.720,2,    2.480,2, -999.000