BOTTLE,20214727JOAExport
EXPOCODE,SECT_ID,STNNBR,CASTNO,SAMPNO,BTLNBR,BTLNBR_FLAG_W,DATE,TIME,LATITUDE,LONGITUDE,DEPTH,CTDPRS,CTDTMP,CTDSAL,CTDSAL_FLAG_W,SALNTY,SALNTY_FLAG_W,CTDOXY,CTDOXY_FLAG_W,OXYGEN,OXYGEN_FLAG_W,SILCAT,SILCAT_FLAG_W,NINI,NINI_FLAG_W,PHSPHT,PHSPHT_FLAG_W,REVP
,,,,,,,,,,,,DB,IPTS-68,PSS-78,,PSS-78,,UMOL/KG,,UMOL/KG,,UMOL/KG,,UMOL/KG,,UMOL/KG,,DBAR
           NA,HOT timeseries 1988to2019 27SEP2021,    147,  99,-999.0,      31,-999.0,20030820,1245,  22.7505, -157.9998,  4720,    4.800,   26.041,   34.888,2,   34.887,2,  207.300,2,  206.900,2,    1.160,2, -999.000,3,    0.020,2, -999.000
           NA,HOT timeseries 1988to2019 27SEP2021,    147,  99,-999.0,      31,-999.0,20030820,1245,  22.7505, -157.9998,  4720,    5.300,   26.298,   34.975,2,   34.974,2,  206.600,2,  204.300,2,    1.060,2, -999.000,3,    0.040,2, -999.000
           NA,HOT timeseries 1988to2019 27SEP2021,    147,  99,-999.0,      30,-999.0,20030820,1245,  22.7505, -157.9998,  4720,   43.000,   26.196,   34.953,2,   34.951,2,  206.500,2,  205.100,2,    1.110,2,    0.040,2,    0.040,2, -999.000
           NA,HOT timeseries 1988to2019 27SEP2021,    147,  99,-999.0,      22,-999.0,20030820,1245,  22.7505, -157.9998,  4720,   82.600,   24.762,   34.847,2, -999.000,3, -999.000,3,  217.900,2,    1.090,2,    0.070,2,    0.020,2, -999.000
           NA,HOT timeseries 1988to2019 27SEP2021,    147,  99,-999.0,      21,-999.0,20030820,1245,  22.7505, -157.9998,  4720,  109.300,   23.425,   35.040,2,   35.042,2,  214.000,2,  214.500,2,    1.180,2,    0.060,2,    0.050,2, -999.000
           NA,HOT timeseries 1988to2019 27SEP2021,    147,  99,-999.0,      20,-999.0,20030820,1245,  22.7505, -157.9998,  4720,  142.100,   21.696,   35.109,2,   35.110,2,  200.200,2,  201.400,2,    1.570,2,    0.420,2,    0.050,2, -999.000
           NA,HOT timeseries 1988to2019 27SEP2021,    147,  99,-999.0,      19,-999.0,20030820,1245,  22.7505, -157.9998,  4720,  200.300,   19.829,   35.153,2,   35.152,2,  202.700,2,  201.400,2, -999.000,3,    1.560,2,    0.170,2, -999.000
           NA,HOT timeseries 1988to2019 27SEP2021,    147,  99,-999.0,      18,-999.0,20030820,1245,  22.7505, -157.9998,  4720,  266.000,   15.219,   34.492,2,   34.491,2,  174.600,2,  174.000,2,    5.560,2, -999.000,3, -999.000,3, -999.000
           NA,HOT timeseries 1988to2019 27SEP2021,    147,  99,-999.0,      17,-999.0,20030820,1245,  22.7505, -157.9998,  4720,  303.900,   13.359,   34.315,2,   34.319,2,  189.600,2,  189.500,2,    7.850,2,    9.800,2,    0.770,2, -999.000
           NA,HOT timeseries 1988to2019 27SEP2021,    147,  99,-999.0,      16,-999.0,20030820,1245,  22.7505, -157.9998,  4720,  340.400,   11.504,   34.176,2, -999.000,4, -999.000,3,  193.700,2,   11.090,2,   12.670,2,    0.960,2, -999.000
           NA,HOT timeseries 1988to2019 27SEP2021,    147,  99,-999.0,      23,-999.0,20030820,1245,  22.7505, -157.9998,  4720,  358.800,   10.354,   34.157,2,   34.159,2,  162.800,2,  168.300,2,   18.210,2,   17.820,2,    1.380,2, -999.000
           NA,HOT timeseries 1988to2019 27SEP2021,    147,  99,-999.0,     101,-999.0,20030820,1245,  22.7505, -157.9998,  4720,  430.500,    9.207,   34.136,2,   34.136,2,  143.600,2,  145.100,2,   26.520,2,   22.790,2,    1.720,2, -999.000
           NA,HOT timeseries 1988to2019 27SEP2021,    147,  99,-999.0,      13,-999.0,20030820,1245,  22.7505, -157.9998,  4720,  494.600,    7.809,   34.103,2,   34.104,2,  114.100,2,  113.000,2,   39.190,2,   28.160,2,    2.110,2, -999.000
           NA,HOT timeseries 1988to2019 27SEP2021,    147,  99,-999.0,      12,-999.0,20030820,1245,  22.7505, -157.9998,  4720,  527.900,    6.724,   34.053,2,   34.053,2,  100.200,2,   99.200,2,   50.400,2,   31.660,2,    2.330,2, -999.000
           NA,HOT timeseries 1988to2019 27SEP2021,    147,  99,-999.0,      39,-999.0,20030820,1245,  22.7505, -157.9998,  4720,  570.300,    5.990,   34.078,2,   34.078,2,   70.300,2,   69.500,2,   62.020,2,   35.670,2,    2.610,2, -999.000
           NA,HOT timeseries 1988to2019 27SEP2021,    147,  99,-999.0,      32,-999.0,20030820,1245,  22.7505, -157.9998,  4720,  620.900,    5.446,   34.135,2,   34.133,2,   46.100,2,   44.500,2,   74.600,2,   38.650,2,    2.850,2, -999.000
           NA,HOT timeseries 1988to2019 27SEP2021,    147,  99,-999.0,       3,-999.0,20030820,1245,  22.7505, -157.9998,  4720,  670.100,    5.200,   34.231,2,   34.229,2,   27.000,2,   26.400,2,   82.660,2,   40.520,2,    3.000,2, -999.000
           NA,HOT timeseries 1988to2019 27SEP2021,    147,  99,-999.0,      29,-999.0,20030820,1245,  22.7505, -157.9998,  4720,  715.300,    5.068,   34.282,2,   34.282,2,   25.100,2,   24.300,2,   87.340,2,   40.960,2,    3.060,2, -999.000
           NA,HOT timeseries 1988to2019 27SEP2021,    147,  99,-999.0,      28,-999.0,20030820,1245,  22.7505, -157.9998,  4720,  762.300,    4.857,   34.322,2,   34.321,2,   23.200,2,   22.100,2,   92.750,2,   41.490,2,    3.100,2, -999.000
           NA,HOT timeseries 1988to2019 27SEP2021,    147,  99,-999.0,      38,-999.0,20030820,1245,  22.7505, -157.9998,  4720,  846.700,    4.557,   34.398,2,   34.396,2,   26.400,2,   25.900,2,   98.970,2,   41.790,2,    3.110,2, -999.000
           NA,HOT timeseries 1988to2019 27SEP2021,    147,  99,-999.0,      36,-999.0,20030820,1245,  22.7505, -157.9998,  4720,  885.100,    4.460,   34.430,2,   34.429,2,   29.900,2,   30.800,2, -999.000,4,   41.900,2,    3.080,2, -999.000
           NA,HOT timeseries 1988to2019 27SEP2021,    147,  99,-999.0,      35,-999.0,20030820,1245,  22.7505, -157.9998,  4720,  924.200,    4.377,   34.450,2,   34.450,2,   33.200,2,   33.900,2, -999.000,3,   41.670,2,    3.070,2, -999.000
           NA,HOT timeseries 1988to2019 27SEP2021,    147,  99,-999.0,      34,-999.0,20030820,1245,  22.7505, -157.9998,  4720,  964.400,    4.244,   34.470,2,   34.470,2,   36.100,2,   36.000,2,  104.570,2,   42.110,2,    3.080,2, -999.000
           NA,HOT timeseries 1988to2019 27SEP2021,    147,  99,-999.0,      20,-999.0,20030820,1245,  22.7505, -157.9998,  4720, 1200.600,    3.598,   34.529,2,   34.527,2,   50.300,2,   50.400,2,  119.020,2,   41.310,2,    3.030,2, -999.000
           NA,HOT timeseries 1988to2019 27SEP2021,    147,  99,-999.0,      19,-999.0,20030820,1245,  22.7505, -157.9998,  4720, 1400.900,    3.201,   34.557,2,   34.558,2,   57.300,2,   56.800,2,  127.210,2,   41.410,2,    3.000,2, -999.000
           NA,HOT timeseries 1988to2019 27SEP2021,    147,  99,-999.0,      18,-999.0,20030820,1245,  22.7505, -157.9998,  4720, 1600.400,    2.812,   34.579,2,   34.579,2,   66.700,2,   66.800,2,  135.670,2,   40.750,2,    2.950,2, -999.000
           NA,HOT timeseries 1988to2019 27SEP2021,    147,  99,-999.0,      17,-999.0,20030820,1245,  22.7505, -157.9998,  4720, 1800.200,    2.492,   34.598,2,   34.598,2,   76.700,2,   77.800,2,  141.770,2,   40.160,2,    2.900,2, -999.000
           NA,HOT timeseries 1988to2019 27SEP2021,    147,  99,-999.0,      16,-999.0,20030820,1245,  22.7505, -157.9998,  4720, 2000.100,    2.232,   34.615,2,   34.615,2,   85.400,2,   85.900,2,  148.830,2,   39.750,2,    2.840,2, -999.000
           NA,HOT timeseries 1988to2019 27SEP2021,    147,  99,-999.0,      23,-999.0,20030820,1245,  22.7505, -157.9998,  4720, 2200.500,    2.028,   34.631,2,   34.630,2,   96.100,2,   96.500,2,  150.550,2,   39.170,2, -999.000,4, -999.000
           NA,HOT timeseries 1988to2019 27SEP2021,    147,  99,-999.0,     101,-999.0,20030820,1245,  22.7505, -157.9998,  4720, 2401.000,    1.852,   34.644,2,   34.644,2,  103.800,2,  104.300,2,  154.420,2,   38.520,2,    2.750,2, -999.000
           NA,HOT timeseries 1988to2019 27SEP2021,    147,  99,-999.0,      13,-999.0,20030820,1245,  22.7505, -157.9998,  4720, 2600.000,    1.723,   34.653,2,   34.653,2,  110.500,2,  110.600,2,  156.850,2,   38.010,2,    2.720,2, -999.000
           NA,HOT timeseries 1988to2019 27SEP2021,    147,  99,-999.0,      12,-999.0,20030820,1245,  22.7505, -157.9998,  4720, 2800.700,    1.646,   34.662,2,   34.661,2,  117.300,2,  117.600,2,  157.380,2,   37.740,2,    2.690,2, -999.000
           NA,HOT timeseries 1988to2019 27SEP2021,    147,  99,-999.0,      39,-999.0,20030820,1245,  22.7505, -157.9998,  4720, 2999.600,    1.572,   34.669,2,   34.668,2,  123.800,2,  123.700,2,  157.490,2,   37.440,2,    2.620,2, -999.000
           NA,HOT timeseries 1988to2019 27SEP2021,    147,  99,-999.0,      32,-999.0,20030820,1245,  22.7505, -157.9998,  4720, 3199.000,    1.528,   34.674,2,   34.672,2,  128.800,2,  128.500,2,  157.140,2,   36.990,2,    2.610,2, -999.000
           NA,HOT timeseries 1988to2019 27SEP2021,    147,  99,-999.0,       3,-999.0,20030820,1245,  22.7505, -157.9998,  4720, 3398.100,    1.497,   34.678,2,   34.678,2,  134.300,2,  134.600,2,  155.930,2,   36.730,2,    2.580,2, -999.000
           NA,HOT timeseries 1988to2019 27SEP2021,    147,  99,-999.0,      29,-999.0,20030820,1245,  22.7505, -157.9998,  4720, 3600.200,    1.477,   34.682,2,   34.681,2,  139.700,2,  139.500,2,  155.510,2,   36.300,2,    2.560,2, -999.000
           NA,HOT timeseries 1988to2019 27SEP2021,    147,  99,-999.0,      28,-999.0,20030820,1245,  22.7505, -157.9998,  4720, 3800.700,    1.470,   34.684,2,   34.685,2,  143.100,2,  142.600,2,  153.240,2,   36.180,2,    2.550,2, -999.000
           NA,HOT timeseries 1988to2019 27SEP2021,    147,  99,-999.0,       7,-999.0,20030820,1245,  22.7505, -157.9998,  4720, 4000.500,    1.466,   34.686,2,   34.686,2,  146.400,2,  146.700,2,  152.270,2,   36.050,2,    2.520,2, -999.000
           NA,HOT timeseries 1988to2019 27SEP2021,    147,  99,-999.0,      38,-999.0,20030820,1245,  22.7505, -157.9998,  4720, 4200.900,    1.472,   34.688,2,   34.687,2,  148.800,2,  148.700,2,  151.720,2,   35.830,2,    2.510,2, -999.000
           NA,HOT timeseries 1988to2019 27SEP2021,    147,  99,-999.0,      36,-999.0,20030820,1245,  22.7505, -157.9998,  4720, 4399.600,    1.481,   34.689,2,   34.689,2,  151.200,2,  151.300,2,  150.670,2,   35.650,2,    2.500,2, -999.000
           NA,HOT timeseries 1988to2019 27SEP2021,    147,  99,-999.0,      35,-999.0,20030820,1245,  22.7505, -157.9998,  4720, 4500.600,    1.488,   34.689,2,   34.689,2,  151.800,2,  151.400,2,  150.190,2,   35.460,2,    2.490,2, -999.000
           NA,HOT timeseries 1988to2019 27SEP2021,    147,  99,-999.0,      34,-999.0,20030820,1245,  22.7505, -157.9998,  4720, 4600.700,    1.496,   34.690,2,   34.690,2,  152.300,2,  152.300,2,  149.960,2,   35.450,2,    2.490,2, -999.000
           NA,HOT timeseries 1988to2019 27SEP2021,    147,  99,-999.0,      33,-999.0,20030820,1245,  22.7505, -157.9998,  4720, 4803.500,    1.513,   34.690,2,   34.690,2,  153.400,2,  153.000,2,  148.860,2,   35.330,2,    2.490,2, -999.000