BOTTLE,20214727JOAExport
EXPOCODE,SECT_ID,STNNBR,CASTNO,SAMPNO,BTLNBR,BTLNBR_FLAG_W,DATE,TIME,LATITUDE,LONGITUDE,DEPTH,CTDPRS,CTDTMP,CTDSAL,CTDSAL_FLAG_W,SALNTY,SALNTY_FLAG_W,CTDOXY,CTDOXY_FLAG_W,OXYGEN,OXYGEN_FLAG_W,SILCAT,SILCAT_FLAG_W,NINI,NINI_FLAG_W,PHSPHT,PHSPHT_FLAG_W,REVP
,,,,,,,,,,,,DB,IPTS-68,PSS-78,,PSS-78,,UMOL/KG,,UMOL/KG,,UMOL/KG,,UMOL/KG,,UMOL/KG,,DBAR
           NA,HOT timeseries 1988to2019 27SEP2021,     83,  99,-999.0,      31,-999.0,19970926,0033,  22.7737, -157.9838,  4724,    4.500,   26.835,   35.228,2,   35.233,2,  203.300,2,  203.200,2,    1.070,2,    0.000,2,    0.040,2, -999.000
           NA,HOT timeseries 1988to2019 27SEP2021,     83,  99,-999.0,      30,-999.0,19970926,0033,  22.7737, -157.9838,  4724,   38.700,   26.722,   35.220,2,   35.225,2,  203.600,2,  203.100,2,    0.960,2,    0.000,2,    0.020,2, -999.000
           NA,HOT timeseries 1988to2019 27SEP2021,     83,  99,-999.0,      30,-999.0,19970926,0033,  22.7737, -157.9838,  4724,   60.700,   24.939,   35.084,2,   35.097,2,  219.800,2,  221.600,2,    1.040,2,    0.000,2,    0.040,2, -999.000
           NA,HOT timeseries 1988to2019 27SEP2021,     83,  99,-999.0,      22,-999.0,19970926,0033,  22.7737, -157.9838,  4724,   72.900,   25.037,   35.087,2,   35.088,2,  218.000,2,  220.300,2,    1.010,2,    0.000,2,    0.020,2, -999.000
           NA,HOT timeseries 1988to2019 27SEP2021,     83,  99,-999.0,      21,-999.0,19970926,0033,  22.7737, -157.9838,  4724,   90.000,   23.777,   35.061,2,   35.062,2,  222.300,2,  224.100,2,    1.040,2,    0.000,2,    0.030,2, -999.000
           NA,HOT timeseries 1988to2019 27SEP2021,     83,  99,-999.0,      20,-999.0,19970926,0033,  22.7737, -157.9838,  4724,  103.500,   23.202,   35.057,2,   35.057,2,  215.700,2,  217.800,2,    1.040,2,    0.000,2,    0.050,2, -999.000
           NA,HOT timeseries 1988to2019 27SEP2021,     83,  99,-999.0,      19,-999.0,19970926,0033,  22.7737, -157.9838,  4724,  161.200,   21.401,   35.073,2,   35.071,2,  193.500,2,  196.500,2,    1.510,2,    0.820,2,    0.120,2, -999.000
           NA,HOT timeseries 1988to2019 27SEP2021,     83,  99,-999.0,      18,-999.0,19970926,0033,  22.7737, -157.9838,  4724,  179.000,   20.358,   35.061,2,   35.056,2,  195.400,2,  194.000,2,    1.870,2,    1.540,2,    0.170,2, -999.000
           NA,HOT timeseries 1988to2019 27SEP2021,     83,  99,-999.0,      17,-999.0,19970926,0033,  22.7737, -157.9838,  4724,  204.600,   19.230,   35.003,2,   35.002,2,  192.300,2,  195.700,2,    2.440,2,    2.040,2,    0.200,2, -999.000
           NA,HOT timeseries 1988to2019 27SEP2021,     83,  99,-999.0,      16,-999.0,19970926,0033,  22.7737, -157.9838,  4724,  273.900,   15.913,   34.654,2,   34.656,2,  194.600,2,  196.200,2,    5.010,2,    5.270,2,    0.410,2, -999.000
           NA,HOT timeseries 1988to2019 27SEP2021,     83,  99,-999.0,      15,-999.0,19970926,0033,  22.7737, -157.9838,  4724,  297.300,   14.466,   34.501,2,   34.503,2,  199.900,2,  200.900,2,    7.010,2,    6.950,2,    0.520,2, -999.000
           NA,HOT timeseries 1988to2019 27SEP2021,     83,  99,-999.0,      14,-999.0,19970926,0033,  22.7737, -157.9838,  4724,  350.400,   11.763,   34.201,2,   34.202,2,  166.500,2,  174.100,2,   13.370,2,   13.920,2,    1.030,2, -999.000
           NA,HOT timeseries 1988to2019 27SEP2021,     83,  99,-999.0,      13,-999.0,19970926,0033,  22.7737, -157.9838,  4724,  390.700,   10.283,   34.140,2,   34.139,2,  168.900,2,  167.500,2,   18.960,2,   17.560,2,    1.280,2, -999.000
           NA,HOT timeseries 1988to2019 27SEP2021,     83,  99,-999.0,      12,-999.0,19970926,0033,  22.7737, -157.9838,  4724,  441.000,    9.131,   34.116,2,   34.115,2,  155.800,2,  154.000,2,   26.750,2,   21.510,2,    1.550,2, -999.000
           NA,HOT timeseries 1988to2019 27SEP2021,     83,  99,-999.0,      11,-999.0,19970926,0033,  22.7737, -157.9838,  4724,  515.800,    7.771,   34.119,2,   34.120,2,  114.800,2,  110.600,2,   42.190,2,   28.100,2,    2.080,2, -999.000
           NA,HOT timeseries 1988to2019 27SEP2021,     83,  99,-999.0,      32,-999.0,19970926,0033,  22.7737, -157.9838,  4724,  543.700,    6.931,   34.095,2,   34.096,2,   95.300,2,   94.400,2,   51.220,2,   31.350,2,    2.290,2, -999.000
           NA,HOT timeseries 1988to2019 27SEP2021,     83,  99,-999.0,       3,-999.0,19970926,0033,  22.7737, -157.9838,  4724,  588.000,    5.992,   34.086,2,   34.087,2,   69.600,2,   70.600,2,   64.700,2,   35.190,2,    2.550,2, -999.000
           NA,HOT timeseries 1988to2019 27SEP2021,     83,  99,-999.0,      29,-999.0,19970926,0033,  22.7737, -157.9838,  4724,  648.300,    5.411,   34.125,2,   34.126,2,   47.800,2,   49.200,2,   77.530,2,   38.100,2,    2.770,2, -999.000
           NA,HOT timeseries 1988to2019 27SEP2021,     83,  99,-999.0,      28,-999.0,19970926,0033,  22.7737, -157.9838,  4724,  692.500,    5.081,   34.207,2,   34.210,2,   33.700,2,   31.400,2,   86.440,2,   40.170,2,    2.930,2, -999.000
           NA,HOT timeseries 1988to2019 27SEP2021,     83,  99,-999.0,       7,-999.0,19970926,0033,  22.7737, -157.9838,  4724,  762.400,    4.752,   34.279,2,   34.279,2,   26.900,2,   27.600,2,   95.020,2,   41.090,2,    3.000,2, -999.000
           NA,HOT timeseries 1988to2019 27SEP2021,     83,  99,-999.0,      38,-999.0,19970926,0033,  22.7737, -157.9838,  4724,  799.600,    4.815,   34.366,2,   34.365,2,   27.900,2,   27.400,2,   93.750,2,   41.160,2,    3.010,2, -999.000
           NA,HOT timeseries 1988to2019 27SEP2021,     83,  99,-999.0,      36,-999.0,19970926,0033,  22.7737, -157.9838,  4724,  844.100,    4.586,   34.400,2,   34.400,2,   30.000,2,   29.700,2,   98.410,2,   41.590,2,    3.020,2, -999.000
           NA,HOT timeseries 1988to2019 27SEP2021,     83,  99,-999.0,      35,-999.0,19970926,0033,  22.7737, -157.9838,  4724,  900.800,    4.435,   34.435,2,   34.434,2,   32.800,2,   34.700,2,  101.250,2,   41.730,2,    3.040,2, -999.000
           NA,HOT timeseries 1988to2019 27SEP2021,     83,  99,-999.0,      34,-999.0,19970926,0033,  22.7737, -157.9838,  4724,  950.100,    4.268,   34.454,2,   34.453,2,   35.700,2,   35.400,2,  104.700,2,   41.840,2,    3.040,2, -999.000
           NA,HOT timeseries 1988to2019 27SEP2021,     83,  99,-999.0,      21,-999.0,19970926,0033,  22.7737, -157.9838,  4724, 1000.000,    3.998,   34.467,2,   34.467,2,   40.100,2,   39.300,2,  109.790,2,   41.690,2,    2.980,2, -999.000
           NA,HOT timeseries 1988to2019 27SEP2021,     83,  99,-999.0,      33,-999.0,19970926,0033,  22.7737, -157.9838,  4724, 1021.500,    4.052,   34.467,2,   34.469,2,   39.300,2,   39.700,2,  109.380,2,   41.740,2,    3.030,2, -999.000
           NA,HOT timeseries 1988to2019 27SEP2021,     83,  99,-999.0,      20,-999.0,19970926,0033,  22.7737, -157.9838,  4724, 1200.600,    3.490,   34.520,2,   34.520,2,   51.200,2,   51.500,2,  121.110,2,   41.360,2,    2.960,2, -999.000
           NA,HOT timeseries 1988to2019 27SEP2021,     83,  99,-999.0,      19,-999.0,19970926,0033,  22.7737, -157.9838,  4724, 1400.100,    3.032,   34.552,2,   34.553,2,   62.000,2,   62.400,2,  130.370,2,   41.150,2,    2.940,2, -999.000
           NA,HOT timeseries 1988to2019 27SEP2021,     83,  99,-999.0,      18,-999.0,19970926,0033,  22.7737, -157.9838,  4724, 1600.000,    2.661,   34.580,2,   34.579,2,   69.800,2,   69.400,2,  138.860,2,   40.910,2,    2.910,2, -999.000
           NA,HOT timeseries 1988to2019 27SEP2021,     83,  99,-999.0,      17,-999.0,19970926,0033,  22.7737, -157.9838,  4724, 1799.800,    2.350,   34.600,2,   34.601,2,   78.400,2,   78.400,2,  146.120,2,   40.370,2,    2.870,2, -999.000
           NA,HOT timeseries 1988to2019 27SEP2021,     83,  99,-999.0,      16,-999.0,19970926,0033,  22.7737, -157.9838,  4724, 2000.200,    2.109,   34.616,2,   34.616,2,   85.600,2,   86.600,2,  152.140,2,   39.880,2,    2.820,2, -999.000
           NA,HOT timeseries 1988to2019 27SEP2021,     83,  99,-999.0,      15,-999.0,19970926,0033,  22.7737, -157.9838,  4724, 2200.800,    1.905,   34.631,2,   34.631,2,   93.600,2,   93.800,2,  157.720,2,   39.580,2,    2.780,2, -999.000
           NA,HOT timeseries 1988to2019 27SEP2021,     83,  99,-999.0,      14,-999.0,19970926,0033,  22.7737, -157.9838,  4724, 2399.900,    1.759,   34.645,2,   34.645,2,  103.400,2,  104.900,2,  159.050,2,   38.980,2,    2.740,2, -999.000
           NA,HOT timeseries 1988to2019 27SEP2021,     83,  99,-999.0,      13,-999.0,19970926,0033,  22.7737, -157.9838,  4724, 2601.100,    1.642,   34.656,2,   34.655,2,  112.000,2,  113.000,2,  160.250,2,   38.480,2,    2.700,2, -999.000
           NA,HOT timeseries 1988to2019 27SEP2021,     83,  99,-999.0,      12,-999.0,19970926,0033,  22.7737, -157.9838,  4724, 2801.500,    1.573,   34.664,2,   34.664,2,  119.900,2,  120.000,2,  159.470,2,   38.000,2,    2.660,2, -999.000
           NA,HOT timeseries 1988to2019 27SEP2021,     83,  99,-999.0,      11,-999.0,19970926,0033,  22.7737, -157.9838,  4724, 3000.400,    1.522,   34.671,2,   34.670,2,  127.000,2,  127.700,2,  158.280,2,   37.600,2,    2.620,2, -999.000
           NA,HOT timeseries 1988to2019 27SEP2021,     83,  99,-999.0,      32,-999.0,19970926,0033,  22.7737, -157.9838,  4724, 3199.700,    1.493,   34.675,2,   34.675,2,  132.100,2,  133.200,2,  157.110,2,   37.280,2,    2.600,2, -999.000
           NA,HOT timeseries 1988to2019 27SEP2021,     83,  99,-999.0,       3,-999.0,19970926,0033,  22.7737, -157.9838,  4724, 3401.000,    1.466,   34.679,2,   34.678,2,  137.700,2,  138.100,2,  155.880,2,   36.970,2,    2.580,2, -999.000
           NA,HOT timeseries 1988to2019 27SEP2021,     83,  99,-999.0,      29,-999.0,19970926,0033,  22.7737, -157.9838,  4724, 3600.100,    1.455,   34.681,2,   34.682,2,  141.900,2,  142.200,2,  153.760,2,   36.500,2,    2.550,2, -999.000
           NA,HOT timeseries 1988to2019 27SEP2021,     83,  99,-999.0,      28,-999.0,19970926,0033,  22.7737, -157.9838,  4724, 3800.600,    1.448,   34.684,2,   34.684,2,  145.600,2,  145.600,2,  152.530,2,   36.310,2,    2.530,2, -999.000
           NA,HOT timeseries 1988to2019 27SEP2021,     83,  99,-999.0,       7,-999.0,19970926,0033,  22.7737, -157.9838,  4724, 4001.100,    1.452,   34.686,2,   34.686,2,  148.500,2,  148.200,2,  151.080,2,   36.170,2,    2.520,2, -999.000
           NA,HOT timeseries 1988to2019 27SEP2021,     83,  99,-999.0,      38,-999.0,19970926,0033,  22.7737, -157.9838,  4724, 4200.200,    1.462,   34.687,2, -999.000,4, -999.000,3, -999.000,4, -999.000,4, -999.000,4, -999.000,4, -999.000
           NA,HOT timeseries 1988to2019 27SEP2021,     83,  99,-999.0,      36,-999.0,19970926,0033,  22.7737, -157.9838,  4724, 4400.900,    1.475,   34.688,2,   34.686,2,  152.300,2,  152.700,2,  149.310,2,   36.130,2,    2.520,2, -999.000
           NA,HOT timeseries 1988to2019 27SEP2021,     83,  99,-999.0,      35,-999.0,19970926,0033,  22.7737, -157.9838,  4724, 4499.900,    1.484,   34.688,2,   34.687,2,  152.900,2,  152.400,2,  149.240,2,   36.120,2,    2.510,2, -999.000
           NA,HOT timeseries 1988to2019 27SEP2021,     83,  99,-999.0,      34,-999.0,19970926,0033,  22.7737, -157.9838,  4724, 4601.100,    1.491,   34.689,2,   34.687,2,  153.600,2,  152.700,2,  148.370,2,   35.950,2,    2.490,2, -999.000
           NA,HOT timeseries 1988to2019 27SEP2021,     83,  99,-999.0,      33,-999.0,19970926,0033,  22.7737, -157.9838,  4724, 4790.700,    1.508,   34.689,2,   34.687,2,  155.000,2,  153.800,2,  147.960,2,   35.720,2,    2.490,2, -999.000