BOTTLE,20214727JOAExport
EXPOCODE,SECT_ID,STNNBR,CASTNO,SAMPNO,BTLNBR,BTLNBR_FLAG_W,DATE,TIME,LATITUDE,LONGITUDE,DEPTH,CTDPRS,CTDTMP,CTDSAL,CTDSAL_FLAG_W,SALNTY,SALNTY_FLAG_W,CTDOXY,CTDOXY_FLAG_W,OXYGEN,OXYGEN_FLAG_W,SILCAT,SILCAT_FLAG_W,NINI,NINI_FLAG_W,PHSPHT,PHSPHT_FLAG_W,REVP
,,,,,,,,,,,,DB,IPTS-68,PSS-78,,PSS-78,,UMOL/KG,,UMOL/KG,,UMOL/KG,,UMOL/KG,,UMOL/KG,,DBAR
           NA,HOT timeseries 1988to2019 27SEP2021,    202,  99,-999.0,    8024,-999.0,20081130,1604,  22.7498, -157.9990,  4742,   10.100,   24.837,   35.234,2,   35.235,2,  208.000,2,  208.400,2,    0.730,2, -999.000,3,    0.000,2, -999.000
           NA,HOT timeseries 1988to2019 27SEP2021,    202,  99,-999.0,    8024,-999.0,20081130,1604,  22.7498, -157.9990,  4742,   10.900,   24.864,   35.238,2,   35.237,2,  207.400,2,  207.400,2,    1.400,2,    0.010,2,    0.030,2, -999.000
           NA,HOT timeseries 1988to2019 27SEP2021,    202,  99,-999.0,    8023,-999.0,20081130,1604,  22.7498, -157.9990,  4742,   71.300,   23.158,   35.210,2,   35.208,2,  213.800,2,  212.800,2,    1.900,2,    0.000,2,    0.050,2, -999.000
           NA,HOT timeseries 1988to2019 27SEP2021,    202,  99,-999.0,    8022,-999.0,20081130,1604,  22.7498, -157.9990,  4742,  104.900,   21.902,   35.232,2,   35.232,2,  202.000,2,  200.500,2,    1.560,2,    0.620,2,    0.080,2, -999.000
           NA,HOT timeseries 1988to2019 27SEP2021,    202,  99,-999.0,    8021,-999.0,20081130,1604,  22.7498, -157.9990,  4742,  161.100,   19.383,   34.990,2,   34.996,2,  191.600,2,  190.600,2,    2.640,2,    2.500,2,    0.220,2, -999.000
           NA,HOT timeseries 1988to2019 27SEP2021,    202,  99,-999.0,    8020,-999.0,20081130,1604,  22.7498, -157.9990,  4742,  220.000,   15.601,   34.551,2,   34.553,2,  193.900,2,  194.700,2,    5.450,2,    6.010,2,    0.450,2, -999.000
           NA,HOT timeseries 1988to2019 27SEP2021,    202,  99,-999.0,    8019,-999.0,20081130,1604,  22.7498, -157.9990,  4742,  265.200,   13.381,   34.347,2,   34.351,2,  199.600,2,  199.300,2,    8.750,2,    9.300,2,    0.650,2, -999.000
           NA,HOT timeseries 1988to2019 27SEP2021,    202,  99,-999.0,    8018,-999.0,20081130,1604,  22.7498, -157.9990,  4742,  304.800,   11.795,   34.247,2,   34.247,2,  203.400,2,  203.700,2,   12.360,2,   12.170,2,    0.850,2, -999.000
           NA,HOT timeseries 1988to2019 27SEP2021,    202,  99,-999.0,    8017,-999.0,20081130,1604,  22.7498, -157.9990,  4742,  351.800,   10.590,   34.175,2,   34.174,2,  195.900,2,  195.800,2,   17.100,2,   15.400,2,    1.070,2, -999.000
           NA,HOT timeseries 1988to2019 27SEP2021,    202,  99,-999.0,    8016,-999.0,20081130,1604,  22.7498, -157.9990,  4742,  385.200,   10.059,   34.154,2,   34.152,2,  181.000,2,  177.400,2,   21.170,2,   18.020,2,    1.290,2, -999.000
           NA,HOT timeseries 1988to2019 27SEP2021,    202,  99,-999.0,    8015,-999.0,20081130,1604,  22.7498, -157.9990,  4742,  421.000,    9.216,   34.132,2,   34.133,2,  154.800,2,  146.900,2,   28.770,2,   22.310,2,    1.610,2, -999.000
           NA,HOT timeseries 1988to2019 27SEP2021,    202,  99,-999.0,    8014,-999.0,20081130,1604,  22.7498, -157.9990,  4742,  455.800,    8.329,   34.104,2,   34.103,2,  127.700,2,  126.900,2,   36.400,2,   26.200,2,    1.870,2, -999.000
           NA,HOT timeseries 1988to2019 27SEP2021,    202,  99,-999.0,    8025,-999.0,20081130,1604,  22.7498, -157.9990,  4742,  488.000,    7.499,   34.076,2,   34.077,2,  114.300,2,  115.000,2,   44.120,2,   28.720,2,    2.050,2, -999.000
           NA,HOT timeseries 1988to2019 27SEP2021,    202,  99,-999.0,    8012,-999.0,20081130,1604,  22.7498, -157.9990,  4742,  520.800,    6.866,   34.061,2,   34.060,2,  106.700,2,  104.900,2,   51.290,2,   31.120,2,    2.190,2, -999.000
           NA,HOT timeseries 1988to2019 27SEP2021,    202,  99,-999.0,    8011,-999.0,20081130,1604,  22.7498, -157.9990,  4742,  576.000,    6.105,   34.098,2,   34.099,2,   74.400,2,   74.300,2,   64.390,2,   34.990,2,    2.500,2, -999.000
           NA,HOT timeseries 1988to2019 27SEP2021,    202,  99,-999.0,    8010,-999.0,20081130,1604,  22.7498, -157.9990,  4742,  623.000,    5.877,   34.174,2,   34.172,2,   60.000,2,   59.900,2,   71.590,2,   36.830,2,    2.650,2, -999.000
           NA,HOT timeseries 1988to2019 27SEP2021,    202,  99,-999.0,    8009,-999.0,20081130,1604,  22.7498, -157.9990,  4742,  687.100,    5.118,   34.213,2,   34.212,2,   39.500,2,   40.100,2,   85.640,2,   39.890,2,    2.860,2, -999.000
           NA,HOT timeseries 1988to2019 27SEP2021,    202,  99,-999.0,    8008,-999.0,20081130,1604,  22.7498, -157.9990,  4742,  721.700,    4.826,   34.274,2,   34.273,2,   33.100,2,   33.900,2,   93.190,2,   40.850,2,    2.940,2, -999.000
           NA,HOT timeseries 1988to2019 27SEP2021,    202,  99,-999.0,    8026,-999.0,20081130,1604,  22.7498, -157.9990,  4742,  754.400,    4.728,   34.300,2,   34.299,2,   30.700,2,   31.400,2,   95.700,2,   41.380,2,    2.980,2, -999.000
           NA,HOT timeseries 1988to2019 27SEP2021,    202,  99,-999.0,    8005,-999.0,20081130,1604,  22.7498, -157.9990,  4742,  822.500,    4.496,   34.384,2,   34.381,2,   30.400,2,   29.600,2,  100.970,2,   41.850,2,    3.020,2, -999.000
           NA,HOT timeseries 1988to2019 27SEP2021,    202,  99,-999.0,    8003,-999.0,20081130,1604,  22.7498, -157.9990,  4742,  921.400,    4.294,   34.437,2,   34.436,2,   35.200,2,   34.800,2,  104.430,2,   42.140,2,    3.020,2, -999.000
           NA,HOT timeseries 1988to2019 27SEP2021,    202,  99,-999.0,    8001,-999.0,20081130,1604,  22.7498, -157.9990,  4742, 1019.300,    4.110,   34.470,2,   34.471,2,   39.500,2,   39.600,2,  108.330,2,   42.000,2,    3.020,2, -999.000
           NA,HOT timeseries 1988to2019 27SEP2021,    202,  99,-999.0,    8020,-999.0,20081130,1604,  22.7498, -157.9990,  4742, 1200.200,    3.433,   34.527,2,   34.528,2,   52.100,2,   52.500,2,  121.580,2,   41.350,2,    2.980,2, -999.000
           NA,HOT timeseries 1988to2019 27SEP2021,    202,  99,-999.0,    8019,-999.0,20081130,1604,  22.7498, -157.9990,  4742, 1400.500,    3.000,   34.559,2,   34.560,2,   61.500,2,   61.100,2,  130.800,2,   41.140,2,    2.940,2, -999.000
           NA,HOT timeseries 1988to2019 27SEP2021,    202,  99,-999.0,    8018,-999.0,20081130,1604,  22.7498, -157.9990,  4742, 1598.800,    2.629,   34.583,2,   34.584,2,   71.600,2,   71.600,2,  140.670,2,   40.490,2,    2.890,2, -999.000
           NA,HOT timeseries 1988to2019 27SEP2021,    202,  99,-999.0,    8017,-999.0,20081130,1604,  22.7498, -157.9990,  4742, 1797.400,    2.340,   34.600,2,   34.601,2,   79.700,2,   79.400,2,  146.230,2,   40.040,2,    2.850,2, -999.000
           NA,HOT timeseries 1988to2019 27SEP2021,    202,  99,-999.0,    8016,-999.0,20081130,1604,  22.7498, -157.9990,  4742, 1999.500,    2.089,   34.620,2,   34.621,2,   88.900,2,   89.300,2,  151.150,2,   39.540,2,    2.800,2, -999.000
           NA,HOT timeseries 1988to2019 27SEP2021,    202,  99,-999.0,    8015,-999.0,20081130,1604,  22.7498, -157.9990,  4742, 2200.300,    1.942,   34.632,2,   34.633,2,   95.500,2,   95.700,2,  154.400,2,   39.140,2,    2.750,2, -999.000
           NA,HOT timeseries 1988to2019 27SEP2021,    202,  99,-999.0,    8014,-999.0,20081130,1604,  22.7498, -157.9990,  4742, 2399.900,    1.781,   34.645,2,   34.646,2,  103.400,2,  104.200,2,  157.860,2,   38.730,2,    2.720,2, -999.000
           NA,HOT timeseries 1988to2019 27SEP2021,    202,  99,-999.0,    8025,-999.0,20081130,1604,  22.7498, -157.9990,  4742, 2600.000,    1.702,   34.653,2,   34.654,2,  109.700,2,  109.300,2,  158.070,2,   38.370,2,    2.690,2, -999.000
           NA,HOT timeseries 1988to2019 27SEP2021,    202,  99,-999.0,    8012,-999.0,20081130,1604,  22.7498, -157.9990,  4742, 2799.200,    1.610,   34.662,2,   34.663,2,  117.600,2,  118.400,2,  158.570,2,   37.810,2,    2.650,2, -999.000
           NA,HOT timeseries 1988to2019 27SEP2021,    202,  99,-999.0,    8011,-999.0,20081130,1604,  22.7498, -157.9990,  4742, 3002.600,    1.538,   34.670,2,   34.671,2,  126.100,2,  125.900,2,  158.180,2,   37.370,2,    2.610,2, -999.000
           NA,HOT timeseries 1988to2019 27SEP2021,    202,  99,-999.0,    8010,-999.0,20081130,1604,  22.7498, -157.9990,  4742, 3201.400,    1.496,   34.675,2,   34.676,2,  132.500,2,  132.600,2,  157.420,2,   36.980,2,    2.580,2, -999.000
           NA,HOT timeseries 1988to2019 27SEP2021,    202,  99,-999.0,    8009,-999.0,20081130,1604,  22.7498, -157.9990,  4742, 3398.900,    1.476,   34.678,2,   34.679,2,  136.500,2,  136.000,2,  155.750,2,   36.540,2,    2.540,2, -999.000
           NA,HOT timeseries 1988to2019 27SEP2021,    202,  99,-999.0,    8008,-999.0,20081130,1604,  22.7498, -157.9990,  4742, 3600.600,    1.462,   34.681,2,   34.682,2,  140.900,2,  141.800,2,  153.340,2,   36.400,2,    2.530,2, -999.000
           NA,HOT timeseries 1988to2019 27SEP2021,    202,  99,-999.0,    8026,-999.0,20081130,1604,  22.7498, -157.9990,  4742, 3801.000,    1.461,   34.683,2,   34.684,2,  143.700,2,  143.600,2, -999.000,3,   36.120,2,    2.510,2, -999.000
           NA,HOT timeseries 1988to2019 27SEP2021,    202,  99,-999.0,    8006,-999.0,20081130,1604,  22.7498, -157.9990,  4742, 3998.600,    1.458,   34.685,2,   34.686,2,  147.100,2,  146.900,2,  153.490,2,   35.790,2,    2.490,2, -999.000
           NA,HOT timeseries 1988to2019 27SEP2021,    202,  99,-999.0,    8005,-999.0,20081130,1604,  22.7498, -157.9990,  4742, 4198.500,    1.464,   34.687,2,   34.688,2,  149.600,2,  148.700,2,  153.510,2,   35.710,2,    2.480,2, -999.000
           NA,HOT timeseries 1988to2019 27SEP2021,    202,  99,-999.0,    8004,-999.0,20081130,1604,  22.7498, -157.9990,  4742, 4400.900,    1.480,   34.687,2,   34.688,2,  150.500,2,  150.400,2,  152.200,2,   35.720,2,    2.470,2, -999.000
           NA,HOT timeseries 1988to2019 27SEP2021,    202,  99,-999.0,    8003,-999.0,20081130,1604,  22.7498, -157.9990,  4742, 4498.600,    1.488,   34.687,2,   34.689,2,  151.000,2,  150.800,2,  153.050,2,   35.520,2,    2.470,2, -999.000
           NA,HOT timeseries 1988to2019 27SEP2021,    202,  99,-999.0,    8002,-999.0,20081130,1604,  22.7498, -157.9990,  4742, 4601.000,    1.496,   34.688,2,   34.690,2,  151.500,2,  152.200,2,  151.710,2,   35.420,2,    2.470,2, -999.000
           NA,HOT timeseries 1988to2019 27SEP2021,    202,  99,-999.0,    8001,-999.0,20081130,1604,  22.7498, -157.9990,  4742, 4805.100,    1.510,   34.689,2,   34.691,2,  152.800,2,  152.800,2,  150.470,2,   35.280,2,    2.480,2, -999.000