BOTTLE,20214727JOAExport
EXPOCODE,SECT_ID,STNNBR,CASTNO,SAMPNO,BTLNBR,BTLNBR_FLAG_W,DATE,TIME,LATITUDE,LONGITUDE,DEPTH,CTDPRS,CTDTMP,CTDSAL,CTDSAL_FLAG_W,SALNTY,SALNTY_FLAG_W,CTDOXY,CTDOXY_FLAG_W,OXYGEN,OXYGEN_FLAG_W,SILCAT,SILCAT_FLAG_W,NINI,NINI_FLAG_W,PHSPHT,PHSPHT_FLAG_W,REVP
,,,,,,,,,,,,DB,IPTS-68,PSS-78,,PSS-78,,UMOL/KG,,UMOL/KG,,UMOL/KG,,UMOL/KG,,UMOL/KG,,DBAR
           NA,HOT timeseries 1988to2019 27SEP2021,    193,  99,-999.0,    8024,-999.0,20071201,2235,  22.7500, -158.0000,  4746,    9.200,   25.176,   35.094,2,   35.093,2,  206.800,2,  206.900,2,    1.090,2,    0.080,2,    0.050,2, -999.000
           NA,HOT timeseries 1988to2019 27SEP2021,    193,  99,-999.0,    8023,-999.0,20071201,2235,  22.7500, -158.0000,  4746,   16.300,   25.010,   35.050,2, -999.000,4, -999.000,3,  206.800,2,    0.940,2, -999.000,3,    0.060,2, -999.000
           NA,HOT timeseries 1988to2019 27SEP2021,    193,  99,-999.0,    8023,-999.0,20071201,2235,  22.7500, -158.0000,  4746,   26.300,   25.140,   35.095,2,   35.095,2,  206.300,2,  207.200,2,    1.090,2,    0.080,2,    0.040,2, -999.000
           NA,HOT timeseries 1988to2019 27SEP2021,    193,  99,-999.0,    8022,-999.0,20071201,2235,  22.7500, -158.0000,  4746,   62.900,   25.129,   35.097,2,   35.097,2,  207.200,2,  206.500,2,    1.240,2,    0.140,2,    0.060,2, -999.000
           NA,HOT timeseries 1988to2019 27SEP2021,    193,  99,-999.0,    8021,-999.0,20071201,2235,  22.7500, -158.0000,  4746,  125.700,   21.357,   35.039,2,   35.041,2,  199.500,2,  200.000,2,    1.720,2,    1.110,2,    0.170,2, -999.000
           NA,HOT timeseries 1988to2019 27SEP2021,    193,  99,-999.0,    8020,-999.0,20071201,2235,  22.7500, -158.0000,  4746,  164.900,   19.666,   34.981,2,   34.976,2,  189.500,2,  190.200,2,    2.540,2,    2.670,2,    0.260,2, -999.000
           NA,HOT timeseries 1988to2019 27SEP2021,    193,  99,-999.0,    8019,-999.0,20071201,2235,  22.7500, -158.0000,  4746,  221.900,   15.009,   34.386,2, -999.000,3, -999.000,3,  175.200,2,    6.200,2,    8.280,2,    0.680,2, -999.000
           NA,HOT timeseries 1988to2019 27SEP2021,    193,  99,-999.0,    8018,-999.0,20071201,2235,  22.7500, -158.0000,  4746,  291.500,   11.360,   34.147,2,   34.146,2,  170.300,2,  169.900,2,   14.750,2,   15.450,2,    1.190,2, -999.000
           NA,HOT timeseries 1988to2019 27SEP2021,    193,  99,-999.0,    8017,-999.0,20071201,2235,  22.7500, -158.0000,  4746,  330.800,   10.218,   34.143,2,   34.144,2,  169.100,2,  169.100,2,   19.720,2,   18.040,2,    1.330,2, -999.000
           NA,HOT timeseries 1988to2019 27SEP2021,    193,  99,-999.0,    8016,-999.0,20071201,2235,  22.7500, -158.0000,  4746,  389.300,    8.876,   34.102,2,   34.103,2,  151.600,2,  151.400,2,   28.900,2,   22.700,2,    1.640,2, -999.000
           NA,HOT timeseries 1988to2019 27SEP2021,    193,  99,-999.0,    8015,-999.0,20071201,2235,  22.7500, -158.0000,  4746,  425.800,    8.198,   34.099,2,   34.100,2,  133.500,2,  132.500,2,   35.840,2,   25.850,2,    1.850,2, -999.000
           NA,HOT timeseries 1988to2019 27SEP2021,    193,  99,-999.0,    8014,-999.0,20071201,2235,  22.7500, -158.0000,  4746,  461.300,    7.492,   34.095,2,   34.095,2,  109.500,2,  110.700,2,   43.680,2,   29.160,2,    2.110,2, -999.000
           NA,HOT timeseries 1988to2019 27SEP2021,    193,  99,-999.0,    8025,-999.0,20071201,2235,  22.7500, -158.0000,  4746,  492.300,    6.809,   34.108,2,   34.109,2,   88.500,2,   86.600,2,   53.830,2,   32.360,2,    2.350,2, -999.000
           NA,HOT timeseries 1988to2019 27SEP2021,    193,  99,-999.0,    8012,-999.0,20071201,2235,  22.7500, -158.0000,  4746,  537.200,    6.291,   34.143,2,   34.145,2,   67.900,2,   65.100,2,   62.560,2,   35.450,2,    2.580,2, -999.000
           NA,HOT timeseries 1988to2019 27SEP2021,    193,  99,-999.0,    8011,-999.0,20071201,2235,  22.7500, -158.0000,  4746,  584.300,    5.795,   34.196,2,   34.194,2,   49.400,2,   50.400,2,   72.460,2,   37.810,2,    2.740,2, -999.000
           NA,HOT timeseries 1988to2019 27SEP2021,    193,  99,-999.0,    8010,-999.0,20071201,2235,  22.7500, -158.0000,  4746,  629.700,    5.502,   34.225,2,   34.225,2,   39.900,2,   38.600,2,   78.090,2,   39.210,2,    2.850,2, -999.000
           NA,HOT timeseries 1988to2019 27SEP2021,    193,  99,-999.0,    8009,-999.0,20071201,2235,  22.7500, -158.0000,  4746,  676.400,    5.244,   34.267,2,   34.267,2,   34.300,2,   34.000,2,   83.630,2,   40.190,2,    2.890,2, -999.000
           NA,HOT timeseries 1988to2019 27SEP2021,    193,  99,-999.0,    8008,-999.0,20071201,2235,  22.7500, -158.0000,  4746,  714.800,    5.012,   34.306,2,   34.306,2,   29.100,2,   29.900,2,   88.140,2,   40.870,2,    2.970,2, -999.000
           NA,HOT timeseries 1988to2019 27SEP2021,    193,  99,-999.0,    8026,-999.0,20071201,2235,  22.7500, -158.0000,  4746,  752.600,    4.793,   34.330,2,   34.331,2,   27.900,2,   27.000,2,   93.960,2,   41.550,2,    3.010,2, -999.000
           NA,HOT timeseries 1988to2019 27SEP2021,    193,  99,-999.0,    8006,-999.0,20071201,2235,  22.7500, -158.0000,  4746,  820.400,    4.432,   34.399,2,   34.398,2,   33.500,2,   33.400,2,  100.640,2,   41.690,2,    3.010,2, -999.000
           NA,HOT timeseries 1988to2019 27SEP2021,    193,  99,-999.0,    8005,-999.0,20071201,2235,  22.7500, -158.0000,  4746,  861.200,    4.343,   34.409,2,   34.407,2,   34.000,2,   35.000,2,  102.650,2,   41.900,2,    3.010,2, -999.000
           NA,HOT timeseries 1988to2019 27SEP2021,    193,  99,-999.0,    8004,-999.0,20071201,2235,  22.7500, -158.0000,  4746,  900.600,    4.253,   34.437,2,   34.436,2,   37.000,2,   36.400,2,  104.600,2,   41.910,2,    3.010,2, -999.000
           NA,HOT timeseries 1988to2019 27SEP2021,    193,  99,-999.0,    8003,-999.0,20071201,2235,  22.7500, -158.0000,  4746,  944.000,    4.139,   34.461,2,   34.461,2,   39.100,2,   40.000,2,  107.060,2,   41.970,2,    3.000,2, -999.000
           NA,HOT timeseries 1988to2019 27SEP2021,    193,  99,-999.0,    8002,-999.0,20071201,2235,  22.7500, -158.0000,  4746,  985.000,    4.021,   34.477,2,   34.477,2,   40.200,2,   40.300,2,  109.190,2,   42.040,2,    3.010,2, -999.000
           NA,HOT timeseries 1988to2019 27SEP2021,    193,  99,-999.0,    8001,-999.0,20071201,2235,  22.7500, -158.0000,  4746, 1020.700,    3.921,   34.491,2,   34.489,2,   42.000,2,   42.700,2,  111.010,2,   41.920,2,    3.000,2, -999.000
           NA,HOT timeseries 1988to2019 27SEP2021,    193,  99,-999.0,    8019,-999.0,20071201,2235,  22.7500, -158.0000,  4746, 1202.200,    3.551,   34.528,2,   34.528,2,   49.800,2,   49.500,2,  118.890,2,   42.050,2,    3.000,2, -999.000
           NA,HOT timeseries 1988to2019 27SEP2021,    193,  99,-999.0,    8018,-999.0,20071201,2235,  22.7500, -158.0000,  4746, 1401.700,    3.072,   34.556,2,   34.555,2,   58.900,2,   59.200,2,  128.580,2, -999.000,3,    2.960,2, -999.000
           NA,HOT timeseries 1988to2019 27SEP2021,    193,  99,-999.0,    8017,-999.0,20071201,2235,  22.7500, -158.0000,  4746, 1599.300,    2.668,   34.587,2,   34.587,2,   70.500,2,   70.500,2,  137.910,2, -999.000,3,    2.910,2, -999.000
           NA,HOT timeseries 1988to2019 27SEP2021,    193,  99,-999.0,    8016,-999.0,20071201,2235,  22.7500, -158.0000,  4746, 1799.400,    2.396,   34.605,2,   34.604,2,   79.200,2,   79.400,2,  143.610,2,   40.760,2,    2.870,2, -999.000
           NA,HOT timeseries 1988to2019 27SEP2021,    193,  99,-999.0,    8015,-999.0,20071201,2235,  22.7500, -158.0000,  4746, 2001.400,    2.180,   34.620,2,   34.620,2,   87.200,2,   87.500,2,  148.360,2,   40.150,2,    2.820,2, -999.000
           NA,HOT timeseries 1988to2019 27SEP2021,    193,  99,-999.0,    8014,-999.0,20071201,2235,  22.7500, -158.0000,  4746, 2198.800,    1.978,   34.635,2,   34.634,2,   96.300,2,   96.600,2,  152.290,2,   39.810,2,    2.770,2, -999.000
           NA,HOT timeseries 1988to2019 27SEP2021,    193,  99,-999.0,    8025,-999.0,20071201,2235,  22.7500, -158.0000,  4746, 2402.500,    1.850,   34.645,2,   34.644,2,  103.100,2,  103.000,2,  154.610,2,   39.420,2,    2.730,2, -999.000
           NA,HOT timeseries 1988to2019 27SEP2021,    193,  99,-999.0,    8012,-999.0,20071201,2235,  22.7500, -158.0000,  4746, 2600.700,    1.755,   34.652,2,   34.652,2,  108.500,2,  108.800,2,  156.990,2,   39.120,2,    2.710,2, -999.000
           NA,HOT timeseries 1988to2019 27SEP2021,    193,  99,-999.0,    8011,-999.0,20071201,2235,  22.7500, -158.0000,  4746, 2799.900,    1.665,   34.660,2,   34.659,2,  115.200,2,  115.700,2,  157.710,2,   38.760,2,    2.670,2, -999.000
           NA,HOT timeseries 1988to2019 27SEP2021,    193,  99,-999.0,    8010,-999.0,20071201,2235,  22.7500, -158.0000,  4746, 2997.700,    1.602,   34.667,2,   34.666,2,  122.200,2,  122.300,2,  156.910,2,   38.300,2,    2.640,2, -999.000
           NA,HOT timeseries 1988to2019 27SEP2021,    193,  99,-999.0,    8009,-999.0,20071201,2235,  22.7500, -158.0000,  4746, 3200.000,    1.542,   34.673,2,   34.672,2,  128.400,2,  127.500,2,  157.380,2,   38.000,2,    2.610,2, -999.000
           NA,HOT timeseries 1988to2019 27SEP2021,    193,  99,-999.0,    8008,-999.0,20071201,2235,  22.7500, -158.0000,  4746, 3399.100,    1.502,   34.678,2,   34.678,2,  134.500,2,  134.600,2,  155.550,2,   37.480,2,    2.570,2, -999.000
           NA,HOT timeseries 1988to2019 27SEP2021,    193,  99,-999.0,    8026,-999.0,20071201,2235,  22.7500, -158.0000,  4746, 3599.800,    1.479,   34.682,2,   34.682,2,  139.500,2,  139.300,2,  154.430,2,   37.230,2,    2.550,2, -999.000
           NA,HOT timeseries 1988to2019 27SEP2021,    193,  99,-999.0,    8006,-999.0,20071201,2235,  22.7500, -158.0000,  4746, 3997.800,    1.464,   34.687,2,   34.687,2,  147.300,2,  147.100,2,  151.860,2,   36.420,2,    2.510,2, -999.000
           NA,HOT timeseries 1988to2019 27SEP2021,    193,  99,-999.0,    8005,-999.0,20071201,2235,  22.7500, -158.0000,  4746, 4197.400,    1.470,   34.688,2,   34.688,2,  149.300,2,  149.100,2,  150.330,2,   36.260,2,    2.490,2, -999.000
           NA,HOT timeseries 1988to2019 27SEP2021,    193,  99,-999.0,    8004,-999.0,20071201,2235,  22.7500, -158.0000,  4746, 4399.900,    1.479,   34.690,2,   34.689,2,  151.900,2,  151.300,2,  149.270,2, -999.000,3,    2.490,2, -999.000
           NA,HOT timeseries 1988to2019 27SEP2021,    193,  99,-999.0,    8003,-999.0,20071201,2235,  22.7500, -158.0000,  4746, 4498.600,    1.484,   34.690,2,   34.690,2,  152.700,2,  152.700,2,  148.180,2,   36.130,2,    2.470,2, -999.000
           NA,HOT timeseries 1988to2019 27SEP2021,    193,  99,-999.0,    8002,-999.0,20071201,2235,  22.7500, -158.0000,  4746, 4599.000,    1.489,   34.690,2,   34.691,2,  153.500,2,  154.000,2,  147.780,2,   35.890,2,    2.460,2, -999.000
           NA,HOT timeseries 1988to2019 27SEP2021,    193,  99,-999.0,    8001,-999.0,20071201,2235,  22.7500, -158.0000,  4746, 4804.700,    1.501,   34.691,2,   34.692,2,  155.200,2,  155.500,2,  146.630,2,   35.760,2,    2.450,2, -999.000