BOTTLE,20214727JOAExport
EXPOCODE,SECT_ID,STNNBR,CASTNO,SAMPNO,BTLNBR,BTLNBR_FLAG_W,DATE,TIME,LATITUDE,LONGITUDE,DEPTH,CTDPRS,CTDTMP,CTDSAL,CTDSAL_FLAG_W,SALNTY,SALNTY_FLAG_W,CTDOXY,CTDOXY_FLAG_W,OXYGEN,OXYGEN_FLAG_W,SILCAT,SILCAT_FLAG_W,NINI,NINI_FLAG_W,PHSPHT,PHSPHT_FLAG_W,REVP
,,,,,,,,,,,,DB,IPTS-68,PSS-78,,PSS-78,,UMOL/KG,,UMOL/KG,,UMOL/KG,,UMOL/KG,,UMOL/KG,,DBAR
           NA,HOT timeseries 1988to2019 27SEP2021,     53,  99,-999.0,      31,-999.0,19940922,1850,  22.7507, -157.9992,  4724,    4.900,   26.486,   34.842,2,   34.847,2,  193.000,2,  204.300,2,    1.030,2,    0.000,2, -999.000,3, -999.000
           NA,HOT timeseries 1988to2019 27SEP2021,     53,  99,-999.0,      31,-999.0,19940922,1850,  22.7507, -157.9992,  4724,   10.100,   26.525,   34.841,2,   34.844,2,  200.400,2,  202.200,2,    0.780,2,    0.010,2, -999.000,3, -999.000
           NA,HOT timeseries 1988to2019 27SEP2021,     53,  99,-999.0,      30,-999.0,19940922,1850,  22.7507, -157.9992,  4724,   39.100,   26.417,   34.838,2,   34.841,2,  200.500,2,  202.400,2,    0.730,2,    0.010,2, -999.000,3, -999.000
           NA,HOT timeseries 1988to2019 27SEP2021,     53,  99,-999.0,      22,-999.0,19940922,1850,  22.7507, -157.9992,  4724,   64.600,   24.750,   34.930,2,   34.924,2,  207.400,2,  215.800,2,    1.110,2,    0.000,2, -999.000,3, -999.000
           NA,HOT timeseries 1988to2019 27SEP2021,     53,  99,-999.0,      21,-999.0,19940922,1850,  22.7507, -157.9992,  4724,   96.900,   22.748,   35.043,2,   35.049,2,  220.200,2,  215.900,2,    1.200,2,    0.000,2, -999.000,3, -999.000
           NA,HOT timeseries 1988to2019 27SEP2021,     53,  99,-999.0,      20,-999.0,19940922,1850,  22.7507, -157.9992,  4724,  118.100,   21.952,   35.169,2,   35.173,2,  211.300,2,  209.000,2,    1.180,2,    0.210,2, -999.000,3, -999.000
           NA,HOT timeseries 1988to2019 27SEP2021,     53,  99,-999.0,      19,-999.0,19940922,1850,  22.7507, -157.9992,  4724,  134.100,   21.213,   35.202,2,   35.202,2,  204.800,2,  203.600,2,    1.230,2,    0.440,2, -999.000,3, -999.000
           NA,HOT timeseries 1988to2019 27SEP2021,     53,  99,-999.0,      18,-999.0,19940922,1850,  22.7507, -157.9992,  4724,  148.700,   20.715,   35.201,2,   35.201,2,  200.300,2,  201.300,2,    1.290,2,    0.760,2, -999.000,3, -999.000
           NA,HOT timeseries 1988to2019 27SEP2021,     53,  99,-999.0,      17,-999.0,19940922,1850,  22.7507, -157.9992,  4724,  181.500,   19.828,   35.151,2,   35.152,2,  199.000,2,  196.000,2,    1.650,2,    1.510,2, -999.000,3, -999.000
           NA,HOT timeseries 1988to2019 27SEP2021,     53,  99,-999.0,      16,-999.0,19940922,1850,  22.7507, -157.9992,  4724,  200.000,   19.282,   35.090,2,   35.094,2,  197.200,2,  194.900,2,    2.110,2,    1.970,2, -999.000,3, -999.000
           NA,HOT timeseries 1988to2019 27SEP2021,     53,  99,-999.0,      15,-999.0,19940922,1850,  22.7507, -157.9992,  4724,  251.900,   16.538,   34.710,2,   34.706,2,  189.200,2,  189.200,2,    4.220,2,    4.950,2, -999.000,3, -999.000
           NA,HOT timeseries 1988to2019 27SEP2021,     53,  99,-999.0,      14,-999.0,19940922,1850,  22.7507, -157.9992,  4724,  289.100,   14.233,   34.427,2,   34.426,2,  192.600,2,  187.700,2,    7.110,2,    8.150,2, -999.000,3, -999.000
           NA,HOT timeseries 1988to2019 27SEP2021,     53,  99,-999.0,      13,-999.0,19940922,1850,  22.7507, -157.9992,  4724,  328.500,   12.000,   34.194,2,   34.196,2,  176.700,2,  178.200,2,   11.910,2,   12.920,2, -999.000,3, -999.000
           NA,HOT timeseries 1988to2019 27SEP2021,     53,  99,-999.0,      12,-999.0,19940922,1850,  22.7507, -157.9992,  4724,  342.000,   11.336,   34.156,2,   34.160,2,  172.300,2,  175.700,2,   13.970,2,   14.640,2, -999.000,3, -999.000
           NA,HOT timeseries 1988to2019 27SEP2021,     53,  99,-999.0,      11,-999.0,19940922,1850,  22.7507, -157.9992,  4724,  369.100,   10.398,   34.132,2,   34.131,2,  189.000,2,  186.100,2,   17.360,2,   16.110,2, -999.000,3, -999.000
           NA,HOT timeseries 1988to2019 27SEP2021,     53,  99,-999.0,      32,-999.0,19940922,1850,  22.7507, -157.9992,  4724,  425.900,    9.257,   34.116,2,   34.115,2,  186.200,2,  187.700,2,   23.670,2,   18.770,2, -999.000,3, -999.000
           NA,HOT timeseries 1988to2019 27SEP2021,     53,  99,-999.0,       3,-999.0,19940922,1850,  22.7507, -157.9992,  4724,  500.700,    7.188,   34.051,2,   34.049,2,  130.900,2,  124.700,2,   45.550,2,   28.500,2, -999.000,3, -999.000
           NA,HOT timeseries 1988to2019 27SEP2021,     53,  99,-999.0,      30,-999.0,19940922,1850,  22.7507, -157.9992,  4724,  501.100,    7.356,   34.052,2,   34.051,2,  132.300,2,  132.800,2,   42.600,2,   27.200,2, -999.000,3, -999.000
           NA,HOT timeseries 1988to2019 27SEP2021,     53,  99,-999.0,      29,-999.0,19940922,1850,  22.7507, -157.9992,  4724,  530.800,    6.438,   34.062,2,   34.061,2,   90.600,2,   90.000,2,   57.680,2,   33.070,2, -999.000,4, -999.000
           NA,HOT timeseries 1988to2019 27SEP2021,     53,  99,-999.0,      28,-999.0,19940922,1850,  22.7507, -157.9992,  4724,  577.200,    5.933,   34.100,2,   34.100,2,   63.000,2,   62.000,2,   67.720,2,   36.550,2, -999.000,3, -999.000
           NA,HOT timeseries 1988to2019 27SEP2021,     53,  99,-999.0,       7,-999.0,19940922,1850,  22.7507, -157.9992,  4724,  620.300,    5.659,   34.169,2,   34.170,2,   39.200,2,   38.400,2,   75.780,2,   38.770,2, -999.000,3, -999.000
           NA,HOT timeseries 1988to2019 27SEP2021,     53,  99,-999.0,      23,-999.0,19940922,1850,  22.7507, -157.9992,  4724,  671.800,    5.385,   34.234,2,   34.228,2,   28.500,2,   29.400,2,   81.760,2,   40.040,2, -999.000,3, -999.000
           NA,HOT timeseries 1988to2019 27SEP2021,     53,  99,-999.0,      36,-999.0,19940922,1850,  22.7507, -157.9992,  4724,  743.800,    5.181,   34.372,2,   34.367,2,   20.800,2,   20.900,2,   88.560,2,   41.390,2, -999.000,3, -999.000
           NA,HOT timeseries 1988to2019 27SEP2021,     53,  99,-999.0,      35,-999.0,19940922,1850,  22.7507, -157.9992,  4724,  842.300,    4.743,   34.442,2,   34.443,2,   27.100,2,   27.200,2,   96.860,2,   42.590,2, -999.000,3, -999.000
           NA,HOT timeseries 1988to2019 27SEP2021,     53,  99,-999.0,      34,-999.0,19940922,1850,  22.7507, -157.9992,  4724,  949.600,    4.305,   34.480,2,   34.481,2,   37.100,2,   37.100,2,  104.590,2,   42.160,2, -999.000,3, -999.000
           NA,HOT timeseries 1988to2019 27SEP2021,     53,  99,-999.0,      33,-999.0,19940922,1850,  22.7507, -157.9992,  4724, 1025.400,    4.074,   34.493,2,   34.496,2,   41.100,2,   40.900,2,  109.040,2,   42.240,2, -999.000,3, -999.000
           NA,HOT timeseries 1988to2019 27SEP2021,     53,  99,-999.0,      21,-999.0,19940922,1850,  22.7507, -157.9992,  4724, 1200.100,    3.681,   34.525,2,   34.525,2,   47.400,2,   47.800,2,  116.780,2,   42.010,2, -999.000,3, -999.000
           NA,HOT timeseries 1988to2019 27SEP2021,     53,  99,-999.0,      20,-999.0,19940922,1850,  22.7507, -157.9992,  4724, 1405.000,    3.165,   34.558,2,   34.557,2,   57.600,2,   57.900,2,  128.280,2,   41.630,2, -999.000,3, -999.000
           NA,HOT timeseries 1988to2019 27SEP2021,     53,  99,-999.0,      19,-999.0,19940922,1850,  22.7507, -157.9992,  4724, 1600.100,    2.801,   34.578,2,   34.576,2,   66.400,2,   66.900,2,  136.090,2,   41.200,2, -999.000,3, -999.000
           NA,HOT timeseries 1988to2019 27SEP2021,     53,  99,-999.0,      18,-999.0,19940922,1850,  22.7507, -157.9992,  4724, 1805.400,    2.457,   34.599,2,   34.599,2,   76.500,2,   76.800,2,  143.890,2,   40.610,2, -999.000,3, -999.000
           NA,HOT timeseries 1988to2019 27SEP2021,     53,  99,-999.0,      17,-999.0,19940922,1850,  22.7507, -157.9992,  4724, 2002.800,    2.196,   34.617,2,   34.615,2,   86.800,2,   86.100,2,  149.370,2,   40.110,2, -999.000,3, -999.000
           NA,HOT timeseries 1988to2019 27SEP2021,     53,  99,-999.0,      16,-999.0,19940922,1850,  22.7507, -157.9992,  4724, 2204.300,    1.974,   34.627,2,   34.628,2,   94.000,2,   92.900,2,  155.480,2,   39.660,2, -999.000,3, -999.000
           NA,HOT timeseries 1988to2019 27SEP2021,     53,  99,-999.0,      15,-999.0,19940922,1850,  22.7507, -157.9992,  4724, 2406.200,    1.802,   34.641,2,   34.640,2,  102.000,2,  101.600,2,  159.830,2,   39.110,2, -999.000,3, -999.000
           NA,HOT timeseries 1988to2019 27SEP2021,     53,  99,-999.0,      14,-999.0,19940922,1850,  22.7507, -157.9992,  4724, 2600.900,    1.709,   34.653,2,   34.653,2,  111.500,2,  112.300,2,  157.960,2,   38.420,2, -999.000,3, -999.000
           NA,HOT timeseries 1988to2019 27SEP2021,     53,  99,-999.0,      13,-999.0,19940922,1850,  22.7507, -157.9992,  4724, 2807.300,    1.628,   34.660,2,   34.660,2,  116.600,2,  118.400,2,  158.800,2,   37.990,2, -999.000,3, -999.000
           NA,HOT timeseries 1988to2019 27SEP2021,     53,  99,-999.0,      12,-999.0,19940922,1850,  22.7507, -157.9992,  4724, 3002.600,    1.578,   34.665,2,   34.662,2,  123.700,2,  121.000,2,  159.570,2,   37.840,2, -999.000,3, -999.000
           NA,HOT timeseries 1988to2019 27SEP2021,     53,  99,-999.0,      11,-999.0,19940922,1850,  22.7507, -157.9992,  4724, 3206.000,    1.532,   34.671,2,   34.671,2,  129.700,2,  129.100,2,  158.040,2,   37.270,2, -999.000,3, -999.000
           NA,HOT timeseries 1988to2019 27SEP2021,     53,  99,-999.0,      32,-999.0,19940922,1850,  22.7507, -157.9992,  4724, 3401.000,    1.493,   34.676,2,   34.675,2,  135.500,2,  134.900,2,  157.310,2,   36.910,2, -999.000,3, -999.000
           NA,HOT timeseries 1988to2019 27SEP2021,     53,  99,-999.0,       3,-999.0,19940922,1850,  22.7507, -157.9992,  4724, 3599.900,    1.473,   34.679,2,   34.679,2,  140.000,2,  139.500,2,  156.770,2,   36.520,2, -999.000,3, -999.000
           NA,HOT timeseries 1988to2019 27SEP2021,     53,  99,-999.0,      29,-999.0,19940922,1850,  22.7507, -157.9992,  4724, 3800.600,    1.459,   34.682,2,   34.682,2,  144.900,2,  144.300,2,  154.020,2,   36.180,2, -999.000,3, -999.000
           NA,HOT timeseries 1988to2019 27SEP2021,     53,  99,-999.0,      28,-999.0,19940922,1850,  22.7507, -157.9992,  4724, 4001.200,    1.459,   34.684,2,   34.683,2,  147.000,2,  147.000,2,  152.480,2,   35.900,2, -999.000,3, -999.000
           NA,HOT timeseries 1988to2019 27SEP2021,     53,  99,-999.0,       7,-999.0,19940922,1850,  22.7507, -157.9992,  4724, 4202.300,    1.467,   34.685,2,   34.685,2,  148.900,2,  149.100,2,  151.740,2,   35.730,2, -999.000,3, -999.000
           NA,HOT timeseries 1988to2019 27SEP2021,     53,  99,-999.0,      23,-999.0,19940922,1850,  22.7507, -157.9992,  4724, 4293.500,    1.470,   34.686,2,   34.686,2,  149.800,2,  150.100,2,  152.500,2,   35.730,2, -999.000,3, -999.000
           NA,HOT timeseries 1988to2019 27SEP2021,     53,  99,-999.0,      36,-999.0,19940922,1850,  22.7507, -157.9992,  4724, 4393.800,    1.476,   34.687,2,   34.685,2,  150.800,2,  151.500,2,  150.610,2,   35.720,2, -999.000,3, -999.000
           NA,HOT timeseries 1988to2019 27SEP2021,     53,  99,-999.0,      35,-999.0,19940922,1850,  22.7507, -157.9992,  4724, 4509.900,    1.483,   34.687,2,   34.687,2,  152.100,2,  152.200,2,  150.080,2,   35.460,2, -999.000,3, -999.000
           NA,HOT timeseries 1988to2019 27SEP2021,     53,  99,-999.0,      33,-999.0,19940922,1850,  22.7507, -157.9992,  4724, 4803.500,    1.506,   34.688,2,   34.688,2,  153.700,2,  154.300,2,  148.370,2,   35.250,2, -999.000,3, -999.000