BOTTLE,20214727JOAExport
EXPOCODE,SECT_ID,STNNBR,CASTNO,SAMPNO,BTLNBR,BTLNBR_FLAG_W,DATE,TIME,LATITUDE,LONGITUDE,DEPTH,CTDPRS,CTDTMP,CTDSAL,CTDSAL_FLAG_W,SALNTY,SALNTY_FLAG_W,CTDOXY,CTDOXY_FLAG_W,OXYGEN,OXYGEN_FLAG_W,SILCAT,SILCAT_FLAG_W,NINI,NINI_FLAG_W,PHSPHT,PHSPHT_FLAG_W,REVP
,,,,,,,,,,,,DB,IPTS-68,PSS-78,,PSS-78,,UMOL/KG,,UMOL/KG,,UMOL/KG,,UMOL/KG,,UMOL/KG,,DBAR
           NA,HOT timeseries 1988to2019 27SEP2021,     71,  99,-999.0,      31,-999.0,19960820,1438,  22.7493, -157.9990,  4724,    4.700,   26.838,   34.722,2,   34.725,2,  205.000,2,  202.900,2,    2.580,2,    0.000,2,    0.100,2, -999.000
           NA,HOT timeseries 1988to2019 27SEP2021,     71,  99,-999.0,      31,-999.0,19960820,1438,  22.7493, -157.9990,  4724,    4.700,   26.896,   34.720,2,   34.722,2,  203.900,2,  203.300,2,    1.600,2,    0.000,2,    0.090,2, -999.000
           NA,HOT timeseries 1988to2019 27SEP2021,     71,  99,-999.0,      30,-999.0,19960820,1438,  22.7493, -157.9990,  4724,   51.100,   25.772,   34.786,2,   34.785,2,  209.000,2,  214.400,2,    1.630,2,    0.010,2,    0.070,2, -999.000
           NA,HOT timeseries 1988to2019 27SEP2021,     71,  99,-999.0,      22,-999.0,19960820,1438,  22.7493, -157.9990,  4724,   64.100,   24.493,   34.922,2,   34.920,2,  221.200,2,  222.600,2,    1.670,2,   -0.020,2,    0.060,2, -999.000
           NA,HOT timeseries 1988to2019 27SEP2021,     71,  99,-999.0,      21,-999.0,19960820,1438,  22.7493, -157.9990,  4724,   76.100,   23.502,   35.019,2,   35.016,2,  218.700,2,  221.000,2,    1.650,2,    0.000,2,    0.060,2, -999.000
           NA,HOT timeseries 1988to2019 27SEP2021,     71,  99,-999.0,      20,-999.0,19960820,1438,  22.7493, -157.9990,  4724,   84.100,   23.064,   35.050,2,   35.051,2,  218.000,2,  219.300,2,    1.670,2,    0.000,2,    0.070,2, -999.000
           NA,HOT timeseries 1988to2019 27SEP2021,     71,  99,-999.0,      19,-999.0,19960820,1438,  22.7493, -157.9990,  4724,  128.400,   21.086,   35.111,2,   35.112,2,  203.400,2,  205.600,2,    2.600,2,    0.450,2,    0.110,2, -999.000
           NA,HOT timeseries 1988to2019 27SEP2021,     71,  99,-999.0,      18,-999.0,19960820,1438,  22.7493, -157.9990,  4724,  147.800,   20.702,   35.113,2,   35.112,2,  204.400,2,  203.000,2,    2.680,2,    0.800,2,    0.130,2, -999.000
           NA,HOT timeseries 1988to2019 27SEP2021,     71,  99,-999.0,      30,-999.0,19960820,1438,  22.7493, -157.9990,  4724,  149.600,   20.444,   35.110,2,   35.108,2,  204.000,2,  202.100,2,    2.330,2,    0.960,2,    0.160,2, -999.000
           NA,HOT timeseries 1988to2019 27SEP2021,     71,  99,-999.0,      17,-999.0,19960820,1438,  22.7493, -157.9990,  4724,  190.200,   19.336,   35.047,2,   35.047,2,  201.300,2,  200.400,2,    2.710,2,    1.740,2,    0.190,2, -999.000
           NA,HOT timeseries 1988to2019 27SEP2021,     71,  99,-999.0,      16,-999.0,19960820,1438,  22.7493, -157.9990,  4724,  272.100,   15.896,   34.665,2,   34.671,2,  199.400,2,  200.800,2,    5.430,2,    5.050,2,    0.390,2, -999.000
           NA,HOT timeseries 1988to2019 27SEP2021,     71,  99,-999.0,      15,-999.0,19960820,1438,  22.7493, -157.9990,  4724,  355.800,   11.979,   34.290,2,   34.289,2,  199.100,2,  199.600,2,   12.340,2,   11.920,2,    0.840,2, -999.000
           NA,HOT timeseries 1988to2019 27SEP2021,     71,  99,-999.0,      14,-999.0,19960820,1438,  22.7493, -157.9990,  4724,  406.200,   10.419,   34.179,2,   34.183,2,  198.200,2,  196.100,2,   17.320,2,   15.330,2,    1.070,2, -999.000
           NA,HOT timeseries 1988to2019 27SEP2021,     71,  99,-999.0,      13,-999.0,19960820,1438,  22.7493, -157.9990,  4724,  454.600,    8.875,   34.103,2,   34.104,2,  170.200,2,  164.300,2,   27.520,2,   21.430,2,    1.510,2, -999.000
           NA,HOT timeseries 1988to2019 27SEP2021,     71,  99,-999.0,      12,-999.0,19960820,1438,  22.7493, -157.9990,  4724,  481.100,    8.290,   34.111,2,   34.110,2,  140.400,2,  135.200,2,   34.470,2,   25.110,2,    1.790,2, -999.000
           NA,HOT timeseries 1988to2019 27SEP2021,     71,  99,-999.0,      11,-999.0,19960820,1438,  22.7493, -157.9990,  4724,  518.500,    7.567,   34.113,2,   34.111,2,  108.800,2,  105.300,2,   43.140,2,   28.990,2,    2.120,2, -999.000
           NA,HOT timeseries 1988to2019 27SEP2021,     71,  99,-999.0,      32,-999.0,19960820,1438,  22.7493, -157.9990,  4724,  539.200,    7.017,   34.135,2,   34.133,2,   81.300,2,   82.900,2,   51.370,2,   32.030,2,    2.330,2, -999.000
           NA,HOT timeseries 1988to2019 27SEP2021,     71,  99,-999.0,       3,-999.0,19960820,1438,  22.7493, -157.9990,  4724,  573.900,    6.918,   34.246,2,   34.238,2,   51.400,2,   48.800,2,   57.030,2,   34.860,2,    2.600,2, -999.000
           NA,HOT timeseries 1988to2019 27SEP2021,     71,  99,-999.0,      29,-999.0,19960820,1438,  22.7493, -157.9990,  4724,  637.200,    6.447,   34.301,2,   34.301,2,   34.400,2,   30.500,2,   65.420,2,   37.540,2,    2.780,2, -999.000
           NA,HOT timeseries 1988to2019 27SEP2021,     71,  99,-999.0,      28,-999.0,19960820,1438,  22.7493, -157.9990,  4724,  706.600,    5.658,   34.318,2,   34.317,2,   26.500,2,   27.000,2,   77.060,2,   39.690,2,    2.900,2, -999.000
           NA,HOT timeseries 1988to2019 27SEP2021,     71,  99,-999.0,       7,-999.0,19960820,1438,  22.7493, -157.9990,  4724,  749.800,    5.306,   34.327,2,   34.326,2,   28.100,2,   25.800,2,   83.180,2,   40.500,2,    2.960,2, -999.000
           NA,HOT timeseries 1988to2019 27SEP2021,     71,  99,-999.0,      38,-999.0,19960820,1438,  22.7493, -157.9990,  4724,  798.400,    5.123,   34.372,2,   34.370,2,   27.500,2,   26.400,2,   86.830,2,   41.010,2,    3.000,2, -999.000
           NA,HOT timeseries 1988to2019 27SEP2021,     71,  99,-999.0,      36,-999.0,19960820,1438,  22.7493, -157.9990,  4724,  849.100,    4.941,   34.412,2,   34.412,2,   29.500,2,   29.000,2,   90.250,2,   41.400,2,    3.010,2, -999.000
           NA,HOT timeseries 1988to2019 27SEP2021,     71,  99,-999.0,      35,-999.0,19960820,1438,  22.7493, -157.9990,  4724,  909.400,    4.676,   34.437,2,   34.437,2,   33.600,2,   32.300,2,   95.050,2,   41.650,2,    3.010,2, -999.000
           NA,HOT timeseries 1988to2019 27SEP2021,     71,  99,-999.0,      34,-999.0,19960820,1438,  22.7493, -157.9990,  4724,  960.000,    4.533,   34.452,2,   34.452,2,   35.800,2,   35.300,2,   97.740,2,   41.720,2,    3.010,2, -999.000
           NA,HOT timeseries 1988to2019 27SEP2021,     71,  99,-999.0,      20,-999.0,19960820,1438,  22.7493, -157.9990,  4724,  999.100,    4.310,   34.473,2,   34.470,2,   39.100,2,   39.200,2,  101.080,2,   41.430,2, -999.000,3, -999.000
           NA,HOT timeseries 1988to2019 27SEP2021,     71,  99,-999.0,      33,-999.0,19960820,1438,  22.7493, -157.9990,  4724, 1022.000,    4.350,   34.472,2,   34.473,2,   38.700,2,   38.200,2,  101.070,2,   41.750,2,    3.010,2, -999.000
           NA,HOT timeseries 1988to2019 27SEP2021,     71,  99,-999.0,      19,-999.0,19960820,1438,  22.7493, -157.9990,  4724, 1399.200,    3.161,   34.556,2,   34.556,2,   58.900,2,   58.600,2,  125.800,2,   41.330,2,    2.950,2, -999.000
           NA,HOT timeseries 1988to2019 27SEP2021,     71,  99,-999.0,      18,-999.0,19960820,1438,  22.7493, -157.9990,  4724, 1599.400,    2.815,   34.577,2,   34.576,2,   65.000,2,   64.400,2,  134.930,2,   41.200,2,    2.920,2, -999.000
           NA,HOT timeseries 1988to2019 27SEP2021,     71,  99,-999.0,      17,-999.0,19960820,1438,  22.7493, -157.9990,  4724, 1800.500,    2.493,   34.596,2,   34.595,2,   74.900,2,   74.000,2,  140.770,2,   40.710,2,    2.870,2, -999.000
           NA,HOT timeseries 1988to2019 27SEP2021,     71,  99,-999.0,      16,-999.0,19960820,1438,  22.7493, -157.9990,  4724, 1999.600,    2.203,   34.613,2,   34.612,2,   82.300,2,   82.800,2,  148.210,2,   40.230,2,    2.830,2, -999.000
           NA,HOT timeseries 1988to2019 27SEP2021,     71,  99,-999.0,      15,-999.0,19960820,1438,  22.7493, -157.9990,  4724, 2200.900,    1.977,   34.629,2,   34.629,2,   91.400,2,   92.800,2,  152.490,2,   39.630,2,    2.780,2, -999.000
           NA,HOT timeseries 1988to2019 27SEP2021,     71,  99,-999.0,      14,-999.0,19960820,1438,  22.7493, -157.9990,  4724, 2399.800,    1.832,   34.640,2,   34.640,2,   96.700,2,   97.300,2,  156.610,2,   39.270,2,    2.760,2, -999.000
           NA,HOT timeseries 1988to2019 27SEP2021,     71,  99,-999.0,      13,-999.0,19960820,1438,  22.7493, -157.9990,  4724, 2600.800,    1.726,   34.650,2,   34.650,2,  103.900,2,  104.500,2,  158.220,2,   38.820,2,    2.730,2, -999.000
           NA,HOT timeseries 1988to2019 27SEP2021,     71,  99,-999.0,      12,-999.0,19960820,1438,  22.7493, -157.9990,  4724, 2801.400,    1.614,   34.660,2,   34.660,2,  113.500,2,  114.000,2,  162.390,2,   38.330,2,    2.690,2, -999.000
           NA,HOT timeseries 1988to2019 27SEP2021,     71,  99,-999.0,      11,-999.0,19960820,1438,  22.7493, -157.9990,  4724, 3000.300,    1.546,   34.668,2,   34.668,2,  121.600,2,  122.900,2,  157.380,2,   37.740,2,    2.630,2, -999.000
           NA,HOT timeseries 1988to2019 27SEP2021,     71,  99,-999.0,      32,-999.0,19960820,1438,  22.7493, -157.9990,  4724, 3200.200,    1.510,   34.673,2,   34.672,2,  128.600,2,  129.600,2,  155.320,2,   37.350,2,    2.600,2, -999.000
           NA,HOT timeseries 1988to2019 27SEP2021,     71,  99,-999.0,       3,-999.0,19960820,1438,  22.7493, -157.9990,  4724, 3400.800,    1.477,   34.678,2,   34.677,2,  135.300,2,  136.000,2,  153.780,2,   37.030,2,    2.580,2, -999.000
           NA,HOT timeseries 1988to2019 27SEP2021,     71,  99,-999.0,      29,-999.0,19960820,1438,  22.7493, -157.9990,  4724, 3599.800,    1.466,   34.681,2,   34.681,2,  139.200,2,  139.700,2,  152.910,2,   36.730,2,    2.540,2, -999.000
           NA,HOT timeseries 1988to2019 27SEP2021,     71,  99,-999.0,      28,-999.0,19960820,1438,  22.7493, -157.9990,  4724, 3800.200,    1.457,   34.684,2,   34.683,2,  143.600,2,  143.800,2, -999.000,3,   36.500,2,    2.520,2, -999.000
           NA,HOT timeseries 1988to2019 27SEP2021,     71,  99,-999.0,       7,-999.0,19960820,1438,  22.7493, -157.9990,  4724, 3998.500,    1.458,   34.686,2,   34.685,2,  147.100,2,  147.000,2,  150.060,2,   36.280,2,    2.500,2, -999.000
           NA,HOT timeseries 1988to2019 27SEP2021,     71,  99,-999.0,      38,-999.0,19960820,1438,  22.7493, -157.9990,  4724, 4199.600,    1.467,   34.687,2,   34.686,2,  148.900,2,  148.900,2,  148.040,2,   36.010,2,    2.490,2, -999.000
           NA,HOT timeseries 1988to2019 27SEP2021,     71,  99,-999.0,      36,-999.0,19960820,1438,  22.7493, -157.9990,  4724, 4400.400,    1.482,   34.687,2,   34.687,2,  151.400,2,  150.200,2,  147.270,2,   36.060,2,    2.490,2, -999.000
           NA,HOT timeseries 1988to2019 27SEP2021,     71,  99,-999.0,      35,-999.0,19960820,1438,  22.7493, -157.9990,  4724, 4499.700,    1.487,   34.688,2,   34.688,2,  152.000,2,  151.100,2,  147.400,2,   35.990,2,    2.480,2, -999.000
           NA,HOT timeseries 1988to2019 27SEP2021,     71,  99,-999.0,      34,-999.0,19960820,1438,  22.7493, -157.9990,  4724, 4599.300,    1.491,   34.689,2,   34.689,2,  152.800,2,  152.400,2,  147.440,2,   35.950,2,    2.480,2, -999.000
           NA,HOT timeseries 1988to2019 27SEP2021,     71,  99,-999.0,      33,-999.0,19960820,1438,  22.7493, -157.9990,  4724, 4810.900,    1.500,   34.690,2,   34.689,2,  155.800,2,  155.100,2,  145.700,2,   35.770,2,    2.460,2, -999.000