BOTTLE,20214727JOAExport
EXPOCODE,SECT_ID,STNNBR,CASTNO,SAMPNO,BTLNBR,BTLNBR_FLAG_W,DATE,TIME,LATITUDE,LONGITUDE,DEPTH,CTDPRS,CTDTMP,CTDSAL,CTDSAL_FLAG_W,SALNTY,SALNTY_FLAG_W,CTDOXY,CTDOXY_FLAG_W,OXYGEN,OXYGEN_FLAG_W,SILCAT,SILCAT_FLAG_W,NINI,NINI_FLAG_W,PHSPHT,PHSPHT_FLAG_W,REVP
,,,,,,,,,,,,DB,IPTS-68,PSS-78,,PSS-78,,UMOL/KG,,UMOL/KG,,UMOL/KG,,UMOL/KG,,UMOL/KG,,DBAR
           NA,HOT timeseries 1988to2019 27SEP2021,     26,  99,-999.0,      23,-999.0,19910809,2000,  22.7250, -157.9750,  4799,   10.200,   25.836,   34.948,2,   34.948,2,  243.700,2,  206.700,2,    0.550,2,    0.000,2,    0.040,2, -999.000
           NA,HOT timeseries 1988to2019 27SEP2021,     26,  99,-999.0,      22,-999.0,19910809,2000,  22.7250, -157.9750,  4799,   22.600,   25.827,   34.947,2,   34.955,2,  244.600,2,  208.000,2,    1.090,2,    0.000,2,    0.070,2, -999.000
           NA,HOT timeseries 1988to2019 27SEP2021,     26,  99,-999.0,      21,-999.0,19910809,2000,  22.7250, -157.9750,  4799,   46.500,   24.567,   35.060,2,   35.058,2,  249.300,2,  221.600,2,    0.910,2,    0.000,2,    0.030,2, -999.000
           NA,HOT timeseries 1988to2019 27SEP2021,     26,  99,-999.0,      20,-999.0,19910809,2000,  22.7250, -157.9750,  4799,   71.800,   23.136,   35.069,2,   35.069,2,  227.500,2,  224.300,2,    1.270,2,    0.020,2,    0.090,2, -999.000
           NA,HOT timeseries 1988to2019 27SEP2021,     26,  99,-999.0,      19,-999.0,19910809,2000,  22.7250, -157.9750,  4799,  142.200,   21.662,   35.224,2,   35.226,2,  202.400,2,  203.000,2,    1.270,2,    0.520,2,    0.100,2, -999.000
           NA,HOT timeseries 1988to2019 27SEP2021,     26,  99,-999.0,      18,-999.0,19910809,2000,  22.7250, -157.9750,  4799,  160.400,   21.161,   35.241,2,   35.242,2,  196.300,2,  201.500,2,    1.450,2,    0.680,2,    0.120,2, -999.000
           NA,HOT timeseries 1988to2019 27SEP2021,     26,  99,-999.0,      17,-999.0,19910809,2000,  22.7250, -157.9750,  4799,  181.900,   20.452,   35.214,2,   35.215,2,  195.800,2,  197.300,2,    1.630,2,    1.230,2,    0.160,2, -999.000
           NA,HOT timeseries 1988to2019 27SEP2021,     26,  99,-999.0,      16,-999.0,19910809,2000,  22.7250, -157.9750,  4799,  214.600,   19.061,   35.091,2, -999.000,4, -999.000,3,  193.200,2,    2.590,2,    2.470,2,    0.220,2, -999.000
           NA,HOT timeseries 1988to2019 27SEP2021,     26,  99,-999.0,      15,-999.0,19910809,2000,  22.7250, -157.9750,  4799,  256.600,   16.598,   34.774,2,   34.780,2,  191.700,2,  194.400,2,    4.310,2,    4.520,2,    0.370,2, -999.000
           NA,HOT timeseries 1988to2019 27SEP2021,     26,  99,-999.0,      14,-999.0,19910809,2000,  22.7250, -157.9750,  4799,  282.300,   14.742,   34.530,2,   34.544,2,  190.900,2,  196.300,2,    6.910,2,    6.640,2,    0.520,2, -999.000
           NA,HOT timeseries 1988to2019 27SEP2021,     26,  99,-999.0,      13,-999.0,19910809,2000,  22.7250, -157.9750,  4799,  338.700,   11.905,   34.246,2,   34.247,2,  198.800,2,  198.800,2, -999.000,4, -999.000,4, -999.000,4, -999.000
           NA,HOT timeseries 1988to2019 27SEP2021,     26,  99,-999.0,      12,-999.0,19910809,2000,  22.7250, -157.9750,  4799,  390.700,   10.126,   34.139,2, -999.000,5,  195.000,2,  195.900,2,   22.900,2,   15.670,2,    1.120,2, -999.000
           NA,HOT timeseries 1988to2019 27SEP2021,     26,  99,-999.0,      11,-999.0,19910809,2000,  22.7250, -157.9750,  4799,  448.500,    8.826,   34.090,2,   34.089,2,  181.900,2,  167.100,2,   28.300,2,   21.300,2,    1.540,2, -999.000
           NA,HOT timeseries 1988to2019 27SEP2021,     26,  99,-999.0,      10,-999.0,19910809,2000,  22.7250, -157.9750,  4799,  517.800,    7.412,   34.094,2,   34.092,2,  108.500,2,  107.900,2,   45.980,2,   29.080,2,    2.160,2, -999.000
           NA,HOT timeseries 1988to2019 27SEP2021,     26,  99,-999.0,       9,-999.0,19910809,2000,  22.7250, -157.9750,  4799,  554.400,    6.895,   34.110,2,   34.108,2,   89.100,2,   87.900,2,   53.250,2,   31.690,2,    2.350,2, -999.000
           NA,HOT timeseries 1988to2019 27SEP2021,     26,  99,-999.0,       8,-999.0,19910809,2000,  22.7250, -157.9750,  4799,  610.900,    6.306,   34.169,2,   34.168,2,   68.800,2,   65.300,2,   64.700,2,   34.650,2,    2.570,2, -999.000
           NA,HOT timeseries 1988to2019 27SEP2021,     26,  99,-999.0,       7,-999.0,19910809,2000,  22.7250, -157.9750,  4799,  655.700,    5.770,   34.188,2,   34.188,2,   48.900,2,   42.200,2,   73.830,2,   37.110,2,    2.750,2, -999.000
           NA,HOT timeseries 1988to2019 27SEP2021,     26,  99,-999.0,       6,-999.0,19910809,2000,  22.7250, -157.9750,  4799,  690.300,    5.518,   34.228,2,   34.226,2,   44.800,2,   31.900,2,   78.690,2,   38.330,2,    2.820,2, -999.000
           NA,HOT timeseries 1988to2019 27SEP2021,     26,  99,-999.0,      25,-999.0,19910809,2000,  22.7250, -157.9750,  4799,  781.700,    4.960,   34.343,2,   34.341,2,   30.000,2,   29.700,2,   91.230,2,   40.590,2,    2.980,2, -999.000
           NA,HOT timeseries 1988to2019 27SEP2021,     26,  99,-999.0,       3,-999.0,19910809,2000,  22.7250, -157.9750,  4799,  854.800,    4.412,   34.396,2,   34.396,2,   33.800,2,   33.400,2,  102.310,2,   41.530,2,    3.030,2, -999.000
           NA,HOT timeseries 1988to2019 27SEP2021,     26,  99,-999.0,       2,-999.0,19910809,2000,  22.7250, -157.9750,  4799,  988.200,    3.918,   34.467,2,   34.465,2,   43.700,2,   44.000,2,  111.390,2,   41.420,2,    3.010,2, -999.000
           NA,HOT timeseries 1988to2019 27SEP2021,     26,  99,-999.0,      22,-999.0,19910809,2000,  22.7250, -157.9750,  4799, 1102.100,    3.670,   34.525,2,   34.526,2,   52.800,2,   51.300,2,  115.020,2,   41.410,2,    3.000,2, -999.000
           NA,HOT timeseries 1988to2019 27SEP2021,     26,  99,-999.0,      21,-999.0,19910809,2000,  22.7250, -157.9750,  4799, 1205.600,    3.358,   34.533,2,   34.534,2,   54.600,2,   55.500,2,  122.280,2,   41.170,2,    2.970,2, -999.000
           NA,HOT timeseries 1988to2019 27SEP2021,     26,  99,-999.0,      20,-999.0,19910809,2000,  22.7250, -157.9750,  4799, 1406.200,    2.905,   34.560,2,   34.560,2,   66.700,2,   66.300,2,  131.910,2,   40.700,2,    2.930,2, -999.000
           NA,HOT timeseries 1988to2019 27SEP2021,     26,  99,-999.0,      19,-999.0,19910809,2000,  22.7250, -157.9750,  4799, 1506.200,    2.718,   34.576,2,   34.577,2,   60.100,2,   69.200,2,  136.810,2,   40.450,2,    2.910,2, -999.000
           NA,HOT timeseries 1988to2019 27SEP2021,     26,  99,-999.0,      18,-999.0,19910809,2000,  22.7250, -157.9750,  4799, 1703.900,    2.412,   34.596,2,   34.597,2,   76.200,2,   77.400,2,  144.080,2,   40.220,2,    2.880,2, -999.000
           NA,HOT timeseries 1988to2019 27SEP2021,     26,  99,-999.0,      17,-999.0,19910809,2000,  22.7250, -157.9750,  4799, 1804.500,    2.299,   34.604,2,   34.604,2,   79.600,2,   80.000,2,  146.800,2,   39.980,2,    2.850,2, -999.000
           NA,HOT timeseries 1988to2019 27SEP2021,     26,  99,-999.0,      16,-999.0,19910809,2000,  22.7250, -157.9750,  4799, 2002.700,    2.057,   34.621,2,   34.622,2,   88.400,2,   88.800,2,  152.390,2,   39.490,2,    2.790,2, -999.000
           NA,HOT timeseries 1988to2019 27SEP2021,     26,  99,-999.0,      15,-999.0,19910809,2000,  22.7250, -157.9750,  4799, 2205.600,    1.887,   34.634,2,   34.634,2,   97.200,2,   96.300,2,  155.880,2,   39.040,2,    2.760,2, -999.000
           NA,HOT timeseries 1988to2019 27SEP2021,     26,  99,-999.0,      14,-999.0,19910809,2000,  22.7250, -157.9750,  4799, 2403.900,    1.749,   34.644,2,   34.644,2,  102.800,2,  103.500,2,  158.610,2,   38.560,2,    2.750,2, -999.000
           NA,HOT timeseries 1988to2019 27SEP2021,     26,  99,-999.0,      13,-999.0,19910809,2000,  22.7250, -157.9750,  4799, 2677.500,    1.621,   34.656,2,   34.656,2,  113.200,2,  114.400,2,  160.420,2,   37.840,2,    2.670,2, -999.000
           NA,HOT timeseries 1988to2019 27SEP2021,     26,  99,-999.0,      12,-999.0,19910809,2000,  22.7250, -157.9750,  4799, 2793.800,    1.586,   34.661,2,   34.661,2,  118.600,2,  118.700,2,  158.240,2,   37.730,2,    2.660,2, -999.000
           NA,HOT timeseries 1988to2019 27SEP2021,     26,  99,-999.0,      11,-999.0,19910809,2000,  22.7250, -157.9750,  4799, 3001.200,    1.523,   34.668,2,   34.668,2,  127.000,2,  126.600,2,  157.510,2,   37.120,2,    2.610,2, -999.000
           NA,HOT timeseries 1988to2019 27SEP2021,     26,  99,-999.0,      10,-999.0,19910809,2000,  22.7250, -157.9750,  4799, 3203.900,    1.486,   34.674,2,   34.674,2,  134.200,2,  133.900,2,  155.680,2,   36.780,2,    2.580,2, -999.000
           NA,HOT timeseries 1988to2019 27SEP2021,     26,  99,-999.0,       9,-999.0,19910809,2000,  22.7250, -157.9750,  4799, 3406.300,    1.463,   34.678,2,   34.680,2,  139.600,2,  138.500,2,  154.970,2,   36.430,2,    2.560,2, -999.000
           NA,HOT timeseries 1988to2019 27SEP2021,     26,  99,-999.0,       8,-999.0,19910809,2000,  22.7250, -157.9750,  4799, 3543.400,    1.450,   34.680,2,   34.681,2,  142.900,2,  142.900,2,  153.150,2,   36.180,2,    2.540,2, -999.000
           NA,HOT timeseries 1988to2019 27SEP2021,     26,  99,-999.0,       7,-999.0,19910809,2000,  22.7250, -157.9750,  4799, 3805.500,    1.445,   34.683,2,   34.685,2,  147.400,2,  147.400,2,  150.430,2,   35.830,2,    2.510,2, -999.000
           NA,HOT timeseries 1988to2019 27SEP2021,     26,  99,-999.0,       6,-999.0,19910809,2000,  22.7250, -157.9750,  4799, 4004.900,    1.451,   34.685,2,   34.684,2,  150.000,2,  149.300,2,  149.160,2,   35.710,2,    2.510,2, -999.000
           NA,HOT timeseries 1988to2019 27SEP2021,     26,  99,-999.0,      26,-999.0,19910809,2000,  22.7250, -157.9750,  4799, 4202.700,    1.463,   34.686,2,   34.686,2,  151.700,2,  153.400,2,  149.160,2,   35.710,2,    2.510,2, -999.000
           NA,HOT timeseries 1988to2019 27SEP2021,     26,  99,-999.0,      25,-999.0,19910809,2000,  22.7250, -157.9750,  4799, 4400.200,    1.477,   34.687,2,   34.684,2,  153.900,2,  149.100,2,  149.110,2,   35.710,2,    2.500,2, -999.000
           NA,HOT timeseries 1988to2019 27SEP2021,     26,  99,-999.0,       3,-999.0,19910809,2000,  22.7250, -157.9750,  4799, 4483.400,    1.485,   34.687,2,   34.686,2,  153.600,2,  152.700,2,  148.430,2,   35.590,2,    2.500,2, -999.000
           NA,HOT timeseries 1988to2019 27SEP2021,     26,  99,-999.0,       2,-999.0,19910809,2000,  22.7250, -157.9750,  4799, 4602.800,    1.495,   34.687,2,   34.686,2,  153.700,2,  153.500,2,  148.250,2,   35.550,2,    2.500,2, -999.000
           NA,HOT timeseries 1988to2019 27SEP2021,     26,  99,-999.0,       1,-999.0,19910809,2000,  22.7250, -157.9750,  4799, 4721.700,    1.507,   34.688,2,   34.687,2,  154.600,2,  155.600,2,  147.700,2,   35.470,2,    2.480,2, -999.000