BOTTLE,20214727JOAExport
EXPOCODE,SECT_ID,STNNBR,CASTNO,SAMPNO,BTLNBR,BTLNBR_FLAG_W,DATE,TIME,LATITUDE,LONGITUDE,DEPTH,CTDPRS,CTDTMP,CTDSAL,CTDSAL_FLAG_W,SALNTY,SALNTY_FLAG_W,CTDOXY,CTDOXY_FLAG_W,OXYGEN,OXYGEN_FLAG_W,SILCAT,SILCAT_FLAG_W,NINI,NINI_FLAG_W,PHSPHT,PHSPHT_FLAG_W,REVP
,,,,,,,,,,,,DB,IPTS-68,PSS-78,,PSS-78,,UMOL/KG,,UMOL/KG,,UMOL/KG,,UMOL/KG,,UMOL/KG,,DBAR
           NA,HOT timeseries 1988to2019 27SEP2021,     64,  99,-999.0,      31,-999.0,19951116,1116,  22.7492, -157.9997,  4724,    4.900,   25.668,   34.935,2,   34.937,2,  207.200,2,  205.200,2,    1.030,2,    0.000,2,    0.080,2, -999.000
           NA,HOT timeseries 1988to2019 27SEP2021,     64,  99,-999.0,      31,-999.0,19951116,1116,  22.7492, -157.9997,  4724,    5.000,   25.690,   34.944,2, -999.000,3, -999.000,3,  206.400,2,    0.640,2,    0.000,2,    0.070,2, -999.000
           NA,HOT timeseries 1988to2019 27SEP2021,     64,  99,-999.0,      30,-999.0,19951116,1116,  22.7492, -157.9997,  4724,   53.700,   25.641,   34.956,2,   34.958,2,  206.300,2,  206.200,2,    0.720,2,    0.000,2,    0.070,2, -999.000
           NA,HOT timeseries 1988to2019 27SEP2021,     64,  99,-999.0,      22,-999.0,19951116,1116,  22.7492, -157.9997,  4724,   62.400,   24.320,   35.037,2,   35.038,2,  216.700,2,  219.900,2,    0.910,2,    0.000,2,    0.060,2, -999.000
           NA,HOT timeseries 1988to2019 27SEP2021,     64,  99,-999.0,      21,-999.0,19951116,1116,  22.7492, -157.9997,  4724,   77.600,   23.187,   35.083,2,   35.081,2,  224.200,2,  223.300,2,    1.080,2,    0.010,2,    0.080,2, -999.000
           NA,HOT timeseries 1988to2019 27SEP2021,     64,  99,-999.0,      20,-999.0,19951116,1116,  22.7492, -157.9997,  4724,   95.000,   21.039,   35.152,2,   35.151,2,  209.600,2,  208.900,2,    1.270,2,    0.270,2,    0.120,2, -999.000
           NA,HOT timeseries 1988to2019 27SEP2021,     64,  99,-999.0,      19,-999.0,19951116,1116,  22.7492, -157.9997,  4724,  125.100,   20.035,   35.131,2,   35.133,2,  210.500,2,  206.400,2,    1.580,2,    0.790,2,    0.140,2, -999.000
           NA,HOT timeseries 1988to2019 27SEP2021,     64,  99,-999.0,      30,-999.0,19951116,1116,  22.7492, -157.9997,  4724,  133.000,   19.330,   35.083,2,   35.082,2,  204.900,2,  202.400,2,    2.170,2,    1.470,2,    0.190,2, -999.000
           NA,HOT timeseries 1988to2019 27SEP2021,     64,  99,-999.0,      18,-999.0,19951116,1116,  22.7492, -157.9997,  4724,  200.700,   17.060,   34.806,2,   34.806,2,  209.700,2,  208.700,2,    3.360,2,    2.710,2,    0.260,2, -999.000
           NA,HOT timeseries 1988to2019 27SEP2021,     64,  99,-999.0,      17,-999.0,19951116,1116,  22.7492, -157.9997,  4724,  230.500,   15.918,   34.665,2,   34.664,2,  204.500,2,  202.700,2,    4.480,2,    4.620,2,    0.410,2, -999.000
           NA,HOT timeseries 1988to2019 27SEP2021,     64,  99,-999.0,      16,-999.0,19951116,1116,  22.7492, -157.9997,  4724,  297.900,   12.563,   34.333,2,   34.332,2,  207.000,2,  205.600,2,    9.490,2,    9.940,2,    0.730,2, -999.000
           NA,HOT timeseries 1988to2019 27SEP2021,     64,  99,-999.0,      15,-999.0,19951116,1116,  22.7492, -157.9997,  4724,  344.000,   10.921,   34.190,2,   34.189,2,  200.200,2,  199.500,2,   14.160,2,   13.730,2,    1.000,2, -999.000
           NA,HOT timeseries 1988to2019 27SEP2021,     64,  99,-999.0,      14,-999.0,19951116,1116,  22.7492, -157.9997,  4724,  400.900,    9.508,   34.109,2,   34.109,2,  192.900,2,  190.300,2,   20.670,2,   17.510,2,    1.250,2, -999.000
           NA,HOT timeseries 1988to2019 27SEP2021,     64,  99,-999.0,      13,-999.0,19951116,1116,  22.7492, -157.9997,  4724,  427.500,    8.662,   34.074,2,   34.074,2,  177.400,2,  175.400,2,   26.960,2,   20.710,2,    1.490,2, -999.000
           NA,HOT timeseries 1988to2019 27SEP2021,     64,  99,-999.0,      12,-999.0,19951116,1116,  22.7492, -157.9997,  4724,  488.500,    7.160,   34.042,2,   34.044,2,  130.000,2,  126.300,2,   44.080,2,   27.860,2,    2.010,2, -999.000
           NA,HOT timeseries 1988to2019 27SEP2021,     64,  99,-999.0,      22,-999.0,19951116,1116,  22.7492, -157.9997,  4724,  507.100,    7.221,   34.040,2,   34.041,2,  129.300,2,  130.000,2,   43.250,2,   27.010,2,    1.930,2, -999.000
           NA,HOT timeseries 1988to2019 27SEP2021,     64,  99,-999.0,      11,-999.0,19951116,1116,  22.7492, -157.9997,  4724,  520.000,    6.721,   34.045,2,   34.045,2,  111.900,2,  108.400,2,   50.870,2,   30.290,2,    2.210,2, -999.000
           NA,HOT timeseries 1988to2019 27SEP2021,     64,  99,-999.0,      32,-999.0,19951116,1116,  22.7492, -157.9997,  4724,  539.100,    6.404,   34.056,2,   34.055,2,   97.900,2,   92.500,2,   56.630,2,   32.100,2,    2.360,2, -999.000
           NA,HOT timeseries 1988to2019 27SEP2021,     64,  99,-999.0,       3,-999.0,19951116,1116,  22.7492, -157.9997,  4724,  584.200,    5.873,   34.092,2,   34.097,2,   70.300,2,   62.300,2,   67.510,2,   35.540,2,    2.620,2, -999.000
           NA,HOT timeseries 1988to2019 27SEP2021,     64,  99,-999.0,      29,-999.0,19951116,1116,  22.7492, -157.9997,  4724,  600.300,    5.703,   34.110,2,   34.111,2,   61.000,2,   53.100,2,   71.260,2,   36.840,2,    2.720,2, -999.000
           NA,HOT timeseries 1988to2019 27SEP2021,     64,  99,-999.0,      28,-999.0,19951116,1116,  22.7492, -157.9997,  4724,  626.700,    5.390,   34.144,2,   34.145,2,   48.700,2,   41.800,2,   77.380,2,   38.310,2,    2.830,2, -999.000
           NA,HOT timeseries 1988to2019 27SEP2021,     64,  99,-999.0,       7,-999.0,19951116,1116,  22.7492, -157.9997,  4724,  689.600,    5.036,   34.222,2,   34.222,2,   32.400,2,   26.300,2,   87.170,2,   40.060,2,    2.980,2, -999.000
           NA,HOT timeseries 1988to2019 27SEP2021,     64,  99,-999.0,      38,-999.0,19951116,1116,  22.7492, -157.9997,  4724,  755.200,    4.797,   34.315,2, -999.000,4, -999.000,3,   25.600,2,   93.890,2,   40.730,2,    3.020,2, -999.000
           NA,HOT timeseries 1988to2019 27SEP2021,     64,  99,-999.0,      36,-999.0,19951116,1116,  22.7492, -157.9997,  4724,  799.900,    4.656,   34.358,2,   34.363,2,   30.800,2,   27.400,2,   97.000,2,   40.790,2,    3.030,2, -999.000
           NA,HOT timeseries 1988to2019 27SEP2021,     64,  99,-999.0,      35,-999.0,19951116,1116,  22.7492, -157.9997,  4724,  841.600,    4.541,   34.402,2,   34.403,2,   35.700,2,   31.700,2,   99.740,2,   40.910,2,    3.030,2, -999.000
           NA,HOT timeseries 1988to2019 27SEP2021,     64,  99,-999.0,      34,-999.0,19951116,1116,  22.7492, -157.9997,  4724,  978.800,    4.073,   34.479,2,   34.481,2,   44.200,2,   40.300,2,  108.980,2,   41.210,2,    3.030,2, -999.000
           NA,HOT timeseries 1988to2019 27SEP2021,     64,  99,-999.0,      33,-999.0,19951116,1116,  22.7492, -157.9997,  4724, 1024.200,    3.970,   34.491,2,   34.493,2,   46.000,2,   43.000,2,  110.620,2,   41.080,2,    3.020,2, -999.000
           NA,HOT timeseries 1988to2019 27SEP2021,     64,  99,-999.0,      19,-999.0,19951116,1116,  22.7492, -157.9997,  4724, 1400.300,    3.048,   34.560,2,   34.561,2,   61.000,2,   61.100,2,  129.500,2,   40.470,2,    2.920,2, -999.000
           NA,HOT timeseries 1988to2019 27SEP2021,     64,  99,-999.0,      18,-999.0,19951116,1116,  22.7492, -157.9997,  4724, 1601.000,    2.642,   34.585,2,   34.586,2,   73.800,2,   70.100,2,  139.700,2,   40.100,2,    2.880,2, -999.000
           NA,HOT timeseries 1988to2019 27SEP2021,     64,  99,-999.0,      17,-999.0,19951116,1116,  22.7492, -157.9997,  4724, 1800.100,    2.322,   34.604,2,   34.605,2,   83.800,2,   78.800,2,  147.480,2,   39.550,2,    2.850,2, -999.000
           NA,HOT timeseries 1988to2019 27SEP2021,     64,  99,-999.0,      16,-999.0,19951116,1116,  22.7492, -157.9997,  4724, 2003.800,    2.102,   34.619,2,   34.619,2,   90.500,2,   86.600,2,  153.270,2,   39.060,2,    2.810,2, -999.000
           NA,HOT timeseries 1988to2019 27SEP2021,     64,  99,-999.0,      15,-999.0,19951116,1116,  22.7492, -157.9997,  4724, 2201.100,    1.932,   34.633,2,   34.634,2,   97.600,2, -999.000,5,  156.840,2,   38.900,2,    2.770,2, -999.000
           NA,HOT timeseries 1988to2019 27SEP2021,     64,  99,-999.0,      14,-999.0,19951116,1116,  22.7492, -157.9997,  4724, 2401.100,    1.806,   34.645,2,   34.646,2,  103.300,2,  101.600,2,  159.370,2,   38.240,2,    2.740,2, -999.000
           NA,HOT timeseries 1988to2019 27SEP2021,     64,  99,-999.0,      13,-999.0,19951116,1116,  22.7492, -157.9997,  4724, 2602.100,    1.691,   34.655,2,   34.655,2,  112.500,2,  111.400,2,  158.810,2,   37.740,2,    2.700,2, -999.000
           NA,HOT timeseries 1988to2019 27SEP2021,     64,  99,-999.0,      12,-999.0,19951116,1116,  22.7492, -157.9997,  4724, 2801.500,    1.624,   34.664,2,   34.663,2,  120.200,2,  119.500,2,  158.840,2,   37.190,2,    2.650,2, -999.000
           NA,HOT timeseries 1988to2019 27SEP2021,     64,  99,-999.0,      11,-999.0,19951116,1116,  22.7492, -157.9997,  4724, 3000.100,    1.561,   34.670,2,   34.669,2,  126.900,2,  124.700,2,  158.350,2,   36.870,2,    2.620,2, -999.000
           NA,HOT timeseries 1988to2019 27SEP2021,     64,  99,-999.0,      32,-999.0,19951116,1116,  22.7492, -157.9997,  4724, 3199.300,    1.511,   34.676,2,   34.675,2,  133.200,2,  132.800,2,  157.250,2,   36.480,2,    2.590,2, -999.000
           NA,HOT timeseries 1988to2019 27SEP2021,     64,  99,-999.0,       3,-999.0,19951116,1116,  22.7492, -157.9997,  4724, 3399.500,    1.472,   34.681,2,   34.681,2,  139.700,2,  138.300,2,  155.530,2,   36.140,2,    2.560,2, -999.000
           NA,HOT timeseries 1988to2019 27SEP2021,     64,  99,-999.0,      29,-999.0,19951116,1116,  22.7492, -157.9997,  4724, 3598.200,    1.458,   34.684,2,   34.683,2,  143.000,2,  142.800,2,  154.730,2,   35.900,2,    2.530,2, -999.000
           NA,HOT timeseries 1988to2019 27SEP2021,     64,  99,-999.0,      28,-999.0,19951116,1116,  22.7492, -157.9997,  4724, 3799.700,    1.447,   34.687,2,   34.685,2,  148.000,2,  146.800,2,  153.200,2,   35.630,2,    2.510,2, -999.000
           NA,HOT timeseries 1988to2019 27SEP2021,     64,  99,-999.0,       7,-999.0,19951116,1116,  22.7492, -157.9997,  4724, 3999.400,    1.449,   34.689,2,   34.688,2,  150.900,2,  149.100,2,  150.800,2,   35.400,2,    2.490,2, -999.000
           NA,HOT timeseries 1988to2019 27SEP2021,     64,  99,-999.0,      38,-999.0,19951116,1116,  22.7492, -157.9997,  4724, 4199.200,    1.459,   34.690,2,   34.689,2,  152.100,2,  151.600,2,  149.800,2,   35.270,2,    2.500,2, -999.000
           NA,HOT timeseries 1988to2019 27SEP2021,     64,  99,-999.0,      36,-999.0,19951116,1116,  22.7492, -157.9997,  4724, 4400.500,    1.475,   34.690,2,   34.691,2,  153.500,2,  151.900,2,  149.490,2,   35.220,2,    2.480,2, -999.000
           NA,HOT timeseries 1988to2019 27SEP2021,     64,  99,-999.0,      35,-999.0,19951116,1116,  22.7492, -157.9997,  4724, 4499.900,    1.485,   34.691,2,   34.689,2,  154.900,2,  152.900,2,  149.570,2,   35.210,2,    2.480,2, -999.000
           NA,HOT timeseries 1988to2019 27SEP2021,     64,  99,-999.0,      34,-999.0,19951116,1116,  22.7492, -157.9997,  4724, 4600.000,    1.495,   34.691,2,   34.690,2,  155.300,2,  153.000,2,  149.490,2,   35.110,2,    2.480,2, -999.000
           NA,HOT timeseries 1988to2019 27SEP2021,     64,  99,-999.0,      33,-999.0,19951116,1116,  22.7492, -157.9997,  4724, 4809.100,    1.503,   34.692,2,   34.692,2,  157.400,2,  156.300,2,  147.700,2,   34.940,2,    2.480,2, -999.000