BOTTLE,20214727JOAExport
EXPOCODE,SECT_ID,STNNBR,CASTNO,SAMPNO,BTLNBR,BTLNBR_FLAG_W,DATE,TIME,LATITUDE,LONGITUDE,DEPTH,CTDPRS,CTDTMP,CTDSAL,CTDSAL_FLAG_W,SALNTY,SALNTY_FLAG_W,CTDOXY,CTDOXY_FLAG_W,OXYGEN,OXYGEN_FLAG_W,SILCAT,SILCAT_FLAG_W,NINI,NINI_FLAG_W,PHSPHT,PHSPHT_FLAG_W,REVP
,,,,,,,,,,,,DB,IPTS-68,PSS-78,,PSS-78,,UMOL/KG,,UMOL/KG,,UMOL/KG,,UMOL/KG,,UMOL/KG,,DBAR
           NA,HOT timeseries 1988to2019 27SEP2021,     51,  99,-999.0,      31,-999.0,19940724,1744,  22.7493, -157.9988,  4724,    4.400,   25.547,   34.892,2,   34.895,2,  195.200,2,  209.200,2,    1.170,2,    0.010,2,    0.060,2, -999.000
           NA,HOT timeseries 1988to2019 27SEP2021,     51,  99,-999.0,      30,-999.0,19940724,1744,  22.7493, -157.9988,  4724,    5.400,   25.620,   34.895,2,   34.893,2,  211.300,2,  207.300,2,    1.010,2,    0.010,2,    0.070,2, -999.000
           NA,HOT timeseries 1988to2019 27SEP2021,     51,  99,-999.0,      22,-999.0,19940724,1744,  22.7493, -157.9988,  4724,   16.300,   25.558,   34.894,2,   34.891,2,  210.900,2,  207.400,2,    0.980,2,    0.000,2,    0.070,2, -999.000
           NA,HOT timeseries 1988to2019 27SEP2021,     51,  99,-999.0,      21,-999.0,19940724,1744,  22.7493, -157.9988,  4724,   24.000,   25.503,   34.894,2,   34.895,2,  213.000,2,  207.700,2,    0.950,2,    0.010,2,    0.060,2, -999.000
           NA,HOT timeseries 1988to2019 27SEP2021,     51,  99,-999.0,      20,-999.0,19940724,1744,  22.7493, -157.9988,  4724,   48.500,   25.464,   34.895,2,   34.893,2,  214.400,2,  207.700,2,    0.950,2,    0.000,2,    0.060,2, -999.000
           NA,HOT timeseries 1988to2019 27SEP2021,     51,  99,-999.0,      19,-999.0,19940724,1744,  22.7493, -157.9988,  4724,   77.100,   23.533,   35.031,2,   35.041,2,  220.000,2,  220.200,2,    1.030,2,    0.000,2,    0.050,2, -999.000
           NA,HOT timeseries 1988to2019 27SEP2021,     51,  99,-999.0,      18,-999.0,19940724,1744,  22.7493, -157.9988,  4724,  119.500,   22.133,   35.166,2,   35.164,2,  213.400,2,  212.400,2,    1.080,2,    0.020,2,    0.050,2, -999.000
           NA,HOT timeseries 1988to2019 27SEP2021,     51,  99,-999.0,      30,-999.0,19940724,1744,  22.7493, -157.9988,  4724,  155.800,   20.364,   35.222,2,   35.221,2,  199.200,2,  198.900,2,    1.730,2,    1.120,2,    0.150,2, -999.000
           NA,HOT timeseries 1988to2019 27SEP2021,     51,  99,-999.0,      17,-999.0,19940724,1744,  22.7493, -157.9988,  4724,  164.000,   20.438,   35.197,2,   35.193,2,  199.900,2,  197.500,2,    1.870,2,    1.080,2,    0.140,2, -999.000
           NA,HOT timeseries 1988to2019 27SEP2021,     51,  99,-999.0,      16,-999.0,19940724,1744,  22.7493, -157.9988,  4724,  172.900,   19.913,   35.165,2,   35.168,2,  195.200,2,  197.900,2,    1.700,2,    1.450,2,    0.170,2, -999.000
           NA,HOT timeseries 1988to2019 27SEP2021,     51,  99,-999.0,      15,-999.0,19940724,1744,  22.7493, -157.9988,  4724,  199.600,   18.220,   34.955,2,   34.959,2,  190.700,2,  192.200,2,    2.820,2,    2.990,2,    0.260,2, -999.000
           NA,HOT timeseries 1988to2019 27SEP2021,     51,  99,-999.0,      14,-999.0,19940724,1744,  22.7493, -157.9988,  4724,  242.200,   16.492,   34.743,2,   34.747,2,  198.500,2,  193.900,2,    4.330,2,    4.600,2,    0.350,2, -999.000
           NA,HOT timeseries 1988to2019 27SEP2021,     51,  99,-999.0,      13,-999.0,19940724,1744,  22.7493, -157.9988,  4724,  308.600,   12.890,   34.366,2,   34.371,2,  200.300,2,  198.900,2,    9.600,2,    9.700,2,    0.680,2, -999.000
           NA,HOT timeseries 1988to2019 27SEP2021,     51,  99,-999.0,      12,-999.0,19940724,1744,  22.7493, -157.9988,  4724,  371.000,   11.014,   34.211,2,   34.212,2,  209.700,2,  202.400,2,   14.280,2,   13.180,2,    0.930,2, -999.000
           NA,HOT timeseries 1988to2019 27SEP2021,     51,  99,-999.0,      11,-999.0,19940724,1744,  22.7493, -157.9988,  4724,  440.800,    9.122,   34.117,2,   34.117,2,  173.500,2,  182.000,2,   25.630,2,   18.980,2,    1.340,2, -999.000
           NA,HOT timeseries 1988to2019 27SEP2021,     51,  99,-999.0,      32,-999.0,19940724,1744,  22.7493, -157.9988,  4724,  488.000,    8.068,   34.066,2,   34.066,2,  158.700,2,  149.800,2,   35.070,2,   24.260,2,    1.730,2, -999.000
           NA,HOT timeseries 1988to2019 27SEP2021,     51,  99,-999.0,       3,-999.0,19940724,1744,  22.7493, -157.9988,  4724,  511.700,    7.293,   34.064,2,   34.066,2,  119.500,2,  115.200,2,   44.830,2,   28.360,2,    2.070,2, -999.000
           NA,HOT timeseries 1988to2019 27SEP2021,     51,  99,-999.0,      22,-999.0,19940724,1744,  22.7493, -157.9988,  4724,  513.800,    7.621,   34.056,2,   34.056,2,  136.100,2,  135.900,2,   39.540,2,   26.060,2,    1.760,2, -999.000
           NA,HOT timeseries 1988to2019 27SEP2021,     51,  99,-999.0,      29,-999.0,19940724,1744,  22.7493, -157.9988,  4724,  557.900,    6.426,   34.050,2,   34.051,2,  103.000,2,   95.200,2,   56.390,2,   31.930,2,    2.340,2, -999.000
           NA,HOT timeseries 1988to2019 27SEP2021,     51,  99,-999.0,      28,-999.0,19940724,1744,  22.7493, -157.9988,  4724,  600.400,    6.006,   34.114,2,   34.114,2,   58.200,2,   57.400,2,   66.690,2,   35.890,2,    2.660,2, -999.000
           NA,HOT timeseries 1988to2019 27SEP2021,     51,  99,-999.0,       7,-999.0,19940724,1744,  22.7493, -157.9988,  4724,  645.000,    5.519,   34.167,2,   34.169,2,   38.600,2,   39.000,2,   77.620,2, -999.000,4, -999.000,4, -999.000
           NA,HOT timeseries 1988to2019 27SEP2021,     51,  99,-999.0,      23,-999.0,19940724,1744,  22.7493, -157.9988,  4724,  714.600,    4.943,   34.213,2,   34.213,2,   32.800,2,   31.700,2,   88.740,2,   40.090,2,    2.960,2, -999.000
           NA,HOT timeseries 1988to2019 27SEP2021,     51,  99,-999.0,      36,-999.0,19940724,1744,  22.7493, -157.9988,  4724,  776.600,    4.669,   34.309,2,   34.309,2,   27.000,2,   25.800,2,   96.730,2,   41.260,2,    3.050,2, -999.000
           NA,HOT timeseries 1988to2019 27SEP2021,     51,  99,-999.0,      35,-999.0,19940724,1744,  22.7493, -157.9988,  4724,  880.900,    4.379,   34.411,2,   34.408,2,   33.400,2,   31.800,2,  103.260,2,   41.470,2,    3.060,2, -999.000
           NA,HOT timeseries 1988to2019 27SEP2021,     51,  99,-999.0,      33,-999.0,19940724,1744,  22.7493, -157.9988,  4724, 1020.000,    3.969,   34.483,2,   34.482,2,   42.600,2,   42.000,2,  111.110,2,   41.560,2,    3.030,2, -999.000
           NA,HOT timeseries 1988to2019 27SEP2021,     51,  99,-999.0,      20,-999.0,19940724,1744,  22.7493, -157.9988,  4724, 1401.000,    3.097,   34.556,2,   34.555,2,   59.900,2,   60.400,2,  129.400,2,   41.070,2,    2.940,2, -999.000
           NA,HOT timeseries 1988to2019 27SEP2021,     51,  99,-999.0,      19,-999.0,19940724,1744,  22.7493, -157.9988,  4724, 1600.500,    2.667,   34.583,2,   34.585,2,   69.300,2,   70.600,2,  139.250,2,   40.670,2,    2.910,2, -999.000
           NA,HOT timeseries 1988to2019 27SEP2021,     51,  99,-999.0,      18,-999.0,19940724,1744,  22.7493, -157.9988,  4724, 1801.200,    2.335,   34.602,2,   34.604,2,   79.100,2,   79.200,2,  147.380,2,   40.080,2,    2.870,2, -999.000
           NA,HOT timeseries 1988to2019 27SEP2021,     51,  99,-999.0,      17,-999.0,19940724,1744,  22.7493, -157.9988,  4724, 1999.200,    2.098,   34.618,2,   34.618,2,   85.700,2,   86.000,2,  153.490,2,   39.750,2,    2.840,2, -999.000
           NA,HOT timeseries 1988to2019 27SEP2021,     51,  99,-999.0,      16,-999.0,19940724,1744,  22.7493, -157.9988,  4724, 2199.500,    1.915,   34.631,2,   34.628,2,   94.300,2,   94.500,2,  154.140,2,   38.800,2,    2.780,2, -999.000
           NA,HOT timeseries 1988to2019 27SEP2021,     51,  99,-999.0,      15,-999.0,19940724,1744,  22.7493, -157.9988,  4724, 2399.900,    1.781,   34.643,2,   34.640,2,  101.000,2,  103.300,2,  160.180,2,   39.060,2,    2.770,2, -999.000
           NA,HOT timeseries 1988to2019 27SEP2021,     51,  99,-999.0,      14,-999.0,19940724,1744,  22.7493, -157.9988,  4724, 2599.400,    1.691,   34.654,2,   34.652,2,  110.900,2,  110.900,2,  159.700,2,   38.480,2,    2.720,2, -999.000
           NA,HOT timeseries 1988to2019 27SEP2021,     51,  99,-999.0,      13,-999.0,19940724,1744,  22.7493, -157.9988,  4724, 2800.600,    1.615,   34.662,2,   34.662,2,  117.400,2,  117.300,2,  159.580,2,   37.970,2,    2.690,2, -999.000
           NA,HOT timeseries 1988to2019 27SEP2021,     51,  99,-999.0,      12,-999.0,19940724,1744,  22.7493, -157.9988,  4724, 2999.500,    1.555,   34.668,2,   34.669,2,  123.600,2,  123.600,2,  160.070,2,   37.650,2,    2.650,2, -999.000
           NA,HOT timeseries 1988to2019 27SEP2021,     51,  99,-999.0,      11,-999.0,19940724,1744,  22.7493, -157.9988,  4724, 3201.200,    1.505,   34.674,2,   34.676,2,  129.900,2,  130.800,2,  158.550,2,   37.040,2,    2.610,2, -999.000
           NA,HOT timeseries 1988to2019 27SEP2021,     51,  99,-999.0,      32,-999.0,19940724,1744,  22.7493, -157.9988,  4724, 3402.000,    1.479,   34.678,2,   34.676,2,  135.100,2,  137.000,2,  157.330,2,   36.650,2,    2.590,2, -999.000
           NA,HOT timeseries 1988to2019 27SEP2021,     51,  99,-999.0,       3,-999.0,19940724,1744,  22.7493, -157.9988,  4724, 3597.700,    1.462,   34.681,2,   34.679,2,  138.900,2,  140.700,2,  155.050,2,   36.500,2,    2.570,2, -999.000
           NA,HOT timeseries 1988to2019 27SEP2021,     51,  99,-999.0,      29,-999.0,19940724,1744,  22.7493, -157.9988,  4724, 3795.900,    1.453,   34.684,2,   34.683,2,  142.600,2,  148.800,2,  154.490,2,   36.270,2,    2.540,2, -999.000
           NA,HOT timeseries 1988to2019 27SEP2021,     51,  99,-999.0,      28,-999.0,19940724,1744,  22.7493, -157.9988,  4724, 3997.500,    1.454,   34.686,2, -999.000,3, -999.000,3,  148.200,2,  152.660,2,   35.970,2,    2.520,2, -999.000
           NA,HOT timeseries 1988to2019 27SEP2021,     51,  99,-999.0,       7,-999.0,19940724,1744,  22.7493, -157.9988,  4724, 4199.400,    1.464,   34.687,2,   34.686,2,  151.500,2,  149.900,2,  150.590,2,   35.860,2,    2.530,2, -999.000
           NA,HOT timeseries 1988to2019 27SEP2021,     51,  99,-999.0,      23,-999.0,19940724,1744,  22.7493, -157.9988,  4724, 4299.300,    1.471,   34.687,2, -999.000,4, -999.000,3, -999.000,4, -999.000,4, -999.000,4, -999.000,4, -999.000
           NA,HOT timeseries 1988to2019 27SEP2021,     51,  99,-999.0,      36,-999.0,19940724,1744,  22.7493, -157.9988,  4724, 4400.200,    1.478,   34.688,2,   34.690,2,  152.300,2,  151.300,2,  150.520,2,   35.710,2,    2.490,2, -999.000
           NA,HOT timeseries 1988to2019 27SEP2021,     51,  99,-999.0,      35,-999.0,19940724,1744,  22.7493, -157.9988,  4724, 4499.300,    1.486,   34.688,2,   34.690,2,  152.100,2,  151.600,2,  149.080,2,   35.850,2,    2.490,2, -999.000
           NA,HOT timeseries 1988to2019 27SEP2021,     51,  99,-999.0,      34,-999.0,19940724,1744,  22.7493, -157.9988,  4724, 4537.200,    1.489,   34.688,2,   34.687,2,  152.200,2,  152.100,2,  148.480,2,   35.720,2,    2.480,2, -999.000
           NA,HOT timeseries 1988to2019 27SEP2021,     51,  99,-999.0,      33,-999.0,19940724,1744,  22.7493, -157.9988,  4724, 4804.700,    1.513,   34.689,2,   34.689,2,  152.100,2,  153.400,2,  148.230,2,   35.760,2,    2.490,2, -999.000