BOTTLE,20214727JOAExport
EXPOCODE,SECT_ID,STNNBR,CASTNO,SAMPNO,BTLNBR,BTLNBR_FLAG_W,DATE,TIME,LATITUDE,LONGITUDE,DEPTH,CTDPRS,CTDTMP,CTDSAL,CTDSAL_FLAG_W,SALNTY,SALNTY_FLAG_W,CTDOXY,CTDOXY_FLAG_W,OXYGEN,OXYGEN_FLAG_W,SILCAT,SILCAT_FLAG_W,NINI,NINI_FLAG_W,PHSPHT,PHSPHT_FLAG_W,REVP
,,,,,,,,,,,,DB,IPTS-68,PSS-78,,PSS-78,,UMOL/KG,,UMOL/KG,,UMOL/KG,,UMOL/KG,,UMOL/KG,,DBAR
           NA,HOT timeseries 1988to2019 27SEP2021,    222,  99,-999.0,    8024,-999.0,20111219,1936,  22.7495, -158.0025,  4747,    5.500,   24.018,   35.277,2,   35.277,2,  207.900,2,  208.000,2,    0.930,2,    0.040,2,    0.060,2, -999.000
           NA,HOT timeseries 1988to2019 27SEP2021,    222,  99,-999.0,    8024,-999.0,20111219,1936,  22.7495, -158.0025,  4747,    6.200,   24.031,   35.275,2,   35.276,2,  208.800,2,  208.100,2,    0.900,2,    0.010,2,    0.060,2, -999.000
           NA,HOT timeseries 1988to2019 27SEP2021,    222,  99,-999.0,    8023,-999.0,20111219,1936,  22.7495, -158.0025,  4747,   61.400,   24.000,   35.277,2,   35.277,2,  207.900,2,  208.300,2,    0.930,2,    0.060,2,    0.060,2, -999.000
           NA,HOT timeseries 1988to2019 27SEP2021,    222,  99,-999.0,    8022,-999.0,20111219,1936,  22.7495, -158.0025,  4747,  119.200,   23.788,   35.296,2,   35.296,2,  206.100,2,  206.300,2,    0.970,2,    0.150,2,    0.070,2, -999.000
           NA,HOT timeseries 1988to2019 27SEP2021,    222,  99,-999.0,    8021,-999.0,20111219,1936,  22.7495, -158.0025,  4747,  147.200,   21.888,   35.294,2,   35.296,2,  203.700,2,  203.900,2,    1.410,2,    0.620,2,    0.090,2, -999.000
           NA,HOT timeseries 1988to2019 27SEP2021,    222,  99,-999.0,    8020,-999.0,20111219,1936,  22.7495, -158.0025,  4747,  186.300,   19.532,   35.072,2,   35.059,2,  194.600,2,  194.000,2,    2.230,2,    2.030,2,    0.190,2, -999.000
           NA,HOT timeseries 1988to2019 27SEP2021,    222,  99,-999.0,    8019,-999.0,20111219,1936,  22.7495, -158.0025,  4747,  239.400,   15.517,   34.543,2,   34.549,2,  200.900,2,  200.500,2,    4.770,2,    5.370,2,    0.420,2, -999.000
           NA,HOT timeseries 1988to2019 27SEP2021,    222,  99,-999.0,    8018,-999.0,20111219,1936,  22.7495, -158.0025,  4747,  281.800,   13.578,   34.331,2,   34.316,2,  201.700,2,  201.800,2,    7.810,2,    8.570,2,    0.620,2, -999.000
           NA,HOT timeseries 1988to2019 27SEP2021,    222,  99,-999.0,    8017,-999.0,20111219,1936,  22.7495, -158.0025,  4747,  321.400,   11.698,   34.213,2,   34.216,2,  203.000,2,  202.400,2,   11.850,2,   12.130,2,    0.850,2, -999.000
           NA,HOT timeseries 1988to2019 27SEP2021,    222,  99,-999.0,    8016,-999.0,20111219,1936,  22.7495, -158.0025,  4747,  366.800,   10.577,   34.155,2,   34.164,2,  200.400,2,  199.600,2,   15.820,2,   14.640,2,    1.020,2, -999.000
           NA,HOT timeseries 1988to2019 27SEP2021,    222,  99,-999.0,    8015,-999.0,20111219,1936,  22.7495, -158.0025,  4747,  410.200,    9.190,   34.125,2,   34.125,2,  143.200,2,  148.200,2,   27.770,2,   21.900,2,    1.580,2, -999.000
           NA,HOT timeseries 1988to2019 27SEP2021,    222,  99,-999.0,    8014,-999.0,20111219,1936,  22.7495, -158.0025,  4747,  455.100,    8.372,   34.086,2,   34.085,2,  139.600,2,  135.700,2,   34.600,2,   24.900,2,    1.770,2, -999.000
           NA,HOT timeseries 1988to2019 27SEP2021,    222,  99,-999.0,    8012,-999.0,20111219,1936,  22.7495, -158.0025,  4747,  533.300,    6.637,   34.057,2,   34.064,2,   93.700,2,   94.800,2,   54.070,2,   32.300,2,    2.290,2, -999.000
           NA,HOT timeseries 1988to2019 27SEP2021,    222,  99,-999.0,    8011,-999.0,20111219,1936,  22.7495, -158.0025,  4747,  569.600,    5.841,   34.072,2,   34.072,2,   72.000,2,   71.300,2,   67.130,2,   35.670,2,    2.530,2, -999.000
           NA,HOT timeseries 1988to2019 27SEP2021,    222,  99,-999.0,    8010,-999.0,20111219,1936,  22.7495, -158.0025,  4747,  633.800,    5.301,   34.117,2,   34.117,2,   52.400,2,   51.700,2,   78.080,2,   38.070,2,    2.710,2, -999.000
           NA,HOT timeseries 1988to2019 27SEP2021,    222,  99,-999.0,    8009,-999.0,20111219,1936,  22.7495, -158.0025,  4747,  683.700,    4.793,   34.186,2,   34.183,2,   34.600,2,   35.800,2,   90.330,2,   40.270,2,    2.890,2, -999.000
           NA,HOT timeseries 1988to2019 27SEP2021,    222,  99,-999.0,    8008,-999.0,20111219,1936,  22.7495, -158.0025,  4747,  714.800,    4.671,   34.232,2,   34.229,2,   29.000,2,   28.200,2,   96.220,2,   40.930,2,    2.940,2, -999.000
           NA,HOT timeseries 1988to2019 27SEP2021,    222,  99,-999.0,    8026,-999.0,20111219,1936,  22.7495, -158.0025,  4747,  747.700,    4.476,   34.263,2,   34.268,2,   26.500,2,   25.100,2,  100.460,2,   41.550,2,    2.990,2, -999.000
           NA,HOT timeseries 1988to2019 27SEP2021,    222,  99,-999.0,    8006,-999.0,20111219,1936,  22.7495, -158.0025,  4747,  799.100,    4.337,   34.326,2,   34.324,2,   25.500,2,   25.100,2,  104.890,2,   41.680,2,    2.990,2, -999.000
           NA,HOT timeseries 1988to2019 27SEP2021,    222,  99,-999.0,    8004,-999.0,20111219,1936,  22.7495, -158.0025,  4747,  884.300,    4.185,   34.401,2,   34.407,2,   31.100,2,   31.500,2,  106.730,2,   41.460,2,    2.980,2, -999.000
           NA,HOT timeseries 1988to2019 27SEP2021,    222,  99,-999.0,    8003,-999.0,20111219,1936,  22.7495, -158.0025,  4747,  918.400,    4.095,   34.424,2, -999.000,4, -999.000,3,   33.800,2,  108.520,2,   41.430,2,    2.970,2, -999.000
           NA,HOT timeseries 1988to2019 27SEP2021,    222,  99,-999.0,    8002,-999.0,20111219,1936,  22.7495, -158.0025,  4747,  982.300,    3.932,   34.458,2,   34.460,2,   39.400,2,   39.700,2,  111.700,2,   41.570,2,    2.970,2, -999.000
           NA,HOT timeseries 1988to2019 27SEP2021,    222,  99,-999.0,    8001,-999.0,20111219,1936,  22.7495, -158.0025,  4747, 1018.700,    3.828,   34.475,2,   34.475,2,   42.300,2,   42.400,2,  113.460,2,   41.360,2,    2.960,2, -999.000
           NA,HOT timeseries 1988to2019 27SEP2021,    222,  99,-999.0,    8020,-999.0,20111219,1936,  22.7495, -158.0025,  4747, 1198.000,    3.310,   34.532,2,   34.532,2,   54.100,2,   54.300,2,  123.510,2,   40.840,2,    2.940,2, -999.000
           NA,HOT timeseries 1988to2019 27SEP2021,    222,  99,-999.0,    8019,-999.0,20111219,1936,  22.7495, -158.0025,  4747, 1399.100,    2.923,   34.558,2,   34.558,2,   62.600,2,   63.500,2,  132.140,2,   40.350,2,    2.900,2, -999.000
           NA,HOT timeseries 1988to2019 27SEP2021,    222,  99,-999.0,    8018,-999.0,20111219,1936,  22.7495, -158.0025,  4747, 1599.000,    2.538,   34.586,2,   34.586,2,   72.600,2,   73.500,2,  140.850,2,   40.010,2,    2.860,2, -999.000
           NA,HOT timeseries 1988to2019 27SEP2021,    222,  99,-999.0,    8017,-999.0,20111219,1936,  22.7495, -158.0025,  4747, 1798.900,    2.233,   34.608,2, -999.000,4, -999.000,3,   79.000,2,  145.130,2,   39.520,2,    2.830,2, -999.000
           NA,HOT timeseries 1988to2019 27SEP2021,    222,  99,-999.0,    8016,-999.0,20111219,1936,  22.7495, -158.0025,  4747, 1999.700,    2.039,   34.623,2,   34.622,2,   87.700,2,   88.900,2,  152.940,2,   39.230,2,    2.790,2, -999.000
           NA,HOT timeseries 1988to2019 27SEP2021,    222,  99,-999.0,    8015,-999.0,20111219,1936,  22.7495, -158.0025,  4747, 2199.500,    1.862,   34.636,2,   34.634,2,   94.000,2,   94.300,2,  157.810,2,   38.920,2,    2.740,2, -999.000
           NA,HOT timeseries 1988to2019 27SEP2021,    222,  99,-999.0,    8014,-999.0,20111219,1936,  22.7495, -158.0025,  4747, 2399.600,    1.742,   34.648,2,   34.647,2,  103.700,2,  104.800,2,  158.460,2,   38.190,2,    2.700,2, -999.000
           NA,HOT timeseries 1988to2019 27SEP2021,    222,  99,-999.0,    8025,-999.0,20111219,1936,  22.7495, -158.0025,  4747, 2598.900,    1.640,   34.657,2,   34.655,2,  110.300,2,  110.900,2,  160.470,2,   37.850,2,    2.660,2, -999.000
           NA,HOT timeseries 1988to2019 27SEP2021,    222,  99,-999.0,    8012,-999.0,20111219,1936,  22.7495, -158.0025,  4747, 2799.100,    1.576,   34.665,2,   34.665,2,  118.300,2, -999.000,5,  159.540,2,   37.330,2,    2.630,2, -999.000
           NA,HOT timeseries 1988to2019 27SEP2021,    222,  99,-999.0,    8011,-999.0,20111219,1936,  22.7495, -158.0025,  4747, 2999.200,    1.524,   34.671,2,   34.671,2,  125.600,2, -999.000,5,  157.780,2,   36.640,2,    2.580,2, -999.000
           NA,HOT timeseries 1988to2019 27SEP2021,    222,  99,-999.0,    8010,-999.0,20111219,1936,  22.7495, -158.0025,  4747, 3198.000,    1.478,   34.677,2,   34.676,2,  132.700,2,  133.000,2,  156.270,2,   36.430,2,    2.550,2, -999.000
           NA,HOT timeseries 1988to2019 27SEP2021,    222,  99,-999.0,    8009,-999.0,20111219,1936,  22.7495, -158.0025,  4747, 3398.700,    1.448,   34.681,2,   34.681,2,  138.700,2,  139.000,2,  154.140,2,   36.090,2,    2.520,2, -999.000
           NA,HOT timeseries 1988to2019 27SEP2021,    222,  99,-999.0,    8008,-999.0,20111219,1936,  22.7495, -158.0025,  4747, 3599.100,    1.441,   34.683,2,   34.684,2,  143.300,2,  142.800,2,  152.850,2,   35.890,2,    2.510,2, -999.000
           NA,HOT timeseries 1988to2019 27SEP2021,    222,  99,-999.0,    8026,-999.0,20111219,1936,  22.7495, -158.0025,  4747, 3799.200,    1.441,   34.685,2,   34.685,2,  146.000,2,  145.500,2,  150.960,2,   35.570,2,    2.490,2, -999.000
           NA,HOT timeseries 1988to2019 27SEP2021,    222,  99,-999.0,    8006,-999.0,20111219,1936,  22.7495, -158.0025,  4747, 3999.500,    1.449,   34.686,2,   34.686,2,  148.000,2,  147.500,2,  149.920,2,   35.440,2,    2.470,2, -999.000
           NA,HOT timeseries 1988to2019 27SEP2021,    222,  99,-999.0,    8005,-999.0,20111219,1936,  22.7495, -158.0025,  4747, 4199.900,    1.461,   34.687,2,   34.688,2,  149.800,2,  149.200,2,  149.410,2,   35.270,2,    2.470,2, -999.000
           NA,HOT timeseries 1988to2019 27SEP2021,    222,  99,-999.0,    8004,-999.0,20111219,1936,  22.7495, -158.0025,  4747, 4398.800,    1.475,   34.688,2,   34.689,2,  151.200,2,  150.400,2,  148.340,2,   35.190,2,    2.450,2, -999.000
           NA,HOT timeseries 1988to2019 27SEP2021,    222,  99,-999.0,    8003,-999.0,20111219,1936,  22.7495, -158.0025,  4747, 4498.700,    1.485,   34.688,2,   34.688,2,  151.600,2,  151.500,2,  148.430,2,   35.140,2,    2.460,2, -999.000
           NA,HOT timeseries 1988to2019 27SEP2021,    222,  99,-999.0,    8002,-999.0,20111219,1936,  22.7495, -158.0025,  4747, 4600.100,    1.493,   34.688,2,   34.690,2,  151.800,2,  152.000,2,  147.460,2,   35.210,2,    2.460,2, -999.000
           NA,HOT timeseries 1988to2019 27SEP2021,    222,  99,-999.0,    8001,-999.0,20111219,1936,  22.7495, -158.0025,  4747, 4807.400,    1.508,   34.689,2,   34.690,2,  152.900,2,  153.700,2,  146.550,2,   35.100,2,    2.430,2, -999.000