BOTTLE,20214727JOAExport
EXPOCODE,SECT_ID,STNNBR,CASTNO,SAMPNO,BTLNBR,BTLNBR_FLAG_W,DATE,TIME,LATITUDE,LONGITUDE,DEPTH,CTDPRS,CTDTMP,CTDSAL,CTDSAL_FLAG_W,SALNTY,SALNTY_FLAG_W,CTDOXY,CTDOXY_FLAG_W,OXYGEN,OXYGEN_FLAG_W,SILCAT,SILCAT_FLAG_W,NINI,NINI_FLAG_W,PHSPHT,PHSPHT_FLAG_W,REVP
,,,,,,,,,,,,DB,IPTS-68,PSS-78,,PSS-78,,UMOL/KG,,UMOL/KG,,UMOL/KG,,UMOL/KG,,UMOL/KG,,DBAR
           NA,HOT timeseries 1988to2019 27SEP2021,      3,  99,-999.0,      12,-999.0,19890108,0939,  22.7717, -157.9267,  4599,   19.700,   24.677,   35.036,2,   35.037,2,  222.300,2,  209.300,2,    0.930,2,    0.020,2,    0.090,2, -999.000
           NA,HOT timeseries 1988to2019 27SEP2021,      3,  99,-999.0,      12,-999.0,19890108,0939,  22.7717, -157.9267,  4599,   35.900,   24.711,   35.039,2,   35.042,2,  216.500,2,  212.400,2,    1.330,2,    0.020,2,    0.090,2, -999.000
           NA,HOT timeseries 1988to2019 27SEP2021,      3,  99,-999.0,      11,-999.0,19890108,0939,  22.7717, -157.9267,  4599,  118.800,   22.967,   35.103,2,   35.108,2,  215.800,2,  203.800,2,    1.910,2,    0.380,2,    0.130,2, -999.000
           NA,HOT timeseries 1988to2019 27SEP2021,      3,  99,-999.0,      10,-999.0,19890108,0939,  22.7717, -157.9267,  4599,  186.000,   19.848,   35.074,2,   35.074,2,  188.600,2,  185.300,2,    1.910,2,    2.750,2,    0.300,2, -999.000
           NA,HOT timeseries 1988to2019 27SEP2021,      3,  99,-999.0,      11,-999.0,19890108,0939,  22.7717, -157.9267,  4599,  204.900,   18.798,   34.995,2,   35.002,2,  181.800,2,  187.500,2,    2.300,2,    3.410,2,    0.320,2, -999.000
           NA,HOT timeseries 1988to2019 27SEP2021,      3,  99,-999.0,       9,-999.0,19890108,0939,  22.7717, -157.9267,  4599,  252.900,   16.242,   34.700,2,   34.710,2,  186.600,2,  193.100,2,    4.270,2,    5.200,2,    0.460,2, -999.000
           NA,HOT timeseries 1988to2019 27SEP2021,      3,  99,-999.0,       8,-999.0,19890108,0939,  22.7717, -157.9267,  4599,  334.200,   12.238,   34.284,2,   34.285,2,  174.800,2,  182.300,2,   13.100,2,   13.000,2,    1.020,2, -999.000
           NA,HOT timeseries 1988to2019 27SEP2021,      3,  99,-999.0,      10,-999.0,19890108,0939,  22.7717, -157.9267,  4599,  378.300,   10.555,   34.169,2,   34.175,2,  171.800,2,  181.300,2,   18.410,2,   16.680,2,    1.260,2, -999.000
           NA,HOT timeseries 1988to2019 27SEP2021,      3,  99,-999.0,       7,-999.0,19890108,0939,  22.7717, -157.9267,  4599,  384.700,   10.480,   34.182,2,   34.182,2,  165.500,2,  172.300,2,   19.590,2,   17.590,2,    1.340,2, -999.000
           NA,HOT timeseries 1988to2019 27SEP2021,      3,  99,-999.0,       6,-999.0,19890108,0939,  22.7717, -157.9267,  4599,  436.600,    9.201,   34.124,2,   34.125,2,  165.500,2,  166.300,2,   26.860,2,   20.960,2,    1.550,2, -999.000
           NA,HOT timeseries 1988to2019 27SEP2021,      3,  99,-999.0,       5,-999.0,19890108,0939,  22.7717, -157.9267,  4599,  504.200,    7.504,   34.095,2,   34.094,2,  123.200,2,  116.800,2,   45.510,2,   28.690,2,    2.140,2, -999.000
           NA,HOT timeseries 1988to2019 27SEP2021,      3,  99,-999.0,       4,-999.0,19890108,0939,  22.7717, -157.9267,  4599,  549.500,    6.691,   34.078,2,   34.076,2,  106.300,2,  100.200,2,   54.940,2,   31.850,2,    2.350,2, -999.000
           NA,HOT timeseries 1988to2019 27SEP2021,      3,  99,-999.0,       3,-999.0,19890108,0939,  22.7717, -157.9267,  4599,  596.900,    5.962,   34.120,2,   34.120,2,   76.500,2,   68.500,2,   68.290,2,   36.010,2,    2.680,2, -999.000
           NA,HOT timeseries 1988to2019 27SEP2021,      3,  99,-999.0,       9,-999.0,19890108,0939,  22.7717, -157.9267,  4599,  598.600,    6.169,   34.102,2,   34.104,2,   89.600,2,   77.000,2,   63.580,2,   34.800,2,    2.560,2, -999.000
           NA,HOT timeseries 1988to2019 27SEP2021,      3,  99,-999.0,       2,-999.0,19890108,0939,  22.7717, -157.9267,  4599,  710.800,    5.078,   34.256,2,   34.253,2,   36.700,2,   33.400,2,   88.120,2,   40.380,2,    3.000,2, -999.000
           NA,HOT timeseries 1988to2019 27SEP2021,      3,  99,-999.0,       8,-999.0,19890108,0939,  22.7717, -157.9267,  4599,  757.500,    4.809,   34.287,2,   34.288,2,   30.300,2,   31.800,2,   93.620,2,   41.110,2,    3.040,2, -999.000
           NA,HOT timeseries 1988to2019 27SEP2021,      3,  99,-999.0,       7,-999.0,19890108,0939,  22.7717, -157.9267,  4599,  928.800,    4.194,   34.445,2,   34.446,2,   37.400,2,   41.100,2,  107.750,2,   41.630,2,    3.060,2, -999.000
           NA,HOT timeseries 1988to2019 27SEP2021,      3,  99,-999.0,       1,-999.0,19890108,0939,  22.7717, -157.9267,  4599, 1016.400,    3.971,   34.474,2,   34.475,2,   43.000,2,   45.100,2,  111.670,2,   41.610,2,    3.040,2, -999.000
           NA,HOT timeseries 1988to2019 27SEP2021,      3,  99,-999.0,       6,-999.0,19890108,0939,  22.7717, -157.9267,  4599, 1148.500,    3.666,   34.515,2,   34.515,2,   48.000,2,   51.600,2,  117.550,2,   41.520,2,    3.020,2, -999.000
           NA,HOT timeseries 1988to2019 27SEP2021,      3,  99,-999.0,       5,-999.0,19890108,0939,  22.7717, -157.9267,  4599, 1351.300,    3.183,   34.551,2,   34.554,2,   57.000,2,   60.700,2,  126.970,2,   41.410,2,    3.000,2, -999.000
           NA,HOT timeseries 1988to2019 27SEP2021,      3,  99,-999.0,       4,-999.0,19890108,0939,  22.7717, -157.9267,  4599, 1600.200,    2.694,   34.582,2,   34.582,2,   68.500,2,   73.200,2,  138.170,2,   40.890,2,    2.960,2, -999.000
           NA,HOT timeseries 1988to2019 27SEP2021,      3,  99,-999.0,       3,-999.0,19890108,0939,  22.7717, -157.9267,  4599, 1775.800,    2.413,   34.598,2,   34.598,2,   75.800,2,   78.500,2,  143.070,2,   40.460,2,    2.900,2, -999.000
           NA,HOT timeseries 1988to2019 27SEP2021,      3,  99,-999.0,       2,-999.0,19890108,0939,  22.7717, -157.9267,  4599, 1926.600,    2.217,   34.610,2, -999.000,5,   79.900,2,   84.400,2,  148.960,2,   40.260,2,    2.870,2, -999.000
           NA,HOT timeseries 1988to2019 27SEP2021,      3,  99,-999.0,       1,-999.0,19890108,0939,  22.7717, -157.9267,  4599, 2201.100,    1.910,   34.632,2,   34.632,2,   91.100,2,   93.700,2,  156.810,2,   39.730,2,    2.820,2, -999.000
           NA,HOT timeseries 1988to2019 27SEP2021,      3,  99,-999.0,      12,-999.0,19890108,0939,  22.7717, -157.9267,  4599, 2396.700,    1.792,   34.642,2,   34.643,2,   98.200,2,  101.400,2,  160.740,2,   39.420,2,    2.790,2, -999.000
           NA,HOT timeseries 1988to2019 27SEP2021,      3,  99,-999.0,      11,-999.0,19890108,0939,  22.7717, -157.9267,  4599, 2575.100,    1.685,   34.652,2,   34.654,2,  107.500,2,  110.200,2,  160.330,2,   38.720,2,    2.750,2, -999.000
           NA,HOT timeseries 1988to2019 27SEP2021,      3,  99,-999.0,      10,-999.0,19890108,0939,  22.7717, -157.9267,  4599, 2786.400,    1.591,   34.663,2, -999.000,4, -999.000,3,  119.900,2,  159.940,2,   38.150,2,    2.710,2, -999.000
           NA,HOT timeseries 1988to2019 27SEP2021,      3,  99,-999.0,       9,-999.0,19890108,0939,  22.7717, -157.9267,  4599, 2987.600,    1.539,   34.670,2,   34.671,2,  125.600,2,  126.600,2,  158.770,2,   37.730,2,    2.680,2, -999.000
           NA,HOT timeseries 1988to2019 27SEP2021,      3,  99,-999.0,       8,-999.0,19890108,0939,  22.7717, -157.9267,  4599, 3197.600,    1.494,   34.675,2,   34.676,2,  133.900,2,  134.300,2, -999.000,5, -999.000,5, -999.000,5, -999.000
           NA,HOT timeseries 1988to2019 27SEP2021,      3,  99,-999.0,       7,-999.0,19890108,0939,  22.7717, -157.9267,  4599, 3402.800,    1.471,   34.680,2,   34.677,2,  140.100,2,  137.600,2,  156.800,2,   36.990,2,    2.590,2, -999.000
           NA,HOT timeseries 1988to2019 27SEP2021,      3,  99,-999.0,       6,-999.0,19890108,0939,  22.7717, -157.9267,  4599, 3590.000,    1.455,   34.683,2,   34.683,2,  145.100,2,  143.600,2,  155.430,2,   36.570,2,    2.560,2, -999.000
           NA,HOT timeseries 1988to2019 27SEP2021,      3,  99,-999.0,       5,-999.0,19890108,0939,  22.7717, -157.9267,  4599, 3794.800,    1.449,   34.686,2,   34.685,2,  150.100,2,  149.900,2,  152.490,2,   36.360,2,    2.560,2, -999.000
           NA,HOT timeseries 1988to2019 27SEP2021,      3,  99,-999.0,       4,-999.0,19890108,0939,  22.7717, -157.9267,  4599, 4003.600,    1.453,   34.688,2, -999.000,3, -999.000,3,  150.000,2,  153.460,2,   36.250,2,    2.520,2, -999.000
           NA,HOT timeseries 1988to2019 27SEP2021,      3,  99,-999.0,       2,-999.0,19890108,0939,  22.7717, -157.9267,  4599, 4403.300,    1.477,   34.689,2,   34.689,2,  157.700,2,  155.700,2,  149.540,2,   36.200,2,    2.520,2, -999.000
           NA,HOT timeseries 1988to2019 27SEP2021,      3,  99,-999.0,       1,-999.0,19890108,0939,  22.7717, -157.9267,  4599, 4504.900,    1.486,   34.690,2,   34.689,2,  158.600,2, -999.000,3,  148.950,2,   35.940,2,    2.530,2, -999.000
           NA,HOT timeseries 1988to2019 27SEP2021,      4,  99,-999.0,      12,-999.0,19890228,1729,  22.6100, -157.9867,  4749,   47.000,   23.350,   35.177,2, -999.000,5,  223.000,2,  214.000,2,    0.930,2,    0.050,2,    0.080,2, -999.000
           NA,HOT timeseries 1988to2019 27SEP2021,      4,  99,-999.0,      11,-999.0,19890228,1729,  22.6100, -157.9867,  4749,  131.000,   22.215,   35.322,2,   35.339,2,  208.100,2,  208.000,2,    1.710,2,    0.240,2,    0.110,2, -999.000
           NA,HOT timeseries 1988to2019 27SEP2021,      4,  99,-999.0,      10,-999.0,19890228,1729,  22.6100, -157.9867,  4749,  162.100,   19.853,   35.120,2, -999.000,5,  190.600,2,  195.600,2,    2.880,2,    1.910,2,    0.240,2, -999.000
           NA,HOT timeseries 1988to2019 27SEP2021,      4,  99,-999.0,      12,-999.0,19890228,1729,  22.6100, -157.9867,  4749,  201.700,   16.418,   34.778,2, -999.000,5,  199.000,2,  207.200,2,    3.860,2,    3.830,2,    0.360,2, -999.000
           NA,HOT timeseries 1988to2019 27SEP2021,      4,  99,-999.0,       9,-999.0,19890228,1729,  22.6100, -157.9867,  4749,  203.700,   16.500,   34.786,2, -999.000,5,  198.500,2,  207.400,2,    3.860,2,    3.950,2,    0.390,2, -999.000
           NA,HOT timeseries 1988to2019 27SEP2021,      4,  99,-999.0,       8,-999.0,19890228,1729,  22.6100, -157.9867,  4749,  299.800,   12.496,   34.357,2, -999.000,5,  208.800,2,  216.000,2,    9.820,2,    9.720,2,    0.750,2, -999.000
           NA,HOT timeseries 1988to2019 27SEP2021,      4,  99,-999.0,       7,-999.0,19890228,1729,  22.6100, -157.9867,  4749,  355.400,   10.805,   34.232,2, -999.000,5,  206.900,2,  212.300,2,   15.990,2,   13.380,2,    0.990,2, -999.000
           NA,HOT timeseries 1988to2019 27SEP2021,      4,  99,-999.0,      11,-999.0,19890228,1729,  22.6100, -157.9867,  4749,  404.400,    9.900,   34.159,2,   34.163,2,  202.800,2,  201.100,2,   19.900,2,   16.320,2,    1.180,2, -999.000
           NA,HOT timeseries 1988to2019 27SEP2021,      4,  99,-999.0,       6,-999.0,19890228,1729,  22.6100, -157.9867,  4749,  423.700,    8.816,   34.132,2,   34.133,2,  143.500,2,  144.800,2,   33.380,2,   23.740,2,    1.790,2, -999.000
           NA,HOT timeseries 1988to2019 27SEP2021,      4,  99,-999.0,       5,-999.0,19890228,1729,  22.6100, -157.9867,  4749,  571.500,    6.495,   34.170,2, -999.000,5,   68.700,2,   66.200,2,   61.740,2,   34.940,2,    2.590,2, -999.000
           NA,HOT timeseries 1988to2019 27SEP2021,      4,  99,-999.0,      10,-999.0,19890228,1729,  22.6100, -157.9867,  4749,  601.200,    6.243,   34.198,2,   34.193,2,   60.500,2,   56.300,2,   65.650,2,   36.050,2,    2.670,2, -999.000
           NA,HOT timeseries 1988to2019 27SEP2021,      4,  99,-999.0,       4,-999.0,19890228,1729,  22.6100, -157.9867,  4749,  678.000,    5.564,   34.296,2, -999.000,5,   39.900,2,   38.500,2,   80.310,2,   39.390,2,    2.900,2, -999.000
           NA,HOT timeseries 1988to2019 27SEP2021,      4,  99,-999.0,       3,-999.0,19890228,1729,  22.6100, -157.9867,  4749,  745.500,    5.102,   34.364,2, -999.000,5,   34.900,2,   36.000,2,   89.100,2,   40.720,2,    2.980,2, -999.000
           NA,HOT timeseries 1988to2019 27SEP2021,      4,  99,-999.0,       9,-999.0,19890228,1729,  22.6100, -157.9867,  4749,  787.300,    5.037,   34.372,2,   34.371,2,   33.200,2,   34.700,2,   91.050,2,   40.720,2,    2.980,2, -999.000
           NA,HOT timeseries 1988to2019 27SEP2021,      4,  99,-999.0,       2,-999.0,19890228,1729,  22.6100, -157.9867,  4749,  810.500,    4.625,   34.440,2, -999.000,5,   37.800,2,   38.700,2,   98.480,2,   41.490,2,    3.030,2, -999.000
           NA,HOT timeseries 1988to2019 27SEP2021,      4,  99,-999.0,       1,-999.0,19890228,1729,  22.6100, -157.9867,  4749,  980.200,    4.164,   34.489,2, -999.000,5,   44.400,2,   44.700,2,  107.270,2,   41.610,2,    3.030,2, -999.000
           NA,HOT timeseries 1988to2019 27SEP2021,      4,  99,-999.0,       8,-999.0,19890228,1729,  22.6100, -157.9867,  4749,  998.700,    4.185,   34.478,2,   34.478,2,   43.100,2,   43.800,2,  107.670,2,   41.610,2,    3.020,2, -999.000
           NA,HOT timeseries 1988to2019 27SEP2021,      4,  99,-999.0,       7,-999.0,19890228,1729,  22.6100, -157.9867,  4749, 1201.200,    3.701,   34.528,2,   34.527,2,   52.100,2,   52.100,2,  117.440,2,   41.550,2,    3.030,2, -999.000
           NA,HOT timeseries 1988to2019 27SEP2021,      4,  99,-999.0,       6,-999.0,19890228,1729,  22.6100, -157.9867,  4749, 1395.300,    3.105,   34.555,2,   34.553,2,   62.900,2,   62.100,2, -999.000,5, -999.000,5, -999.000,5, -999.000
           NA,HOT timeseries 1988to2019 27SEP2021,      4,  99,-999.0,       5,-999.0,19890228,1729,  22.6100, -157.9867,  4749, 1601.600,    2.701,   34.585,2,   34.583,2,   74.300,2,   74.600,2,  137.960,2,   40.830,2,    2.900,2, -999.000
           NA,HOT timeseries 1988to2019 27SEP2021,      4,  99,-999.0,       4,-999.0,19890228,1729,  22.6100, -157.9867,  4749, 1802.900,    2.384,   34.602,2,   34.600,2,   83.000,2,   81.800,2,  145.770,2,   40.270,2,    2.850,2, -999.000
           NA,HOT timeseries 1988to2019 27SEP2021,      4,  99,-999.0,       3,-999.0,19890228,1729,  22.6100, -157.9867,  4749, 2003.600,    2.138,   34.618,2,   34.617,2,   88.900,2,   89.000,2,  152.220,2,   39.940,2,    2.830,2, -999.000
           NA,HOT timeseries 1988to2019 27SEP2021,      4,  99,-999.0,       2,-999.0,19890228,1729,  22.6100, -157.9867,  4749, 2201.300,    1.942,   34.629,2,   34.630,2,   94.000,2,   93.900,2,  157.500,2,   39.600,2,    2.790,2, -999.000
           NA,HOT timeseries 1988to2019 27SEP2021,      4,  99,-999.0,      12,-999.0,19890228,1729,  22.6100, -157.9867,  4749, 2399.100,    1.806,   34.639,2,   34.641,2,  100.300,2,  100.800,2,  160.430,2,   39.150,2,    2.770,2, -999.000
           NA,HOT timeseries 1988to2019 27SEP2021,      4,  99,-999.0,      11,-999.0,19890228,1729,  22.6100, -157.9867,  4749, 2601.800,    1.684,   34.651,2,   34.653,2,  109.300,2,  110.100,2,  161.020,2,   38.700,2,    2.720,2, -999.000
           NA,HOT timeseries 1988to2019 27SEP2021,      4,  99,-999.0,      10,-999.0,19890228,1729,  22.6100, -157.9867,  4749, 2804.000,    1.605,   34.660,2,   34.660,2,  117.400,2,  117.800,2,  161.020,2,   38.150,2,    2.670,2, -999.000
           NA,HOT timeseries 1988to2019 27SEP2021,      4,  99,-999.0,       9,-999.0,19890228,1729,  22.6100, -157.9867,  4749, 3005.600,    1.551,   34.667,2,   34.667,2,  125.700,2,  126.000,2,  159.450,2,   37.590,2,    2.650,2, -999.000
           NA,HOT timeseries 1988to2019 27SEP2021,      4,  99,-999.0,       8,-999.0,19890228,1729,  22.6100, -157.9867,  4749, 3197.600,    1.513,   34.672,2,   34.673,2,  132.300,2,  131.400,2,  158.770,2,   37.200,2,    2.610,2, -999.000
           NA,HOT timeseries 1988to2019 27SEP2021,      4,  99,-999.0,       7,-999.0,19890228,1729,  22.6100, -157.9867,  4749, 3400.300,    1.482,   34.678,2,   34.678,2,  139.000,2,  138.600,2,  156.520,2,   36.700,2,    2.580,2, -999.000
           NA,HOT timeseries 1988to2019 27SEP2021,      4,  99,-999.0,       6,-999.0,19890228,1729,  22.6100, -157.9867,  4749, 3599.300,    1.467,   34.681,2,   34.681,2,  143.100,2,  143.000,2,  153.590,2,   36.480,2,    2.570,2, -999.000
           NA,HOT timeseries 1988to2019 27SEP2021,      4,  99,-999.0,       5,-999.0,19890228,1729,  22.6100, -157.9867,  4749, 3800.900,    1.453,   34.684,2,   34.683,2,  147.900,2,  147.200,2,  153.590,2,   36.250,2,    2.540,2, -999.000
           NA,HOT timeseries 1988to2019 27SEP2021,      4,  99,-999.0,       4,-999.0,19890228,1729,  22.6100, -157.9867,  4749, 4000.300,    1.456,   34.685,2,   34.686,2,  151.000,2,  150.200,2,  151.630,2,   35.920,2,    2.530,2, -999.000
           NA,HOT timeseries 1988to2019 27SEP2021,      4,  99,-999.0,       2,-999.0,19890228,1729,  22.6100, -157.9867,  4749, 4396.500,    1.480,   34.688,2,   34.687,2,  153.700,2,  153.600,2,  149.280,2,   35.690,2,    2.510,2, -999.000
           NA,HOT timeseries 1988to2019 27SEP2021,      5,   5,-999.0,      12,-999.0,19890327,0729,  22.7800, -157.9183,  4674,   26.700,   24.130,   34.786,2, -999.000,4, -999.000,3,  244.900,2,    2.010,2,    0.140,2,    0.120,2, -999.000
           NA,HOT timeseries 1988to2019 27SEP2021,      5,   5,-999.0,      11,-999.0,19890327,0729,  22.7800, -157.9183,  4674,  111.100,   23.072,   35.176,2, -999.000,3, -999.000,3,  211.800,2,    1.430,2,    0.050,2,    0.090,2, -999.000
           NA,HOT timeseries 1988to2019 27SEP2021,      5,   5,-999.0,      10,-999.0,19890327,0729,  22.7800, -157.9183,  4674,  144.100,   21.417,   35.093,2, -999.000,3, -999.000,3,  199.800,2,    1.620,2,    0.920,2,    0.200,2, -999.000
           NA,HOT timeseries 1988to2019 27SEP2021,      5,   5,-999.0,       9,-999.0,19890327,0729,  22.7800, -157.9183,  4674,  212.000,   19.002,   34.987,2,   34.969,2,  188.900,2,  191.100,2,    2.790,2,    3.080,2,    0.330,2, -999.000
           NA,HOT timeseries 1988to2019 27SEP2021,      5,   5,-999.0,       8,-999.0,19890327,0729,  22.7800, -157.9183,  4674,  266.800,   16.453,   34.725,2,   34.709,2,  191.500,2,  195.300,2,    4.370,2,    5.150,2,    0.460,2, -999.000
           NA,HOT timeseries 1988to2019 27SEP2021,      5,   5,-999.0,       7,-999.0,19890327,0729,  22.7800, -157.9183,  4674,  351.800,   12.239,   34.301,2,   34.293,2,  210.300,2,  210.100,2,   10.260,2,   10.500,2,    0.800,2, -999.000
           NA,HOT timeseries 1988to2019 27SEP2021,      5,   5,-999.0,       6,-999.0,19890327,0729,  22.7800, -157.9183,  4674,  386.600,   10.720,   34.190,2,   34.179,2,  192.300,2,  193.500,2,   16.940,2,   15.340,2,    1.140,2, -999.000
           NA,HOT timeseries 1988to2019 27SEP2021,      5,   5,-999.0,       5,-999.0,19890327,0729,  22.7800, -157.9183,  4674,  423.000,    9.820,   34.149,2, -999.000,4, -999.000,3,  199.900,2,   20.480,2,   17.000,2,    1.220,2, -999.000
           NA,HOT timeseries 1988to2019 27SEP2021,      5,   5,-999.0,       4,-999.0,19890327,0729,  22.7800, -157.9183,  4674,  453.200,    9.110,   34.114,2,   34.107,2,  192.100,2,  191.100,2,   25.100,2,   19.130,2,    1.390,2, -999.000
           NA,HOT timeseries 1988to2019 27SEP2021,      5,   5,-999.0,       3,-999.0,19890327,0729,  22.7800, -157.9183,  4674,  535.000,    7.178,   34.047,2,   34.039,2,  145.200,2,  144.000,2,   45.240,2,   27.280,2,    1.960,2, -999.000
           NA,HOT timeseries 1988to2019 27SEP2021,      5,   5,-999.0,       2,-999.0,19890327,0729,  22.7800, -157.9183,  4674,  570.500,    6.455,   34.041,2,   34.035,2,  117.200,2,  114.800,2,   55.460,2,   31.070,2,    2.270,2, -999.000
           NA,HOT timeseries 1988to2019 27SEP2021,      5,   5,-999.0,       1,-999.0,19890327,0729,  22.7800, -157.9183,  4674,  633.500,    5.533,   34.092,2,   34.080,2,   65.000,2,   66.700,2,   73.140,2,   36.760,2,    2.690,2, -999.000