BOTTLE,20214727JOAExport
EXPOCODE,SECT_ID,STNNBR,CASTNO,SAMPNO,BTLNBR,BTLNBR_FLAG_W,DATE,TIME,LATITUDE,LONGITUDE,DEPTH,CTDPRS,CTDTMP,CTDSAL,CTDSAL_FLAG_W,SALNTY,SALNTY_FLAG_W,CTDOXY,CTDOXY_FLAG_W,OXYGEN,OXYGEN_FLAG_W,SILCAT,SILCAT_FLAG_W,NINI,NINI_FLAG_W,PHSPHT,PHSPHT_FLAG_W,REVP
,,,,,,,,,,,,DB,IPTS-68,PSS-78,,PSS-78,,UMOL/KG,,UMOL/KG,,UMOL/KG,,UMOL/KG,,UMOL/KG,,DBAR
           NA,HOT timeseries 1988to2019 27SEP2021,    108,  99,-999.0,      31,-999.0,20000229,1257,  22.7482, -158.0013,  4721,    5.000,   23.458,   35.176,2,   35.178,2,  215.500,2,  214.400,2, -999.000,3,    0.010,2,    0.120,2, -999.000
           NA,HOT timeseries 1988to2019 27SEP2021,    108,  99,-999.0,      30,-999.0,20000229,1257,  22.7482, -158.0013,  4721,   49.300,   23.477,   35.181,2,   35.190,2,  215.100,2,  214.500,2,    1.220,2,    0.040,2, -999.000,3, -999.000
           NA,HOT timeseries 1988to2019 27SEP2021,    108,  99,-999.0,      22,-999.0,20000229,1257,  22.7482, -158.0013,  4721,   97.800,   23.029,   35.349,2,   35.344,2,  214.900,2,  213.700,2,    1.250,2,    0.050,2,    0.150,2, -999.000
           NA,HOT timeseries 1988to2019 27SEP2021,    108,  99,-999.0,      21,-999.0,20000229,1257,  22.7482, -158.0013,  4721,  149.100,   20.971,   35.205,2,   35.206,2,  201.200,2,  202.500,2,    2.170,2,    0.750,2,    0.200,2, -999.000
           NA,HOT timeseries 1988to2019 27SEP2021,    108,  99,-999.0,      20,-999.0,20000229,1257,  22.7482, -158.0013,  4721,  178.900,   20.085,   35.162,2,   35.167,2,  199.700,2,  199.300,2, -999.000,3,    1.540,2,    0.210,2, -999.000
           NA,HOT timeseries 1988to2019 27SEP2021,    108,  99,-999.0,      19,-999.0,20000229,1257,  22.7482, -158.0013,  4721,  226.600,   17.860,   34.906,2,   34.910,2,  198.500,2,  199.500,2,    3.160,2,    3.030,2,    0.310,2, -999.000
           NA,HOT timeseries 1988to2019 27SEP2021,    108,  99,-999.0,      18,-999.0,20000229,1257,  22.7482, -158.0013,  4721,  267.400,   15.464,   34.588,2, -999.000,3, -999.000,3,  200.900,2,    5.250,2,    5.170,2,    0.450,2, -999.000
           NA,HOT timeseries 1988to2019 27SEP2021,    108,  99,-999.0,      17,-999.0,20000229,1257,  22.7482, -158.0013,  4721,  301.500,   13.831,   34.376,2,   34.376,2,  201.400,2,  200.600,2,    7.250,2,    7.590,2,    0.640,2, -999.000
           NA,HOT timeseries 1988to2019 27SEP2021,    108,  99,-999.0,      15,-999.0,20000229,1257,  22.7482, -158.0013,  4721,  386.500,    9.983,   34.109,2,   34.111,2,  192.700,2,  191.100,2,   18.710,2,   16.550,2,    1.160,2, -999.000
           NA,HOT timeseries 1988to2019 27SEP2021,    108,  99,-999.0,      14,-999.0,20000229,1257,  22.7482, -158.0013,  4721,  438.900,    8.585,   34.071,2,   34.072,2,  169.900,2,  173.700,2,   28.930,2,   21.300,2,    1.480,2, -999.000
           NA,HOT timeseries 1988to2019 27SEP2021,    108,  99,-999.0,      13,-999.0,20000229,1257,  22.7482, -158.0013,  4721,  474.600,    7.936,   34.050,2,   34.052,2,  162.400,2,  160.200,2,   35.350,2,   23.880,2,    1.700,2, -999.000
           NA,HOT timeseries 1988to2019 27SEP2021,    108,  99,-999.0,      12,-999.0,20000229,1257,  22.7482, -158.0013,  4721,  507.400,    7.139,   34.033,2,   34.033,2,  139.200,2,  137.400,2,   45.040,2,   27.550,2,    1.970,2, -999.000
           NA,HOT timeseries 1988to2019 27SEP2021,    108,  99,-999.0,      11,-999.0,20000229,1257,  22.7482, -158.0013,  4721,  543.800,    6.484,   34.026,2,   34.027,2,  114.000,2,  113.900,2,   53.630,2,   30.500,2,    2.260,2, -999.000
           NA,HOT timeseries 1988to2019 27SEP2021,    108,  99,-999.0,      32,-999.0,20000229,1257,  22.7482, -158.0013,  4721,  580.400,    5.795,   34.044,2,   34.044,2,   88.500,2,   88.900,2,   65.950,2,   34.040,2,    2.510,2, -999.000
           NA,HOT timeseries 1988to2019 27SEP2021,    108,  99,-999.0,       3,-999.0,20000229,1257,  22.7482, -158.0013,  4721,  629.100,    5.865,   34.192,2,   34.195,2,   53.100,2,   49.900,2,   72.430,2,   36.800,2,    2.760,2, -999.000
           NA,HOT timeseries 1988to2019 27SEP2021,    108,  99,-999.0,      29,-999.0,20000229,1257,  22.7482, -158.0013,  4721,  685.800,    5.412,   34.265,2,   34.261,2,   38.700,2,   37.100,2,   81.180,2,   39.030,2,    2.900,2, -999.000
           NA,HOT timeseries 1988to2019 27SEP2021,    108,  99,-999.0,      28,-999.0,20000229,1257,  22.7482, -158.0013,  4721,  729.900,    5.176,   34.305,2,   34.303,2,   35.700,2,   33.700,2,   86.530,2,   39.860,2,    2.970,2, -999.000
           NA,HOT timeseries 1988to2019 27SEP2021,    108,  99,-999.0,       7,-999.0,20000229,1257,  22.7482, -158.0013,  4721,  774.300,    4.902,   34.330,2,   34.329,2,   34.600,2,   33.900,2,   92.060,2,   40.350,2,    2.990,2, -999.000
           NA,HOT timeseries 1988to2019 27SEP2021,    108,  99,-999.0,      38,-999.0,20000229,1257,  22.7482, -158.0013,  4721,  824.300,    4.821,   34.385,2,   34.386,2,   33.100,2,   33.500,2,   94.000,2,   40.780,2,    3.000,2, -999.000
           NA,HOT timeseries 1988to2019 27SEP2021,    108,  99,-999.0,      35,-999.0,20000229,1257,  22.7482, -158.0013,  4721,  924.300,    4.464,   34.427,2,   34.426,2,   38.000,2,   36.800,2,  101.250,2,   41.030,2,    3.000,2, -999.000
           NA,HOT timeseries 1988to2019 27SEP2021,    108,  99,-999.0,      34,-999.0,20000229,1257,  22.7482, -158.0013,  4721,  974.200,    4.257,   34.450,2,   34.448,2,   39.200,2,   39.400,2,  105.130,2,   41.090,2,    3.000,2, -999.000
           NA,HOT timeseries 1988to2019 27SEP2021,    108,  99,-999.0,      33,-999.0,20000229,1257,  22.7482, -158.0013,  4721, 1018.600,    4.123,   34.472,2,   34.470,2,   41.700,2,   41.500,2,  107.670,2,   41.500,2,    3.020,2, -999.000
           NA,HOT timeseries 1988to2019 27SEP2021,    108,  99,-999.0,      20,-999.0,20000229,1257,  22.7482, -158.0013,  4721, 1198.600,    3.646,   34.524,2,   34.523,2,   49.600,2,   49.600,2,  117.390,2,   40.950,2,    2.980,2, -999.000
           NA,HOT timeseries 1988to2019 27SEP2021,    108,  99,-999.0,      19,-999.0,20000229,1257,  22.7482, -158.0013,  4721, 1400.700,    3.054,   34.555,2,   34.557,2,   60.800,2,   61.700,2,  130.630,2,   40.770,2,    2.930,2, -999.000
           NA,HOT timeseries 1988to2019 27SEP2021,    108,  99,-999.0,      18,-999.0,20000229,1257,  22.7482, -158.0013,  4721, 1602.100,    2.705,   34.580,2,   34.579,2,   70.300,2,   70.500,2,  139.120,2,   40.470,2,    2.900,2, -999.000
           NA,HOT timeseries 1988to2019 27SEP2021,    108,  99,-999.0,      17,-999.0,20000229,1257,  22.7482, -158.0013,  4721, 1802.000,    2.390,   34.600,2,   34.599,2,   78.400,2,   79.200,2,  145.430,2,   40.010,2,    2.850,2, -999.000
           NA,HOT timeseries 1988to2019 27SEP2021,    108,  99,-999.0,      16,-999.0,20000229,1257,  22.7482, -158.0013,  4721, 2000.700,    2.178,   34.616,2,   34.615,2,   86.300,2,   86.900,2,  150.510,2,   39.660,2,    2.820,2, -999.000
           NA,HOT timeseries 1988to2019 27SEP2021,    108,  99,-999.0,      15,-999.0,20000229,1257,  22.7482, -158.0013,  4721, 2199.500,    1.966,   34.631,2,   34.631,2,   95.000,2,   96.100,2,  154.590,2,   38.520,2,    2.760,2, -999.000
           NA,HOT timeseries 1988to2019 27SEP2021,    108,  99,-999.0,      14,-999.0,20000229,1257,  22.7482, -158.0013,  4721, 2402.400,    1.811,   34.644,2,   34.643,2,  101.900,2,  102.400,2,  158.620,2,   38.220,2,    2.750,2, -999.000
           NA,HOT timeseries 1988to2019 27SEP2021,    108,  99,-999.0,      13,-999.0,20000229,1257,  22.7482, -158.0013,  4721, 2602.100,    1.710,   34.653,2,   34.653,2,  109.900,2,  110.700,2,  159.010,2,   37.710,2,    2.700,2, -999.000
           NA,HOT timeseries 1988to2019 27SEP2021,    108,  99,-999.0,      12,-999.0,20000229,1257,  22.7482, -158.0013,  4721, 2799.800,    1.618,   34.662,2,   34.661,2,  117.100,2,  117.800,2,  160.120,2,   37.490,2,    2.670,2, -999.000
           NA,HOT timeseries 1988to2019 27SEP2021,    108,  99,-999.0,      11,-999.0,20000229,1257,  22.7482, -158.0013,  4721, 2999.900,    1.568,   34.668,2,   34.667,2,  123.700,2,  123.900,2,  159.490,2,   37.160,2,    2.630,2, -999.000
           NA,HOT timeseries 1988to2019 27SEP2021,    108,  99,-999.0,      32,-999.0,20000229,1257,  22.7482, -158.0013,  4721, 3198.000,    1.533,   34.673,2,   34.672,2,  129.100,2,  129.200,2,  158.020,2,   36.950,2,    2.610,2, -999.000
           NA,HOT timeseries 1988to2019 27SEP2021,    108,  99,-999.0,       3,-999.0,20000229,1257,  22.7482, -158.0013,  4721, 3399.400,    1.505,   34.677,2,   34.679,2,  134.300,2,  133.700,2,  158.890,2,   36.840,2,    2.580,2, -999.000
           NA,HOT timeseries 1988to2019 27SEP2021,    108,  99,-999.0,      29,-999.0,20000229,1257,  22.7482, -158.0013,  4721, 3601.000,    1.486,   34.680,2,   34.680,2,  138.600,2,  139.100,2,  156.650,2,   36.370,2,    2.550,2, -999.000
           NA,HOT timeseries 1988to2019 27SEP2021,    108,  99,-999.0,      28,-999.0,20000229,1257,  22.7482, -158.0013,  4721, 3798.900,    1.474,   34.683,2,   34.684,2,  143.100,2,  143.100,2,  155.460,2,   36.210,2,    2.520,2, -999.000
           NA,HOT timeseries 1988to2019 27SEP2021,    108,  99,-999.0,       7,-999.0,20000229,1257,  22.7482, -158.0013,  4721, 3997.200,    1.469,   34.685,2,   34.685,2,  147.300,2,  146.400,2,  153.490,2,   36.080,2,    2.520,2, -999.000
           NA,HOT timeseries 1988to2019 27SEP2021,    108,  99,-999.0,      38,-999.0,20000229,1257,  22.7482, -158.0013,  4721, 4199.700,    1.471,   34.687,2,   34.688,2,  149.100,2,  149.600,2,  151.110,2,   35.790,2,    2.460,2, -999.000
           NA,HOT timeseries 1988to2019 27SEP2021,    108,  99,-999.0,      36,-999.0,20000229,1257,  22.7482, -158.0013,  4721, 4399.600,    1.480,   34.688,2,   34.689,2,  151.600,2,  151.400,2,  150.210,2,   35.770,2,    2.470,2, -999.000
           NA,HOT timeseries 1988to2019 27SEP2021,    108,  99,-999.0,      35,-999.0,20000229,1257,  22.7482, -158.0013,  4721, 4499.000,    1.487,   34.688,2,   34.689,2,  152.600,2,  152.400,2,  150.300,2,   35.730,2,    2.470,2, -999.000
           NA,HOT timeseries 1988to2019 27SEP2021,    108,  99,-999.0,      34,-999.0,20000229,1257,  22.7482, -158.0013,  4721, 4598.700,    1.495,   34.688,2,   34.689,2,  153.400,2,  152.900,2,  149.530,2,   35.480,2,    2.470,2, -999.000
           NA,HOT timeseries 1988to2019 27SEP2021,    108,  99,-999.0,      33,-999.0,20000229,1257,  22.7482, -158.0013,  4721, 4806.100,    1.508,   34.689,2,   34.691,2,  155.100,2,  154.800,2,  148.100,2,   35.480,2,    2.460,2, -999.000