BOTTLE,20214727JOAExport
EXPOCODE,SECT_ID,STNNBR,CASTNO,SAMPNO,BTLNBR,BTLNBR_FLAG_W,DATE,TIME,LATITUDE,LONGITUDE,DEPTH,CTDPRS,CTDTMP,CTDSAL,CTDSAL_FLAG_W,SALNTY,SALNTY_FLAG_W,CTDOXY,CTDOXY_FLAG_W,OXYGEN,OXYGEN_FLAG_W,SILCAT,SILCAT_FLAG_W,NINI,NINI_FLAG_W,PHSPHT,PHSPHT_FLAG_W,REVP
,,,,,,,,,,,,DB,IPTS-68,PSS-78,,PSS-78,,UMOL/KG,,UMOL/KG,,UMOL/KG,,UMOL/KG,,UMOL/KG,,DBAR
           NA,HOT timeseries 1988to2019 27SEP2021,    139,  99,-999.0,      31,-999.0,20021218,1153,  22.7483, -158.0010,  4743,    4.800,   24.338,   35.357,2,   35.358,2,  216.400,2, -999.000,3,    0.980,2,    0.070,2,    0.020,2, -999.000
           NA,HOT timeseries 1988to2019 27SEP2021,    139,  99,-999.0,      31,-999.0,20021218,1153,  22.7483, -158.0010,  4743,   10.400,   24.276,   35.355,2,   35.355,2,  216.600,2, -999.000,3,    0.980,2,    0.060,2,    0.020,2, -999.000
           NA,HOT timeseries 1988to2019 27SEP2021,    139,  99,-999.0,      30,-999.0,20021218,1153,  22.7483, -158.0010,  4743,   54.300,   24.273,   35.355,2,   35.354,2,  216.600,2, -999.000,3,    1.000,2,    0.060,2,    0.030,2, -999.000
           NA,HOT timeseries 1988to2019 27SEP2021,    139,  99,-999.0,      22,-999.0,20021218,1153,  22.7483, -158.0010,  4743,  102.800,   23.462,   35.359,2, -999.000,4, -999.000,3, -999.000,3,    1.270,2,    0.160,2,    0.090,2, -999.000
           NA,HOT timeseries 1988to2019 27SEP2021,    139,  99,-999.0,      21,-999.0,20021218,1153,  22.7483, -158.0010,  4743,  124.800,   21.533,   35.262,2,   35.266,2,  213.700,2, -999.000,3,    1.570,2,    0.510,2,    0.140,2, -999.000
           NA,HOT timeseries 1988to2019 27SEP2021,    139,  99,-999.0,      20,-999.0,20021218,1153,  22.7483, -158.0010,  4743,  173.900,   19.602,   35.129,2,   35.134,2,  206.400,2, -999.000,3,    2.220,2,    1.880,2,    0.280,2, -999.000
           NA,HOT timeseries 1988to2019 27SEP2021,    139,  99,-999.0,      19,-999.0,20021218,1153,  22.7483, -158.0010,  4743,  210.900,   17.783,   34.853,2, -999.000,3, -999.000,3, -999.000,3,    2.950,2,    3.180,2,    0.290,2, -999.000
           NA,HOT timeseries 1988to2019 27SEP2021,    139,  99,-999.0,      18,-999.0,20021218,1153,  22.7483, -158.0010,  4743,  248.000,   15.441,   34.553,2,   34.554,2,  206.500,2, -999.000,3,    5.120,2,    5.820,2,    0.460,2, -999.000
           NA,HOT timeseries 1988to2019 27SEP2021,    139,  99,-999.0,      17,-999.0,20021218,1153,  22.7483, -158.0010,  4743,  294.600,   13.558,   34.381,2,   34.385,2,  220.000,2, -999.000,3,    7.780,2,    8.310,2,    0.570,2, -999.000
           NA,HOT timeseries 1988to2019 27SEP2021,    139,  99,-999.0,      16,-999.0,20021218,1153,  22.7483, -158.0010,  4743,  343.300,   12.072,   34.274,2,   34.275,2,  221.400,2, -999.000,3,   10.680,2,   10.650,2,    0.780,2, -999.000
           NA,HOT timeseries 1988to2019 27SEP2021,    139,  99,-999.0,      23,-999.0,20021218,1153,  22.7483, -158.0010,  4743,  400.300,   10.604,   34.192,2,   34.193,2,  201.800,2, -999.000,3,   16.000,2,   14.790,2,    1.070,2, -999.000
           NA,HOT timeseries 1988to2019 27SEP2021,    139,  99,-999.0,      40,-999.0,20021218,1153,  22.7483, -158.0010,  4743,  455.800,    8.924,   34.094,2,   34.100,2,  157.700,2, -999.000,3,   27.360,2,   21.630,2,    1.580,2, -999.000
           NA,HOT timeseries 1988to2019 27SEP2021,    139,  99,-999.0,      13,-999.0,20021218,1153,  22.7483, -158.0010,  4743,  513.600,    7.238,   34.037,2,   34.039,2,  133.500,2, -999.000,3,   43.100,2,   27.550,2,    1.980,2, -999.000
           NA,HOT timeseries 1988to2019 27SEP2021,    139,  99,-999.0,      12,-999.0,20021218,1153,  22.7483, -158.0010,  4743,  550.200,    6.530,   34.050,2,   34.044,2,  105.700,2, -999.000,3,   53.750,2,   31.940,2,    2.310,2, -999.000
           NA,HOT timeseries 1988to2019 27SEP2021,    139,  99,-999.0,      39,-999.0,20021218,1153,  22.7483, -158.0010,  4743,  599.400,    5.830,   34.079,2,   34.076,2,   70.500,2, -999.000,3,   65.860,2,   35.590,2,    2.580,2, -999.000
           NA,HOT timeseries 1988to2019 27SEP2021,    139,  99,-999.0,      32,-999.0,20021218,1153,  22.7483, -158.0010,  4743,  637.600,    5.383,   34.132,2, -999.000,4, -999.000,3, -999.000,3,   74.330,2,   38.180,2,    2.810,2, -999.000
           NA,HOT timeseries 1988to2019 27SEP2021,    139,  99,-999.0,      29,-999.0,20021218,1153,  22.7483, -158.0010,  4743,  761.700,    4.812,   34.318,2,   34.316,2,   24.100,2, -999.000,3, -999.000,4,   41.320,2,    3.050,2, -999.000
           NA,HOT timeseries 1988to2019 27SEP2021,    139,  99,-999.0,      28,-999.0,20021218,1153,  22.7483, -158.0010,  4743,  795.600,    4.699,   34.359,2,   34.357,2,   24.800,2, -999.000,3, -999.000,4,   41.740,2,    3.060,2, -999.000
           NA,HOT timeseries 1988to2019 27SEP2021,    139,  99,-999.0,       7,-999.0,20021218,1153,  22.7483, -158.0010,  4743,  830.100,    4.503,   34.402,2,   34.402,2,   29.600,2, -999.000,3,   97.340,2,   41.700,2,    3.080,2, -999.000
           NA,HOT timeseries 1988to2019 27SEP2021,    139,  99,-999.0,      38,-999.0,20021218,1153,  22.7483, -158.0010,  4743,  868.100,    4.413,   34.425,2,   34.423,2,   32.400,2, -999.000,3, -999.000,4,   41.740,2,    3.060,2, -999.000
           NA,HOT timeseries 1988to2019 27SEP2021,    139,  99,-999.0,      36,-999.0,20021218,1153,  22.7483, -158.0010,  4743,  908.500,    4.267,   34.445,2,   34.445,2,   36.100,2, -999.000,3, -999.000,4,   41.700,2,    3.040,2, -999.000
           NA,HOT timeseries 1988to2019 27SEP2021,    139,  99,-999.0,      35,-999.0,20021218,1153,  22.7483, -158.0010,  4743,  947.500,    4.195,   34.457,2,   34.462,2,   38.000,2, -999.000,3, -999.000,4,   41.670,2,    3.030,2, -999.000
           NA,HOT timeseries 1988to2019 27SEP2021,    139,  99,-999.0,      34,-999.0,20021218,1153,  22.7483, -158.0010,  4743,  986.700,    4.025,   34.470,2,   34.470,2,   41.100,2, -999.000,3, -999.000,4,   41.780,2,    3.000,2, -999.000
           NA,HOT timeseries 1988to2019 27SEP2021,    139,  99,-999.0,      33,-999.0,20021218,1153,  22.7483, -158.0010,  4743, 1021.900,    3.913,   34.484,2,   34.484,2,   43.100,2, -999.000,3, -999.000,4,   41.680,2,    3.010,2, -999.000
           NA,HOT timeseries 1988to2019 27SEP2021,    139,  99,-999.0,      20,-999.0,20021218,1153,  22.7483, -158.0010,  4743, 1199.900,    3.625,   34.520,2,   34.521,2,   50.400,2, -999.000,3,  117.030,2,   40.800,2,    3.010,2, -999.000
           NA,HOT timeseries 1988to2019 27SEP2021,    139,  99,-999.0,      19,-999.0,20021218,1153,  22.7483, -158.0010,  4743, 1398.500,    3.169,   34.554,2,   34.554,2,   58.600,2, -999.000,3,  126.080,2,   40.780,2,    2.950,2, -999.000
           NA,HOT timeseries 1988to2019 27SEP2021,    139,  99,-999.0,      18,-999.0,20021218,1153,  22.7483, -158.0010,  4743, 1599.100,    2.747,   34.581,2,   34.581,2,   68.200,2, -999.000,3,  135.800,2,   40.310,2,    2.900,2, -999.000
           NA,HOT timeseries 1988to2019 27SEP2021,    139,  99,-999.0,      17,-999.0,20021218,1153,  22.7483, -158.0010,  4743, 1799.800,    2.379,   34.604,2,   34.605,2,   79.400,2, -999.000,3,  143.320,2,   39.610,2, -999.000,3, -999.000
           NA,HOT timeseries 1988to2019 27SEP2021,    139,  99,-999.0,      16,-999.0,20021218,1153,  22.7483, -158.0010,  4743, 2001.300,    2.126,   34.621,2, -999.000,4, -999.000,3, -999.000,3,  150.170,2,   39.210,2,    2.800,2, -999.000
           NA,HOT timeseries 1988to2019 27SEP2021,    139,  99,-999.0,      23,-999.0,20021218,1153,  22.7483, -158.0010,  4743, 2201.900,    1.933,   34.636,2,   34.635,2,   96.700,2, -999.000,3,  153.780,2,   38.730,2,    2.730,2, -999.000
           NA,HOT timeseries 1988to2019 27SEP2021,    139,  99,-999.0,      40,-999.0,20021218,1153,  22.7483, -158.0010,  4743, 2403.100,    1.778,   34.648,2,   34.647,2,  104.200,2, -999.000,3,  156.410,2,   38.120,2,    2.700,2, -999.000
           NA,HOT timeseries 1988to2019 27SEP2021,    139,  99,-999.0,      13,-999.0,20021218,1153,  22.7483, -158.0010,  4743, 2602.100,    1.677,   34.657,2,   34.656,2,  111.400,2, -999.000,3,  158.210,2,   37.800,2, -999.000,3, -999.000
           NA,HOT timeseries 1988to2019 27SEP2021,    139,  99,-999.0,      12,-999.0,20021218,1153,  22.7483, -158.0010,  4743, 2802.800,    1.604,   34.664,2,   34.663,2,  118.300,2, -999.000,3,  157.710,2,   37.640,2, -999.000,3, -999.000
           NA,HOT timeseries 1988to2019 27SEP2021,    139,  99,-999.0,      39,-999.0,20021218,1153,  22.7483, -158.0010,  4743, 2999.200,    1.555,   34.669,2, -999.000,3, -999.000,3, -999.000,3,  157.900,2,   37.330,2,    2.610,2, -999.000
           NA,HOT timeseries 1988to2019 27SEP2021,    139,  99,-999.0,      32,-999.0,20021218,1153,  22.7483, -158.0010,  4743, 3199.700,    1.508,   34.675,2,   34.675,2,  130.300,2, -999.000,3,  156.450,2,   36.700,2,    2.580,2, -999.000
           NA,HOT timeseries 1988to2019 27SEP2021,    139,  99,-999.0,       3,-999.0,20021218,1153,  22.7483, -158.0010,  4743, 3401.500,    1.480,   34.679,2,   34.678,2,  135.600,2, -999.000,3,  154.930,2,   36.390,2,    2.550,2, -999.000
           NA,HOT timeseries 1988to2019 27SEP2021,    139,  99,-999.0,      29,-999.0,20021218,1153,  22.7483, -158.0010,  4743, 3601.200,    1.462,   34.682,2,   34.682,2,  140.800,2, -999.000,3,  153.300,2,   36.010,2,    2.540,2, -999.000
           NA,HOT timeseries 1988to2019 27SEP2021,    139,  99,-999.0,      28,-999.0,20021218,1153,  22.7483, -158.0010,  4743, 3798.400,    1.458,   34.684,2,   34.684,2,  144.600,2, -999.000,3,  151.640,2,   35.920,2,    2.510,2, -999.000
           NA,HOT timeseries 1988to2019 27SEP2021,    139,  99,-999.0,       7,-999.0,20021218,1153,  22.7483, -158.0010,  4743, 3997.900,    1.459,   34.686,2,   34.685,2,  148.000,2, -999.000,3,  150.350,2,   35.900,2,    2.510,2, -999.000
           NA,HOT timeseries 1988to2019 27SEP2021,    139,  99,-999.0,      38,-999.0,20021218,1153,  22.7483, -158.0010,  4743, 4200.200,    1.468,   34.687,2,   34.687,2,  150.400,2, -999.000,3,  149.480,2,   35.810,2,    2.490,2, -999.000
           NA,HOT timeseries 1988to2019 27SEP2021,    139,  99,-999.0,      36,-999.0,20021218,1153,  22.7483, -158.0010,  4743, 4399.300,    1.481,   34.688,2,   34.688,2,  152.300,2, -999.000,3,  148.310,2,   35.650,2,    2.480,2, -999.000
           NA,HOT timeseries 1988to2019 27SEP2021,    139,  99,-999.0,      35,-999.0,20021218,1153,  22.7483, -158.0010,  4743, 4500.500,    1.488,   34.688,2,   34.689,2,  153.700,2, -999.000,3,  148.340,2,   35.600,2, -999.000,3, -999.000
           NA,HOT timeseries 1988to2019 27SEP2021,    139,  99,-999.0,      34,-999.0,20021218,1153,  22.7483, -158.0010,  4743, 4600.000,    1.495,   34.689,2,   34.690,2,  154.400,2, -999.000,5,  147.830,2,   35.910,2,    2.450,2, -999.000
           NA,HOT timeseries 1988to2019 27SEP2021,    139,  99,-999.0,      33,-999.0,20021218,1153,  22.7483, -158.0010,  4743, 4801.200,    1.520,   34.689,2,   34.689,2,  154.400,2, -999.000,3,  147.550,2,   35.530,2,    2.450,2, -999.000