BOTTLE,20214727JOAExport
EXPOCODE,SECT_ID,STNNBR,CASTNO,SAMPNO,BTLNBR,BTLNBR_FLAG_W,DATE,TIME,LATITUDE,LONGITUDE,DEPTH,CTDPRS,CTDTMP,CTDSAL,CTDSAL_FLAG_W,SALNTY,SALNTY_FLAG_W,CTDOXY,CTDOXY_FLAG_W,OXYGEN,OXYGEN_FLAG_W,SILCAT,SILCAT_FLAG_W,NINI,NINI_FLAG_W,PHSPHT,PHSPHT_FLAG_W,REVP
,,,,,,,,,,,,DB,IPTS-68,PSS-78,,PSS-78,,UMOL/KG,,UMOL/KG,,UMOL/KG,,UMOL/KG,,UMOL/KG,,DBAR
           NA,HOT timeseries 1988to2019 27SEP2021,    149,  99,-999.0,      31,-999.0,20031109,1755,  22.7495, -157.9995,  4746,    5.000,   26.520,   35.208,2,   35.207,2,  203.000,2,  203.300,2,    0.650,2,    0.040,2,    0.010,2, -999.000
           NA,HOT timeseries 1988to2019 27SEP2021,    149,  99,-999.0,      30,-999.0,20031109,1755,  22.7495, -157.9995,  4746,   41.800,   26.531,   35.207,2,   35.203,2,  203.000,2,  203.300,2,    0.640,2,    0.040,2,    0.020,2, -999.000
           NA,HOT timeseries 1988to2019 27SEP2021,    149,  99,-999.0,      22,-999.0,20031109,1755,  22.7495, -157.9995,  4746,   79.000,   25.251,   35.304,2,   35.304,2,  216.800,2,  216.200,2,    0.940,2,    0.040,2,    0.010,2, -999.000
           NA,HOT timeseries 1988to2019 27SEP2021,    149,  99,-999.0,      21,-999.0,20031109,1755,  22.7495, -157.9995,  4746,   93.700,   23.590,   35.303,2,   35.295,2,  221.600,2,  221.300,2,    1.110,2,    0.080,2,    0.010,2, -999.000
           NA,HOT timeseries 1988to2019 27SEP2021,    149,  99,-999.0,      20,-999.0,20031109,1755,  22.7495, -157.9995,  4746,  108.200,   21.965,   35.231,2,   35.232,2,  217.600,2,  220.400,2,    1.410,2,    0.110,2,    0.020,2, -999.000
           NA,HOT timeseries 1988to2019 27SEP2021,    149,  99,-999.0,      19,-999.0,20031109,1755,  22.7495, -157.9995,  4746,  154.200,   19.403,   35.066,2,   35.051,2,  195.900,2,  199.900,2,    2.330,2,    2.050,2, -999.000,3, -999.000
           NA,HOT timeseries 1988to2019 27SEP2021,    149,  99,-999.0,      18,-999.0,20031109,1755,  22.7495, -157.9995,  4746,  212.400,   15.786,   34.590,2,   34.590,2,  186.900,2,  187.600,2,    5.690,2,    6.810,2,    0.590,2, -999.000
           NA,HOT timeseries 1988to2019 27SEP2021,    149,  99,-999.0,      17,-999.0,20031109,1755,  22.7495, -157.9995,  4746,  248.200,   13.304,   34.334,2,   34.331,2,  184.200,2,  183.900,2,    9.620,2,   10.790,2,    0.870,2, -999.000
           NA,HOT timeseries 1988to2019 27SEP2021,    149,  99,-999.0,      16,-999.0,20031109,1755,  22.7495, -157.9995,  4746,  283.500,   11.861,   34.222,2,   34.220,2,  189.100,2,  189.200,2,   12.830,2,   13.090,2,    1.000,2, -999.000
           NA,HOT timeseries 1988to2019 27SEP2021,    149,  99,-999.0,      23,-999.0,20031109,1755,  22.7495, -157.9995,  4746,  332.000,   10.302,   34.151,2,   34.151,2,  182.600,2,  181.500,2,   18.480,2,   17.060,2,    1.270,2, -999.000
           NA,HOT timeseries 1988to2019 27SEP2021,    149,  99,-999.0,     101,-999.0,20031109,1755,  22.7495, -157.9995,  4746,  389.400,    8.719,   34.112,2,   34.113,2,  144.700,2,  144.800,2,   31.220,2,   23.640,2,    1.750,2, -999.000
           NA,HOT timeseries 1988to2019 27SEP2021,    149,  99,-999.0,      42,-999.0,20031109,1755,  22.7495, -157.9995,  4746,  444.900,    7.598,   34.106,2,   34.105,2,  106.600,2,  108.800,2,   43.230,2,   29.020,2,    2.150,2, -999.000
           NA,HOT timeseries 1988to2019 27SEP2021,    149,  99,-999.0,      12,-999.0,20031109,1755,  22.7495, -157.9995,  4746,  485.200,    6.790,   34.079,2,   34.078,2,   92.400,2,   92.000,2,   52.070,2,   32.000,2,    2.290,2, -999.000
           NA,HOT timeseries 1988to2019 27SEP2021,    149,  99,-999.0,      39,-999.0,20031109,1755,  22.7495, -157.9995,  4746,  540.500,    6.330,   34.136,2,   34.136,2,   70.400,2,   71.000,2,   61.520,2,   34.650,2,    2.570,2, -999.000
           NA,HOT timeseries 1988to2019 27SEP2021,    149,  99,-999.0,      32,-999.0,20031109,1755,  22.7495, -157.9995,  4746,  594.800,    5.835,   34.184,2,   34.185,2,   54.700,2,   54.500,2,   68.530,2,   36.900,2,    2.740,2, -999.000
           NA,HOT timeseries 1988to2019 27SEP2021,    149,  99,-999.0,       3,-999.0,20031109,1755,  22.7495, -157.9995,  4746,  657.800,    5.158,   34.238,2,   34.237,2,   37.800,2,   37.400,2, -999.000,4,   39.480,2,    2.910,2, -999.000
           NA,HOT timeseries 1988to2019 27SEP2021,    149,  99,-999.0,      29,-999.0,20031109,1755,  22.7495, -157.9995,  4746,  695.800,    5.031,   34.284,2,   34.285,2,   34.000,2,   34.300,2, -999.000,4,   39.990,2,    2.960,2, -999.000
           NA,HOT timeseries 1988to2019 27SEP2021,    149,  99,-999.0,      28,-999.0,20031109,1755,  22.7495, -157.9995,  4746,  735.300,    4.850,   34.330,2,   34.329,2,   31.600,2,   31.100,2, -999.000,4,   40.670,2,    3.000,2, -999.000
           NA,HOT timeseries 1988to2019 27SEP2021,    149,  99,-999.0,       7,-999.0,20031109,1755,  22.7495, -157.9995,  4746,  780.200,    4.718,   34.364,2,   34.363,2,   31.000,2,   31.600,2, -999.000,4,   40.950,2,    3.010,2, -999.000
           NA,HOT timeseries 1988to2019 27SEP2021,    149,  99,-999.0,      38,-999.0,20031109,1755,  22.7495, -157.9995,  4746,  827.000,    4.542,   34.405,2,   34.406,2,   33.800,2,   33.800,2, -999.000,4,   41.230,2,    3.020,2, -999.000
           NA,HOT timeseries 1988to2019 27SEP2021,    149,  99,-999.0,      36,-999.0,20031109,1755,  22.7495, -157.9995,  4746,  863.500,    4.444,   34.426,2,   34.425,2,   36.000,2,   35.700,2, -999.000,4,   41.280,2,    3.020,2, -999.000
           NA,HOT timeseries 1988to2019 27SEP2021,    149,  99,-999.0,      34,-999.0,20031109,1755,  22.7495, -157.9995,  4746,  972.200,    4.075,   34.481,2,   34.481,2,   42.700,2,   43.000,2, -999.000,4,   41.370,2,    2.990,2, -999.000
           NA,HOT timeseries 1988to2019 27SEP2021,    149,  99,-999.0,      33,-999.0,20031109,1755,  22.7495, -157.9995,  4746, 1026.900,    3.931,   34.498,2,   34.498,2,   45.200,2,   45.300,2, -999.000,4,   41.280,2,    2.970,2, -999.000
           NA,HOT timeseries 1988to2019 27SEP2021,    149,  99,-999.0,      20,-999.0,20031109,1755,  22.7495, -157.9995,  4746, 1200.800,    3.427,   34.535,2,   34.535,2,   54.000,2,   54.200,2,  120.920,2,   41.130,2,    2.970,2, -999.000
           NA,HOT timeseries 1988to2019 27SEP2021,    149,  99,-999.0,      19,-999.0,20031109,1755,  22.7495, -157.9995,  4746, 1397.300,    3.036,   34.560,2,   34.561,2,   62.900,2,   62.700,2,  129.480,2,   40.800,2, -999.000,3, -999.000
           NA,HOT timeseries 1988to2019 27SEP2021,    149,  99,-999.0,      18,-999.0,20031109,1755,  22.7495, -157.9995,  4746, 1598.900,    2.700,   34.586,2,   34.587,2,   69.800,2,   69.600,2,  137.230,2,   40.530,2,    2.880,2, -999.000
           NA,HOT timeseries 1988to2019 27SEP2021,    149,  99,-999.0,      17,-999.0,20031109,1755,  22.7495, -157.9995,  4746, 1797.300,    2.397,   34.604,2,   34.604,2,   79.600,2,   79.600,2,  144.080,2,   39.980,2,    2.890,2, -999.000
           NA,HOT timeseries 1988to2019 27SEP2021,    149,  99,-999.0,      16,-999.0,20031109,1755,  22.7495, -157.9995,  4746, 2000.300,    2.182,   34.618,2,   34.619,2,   87.600,2,   87.700,2,  148.090,2,   39.560,2, -999.000,3, -999.000
           NA,HOT timeseries 1988to2019 27SEP2021,    149,  99,-999.0,      23,-999.0,20031109,1755,  22.7495, -157.9995,  4746, 2201.200,    1.970,   34.633,2,   34.634,2,   97.300,2,   97.300,2,  152.270,2,   38.840,2,    2.790,2, -999.000
           NA,HOT timeseries 1988to2019 27SEP2021,    149,  99,-999.0,     101,-999.0,20031109,1755,  22.7495, -157.9995,  4746, 2398.400,    1.816,   34.643,2,   34.643,2,  103.300,2,  103.300,2,  156.070,2,   38.440,2,    2.700,2, -999.000
           NA,HOT timeseries 1988to2019 27SEP2021,    149,  99,-999.0,      42,-999.0,20031109,1755,  22.7495, -157.9995,  4746, 2599.600,    1.705,   34.653,2,   34.653,2,  110.700,2,  110.900,2,  157.720,2,   38.110,2,    2.660,2, -999.000
           NA,HOT timeseries 1988to2019 27SEP2021,    149,  99,-999.0,      12,-999.0,20031109,1755,  22.7495, -157.9995,  4746, 2800.900,    1.629,   34.661,2,   34.661,2,  117.100,2, -999.000,5,  157.660,2,   37.790,2,    2.650,2, -999.000
           NA,HOT timeseries 1988to2019 27SEP2021,    149,  99,-999.0,      39,-999.0,20031109,1755,  22.7495, -157.9995,  4746, 3001.000,    1.565,   34.668,2,   34.668,2,  124.100,2,  124.200,2,  157.520,2,   37.330,2,    2.620,2, -999.000
           NA,HOT timeseries 1988to2019 27SEP2021,    149,  99,-999.0,      32,-999.0,20031109,1755,  22.7495, -157.9995,  4746, 3200.400,    1.518,   34.673,2,   34.673,2,  129.500,2,  129.600,2,  156.460,2,   36.810,2,    2.620,2, -999.000
           NA,HOT timeseries 1988to2019 27SEP2021,    149,  99,-999.0,       3,-999.0,20031109,1755,  22.7495, -157.9995,  4746, 3401.300,    1.488,   34.677,2,   34.677,2,  135.700,2,  135.600,2,  155.030,2,   36.490,2,    2.540,2, -999.000
           NA,HOT timeseries 1988to2019 27SEP2021,    149,  99,-999.0,      29,-999.0,20031109,1755,  22.7495, -157.9995,  4746, 3600.900,    1.474,   34.680,2,   34.680,2,  140.000,2,  140.000,2,  154.400,2,   36.230,2,    2.540,2, -999.000
           NA,HOT timeseries 1988to2019 27SEP2021,    149,  99,-999.0,      28,-999.0,20031109,1755,  22.7495, -157.9995,  4746, 3800.100,    1.461,   34.683,2,   34.683,2,  144.300,2,  144.300,2,  152.780,2,   35.910,2, -999.000,3, -999.000
           NA,HOT timeseries 1988to2019 27SEP2021,    149,  99,-999.0,       7,-999.0,20031109,1755,  22.7495, -157.9995,  4746, 4002.500,    1.461,   34.686,2,   34.686,2,  147.500,2,  147.600,2,  151.100,2,   35.980,2,    2.500,2, -999.000
           NA,HOT timeseries 1988to2019 27SEP2021,    149,  99,-999.0,      38,-999.0,20031109,1755,  22.7495, -157.9995,  4746, 4200.600,    1.467,   34.687,2,   34.687,2,  149.900,2,  149.900,2,  149.950,2,   35.750,2,    2.500,2, -999.000
           NA,HOT timeseries 1988to2019 27SEP2021,    149,  99,-999.0,      36,-999.0,20031109,1755,  22.7495, -157.9995,  4746, 4401.400,    1.481,   34.688,2,   34.688,2,  151.500,2,  151.300,2,  149.280,2,   35.650,2,    2.500,2, -999.000
           NA,HOT timeseries 1988to2019 27SEP2021,    149,  99,-999.0,      35,-999.0,20031109,1755,  22.7495, -157.9995,  4746, 4501.300,    1.489,   34.688,2,   34.689,2,  152.200,2,  152.100,2,  149.210,2,   35.530,2,    2.490,2, -999.000
           NA,HOT timeseries 1988to2019 27SEP2021,    149,  99,-999.0,      34,-999.0,20031109,1755,  22.7495, -157.9995,  4746, 4599.100,    1.497,   34.689,2,   34.688,2,  152.500,2,  152.500,2,  148.930,2,   35.490,2,    2.480,2, -999.000
           NA,HOT timeseries 1988to2019 27SEP2021,    149,  99,-999.0,      33,-999.0,20031109,1755,  22.7495, -157.9995,  4746, 4794.100,    1.521,   34.689,2,   34.689,2,  152.500,2,  152.500,2,  148.150,2,   35.460,2, -999.000,3, -999.000