BOTTLE,20214727JOAExport
EXPOCODE,SECT_ID,STNNBR,CASTNO,SAMPNO,BTLNBR,BTLNBR_FLAG_W,DATE,TIME,LATITUDE,LONGITUDE,DEPTH,CTDPRS,CTDTMP,CTDSAL,CTDSAL_FLAG_W,SALNTY,SALNTY_FLAG_W,CTDOXY,CTDOXY_FLAG_W,OXYGEN,OXYGEN_FLAG_W,SILCAT,SILCAT_FLAG_W,NINI,NINI_FLAG_W,PHSPHT,PHSPHT_FLAG_W,REVP
,,,,,,,,,,,,DB,IPTS-68,PSS-78,,PSS-78,,UMOL/KG,,UMOL/KG,,UMOL/KG,,UMOL/KG,,UMOL/KG,,DBAR
           NA,HOT timeseries 1988to2019 27SEP2021,    201,  99,-999.0,    8024,-999.0,20081010,1504,  22.7500, -158.0002,  4746,    7.400,   26.254,   35.291,2,   35.293,2,  204.300,2,  204.700,2,    1.220,2,    0.060,2,    0.010,2, -999.000
           NA,HOT timeseries 1988to2019 27SEP2021,    201,  99,-999.0,    8024,-999.0,20081010,1504,  22.7500, -158.0002,  4746,   10.200,   26.326,   35.296,2,   35.296,2,  204.300,2,  203.900,2,    0.910,2,    0.080,2,    0.000,2, -999.000
           NA,HOT timeseries 1988to2019 27SEP2021,    201,  99,-999.0,    8023,-999.0,20081010,1504,  22.7500, -158.0002,  4746,   62.300,   24.988,   35.273,2,   35.269,2,  217.100,2,  216.900,2,    1.040,2,    0.080,2,    0.000,2, -999.000
           NA,HOT timeseries 1988to2019 27SEP2021,    201,  99,-999.0,    8022,-999.0,20081010,1504,  22.7500, -158.0002,  4746,   85.600,   23.617,   35.234,2,   35.235,2,  215.000,2,  213.500,2,    1.160,2,    0.070,2,    0.030,2, -999.000
           NA,HOT timeseries 1988to2019 27SEP2021,    201,  99,-999.0,    8021,-999.0,20081010,1504,  22.7500, -158.0002,  4746,  122.400,   22.094,   35.266,2,   35.265,2,  203.400,2,  203.800,2,    1.410,2,    0.450,2,    0.060,2, -999.000
           NA,HOT timeseries 1988to2019 27SEP2021,    201,  99,-999.0,    8020,-999.0,20081010,1504,  22.7500, -158.0002,  4746,  154.100,   20.867,   35.190,2,   35.188,2,  195.100,2,  195.200,2,    1.790,2,    1.370,2,    0.140,2, -999.000
           NA,HOT timeseries 1988to2019 27SEP2021,    201,  99,-999.0,    8019,-999.0,20081010,1504,  22.7500, -158.0002,  4746,  190.600,   19.725,   35.058,2,   35.051,2,  191.900,2,  192.300,2,    2.280,2,    2.300,2,    0.200,2, -999.000
           NA,HOT timeseries 1988to2019 27SEP2021,    201,  99,-999.0,    8018,-999.0,20081010,1504,  22.7500, -158.0002,  4746,  258.000,   15.334,   34.462,2,   34.459,2,  183.900,2,  185.200,2,    5.990,2, -999.000,4, -999.000,4, -999.000
           NA,HOT timeseries 1988to2019 27SEP2021,    201,  99,-999.0,    8016,-999.0,20081010,1504,  22.7500, -158.0002,  4746,  358.500,   10.324,   34.132,2,   34.139,2,  172.500,2,  162.700,2,   20.680,2,   18.840,2,    1.400,2, -999.000
           NA,HOT timeseries 1988to2019 27SEP2021,    201,  99,-999.0,    8015,-999.0,20081010,1504,  22.7500, -158.0002,  4746,  407.600,    9.004,   34.117,2,   34.117,2,  146.500,2,  144.700,2,   29.640,2,   23.280,2,    1.690,2, -999.000
           NA,HOT timeseries 1988to2019 27SEP2021,    201,  99,-999.0,    8014,-999.0,20081010,1504,  22.7500, -158.0002,  4746,  462.000,    7.590,   34.095,2,   34.097,2,  112.800,2,  113.600,2,   44.040,2,   28.910,2,    2.100,2, -999.000
           NA,HOT timeseries 1988to2019 27SEP2021,    201,  99,-999.0,    8025,-999.0,20081010,1504,  22.7500, -158.0002,  4746,  506.100,    6.797,   34.087,2,   34.090,2,   97.400,2,   95.300,2,   54.670,2,   32.430,2,    2.340,2, -999.000
           NA,HOT timeseries 1988to2019 27SEP2021,    201,  99,-999.0,    8012,-999.0,20081010,1504,  22.7500, -158.0002,  4746,  560.000,    6.225,   34.134,2,   34.136,2,   66.200,2,   65.600,2,   63.900,2,   35.730,2,    2.610,2, -999.000
           NA,HOT timeseries 1988to2019 27SEP2021,    201,  99,-999.0,    8011,-999.0,20081010,1504,  22.7500, -158.0002,  4746,  605.000,    5.943,   34.211,2,   34.211,2,   49.600,2,   47.000,2,   70.900,2,   37.820,2,    2.770,2, -999.000
           NA,HOT timeseries 1988to2019 27SEP2021,    201,  99,-999.0,    8010,-999.0,20081010,1504,  22.7500, -158.0002,  4746,  643.900,    5.607,   34.236,2,   34.235,2,   41.300,2,   41.300,2,   76.910,2,   39.030,2,    2.870,2, -999.000
           NA,HOT timeseries 1988to2019 27SEP2021,    201,  99,-999.0,    8009,-999.0,20081010,1504,  22.7500, -158.0002,  4746,  680.200,    5.358,   34.258,2,   34.259,2,   38.300,2,   37.200,2,   82.120,2,   40.070,2,    2.910,2, -999.000
           NA,HOT timeseries 1988to2019 27SEP2021,    201,  99,-999.0,    8008,-999.0,20081010,1504,  22.7500, -158.0002,  4746,  720.000,    5.160,   34.286,2,   34.284,2,   35.900,2, -999.000,4,   86.100,2,   40.570,2,    2.950,2, -999.000
           NA,HOT timeseries 1988to2019 27SEP2021,    201,  99,-999.0,    8006,-999.0,20081010,1504,  22.7500, -158.0002,  4746,  803.100,    4.649,   34.366,2,   34.367,2,   31.300,2,   31.200,2,   96.660,2,   41.950,2,    3.050,2, -999.000
           NA,HOT timeseries 1988to2019 27SEP2021,    201,  99,-999.0,    8005,-999.0,20081010,1504,  22.7500, -158.0002,  4746,  848.900,    4.500,   34.399,2,   34.399,2,   33.100,2,   33.400,2,  100.170,2,   42.110,2,    3.060,2, -999.000
           NA,HOT timeseries 1988to2019 27SEP2021,    201,  99,-999.0,    8004,-999.0,20081010,1504,  22.7500, -158.0002,  4746,  884.900,    4.409,   34.421,2,   34.420,2,   34.400,2,   34.600,2,  101.840,2,   42.280,2,    3.070,2, -999.000
           NA,HOT timeseries 1988to2019 27SEP2021,    201,  99,-999.0,    8003,-999.0,20081010,1504,  22.7500, -158.0002,  4746,  920.900,    4.309,   34.444,2,   34.443,2,   36.700,2,   36.800,2,  104.010,2,   42.200,2,    3.060,2, -999.000
           NA,HOT timeseries 1988to2019 27SEP2021,    201,  99,-999.0,    8002,-999.0,20081010,1504,  22.7500, -158.0002,  4746,  954.500,    4.215,   34.461,2,   34.459,2,   38.800,2, -999.000,4,  105.600,2,   42.280,2,    3.050,2, -999.000
           NA,HOT timeseries 1988to2019 27SEP2021,    201,  99,-999.0,    8001,-999.0,20081010,1504,  22.7500, -158.0002,  4746,  991.000,    4.036,   34.480,2,   34.480,2,   41.000,2,   41.100,2,  109.330,2,   42.130,2,    3.040,2, -999.000
           NA,HOT timeseries 1988to2019 27SEP2021,    201,  99,-999.0,    8020,-999.0,20081010,1504,  22.7500, -158.0002,  4746, 1198.700,    3.409,   34.527,2,   34.528,2,   54.800,2,   54.600,2,  121.960,2,   41.570,2,    2.990,2, -999.000
           NA,HOT timeseries 1988to2019 27SEP2021,    201,  99,-999.0,    8019,-999.0,20081010,1504,  22.7500, -158.0002,  4746, 1399.100,    3.015,   34.557,2,   34.558,2,   62.100,2,   62.200,2,  130.760,2,   41.350,2,    2.960,2, -999.000
           NA,HOT timeseries 1988to2019 27SEP2021,    201,  99,-999.0,    8018,-999.0,20081010,1504,  22.7500, -158.0002,  4746, 1599.300,    2.658,   34.583,2,   34.584,2,   70.700,2,   71.700,2,  138.690,2,   40.990,2,    2.930,2, -999.000
           NA,HOT timeseries 1988to2019 27SEP2021,    201,  99,-999.0,    8017,-999.0,20081010,1504,  22.7500, -158.0002,  4746, 1799.800,    2.367,   34.600,2,   34.602,2,   78.200,2,   78.900,2,  145.590,2,   40.710,2,    2.880,2, -999.000
           NA,HOT timeseries 1988to2019 27SEP2021,    201,  99,-999.0,    8016,-999.0,20081010,1504,  22.7500, -158.0002,  4746, 1999.900,    2.119,   34.618,2,   34.621,2,   86.700,2,   87.300,2,  151.120,2,   40.240,2,    2.830,2, -999.000
           NA,HOT timeseries 1988to2019 27SEP2021,    201,  99,-999.0,    8015,-999.0,20081010,1504,  22.7500, -158.0002,  4746, 2199.400,    1.917,   34.632,2,   34.633,2,   93.100,2,   93.400,2,  156.440,2,   39.850,2,    2.790,2, -999.000
           NA,HOT timeseries 1988to2019 27SEP2021,    201,  99,-999.0,    8014,-999.0,20081010,1504,  22.7500, -158.0002,  4746, 2398.300,    1.762,   34.646,2,   34.647,2,  101.500,2,  102.000,2,  159.840,2,   38.960,2,    2.720,2, -999.000
           NA,HOT timeseries 1988to2019 27SEP2021,    201,  99,-999.0,    8025,-999.0,20081010,1504,  22.7500, -158.0002,  4746, 2599.200,    1.651,   34.657,2, -999.000,5,  110.700,2,  111.000,2,  159.840,2,   38.900,2,    2.710,2, -999.000
           NA,HOT timeseries 1988to2019 27SEP2021,    201,  99,-999.0,    8012,-999.0,20081010,1504,  22.7500, -158.0002,  4746, 2800.700,    1.589,   34.664,2,   34.664,2,  117.100,2,  117.500,2,  160.000,2,   38.220,2,    2.650,2, -999.000
           NA,HOT timeseries 1988to2019 27SEP2021,    201,  99,-999.0,    8011,-999.0,20081010,1504,  22.7500, -158.0002,  4746, 2999.700,    1.533,   34.671,2,   34.672,2,  124.200,2,  124.700,2,  159.060,2,   37.770,2,    2.610,2, -999.000
           NA,HOT timeseries 1988to2019 27SEP2021,    201,  99,-999.0,    8010,-999.0,20081010,1504,  22.7500, -158.0002,  4746, 3199.200,    1.495,   34.676,2,   34.676,2,  131.000,2,  131.600,2,  157.400,2,   37.170,2,    2.580,2, -999.000
           NA,HOT timeseries 1988to2019 27SEP2021,    201,  99,-999.0,    8009,-999.0,20081010,1504,  22.7500, -158.0002,  4746, 3400.100,    1.475,   34.680,2,   34.680,2,  135.900,2,  135.700,2,  155.380,2,   36.790,2,    2.550,2, -999.000
           NA,HOT timeseries 1988to2019 27SEP2021,    201,  99,-999.0,    8008,-999.0,20081010,1504,  22.7500, -158.0002,  4746, 3598.500,    1.466,   34.683,2,   34.683,2,  139.900,2,  139.300,2,  155.970,2,   36.520,2,    2.530,2, -999.000
           NA,HOT timeseries 1988to2019 27SEP2021,    201,  99,-999.0,    8026,-999.0,20081010,1504,  22.7500, -158.0002,  4746, 3798.900,    1.460,   34.685,2,   34.686,2,  143.300,2,  142.400,2,  153.330,2,   36.390,2,    2.510,2, -999.000
           NA,HOT timeseries 1988to2019 27SEP2021,    201,  99,-999.0,    8006,-999.0,20081010,1504,  22.7500, -158.0002,  4746, 3998.500,    1.463,   34.687,2,   34.687,2,  146.100,2,  145.600,2,  152.830,2,   36.200,2,    2.500,2, -999.000
           NA,HOT timeseries 1988to2019 27SEP2021,    201,  99,-999.0,    8005,-999.0,20081010,1504,  22.7500, -158.0002,  4746, 4198.900,    1.469,   34.688,2,   34.689,2,  148.400,2,  148.400,2,  150.440,2,   36.000,2,    2.480,2, -999.000
           NA,HOT timeseries 1988to2019 27SEP2021,    201,  99,-999.0,    8004,-999.0,20081010,1504,  22.7500, -158.0002,  4746, 4400.200,    1.477,   34.689,2,   34.690,2,  150.800,2,  150.000,2,  149.490,2,   35.870,2,    2.470,2, -999.000
           NA,HOT timeseries 1988to2019 27SEP2021,    201,  99,-999.0,    8003,-999.0,20081010,1504,  22.7500, -158.0002,  4746, 4498.700,    1.485,   34.689,2,   34.691,2,  151.300,2,  151.200,2,  148.830,2,   35.840,2,    2.460,2, -999.000
           NA,HOT timeseries 1988to2019 27SEP2021,    201,  99,-999.0,    8002,-999.0,20081010,1504,  22.7500, -158.0002,  4746, 4598.100,    1.491,   34.690,2,   34.690,2,  152.100,2,  152.300,2,  148.640,2,   35.710,2,    2.460,2, -999.000
           NA,HOT timeseries 1988to2019 27SEP2021,    201,  99,-999.0,    8001,-999.0,20081010,1504,  22.7500, -158.0002,  4746, 4804.800,    1.502,   34.691,2,   34.692,2,  154.400,2,  154.400,2,  146.710,2,   35.580,2,    2.460,2, -999.000