BOTTLE,20214727JOAExport
EXPOCODE,SECT_ID,STNNBR,CASTNO,SAMPNO,BTLNBR,BTLNBR_FLAG_W,DATE,TIME,LATITUDE,LONGITUDE,DEPTH,CTDPRS,CTDTMP,CTDSAL,CTDSAL_FLAG_W,SALNTY,SALNTY_FLAG_W,CTDOXY,CTDOXY_FLAG_W,OXYGEN,OXYGEN_FLAG_W,SILCAT,SILCAT_FLAG_W,NINI,NINI_FLAG_W,PHSPHT,PHSPHT_FLAG_W,REVP
,,,,,,,,,,,,DB,IPTS-68,PSS-78,,PSS-78,,UMOL/KG,,UMOL/KG,,UMOL/KG,,UMOL/KG,,UMOL/KG,,DBAR
           NA,HOT timeseries 1988to2019 27SEP2021,    240,  99,-999.0,    8024,-999.0,20131126,1446,  22.7498, -158.0005,  4743,    6.900,   25.546,   35.378,2,   35.379,2,  212.000,2, -999.000,4,    1.270,2,    0.030,2,    0.070,2, -999.000
           NA,HOT timeseries 1988to2019 27SEP2021,    240,  99,-999.0,    8024,-999.0,20131126,1446,  22.7498, -158.0005,  4743,    7.700,   25.561,   35.368,2,   35.368,2,  212.900,2,  209.900,2,    1.200,2,    0.010,2,    0.070,2, -999.000
           NA,HOT timeseries 1988to2019 27SEP2021,    240,  99,-999.0,    8023,-999.0,20131126,1446,  22.7498, -158.0005,  4743,   44.600,   25.485,   35.518,2,   35.511,2,  212.700,2,  210.800,2,    1.130,2,    0.030,2,    0.040,2, -999.000
           NA,HOT timeseries 1988to2019 27SEP2021,    240,  99,-999.0,    8022,-999.0,20131126,1446,  22.7498, -158.0005,  4743,   85.200,   25.109,   35.546,2,   35.558,2,  214.200,2,  211.600,2,    1.150,2,    0.010,2,    0.020,2, -999.000
           NA,HOT timeseries 1988to2019 27SEP2021,    240,  99,-999.0,    8021,-999.0,20131126,1446,  22.7498, -158.0005,  4743,  112.200,   22.385,   35.330,2,   35.325,2,  217.200,2,  216.300,2,    1.460,2,    0.230,2,    0.080,2, -999.000
           NA,HOT timeseries 1988to2019 27SEP2021,    240,  99,-999.0,    8020,-999.0,20131126,1446,  22.7498, -158.0005,  4743,  157.900,   21.133,   35.329,2,   35.331,2,  210.700,2,  208.700,2,    1.750,2,    0.630,2,    0.090,2, -999.000
           NA,HOT timeseries 1988to2019 27SEP2021,    240,  99,-999.0,    8019,-999.0,20131126,1446,  22.7498, -158.0005,  4743,  204.400,   19.532,   35.096,2,   35.103,2,  205.200,2,  204.500,2,    2.560,2,    1.950,2,    0.170,2, -999.000
           NA,HOT timeseries 1988to2019 27SEP2021,    240,  99,-999.0,    8018,-999.0,20131126,1446,  22.7498, -158.0005,  4743,  269.100,   14.956,   34.444,2,   34.450,2,  202.500,2,  202.500,2,    6.250,2,    6.540,2,    0.480,2, -999.000
           NA,HOT timeseries 1988to2019 27SEP2021,    240,  99,-999.0,    8017,-999.0,20131126,1446,  22.7498, -158.0005,  4743,  344.500,   11.660,   34.191,2,   34.190,2,  205.600,2,  204.800,2,   12.830,2,   12.360,2,    0.880,2, -999.000
           NA,HOT timeseries 1988to2019 27SEP2021,    240,  99,-999.0,    8016,-999.0,20131126,1446,  22.7498, -158.0005,  4743,  387.200,   10.392,   34.147,2,   34.148,2,  189.200,2,  189.000,2,   19.180,2,   16.650,2,    1.190,2, -999.000
           NA,HOT timeseries 1988to2019 27SEP2021,    240,  99,-999.0,    8015,-999.0,20131126,1446,  22.7498, -158.0005,  4743,  429.400,    9.225,   34.122,2,   34.122,2,  161.900,2,  150.000,2,   29.880,2,   22.400,2,    1.620,2, -999.000
           NA,HOT timeseries 1988to2019 27SEP2021,    240,  99,-999.0,    8025,-999.0,20131126,1446,  22.7498, -158.0005,  4743,  493.100,    7.874,   34.158,2,   34.157,2,   97.800,2,   96.100,2,   44.460,2,   29.220,2,    2.180,2, -999.000
           NA,HOT timeseries 1988to2019 27SEP2021,    240,  99,-999.0,    8012,-999.0,20131126,1446,  22.7498, -158.0005,  4743,  532.300,    7.308,   34.168,2,   34.170,2,   79.300,2,   78.400,2,   51.720,2,   31.770,2,    2.360,2, -999.000
           NA,HOT timeseries 1988to2019 27SEP2021,    240,  99,-999.0,    8011,-999.0,20131126,1446,  22.7498, -158.0005,  4743,  576.800,    6.341,   34.152,2,   34.158,2,   67.800,2,   67.800,2,   63.510,2,   34.480,2,    2.550,2, -999.000
           NA,HOT timeseries 1988to2019 27SEP2021,    240,  99,-999.0,    8010,-999.0,20131126,1446,  22.7498, -158.0005,  4743,  611.600,    5.937,   34.179,2,   34.175,2,   57.500,2,   57.100,2,   70.360,2,   35.890,2,    2.670,2, -999.000
           NA,HOT timeseries 1988to2019 27SEP2021,    240,  99,-999.0,    8009,-999.0,20131126,1446,  22.7498, -158.0005,  4743,  664.100,    5.268,   34.225,2,   34.222,2,   45.800,2,   46.000,2,   83.470,2,   38.420,2,    2.820,2, -999.000
           NA,HOT timeseries 1988to2019 27SEP2021,    240,  99,-999.0,    8026,-999.0,20131126,1446,  22.7498, -158.0005,  4743,  748.000,    4.900,   34.317,2,   34.315,2,   38.400,2,   39.800,2,   91.950,2,   39.840,2,    2.910,2, -999.000
           NA,HOT timeseries 1988to2019 27SEP2021,    240,  99,-999.0,    8006,-999.0,20131126,1446,  22.7498, -158.0005,  4743,  793.500,    4.708,   34.352,2,   34.353,2,   38.200,2,   39.200,2,   96.000,2,   40.230,2,    2.930,2, -999.000
           NA,HOT timeseries 1988to2019 27SEP2021,    240,  99,-999.0,    8004,-999.0,20131126,1446,  22.7498, -158.0005,  4743,  885.400,    4.311,   34.414,2,   34.416,2,   42.000,2,   41.800,2,  103.970,2,   40.540,2,    2.920,2, -999.000
           NA,HOT timeseries 1988to2019 27SEP2021,    240,  99,-999.0,    8003,-999.0,20131126,1446,  22.7498, -158.0005,  4743,  929.800,    4.187,   34.428,2,   34.428,2,   43.000,2,   44.100,2,  107.210,2,   40.580,2,    2.920,2, -999.000
           NA,HOT timeseries 1988to2019 27SEP2021,    240,  99,-999.0,    8002,-999.0,20131126,1446,  22.7498, -158.0005,  4743,  973.900,    4.096,   34.461,2,   34.460,2,   46.300,2,   47.100,2,  108.270,2,   40.550,2,    2.930,2, -999.000
           NA,HOT timeseries 1988to2019 27SEP2021,    240,  99,-999.0,    8001,-999.0,20131126,1446,  22.7498, -158.0005,  4743, 1019.500,    3.938,   34.474,2,   34.475,2,   48.400,2,   49.000,2,  111.170,2,   40.560,2,    2.930,2, -999.000
           NA,HOT timeseries 1988to2019 27SEP2021,    240,  99,-999.0,    8020,-999.0,20131126,1446,  22.7498, -158.0005,  4743, 1201.000,    3.430,   34.519,2,   34.519,2,   56.800,2,   55.600,2,  121.820,2,   40.610,2,    2.900,2, -999.000
           NA,HOT timeseries 1988to2019 27SEP2021,    240,  99,-999.0,    8019,-999.0,20131126,1446,  22.7498, -158.0005,  4743, 1400.700,    3.010,   34.552,2,   34.552,2,   65.100,2,   64.500,2,  131.480,2,   40.190,2,    2.870,2, -999.000
           NA,HOT timeseries 1988to2019 27SEP2021,    240,  99,-999.0,    8018,-999.0,20131126,1446,  22.7498, -158.0005,  4743, 1600.400,    2.653,   34.583,2,   34.584,2,   72.400,2,   72.300,2,  139.640,2,   40.070,2,    2.850,2, -999.000
           NA,HOT timeseries 1988to2019 27SEP2021,    240,  99,-999.0,    8017,-999.0,20131126,1446,  22.7498, -158.0005,  4743, 1799.700,    2.360,   34.602,2,   34.604,2,   81.100,2,   80.800,2,  146.030,2,   39.630,2,    2.810,2, -999.000
           NA,HOT timeseries 1988to2019 27SEP2021,    240,  99,-999.0,    8016,-999.0,20131126,1446,  22.7498, -158.0005,  4743, 2000.200,    2.097,   34.621,2,   34.622,2,   89.900,2,   89.700,2,  152.000,2,   39.210,2,    2.750,2, -999.000
           NA,HOT timeseries 1988to2019 27SEP2021,    240,  99,-999.0,    8015,-999.0,20131126,1446,  22.7498, -158.0005,  4743, 2200.200,    1.926,   34.634,2,   34.634,2,   97.300,2,   97.500,2,  155.690,2,   38.850,2,    2.710,2, -999.000
           NA,HOT timeseries 1988to2019 27SEP2021,    240,  99,-999.0,    8014,-999.0,20131126,1446,  22.7498, -158.0005,  4743, 2399.500,    1.795,   34.644,2,   34.644,2,  103.600,2,  102.900,2,  158.530,2,   38.630,2,    2.680,2, -999.000
           NA,HOT timeseries 1988to2019 27SEP2021,    240,  99,-999.0,    8025,-999.0,20131126,1446,  22.7498, -158.0005,  4743, 2600.000,    1.695,   34.652,2,   34.653,2,  108.800,2,  108.800,2,  160.780,2,   38.280,2,    2.650,2, -999.000
           NA,HOT timeseries 1988to2019 27SEP2021,    240,  99,-999.0,    8012,-999.0,20131126,1446,  22.7498, -158.0005,  4743, 2800.700,    1.625,   34.660,2,   34.661,2,  115.600,2,  115.100,2,  161.080,2,   37.550,2,    2.630,2, -999.000
           NA,HOT timeseries 1988to2019 27SEP2021,    240,  99,-999.0,    8011,-999.0,20131126,1446,  22.7498, -158.0005,  4743, 3000.700,    1.567,   34.666,2,   34.666,2,  121.500,2,  123.000,2,  159.680,2,   37.120,2,    2.590,2, -999.000
           NA,HOT timeseries 1988to2019 27SEP2021,    240,  99,-999.0,    8010,-999.0,20131126,1446,  22.7498, -158.0005,  4743, 3200.500,    1.517,   34.672,2,   34.672,2,  128.400,2, -999.000,5,  158.140,2,   36.620,2,    2.550,2, -999.000
           NA,HOT timeseries 1988to2019 27SEP2021,    240,  99,-999.0,    8009,-999.0,20131126,1446,  22.7498, -158.0005,  4743, 3399.900,    1.483,   34.677,2,   34.676,2,  134.900,2,  135.000,2,  156.620,2,   36.360,2,    2.520,2, -999.000
           NA,HOT timeseries 1988to2019 27SEP2021,    240,  99,-999.0,    8008,-999.0,20131126,1446,  22.7498, -158.0005,  4743, 3600.200,    1.460,   34.681,2,   34.680,2,  140.200,2,  140.900,2,  155.140,2,   35.890,2,    2.500,2, -999.000
           NA,HOT timeseries 1988to2019 27SEP2021,    240,  99,-999.0,    8026,-999.0,20131126,1446,  22.7498, -158.0005,  4743, 3799.400,    1.456,   34.684,2,   34.685,2,  143.700,2,  143.900,2,  153.880,2,   35.630,2,    2.470,2, -999.000
           NA,HOT timeseries 1988to2019 27SEP2021,    240,  99,-999.0,    8006,-999.0,20131126,1446,  22.7498, -158.0005,  4743, 4000.100,    1.455,   34.686,2,   34.686,2,  147.000,2,  147.200,2,  151.990,2,   35.330,2,    2.450,2, -999.000
           NA,HOT timeseries 1988to2019 27SEP2021,    240,  99,-999.0,    8005,-999.0,20131126,1446,  22.7498, -158.0005,  4743, 4200.000,    1.466,   34.687,2,   34.687,2,  148.800,2,  148.700,2,  151.300,2,   35.330,2,    2.450,2, -999.000
           NA,HOT timeseries 1988to2019 27SEP2021,    240,  99,-999.0,    8004,-999.0,20131126,1446,  22.7498, -158.0005,  4743, 4400.300,    1.482,   34.688,2,   34.687,2,  150.000,2,  149.800,2,  150.580,2,   35.220,2,    2.450,2, -999.000
           NA,HOT timeseries 1988to2019 27SEP2021,    240,  99,-999.0,    8003,-999.0,20131126,1446,  22.7498, -158.0005,  4743, 4499.800,    1.491,   34.688,2,   34.688,2,  150.700,2,  150.800,2,  150.460,2,   35.170,2,    2.440,2, -999.000
           NA,HOT timeseries 1988to2019 27SEP2021,    240,  99,-999.0,    8002,-999.0,20131126,1446,  22.7498, -158.0005,  4743, 4600.500,    1.501,   34.688,2,   34.688,2,  151.000,2,  151.400,2,  149.610,2,   35.130,2,    2.430,2, -999.000
           NA,HOT timeseries 1988to2019 27SEP2021,    240,  99,-999.0,    8001,-999.0,20131126,1446,  22.7498, -158.0005,  4743, 4809.200,    1.522,   34.689,2,   34.690,2,  151.700,2,  150.500,2,  149.980,2,   35.160,2,    2.440,2, -999.000