BOTTLE,20214727JOAExport
EXPOCODE,SECT_ID,STNNBR,CASTNO,SAMPNO,BTLNBR,BTLNBR_FLAG_W,DATE,TIME,LATITUDE,LONGITUDE,DEPTH,CTDPRS,CTDTMP,CTDSAL,CTDSAL_FLAG_W,SALNTY,SALNTY_FLAG_W,CTDOXY,CTDOXY_FLAG_W,OXYGEN,OXYGEN_FLAG_W,SILCAT,SILCAT_FLAG_W,NINI,NINI_FLAG_W,PHSPHT,PHSPHT_FLAG_W,REVP
,,,,,,,,,,,,DB,IPTS-68,PSS-78,,PSS-78,,UMOL/KG,,UMOL/KG,,UMOL/KG,,UMOL/KG,,UMOL/KG,,DBAR
           NA,HOT timeseries 1988to2019 27SEP2021,     56,  99,-999.0,      31,-999.0,19950205,1705,  22.7272, -157.9938,  4724,    4.700,   23.507,   34.323,2,   34.329,2,  215.900,2,  211.400,2,    2.340,2,    0.000,2,    0.160,2, -999.000
           NA,HOT timeseries 1988to2019 27SEP2021,     56,  99,-999.0,      31,-999.0,19950205,1705,  22.7272, -157.9938,  4724,    5.300,   23.539,   34.312,2,   34.313,2,  215.300,2,  211.700,2,    1.940,2,    0.000,2,    0.150,2, -999.000
           NA,HOT timeseries 1988to2019 27SEP2021,     56,  99,-999.0,      30,-999.0,19950205,1705,  22.7272, -157.9938,  4724,   41.200,   23.596,   34.696,2,   34.692,2,  215.100,2,  211.800,2,    2.060,2,    0.000,2,    0.110,2, -999.000
           NA,HOT timeseries 1988to2019 27SEP2021,     56,  99,-999.0,      22,-999.0,19950205,1705,  22.7272, -157.9938,  4724,   49.800,   23.549,   34.768,2,   34.767,2,  213.000,2,  211.500,2,    1.860,2,    0.010,2,    0.100,2, -999.000
           NA,HOT timeseries 1988to2019 27SEP2021,     56,  99,-999.0,      21,-999.0,19950205,1705,  22.7272, -157.9938,  4724,   74.200,   23.422,   34.865,2,   34.871,2,  214.200,2,  210.400,2,    1.800,2,    0.010,2,    0.090,2, -999.000
           NA,HOT timeseries 1988to2019 27SEP2021,     56,  99,-999.0,      20,-999.0,19950205,1705,  22.7272, -157.9938,  4724,  118.800,   23.053,   35.115,2,   35.113,2,  210.100,2,  208.200,2,    1.760,2,    0.020,2,    0.070,2, -999.000
           NA,HOT timeseries 1988to2019 27SEP2021,     56,  99,-999.0,      19,-999.0,19950205,1705,  22.7272, -157.9938,  4724,  129.600,   22.638,   35.056,2,   35.057,2,  208.300,2,  209.800,2,    1.840,2,    0.050,2,    0.090,2, -999.000
           NA,HOT timeseries 1988to2019 27SEP2021,     56,  99,-999.0,      18,-999.0,19950205,1705,  22.7272, -157.9938,  4724,  159.000,   20.434,   34.951,2,   34.952,2,  177.600,2,  194.400,2,    2.720,2,    1.190,2,    0.230,2, -999.000
           NA,HOT timeseries 1988to2019 27SEP2021,     56,  99,-999.0,      17,-999.0,19950205,1705,  22.7272, -157.9938,  4724,  193.900,   19.165,   35.016,2,   35.020,2,  191.600,2,  188.900,2,    3.130,2,    2.700,2,    0.270,2, -999.000
           NA,HOT timeseries 1988to2019 27SEP2021,     56,  99,-999.0,      16,-999.0,19950205,1705,  22.7272, -157.9938,  4724,  210.200,   18.722,   35.035,2,   35.043,2,  188.800,2,  191.800,2,    3.140,2,    2.640,2,    0.250,2, -999.000
           NA,HOT timeseries 1988to2019 27SEP2021,     56,  99,-999.0,      30,-999.0,19950205,1705,  22.7272, -157.9938,  4724,  249.600,   15.266,   34.472,2,   34.485,2,  152.800,2,  163.200,2,    8.180,2,    8.830,2,    0.730,2, -999.000
           NA,HOT timeseries 1988to2019 27SEP2021,     56,  99,-999.0,      15,-999.0,19950205,1705,  22.7272, -157.9938,  4724,  262.100,   15.447,   34.492,2,   34.500,2,  148.700,2,  163.700,2,    7.330,2,    8.640,2,    0.710,2, -999.000
           NA,HOT timeseries 1988to2019 27SEP2021,     56,  99,-999.0,      14,-999.0,19950205,1705,  22.7272, -157.9938,  4724,  311.800,   12.232,   34.224,2,   34.228,2,  159.900,2,  162.200,2,   13.240,2,   13.810,2,    1.070,2, -999.000
           NA,HOT timeseries 1988to2019 27SEP2021,     56,  99,-999.0,      13,-999.0,19950205,1705,  22.7272, -157.9938,  4724,  347.100,   10.536,   34.143,2,   34.145,2,  184.300,2,  173.600,2,   17.930,2,   16.370,2,    1.230,2, -999.000
           NA,HOT timeseries 1988to2019 27SEP2021,     56,  99,-999.0,      12,-999.0,19950205,1705,  22.7272, -157.9938,  4724,  412.300,    9.066,   34.101,2,   34.104,2,  171.600,2,  157.900,2,   27.250,2,   20.940,2,    1.540,2, -999.000
           NA,HOT timeseries 1988to2019 27SEP2021,     56,  99,-999.0,      11,-999.0,19950205,1705,  22.7272, -157.9938,  4724,  477.900,    7.756,   34.076,2,   34.078,2,  127.400,2,  126.600,2,   40.270,2,   26.380,2,    1.940,2, -999.000
           NA,HOT timeseries 1988to2019 27SEP2021,     56,  99,-999.0,      32,-999.0,19950205,1705,  22.7272, -157.9938,  4724,  497.700,    7.269,   34.057,2,   34.058,2,  135.100,2,  122.300,2,   45.570,2,   28.020,2,    2.050,2, -999.000
           NA,HOT timeseries 1988to2019 27SEP2021,     56,  99,-999.0,       3,-999.0,19950205,1705,  22.7272, -157.9938,  4724,  524.900,    6.592,   34.065,2,   34.062,2,   99.700,2,   98.800,2,   54.120,2,   30.990,2,    2.300,2, -999.000
           NA,HOT timeseries 1988to2019 27SEP2021,     56,  99,-999.0,      22,-999.0,19950205,1705,  22.7272, -157.9938,  4724,  531.800,    6.234,   34.072,2,   34.073,2,   82.400,2,   80.300,2,   62.190,2,   33.070,2,    2.380,2, -999.000
           NA,HOT timeseries 1988to2019 27SEP2021,     56,  99,-999.0,      29,-999.0,19950205,1705,  22.7272, -157.9938,  4724,  579.400,    5.927,   34.088,2,   34.087,2,   72.600,2,   68.900,2,   67.330,2,   34.900,2,    2.600,2, -999.000
           NA,HOT timeseries 1988to2019 27SEP2021,     56,  99,-999.0,      28,-999.0,19950205,1705,  22.7272, -157.9938,  4724,  622.900,    5.417,   34.146,2,   34.141,2,   53.100,2,   48.700,2,   77.870,2,   37.520,2,    2.790,2, -999.000
           NA,HOT timeseries 1988to2019 27SEP2021,     56,  99,-999.0,       7,-999.0,19950205,1705,  22.7272, -157.9938,  4724,  662.500,    5.214,   34.186,2,   34.185,2,   46.100,2,   40.900,2,   83.960,2,   38.700,2,    2.880,2, -999.000
           NA,HOT timeseries 1988to2019 27SEP2021,     56,  99,-999.0,      23,-999.0,19950205,1705,  22.7272, -157.9938,  4724,  749.200,    4.731,   34.290,2,   34.288,2,   33.100,2,   31.200,2,   95.980,2,   40.560,2,    3.020,2, -999.000
           NA,HOT timeseries 1988to2019 27SEP2021,     56,  99,-999.0,      21,-999.0,19950205,1705,  22.7272, -157.9938,  4724,  820.500,    4.524,   34.348,2,   34.348,2,   29.700,2,   30.400,2,  101.620,2,   40.590,2,    3.000,2, -999.000
           NA,HOT timeseries 1988to2019 27SEP2021,     56,  99,-999.0,      36,-999.0,19950205,1705,  22.7272, -157.9938,  4724,  830.500,    4.499,   34.403,2,   34.402,2,   36.500,2,   34.300,2,  101.740,2,   41.050,2,    3.050,2, -999.000
           NA,HOT timeseries 1988to2019 27SEP2021,     56,  99,-999.0,      35,-999.0,19950205,1705,  22.7272, -157.9938,  4724,  898.800,    4.209,   34.437,2,   34.434,2,   40.600,2,   38.000,2,  107.440,2,   41.160,2,    3.050,2, -999.000
           NA,HOT timeseries 1988to2019 27SEP2021,     56,  99,-999.0,      34,-999.0,19950205,1705,  22.7272, -157.9938,  4724,  996.400,    3.968,   34.475,2,   34.474,2,   45.200,2,   43.400,2,  112.470,2,   41.080,2,    3.030,2, -999.000
           NA,HOT timeseries 1988to2019 27SEP2021,     56,  99,-999.0,      33,-999.0,19950205,1705,  22.7272, -157.9938,  4724, 1020.100,    3.891,   34.480,2,   34.479,2,   44.800,2,   44.800,2,  114.370,2,   41.100,2,    3.040,2, -999.000
           NA,HOT timeseries 1988to2019 27SEP2021,     56,  99,-999.0,      20,-999.0,19950205,1705,  22.7272, -157.9938,  4724, 1198.600,    3.605,   34.526,2,   34.527,2,   48.000,2,   48.300,2,  120.670,2,   40.970,2,    3.020,2, -999.000
           NA,HOT timeseries 1988to2019 27SEP2021,     56,  99,-999.0,      19,-999.0,19950205,1705,  22.7272, -157.9938,  4724, 1396.500,    3.051,   34.551,2,   34.552,2,   59.200,2,   60.700,2,  132.770,2,   40.480,2,    2.970,2, -999.000
           NA,HOT timeseries 1988to2019 27SEP2021,     56,  99,-999.0,      18,-999.0,19950205,1705,  22.7272, -157.9938,  4724, 1595.700,    2.618,   34.576,2,   34.577,2,   69.000,2,   70.300,2,  143.750,2,   40.030,2,    2.920,2, -999.000
           NA,HOT timeseries 1988to2019 27SEP2021,     56,  99,-999.0,      17,-999.0,19950205,1705,  22.7272, -157.9938,  4724, 1799.600,    2.344,   34.597,2,   34.597,2,   75.800,2,   78.000,2,  149.440,2,   39.730,2,    2.890,2, -999.000
           NA,HOT timeseries 1988to2019 27SEP2021,     56,  99,-999.0,      16,-999.0,19950205,1705,  22.7272, -157.9938,  4724, 1998.500,    2.106,   34.618,2,   34.618,2,   87.000,2,   88.400,2,  154.050,2,   39.160,2,    2.830,2, -999.000
           NA,HOT timeseries 1988to2019 27SEP2021,     56,  99,-999.0,      15,-999.0,19950205,1705,  22.7272, -157.9938,  4724, 2199.200,    1.917,   34.635,2,   34.634,2,   96.000,2,   97.800,2,  156.960,2,   38.720,2,    2.790,2, -999.000
           NA,HOT timeseries 1988to2019 27SEP2021,     56,  99,-999.0,      14,-999.0,19950205,1705,  22.7272, -157.9938,  4724, 2402.600,    1.773,   34.647,2,   34.647,2,  104.500,2,  106.100,2,  159.880,2,   38.190,2,    2.750,2, -999.000
           NA,HOT timeseries 1988to2019 27SEP2021,     56,  99,-999.0,      13,-999.0,19950205,1705,  22.7272, -157.9938,  4724, 2599.500,    1.684,   34.655,2,   34.658,2,  111.400,2,  112.000,2,  160.830,2,   37.810,2,    2.720,2, -999.000
           NA,HOT timeseries 1988to2019 27SEP2021,     56,  99,-999.0,      12,-999.0,19950205,1705,  22.7272, -157.9938,  4724, 2798.800,    1.622,   34.661,2,   34.660,2,  115.900,2, -999.000,5,  161.800,2,   37.580,2,    2.690,2, -999.000
           NA,HOT timeseries 1988to2019 27SEP2021,     56,  99,-999.0,      11,-999.0,19950205,1705,  22.7272, -157.9938,  4724, 2998.800,    1.569,   34.667,2,   34.665,2,  121.300,2,  122.400,2,  162.430,2,   37.250,2,    2.650,2, -999.000
           NA,HOT timeseries 1988to2019 27SEP2021,     56,  99,-999.0,      32,-999.0,19950205,1705,  22.7272, -157.9938,  4724, 3200.300,    1.520,   34.673,2,   34.675,2,  129.900,2,  129.900,2,  159.790,2,   36.700,2,    2.610,2, -999.000
           NA,HOT timeseries 1988to2019 27SEP2021,     56,  99,-999.0,       3,-999.0,19950205,1705,  22.7272, -157.9938,  4724, 3399.700,    1.484,   34.678,2,   34.680,2,  135.300,2,  135.600,2,  159.120,2,   36.340,2,    2.580,2, -999.000
           NA,HOT timeseries 1988to2019 27SEP2021,     56,  99,-999.0,      29,-999.0,19950205,1705,  22.7272, -157.9938,  4724, 3597.700,    1.459,   34.682,2,   34.685,2,  141.500,2,  140.700,2,  156.900,2,   36.040,2,    2.550,2, -999.000
           NA,HOT timeseries 1988to2019 27SEP2021,     56,  99,-999.0,      28,-999.0,19950205,1705,  22.7272, -157.9938,  4724, 3798.700,    1.446,   34.685,2,   34.683,2,  146.200,2,  145.200,2,  154.340,2,   35.640,2,    2.510,2, -999.000
           NA,HOT timeseries 1988to2019 27SEP2021,     56,  99,-999.0,       7,-999.0,19950205,1705,  22.7272, -157.9938,  4724, 3998.500,    1.449,   34.686,2,   34.688,2,  148.200,2,  148.900,2,  153.370,2,   35.580,2,    2.520,2, -999.000
           NA,HOT timeseries 1988to2019 27SEP2021,     56,  99,-999.0,      23,-999.0,19950205,1705,  22.7272, -157.9938,  4724, 4201.100,    1.459,   34.687,2,   34.688,2,  150.600,2,  150.600,2,  154.130,2,   35.260,2,    2.480,2, -999.000
           NA,HOT timeseries 1988to2019 27SEP2021,     56,  99,-999.0,      36,-999.0,19950205,1705,  22.7272, -157.9938,  4724, 4398.900,    1.474,   34.688,2,   34.688,2,  150.900,2,  151.700,2,  152.420,2,   35.260,2,    2.470,2, -999.000
           NA,HOT timeseries 1988to2019 27SEP2021,     56,  99,-999.0,      35,-999.0,19950205,1705,  22.7272, -157.9938,  4724, 4498.400,    1.482,   34.688,2,   34.688,2,  152.700,2,  151.900,2,  151.630,2,   35.270,2,    2.490,2, -999.000
           NA,HOT timeseries 1988to2019 27SEP2021,     56,  99,-999.0,      34,-999.0,19950205,1705,  22.7272, -157.9938,  4724, 4598.700,    1.492,   34.689,2,   34.688,2,  153.300,2,  152.800,2,  151.180,2,   35.190,2,    2.480,2, -999.000
           NA,HOT timeseries 1988to2019 27SEP2021,     56,  99,-999.0,      33,-999.0,19950205,1705,  22.7272, -157.9938,  4724, 4804.600,    1.514,   34.689,2,   34.687,2,  153.600,2,  152.200,2,  150.820,2,   35.260,2,    2.480,2, -999.000