BOTTLE,20214727JOAExport
EXPOCODE,SECT_ID,STNNBR,CASTNO,SAMPNO,BTLNBR,BTLNBR_FLAG_W,DATE,TIME,LATITUDE,LONGITUDE,DEPTH,CTDPRS,CTDTMP,CTDSAL,CTDSAL_FLAG_W,SALNTY,SALNTY_FLAG_W,CTDOXY,CTDOXY_FLAG_W,OXYGEN,OXYGEN_FLAG_W,SILCAT,SILCAT_FLAG_W,NINI,NINI_FLAG_W,PHSPHT,PHSPHT_FLAG_W,REVP
,,,,,,,,,,,,DB,IPTS-68,PSS-78,,PSS-78,,UMOL/KG,,UMOL/KG,,UMOL/KG,,UMOL/KG,,UMOL/KG,,DBAR
           NA,HOT timeseries 1988to2019 27SEP2021,    234,  99,-999.0,    8024,-999.0,20130306,1506,  22.7498, -158.0012,  4741,    4.300,   22.700,   35.393,2,   35.393,2,  214.000,2,  213.100,2,    1.310,2,    0.040,2,    0.090,2, -999.000
           NA,HOT timeseries 1988to2019 27SEP2021,    234,  99,-999.0,    8024,-999.0,20130306,1506,  22.7498, -158.0012,  4741,    7.100,   22.749,   35.414,2,   35.413,2,  214.400,2,  214.600,2,    1.330,2,    0.020,2,    0.090,2, -999.000
           NA,HOT timeseries 1988to2019 27SEP2021,    234,  99,-999.0,    8023,-999.0,20130306,1506,  22.7498, -158.0012,  4741,   60.200,   22.592,   35.432,2,   35.432,2,  215.400,2,  215.600,2,    1.320,2,    0.030,2,    0.080,2, -999.000
           NA,HOT timeseries 1988to2019 27SEP2021,    234,  99,-999.0,    8022,-999.0,20130306,1506,  22.7498, -158.0012,  4741,  130.100,   22.512,   35.424,2,   35.425,2,  215.200,2,  213.600,2,    1.350,2,    0.040,2,    0.060,2, -999.000
           NA,HOT timeseries 1988to2019 27SEP2021,    234,  99,-999.0,    8021,-999.0,20130306,1506,  22.7498, -158.0012,  4741,  151.500,   22.251,   35.380,2,   35.383,2,  214.200,2, -999.000,3,    1.530,2,    0.200,2,    0.060,2, -999.000
           NA,HOT timeseries 1988to2019 27SEP2021,    234,  99,-999.0,    8020,-999.0,20130306,1506,  22.7498, -158.0012,  4741,  205.000,   19.004,   34.952,2,   34.946,2,  203.000,2,  201.900,2,    3.550,2,    2.220,2,    0.210,2, -999.000
           NA,HOT timeseries 1988to2019 27SEP2021,    234,  99,-999.0,    8019,-999.0,20130306,1506,  22.7498, -158.0012,  4741,  256.600,   15.716,   34.555,2,   34.555,2,  201.400,2,  200.600,2,    6.640,2,    5.740,2,    0.440,2, -999.000
           NA,HOT timeseries 1988to2019 27SEP2021,    234,  99,-999.0,    8018,-999.0,20130306,1506,  22.7498, -158.0012,  4741,  292.600,   13.362,   34.278,2,   34.268,2,  200.300,2,  200.600,2,    9.680,2,    9.030,2,    0.680,2, -999.000
           NA,HOT timeseries 1988to2019 27SEP2021,    234,  99,-999.0,    8017,-999.0,20130306,1506,  22.7498, -158.0012,  4741,  328.700,   11.553,   34.181,2,   34.182,2,  200.200,2,  199.200,2,   12.870,2,   12.650,2,    0.920,2, -999.000
           NA,HOT timeseries 1988to2019 27SEP2021,    234,  99,-999.0,    8016,-999.0,20130306,1506,  22.7498, -158.0012,  4741,  373.200,   10.422,   34.142,2,   34.143,2,  194.200,2,  194.500,2,   18.410,2,   15.640,2,    1.110,2, -999.000
           NA,HOT timeseries 1988to2019 27SEP2021,    234,  99,-999.0,    8015,-999.0,20130306,1506,  22.7498, -158.0012,  4741,  401.000,    9.583,   34.100,2,   34.101,2,  180.900,2,  180.200,2,   23.470,2,   18.530,2,    1.330,2, -999.000
           NA,HOT timeseries 1988to2019 27SEP2021,    234,  99,-999.0,    8014,-999.0,20130306,1506,  22.7498, -158.0012,  4741,  425.200,    9.094,   34.110,2,   34.108,2,  144.000,2,  144.900,2,   29.550,2,   22.550,2,    1.670,2, -999.000
           NA,HOT timeseries 1988to2019 27SEP2021,    234,  99,-999.0,    8025,-999.0,20130306,1506,  22.7498, -158.0012,  4741,  482.900,    8.223,   34.145,2,   34.144,2,   99.400,2,   99.100,2,   42.270,2,   28.240,2,    2.110,2, -999.000
           NA,HOT timeseries 1988to2019 27SEP2021,    234,  99,-999.0,    8012,-999.0,20130306,1506,  22.7498, -158.0012,  4741,  539.300,    7.364,   34.154,2,   34.154,2,   78.000,2,   75.400,2,   50.740,2,   31.900,2,    2.370,2, -999.000
           NA,HOT timeseries 1988to2019 27SEP2021,    234,  99,-999.0,    8011,-999.0,20130306,1506,  22.7498, -158.0012,  4741,  580.200,    6.729,   34.174,2,   34.179,2,   56.300,2,   55.800,2,   59.100,2,   34.430,2,    2.580,2, -999.000
           NA,HOT timeseries 1988to2019 27SEP2021,    234,  99,-999.0,    8010,-999.0,20130306,1506,  22.7498, -158.0012,  4741,  640.100,    5.771,   34.190,2,   34.188,2,   39.300,2,   39.000,2,   76.680,2,   37.990,2,    2.790,2, -999.000
           NA,HOT timeseries 1988to2019 27SEP2021,    234,  99,-999.0,    8009,-999.0,20130306,1506,  22.7498, -158.0012,  4741,  685.900,    5.609,   34.296,2,   34.289,2,   28.200,2,   27.400,2,   80.390,2,   39.420,2,    2.890,2, -999.000
           NA,HOT timeseries 1988to2019 27SEP2021,    234,  99,-999.0,    8008,-999.0,20130306,1506,  22.7498, -158.0012,  4741,  733.500,    5.456,   34.355,2, -999.000,4, -999.000,3,   24.000,2,   83.440,2,   40.000,2,    2.950,2, -999.000
           NA,HOT timeseries 1988to2019 27SEP2021,    234,  99,-999.0,    8026,-999.0,20130306,1506,  22.7498, -158.0012,  4741,  781.000,    5.225,   34.402,2,   34.402,2,   23.700,2,   23.800,2,   87.350,2,   40.900,2,    2.990,2, -999.000
           NA,HOT timeseries 1988to2019 27SEP2021,    234,  99,-999.0,    8006,-999.0,20130306,1506,  22.7498, -158.0012,  4741,  824.500,    4.979,   34.420,2,   34.420,2,   30.100,2,   29.900,2,   93.880,2,   40.880,2,    2.960,2, -999.000
           NA,HOT timeseries 1988to2019 27SEP2021,    234,  99,-999.0,    8005,-999.0,20130306,1506,  22.7498, -158.0012,  4741,  868.800,    4.756,   34.448,2,   34.449,2,   35.400,2,   35.000,2,   97.530,2,   40.910,2,    2.940,2, -999.000
           NA,HOT timeseries 1988to2019 27SEP2021,    234,  99,-999.0,    8004,-999.0,20130306,1506,  22.7498, -158.0012,  4741,  906.500,    4.601,   34.468,2,   34.467,2,   36.200,2,   35.700,2,   98.890,2,   41.140,2,    2.950,2, -999.000
           NA,HOT timeseries 1988to2019 27SEP2021,    234,  99,-999.0,    8003,-999.0,20130306,1506,  22.7498, -158.0012,  4741,  943.700,    4.470,   34.478,2,   34.476,2,   37.300,2,   37.400,2,  100.280,2,   41.280,2,    2.940,2, -999.000
           NA,HOT timeseries 1988to2019 27SEP2021,    234,  99,-999.0,    8002,-999.0,20130306,1506,  22.7498, -158.0012,  4741,  982.400,    4.330,   34.487,2,   34.487,2,   39.400,2,   39.500,2,  103.550,2,   41.400,2,    2.960,2, -999.000
           NA,HOT timeseries 1988to2019 27SEP2021,    234,  99,-999.0,    8001,-999.0,20130306,1506,  22.7498, -158.0012,  4741, 1019.600,    4.251,   34.493,2,   34.495,2,   40.700,2,   40.900,2,  105.730,2,   41.210,2,    2.950,2, -999.000
           NA,HOT timeseries 1988to2019 27SEP2021,    234,  99,-999.0,    8020,-999.0,20130306,1506,  22.7498, -158.0012,  4741, 1200.200,    3.798,   34.523,2,   34.521,2,   46.900,2,   46.300,2,  112.720,2,   41.310,2,    2.980,2, -999.000
           NA,HOT timeseries 1988to2019 27SEP2021,    234,  99,-999.0,    8019,-999.0,20130306,1506,  22.7498, -158.0012,  4741, 1400.000,    3.298,   34.549,2,   34.547,2,   56.100,2,   56.700,2,  123.400,2,   40.820,2,    2.940,2, -999.000
           NA,HOT timeseries 1988to2019 27SEP2021,    234,  99,-999.0,    8018,-999.0,20130306,1506,  22.7498, -158.0012,  4741, 1600.400,    2.877,   34.575,2,   34.574,2,   65.000,2,   65.200,2,  134.180,2,   40.430,2,    2.900,2, -999.000
           NA,HOT timeseries 1988to2019 27SEP2021,    234,  99,-999.0,    8017,-999.0,20130306,1506,  22.7498, -158.0012,  4741, 1799.000,    2.528,   34.596,2,   34.595,2,   75.100,2,   75.500,2,  139.770,2,   39.920,2,    2.850,2, -999.000
           NA,HOT timeseries 1988to2019 27SEP2021,    234,  99,-999.0,    8016,-999.0,20130306,1506,  22.7498, -158.0012,  4741, 2000.100,    2.245,   34.614,2,   34.614,2,   85.200,2,   85.600,2,  146.260,2,   39.420,2,    2.800,2, -999.000
           NA,HOT timeseries 1988to2019 27SEP2021,    234,  99,-999.0,    8015,-999.0,20130306,1506,  22.7498, -158.0012,  4741, 2200.000,    2.023,   34.627,2,   34.628,2,   95.000,2,   95.400,2,  150.850,2,   38.810,2,    2.740,2, -999.000
           NA,HOT timeseries 1988to2019 27SEP2021,    234,  99,-999.0,    8014,-999.0,20130306,1506,  22.7498, -158.0012,  4741, 2400.800,    1.891,   34.638,2,   34.638,2,  101.300,2,  102.000,2,  153.080,2,   38.400,2,    2.720,2, -999.000
           NA,HOT timeseries 1988to2019 27SEP2021,    234,  99,-999.0,    8025,-999.0,20130306,1506,  22.7498, -158.0012,  4741, 2599.400,    1.770,   34.648,2,   34.647,2,  107.800,2,  108.400,2,  157.320,2,   38.190,2,    2.690,2, -999.000
           NA,HOT timeseries 1988to2019 27SEP2021,    234,  99,-999.0,    8012,-999.0,20130306,1506,  22.7498, -158.0012,  4741, 2799.000,    1.667,   34.656,2,   34.657,2,  112.500,2,  113.800,2,  157.890,2,   37.810,2,    2.660,2, -999.000
           NA,HOT timeseries 1988to2019 27SEP2021,    234,  99,-999.0,    8011,-999.0,20130306,1506,  22.7498, -158.0012,  4741, 2999.700,    1.577,   34.664,2,   34.664,2,  120.200,2,  120.500,2,  159.770,2,   37.270,2,    2.600,2, -999.000
           NA,HOT timeseries 1988to2019 27SEP2021,    234,  99,-999.0,    8010,-999.0,20130306,1506,  22.7498, -158.0012,  4741, 3200.100,    1.515,   34.671,2,   34.671,2,  129.100,2,  129.200,2,  157.670,2,   36.860,2,    2.550,2, -999.000
           NA,HOT timeseries 1988to2019 27SEP2021,    234,  99,-999.0,    8009,-999.0,20130306,1506,  22.7498, -158.0012,  4741, 3400.200,    1.489,   34.676,2,   34.676,2,  134.800,2,  135.000,2,  155.340,2,   36.420,2,    2.520,2, -999.000
           NA,HOT timeseries 1988to2019 27SEP2021,    234,  99,-999.0,    8008,-999.0,20130306,1506,  22.7498, -158.0012,  4741, 3599.800,    1.466,   34.680,2,   34.679,2,  140.100,2,  140.300,2,  153.850,2,   36.080,2,    2.490,2, -999.000
           NA,HOT timeseries 1988to2019 27SEP2021,    234,  99,-999.0,    8026,-999.0,20130306,1506,  22.7498, -158.0012,  4741, 3799.800,    1.458,   34.682,2,   34.682,2,  143.900,2,  144.200,2,  151.160,2,   35.990,2,    2.480,2, -999.000
           NA,HOT timeseries 1988to2019 27SEP2021,    234,  99,-999.0,    8006,-999.0,20130306,1506,  22.7498, -158.0012,  4741, 4001.300,    1.457,   34.685,2,   34.684,2,  147.200,2,  147.400,2,  150.750,2,   35.410,2,    2.450,2, -999.000
           NA,HOT timeseries 1988to2019 27SEP2021,    234,  99,-999.0,    8005,-999.0,20130306,1506,  22.7498, -158.0012,  4741, 4199.300,    1.466,   34.686,2,   34.686,2,  149.700,2,  149.300,2,  149.710,2,   35.310,2,    2.450,2, -999.000
           NA,HOT timeseries 1988to2019 27SEP2021,    234,  99,-999.0,    8004,-999.0,20130306,1506,  22.7498, -158.0012,  4741, 4398.200,    1.482,   34.687,2,   34.687,2,  150.800,2,  151.100,2,  148.360,2,   35.230,2,    2.450,2, -999.000
           NA,HOT timeseries 1988to2019 27SEP2021,    234,  99,-999.0,    8003,-999.0,20130306,1506,  22.7498, -158.0012,  4741, 4499.000,    1.490,   34.687,2,   34.688,2,  151.400,2,  151.400,2,  150.310,2,   35.120,2,    2.430,2, -999.000
           NA,HOT timeseries 1988to2019 27SEP2021,    234,  99,-999.0,    8002,-999.0,20130306,1506,  22.7498, -158.0012,  4741, 4599.100,    1.500,   34.688,2,   34.687,2,  152.100,2,  151.200,2,  148.830,2,   35.110,2,    2.430,2, -999.000
           NA,HOT timeseries 1988to2019 27SEP2021,    234,  99,-999.0,    8001,-999.0,20130306,1506,  22.7498, -158.0012,  4741, 4809.900,    1.524,   34.687,2,   34.688,2,  152.100,2,  151.900,2,  146.730,2,   35.060,2,    2.420,2, -999.000