BOTTLE,20214727JOAExport
EXPOCODE,SECT_ID,STNNBR,CASTNO,SAMPNO,BTLNBR,BTLNBR_FLAG_W,DATE,TIME,LATITUDE,LONGITUDE,DEPTH,CTDPRS,CTDTMP,CTDSAL,CTDSAL_FLAG_W,SALNTY,SALNTY_FLAG_W,CTDOXY,CTDOXY_FLAG_W,OXYGEN,OXYGEN_FLAG_W,SILCAT,SILCAT_FLAG_W,NINI,NINI_FLAG_W,PHSPHT,PHSPHT_FLAG_W,REVP
,,,,,,,,,,,,DB,IPTS-68,PSS-78,,PSS-78,,UMOL/KG,,UMOL/KG,,UMOL/KG,,UMOL/KG,,UMOL/KG,,DBAR
           NA,HOT timeseries 1988to2019 27SEP2021,    238,  99,-999.0,    8024,-999.0,20130911,1512,  22.7498, -158.0005,  4742,    6.600,   26.893,   35.498,2,   35.499,2,  202.800,2,  202.900,2,    1.030,2,    0.020,2,    0.050,2, -999.000
           NA,HOT timeseries 1988to2019 27SEP2021,    238,  99,-999.0,    8024,-999.0,20130911,1512,  22.7498, -158.0005,  4742,   30.900,   26.896,   35.497,2,   35.497,2,  203.200,2,  203.100,2,    1.120,2,    0.040,2, -999.000,3, -999.000
           NA,HOT timeseries 1988to2019 27SEP2021,    238,  99,-999.0,    8023,-999.0,20130911,1512,  22.7498, -158.0005,  4742,   55.100,   26.289,   35.456,2,   35.452,2,  210.200,2,  212.800,2,    1.190,2,    0.050,2,    0.040,2, -999.000
           NA,HOT timeseries 1988to2019 27SEP2021,    238,  99,-999.0,    8022,-999.0,20130911,1512,  22.7498, -158.0005,  4742,   70.500,   24.514,   35.405,2,   35.401,2,  225.200,2,  223.800,2,    1.280,2,    0.040,2,    0.020,2, -999.000
           NA,HOT timeseries 1988to2019 27SEP2021,    238,  99,-999.0,    8021,-999.0,20130911,1512,  22.7498, -158.0005,  4742,  108.700,   21.744,   35.314,2,   35.307,2,  208.000,2,  205.600,2,    1.680,2,    0.400,2,    0.090,2, -999.000
           NA,HOT timeseries 1988to2019 27SEP2021,    238,  99,-999.0,    8020,-999.0,20130911,1512,  22.7498, -158.0005,  4742,  120.900,   21.261,   35.307,2,   35.299,2,  204.600,2,  203.700,2,    1.700,2,    0.710,2,    0.100,2, -999.000
           NA,HOT timeseries 1988to2019 27SEP2021,    238,  99,-999.0,    8019,-999.0,20130911,1512,  22.7498, -158.0005,  4742,  141.000,   20.971,   35.336,2, -999.000,4, -999.000,3,  201.700,2,    1.700,2,    0.890,2,    0.120,2, -999.000
           NA,HOT timeseries 1988to2019 27SEP2021,    238,  99,-999.0,    8018,-999.0,20130911,1512,  22.7498, -158.0005,  4742,  160.300,   19.972,   35.170,2,   35.173,2,  198.900,2,  200.200,2,    2.250,2,    1.630,2,    0.150,2, -999.000
           NA,HOT timeseries 1988to2019 27SEP2021,    238,  99,-999.0,    8017,-999.0,20130911,1512,  22.7498, -158.0005,  4742,  188.900,   18.448,   34.909,2,   34.907,2,  194.100,2,  195.100,2,    3.220,2,    3.110,2,    0.260,2, -999.000
           NA,HOT timeseries 1988to2019 27SEP2021,    238,  99,-999.0,    8016,-999.0,20130911,1512,  22.7498, -158.0005,  4742,  226.000,   15.219,   34.487,2,   34.483,2,  197.200,2,  199.100,2,    6.110,2,    6.360,2,    0.470,2, -999.000
           NA,HOT timeseries 1988to2019 27SEP2021,    238,  99,-999.0,    8015,-999.0,20130911,1512,  22.7498, -158.0005,  4742,  315.600,   11.852,   34.194,2,   34.192,2,  186.900,2,  187.100,2,   13.380,2,   13.160,2,    0.970,2, -999.000
           NA,HOT timeseries 1988to2019 27SEP2021,    238,  99,-999.0,    8014,-999.0,20130911,1512,  22.7498, -158.0005,  4742,  350.400,   10.885,   34.174,2,   34.174,2,  176.100,2,  184.300,2,   17.380,2,   15.620,2,    1.130,2, -999.000
           NA,HOT timeseries 1988to2019 27SEP2021,    238,  99,-999.0,    8012,-999.0,20130911,1512,  22.7498, -158.0005,  4742,  401.000,    9.400,   34.103,2,   34.104,2,  185.800,2,  185.100,2,   23.980,2,   18.720,2,    1.320,2, -999.000
           NA,HOT timeseries 1988to2019 27SEP2021,    238,  99,-999.0,    8011,-999.0,20130911,1512,  22.7498, -158.0005,  4742,  424.800,    9.041,   34.092,2,   34.095,2,  177.600,2,  173.400,2,   27.430,2,   20.410,2,    1.440,2, -999.000
           NA,HOT timeseries 1988to2019 27SEP2021,    238,  99,-999.0,    8010,-999.0,20130911,1512,  22.7498, -158.0005,  4742,  481.000,    7.883,   34.063,2,   34.062,2,  134.600,2,  135.000,2,   39.590,2,   26.300,2,    1.870,2, -999.000
           NA,HOT timeseries 1988to2019 27SEP2021,    238,  99,-999.0,    8009,-999.0,20130911,1512,  22.7498, -158.0005,  4742,  495.100,    7.720,   34.072,2,   34.074,2,  124.000,2,  122.500,2,   42.780,2,   27.560,2,    1.980,2, -999.000
           NA,HOT timeseries 1988to2019 27SEP2021,    238,  99,-999.0,    8026,-999.0,20130911,1512,  22.7498, -158.0005,  4742,  603.900,    5.957,   34.081,2,   34.081,2,   80.000,2,   79.900,2,   66.460,2,   34.690,2,    2.480,2, -999.000
           NA,HOT timeseries 1988to2019 27SEP2021,    238,  99,-999.0,    8006,-999.0,20130911,1512,  22.7498, -158.0005,  4742,  639.400,    5.313,   34.117,2,   34.118,2,   59.900,2,   59.800,2,   78.920,2,   37.410,2,    2.690,2, -999.000
           NA,HOT timeseries 1988to2019 27SEP2021,    238,  99,-999.0,    8005,-999.0,20130911,1512,  22.7498, -158.0005,  4742,  690.500,    4.783,   34.191,2,   34.193,2,   42.000,2,   41.500,2,   91.670,2,   39.770,2,    2.860,2, -999.000
           NA,HOT timeseries 1988to2019 27SEP2021,    238,  99,-999.0,    8004,-999.0,20130911,1512,  22.7498, -158.0005,  4742,  757.700,    4.482,   34.302,2,   34.302,2,   38.500,2,   38.100,2,   99.660,2,   40.720,2,    2.940,2, -999.000
           NA,HOT timeseries 1988to2019 27SEP2021,    238,  99,-999.0,    8003,-999.0,20130911,1512,  22.7498, -158.0005,  4742,  800.300,    4.463,   34.360,2,   34.356,2,   36.700,2,   36.600,2,  101.090,2,   40.950,2,    2.960,2, -999.000
           NA,HOT timeseries 1988to2019 27SEP2021,    238,  99,-999.0,    8002,-999.0,20130911,1512,  22.7498, -158.0005,  4742,  851.700,    4.319,   34.386,2,   34.387,2,   37.700,2,   37.800,2,  103.700,2,   41.180,2,    2.970,2, -999.000
           NA,HOT timeseries 1988to2019 27SEP2021,    238,  99,-999.0,    8001,-999.0,20130911,1512,  22.7498, -158.0005,  4742, 1020.600,    3.868,   34.464,2,   34.466,2,   46.500,2,   47.100,2,  112.560,2,   40.850,2,    2.940,2, -999.000
           NA,HOT timeseries 1988to2019 27SEP2021,    238,  99,-999.0,    8020,-999.0,20130911,1512,  22.7498, -158.0005,  4742, 1202.100,    3.467,   34.518,2,   34.518,2,   56.000,2,   56.100,2,  120.640,2,   40.660,2,    2.910,2, -999.000
           NA,HOT timeseries 1988to2019 27SEP2021,    238,  99,-999.0,    8019,-999.0,20130911,1512,  22.7498, -158.0005,  4742, 1400.100,    3.114,   34.544,2,   34.545,2,   62.600,2,   63.800,2,  127.920,2,   40.450,2,    2.900,2, -999.000
           NA,HOT timeseries 1988to2019 27SEP2021,    238,  99,-999.0,    8018,-999.0,20130911,1512,  22.7498, -158.0005,  4742, 1600.300,    2.727,   34.571,2,   34.571,2,   70.000,2,   70.100,2,  136.750,2,   40.220,2,    2.850,2, -999.000
           NA,HOT timeseries 1988to2019 27SEP2021,    238,  99,-999.0,    8017,-999.0,20130911,1512,  22.7498, -158.0005,  4742, 1800.700,    2.442,   34.598,2,   34.597,2,   78.800,2,   79.100,2,  142.860,2,   39.760,2,    2.820,2, -999.000
           NA,HOT timeseries 1988to2019 27SEP2021,    238,  99,-999.0,    8016,-999.0,20130911,1512,  22.7498, -158.0005,  4742, 2001.800,    2.155,   34.617,2,   34.617,2,   87.900,2,   88.200,2,  149.260,2,   39.330,2,    2.790,2, -999.000
           NA,HOT timeseries 1988to2019 27SEP2021,    238,  99,-999.0,    8015,-999.0,20130911,1512,  22.7498, -158.0005,  4742, 2201.600,    1.963,   34.632,2,   34.633,2,   96.000,2,   96.500,2,  153.720,2,   38.940,2,    2.750,2, -999.000
           NA,HOT timeseries 1988to2019 27SEP2021,    238,  99,-999.0,    8014,-999.0,20130911,1512,  22.7498, -158.0005,  4742, 2400.500,    1.817,   34.644,2,   34.645,2,  103.400,2,  103.800,2,  157.100,2,   38.480,2,    2.700,2, -999.000
           NA,HOT timeseries 1988to2019 27SEP2021,    238,  99,-999.0,    8025,-999.0,20130911,1512,  22.7498, -158.0005,  4742, 2601.000,    1.731,   34.652,2,   34.652,2,  108.900,2,  109.100,2,  158.330,2,   38.150,2,    2.680,2, -999.000
           NA,HOT timeseries 1988to2019 27SEP2021,    238,  99,-999.0,    8012,-999.0,20130911,1512,  22.7498, -158.0005,  4742, 2800.800,    1.626,   34.659,2,   34.659,2,  114.400,2,  114.900,2,  160.360,2,   37.830,2,    2.660,2, -999.000
           NA,HOT timeseries 1988to2019 27SEP2021,    238,  99,-999.0,    8011,-999.0,20130911,1512,  22.7498, -158.0005,  4742, 3001.000,    1.556,   34.667,2,   34.666,2,  123.100,2,  123.400,2,  158.630,2,   37.210,2,    2.600,2, -999.000
           NA,HOT timeseries 1988to2019 27SEP2021,    238,  99,-999.0,    8010,-999.0,20130911,1512,  22.7498, -158.0005,  4742, 3199.900,    1.507,   34.673,2,   34.673,2,  130.100,2,  130.800,2,  157.040,2,   36.670,2,    2.560,2, -999.000
           NA,HOT timeseries 1988to2019 27SEP2021,    238,  99,-999.0,    8009,-999.0,20130911,1512,  22.7498, -158.0005,  4742, 3400.500,    1.485,   34.677,2,   34.677,2,  135.600,2,  135.300,2,  156.170,2,   36.400,2,    2.530,2, -999.000
           NA,HOT timeseries 1988to2019 27SEP2021,    238,  99,-999.0,    8008,-999.0,20130911,1512,  22.7498, -158.0005,  4742, 3600.900,    1.466,   34.681,2,   34.681,2,  140.700,2,  140.500,2,  155.120,2,   36.090,2,    2.510,2, -999.000
           NA,HOT timeseries 1988to2019 27SEP2021,    238,  99,-999.0,    8026,-999.0,20130911,1512,  22.7498, -158.0005,  4742, 3800.800,    1.457,   34.684,2,   34.684,2,  144.600,2,  144.300,2,  152.160,2,   35.720,2,    2.470,2, -999.000
           NA,HOT timeseries 1988to2019 27SEP2021,    238,  99,-999.0,    8006,-999.0,20130911,1512,  22.7498, -158.0005,  4742, 4000.100,    1.459,   34.685,2,   34.685,2,  147.600,2,  147.200,2,  151.100,2,   35.350,2,    2.460,2, -999.000
           NA,HOT timeseries 1988to2019 27SEP2021,    238,  99,-999.0,    8005,-999.0,20130911,1512,  22.7498, -158.0005,  4742, 4200.800,    1.466,   34.687,2,   34.686,2,  149.700,2,  149.500,2,  149.770,2,   35.410,2,    2.450,2, -999.000
           NA,HOT timeseries 1988to2019 27SEP2021,    238,  99,-999.0,    8004,-999.0,20130911,1512,  22.7498, -158.0005,  4742, 4400.400,    1.479,   34.688,2,   34.687,2,  151.400,2,  151.100,2,  149.020,2,   35.280,2,    2.440,2, -999.000
           NA,HOT timeseries 1988to2019 27SEP2021,    238,  99,-999.0,    8003,-999.0,20130911,1512,  22.7498, -158.0005,  4742, 4500.800,    1.490,   34.688,2,   34.688,2,  151.600,2,  151.500,2,  149.290,2,   35.360,2,    2.450,2, -999.000
           NA,HOT timeseries 1988to2019 27SEP2021,    238,  99,-999.0,    8002,-999.0,20130911,1512,  22.7498, -158.0005,  4742, 4601.200,    1.500,   34.688,2,   34.689,2,  152.100,2,  151.600,2,  148.830,2,   35.120,2,    2.430,2, -999.000
           NA,HOT timeseries 1988to2019 27SEP2021,    238,  99,-999.0,    8001,-999.0,20130911,1512,  22.7498, -158.0005,  4742, 4808.800,    1.505,   34.690,2,   34.690,2,  154.500,2,  154.700,2,  146.500,2,   34.900,2,    2.420,2, -999.000