BOTTLE,20214727JOAExport
EXPOCODE,SECT_ID,STNNBR,CASTNO,SAMPNO,BTLNBR,BTLNBR_FLAG_W,DATE,TIME,LATITUDE,LONGITUDE,DEPTH,CTDPRS,CTDTMP,CTDSAL,CTDSAL_FLAG_W,SALNTY,SALNTY_FLAG_W,CTDOXY,CTDOXY_FLAG_W,OXYGEN,OXYGEN_FLAG_W,SILCAT,SILCAT_FLAG_W,NINI,NINI_FLAG_W,PHSPHT,PHSPHT_FLAG_W,REVP
,,,,,,,,,,,,DB,IPTS-68,PSS-78,,PSS-78,,UMOL/KG,,UMOL/KG,,UMOL/KG,,UMOL/KG,,UMOL/KG,,DBAR
           NA,HOT timeseries 1988to2019 27SEP2021,     48,  99,-999.0,      31,-999.0,19940216,1753,  22.7520, -158.0010,  4714,    5.700,   22.855,   35.073,2,   35.072,2,  212.100,2,  211.500,2,    1.960,2,    0.000,2,    0.100,2, -999.000
           NA,HOT timeseries 1988to2019 27SEP2021,     48,  99,-999.0,      31,-999.0,19940216,1753,  22.7520, -158.0010,  4714,    6.700,   22.678,   35.046,2,   35.046,2,  212.000,2,  213.500,2,    1.850,2,    0.000,2,    0.070,2, -999.000
           NA,HOT timeseries 1988to2019 27SEP2021,     48,  99,-999.0,      30,-999.0,19940216,1753,  22.7520, -158.0010,  4714,   12.300,   22.675,   35.045,2,   35.044,2,  212.000,2,  213.500,2,    1.820,2,    0.000,2,    0.060,2, -999.000
           NA,HOT timeseries 1988to2019 27SEP2021,     48,  99,-999.0,      22,-999.0,19940216,1753,  22.7520, -158.0010,  4714,   28.400,   22.743,   35.100,2,   35.097,2,  212.400,2,  212.500,2,    1.850,2,    0.000,2,    0.060,2, -999.000
           NA,HOT timeseries 1988to2019 27SEP2021,     48,  99,-999.0,      21,-999.0,19940216,1753,  22.7520, -158.0010,  4714,   52.300,   22.733,   35.104,2,   35.106,2,  212.600,2,  212.500,2,    1.850,2,    0.000,2,    0.060,2, -999.000
           NA,HOT timeseries 1988to2019 27SEP2021,     48,  99,-999.0,      30,-999.0,19940216,1753,  22.7520, -158.0010,  4714,   79.600,   22.585,   35.106,2,   35.107,2,  213.400,2,  212.600,2,    1.890,2,    0.000,2,    0.090,2, -999.000
           NA,HOT timeseries 1988to2019 27SEP2021,     48,  99,-999.0,      20,-999.0,19940216,1753,  22.7520, -158.0010,  4714,   97.900,   22.358,   35.200,2,   35.199,2,  212.100,2,  213.900,2,    1.840,2,    0.000,2,    0.050,2, -999.000
           NA,HOT timeseries 1988to2019 27SEP2021,     48,  99,-999.0,      19,-999.0,19940216,1753,  22.7520, -158.0010,  4714,  120.500,   22.350,   35.210,2,   35.214,2,  212.600,2,  212.900,2,    1.700,2,    0.000,2,    0.050,2, -999.000
           NA,HOT timeseries 1988to2019 27SEP2021,     48,  99,-999.0,      18,-999.0,19940216,1753,  22.7520, -158.0010,  4714,  148.500,   21.775,   35.197,2,   35.199,2,  203.400,2,  203.700,2,    2.000,2,    0.390,2,    0.090,2, -999.000
           NA,HOT timeseries 1988to2019 27SEP2021,     48,  99,-999.0,      17,-999.0,19940216,1753,  22.7520, -158.0010,  4714,  176.000,   19.996,   35.083,2,   35.084,2,  186.100,2,  190.100,2,    2.750,2,    2.060,2,    0.210,2, -999.000
           NA,HOT timeseries 1988to2019 27SEP2021,     48,  99,-999.0,      16,-999.0,19940216,1753,  22.7520, -158.0010,  4714,  194.700,   19.117,   35.028,2, -999.000,3, -999.000,3,  188.200,2,    3.170,2,    2.810,2,    0.250,2, -999.000
           NA,HOT timeseries 1988to2019 27SEP2021,     48,  99,-999.0,      15,-999.0,19940216,1753,  22.7520, -158.0010,  4714,  226.000,   17.737,   34.895,2,   34.894,2,  191.600,2,  189.900,2,    4.050,2,    3.890,2,    0.310,2, -999.000
           NA,HOT timeseries 1988to2019 27SEP2021,     48,  99,-999.0,      14,-999.0,19940216,1753,  22.7520, -158.0010,  4714,  252.500,   15.832,   34.662,2,   34.666,2,  186.200,2,  189.700,2,    5.860,2,    6.050,2,    0.460,2, -999.000
           NA,HOT timeseries 1988to2019 27SEP2021,     48,  99,-999.0,      13,-999.0,19940216,1753,  22.7520, -158.0010,  4714,  312.800,   11.994,   34.248,2,   34.241,2,  194.500,2,  193.500,2,   11.430,2,   11.550,2,    0.800,2, -999.000
           NA,HOT timeseries 1988to2019 27SEP2021,     48,  99,-999.0,      12,-999.0,19940216,1753,  22.7520, -158.0010,  4714,  366.000,   10.071,   34.131,2,   34.130,2,  187.200,2,  186.100,2,   19.190,2,   16.820,2,    1.180,2, -999.000
           NA,HOT timeseries 1988to2019 27SEP2021,     48,  99,-999.0,      11,-999.0,19940216,1753,  22.7520, -158.0010,  4714,  424.300,    8.550,   34.068,2,   34.067,2,  158.000,2,  160.600,2,   29.900,2,   22.400,2,    1.570,2, -999.000
           NA,HOT timeseries 1988to2019 27SEP2021,     48,  99,-999.0,      32,-999.0,19940216,1753,  22.7520, -158.0010,  4714,  499.700,    7.311,   34.066,2,   34.069,2,  120.500,2,  114.800,2,   46.080,2,   29.190,2,    2.080,2, -999.000
           NA,HOT timeseries 1988to2019 27SEP2021,     48,  99,-999.0,      22,-999.0,19940216,1753,  22.7520, -158.0010,  4714,  501.300,    7.119,   34.078,2,   34.076,2,  100.500,2,   99.500,2,   49.390,2,   30.110,2,    2.110,2, -999.000
           NA,HOT timeseries 1988to2019 27SEP2021,     48,  99,-999.0,       3,-999.0,19940216,1753,  22.7520, -158.0010,  4714,  529.700,    6.824,   34.073,2,   34.074,2,   95.900,2,   95.000,2,   53.200,2,   31.910,2,    2.310,2, -999.000
           NA,HOT timeseries 1988to2019 27SEP2021,     48,  99,-999.0,      29,-999.0,19940216,1753,  22.7520, -158.0010,  4714,  554.000,    6.487,   34.076,2,   34.076,2,   83.700,2,   76.300,2,   58.750,2,   33.670,2,    2.430,2, -999.000
           NA,HOT timeseries 1988to2019 27SEP2021,     48,  99,-999.0,      28,-999.0,19940216,1753,  22.7520, -158.0010,  4714,  625.100,    5.809,   34.151,2,   34.151,2,   51.000,2,   48.700,2,   72.610,2,   37.920,2,    2.760,2, -999.000
           NA,HOT timeseries 1988to2019 27SEP2021,     48,  99,-999.0,       7,-999.0,19940216,1753,  22.7520, -158.0010,  4714,  679.800,    5.310,   34.233,2,   34.234,2,   37.500,2,   32.500,2,   83.880,2,   40.100,2,    2.940,2, -999.000
           NA,HOT timeseries 1988to2019 27SEP2021,     48,  99,-999.0,      23,-999.0,19940216,1753,  22.7520, -158.0010,  4714,  745.200,    4.951,   34.330,2,   34.327,2,   32.100,2,   28.600,2,   92.090,2,   41.280,2,    3.030,2, -999.000
           NA,HOT timeseries 1988to2019 27SEP2021,     48,  99,-999.0,      36,-999.0,19940216,1753,  22.7520, -158.0010,  4714,  802.600,    4.713,   34.388,2,   34.388,2,   33.100,2,   30.200,2,   99.010,2,   41.870,2,    3.050,2, -999.000
           NA,HOT timeseries 1988to2019 27SEP2021,     48,  99,-999.0,      35,-999.0,19940216,1753,  22.7520, -158.0010,  4714,  835.900,    4.556,   34.417,2,   34.417,2,   33.800,2,   32.300,2,  100.590,2,   42.000,2,    3.060,2, -999.000
           NA,HOT timeseries 1988to2019 27SEP2021,     48,  99,-999.0,      34,-999.0,19940216,1753,  22.7520, -158.0010,  4714,  903.100,    4.361,   34.448,2,   34.450,2,   37.000,2,   35.900,2,  104.200,2,   41.960,2,    3.060,2, -999.000
           NA,HOT timeseries 1988to2019 27SEP2021,     48,  99,-999.0,      21,-999.0,19940216,1753,  22.7520, -158.0010,  4714, 1003.800,    4.085,   34.492,2,   34.489,2,   41.400,2,   42.600,2, -999.000,4, -999.000,4, -999.000,4, -999.000
           NA,HOT timeseries 1988to2019 27SEP2021,     48,  99,-999.0,      33,-999.0,19940216,1753,  22.7520, -158.0010,  4714, 1010.000,    4.050,   34.486,2,   34.488,2,   40.400,2,   42.800,2,  111.070,2,   42.020,2,    3.060,2, -999.000
           NA,HOT timeseries 1988to2019 27SEP2021,     48,  99,-999.0,      20,-999.0,19940216,1753,  22.7520, -158.0010,  4714, 1401.600,    3.140,   34.557,2,   34.557,2,   56.500,2,   58.300,2,  129.680,2,   41.370,2,    2.970,2, -999.000
           NA,HOT timeseries 1988to2019 27SEP2021,     48,  99,-999.0,      19,-999.0,19940216,1753,  22.7520, -158.0010,  4714, 1606.500,    2.766,   34.583,2,   34.583,2,   68.100,2,   70.800,2,  137.920,2,   40.920,2,    2.930,2, -999.000
           NA,HOT timeseries 1988to2019 27SEP2021,     48,  99,-999.0,      18,-999.0,19940216,1753,  22.7520, -158.0010,  4714, 1804.300,    2.494,   34.597,2,   34.598,2,   72.700,2,   77.400,2,  143.670,2,   40.380,2,    2.890,2, -999.000
           NA,HOT timeseries 1988to2019 27SEP2021,     48,  99,-999.0,      17,-999.0,19940216,1753,  22.7520, -158.0010,  4714, 2005.600,    2.184,   34.614,2,   34.615,2,   82.100,2,   84.900,2,  151.270,2,   39.870,2,    2.850,2, -999.000
           NA,HOT timeseries 1988to2019 27SEP2021,     48,  99,-999.0,      16,-999.0,19940216,1753,  22.7520, -158.0010,  4714, 2197.800,    1.971,   34.629,2,   34.630,2,   90.500,2,   92.600,2,  157.110,2,   39.430,2,    2.810,2, -999.000
           NA,HOT timeseries 1988to2019 27SEP2021,     48,  99,-999.0,      15,-999.0,19940216,1753,  22.7520, -158.0010,  4714, 2399.900,    1.800,   34.641,2,   34.642,2,   99.600,2,   99.600,2,  162.310,2,   39.080,2,    2.790,2, -999.000
           NA,HOT timeseries 1988to2019 27SEP2021,     48,  99,-999.0,      14,-999.0,19940216,1753,  22.7520, -158.0010,  4714, 2604.300,    1.687,   34.652,2,   34.654,2,  105.600,2,  107.900,2,  162.970,2,   38.540,2,    2.730,2, -999.000
           NA,HOT timeseries 1988to2019 27SEP2021,     48,  99,-999.0,      13,-999.0,19940216,1753,  22.7520, -158.0010,  4714, 2802.900,    1.607,   34.661,2,   34.661,2,  114.500,2,  116.100,2,  160.730,2,   37.980,2,    2.700,2, -999.000
           NA,HOT timeseries 1988to2019 27SEP2021,     48,  99,-999.0,      12,-999.0,19940216,1753,  22.7520, -158.0010,  4714, 3002.800,    1.553,   34.668,2,   34.668,2,  124.600,2,  122.700,2,  161.780,2,   37.630,2,    2.660,2, -999.000
           NA,HOT timeseries 1988to2019 27SEP2021,     48,  99,-999.0,      11,-999.0,19940216,1753,  22.7520, -158.0010,  4714, 3202.200,    1.511,   34.674,2,   34.673,2,  128.600,2,  129.800,2,  159.730,2,   37.160,2,    2.610,2, -999.000
           NA,HOT timeseries 1988to2019 27SEP2021,     48,  99,-999.0,      32,-999.0,19940216,1753,  22.7520, -158.0010,  4714, 3402.600,    1.481,   34.678,2,   34.676,2,  133.700,2,  135.500,2,  158.440,2,   36.770,2,    2.590,2, -999.000
           NA,HOT timeseries 1988to2019 27SEP2021,     48,  99,-999.0,       3,-999.0,19940216,1753,  22.7520, -158.0010,  4714, 3599.200,    1.466,   34.681,2,   34.684,2,  140.200,2,  140.200,2,  156.070,2,   36.340,2,    2.560,2, -999.000
           NA,HOT timeseries 1988to2019 27SEP2021,     48,  99,-999.0,      29,-999.0,19940216,1753,  22.7520, -158.0010,  4714, 3802.100,    1.451,   34.684,2,   34.684,2,  143.600,2,  144.700,2,  154.380,2,   36.070,2,    2.540,2, -999.000
           NA,HOT timeseries 1988to2019 27SEP2021,     48,  99,-999.0,      28,-999.0,19940216,1753,  22.7520, -158.0010,  4714, 4006.400,    1.453,   34.686,2,   34.686,2,  148.400,2,  147.400,2,  152.950,2,   35.910,2,    2.530,2, -999.000
           NA,HOT timeseries 1988to2019 27SEP2021,     48,  99,-999.0,       7,-999.0,19940216,1753,  22.7520, -158.0010,  4714, 4201.100,    1.460,   34.687,2,   34.686,2,  150.200,2,  149.700,2,  151.780,2,   35.650,2,    2.520,2, -999.000
           NA,HOT timeseries 1988to2019 27SEP2021,     48,  99,-999.0,      23,-999.0,19940216,1753,  22.7520, -158.0010,  4714, 4302.800,    1.467,   34.688,2,   34.687,2,  150.400,2,  150.800,2,  151.240,2,   35.660,2,    2.500,2, -999.000
           NA,HOT timeseries 1988to2019 27SEP2021,     48,  99,-999.0,      36,-999.0,19940216,1753,  22.7520, -158.0010,  4714, 4404.300,    1.476,   34.688,2,   34.687,2,  152.300,2,  150.600,2,  151.360,2,   35.570,2,    2.510,2, -999.000
           NA,HOT timeseries 1988to2019 27SEP2021,     48,  99,-999.0,      35,-999.0,19940216,1753,  22.7520, -158.0010,  4714, 4505.100,    1.485,   34.688,2,   34.688,2,  153.600,2,  151.300,2,  150.720,2,   35.550,2,    2.500,2, -999.000
           NA,HOT timeseries 1988to2019 27SEP2021,     48,  99,-999.0,      34,-999.0,19940216,1753,  22.7520, -158.0010,  4714, 4602.400,    1.493,   34.689,2,   34.688,2,  150.800,2,  152.200,2,  150.510,2,   35.680,2,    2.490,2, -999.000
           NA,HOT timeseries 1988to2019 27SEP2021,     48,  99,-999.0,      33,-999.0,19940216,1753,  22.7520, -158.0010,  4714, 4798.700,    1.498,   34.690,2,   34.690,2,  156.300,2,  155.100,2,  148.540,2,   35.620,2,    2.470,2, -999.000