BOTTLE,20214727JOAExport
EXPOCODE,SECT_ID,STNNBR,CASTNO,SAMPNO,BTLNBR,BTLNBR_FLAG_W,DATE,TIME,LATITUDE,LONGITUDE,DEPTH,CTDPRS,CTDTMP,CTDSAL,CTDSAL_FLAG_W,SALNTY,SALNTY_FLAG_W,CTDOXY,CTDOXY_FLAG_W,OXYGEN,OXYGEN_FLAG_W,SILCAT,SILCAT_FLAG_W,NINI,NINI_FLAG_W,PHSPHT,PHSPHT_FLAG_W,REVP
,,,,,,,,,,,,DB,IPTS-68,PSS-78,,PSS-78,,UMOL/KG,,UMOL/KG,,UMOL/KG,,UMOL/KG,,UMOL/KG,,DBAR
           NA,HOT timeseries 1988to2019 27SEP2021,     19,  99,-999.0,      23,-999.0,19901219,0739,  22.7300, -157.9133,  4759,    9.400,   23.914,   35.208,2,   35.208,2,  250.000,2, -999.000,5,    1.360,2,    0.000,2,    0.070,2, -999.000
           NA,HOT timeseries 1988to2019 27SEP2021,     19,  99,-999.0,      21,-999.0,19901219,0739,  22.7300, -157.9133,  4759,   10.100,   23.957,   35.214,2, -999.000,3, -999.000,3,  210.200,2,    0.770,2,    0.020,2,    0.070,2, -999.000
           NA,HOT timeseries 1988to2019 27SEP2021,     19,  99,-999.0,      22,-999.0,19901219,0739,  22.7300, -157.9133,  4759,   24.200,   23.917,   35.207,2,   35.207,2,  250.100,2,  210.200,2,    1.740,2, -999.000,4, -999.000,3, -999.000
           NA,HOT timeseries 1988to2019 27SEP2021,     19,  99,-999.0,      20,-999.0,19901219,0739,  22.7300, -157.9133,  4759,   24.700,   23.957,   35.216,2,   35.221,2,  256.100,2,  210.100,2,    1.160,2,    0.000,2,    0.070,2, -999.000
           NA,HOT timeseries 1988to2019 27SEP2021,     19,  99,-999.0,      19,-999.0,19901219,0739,  22.7300, -157.9133,  4759,   70.600,   23.951,   35.273,2,   35.275,2,  224.800,2,  210.200,2,    0.770,2,    0.000,2,    0.070,2, -999.000
           NA,HOT timeseries 1988to2019 27SEP2021,     19,  99,-999.0,      18,-999.0,19901219,0739,  22.7300, -157.9133,  4759,   84.800,   23.922,   35.275,2,   35.278,2,  221.100,2,  209.900,2,    1.160,2,    0.020,2,    0.070,2, -999.000
           NA,HOT timeseries 1988to2019 27SEP2021,     19,  99,-999.0,      17,-999.0,19901219,0739,  22.7300, -157.9133,  4759,   97.600,   22.817,   35.224,2,   35.218,2,  221.100,2,  211.500,2,    1.160,2,    0.090,2,    0.080,2, -999.000
           NA,HOT timeseries 1988to2019 27SEP2021,     19,  99,-999.0,      16,-999.0,19901219,0739,  22.7300, -157.9133,  4759,  103.700,   21.634,   35.199,2,   35.201,2,  210.800,2,  208.500,2,    1.360,2,    0.390,2,    0.120,2, -999.000
           NA,HOT timeseries 1988to2019 27SEP2021,     19,  99,-999.0,      21,-999.0,19901219,0739,  22.7300, -157.9133,  4759,  124.200,   20.768,   35.187,2,   35.189,2,  206.200,2,  204.600,2,    1.160,2, -999.000,3, -999.000,3, -999.000
           NA,HOT timeseries 1988to2019 27SEP2021,     19,  99,-999.0,      15,-999.0,19901219,0739,  22.7300, -157.9133,  4759,  150.500,   19.332,   35.098,2,   35.106,2,  195.300,2,  198.500,2,    2.130,2,    1.960,2,    0.210,2, -999.000
           NA,HOT timeseries 1988to2019 27SEP2021,     19,  99,-999.0,      14,-999.0,19901219,0739,  22.7300, -157.9133,  4759,  174.200,   18.118,   34.971,2,   34.972,2,  195.400,2,  198.800,2,    2.720,2,    2.920,2,    0.280,2, -999.000
           NA,HOT timeseries 1988to2019 27SEP2021,     19,  99,-999.0,      13,-999.0,19901219,0739,  22.7300, -157.9133,  4759,  223.700,   15.860,   34.699,2,   34.698,2,  196.100,2,  199.300,2,    5.040,2,    5.520,2,    0.460,2, -999.000
           NA,HOT timeseries 1988to2019 27SEP2021,     19,  99,-999.0,      12,-999.0,19901219,0739,  22.7300, -157.9133,  4759,  309.100,   11.961,   34.306,2,   34.325,2,  202.200,2,  206.300,2,   11.820,2,   11.540,2,    0.850,2, -999.000
           NA,HOT timeseries 1988to2019 27SEP2021,     19,  99,-999.0,      11,-999.0,19901219,0739,  22.7300, -157.9133,  4759,  383.000,   10.371,   34.194,2,   34.192,2,  209.400,2,  203.600,2,   17.640,2,   15.080,2,    1.090,2, -999.000
           NA,HOT timeseries 1988to2019 27SEP2021,     19,  99,-999.0,      10,-999.0,19901219,0739,  22.7300, -157.9133,  4759,  431.600,    8.766,   34.111,2,   34.107,2,  180.100,2,  177.300,2,   29.260,2,   20.800,2,    1.500,2, -999.000
           NA,HOT timeseries 1988to2019 27SEP2021,     19,  99,-999.0,       9,-999.0,19901219,0739,  22.7300, -157.9133,  4759,  496.600,    7.256,   34.068,2,   34.064,2,  127.500,2,  127.400,2,   45.160,2,   28.330,2,    2.040,2, -999.000
           NA,HOT timeseries 1988to2019 27SEP2021,     19,  99,-999.0,       8,-999.0,19901219,0739,  22.7300, -157.9133,  4759,  531.300,    6.555,   34.072,2,   34.069,2,  102.900,2,  102.000,2,   56.780,2,   31.880,2,    2.300,2, -999.000
           NA,HOT timeseries 1988to2019 27SEP2021,     19,  99,-999.0,      20,-999.0,19901219,0739,  22.7300, -157.9133,  4759,  550.200,    6.443,   34.078,2,   34.079,2,  103.800,2,   93.600,2,   57.370,2,   32.560,2,    2.330,2, -999.000
           NA,HOT timeseries 1988to2019 27SEP2021,     19,  99,-999.0,       7,-999.0,19901219,0739,  22.7300, -157.9133,  4759,  571.700,    6.062,   34.107,2,   34.106,2,   77.000,2,   76.900,2,   65.510,2,   34.960,2,    2.540,2, -999.000
           NA,HOT timeseries 1988to2019 27SEP2021,     19,  99,-999.0,       6,-999.0,19901219,0739,  22.7300, -157.9133,  4759,  616.100,    5.964,   34.215,2,   34.207,2,   38.200,2,   44.600,2,   71.890,2,   37.700,2,    2.780,2, -999.000
           NA,HOT timeseries 1988to2019 27SEP2021,     19,  99,-999.0,       5,-999.0,19901219,0739,  22.7300, -157.9133,  4759,  680.000,    5.633,   34.302,2,   34.298,2,   28.600,2,   30.400,2,   79.060,2,   39.750,2,    2.960,2, -999.000
           NA,HOT timeseries 1988to2019 27SEP2021,     19,  99,-999.0,       4,-999.0,19901219,0739,  22.7300, -157.9133,  4759,  720.300,    5.233,   34.328,2,   34.326,2,   25.700,2,   29.000,2,   86.430,2,   40.670,2,    3.000,2, -999.000
           NA,HOT timeseries 1988to2019 27SEP2021,     19,  99,-999.0,       3,-999.0,19901219,0739,  22.7300, -157.9133,  4759,  754.700,    4.867,   34.320,2,   34.311,2,   31.300,2,   31.200,2,   92.240,2,   41.010,2,    3.000,2, -999.000
           NA,HOT timeseries 1988to2019 27SEP2021,     19,  99,-999.0,       2,-999.0,19901219,0739,  22.7300, -157.9133,  4759,  844.500,    4.503,   34.411,2,   34.410,2,   30.500,2,   34.000,2,  100.360,2,   41.810,2,    3.020,2, -999.000
           NA,HOT timeseries 1988to2019 27SEP2021,     19,  99,-999.0,       1,-999.0,19901219,0739,  22.7300, -157.9133,  4759,  990.300,    4.154,   34.502,2,   34.500,2,   38.300,2,   42.200,2,  107.150,2,   42.030,2,    3.040,2, -999.000
           NA,HOT timeseries 1988to2019 27SEP2021,     19,  99,-999.0,      19,-999.0,19901219,0739,  22.7300, -157.9133,  4759, 1005.500,    4.063,   34.504,2,   34.504,2,   42.200,2,   43.700,2,  108.110,2,   41.810,2,    3.000,2, -999.000
           NA,HOT timeseries 1988to2019 27SEP2021,     19,  99,-999.0,      18,-999.0,19901219,0739,  22.7300, -157.9133,  4759, 1200.800,    3.464,   34.533,2,   34.533,2,   51.100,2,   52.500,2,  120.700,2,   41.690,2,    3.000,2, -999.000
           NA,HOT timeseries 1988to2019 27SEP2021,     19,  99,-999.0,      17,-999.0,19901219,0739,  22.7300, -157.9133,  4759, 1401.500,    3.001,   34.563,2,   34.566,2,   62.700,2,   61.300,2,  131.940,2,   41.450,2,    2.970,2, -999.000
           NA,HOT timeseries 1988to2019 27SEP2021,     19,  99,-999.0,      16,-999.0,19901219,0739,  22.7300, -157.9133,  4759, 1601.600,    2.647,   34.588,2,   34.588,2,   73.500,2, -999.000,4,  139.100,2,   41.000,2,    2.920,2, -999.000
           NA,HOT timeseries 1988to2019 27SEP2021,     19,  99,-999.0,      15,-999.0,19901219,0739,  22.7300, -157.9133,  4759, 1800.700,    2.332,   34.607,2, -999.000,4, -999.000,3,   81.600,2, -999.000,4, -999.000,4, -999.000,4, -999.000
           NA,HOT timeseries 1988to2019 27SEP2021,     19,  99,-999.0,      14,-999.0,19901219,0739,  22.7300, -157.9133,  4759, 2006.100,    2.078,   34.623,2, -999.000,4, -999.000,3,   88.400,2,  150.730,2,   40.080,2,    2.820,2, -999.000
           NA,HOT timeseries 1988to2019 27SEP2021,     19,  99,-999.0,      13,-999.0,19901219,0739,  22.7300, -157.9133,  4759, 2208.600,    1.906,   34.636,2, -999.000,4, -999.000,3,   96.500,2, -999.000,4, -999.000,4, -999.000,4, -999.000
           NA,HOT timeseries 1988to2019 27SEP2021,     19,  99,-999.0,      12,-999.0,19901219,0739,  22.7300, -157.9133,  4759, 2411.900,    1.771,   34.647,2, -999.000,4, -999.000,3,  104.000,2,  155.180,2,   38.940,2,    2.740,2, -999.000
           NA,HOT timeseries 1988to2019 27SEP2021,     19,  99,-999.0,      11,-999.0,19901219,0739,  22.7300, -157.9133,  4759, 2604.400,    1.658,   34.655,2, -999.000,3, -999.000,3,  110.300,2,  160.400,2,   38.370,2,    2.700,2, -999.000
           NA,HOT timeseries 1988to2019 27SEP2021,     19,  99,-999.0,      10,-999.0,19901219,0739,  22.7300, -157.9133,  4759, 2817.700,    1.591,   34.664,2, -999.000,4, -999.000,3,  118.100,2, -999.000,4,   38.090,2,    2.660,2, -999.000
           NA,HOT timeseries 1988to2019 27SEP2021,     19,  99,-999.0,       9,-999.0,19901219,0739,  22.7300, -157.9133,  4759, 3016.600,    1.534,   34.671,2,   34.672,2,  123.400,2,  126.000,2,  157.500,2,   37.570,2,    2.620,2, -999.000
           NA,HOT timeseries 1988to2019 27SEP2021,     19,  99,-999.0,       8,-999.0,19901219,0739,  22.7300, -157.9133,  4759, 3218.400,    1.496,   34.676,2,   34.675,2,  129.400,2,  132.200,2,  156.520,2,   37.350,2,    2.580,2, -999.000
           NA,HOT timeseries 1988to2019 27SEP2021,     19,  99,-999.0,       7,-999.0,19901219,0739,  22.7300, -157.9133,  4759, 3404.300,    1.468,   34.680,2,   34.680,2,  134.800,2,  137.900,2,  154.590,2,   36.770,2,    2.560,2, -999.000
           NA,HOT timeseries 1988to2019 27SEP2021,     19,  99,-999.0,       6,-999.0,19901219,0739,  22.7300, -157.9133,  4759, 3603.500,    1.455,   34.683,2,   34.684,2,  138.600,2,  142.500,2,  152.260,2,   36.310,2,    2.530,2, -999.000
           NA,HOT timeseries 1988to2019 27SEP2021,     19,  99,-999.0,       5,-999.0,19901219,0739,  22.7300, -157.9133,  4759, 3806.400,    1.450,   34.685,2, -999.000,5,  145.500,2, -999.000,3,  148.390,2,   35.860,2,    2.520,2, -999.000
           NA,HOT timeseries 1988to2019 27SEP2021,     19,  99,-999.0,       4,-999.0,19901219,0739,  22.7300, -157.9133,  4759, 3987.800,    1.452,   34.687,2,   34.686,2,  147.600,2,  148.500,2,  151.690,2,   35.630,2,    2.490,2, -999.000
           NA,HOT timeseries 1988to2019 27SEP2021,     19,  99,-999.0,       3,-999.0,19901219,0739,  22.7300, -157.9133,  4759, 4179.100,    1.461,   34.688,2,   34.688,2,  150.900,2,  150.400,2,  148.390,2,   35.630,2,    2.490,2, -999.000
           NA,HOT timeseries 1988to2019 27SEP2021,     19,  99,-999.0,       2,-999.0,19901219,0739,  22.7300, -157.9133,  4759, 4475.600,    1.487,   34.689,2,   34.690,2,  154.800,2,  152.500,2,  148.770,2,   35.860,2,    2.490,2, -999.000
           NA,HOT timeseries 1988to2019 27SEP2021,     19,  99,-999.0,       1,-999.0,19901219,0739,  22.7300, -157.9133,  4759, 4685.700,    1.510,   34.689,2,   34.689,2,  155.400,2,  152.100,2,  148.770,2,   35.860,2,    2.490,2, -999.000