BOTTLE,20214727JOAExport
EXPOCODE,SECT_ID,STNNBR,CASTNO,SAMPNO,BTLNBR,BTLNBR_FLAG_W,DATE,TIME,LATITUDE,LONGITUDE,DEPTH,CTDPRS,CTDTMP,CTDSAL,CTDSAL_FLAG_W,SALNTY,SALNTY_FLAG_W,CTDOXY,CTDOXY_FLAG_W,OXYGEN,OXYGEN_FLAG_W,SILCAT,SILCAT_FLAG_W,NINI,NINI_FLAG_W,PHSPHT,PHSPHT_FLAG_W,REVP
,,,,,,,,,,,,DB,IPTS-68,PSS-78,,PSS-78,,UMOL/KG,,UMOL/KG,,UMOL/KG,,UMOL/KG,,UMOL/KG,,DBAR
           NA,HOT timeseries 1988to2019 27SEP2021,     29,  99,-999.0,      23,-999.0,19911205,1410,  22.7350, -157.9983,  4724,    7.400,   25.687,   34.872,2,   34.876,2,  217.600,2,  211.600,2,    1.490,2,    0.000,2,    0.120,2, -999.000
           NA,HOT timeseries 1988to2019 27SEP2021,     29,  99,-999.0,      23,-999.0,19911205,1410,  22.7350, -157.9983,  4724,    8.000,   25.719,   34.882,2,   34.884,2,  211.100,2,  210.300,2,    1.300,2,    0.000,2,    0.110,2, -999.000
           NA,HOT timeseries 1988to2019 27SEP2021,     29,  99,-999.0,      22,-999.0,19911205,1410,  22.7350, -157.9983,  4724,   31.700,   25.708,   34.885,2,   34.887,2,  211.100,2,  208.900,2,    1.190,2,   -0.010,2,    0.100,2, -999.000
           NA,HOT timeseries 1988to2019 27SEP2021,     29,  99,-999.0,      22,-999.0,19911205,1410,  22.7350, -157.9983,  4724,   50.300,   25.747,   34.938,2, -999.000,3, -999.000,3,  224.100,2,    1.480,2,    0.010,2,    0.100,2, -999.000
           NA,HOT timeseries 1988to2019 27SEP2021,     29,  99,-999.0,      21,-999.0,19911205,1410,  22.7350, -157.9983,  4724,   53.800,   25.585,   35.154,2,   35.158,2,  213.600,2,  204.500,2,    1.900,2,    0.010,2,    0.080,2, -999.000
           NA,HOT timeseries 1988to2019 27SEP2021,     29,  99,-999.0,      20,-999.0,19911205,1410,  22.7350, -157.9983,  4724,   67.800,   25.172,   35.160,2, -999.000,4, -999.000,3,  217.900,2,    1.200,2,    0.010,2,    0.060,2, -999.000
           NA,HOT timeseries 1988to2019 27SEP2021,     29,  99,-999.0,      19,-999.0,19911205,1410,  22.7350, -157.9983,  4724,   86.000,   23.116,   35.250,2,   35.252,2,  229.800,2,  231.700,2,    1.130,2,    0.000,2,    0.060,2, -999.000
           NA,HOT timeseries 1988to2019 27SEP2021,     29,  99,-999.0,      18,-999.0,19911205,1410,  22.7350, -157.9983,  4724,   97.400,   22.503,   35.256,2,   35.256,2,  221.300,2,  234.100,2,    1.570,2,    0.020,2,    0.090,2, -999.000
           NA,HOT timeseries 1988to2019 27SEP2021,     29,  99,-999.0,      17,-999.0,19911205,1410,  22.7350, -157.9983,  4724,  108.900,   21.888,   35.218,2,   35.228,2,  217.300,2,  222.300,2,    1.260,2,    0.130,2,    0.100,2, -999.000
           NA,HOT timeseries 1988to2019 27SEP2021,     29,  99,-999.0,      16,-999.0,19911205,1410,  22.7350, -157.9983,  4724,  130.300,   20.765,   35.216,2,   35.217,2,  215.400,2,  214.300,2,    1.570,2,    0.390,2,    0.120,2, -999.000
           NA,HOT timeseries 1988to2019 27SEP2021,     29,  99,-999.0,      15,-999.0,19911205,1410,  22.7350, -157.9983,  4724,  145.400,   19.992,   35.187,2,   35.190,2,  206.100,2,  207.800,2,    1.960,2,    0.900,2,    0.170,2, -999.000
           NA,HOT timeseries 1988to2019 27SEP2021,     29,  99,-999.0,      21,-999.0,19911205,1410,  22.7350, -157.9983,  4724,  200.700,   17.328,   34.879,2, -999.000,4, -999.000,3,  200.000,2,    4.520,2,    3.490,2,    0.340,2, -999.000
           NA,HOT timeseries 1988to2019 27SEP2021,     29,  99,-999.0,      14,-999.0,19911205,1410,  22.7350, -157.9983,  4724,  207.900,   16.703,   34.799,2,   34.801,2,  196.700,2,  203.000,2,    4.410,2,    3.910,2,    0.340,2, -999.000
           NA,HOT timeseries 1988to2019 27SEP2021,     29,  99,-999.0,      13,-999.0,19911205,1410,  22.7350, -157.9983,  4724,  295.700,   11.819,   34.285,2,   34.280,2,  209.800,2,  209.200,2,   11.950,2,   11.520,2,    0.840,2, -999.000
           NA,HOT timeseries 1988to2019 27SEP2021,     29,  99,-999.0,      12,-999.0,19911205,1410,  22.7350, -157.9983,  4724,  307.900,   11.429,   34.244,2,   34.246,2,  207.700,2,  199.700,2,   12.970,2,   12.430,2,    0.900,2, -999.000
           NA,HOT timeseries 1988to2019 27SEP2021,     29,  99,-999.0,      11,-999.0,19911205,1410,  22.7350, -157.9983,  4724,  339.800,   10.524,   34.179,2,   34.180,2,  195.400,2,  199.700,2,   16.940,2,   14.850,2,    1.090,2, -999.000
           NA,HOT timeseries 1988to2019 27SEP2021,     29,  99,-999.0,      10,-999.0,19911205,1410,  22.7350, -157.9983,  4724,  398.500,    8.877,   34.102,2,   34.101,2,  165.900,2,  170.700,2,   28.050,2,   20.960,2,    1.510,2, -999.000
           NA,HOT timeseries 1988to2019 27SEP2021,     29,  99,-999.0,       9,-999.0,19911205,1410,  22.7350, -157.9983,  4724,  446.300,    7.731,   34.077,2,   34.076,2,  127.000,2,  130.400,2,   41.060,2,   27.170,2,    1.940,2, -999.000
           NA,HOT timeseries 1988to2019 27SEP2021,     29,  99,-999.0,       8,-999.0,19911205,1410,  22.7350, -157.9983,  4724,  476.300,    7.503,   34.123,2,   34.120,2,  111.900,2,   99.500,2,   46.680,2,   29.690,2,    2.200,2, -999.000
           NA,HOT timeseries 1988to2019 27SEP2021,     29,  99,-999.0,       7,-999.0,19911205,1410,  22.7350, -157.9983,  4724,  511.900,    7.037,   34.152,2,   34.150,2,   79.900,2,   74.100,2,   54.550,2,   32.630,2,    2.430,2, -999.000
           NA,HOT timeseries 1988to2019 27SEP2021,     29,  99,-999.0,       6,-999.0,19911205,1410,  22.7350, -157.9983,  4724,  568.100,    6.483,   34.191,2,   34.188,2,   54.900,2,   49.900,2,   64.220,2,   35.620,2,    2.660,2, -999.000
           NA,HOT timeseries 1988to2019 27SEP2021,     29,  99,-999.0,      25,-999.0,19911205,1410,  22.7350, -157.9983,  4724,  693.600,    5.179,   34.261,2,   34.258,2,   39.800,2,   34.400,2,   86.940,2,   39.830,2,    2.930,2, -999.000
           NA,HOT timeseries 1988to2019 27SEP2021,     29,  99,-999.0,       3,-999.0,19911205,1410,  22.7350, -157.9983,  4724,  772.600,    4.761,   34.340,2,   34.340,2,   36.500,2,   31.600,2,   96.650,2,   40.880,2,    2.970,2, -999.000
           NA,HOT timeseries 1988to2019 27SEP2021,     29,  99,-999.0,       2,-999.0,19911205,1410,  22.7350, -157.9983,  4724,  852.400,    4.376,   34.404,2,   34.404,2,   39.000,2,   34.100,2,  105.260,2,   41.560,2,    3.030,2, -999.000
           NA,HOT timeseries 1988to2019 27SEP2021,     29,  99,-999.0,      19,-999.0,19911205,1410,  22.7350, -157.9983,  4724,  901.600,    4.345,   34.415,2,   34.415,2,   33.900,2,   35.400,2, -999.000,4, -999.000,4, -999.000,4, -999.000
           NA,HOT timeseries 1988to2019 27SEP2021,     29,  99,-999.0,       1,-999.0,19911205,1410,  22.7350, -157.9983,  4724, 1008.600,    3.973,   34.477,2,   34.476,2,   48.700,2,   44.200,2,  112.670,2,   41.440,2,    2.990,2, -999.000
           NA,HOT timeseries 1988to2019 27SEP2021,     29,  99,-999.0,      18,-999.0,19911205,1410,  22.7350, -157.9983,  4724, 1141.100,    3.658,   34.515,2,   34.516,2,   52.500,2,   50.500,2,  118.600,2,   41.160,2,    2.980,2, -999.000
           NA,HOT timeseries 1988to2019 27SEP2021,     29,  99,-999.0,      17,-999.0,19911205,1410,  22.7350, -157.9983,  4724, 1285.400,    3.321,   34.542,2,   34.541,2,   56.200,2,   55.500,2,  127.320,2,   41.160,2,    2.990,2, -999.000
           NA,HOT timeseries 1988to2019 27SEP2021,     29,  99,-999.0,      16,-999.0,19911205,1410,  22.7350, -157.9983,  4724, 1543.900,    2.812,   34.572,2,   34.573,2,   67.300,2,   67.300,2,  137.980,2,   40.700,2,    2.920,2, -999.000
           NA,HOT timeseries 1988to2019 27SEP2021,     29,  99,-999.0,      15,-999.0,19911205,1410,  22.7350, -157.9983,  4724, 1699.200,    2.501,   34.592,2, -999.000,4, -999.000,3,   76.100,2,  144.530,2,   40.300,2,    2.880,2, -999.000
           NA,HOT timeseries 1988to2019 27SEP2021,     29,  99,-999.0,      14,-999.0,19911205,1410,  22.7350, -157.9983,  4724, 1847.000,    2.278,   34.605,2,   34.606,2,   83.500,2,   82.900,2,  149.120,2,   39.970,2,    2.810,2, -999.000
           NA,HOT timeseries 1988to2019 27SEP2021,     29,  99,-999.0,      13,-999.0,19911205,1410,  22.7350, -157.9983,  4724, 1997.400,    2.109,   34.618,2, -999.000,3, -999.000,3,   88.300,2,  154.570,2,   39.610,2,    2.830,2, -999.000
           NA,HOT timeseries 1988to2019 27SEP2021,     29,  99,-999.0,      12,-999.0,19911205,1410,  22.7350, -157.9983,  4724, 2202.800,    1.885,   34.635,2,   34.637,2,   97.500,2,   98.000,2,  157.150,2,   39.080,2,    2.780,2, -999.000
           NA,HOT timeseries 1988to2019 27SEP2021,     29,  99,-999.0,      11,-999.0,19911205,1410,  22.7350, -157.9983,  4724, 2387.900,    1.737,   34.647,2,   34.648,2,  103.900,2,  106.300,2,  161.080,2,   38.550,2,    2.740,2, -999.000
           NA,HOT timeseries 1988to2019 27SEP2021,     29,  99,-999.0,      10,-999.0,19911205,1410,  22.7350, -157.9983,  4724, 2597.100,    1.648,   34.656,2,   34.658,2,  113.900,2,  112.700,2,  161.380,2,   38.140,2,    2.700,2, -999.000
           NA,HOT timeseries 1988to2019 27SEP2021,     29,  99,-999.0,       9,-999.0,19911205,1410,  22.7350, -157.9983,  4724, 2799.500,    1.569,   34.663,2,   34.662,2,  124.000,2,  120.900,2,  161.350,2,   37.580,2,    2.650,2, -999.000
           NA,HOT timeseries 1988to2019 27SEP2021,     29,  99,-999.0,       8,-999.0,19911205,1410,  22.7350, -157.9983,  4724, 3083.900,    1.505,   34.671,2, -999.000,5,  128.700,2,  130.500,2,  159.330,2,   36.980,2,    2.610,2, -999.000
           NA,HOT timeseries 1988to2019 27SEP2021,     29,  99,-999.0,       7,-999.0,19911205,1410,  22.7350, -157.9983,  4724, 3396.300,    1.464,   34.678,2,   34.679,2,  139.100,2,  139.700,2,  156.810,2,   36.400,2,    2.540,2, -999.000
           NA,HOT timeseries 1988to2019 27SEP2021,     29,  99,-999.0,       6,-999.0,19911205,1410,  22.7350, -157.9983,  4724, 3595.500,    1.445,   34.682,2,   34.680,2,  142.600,2,  144.400,2,  153.690,2,   36.060,2,    2.530,2, -999.000
           NA,HOT timeseries 1988to2019 27SEP2021,     29,  99,-999.0,      26,-999.0,19911205,1410,  22.7350, -157.9983,  4724, 3796.900,    1.440,   34.684,2,   34.683,2,  148.900,2,  148.600,2,  153.490,2,   35.900,2,    2.500,2, -999.000
           NA,HOT timeseries 1988to2019 27SEP2021,     29,  99,-999.0,      25,-999.0,19911205,1410,  22.7350, -157.9983,  4724, 3999.000,    1.446,   34.686,2,   34.686,2,  150.300,2,  150.500,2,  151.530,2,   35.700,2,    2.490,2, -999.000
           NA,HOT timeseries 1988to2019 27SEP2021,     29,  99,-999.0,       3,-999.0,19911205,1410,  22.7350, -157.9983,  4724, 4201.500,    1.458,   34.687,2,   34.687,2,  151.000,2,  151.700,2,  151.010,2,   35.590,2,    2.480,2, -999.000
           NA,HOT timeseries 1988to2019 27SEP2021,     29,  99,-999.0,       2,-999.0,19911205,1410,  22.7350, -157.9983,  4724, 4399.000,    1.475,   34.688,2,   34.687,2,  152.400,2,  152.700,2,  150.650,2,   35.550,2,    2.490,2, -999.000
           NA,HOT timeseries 1988to2019 27SEP2021,     29,  99,-999.0,       1,-999.0,19911205,1410,  22.7350, -157.9983,  4724, 4706.200,    1.504,   34.688,2,   34.687,2,  157.600,2,  154.400,2,  150.430,2,   35.430,2,    2.490,2, -999.000