BOTTLE,20214727JOAExport
EXPOCODE,SECT_ID,STNNBR,CASTNO,SAMPNO,BTLNBR,BTLNBR_FLAG_W,DATE,TIME,LATITUDE,LONGITUDE,DEPTH,CTDPRS,CTDTMP,CTDSAL,CTDSAL_FLAG_W,SALNTY,SALNTY_FLAG_W,CTDOXY,CTDOXY_FLAG_W,OXYGEN,OXYGEN_FLAG_W,SILCAT,SILCAT_FLAG_W,NINI,NINI_FLAG_W,PHSPHT,PHSPHT_FLAG_W,REVP
,,,,,,,,,,,,DB,IPTS-68,PSS-78,,PSS-78,,UMOL/KG,,UMOL/KG,,UMOL/KG,,UMOL/KG,,UMOL/KG,,DBAR
           NA,HOT timeseries 1988to2019 27SEP2021,     80,  99,-999.0,      31,-999.0,19970603,1239,  22.7423, -158.0035,  4719,    5.300,   25.304,   34.876,2,   34.879,2,  210.100,2,  206.500,2,    1.150,2,    0.020,2,    0.070,2, -999.000
           NA,HOT timeseries 1988to2019 27SEP2021,     80,  99,-999.0,      31,-999.0,19970603,1239,  22.7423, -158.0035,  4719,    8.700,   25.178,   34.903,2,   34.903,2,  209.500,2,  207.400,2,    0.850,2,    0.000,2,    0.080,2, -999.000
           NA,HOT timeseries 1988to2019 27SEP2021,     80,  99,-999.0,      30,-999.0,19970603,1239,  22.7423, -158.0035,  4719,   72.900,   24.771,   34.918,2,   34.919,2,  211.300,2,  209.800,2,    0.900,2,    0.000,2,    0.070,2, -999.000
           NA,HOT timeseries 1988to2019 27SEP2021,     80,  99,-999.0,      22,-999.0,19970603,1239,  22.7423, -158.0035,  4719,   98.500,   23.329,   35.013,2,   35.013,2,  214.800,2,  214.200,2,    0.960,2,    0.000,2,    0.060,2, -999.000
           NA,HOT timeseries 1988to2019 27SEP2021,     80,  99,-999.0,      21,-999.0,19970603,1239,  22.7423, -158.0035,  4719,  130.800,   21.136,   35.044,2,   35.042,2,  191.200,2,  198.300,2,    1.390,2,    0.750,2,    0.150,2, -999.000
           NA,HOT timeseries 1988to2019 27SEP2021,     80,  99,-999.0,      20,-999.0,19970603,1239,  22.7423, -158.0035,  4719,  143.800,   20.578,   35.054,2,   35.053,2,  194.500,2,  195.700,2,    1.260,2,    1.300,2,    0.180,2, -999.000
           NA,HOT timeseries 1988to2019 27SEP2021,     80,  99,-999.0,      30,-999.0,19970603,1239,  22.7423, -158.0035,  4719,  144.900,   21.026,   35.051,2,   35.051,2,  198.100,2,  196.400,2,    1.160,2,    1.010,2,    0.150,2, -999.000
           NA,HOT timeseries 1988to2019 27SEP2021,     80,  99,-999.0,      19,-999.0,19970603,1239,  22.7423, -158.0035,  4719,  193.100,   18.893,   34.963,2,   34.963,2,  193.700,2,  194.400,2,    1.890,2,    2.440,2,    0.250,2, -999.000
           NA,HOT timeseries 1988to2019 27SEP2021,     80,  99,-999.0,      18,-999.0,19970603,1239,  22.7423, -158.0035,  4719,  241.600,   15.701,   34.629,2,   34.628,2,  194.000,2,  194.700,2,    4.450,2,    5.590,2,    0.460,2, -999.000
           NA,HOT timeseries 1988to2019 27SEP2021,     80,  99,-999.0,      17,-999.0,19970603,1239,  22.7423, -158.0035,  4719,  323.300,   12.036,   34.296,2,   34.294,2,  206.800,2,  206.700,2,   10.140,2,   10.890,2,    0.780,2, -999.000
           NA,HOT timeseries 1988to2019 27SEP2021,     80,  99,-999.0,      16,-999.0,19970603,1239,  22.7423, -158.0035,  4719,  382.300,   10.486,   34.176,2,   34.176,2,  204.000,2,  201.600,2,   15.950,2,   14.500,2,    1.040,2, -999.000
           NA,HOT timeseries 1988to2019 27SEP2021,     80,  99,-999.0,      15,-999.0,19970603,1239,  22.7423, -158.0035,  4719,  409.700,    9.858,   34.141,2,   34.140,2,  197.600,2,  194.900,2,   20.830,2,   16.540,2,    1.170,2, -999.000
           NA,HOT timeseries 1988to2019 27SEP2021,     80,  99,-999.0,      14,-999.0,19970603,1239,  22.7423, -158.0035,  4719,  447.200,    8.960,   34.092,2,   34.094,2,  182.300,2,  180.500,2,   24.500,2,   19.560,2,    1.380,2, -999.000
           NA,HOT timeseries 1988to2019 27SEP2021,     80,  99,-999.0,      22,-999.0,19970603,1239,  22.7423, -158.0035,  4719,  475.900,    8.252,   34.067,2,   34.070,2,  161.800,2,  156.700,2,   31.460,2,   22.700,2,    1.560,2, -999.000
           NA,HOT timeseries 1988to2019 27SEP2021,     80,  99,-999.0,      13,-999.0,19970603,1239,  22.7423, -158.0035,  4719,  495.600,    7.912,   34.062,2,   34.061,2,  151.800,2,  147.600,2,   35.740,2,   24.680,2,    1.750,2, -999.000
           NA,HOT timeseries 1988to2019 27SEP2021,     80,  99,-999.0,      12,-999.0,19970603,1239,  22.7423, -158.0035,  4719,  523.200,    7.409,   34.072,2,   34.069,2,  129.500,2,  125.500,2,   42.810,2,   27.620,2,    1.990,2, -999.000
           NA,HOT timeseries 1988to2019 27SEP2021,     80,  99,-999.0,      11,-999.0,19970603,1239,  22.7423, -158.0035,  4719,  564.000,    6.781,   34.089,2,   34.089,2,   98.800,2,   96.900,2,   52.780,2,   31.170,2,    2.270,2, -999.000
           NA,HOT timeseries 1988to2019 27SEP2021,     80,  99,-999.0,      32,-999.0,19970603,1239,  22.7423, -158.0035,  4719,  594.400,    6.220,   34.113,2,   34.112,2,   73.100,2,   73.200,2,   62.960,2,   34.180,2,    2.490,2, -999.000
           NA,HOT timeseries 1988to2019 27SEP2021,     80,  99,-999.0,       3,-999.0,19970603,1239,  22.7423, -158.0035,  4719,  656.600,    5.575,   34.144,2,   34.142,2,   52.400,2,   48.400,2,   74.490,2,   37.270,2,    2.720,2, -999.000
           NA,HOT timeseries 1988to2019 27SEP2021,     80,  99,-999.0,      29,-999.0,19970603,1239,  22.7423, -158.0035,  4719,  704.000,    5.311,   34.240,2,   34.238,2,   34.500,2,   33.100,2,   82.810,2,   39.290,2,    2.890,2, -999.000
           NA,HOT timeseries 1988to2019 27SEP2021,     80,  99,-999.0,      28,-999.0,19970603,1239,  22.7423, -158.0035,  4719,  729.700,    5.136,   34.269,2,   34.268,2,   28.900,2,   28.800,2,   86.290,2,   40.020,2,    2.950,2, -999.000
           NA,HOT timeseries 1988to2019 27SEP2021,     80,  99,-999.0,       7,-999.0,19970603,1239,  22.7423, -158.0035,  4719,  771.700,    4.972,   34.321,2,   34.319,2,   27.500,2,   26.300,2,   89.410,2,   40.540,2,    3.010,2, -999.000
           NA,HOT timeseries 1988to2019 27SEP2021,     80,  99,-999.0,      38,-999.0,19970603,1239,  22.7423, -158.0035,  4719,  800.600,    4.810,   34.364,2,   34.357,2,   26.300,2,   26.500,2,   93.530,2,   40.890,2,    3.010,2, -999.000
           NA,HOT timeseries 1988to2019 27SEP2021,     80,  99,-999.0,      36,-999.0,19970603,1239,  22.7423, -158.0035,  4719,  870.400,    4.648,   34.417,2,   34.416,2,   29.300,2,   29.700,2,   96.850,2,   41.250,2,    3.030,2, -999.000
           NA,HOT timeseries 1988to2019 27SEP2021,     80,  99,-999.0,      35,-999.0,19970603,1239,  22.7423, -158.0035,  4719,  924.900,    4.398,   34.456,2,   34.456,2,   33.700,2,   34.600,2,  101.690,2,   41.290,2,    3.030,2, -999.000
           NA,HOT timeseries 1988to2019 27SEP2021,     80,  99,-999.0,      34,-999.0,19970603,1239,  22.7423, -158.0035,  4719,  992.400,    4.096,   34.493,2,   34.492,2,   39.800,2,   37.000,2,  107.950,2,   41.460,2,    3.030,2, -999.000
           NA,HOT timeseries 1988to2019 27SEP2021,     80,  99,-999.0,      33,-999.0,19970603,1239,  22.7423, -158.0035,  4719, 1021.300,    3.996,   34.504,2,   34.503,2,   41.600,2,   41.600,2,  109.350,2,   41.370,2,    3.010,2, -999.000
           NA,HOT timeseries 1988to2019 27SEP2021,     80,  99,-999.0,      19,-999.0,19970603,1239,  22.7423, -158.0035,  4719, 1400.700,    3.208,   34.554,2,   34.552,2,   56.500,2,   56.700,2,  126.380,2,   40.870,2,    2.930,2, -999.000
           NA,HOT timeseries 1988to2019 27SEP2021,     80,  99,-999.0,      18,-999.0,19970603,1239,  22.7423, -158.0035,  4719, 1600.400,    2.778,   34.583,2,   34.583,2,   67.300,2,   66.000,2, -999.000,5, -999.000,5, -999.000,5, -999.000
           NA,HOT timeseries 1988to2019 27SEP2021,     80,  99,-999.0,      17,-999.0,19970603,1239,  22.7423, -158.0035,  4719, 1800.700,    2.461,   34.597,2,   34.597,2,   76.200,2,   76.500,2,  143.890,2,   39.870,2,    2.810,2, -999.000
           NA,HOT timeseries 1988to2019 27SEP2021,     80,  99,-999.0,      16,-999.0,19970603,1239,  22.7423, -158.0035,  4719, 2000.700,    2.201,   34.614,2,   34.614,2,   83.700,2,   83.500,2,  149.240,2,   39.420,2,    2.800,2, -999.000
           NA,HOT timeseries 1988to2019 27SEP2021,     80,  99,-999.0,      15,-999.0,19970603,1239,  22.7423, -158.0035,  4719, 2201.200,    1.988,   34.629,2,   34.631,2,   92.600,2,   92.800,2,  154.240,2,   38.890,2,    2.760,2, -999.000
           NA,HOT timeseries 1988to2019 27SEP2021,     80,  99,-999.0,      14,-999.0,19970603,1239,  22.7423, -158.0035,  4719, 2399.200,    1.841,   34.640,2,   34.640,2,   98.100,2,   98.500,2,  158.820,2,   38.500,2,    2.720,2, -999.000
           NA,HOT timeseries 1988to2019 27SEP2021,     80,  99,-999.0,      13,-999.0,19970603,1239,  22.7423, -158.0035,  4719, 2600.400,    1.723,   34.650,2,   34.651,2,  105.300,2, -999.000,3,  161.920,2,   38.140,2,    2.710,2, -999.000
           NA,HOT timeseries 1988to2019 27SEP2021,     80,  99,-999.0,      12,-999.0,19970603,1239,  22.7423, -158.0035,  4719, 2800.500,    1.634,   34.659,2,   34.658,2,  112.900,2,  114.000,2,  161.990,2,   37.700,2,    2.680,2, -999.000
           NA,HOT timeseries 1988to2019 27SEP2021,     80,  99,-999.0,      11,-999.0,19970603,1239,  22.7423, -158.0035,  4719, 3000.800,    1.562,   34.667,2,   34.667,2,  121.300,2,  121.900,2,  160.520,2,   37.220,2,    2.630,2, -999.000
           NA,HOT timeseries 1988to2019 27SEP2021,     80,  99,-999.0,      32,-999.0,19970603,1239,  22.7423, -158.0035,  4719, 3201.900,    1.505,   34.674,2,   34.672,2,  129.600,2,  130.300,2, -999.000,3,   36.580,2,    2.580,2, -999.000
           NA,HOT timeseries 1988to2019 27SEP2021,     80,  99,-999.0,       3,-999.0,19970603,1239,  22.7423, -158.0035,  4719, 3400.300,    1.480,   34.679,2,   34.678,2,  135.600,2,  135.800,2, -999.000,3,   36.370,2,    2.560,2, -999.000
           NA,HOT timeseries 1988to2019 27SEP2021,     80,  99,-999.0,      29,-999.0,19970603,1239,  22.7423, -158.0035,  4719, 3600.300,    1.467,   34.682,2,   34.681,2,  139.700,2,  140.200,2, -999.000,3,   36.100,2,    2.550,2, -999.000
           NA,HOT timeseries 1988to2019 27SEP2021,     80,  99,-999.0,      28,-999.0,19970603,1239,  22.7423, -158.0035,  4719, 3799.400,    1.458,   34.684,2,   34.684,2,  143.800,2,  144.200,2,  153.810,2, -999.000,3,    2.510,2, -999.000
           NA,HOT timeseries 1988to2019 27SEP2021,     80,  99,-999.0,       7,-999.0,19970603,1239,  22.7423, -158.0035,  4719, 4001.000,    1.461,   34.686,2,   34.685,2,  146.500,2,  146.400,2,  152.460,2,   35.570,2, -999.000,3, -999.000
           NA,HOT timeseries 1988to2019 27SEP2021,     80,  99,-999.0,      38,-999.0,19970603,1239,  22.7423, -158.0035,  4719, 4200.600,    1.468,   34.687,2, -999.000,4, -999.000,3, -999.000,4, -999.000,4, -999.000,4, -999.000,4, -999.000
           NA,HOT timeseries 1988to2019 27SEP2021,     80,  99,-999.0,      36,-999.0,19970603,1239,  22.7423, -158.0035,  4719, 4401.300,    1.479,   34.688,2,   34.687,2,  151.300,2,  150.500,2,  150.710,2,   35.470,2,    2.490,2, -999.000
           NA,HOT timeseries 1988to2019 27SEP2021,     80,  99,-999.0,      35,-999.0,19970603,1239,  22.7423, -158.0035,  4719, 4500.600,    1.485,   34.689,2,   34.687,2,  152.200,2,  151.800,2,  149.430,2,   35.370,2,    2.490,2, -999.000
           NA,HOT timeseries 1988to2019 27SEP2021,     80,  99,-999.0,      34,-999.0,19970603,1239,  22.7423, -158.0035,  4719, 4601.100,    1.492,   34.689,2,   34.687,2,  152.900,2, -999.000,3, -999.000,3, -999.000,3, -999.000,3, -999.000
           NA,HOT timeseries 1988to2019 27SEP2021,     80,  99,-999.0,      33,-999.0,19970603,1239,  22.7423, -158.0035,  4719, 4805.700,    1.502,   34.691,2,   34.690,2,  155.300,2,  154.700,2,  147.030,2,   35.180,2,    2.470,2, -999.000