BOTTLE,20214727JOAExport
EXPOCODE,SECT_ID,STNNBR,CASTNO,SAMPNO,BTLNBR,BTLNBR_FLAG_W,DATE,TIME,LATITUDE,LONGITUDE,DEPTH,CTDPRS,CTDTMP,CTDSAL,CTDSAL_FLAG_W,SALNTY,SALNTY_FLAG_W,CTDOXY,CTDOXY_FLAG_W,OXYGEN,OXYGEN_FLAG_W,SILCAT,SILCAT_FLAG_W,NINI,NINI_FLAG_W,PHSPHT,PHSPHT_FLAG_W,REVP
,,,,,,,,,,,,DB,IPTS-68,PSS-78,,PSS-78,,UMOL/KG,,UMOL/KG,,UMOL/KG,,UMOL/KG,,UMOL/KG,,DBAR
           NA,HOT timeseries 1988to2019 27SEP2021,    151,  99,-999.0,      31,-999.0,20040121,1753,  22.7518, -157.9973,  4726,    4.100,   24.111,   35.162,2,   35.163,2,  207.200,2, -999.000,3,    1.010,2,    0.010,2,    0.010,2, -999.000
           NA,HOT timeseries 1988to2019 27SEP2021,    151,  99,-999.0,      30,-999.0,20040121,1753,  22.7518, -157.9973,  4726,   54.100,   24.115,   35.164,2,   35.164,2,  207.400,2,  209.700,2,    0.990,2,    0.020,2,    0.000,2, -999.000
           NA,HOT timeseries 1988to2019 27SEP2021,    151,  99,-999.0,      22,-999.0,20040121,1753,  22.7518, -157.9973,  4726,  102.000,   24.025,   35.304,2,   35.299,2,  208.200,2,  208.100,2,    1.000,2,    0.030,2,    0.010,2, -999.000
           NA,HOT timeseries 1988to2019 27SEP2021,    151,  99,-999.0,      21,-999.0,20040121,1753,  22.7518, -157.9973,  4726,  146.700,   22.816,   35.331,2,   35.327,2,  203.200,2,  203.300,2,    1.280,2, -999.000,3,    0.030,2, -999.000
           NA,HOT timeseries 1988to2019 27SEP2021,    151,  99,-999.0,      20,-999.0,20040121,1753,  22.7518, -157.9973,  4726,  193.600,   19.721,   35.116,2,   35.109,2,  198.400,2,  198.500,2,    2.220,2,    1.860,2, -999.000,3, -999.000
           NA,HOT timeseries 1988to2019 27SEP2021,    151,  99,-999.0,      19,-999.0,20040121,1753,  22.7518, -157.9973,  4726,  249.500,   15.464,   34.538,2,   34.532,2,  201.900,2,  201.300,2,    5.500,2,    5.470,2,    0.480,2, -999.000
           NA,HOT timeseries 1988to2019 27SEP2021,    151,  99,-999.0,      18,-999.0,20040121,1753,  22.7518, -157.9973,  4726,  285.400,   13.219,   34.299,2,   34.304,2,  196.500,2,  195.700,2,    8.690,2,    9.290,2,    0.750,2, -999.000
           NA,HOT timeseries 1988to2019 27SEP2021,    151,  99,-999.0,      17,-999.0,20040121,1753,  22.7518, -157.9973,  4726,  323.400,   11.263,   34.162,2,   34.167,2,  201.800,2,  201.800,2,   12.860,2,   12.660,2,    0.970,2, -999.000
           NA,HOT timeseries 1988to2019 27SEP2021,    151,  99,-999.0,      16,-999.0,20040121,1753,  22.7518, -157.9973,  4726,  368.600,   10.040,   34.129,2,   34.130,2,  190.700,2,  189.700,2,   19.230,2,   16.770,2,    1.240,2, -999.000
           NA,HOT timeseries 1988to2019 27SEP2021,    151,  99,-999.0,      23,-999.0,20040121,1753,  22.7518, -157.9973,  4726,  408.000,    9.324,   34.107,2,   34.109,2,  172.900,2,  174.600,2,   24.370,2,   19.810,2,    1.460,2, -999.000
           NA,HOT timeseries 1988to2019 27SEP2021,    151,  99,-999.0,     101,-999.0,20040121,1753,  22.7518, -157.9973,  4726,  445.600,    8.522,   34.074,2,   34.075,2,  159.600,2,  160.200,2,   30.750,2,   22.930,2,    1.660,2, -999.000
           NA,HOT timeseries 1988to2019 27SEP2021,    151,  99,-999.0,      42,-999.0,20040121,1753,  22.7518, -157.9973,  4726,  480.400,    7.946,   34.056,2,   34.057,2,  145.400,2,  145.000,2,   36.140,2,   25.350,2,    1.830,2, -999.000
           NA,HOT timeseries 1988to2019 27SEP2021,    151,  99,-999.0,      12,-999.0,20040121,1753,  22.7518, -157.9973,  4726,  513.000,    7.206,   34.046,2,   34.046,2,  119.000,2,  121.200,2,   44.720,2,   28.930,2,    2.090,2, -999.000
           NA,HOT timeseries 1988to2019 27SEP2021,    151,  99,-999.0,      39,-999.0,20040121,1753,  22.7518, -157.9973,  4726,  564.200,    6.317,   34.035,2,   34.035,2,  101.400,2,   98.800,2,   57.200,2,   32.740,2,    2.360,2, -999.000
           NA,HOT timeseries 1988to2019 27SEP2021,    151,  99,-999.0,      32,-999.0,20040121,1753,  22.7518, -157.9973,  4726,  597.100,    5.776,   34.082,2,   34.081,2,   71.100,2,   70.800,2,   67.730,2,   35.900,2,    2.620,2, -999.000
           NA,HOT timeseries 1988to2019 27SEP2021,    151,  99,-999.0,       3,-999.0,20040121,1753,  22.7518, -157.9973,  4726,  645.600,    5.274,   34.126,2,   34.125,2,   50.200,2,   49.800,2,   78.750,2,   38.590,2,    2.820,2, -999.000
           NA,HOT timeseries 1988to2019 27SEP2021,    151,  99,-999.0,      29,-999.0,20040121,1753,  22.7518, -157.9973,  4726,  706.800,    5.016,   34.222,2,   34.223,2,   36.400,2,   35.200,2,   83.880,2,   40.080,2,    2.930,2, -999.000
           NA,HOT timeseries 1988to2019 27SEP2021,    151,  99,-999.0,      28,-999.0,20040121,1753,  22.7518, -157.9973,  4726,  771.400,    4.839,   34.315,2,   34.314,2,   32.100,2,   31.300,2,   92.930,2,   40.960,2,    3.000,2, -999.000
           NA,HOT timeseries 1988to2019 27SEP2021,    151,  99,-999.0,      13,-999.0,20040121,1753,  22.7518, -157.9973,  4726,  819.600,    4.459,   34.328,2,   34.330,2,   31.300,2,   30.200,2, -999.000,3,   41.620,2,    3.010,2, -999.000
           NA,HOT timeseries 1988to2019 27SEP2021,    151,  99,-999.0,      38,-999.0,20040121,1753,  22.7518, -157.9973,  4726,  866.800,    4.435,   34.380,2,   34.379,2,   32.800,2,   32.400,2,  101.250,2,   41.660,2,    3.040,2, -999.000
           NA,HOT timeseries 1988to2019 27SEP2021,    151,  99,-999.0,      36,-999.0,20040121,1753,  22.7518, -157.9973,  4726,  901.800,    4.171,   34.390,2,   34.391,2,   33.800,2,   34.400,2,  106.640,2,   41.940,2,    3.030,2, -999.000
           NA,HOT timeseries 1988to2019 27SEP2021,    151,  99,-999.0,      34,-999.0,20040121,1753,  22.7518, -157.9973,  4726,  975.300,    3.986,   34.438,2,   34.438,2,   40.100,2,   39.800,2,  111.040,2,   41.730,2,    3.010,2, -999.000
           NA,HOT timeseries 1988to2019 27SEP2021,    151,  99,-999.0,      33,-999.0,20040121,1753,  22.7518, -157.9973,  4726, 1010.200,    3.922,   34.456,2,   34.455,2,   42.300,2,   42.100,2,  112.020,2,   41.720,2,    3.010,2, -999.000
           NA,HOT timeseries 1988to2019 27SEP2021,    151,  99,-999.0,      20,-999.0,20040121,1753,  22.7518, -157.9973,  4726, 1199.100,    3.392,   34.529,2,   34.529,2,   55.600,2,   55.500,2,  123.510,2,   41.160,2,    3.020,2, -999.000
           NA,HOT timeseries 1988to2019 27SEP2021,    151,  99,-999.0,      19,-999.0,20040121,1753,  22.7518, -157.9973,  4726, 1400.200,    2.994,   34.560,2,   34.559,2,   64.600,2,   65.100,2,  132.390,2,   40.810,2,    2.940,2, -999.000
           NA,HOT timeseries 1988to2019 27SEP2021,    151,  99,-999.0,      18,-999.0,20040121,1753,  22.7518, -157.9973,  4726, 1598.600,    2.626,   34.579,2,   34.579,2,   72.000,2,   72.100,2,  141.470,2,   40.540,2,    2.910,2, -999.000
           NA,HOT timeseries 1988to2019 27SEP2021,    151,  99,-999.0,      17,-999.0,20040121,1753,  22.7518, -157.9973,  4726, 1798.700,    2.343,   34.605,2,   34.604,2,   81.600,2,   82.100,2,  146.800,2,   40.030,2,    2.830,2, -999.000
           NA,HOT timeseries 1988to2019 27SEP2021,    151,  99,-999.0,      16,-999.0,20040121,1753,  22.7518, -157.9973,  4726, 1998.500,    2.094,   34.618,2,   34.619,2,   88.200,2,   88.900,2,  153.050,2,   39.630,2,    2.800,2, -999.000
           NA,HOT timeseries 1988to2019 27SEP2021,    151,  99,-999.0,      23,-999.0,20040121,1753,  22.7518, -157.9973,  4726, 2198.800,    1.912,   34.636,2,   34.636,2,   98.500,2,  100.200,2,  156.130,2,   38.990,2,    2.760,2, -999.000
           NA,HOT timeseries 1988to2019 27SEP2021,    151,  99,-999.0,     101,-999.0,20040121,1753,  22.7518, -157.9973,  4726, 2400.100,    1.790,   34.648,2,   34.648,2,  106.400,2,  106.800,2,  157.810,2,   38.570,2, -999.000,3, -999.000
           NA,HOT timeseries 1988to2019 27SEP2021,    151,  99,-999.0,      42,-999.0,20040121,1753,  22.7518, -157.9973,  4726, 2598.100,    1.681,   34.656,2,   34.657,2,  111.200,2,  111.300,2,  159.270,2,   37.990,2,    2.720,2, -999.000
           NA,HOT timeseries 1988to2019 27SEP2021,    151,  99,-999.0,      12,-999.0,20040121,1753,  22.7518, -157.9973,  4726, 2798.600,    1.605,   34.662,2,   34.662,2,  117.000,2,  117.300,2,  161.430,2,   37.960,2,    2.710,2, -999.000
           NA,HOT timeseries 1988to2019 27SEP2021,    151,  99,-999.0,      39,-999.0,20040121,1753,  22.7518, -157.9973,  4726, 2997.700,    1.548,   34.669,2,   34.670,2,  124.500,2,  124.700,2,  160.380,2,   37.450,2,    2.650,2, -999.000
           NA,HOT timeseries 1988to2019 27SEP2021,    151,  99,-999.0,      32,-999.0,20040121,1753,  22.7518, -157.9973,  4726, 3197.500,    1.510,   34.675,2, -999.000,4, -999.000,3,  129.900,2,  157.200,2,   37.010,2,    2.580,2, -999.000
           NA,HOT timeseries 1988to2019 27SEP2021,    151,  99,-999.0,       3,-999.0,20040121,1753,  22.7518, -157.9973,  4726, 3400.100,    1.477,   34.680,2,   34.679,2,  137.400,2,  136.800,2,  157.320,2,   36.670,2,    2.600,2, -999.000
           NA,HOT timeseries 1988to2019 27SEP2021,    151,  99,-999.0,      29,-999.0,20040121,1753,  22.7518, -157.9973,  4726, 3599.200,    1.462,   34.683,2,   34.682,2,  141.900,2,  141.800,2,  155.980,2,   36.260,2,    2.570,2, -999.000
           NA,HOT timeseries 1988to2019 27SEP2021,    151,  99,-999.0,      28,-999.0,20040121,1753,  22.7518, -157.9973,  4726, 3798.600,    1.450,   34.686,2,   34.686,2,  146.300,2,  146.100,2,  153.780,2,   36.000,2,    2.510,2, -999.000
           NA,HOT timeseries 1988to2019 27SEP2021,    151,  99,-999.0,      13,-999.0,20040121,1753,  22.7518, -157.9973,  4726, 3997.800,    1.452,   34.687,2,   34.689,2,  149.200,2,  148.500,2,  152.440,2,   35.810,2, -999.000,3, -999.000
           NA,HOT timeseries 1988to2019 27SEP2021,    151,  99,-999.0,      38,-999.0,20040121,1753,  22.7518, -157.9973,  4726, 4198.800,    1.462,   34.689,2,   34.688,2,  151.100,2,  150.700,2,  152.060,2,   35.700,2,    2.480,2, -999.000
           NA,HOT timeseries 1988to2019 27SEP2021,    151,  99,-999.0,      36,-999.0,20040121,1753,  22.7518, -157.9973,  4726, 4399.000,    1.477,   34.689,2,   34.690,2,  152.400,2,  152.100,2,  151.000,2,   35.610,2,    2.480,2, -999.000
           NA,HOT timeseries 1988to2019 27SEP2021,    151,  99,-999.0,      35,-999.0,20040121,1753,  22.7518, -157.9973,  4726, 4497.600,    1.485,   34.689,2,   34.689,2,  152.900,2,  152.500,2,  150.620,2,   35.560,2,    2.480,2, -999.000
           NA,HOT timeseries 1988to2019 27SEP2021,    151,  99,-999.0,      34,-999.0,20040121,1753,  22.7518, -157.9973,  4726, 4599.000,    1.498,   34.690,2,   34.690,2,  152.900,2,  152.700,2,  151.150,2,   35.750,2,    2.470,2, -999.000
           NA,HOT timeseries 1988to2019 27SEP2021,    151,  99,-999.0,      33,-999.0,20040121,1753,  22.7518, -157.9973,  4726, 4794.800,    1.500,   34.691,2,   34.691,2,  154.700,2,  156.100,2,  149.640,2,   35.420,2,    2.440,2, -999.000