BOTTLE,20214727JOAExport
EXPOCODE,SECT_ID,STNNBR,CASTNO,SAMPNO,BTLNBR,BTLNBR_FLAG_W,DATE,TIME,LATITUDE,LONGITUDE,DEPTH,CTDPRS,CTDTMP,CTDSAL,CTDSAL_FLAG_W,SALNTY,SALNTY_FLAG_W,CTDOXY,CTDOXY_FLAG_W,OXYGEN,OXYGEN_FLAG_W,SILCAT,SILCAT_FLAG_W,NINI,NINI_FLAG_W,PHSPHT,PHSPHT_FLAG_W,REVP
,,,,,,,,,,,,DB,IPTS-68,PSS-78,,PSS-78,,UMOL/KG,,UMOL/KG,,UMOL/KG,,UMOL/KG,,UMOL/KG,,DBAR
           NA,HOT timeseries 1988to2019 27SEP2021,    207,  99,-999.0,    8024,-999.0,20100708,1609,  22.7512, -158.0008,  4746,    6.900,   25.583,   35.293,2,   35.294,2,  207.500,2,  206.900,2,    0.970,2,    0.040,2,    0.050,2, -999.000
           NA,HOT timeseries 1988to2019 27SEP2021,    207,  99,-999.0,    8024,-999.0,20100708,1609,  22.7512, -158.0008,  4746,   13.800,   25.591,   35.312,2,   35.305,2,  208.000,2,  207.400,2,    0.920,2,    0.010,2,    0.060,2, -999.000
           NA,HOT timeseries 1988to2019 27SEP2021,    207,  99,-999.0,    8023,-999.0,20100708,1609,  22.7512, -158.0008,  4746,   46.900,   25.197,   35.500,2,   35.500,2,  210.600,2,  210.500,2,    1.110,2,    0.030,2,    0.040,2, -999.000
           NA,HOT timeseries 1988to2019 27SEP2021,    207,  99,-999.0,    8022,-999.0,20100708,1609,  22.7512, -158.0008,  4746,   55.400,   24.680,   35.469,2,   35.473,2,  215.700,2,  214.600,2,    1.150,2,    0.020,2,    0.030,2, -999.000
           NA,HOT timeseries 1988to2019 27SEP2021,    207,  99,-999.0,    8021,-999.0,20100708,1609,  22.7512, -158.0008,  4746,   70.200,   22.521,   35.414,2,   35.413,2,  228.600,2,  228.500,2,    1.330,2,    0.030,2,    0.020,2, -999.000
           NA,HOT timeseries 1988to2019 27SEP2021,    207,  99,-999.0,    8020,-999.0,20100708,1609,  22.7512, -158.0008,  4746,  111.700,   20.384,   35.319,2,   35.312,2,  216.600,2,  215.500,2,    1.580,2,    0.230,2,    0.070,2, -999.000
           NA,HOT timeseries 1988to2019 27SEP2021,    207,  99,-999.0,    8019,-999.0,20100708,1609,  22.7512, -158.0008,  4746,  172.000,   18.607,   35.040,2,   35.038,2,  206.400,2, -999.000,3,    2.470,2,    2.570,2,    0.220,2, -999.000
           NA,HOT timeseries 1988to2019 27SEP2021,    207,  99,-999.0,    8018,-999.0,20100708,1609,  22.7512, -158.0008,  4746,  231.200,   16.541,   34.708,2,   34.693,2,  203.200,2,  203.300,2,    4.070,2,    4.450,2,    0.350,2, -999.000
           NA,HOT timeseries 1988to2019 27SEP2021,    207,  99,-999.0,    8017,-999.0,20100708,1609,  22.7512, -158.0008,  4746,  266.700,   14.635,   34.462,2,   34.461,2,  200.800,2,  201.200,2,    6.270,2,    7.260,2,    0.550,2, -999.000
           NA,HOT timeseries 1988to2019 27SEP2021,    207,  99,-999.0,    8016,-999.0,20100708,1609,  22.7512, -158.0008,  4746,  303.400,   12.322,   34.294,2,   34.296,2,  208.500,2,  207.700,2,   10.460,2,   10.940,2,    0.780,2, -999.000
           NA,HOT timeseries 1988to2019 27SEP2021,    207,  99,-999.0,    8015,-999.0,20100708,1609,  22.7512, -158.0008,  4746,  367.900,   10.672,   34.183,2,   34.184,2,  203.900,2,  203.100,2,   16.100,2,   14.830,2,    1.050,2, -999.000
           NA,HOT timeseries 1988to2019 27SEP2021,    207,  99,-999.0,    8014,-999.0,20100708,1609,  22.7512, -158.0008,  4746,  428.600,    8.917,   34.090,2,   34.089,2,  157.100,2,  159.100,2,   28.600,2,   22.220,2,    1.600,2, -999.000
           NA,HOT timeseries 1988to2019 27SEP2021,    207,  99,-999.0,    8025,-999.0,20100708,1609,  22.7512, -158.0008,  4746,  469.800,    8.285,   34.094,2,   34.091,2,  134.800,2, -999.000,3,   35.170,2,   25.730,2,    1.860,2, -999.000
           NA,HOT timeseries 1988to2019 27SEP2021,    207,  99,-999.0,    8012,-999.0,20100708,1609,  22.7512, -158.0008,  4746,  508.600,    7.694,   34.094,2,   34.094,2,  113.300,2,  110.100,2,   42.690,2,   29.010,2,    2.130,2, -999.000
           NA,HOT timeseries 1988to2019 27SEP2021,    207,  99,-999.0,    8011,-999.0,20100708,1609,  22.7512, -158.0008,  4746,  543.200,    6.984,   34.104,2,   34.103,2,   88.600,2,   88.500,2,   51.900,2,   32.440,2,    2.350,2, -999.000
           NA,HOT timeseries 1988to2019 27SEP2021,    207,  99,-999.0,    8010,-999.0,20100708,1609,  22.7512, -158.0008,  4746,  581.300,    6.349,   34.129,2,   34.128,2,   70.700,2,   67.600,2,   62.030,2,   35.390,2,    2.580,2, -999.000
           NA,HOT timeseries 1988to2019 27SEP2021,    207,  99,-999.0,    8009,-999.0,20100708,1609,  22.7512, -158.0008,  4746,  624.400,    5.826,   34.181,2,   34.181,2,   54.100,2,   54.100,2,   72.040,2,   37.540,2,    2.730,2, -999.000
           NA,HOT timeseries 1988to2019 27SEP2021,    207,  99,-999.0,    8008,-999.0,20100708,1609,  22.7512, -158.0008,  4746,  657.100,    5.610,   34.224,2,   34.224,2,   43.000,2,   43.200,2,   77.140,2,   38.910,2,    2.840,2, -999.000
           NA,HOT timeseries 1988to2019 27SEP2021,    207,  99,-999.0,    8026,-999.0,20100708,1609,  22.7512, -158.0008,  4746,  704.200,    5.271,   34.283,2,   34.283,2,   35.800,2,   35.400,2,   84.000,2,   40.450,2,    2.930,2, -999.000
           NA,HOT timeseries 1988to2019 27SEP2021,    207,  99,-999.0,    8005,-999.0,20100708,1609,  22.7512, -158.0008,  4746,  766.400,    4.936,   34.338,2,   34.340,2,   34.500,2,   33.800,2,   90.900,2,   41.070,2,    2.980,2, -999.000
           NA,HOT timeseries 1988to2019 27SEP2021,    207,  99,-999.0,    8004,-999.0,20100708,1609,  22.7512, -158.0008,  4746,  812.800,    4.751,   34.375,2,   34.376,2,   34.800,2,   34.600,2,   94.660,2,   41.390,2,    3.000,2, -999.000
           NA,HOT timeseries 1988to2019 27SEP2021,    207,  99,-999.0,    8003,-999.0,20100708,1609,  22.7512, -158.0008,  4746,  858.400,    4.533,   34.398,2,   34.396,2,   36.500,2,   36.600,2,   98.580,2,   41.700,2,    3.010,2, -999.000
           NA,HOT timeseries 1988to2019 27SEP2021,    207,  99,-999.0,    8002,-999.0,20100708,1609,  22.7512, -158.0008,  4746,  928.300,    4.307,   34.443,2,   34.443,2,   41.100,2,   41.000,2,  103.010,2,   41.820,2,    3.000,2, -999.000
           NA,HOT timeseries 1988to2019 27SEP2021,    207,  99,-999.0,    8001,-999.0,20100708,1609,  22.7512, -158.0008,  4746,  997.500,    4.078,   34.471,2,   34.473,2,   45.200,2,   45.800,2,  107.520,2,   41.700,2,    2.990,2, -999.000
           NA,HOT timeseries 1988to2019 27SEP2021,    207,  99,-999.0,    8020,-999.0,20100708,1609,  22.7512, -158.0008,  4746, 1200.400,    3.447,   34.529,2,   34.528,2,   57.000,2,   56.700,2,  120.140,2,   40.870,2,    2.940,2, -999.000
           NA,HOT timeseries 1988to2019 27SEP2021,    207,  99,-999.0,    8019,-999.0,20100708,1609,  22.7512, -158.0008,  4746, 1400.400,    2.948,   34.559,2,   34.557,2,   65.700,2,   66.100,2,  131.740,2,   40.550,2,    2.910,2, -999.000
           NA,HOT timeseries 1988to2019 27SEP2021,    207,  99,-999.0,    8018,-999.0,20100708,1609,  22.7512, -158.0008,  4746, 1600.400,    2.576,   34.584,2,   34.584,2,   75.000,2,   75.100,2,  140.700,2,   40.240,2,    2.860,2, -999.000
           NA,HOT timeseries 1988to2019 27SEP2021,    207,  99,-999.0,    8017,-999.0,20100708,1609,  22.7512, -158.0008,  4746, 1800.700,    2.287,   34.609,2,   34.608,2,   83.800,2,   83.800,2,  146.830,2,   39.700,2,    2.820,2, -999.000
           NA,HOT timeseries 1988to2019 27SEP2021,    207,  99,-999.0,    8016,-999.0,20100708,1609,  22.7512, -158.0008,  4746, 2000.100,    2.076,   34.622,2,   34.623,2,   91.400,2,   91.400,2,  151.130,2,   39.270,2,    2.780,2, -999.000
           NA,HOT timeseries 1988to2019 27SEP2021,    207,  99,-999.0,    8015,-999.0,20100708,1609,  22.7512, -158.0008,  4746, 2200.600,    1.904,   34.636,2,   34.635,2,   98.200,2,   99.100,2,  155.210,2,   38.880,2,    2.740,2, -999.000
           NA,HOT timeseries 1988to2019 27SEP2021,    207,  99,-999.0,    8014,-999.0,20100708,1609,  22.7512, -158.0008,  4746, 2399.700,    1.766,   34.647,2,   34.646,2,  105.200,2,  105.300,2,  158.330,2,   38.530,2,    2.700,2, -999.000
           NA,HOT timeseries 1988to2019 27SEP2021,    207,  99,-999.0,    8025,-999.0,20100708,1609,  22.7512, -158.0008,  4746, 2600.200,    1.657,   34.657,2,   34.656,2,  113.000,2,  113.100,2,  160.010,2,   38.120,2,    2.670,2, -999.000
           NA,HOT timeseries 1988to2019 27SEP2021,    207,  99,-999.0,    8012,-999.0,20100708,1609,  22.7512, -158.0008,  4746, 2799.800,    1.583,   34.665,2,   34.666,2,  120.800,2,  121.800,2,  159.380,2,   37.590,2,    2.630,2, -999.000
           NA,HOT timeseries 1988to2019 27SEP2021,    207,  99,-999.0,    8011,-999.0,20100708,1609,  22.7512, -158.0008,  4746, 2999.800,    1.523,   34.672,2,   34.672,2,  127.800,2,  127.800,2,  157.790,2,   37.190,2,    2.590,2, -999.000
           NA,HOT timeseries 1988to2019 27SEP2021,    207,  99,-999.0,    8010,-999.0,20100708,1609,  22.7512, -158.0008,  4746, 3198.900,    1.480,   34.677,2,   34.678,2,  134.100,2,  133.900,2,  156.980,2,   36.710,2,    2.560,2, -999.000
           NA,HOT timeseries 1988to2019 27SEP2021,    207,  99,-999.0,    8009,-999.0,20100708,1609,  22.7512, -158.0008,  4746, 3399.900,    1.455,   34.681,2,   34.682,2,  139.800,2,  140.100,2,  155.240,2,   36.360,2,    2.530,2, -999.000
           NA,HOT timeseries 1988to2019 27SEP2021,    207,  99,-999.0,    8008,-999.0,20100708,1609,  22.7512, -158.0008,  4746, 3599.700,    1.443,   34.684,2,   34.684,2,  144.200,2,  144.700,2,  153.130,2,   36.180,2,    2.530,2, -999.000
           NA,HOT timeseries 1988to2019 27SEP2021,    207,  99,-999.0,    8026,-999.0,20100708,1609,  22.7512, -158.0008,  4746, 3800.000,    1.445,   34.686,2, -999.000,4, -999.000,3,  146.600,2,  151.880,2,   35.870,2,    2.500,2, -999.000
           NA,HOT timeseries 1988to2019 27SEP2021,    207,  99,-999.0,    8006,-999.0,20100708,1609,  22.7512, -158.0008,  4746, 4000.000,    1.451,   34.687,2,   34.688,2,  149.300,2,  149.200,2,  150.200,2,   35.710,2,    2.490,2, -999.000
           NA,HOT timeseries 1988to2019 27SEP2021,    207,  99,-999.0,    8005,-999.0,20100708,1609,  22.7512, -158.0008,  4746, 4200.200,    1.460,   34.688,2,   34.689,2,  151.100,2,  150.500,2,  149.070,2,   35.560,2,    2.480,2, -999.000
           NA,HOT timeseries 1988to2019 27SEP2021,    207,  99,-999.0,    8004,-999.0,20100708,1609,  22.7512, -158.0008,  4746, 4399.500,    1.476,   34.689,2,   34.689,2,  152.400,2,  152.000,2,  148.200,2,   35.570,2,    2.470,2, -999.000
           NA,HOT timeseries 1988to2019 27SEP2021,    207,  99,-999.0,    8003,-999.0,20100708,1609,  22.7512, -158.0008,  4746, 4498.600,    1.484,   34.689,2,   34.690,2,  153.100,2,  152.900,2,  148.260,2,   35.550,2,    2.470,2, -999.000
           NA,HOT timeseries 1988to2019 27SEP2021,    207,  99,-999.0,    8002,-999.0,20100708,1609,  22.7512, -158.0008,  4746, 4599.300,    1.493,   34.689,2,   34.689,2,  153.500,2,  153.100,2,  147.360,2,   35.510,2,    2.470,2, -999.000
           NA,HOT timeseries 1988to2019 27SEP2021,    207,  99,-999.0,    8001,-999.0,20100708,1609,  22.7512, -158.0008,  4746, 4809.500,    1.511,   34.690,2,   34.691,2,  154.200,2,  154.900,2,  145.820,2,   35.300,2,    2.470,2, -999.000