BOTTLE,20214727JOAExport
EXPOCODE,SECT_ID,STNNBR,CASTNO,SAMPNO,BTLNBR,BTLNBR_FLAG_W,DATE,TIME,LATITUDE,LONGITUDE,DEPTH,CTDPRS,CTDTMP,CTDSAL,CTDSAL_FLAG_W,SALNTY,SALNTY_FLAG_W,CTDOXY,CTDOXY_FLAG_W,OXYGEN,OXYGEN_FLAG_W,SILCAT,SILCAT_FLAG_W,NINI,NINI_FLAG_W,PHSPHT,PHSPHT_FLAG_W,REVP
,,,,,,,,,,,,DB,IPTS-68,PSS-78,,PSS-78,,UMOL/KG,,UMOL/KG,,UMOL/KG,,UMOL/KG,,UMOL/KG,,DBAR
           NA,HOT timeseries 1988to2019 27SEP2021,    170,  99,-999.0,      23,-999.0,20051008,1527,  22.7503, -157.9998,  4745,    5.500,   26.187,   35.174,2,   35.172,2,  205.000,2,  206.500,2,    0.900,2,    0.090,2,    0.040,2, -999.000
           NA,HOT timeseries 1988to2019 27SEP2021,    170,  99,-999.0,      23,-999.0,20051008,1527,  22.7503, -157.9998,  4745,   12.300,   26.195,   35.174,2,   35.173,2,  204.600,2,  203.900,2,    1.210,2,    0.010,2,    0.020,2, -999.000
           NA,HOT timeseries 1988to2019 27SEP2021,    170,  99,-999.0,   12048,-999.0,20051008,1527,  22.7503, -157.9998,  4745,   50.000,   26.194,   35.174,2,   35.172,2,  204.600,2,  203.900,2,    1.340,2,    0.020,2,    0.020,2, -999.000
           NA,HOT timeseries 1988to2019 27SEP2021,    170,  99,-999.0,      22,-999.0,20051008,1527,  22.7503, -157.9998,  4745,   89.100,   24.445,   35.129,2,   35.127,2,  217.700,2,  216.800,2, -999.000,4,    0.060,2,    0.030,2, -999.000
           NA,HOT timeseries 1988to2019 27SEP2021,    170,  99,-999.0,      21,-999.0,20051008,1527,  22.7503, -157.9998,  4745,  114.500,   22.522,   35.217,2,   35.213,2,  215.300,2,  215.600,2, -999.000,4,    0.160,2,    0.040,2, -999.000
           NA,HOT timeseries 1988to2019 27SEP2021,    170,  99,-999.0,      16,-999.0,20051008,1527,  22.7503, -157.9998,  4745,  139.000,   21.434,   35.187,2,   35.184,2,  200.400,2,  200.600,2, -999.000,4,    0.740,2,    0.100,2, -999.000
           NA,HOT timeseries 1988to2019 27SEP2021,    170,  99,-999.0,      19,-999.0,20051008,1527,  22.7503, -157.9998,  4745,  189.600,   18.815,   34.981,2,   34.983,2,  206.700,2,  206.500,2, -999.000,4,    1.720,2,    0.170,2, -999.000
           NA,HOT timeseries 1988to2019 27SEP2021,    170,  99,-999.0,      18,-999.0,20051008,1527,  22.7503, -157.9998,  4745,  245.100,   15.311,   34.550,2,   34.547,2,  204.300,2,  204.600,2, -999.000,4,    5.710,2,    0.430,2, -999.000
           NA,HOT timeseries 1988to2019 27SEP2021,    170,  99,-999.0,      17,-999.0,20051008,1527,  22.7503, -157.9998,  4745,  289.800,   13.563,   34.360,2,   34.360,2,  207.400,2,  207.200,2,    7.770,2,    8.100,2,    0.610,2, -999.000
           NA,HOT timeseries 1988to2019 27SEP2021,    170,  99,-999.0,      34,-999.0,20051008,1527,  22.7503, -157.9998,  4745,  335.200,   11.957,   34.270,2,   34.269,2,  210.000,2,  209.400,2, -999.000,3,   11.330,2,    0.790,2, -999.000
           NA,HOT timeseries 1988to2019 27SEP2021,    170,  99,-999.0,     102,-999.0,20051008,1527,  22.7503, -157.9998,  4745,  381.900,   10.603,   34.176,2,   34.176,2,  204.100,2,  201.900,2,   16.620,2,   14.580,2,    0.950,2, -999.000
           NA,HOT timeseries 1988to2019 27SEP2021,    170,  99,-999.0,     101,-999.0,20051008,1527,  22.7503, -157.9998,  4745,  419.000,    9.735,   34.124,2,   34.126,2,  189.400,2,  188.900,2, -999.000,3,   17.460,2,    1.210,2, -999.000
           NA,HOT timeseries 1988to2019 27SEP2021,    170,  99,-999.0,      42,-999.0,20051008,1527,  22.7503, -157.9998,  4745,  454.000,    8.988,   34.099,2,   34.099,2,  172.400,2,  173.200,2, -999.000,3,   20.690,2,    1.480,2, -999.000
           NA,HOT timeseries 1988to2019 27SEP2021,    170,  99,-999.0,      12,-999.0,20051008,1527,  22.7503, -157.9998,  4745,  490.300,    8.025,   34.062,2,   34.063,2,  150.300,2,  149.200,2, -999.000,3,   24.740,2,    1.780,2, -999.000
           NA,HOT timeseries 1988to2019 27SEP2021,    170,  99,-999.0,      39,-999.0,20051008,1527,  22.7503, -157.9998,  4745,  524.100,    7.177,   34.038,2,   34.037,2,  127.200,2,  123.800,2,   45.680,2,   28.730,2,    2.070,2, -999.000
           NA,HOT timeseries 1988to2019 27SEP2021,    170,  99,-999.0,      33,-999.0,20051008,1527,  22.7503, -157.9998,  4745,  560.100,    6.501,   34.043,2,   34.045,2,   97.200,2,   97.400,2,   54.160,2,   31.940,2,    2.260,2, -999.000
           NA,HOT timeseries 1988to2019 27SEP2021,    170,  99,-999.0,   12054,-999.0,20051008,1527,  22.7503, -157.9998,  4745,  675.500,    5.141,   34.113,2,   34.114,2,   53.000,2,   53.200,2,   84.340,2,   38.310,2,    2.800,2, -999.000
           NA,HOT timeseries 1988to2019 27SEP2021,    170,  99,-999.0,   12052,-999.0,20051008,1527,  22.7503, -157.9998,  4745,  711.700,    4.869,   34.160,2,   34.160,2,   40.800,2,   40.400,2,   89.420,2,   39.640,2,    2.900,2, -999.000
           NA,HOT timeseries 1988to2019 27SEP2021,    170,  99,-999.0,      13,-999.0,20051008,1527,  22.7503, -157.9998,  4745,  750.300,    4.710,   34.197,2,   34.191,2,   33.500,2,   33.400,2,   93.520,2,   40.610,2,    2.980,2, -999.000
           NA,HOT timeseries 1988to2019 27SEP2021,    170,  99,-999.0,   12011,-999.0,20051008,1527,  22.7503, -157.9998,  4745,  784.300,    4.537,   34.240,2,   34.237,2,   26.500,2,   26.100,2,   98.570,2,   41.360,2,    3.040,2, -999.000
           NA,HOT timeseries 1988to2019 27SEP2021,    170,  99,-999.0,      36,-999.0,20051008,1527,  22.7503, -157.9998,  4745,  819.700,    4.414,   34.276,2,   34.274,2,   24.300,2,   24.100,2,  101.160,2,   41.820,2,    3.070,2, -999.000
           NA,HOT timeseries 1988to2019 27SEP2021,    170,  99,-999.0,   12053,-999.0,20051008,1527,  22.7503, -157.9998,  4745,  890.100,    4.184,   34.369,2,   34.376,2,   26.800,2,   26.500,2, -999.000,4,   42.060,2,    3.110,2, -999.000
           NA,HOT timeseries 1988to2019 27SEP2021,    170,  99,-999.0,   12047,-999.0,20051008,1527,  22.7503, -157.9998,  4745,  947.900,    4.088,   34.422,2,   34.421,2,   33.200,2,   34.200,2, -999.000,4,   41.900,2,    3.070,2, -999.000
           NA,HOT timeseries 1988to2019 27SEP2021,    170,  99,-999.0,      11,-999.0,20051008,1527,  22.7503, -157.9998,  4745, 1004.800,    3.881,   34.455,2,   34.453,2,   38.400,2,   38.600,2,  114.100,2,   41.820,2,    3.060,2, -999.000
           NA,HOT timeseries 1988to2019 27SEP2021,    170,  99,-999.0,      16,-999.0,20051008,1527,  22.7503, -157.9998,  4745, 1199.600,    3.497,   34.519,2,   34.519,2,   51.200,2,   50.400,2,  119.700,2,   41.340,2,    2.990,2, -999.000
           NA,HOT timeseries 1988to2019 27SEP2021,    170,  99,-999.0,      19,-999.0,20051008,1527,  22.7503, -157.9998,  4745, 1398.900,    3.134,   34.558,2,   34.558,2,   58.800,2,   59.100,2,  127.160,2,   41.120,2,    2.970,2, -999.000
           NA,HOT timeseries 1988to2019 27SEP2021,    170,  99,-999.0,      17,-999.0,20051008,1527,  22.7503, -157.9998,  4745, 1799.900,    2.488,   34.599,2,   34.599,2,   77.600,2,   77.800,2,  141.420,2,   40.260,2,    2.870,2, -999.000
           NA,HOT timeseries 1988to2019 27SEP2021,    170,  99,-999.0,      34,-999.0,20051008,1527,  22.7503, -157.9998,  4745, 1999.300,    2.225,   34.616,2,   34.617,2,   85.700,2,   85.900,2,  147.890,2,   39.790,2,    2.850,2, -999.000
           NA,HOT timeseries 1988to2019 27SEP2021,    170,  99,-999.0,     102,-999.0,20051008,1527,  22.7503, -157.9998,  4745, 2200.000,    2.005,   34.632,2,   34.631,2,   93.400,2,   93.500,2,  153.600,2,   39.070,2,    2.790,2, -999.000
           NA,HOT timeseries 1988to2019 27SEP2021,    170,  99,-999.0,     101,-999.0,20051008,1527,  22.7503, -157.9998,  4745, 2400.200,    1.845,   34.643,2,   34.643,2,  100.600,2,  100.500,2,  158.150,2,   38.570,2,    2.730,2, -999.000
           NA,HOT timeseries 1988to2019 27SEP2021,    170,  99,-999.0,      42,-999.0,20051008,1527,  22.7503, -157.9998,  4745, 2600.400,    1.718,   34.655,2,   34.655,2,  111.100,2,  111.400,2,  157.870,2,   38.150,2,    2.690,2, -999.000
           NA,HOT timeseries 1988to2019 27SEP2021,    170,  99,-999.0,      12,-999.0,20051008,1527,  22.7503, -157.9998,  4745, 2800.400,    1.617,   34.665,2,   34.665,2,  119.600,2,  119.500,2,  158.720,2,   37.840,2,    2.650,2, -999.000
           NA,HOT timeseries 1988to2019 27SEP2021,    170,  99,-999.0,      39,-999.0,20051008,1527,  22.7503, -157.9998,  4745, 3000.400,    1.559,   34.671,2,   34.672,2,  124.000,2,  125.300,2,  158.540,2,   37.400,2,    2.630,2, -999.000
           NA,HOT timeseries 1988to2019 27SEP2021,    170,  99,-999.0,      33,-999.0,20051008,1527,  22.7503, -157.9998,  4745, 3199.300,    1.515,   34.676,2,   34.677,2,  129.300,2,  129.700,2,  158.110,2,   37.170,2,    2.620,2, -999.000
           NA,HOT timeseries 1988to2019 27SEP2021,    170,  99,-999.0,       3,-999.0,20051008,1527,  22.7503, -157.9998,  4745, 3399.900,    1.484,   34.681,2,   34.682,2,  136.200,2, -999.000,5,  156.190,2,   36.840,2,    2.570,2, -999.000
           NA,HOT timeseries 1988to2019 27SEP2021,    170,  99,-999.0,   12054,-999.0,20051008,1527,  22.7503, -157.9998,  4745, 3600.200,    1.467,   34.684,2,   34.683,2,  140.400,2,  140.500,2,  155.070,2,   36.520,2,    2.560,2, -999.000
           NA,HOT timeseries 1988to2019 27SEP2021,    170,  99,-999.0,   12052,-999.0,20051008,1527,  22.7503, -157.9998,  4745, 3798.400,    1.456,   34.687,2,   34.688,2,  144.600,2, -999.000,4,  153.320,2,   36.050,2,    2.510,2, -999.000
           NA,HOT timeseries 1988to2019 27SEP2021,    170,  99,-999.0,      13,-999.0,20051008,1527,  22.7503, -157.9998,  4745, 3997.800,    1.455,   34.688,2,   34.689,2,  147.500,2,  147.300,2,  150.200,2,   35.920,2,    2.510,2, -999.000
           NA,HOT timeseries 1988to2019 27SEP2021,    170,  99,-999.0,   12011,-999.0,20051008,1527,  22.7503, -157.9998,  4745, 4199.400,    1.462,   34.690,2,   34.690,2,  150.000,2,  150.200,2,  148.830,2,   35.710,2,    2.510,2, -999.000
           NA,HOT timeseries 1988to2019 27SEP2021,    170,  99,-999.0,      36,-999.0,20051008,1527,  22.7503, -157.9998,  4745, 4399.400,    1.478,   34.691,2,   34.691,2,  151.000,2,  150.600,2,  148.390,2,   35.660,2,    2.490,2, -999.000
           NA,HOT timeseries 1988to2019 27SEP2021,    170,  99,-999.0,   12053,-999.0,20051008,1527,  22.7503, -157.9998,  4745, 4497.900,    1.487,   34.691,2,   34.691,2,  151.500,2,  151.300,2,  149.750,2,   35.710,2,    2.500,2, -999.000
           NA,HOT timeseries 1988to2019 27SEP2021,    170,  99,-999.0,   12047,-999.0,20051008,1527,  22.7503, -157.9998,  4745, 4600.400,    1.497,   34.691,2,   34.692,2,  151.600,2, -999.000,3,  148.160,2,   35.800,2,    2.510,2, -999.000
           NA,HOT timeseries 1988to2019 27SEP2021,    170,  99,-999.0,      11,-999.0,20051008,1527,  22.7503, -157.9998,  4745, 4804.000,    1.521,   34.691,2,   34.692,2,  151.700,2, -999.000,5,  147.890,2,   35.440,2,    2.490,2, -999.000