BOTTLE,20214727JOAExport
EXPOCODE,SECT_ID,STNNBR,CASTNO,SAMPNO,BTLNBR,BTLNBR_FLAG_W,DATE,TIME,LATITUDE,LONGITUDE,DEPTH,CTDPRS,CTDTMP,CTDSAL,CTDSAL_FLAG_W,SALNTY,SALNTY_FLAG_W,CTDOXY,CTDOXY_FLAG_W,OXYGEN,OXYGEN_FLAG_W,SILCAT,SILCAT_FLAG_W,NINI,NINI_FLAG_W,PHSPHT,PHSPHT_FLAG_W,REVP
,,,,,,,,,,,,DB,IPTS-68,PSS-78,,PSS-78,,UMOL/KG,,UMOL/KG,,UMOL/KG,,UMOL/KG,,UMOL/KG,,DBAR
           NA,HOT timeseries 1988to2019 27SEP2021,    236,  99,-999.0,    8024,-999.0,20130517,2145,  22.7498, -157.9998,  4742,    7.800,   25.004,   34.881,2,   34.882,2,  208.900,2,  209.500,2,    1.310,2,    0.020,2, -999.000,3, -999.000
           NA,HOT timeseries 1988to2019 27SEP2021,    236,  99,-999.0,    8024,-999.0,20130517,2145,  22.7498, -157.9998,  4742,    8.400,   24.860,   34.882,2,   34.881,2,  215.400,2,  209.000,2,    1.220,2,    0.030,2, -999.000,3, -999.000
           NA,HOT timeseries 1988to2019 27SEP2021,    236,  99,-999.0,    8023,-999.0,20130517,2145,  22.7498, -157.9998,  4742,   45.800,   24.865,   34.879,2,   34.880,2,  209.800,2,  209.700,2,    1.250,2,    0.010,2, -999.000,3, -999.000
           NA,HOT timeseries 1988to2019 27SEP2021,    236,  99,-999.0,    8022,-999.0,20130517,2145,  22.7498, -157.9998,  4742,   72.700,   23.810,   35.257,2,   35.264,2,  216.900,2,  215.400,2,    1.280,2,    0.040,2,    0.100,2, -999.000
           NA,HOT timeseries 1988to2019 27SEP2021,    236,  99,-999.0,    8021,-999.0,20130517,2145,  22.7498, -157.9998,  4742,  114.900,   22.571,   35.350,2,   35.354,2,  214.200,2,  214.600,2,    1.330,2,    0.060,2,    0.090,2, -999.000
           NA,HOT timeseries 1988to2019 27SEP2021,    236,  99,-999.0,    8020,-999.0,20130517,2145,  22.7498, -157.9998,  4742,  153.300,   22.074,   35.363,2,   35.363,2,  212.300,2,  211.900,2,    1.380,2,    0.040,2,    0.060,2, -999.000
           NA,HOT timeseries 1988to2019 27SEP2021,    236,  99,-999.0,    8019,-999.0,20130517,2145,  22.7498, -157.9998,  4742,  187.100,   20.868,   35.331,2,   35.332,2,  213.000,2,  214.700,2,    1.710,2,    0.270,2,    0.050,2, -999.000
           NA,HOT timeseries 1988to2019 27SEP2021,    236,  99,-999.0,    8018,-999.0,20130517,2145,  22.7498, -157.9998,  4742,  221.700,   18.490,   34.894,2,   34.884,2,  189.400,2,  196.800,2,    3.290,2,    3.110,2,    0.270,2, -999.000
           NA,HOT timeseries 1988to2019 27SEP2021,    236,  99,-999.0,    8017,-999.0,20130517,2145,  22.7498, -157.9998,  4742,  272.100,   15.489,   34.524,2,   34.543,2,  198.200,2,  199.600,2,    5.710,2,    5.820,2,    0.450,2, -999.000
           NA,HOT timeseries 1988to2019 27SEP2021,    236,  99,-999.0,    8016,-999.0,20130517,2145,  22.7498, -157.9998,  4742,  336.400,   12.216,   34.246,2,   34.246,2,  209.600,2,  208.700,2, -999.000,4,   10.580,2,    0.770,2, -999.000
           NA,HOT timeseries 1988to2019 27SEP2021,    236,  99,-999.0,    8015,-999.0,20130517,2145,  22.7498, -157.9998,  4742,  395.100,   10.476,   34.163,2,   34.167,2,  202.100,2, -999.000,5,   17.090,2,   14.580,2,    1.040,2, -999.000
           NA,HOT timeseries 1988to2019 27SEP2021,    236,  99,-999.0,    8014,-999.0,20130517,2145,  22.7498, -157.9998,  4742,  429.700,    9.591,   34.116,2,   34.112,2,  193.800,2, -999.000,5,   22.850,2,   17.710,2,    1.260,2, -999.000
           NA,HOT timeseries 1988to2019 27SEP2021,    236,  99,-999.0,    8025,-999.0,20130517,2145,  22.7498, -157.9998,  4742,  464.700,    8.782,   34.075,2,   34.071,2,  176.800,2,  175.300,2,   29.270,2,   20.850,2,    1.480,2, -999.000
           NA,HOT timeseries 1988to2019 27SEP2021,    236,  99,-999.0,    8012,-999.0,20130517,2145,  22.7498, -157.9998,  4742,  521.800,    7.182,   34.043,2,   34.045,2,  127.500,2,  126.700,2,   46.700,2,   27.950,2,    2.010,2, -999.000
           NA,HOT timeseries 1988to2019 27SEP2021,    236,  99,-999.0,    8011,-999.0,20130517,2145,  22.7498, -157.9998,  4742,  559.400,    6.479,   34.040,2, -999.000,4, -999.000,3,  100.500,2,   57.480,2,   31.650,2,    2.290,2, -999.000
           NA,HOT timeseries 1988to2019 27SEP2021,    236,  99,-999.0,    8010,-999.0,20130517,2145,  22.7498, -157.9998,  4742,  600.900,    5.992,   34.087,2,   34.088,2,   75.100,2,   74.500,2,   65.960,2,   34.690,2,    2.510,2, -999.000
           NA,HOT timeseries 1988to2019 27SEP2021,    236,  99,-999.0,    8009,-999.0,20130517,2145,  22.7498, -157.9998,  4742,  650.100,    5.486,   34.120,2,   34.121,2,   57.800,2,   57.700,2,   75.730,2,   37.060,2,    2.700,2, -999.000
           NA,HOT timeseries 1988to2019 27SEP2021,    236,  99,-999.0,    8008,-999.0,20130517,2145,  22.7498, -157.9998,  4742,  704.500,    5.235,   34.222,2,   34.219,2,   39.100,2,   38.500,2,   83.600,2,   39.050,2,    2.870,2, -999.000
           NA,HOT timeseries 1988to2019 27SEP2021,    236,  99,-999.0,    8026,-999.0,20130517,2145,  22.7498, -157.9998,  4742,  765.100,    4.940,   34.307,2,   34.309,2,   33.100,2,   32.600,2,   90.780,2,   39.940,2,    2.920,2, -999.000
           NA,HOT timeseries 1988to2019 27SEP2021,    236,  99,-999.0,    8005,-999.0,20130517,2145,  22.7498, -157.9998,  4742,  855.800,    4.615,   34.400,2,   34.399,2,   36.800,2, -999.000,4,   97.980,2,   40.450,2,    2.940,2, -999.000
           NA,HOT timeseries 1988to2019 27SEP2021,    236,  99,-999.0,    8004,-999.0,20130517,2145,  22.7498, -157.9998,  4742,  895.600,    4.455,   34.424,2,   34.424,2,   37.700,2,   37.600,2,  100.880,2,   40.670,2,    2.980,2, -999.000
           NA,HOT timeseries 1988to2019 27SEP2021,    236,  99,-999.0,    8003,-999.0,20130517,2145,  22.7498, -157.9998,  4742,  938.400,    4.365,   34.434,2,   34.434,2,   39.000,2,   39.600,2,  102.900,2,   40.830,2,    2.980,2, -999.000
           NA,HOT timeseries 1988to2019 27SEP2021,    236,  99,-999.0,    8002,-999.0,20130517,2145,  22.7498, -157.9998,  4742,  978.900,    4.182,   34.442,2,   34.441,2,   40.700,2,   41.000,2,  106.410,2,   40.800,2,    2.990,2, -999.000
           NA,HOT timeseries 1988to2019 27SEP2021,    236,  99,-999.0,    8001,-999.0,20130517,2145,  22.7498, -157.9998,  4742, 1020.000,    4.046,   34.470,2,   34.472,2,   43.700,2,   44.000,2,  109.080,2,   40.700,2,    2.970,2, -999.000
           NA,HOT timeseries 1988to2019 27SEP2021,    236,  99,-999.0,    8020,-999.0,20130517,2145,  22.7498, -157.9998,  4742, 1201.500,    3.454,   34.520,2,   34.520,2,   55.500,2,   55.000,2,  121.550,2,   40.680,2, -999.000,3, -999.000
           NA,HOT timeseries 1988to2019 27SEP2021,    236,  99,-999.0,    8019,-999.0,20130517,2145,  22.7498, -157.9998,  4742, 1401.200,    3.077,   34.557,2,   34.556,2,   61.600,2,   61.700,2,  129.630,2,   40.790,2, -999.000,3, -999.000
           NA,HOT timeseries 1988to2019 27SEP2021,    236,  99,-999.0,    8018,-999.0,20130517,2145,  22.7498, -157.9998,  4742, 1599.600,    2.712,   34.580,2,   34.580,2,   70.700,2,   70.800,2,  137.670,2,   40.280,2, -999.000,3, -999.000
           NA,HOT timeseries 1988to2019 27SEP2021,    236,  99,-999.0,    8017,-999.0,20130517,2145,  22.7498, -157.9998,  4742, 1799.800,    2.384,   34.596,2,   34.595,2,   79.400,2,   79.200,2,  145.380,2,   39.880,2, -999.000,3, -999.000
           NA,HOT timeseries 1988to2019 27SEP2021,    236,  99,-999.0,    8016,-999.0,20130517,2145,  22.7498, -157.9998,  4742, 1999.900,    2.146,   34.617,2,   34.617,2,   88.300,2,   88.700,2,  150.360,2,   39.120,2, -999.000,3, -999.000
           NA,HOT timeseries 1988to2019 27SEP2021,    236,  99,-999.0,    8015,-999.0,20130517,2145,  22.7498, -157.9998,  4742, 2200.100,    1.972,   34.631,2,   34.631,2,   97.200,2,   97.400,2,  153.420,2,   38.890,2, -999.000,3, -999.000
           NA,HOT timeseries 1988to2019 27SEP2021,    236,  99,-999.0,    8014,-999.0,20130517,2145,  22.7498, -157.9998,  4742, 2399.700,    1.835,   34.642,2,   34.641,2,  103.600,2,  103.600,2,  156.420,2,   38.510,2, -999.000,3, -999.000
           NA,HOT timeseries 1988to2019 27SEP2021,    236,  99,-999.0,    8025,-999.0,20130517,2145,  22.7498, -157.9998,  4742, 2599.900,    1.716,   34.652,2,   34.651,2,  111.300,2,  111.300,2,  158.040,2,   38.000,2, -999.000,3, -999.000
           NA,HOT timeseries 1988to2019 27SEP2021,    236,  99,-999.0,    8012,-999.0,20130517,2145,  22.7498, -157.9998,  4742, 2799.500,    1.618,   34.661,2,   34.661,2,  117.800,2,  118.300,2,  159.880,2,   37.760,2,    2.650,2, -999.000
           NA,HOT timeseries 1988to2019 27SEP2021,    236,  99,-999.0,    8011,-999.0,20130517,2145,  22.7498, -157.9998,  4742, 3001.100,    1.563,   34.666,2,   34.665,2,  123.300,2,  123.300,2,  159.720,2,   37.130,2, -999.000,3, -999.000
           NA,HOT timeseries 1988to2019 27SEP2021,    236,  99,-999.0,    8010,-999.0,20130517,2145,  22.7498, -157.9998,  4742, 3200.900,    1.523,   34.672,2,   34.672,2,  129.500,2,  130.300,2,  158.500,2,   36.960,2, -999.000,3, -999.000
           NA,HOT timeseries 1988to2019 27SEP2021,    236,  99,-999.0,    8009,-999.0,20130517,2145,  22.7498, -157.9998,  4742, 3400.900,    1.487,   34.676,2,   34.676,2,  135.600,2,  135.900,2,  157.420,2,   37.030,2,    2.580,2, -999.000
           NA,HOT timeseries 1988to2019 27SEP2021,    236,  99,-999.0,    8008,-999.0,20130517,2145,  22.7498, -157.9998,  4742, 3599.400,    1.463,   34.680,2,   34.682,2,  141.000,2,  140.800,2,  155.830,2,   36.180,2, -999.000,3, -999.000
           NA,HOT timeseries 1988to2019 27SEP2021,    236,  99,-999.0,    8026,-999.0,20130517,2145,  22.7498, -157.9998,  4742, 3799.800,    1.455,   34.683,2,   34.684,2,  144.900,2,  144.500,2,  153.710,2,   35.850,2, -999.000,3, -999.000
           NA,HOT timeseries 1988to2019 27SEP2021,    236,  99,-999.0,    8006,-999.0,20130517,2145,  22.7498, -157.9998,  4742, 3998.800,    1.456,   34.684,2,   34.685,2,  147.900,2,  147.800,2,  152.360,2,   35.740,2, -999.000,3, -999.000
           NA,HOT timeseries 1988to2019 27SEP2021,    236,  99,-999.0,    8005,-999.0,20130517,2145,  22.7498, -157.9998,  4742, 4199.200,    1.464,   34.686,2,   34.687,2,  150.100,2,  149.600,2,  151.890,2,   35.550,2, -999.000,3, -999.000
           NA,HOT timeseries 1988to2019 27SEP2021,    236,  99,-999.0,    8004,-999.0,20130517,2145,  22.7498, -157.9998,  4742, 4399.800,    1.479,   34.686,2,   34.687,2,  151.400,2,  150.900,2,  150.610,2,   35.570,2,    2.480,2, -999.000
           NA,HOT timeseries 1988to2019 27SEP2021,    236,  99,-999.0,    8003,-999.0,20130517,2145,  22.7498, -157.9998,  4742, 4501.000,    1.488,   34.687,2, -999.000,5,  151.800,2,  151.400,2,  150.710,2,   35.440,2, -999.000,3, -999.000
           NA,HOT timeseries 1988to2019 27SEP2021,    236,  99,-999.0,    8002,-999.0,20130517,2145,  22.7498, -157.9998,  4742, 4599.100,    1.496,   34.687,2,   34.687,2,  152.300,2,  151.500,2,  150.240,2,   35.460,2,    2.470,2, -999.000
           NA,HOT timeseries 1988to2019 27SEP2021,    236,  99,-999.0,    8001,-999.0,20130517,2145,  22.7498, -157.9998,  4742, 4809.500,    1.522,   34.687,2,   34.688,2,  152.300,2,  152.500,2,  149.890,2,   35.410,2,    2.470,2, -999.000