BOTTLE,20214727JOAExport
EXPOCODE,SECT_ID,STNNBR,CASTNO,SAMPNO,BTLNBR,BTLNBR_FLAG_W,DATE,TIME,LATITUDE,LONGITUDE,DEPTH,CTDPRS,CTDTMP,CTDSAL,CTDSAL_FLAG_W,SALNTY,SALNTY_FLAG_W,CTDOXY,CTDOXY_FLAG_W,OXYGEN,OXYGEN_FLAG_W,SILCAT,SILCAT_FLAG_W,NINI,NINI_FLAG_W,PHSPHT,PHSPHT_FLAG_W,REVP
,,,,,,,,,,,,DB,IPTS-68,PSS-78,,PSS-78,,UMOL/KG,,UMOL/KG,,UMOL/KG,,UMOL/KG,,UMOL/KG,,DBAR
           NA,HOT timeseries 1988to2019 27SEP2021,    154,  99,-999.0,      31,-999.0,20040420,1800,  22.7477, -158.0008,  4732,    3.700,   23.783,   35.017,2,   35.018,2,  212.200,2,  212.400,2,    1.030,2,    0.030,2,    0.100,2, -999.000
           NA,HOT timeseries 1988to2019 27SEP2021,    154,  99,-999.0,      30,-999.0,20040420,1800,  22.7477, -158.0008,  4732,   57.000,   23.791,   35.031,2,   35.032,2,  212.400,2,  212.400,2,    1.030,2,    0.120,2,    0.040,2, -999.000
           NA,HOT timeseries 1988to2019 27SEP2021,    154,  99,-999.0,      22,-999.0,20040420,1800,  22.7477, -158.0008,  4732,  109.900,   23.212,   35.266,2,   35.262,2,  211.300,2,  211.500,2,    1.000,2,    0.110,2,    0.080,2, -999.000
           NA,HOT timeseries 1988to2019 27SEP2021,    154,  99,-999.0,      21,-999.0,20040420,1800,  22.7477, -158.0008,  4732,  154.600,   21.647,   35.243,2,   35.242,2,  192.300,2,  198.200,2,    1.670,2, -999.000,3,    0.040,2, -999.000
           NA,HOT timeseries 1988to2019 27SEP2021,    154,  99,-999.0,      20,-999.0,20040420,1800,  22.7477, -158.0008,  4732,  191.800,   19.268,   35.041,2,   35.043,2,  192.600,2,  195.200,2,    2.500,2,    2.440,2, -999.000,4, -999.000
           NA,HOT timeseries 1988to2019 27SEP2021,    154,  99,-999.0,      19,-999.0,20040420,1800,  22.7477, -158.0008,  4732,  256.500,   14.979,   34.500,2,   34.503,2,  200.900,2,  200.200,2,    5.450,2,    6.490,2,    0.570,2, -999.000
           NA,HOT timeseries 1988to2019 27SEP2021,    154,  99,-999.0,      18,-999.0,20040420,1800,  22.7477, -158.0008,  4732,  305.500,   13.269,   34.340,2,   34.336,2,  206.200,2,  205.600,2,    8.180,2,    8.920,2,    0.710,2, -999.000
           NA,HOT timeseries 1988to2019 27SEP2021,    154,  99,-999.0,      17,-999.0,20040420,1800,  22.7477, -158.0008,  4732,  354.900,   11.365,   34.215,2,   34.218,2,  203.300,2,  203.200,2,   13.100,2,   12.890,2,    1.000,2, -999.000
           NA,HOT timeseries 1988to2019 27SEP2021,    154,  99,-999.0,      16,-999.0,20040420,1800,  22.7477, -158.0008,  4732,  395.500,   10.383,   34.166,2,   34.165,2,  192.500,2,  194.700,2,   17.300,2,   15.570,2,    1.170,2, -999.000
           NA,HOT timeseries 1988to2019 27SEP2021,    154,  99,-999.0,     102,-999.0,20040420,1800,  22.7477, -158.0008,  4732,  449.100,    9.035,   34.105,2,   34.106,2,  166.800,2,  167.800,2,   26.630,2,   20.670,2,    1.550,2, -999.000
           NA,HOT timeseries 1988to2019 27SEP2021,    154,  99,-999.0,     101,-999.0,20040420,1800,  22.7477, -158.0008,  4732,  513.700,    7.475,   34.079,2,   34.078,2,  119.300,2,  120.500,2,   43.320,2,   27.810,2,    2.070,2, -999.000
           NA,HOT timeseries 1988to2019 27SEP2021,    154,  99,-999.0,      42,-999.0,20040420,1800,  22.7477, -158.0008,  4732,  547.000,    6.853,   34.093,2,   34.095,2,   99.200,2,   97.300,2,   52.410,2,   30.880,2,    2.330,2, -999.000
           NA,HOT timeseries 1988to2019 27SEP2021,    154,  99,-999.0,      12,-999.0,20040420,1800,  22.7477, -158.0008,  4732,  588.800,    5.873,   34.080,2,   34.080,2,   72.800,2,   72.800,2,   65.180,2,   34.840,2,    2.630,2, -999.000
           NA,HOT timeseries 1988to2019 27SEP2021,    154,  99,-999.0,      39,-999.0,20040420,1800,  22.7477, -158.0008,  4732,  649.700,    5.440,   34.128,2,   34.127,2,   54.000,2,   53.300,2,   74.010,2,   37.430,2,    2.790,2, -999.000
           NA,HOT timeseries 1988to2019 27SEP2021,    154,  99,-999.0,      32,-999.0,20040420,1800,  22.7477, -158.0008,  4732,  707.600,    5.077,   34.208,2,   34.205,2,   42.200,2,   40.700,2, -999.000,3,   39.030,2,    2.900,2, -999.000
           NA,HOT timeseries 1988to2019 27SEP2021,    154,  99,-999.0,       3,-999.0,20040420,1800,  22.7477, -158.0008,  4732,  747.200,    4.857,   34.252,2,   34.251,2,   34.400,2,   33.400,2, -999.000,3,   40.000,2,    2.970,2, -999.000
           NA,HOT timeseries 1988to2019 27SEP2021,    154,  99,-999.0,      29,-999.0,20040420,1800,  22.7477, -158.0008,  4732,  787.100,    4.711,   34.293,2, -999.000,3, -999.000,3, -999.000,5, -999.000,3,   40.520,2,    3.020,2, -999.000
           NA,HOT timeseries 1988to2019 27SEP2021,    154,  99,-999.0,      28,-999.0,20040420,1800,  22.7477, -158.0008,  4732,  824.100,    4.698,   34.358,2,   34.357,2,   33.900,2,   33.000,2, -999.000,3,   40.600,2,    3.010,2, -999.000
           NA,HOT timeseries 1988to2019 27SEP2021,    154,  99,-999.0,      38,-999.0,20040420,1800,  22.7477, -158.0008,  4732,  898.300,    4.278,   34.401,2,   34.405,2,   36.400,2,   35.600,2, -999.000,3,   41.190,2,    3.020,2, -999.000
           NA,HOT timeseries 1988to2019 27SEP2021,    154,  99,-999.0,      36,-999.0,20040420,1800,  22.7477, -158.0008,  4732,  936.300,    4.163,   34.418,2,   34.418,2,   36.700,2,   36.300,2, -999.000,3,   41.090,2,    3.030,2, -999.000
           NA,HOT timeseries 1988to2019 27SEP2021,    154,  99,-999.0,      35,-999.0,20040420,1800,  22.7477, -158.0008,  4732,  974.200,    4.076,   34.433,2,   34.433,2,   38.500,2,   38.500,2, -999.000,3,   41.440,2,    3.000,2, -999.000
           NA,HOT timeseries 1988to2019 27SEP2021,    154,  99,-999.0,      34,-999.0,20040420,1800,  22.7477, -158.0008,  4732, 1014.000,    3.951,   34.457,2,   34.457,2,   41.500,2,   41.100,2, -999.000,3,   41.420,2,    2.990,2, -999.000
           NA,HOT timeseries 1988to2019 27SEP2021,    154,  99,-999.0,      20,-999.0,20040420,1800,  22.7477, -158.0008,  4732, 1202.600,    3.406,   34.532,2,   34.533,2,   54.700,2,   54.600,2,  120.890,2,   41.180,2,    3.020,2, -999.000
           NA,HOT timeseries 1988to2019 27SEP2021,    154,  99,-999.0,      19,-999.0,20040420,1800,  22.7477, -158.0008,  4732, 1406.200,    2.979,   34.560,2,   34.560,2,   63.400,2,   63.400,2,  131.930,2,   40.610,2,    2.960,2, -999.000
           NA,HOT timeseries 1988to2019 27SEP2021,    154,  99,-999.0,      18,-999.0,20040420,1800,  22.7477, -158.0008,  4732, 1597.400,    2.679,   34.580,2,   34.581,2,   71.100,2,   71.300,2,  141.040,2,   40.230,2,    2.930,2, -999.000
           NA,HOT timeseries 1988to2019 27SEP2021,    154,  99,-999.0,      17,-999.0,20040420,1800,  22.7477, -158.0008,  4732, 1797.900,    2.381,   34.596,2,   34.597,2,   78.200,2,   78.500,2,  146.210,2,   39.850,2,    2.890,2, -999.000
           NA,HOT timeseries 1988to2019 27SEP2021,    154,  99,-999.0,      16,-999.0,20040420,1800,  22.7477, -158.0008,  4732, 1998.500,    2.093,   34.618,2,   34.618,2,   88.100,2,   88.200,2,  152.620,2,   39.660,2,    2.840,2, -999.000
           NA,HOT timeseries 1988to2019 27SEP2021,    154,  99,-999.0,     102,-999.0,20040420,1800,  22.7477, -158.0008,  4732, 2199.900,    1.942,   34.633,2,   34.633,2,   96.900,2,   97.200,2,  157.540,2,   39.130,2,    2.780,2, -999.000
           NA,HOT timeseries 1988to2019 27SEP2021,    154,  99,-999.0,     101,-999.0,20040420,1800,  22.7477, -158.0008,  4732, 2398.000,    1.807,   34.644,2,   34.645,2,  102.900,2,  104.700,2,  157.260,2,   38.750,2,    2.750,2, -999.000
           NA,HOT timeseries 1988to2019 27SEP2021,    154,  99,-999.0,      42,-999.0,20040420,1800,  22.7477, -158.0008,  4732, 2597.300,    1.699,   34.654,2,   34.656,2,  111.500,2,  111.600,2,  159.320,2,   38.200,2,    2.740,2, -999.000
           NA,HOT timeseries 1988to2019 27SEP2021,    154,  99,-999.0,      12,-999.0,20040420,1800,  22.7477, -158.0008,  4732, 2796.200,    1.615,   34.663,2, -999.000,4, -999.000,3, -999.000,4,  158.430,2, -999.000,4, -999.000,4, -999.000
           NA,HOT timeseries 1988to2019 27SEP2021,    154,  99,-999.0,      39,-999.0,20040420,1800,  22.7477, -158.0008,  4732, 2998.300,    1.548,   34.669,2,   34.670,2,  124.400,2,  124.500,2,  159.140,2,   37.420,2,    2.660,2, -999.000
           NA,HOT timeseries 1988to2019 27SEP2021,    154,  99,-999.0,      32,-999.0,20040420,1800,  22.7477, -158.0008,  4732, 3197.800,    1.507,   34.675,2, -999.000,3, -999.000,3,  129.300,2, -999.000,3,   36.860,2,    2.630,2, -999.000
           NA,HOT timeseries 1988to2019 27SEP2021,    154,  99,-999.0,       3,-999.0,20040420,1800,  22.7477, -158.0008,  4732, 3399.100,    1.484,   34.679,2,   34.679,2,  135.800,2,  135.800,2,  155.210,2,   36.820,2,    2.600,2, -999.000
           NA,HOT timeseries 1988to2019 27SEP2021,    154,  99,-999.0,      29,-999.0,20040420,1800,  22.7477, -158.0008,  4732, 3599.500,    1.463,   34.682,2,   34.682,2,  140.700,2,  140.700,2,  154.030,2,   36.270,2,    2.560,2, -999.000
           NA,HOT timeseries 1988to2019 27SEP2021,    154,  99,-999.0,      28,-999.0,20040420,1800,  22.7477, -158.0008,  4732, 3798.800,    1.450,   34.685,2,   34.685,2,  145.300,2,  145.300,2,  151.460,2,   35.900,2,    2.540,2, -999.000
           NA,HOT timeseries 1988to2019 27SEP2021,    154,  99,-999.0,      13,-999.0,20040420,1800,  22.7477, -158.0008,  4732, 3998.700,    1.452,   34.687,2,   34.687,2,  147.900,2,  148.100,2,  150.520,2,   35.760,2,    2.530,2, -999.000
           NA,HOT timeseries 1988to2019 27SEP2021,    154,  99,-999.0,      38,-999.0,20040420,1800,  22.7477, -158.0008,  4732, 4198.800,    1.461,   34.688,2,   34.688,2,  150.100,2,  149.800,2,  150.240,2,   35.880,2,    2.500,2, -999.000
           NA,HOT timeseries 1988to2019 27SEP2021,    154,  99,-999.0,      36,-999.0,20040420,1800,  22.7477, -158.0008,  4732, 4399.100,    1.477,   34.689,2,   34.689,2,  151.100,2,  150.400,2,  149.790,2,   35.590,2,    2.490,2, -999.000
           NA,HOT timeseries 1988to2019 27SEP2021,    154,  99,-999.0,      35,-999.0,20040420,1800,  22.7477, -158.0008,  4732, 4499.200,    1.487,   34.689,2,   34.690,2,  151.600,2,  151.200,2,  149.710,2,   35.660,2,    2.480,2, -999.000
           NA,HOT timeseries 1988to2019 27SEP2021,    154,  99,-999.0,      34,-999.0,20040420,1800,  22.7477, -158.0008,  4732, 4599.500,    1.498,   34.689,2,   34.689,2,  151.600,2,  152.000,2,  149.700,2,   35.580,2,    2.500,2, -999.000
           NA,HOT timeseries 1988to2019 27SEP2021,    154,  99,-999.0,      33,-999.0,20040420,1800,  22.7477, -158.0008,  4732, 4799.600,    1.513,   34.690,2,   34.690,2,  152.800,2,  153.200,2,  148.230,2,   35.460,2,    2.460,2, -999.000