BOTTLE,20214727JOAExport
EXPOCODE,SECT_ID,STNNBR,CASTNO,SAMPNO,BTLNBR,BTLNBR_FLAG_W,DATE,TIME,LATITUDE,LONGITUDE,DEPTH,CTDPRS,CTDTMP,CTDSAL,CTDSAL_FLAG_W,SALNTY,SALNTY_FLAG_W,CTDOXY,CTDOXY_FLAG_W,OXYGEN,OXYGEN_FLAG_W,SILCAT,SILCAT_FLAG_W,NINI,NINI_FLAG_W,PHSPHT,PHSPHT_FLAG_W,REVP
,,,,,,,,,,,,DB,IPTS-68,PSS-78,,PSS-78,,UMOL/KG,,UMOL/KG,,UMOL/KG,,UMOL/KG,,UMOL/KG,,DBAR
           NA,HOT timeseries 1988to2019 27SEP2021,    160,  99,-999.0,      31,-999.0,20041030,2100,  22.7520, -157.9855,  4714,    4.600,   26.075,   35.230,2,   35.225,2,  203.600,2,  203.500,2,    0.770,2,   -0.010,2,    0.010,2, -999.000
           NA,HOT timeseries 1988to2019 27SEP2021,    160,  99,-999.0,      30,-999.0,20041030,2100,  22.7520, -157.9855,  4714,   64.600,   25.164,   35.326,2,   35.324,2,  216.600,2,  215.900,2,    0.970,2,    0.020,2,    0.010,2, -999.000
           NA,HOT timeseries 1988to2019 27SEP2021,    160,  99,-999.0,      22,-999.0,20041030,2100,  22.7520, -157.9855,  4714,   92.700,   22.138,   35.345,2,   35.347,2,  218.300,2,  219.200,2,    1.320,2,    0.030,2,    0.020,2, -999.000
           NA,HOT timeseries 1988to2019 27SEP2021,    160,  99,-999.0,      21,-999.0,20041030,2100,  22.7520, -157.9855,  4714,  152.500,   19.713,   35.112,2,   35.118,2,  201.000,2,  203.100,2,    2.110,2,    1.270,2, -999.000,3, -999.000
           NA,HOT timeseries 1988to2019 27SEP2021,    160,  99,-999.0,      20,-999.0,20041030,2100,  22.7520, -157.9855,  4714,  190.600,   17.791,   34.848,2,   34.858,2,  202.000,2,  201.900,2,    3.130,2,    2.840,2, -999.000,3, -999.000
           NA,HOT timeseries 1988to2019 27SEP2021,    160,  99,-999.0,      19,-999.0,20041030,2100,  22.7520, -157.9855,  4714,  226.300,   15.785,   34.554,2,   34.560,2,  197.300,2,  197.400,2,    4.950,2,    5.280,2,    0.480,2, -999.000
           NA,HOT timeseries 1988to2019 27SEP2021,    160,  99,-999.0,      18,-999.0,20041030,2100,  22.7520, -157.9855,  4714,  264.400,   13.512,   34.300,2,   34.314,2,  194.300,2,  193.600,2,    7.910,2,    8.820,2,    0.730,2, -999.000
           NA,HOT timeseries 1988to2019 27SEP2021,    160,  99,-999.0,      17,-999.0,20041030,2100,  22.7520, -157.9855,  4714,  302.000,   11.611,   34.190,2,   34.191,2,  194.100,2,  193.100,2,   13.130,2,   13.080,2,    1.020,2, -999.000
           NA,HOT timeseries 1988to2019 27SEP2021,    160,  99,-999.0,      16,-999.0,20041030,2100,  22.7520, -157.9855,  4714,  334.500,   10.355,   34.162,2,   34.169,2,  188.200,2,  178.700,2,   18.800,2,   17.130,2,    1.290,2, -999.000
           NA,HOT timeseries 1988to2019 27SEP2021,    160,  99,-999.0,     101,-999.0,20041030,2100,  22.7520, -157.9855,  4714,  431.200,    8.105,   34.076,2,   34.077,2,  154.000,2,  145.400,2,   35.800,2,   25.060,2,    1.820,2, -999.000
           NA,HOT timeseries 1988to2019 27SEP2021,    160,  99,-999.0,      42,-999.0,20041030,2100,  22.7520, -157.9855,  4714,  474.400,    7.337,   34.039,2,   34.038,2,  134.500,2,  133.500,2,   42.830,2,   27.860,2,    2.010,2, -999.000
           NA,HOT timeseries 1988to2019 27SEP2021,    160,  99,-999.0,      12,-999.0,20041030,2100,  22.7520, -157.9855,  4714,  518.900,    6.646,   34.026,2,   34.028,2,  113.400,2,  110.900,2,   52.110,2,   31.170,2,    2.250,2, -999.000
           NA,HOT timeseries 1988to2019 27SEP2021,    160,  99,-999.0,      39,-999.0,20041030,2100,  22.7520, -157.9855,  4714,  565.600,    5.837,   34.057,2,   34.057,2,   74.100,2,   74.900,2,   65.920,2,   35.570,2,    2.590,2, -999.000
           NA,HOT timeseries 1988to2019 27SEP2021,    160,  99,-999.0,      32,-999.0,20041030,2100,  22.7520, -157.9855,  4714,  602.800,    5.357,   34.113,2,   34.116,2,   47.300,2,   49.100,2,   77.250,2,   38.530,2,    2.810,2, -999.000
           NA,HOT timeseries 1988to2019 27SEP2021,    160,  99,-999.0,       3,-999.0,20041030,2100,  22.7520, -157.9855,  4714,  635.600,    5.097,   34.167,2,   34.166,2,   35.300,2,   34.300,2,   84.050,2,   40.110,2,    2.950,2, -999.000
           NA,HOT timeseries 1988to2019 27SEP2021,    160,  99,-999.0,      29,-999.0,20041030,2100,  22.7520, -157.9855,  4714,  666.800,    4.943,   34.204,2,   34.204,2,   28.800,2,   29.100,2,   88.130,2,   40.660,2,    3.000,2, -999.000
           NA,HOT timeseries 1988to2019 27SEP2021,    160,  99,-999.0,      28,-999.0,20041030,2100,  22.7520, -157.9855,  4714,  705.200,    4.772,   34.248,2,   34.246,2,   24.700,2,   24.600,2,   93.110,2,   41.350,2,    3.060,2, -999.000
           NA,HOT timeseries 1988to2019 27SEP2021,    160,  99,-999.0,      13,-999.0,20041030,2100,  22.7520, -157.9855,  4714,  745.700,    4.679,   34.286,2,   34.288,2,   24.400,2,   23.900,2,   94.700,2,   41.630,2,    3.060,2, -999.000
           NA,HOT timeseries 1988to2019 27SEP2021,    160,  99,-999.0,      38,-999.0,20041030,2100,  22.7520, -157.9855,  4714,  794.200,    4.575,   34.322,2,   34.321,2,   24.700,2,   24.400,2,   97.440,2,   41.820,2,    3.080,2, -999.000
           NA,HOT timeseries 1988to2019 27SEP2021,    160,  99,-999.0,      36,-999.0,20041030,2100,  22.7520, -157.9855,  4714,  845.200,    4.426,   34.384,2,   34.383,2,   27.900,2,   27.000,2,  101.740,2,   41.950,2,    3.100,2, -999.000
           NA,HOT timeseries 1988to2019 27SEP2021,    160,  99,-999.0,      35,-999.0,20041030,2100,  22.7520, -157.9855,  4714,  903.100,    4.272,   34.425,2,   34.424,2,   31.800,2,   32.000,2,  104.910,2,   41.930,2,    3.100,2, -999.000
           NA,HOT timeseries 1988to2019 27SEP2021,    160,  99,-999.0,      34,-999.0,20041030,2100,  22.7520, -157.9855,  4714,  960.600,    4.038,   34.474,2,   34.477,2,   39.500,2,   38.700,2, -999.000,3,   41.700,2,    3.040,2, -999.000
           NA,HOT timeseries 1988to2019 27SEP2021,    160,  99,-999.0,      33,-999.0,20041030,2100,  22.7520, -157.9855,  4714, 1022.200,    3.850,   34.498,2,   34.498,2,   43.000,2,   43.200,2,  112.290,2,   41.630,2,    3.030,2, -999.000
           NA,HOT timeseries 1988to2019 27SEP2021,    160,  99,-999.0,      20,-999.0,20041030,2100,  22.7520, -157.9855,  4714, 1199.500,    3.517,   34.528,2,   34.528,2,   50.200,2,   50.300,2,  119.790,2,   41.860,2,    3.040,2, -999.000
           NA,HOT timeseries 1988to2019 27SEP2021,    160,  99,-999.0,      19,-999.0,20041030,2100,  22.7520, -157.9855,  4714, 1400.600,    3.084,   34.553,2,   34.553,2,   61.600,2,   61.400,2,  128.620,2,   41.300,2,    3.000,2, -999.000
           NA,HOT timeseries 1988to2019 27SEP2021,    160,  99,-999.0,      18,-999.0,20041030,2100,  22.7520, -157.9855,  4714, 1600.500,    2.705,   34.580,2,   34.579,2,   70.500,2,   71.000,2,  138.720,2,   40.870,2,    2.950,2, -999.000
           NA,HOT timeseries 1988to2019 27SEP2021,    160,  99,-999.0,      17,-999.0,20041030,2100,  22.7520, -157.9855,  4714, 1801.000,    2.392,   34.601,2,   34.601,2,   77.600,2,   79.300,2,  143.070,2,   40.440,2,    2.910,2, -999.000
           NA,HOT timeseries 1988to2019 27SEP2021,    160,  99,-999.0,      16,-999.0,20041030,2100,  22.7520, -157.9855,  4714, 2001.800,    2.098,   34.619,2,   34.619,2,   86.200,2,   87.100,2,  153.050,2,   39.970,2,    2.850,2, -999.000
           NA,HOT timeseries 1988to2019 27SEP2021,    160,  99,-999.0,     102,-999.0,20041030,2100,  22.7520, -157.9855,  4714, 2200.300,    1.895,   34.635,2,   34.635,2,   95.100,2,   96.600,2,  157.450,2,   39.450,2,    2.790,2, -999.000
           NA,HOT timeseries 1988to2019 27SEP2021,    160,  99,-999.0,     101,-999.0,20041030,2100,  22.7520, -157.9855,  4714, 2401.300,    1.757,   34.647,2,   34.647,2,  104.300,2,  104.600,2,  161.390,2,   39.020,2,    2.760,2, -999.000
           NA,HOT timeseries 1988to2019 27SEP2021,    160,  99,-999.0,      42,-999.0,20041030,2100,  22.7520, -157.9855,  4714, 2600.400,    1.655,   34.657,2,   34.658,2,  113.300,2,  113.400,2,  161.000,2,   38.310,2,    2.730,2, -999.000
           NA,HOT timeseries 1988to2019 27SEP2021,    160,  99,-999.0,      12,-999.0,20041030,2100,  22.7520, -157.9855,  4714, 2800.800,    1.586,   34.664,2,   34.665,2,  119.700,2,  119.700,2,  159.590,2,   37.960,2,    2.680,2, -999.000
           NA,HOT timeseries 1988to2019 27SEP2021,    160,  99,-999.0,      39,-999.0,20041030,2100,  22.7520, -157.9855,  4714, 2999.700,    1.546,   34.669,2,   34.671,2,  125.400,2,  125.300,2,  159.930,2,   37.640,2,    2.650,2, -999.000
           NA,HOT timeseries 1988to2019 27SEP2021,    160,  99,-999.0,      32,-999.0,20041030,2100,  22.7520, -157.9855,  4714, 3199.300,    1.508,   34.674,2, -999.000,5,  131.200,2,  131.900,2,  157.540,2,   37.180,2,    2.640,2, -999.000
           NA,HOT timeseries 1988to2019 27SEP2021,    160,  99,-999.0,       3,-999.0,20041030,2100,  22.7520, -157.9855,  4714, 3399.600,    1.492,   34.678,2,   34.678,2,  135.000,2,  135.000,2,  156.750,2,   36.960,2,    2.610,2, -999.000
           NA,HOT timeseries 1988to2019 27SEP2021,    160,  99,-999.0,      29,-999.0,20041030,2100,  22.7520, -157.9855,  4714, 3599.500,    1.472,   34.681,2,   34.681,2,  140.400,2,  140.300,2,  155.560,2,   36.680,2,    2.590,2, -999.000
           NA,HOT timeseries 1988to2019 27SEP2021,    160,  99,-999.0,      28,-999.0,20041030,2100,  22.7520, -157.9855,  4714, 3800.100,    1.464,   34.684,2,   34.684,2,  143.900,2,  143.500,2,  154.130,2,   36.530,2,    2.550,2, -999.000
           NA,HOT timeseries 1988to2019 27SEP2021,    160,  99,-999.0,      13,-999.0,20041030,2100,  22.7520, -157.9855,  4714, 3999.800,    1.463,   34.686,2,   34.686,2,  147.200,2,  146.800,2,  152.930,2,   36.350,2,    2.530,2, -999.000
           NA,HOT timeseries 1988to2019 27SEP2021,    160,  99,-999.0,      38,-999.0,20041030,2100,  22.7520, -157.9855,  4714, 4199.300,    1.465,   34.688,2,   34.688,2,  150.000,2,  149.600,2,  150.780,2,   36.170,2,    2.540,2, -999.000
           NA,HOT timeseries 1988to2019 27SEP2021,    160,  99,-999.0,      36,-999.0,20041030,2100,  22.7520, -157.9855,  4714, 4399.800,    1.477,   34.689,2,   34.688,2,  151.800,2,  151.400,2,  150.000,2,   36.030,2,    2.520,2, -999.000
           NA,HOT timeseries 1988to2019 27SEP2021,    160,  99,-999.0,      35,-999.0,20041030,2100,  22.7520, -157.9855,  4714, 4501.000,    1.484,   34.689,2,   34.691,2,  152.500,2,  152.200,2,  147.750,2,   35.950,2,    2.520,2, -999.000
           NA,HOT timeseries 1988to2019 27SEP2021,    160,  99,-999.0,      34,-999.0,20041030,2100,  22.7520, -157.9855,  4714, 4601.200,    1.490,   34.689,2,   34.689,2,  153.100,2,  153.100,2,  150.490,2,   35.810,2,    2.520,2, -999.000
           NA,HOT timeseries 1988to2019 27SEP2021,    160,  99,-999.0,      33,-999.0,20041030,2100,  22.7520, -157.9855,  4714, 4808.100,    1.506,   34.690,2,   34.690,2,  154.900,2,  154.800,2,  146.910,2,   35.600,2,    2.510,2, -999.000