BOTTLE,20214727JOAExport
EXPOCODE,SECT_ID,STNNBR,CASTNO,SAMPNO,BTLNBR,BTLNBR_FLAG_W,DATE,TIME,LATITUDE,LONGITUDE,DEPTH,CTDPRS,CTDTMP,CTDSAL,CTDSAL_FLAG_W,SALNTY,SALNTY_FLAG_W,CTDOXY,CTDOXY_FLAG_W,OXYGEN,OXYGEN_FLAG_W,SILCAT,SILCAT_FLAG_W,NINI,NINI_FLAG_W,PHSPHT,PHSPHT_FLAG_W,REVP
,,,,,,,,,,,,DB,IPTS-68,PSS-78,,PSS-78,,UMOL/KG,,UMOL/KG,,UMOL/KG,,UMOL/KG,,UMOL/KG,,DBAR
           NA,HOT timeseries 1988to2019 27SEP2021,    230,  99,-999.0,    8024,-999.0,20120914,1540,  22.7495, -157.9992,  4739,    5.800,   25.480,   35.019,2,   35.019,2,  205.700,2,  208.400,2,    1.300,2,    0.020,2,    0.170,2, -999.000
           NA,HOT timeseries 1988to2019 27SEP2021,    230,  99,-999.0,    8024,-999.0,20120914,1540,  22.7495, -157.9992,  4739,   10.300,   25.547,   35.021,2,   35.021,2,  207.100,2,  206.900,2,    1.150,2,    0.030,2,    0.170,2, -999.000
           NA,HOT timeseries 1988to2019 27SEP2021,    230,  99,-999.0,    8023,-999.0,20120914,1540,  22.7495, -157.9992,  4739,   45.100,   25.496,   35.039,2, -999.000,3, -999.000,3,  207.800,2,    1.140,2,    0.030,2,    0.160,2, -999.000
           NA,HOT timeseries 1988to2019 27SEP2021,    230,  99,-999.0,    8022,-999.0,20120914,1540,  22.7495, -157.9992,  4739,   78.600,   24.057,   35.290,2, -999.000,3, -999.000,3,  220.000,2,    1.140,2,    0.050,2,    0.100,2, -999.000
           NA,HOT timeseries 1988to2019 27SEP2021,    230,  99,-999.0,    8021,-999.0,20120914,1540,  22.7495, -157.9992,  4739,  118.800,   22.007,   35.222,2,   35.233,2,  214.800,2,  215.100,2,    1.290,2,    0.020,2,    0.140,2, -999.000
           NA,HOT timeseries 1988to2019 27SEP2021,    230,  99,-999.0,    8020,-999.0,20120914,1540,  22.7495, -157.9992,  4739,  150.900,   21.476,   35.337,2,   35.333,2,  215.900,2,  215.100,2,    1.280,2,    0.040,2,    0.110,2, -999.000
           NA,HOT timeseries 1988to2019 27SEP2021,    230,  99,-999.0,    8019,-999.0,20120914,1540,  22.7495, -157.9992,  4739,  204.400,   20.069,   35.206,2,   35.190,2,  202.300,2,  203.200,2,    1.830,2,    1.270,2,    0.160,2, -999.000
           NA,HOT timeseries 1988to2019 27SEP2021,    230,  99,-999.0,    8018,-999.0,20120914,1540,  22.7495, -157.9992,  4739,  259.600,   15.185,   34.368,2,   34.362,2,  187.500,2,  188.600,2,    5.780,2,    6.620,2,    0.570,2, -999.000
           NA,HOT timeseries 1988to2019 27SEP2021,    230,  99,-999.0,    8017,-999.0,20120914,1540,  22.7495, -157.9992,  4739,  323.900,   11.228,   34.095,2,   34.096,2,  182.100,2,  182.500,2,   14.490,2,   14.680,2,    1.100,2, -999.000
           NA,HOT timeseries 1988to2019 27SEP2021,    230,  99,-999.0,    8016,-999.0,20120914,1540,  22.7495, -157.9992,  4739,  355.500,   10.339,   34.092,2,   34.092,2,  180.600,2,  177.900,2,   18.960,2,   17.390,2,    1.280,2, -999.000
           NA,HOT timeseries 1988to2019 27SEP2021,    230,  99,-999.0,    8015,-999.0,20120914,1540,  22.7495, -157.9992,  4739,  406.000,    9.126,   34.113,2,   34.112,2,  142.200,2,  141.800,2,   28.730,2,   22.920,2,    1.710,2, -999.000
           NA,HOT timeseries 1988to2019 27SEP2021,    230,  99,-999.0,    8014,-999.0,20120914,1540,  22.7495, -157.9992,  4739,  445.200,    8.276,   34.084,2,   34.085,2,  132.100,2,  127.400,2,   35.870,2,   26.250,2,    1.930,2, -999.000
           NA,HOT timeseries 1988to2019 27SEP2021,    230,  99,-999.0,    8025,-999.0,20120914,1540,  22.7495, -157.9992,  4739,  484.600,    7.514,   34.064,2,   34.064,2,  114.800,2,  110.800,2,   44.070,2,   29.410,2,    2.150,2, -999.000
           NA,HOT timeseries 1988to2019 27SEP2021,    230,  99,-999.0,    8012,-999.0,20120914,1540,  22.7495, -157.9992,  4739,  520.500,    6.780,   34.062,2,   34.067,2,   92.900,2,   89.600,2,   53.080,2,   32.190,2,    2.340,2, -999.000
           NA,HOT timeseries 1988to2019 27SEP2021,    230,  99,-999.0,    8011,-999.0,20120914,1540,  22.7495, -157.9992,  4739,  572.900,    5.978,   34.097,2,   34.098,2,   61.900,2,   61.700,2,   66.090,2,   36.050,2,    2.630,2, -999.000
           NA,HOT timeseries 1988to2019 27SEP2021,    230,  99,-999.0,    8009,-999.0,20120914,1540,  22.7495, -157.9992,  4739,  673.400,    4.853,   34.206,2,   34.208,2,   28.500,2,   27.800,2,   89.700,2,   40.900,2,    2.980,2, -999.000
           NA,HOT timeseries 1988to2019 27SEP2021,    230,  99,-999.0,    8008,-999.0,20120914,1540,  22.7495, -157.9992,  4739,  716.300,    4.787,   34.282,2,   34.286,2,   24.400,2,   23.500,2,   92.800,2,   41.460,2,    3.030,2, -999.000
           NA,HOT timeseries 1988to2019 27SEP2021,    230,  99,-999.0,    8026,-999.0,20120914,1540,  22.7495, -157.9992,  4739,  758.400,    4.699,   34.341,2,   34.339,2,   25.600,2,   25.200,2,   94.870,2,   41.380,2,    3.030,2, -999.000
           NA,HOT timeseries 1988to2019 27SEP2021,    230,  99,-999.0,    8006,-999.0,20120914,1540,  22.7495, -157.9992,  4739,  792.000,    4.606,   34.369,2,   34.369,2,   26.400,2,   26.100,2,   97.220,2,   41.500,2,    3.030,2, -999.000
           NA,HOT timeseries 1988to2019 27SEP2021,    230,  99,-999.0,    8005,-999.0,20120914,1540,  22.7495, -157.9992,  4739,  824.900,    4.486,   34.406,2,   34.406,2,   30.000,2,   29.800,2,   99.500,2,   41.450,2,    3.030,2, -999.000
           NA,HOT timeseries 1988to2019 27SEP2021,    230,  99,-999.0,    8004,-999.0,20120914,1540,  22.7495, -157.9992,  4739,  869.100,    4.337,   34.438,2,   34.438,2,   34.100,2,   33.500,2,  102.300,2,   41.930,2,    3.030,2, -999.000
           NA,HOT timeseries 1988to2019 27SEP2021,    230,  99,-999.0,    8003,-999.0,20120914,1540,  22.7495, -157.9992,  4739,  912.900,    4.225,   34.451,2,   34.452,2,   34.800,2,   35.000,2,  104.450,2,   41.880,2,    3.030,2, -999.000
           NA,HOT timeseries 1988to2019 27SEP2021,    230,  99,-999.0,    8002,-999.0,20120914,1540,  22.7495, -157.9992,  4739,  956.400,    4.162,   34.465,2,   34.467,2,   37.700,2,   37.600,2,  105.550,2,   41.740,2,    3.010,2, -999.000
           NA,HOT timeseries 1988to2019 27SEP2021,    230,  99,-999.0,    8001,-999.0,20120914,1540,  22.7495, -157.9992,  4739, 1000.100,    4.032,   34.481,2,   34.484,2,   39.900,2,   40.600,2,  108.220,2,   41.720,2,    3.010,2, -999.000
           NA,HOT timeseries 1988to2019 27SEP2021,    230,  99,-999.0,    8020,-999.0,20120914,1540,  22.7495, -157.9992,  4739, 1200.200,    3.541,   34.529,2,   34.529,2,   49.000,2,   49.400,2,  118.450,2,   41.270,2,    2.990,2, -999.000
           NA,HOT timeseries 1988to2019 27SEP2021,    230,  99,-999.0,    8019,-999.0,20120914,1540,  22.7495, -157.9992,  4739, 1400.000,    3.101,   34.560,2,   34.560,2,   57.900,2,   58.200,2,  128.060,2,   41.100,2,    2.960,2, -999.000
           NA,HOT timeseries 1988to2019 27SEP2021,    230,  99,-999.0,    8018,-999.0,20120914,1540,  22.7495, -157.9992,  4739, 1600.400,    2.735,   34.583,2,   34.583,2,   66.800,2,   67.600,2,  136.600,2,   40.790,2,    2.930,2, -999.000
           NA,HOT timeseries 1988to2019 27SEP2021,    230,  99,-999.0,    8017,-999.0,20120914,1540,  22.7495, -157.9992,  4739, 1799.900,    2.442,   34.600,2,   34.601,2,   76.800,2,   77.200,2,  141.940,2,   40.030,2,    2.870,2, -999.000
           NA,HOT timeseries 1988to2019 27SEP2021,    230,  99,-999.0,    8016,-999.0,20120914,1540,  22.7495, -157.9992,  4739, 2000.200,    2.167,   34.618,2,   34.618,2,   85.600,2,   86.200,2,  148.140,2,   39.530,2,    2.820,2, -999.000
           NA,HOT timeseries 1988to2019 27SEP2021,    230,  99,-999.0,    8015,-999.0,20120914,1540,  22.7495, -157.9992,  4739, 2200.600,    1.973,   34.632,2,   34.632,2,   94.300,2,   95.600,2,  152.180,2,   39.270,2,    2.790,2, -999.000
           NA,HOT timeseries 1988to2019 27SEP2021,    230,  99,-999.0,    8014,-999.0,20120914,1540,  22.7495, -157.9992,  4739, 2400.400,    1.821,   34.644,2,   34.644,2,  102.000,2,  102.800,2,  155.030,2,   38.800,2,    2.750,2, -999.000
           NA,HOT timeseries 1988to2019 27SEP2021,    230,  99,-999.0,    8025,-999.0,20120914,1540,  22.7495, -157.9992,  4739, 2600.300,    1.727,   34.652,2, -999.000,5,  107.200,2,  107.700,2,  157.330,2,   38.470,2,    2.720,2, -999.000
           NA,HOT timeseries 1988to2019 27SEP2021,    230,  99,-999.0,    8012,-999.0,20120914,1540,  22.7495, -157.9992,  4739, 2800.300,    1.638,   34.661,2,   34.661,2,  115.000,2,  115.700,2,  157.930,2,   37.860,2,    2.680,2, -999.000
           NA,HOT timeseries 1988to2019 27SEP2021,    230,  99,-999.0,    8011,-999.0,20120914,1540,  22.7495, -157.9992,  4739, 3000.400,    1.581,   34.668,2,   34.667,2,  120.300,2,  120.700,2,  159.370,2,   37.530,2,    2.640,2, -999.000
           NA,HOT timeseries 1988to2019 27SEP2021,    230,  99,-999.0,    8010,-999.0,20120914,1540,  22.7495, -157.9992,  4739, 3199.900,    1.539,   34.673,2,   34.672,2,  126.300,2,  126.700,2,  158.410,2,   37.230,2,    2.610,2, -999.000
           NA,HOT timeseries 1988to2019 27SEP2021,    230,  99,-999.0,    8009,-999.0,20120914,1540,  22.7495, -157.9992,  4739, 3400.200,    1.504,   34.677,2,   34.676,2,  132.800,2,  133.500,2,  156.010,2,   36.800,2,    2.570,2, -999.000
           NA,HOT timeseries 1988to2019 27SEP2021,    230,  99,-999.0,    8008,-999.0,20120914,1540,  22.7495, -157.9992,  4739, 3400.200,    1.504,   34.677,2,   34.677,2,  132.800,2,  133.000,2,  156.150,2,   36.820,2,    2.590,2, -999.000
           NA,HOT timeseries 1988to2019 27SEP2021,    230,  99,-999.0,    8026,-999.0,20120914,1540,  22.7495, -157.9992,  4739, 3800.300,    1.470,   34.683,2,   34.682,2,  142.900,2,  143.300,2,  152.860,2,   36.020,2,    2.530,2, -999.000
           NA,HOT timeseries 1988to2019 27SEP2021,    230,  99,-999.0,    8006,-999.0,20120914,1540,  22.7495, -157.9992,  4739, 3800.300,    1.470,   34.683,2,   34.683,2,  142.900,2,  142.700,2,  152.790,2,   36.020,2,    2.530,2, -999.000
           NA,HOT timeseries 1988to2019 27SEP2021,    230,  99,-999.0,    8005,-999.0,20120914,1540,  22.7495, -157.9992,  4739, 4200.500,    1.468,   34.687,2,   34.687,2,  149.900,2,  149.400,2,  149.220,2,   35.510,2,    2.480,2, -999.000
           NA,HOT timeseries 1988to2019 27SEP2021,    230,  99,-999.0,    8004,-999.0,20120914,1540,  22.7495, -157.9992,  4739, 4399.800,    1.479,   34.688,2,   34.688,2,  151.700,2,  150.700,2,  148.080,2,   35.460,2,    2.480,2, -999.000
           NA,HOT timeseries 1988to2019 27SEP2021,    230,  99,-999.0,    8003,-999.0,20120914,1540,  22.7495, -157.9992,  4739, 4499.600,    1.488,   34.689,2,   34.688,2,  152.400,2,  151.500,2,  147.560,2,   35.400,2,    2.480,2, -999.000
           NA,HOT timeseries 1988to2019 27SEP2021,    230,  99,-999.0,    8002,-999.0,20120914,1540,  22.7495, -157.9992,  4739, 4599.900,    1.497,   34.689,2,   34.689,2,  152.600,2,  152.600,2,  147.680,2,   35.270,2,    2.460,2, -999.000
           NA,HOT timeseries 1988to2019 27SEP2021,    230,  99,-999.0,    8001,-999.0,20120914,1540,  22.7495, -157.9992,  4739, 4807.500,    1.517,   34.689,2,   34.689,2,  153.400,2,  153.100,2,  147.300,2,   35.120,2,    2.430,2, -999.000