BOTTLE,20214727JOAExport
EXPOCODE,SECT_ID,STNNBR,CASTNO,SAMPNO,BTLNBR,BTLNBR_FLAG_W,DATE,TIME,LATITUDE,LONGITUDE,DEPTH,CTDPRS,CTDTMP,CTDSAL,CTDSAL_FLAG_W,SALNTY,SALNTY_FLAG_W,CTDOXY,CTDOXY_FLAG_W,OXYGEN,OXYGEN_FLAG_W,SILCAT,SILCAT_FLAG_W,NINI,NINI_FLAG_W,PHSPHT,PHSPHT_FLAG_W,REVP
,,,,,,,,,,,,DB,IPTS-68,PSS-78,,PSS-78,,UMOL/KG,,UMOL/KG,,UMOL/KG,,UMOL/KG,,UMOL/KG,,DBAR
           NA,HOT timeseries 1988to2019 27SEP2021,     90,  99,-999.0,      31,-999.0,19980616,1946,  22.7520, -157.9987,  4714,    5.000,   24.170,   35.282,2,   35.285,2,  213.500,2,  212.400,2,    1.440,2,    0.010,2,    0.070,2, -999.000
           NA,HOT timeseries 1988to2019 27SEP2021,     90,  99,-999.0,      31,-999.0,19980616,1946,  22.7520, -157.9987,  4714,    5.200,   24.132,   35.275,2, -999.000,3, -999.000,3,  212.900,2,    1.460,2,    0.010,2,    0.120,2, -999.000
           NA,HOT timeseries 1988to2019 27SEP2021,     90,  99,-999.0,      30,-999.0,19980616,1946,  22.7520, -157.9987,  4714,   47.800,   24.004,   35.276,2, -999.000,3, -999.000,3,  213.200,2, -999.000,3,    0.000,2,    0.070,2, -999.000
           NA,HOT timeseries 1988to2019 27SEP2021,     90,  99,-999.0,      30,-999.0,19980616,1946,  22.7520, -157.9987,  4714,   77.100,   23.117,   35.276,2,   35.278,2,  214.500,2,  217.200,2,    1.500,2,    0.010,2,    0.060,2, -999.000
           NA,HOT timeseries 1988to2019 27SEP2021,     90,  99,-999.0,      22,-999.0,19980616,1946,  22.7520, -157.9987,  4714,   84.800,   22.867,   35.329,2,   35.333,2,  220.500,2,  219.100,2,    2.160,2,    0.000,2,    0.050,2, -999.000
           NA,HOT timeseries 1988to2019 27SEP2021,     90,  99,-999.0,      21,-999.0,19980616,1946,  22.7520, -157.9987,  4714,  115.200,   22.191,   35.284,2, -999.000,3, -999.000,3,  216.700,2,    1.440,2,    0.000,2,    0.050,2, -999.000
           NA,HOT timeseries 1988to2019 27SEP2021,     90,  99,-999.0,      20,-999.0,19980616,1946,  22.7520, -157.9987,  4714,  174.800,   19.622,   35.096,2,   35.094,2,  201.100,2,  202.000,2,    2.660,2,    1.430,2,    0.160,2, -999.000
           NA,HOT timeseries 1988to2019 27SEP2021,     90,  99,-999.0,      19,-999.0,19980616,1946,  22.7520, -157.9987,  4714,  243.900,   16.245,   34.655,2,   34.655,2,  192.800,2,  197.500,2,    5.280,2,    4.370,2,    0.370,2, -999.000
           NA,HOT timeseries 1988to2019 27SEP2021,     90,  99,-999.0,      18,-999.0,19980616,1946,  22.7520, -157.9987,  4714,  322.900,   12.387,   34.263,2,   34.261,2,  194.400,2,  196.400,2,   10.470,2,   10.640,2,    0.790,2, -999.000
           NA,HOT timeseries 1988to2019 27SEP2021,     90,  99,-999.0,      17,-999.0,19980616,1946,  22.7520, -157.9987,  4714,  362.300,   10.524,   34.138,2,   34.140,2,  199.900,2,  197.500,2,   16.060,2,   14.600,2,    1.040,2, -999.000
           NA,HOT timeseries 1988to2019 27SEP2021,     90,  99,-999.0,      16,-999.0,19980616,1946,  22.7520, -157.9987,  4714,  400.300,    9.363,   34.078,2,   34.079,2,  181.400,2,  182.500,2,   22.550,2,   18.510,2,    1.290,2, -999.000
           NA,HOT timeseries 1988to2019 27SEP2021,     90,  99,-999.0,      15,-999.0,19980616,1946,  22.7520, -157.9987,  4714,  423.800,    9.067,   34.069,2,   34.069,2,  181.300,2,  176.600,2,   24.650,2,   19.720,2,    1.390,2, -999.000
           NA,HOT timeseries 1988to2019 27SEP2021,     90,  99,-999.0,      14,-999.0,19980616,1946,  22.7520, -157.9987,  4714,  449.800,    8.329,   34.057,2,   34.060,2,  160.800,2,  170.400,2,   31.630,2,   22.680,2,    1.580,2, -999.000
           NA,HOT timeseries 1988to2019 27SEP2021,     90,  99,-999.0,      22,-999.0,19980616,1946,  22.7520, -157.9987,  4714,  479.100,    7.414,   34.057,2,   34.060,2,  125.900,2,  123.800,2,   42.900,2,   27.050,2,    1.940,2, -999.000
           NA,HOT timeseries 1988to2019 27SEP2021,     90,  99,-999.0,      12,-999.0,19980616,1946,  22.7520, -157.9987,  4714,  515.000,    6.837,   34.031,2,   34.032,2,  114.400,2,  119.200,2,   49.290,2,   29.840,2,    2.110,2, -999.000
           NA,HOT timeseries 1988to2019 27SEP2021,     90,  99,-999.0,      11,-999.0,19980616,1946,  22.7520, -157.9987,  4714,  529.900,    6.696,   34.057,2,   34.056,2,  105.900,2,  103.600,2,   53.500,2,   31.370,2,    2.250,2, -999.000
           NA,HOT timeseries 1988to2019 27SEP2021,     90,  99,-999.0,      32,-999.0,19980616,1946,  22.7520, -157.9987,  4714,  572.400,    6.204,   34.118,2,   34.118,2,   61.300,2,   62.300,2,   63.680,2,   35.610,2,    2.590,2, -999.000
           NA,HOT timeseries 1988to2019 27SEP2021,     90,  99,-999.0,       3,-999.0,19980616,1946,  22.7520, -157.9987,  4714,  607.800,    5.744,   34.184,2,   34.185,2,   34.900,2,   36.200,2,   74.070,2,   38.760,2,    2.840,2, -999.000
           NA,HOT timeseries 1988to2019 27SEP2021,     90,  99,-999.0,      29,-999.0,19980616,1946,  22.7520, -157.9987,  4714,  650.100,    5.465,   34.237,2,   34.239,2,   32.000,2,   31.000,2,   80.390,2,   39.970,2,    2.900,2, -999.000
           NA,HOT timeseries 1988to2019 27SEP2021,     90,  99,-999.0,      28,-999.0,19980616,1946,  22.7520, -157.9987,  4714,  672.200,    5.306,   34.264,2,   34.270,2,   25.900,2,   27.500,2,   83.630,2,   40.580,2,    2.950,2, -999.000
           NA,HOT timeseries 1988to2019 27SEP2021,     90,  99,-999.0,       7,-999.0,19980616,1946,  22.7520, -157.9987,  4714,  699.700,    5.216,   34.319,2,   34.320,2,   23.700,2,   23.200,2,   86.430,2,   41.210,2,    3.010,2, -999.000
           NA,HOT timeseries 1988to2019 27SEP2021,     90,  99,-999.0,      38,-999.0,19980616,1946,  22.7520, -157.9987,  4714,  748.000,    5.060,   34.365,2,   34.365,2,   26.000,2,   25.400,2,   89.480,2,   41.530,2,    3.020,2, -999.000
           NA,HOT timeseries 1988to2019 27SEP2021,     90,  99,-999.0,      36,-999.0,19980616,1946,  22.7520, -157.9987,  4714,  801.000,    4.815,   34.411,2,   34.410,2,   27.000,2,   26.400,2,   94.250,2,   42.090,2,    3.050,2, -999.000
           NA,HOT timeseries 1988to2019 27SEP2021,     90,  99,-999.0,      35,-999.0,19980616,1946,  22.7520, -157.9987,  4714,  833.700,    4.681,   34.434,2,   34.432,2,   28.700,2,   28.600,2,   96.750,2,   42.250,2,    3.060,2, -999.000
           NA,HOT timeseries 1988to2019 27SEP2021,     90,  99,-999.0,      34,-999.0,19980616,1946,  22.7520, -157.9987,  4714,  901.100,    4.454,   34.461,2,   34.459,2,   34.200,2,   34.000,2,  101.520,2,   42.160,2,    3.040,2, -999.000
           NA,HOT timeseries 1988to2019 27SEP2021,     90,  99,-999.0,      33,-999.0,19980616,1946,  22.7520, -157.9987,  4714, 1025.400,    4.002,   34.496,2,   34.496,2,   42.900,2,   42.500,2,  109.680,2,   42.030,2,    3.020,2, -999.000
           NA,HOT timeseries 1988to2019 27SEP2021,     90,  99,-999.0,      20,-999.0,19980616,1946,  22.7520, -157.9987,  4714, 1201.900,    3.605,   34.527,2,   34.528,2,   49.000,2,   50.300,2,  117.030,2,   41.510,2,    2.940,2, -999.000
           NA,HOT timeseries 1988to2019 27SEP2021,     90,  99,-999.0,      19,-999.0,19980616,1946,  22.7520, -157.9987,  4714, 1400.300,    3.119,   34.560,2,   34.560,2,   58.500,2,   58.500,2,  127.790,2,   41.190,2,    2.950,2, -999.000
           NA,HOT timeseries 1988to2019 27SEP2021,     90,  99,-999.0,      18,-999.0,19980616,1946,  22.7520, -157.9987,  4714, 1600.400,    2.728,   34.583,2, -999.000,3, -999.000,3,   69.300,2,  135.940,2,   40.850,2,    2.910,2, -999.000
           NA,HOT timeseries 1988to2019 27SEP2021,     90,  99,-999.0,      17,-999.0,19980616,1946,  22.7520, -157.9987,  4714, 1799.700,    2.399,   34.603,2,   34.604,2,   79.200,2,   78.800,2,  143.030,2,   40.020,2,    2.850,2, -999.000
           NA,HOT timeseries 1988to2019 27SEP2021,     90,  99,-999.0,      16,-999.0,19980616,1946,  22.7520, -157.9987,  4714, 2001.900,    2.131,   34.621,2, -999.000,3, -999.000,3,   89.700,2,  147.430,2,   39.330,2,    2.790,2, -999.000
           NA,HOT timeseries 1988to2019 27SEP2021,     90,  99,-999.0,      15,-999.0,19980616,1946,  22.7520, -157.9987,  4714, 2195.700,    1.962,   34.633,2,   34.633,2,   96.300,2,   96.100,2,  151.930,2,   39.070,2,    2.760,2, -999.000
           NA,HOT timeseries 1988to2019 27SEP2021,     90,  99,-999.0,      14,-999.0,19980616,1946,  22.7520, -157.9987,  4714, 2401.200,    1.816,   34.644,2,   34.645,2,  103.400,2,  103.500,2,  155.800,2,   38.670,2,    2.740,2, -999.000
           NA,HOT timeseries 1988to2019 27SEP2021,     90,  99,-999.0,      13,-999.0,19980616,1946,  22.7520, -157.9987,  4714, 2600.600,    1.714,   34.653,2,   34.653,2,  108.000,2,  110.000,2,  157.280,2,   38.590,2,    2.710,2, -999.000
           NA,HOT timeseries 1988to2019 27SEP2021,     90,  99,-999.0,      12,-999.0,19980616,1946,  22.7520, -157.9987,  4714, 2799.700,    1.621,   34.662,2,   34.662,2,  116.000,2,  116.500,2,  158.490,2,   37.940,2,    2.670,2, -999.000
           NA,HOT timeseries 1988to2019 27SEP2021,     90,  99,-999.0,      11,-999.0,19980616,1946,  22.7520, -157.9987,  4714, 3000.400,    1.567,   34.668,2,   34.669,2,  122.400,2,  123.200,2,  157.180,2,   37.900,2,    2.670,2, -999.000
           NA,HOT timeseries 1988to2019 27SEP2021,     90,  99,-999.0,      32,-999.0,19980616,1946,  22.7520, -157.9987,  4714, 3201.300,    1.519,   34.674,2,   34.674,2,  129.300,2,  129.600,2,  156.510,2,   37.380,2,    2.620,2, -999.000
           NA,HOT timeseries 1988to2019 27SEP2021,     90,  99,-999.0,       3,-999.0,19980616,1946,  22.7520, -157.9987,  4714, 3400.600,    1.492,   34.678,2,   34.678,2,  134.600,2,  135.200,2,  155.120,2,   36.840,2,    2.570,2, -999.000
           NA,HOT timeseries 1988to2019 27SEP2021,     90,  99,-999.0,      29,-999.0,19980616,1946,  22.7520, -157.9987,  4714, 3602.400,    1.469,   34.682,2,   34.682,2,  139.900,2,  140.700,2,  153.460,2,   36.500,2,    2.560,2, -999.000
           NA,HOT timeseries 1988to2019 27SEP2021,     90,  99,-999.0,      28,-999.0,19980616,1946,  22.7520, -157.9987,  4714, 3800.200,    1.460,   34.684,2,   34.684,2,  144.000,2,  144.000,2,  151.570,2,   36.190,2,    2.510,2, -999.000
           NA,HOT timeseries 1988to2019 27SEP2021,     90,  99,-999.0,       7,-999.0,19980616,1946,  22.7520, -157.9987,  4714, 4000.400,    1.459,   34.686,2,   34.686,2,  147.600,2,  146.500,2,  150.170,2,   36.170,2,    2.510,2, -999.000
           NA,HOT timeseries 1988to2019 27SEP2021,     90,  99,-999.0,      38,-999.0,19980616,1946,  22.7520, -157.9987,  4714, 4200.300,    1.465,   34.688,2,   34.687,2,  149.800,2,  149.700,2,  149.190,2,   36.030,2,    2.500,2, -999.000
           NA,HOT timeseries 1988to2019 27SEP2021,     90,  99,-999.0,      36,-999.0,19980616,1946,  22.7520, -157.9987,  4714, 4400.300,    1.478,   34.688,2,   34.690,2,  151.900,2,  152.200,2,  148.700,2,   36.030,2,    2.500,2, -999.000
           NA,HOT timeseries 1988to2019 27SEP2021,     90,  99,-999.0,      35,-999.0,19980616,1946,  22.7520, -157.9987,  4714, 4501.100,    1.486,   34.689,2,   34.691,2,  152.600,2,  151.500,2,  148.100,2,   35.920,2,    2.500,2, -999.000
           NA,HOT timeseries 1988to2019 27SEP2021,     90,  99,-999.0,      34,-999.0,19980616,1946,  22.7520, -157.9987,  4714, 4602.900,    1.495,   34.689,2,   34.689,2,  152.500,2,  152.900,2,  147.580,2,   35.990,2,    2.500,2, -999.000
           NA,HOT timeseries 1988to2019 27SEP2021,     90,  99,-999.0,      33,-999.0,19980616,1946,  22.7520, -157.9987,  4714, 4797.900,    1.515,   34.689,2,   34.690,2,  153.600,2,  153.100,2,  147.310,2,   35.770,2,    2.480,2, -999.000