BOTTLE,20214727JOAExport
EXPOCODE,SECT_ID,STNNBR,CASTNO,SAMPNO,BTLNBR,BTLNBR_FLAG_W,DATE,TIME,LATITUDE,LONGITUDE,DEPTH,CTDPRS,CTDTMP,CTDSAL,CTDSAL_FLAG_W,SALNTY,SALNTY_FLAG_W,CTDOXY,CTDOXY_FLAG_W,OXYGEN,OXYGEN_FLAG_W,SILCAT,SILCAT_FLAG_W,NINI,NINI_FLAG_W,PHSPHT,PHSPHT_FLAG_W,REVP
,,,,,,,,,,,,DB,IPTS-68,PSS-78,,PSS-78,,UMOL/KG,,UMOL/KG,,UMOL/KG,,UMOL/KG,,UMOL/KG,,DBAR
           NA,HOT timeseries 1988to2019 27SEP2021,      2,  99,-999.0,    8026,-999.0,20191219,2129,  22.7502, -157.9993,  4739,  131.400,   22.434,   34.925,2,   34.919,2,  197.800,2,  198.000,2,    1.750,2,    0.690,2,    0.170,2, -999.000
           NA,HOT timeseries 1988to2019 27SEP2021,      2,  99,-999.0,    8079,-999.0,20191219,2129,  22.7502, -157.9993,  4739,  153.100,   20.946,   35.041,2,   35.040,2,  194.100,2,  193.300,2,    2.250,2,    1.380,2,    0.190,2, -999.000
           NA,HOT timeseries 1988to2019 27SEP2021,      2,  99,-999.0,    8077,-999.0,20191219,2129,  22.7502, -157.9993,  4739,  194.500,   19.289,   34.982,2,   34.982,2,  195.700,2,  195.700,2,    3.160,2,    2.340,2,    0.230,2, -999.000
           NA,HOT timeseries 1988to2019 27SEP2021,      2,  99,-999.0,    8076,-999.0,20191219,2129,  22.7502, -157.9993,  4739,  248.400,   15.725,   34.583,2,   34.580,2,  203.900,2,  204.100,2,    5.480,2,    5.230,2,    0.410,2, -999.000
           NA,HOT timeseries 1988to2019 27SEP2021,      2,  99,-999.0,    8075,-999.0,20191219,2129,  22.7502, -157.9993,  4739,  269.600,   14.024,   34.386,2,   34.375,2,  197.800,2,  197.100,2,    8.320,2,    8.560,2,    0.650,2, -999.000
           NA,HOT timeseries 1988to2019 27SEP2021,      2,  99,-999.0,    8072,-999.0,20191219,2129,  22.7502, -157.9993,  4739,  352.400,    9.980,   34.134,2,   34.133,2,  151.500,2,  145.900,2,   24.270,2,   20.780,2,    1.590,2, -999.000
           NA,HOT timeseries 1988to2019 27SEP2021,      2,  99,-999.0,    8071,-999.0,20191219,2129,  22.7502, -157.9993,  4739,  412.600,    8.916,   34.117,2,   34.118,2,  126.200,2,  127.200,2,   32.320,2,   24.550,2,    1.850,2, -999.000
           NA,HOT timeseries 1988to2019 27SEP2021,      2,  99,-999.0,    8068,-999.0,20191219,2129,  22.7502, -157.9993,  4739,  498.300,    6.816,   34.108,2,   34.107,2,   81.900,2,   78.300,2,   50.980,2,   33.360,2,    2.420,2, -999.000
           NA,HOT timeseries 1988to2019 27SEP2021,      2,  99,-999.0,    8067,-999.0,20191219,2129,  22.7502, -157.9993,  4739,  554.600,    6.407,   34.165,2,   34.166,2,   58.100,2,   56.400,2,   60.100,2,   35.860,2,    2.630,2, -999.000
           NA,HOT timeseries 1988to2019 27SEP2021,      2,  99,-999.0,    8066,-999.0,20191219,2129,  22.7502, -157.9993,  4739,  618.800,    6.011,   34.230,2,   34.226,2,   35.500,2,   35.100,2,   71.680,2,   38.300,2,    2.840,2, -999.000
           NA,HOT timeseries 1988to2019 27SEP2021,      2,  99,-999.0,    8063,-999.0,20191219,2129,  22.7502, -157.9993,  4739,  784.300,    5.229,   34.383,2,   34.381,2,   38.400,2,   38.800,2,   86.120,2,   40.300,2,    2.930,2, -999.000
           NA,HOT timeseries 1988to2019 27SEP2021,      2,  99,-999.0,    8062,-999.0,20191219,2129,  22.7502, -157.9993,  4739,  904.300,    4.835,   34.447,2,   34.443,2,   43.300,2,   43.500,2,   93.180,2,   40.730,2,    2.950,2, -999.000
           NA,HOT timeseries 1988to2019 27SEP2021,      2,  99,-999.0,    8061,-999.0,20191219,2129,  22.7502, -157.9993,  4739, 1020.000,    4.433,   34.485,2,   34.486,2,   46.300,2,   48.200,2,  101.020,2,   41.190,2,    2.970,2, -999.000
           NA,HOT timeseries 1988to2019 27SEP2021,      2,  99,-999.0,    8026,-999.0,20191219,2129,  22.7502, -157.9993,  4739, 1198.600,    3.800,   34.524,2,   34.524,2,   52.500,2,   52.500,2,  113.460,2,   41.430,2,    3.020,2, -999.000
           NA,HOT timeseries 1988to2019 27SEP2021,      2,  99,-999.0,    8079,-999.0,20191219,2129,  22.7502, -157.9993,  4739, 1397.700,    3.327,   34.549,2,   34.549,2,   59.000,2,   60.000,2,  124.030,2,   41.430,2,    2.990,2, -999.000
           NA,HOT timeseries 1988to2019 27SEP2021,      2,  99,-999.0,    8078,-999.0,20191219,2129,  22.7502, -157.9993,  4739, 1599.000,    2.845,   34.566,2,   34.565,2,   68.100,2,   69.300,2,  136.700,2,   40.920,2,    2.940,2, -999.000
           NA,HOT timeseries 1988to2019 27SEP2021,      2,  99,-999.0,    8077,-999.0,20191219,2129,  22.7502, -157.9993,  4739, 1801.500,    2.570,   34.585,2,   34.585,2,   75.900,2,   76.100,2,  141.660,2,   40.420,2,    2.900,2, -999.000
           NA,HOT timeseries 1988to2019 27SEP2021,      2,  99,-999.0,    8076,-999.0,20191219,2129,  22.7502, -157.9993,  4739, 2000.200,    2.334,   34.604,2,   34.604,2,   84.000,2,   84.300,2,  148.330,2,   39.990,2,    2.850,2, -999.000
           NA,HOT timeseries 1988to2019 27SEP2021,      2,  99,-999.0,    8075,-999.0,20191219,2129,  22.7502, -157.9993,  4739, 2200.700,    2.073,   34.620,2,   34.619,2,   91.500,2,   92.400,2,  154.980,2,   39.540,2,    2.810,2, -999.000
           NA,HOT timeseries 1988to2019 27SEP2021,      2,  99,-999.0,    8074,-999.0,20191219,2129,  22.7502, -157.9993,  4739, 2400.400,    1.906,   34.631,2,   34.631,2,   96.800,2,   97.400,2,  158.850,2,   38.780,2,    2.760,2, -999.000
           NA,HOT timeseries 1988to2019 27SEP2021,      2,  99,-999.0,    8073,-999.0,20191219,2129,  22.7502, -157.9993,  4739, 2600.100,    1.757,   34.644,2,   34.645,2,  104.700,2,  106.700,2,  159.580,2,   38.800,2,    2.740,2, -999.000
           NA,HOT timeseries 1988to2019 27SEP2021,      2,  99,-999.0,    8072,-999.0,20191219,2129,  22.7502, -157.9993,  4739, 2802.000,    1.670,   34.653,2,   34.653,2,  112.200,2,  112.900,2,  160.270,2,   38.400,2,    2.700,2, -999.000
           NA,HOT timeseries 1988to2019 27SEP2021,      2,  99,-999.0,    8071,-999.0,20191219,2129,  22.7502, -157.9993,  4739, 2999.100,    1.592,   34.661,2,   34.662,2,  120.200,2,  121.100,2,  159.410,2,   37.810,2,    2.660,2, -999.000
           NA,HOT timeseries 1988to2019 27SEP2021,      2,  99,-999.0,    8070,-999.0,20191219,2129,  22.7502, -157.9993,  4739, 3200.600,    1.540,   34.668,2,   34.668,2,  127.200,2,  128.200,2,  158.040,2,   37.400,2,    2.630,2, -999.000
           NA,HOT timeseries 1988to2019 27SEP2021,      2,  99,-999.0,    8069,-999.0,20191219,2129,  22.7502, -157.9993,  4739, 3399.000,    1.504,   34.673,2,   34.673,2,  133.900,2,  134.200,2,  159.310,2,   37.000,2,    2.590,2, -999.000
           NA,HOT timeseries 1988to2019 27SEP2021,      2,  99,-999.0,    8068,-999.0,20191219,2129,  22.7502, -157.9993,  4739, 3600.200,    1.476,   34.678,2,   34.678,2,  139.500,2,  139.700,2,  155.240,2,   36.660,2,    2.570,2, -999.000
           NA,HOT timeseries 1988to2019 27SEP2021,      2,  99,-999.0,    8067,-999.0,20191219,2129,  22.7502, -157.9993,  4739, 3800.000,    1.470,   34.680,2,   34.680,2,  143.100,2,  142.800,2,  153.650,2,   36.260,2,    2.520,2, -999.000
           NA,HOT timeseries 1988to2019 27SEP2021,      2,  99,-999.0,    8066,-999.0,20191219,2129,  22.7502, -157.9993,  4739, 3998.000,    1.464,   34.682,2,   34.683,2,  147.400,2,  147.100,2,  151.920,2,   36.070,2,    2.520,2, -999.000
           NA,HOT timeseries 1988to2019 27SEP2021,      2,  99,-999.0,    8065,-999.0,20191219,2129,  22.7502, -157.9993,  4739, 4199.900,    1.471,   34.684,2,   34.683,2,  150.000,2,  149.600,2,  152.920,2,   35.900,2,    2.510,2, -999.000
           NA,HOT timeseries 1988to2019 27SEP2021,      2,  99,-999.0,    8004,-999.0,20191219,2129,  22.7502, -157.9993,  4739, 4400.900,    1.484,   34.685,2,   34.685,2,  151.600,2,  151.100,2,  150.070,2,   35.890,2,    2.510,2, -999.000
           NA,HOT timeseries 1988to2019 27SEP2021,      2,  99,-999.0,    8063,-999.0,20191219,2129,  22.7502, -157.9993,  4739, 4500.700,    1.493,   34.685,2,   34.685,2,  152.300,2,  151.900,2,  150.360,2,   35.850,2,    2.510,2, -999.000
           NA,HOT timeseries 1988to2019 27SEP2021,      2,  99,-999.0,    8062,-999.0,20191219,2129,  22.7502, -157.9993,  4739, 4601.000,    1.503,   34.685,2,   34.685,2,  152.900,2, -999.000,3,  149.930,2,   35.800,2,    2.490,2, -999.000
           NA,HOT timeseries 1988to2019 27SEP2021,      2,  99,-999.0,    8061,-999.0,20191219,2129,  22.7502, -157.9993,  4739, 4804.700,    1.521,   34.686,2,   34.686,2,  153.800,2,  153.200,2,  149.240,2,   35.610,2,    2.470,2, -999.000