BOTTLE,20214727JOAExport
EXPOCODE,SECT_ID,STNNBR,CASTNO,SAMPNO,BTLNBR,BTLNBR_FLAG_W,DATE,TIME,LATITUDE,LONGITUDE,DEPTH,CTDPRS,CTDTMP,CTDSAL,CTDSAL_FLAG_W,SALNTY,SALNTY_FLAG_W,CTDOXY,CTDOXY_FLAG_W,OXYGEN,OXYGEN_FLAG_W,SILCAT,SILCAT_FLAG_W,NINI,NINI_FLAG_W,PHSPHT,PHSPHT_FLAG_W,REVP
,,,,,,,,,,,,DB,IPTS-68,PSS-78,,PSS-78,,UMOL/KG,,UMOL/KG,,UMOL/KG,,UMOL/KG,,UMOL/KG,,DBAR
           NA,HOT timeseries 1988to2019 27SEP2021,     34,  99,-999.0,      23,-999.0,19920608,2328,  22.7507, -158.0068,  4749,   10.100,   25.877,   34.845,2,   34.844,2,  195.200,2,  206.200,2,    0.950,2,    0.000,2,    0.100,2, -999.000
           NA,HOT timeseries 1988to2019 27SEP2021,     34,  99,-999.0,      23,-999.0,19920608,2328,  22.7507, -158.0068,  4749,   19.400,   25.687,   34.874,2,   34.877,2,  182.800,2,  205.700,2,    1.060,2,    0.030,2,    0.100,2, -999.000
           NA,HOT timeseries 1988to2019 27SEP2021,     34,  99,-999.0,      22,-999.0,19920608,2328,  22.7507, -158.0068,  4749,   30.000,   25.797,   34.847,2,   34.847,2,  208.100,2,  206.000,2,    0.830,2,    0.000,2,    0.100,2, -999.000
           NA,HOT timeseries 1988to2019 27SEP2021,     34,  99,-999.0,      21,-999.0,19920608,2328,  22.7507, -158.0068,  4749,   48.100,   24.280,   35.006,2,   35.005,2,  217.900,2,  215.600,2,    0.830,2,    0.010,2,    0.080,2, -999.000
           NA,HOT timeseries 1988to2019 27SEP2021,     34,  99,-999.0,      20,-999.0,19920608,2328,  22.7507, -158.0068,  4749,   80.200,   23.079,   35.113,2,   35.112,2,  220.100,2,  216.100,2,    1.600,2,    0.010,2,    0.080,2, -999.000
           NA,HOT timeseries 1988to2019 27SEP2021,     34,  99,-999.0,      19,-999.0,19920608,2328,  22.7507, -158.0068,  4749,   87.200,   22.654,   35.116,2,   35.120,2,  217.100,2,  214.100,2,    0.900,2,    0.010,2,    0.100,2, -999.000
           NA,HOT timeseries 1988to2019 27SEP2021,     34,  99,-999.0,      22,-999.0,19920608,2328,  22.7507, -158.0068,  4749,  113.900,   22.244,   35.133,2,   35.137,2,  213.400,2,  209.400,2,    1.330,2,    0.040,2,    0.100,2, -999.000
           NA,HOT timeseries 1988to2019 27SEP2021,     34,  99,-999.0,      18,-999.0,19920608,2328,  22.7507, -158.0068,  4749,  119.200,   21.856,   35.159,2,   35.160,2,  206.800,2,  207.000,2,    0.990,2,    0.070,2,    0.120,2, -999.000
           NA,HOT timeseries 1988to2019 27SEP2021,     34,  99,-999.0,      17,-999.0,19920608,2328,  22.7507, -158.0068,  4749,  126.400,   21.476,   35.130,2,   35.130,2,  199.700,2,  201.500,2,    1.070,2,    0.390,2,    0.160,2, -999.000
           NA,HOT timeseries 1988to2019 27SEP2021,     34,  99,-999.0,      16,-999.0,19920608,2328,  22.7507, -158.0068,  4749,  174.900,   19.333,   34.989,2,   34.994,2,  185.800,2,  185.500,2,    2.450,2,    2.610,2,    0.340,2, -999.000
           NA,HOT timeseries 1988to2019 27SEP2021,     34,  99,-999.0,      17,-999.0,19920608,2328,  22.7507, -158.0068,  4749,  193.800,   17.095,   34.764,2,   34.767,2,  177.200,2,  176.000,2, -999.000,5, -999.000,5, -999.000,5, -999.000
           NA,HOT timeseries 1988to2019 27SEP2021,     34,  99,-999.0,      15,-999.0,19920608,2328,  22.7507, -158.0068,  4749,  203.300,   16.392,   34.687,2,   34.697,2,  172.300,2,  173.500,2,    5.590,2,    6.230,2,    0.620,2, -999.000
           NA,HOT timeseries 1988to2019 27SEP2021,     34,  99,-999.0,      16,-999.0,19920608,2328,  22.7507, -158.0068,  4749,  207.300,   16.218,   34.670,2,   34.670,2,  171.600,2,  173.700,2, -999.000,5, -999.000,5, -999.000,5, -999.000
           NA,HOT timeseries 1988to2019 27SEP2021,     34,  99,-999.0,      15,-999.0,19920608,2328,  22.7507, -158.0068,  4749,  209.900,   16.146,   34.662,2,   34.662,2,  171.700,2,  173.800,2, -999.000,5, -999.000,5, -999.000,5, -999.000
           NA,HOT timeseries 1988to2019 27SEP2021,     34,  99,-999.0,      14,-999.0,19920608,2328,  22.7507, -158.0068,  4749,  226.700,   15.235,   34.567,2,   34.570,2,  176.100,2,  174.500,2,    7.220,2,    7.770,2,    0.690,2, -999.000
           NA,HOT timeseries 1988to2019 27SEP2021,     34,  99,-999.0,      13,-999.0,19920608,2328,  22.7507, -158.0068,  4749,  234.700,   14.393,   34.471,2,   34.472,2,  172.900,2,  171.800,2, -999.000,5, -999.000,5, -999.000,5, -999.000
           NA,HOT timeseries 1988to2019 27SEP2021,     34,  99,-999.0,      12,-999.0,19920608,2328,  22.7507, -158.0068,  4749,  253.000,   12.657,   34.307,2,   34.301,2,  174.300,2,  171.400,2,   12.140,2,   12.120,2,    1.030,2, -999.000
           NA,HOT timeseries 1988to2019 27SEP2021,     34,  99,-999.0,      14,-999.0,19920608,2328,  22.7507, -158.0068,  4749,  270.200,   12.343,   34.285,2,   34.285,2,  158.000,2,  159.600,2,   13.190,2,   13.240,2,    1.110,2, -999.000
           NA,HOT timeseries 1988to2019 27SEP2021,     34,  99,-999.0,      11,-999.0,19920608,2328,  22.7507, -158.0068,  4749,  282.000,   12.038,   34.255,2,   34.261,2,  179.300,2,  173.400,2,   12.990,2,   12.970,2,    1.070,2, -999.000
           NA,HOT timeseries 1988to2019 27SEP2021,     34,  99,-999.0,      13,-999.0,19920608,2328,  22.7507, -158.0068,  4749,  295.200,   11.264,   34.207,2,   34.206,2,  175.500,2,  175.700,2,   15.170,2,   14.020,2,    1.150,2, -999.000
           NA,HOT timeseries 1988to2019 27SEP2021,     34,  99,-999.0,      10,-999.0,19920608,2328,  22.7507, -158.0068,  4749,  304.800,   10.985,   34.202,2,   34.202,2,  159.300,2,  159.300,2,   18.110,2,   16.770,2,    1.330,2, -999.000
           NA,HOT timeseries 1988to2019 27SEP2021,     34,  99,-999.0,      12,-999.0,19920608,2328,  22.7507, -158.0068,  4749,  311.500,   10.723,   34.197,2,   34.195,2,  148.900,2,  152.100,2,   19.810,2,   17.360,2,    1.440,2, -999.000
           NA,HOT timeseries 1988to2019 27SEP2021,     34,  99,-999.0,       9,-999.0,19920608,2328,  22.7507, -158.0068,  4749,  330.800,   10.238,   34.163,2,   34.164,2,  169.900,2,  162.100,2,   20.890,2,   18.310,2,    1.440,2, -999.000
           NA,HOT timeseries 1988to2019 27SEP2021,     34,  99,-999.0,       8,-999.0,19920608,2328,  22.7507, -158.0068,  4749,  354.000,    9.384,   34.110,2,   34.109,2,  183.800,2,  181.600,2,   23.270,2,   18.360,2,    1.390,2, -999.000
           NA,HOT timeseries 1988to2019 27SEP2021,     34,  99,-999.0,      11,-999.0,19920608,2328,  22.7507, -158.0068,  4749,  375.200,    8.956,   34.079,2, -999.000,5,  175.200,2,  178.900,2,   25.230,2,   18.750,2,    1.470,2, -999.000
           NA,HOT timeseries 1988to2019 27SEP2021,     34,  99,-999.0,       6,-999.0,19920608,2328,  22.7507, -158.0068,  4749,  405.800,    8.002,   34.052,2,   34.052,2,  155.300,2,  152.700,2,   34.920,2,   24.010,2,    1.790,2, -999.000
           NA,HOT timeseries 1988to2019 27SEP2021,     34,  99,-999.0,      21,-999.0,19920608,2328,  22.7507, -158.0068,  4749,  469.600,    7.038,   34.042,2,   34.041,2,  117.000,2,  116.800,2,   47.430,2,   28.580,2,    2.040,2, -999.000
           NA,HOT timeseries 1988to2019 27SEP2021,     34,  99,-999.0,      10,-999.0,19920608,2328,  22.7507, -158.0068,  4749,  470.900,    7.197,   34.036,2,   34.037,2,  124.500,2,  126.100,2,   44.580,2,   27.320,2,    2.070,2, -999.000
           NA,HOT timeseries 1988to2019 27SEP2021,     34,  99,-999.0,       9,-999.0,19920608,2328,  22.7507, -158.0068,  4749,  498.000,    6.793,   34.037,2,   34.033,2,  117.000,2,  113.700,2,   49.140,2,   29.190,2,    2.200,2, -999.000
           NA,HOT timeseries 1988to2019 27SEP2021,     34,  99,-999.0,       7,-999.0,19920608,2328,  22.7507, -158.0068,  4749,  503.500,    6.430,   34.038,2,   34.038,2,   99.700,2,   95.800,2,   56.320,2,   32.150,2,    2.370,2, -999.000
           NA,HOT timeseries 1988to2019 27SEP2021,     34,  99,-999.0,       8,-999.0,19920608,2328,  22.7507, -158.0068,  4749,  526.800,    6.530,   34.043,2,   34.041,2,   93.600,2,   96.900,2,   55.310,2,   31.150,2,    2.370,2, -999.000
           NA,HOT timeseries 1988to2019 27SEP2021,     34,  99,-999.0,       6,-999.0,19920608,2328,  22.7507, -158.0068,  4749,  554.500,    6.034,   34.058,2,   34.060,2,   80.200,2,   74.700,2,   63.930,2,   34.120,2,    2.550,2, -999.000
           NA,HOT timeseries 1988to2019 27SEP2021,     34,  99,-999.0,      26,-999.0,19920608,2328,  22.7507, -158.0068,  4749,  604.000,    5.316,   34.134,2,   34.135,2,   49.000,2,   39.900,2,   80.100,2,   38.900,2,    2.870,2, -999.000
           NA,HOT timeseries 1988to2019 27SEP2021,     34,  99,-999.0,       7,-999.0,19920608,2328,  22.7507, -158.0068,  4749,  605.100,    5.497,   34.108,2,   34.108,2,   50.700,2,   47.600,2,   75.990,2,   37.450,2,    2.820,2, -999.000
           NA,HOT timeseries 1988to2019 27SEP2021,     34,  99,-999.0,      26,-999.0,19920608,2328,  22.7507, -158.0068,  4749,  648.900,    5.256,   34.157,2, -999.000,4, -999.000,3, -999.000,3,   79.040,2,   37.560,2,    2.800,2, -999.000
           NA,HOT timeseries 1988to2019 27SEP2021,     34,  99,-999.0,      25,-999.0,19920608,2328,  22.7507, -158.0068,  4749,  704.000,    4.869,   34.262,2,   34.261,2,   28.900,2,   20.600,2,   93.380,2,   41.580,2,    3.070,2, -999.000
           NA,HOT timeseries 1988to2019 27SEP2021,     34,  99,-999.0,      25,-999.0,19920608,2328,  22.7507, -158.0068,  4749,  749.200,    4.673,   34.315,2,   34.313,2,   20.700,2,   19.300,2,   98.380,2,   41.320,2,    3.110,2, -999.000
           NA,HOT timeseries 1988to2019 27SEP2021,     34,  99,-999.0,       3,-999.0,19920608,2328,  22.7507, -158.0068,  4749,  797.600,    4.541,   34.356,2,   34.357,2,   28.400,2,   21.700,2,  101.010,2,   42.240,2,    3.120,2, -999.000
           NA,HOT timeseries 1988to2019 27SEP2021,     34,  99,-999.0,       3,-999.0,19920608,2328,  22.7507, -158.0068,  4749,  840.100,    4.419,   34.400,2,   34.400,2,   26.900,2,   25.900,2,  103.870,2,   41.780,2,    3.130,2, -999.000
           NA,HOT timeseries 1988to2019 27SEP2021,     34,  99,-999.0,       2,-999.0,19920608,2328,  22.7507, -158.0068,  4749,  899.000,    4.277,   34.426,2,   34.424,2,   34.500,2,   30.500,2,  106.940,2,   42.290,2,    3.090,2, -999.000
           NA,HOT timeseries 1988to2019 27SEP2021,     34,  99,-999.0,       2,-999.0,19920608,2328,  22.7507, -158.0068,  4749,  965.500,    3.987,   34.478,2,   34.477,2,   38.200,2,   38.200,2,  112.020,2,   41.760,2,    3.060,2, -999.000
           NA,HOT timeseries 1988to2019 27SEP2021,     34,  99,-999.0,       1,-999.0,19920608,2328,  22.7507, -158.0068,  4749, 1035.200,    3.831,   34.493,2,   34.490,2,   45.400,2,   43.800,2,  115.380,2,   41.850,2,    3.040,2, -999.000
           NA,HOT timeseries 1988to2019 27SEP2021,     34,  99,-999.0,       1,-999.0,19920608,2328,  22.7507, -158.0068,  4749, 1047.900,    3.729,   34.505,2,   34.507,2,   42.700,2,   43.800,2,  116.890,2,   41.980,2,    3.050,2, -999.000
           NA,HOT timeseries 1988to2019 27SEP2021,     34,  99,-999.0,      20,-999.0,19920608,2328,  22.7507, -158.0068,  4749, 1199.100,    3.438,   34.527,2,   34.528,2,   42.400,2,   50.800,2,  121.110,2,   41.110,2,    2.950,2, -999.000
           NA,HOT timeseries 1988to2019 27SEP2021,     34,  99,-999.0,      19,-999.0,19920608,2328,  22.7507, -158.0068,  4749, 1401.800,    3.015,   34.561,2,   34.561,2,   58.900,2,   62.500,2,  132.350,2,   40.560,2,    2.920,2, -999.000
           NA,HOT timeseries 1988to2019 27SEP2021,     34,  99,-999.0,      18,-999.0,19920608,2328,  22.7507, -158.0068,  4749, 1598.800,    2.664,   34.579,2,   34.580,2,   67.900,2,   73.600,2,  138.540,2,   40.130,2,    2.860,2, -999.000
           NA,HOT timeseries 1988to2019 27SEP2021,     34,  99,-999.0,      17,-999.0,19920608,2328,  22.7507, -158.0068,  4749, 1809.000,    2.331,   34.600,2,   34.601,2,   78.200,2,   81.500,2,  144.020,2,   39.720,2,    2.810,2, -999.000
           NA,HOT timeseries 1988to2019 27SEP2021,     34,  99,-999.0,      16,-999.0,19920608,2328,  22.7507, -158.0068,  4749, 2011.500,    2.050,   34.621,2,   34.620,2,   88.700,2,   91.800,2,  152.910,2,   39.160,2,    2.770,2, -999.000
           NA,HOT timeseries 1988to2019 27SEP2021,     34,  99,-999.0,      14,-999.0,19920608,2328,  22.7507, -158.0068,  4749, 2402.000,    1.763,   34.644,2,   34.643,2,  102.500,2,  104.600,2,  159.250,2,   38.470,2,    2.720,2, -999.000
           NA,HOT timeseries 1988to2019 27SEP2021,     34,  99,-999.0,      13,-999.0,19920608,2328,  22.7507, -158.0068,  4749, 2616.300,    1.654,   34.654,2,   34.654,2,  111.900,2,  113.100,2,  160.640,2,   37.980,2,    2.690,2, -999.000
           NA,HOT timeseries 1988to2019 27SEP2021,     34,  99,-999.0,      12,-999.0,19920608,2328,  22.7507, -158.0068,  4749, 2804.500,    1.594,   34.661,2,   34.661,2,  116.300,2,  118.300,2,  160.280,2,   37.720,2,    2.650,2, -999.000
           NA,HOT timeseries 1988to2019 27SEP2021,     34,  99,-999.0,      11,-999.0,19920608,2328,  22.7507, -158.0068,  4749, 3005.200,    1.542,   34.668,2, -999.000,4, -999.000,3,  124.700,2,  160.700,2,   37.410,2,    2.610,2, -999.000
           NA,HOT timeseries 1988to2019 27SEP2021,     34,  99,-999.0,      10,-999.0,19920608,2328,  22.7507, -158.0068,  4749, 3223.100,    1.508,   34.673,2,   34.673,2,  128.600,2,  130.300,2,  160.410,2,   37.130,2,    2.580,2, -999.000
           NA,HOT timeseries 1988to2019 27SEP2021,     34,  99,-999.0,       9,-999.0,19920608,2328,  22.7507, -158.0068,  4749, 3406.800,    1.475,   34.676,2,   34.677,2,  136.200,2,  137.000,2,  156.920,2,   36.750,2,    2.560,2, -999.000
           NA,HOT timeseries 1988to2019 27SEP2021,     34,  99,-999.0,       8,-999.0,19920608,2328,  22.7507, -158.0068,  4749, 3596.100,    1.460,   34.679,2,   34.679,2,  139.000,2,  140.800,2,  154.100,2,   36.560,2,    2.540,2, -999.000
           NA,HOT timeseries 1988to2019 27SEP2021,     34,  99,-999.0,       6,-999.0,19920608,2328,  22.7507, -158.0068,  4749, 3800.100,    1.453,   34.682,2,   34.681,2,  144.300,2,  144.600,2,  150.880,2,   36.260,2,    2.520,2, -999.000
           NA,HOT timeseries 1988to2019 27SEP2021,     34,  99,-999.0,       7,-999.0,19920608,2328,  22.7507, -158.0068,  4749, 3989.800,    1.452,   34.684,2,   34.682,2,  147.200,2,  147.600,2,  153.320,2,   36.070,2,    2.500,2, -999.000
           NA,HOT timeseries 1988to2019 27SEP2021,     34,  99,-999.0,      26,-999.0,19920608,2328,  22.7507, -158.0068,  4749, 4178.800,    1.458,   34.685,2,   34.684,2,  151.000,2,  149.900,2,  152.250,2,   35.910,2,    2.490,2, -999.000
           NA,HOT timeseries 1988to2019 27SEP2021,     34,  99,-999.0,      25,-999.0,19920608,2328,  22.7507, -158.0068,  4749, 4401.000,    1.475,   34.686,2,   34.686,2,  151.900,2,  151.300,2,  150.930,2,   35.990,2,    2.490,2, -999.000
           NA,HOT timeseries 1988to2019 27SEP2021,     34,  99,-999.0,       3,-999.0,19920608,2328,  22.7507, -158.0068,  4749, 4483.000,    1.483,   34.686,2, -999.000,5,  153.200,2,  151.400,2,  151.450,2,   36.000,2,    2.490,2, -999.000
           NA,HOT timeseries 1988to2019 27SEP2021,     34,  99,-999.0,       2,-999.0,19920608,2328,  22.7507, -158.0068,  4749, 4584.400,    1.491,   34.687,2,   34.686,2,  154.700,2,  152.200,2,  150.280,2,   35.930,2,    2.490,2, -999.000
           NA,HOT timeseries 1988to2019 27SEP2021,     34,  99,-999.0,       1,-999.0,19920608,2328,  22.7507, -158.0068,  4749, 4738.800,    1.502,   34.687,2,   34.687,2,  154.200,2,  153.300,2,  150.050,2,   35.880,2,    2.480,2, -999.000