BOTTLE,20214727JOAExport
EXPOCODE,SECT_ID,STNNBR,CASTNO,SAMPNO,BTLNBR,BTLNBR_FLAG_W,DATE,TIME,LATITUDE,LONGITUDE,DEPTH,CTDPRS,CTDTMP,CTDSAL,CTDSAL_FLAG_W,SALNTY,SALNTY_FLAG_W,CTDOXY,CTDOXY_FLAG_W,OXYGEN,OXYGEN_FLAG_W,SILCAT,SILCAT_FLAG_W,NINI,NINI_FLAG_W,PHSPHT,PHSPHT_FLAG_W,REVP
,,,,,,,,,,,,DB,IPTS-68,PSS-78,,PSS-78,,UMOL/KG,,UMOL/KG,,UMOL/KG,,UMOL/KG,,UMOL/KG,,DBAR
           NA,HOT timeseries 1988to2019 27SEP2021,     99,  99,-999.0,      31,-999.0,19990316,1858,  22.7482, -158.0080,  4724,    5.400,   23.384,   35.202,2, -999.000,4, -999.000,3,  213.000,2,    1.280,2,    0.000,2,    0.130,2, -999.000
           NA,HOT timeseries 1988to2019 27SEP2021,     99,  99,-999.0,      31,-999.0,19990316,1858,  22.7482, -158.0080,  4724,   10.400,   23.323,   35.267,2,   35.267,2,  214.100,2,  212.900,2,    1.380,2,    0.000,2,    0.090,2, -999.000
           NA,HOT timeseries 1988to2019 27SEP2021,     99,  99,-999.0,      30,-999.0,19990316,1858,  22.7482, -158.0080,  4724,   51.600,   23.260,   35.233,2, -999.000,4, -999.000,3,  213.600,2,    1.280,2,    0.000,2,    0.110,2, -999.000
           NA,HOT timeseries 1988to2019 27SEP2021,     99,  99,-999.0,      22,-999.0,19990316,1858,  22.7482, -158.0080,  4724,   93.400,   22.503,   35.289,2,   35.290,2,  211.100,2,  211.400,2,    1.400,2,    0.020,2,    0.090,2, -999.000
           NA,HOT timeseries 1988to2019 27SEP2021,     99,  99,-999.0,      21,-999.0,19990316,1858,  22.7482, -158.0080,  4724,  140.500,   22.275,   35.439,2,   35.440,2,  216.800,2,  216.400,2,    1.340,2,    0.000,2,    0.050,2, -999.000
           NA,HOT timeseries 1988to2019 27SEP2021,     99,  99,-999.0,      20,-999.0,19990316,1858,  22.7482, -158.0080,  4724,  179.900,   18.944,   34.984,2,   34.982,2,  195.300,2,  197.100,2,    2.630,2,    2.220,2,    0.220,2, -999.000
           NA,HOT timeseries 1988to2019 27SEP2021,     99,  99,-999.0,      19,-999.0,19990316,1858,  22.7482, -158.0080,  4724,  239.100,   15.890,   34.668,2,   34.668,2,  209.300,2,  207.200,2,    4.610,2,    4.150,2,    0.340,2, -999.000
           NA,HOT timeseries 1988to2019 27SEP2021,     99,  99,-999.0,      18,-999.0,19990316,1858,  22.7482, -158.0080,  4724,  290.800,   13.333,   34.323,2,   34.324,2,  187.900,2,  190.000,2,    8.660,2,    9.210,2,    0.700,2, -999.000
           NA,HOT timeseries 1988to2019 27SEP2021,     99,  99,-999.0,      17,-999.0,19990316,1858,  22.7482, -158.0080,  4724,  323.100,   11.896,   34.205,2,   34.203,2,  177.800,2,  179.000,2,   12.720,2,   13.160,2,    0.990,2, -999.000
           NA,HOT timeseries 1988to2019 27SEP2021,     99,  99,-999.0,      16,-999.0,19990316,1858,  22.7482, -158.0080,  4724,  359.400,   10.483,   34.140,2,   34.139,2,  175.500,2,  174.000,2,   18.100,2,   16.790,2,    1.230,2, -999.000
           NA,HOT timeseries 1988to2019 27SEP2021,     99,  99,-999.0,      15,-999.0,19990316,1858,  22.7482, -158.0080,  4724,  420.700,    8.849,   34.076,2,   34.075,2,  161.000,2,  162.500,2,   27.070,2,   21.310,2,    1.530,2, -999.000
           NA,HOT timeseries 1988to2019 27SEP2021,     99,  99,-999.0,      14,-999.0,19990316,1858,  22.7482, -158.0080,  4724,  460.600,    8.066,   34.052,2,   34.049,2,  151.800,2,  150.100,2,   33.450,2,   24.240,2,    1.760,2, -999.000
           NA,HOT timeseries 1988to2019 27SEP2021,     99,  99,-999.0,      30,-999.0,19990316,1858,  22.7482, -158.0080,  4724,  503.200,    6.783,   34.061,2,   34.060,2,  100.700,2,   99.800,2,   50.640,2,   29.800,2,    2.230,2, -999.000
           NA,HOT timeseries 1988to2019 27SEP2021,     99,  99,-999.0,      12,-999.0,19990316,1858,  22.7482, -158.0080,  4724,  541.700,    6.680,   34.070,2,   34.069,2,   93.900,2,   92.900,2,   53.050,2,   31.730,2,    2.330,2, -999.000
           NA,HOT timeseries 1988to2019 27SEP2021,     99,  99,-999.0,      11,-999.0,19990316,1858,  22.7482, -158.0080,  4724,  571.100,    5.913,   34.073,2,   34.072,2,   74.900,2,   72.600,2,   64.970,2,   35.170,2,    2.570,2, -999.000
           NA,HOT timeseries 1988to2019 27SEP2021,     99,  99,-999.0,      32,-999.0,19990316,1858,  22.7482, -158.0080,  4724,  622.000,    5.284,   34.118,2,   34.118,2,   48.500,2,   46.700,2,   78.160,2,   38.420,2,    2.830,2, -999.000
           NA,HOT timeseries 1988to2019 27SEP2021,     99,  99,-999.0,       3,-999.0,19990316,1858,  22.7482, -158.0080,  4724,  678.500,    4.900,   34.203,2,   34.201,2,   30.100,2,   29.200,2,   88.430,2,   40.500,2,    2.970,2, -999.000
           NA,HOT timeseries 1988to2019 27SEP2021,     99,  99,-999.0,      29,-999.0,19990316,1858,  22.7482, -158.0080,  4724,  712.300,    4.773,   34.250,2,   34.249,2,   25.700,2,   24.700,2,   92.710,2,   41.300,2,    3.030,2, -999.000
           NA,HOT timeseries 1988to2019 27SEP2021,     99,  99,-999.0,      28,-999.0,19990316,1858,  22.7482, -158.0080,  4724,  752.000,    4.646,   34.293,2,   34.293,2,   24.700,2,   23.600,2,   96.410,2,   41.450,2,    3.060,2, -999.000
           NA,HOT timeseries 1988to2019 27SEP2021,     99,  99,-999.0,       7,-999.0,19990316,1858,  22.7482, -158.0080,  4724,  801.000,    4.462,   34.338,2,   34.337,2,   24.500,2,   24.800,2,  100.830,2,   41.740,2,    3.080,2, -999.000
           NA,HOT timeseries 1988to2019 27SEP2021,     99,  99,-999.0,      38,-999.0,19990316,1858,  22.7482, -158.0080,  4724,  848.100,    4.374,   34.383,2,   34.383,2,   27.000,2,   26.000,2,  103.030,2,   41.960,2,    3.090,2, -999.000
           NA,HOT timeseries 1988to2019 27SEP2021,     99,  99,-999.0,      36,-999.0,19990316,1858,  22.7482, -158.0080,  4724,  901.700,    4.167,   34.423,2,   34.422,2,   31.600,2,   33.100,2,  106.900,2,   42.020,2,    3.080,2, -999.000
           NA,HOT timeseries 1988to2019 27SEP2021,     99,  99,-999.0,      35,-999.0,19990316,1858,  22.7482, -158.0080,  4724,  940.600,    4.095,   34.447,2,   34.446,2,   34.300,2,   34.400,2,  108.480,2,   41.950,2,    3.090,2, -999.000
           NA,HOT timeseries 1988to2019 27SEP2021,     99,  99,-999.0,      34,-999.0,19990316,1858,  22.7482, -158.0080,  4724,  986.600,    4.006,   34.467,2,   34.466,2,   37.400,2,   38.400,2,  110.200,2,   41.860,2,    3.070,2, -999.000
           NA,HOT timeseries 1988to2019 27SEP2021,     99,  99,-999.0,      33,-999.0,19990316,1858,  22.7482, -158.0080,  4724, 1022.000,    3.891,   34.484,2,   34.484,2,   40.500,2,   40.800,2,  112.220,2,   41.660,2,    3.060,2, -999.000
           NA,HOT timeseries 1988to2019 27SEP2021,     99,  99,-999.0,      20,-999.0,19990316,1858,  22.7482, -158.0080,  4724, 1202.700,    3.489,   34.516,2,   34.514,2,   49.200,2,   49.200,2,  120.270,2,   41.140,2,    2.950,2, -999.000
           NA,HOT timeseries 1988to2019 27SEP2021,     99,  99,-999.0,      19,-999.0,19990316,1858,  22.7482, -158.0080,  4724, 1402.000,    3.091,   34.548,2,   34.548,2,   57.500,2,   57.900,2,  128.800,2,   40.840,2,    2.930,2, -999.000
           NA,HOT timeseries 1988to2019 27SEP2021,     99,  99,-999.0,      18,-999.0,19990316,1858,  22.7482, -158.0080,  4724, 1602.100,    2.698,   34.577,2,   34.576,2,   67.100,2,   67.500,2,  137.640,2,   40.450,2,    2.870,2, -999.000
           NA,HOT timeseries 1988to2019 27SEP2021,     99,  99,-999.0,      17,-999.0,19990316,1858,  22.7482, -158.0080,  4724, 1802.700,    2.401,   34.596,2,   34.596,2,   74.300,2,   76.000,2,  144.950,2,   40.220,2,    2.870,2, -999.000
           NA,HOT timeseries 1988to2019 27SEP2021,     99,  99,-999.0,      16,-999.0,19990316,1858,  22.7482, -158.0080,  4724, 2003.000,    2.159,   34.620,2,   34.620,2,   83.700,2,   85.700,2,  149.980,2,   39.580,2,    2.820,2, -999.000
           NA,HOT timeseries 1988to2019 27SEP2021,     99,  99,-999.0,      15,-999.0,19990316,1858,  22.7482, -158.0080,  4724, 2201.700,    1.951,   34.631,2,   34.630,2,   91.000,2,   92.100,2,  155.360,2,   39.160,2,    2.770,2, -999.000
           NA,HOT timeseries 1988to2019 27SEP2021,     99,  99,-999.0,      14,-999.0,19990316,1858,  22.7482, -158.0080,  4724, 2401.000,    1.812,   34.645,2,   34.645,2,  100.300,2,  101.200,2,  156.870,2,   38.660,2,    2.740,2, -999.000
           NA,HOT timeseries 1988to2019 27SEP2021,     99,  99,-999.0,      13,-999.0,19990316,1858,  22.7482, -158.0080,  4724, 2600.000,    1.711,   34.653,2,   34.652,2,  105.400,2,  105.800,2,  159.290,2,   38.260,2,    2.730,2, -999.000
           NA,HOT timeseries 1988to2019 27SEP2021,     99,  99,-999.0,      12,-999.0,19990316,1858,  22.7482, -158.0080,  4724, 2801.900,    1.623,   34.662,2,   34.662,2,  112.600,2,  113.600,2,  160.720,2,   38.100,2,    2.670,2, -999.000
           NA,HOT timeseries 1988to2019 27SEP2021,     99,  99,-999.0,      11,-999.0,19990316,1858,  22.7482, -158.0080,  4724, 2999.000,    1.559,   34.669,2,   34.670,2,  120.200,2,  121.300,2,  160.170,2,   37.510,2,    2.630,2, -999.000
           NA,HOT timeseries 1988to2019 27SEP2021,     99,  99,-999.0,      32,-999.0,19990316,1858,  22.7482, -158.0080,  4724, 3200.000,    1.527,   34.674,2, -999.000,3, -999.000,3,  126.100,2,  157.930,2,   37.210,2,    2.610,2, -999.000
           NA,HOT timeseries 1988to2019 27SEP2021,     99,  99,-999.0,       3,-999.0,19990316,1858,  22.7482, -158.0080,  4724, 3401.600,    1.489,   34.679,2,   34.678,2,  133.700,2,  134.600,2,  155.650,2,   36.640,2,    2.570,2, -999.000
           NA,HOT timeseries 1988to2019 27SEP2021,     99,  99,-999.0,      29,-999.0,19990316,1858,  22.7482, -158.0080,  4724, 3603.000,    1.468,   34.682,2, -999.000,2,  139.400,2, -999.000,2, -999.000,2, -999.000,2, -999.000,2, -999.000
           NA,HOT timeseries 1988to2019 27SEP2021,     99,  99,-999.0,      28,-999.0,19990316,1858,  22.7482, -158.0080,  4724, 3799.800,    1.455,   34.685,2,   34.687,2,  143.900,2,  144.100,2,  152.660,2,   36.010,2,    2.520,2, -999.000
           NA,HOT timeseries 1988to2019 27SEP2021,     99,  99,-999.0,       7,-999.0,19990316,1858,  22.7482, -158.0080,  4724, 4002.200,    1.459,   34.687,2,   34.684,2,  146.400,2,  144.800,2,  149.590,2,   35.830,2,    2.500,2, -999.000
           NA,HOT timeseries 1988to2019 27SEP2021,     99,  99,-999.0,      38,-999.0,19990316,1858,  22.7482, -158.0080,  4724, 4199.900,    1.463,   34.688,2,   34.688,2,  149.800,2,  149.400,2,  149.590,2,   35.660,2,    2.490,2, -999.000
           NA,HOT timeseries 1988to2019 27SEP2021,     99,  99,-999.0,      36,-999.0,19990316,1858,  22.7482, -158.0080,  4724, 4400.500,    1.478,   34.689,2,   34.689,2,  151.000,2,  150.600,2,  149.420,2,   35.550,2, -999.000,4, -999.000
           NA,HOT timeseries 1988to2019 27SEP2021,     99,  99,-999.0,      35,-999.0,19990316,1858,  22.7482, -158.0080,  4724, 4502.400,    1.487,   34.689,2,   34.689,2,  151.600,2,  150.800,2,  148.830,2,   35.490,2,    2.500,2, -999.000
           NA,HOT timeseries 1988to2019 27SEP2021,     99,  99,-999.0,      34,-999.0,19990316,1858,  22.7482, -158.0080,  4724, 4602.100,    1.497,   34.689,2,   34.689,2,  152.200,2,  151.800,2,  149.580,2,   35.550,2,    2.480,2, -999.000
           NA,HOT timeseries 1988to2019 27SEP2021,     99,  99,-999.0,      33,-999.0,19990316,1858,  22.7482, -158.0080,  4724, 4798.100,    1.509,   34.690,2,   34.690,2,  154.200,2,  156.700,2,  146.970,2,   35.390,2,    2.490,2, -999.000