BOTTLE,20214727JOAExport
EXPOCODE,SECT_ID,STNNBR,CASTNO,SAMPNO,BTLNBR,BTLNBR_FLAG_W,DATE,TIME,LATITUDE,LONGITUDE,DEPTH,CTDPRS,CTDTMP,CTDSAL,CTDSAL_FLAG_W,SALNTY,SALNTY_FLAG_W,CTDOXY,CTDOXY_FLAG_W,OXYGEN,OXYGEN_FLAG_W,SILCAT,SILCAT_FLAG_W,NINI,NINI_FLAG_W,PHSPHT,PHSPHT_FLAG_W,REVP
,,,,,,,,,,,,DB,IPTS-68,PSS-78,,PSS-78,,UMOL/KG,,UMOL/KG,,UMOL/KG,,UMOL/KG,,UMOL/KG,,DBAR
           NA,HOT timeseries 1988to2019 27SEP2021,    159,  99,-999.0,      31,-999.0,20040928,1856, -22.7500, -157.9945,  4720,    4.900,   27.358,   34.902,2,   34.901,2,  200.500,2,  201.300,2,    0.840,2,    0.050,2,    0.020,2, -999.000
           NA,HOT timeseries 1988to2019 27SEP2021,    159,  99,-999.0,      31,-999.0,20040928,1856, -22.7500, -157.9945,  4720,    7.400,   27.326,   34.901,2,   34.901,2,  200.600,2,  202.300,2,    0.860,2,    0.040,2,    0.020,2, -999.000
           NA,HOT timeseries 1988to2019 27SEP2021,    159,  99,-999.0,      30,-999.0,20040928,1856, -22.7500, -157.9945,  4720,   50.700,   26.098,   35.108,2,   35.107,2,  217.700,2,  215.600,2,    0.900,2,    0.060,2,    0.020,2, -999.000
           NA,HOT timeseries 1988to2019 27SEP2021,    159,  99,-999.0,      22,-999.0,20040928,1856, -22.7500, -157.9945,  4720,   61.400,   25.091,   35.197,2,   35.197,2,  222.200,2,  221.600,2,    1.060,2,    0.050,2,    0.030,2, -999.000
           NA,HOT timeseries 1988to2019 27SEP2021,    159,  99,-999.0,      21,-999.0,20040928,1856, -22.7500, -157.9945,  4720,   82.300,   23.532,   35.305,2, -999.000,4, -999.000,3,  221.900,2,    1.190,2,    0.050,2,    0.020,2, -999.000
           NA,HOT timeseries 1988to2019 27SEP2021,    159,  99,-999.0,      20,-999.0,20040928,1856, -22.7500, -157.9945,  4720,  121.100,   21.810,   35.337,2,   35.334,2,  212.400,2,  212.900,2,    1.360,2,    0.020,2,    0.020,2, -999.000
           NA,HOT timeseries 1988to2019 27SEP2021,    159,  99,-999.0,      19,-999.0,20040928,1856, -22.7500, -157.9945,  4720,  167.600,   19.113,   35.042,2,   35.047,2,  203.100,2,  203.200,2,    2.500,2,    1.670,2,    0.210,2, -999.000
           NA,HOT timeseries 1988to2019 27SEP2021,    159,  99,-999.0,      18,-999.0,20040928,1856, -22.7500, -157.9945,  4720,  220.100,   16.184,   34.653,2,   34.653,2,  207.900,2,  206.900,2,    4.300,2,    4.060,2,    0.390,2, -999.000
           NA,HOT timeseries 1988to2019 27SEP2021,    159,  99,-999.0,      17,-999.0,20040928,1856, -22.7500, -157.9945,  4720,  269.800,   13.765,   34.322,2,   34.320,2,  204.300,2,  202.400,2,    7.230,2,    7.490,2,    0.650,2, -999.000
           NA,HOT timeseries 1988to2019 27SEP2021,    159,  99,-999.0,      16,-999.0,20040928,1856, -22.7500, -157.9945,  4720,  319.500,   12.236,   34.216,2,   34.217,2,  204.800,2,  201.200,2,   10.610,2,   10.690,2,    0.860,2, -999.000
           NA,HOT timeseries 1988to2019 27SEP2021,    159,  99,-999.0,     102,-999.0,20040928,1856, -22.7500, -157.9945,  4720,  347.700,   10.980,   34.168,2,   34.167,2,  189.900,2,  193.900,2,   14.890,2,   14.170,2,    1.100,2, -999.000
           NA,HOT timeseries 1988to2019 27SEP2021,    159,  99,-999.0,     101,-999.0,20040928,1856, -22.7500, -157.9945,  4720,  414.100,    9.045,   34.099,2,   34.100,2,  175.100,2,  173.800,2,   26.380,2,   20.180,2,    1.510,2, -999.000
           NA,HOT timeseries 1988to2019 27SEP2021,    159,  99,-999.0,      42,-999.0,20040928,1856, -22.7500, -157.9945,  4720,  450.500,    7.946,   34.058,2,   34.055,2,  146.200,2,  145.800,2,   36.070,2,   24.980,2,    1.850,2, -999.000
           NA,HOT timeseries 1988to2019 27SEP2021,    159,  99,-999.0,      12,-999.0,20040928,1856, -22.7500, -157.9945,  4720,  486.700,    7.298,   34.050,2,   34.051,2,  122.000,2,  122.200,2,   43.950,2,   28.200,2,    2.100,2, -999.000
           NA,HOT timeseries 1988to2019 27SEP2021,    159,  99,-999.0,      39,-999.0,20040928,1856, -22.7500, -157.9945,  4720,  536.400,    6.647,   34.057,2,   34.058,2,   98.800,2,   98.300,2,   53.310,2,   31.570,2,    2.360,2, -999.000
           NA,HOT timeseries 1988to2019 27SEP2021,    159,  99,-999.0,      32,-999.0,20040928,1856, -22.7500, -157.9945,  4720,  588.000,    5.815,   34.071,2,   34.071,2,   72.600,2,   70.600,2,   66.490,2,   35.450,2,    2.630,2, -999.000
           NA,HOT timeseries 1988to2019 27SEP2021,    159,  99,-999.0,      29,-999.0,20040928,1856, -22.7500, -157.9945,  4720,  662.900,    5.203,   34.157,2,   34.156,2,   43.500,2,   39.500,2,   80.230,2,   38.860,2,    2.900,2, -999.000
           NA,HOT timeseries 1988to2019 27SEP2021,    159,  99,-999.0,      13,-999.0,20040928,1856, -22.7500, -157.9945,  4720,  765.000,    4.714,   34.306,2,   34.308,2,   31.200,2,   30.800,2,   93.060,2,   40.580,2,    3.030,2, -999.000
           NA,HOT timeseries 1988to2019 27SEP2021,    159,  99,-999.0,      36,-999.0,20040928,1856, -22.7500, -157.9945,  4720,  849.300,    4.437,   34.390,2,   34.389,2,   30.700,2,   30.900,2,   99.370,2,   41.170,2,    3.080,2, -999.000
           NA,HOT timeseries 1988to2019 27SEP2021,    159,  99,-999.0,      35,-999.0,20040928,1856, -22.7500, -157.9945,  4720,  884.900,    4.353,   34.418,2,   34.419,2,   34.600,2,   33.900,2,  100.720,2,   41.110,2,    3.080,2, -999.000
           NA,HOT timeseries 1988to2019 27SEP2021,    159,  99,-999.0,      33,-999.0,20040928,1856, -22.7500, -157.9945,  4720,  992.100,    4.060,   34.471,2,   34.473,2,   39.100,2,   38.400,2, -999.000,3,   41.570,2,    3.020,2, -999.000
           NA,HOT timeseries 1988to2019 27SEP2021,    159,  99,-999.0,      20,-999.0,20040928,1856, -22.7500, -157.9945,  4720, 1200.900,    3.536,   34.525,2,   34.525,2,   49.300,2,   49.200,2,  119.790,2,   41.370,2,    3.040,2, -999.000
           NA,HOT timeseries 1988to2019 27SEP2021,    159,  99,-999.0,      19,-999.0,20040928,1856, -22.7500, -157.9945,  4720, 1399.200,    3.111,   34.556,2,   34.558,2,   58.800,2,   58.800,2,  129.420,2,   41.060,2,    2.990,2, -999.000
           NA,HOT timeseries 1988to2019 27SEP2021,    159,  99,-999.0,      18,-999.0,20040928,1856, -22.7500, -157.9945,  4720, 1600.000,    2.708,   34.580,2,   34.582,2,   69.000,2,   69.300,2,  137.760,2,   40.610,2,    2.940,2, -999.000
           NA,HOT timeseries 1988to2019 27SEP2021,    159,  99,-999.0,      17,-999.0,20040928,1856, -22.7500, -157.9945,  4720, 1799.400,    2.410,   34.599,2,   34.600,2,   76.900,2,   77.100,2,  146.130,2,   40.240,2,    2.910,2, -999.000
           NA,HOT timeseries 1988to2019 27SEP2021,    159,  99,-999.0,      16,-999.0,20040928,1856, -22.7500, -157.9945,  4720, 1999.400,    2.113,   34.616,2,   34.616,2,   84.800,2,   85.200,2,  153.040,2,   39.710,2,    2.860,2, -999.000
           NA,HOT timeseries 1988to2019 27SEP2021,    159,  99,-999.0,     102,-999.0,20040928,1856, -22.7500, -157.9945,  4720, 2200.200,    1.939,   34.629,2,   34.629,2,   90.800,2,   91.000,2,  159.320,2,   39.380,2,    2.820,2, -999.000
           NA,HOT timeseries 1988to2019 27SEP2021,    159,  99,-999.0,     101,-999.0,20040928,1856, -22.7500, -157.9945,  4720, 2400.900,    1.793,   34.642,2, -999.000,4, -999.000,3,   99.400,2,  160.110,2,   38.730,2,    2.770,2, -999.000
           NA,HOT timeseries 1988to2019 27SEP2021,    159,  99,-999.0,      42,-999.0,20040928,1856, -22.7500, -157.9945,  4720, 2600.900,    1.683,   34.653,2,   34.653,2,  108.200,2,  108.700,2,  160.980,2,   38.280,2,    2.730,2, -999.000
           NA,HOT timeseries 1988to2019 27SEP2021,    159,  99,-999.0,      12,-999.0,20040928,1856, -22.7500, -157.9945,  4720, 2801.300,    1.606,   34.662,2,   34.661,2,  116.200,2,  116.300,2,  162.250,2,   37.700,2,    2.710,2, -999.000
           NA,HOT timeseries 1988to2019 27SEP2021,    159,  99,-999.0,      39,-999.0,20040928,1856, -22.7500, -157.9945,  4720, 2999.900,    1.541,   34.670,2,   34.670,2,  125.600,2,  125.500,2,  158.960,2,   37.140,2,    2.660,2, -999.000
           NA,HOT timeseries 1988to2019 27SEP2021,    159,  99,-999.0,      32,-999.0,20040928,1856, -22.7500, -157.9945,  4720, 3201.000,    1.510,   34.674,2,   34.674,2,  130.600,2,  130.800,2,  156.590,2,   36.860,2,    2.610,2, -999.000
           NA,HOT timeseries 1988to2019 27SEP2021,    159,  99,-999.0,       3,-999.0,20040928,1856, -22.7500, -157.9945,  4720, 3400.400,    1.480,   34.679,2, -999.000,4, -999.000,3,  137.000,2,  155.230,2,   36.550,2,    2.580,2, -999.000
           NA,HOT timeseries 1988to2019 27SEP2021,    159,  99,-999.0,      29,-999.0,20040928,1856, -22.7500, -157.9945,  4720, 3600.000,    1.462,   34.682,2,   34.683,2,  141.300,2,  141.100,2,  155.100,2,   36.180,2,    2.570,2, -999.000
           NA,HOT timeseries 1988to2019 27SEP2021,    159,  99,-999.0,      28,-999.0,20040928,1856, -22.7500, -157.9945,  4720, 3804.000,    1.451,   34.685,2,   34.688,2,  145.600,2,  145.700,2,  152.380,2,   35.880,2,    2.540,2, -999.000
           NA,HOT timeseries 1988to2019 27SEP2021,    159,  99,-999.0,      13,-999.0,20040928,1856, -22.7500, -157.9945,  4720, 4000.400,    1.453,   34.687,2,   34.686,2,  148.500,2,  148.500,2,  151.290,2,   35.810,2,    2.510,2, -999.000
           NA,HOT timeseries 1988to2019 27SEP2021,    159,  99,-999.0,      38,-999.0,20040928,1856, -22.7500, -157.9945,  4720, 4200.200,    1.462,   34.688,2,   34.688,2,  150.700,2,  150.300,2,  149.580,2,   35.740,2,    2.520,2, -999.000
           NA,HOT timeseries 1988to2019 27SEP2021,    159,  99,-999.0,      36,-999.0,20040928,1856, -22.7500, -157.9945,  4720, 4399.600,    1.476,   34.689,2,   34.690,2,  152.100,2,  151.600,2,  149.700,2,   35.780,2,    2.510,2, -999.000
           NA,HOT timeseries 1988to2019 27SEP2021,    159,  99,-999.0,      35,-999.0,20040928,1856, -22.7500, -157.9945,  4720, 4500.100,    1.486,   34.689,2,   34.690,2,  152.300,2,  151.900,2,  148.970,2,   35.880,2,    2.500,2, -999.000
           NA,HOT timeseries 1988to2019 27SEP2021,    159,  99,-999.0,      34,-999.0,20040928,1856, -22.7500, -157.9945,  4720, 4600.700,    1.495,   34.690,2,   34.692,2,  152.700,2, -999.000,5,  149.540,2,   35.700,2,    2.490,2, -999.000
           NA,HOT timeseries 1988to2019 27SEP2021,    159,  99,-999.0,      33,-999.0,20040928,1856, -22.7500, -157.9945,  4720, 4795.300,    1.505,   34.691,2,   34.693,2,  154.600,2,  154.900,2, -999.000,4,   35.550,2,    2.480,2, -999.000