BOTTLE,20214727JOAExport
EXPOCODE,SECT_ID,STNNBR,CASTNO,SAMPNO,BTLNBR,BTLNBR_FLAG_W,DATE,TIME,LATITUDE,LONGITUDE,DEPTH,CTDPRS,CTDTMP,CTDSAL,CTDSAL_FLAG_W,SALNTY,SALNTY_FLAG_W,CTDOXY,CTDOXY_FLAG_W,OXYGEN,OXYGEN_FLAG_W,SILCAT,SILCAT_FLAG_W,NINI,NINI_FLAG_W,PHSPHT,PHSPHT_FLAG_W,REVP
,,,,,,,,,,,,DB,IPTS-68,PSS-78,,PSS-78,,UMOL/KG,,UMOL/KG,,UMOL/KG,,UMOL/KG,,UMOL/KG,,DBAR
           NA,HOT timeseries 1988to2019 27SEP2021,    205,  99,-999.0,    8024,-999.0,20100518,2057,  22.7485, -158.0013,  4720,    5.400,   24.406,   35.246,2,   35.246,2,  213.300,2,  212.600,2,    0.850,2,    0.000,2,    0.110,2, -999.000
           NA,HOT timeseries 1988to2019 27SEP2021,    205,  99,-999.0,    8024,-999.0,20100518,2057,  22.7485, -158.0013,  4720,    5.900,   24.275,   35.234,2,   35.237,2,  213.600,2,  213.500,2,    0.930,2,    0.040,2,    0.080,2, -999.000
           NA,HOT timeseries 1988to2019 27SEP2021,    205,  99,-999.0,    8023,-999.0,20100518,2057,  22.7485, -158.0013,  4720,   25.100,   24.275,   35.245,2,   35.247,2,  213.800,2,  215.000,2,    0.820,2,    0.050,2,    0.090,2, -999.000
           NA,HOT timeseries 1988to2019 27SEP2021,    205,  99,-999.0,    8022,-999.0,20100518,2057,  22.7485, -158.0013,  4720,   45.500,   24.163,   35.285,2,   35.291,2,  214.800,2,  214.800,2,    0.900,2,    0.030,2,    0.080,2, -999.000
           NA,HOT timeseries 1988to2019 27SEP2021,    205,  99,-999.0,    8021,-999.0,20100518,2057,  22.7485, -158.0013,  4720,   75.300,   23.284,   35.316,2,   35.317,2,  220.200,2,  219.800,2,    0.780,2,    0.050,2,    0.080,2, -999.000
           NA,HOT timeseries 1988to2019 27SEP2021,    205,  99,-999.0,    8020,-999.0,20100518,2057,  22.7485, -158.0013,  4720,  108.500,   22.667,   35.340,2,   35.340,2,  213.300,2,  213.600,2,    0.880,2,    0.020,2,    0.080,2, -999.000
           NA,HOT timeseries 1988to2019 27SEP2021,    205,  99,-999.0,    8019,-999.0,20100518,2057,  22.7485, -158.0013,  4720,  125.000,   21.686,   35.330,2,   35.333,2,  209.600,2,  209.600,2,    1.030,2,    0.130,2,    0.090,2, -999.000
           NA,HOT timeseries 1988to2019 27SEP2021,    205,  99,-999.0,    8018,-999.0,20100518,2057,  22.7485, -158.0013,  4720,  142.600,   21.285,   35.450,2,   35.451,2,  223.500,2,  220.300,2,    1.020,2,    0.010,2,    0.040,2, -999.000
           NA,HOT timeseries 1988to2019 27SEP2021,    205,  99,-999.0,    8017,-999.0,20100518,2057,  22.7485, -158.0013,  4720,  197.000,   19.773,   35.256,2,   35.264,2,  207.000,2,  211.600,2,    1.630,2,    1.080,2,    0.100,2, -999.000
           NA,HOT timeseries 1988to2019 27SEP2021,    205,  99,-999.0,    8016,-999.0,20100518,2057,  22.7485, -158.0013,  4720,  225.500,   18.777,   35.119,2,   35.118,2,  218.200,2,  219.600,2, -999.000,3, -999.000,3, -999.000,3, -999.000
           NA,HOT timeseries 1988to2019 27SEP2021,    205,  99,-999.0,    8015,-999.0,20100518,2057,  22.7485, -158.0013,  4720,  269.200,   15.361,   34.539,2,   34.542,2,  198.300,2,  200.100,2,    5.880,2, -999.000,4, -999.000,4, -999.000
           NA,HOT timeseries 1988to2019 27SEP2021,    205,  99,-999.0,    8014,-999.0,20100518,2057,  22.7485, -158.0013,  4720,  332.100,   12.314,   34.215,2,   34.228,2,  196.100,2,  196.100,2,   10.290,2,   11.300,2,    0.830,2, -999.000
           NA,HOT timeseries 1988to2019 27SEP2021,    205,  99,-999.0,    8025,-999.0,20100518,2057,  22.7485, -158.0013,  4720,  369.200,   10.940,   34.132,2,   34.131,2,  190.100,2,  190.600,2,   15.180,2,   14.950,2,    1.080,2, -999.000
           NA,HOT timeseries 1988to2019 27SEP2021,    205,  99,-999.0,    8012,-999.0,20100518,2057,  22.7485, -158.0013,  4720,  433.700,    9.371,   34.099,2,   34.100,2,  164.100,2,  163.100,2,   25.460,2,   20.720,2,    1.500,2, -999.000
           NA,HOT timeseries 1988to2019 27SEP2021,    205,  99,-999.0,    8010,-999.0,20100518,2057,  22.7485, -158.0013,  4720,  511.700,    7.379,   34.056,2,   34.055,2,  113.700,2,  112.300,2,   44.760,2,   29.340,2,    2.110,2, -999.000
           NA,HOT timeseries 1988to2019 27SEP2021,    205,  99,-999.0,    8009,-999.0,20100518,2057,  22.7485, -158.0013,  4720,  542.200,    6.729,   34.069,2,   34.068,2,   90.300,2,   90.200,2,   54.240,2,   32.620,2,    2.370,2, -999.000
           NA,HOT timeseries 1988to2019 27SEP2021,    205,  99,-999.0,    8008,-999.0,20100518,2057,  22.7485, -158.0013,  4720,  585.100,    6.124,   34.121,2,   34.120,2,   66.700,2,   67.200,2,   65.020,2,   35.620,2,    2.610,2, -999.000
           NA,HOT timeseries 1988to2019 27SEP2021,    205,  99,-999.0,    8026,-999.0,20100518,2057,  22.7485, -158.0013,  4720,  633.900,    5.604,   34.178,2,   34.181,2,   47.400,2,   46.200,2,   75.810,2,   38.300,2,    2.800,2, -999.000
           NA,HOT timeseries 1988to2019 27SEP2021,    205,  99,-999.0,    8006,-999.0,20100518,2057,  22.7485, -158.0013,  4720,  681.500,    5.328,   34.270,2,   34.271,2,   33.000,2,   33.400,2,   83.050,2,   39.970,2,    2.950,2, -999.000
           NA,HOT timeseries 1988to2019 27SEP2021,    205,  99,-999.0,    8004,-999.0,20100518,2057,  22.7485, -158.0013,  4720,  745.300,    4.909,   34.339,2, -999.000,4, -999.000,3,   33.900,2,   91.290,2,   40.740,2,    2.980,2, -999.000
           NA,HOT timeseries 1988to2019 27SEP2021,    205,  99,-999.0,    8003,-999.0,20100518,2057,  22.7485, -158.0013,  4720,  798.600,    4.665,   34.369,2,   34.369,2,   34.700,2,   34.000,2,   96.480,2,   41.090,2,    3.010,2, -999.000
           NA,HOT timeseries 1988to2019 27SEP2021,    205,  99,-999.0,    8002,-999.0,20100518,2057,  22.7485, -158.0013,  4720,  840.100,    4.528,   34.400,2,   34.402,2,   36.700,2,   37.500,2,   99.650,2,   41.230,2,    3.000,2, -999.000
           NA,HOT timeseries 1988to2019 27SEP2021,    205,  99,-999.0,    8001,-999.0,20100518,2057,  22.7485, -158.0013,  4720, 1015.500,    4.050,   34.474,2,   34.473,2,   45.600,2,   46.300,2,  108.470,2,   41.280,2,    2.980,2, -999.000
           NA,HOT timeseries 1988to2019 27SEP2021,    205,  99,-999.0,    8020,-999.0,20100518,2057,  22.7485, -158.0013,  4720, 1200.100,    3.708,   34.516,2,   34.516,2,   50.400,2,   50.900,2,  115.020,2, -999.000,3, -999.000,3, -999.000
           NA,HOT timeseries 1988to2019 27SEP2021,    205,  99,-999.0,    8019,-999.0,20100518,2057,  22.7485, -158.0013,  4720, 1400.600,    3.135,   34.553,2,   34.552,2,   60.300,2,   60.800,2,  127.930,2,   41.070,2,    2.940,2, -999.000
           NA,HOT timeseries 1988to2019 27SEP2021,    205,  99,-999.0,    8018,-999.0,20100518,2057,  22.7485, -158.0013,  4720, 1600.600,    2.711,   34.579,2,   34.579,2,   71.600,2,   70.900,2,  137.120,2,   40.590,2,    2.900,2, -999.000
           NA,HOT timeseries 1988to2019 27SEP2021,    205,  99,-999.0,    8017,-999.0,20100518,2057,  22.7485, -158.0013,  4720, 1801.300,    2.370,   34.601,2,   34.601,2,   80.700,2,   80.900,2,  144.580,2,   40.040,2,    2.850,2, -999.000
           NA,HOT timeseries 1988to2019 27SEP2021,    205,  99,-999.0,    8016,-999.0,20100518,2057,  22.7485, -158.0013,  4720, 1998.400,    2.155,   34.617,2,   34.616,2,   89.200,2,   89.600,2,  149.180,2,   39.520,2,    2.800,2, -999.000
           NA,HOT timeseries 1988to2019 27SEP2021,    205,  99,-999.0,    8015,-999.0,20100518,2057,  22.7485, -158.0013,  4720, 2200.400,    1.941,   34.630,2,   34.630,2,   94.900,2,   96.100,2,  156.840,2,   39.300,2,    2.780,2, -999.000
           NA,HOT timeseries 1988to2019 27SEP2021,    205,  99,-999.0,    8014,-999.0,20100518,2057,  22.7485, -158.0013,  4720, 2399.400,    1.809,   34.641,2,   34.641,2,  102.100,2,  102.500,2,  157.540,2,   38.880,2,    2.740,2, -999.000
           NA,HOT timeseries 1988to2019 27SEP2021,    205,  99,-999.0,    8025,-999.0,20100518,2057,  22.7485, -158.0013,  4720, 2600.800,    1.698,   34.650,2,   34.650,2,  108.400,2,  108.600,2,  159.330,2,   38.490,2,    2.720,2, -999.000
           NA,HOT timeseries 1988to2019 27SEP2021,    205,  99,-999.0,    8012,-999.0,20100518,2057,  22.7485, -158.0013,  4720, 2799.700,    1.621,   34.659,2,   34.659,2,  116.100,2,  116.100,2,  159.340,2,   37.950,2,    2.680,2, -999.000
           NA,HOT timeseries 1988to2019 27SEP2021,    205,  99,-999.0,    8011,-999.0,20100518,2057,  22.7485, -158.0013,  4720, 2999.700,    1.557,   34.666,2,   34.666,2,  124.200,2,  124.000,2,  158.350,2,   37.370,2,    2.630,2, -999.000
           NA,HOT timeseries 1988to2019 27SEP2021,    205,  99,-999.0,    8010,-999.0,20100518,2057,  22.7485, -158.0013,  4720, 3196.700,    1.508,   34.672,2,   34.673,2,  131.700,2,  131.500,2,  157.670,2,   37.060,2,    2.580,2, -999.000
           NA,HOT timeseries 1988to2019 27SEP2021,    205,  99,-999.0,    8009,-999.0,20100518,2057,  22.7485, -158.0013,  4720, 3399.400,    1.481,   34.677,2,   34.677,2,  137.200,2,  137.400,2,  156.850,2,   36.610,2,    2.560,2, -999.000
           NA,HOT timeseries 1988to2019 27SEP2021,    205,  99,-999.0,    8008,-999.0,20100518,2057,  22.7485, -158.0013,  4720, 3599.500,    1.469,   34.680,2,   34.680,2,  141.400,2,  141.100,2,  154.090,2,   36.490,2,    2.540,2, -999.000
           NA,HOT timeseries 1988to2019 27SEP2021,    205,  99,-999.0,    8026,-999.0,20100518,2057,  22.7485, -158.0013,  4720, 3799.900,    1.463,   34.682,2,   34.682,2,  145.000,2, -999.000,4,  153.240,2,   35.970,2,    2.510,2, -999.000
           NA,HOT timeseries 1988to2019 27SEP2021,    205,  99,-999.0,    8006,-999.0,20100518,2057,  22.7485, -158.0013,  4720, 4000.600,    1.463,   34.684,2,   34.684,2,  148.000,2,  147.600,2,  152.960,2,   35.880,2,    2.500,2, -999.000
           NA,HOT timeseries 1988to2019 27SEP2021,    205,  99,-999.0,    8005,-999.0,20100518,2057,  22.7485, -158.0013,  4720, 4198.900,    1.472,   34.685,2,   34.685,2,  150.000,2,  149.900,2,  150.630,2,   35.790,2,    2.470,2, -999.000
           NA,HOT timeseries 1988to2019 27SEP2021,    205,  99,-999.0,    8004,-999.0,20100518,2057,  22.7485, -158.0013,  4720, 4399.800,    1.480,   34.687,2,   34.687,2,  152.200,2,  151.900,2,  149.700,2,   35.620,2,    2.490,2, -999.000
           NA,HOT timeseries 1988to2019 27SEP2021,    205,  99,-999.0,    8003,-999.0,20100518,2057,  22.7485, -158.0013,  4720, 4498.800,    1.485,   34.687,2,   34.687,2,  153.300,2,  153.300,2,  149.850,2,   35.630,2,    2.470,2, -999.000
           NA,HOT timeseries 1988to2019 27SEP2021,    205,  99,-999.0,    8002,-999.0,20100518,2057,  22.7485, -158.0013,  4720, 4599.200,    1.492,   34.688,2,   34.688,2,  154.000,2,  154.000,2,  148.550,2,   35.500,2,    2.470,2, -999.000
           NA,HOT timeseries 1988to2019 27SEP2021,    205,  99,-999.0,    8001,-999.0,20100518,2057,  22.7485, -158.0013,  4720, 4809.700,    1.508,   34.688,2,   34.689,2,  155.700,2,  156.100,2,  147.740,2,   35.260,2,    2.460,2, -999.000