BOTTLE,20214727JOAExport
EXPOCODE,SECT_ID,STNNBR,CASTNO,SAMPNO,BTLNBR,BTLNBR_FLAG_W,DATE,TIME,LATITUDE,LONGITUDE,DEPTH,CTDPRS,CTDTMP,CTDSAL,CTDSAL_FLAG_W,SALNTY,SALNTY_FLAG_W,CTDOXY,CTDOXY_FLAG_W,OXYGEN,OXYGEN_FLAG_W,SILCAT,SILCAT_FLAG_W,NINI,NINI_FLAG_W,PHSPHT,PHSPHT_FLAG_W,REVP
,,,,,,,,,,,,DB,IPTS-68,PSS-78,,PSS-78,,UMOL/KG,,UMOL/KG,,UMOL/KG,,UMOL/KG,,UMOL/KG,,DBAR
           NA,HOT timeseries 1988to2019 27SEP2021,    165,  99,-999.0,      23,-999.0,20050517,2213,  22.7500, -157.9997,  4747,    8.500,   25.299,   34.884,2,   34.883,2,  210.200,2,  209.500,2,    1.280,2,    0.020,2,    0.060,2, -999.000
           NA,HOT timeseries 1988to2019 27SEP2021,    165,  99,-999.0,      23,-999.0,20050517,2213,  22.7500, -157.9997,  4747,   11.400,   25.192,   34.881,2,   34.885,2,  210.100,2,  211.200,2,    1.270,2,    0.040,2,    0.040,2, -999.000
           NA,HOT timeseries 1988to2019 27SEP2021,    165,  99,-999.0,      30,-999.0,20050517,2213,  22.7500, -157.9997,  4747,   36.400,   25.116,   34.879,2,   34.878,2,  210.700,2,  210.000,2,    1.200,2,    0.040,2,    0.060,2, -999.000
           NA,HOT timeseries 1988to2019 27SEP2021,    165,  99,-999.0,      22,-999.0,20050517,2213,  22.7500, -157.9997,  4747,   79.100,   23.971,   35.038,2,   35.033,2,  216.200,2,  215.700,2,    1.350,2,    0.040,2,    0.030,2, -999.000
           NA,HOT timeseries 1988to2019 27SEP2021,    165,  99,-999.0,      21,-999.0,20050517,2213,  22.7500, -157.9997,  4747,  120.100,   23.444,   35.120,2,   35.126,2,  214.000,2, -999.000,5,    1.500,2,    0.030,2,    0.020,2, -999.000
           NA,HOT timeseries 1988to2019 27SEP2021,    165,  99,-999.0,      41,-999.0,20050517,2213,  22.7500, -157.9997,  4747,  179.000,   21.817,   35.113,2,   35.107,2,  196.300,2,  197.900,2, -999.000,4,    0.660,2,    0.130,2, -999.000
           NA,HOT timeseries 1988to2019 27SEP2021,    165,  99,-999.0,   12053,-999.0,20050517,2213,  22.7500, -157.9997,  4747,  223.100,   19.282,   34.963,2, -999.000,4, -999.000,3, -999.000,4, -999.000,4, -999.000,3,    0.130,2, -999.000
           NA,HOT timeseries 1988to2019 27SEP2021,    165,  99,-999.0,      18,-999.0,20050517,2213,  22.7500, -157.9997,  4747,  290.200,   15.104,   34.454,2,   34.454,2,  203.300,2,  202.400,2, -999.000,3,    5.850,2,    0.460,2, -999.000
           NA,HOT timeseries 1988to2019 27SEP2021,    165,  99,-999.0,      17,-999.0,20050517,2213,  22.7500, -157.9997,  4747,  339.700,   11.462,   34.157,2,   34.157,2,  194.900,2,  194.600,2,   13.340,2,   12.780,2, -999.000,4, -999.000
           NA,HOT timeseries 1988to2019 27SEP2021,    165,  99,-999.0,      34,-999.0,20050517,2213,  22.7500, -157.9997,  4747,  395.900,    9.554,   34.111,2,   34.109,2,  171.700,2,  171.100,2, -999.000,3,   19.360,2,    1.420,2, -999.000
           NA,HOT timeseries 1988to2019 27SEP2021,    165,  99,-999.0,   12048,-999.0,20050517,2213,  22.7500, -157.9997,  4747,  436.600,    8.387,   34.079,2,   34.078,2,  146.300,2,  147.000,2, -999.000,3,   24.130,2,    1.750,2, -999.000
           NA,HOT timeseries 1988to2019 27SEP2021,    165,  99,-999.0,     101,-999.0,20050517,2213,  22.7500, -157.9997,  4747,  469.300,    7.676,   34.059,2,   34.059,2,  130.600,2,  130.200,2, -999.000,3,   27.130,2,    1.960,2, -999.000
           NA,HOT timeseries 1988to2019 27SEP2021,    165,  99,-999.0,      42,-999.0,20050517,2213,  22.7500, -157.9997,  4747,  504.500,    7.107,   34.052,2,   34.053,2,  112.000,2,  112.000,2,   48.810,2,   29.700,2,    2.170,2, -999.000
           NA,HOT timeseries 1988to2019 27SEP2021,    165,  99,-999.0,   12047,-999.0,20050517,2213,  22.7500, -157.9997,  4747,  536.300,    6.760,   34.085,2,   34.087,2,   83.700,2,   87.700,2,   54.020,2,   32.340,2,    2.380,2, -999.000
           NA,HOT timeseries 1988to2019 27SEP2021,    165,  99,-999.0,      39,-999.0,20050517,2213,  22.7500, -157.9997,  4747,  577.800,    6.237,   34.109,2,   34.109,2,   67.300,2,   66.900,2,   63.350,2,   35.330,2,    2.600,2, -999.000
           NA,HOT timeseries 1988to2019 27SEP2021,    165,  99,-999.0,      33,-999.0,20050517,2213,  22.7500, -157.9997,  4747,  631.200,    5.730,   34.153,2,   34.158,2,   46.700,2,   46.600,2,   73.390,2,   38.070,2,    2.780,2, -999.000
           NA,HOT timeseries 1988to2019 27SEP2021,    165,  99,-999.0,       3,-999.0,20050517,2213,  22.7500, -157.9997,  4747,  684.100,    5.314,   34.227,2,   34.226,2,   31.900,2,   31.400,2,   80.470,2,   40.050,2,    2.930,2, -999.000
           NA,HOT timeseries 1988to2019 27SEP2021,    165,  99,-999.0,   12054,-999.0,20050517,2213,  22.7500, -157.9997,  4747,  792.600,    4.775,   34.380,2,   34.380,2,   26.600,2,   27.000,2,   93.560,2,   41.810,2,    3.060,2, -999.000
           NA,HOT timeseries 1988to2019 27SEP2021,    165,  99,-999.0,      13,-999.0,20050517,2213,  22.7500, -157.9997,  4747,  839.300,    4.647,   34.409,2,   34.415,2,   28.600,2,   28.600,2,   99.540,2,   41.930,2,    3.060,2, -999.000
           NA,HOT timeseries 1988to2019 27SEP2021,    165,  99,-999.0,   12011,-999.0,20050517,2213,  22.7500, -157.9997,  4747,  876.600,    4.476,   34.437,2,   34.435,2,   31.600,2,   30.600,2, -999.000,4,   42.160,2,    3.070,2, -999.000
           NA,HOT timeseries 1988to2019 27SEP2021,    165,  99,-999.0,      36,-999.0,20050517,2213,  22.7500, -157.9997,  4747,  914.300,    4.351,   34.458,2,   34.464,2,   34.200,2,   34.400,2,  105.120,2,   42.100,2,    3.070,2, -999.000
           NA,HOT timeseries 1988to2019 27SEP2021,    165,  99,-999.0,      11,-999.0,20050517,2213,  22.7500, -157.9997,  4747, 1019.500,    4.036,   34.491,2,   34.493,2,   42.600,2,   42.500,2, -999.000,4, -999.000,4, -999.000,4, -999.000
           NA,HOT timeseries 1988to2019 27SEP2021,    165,  99,-999.0,      41,-999.0,20050517,2213,  22.7500, -157.9997,  4747, 1200.400,    3.619,   34.532,2,   34.534,2,   48.100,2,   49.000,2, -999.000,3,   41.470,2,    3.040,2, -999.000
           NA,HOT timeseries 1988to2019 27SEP2021,    165,  99,-999.0,   12053,-999.0,20050517,2213,  22.7500, -157.9997,  4747, 1400.000,    3.123,   34.560,2, -999.000,4, -999.000,3, -999.000,3, -999.000,3,   41.220,2,    3.010,2, -999.000
           NA,HOT timeseries 1988to2019 27SEP2021,    165,  99,-999.0,      18,-999.0,20050517,2213,  22.7500, -157.9997,  4747, 1600.100,    2.767,   34.584,2,   34.584,2,   67.400,2,   67.500,2,  135.350,2,   40.810,2,    2.970,2, -999.000
           NA,HOT timeseries 1988to2019 27SEP2021,    165,  99,-999.0,      17,-999.0,20050517,2213,  22.7500, -157.9997,  4747, 1799.400,    2.480,   34.600,2,   34.600,2,   76.900,2,   77.000,2,  141.710,2,   40.370,2,    2.910,2, -999.000
           NA,HOT timeseries 1988to2019 27SEP2021,    165,  99,-999.0,      34,-999.0,20050517,2213,  22.7500, -157.9997,  4747, 2000.400,    2.187,   34.617,2,   34.618,2,   87.100,2,   86.600,2, -999.000,3,   39.740,2,    2.860,2, -999.000
           NA,HOT timeseries 1988to2019 27SEP2021,    165,  99,-999.0,   12048,-999.0,20050517,2213,  22.7500, -157.9997,  4747, 2199.900,    1.976,   34.633,2,   34.632,2,   96.700,2,   98.000,2, -999.000,3,   39.090,2,    2.800,2, -999.000
           NA,HOT timeseries 1988to2019 27SEP2021,    165,  99,-999.0,     101,-999.0,20050517,2213,  22.7500, -157.9997,  4747, 2398.800,    1.853,   34.643,2,   34.642,2,  103.600,2,  103.200,2, -999.000,3,   38.690,2,    2.740,2, -999.000
           NA,HOT timeseries 1988to2019 27SEP2021,    165,  99,-999.0,      42,-999.0,20050517,2213,  22.7500, -157.9997,  4747, 2600.400,    1.736,   34.652,2,   34.653,2,  109.400,2,  110.100,2, -999.000,3,   38.310,2,    2.690,2, -999.000
           NA,HOT timeseries 1988to2019 27SEP2021,    165,  99,-999.0,   12047,-999.0,20050517,2213,  22.7500, -157.9997,  4747, 2801.300,    1.641,   34.661,2,   34.660,2,  116.800,2,  117.000,2, -999.000,3,   38.030,2,    2.690,2, -999.000
           NA,HOT timeseries 1988to2019 27SEP2021,    165,  99,-999.0,      39,-999.0,20050517,2213,  22.7500, -157.9997,  4747, 3000.100,    1.581,   34.667,2,   34.667,2,  122.700,2,  122.700,2,  157.660,2,   37.310,2,    2.650,2, -999.000
           NA,HOT timeseries 1988to2019 27SEP2021,    165,  99,-999.0,      33,-999.0,20050517,2213,  22.7500, -157.9997,  4747, 3200.300,    1.535,   34.673,2, -999.000,5,  129.000,2,  129.000,2,  156.440,2,   36.970,2,    2.610,2, -999.000
           NA,HOT timeseries 1988to2019 27SEP2021,    165,  99,-999.0,       3,-999.0,20050517,2213,  22.7500, -157.9997,  4747, 3399.900,    1.493,   34.679,2,   34.679,2,  134.400,2,  134.000,2,  154.670,2,   36.780,2,    2.600,2, -999.000
           NA,HOT timeseries 1988to2019 27SEP2021,    165,  99,-999.0,      29,-999.0,20050517,2213,  22.7500, -157.9997,  4747, 3601.000,    1.472,   34.683,2,   34.684,2,  139.600,2,  139.200,2,  154.060,2,   36.450,2,    2.560,2, -999.000
           NA,HOT timeseries 1988to2019 27SEP2021,    165,  99,-999.0,   12054,-999.0,20050517,2213,  22.7500, -157.9997,  4747, 3800.100,    1.465,   34.685,2,   34.684,2,  143.400,2, -999.000,4,  153.080,2,   36.100,2,    2.530,2, -999.000
           NA,HOT timeseries 1988to2019 27SEP2021,    165,  99,-999.0,      13,-999.0,20050517,2213,  22.7500, -157.9997,  4747, 4001.400,    1.462,   34.687,2,   34.686,2,  147.000,2,  146.500,2,  150.950,2,   35.890,2,    2.510,2, -999.000
           NA,HOT timeseries 1988to2019 27SEP2021,    165,  99,-999.0,   12011,-999.0,20050517,2213,  22.7500, -157.9997,  4747, 4201.900,    1.467,   34.688,2,   34.687,2,  149.400,2,  150.300,2,  149.970,2,   35.850,2,    2.500,2, -999.000
           NA,HOT timeseries 1988to2019 27SEP2021,    165,  99,-999.0,      36,-999.0,20050517,2213,  22.7500, -157.9997,  4747, 4400.700,    1.477,   34.689,2,   34.691,2,  151.400,2,  150.800,2,  149.040,2,   35.660,2,    2.490,2, -999.000
           NA,HOT timeseries 1988to2019 27SEP2021,    165,  99,-999.0,      35,-999.0,20050517,2213,  22.7500, -157.9997,  4747, 4500.400,    1.486,   34.690,2,   34.690,2,  151.800,2,  151.600,2,  147.860,2,   35.660,2,    2.490,2, -999.000
           NA,HOT timeseries 1988to2019 27SEP2021,    165,  99,-999.0,       7,-999.0,20050517,2213,  22.7500, -157.9997,  4747, 4599.200,    1.495,   34.690,2,   34.690,2,  152.300,2,  152.100,2,  148.690,2,   35.460,2,    2.480,2, -999.000
           NA,HOT timeseries 1988to2019 27SEP2021,    165,  99,-999.0,      11,-999.0,20050517,2213,  22.7500, -157.9997,  4747, 4800.200,    1.515,   34.690,2,   34.692,2,  152.600,2,  153.000,2,  146.920,2,   35.560,2,    2.490,2, -999.000