BOTTLE,20214727JOAExport
EXPOCODE,SECT_ID,STNNBR,CASTNO,SAMPNO,BTLNBR,BTLNBR_FLAG_W,DATE,TIME,LATITUDE,LONGITUDE,DEPTH,CTDPRS,CTDTMP,CTDSAL,CTDSAL_FLAG_W,SALNTY,SALNTY_FLAG_W,CTDOXY,CTDOXY_FLAG_W,OXYGEN,OXYGEN_FLAG_W,SILCAT,SILCAT_FLAG_W,NINI,NINI_FLAG_W,PHSPHT,PHSPHT_FLAG_W,REVP
,,,,,,,,,,,,DB,IPTS-68,PSS-78,,PSS-78,,UMOL/KG,,UMOL/KG,,UMOL/KG,,UMOL/KG,,UMOL/KG,,DBAR
           NA,HOT timeseries 1988to2019 27SEP2021,      2,  99,-999.0,    8010,-999.0,20171006,2045,  22.7502, -158.0003,  4739, 3197.900,    1.544,   34.672,2,   34.673,2,  126.200,2,  126.700,2, -999.000,3,   37.510,2,    2.630,2, -999.000
           NA,HOT timeseries 1988to2019 27SEP2021,      2,  99,-999.0,    8009,-999.0,20171006,2045,  22.7502, -158.0003,  4739, 3407.300,    1.514,   34.677,2,   34.677,2,  132.000,2,  131.900,2,  159.320,2,   37.300,2,    2.550,2, -999.000
           NA,HOT timeseries 1988to2019 27SEP2021,      2,  99,-999.0,    8008,-999.0,20171006,2045,  22.7502, -158.0003,  4739, 3607.100,    1.488,   34.681,2,   34.680,2,  137.800,2,  137.600,2, -999.000,3,   36.890,2,    2.600,2, -999.000
           NA,HOT timeseries 1988to2019 27SEP2021,      2,  99,-999.0,    8060,-999.0,20171006,2045,  22.7502, -158.0003,  4739, 3808.600,    1.468,   34.683,2,   34.683,2,  143.200,2,  142.800,2,  155.430,2,   36.820,2,    2.550,2, -999.000
           NA,HOT timeseries 1988to2019 27SEP2021,      2,  99,-999.0,    8006,-999.0,20171006,2045,  22.7502, -158.0003,  4739, 4010.800,    1.465,   34.686,2,   34.685,2,  146.900,2,  146.500,2,  154.240,2,   36.320,2,    2.530,2, -999.000
           NA,HOT timeseries 1988to2019 27SEP2021,      2,  99,-999.0,    8005,-999.0,20171006,2045,  22.7502, -158.0003,  4739, 4208.400,    1.470,   34.687,2,   34.687,2,  149.600,2,  149.000,2,  152.360,2,   36.130,2,    2.520,2, -999.000
           NA,HOT timeseries 1988to2019 27SEP2021,      2,  99,-999.0,    8059,-999.0,20171006,2045,  22.7502, -158.0003,  4739, 4408.100,    1.481,   34.688,2,   34.689,2,  151.500,2,  150.800,2,  152.030,2,   35.990,2,    2.490,2, -999.000
           NA,HOT timeseries 1988to2019 27SEP2021,      2,  99,-999.0,    8003,-999.0,20171006,2045,  22.7502, -158.0003,  4739, 4508.400,    1.489,   34.688,2,   34.690,2,  151.800,2,  152.000,2,  151.200,2,   36.010,2,    2.510,2, -999.000
           NA,HOT timeseries 1988to2019 27SEP2021,      2,  99,-999.0,    8002,-999.0,20171006,2045,  22.7502, -158.0003,  4739, 4610.000,    1.497,   34.689,2,   34.689,2,  152.300,2,  152.800,2,  151.490,2,   36.000,2,    2.500,2, -999.000
           NA,HOT timeseries 1988to2019 27SEP2021,      2,  99,-999.0,    8001,-999.0,20171006,2045,  22.7502, -158.0003,  4739, 4803.700,    1.518,   34.689,2,   34.690,2,  152.500,2,  152.800,2,  150.250,2,   36.040,2,    2.490,2, -999.000
           NA,HOT timeseries 1988to2019 27SEP2021,      2,  99,-999.0,    8058,-999.0,20171108,2023,  22.7430, -157.9953,  4739,    4.900,   26.151,   35.048,2,   35.048,2,  203.800,2,  204.300,2, -999.000,4,    0.000,2,    0.030,2, -999.000
           NA,HOT timeseries 1988to2019 27SEP2021,      2,  99,-999.0,    8022,-999.0,20171108,2023,  22.7430, -157.9953,  4739,   74.400,   24.493,   35.042,2,   35.047,2,  216.200,2,  216.600,2, -999.000,3,    0.000,2,    0.050,2, -999.000
           NA,HOT timeseries 1988to2019 27SEP2021,      2,  99,-999.0,    8021,-999.0,20171108,2023,  22.7430, -157.9953,  4739,   91.000,   23.323,   35.118,2,   35.118,2,  209.000,2,  209.500,2, -999.000,5, -999.000,5, -999.000,5, -999.000
           NA,HOT timeseries 1988to2019 27SEP2021,      2,  99,-999.0,    8020,-999.0,20171108,2023,  22.7430, -157.9953,  4739,  124.500,   21.946,   35.133,2,   35.135,2,  199.700,2, -999.000,5, -999.000,3,    0.740,2,    0.140,2, -999.000
           NA,HOT timeseries 1988to2019 27SEP2021,      2,  99,-999.0,    8019,-999.0,20171108,2023,  22.7430, -157.9953,  4739,  175.100,   19.564,   34.988,2,   34.982,2,  194.200,2, -999.000,5, -999.000,3,    2.220,2,    0.220,2, -999.000
           NA,HOT timeseries 1988to2019 27SEP2021,      2,  99,-999.0,    8018,-999.0,20171108,2023,  22.7430, -157.9953,  4739,  236.300,   15.832,   34.559,2,   34.561,2,  197.000,2,  198.100,2,    6.510,2,    5.500,2,    0.440,2, -999.000
           NA,HOT timeseries 1988to2019 27SEP2021,      2,  99,-999.0,    8017,-999.0,20171108,2023,  22.7430, -157.9953,  4739,  282.900,   12.989,   34.239,2,   34.225,2,  200.300,2,  199.700,2, -999.000,3,    9.930,2,    0.730,2, -999.000
           NA,HOT timeseries 1988to2019 27SEP2021,      2,  99,-999.0,    8016,-999.0,20171108,2023,  22.7430, -157.9953,  4739,  311.000,   12.120,   34.181,2,   34.180,2,  202.300,2,  203.200,2,   11.910,2, -999.000,3, -999.000,3, -999.000
           NA,HOT timeseries 1988to2019 27SEP2021,      2,  99,-999.0,    8015,-999.0,20171108,2023,  22.7430, -157.9953,  4739,  379.500,    9.622,   34.076,2,   34.080,2,  180.900,2,  180.300,2,   22.810,2,   18.640,2,    1.320,2, -999.000
           NA,HOT timeseries 1988to2019 27SEP2021,      2,  99,-999.0,    8014,-999.0,20171108,2023,  22.7430, -157.9953,  4739,  476.700,    7.377,   34.078,2,   34.078,2,   91.500,2,   91.900,2,   49.450,2,   30.580,2,    2.240,2, -999.000
           NA,HOT timeseries 1988to2019 27SEP2021,      2,  99,-999.0,    8012,-999.0,20171108,2023,  22.7430, -157.9953,  4739,  525.300,    6.634,   34.092,2,   34.094,2,   68.300,2,   68.500,2,   59.360,2,   34.130,2,    2.510,2, -999.000
           NA,HOT timeseries 1988to2019 27SEP2021,      2,  99,-999.0,    8011,-999.0,20171108,2023,  22.7430, -157.9953,  4739,  561.900,    6.109,   34.123,2,   34.124,2,   49.800,2,   50.300,2, -999.000,5, -999.000,5, -999.000,5, -999.000
           NA,HOT timeseries 1988to2019 27SEP2021,      2,  99,-999.0,    8010,-999.0,20171108,2023,  22.7430, -157.9953,  4739,  612.400,    5.578,   34.183,2,   34.183,2,   34.300,2,   34.100,2,   81.690,2,   38.900,2,    2.870,2, -999.000
           NA,HOT timeseries 1988to2019 27SEP2021,      2,  99,-999.0,    8009,-999.0,20171108,2023,  22.7430, -157.9953,  4739,  681.200,    5.323,   34.260,2,   34.259,2,   22.900,2,   21.800,2,   86.740,2,   40.200,2,    2.990,2, -999.000
           NA,HOT timeseries 1988to2019 27SEP2021,      2,  99,-999.0,    8060,-999.0,20171108,2023,  22.7430, -157.9953,  4739,  779.300,    4.922,   34.350,2,   34.352,2,   21.800,2,   21.700,2,   92.770,2,   41.360,2,    3.060,2, -999.000
           NA,HOT timeseries 1988to2019 27SEP2021,      2,  99,-999.0,    8006,-999.0,20171108,2023,  22.7430, -157.9953,  4739,  820.600,    4.776,   34.382,2,   34.383,2,   22.900,2,   22.900,2,   96.290,2,   41.800,2,    3.070,2, -999.000
           NA,HOT timeseries 1988to2019 27SEP2021,      2,  99,-999.0,    8059,-999.0,20171108,2023,  22.7430, -157.9953,  4739,  900.700,    4.492,   34.444,2,   34.444,2,   27.700,2,   27.700,2,  102.000,2,   42.100,2,    3.080,2, -999.000
           NA,HOT timeseries 1988to2019 27SEP2021,      2,  99,-999.0,    8003,-999.0,20171108,2023,  22.7430, -157.9953,  4739,  941.900,    4.392,   34.458,2,   34.459,2,   29.600,2,   30.000,2,  103.470,2,   42.080,2,    3.080,2, -999.000
           NA,HOT timeseries 1988to2019 27SEP2021,      2,  99,-999.0,    8001,-999.0,20171108,2023,  22.7430, -157.9953,  4739, 1020.400,    4.136,   34.487,2,   34.489,2,   36.000,2,   36.100,2,  107.460,2,   41.920,2,    3.040,2, -999.000
           NA,HOT timeseries 1988to2019 27SEP2021,      2,  99,-999.0,    8020,-999.0,20171108,2023,  22.7430, -157.9953,  4739, 1200.400,    3.653,   34.527,2,   34.528,2,   49.800,2,   50.500,2,  118.740,2,   41.490,2,    3.060,2, -999.000
           NA,HOT timeseries 1988to2019 27SEP2021,      2,  99,-999.0,    8019,-999.0,20171108,2023,  22.7430, -157.9953,  4739, 1401.200,    3.193,   34.555,2,   34.555,2,   57.800,2,   57.800,2,  127.560,2,   41.370,2,    3.030,2, -999.000
           NA,HOT timeseries 1988to2019 27SEP2021,      2,  99,-999.0,    8018,-999.0,20171108,2023,  22.7430, -157.9953,  4739, 1600.200,    2.807,   34.575,2,   34.576,2,   67.000,2,   67.700,2,  136.870,2,   40.700,2,    2.980,2, -999.000
           NA,HOT timeseries 1988to2019 27SEP2021,      2,  99,-999.0,    8017,-999.0,20171108,2023,  22.7430, -157.9953,  4739, 1801.500,    2.451,   34.599,2,   34.599,2,   76.400,2,   76.900,2,  143.580,2,   40.180,2,    2.930,2, -999.000
           NA,HOT timeseries 1988to2019 27SEP2021,      2,  99,-999.0,    8016,-999.0,20171108,2023,  22.7430, -157.9953,  4739, 2001.300,    2.165,   34.617,2,   34.617,2,   87.300,2,   88.400,2,  149.490,2,   39.620,2,    2.860,2, -999.000
           NA,HOT timeseries 1988to2019 27SEP2021,      2,  99,-999.0,    8015,-999.0,20171108,2023,  22.7430, -157.9953,  4739, 2200.000,    1.972,   34.630,2,   34.630,2,   94.700,2,   95.000,2,  154.030,2,   39.160,2,    2.820,2, -999.000
           NA,HOT timeseries 1988to2019 27SEP2021,      2,  99,-999.0,    8014,-999.0,20171108,2023,  22.7430, -157.9953,  4739, 2401.500,    1.840,   34.640,2,   34.640,2,  100.200,2,  100.300,2,  157.140,2,   38.770,2,    2.790,2, -999.000
           NA,HOT timeseries 1988to2019 27SEP2021,      2,  99,-999.0,    8025,-999.0,20171108,2023,  22.7430, -157.9953,  4739, 2600.400,    1.745,   34.649,2,   34.649,2,  106.000,2,  106.000,2,  161.600,2,   38.400,2,    2.760,2, -999.000
           NA,HOT timeseries 1988to2019 27SEP2021,      2,  99,-999.0,    8012,-999.0,20171108,2023,  22.7430, -157.9953,  4739, 2801.200,    1.644,   34.659,2,   34.659,2,  113.500,2,  113.800,2,  160.850,2,   37.840,2,    2.710,2, -999.000
           NA,HOT timeseries 1988to2019 27SEP2021,      2,  99,-999.0,    8011,-999.0,20171108,2023,  22.7430, -157.9953,  4739, 3000.900,    1.585,   34.666,2,   34.665,2,  120.200,2,  122.200,2,  161.610,2,   37.570,2,    2.680,2, -999.000
           NA,HOT timeseries 1988to2019 27SEP2021,      2,  99,-999.0,    8010,-999.0,20171108,2023,  22.7430, -157.9953,  4739, 3200.800,    1.532,   34.671,2,   34.670,2,  127.400,2,  127.700,2,  160.840,2,   37.010,2,    2.640,2, -999.000
           NA,HOT timeseries 1988to2019 27SEP2021,      2,  99,-999.0,    8009,-999.0,20171108,2023,  22.7430, -157.9953,  4739, 3401.700,    1.496,   34.675,2,   34.675,2,  134.000,2,  133.600,2,  156.650,2,   36.980,2,    2.620,2, -999.000
           NA,HOT timeseries 1988to2019 27SEP2021,      2,  99,-999.0,    8008,-999.0,20171108,2023,  22.7430, -157.9953,  4739, 3601.400,    1.478,   34.679,2,   34.678,2,  139.000,2,  138.800,2,  154.900,2,   36.370,2,    2.590,2, -999.000
           NA,HOT timeseries 1988to2019 27SEP2021,      2,  99,-999.0,    8060,-999.0,20171108,2023,  22.7430, -157.9953,  4739, 3803.000,    1.465,   34.682,2,   34.681,2,  143.500,2,  142.700,2,  153.500,2,   36.120,2,    2.570,2, -999.000
           NA,HOT timeseries 1988to2019 27SEP2021,      2,  99,-999.0,    8006,-999.0,20171108,2023,  22.7430, -157.9953,  4739, 4002.400,    1.466,   34.684,2,   34.685,2,  146.600,2,  146.000,2,  152.330,2,   36.040,2,    2.560,2, -999.000
           NA,HOT timeseries 1988to2019 27SEP2021,      2,  99,-999.0,    8005,-999.0,20171108,2023,  22.7430, -157.9953,  4739, 4200.900,    1.470,   34.686,2,   34.686,2,  149.300,2,  148.300,2,  151.080,2,   35.750,2,    2.540,2, -999.000
           NA,HOT timeseries 1988to2019 27SEP2021,      2,  99,-999.0,    8059,-999.0,20171108,2023,  22.7430, -157.9953,  4739, 4401.900,    1.473,   34.688,2,   34.688,2,  152.600,2,  151.900,2,  150.690,2,   35.560,2,    2.530,2, -999.000
           NA,HOT timeseries 1988to2019 27SEP2021,      2,  99,-999.0,    8003,-999.0,20171108,2023,  22.7430, -157.9953,  4739, 4501.700,    1.480,   34.688,2,   34.689,2,  151.700,2,  152.500,2,  150.010,2,   35.480,2,    2.520,2, -999.000
           NA,HOT timeseries 1988to2019 27SEP2021,      2,  99,-999.0,    8002,-999.0,20171108,2023,  22.7430, -157.9953,  4739, 4602.600,    1.492,   34.688,2,   34.688,2,  151.700,2,  152.900,2,  148.700,2,   35.510,2,    2.530,2, -999.000
           NA,HOT timeseries 1988to2019 27SEP2021,      2,  99,-999.0,    8001,-999.0,20171108,2023,  22.7430, -157.9953,  4739, 4807.200,    1.517,   34.688,2,   34.688,2,  151.600,2,  152.100,2,  148.400,2,   35.340,2,    2.530,2, -999.000
           NA,HOT timeseries 1988to2019 27SEP2021,      2,  99,-999.0,    8058,-999.0,20171212,2130,  22.7333, -157.9985,  4744,    5.700,   24.029,   35.160,2,   35.158,2,  210.600,2,  210.100,2,    1.460,2,    0.090,2,    0.030,2, -999.000
           NA,HOT timeseries 1988to2019 27SEP2021,      2,  99,-999.0,    8023,-999.0,20171212,2130,  22.7333, -157.9985,  4744,   59.700,   24.018,   35.161,2,   35.160,2,  210.200,2,  210.000,2,    2.000,2,    0.060,2,    0.040,2, -999.000
           NA,HOT timeseries 1988to2019 27SEP2021,      2,  99,-999.0,    8022,-999.0,20171212,2130,  22.7333, -157.9985,  4744,  113.000,   22.765,   35.167,2,   35.164,2,  204.200,2,  205.500,2, -999.000,3,    0.310,2,    0.100,2, -999.000
           NA,HOT timeseries 1988to2019 27SEP2021,      2,  99,-999.0,    8021,-999.0,20171212,2130,  22.7333, -157.9985,  4744,  139.700,   21.151,   35.111,2,   35.113,2,  192.700,2,  194.200,2, -999.000,3,    1.310,2,    0.190,2, -999.000
           NA,HOT timeseries 1988to2019 27SEP2021,      2,  99,-999.0,    8020,-999.0,20171212,2130,  22.7333, -157.9985,  4744,  186.700,   18.715,   34.918,2,   34.916,2,  197.900,2,  198.000,2, -999.000,3,    2.770,2,    0.270,2, -999.000
           NA,HOT timeseries 1988to2019 27SEP2021,      2,  99,-999.0,    8019,-999.0,20171212,2130,  22.7333, -157.9985,  4744,  250.500,   15.526,   34.557,2,   34.565,2,  206.900,2,  206.300,2,    5.820,2,    5.120,2,    0.420,2, -999.000
           NA,HOT timeseries 1988to2019 27SEP2021,      2,  99,-999.0,    8018,-999.0,20171212,2130,  22.7333, -157.9985,  4744,  299.900,   13.023,   34.273,2,   34.279,2,  209.000,2,  208.700,2,   10.190,2,    9.050,2,    0.670,2, -999.000
           NA,HOT timeseries 1988to2019 27SEP2021,      2,  99,-999.0,    8016,-999.0,20171212,2130,  22.7333, -157.9985,  4744,  391.200,   10.219,   34.105,2,   34.104,2,  199.200,2,  198.800,2, -999.000,3,   16.010,2,    1.150,2, -999.000
           NA,HOT timeseries 1988to2019 27SEP2021,      2,  99,-999.0,    8015,-999.0,20171212,2130,  22.7333, -157.9985,  4744,  439.600,    8.611,   34.067,2,   34.069,2,  158.800,2,  160.700,2,   31.390,2,   22.720,2,    1.640,2, -999.000
           NA,HOT timeseries 1988to2019 27SEP2021,      2,  99,-999.0,    8014,-999.0,20171212,2130,  22.7333, -157.9985,  4744,  490.900,    7.382,   34.046,2,   34.045,2,  129.600,2,  130.800,2,   47.370,2,   27.700,2,    1.990,2, -999.000
           NA,HOT timeseries 1988to2019 27SEP2021,      2,  99,-999.0,    8025,-999.0,20171212,2130,  22.7333, -157.9985,  4744,  537.500,    6.748,   34.053,2,   34.053,2,  101.100,2,   98.800,2,   53.750,2,   31.640,2,    2.290,2, -999.000
           NA,HOT timeseries 1988to2019 27SEP2021,      2,  99,-999.0,    8012,-999.0,20171212,2130,  22.7333, -157.9985,  4744,  576.000,    5.917,   34.071,2,   34.071,2,   73.800,2,   72.600,2,   68.060,2,   35.340,2,    2.560,2, -999.000
           NA,HOT timeseries 1988to2019 27SEP2021,      2,  99,-999.0,    8011,-999.0,20171212,2130,  22.7333, -157.9985,  4744,  605.600,    5.531,   34.131,2,   34.126,2,   52.200,2,   51.400,2,   76.050,2,   37.760,2,    2.740,2, -999.000
           NA,HOT timeseries 1988to2019 27SEP2021,      2,  99,-999.0,    8010,-999.0,20171212,2130,  22.7333, -157.9985,  4744,  652.000,    5.217,   34.182,2,   34.182,2,   40.700,2,   40.000,2,   82.760,2,   39.260,2,    2.850,2, -999.000
           NA,HOT timeseries 1988to2019 27SEP2021,      2,  99,-999.0,    8008,-999.0,20171212,2130,  22.7333, -157.9985,  4744,  727.600,    4.662,   34.232,2,   34.231,2,   30.800,2,   30.300,2,   95.510,2,   41.070,2,    2.990,2, -999.000
           NA,HOT timeseries 1988to2019 27SEP2021,      2,  99,-999.0,    8060,-999.0,20171212,2130,  22.7333, -157.9985,  4744,  779.200,    4.646,   34.337,2,   34.341,2,   28.400,2,   29.100,2,   97.660,2,   41.520,2,    3.030,2, -999.000
           NA,HOT timeseries 1988to2019 27SEP2021,      2,  99,-999.0,    8006,-999.0,20171212,2130,  22.7333, -157.9985,  4744,  832.700,    4.527,   34.395,2,   34.395,2,   28.300,2,   28.400,2,   99.840,2,   41.810,2,    3.050,2, -999.000
           NA,HOT timeseries 1988to2019 27SEP2021,      2,  99,-999.0,    8005,-999.0,20171212,2130,  22.7333, -157.9985,  4744,  871.000,    4.430,   34.419,2,   34.419,2,   31.500,2,   31.800,2,  102.290,2,   41.720,2,    3.040,2, -999.000
           NA,HOT timeseries 1988to2019 27SEP2021,      2,  99,-999.0,    8003,-999.0,20171212,2130,  22.7333, -157.9985,  4744,  950.100,    4.227,   34.458,2,   34.459,2,   36.600,2,   37.800,2,  105.780,2,   41.790,2,    3.040,2, -999.000
           NA,HOT timeseries 1988to2019 27SEP2021,      2,  99,-999.0,    8002,-999.0,20171212,2130,  22.7333, -157.9985,  4744,  991.500,    4.119,   34.476,2,   34.477,2,   39.100,2,   39.900,2,  108.110,2,   41.720,2,    3.040,2, -999.000
           NA,HOT timeseries 1988to2019 27SEP2021,      2,  99,-999.0,    8001,-999.0,20171212,2130,  22.7333, -157.9985,  4744, 1019.900,    4.012,   34.488,2,   34.489,2,   42.200,2,   43.100,2,  109.900,2,   41.680,2,    3.010,2, -999.000
           NA,HOT timeseries 1988to2019 27SEP2021,      2,  99,-999.0,    8021,-999.0,20171212,2130,  22.7333, -157.9985,  4744, 1199.500,    3.605,   34.524,2,   34.524,2,   49.400,2,   49.600,2,  118.360,2,   41.690,2,    3.050,2, -999.000
           NA,HOT timeseries 1988to2019 27SEP2021,      2,  99,-999.0,    8020,-999.0,20171212,2130,  22.7333, -157.9985,  4744, 1399.000,    3.132,   34.556,2,   34.556,2,   54.500,2,   53.600,2,  129.640,2,   41.730,2, -999.000,4, -999.000
           NA,HOT timeseries 1988to2019 27SEP2021,      2,  99,-999.0,    8019,-999.0,20171212,2130,  22.7333, -157.9985,  4744, 1599.900,    2.716,   34.580,2,   34.579,2,   68.400,2,   68.100,2,  138.100,2,   40.920,2,    2.980,2, -999.000
           NA,HOT timeseries 1988to2019 27SEP2021,      2,  99,-999.0,    8018,-999.0,20171212,2130,  22.7333, -157.9985,  4744, 1801.100,    2.407,   34.601,2,   34.600,2,   78.100,2,   78.700,2,  144.580,2,   40.280,2,    2.930,2, -999.000
           NA,HOT timeseries 1988to2019 27SEP2021,      2,  99,-999.0,    8017,-999.0,20171212,2130,  22.7333, -157.9985,  4744, 2000.600,    2.163,   34.616,2,   34.616,2,   86.300,2,   86.600,2,  150.770,2,   39.840,2,    2.880,2, -999.000
           NA,HOT timeseries 1988to2019 27SEP2021,      2,  99,-999.0,    8016,-999.0,20171212,2130,  22.7333, -157.9985,  4744, 2200.400,    1.935,   34.631,2,   34.631,2,   93.700,2,   94.500,2,  155.960,2,   39.330,2,    2.830,2, -999.000
           NA,HOT timeseries 1988to2019 27SEP2021,      2,  99,-999.0,    8015,-999.0,20171212,2130,  22.7333, -157.9985,  4744, 2401.500,    1.792,   34.642,2,   34.641,2,  101.200,2,  101.400,2,  159.630,2,   38.850,2,    2.790,2, -999.000
           NA,HOT timeseries 1988to2019 27SEP2021,      2,  99,-999.0,    8014,-999.0,20171212,2130,  22.7333, -157.9985,  4744, 2599.900,    1.677,   34.652,2,   34.653,2,  109.500,2,  109.900,2,  160.520,2,   38.360,2,    2.740,2, -999.000
           NA,HOT timeseries 1988to2019 27SEP2021,      2,  99,-999.0,    8025,-999.0,20171212,2130,  22.7333, -157.9985,  4744, 2801.100,    1.614,   34.661,2,   34.660,2,  116.900,2,  116.900,2,  163.050,2,   37.690,2,    2.690,2, -999.000
           NA,HOT timeseries 1988to2019 27SEP2021,      2,  99,-999.0,    8012,-999.0,20171212,2130,  22.7333, -157.9985,  4744, 3001.400,    1.556,   34.668,2,   34.668,2,  123.700,2,  123.800,2,  161.180,2,   37.370,2,    2.660,2, -999.000
           NA,HOT timeseries 1988to2019 27SEP2021,      2,  99,-999.0,    8011,-999.0,20171212,2130,  22.7333, -157.9985,  4744, 3202.400,    1.503,   34.672,2,   34.673,2,  131.600,2,  132.400,2,  159.260,2,   36.940,2,    2.630,2, -999.000