BOTTLE,20214727JOAExport
EXPOCODE,SECT_ID,STNNBR,CASTNO,SAMPNO,BTLNBR,BTLNBR_FLAG_W,DATE,TIME,LATITUDE,LONGITUDE,DEPTH,CTDPRS,CTDTMP,CTDSAL,CTDSAL_FLAG_W,SALNTY,SALNTY_FLAG_W,CTDOXY,CTDOXY_FLAG_W,OXYGEN,OXYGEN_FLAG_W,SILCAT,SILCAT_FLAG_W,NINI,NINI_FLAG_W,PHSPHT,PHSPHT_FLAG_W,REVP
,,,,,,,,,,,,DB,IPTS-68,PSS-78,,PSS-78,,UMOL/KG,,UMOL/KG,,UMOL/KG,,UMOL/KG,,UMOL/KG,,DBAR
           NA,HOT timeseries 1988to2019 27SEP2021,    100,  99,-999.0,      30,-999.0,19990413,1655,  22.7480, -158.0008,  4724,    4.700,   22.569,   35.344,2,   35.343,2,  216.100,2,  216.300,2,    1.430,2,    0.000,2,    0.120,2, -999.000
           NA,HOT timeseries 1988to2019 27SEP2021,    100,  99,-999.0,      31,-999.0,19990413,1655,  22.7480, -158.0008,  4724,    4.800,   22.624,   35.351,2,   35.349,2,  215.000,2,  216.100,2,    2.200,2,    0.020,2,    0.160,2, -999.000
           NA,HOT timeseries 1988to2019 27SEP2021,    100,  99,-999.0,      30,-999.0,19990413,1655,  22.7480, -158.0008,  4724,   40.500,   22.532,   35.350,2,   35.348,2,  216.300,2,  216.000,2,    1.340,2,    0.010,2,    0.150,2, -999.000
           NA,HOT timeseries 1988to2019 27SEP2021,    100,  99,-999.0,      22,-999.0,19990413,1655,  22.7480, -158.0008,  4724,   90.000,   22.531,   35.349,2,   35.349,2,  216.600,2,  216.100,2,    1.350,2,   -0.010,2,    0.130,2, -999.000
           NA,HOT timeseries 1988to2019 27SEP2021,    100,  99,-999.0,      21,-999.0,19990413,1655,  22.7480, -158.0008,  4724,  121.800,   22.216,   35.374,2,   35.372,2,  215.700,2,  216.000,2,    1.390,2,    0.010,2,    0.120,2, -999.000
           NA,HOT timeseries 1988to2019 27SEP2021,    100,  99,-999.0,      20,-999.0,19990413,1655,  22.7480, -158.0008,  4724,  159.400,   21.269,   35.454,2,   35.454,2,  218.900,2,  217.900,2,    1.440,2,    0.010,2,    0.110,2, -999.000
           NA,HOT timeseries 1988to2019 27SEP2021,    100,  99,-999.0,      19,-999.0,19990413,1655,  22.7480, -158.0008,  4724,  220.100,   19.562,   35.135,2,   35.121,2,  200.800,2,  202.100,2,    2.330,2,    1.610,2,    0.210,2, -999.000
           NA,HOT timeseries 1988to2019 27SEP2021,    100,  99,-999.0,      18,-999.0,19990413,1655,  22.7480, -158.0008,  4724,  255.700,   16.252,   34.687,2,   34.694,2,  200.400,2,  201.500,2,    4.450,2,    4.230,2,    0.410,2, -999.000
           NA,HOT timeseries 1988to2019 27SEP2021,    100,  99,-999.0,      17,-999.0,19990413,1655,  22.7480, -158.0008,  4724,  300.800,   14.041,   34.451,2,   34.458,2,  206.900,2,  205.000,2,    6.910,2,    6.940,2,    0.580,2, -999.000
           NA,HOT timeseries 1988to2019 27SEP2021,    100,  99,-999.0,      16,-999.0,19990413,1655,  22.7480, -158.0008,  4724,  350.400,   12.353,   34.314,2,   34.316,2,  207.000,2,  206.000,2,   10.430,2,   10.280,2,    0.770,2, -999.000
           NA,HOT timeseries 1988to2019 27SEP2021,    100,  99,-999.0,      15,-999.0,19990413,1655,  22.7480, -158.0008,  4724,  398.500,   10.631,   34.163,2,   34.164,2,  191.300,2,  192.300,2,   16.120,2,   14.870,2,    1.110,2, -999.000
           NA,HOT timeseries 1988to2019 27SEP2021,    100,  99,-999.0,      14,-999.0,19990413,1655,  22.7480, -158.0008,  4724,  438.800,    9.590,   34.107,2,   34.107,2,  183.000,2,  183.400,2,   21.810,2,   18.030,2,    1.330,2, -999.000
           NA,HOT timeseries 1988to2019 27SEP2021,    100,  99,-999.0,      13,-999.0,19990413,1655,  22.7480, -158.0008,  4724,  469.400,    8.859,   34.066,2,   34.066,2,  171.400,2,  171.100,2,   26.080,2,   20.590,2,    1.500,2, -999.000
           NA,HOT timeseries 1988to2019 27SEP2021,    100,  99,-999.0,      12,-999.0,19990413,1655,  22.7480, -158.0008,  4724,  508.500,    8.120,   34.055,2,   34.054,2,  150.700,2,  149.700,2,   32.930,2,   23.880,2,    1.770,2, -999.000
           NA,HOT timeseries 1988to2019 27SEP2021,    100,  99,-999.0,      11,-999.0,19990413,1655,  22.7480, -158.0008,  4724,  549.200,    7.389,   34.054,2,   34.053,2,  125.300,2,  123.200,2,   41.860,2,   27.800,2,    2.040,2, -999.000
           NA,HOT timeseries 1988to2019 27SEP2021,    100,  99,-999.0,      32,-999.0,19990413,1655,  22.7480, -158.0008,  4724,  580.900,    6.577,   34.041,2,   34.040,2,  102.500,2,  103.600,2,   51.860,2,   31.040,2,    2.260,2, -999.000
           NA,HOT timeseries 1988to2019 27SEP2021,    100,  99,-999.0,       3,-999.0,19990413,1655,  22.7480, -158.0008,  4724,  623.500,    5.854,   34.071,2,   34.073,2,   73.300,2,   71.100,2,   65.710,2,   35.430,2,    2.580,2, -999.000
           NA,HOT timeseries 1988to2019 27SEP2021,    100,  99,-999.0,      29,-999.0,19990413,1655,  22.7480, -158.0008,  4724,  669.300,    5.875,   34.200,2,   34.200,2,   45.000,2,   42.800,2,   71.520,2,   37.580,2,    2.790,2, -999.000
           NA,HOT timeseries 1988to2019 27SEP2021,    100,  99,-999.0,      28,-999.0,19990413,1655,  22.7480, -158.0008,  4724,  729.800,    5.405,   34.258,2,   34.258,2,   33.800,2,   31.200,2,   81.080,2,   39.390,2,    2.920,2, -999.000
           NA,HOT timeseries 1988to2019 27SEP2021,    100,  99,-999.0,       7,-999.0,19990413,1655,  22.7480, -158.0008,  4724,  793.500,    4.925,   34.327,2, -999.000,4, -999.000,3,   30.100,2,   88.580,2,   39.930,2,    2.980,2, -999.000
           NA,HOT timeseries 1988to2019 27SEP2021,    100,  99,-999.0,      38,-999.0,19990413,1655,  22.7480, -158.0008,  4724,  848.200,    4.673,   34.367,2,   34.365,2,   26.200,2,   25.700,2,   96.270,2,   41.390,2,    3.070,2, -999.000
           NA,HOT timeseries 1988to2019 27SEP2021,    100,  99,-999.0,      36,-999.0,19990413,1655,  22.7480, -158.0008,  4724,  891.300,    4.676,   34.422,2,   34.422,2,   31.200,2,   30.400,2,   96.420,2,   41.250,2,    3.060,2, -999.000
           NA,HOT timeseries 1988to2019 27SEP2021,    100,  99,-999.0,      35,-999.0,19990413,1655,  22.7480, -158.0008,  4724,  939.600,    4.484,   34.443,2,   34.440,2,   33.500,2,   33.100,2,   99.840,2,   41.390,2,    3.060,2, -999.000
           NA,HOT timeseries 1988to2019 27SEP2021,    100,  99,-999.0,      34,-999.0,19990413,1655,  22.7480, -158.0008,  4724,  979.700,    4.312,   34.458,2,   34.458,2,   37.400,2,   36.800,2,  103.170,2,   41.340,2,    3.040,2, -999.000
           NA,HOT timeseries 1988to2019 27SEP2021,    100,  99,-999.0,      33,-999.0,19990413,1655,  22.7480, -158.0008,  4724, 1019.400,    4.187,   34.469,2,   34.468,2,   39.000,2,   38.700,2,  105.750,2,   41.440,2,    3.030,2, -999.000
           NA,HOT timeseries 1988to2019 27SEP2021,    100,  99,-999.0,      20,-999.0,19990413,1655,  22.7480, -158.0008,  4724, 1199.700,    3.681,   34.513,2,   34.514,2,   47.700,2,   47.700,2,  115.220,2,   41.190,2, -999.000,3, -999.000
           NA,HOT timeseries 1988to2019 27SEP2021,    100,  99,-999.0,      19,-999.0,19990413,1655,  22.7480, -158.0008,  4724, 1399.400,    3.197,   34.550,2,   34.552,2,   57.500,2,   58.100,2,  125.420,2,   40.970,2,    2.920,2, -999.000
           NA,HOT timeseries 1988to2019 27SEP2021,    100,  99,-999.0,      18,-999.0,19990413,1655,  22.7480, -158.0008,  4724, 1598.800,    2.768,   34.580,2,   34.580,2,   67.600,2,   67.400,2,  135.070,2,   40.620,2,    2.880,2, -999.000
           NA,HOT timeseries 1988to2019 27SEP2021,    100,  99,-999.0,      17,-999.0,19990413,1655,  22.7480, -158.0008,  4724, 1799.400,    2.430,   34.598,2,   34.598,2,   76.300,2,   75.700,2,  142.630,2,   40.180,2,    2.830,2, -999.000
           NA,HOT timeseries 1988to2019 27SEP2021,    100,  99,-999.0,      16,-999.0,19990413,1655,  22.7480, -158.0008,  4724, 2000.600,    2.162,   34.616,2,   34.616,2,   83.800,2,   84.500,2,  148.860,2,   39.780,2,    2.790,2, -999.000
           NA,HOT timeseries 1988to2019 27SEP2021,    100,  99,-999.0,      15,-999.0,19990413,1655,  22.7480, -158.0008,  4724, 2200.300,    1.954,   34.629,2,   34.629,2,   91.100,2,   91.700,2,  154.650,2,   39.440,2,    2.770,2, -999.000
           NA,HOT timeseries 1988to2019 27SEP2021,    100,  99,-999.0,      14,-999.0,19990413,1655,  22.7480, -158.0008,  4724, 2399.900,    1.784,   34.644,2,   34.645,2,   99.400,2,   99.900,2,  158.920,2,   38.830,2,    2.720,2, -999.000
           NA,HOT timeseries 1988to2019 27SEP2021,    100,  99,-999.0,      13,-999.0,19990413,1655,  22.7480, -158.0008,  4724, 2601.000,    1.683,   34.655,2,   34.655,2,  108.200,2,  109.200,2,  159.210,2,   38.360,2,    2.700,2, -999.000
           NA,HOT timeseries 1988to2019 27SEP2021,    100,  99,-999.0,      12,-999.0,19990413,1655,  22.7480, -158.0008,  4724, 2798.900,    1.620,   34.662,2,   34.662,2,  115.700,2,  116.300,2,  157.640,2, -999.000,5, -999.000,5, -999.000
           NA,HOT timeseries 1988to2019 27SEP2021,    100,  99,-999.0,      11,-999.0,19990413,1655,  22.7480, -158.0008,  4724, 3000.400,    1.567,   34.668,2,   34.666,2,  120.900,2,  121.800,2,  159.200,2,   37.610,2, -999.000,3, -999.000
           NA,HOT timeseries 1988to2019 27SEP2021,    100,  99,-999.0,      32,-999.0,19990413,1655,  22.7480, -158.0008,  4724, 3201.500,    1.529,   34.674,2,   34.674,2,  126.800,2,  127.100,2,  159.480,2,   37.060,2, -999.000,3, -999.000
           NA,HOT timeseries 1988to2019 27SEP2021,    100,  99,-999.0,       3,-999.0,19990413,1655,  22.7480, -158.0008,  4724, 3400.100,    1.495,   34.678,2,   34.677,2,  132.800,2,  133.100,2,  156.260,2,   36.870,2,    2.550,2, -999.000
           NA,HOT timeseries 1988to2019 27SEP2021,    100,  99,-999.0,      29,-999.0,19990413,1655,  22.7480, -158.0008,  4724, 3603.100,    1.477,   34.681,2,   34.681,2,  138.200,2,  138.300,2,  154.750,2,   36.550,2,    2.520,2, -999.000
           NA,HOT timeseries 1988to2019 27SEP2021,    100,  99,-999.0,      28,-999.0,19990413,1655,  22.7480, -158.0008,  4724, 3800.400,    1.467,   34.684,2,   34.684,2,  142.000,2,  142.800,2,  153.270,2,   36.390,2,    2.530,2, -999.000
           NA,HOT timeseries 1988to2019 27SEP2021,    100,  99,-999.0,       7,-999.0,19990413,1655,  22.7480, -158.0008,  4724, 4002.400,    1.466,   34.685,2,   34.686,2,  145.900,2,  146.000,2,  151.170,2,   35.990,2,    2.510,2, -999.000
           NA,HOT timeseries 1988to2019 27SEP2021,    100,  99,-999.0,      38,-999.0,19990413,1655,  22.7480, -158.0008,  4724, 4201.900,    1.472,   34.687,2,   34.686,2,  148.600,2,  148.500,2,  149.420,2,   35.830,2,    2.480,2, -999.000
           NA,HOT timeseries 1988to2019 27SEP2021,    100,  99,-999.0,      36,-999.0,19990413,1655,  22.7480, -158.0008,  4724, 4400.300,    1.480,   34.688,2,   34.688,2,  151.200,2,  150.700,2,  149.160,2,   35.640,2,    2.470,2, -999.000
           NA,HOT timeseries 1988to2019 27SEP2021,    100,  99,-999.0,      35,-999.0,19990413,1655,  22.7480, -158.0008,  4724, 4500.400,    1.485,   34.689,2,   34.688,2,  152.100,2,  151.600,2,  148.090,2,   35.490,2,    2.460,2, -999.000
           NA,HOT timeseries 1988to2019 27SEP2021,    100,  99,-999.0,      34,-999.0,19990413,1655,  22.7480, -158.0008,  4724, 4600.200,    1.491,   34.689,2,   34.689,2,  153.000,2,  152.800,2,  147.690,2,   35.420,2,    2.450,2, -999.000
           NA,HOT timeseries 1988to2019 27SEP2021,    100,  99,-999.0,      33,-999.0,19990413,1655,  22.7480, -158.0008,  4724, 4801.100,    1.510,   34.690,2,   34.690,2,  154.400,2,  153.200,2,  146.610,2,   35.490,2,    2.450,2, -999.000