BOTTLE,20214727JOAExport
EXPOCODE,SECT_ID,STNNBR,CASTNO,SAMPNO,BTLNBR,BTLNBR_FLAG_W,DATE,TIME,LATITUDE,LONGITUDE,DEPTH,CTDPRS,CTDTMP,CTDSAL,CTDSAL_FLAG_W,SALNTY,SALNTY_FLAG_W,CTDOXY,CTDOXY_FLAG_W,OXYGEN,OXYGEN_FLAG_W,SILCAT,SILCAT_FLAG_W,NINI,NINI_FLAG_W,PHSPHT,PHSPHT_FLAG_W,REVP
,,,,,,,,,,,,DB,IPTS-68,PSS-78,,PSS-78,,UMOL/KG,,UMOL/KG,,UMOL/KG,,UMOL/KG,,UMOL/KG,,DBAR
           NA,HOT timeseries 1988to2019 27SEP2021,    124,  99,-999.0,      31,-999.0,20010712,1727,  22.7505, -158.0022,  4721,    3.900,   25.941,   35.110,2,   35.110,2,  205.600,2,  205.300,2, -999.000,9, -999.000,9, -999.000,9, -999.000
           NA,HOT timeseries 1988to2019 27SEP2021,    124,  99,-999.0,      30,-999.0,20010712,1727,  22.7505, -158.0022,  4721,   34.300,   25.418,   35.106,2,   35.109,2,  208.800,2,  209.800,2, -999.000,9, -999.000,9, -999.000,9, -999.000
           NA,HOT timeseries 1988to2019 27SEP2021,    124,  99,-999.0,      22,-999.0,20010712,1727,  22.7505, -158.0022,  4721,   58.600,   24.007,   35.380,2, -999.000,4, -999.000,3,  220.200,2, -999.000,9, -999.000,9, -999.000,9, -999.000
           NA,HOT timeseries 1988to2019 27SEP2021,    124,  99,-999.0,      21,-999.0,20010712,1727,  22.7505, -158.0022,  4721,   95.100,   22.826,   35.427,2,   35.424,2,  223.800,2,  222.600,2, -999.000,9, -999.000,9, -999.000,9, -999.000
           NA,HOT timeseries 1988to2019 27SEP2021,    124,  99,-999.0,      19,-999.0,20010712,1727,  22.7505, -158.0022,  4721,  178.400,   19.903,   35.153,2,   35.153,2,  201.900,2,  201.700,2, -999.000,9, -999.000,9, -999.000,9, -999.000
           NA,HOT timeseries 1988to2019 27SEP2021,    124,  99,-999.0,      18,-999.0,20010712,1727,  22.7505, -158.0022,  4721,  207.900,   18.628,   35.004,2,   35.007,2,  194.200,2,  195.900,2, -999.000,9, -999.000,9, -999.000,9, -999.000
           NA,HOT timeseries 1988to2019 27SEP2021,    124,  99,-999.0,      16,-999.0,20010712,1727,  22.7505, -158.0022,  4721,  289.700,   13.292,   34.298,2,   34.295,2,  166.400,2,  175.400,2, -999.000,9, -999.000,9, -999.000,9, -999.000
           NA,HOT timeseries 1988to2019 27SEP2021,    124,  99,-999.0,      23,-999.0,20010712,1727,  22.7505, -158.0022,  4721,  336.100,   11.830,   34.216,2,   34.216,2,  191.400,2,  190.000,2, -999.000,9, -999.000,9, -999.000,9, -999.000
           NA,HOT timeseries 1988to2019 27SEP2021,    124,  99,-999.0,      14,-999.0,20010712,1727,  22.7505, -158.0022,  4721,  374.900,   10.483,   34.159,2,   34.157,2,  189.300,2,  188.400,2, -999.000,9, -999.000,9, -999.000,9, -999.000
           NA,HOT timeseries 1988to2019 27SEP2021,    124,  99,-999.0,      12,-999.0,20010712,1727,  22.7505, -158.0022,  4721,  434.400,    9.043,   34.088,2,   34.089,2,  178.500,2,  175.600,2, -999.000,9, -999.000,9, -999.000,9, -999.000
           NA,HOT timeseries 1988to2019 27SEP2021,    124,  99,-999.0,      11,-999.0,20010712,1727,  22.7505, -158.0022,  4721,  494.100,    7.402,   34.039,2,   34.038,2,  129.700,2,  133.800,2, -999.000,9, -999.000,9, -999.000,9, -999.000
           NA,HOT timeseries 1988to2019 27SEP2021,    124,  99,-999.0,      30,-999.0,20010712,1727,  22.7505, -158.0022,  4721,  497.300,    7.447,   34.042,2,   34.040,2,  135.300,2,  133.400,2, -999.000,9, -999.000,9, -999.000,9, -999.000
           NA,HOT timeseries 1988to2019 27SEP2021,    124,  99,-999.0,      32,-999.0,20010712,1727,  22.7505, -158.0022,  4721,  530.400,    6.561,   34.033,2,   34.031,2,  105.600,2,  106.500,2, -999.000,9, -999.000,9, -999.000,9, -999.000
           NA,HOT timeseries 1988to2019 27SEP2021,    124,  99,-999.0,       3,-999.0,20010712,1727,  22.7505, -158.0022,  4721,  576.000,    5.989,   34.058,2,   34.056,2,   81.500,2,   80.000,2, -999.000,9, -999.000,9, -999.000,9, -999.000
           NA,HOT timeseries 1988to2019 27SEP2021,    124,  99,-999.0,      29,-999.0,20010712,1727,  22.7505, -158.0022,  4721,  615.400,    5.446,   34.118,2,   34.116,2,   53.000,2,   52.400,2, -999.000,9, -999.000,9, -999.000,9, -999.000
           NA,HOT timeseries 1988to2019 27SEP2021,    124,  99,-999.0,      28,-999.0,20010712,1727,  22.7505, -158.0022,  4721,  670.900,    4.959,   34.190,2,   34.188,2,   33.100,2,   33.800,2, -999.000,9, -999.000,9, -999.000,9, -999.000
           NA,HOT timeseries 1988to2019 27SEP2021,    124,  99,-999.0,       7,-999.0,20010712,1727,  22.7505, -158.0022,  4721,  709.400,    4.791,   34.222,2,   34.221,2,   29.100,2,   25.300,2, -999.000,9, -999.000,9, -999.000,9, -999.000
           NA,HOT timeseries 1988to2019 27SEP2021,    124,  99,-999.0,      38,-999.0,20010712,1727,  22.7505, -158.0022,  4721,  760.000,    4.600,   34.270,2,   34.269,2,   25.000,2,   23.400,2, -999.000,9, -999.000,9, -999.000,9, -999.000
           NA,HOT timeseries 1988to2019 27SEP2021,    124,  99,-999.0,      36,-999.0,20010712,1727,  22.7505, -158.0022,  4721,  834.600,    4.274,   34.353,2,   34.352,2,   23.500,2,   21.800,2, -999.000,9, -999.000,9, -999.000,9, -999.000
           NA,HOT timeseries 1988to2019 27SEP2021,    124,  99,-999.0,      35,-999.0,20010712,1727,  22.7505, -158.0022,  4721,  899.000,    4.123,   34.389,2,   34.390,2,   25.900,2,   24.200,2, -999.000,9, -999.000,9, -999.000,9, -999.000
           NA,HOT timeseries 1988to2019 27SEP2021,    124,  99,-999.0,      33,-999.0,20010712,1727,  22.7505, -158.0022,  4721,  982.100,    3.919,   34.451,2,   34.450,2,   34.800,2,   34.400,2, -999.000,9, -999.000,9, -999.000,9, -999.000
           NA,HOT timeseries 1988to2019 27SEP2021,    124,  99,-999.0,      20,-999.0,20010712,1727,  22.7505, -158.0022,  4721, 1197.900,    3.424,   34.526,2,   34.528,2,   50.500,2,   51.300,2, -999.000,9, -999.000,9, -999.000,9, -999.000
           NA,HOT timeseries 1988to2019 27SEP2021,    124,  99,-999.0,      19,-999.0,20010712,1727,  22.7505, -158.0022,  4721, 1400.000,    3.004,   34.561,2,   34.560,2,   61.200,2,   61.900,2, -999.000,9, -999.000,9, -999.000,9, -999.000
           NA,HOT timeseries 1988to2019 27SEP2021,    124,  99,-999.0,      18,-999.0,20010712,1727,  22.7505, -158.0022,  4721, 1599.200,    2.644,   34.583,2,   34.583,2,   70.800,2,   70.400,2, -999.000,9, -999.000,9, -999.000,9, -999.000
           NA,HOT timeseries 1988to2019 27SEP2021,    124,  99,-999.0,      17,-999.0,20010712,1727,  22.7505, -158.0022,  4721, 1800.900,    2.316,   34.605,2,   34.604,2,   80.700,2,   81.700,2, -999.000,9, -999.000,9, -999.000,9, -999.000
           NA,HOT timeseries 1988to2019 27SEP2021,    124,  99,-999.0,      16,-999.0,20010712,1727,  22.7505, -158.0022,  4721, 1998.200,    2.065,   34.622,2,   34.621,2,   88.500,2,   89.700,2, -999.000,9, -999.000,9, -999.000,9, -999.000
           NA,HOT timeseries 1988to2019 27SEP2021,    124,  99,-999.0,      23,-999.0,20010712,1727,  22.7505, -158.0022,  4721, 2199.200,    1.881,   34.635,2,   34.634,2,   95.200,2,   97.200,2, -999.000,9, -999.000,9, -999.000,9, -999.000
           NA,HOT timeseries 1988to2019 27SEP2021,    124,  99,-999.0,      14,-999.0,20010712,1727,  22.7505, -158.0022,  4721, 2399.400,    1.750,   34.646,2,   34.647,2,  103.200,2,  105.000,2, -999.000,9, -999.000,9, -999.000,9, -999.000
           NA,HOT timeseries 1988to2019 27SEP2021,    124,  99,-999.0,      13,-999.0,20010712,1727,  22.7505, -158.0022,  4721, 2600.200,    1.665,   34.655,2,   34.655,2,  111.000,2,  112.200,2, -999.000,9, -999.000,9, -999.000,9, -999.000
           NA,HOT timeseries 1988to2019 27SEP2021,    124,  99,-999.0,      12,-999.0,20010712,1727,  22.7505, -158.0022,  4721, 2799.600,    1.609,   34.661,2,   34.661,2,  116.800,2,  118.000,2, -999.000,9, -999.000,9, -999.000,9, -999.000
           NA,HOT timeseries 1988to2019 27SEP2021,    124,  99,-999.0,      11,-999.0,20010712,1727,  22.7505, -158.0022,  4721, 2998.600,    1.555,   34.668,2,   34.668,2,  123.300,2,  124.400,2, -999.000,9, -999.000,9, -999.000,9, -999.000
           NA,HOT timeseries 1988to2019 27SEP2021,    124,  99,-999.0,      32,-999.0,20010712,1727,  22.7505, -158.0022,  4721, 3198.000,    1.511,   34.674,2,   34.674,2,  130.200,2,  130.700,2, -999.000,9, -999.000,9, -999.000,9, -999.000
           NA,HOT timeseries 1988to2019 27SEP2021,    124,  99,-999.0,       3,-999.0,20010712,1727,  22.7505, -158.0022,  4721, 3400.400,    1.497,   34.677,2,   34.677,2,  134.200,2,  134.600,2, -999.000,9, -999.000,9, -999.000,9, -999.000
           NA,HOT timeseries 1988to2019 27SEP2021,    124,  99,-999.0,      29,-999.0,20010712,1727,  22.7505, -158.0022,  4721, 3599.900,    1.474,   34.680,2,   34.680,2,  139.900,2,  140.600,2, -999.000,9, -999.000,9, -999.000,9, -999.000
           NA,HOT timeseries 1988to2019 27SEP2021,    124,  99,-999.0,      28,-999.0,20010712,1727,  22.7505, -158.0022,  4721, 3800.700,    1.462,   34.682,2,   34.682,2,  144.400,2,  144.300,2, -999.000,9, -999.000,9, -999.000,9, -999.000
           NA,HOT timeseries 1988to2019 27SEP2021,    124,  99,-999.0,       7,-999.0,20010712,1727,  22.7505, -158.0022,  4721, 4000.800,    1.459,   34.684,2,   34.686,2,  148.300,2,  148.000,2, -999.000,9, -999.000,9, -999.000,9, -999.000
           NA,HOT timeseries 1988to2019 27SEP2021,    124,  99,-999.0,      38,-999.0,20010712,1727,  22.7505, -158.0022,  4721, 4202.700,    1.464,   34.686,2,   34.687,2,  151.200,2,  150.200,2, -999.000,9, -999.000,9, -999.000,9, -999.000
           NA,HOT timeseries 1988to2019 27SEP2021,    124,  99,-999.0,      36,-999.0,20010712,1727,  22.7505, -158.0022,  4721, 4398.400,    1.475,   34.687,2,   34.688,2,  153.400,2,  152.600,2, -999.000,9, -999.000,9, -999.000,9, -999.000
           NA,HOT timeseries 1988to2019 27SEP2021,    124,  99,-999.0,      35,-999.0,20010712,1727,  22.7505, -158.0022,  4721, 4500.900,    1.485,   34.687,2,   34.688,2,  153.800,2,  152.800,2, -999.000,9, -999.000,9, -999.000,9, -999.000
           NA,HOT timeseries 1988to2019 27SEP2021,    124,  99,-999.0,      34,-999.0,20010712,1727,  22.7505, -158.0022,  4721, 4600.700,    1.494,   34.687,2,   34.688,2,  154.400,2,  153.400,2, -999.000,9, -999.000,9, -999.000,9, -999.000
           NA,HOT timeseries 1988to2019 27SEP2021,    124,  99,-999.0,      33,-999.0,20010712,1727,  22.7505, -158.0022,  4721, 4805.000,    1.509,   34.688,2,   34.688,2,  155.500,2,  153.400,2, -999.000,9, -999.000,9, -999.000,9, -999.000