BOTTLE,20214727JOAExport
EXPOCODE,SECT_ID,STNNBR,CASTNO,SAMPNO,BTLNBR,BTLNBR_FLAG_W,DATE,TIME,LATITUDE,LONGITUDE,DEPTH,CTDPRS,CTDTMP,CTDSAL,CTDSAL_FLAG_W,SALNTY,SALNTY_FLAG_W,CTDOXY,CTDOXY_FLAG_W,OXYGEN,OXYGEN_FLAG_W,SILCAT,SILCAT_FLAG_W,NINI,NINI_FLAG_W,PHSPHT,PHSPHT_FLAG_W,REVP
,,,,,,,,,,,,DB,IPTS-68,PSS-78,,PSS-78,,UMOL/KG,,UMOL/KG,,UMOL/KG,,UMOL/KG,,UMOL/KG,,DBAR
           NA,HOT timeseries 1988to2019 27SEP2021,     43,  99,-999.0,      30,-999.0,19930414,0540,  22.7402, -158.0000,  4749,    3.800,   23.473,   35.073,2,   35.071,2,  214.400,2,  213.900,2,    1.320,2,    0.000,2,    0.050,2, -999.000
           NA,HOT timeseries 1988to2019 27SEP2021,     43,  99,-999.0,      31,-999.0,19930414,0540,  22.7402, -158.0000,  4749,    5.900,   23.603,   35.075,2, -999.000,4, -999.000,3,  214.200,2,    1.440,2,    0.000,2,    0.050,2, -999.000
           NA,HOT timeseries 1988to2019 27SEP2021,     43,  99,-999.0,      31,-999.0,19930414,0540,  22.7402, -158.0000,  4749,   11.200,   23.381,   35.041,2,   35.048,2,  212.400,2,  213.900,2,    1.570,2,    0.010,2,    0.060,2, -999.000
           NA,HOT timeseries 1988to2019 27SEP2021,     43,  99,-999.0,      22,-999.0,19930414,0540,  22.7402, -158.0000,  4749,   15.000,   23.479,   35.073,2,   35.071,2,  214.300,2,  213.900,2,    1.420,2,    0.010,2,    0.050,2, -999.000
           NA,HOT timeseries 1988to2019 27SEP2021,     43,  99,-999.0,      20,-999.0,19930414,0540,  22.7402, -158.0000,  4749,   26.000,   23.477,   35.072,2,   35.074,2,  214.300,2,  217.700,2,    1.280,2,    0.020,2,    0.050,2, -999.000
           NA,HOT timeseries 1988to2019 27SEP2021,     43,  99,-999.0,      19,-999.0,19930414,0540,  22.7402, -158.0000,  4749,   34.900,   23.408,   35.068,2,   35.067,2,  214.500,2,  214.600,2,    1.270,2,    0.010,2,    0.050,2, -999.000
           NA,HOT timeseries 1988to2019 27SEP2021,     43,  99,-999.0,      18,-999.0,19930414,0540,  22.7402, -158.0000,  4749,   44.400,   23.384,   35.067,2,   35.066,2,  215.300,2,  214.100,2,    1.280,2,    0.010,2,    0.050,2, -999.000
           NA,HOT timeseries 1988to2019 27SEP2021,     43,  99,-999.0,      30,-999.0,19930414,0540,  22.7402, -158.0000,  4749,   57.300,   22.871,   35.067,2,   35.071,2,  212.000,2,  214.200,2,    1.290,2,    0.000,2,    0.040,2, -999.000
           NA,HOT timeseries 1988to2019 27SEP2021,     43,  99,-999.0,      22,-999.0,19930414,0540,  22.7402, -158.0000,  4749,   57.300,   22.871,   35.067,2, -999.000,3, -999.000,3, -999.000,3, -999.000,3, -999.000,3, -999.000,3, -999.000
           NA,HOT timeseries 1988to2019 27SEP2021,     43,  99,-999.0,      17,-999.0,19930414,0540,  22.7402, -158.0000,  4749,   60.200,   22.998,   35.092,2,   35.090,2,  214.800,2,  216.400,2,    1.260,2,    0.010,2,    0.040,2, -999.000
           NA,HOT timeseries 1988to2019 27SEP2021,     43,  99,-999.0,      16,-999.0,19930414,0540,  22.7402, -158.0000,  4749,   75.500,   22.631,   35.104,2,   35.103,2,  215.200,2,  215.600,2,    1.230,2,    0.010,2,    0.050,2, -999.000
           NA,HOT timeseries 1988to2019 27SEP2021,     43,  99,-999.0,      15,-999.0,19930414,0540,  22.7402, -158.0000,  4749,   85.400,   22.531,   35.112,2,   35.109,2,  215.000,2,  215.700,2,    1.230,2,    0.010,2,    0.040,2, -999.000
           NA,HOT timeseries 1988to2019 27SEP2021,     43,  99,-999.0,      14,-999.0,19930414,0540,  22.7402, -158.0000,  4749,   95.900,   22.340,   35.119,2,   35.121,2,  214.800,2,  214.200,2,    1.220,2,    0.000,2,    0.050,2, -999.000
           NA,HOT timeseries 1988to2019 27SEP2021,     43,  99,-999.0,      17,-999.0,19930414,0540,  22.7402, -158.0000,  4749,  104.200,   22.242,   35.132,2,   35.131,2,  215.600,2,  215.100,2,    1.380,2,    0.000,2,    0.040,2, -999.000
           NA,HOT timeseries 1988to2019 27SEP2021,     43,  99,-999.0,      13,-999.0,19930414,0540,  22.7402, -158.0000,  4749,  104.900,   22.102,   35.137,2,   35.136,2,  211.300,2,  214.000,2,    1.260,2,    0.010,2,    0.060,2, -999.000
           NA,HOT timeseries 1988to2019 27SEP2021,     43,  99,-999.0,      12,-999.0,19930414,0540,  22.7402, -158.0000,  4749,  115.000,   21.980,   35.138,2,   35.136,2,  209.300,2,  207.800,2,    1.330,2,    0.070,2,    0.070,2, -999.000
           NA,HOT timeseries 1988to2019 27SEP2021,     43,  99,-999.0,      11,-999.0,19930414,0540,  22.7402, -158.0000,  4749,  125.000,   21.811,   35.148,2,   35.139,2,  208.300,2,  206.400,2,    1.320,2,    0.140,2,    0.100,2, -999.000
           NA,HOT timeseries 1988to2019 27SEP2021,     43,  99,-999.0,      32,-999.0,19930414,0540,  22.7402, -158.0000,  4749,  134.900,   21.445,   35.179,2,   35.176,2,  206.200,2,  204.600,2,    1.420,2,    0.410,2,    0.100,2, -999.000
           NA,HOT timeseries 1988to2019 27SEP2021,     43,  99,-999.0,      16,-999.0,19930414,0540,  22.7402, -158.0000,  4749,  148.100,   21.572,   35.175,2,   35.181,2,  208.800,2,  208.200,2,    1.450,2,    0.200,2,    0.080,2, -999.000
           NA,HOT timeseries 1988to2019 27SEP2021,     43,  99,-999.0,       3,-999.0,19930414,0540,  22.7402, -158.0000,  4749,  150.400,   21.144,   35.218,2,   35.218,2,  209.000,2,  207.200,2,    1.470,2,    0.460,2,    0.090,2, -999.000
           NA,HOT timeseries 1988to2019 27SEP2021,     43,  99,-999.0,      21,-999.0,19930414,0540,  22.7402, -158.0000,  4749,  158.000,   20.531,   35.155,2,   35.154,2,  198.200,2,  198.400,2,    2.040,2,    1.370,2,    0.150,2, -999.000
           NA,HOT timeseries 1988to2019 27SEP2021,     43,  99,-999.0,      29,-999.0,19930414,0540,  22.7402, -158.0000,  4749,  160.000,   20.914,   35.240,2,   35.238,2,  209.700,2,  208.500,2, -999.000,5, -999.000,5, -999.000,5, -999.000
           NA,HOT timeseries 1988to2019 27SEP2021,     43,  99,-999.0,      20,-999.0,19930414,0540,  22.7402, -158.0000,  4749,  175.100,   19.868,   35.151,2,   35.146,2,  201.600,2,  200.200,2,    2.340,2,    1.630,2,    0.160,2, -999.000
           NA,HOT timeseries 1988to2019 27SEP2021,     43,  99,-999.0,      28,-999.0,19930414,0540,  22.7402, -158.0000,  4749,  176.200,   20.489,   35.207,2,   35.218,2,  204.700,2,  205.700,2,    1.640,2,    0.740,2,    0.100,2, -999.000
           NA,HOT timeseries 1988to2019 27SEP2021,     43,  99,-999.0,      15,-999.0,19930414,0540,  22.7402, -158.0000,  4749,  179.000,   20.808,   35.226,2,   35.225,2,  207.900,2,  205.300,2,    1.700,2,    0.670,2,    0.090,2, -999.000
           NA,HOT timeseries 1988to2019 27SEP2021,     43,  99,-999.0,      19,-999.0,19930414,0540,  22.7402, -158.0000,  4749,  181.400,   19.595,   35.121,2,   35.129,2,  198.500,2,  199.400,2,    2.470,2,    1.820,2,    0.180,2, -999.000
           NA,HOT timeseries 1988to2019 27SEP2021,     43,  99,-999.0,       7,-999.0,19930414,0540,  22.7402, -158.0000,  4749,  186.800,   20.140,   35.171,2,   35.173,2,  201.500,2,  200.500,2, -999.000,5, -999.000,5, -999.000,5, -999.000
           NA,HOT timeseries 1988to2019 27SEP2021,     43,  99,-999.0,      30,-999.0,19930414,0540,  22.7402, -158.0000,  4749,  191.900,   20.324,   35.151,2,   35.163,2,  197.300,2,  197.600,2,    2.380,2,    1.490,2,    0.180,2, -999.000
           NA,HOT timeseries 1988to2019 27SEP2021,     43,  99,-999.0,      23,-999.0,19930414,0540,  22.7402, -158.0000,  4749,  196.200,   19.911,   35.152,2,   35.155,2,  200.500,2,  198.500,2,    2.050,2,    1.500,2,    0.170,2, -999.000
           NA,HOT timeseries 1988to2019 27SEP2021,     43,  99,-999.0,      18,-999.0,19930414,0540,  22.7402, -158.0000,  4749,  197.800,   19.343,   35.088,2,   35.087,2,  198.900,2,  197.100,2,    2.620,2,    2.160,2,    0.200,2, -999.000
           NA,HOT timeseries 1988to2019 27SEP2021,     43,  99,-999.0,      36,-999.0,19930414,0540,  22.7402, -158.0000,  4749,  208.900,   19.309,   35.091,2,   35.095,2,  197.300,2,  195.600,2,    2.510,2,    2.150,2,    0.210,2, -999.000
           NA,HOT timeseries 1988to2019 27SEP2021,     43,  99,-999.0,      17,-999.0,19930414,0540,  22.7402, -158.0000,  4749,  218.900,   17.819,   34.921,2,   34.925,2,  192.000,2,  193.700,2,    3.660,2,    3.560,2,    0.290,2, -999.000
           NA,HOT timeseries 1988to2019 27SEP2021,     43,  99,-999.0,      35,-999.0,19930414,0540,  22.7402, -158.0000,  4749,  223.400,   18.601,   35.004,2,   35.006,2,  195.500,2,  194.500,2,    3.200,2,    2.850,2,    0.260,2, -999.000
           NA,HOT timeseries 1988to2019 27SEP2021,     43,  99,-999.0,      14,-999.0,19930414,0540,  22.7402, -158.0000,  4749,  224.900,   18.896,   35.046,2,   35.059,2,  197.700,2,  195.300,2,    2.900,2,    2.520,2,    0.230,2, -999.000
           NA,HOT timeseries 1988to2019 27SEP2021,     43,  99,-999.0,      13,-999.0,19930414,0540,  22.7402, -158.0000,  4749,  234.800,   18.145,   34.955,2,   34.954,2,  193.300,2,  194.600,2,    3.500,2,    3.260,2,    0.280,2, -999.000
           NA,HOT timeseries 1988to2019 27SEP2021,     43,  99,-999.0,      12,-999.0,19930414,0540,  22.7402, -158.0000,  4749,  248.600,   17.260,   34.861,2,   34.862,2,  194.800,2,  194.400,2,    4.140,2,    4.050,2,    0.340,2, -999.000
           NA,HOT timeseries 1988to2019 27SEP2021,     43,  99,-999.0,      16,-999.0,19930414,0540,  22.7402, -158.0000,  4749,  254.100,   15.773,   34.674,2,   34.688,2,  191.800,2,  194.500,2,    5.300,2,    5.510,2,    0.430,2, -999.000
           NA,HOT timeseries 1988to2019 27SEP2021,     43,  99,-999.0,      11,-999.0,19930414,0540,  22.7402, -158.0000,  4749,  273.400,   15.881,   34.686,2,   34.687,2,  194.600,2,  194.500,2,    5.250,2,    5.410,2,    0.440,2, -999.000
           NA,HOT timeseries 1988to2019 27SEP2021,     43,  99,-999.0,      32,-999.0,19930414,0540,  22.7402, -158.0000,  4749,  298.400,   14.814,   34.550,2, -999.000,3, -999.000,3,  194.200,2,    6.340,2,    6.690,2,    0.530,2, -999.000
           NA,HOT timeseries 1988to2019 27SEP2021,     43,  99,-999.0,       3,-999.0,19930414,0540,  22.7402, -158.0000,  4749,  324.800,   13.612,   34.419,2,   34.431,2,  192.700,2,  194.000,2,    8.060,2,    8.520,2,    0.650,2, -999.000
           NA,HOT timeseries 1988to2019 27SEP2021,     43,  99,-999.0,      29,-999.0,19930414,0540,  22.7402, -158.0000,  4749,  350.900,   12.719,   34.325,2,   34.329,2,  194.800,2,  193.900,2,    9.920,2,   10.350,2,    0.780,2, -999.000
           NA,HOT timeseries 1988to2019 27SEP2021,     43,  99,-999.0,      14,-999.0,19930414,0540,  22.7402, -158.0000,  4749,  374.900,   10.231,   34.160,2,   34.166,2,  188.000,2,  192.500,2,   17.830,2,   15.650,2,    1.120,2, -999.000
           NA,HOT timeseries 1988to2019 27SEP2021,     43,  99,-999.0,      28,-999.0,19930414,0540,  22.7402, -158.0000,  4749,  396.100,   11.497,   34.230,2,   34.229,2,  194.800,2,  196.600,2,   12.900,2,   12.660,2,    0.930,2, -999.000
           NA,HOT timeseries 1988to2019 27SEP2021,     43,  99,-999.0,      13,-999.0,19930414,0540,  22.7402, -158.0000,  4749,  400.200,    9.475,   34.119,2,   34.120,2,  184.800,2,  184.400,2,   22.480,2,   18.300,2,    1.310,2, -999.000
           NA,HOT timeseries 1988to2019 27SEP2021,     43,  99,-999.0,      12,-999.0,19930414,0540,  22.7402, -158.0000,  4749,  431.100,    8.779,   34.093,2,   34.093,2,  171.900,2,  170.400,2,   28.330,2,   20.990,2,    1.510,2, -999.000
           NA,HOT timeseries 1988to2019 27SEP2021,     43,  99,-999.0,       7,-999.0,19930414,0540,  22.7402, -158.0000,  4749,  498.300,    8.325,   34.075,2,   34.076,2,  161.700,2,  161.900,2,   31.360,2,   22.550,2,    1.620,2, -999.000
           NA,HOT timeseries 1988to2019 27SEP2021,     43,  99,-999.0,      34,-999.0,19930414,0540,  22.7402, -158.0000,  4749,  501.200,    7.552,   34.058,2,   34.060,2,  137.100,2,  137.600,2,   41.290,2,   26.450,2,    1.910,2, -999.000
           NA,HOT timeseries 1988to2019 27SEP2021,     43,  99,-999.0,      22,-999.0,19930414,0540,  22.7402, -158.0000,  4749,  515.100,    7.811,   34.060,2,   34.058,2,  151.500,2,  142.600,2,   38.740,2,   25.410,2,    1.810,2, -999.000
           NA,HOT timeseries 1988to2019 27SEP2021,     43,  99,-999.0,      11,-999.0,19930414,0540,  22.7402, -158.0000,  4749,  524.800,    7.106,   34.054,2,   34.054,2,  128.600,2,  121.600,2,   46.850,2,   28.770,2,    2.060,2, -999.000
           NA,HOT timeseries 1988to2019 27SEP2021,     43,  99,-999.0,      32,-999.0,19930414,0540,  22.7402, -158.0000,  4749,  571.200,    6.309,   34.083,2,   34.086,2,   94.800,2,   81.900,2,   60.530,2,   33.440,2,    2.420,2, -999.000
           NA,HOT timeseries 1988to2019 27SEP2021,     43,  99,-999.0,      23,-999.0,19930414,0540,  22.7402, -158.0000,  4749,  597.400,    5.895,   34.088,2,   34.086,2,   76.000,2,   71.400,2,   67.370,2,   34.820,2,    2.550,2, -999.000
           NA,HOT timeseries 1988to2019 27SEP2021,     43,  99,-999.0,       3,-999.0,19930414,0540,  22.7402, -158.0000,  4749,  608.100,    5.954,   34.140,2,   34.139,2,   68.500,2,   56.100,2,   69.120,2,   36.320,2,    2.670,2, -999.000
           NA,HOT timeseries 1988to2019 27SEP2021,     43,  99,-999.0,      29,-999.0,19930414,0540,  22.7402, -158.0000,  4749,  647.700,    5.583,   34.185,2,   34.184,2,   55.600,2,   42.300,2,   77.180,2,   38.160,2,    2.820,2, -999.000
           NA,HOT timeseries 1988to2019 27SEP2021,     43,  99,-999.0,      36,-999.0,19930414,0540,  22.7402, -158.0000,  4749,  697.400,    5.027,   34.207,2,   34.205,2,   37.700,2,   36.000,2,   87.410,2,   39.430,2,    2.910,2, -999.000
           NA,HOT timeseries 1988to2019 27SEP2021,     43,  99,-999.0,       7,-999.0,19930414,0540,  22.7402, -158.0000,  4749,  782.900,    4.920,   34.329,2,   34.327,2,   28.800,2,   26.900,2,   92.620,2,   40.750,2,    3.020,2, -999.000
           NA,HOT timeseries 1988to2019 27SEP2021,     43,  99,-999.0,      35,-999.0,19930414,0540,  22.7402, -158.0000,  4749,  797.400,    4.838,   34.354,2,   34.354,2,   29.100,2,   26.100,2,   94.520,2,   40.850,2,    3.030,2, -999.000
           NA,HOT timeseries 1988to2019 27SEP2021,     43,  99,-999.0,      23,-999.0,19930414,0540,  22.7402, -158.0000,  4749,  851.000,    4.542,   34.388,2,   34.389,2,   29.000,2,   28.600,2,  100.640,2,   41.430,2,    3.040,2, -999.000
           NA,HOT timeseries 1988to2019 27SEP2021,     43,  99,-999.0,      36,-999.0,19930414,0540,  22.7402, -158.0000,  4749,  857.300,    4.534,   34.391,2,   34.390,2,   29.000,2,   27.200,2,  100.950,2,   41.620,2,    3.050,2, -999.000
           NA,HOT timeseries 1988to2019 27SEP2021,     43,  99,-999.0,      34,-999.0,19930414,0540,  22.7402, -158.0000,  4749,  900.600,    4.325,   34.426,2,   34.426,2,   31.500,2,   30.700,2,  105.070,2,   41.470,2,    3.050,2, -999.000
           NA,HOT timeseries 1988to2019 27SEP2021,     43,  99,-999.0,      35,-999.0,19930414,0540,  22.7402, -158.0000,  4749, 1000.400,    4.069,   34.475,2,   34.476,2,   38.100,2,   38.800,2,  109.880,2,   41.560,2,    3.040,2, -999.000
           NA,HOT timeseries 1988to2019 27SEP2021,     43,  99,-999.0,      21,-999.0,19930414,0540,  22.7402, -158.0000,  4749, 1003.900,    4.096,   34.472,2,   34.471,2,   39.900,2,   38.800,2,  109.230,2,   41.280,2,    3.000,2, -999.000
           NA,HOT timeseries 1988to2019 27SEP2021,     43,  99,-999.0,      33,-999.0,19930414,0540,  22.7402, -158.0000,  4749, 1023.200,    3.993,   34.483,2,   34.483,2,   40.800,2,   41.000,2,  111.350,2,   41.280,2,    3.020,2, -999.000
           NA,HOT timeseries 1988to2019 27SEP2021,     43,  99,-999.0,      33,-999.0,19930414,0540,  22.7402, -158.0000,  4749, 1028.300,    4.025,   34.480,2,   34.480,2,   40.500,2,   40.900,2,  111.360,2,   41.330,2,    3.020,2, -999.000
           NA,HOT timeseries 1988to2019 27SEP2021,     43,  99,-999.0,      34,-999.0,19930414,0540,  22.7402, -158.0000,  4749, 1098.600,    3.777,   34.502,2,   34.502,2,   43.900,2, -999.000,3, -999.000,5, -999.000,5, -999.000,5, -999.000
           NA,HOT timeseries 1988to2019 27SEP2021,     43,  99,-999.0,      20,-999.0,19930414,0540,  22.7402, -158.0000,  4749, 1198.900,    3.495,   34.526,2,   34.526,2,   50.300,2,   50.700,2,  121.760,2,   41.270,2,    2.990,2, -999.000
           NA,HOT timeseries 1988to2019 27SEP2021,     43,  99,-999.0,      33,-999.0,19930414,0540,  22.7402, -158.0000,  4749, 1223.000,    3.439,   34.530,2,   34.533,2,   50.600,2,   51.700,2, -999.000,5, -999.000,5, -999.000,5, -999.000
           NA,HOT timeseries 1988to2019 27SEP2021,     43,  99,-999.0,      19,-999.0,19930414,0540,  22.7402, -158.0000,  4749, 1394.500,    3.027,   34.559,2,   34.561,2,   60.200,2,   60.600,2,  132.270,2,   40.890,2,    2.950,2, -999.000
           NA,HOT timeseries 1988to2019 27SEP2021,     43,  99,-999.0,      18,-999.0,19930414,0540,  22.7402, -158.0000,  4749, 1594.900,    2.692,   34.579,2,   34.579,2,   69.600,2,   70.300,2,  139.390,2,   40.380,2,    2.890,2, -999.000
           NA,HOT timeseries 1988to2019 27SEP2021,     43,  99,-999.0,      17,-999.0,19930414,0540,  22.7402, -158.0000,  4749, 1805.800,    2.355,   34.603,2,   34.604,2,   78.800,2,   79.900,2,  146.620,2,   39.840,2,    2.840,2, -999.000
           NA,HOT timeseries 1988to2019 27SEP2021,     43,  99,-999.0,      16,-999.0,19930414,0540,  22.7402, -158.0000,  4749, 2002.000,    2.099,   34.620,2,   34.618,2,   88.500,2,   89.200,2,  152.610,2,   39.440,2,    2.800,2, -999.000
           NA,HOT timeseries 1988to2019 27SEP2021,     43,  99,-999.0,      15,-999.0,19930414,0540,  22.7402, -158.0000,  4749, 2198.200,    1.930,   34.633,2,   34.636,2,   95.500,2,   97.300,2,  156.370,2,   39.030,2,    2.750,2, -999.000
           NA,HOT timeseries 1988to2019 27SEP2021,     43,  99,-999.0,      14,-999.0,19930414,0540,  22.7402, -158.0000,  4749, 2395.100,    1.774,   34.648,2, -999.000,3, -999.000,3,  105.500,2,  158.500,2,   38.520,2,    2.720,2, -999.000
           NA,HOT timeseries 1988to2019 27SEP2021,     43,  99,-999.0,      13,-999.0,19930414,0540,  22.7402, -158.0000,  4749, 2602.900,    1.697,   34.656,2, -999.000,4, -999.000,3,  112.000,2,  159.150,2,   38.020,2,    2.680,2, -999.000
           NA,HOT timeseries 1988to2019 27SEP2021,     43,  99,-999.0,      12,-999.0,19930414,0540,  22.7402, -158.0000,  4749, 2799.000,    1.631,   34.662,2,   34.663,2,  117.100,2,  116.100,2,  160.100,2,   37.680,2,    2.660,2, -999.000
           NA,HOT timeseries 1988to2019 27SEP2021,     43,  99,-999.0,      11,-999.0,19930414,0540,  22.7402, -158.0000,  4749, 2996.300,    1.573,   34.668,2,   34.668,2,  123.400,2,  125.100,2,  159.020,2,   37.250,2,    2.620,2, -999.000
           NA,HOT timeseries 1988to2019 27SEP2021,     43,  99,-999.0,      32,-999.0,19930414,0540,  22.7402, -158.0000,  4749, 3193.700,    1.529,   34.674,2,   34.672,2,  130.000,2,  129.000,2,  158.640,2,   36.960,2,    2.580,2, -999.000
           NA,HOT timeseries 1988to2019 27SEP2021,     43,  99,-999.0,       3,-999.0,19930414,0540,  22.7402, -158.0000,  4749, 3390.700,    1.492,   34.678,2,   34.680,2,  135.500,2,  134.000,2,  156.860,2,   36.630,2,    2.560,2, -999.000
           NA,HOT timeseries 1988to2019 27SEP2021,     43,  99,-999.0,      29,-999.0,19930414,0540,  22.7402, -158.0000,  4749, 3598.500,    1.463,   34.682,2,   34.680,2,  142.200,2,  140.700,2,  155.300,2,   36.270,2,    2.530,2, -999.000
           NA,HOT timeseries 1988to2019 27SEP2021,     43,  99,-999.0,      28,-999.0,19930414,0540,  22.7402, -158.0000,  4749, 3795.300,    1.453,   34.685,2,   34.686,2,  145.800,2,  144.700,2,  154.150,2,   35.890,2,    2.510,2, -999.000
           NA,HOT timeseries 1988to2019 27SEP2021,     43,  99,-999.0,       7,-999.0,19930414,0540,  22.7402, -158.0000,  4749, 3992.500,    1.452,   34.687,2,   34.689,2,  146.900,2,  147.900,2,  152.100,2,   35.750,2,    2.490,2, -999.000
           NA,HOT timeseries 1988to2019 27SEP2021,     43,  99,-999.0,      23,-999.0,19930414,0540,  22.7402, -158.0000,  4749, 4190.500,    1.462,   34.688,2, -999.000,4, -999.000,3,  150.400,2,  151.440,2,   35.570,2,    2.500,2, -999.000