BOTTLE,20214727JOAExport
EXPOCODE,SECT_ID,STNNBR,CASTNO,SAMPNO,BTLNBR,BTLNBR_FLAG_W,DATE,TIME,LATITUDE,LONGITUDE,DEPTH,CTDPRS,CTDTMP,CTDSAL,CTDSAL_FLAG_W,SALNTY,SALNTY_FLAG_W,CTDOXY,CTDOXY_FLAG_W,OXYGEN,OXYGEN_FLAG_W,SILCAT,SILCAT_FLAG_W,NINI,NINI_FLAG_W,PHSPHT,PHSPHT_FLAG_W,REVP
,,,,,,,,,,,,DB,IPTS-68,PSS-78,,PSS-78,,UMOL/KG,,UMOL/KG,,UMOL/KG,,UMOL/KG,,UMOL/KG,,DBAR
           NA,HOT timeseries 1988to2019 27SEP2021,    168,  99,-999.0,      23,-999.0,20050813,2017,  22.7692, -158.0352,  4723,    5.300,   26.424,   35.154,2,   35.157,2,  206.300,2,  209.700,2,    1.380,2,    0.040,2,    0.040,2, -999.000
           NA,HOT timeseries 1988to2019 27SEP2021,    168,  99,-999.0,      30,-999.0,20050813,2017,  22.7692, -158.0352,  4723,   71.000,   25.941,   35.145,2,   35.140,2,  209.000,2,  214.900,2,    1.270,2,    0.040,2,    0.040,2, -999.000
           NA,HOT timeseries 1988to2019 27SEP2021,    168,  99,-999.0,      22,-999.0,20050813,2017,  22.7692, -158.0352,  4723,   97.500,   23.783,   35.124,2,   35.124,2,  223.600,2, -999.000,4,    1.380,2,    0.070,2,    0.040,2, -999.000
           NA,HOT timeseries 1988to2019 27SEP2021,    168,  99,-999.0,      21,-999.0,20050813,2017,  22.7692, -158.0352,  4723,  136.600,   22.262,   35.221,2,   35.219,2,  216.900,2,  218.100,2,    1.560,2,    0.080,2,    0.050,2, -999.000
           NA,HOT timeseries 1988to2019 27SEP2021,    168,  99,-999.0,      41,-999.0,20050813,2017,  22.7692, -158.0352,  4723,  174.800,   20.832,   35.180,2,   35.181,2,  211.500,2,  210.900,2,    1.920,2,    0.330,2,    0.080,2, -999.000
           NA,HOT timeseries 1988to2019 27SEP2021,    168,  99,-999.0,      19,-999.0,20050813,2017,  22.7692, -158.0352,  4723,  196.400,   19.812,   35.093,2,   35.096,2,  205.800,2,  207.000,2,    2.290,2,    1.310,2,    0.160,2, -999.000
           NA,HOT timeseries 1988to2019 27SEP2021,    168,  99,-999.0,      18,-999.0,20050813,2017,  22.7692, -158.0352,  4723,  255.000,   15.872,   34.586,2, -999.000,3, -999.000,3,  205.800,2,    4.750,2,    4.550,2,    0.380,2, -999.000
           NA,HOT timeseries 1988to2019 27SEP2021,    168,  99,-999.0,      17,-999.0,20050813,2017,  22.7692, -158.0352,  4723,  300.300,   13.326,   34.307,2,   34.309,2,  207.400,2,  207.300,2,    8.180,2,    8.520,2,    0.650,2, -999.000
           NA,HOT timeseries 1988to2019 27SEP2021,    168,  99,-999.0,      34,-999.0,20050813,2017,  22.7692, -158.0352,  4723,  338.200,   11.422,   34.124,2,   34.123,2,  190.900,2,  193.400,2,   13.060,2,   13.170,2,    1.000,2, -999.000
           NA,HOT timeseries 1988to2019 27SEP2021,    168,  99,-999.0,     102,-999.0,20050813,2017,  22.7692, -158.0352,  4723,  369.200,   10.252,   34.099,2,   34.099,2,  186.900,2,  187.600,2,   18.050,2,   16.710,2,    1.230,2, -999.000
           NA,HOT timeseries 1988to2019 27SEP2021,    168,  99,-999.0,     101,-999.0,20050813,2017,  22.7692, -158.0352,  4723,  413.400,    8.772,   34.083,2,   34.084,2,  155.400,2,  154.800,2,   29.590,2,   22.980,2,    1.660,2, -999.000
           NA,HOT timeseries 1988to2019 27SEP2021,    168,  99,-999.0,      42,-999.0,20050813,2017,  22.7692, -158.0352,  4723,  451.300,    7.996,   34.082,2,   34.083,2,  125.400,2,  125.400,2,   37.930,2,   27.230,2,    1.880,2, -999.000
           NA,HOT timeseries 1988to2019 27SEP2021,    168,  99,-999.0,      12,-999.0,20050813,2017,  22.7692, -158.0352,  4723,  482.900,    7.418,   34.076,2,   34.079,2,  108.600,2,  107.700,2,   44.380,2,   29.500,2,    2.140,2, -999.000
           NA,HOT timeseries 1988to2019 27SEP2021,    168,  99,-999.0,      39,-999.0,20050813,2017,  22.7692, -158.0352,  4723,  515.500,    6.763,   34.088,2,   34.090,2,   82.000,2,   82.200,2,   53.580,2,   32.810,2,    2.420,2, -999.000
           NA,HOT timeseries 1988to2019 27SEP2021,    168,  99,-999.0,      33,-999.0,20050813,2017,  22.7692, -158.0352,  4723,  570.100,    6.323,   34.151,2,   34.150,2,   52.800,2,   51.800,2,   63.190,2,   36.030,2,    2.680,2, -999.000
           NA,HOT timeseries 1988to2019 27SEP2021,    168,  99,-999.0,       3,-999.0,20050813,2017,  22.7692, -158.0352,  4723,  611.200,    5.894,   34.215,2,   34.216,2,   34.800,2,   34.200,2,   71.590,2,   38.340,2,    2.870,2, -999.000
           NA,HOT timeseries 1988to2019 27SEP2021,    168,  99,-999.0,      29,-999.0,20050813,2017,  22.7692, -158.0352,  4723,  651.600,    5.728,   34.271,2,   34.272,2,   24.700,2,   24.000,2,   75.920,2,   39.500,2,    2.970,2, -999.000
           NA,HOT timeseries 1988to2019 27SEP2021,    168,  99,-999.0,      13,-999.0,20050813,2017,  22.7692, -158.0352,  4723,  744.900,    5.198,   34.369,2,   34.372,2,   25.600,2,   23.500,2,   82.860,2,   40.950,2,    3.040,2, -999.000
           NA,HOT timeseries 1988to2019 27SEP2021,    168,  99,-999.0,      38,-999.0,20050813,2017,  22.7692, -158.0352,  4723,  801.800,    5.040,   34.425,2,   34.424,2,   24.800,2,   25.300,2,   85.570,2,   41.510,2,    3.060,2, -999.000
           NA,HOT timeseries 1988to2019 27SEP2021,    168,  99,-999.0,      36,-999.0,20050813,2017,  22.7692, -158.0352,  4723,  846.000,    4.855,   34.442,2,   34.439,2,   26.400,2,   26.500,2, -999.000,3,   41.830,2,    3.080,2, -999.000
           NA,HOT timeseries 1988to2019 27SEP2021,    168,  99,-999.0,       7,-999.0,20050813,2017,  22.7692, -158.0352,  4723,  951.500,    4.446,   34.482,2,   34.483,2,   32.600,2,   32.500,2, -999.000,3, -999.000,4,    3.100,2, -999.000
           NA,HOT timeseries 1988to2019 27SEP2021,    168,  99,-999.0,      11,-999.0,20050813,2017,  22.7692, -158.0352,  4723, 1016.900,    4.256,   34.496,2,   34.495,2,   36.200,2,   36.000,2, -999.000,3,   42.160,2,    3.080,2, -999.000
           NA,HOT timeseries 1988to2019 27SEP2021,    168,  99,-999.0,      41,-999.0,20050813,2017,  22.7692, -158.0352,  4723, 1201.400,    3.692,   34.533,2,   34.532,2,   46.300,2,   47.000,2,  115.150,2,   41.920,2,    3.050,2, -999.000
           NA,HOT timeseries 1988to2019 27SEP2021,    168,  99,-999.0,      19,-999.0,20050813,2017,  22.7692, -158.0352,  4723, 1399.700,    3.233,   34.558,2, -999.000,3, -999.000,3,   57.000,2, -999.000,3, -999.000,3, -999.000,3, -999.000
           NA,HOT timeseries 1988to2019 27SEP2021,    168,  99,-999.0,      18,-999.0,20050813,2017,  22.7692, -158.0352,  4723, 1601.200,    2.782,   34.583,2, -999.000,4, -999.000,3,   67.400,2,  134.640,2,   41.080,2,    2.980,2, -999.000
           NA,HOT timeseries 1988to2019 27SEP2021,    168,  99,-999.0,      17,-999.0,20050813,2017,  22.7692, -158.0352,  4723, 1799.700,    2.494,   34.601,2,   34.601,2,   76.600,2,   77.200,2,  141.380,2,   40.440,2,    2.920,2, -999.000
           NA,HOT timeseries 1988to2019 27SEP2021,    168,  99,-999.0,      34,-999.0,20050813,2017,  22.7692, -158.0352,  4723, 2000.100,    2.199,   34.616,2,   34.616,2,   87.800,2,   87.600,2,  147.950,2,   39.670,2,    2.840,2, -999.000
           NA,HOT timeseries 1988to2019 27SEP2021,    168,  99,-999.0,     102,-999.0,20050813,2017,  22.7692, -158.0352,  4723, 2200.200,    2.014,   34.628,2,   34.629,2,   93.700,2,   93.700,2,  150.940,2,   39.360,2,    2.840,2, -999.000
           NA,HOT timeseries 1988to2019 27SEP2021,    168,  99,-999.0,     101,-999.0,20050813,2017,  22.7692, -158.0352,  4723, 2399.700,    1.836,   34.642,2,   34.641,2,  101.600,2,  101.900,2,  156.620,2,   38.720,2,    2.780,2, -999.000
           NA,HOT timeseries 1988to2019 27SEP2021,    168,  99,-999.0,      42,-999.0,20050813,2017,  22.7692, -158.0352,  4723, 2599.900,    1.710,   34.653,2, -999.000,3, -999.000,3, -999.000,4,  158.290,2,   38.240,2,    2.740,2, -999.000
           NA,HOT timeseries 1988to2019 27SEP2021,    168,  99,-999.0,      12,-999.0,20050813,2017,  22.7692, -158.0352,  4723, 2800.400,    1.609,   34.663,2,   34.664,2,  119.500,2,  119.500,2,  158.080,2,   37.610,2,    2.680,2, -999.000
           NA,HOT timeseries 1988to2019 27SEP2021,    168,  99,-999.0,      39,-999.0,20050813,2017,  22.7692, -158.0352,  4723, 3000.800,    1.556,   34.669,2,   34.669,2,  124.200,2,  123.700,2,  159.760,2,   37.280,2,    2.650,2, -999.000
           NA,HOT timeseries 1988to2019 27SEP2021,    168,  99,-999.0,      33,-999.0,20050813,2017,  22.7692, -158.0352,  4723, 3201.200,    1.526,   34.674,2,   34.677,2,  130.500,2,  130.500,2,  157.440,2,   36.850,2,    2.630,2, -999.000
           NA,HOT timeseries 1988to2019 27SEP2021,    168,  99,-999.0,       3,-999.0,20050813,2017,  22.7692, -158.0352,  4723, 3400.700,    1.498,   34.678,2,   34.680,2,  135.400,2, -999.000,4, -999.000,3,   36.700,2,    2.590,2, -999.000
           NA,HOT timeseries 1988to2019 27SEP2021,    168,  99,-999.0,      29,-999.0,20050813,2017,  22.7692, -158.0352,  4723, 3600.400,    1.479,   34.682,2,   34.682,2,  139.800,2,  139.400,2,  156.410,2,   36.560,2,    2.580,2, -999.000
           NA,HOT timeseries 1988to2019 27SEP2021,    168,  99,-999.0,      28,-999.0,20050813,2017,  22.7692, -158.0352,  4723, 3800.800,    1.465,   34.684,2,   34.683,2,  144.300,2,  144.100,2,  154.300,2,   36.230,2,    2.560,2, -999.000
           NA,HOT timeseries 1988to2019 27SEP2021,    168,  99,-999.0,      13,-999.0,20050813,2017,  22.7692, -158.0352,  4723, 4000.800,    1.463,   34.686,2,   34.685,2,  147.400,2,  147.600,2,  153.300,2,   36.090,2,    2.530,2, -999.000
           NA,HOT timeseries 1988to2019 27SEP2021,    168,  99,-999.0,      38,-999.0,20050813,2017,  22.7692, -158.0352,  4723, 4200.400,    1.468,   34.688,2,   34.688,2,  150.100,2,  150.400,2,  152.050,2,   35.810,2,    2.510,2, -999.000
           NA,HOT timeseries 1988to2019 27SEP2021,    168,  99,-999.0,      36,-999.0,20050813,2017,  22.7692, -158.0352,  4723, 4400.600,    1.480,   34.689,2,   34.692,2,  151.900,2, -999.000,4,  151.390,2,   35.790,2,    2.510,2, -999.000
           NA,HOT timeseries 1988to2019 27SEP2021,    168,  99,-999.0,      35,-999.0,20050813,2017,  22.7692, -158.0352,  4723, 4500.500,    1.487,   34.689,2,   34.690,2,  152.500,2,  152.200,2,  150.810,2,   35.740,2,    2.510,2, -999.000
           NA,HOT timeseries 1988to2019 27SEP2021,    168,  99,-999.0,       7,-999.0,20050813,2017,  22.7692, -158.0352,  4723, 4600.700,    1.495,   34.689,2,   34.689,2,  153.000,2,  153.900,2,  149.590,2,   35.600,2,    2.500,2, -999.000
           NA,HOT timeseries 1988to2019 27SEP2021,    168,  99,-999.0,      11,-999.0,20050813,2017,  22.7692, -158.0352,  4723, 4805.700,    1.516,   34.690,2,   34.690,2,  153.600,2,  153.100,2,  149.630,2,   35.500,2,    2.490,2, -999.000