BOTTLE,20214727JOAExport
EXPOCODE,SECT_ID,STNNBR,CASTNO,SAMPNO,BTLNBR,BTLNBR_FLAG_W,DATE,TIME,LATITUDE,LONGITUDE,DEPTH,CTDPRS,CTDTMP,CTDSAL,CTDSAL_FLAG_W,SALNTY,SALNTY_FLAG_W,CTDOXY,CTDOXY_FLAG_W,OXYGEN,OXYGEN_FLAG_W,SILCAT,SILCAT_FLAG_W,NINI,NINI_FLAG_W,PHSPHT,PHSPHT_FLAG_W,REVP
,,,,,,,,,,,,DB,IPTS-68,PSS-78,,PSS-78,,UMOL/KG,,UMOL/KG,,UMOL/KG,,UMOL/KG,,UMOL/KG,,DBAR
           NA,HOT timeseries 1988to2019 27SEP2021,    178,  99,-999.0,    8030,-999.0,20060613,1436,  22.7505, -157.9997,  4745,   14.600,   25.862,   34.845,2,   34.841,2,  208.400,2,  204.400,2,    0.560,2,    0.040,2,    0.040,2, -999.000
           NA,HOT timeseries 1988to2019 27SEP2021,    178,  99,-999.0,    8030,-999.0,20060613,1436,  22.7505, -157.9997,  4745,   26.200,   25.522,   34.932,2, -999.000,3, -999.000,3,  207.300,2,    0.640,2,    0.040,2,    0.030,2, -999.000
           NA,HOT timeseries 1988to2019 27SEP2021,    178,  99,-999.0,    8039,-999.0,20060613,1436,  22.7505, -157.9997,  4745,   39.600,   23.801,   35.212,2,   35.211,2,  218.800,2,  217.500,2,    0.650,2,    0.040,2,    0.010,2, -999.000
           NA,HOT timeseries 1988to2019 27SEP2021,    178,  99,-999.0,    8058,-999.0,20060613,1436,  22.7505, -157.9997,  4745,   95.000,   21.913,   35.220,2,   35.224,2,  211.300,2,  210.900,2,    0.940,2,    0.030,2,    0.020,2, -999.000
           NA,HOT timeseries 1988to2019 27SEP2021,    178,  99,-999.0,    8052,-999.0,20060613,1436,  22.7505, -157.9997,  4745,  147.200,   19.448,   34.985,2,   34.986,2,  195.700,2,  195.500,2,    2.070,2,    2.280,2,    0.200,2, -999.000
           NA,HOT timeseries 1988to2019 27SEP2021,    178,  99,-999.0,    8049,-999.0,20060613,1436,  22.7505, -157.9997,  4745,  182.300,   17.744,   34.818,2,   34.814,2,  200.200,2,  199.600,2,    3.080,2,    3.320,2,    0.260,2, -999.000
           NA,HOT timeseries 1988to2019 27SEP2021,    178,  99,-999.0,    8043,-999.0,20060613,1436,  22.7505, -157.9997,  4745,  214.700,   16.303,   34.675,2,   34.674,2,  203.200,2,  203.200,2,    4.140,2,    4.690,2,    0.350,2, -999.000
           NA,HOT timeseries 1988to2019 27SEP2021,    178,  99,-999.0,    8045,-999.0,20060613,1436,  22.7505, -157.9997,  4745,  265.100,   14.388,   34.491,2,   34.492,2,  207.200,2,  206.800,2,    6.730,2,    7.450,2,    0.530,2, -999.000
           NA,HOT timeseries 1988to2019 27SEP2021,    178,  99,-999.0,    8007,-999.0,20060613,1436,  22.7505, -157.9997,  4745,  318.500,   12.298,   34.307,2,   34.317,2,  205.400,2,  206.300,2,   10.880,2,   10.920,2,    0.770,2, -999.000
           NA,HOT timeseries 1988to2019 27SEP2021,    178,  99,-999.0,    8034,-999.0,20060613,1436,  22.7505, -157.9997,  4745,  376.800,   10.578,   34.195,2,   34.193,2,  195.900,2,  197.100,2,   17.540,2,   15.250,2,    1.090,2, -999.000
           NA,HOT timeseries 1988to2019 27SEP2021,    178,  99,-999.0,    8033,-999.0,20060613,1436,  22.7505, -157.9997,  4745,  409.400,    9.623,   34.139,2,   34.143,2,  182.000,2,  184.000,2,   23.000,2,   18.300,2,    1.280,2, -999.000
           NA,HOT timeseries 1988to2019 27SEP2021,    178,  99,-999.0,    8029,-999.0,20060613,1436,  22.7505, -157.9997,  4745,  440.300,    8.931,   34.111,2,   34.110,2,  168.900,2,  168.600,2,   29.200,2,   21.110,2,    1.490,2, -999.000
           NA,HOT timeseries 1988to2019 27SEP2021,    178,  99,-999.0,    8055,-999.0,20060613,1436,  22.7505, -157.9997,  4745,  494.300,    7.285,   34.055,2,   34.057,2,  128.800,2,  127.400,2,   45.130,2,   28.010,2,    2.000,2, -999.000
           NA,HOT timeseries 1988to2019 27SEP2021,    178,  99,-999.0,    8036,-999.0,20060613,1436,  22.7505, -157.9997,  4745,  537.100,    6.499,   34.050,2,   34.051,2,  101.000,2,   99.900,2,   55.720,2,   31.630,2,    2.290,2, -999.000
           NA,HOT timeseries 1988to2019 27SEP2021,    178,  99,-999.0,    8050,-999.0,20060613,1436,  22.7505, -157.9997,  4745,  589.700,    5.859,   34.101,2,   34.103,2,   62.700,2,   64.500,2,   67.620,2,   35.650,2,    2.620,2, -999.000
           NA,HOT timeseries 1988to2019 27SEP2021,    178,  99,-999.0,    8052,-999.0,20060613,1436,  22.7505, -157.9997,  4745,  640.200,    5.439,   34.167,2,   34.164,2,   40.800,2,   40.800,2,   77.390,2,   38.240,2,    2.820,2, -999.000
           NA,HOT timeseries 1988to2019 27SEP2021,    178,  99,-999.0,    8047,-999.0,20060613,1436,  22.7505, -157.9997,  4745,  700.700,    5.133,   34.257,2,   34.257,2,   31.400,2,   31.000,2,   86.100,2,   39.930,2,    2.950,2, -999.000
           NA,HOT timeseries 1988to2019 27SEP2021,    178,  99,-999.0,    8035,-999.0,20060613,1436,  22.7505, -157.9997,  4745,  738.700,    4.777,   34.264,2,   34.266,2,   28.200,2,   27.400,2,   93.740,2,   40.760,2,    2.990,2, -999.000
           NA,HOT timeseries 1988to2019 27SEP2021,    178,  99,-999.0,    8048,-999.0,20060613,1436,  22.7505, -157.9997,  4745,  816.200,    4.406,   34.335,2,   34.340,2,   25.600,2,   24.700,2,  103.430,2,   41.680,2,    3.050,2, -999.000
           NA,HOT timeseries 1988to2019 27SEP2021,    178,  99,-999.0,    8037,-999.0,20060613,1436,  22.7505, -157.9997,  4745,  851.500,    4.281,   34.366,2,   34.365,2,   26.900,2,   27.200,2,  106.390,2,   41.830,2,    3.060,2, -999.000
           NA,HOT timeseries 1988to2019 27SEP2021,    178,  99,-999.0,    8038,-999.0,20060613,1436,  22.7505, -157.9997,  4745,  883.000,    4.238,   34.402,2,   34.403,2,   30.200,2,   29.400,2,  107.200,2,   41.580,2,    3.040,2, -999.000
           NA,HOT timeseries 1988to2019 27SEP2021,    178,  99,-999.0,    8054,-999.0,20060613,1436,  22.7505, -157.9997,  4745,  914.000,    4.133,   34.423,2,   34.426,2,   32.900,2,   33.000,2,  108.380,2,   41.590,2,    3.040,2, -999.000
           NA,HOT timeseries 1988to2019 27SEP2021,    178,  99,-999.0,    8053,-999.0,20060613,1436,  22.7505, -157.9997,  4745,  977.200,    3.944,   34.463,2,   34.462,2,   39.100,2,   38.300,2,  112.580,2,   41.320,2,    3.010,2, -999.000
           NA,HOT timeseries 1988to2019 27SEP2021,    178,  99,-999.0,    8027,-999.0,20060613,1436,  22.7505, -157.9997,  4745, 1020.800,    3.855,   34.478,2,   34.480,2,   41.600,2,   42.200,2,  114.070,2,   41.350,2,    3.010,2, -999.000
           NA,HOT timeseries 1988to2019 27SEP2021,    178,  99,-999.0,    8049,-999.0,20060613,1436,  22.7505, -157.9997,  4745, 1201.000,    3.450,   34.517,2,   34.516,2,   50.000,2,   50.300,2, -999.000,3,   41.030,2,    3.030,2, -999.000
           NA,HOT timeseries 1988to2019 27SEP2021,    178,  99,-999.0,    8043,-999.0,20060613,1436,  22.7505, -157.9997,  4745, 1399.700,    3.058,   34.565,2, -999.000,5,   59.800,2, -999.000,5, -999.000,5, -999.000,5, -999.000,5, -999.000
           NA,HOT timeseries 1988to2019 27SEP2021,    178,  99,-999.0,    8045,-999.0,20060613,1436,  22.7505, -157.9997,  4745, 1599.900,    2.703,   34.588,2, -999.000,4, -999.000,3,   69.000,2, -999.000,3,   40.380,2,    2.920,2, -999.000
           NA,HOT timeseries 1988to2019 27SEP2021,    178,  99,-999.0,    8007,-999.0,20060613,1436,  22.7505, -157.9997,  4745, 1800.900,    2.428,   34.607,2,   34.605,2,   76.800,2,   77.800,2, -999.000,3,   39.920,2,    2.850,2, -999.000
           NA,HOT timeseries 1988to2019 27SEP2021,    178,  99,-999.0,    8034,-999.0,20060613,1436,  22.7505, -157.9997,  4745, 2002.500,    2.138,   34.623,2,   34.621,2,   88.000,2,   88.600,2,  151.220,2,   39.210,2,    2.830,2, -999.000
           NA,HOT timeseries 1988to2019 27SEP2021,    178,  99,-999.0,    8033,-999.0,20060613,1436,  22.7505, -157.9997,  4745, 2200.300,    1.961,   34.635,2,   34.634,2,   95.800,2,   96.300,2,  152.490,2,   38.840,2,    2.780,2, -999.000
           NA,HOT timeseries 1988to2019 27SEP2021,    178,  99,-999.0,    8029,-999.0,20060613,1436,  22.7505, -157.9997,  4745, 2401.500,    1.802,   34.647,2,   34.645,2,  103.300,2,  103.600,2,  158.380,2,   38.490,2,    2.740,2, -999.000
           NA,HOT timeseries 1988to2019 27SEP2021,    178,  99,-999.0,    8055,-999.0,20060613,1436,  22.7505, -157.9997,  4745, 2599.100,    1.712,   34.654,2,   34.656,2,  107.800,2,  108.300,2,  160.230,2,   38.170,2,    2.700,2, -999.000
           NA,HOT timeseries 1988to2019 27SEP2021,    178,  99,-999.0,    8036,-999.0,20060613,1436,  22.7505, -157.9997,  4745, 2801.300,    1.631,   34.663,2,   34.661,2,  116.300,2,  117.000,2,  157.630,2,   37.760,2,    2.680,2, -999.000
           NA,HOT timeseries 1988to2019 27SEP2021,    178,  99,-999.0,    8050,-999.0,20060613,1436,  22.7505, -157.9997,  4745, 2998.400,    1.570,   34.669,2,   34.668,2,  121.200,2,  121.500,2,  158.440,2,   37.370,2,    2.650,2, -999.000
           NA,HOT timeseries 1988to2019 27SEP2021,    178,  99,-999.0,    8052,-999.0,20060613,1436,  22.7505, -157.9997,  4745, 3200.300,    1.526,   34.675,2,   34.673,2,  127.700,2,  127.800,2,  155.520,2,   36.980,2,    2.630,2, -999.000
           NA,HOT timeseries 1988to2019 27SEP2021,    178,  99,-999.0,    8047,-999.0,20060613,1436,  22.7505, -157.9997,  4745, 3399.800,    1.491,   34.679,2,   34.677,2,  134.200,2,  134.600,2,  154.350,2,   36.510,2,    2.570,2, -999.000
           NA,HOT timeseries 1988to2019 27SEP2021,    178,  99,-999.0,    8035,-999.0,20060613,1436,  22.7505, -157.9997,  4745, 3598.900,    1.475,   34.682,2,   34.681,2,  138.500,2,  138.600,2,  153.650,2,   36.350,2,    2.550,2, -999.000
           NA,HOT timeseries 1988to2019 27SEP2021,    178,  99,-999.0,    8046,-999.0,20060613,1436,  22.7505, -157.9997,  4745, 3802.300,    1.465,   34.685,2,   34.685,2,  143.200,2,  142.600,2, -999.000,3,   36.200,2,    2.540,2, -999.000
           NA,HOT timeseries 1988to2019 27SEP2021,    178,  99,-999.0,    8048,-999.0,20060613,1436,  22.7505, -157.9997,  4745, 3999.200,    1.463,   34.688,2,   34.685,2,  146.400,2,  145.400,2,  150.860,2,   35.900,2,    2.510,2, -999.000
           NA,HOT timeseries 1988to2019 27SEP2021,    178,  99,-999.0,    8037,-999.0,20060613,1436,  22.7505, -157.9997,  4745, 4200.600,    1.469,   34.689,2,   34.688,2,  148.800,2,  147.700,2,  150.070,2,   35.770,2,    2.500,2, -999.000
           NA,HOT timeseries 1988to2019 27SEP2021,    178,  99,-999.0,    8038,-999.0,20060613,1436,  22.7505, -157.9997,  4745, 4399.600,    1.482,   34.690,2,   34.689,2,  150.600,2,  147.800,2,  148.510,2,   35.750,2,    2.470,2, -999.000
           NA,HOT timeseries 1988to2019 27SEP2021,    178,  99,-999.0,    8054,-999.0,20060613,1436,  22.7505, -157.9997,  4745, 4500.400,    1.491,   34.690,2,   34.689,2,  150.700,2,  150.000,2,  149.080,2,   35.720,2,    2.470,2, -999.000
           NA,HOT timeseries 1988to2019 27SEP2021,    178,  99,-999.0,    8053,-999.0,20060613,1436,  22.7505, -157.9997,  4745, 4600.200,    1.501,   34.690,2,   34.692,2,  150.500,2,  151.000,2,  147.920,2,   35.590,2,    2.480,2, -999.000
           NA,HOT timeseries 1988to2019 27SEP2021,    178,  99,-999.0,    8027,-999.0,20060613,1436,  22.7505, -157.9997,  4745, 4799.900,    1.522,   34.690,2,   34.689,2,  150.000,2,  150.700,2, -999.000,3,   35.480,2,    2.460,2, -999.000