BOTTLE,20214727JOAExport
EXPOCODE,SECT_ID,STNNBR,CASTNO,SAMPNO,BTLNBR,BTLNBR_FLAG_W,DATE,TIME,LATITUDE,LONGITUDE,DEPTH,CTDPRS,CTDTMP,CTDSAL,CTDSAL_FLAG_W,SALNTY,SALNTY_FLAG_W,CTDOXY,CTDOXY_FLAG_W,OXYGEN,OXYGEN_FLAG_W,SILCAT,SILCAT_FLAG_W,NINI,NINI_FLAG_W,PHSPHT,PHSPHT_FLAG_W,REVP
,,,,,,,,,,,,DB,IPTS-68,PSS-78,,PSS-78,,UMOL/KG,,UMOL/KG,,UMOL/KG,,UMOL/KG,,UMOL/KG,,DBAR
           NA,HOT timeseries 1988to2019 27SEP2021,     16,  99,-999.0,      15,-999.0,19900508,2143,  22.7200, -158.0050,  4749,   33.100,   23.338,   35.109,2,   35.108,2,  251.100,2,  215.800,2,    0.810,2,    0.010,2,    0.060,2, -999.000
           NA,HOT timeseries 1988to2019 27SEP2021,     16,  99,-999.0,      14,-999.0,19900508,2143,  22.7200, -158.0050,  4749,   72.300,   21.771,   35.237,2,   35.238,2,  221.100,2,  220.000,2,    1.000,2,    0.040,2,    0.060,2, -999.000
           NA,HOT timeseries 1988to2019 27SEP2021,     16,  99,-999.0,      13,-999.0,19900508,2143,  22.7200, -158.0050,  4749,  149.500,   19.486,   35.131,2,   35.130,2,  195.000,2,  201.900,2,    1.950,2,    1.800,2,    0.180,2, -999.000
           NA,HOT timeseries 1988to2019 27SEP2021,     16,  99,-999.0,      12,-999.0,19900508,2143,  22.7200, -158.0050,  4749,  219.200,   15.446,   34.643,2,   34.644,2,  193.100,2,  201.700,2,    5.370,2,    5.890,2,    0.460,2, -999.000
           NA,HOT timeseries 1988to2019 27SEP2021,     16,  99,-999.0,      11,-999.0,19900508,2143,  22.7200, -158.0050,  4749,  310.400,   11.955,   34.310,2,   34.310,2,  213.700,2,  212.100,2,   11.280,2,   11.180,2,    0.780,2, -999.000
           NA,HOT timeseries 1988to2019 27SEP2021,     16,  99,-999.0,      10,-999.0,19900508,2143,  22.7200, -158.0050,  4749,  374.600,   10.205,   34.163,2,   34.163,2,  202.700,2,  196.800,2,   18.520,2,   16.070,2,    1.120,2, -999.000
           NA,HOT timeseries 1988to2019 27SEP2021,     16,  99,-999.0,       9,-999.0,19900508,2143,  22.7200, -158.0050,  4749,  429.700,    8.530,   34.078,2,   34.077,2,  169.200,2,  158.700,2,   30.890,2,   23.160,2,    1.630,2, -999.000
           NA,HOT timeseries 1988to2019 27SEP2021,     16,  99,-999.0,       8,-999.0,19900508,2143,  22.7200, -158.0050,  4749,  481.900,    7.427,   34.078,2,   34.078,2,  114.700,2,  113.000,2,   44.220,2,   29.330,2,    2.110,2, -999.000
           NA,HOT timeseries 1988to2019 27SEP2021,     16,  99,-999.0,       7,-999.0,19900508,2143,  22.7200, -158.0050,  4749,  525.100,    6.660,   34.080,2,   34.078,2,   89.700,2,   86.200,2,   54.690,2,   33.140,2,    2.390,2, -999.000
           NA,HOT timeseries 1988to2019 27SEP2021,     16,  99,-999.0,       6,-999.0,19900508,2143,  22.7200, -158.0050,  4749,  571.200,    6.091,   34.123,2,   34.121,2,   53.800,2,   55.500,2,   66.110,2,   36.950,2,    2.690,2, -999.000
           NA,HOT timeseries 1988to2019 27SEP2021,     16,  99,-999.0,       5,-999.0,19900508,2143,  22.7200, -158.0050,  4749,  621.500,    5.690,   34.206,2,   34.203,2,   28.300,2,   32.200,2,   75.630,2,   39.580,2,    2.880,2, -999.000
           NA,HOT timeseries 1988to2019 27SEP2021,     16,  99,-999.0,       4,-999.0,19900508,2143,  22.7200, -158.0050,  4749,  690.600,    5.280,   34.297,2,   34.295,2,   30.400,2,   29.100,2,   84.760,2,   41.020,2,    2.950,2, -999.000
           NA,HOT timeseries 1988to2019 27SEP2021,     16,  99,-999.0,       3,-999.0,19900508,2143,  22.7200, -158.0050,  4749,  742.800,    5.011,   34.371,2,   34.365,2,   25.200,2,   27.600,2,   90.850,2,   41.940,2,    3.040,2, -999.000
           NA,HOT timeseries 1988to2019 27SEP2021,     16,  99,-999.0,       2,-999.0,19900508,2143,  22.7200, -158.0050,  4749,  856.400,    4.658,   34.445,2,   34.444,2,   26.800,2,   30.400,2,   97.130,2,   42.590,2,    3.050,2, -999.000
           NA,HOT timeseries 1988to2019 27SEP2021,     16,  99,-999.0,      22,-999.0,19900508,2143,  22.7200, -158.0050,  4749,  999.500,    4.243,   34.482,2,   34.482,2,   38.800,2,   40.000,2,  106.060,2,   42.320,2,    3.020,2, -999.000
           NA,HOT timeseries 1988to2019 27SEP2021,     16,  99,-999.0,       1,-999.0,19900508,2143,  22.7200, -158.0050,  4749, 1014.500,    4.213,   34.486,2,   34.486,2,   40.100,2,   40.000,2,  105.880,2,   42.460,2,    3.060,2, -999.000
           NA,HOT timeseries 1988to2019 27SEP2021,     16,  99,-999.0,      21,-999.0,19900508,2143,  22.7200, -158.0050,  4749, 1101.100,    3.921,   34.508,2,   34.507,2,   43.400,2,   44.700,2,  112.340,2,   42.320,2,    3.000,2, -999.000
           NA,HOT timeseries 1988to2019 27SEP2021,     16,  99,-999.0,      20,-999.0,19900508,2143,  22.7200, -158.0050,  4749, 1252.000,    3.471,   34.538,2,   34.538,2,   54.500,2,   52.000,2,  121.860,2,   42.190,2,    2.980,2, -999.000
           NA,HOT timeseries 1988to2019 27SEP2021,     16,  99,-999.0,      19,-999.0,19900508,2143,  22.7200, -158.0050,  4749, 1398.600,    3.117,   34.559,2,   34.560,2,   62.700,2,   60.100,2,  128.900,2,   41.930,2,    2.950,2, -999.000
           NA,HOT timeseries 1988to2019 27SEP2021,     16,  99,-999.0,      18,-999.0,19900508,2143,  22.7200, -158.0050,  4749, 1551.400,    2.813,   34.577,2,   34.578,2,   72.000,2,   67.000,2,  135.560,2,   41.530,2,    2.930,2, -999.000
           NA,HOT timeseries 1988to2019 27SEP2021,     16,  99,-999.0,      17,-999.0,19900508,2143,  22.7200, -158.0050,  4749, 1702.800,    2.567,   34.593,2,   34.595,2,   76.500,2,   74.300,2,  141.260,2,   41.140,2,    2.880,2, -999.000
           NA,HOT timeseries 1988to2019 27SEP2021,     16,  99,-999.0,      16,-999.0,19900508,2143,  22.7200, -158.0050,  4749, 1849.700,    2.375,   34.606,2,   34.605,2,   80.700,2,   80.700,2,  144.690,2,   40.750,2,    2.860,2, -999.000
           NA,HOT timeseries 1988to2019 27SEP2021,     16,  99,-999.0,      15,-999.0,19900508,2143,  22.7200, -158.0050,  4749, 1999.400,    2.207,   34.616,2,   34.617,2,   89.200,2,   87.500,2,  149.160,2,   40.410,2,    2.820,2, -999.000
           NA,HOT timeseries 1988to2019 27SEP2021,     16,  99,-999.0,      14,-999.0,19900508,2143,  22.7200, -158.0050,  4749, 2154.600,    2.050,   34.626,2,   34.626,2,   92.100,2,   93.500,2,  152.680,2,   40.090,2,    2.770,2, -999.000
           NA,HOT timeseries 1988to2019 27SEP2021,     16,  99,-999.0,      13,-999.0,19900508,2143,  22.7200, -158.0050,  4749, 2302.100,    1.936,   34.635,2,   34.635,2,   92.200,2,   98.600,2,  154.580,2,   39.830,2,    2.750,2, -999.000
           NA,HOT timeseries 1988to2019 27SEP2021,     16,  99,-999.0,      12,-999.0,19900508,2143,  22.7200, -158.0050,  4749, 2445.900,    1.810,   34.645,2,   34.645,2,  102.700,2,  105.900,2,  155.530,2,   39.300,2,    2.730,2, -999.000
           NA,HOT timeseries 1988to2019 27SEP2021,     16,  99,-999.0,      11,-999.0,19900508,2143,  22.7200, -158.0050,  4749, 2598.400,    1.719,   34.653,2,   34.653,2,  110.300,2,  112.700,2,  157.050,2,   38.910,2,    2.700,2, -999.000
           NA,HOT timeseries 1988to2019 27SEP2021,     16,  99,-999.0,      10,-999.0,19900508,2143,  22.7200, -158.0050,  4749, 2798.600,    1.640,   34.660,2,   34.660,2,  115.900,2,  117.400,2,  158.960,2,   38.640,2,    2.660,2, -999.000
           NA,HOT timeseries 1988to2019 27SEP2021,     16,  99,-999.0,       9,-999.0,19900508,2143,  22.7200, -158.0050,  4749, 2998.200,    1.576,   34.666,2,   34.667,2,  119.200,2,  121.400,2,  160.860,2,   38.380,2,    2.640,2, -999.000
           NA,HOT timeseries 1988to2019 27SEP2021,     16,  99,-999.0,       8,-999.0,19900508,2143,  22.7200, -158.0050,  4749, 3195.500,    1.530,   34.671,2,   34.671,2,  129.900,2,  128.300,2,  158.960,2,   37.990,2,    2.630,2, -999.000
           NA,HOT timeseries 1988to2019 27SEP2021,     16,  99,-999.0,       7,-999.0,19900508,2143,  22.7200, -158.0050,  4749, 3401.000,    1.497,   34.676,2,   34.676,2,  135.000,2,  134.600,2,  157.430,2,   37.460,2,    2.560,2, -999.000
           NA,HOT timeseries 1988to2019 27SEP2021,     16,  99,-999.0,       6,-999.0,19900508,2143,  22.7200, -158.0050,  4749, 3601.800,    1.474,   34.680,2,   34.680,2,  142.000,2,  140.400,2,  155.530,2,   37.200,2,    2.550,2, -999.000
           NA,HOT timeseries 1988to2019 27SEP2021,     16,  99,-999.0,       5,-999.0,19900508,2143,  22.7200, -158.0050,  4749, 3801.300,    1.468,   34.683,2,   34.683,2,  145.700,2,  144.100,2,  153.630,2,   36.880,2,    2.530,2, -999.000
           NA,HOT timeseries 1988to2019 27SEP2021,     16,  99,-999.0,       4,-999.0,19900508,2143,  22.7200, -158.0050,  4749, 4004.200,    1.466,   34.685,2,   34.685,2,  147.700,2,  147.000,2,  151.720,2,   36.670,2,    2.500,2, -999.000
           NA,HOT timeseries 1988to2019 27SEP2021,     16,  99,-999.0,       3,-999.0,19900508,2143,  22.7200, -158.0050,  4749, 4199.900,    1.472,   34.687,2,   34.688,2,  150.700,2,  149.300,2,  150.770,2,   36.540,2,    2.490,2, -999.000
           NA,HOT timeseries 1988to2019 27SEP2021,     16,  99,-999.0,       2,-999.0,19900508,2143,  22.7200, -158.0050,  4749, 4403.900,    1.484,   34.688,2,   34.687,2,  153.000,2,  151.600,2,  149.820,2,   36.410,2,    2.480,2, -999.000
           NA,HOT timeseries 1988to2019 27SEP2021,     16,  99,-999.0,       1,-999.0,19900508,2143,  22.7200, -158.0050,  4749, 4626.900,    1.503,   34.688,2,   34.689,2,  151.900,2,  152.300,2,  149.440,2,   36.280,2,    2.480,2, -999.000