BOTTLE,20214727JOAExport
EXPOCODE,SECT_ID,STNNBR,CASTNO,SAMPNO,BTLNBR,BTLNBR_FLAG_W,DATE,TIME,LATITUDE,LONGITUDE,DEPTH,CTDPRS,CTDTMP,CTDSAL,CTDSAL_FLAG_W,SALNTY,SALNTY_FLAG_W,CTDOXY,CTDOXY_FLAG_W,OXYGEN,OXYGEN_FLAG_W,SILCAT,SILCAT_FLAG_W,NINI,NINI_FLAG_W,PHSPHT,PHSPHT_FLAG_W,REVP
,,,,,,,,,,,,DB,IPTS-68,PSS-78,,PSS-78,,UMOL/KG,,UMOL/KG,,UMOL/KG,,UMOL/KG,,UMOL/KG,,DBAR
           NA,HOT timeseries 1988to2019 27SEP2021,    118,  99,-999.0,      31,-999.0,20010116,1804,  22.7505, -157.9972,  4719,    3.400,   24.361,   35.085,2,   35.084,2,  210.100,2,  210.600,2,    1.610,2,    0.010,2,    0.110,2, -999.000
           NA,HOT timeseries 1988to2019 27SEP2021,    118,  99,-999.0,      30,-999.0,20010116,1804,  22.7505, -157.9972,  4719,   48.300,   24.368,   35.084,2,   35.084,2,  210.100,2,  210.300,2,    1.880,2,    0.010,2,    0.120,2, -999.000
           NA,HOT timeseries 1988to2019 27SEP2021,    118,  99,-999.0,      22,-999.0,20010116,1804,  22.7505, -157.9972,  4719,   99.000,   24.146,   35.436,2,   35.434,2,  208.800,2,  208.500,2,    1.530,2,    0.010,2,    0.050,2, -999.000
           NA,HOT timeseries 1988to2019 27SEP2021,    118,  99,-999.0,      21,-999.0,20010116,1804,  22.7505, -157.9972,  4719,  148.900,   22.026,   35.253,2,   35.253,2,  206.800,2,  207.500,2,    1.960,2,    0.480,2,    0.120,2, -999.000
           NA,HOT timeseries 1988to2019 27SEP2021,    118,  99,-999.0,      20,-999.0,20010116,1804,  22.7505, -157.9972,  4719,  208.300,   19.906,   35.119,2,   35.120,2,  199.500,2,  198.100,2,    2.500,2,    1.590,2,    0.230,2, -999.000
           NA,HOT timeseries 1988to2019 27SEP2021,    118,  99,-999.0,      19,-999.0,20010116,1804,  22.7505, -157.9972,  4719,  244.100,   18.335,   34.915,2,   34.920,2,  196.000,2,  194.400,2,    3.430,2,    3.190,2,    0.310,2, -999.000
           NA,HOT timeseries 1988to2019 27SEP2021,    118,  99,-999.0,      18,-999.0,20010116,1804,  22.7505, -157.9972,  4719,  278.100,   17.166,   34.769,2,   34.768,2,  198.100,2,  193.900,2,    4.420,2,    4.300,2,    0.380,2, -999.000
           NA,HOT timeseries 1988to2019 27SEP2021,    118,  99,-999.0,      17,-999.0,20010116,1804,  22.7505, -157.9972,  4719,  339.900,   12.103,   34.210,2,   34.206,2,   43.000,2,   43.200,2,   27.270,2,   23.420,2,    2.120,2, -999.000
           NA,HOT timeseries 1988to2019 27SEP2021,    118,  99,-999.0,      16,-999.0,20010116,1804,  22.7505, -157.9972,  4719,  369.100,   12.144,   34.468,2,   34.472,2,   21.600,2,   18.000,2,   31.990,2,   26.030,2,    2.420,2, -999.000
           NA,HOT timeseries 1988to2019 27SEP2021,    118,  99,-999.0,      23,-999.0,20010116,1804,  22.7505, -157.9972,  4719,  399.300,   12.193,   34.697,2,   34.697,2,    4.500,2,    3.000,2,   35.920,2,   26.480,2,    2.600,2, -999.000
           NA,HOT timeseries 1988to2019 27SEP2021,    118,  99,-999.0,      14,-999.0,20010116,1804,  22.7505, -157.9972,  4719,  437.100,   11.738,   34.685,2,   34.694,2,    7.200,2,    6.300,2,   37.770,2,   26.390,2,    2.620,2, -999.000
           NA,HOT timeseries 1988to2019 27SEP2021,    118,  99,-999.0,      13,-999.0,20010116,1804,  22.7505, -157.9972,  4719,  478.500,   10.825,   34.562,2,   34.565,2,   29.000,2,   25.700,2,   38.680,2,   26.330,2,    2.530,2, -999.000
           NA,HOT timeseries 1988to2019 27SEP2021,    118,  99,-999.0,      12,-999.0,20010116,1804,  22.7505, -157.9972,  4719,  519.900,    8.950,   34.317,2,   34.324,2,   65.500,2,   65.000,2,   41.970,2,   27.950,2,    2.350,2, -999.000
           NA,HOT timeseries 1988to2019 27SEP2021,    118,  99,-999.0,      11,-999.0,20010116,1804,  22.7505, -157.9972,  4719,  554.000,    7.376,   34.136,2,   34.138,2,   88.100,2,   86.400,2,   48.030,2,   30.710,2,    2.310,2, -999.000
           NA,HOT timeseries 1988to2019 27SEP2021,    118,  99,-999.0,      32,-999.0,20010116,1804,  22.7505, -157.9972,  4719,  583.300,    6.723,   34.164,2,   34.165,2,   64.200,2,   65.300,2,   58.230,2,   33.780,2,    2.490,2, -999.000
           NA,HOT timeseries 1988to2019 27SEP2021,    118,  99,-999.0,       3,-999.0,20010116,1804,  22.7505, -157.9972,  4719,  603.200,    6.270,   34.182,2,   34.182,2,   61.600,2,   57.000,2,   64.830,2,   35.610,2,    2.610,2, -999.000
           NA,HOT timeseries 1988to2019 27SEP2021,    118,  99,-999.0,      28,-999.0,20010116,1804,  22.7505, -157.9972,  4719,  704.400,    5.089,   34.224,2,   34.225,2,   36.700,2,   35.000,2,   85.840,2,   39.710,2,    2.870,2, -999.000
           NA,HOT timeseries 1988to2019 27SEP2021,    118,  99,-999.0,       7,-999.0,20010116,1804,  22.7505, -157.9972,  4719,  749.800,    5.114,   34.303,2,   34.303,2,   35.200,2,   34.600,2,   87.090,2,   39.880,2,    2.890,2, -999.000
           NA,HOT timeseries 1988to2019 27SEP2021,    118,  99,-999.0,      38,-999.0,20010116,1804,  22.7505, -157.9972,  4719,  786.600,    4.945,   34.333,2,   34.336,2,   36.600,2,   36.500,2,   90.220,2,   40.100,2,    2.890,2, -999.000
           NA,HOT timeseries 1988to2019 27SEP2021,    118,  99,-999.0,      36,-999.0,20010116,1804,  22.7505, -157.9972,  4719,  837.700,    4.757,   34.381,2,   34.380,2,   38.600,2,   37.400,2,   95.130,2,   40.420,2,    2.900,2, -999.000
           NA,HOT timeseries 1988to2019 27SEP2021,    118,  99,-999.0,      34,-999.0,20010116,1804,  22.7505, -157.9972,  4719,  957.400,    4.288,   34.447,2,   34.447,2,   38.500,2,   39.900,2,  104.090,2,   41.210,2,    2.950,2, -999.000
           NA,HOT timeseries 1988to2019 27SEP2021,    118,  99,-999.0,      33,-999.0,20010116,1804,  22.7505, -157.9972,  4719, 1030.100,    4.052,   34.479,2,   34.481,2,   43.400,2,   43.500,2,  109.400,2,   41.190,2,    2.960,2, -999.000
           NA,HOT timeseries 1988to2019 27SEP2021,    118,  99,-999.0,      20,-999.0,20010116,1804,  22.7505, -157.9972,  4719, 1198.300,    3.622,   34.520,2,   34.520,2,   51.000,2,   51.400,2,  117.720,2,   40.830,2, -999.000,3, -999.000
           NA,HOT timeseries 1988to2019 27SEP2021,    118,  99,-999.0,      19,-999.0,20010116,1804,  22.7505, -157.9972,  4719, 1399.400,    3.124,   34.559,2,   34.559,2,   62.100,2,   62.200,2,  127.930,2,   40.520,2, -999.000,3, -999.000
           NA,HOT timeseries 1988to2019 27SEP2021,    118,  99,-999.0,      18,-999.0,20010116,1804,  22.7505, -157.9972,  4719, 1598.200,    2.784,   34.581,2,   34.581,2,   70.400,2,   70.400,2,  135.600,2,   40.030,2, -999.000,3, -999.000
           NA,HOT timeseries 1988to2019 27SEP2021,    118,  99,-999.0,      17,-999.0,20010116,1804,  22.7505, -157.9972,  4719, 1798.900,    2.471,   34.601,2,   34.601,2,   79.400,2,   80.100,2,  141.610,2,   39.630,2,    2.810,2, -999.000
           NA,HOT timeseries 1988to2019 27SEP2021,    118,  99,-999.0,      16,-999.0,20010116,1804,  22.7505, -157.9972,  4719, 1999.400,    2.167,   34.619,2,   34.618,2,   86.100,2,   86.700,2,  150.120,2,   39.330,2,    2.770,2, -999.000
           NA,HOT timeseries 1988to2019 27SEP2021,    118,  99,-999.0,      23,-999.0,20010116,1804,  22.7505, -157.9972,  4719, 2199.200,    1.972,   34.632,2,   34.632,2,   93.200,2,   93.800,2,  155.740,2,   38.930,2, -999.000,3, -999.000
           NA,HOT timeseries 1988to2019 27SEP2021,    118,  99,-999.0,      14,-999.0,20010116,1804,  22.7505, -157.9972,  4719, 2399.300,    1.818,   34.645,2,   34.645,2,  101.500,2,  102.700,2,  157.390,2,   38.600,2,    2.710,2, -999.000
           NA,HOT timeseries 1988to2019 27SEP2021,    118,  99,-999.0,      13,-999.0,20010116,1804,  22.7505, -157.9972,  4719, 2597.400,    1.698,   34.655,2,   34.655,2,  108.400,2,  109.300,2,  160.570,2,   38.050,2,    2.670,2, -999.000
           NA,HOT timeseries 1988to2019 27SEP2021,    118,  99,-999.0,      12,-999.0,20010116,1804,  22.7505, -157.9972,  4719, 2797.100,    1.594,   34.664,2,   34.665,2,  117.600,2,  117.200,2,  161.370,2,   37.640,2,    2.640,2, -999.000
           NA,HOT timeseries 1988to2019 27SEP2021,    118,  99,-999.0,      11,-999.0,20010116,1804,  22.7505, -157.9972,  4719, 2997.600,    1.547,   34.671,2,   34.670,2,  124.900,2,  125.100,2,  159.510,2,   37.160,2,    2.580,2, -999.000
           NA,HOT timeseries 1988to2019 27SEP2021,    118,  99,-999.0,      32,-999.0,20010116,1804,  22.7505, -157.9972,  4719, 3198.000,    1.505,   34.676,2, -999.000,4, -999.000,3,  130.500,2,  156.130,2,   36.630,2,    2.550,2, -999.000
           NA,HOT timeseries 1988to2019 27SEP2021,    118,  99,-999.0,       3,-999.0,20010116,1804,  22.7505, -157.9972,  4719, 3398.500,    1.478,   34.680,2,   34.680,2,  137.100,2,  137.100,2,  156.890,2,   36.380,2,    2.530,2, -999.000
           NA,HOT timeseries 1988to2019 27SEP2021,    118,  99,-999.0,      29,-999.0,20010116,1804,  22.7505, -157.9972,  4719, 3598.500,    1.464,   34.683,2,   34.684,2,  141.500,2,  141.700,2,  155.390,2,   36.120,2, -999.000,3, -999.000
           NA,HOT timeseries 1988to2019 27SEP2021,    118,  99,-999.0,      28,-999.0,20010116,1804,  22.7505, -157.9972,  4719, 3797.800,    1.457,   34.685,2,   34.685,2,  145.700,2,  145.500,2,  153.440,2,   35.890,2,    2.500,2, -999.000
           NA,HOT timeseries 1988to2019 27SEP2021,    118,  99,-999.0,       7,-999.0,20010116,1804,  22.7505, -157.9972,  4719, 3999.000,    1.457,   34.687,2,   34.688,2,  148.500,2,  148.500,2,  151.990,2,   35.660,2,    2.470,2, -999.000
           NA,HOT timeseries 1988to2019 27SEP2021,    118,  99,-999.0,      38,-999.0,20010116,1804,  22.7505, -157.9972,  4719, 4198.200,    1.464,   34.688,2,   34.688,2,  150.700,2,  150.500,2,  151.520,2,   35.910,2,    2.470,2, -999.000
           NA,HOT timeseries 1988to2019 27SEP2021,    118,  99,-999.0,      36,-999.0,20010116,1804,  22.7505, -157.9972,  4719, 4398.800,    1.482,   34.688,2,   34.689,2,  151.800,2,  151.500,2,  150.750,2,   35.580,2,    2.450,2, -999.000
           NA,HOT timeseries 1988to2019 27SEP2021,    118,  99,-999.0,      35,-999.0,20010116,1804,  22.7505, -157.9972,  4719, 4498.400,    1.489,   34.689,2,   34.690,2,  152.500,2,  152.300,2,  150.850,2,   35.420,2,    2.460,2, -999.000
           NA,HOT timeseries 1988to2019 27SEP2021,    118,  99,-999.0,      34,-999.0,20010116,1804,  22.7505, -157.9972,  4719, 4598.600,    1.496,   34.689,2,   34.690,2,  153.100,2,  153.000,2,  149.920,2,   35.500,2,    2.440,2, -999.000
           NA,HOT timeseries 1988to2019 27SEP2021,    118,  99,-999.0,      33,-999.0,20010116,1804,  22.7505, -157.9972,  4719, 4804.500,    1.502,   34.691,2,   34.691,2,  155.400,2,  155.500,2,  147.960,2,   35.420,2,    2.460,2, -999.000