BOTTLE,20214727JOAExport
EXPOCODE,SECT_ID,STNNBR,CASTNO,SAMPNO,BTLNBR,BTLNBR_FLAG_W,DATE,TIME,LATITUDE,LONGITUDE,DEPTH,CTDPRS,CTDTMP,CTDSAL,CTDSAL_FLAG_W,SALNTY,SALNTY_FLAG_W,CTDOXY,CTDOXY_FLAG_W,OXYGEN,OXYGEN_FLAG_W,SILCAT,SILCAT_FLAG_W,NINI,NINI_FLAG_W,PHSPHT,PHSPHT_FLAG_W,REVP
,,,,,,,,,,,,DB,IPTS-68,PSS-78,,PSS-78,,UMOL/KG,,UMOL/KG,,UMOL/KG,,UMOL/KG,,UMOL/KG,,DBAR
           NA,HOT timeseries 1988to2019 27SEP2021,     12,  99,-999.0,      22,-999.0,19900104,1940,  22.7500, -158.0000,  4699,   25.600,   23.889,   35.116,2,   35.117,2,  211.700,2,  213.500,2,    0.850,2,    0.020,2,    0.070,2, -999.000
           NA,HOT timeseries 1988to2019 27SEP2021,     12,  99,-999.0,      21,-999.0,19900104,1940,  22.7500, -158.0000,  4699,   51.300,   23.896,   35.115,2,   35.114,2,  211.700,2,  210.900,2,    1.050,2,    0.000,2,    0.070,2, -999.000
           NA,HOT timeseries 1988to2019 27SEP2021,     12,  99,-999.0,      20,-999.0,19900104,1940,  22.7500, -158.0000,  4699,   77.200,   23.894,   35.115,2,   35.116,2,  211.800,2,  211.000,2,    0.850,2,    0.020,2,    0.070,2, -999.000
           NA,HOT timeseries 1988to2019 27SEP2021,     12,  99,-999.0,      19,-999.0,19900104,1940,  22.7500, -158.0000,  4699,   77.200,   23.894,   35.115,2,   35.116,2,  211.800,2,  210.700,2,    0.850,2,    0.000,2,    0.070,2, -999.000
           NA,HOT timeseries 1988to2019 27SEP2021,     12,  99,-999.0,      18,-999.0,19900104,1940,  22.7500, -158.0000,  4699,  105.100,   23.663,   35.160,2,   35.162,2,  200.800,2,  210.100,2,    1.050,2,    0.000,2,    0.060,2, -999.000
           NA,HOT timeseries 1988to2019 27SEP2021,     12,  99,-999.0,      17,-999.0,19900104,1940,  22.7500, -158.0000,  4699,  131.600,   21.926,   35.261,2,   35.265,2,  199.500,2,  212.100,2,    1.050,2,    0.310,2,    0.110,2, -999.000
           NA,HOT timeseries 1988to2019 27SEP2021,     12,  99,-999.0,      16,-999.0,19900104,1940,  22.7500, -158.0000,  4699,  182.600,   20.895,   35.277,2,   35.278,2,  187.000,2,  198.500,2,    1.050,2,    0.990,2,    0.180,2, -999.000
           NA,HOT timeseries 1988to2019 27SEP2021,     12,  99,-999.0,      15,-999.0,19900104,1940,  22.7500, -158.0000,  4699,  182.600,   20.895,   35.277,2,   35.278,2,  187.000,2,  198.300,2,    1.050,2,    0.980,2,    0.170,2, -999.000
           NA,HOT timeseries 1988to2019 27SEP2021,     12,  99,-999.0,      14,-999.0,19900104,1940,  22.7500, -158.0000,  4699,  216.900,   19.237,   35.107,2,   35.128,2,  184.600,2,  197.500,2,    1.860,2,    1.910,2,    0.210,2, -999.000
           NA,HOT timeseries 1988to2019 27SEP2021,     12,  99,-999.0,      13,-999.0,19900104,1940,  22.7500, -158.0000,  4699,  338.500,   11.614,   34.218,2,   34.216,2,  173.700,2,  174.800,2,   14.500,2,   14.490,2,    1.120,2, -999.000
           NA,HOT timeseries 1988to2019 27SEP2021,     12,  99,-999.0,      12,-999.0,19900104,1940,  22.7500, -158.0000,  4699,  377.000,   10.231,   34.160,2,   34.166,2,  172.900,2,  175.300,2,   19.720,2,   17.680,2,    1.330,2, -999.000
           NA,HOT timeseries 1988to2019 27SEP2021,     12,  99,-999.0,      11,-999.0,19900104,1940,  22.7500, -158.0000,  4699,  496.000,    7.150,   34.041,2,   34.050,2,  130.600,2, -999.000,4,   44.420,2,   28.240,2,    2.020,2, -999.000
           NA,HOT timeseries 1988to2019 27SEP2021,     12,  99,-999.0,      10,-999.0,19900104,1940,  22.7500, -158.0000,  4699,  516.700,    6.827,   34.043,2,   34.043,2,  118.700,2,  114.800,2,   49.440,2,   30.280,2,    2.180,2, -999.000
           NA,HOT timeseries 1988to2019 27SEP2021,     12,  99,-999.0,       9,-999.0,19900104,1940,  22.7500, -158.0000,  4699,  555.300,    6.356,   34.104,2,   34.097,2,   78.700,2,   76.300,2,   60.480,2,   34.590,2,    2.510,2, -999.000
           NA,HOT timeseries 1988to2019 27SEP2021,     12,  99,-999.0,       8,-999.0,19900104,1940,  22.7500, -158.0000,  4699,  576.600,    5.928,   34.146,2,   34.138,2,   59.700,2,   55.300,2,   68.510,2,   36.850,2,    2.710,2, -999.000
           NA,HOT timeseries 1988to2019 27SEP2021,     12,  99,-999.0,       7,-999.0,19900104,1940,  22.7500, -158.0000,  4699,  618.300,    5.659,   34.211,2,   34.211,2,   44.400,2,   42.600,2,   76.540,2,   38.530,2,    2.850,2, -999.000
           NA,HOT timeseries 1988to2019 27SEP2021,     12,  99,-999.0,       6,-999.0,19900104,1940,  22.7500, -158.0000,  4699,  680.900,    5.002,   34.246,2,   34.245,2,   26.200,2,   25.800,2,   90.190,2,   41.160,2,    3.020,2, -999.000
           NA,HOT timeseries 1988to2019 27SEP2021,     12,  99,-999.0,       5,-999.0,19900104,1940,  22.7500, -158.0000,  4699,  742.100,    4.970,   34.368,2,   34.366,2,   30.300,2,   31.400,2,   91.190,2,   41.040,2,    3.010,2, -999.000
           NA,HOT timeseries 1988to2019 27SEP2021,     12,  99,-999.0,       4,-999.0,19900104,1940,  22.7500, -158.0000,  4699,  848.200,    4.570,   34.428,2,   34.426,2,   33.100,2,   35.200,2,   99.410,2,   41.870,2,    3.050,2, -999.000
           NA,HOT timeseries 1988to2019 27SEP2021,     12,  99,-999.0,      23,-999.0,19900104,1940,  22.7500, -158.0000,  4699,  899.800,    4.437,   34.452,2,   34.450,2,   37.100,2,   35.400,2,  103.220,2,   41.750,2,    3.020,2, -999.000
           NA,HOT timeseries 1988to2019 27SEP2021,     12,  99,-999.0,      22,-999.0,19900104,1940,  22.7500, -158.0000,  4699,  899.800,    4.437,   34.452,2,   34.450,2,   37.100,2,   35.100,2,  103.220,2,   41.750,2,    3.040,2, -999.000
           NA,HOT timeseries 1988to2019 27SEP2021,     12,  99,-999.0,       3,-999.0,19900104,1940,  22.7500, -158.0000,  4699,  903.900,    4.397,   34.462,2,   34.458,2,   37.200,2,   37.700,2,  102.630,2,   41.750,2,    3.050,2, -999.000
           NA,HOT timeseries 1988to2019 27SEP2021,     12,  99,-999.0,       2,-999.0,19900104,1940,  22.7500, -158.0000,  4699, 1009.500,    4.084,   34.498,2,   34.502,2,   42.200,2,   43.000,2,  108.640,2,   41.980,2,    3.060,2, -999.000
           NA,HOT timeseries 1988to2019 27SEP2021,     12,  99,-999.0,       1,-999.0,19900104,1940,  22.7500, -158.0000,  4699, 1024.600,    4.023,   34.503,2,   34.505,2,   42.900,2,   44.200,2,  110.240,2,   41.980,2,    3.050,2, -999.000
           NA,HOT timeseries 1988to2019 27SEP2021,     12,  99,-999.0,      21,-999.0,19900104,1940,  22.7500, -158.0000,  4699, 1098.500,    3.899,   34.512,2,   34.512,2,   45.100,2,   45.300,2,  112.250,2,   41.860,2,    3.020,2, -999.000
           NA,HOT timeseries 1988to2019 27SEP2021,     12,  99,-999.0,      20,-999.0,19900104,1940,  22.7500, -158.0000,  4699, 1249.300,    3.524,   34.535,2,   34.534,2,   53.100,2,   52.900,2,  119.980,2,   41.630,2,    2.990,2, -999.000
           NA,HOT timeseries 1988to2019 27SEP2021,     12,  99,-999.0,      19,-999.0,19900104,1940,  22.7500, -158.0000,  4699, 1249.300,    3.524,   34.535,2,   34.534,2,   53.100,2,   53.500,2,  119.680,2,   41.630,2,    3.000,2, -999.000
           NA,HOT timeseries 1988to2019 27SEP2021,     12,  99,-999.0,      18,-999.0,19900104,1940,  22.7500, -158.0000,  4699, 1395.200,    3.168,   34.557,2,   34.557,2,   59.000,2,   58.800,2,  126.300,2,   41.630,2,    3.000,2, -999.000
           NA,HOT timeseries 1988to2019 27SEP2021,     12,  99,-999.0,      17,-999.0,19900104,1940,  22.7500, -158.0000,  4699, 1548.200,    2.847,   34.575,2,   34.575,2,   65.800,2,   66.600,2,  133.320,2,   41.270,2,    2.940,2, -999.000
           NA,HOT timeseries 1988to2019 27SEP2021,     12,  99,-999.0,      16,-999.0,19900104,1940,  22.7500, -158.0000,  4699, 1701.200,    2.585,   34.591,2,   34.591,2,   72.400,2,   73.400,2,  139.350,2,   40.790,2,    2.900,2, -999.000
           NA,HOT timeseries 1988to2019 27SEP2021,     12,  99,-999.0,      15,-999.0,19900104,1940,  22.7500, -158.0000,  4699, 1850.900,    2.341,   34.607,2,   34.609,2,   81.600,2,   80.600,2,  143.760,2,   40.420,2,    2.880,2, -999.000
           NA,HOT timeseries 1988to2019 27SEP2021,     12,  99,-999.0,      14,-999.0,19900104,1940,  22.7500, -158.0000,  4699, 2000.500,    2.148,   34.621,2,   34.621,2,   88.700,2,   87.700,2,  146.370,2,   39.950,2,    2.840,2, -999.000
           NA,HOT timeseries 1988to2019 27SEP2021,     12,  99,-999.0,      13,-999.0,19900104,1940,  22.7500, -158.0000,  4699, 2201.900,    1.934,   34.634,2,   34.636,2,   96.600,2,   94.300,2,  149.380,2,   39.590,2,    2.780,2, -999.000
           NA,HOT timeseries 1988to2019 27SEP2021,     12,  99,-999.0,      12,-999.0,19900104,1940,  22.7500, -158.0000,  4699, 2591.400,    1.721,   34.654,2,   34.657,2,  106.000,2,  108.800,2,  156.800,2,   38.750,2,    2.740,2, -999.000
           NA,HOT timeseries 1988to2019 27SEP2021,     12,  99,-999.0,      11,-999.0,19900104,1940,  22.7500, -158.0000,  4699, 2794.300,    1.623,   34.664,2,   34.667,2,  116.000,2,  116.400,2,  156.800,2,   38.270,2,    2.670,2, -999.000
           NA,HOT timeseries 1988to2019 27SEP2021,     12,  99,-999.0,      10,-999.0,19900104,1940,  22.7500, -158.0000,  4699, 3000.300,    1.571,   34.670,2,   34.670,2,  122.100,2,  122.200,2,  158.400,2,   38.040,2,    2.630,2, -999.000
           NA,HOT timeseries 1988to2019 27SEP2021,     12,  99,-999.0,       8,-999.0,19900104,1940,  22.7500, -158.0000,  4699, 3395.200,    1.491,   34.680,2,   34.681,2,  136.200,2,  134.900,2,  152.780,2,   36.960,2,    2.590,2, -999.000
           NA,HOT timeseries 1988to2019 27SEP2021,     12,  99,-999.0,       7,-999.0,19900104,1940,  22.7500, -158.0000,  4699, 3600.600,    1.470,   34.684,2,   34.682,2,  139.500,2,  139.900,2,  151.770,2,   36.720,2,    2.540,2, -999.000
           NA,HOT timeseries 1988to2019 27SEP2021,     12,  99,-999.0,       6,-999.0,19900104,1940,  22.7500, -158.0000,  4699, 3800.200,    1.461,   34.686,2,   34.686,2,  143.800,2,  144.500,2,  152.380,2,   36.360,2,    2.540,2, -999.000
           NA,HOT timeseries 1988to2019 27SEP2021,     12,  99,-999.0,       5,-999.0,19900104,1940,  22.7500, -158.0000,  4699, 3995.100,    1.461,   34.688,2,   34.688,2,  147.900,2,  147.300,2,  147.770,2,   36.120,2,    2.510,2, -999.000
           NA,HOT timeseries 1988to2019 27SEP2021,     12,  99,-999.0,       4,-999.0,19900104,1940,  22.7500, -158.0000,  4699, 4196.100,    1.467,   34.689,2,   34.689,2,  148.700,2,  150.200,2,  147.360,2,   36.010,2,    2.500,2, -999.000
           NA,HOT timeseries 1988to2019 27SEP2021,     12,  99,-999.0,       3,-999.0,19900104,1940,  22.7500, -158.0000,  4699, 4395.900,    1.477,   34.691,2,   34.689,2,  150.000,2,  150.400,2,  147.360,2,   36.010,2,    2.510,2, -999.000
           NA,HOT timeseries 1988to2019 27SEP2021,     12,  99,-999.0,       1,-999.0,19900104,1940,  22.7500, -158.0000,  4699, 4600.500,    1.494,   34.692,2,   34.693,2,  154.100,2,  152.700,2,  145.760,2,   35.650,2,    2.480,2, -999.000
           NA,HOT timeseries 1988to2019 27SEP2021,     12,  99,-999.0,       2,-999.0,19900104,1940,  22.7500, -158.0000,  4699, 4600.700,    1.494,   34.692,2,   34.691,2,  153.700,2,  153.500,2,  145.350,2,   35.760,2,    2.480,2, -999.000