BOTTLE,20214727JOAExport
EXPOCODE,SECT_ID,STNNBR,CASTNO,SAMPNO,BTLNBR,BTLNBR_FLAG_W,DATE,TIME,LATITUDE,LONGITUDE,DEPTH,CTDPRS,CTDTMP,CTDSAL,CTDSAL_FLAG_W,SALNTY,SALNTY_FLAG_W,CTDOXY,CTDOXY_FLAG_W,OXYGEN,OXYGEN_FLAG_W,SILCAT,SILCAT_FLAG_W,NINI,NINI_FLAG_W,PHSPHT,PHSPHT_FLAG_W,REVP
,,,,,,,,,,,,DB,IPTS-68,PSS-78,,PSS-78,,UMOL/KG,,UMOL/KG,,UMOL/KG,,UMOL/KG,,UMOL/KG,,DBAR
           NA,HOT timeseries 1988to2019 27SEP2021,     46,  99,-999.0,      31,-999.0,19931028,1535,  22.7510, -158.0025,  4749,    5.500,   25.745,   35.294,2,   35.298,2,  206.700,2,  203.500,2,    1.000,2,    0.000,2,    0.050,2, -999.000
           NA,HOT timeseries 1988to2019 27SEP2021,     46,  99,-999.0,      31,-999.0,19931028,1535,  22.7510, -158.0025,  4749,    6.900,   25.788,   35.308,2,   35.307,2,  203.100,2,  203.600,2,    1.210,2,    0.000,2,    0.030,2, -999.000
           NA,HOT timeseries 1988to2019 27SEP2021,     46,  99,-999.0,      30,-999.0,19931028,1535,  22.7510, -158.0025,  4749,   37.000,   25.791,   35.382,2,   35.384,2,  204.900,2,  204.300,2,    0.890,2,    0.000,2,    0.010,2, -999.000
           NA,HOT timeseries 1988to2019 27SEP2021,     46,  99,-999.0,      22,-999.0,19931028,1535,  22.7510, -158.0025,  4749,   44.500,   25.713,   35.385,2,   35.387,2,  206.100,2,  204.700,2,    1.950,2,    0.000,2,    0.010,2, -999.000
           NA,HOT timeseries 1988to2019 27SEP2021,     46,  99,-999.0,      30,-999.0,19931028,1535,  22.7510, -158.0025,  4749,   50.200,   25.779,   35.377,2,   35.383,2,  207.300,2,  204.400,2,    1.000,2,    0.000,2,    0.030,2, -999.000
           NA,HOT timeseries 1988to2019 27SEP2021,     46,  99,-999.0,      21,-999.0,19931028,1535,  22.7510, -158.0025,  4749,   54.900,   23.841,   35.286,2,   35.287,2,  224.600,2,  225.800,2,    1.120,2,    0.000,2,    0.000,2, -999.000
           NA,HOT timeseries 1988to2019 27SEP2021,     46,  99,-999.0,      20,-999.0,19931028,1535,  22.7510, -158.0025,  4749,   85.300,   20.943,   35.194,2,   35.197,2,  221.500,2,  221.400,2,    1.480,2,    0.000,2,    0.030,2, -999.000
           NA,HOT timeseries 1988to2019 27SEP2021,     46,  99,-999.0,      19,-999.0,19931028,1535,  22.7510, -158.0025,  4749,  117.300,   19.616,   35.126,2,   35.129,2,  212.700,2,  211.900,2,    1.820,2,    0.140,2,    0.070,2, -999.000
           NA,HOT timeseries 1988to2019 27SEP2021,     46,  99,-999.0,      18,-999.0,19931028,1535,  22.7510, -158.0025,  4749,  171.200,   16.312,   34.750,2,   34.737,2,  199.600,2,  199.000,2,    4.240,2,    4.590,2,    0.350,2, -999.000
           NA,HOT timeseries 1988to2019 27SEP2021,     46,  99,-999.0,      17,-999.0,19931028,1535,  22.7510, -158.0025,  4749,  226.700,   14.478,   34.533,2,   34.530,2,  205.800,2,  199.800,2,    6.560,2,    7.200,2,    0.520,2, -999.000
           NA,HOT timeseries 1988to2019 27SEP2021,     46,  99,-999.0,      16,-999.0,19931028,1535,  22.7510, -158.0025,  4749,  271.800,   12.294,   34.303,2,   34.317,2,  199.200,2,  200.300,2,   10.240,2,   10.800,2,    0.750,2, -999.000
           NA,HOT timeseries 1988to2019 27SEP2021,     46,  99,-999.0,      15,-999.0,19931028,1535,  22.7510, -158.0025,  4749,  314.600,   10.930,   34.187,2,   34.189,2,  203.300,2,  199.600,2,   14.050,2,   13.730,2,    0.960,2, -999.000
           NA,HOT timeseries 1988to2019 27SEP2021,     46,  99,-999.0,      14,-999.0,19931028,1535,  22.7510, -158.0025,  4749,  371.600,    9.243,   34.111,2,   34.113,2,  185.300,2,  185.800,2,   23.470,2,   18.800,2,    1.300,2, -999.000
           NA,HOT timeseries 1988to2019 27SEP2021,     46,  99,-999.0,      13,-999.0,19931028,1535,  22.7510, -158.0025,  4749,  399.800,    8.344,   34.072,2,   34.080,2,  163.300,2,  164.200,2,   31.270,2,   22.690,2,    1.590,2, -999.000
           NA,HOT timeseries 1988to2019 27SEP2021,     46,  99,-999.0,      12,-999.0,19931028,1535,  22.7510, -158.0025,  4749,  450.800,    7.263,   34.046,2,   34.050,2,  132.700,2,  130.500,2,   44.030,2,   27.880,2,    1.960,2, -999.000
           NA,HOT timeseries 1988to2019 27SEP2021,     46,  99,-999.0,      32,-999.0,19931028,1535,  22.7510, -158.0025,  4749,  486.300,    6.583,   34.050,2,   34.050,2,  101.100,2,  104.800,2,   53.570,2,   31.430,2,    2.240,2, -999.000
           NA,HOT timeseries 1988to2019 27SEP2021,     46,  99,-999.0,       3,-999.0,19931028,1535,  22.7510, -158.0025,  4749,  543.900,    5.840,   34.079,2,   34.077,2,   72.700,2,   70.100,2,   68.120,2,   35.860,2,    2.580,2, -999.000
           NA,HOT timeseries 1988to2019 27SEP2021,     46,  99,-999.0,      29,-999.0,19931028,1535,  22.7510, -158.0025,  4749,  597.500,    5.397,   34.124,2,   34.125,2,   56.300,2,   50.000,2,   77.790,2,   38.360,2,    2.790,2, -999.000
           NA,HOT timeseries 1988to2019 27SEP2021,     46,  99,-999.0,      28,-999.0,19931028,1535,  22.7510, -158.0025,  4749,  660.300,    4.979,   34.215,2,   34.212,2,   34.800,2,   31.700,2,   89.670,2,   40.630,2,    2.960,2, -999.000
           NA,HOT timeseries 1988to2019 27SEP2021,     46,  99,-999.0,       7,-999.0,19931028,1535,  22.7510, -158.0025,  4749,  723.400,    4.656,   34.314,2,   34.315,2,   29.000,2,   25.800,2,   97.860,2,   41.690,2,    3.050,2, -999.000
           NA,HOT timeseries 1988to2019 27SEP2021,     46,  99,-999.0,      23,-999.0,19931028,1535,  22.7510, -158.0025,  4749,  782.400,    4.462,   34.384,2,   34.388,2,   30.200,2,   28.300,2,  102.710,2,   41.840,2,    3.070,2, -999.000
           NA,HOT timeseries 1988to2019 27SEP2021,     46,  99,-999.0,      36,-999.0,19931028,1535,  22.7510, -158.0025,  4749,  794.800,    4.400,   34.401,2,   34.401,2,   31.300,2,   29.800,2,  104.620,2,   42.120,2,    3.080,2, -999.000
           NA,HOT timeseries 1988to2019 27SEP2021,     46,  99,-999.0,      35,-999.0,19931028,1535,  22.7510, -158.0025,  4749,  849.300,    4.277,   34.443,2, -999.000,4, -999.000,3,   33.100,2,  106.530,2,   42.040,2,    3.060,2, -999.000
           NA,HOT timeseries 1988to2019 27SEP2021,     46,  99,-999.0,      34,-999.0,19931028,1535,  22.7510, -158.0025,  4749,  906.400,    4.132,   34.456,2,   34.460,2,   36.500,2,   38.200,2,  108.620,2,   41.730,2,    3.050,2, -999.000
           NA,HOT timeseries 1988to2019 27SEP2021,     46,  99,-999.0,      33,-999.0,19931028,1535,  22.7510, -158.0025,  4749, 1016.700,    3.834,   34.497,2,   34.496,2,   41.700,2,   43.400,2,  115.560,2,   41.960,2,    3.040,2, -999.000
           NA,HOT timeseries 1988to2019 27SEP2021,     46,  99,-999.0,      19,-999.0,19931028,1535,  22.7510, -158.0025,  4749, 1394.400,    2.927,   34.565,2, -999.000,3, -999.000,3,   62.400,2,  134.910,2,   41.220,2,    2.950,2, -999.000
           NA,HOT timeseries 1988to2019 27SEP2021,     46,  99,-999.0,      15,-999.0,19931028,1535,  22.7510, -158.0025,  4749, 2205.700,    1.884,   34.636,2,   34.636,2,   95.800,2,   97.900,2,  158.160,2,   39.190,2,    2.760,2, -999.000
           NA,HOT timeseries 1988to2019 27SEP2021,     46,  99,-999.0,      13,-999.0,19931028,1535,  22.7510, -158.0025,  4749, 2608.000,    1.673,   34.655,2,   34.658,2,  109.300,2,  112.200,2,  161.020,2,   38.320,2,    2.690,2, -999.000
           NA,HOT timeseries 1988to2019 27SEP2021,     46,  99,-999.0,      12,-999.0,19931028,1535,  22.7510, -158.0025,  4749, 2808.400,    1.586,   34.665,2, -999.000,3, -999.000,3,  120.400,2,  161.170,2,   37.970,2,    2.660,2, -999.000
           NA,HOT timeseries 1988to2019 27SEP2021,     46,  99,-999.0,      11,-999.0,19931028,1535,  22.7510, -158.0025,  4749, 3014.600,    1.546,   34.670,2,   34.670,2,  123.900,2,  125.700,2,  160.700,2,   37.650,2,    2.640,2, -999.000
           NA,HOT timeseries 1988to2019 27SEP2021,     46,  99,-999.0,      32,-999.0,19931028,1535,  22.7510, -158.0025,  4749, 3202.300,    1.507,   34.675,2,   34.674,2,  129.600,2,  130.900,2,  161.010,2,   37.280,2,    2.590,2, -999.000
           NA,HOT timeseries 1988to2019 27SEP2021,     46,  99,-999.0,       3,-999.0,19931028,1535,  22.7510, -158.0025,  4749, 3381.300,    1.470,   34.679,2,   34.679,2,  135.600,2,  137.300,2,  158.390,2,   36.880,2,    2.570,2, -999.000
           NA,HOT timeseries 1988to2019 27SEP2021,     46,  99,-999.0,      29,-999.0,19931028,1535,  22.7510, -158.0025,  4749, 3604.400,    1.452,   34.683,2,   34.683,2,  141.300,2,  141.500,2,  157.530,2,   36.570,2,    2.540,2, -999.000
           NA,HOT timeseries 1988to2019 27SEP2021,     46,  99,-999.0,      28,-999.0,19931028,1535,  22.7510, -158.0025,  4749, 3805.400,    1.445,   34.685,2, -999.000,4, -999.000,3,  145.600,2,  155.170,2,   36.420,2,    2.540,2, -999.000
           NA,HOT timeseries 1988to2019 27SEP2021,     46,  99,-999.0,       7,-999.0,19931028,1535,  22.7510, -158.0025,  4749, 3985.100,    1.449,   34.687,2,   34.687,2,  145.900,2,  148.100,2,  154.090,2,   36.230,2,    2.530,2, -999.000
           NA,HOT timeseries 1988to2019 27SEP2021,     46,  99,-999.0,      36,-999.0,19931028,1535,  22.7510, -158.0025,  4749, 4405.000,    1.476,   34.689,2,   34.690,2,  154.100,2,  151.700,2,  151.730,2,   36.090,2,    2.500,2, -999.000
           NA,HOT timeseries 1988to2019 27SEP2021,     46,  99,-999.0,      35,-999.0,19931028,1535,  22.7510, -158.0025,  4749, 4503.600,    1.485,   34.689,2, -999.000,4, -999.000,3,  151.700,2,  151.300,2,   35.900,2,    2.490,2, -999.000
           NA,HOT timeseries 1988to2019 27SEP2021,     46,  99,-999.0,      34,-999.0,19931028,1535,  22.7510, -158.0025,  4749, 4595.900,    1.493,   34.689,2, -999.000,4, -999.000,3,  152.400,2,  151.260,2,   35.920,2,    2.470,2, -999.000