BOTTLE,20214727JOAExport
EXPOCODE,SECT_ID,STNNBR,CASTNO,SAMPNO,BTLNBR,BTLNBR_FLAG_W,DATE,TIME,LATITUDE,LONGITUDE,DEPTH,CTDPRS,CTDTMP,CTDSAL,CTDSAL_FLAG_W,SALNTY,SALNTY_FLAG_W,CTDOXY,CTDOXY_FLAG_W,OXYGEN,OXYGEN_FLAG_W,SILCAT,SILCAT_FLAG_W,NINI,NINI_FLAG_W,PHSPHT,PHSPHT_FLAG_W,REVP
,,,,,,,,,,,,DB,IPTS-68,PSS-78,,PSS-78,,UMOL/KG,,UMOL/KG,,UMOL/KG,,UMOL/KG,,UMOL/KG,,DBAR
           NA,HOT timeseries 1988to2019 27SEP2021,    164,  99,-999.0,      23,-999.0,20050304,1756,  22.7498, -157.9992,  1019,    5.200,   24.126,   34.951,2, -999.000,4, -999.000,4,  209.500,2, -999.000,4,    0.020,2,    0.020,2, -999.000
           NA,HOT timeseries 1988to2019 27SEP2021,    164,  99,-999.0,      30,-999.0,20050304,1756,  22.7498, -157.9992,  1019,   55.700,   23.456,   35.089,2,   35.087,2,  212.300,2,  212.100,2,    1.360,2,    0.040,2,    0.010,2, -999.000
           NA,HOT timeseries 1988to2019 27SEP2021,    164,  99,-999.0,      22,-999.0,20050304,1756,  22.7498, -157.9992,  1019,  114.800,   21.987,   35.215,2,   35.215,2,  213.900,2,  211.900,2,    1.660,2,    0.090,2,    0.020,2, -999.000
           NA,HOT timeseries 1988to2019 27SEP2021,    164,  99,-999.0,      21,-999.0,20050304,1756,  22.7498, -157.9992,  1019,  172.200,   19.527,   35.048,2,   35.048,2,  193.500,2,  193.500,2, -999.000,4,    2.210,2,    0.140,2, -999.000
           NA,HOT timeseries 1988to2019 27SEP2021,    164,  99,-999.0,      41,-999.0,20050304,1756,  22.7498, -157.9992,  1019,  222.000,   15.638,   34.529,2,   34.526,2,  197.200,2,  196.800,2, -999.000,4,    5.320,2, -999.000,3, -999.000
           NA,HOT timeseries 1988to2019 27SEP2021,    164,  99,-999.0,      19,-999.0,20050304,1756,  22.7498, -157.9992,  1019,  265.000,   14.011,   34.342,2,   34.340,2,  201.200,2,  200.800,2, -999.000,4,    7.450,2,    0.590,2, -999.000
           NA,HOT timeseries 1988to2019 27SEP2021,    164,  99,-999.0,      18,-999.0,20050304,1756,  22.7498, -157.9992,  1019,  310.100,   11.710,   34.146,2,   34.145,2,  193.800,2,  193.900,2,   12.310,2,   12.170,2, -999.000,3, -999.000
           NA,HOT timeseries 1988to2019 27SEP2021,    164,  99,-999.0,      17,-999.0,20050304,1756,  22.7498, -157.9992,  1019,  340.900,   10.482,   34.116,2,   34.115,2,  188.200,2,  189.000,2,   17.220,2,   15.520,2, -999.000,3, -999.000
           NA,HOT timeseries 1988to2019 27SEP2021,    164,  99,-999.0,      34,-999.0,20050304,1756,  22.7498, -157.9992,  1019,  375.400,    9.779,   34.119,2,   34.118,2,  183.400,2,  182.600,2,   22.050,2,   17.980,2,    1.170,2, -999.000
           NA,HOT timeseries 1988to2019 27SEP2021,    164,  99,-999.0,     102,-999.0,20050304,1756,  22.7498, -157.9992,  1019,  410.000,    9.074,   34.103,2,   34.104,2,  168.000,2,  167.900,2,   28.590,2,   21.040,2,    1.430,2, -999.000
           NA,HOT timeseries 1988to2019 27SEP2021,    164,  99,-999.0,     101,-999.0,20050304,1756,  22.7498, -157.9992,  1019,  464.400,    7.793,   34.071,2,   34.071,2,  126.000,2,  125.800,2,   41.260,2,   27.390,2,    1.960,2, -999.000
           NA,HOT timeseries 1988to2019 27SEP2021,    164,  99,-999.0,      42,-999.0,20050304,1756,  22.7498, -157.9992,  1019,  512.000,    6.783,   34.066,2,   34.066,2,   94.100,2,   93.600,2, -999.000,4,   32.050,2,    2.350,2, -999.000
           NA,HOT timeseries 1988to2019 27SEP2021,    164,  99,-999.0,      12,-999.0,20050304,1756,  22.7498, -157.9992,  1019,  565.000,    6.190,   34.088,2,   34.088,2,   71.300,2,   71.100,2,   62.120,2,   35.130,2,    2.580,2, -999.000
           NA,HOT timeseries 1988to2019 27SEP2021,    164,  99,-999.0,      39,-999.0,20050304,1756,  22.7498, -157.9992,  1019,  616.700,    5.475,   34.104,2,   34.103,2,   54.400,2,   54.000,2,   74.560,2,   37.690,2,    2.770,2, -999.000
           NA,HOT timeseries 1988to2019 27SEP2021,    164,  99,-999.0,      33,-999.0,20050304,1756,  22.7498, -157.9992,  1019,  677.300,    5.069,   34.190,2,   34.188,2,   35.100,2,   35.000,2, -999.000,4,   40.200,2,    2.960,2, -999.000
           NA,HOT timeseries 1988to2019 27SEP2021,    164,  99,-999.0,       3,-999.0,20050304,1756,  22.7498, -157.9992,  1019,  715.000,    4.948,   34.256,2,   34.253,2,   32.600,2,   31.300,2, -999.000,4,   40.800,2,    3.000,2, -999.000
           NA,HOT timeseries 1988to2019 27SEP2021,    164,  99,-999.0,      29,-999.0,20050304,1756,  22.7498, -157.9992,  1019,  752.900,    4.812,   34.298,2,   34.299,2,   30.500,2,   29.800,2, -999.000,4,   41.050,2,    3.030,2, -999.000
           NA,HOT timeseries 1988to2019 27SEP2021,    164,  99,-999.0,      28,-999.0,20050304,1756,  22.7498, -157.9992,  1019,  797.700,    4.662,   34.356,2,   34.356,2,   31.900,2,   31.300,2, -999.000,4,   41.270,2,    3.040,2, -999.000
           NA,HOT timeseries 1988to2019 27SEP2021,    164,  99,-999.0,      13,-999.0,20050304,1756,  22.7498, -157.9992,  1019,  843.400,    4.473,   34.390,2,   34.389,2,   33.800,2,   32.900,2, -999.000,4,   41.600,2,    3.050,2, -999.000
           NA,HOT timeseries 1988to2019 27SEP2021,    164,  99,-999.0,      38,-999.0,20050304,1756,  22.7498, -157.9992,  1019,  881.000,    4.366,   34.419,2,   34.417,2,   37.100,2,   36.600,2, -999.000,4,   41.520,2,    3.040,2, -999.000
           NA,HOT timeseries 1988to2019 27SEP2021,    164,  99,-999.0,      35,-999.0,20050304,1756,  22.7498, -157.9992,  1019,  957.100,    4.156,   34.451,2,   34.452,2,   39.900,2,   39.700,2, -999.000,4,   41.580,2,    3.040,2, -999.000
           NA,HOT timeseries 1988to2019 27SEP2021,    164,  99,-999.0,      11,-999.0,20050304,1756,  22.7498, -157.9992,  1019, 1019.800,    3.967,   34.477,2,   34.477,2,   42.700,2,   43.600,2, -999.000,4,   41.850,2,    3.040,2, -999.000
           NA,HOT timeseries 1988to2019 27SEP2021,    164,  99,-999.0,      41,-999.0,20050304,1756,  22.7498, -157.9992,  1019, 1199.200,    3.502,   34.522,2,   34.523,2,   51.900,2,   53.000,2,  119.160,2,   41.040,2,    2.960,2, -999.000
           NA,HOT timeseries 1988to2019 27SEP2021,    164,  99,-999.0,      19,-999.0,20050304,1756,  22.7498, -157.9992,  1019, 1400.700,    3.010,   34.558,2,   34.559,2,   62.700,2,   61.900,2,  129.480,2,   40.650,2,    2.920,2, -999.000
           NA,HOT timeseries 1988to2019 27SEP2021,    164,  99,-999.0,      18,-999.0,20050304,1756,  22.7498, -157.9992,  1019, 1600.900,    2.664,   34.582,2,   34.581,2,   71.200,2,   71.900,2,  137.960,2,   40.250,2,    2.870,2, -999.000
           NA,HOT timeseries 1988to2019 27SEP2021,    164,  99,-999.0,      17,-999.0,20050304,1756,  22.7498, -157.9992,  1019, 1800.100,    2.397,   34.598,2,   34.599,2,   78.400,2,   79.100,2,  143.360,2,   39.940,2,    2.860,2, -999.000
           NA,HOT timeseries 1988to2019 27SEP2021,    164,  99,-999.0,      34,-999.0,20050304,1756,  22.7498, -157.9992,  1019, 2000.200,    2.143,   34.617,2,   34.618,2,   86.800,2,   88.300,2,  147.830,2,   39.440,2,    2.790,2, -999.000
           NA,HOT timeseries 1988to2019 27SEP2021,    164,  99,-999.0,     102,-999.0,20050304,1756,  22.7498, -157.9992,  1019, 2200.600,    1.948,   34.631,2,   34.630,2,   94.400,2,   94.600,2,  152.340,2,   39.030,2,    2.760,2, -999.000
           NA,HOT timeseries 1988to2019 27SEP2021,    164,  99,-999.0,     101,-999.0,20050304,1756,  22.7498, -157.9992,  1019, 2401.200,    1.822,   34.641,2,   34.641,2,  100.800,2,  102.000,2, -999.000,4,   38.570,2,    2.710,2, -999.000
           NA,HOT timeseries 1988to2019 27SEP2021,    164,  99,-999.0,      42,-999.0,20050304,1756,  22.7498, -157.9992,  1019, 2598.600,    1.702,   34.652,2,   34.652,2,  108.400,2,  109.500,2, -999.000,4,   38.140,2,    2.700,2, -999.000
           NA,HOT timeseries 1988to2019 27SEP2021,    164,  99,-999.0,      12,-999.0,20050304,1756,  22.7498, -157.9992,  1019, 2799.100,    1.614,   34.661,2,   34.662,2,  117.600,2,  118.100,2,  157.980,2,   37.510,2,    2.670,2, -999.000
           NA,HOT timeseries 1988to2019 27SEP2021,    164,  99,-999.0,      39,-999.0,20050304,1756,  22.7498, -157.9992,  1019, 2999.400,    1.553,   34.668,2,   34.668,2,  124.400,2,  125.100,2,  158.170,2,   37.040,2,    2.630,2, -999.000
           NA,HOT timeseries 1988to2019 27SEP2021,    164,  99,-999.0,      33,-999.0,20050304,1756,  22.7498, -157.9992,  1019, 3198.900,    1.503,   34.674,2,   34.674,2,  131.800,2,  132.000,2,  156.440,2,   36.490,2,    2.590,2, -999.000
           NA,HOT timeseries 1988to2019 27SEP2021,    164,  99,-999.0,       3,-999.0,20050304,1756,  22.7498, -157.9992,  1019, 3399.200,    1.473,   34.679,2,   34.679,2,  137.200,2,  137.500,2, -999.000,3,   36.220,2,    2.550,2, -999.000
           NA,HOT timeseries 1988to2019 27SEP2021,    164,  99,-999.0,      29,-999.0,20050304,1756,  22.7498, -157.9992,  1019, 3598.200,    1.454,   34.682,2,   34.682,2,  141.600,2,  141.600,2,  153.870,2,   36.080,2,    2.530,2, -999.000
           NA,HOT timeseries 1988to2019 27SEP2021,    164,  99,-999.0,      28,-999.0,20050304,1756,  22.7498, -157.9992,  1019, 3798.200,    1.445,   34.685,2,   34.685,2,  146.100,2, -999.000,4, -999.000,3,   35.810,2,    2.530,2, -999.000
           NA,HOT timeseries 1988to2019 27SEP2021,    164,  99,-999.0,      13,-999.0,20050304,1756,  22.7498, -157.9992,  1019, 3999.800,    1.449,   34.687,2,   34.687,2,  148.600,2,  148.600,2,  151.380,2,   35.640,2,    2.500,2, -999.000
           NA,HOT timeseries 1988to2019 27SEP2021,    164,  99,-999.0,      38,-999.0,20050304,1756,  22.7498, -157.9992,  1019, 4200.500,    1.459,   34.688,2,   34.688,2,  150.800,2,  150.900,2, -999.000,3,   35.560,2,    2.510,2, -999.000
           NA,HOT timeseries 1988to2019 27SEP2021,    164,  99,-999.0,      36,-999.0,20050304,1756,  22.7498, -157.9992,  1019, 4400.400,    1.475,   34.688,2,   34.688,2,  152.200,2,  151.700,2,  150.870,2,   35.510,2,    2.500,2, -999.000
           NA,HOT timeseries 1988to2019 27SEP2021,    164,  99,-999.0,      35,-999.0,20050304,1756,  22.7498, -157.9992,  1019, 4500.200,    1.484,   34.688,2,   34.689,2,  152.600,2,  151.900,2,  150.890,2,   35.550,2,    2.510,2, -999.000
           NA,HOT timeseries 1988to2019 27SEP2021,    164,  99,-999.0,       7,-999.0,20050304,1756,  22.7498, -157.9992,  1019, 4600.000,    1.494,   34.689,2,   34.689,2,  153.200,2,  152.400,2, -999.000,5,   35.460,2,    2.510,2, -999.000
           NA,HOT timeseries 1988to2019 27SEP2021,    164,  99,-999.0,      11,-999.0,20050304,1756,  22.7498, -157.9992,  1019, 4804.300,    1.514,   34.689,2,   34.690,2,  153.900,2,  153.700,2,  150.140,2,   35.530,2,    2.520,2, -999.000