BOTTLE,20214727JOAExport
EXPOCODE,SECT_ID,STNNBR,CASTNO,SAMPNO,BTLNBR,BTLNBR_FLAG_W,DATE,TIME,LATITUDE,LONGITUDE,DEPTH,CTDPRS,CTDTMP,CTDSAL,CTDSAL_FLAG_W,SALNTY,SALNTY_FLAG_W,CTDOXY,CTDOXY_FLAG_W,OXYGEN,OXYGEN_FLAG_W,SILCAT,SILCAT_FLAG_W,NINI,NINI_FLAG_W,PHSPHT,PHSPHT_FLAG_W,REVP
,,,,,,,,,,,,DB,IPTS-68,PSS-78,,PSS-78,,UMOL/KG,,UMOL/KG,,UMOL/KG,,UMOL/KG,,UMOL/KG,,DBAR
           NA,HOT timeseries 1988to2019 27SEP2021,    183,  99,-999.0,    8024,-999.0,20061108,1454,  22.7500, -157.9998,  4744,    6.000,   25.900,   35.091,2,   35.089,2,  204.400,2,  204.500,2,    0.870,2,    0.020,2,    0.030,2, -999.000
           NA,HOT timeseries 1988to2019 27SEP2021,    183,  99,-999.0,    8024,-999.0,20061108,1454,  22.7500, -157.9998,  4744,   12.600,   25.952,   35.057,2,   35.057,2,  204.700,2,  204.700,2, -999.000,4,    0.070,2,    0.030,2, -999.000
           NA,HOT timeseries 1988to2019 27SEP2021,    183,  99,-999.0,    8023,-999.0,20061108,1454,  22.7500, -157.9998,  4744,   71.100,   25.783,   35.144,2,   35.143,2,  204.700,2,  205.300,2,    0.950,2,    0.090,2,    0.010,2, -999.000
           NA,HOT timeseries 1988to2019 27SEP2021,    183,  99,-999.0,    8022,-999.0,20061108,1454,  22.7500, -157.9998,  4744,   77.500,   23.976,   35.143,2,   35.144,2,  222.400,2,  220.500,2, -999.000,4,    0.090,2,    0.010,2, -999.000
           NA,HOT timeseries 1988to2019 27SEP2021,    183,  99,-999.0,    8021,-999.0,20061108,1454,  22.7500, -157.9998,  4744,  118.800,   22.176,   35.261,2,   35.258,2,  206.300,2,  206.900,2,    1.760,2,    0.360,2,    0.060,2, -999.000
           NA,HOT timeseries 1988to2019 27SEP2021,    183,  99,-999.0,    8020,-999.0,20061108,1454,  22.7500, -157.9998,  4744,  153.700,   21.516,   35.276,2,   35.278,2,  200.100,2,  200.000,2,    1.980,2,    0.810,2,    0.100,2, -999.000
           NA,HOT timeseries 1988to2019 27SEP2021,    183,  99,-999.0,    8019,-999.0,20061108,1454,  22.7500, -157.9998,  4744,  191.200,   19.644,   35.068,2,   35.071,2,  199.500,2,  199.300,2, -999.000,4,    1.720,2,    0.150,2, -999.000
           NA,HOT timeseries 1988to2019 27SEP2021,    183,  99,-999.0,    8018,-999.0,20061108,1454,  22.7500, -157.9998,  4744,  241.000,   16.108,   34.628,2,   34.628,2,  200.600,2,  199.700,2, -999.000,4,    5.170,2,    0.400,2, -999.000
           NA,HOT timeseries 1988to2019 27SEP2021,    183,  99,-999.0,    8017,-999.0,20061108,1454,  22.7500, -157.9998,  4744,  295.600,   13.986,   34.420,2,   34.420,2,  204.200,2,  203.700,2, -999.000,3,    7.970,2,    0.580,2, -999.000
           NA,HOT timeseries 1988to2019 27SEP2021,    183,  99,-999.0,    8016,-999.0,20061108,1454,  22.7500, -157.9998,  4744,  350.800,   12.109,   34.270,2,   34.268,2,  206.200,2,  204.800,2,   13.150,2,   11.450,2,    0.820,2, -999.000
           NA,HOT timeseries 1988to2019 27SEP2021,    183,  99,-999.0,    8015,-999.0,20061108,1454,  22.7500, -157.9998,  4744,  413.600,   10.404,   34.176,2,   34.177,2,  199.500,2,  197.900,2,   15.730,2,   15.460,2,    1.090,2, -999.000
           NA,HOT timeseries 1988to2019 27SEP2021,    183,  99,-999.0,    8014,-999.0,20061108,1454,  22.7500, -157.9998,  4744,  475.700,    8.580,   34.090,2,   34.089,2,  165.800,2,  166.200,2,   29.630,2,   22.420,2,    1.570,2, -999.000
           NA,HOT timeseries 1988to2019 27SEP2021,    183,  99,-999.0,    8025,-999.0,20061108,1454,  22.7500, -157.9998,  4744,  511.500,    7.772,   34.074,2,   34.074,2,  135.100,2,  133.500,2, -999.000,4,   26.430,2,    1.890,2, -999.000
           NA,HOT timeseries 1988to2019 27SEP2021,    183,  99,-999.0,    8012,-999.0,20061108,1454,  22.7500, -157.9998,  4744,  548.000,    7.188,   34.057,2,   34.057,2,  119.000,2,  115.700,2, -999.000,3,   29.000,2,    2.090,2, -999.000
           NA,HOT timeseries 1988to2019 27SEP2021,    183,  99,-999.0,    8011,-999.0,20061108,1454,  22.7500, -157.9998,  4744,  575.200,    6.767,   34.084,2,   34.082,2,   94.200,2,   93.500,2,   55.050,2,   31.170,2,    2.300,2, -999.000
           NA,HOT timeseries 1988to2019 27SEP2021,    183,  99,-999.0,    8010,-999.0,20061108,1454,  22.7500, -157.9998,  4744,  633.500,    6.321,   34.129,2,   34.130,2,   67.800,2,   67.900,2, -999.000,3,   34.410,2,    2.550,2, -999.000
           NA,HOT timeseries 1988to2019 27SEP2021,    183,  99,-999.0,    8009,-999.0,20061108,1454,  22.7500, -157.9998,  4744,  667.200,    5.799,   34.169,2, -999.000,3, -999.000,3,   50.200,2,   74.820,2,   36.820,2,    2.730,2, -999.000
           NA,HOT timeseries 1988to2019 27SEP2021,    183,  99,-999.0,    8008,-999.0,20061108,1454,  22.7500, -157.9998,  4744,  717.800,    5.194,   34.200,2,   34.198,2,   38.700,2,   37.700,2,   82.930,2,   38.880,2,    2.870,2, -999.000
           NA,HOT timeseries 1988to2019 27SEP2021,    183,  99,-999.0,    8026,-999.0,20061108,1454,  22.7500, -157.9998,  4744,  766.400,    4.898,   34.243,2,   34.243,2,   28.400,2, -999.000,4,   88.320,2,   40.130,2,    2.980,2, -999.000
           NA,HOT timeseries 1988to2019 27SEP2021,    183,  99,-999.0,    8006,-999.0,20061108,1454,  22.7500, -157.9998,  4744,  815.400,    4.725,   34.305,2,   34.303,2,   26.400,2, -999.000,4,   93.710,2,   40.720,2,    3.020,2, -999.000
           NA,HOT timeseries 1988to2019 27SEP2021,    183,  99,-999.0,    8004,-999.0,20061108,1454,  22.7500, -157.9998,  4744,  885.700,    4.446,   34.392,2,   34.391,2,   29.700,2,   30.100,2,  101.260,2,   40.930,2,    3.030,2, -999.000
           NA,HOT timeseries 1988to2019 27SEP2021,    183,  99,-999.0,    8003,-999.0,20061108,1454,  22.7500, -157.9998,  4744,  939.600,    4.201,   34.442,2,   34.442,2,   35.100,2,   34.900,2,  107.480,2,   41.060,2,    3.030,2, -999.000
           NA,HOT timeseries 1988to2019 27SEP2021,    183,  99,-999.0,    8002,-999.0,20061108,1454,  22.7500, -157.9998,  4744,  991.200,    4.004,   34.468,2,   34.467,2,   38.900,2,   39.500,2,  111.370,2,   41.030,2,    3.030,2, -999.000
           NA,HOT timeseries 1988to2019 27SEP2021,    183,  99,-999.0,    8020,-999.0,20061108,1454,  22.7500, -157.9998,  4744, 1198.800,    3.573,   34.526,2,   34.525,2,   49.600,2,   50.000,2,  119.220,2,   41.040,2,    3.000,2, -999.000
           NA,HOT timeseries 1988to2019 27SEP2021,    183,  99,-999.0,    8019,-999.0,20061108,1454,  22.7500, -157.9998,  4744, 1400.600,    3.165,   34.553,2,   34.553,2,   57.500,2,   57.500,2, -999.000,3,   40.460,2,    2.960,2, -999.000
           NA,HOT timeseries 1988to2019 27SEP2021,    183,  99,-999.0,    8018,-999.0,20061108,1454,  22.7500, -157.9998,  4744, 1599.200,    2.738,   34.585,2,   34.585,2,   69.100,2,   68.900,2, -999.000,3,   40.020,2,    2.910,2, -999.000
           NA,HOT timeseries 1988to2019 27SEP2021,    183,  99,-999.0,    8017,-999.0,20061108,1454,  22.7500, -157.9998,  4744, 1798.900,    2.389,   34.603,2,   34.603,2,   78.500,2,   78.600,2,  144.790,2,   39.490,2,    2.860,2, -999.000
           NA,HOT timeseries 1988to2019 27SEP2021,    183,  99,-999.0,    8016,-999.0,20061108,1454,  22.7500, -157.9998,  4744, 1999.900,    2.131,   34.620,2,   34.621,2,   86.900,2,   87.400,2,  151.600,2,   38.970,2,    2.820,2, -999.000
           NA,HOT timeseries 1988to2019 27SEP2021,    183,  99,-999.0,    8015,-999.0,20061108,1454,  22.7500, -157.9998,  4744, 2201.100,    1.935,   34.635,2,   34.635,2,   95.400,2,   95.100,2,  156.340,2,   38.640,2,    2.770,2, -999.000
           NA,HOT timeseries 1988to2019 27SEP2021,    183,  99,-999.0,    8014,-999.0,20061108,1454,  22.7500, -157.9998,  4744, 2400.100,    1.787,   34.647,2,   34.647,2,  102.600,2,  102.500,2,  158.900,2,   38.210,2,    2.730,2, -999.000
           NA,HOT timeseries 1988to2019 27SEP2021,    183,  99,-999.0,    8025,-999.0,20061108,1454,  22.7500, -157.9998,  4744, 2600.400,    1.672,   34.657,2,   34.657,2,  108.600,2,  108.500,2,  163.000,2,   37.840,2,    2.700,2, -999.000
           NA,HOT timeseries 1988to2019 27SEP2021,    183,  99,-999.0,    8012,-999.0,20061108,1454,  22.7500, -157.9998,  4744, 2800.300,    1.592,   34.666,2,   34.667,2,  117.500,2,  118.100,2,  159.550,2,   37.220,2,    2.650,2, -999.000
           NA,HOT timeseries 1988to2019 27SEP2021,    183,  99,-999.0,    8011,-999.0,20061108,1454,  22.7500, -157.9998,  4744, 2999.800,    1.551,   34.671,2,   34.672,2,  124.400,2,  124.600,2, -999.000,3,   36.580,2,    2.610,2, -999.000
           NA,HOT timeseries 1988to2019 27SEP2021,    183,  99,-999.0,    8010,-999.0,20061108,1454,  22.7500, -157.9998,  4744, 3200.100,    1.511,   34.677,2,   34.677,2,  130.600,2,  131.100,2,  156.070,2,   36.290,2,    2.590,2, -999.000
           NA,HOT timeseries 1988to2019 27SEP2021,    183,  99,-999.0,    8009,-999.0,20061108,1454,  22.7500, -157.9998,  4744, 3398.800,    1.478,   34.681,2,   34.682,2,  136.700,2,  136.900,2, -999.000,3,   35.970,2,    2.540,2, -999.000
           NA,HOT timeseries 1988to2019 27SEP2021,    183,  99,-999.0,    8008,-999.0,20061108,1454,  22.7500, -157.9998,  4744, 3600.600,    1.458,   34.685,2,   34.685,2,  141.300,2,  141.200,2,  154.270,2,   35.620,2,    2.520,2, -999.000
           NA,HOT timeseries 1988to2019 27SEP2021,    183,  99,-999.0,    8026,-999.0,20061108,1454,  22.7500, -157.9998,  4744, 3801.600,    1.456,   34.687,2,   34.687,2,  144.600,2,  144.000,2,  151.720,2,   35.460,2,    2.500,2, -999.000
           NA,HOT timeseries 1988to2019 27SEP2021,    183,  99,-999.0,    8006,-999.0,20061108,1454,  22.7500, -157.9998,  4744, 4001.400,    1.460,   34.688,2,   34.689,2,  147.400,2,  147.500,2,  151.370,2,   35.340,2,    2.490,2, -999.000
           NA,HOT timeseries 1988to2019 27SEP2021,    183,  99,-999.0,    8005,-999.0,20061108,1454,  22.7500, -157.9998,  4744, 4201.300,    1.471,   34.689,2,   34.689,2,  148.800,2,  148.600,2,  151.290,2,   35.290,2,    2.490,2, -999.000
           NA,HOT timeseries 1988to2019 27SEP2021,    183,  99,-999.0,    8004,-999.0,20061108,1454,  22.7500, -157.9998,  4744, 4400.000,    1.485,   34.690,2,   34.691,2,  150.200,2,  150.200,2, -999.000,4,   35.120,2,    2.480,2, -999.000
           NA,HOT timeseries 1988to2019 27SEP2021,    183,  99,-999.0,    8003,-999.0,20061108,1454,  22.7500, -157.9998,  4744, 4500.000,    1.492,   34.691,2,   34.691,2,  150.900,2,  150.800,2,  150.390,2,   35.260,2,    2.480,2, -999.000
           NA,HOT timeseries 1988to2019 27SEP2021,    183,  99,-999.0,    8002,-999.0,20061108,1454,  22.7500, -157.9998,  4744, 4600.300,    1.503,   34.691,2,   34.691,2,  151.000,2,  151.500,2,  149.140,2,   34.950,2,    2.460,2, -999.000
           NA,HOT timeseries 1988to2019 27SEP2021,    183,  99,-999.0,    8001,-999.0,20061108,1454,  22.7500, -157.9998,  4744, 4804.700,    1.528,   34.691,2,   34.691,2,  151.000,2,  151.100,2,  148.320,2,   35.270,2,    2.490,2, -999.000