BOTTLE,20214727JOAExport
EXPOCODE,SECT_ID,STNNBR,CASTNO,SAMPNO,BTLNBR,BTLNBR_FLAG_W,DATE,TIME,LATITUDE,LONGITUDE,DEPTH,CTDPRS,CTDTMP,CTDSAL,CTDSAL_FLAG_W,SALNTY,SALNTY_FLAG_W,CTDOXY,CTDOXY_FLAG_W,OXYGEN,OXYGEN_FLAG_W,SILCAT,SILCAT_FLAG_W,NINI,NINI_FLAG_W,PHSPHT,PHSPHT_FLAG_W,REVP
,,,,,,,,,,,,DB,IPTS-68,PSS-78,,PSS-78,,UMOL/KG,,UMOL/KG,,UMOL/KG,,UMOL/KG,,UMOL/KG,,DBAR
           NA,HOT timeseries 1988to2019 27SEP2021,    155,  99,-999.0,      31,-999.0,20040518,1756,  22.7475, -158.0008,  4720,    4.100,   25.181,   34.695,2,   34.697,2,  211.400,2,  211.800,2,    1.090,2,    0.030,2,    0.100,2, -999.000
           NA,HOT timeseries 1988to2019 27SEP2021,    155,  99,-999.0,      30,-999.0,20040518,1756,  22.7475, -158.0008,  4720,   47.100,   24.736,   34.893,2,   34.897,2,  215.400,2,  214.900,2,    1.040,2,    0.030,2,    0.080,2, -999.000
           NA,HOT timeseries 1988to2019 27SEP2021,    155,  99,-999.0,      22,-999.0,20040518,1756,  22.7475, -158.0008,  4720,   74.000,   23.573,   35.141,2,   35.146,2,  214.500,2,  214.600,2,    1.090,2,    0.060,2,    0.080,2, -999.000
           NA,HOT timeseries 1988to2019 27SEP2021,    155,  99,-999.0,      21,-999.0,20040518,1756,  22.7475, -158.0008,  4720,  125.300,   21.664,   35.131,2, -999.000,4, -999.000,3,  196.300,2,    1.600,2,    0.520,2, -999.000,3, -999.000
           NA,HOT timeseries 1988to2019 27SEP2021,    155,  99,-999.0,      20,-999.0,20040518,1756,  22.7475, -158.0008,  4720,  174.900,   19.406,   35.051,2,   35.043,2,  198.200,2,  198.200,2,    2.440,2,    2.340,2, -999.000,4, -999.000
           NA,HOT timeseries 1988to2019 27SEP2021,    155,  99,-999.0,      19,-999.0,20040518,1756,  22.7475, -158.0008,  4720,  215.700,   17.287,   34.778,2,   34.771,2,  199.700,2,  199.000,2,    3.360,2,    3.850,2,    0.370,2, -999.000
           NA,HOT timeseries 1988to2019 27SEP2021,    155,  99,-999.0,      18,-999.0,20040518,1756,  22.7475, -158.0008,  4720,  256.000,   15.651,   34.568,2,   34.568,2,  203.200,2,  202.800,2,    4.840,2,    5.390,2,    0.490,2, -999.000
           NA,HOT timeseries 1988to2019 27SEP2021,    155,  99,-999.0,      17,-999.0,20040518,1756,  22.7475, -158.0008,  4720,  296.200,   13.628,   34.358,2,   34.357,2,  202.400,2,  201.500,2,    8.020,2,    8.590,2,    0.710,2, -999.000
           NA,HOT timeseries 1988to2019 27SEP2021,    155,  99,-999.0,      16,-999.0,20040518,1756,  22.7475, -158.0008,  4720,  335.500,   11.888,   34.238,2,   34.242,2,  201.000,2,  200.300,2,   11.930,2,   12.030,2,    0.940,2, -999.000
           NA,HOT timeseries 1988to2019 27SEP2021,    155,  99,-999.0,     102,-999.0,20040518,1756,  22.7475, -158.0008,  4720,  384.800,   10.528,   34.157,2,   34.158,2,  201.500,2,  199.900,2,   16.100,2,   14.780,2,    1.130,2, -999.000
           NA,HOT timeseries 1988to2019 27SEP2021,    155,  99,-999.0,     101,-999.0,20040518,1756,  22.7475, -158.0008,  4720,  436.800,    9.038,   34.099,2,   34.098,2,  178.700,2,  176.900,2,   26.090,2,   20.180,2,    1.500,2, -999.000
           NA,HOT timeseries 1988to2019 27SEP2021,    155,  99,-999.0,      42,-999.0,20040518,1756,  22.7475, -158.0008,  4720,  476.100,    8.145,   34.064,2,   34.063,2,  154.500,2,  152.500,2,   33.900,2,   24.120,2,    1.780,2, -999.000
           NA,HOT timeseries 1988to2019 27SEP2021,    155,  99,-999.0,      12,-999.0,20040518,1756,  22.7475, -158.0008,  4720,  514.200,    7.309,   34.071,2,   34.072,2,  122.800,2,  119.100,2,   44.390,2,   28.290,2,    2.110,2, -999.000
           NA,HOT timeseries 1988to2019 27SEP2021,    155,  99,-999.0,      39,-999.0,20040518,1756,  22.7475, -158.0008,  4720,  547.200,    6.541,   34.075,2,   34.077,2,   91.700,2,   92.100,2,   55.120,2,   32.190,2,    2.400,2, -999.000
           NA,HOT timeseries 1988to2019 27SEP2021,    155,  99,-999.0,      32,-999.0,20040518,1756,  22.7475, -158.0008,  4720,  591.700,    5.983,   34.118,2,   34.118,2,   72.000,2,   69.400,2,   65.860,2,   35.030,2,    2.610,2, -999.000
           NA,HOT timeseries 1988to2019 27SEP2021,    155,  99,-999.0,       3,-999.0,20040518,1756,  22.7475, -158.0008,  4720,  639.400,    5.473,   34.160,2,   34.158,2,   52.700,2,   50.800,2,   75.600,2,   37.640,2,    2.810,2, -999.000
           NA,HOT timeseries 1988to2019 27SEP2021,    155,  99,-999.0,      29,-999.0,20040518,1756,  22.7475, -158.0008,  4720,  689.600,    5.281,   34.256,2,   34.257,2,   39.400,2,   38.900,2, -999.000,4,   39.050,2,    2.890,2, -999.000
           NA,HOT timeseries 1988to2019 27SEP2021,    155,  99,-999.0,      13,-999.0,20040518,1756,  22.7475, -158.0008,  4720,  767.000,    4.832,   34.320,2,   34.320,2,   37.000,2,   36.600,2, -999.000,4, -999.000,3,    2.940,2, -999.000
           NA,HOT timeseries 1988to2019 27SEP2021,    155,  99,-999.0,      38,-999.0,20040518,1756,  22.7475, -158.0008,  4720,  817.000,    4.684,   34.366,2,   34.371,2,   37.500,2,   36.800,2, -999.000,4,   40.420,2,    2.970,2, -999.000
           NA,HOT timeseries 1988to2019 27SEP2021,    155,  99,-999.0,      36,-999.0,20040518,1756,  22.7475, -158.0008,  4720,  867.000,    4.502,   34.395,2,   34.395,2,   38.000,2,   38.000,2, -999.000,4,   40.700,2,    2.970,2, -999.000
           NA,HOT timeseries 1988to2019 27SEP2021,    155,  99,-999.0,      35,-999.0,20040518,1756,  22.7475, -158.0008,  4720,  905.300,    4.395,   34.406,2,   34.406,2,   37.600,2,   37.600,2, -999.000,4,   40.910,2,    2.970,2, -999.000
           NA,HOT timeseries 1988to2019 27SEP2021,    155,  99,-999.0,      34,-999.0,20040518,1756,  22.7475, -158.0008,  4720,  942.500,    4.236,   34.420,2,   34.422,2,   39.500,2,   39.300,2, -999.000,4,   41.100,2,    2.970,2, -999.000
           NA,HOT timeseries 1988to2019 27SEP2021,    155,  99,-999.0,      33,-999.0,20040518,1756,  22.7475, -158.0008,  4720, 1019.900,    4.042,   34.466,2,   34.467,2,   44.700,2,   44.200,2, -999.000,4,   41.110,2,    2.990,2, -999.000
           NA,HOT timeseries 1988to2019 27SEP2021,    155,  99,-999.0,      20,-999.0,20040518,1756,  22.7475, -158.0008,  4720, 1199.100,    3.533,   34.522,2,   34.522,2,   54.700,2,   54.500,2,  118.510,2,   41.190,2,    3.030,2, -999.000
           NA,HOT timeseries 1988to2019 27SEP2021,    155,  99,-999.0,      19,-999.0,20040518,1756,  22.7475, -158.0008,  4720, 1399.900,    3.115,   34.551,2,   34.553,2,   63.000,2,   63.400,2,  127.830,2,   40.750,2,    2.960,2, -999.000
           NA,HOT timeseries 1988to2019 27SEP2021,    155,  99,-999.0,      18,-999.0,20040518,1756,  22.7475, -158.0008,  4720, 1599.300,    2.735,   34.577,2,   34.577,2,   72.400,2,   72.400,2,  136.550,2,   40.400,2,    2.920,2, -999.000
           NA,HOT timeseries 1988to2019 27SEP2021,    155,  99,-999.0,      17,-999.0,20040518,1756,  22.7475, -158.0008,  4720, 1799.900,    2.421,   34.597,2, -999.000,3, -999.000,3,   81.200,2,  143.590,2,   39.890,2,    2.880,2, -999.000
           NA,HOT timeseries 1988to2019 27SEP2021,    155,  99,-999.0,      16,-999.0,20040518,1756,  22.7475, -158.0008,  4720, 1999.200,    2.164,   34.619,2,   34.620,2,   89.000,2,   89.500,2, -999.000,3,   39.480,2,    2.840,2, -999.000
           NA,HOT timeseries 1988to2019 27SEP2021,    155,  99,-999.0,     102,-999.0,20040518,1756,  22.7475, -158.0008,  4720, 2199.400,    1.984,   34.633,2,   34.633,2,   97.100,2,   97.400,2,  152.060,2,   38.910,2,    2.800,2, -999.000
           NA,HOT timeseries 1988to2019 27SEP2021,    155,  99,-999.0,     101,-999.0,20040518,1756,  22.7475, -158.0008,  4720, 2399.400,    1.840,   34.644,2,   34.644,2,  104.600,2,  104.600,2, -999.000,3,   38.720,2,    2.770,2, -999.000
           NA,HOT timeseries 1988to2019 27SEP2021,    155,  99,-999.0,      42,-999.0,20040518,1756,  22.7475, -158.0008,  4720, 2598.900,    1.719,   34.654,2,   34.655,2,  111.700,2,  111.700,2,  157.480,2,   38.220,2,    2.730,2, -999.000
           NA,HOT timeseries 1988to2019 27SEP2021,    155,  99,-999.0,      12,-999.0,20040518,1756,  22.7475, -158.0008,  4720, 2799.500,    1.637,   34.663,2,   34.662,2,  118.800,2,  118.800,2,  158.490,2,   37.860,2,    2.700,2, -999.000
           NA,HOT timeseries 1988to2019 27SEP2021,    155,  99,-999.0,      39,-999.0,20040518,1756,  22.7475, -158.0008,  4720, 2999.700,    1.588,   34.669,2,   34.669,2,  124.300,2,  124.500,2,  158.490,2,   37.550,2,    2.670,2, -999.000
           NA,HOT timeseries 1988to2019 27SEP2021,    155,  99,-999.0,      32,-999.0,20040518,1756,  22.7475, -158.0008,  4720, 3200.600,    1.525,   34.673,2,   34.674,2,  131.100,2,  131.400,2,  158.310,2,   37.060,2,    2.610,2, -999.000
           NA,HOT timeseries 1988to2019 27SEP2021,    155,  99,-999.0,       3,-999.0,20040518,1756,  22.7475, -158.0008,  4720, 3399.800,    1.490,   34.678,2,   34.678,2,  137.400,2,  138.000,2,  156.190,2,   36.630,2,    2.590,2, -999.000
           NA,HOT timeseries 1988to2019 27SEP2021,    155,  99,-999.0,      29,-999.0,20040518,1756,  22.7475, -158.0008,  4720, 3599.300,    1.474,   34.682,2,   34.682,2,  141.900,2, -999.000,4,  155.320,2,   36.370,2,    2.580,2, -999.000
           NA,HOT timeseries 1988to2019 27SEP2021,    155,  99,-999.0,      28,-999.0,20040518,1756,  22.7475, -158.0008,  4720, 3799.200,    1.464,   34.684,2,   34.684,2,  146.100,2,  146.200,2,  153.400,2,   36.100,2,    2.560,2, -999.000
           NA,HOT timeseries 1988to2019 27SEP2021,    155,  99,-999.0,      13,-999.0,20040518,1756,  22.7475, -158.0008,  4720, 3999.500,    1.464,   34.686,2,   34.686,2,  149.100,2,  149.000,2,  151.780,2,   35.900,2,    2.520,2, -999.000
           NA,HOT timeseries 1988to2019 27SEP2021,    155,  99,-999.0,      38,-999.0,20040518,1756,  22.7475, -158.0008,  4720, 4198.100,    1.470,   34.688,2,   34.688,2,  151.700,2,  150.800,2,  151.120,2,   35.780,2,    2.510,2, -999.000
           NA,HOT timeseries 1988to2019 27SEP2021,    155,  99,-999.0,      36,-999.0,20040518,1756,  22.7475, -158.0008,  4720, 4398.400,    1.480,   34.689,2,   34.690,2,  153.400,2,  153.000,2,  150.080,2,   35.830,2,    2.490,2, -999.000
           NA,HOT timeseries 1988to2019 27SEP2021,    155,  99,-999.0,      35,-999.0,20040518,1756,  22.7475, -158.0008,  4720, 4498.500,    1.488,   34.689,2,   34.689,2,  154.400,2,  153.900,2,  149.310,2,   35.750,2,    2.490,2, -999.000
           NA,HOT timeseries 1988to2019 27SEP2021,    155,  99,-999.0,      34,-999.0,20040518,1756,  22.7475, -158.0008,  4720, 4599.000,    1.496,   34.690,2,   34.690,2,  154.500,2,  154.700,2,  149.350,2,   35.590,2,    2.510,2, -999.000
           NA,HOT timeseries 1988to2019 27SEP2021,    155,  99,-999.0,      33,-999.0,20040518,1756,  22.7475, -158.0008,  4720, 4794.500,    1.511,   34.690,2,   34.690,2,  156.000,2,  156.300,2,  148.540,2,   35.560,2,    2.490,2, -999.000