BOTTLE,20214727JOAExport
EXPOCODE,SECT_ID,STNNBR,CASTNO,SAMPNO,BTLNBR,BTLNBR_FLAG_W,DATE,TIME,LATITUDE,LONGITUDE,DEPTH,CTDPRS,CTDTMP,CTDSAL,CTDSAL_FLAG_W,SALNTY,SALNTY_FLAG_W,CTDOXY,CTDOXY_FLAG_W,OXYGEN,OXYGEN_FLAG_W,SILCAT,SILCAT_FLAG_W,NINI,NINI_FLAG_W,PHSPHT,PHSPHT_FLAG_W,REVP
,,,,,,,,,,,,DB,IPTS-68,PSS-78,,PSS-78,,UMOL/KG,,UMOL/KG,,UMOL/KG,,UMOL/KG,,UMOL/KG,,DBAR
           NA,HOT timeseries 1988to2019 27SEP2021,    145,  99,-999.0,      31,-999.0,20030619,1802,  22.7417, -158.0088,  4722,    4.700,   25.802,   35.199,2,   35.199,2,  208.400,2,  207.700,2,    0.770,2,    0.050,2,    0.040,2, -999.000
           NA,HOT timeseries 1988to2019 27SEP2021,    145,  99,-999.0,      30,-999.0,20030619,1802,  22.7417, -158.0088,  4722,   43.500,   24.495,   35.154,2,   35.154,2,  218.900,2,  217.600,2,    0.830,2,    0.000,2,    0.030,2, -999.000
           NA,HOT timeseries 1988to2019 27SEP2021,    145,  99,-999.0,      22,-999.0,20030619,1802,  22.7417, -158.0088,  4722,   67.100,   23.284,   35.251,2,   35.250,2,  214.300,2,  213.600,2,    0.900,2,    0.080,2,    0.020,2, -999.000
           NA,HOT timeseries 1988to2019 27SEP2021,    145,  99,-999.0,      21,-999.0,20030619,1802,  22.7417, -158.0088,  4722,  104.900,   21.910,   35.323,2,   35.324,2,  213.000,2,  212.800,2,    1.140,2,    0.090,2,    0.020,2, -999.000
           NA,HOT timeseries 1988to2019 27SEP2021,    145,  99,-999.0,      20,-999.0,20030619,1802,  22.7417, -158.0088,  4722,  139.900,   20.851,   35.271,2,   35.275,2,  206.800,2,  207.700,2,    1.430,2,    0.450,2,    0.020,2, -999.000
           NA,HOT timeseries 1988to2019 27SEP2021,    145,  99,-999.0,      19,-999.0,20030619,1802,  22.7417, -158.0088,  4722,  172.500,   19.937,   35.218,2,   35.209,2,  213.600,2,  210.500,2,    1.700,2,    0.880,2,    0.020,2, -999.000
           NA,HOT timeseries 1988to2019 27SEP2021,    145,  99,-999.0,      18,-999.0,20030619,1802,  22.7417, -158.0088,  4722,  224.800,   18.219,   34.964,2,   34.971,2,  215.900,2,  216.100,2,    1.950,2,    1.390,2,    0.160,2, -999.000
           NA,HOT timeseries 1988to2019 27SEP2021,    145,  99,-999.0,      17,-999.0,20030619,1802,  22.7417, -158.0088,  4722,  276.200,   16.468,   34.697,2, -999.000,4, -999.000,3,  216.400,2,    2.260,2, -999.000,4, -999.000,3, -999.000
           NA,HOT timeseries 1988to2019 27SEP2021,    145,  99,-999.0,      16,-999.0,20030619,1802,  22.7417, -158.0088,  4722,  316.300,   13.936,   34.402,2,   34.406,2,  210.000,2,  209.600,2,    6.890,2,    7.520,2,    0.600,2, -999.000
           NA,HOT timeseries 1988to2019 27SEP2021,    145,  99,-999.0,      23,-999.0,20030619,1802,  22.7417, -158.0088,  4722,  354.600,   12.215,   34.280,2,   34.268,2,  209.200,2,  208.300,2,   11.760,2,   11.440,2,    0.840,2, -999.000
           NA,HOT timeseries 1988to2019 27SEP2021,    145,  99,-999.0,      40,-999.0,20030619,1802,  22.7417, -158.0088,  4722,  405.500,   10.532,   34.197,2,   34.201,2,  208.500,2,  207.600,2,   16.640,2,   14.810,2,    0.950,2, -999.000
           NA,HOT timeseries 1988to2019 27SEP2021,    145,  99,-999.0,      13,-999.0,20030619,1802,  22.7417, -158.0088,  4722,  454.800,    8.648,   34.082,2,   34.085,2,  167.100,2,  168.800,2,   28.500,2,   21.950,2,    1.580,2, -999.000
           NA,HOT timeseries 1988to2019 27SEP2021,    145,  99,-999.0,      12,-999.0,20030619,1802,  22.7417, -158.0088,  4722,  487.100,    8.093,   34.057,2,   34.057,2,  151.900,2,  151.700,2,   34.090,2,   24.710,2,    1.780,2, -999.000
           NA,HOT timeseries 1988to2019 27SEP2021,    145,  99,-999.0,      39,-999.0,20030619,1802,  22.7417, -158.0088,  4722,  520.100,    7.189,   34.036,2,   34.036,2,  132.700,2,  127.900,2,   44.530,2,   28.630,2,    2.070,2, -999.000
           NA,HOT timeseries 1988to2019 27SEP2021,    145,  99,-999.0,      32,-999.0,20030619,1802,  22.7417, -158.0088,  4722,  565.700,    6.544,   34.044,2,   34.045,2,  104.400,2,  103.000,2,   53.750,2,   31.930,2,    2.330,2, -999.000
           NA,HOT timeseries 1988to2019 27SEP2021,    145,  99,-999.0,       3,-999.0,20030619,1802,  22.7417, -158.0088,  4722,  615.300,    6.305,   34.165,2,   34.157,2,   65.800,2,   65.000,2,   62.700,2,   35.380,2,    2.630,2, -999.000
           NA,HOT timeseries 1988to2019 27SEP2021,    145,  99,-999.0,      29,-999.0,20030619,1802,  22.7417, -158.0088,  4722,  662.400,    5.964,   34.208,2,   34.209,2,   50.300,2,   48.000,2,   67.800,2,   37.520,2,    2.790,2, -999.000
           NA,HOT timeseries 1988to2019 27SEP2021,    145,  99,-999.0,      28,-999.0,20030619,1802,  22.7417, -158.0088,  4722,  717.900,    5.545,   34.274,2,   34.275,2,   37.800,2,   36.500,2, -999.000,4,   39.520,2,    2.900,2, -999.000
           NA,HOT timeseries 1988to2019 27SEP2021,    145,  99,-999.0,      38,-999.0,20030619,1802,  22.7417, -158.0088,  4722,  810.400,    4.960,   34.328,2,   34.330,2,   33.400,2,   29.400,2,   91.030,2,   41.130,2,    3.000,2, -999.000
           NA,HOT timeseries 1988to2019 27SEP2021,    145,  99,-999.0,      35,-999.0,20030619,1802,  22.7417, -158.0088,  4722,  895.000,    4.567,   34.404,2,   34.405,2,   32.800,2,   32.400,2, -999.000,4,   41.830,2,    3.060,2, -999.000
           NA,HOT timeseries 1988to2019 27SEP2021,    145,  99,-999.0,      34,-999.0,20030619,1802,  22.7417, -158.0088,  4722,  956.500,    4.316,   34.448,2,   34.449,2,   36.000,2,   35.400,2, -999.000,4,   42.290,2,    3.060,2, -999.000
           NA,HOT timeseries 1988to2019 27SEP2021,    145,  99,-999.0,      33,-999.0,20030619,1802,  22.7417, -158.0088,  4722, 1020.000,    4.098,   34.479,2,   34.479,2,   41.100,2,   40.700,2, -999.000,4,   42.220,2,    3.030,2, -999.000
           NA,HOT timeseries 1988to2019 27SEP2021,    145,  99,-999.0,      20,-999.0,20030619,1802,  22.7417, -158.0088,  4722, 1199.800,    3.622,   34.526,2,   34.525,2,   52.700,2,   52.600,2,  118.850,2,   41.350,2,    3.010,2, -999.000
           NA,HOT timeseries 1988to2019 27SEP2021,    145,  99,-999.0,      19,-999.0,20030619,1802,  22.7417, -158.0088,  4722, 1401.000,    3.048,   34.557,2, -999.000,3, -999.000,3,   62.300,2,  130.670,2,   41.040,2,    2.980,2, -999.000
           NA,HOT timeseries 1988to2019 27SEP2021,    145,  99,-999.0,      18,-999.0,20030619,1802,  22.7417, -158.0088,  4722, 1599.600,    2.681,   34.585,2,   34.585,2,   71.900,2,   72.600,2,  138.900,2,   40.660,2,    2.930,2, -999.000
           NA,HOT timeseries 1988to2019 27SEP2021,    145,  99,-999.0,      17,-999.0,20030619,1802,  22.7417, -158.0088,  4722, 1799.700,    2.418,   34.601,2, -999.000,4, -999.000,3, -999.000,3, -999.000,3,   40.280,2,    2.910,2, -999.000
           NA,HOT timeseries 1988to2019 27SEP2021,    145,  99,-999.0,      16,-999.0,20030619,1802,  22.7417, -158.0088,  4722, 1999.800,    2.129,   34.622,2,   34.625,2,   90.100,2,   90.700,2,  150.780,2,   39.530,2,    2.820,2, -999.000
           NA,HOT timeseries 1988to2019 27SEP2021,    145,  99,-999.0,      23,-999.0,20030619,1802,  22.7417, -158.0088,  4722, 2200.000,    1.927,   34.633,2,   34.632,2,   94.800,2,   95.100,2,  155.750,2,   39.000,2,    2.800,2, -999.000
           NA,HOT timeseries 1988to2019 27SEP2021,    145,  99,-999.0,      40,-999.0,20030619,1802,  22.7417, -158.0088,  4722, 2400.300,    1.786,   34.647,2,   34.646,2,  104.000,2,  104.400,2,  158.250,2,   38.920,2,    2.780,2, -999.000
           NA,HOT timeseries 1988to2019 27SEP2021,    145,  99,-999.0,      13,-999.0,20030619,1802,  22.7417, -158.0088,  4722, 2599.800,    1.679,   34.658,2,   34.659,2,  112.000,2,  112.300,2,  158.990,2,   38.310,2,    2.710,2, -999.000
           NA,HOT timeseries 1988to2019 27SEP2021,    145,  99,-999.0,      12,-999.0,20030619,1802,  22.7417, -158.0088,  4722, 2800.600,    1.601,   34.665,2,   34.665,2,  118.000,2,  118.300,2,  160.040,2, -999.000,3,    2.680,2, -999.000
           NA,HOT timeseries 1988to2019 27SEP2021,    145,  99,-999.0,      39,-999.0,20030619,1802,  22.7417, -158.0088,  4722, 3000.200,    1.535,   34.672,2,   34.673,2,  125.500,2,  125.700,2,  160.140,2,   37.630,2,    2.640,2, -999.000
           NA,HOT timeseries 1988to2019 27SEP2021,    145,  99,-999.0,      32,-999.0,20030619,1802,  22.7417, -158.0088,  4722, 3199.700,    1.499,   34.677,2,   34.678,2,  132.600,2,  132.700,2,  157.820,2,   37.180,2,    2.610,2, -999.000
           NA,HOT timeseries 1988to2019 27SEP2021,    145,  99,-999.0,       3,-999.0,20030619,1802,  22.7417, -158.0088,  4722, 3400.800,    1.463,   34.682,2,   34.682,2,  138.900,2,  139.300,2,  155.180,2,   37.100,2,    2.580,2, -999.000
           NA,HOT timeseries 1988to2019 27SEP2021,    145,  99,-999.0,      29,-999.0,20030619,1802,  22.7417, -158.0088,  4722, 3600.300,    1.453,   34.685,2,   34.685,2,  143.100,2,  142.900,2,  154.790,2,   36.720,2,    2.560,2, -999.000
           NA,HOT timeseries 1988to2019 27SEP2021,    145,  99,-999.0,      28,-999.0,20030619,1802,  22.7417, -158.0088,  4722, 3800.000,    1.448,   34.687,2,   34.686,2,  146.500,2,  146.700,2,  153.030,2,   36.350,2,    2.530,2, -999.000
           NA,HOT timeseries 1988to2019 27SEP2021,    145,  99,-999.0,       7,-999.0,20030619,1802,  22.7417, -158.0088,  4722, 4001.100,    1.454,   34.688,2,   34.687,2,  148.800,2,  148.600,2,  151.840,2,   36.160,2,    2.530,2, -999.000
           NA,HOT timeseries 1988to2019 27SEP2021,    145,  99,-999.0,      38,-999.0,20030619,1802,  22.7417, -158.0088,  4722, 4200.700,    1.464,   34.689,2,   34.689,2,  151.000,2,  150.700,2,  151.520,2,   35.740,2,    2.520,2, -999.000
           NA,HOT timeseries 1988to2019 27SEP2021,    145,  99,-999.0,      36,-999.0,20030619,1802,  22.7417, -158.0088,  4722, 4400.200,    1.478,   34.690,2,   34.693,2,  152.200,2,  152.000,2,  150.100,2,   35.740,2,    2.500,2, -999.000
           NA,HOT timeseries 1988to2019 27SEP2021,    145,  99,-999.0,      35,-999.0,20030619,1802,  22.7417, -158.0088,  4722, 4500.600,    1.487,   34.690,2,   34.689,2,  152.700,2,  152.700,2,  149.890,2,   35.660,2,    2.500,2, -999.000
           NA,HOT timeseries 1988to2019 27SEP2021,    145,  99,-999.0,      34,-999.0,20030619,1802,  22.7417, -158.0088,  4722, 4599.600,    1.497,   34.691,2,   34.691,2,  152.800,2,  152.500,2,  149.570,2,   35.660,2, -999.000,3, -999.000
           NA,HOT timeseries 1988to2019 27SEP2021,    145,  99,-999.0,      33,-999.0,20030619,1802,  22.7417, -158.0088,  4722, 4805.300,    1.522,   34.690,2, -999.000,3, -999.000,3,  152.800,2,  149.460,2,   35.740,2,    2.490,2, -999.000