BOTTLE,20214727JOAExport
EXPOCODE,SECT_ID,STNNBR,CASTNO,SAMPNO,BTLNBR,BTLNBR_FLAG_W,DATE,TIME,LATITUDE,LONGITUDE,DEPTH,CTDPRS,CTDTMP,CTDSAL,CTDSAL_FLAG_W,SALNTY,SALNTY_FLAG_W,CTDOXY,CTDOXY_FLAG_W,OXYGEN,OXYGEN_FLAG_W,SILCAT,SILCAT_FLAG_W,NINI,NINI_FLAG_W,PHSPHT,PHSPHT_FLAG_W,REVP
,,,,,,,,,,,,DB,IPTS-68,PSS-78,,PSS-78,,UMOL/KG,,UMOL/KG,,UMOL/KG,,UMOL/KG,,UMOL/KG,,DBAR
           NA,HOT timeseries 1988to2019 27SEP2021,    104,  99,-999.0,      31,-999.0,19991014,1956,  22.7527, -158.0012,  4723,    4.300,   25.815,   35.172,2,   35.174,2,  204.600,2,  205.900,2,    1.250,2,    0.000,2,    0.090,2, -999.000
           NA,HOT timeseries 1988to2019 27SEP2021,    104,  99,-999.0,      31,-999.0,19991014,1956,  22.7527, -158.0012,  4723,    4.800,   25.804,   35.192,2,   35.193,2,  205.100,2,  205.100,2,    1.410,2,    0.000,2,    0.090,2, -999.000
           NA,HOT timeseries 1988to2019 27SEP2021,    104,  99,-999.0,      30,-999.0,19991014,1956,  22.7527, -158.0012,  4723,   39.300,   25.762,   35.171,2,   35.176,2,  206.300,2,  205.800,2,    1.230,2,    0.000,2,    0.130,2, -999.000
           NA,HOT timeseries 1988to2019 27SEP2021,    104,  99,-999.0,      22,-999.0,19991014,1956,  22.7527, -158.0012,  4723,   79.800,   25.163,   35.204,2,   35.200,2,  208.400,2,  211.100,2,    1.290,2,    0.000,2,    0.140,2, -999.000
           NA,HOT timeseries 1988to2019 27SEP2021,    104,  99,-999.0,      21,-999.0,19991014,1956,  22.7527, -158.0012,  4723,   98.900,   23.789,   35.256,2,   35.259,2,  212.400,2,  215.700,2,    1.360,2,    0.000,2,    0.100,2, -999.000
           NA,HOT timeseries 1988to2019 27SEP2021,    104,  99,-999.0,      20,-999.0,19991014,1956,  22.7527, -158.0012,  4723,  137.000,   22.230,   35.227,2,   35.230,2,  200.900,2,  204.400,2,    1.890,2,    0.470,2,    0.170,2, -999.000
           NA,HOT timeseries 1988to2019 27SEP2021,    104,  99,-999.0,      19,-999.0,19991014,1956,  22.7527, -158.0012,  4723,  195.700,   19.590,   35.136,2,   35.137,2,  194.100,2,  198.200,2,    3.440,2,    1.980,2,    0.210,2, -999.000
           NA,HOT timeseries 1988to2019 27SEP2021,    104,  99,-999.0,      18,-999.0,19991014,1956,  22.7527, -158.0012,  4723,  224.800,   17.773,   34.857,2,   34.854,2,  191.200,2,  194.200,2,    3.510,2,    3.570,2,    0.320,2, -999.000
           NA,HOT timeseries 1988to2019 27SEP2021,    104,  99,-999.0,      16,-999.0,19991014,1956,  22.7527, -158.0012,  4723,  299.900,   14.077,   34.387,2,   34.387,2,  197.900,2,  201.800,2,    6.660,2,    6.830,2,    0.550,2, -999.000
           NA,HOT timeseries 1988to2019 27SEP2021,    104,  99,-999.0,      15,-999.0,19991014,1956,  22.7527, -158.0012,  4723,  339.000,   12.200,   34.262,2,   34.264,2,  208.600,2,  206.600,2,   10.020,2,   10.200,2,    0.790,2, -999.000
           NA,HOT timeseries 1988to2019 27SEP2021,    104,  99,-999.0,      14,-999.0,19991014,1956,  22.7527, -158.0012,  4723,  399.800,   10.252,   34.119,2,   34.122,2,  176.500,2,  175.100,2,   18.750,2,   17.130,2,    1.300,2, -999.000
           NA,HOT timeseries 1988to2019 27SEP2021,    104,  99,-999.0,      13,-999.0,19991014,1956,  22.7527, -158.0012,  4723,  454.300,    8.770,   34.077,2,   34.079,2,  163.500,2,  165.200,2,   27.630,2,   21.480,2,    1.550,2, -999.000
           NA,HOT timeseries 1988to2019 27SEP2021,    104,  99,-999.0,      12,-999.0,19991014,1956,  22.7527, -158.0012,  4723,  518.800,    7.457,   34.044,2,   34.043,2,  142.600,2,  138.600,2,   40.840,2,   26.560,2,    1.940,2, -999.000
           NA,HOT timeseries 1988to2019 27SEP2021,    104,  99,-999.0,      11,-999.0,19991014,1956,  22.7527, -158.0012,  4723,  565.800,    6.658,   34.059,2,   34.058,2,  101.300,2,   99.400,2,   52.890,2,   31.490,2,    2.310,2, -999.000
           NA,HOT timeseries 1988to2019 27SEP2021,    104,  99,-999.0,      32,-999.0,19991014,1956,  22.7527, -158.0012,  4723,  613.000,    6.099,   34.112,2,   34.110,2,   71.100,2,   70.100,2,   64.430,2,   34.950,2,    2.580,2, -999.000
           NA,HOT timeseries 1988to2019 27SEP2021,    104,  99,-999.0,       3,-999.0,19991014,1956,  22.7527, -158.0012,  4723,  664.700,    5.629,   34.159,2,   34.159,2,   54.900,2,   53.900,2,   74.430,2,   37.240,2,    2.750,2, -999.000
           NA,HOT timeseries 1988to2019 27SEP2021,    104,  99,-999.0,      29,-999.0,19991014,1956,  22.7527, -158.0012,  4723,  690.200,    5.409,   34.190,2,   34.190,2,   48.800,2,   44.700,2,   79.400,2,   38.680,2,    2.820,2, -999.000
           NA,HOT timeseries 1988to2019 27SEP2021,    104,  99,-999.0,      28,-999.0,19991014,1956,  22.7527, -158.0012,  4723,  729.400,    5.069,   34.225,2,   34.226,2,   34.000,2,   33.500,2,   86.920,2,   40.090,2,    2.940,2, -999.000
           NA,HOT timeseries 1988to2019 27SEP2021,    104,  99,-999.0,       7,-999.0,19991014,1956,  22.7527, -158.0012,  4723,  761.000,    4.977,   34.277,2,   34.274,2,   32.500,2,   31.300,2,   89.900,2,   40.380,2,    2.970,2, -999.000
           NA,HOT timeseries 1988to2019 27SEP2021,    104,  99,-999.0,      38,-999.0,19991014,1956,  22.7527, -158.0012,  4723,  800.200,    4.903,   34.353,2,   34.353,2,   33.300,2,   31.900,2,   92.080,2,   40.640,2,    2.990,2, -999.000
           NA,HOT timeseries 1988to2019 27SEP2021,    104,  99,-999.0,      35,-999.0,19991014,1956,  22.7527, -158.0012,  4723,  919.200,    4.172,   34.445,2,   34.447,2,   38.800,2,   37.900,2,  106.480,2,   41.410,2,    3.020,2, -999.000
           NA,HOT timeseries 1988to2019 27SEP2021,    104,  99,-999.0,      34,-999.0,19991014,1956,  22.7527, -158.0012,  4723,  980.000,    3.994,   34.467,2,   34.467,2,   41.500,2,   41.000,2,  111.210,2,   41.480,2,    3.030,2, -999.000
           NA,HOT timeseries 1988to2019 27SEP2021,    104,  99,-999.0,      33,-999.0,19991014,1956,  22.7527, -158.0012,  4723, 1023.000,    3.899,   34.481,2,   34.481,2,   44.000,2,   42.900,2,  112.130,2,   41.420,2,    3.030,2, -999.000
           NA,HOT timeseries 1988to2019 27SEP2021,    104,  99,-999.0,      20,-999.0,19991014,1956,  22.7527, -158.0012,  4723, 1202.700,    3.521,   34.525,2,   34.526,2,   53.100,2,   52.300,2,  119.680,2,   41.120,2,    2.930,2, -999.000
           NA,HOT timeseries 1988to2019 27SEP2021,    104,  99,-999.0,      19,-999.0,19991014,1956,  22.7527, -158.0012,  4723, 1400.200,    3.039,   34.557,2,   34.557,2,   61.300,2,   62.000,2,  129.930,2,   40.780,2,    2.890,2, -999.000
           NA,HOT timeseries 1988to2019 27SEP2021,    104,  99,-999.0,      18,-999.0,19991014,1956,  22.7527, -158.0012,  4723, 1601.200,    2.659,   34.580,2,   34.581,2,   70.200,2,   70.500,2,  138.940,2,   40.440,2,    2.870,2, -999.000
           NA,HOT timeseries 1988to2019 27SEP2021,    104,  99,-999.0,      17,-999.0,19991014,1956,  22.7527, -158.0012,  4723, 1800.300,    2.381,   34.599,2,   34.600,2,   78.400,2,   78.000,2,  147.710,2,   40.210,2,    2.830,2, -999.000
           NA,HOT timeseries 1988to2019 27SEP2021,    104,  99,-999.0,      16,-999.0,19991014,1956,  22.7527, -158.0012,  4723, 2000.200,    2.132,   34.616,2,   34.618,2,   85.200,2,   85.700,2,  151.640,2,   39.630,2,    2.780,2, -999.000
           NA,HOT timeseries 1988to2019 27SEP2021,    104,  99,-999.0,      15,-999.0,19991014,1956,  22.7527, -158.0012,  4723, 2202.000,    1.963,   34.631,2,   34.631,2,   94.200,2,   93.900,2,  154.580,2,   39.170,2,    2.750,2, -999.000
           NA,HOT timeseries 1988to2019 27SEP2021,    104,  99,-999.0,      14,-999.0,19991014,1956,  22.7527, -158.0012,  4723, 2399.900,    1.831,   34.642,2, -999.000,4, -999.000,3,  101.500,2,  157.630,2,   38.780,2,    2.710,2, -999.000
           NA,HOT timeseries 1988to2019 27SEP2021,    104,  99,-999.0,      13,-999.0,19991014,1956,  22.7527, -158.0012,  4723, 2600.400,    1.725,   34.652,2,   34.653,2,  107.600,2,  109.000,2,  157.930,2,   38.410,2,    2.680,2, -999.000
           NA,HOT timeseries 1988to2019 27SEP2021,    104,  99,-999.0,      12,-999.0,19991014,1956,  22.7527, -158.0012,  4723, 2800.600,    1.645,   34.660,2,   34.660,2,  116.100,2,  115.000,2,  158.590,2,   38.060,2,    2.660,2, -999.000
           NA,HOT timeseries 1988to2019 27SEP2021,    104,  99,-999.0,      11,-999.0,19991014,1956,  22.7527, -158.0012,  4723, 3000.800,    1.587,   34.667,2,   34.667,2,  120.000,2,  121.500,2,  158.890,2,   37.550,2,    2.610,2, -999.000
           NA,HOT timeseries 1988to2019 27SEP2021,    104,  99,-999.0,      32,-999.0,19991014,1956,  22.7527, -158.0012,  4723, 3199.600,    1.541,   34.672,2,   34.673,2,  126.500,2,  126.700,2,  158.960,2,   37.120,2,    2.590,2, -999.000
           NA,HOT timeseries 1988to2019 27SEP2021,    104,  99,-999.0,       3,-999.0,19991014,1956,  22.7527, -158.0012,  4723, 3400.600,    1.509,   34.676,2,   34.677,2,  131.300,2,  132.600,2,  157.750,2,   36.910,2,    2.550,2, -999.000
           NA,HOT timeseries 1988to2019 27SEP2021,    104,  99,-999.0,      29,-999.0,19991014,1956,  22.7527, -158.0012,  4723, 3599.800,    1.482,   34.681,2,   34.680,2,  137.100,2,  138.700,2,  155.800,2,   36.640,2,    2.530,2, -999.000
           NA,HOT timeseries 1988to2019 27SEP2021,    104,  99,-999.0,      28,-999.0,19991014,1956,  22.7527, -158.0012,  4723, 3799.000,    1.468,   34.684,2,   34.683,2,  142.200,2,  142.900,2,  154.520,2,   36.600,2,    2.510,2, -999.000
           NA,HOT timeseries 1988to2019 27SEP2021,    104,  99,-999.0,       7,-999.0,19991014,1956,  22.7527, -158.0012,  4723, 4000.900,    1.463,   34.686,2,   34.686,2,  146.600,2,  146.800,2,  151.980,2,   36.010,2,    2.500,2, -999.000
           NA,HOT timeseries 1988to2019 27SEP2021,    104,  99,-999.0,      38,-999.0,19991014,1956,  22.7527, -158.0012,  4723, 4200.300,    1.466,   34.688,2,   34.688,2,  150.000,2,  149.600,2,  151.110,2,   35.760,2,    2.480,2, -999.000
           NA,HOT timeseries 1988to2019 27SEP2021,    104,  99,-999.0,      36,-999.0,19991014,1956,  22.7527, -158.0012,  4723, 4399.400,    1.477,   34.689,2,   34.688,2,  152.300,2,  151.200,2,  149.270,2,   35.590,2,    2.480,2, -999.000
           NA,HOT timeseries 1988to2019 27SEP2021,    104,  99,-999.0,      35,-999.0,19991014,1956,  22.7527, -158.0012,  4723, 4500.200,    1.486,   34.689,2,   34.688,2,  152.500,2,  151.600,2,  148.950,2, -999.000,3,    2.480,2, -999.000
           NA,HOT timeseries 1988to2019 27SEP2021,    104,  99,-999.0,      34,-999.0,19991014,1956,  22.7527, -158.0012,  4723, 4598.100,    1.495,   34.689,2,   34.688,2,  153.600,2,  152.300,2, -999.000,3,   35.750,2, -999.000,3, -999.000
           NA,HOT timeseries 1988to2019 27SEP2021,    104,  99,-999.0,      33,-999.0,19991014,1956,  22.7527, -158.0012,  4723, 4800.100,    1.502,   34.691,2,   34.690,2,  156.200,2,  156.200,2,  147.400,2,   35.680,2,    2.460,2, -999.000