BOTTLE,20214727JOAExport
EXPOCODE,SECT_ID,STNNBR,CASTNO,SAMPNO,BTLNBR,BTLNBR_FLAG_W,DATE,TIME,LATITUDE,LONGITUDE,DEPTH,CTDPRS,CTDTMP,CTDSAL,CTDSAL_FLAG_W,SALNTY,SALNTY_FLAG_W,CTDOXY,CTDOXY_FLAG_W,OXYGEN,OXYGEN_FLAG_W,SILCAT,SILCAT_FLAG_W,NINI,NINI_FLAG_W,PHSPHT,PHSPHT_FLAG_W,REVP
,,,,,,,,,,,,DB,IPTS-68,PSS-78,,PSS-78,,UMOL/KG,,UMOL/KG,,UMOL/KG,,UMOL/KG,,UMOL/KG,,DBAR
           NA,HOT timeseries 1988to2019 27SEP2021,    225,  99,-999.0,    8024,-999.0,20120501,1604,  22.7100, -158.0057,  4708,    4.500,   23.452,   35.128,2,   35.129,2,  214.600,2, -999.000,3,    1.210,2,    0.000,2,    0.140,2, -999.000
           NA,HOT timeseries 1988to2019 27SEP2021,    225,  99,-999.0,    8024,-999.0,20120501,1604,  22.7100, -158.0057,  4708,    6.400,   23.507,   35.125,2,   35.125,2,  214.300,2,  214.000,2,    1.180,2,    0.030,2,    0.150,2, -999.000
           NA,HOT timeseries 1988to2019 27SEP2021,    225,  99,-999.0,    8023,-999.0,20120501,1604,  22.7100, -158.0057,  4708,   16.500,   23.498,   35.125,2,   35.125,2,  214.200,2,  214.500,2, -999.000,4,    0.010,2,    0.150,2, -999.000
           NA,HOT timeseries 1988to2019 27SEP2021,    225,  99,-999.0,    8022,-999.0,20120501,1604,  22.7100, -158.0057,  4708,   58.200,   23.445,   35.124,2,   35.124,2,  215.000,2,  214.000,2,    1.090,2,    0.020,2,    0.150,2, -999.000
           NA,HOT timeseries 1988to2019 27SEP2021,    225,  99,-999.0,    8021,-999.0,20120501,1604,  22.7100, -158.0057,  4708,  100.200,   23.351,   35.124,2,   35.122,2,  214.500,2,  213.400,2,    1.730,2,    0.030,2,    0.140,2, -999.000
           NA,HOT timeseries 1988to2019 27SEP2021,    225,  99,-999.0,    8020,-999.0,20120501,1604,  22.7100, -158.0057,  4708,  139.700,   22.585,   35.234,2,   35.232,2,  204.700,2,  206.300,2,    1.150,2,    0.230,2,    0.130,2, -999.000
           NA,HOT timeseries 1988to2019 27SEP2021,    225,  99,-999.0,    8019,-999.0,20120501,1604,  22.7100, -158.0057,  4708,  179.900,   22.044,   35.303,2,   35.318,2,  213.400,2,  209.000,2,    1.130,2,    0.250,2,    0.120,2, -999.000
           NA,HOT timeseries 1988to2019 27SEP2021,    225,  99,-999.0,    8018,-999.0,20120501,1604,  22.7100, -158.0057,  4708,  233.000,   19.199,   34.929,2,   34.936,2,  187.700,2,  186.000,2,    2.580,2,    3.010,2,    0.310,2, -999.000
           NA,HOT timeseries 1988to2019 27SEP2021,    225,  99,-999.0,    8017,-999.0,20120501,1604,  22.7100, -158.0057,  4708,  258.800,   16.442,   34.603,2,   34.621,2,  188.600,2,  188.200,2,    4.590,2,    5.170,2,    0.430,2, -999.000
           NA,HOT timeseries 1988to2019 27SEP2021,    225,  99,-999.0,    8016,-999.0,20120501,1604,  22.7100, -158.0057,  4708,  311.400,   12.039,   34.187,2,   34.189,2,  165.200,2, -999.000,3,   14.020,2,   14.930,2,    1.160,2, -999.000
           NA,HOT timeseries 1988to2019 27SEP2021,    225,  99,-999.0,    8015,-999.0,20120501,1604,  22.7100, -158.0057,  4708,  341.200,   10.414,   34.127,2,   34.131,2,  176.200,2,  170.300,2,   19.140,2,   17.560,2,    1.290,2, -999.000
           NA,HOT timeseries 1988to2019 27SEP2021,    225,  99,-999.0,    8014,-999.0,20120501,1604,  22.7100, -158.0057,  4708,  362.000,    9.695,   34.112,2,   34.112,2,  133.400,2,  132.900,2,   25.870,2,   22.270,2,    1.660,2, -999.000
           NA,HOT timeseries 1988to2019 27SEP2021,    225,  99,-999.0,    8025,-999.0,20120501,1604,  22.7100, -158.0057,  4708,  393.300,    9.175,   34.144,2,   34.143,2,   68.100,2,   68.400,2,   34.530,2,   28.650,2,    2.220,2, -999.000
           NA,HOT timeseries 1988to2019 27SEP2021,    225,  99,-999.0,    8012,-999.0,20120501,1604,  22.7100, -158.0057,  4708,  438.800,    8.923,   34.215,2,   34.216,2,   40.100,2,   37.600,2,   40.050,2,   31.290,2,    2.500,2, -999.000
           NA,HOT timeseries 1988to2019 27SEP2021,    225,  99,-999.0,    8011,-999.0,20120501,1604,  22.7100, -158.0057,  4708,  486.600,    8.476,   34.265,2,   34.263,2,   30.900,2,   29.700,2,   45.600,2,   32.270,2,    2.610,2, -999.000
           NA,HOT timeseries 1988to2019 27SEP2021,    225,  99,-999.0,    8009,-999.0,20120501,1604,  22.7100, -158.0057,  4708,  625.100,    6.978,   34.246,2,   34.246,2,   25.900,2,   26.000,2,   60.890,2,   35.760,2,    2.800,2, -999.000
           NA,HOT timeseries 1988to2019 27SEP2021,    225,  99,-999.0,    8005,-999.0,20120501,1604,  22.7100, -158.0057,  4708,  776.100,    5.055,   34.343,2,   34.343,2,   37.500,2,   37.300,2,   88.790,2,   39.850,2,    2.900,2, -999.000
           NA,HOT timeseries 1988to2019 27SEP2021,    225,  99,-999.0,    8004,-999.0,20120501,1604,  22.7100, -158.0057,  4708,  834.700,    4.876,   34.371,2,   34.371,2,   37.500,2,   38.300,2,   93.290,2,   40.420,2,    2.930,2, -999.000
           NA,HOT timeseries 1988to2019 27SEP2021,    225,  99,-999.0,    8003,-999.0,20120501,1604,  22.7100, -158.0057,  4708,  893.900,    4.437,   34.396,2,   34.396,2,   33.600,2,   33.600,2,  100.420,2,   41.400,2,    3.000,2, -999.000
           NA,HOT timeseries 1988to2019 27SEP2021,    225,  99,-999.0,    8002,-999.0,20120501,1604,  22.7100, -158.0057,  4708,  957.000,    4.265,   34.428,2,   34.428,2,   35.500,2,   35.700,2,  103.730,2,   41.370,2,    2.990,2, -999.000
           NA,HOT timeseries 1988to2019 27SEP2021,    225,  99,-999.0,    8001,-999.0,20120501,1604,  22.7100, -158.0057,  4708, 1017.400,    4.113,   34.456,2,   34.457,2,   41.200,2,   41.700,2,  106.060,2,   41.310,2,    2.990,2, -999.000
           NA,HOT timeseries 1988to2019 27SEP2021,    225,  99,-999.0,    8020,-999.0,20120501,1604,  22.7100, -158.0057,  4708, 1200.800,    3.630,   34.518,2,   34.518,2,   52.600,2,   51.700,2,  117.610,2,   40.750,2,    2.950,2, -999.000
           NA,HOT timeseries 1988to2019 27SEP2021,    225,  99,-999.0,    8019,-999.0,20120501,1604,  22.7100, -158.0057,  4708, 1405.400,    3.147,   34.554,2,   34.554,2,   60.900,2,   60.800,2,  127.200,2,   40.680,2,    2.940,2, -999.000
           NA,HOT timeseries 1988to2019 27SEP2021,    225,  99,-999.0,    8018,-999.0,20120501,1604,  22.7100, -158.0057,  4708, 1596.800,    2.785,   34.576,2,   34.576,2,   69.400,2,   69.500,2,  134.420,2,   40.240,2,    2.910,2, -999.000
           NA,HOT timeseries 1988to2019 27SEP2021,    225,  99,-999.0,    8017,-999.0,20120501,1604,  22.7100, -158.0057,  4708, 1801.000,    2.456,   34.597,2,   34.597,2,   77.000,2,   78.300,2,  142.160,2,   39.980,2,    2.910,2, -999.000
           NA,HOT timeseries 1988to2019 27SEP2021,    225,  99,-999.0,    8016,-999.0,20120501,1604,  22.7100, -158.0057,  4708, 2000.200,    2.213,   34.612,2,   34.613,2,   85.500,2,   86.800,2,  148.280,2,   39.520,2,    2.840,2, -999.000
           NA,HOT timeseries 1988to2019 27SEP2021,    225,  99,-999.0,    8015,-999.0,20120501,1604,  22.7100, -158.0057,  4708, 2195.500,    1.995,   34.626,2,   34.626,2,   89.700,2,   89.800,2,  154.340,2,   39.340,2,    2.800,2, -999.000
           NA,HOT timeseries 1988to2019 27SEP2021,    225,  99,-999.0,    8014,-999.0,20120501,1604,  22.7100, -158.0057,  4708, 2400.000,    1.830,   34.642,2,   34.641,2,  101.100,2,  102.200,2,  155.080,2,   38.460,2,    2.740,2, -999.000
           NA,HOT timeseries 1988to2019 27SEP2021,    225,  99,-999.0,    8025,-999.0,20120501,1604,  22.7100, -158.0057,  4708, 2597.700,    1.729,   34.651,2,   34.650,2,  106.700,2,  107.700,2,  158.620,2,   38.290,2,    2.720,2, -999.000
           NA,HOT timeseries 1988to2019 27SEP2021,    225,  99,-999.0,    8012,-999.0,20120501,1604,  22.7100, -158.0057,  4708, 2800.100,    1.650,   34.659,2,   34.659,2,  113.300,2,  113.700,2,  159.610,2,   37.910,2,    2.680,2, -999.000
           NA,HOT timeseries 1988to2019 27SEP2021,    225,  99,-999.0,    8011,-999.0,20120501,1604,  22.7100, -158.0057,  4708, 3001.900,    1.582,   34.666,2,   34.665,2,  120.000,2,  120.200,2,  159.470,2,   37.400,2,    2.650,2, -999.000
           NA,HOT timeseries 1988to2019 27SEP2021,    225,  99,-999.0,    8010,-999.0,20120501,1604,  22.7100, -158.0057,  4708, 3200.100,    1.531,   34.672,2,   34.672,2,  127.500,2,  127.300,2,  157.940,2,   36.920,2,    2.600,2, -999.000
           NA,HOT timeseries 1988to2019 27SEP2021,    225,  99,-999.0,    8009,-999.0,20120501,1604,  22.7100, -158.0057,  4708, 3401.100,    1.506,   34.676,2,   34.676,2,  133.000,2,  132.300,2,  156.740,2,   36.720,2,    2.570,2, -999.000
           NA,HOT timeseries 1988to2019 27SEP2021,    225,  99,-999.0,    8008,-999.0,20120501,1604,  22.7100, -158.0057,  4708, 3598.700,    1.490,   34.679,2,   34.680,2,  137.100,2,  136.800,2,  156.120,2,   36.530,2,    2.560,2, -999.000
           NA,HOT timeseries 1988to2019 27SEP2021,    225,  99,-999.0,    8026,-999.0,20120501,1604,  22.7100, -158.0057,  4708, 3799.700,    1.474,   34.682,2,   34.682,2,  142.100,2,  141.200,2,  153.230,2,   36.120,2,    2.540,2, -999.000
           NA,HOT timeseries 1988to2019 27SEP2021,    225,  99,-999.0,    8006,-999.0,20120501,1604,  22.7100, -158.0057,  4708, 3999.900,    1.467,   34.684,2,   34.684,2,  145.900,2,  145.100,2,  151.310,2,   35.850,2,    2.530,2, -999.000
           NA,HOT timeseries 1988to2019 27SEP2021,    225,  99,-999.0,    8005,-999.0,20120501,1604,  22.7100, -158.0057,  4708, 4201.300,    1.469,   34.686,2,   34.686,2,  148.900,2,  148.100,2,  149.740,2,   35.690,2,    2.500,2, -999.000
           NA,HOT timeseries 1988to2019 27SEP2021,    225,  99,-999.0,    8004,-999.0,20120501,1604,  22.7100, -158.0057,  4708, 4398.300,    1.479,   34.687,2,   34.688,2,  150.700,2,  150.500,2,  149.340,2,   35.410,2,    2.500,2, -999.000
           NA,HOT timeseries 1988to2019 27SEP2021,    225,  99,-999.0,    8003,-999.0,20120501,1604,  22.7100, -158.0057,  4708, 4499.800,    1.486,   34.688,2,   34.688,2,  151.400,2,  151.600,2,  148.300,2,   35.560,2,    2.510,2, -999.000
           NA,HOT timeseries 1988to2019 27SEP2021,    225,  99,-999.0,    8002,-999.0,20120501,1604,  22.7100, -158.0057,  4708, 4597.600,    1.493,   34.688,2,   34.688,2,  152.000,2,  152.200,2,  147.930,2,   35.420,2,    2.500,2, -999.000
           NA,HOT timeseries 1988to2019 27SEP2021,    225,  99,-999.0,    8001,-999.0,20120501,1604,  22.7100, -158.0057,  4708, 4802.700,    1.513,   34.688,2,   34.688,2,  152.200,2,  153.400,2,  147.430,2,   35.290,2,    2.480,2, -999.000