BOTTLE,20214727JOAExport
EXPOCODE,SECT_ID,STNNBR,CASTNO,SAMPNO,BTLNBR,BTLNBR_FLAG_W,DATE,TIME,LATITUDE,LONGITUDE,DEPTH,CTDPRS,CTDTMP,CTDSAL,CTDSAL_FLAG_W,SALNTY,SALNTY_FLAG_W,CTDOXY,CTDOXY_FLAG_W,OXYGEN,OXYGEN_FLAG_W,SILCAT,SILCAT_FLAG_W,NINI,NINI_FLAG_W,PHSPHT,PHSPHT_FLAG_W,REVP
,,,,,,,,,,,,DB,IPTS-68,PSS-78,,PSS-78,,UMOL/KG,,UMOL/KG,,UMOL/KG,,UMOL/KG,,UMOL/KG,,DBAR
           NA,HOT timeseries 1988to2019 27SEP2021,     89,  99,-999.0,      31,-999.0,19980512,1802,  22.7383, -158.0080,  4719,    5.200,   23.077,   35.276,2,   35.275,2,  214.700,2,  214.500,2,    1.340,2,    0.000,2,    0.080,2, -999.000
           NA,HOT timeseries 1988to2019 27SEP2021,     89,  99,-999.0,      30,-999.0,19980512,1802,  22.7383, -158.0080,  4719,   50.000,   22.473,   35.322,2,   35.321,2,  217.600,2,  217.400,2,    1.380,2,    0.000,2,    0.070,2, -999.000
           NA,HOT timeseries 1988to2019 27SEP2021,     89,  99,-999.0,      22,-999.0,19980512,1802,  22.7383, -158.0080,  4719,   92.500,   22.160,   35.293,2,   35.297,2,  216.000,2,  217.600,2,    1.320,2,    0.010,2,    0.070,2, -999.000
           NA,HOT timeseries 1988to2019 27SEP2021,     89,  99,-999.0,      30,-999.0,19980512,1802,  22.7383, -158.0080,  4719,  103.000,   21.915,   35.284,2,   35.284,2,  217.900,2,  217.200,2, -999.000,5, -999.000,5, -999.000,5, -999.000
           NA,HOT timeseries 1988to2019 27SEP2021,     89,  99,-999.0,      21,-999.0,19980512,1802,  22.7383, -158.0080,  4719,  126.200,   21.103,   35.221,2, -999.000,3, -999.000,3,  214.500,2,    1.550,2,    0.080,2,    0.090,2, -999.000
           NA,HOT timeseries 1988to2019 27SEP2021,     89,  99,-999.0,      20,-999.0,19980512,1802,  22.7383, -158.0080,  4719,  169.000,   19.792,   35.127,2,   35.127,2,  209.600,2,  208.800,2,    2.810,2,    0.870,2,    0.140,2, -999.000
           NA,HOT timeseries 1988to2019 27SEP2021,     89,  99,-999.0,      19,-999.0,19980512,1802,  22.7383, -158.0080,  4719,  200.000,   18.946,   35.028,2,   35.026,2,  203.200,2,  205.700,2,    2.480,2,    1.660,2,    0.200,2, -999.000
           NA,HOT timeseries 1988to2019 27SEP2021,     89,  99,-999.0,      18,-999.0,19980512,1802,  22.7383, -158.0080,  4719,  249.300,   15.582,   34.571,2,   34.590,2,  199.100,2,  200.800,2,    4.910,2,    4.740,2,    0.410,2, -999.000
           NA,HOT timeseries 1988to2019 27SEP2021,     89,  99,-999.0,      17,-999.0,19980512,1802,  22.7383, -158.0080,  4719,  275.700,   13.935,   34.402,2,   34.405,2,  201.400,2,  200.300,2,    7.760,2,    7.360,2,    0.580,2, -999.000
           NA,HOT timeseries 1988to2019 27SEP2021,     89,  99,-999.0,      16,-999.0,19980512,1802,  22.7383, -158.0080,  4719,  322.900,   11.598,   34.203,2,   34.203,2,  194.800,2,  191.800,2,   12.520,2,   12.680,2,    0.930,2, -999.000
           NA,HOT timeseries 1988to2019 27SEP2021,     89,  99,-999.0,      15,-999.0,19980512,1802,  22.7383, -158.0080,  4719,  372.700,   10.048,   34.119,2,   34.117,2,  179.100,2,  180.200,2,   19.890,2,   17.140,2,    1.240,2, -999.000
           NA,HOT timeseries 1988to2019 27SEP2021,     89,  99,-999.0,      22,-999.0,19980512,1802,  22.7383, -158.0080,  4719,  399.000,    9.238,   34.092,2,   34.092,2,  179.400,2,  174.300,2, -999.000,5, -999.000,5, -999.000,5, -999.000
           NA,HOT timeseries 1988to2019 27SEP2021,     89,  99,-999.0,      14,-999.0,19980512,1802,  22.7383, -158.0080,  4719,  413.400,    8.641,   34.077,2,   34.077,2,  163.900,2,  163.700,2, -999.000,4, -999.000,4, -999.000,4, -999.000
           NA,HOT timeseries 1988to2019 27SEP2021,     89,  99,-999.0,      13,-999.0,19980512,1802,  22.7383, -158.0080,  4719,  466.400,    7.609,   34.073,2,   34.072,2,  134.900,2,  132.000,2, -999.000,4, -999.000,4, -999.000,4, -999.000
           NA,HOT timeseries 1988to2019 27SEP2021,     89,  99,-999.0,      12,-999.0,19980512,1802,  22.7383, -158.0080,  4719,  487.200,    7.166,   34.066,2,   34.068,2,  117.500,2,  116.700,2,   46.020,2,   28.940,2,    2.100,2, -999.000
           NA,HOT timeseries 1988to2019 27SEP2021,     89,  99,-999.0,      11,-999.0,19980512,1802,  22.7383, -158.0080,  4719,  523.000,    6.695,   34.102,2,   34.104,2,   89.000,2,   89.000,2,   54.880,2,   32.250,2,    2.350,2, -999.000
           NA,HOT timeseries 1988to2019 27SEP2021,     89,  99,-999.0,      32,-999.0,19980512,1802,  22.7383, -158.0080,  4719,  571.700,    6.268,   34.143,2,   34.142,2,   69.100,2,   69.200,2,   62.580,2,   34.580,2,    2.550,2, -999.000
           NA,HOT timeseries 1988to2019 27SEP2021,     89,  99,-999.0,       3,-999.0,19980512,1802,  22.7383, -158.0080,  4719,  600.400,    6.080,   34.156,2,   34.156,2,   62.300,2,   61.500,2,   71.160,2,   36.900,2,    2.700,2, -999.000
           NA,HOT timeseries 1988to2019 27SEP2021,     89,  99,-999.0,      28,-999.0,19980512,1802,  22.7383, -158.0080,  4719,  688.800,    5.356,   34.241,2,   34.241,2,   40.900,2,   39.600,2,   80.450,2,   39.020,2,    2.830,2, -999.000
           NA,HOT timeseries 1988to2019 27SEP2021,     89,  99,-999.0,       7,-999.0,19980512,1802,  22.7383, -158.0080,  4719,  761.000,    4.677,   34.286,2,   34.285,2,   28.500,2,   28.800,2,   94.260,2,   41.070,2,    2.980,2, -999.000
           NA,HOT timeseries 1988to2019 27SEP2021,     89,  99,-999.0,      36,-999.0,19980512,1802,  22.7383, -158.0080,  4719,  848.200,    4.518,   34.400,2,   34.397,2,   32.200,2,   31.500,2,   98.580,2,   41.420,2,    3.030,2, -999.000
           NA,HOT timeseries 1988to2019 27SEP2021,     89,  99,-999.0,      35,-999.0,19980512,1802,  22.7383, -158.0080,  4719,  901.000,    4.326,   34.432,2,   34.431,2,   33.400,2,   32.900,2,  102.320,2,   41.820,2,    3.040,2, -999.000
           NA,HOT timeseries 1988to2019 27SEP2021,     89,  99,-999.0,      34,-999.0,19980512,1802,  22.7383, -158.0080,  4719,  970.900,    4.056,   34.469,2,   34.468,2,   40.400,2,   40.300,2,  107.770,2,   41.790,2,    2.990,2, -999.000
           NA,HOT timeseries 1988to2019 27SEP2021,     89,  99,-999.0,      33,-999.0,19980512,1802,  22.7383, -158.0080,  4719, 1021.700,    3.895,   34.486,2,   34.485,2,   43.600,2,   43.200,2,  110.580,2,   41.660,2,    3.020,2, -999.000
           NA,HOT timeseries 1988to2019 27SEP2021,     89,  99,-999.0,      20,-999.0,19980512,1802,  22.7383, -158.0080,  4719, 1198.400,    3.498,   34.529,2,   34.528,2,   51.300,2,   51.100,2,  118.950,2,   41.090,2, -999.000,3, -999.000
           NA,HOT timeseries 1988to2019 27SEP2021,     89,  99,-999.0,      19,-999.0,19980512,1802,  22.7383, -158.0080,  4719, 1402.100,    3.056,   34.560,2, -999.000,4, -999.000,3, -999.000,4, -999.000,4, -999.000,4, -999.000,4, -999.000
           NA,HOT timeseries 1988to2019 27SEP2021,     89,  99,-999.0,      18,-999.0,19980512,1802,  22.7383, -158.0080,  4719, 1600.000,    2.681,   34.584,2,   34.583,2,   70.000,2,   69.800,2,  137.390,2, -999.000,3,    2.910,2, -999.000
           NA,HOT timeseries 1988to2019 27SEP2021,     89,  99,-999.0,      17,-999.0,19980512,1802,  22.7383, -158.0080,  4719, 1800.300,    2.402,   34.601,2,   34.602,2,   77.500,2,   78.300,2,  143.330,2,   40.220,2,    2.880,2, -999.000
           NA,HOT timeseries 1988to2019 27SEP2021,     89,  99,-999.0,      16,-999.0,19980512,1802,  22.7383, -158.0080,  4719, 1999.500,    2.154,   34.618,2,   34.617,2,   85.900,2,   86.000,2,  149.340,2,   39.800,2,    2.840,2, -999.000
           NA,HOT timeseries 1988to2019 27SEP2021,     89,  99,-999.0,      15,-999.0,19980512,1802,  22.7383, -158.0080,  4719, 2198.800,    1.956,   34.632,2,   34.631,2,   93.800,2,   94.700,2,  153.480,2,   39.340,2,    2.800,2, -999.000
           NA,HOT timeseries 1988to2019 27SEP2021,     89,  99,-999.0,      14,-999.0,19980512,1802,  22.7383, -158.0080,  4719, 2398.900,    1.792,   34.646,2,   34.645,2,  102.600,2,  103.200,2,  156.160,2,   38.810,2,    2.740,2, -999.000
           NA,HOT timeseries 1988to2019 27SEP2021,     89,  99,-999.0,      13,-999.0,19980512,1802,  22.7383, -158.0080,  4719, 2599.600,    1.699,   34.655,2,   34.653,2,  110.200,2,  110.000,2,  157.340,2,   38.370,2,    2.700,2, -999.000
           NA,HOT timeseries 1988to2019 27SEP2021,     89,  99,-999.0,      12,-999.0,19980512,1802,  22.7383, -158.0080,  4719, 2801.600,    1.626,   34.662,2,   34.662,2,  115.800,2,  116.300,2,  157.620,2,   37.990,2,    2.650,2, -999.000
           NA,HOT timeseries 1988to2019 27SEP2021,     89,  99,-999.0,      11,-999.0,19980512,1802,  22.7383, -158.0080,  4719, 2998.400,    1.573,   34.668,2,   34.667,2,  121.800,2,  122.400,2,  156.660,2,   37.560,2,    2.640,2, -999.000
           NA,HOT timeseries 1988to2019 27SEP2021,     89,  99,-999.0,      32,-999.0,19980512,1802,  22.7383, -158.0080,  4719, 3202.600,    1.524,   34.674,2,   34.673,2,  128.800,2,  129.700,2,  156.940,2,   37.140,2,    2.620,2, -999.000
           NA,HOT timeseries 1988to2019 27SEP2021,     89,  99,-999.0,       3,-999.0,19980512,1802,  22.7383, -158.0080,  4719, 3399.200,    1.492,   34.678,2,   34.678,2,  134.600,2,  135.400,2,  154.920,2,   36.720,2,    2.580,2, -999.000
           NA,HOT timeseries 1988to2019 27SEP2021,     89,  99,-999.0,      29,-999.0,19980512,1802,  22.7383, -158.0080,  4719, 3598.600,    1.468,   34.682,2,   34.681,2,  140.300,2,  140.200,2,  153.440,2,   36.560,2,    2.570,2, -999.000
           NA,HOT timeseries 1988to2019 27SEP2021,     89,  99,-999.0,      28,-999.0,19980512,1802,  22.7383, -158.0080,  4719, 3798.900,    1.458,   34.685,2,   34.685,2,  144.300,2,  144.300,2,  151.880,2,   36.070,2,    2.540,2, -999.000
           NA,HOT timeseries 1988to2019 27SEP2021,     89,  99,-999.0,       7,-999.0,19980512,1802,  22.7383, -158.0080,  4719, 3999.500,    1.457,   34.687,2,   34.687,2,  147.600,2,  147.200,2,  150.690,2,   35.880,2,    2.520,2, -999.000
           NA,HOT timeseries 1988to2019 27SEP2021,     89,  99,-999.0,      38,-999.0,19980512,1802,  22.7383, -158.0080,  4719, 4199.500,    1.466,   34.688,2,   34.687,2,  150.200,2,  150.100,2,  149.350,2,   35.760,2,    2.490,2, -999.000
           NA,HOT timeseries 1988to2019 27SEP2021,     89,  99,-999.0,      36,-999.0,19980512,1802,  22.7383, -158.0080,  4719, 4399.300,    1.478,   34.689,2,   34.688,2,  151.600,2,  151.600,2,  148.180,2,   35.790,2,    2.470,2, -999.000
           NA,HOT timeseries 1988to2019 27SEP2021,     89,  99,-999.0,      35,-999.0,19980512,1802,  22.7383, -158.0080,  4719, 4498.300,    1.486,   34.689,2,   34.688,2,  152.500,2,  151.900,2,  148.710,2,   35.730,2,    2.480,2, -999.000
           NA,HOT timeseries 1988to2019 27SEP2021,     89,  99,-999.0,      34,-999.0,19980512,1802,  22.7383, -158.0080,  4719, 4601.400,    1.494,   34.690,2,   34.688,2,  153.500,2,  152.400,2,  147.170,2,   35.750,2,    2.480,2, -999.000
           NA,HOT timeseries 1988to2019 27SEP2021,     89,  99,-999.0,      33,-999.0,19980512,1802,  22.7383, -158.0080,  4719, 4794.500,    1.514,   34.690,2,   34.690,2,  153.600,2,  153.700,2,  148.800,2,   35.700,2,    2.470,2, -999.000