BOTTLE,20214727JOAExport
EXPOCODE,SECT_ID,STNNBR,CASTNO,SAMPNO,BTLNBR,BTLNBR_FLAG_W,DATE,TIME,LATITUDE,LONGITUDE,DEPTH,CTDPRS,CTDTMP,CTDSAL,CTDSAL_FLAG_W,SALNTY,SALNTY_FLAG_W,CTDOXY,CTDOXY_FLAG_W,OXYGEN,OXYGEN_FLAG_W,SILCAT,SILCAT_FLAG_W,NINI,NINI_FLAG_W,PHSPHT,PHSPHT_FLAG_W,REVP
,,,,,,,,,,,,DB,IPTS-68,PSS-78,,PSS-78,,UMOL/KG,,UMOL/KG,,UMOL/KG,,UMOL/KG,,UMOL/KG,,DBAR
           NA,HOT timeseries 1988to2019 27SEP2021,    120,  99,-999.0,      31,-999.0,20010320,2058,  22.7557, -158.0015,  4721,    2.900,   23.843,   34.967,2, -999.000,3, -999.000,3,  213.700,2, -999.000,9, -999.000,9, -999.000,9, -999.000
           NA,HOT timeseries 1988to2019 27SEP2021,    120,  99,-999.0,      31,-999.0,20010320,2058,  22.7557, -158.0015,  4721,    4.100,   23.640,   35.058,2,   35.055,2,  212.900,2,  210.700,2, -999.000,9, -999.000,9, -999.000,9, -999.000
           NA,HOT timeseries 1988to2019 27SEP2021,    120,  99,-999.0,      30,-999.0,20010320,2058,  22.7557, -158.0015,  4721,   73.300,   23.463,   35.217,2,   35.222,2,  213.500,2,  214.800,2, -999.000,9, -999.000,9, -999.000,9, -999.000
           NA,HOT timeseries 1988to2019 27SEP2021,    120,  99,-999.0,      22,-999.0,20010320,2058,  22.7557, -158.0015,  4721,   98.600,   22.712,   35.332,2,   35.334,2,  211.700,2,  212.000,2, -999.000,9, -999.000,9, -999.000,9, -999.000
           NA,HOT timeseries 1988to2019 27SEP2021,    120,  99,-999.0,      21,-999.0,20010320,2058,  22.7557, -158.0015,  4721,  123.100,   21.810,   35.283,2,   35.279,2,  205.000,2,  208.200,2, -999.000,9, -999.000,9, -999.000,9, -999.000
           NA,HOT timeseries 1988to2019 27SEP2021,    120,  99,-999.0,      19,-999.0,20010320,2058,  22.7557, -158.0015,  4721,  198.600,   19.160,   35.097,2,   35.098,2,  200.400,2,  199.400,2, -999.000,9, -999.000,9, -999.000,9, -999.000
           NA,HOT timeseries 1988to2019 27SEP2021,    120,  99,-999.0,      18,-999.0,20010320,2058,  22.7557, -158.0015,  4721,  223.600,   17.888,   34.920,2, -999.000,3, -999.000,3,  199.000,2, -999.000,9, -999.000,9, -999.000,9, -999.000
           NA,HOT timeseries 1988to2019 27SEP2021,    120,  99,-999.0,      17,-999.0,20010320,2058,  22.7557, -158.0015,  4721,  249.400,   15.829,   34.628,2,   34.644,2,  202.000,2,  201.100,2, -999.000,9, -999.000,9, -999.000,9, -999.000
           NA,HOT timeseries 1988to2019 27SEP2021,    120,  99,-999.0,      16,-999.0,20010320,2058,  22.7557, -158.0015,  4721,  298.000,   12.726,   34.272,2,   34.278,2,  204.500,2,  203.800,2, -999.000,9, -999.000,9, -999.000,9, -999.000
           NA,HOT timeseries 1988to2019 27SEP2021,    120,  99,-999.0,      23,-999.0,20010320,2058,  22.7557, -158.0015,  4721,  348.900,   11.165,   34.181,2,   34.181,2,  207.600,2,  206.600,2, -999.000,9, -999.000,9, -999.000,9, -999.000
           NA,HOT timeseries 1988to2019 27SEP2021,    120,  99,-999.0,      14,-999.0,20010320,2058,  22.7557, -158.0015,  4721,  398.600,    9.482,   34.106,2,   34.107,2,  191.400,2,  190.100,2, -999.000,9, -999.000,9, -999.000,9, -999.000
           NA,HOT timeseries 1988to2019 27SEP2021,    120,  99,-999.0,      13,-999.0,20010320,2058,  22.7557, -158.0015,  4721,  447.800,    8.301,   34.055,2,   34.056,2,  163.900,2,  165.800,2, -999.000,9, -999.000,9, -999.000,9, -999.000
           NA,HOT timeseries 1988to2019 27SEP2021,    120,  99,-999.0,      12,-999.0,20010320,2058,  22.7557, -158.0015,  4721,  497.900,    7.105,   34.025,2, -999.000,4, -999.000,3,  130.100,2, -999.000,9, -999.000,9, -999.000,9, -999.000
           NA,HOT timeseries 1988to2019 27SEP2021,    120,  99,-999.0,      11,-999.0,20010320,2058,  22.7557, -158.0015,  4721,  522.400,    6.635,   34.029,2, -999.000,4, -999.000,3,  110.500,2, -999.000,9, -999.000,9, -999.000,9, -999.000
           NA,HOT timeseries 1988to2019 27SEP2021,    120,  99,-999.0,      32,-999.0,20010320,2058,  22.7557, -158.0015,  4721,  547.400,    6.283,   34.046,2,   34.048,2,   90.600,2,   92.100,2, -999.000,9, -999.000,9, -999.000,9, -999.000
           NA,HOT timeseries 1988to2019 27SEP2021,    120,  99,-999.0,       3,-999.0,20010320,2058,  22.7557, -158.0015,  4721,  597.700,    5.628,   34.082,2, -999.000,3, -999.000,3,   61.300,2, -999.000,9, -999.000,9, -999.000,9, -999.000
           NA,HOT timeseries 1988to2019 27SEP2021,    120,  99,-999.0,      29,-999.0,20010320,2058,  22.7557, -158.0015,  4721,  648.500,    5.196,   34.123,2,   34.121,2,   45.700,2,   43.600,2, -999.000,9, -999.000,9, -999.000,9, -999.000
           NA,HOT timeseries 1988to2019 27SEP2021,    120,  99,-999.0,      28,-999.0,20010320,2058,  22.7557, -158.0015,  4721,  698.300,    4.940,   34.229,2,   34.228,2,   29.000,2,   27.600,2, -999.000,9, -999.000,9, -999.000,9, -999.000
           NA,HOT timeseries 1988to2019 27SEP2021,    120,  99,-999.0,       7,-999.0,20010320,2058,  22.7557, -158.0015,  4721,  748.600,    5.021,   34.337,2,   34.337,2,   28.400,2,   27.300,2, -999.000,9, -999.000,9, -999.000,9, -999.000
           NA,HOT timeseries 1988to2019 27SEP2021,    120,  99,-999.0,      38,-999.0,20010320,2058,  22.7557, -158.0015,  4721,  798.900,    4.635,   34.406,2,   34.407,2,   30.400,2,   29.800,2, -999.000,9, -999.000,9, -999.000,9, -999.000
           NA,HOT timeseries 1988to2019 27SEP2021,    120,  99,-999.0,      36,-999.0,20010320,2058,  22.7557, -158.0015,  4721,  848.200,    4.201,   34.421,2,   34.419,2,   32.300,2,   32.700,2, -999.000,9, -999.000,9, -999.000,9, -999.000
           NA,HOT timeseries 1988to2019 27SEP2021,    120,  99,-999.0,      35,-999.0,20010320,2058,  22.7557, -158.0015,  4721,  899.200,    4.031,   34.443,2,   34.441,2,   35.900,2,   35.500,2, -999.000,9, -999.000,9, -999.000,9, -999.000
           NA,HOT timeseries 1988to2019 27SEP2021,    120,  99,-999.0,      34,-999.0,20010320,2058,  22.7557, -158.0015,  4721,  948.900,    3.929,   34.467,2,   34.467,2,   39.000,2,   39.900,2, -999.000,9, -999.000,9, -999.000,9, -999.000
           NA,HOT timeseries 1988to2019 27SEP2021,    120,  99,-999.0,      33,-999.0,20010320,2058,  22.7557, -158.0015,  4721, 1019.800,    3.740,   34.486,2,   34.488,2,   43.500,2,   43.700,2, -999.000,9, -999.000,9, -999.000,9, -999.000
           NA,HOT timeseries 1988to2019 27SEP2021,    120,  99,-999.0,      20,-999.0,20010320,2058,  22.7557, -158.0015,  4721, 1198.500,    3.306,   34.529,2,   34.528,2,   54.200,2,   55.300,2, -999.000,9, -999.000,9, -999.000,9, -999.000
           NA,HOT timeseries 1988to2019 27SEP2021,    120,  99,-999.0,      19,-999.0,20010320,2058,  22.7557, -158.0015,  4721, 1398.000,    2.888,   34.565,2,   34.565,2,   63.900,2,   64.400,2, -999.000,9, -999.000,9, -999.000,9, -999.000
           NA,HOT timeseries 1988to2019 27SEP2021,    120,  99,-999.0,      18,-999.0,20010320,2058,  22.7557, -158.0015,  4721, 1597.700,    2.572,   34.589,2,   34.592,2,   72.800,2,   73.400,2, -999.000,9, -999.000,9, -999.000,9, -999.000
           NA,HOT timeseries 1988to2019 27SEP2021,    120,  99,-999.0,      17,-999.0,20010320,2058,  22.7557, -158.0015,  4721, 1799.100,    2.290,   34.609,2,   34.608,2,   81.000,2,   82.300,2, -999.000,9, -999.000,9, -999.000,9, -999.000
           NA,HOT timeseries 1988to2019 27SEP2021,    120,  99,-999.0,      16,-999.0,20010320,2058,  22.7557, -158.0015,  4721, 1998.300,    2.089,   34.622,2,   34.623,2,   86.900,2,   88.000,2, -999.000,9, -999.000,9, -999.000,9, -999.000
           NA,HOT timeseries 1988to2019 27SEP2021,    120,  99,-999.0,      14,-999.0,20010320,2058,  22.7557, -158.0015,  4721, 2398.900,    1.745,   34.649,2,   34.648,2,  103.000,2, -999.000,3, -999.000,9, -999.000,9, -999.000,9, -999.000
           NA,HOT timeseries 1988to2019 27SEP2021,    120,  99,-999.0,      13,-999.0,20010320,2058,  22.7557, -158.0015,  4721, 2598.400,    1.655,   34.659,2,   34.660,2,  111.200,2,  112.300,2, -999.000,9, -999.000,9, -999.000,9, -999.000
           NA,HOT timeseries 1988to2019 27SEP2021,    120,  99,-999.0,      12,-999.0,20010320,2058,  22.7557, -158.0015,  4721, 2797.900,    1.577,   34.667,2,   34.667,2,  120.500,2,  121.200,2, -999.000,9, -999.000,9, -999.000,9, -999.000
           NA,HOT timeseries 1988to2019 27SEP2021,    120,  99,-999.0,      11,-999.0,20010320,2058,  22.7557, -158.0015,  4721, 2997.600,    1.528,   34.673,2, -999.000,4, -999.000,3,  126.800,2, -999.000,9, -999.000,9, -999.000,9, -999.000
           NA,HOT timeseries 1988to2019 27SEP2021,    120,  99,-999.0,      32,-999.0,20010320,2058,  22.7557, -158.0015,  4721, 3198.800,    1.488,   34.678,2,   34.677,2,  132.800,2,  134.200,2, -999.000,9, -999.000,9, -999.000,9, -999.000
           NA,HOT timeseries 1988to2019 27SEP2021,    120,  99,-999.0,       3,-999.0,20010320,2058,  22.7557, -158.0015,  4721, 3400.500,    1.465,   34.682,2,   34.682,2,  138.200,2,  138.400,2, -999.000,9, -999.000,9, -999.000,9, -999.000
           NA,HOT timeseries 1988to2019 27SEP2021,    120,  99,-999.0,      29,-999.0,20010320,2058,  22.7557, -158.0015,  4721, 3600.000,    1.457,   34.684,2,   34.685,2,  142.500,2,  142.200,2, -999.000,9, -999.000,9, -999.000,9, -999.000
           NA,HOT timeseries 1988to2019 27SEP2021,    120,  99,-999.0,      28,-999.0,20010320,2058,  22.7557, -158.0015,  4721, 3800.400,    1.454,   34.686,2,   34.686,2,  146.000,2,  146.100,2, -999.000,9, -999.000,9, -999.000,9, -999.000
           NA,HOT timeseries 1988to2019 27SEP2021,    120,  99,-999.0,       7,-999.0,20010320,2058,  22.7557, -158.0015,  4721, 4001.100,    1.451,   34.688,2,   34.688,2,  149.400,2,  149.200,2, -999.000,9, -999.000,9, -999.000,9, -999.000
           NA,HOT timeseries 1988to2019 27SEP2021,    120,  99,-999.0,      38,-999.0,20010320,2058,  22.7557, -158.0015,  4721, 4200.300,    1.461,   34.689,2,   34.689,2,  151.500,2,  151.500,2, -999.000,9, -999.000,9, -999.000,9, -999.000
           NA,HOT timeseries 1988to2019 27SEP2021,    120,  99,-999.0,      36,-999.0,20010320,2058,  22.7557, -158.0015,  4721, 4400.300,    1.474,   34.690,2,   34.690,2,  153.000,2,  153.300,2, -999.000,9, -999.000,9, -999.000,9, -999.000
           NA,HOT timeseries 1988to2019 27SEP2021,    120,  99,-999.0,      35,-999.0,20010320,2058,  22.7557, -158.0015,  4721, 4499.200,    1.483,   34.690,2,   34.690,2,  153.700,2,  153.100,2, -999.000,9, -999.000,9, -999.000,9, -999.000
           NA,HOT timeseries 1988to2019 27SEP2021,    120,  99,-999.0,      34,-999.0,20010320,2058,  22.7557, -158.0015,  4721, 4598.300,    1.492,   34.691,2,   34.691,2,  153.600,2,  153.400,2, -999.000,9, -999.000,9, -999.000,9, -999.000
           NA,HOT timeseries 1988to2019 27SEP2021,    120,  99,-999.0,      33,-999.0,20010320,2058,  22.7557, -158.0015,  4721, 4802.100,    1.509,   34.691,2,   34.692,2,  153.900,2,  156.200,2, -999.000,9, -999.000,9, -999.000,9, -999.000