BOTTLE,20214727JOAExport
EXPOCODE,SECT_ID,STNNBR,CASTNO,SAMPNO,BTLNBR,BTLNBR_FLAG_W,DATE,TIME,LATITUDE,LONGITUDE,DEPTH,CTDPRS,CTDTMP,CTDSAL,CTDSAL_FLAG_W,SALNTY,SALNTY_FLAG_W,CTDOXY,CTDOXY_FLAG_W,OXYGEN,OXYGEN_FLAG_W,SILCAT,SILCAT_FLAG_W,NINI,NINI_FLAG_W,PHSPHT,PHSPHT_FLAG_W,REVP
,,,,,,,,,,,,DB,IPTS-68,PSS-78,,PSS-78,,UMOL/KG,,UMOL/KG,,UMOL/KG,,UMOL/KG,,UMOL/KG,,DBAR
           NA,HOT timeseries 1988to2019 27SEP2021,    237,  99,-999.0,    8024,-999.0,20130625,1504,  22.7498, -157.9997,  4740,    7.000,   25.049,   35.178,2,   35.177,2,  207.800,2,  208.800,2,    1.230,2,    0.010,2,    0.130,2, -999.000
           NA,HOT timeseries 1988to2019 27SEP2021,    237,  99,-999.0,    8024,-999.0,20130625,1504,  22.7498, -157.9997,  4740,    9.100,   25.185,   35.180,2,   35.179,2,  208.300,2,  208.200,2,    1.150,2,    0.090,2,    0.130,2, -999.000
           NA,HOT timeseries 1988to2019 27SEP2021,    237,  99,-999.0,    8023,-999.0,20130625,1504,  22.7498, -157.9997,  4740,   65.600,   23.059,   35.163,2,   35.165,2,  217.200,2,  217.400,2,    1.290,2,    0.120,2,    0.140,2, -999.000
           NA,HOT timeseries 1988to2019 27SEP2021,    237,  99,-999.0,    8022,-999.0,20130625,1504,  22.7498, -157.9997,  4740,  105.600,   21.675,   35.197,2,   35.194,2,  208.700,2,  208.900,2,    1.500,2,    0.150,2,    0.150,2, -999.000
           NA,HOT timeseries 1988to2019 27SEP2021,    237,  99,-999.0,    8021,-999.0,20130625,1504,  22.7498, -157.9997,  4740,  116.500,   21.101,   35.175,2,   35.178,2,  204.800,2,  204.300,2,    1.710,2,    0.570,2,    0.170,2, -999.000
           NA,HOT timeseries 1988to2019 27SEP2021,    237,  99,-999.0,    8020,-999.0,20130625,1504,  22.7498, -157.9997,  4740,  174.500,   19.027,   34.971,2,   34.970,2,  192.900,2,  193.000,2,    2.770,2,    2.710,2,    0.270,2, -999.000
           NA,HOT timeseries 1988to2019 27SEP2021,    237,  99,-999.0,    8019,-999.0,20130625,1504,  22.7498, -157.9997,  4740,  237.700,   15.325,   34.424,2,   34.427,2,  185.600,2,  184.600,2,    6.170,2,    6.850,2,    0.570,2, -999.000
           NA,HOT timeseries 1988to2019 27SEP2021,    237,  99,-999.0,    8018,-999.0,20130625,1504,  22.7498, -157.9997,  4740,  275.800,   12.978,   34.199,2,   34.197,2,  181.500,2,  174.800,2,   11.040,2,   11.600,2,    0.910,2, -999.000
           NA,HOT timeseries 1988to2019 27SEP2021,    237,  99,-999.0,    8017,-999.0,20130625,1504,  22.7498, -157.9997,  4740,  314.200,   11.809,   34.134,2,   34.135,2,  167.200,2,  165.700,2,   14.650,2,   14.560,2,    1.120,2, -999.000
           NA,HOT timeseries 1988to2019 27SEP2021,    237,  99,-999.0,    8015,-999.0,20130625,1504,  22.7498, -157.9997,  4740,  398.100,    9.508,   34.139,2,   34.139,2,  142.100,2,  136.900,2,   27.950,2,   22.310,2,    1.670,2, -999.000
           NA,HOT timeseries 1988to2019 27SEP2021,    237,  99,-999.0,    8014,-999.0,20130625,1504,  22.7498, -157.9997,  4740,  462.700,    7.904,   34.139,2,   34.137,2,   99.200,2,   95.400,2,   43.790,2,   28.960,2,    2.170,2, -999.000
           NA,HOT timeseries 1988to2019 27SEP2021,    237,  99,-999.0,    8025,-999.0,20130625,1504,  22.7498, -157.9997,  4740,  500.000,    7.458,   34.177,2,   34.177,2,   68.500,2,   68.000,2,   50.020,2,   32.060,2,    2.410,2, -999.000
           NA,HOT timeseries 1988to2019 27SEP2021,    237,  99,-999.0,    8012,-999.0,20130625,1504,  22.7498, -157.9997,  4740,  539.900,    6.586,   34.184,2,   34.182,2,   53.500,2,   54.600,2,   60.870,2,   35.140,2,    2.610,2, -999.000
           NA,HOT timeseries 1988to2019 27SEP2021,    237,  99,-999.0,    8011,-999.0,20130625,1504,  22.7498, -157.9997,  4740,  578.500,    6.370,   34.229,2,   34.231,2,   44.200,2,   41.000,2,   65.450,2,   36.780,2,    2.730,2, -999.000
           NA,HOT timeseries 1988to2019 27SEP2021,    237,  99,-999.0,    8009,-999.0,20130625,1504,  22.7498, -157.9997,  4740,  688.900,    5.542,   34.306,2,   34.305,2,   32.600,2,   32.400,2,   80.110,2,   39.460,2,    2.890,2, -999.000
           NA,HOT timeseries 1988to2019 27SEP2021,    237,  99,-999.0,    8026,-999.0,20130625,1504,  22.7498, -157.9997,  4740,  760.900,    4.915,   34.364,2, -999.000,3, -999.000,3,   30.000,2,   91.070,2,   40.860,2,    2.950,2, -999.000
           NA,HOT timeseries 1988to2019 27SEP2021,    237,  99,-999.0,    8006,-999.0,20130625,1504,  22.7498, -157.9997,  4740,  827.700,    4.734,   34.430,2,   34.429,2,   34.300,2,   33.900,2,   94.830,2,   41.100,2,    2.980,2, -999.000
           NA,HOT timeseries 1988to2019 27SEP2021,    237,  99,-999.0,    8005,-999.0,20130625,1504,  22.7498, -157.9997,  4740,  862.600,    4.657,   34.443,2,   34.443,2,   35.400,2,   34.900,2,   97.000,2,   41.360,2,    2.980,2, -999.000
           NA,HOT timeseries 1988to2019 27SEP2021,    237,  99,-999.0,    8002,-999.0,20130625,1504,  22.7498, -157.9997,  4740,  980.600,    4.160,   34.490,2,   34.491,2,   42.200,2,   41.800,2,  106.680,2,   41.630,2,    2.960,2, -999.000
           NA,HOT timeseries 1988to2019 27SEP2021,    237,  99,-999.0,    8001,-999.0,20130625,1504,  22.7498, -157.9997,  4740, 1021.100,    3.976,   34.494,2,   34.495,2,   44.400,2,   44.200,2,  110.310,2,   41.310,2,    2.970,2, -999.000
           NA,HOT timeseries 1988to2019 27SEP2021,    237,  99,-999.0,    8020,-999.0,20130625,1504,  22.7498, -157.9997,  4740, 1200.400,    3.546,   34.529,2,   34.530,2,   52.400,2,   52.200,2,  118.480,2,   41.020,2,    2.980,2, -999.000
           NA,HOT timeseries 1988to2019 27SEP2021,    237,  99,-999.0,    8019,-999.0,20130625,1504,  22.7498, -157.9997,  4740, 1400.500,    3.101,   34.561,2,   34.560,2,   60.300,2,   59.900,2,  128.440,2,   40.610,2,    2.960,2, -999.000
           NA,HOT timeseries 1988to2019 27SEP2021,    237,  99,-999.0,    8018,-999.0,20130625,1504,  22.7498, -157.9997,  4740, 1599.600,    2.750,   34.574,2,   34.574,2,   69.700,2,   70.000,2,  136.210,2,   40.210,2,    2.880,2, -999.000
           NA,HOT timeseries 1988to2019 27SEP2021,    237,  99,-999.0,    8017,-999.0,20130625,1504,  22.7498, -157.9997,  4740, 1800.300,    2.436,   34.597,2,   34.596,2,   77.800,2,   77.700,2,  143.260,2,   39.830,2,    2.860,2, -999.000
           NA,HOT timeseries 1988to2019 27SEP2021,    237,  99,-999.0,    8016,-999.0,20130625,1504,  22.7498, -157.9997,  4740, 2000.200,    2.189,   34.616,2,   34.615,2,   87.300,2,   87.600,2,  148.030,2,   39.390,2,    2.800,2, -999.000
           NA,HOT timeseries 1988to2019 27SEP2021,    237,  99,-999.0,    8015,-999.0,20130625,1504,  22.7498, -157.9997,  4740, 2200.700,    1.989,   34.630,2,   34.630,2,   95.100,2,   95.200,2,  152.790,2,   39.020,2,    2.750,2, -999.000
           NA,HOT timeseries 1988to2019 27SEP2021,    237,  99,-999.0,    8014,-999.0,20130625,1504,  22.7498, -157.9997,  4740, 2399.800,    1.824,   34.641,2,   34.641,2,  101.200,2,  102.000,2,  156.980,2,   38.710,2,    2.720,2, -999.000
           NA,HOT timeseries 1988to2019 27SEP2021,    237,  99,-999.0,    8025,-999.0,20130625,1504,  22.7498, -157.9997,  4740, 2600.100,    1.736,   34.651,2,   34.651,2,  109.200,2,  109.900,2,  157.280,2,   38.210,2,    2.670,2, -999.000
           NA,HOT timeseries 1988to2019 27SEP2021,    237,  99,-999.0,    8012,-999.0,20130625,1504,  22.7498, -157.9997,  4740, 2800.600,    1.656,   34.658,2,   34.659,2,  114.900,2,  115.700,2,  158.650,2,   37.770,2,    2.650,2, -999.000
           NA,HOT timeseries 1988to2019 27SEP2021,    237,  99,-999.0,    8011,-999.0,20130625,1504,  22.7498, -157.9997,  4740, 3000.100,    1.592,   34.665,2,   34.664,2,  120.400,2,  121.400,2,  158.580,2,   37.420,2,    2.610,2, -999.000
           NA,HOT timeseries 1988to2019 27SEP2021,    237,  99,-999.0,    8010,-999.0,20130625,1504,  22.7498, -157.9997,  4740, 3199.900,    1.543,   34.671,2,   34.670,2,  127.500,2,  128.300,2,  157.550,2,   37.110,2,    2.580,2, -999.000
           NA,HOT timeseries 1988to2019 27SEP2021,    237,  99,-999.0,    8009,-999.0,20130625,1504,  22.7498, -157.9997,  4740, 3400.100,    1.502,   34.675,2,   34.675,2,  133.500,2,  133.700,2,  156.510,2,   36.550,2,    2.550,2, -999.000
           NA,HOT timeseries 1988to2019 27SEP2021,    237,  99,-999.0,    8026,-999.0,20130625,1504,  22.7498, -157.9997,  4740, 3799.600,    1.457,   34.683,2,   34.684,2,  144.300,2,  144.500,2,  153.070,2,   35.690,2,    2.490,2, -999.000
           NA,HOT timeseries 1988to2019 27SEP2021,    237,  99,-999.0,    8006,-999.0,20130625,1504,  22.7498, -157.9997,  4740, 3998.700,    1.456,   34.685,2,   34.685,2,  147.400,2,  147.200,2,  151.160,2,   35.470,2,    2.470,2, -999.000
           NA,HOT timeseries 1988to2019 27SEP2021,    237,  99,-999.0,    8005,-999.0,20130625,1504,  22.7498, -157.9997,  4740, 4201.000,    1.467,   34.686,2,   34.686,2,  149.100,2,  149.000,2,  150.870,2,   35.360,2,    2.470,2, -999.000
           NA,HOT timeseries 1988to2019 27SEP2021,    237,  99,-999.0,    8004,-999.0,20130625,1504,  22.7498, -157.9997,  4740, 4401.600,    1.481,   34.687,2,   34.687,2,  150.900,2,  150.100,2,  149.980,2,   35.330,2,    2.460,2, -999.000
           NA,HOT timeseries 1988to2019 27SEP2021,    237,  99,-999.0,    8003,-999.0,20130625,1504,  22.7498, -157.9997,  4740, 4500.200,    1.490,   34.687,2,   34.687,2,  151.200,2,  150.900,2,  149.830,2,   35.380,2,    2.460,2, -999.000
           NA,HOT timeseries 1988to2019 27SEP2021,    237,  99,-999.0,    8002,-999.0,20130625,1504,  22.7498, -157.9997,  4740, 4600.200,    1.500,   34.687,2,   34.688,2,  151.500,2,  151.400,2,  149.330,2,   35.310,2,    2.460,2, -999.000
           NA,HOT timeseries 1988to2019 27SEP2021,    237,  99,-999.0,    8001,-999.0,20130625,1504,  22.7498, -157.9997,  4740, 4810.000,    1.525,   34.687,2,   34.688,2,  151.600,2,  150.800,2,  149.130,2,   35.280,2,    2.480,2, -999.000