BOTTLE,20214727JOAExport
EXPOCODE,SECT_ID,STNNBR,CASTNO,SAMPNO,BTLNBR,BTLNBR_FLAG_W,DATE,TIME,LATITUDE,LONGITUDE,DEPTH,CTDPRS,CTDTMP,CTDSAL,CTDSAL_FLAG_W,SALNTY,SALNTY_FLAG_W,CTDOXY,CTDOXY_FLAG_W,OXYGEN,OXYGEN_FLAG_W,SILCAT,SILCAT_FLAG_W,NINI,NINI_FLAG_W,PHSPHT,PHSPHT_FLAG_W,REVP
,,,,,,,,,,,,DB,IPTS-68,PSS-78,,PSS-78,,UMOL/KG,,UMOL/KG,,UMOL/KG,,UMOL/KG,,UMOL/KG,,DBAR
           NA,HOT timeseries 1988to2019 27SEP2021,    203,  99,-999.0,    8024,-999.0,20100309,1822,  22.7487, -158.0000,  4721,    5.300,   23.079,   35.252,2,   35.252,2,  215.000,2,  214.100,2,    1.400,2,    0.040,2,    0.090,2, -999.000
           NA,HOT timeseries 1988to2019 27SEP2021,    203,  99,-999.0,    8024,-999.0,20100309,1822,  22.7487, -158.0000,  4721,    5.500,   23.063,   35.251,2,   35.251,2,  214.100,2,  213.900,2,    1.270,2,    0.030,2,    0.100,2, -999.000
           NA,HOT timeseries 1988to2019 27SEP2021,    203,  99,-999.0,    8023,-999.0,20100309,1822,  22.7487, -158.0000,  4721,   59.600,   23.067,   35.251,2,   35.252,2,  214.600,2,  215.400,2,    1.410,2,    0.060,2,    0.110,2, -999.000
           NA,HOT timeseries 1988to2019 27SEP2021,    203,  99,-999.0,    8022,-999.0,20100309,1822,  22.7487, -158.0000,  4721,   90.700,   21.770,   35.190,2,   35.192,2,  213.400,2,  212.300,2,    1.570,2,    0.080,2,    0.120,2, -999.000
           NA,HOT timeseries 1988to2019 27SEP2021,    203,  99,-999.0,    8021,-999.0,20100309,1822,  22.7487, -158.0000,  4721,  119.400,   20.796,   35.167,2,   35.167,2,  208.500,2,  209.300,2,    1.790,2,    0.500,2,    0.150,2, -999.000
           NA,HOT timeseries 1988to2019 27SEP2021,    203,  99,-999.0,    8020,-999.0,20100309,1822,  22.7487, -158.0000,  4721,  153.600,   20.152,   35.219,2,   35.217,2,  204.600,2,  204.000,2,    2.070,2,    1.150,2,    0.150,2, -999.000
           NA,HOT timeseries 1988to2019 27SEP2021,    203,  99,-999.0,    8019,-999.0,20100309,1822,  22.7487, -158.0000,  4721,  231.400,   16.324,   34.661,2,   34.667,2,  193.600,2,  194.500,2,    4.560,2,    5.260,2,    0.410,2, -999.000
           NA,HOT timeseries 1988to2019 27SEP2021,    203,  99,-999.0,    8018,-999.0,20100309,1822,  22.7487, -158.0000,  4721,  306.100,   11.971,   34.215,2,   34.214,2,  199.800,2,  200.400,2,   11.690,2,   12.000,2,    0.860,2, -999.000
           NA,HOT timeseries 1988to2019 27SEP2021,    203,  99,-999.0,    8017,-999.0,20100309,1822,  22.7487, -158.0000,  4721,  321.000,   11.465,   34.187,2,   34.188,2,  199.700,2,  200.100,2,   13.310,2,   13.130,2,    0.940,2, -999.000
           NA,HOT timeseries 1988to2019 27SEP2021,    203,  99,-999.0,    8016,-999.0,20100309,1822,  22.7487, -158.0000,  4721,  357.700,   10.401,   34.139,2,   34.139,2,  194.200,2,  192.300,2,   17.860,2,   15.950,2,    1.130,2, -999.000
           NA,HOT timeseries 1988to2019 27SEP2021,    203,  99,-999.0,    8015,-999.0,20100309,1822,  22.7487, -158.0000,  4721,  423.200,    8.724,   34.082,2,   34.082,2,  158.900,2,  159.100,2,   30.870,2,   22.680,2,    1.610,2, -999.000
           NA,HOT timeseries 1988to2019 27SEP2021,    203,  99,-999.0,    8014,-999.0,20100309,1822,  22.7487, -158.0000,  4721,  494.100,    7.293,   34.064,2,   34.065,2,  113.300,2,  112.700,2,   46.270,2,   29.340,2,    2.110,2, -999.000
           NA,HOT timeseries 1988to2019 27SEP2021,    203,  99,-999.0,    8012,-999.0,20100309,1822,  22.7487, -158.0000,  4721,  520.300,    6.780,   34.074,2,   34.075,2,   93.400,2,   94.500,2,   54.100,2,   31.790,2,    2.320,2, -999.000
           NA,HOT timeseries 1988to2019 27SEP2021,    203,  99,-999.0,    8011,-999.0,20100309,1822,  22.7487, -158.0000,  4721,  577.800,    6.127,   34.111,2,   34.109,2,   69.400,2,   69.200,2,   64.410,2,   34.990,2,    2.560,2, -999.000
           NA,HOT timeseries 1988to2019 27SEP2021,    203,  99,-999.0,    8010,-999.0,20100309,1822,  22.7487, -158.0000,  4721,  615.000,    5.698,   34.153,2,   34.152,2,   51.600,2,   49.300,2,   73.110,2,   37.390,2,    2.750,2, -999.000
           NA,HOT timeseries 1988to2019 27SEP2021,    203,  99,-999.0,    8008,-999.0,20100309,1822,  22.7487, -158.0000,  4721,  694.000,    5.255,   34.251,2,   34.250,2,   31.400,2,   31.200,2,   84.500,2,   39.800,2,    2.960,2, -999.000
           NA,HOT timeseries 1988to2019 27SEP2021,    203,  99,-999.0,    8026,-999.0,20100309,1822,  22.7487, -158.0000,  4721,  756.000,    4.977,   34.325,2,   34.324,2,   32.300,2,   34.700,2,   90.730,2,   40.050,2,    2.970,2, -999.000
           NA,HOT timeseries 1988to2019 27SEP2021,    203,  99,-999.0,    8006,-999.0,20100309,1822,  22.7487, -158.0000,  4721,  829.800,    4.521,   34.395,2,   34.395,2,   37.000,2,   36.500,2,   99.340,2,   40.550,2,    2.970,2, -999.000
           NA,HOT timeseries 1988to2019 27SEP2021,    203,  99,-999.0,    8005,-999.0,20100309,1822,  22.7487, -158.0000,  4721,  869.900,    4.380,   34.416,2,   34.418,2,   38.700,2,   38.700,2, -999.000,3,   40.660,2,    2.980,2, -999.000
           NA,HOT timeseries 1988to2019 27SEP2021,    203,  99,-999.0,    8004,-999.0,20100309,1822,  22.7487, -158.0000,  4721,  912.900,    4.278,   34.435,2,   34.434,2,   40.200,2,   39.600,2,  104.850,2,   41.120,2,    2.990,2, -999.000
           NA,HOT timeseries 1988to2019 27SEP2021,    203,  99,-999.0,    8003,-999.0,20100309,1822,  22.7487, -158.0000,  4721,  953.900,    4.147,   34.451,2,   34.452,2,   43.000,2,   43.400,2,  106.660,2,   40.760,2,    2.990,2, -999.000
           NA,HOT timeseries 1988to2019 27SEP2021,    203,  99,-999.0,    8001,-999.0,20100309,1822,  22.7487, -158.0000,  4721, 1023.300,    3.898,   34.481,2,   34.481,2,   48.400,2,   48.800,2,  111.570,2,   40.820,2,    2.980,2, -999.000
           NA,HOT timeseries 1988to2019 27SEP2021,    203,  99,-999.0,    8020,-999.0,20100309,1822,  22.7487, -158.0000,  4721, 1196.200,    3.478,   34.528,2,   34.527,2,   53.800,2,   54.600,2,  120.850,2,   40.970,2,    2.970,2, -999.000
           NA,HOT timeseries 1988to2019 27SEP2021,    203,  99,-999.0,    8019,-999.0,20100309,1822,  22.7487, -158.0000,  4721, 1400.500,    3.082,   34.558,2,   34.557,2,   64.300,2, -999.000,4,  129.700,2,   40.870,2,    2.960,2, -999.000
           NA,HOT timeseries 1988to2019 27SEP2021,    203,  99,-999.0,    8018,-999.0,20100309,1822,  22.7487, -158.0000,  4721, 1600.100,    2.698,   34.578,2,   34.577,2,   70.500,2,   70.700,2,  138.350,2,   40.380,2,    2.910,2, -999.000
           NA,HOT timeseries 1988to2019 27SEP2021,    203,  99,-999.0,    8017,-999.0,20100309,1822,  22.7487, -158.0000,  4721, 1800.600,    2.353,   34.600,2,   34.600,2,   80.700,2,   81.400,2,  147.650,2,   39.860,2,    2.870,2, -999.000
           NA,HOT timeseries 1988to2019 27SEP2021,    203,  99,-999.0,    8016,-999.0,20100309,1822,  22.7487, -158.0000,  4721, 1999.600,    2.105,   34.620,2,   34.620,2,   90.900,2,   90.600,2,  151.310,2,   39.270,2,    2.810,2, -999.000
           NA,HOT timeseries 1988to2019 27SEP2021,    203,  99,-999.0,    8015,-999.0,20100309,1822,  22.7487, -158.0000,  4721, 2199.200,    1.936,   34.633,2,   34.633,2,   97.100,2,   97.700,2,  155.000,2,   38.850,2, -999.000,3, -999.000
           NA,HOT timeseries 1988to2019 27SEP2021,    203,  99,-999.0,    8014,-999.0,20100309,1822,  22.7487, -158.0000,  4721, 2403.400,    1.786,   34.644,2,   34.645,2,  104.800,2,  104.200,2,  157.940,2,   38.290,2,    2.730,2, -999.000
           NA,HOT timeseries 1988to2019 27SEP2021,    203,  99,-999.0,    8025,-999.0,20100309,1822,  22.7487, -158.0000,  4721, 2603.000,    1.674,   34.653,2,   34.654,2,  111.000,2,  111.700,2,  160.410,2,   38.100,2,    2.710,2, -999.000
           NA,HOT timeseries 1988to2019 27SEP2021,    203,  99,-999.0,    8012,-999.0,20100309,1822,  22.7487, -158.0000,  4721, 2802.300,    1.607,   34.661,2,   34.661,2,  118.900,2,  118.900,2,  159.940,2,   37.620,2,    2.670,2, -999.000
           NA,HOT timeseries 1988to2019 27SEP2021,    203,  99,-999.0,    8011,-999.0,20100309,1822,  22.7487, -158.0000,  4721, 3000.500,    1.551,   34.667,2, -999.000,4, -999.000,3,  126.200,2,  159.030,2,   37.010,2,    2.620,2, -999.000
           NA,HOT timeseries 1988to2019 27SEP2021,    203,  99,-999.0,    8010,-999.0,20100309,1822,  22.7487, -158.0000,  4721, 3194.900,    1.508,   34.672,2,   34.673,2,  130.700,2,  131.200,2,  158.740,2,   36.750,2,    2.600,2, -999.000
           NA,HOT timeseries 1988to2019 27SEP2021,    203,  99,-999.0,    8009,-999.0,20100309,1822,  22.7487, -158.0000,  4721, 3398.800,    1.472,   34.677,2,   34.677,2,  137.300,2,  137.100,2,  156.670,2,   36.350,2,    2.570,2, -999.000
           NA,HOT timeseries 1988to2019 27SEP2021,    203,  99,-999.0,    8008,-999.0,20100309,1822,  22.7487, -158.0000,  4721, 3597.000,    1.456,   34.680,2,   34.680,2,  142.300,2,  142.300,2,  154.890,2,   36.130,2,    2.540,2, -999.000
           NA,HOT timeseries 1988to2019 27SEP2021,    203,  99,-999.0,    8026,-999.0,20100309,1822,  22.7487, -158.0000,  4721, 3799.900,    1.453,   34.682,2,   34.682,2,  145.400,2,  145.800,2,  153.670,2,   35.830,2,    2.520,2, -999.000
           NA,HOT timeseries 1988to2019 27SEP2021,    203,  99,-999.0,    8006,-999.0,20100309,1822,  22.7487, -158.0000,  4721, 4000.700,    1.457,   34.684,2,   34.685,2,  147.900,2,  147.700,2,  153.850,2,   35.740,2,    2.510,2, -999.000
           NA,HOT timeseries 1988to2019 27SEP2021,    203,  99,-999.0,    8005,-999.0,20100309,1822,  22.7487, -158.0000,  4721, 4200.300,    1.464,   34.685,2,   34.686,2,  150.300,2,  150.600,2,  151.550,2,   35.430,2,    2.490,2, -999.000
           NA,HOT timeseries 1988to2019 27SEP2021,    203,  99,-999.0,    8004,-999.0,20100309,1822,  22.7487, -158.0000,  4721, 4400.800,    1.477,   34.686,2,   34.687,2,  151.900,2,  151.100,2,  150.990,2,   35.440,2,    2.480,2, -999.000
           NA,HOT timeseries 1988to2019 27SEP2021,    203,  99,-999.0,    8003,-999.0,20100309,1822,  22.7487, -158.0000,  4721, 4499.500,    1.485,   34.686,2,   34.687,2,  152.400,2,  152.300,2,  149.930,2,   35.430,2,    2.480,2, -999.000
           NA,HOT timeseries 1988to2019 27SEP2021,    203,  99,-999.0,    8002,-999.0,20100309,1822,  22.7487, -158.0000,  4721, 4600.000,    1.494,   34.687,2,   34.688,2,  153.300,2,  153.300,2,  150.360,2,   35.400,2,    2.480,2, -999.000
           NA,HOT timeseries 1988to2019 27SEP2021,    203,  99,-999.0,    8001,-999.0,20100309,1822,  22.7487, -158.0000,  4721, 4808.700,    1.505,   34.688,2,   34.689,2,  155.100,2,  154.800,2,  148.170,2,   35.370,2,    2.470,2, -999.000