BOTTLE,20214727JOAExport
EXPOCODE,SECT_ID,STNNBR,CASTNO,SAMPNO,BTLNBR,BTLNBR_FLAG_W,DATE,TIME,LATITUDE,LONGITUDE,DEPTH,CTDPRS,CTDTMP,CTDSAL,CTDSAL_FLAG_W,SALNTY,SALNTY_FLAG_W,CTDOXY,CTDOXY_FLAG_W,OXYGEN,OXYGEN_FLAG_W,SILCAT,SILCAT_FLAG_W,NINI,NINI_FLAG_W,PHSPHT,PHSPHT_FLAG_W,REVP
,,,,,,,,,,,,DB,IPTS-68,PSS-78,,PSS-78,,UMOL/KG,,UMOL/KG,,UMOL/KG,,UMOL/KG,,UMOL/KG,,DBAR
           NA,HOT timeseries 1988to2019 27SEP2021,     24,  99,-999.0,      27,-999.0,19910604,1823,  22.7283, -158.0183,  4757,    6.200,   24.546,   34.971,2, -999.000,5,  262.000,2, -999.000,5, -999.000,5, -999.000,5, -999.000,5, -999.000
           NA,HOT timeseries 1988to2019 27SEP2021,     24,  99,-999.0,      23,-999.0,19910604,1823,  22.7283, -158.0183,  4757,    6.200,   24.546,   34.971,2,   34.971,2,  262.000,2,  211.200,2,    1.280,2,    0.000,2,    0.080,2, -999.000
           NA,HOT timeseries 1988to2019 27SEP2021,     24,  99,-999.0,      22,-999.0,19910604,1823,  22.7283, -158.0183,  4757,   25.600,   24.527,   34.971,2,   34.971,2,  261.900,2,  211.800,2,    1.280,2,    0.000,2,    0.080,2, -999.000
           NA,HOT timeseries 1988to2019 27SEP2021,     24,  99,-999.0,      21,-999.0,19910604,1823,  22.7283, -158.0183,  4757,   65.500,   23.399,   35.127,2,   35.129,2,  242.000,2,  220.300,2,    1.310,2,    0.000,2,    0.060,2, -999.000
           NA,HOT timeseries 1988to2019 27SEP2021,     24,  99,-999.0,      20,-999.0,19910604,1823,  22.7283, -158.0183,  4757,   97.800,   21.970,   35.266,2,   35.266,2,  240.700,2,  225.300,2,    1.280,2,    0.000,2,    0.040,2, -999.000
           NA,HOT timeseries 1988to2019 27SEP2021,     24,  99,-999.0,      27,-999.0,19910604,1823,  22.7283, -158.0183,  4757,  103.100,   21.174,   35.259,2,   35.260,2,  227.800,2,  218.300,2,    1.460,2,    0.000,2,    0.060,2, -999.000
           NA,HOT timeseries 1988to2019 27SEP2021,     24,  99,-999.0,      19,-999.0,19910604,1823,  22.7283, -158.0183,  4757,  104.400,   21.682,   35.265,2,   35.265,2,  226.300,2,  223.000,2,    1.280,2,    0.030,2,    0.060,2, -999.000
           NA,HOT timeseries 1988to2019 27SEP2021,     24,  99,-999.0,      18,-999.0,19910604,1823,  22.7283, -158.0183,  4757,  152.400,   20.089,   35.192,2,   35.202,2,  196.000,2,  208.100,2,    1.830,2,    1.130,2,    0.150,2, -999.000
           NA,HOT timeseries 1988to2019 27SEP2021,     24,  99,-999.0,      17,-999.0,19910604,1823,  22.7283, -158.0183,  4757,  157.000,   19.939,   35.165,2,   35.170,2,  194.200,2,  212.200,2,    2.010,2,    1.440,2,    0.180,2, -999.000
           NA,HOT timeseries 1988to2019 27SEP2021,     24,  99,-999.0,      16,-999.0,19910604,1823,  22.7283, -158.0183,  4757,  226.700,   17.149,   34.858,2,   34.860,2,  195.500,2,  202.000,2,    3.840,2,    3.810,2,    0.340,2, -999.000
           NA,HOT timeseries 1988to2019 27SEP2021,     24,  99,-999.0,      15,-999.0,19910604,1823,  22.7283, -158.0183,  4757,  311.300,   12.280,   34.300,2,   34.300,2,  199.900,2,  206.800,2,   10.430,2,   10.460,2,    0.770,2, -999.000
           NA,HOT timeseries 1988to2019 27SEP2021,     24,  99,-999.0,      14,-999.0,19910604,1823,  22.7283, -158.0183,  4757,  375.700,   10.483,   34.181,2, -999.000,5,  214.200,2,  207.600,2, -999.000,5, -999.000,5, -999.000,5, -999.000
           NA,HOT timeseries 1988to2019 27SEP2021,     24,  99,-999.0,      23,-999.0,19910604,1823,  22.7283, -158.0183,  4757,  386.200,   10.341,   34.174,2,   34.174,2,  211.500,2,  204.800,2,   17.200,2,   14.600,2,    1.020,2, -999.000
           NA,HOT timeseries 1988to2019 27SEP2021,     24,  99,-999.0,      13,-999.0,19910604,1823,  22.7283, -158.0183,  4757,  402.200,    9.790,   34.143,2,   34.143,2,  208.100,2,  198.100,2,   20.670,2,   16.460,2,    1.180,2, -999.000
           NA,HOT timeseries 1988to2019 27SEP2021,     24,  99,-999.0,      12,-999.0,19910604,1823,  22.7283, -158.0183,  4757,  443.900,    8.532,   34.081,2,   34.081,2,  172.200,2,  171.700,2,   30.740,2,   21.540,2,    1.540,2, -999.000
           NA,HOT timeseries 1988to2019 27SEP2021,     24,  99,-999.0,      11,-999.0,19910604,1823,  22.7283, -158.0183,  4757,  509.100,    6.866,   34.036,2,   34.036,2,  127.000,2,  121.300,2,   49.940,2,   29.330,2,    2.100,2, -999.000
           NA,HOT timeseries 1988to2019 27SEP2021,     24,  99,-999.0,      10,-999.0,19910604,1823,  22.7283, -158.0183,  4757,  530.100,    6.446,   34.043,2,   34.044,2,  101.500,2,  103.400,2,   56.340,2,   31.560,2,    2.290,2, -999.000
           NA,HOT timeseries 1988to2019 27SEP2021,     24,  99,-999.0,       9,-999.0,19910604,1823,  22.7283, -158.0183,  4757,  544.400,    6.242,   34.053,2,   34.051,2,   91.000,2,   91.400,2,   60.550,2,   33.170,2,    2.410,2, -999.000
           NA,HOT timeseries 1988to2019 27SEP2021,     24,  99,-999.0,       8,-999.0,19910604,1823,  22.7283, -158.0183,  4757,  594.800,    5.760,   34.112,2,   34.107,2,   63.800,2,   64.200,2,   71.900,2,   36.270,2,    2.660,2, -999.000
           NA,HOT timeseries 1988to2019 27SEP2021,     24,  99,-999.0,       7,-999.0,19910604,1823,  22.7283, -158.0183,  4757,  629.100,    5.701,   34.193,2,   34.195,2,   39.600,2,   46.400,2,   75.550,2,   37.500,2,    2.790,2, -999.000
           NA,HOT timeseries 1988to2019 27SEP2021,     24,  99,-999.0,       6,-999.0,19910604,1823,  22.7283, -158.0183,  4757,  683.900,    5.198,   34.238,2,   34.238,2,   31.200,2,   36.900,2,   86.160,2,   39.480,2,    2.910,2, -999.000
           NA,HOT timeseries 1988to2019 27SEP2021,     24,  99,-999.0,      26,-999.0,19910604,1823,  22.7283, -158.0183,  4757,  766.000,    4.803,   34.319,2,   34.318,2,   27.100,2,   31.600,2,   94.740,2,   40.720,2,    2.990,2, -999.000
           NA,HOT timeseries 1988to2019 27SEP2021,     24,  99,-999.0,      25,-999.0,19910604,1823,  22.7283, -158.0183,  4757,  800.000,    4.726,   34.361,2,   34.362,2,   26.000,2,   31.600,2,   97.120,2,   41.090,2,    3.000,2, -999.000
           NA,HOT timeseries 1988to2019 27SEP2021,     24,  99,-999.0,      22,-999.0,19910604,1823,  22.7283, -158.0183,  4757,  837.300,    4.442,   34.376,2,   34.375,2,   32.400,2,   32.400,2,  102.060,2,   40.960,2, -999.000,4, -999.000
           NA,HOT timeseries 1988to2019 27SEP2021,     24,  99,-999.0,       3,-999.0,19910604,1823,  22.7283, -158.0183,  4757,  915.900,    4.418,   34.459,2,   34.458,2,   33.800,2,   37.500,2,  102.970,2,   42.070,2,    3.020,2, -999.000
           NA,HOT timeseries 1988to2019 27SEP2021,     24,  99,-999.0,       2,-999.0,19910604,1823,  22.7283, -158.0183,  4757,  987.500,    4.158,   34.490,2,   34.490,2,   37.400,2,   40.700,2,  108.080,2,   41.940,2,    3.030,2, -999.000
           NA,HOT timeseries 1988to2019 27SEP2021,     24,  99,-999.0,       1,-999.0,19910604,1823,  22.7283, -158.0183,  4757, 1032.000,    3.964,   34.490,2,   34.489,2,   38.500,2,   42.000,2,  112.840,2,   41.700,2,    3.020,2, -999.000
           NA,HOT timeseries 1988to2019 27SEP2021,     24,  99,-999.0,      21,-999.0,19910604,1823,  22.7283, -158.0183,  4757, 1103.800,    3.803,   34.497,2,   34.496,2,   43.200,2,   43.000,2,  115.760,2,   41.940,2,    3.000,2, -999.000
           NA,HOT timeseries 1988to2019 27SEP2021,     24,  99,-999.0,      20,-999.0,19910604,1823,  22.7283, -158.0183,  4757, 1253.700,    3.427,   34.531,2,   34.528,2,   53.100,2,   51.800,2,  123.990,2,   41.570,2,    3.000,2, -999.000
           NA,HOT timeseries 1988to2019 27SEP2021,     24,  99,-999.0,      19,-999.0,19910604,1823,  22.7283, -158.0183,  4757, 1405.400,    3.092,   34.552,2,   34.554,2,   60.700,2,   59.500,2,  131.850,2,   41.320,2,    2.980,2, -999.000
           NA,HOT timeseries 1988to2019 27SEP2021,     24,  99,-999.0,      18,-999.0,19910604,1823,  22.7283, -158.0183,  4757, 1551.600,    2.806,   34.571,2,   34.572,2,   69.000,2,   65.300,2,  137.700,2,   40.950,2,    2.960,2, -999.000
           NA,HOT timeseries 1988to2019 27SEP2021,     24,  99,-999.0,      17,-999.0,19910604,1823,  22.7283, -158.0183,  4757, 1700.900,    2.509,   34.589,2,   34.592,2,   76.200,2,   73.700,2,  145.930,2,   40.450,2,    2.910,2, -999.000
           NA,HOT timeseries 1988to2019 27SEP2021,     24,  99,-999.0,      16,-999.0,19910604,1823,  22.7283, -158.0183,  4757, 1856.500,    2.299,   34.606,2,   34.607,2,   82.100,2,   82.600,2,  147.760,2,   39.840,2,    2.860,2, -999.000
           NA,HOT timeseries 1988to2019 27SEP2021,     24,  99,-999.0,      15,-999.0,19910604,1823,  22.7283, -158.0183,  4757, 2007.300,    2.122,   34.617,2,   34.619,2,   92.500,2,   88.700,2,  152.600,2,   39.590,2,    2.820,2, -999.000
           NA,HOT timeseries 1988to2019 27SEP2021,     24,  99,-999.0,      14,-999.0,19910604,1823,  22.7283, -158.0183,  4757, 2210.000,    1.917,   34.628,2,   34.629,2,   93.900,2,   93.800,2,  159.270,2,   39.220,2,    2.790,2, -999.000
           NA,HOT timeseries 1988to2019 27SEP2021,     24,  99,-999.0,      13,-999.0,19910604,1823,  22.7283, -158.0183,  4757, 2411.300,    1.777,   34.642,2,   34.642,2,  101.700,2,  102.900,2,  160.550,2,   38.850,2,    2.780,2, -999.000
           NA,HOT timeseries 1988to2019 27SEP2021,     24,  99,-999.0,      12,-999.0,19910604,1823,  22.7283, -158.0183,  4757, 2606.300,    1.682,   34.652,2,   34.653,2,  108.800,2,  111.500,2,  161.470,2,   38.350,2,    2.700,2, -999.000
           NA,HOT timeseries 1988to2019 27SEP2021,     24,  99,-999.0,      11,-999.0,19910604,1823,  22.7283, -158.0183,  4757, 2808.000,    1.595,   34.660,2,   34.661,2,  117.300,2,  119.700,2,  160.550,2,   37.610,2,    2.660,2, -999.000
           NA,HOT timeseries 1988to2019 27SEP2021,     24,  99,-999.0,      10,-999.0,19910604,1823,  22.7283, -158.0183,  4757, 3006.800,    1.541,   34.666,2,   34.667,2,  121.500,2,  125.100,2,  160.820,2,   37.460,2,    2.650,2, -999.000
           NA,HOT timeseries 1988to2019 27SEP2021,     24,  99,-999.0,       9,-999.0,19910604,1823,  22.7283, -158.0183,  4757, 3206.200,    1.497,   34.672,2,   34.673,2,  130.400,2,  132.600,2,  158.720,2,   36.990,2,    2.610,2, -999.000
           NA,HOT timeseries 1988to2019 27SEP2021,     24,  99,-999.0,       8,-999.0,19910604,1823,  22.7283, -158.0183,  4757, 3404.100,    1.468,   34.676,2,   34.678,2,  137.100,2,  138.500,2,  156.890,2,   36.620,2,    2.560,2, -999.000
           NA,HOT timeseries 1988to2019 27SEP2021,     24,  99,-999.0,       7,-999.0,19910604,1823,  22.7283, -158.0183,  4757, 3595.900,    1.457,   34.679,2,   34.679,2,  141.600,2,  142.800,2,  155.070,2,   36.370,2,    2.550,2, -999.000
           NA,HOT timeseries 1988to2019 27SEP2021,     24,  99,-999.0,       6,-999.0,19910604,1823,  22.7283, -158.0183,  4757, 3794.700,    1.453,   34.681,2,   34.681,2,  145.100,2,  145.400,2,  153.970,2,   36.250,2,    2.540,2, -999.000
           NA,HOT timeseries 1988to2019 27SEP2021,     24,  99,-999.0,      26,-999.0,19910604,1823,  22.7283, -158.0183,  4757, 4000.200,    1.457,   34.683,2,   34.683,2,  148.800,2,  148.600,2,  152.870,2,   36.120,2,    2.520,2, -999.000
           NA,HOT timeseries 1988to2019 27SEP2021,     24,  99,-999.0,      25,-999.0,19910604,1823,  22.7283, -158.0183,  4757, 4202.000,    1.470,   34.684,2,   34.683,2,  151.300,2,  149.300,2,  152.320,2,   36.000,2,    2.510,2, -999.000
           NA,HOT timeseries 1988to2019 27SEP2021,     24,  99,-999.0,       3,-999.0,19910604,1823,  22.7283, -158.0183,  4757, 4406.200,    1.482,   34.685,2,   34.685,2,  152.700,2,  151.500,2,  151.680,2,   35.750,2,    2.490,2, -999.000
           NA,HOT timeseries 1988to2019 27SEP2021,     24,  99,-999.0,       2,-999.0,19910604,1823,  22.7283, -158.0183,  4757, 4605.600,    1.494,   34.687,2, -999.000,2,  155.200,2, -999.000,2, -999.000,2, -999.000,2, -999.000,2, -999.000
           NA,HOT timeseries 1988to2019 27SEP2021,     24,  99,-999.0,       1,-999.0,19910604,1823,  22.7283, -158.0183,  4757, 4775.700,    1.493,   34.688,2,   34.688,2,  159.800,2,  156.600,2,  148.300,2,   35.580,2,    2.460,2, -999.000