BOTTLE,20214727JOAExport
EXPOCODE,SECT_ID,STNNBR,CASTNO,SAMPNO,BTLNBR,BTLNBR_FLAG_W,DATE,TIME,LATITUDE,LONGITUDE,DEPTH,CTDPRS,CTDTMP,CTDSAL,CTDSAL_FLAG_W,SALNTY,SALNTY_FLAG_W,CTDOXY,CTDOXY_FLAG_W,OXYGEN,OXYGEN_FLAG_W,SILCAT,SILCAT_FLAG_W,NINI,NINI_FLAG_W,PHSPHT,PHSPHT_FLAG_W,REVP
,,,,,,,,,,,,DB,IPTS-68,PSS-78,,PSS-78,,UMOL/KG,,UMOL/KG,,UMOL/KG,,UMOL/KG,,UMOL/KG,,DBAR
           NA,HOT timeseries 1988to2019 27SEP2021,    127,  99,-999.0,      31,-999.0,20011022,1758,  22.7567, -157.9790,  4709,    4.400,   25.425,   35.407,2,   35.407,2,  206.100,2,  207.000,2, -999.000,9, -999.000,9, -999.000,9, -999.000
           NA,HOT timeseries 1988to2019 27SEP2021,    127,  99,-999.0,      30,-999.0,20011022,1758,  22.7567, -157.9790,  4709,   64.900,   25.415,   35.406,2,   35.405,2,  206.100,2,  207.000,2, -999.000,9, -999.000,9, -999.000,9, -999.000
           NA,HOT timeseries 1988to2019 27SEP2021,    127,  99,-999.0,      22,-999.0,20011022,1758,  22.7567, -157.9790,  4709,   92.600,   22.280,   35.289,2, -999.000,4, -999.000,3,  221.800,2, -999.000,9, -999.000,9, -999.000,9, -999.000
           NA,HOT timeseries 1988to2019 27SEP2021,    127,  99,-999.0,      21,-999.0,20011022,1758,  22.7567, -157.9790,  4709,  154.800,   20.289,   35.202,2,   35.205,2,  202.900,2,  203.300,2, -999.000,9, -999.000,9, -999.000,9, -999.000
           NA,HOT timeseries 1988to2019 27SEP2021,    127,  99,-999.0,      20,-999.0,20011022,1758,  22.7567, -157.9790,  4709,  189.900,   18.809,   35.028,2,   35.030,2,  198.400,2,  197.800,2, -999.000,9, -999.000,9, -999.000,9, -999.000
           NA,HOT timeseries 1988to2019 27SEP2021,    127,  99,-999.0,      19,-999.0,20011022,1758,  22.7567, -157.9790,  4709,  231.700,   16.522,   34.690,2,   34.690,2,  197.800,2,  196.900,2, -999.000,9, -999.000,9, -999.000,9, -999.000
           NA,HOT timeseries 1988to2019 27SEP2021,    127,  99,-999.0,      18,-999.0,20011022,1758,  22.7567, -157.9790,  4709,  280.600,   13.428,   34.310,2,   34.309,2,  198.500,2,  197.000,2, -999.000,9, -999.000,9, -999.000,9, -999.000
           NA,HOT timeseries 1988to2019 27SEP2021,    127,  99,-999.0,      17,-999.0,20011022,1758,  22.7567, -157.9790,  4709,  322.300,   11.379,   34.147,2,   34.150,2,  198.200,2,  196.700,2, -999.000,9, -999.000,9, -999.000,9, -999.000
           NA,HOT timeseries 1988to2019 27SEP2021,    127,  99,-999.0,      16,-999.0,20011022,1758,  22.7567, -157.9790,  4709,  358.900,   10.274,   34.102,2,   34.101,2,  189.900,2,  188.500,2, -999.000,9, -999.000,9, -999.000,9, -999.000
           NA,HOT timeseries 1988to2019 27SEP2021,    127,  99,-999.0,      23,-999.0,20011022,1758,  22.7567, -157.9790,  4709,  392.700,    9.036,   34.074,2,   34.075,2,  172.300,2,  173.300,2, -999.000,9, -999.000,9, -999.000,9, -999.000
           NA,HOT timeseries 1988to2019 27SEP2021,    127,  99,-999.0,      14,-999.0,20011022,1758,  22.7567, -157.9790,  4709,  425.000,    8.094,   34.047,2,   34.048,2,  153.700,2,  154.600,2, -999.000,9, -999.000,9, -999.000,9, -999.000
           NA,HOT timeseries 1988to2019 27SEP2021,    127,  99,-999.0,      13,-999.0,20011022,1758,  22.7567, -157.9790,  4709,  467.100,    7.364,   34.032,2,   34.032,2,  132.500,2,  132.600,2, -999.000,9, -999.000,9, -999.000,9, -999.000
           NA,HOT timeseries 1988to2019 27SEP2021,    127,  99,-999.0,      12,-999.0,20011022,1758,  22.7567, -157.9790,  4709,  510.400,    6.517,   34.036,2,   34.035,2,  100.000,2,  101.200,2, -999.000,9, -999.000,9, -999.000,9, -999.000
           NA,HOT timeseries 1988to2019 27SEP2021,    127,  99,-999.0,      11,-999.0,20011022,1758,  22.7567, -157.9790,  4709,  568.800,    5.601,   34.073,2,   34.072,2,   62.800,2,   63.400,2, -999.000,9, -999.000,9, -999.000,9, -999.000
           NA,HOT timeseries 1988to2019 27SEP2021,    127,  99,-999.0,      32,-999.0,20011022,1758,  22.7567, -157.9790,  4709,  605.300,    5.229,   34.113,2,   34.113,2,   46.300,2,   46.400,2, -999.000,9, -999.000,9, -999.000,9, -999.000
           NA,HOT timeseries 1988to2019 27SEP2021,    127,  99,-999.0,       3,-999.0,20011022,1758,  22.7567, -157.9790,  4709,  639.900,    5.048,   34.145,2,   34.145,2,   37.600,2,   36.500,2, -999.000,9, -999.000,9, -999.000,9, -999.000
           NA,HOT timeseries 1988to2019 27SEP2021,    127,  99,-999.0,      29,-999.0,20011022,1758,  22.7567, -157.9790,  4709,  672.900,    4.931,   34.199,2,   34.198,2,   28.100,2,   27.400,2, -999.000,9, -999.000,9, -999.000,9, -999.000
           NA,HOT timeseries 1988to2019 27SEP2021,    127,  99,-999.0,      28,-999.0,20011022,1758,  22.7567, -157.9790,  4709,  700.000,    4.807,   34.235,2,   34.239,2,   25.400,2,   23.600,2, -999.000,9, -999.000,9, -999.000,9, -999.000
           NA,HOT timeseries 1988to2019 27SEP2021,    127,  99,-999.0,       7,-999.0,20011022,1758,  22.7567, -157.9790,  4709,  740.300,    4.782,   34.311,2,   34.311,2,   26.000,2,   24.700,2, -999.000,9, -999.000,9, -999.000,9, -999.000
           NA,HOT timeseries 1988to2019 27SEP2021,    127,  99,-999.0,      36,-999.0,20011022,1758,  22.7567, -157.9790,  4709,  849.800,    4.288,   34.432,2,   34.431,2,   31.800,2,   30.600,2, -999.000,9, -999.000,9, -999.000,9, -999.000
           NA,HOT timeseries 1988to2019 27SEP2021,    127,  99,-999.0,      35,-999.0,20011022,1758,  22.7567, -157.9790,  4709,  900.500,    4.155,   34.464,2,   34.463,2,   36.700,2,   35.800,2, -999.000,9, -999.000,9, -999.000,9, -999.000
           NA,HOT timeseries 1988to2019 27SEP2021,    127,  99,-999.0,      34,-999.0,20011022,1758,  22.7567, -157.9790,  4709,  942.800,    4.065,   34.478,2,   34.476,2,   38.900,2,   38.000,2, -999.000,9, -999.000,9, -999.000,9, -999.000
           NA,HOT timeseries 1988to2019 27SEP2021,    127,  99,-999.0,      33,-999.0,20011022,1758,  22.7567, -157.9790,  4709, 1020.600,    3.835,   34.499,2,   34.500,2,   44.700,2,   44.500,2, -999.000,9, -999.000,9, -999.000,9, -999.000
           NA,HOT timeseries 1988to2019 27SEP2021,    127,  99,-999.0,      20,-999.0,20011022,1758,  22.7567, -157.9790,  4709, 1199.900,    3.487,   34.531,2,   34.530,2,   48.800,2,   49.500,2, -999.000,9, -999.000,9, -999.000,9, -999.000
           NA,HOT timeseries 1988to2019 27SEP2021,    127,  99,-999.0,      19,-999.0,20011022,1758,  22.7567, -157.9790,  4709, 1401.600,    2.994,   34.562,2,   34.561,2,   61.600,2,   62.100,2, -999.000,9, -999.000,9, -999.000,9, -999.000
           NA,HOT timeseries 1988to2019 27SEP2021,    127,  99,-999.0,      18,-999.0,20011022,1758,  22.7567, -157.9790,  4709, 1600.600,    2.681,   34.583,2,   34.582,2,   69.000,2,   69.800,2, -999.000,9, -999.000,9, -999.000,9, -999.000
           NA,HOT timeseries 1988to2019 27SEP2021,    127,  99,-999.0,      17,-999.0,20011022,1758,  22.7567, -157.9790,  4709, 1801.500,    2.352,   34.604,2,   34.604,2,   79.200,2,   80.000,2, -999.000,9, -999.000,9, -999.000,9, -999.000
           NA,HOT timeseries 1988to2019 27SEP2021,    127,  99,-999.0,      16,-999.0,20011022,1758,  22.7567, -157.9790,  4709, 2001.900,    2.089,   34.623,2,   34.623,2,   88.100,2,   88.800,2, -999.000,9, -999.000,9, -999.000,9, -999.000
           NA,HOT timeseries 1988to2019 27SEP2021,    127,  99,-999.0,      23,-999.0,20011022,1758,  22.7567, -157.9790,  4709, 2201.100,    1.890,   34.638,2,   34.638,2,   97.800,2,   98.600,2, -999.000,9, -999.000,9, -999.000,9, -999.000
           NA,HOT timeseries 1988to2019 27SEP2021,    127,  99,-999.0,      14,-999.0,20011022,1758,  22.7567, -157.9790,  4709, 2398.600,    1.754,   34.650,2,   34.650,2,  104.900,2,  106.700,2, -999.000,9, -999.000,9, -999.000,9, -999.000
           NA,HOT timeseries 1988to2019 27SEP2021,    127,  99,-999.0,      13,-999.0,20011022,1758,  22.7567, -157.9790,  4709, 2601.100,    1.661,   34.659,2,   34.660,2,  113.200,2,  113.900,2, -999.000,9, -999.000,9, -999.000,9, -999.000
           NA,HOT timeseries 1988to2019 27SEP2021,    127,  99,-999.0,      12,-999.0,20011022,1758,  22.7567, -157.9790,  4709, 2802.600,    1.599,   34.665,2,   34.664,2,  119.700,2,  120.300,2, -999.000,9, -999.000,9, -999.000,9, -999.000
           NA,HOT timeseries 1988to2019 27SEP2021,    127,  99,-999.0,      11,-999.0,20011022,1758,  22.7567, -157.9790,  4709, 2999.200,    1.546,   34.671,2,   34.670,2,  125.900,2, -999.000,3, -999.000,9, -999.000,9, -999.000,9, -999.000
           NA,HOT timeseries 1988to2019 27SEP2021,    127,  99,-999.0,      32,-999.0,20011022,1758,  22.7567, -157.9790,  4709, 3199.800,    1.509,   34.676,2,   34.676,2,  130.300,2,  130.500,2, -999.000,9, -999.000,9, -999.000,9, -999.000
           NA,HOT timeseries 1988to2019 27SEP2021,    127,  99,-999.0,       3,-999.0,20011022,1758,  22.7567, -157.9790,  4709, 3400.200,    1.481,   34.680,2,   34.685,2,  135.400,2,  136.000,2, -999.000,9, -999.000,9, -999.000,9, -999.000
           NA,HOT timeseries 1988to2019 27SEP2021,    127,  99,-999.0,      29,-999.0,20011022,1758,  22.7567, -157.9790,  4709, 3598.300,    1.468,   34.683,2,   34.682,2,  139.200,2,  139.700,2, -999.000,9, -999.000,9, -999.000,9, -999.000
           NA,HOT timeseries 1988to2019 27SEP2021,    127,  99,-999.0,      28,-999.0,20011022,1758,  22.7567, -157.9790,  4709, 3798.200,    1.452,   34.685,2,   34.685,2,  145.000,2,  144.800,2, -999.000,9, -999.000,9, -999.000,9, -999.000
           NA,HOT timeseries 1988to2019 27SEP2021,    127,  99,-999.0,       7,-999.0,20011022,1758,  22.7567, -157.9790,  4709, 3999.500,    1.451,   34.687,2,   34.687,2,  148.100,2,  148.300,2, -999.000,9, -999.000,9, -999.000,9, -999.000
           NA,HOT timeseries 1988to2019 27SEP2021,    127,  99,-999.0,      38,-999.0,20011022,1758,  22.7567, -157.9790,  4709, 4202.300,    1.460,   34.688,2,   34.688,2,  150.500,2,  150.300,2, -999.000,9, -999.000,9, -999.000,9, -999.000
           NA,HOT timeseries 1988to2019 27SEP2021,    127,  99,-999.0,      36,-999.0,20011022,1758,  22.7567, -157.9790,  4709, 4398.800,    1.476,   34.689,2,   34.689,2,  152.000,2,  151.100,2, -999.000,9, -999.000,9, -999.000,9, -999.000
           NA,HOT timeseries 1988to2019 27SEP2021,    127,  99,-999.0,      35,-999.0,20011022,1758,  22.7567, -157.9790,  4709, 4500.300,    1.484,   34.689,2,   34.690,2,  152.500,2,  152.100,2, -999.000,9, -999.000,9, -999.000,9, -999.000
           NA,HOT timeseries 1988to2019 27SEP2021,    127,  99,-999.0,      34,-999.0,20011022,1758,  22.7567, -157.9790,  4709, 4604.400,    1.491,   34.690,2,   34.691,2,  153.300,2,  152.500,2, -999.000,9, -999.000,9, -999.000,9, -999.000
           NA,HOT timeseries 1988to2019 27SEP2021,    127,  99,-999.0,      33,-999.0,20011022,1758,  22.7567, -157.9790,  4709, 4804.900,    1.508,   34.690,2,   34.691,2,  154.400,2, -999.000,3, -999.000,9, -999.000,9, -999.000,9, -999.000