BOTTLE,20214727JOAExport
EXPOCODE,SECT_ID,STNNBR,CASTNO,SAMPNO,BTLNBR,BTLNBR_FLAG_W,DATE,TIME,LATITUDE,LONGITUDE,DEPTH,CTDPRS,CTDTMP,CTDSAL,CTDSAL_FLAG_W,SALNTY,SALNTY_FLAG_W,CTDOXY,CTDOXY_FLAG_W,OXYGEN,OXYGEN_FLAG_W,SILCAT,SILCAT_FLAG_W,NINI,NINI_FLAG_W,PHSPHT,PHSPHT_FLAG_W,REVP
,,,,,,,,,,,,DB,IPTS-68,PSS-78,,PSS-78,,UMOL/KG,,UMOL/KG,,UMOL/KG,,UMOL/KG,,UMOL/KG,,DBAR
           NA,HOT timeseries 1988to2019 27SEP2021,     61,  99,-999.0,      31,-999.0,19950827,1842,  22.7553, -157.9943,  4719,    4.900,   25.965,   34.951,2,   34.955,2,  203.200,2,  204.600,2,    1.340,2,    0.010,2,    0.070,2, -999.000
           NA,HOT timeseries 1988to2019 27SEP2021,     61,  99,-999.0,      31,-999.0,19950827,1842,  22.7553, -157.9943,  4719,    5.000,   25.969,   34.928,2,   34.929,2,  211.700,2,  205.000,2,    1.400,2,    0.000,2,    0.070,2, -999.000
           NA,HOT timeseries 1988to2019 27SEP2021,     61,  99,-999.0,      30,-999.0,19950827,1842,  22.7553, -157.9943,  4719,   43.100,   25.451,   35.198,2,   35.204,2,  214.200,2,  210.600,2,    1.310,2,    0.010,2,    0.040,2, -999.000
           NA,HOT timeseries 1988to2019 27SEP2021,     61,  99,-999.0,      22,-999.0,19950827,1842,  22.7553, -157.9943,  4719,   57.900,   24.264,   35.090,2, -999.000,3, -999.000,3,  220.000,2,    1.460,2,    0.000,2,    0.030,2, -999.000
           NA,HOT timeseries 1988to2019 27SEP2021,     61,  99,-999.0,      21,-999.0,19950827,1842,  22.7553, -157.9943,  4719,   75.300,   22.348,   35.155,2,   35.157,2,  223.100,2,  227.000,2,    1.720,2,    0.000,2,    0.030,2, -999.000
           NA,HOT timeseries 1988to2019 27SEP2021,     61,  99,-999.0,      20,-999.0,19950827,1842,  22.7553, -157.9943,  4719,   98.700,   21.221,   35.167,2,   35.168,2,  214.000,2,  216.200,2,    1.760,2,    0.020,2,    0.060,2, -999.000
           NA,HOT timeseries 1988to2019 27SEP2021,     61,  99,-999.0,      30,-999.0,19950827,1842,  22.7553, -157.9943,  4719,  106.400,   21.146,   35.168,2,   35.173,2,  202.100,2,  214.900,2,    1.660,2,    0.090,2,    0.070,2, -999.000
           NA,HOT timeseries 1988to2019 27SEP2021,     61,  99,-999.0,      19,-999.0,19950827,1842,  22.7553, -157.9943,  4719,  136.500,   19.890,   35.116,2,   35.118,2,  183.200,2,  198.100,2,    2.320,2,    1.520,2,    0.180,2, -999.000
           NA,HOT timeseries 1988to2019 27SEP2021,     61,  99,-999.0,      18,-999.0,19950827,1842,  22.7553, -157.9943,  4719,  218.800,   16.156,   34.684,2,   34.687,2,  183.900,2,  192.700,2,    5.110,2,    5.070,2,    0.430,2, -999.000
           NA,HOT timeseries 1988to2019 27SEP2021,     61,  99,-999.0,      17,-999.0,19950827,1842,  22.7553, -157.9943,  4719,  308.300,   11.903,   34.249,2,   34.246,2,  203.000,2,  197.100,2,   11.890,2,   11.690,2,    0.860,2, -999.000
           NA,HOT timeseries 1988to2019 27SEP2021,     61,  99,-999.0,      16,-999.0,19950827,1842,  22.7553, -157.9943,  4719,  350.800,   10.452,   34.151,2,   34.152,2,  200.600,2,  187.600,2,   17.520,2,   15.650,2,    1.140,2, -999.000
           NA,HOT timeseries 1988to2019 27SEP2021,     61,  99,-999.0,      15,-999.0,19950827,1842,  22.7553, -157.9943,  4719,  413.800,    8.384,   34.065,2,   34.064,2,  182.500,2,  156.700,2,   30.670,2,   22.210,2,    1.620,2, -999.000
           NA,HOT timeseries 1988to2019 27SEP2021,     61,  99,-999.0,      14,-999.0,19950827,1842,  22.7553, -157.9943,  4719,  476.900,    7.076,   34.042,2,   34.042,2,  122.200,2,  120.700,2,   46.440,2,   28.570,2,    2.070,2, -999.000
           NA,HOT timeseries 1988to2019 27SEP2021,     61,  99,-999.0,      13,-999.0,19950827,1842,  22.7553, -157.9943,  4719,  517.800,    6.477,   34.042,2,   34.042,2,  101.200,2,   98.700,2,   55.320,2,   31.780,2,    2.320,2, -999.000
           NA,HOT timeseries 1988to2019 27SEP2021,     61,  99,-999.0,      22,-999.0,19950827,1842,  22.7553, -157.9943,  4719,  524.400,    6.371,   34.048,2,   34.049,2,   98.800,2,   93.800,2,   55.970,2,   31.480,2,    2.290,2, -999.000
           NA,HOT timeseries 1988to2019 27SEP2021,     61,  99,-999.0,      12,-999.0,19950827,1842,  22.7553, -157.9943,  4719,  571.100,    6.026,   34.080,2,   34.079,2,   71.100,2,   71.500,2,   64.810,2,   34.720,2,    2.580,2, -999.000
           NA,HOT timeseries 1988to2019 27SEP2021,     61,  99,-999.0,      11,-999.0,19950827,1842,  22.7553, -157.9943,  4719,  600.800,    5.702,   34.119,2,   34.119,2,   60.500,2,   58.400,2,   71.620,2,   36.210,2,    2.710,2, -999.000
           NA,HOT timeseries 1988to2019 27SEP2021,     61,  99,-999.0,      32,-999.0,19950827,1842,  22.7553, -157.9943,  4719,  630.600,    5.595,   34.158,2,   34.154,2,   47.500,2,   48.900,2,   75.200,2,   37.170,2,    2.790,2, -999.000
           NA,HOT timeseries 1988to2019 27SEP2021,     61,  99,-999.0,       3,-999.0,19950827,1842,  22.7553, -157.9943,  4719,  650.000,    5.280,   34.172,2,   34.167,2,   38.900,2,   40.900,2,   81.540,2,   38.470,2,    2.880,2, -999.000
           NA,HOT timeseries 1988to2019 27SEP2021,     61,  99,-999.0,      29,-999.0,19950827,1842,  22.7553, -157.9943,  4719,  693.000,    5.257,   34.247,2,   34.246,2,   35.900,2,   38.700,2,   84.050,2,   39.200,2,    2.950,2, -999.000
           NA,HOT timeseries 1988to2019 27SEP2021,     61,  99,-999.0,      28,-999.0,19950827,1842,  22.7553, -157.9943,  4719,  771.400,    4.711,   34.306,2,   34.307,2,   28.600,2,   28.300,2,   95.430,2,   40.880,2,    3.060,2, -999.000
           NA,HOT timeseries 1988to2019 27SEP2021,     61,  99,-999.0,       7,-999.0,19950827,1842,  22.7553, -157.9943,  4719,  779.900,    4.681,   34.317,2,   34.315,2,   28.700,2,   27.400,2,   96.320,2,   40.730,2,    3.030,2, -999.000
           NA,HOT timeseries 1988to2019 27SEP2021,     61,  99,-999.0,      23,-999.0,19950827,1842,  22.7553, -157.9943,  4719,  821.000,    4.673,   34.377,2,   34.376,2,   35.300,2,   30.700,2,   97.350,2,   40.700,2,    3.030,2, -999.000
           NA,HOT timeseries 1988to2019 27SEP2021,     61,  99,-999.0,      21,-999.0,19950827,1842,  22.7553, -157.9943,  4719,  830.200,    4.528,   34.380,2,   34.379,2,   31.900,2,   30.000,2,   99.390,2,   40.780,2,    3.010,2, -999.000
           NA,HOT timeseries 1988to2019 27SEP2021,     61,  99,-999.0,      36,-999.0,19950827,1842,  22.7553, -157.9943,  4719,  870.800,    4.480,   34.411,2,   34.409,2,   36.200,2,   33.600,2,  100.950,2,   41.080,2,    3.050,2, -999.000
           NA,HOT timeseries 1988to2019 27SEP2021,     61,  99,-999.0,      35,-999.0,19950827,1842,  22.7553, -157.9943,  4719,  900.800,    4.343,   34.427,2,   34.427,2,   38.200,2,   35.900,2,  102.870,2,   40.920,2,    3.000,2, -999.000
           NA,HOT timeseries 1988to2019 27SEP2021,     61,  99,-999.0,      34,-999.0,19950827,1842,  22.7553, -157.9943,  4719, 1016.100,    3.918,   34.463,2,   34.464,2,   43.400,2,   42.000,2,  111.880,2,   41.150,2,    3.040,2, -999.000
           NA,HOT timeseries 1988to2019 27SEP2021,     61,  99,-999.0,      33,-999.0,19950827,1842,  22.7553, -157.9943,  4719, 1020.600,    3.916,   34.463,2,   34.464,2,   43.400,2,   41.600,2,  112.190,2,   40.990,2,    3.030,2, -999.000
           NA,HOT timeseries 1988to2019 27SEP2021,     61,  99,-999.0,      20,-999.0,19950827,1842,  22.7553, -157.9943,  4719, 1199.400,    3.415,   34.528,2,   34.530,2,   55.300,2,   54.300,2,  121.890,2,   40.580,2,    2.950,2, -999.000
           NA,HOT timeseries 1988to2019 27SEP2021,     61,  99,-999.0,      19,-999.0,19950827,1842,  22.7553, -157.9943,  4719, 1399.100,    2.976,   34.566,2,   34.568,2,   64.100,2,   63.500,2,  131.140,2,   40.580,2,    2.940,2, -999.000
           NA,HOT timeseries 1988to2019 27SEP2021,     61,  99,-999.0,      18,-999.0,19950827,1842,  22.7553, -157.9943,  4719, 1606.300,    2.612,   34.581,2,   34.581,2,   73.700,2,   73.200,2,  139.340,2,   39.720,2,    2.880,2, -999.000
           NA,HOT timeseries 1988to2019 27SEP2021,     61,  99,-999.0,      17,-999.0,19950827,1842,  22.7553, -157.9943,  4719, 1801.000,    2.348,   34.604,2,   34.605,2,   81.200,2,   80.900,2,  144.960,2,   39.650,2,    2.850,2, -999.000
           NA,HOT timeseries 1988to2019 27SEP2021,     61,  99,-999.0,      16,-999.0,19950827,1842,  22.7553, -157.9943,  4719, 2002.700,    2.118,   34.620,2,   34.620,2,   89.700,2,   89.600,2,  149.950,2,   38.920,2,    2.810,2, -999.000
           NA,HOT timeseries 1988to2019 27SEP2021,     61,  99,-999.0,      15,-999.0,19950827,1842,  22.7553, -157.9943,  4719, 2196.600,    1.924,   34.635,2,   34.635,2,   95.700,2,   97.700,2,  153.730,2,   38.540,2,    2.770,2, -999.000
           NA,HOT timeseries 1988to2019 27SEP2021,     61,  99,-999.0,      14,-999.0,19950827,1842,  22.7553, -157.9943,  4719, 2400.100,    1.786,   34.646,2,   34.646,2,  102.900,2,  105.300,2,  156.310,2,   38.230,2,    2.750,2, -999.000
           NA,HOT timeseries 1988to2019 27SEP2021,     61,  99,-999.0,      13,-999.0,19950827,1842,  22.7553, -157.9943,  4719, 2597.800,    1.680,   34.655,2,   34.656,2,  112.000,2,  113.200,2,  157.360,2,   37.580,2,    2.700,2, -999.000
           NA,HOT timeseries 1988to2019 27SEP2021,     61,  99,-999.0,      12,-999.0,19950827,1842,  22.7553, -157.9943,  4719, 2799.400,    1.609,   34.662,2,   34.663,2,  117.700,2,  118.600,2,  157.920,2,   37.270,2,    2.660,2, -999.000
           NA,HOT timeseries 1988to2019 27SEP2021,     61,  99,-999.0,      11,-999.0,19950827,1842,  22.7553, -157.9943,  4719, 2999.800,    1.545,   34.668,2,   34.668,2,  124.200,2,  124.300,2,  158.530,2,   36.750,2,    2.640,2, -999.000
           NA,HOT timeseries 1988to2019 27SEP2021,     61,  99,-999.0,      32,-999.0,19950827,1842,  22.7553, -157.9943,  4719, 3199.100,    1.500,   34.675,2,   34.675,2,  132.000,2,  131.600,2,  156.120,2,   36.290,2,    2.590,2, -999.000
           NA,HOT timeseries 1988to2019 27SEP2021,     61,  99,-999.0,       3,-999.0,19950827,1842,  22.7553, -157.9943,  4719, 3400.400,    1.469,   34.679,2,   34.679,2,  138.200,2,  137.500,2,  155.560,2,   36.430,2,    2.540,2, -999.000
           NA,HOT timeseries 1988to2019 27SEP2021,     61,  99,-999.0,      29,-999.0,19950827,1842,  22.7553, -157.9943,  4719, 3597.100,    1.453,   34.682,2,   34.681,2,  141.900,2,  141.800,2,  153.370,2,   35.660,2,    2.540,2, -999.000
           NA,HOT timeseries 1988to2019 27SEP2021,     61,  99,-999.0,      28,-999.0,19950827,1842,  22.7553, -157.9943,  4719, 3798.700,    1.447,   34.685,2,   34.683,2,  146.000,2,  145.000,2,  152.030,2,   35.650,2,    2.530,2, -999.000
           NA,HOT timeseries 1988to2019 27SEP2021,     61,  99,-999.0,       7,-999.0,19950827,1842,  22.7553, -157.9943,  4719, 3997.400,    1.450,   34.686,2,   34.686,2,  149.000,2,  147.700,2,  151.150,2,   35.450,2,    2.510,2, -999.000
           NA,HOT timeseries 1988to2019 27SEP2021,     61,  99,-999.0,      23,-999.0,19950827,1842,  22.7553, -157.9943,  4719, 4199.200,    1.460,   34.687,2,   34.687,2,  149.100,2,  149.300,2,  150.290,2,   35.360,2,    2.480,2, -999.000
           NA,HOT timeseries 1988to2019 27SEP2021,     61,  99,-999.0,      36,-999.0,19950827,1842,  22.7553, -157.9943,  4719, 4400.600,    1.476,   34.688,2,   34.688,2,  150.300,2,  150.400,2,  149.650,2,   35.380,2,    2.480,2, -999.000
           NA,HOT timeseries 1988to2019 27SEP2021,     61,  99,-999.0,      35,-999.0,19950827,1842,  22.7553, -157.9943,  4719, 4501.500,    1.486,   34.688,2,   34.689,2,  152.200,2,  151.000,2,  149.250,2,   35.270,2,    2.480,2, -999.000
           NA,HOT timeseries 1988to2019 27SEP2021,     61,  99,-999.0,      34,-999.0,19950827,1842,  22.7553, -157.9943,  4719, 4599.400,    1.496,   34.688,2,   34.688,2,  150.500,2,  151.100,2,  149.090,2,   35.230,2,    2.480,2, -999.000