BOTTLE,20214727JOAExport
EXPOCODE,SECT_ID,STNNBR,CASTNO,SAMPNO,BTLNBR,BTLNBR_FLAG_W,DATE,TIME,LATITUDE,LONGITUDE,DEPTH,CTDPRS,CTDTMP,CTDSAL,CTDSAL_FLAG_W,SALNTY,SALNTY_FLAG_W,CTDOXY,CTDOXY_FLAG_W,OXYGEN,OXYGEN_FLAG_W,SILCAT,SILCAT_FLAG_W,NINI,NINI_FLAG_W,PHSPHT,PHSPHT_FLAG_W,REVP
,,,,,,,,,,,,DB,IPTS-68,PSS-78,,PSS-78,,UMOL/KG,,UMOL/KG,,UMOL/KG,,UMOL/KG,,UMOL/KG,,DBAR
           NA,HOT timeseries 1988to2019 27SEP2021,    187,  99,-999.0,    8024,-999.0,20070504,1430,  22.7373, -158.0052,  4737,    7.000,   24.626,   34.861,2,   34.861,2,  211.000,2,  210.700,2,    1.210,2,    0.070,2,    0.080,2, -999.000
           NA,HOT timeseries 1988to2019 27SEP2021,    187,  99,-999.0,    8001,-999.0,20070504,1430,  22.7373, -158.0052,  4737,    7.500,   24.721,   34.862,2,   34.867,2,  210.600,2,  210.700,2, -999.000,4, -999.000,4,    0.080,2, -999.000
           NA,HOT timeseries 1988to2019 27SEP2021,    187,  99,-999.0,    8024,-999.0,20070504,1430,  22.7373, -158.0052,  4737,   51.200,   24.639,   34.861,2,   34.863,2,  210.800,2,  210.600,2, -999.000,4, -999.000,4,    0.110,2, -999.000
           NA,HOT timeseries 1988to2019 27SEP2021,    187,  99,-999.0,    8023,-999.0,20070504,1430,  22.7373, -158.0052,  4737,   95.400,   23.511,   35.096,2,   35.099,2,  214.700,2,  215.100,2,    1.020,2, -999.000,3,    0.030,2, -999.000
           NA,HOT timeseries 1988to2019 27SEP2021,    187,  99,-999.0,    8022,-999.0,20070504,1430,  22.7373, -158.0052,  4737,  140.600,   21.729,   35.160,2,   35.161,2,  195.100,2,  197.500,2,    1.510,2, -999.000,3,    0.110,2, -999.000
           NA,HOT timeseries 1988to2019 27SEP2021,    187,  99,-999.0,    8021,-999.0,20070504,1430,  22.7373, -158.0052,  4737,  195.400,   19.286,   34.988,2,   34.988,2,  193.500,2,  194.900,2,    2.530,2,    2.650,2,    0.190,2, -999.000
           NA,HOT timeseries 1988to2019 27SEP2021,    187,  99,-999.0,    8020,-999.0,20070504,1430,  22.7373, -158.0052,  4737,  250.100,   15.684,   34.554,2,   34.552,2,  194.100,2,  195.400,2,    5.410,2,    6.330,2,    0.460,2, -999.000
           NA,HOT timeseries 1988to2019 27SEP2021,    187,  99,-999.0,    8019,-999.0,20070504,1430,  22.7373, -158.0052,  4737,  292.700,   13.629,   34.361,2,   34.354,2,  202.300,2,  201.700,2,    8.210,2,    9.130,2,    0.630,2, -999.000
           NA,HOT timeseries 1988to2019 27SEP2021,    187,  99,-999.0,    8018,-999.0,20070504,1430,  22.7373, -158.0052,  4737,  335.100,   11.985,   34.222,2,   34.217,2,  201.300,2,  200.800,2,   11.840,2,   12.340,2,    0.850,2, -999.000
           NA,HOT timeseries 1988to2019 27SEP2021,    187,  99,-999.0,    8017,-999.0,20070504,1430,  22.7373, -158.0052,  4737,  375.000,   10.571,   34.159,2,   34.160,2,  188.500,2,  189.600,2,   17.540,2,   16.230,2,    1.120,2, -999.000
           NA,HOT timeseries 1988to2019 27SEP2021,    187,  99,-999.0,    8016,-999.0,20070504,1430,  22.7373, -158.0052,  4737,  428.800,    9.091,   34.123,2,   34.123,2,  156.200,2,  157.200,2,   28.720,2,   22.370,2,    1.550,2, -999.000
           NA,HOT timeseries 1988to2019 27SEP2021,    187,  99,-999.0,    8015,-999.0,20070504,1430,  22.7373, -158.0052,  4737,  468.400,    8.273,   34.108,2,   34.114,2,  130.500,2,  131.200,2, -999.000,4,   26.370,2,    1.860,2, -999.000
           NA,HOT timeseries 1988to2019 27SEP2021,    187,  99,-999.0,    8014,-999.0,20070504,1430,  22.7373, -158.0052,  4737,  506.300,    7.500,   34.099,2,   34.099,2,  112.800,2,  111.600,2,   45.860,2,   29.550,2,    2.070,2, -999.000
           NA,HOT timeseries 1988to2019 27SEP2021,    187,  99,-999.0,    8025,-999.0,20070504,1430,  22.7373, -158.0052,  4737,  555.300,    6.846,   34.109,2,   34.111,2,   85.900,2,   86.600,2,   54.370,2,   32.840,2,    2.350,2, -999.000
           NA,HOT timeseries 1988to2019 27SEP2021,    187,  99,-999.0,    8012,-999.0,20070504,1430,  22.7373, -158.0052,  4737,  604.700,    5.910,   34.112,2,   34.112,2,   68.700,2,   65.800,2,   69.340,2,   36.330,2,    2.570,2, -999.000
           NA,HOT timeseries 1988to2019 27SEP2021,    187,  99,-999.0,    8011,-999.0,20070504,1430,  22.7373, -158.0052,  4737,  642.600,    5.750,   34.188,2,   34.189,2,   46.400,2,   45.400,2,   75.090,2,   38.170,2,    2.740,2, -999.000
           NA,HOT timeseries 1988to2019 27SEP2021,    187,  99,-999.0,    8010,-999.0,20070504,1430,  22.7373, -158.0052,  4737,  700.000,    5.093,   34.245,2,   34.242,2,   32.700,2,   32.700,2,   86.300,2,   40.730,2,    2.910,2, -999.000
           NA,HOT timeseries 1988to2019 27SEP2021,    187,  99,-999.0,    8009,-999.0,20070504,1430,  22.7373, -158.0052,  4737,  764.000,    4.680,   34.314,2,   34.310,2,   29.300,2,   29.400,2,   92.910,2,   41.650,2,    2.980,2, -999.000
           NA,HOT timeseries 1988to2019 27SEP2021,    187,  99,-999.0,    8026,-999.0,20070504,1430,  22.7373, -158.0052,  4737,  840.400,    4.411,   34.388,2,   34.387,2,   31.000,2,   30.800,2,   99.020,2,   42.110,2,    3.010,2, -999.000
           NA,HOT timeseries 1988to2019 27SEP2021,    187,  99,-999.0,    8004,-999.0,20070504,1430,  22.7373, -158.0052,  4737,  940.400,    4.077,   34.461,2,   34.462,2,   41.000,2,   41.200,2,  104.720,2,   41.900,2,    2.990,2, -999.000
           NA,HOT timeseries 1988to2019 27SEP2021,    187,  99,-999.0,    8003,-999.0,20070504,1430,  22.7373, -158.0052,  4737,  972.800,    4.001,   34.472,2,   34.471,2,   42.700,2,   43.000,2,  106.620,2,   41.850,2,    3.000,2, -999.000
           NA,HOT timeseries 1988to2019 27SEP2021,    187,  99,-999.0,    8002,-999.0,20070504,1430,  22.7373, -158.0052,  4737, 1020.200,    3.892,   34.492,2,   34.494,2,   45.000,2,   45.400,2,  108.800,2,   41.770,2,    2.990,2, -999.000
           NA,HOT timeseries 1988to2019 27SEP2021,    187,  99,-999.0,    8020,-999.0,20070504,1430,  22.7373, -158.0052,  4737, 1200.000,    3.483,   34.526,2,   34.526,2,   54.000,2,   54.200,2,  121.360,2,   41.480,2,    2.970,2, -999.000
           NA,HOT timeseries 1988to2019 27SEP2021,    187,  99,-999.0,    8019,-999.0,20070504,1430,  22.7373, -158.0052,  4737, 1401.100,    3.009,   34.560,2,   34.561,2,   61.700,2,   61.600,2,  131.790,2,   41.350,2,    2.940,2, -999.000
           NA,HOT timeseries 1988to2019 27SEP2021,    187,  99,-999.0,    8018,-999.0,20070504,1430,  22.7373, -158.0052,  4737, 1599.900,    2.660,   34.583,2,   34.583,2,   71.200,2,   71.300,2,  140.130,2,   40.980,2,    2.900,2, -999.000
           NA,HOT timeseries 1988to2019 27SEP2021,    187,  99,-999.0,    8017,-999.0,20070504,1430,  22.7373, -158.0052,  4737, 1801.000,    2.399,   34.604,2,   34.603,2,   79.700,2,   79.900,2,  145.120,2,   40.190,2,    2.860,2, -999.000
           NA,HOT timeseries 1988to2019 27SEP2021,    187,  99,-999.0,    8016,-999.0,20070504,1430,  22.7373, -158.0052,  4737, 2000.700,    2.140,   34.618,2,   34.619,2,   87.000,2,   86.500,2,  151.950,2,   40.080,2,    2.820,2, -999.000
           NA,HOT timeseries 1988to2019 27SEP2021,    187,  99,-999.0,    8015,-999.0,20070504,1430,  22.7373, -158.0052,  4737, 2199.900,    1.936,   34.635,2,   34.634,2,   95.700,2,   95.800,2,  156.810,2,   39.560,2,    2.780,2, -999.000
           NA,HOT timeseries 1988to2019 27SEP2021,    187,  99,-999.0,    8014,-999.0,20070504,1430,  22.7373, -158.0052,  4737, 2401.300,    1.785,   34.647,2,   34.646,2,  103.900,2,  104.000,2,  160.120,2,   39.130,2,    2.730,2, -999.000
           NA,HOT timeseries 1988to2019 27SEP2021,    187,  99,-999.0,    8025,-999.0,20070504,1430,  22.7373, -158.0052,  4737, 2600.400,    1.681,   34.657,2,   34.656,2,  111.000,2,  111.300,2,  161.140,2,   38.740,2,    2.700,2, -999.000
           NA,HOT timeseries 1988to2019 27SEP2021,    187,  99,-999.0,    8012,-999.0,20070504,1430,  22.7373, -158.0052,  4737, 2800.000,    1.619,   34.663,2,   34.662,2,  116.200,2,  116.300,2,  161.500,2,   38.390,2, -999.000,4, -999.000
           NA,HOT timeseries 1988to2019 27SEP2021,    187,  99,-999.0,    8011,-999.0,20070504,1430,  22.7373, -158.0052,  4737, 3000.200,    1.559,   34.670,2,   34.669,2,  123.500,2,  123.400,2,  160.230,2,   37.750,2,    2.600,2, -999.000
           NA,HOT timeseries 1988to2019 27SEP2021,    187,  99,-999.0,    8010,-999.0,20070504,1430,  22.7373, -158.0052,  4737, 3202.700,    1.512,   34.676,2,   34.675,2,  130.700,2,  130.500,2,  157.930,2,   37.590,2, -999.000,4, -999.000
           NA,HOT timeseries 1988to2019 27SEP2021,    187,  99,-999.0,    8009,-999.0,20070504,1430,  22.7373, -158.0052,  4737, 3400.700,    1.491,   34.680,2,   34.679,2,  135.500,2,  135.200,2,  157.810,2,   37.360,2, -999.000,4, -999.000
           NA,HOT timeseries 1988to2019 27SEP2021,    187,  99,-999.0,    8008,-999.0,20070504,1430,  22.7373, -158.0052,  4737, 3602.100,    1.474,   34.683,2,   34.684,2,  140.600,2,  140.400,2,  156.340,2,   37.050,2,    2.530,2, -999.000
           NA,HOT timeseries 1988to2019 27SEP2021,    187,  99,-999.0,    8026,-999.0,20070504,1430,  22.7373, -158.0052,  4737, 3803.000,    1.467,   34.685,2,   34.685,2,  143.900,2,  143.500,2,  153.810,2,   36.780,2,    2.520,2, -999.000
           NA,HOT timeseries 1988to2019 27SEP2021,    187,  99,-999.0,    8006,-999.0,20070504,1430,  22.7373, -158.0052,  4737, 4002.800,    1.463,   34.688,2,   34.687,2,  147.600,2,  147.200,2,  154.070,2,   36.690,2,    2.490,2, -999.000
           NA,HOT timeseries 1988to2019 27SEP2021,    187,  99,-999.0,    8005,-999.0,20070504,1430,  22.7373, -158.0052,  4737, 4200.300,    1.469,   34.689,2,   34.688,2,  149.400,2,  150.000,2,  151.740,2,   36.080,2,    2.490,2, -999.000
           NA,HOT timeseries 1988to2019 27SEP2021,    187,  99,-999.0,    8004,-999.0,20070504,1430,  22.7373, -158.0052,  4737, 4400.600,    1.478,   34.690,2,   34.690,2,  151.400,2,  151.300,2, -999.000,3,   35.370,2,    2.480,2, -999.000
           NA,HOT timeseries 1988to2019 27SEP2021,    187,  99,-999.0,    8003,-999.0,20070504,1430,  22.7373, -158.0052,  4737, 4500.500,    1.485,   34.691,2,   34.691,2,  152.400,2,  152.100,2,  151.590,2,   35.370,2,    2.460,2, -999.000
           NA,HOT timeseries 1988to2019 27SEP2021,    187,  99,-999.0,    8002,-999.0,20070504,1430,  22.7373, -158.0052,  4737, 4599.900,    1.490,   34.691,2,   34.692,2,  153.000,2,  153.300,2,  151.240,2,   35.380,2,    2.460,2, -999.000
           NA,HOT timeseries 1988to2019 27SEP2021,    187,  99,-999.0,    8001,-999.0,20070504,1430,  22.7373, -158.0052,  4737, 4800.700,    1.501,   34.692,2,   34.692,2,  155.000,2,  155.200,2,  148.340,2,   35.320,2,    2.450,2, -999.000