BOTTLE,20214727JOAExport
EXPOCODE,SECT_ID,STNNBR,CASTNO,SAMPNO,BTLNBR,BTLNBR_FLAG_W,DATE,TIME,LATITUDE,LONGITUDE,DEPTH,CTDPRS,CTDTMP,CTDSAL,CTDSAL_FLAG_W,SALNTY,SALNTY_FLAG_W,CTDOXY,CTDOXY_FLAG_W,OXYGEN,OXYGEN_FLAG_W,SILCAT,SILCAT_FLAG_W,NINI,NINI_FLAG_W,PHSPHT,PHSPHT_FLAG_W,REVP
,,,,,,,,,,,,DB,IPTS-68,PSS-78,,PSS-78,,UMOL/KG,,UMOL/KG,,UMOL/KG,,UMOL/KG,,UMOL/KG,,DBAR
           NA,HOT timeseries 1988to2019 27SEP2021,    206,  99,-999.0,    8024,-999.0,20100608,1512,  22.7495, -158.0000,  4722,    4.900,   24.536,   35.487,2,   35.490,2,  212.500,2,  213.000,2,    1.200,2,    0.030,2,    0.050,2, -999.000
           NA,HOT timeseries 1988to2019 27SEP2021,    206,  99,-999.0,    8024,-999.0,20100608,1512,  22.7495, -158.0000,  4722,    5.900,   24.609,   35.487,2, -999.000,5,  212.600,2,  214.300,2,    1.160,2,    0.020,2,    0.040,2, -999.000
           NA,HOT timeseries 1988to2019 27SEP2021,    206,  99,-999.0,    8023,-999.0,20100608,1512,  22.7495, -158.0000,  4722,   37.000,   24.089,   35.480,2,   35.479,2,  216.400,2,  217.500,2,    1.200,2,    0.020,2,    0.030,2, -999.000
           NA,HOT timeseries 1988to2019 27SEP2021,    206,  99,-999.0,    8022,-999.0,20100608,1512,  22.7495, -158.0000,  4722,   65.800,   22.471,   35.455,2,   35.456,2,  226.200,2,  227.100,2,    1.310,2,    0.020,2,    0.020,2, -999.000
           NA,HOT timeseries 1988to2019 27SEP2021,    206,  99,-999.0,    8021,-999.0,20100608,1512,  22.7495, -158.0000,  4722,   69.900,   22.302,   35.453,2,   35.452,2,  227.000,2,  227.500,2,    1.300,2,    0.030,2,    0.010,2, -999.000
           NA,HOT timeseries 1988to2019 27SEP2021,    206,  99,-999.0,    8020,-999.0,20100608,1512,  22.7495, -158.0000,  4722,  106.600,   20.223,   35.298,2,   35.298,2,  220.800,2,  218.700,2,    1.720,2,    0.030,2,    0.040,2, -999.000
           NA,HOT timeseries 1988to2019 27SEP2021,    206,  99,-999.0,    8019,-999.0,20100608,1512,  22.7495, -158.0000,  4722,  119.600,   20.001,   35.269,2,   35.263,2,  216.600,2,  216.700,2,    1.790,2,    0.260,2,    0.060,2, -999.000
           NA,HOT timeseries 1988to2019 27SEP2021,    206,  99,-999.0,    8018,-999.0,20100608,1512,  22.7495, -158.0000,  4722,  222.300,   15.902,   34.593,2,   34.598,2,  210.600,2,  214.500,2,    4.480,2,    3.730,2,    0.290,2, -999.000
           NA,HOT timeseries 1988to2019 27SEP2021,    206,  99,-999.0,    8017,-999.0,20100608,1512,  22.7495, -158.0000,  4722,  277.100,   13.120,   34.317,2,   34.320,2,  200.800,2,  200.700,2,    9.110,2,    9.670,2,    0.690,2, -999.000
           NA,HOT timeseries 1988to2019 27SEP2021,    206,  99,-999.0,    8016,-999.0,20100608,1512,  22.7495, -158.0000,  4722,  301.300,   12.171,   34.274,2,   34.270,2,  206.000,2,  206.600,2,   11.270,2,   11.230,2,    0.800,2, -999.000
           NA,HOT timeseries 1988to2019 27SEP2021,    206,  99,-999.0,    8015,-999.0,20100608,1512,  22.7495, -158.0000,  4722,  350.900,   10.497,   34.117,2,   34.118,2,  188.500,2,  188.400,2,   17.410,2,   15.930,2,    1.150,2, -999.000
           NA,HOT timeseries 1988to2019 27SEP2021,    206,  99,-999.0,    8014,-999.0,20100608,1512,  22.7495, -158.0000,  4722,  389.500,    9.528,   34.089,2,   34.089,2,  174.500,2,  173.300,2,   23.380,2,   19.320,2,    1.390,2, -999.000
           NA,HOT timeseries 1988to2019 27SEP2021,    206,  99,-999.0,    8025,-999.0,20100608,1512,  22.7495, -158.0000,  4722,  416.300,    9.021,   34.091,2,   34.091,2,  156.900,2,  154.400,2,   29.670,2,   22.180,2,    1.610,2, -999.000
           NA,HOT timeseries 1988to2019 27SEP2021,    206,  99,-999.0,    8012,-999.0,20100608,1512,  22.7495, -158.0000,  4722,  476.300,    7.692,   34.083,2,   34.086,2,  116.700,2,  117.100,2,   42.190,2,   28.140,2,    2.040,2, -999.000
           NA,HOT timeseries 1988to2019 27SEP2021,    206,  99,-999.0,    8011,-999.0,20100608,1512,  22.7495, -158.0000,  4722,  487.100,    7.425,   34.077,2,   34.077,2,  113.700,2,  112.300,2,   45.320,2,   29.040,2,    2.100,2, -999.000
           NA,HOT timeseries 1988to2019 27SEP2021,    206,  99,-999.0,    8010,-999.0,20100608,1512,  22.7495, -158.0000,  4722,  505.600,    6.924,   34.076,2,   34.075,2,   99.200,2,  100.400,2,   51.690,2,   31.220,2,    2.260,2, -999.000
           NA,HOT timeseries 1988to2019 27SEP2021,    206,  99,-999.0,    8009,-999.0,20100608,1512,  22.7495, -158.0000,  4722,  555.800,    6.411,   34.131,2,   34.128,2,   64.800,2,   68.100,2,   61.480,2,   34.790,2,    2.550,2, -999.000
           NA,HOT timeseries 1988to2019 27SEP2021,    206,  99,-999.0,    8008,-999.0,20100608,1512,  22.7495, -158.0000,  4722,  594.200,    5.964,   34.170,2,   34.169,2,   56.200,2,   53.800,2,   69.650,2,   36.790,2,    2.700,2, -999.000
           NA,HOT timeseries 1988to2019 27SEP2021,    206,  99,-999.0,    8026,-999.0,20100608,1512,  22.7495, -158.0000,  4722,  650.400,    5.661,   34.225,2,   34.226,2,   44.100,2,   43.100,2,   75.990,2,   38.280,2,    2.820,2, -999.000
           NA,HOT timeseries 1988to2019 27SEP2021,    206,  99,-999.0,    8006,-999.0,20100608,1512,  22.7495, -158.0000,  4722,  693.200,    5.360,   34.263,2,   34.262,2,   40.000,2,   38.600,2, -999.000,3, -999.000,3, -999.000,3, -999.000
           NA,HOT timeseries 1988to2019 27SEP2021,    206,  99,-999.0,    8005,-999.0,20100608,1512,  22.7495, -158.0000,  4722,  755.100,    4.897,   34.322,2,   34.323,2,   34.800,2,   34.600,2,   91.750,2,   40.560,2,    2.950,2, -999.000
           NA,HOT timeseries 1988to2019 27SEP2021,    206,  99,-999.0,    8004,-999.0,20100608,1512,  22.7495, -158.0000,  4722,  836.600,    4.635,   34.414,2,   34.416,2,   36.800,2,   35.800,2,   96.910,2,   41.060,2,    2.990,2, -999.000
           NA,HOT timeseries 1988to2019 27SEP2021,    206,  99,-999.0,    8003,-999.0,20100608,1512,  22.7495, -158.0000,  4722,  899.500,    4.333,   34.424,2, -999.000,3, -999.000,3,   40.200,2,  103.130,2,   41.060,2,    2.970,2, -999.000
           NA,HOT timeseries 1988to2019 27SEP2021,    206,  99,-999.0,    8002,-999.0,20100608,1512,  22.7495, -158.0000,  4722,  981.500,    4.028,   34.470,2,   34.469,2,   45.000,2,   45.700,2,  108.990,2,   41.240,2,    2.970,2, -999.000
           NA,HOT timeseries 1988to2019 27SEP2021,    206,  99,-999.0,    8001,-999.0,20100608,1512,  22.7495, -158.0000,  4722, 1019.400,    3.941,   34.481,2,   34.481,2,   47.000,2,   47.100,2,  110.920,2,   41.330,2,    2.980,2, -999.000
           NA,HOT timeseries 1988to2019 27SEP2021,    206,  99,-999.0,    8020,-999.0,20100608,1512,  22.7495, -158.0000,  4722, 1197.000,    3.476,   34.520,2,   34.521,2,   55.000,2,   55.600,2,  121.100,2,   40.980,2,    2.950,2, -999.000
           NA,HOT timeseries 1988to2019 27SEP2021,    206,  99,-999.0,    8019,-999.0,20100608,1512,  22.7495, -158.0000,  4722, 1396.100,    3.033,   34.558,2,   34.559,2,   63.700,2,   63.300,2,  130.900,2,   41.060,2,    2.940,2, -999.000
           NA,HOT timeseries 1988to2019 27SEP2021,    206,  99,-999.0,    8018,-999.0,20100608,1512,  22.7495, -158.0000,  4722, 1599.600,    2.650,   34.584,2,   34.585,2,   72.500,2,   73.000,2,  139.280,2,   40.600,2,    2.900,2, -999.000
           NA,HOT timeseries 1988to2019 27SEP2021,    206,  99,-999.0,    8017,-999.0,20100608,1512,  22.7495, -158.0000,  4722, 1801.000,    2.357,   34.604,2,   34.604,2,   81.400,2,   81.700,2,  145.950,2,   39.980,2,    2.830,2, -999.000
           NA,HOT timeseries 1988to2019 27SEP2021,    206,  99,-999.0,    8016,-999.0,20100608,1512,  22.7495, -158.0000,  4722, 2000.100,    2.141,   34.618,2,   34.618,2,   89.300,2,   90.300,2,  150.520,2,   39.520,2,    2.800,2, -999.000
           NA,HOT timeseries 1988to2019 27SEP2021,    206,  99,-999.0,    8015,-999.0,20100608,1512,  22.7495, -158.0000,  4722, 2202.000,    1.941,   34.631,2,   34.631,2,   96.900,2,   96.700,2,  155.510,2,   39.310,2,    2.760,2, -999.000
           NA,HOT timeseries 1988to2019 27SEP2021,    206,  99,-999.0,    8014,-999.0,20100608,1512,  22.7495, -158.0000,  4722, 2401.200,    1.780,   34.644,2,   34.644,2,  103.500,2,  104.200,2,  159.700,2,   38.830,2,    2.730,2, -999.000
           NA,HOT timeseries 1988to2019 27SEP2021,    206,  99,-999.0,    8025,-999.0,20100608,1512,  22.7495, -158.0000,  4722, 2600.200,    1.674,   34.653,2,   34.653,2,  110.900,2,  110.500,2,  160.160,2,   38.290,2,    2.690,2, -999.000
           NA,HOT timeseries 1988to2019 27SEP2021,    206,  99,-999.0,    8012,-999.0,20100608,1512,  22.7495, -158.0000,  4722, 2799.300,    1.602,   34.661,2,   34.662,2,  117.500,2,  118.800,2,  159.350,2,   37.940,2,    2.650,2, -999.000
           NA,HOT timeseries 1988to2019 27SEP2021,    206,  99,-999.0,    8011,-999.0,20100608,1512,  22.7495, -158.0000,  4722, 2998.400,    1.541,   34.668,2,   34.669,2,  125.700,2,  125.900,2,  160.070,2,   37.370,2,    2.610,2, -999.000
           NA,HOT timeseries 1988to2019 27SEP2021,    206,  99,-999.0,    8010,-999.0,20100608,1512,  22.7495, -158.0000,  4722, 3196.800,    1.506,   34.674,2,   34.674,2,  132.000,2,  132.700,2,  156.910,2,   37.040,2,    2.570,2, -999.000
           NA,HOT timeseries 1988to2019 27SEP2021,    206,  99,-999.0,    8009,-999.0,20100608,1512,  22.7495, -158.0000,  4722, 3399.700,    1.474,   34.678,2,   34.678,2,  137.900,2,  137.600,2,  156.090,2,   36.700,2,    2.560,2, -999.000
           NA,HOT timeseries 1988to2019 27SEP2021,    206,  99,-999.0,    8008,-999.0,20100608,1512,  22.7495, -158.0000,  4722, 3599.800,    1.459,   34.681,2,   34.682,2,  142.400,2,  142.700,2,  155.210,2,   36.300,2,    2.520,2, -999.000
           NA,HOT timeseries 1988to2019 27SEP2021,    206,  99,-999.0,    8026,-999.0,20100608,1512,  22.7495, -158.0000,  4722, 3799.800,    1.452,   34.684,2,   34.684,2,  146.400,2,  146.200,2,  153.230,2,   36.100,2,    2.500,2, -999.000
           NA,HOT timeseries 1988to2019 27SEP2021,    206,  99,-999.0,    8006,-999.0,20100608,1512,  22.7495, -158.0000,  4722, 4000.400,    1.456,   34.685,2,   34.686,2,  149.200,2,  149.000,2,  151.600,2,   35.830,2,    2.490,2, -999.000
           NA,HOT timeseries 1988to2019 27SEP2021,    206,  99,-999.0,    8005,-999.0,20100608,1512,  22.7495, -158.0000,  4722, 4197.200,    1.463,   34.687,2,   34.687,2,  151.500,2,  150.900,2,  150.650,2,   35.780,2,    2.480,2, -999.000
           NA,HOT timeseries 1988to2019 27SEP2021,    206,  99,-999.0,    8004,-999.0,20100608,1512,  22.7495, -158.0000,  4722, 4399.800,    1.476,   34.688,2,   34.687,2,  153.300,2,  153.400,2,  149.940,2,   35.540,2,    2.470,2, -999.000
           NA,HOT timeseries 1988to2019 27SEP2021,    206,  99,-999.0,    8003,-999.0,20100608,1512,  22.7495, -158.0000,  4722, 4499.500,    1.485,   34.688,2,   34.688,2,  153.700,2,  153.700,2,  149.260,2,   35.540,2,    2.460,2, -999.000
           NA,HOT timeseries 1988to2019 27SEP2021,    206,  99,-999.0,    8002,-999.0,20100608,1512,  22.7495, -158.0000,  4722, 4598.300,    1.493,   34.688,2,   34.689,2,  154.400,2,  154.600,2,  149.680,2,   35.500,2,    2.460,2, -999.000
           NA,HOT timeseries 1988to2019 27SEP2021,    206,  99,-999.0,    8001,-999.0,20100608,1512,  22.7495, -158.0000,  4722, 4808.500,    1.508,   34.689,2,   34.690,2,  156.200,2,  156.100,2,  148.440,2,   35.320,2,    2.460,2, -999.000