BOTTLE,20214727JOAExport
EXPOCODE,SECT_ID,STNNBR,CASTNO,SAMPNO,BTLNBR,BTLNBR_FLAG_W,DATE,TIME,LATITUDE,LONGITUDE,DEPTH,CTDPRS,CTDTMP,CTDSAL,CTDSAL_FLAG_W,SALNTY,SALNTY_FLAG_W,CTDOXY,CTDOXY_FLAG_W,OXYGEN,OXYGEN_FLAG_W,SILCAT,SILCAT_FLAG_W,NINI,NINI_FLAG_W,PHSPHT,PHSPHT_FLAG_W,REVP
,,,,,,,,,,,,DB,IPTS-68,PSS-78,,PSS-78,,UMOL/KG,,UMOL/KG,,UMOL/KG,,UMOL/KG,,UMOL/KG,,DBAR
           NA,HOT timeseries 1988to2019 27SEP2021,     79,  99,-999.0,      31,-999.0,19970506,1830,  22.7577, -158.0017,  4726,    4.400,   24.743,   34.869,2,   34.870,2,  210.200,2,  209.200,2,    0.820,2,    0.010,2,    0.120,2, -999.000
           NA,HOT timeseries 1988to2019 27SEP2021,     79,  99,-999.0,      31,-999.0,19970506,1830,  22.7577, -158.0017,  4726,    5.500,   24.680,   34.871,2,   34.872,2,  209.800,2,  208.800,2,    1.350,2,   -0.020,2,    0.090,2, -999.000
           NA,HOT timeseries 1988to2019 27SEP2021,     79,  99,-999.0,      30,-999.0,19970506,1830,  22.7577, -158.0017,  4726,   56.000,   24.681,   34.867,2,   34.869,2,  210.900,2, -999.000,5,    0.810,2,    0.010,2,    0.100,2, -999.000
           NA,HOT timeseries 1988to2019 27SEP2021,     79,  99,-999.0,      22,-999.0,19970506,1830,  22.7577, -158.0017,  4726,  104.900,   23.239,   34.966,2,   34.967,2,  209.900,2,  209.400,2,    0.950,2,    0.030,2,    0.100,2, -999.000
           NA,HOT timeseries 1988to2019 27SEP2021,     79,  99,-999.0,      21,-999.0,19970506,1830,  22.7577, -158.0017,  4726,  137.000,   21.656,   35.062,2,   35.061,2,  207.000,2,  208.100,2,    1.010,2,    0.260,2,    0.090,2, -999.000
           NA,HOT timeseries 1988to2019 27SEP2021,     79,  99,-999.0,      20,-999.0,19970506,1830,  22.7577, -158.0017,  4726,  146.700,   21.475,   35.060,2,   35.059,2,  210.000,2,  206.400,2,    1.280,2,    0.320,2,    0.120,2, -999.000
           NA,HOT timeseries 1988to2019 27SEP2021,     79,  99,-999.0,      30,-999.0,19970506,1830,  22.7577, -158.0017,  4726,  150.400,   21.331,   35.053,2,   35.053,2,  202.600,2,  201.200,2,    1.630,2,    0.640,2,    0.120,2, -999.000
           NA,HOT timeseries 1988to2019 27SEP2021,     79,  99,-999.0,      19,-999.0,19970506,1830,  22.7577, -158.0017,  4726,  200.800,   19.113,   34.987,2,   34.987,2,  198.800,2,  196.200,2,    2.240,2,    2.220,2,    0.220,2, -999.000
           NA,HOT timeseries 1988to2019 27SEP2021,     79,  99,-999.0,      18,-999.0,19970506,1830,  22.7577, -158.0017,  4726,  263.800,   15.712,   34.614,2,   34.615,2,  192.100,2,  189.100,2,    5.340,2,    6.170,2,    0.510,2, -999.000
           NA,HOT timeseries 1988to2019 27SEP2021,     79,  99,-999.0,      17,-999.0,19970506,1830,  22.7577, -158.0017,  4726,  301.400,   13.350,   34.359,2,   34.368,2,  181.400,2,  177.700,2,    9.340,2,   10.570,2,    0.820,2, -999.000
           NA,HOT timeseries 1988to2019 27SEP2021,     79,  99,-999.0,      16,-999.0,19970506,1830,  22.7577, -158.0017,  4726,  344.200,   11.877,   34.264,2,   34.265,2,  197.100,2,  196.900,2,   11.780,2,   11.940,2,    0.870,2, -999.000
           NA,HOT timeseries 1988to2019 27SEP2021,     79,  99,-999.0,      15,-999.0,19970506,1830,  22.7577, -158.0017,  4726,  391.200,   10.160,   34.147,2,   34.146,2,  187.900,2,  186.400,2,   18.570,2,   16.480,2,    1.180,2, -999.000
           NA,HOT timeseries 1988to2019 27SEP2021,     79,  99,-999.0,      14,-999.0,19970506,1830,  22.7577, -158.0017,  4726,  400.600,   10.036,   34.142,2, -999.000,3, -999.000,3,  186.500,2,   18.930,2,   16.450,2,    1.180,2, -999.000
           NA,HOT timeseries 1988to2019 27SEP2021,     79,  99,-999.0,      13,-999.0,19970506,1830,  22.7577, -158.0017,  4726,  458.400,    8.744,   34.093,2,   34.089,2,  163.700,2,  164.300,2,   28.220,2,   21.300,2,    1.520,2, -999.000
           NA,HOT timeseries 1988to2019 27SEP2021,     79,  99,-999.0,      22,-999.0,19970506,1830,  22.7577, -158.0017,  4726,  496.800,    8.469,   34.082,2,   34.084,2,  159.900,2,  158.300,2,   30.950,2, -999.000,3, -999.000,3, -999.000
           NA,HOT timeseries 1988to2019 27SEP2021,     79,  99,-999.0,      11,-999.0,19970506,1830,  22.7577, -158.0017,  4726,  521.500,    7.558,   34.100,2,   34.096,2,  124.300,2,  120.400,2,   43.250,2,   27.350,2,    1.980,2, -999.000
           NA,HOT timeseries 1988to2019 27SEP2021,     79,  99,-999.0,      32,-999.0,19970506,1830,  22.7577, -158.0017,  4726,  537.200,    7.385,   34.118,2,   34.118,2,  114.700,2,  106.900,2,   46.990,2,   28.820,2,    2.120,2, -999.000
           NA,HOT timeseries 1988to2019 27SEP2021,     79,  99,-999.0,       3,-999.0,19970506,1830,  22.7577, -158.0017,  4726,  581.400,    6.654,   34.150,2,   34.147,2,   81.700,2,   77.000,2,   58.800,2,   32.800,2,    2.420,2, -999.000
           NA,HOT timeseries 1988to2019 27SEP2021,     79,  99,-999.0,      29,-999.0,19970506,1830,  22.7577, -158.0017,  4726,  606.800,    6.130,   34.169,2,   34.166,2,   61.900,2,   59.700,2,   66.770,2,   35.320,2,    2.600,2, -999.000
           NA,HOT timeseries 1988to2019 27SEP2021,     79,  99,-999.0,      28,-999.0,19970506,1830,  22.7577, -158.0017,  4726,  656.100,    5.719,   34.205,2,   34.199,2,   48.200,2,   45.100,2,   74.560,2,   37.420,2,    2.770,2, -999.000
           NA,HOT timeseries 1988to2019 27SEP2021,     79,  99,-999.0,       7,-999.0,19970506,1830,  22.7577, -158.0017,  4726,  695.500,    5.300,   34.256,2,   34.251,2,   35.300,2, -999.000,5,   83.510,2,   39.180,2,    2.890,2, -999.000
           NA,HOT timeseries 1988to2019 27SEP2021,     79,  99,-999.0,      38,-999.0,19970506,1830,  22.7577, -158.0017,  4726,  768.700,    4.843,   34.325,2,   34.323,2,   30.900,2,   27.900,2,   93.380,2,   41.140,2,    2.980,2, -999.000
           NA,HOT timeseries 1988to2019 27SEP2021,     79,  99,-999.0,      36,-999.0,19970506,1830,  22.7577, -158.0017,  4726,  800.600,    4.726,   34.342,2,   34.338,2,   30.200,2,   27.600,2,   96.240,2,   40.900,2,    3.010,2, -999.000
           NA,HOT timeseries 1988to2019 27SEP2021,     79,  99,-999.0,      35,-999.0,19970506,1830,  22.7577, -158.0017,  4726,  871.400,    4.483,   34.403,2,   34.400,2,   33.100,2,   31.100,2,  101.070,2,   41.110,2,    3.010,2, -999.000
           NA,HOT timeseries 1988to2019 27SEP2021,     79,  99,-999.0,      34,-999.0,19970506,1830,  22.7577, -158.0017,  4726,  926.800,    4.290,   34.437,2,   34.435,2,   32.800,2,   32.400,2,  105.380,2,   41.370,2,    3.040,2, -999.000
           NA,HOT timeseries 1988to2019 27SEP2021,     79,  99,-999.0,      20,-999.0,19970506,1830,  22.7577, -158.0017,  4726, 1003.600,    4.092,   34.478,2,   34.476,2,   39.300,2,   38.100,2,  108.990,2,   41.060,2,    2.970,2, -999.000
           NA,HOT timeseries 1988to2019 27SEP2021,     79,  99,-999.0,      33,-999.0,19970506,1830,  22.7577, -158.0017,  4726, 1019.900,    4.012,   34.481,2,   34.480,2,   39.600,2,   41.300,2,  110.610,2,   41.240,2,    2.980,2, -999.000
           NA,HOT timeseries 1988to2019 27SEP2021,     79,  99,-999.0,      19,-999.0,19970506,1830,  22.7577, -158.0017,  4726, 1401.300,    3.028,   34.561,2,   34.561,2,   58.000,2,   59.400,2,  132.140,2,   40.730,2,    2.920,2, -999.000
           NA,HOT timeseries 1988to2019 27SEP2021,     79,  99,-999.0,      18,-999.0,19970506,1830,  22.7577, -158.0017,  4726, 1600.700,    2.663,   34.584,2,   34.583,2,   67.100,2,   69.500,2,  140.000,2,   40.220,2,    2.880,2, -999.000
           NA,HOT timeseries 1988to2019 27SEP2021,     79,  99,-999.0,      17,-999.0,19970506,1830,  22.7577, -158.0017,  4726, 1797.600,    2.365,   34.603,2,   34.603,2,   75.800,2, -999.000,3,  147.040,2,   39.910,2,    2.840,2, -999.000
           NA,HOT timeseries 1988to2019 27SEP2021,     79,  99,-999.0,      16,-999.0,19970506,1830,  22.7577, -158.0017,  4726, 1999.300,    2.108,   34.619,2,   34.621,2,   82.400,2,   86.500,2,  153.390,2,   39.300,2, -999.000,4, -999.000
           NA,HOT timeseries 1988to2019 27SEP2021,     79,  99,-999.0,      15,-999.0,19970506,1830,  22.7577, -158.0017,  4726, 2198.700,    1.946,   34.631,2,   34.632,2,   89.400,2,   93.700,2,  157.460,2,   39.090,2,    2.780,2, -999.000
           NA,HOT timeseries 1988to2019 27SEP2021,     79,  99,-999.0,      14,-999.0,19970506,1830,  22.7577, -158.0017,  4726, 2396.900,    1.822,   34.642,2,   34.642,2,   97.900,2,   99.200,2,  159.790,2,   38.650,2,    2.750,2, -999.000
           NA,HOT timeseries 1988to2019 27SEP2021,     79,  99,-999.0,      13,-999.0,19970506,1830,  22.7577, -158.0017,  4726, 2599.700,    1.720,   34.652,2,   34.652,2,  106.900,2,  107.400,2,  160.910,2,   38.210,2,    2.700,2, -999.000
           NA,HOT timeseries 1988to2019 27SEP2021,     79,  99,-999.0,      12,-999.0,19970506,1830,  22.7577, -158.0017,  4726, 2801.300,    1.628,   34.660,2,   34.660,2,  114.900,2,  115.100,2,  161.650,2,   37.750,2,    2.680,2, -999.000
           NA,HOT timeseries 1988to2019 27SEP2021,     79,  99,-999.0,      11,-999.0,19970506,1830,  22.7577, -158.0017,  4726, 3001.500,    1.563,   34.667,2,   34.666,2,  121.800,2,  121.400,2,  161.550,2,   37.230,2,    2.640,2, -999.000
           NA,HOT timeseries 1988to2019 27SEP2021,     79,  99,-999.0,      32,-999.0,19970506,1830,  22.7577, -158.0017,  4726, 3202.100,    1.520,   34.673,2,   34.673,2,  127.600,2,  129.700,2,  159.440,2,   36.830,2,    2.600,2, -999.000
           NA,HOT timeseries 1988to2019 27SEP2021,     79,  99,-999.0,       3,-999.0,19970506,1830,  22.7577, -158.0017,  4726, 3400.800,    1.486,   34.678,2,   34.677,2,  134.700,2,  135.000,2,  158.720,2,   36.560,2,    2.580,2, -999.000
           NA,HOT timeseries 1988to2019 27SEP2021,     79,  99,-999.0,      29,-999.0,19970506,1830,  22.7577, -158.0017,  4726, 3600.500,    1.468,   34.681,2,   34.680,2,  139.200,2,  139.500,2,  157.110,2,   36.320,2,    2.550,2, -999.000
           NA,HOT timeseries 1988to2019 27SEP2021,     79,  99,-999.0,      28,-999.0,19970506,1830,  22.7577, -158.0017,  4726, 3801.600,    1.457,   34.684,2,   34.684,2,  144.100,2,  143.900,2,  154.530,2,   35.880,2,    2.530,2, -999.000
           NA,HOT timeseries 1988to2019 27SEP2021,     79,  99,-999.0,       7,-999.0,19970506,1830,  22.7577, -158.0017,  4726, 4002.300,    1.458,   34.686,2,   34.685,2,  147.100,2,  146.900,2,  153.860,2,   35.680,2,    2.510,2, -999.000
           NA,HOT timeseries 1988to2019 27SEP2021,     79,  99,-999.0,      38,-999.0,19970506,1830,  22.7577, -158.0017,  4726, 4200.300,    1.465,   34.687,2,   34.686,2,  149.400,2,  149.300,2,  151.910,2,   35.590,2,    2.500,2, -999.000
           NA,HOT timeseries 1988to2019 27SEP2021,     79,  99,-999.0,      36,-999.0,19970506,1830,  22.7577, -158.0017,  4726, 4400.400,    1.478,   34.688,2,   34.688,2,  150.800,2,  150.500,2,  151.560,2,   35.450,2,    2.500,2, -999.000
           NA,HOT timeseries 1988to2019 27SEP2021,     79,  99,-999.0,      35,-999.0,19970506,1830,  22.7577, -158.0017,  4726, 4500.300,    1.486,   34.689,2, -999.000,4, -999.000,3, -999.000,4, -999.000,4, -999.000,4, -999.000,4, -999.000
           NA,HOT timeseries 1988to2019 27SEP2021,     79,  99,-999.0,      34,-999.0,19970506,1830,  22.7577, -158.0017,  4726, 4601.100,    1.493,   34.689,2,   34.688,2,  152.600,2,  151.800,2,  149.590,2, -999.000,3,    2.470,2, -999.000
           NA,HOT timeseries 1988to2019 27SEP2021,     79,  99,-999.0,      33,-999.0,19970506,1830,  22.7577, -158.0017,  4726, 4798.300,    1.498,   34.691,2,   34.689,2,  154.700,2,  155.100,2,  147.360,2,   35.220,2,    2.450,2, -999.000