BOTTLE,20214727JOAExport
EXPOCODE,SECT_ID,STNNBR,CASTNO,SAMPNO,BTLNBR,BTLNBR_FLAG_W,DATE,TIME,LATITUDE,LONGITUDE,DEPTH,CTDPRS,CTDTMP,CTDSAL,CTDSAL_FLAG_W,SALNTY,SALNTY_FLAG_W,CTDOXY,CTDOXY_FLAG_W,OXYGEN,OXYGEN_FLAG_W,SILCAT,SILCAT_FLAG_W,NINI,NINI_FLAG_W,PHSPHT,PHSPHT_FLAG_W,REVP
,,,,,,,,,,,,DB,IPTS-68,PSS-78,,PSS-78,,UMOL/KG,,UMOL/KG,,UMOL/KG,,UMOL/KG,,UMOL/KG,,DBAR
           NA,HOT timeseries 1988to2019 27SEP2021,    129,  99,-999.0,      31,-999.0,20011215,1659,  22.7602, -157.9748,  4704,    4.800,   24.316,   35.229,2,   35.228,2,  209.400,2,  209.100,2, -999.000,9, -999.000,9, -999.000,9, -999.000
           NA,HOT timeseries 1988to2019 27SEP2021,    129,  99,-999.0,      30,-999.0,20011215,1659,  22.7602, -157.9748,  4704,   50.200,   24.310,   35.231,2,   35.231,2,  209.500,2,  209.500,2, -999.000,9, -999.000,9, -999.000,9, -999.000
           NA,HOT timeseries 1988to2019 27SEP2021,    129,  99,-999.0,      22,-999.0,20011215,1659,  22.7602, -157.9748,  4704,   92.300,   22.946,   35.261,2,   35.261,2,  209.800,2,  211.100,2, -999.000,9, -999.000,9, -999.000,9, -999.000
           NA,HOT timeseries 1988to2019 27SEP2021,    129,  99,-999.0,      21,-999.0,20011215,1659,  22.7602, -157.9748,  4704,  114.500,   21.483,   35.198,2,   35.196,2,  200.900,2,  197.500,2, -999.000,9, -999.000,9, -999.000,9, -999.000
           NA,HOT timeseries 1988to2019 27SEP2021,    129,  99,-999.0,      20,-999.0,20011215,1659,  22.7602, -157.9748,  4704,  167.100,   19.672,   35.107,2,   35.109,2,  196.200,2,  194.600,2, -999.000,9, -999.000,9, -999.000,9, -999.000
           NA,HOT timeseries 1988to2019 27SEP2021,    129,  99,-999.0,      19,-999.0,20011215,1659,  22.7602, -157.9748,  4704,  200.400,   17.795,   34.864,2,   34.864,2,  193.300,2,  191.900,2, -999.000,9, -999.000,9, -999.000,9, -999.000
           NA,HOT timeseries 1988to2019 27SEP2021,    129,  99,-999.0,      18,-999.0,20011215,1659,  22.7602, -157.9748,  4704,  240.000,   15.306,   34.545,2,   34.557,2,  193.500,2,  191.800,2, -999.000,9, -999.000,9, -999.000,9, -999.000
           NA,HOT timeseries 1988to2019 27SEP2021,    129,  99,-999.0,      16,-999.0,20011215,1659,  22.7602, -157.9748,  4704,  329.800,   11.259,   34.157,2,   34.158,2,  188.000,2,  191.000,2, -999.000,9, -999.000,9, -999.000,9, -999.000
           NA,HOT timeseries 1988to2019 27SEP2021,    129,  99,-999.0,      23,-999.0,20011215,1659,  22.7602, -157.9748,  4704,  372.100,   10.296,   34.153,2,   34.153,2,  191.900,2,  192.000,2, -999.000,9, -999.000,9, -999.000,9, -999.000
           NA,HOT timeseries 1988to2019 27SEP2021,    129,  99,-999.0,      14,-999.0,20011215,1659,  22.7602, -157.9748,  4704,  419.700,    9.183,   34.114,2,   34.113,2,  164.500,2,  162.400,2, -999.000,9, -999.000,9, -999.000,9, -999.000
           NA,HOT timeseries 1988to2019 27SEP2021,    129,  99,-999.0,      13,-999.0,20011215,1659,  22.7602, -157.9748,  4704,  474.200,    7.301,   34.037,2,   34.037,2,  129.600,2,  130.600,2, -999.000,9, -999.000,9, -999.000,9, -999.000
           NA,HOT timeseries 1988to2019 27SEP2021,    129,  99,-999.0,      12,-999.0,20011215,1659,  22.7602, -157.9748,  4704,  509.000,    6.688,   34.039,2,   34.038,2,  106.000,2,  107.000,2, -999.000,9, -999.000,9, -999.000,9, -999.000
           NA,HOT timeseries 1988to2019 27SEP2021,    129,  99,-999.0,      11,-999.0,20011215,1659,  22.7602, -157.9748,  4704,  549.900,    5.970,   34.074,2,   34.072,2,   75.000,2,   75.000,2, -999.000,9, -999.000,9, -999.000,9, -999.000
           NA,HOT timeseries 1988to2019 27SEP2021,    129,  99,-999.0,      32,-999.0,20011215,1659,  22.7602, -157.9748,  4704,  595.400,    5.584,   34.129,2,   34.129,2,   50.700,2,   51.500,2, -999.000,9, -999.000,9, -999.000,9, -999.000
           NA,HOT timeseries 1988to2019 27SEP2021,    129,  99,-999.0,       3,-999.0,20011215,1659,  22.7602, -157.9748,  4704,  646.500,    5.227,   34.225,2,   34.227,2,   27.700,2,   27.900,2, -999.000,9, -999.000,9, -999.000,9, -999.000
           NA,HOT timeseries 1988to2019 27SEP2021,    129,  99,-999.0,      29,-999.0,20011215,1659,  22.7602, -157.9748,  4704,  694.200,    5.042,   34.280,2,   34.280,2,   21.100,2,   20.400,2, -999.000,9, -999.000,9, -999.000,9, -999.000
           NA,HOT timeseries 1988to2019 27SEP2021,    129,  99,-999.0,      28,-999.0,20011215,1659,  22.7602, -157.9748,  4704,  736.400,    4.841,   34.306,2,   34.305,2,   22.400,2,   21.700,2, -999.000,9, -999.000,9, -999.000,9, -999.000
           NA,HOT timeseries 1988to2019 27SEP2021,    129,  99,-999.0,       7,-999.0,20011215,1659,  22.7602, -157.9748,  4704,  790.200,    4.781,   34.380,2,   34.378,2,   27.300,2,   26.900,2, -999.000,9, -999.000,9, -999.000,9, -999.000
           NA,HOT timeseries 1988to2019 27SEP2021,    129,  99,-999.0,      38,-999.0,20011215,1659,  22.7602, -157.9748,  4704,  838.600,    4.521,   34.394,2,   34.392,2,   29.600,2,   28.800,2, -999.000,9, -999.000,9, -999.000,9, -999.000
           NA,HOT timeseries 1988to2019 27SEP2021,    129,  99,-999.0,      36,-999.0,20011215,1659,  22.7602, -157.9748,  4704,  888.900,    4.294,   34.420,2,   34.421,2,   32.700,2,   32.200,2, -999.000,9, -999.000,9, -999.000,9, -999.000
           NA,HOT timeseries 1988to2019 27SEP2021,    129,  99,-999.0,      35,-999.0,20011215,1659,  22.7602, -157.9748,  4704,  942.400,    4.226,   34.461,2,   34.460,2,   36.400,2,   35.900,2, -999.000,9, -999.000,9, -999.000,9, -999.000
           NA,HOT timeseries 1988to2019 27SEP2021,    129,  99,-999.0,      33,-999.0,20011215,1659,  22.7602, -157.9748,  4704, 1020.000,    3.949,   34.490,2,   34.489,2,   42.000,2,   42.100,2, -999.000,9, -999.000,9, -999.000,9, -999.000
           NA,HOT timeseries 1988to2019 27SEP2021,    129,  99,-999.0,      20,-999.0,20011215,1659,  22.7602, -157.9748,  4704, 1200.000,    3.427,   34.537,2,   34.536,2,   52.900,2,   52.600,2, -999.000,9, -999.000,9, -999.000,9, -999.000
           NA,HOT timeseries 1988to2019 27SEP2021,    129,  99,-999.0,      19,-999.0,20011215,1659,  22.7602, -157.9748,  4704, 1399.700,    3.026,   34.568,2,   34.567,2,   60.700,2,   60.500,2, -999.000,9, -999.000,9, -999.000,9, -999.000
           NA,HOT timeseries 1988to2019 27SEP2021,    129,  99,-999.0,      18,-999.0,20011215,1659,  22.7602, -157.9748,  4704, 1598.300,    2.678,   34.585,2,   34.585,2,   69.500,2,   70.900,2, -999.000,9, -999.000,9, -999.000,9, -999.000
           NA,HOT timeseries 1988to2019 27SEP2021,    129,  99,-999.0,      17,-999.0,20011215,1659,  22.7602, -157.9748,  4704, 1799.500,    2.399,   34.600,2,   34.599,2,   77.100,2,   77.800,2, -999.000,9, -999.000,9, -999.000,9, -999.000
           NA,HOT timeseries 1988to2019 27SEP2021,    129,  99,-999.0,      16,-999.0,20011215,1659,  22.7602, -157.9748,  4704, 1999.800,    2.147,   34.618,2,   34.616,2,   85.800,2,   86.800,2, -999.000,9, -999.000,9, -999.000,9, -999.000
           NA,HOT timeseries 1988to2019 27SEP2021,    129,  99,-999.0,      23,-999.0,20011215,1659,  22.7602, -157.9748,  4704, 2200.300,    1.945,   34.632,2,   34.631,2,   93.600,2,   97.200,2, -999.000,9, -999.000,9, -999.000,9, -999.000
           NA,HOT timeseries 1988to2019 27SEP2021,    129,  99,-999.0,      14,-999.0,20011215,1659,  22.7602, -157.9748,  4704, 2400.100,    1.791,   34.646,2,   34.646,2,  104.100,2,  105.000,2, -999.000,9, -999.000,9, -999.000,9, -999.000
           NA,HOT timeseries 1988to2019 27SEP2021,    129,  99,-999.0,      13,-999.0,20011215,1659,  22.7602, -157.9748,  4704, 2599.000,    1.685,   34.656,2,   34.655,2,  111.400,2,  112.600,2, -999.000,9, -999.000,9, -999.000,9, -999.000
           NA,HOT timeseries 1988to2019 27SEP2021,    129,  99,-999.0,      12,-999.0,20011215,1659,  22.7602, -157.9748,  4704, 2797.200,    1.599,   34.664,2,   34.664,2,  118.300,2,  119.400,2, -999.000,9, -999.000,9, -999.000,9, -999.000
           NA,HOT timeseries 1988to2019 27SEP2021,    129,  99,-999.0,      11,-999.0,20011215,1659,  22.7602, -157.9748,  4704, 2999.900,    1.558,   34.669,2,   34.669,2,  123.200,2,  124.400,2, -999.000,9, -999.000,9, -999.000,9, -999.000
           NA,HOT timeseries 1988to2019 27SEP2021,    129,  99,-999.0,      32,-999.0,20011215,1659,  22.7602, -157.9748,  4704, 3199.900,    1.521,   34.674,2,   34.675,2,  128.400,2,  129.000,2, -999.000,9, -999.000,9, -999.000,9, -999.000
           NA,HOT timeseries 1988to2019 27SEP2021,    129,  99,-999.0,       3,-999.0,20011215,1659,  22.7602, -157.9748,  4704, 3400.100,    1.498,   34.677,2,   34.676,2,  133.100,2,  133.500,2, -999.000,9, -999.000,9, -999.000,9, -999.000
           NA,HOT timeseries 1988to2019 27SEP2021,    129,  99,-999.0,      29,-999.0,20011215,1659,  22.7602, -157.9748,  4704, 3600.700,    1.474,   34.681,2,   34.681,2,  138.600,2,  139.600,2, -999.000,9, -999.000,9, -999.000,9, -999.000
           NA,HOT timeseries 1988to2019 27SEP2021,    129,  99,-999.0,      28,-999.0,20011215,1659,  22.7602, -157.9748,  4704, 3800.900,    1.468,   34.683,2,   34.683,2,  142.100,2,  142.300,2, -999.000,9, -999.000,9, -999.000,9, -999.000
           NA,HOT timeseries 1988to2019 27SEP2021,    129,  99,-999.0,       7,-999.0,20011215,1659,  22.7602, -157.9748,  4704, 4001.300,    1.464,   34.685,2,   34.685,2,  145.800,2,  145.700,2, -999.000,9, -999.000,9, -999.000,9, -999.000
           NA,HOT timeseries 1988to2019 27SEP2021,    129,  99,-999.0,      36,-999.0,20011215,1659,  22.7602, -157.9748,  4704, 4399.000,    1.480,   34.687,2,   34.688,2,  150.900,2,  150.400,2, -999.000,9, -999.000,9, -999.000,9, -999.000
           NA,HOT timeseries 1988to2019 27SEP2021,    129,  99,-999.0,      35,-999.0,20011215,1659,  22.7602, -157.9748,  4704, 4499.700,    1.489,   34.688,2,   34.688,2,  151.600,2,  150.900,2, -999.000,9, -999.000,9, -999.000,9, -999.000
           NA,HOT timeseries 1988to2019 27SEP2021,    129,  99,-999.0,      34,-999.0,20011215,1659,  22.7602, -157.9748,  4704, 4602.100,    1.498,   34.688,2,   34.688,2,  152.300,2,  151.100,2, -999.000,9, -999.000,9, -999.000,9, -999.000
           NA,HOT timeseries 1988to2019 27SEP2021,    129,  99,-999.0,      33,-999.0,20011215,1659,  22.7602, -157.9748,  4704, 4799.400,    1.511,   34.689,2,   34.690,2,  153.700,2,  152.900,2, -999.000,9, -999.000,9, -999.000,9, -999.000