BOTTLE,20214727JOAExport
EXPOCODE,SECT_ID,STNNBR,CASTNO,SAMPNO,BTLNBR,BTLNBR_FLAG_W,DATE,TIME,LATITUDE,LONGITUDE,DEPTH,CTDPRS,CTDTMP,CTDSAL,CTDSAL_FLAG_W,SALNTY,SALNTY_FLAG_W,CTDOXY,CTDOXY_FLAG_W,OXYGEN,OXYGEN_FLAG_W,SILCAT,SILCAT_FLAG_W,NINI,NINI_FLAG_W,PHSPHT,PHSPHT_FLAG_W,REVP
,,,,,,,,,,,,DB,IPTS-68,PSS-78,,PSS-78,,UMOL/KG,,UMOL/KG,,UMOL/KG,,UMOL/KG,,UMOL/KG,,DBAR
           NA,HOT timeseries 1988to2019 27SEP2021,     78,  99,-999.0,      31,-999.0,19970408,1215,  22.7535, -158.0032,  4724,    4.800,   23.258,   34.959,2,   34.963,2,  213.400,2, -999.000,4,    1.280,2,    0.000,2,    0.080,2, -999.000
           NA,HOT timeseries 1988to2019 27SEP2021,     78,  99,-999.0,      31,-999.0,19970408,1215,  22.7535, -158.0032,  4724,    9.300,   23.426,   34.964,2,   34.968,2,  212.800,2,  213.500,2,    2.070,2,    0.000,2,    0.070,2, -999.000
           NA,HOT timeseries 1988to2019 27SEP2021,     78,  99,-999.0,      30,-999.0,19970408,1215,  22.7535, -158.0032,  4724,   49.900,   22.477,   35.038,2,   35.042,2,  212.600,2,  215.100,2,    1.380,2,    0.010,2,    0.070,2, -999.000
           NA,HOT timeseries 1988to2019 27SEP2021,     78,  99,-999.0,      30,-999.0,19970408,1215,  22.7535, -158.0032,  4724,   60.700,   21.597,   35.049,2,   35.047,2,  203.400,2,  209.000,2,    1.530,2,    0.000,2,    0.090,2, -999.000
           NA,HOT timeseries 1988to2019 27SEP2021,     78,  99,-999.0,      22,-999.0,19970408,1215,  22.7535, -158.0032,  4724,   77.700,   21.080,   35.042,2, -999.000,4, -999.000,3,  206.200,2,    3.250,2,    0.180,2,    0.130,2, -999.000
           NA,HOT timeseries 1988to2019 27SEP2021,     78,  99,-999.0,      21,-999.0,19970408,1215,  22.7535, -158.0032,  4724,  129.100,   19.135,   34.984,2,   35.004,2,  194.200,2,  193.700,2,    2.800,2,    2.350,2,    0.230,2, -999.000
           NA,HOT timeseries 1988to2019 27SEP2021,     78,  99,-999.0,      20,-999.0,19970408,1215,  22.7535, -158.0032,  4724,  149.500,   18.229,   34.886,2,   34.894,2,  188.200,2,  189.400,2,    4.630,2,    3.440,2,    0.300,2, -999.000
           NA,HOT timeseries 1988to2019 27SEP2021,     78,  99,-999.0,      19,-999.0,19970408,1215,  22.7535, -158.0032,  4724,  190.000,   15.892,   34.624,2,   34.627,2,  189.700,2,  189.000,2,    5.440,2,    5.840,2,    0.470,2, -999.000
           NA,HOT timeseries 1988to2019 27SEP2021,     78,  99,-999.0,      18,-999.0,19970408,1215,  22.7535, -158.0032,  4724,  226.000,   13.880,   34.421,2,   34.424,2,  191.800,2,  195.000,2,    7.810,2,    8.300,2,    0.630,2, -999.000
           NA,HOT timeseries 1988to2019 27SEP2021,     78,  99,-999.0,      17,-999.0,19970408,1215,  22.7535, -158.0032,  4724,  269.500,   11.831,   34.236,2,   34.238,2,  184.600,2,  189.300,2,   12.560,2,   12.660,2,    0.910,2, -999.000
           NA,HOT timeseries 1988to2019 27SEP2021,     78,  99,-999.0,      16,-999.0,19970408,1215,  22.7535, -158.0032,  4724,  323.500,   10.297,   34.137,2,   34.136,2,  198.600,2,  191.900,2,   17.620,2,   15.700,2,    1.110,2, -999.000
           NA,HOT timeseries 1988to2019 27SEP2021,     78,  99,-999.0,      15,-999.0,19970408,1215,  22.7535, -158.0032,  4724,  359.300,    9.455,   34.098,2,   34.098,2,  182.000,2,  181.900,2,   22.370,2,   18.540,2,    1.300,2, -999.000
           NA,HOT timeseries 1988to2019 27SEP2021,     78,  99,-999.0,      14,-999.0,19970408,1215,  22.7535, -158.0032,  4724,  400.400,    8.679,   34.079,2,   34.081,2,  162.100,2,  162.200,2,   28.870,2,   21.750,2,    1.540,2, -999.000
           NA,HOT timeseries 1988to2019 27SEP2021,     78,  99,-999.0,      13,-999.0,19970408,1215,  22.7535, -158.0032,  4724,  441.100,    8.094,   34.067,2,   34.066,2,  153.800,2,  148.400,2,   34.900,2,   24.320,2,    1.720,2, -999.000
           NA,HOT timeseries 1988to2019 27SEP2021,     78,  99,-999.0,      12,-999.0,19970408,1215,  22.7535, -158.0032,  4724,  477.300,    7.476,   34.066,2,   34.068,2,  128.000,2,  121.900,2,   43.050,2,   27.780,2,    1.980,2, -999.000
           NA,HOT timeseries 1988to2019 27SEP2021,     78,  99,-999.0,      11,-999.0,19970408,1215,  22.7535, -158.0032,  4724,  517.300,    6.653,   34.053,2,   34.054,2,  106.600,2,  102.500,2,   54.230,2,   31.260,2,    2.230,2, -999.000
           NA,HOT timeseries 1988to2019 27SEP2021,     78,  99,-999.0,      32,-999.0,19970408,1215,  22.7535, -158.0032,  4724,  568.300,    5.830,   34.094,2,   34.092,2,   74.100,2,   66.100,2,   69.150,2,   35.590,2,    2.570,2, -999.000
           NA,HOT timeseries 1988to2019 27SEP2021,     78,  99,-999.0,       3,-999.0,19970408,1215,  22.7535, -158.0032,  4724,  599.900,    5.439,   34.153,2,   34.154,2,   53.400,2,   49.700,2, -999.000,4,   37.890,2,    2.740,2, -999.000
           NA,HOT timeseries 1988to2019 27SEP2021,     78,  99,-999.0,      29,-999.0,19970408,1215,  22.7535, -158.0032,  4724,  682.300,    5.118,   34.251,2,   34.251,2,   36.300,2,   31.400,2, -999.000,4,   39.770,2,    2.900,2, -999.000
           NA,HOT timeseries 1988to2019 27SEP2021,     78,  99,-999.0,      28,-999.0,19970408,1215,  22.7535, -158.0032,  4724,  725.400,    4.924,   34.283,2,   34.283,2,   31.500,2,   26.800,2, -999.000,4,   40.500,2,    2.950,2, -999.000
           NA,HOT timeseries 1988to2019 27SEP2021,     78,  99,-999.0,       7,-999.0,19970408,1215,  22.7535, -158.0032,  4724,  765.900,    4.851,   34.340,2,   34.341,2,   29.500,2,   26.400,2, -999.000,4,   40.420,2,    2.960,2, -999.000
           NA,HOT timeseries 1988to2019 27SEP2021,     78,  99,-999.0,      22,-999.0,19970408,1215,  22.7535, -158.0032,  4724,  775.300,    4.771,   34.372,2,   34.371,2,   30.000,2,   27.200,2,   93.520,2,   40.360,2, -999.000,4, -999.000
           NA,HOT timeseries 1988to2019 27SEP2021,     78,  99,-999.0,      38,-999.0,19970408,1215,  22.7535, -158.0032,  4724,  799.400,    4.710,   34.367,2,   34.364,2,   28.700,2,   29.000,2, -999.000,4,   41.080,2,    3.000,2, -999.000
           NA,HOT timeseries 1988to2019 27SEP2021,     78,  99,-999.0,      36,-999.0,19970408,1215,  22.7535, -158.0032,  4724,  866.100,    4.530,   34.427,2,   34.426,2,   31.400,2,   30.900,2, -999.000,4,   41.220,2,    2.990,2, -999.000
           NA,HOT timeseries 1988to2019 27SEP2021,     78,  99,-999.0,      35,-999.0,19970408,1215,  22.7535, -158.0032,  4724,  949.800,    4.264,   34.468,2,   34.470,2,   36.100,2,   36.900,2,  110.250,2,   41.430,2,    3.010,2, -999.000
           NA,HOT timeseries 1988to2019 27SEP2021,     78,  99,-999.0,      33,-999.0,19970408,1215,  22.7535, -158.0032,  4724, 1020.600,    4.052,   34.494,2, -999.000,4, -999.000,3,   41.600,2,  109.650,2,   41.500,2,    3.010,2, -999.000
           NA,HOT timeseries 1988to2019 27SEP2021,     78,  99,-999.0,      20,-999.0,19970408,1215,  22.7535, -158.0032,  4724, 1204.300,    3.527,   34.533,2,   34.536,2,   50.600,2,   50.600,2,  118.710,2,   41.330,2,    2.950,2, -999.000
           NA,HOT timeseries 1988to2019 27SEP2021,     78,  99,-999.0,      19,-999.0,19970408,1215,  22.7535, -158.0032,  4724, 1405.300,    3.037,   34.567,2,   34.568,2,   59.900,2,   60.000,2,  129.360,2,   41.150,2,    2.920,2, -999.000
           NA,HOT timeseries 1988to2019 27SEP2021,     78,  99,-999.0,      18,-999.0,19970408,1215,  22.7535, -158.0032,  4724, 1613.800,    2.651,   34.586,2,   34.586,2,   70.600,2,   69.400,2,  138.350,2,   40.370,2,    2.860,2, -999.000
           NA,HOT timeseries 1988to2019 27SEP2021,     78,  99,-999.0,      17,-999.0,19970408,1215,  22.7535, -158.0032,  4724, 1792.200,    2.319,   34.606,2,   34.606,2,   80.200,2,   81.200,2,  145.760,2,   39.840,2,    2.820,2, -999.000
           NA,HOT timeseries 1988to2019 27SEP2021,     78,  99,-999.0,      16,-999.0,19970408,1215,  22.7535, -158.0032,  4724, 1998.600,    2.078,   34.623,2,   34.623,2,   88.600,2,   89.500,2,  150.750,2,   39.260,2,    2.760,2, -999.000
           NA,HOT timeseries 1988to2019 27SEP2021,     78,  99,-999.0,      15,-999.0,19970408,1215,  22.7535, -158.0032,  4724, 2196.900,    1.893,   34.637,2,   34.637,2,   98.800,2,  100.600,2,  154.130,2,   38.780,2,    2.730,2, -999.000
           NA,HOT timeseries 1988to2019 27SEP2021,     78,  99,-999.0,      14,-999.0,19970408,1215,  22.7535, -158.0032,  4724, 2397.300,    1.788,   34.646,2,   34.646,2,  104.600,2,  105.300,2,  156.250,2,   38.430,2,    2.700,2, -999.000
           NA,HOT timeseries 1988to2019 27SEP2021,     78,  99,-999.0,      13,-999.0,19970408,1215,  22.7535, -158.0032,  4724, 2597.800,    1.684,   34.655,2,   34.655,2,  110.200,2,  111.400,2,  158.310,2,   38.070,2,    2.680,2, -999.000
           NA,HOT timeseries 1988to2019 27SEP2021,     78,  99,-999.0,      12,-999.0,19970408,1215,  22.7535, -158.0032,  4724, 2796.200,    1.595,   34.663,2,   34.663,2,  117.500,2,  118.200,2,  159.980,2,   37.690,2,    2.640,2, -999.000
           NA,HOT timeseries 1988to2019 27SEP2021,     78,  99,-999.0,      11,-999.0,19970408,1215,  22.7535, -158.0032,  4724, 2997.500,    1.533,   34.670,2,   34.668,2,  125.300,2,  125.800,2,  158.960,2,   37.180,2,    2.600,2, -999.000
           NA,HOT timeseries 1988to2019 27SEP2021,     78,  99,-999.0,      32,-999.0,19970408,1215,  22.7535, -158.0032,  4724, 3198.000,    1.495,   34.676,2,   34.675,2,  132.000,2,  131.600,2,  157.020,2,   36.740,2,    2.560,2, -999.000
           NA,HOT timeseries 1988to2019 27SEP2021,     78,  99,-999.0,       3,-999.0,19970408,1215,  22.7535, -158.0032,  4724, 3398.000,    1.467,   34.680,2,   34.681,2,  137.900,2,  137.500,2,  155.570,2,   36.360,2,    2.530,2, -999.000
           NA,HOT timeseries 1988to2019 27SEP2021,     78,  99,-999.0,      29,-999.0,19970408,1215,  22.7535, -158.0032,  4724, 3596.800,    1.450,   34.683,2,   34.683,2,  142.200,2,  142.800,2,  153.800,2,   36.160,2,    2.520,2, -999.000
           NA,HOT timeseries 1988to2019 27SEP2021,     78,  99,-999.0,      28,-999.0,19970408,1215,  22.7535, -158.0032,  4724, 3798.900,    1.444,   34.685,2,   34.686,2,  146.900,2,  146.700,2,  151.900,2,   35.900,2,    2.500,2, -999.000
           NA,HOT timeseries 1988to2019 27SEP2021,     78,  99,-999.0,       7,-999.0,19970408,1215,  22.7535, -158.0032,  4724, 4000.900,    1.447,   34.687,2,   34.690,2,  149.600,2,  148.500,2,  150.430,2,   35.740,2,    2.480,2, -999.000
           NA,HOT timeseries 1988to2019 27SEP2021,     78,  99,-999.0,      38,-999.0,19970408,1215,  22.7535, -158.0032,  4724, 4199.600,    1.459,   34.688,2,   34.688,2,  150.800,2,  150.100,2, -999.000,3,   35.580,2,    2.480,2, -999.000
           NA,HOT timeseries 1988to2019 27SEP2021,     78,  99,-999.0,      36,-999.0,19970408,1215,  22.7535, -158.0032,  4724, 4400.300,    1.475,   34.689,2,   34.688,2,  152.000,2,  152.100,2,  149.530,2,   35.590,2,    2.480,2, -999.000
           NA,HOT timeseries 1988to2019 27SEP2021,     78,  99,-999.0,      35,-999.0,19970408,1215,  22.7535, -158.0032,  4724, 4499.700,    1.485,   34.689,2,   34.689,2,  152.200,2,  152.000,2,  149.030,2,   35.540,2,    2.470,2, -999.000
           NA,HOT timeseries 1988to2019 27SEP2021,     78,  99,-999.0,      34,-999.0,19970408,1215,  22.7535, -158.0032,  4724, 4600.400,    1.494,   34.689,2,   34.689,2,  153.000,2,  152.700,2,  148.480,2,   35.580,2,    2.500,2, -999.000
           NA,HOT timeseries 1988to2019 27SEP2021,     78,  99,-999.0,      33,-999.0,19970408,1215,  22.7535, -158.0032,  4724, 4810.200,    1.505,   34.690,2, -999.000,3, -999.000,3,  154.600,2,  147.090,2,   35.330,2,    2.450,2, -999.000