BOTTLE,20214727JOAExport
EXPOCODE,SECT_ID,STNNBR,CASTNO,SAMPNO,BTLNBR,BTLNBR_FLAG_W,DATE,TIME,LATITUDE,LONGITUDE,DEPTH,CTDPRS,CTDTMP,CTDSAL,CTDSAL_FLAG_W,SALNTY,SALNTY_FLAG_W,CTDOXY,CTDOXY_FLAG_W,OXYGEN,OXYGEN_FLAG_W,SILCAT,SILCAT_FLAG_W,NINI,NINI_FLAG_W,PHSPHT,PHSPHT_FLAG_W,REVP
,,,,,,,,,,,,DB,IPTS-68,PSS-78,,PSS-78,,UMOL/KG,,UMOL/KG,,UMOL/KG,,UMOL/KG,,UMOL/KG,,DBAR
           NA,HOT timeseries 1988to2019 27SEP2021,    224,  99,-999.0,    8024,-999.0,20120324,1357,  22.7497, -158.0007,  4744,    4.600,   22.973,   35.179,2,   35.179,2,  215.100,2,  215.200,2,    1.170,2,    0.010,2,    0.090,2, -999.000
           NA,HOT timeseries 1988to2019 27SEP2021,    224,  99,-999.0,    8020,-999.0,20120324,1357,  22.7497, -158.0007,  4744,  214.900,   17.660,   34.801,2,   34.809,2,  199.400,2,  198.500,2,    3.490,2,    2.950,2,    0.260,2, -999.000
           NA,HOT timeseries 1988to2019 27SEP2021,    224,  99,-999.0,    8019,-999.0,20120324,1357,  22.7497, -158.0007,  4744,  275.700,   14.105,   34.393,2,   34.394,2,  207.200,2,  205.100,2,    7.070,2,    7.170,2,    0.530,2, -999.000
           NA,HOT timeseries 1988to2019 27SEP2021,    224,  99,-999.0,    8018,-999.0,20120324,1357,  22.7497, -158.0007,  4744,  335.000,   12.364,   34.282,2,   34.279,2,  210.900,2,  209.200,2,   11.020,2,   10.760,2,    0.760,2, -999.000
           NA,HOT timeseries 1988to2019 27SEP2021,    224,  99,-999.0,    8017,-999.0,20120324,1357,  22.7497, -158.0007,  4744,  351.300,   11.599,   34.242,2,   34.246,2,  209.300,2,  206.700,2,   13.070,2,   12.300,2,    0.860,2, -999.000
           NA,HOT timeseries 1988to2019 27SEP2021,    224,  99,-999.0,    8016,-999.0,20120324,1357,  22.7497, -158.0007,  4744,  370.000,   10.632,   34.179,2,   34.181,2,  203.400,2,  199.500,2,   16.700,2,   14.750,2,    1.040,2, -999.000
           NA,HOT timeseries 1988to2019 27SEP2021,    224,  99,-999.0,    8015,-999.0,20120324,1357,  22.7497, -158.0007,  4744,  402.100,    9.565,   34.113,2,   34.110,2,  187.100,2,  182.900,2,   23.140,2,   18.570,2,    1.310,2, -999.000
           NA,HOT timeseries 1988to2019 27SEP2021,    224,  99,-999.0,    8014,-999.0,20120324,1357,  22.7497, -158.0007,  4744,  429.100,    8.742,   34.062,2,   34.064,2,  169.300,2,  163.000,2,   29.020,2,   21.770,2,    1.550,2, -999.000
           NA,HOT timeseries 1988to2019 27SEP2021,    224,  99,-999.0,    8025,-999.0,20120324,1357,  22.7497, -158.0007,  4744,  469.400,    7.946,   34.047,2,   34.050,2,  147.200,2,  134.300,2,   38.310,2,   26.190,2,    1.870,2, -999.000
           NA,HOT timeseries 1988to2019 27SEP2021,    224,  99,-999.0,    8012,-999.0,20120324,1357,  22.7497, -158.0007,  4744,  507.400,    7.314,   34.043,2,   34.043,2,  117.300,2,  116.500,2,   44.730,2,   28.750,2,    2.070,2, -999.000
           NA,HOT timeseries 1988to2019 27SEP2021,    224,  99,-999.0,    8011,-999.0,20120324,1357,  22.7497, -158.0007,  4744,  543.200,    6.563,   34.045,2,   34.044,2,   95.000,2,   92.600,2,   54.860,2,   32.250,2,    2.330,2, -999.000
           NA,HOT timeseries 1988to2019 27SEP2021,    224,  99,-999.0,    8010,-999.0,20120324,1357,  22.7497, -158.0007,  4744,  584.800,    5.897,   34.073,2,   34.072,2,   67.800,2,   66.700,2,   60.170,2,   33.700,2,    2.460,2, -999.000
           NA,HOT timeseries 1988to2019 27SEP2021,    224,  99,-999.0,    8009,-999.0,20120324,1357,  22.7497, -158.0007,  4744,  648.600,    5.140,   34.120,2,   34.119,2,   45.000,2,   44.200,2,   80.760,2,   38.540,2,    2.810,2, -999.000
           NA,HOT timeseries 1988to2019 27SEP2021,    224,  99,-999.0,    8008,-999.0,20120324,1357,  22.7497, -158.0007,  4744,  696.100,    4.747,   34.176,2,   34.182,2,   32.900,2,   30.400,2,   91.650,2,   40.150,2,    2.940,2, -999.000
           NA,HOT timeseries 1988to2019 27SEP2021,    224,  99,-999.0,    8026,-999.0,20120324,1357,  22.7497, -158.0007,  4744,  755.200,    4.547,   34.283,2,   34.283,2,   21.900,2,   21.300,2,   98.660,2,   41.180,2,    3.020,2, -999.000
           NA,HOT timeseries 1988to2019 27SEP2021,    224,  99,-999.0,    8006,-999.0,20120324,1357,  22.7497, -158.0007,  4744,  771.500,    4.547,   34.299,2,   34.298,2, -999.000,4,   22.000,2,   98.740,2,   41.090,2,    3.030,2, -999.000
           NA,HOT timeseries 1988to2019 27SEP2021,    224,  99,-999.0,    8005,-999.0,20120324,1357,  22.7497, -158.0007,  4744,  841.400,    4.406,   34.376,2,   34.375,2, -999.000,4,   28.600,2,  102.040,2,   41.020,2,    3.000,2, -999.000
           NA,HOT timeseries 1988to2019 27SEP2021,    224,  99,-999.0,    8004,-999.0,20120324,1357,  22.7497, -158.0007,  4744,  882.300,    4.244,   34.405,2,   34.404,2, -999.000,4,   32.000,2,  105.460,2,   40.940,2,    3.000,2, -999.000
           NA,HOT timeseries 1988to2019 27SEP2021,    224,  99,-999.0,    8003,-999.0,20120324,1357,  22.7497, -158.0007,  4744,  918.400,    4.094,   34.418,2,   34.421,2, -999.000,4,   33.300,2,  108.930,2,   41.170,2,    3.010,2, -999.000
           NA,HOT timeseries 1988to2019 27SEP2021,    224,  99,-999.0,    8002,-999.0,20120324,1357,  22.7497, -158.0007,  4744,  993.900,    3.940,   34.462,2,   34.460,2, -999.000,4,   40.800,2,  111.320,2,   40.840,2,    2.970,2, -999.000
           NA,HOT timeseries 1988to2019 27SEP2021,    224,  99,-999.0,    8001,-999.0,20120324,1357,  22.7497, -158.0007,  4744, 1019.000,    3.902,   34.473,2,   34.474,2, -999.000,4,   42.500,2,  112.260,2,   40.770,2,    2.970,2, -999.000
           NA,HOT timeseries 1988to2019 27SEP2021,    224,  99,-999.0,    8020,-999.0,20120324,1357,  22.7497, -158.0007,  4744, 1204.600,    3.383,   34.540,2,   34.540,2,   55.200,2,   55.600,2,  120.510,2,   40.610,2,    2.940,2, -999.000
           NA,HOT timeseries 1988to2019 27SEP2021,    224,  99,-999.0,    8019,-999.0,20120324,1357,  22.7497, -158.0007,  4744, 1399.300,    3.037,   34.559,2,   34.560,2,   63.800,2,   63.500,2,  128.480,2,   40.190,2,    2.900,2, -999.000
           NA,HOT timeseries 1988to2019 27SEP2021,    224,  99,-999.0,    8018,-999.0,20120324,1357,  22.7497, -158.0007,  4744, 1600.500,    2.743,   34.578,2,   34.579,2,   69.800,2,   69.900,2,  135.020,2,   40.080,2,    2.880,2, -999.000
           NA,HOT timeseries 1988to2019 27SEP2021,    224,  99,-999.0,    8017,-999.0,20120324,1357,  22.7497, -158.0007,  4744, 1800.000,    2.438,   34.597,2,   34.597,2,   77.300,2,   77.400,2,  142.110,2,   39.550,2,    2.840,2, -999.000
           NA,HOT timeseries 1988to2019 27SEP2021,    224,  99,-999.0,    8016,-999.0,20120324,1357,  22.7497, -158.0007,  4744, 2000.300,    2.178,   34.614,2,   34.614,2,   85.600,2,   85.600,2,  148.320,2,   39.160,2,    2.790,2, -999.000
           NA,HOT timeseries 1988to2019 27SEP2021,    224,  99,-999.0,    8015,-999.0,20120324,1357,  22.7497, -158.0007,  4744, 2200.900,    1.938,   34.629,2,   34.629,2,   91.600,2,   91.700,2,  155.100,2,   39.090,2,    2.770,2, -999.000
           NA,HOT timeseries 1988to2019 27SEP2021,    224,  99,-999.0,    8014,-999.0,20120324,1357,  22.7497, -158.0007,  4744, 2400.800,    1.787,   34.644,2,   34.643,2,  102.900,2,  102.200,2,  156.660,2,   38.650,2,    2.710,2, -999.000
           NA,HOT timeseries 1988to2019 27SEP2021,    224,  99,-999.0,    8025,-999.0,20120324,1357,  22.7497, -158.0007,  4744, 2600.500,    1.699,   34.652,2,   34.653,2,  109.300,2,  109.200,2,  157.300,2,   38.150,2,    2.680,2, -999.000
           NA,HOT timeseries 1988to2019 27SEP2021,    224,  99,-999.0,    8012,-999.0,20120324,1357,  22.7497, -158.0007,  4744, 2801.400,    1.628,   34.660,2,   34.661,2,  115.600,2,  116.000,2,  157.350,2,   37.610,2,    2.620,2, -999.000
           NA,HOT timeseries 1988to2019 27SEP2021,    224,  99,-999.0,    8011,-999.0,20120324,1357,  22.7497, -158.0007,  4744, 3002.100,    1.557,   34.668,2,   34.668,2,  123.300,2,  123.500,2,  156.690,2,   36.840,2,    2.580,2, -999.000
           NA,HOT timeseries 1988to2019 27SEP2021,    224,  99,-999.0,    8010,-999.0,20120324,1357,  22.7497, -158.0007,  4744, 3204.800,    1.512,   34.674,2,   34.674,2,  130.200,2,  130.400,2,  156.170,2,   36.530,2,    2.560,2, -999.000
           NA,HOT timeseries 1988to2019 27SEP2021,    224,  99,-999.0,    8009,-999.0,20120324,1357,  22.7497, -158.0007,  4744, 3402.300,    1.486,   34.678,2,   34.678,2,  135.100,2,  135.100,2,  155.500,2,   36.240,2,    2.530,2, -999.000
           NA,HOT timeseries 1988to2019 27SEP2021,    224,  99,-999.0,    8008,-999.0,20120324,1357,  22.7497, -158.0007,  4744, 3601.400,    1.465,   34.681,2,   34.681,2,  140.300,2,  140.400,2,  153.610,2,   35.940,2,    2.510,2, -999.000
           NA,HOT timeseries 1988to2019 27SEP2021,    224,  99,-999.0,    8026,-999.0,20120324,1357,  22.7497, -158.0007,  4744, 3805.800,    1.455,   34.684,2,   34.684,2,  144.700,2,  144.400,2,  151.560,2,   35.790,2,    2.490,2, -999.000
           NA,HOT timeseries 1988to2019 27SEP2021,    224,  99,-999.0,    8006,-999.0,20120324,1357,  22.7497, -158.0007,  4744, 4002.400,    1.454,   34.685,2,   34.685,2,  147.900,2,  147.800,2,  149.870,2,   35.240,2,    2.460,2, -999.000
           NA,HOT timeseries 1988to2019 27SEP2021,    224,  99,-999.0,    8005,-999.0,20120324,1357,  22.7497, -158.0007,  4744, 4202.800,    1.464,   34.686,2,   34.687,2,  149.900,2,  149.900,2,  149.020,2,   35.130,2,    2.450,2, -999.000
           NA,HOT timeseries 1988to2019 27SEP2021,    224,  99,-999.0,    8004,-999.0,20120324,1357,  22.7497, -158.0007,  4744, 4406.800,    1.477,   34.687,2,   34.687,2,  151.300,2,  150.500,2,  147.870,2,   35.240,2,    2.440,2, -999.000
           NA,HOT timeseries 1988to2019 27SEP2021,    224,  99,-999.0,    8003,-999.0,20120324,1357,  22.7497, -158.0007,  4744, 4500.900,    1.484,   34.687,2,   34.688,2,  151.800,2,  151.900,2,  147.890,2,   35.190,2,    2.440,2, -999.000
           NA,HOT timeseries 1988to2019 27SEP2021,    224,  99,-999.0,    8002,-999.0,20120324,1357,  22.7497, -158.0007,  4744, 4602.000,    1.493,   34.688,2,   34.689,2,  152.300,2,  152.200,2,  147.970,2,   35.010,2,    2.440,2, -999.000
           NA,HOT timeseries 1988to2019 27SEP2021,    224,  99,-999.0,    8001,-999.0,20120324,1357,  22.7497, -158.0007,  4744, 4806.800,    1.512,   34.688,2,   34.690,2,  152.700,2,  153.600,2,  146.680,2,   34.920,2,    2.420,2, -999.000