BOTTLE,20214727JOAExport
EXPOCODE,SECT_ID,STNNBR,CASTNO,SAMPNO,BTLNBR,BTLNBR_FLAG_W,DATE,TIME,LATITUDE,LONGITUDE,DEPTH,CTDPRS,CTDTMP,CTDSAL,CTDSAL_FLAG_W,SALNTY,SALNTY_FLAG_W,CTDOXY,CTDOXY_FLAG_W,OXYGEN,OXYGEN_FLAG_W,SILCAT,SILCAT_FLAG_W,NINI,NINI_FLAG_W,PHSPHT,PHSPHT_FLAG_W,REVP
,,,,,,,,,,,,DB,IPTS-68,PSS-78,,PSS-78,,UMOL/KG,,UMOL/KG,,UMOL/KG,,UMOL/KG,,UMOL/KG,,DBAR
           NA,HOT timeseries 1988to2019 27SEP2021,      2,  99,-999.0,    8005,-999.0,20160809,2118,  22.7508, -157.9998,  4741, 4201.200,    1.465,   34.687,2,   34.687,2,  150.800,2,  150.900,2,  150.370,2,   36.340,2,    2.530,2, -999.000
           NA,HOT timeseries 1988to2019 27SEP2021,      2,  99,-999.0,    8059,-999.0,20160809,2118,  22.7508, -157.9998,  4741, 4401.500,    1.475,   34.688,2,   34.688,2,  152.900,2,  151.700,2,  149.720,2,   36.100,2,    2.510,2, -999.000
           NA,HOT timeseries 1988to2019 27SEP2021,      2,  99,-999.0,    8003,-999.0,20160809,2118,  22.7508, -157.9998,  4741, 4501.500,    1.480,   34.689,2,   34.689,2,  153.800,2,  153.700,2,  148.830,2,   36.100,2,    2.510,2, -999.000
           NA,HOT timeseries 1988to2019 27SEP2021,      2,  99,-999.0,    8002,-999.0,20160809,2118,  22.7508, -157.9998,  4741, 4602.400,    1.486,   34.689,2,   34.689,2,  153.800,2,  154.100,2,  147.910,2,   36.080,2,    2.500,2, -999.000
           NA,HOT timeseries 1988to2019 27SEP2021,      2,  99,-999.0,    8001,-999.0,20160809,2118,  22.7508, -157.9998,  4741, 4805.900,    1.509,   34.689,2,   34.689,2,  154.200,2,  154.400,2,  147.710,2,   35.980,2,    2.500,2, -999.000
           NA,HOT timeseries 1988to2019 27SEP2021,      2,  99,-999.0,    8058,-999.0,20161015,2052,  22.7500, -157.9995,  4735,    5.200,   26.142,   34.950,2,   34.950,2,  205.000,2,  205.600,2,    1.060,2,    0.110,2,    0.070,2, -999.000
           NA,HOT timeseries 1988to2019 27SEP2021,      2,  99,-999.0,    8023,-999.0,20161015,2052,  22.7500, -157.9995,  4735,   67.300,   25.325,   35.079,2,   35.077,2,  214.000,2,  213.600,2,    1.020,2,    0.140,2,    0.040,2, -999.000
           NA,HOT timeseries 1988to2019 27SEP2021,      2,  99,-999.0,    8022,-999.0,20161015,2052,  22.7500, -157.9995,  4735,   80.100,   24.745,   35.080,2,   35.075,2,  214.900,2,  214.700,2,    1.070,2,    0.140,2,    0.050,2, -999.000
           NA,HOT timeseries 1988to2019 27SEP2021,      2,  99,-999.0,    8020,-999.0,20161015,2052,  22.7500, -157.9995,  4735,  101.300,   23.450,   35.129,2,   35.135,2,  211.700,2,  212.500,2,    1.250,2,    0.100,2,    0.070,2, -999.000
           NA,HOT timeseries 1988to2019 27SEP2021,      2,  99,-999.0,    8019,-999.0,20161015,2052,  22.7500, -157.9995,  4735,  140.900,   21.796,   35.225,2,   35.224,2,  202.800,2,  201.500,2,    1.480,2,    0.510,2,    0.110,2, -999.000
           NA,HOT timeseries 1988to2019 27SEP2021,      2,  99,-999.0,    8018,-999.0,20161015,2052,  22.7500, -157.9995,  4735,  184.200,   19.265,   34.961,2,   34.951,2,  195.200,2,  194.900,2,    2.660,2,    2.650,2,    0.250,2, -999.000
           NA,HOT timeseries 1988to2019 27SEP2021,      2,  99,-999.0,    8017,-999.0,20161015,2052,  22.7500, -157.9995,  4735,  195.000,   18.560,   34.893,2,   34.897,2,  197.900,2,  197.600,2,    2.920,2,    2.840,2,    0.260,2, -999.000
           NA,HOT timeseries 1988to2019 27SEP2021,      2,  99,-999.0,    8016,-999.0,20161015,2052,  22.7500, -157.9995,  4735,  261.800,   15.113,   34.472,2,   34.475,2,  204.000,2,  204.800,2, -999.000,3,    5.690,2,    0.430,2, -999.000
           NA,HOT timeseries 1988to2019 27SEP2021,      2,  99,-999.0,    8015,-999.0,20161015,2052,  22.7500, -157.9995,  4735,  297.600,   13.109,   34.264,2,   34.263,2,  205.000,2,  206.500,2,    9.260,2,    9.070,2,    0.660,2, -999.000
           NA,HOT timeseries 1988to2019 27SEP2021,      2,  99,-999.0,    8014,-999.0,20161015,2052,  22.7500, -157.9995,  4735,  318.800,   12.064,   34.221,2,   34.214,2,  207.000,2,  207.700,2,   10.640,2,   11.680,2,    0.810,2, -999.000
           NA,HOT timeseries 1988to2019 27SEP2021,      2,  99,-999.0,    8025,-999.0,20161015,2052,  22.7500, -157.9995,  4735,  363.100,   10.607,   34.119,2,   34.111,2,  197.800,2,  196.000,2,   16.390,2,   15.830,2,    1.110,2, -999.000
           NA,HOT timeseries 1988to2019 27SEP2021,      2,  99,-999.0,    8012,-999.0,20161015,2052,  22.7500, -157.9995,  4735,  426.900,    8.735,   34.041,2,   34.041,2,  162.700,2,  162.100,2,   28.380,2,   22.740,2,    1.600,2, -999.000
           NA,HOT timeseries 1988to2019 27SEP2021,      2,  99,-999.0,    8011,-999.0,20161015,2052,  22.7500, -157.9995,  4735,  451.400,    8.305,   34.039,2,   34.038,2,  145.700,2,  145.000,2,   32.940,2,   24.930,2,    1.760,2, -999.000
           NA,HOT timeseries 1988to2019 27SEP2021,      2,  99,-999.0,    8010,-999.0,20161015,2052,  22.7500, -157.9995,  4735,  492.700,    7.263,   34.046,2,   34.047,2,  106.900,2,  105.700,2,   46.270,2,   30.630,2,    2.190,2, -999.000
           NA,HOT timeseries 1988to2019 27SEP2021,      2,  99,-999.0,    8009,-999.0,20161015,2052,  22.7500, -157.9995,  4735,  527.200,    6.608,   34.050,2,   34.052,2,   87.100,2,   86.500,2,   55.110,2,   33.440,2,    2.400,2, -999.000
           NA,HOT timeseries 1988to2019 27SEP2021,      2,  99,-999.0,    8008,-999.0,20161015,2052,  22.7500, -157.9995,  4735,  564.200,    5.968,   34.094,2,   34.094,2,   61.600,2,   62.000,2,   66.340,2,   36.740,2,    2.650,2, -999.000
           NA,HOT timeseries 1988to2019 27SEP2021,      2,  99,-999.0,    8060,-999.0,20161015,2052,  22.7500, -157.9995,  4735,  608.200,    5.481,   34.137,2,   34.134,2,   43.600,2,   42.800,2,   76.470,2,   39.250,2,    2.840,2, -999.000
           NA,HOT timeseries 1988to2019 27SEP2021,      2,  99,-999.0,    8006,-999.0,20161015,2052,  22.7500, -157.9995,  4735,  675.200,    5.021,   34.213,2,   34.212,2,   31.600,2,   32.200,2,   87.080,2,   40.920,2,    2.960,2, -999.000
           NA,HOT timeseries 1988to2019 27SEP2021,      2,  99,-999.0,    8005,-999.0,20161015,2052,  22.7500, -157.9995,  4735,  749.200,    4.786,   34.307,2,   34.305,2,   28.300,2,   29.700,2,   93.120,2,   41.460,2,    3.000,2, -999.000
           NA,HOT timeseries 1988to2019 27SEP2021,      2,  99,-999.0,    8059,-999.0,20161015,2052,  22.7500, -157.9995,  4735,  753.500,    4.781,   34.313,2,   34.312,2,   28.800,2,   28.800,2,   93.200,2,   41.650,2,    3.010,2, -999.000
           NA,HOT timeseries 1988to2019 27SEP2021,      2,  99,-999.0,    8003,-999.0,20161015,2052,  22.7500, -157.9995,  4735,  852.800,    4.545,   34.404,2,   34.405,2,   35.100,2,   35.400,2,   98.580,2,   41.710,2,    3.020,2, -999.000
           NA,HOT timeseries 1988to2019 27SEP2021,      2,  99,-999.0,    8002,-999.0,20161015,2052,  22.7500, -157.9995,  4735,  995.300,    4.114,   34.485,2,   34.484,2,   44.600,2,   44.600,2,  106.380,2,   41.760,2,    3.000,2, -999.000
           NA,HOT timeseries 1988to2019 27SEP2021,      2,  99,-999.0,    8001,-999.0,20161015,2052,  22.7500, -157.9995,  4735, 1020.000,    4.063,   34.490,2,   34.490,2,   46.100,2,   46.000,2,  107.950,2,   41.660,2,    3.000,2, -999.000
           NA,HOT timeseries 1988to2019 27SEP2021,      2,  99,-999.0,    8009,-999.0,20161015,2052,  22.7500, -157.9995,  4735, 1398.100,    3.167,   34.563,2, -999.000,4, -999.000,3, -999.000,4, -999.000,3, -999.000,3, -999.000,3, -999.000
           NA,HOT timeseries 1988to2019 27SEP2021,      2,  99,-999.0,    8008,-999.0,20161015,2052,  22.7500, -157.9995,  4735, 1998.100,    2.176,   34.617,2,   34.617,2,   87.800,2,   87.600,2,  148.690,2,   40.030,2,    2.840,2, -999.000
           NA,HOT timeseries 1988to2019 27SEP2021,      2,  99,-999.0,    8060,-999.0,20161015,2052,  22.7500, -157.9995,  4735, 2599.500,    1.712,   34.655,2,   34.654,2,  111.700,2,  111.400,2,  156.340,2,   38.510,2,    2.720,2, -999.000
           NA,HOT timeseries 1988to2019 27SEP2021,      2,  99,-999.0,    8006,-999.0,20161015,2052,  22.7500, -157.9995,  4735, 2998.200,    1.585,   34.666,2,   34.665,2,  121.200,2,  121.800,2,  159.540,2,   37.960,2,    2.670,2, -999.000
           NA,HOT timeseries 1988to2019 27SEP2021,      2,  99,-999.0,    8005,-999.0,20161015,2052,  22.7500, -157.9995,  4735, 3401.400,    1.501,   34.677,2,   34.676,2,  135.500,2,  135.800,2,  154.910,2,   36.880,2,    2.590,2, -999.000
           NA,HOT timeseries 1988to2019 27SEP2021,      2,  99,-999.0,    8059,-999.0,20161015,2052,  22.7500, -157.9995,  4735, 3801.300,    1.465,   34.683,2,   34.683,2,  144.900,2,  144.700,2,  151.950,2,   36.340,2,    2.540,2, -999.000
           NA,HOT timeseries 1988to2019 27SEP2021,      2,  99,-999.0,    8003,-999.0,20161015,2052,  22.7500, -157.9995,  4735, 4195.900,    1.469,   34.687,2,   34.688,2,  150.400,2,  149.900,2,  149.790,2,   36.020,2,    2.520,2, -999.000
           NA,HOT timeseries 1988to2019 27SEP2021,      2,  99,-999.0,    8002,-999.0,20161015,2052,  22.7500, -157.9995,  4735, 4497.300,    1.493,   34.687,2,   34.687,2,  152.000,2,  151.800,2,  149.420,2,   35.940,2,    2.510,2, -999.000
           NA,HOT timeseries 1988to2019 27SEP2021,      2,  99,-999.0,    8001,-999.0,20161015,2052,  22.7500, -157.9995,  4735, 4804.200,    1.519,   34.688,2, -999.000,3, -999.000,3,  153.800,2,  147.920,2,   35.900,2,    2.500,2, -999.000
           NA,HOT timeseries 1988to2019 27SEP2021,      2,  99,-999.0,    9024,-999.0,20161126,2102,  22.7500, -157.9977,  4736,    6.300,   24.985,   35.105,2,   35.104,2,  205.600,2,  206.900,2,    1.250,2,    0.100,2,    0.040,2, -999.000
           NA,HOT timeseries 1988to2019 27SEP2021,      2,  99,-999.0,    9023,-999.0,20161126,2102,  22.7500, -157.9977,  4736,   48.600,   24.989,   35.104,2,   35.104,2,  206.800,2,  206.800,2,    1.220,2,    0.070,2,    0.050,2, -999.000
           NA,HOT timeseries 1988to2019 27SEP2021,      2,  99,-999.0,    9022,-999.0,20161126,2102,  22.7500, -157.9977,  4736,   90.100,   23.373,   35.146,2,   35.142,2,  204.800,2,  206.400,2,    1.480,2,    0.180,2,    0.100,2, -999.000
           NA,HOT timeseries 1988to2019 27SEP2021,      2,  99,-999.0,    9021,-999.0,20161126,2102,  22.7500, -157.9977,  4736,   95.800,   23.254,   35.152,2,   35.153,2,  203.700,2,  204.500,2,    1.500,2,    0.240,2,    0.110,2, -999.000
           NA,HOT timeseries 1988to2019 27SEP2021,      2,  99,-999.0,    9020,-999.0,20161126,2102,  22.7500, -157.9977,  4736,  124.900,   21.817,   35.195,2,   35.194,2,  199.100,2,  198.600,2,    1.700,2,    0.810,2,    0.130,2, -999.000
           NA,HOT timeseries 1988to2019 27SEP2021,      2,  99,-999.0,    9019,-999.0,20161126,2102,  22.7500, -157.9977,  4736,  151.500,   20.167,   35.063,2,   35.065,2,  195.100,2,  195.100,2,    2.350,2,    1.790,2,    0.190,2, -999.000
           NA,HOT timeseries 1988to2019 27SEP2021,      2,  99,-999.0,    9018,-999.0,20161126,2102,  22.7500, -157.9977,  4736,  171.000,   19.571,   35.012,2,   35.014,2,  199.100,2,  198.800,2,    2.670,2,    1.990,2,    0.200,2, -999.000
           NA,HOT timeseries 1988to2019 27SEP2021,      2,  99,-999.0,    9017,-999.0,20161126,2102,  22.7500, -157.9977,  4736,  220.000,   16.506,   34.681,2,   34.679,2,  202.600,2,  204.100,2,    4.230,2,    4.140,2,    0.320,2, -999.000
           NA,HOT timeseries 1988to2019 27SEP2021,      2,  99,-999.0,    9016,-999.0,20161126,2102,  22.7500, -157.9977,  4736,  271.600,   14.148,   34.426,2,   34.429,2,  215.000,2,  213.300,2,    6.750,2,    6.860,2,    0.480,2, -999.000
           NA,HOT timeseries 1988to2019 27SEP2021,      2,  99,-999.0,    9015,-999.0,20161126,2102,  22.7500, -157.9977,  4736,  325.200,   11.842,   34.191,2,   34.192,2,  203.400,2,  202.700,2,   12.000,2,   11.990,2,    0.840,2, -999.000
           NA,HOT timeseries 1988to2019 27SEP2021,      2,  99,-999.0,    9014,-999.0,20161126,2102,  22.7500, -157.9977,  4736,  366.800,   10.154,   34.106,2,   34.111,2,  191.600,2,  190.400,2,   19.100,2,   16.750,2,    1.180,2, -999.000
           NA,HOT timeseries 1988to2019 27SEP2021,      2,  99,-999.0,    9013,-999.0,20161126,2102,  22.7500, -157.9977,  4736,  429.500,    8.452,   34.051,2,   34.050,2,  155.000,2,  155.400,2,   31.770,2,   23.320,2,    1.660,2, -999.000
           NA,HOT timeseries 1988to2019 27SEP2021,      2,  99,-999.0,    9012,-999.0,20161126,2102,  22.7500, -157.9977,  4736,  482.600,    7.403,   34.031,2,   34.033,2,  121.700,2,  127.000,2,   43.050,2,   27.960,2,    2.000,2, -999.000
           NA,HOT timeseries 1988to2019 27SEP2021,      2,  99,-999.0,    9011,-999.0,20161126,2102,  22.7500, -157.9977,  4736,  501.100,    7.037,   34.025,2,   34.026,2,  121.400,2,  118.800,2,   47.510,2,   29.390,2,    2.090,2, -999.000
           NA,HOT timeseries 1988to2019 27SEP2021,      2,  99,-999.0,    9010,-999.0,20161126,2102,  22.7500, -157.9977,  4736,  514.400,    6.722,   34.027,2,   34.028,2,  108.000,2, -999.000,4,   52.830,2,   31.210,2,    2.230,2, -999.000
           NA,HOT timeseries 1988to2019 27SEP2021,      2,  99,-999.0,    9009,-999.0,20161126,2102,  22.7500, -157.9977,  4736,  547.500,    6.011,   34.049,2,   34.049,2,   81.300,2,   81.500,2,   64.010,2,   34.720,2,    2.510,2, -999.000
           NA,HOT timeseries 1988to2019 27SEP2021,      2,  99,-999.0,    9008,-999.0,20161126,2102,  22.7500, -157.9977,  4736,  598.800,    5.420,   34.113,2,   34.113,2,   46.700,2,   46.600,2,   81.940,2,   38.690,2,    2.840,2, -999.000
           NA,HOT timeseries 1988to2019 27SEP2021,      2,  99,-999.0,    9007,-999.0,20161126,2102,  22.7500, -157.9977,  4736,  647.200,    5.065,   34.169,2,   34.170,2,   36.500,2,   35.400,2,   86.450,2,   40.140,2,    2.940,2, -999.000
           NA,HOT timeseries 1988to2019 27SEP2021,      2,  99,-999.0,    9006,-999.0,20161126,2102,  22.7500, -157.9977,  4736,  746.500,    4.588,   34.281,2,   34.284,2,   26.300,2,   25.700,2,   97.810,2,   41.690,2,    3.060,2, -999.000
           NA,HOT timeseries 1988to2019 27SEP2021,      2,  99,-999.0,    9005,-999.0,20161126,2102,  22.7500, -157.9977,  4736,  776.000,    4.447,   34.332,2,   34.338,2,   25.900,2,   25.400,2,  101.910,2,   41.990,2,    3.090,2, -999.000
           NA,HOT timeseries 1988to2019 27SEP2021,      2,  99,-999.0,    9004,-999.0,20161126,2102,  22.7500, -157.9977,  4736,  819.900,    4.353,   34.379,2,   34.381,2,   27.800,2,   27.400,2,  103.720,2,   42.210,2,    3.090,2, -999.000
           NA,HOT timeseries 1988to2019 27SEP2021,      2,  99,-999.0,    9003,-999.0,20161126,2102,  22.7500, -157.9977,  4736,  896.800,    4.272,   34.426,2,   34.427,2,   33.800,2,   33.200,2,  105.930,2,   41.940,2,    3.070,2, -999.000
           NA,HOT timeseries 1988to2019 27SEP2021,      2,  99,-999.0,    9002,-999.0,20161126,2102,  22.7500, -157.9977,  4736,  975.200,    4.028,   34.472,2,   34.473,2,   39.500,2,   38.800,2,  113.350,2,   41.910,2,    3.070,2, -999.000
           NA,HOT timeseries 1988to2019 27SEP2021,      2,  99,-999.0,    9001,-999.0,20161126,2102,  22.7500, -157.9977,  4736, 1021.100,    3.861,   34.491,2,   34.491,2,   44.400,2,   44.400,2,  114.720,2,   41.600,2,    3.030,2, -999.000
           NA,HOT timeseries 1988to2019 27SEP2021,      2,  99,-999.0,    9020,-999.0,20161126,2102,  22.7500, -157.9977,  4736, 1206.700,    3.459,   34.527,2,   34.528,2,   54.300,2,   54.600,2,  120.390,2,   41.300,2,    2.970,2, -999.000
           NA,HOT timeseries 1988to2019 27SEP2021,      2,  99,-999.0,    9019,-999.0,20161126,2102,  22.7500, -157.9977,  4736, 1399.600,    2.990,   34.556,2,   34.556,2,   62.600,2,   62.700,2,  131.060,2,   40.950,2,    2.940,2, -999.000
           NA,HOT timeseries 1988to2019 27SEP2021,      2,  99,-999.0,    9018,-999.0,20161126,2102,  22.7500, -157.9977,  4736, 1597.600,    2.593,   34.582,2,   34.583,2,   73.000,2,   73.600,2,  139.550,2,   40.390,2,    2.900,2, -999.000
           NA,HOT timeseries 1988to2019 27SEP2021,      2,  99,-999.0,    9017,-999.0,20161126,2102,  22.7500, -157.9977,  4736, 1798.500,    2.261,   34.607,2,   34.607,2,   83.100,2,   83.900,2,  147.030,2,   39.810,2,    2.850,2, -999.000
           NA,HOT timeseries 1988to2019 27SEP2021,      2,  99,-999.0,    9016,-999.0,20161126,2102,  22.7500, -157.9977,  4736, 1996.400,    2.051,   34.624,2,   34.625,2,   92.100,2,   92.500,2,  150.770,2,   39.190,2,    2.790,2, -999.000
           NA,HOT timeseries 1988to2019 27SEP2021,      2,  99,-999.0,    9015,-999.0,20161126,2102,  22.7500, -157.9977,  4736, 2200.600,    1.896,   34.636,2,   34.636,2,   98.400,2,   99.100,2,  154.950,2,   38.900,2,    2.770,2, -999.000
           NA,HOT timeseries 1988to2019 27SEP2021,      2,  99,-999.0,    9014,-999.0,20161126,2102,  22.7500, -157.9977,  4736, 2397.100,    1.782,   34.648,2,   34.649,2,  106.800,2,  107.200,2,  154.980,2,   38.340,2,    2.710,2, -999.000
           NA,HOT timeseries 1988to2019 27SEP2021,      2,  99,-999.0,    9013,-999.0,20161126,2102,  22.7500, -157.9977,  4736, 2601.200,    1.704,   34.656,2, -999.000,4, -999.000,3, -999.000,4, -999.000,4, -999.000,4, -999.000,4, -999.000
           NA,HOT timeseries 1988to2019 27SEP2021,      2,  99,-999.0,    9012,-999.0,20161126,2102,  22.7500, -157.9977,  4736, 2801.100,    1.637,   34.662,2,   34.662,2,  117.900,2,  118.200,2,  157.040,2,   37.620,2,    2.670,2, -999.000
           NA,HOT timeseries 1988to2019 27SEP2021,      2,  99,-999.0,    9011,-999.0,20161126,2102,  22.7500, -157.9977,  4736, 3000.000,    1.564,   34.668,2,   34.668,2,  123.800,2,  124.200,2,  157.680,2,   37.360,2,    2.640,2, -999.000
           NA,HOT timeseries 1988to2019 27SEP2021,      2,  99,-999.0,    9010,-999.0,20161126,2102,  22.7500, -157.9977,  4736, 3198.200,    1.517,   34.673,2,   34.672,2,  130.700,2,  130.400,2,  155.530,2,   36.980,2,    2.620,2, -999.000
           NA,HOT timeseries 1988to2019 27SEP2021,      2,  99,-999.0,    9009,-999.0,20161126,2102,  22.7500, -157.9977,  4736, 3400.700,    1.482,   34.678,2,   34.677,2,  136.300,2,  136.500,2,  154.450,2,   36.650,2,    2.590,2, -999.000
           NA,HOT timeseries 1988to2019 27SEP2021,      2,  99,-999.0,    9008,-999.0,20161126,2102,  22.7500, -157.9977,  4736, 3601.000,    1.466,   34.681,2,   34.681,2,  140.300,2,  140.200,2,  153.690,2,   36.400,2,    2.570,2, -999.000
           NA,HOT timeseries 1988to2019 27SEP2021,      2,  99,-999.0,    9007,-999.0,20161126,2102,  22.7500, -157.9977,  4736, 3800.800,    1.458,   34.683,2,   34.683,2,  144.800,2,  144.600,2,  151.600,2,   36.070,2,    2.540,2, -999.000
           NA,HOT timeseries 1988to2019 27SEP2021,      2,  99,-999.0,    9006,-999.0,20161126,2102,  22.7500, -157.9977,  4736, 4002.300,    1.459,   34.685,2,   34.684,2,  147.900,2,  147.800,2,  150.160,2,   35.850,2,    2.530,2, -999.000
           NA,HOT timeseries 1988to2019 27SEP2021,      2,  99,-999.0,    9005,-999.0,20161126,2102,  22.7500, -157.9977,  4736, 4203.000,    1.466,   34.687,2,   34.686,2,  149.900,2,  149.800,2,  149.270,2,   35.830,2,    2.510,2, -999.000
           NA,HOT timeseries 1988to2019 27SEP2021,      2,  99,-999.0,    9004,-999.0,20161126,2102,  22.7500, -157.9977,  4736, 4403.200,    1.482,   34.687,2,   34.687,2,  151.100,2,  150.400,2,  148.690,2,   35.740,2,    2.500,2, -999.000
           NA,HOT timeseries 1988to2019 27SEP2021,      2,  99,-999.0,    9003,-999.0,20161126,2102,  22.7500, -157.9977,  4736, 4500.700,    1.491,   34.687,2,   34.687,2,  151.200,2,  151.600,2,  148.860,2,   35.710,2,    2.500,2, -999.000
           NA,HOT timeseries 1988to2019 27SEP2021,      2,  99,-999.0,    9002,-999.0,20161126,2102,  22.7500, -157.9977,  4736, 4601.600,    1.501,   34.688,2,   34.687,2,  151.600,2,  151.600,2,  148.360,2,   35.650,2,    2.490,2, -999.000
           NA,HOT timeseries 1988to2019 27SEP2021,      2,  99,-999.0,    9001,-999.0,20161126,2102,  22.7500, -157.9977,  4736, 4805.600,    1.519,   34.688,2,   34.688,2, -999.000,3,  152.500,2,  148.100,2,   35.600,2,    2.490,2, -999.000