BOTTLE,20214727JOAExport
EXPOCODE,SECT_ID,STNNBR,CASTNO,SAMPNO,BTLNBR,BTLNBR_FLAG_W,DATE,TIME,LATITUDE,LONGITUDE,DEPTH,CTDPRS,CTDTMP,CTDSAL,CTDSAL_FLAG_W,SALNTY,SALNTY_FLAG_W,CTDOXY,CTDOXY_FLAG_W,OXYGEN,OXYGEN_FLAG_W,SILCAT,SILCAT_FLAG_W,NINI,NINI_FLAG_W,PHSPHT,PHSPHT_FLAG_W,REVP
,,,,,,,,,,,,DB,IPTS-68,PSS-78,,PSS-78,,UMOL/KG,,UMOL/KG,,UMOL/KG,,UMOL/KG,,UMOL/KG,,DBAR
           NA,HOT timeseries 1988to2019 27SEP2021,     96,  99,-999.0,      31,-999.0,19981208,1958,  22.7577, -157.9963,  4714,    5.200,   23.832,   35.290,2,   35.292,2,  215.800,2,  210.600,2,    1.180,2,    0.020,2,    0.100,2, -999.000
           NA,HOT timeseries 1988to2019 27SEP2021,     96,  99,-999.0,      31,-999.0,19981208,1958,  22.7577, -157.9963,  4714,    6.000,   23.741,   35.294,2,   35.294,2,  216.300,2,  211.000,2,    1.270,2,    0.000,2,    0.090,2, -999.000
           NA,HOT timeseries 1988to2019 27SEP2021,     96,  99,-999.0,      30,-999.0,19981208,1958,  22.7577, -157.9963,  4714,   50.700,   23.825,   35.291,2,   35.290,2,  216.400,2,  210.700,2,    1.160,2,    0.010,2,    0.090,2, -999.000
           NA,HOT timeseries 1988to2019 27SEP2021,     96,  99,-999.0,      22,-999.0,19981208,1958,  22.7577, -157.9963,  4714,  101.100,   23.496,   35.277,2,   35.280,2,  219.400,2,  212.400,2,    1.850,2,    0.000,2,    0.090,2, -999.000
           NA,HOT timeseries 1988to2019 27SEP2021,     96,  99,-999.0,      21,-999.0,19981208,1958,  22.7577, -157.9963,  4714,  136.200,   21.817,   35.210,2,   35.209,2,  211.300,2,  204.900,2,    1.480,2,    0.310,2,    0.150,2, -999.000
           NA,HOT timeseries 1988to2019 27SEP2021,     96,  99,-999.0,      20,-999.0,19981208,1958,  22.7577, -157.9963,  4714,  154.100,   21.454,   35.200,2,   35.200,2,  200.800,2,  198.700,2,    1.360,2,    0.740,2,    0.160,2, -999.000
           NA,HOT timeseries 1988to2019 27SEP2021,     96,  99,-999.0,      19,-999.0,19981208,1958,  22.7577, -157.9963,  4714,  189.900,   20.700,   35.175,2,   35.175,2,  203.700,2,  196.500,2,    2.030,2,    1.170,2,    0.150,2, -999.000
           NA,HOT timeseries 1988to2019 27SEP2021,     96,  99,-999.0,      18,-999.0,19981208,1958,  22.7577, -157.9963,  4714,  230.600,   19.643,   35.091,2,   35.092,2,  206.900,2,  199.300,2,    2.640,2,    1.550,2,    0.170,2, -999.000
           NA,HOT timeseries 1988to2019 27SEP2021,     96,  99,-999.0,      17,-999.0,19981208,1958,  22.7577, -157.9963,  4714,  269.400,   18.701,   34.978,2,   34.989,2,  207.600,2,  200.600,2,    2.300,2,    2.020,2,    0.200,2, -999.000
           NA,HOT timeseries 1988to2019 27SEP2021,     96,  99,-999.0,      16,-999.0,19981208,1958,  22.7577, -157.9963,  4714,  309.800,   16.391,   34.652,2,   34.652,2,  199.800,2,  196.000,2,    4.270,2,    4.440,2,    0.380,2, -999.000
           NA,HOT timeseries 1988to2019 27SEP2021,     96,  99,-999.0,      15,-999.0,19981208,1958,  22.7577, -157.9963,  4714,  341.300,   13.950,   34.370,2,   34.375,2,  191.700,2,  190.400,2,    8.040,2,    8.260,2,    0.640,2, -999.000
           NA,HOT timeseries 1988to2019 27SEP2021,     96,  99,-999.0,      14,-999.0,19981208,1958,  22.7577, -157.9963,  4714,  375.100,   12.006,   34.214,2,   34.223,2,  191.900,2,  190.700,2,   11.000,2,   11.660,2,    0.860,2, -999.000
           NA,HOT timeseries 1988to2019 27SEP2021,     96,  99,-999.0,      13,-999.0,19981208,1958,  22.7577, -157.9963,  4714,  416.300,   10.344,   34.119,2,   34.124,2,  187.900,2,  188.000,2,   17.070,2,   15.960,2,    1.130,2, -999.000
           NA,HOT timeseries 1988to2019 27SEP2021,     96,  99,-999.0,      12,-999.0,19981208,1958,  22.7577, -157.9963,  4714,  460.500,    8.556,   34.060,2,   34.059,2,  160.400,2,  160.300,2,   28.520,2,   22.100,2,    1.560,2, -999.000
           NA,HOT timeseries 1988to2019 27SEP2021,     96,  99,-999.0,      30,-999.0,19981208,1958,  22.7577, -157.9963,  4714,  477.600,    8.380,   34.059,2,   34.058,2,  150.700,2,  151.100,2,   30.700,2,   23.000,2,    1.650,2, -999.000
           NA,HOT timeseries 1988to2019 27SEP2021,     96,  99,-999.0,      11,-999.0,19981208,1958,  22.7577, -157.9963,  4714,  510.300,    7.274,   34.066,2,   34.064,2,  107.300,2,  113.400,2,   44.180,2,   28.880,2,    2.110,2, -999.000
           NA,HOT timeseries 1988to2019 27SEP2021,     96,  99,-999.0,      32,-999.0,19981208,1958,  22.7577, -157.9963,  4714,  550.300,    6.678,   34.076,2,   34.077,2,   90.600,2,   90.400,2,   53.530,2,   32.190,2,    2.340,2, -999.000
           NA,HOT timeseries 1988to2019 27SEP2021,     96,  99,-999.0,       3,-999.0,19981208,1958,  22.7577, -157.9963,  4714,  600.400,    6.237,   34.119,2,   34.121,2,   62.300,2,   60.700,2,   62.970,2,   35.540,2,    2.580,2, -999.000
           NA,HOT timeseries 1988to2019 27SEP2021,     96,  99,-999.0,      29,-999.0,19981208,1958,  22.7577, -157.9963,  4714,  645.700,    5.865,   34.191,2,   34.192,2,   44.500,2,   40.000,2,   71.300,2,   38.050,2,    2.790,2, -999.000
           NA,HOT timeseries 1988to2019 27SEP2021,     96,  99,-999.0,      28,-999.0,19981208,1958,  22.7577, -157.9963,  4714,  699.500,    5.422,   34.251,2,   34.251,2,   36.700,2,   32.000,2,   80.130,2,   39.630,2,    2.900,2, -999.000
           NA,HOT timeseries 1988to2019 27SEP2021,     96,  99,-999.0,       7,-999.0,19981208,1958,  22.7577, -157.9963,  4714,  741.100,    5.202,   34.296,2,   34.297,2,   29.500,2,   26.800,2,   85.190,2,   40.570,2,    2.980,2, -999.000
           NA,HOT timeseries 1988to2019 27SEP2021,     96,  99,-999.0,      38,-999.0,19981208,1958,  22.7577, -157.9963,  4714,  780.600,    5.057,   34.342,2,   34.341,2,   27.800,2,   25.800,2,   89.070,2,   41.050,2,    3.030,2, -999.000
           NA,HOT timeseries 1988to2019 27SEP2021,     96,  99,-999.0,      36,-999.0,19981208,1958,  22.7577, -157.9963,  4714,  839.900,    4.795,   34.378,2,   34.375,2,   30.300,2,   29.800,2,   93.480,2,   41.540,2,    3.030,2, -999.000
           NA,HOT timeseries 1988to2019 27SEP2021,     96,  99,-999.0,      35,-999.0,19981208,1958,  22.7577, -157.9963,  4714,  890.400,    4.582,   34.399,2,   34.398,2,   33.800,2,   33.000,2,   97.600,2,   41.450,2,    3.030,2, -999.000
           NA,HOT timeseries 1988to2019 27SEP2021,     96,  99,-999.0,      34,-999.0,19981208,1958,  22.7577, -157.9963,  4714,  951.000,    4.231,   34.430,2,   34.429,2,   32.900,2,   34.000,2,  105.180,2,   42.020,2,    3.050,2, -999.000
           NA,HOT timeseries 1988to2019 27SEP2021,     96,  99,-999.0,      21,-999.0,19981208,1958,  22.7577, -157.9963,  4714, 1001.000,    4.085,   34.479,2,   34.478,2,   40.800,2,   40.800,2,  107.110,2,   41.810,2,    3.010,2, -999.000
           NA,HOT timeseries 1988to2019 27SEP2021,     96,  99,-999.0,      20,-999.0,19981208,1958,  22.7577, -157.9963,  4714, 1198.400,    3.514,   34.520,2,   34.519,2,   50.600,2,   50.100,2,  117.680,2,   41.630,2,    3.010,2, -999.000
           NA,HOT timeseries 1988to2019 27SEP2021,     96,  99,-999.0,      19,-999.0,19981208,1958,  22.7577, -157.9963,  4714, 1399.500,    3.201,   34.553,2,   34.554,2,   56.000,2,   56.900,2,  124.370,2,   41.470,2,    2.970,2, -999.000
           NA,HOT timeseries 1988to2019 27SEP2021,     96,  99,-999.0,      18,-999.0,19981208,1958,  22.7577, -157.9963,  4714, 1601.900,    2.844,   34.572,2,   34.571,2,   66.300,2,   67.100,2, -999.000,4,   41.160,2,    2.920,2, -999.000
           NA,HOT timeseries 1988to2019 27SEP2021,     96,  99,-999.0,      17,-999.0,19981208,1958,  22.7577, -157.9963,  4714, 1802.100,    2.491,   34.594,2,   34.596,2,   76.900,2,   77.100,2, -999.000,4, -999.000,3, -999.000,3, -999.000
           NA,HOT timeseries 1988to2019 27SEP2021,     96,  99,-999.0,      16,-999.0,19981208,1958,  22.7577, -157.9963,  4714, 2000.900,    2.217,   34.614,2,   34.614,2,   85.200,2,   86.700,2, -999.000,4,   39.920,2,    2.830,2, -999.000
           NA,HOT timeseries 1988to2019 27SEP2021,     96,  99,-999.0,      15,-999.0,19981208,1958,  22.7577, -157.9963,  4714, 2203.600,    1.971,   34.631,2,   34.632,2,   94.900,2,   95.300,2, -999.000,4, -999.000,3, -999.000,3, -999.000
           NA,HOT timeseries 1988to2019 27SEP2021,     96,  99,-999.0,      14,-999.0,19981208,1958,  22.7577, -157.9963,  4714, 2400.100,    1.820,   34.644,2,   34.644,2,  103.000,2,  103.600,2, -999.000,4,   38.940,2,    2.740,2, -999.000
           NA,HOT timeseries 1988to2019 27SEP2021,     96,  99,-999.0,      13,-999.0,19981208,1958,  22.7577, -157.9963,  4714, 2600.200,    1.711,   34.653,2,   34.652,2,  110.200,2,  110.200,2, -999.000,4,   38.340,2,    2.740,2, -999.000
           NA,HOT timeseries 1988to2019 27SEP2021,     96,  99,-999.0,      12,-999.0,19981208,1958,  22.7577, -157.9963,  4714, 2805.000,    1.636,   34.660,2,   34.660,2,  115.200,2,  115.400,2, -999.000,4,   38.130,2,    2.670,2, -999.000
           NA,HOT timeseries 1988to2019 27SEP2021,     96,  99,-999.0,      11,-999.0,19981208,1958,  22.7577, -157.9963,  4714, 3002.800,    1.574,   34.668,2,   34.667,2,  121.300,2,  121.800,2, -999.000,4,   37.590,2,    2.620,2, -999.000
           NA,HOT timeseries 1988to2019 27SEP2021,     96,  99,-999.0,      32,-999.0,19981208,1958,  22.7577, -157.9963,  4714, 3200.900,    1.535,   34.673,2,   34.672,2,  127.700,2,  128.100,2, -999.000,4,   37.060,2,    2.610,2, -999.000
           NA,HOT timeseries 1988to2019 27SEP2021,     96,  99,-999.0,       3,-999.0,19981208,1958,  22.7577, -157.9963,  4714, 3401.400,    1.503,   34.678,2,   34.677,2,  133.700,2,  133.900,2, -999.000,4,   37.050,2,    2.580,2, -999.000
           NA,HOT timeseries 1988to2019 27SEP2021,     96,  99,-999.0,      29,-999.0,19981208,1958,  22.7577, -157.9963,  4714, 3600.200,    1.481,   34.682,2,   34.681,2,  138.800,2,  138.200,2, -999.000,4,   36.580,2,    2.550,2, -999.000
           NA,HOT timeseries 1988to2019 27SEP2021,     96,  99,-999.0,      28,-999.0,19981208,1958,  22.7577, -157.9963,  4714, 3800.200,    1.461,   34.685,2,   34.684,2,  144.500,2,  143.600,2, -999.000,4,   36.490,2,    2.520,2, -999.000
           NA,HOT timeseries 1988to2019 27SEP2021,     96,  99,-999.0,       7,-999.0,19981208,1958,  22.7577, -157.9963,  4714, 4000.700,    1.460,   34.687,2,   34.687,2,  147.100,2,  146.700,2, -999.000,4,   36.100,2,    2.510,2, -999.000
           NA,HOT timeseries 1988to2019 27SEP2021,     96,  99,-999.0,      38,-999.0,19981208,1958,  22.7577, -157.9963,  4714, 4198.700,    1.463,   34.689,2,   34.688,2,  149.900,2,  150.400,2, -999.000,4,   35.830,2,    2.490,2, -999.000
           NA,HOT timeseries 1988to2019 27SEP2021,     96,  99,-999.0,      36,-999.0,19981208,1958,  22.7577, -157.9963,  4714, 4399.900,    1.477,   34.689,2,   34.688,2,  152.600,2,  150.700,2, -999.000,4,   35.830,2,    2.490,2, -999.000
           NA,HOT timeseries 1988to2019 27SEP2021,     96,  99,-999.0,      35,-999.0,19981208,1958,  22.7577, -157.9963,  4714, 4500.600,    1.485,   34.690,2,   34.691,2,  151.600,2,  151.800,2, -999.000,4, -999.000,3,    2.480,2, -999.000
           NA,HOT timeseries 1988to2019 27SEP2021,     96,  99,-999.0,      34,-999.0,19981208,1958,  22.7577, -157.9963,  4714, 4601.500,    1.494,   34.690,2,   34.689,2,  152.700,2,  152.000,2, -999.000,4,   35.660,2,    2.470,2, -999.000
           NA,HOT timeseries 1988to2019 27SEP2021,     96,  99,-999.0,      33,-999.0,19981208,1958,  22.7577, -157.9963,  4714, 4812.900,    1.502,   34.692,2, -999.000,3, -999.000,3,  154.500,2, -999.000,4,   35.550,2,    2.470,2, -999.000