BOTTLE,20214727JOAExport
EXPOCODE,SECT_ID,STNNBR,CASTNO,SAMPNO,BTLNBR,BTLNBR_FLAG_W,DATE,TIME,LATITUDE,LONGITUDE,DEPTH,CTDPRS,CTDTMP,CTDSAL,CTDSAL_FLAG_W,SALNTY,SALNTY_FLAG_W,CTDOXY,CTDOXY_FLAG_W,OXYGEN,OXYGEN_FLAG_W,SILCAT,SILCAT_FLAG_W,NINI,NINI_FLAG_W,PHSPHT,PHSPHT_FLAG_W,REVP
,,,,,,,,,,,,DB,IPTS-68,PSS-78,,PSS-78,,UMOL/KG,,UMOL/KG,,UMOL/KG,,UMOL/KG,,UMOL/KG,,DBAR
           NA,HOT timeseries 1988to2019 27SEP2021,     84,  99,-999.0,      31,-999.0,19971206,0100,  22.8197, -158.0042,  4694,    4.600,   24.393,   35.150,2,   35.152,2,  207.200,2,  208.600,2,    1.180,2,    0.000,2,    0.060,2, -999.000
           NA,HOT timeseries 1988to2019 27SEP2021,     84,  99,-999.0,      30,-999.0,19971206,0100,  22.8197, -158.0042,  4694,   50.200,   24.408,   35.148,2,   35.150,2,  207.200,2,  208.400,2,    1.190,2,    0.000,2,    0.070,2, -999.000
           NA,HOT timeseries 1988to2019 27SEP2021,     84,  99,-999.0,      22,-999.0,19971206,0100,  22.8197, -158.0042,  4694,  110.500,   24.284,   35.144,2,   35.149,2,  207.500,2,  208.900,2,    1.230,2,    0.010,2,    0.060,2, -999.000
           NA,HOT timeseries 1988to2019 27SEP2021,     84,  99,-999.0,      21,-999.0,19971206,0100,  22.8197, -158.0042,  4694,  120.300,   22.514,   35.101,2,   35.111,2,  202.100,2,  213.000,2,    1.470,2,    0.140,2,    0.080,2, -999.000
           NA,HOT timeseries 1988to2019 27SEP2021,     84,  99,-999.0,      20,-999.0,19971206,0100,  22.8197, -158.0042,  4694,  130.600,   21.793,   35.115,2,   35.114,2,  206.000,2,  212.900,2,    2.160,2,    0.190,2,    0.070,2, -999.000
           NA,HOT timeseries 1988to2019 27SEP2021,     84,  99,-999.0,      19,-999.0,19971206,0100,  22.8197, -158.0042,  4694,  180.000,   19.510,   35.001,2,   34.999,2,  187.600,2,  191.300,2,    2.310,2,    1.940,2,    0.210,2, -999.000
           NA,HOT timeseries 1988to2019 27SEP2021,     84,  99,-999.0,      18,-999.0,19971206,0100,  22.8197, -158.0042,  4694,  253.500,   15.849,   34.597,2,   34.597,2,  191.000,2,  191.000,2,    5.080,2,    5.550,2,    0.450,2, -999.000
           NA,HOT timeseries 1988to2019 27SEP2021,     84,  99,-999.0,      17,-999.0,19971206,0100,  22.8197, -158.0042,  4694,  317.500,   11.558,   34.172,2,   34.179,2,  191.100,2,  191.200,2, -999.000,5, -999.000,5, -999.000,5, -999.000
           NA,HOT timeseries 1988to2019 27SEP2021,     84,  99,-999.0,      16,-999.0,19971206,0100,  22.8197, -158.0042,  4694,  356.800,   10.270,   34.105,2,   34.104,2,  191.500,2,  188.100,2,   17.020,2,   15.800,2,    1.140,2, -999.000
           NA,HOT timeseries 1988to2019 27SEP2021,     84,  99,-999.0,      15,-999.0,19971206,0100,  22.8197, -158.0042,  4694,  399.300,    9.046,   34.078,2,   34.076,2,  158.200,2,  157.800,2,   26.110,2,   21.250,2,    1.530,2, -999.000
           NA,HOT timeseries 1988to2019 27SEP2021,     84,  99,-999.0,      14,-999.0,19971206,0100,  22.8197, -158.0042,  4694,  419.200,    8.587,   34.080,2,   34.082,2,  150.500,2,  149.200,2,   29.700,2,   22.970,2,    1.660,2, -999.000
           NA,HOT timeseries 1988to2019 27SEP2021,     84,  99,-999.0,      13,-999.0,19971206,0100,  22.8197, -158.0042,  4694,  493.500,    7.302,   34.046,2,   34.047,2,  133.200,2,  131.500,2,   43.300,2,   27.350,2,    1.940,2, -999.000
           NA,HOT timeseries 1988to2019 27SEP2021,     84,  99,-999.0,      12,-999.0,19971206,0100,  22.8197, -158.0042,  4694,  529.100,    6.426,   34.043,2,   34.042,2,  107.400,2,  108.100,2,   53.480,2,   31.110,2,    2.230,2, -999.000
           NA,HOT timeseries 1988to2019 27SEP2021,     84,  99,-999.0,      11,-999.0,19971206,0100,  22.8197, -158.0042,  4694,  539.100,    6.322,   34.043,2,   34.045,2,  103.200,2,  104.800,2,   56.270,2,   32.040,2,    2.300,2, -999.000
           NA,HOT timeseries 1988to2019 27SEP2021,     84,  99,-999.0,      30,-999.0,19971206,0100,  22.8197, -158.0042,  4694,  539.100,    6.399,   34.045,2,   34.044,2,  103.600,2,  103.200,2,   54.990,2,   31.350,2,    2.230,2, -999.000
           NA,HOT timeseries 1988to2019 27SEP2021,     84,  99,-999.0,      32,-999.0,19971206,0100,  22.8197, -158.0042,  4694,  580.800,    5.796,   34.069,2,   34.069,2,   78.500,2,   79.900,2,   66.840,2,   35.090,2,    2.520,2, -999.000
           NA,HOT timeseries 1988to2019 27SEP2021,     84,  99,-999.0,       3,-999.0,19971206,0100,  22.8197, -158.0042,  4694,  600.200,    5.632,   34.089,2,   34.090,2,   73.800,2,   69.700,2,   70.790,2,   36.140,2,    2.620,2, -999.000
           NA,HOT timeseries 1988to2019 27SEP2021,     84,  99,-999.0,      29,-999.0,19971206,0100,  22.8197, -158.0042,  4694,  635.200,    5.299,   34.141,2,   34.143,2,   53.500,2,   53.000,2,   78.820,2,   37.980,2,    2.780,2, -999.000
           NA,HOT timeseries 1988to2019 27SEP2021,     84,  99,-999.0,      28,-999.0,19971206,0100,  22.8197, -158.0042,  4694,  694.000,    4.889,   34.205,2,   34.206,2,   38.900,2,   37.800,2,   89.010,2,   39.890,2,    2.920,2, -999.000
           NA,HOT timeseries 1988to2019 27SEP2021,     84,  99,-999.0,       7,-999.0,19971206,0100,  22.8197, -158.0042,  4694,  755.500,    4.522,   34.285,2,   34.280,2,   31.200,2,   31.100,2,   97.240,2,   41.050,2,    3.000,2, -999.000
           NA,HOT timeseries 1988to2019 27SEP2021,     84,  99,-999.0,      38,-999.0,19971206,0100,  22.8197, -158.0042,  4694,  799.700,    4.440,   34.326,2,   34.326,2,   30.600,2,   30.000,2,  100.580,2,   41.350,2,    3.020,2, -999.000
           NA,HOT timeseries 1988to2019 27SEP2021,     84,  99,-999.0,      22,-999.0,19971206,0100,  22.8197, -158.0042,  4694,  801.000,    4.373,   34.327,2,   34.327,2,   30.600,2,   30.100,2,  101.550,2,   41.240,2,    2.970,2, -999.000
           NA,HOT timeseries 1988to2019 27SEP2021,     84,  99,-999.0,      36,-999.0,19971206,0100,  22.8197, -158.0042,  4694,  838.100,    4.241,   34.355,2,   34.355,2,   32.100,2,   31.700,2,  104.820,2,   41.810,2,    3.020,2, -999.000
           NA,HOT timeseries 1988to2019 27SEP2021,     84,  99,-999.0,      35,-999.0,19971206,0100,  22.8197, -158.0042,  4694,  900.000,    4.091,   34.416,2,   34.414,2,   36.900,2,   36.400,2,  108.360,2,   41.510,2,    3.040,2, -999.000
           NA,HOT timeseries 1988to2019 27SEP2021,     84,  99,-999.0,      34,-999.0,19971206,0100,  22.8197, -158.0042,  4694,  976.000,    3.852,   34.460,2,   34.459,2,   42.200,2,   41.600,2,  112.860,2,   41.430,2,    3.010,2, -999.000
           NA,HOT timeseries 1988to2019 27SEP2021,     84,  99,-999.0,      21,-999.0,19971206,0100,  22.8197, -158.0042,  4694, 1000.900,    3.814,   34.466,2,   34.466,2,   42.500,2,   42.000,2,  113.250,2,   41.390,2,    2.990,2, -999.000
           NA,HOT timeseries 1988to2019 27SEP2021,     84,  99,-999.0,      33,-999.0,19971206,0100,  22.8197, -158.0042,  4694, 1020.500,    3.716,   34.481,2,   34.481,2,   45.300,2,   45.100,2,  115.540,2,   41.490,2,    2.980,2, -999.000
           NA,HOT timeseries 1988to2019 27SEP2021,     84,  99,-999.0,      20,-999.0,19971206,0100,  22.8197, -158.0042,  4694, 1200.700,    3.335,   34.525,2,   34.525,2,   53.300,2,   53.700,2,  124.300,2,   41.100,2, -999.000,3, -999.000
           NA,HOT timeseries 1988to2019 27SEP2021,     84,  99,-999.0,      19,-999.0,19971206,0100,  22.8197, -158.0042,  4694, 1402.900,    2.945,   34.565,2,   34.566,2,   63.400,2,   62.400,2,  132.810,2,   41.010,2,    2.920,2, -999.000
           NA,HOT timeseries 1988to2019 27SEP2021,     84,  99,-999.0,      18,-999.0,19971206,0100,  22.8197, -158.0042,  4694, 1602.000,    2.587,   34.586,2,   34.586,2,   73.100,2,   72.500,2,  140.470,2,   40.550,2,    2.860,2, -999.000
           NA,HOT timeseries 1988to2019 27SEP2021,     84,  99,-999.0,      17,-999.0,19971206,0100,  22.8197, -158.0042,  4694, 1797.800,    2.280,   34.607,2,   34.608,2,   80.300,2,   81.100,2,  147.840,2,   39.980,2,    2.860,2, -999.000
           NA,HOT timeseries 1988to2019 27SEP2021,     84,  99,-999.0,      16,-999.0,19971206,0100,  22.8197, -158.0042,  4694, 1997.000,    2.057,   34.622,2,   34.621,2,   86.800,2,   87.600,2,  152.440,2,   39.510,2,    2.810,2, -999.000
           NA,HOT timeseries 1988to2019 27SEP2021,     84,  99,-999.0,      15,-999.0,19971206,0100,  22.8197, -158.0042,  4694, 2199.600,    1.872,   34.638,2,   34.638,2,   96.300,2,   97.100,2,  157.120,2,   39.080,2,    2.760,2, -999.000
           NA,HOT timeseries 1988to2019 27SEP2021,     84,  99,-999.0,      14,-999.0,19971206,0100,  22.8197, -158.0042,  4694, 2398.700,    1.745,   34.649,2,   34.650,2,  105.300,2,  105.700,2,  158.790,2,   38.490,2,    2.720,2, -999.000
           NA,HOT timeseries 1988to2019 27SEP2021,     84,  99,-999.0,      13,-999.0,19971206,0100,  22.8197, -158.0042,  4694, 2599.200,    1.638,   34.660,2,   34.660,2,  113.100,2,  114.100,2,  159.300,2,   37.910,2,    2.690,2, -999.000
           NA,HOT timeseries 1988to2019 27SEP2021,     84,  99,-999.0,      12,-999.0,19971206,0100,  22.8197, -158.0042,  4694, 2798.000,    1.571,   34.667,2,   34.667,2,  120.600,2,  121.600,2,  159.070,2,   37.790,2,    2.630,2, -999.000
           NA,HOT timeseries 1988to2019 27SEP2021,     84,  99,-999.0,      11,-999.0,19971206,0100,  22.8197, -158.0042,  4694, 2997.800,    1.518,   34.673,2,   34.673,2,  126.700,2,  127.600,2,  158.610,2,   37.150,2,    2.610,2, -999.000
           NA,HOT timeseries 1988to2019 27SEP2021,     84,  99,-999.0,      32,-999.0,19971206,0100,  22.8197, -158.0042,  4694, 3199.700,    1.471,   34.679,2,   34.679,2,  134.300,2,  134.100,2,  156.870,2,   36.850,2,    2.540,2, -999.000
           NA,HOT timeseries 1988to2019 27SEP2021,     84,  99,-999.0,       3,-999.0,19971206,0100,  22.8197, -158.0042,  4694, 3399.600,    1.455,   34.682,2,   34.683,2,  138.500,2,  138.800,2,  154.840,2,   36.400,2,    2.530,2, -999.000
           NA,HOT timeseries 1988to2019 27SEP2021,     84,  99,-999.0,      29,-999.0,19971206,0100,  22.8197, -158.0042,  4694, 3601.300,    1.444,   34.685,2,   34.684,2,  143.300,2,  143.200,2,  153.980,2,   36.120,2,    2.520,2, -999.000
           NA,HOT timeseries 1988to2019 27SEP2021,     84,  99,-999.0,      28,-999.0,19971206,0100,  22.8197, -158.0042,  4694, 3799.600,    1.445,   34.687,2,   34.686,2,  146.100,2,  146.300,2,  152.380,2,   36.100,2,    2.520,2, -999.000
           NA,HOT timeseries 1988to2019 27SEP2021,     84,  99,-999.0,       7,-999.0,19971206,0100,  22.8197, -158.0042,  4694, 4000.000,    1.449,   34.688,2,   34.688,2,  148.700,2,  148.400,2,  151.130,2,   35.890,2, -999.000,3, -999.000
           NA,HOT timeseries 1988to2019 27SEP2021,     84,  99,-999.0,      38,-999.0,19971206,0100,  22.8197, -158.0042,  4694, 4199.400,    1.460,   34.689,2,   34.689,2,  150.000,2,  149.900,2,  150.440,2,   35.810,2,    2.490,2, -999.000
           NA,HOT timeseries 1988to2019 27SEP2021,     84,  99,-999.0,      36,-999.0,19971206,0100,  22.8197, -158.0042,  4694, 4400.900,    1.476,   34.690,2, -999.000,4, -999.000,3, -999.000,4, -999.000,4, -999.000,4, -999.000,4, -999.000
           NA,HOT timeseries 1988to2019 27SEP2021,     84,  99,-999.0,      35,-999.0,19971206,0100,  22.8197, -158.0042,  4694, 4501.200,    1.485,   34.690,2,   34.692,2,  152.300,2,  151.500,2,  150.130,2,   35.760,2,    2.480,2, -999.000
           NA,HOT timeseries 1988to2019 27SEP2021,     84,  99,-999.0,      34,-999.0,19971206,0100,  22.8197, -158.0042,  4694, 4599.600,    1.494,   34.691,2,   34.688,2,  152.700,2,  152.000,2,  149.930,2,   35.660,2,    2.490,2, -999.000
           NA,HOT timeseries 1988to2019 27SEP2021,     84,  99,-999.0,      33,-999.0,19971206,0100,  22.8197, -158.0042,  4694, 4773.000,    1.510,   34.692,2,   34.690,2,  153.100,2,  152.900,2,  149.080,2,   35.650,2,    2.450,2, -999.000