BOTTLE,20214727JOAExport
EXPOCODE,SECT_ID,STNNBR,CASTNO,SAMPNO,BTLNBR,BTLNBR_FLAG_W,DATE,TIME,LATITUDE,LONGITUDE,DEPTH,CTDPRS,CTDTMP,CTDSAL,CTDSAL_FLAG_W,SALNTY,SALNTY_FLAG_W,CTDOXY,CTDOXY_FLAG_W,OXYGEN,OXYGEN_FLAG_W,SILCAT,SILCAT_FLAG_W,NINI,NINI_FLAG_W,PHSPHT,PHSPHT_FLAG_W,REVP
,,,,,,,,,,,,DB,IPTS-68,PSS-78,,PSS-78,,UMOL/KG,,UMOL/KG,,UMOL/KG,,UMOL/KG,,UMOL/KG,,DBAR
           NA,HOT timeseries 1988to2019 27SEP2021,     69,  99,-999.0,      31,-999.0,19960625,1226,  22.7520, -158.0007,  4724,    4.600,   26.213,   34.416,2,   34.420,2,  206.600,2,  205.300,2,    1.860,2,    0.000,2,    0.090,2, -999.000
           NA,HOT timeseries 1988to2019 27SEP2021,     69,  99,-999.0,      31,-999.0,19960625,1226,  22.7520, -158.0007,  4724,    5.000,   26.301,   34.470,2,   34.470,2,  206.000,2,  204.600,2,    1.620,2,    0.000,2,    0.130,2, -999.000
           NA,HOT timeseries 1988to2019 27SEP2021,     69,  99,-999.0,      30,-999.0,19960625,1226,  22.7520, -158.0007,  4724,   48.500,   26.287,   34.470,2,   34.478,2,  205.300,2,  205.100,2,    1.600,2,    0.000,2,    0.130,2, -999.000
           NA,HOT timeseries 1988to2019 27SEP2021,     69,  99,-999.0,      22,-999.0,19960625,1226,  22.7520, -158.0007,  4724,   60.300,   24.495,   34.930,2,   34.906,2,  219.000,2,  218.600,2,    1.630,2,    0.010,2,    0.080,2, -999.000
           NA,HOT timeseries 1988to2019 27SEP2021,     69,  99,-999.0,      21,-999.0,19960625,1226,  22.7520, -158.0007,  4724,   80.400,   23.107,   35.072,2,   35.072,2,  223.700,2,  224.500,2,    1.590,2,    0.020,2,    0.050,2, -999.000
           NA,HOT timeseries 1988to2019 27SEP2021,     69,  99,-999.0,      20,-999.0,19960625,1226,  22.7520, -158.0007,  4724,   90.100,   22.839,   35.092,2,   35.091,2,  226.300,2,  225.400,2,    1.570,2,    0.010,2,    0.050,2, -999.000
           NA,HOT timeseries 1988to2019 27SEP2021,     69,  99,-999.0,      19,-999.0,19960625,1226,  22.7520, -158.0007,  4724,  131.100,   21.628,   35.115,2,   35.113,2,  214.500,2,  214.900,2,    1.690,2,    0.010,2,    0.070,2, -999.000
           NA,HOT timeseries 1988to2019 27SEP2021,     69,  99,-999.0,      18,-999.0,19960625,1226,  22.7520, -158.0007,  4724,  159.900,   20.812,   35.114,2,   35.115,2,  208.100,2,  208.300,2,    1.880,2,    0.460,2,    0.100,2, -999.000
           NA,HOT timeseries 1988to2019 27SEP2021,     69,  99,-999.0,      30,-999.0,19960625,1226,  22.7520, -158.0007,  4724,  184.000,   20.286,   35.109,2,   35.107,2,  209.900,2,  207.200,2,    2.360,2,    0.750,2,    0.120,2, -999.000
           NA,HOT timeseries 1988to2019 27SEP2021,     69,  99,-999.0,      17,-999.0,19960625,1226,  22.7520, -158.0007,  4724,  203.800,   19.555,   35.062,2,   35.062,2,  201.400,2,  201.300,2,    2.560,2,    1.490,2,    0.200,2, -999.000
           NA,HOT timeseries 1988to2019 27SEP2021,     69,  99,-999.0,      16,-999.0,19960625,1226,  22.7520, -158.0007,  4724,  263.000,   16.470,   34.728,2,   34.734,2,  197.900,2,  198.600,2,    4.640,2,    4.220,2,    0.350,2, -999.000
           NA,HOT timeseries 1988to2019 27SEP2021,     69,  99,-999.0,      15,-999.0,19960625,1226,  22.7520, -158.0007,  4724,  299.000,   14.356,   34.488,2,   34.488,2,  200.400,2,  198.900,2,    7.180,2,    7.350,2,    0.560,2, -999.000
           NA,HOT timeseries 1988to2019 27SEP2021,     69,  99,-999.0,      14,-999.0,19960625,1226,  22.7520, -158.0007,  4724,  338.800,   12.545,   34.341,2,   34.342,2,  202.000,2,  201.700,2,   10.760,2,   10.610,2,    0.750,2, -999.000
           NA,HOT timeseries 1988to2019 27SEP2021,     69,  99,-999.0,      13,-999.0,19960625,1226,  22.7520, -158.0007,  4724,  391.300,   10.664,   34.196,2,   34.197,2,  199.200,2,  196.600,2,   16.510,2,   14.790,2,    1.040,2, -999.000
           NA,HOT timeseries 1988to2019 27SEP2021,     69,  99,-999.0,      12,-999.0,19960625,1226,  22.7520, -158.0007,  4724,  429.800,    9.143,   34.105,2,   34.109,2,  182.900,2,  181.800,2,   23.930,2,   19.120,2,    1.340,2, -999.000
           NA,HOT timeseries 1988to2019 27SEP2021,     69,  99,-999.0,      11,-999.0,19960625,1226,  22.7520, -158.0007,  4724,  488.000,    7.727,   34.077,2,   34.078,2,  124.900,2,  131.400,2,   39.030,2,   26.490,2,    1.880,2, -999.000
           NA,HOT timeseries 1988to2019 27SEP2021,     69,  99,-999.0,      32,-999.0,19960625,1226,  22.7520, -158.0007,  4724,  492.400,    7.711,   34.082,2,   34.082,2,  124.600,2,  129.200,2,   39.640,2,   26.940,2,    1.920,2, -999.000
           NA,HOT timeseries 1988to2019 27SEP2021,     69,  99,-999.0,      22,-999.0,19960625,1226,  22.7520, -158.0007,  4724,  527.000,    7.449,   34.098,2,   34.097,2,  112.500,2,  107.000,2,   44.280,2,   28.480,2,    2.020,2, -999.000
           NA,HOT timeseries 1988to2019 27SEP2021,     69,  99,-999.0,       3,-999.0,19960625,1226,  22.7520, -158.0007,  4724,  544.200,    7.207,   34.168,2,   34.181,2,   66.100,2,   73.000,2,   49.990,2, -999.000,3, -999.000,3, -999.000
           NA,HOT timeseries 1988to2019 27SEP2021,     69,  99,-999.0,      29,-999.0,19960625,1226,  22.7520, -158.0007,  4724,  599.400,    6.444,   34.170,2,   34.170,2,   58.700,2,   57.700,2,   61.630,2,   35.280,2,    2.570,2, -999.000
           NA,HOT timeseries 1988to2019 27SEP2021,     69,  99,-999.0,      28,-999.0,19960625,1226,  22.7520, -158.0007,  4724,  641.700,    5.910,   34.215,2,   34.215,2,   41.500,2,   41.100,2,   71.260,2,   37.790,2,    2.750,2, -999.000
           NA,HOT timeseries 1988to2019 27SEP2021,     69,  99,-999.0,       7,-999.0,19960625,1226,  22.7520, -158.0007,  4724,  687.600,    5.512,   34.284,2,   34.284,2,   30.600,2,   30.200,2,   79.740,2,   39.560,2,    2.880,2, -999.000
           NA,HOT timeseries 1988to2019 27SEP2021,     69,  99,-999.0,      21,-999.0,19960625,1226,  22.7520, -158.0007,  4724,  750.200,    5.117,   34.344,2,   34.344,2,   26.100,2,   24.500,2, -999.000,5, -999.000,5, -999.000,5, -999.000
           NA,HOT timeseries 1988to2019 27SEP2021,     69,  99,-999.0,      38,-999.0,19960625,1226,  22.7520, -158.0007,  4724,  764.600,    4.984,   34.342,2,   34.341,2,   26.200,2,   25.800,2,   90.000,2,   41.030,2,    2.970,2, -999.000
           NA,HOT timeseries 1988to2019 27SEP2021,     69,  99,-999.0,      36,-999.0,19960625,1226,  22.7520, -158.0007,  4724,  800.200,    5.030,   34.397,2,   34.398,2,   26.200,2,   25.700,2,   89.950,2,   41.390,2,    3.000,2, -999.000
           NA,HOT timeseries 1988to2019 27SEP2021,     69,  99,-999.0,      35,-999.0,19960625,1226,  22.7520, -158.0007,  4724,  875.900,    4.761,   34.444,2,   34.445,2,   27.900,2,   28.200,2,   94.520,2,   41.770,2,    3.020,2, -999.000
           NA,HOT timeseries 1988to2019 27SEP2021,     69,  99,-999.0,      34,-999.0,19960625,1226,  22.7520, -158.0007,  4724,  950.100,    4.451,   34.469,2,   34.470,2,   33.200,2,   33.600,2,   99.980,2, -999.000,3,    3.010,2, -999.000
           NA,HOT timeseries 1988to2019 27SEP2021,     69,  99,-999.0,      20,-999.0,19960625,1226,  22.7520, -158.0007,  4724, 1002.200,    4.231,   34.483,2,   34.482,2,   37.100,2,   36.000,2,  103.690,2,   41.710,2, -999.000,3, -999.000
           NA,HOT timeseries 1988to2019 27SEP2021,     69,  99,-999.0,      33,-999.0,19960625,1226,  22.7520, -158.0007,  4724, 1020.300,    4.142,   34.486,2,   34.487,2,   39.700,2,   39.200,2,  106.330,2,   41.870,2,    3.010,2, -999.000
           NA,HOT timeseries 1988to2019 27SEP2021,     69,  99,-999.0,      19,-999.0,19960625,1226,  22.7520, -158.0007,  4724, 1403.500,    3.139,   34.557,2,   34.558,2,   56.200,2,   56.800,2,  127.030,2,   41.150,2,    2.910,2, -999.000
           NA,HOT timeseries 1988to2019 27SEP2021,     69,  99,-999.0,      18,-999.0,19960625,1226,  22.7520, -158.0007,  4724, 1601.800,    2.783,   34.579,2,   34.577,2,   66.500,2,   66.200,2,  135.290,2,   40.780,2,    2.890,2, -999.000
           NA,HOT timeseries 1988to2019 27SEP2021,     69,  99,-999.0,      17,-999.0,19960625,1226,  22.7520, -158.0007,  4724, 1800.900,    2.414,   34.598,2,   34.599,2,   75.700,2,   78.000,2,  142.870,2,   40.310,2,    2.830,2, -999.000
           NA,HOT timeseries 1988to2019 27SEP2021,     69,  99,-999.0,      16,-999.0,19960625,1226,  22.7520, -158.0007,  4724, 2000.900,    2.126,   34.615,2,   34.615,2,   82.800,2,   83.800,2,  151.050,2,   39.950,2,    2.800,2, -999.000
           NA,HOT timeseries 1988to2019 27SEP2021,     69,  99,-999.0,      15,-999.0,19960625,1226,  22.7520, -158.0007,  4724, 2200.500,    1.914,   34.630,2,   34.630,2,   91.200,2,   91.200,2,  156.520,2,   39.440,2,    2.760,2, -999.000
           NA,HOT timeseries 1988to2019 27SEP2021,     69,  99,-999.0,      14,-999.0,19960625,1226,  22.7520, -158.0007,  4724, 2401.600,    1.759,   34.644,2,   34.644,2,   99.500,2,   99.900,2,  159.420,2,   38.890,2,    2.720,2, -999.000
           NA,HOT timeseries 1988to2019 27SEP2021,     69,  99,-999.0,      13,-999.0,19960625,1226,  22.7520, -158.0007,  4724, 2601.000,    1.655,   34.655,2,   34.653,2,  108.700,2,  108.800,2,  160.130,2,   38.430,2,    2.670,2, -999.000
           NA,HOT timeseries 1988to2019 27SEP2021,     69,  99,-999.0,      12,-999.0,19960625,1226,  22.7520, -158.0007,  4724, 2800.000,    1.582,   34.663,2,   34.664,2,  116.300,2,  117.300,2,  159.130,2,   38.020,2,    2.640,2, -999.000
           NA,HOT timeseries 1988to2019 27SEP2021,     69,  99,-999.0,      11,-999.0,19960625,1226,  22.7520, -158.0007,  4724, 2999.700,    1.536,   34.670,2,   34.670,2,  124.100,2,  124.400,2,  158.590,2,   37.540,2,    2.600,2, -999.000
           NA,HOT timeseries 1988to2019 27SEP2021,     69,  99,-999.0,      32,-999.0,19960625,1226,  22.7520, -158.0007,  4724, 3199.200,    1.496,   34.675,2,   34.675,2,  130.500,2,  130.800,2,  156.390,2,   37.170,2,    2.570,2, -999.000
           NA,HOT timeseries 1988to2019 27SEP2021,     69,  99,-999.0,       3,-999.0,19960625,1226,  22.7520, -158.0007,  4724, 3400.100,    1.468,   34.679,2,   34.680,2,  136.300,2,  136.900,2,  154.260,2,   36.660,2,    2.540,2, -999.000
           NA,HOT timeseries 1988to2019 27SEP2021,     69,  99,-999.0,      29,-999.0,19960625,1226,  22.7520, -158.0007,  4724, 3598.900,    1.456,   34.682,2,   34.681,2,  141.000,2,  141.200,2,  152.660,2,   36.450,2,    2.520,2, -999.000
           NA,HOT timeseries 1988to2019 27SEP2021,     69,  99,-999.0,      28,-999.0,19960625,1226,  22.7520, -158.0007,  4724, 3798.300,    1.449,   34.684,2,   34.684,2,  145.000,2,  144.900,2,  150.890,2,   36.060,2,    2.490,2, -999.000
           NA,HOT timeseries 1988to2019 27SEP2021,     69,  99,-999.0,       7,-999.0,19960625,1226,  22.7520, -158.0007,  4724, 4000.600,    1.451,   34.686,2,   34.686,2,  147.800,2,  147.900,2,  149.430,2,   35.910,2,    2.480,2, -999.000
           NA,HOT timeseries 1988to2019 27SEP2021,     69,  99,-999.0,      38,-999.0,19960625,1226,  22.7520, -158.0007,  4724, 4201.600,    1.460,   34.687,2,   34.686,2,  150.500,2,  149.800,2,  148.500,2, -999.000,3,    2.470,2, -999.000
           NA,HOT timeseries 1988to2019 27SEP2021,     69,  99,-999.0,      36,-999.0,19960625,1226,  22.7520, -158.0007,  4724, 4401.000,    1.476,   34.688,2,   34.688,2,  151.600,2,  150.700,2,  147.660,2,   35.770,2,    2.460,2, -999.000
           NA,HOT timeseries 1988to2019 27SEP2021,     69,  99,-999.0,      35,-999.0,19960625,1226,  22.7520, -158.0007,  4724, 4499.000,    1.485,   34.688,2,   34.690,2,  151.500,2,  151.200,2,  147.580,2,   35.740,2,    2.460,2, -999.000
           NA,HOT timeseries 1988to2019 27SEP2021,     69,  99,-999.0,      34,-999.0,19960625,1226,  22.7520, -158.0007,  4724, 4598.800,    1.495,   34.688,2,   34.688,2,  151.700,2,  151.500,2,  147.320,2,   35.680,2,    2.460,2, -999.000
           NA,HOT timeseries 1988to2019 27SEP2021,     69,  99,-999.0,      33,-999.0,19960625,1226,  22.7520, -158.0007,  4724, 4801.000,    1.517,   34.688,2,   34.690,2,  152.400,2,  152.500,2,  146.780,2,   35.690,2,    2.460,2, -999.000