BOTTLE,20214727JOAExport
EXPOCODE,SECT_ID,STNNBR,CASTNO,SAMPNO,BTLNBR,BTLNBR_FLAG_W,DATE,TIME,LATITUDE,LONGITUDE,DEPTH,CTDPRS,CTDTMP,CTDSAL,CTDSAL_FLAG_W,SALNTY,SALNTY_FLAG_W,CTDOXY,CTDOXY_FLAG_W,OXYGEN,OXYGEN_FLAG_W,SILCAT,SILCAT_FLAG_W,NINI,NINI_FLAG_W,PHSPHT,PHSPHT_FLAG_W,REVP
,,,,,,,,,,,,DB,IPTS-68,PSS-78,,PSS-78,,UMOL/KG,,UMOL/KG,,UMOL/KG,,UMOL/KG,,UMOL/KG,,DBAR
           NA,HOT timeseries 1988to2019 27SEP2021,    102,  99,-999.0,      31,-999.0,19990713,1358,  22.7485, -157.9960,  4721,    4.900,   24.990,   34.920,2,   34.922,2,  209.600,2,  208.500,2,    1.450,2,    0.000,2,    0.150,2, -999.000
           NA,HOT timeseries 1988to2019 27SEP2021,    102,  99,-999.0,      31,-999.0,19990713,1358,  22.7485, -157.9960,  4721,    5.200,   25.010,   34.923,2, -999.000,4, -999.000,3,  208.400,2,    1.370,2,    0.000,2,    0.090,2, -999.000
           NA,HOT timeseries 1988to2019 27SEP2021,    102,  99,-999.0,      30,-999.0,19990713,1358,  22.7485, -157.9960,  4721,   55.200,   24.996,   34.923,2,   34.925,2,  209.500,2,  208.700,2,    1.410,2,    0.010,2,    0.110,2, -999.000
           NA,HOT timeseries 1988to2019 27SEP2021,    102,  99,-999.0,      22,-999.0,19990713,1358,  22.7485, -157.9960,  4721,  116.100,   23.940,   35.190,2,   35.191,2,  212.800,2, -999.000,3,    1.450,2,    0.010,2,    0.080,2, -999.000
           NA,HOT timeseries 1988to2019 27SEP2021,    102,  99,-999.0,      30,-999.0,19990713,1358,  22.7485, -157.9960,  4721,  195.900,   21.628,   35.416,2,   35.419,2,  224.400,2,  218.900,2,    1.460,2,    0.000,2,    0.080,2, -999.000
           NA,HOT timeseries 1988to2019 27SEP2021,    102,  99,-999.0,      20,-999.0,19990713,1358,  22.7485, -157.9960,  4721,  205.200,   21.447,   35.351,2,   35.356,2,  214.500,2,  214.800,2,    1.690,2,    0.520,2,    0.120,2, -999.000
           NA,HOT timeseries 1988to2019 27SEP2021,    102,  99,-999.0,      19,-999.0,19990713,1358,  22.7485, -157.9960,  4721,  247.700,   19.505,   35.074,2,   35.074,2,  191.200,2,  193.700,2,    2.630,2,    2.330,2,    0.230,2, -999.000
           NA,HOT timeseries 1988to2019 27SEP2021,    102,  99,-999.0,      18,-999.0,19990713,1358,  22.7485, -157.9960,  4721,  297.000,   16.113,   34.654,2,   34.656,2,  196.500,2,  197.800,2,    4.730,2,    4.580,2,    0.440,2, -999.000
           NA,HOT timeseries 1988to2019 27SEP2021,    102,  99,-999.0,      17,-999.0,19990713,1358,  22.7485, -157.9960,  4721,  320.000,   14.824,   34.524,2,   34.523,2,  203.600,2,  202.300,2,    6.030,2,    5.970,2,    0.480,2, -999.000
           NA,HOT timeseries 1988to2019 27SEP2021,    102,  99,-999.0,      16,-999.0,19990713,1358,  22.7485, -157.9960,  4721,  366.900,   12.325,   34.301,2,   34.303,2,  205.000,2,  203.700,2,   10.570,2,   10.490,2,    0.760,2, -999.000
           NA,HOT timeseries 1988to2019 27SEP2021,    102,  99,-999.0,      15,-999.0,19990713,1358,  22.7485, -157.9960,  4721,  399.300,   11.201,   34.219,2,   34.219,2,  200.500,2,  199.100,2,   14.150,2,   13.290,2,    0.950,2, -999.000
           NA,HOT timeseries 1988to2019 27SEP2021,    102,  99,-999.0,      14,-999.0,19990713,1358,  22.7485, -157.9960,  4721,  433.700,   10.492,   34.163,2,   34.164,2,  197.600,2,  195.000,2,   16.780,2,   15.140,2,    1.070,2, -999.000
           NA,HOT timeseries 1988to2019 27SEP2021,    102,  99,-999.0,      13,-999.0,19990713,1358,  22.7485, -157.9960,  4721,  480.200,    8.850,   34.067,2,   34.069,2,  174.100,2,  175.000,2, -999.000,5, -999.000,5, -999.000,5, -999.000
           NA,HOT timeseries 1988to2019 27SEP2021,    102,  99,-999.0,      12,-999.0,19990713,1358,  22.7485, -157.9960,  4721,  519.900,    7.923,   34.054,2,   34.053,2,  146.000,2,  144.200,2,   36.080,2,   25.140,2,    1.820,2, -999.000
           NA,HOT timeseries 1988to2019 27SEP2021,    102,  99,-999.0,      11,-999.0,19990713,1358,  22.7485, -157.9960,  4721,  541.100,    7.375,   34.054,2,   34.049,2,  129.500,2,  127.300,2,   42.030,2,   27.450,2,    2.000,2, -999.000
           NA,HOT timeseries 1988to2019 27SEP2021,    102,  99,-999.0,      22,-999.0,19990713,1358,  22.7485, -157.9960,  4721,  544.800,    7.241,   34.055,2,   34.056,2,  119.400,2,  118.500,2,   44.200,2,   28.440,2,    2.010,2, -999.000
           NA,HOT timeseries 1988to2019 27SEP2021,    102,  99,-999.0,      32,-999.0,19990713,1358,  22.7485, -157.9960,  4721,  593.100,    6.646,   34.057,2,   34.057,2,  100.500,2,   98.600,2,   53.090,2,   31.450,2,    2.280,2, -999.000
           NA,HOT timeseries 1988to2019 27SEP2021,    102,  99,-999.0,       3,-999.0,19990713,1358,  22.7485, -157.9960,  4721,  631.400,    5.889,   34.089,2,   34.088,2,   67.200,2,   66.400,2,   66.690,2,   35.560,2,    2.580,2, -999.000
           NA,HOT timeseries 1988to2019 27SEP2021,    102,  99,-999.0,      29,-999.0,19990713,1358,  22.7485, -157.9960,  4721,  681.200,    5.207,   34.119,2,   34.115,2,   55.300,2,   54.200,2,   79.610,2,   37.800,2,    2.750,2, -999.000
           NA,HOT timeseries 1988to2019 27SEP2021,    102,  99,-999.0,       7,-999.0,19990713,1358,  22.7485, -157.9960,  4721,  740.800,    4.673,   34.170,2,   34.168,2,   43.600,2,   40.300,2,   91.820,2,   39.880,2,    2.890,2, -999.000
           NA,HOT timeseries 1988to2019 27SEP2021,    102,  99,-999.0,      38,-999.0,19990713,1358,  22.7485, -157.9960,  4721,  822.100,    4.615,   34.304,2,   34.303,2,   26.400,2,   25.300,2,   97.330,2,   41.190,2,    3.010,2, -999.000
           NA,HOT timeseries 1988to2019 27SEP2021,    102,  99,-999.0,      36,-999.0,19990713,1358,  22.7485, -157.9960,  4721,  828.700,    4.594,   34.310,2,   34.309,2,   26.700,2,   25.500,2,   98.030,2,   41.230,2,    3.020,2, -999.000
           NA,HOT timeseries 1988to2019 27SEP2021,    102,  99,-999.0,      35,-999.0,19990713,1358,  22.7485, -157.9960,  4721,  890.000,    4.286,   34.377,2,   34.376,2,   30.800,2, -999.000,5,  104.610,2,   41.470,2,    3.030,2, -999.000
           NA,HOT timeseries 1988to2019 27SEP2021,    102,  99,-999.0,      34,-999.0,19990713,1358,  22.7485, -157.9960,  4721, 1009.100,    3.860,   34.453,2,   34.454,2,   39.500,2, -999.000,5,  114.020,2,   41.470,2,    3.020,2, -999.000
           NA,HOT timeseries 1988to2019 27SEP2021,    102,  99,-999.0,      33,-999.0,19990713,1358,  22.7485, -157.9960,  4721, 1021.000,    3.844,   34.455,2,   34.456,2,   40.100,2,   38.900,2,  114.180,2,   41.460,2,    3.010,2, -999.000
           NA,HOT timeseries 1988to2019 27SEP2021,    102,  99,-999.0,      20,-999.0,19990713,1358,  22.7485, -157.9960,  4721, 1200.700,    3.404,   34.520,2,   34.522,2,   51.400,2,   51.300,2,  122.880,2,   40.950,2,    2.960,2, -999.000
           NA,HOT timeseries 1988to2019 27SEP2021,    102,  99,-999.0,      19,-999.0,19990713,1358,  22.7485, -157.9960,  4721, 1400.700,    2.977,   34.556,2,   34.557,2,   61.800,2,   62.100,2,  131.520,2,   40.640,2, -999.000,3, -999.000
           NA,HOT timeseries 1988to2019 27SEP2021,    102,  99,-999.0,      18,-999.0,19990713,1358,  22.7485, -157.9960,  4721, 1599.400,    2.594,   34.587,2,   34.586,2,   71.500,2,   71.900,2,  139.800,2,   40.280,2,    2.870,2, -999.000
           NA,HOT timeseries 1988to2019 27SEP2021,    102,  99,-999.0,      17,-999.0,19990713,1358,  22.7485, -157.9960,  4721, 1798.200,    2.327,   34.608,2,   34.608,2,   80.000,2,   79.500,2,  146.450,2,   39.830,2,    2.810,2, -999.000
           NA,HOT timeseries 1988to2019 27SEP2021,    102,  99,-999.0,      16,-999.0,19990713,1358,  22.7485, -157.9960,  4721, 1999.500,    2.064,   34.622,2,   34.623,2,   88.100,2,   88.300,2,  152.500,2,   39.500,2,    2.760,2, -999.000
           NA,HOT timeseries 1988to2019 27SEP2021,    102,  99,-999.0,      15,-999.0,19990713,1358,  22.7485, -157.9960,  4721, 2198.500,    1.893,   34.636,2,   34.637,2,   95.700,2,   96.200,2,  156.120,2,   38.840,2,    2.750,2, -999.000
           NA,HOT timeseries 1988to2019 27SEP2021,    102,  99,-999.0,      14,-999.0,19990713,1358,  22.7485, -157.9960,  4721, 2399.400,    1.773,   34.646,2,   34.646,2,  101.200,2,  102.200,2,  159.280,2,   38.550,2,    2.740,2, -999.000
           NA,HOT timeseries 1988to2019 27SEP2021,    102,  99,-999.0,      13,-999.0,19990713,1358,  22.7485, -157.9960,  4721, 2600.500,    1.657,   34.657,2,   34.660,2,  112.200,2,  114.400,2,  157.950,2,   37.810,2,    2.670,2, -999.000
           NA,HOT timeseries 1988to2019 27SEP2021,    102,  99,-999.0,      12,-999.0,19990713,1358,  22.7485, -157.9960,  4721, 2798.400,    1.590,   34.664,2,   34.665,2,  117.600,2,  118.900,2,  158.380,2,   37.620,2,    2.650,2, -999.000
           NA,HOT timeseries 1988to2019 27SEP2021,    102,  99,-999.0,      11,-999.0,19990713,1358,  22.7485, -157.9960,  4721, 3000.300,    1.544,   34.671,2,   34.669,2,  122.700,2,  123.000,2,  158.400,2,   37.320,2,    2.620,2, -999.000
           NA,HOT timeseries 1988to2019 27SEP2021,    102,  99,-999.0,      32,-999.0,19990713,1358,  22.7485, -157.9960,  4721, 3199.300,    1.509,   34.675,2, -999.000,3, -999.000,3,  129.100,2,  156.890,2,   36.740,2,    2.580,2, -999.000
           NA,HOT timeseries 1988to2019 27SEP2021,    102,  99,-999.0,       3,-999.0,19990713,1358,  22.7485, -157.9960,  4721, 3398.900,    1.484,   34.679,2,   34.680,2,  133.900,2,  134.800,2,  156.620,2,   36.540,2,    2.550,2, -999.000
           NA,HOT timeseries 1988to2019 27SEP2021,    102,  99,-999.0,      29,-999.0,19990713,1358,  22.7485, -157.9960,  4721, 3599.900,    1.469,   34.681,2,   34.684,2,  138.500,2,  139.100,2,  154.980,2,   36.210,2,    2.520,2, -999.000
           NA,HOT timeseries 1988to2019 27SEP2021,    102,  99,-999.0,      28,-999.0,19990713,1358,  22.7485, -157.9960,  4721, 3799.400,    1.458,   34.684,2,   34.685,2,  142.800,2,  143.500,2,  152.780,2,   36.080,2,    2.490,2, -999.000
           NA,HOT timeseries 1988to2019 27SEP2021,    102,  99,-999.0,       7,-999.0,19990713,1358,  22.7485, -157.9960,  4721, 3999.500,    1.460,   34.686,2,   34.683,2,  146.500,2,  144.600,2,  150.690,2,   35.960,2,    2.480,2, -999.000
           NA,HOT timeseries 1988to2019 27SEP2021,    102,  99,-999.0,      38,-999.0,19990713,1358,  22.7485, -157.9960,  4721, 4200.400,    1.467,   34.687,2,   34.688,2,  148.700,2,  148.300,2,  149.680,2,   35.860,2,    2.480,2, -999.000
           NA,HOT timeseries 1988to2019 27SEP2021,    102,  99,-999.0,      36,-999.0,19990713,1358,  22.7485, -157.9960,  4721, 4398.700,    1.479,   34.688,2,   34.689,2,  150.300,2,  149.900,2,  149.320,2,   35.740,2,    2.480,2, -999.000
           NA,HOT timeseries 1988to2019 27SEP2021,    102,  99,-999.0,      35,-999.0,19990713,1358,  22.7485, -157.9960,  4721, 4500.100,    1.487,   34.689,2,   34.689,2,  151.000,2,  150.800,2,  148.690,2,   35.370,2,    2.450,2, -999.000
           NA,HOT timeseries 1988to2019 27SEP2021,    102,  99,-999.0,      34,-999.0,19990713,1358,  22.7485, -157.9960,  4721, 4598.300,    1.497,   34.689,2,   34.689,2,  152.100,2,  150.700,2,  148.400,2,   35.460,2,    2.460,2, -999.000
           NA,HOT timeseries 1988to2019 27SEP2021,    102,  99,-999.0,      33,-999.0,19990713,1358,  22.7485, -157.9960,  4721, 4799.500,    1.514,   34.689,2,   34.690,2,  152.400,2,  152.300,2,  147.570,2,   35.370,2,    2.460,2, -999.000