BOTTLE,20214727JOAExport
EXPOCODE,SECT_ID,STNNBR,CASTNO,SAMPNO,BTLNBR,BTLNBR_FLAG_W,DATE,TIME,LATITUDE,LONGITUDE,DEPTH,CTDPRS,CTDTMP,CTDSAL,CTDSAL_FLAG_W,SALNTY,SALNTY_FLAG_W,CTDOXY,CTDOXY_FLAG_W,OXYGEN,OXYGEN_FLAG_W,SILCAT,SILCAT_FLAG_W,NINI,NINI_FLAG_W,PHSPHT,PHSPHT_FLAG_W,REVP
,,,,,,,,,,,,DB,IPTS-68,PSS-78,,PSS-78,,UMOL/KG,,UMOL/KG,,UMOL/KG,,UMOL/KG,,UMOL/KG,,DBAR
           NA,HOT timeseries 1988to2019 27SEP2021,      2,   1,      20,    8020,-999.0,20170123,1713,  22.7502, -157.9998,  4746, 1201.700,    3.467,   34.532,2,   34.531,2,   53.700,2,   53.900,2,  121.250,2,   41.720,2,    2.970,2, -999.000
           NA,HOT timeseries 1988to2019 27SEP2021,      2,   1,      19,    8019,-999.0,20170123,1713,  22.7502, -157.9998,  4746, 1400.600,    3.069,   34.561,2,   34.561,2,   61.400,2,   61.700,2,  129.810,2,   41.450,2,    2.940,2, -999.000
           NA,HOT timeseries 1988to2019 27SEP2021,      2,   1,      18,    8018,-999.0,20170123,1713,  22.7502, -157.9998,  4746, 1601.400,    2.781,   34.577,2,   34.577,2,   69.600,2,   70.000,2,  136.270,2,   40.950,2,    2.900,2, -999.000
           NA,HOT timeseries 1988to2019 27SEP2021,      2,   1,      17,    8017,-999.0,20170123,1713,  22.7502, -157.9998,  4746, 1800.600,    2.440,   34.600,2,   34.599,2,   78.300,2,   78.500,2,  143.780,2,   40.500,2,    2.860,2, -999.000
           NA,HOT timeseries 1988to2019 27SEP2021,      2,   1,      16,    8016,-999.0,20170123,1713,  22.7502, -157.9998,  4746, 2003.200,    2.178,   34.617,2,   34.617,2,   86.800,2,   88.100,2,  149.070,2,   39.920,2,    2.810,2, -999.000
           NA,HOT timeseries 1988to2019 27SEP2021,      2,   1,      15,    8015,-999.0,20170123,1713,  22.7502, -157.9998,  4746, 2199.800,    1.994,   34.629,2,   34.630,2,   95.100,2,   95.600,2,  152.990,2,   39.530,2,    2.770,2, -999.000
           NA,HOT timeseries 1988to2019 27SEP2021,      2,   1,      14,    8014,-999.0,20170123,1713,  22.7502, -157.9998,  4746, 2401.200,    1.838,   34.640,2,   34.641,2,   99.200,2,  100.100,2,  157.590,2,   39.310,2,    2.740,2, -999.000
           NA,HOT timeseries 1988to2019 27SEP2021,      2,   1,      13,    8025,-999.0,20170123,1713,  22.7502, -157.9998,  4746, 2601.500,    1.733,   34.649,2,   34.650,2,  105.600,2,  106.100,2,  159.750,2,   38.890,2,    2.710,2, -999.000
           NA,HOT timeseries 1988to2019 27SEP2021,      2,   1,      12,    8012,-999.0,20170123,1713,  22.7502, -157.9998,  4746, 2800.500,    1.639,   34.659,2,   34.659,2,  113.300,2,  114.300,2,  160.800,2,   38.360,2,    2.650,2, -999.000
           NA,HOT timeseries 1988to2019 27SEP2021,      2,   1,      11,    8011,-999.0,20170123,1713,  22.7502, -157.9998,  4746, 3002.800,    1.567,   34.667,2,   34.667,2,  121.700,2,  122.800,2,  159.620,2,   37.830,2,    2.620,2, -999.000
           NA,HOT timeseries 1988to2019 27SEP2021,      2,   1,      10,    8010,-999.0,20170123,1713,  22.7502, -157.9998,  4746, 3202.600,    1.530,   34.674,2,   34.673,2,  127.900,2,  128.400,2,  159.070,2,   37.440,2,    2.590,2, -999.000
           NA,HOT timeseries 1988to2019 27SEP2021,      2,   1,       9,    8009,-999.0,20170123,1713,  22.7502, -157.9998,  4746, 3402.500,    1.508,   34.678,2,   34.677,2,  132.800,2,  133.200,2,  159.150,2,   37.210,2,    2.570,2, -999.000
           NA,HOT timeseries 1988to2019 27SEP2021,      2,   1,       8,    8008,-999.0,20170123,1713,  22.7502, -157.9998,  4746, 3602.600,    1.492,   34.680,2,   34.680,2,  137.200,2,  137.200,2,  157.510,2,   36.920,2,    2.540,2, -999.000
           NA,HOT timeseries 1988to2019 27SEP2021,      2,   1,       7,    8060,-999.0,20170123,1713,  22.7502, -157.9998,  4746, 3803.100,    1.475,   34.683,2,   34.684,2,  142.300,2,  142.200,2,  155.040,2,   36.600,2,    2.520,2, -999.000
           NA,HOT timeseries 1988to2019 27SEP2021,      2,   1,       6,    8006,-999.0,20170123,1713,  22.7502, -157.9998,  4746, 4000.800,    1.470,   34.686,2,   34.685,2,  146.600,2,  146.200,2,  153.310,2,   36.320,2,    2.500,2, -999.000
           NA,HOT timeseries 1988to2019 27SEP2021,      2,   1,       5,    8005,-999.0,20170123,1713,  22.7502, -157.9998,  4746, 4202.400,    1.470,   34.687,2,   34.687,2,  150.100,2,  149.300,2,  151.230,2,   36.080,2,    2.470,2, -999.000
           NA,HOT timeseries 1988to2019 27SEP2021,      2,   1,       4,    8059,-999.0,20170123,1713,  22.7502, -157.9998,  4746, 4402.600,    1.478,   34.689,2,   34.690,2,  152.600,2,  151.900,2,  150.270,2,   35.990,2,    2.460,2, -999.000
           NA,HOT timeseries 1988to2019 27SEP2021,      2,   1,       3,    8003,-999.0,20170123,1713,  22.7502, -157.9998,  4746, 4501.400,    1.485,   34.689,2,   34.690,2,  153.300,2,  152.700,2,  149.910,2,   35.980,2,    2.460,2, -999.000
           NA,HOT timeseries 1988to2019 27SEP2021,      2,   1,       2,    8002,-999.0,20170123,1713,  22.7502, -157.9998,  4746, 4600.200,    1.493,   34.690,2,   34.689,2,  154.100,2,  153.400,2,  149.970,2,   35.820,2,    2.460,2, -999.000
           NA,HOT timeseries 1988to2019 27SEP2021,      2,   1,       1,    8001,-999.0,20170123,1713,  22.7502, -157.9998,  4746, 4801.800,    1.513,   34.690,2,   34.691,2,  154.200,2,  154.500,2,  148.690,2,   35.670,2,    2.440,2, -999.000