BOTTLE,20214727JOAExport
EXPOCODE,SECT_ID,STNNBR,CASTNO,SAMPNO,BTLNBR,BTLNBR_FLAG_W,DATE,TIME,LATITUDE,LONGITUDE,DEPTH,CTDPRS,CTDTMP,CTDSAL,CTDSAL_FLAG_W,SALNTY,SALNTY_FLAG_W,CTDOXY,CTDOXY_FLAG_W,OXYGEN,OXYGEN_FLAG_W,SILCAT,SILCAT_FLAG_W,NINI,NINI_FLAG_W,PHSPHT,PHSPHT_FLAG_W,REVP
,,,,,,,,,,,,DB,IPTS-68,PSS-78,,PSS-78,,UMOL/KG,,UMOL/KG,,UMOL/KG,,UMOL/KG,,UMOL/KG,,DBAR
           NA,HOT timeseries 1988to2019 27SEP2021,    128,  99,-999.0,      31,-999.0,20011116,1757,  22.7508, -157.9982,  4724,    3.700,   25.114,   35.251,2,   35.250,2,  206.200,2,  207.200,2, -999.000,9, -999.000,9, -999.000,9, -999.000
           NA,HOT timeseries 1988to2019 27SEP2021,    128,  99,-999.0,      30,-999.0,20011116,1757,  22.7508, -157.9982,  4724,    8.900,   25.109,   35.250,2,   35.249,2,  206.200,2,  206.600,2, -999.000,9, -999.000,9, -999.000,9, -999.000
           NA,HOT timeseries 1988to2019 27SEP2021,    128,  99,-999.0,      22,-999.0,20011116,1757,  22.7508, -157.9982,  4724,   33.900,   25.078,   35.248,2,   35.252,2,  205.900,2,  206.200,2, -999.000,9, -999.000,9, -999.000,9, -999.000
           NA,HOT timeseries 1988to2019 27SEP2021,    128,  99,-999.0,      21,-999.0,20011116,1757,  22.7508, -157.9982,  4724,   59.600,   25.065,   35.248,2,   35.248,2,  206.400,2,  206.800,2, -999.000,9, -999.000,9, -999.000,9, -999.000
           NA,HOT timeseries 1988to2019 27SEP2021,    128,  99,-999.0,      20,-999.0,20011116,1757,  22.7508, -157.9982,  4724,   95.900,   24.095,   35.293,2,   35.293,2,  210.200,2,  210.400,2, -999.000,9, -999.000,9, -999.000,9, -999.000
           NA,HOT timeseries 1988to2019 27SEP2021,    128,  99,-999.0,      18,-999.0,20011116,1757,  22.7508, -157.9982,  4724,  108.700,   23.188,   35.314,2,   35.314,2,  206.900,2,  207.800,2, -999.000,9, -999.000,9, -999.000,9, -999.000
           NA,HOT timeseries 1988to2019 27SEP2021,    128,  99,-999.0,      17,-999.0,20011116,1757,  22.7508, -157.9982,  4724,  123.300,   22.407,   35.312,2,   35.312,2,  200.500,2,  202.600,2, -999.000,9, -999.000,9, -999.000,9, -999.000
           NA,HOT timeseries 1988to2019 27SEP2021,    128,  99,-999.0,      16,-999.0,20011116,1757,  22.7508, -157.9982,  4724,  184.500,   19.512,   35.084,2,   35.086,2,  193.900,2,  193.600,2, -999.000,9, -999.000,9, -999.000,9, -999.000
           NA,HOT timeseries 1988to2019 27SEP2021,    128,  99,-999.0,      23,-999.0,20011116,1757,  22.7508, -157.9982,  4724,  244.500,   15.024,   34.524,2,   34.529,2,  196.100,2,  194.200,2, -999.000,9, -999.000,9, -999.000,9, -999.000
           NA,HOT timeseries 1988to2019 27SEP2021,    128,  99,-999.0,      14,-999.0,20011116,1757,  22.7508, -157.9982,  4724,  319.600,   11.969,   34.260,2,   34.261,2,  191.700,2,  190.000,2, -999.000,9, -999.000,9, -999.000,9, -999.000
           NA,HOT timeseries 1988to2019 27SEP2021,    128,  99,-999.0,      13,-999.0,20011116,1757,  22.7508, -157.9982,  4724,  359.500,   10.761,   34.192,2,   34.195,2,  190.100,2,  185.900,2, -999.000,9, -999.000,9, -999.000,9, -999.000
           NA,HOT timeseries 1988to2019 27SEP2021,    128,  99,-999.0,      11,-999.0,20011116,1757,  22.7508, -157.9982,  4724,  450.700,    7.917,   34.050,2,   34.052,2,  156.100,2,  152.400,2, -999.000,9, -999.000,9, -999.000,9, -999.000
           NA,HOT timeseries 1988to2019 27SEP2021,    128,  99,-999.0,      32,-999.0,20011116,1757,  22.7508, -157.9982,  4724,  491.800,    7.158,   34.045,2,   34.046,2,  123.000,2,  123.700,2, -999.000,9, -999.000,9, -999.000,9, -999.000
           NA,HOT timeseries 1988to2019 27SEP2021,    128,  99,-999.0,       3,-999.0,20011116,1757,  22.7508, -157.9982,  4724,  517.900,    6.551,   34.041,2,   34.042,2,   99.400,2,  101.500,2, -999.000,9, -999.000,9, -999.000,9, -999.000
           NA,HOT timeseries 1988to2019 27SEP2021,    128,  99,-999.0,      29,-999.0,20011116,1757,  22.7508, -157.9982,  4724,  560.100,    5.876,   34.098,2, -999.000,3, -999.000,3,   68.900,2, -999.000,9, -999.000,9, -999.000,9, -999.000
           NA,HOT timeseries 1988to2019 27SEP2021,    128,  99,-999.0,      28,-999.0,20011116,1757,  22.7508, -157.9982,  4724,  621.300,    5.484,   34.149,2,   34.149,2,   49.300,2,   47.600,2, -999.000,9, -999.000,9, -999.000,9, -999.000
           NA,HOT timeseries 1988to2019 27SEP2021,    128,  99,-999.0,       7,-999.0,20011116,1757,  22.7508, -157.9982,  4724,  691.300,    5.235,   34.254,2,   34.255,2,   31.600,2,   31.600,2, -999.000,9, -999.000,9, -999.000,9, -999.000
           NA,HOT timeseries 1988to2019 27SEP2021,    128,  99,-999.0,      36,-999.0,20011116,1757,  22.7508, -157.9982,  4724,  763.900,    4.631,   34.304,2,   34.300,2,   23.300,2,   22.200,2, -999.000,9, -999.000,9, -999.000,9, -999.000
           NA,HOT timeseries 1988to2019 27SEP2021,    128,  99,-999.0,      35,-999.0,20011116,1757,  22.7508, -157.9982,  4724,  855.700,    4.329,   34.388,2,   34.387,2,   29.100,2,   29.200,2, -999.000,9, -999.000,9, -999.000,9, -999.000
           NA,HOT timeseries 1988to2019 27SEP2021,    128,  99,-999.0,      34,-999.0,20011116,1757,  22.7508, -157.9982,  4724,  982.300,    3.980,   34.469,2,   34.468,2,   40.100,2,   39.900,2, -999.000,9, -999.000,9, -999.000,9, -999.000
           NA,HOT timeseries 1988to2019 27SEP2021,    128,  99,-999.0,      33,-999.0,20011116,1757,  22.7508, -157.9982,  4724, 1018.600,    3.888,   34.484,2,   34.480,2,   41.700,2,   42.100,2, -999.000,9, -999.000,9, -999.000,9, -999.000
           NA,HOT timeseries 1988to2019 27SEP2021,    128,  99,-999.0,      20,-999.0,20011116,1757,  22.7508, -157.9982,  4724, 1199.900,    3.386,   34.524,2,   34.524,2,   53.200,2,   53.500,2, -999.000,9, -999.000,9, -999.000,9, -999.000
           NA,HOT timeseries 1988to2019 27SEP2021,    128,  99,-999.0,      19,-999.0,20011116,1757,  22.7508, -157.9982,  4724, 1399.400,    2.925,   34.564,2,   34.564,2,   64.800,2,   64.600,2, -999.000,9, -999.000,9, -999.000,9, -999.000
           NA,HOT timeseries 1988to2019 27SEP2021,    128,  99,-999.0,      18,-999.0,20011116,1757,  22.7508, -157.9982,  4724, 1600.100,    2.626,   34.587,2,   34.586,2,   71.800,2,   71.800,2, -999.000,9, -999.000,9, -999.000,9, -999.000
           NA,HOT timeseries 1988to2019 27SEP2021,    128,  99,-999.0,      17,-999.0,20011116,1757,  22.7508, -157.9982,  4724, 1799.200,    2.345,   34.605,2,   34.605,2,   80.000,2,   81.200,2, -999.000,9, -999.000,9, -999.000,9, -999.000
           NA,HOT timeseries 1988to2019 27SEP2021,    128,  99,-999.0,      16,-999.0,20011116,1757,  22.7508, -157.9982,  4724, 2002.900,    2.091,   34.623,2,   34.624,2,   89.800,2,   91.100,2, -999.000,9, -999.000,9, -999.000,9, -999.000
           NA,HOT timeseries 1988to2019 27SEP2021,    128,  99,-999.0,      23,-999.0,20011116,1757,  22.7508, -157.9982,  4724, 2198.900,    1.924,   34.636,2,   34.636,2,   96.100,2,   96.600,2, -999.000,9, -999.000,9, -999.000,9, -999.000
           NA,HOT timeseries 1988to2019 27SEP2021,    128,  99,-999.0,      14,-999.0,20011116,1757,  22.7508, -157.9982,  4724, 2399.800,    1.799,   34.646,2,   34.646,2,  102.700,2,  103.600,2, -999.000,9, -999.000,9, -999.000,9, -999.000
           NA,HOT timeseries 1988to2019 27SEP2021,    128,  99,-999.0,      13,-999.0,20011116,1757,  22.7508, -157.9982,  4724, 2599.900,    1.691,   34.656,2,   34.657,2,  110.600,2,  111.600,2, -999.000,9, -999.000,9, -999.000,9, -999.000
           NA,HOT timeseries 1988to2019 27SEP2021,    128,  99,-999.0,      12,-999.0,20011116,1757,  22.7508, -157.9982,  4724, 2797.900,    1.624,   34.664,2,   34.664,2,  117.900,2,  117.900,2, -999.000,9, -999.000,9, -999.000,9, -999.000
           NA,HOT timeseries 1988to2019 27SEP2021,    128,  99,-999.0,      11,-999.0,20011116,1757,  22.7508, -157.9982,  4724, 2999.100,    1.566,   34.670,2,   34.670,2,  124.000,2,  124.300,2, -999.000,9, -999.000,9, -999.000,9, -999.000
           NA,HOT timeseries 1988to2019 27SEP2021,    128,  99,-999.0,      32,-999.0,20011116,1757,  22.7508, -157.9982,  4724, 3196.000,    1.522,   34.675,2, -999.000,4, -999.000,3,  128.400,2, -999.000,9, -999.000,9, -999.000,9, -999.000
           NA,HOT timeseries 1988to2019 27SEP2021,    128,  99,-999.0,       3,-999.0,20011116,1757,  22.7508, -157.9982,  4724, 3398.600,    1.495,   34.679,2,   34.679,2,  134.000,2,  134.200,2, -999.000,9, -999.000,9, -999.000,9, -999.000
           NA,HOT timeseries 1988to2019 27SEP2021,    128,  99,-999.0,      29,-999.0,20011116,1757,  22.7508, -157.9982,  4724, 3598.600,    1.467,   34.683,2,   34.683,2,  140.600,2,  140.700,2, -999.000,9, -999.000,9, -999.000,9, -999.000
           NA,HOT timeseries 1988to2019 27SEP2021,    128,  99,-999.0,      28,-999.0,20011116,1757,  22.7508, -157.9982,  4724, 3799.100,    1.458,   34.686,2,   34.686,2,  144.000,2,  143.900,2, -999.000,9, -999.000,9, -999.000,9, -999.000
           NA,HOT timeseries 1988to2019 27SEP2021,    128,  99,-999.0,       7,-999.0,20011116,1757,  22.7508, -157.9982,  4724, 3999.300,    1.459,   34.687,2,   34.688,2,  147.300,2,  147.300,2, -999.000,9, -999.000,9, -999.000,9, -999.000
           NA,HOT timeseries 1988to2019 27SEP2021,    128,  99,-999.0,      38,-999.0,20011116,1757,  22.7508, -157.9982,  4724, 4200.100,    1.462,   34.689,2,   34.689,2,  150.300,2,  150.700,2, -999.000,9, -999.000,9, -999.000,9, -999.000
           NA,HOT timeseries 1988to2019 27SEP2021,    128,  99,-999.0,      36,-999.0,20011116,1757,  22.7508, -157.9982,  4724, 4395.500,    1.474,   34.689,2,   34.690,2,  152.300,2,  151.800,2, -999.000,9, -999.000,9, -999.000,9, -999.000
           NA,HOT timeseries 1988to2019 27SEP2021,    128,  99,-999.0,      35,-999.0,20011116,1757,  22.7508, -157.9982,  4724, 4498.100,    1.482,   34.690,2,   34.689,2,  152.900,2,  152.400,2, -999.000,9, -999.000,9, -999.000,9, -999.000
           NA,HOT timeseries 1988to2019 27SEP2021,    128,  99,-999.0,      34,-999.0,20011116,1757,  22.7508, -157.9982,  4724, 4599.900,    1.490,   34.690,2,   34.691,2,  153.600,2,  153.000,2, -999.000,9, -999.000,9, -999.000,9, -999.000
           NA,HOT timeseries 1988to2019 27SEP2021,    128,  99,-999.0,      33,-999.0,20011116,1757,  22.7508, -157.9982,  4724, 4806.800,    1.506,   34.691,2,   34.694,2,  154.700,2,  154.700,2, -999.000,9, -999.000,9, -999.000,9, -999.000