BOTTLE,20214727JOAExport
EXPOCODE,SECT_ID,STNNBR,CASTNO,SAMPNO,BTLNBR,BTLNBR_FLAG_W,DATE,TIME,LATITUDE,LONGITUDE,DEPTH,CTDPRS,CTDTMP,CTDSAL,CTDSAL_FLAG_W,SALNTY,SALNTY_FLAG_W,CTDOXY,CTDOXY_FLAG_W,OXYGEN,OXYGEN_FLAG_W,SILCAT,SILCAT_FLAG_W,NINI,NINI_FLAG_W,PHSPHT,PHSPHT_FLAG_W,REVP
,,,,,,,,,,,,DB,IPTS-68,PSS-78,,PSS-78,,UMOL/KG,,UMOL/KG,,UMOL/KG,,UMOL/KG,,UMOL/KG,,DBAR
           NA,HOT timeseries 1988to2019 27SEP2021,     23,  99,-999.0,      22,-999.0,19910508,0005,  22.7517, -157.9867,  4749,   37.500,   22.737,   35.304,2,   35.300,2,  245.200,2,  220.500,2,    1.100,2,    0.000,2,    0.060,2, -999.000
           NA,HOT timeseries 1988to2019 27SEP2021,     23,  99,-999.0,      21,-999.0,19910508,0005,  22.7517, -157.9867,  4749,   49.200,   22.183,   35.304,2,   35.311,2,  238.700,2,  222.500,2,    1.100,2,    0.000,2,    0.060,2, -999.000
           NA,HOT timeseries 1988to2019 27SEP2021,     23,  99,-999.0,      20,-999.0,19910508,0005,  22.7517, -157.9867,  4749,   61.300,   21.930,   35.296,2,   35.299,2,  233.500,2,  223.300,2,    1.100,2,    0.000,2,    0.040,2, -999.000
           NA,HOT timeseries 1988to2019 27SEP2021,     23,  99,-999.0,      19,-999.0,19910508,0005,  22.7517, -157.9867,  4749,   99.900,   20.705,   35.281,2,   35.283,2,  227.100,2,  224.700,2,    1.470,2,    0.000,2,    0.060,2, -999.000
           NA,HOT timeseries 1988to2019 27SEP2021,     23,  99,-999.0,      16,-999.0,19910508,0005,  22.7517, -157.9867,  4749,  114.100,   20.374,   35.280,2,   35.283,2,  226.700,2,  222.800,2, -999.000,5, -999.000,5, -999.000,5, -999.000
           NA,HOT timeseries 1988to2019 27SEP2021,     23,  99,-999.0,      18,-999.0,19910508,0005,  22.7517, -157.9867,  4749,  148.000,   19.722,   35.229,2,   35.231,2,  217.700,2,  221.600,2,    1.570,2,    0.140,2,    0.080,2, -999.000
           NA,HOT timeseries 1988to2019 27SEP2021,     23,  99,-999.0,      17,-999.0,19910508,0005,  22.7517, -157.9867,  4749,  207.600,   17.217,   34.880,2,   34.871,2,  193.700,2,  200.300,2,    3.520,2,    3.550,2,    0.300,2, -999.000
           NA,HOT timeseries 1988to2019 27SEP2021,     23,  99,-999.0,      15,-999.0,19910508,0005,  22.7517, -157.9867,  4749,  215.400,   16.602,   34.803,2,   34.795,2,  201.100,2,  202.300,2,    4.250,2,    3.970,2,    0.320,2, -999.000
           NA,HOT timeseries 1988to2019 27SEP2021,     23,  99,-999.0,      16,-999.0,19910508,0005,  22.7517, -157.9867,  4749,  230.600,   15.918,   34.708,2,   34.695,2,  197.400,2,  203.400,2,    4.810,2,    4.810,2,    0.400,2, -999.000
           NA,HOT timeseries 1988to2019 27SEP2021,     23,  99,-999.0,      13,-999.0,19910508,0005,  22.7517, -157.9867,  4749,  241.500,   15.326,   34.631,2,   34.629,2,  203.700,2,  202.300,2,    5.550,2,    5.620,2,    0.450,2, -999.000
           NA,HOT timeseries 1988to2019 27SEP2021,     23,  99,-999.0,      12,-999.0,19910508,0005,  22.7517, -157.9867,  4749,  255.900,   14.538,   34.535,2,   34.535,2,  201.000,2,  205.400,2,    6.480,2,    6.490,2,    0.500,2, -999.000
           NA,HOT timeseries 1988to2019 27SEP2021,     23,  99,-999.0,      11,-999.0,19910508,0005,  22.7517, -157.9867,  4749,  281.600,   13.548,   34.420,2,   34.420,2,  205.300,2,  205.300,2,    7.940,2,    8.250,2,    0.630,2, -999.000
           NA,HOT timeseries 1988to2019 27SEP2021,     23,  99,-999.0,      10,-999.0,19910508,0005,  22.7517, -157.9867,  4749,  306.800,   11.975,   34.288,2,   34.290,2,  209.900,2,  209.300,2,   11.650,2,   11.460,2,    0.810,2, -999.000
           NA,HOT timeseries 1988to2019 27SEP2021,     23,  99,-999.0,      15,-999.0,19910508,0005,  22.7517, -157.9867,  4749,  328.400,   11.362,   34.231,2,   34.229,2,  203.100,2,  208.500,2,   12.390,2,   12.310,2,    0.890,2, -999.000
           NA,HOT timeseries 1988to2019 27SEP2021,     23,  99,-999.0,       9,-999.0,19910508,0005,  22.7517, -157.9867,  4749,  331.200,   11.279,   34.225,2,   34.228,2,  211.800,2,  208.100,2,   13.120,2,   12.450,2,    0.910,2, -999.000
           NA,HOT timeseries 1988to2019 27SEP2021,     23,  99,-999.0,       8,-999.0,19910508,0005,  22.7517, -157.9867,  4749,  361.500,   10.455,   34.181,2,   34.178,2,  208.100,2,  203.200,2,   17.190,2,   14.670,2,    1.050,2, -999.000
           NA,HOT timeseries 1988to2019 27SEP2021,     23,  99,-999.0,      13,-999.0,19910508,0005,  22.7517, -157.9867,  4749,  410.500,    9.423,   34.120,2,   34.121,2,  191.300,2,  191.100,2,   21.810,2,   18.370,2,    1.310,2, -999.000
           NA,HOT timeseries 1988to2019 27SEP2021,     23,  99,-999.0,       7,-999.0,19910508,0005,  22.7517, -157.9867,  4749,  410.600,    8.974,   34.099,2,   34.099,2,  188.800,2,  183.500,2,   25.520,2,   19.850,2,    1.400,2, -999.000
           NA,HOT timeseries 1988to2019 27SEP2021,     23,  99,-999.0,      12,-999.0,19910508,0005,  22.7517, -157.9867,  4749,  431.400,    8.760,   34.089,2,   34.091,2,  177.200,2,  178.500,2,   26.990,2,   20.840,2,    1.480,2, -999.000
           NA,HOT timeseries 1988to2019 27SEP2021,     23,  99,-999.0,       6,-999.0,19910508,0005,  22.7517, -157.9867,  4749,  511.000,    7.060,   34.044,2,   34.044,2,  130.000,2,  121.000,2,   46.770,2,   29.100,2,    2.080,2, -999.000
           NA,HOT timeseries 1988to2019 27SEP2021,     23,  99,-999.0,      11,-999.0,19910508,0005,  22.7517, -157.9867,  4749,  518.300,    7.071,   34.049,2,   34.051,2,  127.300,2,  117.700,2,   46.600,2,   29.600,2,    2.120,2, -999.000
           NA,HOT timeseries 1988to2019 27SEP2021,     23,  99,-999.0,      10,-999.0,19910508,0005,  22.7517, -157.9867,  4749,  543.500,    6.609,   34.047,2,   34.048,2,  102.500,2,  103.300,2,   52.870,2,   31.810,2,    2.310,2, -999.000
           NA,HOT timeseries 1988to2019 27SEP2021,     23,  99,-999.0,       9,-999.0,19910508,0005,  22.7517, -157.9867,  4749,  597.000,    5.880,   34.089,2,   34.088,2,   74.100,2,   68.300,2,   66.740,2,   36.070,2,    2.640,2, -999.000
           NA,HOT timeseries 1988to2019 27SEP2021,     23,  99,-999.0,       8,-999.0,19910508,0005,  22.7517, -157.9867,  4749,  633.100,    5.775,   34.166,2,   34.165,2,   45.800,2,   50.400,2,   72.650,2,   37.730,2,    2.780,2, -999.000
           NA,HOT timeseries 1988to2019 27SEP2021,     23,  99,-999.0,       7,-999.0,19910508,0005,  22.7517, -157.9867,  4749,  694.000,    5.238,   34.221,2,   34.223,2,   37.800,2,   36.700,2,   83.370,2,   39.700,2,    2.910,2, -999.000
           NA,HOT timeseries 1988to2019 27SEP2021,     23,  99,-999.0,      25,-999.0,19910508,0005,  22.7517, -157.9867,  4749,  711.300,    4.940,   34.262,2, -999.000,4, -999.000,3, -999.000,3, -999.000,3, -999.000,3, -999.000,3, -999.000
           NA,HOT timeseries 1988to2019 27SEP2021,     23,  99,-999.0,       6,-999.0,19910508,0005,  22.7517, -157.9867,  4749,  741.400,    4.875,   34.275,2,   34.273,2,   30.000,2,   24.600,2,   91.140,2,   40.930,2,    3.000,2, -999.000
           NA,HOT timeseries 1988to2019 27SEP2021,     23,  99,-999.0,      26,-999.0,19910508,0005,  22.7517, -157.9867,  4749,  771.700,    4.748,   34.311,2,   34.313,2,   30.400,2,   30.500,2,   94.460,2,   41.300,2,    3.030,2, -999.000
           NA,HOT timeseries 1988to2019 27SEP2021,     23,  99,-999.0,      25,-999.0,19910508,0005,  22.7517, -157.9867,  4749,  812.200,    4.599,   34.361,2,   34.359,2,   26.600,2,   28.900,2,   98.530,2,   41.920,2,    3.040,2, -999.000
           NA,HOT timeseries 1988to2019 27SEP2021,     23,  99,-999.0,       3,-999.0,19910508,0005,  22.7517, -157.9867,  4749,  812.800,    4.566,   34.380,2,   34.378,2,   28.700,2,   30.800,2,   99.260,2,   41.920,2,    3.030,2, -999.000
           NA,HOT timeseries 1988to2019 27SEP2021,     23,  99,-999.0,       3,-999.0,19910508,0005,  22.7517, -157.9867,  4749,  830.100,    4.538,   34.387,2,   34.388,2,   33.500,2,   32.500,2,  100.000,2,   41.790,2,    3.030,2, -999.000
           NA,HOT timeseries 1988to2019 27SEP2021,     23,  99,-999.0,       2,-999.0,19910508,0005,  22.7517, -157.9867,  4749,  892.400,    4.344,   34.446,2,   34.447,2,   36.200,2,   36.200,2,  103.130,2,   41.910,2,    3.040,2, -999.000
           NA,HOT timeseries 1988to2019 27SEP2021,     23,  99,-999.0,       2,-999.0,19910508,0005,  22.7517, -157.9867,  4749,  910.200,    4.313,   34.453,2,   34.452,2,   37.100,2,   36.800,2, -999.000,4,   42.040,2,    3.040,2, -999.000
           NA,HOT timeseries 1988to2019 27SEP2021,     23,  99,-999.0,       1,-999.0,19910508,0005,  22.7517, -157.9867,  4749,  992.100,    4.010,   34.479,2,   34.479,2,   43.100,2,   42.700,2,  110.340,2,   41.950,2,    3.040,2, -999.000
           NA,HOT timeseries 1988to2019 27SEP2021,     23,  99,-999.0,      23,-999.0,19910508,0005,  22.7517, -157.9867,  4749, 1007.900,    3.979,   34.486,2,   34.486,2,   44.200,2,   44.000,2, -999.000,3, -999.000,3, -999.000,3, -999.000
           NA,HOT timeseries 1988to2019 27SEP2021,     23,  99,-999.0,       1,-999.0,19910508,0005,  22.7517, -157.9867,  4749, 1029.300,    3.961,   34.490,2,   34.492,2,   44.000,2,   43.400,2,  111.080,2,   42.170,2,    3.040,2, -999.000
           NA,HOT timeseries 1988to2019 27SEP2021,     23,  99,-999.0,      22,-999.0,19910508,0005,  22.7517, -157.9867,  4749, 1101.300,    3.691,   34.513,2,   34.513,2,   50.700,2,   48.400,2, -999.000,3, -999.000,3, -999.000,3, -999.000
           NA,HOT timeseries 1988to2019 27SEP2021,     23,  99,-999.0,      21,-999.0,19910508,0005,  22.7517, -157.9867,  4749, 1208.700,    3.414,   34.532,2,   34.532,2,   55.600,2,   54.200,2,  122.540,2,   41.540,2,    3.000,2, -999.000
           NA,HOT timeseries 1988to2019 27SEP2021,     23,  99,-999.0,      20,-999.0,19910508,0005,  22.7517, -157.9867,  4749, 1402.800,    3.034,   34.558,2,   34.560,2,   63.000,2,   60.900,2,  129.920,2,   41.410,2,    2.970,2, -999.000
           NA,HOT timeseries 1988to2019 27SEP2021,     23,  99,-999.0,      19,-999.0,19910508,0005,  22.7517, -157.9867,  4749, 1501.800,    2.859,   34.572,2,   34.572,2,   69.000,2,   65.700,2,  133.630,2,   41.300,2,    2.960,2, -999.000
           NA,HOT timeseries 1988to2019 27SEP2021,     23,  99,-999.0,      18,-999.0,19910508,0005,  22.7517, -157.9867,  4749, 1706.200,    2.519,   34.595,2,   34.596,2,   79.000,2,   75.900,2,  141.010,2,   40.800,2,    2.900,2, -999.000
           NA,HOT timeseries 1988to2019 27SEP2021,     23,  99,-999.0,      17,-999.0,19910508,0005,  22.7517, -157.9867,  4749, 1804.200,    2.349,   34.602,2,   34.603,2,   81.900,2,   80.000,2,  146.190,2,   40.550,2,    2.890,2, -999.000
           NA,HOT timeseries 1988to2019 27SEP2021,     23,  99,-999.0,      16,-999.0,19910508,0005,  22.7517, -157.9867,  4749, 2004.200,    2.124,   34.615,2,   34.617,2,   86.800,2,   85.400,2,  152.850,2,   40.380,2,    2.880,2, -999.000
           NA,HOT timeseries 1988to2019 27SEP2021,     23,  99,-999.0,      15,-999.0,19910508,0005,  22.7517, -157.9867,  4749, 2203.300,    1.902,   34.630,2,   34.629,2,   90.600,2,   92.600,2,  158.570,2,   39.940,2,    2.830,2, -999.000
           NA,HOT timeseries 1988to2019 27SEP2021,     23,  99,-999.0,      14,-999.0,19910508,0005,  22.7517, -157.9867,  4749, 2401.700,    1.770,   34.642,2,   34.641,2,   97.800,2,  100.500,2,  160.410,2,   39.560,2,    2.790,2, -999.000
           NA,HOT timeseries 1988to2019 27SEP2021,     23,  99,-999.0,      13,-999.0,19910508,0005,  22.7517, -157.9867,  4749, 2602.800,    1.648,   34.654,2,   34.656,2,  108.500,2,  110.600,2,  160.970,2,   38.700,2,    2.750,2, -999.000
           NA,HOT timeseries 1988to2019 27SEP2021,     23,  99,-999.0,      12,-999.0,19910508,0005,  22.7517, -157.9867,  4749, 2806.400,    1.574,   34.663,2,   34.663,2,  115.400,2,  119.700,2,  160.410,2,   38.090,2,    2.700,2, -999.000
           NA,HOT timeseries 1988to2019 27SEP2021,     23,  99,-999.0,      11,-999.0,19910508,0005,  22.7517, -157.9867,  4749, 3006.000,    1.537,   34.669,2,   34.670,2,  120.900,2,  125.600,2,  159.310,2,   37.840,2,    2.660,2, -999.000
           NA,HOT timeseries 1988to2019 27SEP2021,     23,  99,-999.0,      10,-999.0,19910508,0005,  22.7517, -157.9867,  4749, 3202.500,    1.494,   34.675,2,   34.676,2,  128.100,2,  133.200,2,  157.260,2,   37.350,2,    2.620,2, -999.000
           NA,HOT timeseries 1988to2019 27SEP2021,     23,  99,-999.0,       9,-999.0,19910508,0005,  22.7517, -157.9867,  4749, 3403.200,    1.469,   34.679,2,   34.680,2,  135.100,2,  138.300,2,  155.420,2,   37.100,2,    2.600,2, -999.000
           NA,HOT timeseries 1988to2019 27SEP2021,     23,  99,-999.0,       8,-999.0,19910508,0005,  22.7517, -157.9867,  4749, 3602.500,    1.457,   34.682,2,   34.681,2,  140.300,2,  142.500,2,  154.860,2,   36.730,2,    2.570,2, -999.000
           NA,HOT timeseries 1988to2019 27SEP2021,     23,  99,-999.0,       7,-999.0,19910508,0005,  22.7517, -157.9867,  4749, 3803.900,    1.452,   34.684,2,   34.683,2,  143.800,2,  145.500,2,  152.100,2,   36.600,2,    2.580,2, -999.000
           NA,HOT timeseries 1988to2019 27SEP2021,     23,  99,-999.0,       6,-999.0,19910508,0005,  22.7517, -157.9867,  4749, 4000.600,    1.455,   34.686,2,   34.687,2,  140.200,2,  148.300,2,  150.800,2,   36.360,2,    2.540,2, -999.000
           NA,HOT timeseries 1988to2019 27SEP2021,     23,  99,-999.0,      26,-999.0,19910508,0005,  22.7517, -157.9867,  4749, 4200.700,    1.464,   34.687,2,   34.686,2,  142.300,2,  150.300,2,  149.320,2,   36.240,2,    2.510,2, -999.000
           NA,HOT timeseries 1988to2019 27SEP2021,     23,  99,-999.0,      25,-999.0,19910508,0005,  22.7517, -157.9867,  4749, 4402.600,    1.478,   34.688,2,   34.686,2,  142.800,2,  152.000,2,  148.950,2,   36.110,2,    2.500,2, -999.000
           NA,HOT timeseries 1988to2019 27SEP2021,     23,  99,-999.0,       3,-999.0,19910508,0005,  22.7517, -157.9867,  4749, 4500.200,    1.486,   34.688,2,   34.687,2,  155.000,2,  152.400,2,  148.390,2,   35.990,2,    2.500,2, -999.000
           NA,HOT timeseries 1988to2019 27SEP2021,     23,  99,-999.0,       2,-999.0,19910508,0005,  22.7517, -157.9867,  4749, 4602.400,    1.494,   34.689,2,   34.688,2,  157.100,2,  152.600,2,  148.390,2,   35.990,2,    2.480,2, -999.000
           NA,HOT timeseries 1988to2019 27SEP2021,     23,  99,-999.0,       1,-999.0,19910508,0005,  22.7517, -157.9867,  4749, 4706.500,    1.495,   34.690,2,   34.688,2,  159.900,2,  156.400,2,  147.470,2,   35.870,2,    2.480,2, -999.000