BOTTLE,20214727JOAExport
EXPOCODE,SECT_ID,STNNBR,CASTNO,SAMPNO,BTLNBR,BTLNBR_FLAG_W,DATE,TIME,LATITUDE,LONGITUDE,DEPTH,CTDPRS,CTDTMP,CTDSAL,CTDSAL_FLAG_W,SALNTY,SALNTY_FLAG_W,CTDOXY,CTDOXY_FLAG_W,OXYGEN,OXYGEN_FLAG_W,SILCAT,SILCAT_FLAG_W,NINI,NINI_FLAG_W,PHSPHT,PHSPHT_FLAG_W,REVP
,,,,,,,,,,,,DB,IPTS-68,PSS-78,,PSS-78,,UMOL/KG,,UMOL/KG,,UMOL/KG,,UMOL/KG,,UMOL/KG,,DBAR
           NA,HOT timeseries 1988to2019 27SEP2021,    115,  99,-999.0,      31,-999.0,20001017,1542,  22.7518, -158.0087,  4730,    3.900,   25.712,   35.342,2,   35.344,2,  206.000,2,  204.700,2,    1.990,2,    0.010,2,    0.060,2, -999.000
           NA,HOT timeseries 1988to2019 27SEP2021,    115,  99,-999.0,      31,-999.0,20001017,1542,  22.7518, -158.0087,  4730,    9.800,   25.730,   35.325,2,   35.327,2,  203.700,2,  204.200,2,    1.310,2,    0.000,2,    0.050,2, -999.000
           NA,HOT timeseries 1988to2019 27SEP2021,    115,  99,-999.0,      30,-999.0,20001017,1542,  22.7518, -158.0087,  4730,   72.300,   25.714,   35.360,2,   35.369,2,  205.200,2,  204.800,2,    1.400,2,    0.000,2,    0.040,2, -999.000
           NA,HOT timeseries 1988to2019 27SEP2021,    115,  99,-999.0,      22,-999.0,20001017,1542,  22.7518, -158.0087,  4730,   89.400,   23.129,   35.362,2,   35.361,2,  228.000,2,  221.900,2,    1.810,2,    0.000,2,    0.040,2, -999.000
           NA,HOT timeseries 1988to2019 27SEP2021,    115,  99,-999.0,      21,-999.0,20001017,1542,  22.7518, -158.0087,  4730,  114.300,   21.939,   35.363,2,   35.363,2,  212.700,2,  213.400,2,    1.850,2,    0.000,2,    0.060,2, -999.000
           NA,HOT timeseries 1988to2019 27SEP2021,    115,  99,-999.0,      20,-999.0,20001017,1542,  22.7518, -158.0087,  4730,  154.300,   21.043,   35.332,2,   35.333,2,  203.300,2,  205.400,2,    2.470,2,    0.570,2,    0.100,2, -999.000
           NA,HOT timeseries 1988to2019 27SEP2021,    115,  99,-999.0,      19,-999.0,20001017,1542,  22.7518, -158.0087,  4730,  193.500,   19.563,   35.121,2,   35.124,2,  196.400,2,  195.500,2, -999.000,5, -999.000,5, -999.000,5, -999.000
           NA,HOT timeseries 1988to2019 27SEP2021,    115,  99,-999.0,      18,-999.0,20001017,1542,  22.7518, -158.0087,  4730,  219.900,   17.975,   34.910,2,   34.921,2,  197.500,2,  195.000,2,    3.510,2,    3.220,2,    0.280,2, -999.000
           NA,HOT timeseries 1988to2019 27SEP2021,    115,  99,-999.0,      17,-999.0,20001017,1542,  22.7518, -158.0087,  4730,  257.400,   15.907,   34.648,2,   34.654,2,  201.000,2,  199.200,2,    5.170,2,    4.930,2,    0.430,2, -999.000
           NA,HOT timeseries 1988to2019 27SEP2021,    115,  99,-999.0,      16,-999.0,20001017,1542,  22.7518, -158.0087,  4730,  327.700,   12.141,   34.308,2,   34.312,2,  208.700,2,  210.700,2,   11.550,2,   10.470,2,    0.730,2, -999.000
           NA,HOT timeseries 1988to2019 27SEP2021,    115,  99,-999.0,      23,-999.0,20001017,1542,  22.7518, -158.0087,  4730,  368.800,   10.714,   34.180,2,   34.187,2,  202.900,2,  202.900,2,   15.200,2,   13.870,2,    0.960,2, -999.000
           NA,HOT timeseries 1988to2019 27SEP2021,    115,  99,-999.0,      14,-999.0,20001017,1542,  22.7518, -158.0087,  4730,  434.200,    8.828,   34.066,2,   34.066,2,  175.900,2,  176.800,2,   26.340,2,   20.360,2,    1.410,2, -999.000
           NA,HOT timeseries 1988to2019 27SEP2021,    115,  99,-999.0,      13,-999.0,20001017,1542,  22.7518, -158.0087,  4730,  469.600,    7.898,   34.032,2,   34.037,2,  153.800,2,  154.700,2,   34.690,2,   24.270,2,    1.680,2, -999.000
           NA,HOT timeseries 1988to2019 27SEP2021,    115,  99,-999.0,      11,-999.0,20001017,1542,  22.7518, -158.0087,  4730,  534.300,    6.408,   34.019,2,   34.023,2,  102.400,2,  105.100,2,   53.460,2,   31.440,2,    2.260,2, -999.000
           NA,HOT timeseries 1988to2019 27SEP2021,    115,  99,-999.0,      32,-999.0,20001017,1542,  22.7518, -158.0087,  4730,  579.700,    5.653,   34.064,2,   34.066,2,   65.900,2,   66.700,2,   69.340,2,   36.120,2,    2.600,2, -999.000
           NA,HOT timeseries 1988to2019 27SEP2021,    115,  99,-999.0,      29,-999.0,20001017,1542,  22.7518, -158.0087,  4730,  653.600,    5.238,   34.165,2,   34.164,2,   39.600,2,   37.900,2,   81.760,2,   39.100,2,    2.850,2, -999.000
           NA,HOT timeseries 1988to2019 27SEP2021,    115,  99,-999.0,      28,-999.0,20001017,1542,  22.7518, -158.0087,  4730,  679.600,    5.266,   34.243,2,   34.244,2,   32.200,2,   30.500,2,   83.830,2,   39.690,2,    2.920,2, -999.000
           NA,HOT timeseries 1988to2019 27SEP2021,    115,  99,-999.0,       7,-999.0,20001017,1542,  22.7518, -158.0087,  4730,  743.700,    5.011,   34.346,2,   34.349,2,   28.100,2,   28.800,2,   89.950,2,   40.580,2,    2.970,2, -999.000
           NA,HOT timeseries 1988to2019 27SEP2021,    115,  99,-999.0,      36,-999.0,20001017,1542,  22.7518, -158.0087,  4730,  842.000,    4.518,   34.394,2,   34.398,2,   31.500,2,   31.100,2,  100.210,2,   41.320,2,    3.000,2, -999.000
           NA,HOT timeseries 1988to2019 27SEP2021,    115,  99,-999.0,      35,-999.0,20001017,1542,  22.7518, -158.0087,  4730,  899.500,    4.257,   34.418,2,   34.420,2,   31.500,2,   31.300,2,  106.310,2,   41.660,2,    3.020,2, -999.000
           NA,HOT timeseries 1988to2019 27SEP2021,    115,  99,-999.0,      34,-999.0,20001017,1542,  22.7518, -158.0087,  4730,  958.800,    4.136,   34.446,2,   34.450,2,   34.500,2,   35.400,2,  108.460,2,   41.500,2,    3.000,2, -999.000
           NA,HOT timeseries 1988to2019 27SEP2021,    115,  99,-999.0,      20,-999.0,20001017,1542,  22.7518, -158.0087,  4730, 1202.100,    3.466,   34.534,2,   34.532,2,   51.000,2,   51.000,2,  121.610,2,   41.160,2,    2.940,2, -999.000
           NA,HOT timeseries 1988to2019 27SEP2021,    115,  99,-999.0,      19,-999.0,20001017,1542,  22.7518, -158.0087,  4730, 1402.500,    3.011,   34.564,2,   34.560,2,   61.100,2,   60.900,2,  131.370,2,   40.670,2,    2.900,2, -999.000
           NA,HOT timeseries 1988to2019 27SEP2021,    115,  99,-999.0,      18,-999.0,20001017,1542,  22.7518, -158.0087,  4730, 1600.600,    2.639,   34.587,2,   34.585,2,   70.800,2,   71.200,2,  139.400,2,   40.340,2,    2.860,2, -999.000
           NA,HOT timeseries 1988to2019 27SEP2021,    115,  99,-999.0,      17,-999.0,20001017,1542,  22.7518, -158.0087,  4730, 1800.000,    2.380,   34.604,2,   34.603,2,   78.800,2,   79.300,2,  145.570,2,   40.110,2,    2.820,2, -999.000
           NA,HOT timeseries 1988to2019 27SEP2021,    115,  99,-999.0,      16,-999.0,20001017,1542,  22.7518, -158.0087,  4730, 1999.500,    2.154,   34.619,2,   34.620,2,   86.700,2,   87.300,2,  150.060,2,   39.560,2,    2.780,2, -999.000
           NA,HOT timeseries 1988to2019 27SEP2021,    115,  99,-999.0,      23,-999.0,20001017,1542,  22.7518, -158.0087,  4730, 2199.100,    1.939,   34.633,2,   34.634,2,   93.400,2,   95.100,2,  155.260,2,   39.350,2,    2.740,2, -999.000
           NA,HOT timeseries 1988to2019 27SEP2021,    115,  99,-999.0,      14,-999.0,20001017,1542,  22.7518, -158.0087,  4730, 2399.600,    1.799,   34.644,2,   34.643,2,  101.000,2,  101.300,2, -999.000,3,   38.990,2,    2.710,2, -999.000
           NA,HOT timeseries 1988to2019 27SEP2021,    115,  99,-999.0,      13,-999.0,20001017,1542,  22.7518, -158.0087,  4730, 2600.000,    1.679,   34.655,2,   34.655,2,  108.700,2,  110.100,2,  159.030,2,   38.340,2,    2.670,2, -999.000
           NA,HOT timeseries 1988to2019 27SEP2021,    115,  99,-999.0,      12,-999.0,20001017,1542,  22.7518, -158.0087,  4730, 2799.800,    1.607,   34.663,2,   34.663,2,  117.100,2,  117.200,2,  159.480,2,   38.050,2,    2.640,2, -999.000
           NA,HOT timeseries 1988to2019 27SEP2021,    115,  99,-999.0,      11,-999.0,20001017,1542,  22.7518, -158.0087,  4730, 3000.600,    1.560,   34.668,2,   34.667,2,  122.100,2,  123.100,2,  158.660,2,   37.460,2,    2.600,2, -999.000
           NA,HOT timeseries 1988to2019 27SEP2021,    115,  99,-999.0,      32,-999.0,20001017,1542,  22.7518, -158.0087,  4730, 3199.700,    1.516,   34.673,2,   34.672,2,  127.600,2,  128.300,2,  159.840,2,   37.090,2,    2.580,2, -999.000
           NA,HOT timeseries 1988to2019 27SEP2021,    115,  99,-999.0,       3,-999.0,20001017,1542,  22.7518, -158.0087,  4730, 3398.100,    1.490,   34.678,2,   34.678,2,  133.700,2,  133.800,2,  157.120,2,   36.740,2,    2.550,2, -999.000
           NA,HOT timeseries 1988to2019 27SEP2021,    115,  99,-999.0,      29,-999.0,20001017,1542,  22.7518, -158.0087,  4730, 3599.100,    1.472,   34.681,2,   34.681,2,  139.500,2,  139.400,2, -999.000,3,   36.390,2,    2.520,2, -999.000
           NA,HOT timeseries 1988to2019 27SEP2021,    115,  99,-999.0,      28,-999.0,20001017,1542,  22.7518, -158.0087,  4730, 3799.700,    1.460,   34.683,2,   34.684,2,  143.500,2,  143.300,2,  152.910,2,   36.140,2,    2.500,2, -999.000
           NA,HOT timeseries 1988to2019 27SEP2021,    115,  99,-999.0,       7,-999.0,20001017,1542,  22.7518, -158.0087,  4730, 4000.100,    1.460,   34.685,2,   34.687,2,  146.800,2,  146.400,2,  151.240,2,   35.920,2,    2.490,2, -999.000
           NA,HOT timeseries 1988to2019 27SEP2021,    115,  99,-999.0,      38,-999.0,20001017,1542,  22.7518, -158.0087,  4730, 4198.600,    1.465,   34.687,2,   34.686,2,  149.600,2,  149.000,2,  150.640,2,   35.780,2,    2.480,2, -999.000
           NA,HOT timeseries 1988to2019 27SEP2021,    115,  99,-999.0,      36,-999.0,20001017,1542,  22.7518, -158.0087,  4730, 4399.600,    1.480,   34.687,2,   34.688,2,  151.100,2,  150.400,2,  149.710,2,   35.730,2,    2.480,2, -999.000
           NA,HOT timeseries 1988to2019 27SEP2021,    115,  99,-999.0,      35,-999.0,20001017,1542,  22.7518, -158.0087,  4730, 4499.700,    1.489,   34.687,2,   34.689,2,  151.500,2,  150.700,2,  149.590,2,   35.700,2,    2.470,2, -999.000
           NA,HOT timeseries 1988to2019 27SEP2021,    115,  99,-999.0,      34,-999.0,20001017,1542,  22.7518, -158.0087,  4730, 4604.200,    1.498,   34.688,2,   34.688,2,  152.100,2,  151.600,2,  149.170,2,   35.680,2,    2.470,2, -999.000
           NA,HOT timeseries 1988to2019 27SEP2021,    115,  99,-999.0,      33,-999.0,20001017,1542,  22.7518, -158.0087,  4730, 4806.900,    1.512,   34.688,2,   34.689,2,  153.000,2,  153.100,2,  148.490,2,   35.560,2,    2.460,2, -999.000