BOTTLE,20214727JOAExport
EXPOCODE,SECT_ID,STNNBR,CASTNO,SAMPNO,BTLNBR,BTLNBR_FLAG_W,DATE,TIME,LATITUDE,LONGITUDE,DEPTH,CTDPRS,CTDTMP,CTDSAL,CTDSAL_FLAG_W,SALNTY,SALNTY_FLAG_W,CTDOXY,CTDOXY_FLAG_W,OXYGEN,OXYGEN_FLAG_W,SILCAT,SILCAT_FLAG_W,NINI,NINI_FLAG_W,PHSPHT,PHSPHT_FLAG_W,REVP
,,,,,,,,,,,,DB,IPTS-68,PSS-78,,PSS-78,,UMOL/KG,,UMOL/KG,,UMOL/KG,,UMOL/KG,,UMOL/KG,,DBAR
           NA,HOT timeseries 1988to2019 27SEP2021,     85,  99,-999.0,      31,-999.0,19980110,1234,  22.7497, -158.0000,  4721,    5.100,   22.861,   35.228,2, -999.000,4, -999.000,3,  212.900,2,    1.770,2,    0.000,2,    0.090,2, -999.000
           NA,HOT timeseries 1988to2019 27SEP2021,     85,  99,-999.0,      31,-999.0,19980110,1234,  22.7497, -158.0000,  4721,   10.600,   22.857,   35.230,2, -999.000,4, -999.000,3,  213.100,2,    1.210,2,    0.000,2,    0.070,2, -999.000
           NA,HOT timeseries 1988to2019 27SEP2021,     85,  99,-999.0,      30,-999.0,19980110,1234,  22.7497, -158.0000,  4721,   73.900,   22.552,   35.241,2,   35.239,2,  213.900,2,  214.400,2,    1.260,2,    0.000,2,    0.060,2, -999.000
           NA,HOT timeseries 1988to2019 27SEP2021,     85,  99,-999.0,      22,-999.0,19980110,1234,  22.7497, -158.0000,  4721,  103.400,   22.090,   35.226,2, -999.000,4, -999.000,3,  211.900,2,    1.310,2,    0.040,2,    0.070,2, -999.000
           NA,HOT timeseries 1988to2019 27SEP2021,     85,  99,-999.0,      21,-999.0,19980110,1234,  22.7497, -158.0000,  4721,  145.300,   19.372,   34.986,2,   34.986,2,  202.100,2,  203.100,2,    2.160,2,    0.950,2,    0.150,2, -999.000
           NA,HOT timeseries 1988to2019 27SEP2021,     85,  99,-999.0,      20,-999.0,19980110,1234,  22.7497, -158.0000,  4721,  170.000,   18.063,   34.857,2,   34.869,2,  198.000,2,  200.000,2,    2.940,2,    1.940,2,    0.220,2, -999.000
           NA,HOT timeseries 1988to2019 27SEP2021,     85,  99,-999.0,      19,-999.0,19980110,1234,  22.7497, -158.0000,  4721,  210.400,   16.469,   34.701,2,   34.707,2,  203.200,2,  203.000,2,    4.130,2,    3.540,2,    0.330,2, -999.000
           NA,HOT timeseries 1988to2019 27SEP2021,     85,  99,-999.0,      18,-999.0,19980110,1234,  22.7497, -158.0000,  4721,  259.700,   14.104,   34.458,2,   34.457,2,  199.500,2,  200.600,2,    7.220,2,    7.220,2,    0.580,2, -999.000
           NA,HOT timeseries 1988to2019 27SEP2021,     85,  99,-999.0,      17,-999.0,19980110,1234,  22.7497, -158.0000,  4721,  305.000,   12.051,   34.288,2,   34.288,2,  207.200,2,  205.900,2,   11.160,2,   10.570,2,    0.790,2, -999.000
           NA,HOT timeseries 1988to2019 27SEP2021,     85,  99,-999.0,      16,-999.0,19980110,1234,  22.7497, -158.0000,  4721,  356.700,   10.217,   34.152,2,   34.154,2,  203.200,2,  199.400,2,   17.710,2,   14.970,2,    1.070,2, -999.000
           NA,HOT timeseries 1988to2019 27SEP2021,     85,  99,-999.0,      15,-999.0,19980110,1234,  22.7497, -158.0000,  4721,  413.100,    8.733,   34.076,2,   34.076,2,  168.800,2,  167.200,2,   27.570,2,   20.770,2,    1.500,2, -999.000
           NA,HOT timeseries 1988to2019 27SEP2021,     85,  99,-999.0,      14,-999.0,19980110,1234,  22.7497, -158.0000,  4721,  430.700,    8.493,   34.076,2,   34.077,2,  159.400,2,  156.900,2,   31.050,2,   22.100,2,    1.610,2, -999.000
           NA,HOT timeseries 1988to2019 27SEP2021,     85,  99,-999.0,      13,-999.0,19980110,1234,  22.7497, -158.0000,  4721,  487.400,    7.464,   34.099,2,   34.100,2,  107.800,2,  105.400,2,   44.340,2,   28.570,2,    2.130,2, -999.000
           NA,HOT timeseries 1988to2019 27SEP2021,     85,  99,-999.0,      12,-999.0,19980110,1234,  22.7497, -158.0000,  4721,  527.000,    6.985,   34.111,2,   34.112,2,   92.900,2,   85.500,2,   51.650,2,   31.360,2,    2.360,2, -999.000
           NA,HOT timeseries 1988to2019 27SEP2021,     85,  99,-999.0,      11,-999.0,19980110,1234,  22.7497, -158.0000,  4721,  588.300,    6.136,   34.095,2,   34.095,2,   79.700,2,   73.600,2,   62.710,2,   34.200,2,    2.530,2, -999.000
           NA,HOT timeseries 1988to2019 27SEP2021,     85,  99,-999.0,      32,-999.0,19980110,1234,  22.7497, -158.0000,  4721,  658.200,    5.351,   34.107,2,   34.108,2,   63.000,2,   61.600,2,   75.770,2,   36.810,2,    2.680,2, -999.000
           NA,HOT timeseries 1988to2019 27SEP2021,     85,  99,-999.0,       3,-999.0,19980110,1234,  22.7497, -158.0000,  4721,  689.700,    4.942,   34.141,2, -999.000,4, -999.000,3,   47.900,2,   84.370,2,   38.720,2,    2.820,2, -999.000
           NA,HOT timeseries 1988to2019 27SEP2021,     85,  99,-999.0,      29,-999.0,19980110,1234,  22.7497, -158.0000,  4721,  715.700,    4.840,   34.187,2,   34.186,2,   41.700,2,   39.800,2,   88.790,2,   39.320,2,    2.890,2, -999.000
           NA,HOT timeseries 1988to2019 27SEP2021,     85,  99,-999.0,      28,-999.0,19980110,1234,  22.7497, -158.0000,  4721,  750.500,    4.606,   34.234,2,   34.232,2,   35.000,2,   34.900,2,   95.150,2,   40.430,2,    2.970,2, -999.000
           NA,HOT timeseries 1988to2019 27SEP2021,     85,  99,-999.0,       7,-999.0,19980110,1234,  22.7497, -158.0000,  4721,  790.500,    4.622,   34.299,2,   34.299,2,   32.600,2,   31.900,2,   95.860,2,   40.650,2,    2.990,2, -999.000
           NA,HOT timeseries 1988to2019 27SEP2021,     85,  99,-999.0,      38,-999.0,19980110,1234,  22.7497, -158.0000,  4721,  840.600,    4.543,   34.369,2,   34.367,2,   31.700,2,   31.200,2,   98.730,2,   41.100,2,    3.030,2, -999.000
           NA,HOT timeseries 1988to2019 27SEP2021,     85,  99,-999.0,      36,-999.0,19980110,1234,  22.7497, -158.0000,  4721,  871.200,    4.368,   34.389,2,   34.387,2,   33.500,2,   33.800,2,  102.240,2,   41.190,2,    3.020,2, -999.000
           NA,HOT timeseries 1988to2019 27SEP2021,     85,  99,-999.0,      35,-999.0,19980110,1234,  22.7497, -158.0000,  4721,  921.300,    4.173,   34.432,2,   34.430,2,   37.100,2,   39.300,2,  106.210,2,   41.200,2,    3.040,2, -999.000
           NA,HOT timeseries 1988to2019 27SEP2021,     85,  99,-999.0,      34,-999.0,19980110,1234,  22.7497, -158.0000,  4721,  983.400,    3.975,   34.472,2,   34.471,2,   41.500,2,   43.200,2,  110.520,2,   41.240,2,    3.010,2, -999.000
           NA,HOT timeseries 1988to2019 27SEP2021,     85,  99,-999.0,      33,-999.0,19980110,1234,  22.7497, -158.0000,  4721, 1022.500,    3.862,   34.489,2,   34.487,2,   44.500,2,   44.100,2,  112.040,2,   41.240,2,    3.030,2, -999.000
           NA,HOT timeseries 1988to2019 27SEP2021,     85,  99,-999.0,      20,-999.0,19980110,1234,  22.7497, -158.0000,  4721, 1201.000,    3.485,   34.524,2,   34.524,2,   52.400,2,   51.300,2,  119.440,2,   41.250,2,    2.980,2, -999.000
           NA,HOT timeseries 1988to2019 27SEP2021,     85,  99,-999.0,      19,-999.0,19980110,1234,  22.7497, -158.0000,  4721, 1400.100,    3.041,   34.556,2,   34.555,2,   62.000,2,   61.900,2,  129.660,2,   40.830,2, -999.000,3, -999.000
           NA,HOT timeseries 1988to2019 27SEP2021,     85,  99,-999.0,      18,-999.0,19980110,1234,  22.7497, -158.0000,  4721, 1600.200,    2.669,   34.579,2,   34.578,2,   71.700,2,   71.300,2,  137.440,2,   40.390,2,    2.900,2, -999.000
           NA,HOT timeseries 1988to2019 27SEP2021,     85,  99,-999.0,      17,-999.0,19980110,1234,  22.7497, -158.0000,  4721, 1800.600,    2.360,   34.599,2,   34.597,2,   79.600,2,   79.300,2,  144.440,2,   40.000,2,    2.850,2, -999.000
           NA,HOT timeseries 1988to2019 27SEP2021,     85,  99,-999.0,      16,-999.0,19980110,1234,  22.7497, -158.0000,  4721, 2000.200,    2.113,   34.618,2,   34.618,2,   86.500,2,   86.800,2,  150.910,2,   39.640,2,    2.820,2, -999.000
           NA,HOT timeseries 1988to2019 27SEP2021,     85,  99,-999.0,      15,-999.0,19980110,1234,  22.7497, -158.0000,  4721, 2200.600,    1.910,   34.633,2,   34.634,2,   94.900,2,   95.000,2,  156.070,2,   39.150,2,    2.790,2, -999.000
           NA,HOT timeseries 1988to2019 27SEP2021,     85,  99,-999.0,      14,-999.0,19980110,1234,  22.7497, -158.0000,  4721, 2399.800,    1.785,   34.644,2,   34.644,2,  101.500,2,  102.500,2,  157.930,2,   38.660,2,    2.750,2, -999.000
           NA,HOT timeseries 1988to2019 27SEP2021,     85,  99,-999.0,      13,-999.0,19980110,1234,  22.7497, -158.0000,  4721, 2600.100,    1.668,   34.655,2,   34.655,2,  110.400,2,  110.500,2,  159.030,2,   38.310,2,    2.700,2, -999.000
           NA,HOT timeseries 1988to2019 27SEP2021,     85,  99,-999.0,      12,-999.0,19980110,1234,  22.7497, -158.0000,  4721, 2799.300,    1.583,   34.665,2,   34.664,2,  119.100,2,  119.800,2,  158.670,2,   37.700,2,    2.650,2, -999.000
           NA,HOT timeseries 1988to2019 27SEP2021,     85,  99,-999.0,      11,-999.0,19980110,1234,  22.7497, -158.0000,  4721, 2999.100,    1.532,   34.671,2,   34.671,2,  125.900,2,  126.400,2,  157.200,2,   37.380,2,    2.620,2, -999.000
           NA,HOT timeseries 1988to2019 27SEP2021,     85,  99,-999.0,      32,-999.0,19980110,1234,  22.7497, -158.0000,  4721, 3198.000,    1.503,   34.675,2,   34.675,2,  130.900,2,  131.500,2,  156.350,2,   36.950,2,    2.600,2, -999.000
           NA,HOT timeseries 1988to2019 27SEP2021,     85,  99,-999.0,       3,-999.0,19980110,1234,  22.7497, -158.0000,  4721, 3398.100,    1.474,   34.680,2,   34.680,2,  136.400,2,  137.000,2,  155.170,2,   36.610,2,    2.550,2, -999.000
           NA,HOT timeseries 1988to2019 27SEP2021,     85,  99,-999.0,      29,-999.0,19980110,1234,  22.7497, -158.0000,  4721, 3599.600,    1.460,   34.682,2,   34.684,2,  141.300,2,  141.600,2,  153.380,2,   36.260,2,    2.540,2, -999.000
           NA,HOT timeseries 1988to2019 27SEP2021,     85,  99,-999.0,      28,-999.0,19980110,1234,  22.7497, -158.0000,  4721, 3802.200,    1.450,   34.685,2,   34.685,2,  145.400,2,  145.500,2,  151.130,2,   35.940,2,    2.520,2, -999.000
           NA,HOT timeseries 1988to2019 27SEP2021,     85,  99,-999.0,       7,-999.0,19980110,1234,  22.7497, -158.0000,  4721, 4000.500,    1.451,   34.687,2, -999.000,3, -999.000,3,  148.600,2,  150.110,2,   36.020,2,    2.500,2, -999.000
           NA,HOT timeseries 1988to2019 27SEP2021,     85,  99,-999.0,      38,-999.0,19980110,1234,  22.7497, -158.0000,  4721, 4199.600,    1.460,   34.688,2,   34.688,2,  151.000,2,  150.700,2,  148.890,2,   35.860,2,    2.460,2, -999.000
           NA,HOT timeseries 1988to2019 27SEP2021,     85,  99,-999.0,      36,-999.0,19980110,1234,  22.7497, -158.0000,  4721, 4400.200,    1.475,   34.689,2,   34.689,2,  152.400,2,  151.900,2,  148.120,2,   35.780,2,    2.480,2, -999.000
           NA,HOT timeseries 1988to2019 27SEP2021,     85,  99,-999.0,      35,-999.0,19980110,1234,  22.7497, -158.0000,  4721, 4500.700,    1.485,   34.689,2,   34.690,2,  152.800,2,  152.500,2,  148.140,2,   35.660,2,    2.470,2, -999.000
           NA,HOT timeseries 1988to2019 27SEP2021,     85,  99,-999.0,      34,-999.0,19980110,1234,  22.7497, -158.0000,  4721, 4601.500,    1.495,   34.689,2,   34.689,2,  153.300,2,  152.500,2,  148.010,2,   35.660,2,    2.470,2, -999.000
           NA,HOT timeseries 1988to2019 27SEP2021,     85,  99,-999.0,      33,-999.0,19980110,1234,  22.7497, -158.0000,  4721, 4806.900,    1.514,   34.690,2,   34.690,2,  154.400,2, -999.000,4,  147.440,2,   35.630,2,    2.470,2, -999.000