BOTTLE,20214727JOAExport
EXPOCODE,SECT_ID,STNNBR,CASTNO,SAMPNO,BTLNBR,BTLNBR_FLAG_W,DATE,TIME,LATITUDE,LONGITUDE,DEPTH,CTDPRS,CTDTMP,CTDSAL,CTDSAL_FLAG_W,SALNTY,SALNTY_FLAG_W,CTDOXY,CTDOXY_FLAG_W,OXYGEN,OXYGEN_FLAG_W,SILCAT,SILCAT_FLAG_W,NINI,NINI_FLAG_W,PHSPHT,PHSPHT_FLAG_W,REVP
,,,,,,,,,,,,DB,IPTS-68,PSS-78,,PSS-78,,UMOL/KG,,UMOL/KG,,UMOL/KG,,UMOL/KG,,UMOL/KG,,DBAR
           NA,HOT timeseries 1988to2019 27SEP2021,     59,  99,-999.0,      31,-999.0,19950506,1701,  22.7498, -158.0038,  4729,    4.600,   23.473,   34.717,2,   34.717,2,  221.100,2,  212.800,2,    1.650,2,    0.000,2,    0.120,2, -999.000
           NA,HOT timeseries 1988to2019 27SEP2021,     59,  99,-999.0,      30,-999.0,19950506,1701,  22.7498, -158.0038,  4729,    4.800,   23.530,   34.695,2,   34.695,2,  213.000,2,  212.800,2,    1.300,2,    0.000,2,    0.120,2, -999.000
           NA,HOT timeseries 1988to2019 27SEP2021,     59,  99,-999.0,      22,-999.0,19950506,1701,  22.7498, -158.0038,  4729,   65.600,   22.971,   34.995,2,   34.984,2,  212.300,2,  211.100,2,    1.300,2,    0.000,2,    0.090,2, -999.000
           NA,HOT timeseries 1988to2019 27SEP2021,     59,  99,-999.0,      30,-999.0,19950506,1701,  22.7498, -158.0038,  4729,   99.500,   22.227,   35.158,2,   35.161,2,  202.200,2,  206.000,2,    1.480,2,    0.240,2,    0.090,2, -999.000
           NA,HOT timeseries 1988to2019 27SEP2021,     59,  99,-999.0,      21,-999.0,19950506,1701,  22.7498, -158.0038,  4729,  122.100,   21.588,   35.181,2,   35.182,2,  204.800,2,  202.500,2,    1.510,2,    0.610,2,    0.120,2, -999.000
           NA,HOT timeseries 1988to2019 27SEP2021,     59,  99,-999.0,      20,-999.0,19950506,1701,  22.7498, -158.0038,  4729,  166.700,   20.406,   35.222,2,   35.224,2,  209.000,2,  209.000,2,    1.890,2,    0.570,2,    0.110,2, -999.000
           NA,HOT timeseries 1988to2019 27SEP2021,     59,  99,-999.0,      19,-999.0,19950506,1701,  22.7498, -158.0038,  4729,  200.400,   19.316,   35.134,2,   35.136,2,  206.900,2, -999.000,4,    2.330,2,    0.970,2,    0.130,2, -999.000
           NA,HOT timeseries 1988to2019 27SEP2021,     59,  99,-999.0,      18,-999.0,19950506,1701,  22.7498, -158.0038,  4729,  222.300,   18.407,   35.020,2,   35.026,2,  209.900,2, -999.000,3,    2.850,2,    1.390,2,    0.170,2, -999.000
           NA,HOT timeseries 1988to2019 27SEP2021,     59,  99,-999.0,      17,-999.0,19950506,1701,  22.7498, -158.0038,  4729,  259.600,   16.259,   34.710,2,   34.712,2,  194.100,2, -999.000,5,    4.760,2,    4.620,2,    0.380,2, -999.000
           NA,HOT timeseries 1988to2019 27SEP2021,     59,  99,-999.0,      16,-999.0,19950506,1701,  22.7498, -158.0038,  4729,  341.300,   12.346,   34.291,2,   34.296,2,  193.400,2,  192.600,2,   11.090,2,   11.400,2,    0.830,2, -999.000
           NA,HOT timeseries 1988to2019 27SEP2021,     59,  99,-999.0,      15,-999.0,19950506,1701,  22.7498, -158.0038,  4729,  384.700,   10.564,   34.160,2,   34.163,2,  179.700,2,  196.700,2,   16.160,2,   14.720,2,    1.050,2, -999.000
           NA,HOT timeseries 1988to2019 27SEP2021,     59,  99,-999.0,      14,-999.0,19950506,1701,  22.7498, -158.0038,  4729,  398.400,   10.298,   34.169,2,   34.168,2,  201.100,2,  201.500,2,   17.470,2,   15.140,2,    1.070,2, -999.000
           NA,HOT timeseries 1988to2019 27SEP2021,     59,  99,-999.0,      13,-999.0,19950506,1701,  22.7498, -158.0038,  4729,  450.300,    8.970,   34.086,2,   34.085,2,  183.400,2,  185.200,2,   24.880,2,   19.260,2,    1.350,2, -999.000
           NA,HOT timeseries 1988to2019 27SEP2021,     59,  99,-999.0,      12,-999.0,19950506,1701,  22.7498, -158.0038,  4729,  538.100,    7.193,   34.027,2,   34.026,2,  135.800,2,  139.400,2,   42.890,2,   27.130,2,    1.910,2, -999.000
           NA,HOT timeseries 1988to2019 27SEP2021,     59,  99,-999.0,      11,-999.0,19950506,1701,  22.7498, -158.0038,  4729,  549.900,    6.903,   34.022,2,   34.022,2,  132.300,2,  130.000,2,   46.540,2,   28.440,2,    2.020,2, -999.000
           NA,HOT timeseries 1988to2019 27SEP2021,     59,  99,-999.0,      32,-999.0,19950506,1701,  22.7498, -158.0038,  4729,  569.700,    6.503,   34.020,2,   34.020,2,  117.700,2,  116.000,2,   52.440,2,   30.420,2,    2.160,2, -999.000
           NA,HOT timeseries 1988to2019 27SEP2021,     59,  99,-999.0,       3,-999.0,19950506,1701,  22.7498, -158.0038,  4729,  614.600,    5.726,   34.042,2,   34.043,2,   85.500,2,   81.700,2,   66.110,2,   34.780,2,    2.500,2, -999.000
           NA,HOT timeseries 1988to2019 27SEP2021,     59,  99,-999.0,      29,-999.0,19950506,1701,  22.7498, -158.0038,  4729,  652.000,    5.267,   34.119,2,   34.119,2,   52.400,2,   48.400,2,   78.520,2,   38.200,2,    2.790,2, -999.000
           NA,HOT timeseries 1988to2019 27SEP2021,     59,  99,-999.0,      28,-999.0,19950506,1701,  22.7498, -158.0038,  4729,  704.600,    5.027,   34.194,2,   34.196,2,   38.100,2,   33.200,2,   85.440,2,   39.680,2,    2.920,2, -999.000
           NA,HOT timeseries 1988to2019 27SEP2021,     59,  99,-999.0,       7,-999.0,19950506,1701,  22.7498, -158.0038,  4729,  751.400,    4.623,   34.264,2,   34.264,2,   28.600,2,   24.500,2,   96.200,2,   41.200,2,    3.030,2, -999.000
           NA,HOT timeseries 1988to2019 27SEP2021,     59,  99,-999.0,      36,-999.0,19950506,1701,  22.7498, -158.0038,  4729,  799.400,    4.522,   34.318,2,   34.318,2,   31.100,2,   28.500,2,   99.160,2,   41.230,2,    3.040,2, -999.000
           NA,HOT timeseries 1988to2019 27SEP2021,     59,  99,-999.0,      35,-999.0,19950506,1701,  22.7498, -158.0038,  4729,  837.100,    4.328,   34.359,2,   34.359,2,   31.200,2,   29.400,2,  103.550,2,   41.580,2,    3.060,2, -999.000
           NA,HOT timeseries 1988to2019 27SEP2021,     59,  99,-999.0,      20,-999.0,19950506,1701,  22.7498, -158.0038,  4729,  999.200,    3.945,   34.442,2,   34.444,2,   41.600,2,   36.800,2,  111.600,2,   41.430,2,    3.030,2, -999.000
           NA,HOT timeseries 1988to2019 27SEP2021,     59,  99,-999.0,      33,-999.0,19950506,1701,  22.7498, -158.0038,  4729, 1018.300,    3.836,   34.463,2,   34.464,2,   41.700,2,   40.800,2,  113.490,2,   41.440,2,    3.020,2, -999.000
           NA,HOT timeseries 1988to2019 27SEP2021,     59,  99,-999.0,      19,-999.0,19950506,1701,  22.7498, -158.0038,  4729, 1199.800,    3.410,   34.519,2,   34.521,2,   54.300,2,   52.800,2,  122.070,2,   40.970,2,    2.990,2, -999.000
           NA,HOT timeseries 1988to2019 27SEP2021,     59,  99,-999.0,      18,-999.0,19950506,1701,  22.7498, -158.0038,  4729, 1399.900,    3.048,   34.555,2,   34.555,2,   61.200,2,   60.800,2,  130.450,2,   40.790,2,    2.990,2, -999.000
           NA,HOT timeseries 1988to2019 27SEP2021,     59,  99,-999.0,      17,-999.0,19950506,1701,  22.7498, -158.0038,  4729, 1600.400,    2.583,   34.586,2,   34.587,2,   70.500,2,   72.000,2,  140.110,2,   40.130,2,    2.930,2, -999.000
           NA,HOT timeseries 1988to2019 27SEP2021,     59,  99,-999.0,      16,-999.0,19950506,1701,  22.7498, -158.0038,  4729, 1800.100,    2.344,   34.599,2,   34.599,2,   77.100,2,   78.700,2,  146.060,2,   39.770,2,    2.900,2, -999.000
           NA,HOT timeseries 1988to2019 27SEP2021,     59,  99,-999.0,      15,-999.0,19950506,1701,  22.7498, -158.0038,  4729, 1999.700,    2.065,   34.621,2,   34.621,2,   86.100,2,   88.600,2,  152.450,2,   39.320,2,    2.850,2, -999.000
           NA,HOT timeseries 1988to2019 27SEP2021,     59,  99,-999.0,      14,-999.0,19950506,1701,  22.7498, -158.0038,  4729, 2199.500,    1.880,   34.635,2,   34.635,2,   94.600,2,   97.600,2,  155.970,2,   38.800,2,    2.780,2, -999.000
           NA,HOT timeseries 1988to2019 27SEP2021,     59,  99,-999.0,      13,-999.0,19950506,1701,  22.7498, -158.0038,  4729, 2401.300,    1.752,   34.647,2,   34.647,2,  102.700,2,  105.800,2,  157.780,2,   38.290,2,    2.750,2, -999.000
           NA,HOT timeseries 1988to2019 27SEP2021,     59,  99,-999.0,      12,-999.0,19950506,1701,  22.7498, -158.0038,  4729, 2600.400,    1.657,   34.655,2,   34.656,2,  109.100,2,  112.000,2,  159.330,2,   37.980,2,    2.730,2, -999.000
           NA,HOT timeseries 1988to2019 27SEP2021,     59,  99,-999.0,      11,-999.0,19950506,1701,  22.7498, -158.0038,  4729, 2802.500,    1.590,   34.663,2,   34.663,2,  116.100,2,  118.500,2,  160.260,2,   37.690,2,    2.700,2, -999.000
           NA,HOT timeseries 1988to2019 27SEP2021,     59,  99,-999.0,      32,-999.0,19950506,1701,  22.7498, -158.0038,  4729, 3000.000,    1.544,   34.668,2,   34.668,2,  121.400,2,  124.400,2,  158.800,2,   37.160,2,    2.650,2, -999.000
           NA,HOT timeseries 1988to2019 27SEP2021,     59,  99,-999.0,       3,-999.0,19950506,1701,  22.7498, -158.0038,  4729, 3201.400,    1.503,   34.674,2,   34.675,2,  128.700,2,  131.200,2,  156.950,2,   36.760,2,    2.610,2, -999.000
           NA,HOT timeseries 1988to2019 27SEP2021,     59,  99,-999.0,      29,-999.0,19950506,1701,  22.7498, -158.0038,  4729, 3398.500,    1.478,   34.678,2,   34.678,2,  135.500,2,  136.300,2,  155.190,2,   36.370,2,    2.570,2, -999.000
           NA,HOT timeseries 1988to2019 27SEP2021,     59,  99,-999.0,      28,-999.0,19950506,1701,  22.7498, -158.0038,  4729, 3598.400,    1.454,   34.682,2,   34.682,2,  141.800,2,  141.700,2,  153.440,2,   36.070,2,    2.550,2, -999.000
           NA,HOT timeseries 1988to2019 27SEP2021,     59,  99,-999.0,       7,-999.0,19950506,1701,  22.7498, -158.0038,  4729, 3800.700,    1.448,   34.684,2,   34.684,2,  146.100,2,  145.200,2,  151.970,2,   35.890,2,    2.510,2, -999.000
           NA,HOT timeseries 1988to2019 27SEP2021,     59,  99,-999.0,      23,-999.0,19950506,1701,  22.7498, -158.0038,  4729, 3999.900,    1.451,   34.686,2,   34.686,2,  148.900,2,  147.600,2,  150.820,2,   35.750,2,    2.520,2, -999.000
           NA,HOT timeseries 1988to2019 27SEP2021,     59,  99,-999.0,      36,-999.0,19950506,1701,  22.7498, -158.0038,  4729, 4200.700,    1.460,   34.687,2,   34.687,2,  151.700,2,  150.000,2,  149.680,2,   35.590,2,    2.490,2, -999.000
           NA,HOT timeseries 1988to2019 27SEP2021,     59,  99,-999.0,      35,-999.0,19950506,1701,  22.7498, -158.0038,  4729, 4400.400,    1.476,   34.688,2,   34.689,2,  153.300,2,  151.800,2,  149.270,2,   35.450,2,    2.490,2, -999.000
           NA,HOT timeseries 1988to2019 27SEP2021,     59,  99,-999.0,      34,-999.0,19950506,1701,  22.7498, -158.0038,  4729, 4598.600,    1.495,   34.688,2,   34.687,2,  155.500,2,  150.700,2,  148.370,2,   35.320,2,    2.480,2, -999.000
           NA,HOT timeseries 1988to2019 27SEP2021,     59,  99,-999.0,      33,-999.0,19950506,1701,  22.7498, -158.0038,  4729, 4810.600,    1.518,   34.688,2,   34.688,2,  154.600,2,  152.200,2,  148.530,2,   35.400,2,    2.480,2, -999.000