BOTTLE,20214727JOAExport
EXPOCODE,SECT_ID,STNNBR,CASTNO,SAMPNO,BTLNBR,BTLNBR_FLAG_W,DATE,TIME,LATITUDE,LONGITUDE,DEPTH,CTDPRS,CTDTMP,CTDSAL,CTDSAL_FLAG_W,SALNTY,SALNTY_FLAG_W,CTDOXY,CTDOXY_FLAG_W,OXYGEN,OXYGEN_FLAG_W,SILCAT,SILCAT_FLAG_W,NINI,NINI_FLAG_W,PHSPHT,PHSPHT_FLAG_W,REVP
,,,,,,,,,,,,DB,IPTS-68,PSS-78,,PSS-78,,UMOL/KG,,UMOL/KG,,UMOL/KG,,UMOL/KG,,UMOL/KG,,DBAR
           NA,HOT timeseries 1988to2019 27SEP2021,    195,  99,-999.0,    8024,-999.0,20080129,1539,  22.7497, -157.9998,  4745,    9.000,   23.079,   35.172,2,   35.171,2,  210.400,2,  212.100,2,    1.170,2,    0.010,2,    0.050,2, -999.000
           NA,HOT timeseries 1988to2019 27SEP2021,    195,  99,-999.0,    8024,-999.0,20080129,1539,  22.7497, -157.9998,  4745,   13.300,   23.106,   35.172,2,   35.172,2,  211.300,2,  211.200,2,    0.670,2,    0.140,2,    0.050,2, -999.000
           NA,HOT timeseries 1988to2019 27SEP2021,    195,  99,-999.0,    8023,-999.0,20080129,1539,  22.7497, -157.9998,  4745,   69.700,   23.117,   35.172,2,   35.172,2,  211.400,2,  212.300,2,    0.600,2,    0.160,2,    0.050,2, -999.000
           NA,HOT timeseries 1988to2019 27SEP2021,    195,  99,-999.0,    8022,-999.0,20080129,1539,  22.7497, -157.9998,  4745,  124.900,   20.954,   35.100,2,   35.097,2,  197.400,2,  197.300,2,    1.400,2,    1.260,2,    0.130,2, -999.000
           NA,HOT timeseries 1988to2019 27SEP2021,    195,  99,-999.0,    8021,-999.0,20080129,1539,  22.7497, -157.9998,  4745,  174.000,   18.699,   34.906,2,   34.912,2,  195.200,2,  196.100,2,    2.890,2,    2.790,2,    0.230,2, -999.000
           NA,HOT timeseries 1988to2019 27SEP2021,    195,  99,-999.0,    8020,-999.0,20080129,1539,  22.7497, -157.9998,  4745,  234.300,   15.842,   34.600,2,   34.602,2,  200.800,2,  200.700,2,    4.920,2,    5.560,2,    0.400,2, -999.000
           NA,HOT timeseries 1988to2019 27SEP2021,    195,  99,-999.0,    8019,-999.0,20080129,1539,  22.7497, -157.9998,  4745,  283.500,   13.918,   34.437,2, -999.000,3, -999.000,3,  204.700,2,    8.490,2,    8.840,2,    0.620,2, -999.000
           NA,HOT timeseries 1988to2019 27SEP2021,    195,  99,-999.0,    8018,-999.0,20080129,1539,  22.7497, -157.9998,  4745,  330.800,   12.311,   34.304,2,   34.306,2,  207.000,2,  206.500,2,   12.330,2,   11.130,2,    0.780,2, -999.000
           NA,HOT timeseries 1988to2019 27SEP2021,    195,  99,-999.0,    8017,-999.0,20080129,1539,  22.7497, -157.9998,  4745,  386.100,   10.384,   34.141,2,   34.140,2,  189.000,2,  191.100,2,   18.790,2,   16.140,2,    1.140,2, -999.000
           NA,HOT timeseries 1988to2019 27SEP2021,    195,  99,-999.0,    8016,-999.0,20080129,1539,  22.7497, -157.9998,  4745,  445.000,    8.988,   34.114,2,   34.117,2,  150.400,2,  151.100,2,   28.960,2,   22.500,2,    1.620,2, -999.000
           NA,HOT timeseries 1988to2019 27SEP2021,    195,  99,-999.0,    8015,-999.0,20080129,1539,  22.7497, -157.9998,  4745,  480.100,    7.956,   34.084,2,   34.090,2,  128.000,2,  127.400,2,   39.000,2,   26.950,2,    1.940,2, -999.000
           NA,HOT timeseries 1988to2019 27SEP2021,    195,  99,-999.0,    8014,-999.0,20080129,1539,  22.7497, -157.9998,  4745,  510.700,    7.471,   34.083,2,   34.084,2,  113.800,2,  112.300,2,   44.840,2,   29.330,2,    2.110,2, -999.000
           NA,HOT timeseries 1988to2019 27SEP2021,    195,  99,-999.0,    8025,-999.0,20080129,1539,  22.7497, -157.9998,  4745,  543.100,    6.821,   34.089,2,   34.090,2,   91.000,2,   89.700,2,   54.080,2,   32.600,2,    2.350,2, -999.000
           NA,HOT timeseries 1988to2019 27SEP2021,    195,  99,-999.0,    8012,-999.0,20080129,1539,  22.7497, -157.9998,  4745,  594.100,    6.108,   34.129,2,   34.129,2,   61.000,2,   60.700,2,   65.330,2,   36.130,2,    2.630,2, -999.000
           NA,HOT timeseries 1988to2019 27SEP2021,    195,  99,-999.0,    8011,-999.0,20080129,1539,  22.7497, -157.9998,  4745,  629.400,    5.866,   34.162,2,   34.160,2,   49.200,2,   50.100,2,   70.820,2,   37.560,2,    2.740,2, -999.000
           NA,HOT timeseries 1988to2019 27SEP2021,    195,  99,-999.0,    8009,-999.0,20080129,1539,  22.7497, -157.9998,  4745,  708.800,    5.339,   34.244,2,   34.243,2,   34.700,2,   34.000,2,   82.520,2,   39.770,2,    2.920,2, -999.000
           NA,HOT timeseries 1988to2019 27SEP2021,    195,  99,-999.0,    8026,-999.0,20080129,1539,  22.7497, -157.9998,  4745,  814.500,    4.704,   34.366,2,   34.365,2,   26.900,2,   27.200,2,   96.750,2,   41.750,2,    3.040,2, -999.000
           NA,HOT timeseries 1988to2019 27SEP2021,    195,  99,-999.0,    8006,-999.0,20080129,1539,  22.7497, -157.9998,  4745,  848.900,    4.620,   34.393,2,   34.391,2,   28.900,2,   28.600,2,   98.510,2,   41.780,2,    3.040,2, -999.000
           NA,HOT timeseries 1988to2019 27SEP2021,    195,  99,-999.0,    8004,-999.0,20080129,1539,  22.7497, -157.9998,  4745,  924.700,    4.318,   34.466,2,   34.467,2,   36.600,2,   36.600,2,  104.200,2,   41.890,2,    3.030,2, -999.000
           NA,HOT timeseries 1988to2019 27SEP2021,    195,  99,-999.0,    8003,-999.0,20080129,1539,  22.7497, -157.9998,  4745,  958.800,    4.192,   34.482,2,   34.482,2,   38.400,2,   38.300,2,  106.580,2,   41.920,2,    3.030,2, -999.000
           NA,HOT timeseries 1988to2019 27SEP2021,    195,  99,-999.0,    8001,-999.0,20080129,1539,  22.7497, -157.9998,  4745, 1020.800,    4.041,   34.491,2,   34.492,2,   40.600,2,   40.700,2,  110.020,2,   41.810,2,    3.020,2, -999.000
           NA,HOT timeseries 1988to2019 27SEP2021,    195,  99,-999.0,    8020,-999.0,20080129,1539,  22.7497, -157.9998,  4745, 1199.700,    3.499,   34.529,2,   34.529,2,   50.500,2,   50.700,2,  120.190,2,   42.050,2,    3.000,2, -999.000
           NA,HOT timeseries 1988to2019 27SEP2021,    195,  99,-999.0,    8019,-999.0,20080129,1539,  22.7497, -157.9998,  4745, 1399.900,    3.083,   34.558,2,   34.558,2,   58.800,2,   59.100,2,  129.590,2,   41.820,2,    2.970,2, -999.000
           NA,HOT timeseries 1988to2019 27SEP2021,    195,  99,-999.0,    8018,-999.0,20080129,1539,  22.7497, -157.9998,  4745, 1599.000,    2.671,   34.584,2,   34.584,2,   69.800,2,   70.600,2,  139.450,2,   41.310,2,    2.920,2, -999.000
           NA,HOT timeseries 1988to2019 27SEP2021,    195,  99,-999.0,    8017,-999.0,20080129,1539,  22.7497, -157.9998,  4745, 1800.800,    2.387,   34.603,2,   34.603,2,   80.000,2,   80.300,2,  144.500,2,   40.680,2,    2.860,2, -999.000
           NA,HOT timeseries 1988to2019 27SEP2021,    195,  99,-999.0,    8016,-999.0,20080129,1539,  22.7497, -157.9998,  4745, 1997.700,    2.194,   34.618,2,   34.618,2,   86.800,2,   87.200,2,  150.960,2,   40.150,2,    2.830,2, -999.000
           NA,HOT timeseries 1988to2019 27SEP2021,    195,  99,-999.0,    8015,-999.0,20080129,1539,  22.7497, -157.9998,  4745, 2200.900,    1.955,   34.634,2,   34.634,2,   98.300,2,   97.600,2,  153.370,2,   39.490,2,    2.770,2, -999.000
           NA,HOT timeseries 1988to2019 27SEP2021,    195,  99,-999.0,    8014,-999.0,20080129,1539,  22.7497, -157.9998,  4745, 2399.100,    1.817,   34.645,2,   34.645,2,  105.500,2,  106.000,2,  155.350,2,   38.940,2,    2.730,2, -999.000
           NA,HOT timeseries 1988to2019 27SEP2021,    195,  99,-999.0,    8025,-999.0,20080129,1539,  22.7497, -157.9998,  4745, 2597.100,    1.699,   34.656,2,   34.656,2,  112.100,2,  112.500,2,  157.410,2,   38.600,2,    2.690,2, -999.000
           NA,HOT timeseries 1988to2019 27SEP2021,    195,  99,-999.0,    8012,-999.0,20080129,1539,  22.7497, -157.9998,  4745, 2800.700,    1.607,   34.664,2,   34.664,2,  119.600,2,  120.500,2,  158.070,2,   38.040,2,    2.650,2, -999.000
           NA,HOT timeseries 1988to2019 27SEP2021,    195,  99,-999.0,    8011,-999.0,20080129,1539,  22.7497, -157.9998,  4745, 3001.000,    1.551,   34.670,2,   34.670,2,  125.600,2,  125.100,2,  158.900,2,   37.700,2,    2.610,2, -999.000
           NA,HOT timeseries 1988to2019 27SEP2021,    195,  99,-999.0,    8010,-999.0,20080129,1539,  22.7497, -157.9998,  4745, 3201.900,    1.527,   34.673,2,   34.674,2,  129.900,2,  130.400,2,  157.350,2,   37.580,2,    2.600,2, -999.000
           NA,HOT timeseries 1988to2019 27SEP2021,    195,  99,-999.0,    8009,-999.0,20080129,1539,  22.7497, -157.9998,  4745, 3398.100,    1.485,   34.679,2,   34.679,2,  136.100,2,  135.900,2,  156.830,2,   36.970,2,    2.560,2, -999.000
           NA,HOT timeseries 1988to2019 27SEP2021,    195,  99,-999.0,    8006,-999.0,20080129,1539,  22.7497, -157.9998,  4745, 3999.500,    1.458,   34.687,2,   34.687,2,  147.800,2,  147.500,2,  152.200,2,   36.250,2,    2.510,2, -999.000
           NA,HOT timeseries 1988to2019 27SEP2021,    195,  99,-999.0,    8005,-999.0,20080129,1539,  22.7497, -157.9998,  4745, 4196.600,    1.464,   34.688,2,   34.688,2,  150.000,2,  149.200,2,  150.970,2,   36.060,2,    2.500,2, -999.000
           NA,HOT timeseries 1988to2019 27SEP2021,    195,  99,-999.0,    8004,-999.0,20080129,1539,  22.7497, -157.9998,  4745, 4399.900,    1.479,   34.689,2,   34.689,2,  151.400,2,  151.800,2,  150.930,2,   35.960,2,    2.490,2, -999.000
           NA,HOT timeseries 1988to2019 27SEP2021,    195,  99,-999.0,    8003,-999.0,20080129,1539,  22.7497, -157.9998,  4745, 4499.600,    1.488,   34.689,2,   34.689,2,  151.600,2,  151.100,2,  150.070,2, -999.000,3,    2.490,2, -999.000
           NA,HOT timeseries 1988to2019 27SEP2021,    195,  99,-999.0,    8002,-999.0,20080129,1539,  22.7497, -157.9998,  4745, 4598.700,    1.497,   34.689,2,   34.689,2,  152.100,2, -999.000,5, -999.000,4, -999.000,3,    2.490,2, -999.000
           NA,HOT timeseries 1988to2019 27SEP2021,    195,  99,-999.0,    8001,-999.0,20080129,1539,  22.7497, -157.9998,  4745, 4807.600,    1.516,   34.690,2,   34.690,2,  152.700,2,  152.900,2,  148.110,2,   35.860,2,    2.480,2, -999.000
           NA,HOT timeseries 1988to2019 27SEP2021,    196,  99,-999.0,    8024,-999.0,20080223,1608,  22.7505, -157.9985,  4737,    7.700,   23.745,   35.159,2,   35.160,2,  217.000,2,  212.900,2,    1.340,2,    0.040,2,    0.060,2, -999.000
           NA,HOT timeseries 1988to2019 27SEP2021,    196,  99,-999.0,    8024,-999.0,20080223,1608,  22.7505, -157.9985,  4737,   12.800,   23.575,   35.170,2,   35.172,2,  217.000,2,  213.800,2,    1.090,2,    0.110,2,    0.050,2, -999.000
           NA,HOT timeseries 1988to2019 27SEP2021,    196,  99,-999.0,    8023,-999.0,20080223,1608,  22.7505, -157.9985,  4737,   60.400,   23.015,   35.188,2,   35.188,2,  216.100,2,  213.900,2,    1.070,2,    0.080,2,    0.040,2, -999.000
           NA,HOT timeseries 1988to2019 27SEP2021,    196,  99,-999.0,    8022,-999.0,20080223,1608,  22.7505, -157.9985,  4737,  125.300,   21.620,   35.149,2,   35.145,2,  203.100,2, -999.000,5,    1.640,2,    0.780,2,    0.130,2, -999.000
           NA,HOT timeseries 1988to2019 27SEP2021,    196,  99,-999.0,    8021,-999.0,20080223,1608,  22.7505, -157.9985,  4737,  179.700,   19.132,   34.966,2,   34.976,2,  193.500,2,  192.700,2,    2.450,2,    2.650,2,    0.240,2, -999.000
           NA,HOT timeseries 1988to2019 27SEP2021,    196,  99,-999.0,    8020,-999.0,20080223,1608,  22.7505, -157.9985,  4737,  235.300,   15.437,   34.485,2,   34.480,2,  193.400,2,  190.400,2,    5.610,2,    6.560,2,    0.520,2, -999.000
           NA,HOT timeseries 1988to2019 27SEP2021,    196,  99,-999.0,    8019,-999.0,20080223,1608,  22.7505, -157.9985,  4737,  285.600,   13.231,   34.280,2,   34.291,2,  202.900,2,  198.300,2,    8.980,2,    9.630,2,    0.710,2, -999.000
           NA,HOT timeseries 1988to2019 27SEP2021,    196,  99,-999.0,    8018,-999.0,20080223,1608,  22.7505, -157.9985,  4737,  311.900,   12.495,   34.318,2,   34.322,2,  205.800,2,  205.300,2,   12.110,2,   10.920,2,    0.770,2, -999.000
           NA,HOT timeseries 1988to2019 27SEP2021,    196,  99,-999.0,    8017,-999.0,20080223,1608,  22.7505, -157.9985,  4737,  358.300,   10.965,   34.211,2,   34.212,2,  201.800,2,  201.700,2,   16.500,2,   14.240,2,    0.990,2, -999.000
           NA,HOT timeseries 1988to2019 27SEP2021,    196,  99,-999.0,    8016,-999.0,20080223,1608,  22.7505, -157.9985,  4737,  424.900,    8.930,   34.104,2,   34.104,2,  171.700,2,  170.400,2,   28.850,2,   21.280,2,    1.490,2, -999.000
           NA,HOT timeseries 1988to2019 27SEP2021,    196,  99,-999.0,    8015,-999.0,20080223,1608,  22.7505, -157.9985,  4737,  490.900,    7.330,   34.055,2,   34.055,2,  130.300,2,  130.000,2,   45.220,2,   28.150,2,    2.000,2, -999.000
           NA,HOT timeseries 1988to2019 27SEP2021,    196,  99,-999.0,    8014,-999.0,20080223,1608,  22.7505, -157.9985,  4737,  528.700,    6.537,   34.046,2,   34.045,2,  107.100,2,  107.200,2,   54.760,2,   31.560,2,    2.260,2, -999.000
           NA,HOT timeseries 1988to2019 27SEP2021,    196,  99,-999.0,    8025,-999.0,20080223,1608,  22.7505, -157.9985,  4737,  542.800,    6.363,   34.048,2,   34.048,2,  102.000,2,  101.700,2,   57.800,2,   32.590,2,    2.330,2, -999.000
           NA,HOT timeseries 1988to2019 27SEP2021,    196,  99,-999.0,    8011,-999.0,20080223,1608,  22.7505, -157.9985,  4737,  649.500,    5.397,   34.141,2,   34.139,2,   45.400,2,   44.100,2,   79.000,2,   38.740,2,    2.820,2, -999.000
           NA,HOT timeseries 1988to2019 27SEP2021,    196,  99,-999.0,    8010,-999.0,20080223,1608,  22.7505, -157.9985,  4737,  680.400,    5.184,   34.178,2,   34.177,2,   36.900,2,   36.700,2,   85.240,2,   39.830,2,    2.900,2, -999.000
           NA,HOT timeseries 1988to2019 27SEP2021,    196,  99,-999.0,    8009,-999.0,20080223,1608,  22.7505, -157.9985,  4737,  713.300,    4.934,   34.209,2,   34.208,2,   34.800,2,   33.600,2,   89.180,2,   40.570,2,    2.950,2, -999.000
           NA,HOT timeseries 1988to2019 27SEP2021,    196,  99,-999.0,    8006,-999.0,20080223,1608,  22.7505, -157.9985,  4737,  825.100,    4.424,   34.345,2,   34.344,2,   26.200,2,   27.100,2,  102.450,2,   41.950,2,    3.060,2, -999.000
           NA,HOT timeseries 1988to2019 27SEP2021,    196,  99,-999.0,    8005,-999.0,20080223,1608,  22.7505, -157.9985,  4737,  854.500,    4.365,   34.383,2,   34.382,2,   28.600,2,   28.100,2,  103.950,2,   42.270,2,    3.070,2, -999.000
           NA,HOT timeseries 1988to2019 27SEP2021,    196,  99,-999.0,    8004,-999.0,20080223,1608,  22.7505, -157.9985,  4737,  900.200,    4.176,   34.431,2,   34.430,2,   34.000,2,   34.000,2,  107.450,2,   42.110,2,    3.060,2, -999.000
           NA,HOT timeseries 1988to2019 27SEP2021,    196,  99,-999.0,    8003,-999.0,20080223,1608,  22.7505, -157.9985,  4737,  924.900,    4.096,   34.454,2,   34.454,2,   37.400,2,   37.800,2,  108.960,2,   42.070,2,    3.040,2, -999.000
           NA,HOT timeseries 1988to2019 27SEP2021,    196,  99,-999.0,    8002,-999.0,20080223,1608,  22.7505, -157.9985,  4737,  970.900,    3.973,   34.471,2,   34.470,2,   39.900,2,   40.200,2,  111.290,2,   42.020,2,    3.050,2, -999.000
           NA,HOT timeseries 1988to2019 27SEP2021,    196,  99,-999.0,    8001,-999.0,20080223,1608,  22.7505, -157.9985,  4737, 1022.300,    3.834,   34.492,2,   34.492,2,   43.700,2,   44.100,2,  114.520,2,   41.830,2,    3.020,2, -999.000
           NA,HOT timeseries 1988to2019 27SEP2021,    196,  99,-999.0,    8020,-999.0,20080223,1608,  22.7505, -157.9985,  4737, 1200.600,    3.495,   34.526,2,   34.525,2,   51.200,2,   50.600,2,  120.450,2,   41.890,2,    2.990,2, -999.000
           NA,HOT timeseries 1988to2019 27SEP2021,    196,  99,-999.0,    8019,-999.0,20080223,1608,  22.7505, -157.9985,  4737, 1400.900,    3.036,   34.560,2,   34.559,2,   60.500,2,   61.400,2,  130.200,2,   41.680,2,    2.940,2, -999.000
           NA,HOT timeseries 1988to2019 27SEP2021,    196,  99,-999.0,    8018,-999.0,20080223,1608,  22.7505, -157.9985,  4737, 1602.300,    2.749,   34.582,2,   34.581,2,   68.000,2,   68.400,2,  136.850,2,   41.460,2,    2.920,2, -999.000
           NA,HOT timeseries 1988to2019 27SEP2021,    196,  99,-999.0,    8017,-999.0,20080223,1608,  22.7505, -157.9985,  4737, 1800.800,    2.458,   34.601,2,   34.601,2,   77.300,2,   77.700,2,  144.350,2,   40.840,2,    2.870,2, -999.000
           NA,HOT timeseries 1988to2019 27SEP2021,    196,  99,-999.0,    8016,-999.0,20080223,1608,  22.7505, -157.9985,  4737, 2000.300,    2.142,   34.620,2,   34.620,2,   86.600,2,   87.400,2,  150.830,2,   40.330,2,    2.830,2, -999.000
           NA,HOT timeseries 1988to2019 27SEP2021,    196,  99,-999.0,    8015,-999.0,20080223,1608,  22.7505, -157.9985,  4737, 2200.600,    1.978,   34.634,2,   34.633,2,   97.200,2,   97.100,2,  152.630,2,   39.720,2,    2.770,2, -999.000
           NA,HOT timeseries 1988to2019 27SEP2021,    196,  99,-999.0,    8014,-999.0,20080223,1608,  22.7505, -157.9985,  4737, 2399.900,    1.819,   34.647,2,   34.647,2,  105.500,2,  105.400,2,  155.150,2,   39.160,2,    2.730,2, -999.000
           NA,HOT timeseries 1988to2019 27SEP2021,    196,  99,-999.0,    8025,-999.0,20080223,1608,  22.7505, -157.9985,  4737, 2601.100,    1.697,   34.655,2,   34.655,2,  110.200,2,  111.400,2,  158.460,2, -999.000,3,    2.710,2, -999.000
           NA,HOT timeseries 1988to2019 27SEP2021,    196,  99,-999.0,    8012,-999.0,20080223,1608,  22.7505, -157.9985,  4737, 2799.600,    1.618,   34.664,2,   34.665,2,  119.000,2,  119.300,2,  157.670,2,   38.120,2,    2.650,2, -999.000
           NA,HOT timeseries 1988to2019 27SEP2021,    196,  99,-999.0,    8011,-999.0,20080223,1608,  22.7505, -157.9985,  4737, 2999.400,    1.548,   34.671,2,   34.671,2,  125.100,2,  125.700,2,  158.320,2,   37.690,2,    2.610,2, -999.000
           NA,HOT timeseries 1988to2019 27SEP2021,    196,  99,-999.0,    8010,-999.0,20080223,1608,  22.7505, -157.9985,  4737, 3200.000,    1.504,   34.676,2,   34.676,2,  131.700,2,  132.400,2,  156.690,2,   37.240,2,    2.580,2, -999.000
           NA,HOT timeseries 1988to2019 27SEP2021,    196,  99,-999.0,    8009,-999.0,20080223,1608,  22.7505, -157.9985,  4737, 3400.300,    1.477,   34.680,2,   34.679,2,  136.700,2,  137.300,2,  157.330,2,   36.910,2,    2.560,2, -999.000
           NA,HOT timeseries 1988to2019 27SEP2021,    196,  99,-999.0,    8008,-999.0,20080223,1608,  22.7505, -157.9985,  4737, 3599.000,    1.463,   34.683,2,   34.682,2,  140.900,2,  141.000,2,  154.090,2,   36.670,2,    2.530,2, -999.000
           NA,HOT timeseries 1988to2019 27SEP2021,    196,  99,-999.0,    8026,-999.0,20080223,1608,  22.7505, -157.9985,  4737, 3801.000,    1.455,   34.686,2,   34.685,2,  144.800,2,  145.100,2,  153.120,2,   36.430,2,    2.510,2, -999.000
           NA,HOT timeseries 1988to2019 27SEP2021,    196,  99,-999.0,    8006,-999.0,20080223,1608,  22.7505, -157.9985,  4737, 4000.600,    1.456,   34.688,2,   34.687,2,  147.900,2,  147.500,2,  151.510,2,   36.260,2,    2.500,2, -999.000
           NA,HOT timeseries 1988to2019 27SEP2021,    196,  99,-999.0,    8005,-999.0,20080223,1608,  22.7505, -157.9985,  4737, 4199.200,    1.465,   34.689,2,   34.688,2,  150.300,2,  149.800,2,  149.880,2,   36.140,2,    2.480,2, -999.000
           NA,HOT timeseries 1988to2019 27SEP2021,    196,  99,-999.0,    8004,-999.0,20080223,1608,  22.7505, -157.9985,  4737, 4399.700,    1.479,   34.689,2,   34.689,2,  151.300,2,  150.800,2,  149.240,2,   36.110,2,    2.480,2, -999.000
           NA,HOT timeseries 1988to2019 27SEP2021,    196,  99,-999.0,    8003,-999.0,20080223,1608,  22.7505, -157.9985,  4737, 4498.600,    1.487,   34.690,2,   34.690,2,  152.000,2,  151.700,2,  149.050,2,   36.040,2,    2.480,2, -999.000
           NA,HOT timeseries 1988to2019 27SEP2021,    196,  99,-999.0,    8002,-999.0,20080223,1608,  22.7505, -157.9985,  4737, 4600.200,    1.495,   34.690,2,   34.690,2,  152.700,2,  152.800,2,  149.140,2,   35.920,2,    2.470,2, -999.000
           NA,HOT timeseries 1988to2019 27SEP2021,    196,  99,-999.0,    8001,-999.0,20080223,1608,  22.7505, -157.9985,  4737, 4804.600,    1.511,   34.691,2,   34.691,2,  153.900,2,  153.600,2,  147.810,2,   35.920,2,    2.460,2, -999.000