BOTTLE,20214727JOAExport
EXPOCODE,SECT_ID,STNNBR,CASTNO,SAMPNO,BTLNBR,BTLNBR_FLAG_W,DATE,TIME,LATITUDE,LONGITUDE,DEPTH,CTDPRS,CTDTMP,CTDSAL,CTDSAL_FLAG_W,SALNTY,SALNTY_FLAG_W,CTDOXY,CTDOXY_FLAG_W,OXYGEN,OXYGEN_FLAG_W,SILCAT,SILCAT_FLAG_W,NINI,NINI_FLAG_W,PHSPHT,PHSPHT_FLAG_W,REVP
,,,,,,,,,,,,DB,IPTS-68,PSS-78,,PSS-78,,UMOL/KG,,UMOL/KG,,UMOL/KG,,UMOL/KG,,UMOL/KG,,DBAR
           NA,HOT timeseries 1988to2019 27SEP2021,    214,  99,-999.0,    8024,-999.0,20110228,1437,  22.7502, -158.0000,  4747,    6.800,   24.434,   35.253,2,   35.254,2,  208.500,2,  208.200,2,    0.900,2,    0.020,2,    0.040,2, -999.000
           NA,HOT timeseries 1988to2019 27SEP2021,    214,  99,-999.0,    8024,-999.0,20110228,1437,  22.7502, -158.0000,  4747,   38.100,   23.818,   35.328,2,   35.329,2,  209.800,2,  210.800,2,    1.030,2,    0.010,2,    0.050,2, -999.000
           NA,HOT timeseries 1988to2019 27SEP2021,    214,  99,-999.0,    8023,-999.0,20110228,1437,  22.7502, -158.0000,  4747,  101.500,   22.211,   35.396,2,   35.401,2,  207.200,2,  206.700,2,    1.350,2,    0.210,2,    0.060,2, -999.000
           NA,HOT timeseries 1988to2019 27SEP2021,    214,  99,-999.0,    8022,-999.0,20110228,1437,  22.7502, -158.0000,  4747,  159.200,   19.392,   35.074,2,   35.086,2,  196.200,2,  197.300,2,    2.190,2,    1.850,2,    0.230,2, -999.000
           NA,HOT timeseries 1988to2019 27SEP2021,    214,  99,-999.0,    8021,-999.0,20110228,1437,  22.7502, -158.0000,  4747,  190.400,   18.081,   34.875,2,   34.888,2,  197.800,2,  197.300,2,    3.060,2,    2.960,2,    0.250,2, -999.000
           NA,HOT timeseries 1988to2019 27SEP2021,    214,  99,-999.0,    8020,-999.0,20110228,1437,  22.7502, -158.0000,  4747,  214.900,   17.015,   34.756,2,   34.751,2,  204.700,2,  204.200,2,    3.770,2,    3.380,2,    0.270,2, -999.000
           NA,HOT timeseries 1988to2019 27SEP2021,    214,  99,-999.0,    8019,-999.0,20110228,1437,  22.7502, -158.0000,  4747,  232.000,   16.020,   34.605,2,   34.617,2,  204.000,2,  202.300,2,    4.380,2,    4.360,2,    0.340,2, -999.000
           NA,HOT timeseries 1988to2019 27SEP2021,    214,  99,-999.0,    8018,-999.0,20110228,1437,  22.7502, -158.0000,  4747,  275.000,   13.525,   34.340,2,   34.339,2,  204.300,2,  202.600,2,    8.030,2,    8.770,2,    0.640,2, -999.000
           NA,HOT timeseries 1988to2019 27SEP2021,    214,  99,-999.0,    8017,-999.0,20110228,1437,  22.7502, -158.0000,  4747,  315.000,   12.179,   34.267,2,   34.270,2,  203.600,2,  203.100,2,   11.040,2,   11.440,2,    0.810,2, -999.000
           NA,HOT timeseries 1988to2019 27SEP2021,    214,  99,-999.0,    8016,-999.0,20110228,1437,  22.7502, -158.0000,  4747,  352.300,   11.004,   34.204,2,   34.202,2,  200.300,2,  202.400,2,   15.090,2,   14.170,2,    0.980,2, -999.000
           NA,HOT timeseries 1988to2019 27SEP2021,    214,  99,-999.0,    8015,-999.0,20110228,1437,  22.7502, -158.0000,  4747,  369.500,   10.396,   34.163,2,   34.157,2,  193.700,2,  195.300,2,   18.140,2,   16.100,2,    1.120,2, -999.000
           NA,HOT timeseries 1988to2019 27SEP2021,    214,  99,-999.0,    8014,-999.0,20110228,1437,  22.7502, -158.0000,  4747,  390.000,    9.917,   34.131,2,   34.135,2,  195.500,2,  193.800,2,   19.590,2,   16.960,2,    1.180,2, -999.000
           NA,HOT timeseries 1988to2019 27SEP2021,    214,  99,-999.0,    8025,-999.0,20110228,1437,  22.7502, -158.0000,  4747,  431.900,    8.721,   34.075,2,   34.075,2,  169.900,2,  169.300,2,   28.990,2,   21.890,2,    1.520,2, -999.000
           NA,HOT timeseries 1988to2019 27SEP2021,    214,  99,-999.0,    8012,-999.0,20110228,1437,  22.7502, -158.0000,  4747,  486.000,    7.330,   34.042,2,   34.042,2,  122.800,2,  123.500,2,   43.920,2,   28.910,2,    2.040,2, -999.000
           NA,HOT timeseries 1988to2019 27SEP2021,    214,  99,-999.0,    8011,-999.0,20110228,1437,  22.7502, -158.0000,  4747,  528.000,    6.510,   34.052,2,   34.051,2,   94.400,2,   93.900,2,   55.810,2,   33.010,2,    2.340,2, -999.000
           NA,HOT timeseries 1988to2019 27SEP2021,    214,  99,-999.0,    8010,-999.0,20110228,1437,  22.7502, -158.0000,  4747,  577.800,    5.777,   34.069,2,   34.068,2,   72.900,2,   72.200,2,   67.210,2,   36.430,2,    2.580,2, -999.000
           NA,HOT timeseries 1988to2019 27SEP2021,    214,  99,-999.0,    8009,-999.0,20110228,1437,  22.7502, -158.0000,  4747,  632.300,    5.353,   34.133,2,   34.135,2,   48.600,2,   45.900,2,   78.000,2,   39.150,2,    2.820,2, -999.000
           NA,HOT timeseries 1988to2019 27SEP2021,    214,  99,-999.0,    8008,-999.0,20110228,1437,  22.7502, -158.0000,  4747,  693.700,    4.921,   34.234,2,   34.231,2,   29.700,2,   28.800,2,   88.910,2,   41.500,2,    3.000,2, -999.000
           NA,HOT timeseries 1988to2019 27SEP2021,    214,  99,-999.0,    8026,-999.0,20110228,1437,  22.7502, -158.0000,  4747,  732.700,    4.746,   34.276,2,   34.275,2,   26.700,2,   25.800,2,   94.030,2,   42.010,2,    3.040,2, -999.000
           NA,HOT timeseries 1988to2019 27SEP2021,    214,  99,-999.0,    8005,-999.0,20110228,1437,  22.7502, -158.0000,  4747,  820.200,    4.511,   34.331,2,   34.332,2,   25.700,2,   25.400,2,   99.550,2,   42.210,2,    3.050,2, -999.000
           NA,HOT timeseries 1988to2019 27SEP2021,    214,  99,-999.0,    8004,-999.0,20110228,1437,  22.7502, -158.0000,  4747,  869.500,    4.352,   34.390,2, -999.000,4, -999.000,3,   30.800,2,  102.980,2,   42.420,2,    3.020,2, -999.000
           NA,HOT timeseries 1988to2019 27SEP2021,    214,  99,-999.0,    8003,-999.0,20110228,1437,  22.7502, -158.0000,  4747,  930.800,    4.174,   34.439,2,   34.440,2,   38.600,2,   37.800,2,  106.410,2,   42.080,2,    3.010,2, -999.000
           NA,HOT timeseries 1988to2019 27SEP2021,    214,  99,-999.0,    8002,-999.0,20110228,1437,  22.7502, -158.0000,  4747,  991.400,    3.977,   34.468,2,   34.469,2,   44.000,2,   43.700,2,  110.090,2,   41.930,2,    3.000,2, -999.000
           NA,HOT timeseries 1988to2019 27SEP2021,    214,  99,-999.0,    8001,-999.0,20110228,1437,  22.7502, -158.0000,  4747, 1019.300,    3.926,   34.476,2,   34.477,2,   44.400,2,   45.100,2,  110.970,2,   41.930,2,    3.000,2, -999.000
           NA,HOT timeseries 1988to2019 27SEP2021,    214,  99,-999.0,    8020,-999.0,20110228,1437,  22.7502, -158.0000,  4747, 1199.800,    3.367,   34.531,2,   34.529,2,   54.400,2,   55.000,2,  122.820,2,   41.220,2,    2.940,2, -999.000
           NA,HOT timeseries 1988to2019 27SEP2021,    214,  99,-999.0,    8019,-999.0,20110228,1437,  22.7502, -158.0000,  4747, 1399.600,    2.881,   34.564,2,   34.564,2,   64.100,2,   64.800,2,  133.410,2,   40.820,2,    2.910,2, -999.000
           NA,HOT timeseries 1988to2019 27SEP2021,    214,  99,-999.0,    8018,-999.0,20110228,1437,  22.7502, -158.0000,  4747, 1601.600,    2.578,   34.588,2,   34.588,2,   73.300,2,   74.500,2,  139.650,2,   40.450,2,    2.870,2, -999.000
           NA,HOT timeseries 1988to2019 27SEP2021,    214,  99,-999.0,    8017,-999.0,20110228,1437,  22.7502, -158.0000,  4747, 1801.600,    2.317,   34.606,2,   34.605,2,   81.800,2,   82.000,2,  145.390,2,   40.010,2,    2.830,2, -999.000
           NA,HOT timeseries 1988to2019 27SEP2021,    214,  99,-999.0,    8016,-999.0,20110228,1437,  22.7502, -158.0000,  4747, 1998.900,    2.115,   34.622,2,   34.622,2,   88.900,2,   89.500,2,  149.910,2,   39.560,2,    2.780,2, -999.000
           NA,HOT timeseries 1988to2019 27SEP2021,    214,  99,-999.0,    8015,-999.0,20110228,1437,  22.7502, -158.0000,  4747, 2198.000,    1.938,   34.634,2,   34.633,2,   96.400,2,   96.100,2,  155.120,2,   39.150,2,    2.750,2, -999.000
           NA,HOT timeseries 1988to2019 27SEP2021,    214,  99,-999.0,    8014,-999.0,20110228,1437,  22.7502, -158.0000,  4747, 2399.200,    1.799,   34.645,2,   34.644,2,  102.000,2,  102.700,2,  156.990,2,   38.770,2,    2.710,2, -999.000
           NA,HOT timeseries 1988to2019 27SEP2021,    214,  99,-999.0,    8025,-999.0,20110228,1437,  22.7502, -158.0000,  4747, 2600.000,    1.681,   34.654,2,   34.655,2,  108.800,2,  109.000,2,  159.250,2,   38.390,2,    2.690,2, -999.000
           NA,HOT timeseries 1988to2019 27SEP2021,    214,  99,-999.0,    8012,-999.0,20110228,1437,  22.7502, -158.0000,  4747, 2799.800,    1.604,   34.663,2,   34.664,2,  116.600,2,  117.300,2,  159.980,2,   38.280,2,    2.650,2, -999.000
           NA,HOT timeseries 1988to2019 27SEP2021,    214,  99,-999.0,    8011,-999.0,20110228,1437,  22.7502, -158.0000,  4747, 2999.400,    1.547,   34.670,2,   34.669,2,  122.800,2,  123.200,2,  159.180,2,   37.350,2,    2.590,2, -999.000
           NA,HOT timeseries 1988to2019 27SEP2021,    214,  99,-999.0,    8010,-999.0,20110228,1437,  22.7502, -158.0000,  4747, 3198.900,    1.500,   34.676,2,   34.675,2,  130.000,2,  130.600,2,  158.420,2,   36.990,2,    2.570,2, -999.000
           NA,HOT timeseries 1988to2019 27SEP2021,    214,  99,-999.0,    8009,-999.0,20110228,1437,  22.7502, -158.0000,  4747, 3397.900,    1.478,   34.680,2,   34.679,2,  135.200,2,  134.900,2,  156.490,2,   36.670,2,    2.550,2, -999.000
           NA,HOT timeseries 1988to2019 27SEP2021,    214,  99,-999.0,    8008,-999.0,20110228,1437,  22.7502, -158.0000,  4747, 3600.800,    1.462,   34.683,2,   34.681,2,  139.900,2,  140.000,2,  154.770,2,   36.480,2,    2.530,2, -999.000
           NA,HOT timeseries 1988to2019 27SEP2021,    214,  99,-999.0,    8026,-999.0,20110228,1437,  22.7502, -158.0000,  4747, 3797.500,    1.454,   34.685,2,   34.684,2,  143.700,2,  143.500,2,  152.930,2,   36.020,2,    2.510,2, -999.000
           NA,HOT timeseries 1988to2019 27SEP2021,    214,  99,-999.0,    8006,-999.0,20110228,1437,  22.7502, -158.0000,  4747, 3998.900,    1.454,   34.687,2,   34.686,2,  146.900,2,  146.900,2,  150.850,2,   35.890,2,    2.510,2, -999.000
           NA,HOT timeseries 1988to2019 27SEP2021,    214,  99,-999.0,    8005,-999.0,20110228,1437,  22.7502, -158.0000,  4747, 4196.500,    1.463,   34.688,2,   34.688,2,  149.300,2,  148.400,2,  150.040,2,   35.740,2,    2.490,2, -999.000
           NA,HOT timeseries 1988to2019 27SEP2021,    214,  99,-999.0,    8004,-999.0,20110228,1437,  22.7502, -158.0000,  4747, 4395.800,    1.476,   34.689,2,   34.688,2,  150.600,2,  151.500,2,  148.970,2,   35.680,2,    2.490,2, -999.000
           NA,HOT timeseries 1988to2019 27SEP2021,    214,  99,-999.0,    8003,-999.0,20110228,1437,  22.7502, -158.0000,  4747, 4498.900,    1.484,   34.689,2,   34.689,2,  151.500,2,  151.200,2,  148.780,2,   35.610,2,    2.490,2, -999.000
           NA,HOT timeseries 1988to2019 27SEP2021,    214,  99,-999.0,    8002,-999.0,20110228,1437,  22.7502, -158.0000,  4747, 4598.000,    1.491,   34.689,2,   34.689,2,  152.100,2,  151.900,2,  148.380,2,   35.580,2,    2.490,2, -999.000
           NA,HOT timeseries 1988to2019 27SEP2021,    214,  99,-999.0,    8001,-999.0,20110228,1437,  22.7502, -158.0000,  4747, 4807.400,    1.509,   34.690,2,   34.690,2,  153.400,2,  152.700,2,  147.370,2,   35.590,2,    2.460,2, -999.000