BOTTLE,20214727JOAExport
EXPOCODE,SECT_ID,STNNBR,CASTNO,SAMPNO,BTLNBR,BTLNBR_FLAG_W,DATE,TIME,LATITUDE,LONGITUDE,DEPTH,CTDPRS,CTDTMP,CTDSAL,CTDSAL_FLAG_W,SALNTY,SALNTY_FLAG_W,CTDOXY,CTDOXY_FLAG_W,OXYGEN,OXYGEN_FLAG_W,SILCAT,SILCAT_FLAG_W,NINI,NINI_FLAG_W,PHSPHT,PHSPHT_FLAG_W,REVP
,,,,,,,,,,,,DB,IPTS-68,PSS-78,,PSS-78,,UMOL/KG,,UMOL/KG,,UMOL/KG,,UMOL/KG,,UMOL/KG,,DBAR
           NA,HOT timeseries 1988to2019 27SEP2021,     33,  99,-999.0,      23,-999.0,19920417,0003,  22.7525, -158.0030,  4719,    7.900,   23.769,   35.087,2,   35.085,2,  203.800,2,  213.100,2,    1.510,2,   -0.010,2,    0.090,2, -999.000
           NA,HOT timeseries 1988to2019 27SEP2021,     33,  99,-999.0,      22,-999.0,19920417,0003,  22.7525, -158.0030,  4719,   15.100,   23.709,   35.088,2,   35.089,2,  203.900,2,  212.800,2,    1.550,2,    0.000,2,    0.080,2, -999.000
           NA,HOT timeseries 1988to2019 27SEP2021,     33,  99,-999.0,      23,-999.0,19920417,0003,  22.7525, -158.0030,  4719,   19.000,   23.528,   35.071,2,   35.075,2,  212.700,2,  212.700,2,    0.980,2,    0.000,2,    0.080,2, -999.000
           NA,HOT timeseries 1988to2019 27SEP2021,     33,  99,-999.0,      21,-999.0,19920417,0003,  22.7525, -158.0030,  4719,   19.900,   23.584,   35.089,2,   35.097,2,  210.100,2,  213.500,2,    1.550,2,    0.000,2,    0.090,2, -999.000
           NA,HOT timeseries 1988to2019 27SEP2021,     33,  99,-999.0,      20,-999.0,19920417,0003,  22.7525, -158.0030,  4719,   24.700,   23.545,   35.085,2,   35.085,2,  212.300,2,  213.600,2,    1.670,2,    0.000,2,    0.090,2, -999.000
           NA,HOT timeseries 1988to2019 27SEP2021,     33,  99,-999.0,      19,-999.0,19920417,0003,  22.7525, -158.0030,  4719,   36.900,   23.461,   35.088,2,   35.088,2,  212.800,2,  213.800,2,    1.470,2,    0.000,2,    0.090,2, -999.000
           NA,HOT timeseries 1988to2019 27SEP2021,     33,  99,-999.0,      18,-999.0,19920417,0003,  22.7525, -158.0030,  4719,   44.900,   23.409,   35.091,2,   35.093,2,  213.200,2,  214.800,2,    1.380,2,    0.000,2,    0.080,2, -999.000
           NA,HOT timeseries 1988to2019 27SEP2021,     33,  99,-999.0,      17,-999.0,19920417,0003,  22.7525, -158.0030,  4719,   55.200,   22.922,   35.158,2,   35.158,2,  215.700,2,  217.200,2,    1.450,2,    0.000,2,    0.070,2, -999.000
           NA,HOT timeseries 1988to2019 27SEP2021,     33,  99,-999.0,      16,-999.0,19920417,0003,  22.7525, -158.0030,  4719,   64.900,   22.568,   35.186,2,   35.188,2,  216.300,2,  215.700,2,    1.550,2,    0.000,2,    0.080,2, -999.000
           NA,HOT timeseries 1988to2019 27SEP2021,     33,  99,-999.0,      15,-999.0,19920417,0003,  22.7525, -158.0030,  4719,   80.300,   22.262,   35.183,2,   35.188,2,  215.300,2,  215.300,2,    1.460,2,    0.000,2,    0.080,2, -999.000
           NA,HOT timeseries 1988to2019 27SEP2021,     33,  99,-999.0,      22,-999.0,19920417,0003,  22.7525, -158.0030,  4719,   83.700,   21.544,   35.170,2,   35.177,2,  211.000,2,  211.800,2,    1.010,2,    0.000,2,    0.080,2, -999.000
           NA,HOT timeseries 1988to2019 27SEP2021,     33,  99,-999.0,      14,-999.0,19920417,0003,  22.7525, -158.0030,  4719,   92.200,   21.962,   35.199,2,   35.201,2,  214.500,2,  215.000,2,    1.550,2,    0.000,2,    0.080,2, -999.000
           NA,HOT timeseries 1988to2019 27SEP2021,     33,  99,-999.0,      13,-999.0,19920417,0003,  22.7525, -158.0030,  4719,  124.900,   20.505,   35.137,2,   35.141,2,  201.400,2,  198.700,2,    2.110,2,    1.040,2,    0.190,2, -999.000
           NA,HOT timeseries 1988to2019 27SEP2021,     33,  99,-999.0,      12,-999.0,19920417,0003,  22.7525, -158.0030,  4719,  200.800,   17.024,   34.842,2,   34.840,2,  192.800,2,  196.600,2,    4.190,2,    4.190,2,    0.380,2, -999.000
           NA,HOT timeseries 1988to2019 27SEP2021,     33,  99,-999.0,      11,-999.0,19920417,0003,  22.7525, -158.0030,  4719,  288.100,   12.360,   34.301,2,   34.303,2,  187.700,2,  193.900,2,   11.190,2,   11.270,2,    0.840,2, -999.000
           NA,HOT timeseries 1988to2019 27SEP2021,     33,  99,-999.0,      10,-999.0,19920417,0003,  22.7525, -158.0030,  4719,  316.900,   11.073,   34.206,2,   34.210,2,  184.700,2,  190.300,2,   15.170,2,   14.400,2,    1.060,2, -999.000
           NA,HOT timeseries 1988to2019 27SEP2021,     33,  99,-999.0,       9,-999.0,19920417,0003,  22.7525, -158.0030,  4719,  388.800,    8.954,   34.092,2,   34.091,2,  180.100,2,  183.000,2,   25.600,2,   19.860,2,    1.410,2, -999.000
           NA,HOT timeseries 1988to2019 27SEP2021,     33,  99,-999.0,       8,-999.0,19920417,0003,  22.7525, -158.0030,  4719,  486.600,    7.278,   34.062,2,   34.062,2,  121.200,2,  120.800,2,   45.520,2,   28.560,2,    2.050,2, -999.000
           NA,HOT timeseries 1988to2019 27SEP2021,     33,  99,-999.0,       6,-999.0,19920417,0003,  22.7525, -158.0030,  4719,  537.500,    6.339,   34.033,2,   34.034,2,  103.600,2,   99.100,2,   56.780,2,   32.620,2,    2.340,2, -999.000
           NA,HOT timeseries 1988to2019 27SEP2021,     33,  99,-999.0,       7,-999.0,19920417,0003,  22.7525, -158.0030,  4719,  577.700,    5.807,   34.064,2,   34.060,2,   77.200,2,   72.500,2,   67.450,2,   35.950,2,    2.560,2, -999.000
           NA,HOT timeseries 1988to2019 27SEP2021,     33,  99,-999.0,      26,-999.0,19920417,0003,  22.7525, -158.0030,  4719,  618.900,    5.572,   34.170,2,   34.168,2,   51.200,2,   44.900,2,   76.240,2,   38.480,2,    2.790,2, -999.000
           NA,HOT timeseries 1988to2019 27SEP2021,     33,  99,-999.0,      25,-999.0,19920417,0003,  22.7525, -158.0030,  4719,  687.900,    5.292,   34.273,2,   34.271,2,   36.100,2,   33.300,2,   84.660,2,   40.160,2,    2.920,2, -999.000
           NA,HOT timeseries 1988to2019 27SEP2021,     33,  99,-999.0,       3,-999.0,19920417,0003,  22.7525, -158.0030,  4719,  780.000,    4.896,   34.359,2,   34.359,2,   31.100,2,   30.900,2,   93.140,2,   41.310,2,    3.000,2, -999.000
           NA,HOT timeseries 1988to2019 27SEP2021,     33,  99,-999.0,       2,-999.0,19920417,0003,  22.7525, -158.0030,  4719,  873.000,    4.469,   34.420,2,   34.418,2,   32.600,2,   33.600,2,  101.890,2,   41.960,2,    3.030,2, -999.000
           NA,HOT timeseries 1988to2019 27SEP2021,     33,  99,-999.0,      20,-999.0,19920417,0003,  22.7525, -158.0030,  4719, 1013.800,    3.999,   34.494,2,   34.494,2,   40.500,2,   42.700,2,  109.850,2,   41.950,2, -999.000,4, -999.000
           NA,HOT timeseries 1988to2019 27SEP2021,     33,  99,-999.0,       1,-999.0,19920417,0003,  22.7525, -158.0030,  4719, 1023.600,    3.995,   34.500,2,   34.500,2,   40.800,2,   43.000,2,  110.880,2,   42.140,2,    3.010,2, -999.000
           NA,HOT timeseries 1988to2019 27SEP2021,     33,  99,-999.0,      19,-999.0,19920417,0003,  22.7525, -158.0030,  4719, 1409.100,    3.004,   34.560,2,   34.560,2,   65.300,2,   62.100,2,  129.520,2,   41.520,2,    2.910,2, -999.000
           NA,HOT timeseries 1988to2019 27SEP2021,     33,  99,-999.0,      18,-999.0,19920417,0003,  22.7525, -158.0030,  4719, 1608.300,    2.592,   34.583,2,   34.583,2,   75.400,2,   72.200,2,  138.480,2,   40.940,2,    2.850,2, -999.000
           NA,HOT timeseries 1988to2019 27SEP2021,     33,  99,-999.0,      17,-999.0,19920417,0003,  22.7525, -158.0030,  4719, 1804.000,    2.311,   34.602,2,   34.603,2,   83.400,2,   80.800,2,  144.310,2,   40.500,2,    2.800,2, -999.000
           NA,HOT timeseries 1988to2019 27SEP2021,     33,  99,-999.0,      16,-999.0,19920417,0003,  22.7525, -158.0030,  4719, 2002.900,    2.085,   34.618,2,   34.619,2,   90.500,2,   88.300,2,  150.410,2,   39.980,2,    2.770,2, -999.000
           NA,HOT timeseries 1988to2019 27SEP2021,     33,  99,-999.0,      15,-999.0,19920417,0003,  22.7525, -158.0030,  4719, 2200.900,    1.914,   34.632,2,   34.633,2,   95.300,2,   97.000,2, -999.000,3,   39.440,2,    2.750,2, -999.000
           NA,HOT timeseries 1988to2019 27SEP2021,     33,  99,-999.0,      14,-999.0,19920417,0003,  22.7525, -158.0030,  4719, 2404.500,    1.757,   34.645,2,   34.647,2,  101.200,2,  105.800,2, -999.000,3,   39.010,2,    2.700,2, -999.000
           NA,HOT timeseries 1988to2019 27SEP2021,     33,  99,-999.0,      13,-999.0,19920417,0003,  22.7525, -158.0030,  4719, 2602.900,    1.663,   34.653,2,   34.653,2,  110.600,2,  110.000,2,  159.330,2,   38.640,2,    2.680,2, -999.000
           NA,HOT timeseries 1988to2019 27SEP2021,     33,  99,-999.0,      12,-999.0,19920417,0003,  22.7525, -158.0030,  4719, 2797.000,    1.593,   34.661,2,   34.661,2,  115.400,2,  118.000,2, -999.000,3,   38.220,2,    2.630,2, -999.000
           NA,HOT timeseries 1988to2019 27SEP2021,     33,  99,-999.0,      11,-999.0,19920417,0003,  22.7525, -158.0030,  4719, 2993.100,    1.540,   34.667,2,   34.667,2,  121.100,2,  126.300,2, -999.000,3,   37.740,2,    2.600,2, -999.000
           NA,HOT timeseries 1988to2019 27SEP2021,     33,  99,-999.0,      10,-999.0,19920417,0003,  22.7525, -158.0030,  4719, 3200.000,    1.496,   34.673,2,   34.674,2,  128.400,2,  132.000,2, -999.000,3,   37.300,2,    2.550,2, -999.000
           NA,HOT timeseries 1988to2019 27SEP2021,     33,  99,-999.0,       9,-999.0,19920417,0003,  22.7525, -158.0030,  4719, 3401.900,    1.471,   34.677,2,   34.676,2,  133.000,2,  136.900,2,  152.010,2,   37.000,2,    2.540,2, -999.000
           NA,HOT timeseries 1988to2019 27SEP2021,     33,  99,-999.0,       8,-999.0,19920417,0003,  22.7525, -158.0030,  4719, 3601.300,    1.460,   34.680,2,   34.681,2,  137.900,2,  140.500,2,  150.380,2,   36.680,2,    2.510,2, -999.000
           NA,HOT timeseries 1988to2019 27SEP2021,     33,  99,-999.0,       6,-999.0,19920417,0003,  22.7525, -158.0030,  4719, 3804.200,    1.453,   34.682,2,   34.685,2,  146.100,2,  144.400,2,  147.180,2,   36.370,2,    2.490,2, -999.000
           NA,HOT timeseries 1988to2019 27SEP2021,     33,  99,-999.0,       7,-999.0,19920417,0003,  22.7525, -158.0030,  4719, 3984.300,    1.457,   34.684,2, -999.000,2,  147.300,2, -999.000,2, -999.000,2, -999.000,2, -999.000,2, -999.000
           NA,HOT timeseries 1988to2019 27SEP2021,     33,  99,-999.0,      26,-999.0,19920417,0003,  22.7525, -158.0030,  4719, 4188.000,    1.462,   34.686,2,   34.686,2,  152.000,2,  148.800,2,  147.240,2,   36.090,2,    2.470,2, -999.000
           NA,HOT timeseries 1988to2019 27SEP2021,     33,  99,-999.0,      25,-999.0,19920417,0003,  22.7525, -158.0030,  4719, 4397.600,    1.474,   34.687,2, -999.000,4, -999.000,3,  150.900,2,  145.570,2,   36.020,2,    2.440,2, -999.000
           NA,HOT timeseries 1988to2019 27SEP2021,     33,  99,-999.0,       3,-999.0,19920417,0003,  22.7525, -158.0030,  4719, 4503.300,    1.481,   34.687,2,   34.687,2,  152.900,2,  151.400,2,  145.370,2,   35.920,2,    2.450,2, -999.000
           NA,HOT timeseries 1988to2019 27SEP2021,     33,  99,-999.0,       2,-999.0,19920417,0003,  22.7525, -158.0030,  4719, 4607.900,    1.490,   34.688,2,   34.688,2,  152.800,2,  151.800,2,  146.160,2,   35.840,2,    2.490,2, -999.000
           NA,HOT timeseries 1988to2019 27SEP2021,     33,  99,-999.0,       1,-999.0,19920417,0003,  22.7525, -158.0030,  4719, 4711.100,    1.498,   34.688,2,   34.688,2,  154.100,2,  151.400,2,  145.340,2,   35.820,2,    2.450,2, -999.000