BOTTLE,20214727JOAExport
EXPOCODE,SECT_ID,STNNBR,CASTNO,SAMPNO,BTLNBR,BTLNBR_FLAG_W,DATE,TIME,LATITUDE,LONGITUDE,DEPTH,CTDPRS,CTDTMP,CTDSAL,CTDSAL_FLAG_W,SALNTY,SALNTY_FLAG_W,CTDOXY,CTDOXY_FLAG_W,OXYGEN,OXYGEN_FLAG_W,SILCAT,SILCAT_FLAG_W,NINI,NINI_FLAG_W,PHSPHT,PHSPHT_FLAG_W,REVP
,,,,,,,,,,,,DB,IPTS-68,PSS-78,,PSS-78,,UMOL/KG,,UMOL/KG,,UMOL/KG,,UMOL/KG,,UMOL/KG,,DBAR
           NA,HOT timeseries 1988to2019 27SEP2021,    227,  99,-999.0,    8024,-999.0,20120626,2340,  22.7503, -157.9997,  4740,    5.300,   24.428,   35.208,2,   35.209,2,  210.400,2,  210.200,2,    0.600,2,    0.010,2,    0.120,2, -999.000
           NA,HOT timeseries 1988to2019 27SEP2021,    227,  99,-999.0,    8024,-999.0,20120626,2340,  22.7503, -157.9997,  4740,    5.500,   24.363,   35.208,2,   35.209,2,  209.400,2,  210.400,2,    0.540,2,    0.070,2,    0.130,2, -999.000
           NA,HOT timeseries 1988to2019 27SEP2021,    227,  99,-999.0,    8023,-999.0,20120626,2340,  22.7503, -157.9997,  4740,   71.400,   23.331,   35.180,2,   35.186,2,  213.700,2,  213.000,2,    0.700,2,    0.020,2,    0.130,2, -999.000
           NA,HOT timeseries 1988to2019 27SEP2021,    227,  99,-999.0,    8022,-999.0,20120626,2340,  22.7503, -157.9997,  4740,  127.200,   22.065,   35.332,2,   35.332,2,  206.100,2,  205.600,2,    0.770,2,    0.410,2,    0.120,2, -999.000
           NA,HOT timeseries 1988to2019 27SEP2021,    227,  99,-999.0,    8021,-999.0,20120626,2340,  22.7503, -157.9997,  4740,  139.600,   21.642,   35.280,2, -999.000,3, -999.000,3,  199.300,2,    0.940,2,    0.960,2,    0.150,2, -999.000
           NA,HOT timeseries 1988to2019 27SEP2021,    227,  99,-999.0,    8020,-999.0,20120626,2340,  22.7503, -157.9997,  4740,  204.600,   18.805,   34.925,2,   34.911,2,  189.600,2,  191.800,2,    2.660,2,    2.860,2,    0.270,2, -999.000
           NA,HOT timeseries 1988to2019 27SEP2021,    227,  99,-999.0,    8019,-999.0,20120626,2340,  22.7503, -157.9997,  4740,  249.600,   16.335,   34.627,2,   34.615,2,  197.500,2,  198.800,2,    4.300,2,    4.620,2,    0.360,2, -999.000
           NA,HOT timeseries 1988to2019 27SEP2021,    227,  99,-999.0,    8018,-999.0,20120626,2340,  22.7503, -157.9997,  4740,  266.700,   15.179,   34.473,2,   34.462,2,  198.300,2,  196.700,2,    5.660,2,    6.260,2,    0.490,2, -999.000
           NA,HOT timeseries 1988to2019 27SEP2021,    227,  99,-999.0,    8016,-999.0,20120626,2340,  22.7503, -157.9997,  4740,  345.200,   11.619,   34.185,2,   34.181,2,  171.200,2, -999.000,3,   14.220,2,   14.300,2,    1.060,2, -999.000
           NA,HOT timeseries 1988to2019 27SEP2021,    227,  99,-999.0,    8015,-999.0,20120626,2340,  22.7503, -157.9997,  4740,  362.800,   10.578,   34.144,2,   34.141,2,  183.400,2,  183.200,2,   17.880,2,   16.410,2,    1.190,2, -999.000
           NA,HOT timeseries 1988to2019 27SEP2021,    227,  99,-999.0,    8014,-999.0,20120626,2340,  22.7503, -157.9997,  4740,  374.600,   10.188,   34.135,2,   34.135,2,  170.900,2,  168.400,2,   20.790,2,   18.350,2,    1.340,2, -999.000
           NA,HOT timeseries 1988to2019 27SEP2021,    227,  99,-999.0,    8025,-999.0,20120626,2340,  22.7503, -157.9997,  4740,  425.300,    9.165,   34.112,2,   34.112,2,  145.500,2,  146.700,2,   28.290,2,   22.380,2,    1.640,2, -999.000
           NA,HOT timeseries 1988to2019 27SEP2021,    227,  99,-999.0,    8012,-999.0,20120626,2340,  22.7503, -157.9997,  4740,  498.600,    7.946,   34.111,2,   34.111,2,  109.200,2,  107.300,2,   41.680,2,   28.310,2,    2.070,2, -999.000
           NA,HOT timeseries 1988to2019 27SEP2021,    227,  99,-999.0,    8011,-999.0,20120626,2340,  22.7503, -157.9997,  4740,  542.700,    7.062,   34.115,2,   34.115,2,   83.300,2,   83.400,2,   52.000,2,   32.180,2,    2.350,2, -999.000
           NA,HOT timeseries 1988to2019 27SEP2021,    227,  99,-999.0,    8010,-999.0,20120626,2340,  22.7503, -157.9997,  4740,  585.000,    6.326,   34.157,2, -999.000,3, -999.000,3,   59.200,2,   63.810,2,   35.510,2,    2.600,2, -999.000
           NA,HOT timeseries 1988to2019 27SEP2021,    227,  99,-999.0,    8009,-999.0,20120626,2340,  22.7503, -157.9997,  4740,  639.200,    5.700,   34.193,2,   34.192,2,   49.400,2,   47.700,2,   74.510,2,   37.890,2,    2.760,2, -999.000
           NA,HOT timeseries 1988to2019 27SEP2021,    227,  99,-999.0,    8008,-999.0,20120626,2340,  22.7503, -157.9997,  4740,  705.800,    5.185,   34.249,2,   34.249,2,   36.400,2,   36.700,2,   84.620,2,   40.010,2,    2.920,2, -999.000
           NA,HOT timeseries 1988to2019 27SEP2021,    227,  99,-999.0,    8005,-999.0,20120626,2340,  22.7503, -157.9997,  4740,  799.400,    4.590,   34.298,2,   34.299,2,   24.400,2, -999.000,3,   97.720,2,   41.790,2,    3.070,2, -999.000
           NA,HOT timeseries 1988to2019 27SEP2021,    227,  99,-999.0,    8004,-999.0,20120626,2340,  22.7503, -157.9997,  4740,  870.000,    4.277,   34.376,2,   34.376,2,   26.700,2,   25.600,2,  104.950,2,   42.170,2,    3.080,2, -999.000
           NA,HOT timeseries 1988to2019 27SEP2021,    227,  99,-999.0,    8003,-999.0,20120626,2340,  22.7503, -157.9997,  4740,  940.500,    4.094,   34.426,2,   34.427,2,   31.800,2,   32.000,2,  108.940,2,   42.320,2,    3.070,2, -999.000
           NA,HOT timeseries 1988to2019 27SEP2021,    227,  99,-999.0,    8001,-999.0,20120626,2340,  22.7503, -157.9997,  4740, 1023.100,    3.920,   34.475,2,   34.476,2,   42.500,2,   41.700,2,  111.170,2,   41.640,2,    3.000,2, -999.000
           NA,HOT timeseries 1988to2019 27SEP2021,    227,  99,-999.0,    8020,-999.0,20120626,2340,  22.7503, -157.9997,  4740, 1199.900,    3.452,   34.528,2,   34.528,2,   52.700,2,   53.700,2,  120.280,2,   41.190,2,    2.950,2, -999.000
           NA,HOT timeseries 1988to2019 27SEP2021,    227,  99,-999.0,    8019,-999.0,20120626,2340,  22.7503, -157.9997,  4740, 1400.100,    3.036,   34.561,2,   34.562,2,   61.700,2,   63.500,2,  129.400,2,   41.040,2,    2.930,2, -999.000
           NA,HOT timeseries 1988to2019 27SEP2021,    227,  99,-999.0,    8018,-999.0,20120626,2340,  22.7503, -157.9997,  4740, 1599.100,    2.659,   34.583,2,   34.583,2,   71.900,2,   72.900,2,  137.250,2,   40.260,2,    2.880,2, -999.000
           NA,HOT timeseries 1988to2019 27SEP2021,    227,  99,-999.0,    8017,-999.0,20120626,2340,  22.7503, -157.9997,  4740, 1799.700,    2.347,   34.603,2,   34.603,2,   80.400,2,   81.100,2,  144.070,2,   39.940,2,    2.830,2, -999.000
           NA,HOT timeseries 1988to2019 27SEP2021,    227,  99,-999.0,    8016,-999.0,20120626,2340,  22.7503, -157.9997,  4740, 2000.100,    2.092,   34.621,2,   34.622,2,   89.100,2,   89.600,2,  149.850,2,   39.400,2,    2.800,2, -999.000
           NA,HOT timeseries 1988to2019 27SEP2021,    227,  99,-999.0,    8015,-999.0,20120626,2340,  22.7503, -157.9997,  4740, 2199.500,    1.925,   34.635,2,   34.634,2,   96.400,2,   97.300,2,  153.110,2,   39.010,2,    2.750,2, -999.000
           NA,HOT timeseries 1988to2019 27SEP2021,    227,  99,-999.0,    8014,-999.0,20120626,2340,  22.7503, -157.9997,  4740, 2399.900,    1.793,   34.645,2,   34.644,2,  102.800,2, -999.000,3,  156.150,2,   38.660,2,    2.720,2, -999.000
           NA,HOT timeseries 1988to2019 27SEP2021,    227,  99,-999.0,    8025,-999.0,20120626,2340,  22.7503, -157.9997,  4740, 2599.600,    1.694,   34.655,2,   34.654,2,  110.200,2,  112.100,2,  156.910,2,   38.270,2,    2.680,2, -999.000
           NA,HOT timeseries 1988to2019 27SEP2021,    227,  99,-999.0,    8012,-999.0,20120626,2340,  22.7503, -157.9997,  4740, 2800.400,    1.623,   34.662,2,   34.662,2,  115.500,2,  116.300,2,  158.810,2,   37.740,2,    2.650,2, -999.000
           NA,HOT timeseries 1988to2019 27SEP2021,    227,  99,-999.0,    8011,-999.0,20120626,2340,  22.7503, -157.9997,  4740, 3000.000,    1.560,   34.668,2,   34.667,2,  122.300,2,  122.500,2,  158.310,2,   37.400,2,    2.610,2, -999.000
           NA,HOT timeseries 1988to2019 27SEP2021,    227,  99,-999.0,    8010,-999.0,20120626,2340,  22.7503, -157.9997,  4740, 3199.500,    1.529,   34.672,2, -999.000,3, -999.000,3, -999.000,3,  158.400,2,   37.270,2,    2.610,2, -999.000
           NA,HOT timeseries 1988to2019 27SEP2021,    227,  99,-999.0,    8009,-999.0,20120626,2340,  22.7503, -157.9997,  4740, 3404.500,    1.499,   34.678,2,   34.677,2,  133.500,2,  133.400,2,  156.570,2,   36.730,2,    2.560,2, -999.000
           NA,HOT timeseries 1988to2019 27SEP2021,    227,  99,-999.0,    8008,-999.0,20120626,2340,  22.7503, -157.9997,  4740, 3599.300,    1.474,   34.681,2,   34.681,2,  139.500,2,  139.300,2,  154.340,2,   36.380,2,    2.530,2, -999.000
           NA,HOT timeseries 1988to2019 27SEP2021,    227,  99,-999.0,    8026,-999.0,20120626,2340,  22.7503, -157.9997,  4740, 3799.700,    1.462,   34.684,2,   34.684,2,  144.300,2,  142.600,2,  152.350,2,   36.210,2,    2.500,2, -999.000
           NA,HOT timeseries 1988to2019 27SEP2021,    227,  99,-999.0,    8006,-999.0,20120626,2340,  22.7503, -157.9997,  4740, 4000.100,    1.460,   34.686,2,   34.685,2,  147.900,2,  147.400,2,  150.580,2,   35.880,2,    2.480,2, -999.000
           NA,HOT timeseries 1988to2019 27SEP2021,    227,  99,-999.0,    8005,-999.0,20120626,2340,  22.7503, -157.9997,  4740, 4200.000,    1.465,   34.687,2,   34.687,2,  151.000,2,  148.300,2,  149.210,2,   35.710,2,    2.480,2, -999.000
           NA,HOT timeseries 1988to2019 27SEP2021,    227,  99,-999.0,    8004,-999.0,20120626,2340,  22.7503, -157.9997,  4740, 4398.800,    1.479,   34.688,2,   34.688,2,  152.700,2,  151.000,2,  148.550,2,   35.590,2,    2.470,2, -999.000
           NA,HOT timeseries 1988to2019 27SEP2021,    227,  99,-999.0,    8003,-999.0,20120626,2340,  22.7503, -157.9997,  4740, 4499.800,    1.488,   34.688,2,   34.688,2,  153.400,2, -999.000,3,  149.440,2,   35.610,2,    2.470,2, -999.000
           NA,HOT timeseries 1988to2019 27SEP2021,    227,  99,-999.0,    8002,-999.0,20120626,2340,  22.7503, -157.9997,  4740, 4600.600,    1.495,   34.689,2,   34.689,2,  154.100,2, -999.000,3,  148.220,2,   35.560,2,    2.470,2, -999.000
           NA,HOT timeseries 1988to2019 27SEP2021,    227,  99,-999.0,    8001,-999.0,20120626,2340,  22.7503, -157.9997,  4740, 4789.200,    1.514,   34.689,2,   34.690,2,  155.000,2,  154.100,2,  147.120,2,   35.390,2,    2.460,2, -999.000