BOTTLE,20214727JOAExport
EXPOCODE,SECT_ID,STNNBR,CASTNO,SAMPNO,BTLNBR,BTLNBR_FLAG_W,DATE,TIME,LATITUDE,LONGITUDE,DEPTH,CTDPRS,CTDTMP,CTDSAL,CTDSAL_FLAG_W,SALNTY,SALNTY_FLAG_W,CTDOXY,CTDOXY_FLAG_W,OXYGEN,OXYGEN_FLAG_W,SILCAT,SILCAT_FLAG_W,NINI,NINI_FLAG_W,PHSPHT,PHSPHT_FLAG_W,REVP
,,,,,,,,,,,,DB,IPTS-68,PSS-78,,PSS-78,,UMOL/KG,,UMOL/KG,,UMOL/KG,,UMOL/KG,,UMOL/KG,,DBAR
           NA,HOT timeseries 1988to2019 27SEP2021,    135,  99,-999.0,      31,-999.0,20020827,1844,  22.7502, -158.0003,  4724,    4.800,   26.238,   35.003,2,   35.003,2,  205.600,2,  205.100,2, -999.000,9, -999.000,9, -999.000,9, -999.000
           NA,HOT timeseries 1988to2019 27SEP2021,    135,  99,-999.0,      31,-999.0,20020827,1844,  22.7502, -158.0003,  4724,    5.600,   26.279,   35.020,2,   35.022,2,  206.000,2,  204.000,2, -999.000,9, -999.000,9, -999.000,9, -999.000
           NA,HOT timeseries 1988to2019 27SEP2021,    135,  99,-999.0,      30,-999.0,20020827,1844,  22.7502, -158.0003,  4724,   24.900,   26.231,   35.002,2,   35.001,2,  205.500,2,  204.700,2, -999.000,9, -999.000,9, -999.000,9, -999.000
           NA,HOT timeseries 1988to2019 27SEP2021,    135,  99,-999.0,      22,-999.0,20020827,1844,  22.7502, -158.0003,  4724,   68.100,   25.182,   35.079,2,   35.080,2,  217.900,2,  216.500,2, -999.000,9, -999.000,9, -999.000,9, -999.000
           NA,HOT timeseries 1988to2019 27SEP2021,    135,  99,-999.0,      21,-999.0,20020827,1844,  22.7502, -158.0003,  4724,   84.200,   23.495,   35.251,2, -999.000,3, -999.000,3,  222.100,2, -999.000,9, -999.000,9, -999.000,9, -999.000
           NA,HOT timeseries 1988to2019 27SEP2021,    135,  99,-999.0,      20,-999.0,20020827,1844,  22.7502, -158.0003,  4724,   99.700,   22.924,   35.270,2,   35.269,2,  219.000,2,  218.600,2, -999.000,9, -999.000,9, -999.000,9, -999.000
           NA,HOT timeseries 1988to2019 27SEP2021,    135,  99,-999.0,      19,-999.0,20020827,1844,  22.7502, -158.0003,  4724,  142.200,   21.151,   35.300,2,   35.298,2,  205.000,2,  205.300,2, -999.000,9, -999.000,9, -999.000,9, -999.000
           NA,HOT timeseries 1988to2019 27SEP2021,    135,  99,-999.0,      18,-999.0,20020827,1844,  22.7502, -158.0003,  4724,  178.100,   19.325,   35.084,2,   35.091,2,  195.900,2,  195.300,2, -999.000,9, -999.000,9, -999.000,9, -999.000
           NA,HOT timeseries 1988to2019 27SEP2021,    135,  99,-999.0,      17,-999.0,20020827,1844,  22.7502, -158.0003,  4724,  244.100,   15.348,   34.529,2,   34.527,2,  193.500,2,  193.500,2, -999.000,9, -999.000,9, -999.000,9, -999.000
           NA,HOT timeseries 1988to2019 27SEP2021,    135,  99,-999.0,      16,-999.0,20020827,1844,  22.7502, -158.0003,  4724,  314.200,   11.902,   34.199,2,   34.202,2,  192.200,2,  192.400,2, -999.000,9, -999.000,9, -999.000,9, -999.000
           NA,HOT timeseries 1988to2019 27SEP2021,    135,  99,-999.0,      23,-999.0,20020827,1844,  22.7502, -158.0003,  4724,  354.700,   10.561,   34.146,2,   34.146,2,  182.900,2,  182.300,2, -999.000,9, -999.000,9, -999.000,9, -999.000
           NA,HOT timeseries 1988to2019 27SEP2021,    135,  99,-999.0,      14,-999.0,20020827,1844,  22.7502, -158.0003,  4724,  417.400,    8.916,   34.072,2,   34.076,2,  170.700,2,  170.100,2, -999.000,9, -999.000,9, -999.000,9, -999.000
           NA,HOT timeseries 1988to2019 27SEP2021,    135,  99,-999.0,      13,-999.0,20020827,1844,  22.7502, -158.0003,  4724,  475.800,    7.497,   34.044,2,   34.042,2,  127.500,2,  130.900,2, -999.000,9, -999.000,9, -999.000,9, -999.000
           NA,HOT timeseries 1988to2019 27SEP2021,    135,  99,-999.0,      39,-999.0,20020827,1844,  22.7502, -158.0003,  4724,  510.300,    6.844,   34.036,2,   34.039,2,  110.500,2,  106.100,2, -999.000,9, -999.000,9, -999.000,9, -999.000
           NA,HOT timeseries 1988to2019 27SEP2021,    135,  99,-999.0,      32,-999.0,20020827,1844,  22.7502, -158.0003,  4724,  555.200,    6.376,   34.121,2,   34.123,2,   67.500,2,   67.000,2, -999.000,9, -999.000,9, -999.000,9, -999.000
           NA,HOT timeseries 1988to2019 27SEP2021,    135,  99,-999.0,       3,-999.0,20020827,1844,  22.7502, -158.0003,  4724,  584.600,    6.067,   34.157,2,   34.155,2,   53.900,2,   53.500,2, -999.000,9, -999.000,9, -999.000,9, -999.000
           NA,HOT timeseries 1988to2019 27SEP2021,    135,  99,-999.0,      29,-999.0,20020827,1844,  22.7502, -158.0003,  4724,  609.500,    5.641,   34.153,2,   34.157,2,   46.000,2,   46.000,2, -999.000,9, -999.000,9, -999.000,9, -999.000
           NA,HOT timeseries 1988to2019 27SEP2021,    135,  99,-999.0,       7,-999.0,20020827,1844,  22.7502, -158.0003,  4724,  664.900,    5.140,   34.220,2,   34.218,2,   24.700,2,   24.200,2, -999.000,9, -999.000,9, -999.000,9, -999.000
           NA,HOT timeseries 1988to2019 27SEP2021,    135,  99,-999.0,      38,-999.0,20020827,1844,  22.7502, -158.0003,  4724,  735.600,    4.850,   34.308,2,   34.305,2,   19.000,2,   18.100,2, -999.000,9, -999.000,9, -999.000,9, -999.000
           NA,HOT timeseries 1988to2019 27SEP2021,    135,  99,-999.0,      35,-999.0,20020827,1844,  22.7502, -158.0003,  4724,  823.900,    4.552,   34.416,2, -999.000,3, -999.000,3,   24.000,2, -999.000,9, -999.000,9, -999.000,9, -999.000
           NA,HOT timeseries 1988to2019 27SEP2021,    135,  99,-999.0,      34,-999.0,20020827,1844,  22.7502, -158.0003,  4724,  992.500,    4.132,   34.489,2,   34.486,2,   36.400,2,   36.800,2, -999.000,9, -999.000,9, -999.000,9, -999.000
           NA,HOT timeseries 1988to2019 27SEP2021,    135,  99,-999.0,      33,-999.0,20020827,1844,  22.7502, -158.0003,  4724, 1021.000,    4.078,   34.495,2,   34.494,2,   38.900,2,   38.900,2, -999.000,9, -999.000,9, -999.000,9, -999.000
           NA,HOT timeseries 1988to2019 27SEP2021,    135,  99,-999.0,      20,-999.0,20020827,1844,  22.7502, -158.0003,  4724, 1200.000,    3.610,   34.531,2,   34.530,2,   47.000,2,   47.100,2, -999.000,9, -999.000,9, -999.000,9, -999.000
           NA,HOT timeseries 1988to2019 27SEP2021,    135,  99,-999.0,      19,-999.0,20020827,1844,  22.7502, -158.0003,  4724, 1398.700,    3.135,   34.561,2,   34.559,2,   58.000,2,   57.800,2, -999.000,9, -999.000,9, -999.000,9, -999.000
           NA,HOT timeseries 1988to2019 27SEP2021,    135,  99,-999.0,      18,-999.0,20020827,1844,  22.7502, -158.0003,  4724, 1599.400,    2.750,   34.580,2,   34.579,2,   68.300,2,   68.700,2, -999.000,9, -999.000,9, -999.000,9, -999.000
           NA,HOT timeseries 1988to2019 27SEP2021,    135,  99,-999.0,      17,-999.0,20020827,1844,  22.7502, -158.0003,  4724, 1798.900,    2.419,   34.600,2,   34.599,2,   77.000,2,   77.100,2, -999.000,9, -999.000,9, -999.000,9, -999.000
           NA,HOT timeseries 1988to2019 27SEP2021,    135,  99,-999.0,      16,-999.0,20020827,1844,  22.7502, -158.0003,  4724, 2000.300,    2.142,   34.618,2,   34.618,2,   86.300,2,   86.600,2, -999.000,9, -999.000,9, -999.000,9, -999.000
           NA,HOT timeseries 1988to2019 27SEP2021,    135,  99,-999.0,      23,-999.0,20020827,1844,  22.7502, -158.0003,  4724, 2200.700,    1.986,   34.632,2,   34.632,2,   95.800,2,   96.200,2, -999.000,9, -999.000,9, -999.000,9, -999.000
           NA,HOT timeseries 1988to2019 27SEP2021,    135,  99,-999.0,      14,-999.0,20020827,1844,  22.7502, -158.0003,  4724, 2399.000,    1.846,   34.643,2,   34.640,2,  104.200,2,  104.500,2, -999.000,9, -999.000,9, -999.000,9, -999.000
           NA,HOT timeseries 1988to2019 27SEP2021,    135,  99,-999.0,      13,-999.0,20020827,1844,  22.7502, -158.0003,  4724, 2601.300,    1.724,   34.653,2,   34.653,2,  111.200,2,  109.900,2, -999.000,9, -999.000,9, -999.000,9, -999.000
           NA,HOT timeseries 1988to2019 27SEP2021,    135,  99,-999.0,      12,-999.0,20020827,1844,  22.7502, -158.0003,  4724, 2799.800,    1.632,   34.661,2,   34.661,2,  116.300,2,  116.200,2, -999.000,9, -999.000,9, -999.000,9, -999.000
           NA,HOT timeseries 1988to2019 27SEP2021,    135,  99,-999.0,      39,-999.0,20020827,1844,  22.7502, -158.0003,  4724, 3000.600,    1.561,   34.668,2,   34.671,2,  124.000,2,  124.500,2, -999.000,9, -999.000,9, -999.000,9, -999.000
           NA,HOT timeseries 1988to2019 27SEP2021,    135,  99,-999.0,      32,-999.0,20020827,1844,  22.7502, -158.0003,  4724, 3200.400,    1.520,   34.674,2,   34.673,2,  129.200,2,  130.400,2, -999.000,9, -999.000,9, -999.000,9, -999.000
           NA,HOT timeseries 1988to2019 27SEP2021,    135,  99,-999.0,       3,-999.0,20020827,1844,  22.7502, -158.0003,  4724, 3400.600,    1.491,   34.678,2,   34.677,2,  135.000,2,  134.500,2, -999.000,9, -999.000,9, -999.000,9, -999.000
           NA,HOT timeseries 1988to2019 27SEP2021,    135,  99,-999.0,      29,-999.0,20020827,1844,  22.7502, -158.0003,  4724, 3601.200,    1.468,   34.681,2,   34.682,2,  140.200,2,  139.700,2, -999.000,9, -999.000,9, -999.000,9, -999.000
           NA,HOT timeseries 1988to2019 27SEP2021,    135,  99,-999.0,      28,-999.0,20020827,1844,  22.7502, -158.0003,  4724, 3800.300,    1.461,   34.683,2,   34.684,2,  144.200,2,  143.900,2, -999.000,9, -999.000,9, -999.000,9, -999.000
           NA,HOT timeseries 1988to2019 27SEP2021,    135,  99,-999.0,      38,-999.0,20020827,1844,  22.7502, -158.0003,  4724, 4200.700,    1.468,   34.687,2,   34.687,2,  149.700,2,  149.700,2, -999.000,9, -999.000,9, -999.000,9, -999.000
           NA,HOT timeseries 1988to2019 27SEP2021,    135,  99,-999.0,      36,-999.0,20020827,1844,  22.7502, -158.0003,  4724, 4400.200,    1.480,   34.688,2,   34.687,2,  151.500,2,  151.400,2, -999.000,9, -999.000,9, -999.000,9, -999.000
           NA,HOT timeseries 1988to2019 27SEP2021,    135,  99,-999.0,      35,-999.0,20020827,1844,  22.7502, -158.0003,  4724, 4501.000,    1.488,   34.688,2, -999.000,4, -999.000,3,  151.500,2, -999.000,9, -999.000,9, -999.000,9, -999.000
           NA,HOT timeseries 1988to2019 27SEP2021,    135,  99,-999.0,      34,-999.0,20020827,1844,  22.7502, -158.0003,  4724, 4600.200,    1.497,   34.688,2,   34.689,2,  152.100,2,  152.100,2, -999.000,9, -999.000,9, -999.000,9, -999.000
           NA,HOT timeseries 1988to2019 27SEP2021,    135,  99,-999.0,      33,-999.0,20020827,1844,  22.7502, -158.0003,  4724, 4800.700,    1.517,   34.689,2,   34.691,2,  152.900,2,  152.700,2, -999.000,9, -999.000,9, -999.000,9, -999.000