BOTTLE,20214727JOAExport
EXPOCODE,SECT_ID,STNNBR,CASTNO,SAMPNO,BTLNBR,BTLNBR_FLAG_W,DATE,TIME,LATITUDE,LONGITUDE,DEPTH,CTDPRS,CTDTMP,CTDSAL,CTDSAL_FLAG_W,SALNTY,SALNTY_FLAG_W,CTDOXY,CTDOXY_FLAG_W,OXYGEN,OXYGEN_FLAG_W,SILCAT,SILCAT_FLAG_W,NINI,NINI_FLAG_W,PHSPHT,PHSPHT_FLAG_W,REVP
,,,,,,,,,,,,DB,IPTS-68,PSS-78,,PSS-78,,UMOL/KG,,UMOL/KG,,UMOL/KG,,UMOL/KG,,UMOL/KG,,DBAR
           NA,HOT timeseries 1988to2019 27SEP2021,    106,  99,-999.0,      31,-999.0,19991214,1858,  22.7517, -157.9913,  4720,    3.900,   24.104,   35.202,2,   35.200,2,  208.200,2, -999.000,3,    1.220,2,    0.010,2,    0.090,2, -999.000
           NA,HOT timeseries 1988to2019 27SEP2021,    106,  99,-999.0,      30,-999.0,19991214,1858,  22.7517, -157.9913,  4720,   44.800,   24.100,   35.204,2, -999.000,4, -999.000,3, -999.000,3,    1.210,2,    0.020,2,    0.140,2, -999.000
           NA,HOT timeseries 1988to2019 27SEP2021,    106,  99,-999.0,      22,-999.0,19991214,1858,  22.7517, -157.9913,  4720,   89.700,   23.803,   35.227,2,   35.223,2,  208.700,2, -999.000,3,    1.260,2,    0.020,2,    0.100,2, -999.000
           NA,HOT timeseries 1988to2019 27SEP2021,    106,  99,-999.0,      21,-999.0,19991214,1858,  22.7517, -157.9913,  4720,  125.000,   21.141,   35.190,2, -999.000,4, -999.000,3,  198.000,2,    1.720,2,    1.020,2,    0.180,2, -999.000
           NA,HOT timeseries 1988to2019 27SEP2021,    106,  99,-999.0,      20,-999.0,19991214,1858,  22.7517, -157.9913,  4720,  171.000,   19.347,   35.053,2,   35.061,2,  194.200,2,  194.500,2,    2.450,2,    2.360,2,    0.250,2, -999.000
           NA,HOT timeseries 1988to2019 27SEP2021,    106,  99,-999.0,      19,-999.0,19991214,1858,  22.7517, -157.9913,  4720,  200.000,   18.266,   34.912,2,   34.913,2,  194.500,2,  194.400,2,    3.080,2,    3.130,2,    0.290,2, -999.000
           NA,HOT timeseries 1988to2019 27SEP2021,    106,  99,-999.0,      18,-999.0,19991214,1858,  22.7517, -157.9913,  4720,  224.500,   16.351,   34.659,2,   34.662,2,  193.400,2,  193.900,2,    4.700,2,    4.910,2,    0.460,2, -999.000
           NA,HOT timeseries 1988to2019 27SEP2021,    106,  99,-999.0,      17,-999.0,19991214,1858,  22.7517, -157.9913,  4720,  268.800,   13.789,   34.367,2,   34.369,2,  189.900,2,  190.000,2,    8.090,2,    8.700,2,    0.710,2, -999.000
           NA,HOT timeseries 1988to2019 27SEP2021,    106,  99,-999.0,      16,-999.0,19991214,1858,  22.7517, -157.9913,  4720,  316.100,   12.418,   34.332,2,   34.333,2,  209.200,2,  211.300,2,   10.210,2,    9.960,2,    0.750,2, -999.000
           NA,HOT timeseries 1988to2019 27SEP2021,    106,  99,-999.0,      15,-999.0,19991214,1858,  22.7517, -157.9913,  4720,  372.900,   10.428,   34.164,2,   34.167,2,  193.000,2,  190.900,2,   17.650,2,   15.640,2,    1.110,2, -999.000
           NA,HOT timeseries 1988to2019 27SEP2021,    106,  99,-999.0,      14,-999.0,19991214,1858,  22.7517, -157.9913,  4720,  400.000,    9.807,   34.128,2,   34.131,2,  181.600,2,  182.100,2,   21.420,2,   17.830,2,    1.260,2, -999.000
           NA,HOT timeseries 1988to2019 27SEP2021,    106,  99,-999.0,      13,-999.0,19991214,1858,  22.7517, -157.9913,  4720,  434.700,    8.991,   34.107,2,   34.115,2,  166.000,2,  167.600,2, -999.000,3,   20.850,2,    1.460,2, -999.000
           NA,HOT timeseries 1988to2019 27SEP2021,    106,  99,-999.0,      12,-999.0,19991214,1858,  22.7517, -157.9913,  4720,  498.100,    7.530,   34.064,2,   34.066,2,  131.700,2,  132.700,2,   42.410,2,   26.670,2,    1.850,2, -999.000
           NA,HOT timeseries 1988to2019 27SEP2021,    106,  99,-999.0,      11,-999.0,19991214,1858,  22.7517, -157.9913,  4720,  533.400,    6.938,   34.066,2,   34.074,2,  108.700,2,  113.400,2,   49.030,2,   29.250,2,    2.110,2, -999.000
           NA,HOT timeseries 1988to2019 27SEP2021,    106,  99,-999.0,      32,-999.0,19991214,1858,  22.7517, -157.9913,  4720,  584.300,    6.472,   34.121,2,   34.121,2,   84.600,2,   82.400,2,   59.920,2,   33.100,2,    2.390,2, -999.000
           NA,HOT timeseries 1988to2019 27SEP2021,    106,  99,-999.0,       3,-999.0,19991214,1858,  22.7517, -157.9913,  4720,  634.400,    5.791,   34.181,2,   34.184,2,   52.700,2,   54.400,2,   72.550,2,   37.040,2,    2.620,2, -999.000
           NA,HOT timeseries 1988to2019 27SEP2021,    106,  99,-999.0,      29,-999.0,19991214,1858,  22.7517, -157.9913,  4720,  689.000,    5.369,   34.253,2,   34.254,2,   44.000,2,   43.700,2,   81.500,2,   38.580,2,    2.790,2, -999.000
           NA,HOT timeseries 1988to2019 27SEP2021,    106,  99,-999.0,      28,-999.0,19991214,1858,  22.7517, -157.9913,  4720,  739.500,    4.928,   34.269,2,   34.269,2,   34.100,2,   33.800,2,   90.430,2,   40.270,2,    2.950,2, -999.000
           NA,HOT timeseries 1988to2019 27SEP2021,    106,  99,-999.0,       7,-999.0,19991214,1858,  22.7517, -157.9913,  4720,  779.600,    4.678,   34.297,2,   34.299,2,   32.600,2,   30.400,2,   96.100,2,   41.000,2,    2.970,2, -999.000
           NA,HOT timeseries 1988to2019 27SEP2021,    106,  99,-999.0,      38,-999.0,19991214,1858,  22.7517, -157.9913,  4720,  825.300,    4.563,   34.357,2,   34.356,2,   31.700,2,   31.700,2,   99.100,2,   41.290,2,    2.970,2, -999.000
           NA,HOT timeseries 1988to2019 27SEP2021,    106,  99,-999.0,      36,-999.0,19991214,1858,  22.7517, -157.9913,  4720,  873.200,    4.450,   34.396,2,   34.396,2,   32.700,2,   34.200,2,  101.350,2,   41.440,2,    2.980,2, -999.000
           NA,HOT timeseries 1988to2019 27SEP2021,    106,  99,-999.0,      35,-999.0,19991214,1858,  22.7517, -157.9913,  4720,  919.800,    4.268,   34.432,2,   34.433,2,   36.100,2,   36.700,2,  105.140,2,   41.580,2,    3.000,2, -999.000
           NA,HOT timeseries 1988to2019 27SEP2021,    106,  99,-999.0,      34,-999.0,19991214,1858,  22.7517, -157.9913,  4720,  969.800,    4.111,   34.455,2,   34.454,2,   39.900,2,   39.100,2,  108.380,2,   41.620,2,    3.010,2, -999.000
           NA,HOT timeseries 1988to2019 27SEP2021,    106,  99,-999.0,      33,-999.0,19991214,1858,  22.7517, -157.9913,  4720, 1021.600,    3.968,   34.474,2,   34.473,2,   42.900,2,   41.900,2, -999.000,3,   41.350,2,    2.970,2, -999.000
           NA,HOT timeseries 1988to2019 27SEP2021,    106,  99,-999.0,      20,-999.0,19991214,1858,  22.7517, -157.9913,  4720, 1200.900,    3.522,   34.517,2,   34.515,2,   50.600,2,   50.100,2,  120.000,2,   41.130,2,    2.960,2, -999.000
           NA,HOT timeseries 1988to2019 27SEP2021,    106,  99,-999.0,      19,-999.0,19991214,1858,  22.7517, -157.9913,  4720, 1399.800,    3.042,   34.553,2,   34.550,2,   60.200,2,   60.700,2,  131.430,2,   40.700,2, -999.000,4, -999.000
           NA,HOT timeseries 1988to2019 27SEP2021,    106,  99,-999.0,      18,-999.0,19991214,1858,  22.7517, -157.9913,  4720, 1599.800,    2.671,   34.577,2,   34.577,2,   69.600,2,   69.700,2,  139.350,2,   40.340,2,    2.910,2, -999.000
           NA,HOT timeseries 1988to2019 27SEP2021,    106,  99,-999.0,      17,-999.0,19991214,1858,  22.7517, -157.9913,  4720, 1800.900,    2.344,   34.603,2,   34.601,2,   80.400,2,   80.500,2,  145.970,2,   39.900,2, -999.000,3, -999.000
           NA,HOT timeseries 1988to2019 27SEP2021,    106,  99,-999.0,      16,-999.0,19991214,1858,  22.7517, -157.9913,  4720, 1999.300,    2.130,   34.621,2,   34.619,2,   90.900,2,   91.800,2,  148.470,2,   39.280,2,    2.770,2, -999.000
           NA,HOT timeseries 1988to2019 27SEP2021,    106,  99,-999.0,      15,-999.0,19991214,1858,  22.7517, -157.9913,  4720, 2200.100,    1.952,   34.634,2,   34.635,2,   98.900,2,   98.700,2,  153.300,2,   38.850,2,    2.750,2, -999.000
           NA,HOT timeseries 1988to2019 27SEP2021,    106,  99,-999.0,      14,-999.0,19991214,1858,  22.7517, -157.9913,  4720, 2399.600,    1.787,   34.647,2,   34.646,2,  107.200,2,  107.500,2,  155.450,2,   38.120,2,    2.740,2, -999.000
           NA,HOT timeseries 1988to2019 27SEP2021,    106,  99,-999.0,      13,-999.0,19991214,1858,  22.7517, -157.9913,  4720, 2599.800,    1.671,   34.657,2,   34.656,2,  113.600,2,  114.500,2,  157.160,2,   37.800,2,    2.690,2, -999.000
           NA,HOT timeseries 1988to2019 27SEP2021,    106,  99,-999.0,      12,-999.0,19991214,1858,  22.7517, -157.9913,  4720, 2798.600,    1.590,   34.665,2,   34.665,2,  119.900,2,  120.600,2,  158.510,2,   37.660,2,    2.650,2, -999.000
           NA,HOT timeseries 1988to2019 27SEP2021,    106,  99,-999.0,      32,-999.0,19991214,1858,  22.7517, -157.9913,  4720, 3199.500,    1.491,   34.676,2,   34.676,2,  132.600,2,  132.800,2,  157.380,2,   36.680,2,    2.640,2, -999.000
           NA,HOT timeseries 1988to2019 27SEP2021,    106,  99,-999.0,       3,-999.0,19991214,1858,  22.7517, -157.9913,  4720, 3399.800,    1.472,   34.679,2,   34.679,2,  136.600,2,  137.200,2,  155.620,2,   36.380,2,    2.540,2, -999.000
           NA,HOT timeseries 1988to2019 27SEP2021,    106,  99,-999.0,      29,-999.0,19991214,1858,  22.7517, -157.9913,  4720, 3598.900,    1.458,   34.682,2,   34.683,2,  141.100,2,  141.600,2,  153.430,2,   36.100,2,    2.530,2, -999.000
           NA,HOT timeseries 1988to2019 27SEP2021,    106,  99,-999.0,      28,-999.0,19991214,1858,  22.7517, -157.9913,  4720, 3800.000,    1.445,   34.685,2,   34.685,2,  146.100,2,  146.000,2,  152.440,2,   35.940,2, -999.000,3, -999.000
           NA,HOT timeseries 1988to2019 27SEP2021,    106,  99,-999.0,       7,-999.0,19991214,1858,  22.7517, -157.9913,  4720, 4000.400,    1.452,   34.686,2,   34.685,2,  148.200,2,  148.300,2,  151.320,2,   35.690,2,    2.560,2, -999.000
           NA,HOT timeseries 1988to2019 27SEP2021,    106,  99,-999.0,      38,-999.0,19991214,1858,  22.7517, -157.9913,  4720, 4200.600,    1.460,   34.687,2,   34.689,2,  150.500,2,  150.500,2,  151.620,2, -999.000,3,    2.520,2, -999.000
           NA,HOT timeseries 1988to2019 27SEP2021,    106,  99,-999.0,      36,-999.0,19991214,1858,  22.7517, -157.9913,  4720, 4401.000,    1.475,   34.688,2,   34.687,2,  152.100,2,  151.400,2,  149.920,2,   35.660,2,    2.530,2, -999.000
           NA,HOT timeseries 1988to2019 27SEP2021,    106,  99,-999.0,      35,-999.0,19991214,1858,  22.7517, -157.9913,  4720, 4499.800,    1.485,   34.688,2,   34.688,2,  152.200,2,  151.700,2,  149.010,2,   35.610,2,    2.470,2, -999.000
           NA,HOT timeseries 1988to2019 27SEP2021,    106,  99,-999.0,      34,-999.0,19991214,1858,  22.7517, -157.9913,  4720, 4600.100,    1.495,   34.688,2,   34.688,2,  152.400,2,  151.900,2,  148.890,2,   35.570,2,    2.490,2, -999.000
           NA,HOT timeseries 1988to2019 27SEP2021,    106,  99,-999.0,      33,-999.0,19991214,1858,  22.7517, -157.9913,  4720, 4807.900,    1.510,   34.689,2,   34.688,2,  154.100,2,  154.100,2,  148.260,2,   35.430,2,    2.450,2, -999.000