BOTTLE,20214727JOAExport
EXPOCODE,SECT_ID,STNNBR,CASTNO,SAMPNO,BTLNBR,BTLNBR_FLAG_W,DATE,TIME,LATITUDE,LONGITUDE,DEPTH,CTDPRS,CTDTMP,CTDSAL,CTDSAL_FLAG_W,SALNTY,SALNTY_FLAG_W,CTDOXY,CTDOXY_FLAG_W,OXYGEN,OXYGEN_FLAG_W,SILCAT,SILCAT_FLAG_W,NINI,NINI_FLAG_W,PHSPHT,PHSPHT_FLAG_W,REVP
,,,,,,,,,,,,DB,IPTS-68,PSS-78,,PSS-78,,UMOL/KG,,UMOL/KG,,UMOL/KG,,UMOL/KG,,UMOL/KG,,DBAR
           NA,HOT timeseries 1988to2019 27SEP2021,    148,  99,-999.0,      31,-999.0,20031014,1153,  22.7480, -158.0005,  4744,    4.900,   26.861,   35.041,2,   35.040,2,  204.800,2,  203.600,2,    0.740,2,    0.010,2,    0.020,2, -999.000
           NA,HOT timeseries 1988to2019 27SEP2021,    148,  99,-999.0,      31,-999.0,20031014,1153,  22.7480, -158.0005,  4744,    5.800,   26.792,   35.043,2,   35.046,2,  204.500,2,  203.900,2,    0.720,2,    0.040,2,    0.020,2, -999.000
           NA,HOT timeseries 1988to2019 27SEP2021,    148,  99,-999.0,      30,-999.0,20031014,1153,  22.7480, -158.0005,  4744,   47.800,   26.787,   35.045,2,   35.043,2,  204.800,2,  203.900,2,    0.790,2,    0.050,2,    0.030,2, -999.000
           NA,HOT timeseries 1988to2019 27SEP2021,    148,  99,-999.0,      22,-999.0,20031014,1153,  22.7480, -158.0005,  4744,   88.400,   24.449,   34.998,2,   34.993,2,  221.900,2,  220.300,2,    0.800,2,    0.040,2,    0.030,2, -999.000
           NA,HOT timeseries 1988to2019 27SEP2021,    148,  99,-999.0,      21,-999.0,20031014,1153,  22.7480, -158.0005,  4744,  128.300,   23.315,   35.199,2,   35.195,2,  208.000,2,  207.900,2,    0.840,2,    0.040,2,    0.010,2, -999.000
           NA,HOT timeseries 1988to2019 27SEP2021,    148,  99,-999.0,      20,-999.0,20031014,1153,  22.7480, -158.0005,  4744,  176.400,   21.757,   35.293,2,   35.291,2,  196.200,2,  196.200,2,    1.180,2, -999.000,3,    0.030,2, -999.000
           NA,HOT timeseries 1988to2019 27SEP2021,    148,  99,-999.0,      19,-999.0,20031014,1153,  22.7480, -158.0005,  4744,  233.300,   18.603,   34.969,2,   34.970,2,  196.700,2,  195.200,2,    2.580,2,    3.050,2,    0.310,2, -999.000
           NA,HOT timeseries 1988to2019 27SEP2021,    148,  99,-999.0,      18,-999.0,20031014,1153,  22.7480, -158.0005,  4744,  279.700,   15.441,   34.542,2,   34.541,2,  189.000,2,  190.700,2,    5.540,2,    6.710,2,    0.600,2, -999.000
           NA,HOT timeseries 1988to2019 27SEP2021,    148,  99,-999.0,      17,-999.0,20031014,1153,  22.7480, -158.0005,  4744,  338.400,   12.174,   34.216,2,   34.222,2,  195.400,2,  194.100,2,   10.470,2,   11.370,2,    0.910,2, -999.000
           NA,HOT timeseries 1988to2019 27SEP2021,    148,  99,-999.0,      16,-999.0,20031014,1153,  22.7480, -158.0005,  4744,  375.000,   10.304,   34.139,2,   34.139,2,  189.500,2,  189.600,2,   17.580,2,   16.170,2,    1.210,2, -999.000
           NA,HOT timeseries 1988to2019 27SEP2021,    148,  99,-999.0,      23,-999.0,20031014,1153,  22.7480, -158.0005,  4744,  428.900,    8.844,   34.091,2,   34.092,2,  162.500,2,  160.900,2,   28.140,2,   21.980,2,    1.620,2, -999.000
           NA,HOT timeseries 1988to2019 27SEP2021,    148,  99,-999.0,     101,-999.0,20031014,1153,  22.7480, -158.0005,  4744,  493.300,    7.440,   34.082,2,   34.082,2,  110.700,2,  110.600,2,   43.580,2,   29.090,2,    2.170,2, -999.000
           NA,HOT timeseries 1988to2019 27SEP2021,    148,  99,-999.0,      42,-999.0,20031014,1153,  22.7480, -158.0005,  4744,  533.100,    6.563,   34.065,2,   34.066,2,   93.100,2,   90.700,2,   54.130,2,   32.630,2,    2.350,2, -999.000
           NA,HOT timeseries 1988to2019 27SEP2021,    148,  99,-999.0,      12,-999.0,20031014,1153,  22.7480, -158.0005,  4744,  556.300,    6.074,   34.083,2,   34.083,2,   76.100,2,   74.900,2,   61.990,2,   35.070,2,    2.550,2, -999.000
           NA,HOT timeseries 1988to2019 27SEP2021,    148,  99,-999.0,      39,-999.0,20031014,1153,  22.7480, -158.0005,  4744,  612.000,    5.617,   34.139,2,   34.138,2,   55.500,2,   54.800,2,   68.140,2,   37.420,2,    2.750,2, -999.000
           NA,HOT timeseries 1988to2019 27SEP2021,    148,  99,-999.0,      32,-999.0,20031014,1153,  22.7480, -158.0005,  4744,  681.800,    5.396,   34.260,2,   34.259,2,   33.300,2,   34.200,2, -999.000,4,   39.610,2,    2.910,2, -999.000
           NA,HOT timeseries 1988to2019 27SEP2021,    148,  99,-999.0,       3,-999.0,20031014,1153,  22.7480, -158.0005,  4744,  719.200,    5.206,   34.304,2,   34.303,2,   30.200,2,   30.500,2, -999.000,4,   40.420,2,    2.950,2, -999.000
           NA,HOT timeseries 1988to2019 27SEP2021,    148,  99,-999.0,      22,-999.0,20031014,1153,  22.7480, -158.0005,  4744,  753.200,    4.981,   34.338,2,   34.337,2,   31.700,2,   29.300,2, -999.000,4,   41.070,2,    2.990,2, -999.000
           NA,HOT timeseries 1988to2019 27SEP2021,    148,  99,-999.0,      29,-999.0,20031014,1153,  22.7480, -158.0005,  4744,  753.600,    5.049,   34.341,2,   34.340,2,   29.200,2,   29.100,2, -999.000,4,   40.950,2,    3.000,2, -999.000
           NA,HOT timeseries 1988to2019 27SEP2021,    148,  99,-999.0,      28,-999.0,20031014,1153,  22.7480, -158.0005,  4744,  800.400,    4.859,   34.389,2,   34.388,2,   30.900,2,   31.200,2, -999.000,4,   41.400,2,    3.020,2, -999.000
           NA,HOT timeseries 1988to2019 27SEP2021,    148,  99,-999.0,       7,-999.0,20031014,1153,  22.7480, -158.0005,  4744,  848.800,    4.669,   34.419,2,   34.415,2,   32.300,2,   31.800,2, -999.000,4,   41.700,2,    3.030,2, -999.000
           NA,HOT timeseries 1988to2019 27SEP2021,    148,  99,-999.0,      36,-999.0,20031014,1153,  22.7480, -158.0005,  4744,  921.800,    4.409,   34.453,2,   34.452,2,   34.500,2,   34.700,2, -999.000,4,   42.220,2,    3.070,2, -999.000
           NA,HOT timeseries 1988to2019 27SEP2021,    148,  99,-999.0,      33,-999.0,20031014,1153,  22.7480, -158.0005,  4744, 1019.300,    4.105,   34.493,2,   34.493,2,   41.900,2,   39.800,2, -999.000,4,   42.240,2,    3.060,2, -999.000
           NA,HOT timeseries 1988to2019 27SEP2021,    148,  99,-999.0,      20,-999.0,20031014,1153,  22.7480, -158.0005,  4744, 1201.000,    3.632,   34.528,2,   34.527,2,   49.500,2,   50.400,2,  117.150,2,   41.800,2,    3.010,2, -999.000
           NA,HOT timeseries 1988to2019 27SEP2021,    148,  99,-999.0,      19,-999.0,20031014,1153,  22.7480, -158.0005,  4744, 1397.500,    3.188,   34.557,2,   34.556,2,   57.900,2,   59.300,2,  126.200,2,   41.650,2,    3.020,2, -999.000
           NA,HOT timeseries 1988to2019 27SEP2021,    148,  99,-999.0,      18,-999.0,20031014,1153,  22.7480, -158.0005,  4744, 1600.600,    2.765,   34.581,2,   34.581,2,   68.500,2,   69.100,2,  136.730,2,   41.050,2,    2.970,2, -999.000
           NA,HOT timeseries 1988to2019 27SEP2021,    148,  99,-999.0,      17,-999.0,20031014,1153,  22.7480, -158.0005,  4744, 1804.200,    2.460,   34.601,2,   34.600,2,   77.600,2,   78.000,2,  143.020,2,   40.520,2,    2.880,2, -999.000
           NA,HOT timeseries 1988to2019 27SEP2021,    148,  99,-999.0,      16,-999.0,20031014,1153,  22.7480, -158.0005,  4744, 2001.800,    2.184,   34.619,2,   34.618,2,   87.800,2,   90.800,2,  148.120,2,   39.960,2,    2.820,2, -999.000
           NA,HOT timeseries 1988to2019 27SEP2021,    148,  99,-999.0,      23,-999.0,20031014,1153,  22.7480, -158.0005,  4744, 2202.500,    1.987,   34.633,2,   34.633,2,   96.000,2,   96.500,2,  152.630,2,   39.540,2, -999.000,3, -999.000
           NA,HOT timeseries 1988to2019 27SEP2021,    148,  99,-999.0,     101,-999.0,20031014,1153,  22.7480, -158.0005,  4744, 2403.500,    1.856,   34.643,2,   34.643,2,  103.900,2,  103.400,2,  153.350,2,   39.030,2,    2.760,2, -999.000
           NA,HOT timeseries 1988to2019 27SEP2021,    148,  99,-999.0,      42,-999.0,20031014,1153,  22.7480, -158.0005,  4744, 2603.400,    1.735,   34.653,2,   34.651,2,  110.200,2,  110.400,2,  155.570,2,   38.580,2,    2.710,2, -999.000
           NA,HOT timeseries 1988to2019 27SEP2021,    148,  99,-999.0,      12,-999.0,20031014,1153,  22.7480, -158.0005,  4744, 2801.200,    1.653,   34.660,2,   34.660,2,  116.900,2,  117.000,2,  157.550,2,   38.270,2,    2.690,2, -999.000
           NA,HOT timeseries 1988to2019 27SEP2021,    148,  99,-999.0,      39,-999.0,20031014,1153,  22.7480, -158.0005,  4744, 3001.300,    1.579,   34.667,2,   34.667,2,  123.300,2,  122.200,2,  158.840,2, -999.000,3,    2.670,2, -999.000
           NA,HOT timeseries 1988to2019 27SEP2021,    148,  99,-999.0,      32,-999.0,20031014,1153,  22.7480, -158.0005,  4744, 3200.800,    1.524,   34.674,2,   34.673,2,  129.300,2,  131.300,2,  158.260,2, -999.000,3,    2.640,2, -999.000
           NA,HOT timeseries 1988to2019 27SEP2021,    148,  99,-999.0,       3,-999.0,20031014,1153,  22.7480, -158.0005,  4744, 3402.700,    1.490,   34.678,2,   34.678,2,  136.100,2,  135.900,2,  155.790,2, -999.000,3,    2.580,2, -999.000
           NA,HOT timeseries 1988to2019 27SEP2021,    148,  99,-999.0,      29,-999.0,20031014,1153,  22.7480, -158.0005,  4744, 3603.000,    1.474,   34.682,2,   34.681,2,  140.700,2,  142.000,2,  155.110,2, -999.000,3,    2.580,2, -999.000
           NA,HOT timeseries 1988to2019 27SEP2021,    148,  99,-999.0,      28,-999.0,20031014,1153,  22.7480, -158.0005,  4744, 3802.200,    1.466,   34.684,2,   34.684,2,  145.000,2,  144.700,2,  153.920,2, -999.000,3,    2.540,2, -999.000
           NA,HOT timeseries 1988to2019 27SEP2021,    148,  99,-999.0,       7,-999.0,20031014,1153,  22.7480, -158.0005,  4744, 4004.500,    1.466,   34.686,2, -999.000,5,  148.000,2,  147.700,2,  152.930,2, -999.000,3,    2.490,2, -999.000
           NA,HOT timeseries 1988to2019 27SEP2021,    148,  99,-999.0,      38,-999.0,20031014,1153,  22.7480, -158.0005,  4744, 4201.200,    1.472,   34.688,2,   34.688,2,  150.500,2,  151.200,2,  152.150,2, -999.000,3,    2.520,2, -999.000
           NA,HOT timeseries 1988to2019 27SEP2021,    148,  99,-999.0,      36,-999.0,20031014,1153,  22.7480, -158.0005,  4744, 4398.500,    1.485,   34.689,2,   34.688,2,  152.000,2,  151.900,2,  151.470,2, -999.000,3,    2.470,2, -999.000
           NA,HOT timeseries 1988to2019 27SEP2021,    148,  99,-999.0,      35,-999.0,20031014,1153,  22.7480, -158.0005,  4744, 4497.600,    1.493,   34.689,2,   34.688,2,  152.600,2,  151.900,2,  151.280,2, -999.000,3, -999.000,3, -999.000
           NA,HOT timeseries 1988to2019 27SEP2021,    148,  99,-999.0,      34,-999.0,20031014,1153,  22.7480, -158.0005,  4744, 4597.900,    1.502,   34.689,2,   34.689,2,  152.900,2,  151.900,2,  150.920,2, -999.000,3,    2.500,2, -999.000
           NA,HOT timeseries 1988to2019 27SEP2021,    148,  99,-999.0,      33,-999.0,20031014,1153,  22.7480, -158.0005,  4744, 4780.300,    1.517,   34.690,2,   34.690,2,  153.200,2,  153.700,2,  149.670,2, -999.000,3,    2.440,2, -999.000