BOTTLE,20214727JOAExport
EXPOCODE,SECT_ID,STNNBR,CASTNO,SAMPNO,BTLNBR,BTLNBR_FLAG_W,DATE,TIME,LATITUDE,LONGITUDE,DEPTH,CTDPRS,CTDTMP,CTDSAL,CTDSAL_FLAG_W,SALNTY,SALNTY_FLAG_W,CTDOXY,CTDOXY_FLAG_W,OXYGEN,OXYGEN_FLAG_W,SILCAT,SILCAT_FLAG_W,NINI,NINI_FLAG_W,PHSPHT,PHSPHT_FLAG_W,REVP
,,,,,,,,,,,,DB,IPTS-68,PSS-78,,PSS-78,,UMOL/KG,,UMOL/KG,,UMOL/KG,,UMOL/KG,,UMOL/KG,,DBAR
           NA,HOT timeseries 1988to2019 27SEP2021,      2,  99,-999.0,    8025,-999.0,20181012,2306,  22.7498, -158.0000,  4740, 2599.700,    1.693,   34.652,2,   34.651,2,  108.400,2,  107.700,2,  159.070,2,   38.490,2,    2.730,2, -999.000
           NA,HOT timeseries 1988to2019 27SEP2021,      2,  99,-999.0,    8012,-999.0,20181012,2306,  22.7498, -158.0000,  4740, 2800.300,    1.610,   34.661,2,   34.662,2,  116.600,2, -999.000,5,  158.600,2,   37.850,2,    2.660,2, -999.000
           NA,HOT timeseries 1988to2019 27SEP2021,      2,  99,-999.0,    8011,-999.0,20181012,2306,  22.7498, -158.0000,  4740, 3000.400,    1.554,   34.667,2,   34.667,2,  123.800,2,  124.000,2,  157.600,2,   37.560,2,    2.630,2, -999.000
           NA,HOT timeseries 1988to2019 27SEP2021,      2,  99,-999.0,    8010,-999.0,20181012,2306,  22.7498, -158.0000,  4740, 3200.400,    1.522,   34.673,2,   34.673,2,  129.400,2, -999.000,5,  156.800,2,   37.090,2,    2.600,2, -999.000
           NA,HOT timeseries 1988to2019 27SEP2021,      2,  99,-999.0,    8009,-999.0,20181012,2306,  22.7498, -158.0000,  4740, 3400.500,    1.490,   34.677,2,   34.678,2,  135.200,2,  135.500,2,  154.620,2,   36.830,2,    2.580,2, -999.000
           NA,HOT timeseries 1988to2019 27SEP2021,      2,  99,-999.0,    8008,-999.0,20181012,2306,  22.7498, -158.0000,  4740, 3601.800,    1.471,   34.681,2,   34.681,2,  140.900,2,  140.700,2,  152.810,2,   36.440,2,    2.560,2, -999.000
           NA,HOT timeseries 1988to2019 27SEP2021,      2,  99,-999.0,    8060,-999.0,20181012,2306,  22.7498, -158.0000,  4740, 3799.700,    1.464,   34.684,2,   34.684,2,  145.000,2,  144.500,2,  151.480,2,   36.220,2,    2.540,2, -999.000
           NA,HOT timeseries 1988to2019 27SEP2021,      2,  99,-999.0,    8006,-999.0,20181012,2306,  22.7498, -158.0000,  4740, 4001.300,    1.466,   34.686,2,   34.686,2,  147.600,2,  148.100,2,  150.100,2,   36.010,2,    2.520,2, -999.000
           NA,HOT timeseries 1988to2019 27SEP2021,      2,  99,-999.0,    8005,-999.0,20181012,2306,  22.7498, -158.0000,  4740, 4200.600,    1.473,   34.688,2,   34.687,2,  150.000,2,  149.200,2,  149.330,2,   35.860,2,    2.500,2, -999.000
           NA,HOT timeseries 1988to2019 27SEP2021,      2,  99,-999.0,    8059,-999.0,20181012,2306,  22.7498, -158.0000,  4740, 4401.800,    1.485,   34.689,2,   34.688,2,  151.800,2,  150.800,2,  148.500,2,   35.730,2,    2.490,2, -999.000
           NA,HOT timeseries 1988to2019 27SEP2021,      2,  99,-999.0,    8003,-999.0,20181012,2306,  22.7498, -158.0000,  4740, 4500.300,    1.490,   34.689,2,   34.689,2,  152.600,2,  152.600,2,  148.220,2,   35.870,2,    2.510,2, -999.000
           NA,HOT timeseries 1988to2019 27SEP2021,      2,  99,-999.0,    8002,-999.0,20181012,2306,  22.7498, -158.0000,  4740, 4602.100,    1.495,   34.690,2,   34.689,2,  153.400,2,  153.000,2,  146.780,2,   35.660,2,    2.490,2, -999.000
           NA,HOT timeseries 1988to2019 27SEP2021,      2,  99,-999.0,    8001,-999.0,20181012,2306,  22.7498, -158.0000,  4740, 4807.600,    1.511,   34.691,2,   34.690,2,  154.800,2,  154.800,2,  145.570,2,   35.500,2,    2.470,2, -999.000
           NA,HOT timeseries 1988to2019 27SEP2021,      2,  99,-999.0,    8058,-999.0,20181116,2216,  22.7487, -158.0022,  4740,   64.600,   24.397,   35.090,2,   35.091,2,  212.500,2,  214.600,2,    1.400,2,    0.050,2,    0.050,2, -999.000
           NA,HOT timeseries 1988to2019 27SEP2021,      2,  99,-999.0,    8023,-999.0,20181116,2216,  22.7487, -158.0022,  4740,   76.100,   23.845,   35.079,2,   35.084,2,  216.300,2,  216.900,2, -999.000,3,    0.080,2,    0.090,2, -999.000
           NA,HOT timeseries 1988to2019 27SEP2021,      2,  99,-999.0,    8022,-999.0,20181116,2216,  22.7487, -158.0022,  4740,   93.600,   22.789,   35.090,2,   35.095,2,  213.100,2,  213.300,2,    1.640,2, -999.000,3,    0.120,2, -999.000
           NA,HOT timeseries 1988to2019 27SEP2021,      2,  99,-999.0,    8021,-999.0,20181116,2216,  22.7487, -158.0022,  4740,  114.400,   21.982,   35.130,2,   35.130,2,  207.100,2,  206.600,2, -999.000,3,    0.680,2,    0.140,2, -999.000
           NA,HOT timeseries 1988to2019 27SEP2021,      2,  99,-999.0,    8019,-999.0,20181116,2216,  22.7487, -158.0022,  4740,  215.500,   19.922,   35.112,2,   35.099,2,  202.200,2,  202.300,2,    2.170,2,    1.410,2,    0.190,2, -999.000
           NA,HOT timeseries 1988to2019 27SEP2021,      2,  99,-999.0,    8018,-999.0,20181116,2216,  22.7487, -158.0022,  4740,  277.700,   16.710,   34.671,2,   34.659,2,  202.200,2,  201.800,2, -999.000,3,    4.120,2,    0.380,2, -999.000
           NA,HOT timeseries 1988to2019 27SEP2021,      2,  99,-999.0,    8017,-999.0,20181116,2216,  22.7487, -158.0022,  4740,  328.100,   12.126,   34.136,2,   34.145,2,  203.100,2,  202.700,2,   10.640,2,   10.800,2,    0.830,2, -999.000
           NA,HOT timeseries 1988to2019 27SEP2021,      2,  99,-999.0,    8015,-999.0,20181116,2216,  22.7487, -158.0022,  4740,  392.600,   10.180,   34.114,2,   34.115,2,  196.300,2,  193.000,2,   19.340,2,   16.400,2,    1.190,2, -999.000
           NA,HOT timeseries 1988to2019 27SEP2021,      2,  99,-999.0,    8014,-999.0,20181116,2216,  22.7487, -158.0022,  4740,  446.000,    8.690,   34.062,2,   34.061,2,  159.600,2,  158.800,2,   30.250,2,   22.610,2,    1.650,2, -999.000
           NA,HOT timeseries 1988to2019 27SEP2021,      2,  99,-999.0,    8025,-999.0,20181116,2216,  22.7487, -158.0022,  4740,  486.800,    7.560,   34.054,2,   34.053,2,  115.900,2,  116.000,2,   43.400,2,   28.400,2,    2.090,2, -999.000
           NA,HOT timeseries 1988to2019 27SEP2021,      2,  99,-999.0,    8012,-999.0,20181116,2216,  22.7487, -158.0022,  4740,  505.700,    7.116,   34.056,2, -999.000,3, -999.000,3, -999.000,3,   51.390,2,   31.400,2,    2.310,2, -999.000
           NA,HOT timeseries 1988to2019 27SEP2021,      2,  99,-999.0,    8011,-999.0,20181116,2216,  22.7487, -158.0022,  4740,  535.300,    6.493,   34.074,2,   34.072,2,   76.700,2,   78.200,2,   58.900,2,   33.600,2,    2.470,2, -999.000
           NA,HOT timeseries 1988to2019 27SEP2021,      2,  99,-999.0,    8010,-999.0,20181116,2216,  22.7487, -158.0022,  4740,  574.300,    5.998,   34.106,2,   34.104,2,   59.500,2,   60.000,2,   68.370,2,   35.840,2,    2.650,2, -999.000
           NA,HOT timeseries 1988to2019 27SEP2021,      2,  99,-999.0,    8009,-999.0,20181116,2216,  22.7487, -158.0022,  4740,  621.700,    5.669,   34.141,2,   34.139,2,   47.900,2,   45.400,2,   74.410,2,   37.550,2,    2.790,2, -999.000
           NA,HOT timeseries 1988to2019 27SEP2021,      2,  99,-999.0,    8008,-999.0,20181116,2216,  22.7487, -158.0022,  4740,  687.300,    5.188,   34.234,2,   34.230,2,   29.100,2,   28.200,2,   85.510,2,   39.830,2,    2.970,2, -999.000
           NA,HOT timeseries 1988to2019 27SEP2021,      2,  99,-999.0,    8060,-999.0,20181116,2216,  22.7487, -158.0022,  4740,  756.900,    4.855,   34.314,2,   34.312,2,   24.200,2,   24.300,2,   92.930,2,   40.830,2,    3.050,2, -999.000
           NA,HOT timeseries 1988to2019 27SEP2021,      2,  99,-999.0,    8059,-999.0,20181116,2216,  22.7487, -158.0022,  4740,  840.200,    4.460,   34.400,2,   34.399,2,   29.200,2,   28.600,2,  105.040,2,   41.590,2,    3.070,2, -999.000
           NA,HOT timeseries 1988to2019 27SEP2021,      2,  99,-999.0,    8003,-999.0,20181116,2216,  22.7487, -158.0022,  4740,  910.600,    4.229,   34.446,2,   34.445,2,   34.500,2,   34.500,2,  106.930,2,   41.560,2,    3.050,2, -999.000
           NA,HOT timeseries 1988to2019 27SEP2021,      2,  99,-999.0,    8002,-999.0,20181116,2216,  22.7487, -158.0022,  4740,  981.600,    4.062,   34.477,2,   34.478,2,   38.900,2,   39.800,2,  108.900,2,   41.620,2,    3.040,2, -999.000
           NA,HOT timeseries 1988to2019 27SEP2021,      2,  99,-999.0,    8020,-999.0,20181116,2216,  22.7487, -158.0022,  4740, 1200.300,    3.508,   34.528,2,   34.528,2,   49.500,2,   49.600,2,  120.590,2,   41.750,2,    3.060,2, -999.000
           NA,HOT timeseries 1988to2019 27SEP2021,      2,  99,-999.0,    8019,-999.0,20181116,2216,  22.7487, -158.0022,  4740, 1400.000,    3.093,   34.556,2,   34.556,2,   58.200,2,   59.000,2, -999.000,3,   41.450,2,    3.020,2, -999.000
           NA,HOT timeseries 1988to2019 27SEP2021,      2,  99,-999.0,    8018,-999.0,20181116,2216,  22.7487, -158.0022,  4740, 1601.700,    2.745,   34.577,2,   34.577,2,   68.400,2,   68.500,2,  137.060,2,   40.870,2,    2.960,2, -999.000
           NA,HOT timeseries 1988to2019 27SEP2021,      2,  99,-999.0,    8017,-999.0,20181116,2216,  22.7487, -158.0022,  4740, 1799.700,    2.412,   34.597,2,   34.597,2,   78.000,2,   77.800,2,  145.650,2,   40.280,2,    2.900,2, -999.000
           NA,HOT timeseries 1988to2019 27SEP2021,      2,  99,-999.0,    8016,-999.0,20181116,2216,  22.7487, -158.0022,  4740, 2000.200,    2.154,   34.614,2,   34.615,2,   85.600,2,   85.600,2,  151.400,2,   39.940,2,    2.870,2, -999.000
           NA,HOT timeseries 1988to2019 27SEP2021,      2,  99,-999.0,    8015,-999.0,20181116,2216,  22.7487, -158.0022,  4740, 2199.900,    1.945,   34.629,2,   34.629,2,   94.200,2,   94.400,2,  155.520,2,   39.550,2,    2.830,2, -999.000
           NA,HOT timeseries 1988to2019 27SEP2021,      2,  99,-999.0,    8014,-999.0,20181116,2216,  22.7487, -158.0022,  4740, 2400.800,    1.798,   34.642,2,   34.642,2,  101.500,2,  101.800,2,  159.460,2,   39.010,2,    2.790,2, -999.000
           NA,HOT timeseries 1988to2019 27SEP2021,      2,  99,-999.0,    8025,-999.0,20181116,2216,  22.7487, -158.0022,  4740, 2599.600,    1.685,   34.650,2,   34.650,2,  109.600,2,  109.600,2,  160.130,2,   38.460,2,    2.730,2, -999.000
           NA,HOT timeseries 1988to2019 27SEP2021,      2,  99,-999.0,    8012,-999.0,20181116,2216,  22.7487, -158.0022,  4740, 2798.400,    1.600,   34.659,2,   34.660,2,  117.800,2,  118.200,2,  159.520,2,   37.740,2,    2.670,2, -999.000
           NA,HOT timeseries 1988to2019 27SEP2021,      2,  99,-999.0,    8011,-999.0,20181116,2216,  22.7487, -158.0022,  4740, 2999.700,    1.534,   34.668,2,   34.668,2,  126.100,2,  126.400,2,  157.910,2,   37.390,2,    2.650,2, -999.000
           NA,HOT timeseries 1988to2019 27SEP2021,      2,  99,-999.0,    8010,-999.0,20181116,2216,  22.7487, -158.0022,  4740, 3198.600,    1.497,   34.673,2,   34.673,2,  133.300,2, -999.000,4,  156.210,2,   36.920,2,    2.610,2, -999.000
           NA,HOT timeseries 1988to2019 27SEP2021,      2,  99,-999.0,    8009,-999.0,20181116,2216,  22.7487, -158.0022,  4740, 3399.200,    1.464,   34.678,2,   34.678,2,  139.200,2,  139.300,2, -999.000,3,   36.590,2,    2.580,2, -999.000
           NA,HOT timeseries 1988to2019 27SEP2021,      2,  99,-999.0,    8008,-999.0,20181116,2216,  22.7487, -158.0022,  4740, 3599.200,    1.448,   34.682,2,   34.682,2,  144.200,2,  144.400,2,  152.950,2,   36.100,2,    2.550,2, -999.000
           NA,HOT timeseries 1988to2019 27SEP2021,      2,  99,-999.0,    8060,-999.0,20181116,2216,  22.7487, -158.0022,  4740, 3799.100,    1.445,   34.684,2,   34.684,2,  147.500,2,  147.500,2,  151.760,2,   36.120,2,    2.540,2, -999.000
           NA,HOT timeseries 1988to2019 27SEP2021,      2,  99,-999.0,    8006,-999.0,20181116,2216,  22.7487, -158.0022,  4740, 4000.700,    1.451,   34.685,2,   34.686,2,  150.000,2,  149.900,2,  150.510,2,   35.930,2,    2.520,2, -999.000
           NA,HOT timeseries 1988to2019 27SEP2021,      2,  99,-999.0,    8005,-999.0,20181116,2216,  22.7487, -158.0022,  4740, 4198.300,    1.464,   34.686,2,   34.686,2,  151.500,2,  151.400,2, -999.000,3,   35.710,2,    2.510,2, -999.000
           NA,HOT timeseries 1988to2019 27SEP2021,      2,  99,-999.0,    8059,-999.0,20181116,2216,  22.7487, -158.0022,  4740, 4397.800,    1.481,   34.687,2,   34.687,2,  152.700,2,  152.400,2, -999.000,3,   35.680,2,    2.500,2, -999.000
           NA,HOT timeseries 1988to2019 27SEP2021,      2,  99,-999.0,    8003,-999.0,20181116,2216,  22.7487, -158.0022,  4740, 4500.000,    1.491,   34.687,2,   34.688,2,  152.500,2,  153.000,2,  148.900,2,   35.640,2,    2.500,2, -999.000
           NA,HOT timeseries 1988to2019 27SEP2021,      2,  99,-999.0,    8002,-999.0,20181116,2216,  22.7487, -158.0022,  4740, 4597.500,    1.500,   34.687,2,   34.688,2,  153.000,2,  153.000,2, -999.000,3,   35.740,2,    2.510,2, -999.000
           NA,HOT timeseries 1988to2019 27SEP2021,      2,  99,-999.0,    8001,-999.0,20181116,2216,  22.7487, -158.0022,  4740, 4802.600,    1.517,   34.688,2,   34.689,2,  154.200,2,  153.700,2,  148.430,2,   35.410,2,    2.480,2, -999.000
           NA,HOT timeseries 1988to2019 27SEP2021,      2,   1,-999.0,    8084,-999.0,20181211,1726,  22.7498, -158.0000,  4745,    5.700,   24.611,   35.129,2,   35.132,2,  210.100,2,  210.100,2,    0.760,2,    0.030,2,    0.030,2, -999.000
           NA,HOT timeseries 1988to2019 27SEP2021,      2,   1,-999.0,    8083,-999.0,20181211,1726,  22.7498, -158.0000,  4745,  499.600,    7.230,   34.037,2,   34.037,2,  114.700,2,  114.900,2,   45.720,2,   29.620,2,    2.170,2, -999.000
           NA,HOT timeseries 1988to2019 27SEP2021,      2,   1,-999.0,    8082,-999.0,20181211,1726,  22.7498, -158.0000,  4745,  749.500,    4.673,   34.260,2,   34.257,2,   33.400,2,   33.000,2,   95.860,2,   40.930,2,    3.020,2, -999.000
           NA,HOT timeseries 1988to2019 27SEP2021,      2,   1,-999.0,    8081,-999.0,20181211,1726,  22.7498, -158.0000,  4745, 1000.100,    3.858,   34.474,2,   34.474,2,   45.100,2,   44.800,2,  111.700,2,   41.600,2,    3.050,2, -999.000
           NA,HOT timeseries 1988to2019 27SEP2021,      2,   1,-999.0,    8080,-999.0,20181211,1726,  22.7498, -158.0000,  4745, 1200.100,    3.407,   34.533,2,   34.533,2,   54.400,2,   54.900,2,  121.750,2,   41.450,2,    3.030,2, -999.000
           NA,HOT timeseries 1988to2019 27SEP2021,      2,   1,-999.0,    8079,-999.0,20181211,1726,  22.7498, -158.0000,  4745, 1399.400,    2.972,   34.560,2,   34.561,2,   63.100,2,   63.200,2,  130.060,2,   41.180,2,    2.990,2, -999.000
           NA,HOT timeseries 1988to2019 27SEP2021,      2,   1,-999.0,    8018,-999.0,20181211,1726,  22.7498, -158.0000,  4745, 1598.200,    2.652,   34.581,2,   34.580,2,   70.600,2,   70.600,2,  137.110,2,   40.820,2,    2.960,2, -999.000
           NA,HOT timeseries 1988to2019 27SEP2021,      2,   1,-999.0,    8077,-999.0,20181211,1726,  22.7498, -158.0000,  4745, 1799.500,    2.312,   34.602,2,   34.604,2,   80.400,2,   80.500,2,  144.940,2,   40.220,2,    2.890,2, -999.000
           NA,HOT timeseries 1988to2019 27SEP2021,      2,   1,-999.0,    8076,-999.0,20181211,1726,  22.7498, -158.0000,  4745, 1999.300,    2.061,   34.620,2,   34.619,2,   89.600,2,   90.300,2,  152.350,2,   39.660,2,    2.850,2, -999.000
           NA,HOT timeseries 1988to2019 27SEP2021,      2,   1,-999.0,    8075,-999.0,20181211,1726,  22.7498, -158.0000,  4745, 2198.800,    1.898,   34.634,2,   34.634,2,   96.300,2,   96.500,2,  154.830,2,   39.240,2,    2.810,2, -999.000
           NA,HOT timeseries 1988to2019 27SEP2021,      2,   1,-999.0,    8074,-999.0,20181211,1726,  22.7498, -158.0000,  4745, 2401.700,    1.764,   34.643,2,   34.643,2,  103.100,2,  103.000,2,  158.780,2,   38.800,2,    2.770,2, -999.000
           NA,HOT timeseries 1988to2019 27SEP2021,      2,   1,-999.0,    8073,-999.0,20181211,1726,  22.7498, -158.0000,  4745, 2599.700,    1.665,   34.654,2,   34.653,2,  112.300,2,  112.200,2,  160.930,2,   38.280,2,    2.710,2, -999.000
           NA,HOT timeseries 1988to2019 27SEP2021,      2,   1,-999.0,    8012,-999.0,20181211,1726,  22.7498, -158.0000,  4745, 2801.100,    1.582,   34.662,2,   34.662,2,  120.200,2,  120.200,2,  157.590,2,   37.570,2,    2.660,2, -999.000
           NA,HOT timeseries 1988to2019 27SEP2021,      2,   1,-999.0,    8071,-999.0,20181211,1726,  22.7498, -158.0000,  4745, 2999.800,    1.524,   34.669,2,   34.670,2,  128.400,2,  128.300,2,  156.170,2,   37.090,2,    2.620,2, -999.000
           NA,HOT timeseries 1988to2019 27SEP2021,      2,   1,-999.0,    8070,-999.0,20181211,1726,  22.7498, -158.0000,  4745, 3201.800,    1.487,   34.675,2,   34.674,2,  133.900,2,  134.000,2,  154.810,2,   36.690,2,    2.590,2, -999.000
           NA,HOT timeseries 1988to2019 27SEP2021,      2,   1,-999.0,    8069,-999.0,20181211,1726,  22.7498, -158.0000,  4745, 3401.400,    1.474,   34.679,2,   34.679,2,  138.500,2,  138.400,2,  157.570,2,   36.510,2,    2.580,2, -999.000
           NA,HOT timeseries 1988to2019 27SEP2021,      2,   1,-999.0,    8008,-999.0,20181211,1726,  22.7498, -158.0000,  4745, 3601.200,    1.460,   34.682,2,   34.681,2,  143.100,2,  143.000,2,  152.680,2,   36.170,2,    2.550,2, -999.000
           NA,HOT timeseries 1988to2019 27SEP2021,      2,   1,-999.0,    8067,-999.0,20181211,1726,  22.7498, -158.0000,  4745, 3801.000,    1.444,   34.685,2,   34.684,2,  148.000,2,  147.900,2,  153.230,2,   35.880,2,    2.530,2, -999.000
           NA,HOT timeseries 1988to2019 27SEP2021,      2,   1,-999.0,    8006,-999.0,20181211,1726,  22.7498, -158.0000,  4745, 3999.400,    1.453,   34.686,2,   34.686,2,  149.500,2,  149.100,2,  149.750,2,   35.920,2,    2.530,2, -999.000
           NA,HOT timeseries 1988to2019 27SEP2021,      2,   1,-999.0,    8065,-999.0,20181211,1726,  22.7498, -158.0000,  4745, 4200.200,    1.468,   34.687,2,   34.687,2,  151.000,2,  150.900,2,  151.750,2,   35.760,2,    2.530,2, -999.000
           NA,HOT timeseries 1988to2019 27SEP2021,      2,   1,-999.0,    8064,-999.0,20181211,1726,  22.7498, -158.0000,  4745, 4400.000,    1.484,   34.687,2,   34.688,2,  151.700,2, -999.000,3,  147.940,2,   35.700,2,    2.510,2, -999.000
           NA,HOT timeseries 1988to2019 27SEP2021,      2,   1,-999.0,    8063,-999.0,20181211,1726,  22.7498, -158.0000,  4745, 4499.500,    1.493,   34.688,2,   34.688,2,  152.200,2,  152.600,2,  148.580,2,   35.730,2,    2.510,2, -999.000
           NA,HOT timeseries 1988to2019 27SEP2021,      2,   1,-999.0,    8002,-999.0,20181211,1726,  22.7498, -158.0000,  4745, 4600.500,    1.502,   34.687,2,   34.688,2,  152.500,2,  152.500,2,  147.940,2,   35.670,2,    2.510,2, -999.000
           NA,HOT timeseries 1988to2019 27SEP2021,      2,   1,-999.0,    8061,-999.0,20181211,1726,  22.7498, -158.0000,  4745, 4798.200,    1.517,   34.688,2,   34.688,2,  153.700,2,  154.300,2,  147.500,2,   35.450,2,    2.490,2, -999.000