BOTTLE,20214727JOAExport
EXPOCODE,SECT_ID,STNNBR,CASTNO,SAMPNO,BTLNBR,BTLNBR_FLAG_W,DATE,TIME,LATITUDE,LONGITUDE,DEPTH,CTDPRS,CTDTMP,CTDSAL,CTDSAL_FLAG_W,SALNTY,SALNTY_FLAG_W,CTDOXY,CTDOXY_FLAG_W,OXYGEN,OXYGEN_FLAG_W,SILCAT,SILCAT_FLAG_W,NINI,NINI_FLAG_W,PHSPHT,PHSPHT_FLAG_W,REVP
,,,,,,,,,,,,DB,IPTS-68,PSS-78,,PSS-78,,UMOL/KG,,UMOL/KG,,UMOL/KG,,UMOL/KG,,UMOL/KG,,DBAR
           NA,HOT timeseries 1988to2019 27SEP2021,    109,  99,-999.0,      31,-999.0,20000328,1901,  22.7498, -158.0000,  4722,    4.400,   23.464,   35.337,2,   35.334,2,  207.400,2,  212.100,2,    1.330,2,    0.010,2,    0.120,2, -999.000
           NA,HOT timeseries 1988to2019 27SEP2021,    109,  99,-999.0,      30,-999.0,20000328,1901,  22.7498, -158.0000,  4722,   45.200,   23.454,   35.338,2,   35.336,2,  207.600,2,  211.700,2,    1.260,2,    0.000,2,    0.090,2, -999.000
           NA,HOT timeseries 1988to2019 27SEP2021,    109,  99,-999.0,      22,-999.0,20000328,1901,  22.7498, -158.0000,  4722,   89.600,   22.779,   35.409,2,   35.404,2,  208.300,2,  212.200,2,    1.330,2,    0.010,2,    0.070,2, -999.000
           NA,HOT timeseries 1988to2019 27SEP2021,    109,  99,-999.0,      21,-999.0,20000328,1901,  22.7498, -158.0000,  4722,  124.500,   22.140,   35.354,2,   35.351,2,  200.800,2,  203.700,2,    2.590,2,    0.330,2,    0.110,2, -999.000
           NA,HOT timeseries 1988to2019 27SEP2021,    109,  99,-999.0,      20,-999.0,20000328,1901,  22.7498, -158.0000,  4722,  170.000,   19.727,   35.144,2,   35.137,2,  190.500,2,  194.600,2,    2.450,2,    1.970,2,    0.220,2, -999.000
           NA,HOT timeseries 1988to2019 27SEP2021,    109,  99,-999.0,      18,-999.0,20000328,1901,  22.7498, -158.0000,  4722,  237.800,   16.200,   34.689,2,   34.683,2,  194.600,2,  197.700,2,    4.760,2,    4.770,2,    0.400,2, -999.000
           NA,HOT timeseries 1988to2019 27SEP2021,    109,  99,-999.0,      17,-999.0,20000328,1901,  22.7498, -158.0000,  4722,  275.200,   13.875,   34.412,2,   34.404,2,  196.200,2,  198.500,2,    7.420,2,    7.760,2,    0.620,2, -999.000
           NA,HOT timeseries 1988to2019 27SEP2021,    109,  99,-999.0,      16,-999.0,20000328,1901,  22.7498, -158.0000,  4722,  313.800,   12.689,   34.371,2, -999.000,4, -999.000,3,  210.000,2,    9.620,2,    9.520,2,    0.690,2, -999.000
           NA,HOT timeseries 1988to2019 27SEP2021,    109,  99,-999.0,      23,-999.0,20000328,1901,  22.7498, -158.0000,  4722,  349.300,   11.802,   34.297,2,   34.296,2,  207.000,2,  208.400,2,   12.120,2,   11.320,2,    0.820,2, -999.000
           NA,HOT timeseries 1988to2019 27SEP2021,    109,  99,-999.0,      14,-999.0,20000328,1901,  22.7498, -158.0000,  4722,  389.800,   10.855,   34.208,2,   34.205,2,  198.800,2,  200.300,2,   15.330,2,   13.940,2,    1.000,2, -999.000
           NA,HOT timeseries 1988to2019 27SEP2021,    109,  99,-999.0,      13,-999.0,20000328,1901,  22.7498, -158.0000,  4722,  454.800,    8.897,   34.085,2,   34.089,2,  171.300,2,  175.600,2,   26.660,2,   20.250,2,    1.440,2, -999.000
           NA,HOT timeseries 1988to2019 27SEP2021,    109,  99,-999.0,      30,-999.0,20000328,1901,  22.7498, -158.0000,  4722,  502.500,    7.631,   34.042,2,   34.039,2,  147.800,2,  148.000,2,   37.010,2,   25.010,2,    1.740,2, -999.000
           NA,HOT timeseries 1988to2019 27SEP2021,    109,  99,-999.0,      12,-999.0,20000328,1901,  22.7498, -158.0000,  4722,  522.000,    7.356,   34.045,2,   34.043,2,  132.100,2,  132.100,2,   41.700,2,   27.130,2,    1.930,2, -999.000
           NA,HOT timeseries 1988to2019 27SEP2021,    109,  99,-999.0,      11,-999.0,20000328,1901,  22.7498, -158.0000,  4722,  561.400,    6.741,   34.059,2,   34.058,2,  104.100,2,  103.600,2,   51.530,2,   30.920,2,    2.290,2, -999.000
           NA,HOT timeseries 1988to2019 27SEP2021,    109,  99,-999.0,      32,-999.0,20000328,1901,  22.7498, -158.0000,  4722,  603.900,    6.207,   34.103,2,   34.105,2,   72.700,2,   73.000,2,   62.110,2,   34.460,2,    2.530,2, -999.000
           NA,HOT timeseries 1988to2019 27SEP2021,    109,  99,-999.0,       3,-999.0,20000328,1901,  22.7498, -158.0000,  4722,  639.600,    5.544,   34.140,2,   34.139,2,   53.000,2,   52.700,2,   74.680,2,   37.350,2,    2.760,2, -999.000
           NA,HOT timeseries 1988to2019 27SEP2021,    109,  99,-999.0,      29,-999.0,20000328,1901,  22.7498, -158.0000,  4722,  694.100,    5.484,   34.276,2,   34.276,2,   25.700,2,   24.900,2,   80.330,2,   39.650,2,    2.990,2, -999.000
           NA,HOT timeseries 1988to2019 27SEP2021,    109,  99,-999.0,      28,-999.0,20000328,1901,  22.7498, -158.0000,  4722,  731.200,    5.261,   34.309,2,   34.307,2,   29.800,2,   28.000,2,   86.370,2,   40.090,2,    3.000,2, -999.000
           NA,HOT timeseries 1988to2019 27SEP2021,    109,  99,-999.0,       7,-999.0,20000328,1901,  22.7498, -158.0000,  4722,  772.900,    4.963,   34.339,2,   34.339,2,   29.900,2,   28.800,2,   90.600,2,   40.810,2,    3.000,2, -999.000
           NA,HOT timeseries 1988to2019 27SEP2021,    109,  99,-999.0,      38,-999.0,20000328,1901,  22.7498, -158.0000,  4722,  825.100,    4.777,   34.391,2,   34.389,2,   31.700,2,   31.500,2,   94.320,2,   41.150,2,    3.030,2, -999.000
           NA,HOT timeseries 1988to2019 27SEP2021,    109,  99,-999.0,      36,-999.0,20000328,1901,  22.7498, -158.0000,  4722,  874.300,    4.532,   34.407,2,   34.410,2,   33.600,2,   32.500,2,   97.640,2,   41.150,2,    3.030,2, -999.000
           NA,HOT timeseries 1988to2019 27SEP2021,    109,  99,-999.0,      21,-999.0,20000328,1901,  22.7498, -158.0000,  4722,  995.800,    4.002,   34.467,2,   34.465,2,   38.900,2, -999.000,5,  109.350,2,   41.660,2,    3.070,2, -999.000
           NA,HOT timeseries 1988to2019 27SEP2021,    109,  99,-999.0,      33,-999.0,20000328,1901,  22.7498, -158.0000,  4722, 1019.200,    3.970,   34.482,2,   34.480,2,   39.800,2,   40.700,2,  111.150,2,   41.620,2,    3.060,2, -999.000
           NA,HOT timeseries 1988to2019 27SEP2021,    109,  99,-999.0,      20,-999.0,20000328,1901,  22.7498, -158.0000,  4722, 1197.500,    3.465,   34.519,2,   34.517,2,   49.400,2,   49.800,2,  120.790,2,   41.400,2,    3.030,2, -999.000
           NA,HOT timeseries 1988to2019 27SEP2021,    109,  99,-999.0,      19,-999.0,20000328,1901,  22.7498, -158.0000,  4722, 1398.000,    3.043,   34.558,2,   34.559,2,   58.900,2,   59.800,2, -999.000,3,   40.970,2,    2.970,2, -999.000
           NA,HOT timeseries 1988to2019 27SEP2021,    109,  99,-999.0,      18,-999.0,20000328,1901,  22.7498, -158.0000,  4722, 1600.300,    2.650,   34.582,2,   34.584,2,   69.000,2,   70.100,2,  138.490,2,   40.210,2,    2.960,2, -999.000
           NA,HOT timeseries 1988to2019 27SEP2021,    109,  99,-999.0,      17,-999.0,20000328,1901,  22.7498, -158.0000,  4722, 1800.400,    2.335,   34.605,2,   34.604,2,   79.800,2, -999.000,5,  144.450,2,   39.830,2,    2.880,2, -999.000
           NA,HOT timeseries 1988to2019 27SEP2021,    109,  99,-999.0,      16,-999.0,20000328,1901,  22.7498, -158.0000,  4722, 1998.600,    2.115,   34.622,2,   34.622,2,   88.000,2,   89.200,2,  149.870,2,   39.140,2,    2.810,2, -999.000
           NA,HOT timeseries 1988to2019 27SEP2021,    109,  99,-999.0,      23,-999.0,20000328,1901,  22.7498, -158.0000,  4722, 2199.000,    1.916,   34.636,2,   34.638,2,   96.300,2,   98.100,2,  153.420,2,   38.670,2,    2.750,2, -999.000
           NA,HOT timeseries 1988to2019 27SEP2021,    109,  99,-999.0,      14,-999.0,20000328,1901,  22.7498, -158.0000,  4722, 2401.800,    1.781,   34.647,2,   34.647,2,  103.300,2,  106.600,2,  156.550,2,   38.610,2,    2.750,2, -999.000
           NA,HOT timeseries 1988to2019 27SEP2021,    109,  99,-999.0,      13,-999.0,20000328,1901,  22.7498, -158.0000,  4722, 2598.800,    1.691,   34.655,2,   34.655,2,  109.700,2,  111.200,2,  156.870,2,   38.000,2,    2.700,2, -999.000
           NA,HOT timeseries 1988to2019 27SEP2021,    109,  99,-999.0,      12,-999.0,20000328,1901,  22.7498, -158.0000,  4722, 2799.500,    1.606,   34.663,2,   34.661,2,  116.700,2,  115.800,2,  157.190,2,   37.890,2,    2.700,2, -999.000
           NA,HOT timeseries 1988to2019 27SEP2021,    109,  99,-999.0,      11,-999.0,20000328,1901,  22.7498, -158.0000,  4722, 3000.300,    1.558,   34.668,2,   34.668,2,  121.900,2,  123.000,2,  157.390,2,   37.400,2,    2.630,2, -999.000
           NA,HOT timeseries 1988to2019 27SEP2021,    109,  99,-999.0,      32,-999.0,20000328,1901,  22.7498, -158.0000,  4722, 3199.500,    1.514,   34.674,2,   34.674,2,  128.400,2,  128.900,2,  156.090,2,   36.910,2,    2.600,2, -999.000
           NA,HOT timeseries 1988to2019 27SEP2021,    109,  99,-999.0,       3,-999.0,20000328,1901,  22.7498, -158.0000,  4722, 3401.400,    1.490,   34.677,2,   34.677,2,  132.900,2,  133.700,2,  155.040,2,   36.540,2,    2.570,2, -999.000
           NA,HOT timeseries 1988to2019 27SEP2021,    109,  99,-999.0,      29,-999.0,20000328,1901,  22.7498, -158.0000,  4722, 3601.600,    1.466,   34.681,2,   34.681,2,  139.000,2,  139.200,2,  152.880,2,   36.390,2, -999.000,3, -999.000
           NA,HOT timeseries 1988to2019 27SEP2021,    109,  99,-999.0,      28,-999.0,20000328,1901,  22.7498, -158.0000,  4722, 3799.200,    1.455,   34.684,2,   34.686,2,  143.300,2,  143.500,2,  150.990,2,   35.940,2,    2.520,2, -999.000
           NA,HOT timeseries 1988to2019 27SEP2021,    109,  99,-999.0,       7,-999.0,20000328,1901,  22.7498, -158.0000,  4722, 4000.400,    1.455,   34.686,2,   34.686,2,  146.600,2,  147.000,2,  149.740,2,   35.860,2,    2.490,2, -999.000
           NA,HOT timeseries 1988to2019 27SEP2021,    109,  99,-999.0,      38,-999.0,20000328,1901,  22.7498, -158.0000,  4722, 4200.300,    1.465,   34.687,2,   34.687,2,  149.000,2,  148.200,2,  149.170,2,   35.740,2,    2.490,2, -999.000
           NA,HOT timeseries 1988to2019 27SEP2021,    109,  99,-999.0,      36,-999.0,20000328,1901,  22.7498, -158.0000,  4722, 4399.600,    1.478,   34.688,2,   34.688,2,  150.400,2,  150.000,2,  148.560,2,   35.690,2, -999.000,3, -999.000
           NA,HOT timeseries 1988to2019 27SEP2021,    109,  99,-999.0,      35,-999.0,20000328,1901,  22.7498, -158.0000,  4722, 4502.000,    1.487,   34.688,2,   34.689,2,  151.000,2,  150.400,2,  148.050,2,   35.640,2, -999.000,3, -999.000
           NA,HOT timeseries 1988to2019 27SEP2021,    109,  99,-999.0,      34,-999.0,20000328,1901,  22.7498, -158.0000,  4722, 4596.600,    1.496,   34.688,2,   34.689,2,  151.500,2,  150.600,2,  148.270,2,   35.600,2,    2.480,2, -999.000
           NA,HOT timeseries 1988to2019 27SEP2021,    109,  99,-999.0,      33,-999.0,20000328,1901,  22.7498, -158.0000,  4722, 4803.900,    1.517,   34.688,2,   34.689,2,  152.100,2,  151.500,2,  147.200,2,   35.640,2,    2.460,2, -999.000