BOTTLE,20214727JOAExport
EXPOCODE,SECT_ID,STNNBR,CASTNO,SAMPNO,BTLNBR,BTLNBR_FLAG_W,DATE,TIME,LATITUDE,LONGITUDE,DEPTH,CTDPRS,CTDTMP,CTDSAL,CTDSAL_FLAG_W,SALNTY,SALNTY_FLAG_W,CTDOXY,CTDOXY_FLAG_W,OXYGEN,OXYGEN_FLAG_W,SILCAT,SILCAT_FLAG_W,NINI,NINI_FLAG_W,PHSPHT,PHSPHT_FLAG_W,REVP
,,,,,,,,,,,,DB,IPTS-68,PSS-78,,PSS-78,,UMOL/KG,,UMOL/KG,,UMOL/KG,,UMOL/KG,,UMOL/KG,,DBAR
           NA,HOT timeseries 1988to2019 27SEP2021,     36,  99,-999.0,      23,-999.0,19920806,0126,  22.8033, -158.0017,  4749,    9.200,   26.140,   34.931,2,   34.932,2,  205.000,2,  204.400,2,    0.970,2,    0.000,2,    0.020,2, -999.000
           NA,HOT timeseries 1988to2019 27SEP2021,     36,  99,-999.0,      23,-999.0,19920806,0126,  22.8033, -158.0017,  4749,    9.700,   26.065,   34.932,2,   34.935,2,  163.200,2,  204.800,2,    0.930,2,    0.000,2,    0.020,2, -999.000
           NA,HOT timeseries 1988to2019 27SEP2021,     36,  99,-999.0,      22,-999.0,19920806,0126,  22.8033, -158.0017,  4749,   44.100,   25.419,   34.980,2,   34.978,2,  207.700,2,  212.800,2,    1.610,2,   -0.010,2,    0.020,2, -999.000
           NA,HOT timeseries 1988to2019 27SEP2021,     36,  99,-999.0,      21,-999.0,19920806,0126,  22.8033, -158.0017,  4749,   66.200,   23.512,   35.105,2,   35.101,2,  214.900,2,  216.800,2,    1.080,2,    0.000,2,    0.020,2, -999.000
           NA,HOT timeseries 1988to2019 27SEP2021,     36,  99,-999.0,      22,-999.0,19920806,0126,  22.8033, -158.0017,  4749,   84.800,   22.966,   35.128,2,   35.132,2,  215.100,2,  213.800,2,    1.170,2,    0.000,2,    0.050,2, -999.000
           NA,HOT timeseries 1988to2019 27SEP2021,     36,  99,-999.0,      20,-999.0,19920806,0126,  22.8033, -158.0017,  4749,  103.200,   21.828,   35.217,2,   35.219,2,  210.700,2,  209.900,2,    1.890,2,    0.060,2,    0.030,2, -999.000
           NA,HOT timeseries 1988to2019 27SEP2021,     36,  99,-999.0,      19,-999.0,19920806,0126,  22.8033, -158.0017,  4749,  107.000,   21.696,   35.231,2,   35.228,2,  211.100,2,  208.700,2,    1.260,2,    0.160,2,    0.040,2, -999.000
           NA,HOT timeseries 1988to2019 27SEP2021,     36,  99,-999.0,      18,-999.0,19920806,0126,  22.8033, -158.0017,  4749,  152.900,   19.594,   35.117,2,   35.116,2,  193.000,2,  190.400,2,    2.130,2,    2.270,2,    0.230,2, -999.000
           NA,HOT timeseries 1988to2019 27SEP2021,     36,  99,-999.0,      17,-999.0,19920806,0126,  22.8033, -158.0017,  4749,  225.000,   16.226,   34.702,2,   34.711,2,  186.900,2,  183.800,2,    4.910,2,    5.950,2,    0.440,2, -999.000
           NA,HOT timeseries 1988to2019 27SEP2021,     36,  99,-999.0,      16,-999.0,19920806,0126,  22.8033, -158.0017,  4749,  286.800,   12.926,   34.329,2,   34.327,2,  185.300,2,  187.800,2,    9.550,2,   10.760,2,    0.770,2, -999.000
           NA,HOT timeseries 1988to2019 27SEP2021,     36,  99,-999.0,      15,-999.0,19920806,0126,  22.8033, -158.0017,  4749,  305.400,   12.029,   34.250,2,   34.249,2,  187.700,2,  190.600,2,   11.460,2,   12.380,2,    0.880,2, -999.000
           NA,HOT timeseries 1988to2019 27SEP2021,     36,  99,-999.0,      14,-999.0,19920806,0126,  22.8033, -158.0017,  4749,  341.600,   10.495,   34.163,2,   34.166,2,  191.800,2,  196.000,2,   16.640,2,   15.310,2,    1.070,2, -999.000
           NA,HOT timeseries 1988to2019 27SEP2021,     36,  99,-999.0,      13,-999.0,19920806,0126,  22.8033, -158.0017,  4749,  400.300,    9.002,   34.099,2,   34.099,2,  182.600,2,  184.500,2,   25.230,2,   19.930,2,    1.370,2, -999.000
           NA,HOT timeseries 1988to2019 27SEP2021,     36,  99,-999.0,      12,-999.0,19920806,0126,  22.8033, -158.0017,  4749,  468.500,    7.207,   34.042,2,   34.042,2,  128.200,2,  149.800,2,   44.750,2,   28.480,2,    2.000,2, -999.000
           NA,HOT timeseries 1988to2019 27SEP2021,     36,  99,-999.0,      11,-999.0,19920806,0126,  22.8033, -158.0017,  4749,  495.900,    6.706,   34.037,2,   34.036,2,  111.900,2,  112.500,2,   51.680,2,   31.010,2,    2.190,2, -999.000
           NA,HOT timeseries 1988to2019 27SEP2021,     36,  99,-999.0,      21,-999.0,19920806,0126,  22.8033, -158.0017,  4749,  505.400,    6.601,   34.046,2,   34.049,2,  101.300,2,  103.300,2,   54.130,2,   32.080,2,    2.290,2, -999.000
           NA,HOT timeseries 1988to2019 27SEP2021,     36,  99,-999.0,      10,-999.0,19920806,0126,  22.8033, -158.0017,  4749,  512.100,    6.471,   34.049,2,   34.050,2,   95.300,2,   97.600,2,   56.140,2,   32.830,2,    2.340,2, -999.000
           NA,HOT timeseries 1988to2019 27SEP2021,     36,  99,-999.0,       9,-999.0,19920806,0126,  22.8033, -158.0017,  4749,  559.400,    6.009,   34.087,2,   34.088,2,   73.000,2,   69.500,2,   65.570,2,   36.140,2,    2.570,2, -999.000
           NA,HOT timeseries 1988to2019 27SEP2021,     36,  99,-999.0,      29,-999.0,19920806,0126,  22.8033, -158.0017,  4749,  612.900,    5.750,   34.187,2,   34.188,2,   45.800,2,   45.700,2,   74.260,2,   38.600,2,    2.790,2, -999.000
           NA,HOT timeseries 1988to2019 27SEP2021,     36,  99,-999.0,      28,-999.0,19920806,0126,  22.8033, -158.0017,  4749,  678.500,    5.281,   34.259,2,   34.258,2,   31.700,2,   32.100,2,   84.550,2,   40.750,2,    2.940,2, -999.000
           NA,HOT timeseries 1988to2019 27SEP2021,     36,  99,-999.0,       7,-999.0,19920806,0126,  22.8033, -158.0017,  4749,  761.800,    4.946,   34.337,2,   34.338,2,   29.500,2,   30.300,2,   92.330,2,   41.750,2,    3.000,2, -999.000
           NA,HOT timeseries 1988to2019 27SEP2021,     36,  99,-999.0,      23,-999.0,19920806,0126,  22.8033, -158.0017,  4749,  838.000,    4.613,   34.421,2,   34.421,2,   33.600,2,   34.100,2,   98.200,2,   42.070,2,    3.000,2, -999.000
           NA,HOT timeseries 1988to2019 27SEP2021,     36,  99,-999.0,      25,-999.0,19920806,0126,  22.8033, -158.0017,  4749,  980.300,    4.118,   34.493,2,   34.492,2,   43.400,2,   44.200,2,  107.510,2,   42.260,2,    3.010,2, -999.000
           NA,HOT timeseries 1988to2019 27SEP2021,     36,  99,-999.0,       2,-999.0,19920806,0126,  22.8033, -158.0017,  4749, 1007.100,    4.037,   34.495,2,   34.496,2,   42.900,2,   44.500,2,  109.520,2,   42.180,2,    3.010,2, -999.000
           NA,HOT timeseries 1988to2019 27SEP2021,     36,  99,-999.0,       1,-999.0,19920806,0126,  22.8033, -158.0017,  4749, 1205.500,    3.480,   34.522,2,   34.524,2,   50.700,2,   51.100,2,  121.300,2,   42.040,2,    2.990,2, -999.000
           NA,HOT timeseries 1988to2019 27SEP2021,     36,  99,-999.0,      20,-999.0,19920806,0126,  22.8033, -158.0017,  4749, 1404.100,    3.009,   34.556,2,   34.557,2,   62.900,2,   64.600,2,  131.890,2,   41.530,2,    2.940,2, -999.000
           NA,HOT timeseries 1988to2019 27SEP2021,     36,  99,-999.0,      19,-999.0,19920806,0126,  22.8033, -158.0017,  4749, 1603.100,    2.679,   34.578,2,   34.579,2,   71.000,2,   70.900,2,  139.240,2,   41.280,2,    2.900,2, -999.000
           NA,HOT timeseries 1988to2019 27SEP2021,     36,  99,-999.0,      18,-999.0,19920806,0126,  22.8033, -158.0017,  4749, 1803.000,    2.373,   34.598,2,   34.598,2,   79.800,2,   79.800,2, -999.000,4, -999.000,4, -999.000,4, -999.000
           NA,HOT timeseries 1988to2019 27SEP2021,     36,  99,-999.0,      17,-999.0,19920806,0126,  22.8033, -158.0017,  4749, 2004.900,    2.132,   34.614,2,   34.614,2,   87.400,2, -999.000,4,  150.830,2,   40.300,2,    2.820,2, -999.000
           NA,HOT timeseries 1988to2019 27SEP2021,     36,  99,-999.0,      16,-999.0,19920806,0126,  22.8033, -158.0017,  4749, 2201.100,    1.926,   34.630,2,   34.630,2,   94.400,2,   95.300,2,  155.500,2,   39.930,2,    2.780,2, -999.000
           NA,HOT timeseries 1988to2019 27SEP2021,     36,  99,-999.0,      15,-999.0,19920806,0126,  22.8033, -158.0017,  4749, 2404.700,    1.793,   34.642,2,   34.642,2,  103.500,2,  103.400,2,  156.680,2,   39.590,2,    2.750,2, -999.000
           NA,HOT timeseries 1988to2019 27SEP2021,     36,  99,-999.0,      14,-999.0,19920806,0126,  22.8033, -158.0017,  4749, 2603.600,    1.707,   34.651,2,   34.651,2,  110.600,2,  110.300,2,  158.750,2,   39.140,2,    2.710,2, -999.000
           NA,HOT timeseries 1988to2019 27SEP2021,     36,  99,-999.0,      13,-999.0,19920806,0126,  22.8033, -158.0017,  4749, 2799.800,    1.631,   34.658,2,   34.658,2,  115.800,2,  116.000,2,  157.110,2,   38.560,2,    2.680,2, -999.000
           NA,HOT timeseries 1988to2019 27SEP2021,     36,  99,-999.0,      12,-999.0,19920806,0126,  22.8033, -158.0017,  4749, 3003.800,    1.562,   34.665,2,   34.666,2,  122.200,2,  124.100,2,  159.530,2,   38.180,2,    2.640,2, -999.000
           NA,HOT timeseries 1988to2019 27SEP2021,     36,  99,-999.0,      11,-999.0,19920806,0126,  22.8033, -158.0017,  4749, 3203.600,    1.520,   34.671,2,   34.671,2,  127.200,2,  129.900,2,  155.400,2,   37.720,2,    2.650,2, -999.000
           NA,HOT timeseries 1988to2019 27SEP2021,     36,  99,-999.0,      10,-999.0,19920806,0126,  22.8033, -158.0017,  4749, 3404.800,    1.494,   34.675,2,   34.675,2,  132.500,2,  134.000,2,  154.950,2,   37.450,2,    2.580,2, -999.000
           NA,HOT timeseries 1988to2019 27SEP2021,     36,  99,-999.0,       9,-999.0,19920806,0126,  22.8033, -158.0017,  4749, 3604.800,    1.472,   34.678,2,   34.678,2,  135.200,2,  140.000,2,  153.520,2,   37.140,2,    2.550,2, -999.000
           NA,HOT timeseries 1988to2019 27SEP2021,     36,  99,-999.0,      29,-999.0,19920806,0126,  22.8033, -158.0017,  4749, 3805.100,    1.461,   34.681,2,   34.680,2,  141.000,2,  142.800,2,  151.640,2,   36.760,2,    2.520,2, -999.000
           NA,HOT timeseries 1988to2019 27SEP2021,     36,  99,-999.0,      28,-999.0,19920806,0126,  22.8033, -158.0017,  4749, 4005.500,    1.459,   34.683,2,   34.683,2,  149.600,2,  148.000,2,  150.620,2,   36.300,2,    2.500,2, -999.000
           NA,HOT timeseries 1988to2019 27SEP2021,     36,  99,-999.0,       7,-999.0,19920806,0126,  22.8033, -158.0017,  4749, 4205.000,    1.464,   34.685,2,   34.685,2,  150.100,2,  149.900,2,  149.420,2,   36.320,2,    2.490,2, -999.000
           NA,HOT timeseries 1988to2019 27SEP2021,     36,  99,-999.0,      23,-999.0,19920806,0126,  22.8033, -158.0017,  4749, 4405.600,    1.476,   34.686,2,   34.685,2,  151.700,2,  151.100,2,  149.210,2,   36.220,2,    2.480,2, -999.000
           NA,HOT timeseries 1988to2019 27SEP2021,     36,  99,-999.0,      25,-999.0,19920806,0126,  22.8033, -158.0017,  4749, 4503.100,    1.484,   34.686,2,   34.686,2,  154.100,2,  151.800,2,  148.070,2,   36.140,2,    2.480,2, -999.000
           NA,HOT timeseries 1988to2019 27SEP2021,     36,  99,-999.0,       2,-999.0,19920806,0126,  22.8033, -158.0017,  4749, 4603.800,    1.492,   34.687,2,   34.686,2,  153.100,2,  151.900,2,  148.580,2,   36.030,2,    2.490,2, -999.000
           NA,HOT timeseries 1988to2019 27SEP2021,     36,  99,-999.0,       1,-999.0,19920806,0126,  22.8033, -158.0017,  4749, 4734.300,    1.501,   34.687,2,   34.687,2,  155.800,2,  153.500,2,  146.520,2,   35.830,2,    2.470,2, -999.000