BOTTLE,20214727JOAExport
EXPOCODE,SECT_ID,STNNBR,CASTNO,SAMPNO,BTLNBR,BTLNBR_FLAG_W,DATE,TIME,LATITUDE,LONGITUDE,DEPTH,CTDPRS,CTDTMP,CTDSAL,CTDSAL_FLAG_W,SALNTY,SALNTY_FLAG_W,CTDOXY,CTDOXY_FLAG_W,OXYGEN,OXYGEN_FLAG_W,SILCAT,SILCAT_FLAG_W,NINI,NINI_FLAG_W,PHSPHT,PHSPHT_FLAG_W,REVP
,,,,,,,,,,,,DB,IPTS-68,PSS-78,,PSS-78,,UMOL/KG,,UMOL/KG,,UMOL/KG,,UMOL/KG,,UMOL/KG,,DBAR
           NA,HOT timeseries 1988to2019 27SEP2021,    116,  99,-999.0,      31,-999.0,20001129,1502,  22.7522, -157.9905,  4715,    5.100,   24.904,   35.102,2,   35.103,2,  212.900,2, -999.000,3,    1.960,2,    0.000,2,    0.090,2, -999.000
           NA,HOT timeseries 1988to2019 27SEP2021,    116,  99,-999.0,      30,-999.0,20001129,1502,  22.7522, -157.9905,  4715,   50.400,   24.930,   35.066,2,   35.068,2,  208.900,2,  207.500,2,    1.640,2,    0.010,2,    0.090,2, -999.000
           NA,HOT timeseries 1988to2019 27SEP2021,    116,  99,-999.0,      22,-999.0,20001129,1502,  22.7522, -157.9905,  4715,   99.300,   22.524,   35.188,2,   35.186,2,  216.500,2,  218.700,2,    2.470,2,    0.040,2,    0.110,2, -999.000
           NA,HOT timeseries 1988to2019 27SEP2021,    116,  99,-999.0,      21,-999.0,20001129,1502,  22.7522, -157.9905,  4715,  124.500,   21.201,   35.157,2, -999.000,4, -999.000,3,  213.300,2,    1.920,2,    0.140,2,    0.170,2, -999.000
           NA,HOT timeseries 1988to2019 27SEP2021,    116,  99,-999.0,      20,-999.0,20001129,1502,  22.7522, -157.9905,  4715,  192.500,   19.404,   35.049,2,   35.061,2,  197.900,2,  197.900,2,    2.560,2,    1.860,2,    0.240,2, -999.000
           NA,HOT timeseries 1988to2019 27SEP2021,    116,  99,-999.0,      19,-999.0,20001129,1502,  22.7522, -157.9905,  4715,  262.900,   16.775,   34.755,2,   34.763,2,  199.000,2,  198.100,2,    4.420,2,    4.140,2,    0.350,2, -999.000
           NA,HOT timeseries 1988to2019 27SEP2021,    116,  99,-999.0,      17,-999.0,20001129,1502,  22.7522, -157.9905,  4715,  364.600,   10.394,   34.130,2,   34.131,2,  162.200,2,  159.000,2,   20.160,2,   18.340,2,    1.370,2, -999.000
           NA,HOT timeseries 1988to2019 27SEP2021,    116,  99,-999.0,      16,-999.0,20001129,1502,  22.7522, -157.9905,  4715,  409.400,    8.953,   34.093,2,   34.093,2,  159.800,2, -999.000,3,   27.450,2,   21.250,2,    1.510,2, -999.000
           NA,HOT timeseries 1988to2019 27SEP2021,    116,  99,-999.0,      23,-999.0,20001129,1502,  22.7522, -157.9905,  4715,  449.700,    8.407,   34.072,2,   34.075,2,  149.800,2,  150.500,2,   31.980,2,   23.300,2,    1.760,2, -999.000
           NA,HOT timeseries 1988to2019 27SEP2021,    116,  99,-999.0,      14,-999.0,20001129,1502,  22.7522, -157.9905,  4715,  494.700,    7.480,   34.083,2,   34.085,2,  115.800,2,  115.200,2,   43.750,2,   27.870,2,    2.090,2, -999.000
           NA,HOT timeseries 1988to2019 27SEP2021,    116,  99,-999.0,      13,-999.0,20001129,1502,  22.7522, -157.9905,  4715,  540.200,    6.862,   34.104,2,   34.105,2,   94.000,2,   86.800,2,   53.220,2,   31.700,2,    2.350,2, -999.000
           NA,HOT timeseries 1988to2019 27SEP2021,    116,  99,-999.0,      11,-999.0,20001129,1502,  22.7522, -157.9905,  4715,  575.600,    6.329,   34.146,2,   34.147,2,   60.100,2,   60.700,2,   62.950,2,   35.100,2,    2.600,2, -999.000
           NA,HOT timeseries 1988to2019 27SEP2021,    116,  99,-999.0,      32,-999.0,20001129,1502,  22.7522, -157.9905,  4715,  632.800,    5.588,   34.163,2,   34.162,2,   47.700,2,   45.600,2,   75.290,2,   37.950,2,    2.790,2, -999.000
           NA,HOT timeseries 1988to2019 27SEP2021,    116,  99,-999.0,       3,-999.0,20001129,1502,  22.7522, -157.9905,  4715,  664.500,    5.269,   34.183,2,   34.182,2,   39.400,2,   38.300,2,   82.100,2,   38.850,2,    2.870,2, -999.000
           NA,HOT timeseries 1988to2019 27SEP2021,    116,  99,-999.0,      29,-999.0,20001129,1502,  22.7522, -157.9905,  4715,  699.400,    5.046,   34.226,2,   34.226,2,   32.600,2,   30.600,2,   88.190,2,   39.970,2,    2.980,2, -999.000
           NA,HOT timeseries 1988to2019 27SEP2021,    116,  99,-999.0,      28,-999.0,20001129,1502,  22.7522, -157.9905,  4715,  759.400,    4.724,   34.316,2,   34.316,2,   27.700,2,   27.600,2,   95.780,2,   40.970,2,    3.020,2, -999.000
           NA,HOT timeseries 1988to2019 27SEP2021,    116,  99,-999.0,      38,-999.0,20001129,1502,  22.7522, -157.9905,  4715,  840.800,    4.657,   34.418,2,   34.420,2,   31.400,2,   29.400,2,   97.810,2,   41.160,2,    3.030,2, -999.000
           NA,HOT timeseries 1988to2019 27SEP2021,    116,  99,-999.0,      36,-999.0,20001129,1502,  22.7522, -157.9905,  4715,  889.100,    4.488,   34.447,2,   34.445,2,   33.700,2,   32.300,2,  100.930,2,   41.520,2,    3.030,2, -999.000
           NA,HOT timeseries 1988to2019 27SEP2021,    116,  99,-999.0,      35,-999.0,20001129,1502,  22.7522, -157.9905,  4715,  939.300,    4.276,   34.475,2,   34.473,2,   37.800,2,   36.700,2,  105.150,2,   41.540,2,    3.030,2, -999.000
           NA,HOT timeseries 1988to2019 27SEP2021,    116,  99,-999.0,      34,-999.0,20001129,1502,  22.7522, -157.9905,  4715,  984.100,    4.061,   34.474,2,   34.473,2,   41.100,2,   39.600,2,  110.120,2,   41.510,2,    3.020,2, -999.000
           NA,HOT timeseries 1988to2019 27SEP2021,    116,  99,-999.0,      33,-999.0,20001129,1502,  22.7522, -157.9905,  4715, 1019.700,    3.969,   34.486,2,   34.485,2,   43.000,2,   43.600,2,  111.210,2,   41.200,2,    3.010,2, -999.000
           NA,HOT timeseries 1988to2019 27SEP2021,    116,  99,-999.0,      20,-999.0,20001129,1502,  22.7522, -157.9905,  4715, 1201.200,    3.512,   34.534,2,   34.534,2,   49.500,2,   52.000,2,  120.350,2,   41.050,2,    2.960,2, -999.000
           NA,HOT timeseries 1988to2019 27SEP2021,    116,  99,-999.0,      19,-999.0,20001129,1502,  22.7522, -157.9905,  4715, 1401.000,    3.077,   34.562,2,   34.560,2,   59.700,2,   63.200,2,  129.210,2, -999.000,3,    2.920,2, -999.000
           NA,HOT timeseries 1988to2019 27SEP2021,    116,  99,-999.0,      18,-999.0,20001129,1502,  22.7522, -157.9905,  4715, 1597.900,    2.744,   34.583,2,   34.582,2,   67.700,2,   68.200,2,  136.700,2,   40.360,2,    2.880,2, -999.000
           NA,HOT timeseries 1988to2019 27SEP2021,    116,  99,-999.0,      17,-999.0,20001129,1502,  22.7522, -157.9905,  4715, 1799.000,    2.477,   34.599,2,   34.598,2,   76.300,2,   78.300,2,  143.880,2, -999.000,3,    2.870,2, -999.000
           NA,HOT timeseries 1988to2019 27SEP2021,    116,  99,-999.0,      16,-999.0,20001129,1502,  22.7522, -157.9905,  4715, 2000.000,    2.160,   34.616,2,   34.615,2,   82.900,2,   83.700,2,  152.250,2,   39.810,2,    2.810,2, -999.000
           NA,HOT timeseries 1988to2019 27SEP2021,    116,  99,-999.0,      23,-999.0,20001129,1502,  22.7522, -157.9905,  4715, 2201.600,    1.955,   34.630,2,   34.629,2,   90.400,2,   91.400,2, -999.000,3,   39.360,2,    2.770,2, -999.000
           NA,HOT timeseries 1988to2019 27SEP2021,    116,  99,-999.0,      14,-999.0,20001129,1502,  22.7522, -157.9905,  4715, 2398.700,    1.798,   34.643,2,   34.643,2,   98.000,2,  101.300,2,  159.490,2,   38.810,2, -999.000,3, -999.000
           NA,HOT timeseries 1988to2019 27SEP2021,    116,  99,-999.0,      13,-999.0,20001129,1502,  22.7522, -157.9905,  4715, 2598.800,    1.703,   34.655,2,   34.655,2,  109.200,2,  109.900,2,  158.660,2,   38.090,2,    2.680,2, -999.000
           NA,HOT timeseries 1988to2019 27SEP2021,    116,  99,-999.0,      12,-999.0,20001129,1502,  22.7522, -157.9905,  4715, 2800.100,    1.626,   34.664,2,   34.664,2,  115.300,2, -999.000,3,  158.660,2,   37.900,2,    2.630,2, -999.000
           NA,HOT timeseries 1988to2019 27SEP2021,    116,  99,-999.0,      11,-999.0,20001129,1502,  22.7522, -157.9905,  4715, 2998.900,    1.569,   34.668,2,   34.668,2,  121.000,2,  121.700,2,  159.860,2,   37.680,2,    2.610,2, -999.000
           NA,HOT timeseries 1988to2019 27SEP2021,    116,  99,-999.0,      32,-999.0,20001129,1502,  22.7522, -157.9905,  4715, 3202.000,    1.515,   34.674,2, -999.000,4, -999.000,3,  128.000,2,  157.030,2,   36.830,2,    2.580,2, -999.000
           NA,HOT timeseries 1988to2019 27SEP2021,    116,  99,-999.0,       3,-999.0,20001129,1502,  22.7522, -157.9905,  4715, 3399.400,    1.485,   34.678,2,   34.679,2,  134.600,2,  135.200,2,  156.590,2,   36.840,2,    2.550,2, -999.000
           NA,HOT timeseries 1988to2019 27SEP2021,    116,  99,-999.0,      29,-999.0,20001129,1502,  22.7522, -157.9905,  4715, 3600.600,    1.471,   34.682,2,   34.682,2,  139.500,2,  140.700,2,  154.260,2,   36.470,2,    2.510,2, -999.000
           NA,HOT timeseries 1988to2019 27SEP2021,    116,  99,-999.0,      28,-999.0,20001129,1502,  22.7522, -157.9905,  4715, 3800.100,    1.466,   34.684,2,   34.684,2,  143.000,2,  143.000,2,  155.040,2,   36.470,2,    2.510,2, -999.000
           NA,HOT timeseries 1988to2019 27SEP2021,    116,  99,-999.0,       7,-999.0,20001129,1502,  22.7522, -157.9905,  4715, 4000.100,    1.463,   34.686,2,   34.686,2,  146.700,2,  146.300,2,  152.580,2,   36.080,2,    2.490,2, -999.000
           NA,HOT timeseries 1988to2019 27SEP2021,    116,  99,-999.0,      38,-999.0,20001129,1502,  22.7522, -157.9905,  4715, 4200.600,    1.468,   34.688,2,   34.688,2,  149.900,2,  150.400,2,  150.830,2,   35.670,2,    2.470,2, -999.000
           NA,HOT timeseries 1988to2019 27SEP2021,    116,  99,-999.0,      36,-999.0,20001129,1502,  22.7522, -157.9905,  4715, 4401.300,    1.471,   34.689,2,   34.689,2,  152.800,2,  154.500,2,  149.040,2,   35.570,2,    2.460,2, -999.000
           NA,HOT timeseries 1988to2019 27SEP2021,    116,  99,-999.0,      35,-999.0,20001129,1502,  22.7522, -157.9905,  4715, 4499.400,    1.473,   34.690,2,   34.690,2,  154.400,2,  153.500,2,  148.380,2,   35.710,2,    2.460,2, -999.000
           NA,HOT timeseries 1988to2019 27SEP2021,    116,  99,-999.0,      34,-999.0,20001129,1502,  22.7522, -157.9905,  4715, 4600.400,    1.477,   34.691,2,   34.691,2,  156.000,2,  154.700,2,  146.620,2,   35.360,2,    2.450,2, -999.000
           NA,HOT timeseries 1988to2019 27SEP2021,    116,  99,-999.0,      33,-999.0,20001129,1502,  22.7522, -157.9905,  4715, 4795.700,    1.497,   34.691,2,   34.692,2,  156.400,2,  155.700,2, -999.000,3,   35.320,2,    2.440,2, -999.000
           NA,HOT timeseries 1988to2019 27SEP2021,    117,  99,-999.0,      31,-999.0,20001219,1809,  22.7432, -157.9978,  4720,    3.900,   24.721,   34.928,2,   34.928,2,  207.600,2,  208.700,2, -999.000,4,    0.000,2,    0.130,2, -999.000
           NA,HOT timeseries 1988to2019 27SEP2021,    117,  99,-999.0,      31,-999.0,20001219,1809,  22.7432, -157.9978,  4720,    4.700,   24.737,   34.933,2,   34.935,2,  209.000,2,  208.300,2,    2.140,2,    0.000,2,    0.080,2, -999.000
           NA,HOT timeseries 1988to2019 27SEP2021,    117,  99,-999.0,      30,-999.0,20001219,1809,  22.7432, -157.9978,  4720,   49.600,   24.555,   34.947,2,   34.948,2,  209.900,2,  209.600,2,    1.550,2,   -0.010,2,    0.110,2, -999.000
           NA,HOT timeseries 1988to2019 27SEP2021,    117,  99,-999.0,      22,-999.0,20001219,1809,  22.7432, -157.9978,  4720,  104.100,   24.600,   35.312,2,   35.319,2,  211.500,2,  209.400,2,    1.470,2,   -0.010,2,    0.060,2, -999.000
           NA,HOT timeseries 1988to2019 27SEP2021,    117,  99,-999.0,      21,-999.0,20001219,1809,  22.7432, -157.9978,  4720,  126.700,   22.573,   35.305,2,   35.305,2,  216.100,2,  216.400,2,    2.100,2,    0.040,2,    0.080,2, -999.000
           NA,HOT timeseries 1988to2019 27SEP2021,    117,  99,-999.0,      20,-999.0,20001219,1809,  22.7432, -157.9978,  4720,  179.900,   20.235,   35.144,2,   35.148,2,  198.900,2,  198.900,2,    2.720,2,    1.060,2,    0.200,2, -999.000
           NA,HOT timeseries 1988to2019 27SEP2021,    117,  99,-999.0,      19,-999.0,20001219,1809,  22.7432, -157.9978,  4720,  224.400,   18.268,   34.910,2,   34.920,2,  193.300,2,  193.200,2,    3.490,2,    3.310,2,    0.310,2, -999.000
           NA,HOT timeseries 1988to2019 27SEP2021,    117,  99,-999.0,      18,-999.0,20001219,1809,  22.7432, -157.9978,  4720,  263.400,   16.205,   34.624,2,   34.640,2,  187.400,2,  189.100,2,    5.340,2,    5.560,2,    0.470,2, -999.000
           NA,HOT timeseries 1988to2019 27SEP2021,    117,  99,-999.0,      17,-999.0,20001219,1809,  22.7432, -157.9978,  4720,  293.600,   13.709,   34.319,2,   34.321,2,  181.900,2,  182.100,2,    8.840,2,    9.440,2,    0.750,2, -999.000