BOTTLE,20214727JOAExport
EXPOCODE,SECT_ID,STNNBR,CASTNO,SAMPNO,BTLNBR,BTLNBR_FLAG_W,DATE,TIME,LATITUDE,LONGITUDE,DEPTH,CTDPRS,CTDTMP,CTDSAL,CTDSAL_FLAG_W,SALNTY,SALNTY_FLAG_W,CTDOXY,CTDOXY_FLAG_W,OXYGEN,OXYGEN_FLAG_W,SILCAT,SILCAT_FLAG_W,NINI,NINI_FLAG_W,PHSPHT,PHSPHT_FLAG_W,REVP
,,,,,,,,,,,,DB,IPTS-68,PSS-78,,PSS-78,,UMOL/KG,,UMOL/KG,,UMOL/KG,,UMOL/KG,,UMOL/KG,,DBAR
           NA,HOT timeseries 1988to2019 27SEP2021,     30,  99,-999.0,      23,-999.0,19920104,2244,  22.7448, -157.9985,  4749,   15.300,   24.233,   35.009,2,   35.008,2,  209.900,2,  210.200,2,    1.510,2,    0.000,2,    0.080,2, -999.000
           NA,HOT timeseries 1988to2019 27SEP2021,     30,  99,-999.0,      22,-999.0,19920104,2244,  22.7448, -157.9985,  4749,   21.500,   24.226,   35.008,2,   35.007,2,  209.800,2,  209.800,2,    1.510,2,    0.000,2,    0.080,2, -999.000
           NA,HOT timeseries 1988to2019 27SEP2021,     30,  99,-999.0,      21,-999.0,19920104,2244,  22.7448, -157.9985,  4749,   26.000,   24.225,   35.008,2,   35.008,2,  210.000,2,  210.000,2,    1.510,2,    0.000,2,    0.080,2, -999.000
           NA,HOT timeseries 1988to2019 27SEP2021,     30,  99,-999.0,      20,-999.0,19920104,2244,  22.7448, -157.9985,  4749,   48.300,   24.030,   35.097,2,   35.088,2,  211.500,2,  210.800,2,    1.300,2,    0.000,2,    0.070,2, -999.000
           NA,HOT timeseries 1988to2019 27SEP2021,     30,  99,-999.0,      19,-999.0,19920104,2244,  22.7448, -157.9985,  4749,   72.900,   23.979,   35.116,2,   35.117,2,  211.300,2,  210.500,2,    1.300,2,    0.020,2,    0.060,2, -999.000
           NA,HOT timeseries 1988to2019 27SEP2021,     30,  99,-999.0,      18,-999.0,19920104,2244,  22.7448, -157.9985,  4749,  101.000,   22.301,   35.132,2,   35.132,2,  214.000,2,  208.700,2,    1.730,2,    0.390,2,    0.130,2, -999.000
           NA,HOT timeseries 1988to2019 27SEP2021,     30,  99,-999.0,      17,-999.0,19920104,2244,  22.7448, -157.9985,  4749,  117.100,   21.474,   35.128,2,   35.124,2,  201.400,2,  201.900,2,    2.170,2,    0.820,2,    0.170,2, -999.000
           NA,HOT timeseries 1988to2019 27SEP2021,     30,  99,-999.0,      16,-999.0,19920104,2244,  22.7448, -157.9985,  4749,  149.000,   19.355,   35.061,2,   35.055,2,  190.900,2,  192.600,2,    3.460,2,    2.540,2,    0.270,2, -999.000
           NA,HOT timeseries 1988to2019 27SEP2021,     30,  99,-999.0,      15,-999.0,19920104,2244,  22.7448, -157.9985,  4749,  206.200,   16.034,   34.657,2,   34.653,2,  175.200,2,  176.200,2,    6.930,2,    7.310,2,    0.620,2, -999.000
           NA,HOT timeseries 1988to2019 27SEP2021,     30,  99,-999.0,      16,-999.0,19920104,2244,  22.7448, -157.9985,  4749,  226.500,   16.037,   34.640,2,   34.637,2,  173.000,2,  172.500,2, -999.000,5, -999.000,5, -999.000,5, -999.000
           NA,HOT timeseries 1988to2019 27SEP2021,     30,  99,-999.0,      15,-999.0,19920104,2244,  22.7448, -157.9985,  4749,  236.500,   15.219,   34.549,2,   34.558,2,  177.500,2,  169.600,2,    7.800,2,    9.040,2,    0.720,2, -999.000
           NA,HOT timeseries 1988to2019 27SEP2021,     30,  99,-999.0,      14,-999.0,19920104,2244,  22.7448, -157.9985,  4749,  254.000,   13.745,   34.396,2,   34.396,2,  162.300,2,  164.800,2, -999.000,5, -999.000,5, -999.000,5, -999.000
           NA,HOT timeseries 1988to2019 27SEP2021,     30,  99,-999.0,      13,-999.0,19920104,2244,  22.7448, -157.9985,  4749,  276.900,   12.546,   34.294,2,   34.294,2,  170.900,2,  170.900,2,   12.560,2,   13.030,2,    1.000,2, -999.000
           NA,HOT timeseries 1988to2019 27SEP2021,     30,  99,-999.0,      12,-999.0,19920104,2244,  22.7448, -157.9985,  4749,  302.000,   11.473,   34.219,2,   34.223,2,  184.300,2,  183.300,2,   15.370,2,   13.830,2,    1.050,2, -999.000
           NA,HOT timeseries 1988to2019 27SEP2021,     30,  99,-999.0,      11,-999.0,19920104,2244,  22.7448, -157.9985,  4749,  327.400,   10.808,   34.186,2,   34.187,2,  179.300,2,  181.400,2,   21.220,2,   17.120,2,    1.270,2, -999.000
           NA,HOT timeseries 1988to2019 27SEP2021,     30,  99,-999.0,      10,-999.0,19920104,2244,  22.7448, -157.9985,  4749,  353.600,   10.327,   34.161,2,   34.163,2,  177.500,2,  175.500,2,   21.220,2,   17.120,2,    1.270,2, -999.000
           NA,HOT timeseries 1988to2019 27SEP2021,     30,  99,-999.0,       9,-999.0,19920104,2244,  22.7448, -157.9985,  4749,  402.600,    9.367,   34.124,2,   34.123,2,  162.200,2,  162.700,2,   26.630,2,   20.410,2,    1.500,2, -999.000
           NA,HOT timeseries 1988to2019 27SEP2021,     30,  99,-999.0,      11,-999.0,19920104,2244,  22.7448, -157.9985,  4749,  452.000,    7.846,   34.106,2,   34.105,2,  125.700,2,  123.100,2,   41.570,2,   27.000,2,    1.980,2, -999.000
           NA,HOT timeseries 1988to2019 27SEP2021,     30,  99,-999.0,      10,-999.0,19920104,2244,  22.7448, -157.9985,  4749,  475.000,    7.597,   34.112,2,   34.111,2,  116.000,2,  114.200,2,   45.030,2,   28.250,2,    2.080,2, -999.000
           NA,HOT timeseries 1988to2019 27SEP2021,     30,  99,-999.0,       9,-999.0,19920104,2244,  22.7448, -157.9985,  4749,  504.900,    7.147,   34.114,2,   34.113,2,  100.700,2,   98.500,2,   50.450,2,   30.520,2,    2.250,2, -999.000
           NA,HOT timeseries 1988to2019 27SEP2021,     30,  99,-999.0,       8,-999.0,19920104,2244,  22.7448, -157.9985,  4749,  551.100,    6.372,   34.154,2,   34.151,2,   60.600,2,   59.900,2,   63.430,2,   35.240,2,    2.630,2, -999.000
           NA,HOT timeseries 1988to2019 27SEP2021,     30,  99,-999.0,       6,-999.0,19920104,2244,  22.7448, -157.9985,  4749,  601.100,    5.969,   34.219,2,   34.216,2,   41.800,2,   38.600,2,   71.010,2,   37.680,2,    2.800,2, -999.000
           NA,HOT timeseries 1988to2019 27SEP2021,     30,  99,-999.0,       7,-999.0,19920104,2244,  22.7448, -157.9985,  4749,  657.700,    5.602,   34.310,2,   34.309,2,   29.100,2,   27.300,2,   80.310,2,   39.490,2,    2.940,2, -999.000
           NA,HOT timeseries 1988to2019 27SEP2021,     30,  99,-999.0,      26,-999.0,19920104,2244,  22.7448, -157.9985,  4749,  700.600,    5.325,   34.336,2,   34.335,2,   30.000,2,   27.400,2,   86.780,2,   39.940,2,    2.940,2, -999.000
           NA,HOT timeseries 1988to2019 27SEP2021,     30,  99,-999.0,      26,-999.0,19920104,2244,  22.7448, -157.9985,  4749,  721.300,    5.081,   34.356,2,   34.355,2,   30.700,2,   29.100,2,   89.400,2,   40.630,2,    3.000,2, -999.000
           NA,HOT timeseries 1988to2019 27SEP2021,     30,  99,-999.0,      25,-999.0,19920104,2244,  22.7448, -157.9985,  4749,  797.100,    4.610,   34.372,2,   34.372,2,   32.700,2,   31.200,2, -999.000,4,   41.080,2,    3.000,2, -999.000
           NA,HOT timeseries 1988to2019 27SEP2021,     30,  99,-999.0,      25,-999.0,19920104,2244,  22.7448, -157.9985,  4749,  833.600,    4.443,   34.400,2,   34.400,2,   34.500,2,   33.500,2,  102.390,2,   41.420,2,    3.030,2, -999.000
           NA,HOT timeseries 1988to2019 27SEP2021,     30,  99,-999.0,       3,-999.0,19920104,2244,  22.7448, -157.9985,  4749,  895.300,    4.219,   34.429,2,   34.430,2,   37.400,2,   36.400,2,  112.980,2,   41.250,2,    3.010,2, -999.000
           NA,HOT timeseries 1988to2019 27SEP2021,     30,  99,-999.0,       3,-999.0,19920104,2244,  22.7448, -157.9985,  4749,  981.000,    3.961,   34.472,2,   34.471,2,   42.700,2,   42.200,2,  112.770,2,   41.420,2,    3.030,2, -999.000
           NA,HOT timeseries 1988to2019 27SEP2021,     30,  99,-999.0,      23,-999.0,19920104,2244,  22.7448, -157.9985,  4749,  998.100,    3.874,   34.485,2,   34.485,2,   45.000,2,   44.200,2,  113.850,2, -999.000,3, -999.000,3, -999.000
           NA,HOT timeseries 1988to2019 27SEP2021,     30,  99,-999.0,       2,-999.0,19920104,2244,  22.7448, -157.9985,  4749, 1024.700,    3.828,   34.495,2,   34.495,2,   46.600,2,   47.000,2,  114.930,2,   41.300,2,    3.010,2, -999.000
           NA,HOT timeseries 1988to2019 27SEP2021,     30,  99,-999.0,      22,-999.0,19920104,2244,  22.7448, -157.9985,  4749, 1100.100,    3.618,   34.512,2,   34.512,2,   50.600,2, -999.000,5,  118.610,2, -999.000,3, -999.000,3, -999.000
           NA,HOT timeseries 1988to2019 27SEP2021,     30,  99,-999.0,      21,-999.0,19920104,2244,  22.7448, -157.9985,  4749, 1202.500,    3.326,   34.534,2,   34.534,2,   55.400,2,   56.200,2,  125.100,2, -999.000,3, -999.000,3, -999.000
           NA,HOT timeseries 1988to2019 27SEP2021,     30,  99,-999.0,      20,-999.0,19920104,2244,  22.7448, -157.9985,  4749, 1400.100,    2.983,   34.560,2,   34.559,2,   63.300,2,   64.700,2,  132.670,2, -999.000,3,    2.930,2, -999.000
           NA,HOT timeseries 1988to2019 27SEP2021,     30,  99,-999.0,      19,-999.0,19920104,2244,  22.7448, -157.9985,  4749, 1500.900,    2.776,   34.573,2,   34.573,2,   66.800,2,   67.700,2,  136.570,2, -999.000,3,    2.900,2, -999.000
           NA,HOT timeseries 1988to2019 27SEP2021,     30,  99,-999.0,      18,-999.0,19920104,2244,  22.7448, -157.9985,  4749, 1701.600,    2.423,   34.595,2,   34.597,2,   75.100,2,   77.300,2,  144.140,2,   39.820,2,    2.850,2, -999.000
           NA,HOT timeseries 1988to2019 27SEP2021,     30,  99,-999.0,      17,-999.0,19920104,2244,  22.7448, -157.9985,  4749, 1795.500,    2.293,   34.603,2,   34.603,2,   79.500,2,   81.100,2,  148.470,2,   39.710,2,    2.830,2, -999.000
           NA,HOT timeseries 1988to2019 27SEP2021,     30,  99,-999.0,      16,-999.0,19920104,2244,  22.7448, -157.9985,  4749, 1993.800,    2.038,   34.619,2,   34.620,2,   87.100,2,   88.400,2,  153.770,2,   39.290,2,    2.790,2, -999.000
           NA,HOT timeseries 1988to2019 27SEP2021,     30,  99,-999.0,      15,-999.0,19920104,2244,  22.7448, -157.9985,  4749, 2192.800,    1.887,   34.632,2, -999.000,4, -999.000,3,   96.800,2,  157.120,2,   38.910,2,    2.760,2, -999.000
           NA,HOT timeseries 1988to2019 27SEP2021,     30,  99,-999.0,      14,-999.0,19920104,2244,  22.7448, -157.9985,  4749, 2399.500,    1.763,   34.643,2,   34.643,2,  108.400,2,  103.300,2,  159.720,2,   38.240,2,    2.730,2, -999.000
           NA,HOT timeseries 1988to2019 27SEP2021,     30,  99,-999.0,      13,-999.0,19920104,2244,  22.7448, -157.9985,  4749, 2599.200,    1.648,   34.655,2, -999.000,4, -999.000,3,  113.400,2,  160.790,2,   37.550,2,    2.670,2, -999.000
           NA,HOT timeseries 1988to2019 27SEP2021,     30,  99,-999.0,      12,-999.0,19920104,2244,  22.7448, -157.9985,  4749, 2800.000,    1.578,   34.662,2,   34.664,2,  125.000,2,  120.100,2,  159.280,2,   37.330,2,    2.630,2, -999.000
           NA,HOT timeseries 1988to2019 27SEP2021,     30,  99,-999.0,      11,-999.0,19920104,2244,  22.7448, -157.9985,  4749, 2996.800,    1.516,   34.668,2, -999.000,4, -999.000,3,  130.000,2,  156.460,2,   36.740,2,    2.590,2, -999.000
           NA,HOT timeseries 1988to2019 27SEP2021,     30,  99,-999.0,      10,-999.0,19920104,2244,  22.7448, -157.9985,  4749, 3198.400,    1.474,   34.674,2,   34.675,2,  135.800,2,  135.500,2,  154.950,2,   36.300,2,    2.560,2, -999.000
           NA,HOT timeseries 1988to2019 27SEP2021,     30,  99,-999.0,       9,-999.0,19920104,2244,  22.7448, -157.9985,  4749, 3391.100,    1.454,   34.678,2,   34.680,2,  139.100,2,  140.200,2,  152.790,2,   35.960,2,    2.530,2, -999.000
           NA,HOT timeseries 1988to2019 27SEP2021,     30,  99,-999.0,       8,-999.0,19920104,2244,  22.7448, -157.9985,  4749, 3598.400,    1.443,   34.681,2,   34.682,2,  144.000,2,  145.200,2, -999.000,5, -999.000,5, -999.000,5, -999.000
           NA,HOT timeseries 1988to2019 27SEP2021,     30,  99,-999.0,       6,-999.0,19920104,2244,  22.7448, -157.9985,  4749, 3797.200,    1.441,   34.683,2,   34.686,2,  148.700,2,  147.800,2,  151.050,2,   35.510,2,    2.500,2, -999.000
           NA,HOT timeseries 1988to2019 27SEP2021,     30,  99,-999.0,       7,-999.0,19920104,2244,  22.7448, -157.9985,  4749, 3984.400,    1.445,   34.685,2,   34.684,2,  150.600,2,  150.800,2,  148.890,2,   35.390,2,    2.490,2, -999.000
           NA,HOT timeseries 1988to2019 27SEP2021,     30,  99,-999.0,      26,-999.0,19920104,2244,  22.7448, -157.9985,  4749, 4188.100,    1.457,   34.686,2,   34.685,2,  150.900,2,  151.900,2,  148.460,2,   35.270,2,    2.490,2, -999.000
           NA,HOT timeseries 1988to2019 27SEP2021,     30,  99,-999.0,      25,-999.0,19920104,2244,  22.7448, -157.9985,  4749, 4396.400,    1.474,   34.687,2, -999.000,4, -999.000,3,  152.900,2,  148.140,2,   35.270,2,    2.480,2, -999.000
           NA,HOT timeseries 1988to2019 27SEP2021,     30,  99,-999.0,       3,-999.0,19920104,2244,  22.7448, -157.9985,  4749, 4495.700,    1.483,   34.687,2,   34.686,2,  155.300,2,  151.200,2,  147.810,2,   35.270,2,    2.480,2, -999.000
           NA,HOT timeseries 1988to2019 27SEP2021,     30,  99,-999.0,       2,-999.0,19920104,2244,  22.7448, -157.9985,  4749, 4600.300,    1.494,   34.687,2,   34.687,2,  157.000,2,  155.000,2,  147.810,2,   35.270,2,    2.480,2, -999.000
           NA,HOT timeseries 1988to2019 27SEP2021,     30,  99,-999.0,       1,-999.0,19920104,2244,  22.7448, -157.9985,  4749, 4705.100,    1.504,   34.688,2,   34.687,2,  157.700,2,  157.300,2,  147.380,2,   35.270,2,    2.480,2, -999.000
           NA,HOT timeseries 1988to2019 27SEP2021,     31,  99,-999.0,      23,-999.0,19920214,0908,  22.7480, -158.0043,  3999,   14.300,   23.048,   35.138,2,   35.137,2,  213.400,2,  212.400,2,    1.940,2,   -0.010,2,    0.080,2, -999.000
           NA,HOT timeseries 1988to2019 27SEP2021,     31,  99,-999.0,      22,-999.0,19920214,0908,  22.7480, -158.0043,  3999,   54.600,   23.061,   35.142,2,   35.142,2,  214.100,2,  212.900,2,    1.790,2,   -0.010,2,    0.070,2, -999.000
           NA,HOT timeseries 1988to2019 27SEP2021,     31,  99,-999.0,      21,-999.0,19920214,0908,  22.7480, -158.0043,  3999,   82.200,   23.069,   35.145,2,   35.145,2,  214.400,2,  212.500,2,    1.880,2,   -0.010,2,    0.070,2, -999.000
           NA,HOT timeseries 1988to2019 27SEP2021,     31,  99,-999.0,      20,-999.0,19920214,0908,  22.7480, -158.0043,  3999,  115.100,   21.533,   35.266,2,   35.268,2,  206.300,2,  207.500,2, -999.000,4,    0.440,2,    0.120,2, -999.000
           NA,HOT timeseries 1988to2019 27SEP2021,     31,  99,-999.0,      19,-999.0,19920214,0908,  22.7480, -158.0043,  3999,  131.900,   20.677,   35.333,2,   35.331,2,  206.900,2,  206.800,2,    2.120,2,    0.680,2,    0.130,2, -999.000
           NA,HOT timeseries 1988to2019 27SEP2021,     31,  99,-999.0,      18,-999.0,19920214,0908,  22.7480, -158.0043,  3999,  200.200,   19.897,   35.358,2,   35.360,2,  206.100,2,  204.000,2,    2.230,2,    1.100,2,    0.140,2, -999.000
           NA,HOT timeseries 1988to2019 27SEP2021,     31,  99,-999.0,      17,-999.0,19920214,0908,  22.7480, -158.0043,  3999,  239.100,   19.348,   35.262,2,   35.266,2,  204.500,2,  203.200,2,    3.150,2,    1.500,2,    0.170,2, -999.000
           NA,HOT timeseries 1988to2019 27SEP2021,     31,  99,-999.0,      16,-999.0,19920214,0908,  22.7480, -158.0043,  3999,  342.500,   13.532,   34.412,2,   34.413,2,  198.300,2,  201.800,2,    8.770,2,    8.520,2,    0.640,2, -999.000
           NA,HOT timeseries 1988to2019 27SEP2021,     31,  99,-999.0,      15,-999.0,19920214,0908,  22.7480, -158.0043,  3999,  375.600,   11.611,   34.237,2, -999.000,5,  204.600,2,  203.000,2,   12.870,2,   12.380,2,    0.900,2, -999.000
           NA,HOT timeseries 1988to2019 27SEP2021,     31,  99,-999.0,      14,-999.0,19920214,0908,  22.7480, -158.0043,  3999,  401.200,   10.393,   34.160,2,   34.160,2,  194.800,2,  192.100,2,   18.460,2,   16.570,2,    1.170,2, -999.000
           NA,HOT timeseries 1988to2019 27SEP2021,     31,  99,-999.0,      13,-999.0,19920214,0908,  22.7480, -158.0043,  3999,  407.800,   10.222,   34.155,2,   34.154,2,  192.100,2,  187.900,2,   19.600,2,   16.940,2,    1.220,2, -999.000
           NA,HOT timeseries 1988to2019 27SEP2021,     31,  99,-999.0,      12,-999.0,19920214,0908,  22.7480, -158.0043,  3999,  456.700,    8.965,   34.116,2,   34.114,2,  176.600,2,  160.400,2,   29.550,2,   22.140,2,    1.600,2, -999.000
           NA,HOT timeseries 1988to2019 27SEP2021,     31,  99,-999.0,      11,-999.0,19920214,0908,  22.7480, -158.0043,  3999,  517.500,    7.790,   34.108,2,   34.107,2,  121.300,2,  116.900,2,   43.040,2,   28.360,2,    2.040,2, -999.000
           NA,HOT timeseries 1988to2019 27SEP2021,     31,  99,-999.0,      10,-999.0,19920214,0908,  22.7480, -158.0043,  3999,  578.200,    6.687,   34.115,2,   34.112,2,   90.100,2,   80.900,2,   57.440,2,   33.400,2,    2.420,2, -999.000
           NA,HOT timeseries 1988to2019 27SEP2021,     31,  99,-999.0,       9,-999.0,19920214,0908,  22.7480, -158.0043,  3999,  640.300,    5.453,   34.149,2, -999.000,5,   55.900,2, -999.000,5, -999.000,5, -999.000,5, -999.000,5, -999.000
           NA,HOT timeseries 1988to2019 27SEP2021,     31,  99,-999.0,       8,-999.0,19920214,0908,  22.7480, -158.0043,  3999,  696.800,    4.952,   34.239,2,   34.237,2,   41.000,2,   36.000,2,   89.840,2,   40.520,2,    2.920,2, -999.000
           NA,HOT timeseries 1988to2019 27SEP2021,     31,  99,-999.0,       6,-999.0,19920214,0908,  22.7480, -158.0043,  3999,  748.900,    4.816,   34.296,2,   34.293,2,   35.000,2,   32.400,2,   93.830,2,   41.230,2,    2.980,2, -999.000
           NA,HOT timeseries 1988to2019 27SEP2021,     31,  99,-999.0,       7,-999.0,19920214,0908,  22.7480, -158.0043,  3999,  779.900,    4.608,   34.352,2, -999.000,4, -999.000,3, -999.000,4, -999.000,4,   41.600,2,    3.000,2, -999.000
           NA,HOT timeseries 1988to2019 27SEP2021,     31,  99,-999.0,      26,-999.0,19920214,0908,  22.7480, -158.0043,  3999,  800.800,    4.532,   34.369,2,   34.369,2,   34.100,2,   32.100,2,  100.940,2,   41.880,2,    3.050,2, -999.000
           NA,HOT timeseries 1988to2019 27SEP2021,     31,  99,-999.0,      25,-999.0,19920214,0908,  22.7480, -158.0043,  3999,  849.200,    4.390,   34.408,2,   34.407,2,   35.200,2,   33.900,2,  103.420,2,   41.990,2,    3.030,2, -999.000
           NA,HOT timeseries 1988to2019 27SEP2021,     31,  99,-999.0,       3,-999.0,19920214,0908,  22.7480, -158.0043,  3999,  883.500,    4.306,   34.427,2,   34.428,2,   36.600,2,   36.400,2,  105.650,2, -999.000,3,    3.030,2, -999.000
           NA,HOT timeseries 1988to2019 27SEP2021,     31,  99,-999.0,       2,-999.0,19920214,0908,  22.7480, -158.0043,  3999,  976.300,    3.952,   34.471,2, -999.000,4, -999.000,3,   43.100,2,  112.580,2,   42.240,2,    3.020,2, -999.000
           NA,HOT timeseries 1988to2019 27SEP2021,     31,  99,-999.0,       1,-999.0,19920214,0908,  22.7480, -158.0043,  3999, 1056.700,    3.740,   34.492,2,   34.491,2,   46.500,2,   46.300,2,  116.730,2,   42.060,2,    3.010,2, -999.000
           NA,HOT timeseries 1988to2019 27SEP2021,     31,  99,-999.0,      20,-999.0,19920214,0908,  22.7480, -158.0043,  3999, 1193.700,    3.475,   34.527,2,   34.527,2, -999.000,5,   53.300,2,  122.310,2,   41.580,2,    2.950,2, -999.000
           NA,HOT timeseries 1988to2019 27SEP2021,     31,  99,-999.0,      19,-999.0,19920214,0908,  22.7480, -158.0043,  3999, 1386.400,    3.093,   34.554,2,   34.555,2, -999.000,5,   61.300,2,  130.760,2,   41.760,2,    2.950,2, -999.000
           NA,HOT timeseries 1988to2019 27SEP2021,     31,  99,-999.0,      18,-999.0,19920214,0908,  22.7480, -158.0043,  3999, 1587.300,    2.710,   34.578,2,   34.580,2, -999.000,5,   72.600,2,  137.560,2,   41.020,2,    2.890,2, -999.000
           NA,HOT timeseries 1988to2019 27SEP2021,     31,  99,-999.0,      17,-999.0,19920214,0908,  22.7480, -158.0043,  3999, 1774.600,    2.382,   34.599,2,   34.598,2, -999.000,5,   78.700,2,  146.370,2,   40.830,2,    2.860,2, -999.000
           NA,HOT timeseries 1988to2019 27SEP2021,     31,  99,-999.0,      16,-999.0,19920214,0908,  22.7480, -158.0043,  3999, 1973.100,    2.150,   34.613,2,   34.612,2, -999.000,5,   84.900,2,  151.720,2,   40.440,2,    2.840,2, -999.000