BOTTLE,20214727JOAExport
EXPOCODE,SECT_ID,STNNBR,CASTNO,SAMPNO,BTLNBR,BTLNBR_FLAG_W,DATE,TIME,LATITUDE,LONGITUDE,DEPTH,CTDPRS,CTDTMP,CTDSAL,CTDSAL_FLAG_W,SALNTY,SALNTY_FLAG_W,CTDOXY,CTDOXY_FLAG_W,OXYGEN,OXYGEN_FLAG_W,SILCAT,SILCAT_FLAG_W,NINI,NINI_FLAG_W,PHSPHT,PHSPHT_FLAG_W,REVP
,,,,,,,,,,,,DB,IPTS-68,PSS-78,,PSS-78,,UMOL/KG,,UMOL/KG,,UMOL/KG,,UMOL/KG,,UMOL/KG,,DBAR
           NA,HOT timeseries 1988to2019 27SEP2021,    142,  99,-999.0,      31,-999.0,20030328,1858,  22.7440, -157.9965,  4743,    3.600,   23.724,   35.282,2,   35.281,2,  269.500,2, -999.000,3,    1.060,2,    0.140,2,    0.040,2, -999.000
           NA,HOT timeseries 1988to2019 27SEP2021,    142,  99,-999.0,      31,-999.0,20030328,1858,  22.7440, -157.9965,  4743,    7.500,   23.714,   35.278,2,   35.279,2,  272.700,2, -999.000,3,    1.080,2,    0.000,2,    0.040,2, -999.000
           NA,HOT timeseries 1988to2019 27SEP2021,    142,  99,-999.0,      30,-999.0,20030328,1858,  22.7440, -157.9965,  4743,   59.400,   22.927,   35.359,2,   35.356,2,  268.100,2, -999.000,3,    1.120,2,    0.060,2,    0.040,2, -999.000
           NA,HOT timeseries 1988to2019 27SEP2021,    142,  99,-999.0,      22,-999.0,20030328,1858,  22.7440, -157.9965,  4743,  114.600,   21.743,   35.350,2,   35.357,2,  258.800,2, -999.000,3,    1.370,2,    0.410,2,    0.040,2, -999.000
           NA,HOT timeseries 1988to2019 27SEP2021,    142,  99,-999.0,      21,-999.0,20030328,1858,  22.7440, -157.9965,  4743,  148.700,   20.631,   35.236,2,   35.244,2,  248.400,2, -999.000,3,    1.820,2,    1.210,2,    0.080,2, -999.000
           NA,HOT timeseries 1988to2019 27SEP2021,    142,  99,-999.0,      20,-999.0,20030328,1858,  22.7440, -157.9965,  4743,  185.700,   19.284,   35.061,2,   35.064,2,  240.700,2, -999.000,3,    2.430,2,    2.290,2,    0.110,2, -999.000
           NA,HOT timeseries 1988to2019 27SEP2021,    142,  99,-999.0,      19,-999.0,20030328,1858,  22.7440, -157.9965,  4743,  218.500,   17.688,   34.835,2,   34.839,2,  242.000,2, -999.000,3,    3.790,2,    2.960,2,    0.260,2, -999.000
           NA,HOT timeseries 1988to2019 27SEP2021,    142,  99,-999.0,      18,-999.0,20030328,1858,  22.7440, -157.9965,  4743,  251.200,   15.804,   34.597,2,   34.601,2,  238.300,2, -999.000,3,    5.470,2,    4.840,2, -999.000,3, -999.000
           NA,HOT timeseries 1988to2019 27SEP2021,    142,  99,-999.0,      17,-999.0,20030328,1858,  22.7440, -157.9965,  4743,  298.200,   13.811,   34.425,2, -999.000,4, -999.000,3, -999.000,3,    8.090,2,    7.560,2,    0.540,2, -999.000
           NA,HOT timeseries 1988to2019 27SEP2021,    142,  99,-999.0,      16,-999.0,20030328,1858,  22.7440, -157.9965,  4743,  344.400,   11.730,   34.244,2,   34.243,2,  238.400,2, -999.000,3,   12.340,2,   11.230,2,    0.760,2, -999.000
           NA,HOT timeseries 1988to2019 27SEP2021,    142,  99,-999.0,      23,-999.0,20030328,1858,  22.7440, -157.9965,  4743,  373.400,   10.169,   34.151,2,   34.150,2,  216.400,2, -999.000,3,   18.930,2,   16.280,2,    1.110,2, -999.000
           NA,HOT timeseries 1988to2019 27SEP2021,    142,  99,-999.0,      40,-999.0,20030328,1858,  22.7440, -157.9965,  4743,  412.300,    8.856,   34.084,2, -999.000,4, -999.000,3, -999.000,3,   25.060,2,   19.700,2,    1.410,2, -999.000
           NA,HOT timeseries 1988to2019 27SEP2021,    142,  99,-999.0,      13,-999.0,20030328,1858,  22.7440, -157.9965,  4743,  456.000,    7.954,   34.051,2, -999.000,4, -999.000,3, -999.000,3,   33.510,2,   23.200,2,    1.670,2, -999.000
           NA,HOT timeseries 1988to2019 27SEP2021,    142,  99,-999.0,      12,-999.0,20030328,1858,  22.7440, -157.9965,  4743,  494.900,    7.111,   34.033,2,   34.032,2,  139.200,2, -999.000,3,   45.480,2,   29.020,2,    2.080,2, -999.000
           NA,HOT timeseries 1988to2019 27SEP2021,    142,  99,-999.0,      39,-999.0,20030328,1858,  22.7440, -157.9965,  4743,  539.700,    6.400,   34.035,2,   34.040,2,  111.200,2, -999.000,3, -999.000,4,   32.290,2,    2.310,2, -999.000
           NA,HOT timeseries 1988to2019 27SEP2021,    142,  99,-999.0,      32,-999.0,20030328,1858,  22.7440, -157.9965,  4743,  597.500,    5.666,   34.071,2,   34.071,2,   75.400,2, -999.000,3,   66.650,2,   36.290,2,    2.640,2, -999.000
           NA,HOT timeseries 1988to2019 27SEP2021,    142,  99,-999.0,       3,-999.0,20030328,1858,  22.7440, -157.9965,  4743,  634.000,    5.251,   34.112,2,   34.112,2,   56.600,2, -999.000,3, -999.000,4,   38.320,2,    2.790,2, -999.000
           NA,HOT timeseries 1988to2019 27SEP2021,    142,  99,-999.0,      29,-999.0,20030328,1858,  22.7440, -157.9965,  4743,  688.200,    4.865,   34.186,2,   34.191,2,   40.300,2, -999.000,3, -999.000,4,   40.270,2,    2.930,2, -999.000
           NA,HOT timeseries 1988to2019 27SEP2021,    142,  99,-999.0,      28,-999.0,20030328,1858,  22.7440, -157.9965,  4743,  746.900,    4.780,   34.326,2,   34.327,2,   25.600,2, -999.000,3, -999.000,4,   41.460,2,    3.050,2, -999.000
           NA,HOT timeseries 1988to2019 27SEP2021,    142,  99,-999.0,       7,-999.0,20030328,1858,  22.7440, -157.9965,  4743,  797.100,    4.604,   34.370,2,   34.367,2,   26.900,2, -999.000,3,   95.740,2,   41.990,2,    3.070,2, -999.000
           NA,HOT timeseries 1988to2019 27SEP2021,    142,  99,-999.0,      38,-999.0,20030328,1858,  22.7440, -157.9965,  4743,  843.900,    4.557,   34.415,2,   34.416,2,   30.200,2, -999.000,3,   98.330,2,   41.980,2,    3.090,2, -999.000
           NA,HOT timeseries 1988to2019 27SEP2021,    142,  99,-999.0,      36,-999.0,20030328,1858,  22.7440, -157.9965,  4743,  886.800,    4.490,   34.434,2,   34.435,2,   32.400,2, -999.000,3, -999.000,4,   41.460,2, -999.000,4, -999.000
           NA,HOT timeseries 1988to2019 27SEP2021,    142,  99,-999.0,      35,-999.0,20030328,1858,  22.7440, -157.9965,  4743,  921.000,    4.383,   34.456,2, -999.000,4, -999.000,3, -999.000,4, -999.000,4, -999.000,4, -999.000,4, -999.000
           NA,HOT timeseries 1988to2019 27SEP2021,    142,  99,-999.0,      34,-999.0,20030328,1858,  22.7440, -157.9965,  4743,  961.900,    4.246,   34.473,2,   34.473,2,   37.300,2, -999.000,3,  104.430,2, -999.000,4,    3.060,2, -999.000
           NA,HOT timeseries 1988to2019 27SEP2021,    142,  99,-999.0,      21,-999.0,20030328,1858,  22.7440, -157.9965,  4743, 1000.300,    4.091,   34.495,2,   34.496,2,   41.000,2, -999.000,3,  105.880,2,   42.040,2,    3.070,2, -999.000
           NA,HOT timeseries 1988to2019 27SEP2021,    142,  99,-999.0,      20,-999.0,20030328,1858,  22.7440, -157.9965,  4743, 1202.500,    3.571,   34.529,2,   34.529,2,   51.100,2, -999.000,3,  119.220,2,   41.880,2,    2.990,2, -999.000
           NA,HOT timeseries 1988to2019 27SEP2021,    142,  99,-999.0,      19,-999.0,20030328,1858,  22.7440, -157.9965,  4743, 1399.200,    3.185,   34.558,2,   34.561,2,   58.200,2, -999.000,3,  127.840,2,   41.660,2,    3.000,2, -999.000
           NA,HOT timeseries 1988to2019 27SEP2021,    142,  99,-999.0,      18,-999.0,20030328,1858,  22.7440, -157.9965,  4743, 1601.500,    2.809,   34.579,2,   34.579,2,   68.200,2, -999.000,3,  136.230,2,   41.210,2,    2.960,2, -999.000
           NA,HOT timeseries 1988to2019 27SEP2021,    142,  99,-999.0,      17,-999.0,20030328,1858,  22.7440, -157.9965,  4743, 1801.600,    2.444,   34.598,2,   34.598,2,   80.500,2, -999.000,3,  142.570,2,   40.390,2,    2.860,2, -999.000
           NA,HOT timeseries 1988to2019 27SEP2021,    142,  99,-999.0,      16,-999.0,20030328,1858,  22.7440, -157.9965,  4743, 1999.900,    2.195,   34.615,2,   34.616,2,   89.000,2, -999.000,3,  148.400,2,   39.900,2,    2.820,2, -999.000
           NA,HOT timeseries 1988to2019 27SEP2021,    142,  99,-999.0,      23,-999.0,20030328,1858,  22.7440, -157.9965,  4743, 2198.400,    2.004,   34.630,2,   34.629,2,   98.200,2, -999.000,3,  153.330,2,   39.270,2,    2.750,2, -999.000
           NA,HOT timeseries 1988to2019 27SEP2021,    142,  99,-999.0,      40,-999.0,20030328,1858,  22.7440, -157.9965,  4743, 2400.900,    1.848,   34.641,2,   34.640,2,  104.100,2, -999.000,3,  157.740,2,   38.890,2,    2.720,2, -999.000
           NA,HOT timeseries 1988to2019 27SEP2021,    142,  99,-999.0,      13,-999.0,20030328,1858,  22.7440, -157.9965,  4743, 2598.600,    1.723,   34.653,2, -999.000,4, -999.000,3, -999.000,4, -999.000,5, -999.000,4, -999.000,4, -999.000
           NA,HOT timeseries 1988to2019 27SEP2021,    142,  99,-999.0,      12,-999.0,20030328,1858,  22.7440, -157.9965,  4743, 2799.800,    1.632,   34.661,2,   34.661,2,  119.400,2, -999.000,3,  158.840,2,   38.080,2,    2.680,2, -999.000
           NA,HOT timeseries 1988to2019 27SEP2021,    142,  99,-999.0,      39,-999.0,20030328,1858,  22.7440, -157.9965,  4743, 3000.000,    1.572,   34.668,2,   34.668,2,  126.500,2, -999.000,3,  160.280,2,   37.370,2,    2.610,2, -999.000
           NA,HOT timeseries 1988to2019 27SEP2021,    142,  99,-999.0,      32,-999.0,20030328,1858,  22.7440, -157.9965,  4743, 3200.200,    1.528,   34.673,2,   34.672,2,  133.000,2, -999.000,3,  158.320,2,   36.950,2,    2.610,2, -999.000
           NA,HOT timeseries 1988to2019 27SEP2021,    142,  99,-999.0,       3,-999.0,20030328,1858,  22.7440, -157.9965,  4743, 3400.800,    1.490,   34.678,2,   34.678,2,  140.000,2, -999.000,3,  155.580,2,   36.580,2,    2.550,2, -999.000
           NA,HOT timeseries 1988to2019 27SEP2021,    142,  99,-999.0,      29,-999.0,20030328,1858,  22.7440, -157.9965,  4743, 3599.800,    1.467,   34.682,2,   34.682,2,  145.900,2, -999.000,3,  154.900,2,   36.290,2,    2.560,2, -999.000
           NA,HOT timeseries 1988to2019 27SEP2021,    142,  99,-999.0,      28,-999.0,20030328,1858,  22.7440, -157.9965,  4743, 3798.700,    1.463,   34.685,2,   34.685,2,  149.800,2, -999.000,3,  153.490,2,   36.070,2, -999.000,4, -999.000
           NA,HOT timeseries 1988to2019 27SEP2021,    142,  99,-999.0,       7,-999.0,20030328,1858,  22.7440, -157.9965,  4743, 3999.500,    1.465,   34.686,2,   34.686,2,  152.500,2, -999.000,3,  151.500,2,   35.700,2,    2.500,2, -999.000
           NA,HOT timeseries 1988to2019 27SEP2021,    142,  99,-999.0,      38,-999.0,20030328,1858,  22.7440, -157.9965,  4743, 4200.100,    1.471,   34.688,2,   34.688,2,  154.800,2, -999.000,3,  149.740,2,   35.700,2,    2.490,2, -999.000
           NA,HOT timeseries 1988to2019 27SEP2021,    142,  99,-999.0,      36,-999.0,20030328,1858,  22.7440, -157.9965,  4743, 4401.000,    1.483,   34.689,2,   34.692,2,  156.800,2, -999.000,3,  148.070,2,   35.480,2,    2.470,2, -999.000
           NA,HOT timeseries 1988to2019 27SEP2021,    142,  99,-999.0,      35,-999.0,20030328,1858,  22.7440, -157.9965,  4743, 4501.300,    1.490,   34.689,2,   34.689,2,  157.300,2, -999.000,3,  147.350,2,   35.520,2,    2.480,2, -999.000
           NA,HOT timeseries 1988to2019 27SEP2021,    142,  99,-999.0,      34,-999.0,20030328,1858,  22.7440, -157.9965,  4743, 4600.900,    1.498,   34.690,2,   34.690,2,  158.000,2, -999.000,3,  147.570,2,   35.630,2,    2.470,2, -999.000
           NA,HOT timeseries 1988to2019 27SEP2021,    142,  99,-999.0,      33,-999.0,20030328,1858,  22.7440, -157.9965,  4743, 4790.200,    1.520,   34.689,2,   34.691,2,  158.100,2, -999.000,3,  147.460,2,   35.480,2,    2.460,2, -999.000