BOTTLE,20214727JOAExport
EXPOCODE,SECT_ID,STNNBR,CASTNO,SAMPNO,BTLNBR,BTLNBR_FLAG_W,DATE,TIME,LATITUDE,LONGITUDE,DEPTH,CTDPRS,CTDTMP,CTDSAL,CTDSAL_FLAG_W,SALNTY,SALNTY_FLAG_W,CTDOXY,CTDOXY_FLAG_W,OXYGEN,OXYGEN_FLAG_W,SILCAT,SILCAT_FLAG_W,NINI,NINI_FLAG_W,PHSPHT,PHSPHT_FLAG_W,REVP
,,,,,,,,,,,,DB,IPTS-68,PSS-78,,PSS-78,,UMOL/KG,,UMOL/KG,,UMOL/KG,,UMOL/KG,,UMOL/KG,,DBAR
           NA,HOT timeseries 1988to2019 27SEP2021,     58,  99,-999.0,      31,-999.0,19950407,2025,  22.7637, -157.9960,  4714,    5.000,   24.053,   34.415,2,   34.415,2,  229.200,2,  210.800,2,    1.470,2,    0.000,2,    0.130,2, -999.000
           NA,HOT timeseries 1988to2019 27SEP2021,     58,  99,-999.0,      31,-999.0,19950407,2025,  22.7637, -157.9960,  4714,    9.600,   23.942,   34.422,2,   34.422,2,  224.000,1, -999.000,9, -999.000,5, -999.000,5, -999.000,5, -999.000
           NA,HOT timeseries 1988to2019 27SEP2021,     58,  99,-999.0,      30,-999.0,19950407,2025,  22.7637, -157.9960,  4714,   63.800,   23.529,   34.680,2,   34.678,2,  219.100,1, -999.000,9,    1.210,2,    0.000,2,    0.110,2, -999.000
           NA,HOT timeseries 1988to2019 27SEP2021,     58,  99,-999.0,      30,-999.0,19950407,2025,  22.7637, -157.9960,  4714,   99.800,   23.080,   34.898,2,   34.903,2,  223.500,2, -999.000,5,    1.310,2,    0.000,2,    0.090,2, -999.000
           NA,HOT timeseries 1988to2019 27SEP2021,     58,  99,-999.0,      22,-999.0,19950407,2025,  22.7637, -157.9960,  4714,  109.400,   23.053,   34.916,2,   34.912,2,  222.200,1, -999.000,9,    1.200,2,    0.000,2,    0.100,2, -999.000
           NA,HOT timeseries 1988to2019 27SEP2021,     58,  99,-999.0,      21,-999.0,19950407,2025,  22.7637, -157.9960,  4714,  118.700,   22.863,   34.990,2,   34.988,2,  215.600,1, -999.000,9,    1.160,2,    0.000,2,    0.130,2, -999.000
           NA,HOT timeseries 1988to2019 27SEP2021,     58,  99,-999.0,      20,-999.0,19950407,2025,  22.7637, -157.9960,  4714,  179.500,   21.423,   35.093,2,   35.095,2,  191.700,1, -999.000,9,    1.460,2,    0.590,2,    0.140,2, -999.000
           NA,HOT timeseries 1988to2019 27SEP2021,     58,  99,-999.0,      22,-999.0,19950407,2025,  22.7637, -157.9960,  4714,  194.600,   20.600,   35.129,2,   35.126,2,  198.700,2, -999.000,5,    1.800,2,    1.050,2,    0.160,2, -999.000
           NA,HOT timeseries 1988to2019 27SEP2021,     58,  99,-999.0,      19,-999.0,19950407,2025,  22.7637, -157.9960,  4714,  199.900,   20.991,   35.176,2,   35.171,2,  199.600,1, -999.000,9,    1.570,2,    0.930,2,    0.140,2, -999.000
           NA,HOT timeseries 1988to2019 27SEP2021,     58,  99,-999.0,      18,-999.0,19950407,2025,  22.7637, -157.9960,  4714,  224.200,   19.635,   35.097,2,   35.097,2,  180.700,1, -999.000,9,    1.970,2,    1.710,2,    0.200,2, -999.000
           NA,HOT timeseries 1988to2019 27SEP2021,     58,  99,-999.0,      17,-999.0,19950407,2025,  22.7637, -157.9960,  4714,  300.500,   15.926,   34.632,2,   34.633,2,  169.000,1, -999.000,9,    5.060,2,    5.810,2,    0.460,2, -999.000
           NA,HOT timeseries 1988to2019 27SEP2021,     58,  99,-999.0,      16,-999.0,19950407,2025,  22.7637, -157.9960,  4714,  349.500,   12.069,   34.221,2,   34.223,2,  146.600,1, -999.000,9,   12.180,2,   13.320,2,    0.990,2, -999.000
           NA,HOT timeseries 1988to2019 27SEP2021,     58,  99,-999.0,      15,-999.0,19950407,2025,  22.7637, -157.9960,  4714,  355.800,   11.866,   34.216,2,   34.213,2,  147.500,1, -999.000,9,   13.420,2,   14.360,2,    1.070,2, -999.000
           NA,HOT timeseries 1988to2019 27SEP2021,     58,  99,-999.0,      14,-999.0,19950407,2025,  22.7637, -157.9960,  4714,  370.500,   11.185,   34.183,2,   34.175,2,  186.300,1, -999.000,9,   14.330,2,   14.080,2,    1.060,2, -999.000
           NA,HOT timeseries 1988to2019 27SEP2021,     58,  99,-999.0,      13,-999.0,19950407,2025,  22.7637, -157.9960,  4714,  382.700,   10.587,   34.173,2,   34.172,2,  191.800,1, -999.000,9,   18.110,2,   16.120,2,    1.170,2, -999.000
           NA,HOT timeseries 1988to2019 27SEP2021,     58,  99,-999.0,      12,-999.0,19950407,2025,  22.7637, -157.9960,  4714,  445.000,    8.948,   34.085,2,   34.082,2,  205.900,1, -999.000,9,   25.050,2,   19.550,2,    1.380,2, -999.000
           NA,HOT timeseries 1988to2019 27SEP2021,     58,  99,-999.0,      11,-999.0,19950407,2025,  22.7637, -157.9960,  4714,  516.100,    7.381,   34.035,2,   34.035,2,  143.900,1, -999.000,9,   40.970,2,   26.450,2,    1.930,2, -999.000
           NA,HOT timeseries 1988to2019 27SEP2021,     58,  99,-999.0,      32,-999.0,19950407,2025,  22.7637, -157.9960,  4714,  524.700,    7.220,   34.035,2,   34.034,2,  140.800,1, -999.000,9,   43.620,2,   27.540,2,    1.960,2, -999.000
           NA,HOT timeseries 1988to2019 27SEP2021,     58,  99,-999.0,      21,-999.0,19950407,2025,  22.7637, -157.9960,  4714,  541.200,    6.844,   34.046,2,   34.046,2,  126.000,2, -999.000,5,   49.130,2,   28.810,2,    2.040,2, -999.000
           NA,HOT timeseries 1988to2019 27SEP2021,     58,  99,-999.0,       3,-999.0,19950407,2025,  22.7637, -157.9960,  4714,  566.400,    6.563,   34.044,2,   34.044,2,  112.000,1, -999.000,9,   54.300,2,   31.520,2,    2.270,2, -999.000
           NA,HOT timeseries 1988to2019 27SEP2021,     58,  99,-999.0,      29,-999.0,19950407,2025,  22.7637, -157.9960,  4714,  598.000,    5.987,   34.076,2,   34.077,2,   64.800,1, -999.000,9,   65.180,2,   34.930,2,    2.550,2, -999.000
           NA,HOT timeseries 1988to2019 27SEP2021,     58,  99,-999.0,      28,-999.0,19950407,2025,  22.7637, -157.9960,  4714,  627.600,    5.455,   34.123,2,   34.125,2,   44.200,1, -999.000,9,   75.690,2,   37.600,2,    2.770,2, -999.000
           NA,HOT timeseries 1988to2019 27SEP2021,     58,  99,-999.0,       7,-999.0,19950407,2025,  22.7637, -157.9960,  4714,  698.800,    4.866,   34.204,2,   34.198,2,   33.500,1, -999.000,9,   89.290,2,   40.100,2,    2.930,2, -999.000
           NA,HOT timeseries 1988to2019 27SEP2021,     58,  99,-999.0,      23,-999.0,19950407,2025,  22.7637, -157.9960,  4714,  785.300,    4.671,   34.316,2,   34.320,2,   26.900,1, -999.000,9,   96.470,2,   40.960,2,    2.980,2, -999.000
           NA,HOT timeseries 1988to2019 27SEP2021,     58,  99,-999.0,      36,-999.0,19950407,2025,  22.7637, -157.9960,  4714,  877.900,    4.228,   34.380,2,   34.379,2,   27.300,1, -999.000,9,  106.600,2,   41.640,2,    3.060,2, -999.000
           NA,HOT timeseries 1988to2019 27SEP2021,     58,  99,-999.0,      35,-999.0,19950407,2025,  22.7637, -157.9960,  4714,  949.900,    3.927,   34.414,2,   34.415,2,   29.800,1, -999.000,9,  113.610,2,   41.850,2,    3.070,2, -999.000
           NA,HOT timeseries 1988to2019 27SEP2021,     58,  99,-999.0,      33,-999.0,19950407,2025,  22.7637, -157.9960,  4714, 1019.500,    3.877,   34.464,2,   34.468,2,   38.300,1, -999.000,9,  114.210,2,   41.630,2,    3.060,2, -999.000
           NA,HOT timeseries 1988to2019 27SEP2021,     58,  99,-999.0,      19,-999.0,19950407,2025,  22.7637, -157.9960,  4714, 1400.300,    3.074,   34.554,2,   34.553,2,   63.800,2, -999.000,5,  129.870,2,   41.180,2,    2.970,2, -999.000
           NA,HOT timeseries 1988to2019 27SEP2021,     58,  99,-999.0,      18,-999.0,19950407,2025,  22.7637, -157.9960,  4714, 1600.400,    2.728,   34.577,2,   34.577,2,   71.700,2, -999.000,5,  138.110,2,   40.400,2,    2.890,2, -999.000
           NA,HOT timeseries 1988to2019 27SEP2021,     58,  99,-999.0,      17,-999.0,19950407,2025,  22.7637, -157.9960,  4714, 1800.700,    2.373,   34.599,2,   34.598,2,   81.400,2, -999.000,5,  146.040,2,   39.680,2,    2.890,2, -999.000
           NA,HOT timeseries 1988to2019 27SEP2021,     58,  99,-999.0,      16,-999.0,19950407,2025,  22.7637, -157.9960,  4714, 2001.900,    2.148,   34.614,2,   34.614,2,   91.000,2,   94.700,2,  152.360,2,   39.250,2,    2.860,2, -999.000
           NA,HOT timeseries 1988to2019 27SEP2021,     58,  99,-999.0,      15,-999.0,19950407,2025,  22.7637, -157.9960,  4714, 2201.100,    1.942,   34.628,2,   34.628,2,   97.600,2, -999.000,5,  156.420,2,   38.860,2,    2.810,2, -999.000
           NA,HOT timeseries 1988to2019 27SEP2021,     58,  99,-999.0,      14,-999.0,19950407,2025,  22.7637, -157.9960,  4714, 2401.700,    1.800,   34.641,2,   34.641,2,  105.100,2, -999.000,5,  158.600,2,   38.530,2,    2.770,2, -999.000
           NA,HOT timeseries 1988to2019 27SEP2021,     58,  99,-999.0,      13,-999.0,19950407,2025,  22.7637, -157.9960,  4714, 2599.800,    1.691,   34.652,2,   34.652,2,  111.700,2, -999.000,5,  159.140,2,   37.790,2,    2.740,2, -999.000
           NA,HOT timeseries 1988to2019 27SEP2021,     58,  99,-999.0,      12,-999.0,19950407,2025,  22.7637, -157.9960,  4714, 2801.200,    1.604,   34.660,2,   34.660,2,  118.800,2, -999.000,5,  159.400,2,   37.330,2,    2.680,2, -999.000
           NA,HOT timeseries 1988to2019 27SEP2021,     58,  99,-999.0,      11,-999.0,19950407,2025,  22.7637, -157.9960,  4714, 3000.700,    1.543,   34.667,2,   34.667,2,  125.200,2, -999.000,5,  159.010,2,   37.030,2,    2.640,2, -999.000
           NA,HOT timeseries 1988to2019 27SEP2021,     58,  99,-999.0,      32,-999.0,19950407,2025,  22.7637, -157.9960,  4714, 3200.800,    1.497,   34.673,2,   34.673,2,  133.200,2, -999.000,5,  157.990,2,   36.610,2,    2.640,2, -999.000
           NA,HOT timeseries 1988to2019 27SEP2021,     58,  99,-999.0,       3,-999.0,19950407,2025,  22.7637, -157.9960,  4714, 3399.000,    1.467,   34.677,2,   34.677,2,  137.700,2, -999.000,5,  156.150,2,   36.330,2,    2.570,2, -999.000
           NA,HOT timeseries 1988to2019 27SEP2021,     58,  99,-999.0,      29,-999.0,19950407,2025,  22.7637, -157.9960,  4714, 3600.400,    1.449,   34.680,2,   34.680,2,  143.200,2, -999.000,5,  154.410,2,   36.010,2,    2.550,2, -999.000
           NA,HOT timeseries 1988to2019 27SEP2021,     58,  99,-999.0,      28,-999.0,19950407,2025,  22.7637, -157.9960,  4714, 3799.900,    1.447,   34.682,2,   34.682,2,  147.000,2, -999.000,5,  152.950,2,   35.810,2,    2.520,2, -999.000
           NA,HOT timeseries 1988to2019 27SEP2021,     58,  99,-999.0,       7,-999.0,19950407,2025,  22.7637, -157.9960,  4714, 4000.500,    1.451,   34.684,2,   34.684,2,  149.500,2,  147.500,2,  152.080,2,   35.660,2,    2.500,2, -999.000
           NA,HOT timeseries 1988to2019 27SEP2021,     58,  99,-999.0,      23,-999.0,19950407,2025,  22.7637, -157.9960,  4714, 4200.400,    1.460,   34.685,2,   34.685,2,  148.600,2, -999.000,5,  150.450,2,   35.350,2,    2.490,2, -999.000
           NA,HOT timeseries 1988to2019 27SEP2021,     58,  99,-999.0,      36,-999.0,19950407,2025,  22.7637, -157.9960,  4714, 4399.900,    1.476,   34.686,2,   34.687,2,  149.700,2, -999.000,5,  150.210,2,   35.400,2,    2.480,2, -999.000
           NA,HOT timeseries 1988to2019 27SEP2021,     58,  99,-999.0,      35,-999.0,19950407,2025,  22.7637, -157.9960,  4714, 4501.600,    1.486,   34.686,2,   34.685,2,  151.500,2, -999.000,5,  150.290,2,   35.370,2,    2.530,2, -999.000
           NA,HOT timeseries 1988to2019 27SEP2021,     58,  99,-999.0,      34,-999.0,19950407,2025,  22.7637, -157.9960,  4714, 4601.700,    1.495,   34.686,2,   34.685,2,  150.900,2, -999.000,5,  149.420,2,   35.180,2,    2.470,2, -999.000
           NA,HOT timeseries 1988to2019 27SEP2021,     58,  99,-999.0,      33,-999.0,19950407,2025,  22.7637, -157.9960,  4714, 4803.300,    1.518,   34.687,2,   34.686,2,  151.200,2,  152.100,2,  149.040,2, -999.000,5, -999.000,5, -999.000