BOTTLE,20214727JOAExport
EXPOCODE,SECT_ID,STNNBR,CASTNO,SAMPNO,BTLNBR,BTLNBR_FLAG_W,DATE,TIME,LATITUDE,LONGITUDE,DEPTH,CTDPRS,CTDTMP,CTDSAL,CTDSAL_FLAG_W,SALNTY,SALNTY_FLAG_W,CTDOXY,CTDOXY_FLAG_W,OXYGEN,OXYGEN_FLAG_W,SILCAT,SILCAT_FLAG_W,NINI,NINI_FLAG_W,PHSPHT,PHSPHT_FLAG_W,REVP
,,,,,,,,,,,,DB,IPTS-68,PSS-78,,PSS-78,,UMOL/KG,,UMOL/KG,,UMOL/KG,,UMOL/KG,,UMOL/KG,,DBAR
           NA,HOT timeseries 1988to2019 27SEP2021,    181,  99,-999.0,    8024,-999.0,20060915,1548,  22.7502, -157.9998,  4749,    5.700,   26.481,   35.142,2,   35.142,2,  206.100,2,  202.400,2,    0.810,2,    0.060,2,    0.020,2, -999.000
           NA,HOT timeseries 1988to2019 27SEP2021,    181,  99,-999.0,    8024,-999.0,20060915,1548,  22.7502, -157.9998,  4749,   10.100,   26.522,   35.173,2,   35.170,2,  202.700,2,  202.700,2,    0.810,2,    0.070,2,    0.010,2, -999.000
           NA,HOT timeseries 1988to2019 27SEP2021,    181,  99,-999.0,    8023,-999.0,20060915,1548,  22.7502, -157.9998,  4749,   65.600,   25.568,   35.174,2,   35.175,2,  214.600,2,  214.000,2,    0.940,2,    0.050,2,    0.010,2, -999.000
           NA,HOT timeseries 1988to2019 27SEP2021,    181,  99,-999.0,    8022,-999.0,20060915,1548,  22.7502, -157.9998,  4749,  103.200,   22.762,   35.209,2,   35.211,2,  214.700,2,  214.200,2,    1.230,2,    0.060,2, -999.000,3, -999.000
           NA,HOT timeseries 1988to2019 27SEP2021,    181,  99,-999.0,    8021,-999.0,20060915,1548,  22.7502, -157.9998,  4749,  140.700,   22.044,   35.262,2,   35.260,2,  201.600,2,  201.600,2,    1.920,2,    0.580,2,    0.080,2, -999.000
           NA,HOT timeseries 1988to2019 27SEP2021,    181,  99,-999.0,    8020,-999.0,20060915,1548,  22.7502, -157.9998,  4749,  194.600,   19.660,   35.029,2,   35.024,2,  193.800,2,  194.000,2,    2.950,2,    2.230,2,    0.200,2, -999.000
           NA,HOT timeseries 1988to2019 27SEP2021,    181,  99,-999.0,    8019,-999.0,20060915,1548,  22.7502, -157.9998,  4749,  251.000,   15.757,   34.595,2,   34.589,2,  202.200,2,  202.600,2,    4.890,2,    5.250,2,    0.400,2, -999.000
           NA,HOT timeseries 1988to2019 27SEP2021,    181,  99,-999.0,    8018,-999.0,20060915,1548,  22.7502, -157.9998,  4749,  296.100,   13.552,   34.390,2,   34.385,2,  207.500,2,  208.100,2,    7.520,2,    8.500,2,    0.610,2, -999.000
           NA,HOT timeseries 1988to2019 27SEP2021,    181,  99,-999.0,    8017,-999.0,20060915,1548,  22.7502, -157.9998,  4749,  340.000,   12.128,   34.266,2,   34.262,2,  206.900,2,  206.600,2,   11.490,2,   11.250,2,    0.800,2, -999.000
           NA,HOT timeseries 1988to2019 27SEP2021,    181,  99,-999.0,    8016,-999.0,20060915,1548,  22.7502, -157.9998,  4749,  394.300,   10.726,   34.186,2,   34.185,2,  201.900,2,  202.500,2,   15.700,2,   14.390,2,    1.010,2, -999.000
           NA,HOT timeseries 1988to2019 27SEP2021,    181,  99,-999.0,    8015,-999.0,20060915,1548,  22.7502, -157.9998,  4749,  424.000,   10.021,   34.159,2,   34.159,2,  194.500,2,  194.300,2,   20.750,2,   16.610,2,    1.160,2, -999.000
           NA,HOT timeseries 1988to2019 27SEP2021,    181,  99,-999.0,    8014,-999.0,20060915,1548,  22.7502, -157.9998,  4749,  449.900,    9.068,   34.111,2,   34.110,2,  174.200,2,  166.400,2,   28.380,2,   21.110,2,    1.510,2, -999.000
           NA,HOT timeseries 1988to2019 27SEP2021,    181,  99,-999.0,    8023,-999.0,20060915,1548,  22.7502, -157.9998,  4749,  502.400,    7.714,   34.143,2,   34.143,2,   95.300,2,   94.200,2,   45.600,2,   29.630,2,    2.210,2, -999.000
           NA,HOT timeseries 1988to2019 27SEP2021,    181,  99,-999.0,    8012,-999.0,20060915,1548,  22.7502, -157.9998,  4749,  544.900,    7.277,   34.162,2,   34.160,2,   77.900,2,   75.900,2,   50.680,2,   32.030,2,    2.380,2, -999.000
           NA,HOT timeseries 1988to2019 27SEP2021,    181,  99,-999.0,    8011,-999.0,20060915,1548,  22.7502, -157.9998,  4749,  593.800,    6.611,   34.215,2,   34.212,2,   51.400,2,   53.500,2,   61.800,2,   35.210,2,    2.630,2, -999.000
           NA,HOT timeseries 1988to2019 27SEP2021,    181,  99,-999.0,    8010,-999.0,20060915,1548,  22.7502, -157.9998,  4749,  649.300,    6.082,   34.247,2,   34.249,2,   42.700,2,   41.800,2,   70.430,2,   37.310,2,    2.770,2, -999.000
           NA,HOT timeseries 1988to2019 27SEP2021,    181,  99,-999.0,    8009,-999.0,20060915,1548,  22.7502, -157.9998,  4749,  701.400,    5.652,   34.291,2,   34.292,2,   36.200,2,   35.900,2,   81.240,2,   38.830,2,    2.880,2, -999.000
           NA,HOT timeseries 1988to2019 27SEP2021,    181,  99,-999.0,    8008,-999.0,20060915,1548,  22.7502, -157.9998,  4749,  747.500,    5.384,   34.318,2,   34.319,2,   32.200,2,   32.900,2,   84.640,2,   39.650,2,    2.930,2, -999.000
           NA,HOT timeseries 1988to2019 27SEP2021,    181,  99,-999.0,    8026,-999.0,20060915,1548,  22.7502, -157.9998,  4749,  794.800,    5.099,   34.348,2,   34.348,2,   33.200,2,   33.900,2,   89.390,2,   40.230,2,    2.960,2, -999.000
           NA,HOT timeseries 1988to2019 27SEP2021,    181,  99,-999.0,    8006,-999.0,20060915,1548,  22.7502, -157.9998,  4749,  836.200,    4.863,   34.399,2,   34.400,2,   33.600,2,   33.900,2,   94.190,2,   40.770,2,    2.990,2, -999.000
           NA,HOT timeseries 1988to2019 27SEP2021,    181,  99,-999.0,    8005,-999.0,20060915,1548,  22.7502, -157.9998,  4749,  876.400,    4.794,   34.437,2,   34.438,2,   34.100,2,   34.900,2,   96.950,2,   41.060,2,    3.010,2, -999.000
           NA,HOT timeseries 1988to2019 27SEP2021,    181,  99,-999.0,    8004,-999.0,20060915,1548,  22.7502, -157.9998,  4749,  912.500,    4.643,   34.451,2,   34.450,2,   35.800,2,   36.300,2,   98.850,2,   41.200,2,    3.000,2, -999.000
           NA,HOT timeseries 1988to2019 27SEP2021,    181,  99,-999.0,    8002,-999.0,20060915,1548,  22.7502, -157.9998,  4749,  984.200,    4.487,   34.476,2,   34.476,2,   39.100,2,   39.500,2,  101.300,2,   41.140,2,    3.000,2, -999.000
           NA,HOT timeseries 1988to2019 27SEP2021,    181,  99,-999.0,    8001,-999.0,20060915,1548,  22.7502, -157.9998,  4749, 1022.900,    4.395,   34.488,2,   34.487,2,   40.000,2,   40.300,2,  102.810,2,   41.370,2,    3.020,2, -999.000
           NA,HOT timeseries 1988to2019 27SEP2021,    181,  99,-999.0,    8020,-999.0,20060915,1548,  22.7502, -157.9998,  4749, 1201.500,    3.792,   34.525,2,   34.525,2,   48.800,2,   48.500,2,  114.400,2,   41.270,2,    3.000,2, -999.000
           NA,HOT timeseries 1988to2019 27SEP2021,    181,  99,-999.0,    8019,-999.0,20060915,1548,  22.7502, -157.9998,  4749, 1399.700,    3.287,   34.557,2,   34.557,2,   57.900,2,   57.400,2, -999.000,3,   40.970,2,    2.970,2, -999.000
           NA,HOT timeseries 1988to2019 27SEP2021,    181,  99,-999.0,    8018,-999.0,20060915,1548,  22.7502, -157.9998,  4749, 1600.800,    2.880,   34.581,2,   34.581,2,   66.900,2,   66.800,2,  133.210,2,   40.550,2,    2.920,2, -999.000
           NA,HOT timeseries 1988to2019 27SEP2021,    181,  99,-999.0,    8017,-999.0,20060915,1548,  22.7502, -157.9998,  4749, 1800.300,    2.505,   34.598,2,   34.598,2,   76.500,2,   76.800,2,  143.110,2,   40.170,2,    2.880,2, -999.000
           NA,HOT timeseries 1988to2019 27SEP2021,    181,  99,-999.0,    8016,-999.0,20060915,1548,  22.7502, -157.9998,  4749, 1999.200,    2.227,   34.616,2,   34.616,2,   85.500,2,   85.100,2,  148.630,2,   39.510,2,    2.810,2, -999.000
           NA,HOT timeseries 1988to2019 27SEP2021,    181,  99,-999.0,    8015,-999.0,20060915,1548,  22.7502, -157.9998,  4749, 2201.300,    1.994,   34.630,2,   34.630,2,   92.100,2,   92.600,2,  153.360,2,   39.280,2,    2.790,2, -999.000
           NA,HOT timeseries 1988to2019 27SEP2021,    181,  99,-999.0,    8014,-999.0,20060915,1548,  22.7502, -157.9998,  4749, 2400.300,    1.822,   34.644,2,   34.644,2,  100.700,2,   99.700,2,  159.690,2,   38.680,2,    2.740,2, -999.000
           NA,HOT timeseries 1988to2019 27SEP2021,    181,  99,-999.0,    8025,-999.0,20060915,1548,  22.7502, -157.9998,  4749, 2600.500,    1.709,   34.654,2,   34.656,2,  107.800,2,  107.900,2,  159.830,2,   38.240,2,    2.690,2, -999.000
           NA,HOT timeseries 1988to2019 27SEP2021,    181,  99,-999.0,    8012,-999.0,20060915,1548,  22.7502, -157.9998,  4749, 2799.900,    1.636,   34.662,2,   34.662,2,  114.500,2,  113.900,2,  159.770,2,   38.010,2,    2.670,2, -999.000
           NA,HOT timeseries 1988to2019 27SEP2021,    181,  99,-999.0,    8011,-999.0,20060915,1548,  22.7502, -157.9998,  4749, 2999.800,    1.573,   34.669,2,   34.669,2,  121.700,2,  121.200,2,  160.700,2,   37.100,2,    2.600,2, -999.000
           NA,HOT timeseries 1988to2019 27SEP2021,    181,  99,-999.0,    8010,-999.0,20060915,1548,  22.7502, -157.9998,  4749, 3200.100,    1.524,   34.675,2,   34.674,2,  128.900,2,  128.700,2,  157.800,2,   36.670,2,    2.570,2, -999.000
           NA,HOT timeseries 1988to2019 27SEP2021,    181,  99,-999.0,    8009,-999.0,20060915,1548,  22.7502, -157.9998,  4749, 3398.600,    1.496,   34.679,2,   34.679,2,  134.500,2,  133.800,2,  158.090,2,   36.410,2,    2.540,2, -999.000
           NA,HOT timeseries 1988to2019 27SEP2021,    181,  99,-999.0,    8008,-999.0,20060915,1548,  22.7502, -157.9998,  4749, 3600.300,    1.474,   34.683,2,   34.683,2,  139.900,2,  139.600,2,  153.550,2,   36.130,2,    2.520,2, -999.000
           NA,HOT timeseries 1988to2019 27SEP2021,    181,  99,-999.0,    8026,-999.0,20060915,1548,  22.7502, -157.9998,  4749, 3800.400,    1.466,   34.686,2,   34.686,2,  143.600,2,  143.000,2,  152.530,2,   35.900,2,    2.500,2, -999.000
           NA,HOT timeseries 1988to2019 27SEP2021,    181,  99,-999.0,    8006,-999.0,20060915,1548,  22.7502, -157.9998,  4749, 4000.300,    1.470,   34.688,2,   34.687,2,  146.000,2,  145.300,2,  150.980,2,   35.800,2,    2.490,2, -999.000
           NA,HOT timeseries 1988to2019 27SEP2021,    181,  99,-999.0,    8005,-999.0,20060915,1548,  22.7502, -157.9998,  4749, 4200.800,    1.480,   34.689,2,   34.689,2,  147.700,2,  147.200,2, -999.000,3,   35.630,2,    2.480,2, -999.000
           NA,HOT timeseries 1988to2019 27SEP2021,    181,  99,-999.0,    8004,-999.0,20060915,1548,  22.7502, -157.9998,  4749, 4400.000,    1.492,   34.690,2,   34.690,2,  149.000,2,  148.300,2,  150.180,2,   35.660,2,    2.480,2, -999.000
           NA,HOT timeseries 1988to2019 27SEP2021,    181,  99,-999.0,    8003,-999.0,20060915,1548,  22.7502, -157.9998,  4749, 4499.500,    1.496,   34.690,2,   34.690,2,  149.900,2,  150.100,2, -999.000,3,   35.600,2,    2.470,2, -999.000
           NA,HOT timeseries 1988to2019 27SEP2021,    181,  99,-999.0,    8002,-999.0,20060915,1548,  22.7502, -157.9998,  4749, 4599.300,    1.501,   34.691,2,   34.692,2,  151.000,2,  151.700,2,  149.910,2,   35.910,2,    2.490,2, -999.000
           NA,HOT timeseries 1988to2019 27SEP2021,    181,  99,-999.0,    8001,-999.0,20060915,1548,  22.7502, -157.9998,  4749, 4805.900,    1.510,   34.692,2,   34.693,2,  153.100,2,  153.600,2,  149.260,2,   35.370,2,    2.460,2, -999.000