BOTTLE,20214727JOAExport
EXPOCODE,SECT_ID,STNNBR,CASTNO,SAMPNO,BTLNBR,BTLNBR_FLAG_W,DATE,TIME,LATITUDE,LONGITUDE,DEPTH,CTDPRS,CTDTMP,CTDSAL,CTDSAL_FLAG_W,SALNTY,SALNTY_FLAG_W,CTDOXY,CTDOXY_FLAG_W,OXYGEN,OXYGEN_FLAG_W,SILCAT,SILCAT_FLAG_W,NINI,NINI_FLAG_W,PHSPHT,PHSPHT_FLAG_W,REVP
,,,,,,,,,,,,DB,IPTS-68,PSS-78,,PSS-78,,UMOL/KG,,UMOL/KG,,UMOL/KG,,UMOL/KG,,UMOL/KG,,DBAR
           NA,HOT timeseries 1988to2019 27SEP2021,      2,  99,-999.0,    8084,-999.0,20190115,2156,  22.7510, -158.0000,  4738,    6.000,   24.410,   34.931,2,   34.929,2,  211.400,2,  211.800,2,    0.990,2,    0.020,2,    0.030,2, -999.000
           NA,HOT timeseries 1988to2019 27SEP2021,      2,  99,-999.0,    8083,-999.0,20190115,2156,  22.7510, -158.0000,  4738,   58.900,   24.333,   35.066,2,   35.077,2,  211.100,2,  211.100,2,    0.970,2,    0.010,2,    0.020,2, -999.000
           NA,HOT timeseries 1988to2019 27SEP2021,      2,  99,-999.0,    8082,-999.0,20190115,2156,  22.7510, -158.0000,  4738,  112.400,   22.852,   35.146,2,   35.146,2,  208.600,2,  208.200,2,    1.320,2,    0.200,2,    0.060,2, -999.000
           NA,HOT timeseries 1988to2019 27SEP2021,      2,  99,-999.0,    8080,-999.0,20190115,2156,  22.7510, -158.0000,  4738,  150.600,   20.783,   35.103,2, -999.000,3, -999.000,3,  201.500,2,    2.310,2,    1.240,2,    0.150,2, -999.000
           NA,HOT timeseries 1988to2019 27SEP2021,      2,  99,-999.0,    8079,-999.0,20190115,2156,  22.7510, -158.0000,  4738,  188.300,   18.821,   34.920,2,   34.925,2,  198.300,2,  198.400,2,    3.170,2,    2.550,2,    0.240,2, -999.000
           NA,HOT timeseries 1988to2019 27SEP2021,      2,  99,-999.0,    8078,-999.0,20190115,2156,  22.7510, -158.0000,  4738,  238.600,   15.420,   34.565,2,   34.562,2,  206.600,2,  205.900,2,    5.740,2,    5.940,2,    0.450,2, -999.000
           NA,HOT timeseries 1988to2019 27SEP2021,      2,  99,-999.0,    8077,-999.0,20190115,2156,  22.7510, -158.0000,  4738,  305.900,   12.355,   34.270,2,   34.263,2,  210.100,2,  209.400,2,   11.100,2,   10.980,2,    0.770,2, -999.000
           NA,HOT timeseries 1988to2019 27SEP2021,      2,  99,-999.0,    8075,-999.0,20190115,2156,  22.7510, -158.0000,  4738,  378.900,    9.886,   34.084,2,   34.085,2,  192.400,2,  188.800,2,   24.610,2,   17.620,2,    1.250,2, -999.000
           NA,HOT timeseries 1988to2019 27SEP2021,      2,  99,-999.0,    8074,-999.0,20190115,2156,  22.7510, -158.0000,  4738,  425.900,    8.768,   34.048,2, -999.000,4, -999.000,3, -999.000,5, -999.000,3, -999.000,3, -999.000,3, -999.000
           NA,HOT timeseries 1988to2019 27SEP2021,      2,  99,-999.0,    8073,-999.0,20190115,2156,  22.7510, -158.0000,  4738,  479.500,    7.459,   34.029,2,   34.028,2,  128.000,2,  129.200,2,   41.640,2,   27.720,2,    1.970,2, -999.000
           NA,HOT timeseries 1988to2019 27SEP2021,      2,  99,-999.0,    8072,-999.0,20190115,2156,  22.7510, -158.0000,  4738,  489.900,    7.336,   34.030,2,   34.029,2,  120.800,2,  121.700,2,   44.450,2,   28.850,2,    2.050,2, -999.000
           NA,HOT timeseries 1988to2019 27SEP2021,      2,  99,-999.0,    8071,-999.0,20190115,2156,  22.7510, -158.0000,  4738,  525.300,    6.617,   34.051,2,   34.048,2,   92.200,2,   95.000,2,   53.470,2,   32.320,2,    2.310,2, -999.000
           NA,HOT timeseries 1988to2019 27SEP2021,      2,  99,-999.0,    8070,-999.0,20190115,2156,  22.7510, -158.0000,  4738,  571.400,    5.980,   34.095,2,   34.093,2,   64.000,2,   61.200,2,   69.380,2,   36.350,2,    2.610,2, -999.000
           NA,HOT timeseries 1988to2019 27SEP2021,      2,  99,-999.0,    8069,-999.0,20190115,2156,  22.7510, -158.0000,  4738,  624.100,    5.618,   34.166,2, -999.000,3, -999.000,3,   44.300,2,   74.880,2,   38.400,2,    2.790,2, -999.000
           NA,HOT timeseries 1988to2019 27SEP2021,      2,  99,-999.0,    8068,-999.0,20190115,2156,  22.7510, -158.0000,  4738,  682.600,    5.230,   34.231,2,   34.231,2,   30.300,2,   29.200,2,   84.530,2,   40.310,2,    2.940,2, -999.000
           NA,HOT timeseries 1988to2019 27SEP2021,      2,  99,-999.0,    8067,-999.0,20190115,2156,  22.7510, -158.0000,  4738,  708.800,    4.854,   34.255,2,   34.255,2,   27.100,2,   27.600,2,   91.320,2,   41.200,2,    3.010,2, -999.000
           NA,HOT timeseries 1988to2019 27SEP2021,      2,  99,-999.0,    8066,-999.0,20190115,2156,  22.7510, -158.0000,  4738,  745.200,    4.642,   34.298,2,   34.296,2,   29.400,2,   29.000,2, -999.000,5,   41.450,2,    3.010,2, -999.000
           NA,HOT timeseries 1988to2019 27SEP2021,      2,  99,-999.0,    8065,-999.0,20190115,2156,  22.7510, -158.0000,  4738,  794.300,    4.665,   34.360,2,   34.362,2,   28.600,2,   28.500,2,   96.920,2,   41.660,2,    3.030,2, -999.000
           NA,HOT timeseries 1988to2019 27SEP2021,      2,  99,-999.0,    8064,-999.0,20190115,2156,  22.7510, -158.0000,  4738,  842.100,    4.564,   34.413,2,   34.410,2,   31.800,2,   31.500,2,   97.860,2,   41.690,2,    3.030,2, -999.000
           NA,HOT timeseries 1988to2019 27SEP2021,      2,  99,-999.0,    8062,-999.0,20190115,2156,  22.7510, -158.0000,  4738,  979.600,    4.099,   34.483,2,   34.484,2,   41.500,2,   41.600,2,  107.170,2,   41.640,2,    3.010,2, -999.000
           NA,HOT timeseries 1988to2019 27SEP2021,      2,  99,-999.0,    8061,-999.0,20190115,2156,  22.7510, -158.0000,  4738, 1018.700,    4.040,   34.494,2,   34.495,2,   47.500,2,   47.300,2,  107.760,2,   41.370,2,    2.970,2, -999.000
           NA,HOT timeseries 1988to2019 27SEP2021,      2,  99,-999.0,    8080,-999.0,20190115,2156,  22.7510, -158.0000,  4738, 1200.500,    3.543,   34.530,2,   34.530,2,   54.200,2, -999.000,5,  118.260,2,   41.080,2,    3.030,2, -999.000
           NA,HOT timeseries 1988to2019 27SEP2021,      2,  99,-999.0,    8079,-999.0,20190115,2156,  22.7510, -158.0000,  4738, 1400.500,    3.047,   34.560,2,   34.560,2,   61.400,2,   61.500,2,  129.190,2,   41.170,2,    3.000,2, -999.000
           NA,HOT timeseries 1988to2019 27SEP2021,      2,  99,-999.0,    8078,-999.0,20190115,2156,  22.7510, -158.0000,  4738, 1602.300,    2.695,   34.581,2,   34.581,2,   69.700,2,   69.700,2,  136.840,2,   40.730,2,    2.930,2, -999.000
           NA,HOT timeseries 1988to2019 27SEP2021,      2,  99,-999.0,    8077,-999.0,20190115,2156,  22.7510, -158.0000,  4738, 1802.800,    2.394,   34.598,2, -999.000,5,   78.500,2, -999.000,5, -999.000,5, -999.000,5, -999.000,5, -999.000
           NA,HOT timeseries 1988to2019 27SEP2021,      2,  99,-999.0,    8076,-999.0,20190115,2156,  22.7510, -158.0000,  4738, 1998.100,    2.142,   34.616,2, -999.000,5,   86.900,2, -999.000,5, -999.000,5, -999.000,5, -999.000,5, -999.000
           NA,HOT timeseries 1988to2019 27SEP2021,      2,  99,-999.0,    8075,-999.0,20190115,2156,  22.7510, -158.0000,  4738, 2201.900,    1.951,   34.630,2,   34.631,2,   94.400,2,   95.000,2,  154.200,2,   39.370,2,    2.790,2, -999.000
           NA,HOT timeseries 1988to2019 27SEP2021,      2,  99,-999.0,    8074,-999.0,20190115,2156,  22.7510, -158.0000,  4738, 2403.500,    1.786,   34.642,2,   34.643,2,  102.600,2,  102.600,2,  159.030,2,   38.770,2,    2.740,2, -999.000
           NA,HOT timeseries 1988to2019 27SEP2021,      2,  99,-999.0,    8073,-999.0,20190115,2156,  22.7510, -158.0000,  4738, 2601.200,    1.659,   34.653,2,   34.652,2,  111.600,2,  113.000,2,  158.950,2,   38.170,2,    2.670,2, -999.000
           NA,HOT timeseries 1988to2019 27SEP2021,      2,  99,-999.0,    8072,-999.0,20190115,2156,  22.7510, -158.0000,  4738, 2802.800,    1.589,   34.660,2,   34.661,2,  119.100,2,  119.800,2,  158.470,2, -999.000,5, -999.000,5, -999.000
           NA,HOT timeseries 1988to2019 27SEP2021,      2,  99,-999.0,    8071,-999.0,20190115,2156,  22.7510, -158.0000,  4738, 3000.000,    1.535,   34.668,2,   34.668,2,  127.000,2,  126.900,2,  158.660,2,   37.350,2,    2.600,2, -999.000
           NA,HOT timeseries 1988to2019 27SEP2021,      2,  99,-999.0,    8070,-999.0,20190115,2156,  22.7510, -158.0000,  4738, 3200.700,    1.504,   34.673,2,   34.673,2,  132.600,2,  133.200,2,  156.560,2,   36.770,2,    2.590,2, -999.000
           NA,HOT timeseries 1988to2019 27SEP2021,      2,  99,-999.0,    8069,-999.0,20190115,2156,  22.7510, -158.0000,  4738, 3397.900,    1.472,   34.678,2,   34.678,2,  138.500,2,  138.900,2,  154.170,2,   36.440,2,    2.550,2, -999.000
           NA,HOT timeseries 1988to2019 27SEP2021,      2,  99,-999.0,    8068,-999.0,20190115,2156,  22.7510, -158.0000,  4738, 3599.900,    1.454,   34.681,2,   34.681,2,  144.000,2,  143.700,2,  152.990,2,   36.280,2,    2.510,2, -999.000
           NA,HOT timeseries 1988to2019 27SEP2021,      2,  99,-999.0,    8067,-999.0,20190115,2156,  22.7510, -158.0000,  4738, 3800.600,    1.450,   34.683,2,   34.683,2,  147.500,2,  146.900,2,  152.540,2,   36.170,2,    2.540,2, -999.000
           NA,HOT timeseries 1988to2019 27SEP2021,      2,  99,-999.0,    8066,-999.0,20190115,2156,  22.7510, -158.0000,  4738, 4001.100,    1.455,   34.685,2,   34.685,2,  149.900,2,  149.000,2,  149.840,2,   36.000,2,    2.550,2, -999.000
           NA,HOT timeseries 1988to2019 27SEP2021,      2,  99,-999.0,    8065,-999.0,20190115,2156,  22.7510, -158.0000,  4738, 4201.900,    1.464,   34.686,2,   34.686,2,  152.200,2,  151.600,2,  149.060,2,   35.740,2,    2.540,2, -999.000
           NA,HOT timeseries 1988to2019 27SEP2021,      2,  99,-999.0,    8064,-999.0,20190115,2156,  22.7510, -158.0000,  4738, 4400.600,    1.481,   34.687,2,   34.687,2,  153.200,2,  152.700,2,  148.010,2,   35.720,2,    2.530,2, -999.000
           NA,HOT timeseries 1988to2019 27SEP2021,      2,  99,-999.0,    8063,-999.0,20190115,2156,  22.7510, -158.0000,  4738, 4502.400,    1.490,   34.687,2,   34.688,2,  153.700,2,  153.800,2,  148.050,2,   35.780,2,    2.510,2, -999.000
           NA,HOT timeseries 1988to2019 27SEP2021,      2,  99,-999.0,    8062,-999.0,20190115,2156,  22.7510, -158.0000,  4738, 4602.200,    1.500,   34.687,2,   34.688,2,  154.100,2,  153.700,2,  147.590,2,   35.690,2,    2.520,2, -999.000
           NA,HOT timeseries 1988to2019 27SEP2021,      2,  99,-999.0,    8061,-999.0,20190115,2156,  22.7510, -158.0000,  4738, 4802.100,    1.498,   34.689,2,   34.689,2,  157.400,2,  157.900,2,  144.540,2,   35.350,2,    2.470,2, -999.000
           NA,HOT timeseries 1988to2019 27SEP2021,      2,  99,-999.0,    8083,-999.0,20190220,0209,  22.7500, -157.9990,  4740,   45.100,   23.170,   34.885,2,   34.885,2,  212.800,2,  213.100,2,    1.130,2,    0.020,2,    0.080,2, -999.000
           NA,HOT timeseries 1988to2019 27SEP2021,      2,  99,-999.0,    8081,-999.0,20190220,0209,  22.7500, -157.9990,  4740,  112.000,   23.114,   35.084,2,   35.086,2,  211.000,2,  210.800,2,    1.140,2,    0.040,2,    0.040,2, -999.000
           NA,HOT timeseries 1988to2019 27SEP2021,      2,  99,-999.0,    8080,-999.0,20190220,0209,  22.7500, -157.9990,  4740,  141.700,   21.614,   35.056,2,   35.057,2,  199.100,2,  198.400,2,    1.930,2,    0.830,2,    0.160,2, -999.000
           NA,HOT timeseries 1988to2019 27SEP2021,      2,  99,-999.0,    8079,-999.0,20190220,0209,  22.7500, -157.9990,  4740,  181.700,   20.136,   35.033,2,   35.033,2,  191.700,2,  193.400,2,    2.130,2,    1.830,2,    0.210,2, -999.000
           NA,HOT timeseries 1988to2019 27SEP2021,      2,  99,-999.0,    8078,-999.0,20190220,0209,  22.7500, -157.9990,  4740,  211.800,   17.490,   34.701,2,   34.707,2,  191.800,2,  190.100,2,    3.880,2,    4.110,2,    0.370,2, -999.000
           NA,HOT timeseries 1988to2019 27SEP2021,      2,  99,-999.0,    8076,-999.0,20190220,0209,  22.7500, -157.9990,  4740,  303.000,   12.349,   34.174,2,   34.166,2,  194.500,2,  189.400,2,   11.840,2,   11.720,2,    0.880,2, -999.000
           NA,HOT timeseries 1988to2019 27SEP2021,      2,  99,-999.0,    8075,-999.0,20190220,0209,  22.7500, -157.9990,  4740,  340.400,   10.549,   34.096,2,   34.097,2,  175.700,2,  175.100,2,   20.350,2,   17.180,2,    1.280,2, -999.000
           NA,HOT timeseries 1988to2019 27SEP2021,      2,  99,-999.0,    8074,-999.0,20190220,0209,  22.7500, -157.9990,  4740,  392.100,    8.846,   34.065,2,   34.066,2,  144.300,2,  135.100,2,   29.630,2,   23.290,2,    1.690,2, -999.000
           NA,HOT timeseries 1988to2019 27SEP2021,      2,  99,-999.0,    8073,-999.0,20190220,0209,  22.7500, -157.9990,  4740,  441.500,    7.920,   34.128,2,   34.128,2,   92.200,2,   91.800,2,   42.560,2,   29.580,2,    2.170,2, -999.000
           NA,HOT timeseries 1988to2019 27SEP2021,      2,  99,-999.0,    8072,-999.0,20190220,0209,  22.7500, -157.9990,  4740,  499.800,    7.175,   34.157,2,   34.158,2,   64.100,2,   65.800,2,   52.550,2,   33.340,2,    2.490,2, -999.000
           NA,HOT timeseries 1988to2019 27SEP2021,      2,  99,-999.0,    8071,-999.0,20190220,0209,  22.7500, -157.9990,  4740,  538.000,    6.680,   34.205,2,   34.203,2,   47.200,2,   45.300,2,   60.320,2,   35.880,2,    2.680,2, -999.000
           NA,HOT timeseries 1988to2019 27SEP2021,      2,  99,-999.0,    8070,-999.0,20190220,0209,  22.7500, -157.9990,  4740,  576.200,    6.287,   34.242,2,   34.241,2,   37.100,2,   36.300,2,   66.580,2,   37.510,2,    2.750,2, -999.000
           NA,HOT timeseries 1988to2019 27SEP2021,      2,  99,-999.0,    8069,-999.0,20190220,0209,  22.7500, -157.9990,  4740,  631.100,    5.596,   34.271,2,   34.270,2,   32.700,2,   32.300,2,   77.720,2,   39.380,2,    2.880,2, -999.000
           NA,HOT timeseries 1988to2019 27SEP2021,      2,  99,-999.0,    8068,-999.0,20190220,0209,  22.7500, -157.9990,  4740,  664.300,    5.419,   34.303,2,   34.302,2,   29.200,2,   29.500,2,   81.250,2,   40.170,2,    2.940,2, -999.000
           NA,HOT timeseries 1988to2019 27SEP2021,      2,  99,-999.0,    8067,-999.0,20190220,0209,  22.7500, -157.9990,  4740,  700.800,    5.268,   34.360,2,   34.360,2,   30.900,2,   32.300,2,   84.310,2,   40.530,2,    2.940,2, -999.000
           NA,HOT timeseries 1988to2019 27SEP2021,      2,  99,-999.0,    8066,-999.0,20190220,0209,  22.7500, -157.9990,  4740,  752.700,    4.974,   34.383,2,   34.382,2,   31.500,2,   32.200,2,   89.490,2,   41.030,2,    2.970,2, -999.000
           NA,HOT timeseries 1988to2019 27SEP2021,      2,  99,-999.0,    8064,-999.0,20190220,0209,  22.7500, -157.9990,  4740,  848.900,    4.514,   34.442,2,   34.441,2,   37.000,2,   35.900,2,   98.070,2,   41.350,2,    2.990,2, -999.000
           NA,HOT timeseries 1988to2019 27SEP2021,      2,  99,-999.0,    8063,-999.0,20190220,0209,  22.7500, -157.9990,  4740,  897.200,    4.349,   34.464,2,   34.464,2,   40.000,2,   38.800,2,  101.330,2,   41.570,2,    2.980,2, -999.000
           NA,HOT timeseries 1988to2019 27SEP2021,      2,  99,-999.0,    8062,-999.0,20190220,0209,  22.7500, -157.9990,  4740,  941.600,    4.250,   34.478,2,   34.478,2,   41.900,2,   39.500,2,  104.290,2,   41.600,2,    2.980,2, -999.000
           NA,HOT timeseries 1988to2019 27SEP2021,      2,  99,-999.0,    8081,-999.0,20190220,0209,  22.7500, -157.9990,  4740, 1000.300,    4.082,   34.494,2,   34.493,2,   44.700,2,   44.600,2,  106.480,2,   41.560,2,    3.020,2, -999.000
           NA,HOT timeseries 1988to2019 27SEP2021,      2,  99,-999.0,    8080,-999.0,20190220,0209,  22.7500, -157.9990,  4740, 1199.600,    3.573,   34.539,2,   34.539,2,   52.700,2, -999.000,4,  116.520,2,   41.620,2,    3.010,2, -999.000
           NA,HOT timeseries 1988to2019 27SEP2021,      2,  99,-999.0,    8079,-999.0,20190220,0209,  22.7500, -157.9990,  4740, 1398.500,    3.024,   34.562,2,   34.562,2,   62.000,2,   61.500,2,  129.020,2,   41.080,2,    2.960,2, -999.000
           NA,HOT timeseries 1988to2019 27SEP2021,      2,  99,-999.0,    8078,-999.0,20190220,0209,  22.7500, -157.9990,  4740, 1597.500,    2.658,   34.584,2,   34.584,2,   71.800,2,   72.000,2,  137.990,2,   40.790,2,    2.910,2, -999.000
           NA,HOT timeseries 1988to2019 27SEP2021,      2,  99,-999.0,    8077,-999.0,20190220,0209,  22.7500, -157.9990,  4740, 1798.800,    2.375,   34.602,2,   34.602,2,   80.400,2,   80.700,2,  143.470,2,   40.310,2,    2.860,2, -999.000
           NA,HOT timeseries 1988to2019 27SEP2021,      2,  99,-999.0,    8076,-999.0,20190220,0209,  22.7500, -157.9990,  4740, 1998.400,    2.113,   34.619,2,   34.620,2,   90.500,2,   91.200,2,  148.190,2,   39.480,2,    2.780,2, -999.000
           NA,HOT timeseries 1988to2019 27SEP2021,      2,  99,-999.0,    8075,-999.0,20190220,0209,  22.7500, -157.9990,  4740, 2197.300,    1.969,   34.630,2,   34.629,2,   95.300,2,   95.300,2,  152.010,2,   39.190,2,    2.770,2, -999.000
           NA,HOT timeseries 1988to2019 27SEP2021,      2,  99,-999.0,    8074,-999.0,20190220,0209,  22.7500, -157.9990,  4740, 2397.700,    1.812,   34.640,2,   34.640,2,  102.000,2,  101.600,2,  156.370,2,   38.680,2,    2.740,2, -999.000
           NA,HOT timeseries 1988to2019 27SEP2021,      2,  99,-999.0,    8073,-999.0,20190220,0209,  22.7500, -157.9990,  4740, 2599.500,    1.681,   34.652,2,   34.652,2,  110.000,2,  110.100,2,  159.500,2,   38.360,2,    2.690,2, -999.000
           NA,HOT timeseries 1988to2019 27SEP2021,      2,  99,-999.0,    8072,-999.0,20190220,0209,  22.7500, -157.9990,  4740, 2800.500,    1.616,   34.658,2,   34.658,2,  115.800,2,  117.500,2,  159.720,2,   37.870,2,    2.640,2, -999.000
           NA,HOT timeseries 1988to2019 27SEP2021,      2,  99,-999.0,    8071,-999.0,20190220,0209,  22.7500, -157.9990,  4740, 3001.800,    1.559,   34.666,2,   34.666,2,  123.800,2,  124.200,2,  158.480,2,   37.360,2,    2.620,2, -999.000
           NA,HOT timeseries 1988to2019 27SEP2021,      2,  99,-999.0,    8070,-999.0,20190220,0209,  22.7500, -157.9990,  4740, 3201.300,    1.513,   34.672,2,   34.672,2,  130.500,2,  130.300,2,  158.230,2,   37.040,2,    2.570,2, -999.000
           NA,HOT timeseries 1988to2019 27SEP2021,      2,  99,-999.0,    8069,-999.0,20190220,0209,  22.7500, -157.9990,  4740, 3401.100,    1.484,   34.677,2,   34.677,2,  135.900,2,  136.300,2,  157.130,2,   36.700,2,    2.540,2, -999.000
           NA,HOT timeseries 1988to2019 27SEP2021,      2,  99,-999.0,    8068,-999.0,20190220,0209,  22.7500, -157.9990,  4740, 3600.700,    1.470,   34.679,2,   34.680,2,  140.700,2,  141.300,2,  156.910,2,   36.300,2,    2.520,2, -999.000
           NA,HOT timeseries 1988to2019 27SEP2021,      2,  99,-999.0,    8067,-999.0,20190220,0209,  22.7500, -157.9990,  4740, 3800.400,    1.457,   34.683,2,   34.682,2,  145.400,2,  145.300,2,  154.300,2,   36.190,2,    2.520,2, -999.000
           NA,HOT timeseries 1988to2019 27SEP2021,      2,  99,-999.0,    8066,-999.0,20190220,0209,  22.7500, -157.9990,  4740, 3999.700,    1.462,   34.684,2,   34.684,2,  148.100,2,  147.300,2,  153.180,2,   36.080,2,    2.520,2, -999.000
           NA,HOT timeseries 1988to2019 27SEP2021,      2,  99,-999.0,    8065,-999.0,20190220,0209,  22.7500, -157.9990,  4740, 4201.900,    1.471,   34.686,2,   34.685,2,  150.300,2,  149.500,2,  151.810,2,   35.810,2,    2.510,2, -999.000
           NA,HOT timeseries 1988to2019 27SEP2021,      2,  99,-999.0,    8064,-999.0,20190220,0209,  22.7500, -157.9990,  4740, 4399.600,    1.483,   34.687,2,   34.686,2,  152.100,2,  151.500,2,  149.780,2,   35.810,2,    2.510,2, -999.000
           NA,HOT timeseries 1988to2019 27SEP2021,      2,  99,-999.0,    8063,-999.0,20190220,0209,  22.7500, -157.9990,  4740, 4501.900,    1.491,   34.687,2,   34.686,2,  152.600,2,  152.300,2,  148.840,2,   35.800,2,    2.520,2, -999.000
           NA,HOT timeseries 1988to2019 27SEP2021,      2,  99,-999.0,    8062,-999.0,20190220,0209,  22.7500, -157.9990,  4740, 4600.900,    1.499,   34.687,2,   34.687,2,  153.200,2,  153.400,2,  148.420,2,   35.730,2,    2.500,2, -999.000
           NA,HOT timeseries 1988to2019 27SEP2021,      2,  99,-999.0,    8061,-999.0,20190220,0209,  22.7500, -157.9990,  4740, 4804.300,    1.503,   34.689,2,   34.689,2,  156.400,2,  156.900,2,  144.950,2,   35.400,2,    2.470,2, -999.000