BOTTLE,20214727JOAExport
EXPOCODE,SECT_ID,STNNBR,CASTNO,SAMPNO,BTLNBR,BTLNBR_FLAG_W,DATE,TIME,LATITUDE,LONGITUDE,DEPTH,CTDPRS,CTDTMP,CTDSAL,CTDSAL_FLAG_W,SALNTY,SALNTY_FLAG_W,CTDOXY,CTDOXY_FLAG_W,OXYGEN,OXYGEN_FLAG_W,SILCAT,SILCAT_FLAG_W,NINI,NINI_FLAG_W,PHSPHT,PHSPHT_FLAG_W,REVP
,,,,,,,,,,,,DB,IPTS-68,PSS-78,,PSS-78,,UMOL/KG,,UMOL/KG,,UMOL/KG,,UMOL/KG,,UMOL/KG,,DBAR
           NA,HOT timeseries 1988to2019 27SEP2021,    136,  99,-999.0,      31,-999.0,20021006,1254,  22.7492, -158.0000,  4722,    4.400,   26.405,   35.057,2,   35.059,2,  204.700,2,  203.900,2,    1.060,2,    0.030,2,    0.040,2, -999.000
           NA,HOT timeseries 1988to2019 27SEP2021,    136,  99,-999.0,      31,-999.0,20021006,1254,  22.7492, -158.0000,  4722,    9.700,   26.373,   35.055,2,   35.055,2,  204.000,2,  204.600,2,    1.020,2,    0.030,2,    0.040,2, -999.000
           NA,HOT timeseries 1988to2019 27SEP2021,    136,  99,-999.0,      30,-999.0,20021006,1254,  22.7492, -158.0000,  4722,   66.100,   24.953,   35.158,2,   35.158,2,  221.400,2,  217.400,2,    1.100,2,    0.030,2,    0.030,2, -999.000
           NA,HOT timeseries 1988to2019 27SEP2021,    136,  99,-999.0,      22,-999.0,20021006,1254,  22.7492, -158.0000,  4722,   84.600,   23.358,   35.216,2,   35.214,2,  215.500,2,  217.500,2,    1.150,2,    0.090,2,    0.030,2, -999.000
           NA,HOT timeseries 1988to2019 27SEP2021,    136,  99,-999.0,      21,-999.0,20021006,1254,  22.7492, -158.0000,  4722,  124.600,   21.711,   35.330,2,   35.323,2,  205.600,2,  204.900,2,    1.360,2,    0.450,2,    0.030,2, -999.000
           NA,HOT timeseries 1988to2019 27SEP2021,    136,  99,-999.0,      20,-999.0,20021006,1254,  22.7492, -158.0000,  4722,  179.700,   19.487,   35.126,2,   35.118,2,  198.500,2,  197.800,2,    2.250,2,    2.060,2, -999.000,3, -999.000
           NA,HOT timeseries 1988to2019 27SEP2021,    136,  99,-999.0,      19,-999.0,20021006,1254,  22.7492, -158.0000,  4722,  220.200,   17.986,   34.889,2,   34.880,2,  189.800,2,  191.200,2,    3.520,2,    3.690,2, -999.000,3, -999.000
           NA,HOT timeseries 1988to2019 27SEP2021,    136,  99,-999.0,      18,-999.0,20021006,1254,  22.7492, -158.0000,  4722,  258.900,   15.468,   34.540,2,   34.543,2,  190.600,2,  189.600,2,    5.960,2,    6.590,2,    0.410,2, -999.000
           NA,HOT timeseries 1988to2019 27SEP2021,    136,  99,-999.0,      17,-999.0,20021006,1254,  22.7492, -158.0000,  4722,  299.200,   13.354,   34.313,2,   34.306,2,  189.800,2,  189.500,2,   10.320,2,    9.880,2, -999.000,3, -999.000
           NA,HOT timeseries 1988to2019 27SEP2021,    136,  99,-999.0,      16,-999.0,20021006,1254,  22.7492, -158.0000,  4722,  345.800,   11.764,   34.200,2,   34.202,2,  196.600,2,  197.500,2,   11.800,2,   12.170,2, -999.000,3, -999.000
           NA,HOT timeseries 1988to2019 27SEP2021,    136,  99,-999.0,      23,-999.0,20021006,1254,  22.7492, -158.0000,  4722,  379.800,   10.544,   34.139,2,   34.141,2,  189.400,2,  188.700,2,   16.880,2,   15.770,2, -999.000,3, -999.000
           NA,HOT timeseries 1988to2019 27SEP2021,    136,  99,-999.0,      14,-999.0,20021006,1254,  22.7492, -158.0000,  4722,  434.600,    9.157,   34.087,2,   34.087,2,  170.500,2,  169.200,2,   25.520,2,   20.770,2,    1.510,2, -999.000
           NA,HOT timeseries 1988to2019 27SEP2021,    136,  99,-999.0,      13,-999.0,20021006,1254,  22.7492, -158.0000,  4722,  469.900,    8.104,   34.070,2,   34.074,2,  136.700,2,  137.500,2,   35.360,2,   25.650,2,    1.810,2, -999.000
           NA,HOT timeseries 1988to2019 27SEP2021,    136,  99,-999.0,      12,-999.0,20021006,1254,  22.7492, -158.0000,  4722,  509.900,    7.525,   34.063,2,   34.063,2,  121.400,2,  121.300,2,   41.380,2,   28.200,2,    1.950,2, -999.000
           NA,HOT timeseries 1988to2019 27SEP2021,    136,  99,-999.0,      39,-999.0,20021006,1254,  22.7492, -158.0000,  4722,  554.300,    6.754,   34.076,2,   34.077,2,   92.100,2,   90.300,2,   53.390,2,   32.360,2,    2.350,2, -999.000
           NA,HOT timeseries 1988to2019 27SEP2021,    136,  99,-999.0,      32,-999.0,20021006,1254,  22.7492, -158.0000,  4722,  604.800,    6.063,   34.111,2,   34.112,2,   63.100,2,   64.300,2,   63.730,2,   36.220,2,    2.680,2, -999.000
           NA,HOT timeseries 1988to2019 27SEP2021,    136,  99,-999.0,       3,-999.0,20021006,1254,  22.7492, -158.0000,  4722,  654.800,    5.541,   34.162,2,   34.161,2,   41.200,2,   40.100,2,   70.210,2,   38.950,2,    2.770,2, -999.000
           NA,HOT timeseries 1988to2019 27SEP2021,    136,  99,-999.0,      29,-999.0,20021006,1254,  22.7492, -158.0000,  4722,  706.600,    5.152,   34.242,2,   34.243,2,   29.400,2,   26.600,2, -999.000,4,   40.680,2,    3.040,2, -999.000
           NA,HOT timeseries 1988to2019 27SEP2021,    136,  99,-999.0,      28,-999.0,20021006,1254,  22.7492, -158.0000,  4722,  744.600,    4.950,   34.281,2, -999.000,4, -999.000,3,   20.700,2, -999.000,4,   41.660,2, -999.000,3, -999.000
           NA,HOT timeseries 1988to2019 27SEP2021,    136,  99,-999.0,       7,-999.0,20021006,1254,  22.7492, -158.0000,  4722,  779.600,    4.779,   34.331,2,   34.329,2,   19.200,2,   19.700,2, -999.000,4,   42.050,2, -999.000,3, -999.000
           NA,HOT timeseries 1988to2019 27SEP2021,    136,  99,-999.0,      38,-999.0,20021006,1254,  22.7492, -158.0000,  4722,  824.500,    4.661,   34.380,2,   34.379,2,   20.900,2,   21.200,2, -999.000,4,   42.200,2,    3.050,2, -999.000
           NA,HOT timeseries 1988to2019 27SEP2021,    136,  99,-999.0,      36,-999.0,20021006,1254,  22.7492, -158.0000,  4722,  862.800,    4.565,   34.412,2,   34.411,2,   24.800,2,   24.300,2, -999.000,4,   42.220,2, -999.000,3, -999.000
           NA,HOT timeseries 1988to2019 27SEP2021,    136,  99,-999.0,      35,-999.0,20021006,1254,  22.7492, -158.0000,  4722,  909.700,    4.433,   34.442,2,   34.444,2,   28.800,2,   28.700,2, -999.000,4,   42.050,2, -999.000,3, -999.000
           NA,HOT timeseries 1988to2019 27SEP2021,    136,  99,-999.0,      34,-999.0,20021006,1254,  22.7492, -158.0000,  4722,  970.000,    4.313,   34.463,2,   34.462,2,   32.300,2,   32.100,2, -999.000,4, -999.000,3,    3.060,2, -999.000
           NA,HOT timeseries 1988to2019 27SEP2021,    136,  99,-999.0,      33,-999.0,20021006,1254,  22.7492, -158.0000,  4722, 1020.500,    4.168,   34.487,2,   34.485,2,   37.800,2,   37.500,2, -999.000,4,   42.160,2,    3.040,2, -999.000
           NA,HOT timeseries 1988to2019 27SEP2021,    136,  99,-999.0,      20,-999.0,20021006,1254,  22.7492, -158.0000,  4722, 1200.800,    3.688,   34.525,2,   34.522,2,   46.000,2,   46.100,2,  115.660,2,   41.950,2, -999.000,3, -999.000
           NA,HOT timeseries 1988to2019 27SEP2021,    136,  99,-999.0,      19,-999.0,20021006,1254,  22.7492, -158.0000,  4722, 1400.100,    3.148,   34.558,2,   34.559,2,   57.900,2,   58.400,2,  127.540,2,   41.370,2,    3.010,2, -999.000
           NA,HOT timeseries 1988to2019 27SEP2021,    136,  99,-999.0,      18,-999.0,20021006,1254,  22.7492, -158.0000,  4722, 1600.800,    2.756,   34.581,2,   34.581,2,   66.500,2,   67.600,2,  136.500,2,   40.920,2,    2.960,2, -999.000
           NA,HOT timeseries 1988to2019 27SEP2021,    136,  99,-999.0,      17,-999.0,20021006,1254,  22.7492, -158.0000,  4722, 1801.200,    2.466,   34.597,2,   34.596,2,   75.300,2,   75.700,2,  142.590,2,   40.530,2,    2.900,2, -999.000
           NA,HOT timeseries 1988to2019 27SEP2021,    136,  99,-999.0,      16,-999.0,20021006,1254,  22.7492, -158.0000,  4722, 2000.000,    2.217,   34.614,2,   34.612,2,   85.100,2,   85.000,2,  148.650,2,   39.980,2, -999.000,3, -999.000
           NA,HOT timeseries 1988to2019 27SEP2021,    136,  99,-999.0,      23,-999.0,20021006,1254,  22.7492, -158.0000,  4722, 2201.100,    2.022,   34.630,2,   34.629,2,   94.600,2,   94.800,2,  152.880,2,   39.230,2, -999.000,3, -999.000
           NA,HOT timeseries 1988to2019 27SEP2021,    136,  99,-999.0,      14,-999.0,20021006,1254,  22.7492, -158.0000,  4722, 2401.100,    1.864,   34.642,2,   34.642,2,  102.800,2,  102.900,2,  155.790,2,   39.040,2, -999.000,4, -999.000
           NA,HOT timeseries 1988to2019 27SEP2021,    136,  99,-999.0,      13,-999.0,20021006,1254,  22.7492, -158.0000,  4722, 2599.600,    1.749,   34.652,2,   34.651,2,  109.500,2,  109.200,2,  156.990,2,   38.520,2,    2.690,2, -999.000
           NA,HOT timeseries 1988to2019 27SEP2021,    136,  99,-999.0,      12,-999.0,20021006,1254,  22.7492, -158.0000,  4722, 2801.000,    1.653,   34.660,2,   34.658,2,  114.900,2,  115.400,2,  158.780,2,   38.310,2,    2.700,2, -999.000
           NA,HOT timeseries 1988to2019 27SEP2021,    136,  99,-999.0,      39,-999.0,20021006,1254,  22.7492, -158.0000,  4722, 3001.200,    1.580,   34.667,2,   34.667,2,  121.800,2,  122.100,2,  159.470,2,   37.820,2,    2.680,2, -999.000
           NA,HOT timeseries 1988to2019 27SEP2021,    136,  99,-999.0,      32,-999.0,20021006,1254,  22.7492, -158.0000,  4722, 3200.100,    1.539,   34.672,2,   34.674,2,  127.100,2,  126.900,2,  158.170,2,   37.390,2,    2.650,2, -999.000
           NA,HOT timeseries 1988to2019 27SEP2021,    136,  99,-999.0,       3,-999.0,20021006,1254,  22.7492, -158.0000,  4722, 3399.600,    1.503,   34.677,2,   34.674,2,  133.000,2,  131.400,2,  156.470,2,   37.130,2,    2.570,2, -999.000
           NA,HOT timeseries 1988to2019 27SEP2021,    136,  99,-999.0,      29,-999.0,20021006,1254,  22.7492, -158.0000,  4722, 3600.500,    1.481,   34.680,2,   34.681,2,  138.700,2,  138.200,2,  155.330,2,   36.610,2, -999.000,3, -999.000
           NA,HOT timeseries 1988to2019 27SEP2021,    136,  99,-999.0,      28,-999.0,20021006,1254,  22.7492, -158.0000,  4722, 3798.800,    1.468,   34.683,2,   34.683,2,  142.500,2,  142.300,2,  153.650,2,   36.280,2,    2.560,2, -999.000
           NA,HOT timeseries 1988to2019 27SEP2021,    136,  99,-999.0,       7,-999.0,20021006,1254,  22.7492, -158.0000,  4722, 4002.100,    1.464,   34.685,2,   34.686,2,  146.500,2,  146.200,2,  151.630,2,   36.080,2,    2.520,2, -999.000
           NA,HOT timeseries 1988to2019 27SEP2021,    136,  99,-999.0,      38,-999.0,20021006,1254,  22.7492, -158.0000,  4722, 4198.700,    1.470,   34.686,2,   34.686,2,  148.700,2,  148.700,2,  150.580,2,   35.740,2, -999.000,3, -999.000
           NA,HOT timeseries 1988to2019 27SEP2021,    136,  99,-999.0,      36,-999.0,20021006,1254,  22.7492, -158.0000,  4722, 4401.100,    1.480,   34.687,2,   34.688,2,  150.500,2,  150.600,2,  148.820,2,   35.610,2, -999.000,4, -999.000
           NA,HOT timeseries 1988to2019 27SEP2021,    136,  99,-999.0,      35,-999.0,20021006,1254,  22.7492, -158.0000,  4722, 4500.900,    1.488,   34.688,2,   34.688,2,  151.100,2,  151.100,2,  148.250,2,   35.750,2, -999.000,3, -999.000
           NA,HOT timeseries 1988to2019 27SEP2021,    136,  99,-999.0,      34,-999.0,20021006,1254,  22.7492, -158.0000,  4722, 4601.200,    1.496,   34.688,2,   34.690,2,  151.800,2,  151.900,2,  147.690,2,   35.690,2, -999.000,3, -999.000
           NA,HOT timeseries 1988to2019 27SEP2021,    136,  99,-999.0,      33,-999.0,20021006,1254,  22.7492, -158.0000,  4722, 4805.800,    1.519,   34.688,2,   34.690,2,  151.900,2,  152.000,2,  147.240,2,   35.630,2, -999.000,3, -999.000