BOTTLE,20214727JOAExport
EXPOCODE,SECT_ID,STNNBR,CASTNO,SAMPNO,BTLNBR,BTLNBR_FLAG_W,DATE,TIME,LATITUDE,LONGITUDE,DEPTH,CTDPRS,CTDTMP,CTDSAL,CTDSAL_FLAG_W,SALNTY,SALNTY_FLAG_W,CTDOXY,CTDOXY_FLAG_W,OXYGEN,OXYGEN_FLAG_W,SILCAT,SILCAT_FLAG_W,NINI,NINI_FLAG_W,PHSPHT,PHSPHT_FLAG_W,REVP
,,,,,,,,,,,,DB,IPTS-68,PSS-78,,PSS-78,,UMOL/KG,,UMOL/KG,,UMOL/KG,,UMOL/KG,,UMOL/KG,,DBAR
           NA,HOT timeseries 1988to2019 27SEP2021,    204,  99,-999.0,    8024,-999.0,20100406,1530,  22.7482, -158.0002,  4721,    4.600,   23.202,   35.270,2,   35.272,2,  215.800,2,  215.600,2,    1.120,2,    0.030,2,    0.100,2, -999.000
           NA,HOT timeseries 1988to2019 27SEP2021,    204,  99,-999.0,    8024,-999.0,20100406,1530,  22.7482, -158.0002,  4721,    9.100,   23.302,   35.271,2,   35.271,2,  215.500,2,  215.400,2,    1.080,2,    0.050,2,    0.100,2, -999.000
           NA,HOT timeseries 1988to2019 27SEP2021,    204,  99,-999.0,    8023,-999.0,20100406,1530,  22.7482, -158.0002,  4721,   50.300,   23.212,   35.271,2,   35.271,2,  215.700,2,  216.300,2,    1.240,2,    0.050,2,    0.100,2, -999.000
           NA,HOT timeseries 1988to2019 27SEP2021,    204,  99,-999.0,    8022,-999.0,20100406,1530,  22.7482, -158.0002,  4721,  100.800,   22.947,   35.337,2,   35.337,2,  215.700,2,  214.600,2,    1.120,2,    0.070,2,    0.070,2, -999.000
           NA,HOT timeseries 1988to2019 27SEP2021,    204,  99,-999.0,    8021,-999.0,20100406,1530,  22.7482, -158.0002,  4721,  120.400,   22.790,   35.335,2,   35.335,2,  213.100,2,  213.700,2,    1.250,2,    0.050,2,    0.070,2, -999.000
           NA,HOT timeseries 1988to2019 27SEP2021,    204,  99,-999.0,    8020,-999.0,20100406,1530,  22.7482, -158.0002,  4721,  136.000,   22.489,   35.329,2,   35.326,2,  211.000,2,  210.000,2,    1.240,2,    0.170,2,    0.090,2, -999.000
           NA,HOT timeseries 1988to2019 27SEP2021,    204,  99,-999.0,    8019,-999.0,20100406,1530,  22.7482, -158.0002,  4721,  199.300,   20.116,   35.209,2,   35.208,2,  202.700,2,  203.200,2,    1.740,2,    1.350,2,    0.160,2, -999.000
           NA,HOT timeseries 1988to2019 27SEP2021,    204,  99,-999.0,    8018,-999.0,20100406,1530,  22.7482, -158.0002,  4721,  220.800,   19.605,   35.168,2,   35.166,2,  202.200,2,  202.000,2,    2.260,2,    1.780,2,    0.180,2, -999.000
           NA,HOT timeseries 1988to2019 27SEP2021,    204,  99,-999.0,    8017,-999.0,20100406,1530,  22.7482, -158.0002,  4721,  239.800,   18.962,   35.064,2, -999.000,3, -999.000,3,  199.700,2,    2.530,2,    2.490,2,    0.230,2, -999.000
           NA,HOT timeseries 1988to2019 27SEP2021,    204,  99,-999.0,    8016,-999.0,20100406,1530,  22.7482, -158.0002,  4721,  280.700,   16.110,   34.610,2,   34.597,2,  192.300,2,  191.000,2, -999.000,3,    5.790,2,    0.460,2, -999.000
           NA,HOT timeseries 1988to2019 27SEP2021,    204,  99,-999.0,    8015,-999.0,20100406,1530,  22.7482, -158.0002,  4721,  320.100,   12.973,   34.248,2,   34.239,2,  190.800,2,  189.800,2,    9.630,2,   10.880,2,    0.800,2, -999.000
           NA,HOT timeseries 1988to2019 27SEP2021,    204,  99,-999.0,    8014,-999.0,20100406,1530,  22.7482, -158.0002,  4721,  341.300,   11.967,   34.188,2,   34.190,2,  191.300,2,  193.800,2,   11.790,2,   12.540,2,    0.900,2, -999.000
           NA,HOT timeseries 1988to2019 27SEP2021,    204,  99,-999.0,    8025,-999.0,20100406,1530,  22.7482, -158.0002,  4721,  360.100,   11.364,   34.171,2,   34.170,2,  203.500,2,  200.600,2,   13.220,2,   13.270,2,    0.940,2, -999.000
           NA,HOT timeseries 1988to2019 27SEP2021,    204,  99,-999.0,    8012,-999.0,20100406,1530,  22.7482, -158.0002,  4721,  385.000,   10.464,   34.108,2,   34.111,2,  193.700,2,  194.300,2,   16.780,2,   15.750,2,    1.110,2, -999.000
           NA,HOT timeseries 1988to2019 27SEP2021,    204,  99,-999.0,    8011,-999.0,20100406,1530,  22.7482, -158.0002,  4721,  443.700,    8.590,   34.057,2,   34.057,2,  156.500,2,  157.500,2,   30.680,2,   23.060,2,    1.640,2, -999.000
           NA,HOT timeseries 1988to2019 27SEP2021,    204,  99,-999.0,    8009,-999.0,20100406,1530,  22.7482, -158.0002,  4721,  525.800,    6.333,   34.052,2,   34.052,2,   83.100,2,   83.200,2,   58.470,2,   34.200,2,    2.460,2, -999.000
           NA,HOT timeseries 1988to2019 27SEP2021,    204,  99,-999.0,    8008,-999.0,20100406,1530,  22.7482, -158.0002,  4721,  555.300,    6.045,   34.096,2,   34.095,2,   70.600,2,   69.500,2,   64.980,2,   35.810,2,    2.610,2, -999.000
           NA,HOT timeseries 1988to2019 27SEP2021,    204,  99,-999.0,    8026,-999.0,20100406,1530,  22.7482, -158.0002,  4721,  604.600,    5.900,   34.195,2,   34.196,2,   44.200,2,   43.200,2,   71.250,2,   38.000,2,    2.800,2, -999.000
           NA,HOT timeseries 1988to2019 27SEP2021,    204,  99,-999.0,    8006,-999.0,20100406,1530,  22.7482, -158.0002,  4721,  666.700,    5.402,   34.249,2,   34.250,2,   39.300,2,   39.300,2,   81.090,2,   39.690,2,    2.890,2, -999.000
           NA,HOT timeseries 1988to2019 27SEP2021,    204,  99,-999.0,    8004,-999.0,20100406,1530,  22.7482, -158.0002,  4721,  730.500,    5.058,   34.331,2,   34.330,2,   32.000,2, -999.000,5,   88.650,2,   40.830,2,    2.980,2, -999.000
           NA,HOT timeseries 1988to2019 27SEP2021,    204,  99,-999.0,    8003,-999.0,20100406,1530,  22.7482, -158.0002,  4721,  823.200,    4.643,   34.408,2,   34.407,2,   34.500,2, -999.000,5,   96.900,2, -999.000,3, -999.000,3, -999.000
           NA,HOT timeseries 1988to2019 27SEP2021,    204,  99,-999.0,    8002,-999.0,20100406,1530,  22.7482, -158.0002,  4721,  899.900,    4.429,   34.460,2, -999.000,3, -999.000,3,   38.600,2,  101.420,2,   42.190,2,    3.040,2, -999.000
           NA,HOT timeseries 1988to2019 27SEP2021,    204,  99,-999.0,    8001,-999.0,20100406,1530,  22.7482, -158.0002,  4721, 1016.100,    3.946,   34.492,2,   34.492,2,   48.700,2,   49.100,2,  109.970,2,   41.530,2,    2.980,2, -999.000
           NA,HOT timeseries 1988to2019 27SEP2021,    204,  99,-999.0,    8020,-999.0,20100406,1530,  22.7482, -158.0002,  4721, 1200.300,    3.553,   34.526,2,   34.525,2,   52.900,2,   53.400,2,  118.910,2,   41.500,2,    2.970,2, -999.000
           NA,HOT timeseries 1988to2019 27SEP2021,    204,  99,-999.0,    8019,-999.0,20100406,1530,  22.7482, -158.0002,  4721, 1399.800,    3.111,   34.549,2,   34.549,2,   62.400,2,   63.500,2, -999.000,3,   41.060,2,    2.940,2, -999.000
           NA,HOT timeseries 1988to2019 27SEP2021,    204,  99,-999.0,    8017,-999.0,20100406,1530,  22.7482, -158.0002,  4721, 1797.400,    2.437,   34.598,2,   34.599,2,   78.800,2,   79.100,2,  143.410,2,   40.620,2,    2.880,2, -999.000
           NA,HOT timeseries 1988to2019 27SEP2021,    204,  99,-999.0,    8016,-999.0,20100406,1530,  22.7482, -158.0002,  4721, 2000.200,    2.176,   34.616,2,   34.615,2,   88.900,2,   88.800,2,  149.050,2,   39.880,2,    2.820,2, -999.000
           NA,HOT timeseries 1988to2019 27SEP2021,    204,  99,-999.0,    8015,-999.0,20100406,1530,  22.7482, -158.0002,  4721, 2200.700,    1.943,   34.633,2,   34.632,2,   98.300,2,   98.300,2,  153.760,2,   39.380,2,    2.770,2, -999.000
           NA,HOT timeseries 1988to2019 27SEP2021,    204,  99,-999.0,    8014,-999.0,20100406,1530,  22.7482, -158.0002,  4721, 2401.000,    1.795,   34.644,2,   34.643,2,  103.700,2,  105.200,2,  156.820,2,   38.970,2,    2.730,2, -999.000
           NA,HOT timeseries 1988to2019 27SEP2021,    204,  99,-999.0,    8025,-999.0,20100406,1530,  22.7482, -158.0002,  4721, 2599.600,    1.666,   34.655,2,   34.655,2,  113.500,2,  113.300,2,  158.930,2,   38.450,2,    2.700,2, -999.000
           NA,HOT timeseries 1988to2019 27SEP2021,    204,  99,-999.0,    8012,-999.0,20100406,1530,  22.7482, -158.0002,  4721, 2799.000,    1.594,   34.663,2,   34.664,2,  121.300,2,  121.400,2,  160.430,2,   37.940,2,    2.660,2, -999.000
           NA,HOT timeseries 1988to2019 27SEP2021,    204,  99,-999.0,    8011,-999.0,20100406,1530,  22.7482, -158.0002,  4721, 3000.000,    1.541,   34.669,2,   34.668,2,  127.100,2,  127.300,2,  157.930,2,   37.520,2,    2.620,2, -999.000
           NA,HOT timeseries 1988to2019 27SEP2021,    204,  99,-999.0,    8010,-999.0,20100406,1530,  22.7482, -158.0002,  4721, 3199.700,    1.502,   34.674,2,   34.674,2,  132.700,2,  133.300,2,  156.650,2,   37.350,2,    2.590,2, -999.000
           NA,HOT timeseries 1988to2019 27SEP2021,    204,  99,-999.0,    8009,-999.0,20100406,1530,  22.7482, -158.0002,  4721, 3398.300,    1.473,   34.678,2,   34.678,2,  137.900,2,  137.700,2,  156.160,2,   36.810,2,    2.560,2, -999.000
           NA,HOT timeseries 1988to2019 27SEP2021,    204,  99,-999.0,    8008,-999.0,20100406,1530,  22.7482, -158.0002,  4721, 3599.800,    1.463,   34.681,2,   34.680,2,  141.600,2,  140.900,2,  154.830,2,   36.590,2,    2.540,2, -999.000
           NA,HOT timeseries 1988to2019 27SEP2021,    204,  99,-999.0,    8026,-999.0,20100406,1530,  22.7482, -158.0002,  4721, 3798.100,    1.454,   34.683,2,   34.683,2,  146.200,2,  145.900,2,  153.180,2,   36.200,2,    2.510,2, -999.000
           NA,HOT timeseries 1988to2019 27SEP2021,    204,  99,-999.0,    8006,-999.0,20100406,1530,  22.7482, -158.0002,  4721, 3999.600,    1.460,   34.685,2,   34.685,2,  148.500,2,  147.800,2,  152.300,2,   36.110,2,    2.500,2, -999.000
           NA,HOT timeseries 1988to2019 27SEP2021,    204,  99,-999.0,    8005,-999.0,20100406,1530,  22.7482, -158.0002,  4721, 4200.100,    1.468,   34.686,2,   34.685,2,  150.400,2,  150.200,2,  151.160,2,   35.960,2,    2.480,2, -999.000
           NA,HOT timeseries 1988to2019 27SEP2021,    204,  99,-999.0,    8004,-999.0,20100406,1530,  22.7482, -158.0002,  4721, 4398.700,    1.478,   34.687,2,   34.687,2,  152.400,2,  151.500,2,  150.100,2,   35.850,2,    2.480,2, -999.000
           NA,HOT timeseries 1988to2019 27SEP2021,    204,  99,-999.0,    8003,-999.0,20100406,1530,  22.7482, -158.0002,  4721, 4498.400,    1.484,   34.688,2,   34.688,2,  153.200,2,  153.000,2,  149.460,2,   35.770,2,    2.470,2, -999.000
           NA,HOT timeseries 1988to2019 27SEP2021,    204,  99,-999.0,    8002,-999.0,20100406,1530,  22.7482, -158.0002,  4721, 4599.100,    1.491,   34.688,2,   34.688,2,  153.900,2,  153.800,2,  149.400,2,   35.740,2,    2.470,2, -999.000
           NA,HOT timeseries 1988to2019 27SEP2021,    204,  99,-999.0,    8001,-999.0,20100406,1530,  22.7482, -158.0002,  4721, 4807.700,    1.504,   34.689,2,   34.690,2,  155.600,2,  156.400,2,  147.300,2,   35.520,2,    2.460,2, -999.000