BOTTLE,20214727JOAExport
EXPOCODE,SECT_ID,STNNBR,CASTNO,SAMPNO,BTLNBR,BTLNBR_FLAG_W,DATE,TIME,LATITUDE,LONGITUDE,DEPTH,CTDPRS,CTDTMP,CTDSAL,CTDSAL_FLAG_W,SALNTY,SALNTY_FLAG_W,CTDOXY,CTDOXY_FLAG_W,OXYGEN,OXYGEN_FLAG_W,SILCAT,SILCAT_FLAG_W,NINI,NINI_FLAG_W,PHSPHT,PHSPHT_FLAG_W,REVP
,,,,,,,,,,,,DB,IPTS-68,PSS-78,,PSS-78,,UMOL/KG,,UMOL/KG,,UMOL/KG,,UMOL/KG,,UMOL/KG,,DBAR
           NA,HOT timeseries 1988to2019 27SEP2021,     43,  99,-999.0,      36,-999.0,19930414,0540,  22.7402, -158.0000,  4749, 4393.800,    1.478,   34.689,2,   34.688,2,  151.900,2,  152.400,2,  150.660,2,   35.540,2,    2.480,2, -999.000
           NA,HOT timeseries 1988to2019 27SEP2021,     43,  99,-999.0,      35,-999.0,19930414,0540,  22.7402, -158.0000,  4749, 4497.900,    1.487,   34.689,2,   34.690,2,  152.100,2,  151.300,2,  150.550,2,   35.570,2,    2.510,2, -999.000
           NA,HOT timeseries 1988to2019 27SEP2021,     43,  99,-999.0,      34,-999.0,19930414,0540,  22.7402, -158.0000,  4749, 4573.400,    1.495,   34.689,2, -999.000,3, -999.000,3,  152.700,2,  150.220,2,   35.560,2,    2.480,2, -999.000
           NA,HOT timeseries 1988to2019 27SEP2021,     43,  99,-999.0,      33,-999.0,19930414,0540,  22.7402, -158.0000,  4749, 4758.100,    1.512,   34.690,2,   34.689,2,  151.800,2,  152.600,2,  149.560,2,   35.510,2,    2.480,2, -999.000
           NA,HOT timeseries 1988to2019 27SEP2021,     44,  99,-999.0,      31,-999.0,19930519,2112,  22.7462, -158.0020,  4719,    5.500,   23.982,   35.065,2,   35.069,2,  208.400,2,  212.300,2,    1.300,2,    0.000,2,    0.040,2, -999.000
           NA,HOT timeseries 1988to2019 27SEP2021,     44,  99,-999.0,      31,-999.0,19930519,2112,  22.7462, -158.0020,  4719,   14.700,   23.913,   35.054,2,   35.058,2,  153.600,2,  212.600,2,    0.980,2,    0.000,2,    0.020,2, -999.000
           NA,HOT timeseries 1988to2019 27SEP2021,     44,  99,-999.0,      30,-999.0,19930519,2112,  22.7462, -158.0020,  4719,   50.500,   23.824,   35.060,2,   35.063,2,  206.900,2,  212.600,2,    0.960,2,    0.000,2,    0.030,2, -999.000
           NA,HOT timeseries 1988to2019 27SEP2021,     44,  99,-999.0,      30,-999.0,19930519,2112,  22.7462, -158.0020,  4719,   78.900,   22.872,   35.086,2,   35.091,2,  212.200,2,  216.900,2,    1.260,2,    0.010,2,    0.080,2, -999.000
           NA,HOT timeseries 1988to2019 27SEP2021,     44,  99,-999.0,      22,-999.0,19930519,2112,  22.7462, -158.0020,  4719,   98.800,   22.623,   35.103,2,   35.108,2,  212.200,2,  215.600,2,    0.940,2,    0.010,2,    0.020,2, -999.000
           NA,HOT timeseries 1988to2019 27SEP2021,     44,  99,-999.0,      21,-999.0,19930519,2112,  22.7462, -158.0020,  4719,  162.200,   21.633,   35.162,2,   35.166,2,  199.100,2,  202.500,2,    1.130,2,    0.560,2,    0.100,2, -999.000
           NA,HOT timeseries 1988to2019 27SEP2021,     44,  99,-999.0,      22,-999.0,19930519,2112,  22.7462, -158.0020,  4719,  177.900,   21.214,   35.170,2,   35.172,2,  200.500,2,  200.800,2,    1.710,2,    0.820,2,    0.130,2, -999.000
           NA,HOT timeseries 1988to2019 27SEP2021,     44,  99,-999.0,      20,-999.0,19930519,2112,  22.7462, -158.0020,  4719,  185.200,   20.887,   35.195,2,   35.200,2,  202.100,2,  202.100,2,    1.290,2,    0.860,2,    0.090,2, -999.000
           NA,HOT timeseries 1988to2019 27SEP2021,     44,  99,-999.0,      19,-999.0,19930519,2112,  22.7462, -158.0020,  4719,  210.200,   19.951,   35.135,2,   35.141,2,  192.600,2,  195.900,2,    1.760,2,    1.760,2,    0.150,2, -999.000
           NA,HOT timeseries 1988to2019 27SEP2021,     44,  99,-999.0,      18,-999.0,19930519,2112,  22.7462, -158.0020,  4719,  236.500,   18.639,   35.020,2,   35.026,2,  186.200,2,  191.100,2,    2.510,2,    2.990,2,    0.230,2, -999.000
           NA,HOT timeseries 1988to2019 27SEP2021,     44,  99,-999.0,      17,-999.0,19930519,2112,  22.7462, -158.0020,  4719,  293.600,   15.673,   34.662,2,   34.667,2,  185.900,2,  194.800,2,    5.260,2,    5.930,2,    0.430,2, -999.000
           NA,HOT timeseries 1988to2019 27SEP2021,     44,  99,-999.0,      16,-999.0,19930519,2112,  22.7462, -158.0020,  4719,  364.900,   12.207,   34.282,2,   34.289,2,  191.200,2,  195.200,2,   10.610,2,   11.190,2,    0.790,2, -999.000
           NA,HOT timeseries 1988to2019 27SEP2021,     44,  99,-999.0,      15,-999.0,19930519,2112,  22.7462, -158.0020,  4719,  406.500,   10.462,   34.172,2,   34.174,2,  189.900,2,  191.800,2,   16.980,2,   15.230,2,    1.070,2, -999.000
           NA,HOT timeseries 1988to2019 27SEP2021,     44,  99,-999.0,      14,-999.0,19930519,2112,  22.7462, -158.0020,  4719,  444.200,    9.366,   34.112,2,   34.111,2,  181.000,2,  181.200,2,   23.030,2,   18.610,2,    1.310,2, -999.000
           NA,HOT timeseries 1988to2019 27SEP2021,     44,  99,-999.0,      13,-999.0,19930519,2112,  22.7462, -158.0020,  4719,  451.400,    8.938,   34.095,2,   34.094,2,  173.500,2,  172.500,2,   26.410,2,   20.270,2,    1.440,2, -999.000
           NA,HOT timeseries 1988to2019 27SEP2021,     44,  99,-999.0,      12,-999.0,19930519,2112,  22.7462, -158.0020,  4719,  519.200,    7.365,   34.061,2, -999.000,3, -999.000,3,  124.800,2,   43.590,2,   27.910,2,    2.010,2, -999.000
           NA,HOT timeseries 1988to2019 27SEP2021,     44,  99,-999.0,      21,-999.0,19930519,2112,  22.7462, -158.0020,  4719,  532.500,    7.370,   34.057,2,   34.059,2,  133.700,2,  124.700,2,   43.930,2,   27.470,2,    2.000,2, -999.000
           NA,HOT timeseries 1988to2019 27SEP2021,     44,  99,-999.0,      11,-999.0,19930519,2112,  22.7462, -158.0020,  4719,  543.000,    7.168,   34.058,2,   34.056,2,  124.400,2,  117.300,2,   46.300,2,   29.100,2,    2.090,2, -999.000
           NA,HOT timeseries 1988to2019 27SEP2021,     44,  99,-999.0,      32,-999.0,19930519,2112,  22.7462, -158.0020,  4719,  552.600,    6.982,   34.054,2,   34.051,2,  121.200,2,  114.300,2,   48.230,2,   29.870,2,    2.130,2, -999.000
           NA,HOT timeseries 1988to2019 27SEP2021,     44,  99,-999.0,       3,-999.0,19930519,2112,  22.7462, -158.0020,  4719,  630.000,    5.922,   34.105,2,   34.104,2,   71.300,2,   62.200,2,   67.420,2,   35.960,2,    2.610,2, -999.000
           NA,HOT timeseries 1988to2019 27SEP2021,     44,  99,-999.0,      29,-999.0,19930519,2112,  22.7462, -158.0020,  4719,  674.300,    5.375,   34.153,2,   34.154,2,   49.800,2,   40.800,2,   78.750,2,   39.000,2,    2.820,2, -999.000
           NA,HOT timeseries 1988to2019 27SEP2021,     44,  99,-999.0,      28,-999.0,19930519,2112,  22.7462, -158.0020,  4719,  722.400,    4.998,   34.242,2, -999.000,3, -999.000,3,   25.700,2,   89.200,2,   40.670,2,    2.980,2, -999.000
           NA,HOT timeseries 1988to2019 27SEP2021,     44,  99,-999.0,       7,-999.0,19930519,2112,  22.7462, -158.0020,  4719,  788.800,    4.721,   34.326,2,   34.320,2,   30.500,2,   24.600,2,   96.040,2,   41.250,2,    3.020,2, -999.000
           NA,HOT timeseries 1988to2019 27SEP2021,     44,  99,-999.0,      23,-999.0,19930519,2112,  22.7462, -158.0020,  4719,  808.700,    4.654,   34.353,2,   34.347,2,   30.900,2,   26.100,2,   97.670,2,   41.310,2,    3.020,2, -999.000
           NA,HOT timeseries 1988to2019 27SEP2021,     44,  99,-999.0,      36,-999.0,19930519,2112,  22.7462, -158.0020,  4719,  867.200,    4.426,   34.410,2,   34.404,2,   32.100,2,   30.600,2,  102.660,2,   41.640,2,    3.030,2, -999.000
           NA,HOT timeseries 1988to2019 27SEP2021,     44,  99,-999.0,      35,-999.0,19930519,2112,  22.7462, -158.0020,  4719,  919.700,    4.297,   34.440,2,   34.438,2,   35.400,2,   34.000,2,  105.150,2,   41.710,2,    3.030,2, -999.000
           NA,HOT timeseries 1988to2019 27SEP2021,     44,  99,-999.0,      34,-999.0,19930519,2112,  22.7462, -158.0020,  4719,  952.800,    4.229,   34.451,2,   34.447,2,   35.900,2,   35.400,2,  106.440,2,   41.500,2,    3.010,2, -999.000
           NA,HOT timeseries 1988to2019 27SEP2021,     44,  99,-999.0,      20,-999.0,19930519,2112,  22.7462, -158.0020,  4719, 1010.500,    4.086,   34.469,2, -999.000,5,   40.700,2,   38.800,2,  109.070,2,   41.350,2,    3.020,2, -999.000
           NA,HOT timeseries 1988to2019 27SEP2021,     44,  99,-999.0,      33,-999.0,19930519,2112,  22.7462, -158.0020,  4719, 1015.300,    4.023,   34.479,2,   34.478,2,   40.300,2,   41.500,2,  110.460,2,   41.620,2,    3.000,2, -999.000
           NA,HOT timeseries 1988to2019 27SEP2021,     44,  99,-999.0,      19,-999.0,19930519,2112,  22.7462, -158.0020,  4719, 1398.100,    3.075,   34.552,2, -999.000,5,   59.000,2,   59.100,2,  130.530,2,   41.020,2,    2.970,2, -999.000
           NA,HOT timeseries 1988to2019 27SEP2021,     44,  99,-999.0,      18,-999.0,19930519,2112,  22.7462, -158.0020,  4719, 1593.000,    2.730,   34.576,2, -999.000,5,   67.000,2,   67.700,2,  138.420,2,   40.690,2,    2.930,2, -999.000
           NA,HOT timeseries 1988to2019 27SEP2021,     44,  99,-999.0,      17,-999.0,19930519,2112,  22.7462, -158.0020,  4719, 1801.000,    2.371,   34.599,2,   34.600,2,   76.700,2,   77.900,2,  147.430,2,   39.990,2,    2.870,2, -999.000
           NA,HOT timeseries 1988to2019 27SEP2021,     44,  99,-999.0,      16,-999.0,19930519,2112,  22.7462, -158.0020,  4719, 1997.400,    2.110,   34.617,2, -999.000,5,   84.500,2,   86.400,2,  152.990,2,   39.640,2,    2.830,2, -999.000
           NA,HOT timeseries 1988to2019 27SEP2021,     44,  99,-999.0,      15,-999.0,19930519,2112,  22.7462, -158.0020,  4719, 2199.800,    1.901,   34.633,2,   34.633,2,   95.300,2,   96.900,2,  157.020,2,   39.270,2,    2.780,2, -999.000
           NA,HOT timeseries 1988to2019 27SEP2021,     44,  99,-999.0,      14,-999.0,19930519,2112,  22.7462, -158.0020,  4719, 2395.800,    1.796,   34.643,2,   34.644,2,   99.900,2,  102.700,2,  158.500,2,   38.600,2,    2.750,2, -999.000
           NA,HOT timeseries 1988to2019 27SEP2021,     44,  99,-999.0,      13,-999.0,19930519,2112,  22.7462, -158.0020,  4719, 2601.000,    1.683,   34.653,2,   34.654,2,  107.900,2,  110.500,2,  160.420,2,   38.140,2,    2.720,2, -999.000
           NA,HOT timeseries 1988to2019 27SEP2021,     44,  99,-999.0,      12,-999.0,19930519,2112,  22.7462, -158.0020,  4719, 2790.900,    1.609,   34.661,2,   34.661,2,  115.900,2,  118.100,2,  160.170,2,   38.000,2,    2.680,2, -999.000
           NA,HOT timeseries 1988to2019 27SEP2021,     44,  99,-999.0,      11,-999.0,19930519,2112,  22.7462, -158.0020,  4719, 3001.100,    1.550,   34.667,2,   34.667,2,  122.200,2,  124.500,2,  159.460,2,   37.370,2,    2.660,2, -999.000
           NA,HOT timeseries 1988to2019 27SEP2021,     44,  99,-999.0,      32,-999.0,19930519,2112,  22.7462, -158.0020,  4719, 3188.300,    1.502,   34.673,2,   34.676,2,  129.700,2,  130.900,2,  158.500,2,   37.030,2,    2.610,2, -999.000
           NA,HOT timeseries 1988to2019 27SEP2021,     44,  99,-999.0,       3,-999.0,19930519,2112,  22.7462, -158.0020,  4719, 3398.600,    1.473,   34.678,2,   34.681,2,  136.100,2,  137.300,2,  156.160,2,   36.490,2,    2.580,2, -999.000
           NA,HOT timeseries 1988to2019 27SEP2021,     44,  99,-999.0,      29,-999.0,19930519,2112,  22.7462, -158.0020,  4719, 3607.300,    1.457,   34.681,2,   34.681,2,  141.100,2,  141.600,2,  154.410,2,   36.260,2,    2.560,2, -999.000
           NA,HOT timeseries 1988to2019 27SEP2021,     44,  99,-999.0,      28,-999.0,19930519,2112,  22.7462, -158.0020,  4719, 3805.200,    1.454,   34.683,2, -999.000,4, -999.000,3, -999.000,4, -999.000,4, -999.000,4, -999.000,4, -999.000
           NA,HOT timeseries 1988to2019 27SEP2021,     44,  99,-999.0,       7,-999.0,19930519,2112,  22.7462, -158.0020,  4719, 3990.600,    1.456,   34.685,2,   34.685,2,  147.900,2,  147.200,2,  151.580,2,   35.840,2,    2.510,2, -999.000
           NA,HOT timeseries 1988to2019 27SEP2021,     44,  99,-999.0,      23,-999.0,19930519,2112,  22.7462, -158.0020,  4719, 4202.300,    1.462,   34.686,2,   34.686,2,  150.900,2,  149.600,2,  151.380,2,   35.830,2,    2.500,2, -999.000
           NA,HOT timeseries 1988to2019 27SEP2021,     44,  99,-999.0,      36,-999.0,19930519,2112,  22.7462, -158.0020,  4719, 4397.400,    1.478,   34.687,2, -999.000,5,  152.300,2,  151.900,2,  150.440,2,   35.690,2,    2.500,2, -999.000
           NA,HOT timeseries 1988to2019 27SEP2021,     44,  99,-999.0,      35,-999.0,19930519,2112,  22.7462, -158.0020,  4719, 4497.600,    1.487,   34.687,2, -999.000,5,  153.100,2,  151.600,2,  149.590,2,   35.590,2,    2.490,2, -999.000
           NA,HOT timeseries 1988to2019 27SEP2021,     44,  99,-999.0,      34,-999.0,19930519,2112,  22.7462, -158.0020,  4719, 4601.500,    1.497,   34.687,2,   34.687,2,  153.600,2,  152.400,2,  149.100,2,   35.520,2,    2.480,2, -999.000
           NA,HOT timeseries 1988to2019 27SEP2021,     44,  99,-999.0,      33,-999.0,19930519,2112,  22.7462, -158.0020,  4719, 4705.200,    1.506,   34.688,2,   34.687,2,  154.500,2,  152.600,2,  148.520,2,   35.390,2,    2.480,2, -999.000