BOTTLE,20214727JOAExport
EXPOCODE,SECT_ID,STNNBR,CASTNO,SAMPNO,BTLNBR,BTLNBR_FLAG_W,DATE,TIME,LATITUDE,LONGITUDE,DEPTH,CTDPRS,CTDTMP,CTDSAL,CTDSAL_FLAG_W,SALNTY,SALNTY_FLAG_W,CTDOXY,CTDOXY_FLAG_W,OXYGEN,OXYGEN_FLAG_W,SILCAT,SILCAT_FLAG_W,NINI,NINI_FLAG_W,PHSPHT,PHSPHT_FLAG_W,REVP
,,,,,,,,,,,,DB,IPTS-68,PSS-78,,PSS-78,,UMOL/KG,,UMOL/KG,,UMOL/KG,,UMOL/KG,,UMOL/KG,,DBAR
           NA,HOT timeseries 1988to2019 27SEP2021,     97,  99,-999.0,      31,-999.0,19990112,2058,  22.7388, -157.9668,  4749,    5.400,   23.681,   35.259,2,   35.260,2,  211.000,2,  210.800,2,    1.770,2,    0.000,2,    0.100,2, -999.000
           NA,HOT timeseries 1988to2019 27SEP2021,     97,  99,-999.0,      31,-999.0,19990112,2058,  22.7388, -157.9668,  4749,   10.300,   23.730,   35.281,2,   35.281,2,  210.800,2,  209.900,2,    1.320,2,    0.000,2,    0.100,2, -999.000
           NA,HOT timeseries 1988to2019 27SEP2021,     97,  99,-999.0,      30,-999.0,19990112,2058,  22.7388, -157.9668,  4749,   51.000,   23.472,   35.289,2,   35.292,2,  211.000,2,  210.900,2,    1.320,2,    0.010,2,    0.110,2, -999.000
           NA,HOT timeseries 1988to2019 27SEP2021,     97,  99,-999.0,      22,-999.0,19990112,2058,  22.7388, -157.9668,  4749,  101.500,   23.483,   35.328,2,   35.329,2,  210.100,2,  209.500,2,    1.260,2,    0.010,2,    0.110,2, -999.000
           NA,HOT timeseries 1988to2019 27SEP2021,     97,  99,-999.0,      21,-999.0,19990112,2058,  22.7388, -157.9668,  4749,  165.700,   21.907,   35.180,2,   35.195,2,  202.000,2,  202.100,2,    1.590,2,    0.520,2,    0.180,2, -999.000
           NA,HOT timeseries 1988to2019 27SEP2021,     97,  99,-999.0,      20,-999.0,19990112,2058,  22.7388, -157.9668,  4749,  202.300,   19.344,   35.007,2,   35.016,2,  198.100,2,  197.900,2,    2.910,2,    1.610,2,    0.220,2, -999.000
           NA,HOT timeseries 1988to2019 27SEP2021,     97,  99,-999.0,      19,-999.0,19990112,2058,  22.7388, -157.9668,  4749,  262.500,   16.216,   34.674,2,   34.673,2,  203.700,2,  202.600,2,    4.480,2,    4.210,2,    0.380,2, -999.000
           NA,HOT timeseries 1988to2019 27SEP2021,     97,  99,-999.0,      18,-999.0,19990112,2058,  22.7388, -157.9668,  4749,  291.100,   14.296,   34.438,2,   34.446,2,  202.300,2,  201.200,2,    6.590,2,    6.790,2,    0.550,2, -999.000
           NA,HOT timeseries 1988to2019 27SEP2021,     97,  99,-999.0,      17,-999.0,19990112,2058,  22.7388, -157.9668,  4749,  331.500,   12.319,   34.266,2,   34.266,2,  197.300,2,  200.600,2,   10.480,2,   10.680,2,    0.780,2, -999.000
           NA,HOT timeseries 1988to2019 27SEP2021,     97,  99,-999.0,      16,-999.0,19990112,2058,  22.7388, -157.9668,  4749,  381.300,   10.659,   34.145,2,   34.145,2,  197.000,2,  192.100,2,   15.980,2,   14.990,2,    1.070,2, -999.000
           NA,HOT timeseries 1988to2019 27SEP2021,     97,  99,-999.0,      15,-999.0,19990112,2058,  22.7388, -157.9668,  4749,  439.300,    8.741,   34.071,2,   34.071,2,  167.900,2,  169.600,2,   27.610,2,   21.250,2,    1.520,2, -999.000
           NA,HOT timeseries 1988to2019 27SEP2021,     97,  99,-999.0,      14,-999.0,19990112,2058,  22.7388, -157.9668,  4749,  475.600,    7.996,   34.050,2,   34.050,2,  149.000,2,  152.900,2,   34.210,2,   24.340,2,    1.740,2, -999.000
           NA,HOT timeseries 1988to2019 27SEP2021,     97,  99,-999.0,      13,-999.0,19990112,2058,  22.7388, -157.9668,  4749,  515.600,    7.269,   34.039,2,   34.040,2,  129.600,2,  128.700,2, -999.000,5, -999.000,5, -999.000,5, -999.000
           NA,HOT timeseries 1988to2019 27SEP2021,     97,  99,-999.0,      30,-999.0,19990112,2058,  22.7388, -157.9668,  4749,  532.400,    6.969,   34.040,2,   34.039,2,  119.200,2,  118.000,2,   46.640,2,   28.500,2,    2.070,2, -999.000
           NA,HOT timeseries 1988to2019 27SEP2021,     97,  99,-999.0,      12,-999.0,19990112,2058,  22.7388, -157.9668,  4749,  561.100,    6.488,   34.048,2,   34.048,2,   92.500,2,   93.300,2,   55.110,2,   32.540,2,    2.340,2, -999.000
           NA,HOT timeseries 1988to2019 27SEP2021,     97,  99,-999.0,      11,-999.0,19990112,2058,  22.7388, -157.9668,  4749,  604.900,    5.737,   34.082,2,   34.082,2,   66.900,2,   66.200,2,   69.000,2,   36.520,2,    2.600,2, -999.000
           NA,HOT timeseries 1988to2019 27SEP2021,     97,  99,-999.0,      32,-999.0,19990112,2058,  22.7388, -157.9668,  4749,  640.200,    5.223,   34.106,2,   34.107,2,   50.900,2,   50.700,2,   79.420,2,   38.910,2,    2.780,2, -999.000
           NA,HOT timeseries 1988to2019 27SEP2021,     97,  99,-999.0,       3,-999.0,19990112,2058,  22.7388, -157.9668,  4749,  700.700,    4.799,   34.218,2,   34.220,2,   24.800,2,   25.300,2,   92.610,2,   41.430,2,    3.000,2, -999.000
           NA,HOT timeseries 1988to2019 27SEP2021,     97,  99,-999.0,      29,-999.0,19990112,2058,  22.7388, -157.9668,  4749,  730.500,    4.703,   34.256,2,   34.260,2,   23.000,2,   21.900,2,   96.070,2,   41.770,2,    3.020,2, -999.000
           NA,HOT timeseries 1988to2019 27SEP2021,     97,  99,-999.0,      28,-999.0,19990112,2058,  22.7388, -157.9668,  4749,  760.700,    4.571,   34.301,2,   34.300,2,   22.500,2,   21.400,2,   99.290,2,   42.110,2,    3.050,2, -999.000
           NA,HOT timeseries 1988to2019 27SEP2021,     97,  99,-999.0,       7,-999.0,19990112,2058,  22.7388, -157.9668,  4749,  800.400,    4.452,   34.335,2,   34.335,2,   22.200,2,   22.000,2,  102.410,2,   42.420,2,    3.070,2, -999.000
           NA,HOT timeseries 1988to2019 27SEP2021,     97,  99,-999.0,      38,-999.0,19990112,2058,  22.7388, -157.9668,  4749,  845.900,    4.371,   34.389,2,   34.391,2,   26.000,2,   26.000,2,  104.210,2,   42.330,2,    3.010,2, -999.000
           NA,HOT timeseries 1988to2019 27SEP2021,     97,  99,-999.0,      36,-999.0,19990112,2058,  22.7388, -157.9668,  4749,  890.400,    4.282,   34.428,2,   34.428,2,   30.100,2,   29.900,2,  105.770,2,   42.250,2,    3.060,2, -999.000
           NA,HOT timeseries 1988to2019 27SEP2021,     97,  99,-999.0,      35,-999.0,19990112,2058,  22.7388, -157.9668,  4749,  941.000,    4.170,   34.451,2,   34.451,2,   35.800,2,   35.600,2,  107.800,2,   41.930,2,    3.060,2, -999.000
           NA,HOT timeseries 1988to2019 27SEP2021,     97,  99,-999.0,      34,-999.0,19990112,2058,  22.7388, -157.9668,  4749,  992.800,    3.992,   34.474,2,   34.475,2,   40.900,2,   41.800,2,  111.110,2,   41.810,2,    3.030,2, -999.000
           NA,HOT timeseries 1988to2019 27SEP2021,     97,  99,-999.0,      33,-999.0,19990112,2058,  22.7388, -157.9668,  4749, 1022.800,    3.874,   34.488,2,   34.489,2,   43.700,2,   44.800,2,  113.470,2,   41.830,2,    3.010,2, -999.000
           NA,HOT timeseries 1988to2019 27SEP2021,     97,  99,-999.0,      20,-999.0,19990112,2058,  22.7388, -157.9668,  4749, 1200.100,    3.436,   34.505,2,   34.506,2,   51.300,2,   51.400,2,  122.700,2,   40.960,2,    2.940,2, -999.000
           NA,HOT timeseries 1988to2019 27SEP2021,     97,  99,-999.0,      19,-999.0,19990112,2058,  22.7388, -157.9668,  4749, 1401.200,    3.113,   34.557,2,   34.556,2,   58.300,2,   58.500,2,  129.210,2,   41.040,2,    2.940,2, -999.000
           NA,HOT timeseries 1988to2019 27SEP2021,     97,  99,-999.0,      18,-999.0,19990112,2058,  22.7388, -157.9668,  4749, 1600.700,    2.680,   34.584,2,   34.584,2,   69.300,2,   69.900,2,  139.270,2,   40.570,2,    2.900,2, -999.000
           NA,HOT timeseries 1988to2019 27SEP2021,     97,  99,-999.0,      17,-999.0,19990112,2058,  22.7388, -157.9668,  4749, 1800.800,    2.340,   34.606,2,   34.607,2,   80.500,2,   81.300,2,  145.920,2,   39.810,2,    2.850,2, -999.000
           NA,HOT timeseries 1988to2019 27SEP2021,     97,  99,-999.0,      16,-999.0,19990112,2058,  22.7388, -157.9668,  4749, 2001.500,    2.148,   34.622,2,   34.622,2,   88.000,2,   88.600,2,  149.540,2,   39.470,2,    2.800,2, -999.000
           NA,HOT timeseries 1988to2019 27SEP2021,     97,  99,-999.0,      15,-999.0,19990112,2058,  22.7388, -157.9668,  4749, 2201.700,    1.966,   34.635,2,   34.636,2,   96.100,2,   96.700,2,  153.850,2,   38.950,2,    2.800,2, -999.000
           NA,HOT timeseries 1988to2019 27SEP2021,     97,  99,-999.0,      14,-999.0,19990112,2058,  22.7388, -157.9668,  4749, 2400.800,    1.827,   34.645,2,   34.646,2,  102.400,2,  103.600,2,  156.360,2,   38.660,2,    2.720,2, -999.000
           NA,HOT timeseries 1988to2019 27SEP2021,     97,  99,-999.0,      13,-999.0,19990112,2058,  22.7388, -157.9668,  4749, 2601.500,    1.718,   34.655,2,   34.656,2,  110.500,2,  110.900,2,  157.600,2,   38.420,2,    2.700,2, -999.000
           NA,HOT timeseries 1988to2019 27SEP2021,     97,  99,-999.0,      12,-999.0,19990112,2058,  22.7388, -157.9668,  4749, 2801.700,    1.611,   34.662,2,   34.662,2,  118.700,2,  119.100,2,  158.130,2,   37.780,2,    2.650,2, -999.000
           NA,HOT timeseries 1988to2019 27SEP2021,     97,  99,-999.0,      11,-999.0,19990112,2058,  22.7388, -157.9668,  4749, 3001.800,    1.554,   34.668,2,   34.669,2,  123.700,2,  124.400,2,  159.160,2,   37.500,2,    2.630,2, -999.000
           NA,HOT timeseries 1988to2019 27SEP2021,     97,  99,-999.0,      32,-999.0,19990112,2058,  22.7388, -157.9668,  4749, 3200.800,    1.523,   34.673,2,   34.675,2,  128.800,2,  131.100,2,  158.460,2,   37.260,2,    2.600,2, -999.000
           NA,HOT timeseries 1988to2019 27SEP2021,     97,  99,-999.0,       3,-999.0,19990112,2058,  22.7388, -157.9668,  4749, 3401.800,    1.497,   34.677,2, -999.000,4, -999.000,3,  134.200,2,  157.340,2,   36.770,2,    2.570,2, -999.000
           NA,HOT timeseries 1988to2019 27SEP2021,     97,  99,-999.0,      29,-999.0,19990112,2058,  22.7388, -157.9668,  4749, 3602.000,    1.483,   34.680,2,   34.683,2,  138.200,2,  138.600,2,  155.810,2,   36.490,2,    2.530,2, -999.000
           NA,HOT timeseries 1988to2019 27SEP2021,     97,  99,-999.0,      28,-999.0,19990112,2058,  22.7388, -157.9668,  4749, 3800.000,    1.475,   34.683,2,   34.686,2,  142.600,2,  142.400,2,  154.590,2,   36.100,2,    2.530,2, -999.000
           NA,HOT timeseries 1988to2019 27SEP2021,     97,  99,-999.0,       7,-999.0,19990112,2058,  22.7388, -157.9668,  4749, 4000.200,    1.467,   34.685,2,   34.685,2,  146.100,2,  146.100,2,  152.750,2,   35.880,2,    2.500,2, -999.000
           NA,HOT timeseries 1988to2019 27SEP2021,     97,  99,-999.0,      38,-999.0,19990112,2058,  22.7388, -157.9668,  4749, 4201.900,    1.475,   34.687,2,   34.688,2,  148.500,2,  148.600,2,  152.250,2,   35.880,2,    2.490,2, -999.000
           NA,HOT timeseries 1988to2019 27SEP2021,     97,  99,-999.0,      36,-999.0,19990112,2058,  22.7388, -157.9668,  4749, 4401.300,    1.482,   34.688,2,   34.688,2,  151.100,2,  150.600,2,  150.700,2,   35.760,2,    2.470,2, -999.000
           NA,HOT timeseries 1988to2019 27SEP2021,     97,  99,-999.0,      35,-999.0,19990112,2058,  22.7388, -157.9668,  4749, 4501.100,    1.487,   34.688,2,   34.689,2,  152.400,2,  152.400,2,  149.750,2,   35.500,2, -999.000,3, -999.000
           NA,HOT timeseries 1988to2019 27SEP2021,     97,  99,-999.0,      34,-999.0,19990112,2058,  22.7388, -157.9668,  4749, 4600.800,    1.494,   34.689,2,   34.689,2,  153.100,2,  152.600,2,  149.480,2,   35.320,2,    2.470,2, -999.000
           NA,HOT timeseries 1988to2019 27SEP2021,     97,  99,-999.0,      33,-999.0,19990112,2058,  22.7388, -157.9668,  4749, 4805.100,    1.505,   34.690,2,   34.691,2,  155.500,2,  154.900,2,  147.430,2,   35.340,2,    2.470,2, -999.000