BOTTLE,20214727JOAExport
EXPOCODE,SECT_ID,STNNBR,CASTNO,SAMPNO,BTLNBR,BTLNBR_FLAG_W,DATE,TIME,LATITUDE,LONGITUDE,DEPTH,CTDPRS,CTDTMP,CTDSAL,CTDSAL_FLAG_W,SALNTY,SALNTY_FLAG_W,CTDOXY,CTDOXY_FLAG_W,OXYGEN,OXYGEN_FLAG_W,SILCAT,SILCAT_FLAG_W,NINI,NINI_FLAG_W,PHSPHT,PHSPHT_FLAG_W,REVP
,,,,,,,,,,,,DB,IPTS-68,PSS-78,,PSS-78,,UMOL/KG,,UMOL/KG,,UMOL/KG,,UMOL/KG,,UMOL/KG,,DBAR
           NA,HOT timeseries 1988to2019 27SEP2021,    150,  99,-999.0,      31,-999.0,20031219,2104,  22.7450, -157.9552,  4730,    4.100,   24.538,   35.249,2,   35.247,2,  209.700,2,  209.100,2,    1.040,2,    0.000,2,    0.010,2, -999.000
           NA,HOT timeseries 1988to2019 27SEP2021,    150,  99,-999.0,      31,-999.0,20031219,2104,  22.7450, -157.9552,  4730,    4.700,   24.570,   35.235,2,   35.241,2,  209.500,2,  210.000,2,    0.990,2,    0.060,2,    0.010,2, -999.000
           NA,HOT timeseries 1988to2019 27SEP2021,    150,  99,-999.0,      30,-999.0,20031219,2104,  22.7450, -157.9552,  4730,   24.500,   24.452,   35.261,2,   35.257,2,  209.800,2,  208.800,2,    1.010,2,    0.020,2,    0.000,2, -999.000
           NA,HOT timeseries 1988to2019 27SEP2021,    150,  99,-999.0,      22,-999.0,20031219,2104,  22.7450, -157.9552,  4730,   61.200,   23.930,   35.384,2,   35.381,2,  211.200,2,  209.200,2,    1.040,2,    0.010,2,    0.000,2, -999.000
           NA,HOT timeseries 1988to2019 27SEP2021,    150,  99,-999.0,      21,-999.0,20031219,2104,  22.7450, -157.9552,  4730,   95.200,   22.466,   35.318,2,   35.316,2,  210.700,2,  209.700,2,    1.400,2,    0.220,2,    0.010,2, -999.000
           NA,HOT timeseries 1988to2019 27SEP2021,    150,  99,-999.0,      20,-999.0,20031219,2104,  22.7450, -157.9552,  4730,  154.300,   20.167,   35.195,2,   35.196,2,  199.900,2,  199.900,2,    1.930,2,    1.380,2, -999.000,3, -999.000
           NA,HOT timeseries 1988to2019 27SEP2021,    150,  99,-999.0,      19,-999.0,20031219,2104,  22.7450, -157.9552,  4730,  186.200,   18.621,   34.976,2,   34.976,2,  201.400,2,  201.300,2,    2.700,2,    2.290,2, -999.000,3, -999.000
           NA,HOT timeseries 1988to2019 27SEP2021,    150,  99,-999.0,      18,-999.0,20031219,2104,  22.7450, -157.9552,  4730,  220.700,   15.805,   34.568,2, -999.000,4, -999.000,3,  196.300,2, -999.000,3,    5.240,2,    0.470,2, -999.000
           NA,HOT timeseries 1988to2019 27SEP2021,    150,  99,-999.0,      17,-999.0,20031219,2104,  22.7450, -157.9552,  4730,  265.300,   13.903,   34.346,2,   34.344,2,  197.200,2,  197.100,2,    6.600,2,    8.030,2,    0.670,2, -999.000
           NA,HOT timeseries 1988to2019 27SEP2021,    150,  99,-999.0,      16,-999.0,20031219,2104,  22.7450, -157.9552,  4730,  312.300,   11.676,   34.188,2,   34.188,2,  201.900,2,  201.200,2,   11.020,2,   12.180,2,    0.930,2, -999.000
           NA,HOT timeseries 1988to2019 27SEP2021,    150,  99,-999.0,      23,-999.0,20031219,2104,  22.7450, -157.9552,  4730,  345.000,   10.410,   34.147,2,   34.150,2,  198.400,2,  195.700,2,   16.430,2,   15.560,2,    1.140,2, -999.000
           NA,HOT timeseries 1988to2019 27SEP2021,    150,  99,-999.0,     101,-999.0,20031219,2104,  22.7450, -157.9552,  4730,  396.600,    8.977,   34.097,2,   34.097,2,  177.400,2,  176.200,2,   26.260,2,   20.750,2,    1.510,2, -999.000
           NA,HOT timeseries 1988to2019 27SEP2021,    150,  99,-999.0,      42,-999.0,20031219,2104,  22.7450, -157.9552,  4730,  425.800,    8.314,   34.074,2,   34.074,2,  168.000,2,  166.400,2,   31.660,2,   23.070,2,    1.630,2, -999.000
           NA,HOT timeseries 1988to2019 27SEP2021,    150,  99,-999.0,      12,-999.0,20031219,2104,  22.7450, -157.9552,  4730,  461.800,    7.464,   34.034,2,   34.036,2,  143.900,2,  144.900,2,   39.520,2,   26.450,2,    1.920,2, -999.000
           NA,HOT timeseries 1988to2019 27SEP2021,    150,  99,-999.0,      39,-999.0,20031219,2104,  22.7450, -157.9552,  4730,  499.200,    6.857,   34.064,2,   34.062,2,   98.900,2,  104.600,2,   49.720,2,   31.040,2,    2.240,2, -999.000
           NA,HOT timeseries 1988to2019 27SEP2021,    150,  99,-999.0,      32,-999.0,20031219,2104,  22.7450, -157.9552,  4730,  548.200,    6.161,   34.110,2,   34.109,2,   70.900,2,   71.300,2,   60.140,2,   35.180,2,    2.600,2, -999.000
           NA,HOT timeseries 1988to2019 27SEP2021,    150,  99,-999.0,       3,-999.0,20031219,2104,  22.7450, -157.9552,  4730,  616.500,    5.541,   34.180,2,   34.178,2,   49.200,2,   49.400,2, -999.000,4,   38.010,2,    2.770,2, -999.000
           NA,HOT timeseries 1988to2019 27SEP2021,    150,  99,-999.0,      29,-999.0,20031219,2104,  22.7450, -157.9552,  4730,  656.200,    5.203,   34.225,2,   34.224,2,   39.200,2,   38.400,2, -999.000,4,   39.630,2,    2.890,2, -999.000
           NA,HOT timeseries 1988to2019 27SEP2021,    150,  99,-999.0,      28,-999.0,20031219,2104,  22.7450, -157.9552,  4730,  696.200,    4.937,   34.256,2,   34.254,2,   34.300,2,   33.500,2,   87.600,2,   40.510,2,    3.000,2, -999.000
           NA,HOT timeseries 1988to2019 27SEP2021,    150,  99,-999.0,      13,-999.0,20031219,2104,  22.7450, -157.9552,  4730,  740.900,    4.680,   34.300,2,   34.299,2,   32.000,2,   31.500,2,   94.210,2,   41.170,2,    3.030,2, -999.000
           NA,HOT timeseries 1988to2019 27SEP2021,    150,  99,-999.0,      36,-999.0,20031219,2104,  22.7450, -157.9552,  4730,  824.900,    4.528,   34.403,2,   34.400,2,   33.800,2,   34.000,2, -999.000,4,   41.650,2,    3.020,2, -999.000
           NA,HOT timeseries 1988to2019 27SEP2021,    150,  99,-999.0,      34,-999.0,20031219,2104,  22.7450, -157.9552,  4730,  952.900,    4.072,   34.479,2,   34.479,2,   44.300,2,   43.700,2,  107.140,2,   41.530,2,    3.030,2, -999.000
           NA,HOT timeseries 1988to2019 27SEP2021,    150,  99,-999.0,      33,-999.0,20031219,2104,  22.7450, -157.9552,  4730, 1021.500,    3.864,   34.496,2,   34.495,2,   48.000,2,   48.200,2,  109.920,2,   41.510,2,    3.010,2, -999.000
           NA,HOT timeseries 1988to2019 27SEP2021,    150,  99,-999.0,      20,-999.0,20031219,2104,  22.7450, -157.9552,  4730, 1199.000,    3.462,   34.524,2,   34.524,2,   55.100,2,   54.500,2,  121.410,2,   41.480,2,    2.970,2, -999.000
           NA,HOT timeseries 1988to2019 27SEP2021,    150,  99,-999.0,      19,-999.0,20031219,2104,  22.7450, -157.9552,  4730, 1399.000,    3.034,   34.561,2,   34.561,2,   63.500,2,   63.000,2,  129.160,2,   41.010,2, -999.000,3, -999.000
           NA,HOT timeseries 1988to2019 27SEP2021,    150,  99,-999.0,      18,-999.0,20031219,2104,  22.7450, -157.9552,  4730, 1600.000,    2.623,   34.589,2,   34.588,2,   73.000,2,   73.600,2,  140.280,2,   40.550,2, -999.000,3, -999.000
           NA,HOT timeseries 1988to2019 27SEP2021,    150,  99,-999.0,      17,-999.0,20031219,2104,  22.7450, -157.9552,  4730, 1800.600,    2.301,   34.609,2,   34.610,2,   83.400,2,   83.600,2,  147.520,2,   39.950,2,    2.830,2, -999.000
           NA,HOT timeseries 1988to2019 27SEP2021,    150,  99,-999.0,      16,-999.0,20031219,2104,  22.7450, -157.9552,  4730, 1998.500,    2.070,   34.626,2,   34.626,2,   92.400,2,   92.000,2,  150.860,2,   39.430,2,    2.780,2, -999.000
           NA,HOT timeseries 1988to2019 27SEP2021,    150,  99,-999.0,      23,-999.0,20031219,2104,  22.7450, -157.9552,  4730, 2201.100,    1.903,   34.637,2,   34.636,2,   98.200,2,   99.300,2,  153.460,2,   38.780,2,    2.780,2, -999.000
           NA,HOT timeseries 1988to2019 27SEP2021,    150,  99,-999.0,     101,-999.0,20031219,2104,  22.7450, -157.9552,  4730, 2398.500,    1.760,   34.647,2,   34.647,2,  105.600,2,  105.700,2,  157.780,2,   38.550,2,    2.710,2, -999.000
           NA,HOT timeseries 1988to2019 27SEP2021,    150,  99,-999.0,      42,-999.0,20031219,2104,  22.7450, -157.9552,  4730, 2601.000,    1.676,   34.656,2,   34.656,2,  111.100,2,  110.500,2,  159.960,2,   38.300,2,    2.680,2, -999.000
           NA,HOT timeseries 1988to2019 27SEP2021,    150,  99,-999.0,      12,-999.0,20031219,2104,  22.7450, -157.9552,  4730, 2801.500,    1.611,   34.664,2,   34.664,2,  118.300,2,  118.400,2,  159.280,2,   37.840,2,    2.640,2, -999.000
           NA,HOT timeseries 1988to2019 27SEP2021,    150,  99,-999.0,      39,-999.0,20031219,2104,  22.7450, -157.9552,  4730, 2999.900,    1.562,   34.669,2,   34.671,2,  124.300,2,  124.400,2,  158.790,2,   37.350,2,    2.580,2, -999.000
           NA,HOT timeseries 1988to2019 27SEP2021,    150,  99,-999.0,      32,-999.0,20031219,2104,  22.7450, -157.9552,  4730, 3200.900,    1.514,   34.675,2,   34.675,2,  130.800,2,  130.600,2,  157.440,2,   36.990,2,    2.560,2, -999.000
           NA,HOT timeseries 1988to2019 27SEP2021,    150,  99,-999.0,       3,-999.0,20031219,2104,  22.7450, -157.9552,  4730, 3401.700,    1.480,   34.680,2,   34.679,2,  136.900,2,  136.900,2,  156.030,2,   36.680,2,    2.540,2, -999.000
           NA,HOT timeseries 1988to2019 27SEP2021,    150,  99,-999.0,      29,-999.0,20031219,2104,  22.7450, -157.9552,  4730, 3600.600,    1.464,   34.683,2,   34.683,2,  141.400,2,  141.300,2,  154.810,2,   36.240,2,    2.530,2, -999.000
           NA,HOT timeseries 1988to2019 27SEP2021,    150,  99,-999.0,      28,-999.0,20031219,2104,  22.7450, -157.9552,  4730, 3800.200,    1.456,   34.686,2,   34.685,2,  145.300,2,  145.100,2,  153.800,2,   35.900,2, -999.000,3, -999.000
           NA,HOT timeseries 1988to2019 27SEP2021,    150,  99,-999.0,      13,-999.0,20031219,2104,  22.7450, -157.9552,  4730, 3999.900,    1.459,   34.687,2,   34.688,2,  147.700,2,  147.800,2,  152.540,2,   35.740,2,    2.500,2, -999.000
           NA,HOT timeseries 1988to2019 27SEP2021,    150,  99,-999.0,      38,-999.0,20031219,2104,  22.7450, -157.9552,  4730, 4199.600,    1.468,   34.689,2,   34.689,2,  149.800,2,  149.500,2,  151.730,2,   35.580,2,    2.490,2, -999.000
           NA,HOT timeseries 1988to2019 27SEP2021,    150,  99,-999.0,      36,-999.0,20031219,2104,  22.7450, -157.9552,  4730, 4400.700,    1.480,   34.689,2,   34.690,2,  151.400,2,  151.300,2,  150.880,2,   35.560,2,    2.490,2, -999.000
           NA,HOT timeseries 1988to2019 27SEP2021,    150,  99,-999.0,      35,-999.0,20031219,2104,  22.7450, -157.9552,  4730, 4500.200,    1.488,   34.690,2,   34.690,2,  152.100,2,  151.700,2,  150.000,2,   35.320,2,    2.460,2, -999.000
           NA,HOT timeseries 1988to2019 27SEP2021,    150,  99,-999.0,      34,-999.0,20031219,2104,  22.7450, -157.9552,  4730, 4601.100,    1.498,   34.690,2,   34.691,2,  152.100,2,  152.500,2,  150.310,2,   35.320,2,    2.480,2, -999.000
           NA,HOT timeseries 1988to2019 27SEP2021,    150,  99,-999.0,      33,-999.0,20031219,2104,  22.7450, -157.9552,  4730, 4801.800,    1.522,   34.690,2,   34.691,2,  152.100,2,  152.500,2,  149.930,2,   35.380,2,    2.470,2, -999.000