BOTTLE,20214727JOAExport
EXPOCODE,SECT_ID,STNNBR,CASTNO,SAMPNO,BTLNBR,BTLNBR_FLAG_W,DATE,TIME,LATITUDE,LONGITUDE,DEPTH,CTDPRS,CTDTMP,CTDSAL,CTDSAL_FLAG_W,SALNTY,SALNTY_FLAG_W,CTDOXY,CTDOXY_FLAG_W,OXYGEN,OXYGEN_FLAG_W,SILCAT,SILCAT_FLAG_W,NINI,NINI_FLAG_W,PHSPHT,PHSPHT_FLAG_W,REVP
,,,,,,,,,,,,DB,IPTS-68,PSS-78,,PSS-78,,UMOL/KG,,UMOL/KG,,UMOL/KG,,UMOL/KG,,UMOL/KG,,DBAR
           NA,HOT timeseries 1988to2019 27SEP2021,    219,  99,-999.0,    8024,-999.0,20110928,0006,  22.7497, -158.0010,  4750,    5.300,   26.203,   35.203,2,   35.208,2,  206.000,2,  206.500,2,    0.970,2,    0.010,2,    0.060,2, -999.000
           NA,HOT timeseries 1988to2019 27SEP2021,    219,  99,-999.0,    8024,-999.0,20110928,0006,  22.7497, -158.0010,  4750,    5.900,   26.243,   35.184,2,   35.188,2,  205.700,2, -999.000,5,    1.000,2,    0.030,2,    0.070,2, -999.000
           NA,HOT timeseries 1988to2019 27SEP2021,    219,  99,-999.0,    8023,-999.0,20110928,0006,  22.7497, -158.0010,  4750,   30.800,   26.361,   35.382,2,   35.393,2,  206.100,2,  206.400,2,    0.980,2,    0.040,2,    0.020,2, -999.000
           NA,HOT timeseries 1988to2019 27SEP2021,    219,  99,-999.0,    8022,-999.0,20110928,0006,  22.7497, -158.0010,  4750,   50.700,   25.513,   35.268,2,   35.278,2,  212.600,2,  213.400,2,    0.970,2,    0.050,2,    0.030,2, -999.000
           NA,HOT timeseries 1988to2019 27SEP2021,    219,  99,-999.0,    8021,-999.0,20110928,0006,  22.7497, -158.0010,  4750,   80.700,   24.245,   35.364,2,   35.370,2,  220.700,2,  221.500,2,    1.180,2,    0.030,2,    0.010,2, -999.000
           NA,HOT timeseries 1988to2019 27SEP2021,    219,  99,-999.0,    8020,-999.0,20110928,0006,  22.7497, -158.0010,  4750,  100.100,   22.425,   35.316,2,   35.305,2,  218.000,2,  217.400,2,    1.380,2,    0.020,2,    0.050,2, -999.000
           NA,HOT timeseries 1988to2019 27SEP2021,    219,  99,-999.0,    8019,-999.0,20110928,0006,  22.7497, -158.0010,  4750,  149.100,   19.853,   35.104,2,   35.103,2,  205.400,2,  207.200,2,    2.130,2,    0.810,2,    0.110,2, -999.000
           NA,HOT timeseries 1988to2019 27SEP2021,    219,  99,-999.0,    8018,-999.0,20110928,0006,  22.7497, -158.0010,  4750,  211.600,   16.684,   34.708,2,   34.709,2,  201.900,2,  203.000,2,    4.160,2,    4.130,2,    0.330,2, -999.000
           NA,HOT timeseries 1988to2019 27SEP2021,    219,  99,-999.0,    8017,-999.0,20110928,0006,  22.7497, -158.0010,  4750,  250.900,   14.352,   34.423,2,   34.422,2,  210.600,2,  209.200,2,    6.620,2,    6.610,2,    0.490,2, -999.000
           NA,HOT timeseries 1988to2019 27SEP2021,    219,  99,-999.0,    8016,-999.0,20110928,0006,  22.7497, -158.0010,  4750,  290.900,   12.386,   34.237,2,   34.239,2,  200.200,2,  199.600,2,   10.190,2,   10.790,2,    0.780,2, -999.000
           NA,HOT timeseries 1988to2019 27SEP2021,    219,  99,-999.0,    8015,-999.0,20110928,0006,  22.7497, -158.0010,  4750,  338.500,   10.756,   34.163,2,   34.161,2,  200.800,2,  200.300,2,   15.700,2,   14.430,2,    1.030,2, -999.000
           NA,HOT timeseries 1988to2019 27SEP2021,    219,  99,-999.0,    8014,-999.0,20110928,0006,  22.7497, -158.0010,  4750,  410.700,    8.934,   34.072,2,   34.069,2,  176.200,2,  171.100,2,   27.340,2,   20.790,2,    1.470,2, -999.000
           NA,HOT timeseries 1988to2019 27SEP2021,    219,  99,-999.0,    8025,-999.0,20110928,0006,  22.7497, -158.0010,  4750,  479.600,    7.260,   34.027,2,   34.025,2,  125.600,2,  126.700,2,   43.520,2,   28.110,2,    1.990,2, -999.000
           NA,HOT timeseries 1988to2019 27SEP2021,    219,  99,-999.0,    8012,-999.0,20110928,0006,  22.7497, -158.0010,  4750,  500.300,    6.765,   34.026,2,   34.031,2,  106.200,2,  107.500,2,   51.010,2,   30.840,2,    2.210,2, -999.000
           NA,HOT timeseries 1988to2019 27SEP2021,    219,  99,-999.0,    8011,-999.0,20110928,0006,  22.7497, -158.0010,  4750,  520.100,    6.677,   34.049,2,   34.048,2,   98.000,2,   93.900,2,   53.720,2,   32.140,2,    2.320,2, -999.000
           NA,HOT timeseries 1988to2019 27SEP2021,    219,  99,-999.0,    8010,-999.0,20110928,0006,  22.7497, -158.0010,  4750,  571.400,    5.859,   34.066,2,   34.067,2,   68.800,2,   69.500,2,   66.460,2,   35.790,2,    2.640,2, -999.000
           NA,HOT timeseries 1988to2019 27SEP2021,    219,  99,-999.0,    8009,-999.0,20110928,0006,  22.7497, -158.0010,  4750,  625.800,    5.265,   34.106,2,   34.106,2,   51.600,2,   49.800,2,   78.800,2,   38.240,2,    2.780,2, -999.000
           NA,HOT timeseries 1988to2019 27SEP2021,    219,  99,-999.0,    8008,-999.0,20110928,0006,  22.7497, -158.0010,  4750,  676.900,    4.992,   34.220,2,   34.217,2,   32.100,2,   29.600,2,   88.460,2,   40.370,2,    2.930,2, -999.000
           NA,HOT timeseries 1988to2019 27SEP2021,    219,  99,-999.0,    8026,-999.0,20110928,0006,  22.7497, -158.0010,  4750,  711.400,    4.647,   34.254,2,   34.254,2,   23.800,2,   23.900,2,   95.980,2,   41.230,2,    2.990,2, -999.000
           NA,HOT timeseries 1988to2019 27SEP2021,    219,  99,-999.0,    8004,-999.0,20110928,0006,  22.7497, -158.0010,  4750,  860.100,    4.160,   34.355,2,   34.354,2,   25.600,2,   25.600,2,  107.480,2,   41.850,2,    3.050,2, -999.000
           NA,HOT timeseries 1988to2019 27SEP2021,    219,  99,-999.0,    8003,-999.0,20110928,0006,  22.7497, -158.0010,  4750,  918.200,    4.022,   34.421,2,   34.417,2,   34.100,2,   34.500,2,  109.960,2,   41.070,2,    3.000,2, -999.000
           NA,HOT timeseries 1988to2019 27SEP2021,    219,  99,-999.0,    8002,-999.0,20110928,0006,  22.7497, -158.0010,  4750,  973.900,    3.880,   34.453,2,   34.455,2,   39.500,2,   40.500,2,  113.010,2,   41.470,2,    3.020,2, -999.000
           NA,HOT timeseries 1988to2019 27SEP2021,    219,  99,-999.0,    8001,-999.0,20110928,0006,  22.7497, -158.0010,  4750, 1019.200,    3.757,   34.474,2,   34.475,2,   43.200,2,   43.700,2,  115.050,2,   41.120,2,    2.990,2, -999.000
           NA,HOT timeseries 1988to2019 27SEP2021,    219,  99,-999.0,    8020,-999.0,20110928,0006,  22.7497, -158.0010,  4750, 1201.400,    3.302,   34.521,2,   34.520,2,   54.300,2,   53.900,2,  124.130,2,   41.150,2,    2.940,2, -999.000
           NA,HOT timeseries 1988to2019 27SEP2021,    219,  99,-999.0,    8019,-999.0,20110928,0006,  22.7497, -158.0010,  4750, 1400.600,    2.991,   34.552,2,   34.552,2,   61.400,2,   61.700,2,  131.300,2,   40.910,2,    2.930,2, -999.000
           NA,HOT timeseries 1988to2019 27SEP2021,    219,  99,-999.0,    8018,-999.0,20110928,0006,  22.7497, -158.0010,  4750, 1600.400,    2.569,   34.581,2,   34.581,2,   72.800,2,   72.600,2,  140.270,2,   40.380,2,    2.850,2, -999.000
           NA,HOT timeseries 1988to2019 27SEP2021,    219,  99,-999.0,    8017,-999.0,20110928,0006,  22.7497, -158.0010,  4750, 1800.900,    2.286,   34.604,2,   34.603,2,   81.500,2,   81.900,2,  147.340,2,   39.900,2,    2.830,2, -999.000
           NA,HOT timeseries 1988to2019 27SEP2021,    219,  99,-999.0,    8016,-999.0,20110928,0006,  22.7497, -158.0010,  4750, 2000.900,    2.024,   34.624,2,   34.625,2,   91.800,2,   92.200,2,  151.400,2,   39.230,2,    2.770,2, -999.000
           NA,HOT timeseries 1988to2019 27SEP2021,    219,  99,-999.0,    8015,-999.0,20110928,0006,  22.7497, -158.0010,  4750, 2200.800,    1.839,   34.638,2,   34.639,2,   99.900,2,  100.700,2,  155.560,2,   38.720,2,    2.720,2, -999.000
           NA,HOT timeseries 1988to2019 27SEP2021,    219,  99,-999.0,    8014,-999.0,20110928,0006,  22.7497, -158.0010,  4750, 2400.600,    1.735,   34.647,2,   34.648,2,  105.900,2,  107.200,2,  156.910,2,   38.380,2,    2.690,2, -999.000
           NA,HOT timeseries 1988to2019 27SEP2021,    219,  99,-999.0,    8025,-999.0,20110928,0006,  22.7497, -158.0010,  4750, 2600.900,    1.661,   34.655,2,   34.655,2,  110.700,2,  111.200,2,  159.300,2,   38.200,2,    2.670,2, -999.000
           NA,HOT timeseries 1988to2019 27SEP2021,    219,  99,-999.0,    8012,-999.0,20110928,0006,  22.7497, -158.0010,  4750, 2800.200,    1.570,   34.664,2,   34.664,2,  119.700,2,  120.600,2,  158.020,2,   37.500,2,    2.640,2, -999.000
           NA,HOT timeseries 1988to2019 27SEP2021,    219,  99,-999.0,    8011,-999.0,20110928,0006,  22.7497, -158.0010,  4750, 3001.700,    1.522,   34.670,2,   34.669,2,  127.000,2,  127.000,2,  157.410,2,   36.810,2,    2.570,2, -999.000
           NA,HOT timeseries 1988to2019 27SEP2021,    219,  99,-999.0,    8010,-999.0,20110928,0006,  22.7497, -158.0010,  4750, 3202.100,    1.484,   34.675,2,   34.675,2,  133.100,2,  133.000,2,  156.130,2,   36.690,2,    2.560,2, -999.000
           NA,HOT timeseries 1988to2019 27SEP2021,    219,  99,-999.0,    8009,-999.0,20110928,0006,  22.7497, -158.0010,  4750, 3400.800,    1.461,   34.679,2,   34.679,2,  137.900,2,  137.900,2,  155.560,2,   36.430,2,    2.530,2, -999.000
           NA,HOT timeseries 1988to2019 27SEP2021,    219,  99,-999.0,    8008,-999.0,20110928,0006,  22.7497, -158.0010,  4750, 3600.300,    1.444,   34.682,2,   34.681,2,  143.000,2,  142.700,2,  152.990,2,   36.010,2,    2.510,2, -999.000
           NA,HOT timeseries 1988to2019 27SEP2021,    219,  99,-999.0,    8026,-999.0,20110928,0006,  22.7497, -158.0010,  4750, 3800.800,    1.444,   34.684,2,   34.683,2,  146.000,2,  146.200,2,  151.110,2,   36.130,2,    2.480,2, -999.000
           NA,HOT timeseries 1988to2019 27SEP2021,    219,  99,-999.0,    8006,-999.0,20110928,0006,  22.7497, -158.0010,  4750, 4000.600,    1.448,   34.685,2,   34.685,2,  148.700,2,  148.900,2,  150.440,2,   35.680,2,    2.480,2, -999.000
           NA,HOT timeseries 1988to2019 27SEP2021,    219,  99,-999.0,    8005,-999.0,20110928,0006,  22.7497, -158.0010,  4750, 4200.700,    1.461,   34.686,2,   34.686,2,  150.600,2,  150.400,2,  149.460,2,   35.590,2,    2.470,2, -999.000
           NA,HOT timeseries 1988to2019 27SEP2021,    219,  99,-999.0,    8004,-999.0,20110928,0006,  22.7497, -158.0010,  4750, 4401.800,    1.475,   34.687,2,   34.686,2,  151.900,2,  151.900,2,  148.610,2,   35.490,2,    2.460,2, -999.000
           NA,HOT timeseries 1988to2019 27SEP2021,    219,  99,-999.0,    8003,-999.0,20110928,0006,  22.7497, -158.0010,  4750, 4500.300,    1.484,   34.687,2,   34.686,2,  152.400,2,  151.900,2,  148.620,2,   35.520,2,    2.450,2, -999.000
           NA,HOT timeseries 1988to2019 27SEP2021,    219,  99,-999.0,    8002,-999.0,20110928,0006,  22.7497, -158.0010,  4750, 4600.400,    1.494,   34.687,2,   34.687,2,  152.600,2,  152.400,2,  147.730,2,   35.310,2,    2.460,2, -999.000
           NA,HOT timeseries 1988to2019 27SEP2021,    219,  99,-999.0,    8001,-999.0,20110928,0006,  22.7497, -158.0010,  4750, 4806.800,    1.517,   34.688,2,   34.688,2,  153.200,2,  152.600,2,  147.330,2,   35.540,2,    2.470,2, -999.000