BOTTLE,20214727JOAExport
EXPOCODE,SECT_ID,STNNBR,CASTNO,SAMPNO,BTLNBR,BTLNBR_FLAG_W,DATE,TIME,LATITUDE,LONGITUDE,DEPTH,CTDPRS,CTDTMP,CTDSAL,CTDSAL_FLAG_W,SALNTY,SALNTY_FLAG_W,CTDOXY,CTDOXY_FLAG_W,OXYGEN,OXYGEN_FLAG_W,SILCAT,SILCAT_FLAG_W,NINI,NINI_FLAG_W,PHSPHT,PHSPHT_FLAG_W,REVP
,,,,,,,,,,,,DB,IPTS-68,PSS-78,,PSS-78,,UMOL/KG,,UMOL/KG,,UMOL/KG,,UMOL/KG,,UMOL/KG,,DBAR
           NA,HOT timeseries 1988to2019 27SEP2021,    156,  99,-999.0,      31,-999.0,20040615,1826,  22.7500, -158.0005,  4719,    4.700,   25.713,   34.731,2,   34.732,2,  207.600,2,  207.700,2, -999.000,4,    0.140,2,    0.020,2, -999.000
           NA,HOT timeseries 1988to2019 27SEP2021,    156,  99,-999.0,      30,-999.0,20040615,1826,  22.7500, -158.0005,  4719,   62.500,   24.447,   34.984,2,   34.991,2,  215.300,2,  214.900,2, -999.000,4,    0.000,2,    0.090,2, -999.000
           NA,HOT timeseries 1988to2019 27SEP2021,    156,  99,-999.0,      22,-999.0,20040615,1826,  22.7500, -158.0005,  4719,  111.400,   23.169,   35.266,2,   35.264,2,  209.600,2,  209.300,2, -999.000,4,    0.020,2,    0.080,2, -999.000
           NA,HOT timeseries 1988to2019 27SEP2021,    156,  99,-999.0,      21,-999.0,20040615,1826,  22.7500, -158.0005,  4719,  146.900,   21.538,   35.303,2,   35.295,2,  202.300,2,  206.600,2, -999.000,4,    0.640,2,    0.120,2, -999.000
           NA,HOT timeseries 1988to2019 27SEP2021,    156,  99,-999.0,      20,-999.0,20040615,1826,  22.7500, -158.0005,  4719,  205.300,   18.856,   34.960,2,   34.960,2,  189.500,2,  191.600,2,    2.720,2,    3.250,2,    0.330,2, -999.000
           NA,HOT timeseries 1988to2019 27SEP2021,    156,  99,-999.0,      19,-999.0,20040615,1826,  22.7500, -158.0005,  4719,  261.100,   15.364,   34.513,2, -999.000,3, -999.000,3,  208.200,2,    8.050,2,    5.400,2,    0.480,2, -999.000
           NA,HOT timeseries 1988to2019 27SEP2021,    156,  99,-999.0,      18,-999.0,20040615,1826,  22.7500, -158.0005,  4719,  297.400,   13.023,   34.287,2,   34.288,2,  211.200,2,  210.400,2,    8.780,2,    8.750,2,    0.700,2, -999.000
           NA,HOT timeseries 1988to2019 27SEP2021,    156,  99,-999.0,      17,-999.0,20040615,1826,  22.7500, -158.0005,  4719,  332.100,   11.686,   34.227,2,   34.232,2,  208.200,2,  207.200,2,   14.350,2,   12.000,2,    0.930,2, -999.000
           NA,HOT timeseries 1988to2019 27SEP2021,    156,  99,-999.0,      16,-999.0,20040615,1826,  22.7500, -158.0005,  4719,  378.900,   10.508,   34.179,2,   34.185,2,  192.100,2,  189.200,2,   19.430,2,   16.270,2,    1.210,2, -999.000
           NA,HOT timeseries 1988to2019 27SEP2021,    156,  99,-999.0,     102,-999.0,20040615,1826,  22.7500, -158.0005,  4719,  421.300,    9.091,   34.119,2,   34.119,2,  159.900,2,  162.600,2,   29.090,2,   21.480,2,    1.570,2, -999.000
           NA,HOT timeseries 1988to2019 27SEP2021,    156,  99,-999.0,     101,-999.0,20040615,1826,  22.7500, -158.0005,  4719,  458.700,    8.431,   34.083,2,   34.085,2,  155.100,2,  152.900,2,   34.410,2,   23.670,2,    1.720,2, -999.000
           NA,HOT timeseries 1988to2019 27SEP2021,    156,  99,-999.0,      42,-999.0,20040615,1826,  22.7500, -158.0005,  4719,  494.500,    7.475,   34.068,2,   34.068,2,  122.900,2,  123.400,2,   38.770,2,   28.170,2,    2.080,2, -999.000
           NA,HOT timeseries 1988to2019 27SEP2021,    156,  99,-999.0,      12,-999.0,20040615,1826,  22.7500, -158.0005,  4719,  529.400,    6.832,   34.068,2,   34.068,2,  101.200,2,  101.800,2,   49.500,2,   31.120,2,    2.290,2, -999.000
           NA,HOT timeseries 1988to2019 27SEP2021,    156,  99,-999.0,      39,-999.0,20040615,1826,  22.7500, -158.0005,  4719,  580.600,    6.235,   34.100,2,   34.098,2,   75.700,2,   76.100,2,   61.620,2,   34.450,2,    2.560,2, -999.000
           NA,HOT timeseries 1988to2019 27SEP2021,    156,  99,-999.0,      32,-999.0,20040615,1826,  22.7500, -158.0005,  4719,  631.900,    5.711,   34.146,2,   34.146,2,   55.900,2,   56.800,2,   72.860,2,   37.100,2,    2.740,2, -999.000
           NA,HOT timeseries 1988to2019 27SEP2021,    156,  99,-999.0,       3,-999.0,20040615,1826,  22.7500, -158.0005,  4719,  697.600,    5.270,   34.236,2,   34.236,2,   40.400,2,   38.900,2, -999.000,4,   39.330,2,    2.900,2, -999.000
           NA,HOT timeseries 1988to2019 27SEP2021,    156,  99,-999.0,      29,-999.0,20040615,1826,  22.7500, -158.0005,  4719,  737.000,    5.007,   34.268,2,   34.269,2,   35.500,2,   35.200,2, -999.000,4,   40.120,2,    2.950,2, -999.000
           NA,HOT timeseries 1988to2019 27SEP2021,    156,  99,-999.0,      28,-999.0,20040615,1826,  22.7500, -158.0005,  4719,  776.800,    4.862,   34.305,2,   34.306,2,   35.000,2,   34.100,2, -999.000,4,   40.570,2,    2.990,2, -999.000
           NA,HOT timeseries 1988to2019 27SEP2021,    156,  99,-999.0,      13,-999.0,20040615,1826,  22.7500, -158.0005,  4719,  818.900,    4.636,   34.355,2,   34.354,2,   33.400,2,   33.400,2, -999.000,4,   40.930,2,    3.030,2, -999.000
           NA,HOT timeseries 1988to2019 27SEP2021,    156,  99,-999.0,      38,-999.0,20040615,1826,  22.7500, -158.0005,  4719,  859.200,    4.544,   34.397,2,   34.399,2,   36.600,2,   36.100,2, -999.000,4,   40.960,2,    3.020,2, -999.000
           NA,HOT timeseries 1988to2019 27SEP2021,    156,  99,-999.0,      36,-999.0,20040615,1826,  22.7500, -158.0005,  4719,  898.700,    4.408,   34.426,2,   34.431,2,   38.600,2,   37.800,2, -999.000,4,   41.230,2,    3.020,2, -999.000
           NA,HOT timeseries 1988to2019 27SEP2021,    156,  99,-999.0,      35,-999.0,20040615,1826,  22.7500, -158.0005,  4719,  939.300,    4.280,   34.443,2,   34.443,2,   38.200,2,   38.300,2, -999.000,4,   41.250,2,    3.010,2, -999.000
           NA,HOT timeseries 1988to2019 27SEP2021,    156,  99,-999.0,      34,-999.0,20040615,1826,  22.7500, -158.0005,  4719,  978.300,    4.164,   34.457,2,   34.460,2,   42.700,2,   41.900,2, -999.000,4,   41.190,2,    2.990,2, -999.000
           NA,HOT timeseries 1988to2019 27SEP2021,    156,  99,-999.0,      33,-999.0,20040615,1826,  22.7500, -158.0005,  4719, 1021.000,    4.034,   34.468,2,   34.469,2,   43.400,2,   43.000,2, -999.000,4,   41.110,2,    2.980,2, -999.000
           NA,HOT timeseries 1988to2019 27SEP2021,    156,  99,-999.0,      20,-999.0,20040615,1826,  22.7500, -158.0005,  4719, 1199.100,    3.561,   34.531,2,   34.532,2,   53.500,2,   50.200,2,  119.220,2,   41.350,2,    3.010,2, -999.000
           NA,HOT timeseries 1988to2019 27SEP2021,    156,  99,-999.0,      19,-999.0,20040615,1826,  22.7500, -158.0005,  4719, 1398.600,    3.111,   34.558,2,   34.559,2,   60.700,2,   60.500,2,  128.060,2,   40.900,2,    2.970,2, -999.000
           NA,HOT timeseries 1988to2019 27SEP2021,    156,  99,-999.0,      18,-999.0,20040615,1826,  22.7500, -158.0005,  4719, 1598.600,    2.679,   34.585,2,   34.585,2,   70.800,2,   70.900,2,  138.910,2,   40.390,2,    2.860,2, -999.000
           NA,HOT timeseries 1988to2019 27SEP2021,    156,  99,-999.0,      17,-999.0,20040615,1826,  22.7500, -158.0005,  4719, 1798.600,    2.389,   34.601,2,   34.602,2,   80.200,2,   80.400,2,  144.770,2,   39.790,2,    2.850,2, -999.000
           NA,HOT timeseries 1988to2019 27SEP2021,    156,  99,-999.0,      16,-999.0,20040615,1826,  22.7500, -158.0005,  4719, 1999.000,    2.157,   34.617,2,   34.618,2,   87.600,2,   87.800,2,  149.230,2,   39.410,2,    2.840,2, -999.000
           NA,HOT timeseries 1988to2019 27SEP2021,    156,  99,-999.0,     102,-999.0,20040615,1826,  22.7500, -158.0005,  4719, 2198.800,    1.941,   34.631,2,   34.631,2,   94.200,2,   94.300,2,  154.680,2,   38.950,2,    2.790,2, -999.000
           NA,HOT timeseries 1988to2019 27SEP2021,    156,  99,-999.0,     101,-999.0,20040615,1826,  22.7500, -158.0005,  4719, 2398.500,    1.785,   34.645,2,   34.646,2,  101.300,2,  101.900,2,  158.320,2,   38.520,2,    2.750,2, -999.000
           NA,HOT timeseries 1988to2019 27SEP2021,    156,  99,-999.0,      42,-999.0,20040615,1826,  22.7500, -158.0005,  4719, 2599.300,    1.671,   34.655,2, -999.000,4, -999.000,3, -999.000,4, -999.000,4, -999.000,4, -999.000,4, -999.000
           NA,HOT timeseries 1988to2019 27SEP2021,    156,  99,-999.0,      12,-999.0,20040615,1826,  22.7500, -158.0005,  4719, 2799.000,    1.588,   34.663,2,   34.664,2,  117.500,2,  117.800,2,  159.360,2,   37.650,2,    2.660,2, -999.000
           NA,HOT timeseries 1988to2019 27SEP2021,    156,  99,-999.0,      39,-999.0,20040615,1826,  22.7500, -158.0005,  4719, 2999.600,    1.533,   34.670,2,   34.670,2,  125.300,2,  125.700,2,  158.770,2,   37.200,2,    2.650,2, -999.000
           NA,HOT timeseries 1988to2019 27SEP2021,    156,  99,-999.0,      32,-999.0,20040615,1826,  22.7500, -158.0005,  4719, 3198.700,    1.495,   34.676,2,   34.676,2,  132.000,2,  132.200,2,  157.100,2,   36.750,2,    2.620,2, -999.000
           NA,HOT timeseries 1988to2019 27SEP2021,    156,  99,-999.0,       3,-999.0,20040615,1826,  22.7500, -158.0005,  4719, 3399.100,    1.469,   34.680,2,   34.679,2,  137.400,2,  137.900,2,  156.340,2,   36.550,2,    2.570,2, -999.000
           NA,HOT timeseries 1988to2019 27SEP2021,    156,  99,-999.0,      29,-999.0,20040615,1826,  22.7500, -158.0005,  4719, 3599.600,    1.452,   34.683,2,   34.684,2,  142.100,2,  142.400,2,  153.650,2,   36.440,2,    2.520,2, -999.000
           NA,HOT timeseries 1988to2019 27SEP2021,    156,  99,-999.0,      28,-999.0,20040615,1826,  22.7500, -158.0005,  4719, 3799.000,    1.449,   34.686,2,   34.686,2,  145.700,2,  145.400,2,  151.710,2,   36.010,2,    2.550,2, -999.000
           NA,HOT timeseries 1988to2019 27SEP2021,    156,  99,-999.0,      13,-999.0,20040615,1826,  22.7500, -158.0005,  4719, 3998.800,    1.451,   34.687,2,   34.687,2,  148.500,2,  148.500,2,  150.620,2,   35.790,2,    2.530,2, -999.000
           NA,HOT timeseries 1988to2019 27SEP2021,    156,  99,-999.0,      38,-999.0,20040615,1826,  22.7500, -158.0005,  4719, 4199.100,    1.461,   34.688,2,   34.688,2,  150.400,2,  150.400,2,  151.210,2,   35.660,2,    2.520,2, -999.000
           NA,HOT timeseries 1988to2019 27SEP2021,    156,  99,-999.0,      36,-999.0,20040615,1826,  22.7500, -158.0005,  4719, 4398.500,    1.477,   34.689,2,   34.689,2,  151.500,2,  151.300,2,  149.310,2,   35.700,2,    2.460,2, -999.000
           NA,HOT timeseries 1988to2019 27SEP2021,    156,  99,-999.0,      35,-999.0,20040615,1826,  22.7500, -158.0005,  4719, 4498.600,    1.487,   34.689,2,   34.689,2,  152.000,2,  151.300,2,  149.600,2,   35.720,2,    2.520,2, -999.000
           NA,HOT timeseries 1988to2019 27SEP2021,    156,  99,-999.0,      34,-999.0,20040615,1826,  22.7500, -158.0005,  4719, 4599.100,    1.496,   34.689,2,   34.690,2,  152.200,2,  152.000,2,  149.350,2,   35.740,2,    2.470,2, -999.000
           NA,HOT timeseries 1988to2019 27SEP2021,    156,  99,-999.0,      33,-999.0,20040615,1826,  22.7500, -158.0005,  4719, 4800.700,    1.510,   34.690,2,   34.691,2,  154.100,2,  154.000,2,  148.240,2,   35.470,2,    2.500,2, -999.000
           NA,HOT timeseries 1988to2019 27SEP2021,    157,  99,-999.0,      31,-999.0,20040713,1914,  22.7492, -157.9952,  4727,    4.900,   26.490,   34.611,2,   34.609,2,  204.700,2,  205.000,2,    1.100,2,    0.090,2,    0.010,2, -999.000
           NA,HOT timeseries 1988to2019 27SEP2021,    157,  99,-999.0,      19,-999.0,20040713,1914,  22.7492, -157.9952,  4727,   25.100,   26.473,   34.608,2, -999.000,5,  205.200,2,  205.400,2,    0.930,2,    0.030,2,    0.010,2, -999.000
           NA,HOT timeseries 1988to2019 27SEP2021,    157,  99,-999.0,      17,-999.0,20040713,1914,  22.7492, -157.9952,  4727,   43.400,   26.450,   34.607,2,   34.605,2,  205.300,2,  205.000,2,    0.950,2,    0.030,2,    0.020,2, -999.000
           NA,HOT timeseries 1988to2019 27SEP2021,    157,  99,-999.0,     102,-999.0,20040713,1914,  22.7492, -157.9952,  4727,   60.000,   26.384,   34.614,2,   34.623,2,  205.600,2, -999.000,5,    0.930,2,    0.070,2,    0.020,2, -999.000
           NA,HOT timeseries 1988to2019 27SEP2021,    157,  99,-999.0,     101,-999.0,20040713,1914,  22.7492, -157.9952,  4727,   74.400,   25.215,   34.856,2,   34.855,2,  216.300,2,  215.800,2,    0.950,2, -999.000,5,    0.000,2, -999.000
           NA,HOT timeseries 1988to2019 27SEP2021,    157,  99,-999.0,      12,-999.0,20040713,1914,  22.7492, -157.9952,  4727,   84.500,   24.822,   34.941,2,   34.932,2,  216.700,2,  216.600,2, -999.000,5, -999.000,5, -999.000,5, -999.000
           NA,HOT timeseries 1988to2019 27SEP2021,    157,  99,-999.0,      39,-999.0,20040713,1914,  22.7492, -157.9952,  4727,   99.700,   24.311,   35.047,2,   35.039,2,  214.700,2,  214.800,2,    0.990,2, -999.000,5,    0.000,2, -999.000
           NA,HOT timeseries 1988to2019 27SEP2021,    157,  99,-999.0,       3,-999.0,20040713,1914,  22.7492, -157.9952,  4727,  114.400,   24.015,   35.097,2,   35.102,2,  212.900,2,  212.300,2, -999.000,5, -999.000,5, -999.000,5, -999.000
           NA,HOT timeseries 1988to2019 27SEP2021,    157,  99,-999.0,      29,-999.0,20040713,1914,  22.7492, -157.9952,  4727,  125.100,   23.353,   35.211,2,   35.205,2,  209.000,2,  209.300,2,    1.080,2,    0.010,2,    0.010,2, -999.000
           NA,HOT timeseries 1988to2019 27SEP2021,    157,  99,-999.0,      38,-999.0,20040713,1914,  22.7492, -157.9952,  4727,  149.800,   22.487,   35.288,2,   35.281,2,  203.200,2,  203.200,2,    1.220,2,    0.350,2,    0.010,2, -999.000
           NA,HOT timeseries 1988to2019 27SEP2021,    157,  99,-999.0,      35,-999.0,20040713,1914,  22.7492, -157.9952,  4727,  174.800,   21.493,   35.269,2,   35.268,2,  202.800,2,  200.300,2,    1.530,2,    0.890,2,    0.030,2, -999.000
           NA,HOT timeseries 1988to2019 27SEP2021,    157,  99,-999.0,      33,-999.0,20040713,1914,  22.7492, -157.9952,  4727,  200.000,   20.331,   35.145,2,   35.144,2,  192.400,2,  192.200,2,    1.960,2,    1.910,2,    0.060,2, -999.000
           NA,HOT timeseries 1988to2019 27SEP2021,    157,  99,-999.0,      19,-999.0,20040713,1914,  22.7492, -157.9952,  4727,  265.700,   15.271,   34.506,2,   34.508,2,  207.600,2,  206.300,2,    5.310,2,    4.910,2,    0.470,2, -999.000
           NA,HOT timeseries 1988to2019 27SEP2021,    157,  99,-999.0,      18,-999.0,20040713,1914,  22.7492, -157.9952,  4727,  343.100,   11.520,   34.216,2,   34.216,2,  203.000,2,  202.800,2,   13.130,2,   12.520,2,    0.970,2, -999.000
           NA,HOT timeseries 1988to2019 27SEP2021,    157,  99,-999.0,      17,-999.0,20040713,1914,  22.7492, -157.9952,  4727,  382.800,   10.321,   34.166,2,   34.168,2,  172.700,2,  173.000,2,   19.950,2,   17.970,2,    1.370,2, -999.000
           NA,HOT timeseries 1988to2019 27SEP2021,    157,  99,-999.0,      16,-999.0,20040713,1914,  22.7492, -157.9952,  4727,  502.200,    7.388,   34.054,2,   34.053,2,  131.600,2, -999.000,3,   43.460,2,   28.330,2,    2.070,2, -999.000
           NA,HOT timeseries 1988to2019 27SEP2021,    157,  99,-999.0,     102,-999.0,20040713,1914,  22.7492, -157.9952,  4727,  583.400,    6.289,   34.118,2,   34.116,2,   76.300,2,   76.000,2,   62.670,2,   34.410,2,    2.550,2, -999.000
           NA,HOT timeseries 1988to2019 27SEP2021,    157,  99,-999.0,     101,-999.0,20040713,1914,  22.7492, -157.9952,  4727,  694.500,    5.078,   34.203,2,   34.201,2,   43.200,2, -999.000,3,   84.650,2,   39.920,2,    2.950,2, -999.000
           NA,HOT timeseries 1988to2019 27SEP2021,    157,  99,-999.0,      42,-999.0,20040713,1914,  22.7492, -157.9952,  4727,  754.100,    4.722,   34.281,2,   34.279,2,   31.600,2,   30.500,2,   94.010,2,   41.230,2,    3.050,2, -999.000
           NA,HOT timeseries 1988to2019 27SEP2021,    157,  99,-999.0,      39,-999.0,20040713,1914,  22.7492, -157.9952,  4727, 1001.400,    4.075,   34.453,2,   34.453,2,   40.700,2,   40.700,2,  107.800,2,   41.580,2,    3.050,2, -999.000
           NA,HOT timeseries 1988to2019 27SEP2021,    157,  99,-999.0,      32,-999.0,20040713,1914,  22.7492, -157.9952,  4727, 1199.800,    3.503,   34.521,2,   34.521,2,   52.900,2,   53.000,2,  120.090,2,   41.410,2,    2.990,2, -999.000
           NA,HOT timeseries 1988to2019 27SEP2021,    157,  99,-999.0,       3,-999.0,20040713,1914,  22.7492, -157.9952,  4727, 1600.500,    2.646,   34.582,2,   34.581,2,   72.400,2,   72.500,2,  138.980,2,   40.610,2,    2.950,2, -999.000
           NA,HOT timeseries 1988to2019 27SEP2021,    157,  99,-999.0,      29,-999.0,20040713,1914,  22.7492, -157.9952,  4727, 2000.500,    2.100,   34.619,2,   34.619,2,   88.800,2,   88.300,2,  151.300,2,   39.670,2,    2.850,2, -999.000
           NA,HOT timeseries 1988to2019 27SEP2021,    157,  99,-999.0,      28,-999.0,20040713,1914,  22.7492, -157.9952,  4727, 2400.100,    1.755,   34.646,2,   34.645,2,  101.600,2,  101.900,2,  161.310,2,   38.870,2,    2.750,2, -999.000
           NA,HOT timeseries 1988to2019 27SEP2021,    157,  99,-999.0,      13,-999.0,20040713,1914,  22.7492, -157.9952,  4727, 2800.100,    1.584,   34.664,2,   34.664,2,  118.600,2,  119.100,2,  160.140,2,   37.810,2,    2.680,2, -999.000
           NA,HOT timeseries 1988to2019 27SEP2021,    157,  99,-999.0,      38,-999.0,20040713,1914,  22.7492, -157.9952,  4727, 3200.600,    1.484,   34.677,2,   34.677,2,  132.800,2,  132.900,2,  158.190,2,   36.950,2,    2.610,2, -999.000
           NA,HOT timeseries 1988to2019 27SEP2021,    157,  99,-999.0,      36,-999.0,20040713,1914,  22.7492, -157.9952,  4727, 3600.400,    1.453,   34.683,2,   34.683,2,  141.700,2,  141.600,2,  153.520,2,   36.280,2,    2.550,2, -999.000
           NA,HOT timeseries 1988to2019 27SEP2021,    157,  99,-999.0,      35,-999.0,20040713,1914,  22.7492, -157.9952,  4727, 4000.800,    1.457,   34.687,2,   34.687,2,  147.100,2,  146.900,2,  151.970,2,   36.170,2,    2.530,2, -999.000
           NA,HOT timeseries 1988to2019 27SEP2021,    157,  99,-999.0,      34,-999.0,20040713,1914,  22.7492, -157.9952,  4727, 4400.800,    1.479,   34.689,2,   34.689,2,  150.400,2,  150.400,2,  150.060,2,   35.840,2,    2.530,2, -999.000
           NA,HOT timeseries 1988to2019 27SEP2021,    157,  99,-999.0,      33,-999.0,20040713,1914,  22.7492, -157.9952,  4727, 4804.200,    1.514,   34.690,2,   34.690,2,  152.500,2, -999.000,4,  148.240,2,   35.580,2,    2.490,2, -999.000