BOTTLE,20214727JOAExport
EXPOCODE,SECT_ID,STNNBR,CASTNO,SAMPNO,BTLNBR,BTLNBR_FLAG_W,DATE,TIME,LATITUDE,LONGITUDE,DEPTH,CTDPRS,CTDTMP,CTDSAL,CTDSAL_FLAG_W,SALNTY,SALNTY_FLAG_W,CTDOXY,CTDOXY_FLAG_W,OXYGEN,OXYGEN_FLAG_W,SILCAT,SILCAT_FLAG_W,NINI,NINI_FLAG_W,PHSPHT,PHSPHT_FLAG_W,REVP
,,,,,,,,,,,,DB,IPTS-68,PSS-78,,PSS-78,,UMOL/KG,,UMOL/KG,,UMOL/KG,,UMOL/KG,,UMOL/KG,,DBAR
           NA,HOT timeseries 1988to2019 27SEP2021,    162,  99,-999.0,      31,-999.0,20041220,1807,  22.7535, -158.0020,  4729,    5.100,   25.262,   34.963,2,   34.966,2,  204.500,2,  205.500,2,    0.940,2,    0.000,2,    0.030,2, -999.000
           NA,HOT timeseries 1988to2019 27SEP2021,    162,  99,-999.0,      37,-999.0,20041220,1807,  22.7535, -158.0020,  4729,   47.200,   25.268,   34.963,2,   34.961,2,  204.400,2,  205.300,2,    0.940,2,    0.020,2,    0.040,2, -999.000
           NA,HOT timeseries 1988to2019 27SEP2021,    162,  99,-999.0,      22,-999.0,20041220,1807,  22.7535, -158.0020,  4729,   88.300,   25.218,   34.970,2,   34.974,2,  204.700,2,  204.800,2,    0.970,2,    0.010,2,    0.020,2, -999.000
           NA,HOT timeseries 1988to2019 27SEP2021,    162,  99,-999.0,      21,-999.0,20041220,1807,  22.7535, -158.0020,  4729,  102.000,   24.219,   35.112,2,   35.105,2,  206.800,2,  206.000,2,    1.140,2,    0.010,2,    0.050,2, -999.000
           NA,HOT timeseries 1988to2019 27SEP2021,    162,  99,-999.0,      41,-999.0,20041220,1807,  22.7535, -158.0020,  4729,  122.700,   22.363,   35.218,2,   35.217,2,  195.300,2,  196.700,2,    1.450,2, -999.000,3,    0.060,2, -999.000
           NA,HOT timeseries 1988to2019 27SEP2021,    162,  99,-999.0,      19,-999.0,20041220,1807,  22.7535, -158.0020,  4729,  174.300,   19.222,   34.966,2,   34.959,2,  185.100,2,  184.600,2,    3.010,2,    3.480,2,    0.370,2, -999.000
           NA,HOT timeseries 1988to2019 27SEP2021,    162,  99,-999.0,      18,-999.0,20041220,1807,  22.7535, -158.0020,  4729,  223.900,   15.828,   34.554,2,   34.556,2,  189.100,2,  187.800,2,    5.310,2,    6.150,2,    0.560,2, -999.000
           NA,HOT timeseries 1988to2019 27SEP2021,    162,  99,-999.0,      17,-999.0,20041220,1807,  22.7535, -158.0020,  4729,  294.800,   12.032,   34.206,2,   34.213,2,  199.500,2,  197.600,2,   11.230,2,   11.650,2,    0.910,2, -999.000
           NA,HOT timeseries 1988to2019 27SEP2021,    162,  99,-999.0,      16,-999.0,20041220,1807,  22.7535, -158.0020,  4729,  339.600,   10.678,   34.167,2,   34.168,2,  183.900,2,  183.600,2,   17.140,2,   16.100,2,    1.230,2, -999.000
           NA,HOT timeseries 1988to2019 27SEP2021,    162,  99,-999.0,     102,-999.0,20041220,1807,  22.7535, -158.0020,  4729,  398.300,    9.121,   34.134,2,   34.136,2,  150.600,2,  150.200,2,   28.220,2,   22.340,2,    1.680,2, -999.000
           NA,HOT timeseries 1988to2019 27SEP2021,    162,  99,-999.0,     101,-999.0,20041220,1807,  22.7535, -158.0020,  4729,  435.300,    8.426,   34.115,2,   34.117,2,  137.800,2,  133.200,2,   34.360,2,   25.230,2,    1.890,2, -999.000
           NA,HOT timeseries 1988to2019 27SEP2021,    162,  99,-999.0,      42,-999.0,20041220,1807,  22.7535, -158.0020,  4729,  472.200,    7.704,   34.089,2,   34.091,2,  126.200,2,  122.800,2,   40.710,2,   27.690,2,    2.060,2, -999.000
           NA,HOT timeseries 1988to2019 27SEP2021,    162,  99,-999.0,      12,-999.0,20041220,1807,  22.7535, -158.0020,  4729,  502.500,    7.312,   34.133,2,   34.132,2,   94.800,2,   90.400,2,   48.200,2,   30.800,2,    2.340,2, -999.000
           NA,HOT timeseries 1988to2019 27SEP2021,    162,  99,-999.0,      39,-999.0,20041220,1807,  22.7535, -158.0020,  4729,  561.400,    6.482,   34.156,2,   34.155,2,   66.800,2,   63.400,2,   60.440,2,   34.730,2,    2.610,2, -999.000
           NA,HOT timeseries 1988to2019 27SEP2021,    162,  99,-999.0,      11,-999.0,20041220,1807,  22.7535, -158.0020,  4729,  602.200,    5.826,   34.175,2,   34.174,2,   53.400,2,   50.700,2,   71.780,2,   37.390,2,    2.790,2, -999.000
           NA,HOT timeseries 1988to2019 27SEP2021,    162,  99,-999.0,      28,-999.0,20041220,1807,  22.7535, -158.0020,  4729,  759.500,    5.002,   34.346,2, -999.000,3, -999.000,3,   33.500,2,   90.180,2,   40.570,2,    3.030,2, -999.000
           NA,HOT timeseries 1988to2019 27SEP2021,    162,  99,-999.0,      13,-999.0,20041220,1807,  22.7535, -158.0020,  4729,  810.500,    4.765,   34.389,2,   34.392,2,   38.300,2,   35.000,2,   94.960,2,   40.860,2,    3.030,2, -999.000
           NA,HOT timeseries 1988to2019 27SEP2021,    162,  99,-999.0,      36,-999.0,20041220,1807,  22.7535, -158.0020,  4729,  901.500,    4.452,   34.442,2,   34.442,2,   41.100,2,   40.800,2,  100.480,2,   40.930,2,    3.030,2, -999.000
           NA,HOT timeseries 1988to2019 27SEP2021,    162,  99,-999.0,      35,-999.0,20041220,1807,  22.7535, -158.0020,  4729,  940.300,    4.326,   34.455,2,   34.455,2,   43.700,2,   42.800,2,  102.780,2,   41.290,2,    3.030,2, -999.000
           NA,HOT timeseries 1988to2019 27SEP2021,    162,  99,-999.0,      33,-999.0,20041220,1807,  22.7535, -158.0020,  4729, 1020.800,    4.168,   34.487,2,   34.486,2,   42.600,2,   42.000,2,  106.080,2,   41.540,2,    3.060,2, -999.000
           NA,HOT timeseries 1988to2019 27SEP2021,    162,  99,-999.0,      41,-999.0,20041220,1807,  22.7535, -158.0020,  4729, 1201.200,    3.688,   34.530,2,   34.529,2,   48.400,2,   47.700,2,  114.480,2,   41.460,2,    3.060,2, -999.000
           NA,HOT timeseries 1988to2019 27SEP2021,    162,  99,-999.0,      19,-999.0,20041220,1807,  22.7535, -158.0020,  4729, 1400.100,    3.146,   34.555,2,   34.555,2,   59.600,2,   59.900,2,  127.060,2,   40.880,2,    2.980,2, -999.000
           NA,HOT timeseries 1988to2019 27SEP2021,    162,  99,-999.0,      18,-999.0,20041220,1807,  22.7535, -158.0020,  4729, 1603.700,    2.749,   34.585,2,   34.584,2,   68.100,2,   68.000,2,  135.180,2,   40.650,2,    2.940,2, -999.000
           NA,HOT timeseries 1988to2019 27SEP2021,    162,  99,-999.0,      17,-999.0,20041220,1807,  22.7535, -158.0020,  4729, 1800.600,    2.404,   34.605,2,   34.605,2,   78.900,2,   79.400,2,  142.920,2,   39.980,2,    2.890,2, -999.000
           NA,HOT timeseries 1988to2019 27SEP2021,    162,  99,-999.0,      16,-999.0,20041220,1807,  22.7535, -158.0020,  4729, 2000.400,    2.129,   34.620,2,   34.620,2,   89.500,2,   89.400,2,  149.480,2,   39.360,2,    2.850,2, -999.000
           NA,HOT timeseries 1988to2019 27SEP2021,    162,  99,-999.0,     102,-999.0,20041220,1807,  22.7535, -158.0020,  4729, 2201.500,    1.945,   34.633,2,   34.634,2,   97.600,2,   96.200,2,  153.980,2,   39.100,2,    2.810,2, -999.000
           NA,HOT timeseries 1988to2019 27SEP2021,    162,  99,-999.0,     101,-999.0,20041220,1807,  22.7535, -158.0020,  4729, 2401.000,    1.811,   34.644,2,   34.644,2,  101.500,2, -999.000,3,  155.230,2,   38.510,2,    2.760,2, -999.000
           NA,HOT timeseries 1988to2019 27SEP2021,    162,  99,-999.0,      42,-999.0,20041220,1807,  22.7535, -158.0020,  4729, 2599.900,    1.707,   34.655,2,   34.656,2,  112.100,2,  112.400,2,  155.580,2,   37.930,2,    2.720,2, -999.000
           NA,HOT timeseries 1988to2019 27SEP2021,    162,  99,-999.0,      12,-999.0,20041220,1807,  22.7535, -158.0020,  4729, 2800.300,    1.624,   34.662,2,   34.662,2,  118.000,2,  117.900,2,  157.070,2,   37.640,2,    2.700,2, -999.000
           NA,HOT timeseries 1988to2019 27SEP2021,    162,  99,-999.0,      39,-999.0,20041220,1807,  22.7535, -158.0020,  4729, 3000.700,    1.558,   34.669,2,   34.669,2,  124.100,2,  124.300,2,  157.290,2, -999.000,4, -999.000,4, -999.000
           NA,HOT timeseries 1988to2019 27SEP2021,    162,  99,-999.0,      11,-999.0,20041220,1807,  22.7535, -158.0020,  4729, 3200.400,    1.520,   34.674,2,   34.675,2,  129.600,2,  129.700,2,  156.010,2,   36.890,2,    2.640,2, -999.000
           NA,HOT timeseries 1988to2019 27SEP2021,    162,  99,-999.0,       3,-999.0,20041220,1807,  22.7535, -158.0020,  4729, 3400.600,    1.495,   34.679,2,   34.678,2,  134.200,2,  134.200,2,  155.720,2,   36.660,2,    2.600,2, -999.000
           NA,HOT timeseries 1988to2019 27SEP2021,    162,  99,-999.0,      29,-999.0,20041220,1807,  22.7535, -158.0020,  4729, 3600.500,    1.474,   34.682,2,   34.682,2,  139.400,2,  139.400,2,  153.620,2,   36.230,2,    2.600,2, -999.000
           NA,HOT timeseries 1988to2019 27SEP2021,    162,  99,-999.0,      28,-999.0,20041220,1807,  22.7535, -158.0020,  4729, 3801.200,    1.462,   34.685,2,   34.685,2,  143.700,2,  143.600,2,  152.820,2,   36.140,2,    2.560,2, -999.000
           NA,HOT timeseries 1988to2019 27SEP2021,    162,  99,-999.0,      13,-999.0,20041220,1807,  22.7535, -158.0020,  4729, 4000.000,    1.459,   34.687,2,   34.687,2,  147.400,2,  147.600,2,  150.490,2,   35.920,2,    2.530,2, -999.000
           NA,HOT timeseries 1988to2019 27SEP2021,    162,  99,-999.0,      38,-999.0,20041220,1807,  22.7535, -158.0020,  4729, 4199.000,    1.466,   34.689,2,   34.688,2,  149.500,2,  149.300,2,  149.110,2,   35.830,2,    2.500,2, -999.000
           NA,HOT timeseries 1988to2019 27SEP2021,    162,  99,-999.0,      36,-999.0,20041220,1807,  22.7535, -158.0020,  4729, 4399.800,    1.477,   34.690,2,   34.690,2,  151.500,2,  151.400,2,  148.540,2,   35.540,2,    2.490,2, -999.000
           NA,HOT timeseries 1988to2019 27SEP2021,    162,  99,-999.0,      35,-999.0,20041220,1807,  22.7535, -158.0020,  4729, 4501.100,    1.486,   34.690,2,   34.692,2,  152.000,2,  151.700,2,  148.510,2,   35.690,2,    2.500,2, -999.000
           NA,HOT timeseries 1988to2019 27SEP2021,    162,  99,-999.0,      34,-999.0,20041220,1807,  22.7535, -158.0020,  4729, 4601.000,    1.494,   34.690,2, -999.000,4, -999.000,3, -999.000,4, -999.000,4, -999.000,4, -999.000,4, -999.000
           NA,HOT timeseries 1988to2019 27SEP2021,    162,  99,-999.0,      33,-999.0,20041220,1807,  22.7535, -158.0020,  4729, 4800.400,    1.506,   34.691,2,   34.691,2,  154.400,2,  154.500,2,  146.720,2,   35.350,2,    2.480,2, -999.000
           NA,HOT timeseries 1988to2019 27SEP2021,    163,  99,-999.0,      23,-999.0,20050201,1900,  22.7497, -157.9993,  4799,    4.600,   24.157,   35.002,2,   35.003,2,  209.400,2,  209.000,2,    0.940,2,    0.060,2,    0.020,2, -999.000
           NA,HOT timeseries 1988to2019 27SEP2021,    163,  99,-999.0,      30,-999.0,20050201,1900,  22.7497, -157.9993,  4799,   43.200,   24.162,   35.002,2,   35.002,2,  209.700,2,  208.600,2,    0.910,2,    0.050,2,    0.020,2, -999.000
           NA,HOT timeseries 1988to2019 27SEP2021,    163,  99,-999.0,      22,-999.0,20050201,1900,  22.7497, -157.9993,  4799,   81.900,   23.829,   35.108,2,   35.108,2,  204.700,2,  204.400,2,    1.090,2,    0.080,2,    0.030,2, -999.000
           NA,HOT timeseries 1988to2019 27SEP2021,    163,  99,-999.0,      21,-999.0,20050201,1900,  22.7497, -157.9993,  4799,  139.800,   21.934,   35.241,2,   35.240,2,  198.700,2,  198.000,2,    1.540,2, -999.000,3,    0.080,2, -999.000
           NA,HOT timeseries 1988to2019 27SEP2021,    163,  99,-999.0,      41,-999.0,20050201,1900,  22.7497, -157.9993,  4799,  202.400,   19.298,   35.014,2,   35.011,2,  192.200,2,  191.900,2,    2.440,2,    2.470,2,    0.190,2, -999.000
           NA,HOT timeseries 1988to2019 27SEP2021,    163,  99,-999.0,      19,-999.0,20050201,1900,  22.7497, -157.9993,  4799,  252.600,   15.904,   34.585,2,   34.582,2,  204.700,2,  204.400,2,    4.520,2,    4.490,2, -999.000,4, -999.000
           NA,HOT timeseries 1988to2019 27SEP2021,    163,  99,-999.0,      18,-999.0,20050201,1900,  22.7497, -157.9993,  4799,  296.200,   14.166,   34.412,2,   34.409,2,  210.300,2,  210.800,2,    6.700,2,    6.820,2, -999.000,4, -999.000
           NA,HOT timeseries 1988to2019 27SEP2021,    163,  99,-999.0,      17,-999.0,20050201,1900,  22.7497, -157.9993,  4799,  340.100,   12.186,   34.245,2,   34.246,2,  209.000,2,  210.700,2,   10.500,2,   10.400,2, -999.000,4, -999.000
           NA,HOT timeseries 1988to2019 27SEP2021,    163,  99,-999.0,     102,-999.0,20050201,1900,  22.7497, -157.9993,  4799,  420.900,    9.591,   34.124,2,   34.124,2,  188.700,2,  187.900,2,   22.350,2,   18.130,2,    1.180,2, -999.000
           NA,HOT timeseries 1988to2019 27SEP2021,    163,  99,-999.0,     101,-999.0,20050201,1900,  22.7497, -157.9993,  4799,  454.800,    8.858,   34.099,2,   34.102,2,  174.600,2,  173.200,2,   27.590,2,   20.710,2,    1.410,2, -999.000
           NA,HOT timeseries 1988to2019 27SEP2021,    163,  99,-999.0,      30,-999.0,20050201,1900,  22.7497, -157.9993,  4799,  499.600,    7.598,   34.073,2,   34.079,2,  124.000,2,  123.000,2,   40.910,2,   27.650,2,    1.990,2, -999.000
           NA,HOT timeseries 1988to2019 27SEP2021,    163,  99,-999.0,      42,-999.0,20050201,1900,  22.7497, -157.9993,  4799,  514.700,    7.352,   34.091,2,   34.091,2,  109.200,2,  107.600,2,   45.590,2,   29.590,2,    2.170,2, -999.000
           NA,HOT timeseries 1988to2019 27SEP2021,    163,  99,-999.0,      12,-999.0,20050201,1900,  22.7497, -157.9993,  4799,  540.300,    6.898,   34.115,2,   34.114,2,   84.100,2,   84.300,2,   52.550,2,   32.230,2,    2.350,2, -999.000
           NA,HOT timeseries 1988to2019 27SEP2021,    163,  99,-999.0,      39,-999.0,20050201,1900,  22.7497, -157.9993,  4799,  582.000,    6.173,   34.151,2,   34.151,2,   59.600,2,   60.400,2,   64.700,2,   35.580,2,    2.640,2, -999.000
           NA,HOT timeseries 1988to2019 27SEP2021,    163,  99,-999.0,      33,-999.0,20050201,1900,  22.7497, -157.9993,  4799,  619.200,    5.827,   34.197,2,   34.195,2,   46.900,2,   46.800,2,   70.950,2,   37.420,2,    2.700,2, -999.000
           NA,HOT timeseries 1988to2019 27SEP2021,    163,  99,-999.0,       3,-999.0,20050201,1900,  22.7497, -157.9993,  4799,  670.200,    5.420,   34.275,2,   34.274,2,   36.900,2,   36.600,2,   82.870,2,   39.300,2, -999.000,4, -999.000
           NA,HOT timeseries 1988to2019 27SEP2021,    163,  99,-999.0,      28,-999.0,20050201,1900,  22.7497, -157.9993,  4799,  751.200,    4.996,   34.337,2,   34.337,2,   32.200,2,   31.500,2,   89.280,2,   40.450,2,    2.980,2, -999.000
           NA,HOT timeseries 1988to2019 27SEP2021,    163,  99,-999.0,      38,-999.0,20050201,1900,  22.7497, -157.9993,  4799,  847.600,    4.690,   34.425,2,   34.425,2,   32.600,2,   31.400,2,   95.080,2,   41.430,2,    3.040,2, -999.000
           NA,HOT timeseries 1988to2019 27SEP2021,    163,  99,-999.0,      35,-999.0,20050201,1900,  22.7497, -157.9993,  4799,  933.400,    4.456,   34.456,2,   34.456,2,   36.800,2,   36.500,2,  101.430,2,   41.660,2,    3.040,2, -999.000
           NA,HOT timeseries 1988to2019 27SEP2021,    163,  99,-999.0,      11,-999.0,20050201,1900,  22.7497, -157.9993,  4799, 1019.600,    4.180,   34.482,2,   34.486,2,   41.400,2,   41.400,2,  105.080,2,   41.530,2,    3.010,2, -999.000
           NA,HOT timeseries 1988to2019 27SEP2021,    163,  99,-999.0,      41,-999.0,20050201,1900,  22.7497, -157.9993,  4799, 1200.400,    3.659,   34.523,2,   34.522,2,   50.300,2,   50.700,2,  116.930,2,   41.340,2,    2.990,2, -999.000
           NA,HOT timeseries 1988to2019 27SEP2021,    163,  99,-999.0,      19,-999.0,20050201,1900,  22.7497, -157.9993,  4799, 1400.700,    3.101,   34.562,2,   34.563,2,   58.500,2,   58.600,2,  129.890,2,   41.050,2,    2.960,2, -999.000
           NA,HOT timeseries 1988to2019 27SEP2021,    163,  99,-999.0,      18,-999.0,20050201,1900,  22.7497, -157.9993,  4799, 1600.200,    2.729,   34.585,2,   34.588,2,   67.900,2,   68.800,2,  136.130,2,   40.600,2,    2.930,2, -999.000
           NA,HOT timeseries 1988to2019 27SEP2021,    163,  99,-999.0,      17,-999.0,20050201,1900,  22.7497, -157.9993,  4799, 1799.800,    2.405,   34.606,2,   34.606,2,   78.300,2,   78.500,2,  143.330,2,   40.150,2,    2.890,2, -999.000
           NA,HOT timeseries 1988to2019 27SEP2021,    163,  99,-999.0,      34,-999.0,20050201,1900,  22.7497, -157.9993,  4799, 2000.900,    2.150,   34.618,2,   34.619,2,   86.500,2,   87.900,2,  151.050,2,   39.720,2,    2.850,2, -999.000
           NA,HOT timeseries 1988to2019 27SEP2021,    163,  99,-999.0,     102,-999.0,20050201,1900,  22.7497, -157.9993,  4799, 2201.900,    1.958,   34.632,2,   34.632,2,   94.400,2,   95.700,2,  154.850,2,   39.080,2,    2.810,2, -999.000
           NA,HOT timeseries 1988to2019 27SEP2021,    163,  99,-999.0,     101,-999.0,20050201,1900,  22.7497, -157.9993,  4799, 2400.800,    1.812,   34.644,2,   34.645,2,  100.900,2,  102.200,2,  158.200,2,   38.640,2,    2.740,2, -999.000
           NA,HOT timeseries 1988to2019 27SEP2021,    163,  99,-999.0,      42,-999.0,20050201,1900,  22.7497, -157.9993,  4799, 2600.600,    1.699,   34.653,2,   34.654,2,  108.500,2,  109.200,2,  160.980,2,   38.270,2,    2.750,2, -999.000
           NA,HOT timeseries 1988to2019 27SEP2021,    163,  99,-999.0,      12,-999.0,20050201,1900,  22.7497, -157.9993,  4799, 2801.400,    1.600,   34.664,2,   34.666,2,  117.100,2,  117.700,2,  160.320,2,   37.740,2,    2.700,2, -999.000
           NA,HOT timeseries 1988to2019 27SEP2021,    163,  99,-999.0,      39,-999.0,20050201,1900,  22.7497, -157.9993,  4799, 3001.400,    1.555,   34.671,2,   34.671,2,  124.200,2,  125.000,2,  160.400,2,   37.220,2,    2.650,2, -999.000
           NA,HOT timeseries 1988to2019 27SEP2021,    163,  99,-999.0,      33,-999.0,20050201,1900,  22.7497, -157.9993,  4799, 3199.400,    1.508,   34.676,2,   34.678,2,  130.200,2,  130.700,2,  157.520,2,   36.840,2,    2.630,2, -999.000
           NA,HOT timeseries 1988to2019 27SEP2021,    163,  99,-999.0,       3,-999.0,20050201,1900,  22.7497, -157.9993,  4799, 3400.300,    1.477,   34.680,2,   34.680,2,  135.700,2,  136.100,2,  157.430,2,   36.440,2,    2.590,2, -999.000
           NA,HOT timeseries 1988to2019 27SEP2021,    163,  99,-999.0,      29,-999.0,20050201,1900,  22.7497, -157.9993,  4799, 3600.800,    1.458,   34.683,2,   34.684,2,  141.200,2,  141.000,2,  154.970,2,   36.210,2,    2.570,2, -999.000
           NA,HOT timeseries 1988to2019 27SEP2021,    163,  99,-999.0,      28,-999.0,20050201,1900,  22.7497, -157.9993,  4799, 3800.600,    1.452,   34.686,2,   34.688,2,  144.800,2, -999.000,4,  153.150,2,   35.900,2,    2.540,2, -999.000
           NA,HOT timeseries 1988to2019 27SEP2021,    163,  99,-999.0,      13,-999.0,20050201,1900,  22.7497, -157.9993,  4799, 4001.800,    1.456,   34.687,2,   34.688,2,  147.600,2,  147.400,2, -999.000,3,   35.700,2,    2.520,2, -999.000
           NA,HOT timeseries 1988to2019 27SEP2021,    163,  99,-999.0,      38,-999.0,20050201,1900,  22.7497, -157.9993,  4799, 4200.100,    1.464,   34.688,2,   34.692,2,  150.100,2, -999.000,3,  150.040,2,   35.830,2,    2.530,2, -999.000
           NA,HOT timeseries 1988to2019 27SEP2021,    163,  99,-999.0,      36,-999.0,20050201,1900,  22.7497, -157.9993,  4799, 4400.600,    1.478,   34.689,2,   34.690,2,  151.800,2,  151.000,2,  150.180,2,   35.600,2,    2.510,2, -999.000
           NA,HOT timeseries 1988to2019 27SEP2021,    163,  99,-999.0,      35,-999.0,20050201,1900,  22.7497, -157.9993,  4799, 4501.200,    1.484,   34.690,2,   34.690,2,  152.600,2,  151.900,2,  147.480,2,   35.560,2,    2.510,2, -999.000
           NA,HOT timeseries 1988to2019 27SEP2021,    163,  99,-999.0,       7,-999.0,20050201,1900,  22.7497, -157.9993,  4799, 4601.000,    1.493,   34.690,2,   34.690,2,  153.300,2,  152.500,2,  146.830,2,   35.310,2,    2.480,2, -999.000
           NA,HOT timeseries 1988to2019 27SEP2021,    163,  99,-999.0,      11,-999.0,20050201,1900,  22.7497, -157.9993,  4799, 4800.100,    1.511,   34.690,2,   34.693,2,  154.000,2,  153.300,2, -999.000,3,   35.320,2,    2.480,2, -999.000