BOTTLE,20214727JOAExport
EXPOCODE,SECT_ID,STNNBR,CASTNO,SAMPNO,BTLNBR,BTLNBR_FLAG_W,DATE,TIME,LATITUDE,LONGITUDE,DEPTH,CTDPRS,CTDTMP,CTDSAL,CTDSAL_FLAG_W,SALNTY,SALNTY_FLAG_W,CTDOXY,CTDOXY_FLAG_W,OXYGEN,OXYGEN_FLAG_W,SILCAT,SILCAT_FLAG_W,NINI,NINI_FLAG_W,PHSPHT,PHSPHT_FLAG_W,REVP
,,,,,,,,,,,,DB,IPTS-68,PSS-78,,PSS-78,,UMOL/KG,,UMOL/KG,,UMOL/KG,,UMOL/KG,,UMOL/KG,,DBAR
           NA,HOT timeseries 1988to2019 27SEP2021,    105,  99,-999.0,      31,-999.0,19991108,1836,  22.7622, -157.9952,  4713,    4.300,   25.381,   35.311,2,   35.312,2,  206.000,2,  206.400,2,    1.230,2,    0.000,2,    0.040,2, -999.000
           NA,HOT timeseries 1988to2019 27SEP2021,    105,  99,-999.0,      31,-999.0,19991108,1836,  22.7622, -157.9952,  4713,    4.800,   25.461,   35.344,2,   35.346,2,  206.400,2,  206.400,2,    1.350,2,    0.030,2,    0.080,2, -999.000
           NA,HOT timeseries 1988to2019 27SEP2021,    105,  99,-999.0,      30,-999.0,19991108,1836,  22.7622, -157.9952,  4713,    9.100,   25.378,   35.311,2, -999.000,3, -999.000,3,  206.500,2,    1.100,2,    0.000,2,    0.030,2, -999.000
           NA,HOT timeseries 1988to2019 27SEP2021,    105,  99,-999.0,      22,-999.0,19991108,1836,  22.7622, -157.9952,  4713,   78.400,   23.566,   35.286,2,   35.287,2,  217.600,2,  216.600,2,    1.400,2,    0.000,2,    0.040,2, -999.000
           NA,HOT timeseries 1988to2019 27SEP2021,    105,  99,-999.0,      21,-999.0,19991108,1836,  22.7622, -157.9952,  4713,   93.800,   22.754,   35.301,2, -999.000,4, -999.000,3,  215.000,2,    1.420,2,    0.000,2,    0.050,2, -999.000
           NA,HOT timeseries 1988to2019 27SEP2021,    105,  99,-999.0,      20,-999.0,19991108,1836,  22.7622, -157.9952,  4713,  115.600,   21.872,   35.271,2,   35.274,2,  201.200,2,  203.800,2,    1.590,2,    0.570,2,    0.100,2, -999.000
           NA,HOT timeseries 1988to2019 27SEP2021,    105,  99,-999.0,      19,-999.0,19991108,1836,  22.7622, -157.9952,  4713,  165.200,   19.772,   35.172,2, -999.000,3, -999.000,3,  198.700,2,    2.570,2,    1.750,2,    0.190,2, -999.000
           NA,HOT timeseries 1988to2019 27SEP2021,    105,  99,-999.0,      18,-999.0,19991108,1836,  22.7622, -157.9952,  4713,  191.900,   17.542,   34.865,2,   34.867,2,  198.300,2,  199.100,2,    3.610,2,    3.300,2,    0.270,2, -999.000
           NA,HOT timeseries 1988to2019 27SEP2021,    105,  99,-999.0,      17,-999.0,19991108,1836,  22.7622, -157.9952,  4713,  218.200,   16.148,   34.692,2,   34.691,2,  203.200,2,  202.600,2,    5.810,2,    4.420,2,    0.350,2, -999.000
           NA,HOT timeseries 1988to2019 27SEP2021,    105,  99,-999.0,      16,-999.0,19991108,1836,  22.7622, -157.9952,  4713,  316.900,   12.051,   34.289,2,   34.300,2,  209.600,2, -999.000,3,   10.550,2,   10.090,2,    0.720,2, -999.000
           NA,HOT timeseries 1988to2019 27SEP2021,    105,  99,-999.0,      15,-999.0,19991108,1836,  22.7622, -157.9952,  4713,  373.900,   10.512,   34.211,2,   34.212,2,  205.500,2,  206.500,2,   16.880,2,   14.020,2,    1.020,2, -999.000
           NA,HOT timeseries 1988to2019 27SEP2021,    105,  99,-999.0,      14,-999.0,19991108,1836,  22.7622, -157.9952,  4713,  399.600,    9.909,   34.156,2,   34.159,2,  195.500,2,  196.400,2,   19.720,2,   15.990,2,    1.120,2, -999.000
           NA,HOT timeseries 1988to2019 27SEP2021,    105,  99,-999.0,      13,-999.0,19991108,1836,  22.7622, -157.9952,  4713,  446.300,    8.653,   34.079,2,   34.092,2,  171.400,2,  169.300,2, -999.000,3, -999.000,3,    1.400,2, -999.000
           NA,HOT timeseries 1988to2019 27SEP2021,    105,  99,-999.0,      12,-999.0,19991108,1836,  22.7622, -157.9952,  4713,  513.900,    6.922,   34.026,2,   34.026,2,  125.500,2,  125.800,2,   46.520,2,   28.000,2,    2.040,2, -999.000
           NA,HOT timeseries 1988to2019 27SEP2021,    105,  99,-999.0,      11,-999.0,19991108,1836,  22.7622, -157.9952,  4713,  539.200,    6.459,   34.029,2,   34.031,2,  110.300,2,  107.600,2,   53.520,2,   30.860,2,    2.240,2, -999.000
           NA,HOT timeseries 1988to2019 27SEP2021,    105,  99,-999.0,       3,-999.0,19991108,1836,  22.7622, -157.9952,  4713,  589.700,    5.734,   34.062,2,   34.062,2,   75.000,2,   73.100,2,   67.590,2,   35.390,2,    2.510,2, -999.000
           NA,HOT timeseries 1988to2019 27SEP2021,    105,  99,-999.0,      29,-999.0,19991108,1836,  22.7622, -157.9952,  4713,  634.400,    5.280,   34.112,2,   34.115,2,   51.000,2,   50.600,2,   78.000,2,   37.990,2,    2.760,2, -999.000
           NA,HOT timeseries 1988to2019 27SEP2021,    105,  99,-999.0,      28,-999.0,19991108,1836,  22.7622, -157.9952,  4713,  699.200,    4.881,   34.193,2,   34.190,2,   30.400,2, -999.000,5,   89.030,2,   40.180,2,    2.940,2, -999.000
           NA,HOT timeseries 1988to2019 27SEP2021,    105,  99,-999.0,      38,-999.0,19991108,1836,  22.7622, -157.9952,  4713,  800.000,    4.635,   34.311,2,   34.311,2,   31.000,2,   28.900,2,   96.810,2,   40.670,2,    3.000,2, -999.000
           NA,HOT timeseries 1988to2019 27SEP2021,    105,  99,-999.0,      35,-999.0,19991108,1836,  22.7622, -157.9952,  4713,  898.900,    4.273,   34.416,2,   34.416,2,   34.200,2, -999.000,5,  105.260,2,   41.370,2,    3.020,2, -999.000
           NA,HOT timeseries 1988to2019 27SEP2021,    105,  99,-999.0,      34,-999.0,19991108,1836,  22.7622, -157.9952,  4713,  981.000,    3.950,   34.467,2,   34.469,2,   41.400,2, -999.000,5,  111.870,2,   41.380,2,    3.020,2, -999.000
           NA,HOT timeseries 1988to2019 27SEP2021,    105,  99,-999.0,      33,-999.0,19991108,1836,  22.7622, -157.9952,  4713, 1021.800,    3.813,   34.479,2,   34.479,2,   43.300,2,   42.900,2,  114.530,2,   41.400,2,    3.030,2, -999.000
           NA,HOT timeseries 1988to2019 27SEP2021,    105,  99,-999.0,      20,-999.0,19991108,1836,  22.7622, -157.9952,  4713, 1204.100,    3.451,   34.531,2,   34.531,2,   51.600,2, -999.000,4,  122.860,2,   41.000,2,    3.000,2, -999.000
           NA,HOT timeseries 1988to2019 27SEP2021,    105,  99,-999.0,      19,-999.0,19991108,1836,  22.7622, -157.9952,  4713, 1400.200,    3.012,   34.559,2,   34.559,2,   61.000,2, -999.000,4,  133.030,2,   41.140,2,    2.950,2, -999.000
           NA,HOT timeseries 1988to2019 27SEP2021,    105,  99,-999.0,      18,-999.0,19991108,1836,  22.7622, -157.9952,  4713, 1601.400,    2.695,   34.580,2,   34.579,2,   69.400,2, -999.000,4,  141.390,2,   40.440,2,    2.920,2, -999.000
           NA,HOT timeseries 1988to2019 27SEP2021,    105,  99,-999.0,      17,-999.0,19991108,1836,  22.7622, -157.9952,  4713, 1799.300,    2.399,   34.599,2,   34.602,2,   77.000,2, -999.000,4,  145.790,2,   40.000,2,    2.890,2, -999.000
           NA,HOT timeseries 1988to2019 27SEP2021,    105,  99,-999.0,      16,-999.0,19991108,1836,  22.7622, -157.9952,  4713, 2002.600,    2.146,   34.617,2,   34.617,2,   85.100,2,   86.800,2,  152.700,2,   39.580,2,    2.830,2, -999.000
           NA,HOT timeseries 1988to2019 27SEP2021,    105,  99,-999.0,      15,-999.0,19991108,1836,  22.7622, -157.9952,  4713, 2198.500,    1.969,   34.631,2,   34.630,2,   91.900,2,   92.600,2,  156.710,2,   38.800,2,    2.810,2, -999.000
           NA,HOT timeseries 1988to2019 27SEP2021,    105,  99,-999.0,      14,-999.0,19991108,1836,  22.7622, -157.9952,  4713, 2400.800,    1.837,   34.643,2,   34.643,2,   99.100,2, -999.000,4,  159.150,2,   38.430,2,    2.790,2, -999.000
           NA,HOT timeseries 1988to2019 27SEP2021,    105,  99,-999.0,      13,-999.0,19991108,1836,  22.7622, -157.9952,  4713, 2596.600,    1.724,   34.653,2,   34.653,2,  107.100,2,  107.200,2,  159.740,2,   38.100,2,    2.730,2, -999.000
           NA,HOT timeseries 1988to2019 27SEP2021,    105,  99,-999.0,      12,-999.0,19991108,1836,  22.7622, -157.9952,  4713, 2799.300,    1.636,   34.662,2,   34.662,2,  115.900,2,  116.900,2, -999.000,3,   37.680,2,    2.680,2, -999.000
           NA,HOT timeseries 1988to2019 27SEP2021,    105,  99,-999.0,      11,-999.0,19991108,1836,  22.7622, -157.9952,  4713, 2998.000,    1.576,   34.669,2,   34.668,2,  122.600,2, -999.000,4,  159.810,2,   37.370,2,    2.650,2, -999.000
           NA,HOT timeseries 1988to2019 27SEP2021,    105,  99,-999.0,      32,-999.0,19991108,1836,  22.7622, -157.9952,  4713, 3200.800,    1.519,   34.675,2,   34.676,2,  130.100,2,  129.400,2,  158.630,2,   36.870,2,    2.650,2, -999.000
           NA,HOT timeseries 1988to2019 27SEP2021,    105,  99,-999.0,       3,-999.0,19991108,1836,  22.7622, -157.9952,  4713, 3400.400,    1.489,   34.680,2,   34.682,2,  136.300,2, -999.000,4,  156.900,2,   36.590,2,    2.580,2, -999.000
           NA,HOT timeseries 1988to2019 27SEP2021,    105,  99,-999.0,      29,-999.0,19991108,1836,  22.7622, -157.9952,  4713, 3598.700,    1.478,   34.682,2,   34.683,2,  140.500,2,  141.800,2,  155.940,2,   36.480,2,    2.560,2, -999.000
           NA,HOT timeseries 1988to2019 27SEP2021,    105,  99,-999.0,      28,-999.0,19991108,1836,  22.7622, -157.9952,  4713, 3798.300,    1.465,   34.685,2,   34.686,2,  144.800,2, -999.000,4,  154.810,2,   36.060,2, -999.000,3, -999.000
           NA,HOT timeseries 1988to2019 27SEP2021,    105,  99,-999.0,       7,-999.0,19991108,1836,  22.7622, -157.9952,  4713, 3999.200,    1.457,   34.688,2,   34.687,2,  149.900,2,  149.200,2,  152.840,2,   35.780,2, -999.000,3, -999.000
           NA,HOT timeseries 1988to2019 27SEP2021,    105,  99,-999.0,      38,-999.0,19991108,1836,  22.7622, -157.9952,  4713, 4199.100,    1.463,   34.689,2,   34.689,2,  152.800,2, -999.000,4,  151.040,2, -999.000,3,    2.520,2, -999.000
           NA,HOT timeseries 1988to2019 27SEP2021,    105,  99,-999.0,      36,-999.0,19991108,1836,  22.7622, -157.9952,  4713, 4398.900,    1.475,   34.690,2,   34.690,2,  155.000,2, -999.000,4,  150.050,2, -999.000,3,    2.520,2, -999.000
           NA,HOT timeseries 1988to2019 27SEP2021,    105,  99,-999.0,      35,-999.0,19991108,1836,  22.7622, -157.9952,  4713, 4499.400,    1.484,   34.690,2,   34.690,2,  155.300,2,  154.600,2,  150.720,2, -999.000,3,    2.510,2, -999.000
           NA,HOT timeseries 1988to2019 27SEP2021,    105,  99,-999.0,      34,-999.0,19991108,1836,  22.7622, -157.9952,  4713, 4598.400,    1.495,   34.690,2,   34.690,2,  155.600,2, -999.000,4,  149.550,2,   35.550,2,    2.510,2, -999.000
           NA,HOT timeseries 1988to2019 27SEP2021,    105,  99,-999.0,      33,-999.0,19991108,1836,  22.7622, -157.9952,  4713, 4797.100,    1.509,   34.691,2,   34.691,2,  156.400,2, -999.000,4,  148.270,2,   35.510,2,    2.480,2, -999.000