BOTTLE,20214727JOAExport
EXPOCODE,SECT_ID,STNNBR,CASTNO,SAMPNO,BTLNBR,BTLNBR_FLAG_W,DATE,TIME,LATITUDE,LONGITUDE,DEPTH,CTDPRS,CTDTMP,CTDSAL,CTDSAL_FLAG_W,SALNTY,SALNTY_FLAG_W,CTDOXY,CTDOXY_FLAG_W,OXYGEN,OXYGEN_FLAG_W,SILCAT,SILCAT_FLAG_W,NINI,NINI_FLAG_W,PHSPHT,PHSPHT_FLAG_W,REVP
,,,,,,,,,,,,DB,IPTS-68,PSS-78,,PSS-78,,UMOL/KG,,UMOL/KG,,UMOL/KG,,UMOL/KG,,UMOL/KG,,DBAR
           NA,HOT timeseries 1988to2019 27SEP2021,     65,  99,-999.0,      31,-999.0,19960116,1035,  22.7495, -157.9993,  4724,    4.500,   24.757,   34.855,2,   34.868,2,  213.200,2,  209.600,2,    1.070,2,    0.000,2,    0.120,2, -999.000
           NA,HOT timeseries 1988to2019 27SEP2021,     65,  99,-999.0,      31,-999.0,19960116,1035,  22.7495, -157.9993,  4724,    5.000,   24.758,   34.864,2,   34.864,2,  212.200,2,  208.900,2,    1.050,2,    0.000,2,    0.100,2, -999.000
           NA,HOT timeseries 1988to2019 27SEP2021,     65,  99,-999.0,      30,-999.0,19960116,1035,  22.7495, -157.9993,  4724,   41.600,   24.545,   34.877,2,   34.879,2,  212.800,2,  210.000,2,    1.040,2,    0.000,2,    0.100,2, -999.000
           NA,HOT timeseries 1988to2019 27SEP2021,     65,  99,-999.0,      22,-999.0,19960116,1035,  22.7495, -157.9993,  4724,   91.300,   22.990,   35.101,2,   35.101,2,  217.000,2,  213.400,2,    1.360,2,    0.020,2,    0.090,2, -999.000
           NA,HOT timeseries 1988to2019 27SEP2021,     65,  99,-999.0,      21,-999.0,19960116,1035,  22.7495, -157.9993,  4724,  114.800,   21.296,   35.113,2,   35.112,2,  202.100,2,  202.000,2,    1.600,2,    0.760,2,    0.180,2, -999.000
           NA,HOT timeseries 1988to2019 27SEP2021,     65,  99,-999.0,      30,-999.0,19960116,1035,  22.7495, -157.9993,  4724,  149.600,   20.528,   35.140,2,   35.144,2,  204.600,2,  199.900,2,    1.640,2,    1.210,2,    0.210,2, -999.000
           NA,HOT timeseries 1988to2019 27SEP2021,     65,  99,-999.0,      20,-999.0,19960116,1035,  22.7495, -157.9993,  4724,  155.300,   20.132,   35.137,2,   35.136,2,  203.000,2,  198.600,2,    1.950,2,    1.470,2,    0.200,2, -999.000
           NA,HOT timeseries 1988to2019 27SEP2021,     65,  99,-999.0,      19,-999.0,19960116,1035,  22.7495, -157.9993,  4724,  174.300,   19.234,   35.068,2,   35.076,2,  201.000,2,  199.400,2,    2.290,2,    1.910,2,    0.220,2, -999.000
           NA,HOT timeseries 1988to2019 27SEP2021,     65,  99,-999.0,      18,-999.0,19960116,1035,  22.7495, -157.9993,  4724,  250.300,   15.686,   34.638,2,   34.639,2,  207.800,2,  203.100,2,    5.130,2,    5.160,2,    0.430,2, -999.000
           NA,HOT timeseries 1988to2019 27SEP2021,     65,  99,-999.0,      17,-999.0,19960116,1035,  22.7495, -157.9993,  4724,  319.600,   12.059,   34.255,2,   34.256,2,  191.600,2,  193.800,2,   11.090,2,   11.850,2,    0.880,2, -999.000
           NA,HOT timeseries 1988to2019 27SEP2021,     65,  99,-999.0,      16,-999.0,19960116,1035,  22.7495, -157.9993,  4724,  356.300,   10.439,   34.163,2,   34.161,2,  202.300,2,  198.100,2,   16.480,2,   15.270,2,    1.100,2, -999.000
           NA,HOT timeseries 1988to2019 27SEP2021,     65,  99,-999.0,      15,-999.0,19960116,1035,  22.7495, -157.9993,  4724,  408.700,    9.026,   34.140,2,   34.139,2,  145.800,2,  139.900,2,   28.600,2, -999.000,3, -999.000,3, -999.000
           NA,HOT timeseries 1988to2019 27SEP2021,     65,  99,-999.0,      14,-999.0,19960116,1035,  22.7495, -157.9993,  4724,  475.100,    7.472,   34.070,2,   34.070,2,  122.800,2,  122.500,2,   41.820,2,   28.000,2,    2.020,2, -999.000
           NA,HOT timeseries 1988to2019 27SEP2021,     65,  99,-999.0,      13,-999.0,19960116,1035,  22.7495, -157.9993,  4724,  499.800,    7.111,   34.072,2,   34.071,2,  111.800,2,  109.200,2,   46.860,2,   29.790,2,    2.170,2, -999.000
           NA,HOT timeseries 1988to2019 27SEP2021,     65,  99,-999.0,      12,-999.0,19960116,1035,  22.7495, -157.9993,  4724,  516.100,    6.777,   34.071,2,   34.071,2,  100.100,2,   99.000,2,   51.050,2,   31.300,2,    2.280,2, -999.000
           NA,HOT timeseries 1988to2019 27SEP2021,     65,  99,-999.0,      11,-999.0,19960116,1035,  22.7495, -157.9993,  4724,  565.400,    5.931,   34.096,2,   34.095,2,   63.700,2,   64.200,2,   65.510,2,   35.950,2,    2.610,2, -999.000
           NA,HOT timeseries 1988to2019 27SEP2021,     65,  99,-999.0,      32,-999.0,19960116,1035,  22.7495, -157.9993,  4724,  625.100,    5.454,   34.148,2,   34.150,2,   44.700,2,   42.700,2,   76.140,2,   38.470,2,    2.810,2, -999.000
           NA,HOT timeseries 1988to2019 27SEP2021,     65,  99,-999.0,       3,-999.0,19960116,1035,  22.7495, -157.9993,  4724,  685.800,    5.155,   34.256,2,   34.258,2,   31.800,2,   30.700,2,   84.280,2,   40.260,2,    2.930,2, -999.000
           NA,HOT timeseries 1988to2019 27SEP2021,     65,  99,-999.0,      29,-999.0,19960116,1035,  22.7495, -157.9993,  4724,  699.800,    5.094,   34.283,2,   34.282,2,   29.700,2,   28.200,2,   86.820,2,   40.860,2,    2.980,2, -999.000
           NA,HOT timeseries 1988to2019 27SEP2021,     65,  99,-999.0,      28,-999.0,19960116,1035,  22.7495, -157.9993,  4724,  724.800,    4.801,   34.285,2,   34.285,2,   22.000,2,   22.600,2,   91.890,2,   41.570,2,    3.040,2, -999.000
           NA,HOT timeseries 1988to2019 27SEP2021,     65,  99,-999.0,       7,-999.0,19960116,1035,  22.7495, -157.9993,  4724,  750.900,    4.896,   34.347,2,   34.346,2,   28.300,2,   26.900,2,   91.440,2,   41.330,2,    3.020,2, -999.000
           NA,HOT timeseries 1988to2019 27SEP2021,     65,  99,-999.0,      38,-999.0,19960116,1035,  22.7495, -157.9993,  4724,  800.000,    4.766,   34.408,2,   34.409,2,   28.700,2,   28.300,2,   93.610,2,   41.610,2,    3.030,2, -999.000
           NA,HOT timeseries 1988to2019 27SEP2021,     65,  99,-999.0,      36,-999.0,19960116,1035,  22.7495, -157.9993,  4724,  833.700,    4.706,   34.437,2,   34.436,2,   31.000,2,   31.700,2,   94.810,2,   42.050,2,    3.050,2, -999.000
           NA,HOT timeseries 1988to2019 27SEP2021,     65,  99,-999.0,      35,-999.0,19960116,1035,  22.7495, -157.9993,  4724,  900.300,    4.477,   34.461,2,   34.460,2,   34.000,2,   33.600,2,   99.130,2,   42.080,2,    3.050,2, -999.000
           NA,HOT timeseries 1988to2019 27SEP2021,     65,  99,-999.0,      34,-999.0,19960116,1035,  22.7495, -157.9993,  4724,  992.400,    4.148,   34.496,2,   34.495,2,   38.300,2,   38.600,2,  104.930,2,   42.170,2,    3.050,2, -999.000
           NA,HOT timeseries 1988to2019 27SEP2021,     65,  99,-999.0,      20,-999.0,19960116,1035,  22.7495, -157.9993,  4724,  999.200,    4.166,   34.492,2,   34.491,2,   39.300,2,   38.200,2,  105.470,2,   41.800,2,    3.010,2, -999.000
           NA,HOT timeseries 1988to2019 27SEP2021,     65,  99,-999.0,      33,-999.0,19960116,1035,  22.7495, -157.9993,  4724, 1021.100,    4.083,   34.498,2,   34.498,2,   39.600,2,   40.500,2,  107.050,2,   42.160,2,    3.050,2, -999.000
           NA,HOT timeseries 1988to2019 27SEP2021,     65,  99,-999.0,      19,-999.0,19960116,1035,  22.7495, -157.9993,  4724, 1397.100,    3.138,   34.560,2,   34.558,2,   59.300,2,   59.000,2,  126.670,2,   41.280,2,    2.950,2, -999.000
           NA,HOT timeseries 1988to2019 27SEP2021,     65,  99,-999.0,      18,-999.0,19960116,1035,  22.7495, -157.9993,  4724, 1600.900,    2.690,   34.583,2,   34.581,2,   70.500,2,   70.800,2,  137.470,2,   40.710,2,    2.900,2, -999.000
           NA,HOT timeseries 1988to2019 27SEP2021,     65,  99,-999.0,      17,-999.0,19960116,1035,  22.7495, -157.9993,  4724, 1798.300,    2.425,   34.600,2,   34.598,2,   78.400,2,   78.900,2, -999.000,3, -999.000,3, -999.000,3, -999.000
           NA,HOT timeseries 1988to2019 27SEP2021,     65,  99,-999.0,      16,-999.0,19960116,1035,  22.7495, -157.9993,  4724, 1998.900,    2.188,   34.617,2,   34.615,2,   87.600,2,   87.600,2, -999.000,3,   40.080,2,    2.850,2, -999.000
           NA,HOT timeseries 1988to2019 27SEP2021,     65,  99,-999.0,      15,-999.0,19960116,1035,  22.7495, -157.9993,  4724, 2199.800,    1.979,   34.631,2,   34.630,2,   94.900,2,   94.900,2,  153.250,2,   39.380,2,    2.790,2, -999.000
           NA,HOT timeseries 1988to2019 27SEP2021,     65,  99,-999.0,      14,-999.0,19960116,1035,  22.7495, -157.9993,  4724, 2399.400,    1.834,   34.643,2,   34.642,2,  100.700,2,  101.600,2,  157.190,2,   38.930,2,    2.750,2, -999.000
           NA,HOT timeseries 1988to2019 27SEP2021,     65,  99,-999.0,      13,-999.0,19960116,1035,  22.7495, -157.9993,  4724, 2599.300,    1.722,   34.652,2,   34.652,2,  107.100,2,  108.300,2,  158.180,2,   38.540,2,    2.730,2, -999.000
           NA,HOT timeseries 1988to2019 27SEP2021,     65,  99,-999.0,      12,-999.0,19960116,1035,  22.7495, -157.9993,  4724, 2798.500,    1.628,   34.662,2,   34.661,2,  115.200,2,  117.400,2, -999.000,5, -999.000,5, -999.000,5, -999.000
           NA,HOT timeseries 1988to2019 27SEP2021,     65,  99,-999.0,      11,-999.0,19960116,1035,  22.7495, -157.9993,  4724, 2999.800,    1.567,   34.668,2,   34.666,2,  122.100,2,  122.900,2,  158.770,2,   37.580,2,    2.650,2, -999.000
           NA,HOT timeseries 1988to2019 27SEP2021,     65,  99,-999.0,      32,-999.0,19960116,1035,  22.7495, -157.9993,  4724, 3200.100,    1.525,   34.675,2,   34.673,2,  128.500,2,  129.000,2,  158.270,2,   37.350,2,    2.620,2, -999.000
           NA,HOT timeseries 1988to2019 27SEP2021,     65,  99,-999.0,       3,-999.0,19960116,1035,  22.7495, -157.9993,  4724, 3399.000,    1.500,   34.679,2,   34.678,2,  133.100,2,  134.300,2,  157.100,2,   36.950,2,    2.590,2, -999.000
           NA,HOT timeseries 1988to2019 27SEP2021,     65,  99,-999.0,      29,-999.0,19960116,1035,  22.7495, -157.9993,  4724, 3599.800,    1.479,   34.681,2,   34.679,2,  138.800,2,  139.600,2,  154.720,2,   36.620,2,    2.570,2, -999.000
           NA,HOT timeseries 1988to2019 27SEP2021,     65,  99,-999.0,       7,-999.0,19960116,1035,  22.7495, -157.9993,  4724, 3998.900,    1.463,   34.686,2,   34.685,2,  147.200,2,  147.600,2,  151.790,2,   36.140,2,    2.530,2, -999.000
           NA,HOT timeseries 1988to2019 27SEP2021,     65,  99,-999.0,      38,-999.0,19960116,1035,  22.7495, -157.9993,  4724, 4197.600,    1.466,   34.688,2,   34.687,2,  150.100,2,  150.300,2,  149.700,2,   36.030,2,    2.520,2, -999.000
           NA,HOT timeseries 1988to2019 27SEP2021,     65,  99,-999.0,      36,-999.0,19960116,1035,  22.7495, -157.9993,  4724, 4397.600,    1.477,   34.689,2,   34.689,2,  152.300,2,  152.300,2,  148.100,2,   35.730,2,    2.490,2, -999.000
           NA,HOT timeseries 1988to2019 27SEP2021,     65,  99,-999.0,      35,-999.0,19960116,1035,  22.7495, -157.9993,  4724, 4500.300,    1.486,   34.689,2,   34.687,2,  153.600,2,  152.600,2,  147.960,2,   35.640,2,    2.490,2, -999.000
           NA,HOT timeseries 1988to2019 27SEP2021,     65,  99,-999.0,      34,-999.0,19960116,1035,  22.7495, -157.9993,  4724, 4598.900,    1.495,   34.689,2,   34.688,2,  153.800,2,  153.100,2,  147.590,2,   35.750,2,    2.490,2, -999.000
           NA,HOT timeseries 1988to2019 27SEP2021,     65,  99,-999.0,      33,-999.0,19960116,1035,  22.7495, -157.9993,  4724, 4810.300,    1.509,   34.690,2,   34.691,2,  156.300,2,  154.800,2,  147.290,2,   35.940,2,    2.480,2, -999.000