BOTTLE,20214727JOAExport
EXPOCODE,SECT_ID,STNNBR,CASTNO,SAMPNO,BTLNBR,BTLNBR_FLAG_W,DATE,TIME,LATITUDE,LONGITUDE,DEPTH,CTDPRS,CTDTMP,CTDSAL,CTDSAL_FLAG_W,SALNTY,SALNTY_FLAG_W,CTDOXY,CTDOXY_FLAG_W,OXYGEN,OXYGEN_FLAG_W,SILCAT,SILCAT_FLAG_W,NINI,NINI_FLAG_W,PHSPHT,PHSPHT_FLAG_W,REVP
,,,,,,,,,,,,DB,IPTS-68,PSS-78,,PSS-78,,UMOL/KG,,UMOL/KG,,UMOL/KG,,UMOL/KG,,UMOL/KG,,DBAR
           NA,HOT timeseries 1988to2019 27SEP2021,    172,  99,-999.0,      24,-999.0,20051212,2102,  22.7485, -158.0095,  4721,    4.500,   24.987,   35.195,2,   35.197,2,  206.300,2,  206.400,2,    1.000,2,    0.040,2,    0.020,2, -999.000
           NA,HOT timeseries 1988to2019 27SEP2021,    172,  99,-999.0,      23,-999.0,20051212,2102,  22.7485, -158.0095,  4721,   49.700,   25.000,   35.294,2,   35.297,2,  206.700,2,  207.100,2,    0.990,2,    0.050,2,    0.000,2, -999.000
           NA,HOT timeseries 1988to2019 27SEP2021,    172,  99,-999.0,      22,-999.0,20051212,2102,  22.7485, -158.0095,  4721,   96.600,   23.785,   35.252,2, -999.000,3, -999.000,3,  209.600,2,    1.130,2,    0.080,2,    0.010,2, -999.000
           NA,HOT timeseries 1988to2019 27SEP2021,    172,  99,-999.0,      21,-999.0,20051212,2102,  22.7485, -158.0095,  4721,  124.900,   21.854,   35.213,2,   35.216,2,  204.300,2,  205.000,2,    1.410,2,    0.420,2,    0.050,2, -999.000
           NA,HOT timeseries 1988to2019 27SEP2021,    172,  99,-999.0,      20,-999.0,20051212,2102,  22.7485, -158.0095,  4721,  186.500,   19.046,   34.912,2,   34.921,2,  191.100,2,  192.400,2,    2.570,2,    2.600,2,    0.230,2, -999.000
           NA,HOT timeseries 1988to2019 27SEP2021,    172,  99,-999.0,      19,-999.0,20051212,2102,  22.7485, -158.0095,  4721,  240.500,   15.080,   34.418,2,   34.421,2,  198.300,2,  198.700,2, -999.000,3,    6.000,2,    0.480,2, -999.000
           NA,HOT timeseries 1988to2019 27SEP2021,    172,  99,-999.0,      18,-999.0,20051212,2102,  22.7485, -158.0095,  4721,  280.300,   13.128,   34.176,2,   34.188,2,  195.700,2,  194.300,2, -999.000,3,    8.880,2,    0.700,2, -999.000
           NA,HOT timeseries 1988to2019 27SEP2021,    172,  99,-999.0,      16,-999.0,20051212,2102,  22.7485, -158.0095,  4721,  350.000,   10.449,   34.130,2,   34.137,2,  186.800,2,  186.400,2,   16.730,2,   16.090,2,    1.160,2, -999.000
           NA,HOT timeseries 1988to2019 27SEP2021,    172,  99,-999.0,      15,-999.0,20051212,2102,  22.7485, -158.0095,  4721,  404.500,    9.286,   34.114,2,   34.118,2,  175.500,2,  176.100,2,   24.890,2,   19.990,2,    1.410,2, -999.000
           NA,HOT timeseries 1988to2019 27SEP2021,    172,  99,-999.0,      14,-999.0,20051212,2102,  22.7485, -158.0095,  4721,  439.400,    8.012,   34.075,2,   34.083,2,  138.100,2,  137.900,2,   37.010,2,   25.920,2,    1.840,2, -999.000
           NA,HOT timeseries 1988to2019 27SEP2021,    172,  99,-999.0,      13,-999.0,20051212,2102,  22.7485, -158.0095,  4721,  476.100,    7.430,   34.072,2,   34.072,2,  114.700,2,  116.000,2,   44.120,2,   28.890,2,    2.080,2, -999.000
           NA,HOT timeseries 1988to2019 27SEP2021,    172,  99,-999.0,      12,-999.0,20051212,2102,  22.7485, -158.0095,  4721,  516.700,    6.684,   34.068,2,   34.063,2,   95.700,2,   95.500,2,   53.150,2,   32.240,2,    2.340,2, -999.000
           NA,HOT timeseries 1988to2019 27SEP2021,    172,  99,-999.0,      11,-999.0,20051212,2102,  22.7485, -158.0095,  4721,  553.500,    6.285,   34.138,2,   34.136,2,   57.500,2,   58.900,2,   62.770,2,   35.750,2,    2.640,2, -999.000
           NA,HOT timeseries 1988to2019 27SEP2021,    172,  99,-999.0,      10,-999.0,20051212,2102,  22.7485, -158.0095,  4721,  603.900,    5.862,   34.216,2,   34.218,2,   36.800,2,   35.500,2,   71.990,2,   38.170,2,    2.850,2, -999.000
           NA,HOT timeseries 1988to2019 27SEP2021,    172,  99,-999.0,       9,-999.0,20051212,2102,  22.7485, -158.0095,  4721,  656.300,    5.567,   34.304,2,   34.301,2,   28.500,2,   26.300,2,   78.820,2,   39.750,2,    2.970,2, -999.000
           NA,HOT timeseries 1988to2019 27SEP2021,    172,  99,-999.0,       8,-999.0,20051212,2102,  22.7485, -158.0095,  4721,  696.600,    5.360,   34.344,2,   34.343,2,   28.000,2,   27.200,2,   83.150,2,   40.380,2,    3.000,2, -999.000
           NA,HOT timeseries 1988to2019 27SEP2021,    172,  99,-999.0,       7,-999.0,20051212,2102,  22.7485, -158.0095,  4721,  734.900,    5.180,   34.376,2,   34.381,2,   27.700,2, -999.000,4,   87.360,2,   40.760,2,    3.020,2, -999.000
           NA,HOT timeseries 1988to2019 27SEP2021,    172,  99,-999.0,       5,-999.0,20051212,2102,  22.7485, -158.0095,  4721,  840.300,    4.800,   34.448,2,   34.452,2,   29.100,2,   28.600,2,   95.300,2,   41.620,2,    3.060,2, -999.000
           NA,HOT timeseries 1988to2019 27SEP2021,    172,  99,-999.0,       4,-999.0,20051212,2102,  22.7485, -158.0095,  4721,  883.600,    4.621,   34.470,2,   34.470,2,   31.400,2,   31.300,2,   97.150,2,   41.940,2,    3.070,2, -999.000
           NA,HOT timeseries 1988to2019 27SEP2021,    172,  99,-999.0,       3,-999.0,20051212,2102,  22.7485, -158.0095,  4721,  929.800,    4.532,   34.478,2,   34.482,2,   32.700,2,   33.400,2,   99.350,2,   42.010,2,    3.080,2, -999.000
           NA,HOT timeseries 1988to2019 27SEP2021,    172,  99,-999.0,       2,-999.0,20051212,2102,  22.7485, -158.0095,  4721,  975.000,    4.417,   34.488,2,   34.487,2,   34.300,2,   34.700,2,  101.870,2,   42.010,2,    3.070,2, -999.000
           NA,HOT timeseries 1988to2019 27SEP2021,    172,  99,-999.0,       1,-999.0,20051212,2102,  22.7485, -158.0095,  4721, 1018.200,    4.273,   34.500,2,   34.497,2,   36.600,2,   37.400,2,  104.430,2,   42.040,2,    3.070,2, -999.000
           NA,HOT timeseries 1988to2019 27SEP2021,    172,  99,-999.0,      20,-999.0,20051212,2102,  22.7485, -158.0095,  4721, 1199.500,    3.735,   34.534,2,   34.531,2,   44.700,2,   45.200,2,  114.680,2,   41.480,2,    3.040,2, -999.000
           NA,HOT timeseries 1988to2019 27SEP2021,    172,  99,-999.0,      19,-999.0,20051212,2102,  22.7485, -158.0095,  4721, 1399.400,    3.201,   34.567,2,   34.569,2,   54.100,2,   54.400,2,  126.150,2,   41.070,2,    3.020,2, -999.000
           NA,HOT timeseries 1988to2019 27SEP2021,    172,  99,-999.0,      18,-999.0,20051212,2102,  22.7485, -158.0095,  4721, 1601.000,    2.728,   34.590,2,   34.590,2,   67.200,2,   67.600,2,  136.430,2,   40.510,2,    2.930,2, -999.000
           NA,HOT timeseries 1988to2019 27SEP2021,    172,  99,-999.0,      17,-999.0,20051212,2102,  22.7485, -158.0095,  4721, 1801.600,    2.474,   34.605,2, -999.000,3, -999.000,3,   76.300,2,  141.640,2,   40.120,2,    2.880,2, -999.000
           NA,HOT timeseries 1988to2019 27SEP2021,    172,  99,-999.0,      16,-999.0,20051212,2102,  22.7485, -158.0095,  4721, 2000.900,    2.191,   34.621,2,   34.618,2,   86.800,2,   87.200,2,  149.100,2,   39.500,2,    2.840,2, -999.000
           NA,HOT timeseries 1988to2019 27SEP2021,    172,  99,-999.0,      15,-999.0,20051212,2102,  22.7485, -158.0095,  4721, 2200.200,    1.979,   34.636,2,   34.633,2,   95.900,2,   96.300,2,  153.710,2,   38.810,2,    2.800,2, -999.000
           NA,HOT timeseries 1988to2019 27SEP2021,    172,  99,-999.0,      14,-999.0,20051212,2102,  22.7485, -158.0095,  4721, 2400.200,    1.836,   34.646,2, -999.000,3, -999.000,3,  103.000,2,  154.970,2,   38.180,2,    2.720,2, -999.000
           NA,HOT timeseries 1988to2019 27SEP2021,    172,  99,-999.0,      13,-999.0,20051212,2102,  22.7485, -158.0095,  4721, 2600.800,    1.729,   34.656,2,   34.653,2,  110.000,2, -999.000,4,  156.030,2,   37.870,2,    2.670,2, -999.000
           NA,HOT timeseries 1988to2019 27SEP2021,    172,  99,-999.0,      12,-999.0,20051212,2102,  22.7485, -158.0095,  4721, 2800.100,    1.640,   34.664,2,   34.661,2,  115.000,2,  114.900,2,  160.350,2,   37.570,2,    2.630,2, -999.000
           NA,HOT timeseries 1988to2019 27SEP2021,    172,  99,-999.0,      11,-999.0,20051212,2102,  22.7485, -158.0095,  4721, 3000.700,    1.576,   34.672,2,   34.672,2,  123.700,2,  123.600,2,  157.130,2,   37.120,2,    2.610,2, -999.000
           NA,HOT timeseries 1988to2019 27SEP2021,    172,  99,-999.0,      10,-999.0,20051212,2102,  22.7485, -158.0095,  4721, 3200.400,    1.531,   34.677,2,   34.674,2,  130.300,2,  130.800,2,  156.100,2,   36.720,2,    2.590,2, -999.000
           NA,HOT timeseries 1988to2019 27SEP2021,    172,  99,-999.0,       9,-999.0,20051212,2102,  22.7485, -158.0095,  4721, 3400.500,    1.513,   34.681,2,   34.680,2,  134.300,2, -999.000,4,  157.230,2,   36.530,2,    2.560,2, -999.000
           NA,HOT timeseries 1988to2019 27SEP2021,    172,  99,-999.0,       8,-999.0,20051212,2102,  22.7485, -158.0095,  4721, 3600.300,    1.480,   34.685,2,   34.683,2,  139.200,2,  139.200,2,  154.890,2,   36.320,2,    2.520,2, -999.000
           NA,HOT timeseries 1988to2019 27SEP2021,    172,  99,-999.0,       7,-999.0,20051212,2102,  22.7485, -158.0095,  4721, 3799.000,    1.468,   34.688,2,   34.685,2,  143.400,2,  143.100,2,  153.890,2,   36.100,2,    2.510,2, -999.000
           NA,HOT timeseries 1988to2019 27SEP2021,    172,  99,-999.0,       6,-999.0,20051212,2102,  22.7485, -158.0095,  4721, 3999.900,    1.464,   34.690,2,   34.687,2,  147.000,2,  146.500,2,  153.570,2,   35.720,2,    2.490,2, -999.000
           NA,HOT timeseries 1988to2019 27SEP2021,    172,  99,-999.0,       5,-999.0,20051212,2102,  22.7485, -158.0095,  4721, 4199.500,    1.469,   34.692,2,   34.691,2,  149.400,2,  148.800,2,  152.370,2,   35.590,2,    2.490,2, -999.000
           NA,HOT timeseries 1988to2019 27SEP2021,    172,  99,-999.0,       3,-999.0,20051212,2102,  22.7485, -158.0095,  4721, 4500.200,    1.491,   34.693,2,   34.690,2,  151.200,2,  151.400,2, -999.000,3,   35.610,2,    2.470,2, -999.000
           NA,HOT timeseries 1988to2019 27SEP2021,    172,  99,-999.0,       2,-999.0,20051212,2102,  22.7485, -158.0095,  4721, 4601.100,    1.501,   34.693,2,   34.691,2,  151.600,2,  150.500,2, -999.000,3,   35.480,2,    2.480,2, -999.000
           NA,HOT timeseries 1988to2019 27SEP2021,    172,  99,-999.0,       1,-999.0,20051212,2102,  22.7485, -158.0095,  4721, 4804.900,    1.522,   34.693,2,   34.690,2,  151.400,2,  152.000,2, -999.000,3,   35.350,2,    2.490,2, -999.000
           NA,HOT timeseries 1988to2019 27SEP2021,    173,  11,-999.0,      21,-999.0,20060126,1507,  22.7337, -158.0942,  4766,   13.100,   23.670,   35.249,2,   35.247,2,  207.800,2,  208.200,2,    0.900,2,    0.010,2,    0.070,2, -999.000
           NA,HOT timeseries 1988to2019 27SEP2021,    173,  11,-999.0,      20,-999.0,20060126,1507,  22.7337, -158.0942,  4766,   45.600,   23.675,   35.249,2,   35.250,2,  208.000,2,  208.100,2,    0.910,2,    0.040,2,    0.060,2, -999.000
           NA,HOT timeseries 1988to2019 27SEP2021,    173,  11,-999.0,      19,-999.0,20060126,1507,  22.7337, -158.0942,  4766,   81.000,   23.671,   35.249,2,   35.248,2,  208.400,2,  207.700,2,    0.910,2,    0.050,2,    0.060,2, -999.000
           NA,HOT timeseries 1988to2019 27SEP2021,    173,  11,-999.0,      18,-999.0,20060126,1507,  22.7337, -158.0942,  4766,  115.300,   23.419,   35.268,2,   35.267,2,  204.200,2,  205.900,2,    0.990,2, -999.000,3,    0.080,2, -999.000
           NA,HOT timeseries 1988to2019 27SEP2021,    173,  11,-999.0,      17,-999.0,20060126,1507,  22.7337, -158.0942,  4766,  151.500,   21.485,   35.154,2,   35.153,2,  196.800,2,  198.000,2, -999.000,3, -999.000,4, -999.000,4, -999.000
           NA,HOT timeseries 1988to2019 27SEP2021,    173,  11,-999.0,      16,-999.0,20060126,1507,  22.7337, -158.0942,  4766,  200.600,   18.654,   34.938,2,   34.936,2,  199.700,2,  200.700,2,    2.660,2,    2.170,2,    0.220,2, -999.000
           NA,HOT timeseries 1988to2019 27SEP2021,    173,  11,-999.0,      15,-999.0,20060126,1507,  22.7337, -158.0942,  4766,  257.900,   15.594,   34.573,2,   34.569,2,  201.400,2,  202.800,2, -999.000,3,    5.250,2,    0.450,2, -999.000
           NA,HOT timeseries 1988to2019 27SEP2021,    173,  11,-999.0,      14,-999.0,20060126,1507,  22.7337, -158.0942,  4766,  303.000,   13.362,   34.333,2,   34.339,2,  204.500,2,  205.300,2, -999.000,3,    8.490,2,    0.670,2, -999.000
           NA,HOT timeseries 1988to2019 27SEP2021,    173,  11,-999.0,      13,-999.0,20060126,1507,  22.7337, -158.0942,  4766,  348.500,   11.810,   34.230,2,   34.226,2,  206.600,2,  208.000,2,   11.020,2,   11.390,2,    0.820,2, -999.000
           NA,HOT timeseries 1988to2019 27SEP2021,    173,  11,-999.0,      12,-999.0,20060126,1507,  22.7337, -158.0942,  4766,  393.600,   10.386,   34.160,2,   34.160,2,  202.400,2,  200.400,2,   16.710,2,   15.190,2,    1.110,2, -999.000
           NA,HOT timeseries 1988to2019 27SEP2021,    173,  11,-999.0,      11,-999.0,20060126,1507,  22.7337, -158.0942,  4766,  445.400,    8.964,   34.103,2,   34.098,2,  174.300,2,  172.700,2,   26.920,2,   20.720,2,    1.500,2, -999.000
           NA,HOT timeseries 1988to2019 27SEP2021,    173,  11,-999.0,      10,-999.0,20060126,1507,  22.7337, -158.0942,  4766,  479.600,    8.171,   34.075,2,   34.072,2,  156.400,2,  154.300,2,   34.420,2,   23.860,2,    1.750,2, -999.000
           NA,HOT timeseries 1988to2019 27SEP2021,    173,  11,-999.0,       9,-999.0,20060126,1507,  22.7337, -158.0942,  4766,  513.300,    7.199,   34.047,2, -999.000,4, -999.000,3,  127.600,2, -999.000,4, -999.000,4, -999.000,4, -999.000
           NA,HOT timeseries 1988to2019 27SEP2021,    173,  11,-999.0,       8,-999.0,20060126,1507,  22.7337, -158.0942,  4766,  562.100,    6.403,   34.040,2,   34.037,2,  101.600,2,  104.300,2,   54.800,2,   32.320,2,    2.260,2, -999.000
           NA,HOT timeseries 1988to2019 27SEP2021,    173,  11,-999.0,       7,-999.0,20060126,1507,  22.7337, -158.0942,  4766,  610.500,    5.675,   34.076,2,   34.074,2,   68.400,2,   69.200,2,   69.490,2,   35.810,2,    2.580,2, -999.000
           NA,HOT timeseries 1988to2019 27SEP2021,    173,  11,-999.0,       6,-999.0,20060126,1507,  22.7337, -158.0942,  4766,  660.000,    5.255,   34.119,2,   34.121,2,   50.800,2,   49.400,2,   80.040,2,   38.110,2,    2.830,2, -999.000
           NA,HOT timeseries 1988to2019 27SEP2021,    173,  11,-999.0,       5,-999.0,20060126,1507,  22.7337, -158.0942,  4766,  719.700,    4.935,   34.196,2,   34.199,2,   34.000,2,   33.400,2,   87.390,2,   39.920,2, -999.000,4, -999.000
           NA,HOT timeseries 1988to2019 27SEP2021,    173,  11,-999.0,       4,-999.0,20060126,1507,  22.7337, -158.0942,  4766,  753.700,    4.846,   34.253,2,   34.252,2,   31.000,2,   30.700,2,   91.720,2,   41.480,2,    3.010,2, -999.000
           NA,HOT timeseries 1988to2019 27SEP2021,    173,  11,-999.0,       3,-999.0,20060126,1507,  22.7337, -158.0942,  4766,  921.100,    4.328,   34.461,2,   34.463,2,   38.000,2,   38.300,2,  102.840,2,   42.070,2, -999.000,3, -999.000
           NA,HOT timeseries 1988to2019 27SEP2021,    173,  11,-999.0,       2,-999.0,20060126,1507,  22.7337, -158.0942,  4766,  953.800,    4.197,   34.466,2,   34.465,2,   38.600,2,   39.800,2,  103.700,2,   41.820,2,    3.080,2, -999.000
           NA,HOT timeseries 1988to2019 27SEP2021,    173,  11,-999.0,    8001,-999.0,20060126,1507,  22.7337, -158.0942,  4766,  989.100,    4.082,   34.475,2,   34.474,2,   40.000,2,   40.700,2,  108.220,2,   41.650,2, -999.000,3, -999.000