BOTTLE,20214727JOAExport
EXPOCODE,SECT_ID,STNNBR,CASTNO,SAMPNO,BTLNBR,BTLNBR_FLAG_W,DATE,TIME,LATITUDE,LONGITUDE,DEPTH,CTDPRS,CTDTMP,CTDSAL,CTDSAL_FLAG_W,SALNTY,SALNTY_FLAG_W,CTDOXY,CTDOXY_FLAG_W,OXYGEN,OXYGEN_FLAG_W,SILCAT,SILCAT_FLAG_W,NINI,NINI_FLAG_W,PHSPHT,PHSPHT_FLAG_W,REVP
,,,,,,,,,,,,DB,IPTS-68,PSS-78,,PSS-78,,UMOL/KG,,UMOL/KG,,UMOL/KG,,UMOL/KG,,UMOL/KG,,DBAR
           NA,HOT timeseries 1988to2019 27SEP2021,     42,  99,-999.0,      31,-999.0,19930216,1813,  22.7495, -157.9988,  4749,    7.700,   23.131,   34.980,2,   34.983,2,  212.800,2,  211.300,2,    1.280,2,    0.000,2,    0.060,2, -999.000
           NA,HOT timeseries 1988to2019 27SEP2021,     42,  99,-999.0,      30,-999.0,19930216,1813,  22.7495, -157.9988,  4749,   10.700,   23.198,   34.958,2, -999.000,4, -999.000,3, -999.000,4,    1.880,2, -999.000,4, -999.000,4, -999.000
           NA,HOT timeseries 1988to2019 27SEP2021,     42,  99,-999.0,      30,-999.0,19930216,1813,  22.7495, -157.9988,  4749,   15.700,   23.087,   34.984,2,   34.984,2,  213.000,2,  211.300,2,    1.240,2,    0.010,2,    0.070,2, -999.000
           NA,HOT timeseries 1988to2019 27SEP2021,     42,  99,-999.0,      22,-999.0,19930216,1813,  22.7495, -157.9988,  4749,   25.800,   22.984,   35.001,2,   34.998,2,  213.500,2,  211.600,2,    1.240,2,    0.010,2,    0.060,2, -999.000
           NA,HOT timeseries 1988to2019 27SEP2021,     42,  99,-999.0,      21,-999.0,19930216,1813,  22.7495, -157.9988,  4749,   50.700,   22.900,   35.013,2,   35.014,2,  214.000,2,  211.400,2,    1.210,2,    0.000,2,    0.060,2, -999.000
           NA,HOT timeseries 1988to2019 27SEP2021,     42,  99,-999.0,      22,-999.0,19930216,1813,  22.7495, -157.9988,  4749,   81.200,   22.188,   35.139,2, -999.000,3, -999.000,3,  200.600,2,    2.570,2, -999.000,3, -999.000,3, -999.000
           NA,HOT timeseries 1988to2019 27SEP2021,     42,  99,-999.0,      20,-999.0,19930216,1813,  22.7495, -157.9988,  4749,   95.400,   21.570,   35.167,2,   35.168,2,  203.200,2,  200.800,2,    1.510,2,    0.750,2,    0.100,2, -999.000
           NA,HOT timeseries 1988to2019 27SEP2021,     42,  99,-999.0,      19,-999.0,19930216,1813,  22.7495, -157.9988,  4749,  100.400,   21.499,   35.166,2,   35.165,2,  200.900,2,  200.200,2,    1.550,2,    0.860,2,    0.120,2, -999.000
           NA,HOT timeseries 1988to2019 27SEP2021,     42,  99,-999.0,      18,-999.0,19930216,1813,  22.7495, -157.9988,  4749,  110.500,   20.891,   35.139,2,   35.140,2,  199.000,2,  195.200,2,    1.830,2,    1.440,2,    0.190,2, -999.000
           NA,HOT timeseries 1988to2019 27SEP2021,     42,  99,-999.0,      17,-999.0,19930216,1813,  22.7495, -157.9988,  4749,  144.500,   19.892,   35.112,2,   35.114,2,  193.200,2,  192.000,2,    2.220,2,    2.170,2,    0.210,2, -999.000
           NA,HOT timeseries 1988to2019 27SEP2021,     42,  99,-999.0,      16,-999.0,19930216,1813,  22.7495, -157.9988,  4749,  225.400,   16.260,   34.750,2,   34.750,2,  200.200,2,  198.900,2,    4.840,2,    4.940,2,    0.380,2, -999.000
           NA,HOT timeseries 1988to2019 27SEP2021,     42,  99,-999.0,      15,-999.0,19930216,1813,  22.7495, -157.9988,  4749,  300.800,   13.270,   34.428,2,   34.430,2,  213.500,2,  207.900,2,    9.250,2,    8.920,2,    0.640,2, -999.000
           NA,HOT timeseries 1988to2019 27SEP2021,     42,  99,-999.0,      14,-999.0,19930216,1813,  22.7495, -157.9988,  4749,  310.700,   12.949,   34.397,2,   34.398,2,  208.600,2,  205.200,2,   10.020,2,    9.810,2,    0.730,2, -999.000
           NA,HOT timeseries 1988to2019 27SEP2021,     42,  99,-999.0,      13,-999.0,19930216,1813,  22.7495, -157.9988,  4749,  361.000,   10.466,   34.193,2,   34.193,2,  194.500,2, -999.000,4,   17.760,2,   15.590,2,    1.110,2, -999.000
           NA,HOT timeseries 1988to2019 27SEP2021,     42,  99,-999.0,      12,-999.0,19930216,1813,  22.7495, -157.9988,  4749,  421.100,    8.951,   34.119,2,   34.120,2,  158.600,2,  158.000,2,   28.810,2,   21.930,2,    1.580,2, -999.000
           NA,HOT timeseries 1988to2019 27SEP2021,     42,  99,-999.0,      21,-999.0,19930216,1813,  22.7495, -157.9988,  4749,  486.200,    7.341,   34.068,2,   34.070,2,  129.400,2,  124.300,2,   45.250,2,   27.830,2,    2.020,2, -999.000
           NA,HOT timeseries 1988to2019 27SEP2021,     42,  99,-999.0,      11,-999.0,19930216,1813,  22.7495, -157.9988,  4749,  490.600,    7.309,   34.072,2,   34.078,2,  124.700,2,  129.700,2,   45.520,2,   28.390,2,    2.070,2, -999.000
           NA,HOT timeseries 1988to2019 27SEP2021,     42,  99,-999.0,      32,-999.0,19930216,1813,  22.7495, -157.9988,  4749,  500.500,    7.206,   34.074,2,   34.072,2,  116.500,2, -999.000,5,   47.270,2,   28.990,2,    2.110,2, -999.000
           NA,HOT timeseries 1988to2019 27SEP2021,     42,  99,-999.0,       9,-999.0,19930216,1813,  22.7495, -157.9988,  4749,  525.800,    6.667,   34.068,2,   34.068,2,  104.000,2,   98.200,2,   54.530,2,   31.740,2,    2.320,2, -999.000
           NA,HOT timeseries 1988to2019 27SEP2021,     42,  99,-999.0,      29,-999.0,19930216,1813,  22.7495, -157.9988,  4749,  571.600,    6.232,   34.140,2,   34.141,2,   67.600,2,   65.600,2,   64.660,2,   35.220,2,    2.580,2, -999.000
           NA,HOT timeseries 1988to2019 27SEP2021,     42,  99,-999.0,      28,-999.0,19930216,1813,  22.7495, -157.9988,  4749,  619.200,    5.622,   34.188,2,   34.187,2,   47.100,2,   43.600,2,   76.620,2,   38.280,2,    2.810,2, -999.000
           NA,HOT timeseries 1988to2019 27SEP2021,     42,  99,-999.0,       7,-999.0,19930216,1813,  22.7495, -157.9988,  4749,  684.300,    5.016,   34.234,2,   34.237,2,   34.700,2,   34.800,2,   88.100,2,   40.070,2,    2.940,2, -999.000
           NA,HOT timeseries 1988to2019 27SEP2021,     42,  99,-999.0,      23,-999.0,19930216,1813,  22.7495, -157.9988,  4749,  760.200,    4.661,   34.313,2,   34.312,2,   30.100,2,   30.200,2,   97.360,2,   41.220,2,    3.020,2, -999.000
           NA,HOT timeseries 1988to2019 27SEP2021,     42,  99,-999.0,      25,-999.0,19930216,1813,  22.7495, -157.9988,  4749,  800.300,    4.507,   34.345,2,   34.345,2,   31.300,2,   30.600,2,  100.570,2,   41.440,2,    3.040,2, -999.000
           NA,HOT timeseries 1988to2019 27SEP2021,     42,  99,-999.0,       3,-999.0,19930216,1813,  22.7495, -157.9988,  4749,  840.800,    4.320,   34.388,2,   34.387,2,   33.700,2,   34.100,2,  104.970,2,   41.820,2,    3.040,2, -999.000
           NA,HOT timeseries 1988to2019 27SEP2021,     42,  99,-999.0,       2,-999.0,19930216,1813,  22.7495, -157.9988,  4749,  970.600,    3.909,   34.466,2,   34.467,2,   42.000,2, -999.000,4,  113.290,2,   41.750,2,    3.020,2, -999.000
           NA,HOT timeseries 1988to2019 27SEP2021,     42,  99,-999.0,      20,-999.0,19930216,1813,  22.7495, -157.9988,  4749, 1008.400,    3.847,   34.476,2,   34.476,2,   44.000,2, -999.000,3,  114.320,2,   41.200,2,    3.000,2, -999.000
           NA,HOT timeseries 1988to2019 27SEP2021,     42,  99,-999.0,       1,-999.0,19930216,1813,  22.7495, -157.9988,  4749, 1028.300,    3.754,   34.486,2,   34.488,2,   45.100,2, -999.000,4,  116.300,2,   41.520,2,    3.000,2, -999.000
           NA,HOT timeseries 1988to2019 27SEP2021,     42,  99,-999.0,      19,-999.0,19930216,1813,  22.7495, -157.9988,  4749, 1415.100,    3.020,   34.557,2,   34.557,2,   61.500,2,   61.400,2,  132.490,2, -999.000,4, -999.000,4, -999.000
           NA,HOT timeseries 1988to2019 27SEP2021,     42,  99,-999.0,      18,-999.0,19930216,1813,  22.7495, -157.9988,  4749, 1616.700,    2.642,   34.583,2, -999.000,5,   70.700,2,   71.100,2,  141.050,2,   40.600,2,    2.910,2, -999.000
           NA,HOT timeseries 1988to2019 27SEP2021,     42,  99,-999.0,      17,-999.0,19930216,1813,  22.7495, -157.9988,  4749, 1801.200,    2.342,   34.602,2,   34.602,2,   78.300,2,   79.200,2,  148.390,2,   40.200,2,    2.880,2, -999.000
           NA,HOT timeseries 1988to2019 27SEP2021,     42,  99,-999.0,      16,-999.0,19930216,1813,  22.7495, -157.9988,  4749, 2012.100,    2.099,   34.620,2,   34.620,2,   87.100,2,   87.900,2,  153.930,2,   39.730,2,    2.830,2, -999.000
           NA,HOT timeseries 1988to2019 27SEP2021,     42,  99,-999.0,      15,-999.0,19930216,1813,  22.7495, -157.9988,  4749, 2219.000,    1.914,   34.634,2, -999.000,3, -999.000,3,   94.700,2,  158.460,2,   39.340,2,    2.780,2, -999.000
           NA,HOT timeseries 1988to2019 27SEP2021,     42,  99,-999.0,      14,-999.0,19930216,1813,  22.7495, -157.9988,  4749, 2418.200,    1.764,   34.645,2, -999.000,3, -999.000,3,  104.600,2,  162.070,2,   38.930,2,    2.760,2, -999.000
           NA,HOT timeseries 1988to2019 27SEP2021,     42,  99,-999.0,      13,-999.0,19930216,1813,  22.7495, -157.9988,  4749, 2627.500,    1.660,   34.655,2, -999.000,5,  108.800,2,  109.500,2,  163.320,2,   38.330,2,    2.710,2, -999.000
           NA,HOT timeseries 1988to2019 27SEP2021,     42,  99,-999.0,      12,-999.0,19930216,1813,  22.7495, -157.9988,  4749, 2830.400,    1.587,   34.665,2,   34.665,2,  117.700,2,  119.200,2,  161.540,2,   37.750,2,    2.660,2, -999.000
           NA,HOT timeseries 1988to2019 27SEP2021,     42,  99,-999.0,      11,-999.0,19930216,1813,  22.7495, -157.9988,  4749, 3028.400,    1.549,   34.671,2,   34.670,2,  123.800,2,  125.000,2,  160.720,2,   37.370,2,    2.630,2, -999.000
           NA,HOT timeseries 1988to2019 27SEP2021,     42,  99,-999.0,      32,-999.0,19930216,1813,  22.7495, -157.9988,  4749, 3218.400,    1.516,   34.675,2,   34.678,2,  130.100,2,  131.800,2,  158.910,2,   37.100,2,    2.600,2, -999.000
           NA,HOT timeseries 1988to2019 27SEP2021,     42,  99,-999.0,      29,-999.0,19930216,1813,  22.7495, -157.9988,  4749, 3636.000,    1.453,   34.684,2,   34.683,2,  141.300,2,  143.100,2,  155.220,2,   36.290,2,    2.550,2, -999.000
           NA,HOT timeseries 1988to2019 27SEP2021,     42,  99,-999.0,      28,-999.0,19930216,1813,  22.7495, -157.9988,  4749, 3839.900,    1.448,   34.686,2,   34.685,2,  145.400,2,  146.500,2,  153.740,2,   36.000,2,    2.530,2, -999.000
           NA,HOT timeseries 1988to2019 27SEP2021,     42,  99,-999.0,       7,-999.0,19930216,1813,  22.7495, -157.9988,  4749, 4035.500,    1.452,   34.688,2,   34.687,2,  148.400,2,  148.600,2,  152.250,2,   35.820,2,    2.520,2, -999.000
           NA,HOT timeseries 1988to2019 27SEP2021,     42,  99,-999.0,      23,-999.0,19930216,1813,  22.7495, -157.9988,  4749, 4235.600,    1.464,   34.689,2,   34.688,2,  150.500,2,  150.400,2,  151.980,2,   35.680,2,    2.500,2, -999.000
           NA,HOT timeseries 1988to2019 27SEP2021,     42,  99,-999.0,      25,-999.0,19930216,1813,  22.7495, -157.9988,  4749, 4437.600,    1.481,   34.690,2, -999.000,4, -999.000,3,  151.300,2,  150.890,2,   35.720,2,    2.510,2, -999.000
           NA,HOT timeseries 1988to2019 27SEP2021,     42,  99,-999.0,       3,-999.0,19930216,1813,  22.7495, -157.9988,  4749, 4541.600,    1.491,   34.690,2,   34.689,2,  153.100,2,  151.600,2,  150.410,2,   35.640,2,    2.520,2, -999.000
           NA,HOT timeseries 1988to2019 27SEP2021,     42,  99,-999.0,       2,-999.0,19930216,1813,  22.7495, -157.9988,  4749, 4648.000,    1.501,   34.690,2,   34.690,2,  153.200,2,  152.700,2,  150.310,2,   35.570,2,    2.490,2, -999.000
           NA,HOT timeseries 1988to2019 27SEP2021,     42,  99,-999.0,       1,-999.0,19930216,1813,  22.7495, -157.9988,  4749, 4750.400,    1.508,   34.691,2, -999.000,5,  154.200,2,  151.800,2,  149.890,2,   35.480,2,    2.490,2, -999.000