BOTTLE,20214727JOAExport
EXPOCODE,SECT_ID,STNNBR,CASTNO,SAMPNO,BTLNBR,BTLNBR_FLAG_W,DATE,TIME,LATITUDE,LONGITUDE,DEPTH,CTDPRS,CTDTMP,CTDSAL,CTDSAL_FLAG_W,SALNTY,SALNTY_FLAG_W,CTDOXY,CTDOXY_FLAG_W,OXYGEN,OXYGEN_FLAG_W,SILCAT,SILCAT_FLAG_W,NINI,NINI_FLAG_W,PHSPHT,PHSPHT_FLAG_W,REVP
,,,,,,,,,,,,DB,IPTS-68,PSS-78,,PSS-78,,UMOL/KG,,UMOL/KG,,UMOL/KG,,UMOL/KG,,UMOL/KG,,DBAR
           NA,HOT timeseries 1988to2019 27SEP2021,    113,  99,-999.0,      31,-999.0,20000725,1859,  22.7468, -158.0042,  4720,    4.100,   25.876,   35.328,2,   35.330,2,  205.700,2,  207.000,2,    0.710,2,   -0.020,2,    0.070,2, -999.000
           NA,HOT timeseries 1988to2019 27SEP2021,    113,  99,-999.0,      31,-999.0,20000725,1859,  22.7468, -158.0042,  4720,    5.000,   25.837,   35.334,2,   35.338,2,  206.300,2,  207.200,2,    1.090,2,   -0.010,2,    0.030,2, -999.000
           NA,HOT timeseries 1988to2019 27SEP2021,    113,  99,-999.0,      30,-999.0,20000725,1859,  22.7468, -158.0042,  4720,   46.800,   25.852,   35.337,2,   35.338,2,  206.000,2,  207.300,2,    0.710,2,    0.000,2,    0.070,2, -999.000
           NA,HOT timeseries 1988to2019 27SEP2021,    113,  99,-999.0,      22,-999.0,20000725,1859,  22.7468, -158.0042,  4720,   69.600,   23.829,   35.411,2,   35.412,2,  227.500,2,  224.200,2, -999.000,3,    0.000,2,    0.070,2, -999.000
           NA,HOT timeseries 1988to2019 27SEP2021,    113,  99,-999.0,      21,-999.0,20000725,1859,  22.7468, -158.0042,  4720,  115.300,   21.789,   35.256,2,   35.268,2,  219.800,2,  219.400,2, -999.000,3,    0.000,2,    0.080,2, -999.000
           NA,HOT timeseries 1988to2019 27SEP2021,    113,  99,-999.0,      20,-999.0,20000725,1859,  22.7468, -158.0042,  4720,  169.400,   19.900,   35.145,2,   35.162,2,  194.300,2,  197.900,2,    2.920,2,    1.580,2,    0.210,2, -999.000
           NA,HOT timeseries 1988to2019 27SEP2021,    113,  99,-999.0,      19,-999.0,20000725,1859,  22.7468, -158.0042,  4720,  220.400,   16.581,   34.730,2,   34.734,2,  198.900,2,  200.300,2,    5.450,2,    4.300,2,    0.390,2, -999.000
           NA,HOT timeseries 1988to2019 27SEP2021,    113,  99,-999.0,      17,-999.0,20000725,1859,  22.7468, -158.0042,  4720,  317.800,   12.892,   34.371,2,   34.375,2,  208.100,2,  208.200,2,   10.570,2,    9.170,2,    0.690,2, -999.000
           NA,HOT timeseries 1988to2019 27SEP2021,    113,  99,-999.0,      16,-999.0,20000725,1859,  22.7468, -158.0042,  4720,  366.800,   11.168,   34.247,2, -999.000,3, -999.000,3,  207.200,2,   13.840,2,   12.530,2,    0.920,2, -999.000
           NA,HOT timeseries 1988to2019 27SEP2021,    113,  99,-999.0,      23,-999.0,20000725,1859,  22.7468, -158.0042,  4720,  398.800,    9.971,   34.160,2,   34.160,2,  191.600,2,  194.000,2,   19.930,2,   16.460,2,    1.180,2, -999.000
           NA,HOT timeseries 1988to2019 27SEP2021,    113,  99,-999.0,      14,-999.0,20000725,1859,  22.7468, -158.0042,  4720,  431.200,    9.171,   34.104,2,   34.118,2,  184.200,2,  185.300,2,   24.250,2,   18.780,2,    1.350,2, -999.000
           NA,HOT timeseries 1988to2019 27SEP2021,    113,  99,-999.0,      13,-999.0,20000725,1859,  22.7468, -158.0042,  4720,  489.000,    7.380,   34.032,2,   34.033,2,  129.200,2,  133.000,2,   41.130,2,   26.940,2,    1.990,2, -999.000
           NA,HOT timeseries 1988to2019 27SEP2021,    113,  99,-999.0,      12,-999.0,20000725,1859,  22.7468, -158.0042,  4720,  529.900,    6.537,   34.036,2,   34.035,2,  100.100,2,  100.500,2,   53.430,2,   31.450,2,    2.280,2, -999.000
           NA,HOT timeseries 1988to2019 27SEP2021,    113,  99,-999.0,      11,-999.0,20000725,1859,  22.7468, -158.0042,  4720,  589.000,    5.881,   34.075,2,   34.075,2,   69.600,2,   67.100,2,   66.280,2,   35.510,2,    2.620,2, -999.000
           NA,HOT timeseries 1988to2019 27SEP2021,    113,  99,-999.0,      32,-999.0,20000725,1859,  22.7468, -158.0042,  4720,  629.900,    5.182,   34.093,2,   34.095,2,   49.400,2,   54.200,2,   79.040,2,   37.980,2,    2.790,2, -999.000
           NA,HOT timeseries 1988to2019 27SEP2021,    113,  99,-999.0,      29,-999.0,20000725,1859,  22.7468, -158.0042,  4720,  692.100,    5.329,   34.246,2,   34.245,2,   32.900,2,   33.600,2,   82.370,2,   39.250,2,    2.920,2, -999.000
           NA,HOT timeseries 1988to2019 27SEP2021,    113,  99,-999.0,      28,-999.0,20000725,1859,  22.7468, -158.0042,  4720,  734.700,    5.134,   34.285,2,   34.287,2,   34.100,2,   31.500,2,   86.960,2,   39.990,2,    2.980,2, -999.000
           NA,HOT timeseries 1988to2019 27SEP2021,    113,  99,-999.0,       7,-999.0,20000725,1859,  22.7468, -158.0042,  4720,  769.400,    5.019,   34.338,2,   34.338,2,   30.500,2,   29.300,2,   90.050,2,   40.680,2,    3.010,2, -999.000
           NA,HOT timeseries 1988to2019 27SEP2021,    113,  99,-999.0,      36,-999.0,20000725,1859,  22.7468, -158.0042,  4720,  866.000,    4.504,   34.393,2,   34.393,2,   32.300,2,   31.300,2,  100.620,2,   41.570,2,    3.020,2, -999.000
           NA,HOT timeseries 1988to2019 27SEP2021,    113,  99,-999.0,      35,-999.0,20000725,1859,  22.7468, -158.0042,  4720,  933.300,    4.215,   34.445,2,   34.447,2,   36.400,2,   35.800,2,  106.530,2,   41.760,2,    3.030,2, -999.000
           NA,HOT timeseries 1988to2019 27SEP2021,    113,  99,-999.0,      34,-999.0,20000725,1859,  22.7468, -158.0042,  4720,  993.300,    4.072,   34.475,2,   34.477,2,   42.200,2,   41.500,2,  108.980,2,   41.430,2,    3.020,2, -999.000
           NA,HOT timeseries 1988to2019 27SEP2021,    113,  99,-999.0,      33,-999.0,20000725,1859,  22.7468, -158.0042,  4720, 1024.300,    3.980,   34.483,2,   34.483,2,   43.400,2,   43.100,2,  110.520,2,   41.710,2,    3.000,2, -999.000
           NA,HOT timeseries 1988to2019 27SEP2021,    113,  99,-999.0,      20,-999.0,20000725,1859,  22.7468, -158.0042,  4720, 1199.700,    3.523,   34.525,2,   34.525,2,   51.200,2,   51.600,2,  121.160,2,   41.320,2,    2.940,2, -999.000
           NA,HOT timeseries 1988to2019 27SEP2021,    113,  99,-999.0,      19,-999.0,20000725,1859,  22.7468, -158.0042,  4720, 1402.200,    3.067,   34.556,2,   34.555,2,   58.900,2,   59.700,2,  129.630,2,   41.330,2,    2.920,2, -999.000
           NA,HOT timeseries 1988to2019 27SEP2021,    113,  99,-999.0,      18,-999.0,20000725,1859,  22.7468, -158.0042,  4720, 1601.400,    2.688,   34.581,2,   34.580,2,   69.600,2,   69.600,2,  138.020,2,   41.040,2,    2.870,2, -999.000
           NA,HOT timeseries 1988to2019 27SEP2021,    113,  99,-999.0,      17,-999.0,20000725,1859,  22.7468, -158.0042,  4720, 1798.900,    2.345,   34.602,2,   34.605,2,   77.900,2,   78.700,2,  145.250,2,   40.120,2,    2.810,2, -999.000
           NA,HOT timeseries 1988to2019 27SEP2021,    113,  99,-999.0,      16,-999.0,20000725,1859,  22.7468, -158.0042,  4720, 1999.300,    2.115,   34.620,2,   34.620,2,   88.700,2,   89.500,2,  151.810,2,   39.820,2, -999.000,3, -999.000
           NA,HOT timeseries 1988to2019 27SEP2021,    113,  99,-999.0,      23,-999.0,20000725,1859,  22.7468, -158.0042,  4720, 2200.900,    1.941,   34.633,2,   34.635,2,   95.400,2,   96.800,2,  154.190,2,   39.280,2,    2.750,2, -999.000
           NA,HOT timeseries 1988to2019 27SEP2021,    113,  99,-999.0,      14,-999.0,20000725,1859,  22.7468, -158.0042,  4720, 2399.400,    1.798,   34.643,2,   34.642,2,  101.400,2,  102.200,2,  156.540,2,   38.820,2,    2.710,2, -999.000
           NA,HOT timeseries 1988to2019 27SEP2021,    113,  99,-999.0,      13,-999.0,20000725,1859,  22.7468, -158.0042,  4720, 2599.900,    1.692,   34.653,2,   34.653,2,  109.500,2,  109.200,2,  161.240,2,   38.230,2,    2.670,2, -999.000
           NA,HOT timeseries 1988to2019 27SEP2021,    113,  99,-999.0,      12,-999.0,20000725,1859,  22.7468, -158.0042,  4720, 2799.600,    1.613,   34.662,2,   34.662,2,  116.500,2,  116.700,2,  159.870,2,   38.080,2,    2.650,2, -999.000
           NA,HOT timeseries 1988to2019 27SEP2021,    113,  99,-999.0,      11,-999.0,20000725,1859,  22.7468, -158.0042,  4720, 3000.300,    1.555,   34.668,2,   34.667,2,  122.400,2,  123.200,2,  159.610,2,   37.760,2,    2.620,2, -999.000
           NA,HOT timeseries 1988to2019 27SEP2021,    113,  99,-999.0,      32,-999.0,20000725,1859,  22.7468, -158.0042,  4720, 3198.700,    1.508,   34.674,2,   34.674,2,  130.000,2,  130.500,2,  158.960,2,   37.360,2,    2.580,2, -999.000
           NA,HOT timeseries 1988to2019 27SEP2021,    113,  99,-999.0,       3,-999.0,20000725,1859,  22.7468, -158.0042,  4720, 3399.900,    1.479,   34.678,2,   34.675,2,  135.500,2, -999.000,3,  158.050,2,   37.110,2,    2.560,2, -999.000
           NA,HOT timeseries 1988to2019 27SEP2021,    113,  99,-999.0,      29,-999.0,20000725,1859,  22.7468, -158.0042,  4720, 3598.800,    1.462,   34.681,2,   34.681,2,  140.000,2,  141.200,2,  154.450,2,   36.680,2,    2.520,2, -999.000
           NA,HOT timeseries 1988to2019 27SEP2021,    113,  99,-999.0,      28,-999.0,20000725,1859,  22.7468, -158.0042,  4720, 3799.000,    1.456,   34.683,2,   34.684,2,  144.100,2,  144.700,2,  153.360,2,   36.550,2,    2.500,2, -999.000
           NA,HOT timeseries 1988to2019 27SEP2021,    113,  99,-999.0,       7,-999.0,20000725,1859,  22.7468, -158.0042,  4720, 3999.000,    1.459,   34.685,2,   34.685,2,  146.800,2,  146.900,2,  152.100,2,   36.570,2,    2.480,2, -999.000
           NA,HOT timeseries 1988to2019 27SEP2021,    113,  99,-999.0,      38,-999.0,20000725,1859,  22.7468, -158.0042,  4720, 4200.300,    1.468,   34.686,2,   34.686,2,  149.100,2,  149.300,2,  150.770,2,   35.910,2,    2.470,2, -999.000
           NA,HOT timeseries 1988to2019 27SEP2021,    113,  99,-999.0,      36,-999.0,20000725,1859,  22.7468, -158.0042,  4720, 4398.700,    1.479,   34.687,2,   34.688,2,  151.200,2,  150.600,2,  150.200,2,   35.910,2,    2.460,2, -999.000
           NA,HOT timeseries 1988to2019 27SEP2021,    113,  99,-999.0,      35,-999.0,20000725,1859,  22.7468, -158.0042,  4720, 4498.100,    1.484,   34.688,2,   34.688,2,  152.700,2,  152.100,2,  149.820,2,   35.950,2,    2.460,2, -999.000
           NA,HOT timeseries 1988to2019 27SEP2021,    113,  99,-999.0,      34,-999.0,20000725,1859,  22.7468, -158.0042,  4720, 4599.000,    1.492,   34.688,2,   34.689,2,  153.200,2,  152.100,2,  149.700,2,   35.750,2,    2.460,2, -999.000
           NA,HOT timeseries 1988to2019 27SEP2021,    113,  99,-999.0,      33,-999.0,20000725,1859,  22.7468, -158.0042,  4720, 4804.400,    1.513,   34.689,2,   34.690,2,  153.800,2,  153.100,2,  148.470,2,   35.620,2,    2.440,2, -999.000