BOTTLE,20214727JOAExport
EXPOCODE,SECT_ID,STNNBR,CASTNO,SAMPNO,BTLNBR,BTLNBR_FLAG_W,DATE,TIME,LATITUDE,LONGITUDE,DEPTH,CTDPRS,CTDTMP,CTDSAL,CTDSAL_FLAG_W,SALNTY,SALNTY_FLAG_W,CTDOXY,CTDOXY_FLAG_W,OXYGEN,OXYGEN_FLAG_W,SILCAT,SILCAT_FLAG_W,NINI,NINI_FLAG_W,PHSPHT,PHSPHT_FLAG_W,REVP
,,,,,,,,,,,,DB,IPTS-68,PSS-78,,PSS-78,,UMOL/KG,,UMOL/KG,,UMOL/KG,,UMOL/KG,,UMOL/KG,,DBAR
           NA,HOT timeseries 1988to2019 27SEP2021,     11,  99,-999.0,      22,-999.0,19891128,0940,  22.7517, -158.0000,  4749,   30.600,   25.095,   35.036,2, -999.000,3, -999.000,3,  209.700,2,    0.680,2,    0.040,2,    0.080,2, -999.000
           NA,HOT timeseries 1988to2019 27SEP2021,     11,  99,-999.0,      21,-999.0,19891128,0940,  22.7517, -158.0000,  4749,   56.400,   25.089,   35.025,2,   34.955,2,  211.300,2,  210.300,2,    0.140,2,    0.010,2,    0.070,2, -999.000
           NA,HOT timeseries 1988to2019 27SEP2021,     11,  99,-999.0,      20,-999.0,19891128,0940,  22.7517, -158.0000,  4749,   80.000,   25.065,   35.016,2,   34.957,2,  211.900,2,  210.700,2,    0.500,2,    0.040,2,    0.070,2, -999.000
           NA,HOT timeseries 1988to2019 27SEP2021,     11,  99,-999.0,      19,-999.0,19891128,0940,  22.7517, -158.0000,  4749,   99.300,   23.268,   35.108,2,   35.078,2,  212.500,2,  210.300,2,    0.320,2,    0.060,2,    0.100,2, -999.000
           NA,HOT timeseries 1988to2019 27SEP2021,     11,  99,-999.0,      18,-999.0,19891128,0940,  22.7517, -158.0000,  4749,  121.600,   22.019,   35.261,2,   35.247,2,  205.600,2,  207.700,2,    0.500,2,    0.410,2,    0.110,2, -999.000
           NA,HOT timeseries 1988to2019 27SEP2021,     11,  99,-999.0,      17,-999.0,19891128,0940,  22.7517, -158.0000,  4749,  147.200,   20.587,   35.191,2,   35.201,2,  194.800,2,  205.500,2,    0.860,2,    1.350,2,    0.190,2, -999.000
           NA,HOT timeseries 1988to2019 27SEP2021,     11,  99,-999.0,      15,-999.0,19891128,0940,  22.7517, -158.0000,  4749,  226.900,   16.073,   34.689,2,   34.696,2,  200.000,2,  204.200,2,    3.770,2,    4.700,2,    0.400,2, -999.000
           NA,HOT timeseries 1988to2019 27SEP2021,     11,  99,-999.0,      14,-999.0,19891128,0940,  22.7517, -158.0000,  4749,  299.800,   11.769,   34.217,2,   34.217,2,  200.400,2,  202.000,2,   11.390,2,   11.720,2,    0.880,2, -999.000
           NA,HOT timeseries 1988to2019 27SEP2021,     11,  99,-999.0,      13,-999.0,19891128,0940,  22.7517, -158.0000,  4749,  342.700,   10.207,   34.131,2,   34.133,2,  197.500,2,  196.600,2,   17.760,2,   15.910,2,    1.160,2, -999.000
           NA,HOT timeseries 1988to2019 27SEP2021,     11,  99,-999.0,      12,-999.0,19891128,0940,  22.7517, -158.0000,  4749,  407.000,    8.591,   34.064,2,   34.067,2,  171.100,2,  169.700,2,   29.560,2,   21.900,2,    1.590,2, -999.000
           NA,HOT timeseries 1988to2019 27SEP2021,     11,  99,-999.0,      11,-999.0,19891128,0940,  22.7517, -158.0000,  4749,  437.000,    8.287,   34.062,2,   34.072,2,  162.600,2,  157.000,2,   33.190,2,   23.550,2,    1.690,2, -999.000
           NA,HOT timeseries 1988to2019 27SEP2021,     11,  99,-999.0,      10,-999.0,19891128,0940,  22.7517, -158.0000,  4749,  467.100,    7.521,   34.042,2,   34.045,2,  141.600,2,  145.300,2,   40.460,2,   26.380,2,    1.870,2, -999.000
           NA,HOT timeseries 1988to2019 27SEP2021,     11,  99,-999.0,       9,-999.0,19891128,0940,  22.7517, -158.0000,  4749,  505.200,    6.811,   34.044,2,   34.047,2,  116.300,2,  112.300,2,   51.360,2,   30.610,2,    2.200,2, -999.000
           NA,HOT timeseries 1988to2019 27SEP2021,     11,  99,-999.0,       8,-999.0,19891128,0940,  22.7517, -158.0000,  4749,  569.900,    5.832,   34.109,2,   34.109,2,   57.300,2,   59.600,2,   70.060,2,   36.830,2,    2.700,2, -999.000
           NA,HOT timeseries 1988to2019 27SEP2021,     11,  99,-999.0,       7,-999.0,19891128,0940,  22.7517, -158.0000,  4749,  598.900,    5.568,   34.129,2,   34.126,2,   53.900,2,   47.700,2,   74.600,2,   38.020,2,    2.790,2, -999.000
           NA,HOT timeseries 1988to2019 27SEP2021,     11,  99,-999.0,       6,-999.0,19891128,0940,  22.7517, -158.0000,  4749,  621.400,    5.427,   34.152,2,   34.148,2,   43.400,2,   41.400,2,   78.590,2,   38.840,2,    2.870,2, -999.000
           NA,HOT timeseries 1988to2019 27SEP2021,     11,  99,-999.0,       5,-999.0,19891128,0940,  22.7517, -158.0000,  4749,  689.900,    5.081,   34.243,2,   34.243,2,   30.300,2,   28.700,2,   88.210,2,   40.590,2,    3.000,2, -999.000
           NA,HOT timeseries 1988to2019 27SEP2021,     11,  99,-999.0,       4,-999.0,19891128,0940,  22.7517, -158.0000,  4749,  763.100,    4.683,   34.328,2,   34.327,2,   25.300,2,   23.100,2,   97.650,2,   41.830,2,    3.080,2, -999.000
           NA,HOT timeseries 1988to2019 27SEP2021,     11,  99,-999.0,       3,-999.0,19891128,0940,  22.7517, -158.0000,  4749,  825.600,    4.461,   34.388,2,   34.387,2,   27.500,2,   27.500,2, -999.000,3,   42.240,2,    3.100,2, -999.000
           NA,HOT timeseries 1988to2019 27SEP2021,     11,  99,-999.0,      23,-999.0,19891128,0940,  22.7517, -158.0000,  4749,  898.900,    4.306,   34.426,2,   34.426,2,   30.000,2,   34.200,2,  105.450,2,   42.120,2,    3.060,2, -999.000
           NA,HOT timeseries 1988to2019 27SEP2021,     11,  99,-999.0,      22,-999.0,19891128,0940,  22.7517, -158.0000,  4749,  998.300,    3.988,   34.481,2,   34.482,2,   38.800,2,   38.700,2,  112.160,2,   42.000,2,    3.040,2, -999.000
           NA,HOT timeseries 1988to2019 27SEP2021,     11,  99,-999.0,      21,-999.0,19891128,0940,  22.7517, -158.0000,  4749, 1098.200,    3.713,   34.509,2,   34.510,2,   45.400,2,   44.700,2,  117.610,2,   41.880,2,    3.030,2, -999.000
           NA,HOT timeseries 1988to2019 27SEP2021,     11,  99,-999.0,      20,-999.0,19891128,0940,  22.7517, -158.0000,  4749, 1244.800,    3.333,   34.539,2,   34.541,2,   52.600,2,   53.000,2,  124.870,2,   41.530,2,    3.020,2, -999.000
           NA,HOT timeseries 1988to2019 27SEP2021,     11,  99,-999.0,      18,-999.0,19891128,0940,  22.7517, -158.0000,  4749, 1550.800,    2.708,   34.582,2,   34.583,2,   69.900,2,   69.700,2,  138.480,2,   40.930,2,    2.920,2, -999.000
           NA,HOT timeseries 1988to2019 27SEP2021,     11,  99,-999.0,      17,-999.0,19891128,0940,  22.7517, -158.0000,  4749, 1698.200,    2.467,   34.597,2,   34.596,2,   75.000,2,   76.700,2,  143.020,2,   40.580,2,    2.870,2, -999.000
           NA,HOT timeseries 1988to2019 27SEP2021,     11,  99,-999.0,      16,-999.0,19891128,0940,  22.7517, -158.0000,  4749, 1850.900,    2.280,   34.610,2,   34.610,2,   82.100,2,   84.900,2,  145.730,2,   40.230,2,    2.850,2, -999.000
           NA,HOT timeseries 1988to2019 27SEP2021,     11,  99,-999.0,      14,-999.0,19891128,0940,  22.7517, -158.0000,  4749, 2200.200,    1.937,   34.634,2,   34.635,2,   96.000,2,   96.300,2,  154.180,2,   39.470,2,    2.780,2, -999.000
           NA,HOT timeseries 1988to2019 27SEP2021,     11,  99,-999.0,      13,-999.0,19891128,0940,  22.7517, -158.0000,  4749, 2401.900,    1.808,   34.645,2,   34.646,2,  101.000,2,  104.200,2,  156.620,2,   39.060,2,    2.750,2, -999.000
           NA,HOT timeseries 1988to2019 27SEP2021,     11,  99,-999.0,      12,-999.0,19891128,0940,  22.7517, -158.0000,  4749, 2597.700,    1.701,   34.655,2,   34.655,2,  108.600,2,  111.700,2,  161.160,2,   38.590,2,    2.730,2, -999.000
           NA,HOT timeseries 1988to2019 27SEP2021,     11,  99,-999.0,      11,-999.0,19891128,0940,  22.7517, -158.0000,  4749, 2796.500,    1.626,   34.662,2,   34.662,2,  115.200,2,  118.700,2,  159.350,2,   38.230,2,    2.660,2, -999.000
           NA,HOT timeseries 1988to2019 27SEP2021,     11,  99,-999.0,      10,-999.0,19891128,0940,  22.7517, -158.0000,  4749, 2998.600,    1.559,   34.670,2, -999.000,3, -999.000,3,  124.700,2,  157.170,2,   37.650,2,    2.610,2, -999.000
           NA,HOT timeseries 1988to2019 27SEP2021,     11,  99,-999.0,       9,-999.0,19891128,0940,  22.7517, -158.0000,  4749, 3200.200,    1.516,   34.675,2,   34.674,2,  130.100,2,  130.300,2,  156.620,2,   37.290,2,    2.580,2, -999.000
           NA,HOT timeseries 1988to2019 27SEP2021,     11,  99,-999.0,       8,-999.0,19891128,0940,  22.7517, -158.0000,  4749, 3392.100,    1.490,   34.679,2,   34.680,2,  134.700,2,  135.700,2,  155.720,2,   36.930,2,    2.550,2, -999.000
           NA,HOT timeseries 1988to2019 27SEP2021,     11,  99,-999.0,       7,-999.0,19891128,0940,  22.7517, -158.0000,  4749, 3595.000,    1.467,   34.683,2,   34.683,2,  141.300,2,  145.100,2,  152.990,2,   36.580,2,    2.530,2, -999.000
           NA,HOT timeseries 1988to2019 27SEP2021,     11,  99,-999.0,       6,-999.0,19891128,0940,  22.7517, -158.0000,  4749, 3799.500,    1.458,   34.686,2,   34.687,2,  145.800,2,  147.200,2,  152.360,2,   36.290,2,    2.510,2, -999.000
           NA,HOT timeseries 1988to2019 27SEP2021,     11,  99,-999.0,       5,-999.0,19891128,0940,  22.7517, -158.0000,  4749, 3993.200,    1.457,   34.688,2,   34.688,2,  149.200,2,  149.100,2,  150.820,2,   36.110,2,    2.500,2, -999.000
           NA,HOT timeseries 1988to2019 27SEP2021,     11,  99,-999.0,       4,-999.0,19891128,0940,  22.7517, -158.0000,  4749, 4197.300,    1.466,   34.689,2, -999.000,4, -999.000,3,  151.700,2,  148.090,2,   36.000,2,    2.500,2, -999.000
           NA,HOT timeseries 1988to2019 27SEP2021,     11,  99,-999.0,       3,-999.0,19891128,0940,  22.7517, -158.0000,  4749, 4390.600,    1.479,   34.690,2, -999.000,3, -999.000,3,  153.100,2,  148.450,2,   36.000,2,    2.490,2, -999.000
           NA,HOT timeseries 1988to2019 27SEP2021,     11,  99,-999.0,       2,-999.0,19891128,0940,  22.7517, -158.0000,  4749, 4491.900,    1.488,   34.690,2,   34.690,2,  153.600,2,  152.900,2,  147.540,2,   35.880,2,    2.460,2, -999.000
           NA,HOT timeseries 1988to2019 27SEP2021,     11,  99,-999.0,       1,-999.0,19891128,0940,  22.7517, -158.0000,  4749, 4694.500,    1.508,   34.691,2,   34.690,2,  156.400,2,  153.400,2,  147.540,2,   35.760,2,    2.490,2, -999.000