BOTTLE,20214727JOAExport
EXPOCODE,SECT_ID,STNNBR,CASTNO,SAMPNO,BTLNBR,BTLNBR_FLAG_W,DATE,TIME,LATITUDE,LONGITUDE,DEPTH,CTDPRS,CTDTMP,CTDSAL,CTDSAL_FLAG_W,SALNTY,SALNTY_FLAG_W,CTDOXY,CTDOXY_FLAG_W,OXYGEN,OXYGEN_FLAG_W,SILCAT,SILCAT_FLAG_W,NINI,NINI_FLAG_W,PHSPHT,PHSPHT_FLAG_W,REVP
,,,,,,,,,,,,DB,IPTS-68,PSS-78,,PSS-78,,UMOL/KG,,UMOL/KG,,UMOL/KG,,UMOL/KG,,UMOL/KG,,DBAR
           NA,HOT timeseries 1988to2019 27SEP2021,     18,  99,-999.0,      22,-999.0,19900724,2244,  22.7967, -158.0133,  4699,    6.700,   25.868,   34.871,2,   34.869,2,  264.900,2, -999.000,5,    0.910,2,    0.000,2,    0.110,2, -999.000
           NA,HOT timeseries 1988to2019 27SEP2021,     18,  99,-999.0,      21,-999.0,19900724,2244,  22.7967, -158.0133,  4699,   12.600,   25.840,   34.869,2,   34.869,2,  264.900,2, -999.000,5,    0.720,2,    0.000,2,    0.110,2, -999.000
           NA,HOT timeseries 1988to2019 27SEP2021,     18,  99,-999.0,      20,-999.0,19900724,2244,  22.7967, -158.0133,  4699,   27.500,   25.327,   34.952,2,   34.941,2,  296.800,2, -999.000,5,    0.720,2,    0.030,2,    0.130,2, -999.000
           NA,HOT timeseries 1988to2019 27SEP2021,     18,  99,-999.0,      19,-999.0,19900724,2244,  22.7967, -158.0133,  4699,   34.300,   24.666,   35.016,2,   35.011,2,  264.700,2,  216.000,2,    0.720,2,    0.000,2,    0.110,2, -999.000
           NA,HOT timeseries 1988to2019 27SEP2021,     18,  99,-999.0,      18,-999.0,19900724,2244,  22.7967, -158.0133,  4699,   62.200,   23.250,   35.051,2,   35.040,2,  254.200,2,  223.700,2,    0.720,2,    0.000,2,    0.110,2, -999.000
           NA,HOT timeseries 1988to2019 27SEP2021,     18,  99,-999.0,      17,-999.0,19900724,2244,  22.7967, -158.0133,  4699,  117.700,   21.270,   35.208,2,   35.210,2,  218.800,2, -999.000,5,    0.910,2,    0.400,2,    0.140,2, -999.000
           NA,HOT timeseries 1988to2019 27SEP2021,     18,  99,-999.0,      16,-999.0,19900724,2244,  22.7967, -158.0133,  4699,  155.900,   19.487,   35.132,2,   35.130,2,  202.800,2,  202.000,2,    1.670,2,    1.700,2,    0.210,2, -999.000
           NA,HOT timeseries 1988to2019 27SEP2021,     18,  99,-999.0,      15,-999.0,19900724,2244,  22.7967, -158.0133,  4699,  223.500,   17.092,   34.857,2,   34.864,2,  200.500,2,  202.700,2,    3.570,2,    3.640,2,    0.330,2, -999.000
           NA,HOT timeseries 1988to2019 27SEP2021,     18,  99,-999.0,      14,-999.0,19900724,2244,  22.7967, -158.0133,  4699,  305.600,   11.941,   34.256,2,   34.257,2,  175.900,2,  177.700,2,   13.240,2,   13.950,2,    1.070,2, -999.000
           NA,HOT timeseries 1988to2019 27SEP2021,     18,  99,-999.0,      12,-999.0,19900724,2244,  22.7967, -158.0133,  4699,  357.000,   10.264,   34.159,2,   34.166,2,  191.000,2,  193.400,2,   17.800,2,   16.110,2,    1.200,2, -999.000
           NA,HOT timeseries 1988to2019 27SEP2021,     18,  99,-999.0,      11,-999.0,19900724,2244,  22.7967, -158.0133,  4699,  420.500,    8.682,   34.091,2,   34.097,2,  165.300,2,  161.500,2,   29.370,2,   22.190,2,    1.630,2, -999.000
           NA,HOT timeseries 1988to2019 27SEP2021,     18,  99,-999.0,      10,-999.0,19900724,2244,  22.7967, -158.0133,  4699,  481.000,    7.201,   34.057,2,   34.062,2,  126.600,2,  128.200,2,   44.930,2,   28.400,2,    2.040,2, -999.000
           NA,HOT timeseries 1988to2019 27SEP2021,     18,  99,-999.0,       9,-999.0,19900724,2244,  22.7967, -158.0133,  4699,  533.700,    6.374,   34.065,2,   34.064,2,  100.300,2,   96.500,2, -999.000,3, -999.000,3, -999.000,3, -999.000
           NA,HOT timeseries 1988to2019 27SEP2021,     18,  99,-999.0,       8,-999.0,19900724,2244,  22.7967, -158.0133,  4699,  589.200,    5.710,   34.111,2,   34.111,2,   68.600,2,   61.700,2,   71.110,2,   36.760,2,    2.700,2, -999.000
           NA,HOT timeseries 1988to2019 27SEP2021,     18,  99,-999.0,       7,-999.0,19900724,2244,  22.7967, -158.0133,  4699,  633.900,    5.169,   34.162,2,   34.161,2,   38.400,2,   42.600,2,   82.490,2,   39.290,2,    2.880,2, -999.000
           NA,HOT timeseries 1988to2019 27SEP2021,     18,  99,-999.0,       6,-999.0,19900724,2244,  22.7967, -158.0133,  4699,  687.600,    4.939,   34.241,2,   34.245,2,   22.000,2,   29.300,2,   89.510,2,   40.930,2,    3.000,2, -999.000
           NA,HOT timeseries 1988to2019 27SEP2021,     18,  99,-999.0,       5,-999.0,19900724,2244,  22.7967, -158.0133,  4699,  757.500,    4.734,   34.347,2,   34.346,2,   16.400,2,   25.200,2,   95.760,2,   41.690,2,    3.080,2, -999.000
           NA,HOT timeseries 1988to2019 27SEP2021,     18,  99,-999.0,       4,-999.0,19900724,2244,  22.7967, -158.0133,  4699,  838.100,    4.475,   34.419,2,   34.417,2,   21.100,2,   30.200,2,  101.450,2,   41.940,2,    3.080,2, -999.000
           NA,HOT timeseries 1988to2019 27SEP2021,     18,  99,-999.0,       3,-999.0,19900724,2244,  22.7967, -158.0133,  4699,  894.800,    4.335,   34.445,2,   34.444,2,   27.300,2, -999.000,5,  103.720,2,   42.070,2,    3.080,2, -999.000
           NA,HOT timeseries 1988to2019 27SEP2021,     18,  99,-999.0,      22,-999.0,19900724,2244,  22.7967, -158.0133,  4699,  901.400,    4.335,   34.446,2,   34.446,2,   31.400,2,   34.400,2,  103.720,2,   41.940,2,    3.030,2, -999.000
           NA,HOT timeseries 1988to2019 27SEP2021,     18,  99,-999.0,       2,-999.0,19900724,2244,  22.7967, -158.0133,  4699,  991.600,    4.044,   34.484,2,   34.483,2,   36.700,2, -999.000,5,  109.400,2,   41.820,2,    3.060,2, -999.000
           NA,HOT timeseries 1988to2019 27SEP2021,     18,  99,-999.0,      21,-999.0,19900724,2244,  22.7967, -158.0133,  4699, 1001.500,    4.088,   34.480,2,   34.479,2,   39.900,2,   40.800,2,  108.460,2,   41.820,2,    3.020,2, -999.000
           NA,HOT timeseries 1988to2019 27SEP2021,     18,  99,-999.0,       1,-999.0,19900724,2244,  22.7967, -158.0133,  4699, 1019.200,    3.973,   34.492,2,   34.493,2,   38.200,2, -999.000,5,  111.300,2,   41.880,2,    3.050,2, -999.000
           NA,HOT timeseries 1988to2019 27SEP2021,     18,  99,-999.0,      20,-999.0,19900724,2244,  22.7967, -158.0133,  4699, 1101.800,    3.792,   34.507,2,   34.509,2,   44.400,2,   44.900,2,  114.720,2,   41.810,2,    3.020,2, -999.000
           NA,HOT timeseries 1988to2019 27SEP2021,     18,  99,-999.0,      19,-999.0,19900724,2244,  22.7967, -158.0133,  4699, 1251.300,    3.415,   34.535,2,   34.536,2,   54.600,2,   51.900,2,  123.240,2,   41.810,2,    3.000,2, -999.000
           NA,HOT timeseries 1988to2019 27SEP2021,     18,  99,-999.0,      18,-999.0,19900724,2244,  22.7967, -158.0133,  4699, 1401.700,    3.087,   34.564,2,   34.564,2,   63.000,2,   60.900,2,  129.320,2,   41.180,2,    2.980,2, -999.000
           NA,HOT timeseries 1988to2019 27SEP2021,     18,  99,-999.0,      17,-999.0,19900724,2244,  22.7967, -158.0133,  4699, 1550.100,    2.801,   34.582,2,   34.582,2,   71.200,2,   68.200,2,  135.570,2,   41.050,2,    2.940,2, -999.000
           NA,HOT timeseries 1988to2019 27SEP2021,     18,  99,-999.0,      16,-999.0,19900724,2244,  22.7967, -158.0133,  4699, 1702.700,    2.535,   34.593,2,   34.592,2,   77.100,2,   75.100,2,  141.640,2,   40.540,2,    2.890,2, -999.000
           NA,HOT timeseries 1988to2019 27SEP2021,     18,  99,-999.0,      15,-999.0,19900724,2244,  22.7967, -158.0133,  4699, 1851.700,    2.355,   34.607,2,   34.607,2,   83.700,2,   82.300,2,  144.480,2,   40.290,2,    2.860,2, -999.000
           NA,HOT timeseries 1988to2019 27SEP2021,     18,  99,-999.0,      14,-999.0,19900724,2244,  22.7967, -158.0133,  4699, 2000.600,    2.174,   34.618,2,   34.620,2,   87.800,2,   89.200,2,  148.270,2,   39.920,2,    2.850,2, -999.000
           NA,HOT timeseries 1988to2019 27SEP2021,     18,  99,-999.0,      13,-999.0,19900724,2244,  22.7967, -158.0133,  4699, 2203.200,    2.016,   34.630,2,   34.630,2,   94.500,2,   96.500,2,  149.790,2,   39.660,2,    2.780,2, -999.000
           NA,HOT timeseries 1988to2019 27SEP2021,     18,  99,-999.0,      11,-999.0,19900724,2244,  22.7967, -158.0133,  4699, 2601.700,    1.738,   34.652,2,   34.652,2,  108.700,2,  109.900,2,  154.910,2,   38.650,2,    2.710,2, -999.000
           NA,HOT timeseries 1988to2019 27SEP2021,     18,  99,-999.0,      10,-999.0,19900724,2244,  22.7967, -158.0133,  4699, 2801.200,    1.652,   34.659,2,   34.657,2,  110.000,2,  113.700,2,  159.270,2,   38.390,2,    2.690,2, -999.000
           NA,HOT timeseries 1988to2019 27SEP2021,     18,  99,-999.0,       9,-999.0,19900724,2244,  22.7967, -158.0133,  4699, 2999.400,    1.579,   34.667,2,   34.667,2,  121.500,2,  122.800,2,  156.810,2,   37.760,2,    2.640,2, -999.000
           NA,HOT timeseries 1988to2019 27SEP2021,     18,  99,-999.0,       8,-999.0,19900724,2244,  22.7967, -158.0133,  4699, 3193.500,    1.530,   34.673,2,   34.672,2,  127.800,2,  128.700,2,  158.320,2,   37.370,2,    2.610,2, -999.000
           NA,HOT timeseries 1988to2019 27SEP2021,     18,  99,-999.0,       7,-999.0,19900724,2244,  22.7967, -158.0133,  4699, 3401.000,    1.497,   34.677,2,   34.680,2,  135.200,2,  135.000,2,  155.860,2,   37.250,2,    2.570,2, -999.000
           NA,HOT timeseries 1988to2019 27SEP2021,     18,  99,-999.0,       6,-999.0,19900724,2244,  22.7967, -158.0133,  4699, 3584.100,    1.480,   34.680,2,   34.683,2,  139.700,2,  139.200,2,  155.480,2,   36.740,2,    2.560,2, -999.000
           NA,HOT timeseries 1988to2019 27SEP2021,     18,  99,-999.0,       5,-999.0,19900724,2244,  22.7967, -158.0133,  4699, 3805.100,    1.464,   34.683,2,   34.687,2,  145.500,2,  144.300,2,  152.630,2,   36.370,2,    2.530,2, -999.000
           NA,HOT timeseries 1988to2019 27SEP2021,     18,  99,-999.0,       4,-999.0,19900724,2244,  22.7967, -158.0133,  4699, 3999.400,    1.463,   34.686,2,   34.688,2,  148.100,2,  147.400,2,  151.110,2,   36.240,2,    2.510,2, -999.000
           NA,HOT timeseries 1988to2019 27SEP2021,     18,  99,-999.0,       3,-999.0,19900724,2244,  22.7967, -158.0133,  4699, 4199.000,    1.470,   34.687,2, -999.000,3, -999.000,3,  149.600,2,  150.160,2,   35.990,2,    2.500,2, -999.000
           NA,HOT timeseries 1988to2019 27SEP2021,     18,  99,-999.0,       2,-999.0,19900724,2244,  22.7967, -158.0133,  4699, 4392.400,    1.480,   34.688,2,   34.692,2,  151.700,2,  151.400,2,  149.210,2,   35.860,2,    2.490,2, -999.000
           NA,HOT timeseries 1988to2019 27SEP2021,     18,  99,-999.0,       1,-999.0,19900724,2244,  22.7967, -158.0133,  4699, 4498.200,    1.489,   34.689,2,   34.689,2,  151.700,2,  151.700,2,  150.160,2,   35.730,2,    2.490,2, -999.000