BOTTLE,20214727JOAExport
EXPOCODE,SECT_ID,STNNBR,CASTNO,SAMPNO,BTLNBR,BTLNBR_FLAG_W,DATE,TIME,LATITUDE,LONGITUDE,DEPTH,CTDPRS,CTDTMP,CTDSAL,CTDSAL_FLAG_W,SALNTY,SALNTY_FLAG_W,CTDOXY,CTDOXY_FLAG_W,OXYGEN,OXYGEN_FLAG_W,SILCAT,SILCAT_FLAG_W,NINI,NINI_FLAG_W,PHSPHT,PHSPHT_FLAG_W,REVP
,,,,,,,,,,,,DB,IPTS-68,PSS-78,,PSS-78,,UMOL/KG,,UMOL/KG,,UMOL/KG,,UMOL/KG,,UMOL/KG,,DBAR
           NA,HOT timeseries 1988to2019 27SEP2021,    235,  99,-999.0,    8024,-999.0,20130405,2155,  22.7498, -157.9998,  4724,    5.000,   22.949,   35.437,2,   35.438,2,  215.400,2,  214.600,2,    1.240,2,    0.030,2,    0.070,2, -999.000
           NA,HOT timeseries 1988to2019 27SEP2021,    235,  99,-999.0,    8024,-999.0,20130405,2155,  22.7498, -157.9998,  4724,    5.400,   22.786,   35.434,2,   35.435,2,  212.600,2,  215.100,2,    1.400,2,    0.000,2,    0.080,2, -999.000
           NA,HOT timeseries 1988to2019 27SEP2021,    235,  99,-999.0,    8023,-999.0,20130405,2155,  22.7498, -157.9998,  4724,   46.800,   22.580,   35.423,2,   35.424,2,  213.700,2,  215.100,2,    1.240,2,    0.030,2,    0.060,2, -999.000
           NA,HOT timeseries 1988to2019 27SEP2021,    235,  99,-999.0,    8022,-999.0,20130405,2155,  22.7498, -157.9998,  4724,   87.800,   22.256,   35.414,2,   35.414,2,  214.700,2,  216.000,2,    1.260,2,    0.030,2,    0.040,2, -999.000
           NA,HOT timeseries 1988to2019 27SEP2021,    235,  99,-999.0,    8021,-999.0,20130405,2155,  22.7498, -157.9998,  4724,  134.900,   22.091,   35.419,2,   35.420,2,  216.300,2,  216.400,2,    1.300,2,    0.040,2,    0.030,2, -999.000
           NA,HOT timeseries 1988to2019 27SEP2021,    235,  99,-999.0,    8020,-999.0,20130405,2155,  22.7498, -157.9998,  4724,  180.100,   21.155,   35.274,2,   35.289,2,  209.400,2,  211.100,2,    2.170,2,    0.430,2,    0.060,2, -999.000
           NA,HOT timeseries 1988to2019 27SEP2021,    235,  99,-999.0,    8019,-999.0,20130405,2155,  22.7498, -157.9998,  4724,  204.200,   19.486,   35.012,2,   35.002,2,  198.800,2,  203.500,2,    2.570,2,    1.750,2,    0.170,2, -999.000
           NA,HOT timeseries 1988to2019 27SEP2021,    235,  99,-999.0,    8018,-999.0,20130405,2155,  22.7498, -157.9998,  4724,  244.600,   15.911,   34.559,2,   34.557,2,  194.500,2,  194.500,2,    7.440,2,    5.860,2,    0.450,2, -999.000
           NA,HOT timeseries 1988to2019 27SEP2021,    235,  99,-999.0,    8017,-999.0,20130405,2155,  22.7498, -157.9998,  4724,  281.500,   14.004,   34.350,2,   34.339,2,  194.700,2,  193.900,2,    8.760,2,    8.770,2,    0.660,2, -999.000
           NA,HOT timeseries 1988to2019 27SEP2021,    235,  99,-999.0,    8015,-999.0,20130405,2155,  22.7498, -157.9998,  4724,  362.200,   10.200,   34.123,2,   34.124,2,  177.200,2,  174.700,2,   20.380,2,   17.710,2,    1.280,2, -999.000
           NA,HOT timeseries 1988to2019 27SEP2021,    235,  99,-999.0,    8014,-999.0,20130405,2155,  22.7498, -157.9998,  4724,  428.400,    8.917,   34.106,2,   34.106,2,  148.000,2,  140.300,2,   31.770,2,   23.390,2,    1.690,2, -999.000
           NA,HOT timeseries 1988to2019 27SEP2021,    235,  99,-999.0,    8025,-999.0,20130405,2155,  22.7498, -157.9998,  4724,  449.500,    8.326,   34.090,2,   34.090,2,  131.700,2,  126.200,2,   36.520,2,   25.890,2,    1.880,2, -999.000
           NA,HOT timeseries 1988to2019 27SEP2021,    235,  99,-999.0,    8012,-999.0,20130405,2155,  22.7498, -157.9998,  4724,  486.100,    7.452,   34.099,2,   34.099,2,   95.700,2,   96.100,2,   47.130,2,   30.110,2,    2.190,2, -999.000
           NA,HOT timeseries 1988to2019 27SEP2021,    235,  99,-999.0,    8011,-999.0,20130405,2155,  22.7498, -157.9998,  4724,  526.600,    6.943,   34.126,2,   34.127,2,   71.700,2,   70.900,2,   55.140,2,   33.080,2,    2.440,2, -999.000
           NA,HOT timeseries 1988to2019 27SEP2021,    235,  99,-999.0,    8010,-999.0,20130405,2155,  22.7498, -157.9998,  4724,  586.800,    6.078,   34.177,2,   34.176,2,   45.200,2, -999.000,5,   68.620,2,   37.220,2,    2.740,2, -999.000
           NA,HOT timeseries 1988to2019 27SEP2021,    235,  99,-999.0,    8009,-999.0,20130405,2155,  22.7498, -157.9998,  4724,  610.500,    5.974,   34.224,2,   34.228,2,   36.900,2,   35.500,2,   72.180,2,   38.040,2,    2.800,2, -999.000
           NA,HOT timeseries 1988to2019 27SEP2021,    235,  99,-999.0,    8008,-999.0,20130405,2155,  22.7498, -157.9998,  4724,  646.900,    5.758,   34.271,2,   34.272,2,   32.600,2,   32.500,2,   76.650,2,   38.820,2,    2.840,2, -999.000
           NA,HOT timeseries 1988to2019 27SEP2021,    235,  99,-999.0,    8026,-999.0,20130405,2155,  22.7498, -157.9998,  4724,  681.700,    5.591,   34.299,2,   34.300,2,   27.700,2,   27.400,2,   79.530,2,   39.440,2,    2.900,2, -999.000
           NA,HOT timeseries 1988to2019 27SEP2021,    235,  99,-999.0,    8005,-999.0,20130405,2155,  22.7498, -157.9998,  4724,  756.500,    5.289,   34.389,2,   34.390,2,   25.300,2,   25.500,2,   86.220,2,   40.850,2,    2.980,2, -999.000
           NA,HOT timeseries 1988to2019 27SEP2021,    235,  99,-999.0,    8004,-999.0,20130405,2155,  22.7498, -157.9998,  4724,  815.800,    5.062,   34.416,2,   34.417,2,   27.300,2,   27.300,2,   90.350,2,   41.340,2,    2.970,2, -999.000
           NA,HOT timeseries 1988to2019 27SEP2021,    235,  99,-999.0,    8003,-999.0,20130405,2155,  22.7498, -157.9998,  4724,  874.700,    4.778,   34.442,2,   34.441,2,   32.200,2,   31.300,2,   95.420,2,   41.420,2,    2.980,2, -999.000
           NA,HOT timeseries 1988to2019 27SEP2021,    235,  99,-999.0,    8002,-999.0,20130405,2155,  22.7498, -157.9998,  4724,  949.900,    4.426,   34.456,2,   34.459,2,   37.500,2,   39.800,2,  102.330,2,   41.290,2,    2.960,2, -999.000
           NA,HOT timeseries 1988to2019 27SEP2021,    235,  99,-999.0,    8001,-999.0,20130405,2155,  22.7498, -157.9998,  4724, 1019.900,    4.168,   34.479,2,   34.480,2,   43.100,2,   43.300,2,  107.350,2,   41.200,2,    2.940,2, -999.000
           NA,HOT timeseries 1988to2019 27SEP2021,    235,  99,-999.0,    8020,-999.0,20130405,2155,  22.7498, -157.9998,  4724, 1201.000,    3.606,   34.518,2,   34.519,2,   50.400,2,   51.200,2, -999.000,3,   40.730,2,    2.930,2, -999.000
           NA,HOT timeseries 1988to2019 27SEP2021,    235,  99,-999.0,    8019,-999.0,20130405,2155,  22.7498, -157.9998,  4724, 1399.400,    3.153,   34.553,2,   34.553,2,   59.000,2,   59.300,2,  128.240,2,   40.660,2,    2.930,2, -999.000
           NA,HOT timeseries 1988to2019 27SEP2021,    235,  99,-999.0,    8018,-999.0,20130405,2155,  22.7498, -157.9998,  4724, 1598.400,    2.704,   34.582,2,   34.583,2,   70.100,2,   71.100,2,  137.960,2,   40.250,2,    2.860,2, -999.000
           NA,HOT timeseries 1988to2019 27SEP2021,    235,  99,-999.0,    8017,-999.0,20130405,2155,  22.7498, -157.9998,  4724, 1801.200,    2.416,   34.599,2,   34.599,2,   80.300,2,   80.100,2,  144.140,2,   39.670,2,    2.810,2, -999.000
           NA,HOT timeseries 1988to2019 27SEP2021,    235,  99,-999.0,    8016,-999.0,20130405,2155,  22.7498, -157.9998,  4724, 1999.800,    2.192,   34.614,2,   34.615,2,   85.800,2,   86.700,2,  149.700,2,   39.520,2,    2.790,2, -999.000
           NA,HOT timeseries 1988to2019 27SEP2021,    235,  99,-999.0,    8015,-999.0,20130405,2155,  22.7498, -157.9998,  4724, 2200.100,    1.988,   34.628,2,   34.628,2,   95.200,2,   95.700,2,  153.810,2,   38.790,2,    2.730,2, -999.000
           NA,HOT timeseries 1988to2019 27SEP2021,    235,  99,-999.0,    8014,-999.0,20130405,2155,  22.7498, -157.9998,  4724, 2399.800,    1.826,   34.641,2,   34.641,2,  102.200,2,  102.700,2,  157.390,2,   38.440,2,    2.700,2, -999.000
           NA,HOT timeseries 1988to2019 27SEP2021,    235,  99,-999.0,    8025,-999.0,20130405,2155,  22.7498, -157.9998,  4724, 2599.300,    1.697,   34.652,2,   34.651,2,  108.800,2,  110.300,2,  161.070,2,   38.160,2,    2.670,2, -999.000
           NA,HOT timeseries 1988to2019 27SEP2021,    235,  99,-999.0,    8012,-999.0,20130405,2155,  22.7498, -157.9998,  4724, 2799.900,    1.612,   34.661,2,   34.661,2,  117.700,2,  118.300,2,  159.780,2,   37.570,2,    2.620,2, -999.000
           NA,HOT timeseries 1988to2019 27SEP2021,    235,  99,-999.0,    8011,-999.0,20130405,2155,  22.7498, -157.9998,  4724, 2999.800,    1.547,   34.667,2,   34.667,2,  124.300,2,  124.700,2,  159.910,2,   36.990,2,    2.580,2, -999.000
           NA,HOT timeseries 1988to2019 27SEP2021,    235,  99,-999.0,    8010,-999.0,20130405,2155,  22.7498, -157.9998,  4724, 3200.300,    1.509,   34.672,2,   34.672,2,  130.400,2,  131.100,2,  158.790,2,   36.790,2,    2.560,2, -999.000
           NA,HOT timeseries 1988to2019 27SEP2021,    235,  99,-999.0,    8009,-999.0,20130405,2155,  22.7498, -157.9998,  4724, 3399.800,    1.484,   34.676,2,   34.676,2,  135.700,2,  135.600,2,  157.510,2,   36.420,2,    2.520,2, -999.000
           NA,HOT timeseries 1988to2019 27SEP2021,    235,  99,-999.0,    8008,-999.0,20130405,2155,  22.7498, -157.9998,  4724, 3600.400,    1.469,   34.680,2,   34.680,2,  140.300,2,  140.900,2,  155.570,2,   35.990,2,    2.500,2, -999.000
           NA,HOT timeseries 1988to2019 27SEP2021,    235,  99,-999.0,    8026,-999.0,20130405,2155,  22.7498, -157.9998,  4724, 3799.500,    1.461,   34.682,2,   34.682,2,  144.300,2,  144.000,2,  155.400,2,   35.840,2,    2.480,2, -999.000
           NA,HOT timeseries 1988to2019 27SEP2021,    235,  99,-999.0,    8006,-999.0,20130405,2155,  22.7498, -157.9998,  4724, 4000.300,    1.460,   34.684,2,   34.684,2,  147.600,2,  147.800,2,  152.500,2,   35.620,2,    2.470,2, -999.000
           NA,HOT timeseries 1988to2019 27SEP2021,    235,  99,-999.0,    8005,-999.0,20130405,2155,  22.7498, -157.9998,  4724, 4200.900,    1.467,   34.686,2,   34.686,2,  150.100,2,  149.400,2,  151.200,2,   35.430,2,    2.460,2, -999.000
           NA,HOT timeseries 1988to2019 27SEP2021,    235,  99,-999.0,    8004,-999.0,20130405,2155,  22.7498, -157.9998,  4724, 4401.300,    1.482,   34.687,2,   34.687,2,  151.500,2,  151.100,2,  150.410,2,   35.430,2,    2.450,2, -999.000
           NA,HOT timeseries 1988to2019 27SEP2021,    235,  99,-999.0,    8003,-999.0,20130405,2155,  22.7498, -157.9998,  4724, 4500.400,    1.490,   34.687,2,   34.687,2,  152.300,2,  151.800,2,  150.090,2,   35.500,2,    2.460,2, -999.000
           NA,HOT timeseries 1988to2019 27SEP2021,    235,  99,-999.0,    8002,-999.0,20130405,2155,  22.7498, -157.9998,  4724, 4600.600,    1.500,   34.687,2,   34.687,2,  152.300,2,  152.100,2,  149.510,2,   35.490,2,    2.460,2, -999.000
           NA,HOT timeseries 1988to2019 27SEP2021,    235,  99,-999.0,    8001,-999.0,20130405,2155,  22.7498, -157.9998,  4724, 4808.600,    1.524,   34.687,2,   34.688,2,  152.600,2,  151.800,2,  150.480,2,   35.250,2,    2.460,2, -999.000