BOTTLE,20214727JOAExport
EXPOCODE,SECT_ID,STNNBR,CASTNO,SAMPNO,BTLNBR,BTLNBR_FLAG_W,DATE,TIME,LATITUDE,LONGITUDE,DEPTH,CTDPRS,CTDTMP,CTDSAL,CTDSAL_FLAG_W,SALNTY,SALNTY_FLAG_W,CTDOXY,CTDOXY_FLAG_W,OXYGEN,OXYGEN_FLAG_W,SILCAT,SILCAT_FLAG_W,NINI,NINI_FLAG_W,PHSPHT,PHSPHT_FLAG_W,REVP
,,,,,,,,,,,,DB,IPTS-68,PSS-78,,PSS-78,,UMOL/KG,,UMOL/KG,,UMOL/KG,,UMOL/KG,,UMOL/KG,,DBAR
           NA,HOT timeseries 1988to2019 27SEP2021,      2,  99,-999.0,    8058,-999.0,20170123,2313,  22.7498, -157.9998,  4745,    3.700,   23.724,   35.069,2,   35.068,2,  211.100,2,  213.200,2,    1.290,2,    0.010,2,    0.070,2, -999.000
           NA,HOT timeseries 1988to2019 27SEP2021,      2,  99,-999.0,    8023,-999.0,20170123,2313,  22.7498, -157.9998,  4745,   79.800,   23.687,   35.067,2,   35.069,2,  210.700,2,  212.000,2,    1.240,2,    0.000,2,    0.060,2, -999.000
           NA,HOT timeseries 1988to2019 27SEP2021,      2,  99,-999.0,    8022,-999.0,20170123,2313,  22.7498, -157.9998,  4745,  103.500,   23.309,   35.116,2,   35.116,2,  208.900,2,  208.300,2,    1.420,2,    0.020,2,    0.080,2, -999.000
           NA,HOT timeseries 1988to2019 27SEP2021,      2,  99,-999.0,    8021,-999.0,20170123,2313,  22.7498, -157.9998,  4745,  126.500,   22.043,   35.144,2,   35.149,2,  200.100,2,  199.800,2,    1.710,2,    0.530,2,    0.140,2, -999.000
           NA,HOT timeseries 1988to2019 27SEP2021,      2,  99,-999.0,    8020,-999.0,20170123,2313,  22.7498, -157.9998,  4745,  144.600,   20.584,   35.025,2,   35.030,2,  189.500,2,  190.200,2,    2.330,2, -999.000,3,    0.220,2, -999.000
           NA,HOT timeseries 1988to2019 27SEP2021,      2,  99,-999.0,    8019,-999.0,20170123,2313,  22.7498, -157.9998,  4745,  166.500,   18.924,   34.908,2,   34.907,2,  196.000,2,  195.900,2,    2.860,2,    2.570,2,    0.240,2, -999.000
           NA,HOT timeseries 1988to2019 27SEP2021,      2,  99,-999.0,    8018,-999.0,20170123,2313,  22.7498, -157.9998,  4745,  205.700,   15.747,   34.487,2,   34.493,2,  186.900,2,  186.200,2,    5.810,2,    6.340,2,    0.540,2, -999.000
           NA,HOT timeseries 1988to2019 27SEP2021,      2,  99,-999.0,    8017,-999.0,20170123,2313,  22.7498, -157.9998,  4745,  210.100,   15.376,   34.476,2,   34.470,2,  194.000,2,  192.400,2,    5.860,2,    6.200,2,    0.520,2, -999.000
           NA,HOT timeseries 1988to2019 27SEP2021,      2,  99,-999.0,    8016,-999.0,20170123,2313,  22.7498, -157.9998,  4745,  218.100,   15.018,   34.432,2,   34.440,2,  196.400,2,  196.600,2,    6.080,2,    6.320,2,    0.510,2, -999.000
           NA,HOT timeseries 1988to2019 27SEP2021,      2,  99,-999.0,    8015,-999.0,20170123,2313,  22.7498, -157.9998,  4745,  267.400,   12.386,   34.177,2,   34.175,2,  180.200,2,  176.900,2,   12.450,2,   12.870,2,    0.990,2, -999.000
           NA,HOT timeseries 1988to2019 27SEP2021,      2,  99,-999.0,    8014,-999.0,20170123,2313,  22.7498, -157.9998,  4745,  309.800,   11.330,   34.149,2,   34.152,2,  159.500,2,  159.800,2,   17.640,2,   16.780,2,    1.310,2, -999.000
           NA,HOT timeseries 1988to2019 27SEP2021,      2,  99,-999.0,    8025,-999.0,20170123,2313,  22.7498, -157.9998,  4745,  367.300,    9.071,   34.061,2,   34.075,2,  164.600,2,  165.900,2,   26.090,2,   21.090,2,    1.510,2, -999.000
           NA,HOT timeseries 1988to2019 27SEP2021,      2,  99,-999.0,    8012,-999.0,20170123,2313,  22.7498, -157.9998,  4745,  424.800,    7.858,   34.036,2,   34.037,2,  136.200,2,  135.700,2,   38.000,2,   26.580,2,    1.910,2, -999.000
           NA,HOT timeseries 1988to2019 27SEP2021,      2,  99,-999.0,    8011,-999.0,20170123,2313,  22.7498, -157.9998,  4745,  452.600,    7.283,   34.035,2,   34.037,2,  115.900,2,  114.000,2,   45.590,2,   29.580,2,    2.140,2, -999.000
           NA,HOT timeseries 1988to2019 27SEP2021,      2,  99,-999.0,    8010,-999.0,20170123,2313,  22.7498, -157.9998,  4745,  489.400,    6.694,   34.063,2,   34.064,2,   86.500,2,   83.300,2,   54.810,2,   33.310,2,    2.430,2, -999.000
           NA,HOT timeseries 1988to2019 27SEP2021,      2,  99,-999.0,    8009,-999.0,20170123,2313,  22.7498, -157.9998,  4745,  542.500,    5.806,   34.074,2, -999.000,4, -999.000,3,   64.400,2,   68.230,2,   36.570,2,    2.670,2, -999.000
           NA,HOT timeseries 1988to2019 27SEP2021,      2,  99,-999.0,    8008,-999.0,20170123,2313,  22.7498, -157.9998,  4745,  581.000,    5.544,   34.169,2,   34.171,2,   41.000,2, -999.000,3,   77.270,2,   39.260,2,    2.900,2, -999.000
           NA,HOT timeseries 1988to2019 27SEP2021,      2,  99,-999.0,    8060,-999.0,20170123,2313,  22.7498, -157.9998,  4745,  651.800,    5.033,   34.235,2, -999.000,4, -999.000,3,   24.200,2,   88.670,2,   41.230,2,    3.070,2, -999.000
           NA,HOT timeseries 1988to2019 27SEP2021,      2,  99,-999.0,    8006,-999.0,20170123,2313,  22.7498, -157.9998,  4745,  684.500,    4.935,   34.270,2,   34.269,2,   28.400,2,   26.900,2,   90.930,2,   41.430,2,    3.060,2, -999.000
           NA,HOT timeseries 1988to2019 27SEP2021,      2,  99,-999.0,    8005,-999.0,20170123,2313,  22.7498, -157.9998,  4745,  728.500,    4.753,   34.319,2,   34.321,2,   28.200,2,   27.400,2,   95.070,2,   41.310,2,    3.060,2, -999.000
           NA,HOT timeseries 1988to2019 27SEP2021,      2,  99,-999.0,    8059,-999.0,20170123,2313,  22.7498, -157.9998,  4745,  804.300,    4.587,   34.412,2,   34.409,2,   37.600,2,   37.000,2,   98.580,2,   41.250,2,    3.030,2, -999.000
           NA,HOT timeseries 1988to2019 27SEP2021,      2,  99,-999.0,    8003,-999.0,20170123,2313,  22.7498, -157.9998,  4745,  881.400,    4.394,   34.446,2,   34.446,2,   40.300,2,   40.300,2,  102.090,2,   41.630,2,    3.030,2, -999.000
           NA,HOT timeseries 1988to2019 27SEP2021,      2,  99,-999.0,    8002,-999.0,20170123,2313,  22.7498, -157.9998,  4745,  961.000,    4.037,   34.471,2, -999.000,4, -999.000,3,   43.800,2,  109.900,2,   41.760,2,    3.050,2, -999.000
           NA,HOT timeseries 1988to2019 27SEP2021,      2,  99,-999.0,    8001,-999.0,20170123,2313,  22.7498, -157.9998,  4745, 1019.600,    3.868,   34.495,2,   34.495,2,   46.300,2,   46.300,2,  112.680,2,   41.580,2,    3.050,2, -999.000
           NA,HOT timeseries 1988to2019 27SEP2021,      2,  99,-999.0,    8020,-999.0,20170123,2313,  22.7498, -157.9998,  4745, 1201.700,    3.467,   34.532,2,   34.531,2,   53.700,2,   53.900,2,  121.250,2,   41.720,2,    2.970,2, -999.000
           NA,HOT timeseries 1988to2019 27SEP2021,      2,  99,-999.0,    8019,-999.0,20170123,2313,  22.7498, -157.9998,  4745, 1400.600,    3.069,   34.561,2,   34.561,2,   61.400,2,   61.700,2,  129.810,2,   41.450,2,    2.940,2, -999.000
           NA,HOT timeseries 1988to2019 27SEP2021,      2,  99,-999.0,    8018,-999.0,20170123,2313,  22.7498, -157.9998,  4745, 1601.400,    2.781,   34.577,2,   34.577,2,   69.600,2,   70.000,2,  136.270,2,   40.950,2,    2.900,2, -999.000
           NA,HOT timeseries 1988to2019 27SEP2021,      2,  99,-999.0,    8017,-999.0,20170123,2313,  22.7498, -157.9998,  4745, 1800.600,    2.440,   34.600,2,   34.599,2,   78.300,2,   78.500,2,  143.780,2,   40.500,2,    2.860,2, -999.000
           NA,HOT timeseries 1988to2019 27SEP2021,      2,  99,-999.0,    8016,-999.0,20170123,2313,  22.7498, -157.9998,  4745, 2003.200,    2.178,   34.617,2,   34.617,2,   86.800,2,   88.100,2,  149.070,2,   39.920,2,    2.810,2, -999.000
           NA,HOT timeseries 1988to2019 27SEP2021,      2,  99,-999.0,    8015,-999.0,20170123,2313,  22.7498, -157.9998,  4745, 2199.800,    1.994,   34.629,2,   34.630,2,   95.100,2,   95.600,2,  152.990,2,   39.530,2,    2.770,2, -999.000
           NA,HOT timeseries 1988to2019 27SEP2021,      2,  99,-999.0,    8014,-999.0,20170123,2313,  22.7498, -157.9998,  4745, 2401.200,    1.838,   34.640,2,   34.641,2,   99.200,2,  100.100,2,  157.590,2,   39.310,2,    2.740,2, -999.000
           NA,HOT timeseries 1988to2019 27SEP2021,      2,  99,-999.0,    8025,-999.0,20170123,2313,  22.7498, -157.9998,  4745, 2601.500,    1.733,   34.649,2,   34.650,2,  105.600,2,  106.100,2,  159.750,2,   38.890,2,    2.710,2, -999.000
           NA,HOT timeseries 1988to2019 27SEP2021,      2,  99,-999.0,    8012,-999.0,20170123,2313,  22.7498, -157.9998,  4745, 2800.500,    1.639,   34.659,2,   34.659,2,  113.300,2,  114.300,2,  160.800,2,   38.360,2,    2.650,2, -999.000
           NA,HOT timeseries 1988to2019 27SEP2021,      2,  99,-999.0,    8011,-999.0,20170123,2313,  22.7498, -157.9998,  4745, 3002.800,    1.567,   34.667,2,   34.667,2,  121.700,2,  122.800,2,  159.620,2,   37.830,2,    2.620,2, -999.000
           NA,HOT timeseries 1988to2019 27SEP2021,      2,  99,-999.0,    8010,-999.0,20170123,2313,  22.7498, -157.9998,  4745, 3202.600,    1.530,   34.674,2,   34.673,2,  127.900,2,  128.400,2,  159.070,2,   37.440,2,    2.590,2, -999.000
           NA,HOT timeseries 1988to2019 27SEP2021,      2,  99,-999.0,    8009,-999.0,20170123,2313,  22.7498, -157.9998,  4745, 3402.500,    1.508,   34.678,2,   34.677,2,  132.800,2,  133.200,2,  159.150,2,   37.210,2,    2.570,2, -999.000
           NA,HOT timeseries 1988to2019 27SEP2021,      2,  99,-999.0,    8008,-999.0,20170123,2313,  22.7498, -157.9998,  4745, 3602.600,    1.492,   34.680,2,   34.680,2,  137.200,2,  137.200,2,  157.510,2,   36.920,2,    2.540,2, -999.000
           NA,HOT timeseries 1988to2019 27SEP2021,      2,  99,-999.0,    8060,-999.0,20170123,2313,  22.7498, -157.9998,  4745, 3803.100,    1.475,   34.683,2,   34.684,2,  142.300,2,  142.200,2,  155.040,2,   36.600,2,    2.520,2, -999.000
           NA,HOT timeseries 1988to2019 27SEP2021,      2,  99,-999.0,    8006,-999.0,20170123,2313,  22.7498, -157.9998,  4745, 4000.800,    1.470,   34.686,2,   34.685,2,  146.600,2,  146.200,2,  153.310,2,   36.320,2,    2.500,2, -999.000
           NA,HOT timeseries 1988to2019 27SEP2021,      2,  99,-999.0,    8005,-999.0,20170123,2313,  22.7498, -157.9998,  4745, 4202.400,    1.470,   34.687,2,   34.687,2,  150.100,2,  149.300,2,  151.230,2,   36.080,2,    2.470,2, -999.000
           NA,HOT timeseries 1988to2019 27SEP2021,      2,  99,-999.0,    8059,-999.0,20170123,2313,  22.7498, -157.9998,  4745, 4402.600,    1.478,   34.689,2,   34.690,2,  152.600,2,  151.900,2,  150.270,2,   35.990,2,    2.460,2, -999.000
           NA,HOT timeseries 1988to2019 27SEP2021,      2,  99,-999.0,    8003,-999.0,20170123,2313,  22.7498, -157.9998,  4745, 4501.400,    1.485,   34.689,2,   34.690,2,  153.300,2,  152.700,2,  149.910,2,   35.980,2,    2.460,2, -999.000
           NA,HOT timeseries 1988to2019 27SEP2021,      2,  99,-999.0,    8002,-999.0,20170123,2313,  22.7498, -157.9998,  4745, 4600.200,    1.493,   34.690,2,   34.689,2,  154.100,2,  153.400,2,  149.970,2,   35.820,2,    2.460,2, -999.000
           NA,HOT timeseries 1988to2019 27SEP2021,      2,  99,-999.0,    8001,-999.0,20170123,2313,  22.7498, -157.9998,  4745, 4801.800,    1.513,   34.690,2,   34.691,2,  154.200,2,  154.500,2,  148.690,2,   35.670,2,    2.440,2, -999.000
           NA,HOT timeseries 1988to2019 27SEP2021,      2,  99,-999.0,    8058,-999.0,20170223,0031,  22.7523, -158.0033,  4722,    5.300,   23.730,   34.966,2,   34.964,2,  211.200,2,  210.800,2,    1.190,2,    0.000,2,    0.070,2, -999.000
           NA,HOT timeseries 1988to2019 27SEP2021,      2,  99,-999.0,    8023,-999.0,20170223,0031,  22.7523, -158.0033,  4722,   68.100,   23.696,   34.965,2,   34.965,2,  211.800,2,  210.600,2,    1.160,2,    0.000,2,    0.080,2, -999.000
           NA,HOT timeseries 1988to2019 27SEP2021,      2,  99,-999.0,    8022,-999.0,20170223,0031,  22.7523, -158.0033,  4722,  126.900,   23.141,   35.139,2,   35.138,2,  209.000,2,  208.900,2,    1.200,2,    0.020,2,    0.070,2, -999.000
           NA,HOT timeseries 1988to2019 27SEP2021,      2,  99,-999.0,    8021,-999.0,20170223,0031,  22.7523, -158.0033,  4722,  159.300,   22.386,   35.264,2,   35.263,2,  211.400,2,  210.800,2,    1.320,2,    0.090,2,    0.050,2, -999.000
           NA,HOT timeseries 1988to2019 27SEP2021,      2,  99,-999.0,    8020,-999.0,20170223,0031,  22.7523, -158.0033,  4722,  185.500,   21.211,   35.107,2,   35.103,2,  192.400,2,  193.700,2,    2.050,2, -999.000,3,    0.180,2, -999.000
           NA,HOT timeseries 1988to2019 27SEP2021,      2,  99,-999.0,    8019,-999.0,20170223,0031,  22.7523, -158.0033,  4722,  225.400,   18.684,   34.877,2,   34.878,2,  195.500,2,  194.800,2,    3.100,2,    2.830,2,    0.270,2, -999.000
           NA,HOT timeseries 1988to2019 27SEP2021,      2,  99,-999.0,    8018,-999.0,20170223,0031,  22.7523, -158.0033,  4722,  270.200,   15.927,   34.575,2,   34.573,2,  202.600,2,  201.400,2,    4.990,2,    4.970,2,    0.410,2, -999.000
           NA,HOT timeseries 1988to2019 27SEP2021,      2,  99,-999.0,    8017,-999.0,20170223,0031,  22.7523, -158.0033,  4722,  310.300,   13.828,   34.364,2,   34.363,2,  207.600,2,  207.800,2,    7.400,2,    7.630,2,    0.580,2, -999.000
           NA,HOT timeseries 1988to2019 27SEP2021,      2,  99,-999.0,    8016,-999.0,20170223,0031,  22.7523, -158.0033,  4722,  354.200,   12.122,   34.234,2,   34.233,2,  207.700,2,  207.500,2,   11.410,2,   11.150,2,    0.820,2, -999.000
           NA,HOT timeseries 1988to2019 27SEP2021,      2,  99,-999.0,    8015,-999.0,20170223,0031,  22.7523, -158.0033,  4722,  404.200,   11.075,   34.186,2,   34.186,2,  209.200,2,  208.300,2,   14.850,2,   13.410,2,    0.960,2, -999.000
           NA,HOT timeseries 1988to2019 27SEP2021,      2,  99,-999.0,    8014,-999.0,20170223,0031,  22.7523, -158.0033,  4722,  434.900,    9.749,   34.093,2,   34.092,2,  182.800,2,  184.300,2,   22.140,2,   18.310,2,    1.330,2, -999.000
           NA,HOT timeseries 1988to2019 27SEP2021,      2,  99,-999.0,    8025,-999.0,20170223,0031,  22.7523, -158.0033,  4722,  507.500,    7.587,   34.041,2, -999.000,4, -999.000,3, -999.000,4,   37.940,2,   26.040,2,    1.900,2, -999.000
           NA,HOT timeseries 1988to2019 27SEP2021,      2,  99,-999.0,    8012,-999.0,20170223,0031,  22.7523, -158.0033,  4722,  542.500,    6.958,   34.058,2,   34.058,2,   92.800,2,   93.400,2,   51.120,2,   31.610,2,    2.340,2, -999.000
           NA,HOT timeseries 1988to2019 27SEP2021,      2,  99,-999.0,    8011,-999.0,20170223,0031,  22.7523, -158.0033,  4722,  573.600,    6.339,   34.079,2,   34.080,2,   71.200,2,   70.500,2,   61.200,2,   34.920,2,    2.580,2, -999.000
           NA,HOT timeseries 1988to2019 27SEP2021,      2,  99,-999.0,    8010,-999.0,20170223,0031,  22.7523, -158.0033,  4722,  636.400,    5.691,   34.160,2,   34.158,2,   44.800,2,   43.700,2,   74.170,2,   38.170,2,    2.850,2, -999.000
           NA,HOT timeseries 1988to2019 27SEP2021,      2,  99,-999.0,    8009,-999.0,20170223,0031,  22.7523, -158.0033,  4722,  696.600,    5.222,   34.230,2,   34.232,2,   30.900,2,   28.900,2,   84.700,2,   40.380,2,    3.020,2, -999.000
           NA,HOT timeseries 1988to2019 27SEP2021,      2,  99,-999.0,    8008,-999.0,20170223,0031,  22.7523, -158.0033,  4722,  738.900,    4.943,   34.280,2,   34.281,2,   26.200,2,   25.900,2, -999.000,3,   41.180,2,    3.080,2, -999.000
           NA,HOT timeseries 1988to2019 27SEP2021,      2,  99,-999.0,    8060,-999.0,20170223,0031,  22.7523, -158.0033,  4722,  779.800,    4.752,   34.313,2,   34.313,2,   27.300,2,   26.900,2,   97.340,2,   41.550,2,    3.090,2, -999.000
           NA,HOT timeseries 1988to2019 27SEP2021,      2,  99,-999.0,    8006,-999.0,20170223,0031,  22.7523, -158.0033,  4722,  828.600,    4.658,   34.355,2,   34.356,2,   27.500,2,   26.400,2,   97.340,2,   41.770,2,    3.100,2, -999.000
           NA,HOT timeseries 1988to2019 27SEP2021,      2,  99,-999.0,    8005,-999.0,20170223,0031,  22.7523, -158.0033,  4722,  876.100,    4.501,   34.407,2,   34.408,2,   33.600,2,   34.100,2,  100.240,2,   41.500,2,    3.080,2, -999.000
           NA,HOT timeseries 1988to2019 27SEP2021,      2,  99,-999.0,    8059,-999.0,20170223,0031,  22.7523, -158.0033,  4722,  911.000,    4.376,   34.420,2,   34.420,2,   35.700,2,   33.900,2,  102.550,2,   41.890,2,    3.090,2, -999.000
           NA,HOT timeseries 1988to2019 27SEP2021,      2,  99,-999.0,    8003,-999.0,20170223,0031,  22.7523, -158.0033,  4722,  948.600,    4.378,   34.458,2,   34.459,2,   40.000,2,   41.000,2,  101.750,2,   41.500,2,    3.090,2, -999.000
           NA,HOT timeseries 1988to2019 27SEP2021,      2,  99,-999.0,    8002,-999.0,20170223,0031,  22.7523, -158.0033,  4722,  986.400,    4.284,   34.468,2,   34.468,2,   42.100,2,   41.700,2,  103.640,2,   41.570,2,    3.070,2, -999.000
           NA,HOT timeseries 1988to2019 27SEP2021,      2,  99,-999.0,    8001,-999.0,20170223,0031,  22.7523, -158.0033,  4722, 1021.100,    4.192,   34.486,2,   34.484,2,   43.800,2,   44.200,2,  105.510,2,   41.360,2,    3.050,2, -999.000
           NA,HOT timeseries 1988to2019 27SEP2021,      2,  99,-999.0,    8020,-999.0,20170223,0031,  22.7523, -158.0033,  4722, 1200.300,    3.614,   34.534,2,   34.535,2,   52.000,2,   51.900,2,  117.210,2,   41.610,2,    3.050,2, -999.000
           NA,HOT timeseries 1988to2019 27SEP2021,      2,  99,-999.0,    8019,-999.0,20170223,0031,  22.7523, -158.0033,  4722, 1400.600,    3.152,   34.563,2,   34.563,2,   58.500,2,   59.000,2,  128.320,2,   41.640,2,    3.020,2, -999.000
           NA,HOT timeseries 1988to2019 27SEP2021,      2,  99,-999.0,    8018,-999.0,20170223,0031,  22.7523, -158.0033,  4722, 1600.800,    2.780,   34.578,2,   34.578,2,   69.700,2,   69.900,2,  135.310,2,   40.790,2,    2.950,2, -999.000
           NA,HOT timeseries 1988to2019 27SEP2021,      2,  99,-999.0,    8017,-999.0,20170223,0031,  22.7523, -158.0033,  4722, 1801.500,    2.483,   34.595,2,   34.595,2,   77.300,2,   77.700,2,  141.810,2,   40.180,2,    2.850,2, -999.000
           NA,HOT timeseries 1988to2019 27SEP2021,      2,  99,-999.0,    8016,-999.0,20170223,0031,  22.7523, -158.0033,  4722, 2001.500,    2.258,   34.609,2,   34.609,2,   84.400,2,   84.700,2,  147.410,2,   40.030,2,    2.880,2, -999.000
           NA,HOT timeseries 1988to2019 27SEP2021,      2,  99,-999.0,    8015,-999.0,20170223,0031,  22.7523, -158.0033,  4722, 2200.700,    1.994,   34.627,2,   34.628,2,   92.600,2, -999.000,3,  153.220,2,   39.350,2,    2.820,2, -999.000
           NA,HOT timeseries 1988to2019 27SEP2021,      2,  99,-999.0,    8014,-999.0,20170223,0031,  22.7523, -158.0033,  4722, 2399.400,    1.846,   34.637,2,   34.638,2,  100.700,2,   99.800,2,  157.230,2,   39.160,2,    2.790,2, -999.000
           NA,HOT timeseries 1988to2019 27SEP2021,      2,  99,-999.0,    8025,-999.0,20170223,0031,  22.7523, -158.0033,  4722, 2602.500,    1.753,   34.645,2,   34.646,2,  105.700,2,  105.300,2,  160.120,2,   38.670,2,    2.770,2, -999.000
           NA,HOT timeseries 1988to2019 27SEP2021,      2,  99,-999.0,    8012,-999.0,20170223,0031,  22.7523, -158.0033,  4722, 2797.700,    1.632,   34.658,2,   34.658,2,  114.400,2,  115.800,2,  159.380,2,   37.960,2,    2.690,2, -999.000
           NA,HOT timeseries 1988to2019 27SEP2021,      2,  99,-999.0,    8011,-999.0,20170223,0031,  22.7523, -158.0033,  4722, 3000.400,    1.571,   34.666,2,   34.667,2,  122.800,2,  124.300,2,  158.920,2,   37.470,2,    2.630,2, -999.000
           NA,HOT timeseries 1988to2019 27SEP2021,      2,  99,-999.0,    8010,-999.0,20170223,0031,  22.7523, -158.0033,  4722, 3205.500,    1.522,   34.672,2,   34.671,2,  129.700,2,  129.800,2,  158.070,2,   37.300,2,    2.630,2, -999.000
           NA,HOT timeseries 1988to2019 27SEP2021,      2,  99,-999.0,    8009,-999.0,20170223,0031,  22.7523, -158.0033,  4722, 3404.000,    1.495,   34.675,2,   34.675,2,  134.900,2,  135.500,2,  156.350,2,   36.610,2,    2.570,2, -999.000
           NA,HOT timeseries 1988to2019 27SEP2021,      2,  99,-999.0,    8008,-999.0,20170223,0031,  22.7523, -158.0033,  4722, 3593.400,    1.480,   34.679,2, -999.000,4, -999.000,3, -999.000,4, -999.000,3,   36.830,2,    2.590,2, -999.000