BOTTLE,20214727JOAExport
EXPOCODE,SECT_ID,STNNBR,CASTNO,SAMPNO,BTLNBR,BTLNBR_FLAG_W,DATE,TIME,LATITUDE,LONGITUDE,DEPTH,CTDPRS,CTDTMP,CTDSAL,CTDSAL_FLAG_W,SALNTY,SALNTY_FLAG_W,CTDOXY,CTDOXY_FLAG_W,OXYGEN,OXYGEN_FLAG_W,SILCAT,SILCAT_FLAG_W,NINI,NINI_FLAG_W,PHSPHT,PHSPHT_FLAG_W,REVP
,,,,,,,,,,,,DB,IPTS-68,PSS-78,,PSS-78,,UMOL/KG,,UMOL/KG,,UMOL/KG,,UMOL/KG,,UMOL/KG,,DBAR
           NA,HOT timeseries 1988to2019 27SEP2021,      2,  99,-999.0,    8010,-999.0,20180515,2220,  22.7505, -158.0023,  4721, 3200.800,    1.521,   34.674,2,   34.673,2,  131.200,2,  130.900,2,  156.440,2,   36.840,2, -999.000,4, -999.000
           NA,HOT timeseries 1988to2019 27SEP2021,      2,  99,-999.0,    8009,-999.0,20180515,2220,  22.7505, -158.0023,  4721, 3401.800,    1.484,   34.679,2,   34.679,2,  137.800,2,  137.600,2,  154.150,2,   36.480,2, -999.000,4, -999.000
           NA,HOT timeseries 1988to2019 27SEP2021,      2,  99,-999.0,    8008,-999.0,20180515,2220,  22.7505, -158.0023,  4721, 3602.400,    1.463,   34.682,2,   34.682,2,  142.300,2,  142.200,2,  153.300,2,   36.410,2, -999.000,4, -999.000
           NA,HOT timeseries 1988to2019 27SEP2021,      2,  99,-999.0,    8060,-999.0,20180515,2220,  22.7505, -158.0023,  4721, 3802.800,    1.460,   34.684,2,   34.683,2,  145.400,2,  145.300,2,  152.200,2,   36.250,2, -999.000,4, -999.000
           NA,HOT timeseries 1988to2019 27SEP2021,      2,  99,-999.0,    8006,-999.0,20180515,2220,  22.7505, -158.0023,  4721, 4002.300,    1.455,   34.687,2,   34.687,2,  148.900,2,  148.800,2,  150.020,2,   35.820,2, -999.000,4, -999.000
           NA,HOT timeseries 1988to2019 27SEP2021,      2,  99,-999.0,    8005,-999.0,20180515,2220,  22.7505, -158.0023,  4721, 4202.100,    1.464,   34.688,2,   34.687,2,  151.000,2,  151.000,2,  149.500,2,   35.480,2, -999.000,4, -999.000
           NA,HOT timeseries 1988to2019 27SEP2021,      2,  99,-999.0,    8059,-999.0,20180515,2220,  22.7505, -158.0023,  4721, 4401.400,    1.481,   34.688,2,   34.688,2,  151.800,2,  151.800,2,  149.270,2,   35.500,2, -999.000,4, -999.000
           NA,HOT timeseries 1988to2019 27SEP2021,      2,  99,-999.0,    8003,-999.0,20180515,2220,  22.7505, -158.0023,  4721, 4501.900,    1.491,   34.688,2,   34.690,2,  152.100,2,  152.500,2,  148.320,2,   35.500,2, -999.000,4, -999.000
           NA,HOT timeseries 1988to2019 27SEP2021,      2,  99,-999.0,    8002,-999.0,20180515,2220,  22.7505, -158.0023,  4721, 4602.700,    1.502,   34.689,2,   34.688,2,  152.300,2, -999.000,3,  147.840,2,   35.540,2, -999.000,4, -999.000
           NA,HOT timeseries 1988to2019 27SEP2021,      2,  99,-999.0,    8001,-999.0,20180515,2220,  22.7505, -158.0023,  4721, 4797.100,    1.521,   34.689,2,   34.690,2,  152.300,2, -999.000,3,  147.920,2,   35.400,2, -999.000,4, -999.000
           NA,HOT timeseries 1988to2019 27SEP2021,      2,  99,-999.0,    8058,-999.0,20180626,2259,  22.7493, -158.0083,  4721,   44.300,   25.027,   34.934,2, -999.000,3, -999.000,3,  212.800,2,    1.110,2,    0.000,2,    0.060,2, -999.000
           NA,HOT timeseries 1988to2019 27SEP2021,      2,  99,-999.0,    8023,-999.0,20180626,2259,  22.7493, -158.0083,  4721,   54.700,   24.557,   34.981,2,   34.980,2,  218.600,2,  218.900,2,    1.070,2,    0.000,2,    0.040,2, -999.000
           NA,HOT timeseries 1988to2019 27SEP2021,      2,  99,-999.0,    8022,-999.0,20180626,2259,  22.7493, -158.0083,  4721,   84.900,   23.200,   35.094,2,   35.095,2,  222.800,2,  223.300,2,    1.190,2,    0.000,2,    0.030,2, -999.000
           NA,HOT timeseries 1988to2019 27SEP2021,      2,  99,-999.0,    8021,-999.0,20180626,2259,  22.7493, -158.0083,  4721,  135.000,   21.377,   35.113,2,   35.122,2,  201.400,2,  203.700,2,    1.770,2,    0.440,2,    0.140,2, -999.000
           NA,HOT timeseries 1988to2019 27SEP2021,      2,  99,-999.0,    8020,-999.0,20180626,2259,  22.7493, -158.0083,  4721,  187.400,   18.864,   34.858,2,   34.876,2,  190.300,2,  191.200,2,    3.070,2,    3.100,2,    0.330,2, -999.000
           NA,HOT timeseries 1988to2019 27SEP2021,      2,  99,-999.0,    8019,-999.0,20180626,2259,  22.7493, -158.0083,  4721,  220.200,   16.095,   34.498,2,   34.497,2,  182.500,2,  183.400,2,    5.690,2, -999.000,3,    0.590,2, -999.000
           NA,HOT timeseries 1988to2019 27SEP2021,      2,  99,-999.0,    8018,-999.0,20180626,2259,  22.7493, -158.0083,  4721,  260.800,   13.571,   34.326,2,   34.332,2,  204.200,2,  203.700,2,    7.830,2, -999.000,3,    0.640,2, -999.000
           NA,HOT timeseries 1988to2019 27SEP2021,      2,  99,-999.0,    8017,-999.0,20180626,2259,  22.7493, -158.0083,  4721,  297.700,   12.142,   34.218,2,   34.217,2,  202.900,2,  203.700,2,   11.250,2, -999.000,3,    0.850,2, -999.000
           NA,HOT timeseries 1988to2019 27SEP2021,      2,  99,-999.0,    8016,-999.0,20180626,2259,  22.7493, -158.0083,  4721,  356.300,   10.619,   34.150,2,   34.151,2,  196.000,2,  196.900,2,   17.340,2, -999.000,3,    1.120,2, -999.000
           NA,HOT timeseries 1988to2019 27SEP2021,      2,  99,-999.0,    8015,-999.0,20180626,2259,  22.7493, -158.0083,  4721,  405.400,    9.014,   34.067,2,   34.070,2,  171.300,2,  170.300,2,   26.850,2, -999.000,3,    1.530,2, -999.000
           NA,HOT timeseries 1988to2019 27SEP2021,      2,  99,-999.0,    8014,-999.0,20180626,2259,  22.7493, -158.0083,  4721,  444.400,    7.889,   34.047,2,   34.045,2,  136.900,2,  136.300,2, -999.000,3, -999.000,3,    1.920,2, -999.000
           NA,HOT timeseries 1988to2019 27SEP2021,      2,  99,-999.0,    8025,-999.0,20180626,2259,  22.7493, -158.0083,  4721,  485.600,    7.198,   34.052,2,   34.052,2,  108.500,2,  110.400,2,   47.360,2,   26.080,2,    2.180,2, -999.000
           NA,HOT timeseries 1988to2019 27SEP2021,      2,  99,-999.0,    8012,-999.0,20180626,2259,  22.7493, -158.0083,  4721,  511.500,    7.022,   34.119,2, -999.000,3, -999.000,3,   82.200,2,   52.640,2,   32.220,2,    2.410,2, -999.000
           NA,HOT timeseries 1988to2019 27SEP2021,      2,  99,-999.0,    8011,-999.0,20180626,2259,  22.7493, -158.0083,  4721,  558.100,    6.529,   34.177,2, -999.000,3, -999.000,3,   56.000,2,   61.910,2,   35.300,2,    2.660,2, -999.000
           NA,HOT timeseries 1988to2019 27SEP2021,      2,  99,-999.0,    8008,-999.0,20180626,2259,  22.7493, -158.0083,  4721,  720.300,    5.095,   34.289,2,   34.289,2,   33.900,2,   33.400,2,   87.150,2,   40.060,2,    2.980,2, -999.000
           NA,HOT timeseries 1988to2019 27SEP2021,      2,  99,-999.0,    8060,-999.0,20180626,2259,  22.7493, -158.0083,  4721,  774.100,    4.894,   34.332,2,   34.333,2,   31.800,2,   31.500,2,   92.140,2,   40.860,2,    3.030,2, -999.000
           NA,HOT timeseries 1988to2019 27SEP2021,      2,  99,-999.0,    8005,-999.0,20180626,2259,  22.7493, -158.0083,  4721,  859.400,    4.528,   34.403,2,   34.404,2,   33.700,2,   34.000,2,   99.040,2,   41.230,2,    3.060,2, -999.000
           NA,HOT timeseries 1988to2019 27SEP2021,      2,  99,-999.0,    8001,-999.0,20180626,2259,  22.7493, -158.0083,  4721, 1016.500,    4.137,   34.481,2,   34.482,2,   42.100,2,   42.500,2,  106.190,2,   41.350,2,    3.050,2, -999.000
           NA,HOT timeseries 1988to2019 27SEP2021,      2,  99,-999.0,    8020,-999.0,20180626,2259,  22.7493, -158.0083,  4721, 1202.500,    3.562,   34.525,2,   34.526,2,   52.400,2,   52.000,2,  118.980,2,   41.090,2,    3.020,2, -999.000
           NA,HOT timeseries 1988to2019 27SEP2021,      2,  99,-999.0,    8019,-999.0,20180626,2259,  22.7493, -158.0083,  4721, 1403.600,    3.080,   34.556,2,   34.556,2,   59.500,2,   59.600,2,  129.100,2,   41.020,2,    2.980,2, -999.000
           NA,HOT timeseries 1988to2019 27SEP2021,      2,  99,-999.0,    8018,-999.0,20180626,2259,  22.7493, -158.0083,  4721, 1598.800,    2.734,   34.575,2,   34.576,2,   68.500,2,   68.300,2,  136.450,2,   40.650,2,    2.940,2, -999.000
           NA,HOT timeseries 1988to2019 27SEP2021,      2,  99,-999.0,    8017,-999.0,20180626,2259,  22.7493, -158.0083,  4721, 1801.800,    2.430,   34.597,2,   34.597,2,   77.300,2,   77.100,2,  143.320,2,   40.210,2,    2.900,2, -999.000
           NA,HOT timeseries 1988to2019 27SEP2021,      2,  99,-999.0,    8016,-999.0,20180626,2259,  22.7493, -158.0083,  4721, 2001.500,    2.145,   34.618,2,   34.618,2,   89.300,2,   89.200,2,  148.300,2,   39.250,2,    2.830,2, -999.000
           NA,HOT timeseries 1988to2019 27SEP2021,      2,  99,-999.0,    8015,-999.0,20180626,2259,  22.7493, -158.0083,  4721, 2201.400,    1.936,   34.633,2,   34.633,2,   97.600,2,   95.600,2,  153.270,2,   39.000,2,    2.790,2, -999.000
           NA,HOT timeseries 1988to2019 27SEP2021,      2,  99,-999.0,    8014,-999.0,20180626,2259,  22.7493, -158.0083,  4721, 2399.000,    1.819,   34.642,2,   34.642,2,  104.500,2,  104.200,2,  155.160,2,   38.480,2,    2.760,2, -999.000
           NA,HOT timeseries 1988to2019 27SEP2021,      2,  99,-999.0,    8025,-999.0,20180626,2259,  22.7493, -158.0083,  4721, 2597.800,    1.737,   34.651,2,   34.650,2,  110.200,2,  110.400,2,  156.130,2,   38.020,2, -999.000,3, -999.000
           NA,HOT timeseries 1988to2019 27SEP2021,      2,  99,-999.0,    8012,-999.0,20180626,2259,  22.7493, -158.0083,  4721, 2797.900,    1.639,   34.659,2,   34.659,2,  116.300,2,  116.700,2,  157.750,2,   37.370,2,    2.670,2, -999.000
           NA,HOT timeseries 1988to2019 27SEP2021,      2,  99,-999.0,    8011,-999.0,20180626,2259,  22.7493, -158.0083,  4721, 2998.400,    1.581,   34.665,2,   34.666,2,  123.000,2,  123.000,2,  158.230,2,   37.390,2,    2.650,2, -999.000
           NA,HOT timeseries 1988to2019 27SEP2021,      2,  99,-999.0,    8010,-999.0,20180626,2259,  22.7493, -158.0083,  4721, 3197.300,    1.534,   34.671,2,   34.671,2,  128.700,2,  128.500,2,  157.890,2,   37.320,2, -999.000,3, -999.000
           NA,HOT timeseries 1988to2019 27SEP2021,      2,  99,-999.0,    8009,-999.0,20180626,2259,  22.7493, -158.0083,  4721, 3396.700,    1.498,   34.675,2,   34.675,2,  135.300,2,  135.100,2,  156.280,2,   37.000,2,    2.580,2, -999.000
           NA,HOT timeseries 1988to2019 27SEP2021,      2,  99,-999.0,    8008,-999.0,20180626,2259,  22.7493, -158.0083,  4721, 3601.700,    1.478,   34.679,2,   34.679,2,  141.000,2,  140.700,2,  154.680,2,   36.660,2,    2.570,2, -999.000
           NA,HOT timeseries 1988to2019 27SEP2021,      2,  99,-999.0,    8060,-999.0,20180626,2259,  22.7493, -158.0083,  4721, 3799.200,    1.471,   34.681,2,   34.681,2,  144.300,2,  144.200,2,  154.190,2,   36.290,2,    2.530,2, -999.000
           NA,HOT timeseries 1988to2019 27SEP2021,      2,  99,-999.0,    8006,-999.0,20180626,2259,  22.7493, -158.0083,  4721, 4001.100,    1.472,   34.683,2,   34.682,2,  147.200,2,  146.700,2,  151.840,2,   36.170,2,    2.510,2, -999.000
           NA,HOT timeseries 1988to2019 27SEP2021,      2,  99,-999.0,    8005,-999.0,20180626,2259,  22.7493, -158.0083,  4721, 4201.700,    1.479,   34.684,2,   34.684,2,  149.700,2, -999.000,3,  150.330,2,   36.040,2,    2.500,2, -999.000
           NA,HOT timeseries 1988to2019 27SEP2021,      2,  99,-999.0,    8059,-999.0,20180626,2259,  22.7493, -158.0083,  4721, 4401.600,    1.487,   34.685,2,   34.684,2,  151.300,2,  151.200,2,  149.460,2,   35.950,2,    2.490,2, -999.000
           NA,HOT timeseries 1988to2019 27SEP2021,      2,  99,-999.0,    8003,-999.0,20180626,2259,  22.7493, -158.0083,  4721, 4502.800,    1.494,   34.686,2,   34.686,2,  152.100,2,  151.900,2,  149.200,2,   35.860,2,    2.480,2, -999.000
           NA,HOT timeseries 1988to2019 27SEP2021,      2,  99,-999.0,    8002,-999.0,20180626,2259,  22.7493, -158.0083,  4721, 4604.000,    1.501,   34.686,2,   34.686,2,  152.800,2,  153.200,2,  148.370,2,   35.490,2,    2.480,2, -999.000
           NA,HOT timeseries 1988to2019 27SEP2021,      2,  99,-999.0,    8001,-999.0,20180626,2259,  22.7493, -158.0083,  4721, 4803.500,    1.515,   34.687,2,   34.688,2,  154.200,2,  154.700,2,  147.160,2,   35.550,2,    2.470,2, -999.000
           NA,HOT timeseries 1988to2019 27SEP2021,      2,  99,-999.0,    8058,-999.0,20180724,2102,  22.7473, -158.0010,  4702,   59.000,   24.493,   35.028,2, -999.000,3, -999.000,3,  218.600,2,    1.140,2,    0.020,2,    0.050,2, -999.000
           NA,HOT timeseries 1988to2019 27SEP2021,      2,  99,-999.0,    8023,-999.0,20180724,2102,  22.7473, -158.0010,  4702,   72.200,   23.597,   35.079,2,   35.076,2,  222.300,2,  222.000,2,    1.200,2,    0.010,2,    0.040,2, -999.000
           NA,HOT timeseries 1988to2019 27SEP2021,      2,  99,-999.0,    8022,-999.0,20180724,2102,  22.7473, -158.0010,  4702,   91.700,   22.595,   35.107,2,   35.108,2,  214.800,2,  213.300,2,    1.340,2,    0.110,2,    0.080,2, -999.000
           NA,HOT timeseries 1988to2019 27SEP2021,      2,  99,-999.0,    8021,-999.0,20180724,2102,  22.7473, -158.0010,  4702,  107.200,   21.939,   35.135,2,   35.136,2,  204.500,2,  209.100,2,    1.470,2,    0.130,2,    0.100,2, -999.000
           NA,HOT timeseries 1988to2019 27SEP2021,      2,  99,-999.0,    8020,-999.0,20180724,2102,  22.7473, -158.0010,  4702,  168.600,   19.076,   34.982,2,   34.981,2,  202.100,2,  203.600,2,    2.770,2,    2.110,2,    0.220,2, -999.000
           NA,HOT timeseries 1988to2019 27SEP2021,      2,  99,-999.0,    8019,-999.0,20180724,2102,  22.7473, -158.0010,  4702,  222.900,   15.927,   34.618,2,   34.618,2,  205.000,2,  205.000,2,    5.080,2,    5.250,2,    0.430,2, -999.000
           NA,HOT timeseries 1988to2019 27SEP2021,      2,  99,-999.0,    8018,-999.0,20180724,2102,  22.7473, -158.0010,  4702,  250.900,   14.847,   34.515,2,   34.514,2,  207.900,2,  207.900,2,    6.500,2,    6.790,2,    0.520,2, -999.000
           NA,HOT timeseries 1988to2019 27SEP2021,      2,  99,-999.0,    8017,-999.0,20180724,2102,  22.7473, -158.0010,  4702,  287.100,   13.500,   34.392,2,   34.390,2,  210.700,2,  209.800,2,    8.750,2,    8.830,2,    0.650,2, -999.000
           NA,HOT timeseries 1988to2019 27SEP2021,      2,  99,-999.0,    8016,-999.0,20180724,2102,  22.7473, -158.0010,  4702,  323.800,   11.953,   34.254,2,   34.255,2,  208.300,2,  208.500,2,   13.550,2,   11.600,2,    0.850,2, -999.000
           NA,HOT timeseries 1988to2019 27SEP2021,      2,  99,-999.0,    8015,-999.0,20180724,2102,  22.7473, -158.0010,  4702,  375.300,   10.492,   34.155,2,   34.156,2,  199.900,2,  199.200,2,   18.030,2,   15.360,2,    1.120,2, -999.000
           NA,HOT timeseries 1988to2019 27SEP2021,      2,  99,-999.0,    8014,-999.0,20180724,2102,  22.7473, -158.0010,  4702,  423.800,    8.878,   34.072,2,   34.075,2,  163.800,2,  171.000,2,   28.120,2,   20.970,2,    1.530,2, -999.000
           NA,HOT timeseries 1988to2019 27SEP2021,      2,  99,-999.0,    8025,-999.0,20180724,2102,  22.7473, -158.0010,  4702,  457.200,    7.822,   34.036,2,   34.037,2,  142.000,2,  142.200,2,   38.370,2,   25.750,2,    1.860,2, -999.000
           NA,HOT timeseries 1988to2019 27SEP2021,      2,  99,-999.0,    8012,-999.0,20180724,2102,  22.7473, -158.0010,  4702,  485.100,    7.426,   34.056,2,   34.057,2,  120.400,2,  119.900,2,   44.590,2,   28.370,2,    2.080,2, -999.000
           NA,HOT timeseries 1988to2019 27SEP2021,      2,  99,-999.0,    8011,-999.0,20180724,2102,  22.7473, -158.0010,  4702,  521.600,    6.877,   34.067,2,   34.068,2,   93.100,2,   94.600,2,   52.270,2,   31.610,2,    2.330,2, -999.000
           NA,HOT timeseries 1988to2019 27SEP2021,      2,  99,-999.0,    8010,-999.0,20180724,2102,  22.7473, -158.0010,  4702,  562.800,    6.281,   34.081,2,   34.081,2,   71.800,2,   71.500,2,   61.370,2,   34.620,2,    2.560,2, -999.000
           NA,HOT timeseries 1988to2019 27SEP2021,      2,  99,-999.0,    8009,-999.0,20180724,2102,  22.7473, -158.0010,  4702,  617.600,    5.605,   34.133,2,   34.135,2,   50.400,2,   49.500,2,   73.380,2,   37.590,2,    2.790,2, -999.000
           NA,HOT timeseries 1988to2019 27SEP2021,      2,  99,-999.0,    8008,-999.0,20180724,2102,  22.7473, -158.0010,  4702,  675.000,    5.128,   34.204,2,   34.204,2,   34.300,2, -999.000,5,   84.970,2,   39.640,2,    2.970,2, -999.000
           NA,HOT timeseries 1988to2019 27SEP2021,      2,  99,-999.0,    8060,-999.0,20180724,2102,  22.7473, -158.0010,  4702,  745.900,    4.899,   34.310,2,   34.309,2,   27.400,2,   27.400,2,   91.460,2,   40.900,2,    3.050,2, -999.000
           NA,HOT timeseries 1988to2019 27SEP2021,      2,  99,-999.0,    8005,-999.0,20180724,2102,  22.7473, -158.0010,  4702,  802.600,    4.638,   34.335,2,   34.335,2,   29.100,2,   30.700,2,   96.410,2,   41.190,2,    3.040,2, -999.000
           NA,HOT timeseries 1988to2019 27SEP2021,      2,  99,-999.0,    8059,-999.0,20180724,2102,  22.7473, -158.0010,  4702,  843.400,    4.461,   34.391,2,   34.390,2,   34.200,2,   33.600,2,  100.450,2,   41.180,2,    3.020,2, -999.000
           NA,HOT timeseries 1988to2019 27SEP2021,      2,  99,-999.0,    8003,-999.0,20180724,2102,  22.7473, -158.0010,  4702,  915.500,    4.223,   34.453,2,   34.454,2,   39.900,2,   40.000,2,  104.920,2,   41.480,2,    3.040,2, -999.000
           NA,HOT timeseries 1988to2019 27SEP2021,      2,  99,-999.0,    8002,-999.0,20180724,2102,  22.7473, -158.0010,  4702,  987.500,    4.039,   34.479,2,   34.481,2,   43.800,2,   43.800,2,  108.630,2,   41.550,2,    3.040,2, -999.000
           NA,HOT timeseries 1988to2019 27SEP2021,      2,  99,-999.0,    8001,-999.0,20180724,2102,  22.7473, -158.0010,  4702, 1022.800,    3.946,   34.490,2,   34.491,2,   45.500,2,   45.700,2,  109.950,2,   41.360,2,    3.030,2, -999.000
           NA,HOT timeseries 1988to2019 27SEP2021,      2,  99,-999.0,    8020,-999.0,20180724,2102,  22.7473, -158.0010,  4702, 1200.000,    3.557,   34.525,2,   34.525,2,   50.700,2,   51.000,2,  118.580,2,   41.830,2,    3.040,2, -999.000
           NA,HOT timeseries 1988to2019 27SEP2021,      2,  99,-999.0,    8019,-999.0,20180724,2102,  22.7473, -158.0010,  4702, 1399.300,    3.093,   34.557,2,   34.558,2,   60.100,2,   59.800,2,  128.950,2,   41.660,2,    3.020,2, -999.000
           NA,HOT timeseries 1988to2019 27SEP2021,      2,  99,-999.0,    8018,-999.0,20180724,2102,  22.7473, -158.0010,  4702, 1601.400,    2.722,   34.582,2,   34.582,2,   70.800,2,   70.500,2,  136.480,2,   41.080,2,    2.950,2, -999.000
           NA,HOT timeseries 1988to2019 27SEP2021,      2,  99,-999.0,    8017,-999.0,20180724,2102,  22.7473, -158.0010,  4702, 1800.700,    2.424,   34.601,2,   34.601,2,   79.000,2,   79.500,2,  143.120,2,   40.550,2,    2.900,2, -999.000
           NA,HOT timeseries 1988to2019 27SEP2021,      2,  99,-999.0,    8016,-999.0,20180724,2102,  22.7473, -158.0010,  4702, 2001.500,    2.165,   34.615,2,   34.616,2,   86.300,2,   85.700,2,  149.790,2, -999.000,3,    2.870,2, -999.000
           NA,HOT timeseries 1988to2019 27SEP2021,      2,  99,-999.0,    8015,-999.0,20180724,2102,  22.7473, -158.0010,  4702, 2200.800,    1.944,   34.632,2,   34.632,2,   95.800,2,   95.700,2,  154.550,2, -999.000,3,    2.800,2, -999.000
           NA,HOT timeseries 1988to2019 27SEP2021,      2,  99,-999.0,    8014,-999.0,20180724,2102,  22.7473, -158.0010,  4702, 2401.300,    1.805,   34.644,2,   34.644,2,  103.600,2,  103.700,2,  156.630,2, -999.000,3,    2.750,2, -999.000
           NA,HOT timeseries 1988to2019 27SEP2021,      2,  99,-999.0,    8025,-999.0,20180724,2102,  22.7473, -158.0010,  4702, 2601.900,    1.697,   34.654,2,   34.654,2,  111.600,2,  112.100,2,  157.770,2, -999.000,3,    2.700,2, -999.000
           NA,HOT timeseries 1988to2019 27SEP2021,      2,  99,-999.0,    8012,-999.0,20180724,2102,  22.7473, -158.0010,  4702, 2802.000,    1.621,   34.663,2,   34.663,2,  118.400,2,  118.900,2,  158.140,2, -999.000,3,    2.650,2, -999.000
           NA,HOT timeseries 1988to2019 27SEP2021,      2,  99,-999.0,    8011,-999.0,20180724,2102,  22.7473, -158.0010,  4702, 3001.700,    1.552,   34.669,2,   34.669,2,  124.800,2,  125.200,2,  158.050,2,   36.950,2,    2.630,2, -999.000