BOTTLE,20214727JOAExport
EXPOCODE,SECT_ID,STNNBR,CASTNO,SAMPNO,BTLNBR,BTLNBR_FLAG_W,DATE,TIME,LATITUDE,LONGITUDE,DEPTH,CTDPRS,CTDTMP,CTDSAL,CTDSAL_FLAG_W,SALNTY,SALNTY_FLAG_W,CTDOXY,CTDOXY_FLAG_W,OXYGEN,OXYGEN_FLAG_W,SILCAT,SILCAT_FLAG_W,NINI,NINI_FLAG_W,PHSPHT,PHSPHT_FLAG_W,REVP
,,,,,,,,,,,,DB,IPTS-68,PSS-78,,PSS-78,,UMOL/KG,,UMOL/KG,,UMOL/KG,,UMOL/KG,,UMOL/KG,,DBAR
           NA,HOT timeseries 1988to2019 27SEP2021,     60,  99,-999.0,      31,-999.0,19950731,1950,  22.7525, -157.9832,  4728,    4.200,   25.650,   34.847,2,   34.847,2,  210.800,2,  208.200,2,    1.280,2,    0.010,2,    0.090,2, -999.000
           NA,HOT timeseries 1988to2019 27SEP2021,     60,  99,-999.0,      31,-999.0,19950731,1950,  22.7525, -157.9832,  4728,    4.500,   25.773,   34.849,2,   34.852,2,  208.300,2,  208.400,2,    1.400,2,    0.010,2,    0.100,2, -999.000
           NA,HOT timeseries 1988to2019 27SEP2021,     60,  99,-999.0,      30,-999.0,19950731,1950,  22.7525, -157.9832,  4728,   48.400,   24.612,   34.892,2,   34.891,2,  214.600,2,  220.100,2,    1.270,2,    0.010,2,    0.070,2, -999.000
           NA,HOT timeseries 1988to2019 27SEP2021,     60,  99,-999.0,      22,-999.0,19950731,1950,  22.7525, -157.9832,  4728,   63.000,   23.681,   34.961,2,   34.959,2,  223.500,2,  221.600,2,    1.280,2,    0.020,2,    0.070,2, -999.000
           NA,HOT timeseries 1988to2019 27SEP2021,     60,  99,-999.0,      21,-999.0,19950731,1950,  22.7525, -157.9832,  4728,   90.000,   22.588,   35.118,2,   35.117,2,  222.100,2,  220.000,2,    1.290,2,    0.010,2,    0.060,2, -999.000
           NA,HOT timeseries 1988to2019 27SEP2021,     60,  99,-999.0,      20,-999.0,19950731,1950,  22.7525, -157.9832,  4728,  110.700,   22.014,   35.169,2,   35.173,2,  215.900,2,  217.600,2,    1.780,2,    0.010,2,    0.070,2, -999.000
           NA,HOT timeseries 1988to2019 27SEP2021,     60,  99,-999.0,      30,-999.0,19950731,1950,  22.7525, -157.9832,  4728,  129.500,   20.840,   35.182,2,   35.190,2,  194.000,2,  205.400,2,    1.620,2,    0.820,2,    0.150,2, -999.000
           NA,HOT timeseries 1988to2019 27SEP2021,     60,  99,-999.0,      19,-999.0,19950731,1950,  22.7525, -157.9832,  4728,  161.300,   20.326,   35.197,2,   35.200,2,  204.400,2,  204.300,2,    2.070,2,    1.060,2,    0.130,2, -999.000
           NA,HOT timeseries 1988to2019 27SEP2021,     60,  99,-999.0,      18,-999.0,19950731,1950,  22.7525, -157.9832,  4728,  180.000,   19.670,   35.134,2,   35.136,2,  205.000,2,  205.200,2,    2.140,2,    1.250,2,    0.160,2, -999.000
           NA,HOT timeseries 1988to2019 27SEP2021,     60,  99,-999.0,      17,-999.0,19950731,1950,  22.7525, -157.9832,  4728,  253.600,   15.861,   34.680,2,   34.681,2,  200.900,2, -999.000,5,    5.210,2,    5.240,2,    0.420,2, -999.000
           NA,HOT timeseries 1988to2019 27SEP2021,     60,  99,-999.0,      16,-999.0,19950731,1950,  22.7525, -157.9832,  4728,  299.200,   13.924,   34.472,2,   34.474,2,  196.800,2,  199.600,2,    8.070,2,    8.510,2,    0.650,2, -999.000
           NA,HOT timeseries 1988to2019 27SEP2021,     60,  99,-999.0,      15,-999.0,19950731,1950,  22.7525, -157.9832,  4728,  349.400,   12.096,   34.312,2,   34.313,2,  195.000,2,  202.200,2,   12.480,2,   11.490,2,    0.840,2, -999.000
           NA,HOT timeseries 1988to2019 27SEP2021,     60,  99,-999.0,      14,-999.0,19950731,1950,  22.7525, -157.9832,  4728,  403.000,   10.877,   34.233,2,   34.236,2,  191.400,2,  200.200,2,   16.510,2,   14.250,2,    1.030,2, -999.000
           NA,HOT timeseries 1988to2019 27SEP2021,     60,  99,-999.0,      13,-999.0,19950731,1950,  22.7525, -157.9832,  4728,  458.100,    8.876,   34.099,2,   34.101,2,  162.100,2,  174.700,2,   27.030,2,   20.370,2,    1.470,2, -999.000
           NA,HOT timeseries 1988to2019 27SEP2021,     60,  99,-999.0,      22,-999.0,19950731,1950,  22.7525, -157.9832,  4728,  509.600,    7.286,   34.048,2,   34.049,2,  123.400,2,  123.500,2,   43.610,2,   27.550,2,    1.990,2, -999.000
           NA,HOT timeseries 1988to2019 27SEP2021,     60,  99,-999.0,      12,-999.0,19950731,1950,  22.7525, -157.9832,  4728,  520.100,    7.193,   34.048,2,   34.051,2,  113.600,2,  119.100,2,   45.000,2,   28.600,2,    2.070,2, -999.000
           NA,HOT timeseries 1988to2019 27SEP2021,     60,  99,-999.0,      11,-999.0,19950731,1950,  22.7525, -157.9832,  4728,  548.600,    6.914,   34.118,2,   34.116,2,   86.600,2,   87.400,2,   53.050,2,   31.690,2,    2.350,2, -999.000
           NA,HOT timeseries 1988to2019 27SEP2021,     60,  99,-999.0,      32,-999.0,19950731,1950,  22.7525, -157.9832,  4728,  571.800,    6.706,   34.195,2,   34.194,2,   55.300,2,   55.700,2,   59.730,2,   34.400,2,    2.600,2, -999.000
           NA,HOT timeseries 1988to2019 27SEP2021,     60,  99,-999.0,       3,-999.0,19950731,1950,  22.7525, -157.9832,  4728,  608.000,    6.086,   34.224,2,   34.224,2,   39.700,2,   38.000,2,   70.220,2,   37.220,2,    2.800,2, -999.000
           NA,HOT timeseries 1988to2019 27SEP2021,     60,  99,-999.0,      29,-999.0,19950731,1950,  22.7525, -157.9832,  4728,  658.500,    5.583,   34.284,2,   34.282,2,   33.700,2,   31.300,2,   79.220,2,   38.890,2,    2.910,2, -999.000
           NA,HOT timeseries 1988to2019 27SEP2021,     60,  99,-999.0,      28,-999.0,19950731,1950,  22.7525, -157.9832,  4728,  710.000,    5.241,   34.364,2,   34.364,2,   28.400,2,   27.500,2,   86.680,2,   40.090,2,    3.000,2, -999.000
           NA,HOT timeseries 1988to2019 27SEP2021,     60,  99,-999.0,       7,-999.0,19950731,1950,  22.7525, -157.9832,  4728,  730.600,    5.165,   34.378,2,   34.378,2,   28.900,2,   28.800,2,   88.260,2,   40.360,2,    3.000,2, -999.000
           NA,HOT timeseries 1988to2019 27SEP2021,     60,  99,-999.0,      23,-999.0,19950731,1950,  22.7525, -157.9832,  4728,  800.400,    4.940,   34.409,2,   34.411,2,   30.700,2,   34.800,2,   92.250,2,   40.510,2,    2.990,2, -999.000
           NA,HOT timeseries 1988to2019 27SEP2021,     60,  99,-999.0,      36,-999.0,19950731,1950,  22.7525, -157.9832,  4728,  861.300,    4.737,   34.438,2,   34.439,2,   33.000,2,   34.500,2,   95.420,2,   40.810,2,    3.010,2, -999.000
           NA,HOT timeseries 1988to2019 27SEP2021,     60,  99,-999.0,      35,-999.0,19950731,1950,  22.7525, -157.9832,  4728,  899.900,    4.548,   34.461,2,   34.461,2,   33.600,2,   36.700,2,   99.300,2,   41.090,2,    3.030,2, -999.000
           NA,HOT timeseries 1988to2019 27SEP2021,     60,  99,-999.0,      34,-999.0,19950731,1950,  22.7525, -157.9832,  4728,  950.100,    4.413,   34.476,2,   34.477,2,   35.100,2,   39.000,2,  101.590,2,   41.030,2,    3.030,2, -999.000
           NA,HOT timeseries 1988to2019 27SEP2021,     60,  99,-999.0,      33,-999.0,19950731,1950,  22.7525, -157.9832,  4728, 1020.700,    4.223,   34.487,2,   34.488,2,   37.500,2,   42.200,2,  105.680,2,   40.910,2,    3.030,2, -999.000
           NA,HOT timeseries 1988to2019 27SEP2021,     60,  99,-999.0,      20,-999.0,19950731,1950,  22.7525, -157.9832,  4728, 1200.200,    3.601,   34.524,2,   34.525,2,   51.200,2,   50.900,2,  118.060,2,   40.580,2,    2.980,2, -999.000
           NA,HOT timeseries 1988to2019 27SEP2021,     60,  99,-999.0,      19,-999.0,19950731,1950,  22.7525, -157.9832,  4728, 1400.000,    3.128,   34.559,2,   34.561,2,   60.600,2,   60.700,2,  128.240,2,   40.330,2,    2.950,2, -999.000
           NA,HOT timeseries 1988to2019 27SEP2021,     60,  99,-999.0,      18,-999.0,19950731,1950,  22.7525, -157.9832,  4728, 1599.200,    2.792,   34.581,2,   34.580,2,   68.800,2,   68.800,2,  135.920,2,   40.010,2,    2.920,2, -999.000
           NA,HOT timeseries 1988to2019 27SEP2021,     60,  99,-999.0,      17,-999.0,19950731,1950,  22.7525, -157.9832,  4728, 1799.000,    2.462,   34.602,2,   34.603,2,   79.500,2,   78.800,2,  142.460,2,   39.430,2,    2.870,2, -999.000
           NA,HOT timeseries 1988to2019 27SEP2021,     60,  99,-999.0,      16,-999.0,19950731,1950,  22.7525, -157.9832,  4728, 1999.500,    2.205,   34.617,2,   34.617,2,   87.600,2,   87.600,2,  148.360,2,   39.030,2,    2.830,2, -999.000
           NA,HOT timeseries 1988to2019 27SEP2021,     60,  99,-999.0,      15,-999.0,19950731,1950,  22.7525, -157.9832,  4728, 2199.600,    1.978,   34.634,2,   34.635,2,   96.100,2,   96.600,2,  152.880,2,   38.520,2,    2.790,2, -999.000
           NA,HOT timeseries 1988to2019 27SEP2021,     60,  99,-999.0,      14,-999.0,19950731,1950,  22.7525, -157.9832,  4728, 2400.300,    1.837,   34.643,2,   34.644,2,  102.900,2,  103.100,2,  156.070,2,   37.930,2,    2.750,2, -999.000
           NA,HOT timeseries 1988to2019 27SEP2021,     60,  99,-999.0,      13,-999.0,19950731,1950,  22.7525, -157.9832,  4728, 2599.600,    1.731,   34.652,2,   34.652,2,  107.900,2,  109.400,2,  157.240,2,   37.560,2,    2.730,2, -999.000
           NA,HOT timeseries 1988to2019 27SEP2021,     60,  99,-999.0,      12,-999.0,19950731,1950,  22.7525, -157.9832,  4728, 2800.300,    1.643,   34.661,2,   34.662,2,  115.500,2,  117.900,2,  157.690,2,   37.120,2,    2.680,2, -999.000
           NA,HOT timeseries 1988to2019 27SEP2021,     60,  99,-999.0,      11,-999.0,19950731,1950,  22.7525, -157.9832,  4728, 2999.000,    1.594,   34.667,2,   34.667,2,  119.700,2,  122.200,2,  157.870,2,   36.990,2,    2.660,2, -999.000
           NA,HOT timeseries 1988to2019 27SEP2021,     60,  99,-999.0,      32,-999.0,19950731,1950,  22.7525, -157.9832,  4728, 3198.600,    1.546,   34.673,2,   34.673,2,  127.400,2,  128.700,2,  157.500,2,   36.490,2,    2.620,2, -999.000
           NA,HOT timeseries 1988to2019 27SEP2021,     60,  99,-999.0,       3,-999.0,19950731,1950,  22.7525, -157.9832,  4728, 3398.800,    1.514,   34.677,2,   34.677,2,  133.700,2,  134.200,2,  155.840,2,   36.110,2,    2.580,2, -999.000
           NA,HOT timeseries 1988to2019 27SEP2021,     60,  99,-999.0,      29,-999.0,19950731,1950,  22.7525, -157.9832,  4728, 3600.100,    1.490,   34.681,2,   34.681,2,  138.200,2,  138.700,2,  155.090,2,   35.830,2,    2.570,2, -999.000
           NA,HOT timeseries 1988to2019 27SEP2021,     60,  99,-999.0,      28,-999.0,19950731,1950,  22.7525, -157.9832,  4728, 3799.100,    1.475,   34.684,2,   34.683,2,  143.200,2,  142.900,2,  152.970,2,   35.540,2,    2.540,2, -999.000
           NA,HOT timeseries 1988to2019 27SEP2021,     60,  99,-999.0,       7,-999.0,19950731,1950,  22.7525, -157.9832,  4728, 3998.900,    1.472,   34.686,2,   34.685,2,  146.400,2,  145.900,2,  151.950,2,   35.700,2,    2.520,2, -999.000
           NA,HOT timeseries 1988to2019 27SEP2021,     60,  99,-999.0,      23,-999.0,19950731,1950,  22.7525, -157.9832,  4728, 4199.500,    1.478,   34.687,2,   34.686,2,  149.400,2,  148.400,2,  150.550,2,   35.310,2,    2.520,2, -999.000
           NA,HOT timeseries 1988to2019 27SEP2021,     60,  99,-999.0,      36,-999.0,19950731,1950,  22.7525, -157.9832,  4728, 4398.600,    1.483,   34.689,2,   34.687,2,  151.900,2,  151.200,2,  151.330,2,   35.080,2,    2.500,2, -999.000
           NA,HOT timeseries 1988to2019 27SEP2021,     60,  99,-999.0,      35,-999.0,19950731,1950,  22.7525, -157.9832,  4728, 4498.800,    1.488,   34.690,2,   34.688,2,  152.700,2,  151.800,2,  150.630,2,   35.190,2,    2.540,2, -999.000
           NA,HOT timeseries 1988to2019 27SEP2021,     60,  99,-999.0,      34,-999.0,19950731,1950,  22.7525, -157.9832,  4728, 4598.400,    1.496,   34.690,2,   34.689,2,  153.000,2,  152.500,2,  150.110,2,   35.030,2,    2.480,2, -999.000
           NA,HOT timeseries 1988to2019 27SEP2021,     60,  99,-999.0,      33,-999.0,19950731,1950,  22.7525, -157.9832,  4728, 4810.100,    1.513,   34.691,2,   34.690,2,  154.900,2,  154.100,2,  148.620,2,   34.990,2,    2.470,2, -999.000