BOTTLE,20214727JOAExport
EXPOCODE,SECT_ID,STNNBR,CASTNO,SAMPNO,BTLNBR,BTLNBR_FLAG_W,DATE,TIME,LATITUDE,LONGITUDE,DEPTH,CTDPRS,CTDTMP,CTDSAL,CTDSAL_FLAG_W,SALNTY,SALNTY_FLAG_W,CTDOXY,CTDOXY_FLAG_W,OXYGEN,OXYGEN_FLAG_W,SILCAT,SILCAT_FLAG_W,NINI,NINI_FLAG_W,PHSPHT,PHSPHT_FLAG_W,REVP
,,,,,,,,,,,,DB,IPTS-68,PSS-78,,PSS-78,,UMOL/KG,,UMOL/KG,,UMOL/KG,,UMOL/KG,,UMOL/KG,,DBAR
           NA,HOT timeseries 1988to2019 27SEP2021,      2,  99,-999.0,    8005,-999.0,20160112,2035,  22.7508, -158.0000,  4740, 4202.400,    1.469,   34.684,2,   34.684,2,  149.300,2,  149.100,2,  150.560,2,   36.290,2,    2.510,2, -999.000
           NA,HOT timeseries 1988to2019 27SEP2021,      2,  99,-999.0,    8059,-999.0,20160112,2035,  22.7508, -158.0000,  4740, 4402.100,    1.483,   34.685,2,   34.685,2,  150.700,2,  150.300,2,  150.270,2,   36.250,2,    2.500,2, -999.000
           NA,HOT timeseries 1988to2019 27SEP2021,      2,  99,-999.0,    8003,-999.0,20160112,2035,  22.7508, -158.0000,  4740, 4500.600,    1.491,   34.685,2,   34.686,2,  151.100,2,  150.700,2,  150.440,2,   36.140,2,    2.500,2, -999.000
           NA,HOT timeseries 1988to2019 27SEP2021,      2,  99,-999.0,    8002,-999.0,20160112,2035,  22.7508, -158.0000,  4740, 4602.800,    1.498,   34.686,2,   34.686,2,  151.500,2,  151.900,2,  149.730,2,   36.100,2,    2.490,2, -999.000
           NA,HOT timeseries 1988to2019 27SEP2021,      2,  99,-999.0,    8001,-999.0,20160112,2035,  22.7508, -158.0000,  4740, 4807.200,    1.518,   34.686,2,   34.686,2,  157.000,2,  153.100,2,  148.390,2,   36.070,2,    2.470,2, -999.000
           NA,HOT timeseries 1988to2019 27SEP2021,      2,  99,-999.0,    8058,-999.0,20160209,2046,  22.7495, -158.0008,  4740,    5.400,   24.398,   35.081,2,   35.082,2,  208.700,2,  208.500,2,    1.220,2,    0.030,2,    0.060,2, -999.000
           NA,HOT timeseries 1988to2019 27SEP2021,      2,  99,-999.0,    8023,-999.0,20160209,2046,  22.7495, -158.0008,  4740,   39.500,   24.012,   35.211,2,   35.210,2,  209.900,2,  210.500,2,    1.260,2,    0.030,2,    0.040,2, -999.000
           NA,HOT timeseries 1988to2019 27SEP2021,      2,  99,-999.0,    8022,-999.0,20160209,2046,  22.7495, -158.0008,  4740,   98.400,   22.926,   35.303,2,   35.304,2,  211.600,2,  212.400,2,    1.750,2,    0.070,2,    0.040,2, -999.000
           NA,HOT timeseries 1988to2019 27SEP2021,      2,  99,-999.0,    8021,-999.0,20160209,2046,  22.7495, -158.0008,  4740,  106.900,   22.665,   35.302,2,   35.304,2,  209.700,2,  209.700,2,    1.420,2,    0.100,2,    0.060,2, -999.000
           NA,HOT timeseries 1988to2019 27SEP2021,      2,  99,-999.0,    8020,-999.0,20160209,2046,  22.7495, -158.0008,  4740,  119.300,   21.667,   35.247,2,   35.250,2,  205.900,2,  206.400,2,    1.910,2,    0.410,2,    0.100,2, -999.000
           NA,HOT timeseries 1988to2019 27SEP2021,      2,  99,-999.0,    8019,-999.0,20160209,2046,  22.7495, -158.0008,  4740,  176.200,   18.621,   34.936,2,   34.939,2,  199.300,2,  200.100,2,    3.070,2,    2.400,2,    0.240,2, -999.000
           NA,HOT timeseries 1988to2019 27SEP2021,      2,  99,-999.0,    8018,-999.0,20160209,2046,  22.7495, -158.0008,  4740,  233.300,   14.493,   34.399,2, -999.000,3, -999.000,3,  200.100,2,    6.320,2,    6.720,2,    0.520,2, -999.000
           NA,HOT timeseries 1988to2019 27SEP2021,      2,  99,-999.0,    8017,-999.0,20160209,2046,  22.7495, -158.0008,  4740,  285.300,   11.145,   34.100,2,   34.105,2,  188.900,2,  188.800,2, -999.000,4,   14.250,2,    1.050,2, -999.000
           NA,HOT timeseries 1988to2019 27SEP2021,      2,  99,-999.0,    8016,-999.0,20160209,2046,  22.7495, -158.0008,  4740,  336.500,    9.925,   34.089,2,   34.088,2,  165.800,2,  165.800,2,   23.370,2,   19.160,2,    1.430,2, -999.000
           NA,HOT timeseries 1988to2019 27SEP2021,      2,  99,-999.0,    8015,-999.0,20160209,2046,  22.7495, -158.0008,  4740,  376.200,    8.750,   34.089,2,   34.093,2,  140.300,2,  144.300,2, -999.000,3,   24.090,2,    1.770,2, -999.000
           NA,HOT timeseries 1988to2019 27SEP2021,      2,  99,-999.0,    8014,-999.0,20160209,2046,  22.7495, -158.0008,  4740,  440.200,    7.718,   34.112,2,   34.113,2,  101.900,2,   97.000,2,   44.270,2,   29.940,2,    2.200,2, -999.000
           NA,HOT timeseries 1988to2019 27SEP2021,      2,  99,-999.0,    8025,-999.0,20160209,2046,  22.7495, -158.0008,  4740,  480.500,    7.474,   34.177,2,   34.174,2,   77.400,2,   73.400,2,   51.450,2,   32.240,2,    2.400,2, -999.000
           NA,HOT timeseries 1988to2019 27SEP2021,      2,  99,-999.0,    8012,-999.0,20160209,2046,  22.7495, -158.0008,  4740,  531.600,    6.748,   34.193,2,   34.192,2,   58.900,2, -999.000,5,   59.450,2,   35.300,2,    2.610,2, -999.000
           NA,HOT timeseries 1988to2019 27SEP2021,      2,  99,-999.0,    8011,-999.0,20160209,2046,  22.7495, -158.0008,  4740,  570.900,    6.322,   34.209,2,   34.211,2,   47.400,2, -999.000,5,   67.380,2,   36.910,2,    2.720,2, -999.000
           NA,HOT timeseries 1988to2019 27SEP2021,      2,  99,-999.0,    8010,-999.0,20160209,2046,  22.7495, -158.0008,  4740,  608.400,    5.933,   34.208,2,   34.207,2,   43.800,2,   44.100,2,   72.000,2,   38.050,2,    2.790,2, -999.000
           NA,HOT timeseries 1988to2019 27SEP2021,      2,  99,-999.0,    8009,-999.0,20160209,2046,  22.7495, -158.0008,  4740,  661.700,    5.445,   34.274,2,   34.274,2,   34.600,2,   34.800,2, -999.000,3,   39.900,2,    2.930,2, -999.000
           NA,HOT timeseries 1988to2019 27SEP2021,      2,  99,-999.0,    8008,-999.0,20160209,2046,  22.7495, -158.0008,  4740,  700.300,    5.216,   34.311,2,   34.312,2,   33.800,2,   33.500,2,   86.240,2,   40.410,2,    2.950,2, -999.000
           NA,HOT timeseries 1988to2019 27SEP2021,      2,  99,-999.0,    8060,-999.0,20160209,2046,  22.7495, -158.0008,  4740,  752.500,    4.964,   34.355,2,   34.353,2,   35.300,2,   35.000,2,   92.550,2,   40.860,2,    2.970,2, -999.000
           NA,HOT timeseries 1988to2019 27SEP2021,      2,  99,-999.0,    8006,-999.0,20160209,2046,  22.7495, -158.0008,  4740,  796.400,    4.759,   34.381,2,   34.381,2,   38.700,2,   38.500,2,   94.750,2,   40.840,2,    2.970,2, -999.000
           NA,HOT timeseries 1988to2019 27SEP2021,      2,  99,-999.0,    8005,-999.0,20160209,2046,  22.7495, -158.0008,  4740,  839.900,    4.625,   34.423,2,   34.421,2,   39.500,2, -999.000,5,  100.150,2,   41.200,2,    2.980,2, -999.000
           NA,HOT timeseries 1988to2019 27SEP2021,      2,  99,-999.0,    8059,-999.0,20160209,2046,  22.7495, -158.0008,  4740,  877.200,    4.486,   34.444,2,   34.444,2,   40.700,2, -999.000,3, -999.000,3,   41.550,2,    3.010,2, -999.000
           NA,HOT timeseries 1988to2019 27SEP2021,      2,  99,-999.0,    8003,-999.0,20160209,2046,  22.7495, -158.0008,  4740,  917.100,    4.315,   34.455,2,   34.456,2,   42.000,2,   41.800,2,  103.800,2,   41.500,2,    3.000,2, -999.000
           NA,HOT timeseries 1988to2019 27SEP2021,      2,  99,-999.0,    8002,-999.0,20160209,2046,  22.7495, -158.0008,  4740,  991.200,    4.109,   34.483,2,   34.483,2,   45.500,2,   45.200,2, -999.000,3,   41.870,2,    3.010,2, -999.000
           NA,HOT timeseries 1988to2019 27SEP2021,      2,  99,-999.0,    8001,-999.0,20160209,2046,  22.7495, -158.0008,  4740, 1020.400,    4.053,   34.492,2,   34.494,2,   47.100,2,   46.700,2,  109.250,2,   41.610,2,    3.000,2, -999.000
           NA,HOT timeseries 1988to2019 27SEP2021,      2,  99,-999.0,    8020,-999.0,20160209,2046,  22.7495, -158.0008,  4740, 1198.900,    3.591,   34.530,2,   34.530,2,   52.000,2,   51.500,2,  117.890,2,   41.600,2,    3.010,2, -999.000
           NA,HOT timeseries 1988to2019 27SEP2021,      2,  99,-999.0,    8019,-999.0,20160209,2046,  22.7495, -158.0008,  4740, 1400.600,    3.158,   34.556,2,   34.556,2,   59.600,2,   59.800,2,  127.610,2,   41.430,2,    2.980,2, -999.000
           NA,HOT timeseries 1988to2019 27SEP2021,      2,  99,-999.0,    8018,-999.0,20160209,2046,  22.7495, -158.0008,  4740, 1600.800,    2.735,   34.577,2,   34.576,2,   69.800,2,   70.400,2,  136.950,2,   40.820,2,    2.930,2, -999.000
           NA,HOT timeseries 1988to2019 27SEP2021,      2,  99,-999.0,    8017,-999.0,20160209,2046,  22.7495, -158.0008,  4740, 1801.100,    2.463,   34.596,2,   34.596,2,   77.100,2,   77.500,2,  143.280,2,   40.630,2,    2.900,2, -999.000
           NA,HOT timeseries 1988to2019 27SEP2021,      2,  99,-999.0,    8016,-999.0,20160209,2046,  22.7495, -158.0008,  4740, 2001.300,    2.186,   34.614,2,   34.614,2,   86.700,2,   87.300,2,  149.530,2,   40.070,2,    2.850,2, -999.000
           NA,HOT timeseries 1988to2019 27SEP2021,      2,  99,-999.0,    8015,-999.0,20160209,2046,  22.7495, -158.0008,  4740, 2201.300,    1.955,   34.630,2,   34.629,2,   94.200,2,   94.200,2,  155.150,2,   39.780,2,    2.820,2, -999.000
           NA,HOT timeseries 1988to2019 27SEP2021,      2,  99,-999.0,    8014,-999.0,20160209,2046,  22.7495, -158.0008,  4740, 2400.600,    1.831,   34.643,2,   34.644,2,  102.700,2,  103.400,2,  156.120,2,   39.250,2,    2.780,2, -999.000
           NA,HOT timeseries 1988to2019 27SEP2021,      2,  99,-999.0,    8025,-999.0,20160209,2046,  22.7495, -158.0008,  4740, 2603.300,    1.710,   34.653,2,   34.654,2,  110.100,2,  110.000,2,  159.000,2,   38.850,2,    2.740,2, -999.000
           NA,HOT timeseries 1988to2019 27SEP2021,      2,  99,-999.0,    8012,-999.0,20160209,2046,  22.7495, -158.0008,  4740, 2800.900,    1.617,   34.661,2,   34.662,2,  116.800,2,  117.500,2,  159.830,2,   38.230,2,    2.690,2, -999.000
           NA,HOT timeseries 1988to2019 27SEP2021,      2,  99,-999.0,    8011,-999.0,20160209,2046,  22.7495, -158.0008,  4740, 3000.100,    1.563,   34.667,2,   34.668,2,  122.600,2, -999.000,4,  160.850,2,   37.630,2,    2.650,2, -999.000
           NA,HOT timeseries 1988to2019 27SEP2021,      2,  99,-999.0,    8010,-999.0,20160209,2046,  22.7495, -158.0008,  4740, 3204.100,    1.521,   34.673,2,   34.673,2,  129.600,2, -999.000,4,  158.370,2,   37.300,2,    2.620,2, -999.000
           NA,HOT timeseries 1988to2019 27SEP2021,      2,  99,-999.0,    8009,-999.0,20160209,2046,  22.7495, -158.0008,  4740, 3404.000,    1.489,   34.677,2,   34.677,2,  134.300,2,  134.400,2,  158.670,2,   37.350,2,    2.600,2, -999.000
           NA,HOT timeseries 1988to2019 27SEP2021,      2,  99,-999.0,    8008,-999.0,20160209,2046,  22.7495, -158.0008,  4740, 3601.400,    1.469,   34.681,2,   34.680,2,  140.400,2,  139.800,2,  155.770,2,   36.440,2,    2.560,2, -999.000
           NA,HOT timeseries 1988to2019 27SEP2021,      2,  99,-999.0,    8060,-999.0,20160209,2046,  22.7495, -158.0008,  4740, 3799.800,    1.464,   34.683,2,   34.682,2,  143.300,2,  142.800,2,  154.270,2,   36.420,2,    2.560,2, -999.000
           NA,HOT timeseries 1988to2019 27SEP2021,      2,  99,-999.0,    8006,-999.0,20160209,2046,  22.7495, -158.0008,  4740, 4003.200,    1.464,   34.685,2,   34.684,2,  146.500,2,  146.200,2,  153.260,2,   36.230,2,    2.540,2, -999.000
           NA,HOT timeseries 1988to2019 27SEP2021,      2,  99,-999.0,    8005,-999.0,20160209,2046,  22.7495, -158.0008,  4740, 4201.000,    1.470,   34.686,2,   34.685,2,  149.000,2,  148.500,2,  151.240,2,   35.950,2,    2.520,2, -999.000
           NA,HOT timeseries 1988to2019 27SEP2021,      2,  99,-999.0,    8059,-999.0,20160209,2046,  22.7495, -158.0008,  4740, 4401.100,    1.483,   34.687,2,   34.687,2,  150.300,2,  149.900,2,  150.470,2,   35.940,2,    2.510,2, -999.000
           NA,HOT timeseries 1988to2019 27SEP2021,      2,  99,-999.0,    8003,-999.0,20160209,2046,  22.7495, -158.0008,  4740, 4503.300,    1.492,   34.687,2,   34.688,2,  150.700,2,  151.500,2,  150.950,2,   35.840,2,    2.510,2, -999.000
           NA,HOT timeseries 1988to2019 27SEP2021,      2,  99,-999.0,    8002,-999.0,20160209,2046,  22.7495, -158.0008,  4740, 4600.700,    1.500,   34.688,2,   34.688,2,  151.100,2,  151.300,2,  149.540,2,   35.780,2,    2.500,2, -999.000
           NA,HOT timeseries 1988to2019 27SEP2021,      2,  99,-999.0,    8001,-999.0,20160209,2046,  22.7495, -158.0008,  4740, 4803.900,    1.514,   34.688,2,   34.689,2, -999.000,3,  152.700,2,  148.380,2,   35.680,2,    2.500,2, -999.000
           NA,HOT timeseries 1988to2019 27SEP2021,      2,  99,-999.0,    8058,-999.0,20160414,2051,  22.7502, -158.0007,  4740,    5.300,   24.424,   34.802,2,   34.802,2,  211.400,2,  211.900,2,    1.380,2,    0.010,2,    0.110,2, -999.000
           NA,HOT timeseries 1988to2019 27SEP2021,      2,  99,-999.0,    8023,-999.0,20160414,2051,  22.7502, -158.0007,  4740,   58.200,   24.365,   34.812,2,   34.812,2,  211.900,2,  212.000,2,    1.350,2,    0.010,2,    0.100,2, -999.000
           NA,HOT timeseries 1988to2019 27SEP2021,      2,  99,-999.0,    8022,-999.0,20160414,2051,  22.7502, -158.0007,  4740,  110.600,   23.637,   35.172,2,   35.171,2,  208.700,2,  209.600,2,    1.290,2,    0.010,2,    0.060,2, -999.000
           NA,HOT timeseries 1988to2019 27SEP2021,      2,  99,-999.0,    8021,-999.0,20160414,2051,  22.7502, -158.0007,  4740,  131.800,   23.123,   35.258,2,   35.262,2,  209.300,2,  208.500,2,    1.280,2,    0.050,2,    0.060,2, -999.000
           NA,HOT timeseries 1988to2019 27SEP2021,      2,  99,-999.0,    8020,-999.0,20160414,2051,  22.7502, -158.0007,  4740,  164.600,   21.928,   35.163,2,   35.155,2,  199.700,2,  198.500,2,    1.790,2,    0.880,2,    0.150,2, -999.000
           NA,HOT timeseries 1988to2019 27SEP2021,      2,  99,-999.0,    8019,-999.0,20160414,2051,  22.7502, -158.0007,  4740,  189.900,   20.200,   35.060,2,   35.056,2,  192.600,2,  192.800,2,    2.370,2,    1.960,2,    0.220,2, -999.000
           NA,HOT timeseries 1988to2019 27SEP2021,      2,  99,-999.0,    8018,-999.0,20160414,2051,  22.7502, -158.0007,  4740,  205.800,   19.782,   35.063,2,   35.063,2,  196.200,2,  196.000,2,    2.780,2,    2.090,2,    0.210,2, -999.000
           NA,HOT timeseries 1988to2019 27SEP2021,      2,  99,-999.0,    8017,-999.0,20160414,2051,  22.7502, -158.0007,  4740,  257.300,   16.828,   34.740,2,   34.746,2,  205.800,2,  205.000,2,    4.380,2,    3.790,2,    0.310,2, -999.000
           NA,HOT timeseries 1988to2019 27SEP2021,      2,  99,-999.0,    8016,-999.0,20160414,2051,  22.7502, -158.0007,  4740,  273.100,   15.923,   34.644,2,   34.633,2,  209.800,2,  210.100,2,    5.210,2,    4.740,2,    0.350,2, -999.000
           NA,HOT timeseries 1988to2019 27SEP2021,      2,  99,-999.0,    8015,-999.0,20160414,2051,  22.7502, -158.0007,  4740,  291.300,   15.224,   34.560,2,   34.556,2,  211.000,2,  210.800,2,    5.940,2,    5.610,2,    0.420,2, -999.000
           NA,HOT timeseries 1988to2019 27SEP2021,      2,  99,-999.0,    8014,-999.0,20160414,2051,  22.7502, -158.0007,  4740,  335.100,   12.943,   34.298,2,   34.292,2,  203.400,2,  207.700,2,    9.900,2,    9.790,2,    0.690,2, -999.000
           NA,HOT timeseries 1988to2019 27SEP2021,      2,  99,-999.0,    8025,-999.0,20160414,2051,  22.7502, -158.0007,  4740,  400.100,   10.276,   34.139,2,   34.139,2,  200.200,2,  198.900,2,   18.950,2,   16.080,2,    1.120,2, -999.000
           NA,HOT timeseries 1988to2019 27SEP2021,      2,  99,-999.0,    8012,-999.0,20160414,2051,  22.7502, -158.0007,  4740,  453.100,    8.730,   34.073,2,   34.071,2,  175.100,2,  171.500,2,   31.350,2,   21.990,2,    1.540,2, -999.000
           NA,HOT timeseries 1988to2019 27SEP2021,      2,  99,-999.0,    8011,-999.0,20160414,2051,  22.7502, -158.0007,  4740,  513.100,    7.165,   34.033,2,   34.033,2,  132.300,2,  130.000,2,   47.190,2,   28.430,2,    2.010,2, -999.000
           NA,HOT timeseries 1988to2019 27SEP2021,      2,  99,-999.0,    8010,-999.0,20160414,2051,  22.7502, -158.0007,  4740,  552.800,    6.339,   34.044,2,   34.044,2,   96.000,2,   96.100,2,   59.420,2,   32.980,2,    2.350,2, -999.000
           NA,HOT timeseries 1988to2019 27SEP2021,      2,  99,-999.0,    8009,-999.0,20160414,2051,  22.7502, -158.0007,  4740,  586.700,    5.943,   34.090,2,   34.087,2,   70.600,2,   70.000,2,   68.060,2,   35.880,2,    2.590,2, -999.000
           NA,HOT timeseries 1988to2019 27SEP2021,      2,  99,-999.0,    8008,-999.0,20160414,2051,  22.7502, -158.0007,  4740,  627.200,    5.792,   34.191,2,   34.190,2,   49.000,2,   48.200,2,   73.890,2,   37.770,2,    2.760,2, -999.000
           NA,HOT timeseries 1988to2019 27SEP2021,      2,  99,-999.0,    8060,-999.0,20160414,2051,  22.7502, -158.0007,  4740,  692.800,    5.318,   34.249,2,   34.245,2,   38.400,2,   37.900,2,   83.050,2,   39.550,2,    2.900,2, -999.000
           NA,HOT timeseries 1988to2019 27SEP2021,      2,  99,-999.0,    8022,-999.0,20160414,2051,  22.7502, -158.0007,  4740,  749.500,    4.949,   34.327,2,   34.326,2,   34.200,2,   33.400,2,   90.640,2,   40.790,2,    2.980,2, -999.000
           NA,HOT timeseries 1988to2019 27SEP2021,      2,  99,-999.0,    8005,-999.0,20160414,2051,  22.7502, -158.0007,  4740,  813.200,    4.792,   34.383,2,   34.382,2,   36.900,2,   36.400,2,   94.300,2,   40.880,2,    2.980,2, -999.000
           NA,HOT timeseries 1988to2019 27SEP2021,      2,  99,-999.0,    8059,-999.0,20160414,2051,  22.7502, -158.0007,  4740,  862.100,    4.607,   34.410,2,   34.412,2,   36.500,2,   37.300,2,   98.210,2,   41.180,2,    2.990,2, -999.000
           NA,HOT timeseries 1988to2019 27SEP2021,      2,  99,-999.0,    8003,-999.0,20160414,2051,  22.7502, -158.0007,  4740,  893.200,    4.517,   34.416,2,   34.417,2,   34.200,2,   34.000,2,  100.520,2,   41.510,2,    3.040,2, -999.000
           NA,HOT timeseries 1988to2019 27SEP2021,      2,  99,-999.0,    8002,-999.0,20160414,2051,  22.7502, -158.0007,  4740,  958.000,    4.246,   34.460,2,   34.461,2,   39.900,2,   39.900,2,  105.400,2,   41.760,2,    3.020,2, -999.000
           NA,HOT timeseries 1988to2019 27SEP2021,      2,  99,-999.0,    8001,-999.0,20160414,2051,  22.7502, -158.0007,  4740, 1019.100,    4.124,   34.474,2,   34.475,2,   42.500,2,   42.900,2,  107.670,2,   41.600,2,    3.020,2, -999.000
           NA,HOT timeseries 1988to2019 27SEP2021,      2,  99,-999.0,    8020,-999.0,20160414,2051,  22.7502, -158.0007,  4740, 1199.400,    3.529,   34.528,2,   34.527,2,   52.600,2,   52.300,2,  119.730,2,   41.780,2,    3.020,2, -999.000
           NA,HOT timeseries 1988to2019 27SEP2021,      2,  99,-999.0,    8019,-999.0,20160414,2051,  22.7502, -158.0007,  4740, 1401.200,    3.147,   34.555,2,   34.555,2,   59.200,2,   59.200,2,  128.280,2,   41.560,2,    2.990,2, -999.000
           NA,HOT timeseries 1988to2019 27SEP2021,      2,  99,-999.0,    8018,-999.0,20160414,2051,  22.7502, -158.0007,  4740, 1600.100,    2.763,   34.581,2,   34.580,2,   68.200,2,   68.300,2,  136.800,2,   41.140,2,    2.950,2, -999.000
           NA,HOT timeseries 1988to2019 27SEP2021,      2,  99,-999.0,    8017,-999.0,20160414,2051,  22.7502, -158.0007,  4740, 1801.100,    2.476,   34.599,2,   34.599,2,   76.800,2,   76.900,2,  143.330,2,   40.700,2,    2.900,2, -999.000
           NA,HOT timeseries 1988to2019 27SEP2021,      2,  99,-999.0,    8016,-999.0,20160414,2051,  22.7502, -158.0007,  4740, 2002.900,    2.180,   34.618,2,   34.617,2,   87.000,2,   87.300,2,  149.740,2,   40.100,2,    2.840,2, -999.000
           NA,HOT timeseries 1988to2019 27SEP2021,      2,  99,-999.0,    8015,-999.0,20160414,2051,  22.7502, -158.0007,  4740, 2201.700,    1.990,   34.630,2,   34.630,2,   94.400,2,   94.800,2,  153.890,2,   39.700,2,    2.790,2, -999.000
           NA,HOT timeseries 1988to2019 27SEP2021,      2,  99,-999.0,    8014,-999.0,20160414,2051,  22.7502, -158.0007,  4740, 2399.700,    1.832,   34.641,2,   34.640,2,  100.700,2,  101.800,2,  157.800,2,   39.230,2,    2.770,2, -999.000
           NA,HOT timeseries 1988to2019 27SEP2021,      2,  99,-999.0,    8025,-999.0,20160414,2051,  22.7502, -158.0007,  4740, 2599.800,    1.712,   34.651,2,   34.650,2,  108.100,2,  109.300,2,  160.610,2,   38.780,2,    2.720,2, -999.000