BOTTLE,20214727JOAExport
EXPOCODE,SECT_ID,STNNBR,CASTNO,SAMPNO,BTLNBR,BTLNBR_FLAG_W,DATE,TIME,LATITUDE,LONGITUDE,DEPTH,CTDPRS,CTDTMP,CTDSAL,CTDSAL_FLAG_W,SALNTY,SALNTY_FLAG_W,CTDOXY,CTDOXY_FLAG_W,OXYGEN,OXYGEN_FLAG_W,SILCAT,SILCAT_FLAG_W,NINI,NINI_FLAG_W,PHSPHT,PHSPHT_FLAG_W,REVP
,,,,,,,,,,,,DB,IPTS-68,PSS-78,,PSS-78,,UMOL/KG,,UMOL/KG,,UMOL/KG,,UMOL/KG,,UMOL/KG,,DBAR
           NA,HOT timeseries 1988to2019 27SEP2021,    192,  99,-999.0,    8024,-999.0,20071002,1543,  22.7493, -158.0003,  4719,    5.100,   26.078,   35.076,2,   35.078,2,  206.200,2,  205.800,2,    1.080,2, -999.000,4,    0.040,2, -999.000
           NA,HOT timeseries 1988to2019 27SEP2021,    192,  99,-999.0,    8024,-999.0,20071002,1543,  22.7493, -158.0003,  4719,    5.600,   26.109,   35.080,2,   35.081,2,  206.500,2,  205.800,2,    1.380,2, -999.000,4,    0.050,2, -999.000
           NA,HOT timeseries 1988to2019 27SEP2021,    192,  99,-999.0,    8023,-999.0,20071002,1543,  22.7493, -158.0003,  4719,   43.600,   26.098,   35.079,2,   35.079,2,  206.500,2,  205.600,2,    1.340,2, -999.000,4,    0.050,2, -999.000
           NA,HOT timeseries 1988to2019 27SEP2021,    192,  99,-999.0,    8022,-999.0,20071002,1543,  22.7493, -158.0003,  4719,   82.000,   25.565,   35.117,2,   35.121,2,  212.100,2,  209.700,2, -999.000,4, -999.000,3,    0.020,2, -999.000
           NA,HOT timeseries 1988to2019 27SEP2021,    192,  99,-999.0,    8021,-999.0,20071002,1543,  22.7493, -158.0003,  4719,  120.700,   23.304,   35.179,2,   35.176,2,  218.000,2,  218.100,2, -999.000,3, -999.000,3,    0.020,2, -999.000
           NA,HOT timeseries 1988to2019 27SEP2021,    192,  99,-999.0,    8020,-999.0,20071002,1543,  22.7493, -158.0003,  4719,  149.900,   21.837,   35.189,2,   35.190,2,  208.700,2,  208.700,2,    2.330,2,    0.310,2,    0.040,2, -999.000
           NA,HOT timeseries 1988to2019 27SEP2021,    192,  99,-999.0,    8019,-999.0,20071002,1543,  22.7493, -158.0003,  4719,  205.300,   19.092,   34.964,2,   34.964,2,  199.100,2,  198.700,2,    2.730,2,    2.300,2,    0.180,2, -999.000
           NA,HOT timeseries 1988to2019 27SEP2021,    192,  99,-999.0,    8018,-999.0,20071002,1543,  22.7493, -158.0003,  4719,  255.200,   15.720,   34.544,2,   34.542,2,  194.600,2,  195.100,2,    5.190,2,    6.110,2,    0.460,2, -999.000
           NA,HOT timeseries 1988to2019 27SEP2021,    192,  99,-999.0,    8017,-999.0,20071002,1543,  22.7493, -158.0003,  4719,  297.500,   13.258,   34.270,2, -999.000,3, -999.000,3,  188.900,2,    8.620,2,    9.790,2,    0.730,2, -999.000
           NA,HOT timeseries 1988to2019 27SEP2021,    192,  99,-999.0,    8016,-999.0,20071002,1543,  22.7493, -158.0003,  4719,  337.500,   11.536,   34.170,2,   34.173,2,  197.500,2,  197.100,2,   12.860,2,   13.000,2,    0.930,2, -999.000
           NA,HOT timeseries 1988to2019 27SEP2021,    192,  99,-999.0,    8015,-999.0,20071002,1543,  22.7493, -158.0003,  4719,  379.400,   10.322,   34.136,2,   34.139,2,  186.100,2,  185.000,2,   18.630,2,   16.880,2,    1.200,2, -999.000
           NA,HOT timeseries 1988to2019 27SEP2021,    192,  99,-999.0,    8023,-999.0,20071002,1543,  22.7493, -158.0003,  4719,  449.400,    8.362,   34.080,2,   34.085,2,  148.600,2, -999.000,3,   33.590,2,   23.950,2,    1.690,2, -999.000
           NA,HOT timeseries 1988to2019 27SEP2021,    192,  99,-999.0,    8025,-999.0,20071002,1543,  22.7493, -158.0003,  4719,  498.000,    7.681,   34.098,2,   34.097,2,  113.400,2,  113.900,2,   41.690,2,   29.040,2,    2.080,2, -999.000
           NA,HOT timeseries 1988to2019 27SEP2021,    192,  99,-999.0,    8012,-999.0,20071002,1543,  22.7493, -158.0003,  4719,  524.600,    7.151,   34.108,2,   34.110,2,   93.400,2,   94.200,2,   51.900,2,   31.540,2,    2.280,2, -999.000
           NA,HOT timeseries 1988to2019 27SEP2021,    192,  99,-999.0,    8011,-999.0,20071002,1543,  22.7493, -158.0003,  4719,  569.900,    6.500,   34.137,2,   34.139,2,   70.900,2,   69.900,2,   60.750,2,   34.850,2,    2.520,2, -999.000
           NA,HOT timeseries 1988to2019 27SEP2021,    192,  99,-999.0,    8010,-999.0,20071002,1543,  22.7493, -158.0003,  4719,  626.100,    5.939,   34.174,2,   34.174,2,   49.900,2,   49.400,2,   69.490,2,   37.750,2,    2.740,2, -999.000
           NA,HOT timeseries 1988to2019 27SEP2021,    192,  99,-999.0,    8009,-999.0,20071002,1543,  22.7493, -158.0003,  4719,  679.300,    5.443,   34.236,2,   34.237,2,   34.600,2,   33.300,2,   79.880,2,   40.030,2,    2.910,2, -999.000
           NA,HOT timeseries 1988to2019 27SEP2021,    192,  99,-999.0,    8008,-999.0,20071002,1543,  22.7493, -158.0003,  4719,  713.700,    5.206,   34.269,2,   34.270,2,   30.200,2,   30.600,2,   85.410,2,   40.880,2,    2.960,2, -999.000
           NA,HOT timeseries 1988to2019 27SEP2021,    192,  99,-999.0,    8026,-999.0,20071002,1543,  22.7493, -158.0003,  4719,  748.200,    4.958,   34.288,2,   34.290,2,   27.300,2,   25.600,2,   90.970,2,   41.540,2,    3.010,2, -999.000
           NA,HOT timeseries 1988to2019 27SEP2021,    192,  99,-999.0,    8006,-999.0,20071002,1543,  22.7493, -158.0003,  4719,  787.700,    4.616,   34.326,2,   34.325,2,   24.400,2,   25.300,2,   98.310,2,   42.290,2,    3.050,2, -999.000
           NA,HOT timeseries 1988to2019 27SEP2021,    192,  99,-999.0,    8005,-999.0,20071002,1543,  22.7493, -158.0003,  4719,  829.300,    4.442,   34.377,2,   34.376,2,   26.400,2,   26.700,2,  103.900,2,   42.510,2,    3.050,2, -999.000
           NA,HOT timeseries 1988to2019 27SEP2021,    192,  99,-999.0,    8004,-999.0,20071002,1543,  22.7493, -158.0003,  4719,  865.300,    4.356,   34.417,2,   34.416,2,   30.000,2,   32.400,2,  104.880,2,   42.440,2,    3.040,2, -999.000
           NA,HOT timeseries 1988to2019 27SEP2021,    192,  99,-999.0,    8003,-999.0,20071002,1543,  22.7493, -158.0003,  4719,  896.300,    4.285,   34.434,2,   34.433,2,   31.900,2,   34.000,2,  107.220,2,   42.390,2,    3.040,2, -999.000
           NA,HOT timeseries 1988to2019 27SEP2021,    192,  99,-999.0,    8002,-999.0,20071002,1543,  22.7493, -158.0003,  4719,  962.300,    4.059,   34.477,2,   34.476,2,   39.400,2,   40.500,2,  108.770,2,   42.440,2,    3.020,2, -999.000
           NA,HOT timeseries 1988to2019 27SEP2021,    192,  99,-999.0,    8001,-999.0,20071002,1543,  22.7493, -158.0003,  4719, 1021.500,    3.896,   34.500,2,   34.500,2,   43.400,2,   43.900,2,  112.690,2,   42.200,2,    3.010,2, -999.000
           NA,HOT timeseries 1988to2019 27SEP2021,    192,  99,-999.0,    8020,-999.0,20071002,1543,  22.7493, -158.0003,  4719, 1200.500,    3.497,   34.528,2,   34.528,2,   50.900,2,   51.900,2,  119.420,2,   41.790,2,    2.980,2, -999.000
           NA,HOT timeseries 1988to2019 27SEP2021,    192,  99,-999.0,    8019,-999.0,20071002,1543,  22.7493, -158.0003,  4719, 1401.900,    3.037,   34.562,2,   34.563,2,   61.000,2,   61.400,2,  130.730,2,   41.440,2,    2.940,2, -999.000
           NA,HOT timeseries 1988to2019 27SEP2021,    192,  99,-999.0,    8018,-999.0,20071002,1543,  22.7493, -158.0003,  4719, 1605.200,    2.717,   34.583,2,   34.583,2,   69.000,2,   70.300,2,  136.950,2,   41.090,2,    2.900,2, -999.000
           NA,HOT timeseries 1988to2019 27SEP2021,    192,  99,-999.0,    8017,-999.0,20071002,1543,  22.7493, -158.0003,  4719, 1802.200,    2.417,   34.604,2,   34.604,2,   78.700,2,   79.000,2,  143.640,2,   40.510,2,    2.850,2, -999.000
           NA,HOT timeseries 1988to2019 27SEP2021,    192,  99,-999.0,    8016,-999.0,20071002,1543,  22.7493, -158.0003,  4719, 1998.300,    2.163,   34.622,2,   34.623,2,   88.100,2,   88.600,2,  149.840,2,   39.940,2,    2.800,2, -999.000
           NA,HOT timeseries 1988to2019 27SEP2021,    192,  99,-999.0,    8015,-999.0,20071002,1543,  22.7493, -158.0003,  4719, 2200.600,    1.978,   34.634,2,   34.635,2,   96.300,2,   96.100,2,  156.020,2,   39.600,2,    2.760,2, -999.000
           NA,HOT timeseries 1988to2019 27SEP2021,    192,  99,-999.0,    8014,-999.0,20071002,1543,  22.7493, -158.0003,  4719, 2403.100,    1.787,   34.648,2,   34.648,2,  104.900,2,  105.300,2,  157.020,2,   39.010,2,    2.690,2, -999.000
           NA,HOT timeseries 1988to2019 27SEP2021,    192,  99,-999.0,    8025,-999.0,20071002,1543,  22.7493, -158.0003,  4719, 2602.400,    1.678,   34.659,2,   34.660,2,  113.100,2,  112.600,2,  157.170,2,   38.560,2,    2.670,2, -999.000
           NA,HOT timeseries 1988to2019 27SEP2021,    192,  99,-999.0,    8012,-999.0,20071002,1543,  22.7493, -158.0003,  4719, 2798.900,    1.601,   34.666,2,   34.666,2,  119.900,2,  120.400,2,  157.280,2,   38.150,2,    2.640,2, -999.000
           NA,HOT timeseries 1988to2019 27SEP2021,    192,  99,-999.0,    8011,-999.0,20071002,1543,  22.7493, -158.0003,  4719, 2997.200,    1.553,   34.671,2,   34.672,2,  125.700,2,  125.600,2,  159.690,2,   37.670,2,    2.590,2, -999.000
           NA,HOT timeseries 1988to2019 27SEP2021,    192,  99,-999.0,    8010,-999.0,20071002,1543,  22.7493, -158.0003,  4719, 3201.700,    1.502,   34.677,2,   34.677,2,  132.900,2,  133.100,2,  155.720,2,   37.220,2,    2.560,2, -999.000
           NA,HOT timeseries 1988to2019 27SEP2021,    192,  99,-999.0,    8009,-999.0,20071002,1543,  22.7493, -158.0003,  4719, 3399.100,    1.472,   34.681,2,   34.681,2,  138.100,2,  137.700,2,  156.780,2,   36.840,2,    2.530,2, -999.000
           NA,HOT timeseries 1988to2019 27SEP2021,    192,  99,-999.0,    8008,-999.0,20071002,1543,  22.7493, -158.0003,  4719, 3603.300,    1.462,   34.684,2,   34.685,2,  142.600,2,  142.700,2,  155.320,2,   36.760,2,    2.520,2, -999.000
           NA,HOT timeseries 1988to2019 27SEP2021,    192,  99,-999.0,    8026,-999.0,20071002,1543,  22.7493, -158.0003,  4719, 3798.900,    1.457,   34.686,2,   34.688,2,  145.900,2,  144.900,2,  152.410,2,   36.270,2,    2.500,2, -999.000
           NA,HOT timeseries 1988to2019 27SEP2021,    192,  99,-999.0,    8006,-999.0,20071002,1543,  22.7493, -158.0003,  4719, 3998.000,    1.458,   34.688,2,   34.688,2,  149.000,2,  148.700,2,  152.360,2,   36.070,2,    2.480,2, -999.000
           NA,HOT timeseries 1988to2019 27SEP2021,    192,  99,-999.0,    8005,-999.0,20071002,1543,  22.7493, -158.0003,  4719, 4199.500,    1.466,   34.689,2,   34.689,2,  151.000,2,  150.500,2,  150.600,2,   35.970,2,    2.480,2, -999.000
           NA,HOT timeseries 1988to2019 27SEP2021,    192,  99,-999.0,    8004,-999.0,20071002,1543,  22.7493, -158.0003,  4719, 4397.500,    1.479,   34.690,2,   34.691,2,  152.700,2,  152.400,2, -999.000,4,   35.880,2,    2.470,2, -999.000
           NA,HOT timeseries 1988to2019 27SEP2021,    192,  99,-999.0,    8003,-999.0,20071002,1543,  22.7493, -158.0003,  4719, 4499.000,    1.488,   34.690,2,   34.691,2,  153.100,2,  152.400,2,  150.640,2,   35.940,2,    2.460,2, -999.000
           NA,HOT timeseries 1988to2019 27SEP2021,    192,  99,-999.0,    8002,-999.0,20071002,1543,  22.7493, -158.0003,  4719, 4600.500,    1.497,   34.690,2,   34.691,2,  153.200,2,  153.400,2,  151.180,2,   35.940,2,    2.470,2, -999.000
           NA,HOT timeseries 1988to2019 27SEP2021,    192,  99,-999.0,    8001,-999.0,20071002,1543,  22.7493, -158.0003,  4719, 4799.900,    1.500,   34.692,2,   34.693,2,  155.700,2,  155.900,2, -999.000,4,   35.550,2,    2.450,2, -999.000