BOTTLE,20214727JOAExport
EXPOCODE,SECT_ID,STNNBR,CASTNO,SAMPNO,BTLNBR,BTLNBR_FLAG_W,DATE,TIME,LATITUDE,LONGITUDE,DEPTH,CTDPRS,CTDTMP,CTDSAL,CTDSAL_FLAG_W,SALNTY,SALNTY_FLAG_W,CTDOXY,CTDOXY_FLAG_W,OXYGEN,OXYGEN_FLAG_W,SILCAT,SILCAT_FLAG_W,NINI,NINI_FLAG_W,PHSPHT,PHSPHT_FLAG_W,REVP
,,,,,,,,,,,,DB,IPTS-68,PSS-78,,PSS-78,,UMOL/KG,,UMOL/KG,,UMOL/KG,,UMOL/KG,,UMOL/KG,,DBAR
           NA,HOT timeseries 1988to2019 27SEP2021,    210,  99,-999.0,    8024,-999.0,20101003,1505,  22.7503, -157.9992,  4745,    7.600,   26.027,   35.294,2,   35.294,2,  209.100,2, -999.000,3,    1.070,2,    0.020,2,    0.090,2, -999.000
           NA,HOT timeseries 1988to2019 27SEP2021,    210,  99,-999.0,    8024,-999.0,20101003,1505,  22.7503, -157.9992,  4745,   75.000,   25.643,   35.245,2,   35.245,2,  208.400,2,  208.800,2,    0.960,2,    0.010,2,    0.060,2, -999.000
           NA,HOT timeseries 1988to2019 27SEP2021,    210,  99,-999.0,    8023,-999.0,20101003,1505,  22.7503, -157.9992,  4745,   80.600,   25.478,   35.236,2,   35.235,2,  209.600,2,  210.700,2,    0.990,2,    0.010,2,    0.060,2, -999.000
           NA,HOT timeseries 1988to2019 27SEP2021,    210,  99,-999.0,    8022,-999.0,20101003,1505,  22.7503, -157.9992,  4745,   95.000,   24.438,   35.215,2,   35.218,2,  216.800,2,  217.300,2,    1.040,2,    0.020,2,    0.060,2, -999.000
           NA,HOT timeseries 1988to2019 27SEP2021,    210,  99,-999.0,    8021,-999.0,20101003,1505,  22.7503, -157.9992,  4745,  134.100,   22.716,   35.293,2,   35.292,2,  207.300,2,  207.400,2,    1.180,2,    0.200,2,    0.090,2, -999.000
           NA,HOT timeseries 1988to2019 27SEP2021,    210,  99,-999.0,    8020,-999.0,20101003,1505,  22.7503, -157.9992,  4745,  184.300,   20.310,   35.254,2,   35.253,2,  201.600,2,  201.000,2,    1.880,2,    1.370,2,    0.140,2, -999.000
           NA,HOT timeseries 1988to2019 27SEP2021,    210,  99,-999.0,    8019,-999.0,20101003,1505,  22.7503, -157.9992,  4745,  205.600,   19.573,   35.198,2,   35.184,2,  204.800,2,  204.700,2,    2.170,2,    1.490,2,    0.140,2, -999.000
           NA,HOT timeseries 1988to2019 27SEP2021,    210,  99,-999.0,    8018,-999.0,20101003,1505,  22.7503, -157.9992,  4745,  263.600,   16.361,   34.661,2,   34.646,2,  193.500,2,  194.400,2,    4.680,2,    5.210,2,    0.410,2, -999.000
           NA,HOT timeseries 1988to2019 27SEP2021,    210,  99,-999.0,    8017,-999.0,20101003,1505,  22.7503, -157.9992,  4745,  303.100,   13.895,   34.349,2, -999.000,3, -999.000,3,  190.000,2,    7.440,2,    8.390,2,    0.640,2, -999.000
           NA,HOT timeseries 1988to2019 27SEP2021,    210,  99,-999.0,    8016,-999.0,20101003,1505,  22.7503, -157.9992,  4745,  342.300,   11.717,   34.159,2,   34.161,2,  175.300,2,  176.100,2,   13.790,2,   14.070,2,    1.060,2, -999.000
           NA,HOT timeseries 1988to2019 27SEP2021,    210,  99,-999.0,    8015,-999.0,20101003,1505,  22.7503, -157.9992,  4745,  382.000,   10.641,   34.123,2,   34.124,2,  168.000,2,  167.600,2,   18.970,2,   17.380,2,    1.300,2, -999.000
           NA,HOT timeseries 1988to2019 27SEP2021,    210,  99,-999.0,    8014,-999.0,20101003,1505,  22.7503, -157.9992,  4745,  434.300,    9.104,   34.114,2,   34.113,2,  142.200,2,  141.400,2,   28.890,2,   22.900,2,    1.680,2, -999.000
           NA,HOT timeseries 1988to2019 27SEP2021,    210,  99,-999.0,    8025,-999.0,20101003,1505,  22.7503, -157.9992,  4745,  495.700,    7.426,   34.113,2,   34.113,2,   93.100,2,   93.000,2,   47.100,2,   30.540,2,    2.260,2, -999.000
           NA,HOT timeseries 1988to2019 27SEP2021,    210,  99,-999.0,    8012,-999.0,20101003,1505,  22.7503, -157.9992,  4745,  510.200,    7.233,   34.114,2,   34.116,2,   87.500,2,   87.900,2,   49.770,2,   31.420,2,    2.310,2, -999.000
           NA,HOT timeseries 1988to2019 27SEP2021,    210,  99,-999.0,    8011,-999.0,20101003,1505,  22.7503, -157.9992,  4745,  528.000,    6.843,   34.110,2,   34.110,2,   81.300,2,   79.900,2,   54.360,2,   32.820,2,    2.410,2, -999.000
           NA,HOT timeseries 1988to2019 27SEP2021,    210,  99,-999.0,    8010,-999.0,20101003,1505,  22.7503, -157.9992,  4745,  582.900,    6.301,   34.134,2,   34.136,2,   65.100,2,   64.400,2,   63.070,2,   35.420,2,    2.590,2, -999.000
           NA,HOT timeseries 1988to2019 27SEP2021,    210,  99,-999.0,    8009,-999.0,20101003,1505,  22.7503, -157.9992,  4745,  635.200,    5.875,   34.189,2,   34.190,2,   51.200,2,   50.400,2,   71.670,2,   37.320,2,    2.740,2, -999.000
           NA,HOT timeseries 1988to2019 27SEP2021,    210,  99,-999.0,    8026,-999.0,20101003,1505,  22.7503, -157.9992,  4745,  763.200,    4.911,   34.329,2, -999.000,3, -999.000,3,   36.200,2,   91.370,2,   40.320,2,    2.930,2, -999.000
           NA,HOT timeseries 1988to2019 27SEP2021,    210,  99,-999.0,    8005,-999.0,20101003,1505,  22.7503, -157.9992,  4745,  849.900,    4.546,   34.394,2,   34.396,2,   36.900,2,   38.000,2,   99.040,2,   40.980,2,    2.980,2, -999.000
           NA,HOT timeseries 1988to2019 27SEP2021,    210,  99,-999.0,    8004,-999.0,20101003,1505,  22.7503, -157.9992,  4745,  887.900,    4.330,   34.411,2,   34.414,2,   38.000,2,   39.000,2,  103.640,2,   41.290,2,    2.990,2, -999.000
           NA,HOT timeseries 1988to2019 27SEP2021,    210,  99,-999.0,    8003,-999.0,20101003,1505,  22.7503, -157.9992,  4745,  924.600,    4.174,   34.431,2,   34.436,2,   38.200,2,   40.200,2,  106.580,2,   41.500,2,    3.010,2, -999.000
           NA,HOT timeseries 1988to2019 27SEP2021,    210,  99,-999.0,    8001,-999.0,20101003,1505,  22.7503, -157.9992,  4745, 1020.400,    3.908,   34.473,2,   34.475,2,   45.900,2,   46.400,2,  111.920,2,   41.140,2,    2.980,2, -999.000
           NA,HOT timeseries 1988to2019 27SEP2021,    210,  99,-999.0,    8020,-999.0,20101003,1505,  22.7503, -157.9992,  4745, 1199.400,    3.406,   34.531,2,   34.530,2,   56.900,2,   56.600,2,  121.190,2,   40.900,2,    2.960,2, -999.000
           NA,HOT timeseries 1988to2019 27SEP2021,    210,  99,-999.0,    8019,-999.0,20101003,1505,  22.7503, -157.9992,  4745, 1399.700,    2.937,   34.567,2,   34.566,2,   65.600,2,   65.500,2,  131.700,2,   40.580,2,    2.930,2, -999.000
           NA,HOT timeseries 1988to2019 27SEP2021,    210,  99,-999.0,    8018,-999.0,20101003,1505,  22.7503, -157.9992,  4745, 1600.000,    2.564,   34.587,2,   34.588,2,   75.200,2,   75.200,2,  140.430,2,   40.150,2,    2.890,2, -999.000
           NA,HOT timeseries 1988to2019 27SEP2021,    210,  99,-999.0,    8017,-999.0,20101003,1505,  22.7503, -157.9992,  4745, 1801.200,    2.308,   34.606,2,   34.605,2,   83.000,2,   82.400,2,  145.730,2,   39.670,2,    2.840,2, -999.000
           NA,HOT timeseries 1988to2019 27SEP2021,    210,  99,-999.0,    8016,-999.0,20101003,1505,  22.7503, -157.9992,  4745, 2000.400,    2.047,   34.623,2,   34.622,2,   90.200,2,   90.300,2,  152.670,2,   39.330,2,    2.810,2, -999.000
           NA,HOT timeseries 1988to2019 27SEP2021,    210,  99,-999.0,    8015,-999.0,20101003,1505,  22.7503, -157.9992,  4745, 2200.100,    1.899,   34.636,2,   34.635,2,   97.700,2,   97.200,2,  155.620,2,   38.950,2,    2.780,2, -999.000
           NA,HOT timeseries 1988to2019 27SEP2021,    210,  99,-999.0,    8014,-999.0,20101003,1505,  22.7503, -157.9992,  4745, 2401.100,    1.776,   34.645,2,   34.645,2,  103.700,2,  103.200,2,  158.520,2,   38.580,2,    2.750,2, -999.000
           NA,HOT timeseries 1988to2019 27SEP2021,    210,  99,-999.0,    8025,-999.0,20101003,1505,  22.7503, -157.9992,  4745, 2600.500,    1.682,   34.653,2,   34.652,2,  110.000,2,  109.400,2,  160.550,2,   38.180,2,    2.730,2, -999.000
           NA,HOT timeseries 1988to2019 27SEP2021,    210,  99,-999.0,    8012,-999.0,20101003,1505,  22.7503, -157.9992,  4745, 2800.000,    1.601,   34.662,2,   34.662,2,  117.700,2,  116.900,2,  159.950,2,   37.650,2,    2.660,2, -999.000
           NA,HOT timeseries 1988to2019 27SEP2021,    210,  99,-999.0,    8011,-999.0,20101003,1505,  22.7503, -157.9992,  4745, 2998.600,    1.542,   34.670,2,   34.669,2,  124.300,2,  123.800,2,  160.310,2,   37.270,2,    2.640,2, -999.000
           NA,HOT timeseries 1988to2019 27SEP2021,    210,  99,-999.0,    8010,-999.0,20101003,1505,  22.7503, -157.9992,  4745, 3200.000,    1.510,   34.675,2,   34.674,2,  130.300,2,  129.800,2,  159.410,2,   37.020,2,    2.600,2, -999.000
           NA,HOT timeseries 1988to2019 27SEP2021,    210,  99,-999.0,    8009,-999.0,20101003,1505,  22.7503, -157.9992,  4745, 3400.000,    1.479,   34.679,2,   34.679,2,  136.300,2,  135.700,2,  157.590,2,   36.470,2,    2.560,2, -999.000
           NA,HOT timeseries 1988to2019 27SEP2021,    210,  99,-999.0,    8008,-999.0,20101003,1505,  22.7503, -157.9992,  4745, 3599.600,    1.463,   34.682,2,   34.682,2,  140.900,2,  140.700,2,  155.920,2,   36.300,2,    2.540,2, -999.000
           NA,HOT timeseries 1988to2019 27SEP2021,    210,  99,-999.0,    8026,-999.0,20101003,1505,  22.7503, -157.9992,  4745, 3799.500,    1.454,   34.685,2,   34.685,2,  145.500,2,  144.500,2,  153.380,2,   35.860,2,    2.520,2, -999.000
           NA,HOT timeseries 1988to2019 27SEP2021,    210,  99,-999.0,    8006,-999.0,20101003,1505,  22.7503, -157.9992,  4745, 4000.500,    1.453,   34.687,2,   34.687,2,  148.400,2,  148.200,2,  151.440,2,   35.680,2,    2.490,2, -999.000
           NA,HOT timeseries 1988to2019 27SEP2021,    210,  99,-999.0,    8005,-999.0,20101003,1505,  22.7503, -157.9992,  4745, 4200.100,    1.454,   34.689,2,   34.689,2,  151.600,2,  150.900,2,  149.590,2,   35.520,2,    2.470,2, -999.000
           NA,HOT timeseries 1988to2019 27SEP2021,    210,  99,-999.0,    8004,-999.0,20101003,1505,  22.7503, -157.9992,  4745, 4400.700,    1.462,   34.690,2,   34.690,2,  153.800,2,  153.500,2,  147.890,2,   35.270,2,    2.450,2, -999.000
           NA,HOT timeseries 1988to2019 27SEP2021,    210,  99,-999.0,    8003,-999.0,20101003,1505,  22.7503, -157.9992,  4745, 4498.300,    1.470,   34.690,2,   34.690,2,  154.400,2,  154.400,2,  147.460,2,   35.280,2,    2.450,2, -999.000
           NA,HOT timeseries 1988to2019 27SEP2021,    210,  99,-999.0,    8002,-999.0,20101003,1505,  22.7503, -157.9992,  4745, 4597.900,    1.476,   34.690,2,   34.689,2,  155.000,2,  155.400,2,  147.240,2,   35.190,2,    2.430,2, -999.000
           NA,HOT timeseries 1988to2019 27SEP2021,    210,  99,-999.0,    8001,-999.0,20101003,1505,  22.7503, -157.9992,  4745, 4809.300,    1.495,   34.691,2,   34.692,2,  155.300,2,  156.200,2,  145.050,2,   35.080,2,    2.420,2, -999.000