BOTTLE,20214727JOAExport
EXPOCODE,SECT_ID,STNNBR,CASTNO,SAMPNO,BTLNBR,BTLNBR_FLAG_W,DATE,TIME,LATITUDE,LONGITUDE,DEPTH,CTDPRS,CTDTMP,CTDSAL,CTDSAL_FLAG_W,SALNTY,SALNTY_FLAG_W,CTDOXY,CTDOXY_FLAG_W,OXYGEN,OXYGEN_FLAG_W,SILCAT,SILCAT_FLAG_W,NINI,NINI_FLAG_W,PHSPHT,PHSPHT_FLAG_W,REVP
,,,,,,,,,,,,DB,IPTS-68,PSS-78,,PSS-78,,UMOL/KG,,UMOL/KG,,UMOL/KG,,UMOL/KG,,UMOL/KG,,DBAR
           NA,HOT timeseries 1988to2019 27SEP2021,    177,  99,-999.0,    8030,-999.0,20060526,1518,  22.7500, -158.0002,  4744,    4.800,   23.528,   35.225,2,   35.224,2,  213.600,2,  213.100,2,    0.730,2,    0.040,2,    0.010,2, -999.000
           NA,HOT timeseries 1988to2019 27SEP2021,    177,  99,-999.0,    8030,-999.0,20060526,1518,  22.7500, -158.0002,  4744,   11.600,   23.539,   35.218,2,   35.215,2,  213.100,2,  213.400,2,    0.710,2,    0.030,2,    0.010,2, -999.000
           NA,HOT timeseries 1988to2019 27SEP2021,    177,  99,-999.0,    8039,-999.0,20060526,1518,  22.7500, -158.0002,  4744,   48.500,   23.085,   35.199,2,   35.201,2,  214.000,2,  214.300,2,    0.720,2,    0.020,2,    0.020,2, -999.000
           NA,HOT timeseries 1988to2019 27SEP2021,    177,  99,-999.0,    8058,-999.0,20060526,1518,  22.7500, -158.0002,  4744,   85.700,   21.508,   35.192,2, -999.000,4, -999.000,3,  204.000,2,    0.970,2,    0.030,2,    0.080,2, -999.000
           NA,HOT timeseries 1988to2019 27SEP2021,    177,  99,-999.0,    8052,-999.0,20060526,1518,  22.7500, -158.0002,  4744,  150.400,   18.723,   34.935,2,   34.917,2,  200.100,2,  201.000,2,    2.410,2,    2.230,2,    0.200,2, -999.000
           NA,HOT timeseries 1988to2019 27SEP2021,    177,  99,-999.0,    8049,-999.0,20060526,1518,  22.7500, -158.0002,  4744,  185.800,   15.671,   34.579,2,   34.583,2,  201.400,2,  202.400,2,    4.540,2,    4.990,2,    0.400,2, -999.000
           NA,HOT timeseries 1988to2019 27SEP2021,    177,  99,-999.0,    8043,-999.0,20060526,1518,  22.7500, -158.0002,  4744,  237.400,   13.472,   34.373,2,   34.367,2,  208.800,2,  207.000,2,    7.450,2,    8.410,2,    0.610,2, -999.000
           NA,HOT timeseries 1988to2019 27SEP2021,    177,  99,-999.0,    8045,-999.0,20060526,1518,  22.7500, -158.0002,  4744,  287.900,   11.943,   34.240,2,   34.242,2,  207.500,2,  206.100,2,   10.910,2,   11.400,2,    0.820,2, -999.000
           NA,HOT timeseries 1988to2019 27SEP2021,    177,  99,-999.0,    8007,-999.0,20060526,1518,  22.7500, -158.0002,  4744,  330.000,   10.584,   34.180,2,   34.177,2,  199.200,2,  197.700,2,   16.610,2,   15.000,2,    1.070,2, -999.000
           NA,HOT timeseries 1988to2019 27SEP2021,    177,  99,-999.0,    8034,-999.0,20060526,1518,  22.7500, -158.0002,  4744,  366.200,    9.705,   34.132,2,   34.133,2,  180.100,2,  180.700,2,   21.080,2,   18.090,2,    1.300,2, -999.000
           NA,HOT timeseries 1988to2019 27SEP2021,    177,  99,-999.0,    8033,-999.0,20060526,1518,  22.7500, -158.0002,  4744,  401.600,    9.042,   34.109,2,   34.107,2,  161.600,2,  160.000,2,   26.680,2,   21.380,2,    1.550,2, -999.000
           NA,HOT timeseries 1988to2019 27SEP2021,    177,  99,-999.0,    8029,-999.0,20060526,1518,  22.7500, -158.0002,  4744,  441.100,    8.102,   34.084,2,   34.087,2,  137.800,2,  138.600,2,   34.530,2,   24.980,2,    1.800,2, -999.000
           NA,HOT timeseries 1988to2019 27SEP2021,    177,  99,-999.0,    8055,-999.0,20060526,1518,  22.7500, -158.0002,  4744,  480.200,    7.206,   34.049,2,   34.050,2,  129.500,2,  130.600,2,   43.920,2,   27.620,2,    1.970,2, -999.000
           NA,HOT timeseries 1988to2019 27SEP2021,    177,  99,-999.0,    8036,-999.0,20060526,1518,  22.7500, -158.0002,  4744,  530.400,    6.992,   34.106,2, -999.000,3, -999.000,3,   83.200,2,   51.680,2,   31.970,2,    2.350,2, -999.000
           NA,HOT timeseries 1988to2019 27SEP2021,    177,  99,-999.0,    8050,-999.0,20060526,1518,  22.7500, -158.0002,  4744,  590.400,    6.359,   34.161,2,   34.156,2,   57.900,2,   58.600,2,   63.030,2,   35.260,2,    2.610,2, -999.000
           NA,HOT timeseries 1988to2019 27SEP2021,    177,  99,-999.0,    8052,-999.0,20060526,1518,  22.7500, -158.0002,  4744,  632.200,    5.746,   34.212,2,   34.212,2,   42.100,2,   41.200,2,   73.860,2,   38.160,2,    2.810,2, -999.000
           NA,HOT timeseries 1988to2019 27SEP2021,    177,  99,-999.0,    8035,-999.0,20060526,1518,  22.7500, -158.0002,  4744,  739.700,    4.579,   34.283,2,   34.289,2,   25.700,2,   26.200,2,   96.890,2,   41.270,2,    3.030,2, -999.000
           NA,HOT timeseries 1988to2019 27SEP2021,    177,  99,-999.0,    8048,-999.0,20060526,1518,  22.7500, -158.0002,  4744,  826.600,    4.280,   34.372,2,   34.371,2,   26.600,2,   26.100,2,  105.190,2,   41.880,2,    3.060,2, -999.000
           NA,HOT timeseries 1988to2019 27SEP2021,    177,  99,-999.0,    8037,-999.0,20060526,1518,  22.7500, -158.0002,  4744,  862.400,    4.111,   34.397,2,   34.397,2,   28.100,2,   28.900,2,  108.770,2,   41.920,2,    3.060,2, -999.000
           NA,HOT timeseries 1988to2019 27SEP2021,    177,  99,-999.0,    8054,-999.0,20060526,1518,  22.7500, -158.0002,  4744,  936.400,    3.976,   34.442,2,   34.442,2,   34.800,2,   34.400,2,  111.740,2,   41.930,2,    3.050,2, -999.000
           NA,HOT timeseries 1988to2019 27SEP2021,    177,  99,-999.0,    8053,-999.0,20060526,1518,  22.7500, -158.0002,  4744,  972.600,    3.890,   34.458,2,   34.457,2,   37.600,2,   36.900,2,  112.850,2,   41.700,2,    3.030,2, -999.000
           NA,HOT timeseries 1988to2019 27SEP2021,    177,  99,-999.0,    8027,-999.0,20060526,1518,  22.7500, -158.0002,  4744, 1020.800,    3.758,   34.475,2,   34.475,2,   40.600,2,   40.900,2,  115.940,2,   41.770,2,    3.040,2, -999.000
           NA,HOT timeseries 1988to2019 27SEP2021,    177,  99,-999.0,    8049,-999.0,20060526,1518,  22.7500, -158.0002,  4744, 1200.100,    3.336,   34.527,2,   34.526,2,   54.800,2,   54.700,2, -999.000,3,   41.180,2,    2.970,2, -999.000
           NA,HOT timeseries 1988to2019 27SEP2021,    177,  99,-999.0,    8043,-999.0,20060526,1518,  22.7500, -158.0002,  4744, 1400.800,    2.996,   34.565,2,   34.564,2,   63.700,2,   62.700,2, -999.000,3,   40.950,2,    2.950,2, -999.000
           NA,HOT timeseries 1988to2019 27SEP2021,    177,  99,-999.0,    8045,-999.0,20060526,1518,  22.7500, -158.0002,  4744, 1600.700,    2.638,   34.587,2,   34.586,2,   71.700,2,   72.900,2,  137.910,2,   40.530,2,    2.910,2, -999.000
           NA,HOT timeseries 1988to2019 27SEP2021,    177,  99,-999.0,    8007,-999.0,20060526,1518,  22.7500, -158.0002,  4744, 1800.700,    2.327,   34.609,2, -999.000,4, -999.000,3,   80.000,2, -999.000,3,   39.970,2,    2.850,2, -999.000
           NA,HOT timeseries 1988to2019 27SEP2021,    177,  99,-999.0,    8034,-999.0,20060526,1518,  22.7500, -158.0002,  4744, 2000.600,    2.090,   34.625,2,   34.625,2,   90.200,2,   90.100,2, -999.000,3,   39.490,2,    2.810,2, -999.000
           NA,HOT timeseries 1988to2019 27SEP2021,    177,  99,-999.0,    8033,-999.0,20060526,1518,  22.7500, -158.0002,  4744, 2199.600,    1.926,   34.637,2,   34.637,2,   96.900,2,   95.900,2, -999.000,3,   39.100,2,    2.770,2, -999.000
           NA,HOT timeseries 1988to2019 27SEP2021,    177,  99,-999.0,    8029,-999.0,20060526,1518,  22.7500, -158.0002,  4744, 2399.800,    1.793,   34.648,2,   34.647,2,  105.100,2,  105.800,2, -999.000,3,   38.660,2,    2.740,2, -999.000
           NA,HOT timeseries 1988to2019 27SEP2021,    177,  99,-999.0,    8055,-999.0,20060526,1518,  22.7500, -158.0002,  4744, 2597.800,    1.694,   34.658,2,   34.658,2,  113.600,2,  113.200,2, -999.000,3,   38.210,2,    2.690,2, -999.000
           NA,HOT timeseries 1988to2019 27SEP2021,    177,  99,-999.0,    8036,-999.0,20060526,1518,  22.7500, -158.0002,  4744, 2799.200,    1.625,   34.665,2,   34.664,2,  118.700,2,  118.100,2, -999.000,3,   37.730,2,    2.660,2, -999.000
           NA,HOT timeseries 1988to2019 27SEP2021,    177,  99,-999.0,    8050,-999.0,20060526,1518,  22.7500, -158.0002,  4744, 2998.400,    1.576,   34.670,2,   34.669,2,  123.800,2,  123.400,2, -999.000,3,   37.110,2,    2.630,2, -999.000
           NA,HOT timeseries 1988to2019 27SEP2021,    177,  99,-999.0,    8052,-999.0,20060526,1518,  22.7500, -158.0002,  4744, 3199.000,    1.523,   34.675,2,   34.675,2,  128.400,2,  127.800,2, -999.000,3,   36.870,2,    2.610,2, -999.000
           NA,HOT timeseries 1988to2019 27SEP2021,    177,  99,-999.0,    8047,-999.0,20060526,1518,  22.7500, -158.0002,  4744, 3397.700,    1.488,   34.680,2,   34.679,2,  134.500,2,  134.100,2,  155.460,2,   36.690,2,    2.590,2, -999.000
           NA,HOT timeseries 1988to2019 27SEP2021,    177,  99,-999.0,    8035,-999.0,20060526,1518,  22.7500, -158.0002,  4744, 3598.600,    1.474,   34.683,2,   34.682,2,  138.900,2,  138.300,2,  153.680,2,   36.200,2,    2.560,2, -999.000
           NA,HOT timeseries 1988to2019 27SEP2021,    177,  99,-999.0,    8046,-999.0,20060526,1518,  22.7500, -158.0002,  4744, 3797.900,    1.465,   34.686,2,   34.685,2,  142.700,2,  142.600,2, -999.000,3,   35.970,2,    2.540,2, -999.000
           NA,HOT timeseries 1988to2019 27SEP2021,    177,  99,-999.0,    8048,-999.0,20060526,1518,  22.7500, -158.0002,  4744, 3997.900,    1.466,   34.688,2,   34.688,2,  145.600,2,  145.400,2, -999.000,3,   35.770,2,    2.530,2, -999.000
           NA,HOT timeseries 1988to2019 27SEP2021,    177,  99,-999.0,    8037,-999.0,20060526,1518,  22.7500, -158.0002,  4744, 4199.700,    1.472,   34.689,2,   34.688,2,  147.500,2,  147.100,2, -999.000,3,   35.920,2,    2.520,2, -999.000
           NA,HOT timeseries 1988to2019 27SEP2021,    177,  99,-999.0,    8038,-999.0,20060526,1518,  22.7500, -158.0002,  4744, 4398.100,    1.484,   34.690,2,   34.690,2,  148.900,2,  148.700,2,  149.350,2,   35.520,2,    2.510,2, -999.000
           NA,HOT timeseries 1988to2019 27SEP2021,    177,  99,-999.0,    8054,-999.0,20060526,1518,  22.7500, -158.0002,  4744, 4498.900,    1.491,   34.691,2,   34.690,2,  149.500,2,  149.900,2,  147.920,2,   35.550,2,    2.520,2, -999.000
           NA,HOT timeseries 1988to2019 27SEP2021,    177,  99,-999.0,    8053,-999.0,20060526,1518,  22.7500, -158.0002,  4744, 4598.100,    1.500,   34.691,2,   34.693,2,  149.900,2,  150.400,2,  148.030,2,   35.460,2,    2.510,2, -999.000
           NA,HOT timeseries 1988to2019 27SEP2021,    177,  99,-999.0,    8027,-999.0,20060526,1518,  22.7500, -158.0002,  4744, 4795.900,    1.520,   34.691,2,   34.691,2,  150.200,2,  150.600,2,  146.650,2,   35.390,2, -999.000,3, -999.000