BOTTLE,20214727JOAExport
EXPOCODE,SECT_ID,STNNBR,CASTNO,SAMPNO,BTLNBR,BTLNBR_FLAG_W,DATE,TIME,LATITUDE,LONGITUDE,DEPTH,CTDPRS,CTDTMP,CTDSAL,CTDSAL_FLAG_W,SALNTY,SALNTY_FLAG_W,CTDOXY,CTDOXY_FLAG_W,OXYGEN,OXYGEN_FLAG_W,SILCAT,SILCAT_FLAG_W,NINI,NINI_FLAG_W,PHSPHT,PHSPHT_FLAG_W,REVP
,,,,,,,,,,,,DB,IPTS-68,PSS-78,,PSS-78,,UMOL/KG,,UMOL/KG,,UMOL/KG,,UMOL/KG,,UMOL/KG,,DBAR
           NA,HOT timeseries 1988to2019 27SEP2021,    123,  99,-999.0,      31,-999.0,20010613,1909,  22.7508, -158.0045,  4722,    3.600,   24.880,   35.238,2,   35.239,2,  207.200,2,  209.800,2, -999.000,9, -999.000,9, -999.000,9, -999.000
           NA,HOT timeseries 1988to2019 27SEP2021,    123,  99,-999.0,      30,-999.0,20010613,1909,  22.7508, -158.0045,  4722,   49.000,   24.344,   35.398,2,   35.398,2,  215.900,2,  215.400,2, -999.000,9, -999.000,9, -999.000,9, -999.000
           NA,HOT timeseries 1988to2019 27SEP2021,    123,  99,-999.0,      22,-999.0,20010613,1909,  22.7508, -158.0045,  4722,  103.500,   22.301,   35.388,2,   35.392,2,  217.500,2,  218.900,2, -999.000,9, -999.000,9, -999.000,9, -999.000
           NA,HOT timeseries 1988to2019 27SEP2021,    123,  99,-999.0,      21,-999.0,20010613,1909,  22.7508, -158.0045,  4722,  138.500,   21.285,   35.329,2,   35.336,2,  204.100,2,  207.900,2, -999.000,9, -999.000,9, -999.000,9, -999.000
           NA,HOT timeseries 1988to2019 27SEP2021,    123,  99,-999.0,      20,-999.0,20010613,1909,  22.7508, -158.0045,  4722,  178.800,   19.757,   35.147,2,   35.149,2,  197.700,2,  199.100,2, -999.000,9, -999.000,9, -999.000,9, -999.000
           NA,HOT timeseries 1988to2019 27SEP2021,    123,  99,-999.0,      19,-999.0,20010613,1909,  22.7508, -158.0045,  4722,  219.400,   17.522,   34.857,2,   34.870,2,  199.900,2,  199.000,2, -999.000,9, -999.000,9, -999.000,9, -999.000
           NA,HOT timeseries 1988to2019 27SEP2021,    123,  99,-999.0,      18,-999.0,20010613,1909,  22.7508, -158.0045,  4722,  253.100,   16.461,   34.706,2,   34.707,2,  201.400,2,  198.900,2, -999.000,9, -999.000,9, -999.000,9, -999.000
           NA,HOT timeseries 1988to2019 27SEP2021,    123,  99,-999.0,      17,-999.0,20010613,1909,  22.7508, -158.0045,  4722,  308.200,   12.596,   34.258,2,   34.265,2,  203.100,2,  201.400,2, -999.000,9, -999.000,9, -999.000,9, -999.000
           NA,HOT timeseries 1988to2019 27SEP2021,    123,  99,-999.0,      16,-999.0,20010613,1909,  22.7508, -158.0045,  4722,  364.500,   10.472,   34.147,2,   34.149,2,  199.800,2,  197.600,2, -999.000,9, -999.000,9, -999.000,9, -999.000
           NA,HOT timeseries 1988to2019 27SEP2021,    123,  99,-999.0,      23,-999.0,20010613,1909,  22.7508, -158.0045,  4722,  419.100,    8.888,   34.080,2,   34.083,2,  178.500,2,  177.300,2, -999.000,9, -999.000,9, -999.000,9, -999.000
           NA,HOT timeseries 1988to2019 27SEP2021,    123,  99,-999.0,      14,-999.0,20010613,1909,  22.7508, -158.0045,  4722,  459.200,    7.779,   34.038,2,   34.040,2,  147.900,2,  148.100,2, -999.000,9, -999.000,9, -999.000,9, -999.000
           NA,HOT timeseries 1988to2019 27SEP2021,    123,  99,-999.0,      30,-999.0,20010613,1909,  22.7508, -158.0045,  4722,  498.800,    6.874,   34.036,2,   34.037,2,  111.500,2,  113.900,2, -999.000,9, -999.000,9, -999.000,9, -999.000
           NA,HOT timeseries 1988to2019 27SEP2021,    123,  99,-999.0,      12,-999.0,20010613,1909,  22.7508, -158.0045,  4722,  531.900,    6.570,   34.038,2,   34.038,2,  101.300,2,  102.100,2, -999.000,9, -999.000,9, -999.000,9, -999.000
           NA,HOT timeseries 1988to2019 27SEP2021,    123,  99,-999.0,      11,-999.0,20010613,1909,  22.7508, -158.0045,  4722,  583.200,    5.900,   34.067,2,   34.068,2,   72.500,2,   71.600,2, -999.000,9, -999.000,9, -999.000,9, -999.000
           NA,HOT timeseries 1988to2019 27SEP2021,    123,  99,-999.0,      32,-999.0,20010613,1909,  22.7508, -158.0045,  4722,  630.400,    5.392,   34.125,2,   34.123,2,   48.300,2,   48.800,2, -999.000,9, -999.000,9, -999.000,9, -999.000
           NA,HOT timeseries 1988to2019 27SEP2021,    123,  99,-999.0,       3,-999.0,20010613,1909,  22.7508, -158.0045,  4722,  676.100,    5.052,   34.214,2,   34.214,2,   33.700,2,   32.700,2, -999.000,9, -999.000,9, -999.000,9, -999.000
           NA,HOT timeseries 1988to2019 27SEP2021,    123,  99,-999.0,      29,-999.0,20010613,1909,  22.7508, -158.0045,  4722,  709.100,    4.852,   34.261,2,   34.261,2,   29.100,2,   27.000,2, -999.000,9, -999.000,9, -999.000,9, -999.000
           NA,HOT timeseries 1988to2019 27SEP2021,    123,  99,-999.0,      28,-999.0,20010613,1909,  22.7508, -158.0045,  4722,  746.900,    4.607,   34.288,2,   34.288,2,   25.000,2,   23.800,2, -999.000,9, -999.000,9, -999.000,9, -999.000
           NA,HOT timeseries 1988to2019 27SEP2021,    123,  99,-999.0,       7,-999.0,20010613,1909,  22.7508, -158.0045,  4722,  788.600,    4.396,   34.324,2,   34.329,2,   24.600,2,   21.400,2, -999.000,9, -999.000,9, -999.000,9, -999.000
           NA,HOT timeseries 1988to2019 27SEP2021,    123,  99,-999.0,      22,-999.0,20010613,1909,  22.7508, -158.0045,  4722,  828.100,    4.344,   34.350,2,   34.347,2,   23.100,2,   22.600,2, -999.000,9, -999.000,9, -999.000,9, -999.000
           NA,HOT timeseries 1988to2019 27SEP2021,    123,  99,-999.0,      36,-999.0,20010613,1909,  22.7508, -158.0045,  4722,  868.700,    4.123,   34.408,2,   34.410,2,   27.600,2,   28.200,2, -999.000,9, -999.000,9, -999.000,9, -999.000
           NA,HOT timeseries 1988to2019 27SEP2021,    123,  99,-999.0,      35,-999.0,20010613,1909,  22.7508, -158.0045,  4722,  908.900,    4.068,   34.435,2,   34.434,2,   31.800,2,   31.300,2, -999.000,9, -999.000,9, -999.000,9, -999.000
           NA,HOT timeseries 1988to2019 27SEP2021,    123,  99,-999.0,      34,-999.0,20010613,1909,  22.7508, -158.0045,  4722,  962.100,    3.941,   34.465,2,   34.464,2,   37.200,2,   36.300,2, -999.000,9, -999.000,9, -999.000,9, -999.000
           NA,HOT timeseries 1988to2019 27SEP2021,    123,  99,-999.0,      33,-999.0,20010613,1909,  22.7508, -158.0045,  4722, 1019.800,    3.841,   34.491,2,   34.492,2,   40.400,2,   41.100,2, -999.000,9, -999.000,9, -999.000,9, -999.000
           NA,HOT timeseries 1988to2019 27SEP2021,    123,  99,-999.0,      20,-999.0,20010613,1909,  22.7508, -158.0045,  4722, 1200.100,    3.358,   34.530,2,   34.530,2,   50.900,2,   50.900,2, -999.000,9, -999.000,9, -999.000,9, -999.000
           NA,HOT timeseries 1988to2019 27SEP2021,    123,  99,-999.0,      19,-999.0,20010613,1909,  22.7508, -158.0045,  4722, 1398.300,    2.916,   34.563,2,   34.563,2,   60.600,2,   60.700,2, -999.000,9, -999.000,9, -999.000,9, -999.000
           NA,HOT timeseries 1988to2019 27SEP2021,    123,  99,-999.0,      18,-999.0,20010613,1909,  22.7508, -158.0045,  4722, 1599.600,    2.523,   34.590,2,   34.590,2,   71.500,2,   71.700,2, -999.000,9, -999.000,9, -999.000,9, -999.000
           NA,HOT timeseries 1988to2019 27SEP2021,    123,  99,-999.0,      17,-999.0,20010613,1909,  22.7508, -158.0045,  4722, 1798.700,    2.315,   34.607,2,   34.606,2,   78.900,2,   79.400,2, -999.000,9, -999.000,9, -999.000,9, -999.000
           NA,HOT timeseries 1988to2019 27SEP2021,    123,  99,-999.0,      16,-999.0,20010613,1909,  22.7508, -158.0045,  4722, 1999.200,    2.045,   34.624,2,   34.624,2,   87.100,2,   87.900,2, -999.000,9, -999.000,9, -999.000,9, -999.000
           NA,HOT timeseries 1988to2019 27SEP2021,    123,  99,-999.0,      23,-999.0,20010613,1909,  22.7508, -158.0045,  4722, 2200.200,    1.872,   34.640,2,   34.640,2,   97.500,2,   98.800,2, -999.000,9, -999.000,9, -999.000,9, -999.000
           NA,HOT timeseries 1988to2019 27SEP2021,    123,  99,-999.0,      14,-999.0,20010613,1909,  22.7508, -158.0045,  4722, 2400.600,    1.749,   34.650,2,   34.650,2,  104.300,2,  105.500,2, -999.000,9, -999.000,9, -999.000,9, -999.000
           NA,HOT timeseries 1988to2019 27SEP2021,    123,  99,-999.0,      13,-999.0,20010613,1909,  22.7508, -158.0045,  4722, 2600.400,    1.668,   34.658,2,   34.659,2,  111.800,2,  112.300,2, -999.000,9, -999.000,9, -999.000,9, -999.000
           NA,HOT timeseries 1988to2019 27SEP2021,    123,  99,-999.0,      12,-999.0,20010613,1909,  22.7508, -158.0045,  4722, 2800.700,    1.583,   34.666,2,   34.666,2,  118.000,2,  118.900,2, -999.000,9, -999.000,9, -999.000,9, -999.000
           NA,HOT timeseries 1988to2019 27SEP2021,    123,  99,-999.0,      11,-999.0,20010613,1909,  22.7508, -158.0045,  4722, 2999.900,    1.533,   34.672,2,   34.671,2,  125.600,2,  125.900,2, -999.000,9, -999.000,9, -999.000,9, -999.000
           NA,HOT timeseries 1988to2019 27SEP2021,    123,  99,-999.0,      32,-999.0,20010613,1909,  22.7508, -158.0045,  4722, 3199.400,    1.503,   34.677,2,   34.676,2,  131.300,2,  131.200,2, -999.000,9, -999.000,9, -999.000,9, -999.000
           NA,HOT timeseries 1988to2019 27SEP2021,    123,  99,-999.0,       3,-999.0,20010613,1909,  22.7508, -158.0045,  4722, 3400.100,    1.478,   34.681,2,   34.680,2,  136.300,2,  136.900,2, -999.000,9, -999.000,9, -999.000,9, -999.000
           NA,HOT timeseries 1988to2019 27SEP2021,    123,  99,-999.0,      29,-999.0,20010613,1909,  22.7508, -158.0045,  4722, 3598.300,    1.456,   34.684,2,   34.684,2,  141.900,2,  141.800,2, -999.000,9, -999.000,9, -999.000,9, -999.000
           NA,HOT timeseries 1988to2019 27SEP2021,    123,  99,-999.0,      28,-999.0,20010613,1909,  22.7508, -158.0045,  4722, 3798.400,    1.447,   34.687,2,   34.687,2,  146.500,2,  146.100,2, -999.000,9, -999.000,9, -999.000,9, -999.000
           NA,HOT timeseries 1988to2019 27SEP2021,    123,  99,-999.0,       7,-999.0,20010613,1909,  22.7508, -158.0045,  4722, 3999.300,    1.452,   34.688,2,   34.689,2,  149.100,2,  148.400,2, -999.000,9, -999.000,9, -999.000,9, -999.000
           NA,HOT timeseries 1988to2019 27SEP2021,    123,  99,-999.0,      36,-999.0,20010613,1909,  22.7508, -158.0045,  4722, 4399.700,    1.476,   34.690,2,   34.691,2,  152.200,2,  152.000,2, -999.000,9, -999.000,9, -999.000,9, -999.000
           NA,HOT timeseries 1988to2019 27SEP2021,    123,  99,-999.0,      35,-999.0,20010613,1909,  22.7508, -158.0045,  4722, 4499.300,    1.485,   34.690,2, -999.000,4, -999.000,3,  152.100,2, -999.000,9, -999.000,9, -999.000,9, -999.000
           NA,HOT timeseries 1988to2019 27SEP2021,    123,  99,-999.0,      34,-999.0,20010613,1909,  22.7508, -158.0045,  4722, 4599.300,    1.492,   34.690,2,   34.691,2,  152.800,2,  152.600,2, -999.000,9, -999.000,9, -999.000,9, -999.000
           NA,HOT timeseries 1988to2019 27SEP2021,    123,  99,-999.0,      33,-999.0,20010613,1909,  22.7508, -158.0045,  4722, 4802.700,    1.503,   34.691,2,   34.692,2,  154.000,2,  152.600,2, -999.000,9, -999.000,9, -999.000,9, -999.000