BOTTLE,20214727JOAExport
EXPOCODE,SECT_ID,STNNBR,CASTNO,SAMPNO,BTLNBR,BTLNBR_FLAG_W,DATE,TIME,LATITUDE,LONGITUDE,DEPTH,CTDPRS,CTDTMP,CTDSAL,CTDSAL_FLAG_W,SALNTY,SALNTY_FLAG_W,CTDOXY,CTDOXY_FLAG_W,OXYGEN,OXYGEN_FLAG_W,SILCAT,SILCAT_FLAG_W,NINI,NINI_FLAG_W,PHSPHT,PHSPHT_FLAG_W,REVP
,,,,,,,,,,,,DB,IPTS-68,PSS-78,,PSS-78,,UMOL/KG,,UMOL/KG,,UMOL/KG,,UMOL/KG,,UMOL/KG,,DBAR
           NA,HOT timeseries 1988to2019 27SEP2021,    190,  99,-999.0,    8024,-999.0,20070803,1458,  22.7500, -158.0008,  4745,    6.700,   26.351,   35.024,2,   35.024,2,  203.800,2,  202.500,2,    0.880,2,    0.080,2,    0.050,2, -999.000
           NA,HOT timeseries 1988to2019 27SEP2021,    190,  99,-999.0,    8024,-999.0,20070803,1458,  22.7500, -158.0008,  4745,    9.200,   26.447,   35.026,2,   35.026,2,  205.600,2,  202.800,2,    1.090,2,    0.000,2,    0.050,2, -999.000
           NA,HOT timeseries 1988to2019 27SEP2021,    190,  99,-999.0,    8023,-999.0,20070803,1458,  22.7500, -158.0008,  4745,   50.500,   25.932,   35.012,2,   35.020,2,  208.500,2,  208.600,2, -999.000,3,    0.010,2,    0.060,2, -999.000
           NA,HOT timeseries 1988to2019 27SEP2021,    190,  99,-999.0,    8022,-999.0,20070803,1458,  22.7500, -158.0008,  4745,   95.200,   24.815,   34.953,2,   34.963,2,  216.000,2,  214.000,2, -999.000,4,    0.050,2,    0.060,2, -999.000
           NA,HOT timeseries 1988to2019 27SEP2021,    190,  99,-999.0,    8021,-999.0,20070803,1458,  22.7500, -158.0008,  4745,  110.500,   23.786,   34.912,2,   34.917,2,  218.000,2,  217.800,2,    1.710,2,    0.010,2,    0.090,2, -999.000
           NA,HOT timeseries 1988to2019 27SEP2021,    190,  99,-999.0,    8020,-999.0,20070803,1458,  22.7500, -158.0008,  4745,  131.000,   21.691,   34.984,2,   34.977,2,  202.800,2,  201.900,2,    2.160,2,    0.280,2,    0.170,2, -999.000
           NA,HOT timeseries 1988to2019 27SEP2021,    190,  99,-999.0,    8019,-999.0,20070803,1458,  22.7500, -158.0008,  4745,  179.300,   18.552,   34.737,2,   34.729,2,  172.100,2,  173.700,2,    4.030,2,    5.320,2,    0.500,2, -999.000
           NA,HOT timeseries 1988to2019 27SEP2021,    190,  99,-999.0,    8018,-999.0,20070803,1458,  22.7500, -158.0008,  4745,  216.000,   15.039,   34.379,2,   34.378,2,  174.000,2,  176.200,2,    6.690,2,    8.440,2,    0.690,2, -999.000
           NA,HOT timeseries 1988to2019 27SEP2021,    190,  99,-999.0,    8017,-999.0,20070803,1458,  22.7500, -158.0008,  4745,  250.000,   13.124,   34.229,2,   34.223,2,  188.700,2, -999.000,3,    9.860,2,   10.220,2,    0.770,2, -999.000
           NA,HOT timeseries 1988to2019 27SEP2021,    190,  99,-999.0,    8016,-999.0,20070803,1458,  22.7500, -158.0008,  4745,  285.200,   11.561,   34.158,2,   34.160,2,  177.900,2,  177.600,2, -999.000,4,   14.400,2,    1.090,2, -999.000
           NA,HOT timeseries 1988to2019 27SEP2021,    190,  99,-999.0,    8015,-999.0,20070803,1458,  22.7500, -158.0008,  4745,  336.200,   10.255,   34.131,2,   34.131,2,  180.000,2,  180.500,2, -999.000,4,   17.190,2,    1.250,2, -999.000
           NA,HOT timeseries 1988to2019 27SEP2021,    190,  99,-999.0,    8014,-999.0,20070803,1458,  22.7500, -158.0008,  4745,  401.800,    8.795,   34.100,2,   34.100,2,  155.100,2,  153.100,2,   29.940,2,   22.810,2,    1.640,2, -999.000
           NA,HOT timeseries 1988to2019 27SEP2021,    190,  99,-999.0,    8025,-999.0,20070803,1458,  22.7500, -158.0008,  4745,  439.900,    7.992,   34.071,2,   34.074,2,  138.200,2,  137.400,2, -999.000,4,   26.000,2,    1.860,2, -999.000
           NA,HOT timeseries 1988to2019 27SEP2021,    190,  99,-999.0,    8012,-999.0,20070803,1458,  22.7500, -158.0008,  4745,  477.000,    7.216,   34.048,2,   34.049,2,  121.800,2,  120.400,2,   48.220,2,   29.020,2,    2.080,2, -999.000
           NA,HOT timeseries 1988to2019 27SEP2021,    190,  99,-999.0,    8011,-999.0,20070803,1458,  22.7500, -158.0008,  4745,  517.600,    6.558,   34.056,2,   34.057,2,   97.200,2,   95.500,2,   54.720,2,   32.340,2,    2.340,2, -999.000
           NA,HOT timeseries 1988to2019 27SEP2021,    190,  99,-999.0,    8010,-999.0,20070803,1458,  22.7500, -158.0008,  4745,  562.300,    6.059,   34.099,2,   34.099,2,   65.300,2,   67.000,2,   64.310,2,   35.650,2,    2.610,2, -999.000
           NA,HOT timeseries 1988to2019 27SEP2021,    190,  99,-999.0,    8009,-999.0,20070803,1458,  22.7500, -158.0008,  4745,  610.500,    5.312,   34.118,2,   34.121,2,   51.900,2,   48.700,2,   80.040,2,   38.720,2,    2.820,2, -999.000
           NA,HOT timeseries 1988to2019 27SEP2021,    190,  99,-999.0,    8008,-999.0,20070803,1458,  22.7500, -158.0008,  4745,  662.800,    4.943,   34.197,2,   34.202,2,   31.300,2,   28.800,2, -999.000,4,   40.930,2,    3.000,2, -999.000
           NA,HOT timeseries 1988to2019 27SEP2021,    190,  99,-999.0,    8026,-999.0,20070803,1458,  22.7500, -158.0008,  4745,  705.000,    4.767,   34.242,2,   34.246,2,   25.100,2,   23.800,2,   93.490,2,   41.530,2,    3.040,2, -999.000
           NA,HOT timeseries 1988to2019 27SEP2021,    190,  99,-999.0,    8006,-999.0,20070803,1458,  22.7500, -158.0008,  4745,  748.600,    4.729,   34.300,2,   34.298,2,   24.500,2,   24.600,2,   95.080,2,   41.650,2,    3.050,2, -999.000
           NA,HOT timeseries 1988to2019 27SEP2021,    190,  99,-999.0,    8005,-999.0,20070803,1458,  22.7500, -158.0008,  4745,  790.300,    4.526,   34.343,2,   34.342,2,   23.900,2,   24.000,2, -999.000,4,   42.100,2,    3.080,2, -999.000
           NA,HOT timeseries 1988to2019 27SEP2021,    190,  99,-999.0,    8004,-999.0,20070803,1458,  22.7500, -158.0008,  4745,  830.000,    4.400,   34.385,2,   34.384,2,   28.300,2,   29.000,2,  103.490,2,   42.210,2,    3.060,2, -999.000
           NA,HOT timeseries 1988to2019 27SEP2021,    190,  99,-999.0,    8003,-999.0,20070803,1458,  22.7500, -158.0008,  4745,  899.000,    4.210,   34.438,2,   34.440,2,   33.800,2,   34.300,2, -999.000,4,   42.070,2,    3.050,2, -999.000
           NA,HOT timeseries 1988to2019 27SEP2021,    190,  99,-999.0,    8002,-999.0,20070803,1458,  22.7500, -158.0008,  4745,  968.000,    4.102,   34.482,2,   34.484,2,   41.700,2,   41.700,2,  110.010,2,   41.710,2,    3.030,2, -999.000
           NA,HOT timeseries 1988to2019 27SEP2021,    190,  99,-999.0,    8001,-999.0,20070803,1458,  22.7500, -158.0008,  4745, 1021.100,    4.001,   34.494,2, -999.000,3, -999.000,3,   43.600,2,  110.430,2,   41.740,2,    3.020,2, -999.000
           NA,HOT timeseries 1988to2019 27SEP2021,    190,  99,-999.0,    8020,-999.0,20070803,1458,  22.7500, -158.0008,  4745, 1200.100,    3.554,   34.531,2,   34.530,2,   50.500,2,   50.800,2,  119.040,2,   42.110,2,    2.990,2, -999.000
           NA,HOT timeseries 1988to2019 27SEP2021,    190,  99,-999.0,    8019,-999.0,20070803,1458,  22.7500, -158.0008,  4745, 1400.600,    3.040,   34.563,2,   34.562,2,   60.800,2,   61.000,2,  131.180,2,   41.750,2,    2.960,2, -999.000
           NA,HOT timeseries 1988to2019 27SEP2021,    190,  99,-999.0,    8018,-999.0,20070803,1458,  22.7500, -158.0008,  4745, 1600.200,    2.642,   34.589,2,   34.588,2,   71.700,2,   72.900,2,  138.490,2,   41.140,2,    2.910,2, -999.000
           NA,HOT timeseries 1988to2019 27SEP2021,    190,  99,-999.0,    8017,-999.0,20070803,1458,  22.7500, -158.0008,  4745, 1799.600,    2.325,   34.611,2,   34.609,2,   80.700,2,   82.100,2,  146.830,2, -999.000,3, -999.000,4, -999.000
           NA,HOT timeseries 1988to2019 27SEP2021,    190,  99,-999.0,    8016,-999.0,20070803,1458,  22.7500, -158.0008,  4745, 2000.900,    2.090,   34.625,2,   34.625,2,   88.300,2,   90.400,2,  151.240,2,   40.170,2,    2.810,2, -999.000
           NA,HOT timeseries 1988to2019 27SEP2021,    190,  99,-999.0,    8015,-999.0,20070803,1458,  22.7500, -158.0008,  4745, 2200.400,    1.940,   34.637,2,   34.634,2,   94.500,2,   95.100,2,  156.380,2,   39.800,2,    2.770,2, -999.000
           NA,HOT timeseries 1988to2019 27SEP2021,    190,  99,-999.0,    8014,-999.0,20070803,1458,  22.7500, -158.0008,  4745, 2399.400,    1.793,   34.649,2,   34.647,2,  103.400,2,  104.100,2,  157.860,2,   39.470,2,    2.740,2, -999.000
           NA,HOT timeseries 1988to2019 27SEP2021,    190,  99,-999.0,    8025,-999.0,20070803,1458,  22.7500, -158.0008,  4745, 2599.100,    1.692,   34.656,2,   34.657,2,  108.800,2,  109.800,2, -999.000,4,   39.130,2,    2.710,2, -999.000
           NA,HOT timeseries 1988to2019 27SEP2021,    190,  99,-999.0,    8012,-999.0,20070803,1458,  22.7500, -158.0008,  4745, 2798.400,    1.617,   34.665,2,   34.665,2,  117.800,2,  118.000,2, -999.000,4,   38.340,2,    2.650,2, -999.000
           NA,HOT timeseries 1988to2019 27SEP2021,    190,  99,-999.0,    8011,-999.0,20070803,1458,  22.7500, -158.0008,  4745, 2999.000,    1.561,   34.671,2,   34.672,2,  123.500,2,  124.200,2,  159.050,2,   38.000,2,    2.620,2, -999.000
           NA,HOT timeseries 1988to2019 27SEP2021,    190,  99,-999.0,    8010,-999.0,20070803,1458,  22.7500, -158.0008,  4745, 3199.500,    1.520,   34.676,2,   34.676,2,  128.800,2,  128.900,2,  157.620,2,   37.630,2,    2.590,2, -999.000
           NA,HOT timeseries 1988to2019 27SEP2021,    190,  99,-999.0,    8009,-999.0,20070803,1458,  22.7500, -158.0008,  4745, 3399.400,    1.484,   34.681,2,   34.680,2,  135.500,2,  137.100,2, -999.000,4,   37.340,2,    2.560,2, -999.000
           NA,HOT timeseries 1988to2019 27SEP2021,    190,  99,-999.0,    8008,-999.0,20070803,1458,  22.7500, -158.0008,  4745, 3600.000,    1.467,   34.684,2,   34.684,2,  140.200,2,  139.700,2,  154.690,2,   37.060,2,    2.550,2, -999.000
           NA,HOT timeseries 1988to2019 27SEP2021,    190,  99,-999.0,    8026,-999.0,20070803,1458,  22.7500, -158.0008,  4745, 3799.100,    1.459,   34.687,2,   34.686,2,  144.200,2,  144.400,2,  153.550,2,   36.650,2,    2.520,2, -999.000
           NA,HOT timeseries 1988to2019 27SEP2021,    190,  99,-999.0,    8006,-999.0,20070803,1458,  22.7500, -158.0008,  4745, 3999.100,    1.459,   34.688,2,   34.689,2,  147.300,2,  147.100,2,  152.570,2,   36.490,2,    2.510,2, -999.000
           NA,HOT timeseries 1988to2019 27SEP2021,    190,  99,-999.0,    8005,-999.0,20070803,1458,  22.7500, -158.0008,  4745, 4199.400,    1.467,   34.689,2,   34.689,2,  149.600,2,  149.700,2,  150.110,2,   36.450,2,    2.500,2, -999.000
           NA,HOT timeseries 1988to2019 27SEP2021,    190,  99,-999.0,    8004,-999.0,20070803,1458,  22.7500, -158.0008,  4745, 4398.900,    1.479,   34.690,2,   34.690,2,  151.400,2,  150.700,2,  149.430,2,   36.260,2,    2.480,2, -999.000
           NA,HOT timeseries 1988to2019 27SEP2021,    190,  99,-999.0,    8003,-999.0,20070803,1458,  22.7500, -158.0008,  4745, 4498.300,    1.487,   34.691,2,   34.691,2,  152.000,2,  151.600,2,  149.660,2, -999.000,4, -999.000,4, -999.000
           NA,HOT timeseries 1988to2019 27SEP2021,    190,  99,-999.0,    8002,-999.0,20070803,1458,  22.7500, -158.0008,  4745, 4598.300,    1.495,   34.691,2,   34.691,2,  152.600,2,  151.900,2, -999.000,4,   36.150,2,    2.490,2, -999.000
           NA,HOT timeseries 1988to2019 27SEP2021,    190,  99,-999.0,    8001,-999.0,20070803,1458,  22.7500, -158.0008,  4745, 4806.800,    1.511,   34.692,2,   34.693,2,  154.000,2,  154.500,2,  146.890,2,   34.940,2,    2.430,2, -999.000