BOTTLE,20214727JOAExport
# Exported from JOA (5.5.0 Final September 29th, 2020) on 2021/09/27 14:47:02
EXPOCODE,SECT_ID,STNNBR,CASTNO,SAMPNO,BTLNBR,BTLNBR_FLAG_W,DATE,TIME,LATITUDE,LONGITUDE,DEPTH,CTDPRS,CTDTMP,CTDSAL,CTDSAL_FLAG_W,SALNTY,SALNTY_FLAG_W,CTDOXY,CTDOXY_FLAG_W,OXYGEN,OXYGEN_FLAG_W,SILCAT,SILCAT_FLAG_W,NINI,NINI_FLAG_W,PHSPHT,PHSPHT_FLAG_W,REVP
,,,,,,,,,,,,DB,IPTS-68,PSS-78,,PSS-78,,UMOL/KG,,UMOL/KG,,UMOL/KG,,UMOL/KG,,UMOL/KG,,DBAR
           NA,HOT timeseries 1988to2019 27SEP2021,      1,  99,-999.0,      12,-999.0,19881031,0056,  22.7600, -157.9983,  4749,    4.700,   26.288,   35.234,2,   35.245,2,  224.600,2,  210.900,2,    0.910,2,    0.020,2,    0.090,2, -999.000
           NA,HOT timeseries 1988to2019 27SEP2021,      1,  99,-999.0,      11,-999.0,19881031,0056,  22.7600, -157.9983,  4749,   39.400,   26.187,   35.225,2,   35.237,2,  219.500,2,  211.600,2,    1.110,2,    0.040,2,    0.080,2, -999.000
           NA,HOT timeseries 1988to2019 27SEP2021,      1,  99,-999.0,      10,-999.0,19881031,0056,  22.7600, -157.9983,  4749,   99.400,   21.798,   35.246,2,   35.258,2,  218.000,2,  214.200,2,    1.500,2,    0.210,2,    0.140,2, -999.000
           NA,HOT timeseries 1988to2019 27SEP2021,      1,  99,-999.0,       9,-999.0,19881031,0056,  22.7600, -157.9983,  4749,  150.300,   19.421,   35.089,2,   35.099,2,  201.900,2,  200.800,2,    2.100,2,    2.070,2,    0.270,2, -999.000
           NA,HOT timeseries 1988to2019 27SEP2021,      1,  99,-999.0,       8,-999.0,19881031,0056,  22.7600, -157.9983,  4749,  191.800,   17.706,   34.920,2,   34.929,2,  214.400,2,  211.000,2,    2.890,2,    2.260,2,    0.310,2, -999.000
           NA,HOT timeseries 1988to2019 27SEP2021,      1,  99,-999.0,       7,-999.0,19881031,0056,  22.7600, -157.9983,  4749,  217.000,   16.598,   34.780,2, -999.000,4, -999.000,3,  207.000,2,    3.490,2,    3.790,2,    0.390,2, -999.000
           NA,HOT timeseries 1988to2019 27SEP2021,      1,  99,-999.0,       6,-999.0,19881031,0056,  22.7600, -157.9983,  4749,  279.900,   13.264,   34.351,2,   34.354,2,  214.100,2,  211.300,2,    7.660,2,    8.010,2,    0.670,2, -999.000
           NA,HOT timeseries 1988to2019 27SEP2021,      1,  99,-999.0,       5,-999.0,19881031,0056,  22.7600, -157.9983,  4749,  340.600,   10.711,   34.166,2,   34.165,2,  208.200,2,  208.200,2,   16.190,2,   13.950,2,    1.070,2, -999.000
           NA,HOT timeseries 1988to2019 27SEP2021,      1,  99,-999.0,       4,-999.0,19881031,0056,  22.7600, -157.9983,  4749,  399.000,    8.810,   34.074,2,   34.078,2,  183.600,2,  180.900,2,   28.410,2,   20.730,2,    1.550,2, -999.000
           NA,HOT timeseries 1988to2019 27SEP2021,      1,  99,-999.0,       3,-999.0,19881031,0056,  22.7600, -157.9983,  4749,  475.900,    7.324,   34.033,2,   34.033,2,  152.400,2,  143.900,2,   43.200,2,   26.870,2,    2.050,2, -999.000
           NA,HOT timeseries 1988to2019 27SEP2021,      1,  99,-999.0,      12,-999.0,19881031,0056,  22.7600, -157.9983,  4749,  542.600,    6.236,   34.037,2,   34.037,2,  106.800,2,   97.000,2,   60.670,2,   32.420,2,    2.400,2, -999.000
           NA,HOT timeseries 1988to2019 27SEP2021,      1,  99,-999.0,       2,-999.0,19881031,0056,  22.7600, -157.9983,  4749,  677.800,    4.886,   34.203,2,   34.200,2,   30.500,2,   31.000,2,   92.630,2,   40.180,2,    2.970,2, -999.000
           NA,HOT timeseries 1988to2019 27SEP2021,      1,  99,-999.0,      11,-999.0,19881031,0056,  22.7600, -157.9983,  4749,  998.900,    3.915,   34.476,2,   34.475,2,   43.800,2,   44.200,2, -999.000,3, -999.000,3, -999.000,3, -999.000
           NA,HOT timeseries 1988to2019 27SEP2021,      1,  99,-999.0,       1,-999.0,19881031,0056,  22.7600, -157.9983,  4749, 1013.700,    3.860,   34.487,2,   34.488,2,   48.400,2,   46.500,2,  116.430,2,   41.290,2,    3.030,2, -999.000
           NA,HOT timeseries 1988to2019 27SEP2021,      1,  99,-999.0,      10,-999.0,19881031,0056,  22.7600, -157.9983,  4749, 1100.400,    3.651,   34.508,2,   34.509,2,   50.700,2,   51.500,2, -999.000,3, -999.000,3, -999.000,3, -999.000
           NA,HOT timeseries 1988to2019 27SEP2021,      1,  99,-999.0,       9,-999.0,19881031,0056,  22.7600, -157.9983,  4749, 1202.300,    3.397,   34.535,2, -999.000,5,   57.600,2,   56.400,2, -999.000,3, -999.000,3, -999.000,3, -999.000
           NA,HOT timeseries 1988to2019 27SEP2021,      1,  99,-999.0,       8,-999.0,19881031,0056,  22.7600, -157.9983,  4749, 1306.100,    3.150,   34.551,2,   34.552,2,   63.400,2,   63.000,2, -999.000,3, -999.000,3, -999.000,3, -999.000
           NA,HOT timeseries 1988to2019 27SEP2021,      1,  99,-999.0,       7,-999.0,19881031,0056,  22.7600, -157.9983,  4749, 1407.900,    2.941,   34.564,2,   34.562,2,   70.100,2,   68.000,2, -999.000,3, -999.000,3, -999.000,3, -999.000
           NA,HOT timeseries 1988to2019 27SEP2021,      1,  99,-999.0,       6,-999.0,19881031,0056,  22.7600, -157.9983,  4749, 1514.600,    2.747,   34.579,2,   34.573,2,   75.900,2, -999.000,3, -999.000,3, -999.000,3, -999.000,3, -999.000
           NA,HOT timeseries 1988to2019 27SEP2021,      1,  99,-999.0,       5,-999.0,19881031,0056,  22.7600, -157.9983,  4749, 1708.200,    2.401,   34.600,2,   34.600,2,   88.400,2, -999.000,3, -999.000,3, -999.000,3, -999.000,3, -999.000
           NA,HOT timeseries 1988to2019 27SEP2021,      1,  99,-999.0,       4,-999.0,19881031,0056,  22.7600, -157.9983,  4749, 1902.500,    2.177,   34.616,2,   34.615,2,   98.000,2, -999.000,3, -999.000,3, -999.000,3, -999.000,3, -999.000
           NA,HOT timeseries 1988to2019 27SEP2021,      1,  99,-999.0,       3,-999.0,19881031,0056,  22.7600, -157.9983,  4749, 2094.000,    1.991,   34.629,2,   34.626,2,  106.100,2, -999.000,3, -999.000,3, -999.000,3, -999.000,3, -999.000
           NA,HOT timeseries 1988to2019 27SEP2021,      1,  99,-999.0,       2,-999.0,19881031,0056,  22.7600, -157.9983,  4749, 2283.600,    1.844,   34.639,2,   34.639,2,  111.000,2, -999.000,3, -999.000,3, -999.000,3, -999.000,3, -999.000
           NA,HOT timeseries 1988to2019 27SEP2021,      1,  99,-999.0,      12,-999.0,19881031,0056,  22.7600, -157.9983,  4749, 2488.700,    1.744,   34.648,2,   34.647,2,  114.700,2, -999.000,3, -999.000,3, -999.000,3, -999.000,3, -999.000
           NA,HOT timeseries 1988to2019 27SEP2021,      1,  99,-999.0,       1,-999.0,19881031,0056,  22.7600, -157.9983,  4749, 2498.300,    1.726,   34.650,2,   34.651,2,  118.500,2, -999.000,3, -999.000,3, -999.000,3, -999.000,3, -999.000
           NA,HOT timeseries 1988to2019 27SEP2021,      1,  99,-999.0,      11,-999.0,19881031,0056,  22.7600, -157.9983,  4749, 2680.500,    1.642,   34.658,2,   34.658,2,  122.600,2, -999.000,3, -999.000,3, -999.000,3, -999.000,3, -999.000
           NA,HOT timeseries 1988to2019 27SEP2021,      1,  99,-999.0,      10,-999.0,19881031,0056,  22.7600, -157.9983,  4749, 2880.000,    1.567,   34.665,2,   34.666,2,  129.100,2, -999.000,3, -999.000,3,   37.050,2, -999.000,3, -999.000
           NA,HOT timeseries 1988to2019 27SEP2021,      1,  99,-999.0,       9,-999.0,19881031,0056,  22.7600, -157.9983,  4749, 3067.600,    1.528,   34.670,2,   34.669,2,  134.400,2, -999.000,3, -999.000,3, -999.000,3, -999.000,3, -999.000
           NA,HOT timeseries 1988to2019 27SEP2021,      1,  99,-999.0,       8,-999.0,19881031,0056,  22.7600, -157.9983,  4749, 3259.000,    1.497,   34.674,2,   34.674,2,  138.700,2, -999.000,3, -999.000,3, -999.000,3, -999.000,3, -999.000
           NA,HOT timeseries 1988to2019 27SEP2021,      1,  99,-999.0,       7,-999.0,19881031,0056,  22.7600, -157.9983,  4749, 3451.500,    1.476,   34.678,2,   34.677,2,  141.700,2, -999.000,3, -999.000,3, -999.000,3, -999.000,3, -999.000
           NA,HOT timeseries 1988to2019 27SEP2021,      1,  99,-999.0,       6,-999.0,19881031,0056,  22.7600, -157.9983,  4749, 3675.300,    1.465,   34.681,2,   34.679,2,  145.900,2, -999.000,3, -999.000,3, -999.000,3, -999.000,3, -999.000
           NA,HOT timeseries 1988to2019 27SEP2021,      1,  99,-999.0,       5,-999.0,19881031,0056,  22.7600, -157.9983,  4749, 3877.700,    1.462,   34.683,2,   34.682,2,  148.100,2, -999.000,3, -999.000,3, -999.000,3, -999.000,3, -999.000
           NA,HOT timeseries 1988to2019 27SEP2021,      1,  99,-999.0,       4,-999.0,19881031,0056,  22.7600, -157.9983,  4749, 4087.400,    1.463,   34.685,2,   34.685,2,  149.900,2, -999.000,3, -999.000,3, -999.000,3, -999.000,3, -999.000
           NA,HOT timeseries 1988to2019 27SEP2021,      1,  99,-999.0,       3,-999.0,19881031,0056,  22.7600, -157.9983,  4749, 4267.200,    1.472,   34.686,2,   34.686,2,  150.600,2, -999.000,3, -999.000,3, -999.000,3, -999.000,3, -999.000
           NA,HOT timeseries 1988to2019 27SEP2021,      1,  99,-999.0,       2,-999.0,19881031,0056,  22.7600, -157.9983,  4749, 4483.300,    1.486,   34.687,2,   34.685,2,  151.500,2, -999.000,3, -999.000,3, -999.000,3, -999.000,3, -999.000
           NA,HOT timeseries 1988to2019 27SEP2021,      1,  99,-999.0,       1,-999.0,19881031,0056,  22.7600, -157.9983,  4749, 4705.800,    1.506,   34.688,2,   34.688,2,  150.300,2, -999.000,3, -999.000,3, -999.000,3, -999.000,3, -999.000
           NA,HOT timeseries 1988to2019 27SEP2021,      2,  99,-999.0,      11,-999.0,19881202,0641,  22.7650, -157.9667,  4699,   15.600,   25.708,   34.971,2, -999.000,4, -999.000,3,  207.300,2,    0.050,2,    0.070,2,    0.090,2, -999.000
           NA,HOT timeseries 1988to2019 27SEP2021,      2,  99,-999.0,      10,-999.0,19881202,0641,  22.7650, -157.9667,  4699,   99.500,   23.283,   35.092,2, -999.000,4, -999.000,3,  209.300,2,    1.220,2,    0.180,2,    0.110,2, -999.000
           NA,HOT timeseries 1988to2019 27SEP2021,      2,  99,-999.0,       9,-999.0,19881202,0641,  22.7650, -157.9667,  4699,  136.400,   21.446,   35.185,2, -999.000,4, -999.000,3,  199.600,2,    1.820,2,    0.120,2,    0.190,2, -999.000
           NA,HOT timeseries 1988to2019 27SEP2021,      2,  99,-999.0,       8,-999.0,19881202,0641,  22.7650, -157.9667,  4699,  173.300,   19.954,   35.113,2, -999.000,4, -999.000,3,  192.800,2,    2.010,2,    2.230,2,    0.250,2, -999.000
           NA,HOT timeseries 1988to2019 27SEP2021,      2,  99,-999.0,       7,-999.0,19881202,0641,  22.7650, -157.9667,  4699,  238.000,   16.458,   34.762,2, -999.000,4, -999.000,3,  212.400,2,    3.580,2,    3.430,2,    0.340,2, -999.000
           NA,HOT timeseries 1988to2019 27SEP2021,      2,  99,-999.0,       6,-999.0,19881202,0641,  22.7650, -157.9667,  4699,  322.500,   11.860,   34.229,2, -999.000,4, -999.000,3,  207.700,2,   11.430,2,   11.290,2,    0.870,2, -999.000
           NA,HOT timeseries 1988to2019 27SEP2021,      2,  99,-999.0,       5,-999.0,19881202,0641,  22.7650, -157.9667,  4699,  433.300,    8.944,   34.074,2, -999.000,4, -999.000,3,  179.900,2,   26.540,2,   20.200,2,    1.490,2, -999.000
           NA,HOT timeseries 1988to2019 27SEP2021,      2,  99,-999.0,       4,-999.0,19881202,0641,  22.7650, -157.9667,  4699,  494.500,    7.536,   34.035,2, -999.000,4, -999.000,3,  142.900,2,   41.260,2,   26.470,2,    1.940,2, -999.000
           NA,HOT timeseries 1988to2019 27SEP2021,      2,  99,-999.0,       3,-999.0,19881202,0641,  22.7650, -157.9667,  4699,  526.200,    7.191,   34.033,2, -999.000,3, -999.000,3,  127.200,2,   45.780,2,   28.430,2,    2.090,2, -999.000
           NA,HOT timeseries 1988to2019 27SEP2021,      2,  99,-999.0,       2,-999.0,19881202,0641,  22.7650, -157.9667,  4699,  575.000,    6.121,   34.035,2, -999.000,4, -999.000,3,   91.900,2,   61.280,2,   33.670,2,    2.460,2, -999.000
           NA,HOT timeseries 1988to2019 27SEP2021,      2,  99,-999.0,       1,-999.0,19881202,0641,  22.7650, -157.9667,  4699,  637.800,    5.456,   34.149,2, -999.000,4, -999.000,3,   48.600,2,   78.930,2,   38.360,2,    2.840,2, -999.000
           NA,HOT timeseries 1988to2019 27SEP2021,      2,  99,-999.0,      11,-999.0,19881202,0641,  22.7650, -157.9667,  4699,  695.300,    5.187,   34.225,2,   34.225,2,   43.800,2,   36.200,2,   85.410,2,   39.890,2,    2.970,2, -999.000
           NA,HOT timeseries 1988to2019 27SEP2021,      2,  99,-999.0,      10,-999.0,19881202,0641,  22.7650, -157.9667,  4699,  755.200,    4.823,   34.308,2,   34.305,2,   37.200,2,   32.000,2,   93.640,2,   41.080,2,    3.050,2, -999.000
           NA,HOT timeseries 1988to2019 27SEP2021,      2,  99,-999.0,       9,-999.0,19881202,0641,  22.7650, -157.9667,  4699,  839.600,    4.435,   34.402,2,   34.400,2,   39.000,2,   37.200,2,  102.460,2,   41.520,2,    3.060,2, -999.000
           NA,HOT timeseries 1988to2019 27SEP2021,      2,  99,-999.0,       8,-999.0,19881202,0641,  22.7650, -157.9667,  4699,  990.000,    4.025,   34.473,2,   34.473,2,   47.000,2,   46.500,2,  110.300,2,   41.510,2,    3.060,2, -999.000
           NA,HOT timeseries 1988to2019 27SEP2021,      2,  99,-999.0,       7,-999.0,19881202,0641,  22.7650, -157.9667,  4699, 1190.400,    3.513,   34.526,2,   34.527,2,   56.300,2,   55.200,2,  121.100,2,   41.470,2,    3.050,2, -999.000
           NA,HOT timeseries 1988to2019 27SEP2021,      2,  99,-999.0,       6,-999.0,19881202,0641,  22.7650, -157.9667,  4699, 1391.900,    2.970,   34.554,2,   34.555,2,   64.700,2,   63.300,2,  132.860,2,   41.070,2,    3.010,2, -999.000
           NA,HOT timeseries 1988to2019 27SEP2021,      2,  99,-999.0,       5,-999.0,19881202,0641,  22.7650, -157.9667,  4699, 1598.400,    2.630,   34.577,2,   34.580,2,   72.600,2,   72.500,2,  142.670,2,   40.640,2,    2.970,2, -999.000
           NA,HOT timeseries 1988to2019 27SEP2021,      2,  99,-999.0,       4,-999.0,19881202,0641,  22.7650, -157.9667,  4699, 1807.800,    2.301,   34.602,2,   34.603,2,   81.900,2,   81.900,2,  149.540,2,   40.090,2,    2.910,2, -999.000
           NA,HOT timeseries 1988to2019 27SEP2021,      2,  99,-999.0,       3,-999.0,19881202,0641,  22.7650, -157.9667,  4699, 1995.900,    2.072,   34.618,2,   34.618,2,   89.000,2,   91.100,2,  153.950,2,   39.940,2,    2.820,2, -999.000
           NA,HOT timeseries 1988to2019 27SEP2021,      2,  99,-999.0,       2,-999.0,19881202,0641,  22.7650, -157.9667,  4699, 2207.100,    1.886,   34.633,2,   34.633,2,   96.900,2,   97.300,2,  158.350,2,   39.440,2,    2.780,2, -999.000
           NA,HOT timeseries 1988to2019 27SEP2021,      2,  99,-999.0,       1,-999.0,19881202,0641,  22.7650, -157.9667,  4699, 2413.500,    1.732,   34.646,2,   34.647,2,  105.500,2,  105.300,2,  162.280,2,   38.780,2,    2.720,2, -999.000
           NA,HOT timeseries 1988to2019 27SEP2021,      2,  99,-999.0,      11,-999.0,19881202,0641,  22.7650, -157.9667,  4699, 2603.200,    1.677,   34.651,2,   34.652,2,  110.900,2,  111.200,2,  161.290,2,   38.670,2,    2.710,2, -999.000
           NA,HOT timeseries 1988to2019 27SEP2021,      2,  99,-999.0,      10,-999.0,19881202,0641,  22.7650, -157.9667,  4699, 2808.400,    1.594,   34.660,2,   34.660,2,  119.400,2,  121.600,2,  161.290,2,   38.020,2,    2.650,2, -999.000
           NA,HOT timeseries 1988to2019 27SEP2021,      2,  99,-999.0,       9,-999.0,19881202,0641,  22.7650, -157.9667,  4699, 2990.600,    1.541,   34.667,2, -999.000,5,  127.100,2,  125.800,2,  158.650,2,   37.580,2,    2.640,2, -999.000
           NA,HOT timeseries 1988to2019 27SEP2021,      2,  99,-999.0,       8,-999.0,19881202,0641,  22.7650, -157.9667,  4699, 3191.800,    1.499,   34.673,2,   34.672,2,  133.300,2,  134.900,2,  158.940,2,   37.140,2,    2.600,2, -999.000
           NA,HOT timeseries 1988to2019 27SEP2021,      2,  99,-999.0,       7,-999.0,19881202,0641,  22.7650, -157.9667,  4699, 3390.400,    1.471,   34.677,2,   34.676,2,  139.800,2,  141.000,2,  156.390,2,   36.710,2,    2.570,2, -999.000
           NA,HOT timeseries 1988to2019 27SEP2021,      2,  99,-999.0,       6,-999.0,19881202,0641,  22.7650, -157.9667,  4699, 3594.900,    1.455,   34.681,2,   34.681,2,  145.300,2,  147.600,2,  154.430,2,   36.490,2,    2.540,2, -999.000
           NA,HOT timeseries 1988to2019 27SEP2021,      2,  99,-999.0,       5,-999.0,19881202,0641,  22.7650, -157.9667,  4699, 3797.600,    1.448,   34.684,2,   34.684,2,  149.300,2,  150.300,2,  153.440,2,   36.160,2,    2.530,2, -999.000
           NA,HOT timeseries 1988to2019 27SEP2021,      2,  99,-999.0,       4,-999.0,19881202,0641,  22.7650, -157.9667,  4699, 3999.200,    1.452,   34.686,2,   34.685,2,  153.100,2,  152.100,2,  150.310,2,   35.890,2,    2.520,2, -999.000
           NA,HOT timeseries 1988to2019 27SEP2021,      2,  99,-999.0,       3,-999.0,19881202,0641,  22.7650, -157.9667,  4699, 4200.300,    1.461,   34.687,2,   34.687,2,  155.700,2,  154.300,2,  149.530,2,   35.830,2,    2.530,2, -999.000
           NA,HOT timeseries 1988to2019 27SEP2021,      2,  99,-999.0,       2,-999.0,19881202,0641,  22.7650, -157.9667,  4699, 4399.600,    1.477,   34.688,2,   34.687,2,  157.700,2,  153.900,2,  150.500,2,   35.830,2,    2.520,2, -999.000
           NA,HOT timeseries 1988to2019 27SEP2021,      2,  99,-999.0,       1,-999.0,19881202,0641,  22.7650, -157.9667,  4699, 4505.000,    1.487,   34.688,2,   34.688,2,  158.000,2,  159.500,2,  148.540,2,   35.720,2,    2.520,2, -999.000