BOTTLE,20214727JOAExport
EXPOCODE,SECT_ID,STNNBR,CASTNO,SAMPNO,BTLNBR,BTLNBR_FLAG_W,DATE,TIME,LATITUDE,LONGITUDE,DEPTH,CTDPRS,CTDTMP,CTDSAL,CTDSAL_FLAG_W,SALNTY,SALNTY_FLAG_W,CTDOXY,CTDOXY_FLAG_W,OXYGEN,OXYGEN_FLAG_W,SILCAT,SILCAT_FLAG_W,NINI,NINI_FLAG_W,PHSPHT,PHSPHT_FLAG_W,REVP
,,,,,,,,,,,,DB,IPTS-68,PSS-78,,PSS-78,,UMOL/KG,,UMOL/KG,,UMOL/KG,,UMOL/KG,,UMOL/KG,,DBAR
           NA,HOT timeseries 1988to2019 27SEP2021,     57,  99,-999.0,      31,-999.0,19950303,1929,  22.7488, -158.0037,  4729,    5.100,   23.101,   34.720,2,   34.721,2,  213.900,2,  213.300,2,    1.710,2,    0.000,2,    0.090,2, -999.000
           NA,HOT timeseries 1988to2019 27SEP2021,     57,  99,-999.0,      17,-999.0,19950303,1929,  22.7488, -158.0037,  4729,    5.200,   23.192,   34.630,2,   34.629,2,  213.900,2,  212.900,2, -999.000,5, -999.000,5, -999.000,5, -999.000
           NA,HOT timeseries 1988to2019 27SEP2021,     57,  99,-999.0,      31,-999.0,19950303,1929,  22.7488, -158.0037,  4729,    6.000,   23.219,   34.628,2,   34.632,2,  214.200,2,  218.300,2,    1.380,2,    0.000,2,    0.110,2, -999.000
           NA,HOT timeseries 1988to2019 27SEP2021,     57,  99,-999.0,      30,-999.0,19950303,1929,  22.7488, -158.0037,  4729,   53.200,   23.046,   34.874,2,   34.875,2,  213.000,2,  207.800,2,    1.320,2,    0.010,2,    0.090,2, -999.000
           NA,HOT timeseries 1988to2019 27SEP2021,     57,  99,-999.0,      22,-999.0,19950303,1929,  22.7488, -158.0037,  4729,   75.900,   22.472,   35.090,2,   35.084,2,  210.400,2,  210.800,2,    1.340,2,    0.010,2,    0.070,2, -999.000
           NA,HOT timeseries 1988to2019 27SEP2021,     57,  99,-999.0,      21,-999.0,19950303,1929,  22.7488, -158.0037,  4729,   90.400,   22.169,   35.145,2,   35.145,2,  208.400,2,  208.600,2,    1.340,2,    0.020,2,    0.070,2, -999.000
           NA,HOT timeseries 1988to2019 27SEP2021,     57,  99,-999.0,      16,-999.0,19950303,1929,  22.7488, -158.0037,  4729,   90.900,   22.563,   35.080,2,   35.073,2,  209.900,2,  210.700,2, -999.000,5, -999.000,5, -999.000,5, -999.000
           NA,HOT timeseries 1988to2019 27SEP2021,     57,  99,-999.0,      30,-999.0,19950303,1929,  22.7488, -158.0037,  4729,  101.300,   20.952,   35.107,2,   35.109,2,  199.700,2,  201.000,2,    1.880,2,    0.920,2,    0.130,2, -999.000
           NA,HOT timeseries 1988to2019 27SEP2021,     57,  99,-999.0,      20,-999.0,19950303,1929,  22.7488, -158.0037,  4729,  140.100,   20.238,   35.033,2, -999.000,4, -999.000,3,  200.100,2,    1.830,2,    0.960,2,    0.150,2, -999.000
           NA,HOT timeseries 1988to2019 27SEP2021,     57,  99,-999.0,      19,-999.0,19950303,1929,  22.7488, -158.0037,  4729,  197.000,   17.542,   34.804,2,   34.805,2,  184.300,2,  183.100,2,    3.930,2,    4.470,2,    0.380,2, -999.000
           NA,HOT timeseries 1988to2019 27SEP2021,     57,  99,-999.0,      15,-999.0,19950303,1929,  22.7488, -158.0037,  4729,  209.800,   16.456,   34.676,2, -999.000,3, -999.000,3,  185.800,2,    4.430,2,    5.060,2,    0.440,2, -999.000
           NA,HOT timeseries 1988to2019 27SEP2021,     57,  99,-999.0,      18,-999.0,19950303,1929,  22.7488, -158.0037,  4729,  215.400,   16.653,   34.702,2,   34.717,2,  186.400,2,  185.700,2,    4.380,2,    4.970,2,    0.410,2, -999.000
           NA,HOT timeseries 1988to2019 27SEP2021,     57,  99,-999.0,      14,-999.0,19950303,1929,  22.7488, -158.0037,  4729,  225.600,   16.166,   34.632,2,   34.630,2,  180.700,2,  180.500,2,    5.200,2,    6.080,2,    0.510,2, -999.000
           NA,HOT timeseries 1988to2019 27SEP2021,     57,  99,-999.0,      13,-999.0,19950303,1929,  22.7488, -158.0037,  4729,  234.000,   15.916,   34.594,2,   34.599,2,  178.300,2,  178.800,2,    5.550,2,    6.560,2,    0.550,2, -999.000
           NA,HOT timeseries 1988to2019 27SEP2021,     57,  99,-999.0,      12,-999.0,19950303,1929,  22.7488, -158.0037,  4729,  249.600,   14.812,   34.455,2, -999.000,4, -999.000,3, -999.000,4, -999.000,4, -999.000,4, -999.000,4, -999.000
           NA,HOT timeseries 1988to2019 27SEP2021,     57,  99,-999.0,      11,-999.0,19950303,1929,  22.7488, -158.0037,  4729,  275.000,   13.307,   34.309,2,   34.309,2,  173.300,2,  172.600,2,    9.860,2,   11.070,2,    0.840,2, -999.000
           NA,HOT timeseries 1988to2019 27SEP2021,     57,  99,-999.0,      17,-999.0,19950303,1929,  22.7488, -158.0037,  4729,  291.800,   12.560,   34.262,2,   34.259,2,  154.700,2,  156.400,2,   12.630,2,   14.050,2,    1.070,2, -999.000
           NA,HOT timeseries 1988to2019 27SEP2021,     57,  99,-999.0,      32,-999.0,19950303,1929,  22.7488, -158.0037,  4729,  299.000,   12.252,   34.242,2,   34.245,2,  153.700,2,  152.400,2,   13.650,2,   14.940,2,    1.150,2, -999.000
           NA,HOT timeseries 1988to2019 27SEP2021,     57,  99,-999.0,      16,-999.0,19950303,1929,  22.7488, -158.0037,  4729,  304.900,   11.710,   34.209,2,   34.211,2,  160.600,2,  163.200,2,   14.520,2,   14.870,2,    1.110,2, -999.000
           NA,HOT timeseries 1988to2019 27SEP2021,     57,  99,-999.0,       3,-999.0,19950303,1929,  22.7488, -158.0037,  4729,  325.300,   11.051,   34.179,2, -999.000,4, -999.000,3,  166.800,2,   16.230,2,   16.080,2,    1.200,2, -999.000
           NA,HOT timeseries 1988to2019 27SEP2021,     57,  99,-999.0,      15,-999.0,19950303,1929,  22.7488, -158.0037,  4729,  344.100,   10.157,   34.143,2,   34.141,2,  187.500,2,  187.900,2,   18.270,2,   15.900,2,    1.130,2, -999.000
           NA,HOT timeseries 1988to2019 27SEP2021,     57,  99,-999.0,      29,-999.0,19950303,1929,  22.7488, -158.0037,  4729,  349.700,   10.082,   34.133,2,   34.136,2,  181.100,2,  183.100,2,   18.940,2,   16.650,2,    1.200,2, -999.000
           NA,HOT timeseries 1988to2019 27SEP2021,     57,  99,-999.0,      14,-999.0,19950303,1929,  22.7488, -158.0037,  4729,  359.200,    9.768,   34.124,2,   34.129,2,  186.200,2,  187.100,2,   18.930,2,   16.110,2,    1.160,2, -999.000
           NA,HOT timeseries 1988to2019 27SEP2021,     57,  99,-999.0,      28,-999.0,19950303,1929,  22.7488, -158.0037,  4729,  404.200,    8.665,   34.085,2,   34.087,2,  166.700,2,  166.400,2,   28.720,2,   21.170,2,    1.510,2, -999.000
           NA,HOT timeseries 1988to2019 27SEP2021,     57,  99,-999.0,      12,-999.0,19950303,1929,  22.7488, -158.0037,  4729,  468.900,    7.127,   34.057,2, -999.000,4, -999.000,3, -999.000,4, -999.000,4, -999.000,4, -999.000,4, -999.000
           NA,HOT timeseries 1988to2019 27SEP2021,     57,  99,-999.0,       7,-999.0,19950303,1929,  22.7488, -158.0037,  4729,  501.400,    6.682,   34.067,2,   34.069,2,   98.800,2,  100.100,2,   53.350,2,   30.860,2,    2.240,2, -999.000
           NA,HOT timeseries 1988to2019 27SEP2021,     57,  99,-999.0,      32,-999.0,19950303,1929,  22.7488, -158.0037,  4729,  515.700,    6.404,   34.062,2,   34.061,2,   92.800,2,   93.200,2,   57.640,2,   32.280,2,    2.330,2, -999.000
           NA,HOT timeseries 1988to2019 27SEP2021,     57,  99,-999.0,       3,-999.0,19950303,1929,  22.7488, -158.0037,  4729,  557.600,    5.896,   34.091,2,   34.088,2,   71.300,2,   70.800,2,   67.620,2,   35.010,2,    2.590,2, -999.000
           NA,HOT timeseries 1988to2019 27SEP2021,     57,  99,-999.0,      23,-999.0,19950303,1929,  22.7488, -158.0037,  4729,  601.300,    5.566,   34.151,2,   34.149,2,   47.300,2,   52.300,2,   76.360,2,   37.140,2,    2.700,2, -999.000
           NA,HOT timeseries 1988to2019 27SEP2021,     57,  99,-999.0,      29,-999.0,19950303,1929,  22.7488, -158.0037,  4729,  613.900,    5.489,   34.164,2,   34.163,2,   48.800,2,   48.300,2,   77.430,2,   38.000,2,    2.780,2, -999.000
           NA,HOT timeseries 1988to2019 27SEP2021,     57,  99,-999.0,      28,-999.0,19950303,1929,  22.7488, -158.0037,  4729,  671.600,    5.046,   34.239,2,   34.234,2,   36.200,2,   36.200,2,   87.460,2,   39.660,2,    2.970,2, -999.000
           NA,HOT timeseries 1988to2019 27SEP2021,     57,  99,-999.0,      36,-999.0,19950303,1929,  22.7488, -158.0037,  4729,  697.300,    4.864,   34.281,2,   34.281,2,   28.900,2,   30.300,2,   93.440,2,   40.370,2,    2.940,2, -999.000
           NA,HOT timeseries 1988to2019 27SEP2021,     57,  99,-999.0,       7,-999.0,19950303,1929,  22.7488, -158.0037,  4729,  725.000,    4.715,   34.315,2,   34.318,2,   30.900,2,   30.600,2,   95.540,2,   40.520,2,    3.050,2, -999.000
           NA,HOT timeseries 1988to2019 27SEP2021,     57,  99,-999.0,      21,-999.0,19950303,1929,  22.7488, -158.0037,  4729,  772.700,    4.638,   34.324,2,   34.323,2,   27.400,2,   28.800,2,   97.040,2,   40.510,2,    2.980,2, -999.000
           NA,HOT timeseries 1988to2019 27SEP2021,     57,  99,-999.0,      35,-999.0,19950303,1929,  22.7488, -158.0037,  4729,  799.500,    4.453,   34.364,2,   34.363,2,   31.400,2,   30.600,2,  101.760,2,   41.080,2,    3.060,2, -999.000
           NA,HOT timeseries 1988to2019 27SEP2021,     57,  99,-999.0,      36,-999.0,19950303,1929,  22.7488, -158.0037,  4729,  843.600,    4.250,   34.396,2,   34.394,2,   33.700,2,   33.800,2,  106.750,2,   41.260,2,    3.090,2, -999.000
           NA,HOT timeseries 1988to2019 27SEP2021,     57,  99,-999.0,      35,-999.0,19950303,1929,  22.7488, -158.0037,  4729,  901.400,    4.092,   34.431,2,   34.429,2,   37.000,2,   37.300,2,  109.330,2,   41.350,2,    3.080,2, -999.000
           NA,HOT timeseries 1988to2019 27SEP2021,     57,  99,-999.0,      34,-999.0,19950303,1929,  22.7488, -158.0037,  4729,  995.000,    3.904,   34.468,2,   34.467,2,   40.400,2,   43.300,2,  113.220,2,   41.060,2,    3.060,2, -999.000
           NA,HOT timeseries 1988to2019 27SEP2021,     57,  99,-999.0,      33,-999.0,19950303,1929,  22.7488, -158.0037,  4729, 1022.400,    3.815,   34.478,2,   34.477,2,   38.900,2,   44.700,2,  114.930,2,   41.090,2,    3.050,2, -999.000
           NA,HOT timeseries 1988to2019 27SEP2021,     57,  99,-999.0,      19,-999.0,19950303,1929,  22.7488, -158.0037,  4729, 1197.400,    3.351,   34.535,2,   34.535,2,   57.600,2,   54.300,2,  123.610,2,   40.740,2,    2.980,2, -999.000
           NA,HOT timeseries 1988to2019 27SEP2021,     57,  99,-999.0,      18,-999.0,19950303,1929,  22.7488, -158.0037,  4729, 1398.800,    2.979,   34.566,2,   34.567,2,   64.300,2,   62.100,2,  132.040,2,   40.500,2,    2.980,2, -999.000
           NA,HOT timeseries 1988to2019 27SEP2021,     57,  99,-999.0,      17,-999.0,19950303,1929,  22.7488, -158.0037,  4729, 1601.900,    2.594,   34.589,2,   34.588,2,   71.600,2,   72.100,2,  140.590,2,   39.990,2,    2.910,2, -999.000
           NA,HOT timeseries 1988to2019 27SEP2021,     57,  99,-999.0,      16,-999.0,19950303,1929,  22.7488, -158.0037,  4729, 1802.600,    2.345,   34.602,2,   34.602,2,   78.500,2,   79.400,2,  146.140,2,   39.530,2,    2.870,2, -999.000
           NA,HOT timeseries 1988to2019 27SEP2021,     57,  99,-999.0,      15,-999.0,19950303,1929,  22.7488, -158.0037,  4729, 2006.600,    2.072,   34.621,2,   34.622,2,   87.300,2,   89.300,2,  153.060,2,   39.110,2,    2.840,2, -999.000
           NA,HOT timeseries 1988to2019 27SEP2021,     57,  99,-999.0,      14,-999.0,19950303,1929,  22.7488, -158.0037,  4729, 2198.000,    1.888,   34.637,2,   34.638,2,   97.900,2,   99.100,2,  155.940,2,   38.560,2,    2.780,2, -999.000
           NA,HOT timeseries 1988to2019 27SEP2021,     57,  99,-999.0,      13,-999.0,19950303,1929,  22.7488, -158.0037,  4729, 2400.000,    1.758,   34.647,2,   34.648,2,  103.800,2,  106.200,2,  157.740,2,   38.100,2,    2.720,2, -999.000
           NA,HOT timeseries 1988to2019 27SEP2021,     57,  99,-999.0,      12,-999.0,19950303,1929,  22.7488, -158.0037,  4729, 2597.500,    1.658,   34.657,2, -999.000,4, -999.000,3, -999.000,4, -999.000,4, -999.000,4, -999.000,4, -999.000
           NA,HOT timeseries 1988to2019 27SEP2021,     57,  99,-999.0,      11,-999.0,19950303,1929,  22.7488, -158.0037,  4729, 2800.600,    1.583,   34.665,2, -999.000,4, -999.000,3, -999.000,3, -999.000,3, -999.000,3, -999.000,3, -999.000
           NA,HOT timeseries 1988to2019 27SEP2021,     57,  99,-999.0,      32,-999.0,19950303,1929,  22.7488, -158.0037,  4729, 2996.500,    1.546,   34.669,2,   34.670,2,  124.600,2,  125.000,2,  159.350,2,   36.950,2,    2.630,2, -999.000
           NA,HOT timeseries 1988to2019 27SEP2021,     57,  99,-999.0,       3,-999.0,19950303,1929,  22.7488, -158.0037,  4729, 3197.600,    1.496,   34.675,2,   34.675,2,  133.500,2,  131.700,2,  157.480,2,   36.510,2,    2.580,2, -999.000
           NA,HOT timeseries 1988to2019 27SEP2021,     57,  99,-999.0,      29,-999.0,19950303,1929,  22.7488, -158.0037,  4729, 3402.300,    1.462,   34.680,2,   34.680,2,  137.300,2,  138.100,2,  155.480,2,   36.280,2,    2.570,2, -999.000
           NA,HOT timeseries 1988to2019 27SEP2021,     57,  99,-999.0,      28,-999.0,19950303,1929,  22.7488, -158.0037,  4729, 3596.700,    1.444,   34.683,2,   34.683,2,  143.400,2,  143.400,2,  154.210,2,   35.940,2,    2.540,2, -999.000
           NA,HOT timeseries 1988to2019 27SEP2021,     57,  99,-999.0,       7,-999.0,19950303,1929,  22.7488, -158.0037,  4729, 3801.200,    1.442,   34.685,2,   34.685,2,  147.800,2,  147.900,2,  152.490,2,   35.740,2,    2.470,2, -999.000
           NA,HOT timeseries 1988to2019 27SEP2021,     57,  99,-999.0,      23,-999.0,19950303,1929,  22.7488, -158.0037,  4729, 4002.900,    1.446,   34.687,2,   34.687,2,  151.400,2,  148.200,2,  151.280,2,   35.580,2,    2.500,2, -999.000
           NA,HOT timeseries 1988to2019 27SEP2021,     57,  99,-999.0,      36,-999.0,19950303,1929,  22.7488, -158.0037,  4729, 4199.500,    1.459,   34.687,2,   34.686,2,  150.200,2,  150.100,2,  150.630,2,   35.380,2,    2.500,2, -999.000
           NA,HOT timeseries 1988to2019 27SEP2021,     57,  99,-999.0,      35,-999.0,19950303,1929,  22.7488, -158.0037,  4729, 4402.600,    1.474,   34.688,2,   34.687,2,  150.600,2,  150.800,2,  149.730,2,   35.410,2,    2.510,2, -999.000
           NA,HOT timeseries 1988to2019 27SEP2021,     57,  99,-999.0,      34,-999.0,19950303,1929,  22.7488, -158.0037,  4729, 4600.200,    1.494,   34.688,2,   34.688,2,  151.100,2,  151.500,2,  149.560,2,   35.230,2,    2.490,2, -999.000
           NA,HOT timeseries 1988to2019 27SEP2021,     57,  99,-999.0,      33,-999.0,19950303,1929,  22.7488, -158.0037,  4729, 4809.300,    1.514,   34.689,2,   34.689,2,  150.200,2,  152.500,2,  149.580,2,   35.300,2,    2.480,2, -999.000