BOTTLE,20214727JOAExport
EXPOCODE,SECT_ID,STNNBR,CASTNO,SAMPNO,BTLNBR,BTLNBR_FLAG_W,DATE,TIME,LATITUDE,LONGITUDE,DEPTH,CTDPRS,CTDTMP,CTDSAL,CTDSAL_FLAG_W,SALNTY,SALNTY_FLAG_W,CTDOXY,CTDOXY_FLAG_W,OXYGEN,OXYGEN_FLAG_W,SILCAT,SILCAT_FLAG_W,NINI,NINI_FLAG_W,PHSPHT,PHSPHT_FLAG_W,REVP
,,,,,,,,,,,,DB,IPTS-68,PSS-78,,PSS-78,,UMOL/KG,,UMOL/KG,,UMOL/KG,,UMOL/KG,,UMOL/KG,,DBAR
           NA,HOT timeseries 1988to2019 27SEP2021,     13,  99,-999.0,      21,-999.0,19900216,1347,  22.8417, -157.9817,  4699,   49.700,   23.505,   34.995,2,   34.984,2, -999.000,5,  211.100,2,    0.350,2,    0.000,2,    0.100,2, -999.000
           NA,HOT timeseries 1988to2019 27SEP2021,     13,  99,-999.0,      20,-999.0,19900216,1347,  22.8417, -157.9817,  4699,   77.600,   22.933,   35.113,2,   35.116,2, -999.000,5,  206.700,2,    0.350,2,    0.210,2,    0.130,2, -999.000
           NA,HOT timeseries 1988to2019 27SEP2021,     13,  99,-999.0,      19,-999.0,19900216,1347,  22.8417, -157.9817,  4699,  102.000,   21.878,   35.240,2,   35.241,2, -999.000,5,  204.500,2,    0.550,2,    0.270,2,    0.110,2, -999.000
           NA,HOT timeseries 1988to2019 27SEP2021,     13,  99,-999.0,      18,-999.0,19900216,1347,  22.8417, -157.9817,  4699,  133.500,   20.617,   35.205,2,   35.207,2, -999.000,5,  194.800,2,    0.950,2,    1.510,2,    0.200,2, -999.000
           NA,HOT timeseries 1988to2019 27SEP2021,     13,  99,-999.0,      17,-999.0,19900216,1347,  22.8417, -157.9817,  4699,  172.900,   18.676,   35.013,2,   35.014,2, -999.000,5,  193.800,2,    1.950,2,    2.790,2,    0.290,2, -999.000
           NA,HOT timeseries 1988to2019 27SEP2021,     13,  99,-999.0,      16,-999.0,19900216,1347,  22.8417, -157.9817,  4699,  233.300,   15.200,   34.606,2,   34.611,2, -999.000,5,  203.100,2,    4.960,2,    5.700,2,    0.490,2, -999.000
           NA,HOT timeseries 1988to2019 27SEP2021,     13,  99,-999.0,      15,-999.0,19900216,1347,  22.8417, -157.9817,  4699,  273.300,   13.766,   34.428,2,   34.424,2, -999.000,5,  201.900,2,    6.970,2,    7.910,2,    0.640,2, -999.000
           NA,HOT timeseries 1988to2019 27SEP2021,     13,  99,-999.0,      14,-999.0,19900216,1347,  22.8417, -157.9817,  4699,  304.500,   12.021,   34.264,2,   34.263,2, -999.000,5,  205.800,2,    9.990,2,   10.840,2,    0.840,2, -999.000
           NA,HOT timeseries 1988to2019 27SEP2021,     13,  99,-999.0,      13,-999.0,19900216,1347,  22.8417, -157.9817,  4699,  355.900,   10.423,   34.184,2,   34.185,2, -999.000,5,  205.800,2,   16.200,2,   14.220,2,    1.070,2, -999.000
           NA,HOT timeseries 1988to2019 27SEP2021,     13,  99,-999.0,      12,-999.0,19900216,1347,  22.8417, -157.9817,  4699,  407.000,    9.083,   34.096,2,   34.098,2, -999.000,5,  184.300,2,   24.830,2,   19.030,2,    1.410,2, -999.000
           NA,HOT timeseries 1988to2019 27SEP2021,     13,  99,-999.0,      11,-999.0,19900216,1347,  22.8417, -157.9817,  4699,  446.900,    8.216,   34.065,2,   34.065,2, -999.000,5,  165.500,2,   32.260,2,   22.870,2,    1.650,2, -999.000
           NA,HOT timeseries 1988to2019 27SEP2021,     13,  99,-999.0,      10,-999.0,19900216,1347,  22.8417, -157.9817,  4699,  507.500,    7.111,   34.044,2,   34.043,2, -999.000,5,  125.600,2,   46.310,2,   28.440,2,    2.090,2, -999.000
           NA,HOT timeseries 1988to2019 27SEP2021,     13,  99,-999.0,       9,-999.0,19900216,1347,  22.8417, -157.9817,  4699,  556.100,    6.196,   34.055,2,   34.053,2, -999.000,5,   87.700,2,   60.160,2,   33.440,2,    2.460,2, -999.000
           NA,HOT timeseries 1988to2019 27SEP2021,     13,  99,-999.0,       8,-999.0,19900216,1347,  22.8417, -157.9817,  4699,  556.100,    6.196,   34.055,2,   34.052,2, -999.000,5,   88.700,2,   60.360,2,   33.630,2,    2.480,2, -999.000
           NA,HOT timeseries 1988to2019 27SEP2021,     13,  99,-999.0,       7,-999.0,19900216,1347,  22.8417, -157.9817,  4699,  652.700,    5.174,   34.152,2,   34.151,2, -999.000,5,   38.200,2,   84.430,2,   39.550,2,    2.920,2, -999.000
           NA,HOT timeseries 1988to2019 27SEP2021,     13,  99,-999.0,       6,-999.0,19900216,1347,  22.8417, -157.9817,  4699,  703.700,    5.125,   34.248,2,   34.246,2, -999.000,5,   26.900,2,   87.440,2,   40.530,2,    3.020,2, -999.000
           NA,HOT timeseries 1988to2019 27SEP2021,     13,  99,-999.0,       5,-999.0,19900216,1347,  22.8417, -157.9817,  4699,  759.100,    4.898,   34.340,2,   34.340,2, -999.000,5,   26.100,2,   93.450,2,   41.260,2,    3.060,2, -999.000
           NA,HOT timeseries 1988to2019 27SEP2021,     13,  99,-999.0,       3,-999.0,19900216,1347,  22.8417, -157.9817,  4699,  808.500,    4.623,   34.396,2,   34.396,2, -999.000,5,   29.700,2,  100.070,2,   41.720,2,    3.040,2, -999.000
           NA,HOT timeseries 1988to2019 27SEP2021,     13,  99,-999.0,       2,-999.0,19900216,1347,  22.8417, -157.9817,  4699,  808.500,    4.623,   34.396,2,   34.397,2, -999.000,5,   31.600,2,   99.460,2,   41.630,2,    3.060,2, -999.000
           NA,HOT timeseries 1988to2019 27SEP2021,     13,  99,-999.0,      22,-999.0,19900216,1347,  22.8417, -157.9817,  4699,  999.500,    4.156,   34.486,2,   34.485,2,   41.000,2,   40.500,2,  106.780,2,   41.980,2,    3.020,2, -999.000
           NA,HOT timeseries 1988to2019 27SEP2021,     13,  99,-999.0,       1,-999.0,19900216,1347,  22.8417, -157.9817,  4699, 1014.600,    4.067,   34.493,2,   34.493,2, -999.000,5,   42.900,2,  109.490,2,   42.010,2,    3.060,2, -999.000
           NA,HOT timeseries 1988to2019 27SEP2021,     13,  99,-999.0,      21,-999.0,19900216,1347,  22.8417, -157.9817,  4699, 1103.500,    3.868,   34.510,2,   34.509,2,   46.700,2,   45.500,2,  113.100,2,   41.980,2,    3.030,2, -999.000
           NA,HOT timeseries 1988to2019 27SEP2021,     13,  99,-999.0,      20,-999.0,19900216,1347,  22.8417, -157.9817,  4699, 1250.400,    3.456,   34.535,2,   34.535,2,   55.600,2,   55.500,2,  121.520,2,   41.610,2,    2.990,2, -999.000
           NA,HOT timeseries 1988to2019 27SEP2021,     13,  99,-999.0,      19,-999.0,19900216,1347,  22.8417, -157.9817,  4699, 1399.100,    3.110,   34.558,2,   34.556,2,   61.700,2,   61.100,2,  128.550,2,   41.350,2,    2.960,2, -999.000
           NA,HOT timeseries 1988to2019 27SEP2021,     13,  99,-999.0,      18,-999.0,19900216,1347,  22.8417, -157.9817,  4699, 1551.500,    2.831,   34.574,2,   34.575,2,   66.400,2,   67.500,2,  135.160,2,   41.100,2,    2.920,2, -999.000
           NA,HOT timeseries 1988to2019 27SEP2021,     13,  99,-999.0,      17,-999.0,19900216,1347,  22.8417, -157.9817,  4699, 1701.700,    2.576,   34.590,2,   34.591,2,   73.500,2,   74.400,2,  140.180,2,   40.850,2,    2.880,2, -999.000
           NA,HOT timeseries 1988to2019 27SEP2021,     13,  99,-999.0,      16,-999.0,19900216,1347,  22.8417, -157.9817,  4699, 1850.500,    2.353,   34.605,2,   34.606,2,   81.100,2,   81.100,2,  142.180,2,   40.470,2,    2.850,2, -999.000
           NA,HOT timeseries 1988to2019 27SEP2021,     13,  99,-999.0,      15,-999.0,19900216,1347,  22.8417, -157.9817,  4699, 1999.900,    2.157,   34.616,2,   34.617,2,   87.000,2,   86.100,2,  150.200,2,   40.090,2,    2.830,2, -999.000
           NA,HOT timeseries 1988to2019 27SEP2021,     13,  99,-999.0,      14,-999.0,19900216,1347,  22.8417, -157.9817,  4699, 2199.400,    1.972,   34.630,2,   34.630,2,   91.600,2,   94.300,2,  153.610,2,   39.580,2,    2.760,2, -999.000
           NA,HOT timeseries 1988to2019 27SEP2021,     13,  99,-999.0,      13,-999.0,19900216,1347,  22.8417, -157.9817,  4699, 2397.100,    1.827,   34.643,2,   34.642,2,  100.900,2,  101.800,2,  155.220,2,   39.210,2,    2.730,2, -999.000
           NA,HOT timeseries 1988to2019 27SEP2021,     13,  99,-999.0,      12,-999.0,19900216,1347,  22.8417, -157.9817,  4699, 2799.600,    1.633,   34.661,2,   34.662,2,  116.700,2,  115.600,2,  157.620,2,   38.320,2,    2.680,2, -999.000
           NA,HOT timeseries 1988to2019 27SEP2021,     13,  99,-999.0,      10,-999.0,19900216,1347,  22.8417, -157.9817,  4699, 3400.200,    1.496,   34.678,2,   34.675,2, -999.000,5,  129.500,2,  157.620,2,   37.320,2,    2.600,2, -999.000
           NA,HOT timeseries 1988to2019 27SEP2021,     13,  99,-999.0,       9,-999.0,19900216,1347,  22.8417, -157.9817,  4699, 3600.800,    1.474,   34.681,2,   34.681,2, -999.000,5,  135.300,2,  155.610,2,   37.190,2,    2.570,2, -999.000
           NA,HOT timeseries 1988to2019 27SEP2021,     13,  99,-999.0,       8,-999.0,19900216,1347,  22.8417, -157.9817,  4699, 3800.500,    1.463,   34.684,2,   34.685,2, -999.000,5,  140.700,2,  151.600,2,   36.820,2,    2.530,2, -999.000
           NA,HOT timeseries 1988to2019 27SEP2021,     13,  99,-999.0,       7,-999.0,19900216,1347,  22.8417, -157.9817,  4699, 4002.200,    1.461,   34.686,2,   34.687,2, -999.000,5,  144.900,2,  152.600,2,   36.500,2,    2.530,2, -999.000
           NA,HOT timeseries 1988to2019 27SEP2021,     13,  99,-999.0,       6,-999.0,19900216,1347,  22.8417, -157.9817,  4699, 4203.400,    1.467,   34.688,2, -999.000,3, -999.000,5,  148.600,2,  150.590,2,   36.440,2,    2.510,2, -999.000
           NA,HOT timeseries 1988to2019 27SEP2021,     13,  99,-999.0,       5,-999.0,19900216,1347,  22.8417, -157.9817,  4699, 4203.400,    1.467,   34.688,2,   34.688,2, -999.000,5,  148.500,2,  150.190,2,   36.310,2,    2.490,2, -999.000
           NA,HOT timeseries 1988to2019 27SEP2021,     13,  99,-999.0,       3,-999.0,19900216,1347,  22.8417, -157.9817,  4699, 4415.100,    1.480,   34.689,2,   34.689,2, -999.000,5,  152.800,2,  148.590,2,   35.930,2,    2.470,2, -999.000
           NA,HOT timeseries 1988to2019 27SEP2021,     13,  99,-999.0,       2,-999.0,19900216,1347,  22.8417, -157.9817,  4699, 4515.000,    1.489,   34.689,2,   34.688,2, -999.000,5,  153.200,2,  146.190,2,   35.930,2,    2.480,2, -999.000