BOTTLE,20214727JOAExport
EXPOCODE,SECT_ID,STNNBR,CASTNO,SAMPNO,BTLNBR,BTLNBR_FLAG_W,DATE,TIME,LATITUDE,LONGITUDE,DEPTH,CTDPRS,CTDTMP,CTDSAL,CTDSAL_FLAG_W,SALNTY,SALNTY_FLAG_W,CTDOXY,CTDOXY_FLAG_W,OXYGEN,OXYGEN_FLAG_W,SILCAT,SILCAT_FLAG_W,NINI,NINI_FLAG_W,PHSPHT,PHSPHT_FLAG_W,REVP
,,,,,,,,,,,,DB,IPTS-68,PSS-78,,PSS-78,,UMOL/KG,,UMOL/KG,,UMOL/KG,,UMOL/KG,,UMOL/KG,,DBAR
           NA,HOT timeseries 1988to2019 27SEP2021,    189,  99,-999.0,    8024,-999.0,20070707,1708,  22.7497, -158.0002,  4744,    6.400,   25.475,   35.059,2,   35.060,2,  208.300,2,  208.200,2,    1.170,2,    0.060,2,    0.050,2, -999.000
           NA,HOT timeseries 1988to2019 27SEP2021,    189,  99,-999.0,    8024,-999.0,20070707,1708,  22.7497, -158.0002,  4744,    8.200,   25.471,   35.060,2,   35.059,2,  208.300,2,  208.500,2,    1.720,2,    0.080,2,    0.020,2, -999.000
           NA,HOT timeseries 1988to2019 27SEP2021,    189,  99,-999.0,    8023,-999.0,20070707,1708,  22.7497, -158.0002,  4744,   40.300,   25.453,   35.057,2,   35.056,2,  208.500,2,  207.900,2,    1.350,2,    0.100,2,    0.010,2, -999.000
           NA,HOT timeseries 1988to2019 27SEP2021,    189,  99,-999.0,    8022,-999.0,20070707,1708,  22.7497, -158.0002,  4744,   70.200,   24.175,   35.102,2,   35.111,2,  221.600,2,  220.400,2,    1.360,2,    0.110,2,    0.010,2, -999.000
           NA,HOT timeseries 1988to2019 27SEP2021,    189,  99,-999.0,    8021,-999.0,20070707,1708,  22.7497, -158.0002,  4744,   90.000,   23.218,   35.187,2,   35.189,2,  216.600,2,  217.400,2,    1.420,2,    0.090,2,    0.010,2, -999.000
           NA,HOT timeseries 1988to2019 27SEP2021,    189,  99,-999.0,    8020,-999.0,20070707,1708,  22.7497, -158.0002,  4744,  136.200,   21.360,   35.155,2,   35.154,2,  202.300,2,  201.400,2, -999.000,3,    0.810,2,    0.060,2, -999.000
           NA,HOT timeseries 1988to2019 27SEP2021,    189,  99,-999.0,    8019,-999.0,20070707,1708,  22.7497, -158.0002,  4744,  179.900,   19.243,   34.989,2,   34.982,2,  204.600,2,  205.800,2,    2.180,2,    1.600,2, -999.000,3, -999.000
           NA,HOT timeseries 1988to2019 27SEP2021,    189,  99,-999.0,    8018,-999.0,20070707,1708,  22.7497, -158.0002,  4744,  244.800,   15.806,   34.585,2,   34.575,2,  194.800,2,  198.200,2,    4.550,2,    5.780,2,    0.410,2, -999.000
           NA,HOT timeseries 1988to2019 27SEP2021,    189,  99,-999.0,    8017,-999.0,20070707,1708,  22.7497, -158.0002,  4744,  289.700,   13.542,   34.353,2,   34.353,2,  199.800,2,  200.600,2,    9.460,2,    8.950,2,    0.600,2, -999.000
           NA,HOT timeseries 1988to2019 27SEP2021,    189,  99,-999.0,    8016,-999.0,20070707,1708,  22.7497, -158.0002,  4744,  329.500,   11.994,   34.238,2,   34.240,2,  203.200,2,  202.900,2,   10.780,2,   11.670,2,    0.790,2, -999.000
           NA,HOT timeseries 1988to2019 27SEP2021,    189,  99,-999.0,    8015,-999.0,20070707,1708,  22.7497, -158.0002,  4744,  374.600,   10.813,   34.178,2,   34.179,2,  193.900,2,  191.700,2,   15.770,2,   15.260,2,    1.050,2, -999.000
           NA,HOT timeseries 1988to2019 27SEP2021,    189,  99,-999.0,    8014,-999.0,20070707,1708,  22.7497, -158.0002,  4744,  430.300,    9.360,   34.131,2,   34.131,2,  162.700,2,  162.200,2,   27.020,2,   20.830,2,    1.470,2, -999.000
           NA,HOT timeseries 1988to2019 27SEP2021,    189,  99,-999.0,    8025,-999.0,20070707,1708,  22.7497, -158.0002,  4744,  464.500,    8.407,   34.098,2,   34.098,2,  142.200,2,  143.100,2,   33.850,2,   24.720,2,    1.700,2, -999.000
           NA,HOT timeseries 1988to2019 27SEP2021,    189,  99,-999.0,    8012,-999.0,20070707,1708,  22.7497, -158.0002,  4744,  496.600,    7.762,   34.086,2,   34.088,2,  123.900,2,  124.400,2,   40.510,2,   27.500,2,    1.970,2, -999.000
           NA,HOT timeseries 1988to2019 27SEP2021,    189,  99,-999.0,    8011,-999.0,20070707,1708,  22.7497, -158.0002,  4744,  529.700,    7.094,   34.086,2,   34.089,2,  102.900,2,  102.500,2,   49.140,2,   30.710,2,    2.240,2, -999.000
           NA,HOT timeseries 1988to2019 27SEP2021,    189,  99,-999.0,    8010,-999.0,20070707,1708,  22.7497, -158.0002,  4744,  572.200,    6.581,   34.142,2,   34.143,2,   75.400,2,   75.200,2,   60.530,2,   33.950,2,    2.440,2, -999.000
           NA,HOT timeseries 1988to2019 27SEP2021,    189,  99,-999.0,    8009,-999.0,20070707,1708,  22.7497, -158.0002,  4744,  604.800,    6.204,   34.163,2,   34.161,2,   63.500,2,   62.900,2,   68.210,2,   35.530,2,    2.570,2, -999.000
           NA,HOT timeseries 1988to2019 27SEP2021,    189,  99,-999.0,    8008,-999.0,20070707,1708,  22.7497, -158.0002,  4744,  639.500,    5.899,   34.182,2,   34.182,2,   55.500,2,   54.300,2,   71.150,2,   37.060,2,    2.660,2, -999.000
           NA,HOT timeseries 1988to2019 27SEP2021,    189,  99,-999.0,    8026,-999.0,20070707,1708,  22.7497, -158.0002,  4744,  705.100,    5.410,   34.268,2,   34.268,2,   38.400,2,   36.800,2,   81.310,2,   39.530,2,    2.800,2, -999.000
           NA,HOT timeseries 1988to2019 27SEP2021,    189,  99,-999.0,    8006,-999.0,20070707,1708,  22.7497, -158.0002,  4744,  750.400,    5.152,   34.318,2,   34.317,2,   33.400,2,   34.000,2,   86.690,2,   40.370,2,    2.920,2, -999.000
           NA,HOT timeseries 1988to2019 27SEP2021,    189,  99,-999.0,    8005,-999.0,20070707,1708,  22.7497, -158.0002,  4744,  789.500,    4.943,   34.351,2,   34.351,2,   32.000,2,   33.200,2,   91.580,2,   40.870,2,    2.940,2, -999.000
           NA,HOT timeseries 1988to2019 27SEP2021,    189,  99,-999.0,    8004,-999.0,20070707,1708,  22.7497, -158.0002,  4744,  839.500,    4.688,   34.375,2,   34.373,2,   31.300,2,   32.400,2,   96.870,2,   41.520,2,    2.990,2, -999.000
           NA,HOT timeseries 1988to2019 27SEP2021,    189,  99,-999.0,    8003,-999.0,20070707,1708,  22.7497, -158.0002,  4744,  888.400,    4.484,   34.405,2,   34.404,2,   33.200,2,   33.000,2,  101.020,2,   41.810,2,    3.000,2, -999.000
           NA,HOT timeseries 1988to2019 27SEP2021,    189,  99,-999.0,    8002,-999.0,20070707,1708,  22.7497, -158.0002,  4744,  954.100,    4.216,   34.437,2,   34.439,2,   35.500,2,   37.400,2,  107.350,2,   41.960,2,    3.010,2, -999.000
           NA,HOT timeseries 1988to2019 27SEP2021,    189,  99,-999.0,    8001,-999.0,20070707,1708,  22.7497, -158.0002,  4744, 1020.500,    4.067,   34.471,2,   34.472,2,   41.700,2,   41.700,2,  110.000,2,   41.780,2,    2.990,2, -999.000
           NA,HOT timeseries 1988to2019 27SEP2021,    189,  99,-999.0,    8020,-999.0,20070707,1708,  22.7497, -158.0002,  4744, 1200.300,    3.614,   34.524,2,   34.523,2,   51.800,2,   52.300,2, -999.000,4,   41.220,2,    2.970,2, -999.000
           NA,HOT timeseries 1988to2019 27SEP2021,    189,  99,-999.0,    8019,-999.0,20070707,1708,  22.7497, -158.0002,  4744, 1398.700,    3.119,   34.553,2,   34.553,2,   59.700,2,   59.300,2,  128.650,2,   41.210,2,    2.940,2, -999.000
           NA,HOT timeseries 1988to2019 27SEP2021,    189,  99,-999.0,    8018,-999.0,20070707,1708,  22.7497, -158.0002,  4744, 1600.100,    2.721,   34.580,2,   34.581,2,   69.200,2,   69.800,2,  137.060,2,   40.660,2,    2.890,2, -999.000
           NA,HOT timeseries 1988to2019 27SEP2021,    189,  99,-999.0,    8017,-999.0,20070707,1708,  22.7497, -158.0002,  4744, 1799.800,    2.393,   34.602,2,   34.601,2,   78.700,2,   78.500,2,  145.170,2,   40.250,2,    2.850,2, -999.000
           NA,HOT timeseries 1988to2019 27SEP2021,    189,  99,-999.0,    8016,-999.0,20070707,1708,  22.7497, -158.0002,  4744, 1999.900,    2.115,   34.622,2, -999.000,4, -999.000,3,   88.600,2,  152.130,2,   39.590,2,    2.790,2, -999.000
           NA,HOT timeseries 1988to2019 27SEP2021,    189,  99,-999.0,    8015,-999.0,20070707,1708,  22.7497, -158.0002,  4744, 2198.900,    1.955,   34.635,2,   34.636,2,   93.300,2,   96.100,2,  155.100,2, -999.000,4, -999.000,4, -999.000
           NA,HOT timeseries 1988to2019 27SEP2021,    189,  99,-999.0,    8014,-999.0,20070707,1708,  22.7497, -158.0002,  4744, 2400.000,    1.816,   34.647,2,   34.647,2,  103.000,2,  103.700,2,  157.020,2,   38.740,2,    2.710,2, -999.000
           NA,HOT timeseries 1988to2019 27SEP2021,    189,  99,-999.0,    8025,-999.0,20070707,1708,  22.7497, -158.0002,  4744, 2600.100,    1.678,   34.658,2,   34.658,2,  110.300,2,  110.600,2, -999.000,3,   38.330,2,    2.670,2, -999.000
           NA,HOT timeseries 1988to2019 27SEP2021,    189,  99,-999.0,    8012,-999.0,20070707,1708,  22.7497, -158.0002,  4744, 2800.000,    1.602,   34.667,2,   34.668,2,  120.200,2,  120.300,2,  158.400,2,   37.530,2,    2.620,2, -999.000
           NA,HOT timeseries 1988to2019 27SEP2021,    189,  99,-999.0,    8011,-999.0,20070707,1708,  22.7497, -158.0002,  4744, 3000.800,    1.551,   34.673,2,   34.672,2,  125.900,2,  125.800,2,  157.840,2,   37.120,2,    2.580,2, -999.000
           NA,HOT timeseries 1988to2019 27SEP2021,    189,  99,-999.0,    8010,-999.0,20070707,1708,  22.7497, -158.0002,  4744, 3198.600,    1.504,   34.678,2,   34.679,2,  131.600,2,  132.200,2,  157.380,2,   36.780,2,    2.550,2, -999.000
           NA,HOT timeseries 1988to2019 27SEP2021,    189,  99,-999.0,    8009,-999.0,20070707,1708,  22.7497, -158.0002,  4744, 3399.400,    1.482,   34.681,2,   34.681,2,  136.000,2,  136.400,2,  156.530,2,   36.610,2,    2.540,2, -999.000
           NA,HOT timeseries 1988to2019 27SEP2021,    189,  99,-999.0,    8008,-999.0,20070707,1708,  22.7497, -158.0002,  4744, 3600.100,    1.456,   34.685,2,   34.685,2,  141.800,2,  141.600,2,  154.480,2,   36.150,2,    2.520,2, -999.000
           NA,HOT timeseries 1988to2019 27SEP2021,    189,  99,-999.0,    8026,-999.0,20070707,1708,  22.7497, -158.0002,  4744, 3799.900,    1.451,   34.688,2,   34.687,2,  145.700,2,  145.000,2,  152.650,2,   35.860,2,    2.490,2, -999.000
           NA,HOT timeseries 1988to2019 27SEP2021,    189,  99,-999.0,    8006,-999.0,20070707,1708,  22.7497, -158.0002,  4744, 4000.300,    1.453,   34.689,2,   34.689,2,  148.200,2,  148.300,2,  151.200,2,   35.770,2,    2.480,2, -999.000
           NA,HOT timeseries 1988to2019 27SEP2021,    189,  99,-999.0,    8005,-999.0,20070707,1708,  22.7497, -158.0002,  4744, 4200.900,    1.464,   34.691,2,   34.690,2,  150.100,2,  149.800,2, -999.000,3,   35.680,2,    2.470,2, -999.000
           NA,HOT timeseries 1988to2019 27SEP2021,    189,  99,-999.0,    8004,-999.0,20070707,1708,  22.7497, -158.0002,  4744, 4400.100,    1.478,   34.691,2,   34.690,2,  151.400,2,  150.500,2,  150.530,2,   35.620,2,    2.470,2, -999.000
           NA,HOT timeseries 1988to2019 27SEP2021,    189,  99,-999.0,    8003,-999.0,20070707,1708,  22.7497, -158.0002,  4744, 4499.900,    1.486,   34.692,2,   34.692,2,  151.900,2,  152.000,2, -999.000,3,   35.640,2,    2.470,2, -999.000
           NA,HOT timeseries 1988to2019 27SEP2021,    189,  99,-999.0,    8002,-999.0,20070707,1708,  22.7497, -158.0002,  4744, 4599.100,    1.490,   34.692,2,   34.692,2,  152.800,2,  153.300,2,  148.970,2, -999.000,4, -999.000,4, -999.000
           NA,HOT timeseries 1988to2019 27SEP2021,    189,  99,-999.0,    8001,-999.0,20070707,1708,  22.7497, -158.0002,  4744, 4805.000,    1.506,   34.693,2,   34.695,2,  154.200,2,  154.300,2,  148.300,2,   35.630,2, -999.000,4, -999.000