BOTTLE,20214727JOAExport
EXPOCODE,SECT_ID,STNNBR,CASTNO,SAMPNO,BTLNBR,BTLNBR_FLAG_W,DATE,TIME,LATITUDE,LONGITUDE,DEPTH,CTDPRS,CTDTMP,CTDSAL,CTDSAL_FLAG_W,SALNTY,SALNTY_FLAG_W,CTDOXY,CTDOXY_FLAG_W,OXYGEN,OXYGEN_FLAG_W,SILCAT,SILCAT_FLAG_W,NINI,NINI_FLAG_W,PHSPHT,PHSPHT_FLAG_W,REVP
,,,,,,,,,,,,DB,IPTS-68,PSS-78,,PSS-78,,UMOL/KG,,UMOL/KG,,UMOL/KG,,UMOL/KG,,UMOL/KG,,DBAR
           NA,HOT timeseries 1988to2019 27SEP2021,    185,  99,-999.0,    8024,-999.0,20070206,1456,  22.7500, -157.9987,  4722,    3.300,   23.739,   35.220,2,   35.219,2,  208.900,2,  209.800,2,    1.070,2,    0.060,2,    0.010,2, -999.000
           NA,HOT timeseries 1988to2019 27SEP2021,    185,  99,-999.0,    8024,-999.0,20070206,1456,  22.7500, -157.9987,  4722,    4.500,   23.862,   35.214,2,   35.223,2,  210.000,2,  209.500,2, -999.000,4,    0.010,2,    0.020,2, -999.000
           NA,HOT timeseries 1988to2019 27SEP2021,    185,  99,-999.0,    8023,-999.0,20070206,1456,  22.7500, -157.9987,  4722,   62.400,   23.798,   35.211,2,   35.209,2,  209.500,2,  209.300,2,    1.010,2,    0.010,2,    0.020,2, -999.000
           NA,HOT timeseries 1988to2019 27SEP2021,    185,  99,-999.0,    8022,-999.0,20070206,1456,  22.7500, -157.9987,  4722,  120.700,   22.949,   35.204,2,   35.202,2,  202.700,2,  203.300,2,    2.000,2, -999.000,3,    0.060,2, -999.000
           NA,HOT timeseries 1988to2019 27SEP2021,    185,  99,-999.0,    8021,-999.0,20070206,1456,  22.7500, -157.9987,  4722,  135.600,   21.073,   35.161,2,   35.164,2,  191.800,2,  195.000,2,    2.270,2,    1.200,2,    0.150,2, -999.000
           NA,HOT timeseries 1988to2019 27SEP2021,    185,  99,-999.0,    8020,-999.0,20070206,1456,  22.7500, -157.9987,  4722,  178.400,   18.669,   34.909,2,   34.919,2,  192.700,2,  193.000,2,    2.840,2,    3.060,2,    0.260,2, -999.000
           NA,HOT timeseries 1988to2019 27SEP2021,    185,  99,-999.0,    8019,-999.0,20070206,1456,  22.7500, -157.9987,  4722,  224.300,   15.556,   34.578,2,   34.582,2,  200.100,2,  200.000,2,    4.860,2,    6.260,2,    0.460,2, -999.000
           NA,HOT timeseries 1988to2019 27SEP2021,    185,  99,-999.0,    8018,-999.0,20070206,1456,  22.7500, -157.9987,  4722,  267.200,   13.699,   34.403,2,   34.404,2,  204.600,2,  204.300,2,    7.420,2,    8.780,2,    0.630,2, -999.000
           NA,HOT timeseries 1988to2019 27SEP2021,    185,  99,-999.0,    8017,-999.0,20070206,1456,  22.7500, -157.9987,  4722,  308.300,   12.093,   34.273,2,   34.273,2,  205.800,2,  206.100,2,   10.940,2,   11.670,2,    0.810,2, -999.000
           NA,HOT timeseries 1988to2019 27SEP2021,    185,  99,-999.0,    8016,-999.0,20070206,1456,  22.7500, -157.9987,  4722,  364.900,   10.769,   34.184,2,   34.183,2,  201.800,2,  202.300,2,   15.720,2,   14.610,2,    1.010,2, -999.000
           NA,HOT timeseries 1988to2019 27SEP2021,    185,  99,-999.0,    8015,-999.0,20070206,1456,  22.7500, -157.9987,  4722,  411.400,    9.187,   34.116,2,   34.114,2,  177.500,2,  177.500,2,   26.380,2,   20.160,2,    1.400,2, -999.000
           NA,HOT timeseries 1988to2019 27SEP2021,    185,  99,-999.0,    8014,-999.0,20070206,1456,  22.7500, -157.9987,  4722,  454.900,    8.453,   34.095,2,   34.093,2,  148.500,2,  148.800,2,   33.190,2,   24.120,2,    1.710,2, -999.000
           NA,HOT timeseries 1988to2019 27SEP2021,    185,  99,-999.0,    8025,-999.0,20070206,1456,  22.7500, -157.9987,  4722,  496.400,    7.356,   34.050,2,   34.050,2,  132.100,2,  129.400,2,   46.650,2,   28.140,2,    2.000,2, -999.000
           NA,HOT timeseries 1988to2019 27SEP2021,    185,  99,-999.0,    8012,-999.0,20070206,1456,  22.7500, -157.9987,  4722,  521.300,    6.763,   34.050,2,   34.051,2,  108.400,2,  111.900,2,   52.680,2,   31.140,2,    2.230,2, -999.000
           NA,HOT timeseries 1988to2019 27SEP2021,    185,  99,-999.0,    8011,-999.0,20070206,1456,  22.7500, -157.9987,  4722,  582.100,    6.367,   34.164,2,   34.162,2,   64.600,2,   59.300,2,   65.310,2,   34.460,2,    2.590,2, -999.000
           NA,HOT timeseries 1988to2019 27SEP2021,    185,  99,-999.0,    8009,-999.0,20070206,1456,  22.7500, -157.9987,  4722,  671.300,    5.293,   34.178,2,   34.177,2,   41.100,2,   40.300,2,   82.350,2,   38.220,2,    2.850,2, -999.000
           NA,HOT timeseries 1988to2019 27SEP2021,    185,  99,-999.0,    8008,-999.0,20070206,1456,  22.7500, -157.9987,  4722,  705.800,    5.140,   34.223,2,   34.223,2,   35.100,2,   34.100,2,   86.470,2,   39.140,2,    2.900,2, -999.000
           NA,HOT timeseries 1988to2019 27SEP2021,    185,  99,-999.0,    8026,-999.0,20070206,1456,  22.7500, -157.9987,  4722,  741.100,    5.095,   34.293,2,   34.293,2,   31.700,2,   30.700,2,   89.310,2,   39.570,2,    2.940,2, -999.000
           NA,HOT timeseries 1988to2019 27SEP2021,    185,  99,-999.0,    8005,-999.0,20070206,1456,  22.7500, -157.9987,  4722,  810.200,    4.664,   34.353,2,   34.355,2,   30.800,2,   30.000,2, -999.000,3,   40.530,2,    2.990,2, -999.000
           NA,HOT timeseries 1988to2019 27SEP2021,    185,  99,-999.0,    8004,-999.0,20070206,1456,  22.7500, -157.9987,  4722,  847.600,    4.373,   34.379,2,   34.377,2,   29.800,2,   31.600,2,  103.340,2,   41.130,2,    3.020,2, -999.000
           NA,HOT timeseries 1988to2019 27SEP2021,    185,  99,-999.0,    8003,-999.0,20070206,1456,  22.7500, -157.9987,  4722,  910.800,    4.176,   34.424,2,   34.428,2,   34.400,2,   34.600,2,  109.480,2,   41.270,2,    3.010,2, -999.000
           NA,HOT timeseries 1988to2019 27SEP2021,    185,  99,-999.0,    8002,-999.0,20070206,1456,  22.7500, -157.9987,  4722,  974.400,    3.995,   34.464,2,   34.466,2,   39.800,2,   41.000,2,  113.270,2,   41.350,2,    3.020,2, -999.000
           NA,HOT timeseries 1988to2019 27SEP2021,    185,  99,-999.0,    8001,-999.0,20070206,1456,  22.7500, -157.9987,  4722, 1022.300,    3.875,   34.481,2,   34.483,2,   42.900,2,   43.700,2,  114.900,2,   41.430,2,    3.010,2, -999.000
           NA,HOT timeseries 1988to2019 27SEP2021,    185,  99,-999.0,    8020,-999.0,20070206,1456,  22.7500, -157.9987,  4722, 1199.600,    3.390,   34.530,2,   34.529,2,   54.600,2,   56.700,2,  122.020,2,   40.940,2,    2.970,2, -999.000
           NA,HOT timeseries 1988to2019 27SEP2021,    185,  99,-999.0,    8019,-999.0,20070206,1456,  22.7500, -157.9987,  4722, 1400.000,    3.033,   34.560,2,   34.559,2,   61.800,2,   61.700,2,  130.460,2,   40.820,2,    2.940,2, -999.000
           NA,HOT timeseries 1988to2019 27SEP2021,    185,  99,-999.0,    8018,-999.0,20070206,1456,  22.7500, -157.9987,  4722, 1598.500,    2.684,   34.585,2,   34.584,2,   70.500,2,   70.600,2,  137.800,2,   40.470,2,    2.910,2, -999.000
           NA,HOT timeseries 1988to2019 27SEP2021,    185,  99,-999.0,    8017,-999.0,20070206,1456,  22.7500, -157.9987,  4722, 1799.600,    2.444,   34.602,2,   34.601,2,   77.700,2,   77.500,2,  143.340,2,   40.040,2,    2.870,2, -999.000
           NA,HOT timeseries 1988to2019 27SEP2021,    185,  99,-999.0,    8016,-999.0,20070206,1456,  22.7500, -157.9987,  4722, 2000.000,    2.189,   34.619,2,   34.618,2,   86.900,2,   87.200,2,  148.770,2,   39.460,2,    2.810,2, -999.000
           NA,HOT timeseries 1988to2019 27SEP2021,    185,  99,-999.0,    8015,-999.0,20070206,1456,  22.7500, -157.9987,  4722, 2200.500,    1.966,   34.634,2,   34.633,2,   94.700,2,   94.500,2,  153.600,2,   39.060,2,    2.770,2, -999.000
           NA,HOT timeseries 1988to2019 27SEP2021,    185,  99,-999.0,    8014,-999.0,20070206,1456,  22.7500, -157.9987,  4722, 2399.100,    1.794,   34.647,2,   34.646,2,  102.200,2,  102.100,2,  157.660,2,   38.630,2,    2.730,2, -999.000
           NA,HOT timeseries 1988to2019 27SEP2021,    185,  99,-999.0,    8025,-999.0,20070206,1456,  22.7500, -157.9987,  4722, 2600.500,    1.693,   34.656,2,   34.655,2,  108.100,2,  108.500,2,  160.700,2,   38.300,2,    2.700,2, -999.000
           NA,HOT timeseries 1988to2019 27SEP2021,    185,  99,-999.0,    8012,-999.0,20070206,1456,  22.7500, -157.9987,  4722, 2799.800,    1.599,   34.664,2,   34.664,2,  117.000,2,  117.000,2,  160.620,2,   38.000,2,    2.670,2, -999.000
           NA,HOT timeseries 1988to2019 27SEP2021,    185,  99,-999.0,    8011,-999.0,20070206,1456,  22.7500, -157.9987,  4722, 3001.200,    1.545,   34.671,2,   34.670,2,  124.600,2,  124.600,2,  159.800,2,   37.270,2,    2.610,2, -999.000
           NA,HOT timeseries 1988to2019 27SEP2021,    185,  99,-999.0,    8010,-999.0,20070206,1456,  22.7500, -157.9987,  4722, 3199.000,    1.503,   34.678,2,   34.677,2,  131.300,2,  131.700,2,  155.350,2,   36.950,2,    2.570,2, -999.000
           NA,HOT timeseries 1988to2019 27SEP2021,    185,  99,-999.0,    8009,-999.0,20070206,1456,  22.7500, -157.9987,  4722, 3400.900,    1.468,   34.682,2,   34.682,2,  137.800,2,  138.000,2,  155.060,2,   36.710,2,    2.550,2, -999.000
           NA,HOT timeseries 1988to2019 27SEP2021,    185,  99,-999.0,    8008,-999.0,20070206,1456,  22.7500, -157.9987,  4722, 3600.800,    1.450,   34.685,2,   34.685,2,  142.800,2,  142.800,2,  152.150,2,   36.510,2,    2.520,2, -999.000
           NA,HOT timeseries 1988to2019 27SEP2021,    185,  99,-999.0,    8026,-999.0,20070206,1456,  22.7500, -157.9987,  4722, 3799.100,    1.445,   34.688,2,   34.687,2,  146.800,2,  145.900,2,  151.000,2,   36.390,2,    2.500,2, -999.000
           NA,HOT timeseries 1988to2019 27SEP2021,    185,  99,-999.0,    8006,-999.0,20070206,1456,  22.7500, -157.9987,  4722, 3999.800,    1.449,   34.690,2,   34.690,2,  149.500,2,  148.500,2,  149.830,2,   36.280,2,    2.490,2, -999.000
           NA,HOT timeseries 1988to2019 27SEP2021,    185,  99,-999.0,    8005,-999.0,20070206,1456,  22.7500, -157.9987,  4722, 4198.000,    1.461,   34.690,2,   34.690,2,  151.000,2,  150.900,2,  150.940,2,   35.810,2,    2.480,2, -999.000
           NA,HOT timeseries 1988to2019 27SEP2021,    185,  99,-999.0,    8004,-999.0,20070206,1456,  22.7500, -157.9987,  4722, 4399.300,    1.478,   34.691,2,   34.691,2,  151.900,2,  151.800,2,  149.060,2, -999.000,3,    2.470,2, -999.000
           NA,HOT timeseries 1988to2019 27SEP2021,    185,  99,-999.0,    8003,-999.0,20070206,1456,  22.7500, -157.9987,  4722, 4501.300,    1.488,   34.691,2,   34.691,2,  152.100,2,  152.300,2,  148.440,2,   35.900,2,    2.470,2, -999.000
           NA,HOT timeseries 1988to2019 27SEP2021,    185,  99,-999.0,    8002,-999.0,20070206,1456,  22.7500, -157.9987,  4722, 4597.700,    1.499,   34.691,2,   34.691,2,  152.200,2,  151.600,2,  148.230,2,   36.010,2,    2.470,2, -999.000
           NA,HOT timeseries 1988to2019 27SEP2021,    185,  99,-999.0,    8001,-999.0,20070206,1456,  22.7500, -157.9987,  4722, 4805.300,    1.513,   34.692,2,   34.691,2,  153.200,2,  154.700,2,  147.780,2, -999.000,3,    2.470,2, -999.000