BOTTLE,20214727JOAExport
EXPOCODE,SECT_ID,STNNBR,CASTNO,SAMPNO,BTLNBR,BTLNBR_FLAG_W,DATE,TIME,LATITUDE,LONGITUDE,DEPTH,CTDPRS,CTDTMP,CTDSAL,CTDSAL_FLAG_W,SALNTY,SALNTY_FLAG_W,CTDOXY,CTDOXY_FLAG_W,OXYGEN,OXYGEN_FLAG_W,SILCAT,SILCAT_FLAG_W,NINI,NINI_FLAG_W,PHSPHT,PHSPHT_FLAG_W,REVP
,,,,,,,,,,,,DB,IPTS-68,PSS-78,,PSS-78,,UMOL/KG,,UMOL/KG,,UMOL/KG,,UMOL/KG,,UMOL/KG,,DBAR
           NA,HOT timeseries 1988to2019 27SEP2021,      2,  99,-999.0,    8012,-999.0,20160414,2051,  22.7502, -158.0007,  4740, 2800.300,    1.627,   34.660,2,   34.659,2,  115.100,2,  116.300,2,  160.750,2,   38.200,2,    2.680,2, -999.000
           NA,HOT timeseries 1988to2019 27SEP2021,      2,  99,-999.0,    8011,-999.0,20160414,2051,  22.7502, -158.0007,  4740, 3001.200,    1.575,   34.666,2,   34.666,2,  121.800,2,  122.300,2,  160.740,2,   37.820,2,    2.650,2, -999.000
           NA,HOT timeseries 1988to2019 27SEP2021,      2,  99,-999.0,    8010,-999.0,20160414,2051,  22.7502, -158.0007,  4740, 3201.900,    1.534,   34.672,2,   34.671,2,  128.100,2,  128.600,2,  159.650,2,   37.460,2,    2.610,2, -999.000
           NA,HOT timeseries 1988to2019 27SEP2021,      2,  99,-999.0,    8009,-999.0,20160414,2051,  22.7502, -158.0007,  4740, 3400.300,    1.502,   34.676,2,   34.675,2,  134.000,2,  134.000,2,  157.870,2,   37.000,2,    2.590,2, -999.000
           NA,HOT timeseries 1988to2019 27SEP2021,      2,  99,-999.0,    8008,-999.0,20160414,2051,  22.7502, -158.0007,  4740, 3602.000,    1.483,   34.679,2,   34.679,2,  138.900,2,  138.700,2,  156.620,2,   36.890,2,    2.560,2, -999.000
           NA,HOT timeseries 1988to2019 27SEP2021,      2,  99,-999.0,    8060,-999.0,20160414,2051,  22.7502, -158.0007,  4740, 3799.000,    1.468,   34.682,2,   34.682,2,  143.500,2,  143.400,2,  154.430,2,   36.360,2,    2.540,2, -999.000
           NA,HOT timeseries 1988to2019 27SEP2021,      2,  99,-999.0,    8006,-999.0,20160414,2051,  22.7502, -158.0007,  4740, 4001.600,    1.467,   34.684,2,   34.683,2,  146.600,2,  146.900,2,  153.020,2,   36.210,2,    2.520,2, -999.000
           NA,HOT timeseries 1988to2019 27SEP2021,      2,  99,-999.0,    8005,-999.0,20160414,2051,  22.7502, -158.0007,  4740, 4201.500,    1.473,   34.685,2,   34.685,2,  149.400,2,  149.000,2,  152.010,2,   36.050,2,    2.500,2, -999.000
           NA,HOT timeseries 1988to2019 27SEP2021,      2,  99,-999.0,    8059,-999.0,20160414,2051,  22.7502, -158.0007,  4740, 4399.800,    1.486,   34.686,2,   34.686,2,  151.000,2,  150.400,2,  150.830,2,   36.050,2,    2.500,2, -999.000
           NA,HOT timeseries 1988to2019 27SEP2021,      2,  99,-999.0,    8003,-999.0,20160414,2051,  22.7502, -158.0007,  4740, 4500.400,    1.493,   34.687,2,   34.686,2,  151.600,2,  151.400,2,  150.760,2,   35.850,2,    2.500,2, -999.000
           NA,HOT timeseries 1988to2019 27SEP2021,      2,  99,-999.0,    8002,-999.0,20160414,2051,  22.7502, -158.0007,  4740, 4600.800,    1.500,   34.687,2,   34.687,2,  152.300,2,  152.200,2,  149.540,2,   35.890,2,    2.500,2, -999.000
           NA,HOT timeseries 1988to2019 27SEP2021,      2,  99,-999.0,    8001,-999.0,20160414,2051,  22.7502, -158.0007,  4740, 4810.300,    1.518,   34.687,2,   34.688,2,  153.500,2,  153.000,2,  148.900,2,   35.820,2,    2.500,2, -999.000
           NA,HOT timeseries 1988to2019 27SEP2021,      2,  12,-999.0,    8058,-999.0,20160530,0555,  22.7497, -158.0002,  4732,    5.100,   26.379,   34.901,2,   34.901,2,  206.700,2,  206.900,2,    1.430,2,    0.010,2,    0.090,2, -999.000
           NA,HOT timeseries 1988to2019 27SEP2021,      2,  12,-999.0,    8023,-999.0,20160530,0555,  22.7497, -158.0002,  4732,   50.300,   24.896,   34.963,2,   34.963,2,  212.200,2,  213.000,2,    1.350,2,    0.000,2,    0.070,2, -999.000
           NA,HOT timeseries 1988to2019 27SEP2021,      2,  12,-999.0,    8022,-999.0,20160530,0555,  22.7497, -158.0002,  4732,   94.100,   23.902,   35.131,2,   35.137,2,  209.400,2,  210.500,2,    1.370,2,    0.030,2,    0.070,2, -999.000
           NA,HOT timeseries 1988to2019 27SEP2021,      2,  12,-999.0,    8021,-999.0,20160530,0555,  22.7497, -158.0002,  4732,  129.200,   22.707,   35.211,2,   35.213,2,  202.700,2,  203.800,2,    1.480,2,    0.290,2,    0.110,2, -999.000
           NA,HOT timeseries 1988to2019 27SEP2021,      2,  12,-999.0,    8020,-999.0,20160530,0555,  22.7497, -158.0002,  4732,  150.000,   21.624,   35.205,2,   35.204,2,  200.700,2,  199.600,2,    1.840,2,    0.900,2,    0.140,2, -999.000
           NA,HOT timeseries 1988to2019 27SEP2021,      2,  12,-999.0,    8019,-999.0,20160530,0555,  22.7497, -158.0002,  4732,  187.200,   20.388,   35.160,2,   35.159,2,  202.000,2,  202.400,2,    2.230,2,    1.410,2,    0.150,2, -999.000
           NA,HOT timeseries 1988to2019 27SEP2021,      2,  12,-999.0,    8018,-999.0,20160530,0555,  22.7497, -158.0002,  4732,  252.300,   16.631,   34.720,2,   34.705,2,  203.900,2,  205.900,2,    4.510,2,    4.320,2,    0.350,2, -999.000
           NA,HOT timeseries 1988to2019 27SEP2021,      2,  12,-999.0,    8017,-999.0,20160530,0555,  22.7497, -158.0002,  4732,  292.900,   13.957,   34.390,2,   34.401,2,  205.500,2,  206.400,2,    7.520,2,    7.790,2,    0.570,2, -999.000
           NA,HOT timeseries 1988to2019 27SEP2021,      2,  12,-999.0,    8016,-999.0,20160530,0555,  22.7497, -158.0002,  4732,  334.200,   11.869,   34.221,2, -999.000,3, -999.000,3,  204.900,2,   12.860,2,   12.260,2,    0.870,2, -999.000
           NA,HOT timeseries 1988to2019 27SEP2021,      2,  12,-999.0,    8015,-999.0,20160530,0555,  22.7497, -158.0002,  4732,  382.700,   10.284,   34.147,2,   34.147,2,  196.600,2,  196.500,2,   19.520,2,   16.450,2,    1.160,2, -999.000
           NA,HOT timeseries 1988to2019 27SEP2021,      2,  12,-999.0,    8014,-999.0,20160530,0555,  22.7497, -158.0002,  4732,  446.000,    8.804,   34.074,2,   34.072,2,  171.500,2,  171.500,2,   30.390,2,   21.890,2,    1.540,2, -999.000
           NA,HOT timeseries 1988to2019 27SEP2021,      2,  12,-999.0,    8025,-999.0,20160530,0555,  22.7497, -158.0002,  4732,  505.100,    7.316,   34.035,2,   34.035,2,  122.700,2,  123.400,2,   45.700,2,   28.940,2,    2.080,2, -999.000
           NA,HOT timeseries 1988to2019 27SEP2021,      2,  12,-999.0,    8012,-999.0,20160530,0555,  22.7497, -158.0002,  4732,  540.400,    6.499,   34.038,2,   34.040,2,   95.600,2,   94.800,2,   56.860,2,   32.870,2,    2.360,2, -999.000
           NA,HOT timeseries 1988to2019 27SEP2021,      2,  12,-999.0,    8011,-999.0,20160530,0555,  22.7497, -158.0002,  4732,  572.900,    5.803,   34.075,2,   34.072,2,   67.500,2,   70.500,2,   68.670,2,   36.300,2,    2.630,2, -999.000
           NA,HOT timeseries 1988to2019 27SEP2021,      2,  12,-999.0,    8010,-999.0,20160530,0555,  22.7497, -158.0002,  4732,  629.500,    5.380,   34.125,2,   34.124,2,   51.100,2,   50.900,2,   79.180,2,   38.740,2,    2.810,2, -999.000
           NA,HOT timeseries 1988to2019 27SEP2021,      2,  12,-999.0,    8009,-999.0,20160530,0555,  22.7497, -158.0002,  4732,  685.500,    4.986,   34.199,2,   34.201,2,   35.800,2,   35.000,2,   88.890,2,   40.550,2,    2.970,2, -999.000
           NA,HOT timeseries 1988to2019 27SEP2021,      2,  12,-999.0,    8008,-999.0,20160530,0555,  22.7497, -158.0002,  4732,  746.500,    4.684,   34.298,2,   34.299,2,   30.100,2,   29.900,2,   96.730,2,   41.510,2,    3.030,2, -999.000
           NA,HOT timeseries 1988to2019 27SEP2021,      2,  12,-999.0,    8060,-999.0,20160530,0555,  22.7497, -158.0002,  4732,  788.200,    4.583,   34.363,2,   34.362,2,   33.000,2,   32.900,2,   98.760,2,   41.500,2,    3.040,2, -999.000
           NA,HOT timeseries 1988to2019 27SEP2021,      2,  12,-999.0,    8006,-999.0,20160530,0555,  22.7497, -158.0002,  4732,  829.400,    4.446,   34.400,2,   34.400,2,   35.200,2,   35.300,2,  101.950,2,   41.630,2,    3.040,2, -999.000
           NA,HOT timeseries 1988to2019 27SEP2021,      2,  12,-999.0,    8005,-999.0,20160530,0555,  22.7497, -158.0002,  4732,  870.200,    4.308,   34.420,2,   34.420,2,   37.000,2,   37.400,2,  104.920,2,   41.780,2,    3.050,2, -999.000
           NA,HOT timeseries 1988to2019 27SEP2021,      2,  12,-999.0,    8059,-999.0,20160530,0555,  22.7497, -158.0002,  4732,  911.500,    4.231,   34.440,2,   34.440,2,   39.800,2,   39.600,2,  106.310,2,   41.650,2,    3.040,2, -999.000
           NA,HOT timeseries 1988to2019 27SEP2021,      2,  12,-999.0,    8003,-999.0,20160530,0555,  22.7497, -158.0002,  4732,  952.200,    4.105,   34.459,2,   34.460,2,   42.200,2,   43.100,2,  108.490,2,   41.640,2,    3.030,2, -999.000
           NA,HOT timeseries 1988to2019 27SEP2021,      2,  12,-999.0,    8002,-999.0,20160530,0555,  22.7497, -158.0002,  4732,  993.500,    3.997,   34.475,2,   34.475,2,   44.800,2,   44.900,2,  110.830,2,   41.610,2,    3.020,2, -999.000
           NA,HOT timeseries 1988to2019 27SEP2021,      2,  12,-999.0,    8001,-999.0,20160530,0555,  22.7497, -158.0002,  4732, 1020.600,    3.931,   34.483,2,   34.483,2,   46.300,2,   46.700,2,  111.870,2,   41.520,2,    3.020,2, -999.000