BOTTLE,20214727JOAExport
EXPOCODE,SECT_ID,STNNBR,CASTNO,SAMPNO,BTLNBR,BTLNBR_FLAG_W,DATE,TIME,LATITUDE,LONGITUDE,DEPTH,CTDPRS,CTDTMP,CTDSAL,CTDSAL_FLAG_W,SALNTY,SALNTY_FLAG_W,CTDOXY,CTDOXY_FLAG_W,OXYGEN,OXYGEN_FLAG_W,SILCAT,SILCAT_FLAG_W,NINI,NINI_FLAG_W,PHSPHT,PHSPHT_FLAG_W,REVP
,,,,,,,,,,,,DB,IPTS-68,PSS-78,,PSS-78,,UMOL/KG,,UMOL/KG,,UMOL/KG,,UMOL/KG,,UMOL/KG,,DBAR
           NA,HOT timeseries 1988to2019 27SEP2021,      2,  99,-999.0,    8058,-999.0,20160711,2105,  22.7505, -157.9992,  4746,    5.600,   25.846,   34.898,2,   34.897,2,  207.800,2,  207.900,2,    1.290,2,    0.020,2,    0.080,2, -999.000
           NA,HOT timeseries 1988to2019 27SEP2021,      2,  99,-999.0,    8023,-999.0,20160711,2105,  22.7505, -157.9992,  4746,   42.800,   25.725,   34.894,2,   34.894,2,  208.200,2,  207.700,2,    1.240,2,    0.080,2,    0.080,2, -999.000
           NA,HOT timeseries 1988to2019 27SEP2021,      2,  99,-999.0,    8022,-999.0,20160711,2105,  22.7505, -157.9992,  4746,   79.400,   24.770,   35.030,2,   35.032,2,  212.500,2,  212.500,2,    1.310,2,    0.080,2,    0.090,2, -999.000
           NA,HOT timeseries 1988to2019 27SEP2021,      2,  99,-999.0,    8021,-999.0,20160711,2105,  22.7505, -157.9992,  4746,  104.200,   23.596,   35.161,2,   35.158,2,  206.300,2,  206.900,2,    1.450,2,    0.100,2,    0.090,2, -999.000
           NA,HOT timeseries 1988to2019 27SEP2021,      2,  99,-999.0,    8019,-999.0,20160711,2105,  22.7505, -157.9992,  4746,  152.600,   22.104,   35.291,2,   35.295,2,  205.400,2,  204.100,2,    1.520,2,    0.650,2,    0.080,2, -999.000
           NA,HOT timeseries 1988to2019 27SEP2021,      2,  99,-999.0,    8018,-999.0,20160711,2105,  22.7505, -157.9992,  4746,  205.100,   19.500,   35.018,2,   35.012,2,  197.100,2,  195.300,2,    2.960,2,    2.580,2,    0.240,2, -999.000
           NA,HOT timeseries 1988to2019 27SEP2021,      2,  99,-999.0,    8017,-999.0,20160711,2105,  22.7505, -157.9992,  4746,  260.500,   15.851,   34.608,2,   34.608,2,  205.200,2,  202.600,2,    5.330,2,    5.240,2,    0.400,2, -999.000
           NA,HOT timeseries 1988to2019 27SEP2021,      2,  99,-999.0,    8016,-999.0,20160711,2105,  22.7505, -157.9992,  4746,  290.800,   14.388,   34.445,2,   34.440,2,  205.700,2,  206.000,2,    7.100,2,    7.300,2,    0.530,2, -999.000
           NA,HOT timeseries 1988to2019 27SEP2021,      2,  99,-999.0,    8015,-999.0,20160711,2105,  22.7505, -157.9992,  4746,  353.100,   11.691,   34.209,2,   34.200,2,  198.700,2,  197.200,2,   13.890,2,   13.330,2,    0.940,2, -999.000
           NA,HOT timeseries 1988to2019 27SEP2021,      2,  99,-999.0,    8014,-999.0,20160711,2105,  22.7505, -157.9992,  4746,  385.600,   10.350,   34.124,2,   34.123,2,  182.100,2,  183.500,2,   19.370,2,   17.210,2,    1.230,2, -999.000
           NA,HOT timeseries 1988to2019 27SEP2021,      2,  99,-999.0,    8025,-999.0,20160711,2105,  22.7505, -157.9992,  4746,  440.700,    8.853,   34.082,2,   34.082,2,  156.000,2,  156.600,2,   29.790,2,   22.670,2,    1.620,2, -999.000
           NA,HOT timeseries 1988to2019 27SEP2021,      2,  99,-999.0,    8012,-999.0,20160711,2105,  22.7505, -157.9992,  4746,  505.200,    7.461,   34.058,2,   34.060,2,  116.300,2,  116.500,2,   45.270,2,   29.200,2,    2.100,2, -999.000
           NA,HOT timeseries 1988to2019 27SEP2021,      2,  99,-999.0,    8011,-999.0,20160711,2105,  22.7505, -157.9992,  4746,  513.300,    7.247,   34.058,2,   34.058,2,  109.900,2,  111.500,2,   47.370,2,   29.960,2,    2.160,2, -999.000
           NA,HOT timeseries 1988to2019 27SEP2021,      2,  99,-999.0,    8010,-999.0,20160711,2105,  22.7505, -157.9992,  4746,  551.900,    6.620,   34.068,2,   34.067,2,   90.800,2,   88.600,2,   56.850,2,   33.310,2,    2.410,2, -999.000
           NA,HOT timeseries 1988to2019 27SEP2021,      2,  99,-999.0,    8009,-999.0,20160711,2105,  22.7505, -157.9992,  4746,  604.600,    5.863,   34.089,2,   34.090,2,   66.000,2,   65.600,2,   68.850,2,   36.610,2,    2.650,2, -999.000
           NA,HOT timeseries 1988to2019 27SEP2021,      2,  99,-999.0,    8008,-999.0,20160711,2105,  22.7505, -157.9992,  4746,  647.100,    5.809,   34.207,2,   34.207,2,   45.600,2,   44.900,2,   74.070,2,   38.460,2,    2.820,2, -999.000
           NA,HOT timeseries 1988to2019 27SEP2021,      2,  99,-999.0,    8060,-999.0,20160711,2105,  22.7505, -157.9992,  4746,  707.500,    5.471,   34.282,2,   34.283,2,   38.500,2,   38.200,2,   80.950,2,   39.720,2,    2.910,2, -999.000
           NA,HOT timeseries 1988to2019 27SEP2021,      2,  99,-999.0,    8006,-999.0,20160711,2105,  22.7505, -157.9992,  4746,  751.800,    5.154,   34.290,2,   34.290,2,   36.000,2,   35.400,2,   86.860,2,   40.530,2,    2.960,2, -999.000
           NA,HOT timeseries 1988to2019 27SEP2021,      2,  99,-999.0,    8005,-999.0,20160711,2105,  22.7505, -157.9992,  4746,  799.000,    4.899,   34.341,2,   34.340,2,   35.500,2,   35.900,2,   92.030,2,   41.100,2,    3.000,2, -999.000
           NA,HOT timeseries 1988to2019 27SEP2021,      2,  99,-999.0,    8059,-999.0,20160711,2105,  22.7505, -157.9992,  4746,  850.100,    4.687,   34.385,2,   34.386,2,   34.200,2,   33.100,2,   96.660,2,   41.680,2,    3.040,2, -999.000
           NA,HOT timeseries 1988to2019 27SEP2021,      2,  99,-999.0,    8003,-999.0,20160711,2105,  22.7505, -157.9992,  4746,  900.000,    4.584,   34.418,2,   34.417,2,   36.000,2,   37.000,2,   99.280,2,   41.770,2,    3.040,2, -999.000
           NA,HOT timeseries 1988to2019 27SEP2021,      2,  99,-999.0,    8002,-999.0,20160711,2105,  22.7505, -157.9992,  4746,  961.000,    4.373,   34.446,2,   34.450,2,   37.800,2,   37.600,2,  103.040,2,   42.350,2,    3.060,2, -999.000
           NA,HOT timeseries 1988to2019 27SEP2021,      2,  99,-999.0,    8001,-999.0,20160711,2105,  22.7505, -157.9992,  4746, 1020.800,    4.177,   34.474,2,   34.475,2,   43.300,2,   43.600,2,  106.310,2,   41.940,2,    3.040,2, -999.000
           NA,HOT timeseries 1988to2019 27SEP2021,      2,  99,-999.0,    8020,-999.0,20160711,2105,  22.7505, -157.9992,  4746, 1200.700,    3.666,   34.522,2,   34.521,2,   52.900,2,   52.700,2,  116.710,2,   41.640,2,    3.010,2, -999.000
           NA,HOT timeseries 1988to2019 27SEP2021,      2,  99,-999.0,    8019,-999.0,20160711,2105,  22.7505, -157.9992,  4746, 1400.100,    3.190,   34.556,2,   34.555,2,   60.700,2,   60.700,2,  127.550,2,   41.590,2,    2.980,2, -999.000
           NA,HOT timeseries 1988to2019 27SEP2021,      2,  99,-999.0,    8018,-999.0,20160711,2105,  22.7505, -157.9992,  4746, 1601.000,    2.739,   34.576,2,   34.576,2,   70.700,2,   71.600,2,  137.280,2,   40.920,2,    2.920,2, -999.000
           NA,HOT timeseries 1988to2019 27SEP2021,      2,  99,-999.0,    8017,-999.0,20160711,2105,  22.7505, -157.9992,  4746, 1800.800,    2.408,   34.598,2,   34.597,2,   80.700,2,   81.300,2,  144.150,2,   40.420,2,    2.870,2, -999.000
           NA,HOT timeseries 1988to2019 27SEP2021,      2,  99,-999.0,    8016,-999.0,20160711,2105,  22.7505, -157.9992,  4746, 1999.800,    2.154,   34.617,2,   34.616,2,   89.300,2,   89.400,2,  149.730,2,   40.010,2,    2.830,2, -999.000
           NA,HOT timeseries 1988to2019 27SEP2021,      2,  99,-999.0,    8015,-999.0,20160711,2105,  22.7505, -157.9992,  4746, 2198.300,    1.948,   34.632,2,   34.632,2,   96.500,2,   96.800,2,  154.680,2,   39.620,2,    2.780,2, -999.000
           NA,HOT timeseries 1988to2019 27SEP2021,      2,  99,-999.0,    8014,-999.0,20160711,2105,  22.7505, -157.9992,  4746, 2400.300,    1.822,   34.642,2,   34.642,2,  102.800,2,  103.700,2,  157.360,2,   39.260,2,    2.760,2, -999.000
           NA,HOT timeseries 1988to2019 27SEP2021,      2,  99,-999.0,    8025,-999.0,20160711,2105,  22.7505, -157.9992,  4746, 2601.200,    1.689,   34.653,2,   34.653,2,  110.200,2,  109.800,2,  160.690,2,   38.760,2,    2.730,2, -999.000
           NA,HOT timeseries 1988to2019 27SEP2021,      2,  99,-999.0,    8012,-999.0,20160711,2105,  22.7505, -157.9992,  4746, 2800.900,    1.615,   34.662,2,   34.662,2,  118.100,2,  118.200,2,  159.720,2,   38.210,2,    2.680,2, -999.000
           NA,HOT timeseries 1988to2019 27SEP2021,      2,  99,-999.0,    8011,-999.0,20160711,2105,  22.7505, -157.9992,  4746, 3001.600,    1.572,   34.667,2,   34.667,2,  122.700,2,  122.800,2,  160.730,2,   37.850,2,    2.650,2, -999.000
           NA,HOT timeseries 1988to2019 27SEP2021,      2,  99,-999.0,    8010,-999.0,20160711,2105,  22.7505, -157.9992,  4746, 3201.600,    1.530,   34.673,2,   34.673,2,  129.700,2,  130.200,2,  157.590,2,   37.440,2,    2.610,2, -999.000
           NA,HOT timeseries 1988to2019 27SEP2021,      2,  99,-999.0,    8009,-999.0,20160711,2105,  22.7505, -157.9992,  4746, 3402.000,    1.489,   34.678,2,   34.678,2,  136.200,2,  136.300,2,  157.480,2,   37.180,2,    2.590,2, -999.000
           NA,HOT timeseries 1988to2019 27SEP2021,      2,  99,-999.0,    8008,-999.0,20160711,2105,  22.7505, -157.9992,  4746, 3599.800,    1.473,   34.681,2,   34.681,2,  140.500,2,  140.500,2,  155.390,2,   36.690,2,    2.570,2, -999.000
           NA,HOT timeseries 1988to2019 27SEP2021,      2,  99,-999.0,    8060,-999.0,20160711,2105,  22.7505, -157.9992,  4746, 3801.900,    1.469,   34.683,2,   34.683,2,  143.900,2,  143.700,2,  155.920,2,   36.390,2,    2.560,2, -999.000
           NA,HOT timeseries 1988to2019 27SEP2021,      2,  99,-999.0,    8006,-999.0,20160711,2105,  22.7505, -157.9992,  4746, 4001.700,    1.464,   34.685,2,   34.685,2,  147.600,2,  147.600,2,  152.560,2,   36.240,2,    2.540,2, -999.000
           NA,HOT timeseries 1988to2019 27SEP2021,      2,  99,-999.0,    8005,-999.0,20160711,2105,  22.7505, -157.9992,  4746, 4201.300,    1.472,   34.686,2,   34.686,2,  149.700,2,  149.200,2,  152.090,2,   36.220,2,    2.520,2, -999.000
           NA,HOT timeseries 1988to2019 27SEP2021,      2,  99,-999.0,    8059,-999.0,20160711,2105,  22.7505, -157.9992,  4746, 4402.200,    1.485,   34.687,2,   34.687,2,  151.400,2,  150.700,2,  152.920,2,   35.910,2,    2.520,2, -999.000
           NA,HOT timeseries 1988to2019 27SEP2021,      2,  99,-999.0,    8003,-999.0,20160711,2105,  22.7505, -157.9992,  4746, 4501.800,    1.492,   34.688,2,   34.688,2,  152.100,2,  151.500,2,  151.350,2,   35.870,2,    2.510,2, -999.000
           NA,HOT timeseries 1988to2019 27SEP2021,      2,  99,-999.0,    8002,-999.0,20160711,2105,  22.7505, -157.9992,  4746, 4601.300,    1.502,   34.688,2,   34.688,2,  152.700,2,  151.900,2, -999.000,3,   35.910,2,    2.520,2, -999.000
           NA,HOT timeseries 1988to2019 27SEP2021,      2,  99,-999.0,    8001,-999.0,20160711,2105,  22.7505, -157.9992,  4746, 4804.400,    1.521,   34.688,2,   34.689,2,  153.300,2,  153.300,2,  148.610,2,   35.740,2,    2.490,2, -999.000
           NA,HOT timeseries 1988to2019 27SEP2021,      2,  99,-999.0,    8058,-999.0,20160809,2118,  22.7508, -157.9998,  4741,    5.400,   26.315,   34.872,2,   34.872,2,  204.300,2, -999.000,3,    0.880,2,    0.040,2,    0.060,2, -999.000
           NA,HOT timeseries 1988to2019 27SEP2021,      2,  99,-999.0,    8023,-999.0,20160809,2118,  22.7508, -157.9998,  4741,   52.500,   25.791,   34.978,2,   34.981,2,  211.200,2,  209.500,2,    0.740,2,    0.020,2,    0.060,2, -999.000
           NA,HOT timeseries 1988to2019 27SEP2021,      2,  99,-999.0,    8022,-999.0,20160809,2118,  22.7508, -157.9998,  4741,   59.800,   24.413,   35.086,2,   35.073,2,  221.200,2,  220.700,2,    1.000,2,    0.030,2,    0.060,2, -999.000
           NA,HOT timeseries 1988to2019 27SEP2021,      2,  99,-999.0,    8021,-999.0,20160809,2118,  22.7508, -157.9998,  4741,   68.800,   23.944,   35.189,2,   35.178,2,  212.200,2, -999.000,3,    0.960,2,    0.050,2,    0.050,2, -999.000
           NA,HOT timeseries 1988to2019 27SEP2021,      2,  99,-999.0,    8020,-999.0,20160809,2118,  22.7508, -157.9998,  4741,   91.300,   22.553,   35.237,2,   35.235,2,  211.800,2,  212.400,2,    1.090,2,    0.030,2,    0.070,2, -999.000
           NA,HOT timeseries 1988to2019 27SEP2021,      2,  99,-999.0,    8018,-999.0,20160809,2118,  22.7508, -157.9998,  4741,  114.700,   21.517,   35.205,2,   35.204,2,  202.300,2,  203.300,2,    1.410,2,    0.510,2,    0.130,2, -999.000
           NA,HOT timeseries 1988to2019 27SEP2021,      2,  99,-999.0,    8017,-999.0,20160809,2118,  22.7508, -157.9998,  4741,  173.600,   18.744,   34.930,2,   34.927,2,  200.200,2,  201.400,2,    2.540,2,    2.330,2,    0.230,2, -999.000
           NA,HOT timeseries 1988to2019 27SEP2021,      2,  99,-999.0,    8016,-999.0,20160809,2118,  22.7508, -157.9998,  4741,  234.600,   15.038,   34.458,2,   34.460,2,  207.400,2,  205.900,2,    5.290,2,    5.530,2,    0.440,2, -999.000
           NA,HOT timeseries 1988to2019 27SEP2021,      2,  99,-999.0,    8015,-999.0,20160809,2118,  22.7508, -157.9998,  4741,  314.800,   11.796,   34.162,2,   34.166,2,  201.700,2,  201.400,2,   11.910,2,   12.220,2,    0.890,2, -999.000
           NA,HOT timeseries 1988to2019 27SEP2021,      2,  99,-999.0,    8014,-999.0,20160809,2118,  22.7508, -157.9998,  4741,  363.400,   10.500,   34.085,2,   34.085,2,  196.100,2,  195.900,2,   16.540,2,   15.620,2,    1.120,2, -999.000
           NA,HOT timeseries 1988to2019 27SEP2021,      2,  99,-999.0,    8025,-999.0,20160809,2118,  22.7508, -157.9998,  4741,  420.700,    8.894,   34.059,2,   34.061,2,  165.700,2,  169.500,2,   27.940,2,   21.790,2,    1.540,2, -999.000
           NA,HOT timeseries 1988to2019 27SEP2021,      2,  99,-999.0,    8012,-999.0,20160809,2118,  22.7508, -157.9998,  4741,  445.500,    8.077,   34.038,2,   34.038,2,  142.200,2,  144.900,2,   35.490,2,   25.320,2,    1.800,2, -999.000
           NA,HOT timeseries 1988to2019 27SEP2021,      2,  99,-999.0,    8011,-999.0,20160809,2118,  22.7508, -157.9998,  4741,  481.800,    7.172,   34.042,2,   34.043,2,  117.400,2,  116.600,2,   47.070,2,   29.680,2,    2.090,2, -999.000
           NA,HOT timeseries 1988to2019 27SEP2021,      2,  99,-999.0,    8010,-999.0,20160809,2118,  22.7508, -157.9998,  4741,  510.500,    6.554,   34.036,2,   34.037,2,   96.200,2,   98.200,2,   55.450,2,   32.830,2,    2.310,2, -999.000
           NA,HOT timeseries 1988to2019 27SEP2021,      2,  99,-999.0,    8009,-999.0,20160809,2118,  22.7508, -157.9998,  4741,  560.700,    5.861,   34.075,2,   34.073,2,   71.800,2,   71.900,2,   67.720,2,   36.160,2,    2.570,2, -999.000
           NA,HOT timeseries 1988to2019 27SEP2021,      2,  99,-999.0,    8008,-999.0,20160809,2118,  22.7508, -157.9998,  4741,  609.600,    5.381,   34.140,2,   34.135,2,   49.400,2,   49.200,2,   78.160,2,   38.720,2,    2.770,2, -999.000
           NA,HOT timeseries 1988to2019 27SEP2021,      2,  99,-999.0,    8060,-999.0,20160809,2118,  22.7508, -157.9998,  4741,  677.000,    4.914,   34.208,2,   34.209,2,   34.800,2,   33.900,2,   89.630,2,   40.720,2,    2.930,2, -999.000
           NA,HOT timeseries 1988to2019 27SEP2021,      2,  99,-999.0,    8006,-999.0,20160809,2118,  22.7508, -157.9998,  4741,  750.500,    4.650,   34.311,2,   34.311,2,   31.100,2,   29.900,2,   96.780,2,   41.620,2,    2.990,2, -999.000
           NA,HOT timeseries 1988to2019 27SEP2021,      2,  99,-999.0,    8005,-999.0,20160809,2118,  22.7508, -157.9998,  4741,  774.200,    4.566,   34.323,2,   34.323,2,   29.900,2,   30.300,2,   99.010,2,   41.830,2,    3.010,2, -999.000
           NA,HOT timeseries 1988to2019 27SEP2021,      2,  99,-999.0,    8059,-999.0,20160809,2118,  22.7508, -157.9998,  4741,  841.000,    4.343,   34.389,2,   34.389,2,   34.400,2,   34.100,2,  103.590,2,   41.980,2,    3.020,2, -999.000
           NA,HOT timeseries 1988to2019 27SEP2021,      2,  99,-999.0,    8003,-999.0,20160809,2118,  22.7508, -157.9998,  4741,  918.100,    4.176,   34.433,2,   34.433,2,   39.000,2,   39.000,2,  107.010,2,   42.000,2,    3.020,2, -999.000
           NA,HOT timeseries 1988to2019 27SEP2021,      2,  99,-999.0,    8002,-999.0,20160809,2118,  22.7508, -157.9998,  4741,  993.800,    3.973,   34.467,2,   34.467,2,   43.500,2,   43.000,2,  111.080,2,   41.950,2,    3.010,2, -999.000
           NA,HOT timeseries 1988to2019 27SEP2021,      2,  99,-999.0,    8001,-999.0,20160809,2118,  22.7508, -157.9998,  4741, 1023.500,    3.912,   34.484,2,   34.484,2,   45.800,2,   45.800,2,  111.490,2,   41.940,2,    3.000,2, -999.000
           NA,HOT timeseries 1988to2019 27SEP2021,      2,  99,-999.0,    8020,-999.0,20160809,2118,  22.7508, -157.9998,  4741, 1202.500,    3.423,   34.526,2,   34.526,2,   55.500,2,   55.400,2,  121.700,2,   41.740,2,    2.980,2, -999.000
           NA,HOT timeseries 1988to2019 27SEP2021,      2,  99,-999.0,    8019,-999.0,20160809,2118,  22.7508, -157.9998,  4741, 1402.200,    3.036,   34.558,2,   34.558,2,   61.200,2,   64.000,2,  129.710,2,   41.450,2,    2.980,2, -999.000
           NA,HOT timeseries 1988to2019 27SEP2021,      2,  99,-999.0,    8018,-999.0,20160809,2118,  22.7508, -157.9998,  4741, 1600.400,    2.658,   34.583,2,   34.583,2,   71.000,2,   71.600,2,  138.140,2,   41.150,2,    2.940,2, -999.000
           NA,HOT timeseries 1988to2019 27SEP2021,      2,  99,-999.0,    8017,-999.0,20160809,2118,  22.7508, -157.9998,  4741, 1800.800,    2.366,   34.600,2,   34.600,2,   79.200,2,   79.700,2,  144.900,2,   40.630,2,    2.900,2, -999.000
           NA,HOT timeseries 1988to2019 27SEP2021,      2,  99,-999.0,    8016,-999.0,20160809,2118,  22.7508, -157.9998,  4741, 2001.000,    2.118,   34.619,2,   34.619,2,   88.400,2,   89.000,2,  150.470,2,   40.200,2,    2.850,2, -999.000
           NA,HOT timeseries 1988to2019 27SEP2021,      2,  99,-999.0,    8015,-999.0,20160809,2118,  22.7508, -157.9998,  4741, 2200.200,    1.899,   34.633,2,   34.633,2,   95.700,2,   96.400,2,  156.290,2,   39.820,2,    2.810,2, -999.000
           NA,HOT timeseries 1988to2019 27SEP2021,      2,  99,-999.0,    8014,-999.0,20160809,2118,  22.7508, -157.9998,  4741, 2400.600,    1.781,   34.643,2,   34.644,2,  102.100,2,  102.500,2,  159.250,2,   39.410,2,    2.770,2, -999.000
           NA,HOT timeseries 1988to2019 27SEP2021,      2,  99,-999.0,    8025,-999.0,20160809,2118,  22.7508, -157.9998,  4741, 2600.500,    1.666,   34.654,2,   34.654,2,  110.400,2,  111.000,2,  160.150,2,   38.880,2,    2.730,2, -999.000
           NA,HOT timeseries 1988to2019 27SEP2021,      2,  99,-999.0,    8012,-999.0,20160809,2118,  22.7508, -157.9998,  4741, 2803.200,    1.600,   34.662,2,   34.662,2,  118.000,2,  118.000,2,  159.850,2,   38.400,2,    2.690,2, -999.000
           NA,HOT timeseries 1988to2019 27SEP2021,      2,  99,-999.0,    8011,-999.0,20160809,2118,  22.7508, -157.9998,  4741, 3000.900,    1.552,   34.668,2,   34.668,2,  124.800,2,  125.200,2,  158.420,2,   37.930,2,    2.660,2, -999.000
           NA,HOT timeseries 1988to2019 27SEP2021,      2,  99,-999.0,    8010,-999.0,20160809,2118,  22.7508, -157.9998,  4741, 3201.300,    1.515,   34.673,2,   34.673,2,  131.300,2,  131.500,2,  156.850,2,   37.450,2,    2.610,2, -999.000
           NA,HOT timeseries 1988to2019 27SEP2021,      2,  99,-999.0,    8009,-999.0,20160809,2118,  22.7508, -157.9998,  4741, 3401.500,    1.479,   34.678,2,   34.678,2,  137.000,2,  137.600,2,  155.710,2,   37.240,2,    2.600,2, -999.000
           NA,HOT timeseries 1988to2019 27SEP2021,      2,  99,-999.0,    8008,-999.0,20160809,2118,  22.7508, -157.9998,  4741, 3599.900,    1.468,   34.681,2,   34.681,2,  141.100,2,  141.300,2,  154.820,2,   37.210,2,    2.570,2, -999.000
           NA,HOT timeseries 1988to2019 27SEP2021,      2,  99,-999.0,    8060,-999.0,20160809,2118,  22.7508, -157.9998,  4741, 3800.600,    1.460,   34.683,2,   34.683,2,  144.700,2,  144.800,2,  152.330,2,   36.650,2,    2.550,2, -999.000
           NA,HOT timeseries 1988to2019 27SEP2021,      2,  99,-999.0,    8006,-999.0,20160809,2118,  22.7508, -157.9998,  4741, 4002.000,    1.459,   34.686,2,   34.685,2,  148.400,2,  147.800,2,  151.330,2,   36.430,2,    2.540,2, -999.000