BOTTLE,20214727JOAExport
EXPOCODE,SECT_ID,STNNBR,CASTNO,SAMPNO,BTLNBR,BTLNBR_FLAG_W,DATE,TIME,LATITUDE,LONGITUDE,DEPTH,CTDPRS,CTDTMP,CTDSAL,CTDSAL_FLAG_W,SALNTY,SALNTY_FLAG_W,CTDOXY,CTDOXY_FLAG_W,OXYGEN,OXYGEN_FLAG_W,SILCAT,SILCAT_FLAG_W,NINI,NINI_FLAG_W,PHSPHT,PHSPHT_FLAG_W,REVP
,,,,,,,,,,,,DB,IPTS-68,PSS-78,,PSS-78,,UMOL/KG,,UMOL/KG,,UMOL/KG,,UMOL/KG,,UMOL/KG,,DBAR
           NA,HOT timeseries 1988to2019 27SEP2021,    188,  99,-999.0,    8024,-999.0,20070609,2103,  22.7502, -158.0000,  4747,    6.600,   25.476,   34.934,2,   34.934,2,  207.200,2,  207.700,2,    1.200,2,    0.050,2,    0.060,2, -999.000
           NA,HOT timeseries 1988to2019 27SEP2021,    188,  99,-999.0,    8024,-999.0,20070609,2103,  22.7502, -158.0000,  4747,    7.400,   25.496,   34.899,2,   34.900,2,  207.800,2,  206.800,2,    1.110,2,    0.090,2,    0.090,2, -999.000
           NA,HOT timeseries 1988to2019 27SEP2021,    188,  99,-999.0,    8023,-999.0,20070609,2103,  22.7502, -158.0000,  4747,   33.100,   24.502,   34.964,2,   34.964,2,  215.100,2, -999.000,4,    1.140,2,    0.060,2,    0.050,2, -999.000
           NA,HOT timeseries 1988to2019 27SEP2021,    188,  99,-999.0,    8022,-999.0,20070609,2103,  22.7502, -158.0000,  4747,   95.000,   23.673,   35.092,2,   35.099,2,  218.200,2,  218.600,2,    1.120,2,    0.040,2,    0.030,2, -999.000
           NA,HOT timeseries 1988to2019 27SEP2021,    188,  99,-999.0,    8021,-999.0,20070609,2103,  22.7502, -158.0000,  4747,  128.100,   22.881,   35.178,2,   35.174,2,  216.900,2, -999.000,4,    1.160,2,    0.120,2,    0.030,2, -999.000
           NA,HOT timeseries 1988to2019 27SEP2021,    188,  99,-999.0,    8020,-999.0,20070609,2103,  22.7502, -158.0000,  4747,  160.200,   22.033,   35.207,2,   35.208,2,  215.200,2,  217.700,2,    1.270,2,    0.080,2,    0.050,2, -999.000
           NA,HOT timeseries 1988to2019 27SEP2021,    188,  99,-999.0,    8019,-999.0,20070609,2103,  22.7502, -158.0000,  4747,  225.000,   19.170,   34.982,2,   34.979,2,  193.400,2,  193.400,2, -999.000,3,    2.560,2,    0.210,2, -999.000
           NA,HOT timeseries 1988to2019 27SEP2021,    188,  99,-999.0,    8018,-999.0,20070609,2103,  22.7502, -158.0000,  4747,  284.500,   16.023,   34.568,2,   34.568,2,  193.800,2,  194.500,2, -999.000,3,    5.420,2,    0.410,2, -999.000
           NA,HOT timeseries 1988to2019 27SEP2021,    188,  99,-999.0,    8017,-999.0,20070609,2103,  22.7502, -158.0000,  4747,  345.100,   12.237,   34.231,2,   34.232,2,  203.800,2,  203.300,2,    9.880,2,   11.080,2,    0.780,2, -999.000
           NA,HOT timeseries 1988to2019 27SEP2021,    188,  99,-999.0,    8016,-999.0,20070609,2103,  22.7502, -158.0000,  4747,  395.600,   10.865,   34.175,2,   34.176,2,  202.000,2,  201.500,2,   14.800,2,   14.360,2,    0.990,2, -999.000
           NA,HOT timeseries 1988to2019 27SEP2021,    188,  99,-999.0,    8015,-999.0,20070609,2103,  22.7502, -158.0000,  4747,  430.400,    9.802,   34.133,2,   34.133,2,  186.400,2,  187.900,2,   20.650,2,   17.940,2,    1.240,2, -999.000
           NA,HOT timeseries 1988to2019 27SEP2021,    188,  99,-999.0,    8014,-999.0,20070609,2103,  22.7502, -158.0000,  4747,  464.500,    9.134,   34.112,2,   34.113,2,  170.500,2,  168.700,2,   26.140,2,   21.140,2,    1.470,2, -999.000
           NA,HOT timeseries 1988to2019 27SEP2021,    188,  99,-999.0,    8023,-999.0,20070609,2103,  22.7502, -158.0000,  4747,  499.400,    7.996,   34.095,2,   34.095,2,  125.500,2,  125.800,2,   38.290,2,   26.730,2,    1.940,2, -999.000
           NA,HOT timeseries 1988to2019 27SEP2021,    188,  99,-999.0,    8025,-999.0,20070609,2103,  22.7502, -158.0000,  4747,  531.600,    7.571,   34.097,2,   34.097,2,  109.600,2,  110.000,2,   43.220,2,   29.720,2,    2.110,2, -999.000
           NA,HOT timeseries 1988to2019 27SEP2021,    188,  99,-999.0,    8012,-999.0,20070609,2103,  22.7502, -158.0000,  4747,  572.300,    6.852,   34.087,2,   34.089,2,   91.800,2,   92.000,2,   52.000,2,   32.380,2,    2.320,2, -999.000
           NA,HOT timeseries 1988to2019 27SEP2021,    188,  99,-999.0,    8011,-999.0,20070609,2103,  22.7502, -158.0000,  4747,  621.000,    6.068,   34.114,2,   34.112,2,   64.500,2,   65.500,2,   64.790,2,   36.210,2,    2.590,2, -999.000
           NA,HOT timeseries 1988to2019 27SEP2021,    188,  99,-999.0,    8010,-999.0,20070609,2103,  22.7502, -158.0000,  4747,  669.800,    5.808,   34.180,2,   34.181,2,   48.300,2,   47.000,2,   71.450,2,   38.240,2,    2.760,2, -999.000
           NA,HOT timeseries 1988to2019 27SEP2021,    188,  99,-999.0,    8026,-999.0,20070609,2103,  22.7502, -158.0000,  4747,  791.500,    4.777,   34.307,2,   34.304,2,   25.400,2,   25.300,2,   93.990,2, -999.000,3,    3.030,2, -999.000
           NA,HOT timeseries 1988to2019 27SEP2021,    188,  99,-999.0,    8006,-999.0,20070609,2103,  22.7502, -158.0000,  4747,  831.700,    4.701,   34.371,2,   34.374,2,   29.600,2,   30.500,2,   95.850,2,   42.070,2,    3.030,2, -999.000
           NA,HOT timeseries 1988to2019 27SEP2021,    188,  99,-999.0,    8005,-999.0,20070609,2103,  22.7502, -158.0000,  4747,  869.800,    4.600,   34.411,2,   34.409,2,   31.600,2,   31.300,2,   97.890,2, -999.000,3,    3.040,2, -999.000
           NA,HOT timeseries 1988to2019 27SEP2021,    188,  99,-999.0,    8004,-999.0,20070609,2103,  22.7502, -158.0000,  4747,  909.900,    4.535,   34.438,2,   34.438,2,   33.000,2, -999.000,3,   99.060,2,   42.170,2,    3.030,2, -999.000
           NA,HOT timeseries 1988to2019 27SEP2021,    188,  99,-999.0,    8002,-999.0,20070609,2103,  22.7502, -158.0000,  4747,  983.400,    4.212,   34.459,2,   34.459,2,   38.000,2,   40.200,2,  105.210,2,   42.180,2,    3.020,2, -999.000
           NA,HOT timeseries 1988to2019 27SEP2021,    188,  99,-999.0,    8001,-999.0,20070609,2103,  22.7502, -158.0000,  4747, 1020.400,    4.076,   34.471,2,   34.472,2,   39.300,2,   39.500,2,  108.190,2,   42.230,2,    3.020,2, -999.000
           NA,HOT timeseries 1988to2019 27SEP2021,    188,  99,-999.0,    8020,-999.0,20070609,2103,  22.7502, -158.0000,  4747, 1200.900,    3.529,   34.521,2,   34.522,2,   51.400,2,   51.400,2, -999.000,3,   41.600,2,    2.970,2, -999.000
           NA,HOT timeseries 1988to2019 27SEP2021,    188,  99,-999.0,    8019,-999.0,20070609,2103,  22.7502, -158.0000,  4747, 1399.900,    3.075,   34.557,2,   34.558,2,   60.500,2,   60.800,2,  128.830,2,   40.520,2,    2.910,2, -999.000
           NA,HOT timeseries 1988to2019 27SEP2021,    188,  99,-999.0,    8018,-999.0,20070609,2103,  22.7502, -158.0000,  4747, 1600.200,    2.695,   34.580,2,   34.581,2,   70.300,2,   70.700,2,  138.160,2,   40.850,2,    2.880,2, -999.000
           NA,HOT timeseries 1988to2019 27SEP2021,    188,  99,-999.0,    8017,-999.0,20070609,2103,  22.7502, -158.0000,  4747, 1800.100,    2.386,   34.602,2,   34.601,2,   79.300,2,   81.400,2,  145.270,2,   40.430,2,    2.900,2, -999.000
           NA,HOT timeseries 1988to2019 27SEP2021,    188,  99,-999.0,    8016,-999.0,20070609,2103,  22.7502, -158.0000,  4747, 2001.500,    2.138,   34.620,2,   34.620,2,   88.100,2,   88.400,2,  150.470,2,   39.980,2,    2.840,2, -999.000
           NA,HOT timeseries 1988to2019 27SEP2021,    188,  99,-999.0,    8015,-999.0,20070609,2103,  22.7502, -158.0000,  4747, 2201.800,    1.964,   34.634,2,   34.633,2,   95.600,2,   95.400,2,  153.600,2,   39.600,2,    2.830,2, -999.000
           NA,HOT timeseries 1988to2019 27SEP2021,    188,  99,-999.0,    8014,-999.0,20070609,2103,  22.7502, -158.0000,  4747, 2400.200,    1.797,   34.647,2,   34.646,2,  103.500,2, -999.000,4,  157.320,2,   39.200,2,    2.780,2, -999.000
           NA,HOT timeseries 1988to2019 27SEP2021,    188,  99,-999.0,    8025,-999.0,20070609,2103,  22.7502, -158.0000,  4747, 2600.800,    1.669,   34.658,2,   34.658,2,  110.800,2,  111.400,2,  160.230,2,   38.790,2,    2.740,2, -999.000
           NA,HOT timeseries 1988to2019 27SEP2021,    188,  99,-999.0,    8012,-999.0,20070609,2103,  22.7502, -158.0000,  4747, 2800.900,    1.583,   34.667,2,   34.668,2,  118.900,2,  119.200,2,  159.480,2,   38.120,2, -999.000,4, -999.000
           NA,HOT timeseries 1988to2019 27SEP2021,    188,  99,-999.0,    8011,-999.0,20070609,2103,  22.7502, -158.0000,  4747, 3000.800,    1.534,   34.673,2,   34.673,2,  125.600,2,  125.200,2,  159.210,2,   37.530,2,    2.630,2, -999.000
           NA,HOT timeseries 1988to2019 27SEP2021,    188,  99,-999.0,    8010,-999.0,20070609,2103,  22.7502, -158.0000,  4747, 3199.800,    1.498,   34.678,2,   34.678,2,  131.700,2, -999.000,4,  157.600,2,   37.160,2,    2.620,2, -999.000
           NA,HOT timeseries 1988to2019 27SEP2021,    188,  99,-999.0,    8009,-999.0,20070609,2103,  22.7502, -158.0000,  4747, 3401.000,    1.473,   34.681,2,   34.682,2,  137.000,2, -999.000,4,  155.670,2,   36.790,2,    2.570,2, -999.000
           NA,HOT timeseries 1988to2019 27SEP2021,    188,  99,-999.0,    8008,-999.0,20070609,2103,  22.7502, -158.0000,  4747, 3599.400,    1.459,   34.685,2,   34.685,2,  141.500,2,  141.100,2,  154.370,2,   36.630,2,    2.570,2, -999.000
           NA,HOT timeseries 1988to2019 27SEP2021,    188,  99,-999.0,    8026,-999.0,20070609,2103,  22.7502, -158.0000,  4747, 3799.900,    1.452,   34.687,2,   34.687,2,  145.400,2,  145.100,2,  152.660,2,   36.180,2,    2.540,2, -999.000
           NA,HOT timeseries 1988to2019 27SEP2021,    188,  99,-999.0,    8006,-999.0,20070609,2103,  22.7502, -158.0000,  4747, 3999.300,    1.455,   34.689,2,   34.689,2,  147.900,2,  147.400,2,  151.620,2,   36.020,2,    2.520,2, -999.000
           NA,HOT timeseries 1988to2019 27SEP2021,    188,  99,-999.0,    8005,-999.0,20070609,2103,  22.7502, -158.0000,  4747, 4199.200,    1.465,   34.690,2,   34.690,2,  149.800,2,  149.600,2,  151.250,2,   35.860,2,    2.500,2, -999.000
           NA,HOT timeseries 1988to2019 27SEP2021,    188,  99,-999.0,    8004,-999.0,20070609,2103,  22.7502, -158.0000,  4747, 4401.000,    1.480,   34.690,2,   34.690,2,  151.100,2,  150.600,2,  150.120,2,   35.800,2,    2.510,2, -999.000
           NA,HOT timeseries 1988to2019 27SEP2021,    188,  99,-999.0,    8003,-999.0,20070609,2103,  22.7502, -158.0000,  4747, 4500.800,    1.490,   34.691,2,   34.691,2,  151.400,2,  151.800,2,  149.950,2,   35.820,2,    2.500,2, -999.000
           NA,HOT timeseries 1988to2019 27SEP2021,    188,  99,-999.0,    8002,-999.0,20070609,2103,  22.7502, -158.0000,  4747, 4599.700,    1.498,   34.691,2,   34.692,2,  151.900,2,  152.200,2,  149.980,2,   35.650,2,    2.500,2, -999.000
           NA,HOT timeseries 1988to2019 27SEP2021,    188,  99,-999.0,    8001,-999.0,20070609,2103,  22.7502, -158.0000,  4747, 4800.900,    1.505,   34.692,2,   34.693,2,  154.000,2,  154.600,2,  148.400,2,   35.670,2,    2.490,2, -999.000