BOTTLE,20214727JOAExport
EXPOCODE,SECT_ID,STNNBR,CASTNO,SAMPNO,BTLNBR,BTLNBR_FLAG_W,DATE,TIME,LATITUDE,LONGITUDE,DEPTH,CTDPRS,CTDTMP,CTDSAL,CTDSAL_FLAG_W,SALNTY,SALNTY_FLAG_W,CTDOXY,CTDOXY_FLAG_W,OXYGEN,OXYGEN_FLAG_W,SILCAT,SILCAT_FLAG_W,NINI,NINI_FLAG_W,PHSPHT,PHSPHT_FLAG_W,REVP
,,,,,,,,,,,,DB,IPTS-68,PSS-78,,PSS-78,,UMOL/KG,,UMOL/KG,,UMOL/KG,,UMOL/KG,,UMOL/KG,,DBAR
           NA,HOT timeseries 1988to2019 27SEP2021,    197,  99,-999.0,    8024,-999.0,20080527,2058,  22.7497, -158.0028,  4741,    6.200,   25.505,   34.857,2,   34.856,2,  208.200,2,  208.400,2,    1.160,2,    0.070,2,    0.080,2, -999.000
           NA,HOT timeseries 1988to2019 27SEP2021,    197,  99,-999.0,    8024,-999.0,20080527,2058,  22.7497, -158.0028,  4741,    8.800,   25.412,   34.870,2,   34.877,2,  209.100,2,  208.100,2,    1.490,2,    0.040,2,    0.080,2, -999.000
           NA,HOT timeseries 1988to2019 27SEP2021,    197,  99,-999.0,    8023,-999.0,20080527,2058,  22.7497, -158.0028,  4741,   17.300,   25.409,   34.860,2,   34.871,2,  208.100,2,  209.500,2,    1.350,2, -999.000,3,    0.080,2, -999.000
           NA,HOT timeseries 1988to2019 27SEP2021,    197,  99,-999.0,    8022,-999.0,20080527,2058,  22.7497, -158.0028,  4741,   64.900,   23.911,   35.153,2,   35.153,2,  217.400,2,  216.900,2,    1.170,2, -999.000,3,    0.020,2, -999.000
           NA,HOT timeseries 1988to2019 27SEP2021,    197,  99,-999.0,    8021,-999.0,20080527,2058,  22.7497, -158.0028,  4741,  107.700,   22.942,   35.270,2,   35.271,2,  219.900,2,  219.700,2,    1.260,2,    0.150,2,    0.010,2, -999.000
           NA,HOT timeseries 1988to2019 27SEP2021,    197,  99,-999.0,    8020,-999.0,20080527,2058,  22.7497, -158.0028,  4741,  148.500,   22.076,   35.260,2,   35.259,2,  210.700,2,  210.500,2,    1.600,2,    0.210,2,    0.030,2, -999.000
           NA,HOT timeseries 1988to2019 27SEP2021,    197,  99,-999.0,    8019,-999.0,20080527,2058,  22.7497, -158.0028,  4741,  203.700,   19.164,   34.943,2,   34.935,2,  188.400,2,  189.100,2,    2.490,2, -999.000,3,    0.250,2, -999.000
           NA,HOT timeseries 1988to2019 27SEP2021,    197,  99,-999.0,    8018,-999.0,20080527,2058,  22.7497, -158.0028,  4741,  253.400,   15.463,   34.525,2,   34.507,2,  190.800,2,  193.700,2,    5.540,2,    6.800,2,    0.500,2, -999.000
           NA,HOT timeseries 1988to2019 27SEP2021,    197,  99,-999.0,    8017,-999.0,20080527,2058,  22.7497, -158.0028,  4741,  320.400,   11.959,   34.192,2,   34.195,2,  199.100,2,  185.900,2,   11.780,2,   12.900,2,    0.940,2, -999.000
           NA,HOT timeseries 1988to2019 27SEP2021,    197,  99,-999.0,    8016,-999.0,20080527,2058,  22.7497, -158.0028,  4741,  367.500,   10.405,   34.143,2,   34.142,2,  187.300,2,  185.300,2,   21.150,2,   16.550,2,    1.180,2, -999.000
           NA,HOT timeseries 1988to2019 27SEP2021,    197,  99,-999.0,    8015,-999.0,20080527,2058,  22.7497, -158.0028,  4741,  428.600,    8.715,   34.100,2,   34.099,2,  167.300,2,  162.600,2,   31.300,2,   22.470,2,    1.560,2, -999.000
           NA,HOT timeseries 1988to2019 27SEP2021,    197,  99,-999.0,    8014,-999.0,20080527,2058,  22.7497, -158.0028,  4741,  494.600,    7.393,   34.067,2,   34.066,2,  114.800,2,  115.500,2,   45.510,2,   29.110,2,    2.070,2, -999.000
           NA,HOT timeseries 1988to2019 27SEP2021,    197,  99,-999.0,    8025,-999.0,20080527,2058,  22.7497, -158.0028,  4741,  543.000,    6.599,   34.068,2,   34.068,2,   94.700,2,   92.800,2,   54.860,2,   32.510,2,    2.320,2, -999.000
           NA,HOT timeseries 1988to2019 27SEP2021,    197,  99,-999.0,    8012,-999.0,20080527,2058,  22.7497, -158.0028,  4741,  587.200,    6.142,   34.104,2,   34.107,2,   71.000,2,   66.000,2,   63.790,2,   35.570,2,    2.580,2, -999.000
           NA,HOT timeseries 1988to2019 27SEP2021,    197,  99,-999.0,    8011,-999.0,20080527,2058,  22.7497, -158.0028,  4741,  628.400,    5.613,   34.162,2,   34.160,2,   44.900,2,   46.100,2,   74.010,2,   38.150,2,    2.770,2, -999.000
           NA,HOT timeseries 1988to2019 27SEP2021,    197,  99,-999.0,    8010,-999.0,20080527,2058,  22.7497, -158.0028,  4741,  663.500,    5.406,   34.204,2,   34.201,2,   37.200,2,   37.300,2,   80.480,2,   39.340,2,    2.870,2, -999.000
           NA,HOT timeseries 1988to2019 27SEP2021,    197,  99,-999.0,    8009,-999.0,20080527,2058,  22.7497, -158.0028,  4741,  700.700,    5.141,   34.243,2,   34.242,2,   30.800,2,   30.300,2,   85.610,2,   40.430,2,    2.940,2, -999.000
           NA,HOT timeseries 1988to2019 27SEP2021,    197,  99,-999.0,    8026,-999.0,20080527,2058,  22.7497, -158.0028,  4741,  784.500,    4.770,   34.321,2,   34.322,2,   26.900,2,   26.900,2,   96.380,2,   41.510,2,    3.020,2, -999.000
           NA,HOT timeseries 1988to2019 27SEP2021,    197,  99,-999.0,    8006,-999.0,20080527,2058,  22.7497, -158.0028,  4741,  832.300,    4.535,   34.349,2,   34.345,2,   29.700,2,   29.000,2,   99.560,2,   41.630,2,    3.010,2, -999.000
           NA,HOT timeseries 1988to2019 27SEP2021,    197,  99,-999.0,    8005,-999.0,20080527,2058,  22.7497, -158.0028,  4741,  881.800,    4.390,   34.401,2,   34.399,2,   31.300,2,   31.900,2,  103.080,2,   41.740,2,    3.020,2, -999.000
           NA,HOT timeseries 1988to2019 27SEP2021,    197,  99,-999.0,    8003,-999.0,20080527,2058,  22.7497, -158.0028,  4741,  949.400,    4.157,   34.444,2,   34.444,2,   36.700,2,   36.900,2,  108.010,2,   42.110,2,    3.010,2, -999.000
           NA,HOT timeseries 1988to2019 27SEP2021,    197,  99,-999.0,    8002,-999.0,20080527,2058,  22.7497, -158.0028,  4741,  984.400,    4.046,   34.453,2,   34.453,2,   38.900,2,   38.400,2,  110.560,2,   41.660,2,    3.010,2, -999.000
           NA,HOT timeseries 1988to2019 27SEP2021,    197,  99,-999.0,    8001,-999.0,20080527,2058,  22.7497, -158.0028,  4741, 1021.500,    3.936,   34.467,2,   34.466,2,   41.900,2,   41.100,2,  112.590,2,   41.390,2,    3.000,2, -999.000
           NA,HOT timeseries 1988to2019 27SEP2021,    197,  99,-999.0,    8020,-999.0,20080527,2058,  22.7497, -158.0028,  4741, 1199.400,    3.402,   34.523,2,   34.523,2,   53.200,2,   53.100,2,  122.640,2,   41.520,2,    2.960,2, -999.000
           NA,HOT timeseries 1988to2019 27SEP2021,    197,  99,-999.0,    8019,-999.0,20080527,2058,  22.7497, -158.0028,  4741, 1400.200,    2.958,   34.559,2,   34.559,2,   63.000,2,   63.300,2,  133.460,2,   41.250,2,    2.920,2, -999.000
           NA,HOT timeseries 1988to2019 27SEP2021,    197,  99,-999.0,    8018,-999.0,20080527,2058,  22.7497, -158.0028,  4741, 1599.600,    2.561,   34.587,2,   34.586,2,   73.500,2,   73.700,2,  141.200,2,   40.720,2,    2.870,2, -999.000
           NA,HOT timeseries 1988to2019 27SEP2021,    197,  99,-999.0,    8017,-999.0,20080527,2058,  22.7497, -158.0028,  4741, 1800.000,    2.279,   34.606,2,   34.605,2,   81.600,2,   82.900,2,  148.170,2,   40.250,2,    2.830,2, -999.000
           NA,HOT timeseries 1988to2019 27SEP2021,    197,  99,-999.0,    8016,-999.0,20080527,2058,  22.7497, -158.0028,  4741, 1999.400,    2.081,   34.620,2,   34.621,2,   87.300,2,   87.300,2,  153.790,2,   39.890,2,    2.800,2, -999.000
           NA,HOT timeseries 1988to2019 27SEP2021,    197,  99,-999.0,    8015,-999.0,20080527,2058,  22.7497, -158.0028,  4741, 2200.500,    1.891,   34.637,2,   34.638,2,   97.100,2,   97.800,2,  156.220,2,   39.280,2,    2.750,2, -999.000
           NA,HOT timeseries 1988to2019 27SEP2021,    197,  99,-999.0,    8014,-999.0,20080527,2058,  22.7497, -158.0028,  4741, 2398.800,    1.784,   34.647,2,   34.647,2,  103.400,2,  104.200,2,  158.480,2,   38.920,2,    2.730,2, -999.000
           NA,HOT timeseries 1988to2019 27SEP2021,    197,  99,-999.0,    8025,-999.0,20080527,2058,  22.7497, -158.0028,  4741, 2600.700,    1.684,   34.656,2,   34.657,2,  110.500,2,  110.700,2,  159.000,2,   38.630,2,    2.700,2, -999.000
           NA,HOT timeseries 1988to2019 27SEP2021,    197,  99,-999.0,    8012,-999.0,20080527,2058,  22.7497, -158.0028,  4741, 2798.700,    1.610,   34.664,2,   34.665,2,  117.300,2,  118.400,2,  159.970,2,   38.070,2,    2.660,2, -999.000
           NA,HOT timeseries 1988to2019 27SEP2021,    197,  99,-999.0,    8011,-999.0,20080527,2058,  22.7497, -158.0028,  4741, 3000.600,    1.554,   34.671,2,   34.671,2,  125.200,2,  126.200,2,  157.460,2,   37.530,2,    2.610,2, -999.000
           NA,HOT timeseries 1988to2019 27SEP2021,    197,  99,-999.0,    8010,-999.0,20080527,2058,  22.7497, -158.0028,  4741, 3198.900,    1.512,   34.676,2,   34.676,2,  131.200,2,  131.600,2,  156.280,2,   37.330,2,    2.600,2, -999.000
           NA,HOT timeseries 1988to2019 27SEP2021,    197,  99,-999.0,    8009,-999.0,20080527,2058,  22.7497, -158.0028,  4741, 3399.900,    1.478,   34.680,2,   34.680,2,  136.900,2,  137.500,2,  155.240,2,   36.500,2,    2.530,2, -999.000
           NA,HOT timeseries 1988to2019 27SEP2021,    197,  99,-999.0,    8008,-999.0,20080527,2058,  22.7497, -158.0028,  4741, 3598.500,    1.465,   34.683,2,   34.683,2,  141.000,2,  141.000,2,  155.720,2,   36.620,2,    2.540,2, -999.000
           NA,HOT timeseries 1988to2019 27SEP2021,    197,  99,-999.0,    8026,-999.0,20080527,2058,  22.7497, -158.0028,  4741, 3799.100,    1.458,   34.686,2,   34.686,2,  144.700,2,  144.300,2,  152.460,2,   36.290,2,    2.510,2, -999.000
           NA,HOT timeseries 1988to2019 27SEP2021,    197,  99,-999.0,    8006,-999.0,20080527,2058,  22.7497, -158.0028,  4741, 4001.000,    1.457,   34.688,2,   34.688,2,  147.900,2,  147.800,2,  150.810,2,   36.100,2,    2.500,2, -999.000
           NA,HOT timeseries 1988to2019 27SEP2021,    197,  99,-999.0,    8005,-999.0,20080527,2058,  22.7497, -158.0028,  4741, 4199.200,    1.467,   34.689,2,   34.689,2,  149.800,2,  149.500,2,  149.690,2,   36.090,2,    2.490,2, -999.000
           NA,HOT timeseries 1988to2019 27SEP2021,    197,  99,-999.0,    8004,-999.0,20080527,2058,  22.7497, -158.0028,  4741, 4400.800,    1.478,   34.690,2,   34.690,2,  152.100,2,  151.100,2,  148.690,2,   35.910,2,    2.480,2, -999.000
           NA,HOT timeseries 1988to2019 27SEP2021,    197,  99,-999.0,    8003,-999.0,20080527,2058,  22.7497, -158.0028,  4741, 4499.700,    1.487,   34.690,2,   34.691,2,  152.200,2,  152.000,2,  148.550,2,   35.810,2,    2.480,2, -999.000
           NA,HOT timeseries 1988to2019 27SEP2021,    197,  99,-999.0,    8002,-999.0,20080527,2058,  22.7497, -158.0028,  4741, 4599.100,    1.495,   34.690,2,   34.690,2,  152.800,2,  152.700,2,  149.700,2,   35.720,2,    2.480,2, -999.000
           NA,HOT timeseries 1988to2019 27SEP2021,    197,  99,-999.0,    8001,-999.0,20080527,2058,  22.7497, -158.0028,  4741, 4801.100,    1.508,   34.692,2,   34.692,2,  154.600,2,  154.200,2,  148.720,2,   35.590,2,    2.480,2, -999.000