BOTTLE,20214727JOAExport
EXPOCODE,SECT_ID,STNNBR,CASTNO,SAMPNO,BTLNBR,BTLNBR_FLAG_W,DATE,TIME,LATITUDE,LONGITUDE,DEPTH,CTDPRS,CTDTMP,CTDSAL,CTDSAL_FLAG_W,SALNTY,SALNTY_FLAG_W,CTDOXY,CTDOXY_FLAG_W,OXYGEN,OXYGEN_FLAG_W,SILCAT,SILCAT_FLAG_W,NINI,NINI_FLAG_W,PHSPHT,PHSPHT_FLAG_W,REVP
,,,,,,,,,,,,DB,IPTS-68,PSS-78,,PSS-78,,UMOL/KG,,UMOL/KG,,UMOL/KG,,UMOL/KG,,UMOL/KG,,DBAR
           NA,HOT timeseries 1988to2019 27SEP2021,    223,  99,-999.0,    8024,-999.0,20120118,2129,  22.7523, -157.9993,  4741,    4.800,   23.630,   35.222,2,   35.224,2,  211.900,2,  210.800,2,    0.930,2,    0.010,2,    0.080,2, -999.000
           NA,HOT timeseries 1988to2019 27SEP2021,    223,  99,-999.0,    8023,-999.0,20120118,2129,  22.7523, -157.9993,  4741,   38.300,   23.545,   35.237,2,   35.236,2,  212.000,2,  211.400,2,    0.910,2,    0.020,2,    0.090,2, -999.000
           NA,HOT timeseries 1988to2019 27SEP2021,    223,  99,-999.0,    8022,-999.0,20120118,2129,  22.7523, -157.9993,  4741,   70.300,   23.554,   35.314,2,   35.315,2,  211.100,2,  210.600,2,    0.900,2,    0.010,2,    0.070,2, -999.000
           NA,HOT timeseries 1988to2019 27SEP2021,    223,  99,-999.0,    8021,-999.0,20120118,2129,  22.7523, -157.9993,  4741,  135.900,   22.178,   35.291,2,   35.291,2,  201.800,2,  202.700,2,    1.280,2,    0.640,2,    0.110,2, -999.000
           NA,HOT timeseries 1988to2019 27SEP2021,    223,  99,-999.0,    8020,-999.0,20120118,2129,  22.7523, -157.9993,  4741,  177.500,   20.075,   35.134,2,   35.135,2,  197.100,2,  196.000,2,    1.850,2,    1.550,2,    0.170,2, -999.000
           NA,HOT timeseries 1988to2019 27SEP2021,    223,  99,-999.0,    8019,-999.0,20120118,2129,  22.7523, -157.9993,  4741,  244.800,   15.906,   34.511,2,   34.502,2,  195.000,2,  194.800,2, -999.000,3,    5.090,2,    0.410,2, -999.000
           NA,HOT timeseries 1988to2019 27SEP2021,    223,  99,-999.0,    8018,-999.0,20120118,2129,  22.7523, -157.9993,  4741,  309.100,   12.041,   34.135,2,   34.133,2,  189.500,2,  192.000,2,   10.140,2,   11.700,2,    0.870,2, -999.000
           NA,HOT timeseries 1988to2019 27SEP2021,    223,  99,-999.0,    8017,-999.0,20120118,2129,  22.7523, -157.9993,  4741,  357.300,   10.749,   34.111,2,   34.110,2,  197.600,2,  197.100,2,   14.520,2,   14.560,2,    1.050,2, -999.000
           NA,HOT timeseries 1988to2019 27SEP2021,    223,  99,-999.0,    8016,-999.0,20120118,2129,  22.7523, -157.9993,  4741,  417.900,    8.873,   34.053,2,   34.052,2,  156.600,2,  156.000,2,   27.450,2,   22.120,2,    1.600,2, -999.000
           NA,HOT timeseries 1988to2019 27SEP2021,    223,  99,-999.0,    8015,-999.0,20120118,2129,  22.7523, -157.9993,  4741,  451.000,    8.259,   34.053,2,   34.053,2,  136.200,2,  133.600,2,   34.180,2,   25.350,2,    1.820,2, -999.000
           NA,HOT timeseries 1988to2019 27SEP2021,    223,  99,-999.0,    8014,-999.0,20120118,2129,  22.7523, -157.9993,  4741,  487.900,    7.278,   34.025,2,   34.023,2,  128.800,2,  126.700,2,   43.120,2,   28.080,2,    1.980,2, -999.000
           NA,HOT timeseries 1988to2019 27SEP2021,    223,  99,-999.0,    8025,-999.0,20120118,2129,  22.7523, -157.9993,  4741,  500.500,    6.937,   34.022,2,   34.022,2,  117.600,2,  115.200,2,   47.590,2,   29.840,2,    2.110,2, -999.000
           NA,HOT timeseries 1988to2019 27SEP2021,    223,  99,-999.0,    8012,-999.0,20120118,2129,  22.7523, -157.9993,  4741,  528.200,    6.504,   34.030,2,   34.030,2,   97.900,2,   96.500,2,   54.020,2,   32.180,2,    2.300,2, -999.000
           NA,HOT timeseries 1988to2019 27SEP2021,    223,  99,-999.0,    8011,-999.0,20120118,2129,  22.7523, -157.9993,  4741,  568.400,    5.974,   34.044,2,   34.044,2,   75.900,2,   77.100,2,   62.570,2,   34.750,2,    2.500,2, -999.000
           NA,HOT timeseries 1988to2019 27SEP2021,    223,  99,-999.0,    8010,-999.0,20120118,2129,  22.7523, -157.9993,  4741,  617.600,    5.447,   34.125,2,   34.123,2,   47.300,2,   47.600,2,   75.030,2,   37.920,2,    2.760,2, -999.000
           NA,HOT timeseries 1988to2019 27SEP2021,    223,  99,-999.0,    8009,-999.0,20120118,2129,  22.7523, -157.9993,  4741,  678.900,    5.207,   34.224,2,   34.224,2,   35.500,2,   34.600,2,   82.690,2,   39.310,2,    2.880,2, -999.000
           NA,HOT timeseries 1988to2019 27SEP2021,    223,  99,-999.0,    8008,-999.0,20120118,2129,  22.7523, -157.9993,  4741,  703.100,    5.043,   34.245,2,   34.247,2,   34.200,2,   34.000,2,   86.060,2,   39.700,2,    2.910,2, -999.000
           NA,HOT timeseries 1988to2019 27SEP2021,    223,  99,-999.0,    8005,-999.0,20120118,2129,  22.7523, -157.9993,  4741,  848.700,    4.499,   34.397,2,   34.396,2,   38.000,2,   37.800,2,   98.320,2,   40.430,2,    2.940,2, -999.000
           NA,HOT timeseries 1988to2019 27SEP2021,    223,  99,-999.0,    8004,-999.0,20120118,2129,  22.7523, -157.9993,  4741,  900.200,    4.264,   34.415,2,   34.416,2,   39.600,2,   39.600,2,  103.050,2,   40.650,2,    2.940,2, -999.000
           NA,HOT timeseries 1988to2019 27SEP2021,    223,  99,-999.0,    8003,-999.0,20120118,2129,  22.7523, -157.9993,  4741,  949.300,    4.121,   34.432,2,   34.431,2,   41.000,2,   41.100,2,  106.080,2,   40.770,2,    2.950,2, -999.000
           NA,HOT timeseries 1988to2019 27SEP2021,    223,  99,-999.0,    8002,-999.0,20120118,2129,  22.7523, -157.9993,  4741, 1002.400,    3.935,   34.459,2,   34.459,2,   44.900,2,   45.400,2,  109.820,2,   40.710,2,    2.940,2, -999.000
           NA,HOT timeseries 1988to2019 27SEP2021,    223,  99,-999.0,    8001,-999.0,20120118,2129,  22.7523, -157.9993,  4741, 1019.000,    3.897,   34.466,2,   34.465,2,   45.500,2,   46.200,2,  110.210,2,   40.760,2,    2.930,2, -999.000
           NA,HOT timeseries 1988to2019 27SEP2021,    223,  99,-999.0,    8020,-999.0,20120118,2129,  22.7523, -157.9993,  4741, 1200.200,    3.494,   34.531,2,   34.532,2,   56.400,2,   57.300,2,  119.000,2,   41.020,2,    2.920,2, -999.000
           NA,HOT timeseries 1988to2019 27SEP2021,    223,  99,-999.0,    8019,-999.0,20120118,2129,  22.7523, -157.9993,  4741, 1398.300,    3.025,   34.556,2,   34.557,2,   63.400,2,   64.100,2,  129.440,2,   40.840,2,    2.890,2, -999.000
           NA,HOT timeseries 1988to2019 27SEP2021,    223,  99,-999.0,    8018,-999.0,20120118,2129,  22.7523, -157.9993,  4741, 1601.100,    2.667,   34.578,2,   34.579,2,   70.500,2,   71.400,2,  137.950,2,   40.530,2,    2.860,2, -999.000
           NA,HOT timeseries 1988to2019 27SEP2021,    223,  99,-999.0,    8017,-999.0,20120118,2129,  22.7523, -157.9993,  4741, 1800.500,    2.382,   34.597,2,   34.597,2,   78.600,2,   79.900,2,  144.120,2,   40.240,2,    2.840,2, -999.000
           NA,HOT timeseries 1988to2019 27SEP2021,    223,  99,-999.0,    8016,-999.0,20120118,2129,  22.7523, -157.9993,  4741, 2002.300,    2.129,   34.616,2,   34.618,2,   87.000,2,   87.700,2,  149.900,2,   39.640,2,    2.780,2, -999.000
           NA,HOT timeseries 1988to2019 27SEP2021,    223,  99,-999.0,    8015,-999.0,20120118,2129,  22.7523, -157.9993,  4741, 2200.900,    1.936,   34.632,2,   34.632,2,   96.400,2,   97.600,2,  153.320,2,   39.050,2,    2.740,2, -999.000
           NA,HOT timeseries 1988to2019 27SEP2021,    223,  99,-999.0,    8014,-999.0,20120118,2129,  22.7523, -157.9993,  4741, 2398.700,    1.803,   34.643,2,   34.643,2,  103.700,2,  104.400,2,  155.400,2,   38.720,2,    2.700,2, -999.000
           NA,HOT timeseries 1988to2019 27SEP2021,    223,  99,-999.0,    8025,-999.0,20120118,2129,  22.7523, -157.9993,  4741, 2601.600,    1.686,   34.653,2,   34.653,2,  109.400,2,  109.900,2,  158.560,2,   38.280,2,    2.680,2, -999.000
           NA,HOT timeseries 1988to2019 27SEP2021,    223,  99,-999.0,    8012,-999.0,20120118,2129,  22.7523, -157.9993,  4741, 2799.300,    1.606,   34.661,2,   34.661,2,  116.600,2,  118.100,2,  159.110,2,   37.740,2,    2.640,2, -999.000
           NA,HOT timeseries 1988to2019 27SEP2021,    223,  99,-999.0,    8011,-999.0,20120118,2129,  22.7523, -157.9993,  4741, 3001.200,    1.547,   34.668,2,   34.668,2,  124.000,2,  124.700,2,  158.050,2,   37.250,2,    2.590,2, -999.000
           NA,HOT timeseries 1988to2019 27SEP2021,    223,  99,-999.0,    8010,-999.0,20120118,2129,  22.7523, -157.9993,  4741, 3199.600,    1.510,   34.674,2,   34.674,2,  130.300,2,  131.500,2,  158.290,2,   37.020,2,    2.570,2, -999.000
           NA,HOT timeseries 1988to2019 27SEP2021,    223,  99,-999.0,    8009,-999.0,20120118,2129,  22.7523, -157.9993,  4741, 3399.800,    1.482,   34.678,2,   34.678,2,  135.500,2,  135.500,2,  156.630,2,   36.740,2,    2.550,2, -999.000
           NA,HOT timeseries 1988to2019 27SEP2021,    223,  99,-999.0,    8008,-999.0,20120118,2129,  22.7523, -157.9993,  4741, 3599.000,    1.470,   34.681,2,   34.681,2,  140.700,2,  139.300,2,  154.710,2,   36.350,2,    2.520,2, -999.000
           NA,HOT timeseries 1988to2019 27SEP2021,    223,  99,-999.0,    8026,-999.0,20120118,2129,  22.7523, -157.9993,  4741, 3801.000,    1.466,   34.682,2,   34.683,2,  144.100,2,  143.200,2,  153.340,2,   36.000,2,    2.500,2, -999.000
           NA,HOT timeseries 1988to2019 27SEP2021,    223,  99,-999.0,    8006,-999.0,20120118,2129,  22.7523, -157.9993,  4741, 3999.400,    1.458,   34.685,2,   34.685,2,  148.300,2,  147.000,2,  151.480,2,   35.740,2,    2.490,2, -999.000
           NA,HOT timeseries 1988to2019 27SEP2021,    223,  99,-999.0,    8005,-999.0,20120118,2129,  22.7523, -157.9993,  4741, 4199.600,    1.464,   34.686,2,   34.686,2, -999.000,4,  149.300,2,  150.080,2,   35.610,2,    2.470,2, -999.000
           NA,HOT timeseries 1988to2019 27SEP2021,    223,  99,-999.0,    8004,-999.0,20120118,2129,  22.7523, -157.9993,  4741, 4398.100,    1.477,   34.687,2,   34.687,2, -999.000,4,  151.800,2,  149.250,2,   35.590,2,    2.470,2, -999.000
           NA,HOT timeseries 1988to2019 27SEP2021,    223,  99,-999.0,    8003,-999.0,20120118,2129,  22.7523, -157.9993,  4741, 4497.900,    1.484,   34.688,2,   34.687,2, -999.000,4,  152.100,2,  149.450,2,   35.510,2,    2.470,2, -999.000
           NA,HOT timeseries 1988to2019 27SEP2021,    223,  99,-999.0,    8002,-999.0,20120118,2129,  22.7523, -157.9993,  4741, 4601.200,    1.493,   34.688,2,   34.688,2, -999.000,4,  153.300,2,  148.310,2,   35.480,2,    2.460,2, -999.000
           NA,HOT timeseries 1988to2019 27SEP2021,    223,  99,-999.0,    8001,-999.0,20120118,2129,  22.7523, -157.9993,  4741, 4808.500,    1.510,   34.689,2,   34.689,2, -999.000,4,  153.700,2,  146.800,2,   35.380,2,    2.440,2, -999.000