BOTTLE,20214727JOAExport
EXPOCODE,SECT_ID,STNNBR,CASTNO,SAMPNO,BTLNBR,BTLNBR_FLAG_W,DATE,TIME,LATITUDE,LONGITUDE,DEPTH,CTDPRS,CTDTMP,CTDSAL,CTDSAL_FLAG_W,SALNTY,SALNTY_FLAG_W,CTDOXY,CTDOXY_FLAG_W,OXYGEN,OXYGEN_FLAG_W,SILCAT,SILCAT_FLAG_W,NINI,NINI_FLAG_W,PHSPHT,PHSPHT_FLAG_W,REVP
,,,,,,,,,,,,DB,IPTS-68,PSS-78,,PSS-78,,UMOL/KG,,UMOL/KG,,UMOL/KG,,UMOL/KG,,UMOL/KG,,DBAR
           NA,HOT timeseries 1988to2019 27SEP2021,     81,  99,-999.0,      31,-999.0,19970708,1909,  22.7747, -158.0167,  4714,    4.600,   25.511,   35.043,2,   35.043,2,  206.200,2,  206.200,2, -999.000,4,    0.000,2,    0.050,2, -999.000
           NA,HOT timeseries 1988to2019 27SEP2021,     81,  99,-999.0,      30,-999.0,19970708,1909,  22.7747, -158.0167,  4714,   54.500,   25.382,   35.067,2,   35.067,2,  207.100,2,  207.200,2,    1.800,2,    0.000,2,    0.030,2, -999.000
           NA,HOT timeseries 1988to2019 27SEP2021,     81,  99,-999.0,      22,-999.0,19970708,1909,  22.7747, -158.0167,  4714,   74.700,   24.973,   35.035,2, -999.000,3, -999.000,3,  214.100,2, -999.000,4,    0.010,2,    0.040,2, -999.000
           NA,HOT timeseries 1988to2019 27SEP2021,     81,  99,-999.0,      21,-999.0,19970708,1909,  22.7747, -158.0167,  4714,   90.200,   23.822,   34.986,2,   34.990,2,  214.900,2,  215.000,2,    1.740,2,    0.010,2,    0.030,2, -999.000
           NA,HOT timeseries 1988to2019 27SEP2021,     81,  99,-999.0,      20,-999.0,19970708,1909,  22.7747, -158.0167,  4714,  119.400,   22.799,   35.039,2,   35.039,2,  204.400,2,  206.000,2,    1.750,2,    0.020,2,    0.060,2, -999.000
           NA,HOT timeseries 1988to2019 27SEP2021,     81,  99,-999.0,      30,-999.0,19970708,1909,  22.7747, -158.0167,  4714,  162.200,   21.263,   35.059,2,   35.066,2,  197.200,2,  198.300,2,    1.880,2,    0.560,2,    0.120,2, -999.000
           NA,HOT timeseries 1988to2019 27SEP2021,     81,  99,-999.0,      19,-999.0,19970708,1909,  22.7747, -158.0167,  4714,  185.000,   20.166,   35.064,2,   35.065,2,  192.100,2,  192.000,2,    2.760,2,    1.540,2,    0.170,2, -999.000
           NA,HOT timeseries 1988to2019 27SEP2021,     81,  99,-999.0,      18,-999.0,19970708,1909,  22.7747, -158.0167,  4714,  205.300,   19.129,   34.986,2,   34.985,2,  197.300,2,  195.300,2,    3.050,2,    2.120,2,    0.190,2, -999.000
           NA,HOT timeseries 1988to2019 27SEP2021,     81,  99,-999.0,      17,-999.0,19970708,1909,  22.7747, -158.0167,  4714,  260.500,   16.499,   34.662,2,   34.644,2,  182.900,2,  184.100,2,    5.300,2,    5.520,2,    0.450,2, -999.000
           NA,HOT timeseries 1988to2019 27SEP2021,     81,  99,-999.0,      16,-999.0,19970708,1909,  22.7747, -158.0167,  4714,  341.300,   12.523,   34.296,2,   34.294,2,  185.400,2,  184.900,2,   11.450,2,   11.600,2,    0.840,2, -999.000
           NA,HOT timeseries 1988to2019 27SEP2021,     81,  99,-999.0,      15,-999.0,19970708,1909,  22.7747, -158.0167,  4714,  375.500,   11.224,   34.202,2,   34.201,2,  176.000,2,  173.400,2,   16.000,2,   15.320,2,    1.120,2, -999.000
           NA,HOT timeseries 1988to2019 27SEP2021,     81,  99,-999.0,      14,-999.0,19970708,1909,  22.7747, -158.0167,  4714,  382.700,   10.822,   34.179,2,   34.189,2,  174.200,2,  177.000,2,   16.950,2,   15.740,2,    1.140,2, -999.000
           NA,HOT timeseries 1988to2019 27SEP2021,     81,  99,-999.0,      13,-999.0,19970708,1909,  22.7747, -158.0167,  4714,  410.500,    9.777,   34.116,2,   34.115,2,  187.600,2,  187.900,2,   20.430,2,   17.200,2,    1.190,2, -999.000
           NA,HOT timeseries 1988to2019 27SEP2021,     81,  99,-999.0,      12,-999.0,19970708,1909,  22.7747, -158.0167,  4714,  442.800,    8.801,   34.085,2,   34.086,2,  170.500,2,  171.400,2,   27.520,2,   20.900,2,    1.480,2, -999.000
           NA,HOT timeseries 1988to2019 27SEP2021,     81,  99,-999.0,      11,-999.0,19970708,1909,  22.7747, -158.0167,  4714,  500.200,    7.344,   34.036,2,   34.036,2,  144.000,2,  141.700,2,   42.020,2,   26.520,2,    1.850,2, -999.000
           NA,HOT timeseries 1988to2019 27SEP2021,     81,  99,-999.0,      32,-999.0,19970708,1909,  22.7747, -158.0167,  4714,  524.300,    6.716,   34.021,2,   34.021,2,  122.900,2,  122.600,2,   50.050,2,   29.560,2,    2.110,2, -999.000
           NA,HOT timeseries 1988to2019 27SEP2021,     81,  99,-999.0,      22,-999.0,19970708,1909,  22.7747, -158.0167,  4714,  530.900,    6.386,   34.025,2,   34.024,2,  113.900,2,  112.000,2, -999.000,4,   30.210,2,    2.160,2, -999.000
           NA,HOT timeseries 1988to2019 27SEP2021,     81,  99,-999.0,       3,-999.0,19970708,1909,  22.7747, -158.0167,  4714,  536.500,    6.456,   34.023,2,   34.023,2,  116.300,2,  114.100,2,   53.820,2,   30.800,2,    2.200,2, -999.000
           NA,HOT timeseries 1988to2019 27SEP2021,     81,  99,-999.0,      29,-999.0,19970708,1909,  22.7747, -158.0167,  4714,  586.300,    5.726,   34.055,2,   34.055,2,   80.500,2,   79.800,2,   67.910,2,   35.020,2,    2.530,2, -999.000
           NA,HOT timeseries 1988to2019 27SEP2021,     81,  99,-999.0,      28,-999.0,19970708,1909,  22.7747, -158.0167,  4714,  637.600,    5.362,   34.136,2,   34.134,2,   48.900,2, -999.000,4,   78.510,2,   38.270,2,    2.800,2, -999.000
           NA,HOT timeseries 1988to2019 27SEP2021,     81,  99,-999.0,       7,-999.0,19970708,1909,  22.7747, -158.0167,  4714,  696.700,    5.002,   34.215,2,   34.214,2,   31.800,2,   32.600,2,   88.390,2,   40.160,2,    2.960,2, -999.000
           NA,HOT timeseries 1988to2019 27SEP2021,     81,  99,-999.0,      38,-999.0,19970708,1909,  22.7747, -158.0167,  4714,  769.400,    4.811,   34.316,2,   34.315,2,   26.800,2,   26.400,2,   94.330,2,   41.090,2,    3.050,2, -999.000
           NA,HOT timeseries 1988to2019 27SEP2021,     81,  99,-999.0,      36,-999.0,19970708,1909,  22.7747, -158.0167,  4714,  795.600,    4.743,   34.347,2,   34.346,2,   27.100,2,   26.500,2,   96.010,2,   41.320,2,    3.050,2, -999.000
           NA,HOT timeseries 1988to2019 27SEP2021,     81,  99,-999.0,      35,-999.0,19970708,1909,  22.7747, -158.0167,  4714,  873.600,    4.526,   34.406,2,   34.405,2,   29.200,2,   29.000,2,  100.700,2,   41.640,2,    3.100,2, -999.000
           NA,HOT timeseries 1988to2019 27SEP2021,     81,  99,-999.0,      34,-999.0,19970708,1909,  22.7747, -158.0167,  4714,  951.200,    4.252,   34.462,2,   34.461,2,   35.900,2,   35.200,2,  106.070,2,   41.760,2,    3.060,2, -999.000
           NA,HOT timeseries 1988to2019 27SEP2021,     81,  99,-999.0,      33,-999.0,19970708,1909,  22.7747, -158.0167,  4714, 1022.000,    3.999,   34.492,2,   34.491,2,   40.900,2,   41.100,2,  110.960,2,   41.760,2,    3.050,2, -999.000
           NA,HOT timeseries 1988to2019 27SEP2021,     81,  99,-999.0,      20,-999.0,19970708,1909,  22.7747, -158.0167,  4714, 1399.500,    3.078,   34.560,2,   34.561,2,   59.200,2,   59.300,2,  127.830,2,   40.990,2,    2.970,2, -999.000
           NA,HOT timeseries 1988to2019 27SEP2021,     81,  99,-999.0,      19,-999.0,19970708,1909,  22.7747, -158.0167,  4714, 1600.700,    2.714,   34.584,2,   34.585,2,   68.200,2,   67.700,2,  138.240,2,   40.720,2,    2.870,2, -999.000
           NA,HOT timeseries 1988to2019 27SEP2021,     81,  99,-999.0,      18,-999.0,19970708,1909,  22.7747, -158.0167,  4714, 1805.400,    2.404,   34.604,2,   34.603,2,   77.800,2,   77.100,2,  145.290,2,   40.270,2,    2.870,2, -999.000
           NA,HOT timeseries 1988to2019 27SEP2021,     81,  99,-999.0,      17,-999.0,19970708,1909,  22.7747, -158.0167,  4714, 2001.600,    2.148,   34.621,2, -999.000,3, -999.000,3,   86.900,2,  150.560,2,   39.730,2,    2.820,2, -999.000
           NA,HOT timeseries 1988to2019 27SEP2021,     81,  99,-999.0,      16,-999.0,19970708,1909,  22.7747, -158.0167,  4714, 2200.900,    1.953,   34.634,2,   34.635,2,   94.900,2,   95.100,2, -999.000,3,   39.380,2,    2.780,2, -999.000
           NA,HOT timeseries 1988to2019 27SEP2021,     81,  99,-999.0,      15,-999.0,19970708,1909,  22.7747, -158.0167,  4714, 2398.400,    1.817,   34.644,2,   34.643,2,  100.700,2,  101.800,2,  158.400,2,   39.000,2,    2.750,2, -999.000
           NA,HOT timeseries 1988to2019 27SEP2021,     81,  99,-999.0,      14,-999.0,19970708,1909,  22.7747, -158.0167,  4714, 2599.700,    1.705,   34.653,2,   34.652,2,  107.200,2,  107.100,2,  160.940,2,   38.620,2, -999.000,3, -999.000
           NA,HOT timeseries 1988to2019 27SEP2021,     81,  99,-999.0,      13,-999.0,19970708,1909,  22.7747, -158.0167,  4714, 2799.800,    1.636,   34.661,2,   34.661,2,  113.600,2,  115.900,2,  160.710,2,   38.220,2,    2.690,2, -999.000
           NA,HOT timeseries 1988to2019 27SEP2021,     81,  99,-999.0,      12,-999.0,19970708,1909,  22.7747, -158.0167,  4714, 2999.400,    1.572,   34.668,2,   34.668,2,  120.900,2,  121.200,2,  160.740,2,   37.750,2,    2.660,2, -999.000
           NA,HOT timeseries 1988to2019 27SEP2021,     81,  99,-999.0,      11,-999.0,19970708,1909,  22.7747, -158.0167,  4714, 3199.600,    1.527,   34.674,2,   34.674,2,  126.700,2,  127.900,2,  159.480,2,   37.400,2,    2.610,2, -999.000
           NA,HOT timeseries 1988to2019 27SEP2021,     81,  99,-999.0,      32,-999.0,19970708,1909,  22.7747, -158.0167,  4714, 3399.500,    1.500,   34.679,2,   34.678,2,  133.000,2, -999.000,5,  157.500,2,   36.890,2,    2.580,2, -999.000
           NA,HOT timeseries 1988to2019 27SEP2021,     81,  99,-999.0,       3,-999.0,19970708,1909,  22.7747, -158.0167,  4714, 3598.800,    1.477,   34.682,2,   34.684,2,  137.900,2,  138.200,2,  155.540,2,   36.620,2,    2.560,2, -999.000
           NA,HOT timeseries 1988to2019 27SEP2021,     81,  99,-999.0,      29,-999.0,19970708,1909,  22.7747, -158.0167,  4714, 3800.300,    1.464,   34.685,2,   34.685,2,  143.000,2,  142.700,2,  154.220,2,   36.430,2,    2.530,2, -999.000
           NA,HOT timeseries 1988to2019 27SEP2021,     81,  99,-999.0,      28,-999.0,19970708,1909,  22.7747, -158.0167,  4714, 4001.300,    1.464,   34.687,2,   34.686,2,  146.300,2,  145.700,2,  153.140,2,   36.150,2,    2.510,2, -999.000
           NA,HOT timeseries 1988to2019 27SEP2021,     81,  99,-999.0,       7,-999.0,19970708,1909,  22.7747, -158.0167,  4714, 4198.300,    1.470,   34.689,2,   34.691,2,  148.700,2,  148.800,2,  151.520,2,   35.930,2,    2.490,2, -999.000
           NA,HOT timeseries 1988to2019 27SEP2021,     81,  99,-999.0,      38,-999.0,19970708,1909,  22.7747, -158.0167,  4714, 4302.400,    1.474,   34.689,2,   34.688,2,  150.100,2, -999.000,5,  150.780,2,   35.900,2,    2.490,2, -999.000
           NA,HOT timeseries 1988to2019 27SEP2021,     81,  99,-999.0,      36,-999.0,19970708,1909,  22.7747, -158.0167,  4714, 4399.300,    1.481,   34.690,2,   34.692,2,  151.000,2,  150.500,2,  150.480,2,   35.770,2,    2.470,2, -999.000
           NA,HOT timeseries 1988to2019 27SEP2021,     81,  99,-999.0,      35,-999.0,19970708,1909,  22.7747, -158.0167,  4714, 4498.400,    1.485,   34.691,2,   34.693,2,  152.600,2,  151.600,2,  149.660,2,   35.670,2,    2.470,2, -999.000
           NA,HOT timeseries 1988to2019 27SEP2021,     81,  99,-999.0,      34,-999.0,19970708,1909,  22.7747, -158.0167,  4714, 4602.900,    1.491,   34.691,2, -999.000,4, -999.000,3, -999.000,5,  148.490,2, -999.000,4, -999.000,4, -999.000
           NA,HOT timeseries 1988to2019 27SEP2021,     81,  99,-999.0,      33,-999.0,19970708,1909,  22.7747, -158.0167,  4714, 4801.200,    1.502,   34.692,2,   34.693,2,  155.800,2, -999.000,5,  147.520,2, -999.000,3,    2.450,2, -999.000