BOTTLE,20214727JOAExport
EXPOCODE,SECT_ID,STNNBR,CASTNO,SAMPNO,BTLNBR,BTLNBR_FLAG_W,DATE,TIME,LATITUDE,LONGITUDE,DEPTH,CTDPRS,CTDTMP,CTDSAL,CTDSAL_FLAG_W,SALNTY,SALNTY_FLAG_W,CTDOXY,CTDOXY_FLAG_W,OXYGEN,OXYGEN_FLAG_W,SILCAT,SILCAT_FLAG_W,NINI,NINI_FLAG_W,PHSPHT,PHSPHT_FLAG_W,REVP
,,,,,,,,,,,,DB,IPTS-68,PSS-78,,PSS-78,,UMOL/KG,,UMOL/KG,,UMOL/KG,,UMOL/KG,,UMOL/KG,,DBAR
           NA,HOT timeseries 1988to2019 27SEP2021,     27,  99,-999.0,      23,-999.0,19910917,1824,  22.7567, -157.9950,  4749,   12.700,   26.314,   35.045,2,   35.045,2,  230.500,2,  204.600,2,    1.290,2,    0.000,2,    0.060,2, -999.000
           NA,HOT timeseries 1988to2019 27SEP2021,     27,  99,-999.0,      22,-999.0,19910917,1824,  22.7567, -157.9950,  4749,   17.400,   26.310,   35.045,2,   35.044,2,  230.100,2,  204.500,2,    1.500,2,    0.000,2,    0.070,2, -999.000
           NA,HOT timeseries 1988to2019 27SEP2021,     27,  99,-999.0,      21,-999.0,19910917,1824,  22.7567, -157.9950,  4749,   32.300,   26.304,   35.043,2,   35.046,2,  229.700,2,  204.700,2,    1.290,2,    0.000,2,    0.060,2, -999.000
           NA,HOT timeseries 1988to2019 27SEP2021,     27,  99,-999.0,      27,-999.0,19910917,1824,  22.7567, -157.9950,  4749,   54.200,   26.212,   35.029,2, -999.000,5,  228.100,2,  208.200,2,    0.860,2,    0.000,2,    0.070,2, -999.000
           NA,HOT timeseries 1988to2019 27SEP2021,     27,  99,-999.0,      20,-999.0,19910917,1824,  22.7567, -157.9950,  4749,   58.400,   26.244,   35.032,2,   35.032,2,  218.500,2,  205.600,2,    1.290,2,    0.000,2,    0.060,2, -999.000
           NA,HOT timeseries 1988to2019 27SEP2021,     27,  99,-999.0,      19,-999.0,19910917,1824,  22.7567, -157.9950,  4749,   76.800,   24.237,   35.072,2,   35.071,2,  235.100,2,  225.600,2,    1.290,2,    0.000,2,    0.040,2, -999.000
           NA,HOT timeseries 1988to2019 27SEP2021,     27,  99,-999.0,      18,-999.0,19910917,1824,  22.7567, -157.9950,  4749,   85.700,   23.752,   35.074,2,   35.074,2,  229.600,2,  225.000,2,    1.070,2,    0.000,2,    0.070,2, -999.000
           NA,HOT timeseries 1988to2019 27SEP2021,     27,  99,-999.0,      17,-999.0,19910917,1824,  22.7567, -157.9950,  4749,  144.600,   22.004,   35.219,2,   35.216,2,  201.000,2,  207.200,2,    1.500,2,    0.330,2,    0.090,2, -999.000
           NA,HOT timeseries 1988to2019 27SEP2021,     27,  99,-999.0,      23,-999.0,19910917,1824,  22.7567, -157.9950,  4749,  201.800,   19.968,   35.176,2,   35.171,2,  195.900,2,  194.300,2,    1.930,2,    1.710,2,    0.190,2, -999.000
           NA,HOT timeseries 1988to2019 27SEP2021,     27,  99,-999.0,      16,-999.0,19910917,1824,  22.7567, -157.9950,  4749,  202.300,   19.687,   35.148,2,   35.139,2,  189.300,2,  193.900,2,    2.040,2,    2.030,2,    0.200,2, -999.000
           NA,HOT timeseries 1988to2019 27SEP2021,     27,  99,-999.0,      15,-999.0,19910917,1824,  22.7567, -157.9950,  4749,  264.500,   16.096,   34.714,2,   34.708,2,  192.600,2,  194.900,2,    4.740,2,    5.150,2,    0.420,2, -999.000
           NA,HOT timeseries 1988to2019 27SEP2021,     27,  99,-999.0,      14,-999.0,19910917,1824,  22.7567, -157.9950,  4749,  341.100,   11.986,   34.265,2,   34.260,2,  202.600,2,  201.400,2,   11.410,2,   11.550,2,    0.840,2, -999.000
           NA,HOT timeseries 1988to2019 27SEP2021,     27,  99,-999.0,      13,-999.0,19910917,1824,  22.7567, -157.9950,  4749,  380.100,   10.191,   34.142,2,   34.142,2,  191.400,2,  187.300,2,   18.960,2,   16.550,2,    1.190,2, -999.000
           NA,HOT timeseries 1988to2019 27SEP2021,     27,  99,-999.0,      12,-999.0,19910917,1824,  22.7567, -157.9950,  4749,  385.900,    9.998,   34.134,2,   34.132,2,  188.300,2,  184.800,2,   20.030,2,   17.340,2,    1.260,2, -999.000
           NA,HOT timeseries 1988to2019 27SEP2021,     27,  99,-999.0,      11,-999.0,19910917,1824,  22.7567, -157.9950,  4749,  434.100,    8.777,   34.086,2,   34.085,2,  175.500,2,  171.100,2,   28.220,2,   21.320,2,    1.510,2, -999.000
           NA,HOT timeseries 1988to2019 27SEP2021,     27,  99,-999.0,      22,-999.0,19910917,1824,  22.7567, -157.9950,  4749,  502.200,    7.329,   34.064,2,   34.066,2,  125.600,2,  118.700,2,   44.810,2,   28.590,2,    2.050,2, -999.000
           NA,HOT timeseries 1988to2019 27SEP2021,     27,  99,-999.0,      10,-999.0,19910917,1824,  22.7567, -157.9950,  4749,  505.900,    7.372,   34.065,2,   34.065,2,  122.900,2,  120.300,2,   44.590,2,   28.640,2,    2.080,2, -999.000
           NA,HOT timeseries 1988to2019 27SEP2021,     27,  99,-999.0,       9,-999.0,19910917,1824,  22.7567, -157.9950,  4749,  550.900,    6.714,   34.089,2,   34.087,2,   85.100,2,   87.800,2,   55.590,2,   32.690,2,    2.400,2, -999.000
           NA,HOT timeseries 1988to2019 27SEP2021,     27,  99,-999.0,       8,-999.0,19910917,1824,  22.7567, -157.9950,  4749,  601.200,    5.917,   34.113,2,   34.117,2,   64.100,2,   62.500,2,   67.430,2,   36.320,2,    2.650,2, -999.000
           NA,HOT timeseries 1988to2019 27SEP2021,     27,  99,-999.0,       7,-999.0,19910917,1824,  22.7567, -157.9950,  4749,  651.200,    5.587,   34.181,2,   34.179,2,   43.500,2,   41.800,2,   77.120,2,   38.660,2,    2.840,2, -999.000
           NA,HOT timeseries 1988to2019 27SEP2021,     27,  99,-999.0,       6,-999.0,19910917,1824,  22.7567, -157.9950,  4749,  721.800,    5.266,   34.276,2,   34.278,2,   30.000,2,   29.200,2,   86.380,2,   40.410,2,    2.970,2, -999.000
           NA,HOT timeseries 1988to2019 27SEP2021,     27,  99,-999.0,      26,-999.0,19910917,1824,  22.7567, -157.9950,  4749,  784.600,    4.885,   34.360,2,   34.358,2,   30.800,2,   30.100,2,   85.730,2, -999.000,3,    2.990,2, -999.000
           NA,HOT timeseries 1988to2019 27SEP2021,     27,  99,-999.0,      25,-999.0,19910917,1824,  22.7567, -157.9950,  4749,  876.900,    4.553,   34.420,2,   34.420,2,   34.900,2,   34.200,2,  100.370,2,   41.700,2,    3.030,2, -999.000
           NA,HOT timeseries 1988to2019 27SEP2021,     27,  99,-999.0,      21,-999.0,19910917,1824,  22.7567, -157.9950,  4749,  904.700,    4.479,   34.442,2,   34.442,2,   38.700,2,   36.800,2,   99.730,2,   41.350,2,    3.000,2, -999.000
           NA,HOT timeseries 1988to2019 27SEP2021,     27,  99,-999.0,       3,-999.0,19910917,1824,  22.7567, -157.9950,  4749,  927.400,    4.437,   34.449,2,   34.449,2,   37.600,2,   37.700,2,  102.520,2,   41.820,2,    3.030,2, -999.000
           NA,HOT timeseries 1988to2019 27SEP2021,     27,  99,-999.0,       2,-999.0,19910917,1824,  22.7567, -157.9950,  4749,  977.200,    4.253,   34.465,2,   34.463,2,   39.400,2,   40.200,2,  106.180,2,   41.930,2,    3.050,2, -999.000
           NA,HOT timeseries 1988to2019 27SEP2021,     27,  99,-999.0,       1,-999.0,19910917,1824,  22.7567, -157.9950,  4749, 1047.600,    4.078,   34.480,2,   34.480,2,   42.500,2,   42.600,2,  109.740,2,   41.820,2,    3.030,2, -999.000
           NA,HOT timeseries 1988to2019 27SEP2021,     27,  99,-999.0,      20,-999.0,19910917,1824,  22.7567, -157.9950,  4749, 1141.500,    3.768,   34.502,2,   34.500,2,   46.400,2,   46.100,2,  115.440,2,   41.810,2,    3.030,2, -999.000
           NA,HOT timeseries 1988to2019 27SEP2021,     27,  99,-999.0,      19,-999.0,19910917,1824,  22.7567, -157.9950,  4749, 1295.200,    3.274,   34.540,2,   34.542,2,   56.500,2,   55.900,2,  126.200,2,   41.580,2,    3.000,2, -999.000
           NA,HOT timeseries 1988to2019 27SEP2021,     27,  99,-999.0,      18,-999.0,19910917,1824,  22.7567, -157.9950,  4749, 1542.600,    2.786,   34.571,2, -999.000,4, -999.000,3,   69.500,2, -999.000,4, -999.000,4, -999.000,4, -999.000
           NA,HOT timeseries 1988to2019 27SEP2021,     27,  99,-999.0,      17,-999.0,19910917,1824,  22.7567, -157.9950,  4749, 1691.900,    2.500,   34.590,2,   34.590,2,   74.700,2,   74.700,2,  142.790,2,   40.520,2, -999.000,4, -999.000
           NA,HOT timeseries 1988to2019 27SEP2021,     27,  99,-999.0,      16,-999.0,19910917,1824,  22.7567, -157.9950,  4749, 1843.200,    2.301,   34.602,2,   34.602,2,   79.700,2,   79.800,2,  147.740,2,   40.410,2, -999.000,4, -999.000
           NA,HOT timeseries 1988to2019 27SEP2021,     27,  99,-999.0,      15,-999.0,19910917,1824,  22.7567, -157.9950,  4749, 1997.600,    2.073,   34.617,2,   34.617,2,   85.700,2,   85.700,2,  154.620,2,   40.170,2,    2.870,2, -999.000
           NA,HOT timeseries 1988to2019 27SEP2021,     27,  99,-999.0,      14,-999.0,19910917,1824,  22.7567, -157.9950,  4749, 2193.800,    1.910,   34.630,2,   34.630,2,   93.900,2,   93.600,2,  157.640,2,   39.530,2,    2.810,2, -999.000
           NA,HOT timeseries 1988to2019 27SEP2021,     27,  99,-999.0,      13,-999.0,19910917,1824,  22.7567, -157.9950,  4749, 2395.800,    1.770,   34.643,2,   34.645,2,  101.100,2,  102.000,2,  161.090,2,   39.110,2,    2.770,2, -999.000
           NA,HOT timeseries 1988to2019 27SEP2021,     27,  99,-999.0,      12,-999.0,19910917,1824,  22.7567, -157.9950,  4749, 2593.600,    1.661,   34.654,2, -999.000,4, -999.000,3,  110.200,2,  161.090,2,   38.530,2,    2.740,2, -999.000
           NA,HOT timeseries 1988to2019 27SEP2021,     27,  99,-999.0,      11,-999.0,19910917,1824,  22.7567, -157.9950,  4749, 2787.100,    1.606,   34.659,2,   34.661,2,  115.700,2,  116.400,2,  160.000,2,   38.060,2,    2.680,2, -999.000
           NA,HOT timeseries 1988to2019 27SEP2021,     27,  99,-999.0,      10,-999.0,19910917,1824,  22.7567, -157.9950,  4749, 2993.500,    1.541,   34.666,2,   34.666,2,  151.300,2,  124.600,2,  159.570,2,   37.590,2,    2.640,2, -999.000
           NA,HOT timeseries 1988to2019 27SEP2021,     27,  99,-999.0,       9,-999.0,19910917,1824,  22.7567, -157.9950,  4749, 3191.900,    1.503,   34.671,2,   34.671,2,  113.800,2,  130.400,2,  157.310,2,   37.240,2,    2.610,2, -999.000
           NA,HOT timeseries 1988to2019 27SEP2021,     27,  99,-999.0,       8,-999.0,19910917,1824,  22.7567, -157.9950,  4749, 3370.900,    1.481,   34.675,2,   34.676,2,  135.700,2,  135.900,2,  155.700,2,   36.770,2,    2.580,2, -999.000
           NA,HOT timeseries 1988to2019 27SEP2021,     27,  99,-999.0,       7,-999.0,19910917,1824,  22.7567, -157.9950,  4749, 3601.500,    1.463,   34.680,2,   34.680,2,  140.300,2,  141.300,2,  154.620,2,   36.530,2,    2.550,2, -999.000
           NA,HOT timeseries 1988to2019 27SEP2021,     27,  99,-999.0,       6,-999.0,19910917,1824,  22.7567, -157.9950,  4749, 3804.300,    1.453,   34.682,2,   34.683,2,  144.700,2,  145.100,2,  152.470,2,   36.180,2,    2.520,2, -999.000
           NA,HOT timeseries 1988to2019 27SEP2021,     27,  99,-999.0,      26,-999.0,19910917,1824,  22.7567, -157.9950,  4749, 4004.900,    1.456,   34.684,2,   34.685,2,  147.300,2,  148.500,2,  150.960,2,   36.070,2,    2.530,2, -999.000
           NA,HOT timeseries 1988to2019 27SEP2021,     27,  99,-999.0,      25,-999.0,19910917,1824,  22.7567, -157.9950,  4749, 4212.100,    1.466,   34.686,2,   34.686,2,  150.500,2,  149.700,2,  150.090,2,   35.950,2,    2.490,2, -999.000
           NA,HOT timeseries 1988to2019 27SEP2021,     27,  99,-999.0,       3,-999.0,19910917,1824,  22.7567, -157.9950,  4749, 4407.400,    1.479,   34.687,2,   34.686,2,  151.300,2,  151.300,2,  149.880,2,   35.830,2,    2.480,2, -999.000
           NA,HOT timeseries 1988to2019 27SEP2021,     27,  99,-999.0,       2,-999.0,19910917,1824,  22.7567, -157.9950,  4749, 4727.000,    1.501,   34.688,2,   34.688,2,  154.400,2,  153.600,2,  148.800,2,   35.660,2,    2.480,2, -999.000
           NA,HOT timeseries 1988to2019 27SEP2021,     27,  99,-999.0,       1,-999.0,19910917,1824,  22.7567, -157.9950,  4749, 4727.000,    1.501,   34.688,2,   34.688,2,  154.400,2, -999.000,3,  148.160,2,   35.610,2,    2.480,2, -999.000