BOTTLE,20214727JOAExport
EXPOCODE,SECT_ID,STNNBR,CASTNO,SAMPNO,BTLNBR,BTLNBR_FLAG_W,DATE,TIME,LATITUDE,LONGITUDE,DEPTH,CTDPRS,CTDTMP,CTDSAL,CTDSAL_FLAG_W,SALNTY,SALNTY_FLAG_W,CTDOXY,CTDOXY_FLAG_W,OXYGEN,OXYGEN_FLAG_W,SILCAT,SILCAT_FLAG_W,NINI,NINI_FLAG_W,PHSPHT,PHSPHT_FLAG_W,REVP
,,,,,,,,,,,,DB,IPTS-68,PSS-78,,PSS-78,,UMOL/KG,,UMOL/KG,,UMOL/KG,,UMOL/KG,,UMOL/KG,,DBAR
           NA,HOT timeseries 1988to2019 27SEP2021,    112,  99,-999.0,      31,-999.0,20000620,1858,  22.7537, -157.9985,  4724,    4.700,   25.360,   35.194,2,   35.194,2,  210.300,2,  212.300,2,    1.030,2,    0.000,2,    0.090,2, -999.000
           NA,HOT timeseries 1988to2019 27SEP2021,    112,  99,-999.0,      31,-999.0,20000620,1858,  22.7537, -157.9985,  4724,    5.100,   25.266,   35.192,2,   35.196,2,  211.200,2,  211.600,2,    1.140,2,    0.000,2,    0.070,2, -999.000
           NA,HOT timeseries 1988to2019 27SEP2021,    112,  99,-999.0,      30,-999.0,20000620,1858,  22.7537, -157.9985,  4724,   51.300,   23.587,   35.415,2,   35.414,2,  220.500,2,  221.700,2,    1.500,2,    0.010,2,    0.040,2, -999.000
           NA,HOT timeseries 1988to2019 27SEP2021,    112,  99,-999.0,      22,-999.0,20000620,1858,  22.7537, -157.9985,  4724,   74.400,   22.959,   35.419,2,   35.419,2,  218.400,2,  220.100,2,    1.500,2,    0.000,2,    0.050,2, -999.000
           NA,HOT timeseries 1988to2019 27SEP2021,    112,  99,-999.0,      21,-999.0,20000620,1858,  22.7537, -157.9985,  4724,  123.600,   22.123,   35.399,2,   35.396,2,  212.400,2,  216.200,2,    1.630,2,    0.010,2,    0.060,2, -999.000
           NA,HOT timeseries 1988to2019 27SEP2021,    112,  99,-999.0,      20,-999.0,20000620,1858,  22.7537, -157.9985,  4724,  175.400,   20.469,   35.222,2,   35.226,2,  196.300,2,  196.600,2,    2.210,2,    1.490,2,    0.190,2, -999.000
           NA,HOT timeseries 1988to2019 27SEP2021,    112,  99,-999.0,      19,-999.0,20000620,1858,  22.7537, -157.9985,  4724,  194.700,   19.417,   35.088,2,   35.095,2,  194.400,2,  194.200,2,    2.670,2,    2.310,2,    0.230,2, -999.000
           NA,HOT timeseries 1988to2019 27SEP2021,    112,  99,-999.0,      18,-999.0,20000620,1858,  22.7537, -157.9985,  4724,  245.300,   16.202,   34.671,2,   34.684,2,  199.800,2,  195.600,2,    5.000,2,    4.850,2,    0.410,2, -999.000
           NA,HOT timeseries 1988to2019 27SEP2021,    112,  99,-999.0,      17,-999.0,20000620,1858,  22.7537, -157.9985,  4724,  285.600,   13.895,   34.402,2, -999.000,3, -999.000,3,  197.800,2,    7.280,2,    7.510,2,    0.640,2, -999.000
           NA,HOT timeseries 1988to2019 27SEP2021,    112,  99,-999.0,      16,-999.0,20000620,1858,  22.7537, -157.9985,  4724,  324.600,   11.780,   34.236,2,   34.240,2,  199.700,2,  200.700,2,   11.810,2,   11.690,2,    0.840,2, -999.000
           NA,HOT timeseries 1988to2019 27SEP2021,    112,  99,-999.0,      23,-999.0,20000620,1858,  22.7537, -157.9985,  4724,  364.800,   10.426,   34.161,2,   34.160,2,  193.700,2,  194.900,2,   17.300,2,   15.310,2,    1.090,2, -999.000
           NA,HOT timeseries 1988to2019 27SEP2021,    112,  99,-999.0,      14,-999.0,20000620,1858,  22.7537, -157.9985,  4724,  424.200,    8.885,   34.078,2,   34.077,2,  182.700,2,  182.000,2,   26.050,2,   19.900,2,    1.400,2, -999.000
           NA,HOT timeseries 1988to2019 27SEP2021,    112,  99,-999.0,      13,-999.0,20000620,1858,  22.7537, -157.9985,  4724,  484.100,    7.388,   34.066,2,   34.065,2,  119.500,2,  118.600,2,   43.520,2,   28.250,2,    2.100,2, -999.000
           NA,HOT timeseries 1988to2019 27SEP2021,    112,  99,-999.0,      12,-999.0,20000620,1858,  22.7537, -157.9985,  4724,  536.600,    6.641,   34.085,2,   34.085,2,   91.100,2,   86.600,2,   55.310,2,   32.510,2,    2.390,2, -999.000
           NA,HOT timeseries 1988to2019 27SEP2021,    112,  99,-999.0,      11,-999.0,20000620,1858,  22.7537, -157.9985,  4724,  586.400,    6.130,   34.115,2,   34.112,2,   75.000,2,   71.200,2,   64.570,2,   35.000,2,    2.590,2, -999.000
           NA,HOT timeseries 1988to2019 27SEP2021,    112,  99,-999.0,      32,-999.0,20000620,1858,  22.7537, -157.9985,  4724,  619.200,    5.801,   34.185,2,   34.184,2,   59.400,2,   56.000,2,   73.000,2,   36.870,2,    2.780,2, -999.000
           NA,HOT timeseries 1988to2019 27SEP2021,    112,  99,-999.0,       3,-999.0,20000620,1858,  22.7537, -157.9985,  4724,  658.400,    5.514,   34.222,2,   34.226,2,   46.400,2,   44.700,2,   78.730,2,   38.420,2,    2.880,2, -999.000
           NA,HOT timeseries 1988to2019 27SEP2021,    112,  99,-999.0,      29,-999.0,20000620,1858,  22.7537, -157.9985,  4724,  693.300,    5.321,   34.232,2,   34.231,2,   41.400,2,   40.200,2,   82.650,2,   39.210,2,    2.940,2, -999.000
           NA,HOT timeseries 1988to2019 27SEP2021,    112,  99,-999.0,      28,-999.0,20000620,1858,  22.7537, -157.9985,  4724,  729.500,    5.033,   34.269,2,   34.269,2,   35.800,2,   33.200,2,   89.090,2,   40.350,2,    3.020,2, -999.000
           NA,HOT timeseries 1988to2019 27SEP2021,    112,  99,-999.0,       7,-999.0,20000620,1858,  22.7537, -157.9985,  4724,  764.000,    4.905,   34.325,2,   34.328,2,   33.100,2,   33.100,2,   91.600,2,   40.210,2,    3.020,2, -999.000
           NA,HOT timeseries 1988to2019 27SEP2021,    112,  99,-999.0,      38,-999.0,20000620,1858,  22.7537, -157.9985,  4724,  799.300,    4.682,   34.352,2,   34.348,2,   30.600,2,   30.500,2,   97.390,2,   41.160,2,    3.080,2, -999.000
           NA,HOT timeseries 1988to2019 27SEP2021,    112,  99,-999.0,      36,-999.0,20000620,1858,  22.7537, -157.9985,  4724,  848.800,    4.353,   34.375,2,   34.375,2,   28.600,2, -999.000,4,  104.540,2,   41.770,2,    3.050,2, -999.000
           NA,HOT timeseries 1988to2019 27SEP2021,    112,  99,-999.0,      35,-999.0,20000620,1858,  22.7537, -157.9985,  4724,  899.100,    4.170,   34.399,2,   34.398,2,   29.700,2,   29.800,2,  108.700,2,   41.920,2,    3.070,2, -999.000
           NA,HOT timeseries 1988to2019 27SEP2021,    112,  99,-999.0,      33,-999.0,20000620,1858,  22.7537, -157.9985,  4724, 1019.600,    3.977,   34.468,2,   34.468,2,   38.900,2,   38.900,2,  111.840,2,   41.580,2,    3.080,2, -999.000
           NA,HOT timeseries 1988to2019 27SEP2021,    112,  99,-999.0,      20,-999.0,20000620,1858,  22.7537, -157.9985,  4724, 1201.200,    3.451,   34.528,2,   34.527,2,   50.700,2,   51.100,2,  122.180,2,   41.360,2,    3.010,2, -999.000
           NA,HOT timeseries 1988to2019 27SEP2021,    112,  99,-999.0,      19,-999.0,20000620,1858,  22.7537, -157.9985,  4724, 1400.600,    2.994,   34.558,2,   34.558,2,   60.600,2,   60.900,2,  131.560,2,   41.000,2,    2.960,2, -999.000
           NA,HOT timeseries 1988to2019 27SEP2021,    112,  99,-999.0,      18,-999.0,20000620,1858,  22.7537, -157.9985,  4724, 1599.700,    2.651,   34.582,2,   34.581,2,   70.900,2,   71.400,2,  139.540,2,   40.420,2,    2.910,2, -999.000
           NA,HOT timeseries 1988to2019 27SEP2021,    112,  99,-999.0,      17,-999.0,20000620,1858,  22.7537, -157.9985,  4724, 1801.300,    2.346,   34.602,2,   34.601,2,   77.700,2,   77.900,2,  147.230,2,   40.130,2,    2.900,2, -999.000
           NA,HOT timeseries 1988to2019 27SEP2021,    112,  99,-999.0,      16,-999.0,20000620,1858,  22.7537, -157.9985,  4724, 2000.400,    2.112,   34.617,2,   34.616,2,   85.600,2,   86.100,2,  152.640,2,   39.710,2,    2.850,2, -999.000
           NA,HOT timeseries 1988to2019 27SEP2021,    112,  99,-999.0,      23,-999.0,20000620,1858,  22.7537, -157.9985,  4724, 2199.800,    1.933,   34.630,2,   34.630,2,   92.200,2,   92.500,2,  157.510,2,   39.200,2,    2.810,2, -999.000
           NA,HOT timeseries 1988to2019 27SEP2021,    112,  99,-999.0,      14,-999.0,20000620,1858,  22.7537, -157.9985,  4724, 2400.100,    1.816,   34.641,2, -999.000,3, -999.000,3,  100.600,2,  159.530,2,   38.860,2,    2.760,2, -999.000
           NA,HOT timeseries 1988to2019 27SEP2021,    112,  99,-999.0,      13,-999.0,20000620,1858,  22.7537, -157.9985,  4724, 2599.300,    1.714,   34.651,2, -999.000,4, -999.000,3,  108.100,2,  159.640,2,   38.410,2,    2.720,2, -999.000
           NA,HOT timeseries 1988to2019 27SEP2021,    112,  99,-999.0,      12,-999.0,20000620,1858,  22.7537, -157.9985,  4724, 2799.500,    1.646,   34.658,2,   34.659,2,  113.400,2,  115.100,2,  161.210,2,   38.050,2,    2.700,2, -999.000
           NA,HOT timeseries 1988to2019 27SEP2021,    112,  99,-999.0,      11,-999.0,20000620,1858,  22.7537, -157.9985,  4724, 2999.100,    1.574,   34.666,2,   34.665,2,  120.300,2,  121.300,2,  160.930,2, -999.000,3, -999.000,3, -999.000
           NA,HOT timeseries 1988to2019 27SEP2021,    112,  99,-999.0,      32,-999.0,20000620,1858,  22.7537, -157.9985,  4724, 3199.200,    1.529,   34.671,2,   34.671,2,  127.800,2,  127.900,2,  158.050,2,   37.100,2,    2.620,2, -999.000
           NA,HOT timeseries 1988to2019 27SEP2021,    112,  99,-999.0,       3,-999.0,20000620,1858,  22.7537, -157.9985,  4724, 3399.300,    1.493,   34.676,2, -999.000,3, -999.000,3,  134.800,2,  157.480,2,   36.890,2,    2.600,2, -999.000
           NA,HOT timeseries 1988to2019 27SEP2021,    112,  99,-999.0,      29,-999.0,20000620,1858,  22.7537, -157.9985,  4724, 3599.400,    1.472,   34.680,2,   34.680,2,  139.000,2,  139.600,2,  156.120,2,   36.310,2,    2.560,2, -999.000
           NA,HOT timeseries 1988to2019 27SEP2021,    112,  99,-999.0,      28,-999.0,20000620,1858,  22.7537, -157.9985,  4724, 3799.100,    1.462,   34.682,2,   34.682,2,  143.500,2,  143.800,2,  154.140,2,   36.230,2,    2.540,2, -999.000
           NA,HOT timeseries 1988to2019 27SEP2021,    112,  99,-999.0,       7,-999.0,20000620,1858,  22.7537, -157.9985,  4724, 3999.100,    1.458,   34.684,2,   34.686,2,  147.100,2,  147.100,2,  152.790,2,   35.980,2,    2.520,2, -999.000
           NA,HOT timeseries 1988to2019 27SEP2021,    112,  99,-999.0,      38,-999.0,20000620,1858,  22.7537, -157.9985,  4724, 4199.000,    1.466,   34.686,2,   34.686,2,  149.400,2,  149.100,2,  151.120,2,   35.720,2,    2.500,2, -999.000
           NA,HOT timeseries 1988to2019 27SEP2021,    112,  99,-999.0,      36,-999.0,20000620,1858,  22.7537, -157.9985,  4724, 4398.500,    1.477,   34.687,2,   34.687,2,  151.400,2,  151.000,2,  150.510,2,   35.580,2,    2.490,2, -999.000
           NA,HOT timeseries 1988to2019 27SEP2021,    112,  99,-999.0,      35,-999.0,20000620,1858,  22.7537, -157.9985,  4724, 4499.000,    1.486,   34.687,2,   34.688,2,  152.200,2,  151.500,2,  149.770,2,   35.640,2,    2.490,2, -999.000
           NA,HOT timeseries 1988to2019 27SEP2021,    112,  99,-999.0,      34,-999.0,20000620,1858,  22.7537, -157.9985,  4724, 4599.400,    1.495,   34.687,2,   34.688,2,  152.700,2,  151.800,2,  150.000,2,   35.590,2,    2.490,2, -999.000
           NA,HOT timeseries 1988to2019 27SEP2021,    112,  99,-999.0,      33,-999.0,20000620,1858,  22.7537, -157.9985,  4724, 4804.500,    1.514,   34.688,2,   34.689,2,  153.700,2,  153.000,2,  149.660,2,   35.410,2,    2.460,2, -999.000