BOTTLE,20214727JOAExport
EXPOCODE,SECT_ID,STNNBR,CASTNO,SAMPNO,BTLNBR,BTLNBR_FLAG_W,DATE,TIME,LATITUDE,LONGITUDE,DEPTH,CTDPRS,CTDTMP,CTDSAL,CTDSAL_FLAG_W,SALNTY,SALNTY_FLAG_W,CTDOXY,CTDOXY_FLAG_W,OXYGEN,OXYGEN_FLAG_W,SILCAT,SILCAT_FLAG_W,NINI,NINI_FLAG_W,PHSPHT,PHSPHT_FLAG_W,REVP
,,,,,,,,,,,,DB,IPTS-68,PSS-78,,PSS-78,,UMOL/KG,,UMOL/KG,,UMOL/KG,,UMOL/KG,,UMOL/KG,,DBAR
           NA,HOT timeseries 1988to2019 27SEP2021,     67,  99,-999.0,      31,-999.0,19960423,1235,  22.7487, -158.0030,  4724,    4.200,   24.084,   34.756,2,   34.757,2,  213.700,2,  212.500,2,    1.270,2,    0.000,2,    0.110,2, -999.000
           NA,HOT timeseries 1988to2019 27SEP2021,     67,  99,-999.0,      31,-999.0,19960423,1235,  22.7487, -158.0030,  4724,    4.500,   24.063,   34.771,2,   34.771,2,  213.700,2,  213.000,2,    1.240,2,    0.010,2,    0.100,2, -999.000
           NA,HOT timeseries 1988to2019 27SEP2021,     67,  99,-999.0,      30,-999.0,19960423,1235,  22.7487, -158.0030,  4724,   76.600,   23.262,   34.890,2,   34.892,2,  213.700,2,  214.100,2,    1.180,2,    0.000,2,    0.090,2, -999.000
           NA,HOT timeseries 1988to2019 27SEP2021,     67,  99,-999.0,      22,-999.0,19960423,1235,  22.7487, -158.0030,  4724,  100.600,   22.624,   34.981,2,   34.980,2,  213.400,2,  212.700,2,    1.260,2,    0.000,2,    0.100,2, -999.000
           NA,HOT timeseries 1988to2019 27SEP2021,     67,  99,-999.0,      21,-999.0,19960423,1235,  22.7487, -158.0030,  4724,  115.000,   22.226,   35.033,2, -999.000,4, -999.000,3,  213.600,2,    1.270,2,    0.000,2,    0.100,2, -999.000
           NA,HOT timeseries 1988to2019 27SEP2021,     67,  99,-999.0,      20,-999.0,19960423,1235,  22.7487, -158.0030,  4724,  130.400,   21.794,   35.090,2,   35.092,2,  215.300,2,  213.700,2,    1.290,2,    0.030,2,    0.070,2, -999.000
           NA,HOT timeseries 1988to2019 27SEP2021,     67,  99,-999.0,      19,-999.0,19960423,1235,  22.7487, -158.0030,  4724,  155.800,   21.021,   35.116,2,   35.116,2,  198.100,2,  198.300,2,    1.580,2,    0.820,2,    0.160,2, -999.000
           NA,HOT timeseries 1988to2019 27SEP2021,     67,  99,-999.0,      30,-999.0,19960423,1235,  22.7487, -158.0030,  4724,  162.700,   19.934,   35.126,2,   35.122,2,  194.300,2,  193.900,2,    2.040,2,    1.790,2,    0.220,2, -999.000
           NA,HOT timeseries 1988to2019 27SEP2021,     67,  99,-999.0,      18,-999.0,19960423,1235,  22.7487, -158.0030,  4724,  171.400,   20.202,   35.146,2,   35.145,2,  189.200,2,  194.100,2,    1.850,2,    1.590,2,    0.200,2, -999.000
           NA,HOT timeseries 1988to2019 27SEP2021,     67,  99,-999.0,      17,-999.0,19960423,1235,  22.7487, -158.0030,  4724,  255.900,   16.487,   34.708,2,   34.716,2,  189.000,2,  190.100,2,    4.480,2,    5.030,2,    0.410,2, -999.000
           NA,HOT timeseries 1988to2019 27SEP2021,     67,  99,-999.0,      16,-999.0,19960423,1235,  22.7487, -158.0030,  4724,  341.900,   11.950,   34.237,2,   34.237,2,  177.300,2,  178.200,2,   12.460,2,   13.420,2,    0.980,2, -999.000
           NA,HOT timeseries 1988to2019 27SEP2021,     67,  99,-999.0,      15,-999.0,19960423,1235,  22.7487, -158.0030,  4724,  377.300,   10.377,   34.126,2, -999.000,4, -999.000,3,  189.400,2,   15.110,2,   14.870,2,    1.070,2, -999.000
           NA,HOT timeseries 1988to2019 27SEP2021,     67,  99,-999.0,      14,-999.0,19960423,1235,  22.7487, -158.0030,  4724,  400.100,    9.776,   34.119,2,   34.119,2,  188.100,2,  186.500,2,   19.850,2,   17.430,2,    1.230,2, -999.000
           NA,HOT timeseries 1988to2019 27SEP2021,     67,  99,-999.0,      22,-999.0,19960423,1235,  22.7487, -158.0030,  4724,  440.100,    8.957,   34.100,2,   34.099,2,  180.700,2,  176.400,2,   25.270,2,   19.760,2,    1.350,2, -999.000
           NA,HOT timeseries 1988to2019 27SEP2021,     67,  99,-999.0,      13,-999.0,19960423,1235,  22.7487, -158.0030,  4724,  440.800,    8.994,   34.098,2,   34.098,2,  179.500,2,  176.300,2,   25.400,2,   20.000,2,    1.410,2, -999.000
           NA,HOT timeseries 1988to2019 27SEP2021,     67,  99,-999.0,      12,-999.0,19960423,1235,  22.7487, -158.0030,  4724,  463.300,    8.428,   34.080,2,   34.079,2,  170.600,2,  163.100,2,   30.540,2,   22.420,2,    1.570,2, -999.000
           NA,HOT timeseries 1988to2019 27SEP2021,     67,  99,-999.0,      11,-999.0,19960423,1235,  22.7487, -158.0030,  4724,  502.100,    7.954,   34.186,2,   34.185,2,   90.600,2,   87.400,2,   42.760,2,   29.490,2,    2.180,2, -999.000
           NA,HOT timeseries 1988to2019 27SEP2021,     67,  99,-999.0,      32,-999.0,19960423,1235,  22.7487, -158.0030,  4724,  539.900,    7.245,   34.180,2,   34.178,2,   75.700,2,   71.100,2,   50.950,2,   32.280,2,    2.400,2, -999.000
           NA,HOT timeseries 1988to2019 27SEP2021,     67,  99,-999.0,       3,-999.0,19960423,1235,  22.7487, -158.0030,  4724,  600.800,    6.323,   34.176,2,   34.173,2,   56.300,2,   51.800,2,   63.220,2,   35.810,2,    2.640,2, -999.000
           NA,HOT timeseries 1988to2019 27SEP2021,     67,  99,-999.0,      29,-999.0,19960423,1235,  22.7487, -158.0030,  4724,  643.200,    5.871,   34.217,2,   34.216,2,   39.000,2,   37.600,2,   72.000,2,   38.040,2,    2.810,2, -999.000
           NA,HOT timeseries 1988to2019 27SEP2021,     67,  99,-999.0,      28,-999.0,19960423,1235,  22.7487, -158.0030,  4724,  712.700,    5.306,   34.261,2,   34.260,2,   29.800,2,   28.500,2,   82.470,2,   39.980,2,    2.920,2, -999.000
           NA,HOT timeseries 1988to2019 27SEP2021,     67,  99,-999.0,      21,-999.0,19960423,1235,  22.7487, -158.0030,  4724,  754.700,    4.933,   34.363,2,   34.361,2,   26.000,2, -999.000,4,   90.110,2,   40.720,2,    2.930,2, -999.000
           NA,HOT timeseries 1988to2019 27SEP2021,     67,  99,-999.0,       7,-999.0,19960423,1235,  22.7487, -158.0030,  4724,  782.200,    4.936,   34.340,2,   34.340,2,   24.900,2,   24.300,2,   90.570,2,   41.140,2,    3.010,2, -999.000
           NA,HOT timeseries 1988to2019 27SEP2021,     67,  99,-999.0,      38,-999.0,19960423,1235,  22.7487, -158.0030,  4724,  813.800,    4.867,   34.376,2,   34.376,2,   25.300,2,   25.200,2,   91.380,2,   40.990,2,    3.010,2, -999.000
           NA,HOT timeseries 1988to2019 27SEP2021,     67,  99,-999.0,      36,-999.0,19960423,1235,  22.7487, -158.0030,  4724,  868.200,    4.653,   34.421,2,   34.420,2,   27.900,2,   28.500,2,   96.340,2,   41.670,2,    3.040,2, -999.000
           NA,HOT timeseries 1988to2019 27SEP2021,     67,  99,-999.0,      35,-999.0,19960423,1235,  22.7487, -158.0030,  4724,  899.700,    4.617,   34.448,2,   34.447,2,   30.700,2,   30.400,2,   97.230,2,   41.850,2,    3.030,2, -999.000
           NA,HOT timeseries 1988to2019 27SEP2021,     67,  99,-999.0,      34,-999.0,19960423,1235,  22.7487, -158.0030,  4724,  949.700,    4.375,   34.465,2,   34.465,2,   35.000,2,   35.200,2,  101.510,2,   41.680,2,    3.020,2, -999.000
           NA,HOT timeseries 1988to2019 27SEP2021,     67,  99,-999.0,      33,-999.0,19960423,1235,  22.7487, -158.0030,  4724, 1021.200,    4.118,   34.489,2,   34.489,2,   39.700,2,   38.400,2,  106.610,2,   41.820,2,    3.000,2, -999.000
           NA,HOT timeseries 1988to2019 27SEP2021,     67,  99,-999.0,      20,-999.0,19960423,1235,  22.7487, -158.0030,  4724, 1201.300,    3.556,   34.531,2,   34.530,2,   48.900,2,   48.700,2,  117.550,2,   41.250,2,    2.950,2, -999.000
           NA,HOT timeseries 1988to2019 27SEP2021,     67,  99,-999.0,      19,-999.0,19960423,1235,  22.7487, -158.0030,  4724, 1401.600,    3.174,   34.559,2,   34.558,2,   56.200,2,   56.100,2,  126.260,2,   41.240,2,    2.930,2, -999.000
           NA,HOT timeseries 1988to2019 27SEP2021,     67,  99,-999.0,      18,-999.0,19960423,1235,  22.7487, -158.0030,  4724, 1600.000,    2.819,   34.579,2,   34.578,2,   66.400,2,   66.000,2,  134.120,2,   40.830,2,    2.910,2, -999.000
           NA,HOT timeseries 1988to2019 27SEP2021,     67,  99,-999.0,      17,-999.0,19960423,1235,  22.7487, -158.0030,  4724, 1800.300,    2.434,   34.602,2,   34.601,2,   77.200,2,   78.000,2,  142.400,2,   40.050,2,    2.860,2, -999.000
           NA,HOT timeseries 1988to2019 27SEP2021,     67,  99,-999.0,      16,-999.0,19960423,1235,  22.7487, -158.0030,  4724, 1999.300,    2.182,   34.616,2,   34.616,2,   85.800,2,   85.700,2,  148.130,2,   39.570,2,    2.810,2, -999.000
           NA,HOT timeseries 1988to2019 27SEP2021,     67,  99,-999.0,      15,-999.0,19960423,1235,  22.7487, -158.0030,  4724, 2200.300,    1.978,   34.630,2, -999.000,4, -999.000,3, -999.000,4, -999.000,4, -999.000,4, -999.000,4, -999.000
           NA,HOT timeseries 1988to2019 27SEP2021,     67,  99,-999.0,      14,-999.0,19960423,1235,  22.7487, -158.0030,  4724, 2399.700,    1.802,   34.642,2,   34.640,2,   98.500,2,   99.000,2,  158.240,2, -999.000,3, -999.000,3, -999.000
           NA,HOT timeseries 1988to2019 27SEP2021,     67,  99,-999.0,      13,-999.0,19960423,1235,  22.7487, -158.0030,  4724, 2598.600,    1.698,   34.652,2,   34.650,2,  105.600,2,  106.000,2,  160.140,2,   38.450,2,    2.730,2, -999.000
           NA,HOT timeseries 1988to2019 27SEP2021,     67,  99,-999.0,      12,-999.0,19960423,1235,  22.7487, -158.0030,  4724, 2799.700,    1.629,   34.660,2,   34.659,2,  113.400,2,  113.400,2,  160.210,2,   38.010,2,    2.690,2, -999.000
           NA,HOT timeseries 1988to2019 27SEP2021,     67,  99,-999.0,      11,-999.0,19960423,1235,  22.7487, -158.0030,  4724, 3000.100,    1.563,   34.668,2,   34.668,2,  121.200,2,  122.400,2,  159.430,2,   37.520,2,    2.650,2, -999.000
           NA,HOT timeseries 1988to2019 27SEP2021,     67,  99,-999.0,      32,-999.0,19960423,1235,  22.7487, -158.0030,  4724, 3199.400,    1.518,   34.674,2,   34.674,2,  127.800,2,  128.500,2,  158.080,2,   36.970,2,    2.600,2, -999.000
           NA,HOT timeseries 1988to2019 27SEP2021,     67,  99,-999.0,       3,-999.0,19960423,1235,  22.7487, -158.0030,  4724, 3400.200,    1.486,   34.678,2,   34.676,2,  134.600,2,  135.700,2,  155.710,2,   36.720,2,    2.580,2, -999.000
           NA,HOT timeseries 1988to2019 27SEP2021,     67,  99,-999.0,      29,-999.0,19960423,1235,  22.7487, -158.0030,  4724, 3599.900,    1.460,   34.682,2,   34.681,2,  141.200,2,  141.700,2,  155.910,2,   36.550,2,    2.540,2, -999.000
           NA,HOT timeseries 1988to2019 27SEP2021,     67,  99,-999.0,      28,-999.0,19960423,1235,  22.7487, -158.0030,  4724, 3799.600,    1.456,   34.684,2,   34.682,2,  144.300,2,  144.800,2,  153.550,2,   36.340,2,    2.530,2, -999.000
           NA,HOT timeseries 1988to2019 27SEP2021,     67,  99,-999.0,       7,-999.0,19960423,1235,  22.7487, -158.0030,  4724, 4000.900,    1.456,   34.686,2,   34.684,2,  147.500,2,  147.600,2,  151.770,2,   36.120,2,    2.510,2, -999.000
           NA,HOT timeseries 1988to2019 27SEP2021,     67,  99,-999.0,      38,-999.0,19960423,1235,  22.7487, -158.0030,  4724, 4200.500,    1.464,   34.688,2,   34.686,2,  150.100,2,  149.900,2,  149.140,2,   35.860,2,    2.510,2, -999.000
           NA,HOT timeseries 1988to2019 27SEP2021,     67,  99,-999.0,      36,-999.0,19960423,1235,  22.7487, -158.0030,  4724, 4400.000,    1.478,   34.688,2,   34.687,2,  151.300,2,  151.000,2,  148.730,2,   35.650,2,    2.470,2, -999.000
           NA,HOT timeseries 1988to2019 27SEP2021,     67,  99,-999.0,      35,-999.0,19960423,1235,  22.7487, -158.0030,  4724, 4599.700,    1.495,   34.689,2,   34.688,2,  153.000,2,  152.400,2,  147.660,2,   35.710,2,    2.460,2, -999.000
           NA,HOT timeseries 1988to2019 27SEP2021,     67,  99,-999.0,      34,-999.0,19960423,1235,  22.7487, -158.0030,  4724, 4700.400,    1.503,   34.689,2,   34.687,2,  153.300,2,  152.500,2,  147.150,2,   35.640,2,    2.460,2, -999.000
           NA,HOT timeseries 1988to2019 27SEP2021,     67,  99,-999.0,      33,-999.0,19960423,1235,  22.7487, -158.0030,  4724, 4811.600,    1.516,   34.689,2,   34.687,2,  153.700,2,  152.800,2,  147.520,2,   35.700,2,    2.460,2, -999.000