BOTTLE,20214727JOAExport
EXPOCODE,SECT_ID,STNNBR,CASTNO,SAMPNO,BTLNBR,BTLNBR_FLAG_W,DATE,TIME,LATITUDE,LONGITUDE,DEPTH,CTDPRS,CTDTMP,CTDSAL,CTDSAL_FLAG_W,SALNTY,SALNTY_FLAG_W,CTDOXY,CTDOXY_FLAG_W,OXYGEN,OXYGEN_FLAG_W,SILCAT,SILCAT_FLAG_W,NINI,NINI_FLAG_W,PHSPHT,PHSPHT_FLAG_W,REVP
,,,,,,,,,,,,DB,IPTS-68,PSS-78,,PSS-78,,UMOL/KG,,UMOL/KG,,UMOL/KG,,UMOL/KG,,UMOL/KG,,DBAR
           NA,HOT timeseries 1988to2019 27SEP2021,    198,  99,-999.0,    8024,-999.0,20080625,1523,  22.7503, -158.0002,  4743,    6.900,   25.487,   35.069,2,   35.071,2,  209.000,2,  209.400,2,    1.440,2,    0.050,2,    0.060,2, -999.000
           NA,HOT timeseries 1988to2019 27SEP2021,    198,  99,-999.0,    8024,-999.0,20080625,1523,  22.7503, -158.0002,  4743,    7.500,   25.531,   35.075,2,   35.075,2,  207.800,2,  208.400,2, -999.000,4,    0.060,2,    0.050,2, -999.000
           NA,HOT timeseries 1988to2019 27SEP2021,    198,  99,-999.0,    8023,-999.0,20080625,1523,  22.7503, -158.0002,  4743,   65.700,   24.711,   35.082,2,   35.080,2,  217.300,2,  217.500,2,    0.860,2,    0.090,2,    0.030,2, -999.000
           NA,HOT timeseries 1988to2019 27SEP2021,    198,  99,-999.0,    8022,-999.0,20080625,1523,  22.7503, -158.0002,  4743,   79.800,   24.005,   35.091,2,   35.091,2,  217.900,2,  217.700,2,    0.850,2,    0.120,2,    0.040,2, -999.000
           NA,HOT timeseries 1988to2019 27SEP2021,    198,  99,-999.0,    8021,-999.0,20080625,1523,  22.7503, -158.0002,  4743,  102.200,   22.864,   35.098,2,   35.098,2,  210.200,2,  211.200,2,    0.950,2,    0.110,2,    0.070,2, -999.000
           NA,HOT timeseries 1988to2019 27SEP2021,    198,  99,-999.0,    8020,-999.0,20080625,1523,  22.7503, -158.0002,  4743,  135.000,   21.462,   35.056,2,   35.048,2,  198.600,2,  199.700,2,    1.460,2,    0.470,2,    0.150,2, -999.000
           NA,HOT timeseries 1988to2019 27SEP2021,    198,  99,-999.0,    8019,-999.0,20080625,1523,  22.7503, -158.0002,  4743,  186.400,   18.641,   34.816,2,   34.812,2,  183.300,2,  184.000,2,    3.310,2,    4.160,2,    0.370,2, -999.000
           NA,HOT timeseries 1988to2019 27SEP2021,    198,  99,-999.0,    8018,-999.0,20080625,1523,  22.7503, -158.0002,  4743,  230.800,   15.512,   34.448,2, -999.000,3, -999.000,3,  174.900,2,    6.040,2,    7.920,2,    0.650,2, -999.000
           NA,HOT timeseries 1988to2019 27SEP2021,    198,  99,-999.0,    8017,-999.0,20080625,1523,  22.7503, -158.0002,  4743,  263.300,   13.708,   34.289,2,   34.283,2,  182.300,2,  178.100,2,    8.620,2,   10.410,2,    0.810,2, -999.000
           NA,HOT timeseries 1988to2019 27SEP2021,    198,  99,-999.0,    8016,-999.0,20080625,1523,  22.7503, -158.0002,  4743,  295.600,   12.224,   34.179,2,   34.178,2,  173.400,2,  173.300,2,   12.260,2,   13.600,2,    1.040,2, -999.000
           NA,HOT timeseries 1988to2019 27SEP2021,    198,  99,-999.0,    8015,-999.0,20080625,1523,  22.7503, -158.0002,  4743,  354.900,   10.494,   34.143,2,   34.144,2,  172.900,2,  172.000,2,   18.940,2,   17.470,2,    1.280,2, -999.000
           NA,HOT timeseries 1988to2019 27SEP2021,    198,  99,-999.0,    8014,-999.0,20080625,1523,  22.7503, -158.0002,  4743,  388.000,    9.825,   34.132,2,   34.131,2,  159.300,2,  165.300,2, -999.000,4,   19.750,2,    1.420,2, -999.000
           NA,HOT timeseries 1988to2019 27SEP2021,    198,  99,-999.0,    8025,-999.0,20080625,1523,  22.7503, -158.0002,  4743,  420.700,    9.151,   34.108,2,   34.104,2,  165.200,2,  166.200,2,   27.350,2,   21.450,2,    1.510,2, -999.000
           NA,HOT timeseries 1988to2019 27SEP2021,    198,  99,-999.0,    8012,-999.0,20080625,1523,  22.7503, -158.0002,  4743,  480.200,    7.454,   34.063,2,   34.063,2,  121.800,2,  123.000,2,   44.190,2,   28.730,2,    2.030,2, -999.000
           NA,HOT timeseries 1988to2019 27SEP2021,    198,  99,-999.0,    8011,-999.0,20080625,1523,  22.7503, -158.0002,  4743,  515.400,    6.969,   34.082,2,   34.082,2,  105.700,2,  103.600,2,   52.840,2,   31.140,2,    2.230,2, -999.000
           NA,HOT timeseries 1988to2019 27SEP2021,    198,  99,-999.0,    8010,-999.0,20080625,1523,  22.7503, -158.0002,  4743,  574.300,    6.129,   34.101,2,   34.101,2,   69.200,2,   68.100,2,   63.730,2,   36.000,2,    2.620,2, -999.000
           NA,HOT timeseries 1988to2019 27SEP2021,    198,  99,-999.0,    8008,-999.0,20080625,1523,  22.7503, -158.0002,  4743,  639.400,    5.324,   34.139,2,   34.139,2,   48.800,2,   47.200,2,   79.560,2,   39.140,2,    2.810,2, -999.000
           NA,HOT timeseries 1988to2019 27SEP2021,    198,  99,-999.0,    8026,-999.0,20080625,1523,  22.7503, -158.0002,  4743,  690.600,    4.929,   34.213,2,   34.207,2,   36.000,2,   36.200,2,   88.460,2,   40.450,2,    2.950,2, -999.000
           NA,HOT timeseries 1988to2019 27SEP2021,    198,  99,-999.0,    8006,-999.0,20080625,1523,  22.7503, -158.0002,  4743,  749.500,    4.645,   34.311,2,   34.311,2,   32.000,2,   31.800,2,   96.380,2,   41.510,2,    2.990,2, -999.000
           NA,HOT timeseries 1988to2019 27SEP2021,    198,  99,-999.0,    8005,-999.0,20080625,1523,  22.7503, -158.0002,  4743,  799.400,    4.457,   34.343,2,   34.344,2,   29.700,2,   29.100,2,  101.000,2,   42.170,2,    3.040,2, -999.000
           NA,HOT timeseries 1988to2019 27SEP2021,    198,  99,-999.0,    8004,-999.0,20080625,1523,  22.7503, -158.0002,  4743,  840.700,    4.341,   34.386,2,   34.387,2,   30.500,2,   30.700,2,  103.620,2,   42.220,2,    3.040,2, -999.000
           NA,HOT timeseries 1988to2019 27SEP2021,    198,  99,-999.0,    8003,-999.0,20080625,1523,  22.7503, -158.0002,  4743,  902.400,    4.184,   34.427,2,   34.426,2,   34.600,2,   35.000,2,  107.140,2,   42.390,2,    3.070,2, -999.000
           NA,HOT timeseries 1988to2019 27SEP2021,    198,  99,-999.0,    8002,-999.0,20080625,1523,  22.7503, -158.0002,  4743,  961.300,    3.983,   34.468,2,   34.466,2,   39.600,2,   40.600,2,  110.530,2,   42.310,2,    3.020,2, -999.000
           NA,HOT timeseries 1988to2019 27SEP2021,    198,  99,-999.0,    8001,-999.0,20080625,1523,  22.7503, -158.0002,  4743, 1020.500,    3.851,   34.487,2,   34.488,2,   42.900,2,   43.700,2,  113.240,2,   42.020,2,    3.010,2, -999.000
           NA,HOT timeseries 1988to2019 27SEP2021,    198,  99,-999.0,    8020,-999.0,20080625,1523,  22.7503, -158.0002,  4743, 1200.900,    3.419,   34.530,2,   34.528,2,   53.200,2,   53.200,2,  120.880,2,   41.200,2,    2.960,2, -999.000
           NA,HOT timeseries 1988to2019 27SEP2021,    198,  99,-999.0,    8019,-999.0,20080625,1523,  22.7503, -158.0002,  4743, 1399.900,    3.014,   34.561,2,   34.560,2,   62.100,2,   62.400,2,  130.220,2,   40.910,2,    2.920,2, -999.000
           NA,HOT timeseries 1988to2019 27SEP2021,    198,  99,-999.0,    8018,-999.0,20080625,1523,  22.7503, -158.0002,  4743, 1599.800,    2.663,   34.581,2,   34.581,2,   70.700,2,   71.600,2,  137.420,2,   40.440,2,    2.880,2, -999.000
           NA,HOT timeseries 1988to2019 27SEP2021,    198,  99,-999.0,    8017,-999.0,20080625,1523,  22.7503, -158.0002,  4743, 1799.800,    2.384,   34.603,2,   34.602,2,   79.800,2,   80.200,2,  143.330,2,   40.070,2,    2.840,2, -999.000
           NA,HOT timeseries 1988to2019 27SEP2021,    198,  99,-999.0,    8016,-999.0,20080625,1523,  22.7503, -158.0002,  4743, 2000.600,    2.115,   34.621,2,   34.620,2,   89.500,2,   89.400,2,  149.310,2,   39.520,2,    2.790,2, -999.000
           NA,HOT timeseries 1988to2019 27SEP2021,    198,  99,-999.0,    8015,-999.0,20080625,1523,  22.7503, -158.0002,  4743, 2200.300,    1.953,   34.631,2,   34.630,2,   95.300,2,   95.100,2,  153.900,2,   39.330,2,    2.770,2, -999.000
           NA,HOT timeseries 1988to2019 27SEP2021,    198,  99,-999.0,    8014,-999.0,20080625,1523,  22.7503, -158.0002,  4743, 2399.900,    1.799,   34.645,2,   34.644,2,  103.700,2,  104.000,2,  155.980,2,   38.740,2,    2.730,2, -999.000
           NA,HOT timeseries 1988to2019 27SEP2021,    198,  99,-999.0,    8025,-999.0,20080625,1523,  22.7503, -158.0002,  4743, 2599.200,    1.674,   34.656,2,   34.655,2,  111.200,2,  112.000,2,  158.080,2,   38.290,2,    2.690,2, -999.000
           NA,HOT timeseries 1988to2019 27SEP2021,    198,  99,-999.0,    8012,-999.0,20080625,1523,  22.7503, -158.0002,  4743, 2800.600,    1.605,   34.664,2,   34.663,2,  119.600,2,  120.000,2,  157.800,2,   37.660,2,    2.620,2, -999.000
           NA,HOT timeseries 1988to2019 27SEP2021,    198,  99,-999.0,    8011,-999.0,20080625,1523,  22.7503, -158.0002,  4743, 2999.800,    1.549,   34.669,2,   34.669,2,  125.800,2,  125.500,2,  157.210,2,   37.510,2,    2.600,2, -999.000
           NA,HOT timeseries 1988to2019 27SEP2021,    198,  99,-999.0,    8010,-999.0,20080625,1523,  22.7503, -158.0002,  4743, 3199.000,    1.513,   34.674,2,   34.673,2,  131.100,2,  130.600,2,  156.090,2,   37.030,2,    2.570,2, -999.000
           NA,HOT timeseries 1988to2019 27SEP2021,    198,  99,-999.0,    8009,-999.0,20080625,1523,  22.7503, -158.0002,  4743, 3399.600,    1.482,   34.679,2,   34.679,2,  137.000,2,  136.600,2,  154.500,2,   36.260,2,    2.530,2, -999.000
           NA,HOT timeseries 1988to2019 27SEP2021,    198,  99,-999.0,    8008,-999.0,20080625,1523,  22.7503, -158.0002,  4743, 3600.700,    1.463,   34.682,2,   34.682,2,  142.000,2,  141.600,2,  152.360,2,   36.420,2,    2.530,2, -999.000
           NA,HOT timeseries 1988to2019 27SEP2021,    198,  99,-999.0,    8026,-999.0,20080625,1523,  22.7503, -158.0002,  4743, 3800.100,    1.457,   34.684,2,   34.684,2,  145.500,2,  145.300,2,  151.990,2,   36.000,2,    2.500,2, -999.000
           NA,HOT timeseries 1988to2019 27SEP2021,    198,  99,-999.0,    8006,-999.0,20080625,1523,  22.7503, -158.0002,  4743, 3999.600,    1.457,   34.686,2,   34.686,2,  148.400,2,  147.500,2,  150.050,2,   35.810,2,    2.480,2, -999.000
           NA,HOT timeseries 1988to2019 27SEP2021,    198,  99,-999.0,    8005,-999.0,20080625,1523,  22.7503, -158.0002,  4743, 4198.900,    1.467,   34.687,2,   34.687,2,  150.200,2,  149.700,2,  149.180,2,   35.790,2,    2.470,2, -999.000
           NA,HOT timeseries 1988to2019 27SEP2021,    198,  99,-999.0,    8004,-999.0,20080625,1523,  22.7503, -158.0002,  4743, 4398.500,    1.479,   34.688,2,   34.688,2,  151.600,2,  151.300,2,  149.070,2,   35.840,2,    2.480,2, -999.000
           NA,HOT timeseries 1988to2019 27SEP2021,    198,  99,-999.0,    8003,-999.0,20080625,1523,  22.7503, -158.0002,  4743, 4498.600,    1.486,   34.688,2,   34.689,2,  151.500,2,  151.800,2,  148.410,2,   35.530,2,    2.500,2, -999.000
           NA,HOT timeseries 1988to2019 27SEP2021,    198,  99,-999.0,    8002,-999.0,20080625,1523,  22.7503, -158.0002,  4743, 4600.200,    1.493,   34.689,2,   34.690,2,  152.400,2,  153.000,2,  148.280,2,   35.530,2,    2.460,2, -999.000
           NA,HOT timeseries 1988to2019 27SEP2021,    198,  99,-999.0,    8001,-999.0,20080625,1523,  22.7503, -158.0002,  4743, 4804.400,    1.508,   34.690,2,   34.691,2,  153.300,2,  154.400,2,  146.210,2,   35.450,2,    2.450,2, -999.000