BOTTLE,20214727JOAExport
EXPOCODE,SECT_ID,STNNBR,CASTNO,SAMPNO,BTLNBR,BTLNBR_FLAG_W,DATE,TIME,LATITUDE,LONGITUDE,DEPTH,CTDPRS,CTDTMP,CTDSAL,CTDSAL_FLAG_W,SALNTY,SALNTY_FLAG_W,CTDOXY,CTDOXY_FLAG_W,OXYGEN,OXYGEN_FLAG_W,SILCAT,SILCAT_FLAG_W,NINI,NINI_FLAG_W,PHSPHT,PHSPHT_FLAG_W,REVP
,,,,,,,,,,,,DB,IPTS-68,PSS-78,,PSS-78,,UMOL/KG,,UMOL/KG,,UMOL/KG,,UMOL/KG,,UMOL/KG,,DBAR
           NA,HOT timeseries 1988to2019 27SEP2021,    191,  99,-999.0,    8024,-999.0,20070902,1524,  22.7490, -157.9995,  4744,    8.000,   26.441,   35.056,2,   35.056,2,  205.300,2,  207.800,2,    1.260,2, -999.000,4,    0.050,2, -999.000
           NA,HOT timeseries 1988to2019 27SEP2021,    191,  99,-999.0,    8024,-999.0,20070902,1524,  22.7490, -157.9995,  4744,   10.300,   26.510,   35.051,2,   35.051,2,  206.300,2,  203.800,2, -999.000,3, -999.000,4,    0.050,2, -999.000
           NA,HOT timeseries 1988to2019 27SEP2021,    191,  99,-999.0,    8023,-999.0,20070902,1524,  22.7490, -157.9995,  4744,   64.800,   24.477,   35.028,2,   35.033,2,  217.000,2,  217.500,2,    1.420,2, -999.000,4,    0.050,2, -999.000
           NA,HOT timeseries 1988to2019 27SEP2021,    191,  99,-999.0,    8022,-999.0,20070902,1524,  22.7490, -157.9995,  4744,   89.300,   23.298,   35.132,2,   35.132,2,  213.500,2,  214.300,2,    1.440,2, -999.000,3,    0.050,2, -999.000
           NA,HOT timeseries 1988to2019 27SEP2021,    191,  99,-999.0,    8021,-999.0,20070902,1524,  22.7490, -157.9995,  4744,  140.800,   21.382,   35.146,2,   35.149,2,  197.700,2,  198.300,2,    2.570,2,    0.960,2,    0.140,2, -999.000
           NA,HOT timeseries 1988to2019 27SEP2021,    191,  99,-999.0,    8020,-999.0,20070902,1524,  22.7490, -157.9995,  4744,  193.800,   18.400,   34.884,2,   34.873,2,  203.700,2,  203.800,2,    3.560,2,    2.550,2,    0.200,2, -999.000
           NA,HOT timeseries 1988to2019 27SEP2021,    191,  99,-999.0,    8019,-999.0,20070902,1524,  22.7490, -157.9995,  4744,  246.700,   15.713,   34.598,2,   34.592,2,  196.900,2,  200.400,2, -999.000,4,    6.130,2,    0.440,2, -999.000
           NA,HOT timeseries 1988to2019 27SEP2021,    191,  99,-999.0,    8018,-999.0,20070902,1524,  22.7490, -157.9995,  4744,  294.700,   13.778,   34.422,2,   34.421,2,  203.800,2,  203.700,2, -999.000,3,    8.830,2,    0.630,2, -999.000
           NA,HOT timeseries 1988to2019 27SEP2021,    191,  99,-999.0,    8017,-999.0,20070902,1524,  22.7490, -157.9995,  4744,  338.700,   12.167,   34.258,2,   34.266,2,  201.600,2,  202.900,2,   10.510,2,   11.440,2,    0.780,2, -999.000
           NA,HOT timeseries 1988to2019 27SEP2021,    191,  99,-999.0,    8016,-999.0,20070902,1524,  22.7490, -157.9995,  4744,  379.400,   10.453,   34.139,2,   34.141,2,  184.900,2,  186.900,2,   17.070,2,   16.330,2,    1.140,2, -999.000
           NA,HOT timeseries 1988to2019 27SEP2021,    191,  99,-999.0,    8015,-999.0,20070902,1524,  22.7490, -157.9995,  4744,  438.300,    9.101,   34.106,2,   34.107,2,  175.900,2,  174.600,2,   25.970,2,   20.640,2,    1.440,2, -999.000
           NA,HOT timeseries 1988to2019 27SEP2021,    191,  99,-999.0,    8014,-999.0,20070902,1524,  22.7490, -157.9995,  4744,  475.000,    8.144,   34.069,2,   34.069,2,  152.300,2,  153.000,2,   34.850,2,   24.840,2,    1.730,2, -999.000
           NA,HOT timeseries 1988to2019 27SEP2021,    191,  99,-999.0,    8025,-999.0,20070902,1524,  22.7490, -157.9995,  4744,  510.800,    7.441,   34.044,2, -999.000,4, -999.000,3,  134.300,2,   42.580,2,   27.860,2,    1.950,2, -999.000
           NA,HOT timeseries 1988to2019 27SEP2021,    191,  99,-999.0,    8012,-999.0,20070902,1524,  22.7490, -157.9995,  4744,  550.800,    6.609,   34.032,2,   34.035,2,  112.200,2,  112.400,2, -999.000,3,   31.260,2,    2.200,2, -999.000
           NA,HOT timeseries 1988to2019 27SEP2021,    191,  99,-999.0,    8011,-999.0,20070902,1524,  22.7490, -157.9995,  4744,  589.200,    5.817,   34.045,2,   34.044,2,   81.800,2,   85.100,2,   64.710,2,   35.090,2,    2.480,2, -999.000
           NA,HOT timeseries 1988to2019 27SEP2021,    191,  99,-999.0,    8010,-999.0,20070902,1524,  22.7490, -157.9995,  4744,  642.100,    5.264,   34.099,2,   34.102,2,   54.000,2,   54.500,2,   77.140,2,   38.600,2,    2.760,2, -999.000
           NA,HOT timeseries 1988to2019 27SEP2021,    191,  99,-999.0,    8009,-999.0,20070902,1524,  22.7490, -157.9995,  4744,  686.100,    4.909,   34.178,2,   34.177,2,   33.700,2,   33.900,2,   87.850,2,   40.920,2,    2.960,2, -999.000
           NA,HOT timeseries 1988to2019 27SEP2021,    191,  99,-999.0,    8008,-999.0,20070902,1524,  22.7490, -157.9995,  4744,  722.600,    4.750,   34.241,2,   34.239,2,   23.300,2,   24.400,2,   93.020,2,   41.890,2,    3.040,2, -999.000
           NA,HOT timeseries 1988to2019 27SEP2021,    191,  99,-999.0,    8026,-999.0,20070902,1524,  22.7490, -157.9995,  4744,  761.900,    4.566,   34.280,2,   34.282,2,   21.200,2,   21.500,2,   97.660,2,   42.350,2,    3.070,2, -999.000
           NA,HOT timeseries 1988to2019 27SEP2021,    191,  99,-999.0,    8006,-999.0,20070902,1524,  22.7490, -157.9995,  4744,  805.200,    4.403,   34.341,2,   34.335,2,   21.900,2,   21.500,2,  102.200,2,   42.780,2,    3.100,2, -999.000
           NA,HOT timeseries 1988to2019 27SEP2021,    191,  99,-999.0,    8005,-999.0,20070902,1524,  22.7490, -157.9995,  4744,  846.800,    4.330,   34.383,2,   34.382,2,   24.600,2,   24.600,2,  104.050,2,   42.810,2,    3.100,2, -999.000
           NA,HOT timeseries 1988to2019 27SEP2021,    191,  99,-999.0,    8004,-999.0,20070902,1524,  22.7490, -157.9995,  4744,  882.500,    4.221,   34.406,2,   34.407,2,   27.500,2,   28.400,2,  106.380,2,   42.840,2,    3.090,2, -999.000
           NA,HOT timeseries 1988to2019 27SEP2021,    191,  99,-999.0,    8003,-999.0,20070902,1524,  22.7490, -157.9995,  4744,  915.700,    4.128,   34.430,2,   34.429,2,   30.000,2,   29.400,2,  108.120,2,   42.720,2,    3.080,2, -999.000
           NA,HOT timeseries 1988to2019 27SEP2021,    191,  99,-999.0,    8002,-999.0,20070902,1524,  22.7490, -157.9995,  4744,  985.500,    3.984,   34.473,2,   34.473,2,   39.000,2,   39.700,2,  110.780,2,   42.350,2,    3.050,2, -999.000
           NA,HOT timeseries 1988to2019 27SEP2021,    191,  99,-999.0,    8001,-999.0,20070902,1524,  22.7490, -157.9995,  4744, 1020.900,    3.913,   34.486,2,   34.485,2,   41.300,2,   41.000,2,  111.470,2,   42.260,2,    3.040,2, -999.000
           NA,HOT timeseries 1988to2019 27SEP2021,    191,  99,-999.0,    8020,-999.0,20070902,1524,  22.7490, -157.9995,  4744, 1200.400,    3.389,   34.538,2,   34.538,2,   51.600,2,   51.800,2,  121.510,2,   41.970,2,    3.000,2, -999.000
           NA,HOT timeseries 1988to2019 27SEP2021,    191,  99,-999.0,    8019,-999.0,20070902,1524,  22.7490, -157.9995,  4744, 1400.600,    2.928,   34.569,2,   34.569,2,   61.800,2,   62.300,2,  132.230,2,   41.540,2,    2.970,2, -999.000
           NA,HOT timeseries 1988to2019 27SEP2021,    191,  99,-999.0,    8018,-999.0,20070902,1524,  22.7490, -157.9995,  4744, 1598.700,    2.583,   34.591,2,   34.590,2,   72.300,2,   71.900,2,  140.260,2,   41.010,2,    2.910,2, -999.000
           NA,HOT timeseries 1988to2019 27SEP2021,    191,  99,-999.0,    8017,-999.0,20070902,1524,  22.7490, -157.9995,  4744, 1799.500,    2.313,   34.608,2, -999.000,3, -999.000,3,   79.800,2,  146.830,2,   40.690,2,    2.880,2, -999.000
           NA,HOT timeseries 1988to2019 27SEP2021,    191,  99,-999.0,    8016,-999.0,20070902,1524,  22.7490, -157.9995,  4744, 2000.200,    2.095,   34.626,2,   34.626,2,   88.700,2,   89.900,2,  150.830,2,   40.040,2,    2.820,2, -999.000
           NA,HOT timeseries 1988to2019 27SEP2021,    191,  99,-999.0,    8015,-999.0,20070902,1524,  22.7490, -157.9995,  4744, 2198.700,    1.916,   34.639,2,   34.638,2,   96.300,2,   96.900,2,  155.160,2,   39.700,2,    2.770,2, -999.000
           NA,HOT timeseries 1988to2019 27SEP2021,    191,  99,-999.0,    8014,-999.0,20070902,1524,  22.7490, -157.9995,  4744, 2398.700,    1.789,   34.653,2,   34.653,2,  106.500,2,  107.200,2,  155.680,2,   39.120,2,    2.730,2, -999.000
           NA,HOT timeseries 1988to2019 27SEP2021,    191,  99,-999.0,    8025,-999.0,20070902,1524,  22.7490, -157.9995,  4744, 2599.800,    1.706,   34.660,2,   34.659,2,  110.500,2,  111.400,2, -999.000,3, -999.000,3,    2.700,2, -999.000
           NA,HOT timeseries 1988to2019 27SEP2021,    191,  99,-999.0,    8012,-999.0,20070902,1524,  22.7490, -157.9995,  4744, 2800.300,    1.616,   34.666,2,   34.665,2,  117.300,2,  118.000,2,  158.510,2,   38.260,2,    2.660,2, -999.000
           NA,HOT timeseries 1988to2019 27SEP2021,    191,  99,-999.0,    8011,-999.0,20070902,1524,  22.7490, -157.9995,  4744, 2999.500,    1.556,   34.672,2,   34.671,2,  124.200,2,  124.900,2,  158.080,2,   37.790,2, -999.000,3, -999.000
           NA,HOT timeseries 1988to2019 27SEP2021,    191,  99,-999.0,    8010,-999.0,20070902,1524,  22.7490, -157.9995,  4744, 3198.200,    1.517,   34.677,2,   34.677,2,  130.400,2,  130.700,2,  156.970,2,   37.440,2,    2.590,2, -999.000
           NA,HOT timeseries 1988to2019 27SEP2021,    191,  99,-999.0,    8009,-999.0,20070902,1524,  22.7490, -157.9995,  4744, 3397.900,    1.482,   34.682,2,   34.681,2,  136.200,2,  135.300,2, -999.000,3,   37.120,2,    2.570,2, -999.000
           NA,HOT timeseries 1988to2019 27SEP2021,    191,  99,-999.0,    8008,-999.0,20070902,1524,  22.7490, -157.9995,  4744, 3599.400,    1.463,   34.686,2,   34.685,2,  140.900,2,  140.400,2,  154.510,2,   36.800,2,    2.550,2, -999.000
           NA,HOT timeseries 1988to2019 27SEP2021,    191,  99,-999.0,    8026,-999.0,20070902,1524,  22.7490, -157.9995,  4744, 3799.700,    1.454,   34.688,2,   34.688,2,  144.800,2,  144.000,2,  152.650,2,   36.480,2,    2.520,2, -999.000
           NA,HOT timeseries 1988to2019 27SEP2021,    191,  99,-999.0,    8006,-999.0,20070902,1524,  22.7490, -157.9995,  4744, 3999.500,    1.455,   34.690,2,   34.689,2,  148.000,2,  147.600,2,  152.010,2,   36.190,2,    2.500,2, -999.000
           NA,HOT timeseries 1988to2019 27SEP2021,    191,  99,-999.0,    8005,-999.0,20070902,1524,  22.7490, -157.9995,  4744, 4198.200,    1.464,   34.691,2,   34.691,2,  149.800,2,  149.600,2,  149.870,2,   36.130,2,    2.490,2, -999.000
           NA,HOT timeseries 1988to2019 27SEP2021,    191,  99,-999.0,    8004,-999.0,20070902,1524,  22.7490, -157.9995,  4744, 4399.700,    1.478,   34.692,2,   34.692,2,  151.300,2,  151.200,2,  149.610,2,   35.980,2,    2.480,2, -999.000
           NA,HOT timeseries 1988to2019 27SEP2021,    191,  99,-999.0,    8003,-999.0,20070902,1524,  22.7490, -157.9995,  4744, 4499.700,    1.488,   34.692,2,   34.692,2,  151.500,2,  151.400,2,  149.480,2,   35.990,2,    2.480,2, -999.000
           NA,HOT timeseries 1988to2019 27SEP2021,    191,  99,-999.0,    8002,-999.0,20070902,1524,  22.7490, -157.9995,  4744, 4599.300,    1.496,   34.692,2,   34.692,2,  152.000,2,  152.100,2,  148.360,2,   35.930,2,    2.480,2, -999.000
           NA,HOT timeseries 1988to2019 27SEP2021,    191,  99,-999.0,    8001,-999.0,20070902,1524,  22.7490, -157.9995,  4744, 4804.700,    1.503,   34.694,2, -999.000,3, -999.000,3,  154.600,2,  146.510,2,   35.690,2,    2.460,2, -999.000