BOTTLE,20214727JOAExport
EXPOCODE,SECT_ID,STNNBR,CASTNO,SAMPNO,BTLNBR,BTLNBR_FLAG_W,DATE,TIME,LATITUDE,LONGITUDE,DEPTH,CTDPRS,CTDTMP,CTDSAL,CTDSAL_FLAG_W,SALNTY,SALNTY_FLAG_W,CTDOXY,CTDOXY_FLAG_W,OXYGEN,OXYGEN_FLAG_W,SILCAT,SILCAT_FLAG_W,NINI,NINI_FLAG_W,PHSPHT,PHSPHT_FLAG_W,REVP
,,,,,,,,,,,,DB,IPTS-68,PSS-78,,PSS-78,,UMOL/KG,,UMOL/KG,,UMOL/KG,,UMOL/KG,,UMOL/KG,,DBAR
           NA,HOT timeseries 1988to2019 27SEP2021,     49,  99,-999.0,      30,-999.0,19940308,1955,  22.7567, -158.0037,  4709,    6.900,   23.714,   35.123,2,   35.124,2,  212.700,2,  213.500,2,    1.810,2,    0.000,2,    0.070,2, -999.000
           NA,HOT timeseries 1988to2019 27SEP2021,     49,  99,-999.0,      31,-999.0,19940308,1955,  22.7567, -158.0037,  4709,   14.500,   23.563,   35.116,2,   35.118,2,  214.900,2,  213.100,2,    1.980,2,    0.000,2,    0.070,2, -999.000
           NA,HOT timeseries 1988to2019 27SEP2021,     49,  99,-999.0,      22,-999.0,19940308,1955,  22.7567, -158.0037,  4709,   17.900,   23.426,   35.116,2,   35.118,2,  211.900,2,  214.100,2,    1.750,2,    0.000,2,    0.070,2, -999.000
           NA,HOT timeseries 1988to2019 27SEP2021,     49,  99,-999.0,      21,-999.0,19940308,1955,  22.7567, -158.0037,  4709,   39.900,   22.689,   35.189,2,   35.184,2,  218.900,2,  217.200,2,    1.760,2,    0.000,2,    0.050,2, -999.000
           NA,HOT timeseries 1988to2019 27SEP2021,     49,  99,-999.0,      20,-999.0,19940308,1955,  22.7567, -158.0037,  4709,  115.700,   22.053,   35.243,2,   35.244,2,  211.900,2,  209.500,2,    1.780,2,    0.120,2,    0.070,2, -999.000
           NA,HOT timeseries 1988to2019 27SEP2021,     49,  99,-999.0,      19,-999.0,19940308,1955,  22.7567, -158.0037,  4709,  124.800,   21.920,   35.251,2,   35.256,2,  208.800,2,  207.900,2,    1.800,2,    0.250,2,    0.080,2, -999.000
           NA,HOT timeseries 1988to2019 27SEP2021,     49,  99,-999.0,      18,-999.0,19940308,1955,  22.7567, -158.0037,  4709,  143.700,   21.723,   35.279,2, -999.000,4, -999.000,3,  206.000,2,    1.870,2,    0.430,2,    0.080,2, -999.000
           NA,HOT timeseries 1988to2019 27SEP2021,     49,  99,-999.0,      30,-999.0,19940308,1955,  22.7567, -158.0037,  4709,  159.000,   21.614,   35.259,2,   35.268,2,  211.500,2,  205.900,2,    2.110,2,    0.380,2,    0.090,2, -999.000
           NA,HOT timeseries 1988to2019 27SEP2021,     49,  99,-999.0,      17,-999.0,19940308,1955,  22.7567, -158.0037,  4709,  197.300,   19.950,   35.166,2,   35.172,2,  193.500,2,  197.500,2,    2.260,2,    1.340,2,    0.160,2, -999.000
           NA,HOT timeseries 1988to2019 27SEP2021,     49,  99,-999.0,      16,-999.0,19940308,1955,  22.7567, -158.0037,  4709,  255.600,   15.921,   34.679,2,   34.696,2,  191.600,2,  199.800,2,    5.140,2,    4.640,2,    0.360,2, -999.000
           NA,HOT timeseries 1988to2019 27SEP2021,     49,  99,-999.0,      15,-999.0,19940308,1955,  22.7567, -158.0037,  4709,  343.300,   12.025,   34.269,2,   34.266,2,  201.200,2,  200.200,2,   11.630,2,   11.270,2,    0.790,2, -999.000
           NA,HOT timeseries 1988to2019 27SEP2021,     49,  99,-999.0,      14,-999.0,19940308,1955,  22.7567, -158.0037,  4709,  361.100,   11.660,   34.256,2,   34.260,2,  212.400,2,  201.700,2,   12.930,2,   12.090,2,    0.850,2, -999.000
           NA,HOT timeseries 1988to2019 27SEP2021,     49,  99,-999.0,      13,-999.0,19940308,1955,  22.7567, -158.0037,  4709,  405.300,    9.799,   34.104,2,   34.103,2,  181.800,2,  187.100,2,   19.910,2,   17.070,2,    1.220,2, -999.000
           NA,HOT timeseries 1988to2019 27SEP2021,     49,  99,-999.0,      12,-999.0,19940308,1955,  22.7567, -158.0037,  4709,  450.300,    8.548,   34.074,2,   34.071,2,  165.100,2,  155.800,2,   30.480,2,   22.670,2,    1.590,2, -999.000
           NA,HOT timeseries 1988to2019 27SEP2021,     49,  99,-999.0,      11,-999.0,19940308,1955,  22.7567, -158.0037,  4709,  496.000,    7.785,   34.070,2,   34.073,2,  135.000,2,  126.700,2,   39.520,2,   26.740,2,    1.940,2, -999.000
           NA,HOT timeseries 1988to2019 27SEP2021,     49,  99,-999.0,      32,-999.0,19940308,1955,  22.7567, -158.0037,  4709,  516.500,    7.332,   34.084,2,   34.083,2,  104.800,2,  102.600,2,   46.560,2,   29.680,2,    2.200,2, -999.000
           NA,HOT timeseries 1988to2019 27SEP2021,     49,  99,-999.0,       3,-999.0,19940308,1955,  22.7567, -158.0037,  4709,  555.900,    6.729,   34.072,2,   34.074,2,  100.400,2,   96.700,2,   53.220,2,   31.520,2,    2.310,2, -999.000
           NA,HOT timeseries 1988to2019 27SEP2021,     49,  99,-999.0,      29,-999.0,19940308,1955,  22.7567, -158.0037,  4709,  597.600,    6.217,   34.116,2,   34.118,2,   64.200,2,   67.900,2,   63.840,2,   35.150,2,    2.590,2, -999.000
           NA,HOT timeseries 1988to2019 27SEP2021,     49,  99,-999.0,      28,-999.0,19940308,1955,  22.7567, -158.0037,  4709,  634.600,    5.690,   34.159,2,   34.159,2,   52.700,2,   50.100,2,   73.700,2,   37.620,2,    2.790,2, -999.000
           NA,HOT timeseries 1988to2019 27SEP2021,     49,  99,-999.0,       7,-999.0,19940308,1955,  22.7567, -158.0037,  4709,  694.300,    5.180,   34.248,2,   34.250,2,   37.900,2,   33.900,2,   85.540,2,   40.070,2,    2.970,2, -999.000
           NA,HOT timeseries 1988to2019 27SEP2021,     49,  99,-999.0,      23,-999.0,19940308,1955,  22.7567, -158.0037,  4709,  758.000,    4.904,   34.332,2,   34.331,2,   32.800,2,   30.400,2,   92.020,2,   40.860,2,    3.030,2, -999.000
           NA,HOT timeseries 1988to2019 27SEP2021,     49,  99,-999.0,      36,-999.0,19940308,1955,  22.7567, -158.0037,  4709,  852.300,    4.584,   34.410,2,   34.408,2,   35.500,2,   32.000,2,   98.840,2,   41.610,2,    3.080,2, -999.000
           NA,HOT timeseries 1988to2019 27SEP2021,     49,  99,-999.0,      35,-999.0,19940308,1955,  22.7567, -158.0037,  4709,  859.600,    4.574,   34.412,2,   34.413,2,   34.000,2,   32.100,2,   99.240,2,   41.610,2,    3.070,2, -999.000
           NA,HOT timeseries 1988to2019 27SEP2021,     49,  99,-999.0,      34,-999.0,19940308,1955,  22.7567, -158.0037,  4709, 1009.900,    4.085,   34.486,2,   34.487,2,   41.400,2,   42.400,2,  108.890,2,   41.780,2,    3.060,2, -999.000
           NA,HOT timeseries 1988to2019 27SEP2021,     49,  99,-999.0,      33,-999.0,19940308,1955,  22.7567, -158.0037,  4709, 1028.600,    4.037,   34.494,2,   34.496,2,   44.600,2,   43.400,2,  109.380,2,   41.740,2,    3.070,2, -999.000
           NA,HOT timeseries 1988to2019 27SEP2021,     49,  99,-999.0,      20,-999.0,19940308,1955,  22.7567, -158.0037,  4709, 1193.700,    3.620,   34.532,2, -999.000,4, -999.000,3,   52.400,2,  115.800,2, -999.000,3, -999.000,3, -999.000
           NA,HOT timeseries 1988to2019 27SEP2021,     49,  99,-999.0,      19,-999.0,19940308,1955,  22.7567, -158.0037,  4709, 1392.000,    3.224,   34.558,2,   34.559,2,   58.500,2,   58.300,2,  127.360,2,   41.240,2,    3.010,2, -999.000
           NA,HOT timeseries 1988to2019 27SEP2021,     49,  99,-999.0,      18,-999.0,19940308,1955,  22.7567, -158.0037,  4709, 1596.700,    2.804,   34.581,2,   34.583,2,   65.300,2,   68.100,2,  136.600,2,   40.860,2,    2.970,2, -999.000
           NA,HOT timeseries 1988to2019 27SEP2021,     49,  99,-999.0,      17,-999.0,19940308,1955,  22.7567, -158.0037,  4709, 1800.100,    2.437,   34.600,2,   34.601,2,   76.900,2,   77.800,2,  145.190,2,   40.360,2,    2.920,2, -999.000
           NA,HOT timeseries 1988to2019 27SEP2021,     49,  99,-999.0,      16,-999.0,19940308,1955,  22.7567, -158.0037,  4709, 2000.600,    2.189,   34.615,2,   34.617,2,   81.900,2,   85.100,2,  151.280,2,   39.900,2,    2.870,2, -999.000
           NA,HOT timeseries 1988to2019 27SEP2021,     49,  99,-999.0,      15,-999.0,19940308,1955,  22.7567, -158.0037,  4709, 2199.500,    1.973,   34.630,2,   34.631,2,   90.200,2,   93.400,2,  156.590,2,   39.550,2,    2.840,2, -999.000
           NA,HOT timeseries 1988to2019 27SEP2021,     49,  99,-999.0,      14,-999.0,19940308,1955,  22.7567, -158.0037,  4709, 2398.100,    1.806,   34.642,2,   34.643,2,   96.900,2,  100.000,2,  161.080,2,   39.080,2,    2.790,2, -999.000
           NA,HOT timeseries 1988to2019 27SEP2021,     49,  99,-999.0,      13,-999.0,19940308,1955,  22.7567, -158.0037,  4709, 2599.400,    1.696,   34.653,2, -999.000,4, -999.000,3,  109.200,2,  161.720,2,   38.500,2,    2.750,2, -999.000
           NA,HOT timeseries 1988to2019 27SEP2021,     49,  99,-999.0,      12,-999.0,19940308,1955,  22.7567, -158.0037,  4709, 2799.300,    1.617,   34.660,2,   34.661,2,  114.800,2,  115.500,2,  162.280,2,   38.450,2,    2.710,2, -999.000
           NA,HOT timeseries 1988to2019 27SEP2021,     49,  99,-999.0,      11,-999.0,19940308,1955,  22.7567, -158.0037,  4709, 3001.200,    1.549,   34.668,2,   34.668,2,  120.600,2,  123.500,2,  160.820,2,   37.840,2,    2.660,2, -999.000
           NA,HOT timeseries 1988to2019 27SEP2021,     49,  99,-999.0,      32,-999.0,19940308,1955,  22.7567, -158.0037,  4709, 3195.100,    1.510,   34.675,2, -999.000,3, -999.000,3,  130.800,2,  158.930,2,   37.290,2,    2.620,2, -999.000
           NA,HOT timeseries 1988to2019 27SEP2021,     49,  99,-999.0,       3,-999.0,19940308,1955,  22.7567, -158.0037,  4709, 3398.100,    1.479,   34.679,2, -999.000,4, -999.000,3,  137.000,2,  156.480,2,   36.880,2,    2.590,2, -999.000
           NA,HOT timeseries 1988to2019 27SEP2021,     49,  99,-999.0,      29,-999.0,19940308,1955,  22.7567, -158.0037,  4709, 3595.000,    1.461,   34.682,2, -999.000,4, -999.000,3,  141.500,2,  154.940,2,   36.540,2,    2.560,2, -999.000
           NA,HOT timeseries 1988to2019 27SEP2021,     49,  99,-999.0,      28,-999.0,19940308,1955,  22.7567, -158.0037,  4709, 3780.500,    1.455,   34.685,2,   34.684,2,  145.100,2,  144.800,2,  154.040,2,   36.330,2,    2.540,2, -999.000
           NA,HOT timeseries 1988to2019 27SEP2021,     49,  99,-999.0,       7,-999.0,19940308,1955,  22.7567, -158.0037,  4709, 3997.100,    1.453,   34.687,2,   34.686,2,  148.400,2,  148.300,2,  152.300,2,   36.120,2,    2.520,2, -999.000
           NA,HOT timeseries 1988to2019 27SEP2021,     49,  99,-999.0,      23,-999.0,19940308,1955,  22.7567, -158.0037,  4709, 4195.600,    1.462,   34.688,2,   34.686,2,  150.600,2,  150.300,2,  151.240,2,   35.970,2,    2.510,2, -999.000
           NA,HOT timeseries 1988to2019 27SEP2021,     49,  99,-999.0,      36,-999.0,19940308,1955,  22.7567, -158.0037,  4709, 4404.800,    1.477,   34.689,2,   34.688,2,  148.800,2,  151.600,2,  150.860,2,   35.960,2,    2.500,2, -999.000
           NA,HOT timeseries 1988to2019 27SEP2021,     49,  99,-999.0,      35,-999.0,19940308,1955,  22.7567, -158.0037,  4709, 4526.800,    1.488,   34.690,2,   34.689,2,  153.500,2,  152.000,2,  150.250,2,   35.870,2,    2.500,2, -999.000
           NA,HOT timeseries 1988to2019 27SEP2021,     49,  99,-999.0,      34,-999.0,19940308,1955,  22.7567, -158.0037,  4709, 4627.200,    1.497,   34.690,2,   34.689,2,  155.000,2,  152.600,2,  149.810,2,   35.790,2,    2.490,2, -999.000
           NA,HOT timeseries 1988to2019 27SEP2021,     49,  99,-999.0,      33,-999.0,19940308,1955,  22.7567, -158.0037,  4709, 4788.900,    1.506,   34.691,2,   34.690,2,  155.700,2,  154.100,2,  147.950,2,   35.700,2,    2.490,2, -999.000