BOTTLE,20214727JOAExport
EXPOCODE,SECT_ID,STNNBR,CASTNO,SAMPNO,BTLNBR,BTLNBR_FLAG_W,DATE,TIME,LATITUDE,LONGITUDE,DEPTH,CTDPRS,CTDTMP,CTDSAL,CTDSAL_FLAG_W,SALNTY,SALNTY_FLAG_W,CTDOXY,CTDOXY_FLAG_W,OXYGEN,OXYGEN_FLAG_W,SILCAT,SILCAT_FLAG_W,NINI,NINI_FLAG_W,PHSPHT,PHSPHT_FLAG_W,REVP
,,,,,,,,,,,,DB,IPTS-68,PSS-78,,PSS-78,,UMOL/KG,,UMOL/KG,,UMOL/KG,,UMOL/KG,,UMOL/KG,,DBAR
           NA,HOT timeseries 1988to2019 27SEP2021,    194,  99,-999.0,    8024,-999.0,20071220,1510,  22.7502, -157.9998,  4750,    5.900,   24.481,   35.070,2,   35.071,2,  208.400,2,  208.500,2,    1.670,2,    0.050,2,    0.050,2, -999.000
           NA,HOT timeseries 1988to2019 27SEP2021,    194,  99,-999.0,    8024,-999.0,20071220,1510,  22.7502, -157.9998,  4750,   10.200,   24.446,   35.021,2,   35.022,2,  208.500,2,  208.600,2,    1.220,2,    0.080,2,    0.070,2, -999.000
           NA,HOT timeseries 1988to2019 27SEP2021,    194,  99,-999.0,    8023,-999.0,20071220,1510,  22.7502, -157.9998,  4750,   66.800,   24.443,   35.028,2,   35.029,2,  208.100,2,  207.700,2,    1.360,2, -999.000,4,    0.060,2, -999.000
           NA,HOT timeseries 1988to2019 27SEP2021,    194,  99,-999.0,    8022,-999.0,20071220,1510,  22.7502, -157.9998,  4750,  120.200,   23.326,   35.110,2,   35.106,2,  204.700,2,  205.900,2,    1.210,2, -999.000,4,    0.080,2, -999.000
           NA,HOT timeseries 1988to2019 27SEP2021,    194,  99,-999.0,    8021,-999.0,20071220,1510,  22.7502, -157.9998,  4750,  154.600,   21.589,   35.112,2,   35.112,2,  200.100,2,  200.300,2,    1.580,2, -999.000,3,    0.140,2, -999.000
           NA,HOT timeseries 1988to2019 27SEP2021,    194,  99,-999.0,    8020,-999.0,20071220,1510,  22.7502, -157.9998,  4750,  209.900,   18.404,   34.866,2,   34.861,2,  191.700,2,  192.900,2,    3.510,2, -999.000,3,    0.290,2, -999.000
           NA,HOT timeseries 1988to2019 27SEP2021,    194,  99,-999.0,    8019,-999.0,20071220,1510,  22.7502, -157.9998,  4750,  262.100,   15.689,   34.515,2,   34.518,2,  184.700,2,  185.900,2,    5.900,2,    6.910,2,    0.540,2, -999.000
           NA,HOT timeseries 1988to2019 27SEP2021,    194,  99,-999.0,    8018,-999.0,20071220,1510,  22.7502, -157.9998,  4750,  299.700,   13.460,   34.265,2,   34.264,2,  183.800,2,  185.900,2,    8.950,2,    9.990,2,    0.770,2, -999.000
           NA,HOT timeseries 1988to2019 27SEP2021,    194,  99,-999.0,    8017,-999.0,20071220,1510,  22.7502, -157.9998,  4750,  335.300,   11.724,   34.147,2,   34.149,2,  190.300,2,  190.000,2,   12.590,2,   12.900,2,    0.970,2, -999.000
           NA,HOT timeseries 1988to2019 27SEP2021,    194,  99,-999.0,    8016,-999.0,20071220,1510,  22.7502, -157.9998,  4750,  379.600,   10.549,   34.151,2,   34.152,2,  189.900,2,  185.700,2,   18.690,2,   16.140,2,    1.160,2, -999.000
           NA,HOT timeseries 1988to2019 27SEP2021,    194,  99,-999.0,    8015,-999.0,20071220,1510,  22.7502, -157.9998,  4750,  426.400,    9.174,   34.132,2,   34.133,2,  156.400,2,  154.200,2,   29.510,2,   21.840,2,    1.580,2, -999.000
           NA,HOT timeseries 1988to2019 27SEP2021,    194,  99,-999.0,    8014,-999.0,20071220,1510,  22.7502, -157.9998,  4750,  495.700,    7.761,   34.129,2,   34.130,2,  110.300,2,  110.400,2,   45.070,2,   28.600,2,    2.080,2, -999.000
           NA,HOT timeseries 1988to2019 27SEP2021,    194,  99,-999.0,    8025,-999.0,20071220,1510,  22.7502, -157.9998,  4750,  532.100,    7.148,   34.138,2,   34.138,2,   88.900,2,   89.300,2,   53.010,2,   31.660,2,    2.320,2, -999.000
           NA,HOT timeseries 1988to2019 27SEP2021,    194,  99,-999.0,    8012,-999.0,20071220,1510,  22.7502, -157.9998,  4750,  574.000,    6.443,   34.161,2,   34.161,2,   68.800,2,   67.800,2,   62.630,2,   34.840,2,    2.550,2, -999.000
           NA,HOT timeseries 1988to2019 27SEP2021,    194,  99,-999.0,    8011,-999.0,20071220,1510,  22.7502, -157.9998,  4750,  620.900,    5.812,   34.194,2,   34.195,2,   54.700,2,   53.900,2,   74.100,2,   37.360,2, -999.000,4, -999.000
           NA,HOT timeseries 1988to2019 27SEP2021,    194,  99,-999.0,    8010,-999.0,20071220,1510,  22.7502, -157.9998,  4750,  672.800,    5.221,   34.236,2,   34.236,2,   36.200,2,   34.100,2,   85.220,2,   40.030,2,    2.930,2, -999.000
           NA,HOT timeseries 1988to2019 27SEP2021,    194,  99,-999.0,    8009,-999.0,20071220,1510,  22.7502, -157.9998,  4750,  710.900,    4.937,   34.271,2,   34.270,2,   27.900,2,   27.600,2,   91.240,2,   41.090,2,    3.010,2, -999.000
           NA,HOT timeseries 1988to2019 27SEP2021,    194,  99,-999.0,    8008,-999.0,20071220,1510,  22.7502, -157.9998,  4750,  747.300,    4.769,   34.307,2,   34.307,2,   26.500,2,   25.600,2,   94.960,2,   41.630,2,    3.050,2, -999.000
           NA,HOT timeseries 1988to2019 27SEP2021,    194,  99,-999.0,    8026,-999.0,20071220,1510,  22.7502, -157.9998,  4750,  793.500,    4.582,   34.347,2,   34.345,2,   25.600,2,   25.300,2,  100.180,2,   41.850,2,    3.060,2, -999.000
           NA,HOT timeseries 1988to2019 27SEP2021,    194,  99,-999.0,    8005,-999.0,20071220,1510,  22.7502, -157.9998,  4750,  876.600,    4.364,   34.416,2,   34.414,2,   33.300,2,   33.300,2,  103.780,2,   41.830,2,    3.040,2, -999.000
           NA,HOT timeseries 1988to2019 27SEP2021,    194,  99,-999.0,    8004,-999.0,20071220,1510,  22.7502, -157.9998,  4750,  915.000,    4.170,   34.445,2,   34.444,2,   37.200,2,   37.400,2,  107.740,2,   42.030,2,    3.040,2, -999.000
           NA,HOT timeseries 1988to2019 27SEP2021,    194,  99,-999.0,    8003,-999.0,20071220,1510,  22.7502, -157.9998,  4750,  953.600,    4.103,   34.454,2,   34.452,2,   38.500,2,   38.900,2,  108.630,2,   41.930,2,    3.030,2, -999.000
           NA,HOT timeseries 1988to2019 27SEP2021,    194,  99,-999.0,    8001,-999.0,20071220,1510,  22.7502, -157.9998,  4750, 1020.200,    3.949,   34.480,2,   34.481,2,   42.900,2,   43.000,2,  112.210,2,   41.740,2,    3.010,2, -999.000
           NA,HOT timeseries 1988to2019 27SEP2021,    194,  99,-999.0,    8020,-999.0,20071220,1510,  22.7502, -157.9998,  4750, 1199.900,    3.511,   34.528,2,   34.527,2,   51.600,2,   52.100,2,  121.530,2,   41.870,2,    2.990,2, -999.000
           NA,HOT timeseries 1988to2019 27SEP2021,    194,  99,-999.0,    8019,-999.0,20071220,1510,  22.7502, -157.9998,  4750, 1399.500,    3.140,   34.560,2,   34.559,2,   57.500,2,   57.900,2,  129.900,2,   40.700,2,    2.950,2, -999.000
           NA,HOT timeseries 1988to2019 27SEP2021,    194,  99,-999.0,    8018,-999.0,20071220,1510,  22.7502, -157.9998,  4750, 1599.300,    2.711,   34.581,2,   34.580,2,   68.800,2,   69.100,2,  140.480,2,   41.000,2,    2.910,2, -999.000
           NA,HOT timeseries 1988to2019 27SEP2021,    194,  99,-999.0,    8017,-999.0,20071220,1510,  22.7502, -157.9998,  4750, 1800.600,    2.421,   34.602,2,   34.601,2,   78.300,2,   77.700,2,  145.380,2,   40.370,2,    2.860,2, -999.000
           NA,HOT timeseries 1988to2019 27SEP2021,    194,  99,-999.0,    8016,-999.0,20071220,1510,  22.7502, -157.9998,  4750, 2000.100,    2.176,   34.619,2,   34.619,2,   87.400,2,   87.400,2,  151.190,2,   39.960,2,    2.820,2, -999.000
           NA,HOT timeseries 1988to2019 27SEP2021,    194,  99,-999.0,    8015,-999.0,20071220,1510,  22.7502, -157.9998,  4750, 2201.100,    1.982,   34.632,2,   34.631,2,   95.700,2,   96.000,2,  154.920,2,   39.490,2,    2.770,2, -999.000
           NA,HOT timeseries 1988to2019 27SEP2021,    194,  99,-999.0,    8014,-999.0,20071220,1510,  22.7502, -157.9998,  4750, 2399.700,    1.851,   34.642,2,   34.642,2,  101.700,2,  101.500,2,  158.370,2,   39.090,2,    2.740,2, -999.000
           NA,HOT timeseries 1988to2019 27SEP2021,    194,  99,-999.0,    8025,-999.0,20071220,1510,  22.7502, -157.9998,  4750, 2601.100,    1.722,   34.653,2,   34.653,2,  110.100,2,  110.400,2,  160.150,2,   38.700,2,    2.710,2, -999.000
           NA,HOT timeseries 1988to2019 27SEP2021,    194,  99,-999.0,    8012,-999.0,20071220,1510,  22.7502, -157.9998,  4750, 2798.700,    1.630,   34.661,2,   34.662,2,  116.500,2,  116.600,2,  161.590,2,   37.720,2, -999.000,4, -999.000
           NA,HOT timeseries 1988to2019 27SEP2021,    194,  99,-999.0,    8011,-999.0,20071220,1510,  22.7502, -157.9998,  4750, 2998.800,    1.570,   34.668,2,   34.667,2,  123.400,2,  123.500,2,  161.340,2,   37.590,2,    2.620,2, -999.000
           NA,HOT timeseries 1988to2019 27SEP2021,    194,  99,-999.0,    8010,-999.0,20071220,1510,  22.7502, -157.9998,  4750, 3199.000,    1.520,   34.674,2,   34.673,2,  130.100,2,  129.900,2,  158.910,2,   37.170,2,    2.580,2, -999.000
           NA,HOT timeseries 1988to2019 27SEP2021,    194,  99,-999.0,    8009,-999.0,20071220,1510,  22.7502, -157.9998,  4750, 3401.000,    1.491,   34.678,2,   34.678,2,  136.100,2,  136.100,2,  157.720,2,   36.790,2,    2.560,2, -999.000
           NA,HOT timeseries 1988to2019 27SEP2021,    194,  99,-999.0,    8008,-999.0,20071220,1510,  22.7502, -157.9998,  4750, 3600.500,    1.470,   34.682,2,   34.681,2,  140.500,2,  140.100,2,  156.840,2,   36.470,2,    2.540,2, -999.000
           NA,HOT timeseries 1988to2019 27SEP2021,    194,  99,-999.0,    8026,-999.0,20071220,1510,  22.7502, -157.9998,  4750, 3801.500,    1.462,   34.684,2,   34.684,2,  144.300,2,  144.300,2,  155.320,2,   36.300,2,    2.520,2, -999.000
           NA,HOT timeseries 1988to2019 27SEP2021,    194,  99,-999.0,    8006,-999.0,20071220,1510,  22.7502, -157.9998,  4750, 3998.600,    1.463,   34.686,2,   34.685,2,  147.200,2,  146.600,2,  153.750,2,   36.190,2,    2.510,2, -999.000
           NA,HOT timeseries 1988to2019 27SEP2021,    194,  99,-999.0,    8005,-999.0,20071220,1510,  22.7502, -157.9998,  4750, 4199.000,    1.469,   34.687,2,   34.687,2,  149.400,2,  149.400,2,  153.560,2,   35.740,2,    2.490,2, -999.000
           NA,HOT timeseries 1988to2019 27SEP2021,    194,  99,-999.0,    8004,-999.0,20071220,1510,  22.7502, -157.9998,  4750, 4399.000,    1.480,   34.688,2,   34.688,2,  151.300,2,  150.300,2,  152.580,2,   35.950,2,    2.480,2, -999.000
           NA,HOT timeseries 1988to2019 27SEP2021,    194,  99,-999.0,    8003,-999.0,20071220,1510,  22.7502, -157.9998,  4750, 4498.800,    1.485,   34.689,2,   34.689,2,  152.000,2,  152.100,2, -999.000,3,   35.810,2,    2.490,2, -999.000
           NA,HOT timeseries 1988to2019 27SEP2021,    194,  99,-999.0,    8002,-999.0,20071220,1510,  22.7502, -157.9998,  4750, 4600.300,    1.492,   34.689,2,   34.689,2,  152.300,2,  153.000,2,  150.470,2,   35.830,2,    2.480,2, -999.000
           NA,HOT timeseries 1988to2019 27SEP2021,    194,  99,-999.0,    8001,-999.0,20071220,1510,  22.7502, -157.9998,  4750, 4808.800,    1.509,   34.690,2,   34.690,2,  154.000,2,  154.300,2,  148.990,2,   35.370,2,    2.480,2, -999.000