BOTTLE,20214727JOAExport
EXPOCODE,SECT_ID,STNNBR,CASTNO,SAMPNO,BTLNBR,BTLNBR_FLAG_W,DATE,TIME,LATITUDE,LONGITUDE,DEPTH,CTDPRS,CTDTMP,CTDSAL,CTDSAL_FLAG_W,SALNTY,SALNTY_FLAG_W,CTDOXY,CTDOXY_FLAG_W,OXYGEN,OXYGEN_FLAG_W,SILCAT,SILCAT_FLAG_W,NINI,NINI_FLAG_W,PHSPHT,PHSPHT_FLAG_W,REVP
,,,,,,,,,,,,DB,IPTS-68,PSS-78,,PSS-78,,UMOL/KG,,UMOL/KG,,UMOL/KG,,UMOL/KG,,UMOL/KG,,DBAR
           NA,HOT timeseries 1988to2019 27SEP2021,    232,  99,-999.0,    8024,-999.0,20121203,1630,  22.7493, -158.0000,  4739,    5.500,   24.859,   35.390,2,   35.391,2,  207.000,2,  207.800,2,    1.190,2,    0.070,2,    0.080,2, -999.000
           NA,HOT timeseries 1988to2019 27SEP2021,    232,  99,-999.0,    8024,-999.0,20121203,1630,  22.7493, -158.0000,  4739,    6.600,   24.927,   35.394,2,   35.393,2,  207.100,2,  207.900,2,    1.110,2,    0.020,2,    0.090,2, -999.000
           NA,HOT timeseries 1988to2019 27SEP2021,    232,  99,-999.0,    8023,-999.0,20121203,1630,  22.7493, -158.0000,  4739,   26.100,   24.881,   35.393,2,   35.392,2,  207.900,2,  207.600,2,    1.120,2,    0.060,2,    0.090,2, -999.000
           NA,HOT timeseries 1988to2019 27SEP2021,    232,  99,-999.0,    8022,-999.0,20121203,1630,  22.7493, -158.0000,  4739,   73.000,   24.782,   35.382,2,   35.382,2,  207.500,2,  208.300,2,    1.140,2,    0.080,2,    0.090,2, -999.000
           NA,HOT timeseries 1988to2019 27SEP2021,    232,  99,-999.0,    8021,-999.0,20121203,1630,  22.7493, -158.0000,  4739,   80.200,   23.462,   35.316,2,   35.313,2,  215.400,2,  215.400,2,    1.180,2,    0.040,2,    0.070,2, -999.000
           NA,HOT timeseries 1988to2019 27SEP2021,    232,  99,-999.0,    8020,-999.0,20121203,1630,  22.7493, -158.0000,  4739,  103.900,   22.338,   35.317,2,   35.316,2,  208.800,2,  209.700,2,    1.340,2,    0.260,2,    0.080,2, -999.000
           NA,HOT timeseries 1988to2019 27SEP2021,    232,  99,-999.0,    8019,-999.0,20121203,1630,  22.7493, -158.0000,  4739,  139.300,   20.919,   35.221,2,   35.219,2,  201.400,2,  200.600,2,    1.790,2,    1.150,2,    0.130,2, -999.000
           NA,HOT timeseries 1988to2019 27SEP2021,    232,  99,-999.0,    8018,-999.0,20121203,1630,  22.7493, -158.0000,  4739,  175.700,   18.941,   34.956,2,   34.957,2,  195.700,2,  195.200,2,    2.840,2,    2.680,2,    0.240,2, -999.000
           NA,HOT timeseries 1988to2019 27SEP2021,    232,  99,-999.0,    8017,-999.0,20121203,1630,  22.7493, -158.0000,  4739,  211.400,   16.807,   34.677,2, -999.000,3, -999.000,3,  198.400,2,    4.490,2,    4.530,2,    0.350,2, -999.000
           NA,HOT timeseries 1988to2019 27SEP2021,    232,  99,-999.0,    8016,-999.0,20121203,1630,  22.7493, -158.0000,  4739,  245.200,   14.743,   34.425,2,   34.417,2,  201.000,2,  199.700,2,    6.480,2,    6.830,2,    0.520,2, -999.000
           NA,HOT timeseries 1988to2019 27SEP2021,    232,  99,-999.0,    8015,-999.0,20121203,1630,  22.7493, -158.0000,  4739,  295.700,   11.921,   34.228,2,   34.227,2,  201.000,2,  200.500,2,   12.270,2,   12.040,2,    0.860,2, -999.000
           NA,HOT timeseries 1988to2019 27SEP2021,    232,  99,-999.0,    8014,-999.0,20121203,1630,  22.7493, -158.0000,  4739,  354.900,   10.317,   34.150,2,   34.150,2,  194.000,2,  192.700,2,   18.700,2,   16.160,2,    1.140,2, -999.000
           NA,HOT timeseries 1988to2019 27SEP2021,    232,  99,-999.0,    8025,-999.0,20121203,1630,  22.7493, -158.0000,  4739,  418.200,    8.838,   34.084,2,   34.084,2,  167.500,2,  168.600,2,   28.590,2,   21.300,2,    1.500,2, -999.000
           NA,HOT timeseries 1988to2019 27SEP2021,    232,  99,-999.0,    8012,-999.0,20121203,1630,  22.7493, -158.0000,  4739,  474.600,    7.612,   34.048,2,   34.049,2,  130.000,2,  133.000,2,   41.340,2,   26.900,2,    1.920,2, -999.000
           NA,HOT timeseries 1988to2019 27SEP2021,    232,  99,-999.0,    8011,-999.0,20121203,1630,  22.7493, -158.0000,  4739,  491.400,    7.389,   34.068,2,   34.067,2,  108.800,2,  108.200,2,   45.670,2,   29.290,2,    2.100,2, -999.000
           NA,HOT timeseries 1988to2019 27SEP2021,    232,  99,-999.0,    8010,-999.0,20121203,1630,  22.7493, -158.0000,  4739,  534.200,    6.763,   34.096,2,   34.090,2,   87.900,2,   82.000,2,   54.750,2,   32.750,2,    2.380,2, -999.000
           NA,HOT timeseries 1988to2019 27SEP2021,    232,  99,-999.0,    8009,-999.0,20121203,1630,  22.7493, -158.0000,  4739,  572.500,    6.355,   34.161,2,   34.161,2,   56.200,2,   54.900,2,   63.190,2,   35.650,2,    2.620,2, -999.000
           NA,HOT timeseries 1988to2019 27SEP2021,    232,  99,-999.0,    8008,-999.0,20121203,1630,  22.7493, -158.0000,  4739,  621.400,    5.845,   34.219,2,   34.216,2,   37.800,2,   36.500,2,   72.500,2,   38.310,2,    2.810,2, -999.000
           NA,HOT timeseries 1988to2019 27SEP2021,    232,  99,-999.0,    8026,-999.0,20121203,1630,  22.7493, -158.0000,  4739,  684.600,    5.594,   34.307,2,   34.307,2,   27.800,2,   26.600,2,   78.870,2,   39.530,2,    2.910,2, -999.000
           NA,HOT timeseries 1988to2019 27SEP2021,    232,  99,-999.0,    8006,-999.0,20121203,1630,  22.7493, -158.0000,  4739,  729.600,    5.440,   34.381,2,   34.378,2,   24.500,2,   22.600,2,   82.370,2,   40.430,2,    2.980,2, -999.000
           NA,HOT timeseries 1988to2019 27SEP2021,    232,  99,-999.0,    8005,-999.0,20121203,1630,  22.7493, -158.0000,  4739,  772.700,    5.301,   34.404,2,   34.403,2,   24.000,2,   23.200,2,   85.420,2,   40.660,2,    2.990,2, -999.000
           NA,HOT timeseries 1988to2019 27SEP2021,    232,  99,-999.0,    8003,-999.0,20121203,1630,  22.7493, -158.0000,  4739,  880.800,    4.844,   34.450,2,   34.450,2,   29.400,2,   30.200,2,   92.460,2,   41.250,2,    2.990,2, -999.000
           NA,HOT timeseries 1988to2019 27SEP2021,    232,  99,-999.0,    8001,-999.0,20121203,1630,  22.7493, -158.0000,  4739, 1019.800,    4.310,   34.492,2,   34.493,2,   37.600,2,   37.300,2,  100.060,2,   41.600,2,    3.000,2, -999.000
           NA,HOT timeseries 1988to2019 27SEP2021,    232,  99,-999.0,    8020,-999.0,20121203,1630,  22.7493, -158.0000,  4739, 1199.300,    3.725,   34.528,2,   34.527,2,   46.500,2,   47.000,2,  113.160,2,   41.570,2,    3.000,2, -999.000
           NA,HOT timeseries 1988to2019 27SEP2021,    232,  99,-999.0,    8019,-999.0,20121203,1630,  22.7493, -158.0000,  4739, 1400.000,    3.273,   34.553,2,   34.553,2,   55.400,2,   56.500,2,  122.760,2,   41.300,2,    2.960,2, -999.000
           NA,HOT timeseries 1988to2019 27SEP2021,    232,  99,-999.0,    8018,-999.0,20121203,1630,  22.7493, -158.0000,  4739, 1599.800,    2.837,   34.573,2,   34.573,2,   65.100,2,   66.600,2,  132.330,2,   40.740,2,    2.920,2, -999.000
           NA,HOT timeseries 1988to2019 27SEP2021,    232,  99,-999.0,    8017,-999.0,20121203,1630,  22.7493, -158.0000,  4739, 1800.800,    2.553,   34.591,2,   34.592,2,   74.500,2,   74.400,2,  138.830,2,   40.580,2,    2.880,2, -999.000
           NA,HOT timeseries 1988to2019 27SEP2021,    232,  99,-999.0,    8016,-999.0,20121203,1630,  22.7493, -158.0000,  4739, 1999.400,    2.246,   34.610,2,   34.611,2,   82.200,2,   82.600,2,  146.370,2,   39.830,2,    2.830,2, -999.000
           NA,HOT timeseries 1988to2019 27SEP2021,    232,  99,-999.0,    8015,-999.0,20121203,1630,  22.7493, -158.0000,  4739, 2199.400,    2.022,   34.626,2,   34.627,2,   90.700,2,   91.200,2,  151.780,2,   39.400,2,    2.790,2, -999.000
           NA,HOT timeseries 1988to2019 27SEP2021,    232,  99,-999.0,    8014,-999.0,20121203,1630,  22.7493, -158.0000,  4739, 2400.300,    1.878,   34.638,2,   34.637,2,   97.800,2,   98.100,2,  154.820,2,   39.040,2,    2.750,2, -999.000
           NA,HOT timeseries 1988to2019 27SEP2021,    232,  99,-999.0,    8025,-999.0,20121203,1630,  22.7493, -158.0000,  4739, 2599.400,    1.753,   34.648,2,   34.649,2,  103.800,2,  104.700,2,  157.850,2,   38.690,2,    2.730,2, -999.000
           NA,HOT timeseries 1988to2019 27SEP2021,    232,  99,-999.0,    8012,-999.0,20121203,1630,  22.7493, -158.0000,  4739, 2799.000,    1.645,   34.658,2,   34.659,2,  112.800,2,  113.500,2,  159.000,2,   38.130,2,    2.660,2, -999.000
           NA,HOT timeseries 1988to2019 27SEP2021,    232,  99,-999.0,    8011,-999.0,20121203,1630,  22.7493, -158.0000,  4739, 2999.900,    1.561,   34.667,2,   34.667,2,  122.700,2,  122.400,2,  156.570,2,   37.330,2,    2.620,2, -999.000
           NA,HOT timeseries 1988to2019 27SEP2021,    232,  99,-999.0,    8010,-999.0,20121203,1630,  22.7493, -158.0000,  4739, 3202.300,    1.519,   34.673,2,   34.672,2,  129.400,2,  129.300,2,  155.260,2,   36.930,2,    2.570,2, -999.000
           NA,HOT timeseries 1988to2019 27SEP2021,    232,  99,-999.0,    8009,-999.0,20121203,1630,  22.7493, -158.0000,  4739, 3401.400,    1.491,   34.678,2,   34.677,2,  134.600,2,  134.900,2,  154.440,2,   36.780,2,    2.560,2, -999.000
           NA,HOT timeseries 1988to2019 27SEP2021,    232,  99,-999.0,    8008,-999.0,20121203,1630,  22.7493, -158.0000,  4739, 3600.500,    1.464,   34.682,2,   34.681,2,  140.800,2,  141.100,2,  151.940,2,   36.230,2,    2.530,2, -999.000
           NA,HOT timeseries 1988to2019 27SEP2021,    232,  99,-999.0,    8026,-999.0,20121203,1630,  22.7493, -158.0000,  4739, 3800.600,    1.457,   34.684,2,   34.684,2,  144.900,2,  144.600,2,  150.830,2,   35.850,2,    2.500,2, -999.000
           NA,HOT timeseries 1988to2019 27SEP2021,    232,  99,-999.0,    8006,-999.0,20121203,1630,  22.7493, -158.0000,  4739, 4000.500,    1.459,   34.686,2,   34.686,2,  148.100,2,  147.800,2,  149.060,2,   35.640,2,    2.480,2, -999.000
           NA,HOT timeseries 1988to2019 27SEP2021,    232,  99,-999.0,    8005,-999.0,20121203,1630,  22.7493, -158.0000,  4739, 4199.600,    1.467,   34.687,2,   34.687,2,  150.000,2,  149.100,2,  147.850,2,   35.640,2,    2.470,2, -999.000
           NA,HOT timeseries 1988to2019 27SEP2021,    232,  99,-999.0,    8004,-999.0,20121203,1630,  22.7493, -158.0000,  4739, 4398.600,    1.480,   34.688,2,   34.688,2,  151.600,2,  150.500,2,  147.250,2,   35.520,2,    2.460,2, -999.000
           NA,HOT timeseries 1988to2019 27SEP2021,    232,  99,-999.0,    8003,-999.0,20121203,1630,  22.7493, -158.0000,  4739, 4501.800,    1.488,   34.688,2,   34.688,2,  152.400,2,  152.100,2,  147.180,2,   35.430,2,    2.460,2, -999.000
           NA,HOT timeseries 1988to2019 27SEP2021,    232,  99,-999.0,    8002,-999.0,20121203,1630,  22.7493, -158.0000,  4739, 4599.400,    1.496,   34.689,2,   34.689,2,  152.800,2,  152.100,2,  146.190,2,   35.430,2,    2.450,2, -999.000
           NA,HOT timeseries 1988to2019 27SEP2021,    232,  99,-999.0,    8001,-999.0,20121203,1630,  22.7493, -158.0000,  4739, 4808.800,    1.518,   34.689,2,   34.689,2,  152.900,2,  152.400,2,  146.080,2,   35.150,2,    2.430,2, -999.000