BOTTLE,20214727JOAExport
EXPOCODE,SECT_ID,STNNBR,CASTNO,SAMPNO,BTLNBR,BTLNBR_FLAG_W,DATE,TIME,LATITUDE,LONGITUDE,DEPTH,CTDPRS,CTDTMP,CTDSAL,CTDSAL_FLAG_W,SALNTY,SALNTY_FLAG_W,CTDOXY,CTDOXY_FLAG_W,OXYGEN,OXYGEN_FLAG_W,SILCAT,SILCAT_FLAG_W,NINI,NINI_FLAG_W,PHSPHT,PHSPHT_FLAG_W,REVP
,,,,,,,,,,,,DB,IPTS-68,PSS-78,,PSS-78,,UMOL/KG,,UMOL/KG,,UMOL/KG,,UMOL/KG,,UMOL/KG,,DBAR
           NA,HOT timeseries 1988to2019 27SEP2021,    125,  99,-999.0,      31,-999.0,20010809,0549,  22.7477, -157.9963,  4723,    5.200,   25.837,   35.269,2,   35.269,2,  208.700,2,  209.400,2, -999.000,9, -999.000,9, -999.000,9, -999.000
           NA,HOT timeseries 1988to2019 27SEP2021,    125,  99,-999.0,      30,-999.0,20010809,0549,  22.7477, -157.9963,  4723,   29.500,   25.839,   35.269,2,   35.267,2,  208.800,2,  209.300,2, -999.000,9, -999.000,9, -999.000,9, -999.000
           NA,HOT timeseries 1988to2019 27SEP2021,    125,  99,-999.0,      22,-999.0,20010809,0549,  22.7477, -157.9963,  4723,   60.800,   25.690,   35.271,2, -999.000,3, -999.000,3,  210.400,2, -999.000,9, -999.000,9, -999.000,9, -999.000
           NA,HOT timeseries 1988to2019 27SEP2021,    125,  99,-999.0,      20,-999.0,20010809,0549,  22.7477, -157.9963,  4723,   82.600,   23.716,   35.260,2,   35.262,2,  222.400,2,  221.900,2, -999.000,9, -999.000,9, -999.000,9, -999.000
           NA,HOT timeseries 1988to2019 27SEP2021,    125,  99,-999.0,      19,-999.0,20010809,0549,  22.7477, -157.9963,  4723,  118.000,   21.951,   35.239,2, -999.000,3, -999.000,3,  208.800,2, -999.000,9, -999.000,9, -999.000,9, -999.000
           NA,HOT timeseries 1988to2019 27SEP2021,    125,  99,-999.0,      18,-999.0,20010809,0549,  22.7477, -157.9963,  4723,  159.500,   20.601,   35.196,2,   35.192,2,  201.900,2,  200.700,2, -999.000,9, -999.000,9, -999.000,9, -999.000
           NA,HOT timeseries 1988to2019 27SEP2021,    125,  99,-999.0,      17,-999.0,20010809,0549,  22.7477, -157.9963,  4723,  198.600,   19.216,   35.060,2,   35.060,2,  199.000,2,  197.800,2, -999.000,9, -999.000,9, -999.000,9, -999.000
           NA,HOT timeseries 1988to2019 27SEP2021,    125,  99,-999.0,      16,-999.0,20010809,0549,  22.7477, -157.9963,  4723,  261.800,   15.737,   34.581,2,   34.580,2,  186.100,2,  184.000,2, -999.000,9, -999.000,9, -999.000,9, -999.000
           NA,HOT timeseries 1988to2019 27SEP2021,    125,  99,-999.0,      23,-999.0,20010809,0549,  22.7477, -157.9963,  4723,  323.400,   12.060,   34.238,2,   34.238,2,  200.800,2, -999.000,3, -999.000,9, -999.000,9, -999.000,9, -999.000
           NA,HOT timeseries 1988to2019 27SEP2021,    125,  99,-999.0,      14,-999.0,20010809,0549,  22.7477, -157.9963,  4723,  361.900,   10.516,   34.157,2,   34.158,2,  195.000,2,  186.600,2, -999.000,9, -999.000,9, -999.000,9, -999.000
           NA,HOT timeseries 1988to2019 27SEP2021,    125,  99,-999.0,      13,-999.0,20010809,0549,  22.7477, -157.9963,  4723,  424.400,    8.828,   34.092,2,   34.094,2,  159.500,2,  159.700,2, -999.000,9, -999.000,9, -999.000,9, -999.000
           NA,HOT timeseries 1988to2019 27SEP2021,    125,  99,-999.0,      12,-999.0,20010809,0549,  22.7477, -157.9963,  4723,  485.800,    7.050,   34.044,2,   34.044,2,  119.000,2,  119.600,2, -999.000,9, -999.000,9, -999.000,9, -999.000
           NA,HOT timeseries 1988to2019 27SEP2021,    125,  99,-999.0,      32,-999.0,20010809,0549,  22.7477, -157.9963,  4723,  558.300,    5.917,   34.083,2,   34.082,2,   71.300,2,   72.700,2, -999.000,9, -999.000,9, -999.000,9, -999.000
           NA,HOT timeseries 1988to2019 27SEP2021,    125,  99,-999.0,       3,-999.0,20010809,0549,  22.7477, -157.9963,  4723,  611.400,    5.344,   34.120,2,   34.120,2,   46.200,2,   46.200,2, -999.000,9, -999.000,9, -999.000,9, -999.000
           NA,HOT timeseries 1988to2019 27SEP2021,    125,  99,-999.0,      29,-999.0,20010809,0549,  22.7477, -157.9963,  4723,  676.400,    4.910,   34.203,2,   34.203,2,   28.500,2,   27.700,2, -999.000,9, -999.000,9, -999.000,9, -999.000
           NA,HOT timeseries 1988to2019 27SEP2021,    125,  99,-999.0,      28,-999.0,20010809,0549,  22.7477, -157.9963,  4723,  699.100,    4.860,   34.219,2,   34.218,2,   26.700,2,   25.800,2, -999.000,9, -999.000,9, -999.000,9, -999.000
           NA,HOT timeseries 1988to2019 27SEP2021,    125,  99,-999.0,       7,-999.0,20010809,0549,  22.7477, -157.9963,  4723,  753.900,    4.685,   34.295,2,   34.294,2,   22.600,2,   20.800,2, -999.000,9, -999.000,9, -999.000,9, -999.000
           NA,HOT timeseries 1988to2019 27SEP2021,    125,  99,-999.0,      38,-999.0,20010809,0549,  22.7477, -157.9963,  4723,  799.100,    4.578,   34.343,2,   34.342,2,   23.200,2,   22.300,2, -999.000,9, -999.000,9, -999.000,9, -999.000
           NA,HOT timeseries 1988to2019 27SEP2021,    125,  99,-999.0,      36,-999.0,20010809,0549,  22.7477, -157.9963,  4723,  844.600,    4.438,   34.389,2,   34.388,2,   27.300,2,   26.900,2, -999.000,9, -999.000,9, -999.000,9, -999.000
           NA,HOT timeseries 1988to2019 27SEP2021,    125,  99,-999.0,      35,-999.0,20010809,0549,  22.7477, -157.9963,  4723,  900.200,    4.253,   34.437,2,   34.435,2,   33.700,2,   33.100,2, -999.000,9, -999.000,9, -999.000,9, -999.000
           NA,HOT timeseries 1988to2019 27SEP2021,    125,  99,-999.0,      34,-999.0,20010809,0549,  22.7477, -157.9963,  4723,  964.500,    4.022,   34.467,2,   34.466,2,   39.900,2,   39.500,2, -999.000,9, -999.000,9, -999.000,9, -999.000
           NA,HOT timeseries 1988to2019 27SEP2021,    125,  99,-999.0,      33,-999.0,20010809,0549,  22.7477, -157.9963,  4723, 1021.600,    3.849,   34.485,2,   34.484,2,   43.600,2,   44.600,2, -999.000,9, -999.000,9, -999.000,9, -999.000
           NA,HOT timeseries 1988to2019 27SEP2021,    125,  99,-999.0,      20,-999.0,20010809,0549,  22.7477, -157.9963,  4723, 1200.200,    3.359,   34.535,2,   34.535,2,   54.900,2,   55.600,2, -999.000,9, -999.000,9, -999.000,9, -999.000
           NA,HOT timeseries 1988to2019 27SEP2021,    125,  99,-999.0,      19,-999.0,20010809,0549,  22.7477, -157.9963,  4723, 1398.300,    2.971,   34.563,2,   34.563,2,   64.400,2,   64.900,2, -999.000,9, -999.000,9, -999.000,9, -999.000
           NA,HOT timeseries 1988to2019 27SEP2021,    125,  99,-999.0,      18,-999.0,20010809,0549,  22.7477, -157.9963,  4723, 1599.500,    2.569,   34.591,2,   34.590,2,   75.000,2,   76.000,2, -999.000,9, -999.000,9, -999.000,9, -999.000
           NA,HOT timeseries 1988to2019 27SEP2021,    125,  99,-999.0,      17,-999.0,20010809,0549,  22.7477, -157.9963,  4723, 1799.200,    2.317,   34.607,2,   34.606,2,   82.700,2,   82.800,2, -999.000,9, -999.000,9, -999.000,9, -999.000
           NA,HOT timeseries 1988to2019 27SEP2021,    125,  99,-999.0,      16,-999.0,20010809,0549,  22.7477, -157.9963,  4723, 1999.600,    2.096,   34.622,2,   34.622,2,   90.900,2,   91.500,2, -999.000,9, -999.000,9, -999.000,9, -999.000
           NA,HOT timeseries 1988to2019 27SEP2021,    125,  99,-999.0,      23,-999.0,20010809,0549,  22.7477, -157.9963,  4723, 2200.500,    1.904,   34.634,2,   34.633,2,   95.100,2,   95.800,2, -999.000,9, -999.000,9, -999.000,9, -999.000
           NA,HOT timeseries 1988to2019 27SEP2021,    125,  99,-999.0,      14,-999.0,20010809,0549,  22.7477, -157.9963,  4723, 2399.200,    1.772,   34.646,2,   34.646,2,  103.100,2,  103.900,2, -999.000,9, -999.000,9, -999.000,9, -999.000
           NA,HOT timeseries 1988to2019 27SEP2021,    125,  99,-999.0,      13,-999.0,20010809,0549,  22.7477, -157.9963,  4723, 2600.000,    1.682,   34.655,2,   34.655,2,  111.200,2,  111.500,2, -999.000,9, -999.000,9, -999.000,9, -999.000
           NA,HOT timeseries 1988to2019 27SEP2021,    125,  99,-999.0,      12,-999.0,20010809,0549,  22.7477, -157.9963,  4723, 2799.700,    1.610,   34.662,2,   34.662,2,  117.800,2,  118.000,2, -999.000,9, -999.000,9, -999.000,9, -999.000
           NA,HOT timeseries 1988to2019 27SEP2021,    125,  99,-999.0,      11,-999.0,20010809,0549,  22.7477, -157.9963,  4723, 2999.600,    1.551,   34.670,2,   34.669,2,  126.500,2,  127.000,2, -999.000,9, -999.000,9, -999.000,9, -999.000
           NA,HOT timeseries 1988to2019 27SEP2021,    125,  99,-999.0,      32,-999.0,20010809,0549,  22.7477, -157.9963,  4723, 3199.800,    1.517,   34.674,2,   34.673,2,  130.800,2,  130.400,2, -999.000,9, -999.000,9, -999.000,9, -999.000
           NA,HOT timeseries 1988to2019 27SEP2021,    125,  99,-999.0,       3,-999.0,20010809,0549,  22.7477, -157.9963,  4723, 3399.000,    1.491,   34.678,2,   34.678,2,  136.300,2,  136.300,2, -999.000,9, -999.000,9, -999.000,9, -999.000
           NA,HOT timeseries 1988to2019 27SEP2021,    125,  99,-999.0,      29,-999.0,20010809,0549,  22.7477, -157.9963,  4723, 3600.600,    1.472,   34.681,2,   34.682,2,  141.000,2,  141.200,2, -999.000,9, -999.000,9, -999.000,9, -999.000
           NA,HOT timeseries 1988to2019 27SEP2021,    125,  99,-999.0,      28,-999.0,20010809,0549,  22.7477, -157.9963,  4723, 3797.700,    1.461,   34.684,2,   34.685,2,  145.300,2,  145.800,2, -999.000,9, -999.000,9, -999.000,9, -999.000
           NA,HOT timeseries 1988to2019 27SEP2021,    125,  99,-999.0,       7,-999.0,20010809,0549,  22.7477, -157.9963,  4723, 3996.100,    1.461,   34.686,2,   34.685,2,  148.500,2,  148.300,2, -999.000,9, -999.000,9, -999.000,9, -999.000
           NA,HOT timeseries 1988to2019 27SEP2021,    125,  99,-999.0,      38,-999.0,20010809,0549,  22.7477, -157.9963,  4723, 4198.100,    1.465,   34.688,2,   34.688,2,  151.500,2,  151.000,2, -999.000,9, -999.000,9, -999.000,9, -999.000
           NA,HOT timeseries 1988to2019 27SEP2021,    125,  99,-999.0,      36,-999.0,20010809,0549,  22.7477, -157.9963,  4723, 4399.400,    1.477,   34.689,2,   34.689,2,  153.300,2,  153.000,2, -999.000,9, -999.000,9, -999.000,9, -999.000
           NA,HOT timeseries 1988to2019 27SEP2021,    125,  99,-999.0,      35,-999.0,20010809,0549,  22.7477, -157.9963,  4723, 4497.500,    1.482,   34.690,2,   34.689,2,  154.200,2,  154.100,2, -999.000,9, -999.000,9, -999.000,9, -999.000
           NA,HOT timeseries 1988to2019 27SEP2021,    125,  99,-999.0,      34,-999.0,20010809,0549,  22.7477, -157.9963,  4723, 4599.900,    1.490,   34.690,2,   34.690,2,  155.200,2,  154.600,2, -999.000,9, -999.000,9, -999.000,9, -999.000
           NA,HOT timeseries 1988to2019 27SEP2021,    125,  99,-999.0,      33,-999.0,20010809,0549,  22.7477, -157.9963,  4723, 4803.800,    1.508,   34.691,2,   34.691,2,  155.900,2,  156.100,2, -999.000,9, -999.000,9, -999.000,9, -999.000