BOTTLE,20214727JOAExport
EXPOCODE,SECT_ID,STNNBR,CASTNO,SAMPNO,BTLNBR,BTLNBR_FLAG_W,DATE,TIME,LATITUDE,LONGITUDE,DEPTH,CTDPRS,CTDTMP,CTDSAL,CTDSAL_FLAG_W,SALNTY,SALNTY_FLAG_W,CTDOXY,CTDOXY_FLAG_W,OXYGEN,OXYGEN_FLAG_W,SILCAT,SILCAT_FLAG_W,NINI,NINI_FLAG_W,PHSPHT,PHSPHT_FLAG_W,REVP
,,,,,,,,,,,,DB,IPTS-68,PSS-78,,PSS-78,,UMOL/KG,,UMOL/KG,,UMOL/KG,,UMOL/KG,,UMOL/KG,,DBAR
           NA,HOT timeseries 1988to2019 27SEP2021,    220,  99,-999.0,    8024,-999.0,20111104,1633,  22.7333, -157.9913,  4725,    5.500,   25.798,   35.209,2,   35.210,2,  205.500,2,  206.400,2,    0.790,2,    0.020,2,    0.040,2, -999.000
           NA,HOT timeseries 1988to2019 27SEP2021,    220,  99,-999.0,    8024,-999.0,20111104,1633,  22.7333, -157.9913,  4725,    5.800,   25.818,   35.203,2,   35.210,2,  205.100,2, -999.000,4,    0.740,2,    0.000,2,    0.040,2, -999.000
           NA,HOT timeseries 1988to2019 27SEP2021,    220,  99,-999.0,    8023,-999.0,20111104,1633,  22.7333, -157.9913,  4725,   66.100,   25.827,   35.216,2,   35.213,2,  204.900,2,  204.700,2,    0.780,2,    0.020,2,    0.040,2, -999.000
           NA,HOT timeseries 1988to2019 27SEP2021,    220,  99,-999.0,    8022,-999.0,20111104,1633,  22.7333, -157.9913,  4725,   84.100,   24.072,   35.285,2,   35.285,2,  213.100,2,  211.900,2,    1.010,2,    0.050,2,    0.020,2, -999.000
           NA,HOT timeseries 1988to2019 27SEP2021,    220,  99,-999.0,    8021,-999.0,20111104,1633,  22.7333, -157.9913,  4725,  118.800,   21.990,   35.301,2,   35.309,2,  204.200,2,  204.800,2,    1.220,2,    0.420,2,    0.070,2, -999.000
           NA,HOT timeseries 1988to2019 27SEP2021,    220,  99,-999.0,    8020,-999.0,20111104,1633,  22.7333, -157.9913,  4725,  157.700,   19.225,   35.030,2,   35.031,2,  202.300,2,  198.600,2,    2.250,2,    1.800,2,    0.160,2, -999.000
           NA,HOT timeseries 1988to2019 27SEP2021,    220,  99,-999.0,    8019,-999.0,20111104,1633,  22.7333, -157.9913,  4725,  195.500,   17.539,   34.814,2,   34.816,2,  201.600,2,  200.700,2,    3.500,2,    3.290,2,    0.250,2, -999.000
           NA,HOT timeseries 1988to2019 27SEP2021,    220,  99,-999.0,    8018,-999.0,20111104,1633,  22.7333, -157.9913,  4725,  230.700,   15.611,   34.569,2,   34.578,2,  204.400,2,  202.800,2,    5.220,2,    5.320,2,    0.390,2, -999.000
           NA,HOT timeseries 1988to2019 27SEP2021,    220,  99,-999.0,    8017,-999.0,20111104,1633,  22.7333, -157.9913,  4725,  292.700,   12.595,   34.281,2,   34.282,2,  202.000,2,  204.300,2,   10.220,2,   10.280,2,    0.730,2, -999.000
           NA,HOT timeseries 1988to2019 27SEP2021,    220,  99,-999.0,    8016,-999.0,20111104,1633,  22.7333, -157.9913,  4725,  332.000,   11.206,   34.177,2,   34.185,2,  202.400,2,  202.200,2,   13.560,2,   13.140,2,    0.930,2, -999.000
           NA,HOT timeseries 1988to2019 27SEP2021,    220,  99,-999.0,    8015,-999.0,20111104,1633,  22.7333, -157.9913,  4725,  366.400,   10.543,   34.149,2,   34.150,2,  197.600,2,  198.100,2,   16.350,2,   14.920,2,    1.040,2, -999.000
           NA,HOT timeseries 1988to2019 27SEP2021,    220,  99,-999.0,    8014,-999.0,20111104,1633,  22.7333, -157.9913,  4725,  415.500,    9.014,   34.073,2,   34.072,2,  172.800,2,  171.900,2,   26.410,2,   20.450,2,    1.440,2, -999.000
           NA,HOT timeseries 1988to2019 27SEP2021,    220,  99,-999.0,    8025,-999.0,20111104,1633,  22.7333, -157.9913,  4725,  448.800,    8.194,   34.051,2,   34.050,2,  143.600,2,  144.800,2,   34.630,2,   24.450,2,    1.740,2, -999.000
           NA,HOT timeseries 1988to2019 27SEP2021,    220,  99,-999.0,    8012,-999.0,20111104,1633,  22.7333, -157.9913,  4725,  484.500,    7.364,   34.065,2,   34.064,2,  108.200,2,  106.700,2,   45.600,2,   29.520,2,    2.150,2, -999.000
           NA,HOT timeseries 1988to2019 27SEP2021,    220,  99,-999.0,    8010,-999.0,20111104,1633,  22.7333, -157.9913,  4725,  519.000,    6.530,   34.056,2,   34.056,2,   87.900,2,   86.800,2,   55.840,2,   32.650,2,    2.360,2, -999.000
           NA,HOT timeseries 1988to2019 27SEP2021,    220,  99,-999.0,    8009,-999.0,20111104,1633,  22.7333, -157.9913,  4725,  562.300,    5.876,   34.065,2,   34.065,2,   70.500,2,   70.400,2,   66.040,2,   35.420,2,    2.560,2, -999.000
           NA,HOT timeseries 1988to2019 27SEP2021,    220,  99,-999.0,    8008,-999.0,20111104,1633,  22.7333, -157.9913,  4725,  611.700,    5.348,   34.113,2,   34.111,2,   50.300,2,   51.100,2,   76.850,2,   37.870,2,    2.740,2, -999.000
           NA,HOT timeseries 1988to2019 27SEP2021,    220,  99,-999.0,    8026,-999.0,20111104,1633,  22.7333, -157.9913,  4725,  671.200,    4.915,   34.185,2,   34.184,2,   34.800,2,   34.300,2,   88.140,2,   39.770,2,    2.890,2, -999.000
           NA,HOT timeseries 1988to2019 27SEP2021,    220,  99,-999.0,    8005,-999.0,20111104,1633,  22.7333, -157.9913,  4725,  758.400,    4.499,   34.307,2,   34.304,2,   25.900,2,   26.000,2,   99.850,2,   41.250,2,    3.000,2, -999.000
           NA,HOT timeseries 1988to2019 27SEP2021,    220,  99,-999.0,    8004,-999.0,20111104,1633,  22.7333, -157.9913,  4725,  822.000,    4.285,   34.373,2,   34.373,2,   29.000,2,   28.200,2,  104.390,2,   41.620,2,    3.020,2, -999.000
           NA,HOT timeseries 1988to2019 27SEP2021,    220,  99,-999.0,    8003,-999.0,20111104,1633,  22.7333, -157.9913,  4725,  888.500,    4.107,   34.420,2,   34.420,2,   34.700,2,   34.300,2,  107.970,2,   41.520,2,    3.010,2, -999.000
           NA,HOT timeseries 1988to2019 27SEP2021,    220,  99,-999.0,    8002,-999.0,20111104,1633,  22.7333, -157.9913,  4725,  951.800,    3.924,   34.458,2,   34.457,2,   40.600,2,   40.000,2,  111.140,2,   41.480,2,    2.990,2, -999.000
           NA,HOT timeseries 1988to2019 27SEP2021,    220,  99,-999.0,    8001,-999.0,20111104,1633,  22.7333, -157.9913,  4725, 1019.200,    3.794,   34.475,2,   34.476,2,   44.000,2,   44.700,2,  113.490,2,   41.220,2,    2.980,2, -999.000
           NA,HOT timeseries 1988to2019 27SEP2021,    220,  99,-999.0,    8020,-999.0,20111104,1633,  22.7333, -157.9913,  4725, 1205.400,    3.304,   34.533,2,   34.532,2,   57.000,2,   54.700,2,  122.960,2,   40.790,2,    2.950,2, -999.000
           NA,HOT timeseries 1988to2019 27SEP2021,    220,  99,-999.0,    8019,-999.0,20111104,1633,  22.7333, -157.9913,  4725, 1399.100,    2.890,   34.563,2,   34.563,2,   64.700,2,   64.400,2,  131.990,2,   40.390,2,    2.910,2, -999.000
           NA,HOT timeseries 1988to2019 27SEP2021,    220,  99,-999.0,    8017,-999.0,20111104,1633,  22.7333, -157.9913,  4725, 1798.700,    2.293,   34.604,2,   34.604,2,   81.300,2,   81.800,2,  145.490,2,   39.610,2,    2.830,2, -999.000
           NA,HOT timeseries 1988to2019 27SEP2021,    220,  99,-999.0,    8016,-999.0,20111104,1633,  22.7333, -157.9913,  4725, 2001.200,    2.045,   34.622,2,   34.623,2,   91.300,2,   91.600,2,  150.680,2,   39.000,2,    2.770,2, -999.000
           NA,HOT timeseries 1988to2019 27SEP2021,    220,  99,-999.0,    8015,-999.0,20111104,1633,  22.7333, -157.9913,  4725, 2197.300,    1.901,   34.635,2,   34.635,2,  100.100,2,   99.900,2,  152.340,2,   38.770,2,    2.740,2, -999.000
           NA,HOT timeseries 1988to2019 27SEP2021,    220,  99,-999.0,    8014,-999.0,20111104,1633,  22.7333, -157.9913,  4725, 2395.900,    1.791,   34.645,2,   34.645,2,  104.700,2,  106.600,2,  154.960,2,   38.240,2,    2.710,2, -999.000
           NA,HOT timeseries 1988to2019 27SEP2021,    220,  99,-999.0,    8025,-999.0,20111104,1633,  22.7333, -157.9913,  4725, 2598.800,    1.681,   34.653,2,   34.653,2,  110.000,2,  109.400,2,  158.640,2,   38.070,2,    2.690,2, -999.000
           NA,HOT timeseries 1988to2019 27SEP2021,    220,  99,-999.0,    8012,-999.0,20111104,1633,  22.7333, -157.9913,  4725, 2796.200,    1.594,   34.662,2,   34.664,2,  116.500,2,  118.200,2,  160.290,2,   37.580,2,    2.640,2, -999.000
           NA,HOT timeseries 1988to2019 27SEP2021,    220,  99,-999.0,    8011,-999.0,20111104,1633,  22.7333, -157.9913,  4725, 2999.500,    1.548,   34.668,2,   34.668,2,  123.000,2, -999.000,5,  159.750,2,   37.100,2,    2.600,2, -999.000
           NA,HOT timeseries 1988to2019 27SEP2021,    220,  99,-999.0,    8010,-999.0,20111104,1633,  22.7333, -157.9913,  4725, 3197.600,    1.514,   34.674,2,   34.674,2,  128.900,2, -999.000,5,  158.770,2,   36.870,2,    2.590,2, -999.000
           NA,HOT timeseries 1988to2019 27SEP2021,    220,  99,-999.0,    8009,-999.0,20111104,1633,  22.7333, -157.9913,  4725, 3396.300,    1.500,   34.676,2,   34.676,2,  132.600,2,  132.300,2,  158.150,2,   36.600,2,    2.570,2, -999.000
           NA,HOT timeseries 1988to2019 27SEP2021,    220,  99,-999.0,    8008,-999.0,20111104,1633,  22.7333, -157.9913,  4725, 3596.100,    1.476,   34.680,2,   34.680,2,  138.400,2,  137.800,2,  155.550,2,   36.260,2,    2.540,2, -999.000
           NA,HOT timeseries 1988to2019 27SEP2021,    220,  99,-999.0,    8026,-999.0,20111104,1633,  22.7333, -157.9913,  4725, 3797.100,    1.460,   34.682,2,   34.683,2,  143.300,2,  143.200,2,  154.220,2,   35.930,2,    2.510,2, -999.000
           NA,HOT timeseries 1988to2019 27SEP2021,    220,  99,-999.0,    8006,-999.0,20111104,1633,  22.7333, -157.9913,  4725, 3999.300,    1.458,   34.684,2,   34.684,2,  147.000,2,  146.700,2,  152.230,2,   35.720,2,    2.490,2, -999.000
           NA,HOT timeseries 1988to2019 27SEP2021,    220,  99,-999.0,    8005,-999.0,20111104,1633,  22.7333, -157.9913,  4725, 4197.700,    1.461,   34.686,2,   34.686,2,  149.800,2,  149.400,2,  150.400,2,   35.290,2,    2.470,2, -999.000
           NA,HOT timeseries 1988to2019 27SEP2021,    220,  99,-999.0,    8004,-999.0,20111104,1633,  22.7333, -157.9913,  4725, 4399.000,    1.474,   34.687,2,   34.687,2,  151.600,2,  150.900,2,  149.250,2,   35.390,2,    2.470,2, -999.000
           NA,HOT timeseries 1988to2019 27SEP2021,    220,  99,-999.0,    8003,-999.0,20111104,1633,  22.7333, -157.9913,  4725, 4497.500,    1.481,   34.687,2,   34.687,2,  152.500,2,  152.400,2,  148.910,2,   35.240,2,    2.450,2, -999.000
           NA,HOT timeseries 1988to2019 27SEP2021,    220,  99,-999.0,    8002,-999.0,20111104,1633,  22.7333, -157.9913,  4725, 4600.700,    1.489,   34.687,2,   34.687,2,  153.400,2,  153.600,2,  148.130,2,   35.340,2,    2.470,2, -999.000
           NA,HOT timeseries 1988to2019 27SEP2021,    220,  99,-999.0,    8001,-999.0,20111104,1633,  22.7333, -157.9913,  4725, 4807.800,    1.509,   34.688,2,   34.688,2,  154.100,2,  154.400,2,  147.570,2,   35.150,2,    2.450,2, -999.000