BOTTLE,20214727JOAExport
EXPOCODE,SECT_ID,STNNBR,CASTNO,SAMPNO,BTLNBR,BTLNBR_FLAG_W,DATE,TIME,LATITUDE,LONGITUDE,DEPTH,CTDPRS,CTDTMP,CTDSAL,CTDSAL_FLAG_W,SALNTY,SALNTY_FLAG_W,CTDOXY,CTDOXY_FLAG_W,OXYGEN,OXYGEN_FLAG_W,SILCAT,SILCAT_FLAG_W,NINI,NINI_FLAG_W,PHSPHT,PHSPHT_FLAG_W,REVP
,,,,,,,,,,,,DB,IPTS-68,PSS-78,,PSS-78,,UMOL/KG,,UMOL/KG,,UMOL/KG,,UMOL/KG,,UMOL/KG,,DBAR
           NA,HOT timeseries 1988to2019 27SEP2021,     35,  99,-999.0,      23,-999.0,19920704,1257,  22.7490, -158.0013,  4779,   11.500,   25.335,   35.127,2,   35.129,2,  212.300,2,  206.200,2,    1.490,2,    0.010,2,    0.100,2, -999.000
           NA,HOT timeseries 1988to2019 27SEP2021,     35,  99,-999.0,      21,-999.0,19920704,1257,  22.7490, -158.0013,  4779,   51.700,   23.506,   35.189,2,   35.188,2,  221.700,2,  221.000,2,    1.050,2,    0.000,2,    0.070,2, -999.000
           NA,HOT timeseries 1988to2019 27SEP2021,     35,  99,-999.0,      20,-999.0,19920704,1257,  22.7490, -158.0013,  4779,   61.500,   23.394,   35.217,2,   35.215,2,  221.000,2,  221.300,2,    1.670,2,    0.000,2,    0.080,2, -999.000
           NA,HOT timeseries 1988to2019 27SEP2021,     35,  99,-999.0,      22,-999.0,19920704,1257,  22.7490, -158.0013,  4779,   87.400,   22.185,   35.259,2,   35.259,2,  219.600,2,  218.400,2,    1.550,2,    0.010,2,    0.090,2, -999.000
           NA,HOT timeseries 1988to2019 27SEP2021,     35,  99,-999.0,      19,-999.0,19920704,1257,  22.7490, -158.0013,  4779,  112.600,   22.072,   35.255,2,   35.251,2,  216.400,2,  216.400,2, -999.000,4,    0.000,2,    0.080,2, -999.000
           NA,HOT timeseries 1988to2019 27SEP2021,     35,  99,-999.0,      18,-999.0,19920704,1257,  22.7490, -158.0013,  4779,  163.800,   19.894,   35.187,2,   35.181,2,  196.700,2,  197.000,2,    2.170,2,    1.530,2,    0.210,2, -999.000
           NA,HOT timeseries 1988to2019 27SEP2021,     35,  99,-999.0,      17,-999.0,19920704,1257,  22.7490, -158.0013,  4779,  231.100,   17.955,   35.003,2,   35.000,2,  210.500,2,  209.600,2,    2.830,2,    1.830,2,    0.220,2, -999.000
           NA,HOT timeseries 1988to2019 27SEP2021,     35,  99,-999.0,      14,-999.0,19920704,1257,  22.7490, -158.0013,  4779,  330.500,   12.257,   34.283,2,   34.281,2,  194.700,2,  194.300,2,   10.670,2,   11.370,2,    0.850,2, -999.000
           NA,HOT timeseries 1988to2019 27SEP2021,     35,  99,-999.0,      13,-999.0,19920704,1257,  22.7490, -158.0013,  4779,  370.800,   10.589,   34.154,2,   34.154,2,  195.500,2,  195.100,2,   15.850,2,   14.920,2,    1.090,2, -999.000
           NA,HOT timeseries 1988to2019 27SEP2021,     35,  99,-999.0,      12,-999.0,19920704,1257,  22.7490, -158.0013,  4779,  423.400,    8.868,   34.084,2,   34.085,2,  175.000,2,  171.200,2,   27.280,2,   20.970,2,    1.510,2, -999.000
           NA,HOT timeseries 1988to2019 27SEP2021,     35,  99,-999.0,      21,-999.0,19920704,1257,  22.7490, -158.0013,  4779,  455.500,    8.303,   34.067,2,   34.068,2,  161.500,2,  156.700,2,   32.160,2,   23.350,2,    1.630,2, -999.000
           NA,HOT timeseries 1988to2019 27SEP2021,     35,  99,-999.0,      11,-999.0,19920704,1257,  22.7490, -158.0013,  4779,  476.600,    7.495,   34.047,2,   34.048,2,  142.900,2,  132.700,2,   41.510,2,   27.460,2,    1.960,2, -999.000
           NA,HOT timeseries 1988to2019 27SEP2021,     35,  99,-999.0,      10,-999.0,19920704,1257,  22.7490, -158.0013,  4779,  483.200,    7.394,   34.055,2,   34.053,2,  133.000,2,  124.600,2,   43.780,2,   28.190,2,    2.050,2, -999.000
           NA,HOT timeseries 1988to2019 27SEP2021,     35,  99,-999.0,       8,-999.0,19920704,1257,  22.7490, -158.0013,  4779,  507.200,    7.077,   34.120,2,   34.121,2,   97.000,2,   89.700,2,   52.250,2,   31.550,2,    2.340,2, -999.000
           NA,HOT timeseries 1988to2019 27SEP2021,     35,  99,-999.0,       6,-999.0,19920704,1257,  22.7490, -158.0013,  4779,  552.800,    6.478,   34.175,2, -999.000,4, -999.000,3,   63.700,2,   60.520,2,   34.070,2,    2.510,2, -999.000
           NA,HOT timeseries 1988to2019 27SEP2021,     35,  99,-999.0,       7,-999.0,19920704,1257,  22.7490, -158.0013,  4779,  594.000,    5.986,   34.213,2,   34.213,2,   50.900,2,   45.600,2,   71.490,2,   37.550,2,    2.760,2, -999.000
           NA,HOT timeseries 1988to2019 27SEP2021,     35,  99,-999.0,      26,-999.0,19920704,1257,  22.7490, -158.0013,  4779,  639.800,    5.542,   34.255,2,   34.256,2,   40.200,2,   36.000,2,   79.160,2,   38.900,2,    2.850,2, -999.000
           NA,HOT timeseries 1988to2019 27SEP2021,     35,  99,-999.0,      25,-999.0,19920704,1257,  22.7490, -158.0013,  4779,  742.400,    4.922,   34.343,2,   34.343,2,   32.300,2,   31.100,2,   93.010,2,   41.270,2,    3.000,2, -999.000
           NA,HOT timeseries 1988to2019 27SEP2021,     35,  99,-999.0,       3,-999.0,19920704,1257,  22.7490, -158.0013,  4779,  855.900,    4.525,   34.417,2,   34.419,2,   34.500,2,   34.300,2,  101.050,2,   41.760,2,    3.020,2, -999.000
           NA,HOT timeseries 1988to2019 27SEP2021,     35,  99,-999.0,       2,-999.0,19920704,1257,  22.7490, -158.0013,  4779,  999.800,    4.013,   34.482,2,   34.484,2,   43.300,2, -999.000,5,  111.650,2,   42.120,2,    3.020,2, -999.000
           NA,HOT timeseries 1988to2019 27SEP2021,     35,  99,-999.0,       1,-999.0,19920704,1257,  22.7490, -158.0013,  4779, 1012.800,    3.992,   34.483,2,   34.484,2,   43.400,2,   42.300,2,  112.160,2,   42.030,2,    3.030,2, -999.000
           NA,HOT timeseries 1988to2019 27SEP2021,     35,  99,-999.0,      20,-999.0,19920704,1257,  22.7490, -158.0013,  4779, 1203.300,    3.513,   34.525,2,   34.525,2,   53.000,2,   52.300,2,  120.990,2,   41.800,2,    2.980,2, -999.000
           NA,HOT timeseries 1988to2019 27SEP2021,     35,  99,-999.0,      19,-999.0,19920704,1257,  22.7490, -158.0013,  4779, 1400.800,    3.025,   34.556,2,   34.557,2,   62.700,2,   61.600,2,  133.210,2,   41.420,2,    2.940,2, -999.000
           NA,HOT timeseries 1988to2019 27SEP2021,     35,  99,-999.0,      18,-999.0,19920704,1257,  22.7490, -158.0013,  4779, 1606.200,    2.643,   34.581,2, -999.000,5,   73.000,2,   72.500,2,  139.280,2,   40.810,2,    2.890,2, -999.000
           NA,HOT timeseries 1988to2019 27SEP2021,     35,  99,-999.0,      17,-999.0,19920704,1257,  22.7490, -158.0013,  4779, 1804.700,    2.332,   34.602,2,   34.602,2,   81.600,2,   81.200,2,  142.390,2,   40.420,2,    2.840,2, -999.000
           NA,HOT timeseries 1988to2019 27SEP2021,     35,  99,-999.0,      16,-999.0,19920704,1257,  22.7490, -158.0013,  4779, 2001.300,    2.117,   34.616,2,   34.619,2,   86.600,2,   87.200,2,  150.250,2,   40.080,2,    2.810,2, -999.000
           NA,HOT timeseries 1988to2019 27SEP2021,     35,  99,-999.0,      15,-999.0,19920704,1257,  22.7490, -158.0013,  4779, 2200.200,    1.913,   34.631,2,   34.634,2,   95.400,2,   96.100,2,  155.830,2,   39.580,2,    2.760,2, -999.000
           NA,HOT timeseries 1988to2019 27SEP2021,     35,  99,-999.0,      14,-999.0,19920704,1257,  22.7490, -158.0013,  4779, 2398.000,    1.791,   34.642,2,   34.642,2,  102.000,2,  103.000,2,  156.760,2,   39.200,2,    2.740,2, -999.000
           NA,HOT timeseries 1988to2019 27SEP2021,     35,  99,-999.0,      13,-999.0,19920704,1257,  22.7490, -158.0013,  4779, 2602.000,    1.683,   34.653,2,   34.653,2,  109.800,2,  112.100,2, -999.000,3,   38.650,2,    2.690,2, -999.000
           NA,HOT timeseries 1988to2019 27SEP2021,     35,  99,-999.0,      12,-999.0,19920704,1257,  22.7490, -158.0013,  4779, 2804.700,    1.607,   34.661,2, -999.000,3, -999.000,3,  117.600,2, -999.000,3,   38.250,2,    2.660,2, -999.000
           NA,HOT timeseries 1988to2019 27SEP2021,     35,  99,-999.0,      11,-999.0,19920704,1257,  22.7490, -158.0013,  4779, 2999.900,    1.563,   34.667,2,   34.667,2,  120.400,2,  122.200,2,  159.810,2,   37.890,2,    2.630,2, -999.000
           NA,HOT timeseries 1988to2019 27SEP2021,     35,  99,-999.0,      10,-999.0,19920704,1257,  22.7490, -158.0013,  4779, 3201.700,    1.512,   34.672,2,   34.673,2,  127.800,2,  130.600,2, -999.000,3,   37.360,2,    2.580,2, -999.000
           NA,HOT timeseries 1988to2019 27SEP2021,     35,  99,-999.0,       9,-999.0,19920704,1257,  22.7490, -158.0013,  4779, 3409.600,    1.484,   34.676,2, -999.000,3, -999.000,3,  135.200,2,  154.660,2,   36.990,2,    2.560,2, -999.000
           NA,HOT timeseries 1988to2019 27SEP2021,     35,  99,-999.0,       8,-999.0,19920704,1257,  22.7490, -158.0013,  4779, 3603.800,    1.469,   34.680,2,   34.681,2,  139.700,2,  139.400,2,  153.650,2,   36.730,2,    2.540,2, -999.000
           NA,HOT timeseries 1988to2019 27SEP2021,     35,  99,-999.0,       6,-999.0,19920704,1257,  22.7490, -158.0013,  4779, 3797.600,    1.461,   34.682,2,   34.682,2,  143.700,2,  143.300,2,  152.070,2,   36.500,2,    2.520,2, -999.000
           NA,HOT timeseries 1988to2019 27SEP2021,     35,  99,-999.0,       7,-999.0,19920704,1257,  22.7490, -158.0013,  4779, 3997.300,    1.459,   34.684,2,   34.684,2,  147.000,2,  147.000,2,  149.710,2,   36.270,2,    2.520,2, -999.000
           NA,HOT timeseries 1988to2019 27SEP2021,     35,  99,-999.0,      26,-999.0,19920704,1257,  22.7490, -158.0013,  4779, 4207.200,    1.467,   34.686,2, -999.000,4, -999.000,3,  149.100,2, -999.000,5, -999.000,5, -999.000,5, -999.000
           NA,HOT timeseries 1988to2019 27SEP2021,     35,  99,-999.0,      25,-999.0,19920704,1257,  22.7490, -158.0013,  4779, 4393.300,    1.476,   34.687,2,   34.685,2,  151.100,2,  150.500,2,  146.740,2,   36.020,2,    2.480,2, -999.000
           NA,HOT timeseries 1988to2019 27SEP2021,     35,  99,-999.0,       3,-999.0,19920704,1257,  22.7490, -158.0013,  4779, 4500.800,    1.485,   34.687,2,   34.687,2,  152.000,2,  151.500,2,  144.670,2,   35.930,2,    2.480,2, -999.000
           NA,HOT timeseries 1988to2019 27SEP2021,     35,  99,-999.0,       2,-999.0,19920704,1257,  22.7490, -158.0013,  4779, 4601.700,    1.492,   34.688,2,   34.687,2,  153.300,2,  152.100,2,  147.150,2,   35.920,2,    2.490,2, -999.000
           NA,HOT timeseries 1988to2019 27SEP2021,     35,  99,-999.0,       1,-999.0,19920704,1257,  22.7490, -158.0013,  4779, 4702.100,    1.499,   34.688,2,   34.688,2,  154.200,2,  152.500,2,  146.590,2,   35.910,2,    2.480,2, -999.000