BOTTLE,20214727JOAExport
EXPOCODE,SECT_ID,STNNBR,CASTNO,SAMPNO,BTLNBR,BTLNBR_FLAG_W,DATE,TIME,LATITUDE,LONGITUDE,DEPTH,CTDPRS,CTDTMP,CTDSAL,CTDSAL_FLAG_W,SALNTY,SALNTY_FLAG_W,CTDOXY,CTDOXY_FLAG_W,OXYGEN,OXYGEN_FLAG_W,SILCAT,SILCAT_FLAG_W,NINI,NINI_FLAG_W,PHSPHT,PHSPHT_FLAG_W,REVP
,,,,,,,,,,,,DB,IPTS-68,PSS-78,,PSS-78,,UMOL/KG,,UMOL/KG,,UMOL/KG,,UMOL/KG,,UMOL/KG,,DBAR
           NA,HOT timeseries 1988to2019 27SEP2021,    186,  99,-999.0,    8024,-999.0,20070320,1606,  22.7498, -158.0023,  4729,    4.800,   23.413,   35.173,2,   35.172,2,  216.000,2,  213.600,2,    1.440,2,    0.130,2,    0.010,2, -999.000
           NA,HOT timeseries 1988to2019 27SEP2021,    186,  99,-999.0,    8024,-999.0,20070320,1606,  22.7498, -158.0023,  4729,    5.200,   23.468,   35.176,2,   35.176,2,  215.600,2,  215.600,2,    1.360,2,    0.090,2,    0.020,2, -999.000
           NA,HOT timeseries 1988to2019 27SEP2021,    186,  99,-999.0,    8023,-999.0,20070320,1606,  22.7498, -158.0023,  4729,   58.600,   23.004,   35.227,2,   35.225,2,  216.700,2,  216.800,2,    1.780,2,    0.100,2,    0.010,2, -999.000
           NA,HOT timeseries 1988to2019 27SEP2021,    186,  99,-999.0,    8022,-999.0,20070320,1606,  22.7498, -158.0023,  4729,  110.300,   21.599,   35.159,2,   35.159,2,  200.500,2,  201.300,2,    2.590,2,    0.870,2,    0.090,2, -999.000
           NA,HOT timeseries 1988to2019 27SEP2021,    186,  99,-999.0,    8021,-999.0,20070320,1606,  22.7498, -158.0023,  4729,  163.500,   18.384,   34.874,2,   34.873,2,  195.100,2,  197.800,2, -999.000,4,    2.990,2,    0.250,2, -999.000
           NA,HOT timeseries 1988to2019 27SEP2021,    186,  99,-999.0,    8020,-999.0,20070320,1606,  22.7498, -158.0023,  4729,  208.900,   15.594,   34.546,2,   34.551,2,  197.300,2,  197.500,2,    6.860,2,    6.100,2,    0.470,2, -999.000
           NA,HOT timeseries 1988to2019 27SEP2021,    186,  99,-999.0,    8019,-999.0,20070320,1606,  22.7498, -158.0023,  4729,  266.200,   13.522,   34.401,2,   34.399,2,  206.300,2,  208.100,2,   10.030,2,    9.050,2,    0.640,2, -999.000
           NA,HOT timeseries 1988to2019 27SEP2021,    186,  99,-999.0,    8018,-999.0,20070320,1606,  22.7498, -158.0023,  4729,  322.000,   12.151,   34.295,2,   34.298,2,  209.400,2,  210.200,2,   13.440,2,   11.320,2,    0.790,2, -999.000
           NA,HOT timeseries 1988to2019 27SEP2021,    186,  99,-999.0,    8017,-999.0,20070320,1606,  22.7498, -158.0023,  4729,  385.800,   10.370,   34.186,2,   34.184,2,  197.000,2,  195.800,2,   20.750,2,   16.240,2,    1.130,2, -999.000
           NA,HOT timeseries 1988to2019 27SEP2021,    186,  99,-999.0,    8016,-999.0,20070320,1606,  22.7498, -158.0023,  4729,  431.300,    9.060,   34.121,2,   34.124,2,  176.200,2,  176.700,2, -999.000,4,   20.490,2,    1.430,2, -999.000
           NA,HOT timeseries 1988to2019 27SEP2021,    186,  99,-999.0,    8015,-999.0,20070320,1606,  22.7498, -158.0023,  4729,  468.500,    8.232,   34.079,2,   34.079,2,  151.400,2,  151.900,2,   36.130,2,   24.580,2,    1.730,2, -999.000
           NA,HOT timeseries 1988to2019 27SEP2021,    186,  99,-999.0,    8014,-999.0,20070320,1606,  22.7498, -158.0023,  4729,  503.900,    7.509,   34.059,2,   34.058,2,  138.700,2,  137.300,2, -999.000,3,   27.520,2,    1.930,2, -999.000
           NA,HOT timeseries 1988to2019 27SEP2021,    186,  99,-999.0,    8025,-999.0,20070320,1606,  22.7498, -158.0023,  4729,  543.400,    6.704,   34.050,2,   34.056,2,  108.400,2,  110.300,2,   53.690,2,   31.410,2,    2.220,2, -999.000
           NA,HOT timeseries 1988to2019 27SEP2021,    186,  99,-999.0,    8012,-999.0,20070320,1606,  22.7498, -158.0023,  4729,  592.200,    5.880,   34.070,2,   34.071,2,   78.800,2,   77.400,2,   66.710,2,   35.410,2,    2.530,2, -999.000
           NA,HOT timeseries 1988to2019 27SEP2021,    186,  99,-999.0,    8010,-999.0,20070320,1606,  22.7498, -158.0023,  4729,  667.900,    5.038,   34.154,2, -999.000,4, -999.000,3,   45.100,2,   84.450,2,   39.970,2,    2.880,2, -999.000
           NA,HOT timeseries 1988to2019 27SEP2021,    186,  99,-999.0,    8009,-999.0,20070320,1606,  22.7498, -158.0023,  4729,  702.600,    4.883,   34.198,2,   34.199,2,   33.900,2,   34.700,2,   89.910,2,   40.910,2,    2.960,2, -999.000
           NA,HOT timeseries 1988to2019 27SEP2021,    186,  99,-999.0,    8008,-999.0,20070320,1606,  22.7498, -158.0023,  4729,  747.700,    4.752,   34.255,2,   34.255,2,   26.900,2, -999.000,3, -999.000,4,   41.560,2,    3.020,2, -999.000
           NA,HOT timeseries 1988to2019 27SEP2021,    186,  99,-999.0,    8026,-999.0,20070320,1606,  22.7498, -158.0023,  4729,  793.400,    4.548,   34.307,2,   34.307,2,   23.600,2,   25.100,2,   99.830,2,   42.180,2,    3.070,2, -999.000
           NA,HOT timeseries 1988to2019 27SEP2021,    186,  99,-999.0,    8006,-999.0,20070320,1606,  22.7498, -158.0023,  4729,  848.900,    4.359,   34.389,2,   34.388,2,   32.200,2,   32.300,2,  102.910,2,   42.080,2,    3.040,2, -999.000
           NA,HOT timeseries 1988to2019 27SEP2021,    186,  99,-999.0,    8004,-999.0,20070320,1606,  22.7498, -158.0023,  4729,  923.400,    4.189,   34.434,2,   34.433,2,   35.700,2,   35.400,2,  108.220,2,   42.140,2,    3.040,2, -999.000
           NA,HOT timeseries 1988to2019 27SEP2021,    186,  99,-999.0,    8003,-999.0,20070320,1606,  22.7498, -158.0023,  4729,  959.500,    4.105,   34.443,2, -999.000,4, -999.000,3,   36.600,2, -999.000,4,   42.300,2,    3.060,2, -999.000
           NA,HOT timeseries 1988to2019 27SEP2021,    186,  99,-999.0,    8001,-999.0,20070320,1606,  22.7498, -158.0023,  4729, 1020.600,    3.877,   34.479,2,   34.477,2,   43.200,2,   43.300,2,  112.240,2,   42.030,2,    3.010,2, -999.000
           NA,HOT timeseries 1988to2019 27SEP2021,    186,  99,-999.0,    8020,-999.0,20070320,1606,  22.7498, -158.0023,  4729, 1200.100,    3.396,   34.528,2,   34.527,2,   55.400,2,   55.600,2,  124.900,2,   41.480,2,    2.960,2, -999.000
           NA,HOT timeseries 1988to2019 27SEP2021,    186,  99,-999.0,    8019,-999.0,20070320,1606,  22.7498, -158.0023,  4729, 1399.900,    3.046,   34.557,2,   34.556,2,   62.800,2,   63.100,2,  130.680,2,   41.400,2,    2.930,2, -999.000
           NA,HOT timeseries 1988to2019 27SEP2021,    186,  99,-999.0,    8018,-999.0,20070320,1606,  22.7498, -158.0023,  4729, 1600.500,    2.693,   34.585,2,   34.583,2,   71.300,2,   70.100,2,  142.030,2,   41.290,2,    2.890,2, -999.000
           NA,HOT timeseries 1988to2019 27SEP2021,    186,  99,-999.0,    8017,-999.0,20070320,1606,  22.7498, -158.0023,  4729, 1799.600,    2.411,   34.602,2,   34.600,2,   79.700,2,   78.800,2,  145.340,2,   40.630,2,    2.840,2, -999.000
           NA,HOT timeseries 1988to2019 27SEP2021,    186,  99,-999.0,    8016,-999.0,20070320,1606,  22.7498, -158.0023,  4729, 2001.500,    2.160,   34.617,2,   34.616,2,   85.600,2,   85.700,2, -999.000,4,   40.230,2,    2.820,2, -999.000
           NA,HOT timeseries 1988to2019 27SEP2021,    186,  99,-999.0,    8015,-999.0,20070320,1606,  22.7498, -158.0023,  4729, 2200.500,    1.972,   34.632,2,   34.629,2,   92.800,2,   92.900,2,  156.660,2,   39.860,2,    2.770,2, -999.000
           NA,HOT timeseries 1988to2019 27SEP2021,    186,  99,-999.0,    8014,-999.0,20070320,1606,  22.7498, -158.0023,  4729, 2399.300,    1.811,   34.646,2,   34.644,2,  102.500,2,  102.500,2,  159.580,2,   39.350,2,    2.720,2, -999.000
           NA,HOT timeseries 1988to2019 27SEP2021,    186,  99,-999.0,    8025,-999.0,20070320,1606,  22.7498, -158.0023,  4729, 2598.400,    1.721,   34.656,2,   34.655,2,  111.400,2,  112.000,2,  159.760,2,   38.820,2,    2.680,2, -999.000
           NA,HOT timeseries 1988to2019 27SEP2021,    186,  99,-999.0,    8012,-999.0,20070320,1606,  22.7498, -158.0023,  4729, 2799.400,    1.628,   34.664,2,   34.661,2,  116.500,2,  117.100,2,  161.770,2,   38.430,2,    2.630,2, -999.000
           NA,HOT timeseries 1988to2019 27SEP2021,    186,  99,-999.0,    8011,-999.0,20070320,1606,  22.7498, -158.0023,  4729, 3000.400,    1.557,   34.671,2,   34.671,2,  124.100,2,  124.400,2,  161.740,2,   37.630,2,    2.610,2, -999.000
           NA,HOT timeseries 1988to2019 27SEP2021,    186,  99,-999.0,    8010,-999.0,20070320,1606,  22.7498, -158.0023,  4729, 3203.000,    1.515,   34.676,2,   34.674,2,  130.800,2,  130.400,2,  158.380,2,   37.270,2,    2.570,2, -999.000
           NA,HOT timeseries 1988to2019 27SEP2021,    186,  99,-999.0,    8009,-999.0,20070320,1606,  22.7498, -158.0023,  4729, 3394.600,    1.485,   34.681,2,   34.680,2,  136.500,2,  136.200,2, -999.000,4,   36.800,2,    2.540,2, -999.000
           NA,HOT timeseries 1988to2019 27SEP2021,    186,  99,-999.0,    8008,-999.0,20070320,1606,  22.7498, -158.0023,  4729, 3596.100,    1.460,   34.685,2,   34.684,2,  142.200,2,  142.200,2, -999.000,4,   36.420,2,    2.510,2, -999.000
           NA,HOT timeseries 1988to2019 27SEP2021,    186,  99,-999.0,    8026,-999.0,20070320,1606,  22.7498, -158.0023,  4729, 3799.800,    1.453,   34.688,2,   34.687,2,  145.700,2,  146.100,2,  155.260,2,   36.070,2,    2.490,2, -999.000
           NA,HOT timeseries 1988to2019 27SEP2021,    186,  99,-999.0,    8006,-999.0,20070320,1606,  22.7498, -158.0023,  4729, 3999.500,    1.457,   34.689,2,   34.687,2,  148.100,2,  147.900,2,  154.110,2,   35.970,2,    2.470,2, -999.000
           NA,HOT timeseries 1988to2019 27SEP2021,    186,  99,-999.0,    8005,-999.0,20070320,1606,  22.7498, -158.0023,  4729, 4199.900,    1.466,   34.690,2,   34.689,2,  149.900,2,  150.100,2,  150.760,2,   35.840,2,    2.460,2, -999.000
           NA,HOT timeseries 1988to2019 27SEP2021,    186,  99,-999.0,    8004,-999.0,20070320,1606,  22.7498, -158.0023,  4729, 4399.300,    1.480,   34.691,2,   34.690,2,  151.000,2,  150.600,2,  151.430,2,   35.960,2,    2.460,2, -999.000
           NA,HOT timeseries 1988to2019 27SEP2021,    186,  99,-999.0,    8003,-999.0,20070320,1606,  22.7498, -158.0023,  4729, 4500.400,    1.489,   34.691,2,   34.691,2,  151.200,2,  151.400,2,  150.670,2,   35.780,2,    2.460,2, -999.000
           NA,HOT timeseries 1988to2019 27SEP2021,    186,  99,-999.0,    8002,-999.0,20070320,1606,  22.7498, -158.0023,  4729, 4598.300,    1.499,   34.692,2,   34.690,2,  151.500,2,  152.000,2,  149.940,2,   35.740,2,    2.460,2, -999.000
           NA,HOT timeseries 1988to2019 27SEP2021,    186,  99,-999.0,    8001,-999.0,20070320,1606,  22.7498, -158.0023,  4729, 4804.600,    1.513,   34.692,2,   34.691,2,  152.200,2,  151.600,2,  148.070,2,   35.660,2,    2.450,2, -999.000