BOTTLE,20214727JOAExport
EXPOCODE,SECT_ID,STNNBR,CASTNO,SAMPNO,BTLNBR,BTLNBR_FLAG_W,DATE,TIME,LATITUDE,LONGITUDE,DEPTH,CTDPRS,CTDTMP,CTDSAL,CTDSAL_FLAG_W,SALNTY,SALNTY_FLAG_W,CTDOXY,CTDOXY_FLAG_W,OXYGEN,OXYGEN_FLAG_W,SILCAT,SILCAT_FLAG_W,NINI,NINI_FLAG_W,PHSPHT,PHSPHT_FLAG_W,REVP
,,,,,,,,,,,,DB,IPTS-68,PSS-78,,PSS-78,,UMOL/KG,,UMOL/KG,,UMOL/KG,,UMOL/KG,,UMOL/KG,,DBAR
           NA,HOT timeseries 1988to2019 27SEP2021,    103,  99,-999.0,      31,-999.0,19990813,2027,  22.7542, -158.0035,  4724,    4.500,   25.422,   35.291,2,   35.290,2,  207.600,2,  207.700,2,    2.690,2,    0.000,2,    0.070,2, -999.000
           NA,HOT timeseries 1988to2019 27SEP2021,    103,  99,-999.0,      31,-999.0,19990813,2027,  22.7542, -158.0035,  4724,    4.600,   25.369,   35.292,2,   35.292,2,  206.600,2,  206.900,2,    2.780,2,    0.030,2,    0.070,2, -999.000
           NA,HOT timeseries 1988to2019 27SEP2021,    103,  99,-999.0,      30,-999.0,19990813,2027,  22.7542, -158.0035,  4724,   19.300,   25.376,   35.291,2,   35.293,2,  208.000,2,  207.900,2,    1.360,2,    0.000,2,    0.070,2, -999.000
           NA,HOT timeseries 1988to2019 27SEP2021,    103,  99,-999.0,      22,-999.0,19990813,2027,  22.7542, -158.0035,  4724,   59.200,   23.624,   35.102,2,   35.097,2,  219.000,2,  219.700,2,    2.020,2,    0.000,2,    0.090,2, -999.000
           NA,HOT timeseries 1988to2019 27SEP2021,    103,  99,-999.0,      21,-999.0,19990813,2027,  22.7542, -158.0035,  4724,   64.400,   23.190,   35.090,2, -999.000,4, -999.000,3,  217.500,2,    1.550,2,    0.010,2,    0.100,2, -999.000
           NA,HOT timeseries 1988to2019 27SEP2021,    103,  99,-999.0,      20,-999.0,19990813,2027,  22.7542, -158.0035,  4724,   99.400,   21.585,   35.163,2,   35.155,2,  208.200,2,  207.200,2,    1.680,2,    0.060,2,    0.140,2, -999.000
           NA,HOT timeseries 1988to2019 27SEP2021,    103,  99,-999.0,      19,-999.0,19990813,2027,  22.7542, -158.0035,  4724,   99.400,   21.585,   35.163,2, -999.000,4, -999.000,3, -999.000,4, -999.000,4, -999.000,4, -999.000,4, -999.000
           NA,HOT timeseries 1988to2019 27SEP2021,    103,  99,-999.0,      18,-999.0,19990813,2027,  22.7542, -158.0035,  4724,  196.300,   16.378,   34.650,2,   34.655,2,  189.900,2,  190.600,2,    4.830,2,    5.050,2,    0.430,2, -999.000
           NA,HOT timeseries 1988to2019 27SEP2021,    103,  99,-999.0,      17,-999.0,19990813,2027,  22.7542, -158.0035,  4724,  271.200,   11.872,   34.198,2,   34.192,2,  154.500,2,  156.200,2,   15.480,2,   15.710,2,    1.170,2, -999.000
           NA,HOT timeseries 1988to2019 27SEP2021,    103,  99,-999.0,      15,-999.0,19990813,2027,  22.7542, -158.0035,  4724,  359.200,    8.762,   34.074,2,   34.074,2,  178.100,2,  175.700,2,   27.170,2,   20.670,2,    1.430,2, -999.000
           NA,HOT timeseries 1988to2019 27SEP2021,    103,  99,-999.0,      14,-999.0,19990813,2027,  22.7542, -158.0035,  4724,  403.100,    7.912,   34.039,2,   34.039,2,  157.900,2,  156.900,2,   34.620,2,   24.250,2,    1.660,2, -999.000
           NA,HOT timeseries 1988to2019 27SEP2021,    103,  99,-999.0,      13,-999.0,19990813,2027,  22.7542, -158.0035,  4724,  479.100,    6.394,   34.009,2,   34.010,2,  121.300,2,  117.800,2,   52.770,2,   30.500,2,    2.150,2, -999.000
           NA,HOT timeseries 1988to2019 27SEP2021,    103,  99,-999.0,      11,-999.0,19990813,2027,  22.7542, -158.0035,  4724,  553.800,    5.687,   34.077,2,   34.074,2,   78.700,2,   75.700,2,   68.870,2,   35.210,2,    2.540,2, -999.000
           NA,HOT timeseries 1988to2019 27SEP2021,    103,  99,-999.0,      32,-999.0,19990813,2027,  22.7542, -158.0035,  4724,  598.900,    5.335,   34.111,2,   34.109,2,   63.500,2,   57.700,2,   76.910,2,   37.370,2,    2.710,2, -999.000
           NA,HOT timeseries 1988to2019 27SEP2021,    103,  99,-999.0,       3,-999.0,19990813,2027,  22.7542, -158.0035,  4724,  654.100,    4.717,   34.173,2,   34.173,2,   39.700,2,   36.900,2,   91.300,2,   40.080,2,    2.910,2, -999.000
           NA,HOT timeseries 1988to2019 27SEP2021,    103,  99,-999.0,      29,-999.0,19990813,2027,  22.7542, -158.0035,  4724,  698.600,    4.651,   34.254,2,   34.252,2,   27.600,2,   26.500,2,   95.510,2,   41.130,2,    3.010,2, -999.000
           NA,HOT timeseries 1988to2019 27SEP2021,    103,  99,-999.0,      28,-999.0,19990813,2027,  22.7542, -158.0035,  4724,  728.500,    4.616,   34.275,2,   34.273,2,   26.600,2,   24.900,2,   96.890,2,   41.300,2,    3.010,2, -999.000
           NA,HOT timeseries 1988to2019 27SEP2021,    103,  99,-999.0,       7,-999.0,19990813,2027,  22.7542, -158.0035,  4724,  744.700,    4.561,   34.306,2,   34.304,2,   24.800,2,   23.900,2,   98.910,2,   41.450,2,    3.040,2, -999.000
           NA,HOT timeseries 1988to2019 27SEP2021,    103,  99,-999.0,      38,-999.0,19990813,2027,  22.7542, -158.0035,  4724,  804.600,    4.365,   34.379,2,   34.377,2,   27.500,2,   27.500,2,  103.440,2,   41.640,2,    3.030,2, -999.000
           NA,HOT timeseries 1988to2019 27SEP2021,    103,  99,-999.0,      36,-999.0,19990813,2027,  22.7542, -158.0035,  4724,  849.800,    4.258,   34.409,2,   34.406,2,   30.300,2,   30.200,2,  105.600,2,   41.700,2,    3.040,2, -999.000
           NA,HOT timeseries 1988to2019 27SEP2021,    103,  99,-999.0,      35,-999.0,19990813,2027,  22.7542, -158.0035,  4724,  899.000,    4.169,   34.432,2,   34.430,2,   33.200,2,   32.900,2,  107.270,2,   41.690,2,    3.050,2, -999.000
           NA,HOT timeseries 1988to2019 27SEP2021,    103,  99,-999.0,      34,-999.0,19990813,2027,  22.7542, -158.0035,  4724,  979.700,    3.986,   34.469,2,   34.466,2,   37.700,2,   38.300,2,  111.910,2,   41.680,2,    3.000,2, -999.000
           NA,HOT timeseries 1988to2019 27SEP2021,    103,  99,-999.0,      33,-999.0,19990813,2027,  22.7542, -158.0035,  4724, 1019.100,    3.868,   34.485,2,   34.483,2,   41.400,2,   41.400,2,  112.890,2,   41.450,2,    3.000,2, -999.000
           NA,HOT timeseries 1988to2019 27SEP2021,    103,  99,-999.0,      20,-999.0,19990813,2027,  22.7542, -158.0035,  4724, 1199.200,    3.417,   34.535,2,   34.534,2,   51.000,2,   51.500,2,  123.900,2,   41.100,2,    2.880,2, -999.000
           NA,HOT timeseries 1988to2019 27SEP2021,    103,  99,-999.0,      19,-999.0,19990813,2027,  22.7542, -158.0035,  4724, 1401.700,    3.015,   34.563,2,   34.563,2,   60.000,2,   61.000,2,  130.700,2,   40.690,2,    2.870,2, -999.000
           NA,HOT timeseries 1988to2019 27SEP2021,    103,  99,-999.0,      18,-999.0,19990813,2027,  22.7542, -158.0035,  4724, 1600.600,    2.632,   34.588,2,   34.587,2,   69.800,2,   70.800,2,  138.750,2,   40.280,2,    2.880,2, -999.000
           NA,HOT timeseries 1988to2019 27SEP2021,    103,  99,-999.0,      17,-999.0,19990813,2027,  22.7542, -158.0035,  4724, 1800.700,    2.388,   34.602,2,   34.601,2,   77.300,2,   78.200,2,  144.640,2,   39.890,2,    2.800,2, -999.000
           NA,HOT timeseries 1988to2019 27SEP2021,    103,  99,-999.0,      16,-999.0,19990813,2027,  22.7542, -158.0035,  4724, 2001.300,    2.135,   34.618,2,   34.617,2,   85.700,2,   86.900,2,  150.560,2,   39.380,2,    2.770,2, -999.000
           NA,HOT timeseries 1988to2019 27SEP2021,    103,  99,-999.0,      15,-999.0,19990813,2027,  22.7542, -158.0035,  4724, 2204.000,    1.958,   34.629,2,   34.630,2,   91.300,2,   93.200,2,  154.940,2,   39.190,2,    2.750,2, -999.000
           NA,HOT timeseries 1988to2019 27SEP2021,    103,  99,-999.0,      14,-999.0,19990813,2027,  22.7542, -158.0035,  4724, 2400.900,    1.793,   34.643,2,   34.644,2,  100.100,2,  102.100,2,  158.270,2,   38.640,2,    2.690,2, -999.000
           NA,HOT timeseries 1988to2019 27SEP2021,    103,  99,-999.0,      13,-999.0,19990813,2027,  22.7542, -158.0035,  4724, 2600.700,    1.689,   34.652,2,   34.652,2,  106.800,2,  108.700,2,  159.760,2,   38.200,2,    2.680,2, -999.000
           NA,HOT timeseries 1988to2019 27SEP2021,    103,  99,-999.0,      12,-999.0,19990813,2027,  22.7542, -158.0035,  4724, 2799.500,    1.616,   34.660,2,   34.659,2,  113.500,2,  115.100,2,  160.750,2,   37.870,2,    2.650,2, -999.000
           NA,HOT timeseries 1988to2019 27SEP2021,    103,  99,-999.0,      11,-999.0,19990813,2027,  22.7542, -158.0035,  4724, 2998.700,    1.562,   34.667,2,   34.668,2,  120.200,2,  122.400,2,  159.850,2,   37.400,2,    2.620,2, -999.000
           NA,HOT timeseries 1988to2019 27SEP2021,    103,  99,-999.0,      32,-999.0,19990813,2027,  22.7542, -158.0035,  4724, 3199.800,    1.523,   34.672,2,   34.672,2,  126.200,2,  127.800,2,  158.850,2,   36.980,2,    2.590,2, -999.000
           NA,HOT timeseries 1988to2019 27SEP2021,    103,  99,-999.0,       3,-999.0,19990813,2027,  22.7542, -158.0035,  4724, 3399.000,    1.486,   34.676,2,   34.676,2,  132.900,2,  134.800,2,  156.830,2,   36.790,2,    2.530,2, -999.000
           NA,HOT timeseries 1988to2019 27SEP2021,    103,  99,-999.0,      29,-999.0,19990813,2027,  22.7542, -158.0035,  4724, 3598.100,    1.473,   34.679,2,   34.679,2,  137.800,2,  139.000,2,  155.120,2,   36.470,2,    2.510,2, -999.000
           NA,HOT timeseries 1988to2019 27SEP2021,    103,  99,-999.0,      28,-999.0,19990813,2027,  22.7542, -158.0035,  4724, 3799.700,    1.465,   34.681,2,   34.682,2,  142.600,2,  142.900,2,  153.830,2,   36.290,2,    2.520,2, -999.000
           NA,HOT timeseries 1988to2019 27SEP2021,    103,  99,-999.0,       7,-999.0,19990813,2027,  22.7542, -158.0035,  4724, 3999.200,    1.462,   34.683,2,   34.684,2,  146.100,2,  146.100,2,  152.420,2,   36.090,2,    2.510,2, -999.000
           NA,HOT timeseries 1988to2019 27SEP2021,    103,  99,-999.0,      38,-999.0,19990813,2027,  22.7542, -158.0035,  4724, 4199.300,    1.464,   34.685,2,   34.684,2,  149.700,2,  149.500,2,  150.340,2,   35.790,2,    2.480,2, -999.000
           NA,HOT timeseries 1988to2019 27SEP2021,    103,  99,-999.0,      36,-999.0,19990813,2027,  22.7542, -158.0035,  4724, 4399.400,    1.466,   34.687,2,   34.687,2,  153.800,2,  152.400,2,  148.210,2,   35.540,2,    2.460,2, -999.000
           NA,HOT timeseries 1988to2019 27SEP2021,    103,  99,-999.0,      35,-999.0,19990813,2027,  22.7542, -158.0035,  4724, 4498.400,    1.468,   34.687,2,   34.687,2,  155.400,2,  153.700,2,  147.690,2,   35.490,2,    2.460,2, -999.000
           NA,HOT timeseries 1988to2019 27SEP2021,    103,  99,-999.0,      34,-999.0,19990813,2027,  22.7542, -158.0035,  4724, 4597.700,    1.472,   34.688,2,   34.689,2,  157.100,2,  154.800,2, -999.000,3, -999.000,3, -999.000,3, -999.000
           NA,HOT timeseries 1988to2019 27SEP2021,    103,  99,-999.0,      33,-999.0,19990813,2027,  22.7542, -158.0035,  4724, 4805.500,    1.495,   34.688,2,   34.689,2,  157.800,2,  155.600,2,  146.550,2,   35.450,2,    2.480,2, -999.000