BOTTLE,20214727JOAExport
EXPOCODE,SECT_ID,STNNBR,CASTNO,SAMPNO,BTLNBR,BTLNBR_FLAG_W,DATE,TIME,LATITUDE,LONGITUDE,DEPTH,CTDPRS,CTDTMP,CTDSAL,CTDSAL_FLAG_W,SALNTY,SALNTY_FLAG_W,CTDOXY,CTDOXY_FLAG_W,OXYGEN,OXYGEN_FLAG_W,SILCAT,SILCAT_FLAG_W,NINI,NINI_FLAG_W,PHSPHT,PHSPHT_FLAG_W,REVP
,,,,,,,,,,,,DB,IPTS-68,PSS-78,,PSS-78,,UMOL/KG,,UMOL/KG,,UMOL/KG,,UMOL/KG,,UMOL/KG,,DBAR
           NA,HOT timeseries 1988to2019 27SEP2021,      2,  99,-999.0,    8084,-999.0,20190502,2056,  22.7503, -158.0003,  4739,    5.200,   24.527,   34.766,2,   34.766,2,  212.000,2,  212.700,2,    1.390,2,    0.040,2,    0.080,2, -999.000
           NA,HOT timeseries 1988to2019 27SEP2021,      2,  99,-999.0,    8083,-999.0,20190502,2056,  22.7503, -158.0003,  4739,   26.300,   24.126,   34.780,2,   34.779,2,  215.400,2,  215.500,2,    1.420,2,    0.040,2,    0.080,2, -999.000
           NA,HOT timeseries 1988to2019 27SEP2021,      2,  99,-999.0,    8082,-999.0,20190502,2056,  22.7503, -158.0003,  4739,   66.200,   23.068,   34.972,2,   34.977,2,  220.100,2, -999.000,4,    1.240,2,    0.030,2,    0.050,2, -999.000
           NA,HOT timeseries 1988to2019 27SEP2021,      2,  99,-999.0,    8081,-999.0,20190502,2056,  22.7503, -158.0003,  4739,  116.000,   22.074,   35.113,2,   35.112,2,  214.400,2, -999.000,5,    1.620,2,    0.060,2,    0.050,2, -999.000
           NA,HOT timeseries 1988to2019 27SEP2021,      2,  99,-999.0,    8079,-999.0,20190502,2056,  22.7503, -158.0003,  4739,  130.800,   21.604,   35.132,2,   35.134,2,  207.000,2,  207.800,2,    1.720,2,    0.420,2,    0.080,2, -999.000
           NA,HOT timeseries 1988to2019 27SEP2021,      2,  99,-999.0,    8078,-999.0,20190502,2056,  22.7503, -158.0003,  4739,  196.400,   18.751,   34.895,2,   34.894,2,  195.100,2,  194.700,2, -999.000,3,    2.910,2,    0.290,2, -999.000
           NA,HOT timeseries 1988to2019 27SEP2021,      2,  99,-999.0,    8077,-999.0,20190502,2056,  22.7503, -158.0003,  4739,  244.900,   15.715,   34.546,2, -999.000,3, -999.000,3,  198.800,2,    5.930,2,    6.000,2,    0.480,2, -999.000
           NA,HOT timeseries 1988to2019 27SEP2021,      2,  99,-999.0,    8076,-999.0,20190502,2056,  22.7503, -158.0003,  4739,  305.000,   12.075,   34.167,2,   34.158,2,  198.900,2,  198.900,2,   12.390,2,   12.210,2,    0.870,2, -999.000
           NA,HOT timeseries 1988to2019 27SEP2021,      2,  99,-999.0,    8075,-999.0,20190502,2056,  22.7503, -158.0003,  4739,  355.100,   10.287,   34.091,2,   34.099,2,  188.900,2,  187.100,2,   19.140,2,   16.850,2,    1.220,2, -999.000
           NA,HOT timeseries 1988to2019 27SEP2021,      2,  99,-999.0,    8074,-999.0,20190502,2056,  22.7503, -158.0003,  4739,  399.100,    8.800,   34.058,2,   34.058,2,  156.300,2,  154.100,2,   30.250,2,   22.910,2,    1.660,2, -999.000
           NA,HOT timeseries 1988to2019 27SEP2021,      2,  99,-999.0,    8073,-999.0,20190502,2056,  22.7503, -158.0003,  4739,  447.000,    7.533,   34.051,2,   34.050,2,  118.200,2,  116.500,2,   43.590,2,   28.850,2,    2.070,2, -999.000
           NA,HOT timeseries 1988to2019 27SEP2021,      2,  99,-999.0,    8071,-999.0,20190502,2056,  22.7503, -158.0003,  4739,  489.700,    6.684,   34.071,2,   34.071,2,   89.100,2,   90.500,2,   55.170,2,   32.570,2,    2.350,2, -999.000
           NA,HOT timeseries 1988to2019 27SEP2021,      2,  99,-999.0,    8070,-999.0,20190502,2056,  22.7503, -158.0003,  4739,  528.900,    6.232,   34.144,2, -999.000,3, -999.000,3,   52.700,2,   65.270,2,   36.650,2,    2.690,2, -999.000
           NA,HOT timeseries 1988to2019 27SEP2021,      2,  99,-999.0,    8069,-999.0,20190502,2056,  22.7503, -158.0003,  4739,  574.200,    5.955,   34.220,2,   34.221,2,   38.800,2,   37.600,2,   73.400,2,   38.440,2,    2.830,2, -999.000
           NA,HOT timeseries 1988to2019 27SEP2021,      2,  99,-999.0,    8067,-999.0,20190502,2056,  22.7503, -158.0003,  4739,  681.800,    5.476,   34.338,2,   34.341,2,   30.800,2,   30.000,2,   81.830,2,   40.210,2,    2.950,2, -999.000
           NA,HOT timeseries 1988to2019 27SEP2021,      2,  99,-999.0,    8066,-999.0,20190502,2056,  22.7503, -158.0003,  4739,  734.200,    5.251,   34.390,2,   34.390,2,   31.000,2,   31.300,2,   85.750,2,   40.770,2,    2.980,2, -999.000
           NA,HOT timeseries 1988to2019 27SEP2021,      2,  99,-999.0,    8065,-999.0,20190502,2056,  22.7503, -158.0003,  4739,  799.400,    4.882,   34.416,2,   34.417,2,   34.100,2,   33.800,2,   92.420,2,   41.220,2,    3.000,2, -999.000
           NA,HOT timeseries 1988to2019 27SEP2021,      2,  99,-999.0,    8064,-999.0,20190502,2056,  22.7503, -158.0003,  4739,  863.400,    4.678,   34.434,2,   34.435,2,   35.700,2,   35.900,2,   96.080,2,   41.480,2,    3.010,2, -999.000
           NA,HOT timeseries 1988to2019 27SEP2021,      2,  99,-999.0,    8063,-999.0,20190502,2056,  22.7503, -158.0003,  4739,  904.300,    4.570,   34.462,2, -999.000,4, -999.000,3,   38.000,2,   97.920,2,   41.440,2,    3.010,2, -999.000
           NA,HOT timeseries 1988to2019 27SEP2021,      2,  99,-999.0,    8062,-999.0,20190502,2056,  22.7503, -158.0003,  4739,  942.300,    4.437,   34.474,2,   34.476,2,   40.500,2,   40.600,2,  100.260,2,   41.570,2,    3.000,2, -999.000
           NA,HOT timeseries 1988to2019 27SEP2021,      2,  99,-999.0,    8061,-999.0,20190502,2056,  22.7503, -158.0003,  4739, 1021.700,    4.190,   34.497,2,   34.498,2,   43.600,2,   42.900,2,  105.400,2,   41.760,2,    2.990,2, -999.000
           NA,HOT timeseries 1988to2019 27SEP2021,      2,  99,-999.0,    8080,-999.0,20190502,2056,  22.7503, -158.0003,  4739, 1200.000,    3.722,   34.522,2,   34.523,2,   52.900,2,   53.700,2,  114.590,2,   41.150,2,    2.990,2, -999.000
           NA,HOT timeseries 1988to2019 27SEP2021,      2,  99,-999.0,    8079,-999.0,20190502,2056,  22.7503, -158.0003,  4739, 1399.600,    3.195,   34.554,2,   34.554,2,   62.200,2,   62.100,2,  125.700,2,   41.040,2,    2.970,2, -999.000
           NA,HOT timeseries 1988to2019 27SEP2021,      2,  99,-999.0,    8078,-999.0,20190502,2056,  22.7503, -158.0003,  4739, 1599.900,    2.767,   34.578,2,   34.578,2,   70.300,2,   70.300,2,  136.030,2,   40.920,2,    2.940,2, -999.000
           NA,HOT timeseries 1988to2019 27SEP2021,      2,  99,-999.0,    8077,-999.0,20190502,2056,  22.7503, -158.0003,  4739, 1799.900,    2.410,   34.600,2,   34.600,2,   80.900,2,   80.900,2,  143.270,2,   40.170,2,    2.880,2, -999.000
           NA,HOT timeseries 1988to2019 27SEP2021,      2,  99,-999.0,    8076,-999.0,20190502,2056,  22.7503, -158.0003,  4739, 1998.500,    2.137,   34.619,2,   34.618,2,   91.800,2,   92.000,2,  149.030,2,   39.490,2,    2.820,2, -999.000
           NA,HOT timeseries 1988to2019 27SEP2021,      2,  99,-999.0,    8075,-999.0,20190502,2056,  22.7503, -158.0003,  4739, 2200.100,    1.971,   34.628,2,   34.628,2,   94.200,2,   94.300,2,  154.300,2,   39.330,2,    2.780,2, -999.000
           NA,HOT timeseries 1988to2019 27SEP2021,      2,  99,-999.0,    8074,-999.0,20190502,2056,  22.7503, -158.0003,  4739, 2399.600,    1.797,   34.641,2,   34.640,2,  101.100,2,  101.200,2,  159.230,2,   39.000,2,    2.750,2, -999.000
           NA,HOT timeseries 1988to2019 27SEP2021,      2,  99,-999.0,    8073,-999.0,20190502,2056,  22.7503, -158.0003,  4739, 2600.500,    1.667,   34.652,2,   34.651,2,  110.500,2,  111.200,2,  159.260,2,   38.430,2,    2.710,2, -999.000
           NA,HOT timeseries 1988to2019 27SEP2021,      2,  99,-999.0,    8072,-999.0,20190502,2056,  22.7503, -158.0003,  4739, 2799.500,    1.594,   34.660,2,   34.659,2,  118.400,2,  118.200,2,  158.760,2,   37.930,2,    2.660,2, -999.000
           NA,HOT timeseries 1988to2019 27SEP2021,      2,  99,-999.0,    8071,-999.0,20190502,2056,  22.7503, -158.0003,  4739, 3000.100,    1.545,   34.667,2,   34.667,2,  125.400,2,  125.500,2,  157.450,2,   37.510,2,    2.630,2, -999.000
           NA,HOT timeseries 1988to2019 27SEP2021,      2,  99,-999.0,    8070,-999.0,20190502,2056,  22.7503, -158.0003,  4739, 3199.300,    1.504,   34.673,2,   34.673,2,  132.000,2,  131.900,2,  157.120,2,   37.270,2,    2.600,2, -999.000
           NA,HOT timeseries 1988to2019 27SEP2021,      2,  99,-999.0,    8069,-999.0,20190502,2056,  22.7503, -158.0003,  4739, 3400.500,    1.478,   34.677,2,   34.676,2,  137.200,2,  137.700,2,  155.560,2,   36.780,2,    2.570,2, -999.000
           NA,HOT timeseries 1988to2019 27SEP2021,      2,  99,-999.0,    8068,-999.0,20190502,2056,  22.7503, -158.0003,  4739, 3600.700,    1.458,   34.680,2,   34.680,2,  142.500,2, -999.000,5,  154.400,2,   36.530,2,    2.550,2, -999.000
           NA,HOT timeseries 1988to2019 27SEP2021,      2,  99,-999.0,    8067,-999.0,20190502,2056,  22.7503, -158.0003,  4739, 3800.800,    1.453,   34.682,2,   34.682,2,  146.000,2,  146.400,2,  153.050,2,   36.220,2,    2.520,2, -999.000
           NA,HOT timeseries 1988to2019 27SEP2021,      2,  99,-999.0,    8066,-999.0,20190502,2056,  22.7503, -158.0003,  4739, 3999.700,    1.457,   34.684,2,   34.684,2,  148.600,2,  148.100,2,  151.100,2,   36.090,2,    2.520,2, -999.000
           NA,HOT timeseries 1988to2019 27SEP2021,      2,  99,-999.0,    8065,-999.0,20190502,2056,  22.7503, -158.0003,  4739, 4201.100,    1.467,   34.685,2,   34.685,2,  150.800,2,  150.200,2,  150.990,2,   35.990,2,    2.490,2, -999.000
           NA,HOT timeseries 1988to2019 27SEP2021,      2,  99,-999.0,    8064,-999.0,20190502,2056,  22.7503, -158.0003,  4739, 4399.300,    1.481,   34.686,2,   34.687,2,  151.900,2,  151.600,2,  150.180,2,   36.100,2,    2.490,2, -999.000
           NA,HOT timeseries 1988to2019 27SEP2021,      2,  99,-999.0,    8063,-999.0,20190502,2056,  22.7503, -158.0003,  4739, 4500.100,    1.491,   34.686,2,   34.686,2,  152.600,2,  152.000,2,  150.320,2,   36.010,2,    2.500,2, -999.000
           NA,HOT timeseries 1988to2019 27SEP2021,      2,  99,-999.0,    8062,-999.0,20190502,2056,  22.7503, -158.0003,  4739, 4600.500,    1.502,   34.686,2,   34.686,2,  152.600,2,  152.300,2,  148.610,2,   35.940,2,    2.500,2, -999.000
           NA,HOT timeseries 1988to2019 27SEP2021,      2,  99,-999.0,    8061,-999.0,20190502,2056,  22.7503, -158.0003,  4739, 4805.400,    1.521,   34.687,2,   34.687,2,  153.000,2,  153.000,2,  147.820,2,   35.740,2,    2.480,2, -999.000
           NA,HOT timeseries 1988to2019 27SEP2021,      2,  99,-999.0,    8084,-999.0,20190611,2212,  22.7502, -158.0003,  4736,    4.400,   26.383,   34.752,2,   34.753,2,  207.800,2, -999.000,3,    0.990,2,    0.020,2,    0.080,2, -999.000
           NA,HOT timeseries 1988to2019 27SEP2021,      2,  99,-999.0,    8083,-999.0,20190611,2212,  22.7502, -158.0003,  4736,   24.500,   26.028,   34.781,2,   34.780,2,  209.000,2,  209.500,2,    1.020,2,    0.040,2,    0.070,2, -999.000
           NA,HOT timeseries 1988to2019 27SEP2021,      2,  99,-999.0,    8082,-999.0,20190611,2212,  22.7502, -158.0003,  4736,   53.000,   24.149,   34.801,2,   34.811,2,  220.200,2, -999.000,3,    0.860,2,    0.040,2,    0.050,2, -999.000
           NA,HOT timeseries 1988to2019 27SEP2021,      2,  99,-999.0,    8081,-999.0,20190611,2212,  22.7502, -158.0003,  4736,   65.900,   23.347,   34.916,2,   34.924,2,  222.700,2,  220.100,2, -999.000,3,    0.040,2,    0.050,2, -999.000
           NA,HOT timeseries 1988to2019 27SEP2021,      2,  99,-999.0,    8080,-999.0,20190611,2212,  22.7502, -158.0003,  4736,   79.900,   22.884,   34.981,2,   34.987,2,  217.600,2,  216.400,2, -999.000,3,    0.040,2,    0.060,2, -999.000
           NA,HOT timeseries 1988to2019 27SEP2021,      2,  99,-999.0,    8079,-999.0,20190611,2212,  22.7502, -158.0003,  4736,  115.900,   21.905,   35.091,2,   35.088,2,  207.100,2,  206.400,2,    1.180,2,    0.380,2,    0.100,2, -999.000
           NA,HOT timeseries 1988to2019 27SEP2021,      2,  99,-999.0,    8078,-999.0,20190611,2212,  22.7502, -158.0003,  4736,  136.500,   21.607,   35.140,2, -999.000,3, -999.000,3,  210.500,2, -999.000,3,    0.420,2,    0.080,2, -999.000
           NA,HOT timeseries 1988to2019 27SEP2021,      2,  99,-999.0,    8077,-999.0,20190611,2212,  22.7502, -158.0003,  4736,  145.300,   21.383,   35.159,2,   35.149,2,  210.700,2,  208.700,2,    1.630,2,    0.690,2,    0.090,2, -999.000
           NA,HOT timeseries 1988to2019 27SEP2021,      2,  99,-999.0,    8076,-999.0,20190611,2212,  22.7502, -158.0003,  4736,  193.900,   19.359,   34.960,2,   34.959,2,  193.300,2,  196.000,2,    2.770,2,    2.460,2,    0.240,2, -999.000
           NA,HOT timeseries 1988to2019 27SEP2021,      2,  99,-999.0,    8075,-999.0,20190611,2212,  22.7502, -158.0003,  4736,  249.100,   16.288,   34.641,2,   34.647,2,  200.600,2,  200.700,2,    5.040,2,    5.140,2,    0.400,2, -999.000
           NA,HOT timeseries 1988to2019 27SEP2021,      2,  99,-999.0,    8074,-999.0,20190611,2212,  22.7502, -158.0003,  4736,  284.800,   13.154,   34.255,2,   34.260,2,  196.900,2,  196.000,2,    8.990,2,    9.530,2,    0.740,2, -999.000
           NA,HOT timeseries 1988to2019 27SEP2021,      2,  99,-999.0,    8073,-999.0,20190611,2212,  22.7502, -158.0003,  4736,  326.700,   11.860,   34.203,2,   34.201,2,  203.400,2,  201.200,2,   12.780,2,   12.300,2,    0.860,2, -999.000
           NA,HOT timeseries 1988to2019 27SEP2021,      2,  99,-999.0,    8072,-999.0,20190611,2212,  22.7502, -158.0003,  4736,  374.700,   10.120,   34.098,2,   34.097,2,  174.300,2,  174.700,2,   21.770,2,   18.280,2,    1.330,2, -999.000
           NA,HOT timeseries 1988to2019 27SEP2021,      2,  99,-999.0,    8071,-999.0,20190611,2212,  22.7502, -158.0003,  4736,  421.600,    8.753,   34.077,2,   34.078,2,  144.100,2,  145.000,2,   32.630,2,   23.610,2,    1.730,2, -999.000
           NA,HOT timeseries 1988to2019 27SEP2021,      2,  99,-999.0,    8070,-999.0,20190611,2212,  22.7502, -158.0003,  4736,  449.400,    8.109,   34.080,2,   34.082,2,  123.500,2,  122.900,2,   39.930,2,   26.890,2,    1.970,2, -999.000
           NA,HOT timeseries 1988to2019 27SEP2021,      2,  99,-999.0,    8069,-999.0,20190611,2212,  22.7502, -158.0003,  4736,  484.900,    7.435,   34.082,2,   34.083,2,  100.900,2,  100.600,2,   48.660,2,   30.020,2,    2.160,2, -999.000
           NA,HOT timeseries 1988to2019 27SEP2021,      2,  99,-999.0,    8068,-999.0,20190611,2212,  22.7502, -158.0003,  4736,  515.400,    6.759,   34.102,2,   34.103,2,   77.600,2,   76.800,2,   57.610,2,   33.340,2,    2.450,2, -999.000
           NA,HOT timeseries 1988to2019 27SEP2021,      2,  99,-999.0,    8067,-999.0,20190611,2212,  22.7502, -158.0003,  4736,  568.300,    6.191,   34.154,2,   34.154,2,   52.400,2,   52.600,2,   67.180,2,   36.340,2,    2.690,2, -999.000
           NA,HOT timeseries 1988to2019 27SEP2021,      2,  99,-999.0,    8066,-999.0,20190611,2212,  22.7502, -158.0003,  4736,  619.100,    5.809,   34.212,2,   34.214,2,   43.900,2,   43.900,2,   76.470,2,   37.990,2,    2.790,2, -999.000
           NA,HOT timeseries 1988to2019 27SEP2021,      2,  99,-999.0,    8004,-999.0,20190611,2212,  22.7502, -158.0003,  4736,  704.300,    5.295,   34.315,2,   34.319,2,   36.800,2,   37.100,2,   87.780,2,   39.830,2,    2.930,2, -999.000
           NA,HOT timeseries 1988to2019 27SEP2021,      2,  99,-999.0,    8063,-999.0,20190611,2212,  22.7502, -158.0003,  4736,  757.500,    5.044,   34.367,2,   34.368,2,   35.700,2,   34.300,2,   92.460,2,   40.560,2,    2.970,2, -999.000
           NA,HOT timeseries 1988to2019 27SEP2021,      2,  99,-999.0,    8062,-999.0,20190611,2212,  22.7502, -158.0003,  4736,  851.100,    4.545,   34.410,2,   34.411,2,   38.200,2,   37.800,2,  100.330,2,   41.180,2,    2.990,2, -999.000
           NA,HOT timeseries 1988to2019 27SEP2021,      2,  99,-999.0,    8061,-999.0,20190611,2212,  22.7502, -158.0003,  4736, 1019.800,    4.077,   34.474,2,   34.476,2,   43.900,2,   43.300,2,  109.940,2,   41.530,2,    2.970,2, -999.000
           NA,HOT timeseries 1988to2019 27SEP2021,      2,  99,-999.0,    8080,-999.0,20190611,2212,  22.7502, -158.0003,  4736, 1199.600,    3.598,   34.529,2,   34.530,2,   52.500,2,   53.400,2,  118.900,2,   41.600,2,    2.950,2, -999.000
           NA,HOT timeseries 1988to2019 27SEP2021,      2,  99,-999.0,    8079,-999.0,20190611,2212,  22.7502, -158.0003,  4736, 1399.900,    2.982,   34.556,2,   34.557,2,   63.100,2,   63.200,2,  133.280,2,   41.100,2,    2.910,2, -999.000
           NA,HOT timeseries 1988to2019 27SEP2021,      2,  99,-999.0,    8078,-999.0,20190611,2212,  22.7502, -158.0003,  4736, 1597.000,    2.703,   34.578,2, -999.000,4, -999.000,3,   69.200,2,  139.760,2,   40.830,2,    2.890,2, -999.000
           NA,HOT timeseries 1988to2019 27SEP2021,      2,  99,-999.0,    8077,-999.0,20190611,2212,  22.7502, -158.0003,  4736, 1799.600,    2.354,   34.599,2,   34.600,2,   79.100,2,   79.100,2,  147.800,2,   40.320,2,    2.840,2, -999.000
           NA,HOT timeseries 1988to2019 27SEP2021,      2,  99,-999.0,    8076,-999.0,20190611,2212,  22.7502, -158.0003,  4736, 1999.500,    2.064,   34.620,2,   34.620,2,   88.000,2,   88.400,2,  154.590,2,   39.810,2,    2.790,2, -999.000
           NA,HOT timeseries 1988to2019 27SEP2021,      2,  99,-999.0,    8075,-999.0,20190611,2212,  22.7502, -158.0003,  4736, 2199.000,    1.900,   34.633,2,   34.632,2,   95.300,2,   95.700,2,  158.250,2,   39.120,2,    2.750,2, -999.000
           NA,HOT timeseries 1988to2019 27SEP2021,      2,  99,-999.0,    8074,-999.0,20190611,2212,  22.7502, -158.0003,  4736, 2399.800,    1.760,   34.645,2,   34.644,2,  104.400,2,  104.500,2,  160.320,2,   38.710,2,    2.710,2, -999.000
           NA,HOT timeseries 1988to2019 27SEP2021,      2,  99,-999.0,    8073,-999.0,20190611,2212,  22.7502, -158.0003,  4736, 2600.200,    1.666,   34.655,2,   34.653,2,  111.600,2,  111.900,2,  161.090,2,   38.240,2,    2.680,2, -999.000
           NA,HOT timeseries 1988to2019 27SEP2021,      2,  99,-999.0,    8072,-999.0,20190611,2212,  22.7502, -158.0003,  4736, 2800.000,    1.596,   34.661,2,   34.662,2,  118.200,2,  119.200,2,  161.490,2,   37.890,2,    2.640,2, -999.000
           NA,HOT timeseries 1988to2019 27SEP2021,      2,  99,-999.0,    8071,-999.0,20190611,2212,  22.7502, -158.0003,  4736, 3000.000,    1.543,   34.668,2,   34.668,2,  124.800,2,  125.300,2,  160.030,2,   37.530,2,    2.620,2, -999.000
           NA,HOT timeseries 1988to2019 27SEP2021,      2,  99,-999.0,    8070,-999.0,20190611,2212,  22.7502, -158.0003,  4736, 3201.300,    1.506,   34.673,2,   34.673,2,  131.100,2,  130.800,2,  158.970,2,   37.030,2,    2.580,2, -999.000
           NA,HOT timeseries 1988to2019 27SEP2021,      2,  99,-999.0,    8069,-999.0,20190611,2212,  22.7502, -158.0003,  4736, 3399.500,    1.478,   34.678,2,   34.677,2,  136.800,2,  136.800,2,  157.180,2,   36.630,2,    2.560,2, -999.000
           NA,HOT timeseries 1988to2019 27SEP2021,      2,  99,-999.0,    8068,-999.0,20190611,2212,  22.7502, -158.0003,  4736, 3600.000,    1.458,   34.681,2,   34.681,2,  142.100,2,  141.800,2,  155.640,2,   36.300,2,    2.520,2, -999.000
           NA,HOT timeseries 1988to2019 27SEP2021,      2,  99,-999.0,    8067,-999.0,20190611,2212,  22.7502, -158.0003,  4736, 3799.400,    1.451,   34.684,2,   34.684,2,  146.300,2,  145.900,2,  153.960,2,   36.170,2,    2.500,2, -999.000
           NA,HOT timeseries 1988to2019 27SEP2021,      2,  99,-999.0,    8066,-999.0,20190611,2212,  22.7502, -158.0003,  4736, 4000.100,    1.461,   34.685,2,   34.684,2,  147.800,2,  147.100,2,  153.370,2,   35.930,2,    2.490,2, -999.000
           NA,HOT timeseries 1988to2019 27SEP2021,      2,  99,-999.0,    8065,-999.0,20190611,2212,  22.7502, -158.0003,  4736, 4200.600,    1.471,   34.686,2,   34.686,2,  150.000,2,  149.300,2,  152.610,2,   35.920,2,    2.480,2, -999.000
           NA,HOT timeseries 1988to2019 27SEP2021,      2,  99,-999.0,    8004,-999.0,20190611,2212,  22.7502, -158.0003,  4736, 4400.900,    1.484,   34.687,2,   34.687,2,  151.400,2,  150.900,2,  151.560,2,   35.760,2,    2.470,2, -999.000