BOTTLE,20214727JOAExport
EXPOCODE,SECT_ID,STNNBR,CASTNO,SAMPNO,BTLNBR,BTLNBR_FLAG_W,DATE,TIME,LATITUDE,LONGITUDE,DEPTH,CTDPRS,CTDTMP,CTDSAL,CTDSAL_FLAG_W,SALNTY,SALNTY_FLAG_W,CTDOXY,CTDOXY_FLAG_W,OXYGEN,OXYGEN_FLAG_W,SILCAT,SILCAT_FLAG_W,NINI,NINI_FLAG_W,PHSPHT,PHSPHT_FLAG_W,REVP
,,,,,,,,,,,,DB,IPTS-68,PSS-78,,PSS-78,,UMOL/KG,,UMOL/KG,,UMOL/KG,,UMOL/KG,,UMOL/KG,,DBAR
           NA,HOT timeseries 1988to2019 27SEP2021,    180,  99,-999.0,    8030,-999.0,20060808,1608,  22.7503, -157.9990,  4746,    7.300,   26.294,   34.867,2,   34.866,2,  205.300,2,  204.800,2, -999.000,3,    0.020,2,    0.070,2, -999.000
           NA,HOT timeseries 1988to2019 27SEP2021,    180,  99,-999.0,    8030,-999.0,20060808,1608,  22.7503, -157.9990,  4746,   18.700,   26.290,   34.882,2,   34.882,2,  203.300,2,  203.500,2, -999.000,3,    0.040,2,    0.060,2, -999.000
           NA,HOT timeseries 1988to2019 27SEP2021,    180,  99,-999.0,    8039,-999.0,20060808,1608,  22.7503, -157.9990,  4746,   40.100,   25.380,   35.146,2,   35.145,2,  212.600,2,  211.600,2, -999.000,3,    0.070,2,    0.010,2, -999.000
           NA,HOT timeseries 1988to2019 27SEP2021,    180,  99,-999.0,    8058,-999.0,20060808,1608,  22.7503, -157.9990,  4746,   64.200,   23.660,   35.210,2,   35.210,2,  220.500,2,  220.500,2,    0.650,2,    0.070,2,    0.050,2, -999.000
           NA,HOT timeseries 1988to2019 27SEP2021,    180,  99,-999.0,    8052,-999.0,20060808,1608,  22.7503, -157.9990,  4746,  106.400,   21.998,   35.217,2,   35.218,2,  207.900,2,  207.800,2,    0.920,2,    0.190,2,    0.040,2, -999.000
           NA,HOT timeseries 1988to2019 27SEP2021,    180,  99,-999.0,    8049,-999.0,20060808,1608,  22.7503, -157.9990,  4746,  171.700,   19.405,   34.989,2,   35.002,2,  193.600,2,  194.600,2,    1.980,2,    2.260,2,    0.200,2, -999.000
           NA,HOT timeseries 1988to2019 27SEP2021,    180,  99,-999.0,    8043,-999.0,20060808,1608,  22.7503, -157.9990,  4746,  232.100,   15.902,   34.537,2,   34.536,2,  191.500,2,  192.300,2,    4.390,2,    5.640,2,    0.460,2, -999.000
           NA,HOT timeseries 1988to2019 27SEP2021,    180,  99,-999.0,    8045,-999.0,20060808,1608,  22.7503, -157.9990,  4746,  273.000,   13.331,   34.294,2,   34.286,2,  197.600,2,  198.000,2,    7.710,2,    9.130,2,    0.690,2, -999.000
           NA,HOT timeseries 1988to2019 27SEP2021,    180,  99,-999.0,    8007,-999.0,20060808,1608,  22.7503, -157.9990,  4746,  309.600,   11.620,   34.186,2,   34.193,2,  197.100,2,  196.900,2,   11.230,2,   12.120,2,    0.890,2, -999.000
           NA,HOT timeseries 1988to2019 27SEP2021,    180,  99,-999.0,    8034,-999.0,20060808,1608,  22.7503, -157.9990,  4746,  356.200,   10.317,   34.141,2,   34.140,2,  184.000,2,  182.400,2,   17.830,2,   16.680,2,    1.220,2, -999.000
           NA,HOT timeseries 1988to2019 27SEP2021,    180,  99,-999.0,    8033,-999.0,20060808,1608,  22.7503, -157.9990,  4746,  402.700,    8.981,   34.117,2,   34.117,2,  149.600,2,  150.600,2,   27.890,2,   22.190,2,    1.620,2, -999.000
           NA,HOT timeseries 1988to2019 27SEP2021,    180,  99,-999.0,    8029,-999.0,20060808,1608,  22.7503, -157.9990,  4746,  441.600,    8.286,   34.116,2,   34.115,2,  120.100,2,  120.900,2, -999.000,3, -999.000,3, -999.000,3, -999.000
           NA,HOT timeseries 1988to2019 27SEP2021,    180,  99,-999.0,    8050,-999.0,20060808,1608,  22.7503, -157.9990,  4746,  556.400,    6.385,   34.161,2,   34.164,2,   56.300,2,   56.400,2,   62.990,2,   35.780,2,    2.670,2, -999.000
           NA,HOT timeseries 1988to2019 27SEP2021,    180,  99,-999.0,    8052,-999.0,20060808,1608,  22.7503, -157.9990,  4746,  600.400,    5.849,   34.201,2,   34.204,2,   40.200,2,   41.000,2,   70.790,2,   37.480,2,    2.780,2, -999.000
           NA,HOT timeseries 1988to2019 27SEP2021,    180,  99,-999.0,    8035,-999.0,20060808,1608,  22.7503, -157.9990,  4746,  715.300,    5.106,   34.296,2,   34.297,2,   36.200,2,   36.000,2,   86.440,2,   39.610,2,    2.910,2, -999.000
           NA,HOT timeseries 1988to2019 27SEP2021,    180,  99,-999.0,    8046,-999.0,20060808,1608,  22.7503, -157.9990,  4746,  774.100,    4.963,   34.343,2,   34.343,2,   32.800,2,   32.300,2,   89.370,2,   40.180,2,    2.950,2, -999.000
           NA,HOT timeseries 1988to2019 27SEP2021,    180,  99,-999.0,    8048,-999.0,20060808,1608,  22.7503, -157.9990,  4746,  818.900,    4.857,   34.394,2,   34.392,2,   32.400,2,   32.600,2,   92.460,2,   40.480,2,    2.970,2, -999.000
           NA,HOT timeseries 1988to2019 27SEP2021,    180,  99,-999.0,    8038,-999.0,20060808,1608,  22.7503, -157.9990,  4746,  906.200,    4.449,   34.426,2,   34.427,2,   37.100,2,   38.800,2,  100.230,2,   40.770,2,    2.970,2, -999.000
           NA,HOT timeseries 1988to2019 27SEP2021,    180,  99,-999.0,    8053,-999.0,20060808,1608,  22.7503, -157.9990,  4746,  983.400,    4.164,   34.455,2,   34.455,2,   40.400,2,   41.000,2,  105.960,2,   40.930,2,    2.990,2, -999.000
           NA,HOT timeseries 1988to2019 27SEP2021,    180,  99,-999.0,    8027,-999.0,20060808,1608,  22.7503, -157.9990,  4746, 1022.100,    4.048,   34.470,2,   34.470,2,   42.500,2,   43.100,2,  108.640,2,   41.010,2,    2.990,2, -999.000
           NA,HOT timeseries 1988to2019 27SEP2021,    180,  99,-999.0,    8049,-999.0,20060808,1608,  22.7503, -157.9990,  4746, 1199.800,    3.702,   34.528,2, -999.000,3, -999.000,3,   49.600,2,  115.300,2,   41.120,2,    2.990,2, -999.000
           NA,HOT timeseries 1988to2019 27SEP2021,    180,  99,-999.0,    8052,-999.0,20060808,1608,  22.7503, -157.9990,  4746, 1200.100,    3.707,   34.527,2,   34.525,2,   50.300,2,   49.900,2, -999.000,3,   41.150,2,    3.000,2, -999.000
           NA,HOT timeseries 1988to2019 27SEP2021,    180,  99,-999.0,    8043,-999.0,20060808,1608,  22.7503, -157.9990,  4746, 1399.000,    3.139,   34.557,2,   34.557,2,   59.300,2,   59.300,2,  127.770,2,   41.000,2,    2.960,2, -999.000
           NA,HOT timeseries 1988to2019 27SEP2021,    180,  99,-999.0,    8045,-999.0,20060808,1608,  22.7503, -157.9990,  4746, 1599.300,    2.746,   34.578,2,   34.578,2,   69.400,2,   68.900,2,  137.000,2,   40.590,2,    2.920,2, -999.000
           NA,HOT timeseries 1988to2019 27SEP2021,    180,  99,-999.0,    8007,-999.0,20060808,1608,  22.7503, -157.9990,  4746, 1800.200,    2.433,   34.597,2,   34.597,2,   78.800,2,   78.800,2,  142.310,2,   39.950,2,    2.860,2, -999.000
           NA,HOT timeseries 1988to2019 27SEP2021,    180,  99,-999.0,    8034,-999.0,20060808,1608,  22.7503, -157.9990,  4746, 2000.900,    2.194,   34.618,2,   34.619,2,   87.200,2,   86.900,2,  148.190,2,   39.640,2,    2.830,2, -999.000
           NA,HOT timeseries 1988to2019 27SEP2021,    180,  99,-999.0,    8033,-999.0,20060808,1608,  22.7503, -157.9990,  4746, 2200.000,    1.988,   34.632,2,   34.629,2,   95.200,2,   96.000,2,  151.950,2,   39.060,2,    2.770,2, -999.000
           NA,HOT timeseries 1988to2019 27SEP2021,    180,  99,-999.0,    8029,-999.0,20060808,1608,  22.7503, -157.9990,  4746, 2400.100,    1.837,   34.643,2,   34.641,2,  103.500,2,  102.900,2,  155.500,2,   38.460,2,    2.730,2, -999.000
           NA,HOT timeseries 1988to2019 27SEP2021,    180,  99,-999.0,    8055,-999.0,20060808,1608,  22.7503, -157.9990,  4746, 2598.800,    1.718,   34.653,2,   34.653,2,  111.000,2,  111.200,2,  156.970,2,   38.180,2,    2.690,2, -999.000
           NA,HOT timeseries 1988to2019 27SEP2021,    180,  99,-999.0,    8036,-999.0,20060808,1608,  22.7503, -157.9990,  4746, 2799.800,    1.643,   34.661,2,   34.659,2,  117.700,2,  117.300,2,  158.050,2,   37.990,2,    2.660,2, -999.000
           NA,HOT timeseries 1988to2019 27SEP2021,    180,  99,-999.0,    8050,-999.0,20060808,1608,  22.7503, -157.9990,  4746, 2999.700,    1.570,   34.668,2,   34.669,2,  123.900,2,  123.200,2,  157.990,2,   37.390,2,    2.630,2, -999.000
           NA,HOT timeseries 1988to2019 27SEP2021,    180,  99,-999.0,    8052,-999.0,20060808,1608,  22.7503, -157.9990,  4746, 3200.500,    1.521,   34.673,2,   34.674,2,  128.800,2,  128.600,2,  156.770,2,   36.930,2,    2.590,2, -999.000
           NA,HOT timeseries 1988to2019 27SEP2021,    180,  99,-999.0,    8047,-999.0,20060808,1608,  22.7503, -157.9990,  4746, 3400.200,    1.492,   34.678,2,   34.678,2,  134.900,2,  133.900,2,  155.790,2,   36.570,2,    2.560,2, -999.000
           NA,HOT timeseries 1988to2019 27SEP2021,    180,  99,-999.0,    8035,-999.0,20060808,1608,  22.7503, -157.9990,  4746, 3600.000,    1.479,   34.681,2,   34.681,2,  138.800,2,  138.000,2,  154.910,2,   36.330,2,    2.540,2, -999.000
           NA,HOT timeseries 1988to2019 27SEP2021,    180,  99,-999.0,    8046,-999.0,20060808,1608,  22.7503, -157.9990,  4746, 3799.800,    1.465,   34.684,2,   34.683,2,  143.100,2,  144.800,2,  151.370,2,   36.110,2,    2.530,2, -999.000
           NA,HOT timeseries 1988to2019 27SEP2021,    180,  99,-999.0,    8048,-999.0,20060808,1608,  22.7503, -157.9990,  4746, 3999.200,    1.464,   34.686,2,   34.686,2,  146.300,2,  145.900,2,  151.170,2,   35.750,2,    2.500,2, -999.000
           NA,HOT timeseries 1988to2019 27SEP2021,    180,  99,-999.0,    8037,-999.0,20060808,1608,  22.7503, -157.9990,  4746, 4199.500,    1.472,   34.687,2,   34.686,2,  148.100,2,  148.200,2,  149.270,2,   35.790,2,    2.500,2, -999.000
           NA,HOT timeseries 1988to2019 27SEP2021,    180,  99,-999.0,    8038,-999.0,20060808,1608,  22.7503, -157.9990,  4746, 4399.400,    1.485,   34.688,2,   34.688,2,  149.500,2,  149.000,2,  149.680,2,   35.600,2,    2.490,2, -999.000
           NA,HOT timeseries 1988to2019 27SEP2021,    180,  99,-999.0,    8054,-999.0,20060808,1608,  22.7503, -157.9990,  4746, 4498.600,    1.493,   34.689,2,   34.688,2,  150.100,2,  150.200,2,  147.830,2,   35.660,2,    2.490,2, -999.000
           NA,HOT timeseries 1988to2019 27SEP2021,    180,  99,-999.0,    8053,-999.0,20060808,1608,  22.7503, -157.9990,  4746, 4598.800,    1.502,   34.689,2,   34.691,2,  150.400,2,  149.800,2,  149.800,2,   35.450,2,    2.490,2, -999.000
           NA,HOT timeseries 1988to2019 27SEP2021,    180,  99,-999.0,    8027,-999.0,20060808,1608,  22.7503, -157.9990,  4746, 4801.900,    1.523,   34.689,2,   34.689,2,  150.300,2,  151.300,2,  147.180,2,   35.570,2,    2.490,2, -999.000