BOTTLE,20214727JOAExport
EXPOCODE,SECT_ID,STNNBR,CASTNO,SAMPNO,BTLNBR,BTLNBR_FLAG_W,DATE,TIME,LATITUDE,LONGITUDE,DEPTH,CTDPRS,CTDTMP,CTDSAL,CTDSAL_FLAG_W,SALNTY,SALNTY_FLAG_W,CTDOXY,CTDOXY_FLAG_W,OXYGEN,OXYGEN_FLAG_W,SILCAT,SILCAT_FLAG_W,NINI,NINI_FLAG_W,PHSPHT,PHSPHT_FLAG_W,REVP
,,,,,,,,,,,,DB,IPTS-68,PSS-78,,PSS-78,,UMOL/KG,,UMOL/KG,,UMOL/KG,,UMOL/KG,,UMOL/KG,,DBAR
           NA,HOT timeseries 1988to2019 27SEP2021,     91,  99,-999.0,      31,-999.0,19980715,0359,  22.7492, -157.9955,  4722,    5.100,   24.467,   35.379,2, -999.000,3, -999.000,3,  211.700,2,    1.080,2,    0.000,2,    0.040,2, -999.000
           NA,HOT timeseries 1988to2019 27SEP2021,     91,  99,-999.0,      31,-999.0,19980715,0359,  22.7492, -157.9955,  4722,    5.700,   24.557,   35.393,2,   35.394,2,  211.700,2,  211.800,2,    1.110,2,    0.000,2,    0.080,2, -999.000
           NA,HOT timeseries 1988to2019 27SEP2021,     91,  99,-999.0,      30,-999.0,19980715,0359,  22.7492, -157.9955,  4722,   30.200,   24.427,   35.378,2, -999.000,4, -999.000,3,  212.200,2,    1.910,2,    0.000,2,    0.040,2, -999.000
           NA,HOT timeseries 1988to2019 27SEP2021,     91,  99,-999.0,      22,-999.0,19980715,0359,  22.7492, -157.9955,  4722,   55.500,   23.696,   35.337,2,   35.339,2,  214.700,2,  218.700,2,    1.320,2,    0.010,2,    0.030,2, -999.000
           NA,HOT timeseries 1988to2019 27SEP2021,     91,  99,-999.0,      21,-999.0,19980715,0359,  22.7492, -157.9955,  4722,   74.700,   21.994,   35.249,2,   35.262,2,  213.300,2,  221.000,2,    1.280,2,    0.000,2,    0.040,2, -999.000
           NA,HOT timeseries 1988to2019 27SEP2021,     91,  99,-999.0,      20,-999.0,19980715,0359,  22.7492, -157.9955,  4722,   82.000,   21.806,   35.299,2,   35.303,2,  223.800,2,  223.900,2,    1.170,2,    0.000,2,    0.040,2, -999.000
           NA,HOT timeseries 1988to2019 27SEP2021,     91,  99,-999.0,      19,-999.0,19980715,0359,  22.7492, -157.9955,  4722,  129.500,   19.761,   35.118,2,   35.114,2,  201.600,2,  206.900,2,    2.340,2,    0.910,2,    0.130,2, -999.000
           NA,HOT timeseries 1988to2019 27SEP2021,     91,  99,-999.0,      18,-999.0,19980715,0359,  22.7492, -157.9955,  4722,  208.600,   16.243,   34.747,2,   34.744,2,  209.600,2,  214.400,2,    4.490,2,    3.530,2,    0.310,2, -999.000
           NA,HOT timeseries 1988to2019 27SEP2021,     91,  99,-999.0,      17,-999.0,19980715,0359,  22.7492, -157.9955,  4722,  305.000,   12.242,   34.278,2,   34.285,2,  199.200,2,  202.700,2,   10.190,2,   10.420,2,    0.730,2, -999.000
           NA,HOT timeseries 1988to2019 27SEP2021,     91,  99,-999.0,      16,-999.0,19980715,0359,  22.7492, -157.9955,  4722,  354.900,   10.438,   34.133,2,   34.133,2,  192.900,2,  193.300,2,   16.340,2,   15.040,2,    1.060,2, -999.000
           NA,HOT timeseries 1988to2019 27SEP2021,     91,  99,-999.0,      15,-999.0,19980715,0359,  22.7492, -157.9955,  4722,  402.200,    9.028,   34.080,2,   34.079,2,  181.500,2,  180.800,2,   24.500,2,   19.330,2,    1.340,2, -999.000
           NA,HOT timeseries 1988to2019 27SEP2021,     91,  99,-999.0,      14,-999.0,19980715,0359,  22.7492, -157.9955,  4722,  429.800,    8.335,   34.058,2,   34.058,2,  158.100,2,  159.100,2,   30.660,2,   22.760,2,    1.600,2, -999.000
           NA,HOT timeseries 1988to2019 27SEP2021,     91,  99,-999.0,      30,-999.0,19980715,0359,  22.7492, -157.9955,  4722,  464.600,    7.688,   34.059,2,   34.058,2,  135.400,2,  133.500,2,   38.220,2,   25.870,2,    1.870,2, -999.000
           NA,HOT timeseries 1988to2019 27SEP2021,     91,  99,-999.0,      13,-999.0,19980715,0359,  22.7492, -157.9955,  4722,  474.900,    7.577,   34.062,2,   34.063,2,  123.400,2, -999.000,5,   40.140,2,   27.070,2,    1.960,2, -999.000
           NA,HOT timeseries 1988to2019 27SEP2021,     91,  99,-999.0,      12,-999.0,19980715,0359,  22.7492, -157.9955,  4722,  505.300,    7.028,   34.068,2,   34.067,2,  104.700,2,  105.000,2,   48.320,2,   30.130,2,    2.190,2, -999.000
           NA,HOT timeseries 1988to2019 27SEP2021,     91,  99,-999.0,      11,-999.0,19980715,0359,  22.7492, -157.9955,  4722,  545.300,    6.362,   34.095,2,   34.095,2,   74.900,2,   76.400,2,   59.170,2,   33.670,2,    2.460,2, -999.000
           NA,HOT timeseries 1988to2019 27SEP2021,     91,  99,-999.0,      32,-999.0,19980715,0359,  22.7492, -157.9955,  4722,  605.800,    5.788,   34.168,2,   34.167,2,   47.400,2,   46.600,2,   71.620,2,   37.420,2,    2.730,2, -999.000
           NA,HOT timeseries 1988to2019 27SEP2021,     91,  99,-999.0,       3,-999.0,19980715,0359,  22.7492, -157.9955,  4722,  682.700,    5.486,   34.287,2,   34.285,2,   29.300,2,   27.000,2,   80.200,2,   39.600,2,    2.920,2, -999.000
           NA,HOT timeseries 1988to2019 27SEP2021,     91,  99,-999.0,      29,-999.0,19980715,0359,  22.7492, -157.9955,  4722,  700.500,    5.445,   34.307,2,   34.306,2,   25.300,2,   26.500,2,   81.270,2,   39.820,2,    2.980,2, -999.000
           NA,HOT timeseries 1988to2019 27SEP2021,     91,  99,-999.0,      28,-999.0,19980715,0359,  22.7492, -157.9955,  4722,  756.200,    5.171,   34.373,2,   34.374,2,   26.600,2,   26.900,2,   87.360,2,   40.420,2,    2.990,2, -999.000
           NA,HOT timeseries 1988to2019 27SEP2021,     91,  99,-999.0,       7,-999.0,19980715,0359,  22.7492, -157.9955,  4722,  759.000,    5.163,   34.374,2,   34.374,2,   26.700,2,   27.300,2,   87.120,2,   40.600,2,    2.990,2, -999.000
           NA,HOT timeseries 1988to2019 27SEP2021,     91,  99,-999.0,      38,-999.0,19980715,0359,  22.7492, -157.9955,  4722,  799.900,    4.901,   34.400,2,   34.399,2,   27.100,2,   26.600,2,   92.040,2,   41.170,2,    3.020,2, -999.000
           NA,HOT timeseries 1988to2019 27SEP2021,     91,  99,-999.0,      36,-999.0,19980715,0359,  22.7492, -157.9955,  4722,  836.200,    4.696,   34.417,2,   34.411,2,   31.100,2,   32.900,2,   96.120,2,   41.160,2,    3.020,2, -999.000
           NA,HOT timeseries 1988to2019 27SEP2021,     91,  99,-999.0,      35,-999.0,19980715,0359,  22.7492, -157.9955,  4722,  901.000,    4.564,   34.456,2,   34.454,2,   32.400,2,   32.500,2,   98.320,2,   41.610,2,    3.030,2, -999.000
           NA,HOT timeseries 1988to2019 27SEP2021,     91,  99,-999.0,      34,-999.0,19980715,0359,  22.7492, -157.9955,  4722,  951.000,    4.470,   34.469,2,   34.466,2,   33.700,2,   33.700,2,  100.110,2,   41.530,2,    3.030,2, -999.000
           NA,HOT timeseries 1988to2019 27SEP2021,     91,  99,-999.0,      21,-999.0,19980715,0359,  22.7492, -157.9955,  4722, 1001.200,    4.188,   34.488,2,   34.487,2,   40.000,2,   39.300,2,  104.940,2,   41.480,2,    3.010,2, -999.000
           NA,HOT timeseries 1988to2019 27SEP2021,     91,  99,-999.0,      33,-999.0,19980715,0359,  22.7492, -157.9955,  4722, 1023.100,    4.187,   34.494,2,   34.492,2,   39.200,2,   39.000,2,  106.030,2,   41.720,2,    3.020,2, -999.000
           NA,HOT timeseries 1988to2019 27SEP2021,     91,  99,-999.0,      20,-999.0,19980715,0359,  22.7492, -157.9955,  4722, 1200.000,    3.531,   34.535,2,   34.534,2,   50.800,2,   50.400,2,  118.490,2,   41.400,2,    2.990,2, -999.000
           NA,HOT timeseries 1988to2019 27SEP2021,     91,  99,-999.0,      19,-999.0,19980715,0359,  22.7492, -157.9955,  4722, 1400.600,    3.106,   34.562,2,   34.563,2,   60.000,2,   60.000,2,  127.500,2,   40.880,2,    2.960,2, -999.000
           NA,HOT timeseries 1988to2019 27SEP2021,     91,  99,-999.0,      18,-999.0,19980715,0359,  22.7492, -157.9955,  4722, 1600.000,    2.662,   34.590,2,   34.587,2,   71.400,2,   71.300,2,  137.140,2,   40.490,2,    2.900,2, -999.000
           NA,HOT timeseries 1988to2019 27SEP2021,     91,  99,-999.0,      17,-999.0,19980715,0359,  22.7492, -157.9955,  4722, 1800.000,    2.369,   34.608,2, -999.000,3, -999.000,3,   80.100,2,  143.970,2,   40.100,2,    2.880,2, -999.000
           NA,HOT timeseries 1988to2019 27SEP2021,     91,  99,-999.0,      16,-999.0,19980715,0359,  22.7492, -157.9955,  4722, 2001.400,    2.084,   34.625,2,   34.626,2,   91.300,2,   91.300,2,  150.120,2,   39.410,2,    2.820,2, -999.000
           NA,HOT timeseries 1988to2019 27SEP2021,     91,  99,-999.0,      15,-999.0,19980715,0359,  22.7492, -157.9955,  4722, 2200.400,    1.919,   34.637,2,   34.639,2,   97.700,2,   98.200,2,  153.330,2,   38.870,2,    2.780,2, -999.000
           NA,HOT timeseries 1988to2019 27SEP2021,     91,  99,-999.0,      14,-999.0,19980715,0359,  22.7492, -157.9955,  4722, 2401.100,    1.785,   34.649,2,   34.647,2,  106.300,2,  106.600,2,  155.080,2,   38.390,2,    2.740,2, -999.000
           NA,HOT timeseries 1988to2019 27SEP2021,     91,  99,-999.0,      13,-999.0,19980715,0359,  22.7492, -157.9955,  4722, 2600.500,    1.667,   34.658,2, -999.000,3, -999.000,3,  112.500,2,  157.530,2,   37.920,2,    2.710,2, -999.000
           NA,HOT timeseries 1988to2019 27SEP2021,     91,  99,-999.0,      12,-999.0,19980715,0359,  22.7492, -157.9955,  4722, 2801.600,    1.590,   34.666,2,   34.665,2,  119.200,2,  119.200,2,  158.130,2,   37.700,2,    2.690,2, -999.000
           NA,HOT timeseries 1988to2019 27SEP2021,     91,  99,-999.0,      11,-999.0,19980715,0359,  22.7492, -157.9955,  4722, 3000.600,    1.546,   34.671,2,   34.670,2,  124.600,2,  124.900,2,  158.080,2,   37.250,2,    2.640,2, -999.000
           NA,HOT timeseries 1988to2019 27SEP2021,     91,  99,-999.0,      32,-999.0,19980715,0359,  22.7492, -157.9955,  4722, 3200.100,    1.506,   34.676,2,   34.675,2,  131.200,2,  131.600,2,  156.610,2,   36.820,2,    2.600,2, -999.000
           NA,HOT timeseries 1988to2019 27SEP2021,     91,  99,-999.0,       3,-999.0,19980715,0359,  22.7492, -157.9955,  4722, 3401.000,    1.476,   34.680,2,   34.681,2,  136.400,2,  136.600,2,  154.990,2,   36.450,2,    2.570,2, -999.000
           NA,HOT timeseries 1988to2019 27SEP2021,     91,  99,-999.0,      29,-999.0,19980715,0359,  22.7492, -157.9955,  4722, 3602.100,    1.462,   34.683,2,   34.683,2,  140.800,2,  140.900,2,  153.410,2,   36.270,2,    2.540,2, -999.000
           NA,HOT timeseries 1988to2019 27SEP2021,     91,  99,-999.0,      28,-999.0,19980715,0359,  22.7492, -157.9955,  4722, 3799.700,    1.458,   34.686,2,   34.686,2,  144.200,2,  144.500,2,  151.890,2,   35.850,2,    2.530,2, -999.000
           NA,HOT timeseries 1988to2019 27SEP2021,     91,  99,-999.0,       7,-999.0,19980715,0359,  22.7492, -157.9955,  4722, 4000.200,    1.461,   34.687,2,   34.686,2,  147.300,2,  147.000,2,  150.740,2,   35.870,2,    2.520,2, -999.000
           NA,HOT timeseries 1988to2019 27SEP2021,     91,  99,-999.0,      38,-999.0,19980715,0359,  22.7492, -157.9955,  4722, 4200.500,    1.469,   34.688,2,   34.688,2,  149.500,2,  149.100,2,  149.790,2,   35.660,2,    2.510,2, -999.000
           NA,HOT timeseries 1988to2019 27SEP2021,     91,  99,-999.0,      36,-999.0,19980715,0359,  22.7492, -157.9955,  4722, 4400.300,    1.482,   34.689,2,   34.689,2,  151.200,2,  150.900,2,  149.590,2,   35.590,2,    2.470,2, -999.000
           NA,HOT timeseries 1988to2019 27SEP2021,     91,  99,-999.0,      35,-999.0,19980715,0359,  22.7492, -157.9955,  4722, 4501.200,    1.490,   34.690,2,   34.690,2,  151.600,2,  151.100,2,  148.790,2,   35.530,2,    2.490,2, -999.000
           NA,HOT timeseries 1988to2019 27SEP2021,     91,  99,-999.0,      34,-999.0,19980715,0359,  22.7492, -157.9955,  4722, 4601.900,    1.498,   34.690,2,   34.690,2,  152.000,2,  151.800,2,  148.440,2,   35.580,2,    2.470,2, -999.000
           NA,HOT timeseries 1988to2019 27SEP2021,     91,  99,-999.0,      33,-999.0,19980715,0359,  22.7492, -157.9955,  4722, 4796.000,    1.515,   34.690,2,   34.689,2,  152.800,2,  153.100,2,  148.020,2,   35.490,2,    2.480,2, -999.000