BOTTLE,20214727JOAExport
EXPOCODE,SECT_ID,STNNBR,CASTNO,SAMPNO,BTLNBR,BTLNBR_FLAG_W,DATE,TIME,LATITUDE,LONGITUDE,DEPTH,CTDPRS,CTDTMP,CTDSAL,CTDSAL_FLAG_W,SALNTY,SALNTY_FLAG_W,CTDOXY,CTDOXY_FLAG_W,OXYGEN,OXYGEN_FLAG_W,SILCAT,SILCAT_FLAG_W,NINI,NINI_FLAG_W,PHSPHT,PHSPHT_FLAG_W,REVP
,,,,,,,,,,,,DB,IPTS-68,PSS-78,,PSS-78,,UMOL/KG,,UMOL/KG,,UMOL/KG,,UMOL/KG,,UMOL/KG,,DBAR
           NA,HOT timeseries 1988to2019 27SEP2021,     47,  99,-999.0,      31,-999.0,19940120,0143,  22.7487, -158.0010,  4749,    7.300,   22.954,   35.159,2,   35.159,2,  212.600,2,  211.700,2,    1.510,2,    0.000,2,    0.050,2, -999.000
           NA,HOT timeseries 1988to2019 27SEP2021,     47,  99,-999.0,      30,-999.0,19940120,0143,  22.7487, -158.0010,  4749,   42.100,   22.952,   35.158,2,   35.160,2,  212.800,2,  211.800,2,    1.560,2, -999.000,4,    0.050,2, -999.000
           NA,HOT timeseries 1988to2019 27SEP2021,     47,  99,-999.0,      22,-999.0,19940120,0143,  22.7487, -158.0010,  4749,   87.300,   22.570,   35.198,2,   35.201,2,  204.100,2,  208.900,2,    1.560,2,    0.050,2,    0.050,2, -999.000
           NA,HOT timeseries 1988to2019 27SEP2021,     47,  99,-999.0,      21,-999.0,19940120,0143,  22.7487, -158.0010,  4749,   93.800,   22.422,   35.195,2,   35.199,2,  204.200,2,  207.900,2,    1.560,2,    0.110,2,    0.050,2, -999.000
           NA,HOT timeseries 1988to2019 27SEP2021,     47,  99,-999.0,      20,-999.0,19940120,0143,  22.7487, -158.0010,  4749,   98.400,   22.272,   35.193,2,   35.194,2,  205.100,2,  207.500,2,    1.570,2,    0.160,2,    0.060,2, -999.000
           NA,HOT timeseries 1988to2019 27SEP2021,     47,  99,-999.0,      31,-999.0,19940120,0143,  22.7487, -158.0010,  4749,  106.500,   22.394,   35.188,2, -999.000,4, -999.000,3,  209.100,2,    1.600,2,    0.070,2,    0.070,2, -999.000
           NA,HOT timeseries 1988to2019 27SEP2021,     47,  99,-999.0,      19,-999.0,19940120,0143,  22.7487, -158.0010,  4749,  128.100,   20.609,   35.199,2,   35.198,2,  196.800,2,  200.700,2,    1.870,2,    0.800,2,    0.130,2, -999.000
           NA,HOT timeseries 1988to2019 27SEP2021,     47,  99,-999.0,      18,-999.0,19940120,0143,  22.7487, -158.0010,  4749,  160.700,   19.921,   35.203,2,   35.204,2,  199.700,2,  200.200,2,    1.960,2,    1.190,2,    0.130,2, -999.000
           NA,HOT timeseries 1988to2019 27SEP2021,     47,  99,-999.0,      17,-999.0,19940120,0143,  22.7487, -158.0010,  4749,  199.300,   18.461,   34.982,2,   34.988,2,  197.700,2,  197.600,2,    2.670,2,    2.260,2,    0.190,2, -999.000
           NA,HOT timeseries 1988to2019 27SEP2021,     47,  99,-999.0,      16,-999.0,19940120,0143,  22.7487, -158.0010,  4749,  223.800,   16.885,   34.767,2,   34.762,2,  191.700,2,  195.000,2,    4.140,2,    4.100,2,    0.300,2, -999.000
           NA,HOT timeseries 1988to2019 27SEP2021,     47,  99,-999.0,      15,-999.0,19940120,0143,  22.7487, -158.0010,  4749,  263.500,   13.297,   34.390,2,   34.391,2,  196.300,2,  196.300,2,    9.330,2,    9.430,2,    0.640,2, -999.000
           NA,HOT timeseries 1988to2019 27SEP2021,     47,  99,-999.0,      14,-999.0,19940120,0143,  22.7487, -158.0010,  4749,  288.500,   12.149,   34.276,2,   34.283,2,  190.800,2,  188.700,2,   12.330,2,   12.240,2,    0.830,2, -999.000
           NA,HOT timeseries 1988to2019 27SEP2021,     47,  99,-999.0,      13,-999.0,19940120,0143,  22.7487, -158.0010,  4749,  350.400,   10.357,   34.146,2,   34.144,2,  192.300,2,  192.500,2,   17.690,2,   15.890,2,    1.060,2, -999.000
           NA,HOT timeseries 1988to2019 27SEP2021,     47,  99,-999.0,      12,-999.0,19940120,0143,  22.7487, -158.0010,  4749,  414.700,    8.517,   34.073,2,   34.077,2,  162.100,2,  160.000,2,   31.440,2,   22.830,2,    1.530,2, -999.000
           NA,HOT timeseries 1988to2019 27SEP2021,     47,  99,-999.0,      11,-999.0,19940120,0143,  22.7487, -158.0010,  4749,  474.000,    7.128,   34.044,2,   34.040,2,  118.300,2,  120.300,2,   47.570,2,   29.390,2,    1.990,2, -999.000
           NA,HOT timeseries 1988to2019 27SEP2021,     47,  99,-999.0,      32,-999.0,19940120,0143,  22.7487, -158.0010,  4749,  500.300,    6.825,   34.046,2,   34.042,2,  114.200,2,  108.000,2,   52.060,2,   31.130,2,    2.140,2, -999.000
           NA,HOT timeseries 1988to2019 27SEP2021,     47,  99,-999.0,       3,-999.0,19940120,0143,  22.7487, -158.0010,  4749,  568.800,    5.926,   34.092,2, -999.000,3, -999.000,3,   64.800,2,   69.160,2,   36.460,2,    2.670,2, -999.000
           NA,HOT timeseries 1988to2019 27SEP2021,     47,  99,-999.0,      29,-999.0,19940120,0143,  22.7487, -158.0010,  4749,  615.900,    5.657,   34.166,2,   34.173,2,   51.300,2,   44.600,2,   76.750,2,   38.550,2,    2.800,2, -999.000
           NA,HOT timeseries 1988to2019 27SEP2021,     47,  99,-999.0,      28,-999.0,19940120,0143,  22.7487, -158.0010,  4749,  670.700,    5.158,   34.244,2,   34.240,2,   35.600,2,   30.400,2,   88.650,2,   40.560,2,    2.970,2, -999.000
           NA,HOT timeseries 1988to2019 27SEP2021,     47,  99,-999.0,       7,-999.0,19940120,0143,  22.7487, -158.0010,  4749,  755.500,    4.816,   34.353,2,   34.348,2,   30.500,2,   27.300,2,   96.690,2,   41.760,2,    3.050,2, -999.000
           NA,HOT timeseries 1988to2019 27SEP2021,     47,  99,-999.0,      23,-999.0,19940120,0143,  22.7487, -158.0010,  4749,  836.700,    4.512,   34.422,2,   34.417,2,   34.100,2,   32.600,2,  103.160,2,   42.130,2,    3.060,2, -999.000
           NA,HOT timeseries 1988to2019 27SEP2021,     47,  99,-999.0,      36,-999.0,19940120,0143,  22.7487, -158.0010,  4749,  878.900,    4.369,   34.439,2,   34.431,2,   34.600,2,   33.200,2,  107.160,2,   42.220,2,    3.070,2, -999.000
           NA,HOT timeseries 1988to2019 27SEP2021,     47,  99,-999.0,      35,-999.0,19940120,0143,  22.7487, -158.0010,  4749,  927.400,    4.222,   34.462,2,   34.458,2,   37.700,2,   36.500,2,  108.650,2,   42.230,2,    3.070,2, -999.000
           NA,HOT timeseries 1988to2019 27SEP2021,     47,  99,-999.0,      22,-999.0,19940120,0143,  22.7487, -158.0010,  4749, 1011.700,    4.003,   34.490,2,   34.489,2,   43.200,2,   41.200,2,  113.240,2,   41.970,2,    3.020,2, -999.000
           NA,HOT timeseries 1988to2019 27SEP2021,     47,  99,-999.0,      33,-999.0,19940120,0143,  22.7487, -158.0010,  4749, 1055.200,    3.864,   34.505,2,   34.502,2,   43.700,2,   44.700,2,  116.010,2,   42.230,2,    3.030,2, -999.000
           NA,HOT timeseries 1988to2019 27SEP2021,     47,  99,-999.0,      21,-999.0,19940120,0143,  22.7487, -158.0010,  4749, 1209.000,    3.506,   34.533,2,   34.531,2,   52.000,2,   51.900,2,  123.570,2,   41.900,2,    3.030,2, -999.000
           NA,HOT timeseries 1988to2019 27SEP2021,     47,  99,-999.0,      20,-999.0,19940120,0143,  22.7487, -158.0010,  4749, 1403.800,    3.122,   34.560,2,   34.560,2,   58.400,2,   59.200,2,  131.940,2,   41.710,2,    3.000,2, -999.000
           NA,HOT timeseries 1988to2019 27SEP2021,     47,  99,-999.0,      19,-999.0,19940120,0143,  22.7487, -158.0010,  4749, 1598.000,    2.777,   34.578,2,   34.577,2,   66.500,2,   67.300,2,  140.200,2,   41.300,2,    2.990,2, -999.000
           NA,HOT timeseries 1988to2019 27SEP2021,     47,  99,-999.0,      18,-999.0,19940120,0143,  22.7487, -158.0010,  4749, 1803.100,    2.442,   34.596,2, -999.000,4, -999.000,3,   77.300,2,  148.030,2,   40.600,2,    2.920,2, -999.000
           NA,HOT timeseries 1988to2019 27SEP2021,     47,  99,-999.0,      17,-999.0,19940120,0143,  22.7487, -158.0010,  4749, 2001.700,    2.196,   34.612,2,   34.611,2,   83.200,2,   85.600,2,  153.510,2,   40.140,2,    2.870,2, -999.000
           NA,HOT timeseries 1988to2019 27SEP2021,     47,  99,-999.0,      16,-999.0,19940120,0143,  22.7487, -158.0010,  4749, 2202.900,    1.977,   34.628,2,   34.626,2,   90.700,2,   94.400,2,  158.210,2,   39.520,2,    2.830,2, -999.000
           NA,HOT timeseries 1988to2019 27SEP2021,     47,  99,-999.0,      15,-999.0,19940120,0143,  22.7487, -158.0010,  4749, 2406.600,    1.823,   34.642,2,   34.640,2,  102.800,2,  104.200,2,  160.370,2,   38.930,2,    2.780,2, -999.000
           NA,HOT timeseries 1988to2019 27SEP2021,     47,  99,-999.0,      14,-999.0,19940120,0143,  22.7487, -158.0010,  4749, 2599.300,    1.732,   34.651,2,   34.649,2,  108.800,2,  110.100,2,  161.650,2,   38.470,2,    2.750,2, -999.000
           NA,HOT timeseries 1988to2019 27SEP2021,     47,  99,-999.0,      13,-999.0,19940120,0143,  22.7487, -158.0010,  4749, 2798.200,    1.636,   34.660,2,   34.660,2,  116.100,2,  117.600,2,  163.130,2,   38.100,2,    2.720,2, -999.000
           NA,HOT timeseries 1988to2019 27SEP2021,     47,  99,-999.0,      12,-999.0,19940120,0143,  22.7487, -158.0010,  4749, 2996.400,    1.561,   34.667,2,   34.667,2,  122.100,2,  123.700,2,  161.740,2,   37.660,2,    2.660,2, -999.000
           NA,HOT timeseries 1988to2019 27SEP2021,     47,  99,-999.0,      11,-999.0,19940120,0143,  22.7487, -158.0010,  4749, 3183.500,    1.515,   34.671,2, -999.000,4, -999.000,3,  129.300,2,  162.190,2,   37.200,2,    2.650,2, -999.000
           NA,HOT timeseries 1988to2019 27SEP2021,     47,  99,-999.0,      32,-999.0,19940120,0143,  22.7487, -158.0010,  4749, 3396.600,    1.483,   34.676,2,   34.678,2,  135.800,2,  135.800,2,  160.230,2,   36.800,2,    2.600,2, -999.000
           NA,HOT timeseries 1988to2019 27SEP2021,     47,  99,-999.0,       3,-999.0,19940120,0143,  22.7487, -158.0010,  4749, 3608.300,    1.466,   34.680,2,   34.680,2,  140.900,2,  140.900,2,  158.340,2,   36.510,2,    2.580,2, -999.000
           NA,HOT timeseries 1988to2019 27SEP2021,     47,  99,-999.0,      29,-999.0,19940120,0143,  22.7487, -158.0010,  4749, 3809.900,    1.458,   34.683,2,   34.683,2,  144.800,2,  144.800,2,  156.710,2,   36.200,2,    2.560,2, -999.000
           NA,HOT timeseries 1988to2019 27SEP2021,     47,  99,-999.0,      28,-999.0,19940120,0143,  22.7487, -158.0010,  4749, 4013.500,    1.458,   34.685,2,   34.684,2,  149.000,2,  147.700,2,  155.470,2,   36.000,2,    2.540,2, -999.000
           NA,HOT timeseries 1988to2019 27SEP2021,     47,  99,-999.0,       7,-999.0,19940120,0143,  22.7487, -158.0010,  4749, 4206.900,    1.466,   34.686,2,   34.686,2,  148.500,2,  149.700,2,  154.020,2,   35.910,2,    2.530,2, -999.000
           NA,HOT timeseries 1988to2019 27SEP2021,     47,  99,-999.0,      23,-999.0,19940120,0143,  22.7487, -158.0010,  4749, 4395.100,    1.477,   34.687,2,   34.688,2,  152.400,2,  151.400,2,  153.050,2,   35.810,2,    2.520,2, -999.000
           NA,HOT timeseries 1988to2019 27SEP2021,     47,  99,-999.0,      36,-999.0,19940120,0143,  22.7487, -158.0010,  4749, 4498.600,    1.483,   34.687,2,   34.689,2,  153.100,2,  152.100,2,  152.690,2,   35.910,2,    2.510,2, -999.000
           NA,HOT timeseries 1988to2019 27SEP2021,     47,  99,-999.0,      35,-999.0,19940120,0143,  22.7487, -158.0010,  4749, 4603.900,    1.490,   34.688,2,   34.688,2,  154.500,2,  153.200,2,  152.150,2,   35.850,2,    2.510,2, -999.000
           NA,HOT timeseries 1988to2019 27SEP2021,     47,  99,-999.0,      34,-999.0,19940120,0143,  22.7487, -158.0010,  4749, 4603.900,    1.490,   34.688,2,   34.688,2,  154.500,2,  152.800,2,  152.320,2,   35.860,2,    2.500,2, -999.000
           NA,HOT timeseries 1988to2019 27SEP2021,     47,  99,-999.0,      33,-999.0,19940120,0143,  22.7487, -158.0010,  4749, 4803.900,    1.495,   34.689,2,   34.692,2,  157.300,2,  156.300,2,  150.070,2,   35.550,2,    2.470,2, -999.000