BOTTLE,20214727JOAExport
EXPOCODE,SECT_ID,STNNBR,CASTNO,SAMPNO,BTLNBR,BTLNBR_FLAG_W,DATE,TIME,LATITUDE,LONGITUDE,DEPTH,CTDPRS,CTDTMP,CTDSAL,CTDSAL_FLAG_W,SALNTY,SALNTY_FLAG_W,CTDOXY,CTDOXY_FLAG_W,OXYGEN,OXYGEN_FLAG_W,SILCAT,SILCAT_FLAG_W,NINI,NINI_FLAG_W,PHSPHT,PHSPHT_FLAG_W,REVP
,,,,,,,,,,,,DB,IPTS-68,PSS-78,,PSS-78,,UMOL/KG,,UMOL/KG,,UMOL/KG,,UMOL/KG,,UMOL/KG,,DBAR
           NA,HOT timeseries 1988to2019 27SEP2021,    158,  99,-999.0,      31,-999.0,20040815,1846,  22.7542, -157.9863,  4714,    4.700,   26.790,   34.844,2,   34.845,2,  203.100,2,  202.900,2,    0.830,2,    0.000,2,    0.030,2, -999.000
           NA,HOT timeseries 1988to2019 27SEP2021,    158,  99,-999.0,      30,-999.0,20040815,1846,  22.7542, -157.9863,  4714,   50.500,   25.719,   35.106,2, -999.000,3, -999.000,3,  212.500,2,    0.890,2,    0.000,2,    0.000,2, -999.000
           NA,HOT timeseries 1988to2019 27SEP2021,    158,  99,-999.0,      22,-999.0,20040815,1846,  22.7542, -157.9863,  4714,   86.700,   22.182,   35.257,2,   35.261,2,  208.800,2,  209.100,2,    1.320,2,   -0.020,2,    0.010,2, -999.000
           NA,HOT timeseries 1988to2019 27SEP2021,    158,  99,-999.0,      21,-999.0,20040815,1846,  22.7542, -157.9863,  4714,  118.600,   20.957,   35.281,2,   35.282,2,  215.000,2,  214.400,2,    1.540,2,    0.120,2,    0.000,2, -999.000
           NA,HOT timeseries 1988to2019 27SEP2021,    158,  99,-999.0,      20,-999.0,20040815,1846,  22.7542, -157.9863,  4714,  150.700,   19.576,   35.090,2,   35.086,2,  201.400,2,  200.300,2,    1.930,2,    1.360,2,    0.040,2, -999.000
           NA,HOT timeseries 1988to2019 27SEP2021,    158,  99,-999.0,      19,-999.0,20040815,1846,  22.7542, -157.9863,  4714,  209.700,   15.910,   34.574,2,   34.571,2,  193.000,2,  194.300,2,    4.800,2,    5.580,2,    0.500,2, -999.000
           NA,HOT timeseries 1988to2019 27SEP2021,    158,  99,-999.0,      18,-999.0,20040815,1846,  22.7542, -157.9863,  4714,  243.300,   13.330,   34.297,2,   34.301,2,  175.800,2,  175.100,2, -999.000,3, -999.000,3, -999.000,3, -999.000
           NA,HOT timeseries 1988to2019 27SEP2021,    158,  99,-999.0,      16,-999.0,20040815,1846,  22.7542, -157.9863,  4714,  336.300,   10.364,   34.178,2,   34.178,2,  204.800,2,  203.700,2,   17.640,2,   15.300,2,    1.110,2, -999.000
           NA,HOT timeseries 1988to2019 27SEP2021,    158,  99,-999.0,     102,-999.0,20040815,1846,  22.7542, -157.9863,  4714,  373.400,    9.648,   34.148,2,   34.148,2,  195.100,2,  193.900,2,   21.920,2,   17.590,2,    1.280,2, -999.000
           NA,HOT timeseries 1988to2019 27SEP2021,    158,  99,-999.0,     101,-999.0,20040815,1846,  22.7542, -157.9863,  4714,  409.600,    8.934,   34.110,2,   34.117,2,  179.800,2,  179.200,2,   27.560,2,   20.230,2,    1.480,2, -999.000
           NA,HOT timeseries 1988to2019 27SEP2021,    158,  99,-999.0,      42,-999.0,20040815,1846,  22.7542, -157.9863,  4714,  444.500,    8.006,   34.059,2,   34.060,2,  158.700,2,  158.200,2,   35.450,2,   24.440,2,    1.750,2, -999.000
           NA,HOT timeseries 1988to2019 27SEP2021,    158,  99,-999.0,      12,-999.0,20040815,1846,  22.7542, -157.9863,  4714,  479.500,    7.144,   34.024,2,   34.024,2,  135.400,2,  133.600,2,   44.020,2,   28.350,2,    2.020,2, -999.000
           NA,HOT timeseries 1988to2019 27SEP2021,    158,  99,-999.0,      39,-999.0,20040815,1846,  22.7542, -157.9863,  4714,  514.900,    6.360,   34.017,2,   34.017,2,  108.100,2,  107.500,2,   54.500,2,   31.930,2,    2.310,2, -999.000
           NA,HOT timeseries 1988to2019 27SEP2021,    158,  99,-999.0,      32,-999.0,20040815,1846,  22.7542, -157.9863,  4714,  566.200,    5.641,   34.051,2,   34.052,2,   70.600,2,   71.500,2,   67.680,2,   36.290,2,    2.630,2, -999.000
           NA,HOT timeseries 1988to2019 27SEP2021,    158,  99,-999.0,       3,-999.0,20040815,1846,  22.7542, -157.9863,  4714,  619.000,    5.330,   34.128,2,   34.125,2,   47.900,2,   46.400,2,   77.140,2,   38.800,2,    2.830,2, -999.000
           NA,HOT timeseries 1988to2019 27SEP2021,    158,  99,-999.0,      29,-999.0,20040815,1846,  22.7542, -157.9863,  4714,  670.700,    5.064,   34.215,2,   34.212,2,   33.700,2,   32.300,2,   85.480,2,   40.300,2,    2.970,2, -999.000
           NA,HOT timeseries 1988to2019 27SEP2021,    158,  99,-999.0,      28,-999.0,20040815,1846,  22.7542, -157.9863,  4714,  715.200,    4.883,   34.262,2,   34.260,2,   29.000,2,   27.700,2,   89.990,2,   41.010,2,    3.040,2, -999.000
           NA,HOT timeseries 1988to2019 27SEP2021,    158,  99,-999.0,      22,-999.0,20040815,1846,  22.7542, -157.9863,  4714,  750.400,    4.697,   34.324,2,   34.324,2,   26.000,2,   25.200,2,   94.800,2,   41.020,2,    3.090,2, -999.000
           NA,HOT timeseries 1988to2019 27SEP2021,    158,  99,-999.0,      38,-999.0,20040815,1846,  22.7542, -157.9863,  4714,  805.300,    4.462,   34.334,2,   34.332,2,   24.700,2,   23.700,2, -999.000,4,   41.380,2,    3.090,2, -999.000
           NA,HOT timeseries 1988to2019 27SEP2021,    158,  99,-999.0,      36,-999.0,20040815,1846,  22.7542, -157.9863,  4714,  851.900,    4.334,   34.384,2,   34.381,2,   26.900,2,   26.500,2, -999.000,3,   41.580,2,    3.110,2, -999.000
           NA,HOT timeseries 1988to2019 27SEP2021,    158,  99,-999.0,      35,-999.0,20040815,1846,  22.7542, -157.9863,  4714,  915.200,    4.207,   34.451,2,   34.450,2,   34.300,2,   34.500,2, -999.000,4,   41.300,2,    3.080,2, -999.000
           NA,HOT timeseries 1988to2019 27SEP2021,    158,  99,-999.0,      33,-999.0,20040815,1846,  22.7542, -157.9863,  4714, 1020.600,    3.924,   34.496,2,   34.499,2,   43.500,2,   43.200,2, -999.000,4,   40.970,2,    3.030,2, -999.000
           NA,HOT timeseries 1988to2019 27SEP2021,    158,  99,-999.0,      20,-999.0,20040815,1846,  22.7542, -157.9863,  4714, 1199.700,    3.443,   34.536,2,   34.537,2,   50.900,2,   51.200,2,  120.140,2,   40.780,2,    3.040,2, -999.000
           NA,HOT timeseries 1988to2019 27SEP2021,    158,  99,-999.0,      19,-999.0,20040815,1846,  22.7542, -157.9863,  4714, 1400.100,    3.025,   34.565,2,   34.564,2,   60.100,2,   60.000,2,  128.190,2,   40.890,2,    2.990,2, -999.000
           NA,HOT timeseries 1988to2019 27SEP2021,    158,  99,-999.0,      18,-999.0,20040815,1846,  22.7542, -157.9863,  4714, 1600.800,    2.699,   34.584,2,   34.583,2,   69.200,2,   69.000,2,  134.400,2,   40.390,2,    2.940,2, -999.000
           NA,HOT timeseries 1988to2019 27SEP2021,    158,  99,-999.0,      17,-999.0,20040815,1846,  22.7542, -157.9863,  4714, 1799.600,    2.379,   34.603,2,   34.606,2,   77.800,2,   78.100,2,  143.470,2,   40.030,2,    2.890,2, -999.000
           NA,HOT timeseries 1988to2019 27SEP2021,    158,  99,-999.0,      16,-999.0,20040815,1846,  22.7542, -157.9863,  4714, 2000.400,    2.105,   34.617,2,   34.616,2,   84.500,2,   84.800,2,  151.050,2,   39.630,2,    2.850,2, -999.000
           NA,HOT timeseries 1988to2019 27SEP2021,    158,  99,-999.0,     102,-999.0,20040815,1846,  22.7542, -157.9863,  4714, 2200.200,    1.914,   34.631,2,   34.630,2,   90.700,2,   90.900,2,  156.340,2,   39.070,2,    2.820,2, -999.000
           NA,HOT timeseries 1988to2019 27SEP2021,    158,  99,-999.0,     101,-999.0,20040815,1846,  22.7542, -157.9863,  4714, 2399.700,    1.766,   34.645,2,   34.645,2,   99.700,2,   99.700,2,  158.920,2,   38.480,2,    2.760,2, -999.000
           NA,HOT timeseries 1988to2019 27SEP2021,    158,  99,-999.0,      42,-999.0,20040815,1846,  22.7542, -157.9863,  4714, 2601.000,    1.657,   34.655,2,   34.657,2,  108.900,2,  109.500,2,  158.610,2,   38.210,2,    2.700,2, -999.000
           NA,HOT timeseries 1988to2019 27SEP2021,    158,  99,-999.0,      12,-999.0,20040815,1846,  22.7542, -157.9863,  4714, 2799.900,    1.590,   34.664,2,   34.664,2,  116.500,2,  116.800,2,  158.520,2,   37.620,2,    2.680,2, -999.000
           NA,HOT timeseries 1988to2019 27SEP2021,    158,  99,-999.0,      39,-999.0,20040815,1846,  22.7542, -157.9863,  4714, 3000.100,    1.538,   34.671,2,   34.673,2,  123.900,2,  124.000,2,  155.810,2,   37.170,2,    2.630,2, -999.000
           NA,HOT timeseries 1988to2019 27SEP2021,    158,  99,-999.0,      32,-999.0,20040815,1846,  22.7542, -157.9863,  4714, 3201.000,    1.504,   34.675,2,   34.675,2,  129.900,2,  130.200,2,  156.460,2,   36.740,2,    2.600,2, -999.000
           NA,HOT timeseries 1988to2019 27SEP2021,    158,  99,-999.0,       3,-999.0,20040815,1846,  22.7542, -157.9863,  4714, 3400.700,    1.475,   34.681,2,   34.680,2,  135.700,2,  135.900,2,  155.950,2,   36.470,2,    2.590,2, -999.000
           NA,HOT timeseries 1988to2019 27SEP2021,    158,  99,-999.0,      29,-999.0,20040815,1846,  22.7542, -157.9863,  4714, 3599.400,    1.459,   34.683,2,   34.684,2,  140.900,2,  141.100,2,  153.820,2,   36.120,2,    2.550,2, -999.000
           NA,HOT timeseries 1988to2019 27SEP2021,    158,  99,-999.0,      28,-999.0,20040815,1846,  22.7542, -157.9863,  4714, 3800.200,    1.456,   34.686,2,   34.685,2,  144.200,2,  144.200,2,  152.600,2,   35.850,2,    2.530,2, -999.000
           NA,HOT timeseries 1988to2019 27SEP2021,    158,  99,-999.0,      13,-999.0,20040815,1846,  22.7542, -157.9863,  4714, 4000.300,    1.459,   34.687,2,   34.686,2,  147.200,2,  146.900,2,  151.760,2,   35.650,2,    2.520,2, -999.000
           NA,HOT timeseries 1988to2019 27SEP2021,    158,  99,-999.0,      38,-999.0,20040815,1846,  22.7542, -157.9863,  4714, 4200.400,    1.465,   34.688,2,   34.688,2,  149.400,2,  149.000,2,  152.480,2,   35.520,2,    2.510,2, -999.000
           NA,HOT timeseries 1988to2019 27SEP2021,    158,  99,-999.0,      36,-999.0,20040815,1846,  22.7542, -157.9863,  4714, 4399.600,    1.476,   34.690,2,   34.689,2,  151.400,2,  151.100,2,  151.500,2,   35.490,2,    2.510,2, -999.000
           NA,HOT timeseries 1988to2019 27SEP2021,    158,  99,-999.0,      35,-999.0,20040815,1846,  22.7542, -157.9863,  4714, 4500.800,    1.485,   34.690,2,   34.693,2,  151.900,2,  151.500,2,  152.570,2,   35.480,2,    2.500,2, -999.000
           NA,HOT timeseries 1988to2019 27SEP2021,    158,  99,-999.0,      34,-999.0,20040815,1846,  22.7542, -157.9863,  4714, 4601.300,    1.492,   34.690,2,   34.690,2,  152.500,2,  152.600,2,  152.700,2,   35.700,2,    2.500,2, -999.000
           NA,HOT timeseries 1988to2019 27SEP2021,    158,  99,-999.0,      33,-999.0,20040815,1846,  22.7542, -157.9863,  4714, 4805.000,    1.503,   34.691,2,   34.689,2,  154.500,2, -999.000,4,  156.000,2,   36.060,2,    2.520,2, -999.000