BOTTLE,20214727JOAExport
EXPOCODE,SECT_ID,STNNBR,CASTNO,SAMPNO,BTLNBR,BTLNBR_FLAG_W,DATE,TIME,LATITUDE,LONGITUDE,DEPTH,CTDPRS,CTDTMP,CTDSAL,CTDSAL_FLAG_W,SALNTY,SALNTY_FLAG_W,CTDOXY,CTDOXY_FLAG_W,OXYGEN,OXYGEN_FLAG_W,SILCAT,SILCAT_FLAG_W,NINI,NINI_FLAG_W,PHSPHT,PHSPHT_FLAG_W,REVP
,,,,,,,,,,,,DB,IPTS-68,PSS-78,,PSS-78,,UMOL/KG,,UMOL/KG,,UMOL/KG,,UMOL/KG,,UMOL/KG,,DBAR
           NA,HOT timeseries 1988to2019 27SEP2021,    140,  99,-999.0,      31,-999.0,20030116,1529,  22.7463, -158.0085,  4754,    4.100,   23.695,   35.341,2,   35.340,2,  218.200,2, -999.000,3,    1.020,2,    0.030,2,    0.020,2, -999.000
           NA,HOT timeseries 1988to2019 27SEP2021,    140,  99,-999.0,      31,-999.0,20030116,1529,  22.7463, -158.0085,  4754,    4.900,   23.687,   35.342,2,   35.340,2,  205.600,2, -999.000,3,    1.040,2,    0.030,2,    0.020,2, -999.000
           NA,HOT timeseries 1988to2019 27SEP2021,    140,  99,-999.0,      30,-999.0,20030116,1529,  22.7463, -158.0085,  4754,   38.100,   23.682,   35.341,2,   35.340,2,  205.900,2, -999.000,3,    1.030,2,    0.040,2,    0.020,2, -999.000
           NA,HOT timeseries 1988to2019 27SEP2021,    140,  99,-999.0,      22,-999.0,20030116,1529,  22.7463, -158.0085,  4754,   71.100,   23.687,   35.341,2,   35.340,2,  206.000,2, -999.000,3,    1.030,2,    0.080,2,    0.020,2, -999.000
           NA,HOT timeseries 1988to2019 27SEP2021,    140,  99,-999.0,      21,-999.0,20030116,1529,  22.7463, -158.0085,  4754,  105.000,   23.677,   35.341,2,   35.340,2,  206.200,2, -999.000,3,    1.020,2,    0.140,2,    0.020,2, -999.000
           NA,HOT timeseries 1988to2019 27SEP2021,    140,  99,-999.0,      20,-999.0,20030116,1529,  22.7463, -158.0085,  4754,  138.300,   22.471,   35.386,2,   35.384,2,  208.300,2, -999.000,3,    1.330,2,    0.210,2,    0.050,2, -999.000
           NA,HOT timeseries 1988to2019 27SEP2021,    140,  99,-999.0,      19,-999.0,20030116,1529,  22.7463, -158.0085,  4754,  180.900,   19.485,   35.066,2,   35.076,2,  199.900,2, -999.000,3,    2.720,2,    1.660,2,    0.130,2, -999.000
           NA,HOT timeseries 1988to2019 27SEP2021,    140,  99,-999.0,      18,-999.0,20030116,1529,  22.7463, -158.0085,  4754,  239.900,   15.842,   34.592,2,   34.592,2,  211.800,2, -999.000,3,    4.320,2,    4.340,2,    0.390,2, -999.000
           NA,HOT timeseries 1988to2019 27SEP2021,    140,  99,-999.0,      17,-999.0,20030116,1529,  22.7463, -158.0085,  4754,  274.400,   13.797,   34.380,2,   34.380,2,  199.100,2, -999.000,3,    7.210,2,    7.950,2,    0.630,2, -999.000
           NA,HOT timeseries 1988to2019 27SEP2021,    140,  99,-999.0,      16,-999.0,20030116,1529,  22.7463, -158.0085,  4754,  310.500,   12.203,   34.276,2,   34.278,2,  207.800,2, -999.000,3,   10.330,2,   10.720,2,    0.760,2, -999.000
           NA,HOT timeseries 1988to2019 27SEP2021,    140,  99,-999.0,      23,-999.0,20030116,1529,  22.7463, -158.0085,  4754,  361.500,   10.704,   34.186,2,   34.188,2,  205.500,2, -999.000,3,   14.650,2,   13.940,2,    1.020,2, -999.000
           NA,HOT timeseries 1988to2019 27SEP2021,    140,  99,-999.0,      40,-999.0,20030116,1529,  22.7463, -158.0085,  4754,  403.400,    9.445,   34.118,2,   34.118,2,  182.700,2, -999.000,3,   22.530,2,   18.700,2,    1.360,2, -999.000
           NA,HOT timeseries 1988to2019 27SEP2021,    140,  99,-999.0,      13,-999.0,20030116,1529,  22.7463, -158.0085,  4754,  450.800,    8.162,   34.064,2, -999.000,4, -999.000,3, -999.000,3,   31.610,2,   22.750,2,    1.620,2, -999.000
           NA,HOT timeseries 1988to2019 27SEP2021,    140,  99,-999.0,      12,-999.0,20030116,1529,  22.7463, -158.0085,  4754,  500.400,    7.414,   34.044,2,   34.044,2,  134.200,2, -999.000,3,   41.630,2,   27.180,2,    1.950,2, -999.000
           NA,HOT timeseries 1988to2019 27SEP2021,    140,  99,-999.0,      32,-999.0,20030116,1529,  22.7463, -158.0085,  4754,  590.700,    5.887,   34.069,2,   34.068,2,   70.400,2, -999.000,3,   63.840,2,   35.650,2, -999.000,4, -999.000
           NA,HOT timeseries 1988to2019 27SEP2021,    140,  99,-999.0,       3,-999.0,20030116,1529,  22.7463, -158.0085,  4754,  625.500,    5.426,   34.118,2,   34.117,2,   49.400,2, -999.000,3, -999.000,4,   38.310,2,    2.770,2, -999.000
           NA,HOT timeseries 1988to2019 27SEP2021,    140,  99,-999.0,      28,-999.0,20030116,1529,  22.7463, -158.0085,  4754,  700.500,    5.094,   34.220,2,   34.221,2,   29.500,2, -999.000,3, -999.000,4,   40.440,2,    2.990,2, -999.000
           NA,HOT timeseries 1988to2019 27SEP2021,    140,  99,-999.0,       7,-999.0,20030116,1529,  22.7463, -158.0085,  4754,  763.400,    4.779,   34.315,2,   34.315,2,   23.900,2, -999.000,3, -999.000,4,   41.570,2, -999.000,4, -999.000
           NA,HOT timeseries 1988to2019 27SEP2021,    140,  99,-999.0,      38,-999.0,20030116,1529,  22.7463, -158.0085,  4754,  815.300,    4.603,   34.371,2,   34.370,2,   25.900,2, -999.000,3, -999.000,4, -999.000,4, -999.000,4, -999.000
           NA,HOT timeseries 1988to2019 27SEP2021,    140,  99,-999.0,      36,-999.0,20030116,1529,  22.7463, -158.0085,  4754,  865.900,    4.465,   34.404,2,   34.403,2,   28.200,2, -999.000,3, -999.000,4,   41.930,2,    3.090,2, -999.000
           NA,HOT timeseries 1988to2019 27SEP2021,    140,  99,-999.0,      35,-999.0,20030116,1529,  22.7463, -158.0085,  4754,  929.600,    4.270,   34.449,2,   34.447,2,   34.000,2, -999.000,3, -999.000,4,   41.920,2,    3.060,2, -999.000
           NA,HOT timeseries 1988to2019 27SEP2021,    140,  99,-999.0,      34,-999.0,20030116,1529,  22.7463, -158.0085,  4754,  990.400,    4.059,   34.472,2,   34.472,2,   38.600,2, -999.000,3, -999.000,4,   41.840,2,    3.040,2, -999.000
           NA,HOT timeseries 1988to2019 27SEP2021,    140,  99,-999.0,      33,-999.0,20030116,1529,  22.7463, -158.0085,  4754, 1019.000,    3.902,   34.481,2,   34.482,2,   41.600,2, -999.000,3, -999.000,4,   41.900,2,    3.010,2, -999.000
           NA,HOT timeseries 1988to2019 27SEP2021,    140,  99,-999.0,      20,-999.0,20030116,1529,  22.7463, -158.0085,  4754, 1204.500,    3.423,   34.522,2,   34.523,2,   55.700,2, -999.000,3,  122.210,2,   41.510,2,    2.980,2, -999.000
           NA,HOT timeseries 1988to2019 27SEP2021,    140,  99,-999.0,      19,-999.0,20030116,1529,  22.7463, -158.0085,  4754, 1398.200,    3.036,   34.557,2, -999.000,3, -999.000,3, -999.000,3,  130.540,2,   41.420,2,    2.940,2, -999.000
           NA,HOT timeseries 1988to2019 27SEP2021,    140,  99,-999.0,      18,-999.0,20030116,1529,  22.7463, -158.0085,  4754, 1603.200,    2.695,   34.583,2,   34.582,2,   73.300,2, -999.000,3,  137.740,2,   40.630,2,    2.900,2, -999.000
           NA,HOT timeseries 1988to2019 27SEP2021,    140,  99,-999.0,      17,-999.0,20030116,1529,  22.7463, -158.0085,  4754, 1803.900,    2.413,   34.602,2,   34.600,2,   82.500,2, -999.000,3,  143.850,2, -999.000,3,    2.820,2, -999.000
           NA,HOT timeseries 1988to2019 27SEP2021,    140,  99,-999.0,      16,-999.0,20030116,1529,  22.7463, -158.0085,  4754, 1996.800,    2.184,   34.617,2,   34.618,2,   90.300,2, -999.000,3,  147.760,2, -999.000,3,    2.800,2, -999.000
           NA,HOT timeseries 1988to2019 27SEP2021,    140,  99,-999.0,      23,-999.0,20030116,1529,  22.7463, -158.0085,  4754, 2197.500,    2.006,   34.631,2,   34.630,2,   97.300,2, -999.000,3,  153.020,2,   39.720,2,    2.740,2, -999.000
           NA,HOT timeseries 1988to2019 27SEP2021,    140,  99,-999.0,      40,-999.0,20030116,1529,  22.7463, -158.0085,  4754, 2396.300,    1.833,   34.643,2,   34.641,2,  105.400,2, -999.000,3,  154.790,2, -999.000,3,    2.720,2, -999.000
           NA,HOT timeseries 1988to2019 27SEP2021,    140,  99,-999.0,      13,-999.0,20030116,1529,  22.7463, -158.0085,  4754, 2592.700,    1.715,   34.653,2,   34.653,2,  111.500,2, -999.000,3,  160.000,2, -999.000,3,    2.680,2, -999.000
           NA,HOT timeseries 1988to2019 27SEP2021,    140,  99,-999.0,      12,-999.0,20030116,1529,  22.7463, -158.0085,  4754, 2794.200,    1.630,   34.661,2,   34.662,2,  118.200,2, -999.000,3,  160.430,2, -999.000,3,    2.680,2, -999.000
           NA,HOT timeseries 1988to2019 27SEP2021,    140,  99,-999.0,      39,-999.0,20030116,1529,  22.7463, -158.0085,  4754, 2994.200,    1.564,   34.668,2,   34.670,2,  124.900,2, -999.000,3,  157.030,2, -999.000,3,    2.610,2, -999.000
           NA,HOT timeseries 1988to2019 27SEP2021,    140,  99,-999.0,      32,-999.0,20030116,1529,  22.7463, -158.0085,  4754, 3195.400,    1.527,   34.673,2,   34.673,2,  129.600,2, -999.000,3,  157.720,2, -999.000,3,    2.560,2, -999.000
           NA,HOT timeseries 1988to2019 27SEP2021,    140,  99,-999.0,       3,-999.0,20030116,1529,  22.7463, -158.0085,  4754, 3400.300,    1.490,   34.678,2,   34.678,2,  136.000,2, -999.000,3,  156.230,2, -999.000,3,    2.560,2, -999.000
           NA,HOT timeseries 1988to2019 27SEP2021,    140,  99,-999.0,      29,-999.0,20030116,1529,  22.7463, -158.0085,  4754, 3598.000,    1.468,   34.681,2,   34.682,2,  141.200,2, -999.000,3,  153.090,2, -999.000,3,    2.540,2, -999.000
           NA,HOT timeseries 1988to2019 27SEP2021,    140,  99,-999.0,      28,-999.0,20030116,1529,  22.7463, -158.0085,  4754, 3797.400,    1.460,   34.684,2, -999.000,3, -999.000,3, -999.000,3,  151.570,2, -999.000,3,    2.520,2, -999.000
           NA,HOT timeseries 1988to2019 27SEP2021,    140,  99,-999.0,       7,-999.0,20030116,1529,  22.7463, -158.0085,  4754, 3999.900,    1.460,   34.686,2,   34.687,2,  148.400,2, -999.000,3,  149.940,2, -999.000,3,    2.490,2, -999.000
           NA,HOT timeseries 1988to2019 27SEP2021,    140,  99,-999.0,      38,-999.0,20030116,1529,  22.7463, -158.0085,  4754, 4198.300,    1.469,   34.687,2,   34.688,2,  150.700,2, -999.000,3,  150.320,2, -999.000,3, -999.000,3, -999.000
           NA,HOT timeseries 1988to2019 27SEP2021,    140,  99,-999.0,      36,-999.0,20030116,1529,  22.7463, -158.0085,  4754, 4399.400,    1.481,   34.688,2,   34.690,2,  152.600,2, -999.000,3,  148.610,2, -999.000,3,    2.460,2, -999.000
           NA,HOT timeseries 1988to2019 27SEP2021,    140,  99,-999.0,      35,-999.0,20030116,1529,  22.7463, -158.0085,  4754, 4499.300,    1.489,   34.688,2,   34.690,2,  153.200,2, -999.000,3,  148.110,2, -999.000,3,    2.460,2, -999.000
           NA,HOT timeseries 1988to2019 27SEP2021,    140,  99,-999.0,      34,-999.0,20030116,1529,  22.7463, -158.0085,  4754, 4601.200,    1.497,   34.689,2,   34.690,2,  154.000,2, -999.000,3,  147.330,2, -999.000,3, -999.000,3, -999.000
           NA,HOT timeseries 1988to2019 27SEP2021,    140,  99,-999.0,      33,-999.0,20030116,1529,  22.7463, -158.0085,  4754, 4799.200,    1.520,   34.689,2,   34.690,2,  154.400,2, -999.000,3,  147.270,2, -999.000,3, -999.000,3, -999.000
           NA,HOT timeseries 1988to2019 27SEP2021,    141,  99,-999.0,      31,-999.0,20030225,1758,  22.7518, -157.9958,  4720,    3.900,   23.291,   35.323,2,   35.328,2,  313.600,2, -999.000,3,    1.040,2,    0.050,2,    0.010,2, -999.000
           NA,HOT timeseries 1988to2019 27SEP2021,    141,  99,-999.0,      31,-999.0,20030225,1758,  22.7518, -157.9958,  4720,    4.900,   23.314,   35.321,2, -999.000,5,  318.900,2, -999.000,3,    1.060,2,    0.030,2,    0.010,2, -999.000
           NA,HOT timeseries 1988to2019 27SEP2021,    141,  99,-999.0,      30,-999.0,20030225,1758,  22.7518, -157.9958,  4720,   40.400,   23.080,   35.311,2,   35.311,2,  313.700,2, -999.000,3,    1.060,2,    0.050,2,    0.020,2, -999.000
           NA,HOT timeseries 1988to2019 27SEP2021,    141,  99,-999.0,      22,-999.0,20030225,1758,  22.7518, -157.9958,  4720,   74.100,   22.975,   35.295,2, -999.000,3, -999.000,3, -999.000,3,    1.070,2,    0.060,2,    0.030,2, -999.000
           NA,HOT timeseries 1988to2019 27SEP2021,    141,  99,-999.0,      21,-999.0,20030225,1758,  22.7518, -157.9958,  4720,  101.200,   22.577,   35.333,2,   35.333,2,  306.400,2, -999.000,3,    1.160,2,    0.080,2,    0.040,2, -999.000
           NA,HOT timeseries 1988to2019 27SEP2021,    141,  99,-999.0,      20,-999.0,20030225,1758,  22.7518, -157.9958,  4720,  164.700,   19.963,   35.140,2,   35.144,2,  278.900,2, -999.000,3,    2.040,2,    1.610,2,    0.080,2, -999.000
           NA,HOT timeseries 1988to2019 27SEP2021,    141,  99,-999.0,      19,-999.0,20030225,1758,  22.7518, -157.9958,  4720,  198.500,   18.355,   34.933,2,   34.931,2,  270.800,2, -999.000,3,    2.940,2,    2.570,2,    0.180,2, -999.000
           NA,HOT timeseries 1988to2019 27SEP2021,    141,  99,-999.0,      17,-999.0,20030225,1758,  22.7518, -157.9958,  4720,  271.300,   13.440,   34.303,2,   34.307,2,  253.700,2, -999.000,3,    6.910,2,    8.300,2, -999.000,4, -999.000
           NA,HOT timeseries 1988to2019 27SEP2021,    141,  99,-999.0,      16,-999.0,20030225,1758,  22.7518, -157.9958,  4720,  308.400,   11.718,   34.190,2,   34.197,2,  248.900,2, -999.000,3,   10.810,2,   11.600,2,    0.870,2, -999.000
           NA,HOT timeseries 1988to2019 27SEP2021,    141,  99,-999.0,      23,-999.0,20030225,1758,  22.7518, -157.9958,  4720,  348.900,   10.522,   34.137,2,   34.139,2,  231.900,2, -999.000,3,   15.910,2,   15.370,2,    1.050,2, -999.000
           NA,HOT timeseries 1988to2019 27SEP2021,    141,  99,-999.0,      40,-999.0,20030225,1758,  22.7518, -157.9958,  4720,  384.300,    9.892,   34.120,2,   34.128,2,  219.900,2, -999.000,3,   19.800,2,   17.780,2,    1.160,2, -999.000
           NA,HOT timeseries 1988to2019 27SEP2021,    141,  99,-999.0,      13,-999.0,20030225,1758,  22.7518, -157.9958,  4720,  421.900,    9.024,   34.090,2,   34.090,2,  203.900,2, -999.000,3,   25.860,2,   20.820,2,    1.280,2, -999.000
           NA,HOT timeseries 1988to2019 27SEP2021,    141,  99,-999.0,      12,-999.0,20030225,1758,  22.7518, -157.9958,  4720,  488.800,    7.409,   34.056,2,   34.059,2,  139.500,2, -999.000,3,   41.560,2,   28.030,2,    2.050,2, -999.000
           NA,HOT timeseries 1988to2019 27SEP2021,    141,  99,-999.0,      32,-999.0,20030225,1758,  22.7518, -157.9958,  4720,  586.100,    6.164,   34.125,2,   34.126,2,   74.400,2, -999.000,3,   62.600,2,   35.320,2,    2.590,2, -999.000
           NA,HOT timeseries 1988to2019 27SEP2021,    141,  99,-999.0,       3,-999.0,20030225,1758,  22.7518, -157.9958,  4720,  649.100,    5.670,   34.181,2,   34.180,2,   51.600,2, -999.000,3,   71.300,2,   37.930,2,    2.800,2, -999.000
           NA,HOT timeseries 1988to2019 27SEP2021,    141,  99,-999.0,      29,-999.0,20030225,1758,  22.7518, -157.9958,  4720,  706.900,    5.346,   34.266,2,   34.266,2,   35.200,2, -999.000,3,   79.990,2,   39.730,2,    2.970,2, -999.000
           NA,HOT timeseries 1988to2019 27SEP2021,    141,  99,-999.0,       7,-999.0,20030225,1758,  22.7518, -157.9958,  4720,  814.500,    4.568,   34.408,2,   34.407,2,   32.700,2, -999.000,3,   96.880,2,   41.640,2,    3.060,2, -999.000
           NA,HOT timeseries 1988to2019 27SEP2021,    141,  99,-999.0,      36,-999.0,20030225,1758,  22.7518, -157.9958,  4720,  887.400,    4.323,   34.456,2,   34.458,2,   38.000,2, -999.000,3,  102.700,2,   41.720,2,    3.080,2, -999.000
           NA,HOT timeseries 1988to2019 27SEP2021,    141,  99,-999.0,      34,-999.0,20030225,1758,  22.7518, -157.9958,  4720,  958.000,    4.092,   34.476,2,   34.475,2,   43.200,2, -999.000,3, -999.000,4,   41.640,2,    3.050,2, -999.000
           NA,HOT timeseries 1988to2019 27SEP2021,    141,  99,-999.0,      20,-999.0,20030225,1758,  22.7518, -157.9958,  4720, 1197.000,    3.437,   34.526,2,   34.525,2,   57.300,2, -999.000,3,  121.300,2,   41.450,2,    3.000,2, -999.000
           NA,HOT timeseries 1988to2019 27SEP2021,    141,  99,-999.0,      19,-999.0,20030225,1758,  22.7518, -157.9958,  4720, 1399.700,    2.961,   34.567,2,   34.567,2,   70.000,2, -999.000,3,  131.280,2,   41.160,2, -999.000,4, -999.000
           NA,HOT timeseries 1988to2019 27SEP2021,    141,  99,-999.0,      17,-999.0,20030225,1758,  22.7518, -157.9958,  4720, 1800.400,    2.414,   34.603,2,   34.602,2,   85.800,2, -999.000,3,  143.650,2,   40.230,2,    2.880,2, -999.000
           NA,HOT timeseries 1988to2019 27SEP2021,    141,  99,-999.0,      16,-999.0,20030225,1758,  22.7518, -157.9958,  4720, 1998.800,    2.163,   34.620,2,   34.622,2,   96.600,2, -999.000,3,  148.710,2,   40.130,2,    2.830,2, -999.000
           NA,HOT timeseries 1988to2019 27SEP2021,    141,  99,-999.0,      23,-999.0,20030225,1758,  22.7518, -157.9958,  4720, 2199.500,    1.955,   34.634,2,   34.635,2,  104.200,2, -999.000,3,  152.780,2,   39.640,2, -999.000,4, -999.000
           NA,HOT timeseries 1988to2019 27SEP2021,    141,  99,-999.0,      40,-999.0,20030225,1758,  22.7518, -157.9958,  4720, 2401.200,    1.805,   34.646,2,   34.646,2,  113.300,2, -999.000,3,  155.850,2,   39.180,2, -999.000,4, -999.000
           NA,HOT timeseries 1988to2019 27SEP2021,    141,  99,-999.0,      13,-999.0,20030225,1758,  22.7518, -157.9958,  4720, 2600.700,    1.692,   34.656,2,   34.655,2,  120.800,2, -999.000,3,  157.370,2,   38.580,2, -999.000,4, -999.000
           NA,HOT timeseries 1988to2019 27SEP2021,    141,  99,-999.0,      12,-999.0,20030225,1758,  22.7518, -157.9958,  4720, 2797.400,    1.613,   34.665,2,   34.663,2,  127.700,2, -999.000,3,  157.340,2,   38.040,2, -999.000,4, -999.000
           NA,HOT timeseries 1988to2019 27SEP2021,    141,  99,-999.0,      39,-999.0,20030225,1758,  22.7518, -157.9958,  4720, 2999.600,    1.547,   34.671,2,   34.671,2,  133.300,2, -999.000,3,  159.440,2,   37.700,2,    2.630,2, -999.000
           NA,HOT timeseries 1988to2019 27SEP2021,    141,  99,-999.0,      32,-999.0,20030225,1758,  22.7518, -157.9958,  4720, 3199.700,    1.509,   34.676,2, -999.000,4, -999.000,3, -999.000,3,  156.560,2,   37.220,2,    2.610,2, -999.000
           NA,HOT timeseries 1988to2019 27SEP2021,    141,  99,-999.0,       3,-999.0,20030225,1758,  22.7518, -157.9958,  4720, 3397.400,    1.473,   34.680,2, -999.000,4, -999.000,3, -999.000,3,  154.820,2,   36.840,2,    2.560,2, -999.000
           NA,HOT timeseries 1988to2019 27SEP2021,    141,  99,-999.0,      29,-999.0,20030225,1758,  22.7518, -157.9958,  4720, 3598.600,    1.459,   34.683,2,   34.683,2,  151.400,2, -999.000,3,  153.340,2,   36.310,2,    2.520,2, -999.000
           NA,HOT timeseries 1988to2019 27SEP2021,    141,  99,-999.0,      28,-999.0,20030225,1758,  22.7518, -157.9958,  4720, 3799.800,    1.452,   34.686,2,   34.686,2,  155.300,2, -999.000,3,  152.930,2,   35.930,2,    2.530,2, -999.000
           NA,HOT timeseries 1988to2019 27SEP2021,    141,  99,-999.0,       7,-999.0,20030225,1758,  22.7518, -157.9958,  4720, 3987.700,    1.454,   34.687,2,   34.686,2,  157.600,2, -999.000,3,  152.100,2,   35.560,2, -999.000,3, -999.000
           NA,HOT timeseries 1988to2019 27SEP2021,    141,  99,-999.0,      38,-999.0,20030225,1758,  22.7518, -157.9958,  4720, 4198.100,    1.463,   34.688,2,   34.688,2,  160.000,2, -999.000,3,  150.730,2,   35.190,2,    2.490,2, -999.000
           NA,HOT timeseries 1988to2019 27SEP2021,    141,  99,-999.0,      36,-999.0,20030225,1758,  22.7518, -157.9958,  4720, 4398.000,    1.478,   34.689,2,   34.689,2,  161.200,2, -999.000,5,  150.330,2,   35.500,2,    2.500,2, -999.000
           NA,HOT timeseries 1988to2019 27SEP2021,    141,  99,-999.0,      35,-999.0,20030225,1758,  22.7518, -157.9958,  4720, 4498.400,    1.487,   34.689,2,   34.689,2,  161.500,2, -999.000,3,  149.500,2,   35.360,2, -999.000,4, -999.000
           NA,HOT timeseries 1988to2019 27SEP2021,    141,  99,-999.0,      34,-999.0,20030225,1758,  22.7518, -157.9958,  4720, 4599.400,    1.497,   34.689,2,   34.691,2,  161.600,2, -999.000,3,  147.530,2,   35.450,2, -999.000,4, -999.000
           NA,HOT timeseries 1988to2019 27SEP2021,    141,  99,-999.0,      33,-999.0,20030225,1758,  22.7518, -157.9958,  4720, 4801.300,    1.521,   34.689,2,   34.690,2,  161.700,2, -999.000,3,  147.640,2,   35.380,2, -999.000,4, -999.000