BOTTLE,20214727JOAExport
EXPOCODE,SECT_ID,STNNBR,CASTNO,SAMPNO,BTLNBR,BTLNBR_FLAG_W,DATE,TIME,LATITUDE,LONGITUDE,DEPTH,CTDPRS,CTDTMP,CTDSAL,CTDSAL_FLAG_W,SALNTY,SALNTY_FLAG_W,CTDOXY,CTDOXY_FLAG_W,OXYGEN,OXYGEN_FLAG_W,SILCAT,SILCAT_FLAG_W,NINI,NINI_FLAG_W,PHSPHT,PHSPHT_FLAG_W,REVP
,,,,,,,,,,,,DB,IPTS-68,PSS-78,,PSS-78,,UMOL/KG,,UMOL/KG,,UMOL/KG,,UMOL/KG,,UMOL/KG,,DBAR
           NA,HOT timeseries 1988to2019 27SEP2021,     93,  99,-999.0,      31,-999.0,19980929,1328,  22.7490, -158.0007,  4722,    5.500,   25.377,   35.272,2,   35.273,2,  205.500,2,  205.200,2,    1.450,2,    0.000,2,    0.110,2, -999.000
           NA,HOT timeseries 1988to2019 27SEP2021,     93,  99,-999.0,      31,-999.0,19980929,1328,  22.7490, -158.0007,  4722,    5.700,   25.396,   35.278,2,   35.278,2,  206.200,2,  205.400,2,    1.530,2,   -0.010,2,    0.100,2, -999.000
           NA,HOT timeseries 1988to2019 27SEP2021,     93,  99,-999.0,      30,-999.0,19980929,1328,  22.7490, -158.0007,  4722,   81.100,   23.129,   35.196,2, -999.000,4, -999.000,3,  218.800,2,    1.200,2,    0.000,2,    0.090,2, -999.000
           NA,HOT timeseries 1988to2019 27SEP2021,     93,  99,-999.0,      22,-999.0,19980929,1328,  22.7490, -158.0007,  4722,  122.300,   21.614,   35.218,2,   35.218,2,  202.800,2,  206.700,2,    1.260,2,    0.010,2,    0.120,2, -999.000
           NA,HOT timeseries 1988to2019 27SEP2021,     93,  99,-999.0,      21,-999.0,19980929,1328,  22.7490, -158.0007,  4722,  181.900,   19.560,   35.118,2,   35.118,2,  201.500,2,  201.500,2,    1.850,2,    1.390,2,    0.170,2, -999.000
           NA,HOT timeseries 1988to2019 27SEP2021,     93,  99,-999.0,      20,-999.0,19980929,1328,  22.7490, -158.0007,  4722,  278.200,   15.794,   34.644,2,   34.648,2,  207.000,2,  206.900,2,    4.420,2,    4.250,2,    0.360,2, -999.000
           NA,HOT timeseries 1988to2019 27SEP2021,     93,  99,-999.0,      19,-999.0,19980929,1328,  22.7490, -158.0007,  4722,  310.200,   14.349,   34.471,2,   34.478,2,  201.500,2,  202.600,2,    6.160,2,    6.750,2,    0.520,2, -999.000
           NA,HOT timeseries 1988to2019 27SEP2021,     93,  99,-999.0,      18,-999.0,19980929,1328,  22.7490, -158.0007,  4722,  367.700,   12.131,   34.260,2, -999.000,4, -999.000,3, -999.000,4, -999.000,4, -999.000,4, -999.000,4, -999.000
           NA,HOT timeseries 1988to2019 27SEP2021,     93,  99,-999.0,      17,-999.0,19980929,1328,  22.7490, -158.0007,  4722,  411.100,   10.755,   34.197,2,   34.199,2,  206.100,2,  203.700,2,   14.850,2,   13.870,2,    0.970,2, -999.000
           NA,HOT timeseries 1988to2019 27SEP2021,     93,  99,-999.0,      16,-999.0,19980929,1328,  22.7490, -158.0007,  4722,  466.500,    8.805,   34.064,2,   34.064,2,  171.800,2,  170.800,2,   26.160,2,   20.780,2,    1.450,2, -999.000
           NA,HOT timeseries 1988to2019 27SEP2021,     93,  99,-999.0,      30,-999.0,19980929,1328,  22.7490, -158.0007,  4722,  502.600,    7.882,   34.048,2,   34.048,2,  151.000,2,  151.000,2,   35.130,2,   24.510,2,    1.710,2, -999.000
           NA,HOT timeseries 1988to2019 27SEP2021,     93,  99,-999.0,      15,-999.0,19980929,1328,  22.7490, -158.0007,  4722,  512.300,    7.668,   34.038,2,   34.038,2,  148.800,2,  144.700,2,   36.900,2,   25.590,2,    1.830,2, -999.000
           NA,HOT timeseries 1988to2019 27SEP2021,     93,  99,-999.0,      14,-999.0,19980929,1328,  22.7490, -158.0007,  4722,  528.400,    7.528,   34.052,2,   34.049,2,  140.900,2,  136.600,2,   40.110,2,   26.690,2,    1.910,2, -999.000
           NA,HOT timeseries 1988to2019 27SEP2021,     93,  99,-999.0,      13,-999.0,19980929,1328,  22.7490, -158.0007,  4722,  554.500,    7.073,   34.078,2,   34.080,2,  107.500,2,  108.800,2,   48.380,2,   29.930,2,    2.130,2, -999.000
           NA,HOT timeseries 1988to2019 27SEP2021,     93,  99,-999.0,      12,-999.0,19980929,1328,  22.7490, -158.0007,  4722,  598.600,    6.424,   34.112,2,   34.111,2,   80.200,2,   79.600,2,   59.500,2,   33.560,2,    2.440,2, -999.000
           NA,HOT timeseries 1988to2019 27SEP2021,     93,  99,-999.0,      11,-999.0,19980929,1328,  22.7490, -158.0007,  4722,  636.600,    5.894,   34.161,2,   34.159,2,   54.400,2,   54.200,2,   69.020,2,   36.360,2,    2.660,2, -999.000
           NA,HOT timeseries 1988to2019 27SEP2021,     93,  99,-999.0,      32,-999.0,19980929,1328,  22.7490, -158.0007,  4722,  660.100,    5.639,   34.186,2,   34.181,2,   47.400,2,   46.600,2,   74.980,2,   37.730,2,    2.780,2, -999.000
           NA,HOT timeseries 1988to2019 27SEP2021,     93,  99,-999.0,       3,-999.0,19980929,1328,  22.7490, -158.0007,  4722,  706.100,    5.086,   34.190,2,   34.190,2,   37.300,2,   35.700,2,   85.240,2,   39.690,2,    2.890,2, -999.000
           NA,HOT timeseries 1988to2019 27SEP2021,     93,  99,-999.0,      29,-999.0,19980929,1328,  22.7490, -158.0007,  4722,  755.900,    4.591,   34.243,2,   34.241,2,   25.800,2,   24.000,2,   96.010,2,   41.340,2,    3.010,2, -999.000
           NA,HOT timeseries 1988to2019 27SEP2021,     93,  99,-999.0,      28,-999.0,19980929,1328,  22.7490, -158.0007,  4722,  775.600,    4.542,   34.263,2,   34.263,2,   26.400,2,   24.100,2,   97.620,2,   41.500,2,    3.030,2, -999.000
           NA,HOT timeseries 1988to2019 27SEP2021,     93,  99,-999.0,       7,-999.0,19980929,1328,  22.7490, -158.0007,  4722,  800.200,    4.526,   34.305,2,   34.303,2,   28.200,2,   26.300,2,   98.520,2,   41.400,2,    3.020,2, -999.000
           NA,HOT timeseries 1988to2019 27SEP2021,     93,  99,-999.0,      38,-999.0,19980929,1328,  22.7490, -158.0007,  4722,  866.600,    4.404,   34.380,2,   34.377,2,   31.100,2,   30.400,2,  102.140,2,   41.500,2,    2.970,2, -999.000
           NA,HOT timeseries 1988to2019 27SEP2021,     93,  99,-999.0,      36,-999.0,19980929,1328,  22.7490, -158.0007,  4722,  899.700,    4.285,   34.412,2,   34.410,2,   33.600,2,   32.700,2,  104.310,2,   41.620,2,    3.020,2, -999.000
           NA,HOT timeseries 1988to2019 27SEP2021,     93,  99,-999.0,      35,-999.0,19980929,1328,  22.7490, -158.0007,  4722,  951.000,    4.153,   34.443,2,   34.441,2,   36.100,2,   35.600,2,  106.560,2,   41.640,2,    2.970,2, -999.000
           NA,HOT timeseries 1988to2019 27SEP2021,     93,  99,-999.0,      34,-999.0,19980929,1328,  22.7490, -158.0007,  4722,  992.700,    4.011,   34.464,2,   34.465,2,   38.900,2,   38.200,2,  109.180,2,   41.640,2,    3.000,2, -999.000
           NA,HOT timeseries 1988to2019 27SEP2021,     93,  99,-999.0,      33,-999.0,19980929,1328,  22.7490, -158.0007,  4722, 1018.800,    3.913,   34.474,2,   34.474,2,   40.800,2,   40.700,2,  111.640,2,   41.540,2,    3.010,2, -999.000
           NA,HOT timeseries 1988to2019 27SEP2021,     93,  99,-999.0,      20,-999.0,19980929,1328,  22.7490, -158.0007,  4722, 1200.800,    3.479,   34.527,2,   34.526,2,   49.600,2,   50.900,2,  120.120,2,   41.180,2, -999.000,3, -999.000
           NA,HOT timeseries 1988to2019 27SEP2021,     93,  99,-999.0,      19,-999.0,19980929,1328,  22.7490, -158.0007,  4722, 1404.100,    3.022,   34.558,2,   34.561,2,   59.700,2,   59.700,2,  130.130,2,   40.970,2,    2.930,2, -999.000
           NA,HOT timeseries 1988to2019 27SEP2021,     93,  99,-999.0,      18,-999.0,19980929,1328,  22.7490, -158.0007,  4722, 1599.600,    2.654,   34.583,2,   34.583,2,   68.300,2,   68.800,2,  138.600,2,   40.500,2, -999.000,3, -999.000
           NA,HOT timeseries 1988to2019 27SEP2021,     93,  99,-999.0,      17,-999.0,19980929,1328,  22.7490, -158.0007,  4722, 1798.900,    2.305,   34.609,2,   34.609,2,   79.700,2,   80.700,2,  145.600,2,   39.900,2,    2.850,2, -999.000
           NA,HOT timeseries 1988to2019 27SEP2021,     93,  99,-999.0,      16,-999.0,19980929,1328,  22.7490, -158.0007,  4722, 2000.100,    2.045,   34.626,2,   34.626,2,   89.800,2,   90.600,2,  151.480,2,   39.330,2,    2.780,2, -999.000
           NA,HOT timeseries 1988to2019 27SEP2021,     93,  99,-999.0,      15,-999.0,19980929,1328,  22.7490, -158.0007,  4722, 2201.200,    1.874,   34.639,2,   34.637,2,   97.200,2,   98.000,2,  155.370,2,   39.110,2, -999.000,3, -999.000
           NA,HOT timeseries 1988to2019 27SEP2021,     93,  99,-999.0,      14,-999.0,19980929,1328,  22.7490, -158.0007,  4722, 2401.600,    1.752,   34.650,2,   34.651,2,  105.500,2,  106.300,2,  155.920,2,   38.370,2,    2.700,2, -999.000
           NA,HOT timeseries 1988to2019 27SEP2021,     93,  99,-999.0,      13,-999.0,19980929,1328,  22.7490, -158.0007,  4722, 2599.000,    1.676,   34.657,2,   34.657,2,  110.100,2, -999.000,4,  158.350,2,   38.080,2, -999.000,3, -999.000
           NA,HOT timeseries 1988to2019 27SEP2021,     93,  99,-999.0,      12,-999.0,19980929,1328,  22.7490, -158.0007,  4722, 2801.300,    1.574,   34.667,2,   34.666,2,  118.600,2,  119.100,2,  158.400,2,   37.560,2,    2.650,2, -999.000
           NA,HOT timeseries 1988to2019 27SEP2021,     93,  99,-999.0,      11,-999.0,19980929,1328,  22.7490, -158.0007,  4722, 3000.000,    1.521,   34.673,2,   34.673,2,  125.900,2,  125.700,2,  157.480,2,   37.050,2,    2.600,2, -999.000
           NA,HOT timeseries 1988to2019 27SEP2021,     93,  99,-999.0,      32,-999.0,19980929,1328,  22.7490, -158.0007,  4722, 3201.000,    1.495,   34.677,2,   34.679,2,  131.100,2,  133.400,2,  156.800,2,   36.670,2,    2.570,2, -999.000
           NA,HOT timeseries 1988to2019 27SEP2021,     93,  99,-999.0,       3,-999.0,19980929,1328,  22.7490, -158.0007,  4722, 3398.600,    1.469,   34.681,2,   34.681,2,  136.800,2,  135.900,2,  155.060,2,   36.240,2,    2.530,2, -999.000
           NA,HOT timeseries 1988to2019 27SEP2021,     93,  99,-999.0,      29,-999.0,19980929,1328,  22.7490, -158.0007,  4722, 3601.200,    1.452,   34.684,2,   34.683,2,  141.000,2,  140.500,2,  153.550,2,   36.010,2,    2.520,2, -999.000
           NA,HOT timeseries 1988to2019 27SEP2021,     93,  99,-999.0,      28,-999.0,19980929,1328,  22.7490, -158.0007,  4722, 3800.800,    1.447,   34.686,2,   34.686,2,  145.600,2,  143.900,2,  151.390,2,   36.000,2,    2.510,2, -999.000
           NA,HOT timeseries 1988to2019 27SEP2021,     93,  99,-999.0,       7,-999.0,19980929,1328,  22.7490, -158.0007,  4722, 4001.700,    1.449,   34.688,2,   34.689,2,  149.000,2,  148.600,2,  150.720,2,   35.950,2,    2.500,2, -999.000
           NA,HOT timeseries 1988to2019 27SEP2021,     93,  99,-999.0,      38,-999.0,19980929,1328,  22.7490, -158.0007,  4722, 4202.900,    1.459,   34.689,2,   34.689,2,  150.700,2,  148.700,2,  149.240,2,   35.770,2,    2.470,2, -999.000
           NA,HOT timeseries 1988to2019 27SEP2021,     93,  99,-999.0,      36,-999.0,19980929,1328,  22.7490, -158.0007,  4722, 4401.600,    1.475,   34.690,2,   34.689,2,  150.300,2,  150.300,2,  148.710,2,   35.780,2,    2.480,2, -999.000
           NA,HOT timeseries 1988to2019 27SEP2021,     93,  99,-999.0,      35,-999.0,19980929,1328,  22.7490, -158.0007,  4722, 4501.700,    1.486,   34.690,2,   34.690,2,  149.800,2,  151.000,2,  149.160,2,   35.580,2,    2.480,2, -999.000
           NA,HOT timeseries 1988to2019 27SEP2021,     93,  99,-999.0,      34,-999.0,19980929,1328,  22.7490, -158.0007,  4722, 4601.700,    1.496,   34.690,2,   34.690,2,  150.300,2,  150.800,2, -999.000,3,   35.620,2,    2.460,2, -999.000
           NA,HOT timeseries 1988to2019 27SEP2021,     93,  99,-999.0,      33,-999.0,19980929,1328,  22.7490, -158.0007,  4722, 4806.000,    1.519,   34.690,2,   34.691,2,  150.600,2,  153.600,2,  148.860,2,   35.310,2,    2.490,2, -999.000