BOTTLE,20214727JOAExport
EXPOCODE,SECT_ID,STNNBR,CASTNO,SAMPNO,BTLNBR,BTLNBR_FLAG_W,DATE,TIME,LATITUDE,LONGITUDE,DEPTH,CTDPRS,CTDTMP,CTDSAL,CTDSAL_FLAG_W,SALNTY,SALNTY_FLAG_W,CTDOXY,CTDOXY_FLAG_W,OXYGEN,OXYGEN_FLAG_W,SILCAT,SILCAT_FLAG_W,NINI,NINI_FLAG_W,PHSPHT,PHSPHT_FLAG_W,REVP
,,,,,,,,,,,,DB,IPTS-68,PSS-78,,PSS-78,,UMOL/KG,,UMOL/KG,,UMOL/KG,,UMOL/KG,,UMOL/KG,,DBAR
           NA,HOT timeseries 1988to2019 27SEP2021,     55,  99,-999.0,      31,-999.0,19941121,0623,  22.7558, -157.9507,  4709,    4.700,   25.121,   34.982,2,   34.980,2,  205.100,2,  207.100,2,    1.550,2,    0.010,2,    0.030,2, -999.000
           NA,HOT timeseries 1988to2019 27SEP2021,     55,  99,-999.0,      31,-999.0,19941121,0623,  22.7558, -157.9507,  4709,    5.900,   25.098,   34.984,2,   34.986,2,  203.300,2,  207.400,2,    1.500,2,    0.000,2,    0.060,2, -999.000
           NA,HOT timeseries 1988to2019 27SEP2021,     55,  99,-999.0,      30,-999.0,19941121,0623,  22.7558, -157.9507,  4709,   49.500,   25.135,   34.981,2,   34.980,2,  205.000,2,  207.000,2,    1.480,2,    0.010,2,    0.020,2, -999.000
           NA,HOT timeseries 1988to2019 27SEP2021,     55,  99,-999.0,      22,-999.0,19941121,0623,  22.7558, -157.9507,  4709,   90.900,   24.175,   35.126,2,   35.119,2,  204.800,2,  213.800,2,    1.590,2,    0.000,2,    0.000,2, -999.000
           NA,HOT timeseries 1988to2019 27SEP2021,     55,  99,-999.0,      21,-999.0,19941121,0623,  22.7558, -157.9507,  4709,  103.800,   22.723,   35.184,2,   35.182,2,  210.600,2,  214.600,2,    1.710,2,    0.010,2,    0.020,2, -999.000
           NA,HOT timeseries 1988to2019 27SEP2021,     55,  99,-999.0,      20,-999.0,19941121,0623,  22.7558, -157.9507,  4709,  109.500,   22.490,   35.197,2,   35.193,2,  210.400,2,  213.800,2,    2.110,2,    0.040,2,    0.010,2, -999.000
           NA,HOT timeseries 1988to2019 27SEP2021,     55,  99,-999.0,      19,-999.0,19941121,0623,  22.7558, -157.9507,  4709,  117.700,   22.236,   35.215,2,   35.214,2,  209.700,2,  213.200,2,    1.930,2,    0.080,2,    0.020,2, -999.000
           NA,HOT timeseries 1988to2019 27SEP2021,     55,  99,-999.0,      30,-999.0,19941121,0623,  22.7558, -157.9507,  4709,  121.600,   22.430,   35.222,2,   35.222,2,  213.000,2,  214.400,2,    1.530,2,    0.000,2,    0.080,2, -999.000
           NA,HOT timeseries 1988to2019 27SEP2021,     55,  99,-999.0,      18,-999.0,19941121,0623,  22.7558, -157.9507,  4709,  136.400,   21.047,   35.220,2,   35.217,2,  204.500,2,  205.700,2,    1.900,2,    0.570,2,    0.050,2, -999.000
           NA,HOT timeseries 1988to2019 27SEP2021,     55,  99,-999.0,      17,-999.0,19941121,0623,  22.7558, -157.9507,  4709,  160.400,   20.227,   35.219,2,   35.215,2,  207.000,2,  208.500,2,    2.130,2,    0.580,2,    0.050,2, -999.000
           NA,HOT timeseries 1988to2019 27SEP2021,     55,  99,-999.0,      16,-999.0,19941121,0623,  22.7558, -157.9507,  4709,  234.900,   16.271,   34.717,2,   34.717,2,  199.500,2,  189.000,2,    5.450,2,    5.690,2,    0.370,2, -999.000
           NA,HOT timeseries 1988to2019 27SEP2021,     55,  99,-999.0,      15,-999.0,19941121,0623,  22.7558, -157.9507,  4709,  316.000,   12.316,   34.269,2,   34.273,2,  193.100,2,  193.900,2,   10.490,2,   10.900,2,    0.720,2, -999.000
           NA,HOT timeseries 1988to2019 27SEP2021,     55,  99,-999.0,      14,-999.0,19941121,0623,  22.7558, -157.9507,  4709,  366.600,   10.329,   34.124,2,   34.124,2,  183.100,2,  183.300,2,   17.730,2,   16.240,2,    1.120,2, -999.000
           NA,HOT timeseries 1988to2019 27SEP2021,     55,  99,-999.0,      13,-999.0,19941121,0623,  22.7558, -157.9507,  4709,  415.000,    8.861,   34.089,2,   34.089,2,  162.500,2,  163.600,2,   26.730,2,   21.130,2,    1.470,2, -999.000
           NA,HOT timeseries 1988to2019 27SEP2021,     55,  99,-999.0,      12,-999.0,19941121,0623,  22.7558, -157.9507,  4709,  482.400,    7.341,   34.080,2,   34.080,2,  113.200,2,  107.600,2,   45.800,2,   29.350,2,    2.080,2, -999.000
           NA,HOT timeseries 1988to2019 27SEP2021,     55,  99,-999.0,      22,-999.0,19941121,0623,  22.7558, -157.9507,  4709,  502.100,    6.984,   34.093,2,   34.092,2,   93.700,2, -999.000,3,   51.850,2,   30.990,2,    2.190,2, -999.000
           NA,HOT timeseries 1988to2019 27SEP2021,     55,  99,-999.0,      11,-999.0,19941121,0623,  22.7558, -157.9507,  4709,  509.600,    6.907,   34.082,2,   34.081,2,   99.700,2,   93.200,2,   52.630,2,   31.570,2,    2.290,2, -999.000
           NA,HOT timeseries 1988to2019 27SEP2021,     55,  99,-999.0,      32,-999.0,19941121,0623,  22.7558, -157.9507,  4709,  528.800,    6.716,   34.100,2,   34.098,2,   84.200,2,   78.800,2,   56.200,2,   33.140,2,    2.430,2, -999.000
           NA,HOT timeseries 1988to2019 27SEP2021,     55,  99,-999.0,       3,-999.0,19941121,0623,  22.7558, -157.9507,  4709,  575.500,    6.271,   34.166,2,   34.165,2,   52.300,2,   49.800,2,   65.630,2,   36.260,2,    2.710,2, -999.000
           NA,HOT timeseries 1988to2019 27SEP2021,     55,  99,-999.0,      29,-999.0,19941121,0623,  22.7558, -157.9507,  4709,  623.000,    5.858,   34.232,2,   34.232,2,   40.500,2,   35.700,2,   74.230,2,   38.230,2,    2.860,2, -999.000
           NA,HOT timeseries 1988to2019 27SEP2021,     55,  99,-999.0,      28,-999.0,19941121,0623,  22.7558, -157.9507,  4709,  680.400,    5.408,   34.301,2,   34.298,2,   38.000,2,   31.900,2,   83.730,2,   39.820,2,    2.950,2, -999.000
           NA,HOT timeseries 1988to2019 27SEP2021,     55,  99,-999.0,       7,-999.0,19941121,0623,  22.7558, -157.9507,  4709,  691.200,    5.351,   34.308,2,   34.306,2,   36.900,2,   32.600,2,   84.240,2,   39.870,2,    2.980,2, -999.000
           NA,HOT timeseries 1988to2019 27SEP2021,     55,  99,-999.0,      23,-999.0,19941121,0623,  22.7558, -157.9507,  4709,  708.700,    5.260,   34.319,2,   34.320,2,   35.800,2,   29.800,2,   86.680,2,   40.190,2,    3.000,2, -999.000
           NA,HOT timeseries 1988to2019 27SEP2021,     55,  99,-999.0,      36,-999.0,19941121,0623,  22.7558, -157.9507,  4709,  761.900,    4.983,   34.360,2,   34.359,2,   33.800,2,   29.700,2,   91.790,2,   40.970,2,    3.030,2, -999.000
           NA,HOT timeseries 1988to2019 27SEP2021,     55,  99,-999.0,      34,-999.0,19941121,0623,  22.7558, -157.9507,  4709,  909.600,    4.484,   34.481,2,   34.481,2,   35.600,2,   32.000,2,  101.480,2,   42.070,2,    3.110,2, -999.000
           NA,HOT timeseries 1988to2019 27SEP2021,     55,  99,-999.0,      21,-999.0,19941121,0623,  22.7558, -157.9507,  4709, 1002.400,    4.230,   34.486,2,   34.483,2,   37.600,2,   38.800,2,  106.190,2,   41.700,2, -999.000,3, -999.000
           NA,HOT timeseries 1988to2019 27SEP2021,     55,  99,-999.0,      33,-999.0,19941121,0623,  22.7558, -157.9507,  4709, 1019.200,    4.134,   34.492,2,   34.493,2,   44.300,2,   42.200,2,  108.770,2,   41.910,2,    3.080,2, -999.000
           NA,HOT timeseries 1988to2019 27SEP2021,     55,  99,-999.0,      20,-999.0,19941121,0623,  22.7558, -157.9507,  4709, 1399.600,    3.093,   34.549,2,   34.548,2,   61.600,2,   61.100,2,  129.840,2,   41.120,2,    2.980,2, -999.000
           NA,HOT timeseries 1988to2019 27SEP2021,     55,  99,-999.0,      19,-999.0,19941121,0623,  22.7558, -157.9507,  4709, 1599.900,    2.716,   34.582,2,   34.582,2,   70.700,2,   69.900,2,  138.490,2,   40.820,2,    2.960,2, -999.000
           NA,HOT timeseries 1988to2019 27SEP2021,     55,  99,-999.0,      18,-999.0,19941121,0623,  22.7558, -157.9507,  4709, 1799.800,    2.355,   34.599,2,   34.599,2,   79.100,2,   78.800,2,  147.330,2,   40.330,2,    2.910,2, -999.000
           NA,HOT timeseries 1988to2019 27SEP2021,     55,  99,-999.0,      17,-999.0,19941121,0623,  22.7558, -157.9507,  4709, 1999.800,    2.142,   34.616,2,   34.617,2,   85.700,2,   87.100,2,  152.740,2,   39.850,2,    2.870,2, -999.000
           NA,HOT timeseries 1988to2019 27SEP2021,     55,  99,-999.0,      16,-999.0,19941121,0623,  22.7558, -157.9507,  4709, 2198.000,    1.965,   34.629,2,   34.632,2,   93.500,2,   94.500,2,  156.700,2,   39.510,2,    2.830,2, -999.000
           NA,HOT timeseries 1988to2019 27SEP2021,     55,  99,-999.0,      15,-999.0,19941121,0623,  22.7558, -157.9507,  4709, 2402.100,    1.811,   34.643,2,   34.643,2,  102.500,2,  104.300,2,  158.560,2,   38.820,2,    2.770,2, -999.000
           NA,HOT timeseries 1988to2019 27SEP2021,     55,  99,-999.0,      14,-999.0,19941121,0623,  22.7558, -157.9507,  4709, 2600.000,    1.701,   34.653,2,   34.653,2,  110.200,2,  111.600,2,  159.560,2,   38.380,2,    2.740,2, -999.000
           NA,HOT timeseries 1988to2019 27SEP2021,     55,  99,-999.0,      13,-999.0,19941121,0623,  22.7558, -157.9507,  4709, 2800.100,    1.627,   34.660,2,   34.661,2,  115.200,2,  118.900,2,  159.630,2,   38.200,2,    2.700,2, -999.000
           NA,HOT timeseries 1988to2019 27SEP2021,     55,  99,-999.0,      12,-999.0,19941121,0623,  22.7558, -157.9507,  4709, 2999.100,    1.571,   34.666,2,   34.667,2,  118.900,2,  123.400,2,  159.530,2,   37.480,2,    2.660,2, -999.000
           NA,HOT timeseries 1988to2019 27SEP2021,     55,  99,-999.0,      11,-999.0,19941121,0623,  22.7558, -157.9507,  4709, 3199.300,    1.525,   34.672,2,   34.672,2,  124.700,2,  129.600,2,  159.970,2,   37.300,2,    2.650,2, -999.000
           NA,HOT timeseries 1988to2019 27SEP2021,     55,  99,-999.0,      32,-999.0,19941121,0623,  22.7558, -157.9507,  4709, 3399.700,    1.496,   34.676,2, -999.000,3, -999.000,3,  131.900,2,  158.430,2,   36.790,2,    2.620,2, -999.000
           NA,HOT timeseries 1988to2019 27SEP2021,     55,  99,-999.0,       3,-999.0,19941121,0623,  22.7558, -157.9507,  4709, 3600.400,    1.473,   34.680,2,   34.679,2,  136.600,2,  139.700,2,  157.210,2,   36.580,2,    2.580,2, -999.000
           NA,HOT timeseries 1988to2019 27SEP2021,     55,  99,-999.0,      29,-999.0,19941121,0623,  22.7558, -157.9507,  4709, 3799.300,    1.460,   34.682,2,   34.680,2,  141.400,2,  142.700,2,  155.340,2,   36.320,2,    2.570,2, -999.000
           NA,HOT timeseries 1988to2019 27SEP2021,     55,  99,-999.0,      28,-999.0,19941121,0623,  22.7558, -157.9507,  4709, 3990.400,    1.461,   34.684,2,   34.684,2,  145.400,2,  146.800,2,  154.300,2,   36.230,2,    2.540,2, -999.000
           NA,HOT timeseries 1988to2019 27SEP2021,     55,  99,-999.0,       7,-999.0,19941121,0623,  22.7558, -157.9507,  4709, 4199.400,    1.465,   34.686,2,   34.689,2,  151.000,2,  149.200,2,  152.640,2,   36.000,2,    2.530,2, -999.000
           NA,HOT timeseries 1988to2019 27SEP2021,     55,  99,-999.0,      36,-999.0,19941121,0623,  22.7558, -157.9507,  4709, 4398.700,    1.477,   34.687,2,   34.690,2,  153.900,2,  151.500,2,  150.180,2,   35.760,2,    2.510,2, -999.000
           NA,HOT timeseries 1988to2019 27SEP2021,     55,  99,-999.0,      35,-999.0,19941121,0623,  22.7558, -157.9507,  4709, 4495.800,    1.486,   34.688,2,   34.686,2,  156.300,2,  151.000,2,  150.480,2,   35.620,2,    2.490,2, -999.000
           NA,HOT timeseries 1988to2019 27SEP2021,     55,  99,-999.0,      34,-999.0,19941121,0623,  22.7558, -157.9507,  4709, 4599.600,    1.494,   34.688,2,   34.686,2,  156.800,2,  151.800,2,  150.070,2,   35.570,2,    2.490,2, -999.000
           NA,HOT timeseries 1988to2019 27SEP2021,     55,  99,-999.0,      33,-999.0,19941121,0623,  22.7558, -157.9507,  4709, 4799.700,    1.510,   34.688,2,   34.688,2,  159.900,2,  152.900,2,  149.280,2,   35.510,2,    2.470,2, -999.000