BOTTLE,20214727JOAExport
EXPOCODE,SECT_ID,STNNBR,CASTNO,SAMPNO,BTLNBR,BTLNBR_FLAG_W,DATE,TIME,LATITUDE,LONGITUDE,DEPTH,CTDPRS,CTDTMP,CTDSAL,CTDSAL_FLAG_W,SALNTY,SALNTY_FLAG_W,CTDOXY,CTDOXY_FLAG_W,OXYGEN,OXYGEN_FLAG_W,SILCAT,SILCAT_FLAG_W,NINI,NINI_FLAG_W,PHSPHT,PHSPHT_FLAG_W,REVP
,,,,,,,,,,,,DB,IPTS-68,PSS-78,,PSS-78,,UMOL/KG,,UMOL/KG,,UMOL/KG,,UMOL/KG,,UMOL/KG,,DBAR
           NA,HOT timeseries 1988to2019 27SEP2021,     62,  99,-999.0,      31,-999.0,19950927,0259,  22.7920, -157.9812,  4699,    4.800,   26.983,   34.887,2,   34.887,2,  203.700,2,  201.400,2,    1.580,2,    0.010,2,    0.060,2, -999.000
           NA,HOT timeseries 1988to2019 27SEP2021,     62,  99,-999.0,      30,-999.0,19950927,0259,  22.7920, -157.9812,  4699,   14.700,   26.986,   34.887,2,   34.888,2,  203.700,2,  201.300,2,    1.560,2,    0.010,2,    0.070,2, -999.000
           NA,HOT timeseries 1988to2019 27SEP2021,     62,  99,-999.0,      22,-999.0,19950927,0259,  22.7920, -157.9812,  4699,   24.500,   26.957,   34.887,2,   34.887,2,  203.800,2,  201.500,2,    1.560,2,    0.010,2,    0.070,2, -999.000
           NA,HOT timeseries 1988to2019 27SEP2021,     62,  99,-999.0,      30,-999.0,19950927,0259,  22.7920, -157.9812,  4699,   27.400,   25.751,   34.928,2,   34.941,2,  211.900,2,  212.800,2,    1.670,2,    0.020,2,    0.060,2, -999.000
           NA,HOT timeseries 1988to2019 27SEP2021,     62,  99,-999.0,      22,-999.0,19950927,0259,  22.7920, -157.9812,  4699,   42.500,   23.767,   35.036,2,   35.039,2,  222.200,2,  225.400,2,    2.230,2,    0.030,2,    0.060,2, -999.000
           NA,HOT timeseries 1988to2019 27SEP2021,     62,  99,-999.0,      21,-999.0,19950927,0259,  22.7920, -157.9812,  4699,   49.000,   23.258,   35.123,2,   35.120,2,  224.000,2,  227.700,2,    2.070,2,    0.020,2,    0.040,2, -999.000
           NA,HOT timeseries 1988to2019 27SEP2021,     62,  99,-999.0,      20,-999.0,19950927,0259,  22.7920, -157.9812,  4699,   70.200,   21.738,   35.137,2,   35.137,2,  219.100,2,  220.900,2,    2.220,2,    0.020,2,    0.060,2, -999.000
           NA,HOT timeseries 1988to2019 27SEP2021,     62,  99,-999.0,      19,-999.0,19950927,0259,  22.7920, -157.9812,  4699,   87.600,   20.702,   35.166,2,   35.166,2,  218.000,2,  216.800,2,    2.340,2,    0.020,2,    0.070,2, -999.000
           NA,HOT timeseries 1988to2019 27SEP2021,     62,  99,-999.0,      19,-999.0,19950927,0259,  22.7920, -157.9812,  4699,   99.500,   21.528,   35.135,2,   35.138,2,  219.500,2,  219.900,2,    2.290,2,    0.000,2,    0.060,2, -999.000
           NA,HOT timeseries 1988to2019 27SEP2021,     62,  99,-999.0,      18,-999.0,19950927,0259,  22.7920, -157.9812,  4699,  110.500,   19.473,   35.072,2,   35.072,2,  204.100,2,  201.600,2,    2.930,2,    1.370,2,    0.180,2, -999.000
           NA,HOT timeseries 1988to2019 27SEP2021,     62,  99,-999.0,      30,-999.0,19950927,0259,  22.7920, -157.9812,  4699,  119.900,   19.707,   35.095,2,   35.102,2,  204.100,2,  206.800,2,    2.730,2,    0.760,2,    0.170,2, -999.000
           NA,HOT timeseries 1988to2019 27SEP2021,     62,  99,-999.0,      18,-999.0,19950927,0259,  22.7920, -157.9812,  4699,  124.800,   20.277,   35.149,2,   35.149,2,  214.400,2,  213.600,2,    2.510,2,    0.100,2,    0.080,2, -999.000
           NA,HOT timeseries 1988to2019 27SEP2021,     62,  99,-999.0,      17,-999.0,19950927,0259,  22.7920, -157.9812,  4699,  173.600,   18.716,   35.002,2,   35.004,2,  207.900,2,  206.000,2,    3.480,2,    1.480,2,    0.170,2, -999.000
           NA,HOT timeseries 1988to2019 27SEP2021,     62,  99,-999.0,      16,-999.0,19950927,0259,  22.7920, -157.9812,  4699,  199.900,   18.059,   34.960,2,   34.958,2,  210.600,2,  207.400,2,    3.830,2,    1.820,2,    0.190,2, -999.000
           NA,HOT timeseries 1988to2019 27SEP2021,     62,  99,-999.0,      15,-999.0,19950927,0259,  22.7920, -157.9812,  4699,  210.300,   17.414,   34.863,2,   34.868,2,  206.900,2,  206.300,2,    4.290,2,    2.370,2,    0.220,2, -999.000
           NA,HOT timeseries 1988to2019 27SEP2021,     62,  99,-999.0,      14,-999.0,19950927,0259,  22.7920, -157.9812,  4699,  224.400,   16.595,   34.747,2,   34.743,2,  199.500,2,  201.800,2,    5.040,2,    3.700,2,    0.320,2, -999.000
           NA,HOT timeseries 1988to2019 27SEP2021,     62,  99,-999.0,      13,-999.0,19950927,0259,  22.7920, -157.9812,  4699,  233.400,   15.907,   34.663,2,   34.661,2,  198.600,2,  199.800,2,    5.830,2,    4.830,2,    0.390,2, -999.000
           NA,HOT timeseries 1988to2019 27SEP2021,     62,  99,-999.0,      12,-999.0,19950927,0259,  22.7920, -157.9812,  4699,  248.700,   14.910,   34.542,2,   34.556,2,  194.600,2,  197.200,2,    6.690,2,    6.060,2,    0.480,2, -999.000
           NA,HOT timeseries 1988to2019 27SEP2021,     62,  99,-999.0,      16,-999.0,19950927,0259,  22.7920, -157.9812,  4699,  249.000,   14.265,   34.474,2,   34.463,2,  198.400,2,  197.400,2,    7.460,2,    7.340,2,    0.570,2, -999.000
           NA,HOT timeseries 1988to2019 27SEP2021,     62,  99,-999.0,      11,-999.0,19950927,0259,  22.7920, -157.9812,  4699,  272.500,   13.761,   34.418,2,   34.417,2,  195.500,2,  197.700,2,    8.360,2,    8.030,2,    0.620,2, -999.000
           NA,HOT timeseries 1988to2019 27SEP2021,     62,  99,-999.0,      15,-999.0,19950927,0259,  22.7920, -157.9812,  4699,  290.200,   12.578,   34.306,2,   34.303,2,  196.200,2,  198.800,2,   10.240,2,   10.120,2,    0.740,2, -999.000
           NA,HOT timeseries 1988to2019 27SEP2021,     62,  99,-999.0,      32,-999.0,19950927,0259,  22.7920, -157.9812,  4699,  299.600,   12.505,   34.306,2,   34.301,2,  196.300,2,  200.300,2,   10.810,2,   10.200,2,    0.750,2, -999.000
           NA,HOT timeseries 1988to2019 27SEP2021,     62,  99,-999.0,       3,-999.0,19950927,0259,  22.7920, -157.9812,  4699,  324.000,   11.771,   34.246,2,   34.245,2,  198.500,2,  200.900,2,   12.520,2,   11.510,2,    0.850,2, -999.000
           NA,HOT timeseries 1988to2019 27SEP2021,     62,  99,-999.0,      14,-999.0,19950927,0259,  22.7920, -157.9812,  4699,  348.600,   10.758,   34.176,2,   34.186,2,  193.300,2,  198.200,2,   15.250,2,   13.610,2,    0.990,2, -999.000
           NA,HOT timeseries 1988to2019 27SEP2021,     62,  99,-999.0,      29,-999.0,19950927,0259,  22.7920, -157.9812,  4699,  349.100,   10.800,   34.176,2,   34.174,2,  194.100,2,  198.600,2,   15.660,2,   13.780,2,    1.000,2, -999.000
           NA,HOT timeseries 1988to2019 27SEP2021,     62,  99,-999.0,      13,-999.0,19950927,0259,  22.7920, -157.9812,  4699,  396.200,    9.090,   34.096,2,   34.093,2,  177.400,2,  178.000,2,   25.910,2,   19.330,2,    1.390,2, -999.000
           NA,HOT timeseries 1988to2019 27SEP2021,     62,  99,-999.0,      12,-999.0,19950927,0259,  22.7920, -157.9812,  4699,  471.100,    7.406,   34.042,2,   34.041,2,  141.200,2,  141.300,2,   41.770,2,   25.980,2,    1.870,2, -999.000
           NA,HOT timeseries 1988to2019 27SEP2021,     62,  99,-999.0,      11,-999.0,19950927,0259,  22.7920, -157.9812,  4699,  475.200,    7.261,   34.039,2,   34.041,2,  137.300,2,  134.900,2,   43.520,2,   26.870,2,    1.950,2, -999.000
           NA,HOT timeseries 1988to2019 27SEP2021,     62,  99,-999.0,      22,-999.0,19950927,0259,  22.7920, -157.9812,  4699,  499.500,    7.030,   34.045,2,   34.045,2,  119.400,2,  121.200,2,   46.500,2,   28.220,2,    2.030,2, -999.000
           NA,HOT timeseries 1988to2019 27SEP2021,     62,  99,-999.0,       7,-999.0,19950927,0259,  22.7920, -157.9812,  4699,  501.500,    7.329,   34.047,2,   34.049,2,  133.800,2,  132.400,2,   43.200,2,   26.390,2,    1.940,2, -999.000
           NA,HOT timeseries 1988to2019 27SEP2021,     62,  99,-999.0,      32,-999.0,19950927,0259,  22.7920, -157.9812,  4699,  503.800,    6.831,   34.078,2,   34.077,2,   98.500,2,   98.500,2,   52.720,2,   30.440,2,    2.260,2, -999.000
           NA,HOT timeseries 1988to2019 27SEP2021,     62,  99,-999.0,       3,-999.0,19950927,0259,  22.7920, -157.9812,  4699,  545.500,    6.226,   34.124,2,   34.122,2,   67.900,2,   64.000,2,   64.110,2,   34.260,2,    2.580,2, -999.000
           NA,HOT timeseries 1988to2019 27SEP2021,     62,  99,-999.0,      29,-999.0,19950927,0259,  22.7920, -157.9812,  4699,  588.800,    5.570,   34.126,2,   34.125,2,   54.300,2,   49.900,2,   74.570,2,   36.860,2,    2.770,2, -999.000
           NA,HOT timeseries 1988to2019 27SEP2021,     62,  99,-999.0,      28,-999.0,19950927,0259,  22.7920, -157.9812,  4699,  646.100,    5.157,   34.218,2,   34.212,2,   33.400,2,   28.900,2,   87.030,2,   39.570,2,    2.960,2, -999.000
           NA,HOT timeseries 1988to2019 27SEP2021,     62,  99,-999.0,      36,-999.0,19950927,0259,  22.7920, -157.9812,  4699,  699.600,    5.135,   34.260,2,   34.257,2,   28.600,2,   27.900,2,   87.320,2,   39.120,2,    2.960,2, -999.000
           NA,HOT timeseries 1988to2019 27SEP2021,     62,  99,-999.0,       7,-999.0,19950927,0259,  22.7920, -157.9812,  4699,  714.500,    4.967,   34.338,2,   34.338,2,   32.100,2,   29.000,2,   91.020,2,   39.990,2,    2.990,2, -999.000
           NA,HOT timeseries 1988to2019 27SEP2021,     62,  99,-999.0,      35,-999.0,19950927,0259,  22.7920, -157.9812,  4699,  800.500,    4.739,   34.406,2,   34.402,2,   30.800,2,   30.300,2,   95.990,2,   40.190,2,    3.030,2, -999.000
           NA,HOT timeseries 1988to2019 27SEP2021,     62,  99,-999.0,      23,-999.0,19950927,0259,  22.7920, -157.9812,  4699,  808.300,    4.623,   34.419,2, -999.000,3, -999.000,3,   31.400,2,   96.540,2,   40.430,2,    3.010,2, -999.000
           NA,HOT timeseries 1988to2019 27SEP2021,     62,  99,-999.0,      36,-999.0,19950927,0259,  22.7920, -157.9812,  4699,  813.400,    4.554,   34.413,2,   34.410,2,   33.300,2,   31.800,2,   99.630,2,   40.770,2,    3.020,2, -999.000
           NA,HOT timeseries 1988to2019 27SEP2021,     62,  99,-999.0,      21,-999.0,19950927,0259,  22.7920, -157.9812,  4699,  830.100,    4.569,   34.397,2,   34.396,2,   31.000,2,   31.000,2,   98.080,2,   40.480,2,    2.970,2, -999.000
           NA,HOT timeseries 1988to2019 27SEP2021,     62,  99,-999.0,      35,-999.0,19950927,0259,  22.7920, -157.9812,  4699,  899.700,    4.362,   34.456,2,   34.455,2,   36.400,2,   36.200,2, -999.000,5, -999.000,5, -999.000,5, -999.000
           NA,HOT timeseries 1988to2019 27SEP2021,     62,  99,-999.0,      34,-999.0,19950927,0259,  22.7920, -157.9812,  4699,  900.400,    4.355,   34.465,2,   34.463,2,   35.800,2,   39.100,2,  103.520,2,   40.530,2,    3.020,2, -999.000
           NA,HOT timeseries 1988to2019 27SEP2021,     62,  99,-999.0,      34,-999.0,19950927,0259,  22.7920, -157.9812,  4699,  982.100,    4.092,   34.481,2,   34.480,2,   40.200,2,   42.400,2,  108.480,2,   40.740,2,    3.020,2, -999.000
           NA,HOT timeseries 1988to2019 27SEP2021,     62,  99,-999.0,      33,-999.0,19950927,0259,  22.7920, -157.9812,  4699, 1019.600,    4.021,   34.500,2,   34.499,2,   41.500,2,   42.600,2,  109.390,2,   40.930,2,    3.010,2, -999.000
           NA,HOT timeseries 1988to2019 27SEP2021,     62,  99,-999.0,      20,-999.0,19950927,0259,  22.7920, -157.9812,  4699, 1399.100,    3.015,   34.564,2,   34.564,2,   59.500,2,   63.400,2,  131.330,2,   40.600,2,    2.940,2, -999.000
           NA,HOT timeseries 1988to2019 27SEP2021,     62,  99,-999.0,      19,-999.0,19950927,0259,  22.7920, -157.9812,  4699, 1600.000,    2.610,   34.588,2,   34.588,2,   71.400,2,   72.000,2, -999.000,4,   39.880,2,    2.880,2, -999.000
           NA,HOT timeseries 1988to2019 27SEP2021,     62,  99,-999.0,      18,-999.0,19950927,0259,  22.7920, -157.9812,  4699, 1799.600,    2.352,   34.606,2,   34.606,2,   80.500,2,   81.000,2,  146.070,2,   39.400,2,    2.850,2, -999.000
           NA,HOT timeseries 1988to2019 27SEP2021,     62,  99,-999.0,      17,-999.0,19950927,0259,  22.7920, -157.9812,  4699, 2000.300,    2.116,   34.622,2,   34.621,2,   89.300,2,   89.100,2,  150.960,2,   39.030,2,    2.820,2, -999.000
           NA,HOT timeseries 1988to2019 27SEP2021,     62,  99,-999.0,      16,-999.0,19950927,0259,  22.7920, -157.9812,  4699, 2199.300,    1.943,   34.634,2,   34.632,2,   96.500,2,   96.100,2,  155.560,2,   38.610,2,    2.790,2, -999.000
           NA,HOT timeseries 1988to2019 27SEP2021,     62,  99,-999.0,      15,-999.0,19950927,0259,  22.7920, -157.9812,  4699, 2398.600,    1.801,   34.646,2,   34.646,2,  105.900,2,  104.700,2,  157.810,2,   38.040,2,    2.740,2, -999.000
           NA,HOT timeseries 1988to2019 27SEP2021,     62,  99,-999.0,      14,-999.0,19950927,0259,  22.7920, -157.9812,  4699, 2600.400,    1.687,   34.657,2,   34.657,2,  112.200,2,  113.000,2,  158.930,2,   37.520,2,    2.690,2, -999.000
           NA,HOT timeseries 1988to2019 27SEP2021,     62,  99,-999.0,      13,-999.0,19950927,0259,  22.7920, -157.9812,  4699, 2800.400,    1.605,   34.665,2,   34.664,2,  119.600,2,  119.100,2,  158.680,2,   37.320,2,    2.660,2, -999.000
           NA,HOT timeseries 1988to2019 27SEP2021,     62,  99,-999.0,      12,-999.0,19950927,0259,  22.7920, -157.9812,  4699, 2999.700,    1.556,   34.671,2,   34.669,2,  124.600,2,  124.900,2,  158.540,2,   36.670,2,    2.630,2, -999.000
           NA,HOT timeseries 1988to2019 27SEP2021,     62,  99,-999.0,      11,-999.0,19950927,0259,  22.7920, -157.9812,  4699, 3199.000,    1.510,   34.676,2,   34.676,2,  130.100,2,  130.500,2,  157.690,2,   36.590,2,    2.610,2, -999.000
           NA,HOT timeseries 1988to2019 27SEP2021,     62,  99,-999.0,      32,-999.0,19950927,0259,  22.7920, -157.9812,  4699, 3398.700,    1.488,   34.680,2,   34.679,2,  134.300,2,  135.300,2,  156.450,2,   35.950,2,    2.580,2, -999.000
           NA,HOT timeseries 1988to2019 27SEP2021,     62,  99,-999.0,       3,-999.0,19950927,0259,  22.7920, -157.9812,  4699, 3598.700,    1.458,   34.684,2,   34.682,2,  141.000,2,  141.100,2,  154.670,2,   35.580,2,    2.540,2, -999.000
           NA,HOT timeseries 1988to2019 27SEP2021,     62,  99,-999.0,      29,-999.0,19950927,0259,  22.7920, -157.9812,  4699, 3801.400,    1.450,   34.687,2,   34.685,2,  144.900,2,  144.900,2,  152.960,2,   35.550,2,    2.530,2, -999.000
           NA,HOT timeseries 1988to2019 27SEP2021,     62,  99,-999.0,      28,-999.0,19950927,0259,  22.7920, -157.9812,  4699, 3999.100,    1.450,   34.688,2,   34.687,2,  148.300,2,  147.600,2,  152.080,2,   35.160,2,    2.510,2, -999.000
           NA,HOT timeseries 1988to2019 27SEP2021,     62,  99,-999.0,       7,-999.0,19950927,0259,  22.7920, -157.9812,  4699, 4199.200,    1.461,   34.690,2,   34.690,2,  149.800,2,  149.800,2,  150.750,2,   35.040,2,    2.490,2, -999.000
           NA,HOT timeseries 1988to2019 27SEP2021,     62,  99,-999.0,      23,-999.0,19950927,0259,  22.7920, -157.9812,  4699, 4399.600,    1.477,   34.690,2,   34.689,2,  150.800,2,  150.400,2,  150.200,2,   35.040,2,    2.490,2, -999.000
           NA,HOT timeseries 1988to2019 27SEP2021,     62,  99,-999.0,      36,-999.0,19950927,0259,  22.7920, -157.9812,  4699, 4498.400,    1.488,   34.690,2,   34.691,2,  151.000,2,  150.900,2,  150.510,2,   35.120,2,    2.490,2, -999.000
           NA,HOT timeseries 1988to2019 27SEP2021,     62,  99,-999.0,      35,-999.0,19950927,0259,  22.7920, -157.9812,  4699, 4599.400,    1.499,   34.690,2,   34.690,2,  151.600,2,  150.800,2,  149.880,2,   35.050,2,    2.490,2, -999.000
           NA,HOT timeseries 1988to2019 27SEP2021,     62,  99,-999.0,      34,-999.0,19950927,0259,  22.7920, -157.9812,  4699, 4700.000,    1.509,   34.691,2,   34.690,2,  151.200,2,  151.400,2,  149.910,2,   35.210,2,    2.490,2, -999.000
           NA,HOT timeseries 1988to2019 27SEP2021,     62,  99,-999.0,      33,-999.0,19950927,0259,  22.7920, -157.9812,  4699, 4808.400,    1.508,   34.692,2,   34.691,2,  152.500,2,  153.400,2,  148.620,2,   35.070,2,    2.460,2, -999.000