BOTTLE,20214727JOAExport
EXPOCODE,SECT_ID,STNNBR,CASTNO,SAMPNO,BTLNBR,BTLNBR_FLAG_W,DATE,TIME,LATITUDE,LONGITUDE,DEPTH,CTDPRS,CTDTMP,CTDSAL,CTDSAL_FLAG_W,SALNTY,SALNTY_FLAG_W,CTDOXY,CTDOXY_FLAG_W,OXYGEN,OXYGEN_FLAG_W,SILCAT,SILCAT_FLAG_W,NINI,NINI_FLAG_W,PHSPHT,PHSPHT_FLAG_W,REVP
,,,,,,,,,,,,DB,IPTS-68,PSS-78,,PSS-78,,UMOL/KG,,UMOL/KG,,UMOL/KG,,UMOL/KG,,UMOL/KG,,DBAR
           NA,HOT timeseries 1988to2019 27SEP2021,    153,  99,-999.0,      31,-999.0,20040319,1800,  22.7498, -157.9995,  4747,    4.500,   23.090,   35.142,2,   35.143,2,  213.700,2,  212.600,2,    1.040,2,    0.080,2,    0.010,2, -999.000
           NA,HOT timeseries 1988to2019 27SEP2021,    153,  99,-999.0,      31,-999.0,20040319,1800,  22.7498, -157.9995,  4747,    8.400,   23.223,   35.127,2,   35.132,2,  210.900,2,  213.100,2,    1.090,2,    0.100,2,    0.010,2, -999.000
           NA,HOT timeseries 1988to2019 27SEP2021,    153,  99,-999.0,      30,-999.0,20040319,1800,  22.7498, -157.9995,  4747,   64.100,   22.990,   35.156,2,   35.155,2,  213.800,2,  213.000,2,    1.060,2,    0.040,2,    0.080,2, -999.000
           NA,HOT timeseries 1988to2019 27SEP2021,    153,  99,-999.0,      22,-999.0,20040319,1800,  22.7498, -157.9995,  4747,  124.700,   21.369,   35.247,2,   35.252,2,  200.200,2,  200.700,2,    1.670,2,    0.750,2,    0.040,2, -999.000
           NA,HOT timeseries 1988to2019 27SEP2021,    153,  99,-999.0,      21,-999.0,20040319,1800,  22.7498, -157.9995,  4747,  167.700,   18.879,   34.993,2,   35.003,2,  194.200,2,  195.100,2,    2.670,2,    2.420,2, -999.000,3, -999.000
           NA,HOT timeseries 1988to2019 27SEP2021,    153,  99,-999.0,      20,-999.0,20040319,1800,  22.7498, -157.9995,  4747,  232.900,   15.890,   34.583,2, -999.000,3, -999.000,3,  204.700,2, -999.000,3,    4.260,2,    0.410,2, -999.000
           NA,HOT timeseries 1988to2019 27SEP2021,    153,  99,-999.0,      19,-999.0,20040319,1800,  22.7498, -157.9995,  4747,  280.900,   13.151,   34.307,2, -999.000,4, -999.000,3,  199.200,2,    7.820,2,    8.850,2,    0.720,2, -999.000
           NA,HOT timeseries 1988to2019 27SEP2021,    153,  99,-999.0,      18,-999.0,20040319,1800,  22.7498, -157.9995,  4747,  324.900,   11.554,   34.219,2,   34.228,2,  198.100,2,  197.600,2,   12.460,2,   12.730,2,    0.990,2, -999.000
           NA,HOT timeseries 1988to2019 27SEP2021,    153,  99,-999.0,      17,-999.0,20040319,1800,  22.7498, -157.9995,  4747,  358.800,   10.557,   34.176,2,   34.177,2,  193.100,2,  191.500,2,   17.100,2,   15.510,2,    1.170,2, -999.000
           NA,HOT timeseries 1988to2019 27SEP2021,    153,  99,-999.0,      16,-999.0,20040319,1800,  22.7498, -157.9995,  4747,  426.200,    8.936,   34.108,2,   34.109,2,  162.900,2,  161.900,2,   27.850,2,   21.530,2,    1.600,2, -999.000
           NA,HOT timeseries 1988to2019 27SEP2021,    153,  99,-999.0,     102,-999.0,20040319,1800,  22.7498, -157.9995,  4747,  461.700,    8.155,   34.082,2,   34.084,2,  144.400,2,  143.800,2,   35.180,2,   24.740,2,    1.840,2, -999.000
           NA,HOT timeseries 1988to2019 27SEP2021,    153,  99,-999.0,     101,-999.0,20040319,1800,  22.7498, -157.9995,  4747,  492.900,    7.409,   34.077,2,   34.077,2,  118.700,2,  119.400,2,   43.730,2,   28.170,2,    2.100,2, -999.000
           NA,HOT timeseries 1988to2019 27SEP2021,    153,  99,-999.0,      42,-999.0,20040319,1800,  22.7498, -157.9995,  4747,  536.600,    6.682,   34.089,2,   34.091,2,   94.600,2,   92.000,2,   54.720,2,   31.970,2,    2.370,2, -999.000
           NA,HOT timeseries 1988to2019 27SEP2021,    153,  99,-999.0,      12,-999.0,20040319,1800,  22.7498, -157.9995,  4747,  574.100,    5.983,   34.130,2,   34.133,2,   70.200,2,   64.900,2,   66.690,2,   35.510,2,    2.660,2, -999.000
           NA,HOT timeseries 1988to2019 27SEP2021,    153,  99,-999.0,      39,-999.0,20040319,1800,  22.7498, -157.9995,  4747,  619.300,    5.640,   34.169,2,   34.168,2,   53.200,2,   51.700,2,   72.910,2,   37.300,2,    2.780,2, -999.000
           NA,HOT timeseries 1988to2019 27SEP2021,    153,  99,-999.0,      32,-999.0,20040319,1800,  22.7498, -157.9995,  4747,  654.900,    5.322,   34.211,2,   34.210,2,   43.100,2,   42.700,2,   79.130,2,   38.610,2,    2.890,2, -999.000
           NA,HOT timeseries 1988to2019 27SEP2021,    153,  99,-999.0,       3,-999.0,20040319,1800,  22.7498, -157.9995,  4747,  691.200,    5.177,   34.246,2,   34.245,2,   38.200,2,   36.900,2,   83.040,2,   39.370,2,    2.940,2, -999.000
           NA,HOT timeseries 1988to2019 27SEP2021,    153,  99,-999.0,      29,-999.0,20040319,1800,  22.7498, -157.9995,  4747,  757.800,    4.731,   34.308,2,   34.314,2,   32.000,2,   30.900,2,   93.770,2,   40.740,2,    3.040,2, -999.000
           NA,HOT timeseries 1988to2019 27SEP2021,    153,  99,-999.0,      28,-999.0,20040319,1800,  22.7498, -157.9995,  4747,  797.500,    4.562,   34.355,2,   34.356,2,   31.800,2,   30.900,2,   97.440,2,   41.120,2,    3.060,2, -999.000
           NA,HOT timeseries 1988to2019 27SEP2021,    153,  99,-999.0,      38,-999.0,20040319,1800,  22.7498, -157.9995,  4747,  880.600,    4.304,   34.400,2,   34.400,2,   33.600,2,   34.200,2,  103.050,2,   41.420,2,    3.060,2, -999.000
           NA,HOT timeseries 1988to2019 27SEP2021,    153,  99,-999.0,      35,-999.0,20040319,1800,  22.7498, -157.9995,  4747,  959.500,    4.175,   34.451,2,   34.451,2,   39.600,2,   39.600,2,  105.000,2,   41.180,2,    3.050,2, -999.000
           NA,HOT timeseries 1988to2019 27SEP2021,    153,  99,-999.0,      34,-999.0,20040319,1800,  22.7498, -157.9995,  4747,  999.100,    3.976,   34.466,2,   34.465,2,   42.000,2,   42.300,2, -999.000,4,   41.260,2,    3.020,2, -999.000
           NA,HOT timeseries 1988to2019 27SEP2021,    153,  99,-999.0,      33,-999.0,20040319,1800,  22.7498, -157.9995,  4747, 1020.800,    3.965,   34.477,2,   34.477,2,   43.600,2,   43.800,2, -999.000,4,   41.180,2,    3.010,2, -999.000
           NA,HOT timeseries 1988to2019 27SEP2021,    153,  99,-999.0,      20,-999.0,20040319,1800,  22.7498, -157.9995,  4747, 1200.900,    3.443,   34.534,2,   34.533,2,   54.600,2,   54.700,2,  122.180,2,   40.740,2,    3.000,2, -999.000
           NA,HOT timeseries 1988to2019 27SEP2021,    153,  99,-999.0,      19,-999.0,20040319,1800,  22.7498, -157.9995,  4747, 1398.600,    2.979,   34.564,2,   34.563,2,   63.600,2,   66.900,2,  129.360,2, -999.000,4,    2.900,2, -999.000
           NA,HOT timeseries 1988to2019 27SEP2021,    153,  99,-999.0,      18,-999.0,20040319,1800,  22.7498, -157.9995,  4747, 1598.700,    2.649,   34.586,2,   34.586,2,   72.000,2,   73.200,2,  139.710,2,   40.080,2,    2.920,2, -999.000
           NA,HOT timeseries 1988to2019 27SEP2021,    153,  99,-999.0,      17,-999.0,20040319,1800,  22.7498, -157.9995,  4747, 1798.800,    2.340,   34.603,2,   34.602,2,   81.000,2,   81.200,2,  147.140,2,   39.600,2,    2.870,2, -999.000
           NA,HOT timeseries 1988to2019 27SEP2021,    153,  99,-999.0,      16,-999.0,20040319,1800,  22.7498, -157.9995,  4747, 2000.900,    2.142,   34.619,2,   34.620,2,   89.300,2,   90.200,2,  150.110,2,   39.230,2,    2.810,2, -999.000
           NA,HOT timeseries 1988to2019 27SEP2021,    153,  99,-999.0,     102,-999.0,20040319,1800,  22.7498, -157.9995,  4747, 2197.900,    1.946,   34.632,2,   34.630,2,   95.400,2,   96.000,2,  155.040,2,   38.860,2,    2.780,2, -999.000
           NA,HOT timeseries 1988to2019 27SEP2021,    153,  99,-999.0,     101,-999.0,20040319,1800,  22.7498, -157.9995,  4747, 2399.000,    1.799,   34.645,2,   34.645,2,  102.900,2,  103.900,2,  158.300,2,   38.390,2,    2.740,2, -999.000
           NA,HOT timeseries 1988to2019 27SEP2021,    153,  99,-999.0,      42,-999.0,20040319,1800,  22.7498, -157.9995,  4747, 2599.900,    1.691,   34.656,2,   34.655,2,  111.000,2,  111.400,2,  158.680,2,   37.830,2,    2.690,2, -999.000
           NA,HOT timeseries 1988to2019 27SEP2021,    153,  99,-999.0,      12,-999.0,20040319,1800,  22.7498, -157.9995,  4747, 2798.800,    1.616,   34.664,2,   34.664,2,  117.700,2,  117.900,2,  159.660,2,   37.370,2,    2.650,2, -999.000
           NA,HOT timeseries 1988to2019 27SEP2021,    153,  99,-999.0,      39,-999.0,20040319,1800,  22.7498, -157.9995,  4747, 2999.800,    1.555,   34.669,2,   34.669,2,  123.300,2,  123.600,2,  159.180,2,   37.160,2,    2.630,2, -999.000
           NA,HOT timeseries 1988to2019 27SEP2021,    153,  99,-999.0,      32,-999.0,20040319,1800,  22.7498, -157.9995,  4747, 3198.900,    1.505,   34.676,2,   34.676,2,  130.600,2,  130.900,2,  158.140,2,   36.570,2,    2.600,2, -999.000
           NA,HOT timeseries 1988to2019 27SEP2021,    153,  99,-999.0,       3,-999.0,20040319,1800,  22.7498, -157.9995,  4747, 3399.000,    1.471,   34.681,2,   34.680,2,  137.100,2,  137.500,2,  156.590,2,   36.260,2,    2.560,2, -999.000
           NA,HOT timeseries 1988to2019 27SEP2021,    153,  99,-999.0,      29,-999.0,20040319,1800,  22.7498, -157.9995,  4747, 3600.500,    1.459,   34.684,2,   34.684,2,  141.200,2,  141.500,2,  155.040,2,   36.030,2,    2.540,2, -999.000
           NA,HOT timeseries 1988to2019 27SEP2021,    153,  99,-999.0,      28,-999.0,20040319,1800,  22.7498, -157.9995,  4747, 3800.500,    1.452,   34.686,2,   34.686,2,  145.200,2,  145.100,2,  153.240,2,   35.640,2,    2.520,2, -999.000
           NA,HOT timeseries 1988to2019 27SEP2021,    153,  99,-999.0,      13,-999.0,20040319,1800,  22.7498, -157.9995,  4747, 4001.100,    1.450,   34.688,2,   34.687,2,  148.500,2,  148.500,2,  150.440,2,   35.440,2,    2.500,2, -999.000
           NA,HOT timeseries 1988to2019 27SEP2021,    153,  99,-999.0,      38,-999.0,20040319,1800,  22.7498, -157.9995,  4747, 4203.100,    1.462,   34.689,2,   34.689,2,  150.100,2,  149.900,2,  151.720,2,   35.460,2,    2.480,2, -999.000
           NA,HOT timeseries 1988to2019 27SEP2021,    153,  99,-999.0,      36,-999.0,20040319,1800,  22.7498, -157.9995,  4747, 4399.300,    1.477,   34.690,2,   34.690,2,  151.400,2,  151.100,2,  149.770,2,   35.370,2,    2.480,2, -999.000
           NA,HOT timeseries 1988to2019 27SEP2021,    153,  99,-999.0,      35,-999.0,20040319,1800,  22.7498, -157.9995,  4747, 4499.300,    1.486,   34.690,2,   34.689,2,  152.200,2,  151.500,2,  150.470,2,   35.430,2,    2.510,2, -999.000
           NA,HOT timeseries 1988to2019 27SEP2021,    153,  99,-999.0,      34,-999.0,20040319,1800,  22.7498, -157.9995,  4747, 4599.800,    1.498,   34.690,2,   34.689,2,  152.300,2,  151.600,2,  150.660,2,   35.490,2,    2.500,2, -999.000
           NA,HOT timeseries 1988to2019 27SEP2021,    153,  99,-999.0,      33,-999.0,20040319,1800,  22.7498, -157.9995,  4747, 4804.000,    1.516,   34.691,2,   34.690,2,  152.700,2,  152.800,2,  149.930,2,   35.400,2,    2.470,2, -999.000