BOTTLE,20214727JOAExport
EXPOCODE,SECT_ID,STNNBR,CASTNO,SAMPNO,BTLNBR,BTLNBR_FLAG_W,DATE,TIME,LATITUDE,LONGITUDE,DEPTH,CTDPRS,CTDTMP,CTDSAL,CTDSAL_FLAG_W,SALNTY,SALNTY_FLAG_W,CTDOXY,CTDOXY_FLAG_W,OXYGEN,OXYGEN_FLAG_W,SILCAT,SILCAT_FLAG_W,NINI,NINI_FLAG_W,PHSPHT,PHSPHT_FLAG_W,REVP
,,,,,,,,,,,,DB,IPTS-68,PSS-78,,PSS-78,,UMOL/KG,,UMOL/KG,,UMOL/KG,,UMOL/KG,,UMOL/KG,,DBAR
           NA,HOT timeseries 1988to2019 27SEP2021,     74,  99,-999.0,      31,-999.0,19961210,1500,  22.7570, -157.9997,  4749,    4.500,   24.253,   34.963,2,   34.964,2,  210.100,2,  209.000,2,    1.820,2,    0.000,2,    0.050,2, -999.000
           NA,HOT timeseries 1988to2019 27SEP2021,     74,  99,-999.0,      31,-999.0,19961210,1500,  22.7570, -157.9997,  4749,    4.900,   24.234,   34.959,2,   34.959,2,  209.800,2,  209.600,2,    1.740,2,    0.000,2,    0.030,2, -999.000
           NA,HOT timeseries 1988to2019 27SEP2021,     74,  99,-999.0,      30,-999.0,19961210,1500,  22.7570, -157.9997,  4749,   74.900,   24.219,   34.956,2,   34.956,2,  209.700,2,  209.300,2,    1.720,2,    0.000,2,    0.030,2, -999.000
           NA,HOT timeseries 1988to2019 27SEP2021,     74,  99,-999.0,      22,-999.0,19961210,1500,  22.7570, -157.9997,  4749,   99.900,   21.897,   35.102,2,   35.104,2,  207.800,2,  213.300,2,    2.190,2,    0.070,2,    0.070,2, -999.000
           NA,HOT timeseries 1988to2019 27SEP2021,     74,  99,-999.0,      30,-999.0,19961210,1500,  22.7570, -157.9997,  4749,  110.200,   22.173,   35.102,2,   35.104,2,  213.300,2,  214.600,2,    2.250,2,    0.030,2,    0.080,2, -999.000
           NA,HOT timeseries 1988to2019 27SEP2021,     74,  99,-999.0,      21,-999.0,19961210,1500,  22.7570, -157.9997,  4749,  114.000,   21.318,   35.106,2,   35.105,2,  206.600,2,  209.000,2,    2.290,2,    0.260,2,    0.090,2, -999.000
           NA,HOT timeseries 1988to2019 27SEP2021,     74,  99,-999.0,      20,-999.0,19961210,1500,  22.7570, -157.9997,  4749,  128.400,   20.202,   35.087,2,   35.088,2,  200.300,2,  202.400,2,    4.120,2,    0.960,2,    0.130,2, -999.000
           NA,HOT timeseries 1988to2019 27SEP2021,     74,  99,-999.0,      19,-999.0,19961210,1500,  22.7570, -157.9997,  4749,  227.800,   15.874,   34.653,2,   34.658,2,  198.100,2,  199.000,2,    6.230,2,    5.090,2,    0.390,2, -999.000
           NA,HOT timeseries 1988to2019 27SEP2021,     74,  99,-999.0,      18,-999.0,19961210,1500,  22.7570, -157.9997,  4749,  312.700,   12.235,   34.299,2,   34.300,2,  201.800,2,  202.400,2,   11.330,2,   10.810,2,    0.760,2, -999.000
           NA,HOT timeseries 1988to2019 27SEP2021,     74,  99,-999.0,      17,-999.0,19961210,1500,  22.7570, -157.9997,  4749,  374.400,   10.387,   34.130,2,   34.131,2,  198.300,2,  195.700,2,   16.710,2,   15.050,2,    1.070,2, -999.000
           NA,HOT timeseries 1988to2019 27SEP2021,     74,  99,-999.0,      16,-999.0,19961210,1500,  22.7570, -157.9997,  4749,  399.400,    9.638,   34.101,2,   34.101,2,  192.200,2,  190.000,2,   21.080,2,   17.290,2,    1.220,2, -999.000
           NA,HOT timeseries 1988to2019 27SEP2021,     74,  99,-999.0,      15,-999.0,19961210,1500,  22.7570, -157.9997,  4749,  428.200,    8.887,   34.083,2,   34.083,2,  174.100,2,  174.500,2,   26.260,2,   20.360,2,    1.430,2, -999.000
           NA,HOT timeseries 1988to2019 27SEP2021,     74,  99,-999.0,      14,-999.0,19961210,1500,  22.7570, -157.9997,  4749,  494.600,    7.557,   34.058,2,   34.060,2,  136.400,2,  135.000,2,   40.270,2,   26.560,2,    1.870,2, -999.000
           NA,HOT timeseries 1988to2019 27SEP2021,     74,  99,-999.0,      13,-999.0,19961210,1500,  22.7570, -157.9997,  4749,  505.800,    7.259,   34.055,2,   34.055,2,  131.500,2,  125.300,2,   44.360,2,   28.020,2,    1.990,2, -999.000
           NA,HOT timeseries 1988to2019 27SEP2021,     74,  99,-999.0,      22,-999.0,19961210,1500,  22.7570, -157.9997,  4749,  509.500,    7.303,   34.056,2,   34.057,2,  132.800,2,  127.000,2,   43.200,2,   27.440,2,    1.920,2, -999.000
           NA,HOT timeseries 1988to2019 27SEP2021,     74,  99,-999.0,      12,-999.0,19961210,1500,  22.7570, -157.9997,  4749,  544.400,    6.414,   34.059,2,   34.059,2,   97.600,2,   95.900,2,   56.340,2,   32.220,2,    2.310,2, -999.000
           NA,HOT timeseries 1988to2019 27SEP2021,     74,  99,-999.0,      11,-999.0,19961210,1500,  22.7570, -157.9997,  4749,  574.500,    5.896,   34.093,2,   34.092,2,   68.400,2, -999.000,4,   66.170,2,   35.500,2,    2.550,2, -999.000
           NA,HOT timeseries 1988to2019 27SEP2021,     74,  99,-999.0,      32,-999.0,19961210,1500,  22.7570, -157.9997,  4749,  626.900,    5.379,   34.148,2,   34.148,2,   44.500,2,   45.900,2,   77.340,2,   38.430,2,    2.780,2, -999.000
           NA,HOT timeseries 1988to2019 27SEP2021,     74,  99,-999.0,       3,-999.0,19961210,1500,  22.7570, -157.9997,  4749,  650.700,    5.193,   34.179,2,   34.179,2,   36.800,2,   36.000,2,   82.010,2,   39.520,2,    2.870,2, -999.000
           NA,HOT timeseries 1988to2019 27SEP2021,     74,  99,-999.0,      29,-999.0,19961210,1500,  22.7570, -157.9997,  4749,  683.000,    4.985,   34.213,2,   34.212,2,   29.400,2,   30.200,2,   86.820,2,   40.480,2,    2.930,2, -999.000
           NA,HOT timeseries 1988to2019 27SEP2021,     74,  99,-999.0,      28,-999.0,19961210,1500,  22.7570, -157.9997,  4749,  709.600,    4.845,   34.235,2,   34.234,2,   27.300,2,   27.800,2,   90.230,2,   40.830,2,    2.970,2, -999.000
           NA,HOT timeseries 1988to2019 27SEP2021,     74,  99,-999.0,       7,-999.0,19961210,1500,  22.7570, -157.9997,  4749,  759.500,    4.610,   34.292,2,   34.294,2,   26.200,2,   25.400,2,   95.970,2,   41.350,2,    3.000,2, -999.000
           NA,HOT timeseries 1988to2019 27SEP2021,     74,  99,-999.0,      38,-999.0,19961210,1500,  22.7570, -157.9997,  4749,  800.700,    4.473,   34.350,2,   34.348,2,   26.200,2,   27.200,2,   99.510,2,   41.590,2,    3.020,2, -999.000
           NA,HOT timeseries 1988to2019 27SEP2021,     74,  99,-999.0,      36,-999.0,19961210,1500,  22.7570, -157.9997,  4749,  842.700,    4.360,   34.389,2,   34.386,2,   29.200,2,   28.800,2,  101.870,2,   41.770,2,    3.020,2, -999.000
           NA,HOT timeseries 1988to2019 27SEP2021,     74,  99,-999.0,      35,-999.0,19961210,1500,  22.7570, -157.9997,  4749,  901.200,    4.333,   34.445,2,   34.444,2,   34.200,2,   34.300,2,  102.280,2,   41.600,2,    3.020,2, -999.000
           NA,HOT timeseries 1988to2019 27SEP2021,     74,  99,-999.0,      34,-999.0,19961210,1500,  22.7570, -157.9997,  4749,  987.700,    4.073,   34.481,2,   34.481,2,   40.000,2, -999.000,4,  106.850,2,   41.530,2,    3.000,2, -999.000
           NA,HOT timeseries 1988to2019 27SEP2021,     74,  99,-999.0,      33,-999.0,19961210,1500,  22.7570, -157.9997,  4749, 1022.700,    3.962,   34.492,2, -999.000,3, -999.000,3,   42.000,2,  109.760,2,   41.630,2,    3.010,2, -999.000
           NA,HOT timeseries 1988to2019 27SEP2021,     74,  99,-999.0,      20,-999.0,19961210,1500,  22.7570, -157.9997,  4749, 1401.900,    3.049,   34.557,2,   34.557,2,   59.700,2,   59.200,2,  128.100,2,   40.780,2,    2.910,2, -999.000
           NA,HOT timeseries 1988to2019 27SEP2021,     74,  99,-999.0,      19,-999.0,19961210,1500,  22.7570, -157.9997,  4749, 1601.500,    2.670,   34.583,2,   34.583,2,   69.900,2,   69.500,2,  136.800,2,   40.570,2,    2.890,2, -999.000
           NA,HOT timeseries 1988to2019 27SEP2021,     74,  99,-999.0,      18,-999.0,19961210,1500,  22.7570, -157.9997,  4749, 1803.200,    2.411,   34.599,2,   34.600,2,   76.600,2,   76.600,2,  142.550,2,   40.150,2,    2.870,2, -999.000
           NA,HOT timeseries 1988to2019 27SEP2021,     74,  99,-999.0,      17,-999.0,19961210,1500,  22.7570, -157.9997,  4749, 2000.500,    2.140,   34.616,2,   34.616,2,   84.900,2,   84.900,2,  149.910,2,   39.640,2,    2.820,2, -999.000
           NA,HOT timeseries 1988to2019 27SEP2021,     74,  99,-999.0,      16,-999.0,19961210,1500,  22.7570, -157.9997,  4749, 2201.500,    1.964,   34.630,2,   34.630,2,   91.500,2,   94.200,2,  152.670,2,   39.090,2,    2.780,2, -999.000
           NA,HOT timeseries 1988to2019 27SEP2021,     74,  99,-999.0,      15,-999.0,19961210,1500,  22.7570, -157.9997,  4749, 2401.200,    1.826,   34.641,2,   34.640,2,   99.500,2,  101.100,2,  155.940,2,   38.710,2,    2.740,2, -999.000
           NA,HOT timeseries 1988to2019 27SEP2021,     74,  99,-999.0,      14,-999.0,19961210,1500,  22.7570, -157.9997,  4749, 2600.700,    1.693,   34.652,2,   34.652,2,  107.100,2,  108.400,2,  158.050,2,   38.350,2,    2.710,2, -999.000
           NA,HOT timeseries 1988to2019 27SEP2021,     74,  99,-999.0,      13,-999.0,19961210,1500,  22.7570, -157.9997,  4749, 2801.300,    1.611,   34.660,2,   34.661,2,  115.800,2,  116.000,2,  158.370,2,   37.730,2,    2.670,2, -999.000
           NA,HOT timeseries 1988to2019 27SEP2021,     74,  99,-999.0,      12,-999.0,19961210,1500,  22.7570, -157.9997,  4749, 3000.300,    1.555,   34.667,2,   34.667,2,  122.500,2,  123.600,2,  157.640,2,   37.480,2,    2.630,2, -999.000
           NA,HOT timeseries 1988to2019 27SEP2021,     74,  99,-999.0,      11,-999.0,19961210,1500,  22.7570, -157.9997,  4749, 3199.900,    1.519,   34.672,2,   34.674,2,  129.100,2,  129.100,2,  156.410,2,   37.090,2, -999.000,3, -999.000
           NA,HOT timeseries 1988to2019 27SEP2021,     74,  99,-999.0,      32,-999.0,19961210,1500,  22.7570, -157.9997,  4749, 3400.400,    1.485,   34.677,2,   34.677,2,  135.200,2,  135.400,2,  154.500,2,   36.610,2,    2.560,2, -999.000
           NA,HOT timeseries 1988to2019 27SEP2021,     74,  99,-999.0,       3,-999.0,19961210,1500,  22.7570, -157.9997,  4749, 3600.300,    1.467,   34.680,2,   34.680,2,  140.800,2,  140.700,2,  152.780,2,   36.260,2,    2.550,2, -999.000
           NA,HOT timeseries 1988to2019 27SEP2021,     74,  99,-999.0,      29,-999.0,19961210,1500,  22.7570, -157.9997,  4749, 3800.500,    1.452,   34.683,2,   34.682,2,  145.600,2,  145.200,2,  150.480,2,   35.920,2,    2.510,2, -999.000
           NA,HOT timeseries 1988to2019 27SEP2021,     74,  99,-999.0,      28,-999.0,19961210,1500,  22.7570, -157.9997,  4749, 3999.900,    1.454,   34.685,2,   34.685,2,  148.500,2,  148.200,2,  149.570,2,   35.800,2,    2.500,2, -999.000
           NA,HOT timeseries 1988to2019 27SEP2021,     74,  99,-999.0,       7,-999.0,19961210,1500,  22.7570, -157.9997,  4749, 4199.100,    1.462,   34.687,2,   34.685,2,  150.400,2,  150.100,2,  148.620,2,   35.680,2,    2.480,2, -999.000
           NA,HOT timeseries 1988to2019 27SEP2021,     74,  99,-999.0,      38,-999.0,19961210,1500,  22.7570, -157.9997,  4749, 4300.600,    1.468,   34.687,2,   34.685,2,  151.600,2,  151.100,2, -999.000,3,   35.570,2,    2.480,2, -999.000
           NA,HOT timeseries 1988to2019 27SEP2021,     74,  99,-999.0,      36,-999.0,19961210,1500,  22.7570, -157.9997,  4749, 4399.200,    1.475,   34.687,2,   34.686,2,  152.100,2,  152.400,2,  147.360,2, -999.000,3, -999.000,3, -999.000
           NA,HOT timeseries 1988to2019 27SEP2021,     74,  99,-999.0,      35,-999.0,19961210,1500,  22.7570, -157.9997,  4749, 4500.700,    1.478,   34.688,2,   34.688,2,  153.500,2,  153.400,2,  146.500,2,   35.370,2,    2.470,2, -999.000
           NA,HOT timeseries 1988to2019 27SEP2021,     74,  99,-999.0,      34,-999.0,19961210,1500,  22.7570, -157.9997,  4749, 4599.900,    1.482,   34.689,2,   34.687,2,  155.600,2,  154.200,2,  144.980,2,   35.280,2,    2.440,2, -999.000
           NA,HOT timeseries 1988to2019 27SEP2021,     74,  99,-999.0,      33,-999.0,19961210,1500,  22.7570, -157.9997,  4749, 4804.300,    1.485,   34.691,2,   34.690,2,  159.100,2,  158.800,2,  142.590,2,   35.000,2,    2.430,2, -999.000