BOTTLE,20214727JOAExport
EXPOCODE,SECT_ID,STNNBR,CASTNO,SAMPNO,BTLNBR,BTLNBR_FLAG_W,DATE,TIME,LATITUDE,LONGITUDE,DEPTH,CTDPRS,CTDTMP,CTDSAL,CTDSAL_FLAG_W,SALNTY,SALNTY_FLAG_W,CTDOXY,CTDOXY_FLAG_W,OXYGEN,OXYGEN_FLAG_W,SILCAT,SILCAT_FLAG_W,NINI,NINI_FLAG_W,PHSPHT,PHSPHT_FLAG_W,REVP
,,,,,,,,,,,,DB,IPTS-68,PSS-78,,PSS-78,,UMOL/KG,,UMOL/KG,,UMOL/KG,,UMOL/KG,,UMOL/KG,,DBAR
           NA,HOT timeseries 1988to2019 27SEP2021,    130,  99,-999.0,      31,-999.0,20020115,1759,  22.7493, -157.9998,  4724,    4.000,   23.650,   35.324,2,   35.325,2,  209.300,2,  209.800,2,    1.200,2,    0.110,2,    0.030,2, -999.000
           NA,HOT timeseries 1988to2019 27SEP2021,    130,  99,-999.0,      30,-999.0,20020115,1759,  22.7493, -157.9998,  4724,   48.200,   23.660,   35.324,2,   35.325,2,  209.200,2,  209.800,2,    1.200,2,    0.010,2,    0.030,2, -999.000
           NA,HOT timeseries 1988to2019 27SEP2021,    130,  99,-999.0,      22,-999.0,20020115,1759,  22.7493, -157.9998,  4724,   98.600,   23.656,   35.330,2,   35.329,2,  209.500,2,  209.900,2,    1.200,2,    0.020,2,    0.040,2, -999.000
           NA,HOT timeseries 1988to2019 27SEP2021,    130,  99,-999.0,      21,-999.0,20020115,1759,  22.7493, -157.9998,  4724,  142.800,   21.978,   35.324,2,   35.324,2,  208.100,2,  210.500,2,    1.470,2,    0.450,2,    0.040,2, -999.000
           NA,HOT timeseries 1988to2019 27SEP2021,    130,  99,-999.0,      20,-999.0,20020115,1759,  22.7493, -157.9998,  4724,  189.800,   21.032,   35.333,2,   35.334,2,  201.100,2,  201.500,2,    1.580,2,    0.920,2,    0.090,2, -999.000
           NA,HOT timeseries 1988to2019 27SEP2021,    130,  99,-999.0,      19,-999.0,20020115,1759,  22.7493, -157.9998,  4724,  228.300,   19.259,   35.100,2, -999.000,3, -999.000,3,  198.800,2,    1.950,2,    1.920,2,    0.180,2, -999.000
           NA,HOT timeseries 1988to2019 27SEP2021,    130,  99,-999.0,      18,-999.0,20020115,1759,  22.7493, -157.9998,  4724,  289.500,   15.847,   34.600,2,   34.598,2,  191.600,2,  192.200,2,    4.980,2,    5.690,2,    0.400,2, -999.000
           NA,HOT timeseries 1988to2019 27SEP2021,    130,  99,-999.0,      17,-999.0,20020115,1759,  22.7493, -157.9998,  4724,  324.300,   13.111,   34.321,2,   34.331,2,  205.800,2,  204.000,2,    8.010,2,    8.790,2, -999.000,4, -999.000
           NA,HOT timeseries 1988to2019 27SEP2021,    130,  99,-999.0,      16,-999.0,20020115,1759,  22.7493, -157.9998,  4724,  358.800,   11.811,   34.209,2,   34.211,2,  206.700,2,  206.300,2,   10.360,2,   11.160,2, -999.000,4, -999.000
           NA,HOT timeseries 1988to2019 27SEP2021,    130,  99,-999.0,      23,-999.0,20020115,1759,  22.7493, -157.9998,  4724,  398.700,   10.630,   34.195,2,   34.196,2,  210.500,2,  206.800,2,   15.240,2,   14.270,2, -999.000,4, -999.000
           NA,HOT timeseries 1988to2019 27SEP2021,    130,  99,-999.0,      14,-999.0,20020115,1759,  22.7493, -157.9998,  4724,  442.600,    8.966,   34.081,2,   34.081,2,  174.000,2,  175.600,2,   25.510,2,   20.610,2, -999.000,4, -999.000
           NA,HOT timeseries 1988to2019 27SEP2021,    130,  99,-999.0,      13,-999.0,20020115,1759,  22.7493, -157.9998,  4724,  487.500,    7.889,   34.038,2,   34.039,2,  151.500,2,  150.100,2,   34.890,2,   25.270,2, -999.000,4, -999.000
           NA,HOT timeseries 1988to2019 27SEP2021,    130,  99,-999.0,      11,-999.0,20020115,1759,  22.7493, -157.9998,  4724,  552.700,    6.688,   34.050,2,   34.050,2,   93.100,2,   94.200,2,   51.800,2,   32.470,2,    2.150,2, -999.000
           NA,HOT timeseries 1988to2019 27SEP2021,    130,  99,-999.0,      32,-999.0,20020115,1759,  22.7493, -157.9998,  4724,  598.700,    6.081,   34.102,2,   34.102,2,   64.600,2,   59.100,2,   60.980,2,   36.650,2, -999.000,4, -999.000
           NA,HOT timeseries 1988to2019 27SEP2021,    130,  99,-999.0,       3,-999.0,20020115,1759,  22.7493, -157.9998,  4724,  640.400,    5.838,   34.190,2,   34.187,2,   40.700,2,   40.300,2,   66.160,2,   38.560,2, -999.000,4, -999.000
           NA,HOT timeseries 1988to2019 27SEP2021,    130,  99,-999.0,      28,-999.0,20020115,1759,  22.7493, -157.9998,  4724,  744.100,    5.441,   34.339,2,   34.338,2,   29.600,2, -999.000,4, -999.000,3,   40.120,2, -999.000,4, -999.000
           NA,HOT timeseries 1988to2019 27SEP2021,    130,  99,-999.0,       7,-999.0,20020115,1759,  22.7493, -157.9998,  4724,  787.200,    5.258,   34.381,2,   34.378,2,   29.000,2,   27.700,2, -999.000,3,   41.090,2, -999.000,4, -999.000
           NA,HOT timeseries 1988to2019 27SEP2021,    130,  99,-999.0,      38,-999.0,20020115,1759,  22.7493, -157.9998,  4724,  839.100,    4.972,   34.426,2,   34.426,2,   29.700,2,   30.800,2, -999.000,3,   41.670,2, -999.000,4, -999.000
           NA,HOT timeseries 1988to2019 27SEP2021,    130,  99,-999.0,      36,-999.0,20020115,1759,  22.7493, -157.9998,  4724,  882.500,    4.831,   34.439,2,   34.441,2,   31.700,2,   31.500,2, -999.000,3,   41.830,2, -999.000,4, -999.000
           NA,HOT timeseries 1988to2019 27SEP2021,    130,  99,-999.0,      35,-999.0,20020115,1759,  22.7493, -157.9998,  4724,  928.300,    4.645,   34.465,2,   34.463,2,   33.600,2,   33.300,2, -999.000,3,   41.970,2, -999.000,4, -999.000
           NA,HOT timeseries 1988to2019 27SEP2021,    130,  99,-999.0,      34,-999.0,20020115,1759,  22.7493, -157.9998,  4724,  978.200,    4.441,   34.480,2,   34.481,2,   36.400,2,   35.900,2, -999.000,3,   42.050,2, -999.000,4, -999.000
           NA,HOT timeseries 1988to2019 27SEP2021,    130,  99,-999.0,      33,-999.0,20020115,1759,  22.7493, -157.9998,  4724, 1019.500,    4.308,   34.491,2,   34.491,2,   38.100,2,   37.900,2, -999.000,3, -999.000,3, -999.000,4, -999.000
           NA,HOT timeseries 1988to2019 27SEP2021,    130,  99,-999.0,      20,-999.0,20020115,1759,  22.7493, -157.9998,  4724, 1199.600,    3.801,   34.525,2,   34.524,2,   45.000,2,   44.000,2,  114.690,2, -999.000,3, -999.000,4, -999.000
           NA,HOT timeseries 1988to2019 27SEP2021,    130,  99,-999.0,      19,-999.0,20020115,1759,  22.7493, -157.9998,  4724, 1399.600,    3.291,   34.552,2,   34.552,2,   53.600,2,   54.100,2,  124.750,2, -999.000,3,    3.020,2, -999.000
           NA,HOT timeseries 1988to2019 27SEP2021,    130,  99,-999.0,      18,-999.0,20020115,1759,  22.7493, -157.9998,  4724, 1600.600,    2.883,   34.578,2,   34.579,2,   62.100,2,   62.600,2,  134.360,2, -999.000,3, -999.000,4, -999.000
           NA,HOT timeseries 1988to2019 27SEP2021,    130,  99,-999.0,      17,-999.0,20020115,1759,  22.7493, -157.9998,  4724, 1800.600,    2.542,   34.598,2,   34.598,2,   73.300,2,   73.600,2,  142.390,2, -999.000,3,    2.940,2, -999.000
           NA,HOT timeseries 1988to2019 27SEP2021,    130,  99,-999.0,      16,-999.0,20020115,1759,  22.7493, -157.9998,  4724, 1999.900,    2.234,   34.616,2,   34.617,2,   84.500,2,   84.900,2,  147.310,2,   40.020,2, -999.000,4, -999.000
           NA,HOT timeseries 1988to2019 27SEP2021,    130,  99,-999.0,      23,-999.0,20020115,1759,  22.7493, -157.9998,  4724, 2199.900,    2.041,   34.629,2,   34.630,2,   92.700,2,   93.500,2,  150.940,2,   39.520,2,    2.780,2, -999.000
           NA,HOT timeseries 1988to2019 27SEP2021,    130,  99,-999.0,      14,-999.0,20020115,1759,  22.7493, -157.9998,  4724, 2400.100,    1.900,   34.640,2,   34.640,2,   99.900,2,  100.600,2,  155.780,2,   39.020,2,    2.790,2, -999.000
           NA,HOT timeseries 1988to2019 27SEP2021,    130,  99,-999.0,      13,-999.0,20020115,1759,  22.7493, -157.9998,  4724, 2600.100,    1.796,   34.646,2,   34.646,2,  105.200,2,  105.900,2,  156.330,2,   38.730,2, -999.000,4, -999.000
           NA,HOT timeseries 1988to2019 27SEP2021,    130,  99,-999.0,      12,-999.0,20020115,1759,  22.7493, -157.9998,  4724, 2798.900,    1.706,   34.654,2,   34.654,2,  111.100,2,  111.900,2,  157.700,2,   38.450,2,    2.660,2, -999.000
           NA,HOT timeseries 1988to2019 27SEP2021,    130,  99,-999.0,      11,-999.0,20020115,1759,  22.7493, -157.9998,  4724, 3001.100,    1.635,   34.662,2,   34.662,2,  117.200,2,  117.800,2,  158.010,2,   37.950,2, -999.000,4, -999.000
           NA,HOT timeseries 1988to2019 27SEP2021,    130,  99,-999.0,      32,-999.0,20020115,1759,  22.7493, -157.9998,  4724, 3197.800,    1.576,   34.668,2,   34.669,2,  123.300,2,  124.000,2,  159.570,2,   37.670,2,    2.650,2, -999.000
           NA,HOT timeseries 1988to2019 27SEP2021,    130,  99,-999.0,       3,-999.0,20020115,1759,  22.7493, -157.9998,  4724, 3401.100,    1.531,   34.674,2,   34.675,2,  130.200,2, -999.000,3,  157.240,2,   37.160,2,    2.620,2, -999.000
           NA,HOT timeseries 1988to2019 27SEP2021,    130,  99,-999.0,      29,-999.0,20020115,1759,  22.7493, -157.9998,  4724, 3599.000,    1.493,   34.678,2,   34.680,2,  137.000,2,  136.900,2,  156.400,2,   36.650,2, -999.000,4, -999.000
           NA,HOT timeseries 1988to2019 27SEP2021,    130,  99,-999.0,      28,-999.0,20020115,1759,  22.7493, -157.9998,  4724, 3798.100,    1.483,   34.681,2,   34.682,2,  141.000,2,  140.600,2,  154.960,2,   36.510,2,    2.480,2, -999.000
           NA,HOT timeseries 1988to2019 27SEP2021,    130,  99,-999.0,       7,-999.0,20020115,1759,  22.7493, -157.9998,  4724, 3999.900,    1.472,   34.684,2,   34.685,2,  145.600,2,  145.000,2,  153.790,2,   36.090,2, -999.000,4, -999.000
           NA,HOT timeseries 1988to2019 27SEP2021,    130,  99,-999.0,      38,-999.0,20020115,1759,  22.7493, -157.9998,  4724, 4198.900,    1.472,   34.686,2,   34.687,2,  149.400,2,  148.700,2,  151.930,2,   35.890,2,    2.490,2, -999.000
           NA,HOT timeseries 1988to2019 27SEP2021,    130,  99,-999.0,      36,-999.0,20020115,1759,  22.7493, -157.9998,  4724, 4398.400,    1.480,   34.687,2,   34.688,2,  151.400,2,  150.700,2,  151.030,2,   35.680,2,    2.450,2, -999.000
           NA,HOT timeseries 1988to2019 27SEP2021,    130,  99,-999.0,      35,-999.0,20020115,1759,  22.7493, -157.9998,  4724, 4498.200,    1.484,   34.688,2,   34.688,2,  152.800,2, -999.000,3,  149.580,2,   35.780,2, -999.000,4, -999.000
           NA,HOT timeseries 1988to2019 27SEP2021,    130,  99,-999.0,      34,-999.0,20020115,1759,  22.7493, -157.9998,  4724, 4599.700,    1.490,   34.688,2,   34.689,2,  153.400,2,  153.300,2,  149.570,2,   35.420,2, -999.000,4, -999.000
           NA,HOT timeseries 1988to2019 27SEP2021,    130,  99,-999.0,      33,-999.0,20020115,1759,  22.7493, -157.9998,  4724, 4804.100,    1.510,   34.689,2,   34.690,2,  154.300,2, -999.000,3,  148.120,2,   35.360,2,    2.480,2, -999.000