BOTTLE,20214727JOAExport
EXPOCODE,SECT_ID,STNNBR,CASTNO,SAMPNO,BTLNBR,BTLNBR_FLAG_W,DATE,TIME,LATITUDE,LONGITUDE,DEPTH,CTDPRS,CTDTMP,CTDSAL,CTDSAL_FLAG_W,SALNTY,SALNTY_FLAG_W,CTDOXY,CTDOXY_FLAG_W,OXYGEN,OXYGEN_FLAG_W,SILCAT,SILCAT_FLAG_W,NINI,NINI_FLAG_W,PHSPHT,PHSPHT_FLAG_W,REVP
,,,,,,,,,,,,DB,IPTS-68,PSS-78,,PSS-78,,UMOL/KG,,UMOL/KG,,UMOL/KG,,UMOL/KG,,UMOL/KG,,DBAR
           NA,HOT timeseries 1988to2019 27SEP2021,    114,  99,-999.0,      31,-999.0,20000822,1834,  22.7517, -157.9835,  4727,    1.900,   25.946,   35.452,2,   35.451,2,  204.500,2,  205.600,2,    1.180,2,   -0.010,2,    0.050,2, -999.000
           NA,HOT timeseries 1988to2019 27SEP2021,    114,  99,-999.0,      30,-999.0,20000822,1834,  22.7517, -157.9835,  4727,    2.400,   25.943,   35.451,2,   35.458,2,  204.500,2,  205.700,2,    1.170,2,    0.000,2,    0.080,2, -999.000
           NA,HOT timeseries 1988to2019 27SEP2021,    114,  99,-999.0,      31,-999.0,20000822,1834,  22.7517, -157.9835,  4727,    5.900,   25.950,   35.440,2,   35.442,2,  206.700,2,  205.400,2,    1.280,2,    0.050,2,    0.030,2, -999.000
           NA,HOT timeseries 1988to2019 27SEP2021,    114,  99,-999.0,      22,-999.0,20000822,1834,  22.7517, -157.9835,  4727,    9.900,   25.942,   35.451,2,   35.450,2,  204.500,2,  205.200,2,    1.160,2,    0.010,2,    0.050,2, -999.000
           NA,HOT timeseries 1988to2019 27SEP2021,    114,  99,-999.0,      21,-999.0,20000822,1834,  22.7517, -157.9835,  4727,   44.200,   25.947,   35.451,2,   35.450,2,  204.600,2,  205.300,2,    1.200,2,    0.020,2,    0.050,2, -999.000
           NA,HOT timeseries 1988to2019 27SEP2021,    114,  99,-999.0,      20,-999.0,20000822,1834,  22.7517, -157.9835,  4727,   82.000,   23.835,   35.359,2,   35.348,2,  224.800,2,  223.300,2,    1.940,2,    0.020,2,    0.070,2, -999.000
           NA,HOT timeseries 1988to2019 27SEP2021,    114,  99,-999.0,      18,-999.0,20000822,1834,  22.7517, -157.9835,  4727,  117.900,   22.628,   35.414,2,   35.418,2,  213.500,2,  213.500,2,    1.580,2,    0.020,2,    0.070,2, -999.000
           NA,HOT timeseries 1988to2019 27SEP2021,    114,  99,-999.0,      17,-999.0,20000822,1834,  22.7517, -157.9835,  4727,  134.500,   22.185,   35.382,2,   35.377,2,  209.300,2,  207.600,2,    1.670,2,    0.210,2,    0.090,2, -999.000
           NA,HOT timeseries 1988to2019 27SEP2021,    114,  99,-999.0,      16,-999.0,20000822,1834,  22.7517, -157.9835,  4727,  192.000,   19.583,   35.107,2,   35.112,2,  195.100,2,  195.600,2,    2.670,2,    2.110,2,    0.220,2, -999.000
           NA,HOT timeseries 1988to2019 27SEP2021,    114,  99,-999.0,      23,-999.0,20000822,1834,  22.7517, -157.9835,  4727,  251.700,   16.878,   34.774,2,   34.774,2,  199.400,2,  199.300,2,    5.540,2,    4.210,2,    0.370,2, -999.000
           NA,HOT timeseries 1988to2019 27SEP2021,    114,  99,-999.0,      14,-999.0,20000822,1834,  22.7517, -157.9835,  4727,  331.700,   12.616,   34.326,2,   34.331,2,  202.500,2,  202.700,2,   10.930,2,    9.920,2,    0.730,2, -999.000
           NA,HOT timeseries 1988to2019 27SEP2021,    114,  99,-999.0,      13,-999.0,20000822,1834,  22.7517, -157.9835,  4727,  396.200,   10.970,   34.214,2,   34.213,2,  202.400,2,  201.400,2,   15.170,2,   13.680,2,    0.980,2, -999.000
           NA,HOT timeseries 1988to2019 27SEP2021,    114,  99,-999.0,      12,-999.0,20000822,1834,  22.7517, -157.9835,  4727,  455.000,    9.506,   34.135,2,   34.134,2,  188.400,2,  189.400,2,   23.060,2,   18.050,2,    1.260,2, -999.000
           NA,HOT timeseries 1988to2019 27SEP2021,    114,  99,-999.0,      11,-999.0,20000822,1834,  22.7517, -157.9835,  4727,  498.500,    7.589,   34.040,2,   34.041,2,  150.400,2,  151.000,2,   38.810,2,   25.250,2,    1.800,2, -999.000
           NA,HOT timeseries 1988to2019 27SEP2021,    114,  99,-999.0,      30,-999.0,20000822,1834,  22.7517, -157.9835,  4727,  530.700,    6.910,   34.030,2,   34.032,2,  125.000,2,  124.700,2,   47.360,2,   28.430,2,    1.990,2, -999.000
           NA,HOT timeseries 1988to2019 27SEP2021,    114,  99,-999.0,       3,-999.0,20000822,1834,  22.7517, -157.9835,  4727,  557.000,    6.714,   34.030,2,   34.029,2,  116.200,2,  114.700,2,   50.550,2,   30.090,2,    2.170,2, -999.000
           NA,HOT timeseries 1988to2019 27SEP2021,    114,  99,-999.0,      29,-999.0,20000822,1834,  22.7517, -157.9835,  4727,  600.300,    5.805,   34.045,2,   34.046,2,   80.200,2,   80.200,2,   65.420,2,   34.900,2,    2.520,2, -999.000
           NA,HOT timeseries 1988to2019 27SEP2021,    114,  99,-999.0,      28,-999.0,20000822,1834,  22.7517, -157.9835,  4727,  639.600,    5.443,   34.132,2,   34.131,2,   53.800,2,   52.100,2,   76.490,2,   37.850,2,    2.750,2, -999.000
           NA,HOT timeseries 1988to2019 27SEP2021,    114,  99,-999.0,       7,-999.0,20000822,1834,  22.7517, -157.9835,  4727,  686.900,    5.232,   34.271,2,   34.273,2,   33.900,2,   33.300,2,   85.320,2,   39.850,2,    2.910,2, -999.000
           NA,HOT timeseries 1988to2019 27SEP2021,    114,  99,-999.0,      36,-999.0,20000822,1834,  22.7517, -157.9835,  4727,  772.400,    4.855,   34.336,2,   34.338,2,   29.600,2,   29.100,2,   93.170,2,   41.140,2,    2.980,2, -999.000
           NA,HOT timeseries 1988to2019 27SEP2021,    114,  99,-999.0,      35,-999.0,20000822,1834,  22.7517, -157.9835,  4727,  867.900,    4.385,   34.405,2,   34.404,2,   32.300,2,   32.100,2,  103.190,2,   41.710,2,    3.020,2, -999.000
           NA,HOT timeseries 1988to2019 27SEP2021,    114,  99,-999.0,      34,-999.0,20000822,1834,  22.7517, -157.9835,  4727,  949.600,    4.195,   34.462,2,   34.462,2,   38.700,2,   39.800,2,  106.180,2,   41.660,2,    3.010,2, -999.000
           NA,HOT timeseries 1988to2019 27SEP2021,    114,  99,-999.0,      33,-999.0,20000822,1834,  22.7517, -157.9835,  4727, 1021.100,    3.975,   34.483,2,   34.482,2,   42.400,2,   42.500,2,  110.890,2,   41.690,2,    3.000,2, -999.000
           NA,HOT timeseries 1988to2019 27SEP2021,    114,  99,-999.0,      20,-999.0,20000822,1834,  22.7517, -157.9835,  4727, 1201.700,    3.534,   34.525,2, -999.000,3, -999.000,3,   51.500,2,  120.220,2,   41.550,2,    2.920,2, -999.000
           NA,HOT timeseries 1988to2019 27SEP2021,    114,  99,-999.0,      19,-999.0,20000822,1834,  22.7517, -157.9835,  4727, 1401.400,    3.072,   34.556,2,   34.556,2,   60.400,2,   61.000,2,  130.300,2,   41.170,2,    2.890,2, -999.000
           NA,HOT timeseries 1988to2019 27SEP2021,    114,  99,-999.0,      18,-999.0,20000822,1834,  22.7517, -157.9835,  4727, 1599.400,    2.720,   34.580,2,   34.579,2,   67.900,2,   68.300,2,  138.170,2,   41.230,2,    2.860,2, -999.000
           NA,HOT timeseries 1988to2019 27SEP2021,    114,  99,-999.0,      17,-999.0,20000822,1834,  22.7517, -157.9835,  4727, 1801.000,    2.377,   34.601,2,   34.602,2,   77.700,2,   78.100,2,  145.990,2,   39.940,2,    2.820,2, -999.000
           NA,HOT timeseries 1988to2019 27SEP2021,    114,  99,-999.0,      16,-999.0,20000822,1834,  22.7517, -157.9835,  4727, 2000.100,    2.114,   34.620,2,   34.619,2,   87.100,2,   88.600,2,  151.470,2,   39.400,2,    2.770,2, -999.000
           NA,HOT timeseries 1988to2019 27SEP2021,    114,  99,-999.0,      23,-999.0,20000822,1834,  22.7517, -157.9835,  4727, 2199.400,    1.931,   34.632,2,   34.633,2,   94.400,2,   94.700,2, -999.000,3,   39.090,2,    2.740,2, -999.000
           NA,HOT timeseries 1988to2019 27SEP2021,    114,  99,-999.0,      14,-999.0,20000822,1834,  22.7517, -157.9835,  4727, 2401.100,    1.815,   34.644,2,   34.644,2,  101.300,2, -999.000,3,  156.230,2,   38.470,2, -999.000,3, -999.000
           NA,HOT timeseries 1988to2019 27SEP2021,    114,  99,-999.0,      13,-999.0,20000822,1834,  22.7517, -157.9835,  4727, 2600.600,    1.697,   34.652,2,   34.653,2,  107.800,2,  108.800,2,  159.900,2,   38.230,2,    2.670,2, -999.000
           NA,HOT timeseries 1988to2019 27SEP2021,    114,  99,-999.0,      12,-999.0,20000822,1834,  22.7517, -157.9835,  4727, 2802.200,    1.621,   34.661,2,   34.662,2,  115.600,2,  116.800,2,  159.430,2,   37.610,2,    2.640,2, -999.000
           NA,HOT timeseries 1988to2019 27SEP2021,    114,  99,-999.0,      11,-999.0,20000822,1834,  22.7517, -157.9835,  4727, 3001.700,    1.553,   34.668,2,   34.669,2,  123.900,2,  124.500,2,  158.580,2,   37.230,2,    2.610,2, -999.000
           NA,HOT timeseries 1988to2019 27SEP2021,    114,  99,-999.0,      32,-999.0,20000822,1834,  22.7517, -157.9835,  4727, 3200.800,    1.508,   34.674,2,   34.675,2,  130.500,2,  131.200,2,  157.500,2,   36.940,2,    2.570,2, -999.000
           NA,HOT timeseries 1988to2019 27SEP2021,    114,  99,-999.0,       3,-999.0,20000822,1834,  22.7517, -157.9835,  4727, 3400.900,    1.481,   34.678,2,   34.678,2,  136.000,2,  136.500,2,  155.360,2,   36.750,2,    2.540,2, -999.000
           NA,HOT timeseries 1988to2019 27SEP2021,    114,  99,-999.0,      29,-999.0,20000822,1834,  22.7517, -157.9835,  4727, 3599.300,    1.460,   34.681,2,   34.683,2,  140.900,2,  141.600,2,  154.250,2,   36.310,2,    2.520,2, -999.000
           NA,HOT timeseries 1988to2019 27SEP2021,    114,  99,-999.0,      28,-999.0,20000822,1834,  22.7517, -157.9835,  4727, 3799.700,    1.452,   34.684,2,   34.684,2,  145.000,2,  145.000,2,  152.440,2,   36.130,2,    2.520,2, -999.000
           NA,HOT timeseries 1988to2019 27SEP2021,    114,  99,-999.0,       7,-999.0,20000822,1834,  22.7517, -157.9835,  4727, 4002.500,    1.454,   34.686,2,   34.684,2,  148.100,2,  146.800,2,  150.650,2, -999.000,3,    2.480,2, -999.000
           NA,HOT timeseries 1988to2019 27SEP2021,    114,  99,-999.0,      38,-999.0,20000822,1834,  22.7517, -157.9835,  4727, 4199.700,    1.465,   34.687,2,   34.687,2,  150.100,2,  149.300,2,  149.890,2,   35.540,2,    2.460,2, -999.000
           NA,HOT timeseries 1988to2019 27SEP2021,    114,  99,-999.0,      36,-999.0,20000822,1834,  22.7517, -157.9835,  4727, 4400.800,    1.478,   34.688,2,   34.688,2,  151.900,2,  151.000,2,  148.890,2,   35.620,2,    2.480,2, -999.000
           NA,HOT timeseries 1988to2019 27SEP2021,    114,  99,-999.0,      35,-999.0,20000822,1834,  22.7517, -157.9835,  4727, 4499.900,    1.487,   34.688,2, -999.000,3, -999.000,3,  151.600,2,  148.960,2,   35.500,2,    2.470,2, -999.000
           NA,HOT timeseries 1988to2019 27SEP2021,    114,  99,-999.0,      34,-999.0,20000822,1834,  22.7517, -157.9835,  4727, 4600.300,    1.496,   34.688,2,   34.688,2,  152.600,2,  152.200,2,  148.900,2,   35.550,2,    2.470,2, -999.000
           NA,HOT timeseries 1988to2019 27SEP2021,    114,  99,-999.0,      33,-999.0,20000822,1834,  22.7517, -157.9835,  4727, 4806.100,    1.511,   34.689,2,   34.690,2,  153.700,2,  153.200,2,  147.580,2,   35.570,2,    2.450,2, -999.000