BOTTLE,20214727JOAExport
EXPOCODE,SECT_ID,STNNBR,CASTNO,SAMPNO,BTLNBR,BTLNBR_FLAG_W,DATE,TIME,LATITUDE,LONGITUDE,DEPTH,CTDPRS,CTDTMP,CTDSAL,CTDSAL_FLAG_W,SALNTY,SALNTY_FLAG_W,CTDOXY,CTDOXY_FLAG_W,OXYGEN,OXYGEN_FLAG_W,SILCAT,SILCAT_FLAG_W,NINI,NINI_FLAG_W,PHSPHT,PHSPHT_FLAG_W,REVP
,,,,,,,,,,,,DB,IPTS-68,PSS-78,,PSS-78,,UMOL/KG,,UMOL/KG,,UMOL/KG,,UMOL/KG,,UMOL/KG,,DBAR
           NA,HOT timeseries 1988to2019 27SEP2021,     52,  99,-999.0,      31,-999.0,19940829,2028,  22.7520, -157.9983,  4724,    5.000,   26.341,   34.909,2,   34.910,2,  178.600,2,  204.000,2,    2.350,2,    0.010,2,    0.060,2, -999.000
           NA,HOT timeseries 1988to2019 27SEP2021,     52,  99,-999.0,      31,-999.0,19940829,2028,  22.7520, -157.9983,  4724,    5.300,   26.234,   34.904,2, -999.000,3, -999.000,3,  204.000,2,    2.110,2,    0.000,2,    0.040,2, -999.000
           NA,HOT timeseries 1988to2019 27SEP2021,     52,  99,-999.0,      30,-999.0,19940829,2028,  22.7520, -157.9983,  4724,   64.000,   26.220,   34.907,2,   34.909,2,  178.900,2,  204.200,2,    0.880,2,    0.010,2,    0.050,2, -999.000
           NA,HOT timeseries 1988to2019 27SEP2021,     52,  99,-999.0,      22,-999.0,19940829,2028,  22.7520, -157.9983,  4724,   76.200,   24.117,   35.004,2,   35.002,2,  193.400,2,  220.700,2,    0.930,2,    0.010,2,    0.040,2, -999.000
           NA,HOT timeseries 1988to2019 27SEP2021,     52,  99,-999.0,      21,-999.0,19940829,2028,  22.7520, -157.9983,  4724,  115.300,   21.711,   35.180,2,   35.180,2,  205.100,2,  206.700,2,    0.970,2,    0.040,2,    0.080,2, -999.000
           NA,HOT timeseries 1988to2019 27SEP2021,     52,  99,-999.0,      30,-999.0,19940829,2028,  22.7520, -157.9983,  4724,  120.200,   20.910,   35.158,2,   35.158,2,  186.400,2,  196.900,2,    1.440,2,    0.890,2,    0.140,2, -999.000
           NA,HOT timeseries 1988to2019 27SEP2021,     52,  99,-999.0,      20,-999.0,19940829,2028,  22.7520, -157.9983,  4724,  133.500,   20.888,   35.160,2,   35.159,2,  195.200,2,  197.000,2,    1.280,2,    0.920,2,    0.150,2, -999.000
           NA,HOT timeseries 1988to2019 27SEP2021,     52,  99,-999.0,      19,-999.0,19940829,2028,  22.7520, -157.9983,  4724,  165.500,   20.089,   35.159,2,   35.159,2,  194.300,2,  193.400,2,    1.460,2,    1.660,2,    0.180,2, -999.000
           NA,HOT timeseries 1988to2019 27SEP2021,     52,  99,-999.0,      17,-999.0,19940829,2028,  22.7520, -157.9983,  4724,  230.800,   16.246,   34.714,2,   34.721,2,  190.200,2,  192.300,2,    4.730,2,    5.260,2,    0.410,2, -999.000
           NA,HOT timeseries 1988to2019 27SEP2021,     52,  99,-999.0,      16,-999.0,19940829,2028,  22.7520, -157.9983,  4724,  312.900,   12.575,   34.353,2,   34.352,2,  206.000,2,  205.200,2,    9.730,2,   10.140,2,    0.710,2, -999.000
           NA,HOT timeseries 1988to2019 27SEP2021,     52,  99,-999.0,      15,-999.0,19940829,2028,  22.7520, -157.9983,  4724,  347.700,   11.499,   34.268,2,   34.263,2,  204.300,2,  202.900,2,   13.660,2,   12.740,2,    0.890,2, -999.000
           NA,HOT timeseries 1988to2019 27SEP2021,     52,  99,-999.0,      14,-999.0,19940829,2028,  22.7520, -157.9983,  4724,  369.200,   10.908,   34.222,2,   34.221,2,  200.700,2,  200.600,2,   15.120,2,   14.130,2,    0.990,2, -999.000
           NA,HOT timeseries 1988to2019 27SEP2021,     52,  99,-999.0,      13,-999.0,19940829,2028,  22.7520, -157.9983,  4724,  425.800,    9.333,   34.129,2,   34.127,2,  174.700,2,  173.300,2,   24.870,2,   19.730,2,    1.400,2, -999.000
           NA,HOT timeseries 1988to2019 27SEP2021,     52,  99,-999.0,      12,-999.0,19940829,2028,  22.7520, -157.9983,  4724,  499.500,    7.471,   34.057,2,   34.056,2,  139.500,2,  138.400,2,   40.770,2,   26.730,2,    1.900,2, -999.000
           NA,HOT timeseries 1988to2019 27SEP2021,     52,  99,-999.0,      11,-999.0,19940829,2028,  22.7520, -157.9983,  4724,  531.300,    6.730,   34.042,2,   34.042,2,  111.900,2,  111.300,2,   50.450,2,   30.650,2,    2.200,2, -999.000
           NA,HOT timeseries 1988to2019 27SEP2021,     52,  99,-999.0,      22,-999.0,19940829,2028,  22.7520, -157.9983,  4724,  540.100,    6.656,   34.042,2,   34.045,2,  107.600,2,  105.800,2,   52.420,2,   31.440,2,    2.150,2, -999.000
           NA,HOT timeseries 1988to2019 27SEP2021,     52,  99,-999.0,      32,-999.0,19940829,2028,  22.7520, -157.9983,  4724,  543.800,    6.647,   34.059,2,   34.064,2,  105.500,2,   97.200,2,   53.170,2,   31.920,2,    2.330,2, -999.000
           NA,HOT timeseries 1988to2019 27SEP2021,     52,  99,-999.0,       3,-999.0,19940829,2028,  22.7520, -157.9983,  4724,  584.500,    6.111,   34.085,2,   34.078,2,   74.600,2,   76.900,2,   62.800,2,   34.640,2,    2.530,2, -999.000
           NA,HOT timeseries 1988to2019 27SEP2021,     52,  99,-999.0,      29,-999.0,19940829,2028,  22.7520, -157.9983,  4724,  631.700,    5.557,   34.153,2,   34.155,2,   45.800,2,   44.000,2,   74.330,2,   38.380,2, -999.000,3, -999.000
           NA,HOT timeseries 1988to2019 27SEP2021,     52,  99,-999.0,      28,-999.0,19940829,2028,  22.7520, -157.9983,  4724,  669.800,    5.515,   34.212,2,   34.212,2,   34.700,2,   31.400,2,   78.410,2,   39.470,2,    2.950,2, -999.000
           NA,HOT timeseries 1988to2019 27SEP2021,     52,  99,-999.0,       7,-999.0,19940829,2028,  22.7520, -157.9983,  4724,  680.000,    5.552,   34.248,2,   34.244,2,   29.000,2,   26.500,2,   78.100,2,   39.800,2,    3.000,2, -999.000
           NA,HOT timeseries 1988to2019 27SEP2021,     52,  99,-999.0,      23,-999.0,19940829,2028,  22.7520, -157.9983,  4724,  691.000,    5.065,   34.196,2, -999.000,4, -999.000,3,   32.100,2,   83.630,2, -999.000,4, -999.000,4, -999.000
           NA,HOT timeseries 1988to2019 27SEP2021,     52,  99,-999.0,      36,-999.0,19940829,2028,  22.7520, -157.9983,  4724,  761.300,    5.120,   34.356,2,   34.359,2,   25.000,2,   23.200,2,   87.190,2,   41.210,2,    3.080,2, -999.000
           NA,HOT timeseries 1988to2019 27SEP2021,     52,  99,-999.0,      35,-999.0,19940829,2028,  22.7520, -157.9983,  4724,  856.400,    4.627,   34.423,2,   34.424,2,   31.200,2,   31.200,2,   94.680,2,   41.770,2,    3.080,2, -999.000
           NA,HOT timeseries 1988to2019 27SEP2021,     52,  99,-999.0,      34,-999.0,19940829,2028,  22.7520, -157.9983,  4724,  930.500,    4.373,   34.462,2,   34.467,2,   36.500,2,   37.600,2, -999.000,4,   41.990,2,    3.070,2, -999.000
           NA,HOT timeseries 1988to2019 27SEP2021,     52,  99,-999.0,      21,-999.0,19940829,2028,  22.7520, -157.9983,  4724, 1000.100,    4.112,   34.489,2,   34.490,2,   40.200,2,   40.700,2,  106.950,2,   41.750,2, -999.000,3, -999.000
           NA,HOT timeseries 1988to2019 27SEP2021,     52,  99,-999.0,      33,-999.0,19940829,2028,  22.7520, -157.9983,  4724, 1039.800,    4.075,   34.492,2,   34.498,2,   41.500,2,   41.700,2, -999.000,4,   41.930,2,    3.080,2, -999.000
           NA,HOT timeseries 1988to2019 27SEP2021,     52,  99,-999.0,      20,-999.0,19940829,2028,  22.7520, -157.9983,  4724, 1400.100,    3.114,   34.557,2,   34.558,2,   58.200,2,   59.600,2,  127.990,2,   41.380,2,    2.990,2, -999.000
           NA,HOT timeseries 1988to2019 27SEP2021,     52,  99,-999.0,      19,-999.0,19940829,2028,  22.7520, -157.9983,  4724, 1600.300,    2.795,   34.576,2,   34.579,2,   66.300,2,   67.000,2,  135.510,2,   41.050,2,    2.950,2, -999.000
           NA,HOT timeseries 1988to2019 27SEP2021,     52,  99,-999.0,      17,-999.0,19940829,2028,  22.7520, -157.9983,  4724, 1999.500,    2.183,   34.614,2, -999.000,4, -999.000,3,   85.300,2,  149.400,2,   40.130,2,    2.870,2, -999.000
           NA,HOT timeseries 1988to2019 27SEP2021,     52,  99,-999.0,      16,-999.0,19940829,2028,  22.7520, -157.9983,  4724, 2199.400,    1.937,   34.631,2,   34.633,2,   94.300,2,   94.400,2,  155.050,2,   39.600,2,    2.810,2, -999.000
           NA,HOT timeseries 1988to2019 27SEP2021,     52,  99,-999.0,      15,-999.0,19940829,2028,  22.7520, -157.9983,  4724, 2400.300,    1.810,   34.644,2,   34.645,2,  104.800,2,  105.600,2,  155.520,2,   38.930,2,    2.740,2, -999.000
           NA,HOT timeseries 1988to2019 27SEP2021,     52,  99,-999.0,      14,-999.0,19940829,2028,  22.7520, -157.9983,  4724, 2600.200,    1.693,   34.654,2, -999.000,4, -999.000,3,  112.800,2,  157.310,2,   38.380,2,    2.700,2, -999.000
           NA,HOT timeseries 1988to2019 27SEP2021,     52,  99,-999.0,      13,-999.0,19940829,2028,  22.7520, -157.9983,  4724, 2799.300,    1.608,   34.662,2,   34.662,2,  117.000,2,  117.400,2,  159.170,2,   38.090,2,    2.700,2, -999.000
           NA,HOT timeseries 1988to2019 27SEP2021,     52,  99,-999.0,      12,-999.0,19940829,2028,  22.7520, -157.9983,  4724, 3000.200,    1.554,   34.668,2,   34.669,2,  123.700,2,  123.900,2,  158.620,2,   37.770,2,    2.660,2, -999.000
           NA,HOT timeseries 1988to2019 27SEP2021,     52,  99,-999.0,      11,-999.0,19940829,2028,  22.7520, -157.9983,  4724, 3199.900,    1.512,   34.674,2,   34.675,2,  131.600,2,  130.800,2,  156.740,2,   37.360,2,    2.620,2, -999.000
           NA,HOT timeseries 1988to2019 27SEP2021,     52,  99,-999.0,      32,-999.0,19940829,2028,  22.7520, -157.9983,  4724, 3399.400,    1.478,   34.678,2,   34.681,2,  135.400,2,  138.900,2,  156.390,2,   37.000,2,    2.590,2, -999.000
           NA,HOT timeseries 1988to2019 27SEP2021,     52,  99,-999.0,       3,-999.0,19940829,2028,  22.7520, -157.9983,  4724, 3600.100,    1.463,   34.681,2,   34.681,2,  140.400,2,  140.900,2,  154.390,2,   36.680,2,    2.570,2, -999.000
           NA,HOT timeseries 1988to2019 27SEP2021,     52,  99,-999.0,      29,-999.0,19940829,2028,  22.7520, -157.9983,  4724, 3799.400,    1.456,   34.684,2,   34.684,2,  144.800,2,  144.500,2,  152.780,2,   36.450,2,    2.550,2, -999.000
           NA,HOT timeseries 1988to2019 27SEP2021,     52,  99,-999.0,      28,-999.0,19940829,2028,  22.7520, -157.9983,  4724, 4000.000,    1.458,   34.686,2, -999.000,3, -999.000,3,  147.000,2,  152.180,2,   36.230,2,    2.530,2, -999.000
           NA,HOT timeseries 1988to2019 27SEP2021,     52,  99,-999.0,       7,-999.0,19940829,2028,  22.7520, -157.9983,  4724, 4199.900,    1.465,   34.687,2,   34.687,2,  149.400,2,  149.400,2,  150.570,2,   36.120,2,    2.520,2, -999.000
           NA,HOT timeseries 1988to2019 27SEP2021,     52,  99,-999.0,      23,-999.0,19940829,2028,  22.7520, -157.9983,  4724, 4299.500,    1.471,   34.688,2,   34.687,2,  150.700,2,  150.300,2,  149.540,2,   35.930,2,    2.500,2, -999.000
           NA,HOT timeseries 1988to2019 27SEP2021,     52,  99,-999.0,      36,-999.0,19940829,2028,  22.7520, -157.9983,  4724, 4399.800,    1.478,   34.688,2,   34.687,2,  151.300,2,  150.700,2,  150.000,2,   35.990,2,    2.500,2, -999.000
           NA,HOT timeseries 1988to2019 27SEP2021,     52,  99,-999.0,      35,-999.0,19940829,2028,  22.7520, -157.9983,  4724, 4499.600,    1.487,   34.688,2,   34.688,2,  151.700,2,  151.500,2,  149.700,2,   36.060,2,    2.520,2, -999.000
           NA,HOT timeseries 1988to2019 27SEP2021,     52,  99,-999.0,      34,-999.0,19940829,2028,  22.7520, -157.9983,  4724, 4599.300,    1.495,   34.689,2,   34.688,2,  152.400,2,  152.200,2,  149.550,2,   35.900,2,    2.490,2, -999.000
           NA,HOT timeseries 1988to2019 27SEP2021,     52,  99,-999.0,      33,-999.0,19940829,2028,  22.7520, -157.9983,  4724, 4813.800,    1.515,   34.689,2,   34.690,2,  153.500,2,  153.300,2,  148.380,2,   35.910,2,    2.490,2, -999.000