BOTTLE,20214727JOAExport
EXPOCODE,SECT_ID,STNNBR,CASTNO,SAMPNO,BTLNBR,BTLNBR_FLAG_W,DATE,TIME,LATITUDE,LONGITUDE,DEPTH,CTDPRS,CTDTMP,CTDSAL,CTDSAL_FLAG_W,SALNTY,SALNTY_FLAG_W,CTDOXY,CTDOXY_FLAG_W,OXYGEN,OXYGEN_FLAG_W,SILCAT,SILCAT_FLAG_W,NINI,NINI_FLAG_W,PHSPHT,PHSPHT_FLAG_W,REVP
,,,,,,,,,,,,DB,IPTS-68,PSS-78,,PSS-78,,UMOL/KG,,UMOL/KG,,UMOL/KG,,UMOL/KG,,UMOL/KG,,DBAR
           NA,HOT timeseries 1988to2019 27SEP2021,     40,  99,-999.0,    -999,-999.0,19921216,0630,  22.7500, -158.0000,  4749,    5.000,   24.987,   34.815,2,   34.809,2, -999.000,5,  206.000,2,    1.220,2,    0.000,2,    0.100,2, -999.000
           NA,HOT timeseries 1988to2019 27SEP2021,     40,  99,-999.0,    -999,-999.0,19921216,0630,  22.7500, -158.0000,  4749,   15.000,   24.990,   34.813,2,   34.810,2, -999.000,5,  205.900,2,    1.140,2,    0.000,2,    0.100,2, -999.000
           NA,HOT timeseries 1988to2019 27SEP2021,     40,  99,-999.0,    -999,-999.0,19921216,0630,  22.7500, -158.0000,  4749,   25.000,   24.896,   34.824,2,   34.838,2, -999.000,5,  206.200,2,    1.100,2,    0.000,2,    0.120,2, -999.000
           NA,HOT timeseries 1988to2019 27SEP2021,     40,  99,-999.0,    -999,-999.0,19921216,0630,  22.7500, -158.0000,  4749,   35.000,   24.575,   34.916,2,   34.912,2, -999.000,5,  207.000,2,    1.010,2,    0.000,2,    0.080,2, -999.000
           NA,HOT timeseries 1988to2019 27SEP2021,     40,  99,-999.0,    -999,-999.0,19921216,0630,  22.7500, -158.0000,  4749,   45.000,   24.496,   34.953,2,   34.943,2, -999.000,5,  206.900,2,    0.950,2,    0.000,2,    0.080,2, -999.000
           NA,HOT timeseries 1988to2019 27SEP2021,     40,  99,-999.0,    -999,-999.0,19921216,0630,  22.7500, -158.0000,  4749,   60.000,   24.466,   35.047,2,   35.031,2, -999.000,5,  207.700,2,    0.900,2,    0.010,2,    0.070,2, -999.000
           NA,HOT timeseries 1988to2019 27SEP2021,     40,  99,-999.0,    -999,-999.0,19921216,0630,  22.7500, -158.0000,  4749,   75.000,   24.429,   35.129,2,   35.109,2, -999.000,5,  207.500,2,    0.870,2,    0.010,2,    0.050,2, -999.000
           NA,HOT timeseries 1988to2019 27SEP2021,     40,  99,-999.0,    -999,-999.0,19921216,0630,  22.7500, -158.0000,  4749,   85.000,   24.203,   35.202,2,   35.202,2, -999.000,5,  206.300,2,    0.910,2,    0.020,2,    0.040,2, -999.000
           NA,HOT timeseries 1988to2019 27SEP2021,     40,  99,-999.0,    -999,-999.0,19921216,0630,  22.7500, -158.0000,  4749,   95.000,   23.573,   35.142,2,   35.143,2, -999.000,5,  209.200,2,    1.060,2,    0.080,2,    0.080,2, -999.000
           NA,HOT timeseries 1988to2019 27SEP2021,     40,  99,-999.0,    -999,-999.0,19921216,0630,  22.7500, -158.0000,  4749,  105.000,   22.895,   35.171,2,   35.191,2, -999.000,5,  210.200,2,    1.220,2,    0.160,2,    0.080,2, -999.000
           NA,HOT timeseries 1988to2019 27SEP2021,     40,  99,-999.0,    -999,-999.0,19921216,0630,  22.7500, -158.0000,  4749,  115.000,   22.872,   35.145,2,   35.132,2, -999.000,5,  212.500,2,    1.240,2,    0.150,2,    0.100,2, -999.000
           NA,HOT timeseries 1988to2019 27SEP2021,     40,  99,-999.0,    -999,-999.0,19921216,0630,  22.7500, -158.0000,  4749,  125.000,   22.432,   35.163,2,   35.173,2, -999.000,5,  212.200,2,    1.260,2,    0.210,2,    0.110,2, -999.000
           NA,HOT timeseries 1988to2019 27SEP2021,     40,  99,-999.0,    -999,-999.0,19921216,0630,  22.7500, -158.0000,  4749,  135.000,   22.069,   35.179,2,   35.168,2, -999.000,5,  209.500,2,    1.270,2,    0.280,2,    0.110,2, -999.000
           NA,HOT timeseries 1988to2019 27SEP2021,     40,  99,-999.0,    -999,-999.0,19921216,0630,  22.7500, -158.0000,  4749,  150.000,   21.501,   35.151,2,   35.162,2, -999.000,5,  205.500,2,    1.340,2,    0.530,2,    0.140,2, -999.000
           NA,HOT timeseries 1988to2019 27SEP2021,     40,  99,-999.0,    -999,-999.0,19921216,0630,  22.7500, -158.0000,  4749,  160.000,   20.988,   35.141,2,   35.132,2, -999.000,5,  200.000,2,    1.430,2,    0.930,2,    0.200,2, -999.000
           NA,HOT timeseries 1988to2019 27SEP2021,     40,  99,-999.0,    -999,-999.0,19921216,0630,  22.7500, -158.0000,  4749,  175.000,   20.577,   35.141,2,   35.138,2, -999.000,5,  198.000,2,    1.510,2,    1.260,2,    0.210,2, -999.000
           NA,HOT timeseries 1988to2019 27SEP2021,     40,  99,-999.0,    -999,-999.0,19921216,0630,  22.7500, -158.0000,  4749,  185.000,   20.130,   35.132,2,   35.136,2, -999.000,5,  201.300,2,    1.630,2,    1.480,2,    0.210,2, -999.000
           NA,HOT timeseries 1988to2019 27SEP2021,     40,  99,-999.0,    -999,-999.0,19921216,0630,  22.7500, -158.0000,  4749,  200.000,   19.462,   35.086,2,   35.154,2, -999.000,5,  198.200,2,    2.060,2,    2.220,2,    0.250,2, -999.000
           NA,HOT timeseries 1988to2019 27SEP2021,     40,  99,-999.0,    -999,-999.0,19921216,0630,  22.7500, -158.0000,  4749,  210.000,   19.301,   35.067,2,   35.091,2, -999.000,5,  196.500,2,    2.180,2,    2.320,2,    0.260,2, -999.000
           NA,HOT timeseries 1988to2019 27SEP2021,     40,  99,-999.0,    -999,-999.0,19921216,0630,  22.7500, -158.0000,  4749,  225.000,   18.410,   35.019,2,   35.021,2, -999.000,5,  205.100,2,    2.650,2,    1.810,2,    0.210,2, -999.000
           NA,HOT timeseries 1988to2019 27SEP2021,     40,  99,-999.0,    -999,-999.0,19921216,0630,  22.7500, -158.0000,  4749,  235.000,   17.774,   34.933,2,   34.994,2, -999.000,5,  206.500,2,    2.780,2,    1.810,2,    0.220,2, -999.000
           NA,HOT timeseries 1988to2019 27SEP2021,     40,  99,-999.0,    -999,-999.0,19921216,0630,  22.7500, -158.0000,  4749,  250.000,   16.801,   34.814,2,   34.860,2, -999.000,5,  197.600,2,    3.700,2,    3.680,2,    0.340,2, -999.000
           NA,HOT timeseries 1988to2019 27SEP2021,     41,  99,-999.0,      12,-999.0,19930120,0024,  22.7522, -157.9932,  4749,    8.900,   22.902,   35.042,2,   35.046,2, -999.000,5,  211.600,2,    1.030,2,    0.010,2,    0.050,2, -999.000
           NA,HOT timeseries 1988to2019 27SEP2021,     41,  99,-999.0,       1,-999.0,19930120,0024,  22.7522, -157.9932,  4749,    8.900,   22.846,   35.048,2,   35.049,2,  210.500,2,  212.100,2, -999.000,5, -999.000,5, -999.000,5, -999.000
           NA,HOT timeseries 1988to2019 27SEP2021,     41,  99,-999.0,      11,-999.0,19930120,0024,  22.7522, -157.9932,  4749,   34.500,   22.868,   35.044,2,   35.046,2, -999.000,5,  211.800,2,    1.030,2,    0.000,2,    0.050,2, -999.000
           NA,HOT timeseries 1988to2019 27SEP2021,     41,  99,-999.0,      10,-999.0,19930120,0024,  22.7522, -157.9932,  4749,   53.900,   22.785,   35.090,2,   35.088,2, -999.000,5, -999.000,5,    1.030,2,    0.010,2,    0.050,2, -999.000
           NA,HOT timeseries 1988to2019 27SEP2021,     41,  99,-999.0,       9,-999.0,19930120,0024,  22.7522, -157.9932,  4749,  101.700,   22.705,   35.108,2,   35.108,2, -999.000,5,  211.600,2,    1.040,2,    0.010,2,    0.040,2, -999.000
           NA,HOT timeseries 1988to2019 27SEP2021,     41,  99,-999.0,      29,-999.0,19930120,0024,  22.7522, -157.9932,  4749,  105.500,   22.699,   35.109,2,   35.113,2, -999.000,5,  211.000,2,    1.510,2,    0.010,2,    0.050,2, -999.000
           NA,HOT timeseries 1988to2019 27SEP2021,     41,  99,-999.0,      12,-999.0,19930120,0024,  22.7522, -157.9932,  4749,  135.100,   22.455,   35.175,2,   35.172,2,  208.100,2,  206.000,2,    1.220,2,    0.260,2,    0.060,2, -999.000
           NA,HOT timeseries 1988to2019 27SEP2021,     41,  99,-999.0,      28,-999.0,19930120,0024,  22.7522, -157.9932,  4749,  146.700,   21.936,   35.184,2,   35.183,2, -999.000,5,  210.800,2,    1.800,2,    0.600,2,    0.110,2, -999.000
           NA,HOT timeseries 1988to2019 27SEP2021,     41,  99,-999.0,      11,-999.0,19930120,0024,  22.7522, -157.9932,  4749,  149.700,   21.510,   35.177,2,   35.177,2,  195.600,2,  195.700,2,    1.390,2,    0.970,2,    0.140,2, -999.000
           NA,HOT timeseries 1988to2019 27SEP2021,     41,  99,-999.0,      10,-999.0,19930120,0024,  22.7522, -157.9932,  4749,  160.500,   21.010,   35.168,2,   35.166,2,  195.200,2,  193.600,2,    1.470,2,    1.210,2,    0.170,2, -999.000
           NA,HOT timeseries 1988to2019 27SEP2021,     41,  99,-999.0,       9,-999.0,19930120,0024,  22.7522, -157.9932,  4749,  173.800,   19.897,   35.126,2,   35.125,2,  190.500,2,  192.000,2, -999.000,5, -999.000,5, -999.000,5, -999.000
           NA,HOT timeseries 1988to2019 27SEP2021,     41,  99,-999.0,      29,-999.0,19930120,0024,  22.7522, -157.9932,  4749,  198.100,   18.473,   35.028,2,   35.028,2,  195.400,2,  194.100,2,    1.900,2,    1.840,2,    0.200,2, -999.000
           NA,HOT timeseries 1988to2019 27SEP2021,     41,  99,-999.0,      28,-999.0,19930120,0024,  22.7522, -157.9932,  4749,  198.100,   18.473,   35.028,2,   35.028,2,  195.400,2,  195.900,2, -999.000,5, -999.000,5, -999.000,5, -999.000
           NA,HOT timeseries 1988to2019 27SEP2021,     41,  99,-999.0,       7,-999.0,19930120,0024,  22.7522, -157.9932,  4749,  209.900,   17.568,   34.913,2, -999.000,5,  196.300,2,  197.500,2,    3.970,2,    3.420,2,    0.290,2, -999.000
           NA,HOT timeseries 1988to2019 27SEP2021,     41,  99,-999.0,      23,-999.0,19930120,0024,  22.7522, -157.9932,  4749,  226.200,   16.576,   34.790,2,   34.793,2,  197.900,2,  197.800,2,    4.950,2,    4.450,2,    0.370,2, -999.000
           NA,HOT timeseries 1988to2019 27SEP2021,     41,  99,-999.0,      25,-999.0,19930120,0024,  22.7522, -157.9932,  4749,  233.500,   16.406,   34.770,2,   34.767,2,  197.900,2,  197.900,2,    5.140,2,    4.710,2,    0.390,2, -999.000
           NA,HOT timeseries 1988to2019 27SEP2021,     41,  99,-999.0,       3,-999.0,19930120,0024,  22.7522, -157.9932,  4749,  249.300,   15.911,   34.711,2,   34.712,2,  199.000,2,  200.300,2,    5.770,2,    5.080,2,    0.410,2, -999.000
           NA,HOT timeseries 1988to2019 27SEP2021,     41,  99,-999.0,      12,-999.0,19930120,0024,  22.7522, -157.9932,  4749,  275.400,   15.577,   34.668,2,   34.667,2,  200.200,2,  198.700,2,    5.950,2,    5.660,2,    0.450,2, -999.000
           NA,HOT timeseries 1988to2019 27SEP2021,     41,  99,-999.0,      23,-999.0,19930120,0024,  22.7522, -157.9932,  4749,  279.600,   15.356,   34.648,2,   34.646,2, -999.000,5,  205.400,2,    6.040,2,    5.400,2,    0.420,2, -999.000
           NA,HOT timeseries 1988to2019 27SEP2021,     41,  99,-999.0,      25,-999.0,19930120,0024,  22.7522, -157.9932,  4749,  297.700,   14.689,   34.564,2,   34.563,2, -999.000,5,  206.000,2,    7.150,2,    6.840,2,    0.530,2, -999.000
           NA,HOT timeseries 1988to2019 27SEP2021,     41,  99,-999.0,      11,-999.0,19930120,0024,  22.7522, -157.9932,  4749,  299.500,   14.513,   34.542,2,   34.542,2,  197.500,2,  196.900,2,    7.790,2,    7.510,2,    0.590,2, -999.000
           NA,HOT timeseries 1988to2019 27SEP2021,     41,  99,-999.0,      10,-999.0,19930120,0024,  22.7522, -157.9932,  4749,  323.600,   13.154,   34.394,2, -999.000,4, -999.000,3, -999.000,4, -999.000,4, -999.000,4, -999.000,4, -999.000
           NA,HOT timeseries 1988to2019 27SEP2021,     41,  99,-999.0,       3,-999.0,19930120,0024,  22.7522, -157.9932,  4749,  338.600,   12.892,   34.369,2,   34.370,2, -999.000,5,  206.900,2,   10.420,2,   10.200,2,    0.790,2, -999.000
           NA,HOT timeseries 1988to2019 27SEP2021,     41,  99,-999.0,       9,-999.0,19930120,0024,  22.7522, -157.9932,  4749,  349.000,   12.440,   34.325,2,   34.328,2,  192.300,2,  193.200,2,   11.810,2,   11.490,2,    0.880,2, -999.000
           NA,HOT timeseries 1988to2019 27SEP2021,     41,  99,-999.0,       2,-999.0,19930120,0024,  22.7522, -157.9932,  4749,  395.800,   11.214,   34.225,2,   34.227,2, -999.000,5,  192.100,2,   15.050,2,   13.810,2,    1.020,2, -999.000
           NA,HOT timeseries 1988to2019 27SEP2021,     41,  99,-999.0,      28,-999.0,19930120,0024,  22.7522, -157.9932,  4749,  498.900,    7.984,   34.078,2,   34.078,2,  141.200,2,  143.900,2,   36.250,2,   24.880,2,    1.820,2, -999.000
           NA,HOT timeseries 1988to2019 27SEP2021,     41,  99,-999.0,       7,-999.0,19930120,0024,  22.7522, -157.9932,  4749,  603.600,    6.053,   34.130,2,   34.129,2,   63.800,2,   63.900,2,   64.250,2,   35.390,2,    2.630,2, -999.000
           NA,HOT timeseries 1988to2019 27SEP2021,     41,  99,-999.0,      23,-999.0,19930120,0024,  22.7522, -157.9932,  4749,  707.200,    5.000,   34.222,2,   34.226,2,   27.500,2,   27.700,2,   86.660,2,   40.490,2,    2.970,2, -999.000
           NA,HOT timeseries 1988to2019 27SEP2021,     41,  99,-999.0,      25,-999.0,19930120,0024,  22.7522, -157.9932,  4749,  797.100,    4.647,   34.337,2,   34.341,2,   23.300,2,   24.200,2,   96.420,2,   41.670,2,    3.050,2, -999.000
           NA,HOT timeseries 1988to2019 27SEP2021,     41,  99,-999.0,       3,-999.0,19930120,0024,  22.7522, -157.9932,  4749,  898.200,    4.339,   34.407,2,   34.407,2,   27.400,2, -999.000,4,  103.220,2,   42.090,2,    3.060,2, -999.000
           NA,HOT timeseries 1988to2019 27SEP2021,     41,  99,-999.0,       2,-999.0,19930120,0024,  22.7522, -157.9932,  4749, 1023.100,    4.008,   34.483,2,   34.485,2,   40.500,2,   40.900,2,  107.250,2,   41.810,2,    3.020,2, -999.000
           NA,HOT timeseries 1988to2019 27SEP2021,     41,  99,-999.0,       2,-999.0,19930120,0024,  22.7522, -157.9932,  4749, 1028.800,    3.987,   34.485,2,   34.488,2,   40.300,2,   41.100,2,  109.490,2,   41.290,2,    2.990,2, -999.000