BOTTLE,20214727JOAExport
EXPOCODE,SECT_ID,STNNBR,CASTNO,SAMPNO,BTLNBR,BTLNBR_FLAG_W,DATE,TIME,LATITUDE,LONGITUDE,DEPTH,CTDPRS,CTDTMP,CTDSAL,CTDSAL_FLAG_W,SALNTY,SALNTY_FLAG_W,CTDOXY,CTDOXY_FLAG_W,OXYGEN,OXYGEN_FLAG_W,SILCAT,SILCAT_FLAG_W,NINI,NINI_FLAG_W,PHSPHT,PHSPHT_FLAG_W,REVP
,,,,,,,,,,,,DB,IPTS-68,PSS-78,,PSS-78,,UMOL/KG,,UMOL/KG,,UMOL/KG,,UMOL/KG,,UMOL/KG,,DBAR
           NA,HOT timeseries 1988to2019 27SEP2021,    133,  99,-999.0,      31,-999.0,20020520,1754,  22.7560, -158.0050,  4722,    4.000,   24.616,   34.920,2,   34.921,2,  208.900,2,  210.200,2,    1.120,2,    0.040,2,    0.030,2, -999.000
           NA,HOT timeseries 1988to2019 27SEP2021,    133,  99,-999.0,      30,-999.0,20020520,1754,  22.7560, -158.0050,  4722,   38.500,   23.508,   35.201,2, -999.000,3, -999.000,3,  215.500,2,    1.210,2,    0.010,2,    0.060,2, -999.000
           NA,HOT timeseries 1988to2019 27SEP2021,    133,  99,-999.0,      22,-999.0,20020520,1754,  22.7560, -158.0050,  4722,   49.200,   23.200,   35.293,2,   35.302,2,  218.000,2,  217.500,2,    1.230,2,    0.020,2,    0.040,2, -999.000
           NA,HOT timeseries 1988to2019 27SEP2021,    133,  99,-999.0,      21,-999.0,20020520,1754,  22.7560, -158.0050,  4722,   74.300,   22.022,   35.387,2,   35.384,2,  216.200,2,  221.000,2,    1.300,2,    0.030,2, -999.000,3, -999.000
           NA,HOT timeseries 1988to2019 27SEP2021,    133,  99,-999.0,      20,-999.0,20020520,1754,  22.7560, -158.0050,  4722,  114.500,   20.340,   35.226,2,   35.227,2,  201.700,2,  203.900,2,    1.890,2,    1.200,2, -999.000,3, -999.000
           NA,HOT timeseries 1988to2019 27SEP2021,    133,  99,-999.0,      19,-999.0,20020520,1754,  22.7560, -158.0050,  4722,  157.400,   18.688,   34.993,2,   35.004,2,  210.500,2,  197.900,2, -999.000,3,    2.780,2, -999.000,3, -999.000
           NA,HOT timeseries 1988to2019 27SEP2021,    133,  99,-999.0,      18,-999.0,20020520,1754,  22.7560, -158.0050,  4722,  200.100,   16.376,   34.657,2,   34.663,2,  198.300,2,  195.000,2,    4.610,2,    5.080,2,    0.440,2, -999.000
           NA,HOT timeseries 1988to2019 27SEP2021,    133,  99,-999.0,      17,-999.0,20020520,1754,  22.7560, -158.0050,  4722,  244.600,   13.624,   34.350,2,   34.351,2,  194.700,2, -999.000,3,    8.920,2, -999.000,3, -999.000,3, -999.000
           NA,HOT timeseries 1988to2019 27SEP2021,    133,  99,-999.0,      23,-999.0,20020520,1754,  22.7560, -158.0050,  4722,  330.300,   10.298,   34.127,2,   34.127,2,  191.000,2,  191.100,2,   17.550,2,   16.120,2,    1.190,2, -999.000
           NA,HOT timeseries 1988to2019 27SEP2021,    133,  99,-999.0,      14,-999.0,20020520,1754,  22.7560, -158.0050,  4722,  393.300,    8.932,   34.105,2,   34.107,2,  180.900,2,  179.200,2,   26.870,2,   20.240,2, -999.000,3, -999.000
           NA,HOT timeseries 1988to2019 27SEP2021,    133,  99,-999.0,      13,-999.0,20020520,1754,  22.7560, -158.0050,  4722,  429.700,    8.082,   34.065,2,   34.068,2,  164.000,2,  162.600,2,   34.050,2,   23.490,2, -999.000,3, -999.000
           NA,HOT timeseries 1988to2019 27SEP2021,    133,  99,-999.0,      12,-999.0,20020520,1754,  22.7560, -158.0050,  4722,  482.000,    6.957,   34.035,2,   34.032,2,  122.300,2,  124.100,2,   45.760,2,   28.940,2,    2.090,2, -999.000
           NA,HOT timeseries 1988to2019 27SEP2021,    133,  99,-999.0,      11,-999.0,20020520,1754,  22.7560, -158.0050,  4722,  509.700,    6.510,   34.052,2,   34.051,2,   95.800,2,   92.800,2,   53.520,2,   32.550,2,    2.340,2, -999.000
           NA,HOT timeseries 1988to2019 27SEP2021,    133,  99,-999.0,      32,-999.0,20020520,1754,  22.7560, -158.0050,  4722,  541.000,    5.965,   34.092,2,   34.090,2,   64.000,2,   65.600,2,   63.190,2,   35.690,2,    2.640,2, -999.000
           NA,HOT timeseries 1988to2019 27SEP2021,    133,  99,-999.0,      29,-999.0,20020520,1754,  22.7560, -158.0050,  4722,  661.800,    5.171,   34.225,2,   34.222,2,   30.700,2,   28.900,2, -999.000,3,   40.180,2,    2.890,2, -999.000
           NA,HOT timeseries 1988to2019 27SEP2021,    133,  99,-999.0,      28,-999.0,20020520,1754,  22.7560, -158.0050,  4722,  699.500,    4.872,   34.261,2,   34.259,2,   25.500,2,   24.000,2,   86.790,2,   41.240,2,    3.020,2, -999.000
           NA,HOT timeseries 1988to2019 27SEP2021,    133,  99,-999.0,       7,-999.0,20020520,1754,  22.7560, -158.0050,  4722,  742.600,    4.631,   34.289,2,   34.290,2,   23.800,2,   22.900,2, -999.000,3,   41.760,2,    3.060,2, -999.000
           NA,HOT timeseries 1988to2019 27SEP2021,    133,  99,-999.0,      38,-999.0,20020520,1754,  22.7560, -158.0050,  4722,  778.000,    4.531,   34.334,2,   34.335,2,   23.500,2,   24.400,2, -999.000,3,   42.210,2,    3.120,2, -999.000
           NA,HOT timeseries 1988to2019 27SEP2021,    133,  99,-999.0,      36,-999.0,20020520,1754,  22.7560, -158.0050,  4722,  815.600,    4.353,   34.375,2,   34.374,2,   25.900,2,   25.700,2, -999.000,3,   42.340,2,    3.040,2, -999.000
           NA,HOT timeseries 1988to2019 27SEP2021,    133,  99,-999.0,      35,-999.0,20020520,1754,  22.7560, -158.0050,  4722,  929.500,    4.085,   34.431,2,   34.430,2,   32.900,2,   33.300,2,  108.210,2,   42.130,2, -999.000,3, -999.000
           NA,HOT timeseries 1988to2019 27SEP2021,    133,  99,-999.0,      34,-999.0,20020520,1754,  22.7560, -158.0050,  4722,  982.500,    3.945,   34.465,2,   34.464,2,   37.300,2,   36.900,2, -999.000,3,   42.060,2,    3.000,2, -999.000
           NA,HOT timeseries 1988to2019 27SEP2021,    133,  99,-999.0,      33,-999.0,20020520,1754,  22.7560, -158.0050,  4722, 1022.400,    3.815,   34.481,2,   34.484,2,   40.500,2,   40.700,2, -999.000,3,   41.910,2, -999.000,3, -999.000
           NA,HOT timeseries 1988to2019 27SEP2021,    133,  99,-999.0,      20,-999.0,20020520,1754,  22.7560, -158.0050,  4722, 1199.300,    3.404,   34.529,2,   34.531,2,   50.900,2,   51.300,2,  120.630,2,   41.710,2,    3.010,2, -999.000
           NA,HOT timeseries 1988to2019 27SEP2021,    133,  99,-999.0,      19,-999.0,20020520,1754,  22.7560, -158.0050,  4722, 1400.000,    2.962,   34.565,2,   34.567,2,   62.400,2,   62.700,2,  129.810,2,   41.340,2,    2.920,2, -999.000
           NA,HOT timeseries 1988to2019 27SEP2021,    133,  99,-999.0,      18,-999.0,20020520,1754,  22.7560, -158.0050,  4722, 1600.700,    2.623,   34.588,2,   34.587,2,   74.000,2,   74.100,2,  137.890,2,   40.850,2,    2.860,2, -999.000
           NA,HOT timeseries 1988to2019 27SEP2021,    133,  99,-999.0,      17,-999.0,20020520,1754,  22.7560, -158.0050,  4722, 1800.600,    2.310,   34.608,2,   34.607,2,   83.100,2,   83.500,2,  144.770,2,   40.210,2,    2.850,2, -999.000
           NA,HOT timeseries 1988to2019 27SEP2021,    133,  99,-999.0,      16,-999.0,20020520,1754,  22.7560, -158.0050,  4722, 1998.900,    2.089,   34.624,2,   34.625,2,   92.000,2,   92.300,2,  149.470,2,   39.740,2,    2.790,2, -999.000
           NA,HOT timeseries 1988to2019 27SEP2021,    133,  99,-999.0,      23,-999.0,20020520,1754,  22.7560, -158.0050,  4722, 2199.900,    1.937,   34.635,2,   34.636,2,   97.700,2,   98.800,2,  152.810,2,   39.260,2,    2.740,2, -999.000
           NA,HOT timeseries 1988to2019 27SEP2021,    133,  99,-999.0,      14,-999.0,20020520,1754,  22.7560, -158.0050,  4722, 2399.900,    1.821,   34.646,2,   34.646,2,  107.000,2,  107.100,2,  153.590,2,   38.830,2,    2.710,2, -999.000
           NA,HOT timeseries 1988to2019 27SEP2021,    133,  99,-999.0,      13,-999.0,20020520,1754,  22.7560, -158.0050,  4722, 2600.700,    1.714,   34.655,2,   34.656,2,  112.300,2,  112.600,2,  156.190,2,   38.460,2,    2.680,2, -999.000
           NA,HOT timeseries 1988to2019 27SEP2021,    133,  99,-999.0,      12,-999.0,20020520,1754,  22.7560, -158.0050,  4722, 2799.900,    1.629,   34.662,2, -999.000,4, -999.000,3,  118.300,2,  159.330,2,   37.970,2,    2.650,2, -999.000
           NA,HOT timeseries 1988to2019 27SEP2021,    133,  99,-999.0,      11,-999.0,20020520,1754,  22.7560, -158.0050,  4722, 2999.700,    1.575,   34.668,2,   34.666,2,  123.400,2,  123.900,2,  158.030,2,   37.790,2, -999.000,4, -999.000
           NA,HOT timeseries 1988to2019 27SEP2021,    133,  99,-999.0,      32,-999.0,20020520,1754,  22.7560, -158.0050,  4722, 3200.300,    1.537,   34.673,2,   34.673,2,  128.000,2,  127.900,2,  156.780,2,   37.550,2,    2.570,2, -999.000
           NA,HOT timeseries 1988to2019 27SEP2021,    133,  99,-999.0,       3,-999.0,20020520,1754,  22.7560, -158.0050,  4722, 3399.600,    1.508,   34.677,2,   34.676,2,  133.400,2,  133.300,2,  156.250,2,   37.050,2, -999.000,3, -999.000
           NA,HOT timeseries 1988to2019 27SEP2021,    133,  99,-999.0,      29,-999.0,20020520,1754,  22.7560, -158.0050,  4722, 3599.300,    1.484,   34.681,2,   34.680,2,  138.800,2,  138.800,2,  154.130,2,   36.690,2,    2.540,2, -999.000
           NA,HOT timeseries 1988to2019 27SEP2021,    133,  99,-999.0,      28,-999.0,20020520,1754,  22.7560, -158.0050,  4722, 3799.900,    1.469,   34.683,2,   34.683,2,  143.300,2,  143.300,2,  152.170,2,   36.520,2,    2.480,2, -999.000
           NA,HOT timeseries 1988to2019 27SEP2021,    133,  99,-999.0,       7,-999.0,20020520,1754,  22.7560, -158.0050,  4722, 3999.700,    1.462,   34.686,2,   34.687,2,  147.700,2,  147.300,2,  150.890,2,   36.250,2,    2.490,2, -999.000
           NA,HOT timeseries 1988to2019 27SEP2021,    133,  99,-999.0,      38,-999.0,20020520,1754,  22.7560, -158.0050,  4722, 4199.100,    1.467,   34.688,2,   34.688,2,  150.700,2,  150.400,2,  148.820,2,   35.970,2, -999.000,3, -999.000
           NA,HOT timeseries 1988to2019 27SEP2021,    133,  99,-999.0,      36,-999.0,20020520,1754,  22.7560, -158.0050,  4722, 4399.300,    1.479,   34.688,2,   34.689,2,  152.600,2,  151.800,2,  147.670,2,   35.950,2,    2.480,2, -999.000
           NA,HOT timeseries 1988to2019 27SEP2021,    133,  99,-999.0,      35,-999.0,20020520,1754,  22.7560, -158.0050,  4722, 4499.600,    1.487,   34.689,2,   34.689,2,  153.100,2,  152.400,2,  148.960,2,   35.940,2,    2.470,2, -999.000
           NA,HOT timeseries 1988to2019 27SEP2021,    133,  99,-999.0,      34,-999.0,20020520,1754,  22.7560, -158.0050,  4722, 4599.700,    1.497,   34.689,2,   34.690,2,  153.300,2,  154.000,2,  147.460,2,   35.860,2, -999.000,3, -999.000
           NA,HOT timeseries 1988to2019 27SEP2021,    133,  99,-999.0,      33,-999.0,20020520,1754,  22.7560, -158.0050,  4722, 4792.200,    1.515,   34.690,2,   34.690,2,  153.900,2,  154.300,2,  146.790,2,   35.770,2, -999.000,4, -999.000