BOTTLE,20214727JOAExport
EXPOCODE,SECT_ID,STNNBR,CASTNO,SAMPNO,BTLNBR,BTLNBR_FLAG_W,DATE,TIME,LATITUDE,LONGITUDE,DEPTH,CTDPRS,CTDTMP,CTDSAL,CTDSAL_FLAG_W,SALNTY,SALNTY_FLAG_W,CTDOXY,CTDOXY_FLAG_W,OXYGEN,OXYGEN_FLAG_W,SILCAT,SILCAT_FLAG_W,NINI,NINI_FLAG_W,PHSPHT,PHSPHT_FLAG_W,REVP
,,,,,,,,,,,,DB,IPTS-68,PSS-78,,PSS-78,,UMOL/KG,,UMOL/KG,,UMOL/KG,,UMOL/KG,,UMOL/KG,,DBAR
           NA,HOT timeseries 1988to2019 27SEP2021,      2,  99,-999.0,    8063,-999.0,20190611,2212,  22.7502, -158.0003,  4736, 4500.400,    1.491,   34.687,2,   34.687,2,  152.200,2,  151.900,2,  151.360,2,   35.900,2,    2.480,2, -999.000
           NA,HOT timeseries 1988to2019 27SEP2021,      2,  99,-999.0,    8062,-999.0,20190611,2212,  22.7502, -158.0003,  4736, 4599.400,    1.497,   34.688,2,   34.688,2,  153.300,2,  152.900,2,  150.400,2,   35.670,2,    2.460,2, -999.000
           NA,HOT timeseries 1988to2019 27SEP2021,      2,  99,-999.0,    8061,-999.0,20190611,2212,  22.7502, -158.0003,  4736, 4808.600,    1.493,   34.691,2,   34.691,2,  158.000,2,  158.900,2,  146.930,2,   35.270,2,    2.430,2, -999.000
           NA,HOT timeseries 1988to2019 27SEP2021,      2,  99,-999.0,    8084,-999.0,20190702,0029,  22.7507, -157.9935,  4735,    4.800,   26.819,   34.516,2,   34.518,2,  204.700,2,  205.100,2, -999.000,3,    0.010,2,    0.110,2, -999.000
           NA,HOT timeseries 1988to2019 27SEP2021,      2,  99,-999.0,    8083,-999.0,20190702,0029,  22.7507, -157.9935,  4735,   53.000,   26.377,   34.623,2,   34.621,2,  209.300,2,  208.700,2, -999.000,3,    0.040,2,    0.070,2, -999.000
           NA,HOT timeseries 1988to2019 27SEP2021,      2,  99,-999.0,    8082,-999.0,20190702,0029,  22.7507, -157.9935,  4735,   79.100,   24.346,   34.639,2,   34.636,2,  221.000,2,  221.400,2,    1.860,2,    0.020,2,    0.110,2, -999.000
           NA,HOT timeseries 1988to2019 27SEP2021,      2,  99,-999.0,    8079,-999.0,20190702,0029,  22.7507, -157.9935,  4735,  165.000,   19.712,   35.116,2, -999.000,4, -999.000,3,  210.400,2,    2.420,2,    1.050,2,    0.140,2, -999.000
           NA,HOT timeseries 1988to2019 27SEP2021,      2,  99,-999.0,    8078,-999.0,20190702,0029,  22.7507, -157.9935,  4735,  221.400,   16.232,   34.634,2, -999.000,3, -999.000,3,  200.000,2,    5.000,2,    5.090,2,    0.420,2, -999.000
           NA,HOT timeseries 1988to2019 27SEP2021,      2,  99,-999.0,    8077,-999.0,20190702,0029,  22.7507, -157.9935,  4735,  263.600,   14.036,   34.363,2,   34.349,2,  196.200,2,  196.600,2,    7.840,2,    8.530,2,    0.660,2, -999.000
           NA,HOT timeseries 1988to2019 27SEP2021,      2,  99,-999.0,    8076,-999.0,20190702,0029,  22.7507, -157.9935,  4735,  305.800,   12.160,   34.207,2,   34.201,2,  193.900,2,  195.100,2,   11.870,2,   12.140,2,    0.910,2, -999.000
           NA,HOT timeseries 1988to2019 27SEP2021,      2,  99,-999.0,    8075,-999.0,20190702,0029,  22.7507, -157.9935,  4735,  359.500,   10.837,   34.147,2,   34.145,2,  202.600,2,  202.800,2,   15.450,2,   14.320,2,    1.030,2, -999.000
           NA,HOT timeseries 1988to2019 27SEP2021,      2,  99,-999.0,    8074,-999.0,20190702,0029,  22.7507, -157.9935,  4735,  417.600,    9.045,   34.070,2,   34.069,2,  166.500,2,  164.400,2,   27.860,2,   21.580,2,    1.570,2, -999.000
           NA,HOT timeseries 1988to2019 27SEP2021,      2,  99,-999.0,    8072,-999.0,20190702,0029,  22.7507, -157.9935,  4735,  491.300,    7.325,   34.048,2,   34.048,2,  112.600,2,  110.600,2,   46.160,2,   29.610,2,    2.170,2, -999.000
           NA,HOT timeseries 1988to2019 27SEP2021,      2,  99,-999.0,    8071,-999.0,20190702,0029,  22.7507, -157.9935,  4735,  536.200,    6.605,   34.067,2,   34.067,2,   84.600,2, -999.000,4,   56.650,2,   33.390,2,    2.430,2, -999.000
           NA,HOT timeseries 1988to2019 27SEP2021,      2,  99,-999.0,    8070,-999.0,20190702,0029,  22.7507, -157.9935,  4735,  580.500,    5.960,   34.093,2,   34.092,2,   67.400,2,   66.100,2,   67.300,2,   36.140,2,    2.620,2, -999.000
           NA,HOT timeseries 1988to2019 27SEP2021,      2,  99,-999.0,    8069,-999.0,20190702,0029,  22.7507, -157.9935,  4735,  630.500,    5.403,   34.139,2,   34.138,2,   51.200,2,   51.100,2,   78.420,2,   38.370,2,    2.780,2, -999.000
           NA,HOT timeseries 1988to2019 27SEP2021,      2,  99,-999.0,    8068,-999.0,20190702,0029,  22.7507, -157.9935,  4735,  691.300,    5.054,   34.201,2,   34.201,2,   41.400,2,   40.500,2,   86.880,2,   39.800,2,    2.910,2, -999.000
           NA,HOT timeseries 1988to2019 27SEP2021,      2,  99,-999.0,    8067,-999.0,20190702,0029,  22.7507, -157.9935,  4735,  732.100,    4.808,   34.252,2,   34.255,2,   34.300,2,   35.000,2,   92.660,2,   40.740,2,    2.980,2, -999.000
           NA,HOT timeseries 1988to2019 27SEP2021,      2,  99,-999.0,    8066,-999.0,20190702,0029,  22.7507, -157.9935,  4735,  771.000,    4.656,   34.300,2,   34.299,2,   31.700,2,   31.600,2,   96.540,2,   41.120,2,    3.030,2, -999.000
           NA,HOT timeseries 1988to2019 27SEP2021,      2,  99,-999.0,    8004,-999.0,20190702,0029,  22.7507, -157.9935,  4735,  856.400,    4.353,   34.380,2,   34.378,2,   34.600,2,   33.400,2,  103.480,2,   41.690,2,    3.040,2, -999.000
           NA,HOT timeseries 1988to2019 27SEP2021,      2,  99,-999.0,    8063,-999.0,20190702,0029,  22.7507, -157.9935,  4735,  921.500,    4.185,   34.434,2,   34.434,2,   39.900,2,   39.300,2,  106.730,2,   41.660,2,    3.030,2, -999.000
           NA,HOT timeseries 1988to2019 27SEP2021,      2,  99,-999.0,    8062,-999.0,20190702,0029,  22.7507, -157.9935,  4735,  985.100,    4.013,   34.470,2,   34.473,2,   41.500,2,   41.600,2,  110.190,2,   41.700,2,    3.030,2, -999.000
           NA,HOT timeseries 1988to2019 27SEP2021,      2,  99,-999.0,    8061,-999.0,20190702,0029,  22.7507, -157.9935,  4735, 1021.300,    3.946,   34.482,2,   34.483,2,   43.600,2,   44.300,2,  111.360,2,   41.740,2,    3.020,2, -999.000
           NA,HOT timeseries 1988to2019 27SEP2021,      2,  99,-999.0,    8080,-999.0,20190702,0029,  22.7507, -157.9935,  4735, 1199.600,    3.406,   34.525,2,   34.524,2,   54.100,2,   53.600,2,  122.560,2,   41.420,2,    2.970,2, -999.000
           NA,HOT timeseries 1988to2019 27SEP2021,      2,  99,-999.0,    8079,-999.0,20190702,0029,  22.7507, -157.9935,  4735, 1399.700,    2.985,   34.559,2,   34.558,2,   62.800,2,   63.000,2,  131.720,2,   41.090,2,    2.940,2, -999.000
           NA,HOT timeseries 1988to2019 27SEP2021,      2,  99,-999.0,    8078,-999.0,20190702,0029,  22.7507, -157.9935,  4735, 1600.100,    2.625,   34.584,2,   34.584,2,   71.700,2,   71.700,2,  139.860,2,   41.020,2,    2.900,2, -999.000
           NA,HOT timeseries 1988to2019 27SEP2021,      2,  99,-999.0,    8077,-999.0,20190702,0029,  22.7507, -157.9935,  4735, 1798.800,    2.314,   34.603,2,   34.603,2,   80.400,2,   80.400,2,  147.330,2,   40.290,2,    2.850,2, -999.000
           NA,HOT timeseries 1988to2019 27SEP2021,      2,  99,-999.0,    8076,-999.0,20190702,0029,  22.7507, -157.9935,  4735, 2000.500,    2.058,   34.620,2,   34.620,2,   88.500,2,   89.100,2,  153.250,2,   39.770,2,    2.800,2, -999.000
           NA,HOT timeseries 1988to2019 27SEP2021,      2,  99,-999.0,    8075,-999.0,20190702,0029,  22.7507, -157.9935,  4735, 2198.800,    1.887,   34.633,2,   34.633,2,   96.600,2, -999.000,3,  157.080,2,   39.260,2,    2.770,2, -999.000
           NA,HOT timeseries 1988to2019 27SEP2021,      2,  99,-999.0,    8074,-999.0,20190702,0029,  22.7507, -157.9935,  4735, 2399.500,    1.752,   34.645,2,   34.644,2,  103.800,2,  103.800,2,  159.560,2,   38.810,2,    2.730,2, -999.000
           NA,HOT timeseries 1988to2019 27SEP2021,      2,  99,-999.0,    8073,-999.0,20190702,0029,  22.7507, -157.9935,  4735, 2599.100,    1.644,   34.655,2,   34.655,2,  113.300,2,  113.400,2,  159.930,2,   38.260,2,    2.680,2, -999.000
           NA,HOT timeseries 1988to2019 27SEP2021,      2,  99,-999.0,    8072,-999.0,20190702,0029,  22.7507, -157.9935,  4735, 2799.900,    1.578,   34.663,2,   34.664,2,  120.900,2, -999.000,4,  159.010,2,   37.680,2,    2.640,2, -999.000
           NA,HOT timeseries 1988to2019 27SEP2021,      2,  99,-999.0,    8071,-999.0,20190702,0029,  22.7507, -157.9935,  4735, 2999.700,    1.520,   34.670,2,   34.670,2,  127.800,2,  128.000,2,  157.900,2,   37.230,2,    2.600,2, -999.000
           NA,HOT timeseries 1988to2019 27SEP2021,      2,  99,-999.0,    8070,-999.0,20190702,0029,  22.7507, -157.9935,  4735, 3198.000,    1.485,   34.675,2,   34.675,2,  133.900,2, -999.000,5,  156.850,2,   37.000,2,    2.570,2, -999.000
           NA,HOT timeseries 1988to2019 27SEP2021,      2,  99,-999.0,    8069,-999.0,20190702,0029,  22.7507, -157.9935,  4735, 3400.200,    1.464,   34.679,2,   34.678,2,  139.000,2,  139.200,2,  155.770,2,   36.690,2,    2.540,2, -999.000
           NA,HOT timeseries 1988to2019 27SEP2021,      2,  99,-999.0,    8068,-999.0,20190702,0029,  22.7507, -157.9935,  4735, 3599.500,    1.453,   34.682,2,   34.682,2,  143.700,2,  143.500,2,  154.100,2,   36.400,2,    2.510,2, -999.000
           NA,HOT timeseries 1988to2019 27SEP2021,      2,  99,-999.0,    8067,-999.0,20190702,0029,  22.7507, -157.9935,  4735, 3798.600,    1.450,   34.684,2,   34.684,2,  146.500,2,  146.700,2,  152.830,2,   36.220,2,    2.500,2, -999.000
           NA,HOT timeseries 1988to2019 27SEP2021,      2,  99,-999.0,    8066,-999.0,20190702,0029,  22.7507, -157.9935,  4735, 3999.100,    1.453,   34.686,2,   34.686,2,  149.300,2,  149.000,2,  151.930,2,   35.900,2,    2.490,2, -999.000
           NA,HOT timeseries 1988to2019 27SEP2021,      2,  99,-999.0,    8065,-999.0,20190702,0029,  22.7507, -157.9935,  4735, 4198.200,    1.463,   34.687,2,   34.688,2,  151.500,2,  150.300,2,  150.550,2,   35.810,2,    2.470,2, -999.000
           NA,HOT timeseries 1988to2019 27SEP2021,      2,  99,-999.0,    8004,-999.0,20190702,0029,  22.7507, -157.9935,  4735, 4400.200,    1.480,   34.688,2,   34.688,2,  152.300,2,  152.500,2,  150.590,2,   35.760,2,    2.460,2, -999.000
           NA,HOT timeseries 1988to2019 27SEP2021,      2,  99,-999.0,    8063,-999.0,20190702,0029,  22.7507, -157.9935,  4735, 4498.600,    1.489,   34.688,2,   34.688,2,  153.000,2,  152.200,2,  149.750,2,   35.750,2,    2.450,2, -999.000
           NA,HOT timeseries 1988to2019 27SEP2021,      2,  99,-999.0,    8062,-999.0,20190702,0029,  22.7507, -157.9935,  4735, 4600.000,    1.499,   34.688,2,   34.688,2,  153.400,2,  153.900,2,  149.320,2,   35.730,2,    2.440,2, -999.000
           NA,HOT timeseries 1988to2019 27SEP2021,      2,  99,-999.0,    8061,-999.0,20190702,0029,  22.7507, -157.9935,  4735, 4808.700,    1.516,   34.689,2,   34.689,2,  154.800,2,  155.000,2,  147.820,2,   35.640,2,    2.430,2, -999.000
           NA,HOT timeseries 1988to2019 27SEP2021,      2,  99,-999.0,    8084,-999.0,20190802,2136,  22.7498, -158.0005,  4744,    4.800,   26.911,   34.556,2,   34.555,2,  205.500,2,  206.000,2,    0.850,2,    0.030,2,    0.110,2, -999.000
           NA,HOT timeseries 1988to2019 27SEP2021,      2,  99,-999.0,    8083,-999.0,20190802,2136,  22.7498, -158.0005,  4744,   45.400,   25.086,   34.539,2,   34.541,2,  223.000,2,  221.300,2,    0.920,2,    0.020,2,    0.100,2, -999.000
           NA,HOT timeseries 1988to2019 27SEP2021,      2,  99,-999.0,    8081,-999.0,20190802,2136,  22.7498, -158.0005,  4744,  102.100,   22.674,   34.928,2, -999.000,3, -999.000,3,  209.400,2,    1.170,2,    0.040,2, -999.000,3, -999.000
           NA,HOT timeseries 1988to2019 27SEP2021,      2,  99,-999.0,    8077,-999.0,20190802,2136,  22.7498, -158.0005,  4744,  247.000,   15.737,   34.526,2,   34.515,2,  191.100,2,  191.900,2,    5.310,2,    6.370,2,    0.540,2, -999.000
           NA,HOT timeseries 1988to2019 27SEP2021,      2,  99,-999.0,    8076,-999.0,20190802,2136,  22.7498, -158.0005,  4744,  311.800,   11.891,   34.169,2,   34.161,2,  189.500,2,  187.400,2,   13.000,2,   13.470,2,    1.020,2, -999.000
           NA,HOT timeseries 1988to2019 27SEP2021,      2,  99,-999.0,    8075,-999.0,20190802,2136,  22.7498, -158.0005,  4744,  354.500,   10.269,   34.101,2,   34.105,2,  175.900,2,  176.500,2,   19.730,2,   17.850,2,    1.330,2, -999.000
           NA,HOT timeseries 1988to2019 27SEP2021,      2,  99,-999.0,    8074,-999.0,20190802,2136,  22.7498, -158.0005,  4744,  403.000,    9.168,   34.115,2,   34.119,2,  136.600,2,  132.500,2,   30.190,2,   23.810,2,    1.810,2, -999.000
           NA,HOT timeseries 1988to2019 27SEP2021,      2,  99,-999.0,    8073,-999.0,20190802,2136,  22.7498, -158.0005,  4744,  462.100,    7.837,   34.178,2,   34.179,2,   76.200,2,   76.200,2,   45.690,2,   30.880,2,    2.370,2, -999.000
           NA,HOT timeseries 1988to2019 27SEP2021,      2,  99,-999.0,    8072,-999.0,20190802,2136,  22.7498, -158.0005,  4744,  495.400,    7.282,   34.205,2,   34.205,2,   58.500,2,   57.200,2,   53.500,2,   33.660,2,    2.550,2, -999.000
           NA,HOT timeseries 1988to2019 27SEP2021,      2,  99,-999.0,    8071,-999.0,20190802,2136,  22.7498, -158.0005,  4744,  539.400,    6.676,   34.244,2,   34.239,2,   42.700,2,   43.300,2,   61.890,2,   36.150,2,    2.710,2, -999.000
           NA,HOT timeseries 1988to2019 27SEP2021,      2,  99,-999.0,    8070,-999.0,20190802,2136,  22.7498, -158.0005,  4744,  580.900,    6.335,   34.298,2,   34.300,2,   36.500,2,   34.800,2,   68.240,2,   37.710,2,    2.820,2, -999.000
           NA,HOT timeseries 1988to2019 27SEP2021,      2,  99,-999.0,    8068,-999.0,20190802,2136,  22.7498, -158.0005,  4744,  695.400,    5.699,   34.404,2,   34.403,2,   31.200,2,   30.000,2,   78.970,2,   39.990,2,    2.970,2, -999.000
           NA,HOT timeseries 1988to2019 27SEP2021,      2,  99,-999.0,    8067,-999.0,20190802,2136,  22.7498, -158.0005,  4744,  740.500,    5.495,   34.418,2,   34.417,2,   32.200,2,   32.000,2,   81.770,2,   40.400,2,    2.990,2, -999.000
           NA,HOT timeseries 1988to2019 27SEP2021,      2,  99,-999.0,    8066,-999.0,20190802,2136,  22.7498, -158.0005,  4744,  807.900,    5.134,   34.449,2,   34.447,2,   33.800,2, -999.000,4,   87.860,2,   40.990,2,    3.020,2, -999.000
           NA,HOT timeseries 1988to2019 27SEP2021,      2,  99,-999.0,    8065,-999.0,20190802,2136,  22.7498, -158.0005,  4744,  874.100,    4.970,   34.465,2,   34.467,2,   34.300,2, -999.000,4,   90.750,2,   41.350,2,    3.040,2, -999.000
           NA,HOT timeseries 1988to2019 27SEP2021,      2,  99,-999.0,    8004,-999.0,20190802,2136,  22.7498, -158.0005,  4744,  910.000,    4.876,   34.476,2,   34.474,2,   34.300,2,   33.500,2,   92.210,2,   41.430,2,    3.050,2, -999.000
           NA,HOT timeseries 1988to2019 27SEP2021,      2,  99,-999.0,    8063,-999.0,20190802,2136,  22.7498, -158.0005,  4744,  948.500,    4.702,   34.482,2,   34.482,2,   37.000,2, -999.000,4,   95.780,2,   41.490,2,    3.050,2, -999.000
           NA,HOT timeseries 1988to2019 27SEP2021,      2,  99,-999.0,    8061,-999.0,20190802,2136,  22.7498, -158.0005,  4744, 1018.900,    4.460,   34.498,2,   34.497,2,   40.400,2,   41.000,2,  100.160,2,   41.700,2,    3.050,2, -999.000
           NA,HOT timeseries 1988to2019 27SEP2021,      2,  99,-999.0,    8080,-999.0,20190802,2136,  22.7498, -158.0005,  4744, 1199.700,    3.990,   34.520,2,   34.522,2,   45.800,2,   46.300,2,  110.350,2,   41.920,2,    3.030,2, -999.000
           NA,HOT timeseries 1988to2019 27SEP2021,      2,  99,-999.0,    8079,-999.0,20190802,2136,  22.7498, -158.0005,  4744, 1398.900,    3.415,   34.546,2,   34.547,2,   55.800,2,   55.700,2,  122.090,2,   41.570,2,    2.990,2, -999.000
           NA,HOT timeseries 1988to2019 27SEP2021,      2,  99,-999.0,    8078,-999.0,20190802,2136,  22.7498, -158.0005,  4744, 1598.100,    2.998,   34.566,2,   34.568,2,   66.400,2, -999.000,4,  132.080,2,   40.810,2,    2.930,2, -999.000
           NA,HOT timeseries 1988to2019 27SEP2021,      2,  99,-999.0,    8077,-999.0,20190802,2136,  22.7498, -158.0005,  4744, 1799.300,    2.624,   34.587,2,   34.589,2,   74.400,2,   74.400,2,  139.110,2,   40.660,2,    2.900,2, -999.000
           NA,HOT timeseries 1988to2019 27SEP2021,      2,  99,-999.0,    8076,-999.0,20190802,2136,  22.7498, -158.0005,  4744, 1999.700,    2.299,   34.605,2,   34.607,2,   82.300,2,   82.700,2,  147.440,2,   40.200,2,    2.850,2, -999.000
           NA,HOT timeseries 1988to2019 27SEP2021,      2,  99,-999.0,    8075,-999.0,20190802,2136,  22.7498, -158.0005,  4744, 2200.600,    2.036,   34.623,2,   34.624,2,   92.100,2,   92.600,2,  153.240,2,   39.570,2,    2.810,2, -999.000
           NA,HOT timeseries 1988to2019 27SEP2021,      2,  99,-999.0,    8074,-999.0,20190802,2136,  22.7498, -158.0005,  4744, 2399.500,    1.891,   34.637,2,   34.636,2,  101.400,2, -999.000,4,  154.750,2,   38.970,2,    2.750,2, -999.000
           NA,HOT timeseries 1988to2019 27SEP2021,      2,  99,-999.0,    8073,-999.0,20190802,2136,  22.7498, -158.0005,  4744, 2601.100,    1.741,   34.647,2,   34.648,2,  107.300,2,  107.600,2,  158.800,2,   38.670,2,    2.720,2, -999.000
           NA,HOT timeseries 1988to2019 27SEP2021,      2,  99,-999.0,    8072,-999.0,20190802,2136,  22.7498, -158.0005,  4744, 2802.600,    1.643,   34.657,2,   34.657,2,  114.600,2,  115.000,2,  159.830,2,   38.160,2,    2.680,2, -999.000
           NA,HOT timeseries 1988to2019 27SEP2021,      2,  99,-999.0,    8071,-999.0,20190802,2136,  22.7498, -158.0005,  4744, 2999.000,    1.580,   34.664,2,   34.664,2,  122.000,2,  122.500,2,  159.000,2,   37.700,2,    2.650,2, -999.000
           NA,HOT timeseries 1988to2019 27SEP2021,      2,  99,-999.0,    8070,-999.0,20190802,2136,  22.7498, -158.0005,  4744, 3199.800,    1.531,   34.672,2,   34.671,2,  129.700,2,  129.500,2,  157.640,2,   37.340,2,    2.620,2, -999.000
           NA,HOT timeseries 1988to2019 27SEP2021,      2,  99,-999.0,    8069,-999.0,20190802,2136,  22.7498, -158.0005,  4744, 3399.900,    1.507,   34.676,2,   34.675,2,  133.500,2,  133.500,2,  157.920,2,   37.070,2,    2.590,2, -999.000
           NA,HOT timeseries 1988to2019 27SEP2021,      2,  99,-999.0,    8068,-999.0,20190802,2136,  22.7498, -158.0005,  4744, 3602.700,    1.476,   34.679,2,   34.679,2,  140.200,2,  140.400,2,  155.370,2,   36.570,2,    2.540,2, -999.000
           NA,HOT timeseries 1988to2019 27SEP2021,      2,  99,-999.0,    8067,-999.0,20190802,2136,  22.7498, -158.0005,  4744, 3800.400,    1.470,   34.682,2,   34.681,2,  143.800,2,  143.600,2,  153.550,2,   36.220,2,    2.520,2, -999.000
           NA,HOT timeseries 1988to2019 27SEP2021,      2,  99,-999.0,    8066,-999.0,20190802,2136,  22.7498, -158.0005,  4744, 4001.100,    1.469,   34.684,2,   34.683,2,  147.200,2,  146.400,2,  152.140,2,   36.170,2,    2.510,2, -999.000
           NA,HOT timeseries 1988to2019 27SEP2021,      2,  99,-999.0,    8065,-999.0,20190802,2136,  22.7498, -158.0005,  4744, 4200.500,    1.478,   34.685,2,   34.684,2,  149.900,2,  148.600,2,  151.570,2,   35.920,2,    2.500,2, -999.000
           NA,HOT timeseries 1988to2019 27SEP2021,      2,  99,-999.0,    8004,-999.0,20190802,2136,  22.7498, -158.0005,  4744, 4401.200,    1.491,   34.686,2,   34.686,2,  151.600,2,  150.600,2,  150.650,2,   35.820,2,    2.480,2, -999.000
           NA,HOT timeseries 1988to2019 27SEP2021,      2,  99,-999.0,    8063,-999.0,20190802,2136,  22.7498, -158.0005,  4744, 4500.900,    1.497,   34.687,2,   34.686,2,  152.600,2, -999.000,3,  150.060,2,   35.870,2,    2.480,2, -999.000
           NA,HOT timeseries 1988to2019 27SEP2021,      2,  99,-999.0,    8062,-999.0,20190802,2136,  22.7498, -158.0005,  4744, 4600.700,    1.502,   34.687,2,   34.685,2,  153.400,2, -999.000,4,  149.450,2,   35.990,2,    2.480,2, -999.000
           NA,HOT timeseries 1988to2019 27SEP2021,      2,  99,-999.0,    8061,-999.0,20190802,2136,  22.7498, -158.0005,  4744, 4808.900,    1.512,   34.688,2,   34.688,2,  156.200,2,  156.500,2,  147.360,2,   35.720,2,    2.450,2, -999.000