BOTTLE,20214727JOAExport
EXPOCODE,SECT_ID,STNNBR,CASTNO,SAMPNO,BTLNBR,BTLNBR_FLAG_W,DATE,TIME,LATITUDE,LONGITUDE,DEPTH,CTDPRS,CTDTMP,CTDSAL,CTDSAL_FLAG_W,SALNTY,SALNTY_FLAG_W,CTDOXY,CTDOXY_FLAG_W,OXYGEN,OXYGEN_FLAG_W,SILCAT,SILCAT_FLAG_W,NINI,NINI_FLAG_W,PHSPHT,PHSPHT_FLAG_W,REVP
,,,,,,,,,,,,DB,IPTS-68,PSS-78,,PSS-78,,UMOL/KG,,UMOL/KG,,UMOL/KG,,UMOL/KG,,UMOL/KG,,DBAR
           NA,HOT timeseries 1988to2019 27SEP2021,    110,  99,-999.0,      31,-999.0,20000425,1357,  22.7450, -158.0008,  4722,    4.400,   23.689,   34.902,2,   34.906,2,  213.400,2,  212.500,2,    2.670,2,    0.000,2,    0.090,2, -999.000
           NA,HOT timeseries 1988to2019 27SEP2021,    110,  99,-999.0,      31,-999.0,20000425,1357,  22.7450, -158.0008,  4722,    5.200,   23.772,   34.892,2,   34.891,2,  211.900,2,  212.600,2,    2.440,2,    0.000,2,    0.150,2, -999.000
           NA,HOT timeseries 1988to2019 27SEP2021,    110,  99,-999.0,      30,-999.0,20000425,1357,  22.7450, -158.0008,  4722,   45.000,   23.508,   34.932,2,   34.938,2,  214.000,2,  214.000,2,    1.610,2,    0.000,2,    0.130,2, -999.000
           NA,HOT timeseries 1988to2019 27SEP2021,    110,  99,-999.0,      22,-999.0,20000425,1357,  22.7450, -158.0008,  4722,   70.400,   23.111,   35.069,2,   35.068,2,  216.300,2,  216.200,2,    1.610,2,    0.010,2, -999.000,3, -999.000
           NA,HOT timeseries 1988to2019 27SEP2021,    110,  99,-999.0,      21,-999.0,20000425,1357,  22.7450, -158.0008,  4722,  140.100,   21.621,   35.134,2, -999.000,3, -999.000,3,  207.600,2,    2.190,2,    0.130,2,    0.200,2, -999.000
           NA,HOT timeseries 1988to2019 27SEP2021,    110,  99,-999.0,      20,-999.0,20000425,1357,  22.7450, -158.0008,  4722,  204.800,   19.102,   35.000,2,   34.999,2,  193.400,2,  192.800,2,    2.830,2,    2.570,2,    0.300,2, -999.000
           NA,HOT timeseries 1988to2019 27SEP2021,    110,  99,-999.0,      19,-999.0,20000425,1357,  22.7450, -158.0008,  4722,  265.100,   15.910,   34.633,2,   34.634,2,  198.100,2,  197.700,2,    5.010,2,    5.010,2,    0.410,2, -999.000
           NA,HOT timeseries 1988to2019 27SEP2021,    110,  99,-999.0,      18,-999.0,20000425,1357,  22.7450, -158.0008,  4722,  299.000,   14.274,   34.424,2,   34.428,2,  197.700,2,  196.000,2,    6.930,2,    7.160,2,    0.570,2, -999.000
           NA,HOT timeseries 1988to2019 27SEP2021,    110,  99,-999.0,      17,-999.0,20000425,1357,  22.7450, -158.0008,  4722,  338.600,   11.497,   34.183,2, -999.000,3, -999.000,3,  191.800,2,   12.120,2,   12.240,2,    0.910,2, -999.000
           NA,HOT timeseries 1988to2019 27SEP2021,    110,  99,-999.0,      16,-999.0,20000425,1357,  22.7450, -158.0008,  4722,  371.300,   10.454,   34.128,2,   34.129,2,  191.500,2,  191.500,2,   16.750,2,   15.340,2,    1.100,2, -999.000
           NA,HOT timeseries 1988to2019 27SEP2021,    110,  99,-999.0,      23,-999.0,20000425,1357,  22.7450, -158.0008,  4722,  399.500,    9.811,   34.128,2,   34.123,2,  178.700,2,  176.700,2,   21.360,2,   18.040,2,    1.350,2, -999.000
           NA,HOT timeseries 1988to2019 27SEP2021,    110,  99,-999.0,      14,-999.0,20000425,1357,  22.7450, -158.0008,  4722,  429.400,    9.214,   34.105,2,   34.106,2,  166.800,2,  166.800,2,   25.770,2,   20.420,2,    1.520,2, -999.000
           NA,HOT timeseries 1988to2019 27SEP2021,    110,  99,-999.0,      13,-999.0,20000425,1357,  22.7450, -158.0008,  4722,  482.100,    7.698,   34.062,2,   34.064,2,  120.700,2,  131.400,2,   39.830,2,   26.390,2,    1.990,2, -999.000
           NA,HOT timeseries 1988to2019 27SEP2021,    110,  99,-999.0,      12,-999.0,20000425,1357,  22.7450, -158.0008,  4722,  529.300,    6.708,   34.032,2,   34.035,2,  111.000,2,  110.600,2,   50.620,2,   30.320,2,    2.250,2, -999.000
           NA,HOT timeseries 1988to2019 27SEP2021,    110,  99,-999.0,      11,-999.0,20000425,1357,  22.7450, -158.0008,  4722,  568.400,    6.049,   34.069,2,   34.069,2,   82.400,2,   81.100,2,   62.850,2,   34.140,2,    2.520,2, -999.000
           NA,HOT timeseries 1988to2019 27SEP2021,    110,  99,-999.0,      32,-999.0,20000425,1357,  22.7450, -158.0008,  4722,  599.200,    5.669,   34.093,2,   34.093,2,   67.600,2,   66.200,2,   70.420,2,   36.460,2,    2.660,2, -999.000
           NA,HOT timeseries 1988to2019 27SEP2021,    110,  99,-999.0,       3,-999.0,20000425,1357,  22.7450, -158.0008,  4722,  639.800,    5.409,   34.129,2,   34.134,2,   52.600,2,   51.200,2,   76.970,2,   37.790,2,    2.790,2, -999.000
           NA,HOT timeseries 1988to2019 27SEP2021,    110,  99,-999.0,      28,-999.0,20000425,1357,  22.7450, -158.0008,  4722,  708.900,    4.874,   34.246,2,   34.246,2,   29.300,2,   29.300,2,   91.060,2,   40.890,2,    2.910,2, -999.000
           NA,HOT timeseries 1988to2019 27SEP2021,    110,  99,-999.0,       7,-999.0,20000425,1357,  22.7450, -158.0008,  4722,  759.300,    4.671,   34.306,2,   34.312,2,   26.800,2,   25.200,2,   96.860,2,   41.340,2,    3.030,2, -999.000
           NA,HOT timeseries 1988to2019 27SEP2021,    110,  99,-999.0,      38,-999.0,20000425,1357,  22.7450, -158.0008,  4722,  833.900,    4.371,   34.388,2,   34.385,2,   26.700,2,   26.800,2,  100.640,2,   40.730,2,    3.030,2, -999.000
           NA,HOT timeseries 1988to2019 27SEP2021,    110,  99,-999.0,      35,-999.0,20000425,1357,  22.7450, -158.0008,  4722,  909.600,    4.226,   34.447,2,   34.451,2,   36.000,2,   36.800,2,  105.140,2,   41.490,2,    3.000,2, -999.000
           NA,HOT timeseries 1988to2019 27SEP2021,    110,  99,-999.0,      34,-999.0,20000425,1357,  22.7450, -158.0008,  4722,  971.800,    4.025,   34.473,2,   34.472,2,   39.400,2,   39.700,2,  109.830,2,   41.630,2,    3.010,2, -999.000
           NA,HOT timeseries 1988to2019 27SEP2021,    110,  99,-999.0,      33,-999.0,20000425,1357,  22.7450, -158.0008,  4722, 1019.800,    3.898,   34.493,2,   34.492,2,   42.900,2,   42.600,2,  112.000,2,   41.550,2,    3.010,2, -999.000
           NA,HOT timeseries 1988to2019 27SEP2021,    110,  99,-999.0,      20,-999.0,20000425,1357,  22.7450, -158.0008,  4722, 1200.700,    3.566,   34.515,2,   34.515,2,   48.500,2,   48.200,2,  119.230,2,   41.330,2,    3.000,2, -999.000
           NA,HOT timeseries 1988to2019 27SEP2021,    110,  99,-999.0,      19,-999.0,20000425,1357,  22.7450, -158.0008,  4722, 1401.000,    2.999,   34.560,2,   34.558,2,   61.000,2,   60.800,2,  130.330,2,   40.900,2,    2.900,2, -999.000
           NA,HOT timeseries 1988to2019 27SEP2021,    110,  99,-999.0,      18,-999.0,20000425,1357,  22.7450, -158.0008,  4722, 1599.000,    2.604,   34.585,2,   34.584,2,   71.200,2,   71.600,2,  140.050,2,   40.630,2,    2.840,2, -999.000
           NA,HOT timeseries 1988to2019 27SEP2021,    110,  99,-999.0,      17,-999.0,20000425,1357,  22.7450, -158.0008,  4722, 1801.500,    2.319,   34.603,2,   34.602,2,   79.300,2,   79.600,2,  146.250,2,   39.730,2,    2.830,2, -999.000
           NA,HOT timeseries 1988to2019 27SEP2021,    110,  99,-999.0,      16,-999.0,20000425,1357,  22.7450, -158.0008,  4722, 1999.400,    2.062,   34.624,2,   34.622,2,   90.100,2,   90.900,2,  151.620,2,   39.170,2,    2.760,2, -999.000
           NA,HOT timeseries 1988to2019 27SEP2021,    110,  99,-999.0,      23,-999.0,20000425,1357,  22.7450, -158.0008,  4722, 2203.200,    1.879,   34.640,2,   34.641,2,  100.000,2,  100.500,2,  154.330,2,   38.850,2,    2.720,2, -999.000
           NA,HOT timeseries 1988to2019 27SEP2021,    110,  99,-999.0,      14,-999.0,20000425,1357,  22.7450, -158.0008,  4722, 2400.400,    1.755,   34.651,2,   34.650,2,  106.900,2,  107.600,2,  156.260,2,   38.750,2,    2.680,2, -999.000
           NA,HOT timeseries 1988to2019 27SEP2021,    110,  99,-999.0,      13,-999.0,20000425,1357,  22.7450, -158.0008,  4722, 2601.200,    1.681,   34.658,2, -999.000,3, -999.000,3,  112.300,2,  156.420,2,   37.780,2,    2.630,2, -999.000
           NA,HOT timeseries 1988to2019 27SEP2021,    110,  99,-999.0,      12,-999.0,20000425,1357,  22.7450, -158.0008,  4722, 2799.700,    1.617,   34.663,2,   34.663,2,  118.100,2,  118.100,2,  158.220,2, -999.000,3,    2.600,2, -999.000
           NA,HOT timeseries 1988to2019 27SEP2021,    110,  99,-999.0,      11,-999.0,20000425,1357,  22.7450, -158.0008,  4722, 3001.900,    1.547,   34.670,2,   34.670,2,  125.100,2,  125.800,2,  157.600,2,   37.200,2,    2.590,2, -999.000
           NA,HOT timeseries 1988to2019 27SEP2021,    110,  99,-999.0,      32,-999.0,20000425,1357,  22.7450, -158.0008,  4722, 3199.600,    1.500,   34.676,2,   34.675,2,  131.500,2,  132.000,2,  156.460,2,   36.780,2,    2.570,2, -999.000
           NA,HOT timeseries 1988to2019 27SEP2021,    110,  99,-999.0,       3,-999.0,20000425,1357,  22.7450, -158.0008,  4722, 3401.700,    1.466,   34.680,2,   34.682,2,  137.700,2,  138.300,2,  154.990,2,   36.410,2,    2.530,2, -999.000
           NA,HOT timeseries 1988to2019 27SEP2021,    110,  99,-999.0,      29,-999.0,20000425,1357,  22.7450, -158.0008,  4722, 3600.100,    1.452,   34.683,2,   34.683,2,  142.100,2,  142.400,2,  153.730,2,   36.300,2,    2.510,2, -999.000
           NA,HOT timeseries 1988to2019 27SEP2021,    110,  99,-999.0,      28,-999.0,20000425,1357,  22.7450, -158.0008,  4722, 3800.200,    1.447,   34.685,2, -999.000,4, -999.000,3,  145.900,2,  152.550,2,   35.960,2,    2.440,2, -999.000
           NA,HOT timeseries 1988to2019 27SEP2021,    110,  99,-999.0,       7,-999.0,20000425,1357,  22.7450, -158.0008,  4722, 3999.500,    1.450,   34.687,2,   34.687,2,  148.700,2,  148.300,2,  150.220,2,   35.840,2,    2.520,2, -999.000
           NA,HOT timeseries 1988to2019 27SEP2021,    110,  99,-999.0,      38,-999.0,20000425,1357,  22.7450, -158.0008,  4722, 4201.800,    1.460,   34.688,2,   34.688,2,  150.400,2,  150.100,2,  149.560,2,   35.720,2,    2.460,2, -999.000
           NA,HOT timeseries 1988to2019 27SEP2021,    110,  99,-999.0,      36,-999.0,20000425,1357,  22.7450, -158.0008,  4722, 4401.900,    1.475,   34.688,2,   34.689,2,  151.900,2,  151.500,2,  148.600,2,   35.540,2,    2.410,2, -999.000
           NA,HOT timeseries 1988to2019 27SEP2021,    110,  99,-999.0,      35,-999.0,20000425,1357,  22.7450, -158.0008,  4722, 4501.200,    1.484,   34.688,2,   34.688,2,  152.100,2,  151.800,2,  148.410,2,   35.400,2,    2.450,2, -999.000
           NA,HOT timeseries 1988to2019 27SEP2021,    110,  99,-999.0,      34,-999.0,20000425,1357,  22.7450, -158.0008,  4722, 4601.100,    1.493,   34.689,2,   34.688,2,  152.500,2,  151.700,2,  148.370,2,   35.490,2,    2.430,2, -999.000
           NA,HOT timeseries 1988to2019 27SEP2021,    110,  99,-999.0,      33,-999.0,20000425,1357,  22.7450, -158.0008,  4722, 4805.300,    1.515,   34.689,2,   34.690,2,  152.700,2,  152.800,2,  147.660,2,   35.480,2,    2.450,2, -999.000