BOTTLE,20214727JOAExport
EXPOCODE,SECT_ID,STNNBR,CASTNO,SAMPNO,BTLNBR,BTLNBR_FLAG_W,DATE,TIME,LATITUDE,LONGITUDE,DEPTH,CTDPRS,CTDTMP,CTDSAL,CTDSAL_FLAG_W,SALNTY,SALNTY_FLAG_W,CTDOXY,CTDOXY_FLAG_W,OXYGEN,OXYGEN_FLAG_W,SILCAT,SILCAT_FLAG_W,NINI,NINI_FLAG_W,PHSPHT,PHSPHT_FLAG_W,REVP
,,,,,,,,,,,,DB,IPTS-68,PSS-78,,PSS-78,,UMOL/KG,,UMOL/KG,,UMOL/KG,,UMOL/KG,,UMOL/KG,,DBAR
           NA,HOT timeseries 1988to2019 27SEP2021,    176,  99,-999.0,    8030,-999.0,20060401,1559,  22.7503, -158.0012,  4742,    8.700,   23.316,   34.894,2,   34.894,2,  212.100,2,  211.200,2,    0.770,2,    0.080,2,    0.040,2, -999.000
           NA,HOT timeseries 1988to2019 27SEP2021,    176,  99,-999.0,    8030,-999.0,20060401,1559,  22.7503, -158.0012,  4742,   14.800,   23.277,   34.897,2,   34.894,2,  211.000,2,  211.400,2,    0.740,2,    0.040,2,    0.040,2, -999.000
           NA,HOT timeseries 1988to2019 27SEP2021,    176,  99,-999.0,    8039,-999.0,20060401,1559,  22.7503, -158.0012,  4742,   44.200,   23.303,   35.004,2,   34.997,2,  211.100,2,  211.800,2,    0.740,2,    0.050,2,    0.030,2, -999.000
           NA,HOT timeseries 1988to2019 27SEP2021,    176,  99,-999.0,    8058,-999.0,20060401,1559,  22.7503, -158.0012,  4742,   99.900,   22.734,   35.250,2,   35.247,2,  201.600,2,  203.300,2,    0.820,2, -999.000,3,    0.050,2, -999.000
           NA,HOT timeseries 1988to2019 27SEP2021,    176,  99,-999.0,    8052,-999.0,20060401,1559,  22.7503, -158.0012,  4742,  152.200,   21.959,   35.281,2,   35.280,2,  208.800,2,  208.400,2,    0.960,2,    0.290,2,    0.030,2, -999.000
           NA,HOT timeseries 1988to2019 27SEP2021,    176,  99,-999.0,    8049,-999.0,20060401,1559,  22.7503, -158.0012,  4742,  196.500,   21.208,   35.274,2,   35.275,2,  209.600,2,  210.500,2,    1.240,2,    0.310,2,    0.030,2, -999.000
           NA,HOT timeseries 1988to2019 27SEP2021,    176,  99,-999.0,    8043,-999.0,20060401,1559,  22.7503, -158.0012,  4742,  240.100,   17.823,   34.765,2,   34.771,2,  191.900,2,  192.500,2, -999.000,3,    3.440,2,    0.290,2, -999.000
           NA,HOT timeseries 1988to2019 27SEP2021,    176,  99,-999.0,    8045,-999.0,20060401,1559,  22.7503, -158.0012,  4742,  283.800,   14.911,   34.473,2,   34.459,2,  199.800,2,  200.800,2,    5.330,2,    6.470,2,    0.490,2, -999.000
           NA,HOT timeseries 1988to2019 27SEP2021,    176,  99,-999.0,    8007,-999.0,20060401,1559,  22.7503, -158.0012,  4742,  340.500,   11.353,   34.161,2,   34.160,2,  175.200,2,  166.700,2,   14.650,2,   15.490,2,    1.180,2, -999.000
           NA,HOT timeseries 1988to2019 27SEP2021,    176,  99,-999.0,    8034,-999.0,20060401,1559,  22.7503, -158.0012,  4742,  385.400,   10.321,   34.181,2,   34.178,2,  141.300,2,  139.200,2,   21.500,2,   20.330,2,    1.560,2, -999.000
           NA,HOT timeseries 1988to2019 27SEP2021,    176,  99,-999.0,    8033,-999.0,20060401,1559,  22.7503, -158.0012,  4742,  399.300,    9.929,   34.199,2,   34.197,2,  119.600,2,  123.200,2,   25.420,2,   22.810,2,    1.760,2, -999.000
           NA,HOT timeseries 1988to2019 27SEP2021,    176,  99,-999.0,    8055,-999.0,20060401,1559,  22.7503, -158.0012,  4742,  471.400,    7.809,   34.058,2,   34.058,2,  139.800,2,  140.500,2,   37.650,2,   25.920,2,    1.850,2, -999.000
           NA,HOT timeseries 1988to2019 27SEP2021,    176,  99,-999.0,    8036,-999.0,20060401,1559,  22.7503, -158.0012,  4742,  517.600,    7.117,   34.048,2,   34.048,2,  121.700,2,  121.300,2,   46.450,2,   29.010,2,    2.080,2, -999.000
           NA,HOT timeseries 1988to2019 27SEP2021,    176,  99,-999.0,    8052,-999.0,20060401,1559,  22.7503, -158.0012,  4742,  604.100,    5.629,   34.084,2,   34.087,2,   70.900,2,   69.900,2,   70.130,2,   35.830,2,    2.600,2, -999.000
           NA,HOT timeseries 1988to2019 27SEP2021,    176,  99,-999.0,    8047,-999.0,20060401,1559,  22.7503, -158.0012,  4742,  665.100,    5.175,   34.128,2,   34.128,2,   50.900,2,   51.400,2,   80.050,2,   38.240,2,    2.780,2, -999.000
           NA,HOT timeseries 1988to2019 27SEP2021,    176,  99,-999.0,    8035,-999.0,20060401,1559,  22.7503, -158.0012,  4742,  725.000,    4.968,   34.222,2,   34.217,2,   31.700,2,   31.600,2,   87.790,2,   40.120,2,    2.950,2, -999.000
           NA,HOT timeseries 1988to2019 27SEP2021,    176,  99,-999.0,    8046,-999.0,20060401,1559,  22.7503, -158.0012,  4742,  759.200,    4.717,   34.279,2,   34.280,2,   24.900,2,   24.700,2,   94.470,2,   41.220,2,    3.030,2, -999.000
           NA,HOT timeseries 1988to2019 27SEP2021,    176,  99,-999.0,    8048,-999.0,20060401,1559,  22.7503, -158.0012,  4742,  795.300,    4.526,   34.307,2,   34.305,2,   25.900,2,   25.300,2,   98.630,2,   41.440,2,    3.050,2, -999.000
           NA,HOT timeseries 1988to2019 27SEP2021,    176,  99,-999.0,    8037,-999.0,20060401,1559,  22.7503, -158.0012,  4742,  836.900,    4.461,   34.364,2,   34.363,2,   27.300,2,   27.200,2,  101.050,2,   41.680,2,    3.060,2, -999.000
           NA,HOT timeseries 1988to2019 27SEP2021,    176,  99,-999.0,    8038,-999.0,20060401,1559,  22.7503, -158.0012,  4742,  879.400,    4.355,   34.401,2,   34.400,2,   30.300,2,   30.700,2,  104.400,2,   41.530,2,    3.040,2, -999.000
           NA,HOT timeseries 1988to2019 27SEP2021,    176,  99,-999.0,    8053,-999.0,20060401,1559,  22.7503, -158.0012,  4742,  940.400,    4.205,   34.445,2,   34.444,2,   35.500,2,   35.800,2,  106.000,2,   41.530,2,    3.030,2, -999.000
           NA,HOT timeseries 1988to2019 27SEP2021,    176,  99,-999.0,    8027,-999.0,20060401,1559,  22.7503, -158.0012,  4742, 1002.300,    3.997,   34.479,2,   34.480,2,   40.700,2,   40.900,2,  109.920,2,   41.620,2,    3.030,2, -999.000
           NA,HOT timeseries 1988to2019 27SEP2021,    176,  99,-999.0,    8049,-999.0,20060401,1559,  22.7503, -158.0012,  4742, 1199.700,    3.394,   34.535,2,   34.535,2,   52.300,2,   52.000,2,  122.170,2,   41.740,2,    3.030,2, -999.000
           NA,HOT timeseries 1988to2019 27SEP2021,    176,  99,-999.0,    8043,-999.0,20060401,1559,  22.7503, -158.0012,  4742, 1401.700,    2.990,   34.570,2,   34.571,2,   59.900,2,   60.200,2,  131.510,2,   41.350,2,    3.000,2, -999.000
           NA,HOT timeseries 1988to2019 27SEP2021,    176,  99,-999.0,    8045,-999.0,20060401,1559,  22.7503, -158.0012,  4742, 1600.500,    2.707,   34.583,2,   34.582,2,   69.200,2,   69.500,2,  138.830,2,   40.810,2,    2.940,2, -999.000
           NA,HOT timeseries 1988to2019 27SEP2021,    176,  99,-999.0,    8007,-999.0,20060401,1559,  22.7503, -158.0012,  4742, 1800.500,    2.446,   34.602,2,   34.601,2,   77.100,2,   77.200,2,  142.970,2,   40.410,2,    2.890,2, -999.000
           NA,HOT timeseries 1988to2019 27SEP2021,    176,  99,-999.0,    8034,-999.0,20060401,1559,  22.7503, -158.0012,  4742, 2002.000,    2.129,   34.621,2,   34.621,2,   88.500,2,   88.200,2,  149.560,2,   39.810,2,    2.840,2, -999.000
           NA,HOT timeseries 1988to2019 27SEP2021,    176,  99,-999.0,    8033,-999.0,20060401,1559,  22.7503, -158.0012,  4742, 2202.100,    1.954,   34.635,2,   34.635,2,   96.300,2,   96.400,2,  153.830,2,   39.200,2,    2.790,2, -999.000
           NA,HOT timeseries 1988to2019 27SEP2021,    176,  99,-999.0,    8029,-999.0,20060401,1559,  22.7503, -158.0012,  4742, 2399.700,    1.807,   34.647,2,   34.647,2,  104.300,2,  104.000,2,  156.370,2,   38.770,2,    2.750,2, -999.000
           NA,HOT timeseries 1988to2019 27SEP2021,    176,  99,-999.0,    8055,-999.0,20060401,1559,  22.7503, -158.0012,  4742, 2599.200,    1.692,   34.656,2, -999.000,3, -999.000,3,  111.100,2,  158.130,2,   38.370,2,    2.710,2, -999.000
           NA,HOT timeseries 1988to2019 27SEP2021,    176,  99,-999.0,    8036,-999.0,20060401,1559,  22.7503, -158.0012,  4742, 2802.500,    1.605,   34.665,2,   34.664,2,  118.600,2,  118.500,2,  158.250,2,   38.100,2,    2.690,2, -999.000
           NA,HOT timeseries 1988to2019 27SEP2021,    176,  99,-999.0,    8040,-999.0,20060401,1559,  22.7503, -158.0012,  4742, 3000.200,    1.556,   34.670,2, -999.000,5,  123.800,2,  124.100,2,  157.880,2,   37.390,2,    2.640,2, -999.000
           NA,HOT timeseries 1988to2019 27SEP2021,    176,  99,-999.0,    8052,-999.0,20060401,1559,  22.7503, -158.0012,  4742, 3199.800,    1.507,   34.676,2,   34.676,2,  130.700,2,  130.200,2,  156.230,2,   36.970,2,    2.600,2, -999.000
           NA,HOT timeseries 1988to2019 27SEP2021,    176,  99,-999.0,    8047,-999.0,20060401,1559,  22.7503, -158.0012,  4742, 3398.900,    1.482,   34.680,2,   34.679,2,  135.100,2,  134.600,2,  155.560,2,   36.700,2,    2.580,2, -999.000
           NA,HOT timeseries 1988to2019 27SEP2021,    176,  99,-999.0,    8035,-999.0,20060401,1559,  22.7503, -158.0012,  4742, 3597.800,    1.463,   34.683,2,   34.682,2,  139.700,2,  139.300,2,  153.520,2,   36.410,2,    2.550,2, -999.000
           NA,HOT timeseries 1988to2019 27SEP2021,    176,  99,-999.0,    8046,-999.0,20060401,1559,  22.7503, -158.0012,  4742, 3801.000,    1.454,   34.686,2,   34.685,2,  144.000,2,  143.200,2,  151.360,2,   36.280,2,    2.530,2, -999.000
           NA,HOT timeseries 1988to2019 27SEP2021,    176,  99,-999.0,    8048,-999.0,20060401,1559,  22.7503, -158.0012,  4742, 3999.200,    1.454,   34.688,2,   34.689,2,  146.700,2,  146.000,2,  150.430,2,   36.060,2,    2.520,2, -999.000
           NA,HOT timeseries 1988to2019 27SEP2021,    176,  99,-999.0,    8037,-999.0,20060401,1559,  22.7503, -158.0012,  4742, 4200.600,    1.465,   34.689,2,   34.688,2,  148.600,2,  148.500,2,  148.470,2,   36.040,2,    2.520,2, -999.000
           NA,HOT timeseries 1988to2019 27SEP2021,    176,  99,-999.0,    8038,-999.0,20060401,1559,  22.7503, -158.0012,  4742, 4399.300,    1.480,   34.689,2,   34.689,2,  149.500,2,  149.200,2,  148.420,2,   35.760,2,    2.510,2, -999.000
           NA,HOT timeseries 1988to2019 27SEP2021,    176,  99,-999.0,    8054,-999.0,20060401,1559,  22.7503, -158.0012,  4742, 4499.800,    1.490,   34.689,2,   34.689,2,  149.900,2,  150.000,2,  147.740,2,   35.790,2,    2.510,2, -999.000
           NA,HOT timeseries 1988to2019 27SEP2021,    176,  99,-999.0,    8053,-999.0,20060401,1559,  22.7503, -158.0012,  4742, 4599.900,    1.498,   34.690,2,   34.690,2,  150.400,2,  150.400,2,  147.630,2,   35.720,2,    2.510,2, -999.000
           NA,HOT timeseries 1988to2019 27SEP2021,    176,  99,-999.0,    8027,-999.0,20060401,1559,  22.7503, -158.0012,  4742, 4800.100,    1.522,   34.690,2,   34.689,2,  150.400,2,  150.200,2,  147.430,2,   35.500,2,    2.480,2, -999.000