BOTTLE,20214727JOAExport
EXPOCODE,SECT_ID,STNNBR,CASTNO,SAMPNO,BTLNBR,BTLNBR_FLAG_W,DATE,TIME,LATITUDE,LONGITUDE,DEPTH,CTDPRS,CTDTMP,CTDSAL,CTDSAL_FLAG_W,SALNTY,SALNTY_FLAG_W,CTDOXY,CTDOXY_FLAG_W,OXYGEN,OXYGEN_FLAG_W,SILCAT,SILCAT_FLAG_W,NINI,NINI_FLAG_W,PHSPHT,PHSPHT_FLAG_W,REVP
,,,,,,,,,,,,DB,IPTS-68,PSS-78,,PSS-78,,UMOL/KG,,UMOL/KG,,UMOL/KG,,UMOL/KG,,UMOL/KG,,DBAR
           NA,HOT timeseries 1988to2019 27SEP2021,    146,  99,-999.0,      31,-999.0,20030719,1828,  22.7498, -157.9962,  4722,    5.200,   25.913,   35.347,2,   35.348,2,  206.900,2,  206.900,2,    1.550,2,    0.040,2,    0.020,2, -999.000
           NA,HOT timeseries 1988to2019 27SEP2021,    146,  99,-999.0,      30,-999.0,20030719,1828,  22.7498, -157.9962,  4722,   39.100,   25.714,   35.374,2,   35.375,2,  209.400,2,  210.600,2,    1.500,2,    0.050,2,    0.020,2, -999.000
           NA,HOT timeseries 1988to2019 27SEP2021,    146,  99,-999.0,      22,-999.0,20030719,1828,  22.7498, -157.9962,  4722,   75.100,   23.647,   35.321,2, -999.000,3, -999.000,3,  224.200,2,    1.670,2,    0.050,2,    0.020,2, -999.000
           NA,HOT timeseries 1988to2019 27SEP2021,    146,  99,-999.0,      21,-999.0,20030719,1828,  22.7498, -157.9962,  4722,  104.900,   22.205,   35.311,2,   35.309,2,  221.300,2,  221.700,2,    1.830,2,    0.050,2,    0.030,2, -999.000
           NA,HOT timeseries 1988to2019 27SEP2021,    146,  99,-999.0,      20,-999.0,20030719,1828,  22.7498, -157.9962,  4722,  163.400,   19.232,   35.050,2,   35.067,2,  214.700,2,  213.800,2,    2.760,2,    1.130,2, -999.000,3, -999.000
           NA,HOT timeseries 1988to2019 27SEP2021,    146,  99,-999.0,      19,-999.0,20030719,1828,  22.7498, -157.9962,  4722,  224.900,   16.328,   34.664,2,   34.676,2,  190.500,2,  191.200,2,    6.120,2,    5.740,2,    0.460,2, -999.000
           NA,HOT timeseries 1988to2019 27SEP2021,    146,  99,-999.0,      18,-999.0,20030719,1828,  22.7498, -157.9962,  4722,  259.100,   13.782,   34.369,2,   34.368,2,  188.700,2,  189.000,2,    9.530,2,    9.530,2,    0.720,2, -999.000
           NA,HOT timeseries 1988to2019 27SEP2021,    146,  99,-999.0,      17,-999.0,20030719,1828,  22.7498, -157.9962,  4722,  295.600,   12.504,   34.279,2,   34.282,2,  188.800,2,  187.100,2,   12.450,2,   12.180,2,    0.920,2, -999.000
           NA,HOT timeseries 1988to2019 27SEP2021,    146,  99,-999.0,      16,-999.0,20030719,1828,  22.7498, -157.9962,  4722,  345.800,   10.778,   34.195,2,   34.195,2,  208.400,2,  204.100,2,   16.330,2,   14.370,2,    1.050,2, -999.000
           NA,HOT timeseries 1988to2019 27SEP2021,    146,  99,-999.0,      23,-999.0,20030719,1828,  22.7498, -157.9962,  4722,  379.300,   10.074,   34.155,2,   34.155,2,  193.900,2,  194.200,2,   20.220,2,   16.800,2,    1.170,2, -999.000
           NA,HOT timeseries 1988to2019 27SEP2021,    146,  99,-999.0,     101,-999.0,20030719,1828,  22.7498, -157.9962,  4722,  413.000,    9.026,   34.104,2,   34.102,2,  177.600,2,  177.100,2,   27.460,2,   20.650,2,    1.460,2, -999.000
           NA,HOT timeseries 1988to2019 27SEP2021,    146,  99,-999.0,      13,-999.0,20030719,1828,  22.7498, -157.9962,  4722,  446.200,    8.281,   34.070,2,   34.071,2,  161.900,2,  160.000,2,   33.510,2,   23.590,2,    1.680,2, -999.000
           NA,HOT timeseries 1988to2019 27SEP2021,    146,  99,-999.0,      12,-999.0,20030719,1828,  22.7498, -157.9962,  4722,  480.000,    7.305,   34.036,2,   34.036,2,  133.200,2,  134.100,2,   43.400,2,   27.970,2,    1.910,2, -999.000
           NA,HOT timeseries 1988to2019 27SEP2021,    146,  99,-999.0,      39,-999.0,20030719,1828,  22.7498, -157.9962,  4722,  537.400,    6.340,   34.023,2,   34.024,2,  110.000,2,  107.100,2,   55.960,2,   32.070,2,    2.300,2, -999.000
           NA,HOT timeseries 1988to2019 27SEP2021,    146,  99,-999.0,      32,-999.0,20030719,1828,  22.7498, -157.9962,  4722,  581.100,    5.817,   34.067,2,   34.066,2,   77.800,2,   77.800,2,   67.060,2,   35.420,2,    2.520,2, -999.000
           NA,HOT timeseries 1988to2019 27SEP2021,    146,  99,-999.0,       3,-999.0,20030719,1828,  22.7498, -157.9962,  4722,  628.600,    5.406,   34.125,2,   34.124,2,   56.100,2,   54.300,2,   77.190,2,   38.040,2,    2.790,2, -999.000
           NA,HOT timeseries 1988to2019 27SEP2021,    146,  99,-999.0,      28,-999.0,20030719,1828,  22.7498, -157.9962,  4722,  725.500,    5.068,   34.275,2,   34.275,2,   32.500,2,   29.500,2,   88.070,2,   40.580,2,    2.990,2, -999.000
           NA,HOT timeseries 1988to2019 27SEP2021,    146,  99,-999.0,       7,-999.0,20030719,1828,  22.7498, -157.9962,  4722,  763.500,    4.920,   34.329,2,   34.328,2,   29.300,2,   28.100,2,   91.950,2,   41.250,2,    3.000,2, -999.000
           NA,HOT timeseries 1988to2019 27SEP2021,    146,  99,-999.0,      38,-999.0,20030719,1828,  22.7498, -157.9962,  4722,  807.500,    4.704,   34.361,2,   34.364,2,   28.600,2,   27.900,2,   96.300,2,   41.690,2,    3.040,2, -999.000
           NA,HOT timeseries 1988to2019 27SEP2021,    146,  99,-999.0,      36,-999.0,20030719,1828,  22.7498, -157.9962,  4722,  851.800,    4.548,   34.400,2,   34.399,2,   28.500,2,   28.500,2,   99.940,2,   42.050,2,    3.080,2, -999.000
           NA,HOT timeseries 1988to2019 27SEP2021,    146,  99,-999.0,      34,-999.0,20030719,1828,  22.7498, -157.9962,  4722,  986.200,    4.116,   34.482,2,   34.482,2,   39.100,2,   39.400,2,  108.170,2,   42.030,2,    3.040,2, -999.000
           NA,HOT timeseries 1988to2019 27SEP2021,    146,  99,-999.0,      33,-999.0,20030719,1828,  22.7498, -157.9962,  4722, 1022.600,    4.061,   34.489,2,   34.490,2,   39.900,2,   40.400,2,  108.950,2,   41.950,2,    3.050,2, -999.000
           NA,HOT timeseries 1988to2019 27SEP2021,    146,  99,-999.0,      20,-999.0,20030719,1828,  22.7498, -157.9962,  4722, 1210.900,    3.561,   34.532,2,   34.532,2,   51.000,2,   48.900,2,  119.430,2,   41.770,2,    3.030,2, -999.000
           NA,HOT timeseries 1988to2019 27SEP2021,    146,  99,-999.0,      19,-999.0,20030719,1828,  22.7498, -157.9962,  4722, 1397.300,    3.070,   34.562,2,   34.564,2,   62.700,2,   62.900,2,  129.760,2,   41.030,2,    2.960,2, -999.000
           NA,HOT timeseries 1988to2019 27SEP2021,    146,  99,-999.0,      18,-999.0,20030719,1828,  22.7498, -157.9962,  4722, 1598.100,    2.656,   34.582,2,   34.582,2,   71.500,2,   72.200,2,  138.050,2,   40.600,2,    2.900,2, -999.000
           NA,HOT timeseries 1988to2019 27SEP2021,    146,  99,-999.0,      17,-999.0,20030719,1828,  22.7498, -157.9962,  4722, 1799.300,    2.393,   34.603,2,   34.603,2,   80.700,2,   81.000,2,  145.200,2,   40.260,2,    2.870,2, -999.000
           NA,HOT timeseries 1988to2019 27SEP2021,    146,  99,-999.0,      16,-999.0,20030719,1828,  22.7498, -157.9962,  4722, 2000.600,    2.153,   34.621,2,   34.620,2,   90.200,2,   90.500,2,  149.990,2,   39.780,2,    2.800,2, -999.000
           NA,HOT timeseries 1988to2019 27SEP2021,    146,  99,-999.0,      23,-999.0,20030719,1828,  22.7498, -157.9962,  4722, 2198.700,    1.926,   34.637,2,   34.637,2,   99.800,2,  100.100,2,  154.010,2,   39.310,2,    2.750,2, -999.000
           NA,HOT timeseries 1988to2019 27SEP2021,    146,  99,-999.0,     101,-999.0,20030719,1828,  22.7498, -157.9962,  4722, 2401.200,    1.805,   34.646,2,   34.646,2,  106.700,2,  106.900,2,  153.880,2,   38.810,2,    2.710,2, -999.000
           NA,HOT timeseries 1988to2019 27SEP2021,    146,  99,-999.0,      13,-999.0,20030719,1828,  22.7498, -157.9962,  4722, 2605.200,    1.685,   34.657,2,   34.658,2,  114.000,2,  114.200,2,  155.960,2,   38.400,2,    2.710,2, -999.000
           NA,HOT timeseries 1988to2019 27SEP2021,    146,  99,-999.0,      12,-999.0,20030719,1828,  22.7498, -157.9962,  4722, 2797.900,    1.611,   34.664,2,   34.664,2,  120.400,2,  120.600,2,  156.580,2,   38.140,2,    2.660,2, -999.000
           NA,HOT timeseries 1988to2019 27SEP2021,    146,  99,-999.0,      39,-999.0,20030719,1828,  22.7498, -157.9962,  4722, 2998.300,    1.561,   34.669,2,   34.671,2,  125.500,2,  125.700,2,  158.960,2,   37.740,2,    2.630,2, -999.000
           NA,HOT timeseries 1988to2019 27SEP2021,    146,  99,-999.0,      32,-999.0,20030719,1828,  22.7498, -157.9962,  4722, 3199.200,    1.516,   34.674,2,   34.675,2,  131.000,2,  130.900,2,  157.960,2,   37.200,2,    2.580,2, -999.000
           NA,HOT timeseries 1988to2019 27SEP2021,    146,  99,-999.0,       3,-999.0,20030719,1828,  22.7498, -157.9962,  4722, 3400.500,    1.482,   34.679,2,   34.679,2,  136.900,2,  136.900,2,  157.230,2,   36.940,2,    2.540,2, -999.000
           NA,HOT timeseries 1988to2019 27SEP2021,    146,  99,-999.0,      29,-999.0,20030719,1828,  22.7498, -157.9962,  4722, 3598.000,    1.461,   34.682,2,   34.682,2,  141.800,2,  141.600,2,  155.160,2,   36.760,2,    2.540,2, -999.000
           NA,HOT timeseries 1988to2019 27SEP2021,    146,  99,-999.0,      28,-999.0,20030719,1828,  22.7498, -157.9962,  4722, 3800.100,    1.455,   34.685,2,   34.685,2,  145.700,2,  145.200,2,  153.640,2,   36.430,2,    2.500,2, -999.000
           NA,HOT timeseries 1988to2019 27SEP2021,    146,  99,-999.0,       7,-999.0,20030719,1828,  22.7498, -157.9962,  4722, 4000.500,    1.459,   34.687,2,   34.688,2,  148.100,2,  148.000,2,  152.300,2,   36.230,2,    2.500,2, -999.000
           NA,HOT timeseries 1988to2019 27SEP2021,    146,  99,-999.0,      38,-999.0,20030719,1828,  22.7498, -157.9962,  4722, 4198.000,    1.466,   34.688,2,   34.688,2,  150.000,2,  150.000,2,  151.110,2,   35.880,2,    2.510,2, -999.000
           NA,HOT timeseries 1988to2019 27SEP2021,    146,  99,-999.0,      36,-999.0,20030719,1828,  22.7498, -157.9962,  4722, 4399.300,    1.481,   34.688,2,   34.689,2,  151.500,2,  151.500,2,  150.670,2,   35.930,2,    2.480,2, -999.000
           NA,HOT timeseries 1988to2019 27SEP2021,    146,  99,-999.0,      35,-999.0,20030719,1828,  22.7498, -157.9962,  4722, 4499.100,    1.487,   34.689,2,   34.688,2,  152.300,2,  152.200,2,  150.250,2,   35.850,2,    2.500,2, -999.000
           NA,HOT timeseries 1988to2019 27SEP2021,    146,  99,-999.0,      34,-999.0,20030719,1828,  22.7498, -157.9962,  4722, 4602.100,    1.498,   34.689,2,   34.689,2,  152.600,2,  152.300,2,  148.430,2,   35.850,2,    2.460,2, -999.000
           NA,HOT timeseries 1988to2019 27SEP2021,    146,  99,-999.0,      33,-999.0,20030719,1828,  22.7498, -157.9962,  4722, 4805.400,    1.517,   34.689,2,   34.690,2,  153.400,2,  153.000,2,  148.700,2,   35.740,2,    2.470,2, -999.000