BOTTLE,20214727JOAExport
EXPOCODE,SECT_ID,STNNBR,CASTNO,SAMPNO,BTLNBR,BTLNBR_FLAG_W,DATE,TIME,LATITUDE,LONGITUDE,DEPTH,CTDPRS,CTDTMP,CTDSAL,CTDSAL_FLAG_W,SALNTY,SALNTY_FLAG_W,CTDOXY,CTDOXY_FLAG_W,OXYGEN,OXYGEN_FLAG_W,SILCAT,SILCAT_FLAG_W,NINI,NINI_FLAG_W,PHSPHT,PHSPHT_FLAG_W,REVP
,,,,,,,,,,,,DB,IPTS-68,PSS-78,,PSS-78,,UMOL/KG,,UMOL/KG,,UMOL/KG,,UMOL/KG,,UMOL/KG,,DBAR
           NA,HOT timeseries 1988to2019 27SEP2021,     15,  99,-999.0,      24,-999.0,19900412,1635,  22.7467, -158.0133,  4749,    1.200,   23.574,   34.888,2,   34.886,2,  223.700,2,  213.000,2,    1.500,2,    0.020,2,    0.130,2, -999.000
           NA,HOT timeseries 1988to2019 27SEP2021,     15,  99,-999.0,      23,-999.0,19900412,1635,  22.7467, -158.0133,  4749,   11.800,   23.521,   34.889,2, -999.000,4, -999.000,3,  214.300,2,    1.080,2,    0.020,2,    0.130,2, -999.000
           NA,HOT timeseries 1988to2019 27SEP2021,     15,  99,-999.0,      22,-999.0,19900412,1635,  22.7467, -158.0133,  4749,   34.200,   23.214,   34.962,2,   34.959,2,  219.200,2,  214.400,2,    1.080,2,    0.000,2,    0.110,2, -999.000
           NA,HOT timeseries 1988to2019 27SEP2021,     15,  99,-999.0,      21,-999.0,19900412,1635,  22.7467, -158.0133,  4749,   56.800,   23.012,   34.989,2,   34.988,2,  228.200,2,  215.000,2,    0.880,2,    0.020,2,    0.110,2, -999.000
           NA,HOT timeseries 1988to2019 27SEP2021,     15,  99,-999.0,      20,-999.0,19900412,1635,  22.7467, -158.0133,  4749,  153.700,   21.846,   35.167,2,   35.167,2,  196.700,2,  212.100,2,    0.880,2,    0.100,2,    0.090,2, -999.000
           NA,HOT timeseries 1988to2019 27SEP2021,     15,  99,-999.0,      19,-999.0,19900412,1635,  22.7467, -158.0133,  4749,  169.200,   21.641,   35.197,2, -999.000,4, -999.000,3,  212.600,2,    0.670,2,    0.070,2,    0.070,2, -999.000
           NA,HOT timeseries 1988to2019 27SEP2021,     15,  99,-999.0,      18,-999.0,19900412,1635,  22.7467, -158.0133,  4749,  204.800,   20.052,   35.174,2,   35.166,2,  185.500,2,  191.400,2,    1.290,2,    1.780,2,    0.270,2, -999.000
           NA,HOT timeseries 1988to2019 27SEP2021,     15,  99,-999.0,      17,-999.0,19900412,1635,  22.7467, -158.0133,  4749,  266.300,   15.592,   34.536,2,   34.526,2,  163.400,2,  159.500,2,    7.730,2,    9.530,2,    0.770,2, -999.000
           NA,HOT timeseries 1988to2019 27SEP2021,     15,  99,-999.0,      16,-999.0,19900412,1635,  22.7467, -158.0133,  4749,  317.300,   11.681,   34.182,2,   34.182,2,  157.800,2,  158.700,2,   15.830,2,   15.950,2,    1.210,2, -999.000
           NA,HOT timeseries 1988to2019 27SEP2021,     15,  99,-999.0,      15,-999.0,19900412,1635,  22.7467, -158.0133,  4749,  317.300,   11.681,   34.182,2,   34.183,2,  157.800,2,  159.200,2,   15.830,2,   15.950,2,    1.210,2, -999.000
           NA,HOT timeseries 1988to2019 27SEP2021,     15,  99,-999.0,      14,-999.0,19900412,1635,  22.7467, -158.0133,  4749,  332.800,   11.273,   34.211,2,   34.219,2,  136.800,2,  137.400,2,   19.980,2,   19.450,2,    1.580,2, -999.000
           NA,HOT timeseries 1988to2019 27SEP2021,     15,  99,-999.0,      13,-999.0,19900412,1635,  22.7467, -158.0133,  4749,  358.300,   10.363,   34.149,2,   34.148,2,  235.600,2,  190.400,2,   18.950,2,   15.950,2,    1.170,2, -999.000
           NA,HOT timeseries 1988to2019 27SEP2021,     15,  99,-999.0,      12,-999.0,19900412,1635,  22.7467, -158.0133,  4749,  421.800,    8.355,   34.092,2,   34.091,2,  151.900,2,  138.200,2,   34.940,2,   24.980,2,    1.800,2, -999.000
           NA,HOT timeseries 1988to2019 27SEP2021,     15,  99,-999.0,      11,-999.0,19900412,1635,  22.7467, -158.0133,  4749,  450.100,    7.604,   34.052,2,   34.051,2,  146.100,2,  132.200,2,   40.750,2,   27.240,2,    1.940,2, -999.000
           NA,HOT timeseries 1988to2019 27SEP2021,     15,  99,-999.0,      10,-999.0,19900412,1635,  22.7467, -158.0133,  4749,  486.200,    7.125,   34.053,2,   34.052,2,  117.900,2,  113.000,2,   47.610,2,   29.850,2,    2.130,2, -999.000
           NA,HOT timeseries 1988to2019 27SEP2021,     15,  99,-999.0,       9,-999.0,19900412,1635,  22.7467, -158.0133,  4749,  522.500,    6.617,   34.093,2,   34.092,2,   71.800,2,   75.200,2,   57.380,2,   33.770,2,    2.450,2, -999.000
           NA,HOT timeseries 1988to2019 27SEP2021,     15,  99,-999.0,       8,-999.0,19900412,1635,  22.7467, -158.0133,  4749,  584.100,    6.099,   34.144,2,   34.143,2,   57.400,2,   49.300,2,   67.750,2,   36.980,2,    2.710,2, -999.000
           NA,HOT timeseries 1988to2019 27SEP2021,     15,  99,-999.0,       7,-999.0,19900412,1635,  22.7467, -158.0133,  4749,  635.300,    5.817,   34.199,2,   34.201,2,   38.700,2,   34.300,2,   73.980,2,   38.760,2,    2.820,2, -999.000
           NA,HOT timeseries 1988to2019 27SEP2021,     15,  99,-999.0,       6,-999.0,19900412,1635,  22.7467, -158.0133,  4749,  707.100,    5.350,   34.319,2,   34.322,2,   20.600,2,   22.100,2,   84.980,2,   40.890,2,    2.990,2, -999.000
           NA,HOT timeseries 1988to2019 27SEP2021,     15,  99,-999.0,       5,-999.0,19900412,1635,  22.7467, -158.0133,  4749,  719.100,    5.326,   34.328,2,   34.332,2,   22.500,2,   22.500,2,   85.400,2,   41.130,2,    3.010,2, -999.000
           NA,HOT timeseries 1988to2019 27SEP2021,     15,  99,-999.0,       4,-999.0,19900412,1635,  22.7467, -158.0133,  4749,  873.300,    4.510,   34.443,2,   34.442,2,   36.100,2,   33.900,2,  100.930,2,   42.070,2,    3.010,2, -999.000
           NA,HOT timeseries 1988to2019 27SEP2021,     15,  99,-999.0,       3,-999.0,19900412,1635,  22.7467, -158.0133,  4749,  873.300,    4.510,   34.443,2,   34.442,2,   36.100,2,   34.100,2,  100.930,2,   41.950,2,    3.030,2, -999.000
           NA,HOT timeseries 1988to2019 27SEP2021,     15,  99,-999.0,       2,-999.0,19900412,1635,  22.7467, -158.0133,  4749,  962.100,    4.235,   34.478,2,   34.477,2,   38.800,2,   38.100,2,  106.200,2,   42.070,2,    3.030,2, -999.000
           NA,HOT timeseries 1988to2019 27SEP2021,     15,  99,-999.0,       1,-999.0,19900412,1635,  22.7467, -158.0133,  4749, 1043.000,    4.027,   34.503,2,   34.504,2,   41.500,2,   43.500,2,  109.230,2,   41.830,2,    2.990,2, -999.000
           NA,HOT timeseries 1988to2019 27SEP2021,     15,  99,-999.0,      24,-999.0,19900412,1635,  22.7467, -158.0133,  4749, 1117.900,    3.863,   34.516,2,   34.515,2,   44.400,2,   45.200,2,  113.720,2,   41.890,2,    2.990,2, -999.000
           NA,HOT timeseries 1988to2019 27SEP2021,     15,  99,-999.0,      23,-999.0,19900412,1635,  22.7467, -158.0133,  4749, 1117.900,    3.863,   34.516,2,   34.516,2,   44.400,2,   45.000,2,  113.430,2,   42.070,2,    3.030,2, -999.000
           NA,HOT timeseries 1988to2019 27SEP2021,     15,  99,-999.0,      22,-999.0,19900412,1635,  22.7467, -158.0133,  4749, 1213.700,    3.613,   34.530,2,   34.533,2,   49.300,2,   48.900,2,  119.190,2,   41.830,2,    2.970,2, -999.000
           NA,HOT timeseries 1988to2019 27SEP2021,     15,  99,-999.0,      21,-999.0,19900412,1635,  22.7467, -158.0133,  4749, 1310.000,    3.345,   34.545,2,   34.546,2,   52.700,2,   53.100,2,  125.440,2,   41.720,2,    2.970,2, -999.000
           NA,HOT timeseries 1988to2019 27SEP2021,     15,  99,-999.0,      20,-999.0,19900412,1635,  22.7467, -158.0133,  4749, 1413.500,    3.132,   34.557,2,   34.557,2,   60.200,2,   58.500,2,  129.640,2,   41.600,2,    2.950,2, -999.000
           NA,HOT timeseries 1988to2019 27SEP2021,     15,  99,-999.0,      19,-999.0,19900412,1635,  22.7467, -158.0133,  4749, 1519.500,    2.923,   34.570,2,   34.569,2,   63.600,2,   63.100,2,  136.280,2,   41.240,2,    2.910,2, -999.000
           NA,HOT timeseries 1988to2019 27SEP2021,     15,  99,-999.0,      18,-999.0,19900412,1635,  22.7467, -158.0133,  4749, 1624.500,    2.723,   34.582,2,   34.582,2,   69.200,2,   68.800,2,  138.330,2,   41.000,2,    2.900,2, -999.000
           NA,HOT timeseries 1988to2019 27SEP2021,     15,  99,-999.0,      17,-999.0,19900412,1635,  22.7467, -158.0133,  4749, 1722.700,    2.606,   34.590,2,   34.589,2,   73.200,2,   72.100,2,  141.070,2,   40.880,2,    2.860,2, -999.000
           NA,HOT timeseries 1988to2019 27SEP2021,     15,  99,-999.0,      16,-999.0,19900412,1635,  22.7467, -158.0133,  4749, 1822.900,    2.458,   34.599,2,   34.599,2,   77.700,2,   77.200,2,  144.580,2,   40.650,2,    2.840,2, -999.000
           NA,HOT timeseries 1988to2019 27SEP2021,     15,  99,-999.0,      15,-999.0,19900412,1635,  22.7467, -158.0133,  4749, 2028.500,    2.212,   34.616,2,   34.617,2,   86.600,2,   85.900,2,  149.760,2,   40.170,2,    2.810,2, -999.000
           NA,HOT timeseries 1988to2019 27SEP2021,     15,  99,-999.0,      14,-999.0,19900412,1635,  22.7467, -158.0133,  4749, 2242.700,    1.966,   34.632,2,   34.632,2,   96.200,2,   96.300,2,  153.860,2,   39.460,2,    2.740,2, -999.000
           NA,HOT timeseries 1988to2019 27SEP2021,     15,  99,-999.0,      13,-999.0,19900412,1635,  22.7467, -158.0133,  4749, 2408.900,    1.806,   34.644,2,   34.643,2,  105.500,2,  104.300,2,  156.980,2,   39.090,2,    2.710,2, -999.000
           NA,HOT timeseries 1988to2019 27SEP2021,     15,  99,-999.0,      12,-999.0,19900412,1635,  22.7467, -158.0133,  4749, 2631.900,    1.678,   34.654,2,   34.654,2,  111.000,2,  112.000,2,  159.720,2,   38.510,2,    2.670,2, -999.000
           NA,HOT timeseries 1988to2019 27SEP2021,     15,  99,-999.0,      11,-999.0,19900412,1635,  22.7467, -158.0133,  4749, 2841.700,    1.596,   34.663,2,   34.661,2,  117.700,2,  117.200,2,  161.770,2,   38.150,2,    2.650,2, -999.000
           NA,HOT timeseries 1988to2019 27SEP2021,     15,  99,-999.0,      10,-999.0,19900412,1635,  22.7467, -158.0133,  4749, 3044.800,    1.560,   34.667,2,   34.671,2,  121.400,2,  122.500,2,  162.160,2,   37.910,2,    2.600,2, -999.000
           NA,HOT timeseries 1988to2019 27SEP2021,     15,  99,-999.0,       9,-999.0,19900412,1635,  22.7467, -158.0133,  4749, 3244.400,    1.522,   34.672,2,   34.673,2,  126.200,2,  129.200,2,  160.110,2,   37.430,2,    2.580,2, -999.000
           NA,HOT timeseries 1988to2019 27SEP2021,     15,  99,-999.0,       8,-999.0,19900412,1635,  22.7467, -158.0133,  4749, 3447.200,    1.497,   34.676,2,   34.676,2,  133.400,2,  134.100,2,  156.980,2,   37.200,2,    2.580,2, -999.000
           NA,HOT timeseries 1988to2019 27SEP2021,     15,  99,-999.0,       7,-999.0,19900412,1635,  22.7467, -158.0133,  4749, 3613.400,    1.480,   34.679,2,   34.680,2,  137.300,2,  138.100,2,  156.590,2,   36.840,2,    2.520,2, -999.000
           NA,HOT timeseries 1988to2019 27SEP2021,     15,  99,-999.0,       6,-999.0,19900412,1635,  22.7467, -158.0133,  4749, 3827.000,    1.463,   34.682,2,   34.683,2,  141.300,2,  143.500,2,  154.540,2,   36.370,2,    2.480,2, -999.000
           NA,HOT timeseries 1988to2019 27SEP2021,     15,  99,-999.0,       5,-999.0,19900412,1635,  22.7467, -158.0133,  4749, 4035.200,    1.465,   34.684,2,   34.684,2,  147.700,2,  146.300,2,  152.390,2,   36.250,2,    2.470,2, -999.000
           NA,HOT timeseries 1988to2019 27SEP2021,     15,  99,-999.0,       4,-999.0,19900412,1635,  22.7467, -158.0133,  4749, 4215.300,    1.470,   34.686,2,   34.686,2,  148.400,2,  150.100,2,  150.730,2,   36.010,2,    2.470,2, -999.000
           NA,HOT timeseries 1988to2019 27SEP2021,     15,  99,-999.0,       3,-999.0,19900412,1635,  22.7467, -158.0133,  4749, 4433.500,    1.484,   34.687,2,   34.688,2,  150.900,2,  150.300,2,  150.340,2,   35.950,2,    2.470,2, -999.000
           NA,HOT timeseries 1988to2019 27SEP2021,     15,  99,-999.0,       2,-999.0,19900412,1635,  22.7467, -158.0133,  4749, 4606.100,    1.498,   34.688,2,   34.689,2,  151.600,2,  151.600,2,  150.340,2,   36.010,2,    2.470,2, -999.000
           NA,HOT timeseries 1988to2019 27SEP2021,     15,  99,-999.0,       1,-999.0,19900412,1635,  22.7467, -158.0133,  4749, 4723.000,    1.511,   34.688,2,   34.688,2,  151.600,2,  149.600,2,  148.680,2,   35.660,2,    2.450,2, -999.000