BOTTLE,20214727JOAExport
EXPOCODE,SECT_ID,STNNBR,CASTNO,SAMPNO,BTLNBR,BTLNBR_FLAG_W,DATE,TIME,LATITUDE,LONGITUDE,DEPTH,CTDPRS,CTDTMP,CTDSAL,CTDSAL_FLAG_W,SALNTY,SALNTY_FLAG_W,CTDOXY,CTDOXY_FLAG_W,OXYGEN,OXYGEN_FLAG_W,SILCAT,SILCAT_FLAG_W,NINI,NINI_FLAG_W,PHSPHT,PHSPHT_FLAG_W,REVP
,,,,,,,,,,,,DB,IPTS-68,PSS-78,,PSS-78,,UMOL/KG,,UMOL/KG,,UMOL/KG,,UMOL/KG,,UMOL/KG,,DBAR
           NA,HOT timeseries 1988to2019 27SEP2021,     66,  99,-999.0,      31,-999.0,19960326,1250,  22.7685, -157.9952,  4724,    4.400,   23.075,   34.846,2,   34.847,2,  220.900,2,  213.800,2,    1.100,2,    0.000,2, -999.000,3, -999.000
           NA,HOT timeseries 1988to2019 27SEP2021,     66,  99,-999.0,      31,-999.0,19960326,1250,  22.7685, -157.9952,  4724,    8.900,   23.069,   34.854,2,   34.852,2,  212.400,2,  214.200,2,    1.050,2,    0.010,2,    0.100,2, -999.000
           NA,HOT timeseries 1988to2019 27SEP2021,     66,  99,-999.0,      30,-999.0,19960326,1250,  22.7685, -157.9952,  4724,   49.700,   23.067,   34.855,2,   34.855,2,  220.000,2,  214.300,2,    1.050,2,    0.000,2,    0.100,2, -999.000
           NA,HOT timeseries 1988to2019 27SEP2021,     66,  99,-999.0,      22,-999.0,19960326,1250,  22.7685, -157.9952,  4724,   68.700,   22.447,   35.021,2,   35.019,2,  218.200,2,  215.100,2,    1.070,2,    0.010,2,    0.080,2, -999.000
           NA,HOT timeseries 1988to2019 27SEP2021,     66,  99,-999.0,      21,-999.0,19960326,1250,  22.7685, -157.9952,  4724,   95.000,   21.706,   35.087,2,   35.087,2,  217.500,2,  209.800,2,    1.300,2,    0.040,2,    0.100,2, -999.000
           NA,HOT timeseries 1988to2019 27SEP2021,     66,  99,-999.0,      20,-999.0,19960326,1250,  22.7685, -157.9952,  4724,  154.500,   19.651,   35.041,2,   35.040,2,  197.600,2,  191.500,2,    2.080,2,    2.270,2,    0.250,2, -999.000
           NA,HOT timeseries 1988to2019 27SEP2021,     66,  99,-999.0,      19,-999.0,19960326,1250,  22.7685, -157.9952,  4724,  200.000,   17.990,   34.871,2,   34.868,2,  191.000,2,  188.500,2,    3.300,2,    3.970,2,    0.370,2, -999.000
           NA,HOT timeseries 1988to2019 27SEP2021,     66,  99,-999.0,      18,-999.0,19960326,1250,  22.7685, -157.9952,  4724,  233.400,   16.086,   34.614,2,   34.616,2,  184.800,2,  179.800,2,    5.360,2,    6.760,2,    0.560,2, -999.000
           NA,HOT timeseries 1988to2019 27SEP2021,     66,  99,-999.0,      17,-999.0,19960326,1250,  22.7685, -157.9952,  4724,  265.300,   13.792,   34.363,2,   34.366,2,  163.600,2,  172.500,2,    8.520,2,   10.430,2,    0.830,2, -999.000
           NA,HOT timeseries 1988to2019 27SEP2021,     66,  99,-999.0,      30,-999.0,19960326,1250,  22.7685, -157.9952,  4724,  299.800,   11.669,   34.212,2,   34.210,2,  194.500,2,  192.200,2,   11.980,2,   12.620,2,    0.920,2, -999.000
           NA,HOT timeseries 1988to2019 27SEP2021,     66,  99,-999.0,      16,-999.0,19960326,1250,  22.7685, -157.9952,  4724,  306.700,   11.860,   34.220,2,   34.219,2,  193.200,2,  191.100,2,   11.590,2,   12.540,2,    0.920,2, -999.000
           NA,HOT timeseries 1988to2019 27SEP2021,     66,  99,-999.0,      15,-999.0,19960326,1250,  22.7685, -157.9952,  4724,  349.200,   10.770,   34.183,2, -999.000,4, -999.000,3,  193.000,2,   15.730,2,   15.010,2,    1.070,2, -999.000
           NA,HOT timeseries 1988to2019 27SEP2021,     66,  99,-999.0,      14,-999.0,19960326,1250,  22.7685, -157.9952,  4724,  407.400,    8.989,   34.094,2,   34.096,2,  170.800,2,  170.600,2,   25.170,2,   20.570,2,    1.460,2, -999.000
           NA,HOT timeseries 1988to2019 27SEP2021,     66,  99,-999.0,      13,-999.0,19960326,1250,  22.7685, -157.9952,  4724,  438.700,    8.252,   34.067,2,   34.067,2,  158.500,2,  159.100,2,   31.770,2,   23.420,2,    1.650,2, -999.000
           NA,HOT timeseries 1988to2019 27SEP2021,     66,  99,-999.0,      12,-999.0,19960326,1250,  22.7685, -157.9952,  4724,  474.000,    7.549,   34.066,2,   34.065,2,  133.200,2,  131.900,2,   40.650,2,   27.150,2,    1.930,2, -999.000
           NA,HOT timeseries 1988to2019 27SEP2021,     66,  99,-999.0,      11,-999.0,19960326,1250,  22.7685, -157.9952,  4724,  500.400,    7.379,   34.105,2,   34.105,2,   99.900,2,  103.300,2,   45.620,2,   29.890,2,    2.170,2, -999.000
           NA,HOT timeseries 1988to2019 27SEP2021,     66,  99,-999.0,      32,-999.0,19960326,1250,  22.7685, -157.9952,  4724,  545.700,    6.675,   34.081,2,   34.081,2,   93.000,2,   88.700,2,   53.880,2,   32.490,2,    2.340,2, -999.000
           NA,HOT timeseries 1988to2019 27SEP2021,     66,  99,-999.0,       3,-999.0,19960326,1250,  22.7685, -157.9952,  4724,  578.400,    6.505,   34.162,2,   34.160,2,   66.300,2,   58.600,2,   60.890,2,   35.270,2,    2.590,2, -999.000
           NA,HOT timeseries 1988to2019 27SEP2021,     66,  99,-999.0,      29,-999.0,19960326,1250,  22.7685, -157.9952,  4724,  635.400,    5.532,   34.152,2,   34.151,2,   44.500,2,   42.600,2,   75.270,2,   38.480,2,    2.790,2, -999.000
           NA,HOT timeseries 1988to2019 27SEP2021,     66,  99,-999.0,      28,-999.0,19960326,1250,  22.7685, -157.9952,  4724,  675.500,    5.143,   34.232,2,   34.231,2,   29.900,2,   29.400,2,   84.720,2,   40.490,2,    2.950,2, -999.000
           NA,HOT timeseries 1988to2019 27SEP2021,     66,  99,-999.0,       7,-999.0,19960326,1250,  22.7685, -157.9952,  4724,  748.500,    4.924,   34.337,2,   34.335,2,   26.600,2,   26.800,2,   90.270,2,   41.170,2,    2.990,2, -999.000
           NA,HOT timeseries 1988to2019 27SEP2021,     66,  99,-999.0,      38,-999.0,19960326,1250,  22.7685, -157.9952,  4724,  799.800,    4.710,   34.371,2,   34.370,2,   25.000,2,   27.500,2,   95.000,2,   41.640,2,    3.020,2, -999.000
           NA,HOT timeseries 1988to2019 27SEP2021,     66,  99,-999.0,      36,-999.0,19960326,1250,  22.7685, -157.9952,  4724,  854.600,    4.515,   34.413,2,   34.412,2,   27.500,2,   27.400,2,   99.520,2,   42.180,2,    3.050,2, -999.000
           NA,HOT timeseries 1988to2019 27SEP2021,     66,  99,-999.0,      35,-999.0,19960326,1250,  22.7685, -157.9952,  4724,  901.200,    4.400,   34.449,2,   34.450,2,   32.200,2,   31.900,2,  101.040,2,   42.150,2,    3.040,2, -999.000
           NA,HOT timeseries 1988to2019 27SEP2021,     66,  99,-999.0,      34,-999.0,19960326,1250,  22.7685, -157.9952,  4724,  949.500,    4.242,   34.464,2,   34.464,2,   34.100,2,   34.100,2,  104.660,2,   42.290,2,    3.030,2, -999.000
           NA,HOT timeseries 1988to2019 27SEP2021,     66,  99,-999.0,      21,-999.0,19960326,1250,  22.7685, -157.9952,  4724, 1001.000,    4.136,   34.483,2,   34.482,2,   38.500,2,   37.100,2,  105.980,2,   41.990,2,    3.000,2, -999.000
           NA,HOT timeseries 1988to2019 27SEP2021,     66,  99,-999.0,      33,-999.0,19960326,1250,  22.7685, -157.9952,  4724, 1018.700,    4.102,   34.488,2,   34.488,2,   38.300,2,   39.300,2,  107.040,2,   42.170,2,    3.030,2, -999.000
           NA,HOT timeseries 1988to2019 27SEP2021,     66,  99,-999.0,      20,-999.0,19960326,1250,  22.7685, -157.9952,  4724, 1200.800,    3.595,   34.527,2,   34.526,2,   48.600,2,   48.100,2,  117.010,2,   41.900,2,    2.990,2, -999.000
           NA,HOT timeseries 1988to2019 27SEP2021,     66,  99,-999.0,      19,-999.0,19960326,1250,  22.7685, -157.9952,  4724, 1399.400,    3.041,   34.561,2,   34.558,2,   60.500,2,   60.100,2,  128.700,2,   41.330,2,    2.940,2, -999.000
           NA,HOT timeseries 1988to2019 27SEP2021,     66,  99,-999.0,      18,-999.0,19960326,1250,  22.7685, -157.9952,  4724, 1599.600,    2.694,   34.583,2,   34.581,2,   69.200,2,   69.300,2,  137.100,2,   40.950,2,    2.910,2, -999.000
           NA,HOT timeseries 1988to2019 27SEP2021,     66,  99,-999.0,      16,-999.0,19960326,1250,  22.7685, -157.9952,  4724, 2001.700,    2.135,   34.618,2, -999.000,4, -999.000,3,   87.600,2,  149.610,2,   39.950,2,    2.810,2, -999.000
           NA,HOT timeseries 1988to2019 27SEP2021,     66,  99,-999.0,      15,-999.0,19960326,1250,  22.7685, -157.9952,  4724, 2200.100,    1.972,   34.631,2,   34.630,2,   94.100,2,   94.400,2,  152.950,2,   39.740,2,    2.760,2, -999.000
           NA,HOT timeseries 1988to2019 27SEP2021,     66,  99,-999.0,      14,-999.0,19960326,1250,  22.7685, -157.9952,  4724, 2400.300,    1.804,   34.644,2,   34.642,2,  102.700,2,  102.400,2,  156.370,2,   39.140,2,    2.740,2, -999.000
           NA,HOT timeseries 1988to2019 27SEP2021,     66,  99,-999.0,      13,-999.0,19960326,1250,  22.7685, -157.9952,  4724, 2598.300,    1.692,   34.653,2,   34.652,2,  108.200,2,  107.700,2,  160.120,2,   38.810,2,    2.710,2, -999.000
           NA,HOT timeseries 1988to2019 27SEP2021,     66,  99,-999.0,      12,-999.0,19960326,1250,  22.7685, -157.9952,  4724, 2800.800,    1.611,   34.662,2,   34.661,2,  115.300,2,  116.400,2,  159.950,2,   38.370,2,    2.670,2, -999.000
           NA,HOT timeseries 1988to2019 27SEP2021,     66,  99,-999.0,      11,-999.0,19960326,1250,  22.7685, -157.9952,  4724, 2999.300,    1.558,   34.668,2,   34.666,2,  121.900,2,  122.500,2,  159.300,2,   37.810,2,    2.630,2, -999.000
           NA,HOT timeseries 1988to2019 27SEP2021,     66,  99,-999.0,      32,-999.0,19960326,1250,  22.7685, -157.9952,  4724, 3199.100,    1.524,   34.674,2,   34.671,2,  128.000,2,  128.200,2,  157.890,2,   37.570,2,    2.600,2, -999.000
           NA,HOT timeseries 1988to2019 27SEP2021,     66,  99,-999.0,       3,-999.0,19960326,1250,  22.7685, -157.9952,  4724, 3399.500,    1.493,   34.678,2,   34.675,2,  133.600,2,  134.000,2,  156.720,2,   37.250,2,    2.580,2, -999.000
           NA,HOT timeseries 1988to2019 27SEP2021,     66,  99,-999.0,      29,-999.0,19960326,1250,  22.7685, -157.9952,  4724, 3600.200,    1.474,   34.681,2,   34.679,2,  138.500,2, -999.000,3,  154.380,2,   36.910,2,    2.550,2, -999.000
           NA,HOT timeseries 1988to2019 27SEP2021,     66,  99,-999.0,      28,-999.0,19960326,1250,  22.7685, -157.9952,  4724, 3800.600,    1.463,   34.684,2,   34.683,2,  142.900,2, -999.000,5,  152.980,2,   36.580,2,    2.530,2, -999.000
           NA,HOT timeseries 1988to2019 27SEP2021,     66,  99,-999.0,       7,-999.0,19960326,1250,  22.7685, -157.9952,  4724, 4000.100,    1.464,   34.685,2,   34.685,2,  146.800,2,  146.700,2,  151.540,2,   36.460,2,    2.520,2, -999.000
           NA,HOT timeseries 1988to2019 27SEP2021,     66,  99,-999.0,      38,-999.0,19960326,1250,  22.7685, -157.9952,  4724, 4201.200,    1.468,   34.687,2,   34.685,2,  149.500,2,  149.400,2,  149.440,2,   36.140,2,    2.490,2, -999.000
           NA,HOT timeseries 1988to2019 27SEP2021,     66,  99,-999.0,      36,-999.0,19960326,1250,  22.7685, -157.9952,  4724, 4400.600,    1.479,   34.688,2,   34.688,2,  151.600,2,  151.300,2,  148.590,2,   36.120,2,    2.480,2, -999.000
           NA,HOT timeseries 1988to2019 27SEP2021,     66,  99,-999.0,      35,-999.0,19960326,1250,  22.7685, -157.9952,  4724, 4599.800,    1.492,   34.689,2,   34.687,2,  153.000,2,  152.700,2,  147.770,2,   36.020,2,    2.480,2, -999.000
           NA,HOT timeseries 1988to2019 27SEP2021,     66,  99,-999.0,      34,-999.0,19960326,1250,  22.7685, -157.9952,  4724, 4698.400,    1.498,   34.689,2,   34.688,2,  154.800,2,  153.400,2,  147.850,2,   36.070,2,    2.470,2, -999.000
           NA,HOT timeseries 1988to2019 27SEP2021,     66,  99,-999.0,      33,-999.0,19960326,1250,  22.7685, -157.9952,  4724, 4800.600,    1.509,   34.690,2,   34.689,2,  154.700,2,  154.400,2,  147.130,2,   35.830,2,    2.480,2, -999.000