BOTTLE,20214727JOAExport
EXPOCODE,SECT_ID,STNNBR,CASTNO,SAMPNO,BTLNBR,BTLNBR_FLAG_W,DATE,TIME,LATITUDE,LONGITUDE,DEPTH,CTDPRS,CTDTMP,CTDSAL,CTDSAL_FLAG_W,SALNTY,SALNTY_FLAG_W,CTDOXY,CTDOXY_FLAG_W,OXYGEN,OXYGEN_FLAG_W,SILCAT,SILCAT_FLAG_W,NINI,NINI_FLAG_W,PHSPHT,PHSPHT_FLAG_W,REVP
,,,,,,,,,,,,DB,IPTS-68,PSS-78,,PSS-78,,UMOL/KG,,UMOL/KG,,UMOL/KG,,UMOL/KG,,UMOL/KG,,DBAR
           NA,HOT timeseries 1988to2019 27SEP2021,    134,  99,-999.0,      31,-999.0,20020629,1852,  22.7592, -157.9975,  4721,    4.400,   25.456,   34.948,2,   34.949,2,  205.800,2,  206.900,2,    0.920,2,    0.050,2,    0.020,2, -999.000
           NA,HOT timeseries 1988to2019 27SEP2021,    134,  99,-999.0,      31,-999.0,20020629,1852,  22.7592, -157.9975,  4721,   27.200,   25.440,   34.941,2,   34.943,2,  206.400,2,  207.000,2,    0.760,2,    0.010,2,    0.020,2, -999.000
           NA,HOT timeseries 1988to2019 27SEP2021,    134,  99,-999.0,      30,-999.0,20020629,1852,  22.7592, -157.9975,  4721,   55.300,   24.325,   35.044,2,   35.044,2,  215.000,2,  214.800,2,    1.210,2,    0.060,2,    0.050,2, -999.000
           NA,HOT timeseries 1988to2019 27SEP2021,    134,  99,-999.0,      22,-999.0,20020629,1852,  22.7592, -157.9975,  4721,   69.200,   23.822,   35.194,2,   35.186,2,  219.900,2,  217.000,2,    1.490,2,    0.060,2,    0.060,2, -999.000
           NA,HOT timeseries 1988to2019 27SEP2021,    134,  99,-999.0,      21,-999.0,20020629,1852,  22.7592, -157.9975,  4721,  109.000,   22.156,   35.354,2,   35.355,2,  215.900,2,  215.600,2,    1.680,2,    0.070,2,    0.070,2, -999.000
           NA,HOT timeseries 1988to2019 27SEP2021,    134,  99,-999.0,      20,-999.0,20020629,1852,  22.7592, -157.9975,  4721,  144.100,   20.790,   35.224,2,   35.225,2,  198.400,2,  199.400,2,    2.080,2,    1.130,2,    0.080,2, -999.000
           NA,HOT timeseries 1988to2019 27SEP2021,    134,  99,-999.0,      19,-999.0,20020629,1852,  22.7592, -157.9975,  4721,  188.700,   17.593,   34.806,2,   34.808,2,  184.500,2,  185.600,2,    4.200,2, -999.000,3, -999.000,4, -999.000
           NA,HOT timeseries 1988to2019 27SEP2021,    134,  99,-999.0,      18,-999.0,20020629,1852,  22.7592, -157.9975,  4721,  234.300,   15.533,   34.567,2,   34.565,2,  192.400,2,  190.400,2,    5.770,2,    6.770,2,    0.460,2, -999.000
           NA,HOT timeseries 1988to2019 27SEP2021,    134,  99,-999.0,      17,-999.0,20020629,1852,  22.7592, -157.9975,  4721,  274.100,   13.599,   34.338,2,   34.335,2,  187.200,2,  187.200,2,    7.710,2,    9.380,2, -999.000,3, -999.000
           NA,HOT timeseries 1988to2019 27SEP2021,    134,  99,-999.0,      16,-999.0,20020629,1852,  22.7592, -157.9975,  4721,  308.600,   11.656,   34.194,2,   34.194,2,  192.500,2,  188.200,2,   12.290,2,   12.980,2,    0.850,2, -999.000
           NA,HOT timeseries 1988to2019 27SEP2021,    134,  99,-999.0,      23,-999.0,20020629,1852,  22.7592, -157.9975,  4721,  343.500,   10.528,   34.141,2,   34.143,2,  187.700,2,  185.900,2,   16.390,2,   15.790,2,    1.200,2, -999.000
           NA,HOT timeseries 1988to2019 27SEP2021,    134,  99,-999.0,      14,-999.0,20020629,1852,  22.7592, -157.9975,  4721,  394.800,    9.125,   34.091,2,   34.093,2,  179.800,2,  171.300,2,   24.820,2,   20.240,2, -999.000,3, -999.000
           NA,HOT timeseries 1988to2019 27SEP2021,    134,  99,-999.0,      13,-999.0,20020629,1852,  22.7592, -157.9975,  4721,  433.800,    8.287,   34.068,2,   34.066,2,  143.700,2,  149.200,2,   32.530,2,   24.110,2,    1.770,2, -999.000
           NA,HOT timeseries 1988to2019 27SEP2021,    134,  99,-999.0,      30,-999.0,20020629,1852,  22.7592, -157.9975,  4721,  499.100,    7.215,   34.073,2,   34.075,2,  108.500,2,  107.500,2,   45.660,2,   30.120,2,    2.130,2, -999.000
           NA,HOT timeseries 1988to2019 27SEP2021,    134,  99,-999.0,      32,-999.0,20020629,1852,  22.7592, -157.9975,  4721,  546.400,    6.145,   34.083,2,   34.083,2,   71.800,2,   72.900,2, -999.000,3,   34.920,2,    2.460,2, -999.000
           NA,HOT timeseries 1988to2019 27SEP2021,    134,  99,-999.0,      29,-999.0,20020629,1852,  22.7592, -157.9975,  4721,  657.000,    5.258,   34.213,2,   34.214,2,   30.000,2,   29.400,2,   78.500,2,   40.090,2,    3.000,2, -999.000
           NA,HOT timeseries 1988to2019 27SEP2021,    134,  99,-999.0,      28,-999.0,20020629,1852,  22.7592, -157.9975,  4721,  698.300,    5.019,   34.273,2,   34.276,2,   25.600,2,   23.600,2, -999.000,3,   40.950,2, -999.000,3, -999.000
           NA,HOT timeseries 1988to2019 27SEP2021,    134,  99,-999.0,      38,-999.0,20020629,1852,  22.7592, -157.9975,  4721,  779.300,    4.742,   34.354,2,   34.353,2,   27.300,2,   26.700,2, -999.000,3,   41.280,2,    2.970,2, -999.000
           NA,HOT timeseries 1988to2019 27SEP2021,    134,  99,-999.0,      36,-999.0,20020629,1852,  22.7592, -157.9975,  4721,  824.300,    4.518,   34.393,2,   34.393,2,   30.000,2,   30.100,2, -999.000,3,   41.420,2, -999.000,3, -999.000
           NA,HOT timeseries 1988to2019 27SEP2021,    134,  99,-999.0,      35,-999.0,20020629,1852,  22.7592, -157.9975,  4721,  889.700,    4.279,   34.437,2,   34.437,2,   34.600,2,   33.700,2, -999.000,3,   41.610,2, -999.000,3, -999.000
           NA,HOT timeseries 1988to2019 27SEP2021,    134,  99,-999.0,      34,-999.0,20020629,1852,  22.7592, -157.9975,  4721,  964.300,    4.049,   34.474,2,   34.474,2,   40.500,2,   39.500,2,  105.630,2,   41.360,2,    2.990,2, -999.000
           NA,HOT timeseries 1988to2019 27SEP2021,    134,  99,-999.0,      20,-999.0,20020629,1852,  22.7592, -157.9975,  4721, 1197.000,    3.480,   34.532,2,   34.530,2,   51.800,2,   52.500,2,  121.510,2,   41.660,2, -999.000,4, -999.000
           NA,HOT timeseries 1988to2019 27SEP2021,    134,  99,-999.0,      19,-999.0,20020629,1852,  22.7592, -157.9975,  4721, 1398.800,    3.045,   34.563,2,   34.562,2,   60.600,2,   60.800,2,  131.510,2,   41.550,2, -999.000,4, -999.000
           NA,HOT timeseries 1988to2019 27SEP2021,    134,  99,-999.0,      18,-999.0,20020629,1852,  22.7592, -157.9975,  4721, 1600.300,    2.725,   34.585,2,   34.584,2,   68.700,2,   68.800,2,  137.280,2,   41.250,2,    2.930,2, -999.000
           NA,HOT timeseries 1988to2019 27SEP2021,    134,  99,-999.0,      17,-999.0,20020629,1852,  22.7592, -157.9975,  4721, 1797.900,    2.429,   34.603,2,   34.602,2,   77.900,2,   77.600,2,  144.250,2,   40.680,2, -999.000,4, -999.000
           NA,HOT timeseries 1988to2019 27SEP2021,    134,  99,-999.0,      16,-999.0,20020629,1852,  22.7592, -157.9975,  4721, 1999.700,    2.163,   34.620,2,   34.620,2,   88.600,2,   88.700,2,  149.330,2,   40.030,2,    2.840,2, -999.000
           NA,HOT timeseries 1988to2019 27SEP2021,    134,  99,-999.0,      23,-999.0,20020629,1852,  22.7592, -157.9975,  4721, 2196.800,    1.995,   34.632,2,   34.634,2,   95.100,2,   95.700,2,  152.910,2,   39.510,2, -999.000,4, -999.000
           NA,HOT timeseries 1988to2019 27SEP2021,    134,  99,-999.0,      14,-999.0,20020629,1852,  22.7592, -157.9975,  4721, 2399.000,    1.827,   34.645,2,   34.645,2,  104.600,2,  105.500,2,  155.370,2,   39.100,2,    2.740,2, -999.000
           NA,HOT timeseries 1988to2019 27SEP2021,    134,  99,-999.0,      13,-999.0,20020629,1852,  22.7592, -157.9975,  4721, 2597.200,    1.728,   34.653,2,   34.653,2,  109.700,2,  110.200,2,  157.690,2, -999.000,4,    2.690,2, -999.000
           NA,HOT timeseries 1988to2019 27SEP2021,    134,  99,-999.0,      12,-999.0,20020629,1852,  22.7592, -157.9975,  4721, 2798.400,    1.644,   34.661,2,   34.662,2,  115.400,2,  116.700,2,  159.270,2, -999.000,4,    2.680,2, -999.000
           NA,HOT timeseries 1988to2019 27SEP2021,    134,  99,-999.0,      11,-999.0,20020629,1852,  22.7592, -157.9975,  4721, 2999.800,    1.577,   34.668,2,   34.668,2,  121.600,2,  122.700,2,  157.630,2, -999.000,4,    2.660,2, -999.000
           NA,HOT timeseries 1988to2019 27SEP2021,    134,  99,-999.0,      32,-999.0,20020629,1852,  22.7592, -157.9975,  4721, 3199.200,    1.546,   34.672,2,   34.672,2,  125.800,2,  126.700,2,  157.010,2, -999.000,4,    2.620,2, -999.000
           NA,HOT timeseries 1988to2019 27SEP2021,    134,  99,-999.0,       3,-999.0,20020629,1852,  22.7592, -157.9975,  4721, 3400.600,    1.513,   34.676,2,   34.677,2,  131.000,2,  131.700,2,  156.770,2, -999.000,4,    2.580,2, -999.000
           NA,HOT timeseries 1988to2019 27SEP2021,    134,  99,-999.0,      29,-999.0,20020629,1852,  22.7592, -157.9975,  4721, 3600.300,    1.483,   34.680,2,   34.680,2,  137.000,2,  137.600,2, -999.000,3, -999.000,4,    2.560,2, -999.000
           NA,HOT timeseries 1988to2019 27SEP2021,    134,  99,-999.0,      28,-999.0,20020629,1852,  22.7592, -157.9975,  4721, 3795.700,    1.470,   34.683,2,   34.683,2,  142.100,2,  142.300,2,  154.600,2, -999.000,4,    2.550,2, -999.000
           NA,HOT timeseries 1988to2019 27SEP2021,    134,  99,-999.0,       7,-999.0,20020629,1852,  22.7592, -157.9975,  4721, 3997.900,    1.459,   34.686,2,   34.686,2,  146.800,2,  146.900,2,  150.890,2, -999.000,4, -999.000,3, -999.000
           NA,HOT timeseries 1988to2019 27SEP2021,    134,  99,-999.0,      38,-999.0,20020629,1852,  22.7592, -157.9975,  4721, 4200.000,    1.466,   34.687,2,   34.688,2,  149.300,2,  149.100,2,  149.540,2, -999.000,4, -999.000,3, -999.000
           NA,HOT timeseries 1988to2019 27SEP2021,    134,  99,-999.0,      36,-999.0,20020629,1852,  22.7592, -157.9975,  4721, 4402.900,    1.479,   34.688,2,   34.688,2,  151.200,2,  150.300,2,  149.940,2, -999.000,4,    2.480,2, -999.000
           NA,HOT timeseries 1988to2019 27SEP2021,    134,  99,-999.0,      35,-999.0,20020629,1852,  22.7592, -157.9975,  4721, 4503.800,    1.488,   34.688,2,   34.689,2,  151.800,2,  151.000,2,  147.570,2, -999.000,4, -999.000,3, -999.000
           NA,HOT timeseries 1988to2019 27SEP2021,    134,  99,-999.0,      34,-999.0,20020629,1852,  22.7592, -157.9975,  4721, 4658.100,    1.501,   34.689,2,   34.690,2,  152.500,2,  152.100,2,  146.940,2, -999.000,4,    2.500,2, -999.000
           NA,HOT timeseries 1988to2019 27SEP2021,    134,  99,-999.0,      33,-999.0,20020629,1852,  22.7592, -157.9975,  4721, 4803.800,    1.517,   34.689,2,   34.691,2,  152.900,2,  151.900,2,  147.480,2, -999.000,4, -999.000,4, -999.000