BOTTLE,20214727JOAExport
EXPOCODE,SECT_ID,STNNBR,CASTNO,SAMPNO,BTLNBR,BTLNBR_FLAG_W,DATE,TIME,LATITUDE,LONGITUDE,DEPTH,CTDPRS,CTDTMP,CTDSAL,CTDSAL_FLAG_W,SALNTY,SALNTY_FLAG_W,CTDOXY,CTDOXY_FLAG_W,OXYGEN,OXYGEN_FLAG_W,SILCAT,SILCAT_FLAG_W,NINI,NINI_FLAG_W,PHSPHT,PHSPHT_FLAG_W,REVP
,,,,,,,,,,,,DB,IPTS-68,PSS-78,,PSS-78,,UMOL/KG,,UMOL/KG,,UMOL/KG,,UMOL/KG,,UMOL/KG,,DBAR
           NA,HOT timeseries 1988to2019 27SEP2021,     22,  99,-999.0,      24,-999.0,19910409,1400,  22.7500, -157.9983,  4749,    8.600,   23.328,   34.919,2,   34.919,2,  252.200,2,  214.300,2, -999.000,5, -999.000,5, -999.000,5, -999.000
           NA,HOT timeseries 1988to2019 27SEP2021,     22,  99,-999.0,      23,-999.0,19910409,1400,  22.7500, -157.9983,  4749,   43.900,   22.660,   35.112,2, -999.000,3, -999.000,3,  217.300,2,    1.120,2,    0.000,2,    0.070,2, -999.000
           NA,HOT timeseries 1988to2019 27SEP2021,     22,  99,-999.0,      22,-999.0,19910409,1400,  22.7500, -157.9983,  4749,   92.100,   21.812,   35.283,2,   35.283,2,  218.000,2,  216.300,2,    1.310,2,    0.030,2,    0.060,2, -999.000
           NA,HOT timeseries 1988to2019 27SEP2021,     22,  99,-999.0,      21,-999.0,19910409,1400,  22.7500, -157.9983,  4749,  108.300,   21.538,   35.277,2,   35.274,2,  213.000,2,  213.100,2,    1.500,2,    0.130,2,    0.070,2, -999.000
           NA,HOT timeseries 1988to2019 27SEP2021,     22,  99,-999.0,      19,-999.0,19910409,1400,  22.7500, -157.9983,  4749,  187.000,   18.878,   35.086,2,   35.078,2,  196.000,2,  198.900,2,    2.630,2,    2.220,2,    0.210,2, -999.000
           NA,HOT timeseries 1988to2019 27SEP2021,     22,  99,-999.0,      18,-999.0,19910409,1400,  22.7500, -157.9983,  4749,  245.700,   16.490,   34.772,2,   34.769,2,  199.600,2,  200.300,2,    4.130,2,    4.070,2,    0.340,2, -999.000
           NA,HOT timeseries 1988to2019 27SEP2021,     22,  99,-999.0,      23,-999.0,19910409,1400,  22.7500, -157.9983,  4749,  351.000,   10.804,   34.182,2,   34.179,2,  215.700,2,  201.100,2,   15.580,2,   14.310,2,    1.010,2, -999.000
           NA,HOT timeseries 1988to2019 27SEP2021,     22,  99,-999.0,      16,-999.0,19910409,1400,  22.7500, -157.9983,  4749,  371.600,   10.560,   34.161,2,   34.165,2,  203.300,2,  199.200,2,   16.520,2,   14.670,2,    1.040,2, -999.000
           NA,HOT timeseries 1988to2019 27SEP2021,     22,  99,-999.0,      15,-999.0,19910409,1400,  22.7500, -157.9983,  4749,  386.500,   10.104,   34.147,2,   34.146,2,  201.100,2,  195.000,2,   18.960,2,   16.120,2,    1.130,2, -999.000
           NA,HOT timeseries 1988to2019 27SEP2021,     22,  99,-999.0,      14,-999.0,19910409,1400,  22.7500, -157.9983,  4749,  431.600,    8.960,   34.094,2,   34.098,2,  177.100,2,  174.400,2,   26.840,2,   20.350,2,    1.440,2, -999.000
           NA,HOT timeseries 1988to2019 27SEP2021,     22,  99,-999.0,      13,-999.0,19910409,1400,  22.7500, -157.9983,  4749,  504.800,    7.298,   34.082,2,   34.082,2,  128.800,2,  111.700,2,   46.550,2,   28.980,2,    2.090,2, -999.000
           NA,HOT timeseries 1988to2019 27SEP2021,     22,  99,-999.0,      12,-999.0,19910409,1400,  22.7500, -157.9983,  4749,  539.600,    7.039,   34.134,2,   34.131,2,   79.700,2,   79.500,2,   53.400,2,   32.110,2,    2.360,2, -999.000
           NA,HOT timeseries 1988to2019 27SEP2021,     22,  99,-999.0,      11,-999.0,19910409,1400,  22.7500, -157.9983,  4749,  582.100,    6.520,   34.192,2,   34.191,2,   48.200,2,   50.800,2,   63.060,2, -999.000,3,    2.650,2, -999.000
           NA,HOT timeseries 1988to2019 27SEP2021,     22,  99,-999.0,      10,-999.0,19910409,1400,  22.7500, -157.9983,  4749,  628.900,    6.113,   34.219,2,   34.219,2,   42.200,2,   42.500,2,   70.010,2,   37.110,2,    2.770,2, -999.000
           NA,HOT timeseries 1988to2019 27SEP2021,     22,  99,-999.0,       9,-999.0,19910409,1400,  22.7500, -157.9983,  4749,  648.500,    5.653,   34.219,2,   34.220,2,   50.000,2,   40.300,2,   77.140,2,   38.340,2,    2.810,2, -999.000
           NA,HOT timeseries 1988to2019 27SEP2021,     22,  99,-999.0,       8,-999.0,19910409,1400,  22.7500, -157.9983,  4749,  668.400,    5.254,   34.211,2,   34.204,2,   36.500,2,   39.700,2,   83.140,2,   39.090,2,    2.860,2, -999.000
           NA,HOT timeseries 1988to2019 27SEP2021,     22,  99,-999.0,       7,-999.0,19910409,1400,  22.7500, -157.9983,  4749,  688.300,    5.054,   34.225,2,   34.225,2,   34.400,2,   35.200,2,   87.840,2,   40.070,2,    2.960,2, -999.000
           NA,HOT timeseries 1988to2019 27SEP2021,     22,  99,-999.0,      25,-999.0,19910409,1400,  22.7500, -157.9983,  4749,  820.600,    4.512,   34.400,2,   34.400,2,   32.300,2,   33.100,2,  100.960,2,   41.420,2,    2.980,2, -999.000
           NA,HOT timeseries 1988to2019 27SEP2021,     22,  99,-999.0,      22,-999.0,19910409,1400,  22.7500, -157.9983,  4749,  826.100,    4.590,   34.394,2,   34.395,2,   31.800,2,   32.000,2,  102.840,2,   41.540,2,    3.000,2, -999.000
           NA,HOT timeseries 1988to2019 27SEP2021,     22,  99,-999.0,       3,-999.0,19910409,1400,  22.7500, -157.9983,  4749,  893.700,    4.215,   34.435,2,   34.435,2,   37.900,2,   38.100,2,  106.580,2,   41.790,2,    3.010,2, -999.000
           NA,HOT timeseries 1988to2019 27SEP2021,     22,  99,-999.0,       2,-999.0,19910409,1400,  22.7500, -157.9983,  4749,  982.200,    4.000,   34.478,2,   34.477,2,   41.800,2,   42.300,2,  111.270,2,   41.790,2,    3.030,2, -999.000
           NA,HOT timeseries 1988to2019 27SEP2021,     22,  99,-999.0,       1,-999.0,19910409,1400,  22.7500, -157.9983,  4749, 1039.400,    3.845,   34.494,2,   34.492,2,   45.900,2,   45.600,2,  115.020,2,   41.600,2,    3.010,2, -999.000
           NA,HOT timeseries 1988to2019 27SEP2021,     22,  99,-999.0,      21,-999.0,19910409,1400,  22.7500, -157.9983,  4749, 1104.100,    3.650,   34.509,2,   34.509,2,   51.400,2, -999.000,4,  117.830,2,   41.300,2,    3.000,2, -999.000
           NA,HOT timeseries 1988to2019 27SEP2021,     22,  99,-999.0,      20,-999.0,19910409,1400,  22.7500, -157.9983,  4749, 1257.700,    3.348,   34.537,2,   34.535,2,   57.500,2,   54.900,2,  125.340,2,   41.170,2,    2.980,2, -999.000
           NA,HOT timeseries 1988to2019 27SEP2021,     22,  99,-999.0,      19,-999.0,19910409,1400,  22.7500, -157.9983,  4749, 1406.500,    3.033,   34.559,2,   34.559,2,   64.200,2,   60.800,2,  132.470,2,   40.800,2,    2.940,2, -999.000
           NA,HOT timeseries 1988to2019 27SEP2021,     22,  99,-999.0,      18,-999.0,19910409,1400,  22.7500, -157.9983,  4749, 1555.600,    2.767,   34.576,2,   34.575,2,   70.800,2,   67.500,2,  137.530,2,   40.550,2,    2.910,2, -999.000
           NA,HOT timeseries 1988to2019 27SEP2021,     22,  99,-999.0,      17,-999.0,19910409,1400,  22.7500, -157.9983,  4749, 1705.000,    2.488,   34.590,2,   34.589,2,   78.900,2,   74.600,2,  144.100,2,   40.060,2,    2.880,2, -999.000
           NA,HOT timeseries 1988to2019 27SEP2021,     22,  99,-999.0,      16,-999.0,19910409,1400,  22.7500, -157.9983,  4749, 1855.700,    2.269,   34.603,2,   34.604,2,   83.400,2,   80.700,2,  148.790,2,   39.810,2,    2.860,2, -999.000
           NA,HOT timeseries 1988to2019 27SEP2021,     22,  99,-999.0,      14,-999.0,19910409,1400,  22.7500, -157.9983,  4749, 2204.100,    1.887,   34.630,2,   34.629,2,   92.300,2,   93.500,2,  157.980,2,   39.080,2,    2.780,2, -999.000
           NA,HOT timeseries 1988to2019 27SEP2021,     22,  99,-999.0,      13,-999.0,19910409,1400,  22.7500, -157.9983,  4749, 2405.300,    1.744,   34.643,2,   34.642,2,  101.100,2,  102.000,2,  160.980,2,   38.580,2,    2.760,2, -999.000
           NA,HOT timeseries 1988to2019 27SEP2021,     22,  99,-999.0,      12,-999.0,19910409,1400,  22.7500, -157.9983,  4749, 2598.500,    1.655,   34.652,2,   34.652,2,  106.500,2,  109.900,2,  160.980,2,   38.090,2,    2.710,2, -999.000
           NA,HOT timeseries 1988to2019 27SEP2021,     22,  99,-999.0,      11,-999.0,19910409,1400,  22.7500, -157.9983,  4749, 2801.300,    1.583,   34.660,2,   34.661,2,  115.200,2,  119.000,2,  160.040,2,   37.470,2,    2.670,2, -999.000
           NA,HOT timeseries 1988to2019 27SEP2021,     22,  99,-999.0,      10,-999.0,19910409,1400,  22.7500, -157.9983,  4749, 3005.700,    1.514,   34.669,2,   34.669,2,  124.800,2,  127.800,2,  157.040,2,   36.920,2,    2.610,2, -999.000
           NA,HOT timeseries 1988to2019 27SEP2021,     22,  99,-999.0,       9,-999.0,19910409,1400,  22.7500, -157.9983,  4749, 3209.700,    1.485,   34.673,2,   34.674,2,  130.700,2,  133.400,2,  156.290,2,   36.600,2,    2.580,2, -999.000
           NA,HOT timeseries 1988to2019 27SEP2021,     22,  99,-999.0,       8,-999.0,19910409,1400,  22.7500, -157.9983,  4749, 3405.300,    1.463,   34.677,2,   34.678,2,  135.800,2,  138.700,2,  155.350,2,   36.360,2,    2.550,2, -999.000
           NA,HOT timeseries 1988to2019 27SEP2021,     22,  99,-999.0,       7,-999.0,19910409,1400,  22.7500, -157.9983,  4749, 3606.200,    1.452,   34.681,2,   34.681,2,  140.300,2,  143.000,2,  153.470,2,   36.110,2,    2.540,2, -999.000
           NA,HOT timeseries 1988to2019 27SEP2021,     22,  99,-999.0,       6,-999.0,19910409,1400,  22.7500, -157.9983,  4749, 3798.900,    1.449,   34.683,2,   34.683,2,  146.200,2,  145.900,2,  153.090,2,   35.870,2,    2.510,2, -999.000
           NA,HOT timeseries 1988to2019 27SEP2021,     22,  99,-999.0,      26,-999.0,19910409,1400,  22.7500, -157.9983,  4749, 3995.800,    1.452,   34.685,2,   34.685,2,  148.800,2,  148.700,2,  152.350,2,   35.810,2,    2.500,2, -999.000
           NA,HOT timeseries 1988to2019 27SEP2021,     22,  99,-999.0,      25,-999.0,19910409,1400,  22.7500, -157.9983,  4749, 4201.600,    1.461,   34.686,2,   34.685,2,  152.100,2,  150.900,2,  150.280,2,   35.620,2,    2.490,2, -999.000
           NA,HOT timeseries 1988to2019 27SEP2021,     22,  99,-999.0,       3,-999.0,19910409,1400,  22.7500, -157.9983,  4749, 4402.600,    1.478,   34.687,2,   34.685,2,  153.500,2,  151.300,2,  149.720,2,   35.500,2,    2.480,2, -999.000
           NA,HOT timeseries 1988to2019 27SEP2021,     22,  99,-999.0,       2,-999.0,19910409,1400,  22.7500, -157.9983,  4749, 4603.800,    1.496,   34.687,2,   34.686,2,  155.800,2,  152.300,2,  149.340,2,   35.500,2,    2.480,2, -999.000
           NA,HOT timeseries 1988to2019 27SEP2021,     22,  99,-999.0,       1,-999.0,19910409,1400,  22.7500, -157.9983,  4749, 4726.500,    1.508,   34.688,2,   34.688,2,  156.500,2, -999.000,4,  148.120,2,   35.560,2,    2.480,2, -999.000