BOTTLE,20214727JOAExport
EXPOCODE,SECT_ID,STNNBR,CASTNO,SAMPNO,BTLNBR,BTLNBR_FLAG_W,DATE,TIME,LATITUDE,LONGITUDE,DEPTH,CTDPRS,CTDTMP,CTDSAL,CTDSAL_FLAG_W,SALNTY,SALNTY_FLAG_W,CTDOXY,CTDOXY_FLAG_W,OXYGEN,OXYGEN_FLAG_W,SILCAT,SILCAT_FLAG_W,NINI,NINI_FLAG_W,PHSPHT,PHSPHT_FLAG_W,REVP
,,,,,,,,,,,,DB,IPTS-68,PSS-78,,PSS-78,,UMOL/KG,,UMOL/KG,,UMOL/KG,,UMOL/KG,,UMOL/KG,,DBAR
           NA,HOT timeseries 1988to2019 27SEP2021,    216,  99,-999.0,    8024,-999.0,20110509,1605,  22.7503, -157.9995,  4749,    4.700,   24.358,   35.287,2,   35.288,2,  209.800,2,  209.000,2,    0.970,2,    0.020,2,    0.030,2, -999.000
           NA,HOT timeseries 1988to2019 27SEP2021,    216,  99,-999.0,    8024,-999.0,20110509,1605,  22.7503, -157.9995,  4749,   44.700,   24.123,   35.316,2, -999.000,4, -999.000,3,  213.200,2,    1.160,2,    0.010,2,    0.040,2, -999.000
           NA,HOT timeseries 1988to2019 27SEP2021,    216,  99,-999.0,    8023,-999.0,20110509,1605,  22.7503, -157.9995,  4749,   81.000,   22.609,   35.427,2,   35.425,2,  217.800,2,  218.800,2,    1.060,2,    0.020,2,    0.030,2, -999.000
           NA,HOT timeseries 1988to2019 27SEP2021,    216,  99,-999.0,    8022,-999.0,20110509,1605,  22.7503, -157.9995,  4749,  148.100,   19.706,   35.139,2,   35.148,2,  206.700,2,  207.100,2,    2.130,2,    1.000,2,    0.120,2, -999.000
           NA,HOT timeseries 1988to2019 27SEP2021,    216,  99,-999.0,    8021,-999.0,20110509,1605,  22.7503, -157.9995,  4749,  191.400,   17.976,   34.901,2,   34.894,2,  201.300,2, -999.000,3,    3.850,2,    2.560,2,    0.220,2, -999.000
           NA,HOT timeseries 1988to2019 27SEP2021,    216,  99,-999.0,    8020,-999.0,20110509,1605,  22.7503, -157.9995,  4749,  233.400,   15.287,   34.507,2,   34.506,2,  204.000,2,  204.800,2,    7.890,2,    5.130,2,    0.410,2, -999.000
           NA,HOT timeseries 1988to2019 27SEP2021,    216,  99,-999.0,    8019,-999.0,20110509,1605,  22.7503, -157.9995,  4749,  277.300,   13.063,   34.309,2,   34.304,2,  205.700,2,  205.500,2,    9.000,2,    9.310,2,    0.680,2, -999.000
           NA,HOT timeseries 1988to2019 27SEP2021,    216,  99,-999.0,    8017,-999.0,20110509,1605,  22.7503, -157.9995,  4749,  351.300,   10.654,   34.154,2,   34.152,2,  179.900,2,  184.900,2,   18.970,2,   15.840,2,    1.150,2, -999.000
           NA,HOT timeseries 1988to2019 27SEP2021,    216,  99,-999.0,    8016,-999.0,20110509,1605,  22.7503, -157.9995,  4749,  364.100,   10.141,   34.128,2,   34.125,2,  171.600,2,  169.900,2,   20.770,2,   18.160,2,    1.340,2, -999.000
           NA,HOT timeseries 1988to2019 27SEP2021,    216,  99,-999.0,    8015,-999.0,20110509,1605,  22.7503, -157.9995,  4749,  412.400,    8.969,   34.108,2,   34.106,2,  142.800,2,  141.600,2,   29.810,2,   23.070,2,    1.700,2, -999.000
           NA,HOT timeseries 1988to2019 27SEP2021,    216,  99,-999.0,    8014,-999.0,20110509,1605,  22.7503, -157.9995,  4749,  481.700,    7.643,   34.100,2,   34.097,2,  102.100,2,  104.600,2,   43.690,2,   29.080,2,    2.140,2, -999.000
           NA,HOT timeseries 1988to2019 27SEP2021,    216,  99,-999.0,    8025,-999.0,20110509,1605,  22.7503, -157.9995,  4749,  500.700,    7.077,   34.071,2,   34.070,2,  105.500,2,  100.200,2,   49.480,2,   30.810,2,    2.230,2, -999.000
           NA,HOT timeseries 1988to2019 27SEP2021,    216,  99,-999.0,    8012,-999.0,20110509,1605,  22.7503, -157.9995,  4749,  519.500,    6.823,   34.092,2,   34.089,2,   85.800,2,   86.100,2,   53.210,2,   32.410,2,    2.380,2, -999.000
           NA,HOT timeseries 1988to2019 27SEP2021,    216,  99,-999.0,    8011,-999.0,20110509,1605,  22.7503, -157.9995,  4749,  577.800,    6.284,   34.140,2,   34.135,2,   59.400,2,   60.000,2,   62.640,2,   35.350,2,    2.600,2, -999.000
           NA,HOT timeseries 1988to2019 27SEP2021,    216,  99,-999.0,    8010,-999.0,20110509,1605,  22.7503, -157.9995,  4749,  628.900,    5.701,   34.204,2,   34.199,2,   39.300,2,   38.500,2,   74.980,2,   38.360,2,    2.830,2, -999.000
           NA,HOT timeseries 1988to2019 27SEP2021,    216,  99,-999.0,    8009,-999.0,20110509,1605,  22.7503, -157.9995,  4749,  674.100,    5.444,   34.264,2,   34.264,2,   31.100,2,   29.500,2,   80.550,2,   39.530,2,    2.920,2, -999.000
           NA,HOT timeseries 1988to2019 27SEP2021,    216,  99,-999.0,    8008,-999.0,20110509,1605,  22.7503, -157.9995,  4749,  727.400,    5.207,   34.332,2,   34.328,2,   26.800,2,   26.300,2,   85.920,2,   40.490,2,    2.980,2, -999.000
           NA,HOT timeseries 1988to2019 27SEP2021,    216,  99,-999.0,    8026,-999.0,20110509,1605,  22.7503, -157.9995,  4749,  750.800,    5.098,   34.360,2,   34.359,2,   26.900,2,   26.100,2,   88.000,2,   40.700,2,    3.000,2, -999.000
           NA,HOT timeseries 1988to2019 27SEP2021,    216,  99,-999.0,    8006,-999.0,20110509,1605,  22.7503, -157.9995,  4749,  811.200,    4.907,   34.403,2,   34.401,2,   28.800,2,   28.400,2,   91.830,2,   41.210,2,    3.010,2, -999.000
           NA,HOT timeseries 1988to2019 27SEP2021,    216,  99,-999.0,    8005,-999.0,20110509,1605,  22.7503, -157.9995,  4749,  873.600,    4.666,   34.434,2,   34.431,2,   31.800,2,   31.600,2,   96.170,2,   41.310,2,    3.020,2, -999.000
           NA,HOT timeseries 1988to2019 27SEP2021,    216,  99,-999.0,    8003,-999.0,20110509,1605,  22.7503, -157.9995,  4749,  946.600,    4.515,   34.462,2,   34.463,2,   35.000,2,   35.200,2,   99.200,2,   41.220,2,    3.010,2, -999.000
           NA,HOT timeseries 1988to2019 27SEP2021,    216,  99,-999.0,    8002,-999.0,20110509,1605,  22.7503, -157.9995,  4749,  981.100,    4.403,   34.475,2,   34.474,2,   36.500,2,   36.800,2,  101.050,2,   41.480,2,    3.000,2, -999.000
           NA,HOT timeseries 1988to2019 27SEP2021,    216,  99,-999.0,    8001,-999.0,20110509,1605,  22.7503, -157.9995,  4749, 1018.400,    4.265,   34.489,2,   34.488,2,   38.700,2,   38.800,2,  103.800,2,   41.400,2,    3.000,2, -999.000
           NA,HOT timeseries 1988to2019 27SEP2021,    216,  99,-999.0,    8020,-999.0,20110509,1605,  22.7503, -157.9995,  4749, 1201.000,    3.672,   34.527,2,   34.526,2,   49.500,2,   49.600,2,  115.510,2,   40.640,2,    2.950,2, -999.000
           NA,HOT timeseries 1988to2019 27SEP2021,    216,  99,-999.0,    8019,-999.0,20110509,1605,  22.7503, -157.9995,  4749, 1399.900,    3.190,   34.552,2,   34.551,2,   59.700,2,   60.100,2,  125.670,2,   40.230,2,    2.910,2, -999.000
           NA,HOT timeseries 1988to2019 27SEP2021,    216,  99,-999.0,    8018,-999.0,20110509,1605,  22.7503, -157.9995,  4749, 1599.900,    2.854,   34.578,2,   34.577,2,   64.100,2,   66.000,2,  133.550,2,   40.170,2,    2.900,2, -999.000
           NA,HOT timeseries 1988to2019 27SEP2021,    216,  99,-999.0,    8017,-999.0,20110509,1605,  22.7503, -157.9995,  4749, 1800.000,    2.473,   34.596,2,   34.594,2,   75.300,2,   78.500,2,  141.190,2,   39.440,2,    2.830,2, -999.000
           NA,HOT timeseries 1988to2019 27SEP2021,    216,  99,-999.0,    8016,-999.0,20110509,1605,  22.7503, -157.9995,  4749, 2002.900,    2.228,   34.615,2,   34.615,2,   85.900,2,   86.400,2,  146.700,2,   39.120,2,    2.790,2, -999.000
           NA,HOT timeseries 1988to2019 27SEP2021,    216,  99,-999.0,    8015,-999.0,20110509,1605,  22.7503, -157.9995,  4749, 2198.200,    2.046,   34.627,2,   34.626,2,   92.300,2,   93.400,2,  151.240,2,   38.960,2,    2.760,2, -999.000
           NA,HOT timeseries 1988to2019 27SEP2021,    216,  99,-999.0,    8014,-999.0,20110509,1605,  22.7503, -157.9995,  4749, 2400.000,    1.867,   34.639,2,   34.638,2,   99.800,2, -999.000,5,  154.090,2,   38.280,2,    2.700,2, -999.000
           NA,HOT timeseries 1988to2019 27SEP2021,    216,  99,-999.0,    8025,-999.0,20110509,1605,  22.7503, -157.9995,  4749, 2599.700,    1.747,   34.650,2,   34.648,2,  106.700,2,  107.800,2,  156.910,2,   38.000,2,    2.680,2, -999.000
           NA,HOT timeseries 1988to2019 27SEP2021,    216,  99,-999.0,    8012,-999.0,20110509,1605,  22.7503, -157.9995,  4749, 2801.300,    1.659,   34.659,2,   34.657,2,  112.500,2,  113.900,2,  158.620,2,   37.620,2,    2.640,2, -999.000
           NA,HOT timeseries 1988to2019 27SEP2021,    216,  99,-999.0,    8011,-999.0,20110509,1605,  22.7503, -157.9995,  4749, 3000.200,    1.587,   34.666,2,   34.663,2,  120.200,2,  121.200,2,  157.980,2,   37.170,2,    2.610,2, -999.000
           NA,HOT timeseries 1988to2019 27SEP2021,    216,  99,-999.0,    8010,-999.0,20110509,1605,  22.7503, -157.9995,  4749, 3200.300,    1.537,   34.672,2,   34.671,2,  125.900,2,  127.200,2,  158.040,2,   36.800,2,    2.590,2, -999.000
           NA,HOT timeseries 1988to2019 27SEP2021,    216,  99,-999.0,    8009,-999.0,20110509,1605,  22.7503, -157.9995,  4749, 3401.300,    1.502,   34.677,2,   34.675,2,  132.200,2,  132.000,2,  157.440,2,   36.350,2,    2.550,2, -999.000
           NA,HOT timeseries 1988to2019 27SEP2021,    216,  99,-999.0,    8008,-999.0,20110509,1605,  22.7503, -157.9995,  4749, 3597.100,    1.480,   34.680,2,   34.679,2,  137.400,2,  137.800,2,  156.280,2,   36.120,2,    2.520,2, -999.000
           NA,HOT timeseries 1988to2019 27SEP2021,    216,  99,-999.0,    8026,-999.0,20110509,1605,  22.7503, -157.9995,  4749, 3799.000,    1.468,   34.683,2,   34.680,2,  141.900,2,  142.000,2,  153.030,2,   35.680,2,    2.500,2, -999.000
           NA,HOT timeseries 1988to2019 27SEP2021,    216,  99,-999.0,    8006,-999.0,20110509,1605,  22.7503, -157.9995,  4749, 3999.800,    1.463,   34.685,2,   34.683,2,  146.000,2,  145.700,2,  151.170,2,   35.560,2,    2.490,2, -999.000
           NA,HOT timeseries 1988to2019 27SEP2021,    216,  99,-999.0,    8005,-999.0,20110509,1605,  22.7503, -157.9995,  4749, 4198.200,    1.473,   34.687,2,   34.684,2,  148.200,2,  147.600,2,  149.740,2,   35.280,2,    2.470,2, -999.000
           NA,HOT timeseries 1988to2019 27SEP2021,    216,  99,-999.0,    8004,-999.0,20110509,1605,  22.7503, -157.9995,  4749, 4400.400,    1.482,   34.688,2,   34.685,2,  150.500,2,  150.100,2,  148.770,2,   35.270,2,    2.460,2, -999.000
           NA,HOT timeseries 1988to2019 27SEP2021,    216,  99,-999.0,    8003,-999.0,20110509,1605,  22.7503, -157.9995,  4749, 4500.500,    1.486,   34.688,2,   34.687,2,  151.800,2,  151.300,2,  148.540,2,   35.220,2,    2.460,2, -999.000
           NA,HOT timeseries 1988to2019 27SEP2021,    216,  99,-999.0,    8002,-999.0,20110509,1605,  22.7503, -157.9995,  4749, 4599.800,    1.493,   34.689,2,   34.688,2,  152.800,2,  152.600,2,  148.060,2,   35.150,2,    2.450,2, -999.000
           NA,HOT timeseries 1988to2019 27SEP2021,    216,  99,-999.0,    8001,-999.0,20110509,1605,  22.7503, -157.9995,  4749, 4806.700,    1.508,   34.689,2,   34.688,2,  154.000,2,  153.700,2,  146.380,2,   35.070,2,    2.440,2, -999.000
           NA,HOT timeseries 1988to2019 27SEP2021,    217,  99,-999.0,    8024,-999.0,20110720,0020,  22.7498, -157.9998,  4748,    4.700,   25.341,   34.958,2,   34.956,2,  208.300,2,  208.200,2,    1.030,2,    0.010,2,    0.090,2, -999.000
           NA,HOT timeseries 1988to2019 27SEP2021,    217,  99,-999.0,    8023,-999.0,20110720,0020,  22.7498, -157.9998,  4748,   67.000,   24.723,   34.980,2, -999.000,3, -999.000,3,  215.300,2,    1.000,2,    0.000,2,    0.080,2, -999.000
           NA,HOT timeseries 1988to2019 27SEP2021,    217,  99,-999.0,    8022,-999.0,20110720,0020,  22.7498, -157.9998,  4748,   77.600,   24.032,   35.103,2,   35.115,2,  215.500,2,  215.100,2,    0.980,2,    0.000,2,    0.080,2, -999.000
           NA,HOT timeseries 1988to2019 27SEP2021,    217,  99,-999.0,    8021,-999.0,20110720,0020,  22.7498, -157.9998,  4748,   96.500,   23.564,   35.192,2,   35.200,2,  211.800,2,  212.400,2,    0.960,2,    0.000,2,    0.080,2, -999.000
           NA,HOT timeseries 1988to2019 27SEP2021,    217,  99,-999.0,    8020,-999.0,20110720,0020,  22.7498, -157.9998,  4748,  124.900,   22.202,   35.227,2,   35.230,2,  201.800,2,  203.800,2,    1.380,2,    0.240,2,    0.110,2, -999.000
           NA,HOT timeseries 1988to2019 27SEP2021,    217,  99,-999.0,    8019,-999.0,20110720,0020,  22.7498, -157.9998,  4748,  145.600,   22.126,   35.262,2,   35.269,2,  206.500,2,  205.200,2,    1.400,2,    0.280,2,    0.090,2, -999.000
           NA,HOT timeseries 1988to2019 27SEP2021,    217,  99,-999.0,    8018,-999.0,20110720,0020,  22.7498, -157.9998,  4748,  194.000,   20.110,   35.110,2,   35.106,2,  196.300,2,  196.200,2,    2.740,2,    1.610,2,    0.170,2, -999.000
           NA,HOT timeseries 1988to2019 27SEP2021,    217,  99,-999.0,    8017,-999.0,20110720,0020,  22.7498, -157.9998,  4748,  267.200,   16.338,   34.621,2,   34.604,2,  195.600,2,  195.400,2,    4.550,2,    5.010,2,    0.380,2, -999.000
           NA,HOT timeseries 1988to2019 27SEP2021,    217,  99,-999.0,    8016,-999.0,20110720,0020,  22.7498, -157.9998,  4748,  330.000,   12.143,   34.204,2,   34.202,2,  198.300,2,  189.100,2,   11.530,2,   12.160,2,    0.870,2, -999.000
           NA,HOT timeseries 1988to2019 27SEP2021,    217,  99,-999.0,    8014,-999.0,20110720,0020,  22.7498, -157.9998,  4748,  427.400,    8.735,   34.076,2,   34.077,2,  159.100,2,  151.800,2,   30.800,2,   23.200,2,    1.650,2, -999.000
           NA,HOT timeseries 1988to2019 27SEP2021,    217,  99,-999.0,    8025,-999.0,20110720,0020,  22.7498, -157.9998,  4748,  450.100,    8.188,   34.108,2,   34.117,2,  127.900,2,  107.800,2,   39.950,2,   28.040,2,    2.060,2, -999.000
           NA,HOT timeseries 1988to2019 27SEP2021,    217,  99,-999.0,    8012,-999.0,20110720,0020,  22.7498, -157.9998,  4748,  472.300,    7.735,   34.133,2,   34.128,2,   80.000,2,   88.700,2,   45.730,2,   30.440,2,    2.260,2, -999.000
           NA,HOT timeseries 1988to2019 27SEP2021,    217,  99,-999.0,    8011,-999.0,20110720,0020,  22.7498, -157.9998,  4748,  519.700,    6.970,   34.160,2,   34.162,2,   63.800,2,   61.300,2,   55.530,2,   34.220,2,    2.540,2, -999.000
           NA,HOT timeseries 1988to2019 27SEP2021,    217,  99,-999.0,    8010,-999.0,20110720,0020,  22.7498, -157.9998,  4748,  566.400,    6.642,   34.218,2,   34.219,2,   46.600,2,   45.100,2,   61.570,2,   36.050,2,    2.680,2, -999.000
           NA,HOT timeseries 1988to2019 27SEP2021,    217,  99,-999.0,    8009,-999.0,20110720,0020,  22.7498, -157.9998,  4748,  607.700,    6.168,   34.234,2,   34.232,2,   41.600,2,   41.200,2,   68.210,2,   37.820,2,    2.760,2, -999.000
           NA,HOT timeseries 1988to2019 27SEP2021,    217,  99,-999.0,    8008,-999.0,20110720,0020,  22.7498, -157.9998,  4748,  650.400,    5.928,   34.271,2,   34.272,2,   35.300,2,   35.000,2,   73.180,2,   38.990,2,    2.840,2, -999.000
           NA,HOT timeseries 1988to2019 27SEP2021,    217,  99,-999.0,    8026,-999.0,20110720,0020,  22.7498, -157.9998,  4748,  693.800,    5.653,   34.300,2,   34.298,2,   31.700,2,   31.800,2,   79.130,2,   39.950,2,    2.900,2, -999.000
           NA,HOT timeseries 1988to2019 27SEP2021,    217,  99,-999.0,    8005,-999.0,20110720,0020,  22.7498, -157.9998,  4748,  749.700,    4.985,   34.351,2,   34.351,2,   31.500,2,   31.400,2,   90.670,2,   41.150,2,    2.960,2, -999.000
           NA,HOT timeseries 1988to2019 27SEP2021,    217,  99,-999.0,    8004,-999.0,20110720,0020,  22.7498, -157.9998,  4748,  801.500,    4.856,   34.398,2,   34.400,2,   33.800,2,   34.400,2,   92.820,2,   41.310,2,    2.970,2, -999.000
           NA,HOT timeseries 1988to2019 27SEP2021,    217,  99,-999.0,    8003,-999.0,20110720,0020,  22.7498, -157.9998,  4748,  853.800,    4.736,   34.421,2,   34.423,2,   37.200,2,   37.200,2,   95.090,2,   41.410,2,    2.960,2, -999.000
           NA,HOT timeseries 1988to2019 27SEP2021,    217,  99,-999.0,    8002,-999.0,20110720,0020,  22.7498, -157.9998,  4748,  936.700,    4.434,   34.461,2,   34.463,2,   40.900,2,   41.000,2,  101.320,2,   41.640,2,    2.970,2, -999.000
           NA,HOT timeseries 1988to2019 27SEP2021,    217,  99,-999.0,    8001,-999.0,20110720,0020,  22.7498, -157.9998,  4748, 1019.400,    4.228,   34.480,2,   34.480,2,   43.600,2,   43.900,2,  104.620,2,   41.610,2,    2.980,2, -999.000
           NA,HOT timeseries 1988to2019 27SEP2021,    217,  99,-999.0,    8016,-999.0,20110720,0020,  22.7498, -157.9998,  4748, 1999.000,    2.201,   34.616,2,   34.615,2,   88.500,2,   88.400,2,  146.750,2,   39.120,2,    2.790,2, -999.000
           NA,HOT timeseries 1988to2019 27SEP2021,    217,  99,-999.0,    8015,-999.0,20110720,0020,  22.7498, -157.9998,  4748, 2198.500,    2.013,   34.627,2,   34.627,2,   95.300,2,   95.200,2,  150.890,2,   38.670,2,    2.760,2, -999.000
           NA,HOT timeseries 1988to2019 27SEP2021,    217,  99,-999.0,    8014,-999.0,20110720,0020,  22.7498, -157.9998,  4748, 2399.200,    1.861,   34.640,2,   34.639,2,  103.200,2, -999.000,3,  153.090,2,   38.400,2,    2.740,2, -999.000
           NA,HOT timeseries 1988to2019 27SEP2021,    217,  99,-999.0,    8025,-999.0,20110720,0020,  22.7498, -157.9998,  4748, 2599.400,    1.732,   34.650,2,   34.650,2,  108.800,2,  109.800,2,  156.640,2,   38.180,2,    2.700,2, -999.000
           NA,HOT timeseries 1988to2019 27SEP2021,    217,  99,-999.0,    8012,-999.0,20110720,0020,  22.7498, -157.9998,  4748, 2798.600,    1.660,   34.657,2,   34.657,2,  114.000,2,  114.300,2,  157.580,2,   38.000,2,    2.680,2, -999.000
           NA,HOT timeseries 1988to2019 27SEP2021,    217,  99,-999.0,    8011,-999.0,20110720,0020,  22.7498, -157.9998,  4748, 2998.500,    1.589,   34.664,2,   34.663,2,  121.000,2,  120.900,2,  157.860,2,   37.730,2,    2.640,2, -999.000
           NA,HOT timeseries 1988to2019 27SEP2021,    217,  99,-999.0,    8010,-999.0,20110720,0020,  22.7498, -157.9998,  4748, 3199.300,    1.526,   34.671,2,   34.670,2,  128.600,2,  128.700,2,  156.380,2,   37.180,2,    2.600,2, -999.000
           NA,HOT timeseries 1988to2019 27SEP2021,    217,  99,-999.0,    8009,-999.0,20110720,0020,  22.7498, -157.9998,  4748, 3399.200,    1.497,   34.676,2,   34.676,2,  133.900,2,  133.800,2,  155.420,2,   36.910,2,    2.560,2, -999.000
           NA,HOT timeseries 1988to2019 27SEP2021,    217,  99,-999.0,    8008,-999.0,20110720,0020,  22.7498, -157.9998,  4748, 3599.300,    1.474,   34.680,2,   34.679,2,  139.100,2,  139.000,2,  153.160,2,   36.510,2,    2.540,2, -999.000
           NA,HOT timeseries 1988to2019 27SEP2021,    217,  99,-999.0,    8026,-999.0,20110720,0020,  22.7498, -157.9998,  4748, 3799.500,    1.465,   34.682,2,   34.682,2,  143.200,2,  143.100,2,  153.080,2,   36.360,2,    2.520,2, -999.000
           NA,HOT timeseries 1988to2019 27SEP2021,    217,  99,-999.0,    8006,-999.0,20110720,0020,  22.7498, -157.9998,  4748, 3999.100,    1.466,   34.684,2,   34.684,2,  146.100,2,  146.000,2,  151.000,2,   36.170,2,    2.520,2, -999.000
           NA,HOT timeseries 1988to2019 27SEP2021,    217,  99,-999.0,    8005,-999.0,20110720,0020,  22.7498, -157.9998,  4748, 4199.700,    1.471,   34.685,2,   34.686,2,  148.700,2,  148.300,2,  150.140,2,   35.850,2,    2.490,2, -999.000
           NA,HOT timeseries 1988to2019 27SEP2021,    217,  99,-999.0,    8004,-999.0,20110720,0020,  22.7498, -157.9998,  4748, 4400.000,    1.482,   34.686,2,   34.687,2,  150.300,2,  149.500,2,  148.580,2,   35.710,2,    2.480,2, -999.000
           NA,HOT timeseries 1988to2019 27SEP2021,    217,  99,-999.0,    8003,-999.0,20110720,0020,  22.7498, -157.9998,  4748, 4499.300,    1.489,   34.687,2,   34.687,2,  151.100,2,  151.200,2,  147.960,2,   35.630,2,    2.480,2, -999.000
           NA,HOT timeseries 1988to2019 27SEP2021,    217,  99,-999.0,    8002,-999.0,20110720,0020,  22.7498, -157.9998,  4748, 4598.900,    1.498,   34.687,2,   34.688,2,  151.500,2,  151.100,2,  148.470,2,   35.630,2,    2.480,2, -999.000
           NA,HOT timeseries 1988to2019 27SEP2021,    217,  99,-999.0,    8001,-999.0,20110720,0020,  22.7498, -157.9998,  4748, 4809.300,    1.519,   34.687,2,   34.688,2,  151.800,2,  152.200,2,  147.120,2,   35.780,2,    2.470,2, -999.000