BOTTLE,20214727JOAExport
EXPOCODE,SECT_ID,STNNBR,CASTNO,SAMPNO,BTLNBR,BTLNBR_FLAG_W,DATE,TIME,LATITUDE,LONGITUDE,DEPTH,CTDPRS,CTDTMP,CTDSAL,CTDSAL_FLAG_W,SALNTY,SALNTY_FLAG_W,CTDOXY,CTDOXY_FLAG_W,OXYGEN,OXYGEN_FLAG_W,SILCAT,SILCAT_FLAG_W,NINI,NINI_FLAG_W,PHSPHT,PHSPHT_FLAG_W,REVP
,,,,,,,,,,,,DB,IPTS-68,PSS-78,,PSS-78,,UMOL/KG,,UMOL/KG,,UMOL/KG,,UMOL/KG,,UMOL/KG,,DBAR
           NA,HOT timeseries 1988to2019 27SEP2021,     45,  99,-999.0,      31,-999.0,19930913,1136,  22.7497, -158.0002,  4749,   12.000,   26.486,   35.302,2,   35.305,2,  207.500,2,  203.300,2,    1.070,2,   -0.010,2,    0.050,2, -999.000
           NA,HOT timeseries 1988to2019 27SEP2021,     45,  99,-999.0,      31,-999.0,19930913,1136,  22.7497, -158.0002,  4749,   40.800,   26.081,   35.395,2,   35.401,2,  208.400,2,  207.400,2,    1.050,2,    0.000,2,    0.040,2, -999.000
           NA,HOT timeseries 1988to2019 27SEP2021,     45,  99,-999.0,      30,-999.0,19930913,1136,  22.7497, -158.0002,  4749,   46.700,   26.016,   35.412,2,   35.402,2,  214.600,2,  208.400,2,    1.150,2,    0.000,2,    0.030,2, -999.000
           NA,HOT timeseries 1988to2019 27SEP2021,     45,  99,-999.0,      30,-999.0,19930913,1136,  22.7497, -158.0002,  4749,   74.200,   23.993,   35.284,2,   35.291,2,  229.000,2,  226.100,2,    1.320,2,    0.000,2,    0.020,2, -999.000
           NA,HOT timeseries 1988to2019 27SEP2021,     45,  99,-999.0,      22,-999.0,19930913,1136,  22.7497, -158.0002,  4749,   99.500,   21.432,   35.220,2,   35.227,2,  218.700,2,  224.000,2,    1.420,2,    0.010,2,    0.040,2, -999.000
           NA,HOT timeseries 1988to2019 27SEP2021,     45,  99,-999.0,      21,-999.0,19930913,1136,  22.7497, -158.0002,  4749,  140.200,   19.279,   35.100,2,   35.105,2,  215.100,2,  207.600,2,    2.110,2,    0.480,2,    0.130,2, -999.000
           NA,HOT timeseries 1988to2019 27SEP2021,     45,  99,-999.0,      20,-999.0,19930913,1136,  22.7497, -158.0002,  4749,  211.900,   15.862,   34.683,2,   34.687,2,  202.400,2,  200.900,2,    4.750,2,    4.810,2,    0.380,2, -999.000
           NA,HOT timeseries 1988to2019 27SEP2021,     45,  99,-999.0,      19,-999.0,19930913,1136,  22.7497, -158.0002,  4749,  252.800,   13.681,   34.444,2,   34.447,2,  199.100,2,  198.100,2,    8.240,2,    8.730,2,    0.640,2, -999.000
           NA,HOT timeseries 1988to2019 27SEP2021,     45,  99,-999.0,      18,-999.0,19930913,1136,  22.7497, -158.0002,  4749,  284.500,   12.879,   34.367,2,   34.371,2,  207.800,2,  198.900,2,    9.910,2,   10.240,2,    0.730,2, -999.000
           NA,HOT timeseries 1988to2019 27SEP2021,     45,  99,-999.0,      17,-999.0,19930913,1136,  22.7497, -158.0002,  4749,  299.100,   12.188,   34.289,2,   34.296,2,  208.500,2,  199.100,2,   10.770,2,   11.210,2,    0.810,2, -999.000
           NA,HOT timeseries 1988to2019 27SEP2021,     45,  99,-999.0,      16,-999.0,19930913,1136,  22.7497, -158.0002,  4749,  329.500,   10.801,   34.174,2,   34.177,2,  197.800,2,  197.300,2,   14.800,2,   14.250,2,    1.020,2, -999.000
           NA,HOT timeseries 1988to2019 27SEP2021,     45,  99,-999.0,      15,-999.0,19930913,1136,  22.7497, -158.0002,  4749,  397.500,    9.010,   34.088,2,   34.091,2,  182.900,2,  181.100,2,   25.010,2,   19.750,2,    1.380,2, -999.000
           NA,HOT timeseries 1988to2019 27SEP2021,     45,  99,-999.0,      14,-999.0,19930913,1136,  22.7497, -158.0002,  4749,  448.600,    8.191,   34.057,2,   34.059,2,  169.200,2,  163.200,2,   32.320,2,   23.080,2,    1.620,2, -999.000
           NA,HOT timeseries 1988to2019 27SEP2021,     45,  99,-999.0,      13,-999.0,19930913,1136,  22.7497, -158.0002,  4749,  486.700,    7.100,   34.041,2, -999.000,3, -999.000,3,  124.300,2, -999.000,3, -999.000,3, -999.000,3, -999.000
           NA,HOT timeseries 1988to2019 27SEP2021,     45,  99,-999.0,      12,-999.0,19930913,1136,  22.7497, -158.0002,  4749,  486.700,    7.100,   34.041,2,   34.045,2,  120.200,2,  114.000,2,   49.760,2,   30.210,2,    2.150,2, -999.000
           NA,HOT timeseries 1988to2019 27SEP2021,     45,  99,-999.0,      22,-999.0,19930913,1136,  22.7497, -158.0002,  4749,  504.400,    6.833,   34.037,2,   34.037,2,  122.200,2,  116.200,2,   49.670,2,   29.720,2,    2.030,2, -999.000
           NA,HOT timeseries 1988to2019 27SEP2021,     45,  99,-999.0,      11,-999.0,19930913,1136,  22.7497, -158.0002,  4749,  506.700,    6.868,   34.040,2, -999.000,4, -999.000,3,   97.100,2,   56.300,2,   32.520,2,    2.330,2, -999.000
           NA,HOT timeseries 1988to2019 27SEP2021,     45,  99,-999.0,      32,-999.0,19930913,1136,  22.7497, -158.0002,  4749,  551.300,    6.187,   34.056,2,   34.056,2,   93.500,2,   86.500,2,   61.010,2,   33.990,2,    2.440,2, -999.000
           NA,HOT timeseries 1988to2019 27SEP2021,     45,  99,-999.0,       3,-999.0,19930913,1136,  22.7497, -158.0002,  4749,  577.300,    5.849,   34.063,2,   34.065,2,   82.400,2,   74.000,2,   66.800,2,   35.670,2,    2.570,2, -999.000
           NA,HOT timeseries 1988to2019 27SEP2021,     45,  99,-999.0,      29,-999.0,19930913,1136,  22.7497, -158.0002,  4749,  598.400,    5.589,   34.076,2,   34.077,2,   64.700,2,   63.900,2,   73.330,2,   37.090,2,    2.680,2, -999.000
           NA,HOT timeseries 1988to2019 27SEP2021,     45,  99,-999.0,      28,-999.0,19930913,1136,  22.7497, -158.0002,  4749,  639.600,    5.260,   34.153,2,   34.145,2,   47.200,2,   42.500,2,   82.020,2,   39.390,2,    2.860,2, -999.000
           NA,HOT timeseries 1988to2019 27SEP2021,     45,  99,-999.0,       7,-999.0,19930913,1136,  22.7497, -158.0002,  4749,  691.800,    4.980,   34.230,2,   34.229,2,   35.400,2,   28.800,2,   89.580,2,   40.900,2,    2.990,2, -999.000
           NA,HOT timeseries 1988to2019 27SEP2021,     45,  99,-999.0,      23,-999.0,19930913,1136,  22.7497, -158.0002,  4749,  702.800,    4.917,   34.244,2,   34.243,2,   30.900,2,   27.200,2,   91.240,2,   41.150,2,    3.010,2, -999.000
           NA,HOT timeseries 1988to2019 27SEP2021,     45,  99,-999.0,      36,-999.0,19930913,1136,  22.7497, -158.0002,  4749,  732.300,    4.789,   34.287,2,   34.289,2,   30.400,2,   26.000,2,   95.820,2,   41.590,2,    3.030,2, -999.000
           NA,HOT timeseries 1988to2019 27SEP2021,     45,  99,-999.0,      35,-999.0,19930913,1136,  22.7497, -158.0002,  4749,  802.200,    4.609,   34.358,2,   34.359,2,   29.800,2,   25.100,2,   99.360,2,   41.990,2,    3.060,2, -999.000
           NA,HOT timeseries 1988to2019 27SEP2021,     45,  99,-999.0,      34,-999.0,19930913,1136,  22.7497, -158.0002,  4749,  892.600,    4.308,   34.437,2,   34.438,2,   35.500,2,   32.600,2,  105.850,2,   42.140,2,    3.060,2, -999.000
           NA,HOT timeseries 1988to2019 27SEP2021,     45,  99,-999.0,      21,-999.0,19930913,1136,  22.7497, -158.0002,  4749, 1004.300,    4.005,   34.483,2,   34.485,2,   43.200,2,   41.600,2,  110.600,2,   41.810,2,    2.970,2, -999.000
           NA,HOT timeseries 1988to2019 27SEP2021,     45,  99,-999.0,      33,-999.0,19930913,1136,  22.7497, -158.0002,  4749, 1021.500,    3.968,   34.483,2, -999.000,3, -999.000,3,   43.300,2,  111.920,2,   41.900,2,    3.020,2, -999.000
           NA,HOT timeseries 1988to2019 27SEP2021,     45,  99,-999.0,      20,-999.0,19930913,1136,  22.7497, -158.0002,  4749, 1404.600,    2.953,   34.562,2,   34.564,2,   62.900,2,   63.200,2,  134.150,2,   41.330,2,    2.930,2, -999.000
           NA,HOT timeseries 1988to2019 27SEP2021,     45,  99,-999.0,      19,-999.0,19930913,1136,  22.7497, -158.0002,  4749, 1607.500,    2.589,   34.584,2,   34.585,2,   72.500,2,   73.200,2,  141.490,2,   40.860,2,    2.880,2, -999.000
           NA,HOT timeseries 1988to2019 27SEP2021,     45,  99,-999.0,      18,-999.0,19930913,1136,  22.7497, -158.0002,  4749, 1807.500,    2.326,   34.603,2,   34.603,2,   79.600,2,   80.800,2,  147.910,2,   40.410,2,    2.840,2, -999.000
           NA,HOT timeseries 1988to2019 27SEP2021,     45,  99,-999.0,      17,-999.0,19930913,1136,  22.7497, -158.0002,  4749, 2002.200,    2.111,   34.618,2,   34.618,2,   89.600,2,   89.800,2,  152.100,2,   39.880,2,    2.800,2, -999.000
           NA,HOT timeseries 1988to2019 27SEP2021,     45,  99,-999.0,      16,-999.0,19930913,1136,  22.7497, -158.0002,  4749, 2203.900,    1.936,   34.631,2,   34.631,2,   96.200,2,   96.800,2,  155.990,2,   39.450,2,    2.760,2, -999.000
           NA,HOT timeseries 1988to2019 27SEP2021,     45,  99,-999.0,      15,-999.0,19930913,1136,  22.7497, -158.0002,  4749, 2409.700,    1.792,   34.644,2,   34.645,2,  103.400,2,  105.200,2,  158.460,2,   39.040,2,    2.730,2, -999.000
           NA,HOT timeseries 1988to2019 27SEP2021,     45,  99,-999.0,      14,-999.0,19930913,1136,  22.7497, -158.0002,  4749, 2602.700,    1.692,   34.653,2,   34.654,2,  110.200,2,  111.900,2,  159.540,2,   38.560,2,    2.700,2, -999.000
           NA,HOT timeseries 1988to2019 27SEP2021,     45,  99,-999.0,      13,-999.0,19930913,1136,  22.7497, -158.0002,  4749, 2783.800,    1.628,   34.660,2,   34.660,2,  115.700,2,  118.100,2,  159.350,2,   38.070,2,    2.650,2, -999.000
           NA,HOT timeseries 1988to2019 27SEP2021,     45,  99,-999.0,      12,-999.0,19930913,1136,  22.7497, -158.0002,  4749, 2992.300,    1.569,   34.666,2,   34.666,2,  124.500,2,  123.300,2,  160.480,2,   37.770,2,    2.630,2, -999.000
           NA,HOT timeseries 1988to2019 27SEP2021,     45,  99,-999.0,      11,-999.0,19930913,1136,  22.7497, -158.0002,  4749, 3186.800,    1.527,   34.672,2,   34.672,2,  128.000,2,  129.500,2,  158.260,2,   37.360,2,    2.600,2, -999.000
           NA,HOT timeseries 1988to2019 27SEP2021,     45,  99,-999.0,      32,-999.0,19930913,1136,  22.7497, -158.0002,  4749, 3378.300,    1.488,   34.675,2,   34.675,2,  133.500,2,  135.300,2,  158.160,2,   37.060,2,    2.570,2, -999.000
           NA,HOT timeseries 1988to2019 27SEP2021,     45,  99,-999.0,       3,-999.0,19930913,1136,  22.7497, -158.0002,  4749, 3592.200,    1.467,   34.680,2,   34.680,2,  140.200,2,  140.600,2,  155.940,2,   36.560,2,    2.540,2, -999.000
           NA,HOT timeseries 1988to2019 27SEP2021,     45,  99,-999.0,      29,-999.0,19930913,1136,  22.7497, -158.0002,  4749, 3777.100,    1.459,   34.681,2,   34.681,2,  140.200,2,  144.400,2,  155.120,2,   36.300,2,    2.520,2, -999.000
           NA,HOT timeseries 1988to2019 27SEP2021,     45,  99,-999.0,      28,-999.0,19930913,1136,  22.7497, -158.0002,  4749, 3988.800,    1.458,   34.684,2,   34.683,2,  147.300,2,  147.100,2,  152.960,2,   36.090,2,    2.510,2, -999.000
           NA,HOT timeseries 1988to2019 27SEP2021,     45,  99,-999.0,       7,-999.0,19930913,1136,  22.7497, -158.0002,  4749, 4175.300,    1.467,   34.685,2,   34.684,2,  148.300,2,  148.900,2,  152.110,2,   35.960,2,    2.490,2, -999.000
           NA,HOT timeseries 1988to2019 27SEP2021,     45,  99,-999.0,      23,-999.0,19930913,1136,  22.7497, -158.0002,  4749, 4283.800,    1.472,   34.686,2,   34.685,2,  150.200,2, -999.000,5,  151.250,2,   35.880,2,    2.490,2, -999.000
           NA,HOT timeseries 1988to2019 27SEP2021,     45,  99,-999.0,      36,-999.0,19930913,1136,  22.7497, -158.0002,  4749, 4394.600,    1.479,   34.686,2,   34.686,2,  150.200,2,  151.100,2,  151.680,2,   35.920,2,    2.480,2, -999.000
           NA,HOT timeseries 1988to2019 27SEP2021,     45,  99,-999.0,      35,-999.0,19930913,1136,  22.7497, -158.0002,  4749, 4498.000,    1.487,   34.686,2,   34.685,2,  150.800,2,  152.200,2,  150.850,2,   35.820,2,    2.480,2, -999.000
           NA,HOT timeseries 1988to2019 27SEP2021,     45,  99,-999.0,      34,-999.0,19930913,1136,  22.7497, -158.0002,  4749, 4593.200,    1.493,   34.688,2,   34.687,2,  151.400,2,  152.900,2,  150.870,2,   35.800,2,    2.480,2, -999.000
           NA,HOT timeseries 1988to2019 27SEP2021,     45,  99,-999.0,      33,-999.0,19930913,1136,  22.7497, -158.0002,  4749, 4776.300,    1.507,   34.689,2,   34.689,2,  152.600,2,  153.500,2,  149.260,2,   35.660,2,    2.480,2, -999.000