BOTTLE,20214727JOAExport
EXPOCODE,SECT_ID,STNNBR,CASTNO,SAMPNO,BTLNBR,BTLNBR_FLAG_W,DATE,TIME,LATITUDE,LONGITUDE,DEPTH,CTDPRS,CTDTMP,CTDSAL,CTDSAL_FLAG_W,SALNTY,SALNTY_FLAG_W,CTDOXY,CTDOXY_FLAG_W,OXYGEN,OXYGEN_FLAG_W,SILCAT,SILCAT_FLAG_W,NINI,NINI_FLAG_W,PHSPHT,PHSPHT_FLAG_W,REVP
,,,,,,,,,,,,DB,IPTS-68,PSS-78,,PSS-78,,UMOL/KG,,UMOL/KG,,UMOL/KG,,UMOL/KG,,UMOL/KG,,DBAR
           NA,HOT timeseries 1988to2019 27SEP2021,     76,  99,-999.0,      31,-999.0,19970217,1801,  22.7453, -158.0045,  4719,    4.000,   23.836,   34.925,2,   34.924,2,  214.100,2,  211.000,2,    1.640,2,    0.010,2,    0.080,2, -999.000
           NA,HOT timeseries 1988to2019 27SEP2021,     76,  99,-999.0,      31,-999.0,19970217,1801,  22.7453, -158.0045,  4719,    4.700,   23.841,   34.924,2,   34.926,2,  212.000,2,  211.000,2,    1.260,2,    0.000,2,    0.070,2, -999.000
           NA,HOT timeseries 1988to2019 27SEP2021,     76,  99,-999.0,      30,-999.0,19970217,1801,  22.7453, -158.0045,  4719,   50.100,   23.843,   34.924,2,   34.925,2,  214.100,2,  210.300,2,    1.840,2,    0.000,2,    0.080,2, -999.000
           NA,HOT timeseries 1988to2019 27SEP2021,     76,  99,-999.0,      22,-999.0,19970217,1801,  22.7453, -158.0045,  4719,  110.800,   22.739,   34.989,2,   34.988,2,  210.600,2,  209.100,2,    1.430,2,    0.040,2,    0.070,2, -999.000
           NA,HOT timeseries 1988to2019 27SEP2021,     76,  99,-999.0,      21,-999.0,19970217,1801,  22.7453, -158.0045,  4719,  175.400,   21.144,   35.077,2,   35.076,2,  210.900,2,  207.600,2,    1.170,2,    0.450,2,    0.110,2, -999.000
           NA,HOT timeseries 1988to2019 27SEP2021,     76,  99,-999.0,      20,-999.0,19970217,1801,  22.7453, -158.0045,  4719,  203.700,   19.570,   35.040,2,   35.043,2,  198.400,2,  196.400,2,    1.320,2,    1.770,2,    0.200,2, -999.000
           NA,HOT timeseries 1988to2019 27SEP2021,     76,  99,-999.0,      19,-999.0,19970217,1801,  22.7453, -158.0045,  4719,  224.100,   18.751,   34.974,2,   34.977,2,  195.500,2,  195.900,2,    1.700,2,    2.400,2,    0.230,2, -999.000
           NA,HOT timeseries 1988to2019 27SEP2021,     76,  99,-999.0,      18,-999.0,19970217,1801,  22.7453, -158.0045,  4719,  275.100,   15.484,   34.564,2,   34.571,2,  184.900,2,  185.100,2,    4.580,2,    6.740,2,    0.550,2, -999.000
           NA,HOT timeseries 1988to2019 27SEP2021,     76,  99,-999.0,      17,-999.0,19970217,1801,  22.7453, -158.0045,  4719,  284.600,   15.342,   34.552,2,   34.553,2,  183.000,2,  186.100,2,    4.850,2,    6.920,2,    0.560,2, -999.000
           NA,HOT timeseries 1988to2019 27SEP2021,     76,  99,-999.0,      16,-999.0,19970217,1801,  22.7453, -158.0045,  4719,  340.200,   12.290,   34.257,2,   34.257,2,  197.600,2,  196.400,2,    9.540,2,   10.870,2,    0.790,2, -999.000
           NA,HOT timeseries 1988to2019 27SEP2021,     76,  99,-999.0,      15,-999.0,19970217,1801,  22.7453, -158.0045,  4719,  363.700,   11.429,   34.188,2,   34.189,2,  198.600,2,  196.600,2,   11.870,2,   12.710,2,    0.910,2, -999.000
           NA,HOT timeseries 1988to2019 27SEP2021,     76,  99,-999.0,      14,-999.0,19970217,1801,  22.7453, -158.0045,  4719,  384.100,   10.385,   34.123,2,   34.126,2,  190.500,2,  192.400,2,   15.840,2,   15.240,2,    1.090,2, -999.000
           NA,HOT timeseries 1988to2019 27SEP2021,     76,  99,-999.0,      13,-999.0,19970217,1801,  22.7453, -158.0045,  4719,  436.200,    9.181,   34.103,2,   34.104,2,  180.300,2,  177.000,2,   23.620,2,   19.500,2,    1.450,2, -999.000
           NA,HOT timeseries 1988to2019 27SEP2021,     76,  99,-999.0,      12,-999.0,19970217,1801,  22.7453, -158.0045,  4719,  449.900,    8.882,   34.092,2,   34.092,2,  169.800,2,  171.600,2,   26.020,2,   20.740,2,    1.480,2, -999.000
           NA,HOT timeseries 1988to2019 27SEP2021,     76,  99,-999.0,      11,-999.0,19970217,1801,  22.7453, -158.0045,  4719,  499.700,    7.763,   34.073,2,   34.075,2,  139.800,2,  138.300,2,   38.020,2,   26.040,2,    1.850,2, -999.000
           NA,HOT timeseries 1988to2019 27SEP2021,     76,  99,-999.0,      22,-999.0,19970217,1801,  22.7453, -158.0045,  4719,  522.200,    7.267,   34.076,2,   34.077,2,  119.500,2,  117.100,2,   42.550,2,   28.180,2,    1.970,2, -999.000
           NA,HOT timeseries 1988to2019 27SEP2021,     76,  99,-999.0,      32,-999.0,19970217,1801,  22.7453, -158.0045,  4719,  540.200,    6.905,   34.085,2,   34.084,2,  108.700,2,  102.900,2,   49.930,2,   30.650,2,    2.200,2, -999.000
           NA,HOT timeseries 1988to2019 27SEP2021,     76,  99,-999.0,       3,-999.0,19970217,1801,  22.7453, -158.0045,  4719,  579.200,    6.243,   34.113,2,   34.118,2,   75.100,2,   72.700,2,   60.940,2,   34.250,2,    2.480,2, -999.000
           NA,HOT timeseries 1988to2019 27SEP2021,     76,  99,-999.0,      29,-999.0,19970217,1801,  22.7453, -158.0045,  4719,  626.200,    5.560,   34.144,2,   34.143,2,   51.500,2,   50.500,2,   73.110,2,   37.590,2,    2.720,2, -999.000
           NA,HOT timeseries 1988to2019 27SEP2021,     76,  99,-999.0,      28,-999.0,19970217,1801,  22.7453, -158.0045,  4719,  700.200,    5.054,   34.202,2,   34.205,2,   34.200,2,   34.600,2,   83.850,2,   39.770,2,    2.880,2, -999.000
           NA,HOT timeseries 1988to2019 27SEP2021,     76,  99,-999.0,       7,-999.0,19970217,1801,  22.7453, -158.0045,  4719,  749.800,    4.813,   34.253,2,   34.253,2,   30.600,2,   28.000,2,   90.720,2,   40.680,2,    2.940,2, -999.000
           NA,HOT timeseries 1988to2019 27SEP2021,     76,  99,-999.0,      21,-999.0,19970217,1801,  22.7453, -158.0045,  4719,  799.200,    4.587,   34.314,2,   34.314,2,   27.300,2,   25.900,2,   93.470,2,   40.920,2,    2.920,2, -999.000
           NA,HOT timeseries 1988to2019 27SEP2021,     76,  99,-999.0,      36,-999.0,19970217,1801,  22.7453, -158.0045,  4719,  876.800,    4.472,   34.391,2,   34.391,2,   31.900,2,   29.700,2,   99.140,2,   41.440,2,    2.990,2, -999.000
           NA,HOT timeseries 1988to2019 27SEP2021,     76,  99,-999.0,      35,-999.0,19970217,1801,  22.7453, -158.0045,  4719,  903.100,    4.407,   34.403,2,   34.403,2,   31.900,2,   31.000,2,  101.030,2,   41.550,2,    2.990,2, -999.000
           NA,HOT timeseries 1988to2019 27SEP2021,     76,  99,-999.0,      34,-999.0,19970217,1801,  22.7453, -158.0045,  4719,  949.100,    4.217,   34.432,2,   34.432,2,   34.500,2,   33.900,2,  104.150,2,   41.570,2,    3.020,2, -999.000
           NA,HOT timeseries 1988to2019 27SEP2021,     76,  99,-999.0,      20,-999.0,19970217,1801,  22.7453, -158.0045,  4719, 1000.500,    4.024,   34.459,2,   34.460,2,   38.200,2,   38.900,2,  105.340,2,   41.400,2,    2.940,2, -999.000
           NA,HOT timeseries 1988to2019 27SEP2021,     76,  99,-999.0,      33,-999.0,19970217,1801,  22.7453, -158.0045,  4719, 1019.600,    4.000,   34.467,2,   34.465,2,   39.300,2,   41.000,2,  109.020,2,   41.440,2,    2.980,2, -999.000
           NA,HOT timeseries 1988to2019 27SEP2021,     76,  99,-999.0,      19,-999.0,19970217,1801,  22.7453, -158.0045,  4719, 1401.100,    3.022,   34.557,2,   34.557,2,   60.100,2,   60.300,2,  126.640,2,   40.890,2,    2.890,2, -999.000
           NA,HOT timeseries 1988to2019 27SEP2021,     76,  99,-999.0,      18,-999.0,19970217,1801,  22.7453, -158.0045,  4719, 1599.400,    2.663,   34.582,2,   34.583,2,   68.900,2,   69.500,2,  134.150,2,   40.600,2,    2.850,2, -999.000
           NA,HOT timeseries 1988to2019 27SEP2021,     76,  99,-999.0,      17,-999.0,19970217,1801,  22.7453, -158.0045,  4719, 1798.900,    2.367,   34.598,2,   34.597,2,   77.200,2,   78.300,2,  141.090,2,   40.000,2,    2.800,2, -999.000
           NA,HOT timeseries 1988to2019 27SEP2021,     76,  99,-999.0,      16,-999.0,19970217,1801,  22.7453, -158.0045,  4719, 1997.500,    2.135,   34.615,2,   34.614,2,   84.200,2,   86.200,2,  146.900,2,   39.440,2,    2.760,2, -999.000
           NA,HOT timeseries 1988to2019 27SEP2021,     76,  99,-999.0,      15,-999.0,19970217,1801,  22.7453, -158.0045,  4719, 2197.400,    1.941,   34.630,2,   34.629,2,   93.100,2,   94.000,2,  152.480,2,   39.240,2,    2.730,2, -999.000
           NA,HOT timeseries 1988to2019 27SEP2021,     76,  99,-999.0,      14,-999.0,19970217,1801,  22.7453, -158.0045,  4719, 2396.800,    1.782,   34.643,2,   34.645,2,  102.900,2,  103.300,2,  154.870,2,   38.560,2,    2.690,2, -999.000
           NA,HOT timeseries 1988to2019 27SEP2021,     76,  99,-999.0,      13,-999.0,19970217,1801,  22.7453, -158.0045,  4719, 2599.300,    1.659,   34.653,2,   34.655,2,  109.800,2,  110.700,2,  156.960,2,   38.250,2,    2.660,2, -999.000
           NA,HOT timeseries 1988to2019 27SEP2021,     76,  99,-999.0,      12,-999.0,19970217,1801,  22.7453, -158.0045,  4719, 2799.800,    1.572,   34.663,2,   34.662,2,  120.200,2,  119.800,2,  156.450,2,   37.660,2,    2.620,2, -999.000
           NA,HOT timeseries 1988to2019 27SEP2021,     76,  99,-999.0,      11,-999.0,19970217,1801,  22.7453, -158.0045,  4719, 3000.200,    1.523,   34.669,2,   34.669,2,  127.100,2,  127.000,2,  155.740,2,   37.280,2,    2.610,2, -999.000
           NA,HOT timeseries 1988to2019 27SEP2021,     76,  99,-999.0,      32,-999.0,19970217,1801,  22.7453, -158.0045,  4719, 3199.800,    1.495,   34.673,2,   34.672,2,  132.100,2,  131.900,2,  155.510,2,   36.790,2,    2.550,2, -999.000
           NA,HOT timeseries 1988to2019 27SEP2021,     76,  99,-999.0,       3,-999.0,19970217,1801,  22.7453, -158.0045,  4719, 3398.600,    1.475,   34.677,2,   34.676,2,  137.100,2,  136.700,2,  153.440,2,   36.510,2,    2.540,2, -999.000
           NA,HOT timeseries 1988to2019 27SEP2021,     76,  99,-999.0,      29,-999.0,19970217,1801,  22.7453, -158.0045,  4719, 3598.100,    1.458,   34.680,2,   34.680,2,  141.200,2,  141.800,2,  152.370,2,   36.210,2,    2.510,2, -999.000
           NA,HOT timeseries 1988to2019 27SEP2021,     76,  99,-999.0,      28,-999.0,19970217,1801,  22.7453, -158.0045,  4719, 3795.900,    1.452,   34.682,2,   34.682,2,  144.900,2,  144.800,2,  150.950,2,   36.120,2,    2.490,2, -999.000
           NA,HOT timeseries 1988to2019 27SEP2021,     76,  99,-999.0,       7,-999.0,19970217,1801,  22.7453, -158.0045,  4719, 3998.100,    1.450,   34.684,2,   34.685,2,  147.800,2,  148.500,2,  150.090,2,   35.870,2,    2.470,2, -999.000
           NA,HOT timeseries 1988to2019 27SEP2021,     76,  99,-999.0,      38,-999.0,19970217,1801,  22.7453, -158.0045,  4719, 4200.000,    1.460,   34.685,2,   34.684,2,  149.800,2,  150.200,2,  150.320,2,   35.830,2,    2.470,2, -999.000
           NA,HOT timeseries 1988to2019 27SEP2021,     76,  99,-999.0,      36,-999.0,19970217,1801,  22.7453, -158.0045,  4719, 4399.400,    1.474,   34.686,2,   34.686,2,  152.600,2,  151.600,2,  148.640,2,   35.720,2,    2.470,2, -999.000
           NA,HOT timeseries 1988to2019 27SEP2021,     76,  99,-999.0,      35,-999.0,19970217,1801,  22.7453, -158.0045,  4719, 4499.700,    1.485,   34.686,2,   34.686,2,  152.300,2,  151.600,2,  149.340,2,   35.650,2,    2.460,2, -999.000
           NA,HOT timeseries 1988to2019 27SEP2021,     76,  99,-999.0,      34,-999.0,19970217,1801,  22.7453, -158.0045,  4719, 4599.800,    1.494,   34.687,2,   34.687,2,  153.100,2,  152.000,2,  148.850,2,   35.450,2,    2.490,2, -999.000
           NA,HOT timeseries 1988to2019 27SEP2021,     76,  99,-999.0,      33,-999.0,19970217,1801,  22.7453, -158.0045,  4719, 4806.100,    1.499,   34.689,2,   34.689,2,  155.400,2,  156.100,2,  147.990,2,   35.280,2,    2.440,2, -999.000