BOTTLE,20214727JOAExport
EXPOCODE,SECT_ID,STNNBR,CASTNO,SAMPNO,BTLNBR,BTLNBR_FLAG_W,DATE,TIME,LATITUDE,LONGITUDE,DEPTH,CTDPRS,CTDTMP,CTDSAL,CTDSAL_FLAG_W,SALNTY,SALNTY_FLAG_W,CTDOXY,CTDOXY_FLAG_W,OXYGEN,OXYGEN_FLAG_W,SILCAT,SILCAT_FLAG_W,NINI,NINI_FLAG_W,PHSPHT,PHSPHT_FLAG_W,REVP
,,,,,,,,,,,,DB,IPTS-68,PSS-78,,PSS-78,,UMOL/KG,,UMOL/KG,,UMOL/KG,,UMOL/KG,,UMOL/KG,,DBAR
           NA,HOT timeseries 1988to2019 27SEP2021,      2,  99,-999.0,    8008,-999.0,20170425,2059,  22.7485, -158.0007,  4726, 3608.900,    1.477,   34.679,2,   34.679,2,  140.800,2,  140.500,2,  158.170,2,   36.600,2,    2.620,2, -999.000
           NA,HOT timeseries 1988to2019 27SEP2021,      2,  99,-999.0,    8060,-999.0,20170425,2059,  22.7485, -158.0007,  4726, 3796.700,    1.469,   34.681,2,   34.681,2,  145.000,2,  144.200,2,  154.810,2,   36.060,2,    2.590,2, -999.000
           NA,HOT timeseries 1988to2019 27SEP2021,      2,  99,-999.0,    8006,-999.0,20170425,2059,  22.7485, -158.0007,  4726, 4006.800,    1.466,   34.683,2,   34.683,2,  148.400,2,  147.800,2,  152.840,2,   35.790,2,    2.560,2, -999.000
           NA,HOT timeseries 1988to2019 27SEP2021,      2,  99,-999.0,    8005,-999.0,20170425,2059,  22.7485, -158.0007,  4726, 4198.700,    1.468,   34.685,2,   34.685,2,  151.500,2,  151.000,2,  151.600,2,   35.550,2, -999.000,4, -999.000
           NA,HOT timeseries 1988to2019 27SEP2021,      2,  99,-999.0,    8059,-999.0,20170425,2059,  22.7485, -158.0007,  4726, 4397.600,    1.479,   34.686,2,   34.684,2,  153.300,2,  154.600,2,  150.820,2,   35.530,2,    2.490,2, -999.000
           NA,HOT timeseries 1988to2019 27SEP2021,      2,  99,-999.0,    8003,-999.0,20170425,2059,  22.7485, -158.0007,  4726, 4501.500,    1.486,   34.687,2,   34.684,2,  154.300,2,  153.600,2,  151.270,2,   35.320,2,    2.520,2, -999.000
           NA,HOT timeseries 1988to2019 27SEP2021,      2,  99,-999.0,    8002,-999.0,20170425,2059,  22.7485, -158.0007,  4726, 4604.000,    1.496,   34.687,2,   34.685,2,  154.300,2,  154.000,2, -999.000,4,   35.580,2,    2.540,2, -999.000
           NA,HOT timeseries 1988to2019 27SEP2021,      2,  99,-999.0,    8001,-999.0,20170425,2059,  22.7485, -158.0007,  4726, 4800.700,    1.513,   34.688,2,   34.686,2,  155.200,2,  155.000,2,  149.110,2,   35.250,2,    2.500,2, -999.000
           NA,HOT timeseries 1988to2019 27SEP2021,      2,  99,-999.0,    8058,-999.0,20170523,2131,  22.7500, -158.0010,  4724,    6.200,   25.331,   34.895,2,   34.896,2,  209.400,2,  208.700,2,    1.160,2,    0.030,2,    0.040,2, -999.000
           NA,HOT timeseries 1988to2019 27SEP2021,      2,  99,-999.0,    8023,-999.0,20170523,2131,  22.7500, -158.0010,  4724,   48.600,   25.264,   34.894,2,   34.895,2,  209.100,2,  209.200,2,    1.210,2,    0.030,2,    0.040,2, -999.000
           NA,HOT timeseries 1988to2019 27SEP2021,      2,  99,-999.0,    8022,-999.0,20170523,2131,  22.7500, -158.0010,  4724,   74.800,   23.808,   35.078,2,   35.079,2,  222.100,2,  221.700,2,    1.260,2,    0.010,2,    0.020,2, -999.000
           NA,HOT timeseries 1988to2019 27SEP2021,      2,  99,-999.0,    8021,-999.0,20170523,2131,  22.7500, -158.0010,  4724,  108.300,   22.686,   35.177,2,   35.176,2,  214.700,2,  214.000,2,    1.350,2,    0.020,2,    0.040,2, -999.000
           NA,HOT timeseries 1988to2019 27SEP2021,      2,  99,-999.0,    8020,-999.0,20170523,2131,  22.7500, -158.0010,  4724,  136.200,   22.187,   35.217,2,   35.217,2,  209.200,2,  209.400,2,    1.450,2,    0.020,2,    0.050,2, -999.000
           NA,HOT timeseries 1988to2019 27SEP2021,      2,  99,-999.0,    8019,-999.0,20170523,2131,  22.7500, -158.0010,  4724,  180.600,   20.615,   35.131,2,   35.127,2,  201.300,2,  201.400,2,    2.530,2,    1.300,2,    0.150,2, -999.000
           NA,HOT timeseries 1988to2019 27SEP2021,      2,  99,-999.0,    8018,-999.0,20170523,2131,  22.7500, -158.0010,  4724,  197.500,   19.344,   34.963,2,   34.957,2,  197.200,2,  197.700,2, -999.000,4,    2.320,2,    0.210,2, -999.000
           NA,HOT timeseries 1988to2019 27SEP2021,      2,  99,-999.0,    8017,-999.0,20170523,2131,  22.7500, -158.0010,  4724,  250.100,   15.848,   34.552,2,   34.552,2,  206.100,2,  205.500,2,    4.720,2,    4.470,2,    0.350,2, -999.000
           NA,HOT timeseries 1988to2019 27SEP2021,      2,  99,-999.0,    8016,-999.0,20170523,2131,  22.7500, -158.0010,  4724,  260.700,   15.255,   34.490,2, -999.000,3, -999.000,3,  203.900,2, -999.000,3,    5.890,2,    0.450,2, -999.000
           NA,HOT timeseries 1988to2019 27SEP2021,      2,  99,-999.0,    8015,-999.0,20170523,2131,  22.7500, -158.0010,  4724,  326.200,   11.534,   34.129,2,   34.130,2,  194.700,2,  195.200,2,   13.190,2,   13.250,2,    0.940,2, -999.000
           NA,HOT timeseries 1988to2019 27SEP2021,      2,  99,-999.0,    8014,-999.0,20170523,2131,  22.7500, -158.0010,  4724,  359.500,   10.414,   34.109,2,   34.109,2,  191.800,2,  190.900,2,   17.990,2,   16.260,2,    1.130,2, -999.000
           NA,HOT timeseries 1988to2019 27SEP2021,      2,  99,-999.0,    8025,-999.0,20170523,2131,  22.7500, -158.0010,  4724,  419.900,    8.981,   34.059,2,   34.069,2,  170.200,2, -999.000,3,   25.070,2,   19.790,2,    1.380,2, -999.000
           NA,HOT timeseries 1988to2019 27SEP2021,      2,  99,-999.0,    8012,-999.0,20170523,2131,  22.7500, -158.0010,  4724,  451.100,    8.037,   34.068,2,   34.068,2,  125.900,2,  126.900,2,   40.870,2,   26.610,2,    1.900,2, -999.000
           NA,HOT timeseries 1988to2019 27SEP2021,      2,  99,-999.0,    8011,-999.0,20170523,2131,  22.7500, -158.0010,  4724,  478.500,    7.498,   34.055,2,   34.055,2,  113.900,2,  112.600,2,   47.440,2,   30.380,2,    2.160,2, -999.000
           NA,HOT timeseries 1988to2019 27SEP2021,      2,  99,-999.0,    8009,-999.0,20170523,2131,  22.7500, -158.0010,  4724,  516.500,    6.819,   34.052,2,   34.053,2,   95.500,2,   93.600,2,   54.490,2,   31.820,2,    2.270,2, -999.000
           NA,HOT timeseries 1988to2019 27SEP2021,      2,  99,-999.0,    8008,-999.0,20170523,2131,  22.7500, -158.0010,  4724,  577.900,    6.389,   34.133,2,   34.134,2,   63.100,2,   60.800,2,   62.820,2,   35.580,2,    2.580,2, -999.000
           NA,HOT timeseries 1988to2019 27SEP2021,      2,  99,-999.0,    8060,-999.0,20170523,2131,  22.7500, -158.0010,  4724,  637.300,    5.715,   34.173,2,   34.177,2,   43.700,2,   42.000,2,   75.260,2,   38.610,2,    2.790,2, -999.000
           NA,HOT timeseries 1988to2019 27SEP2021,      2,  99,-999.0,    8006,-999.0,20170523,2131,  22.7500, -158.0010,  4724,  689.000,    5.190,   34.220,2,   34.224,2,   31.300,2,   30.400,2,   85.430,2,   40.560,2,    2.930,2, -999.000
           NA,HOT timeseries 1988to2019 27SEP2021,      2,  99,-999.0,    8005,-999.0,20170523,2131,  22.7500, -158.0010,  4724,  737.500,    5.005,   34.280,2,   34.279,2,   26.800,2,   26.500,2,   89.830,2,   41.200,2,    2.980,2, -999.000
           NA,HOT timeseries 1988to2019 27SEP2021,      2,  99,-999.0,    8059,-999.0,20170523,2131,  22.7500, -158.0010,  4724,  770.400,    4.953,   34.323,2,   34.322,2,   28.500,2,   28.600,2,   91.410,2,   41.290,2,    2.980,2, -999.000
           NA,HOT timeseries 1988to2019 27SEP2021,      2,  99,-999.0,    8003,-999.0,20170523,2131,  22.7500, -158.0010,  4724,  860.300,    4.641,   34.401,2,   34.401,2,   33.200,2,   33.200,2,   97.830,2,   41.580,2,    3.010,2, -999.000
           NA,HOT timeseries 1988to2019 27SEP2021,      2,  99,-999.0,    8001,-999.0,20170523,2131,  22.7500, -158.0010,  4724, 1019.400,    4.031,   34.483,2,   34.484,2,   42.700,2,   43.200,2,  109.330,2,   41.680,2,    2.980,2, -999.000
           NA,HOT timeseries 1988to2019 27SEP2021,      2,  99,-999.0,    8020,-999.0,20170523,2131,  22.7500, -158.0010,  4724, 1200.100,    3.680,   34.515,2,   34.514,2,   48.900,2,   50.200,2,  118.440,2,   40.910,2,    3.000,2, -999.000
           NA,HOT timeseries 1988to2019 27SEP2021,      2,  99,-999.0,    8019,-999.0,20170523,2131,  22.7500, -158.0010,  4724, 1399.900,    3.190,   34.553,2,   34.553,2,   58.500,2,   58.600,2,  126.980,2,   40.960,2,    3.000,2, -999.000
           NA,HOT timeseries 1988to2019 27SEP2021,      2,  99,-999.0,    8018,-999.0,20170523,2131,  22.7500, -158.0010,  4724, 1601.300,    2.728,   34.581,2,   34.581,2,   68.800,2,   69.200,2,  138.900,2,   40.340,2,    2.960,2, -999.000
           NA,HOT timeseries 1988to2019 27SEP2021,      2,  99,-999.0,    8017,-999.0,20170523,2131,  22.7500, -158.0010,  4724, 1801.300,    2.412,   34.599,2,   34.599,2,   78.200,2,   78.200,2,  145.490,2,   40.080,2,    2.910,2, -999.000
           NA,HOT timeseries 1988to2019 27SEP2021,      2,  99,-999.0,    8016,-999.0,20170523,2131,  22.7500, -158.0010,  4724, 1999.000,    2.162,   34.617,2,   34.618,2,   87.400,2,   88.100,2,  151.170,2,   39.260,2,    2.840,2, -999.000
           NA,HOT timeseries 1988to2019 27SEP2021,      2,  99,-999.0,    8015,-999.0,20170523,2131,  22.7500, -158.0010,  4724, 2202.000,    1.944,   34.630,2,   34.631,2,   94.200,2,   94.400,2,  157.350,2,   38.910,2,    2.800,2, -999.000
           NA,HOT timeseries 1988to2019 27SEP2021,      2,  99,-999.0,    8014,-999.0,20170523,2131,  22.7500, -158.0010,  4724, 2399.500,    1.798,   34.642,2,   34.642,2,  101.300,2,  101.300,2,  159.180,2,   38.510,2,    2.770,2, -999.000
           NA,HOT timeseries 1988to2019 27SEP2021,      2,  99,-999.0,    8025,-999.0,20170523,2131,  22.7500, -158.0010,  4724, 2598.200,    1.710,   34.650,2, -999.000,4, -999.000,3, -999.000,5, -999.000,3,   38.800,2, -999.000,3, -999.000
           NA,HOT timeseries 1988to2019 27SEP2021,      2,  99,-999.0,    8012,-999.0,20170523,2131,  22.7500, -158.0010,  4724, 2802.200,    1.637,   34.659,2,   34.659,2,  114.300,2,  114.200,2,  160.780,2,   37.530,2,    2.690,2, -999.000
           NA,HOT timeseries 1988to2019 27SEP2021,      2,  99,-999.0,    8011,-999.0,20170523,2131,  22.7500, -158.0010,  4724, 3000.900,    1.575,   34.666,2,   34.666,2,  121.200,2,  121.400,2,  162.740,2,   37.390,2,    2.680,2, -999.000
           NA,HOT timeseries 1988to2019 27SEP2021,      2,  99,-999.0,    8010,-999.0,20170523,2131,  22.7500, -158.0010,  4724, 3199.600,    1.527,   34.671,2,   34.672,2,  129.000,2,  129.100,2,  159.520,2,   36.750,2,    2.610,2, -999.000
           NA,HOT timeseries 1988to2019 27SEP2021,      2,  99,-999.0,    8009,-999.0,20170523,2131,  22.7500, -158.0010,  4724, 3402.100,    1.499,   34.675,2,   34.675,2,  134.400,2,  135.000,2,  156.880,2,   36.550,2,    2.580,2, -999.000
           NA,HOT timeseries 1988to2019 27SEP2021,      2,  99,-999.0,    8008,-999.0,20170523,2131,  22.7500, -158.0010,  4724, 3594.900,    1.481,   34.679,2,   34.679,2,  139.600,2,  139.100,2,  157.740,2,   36.120,2,    2.560,2, -999.000
           NA,HOT timeseries 1988to2019 27SEP2021,      2,  99,-999.0,    8060,-999.0,20170523,2131,  22.7500, -158.0010,  4724, 3799.800,    1.471,   34.682,2,   34.682,2,  143.700,2,  143.400,2,  155.930,2,   35.870,2,    2.560,2, -999.000
           NA,HOT timeseries 1988to2019 27SEP2021,      2,  99,-999.0,    8006,-999.0,20170523,2131,  22.7500, -158.0010,  4724, 4001.600,    1.465,   34.684,2,   34.684,2,  147.500,2,  147.000,2,  152.480,2,   35.730,2,    2.530,2, -999.000
           NA,HOT timeseries 1988to2019 27SEP2021,      2,  99,-999.0,    8005,-999.0,20170523,2131,  22.7500, -158.0010,  4724, 4200.500,    1.471,   34.686,2,   34.685,2,  149.900,2,  149.400,2,  153.050,2,   35.370,2,    2.500,2, -999.000
           NA,HOT timeseries 1988to2019 27SEP2021,      2,  99,-999.0,    8059,-999.0,20170523,2131,  22.7500, -158.0010,  4724, 4402.600,    1.482,   34.687,2,   34.686,2,  151.500,2,  150.800,2,  149.640,2,   35.240,2,    2.500,2, -999.000
           NA,HOT timeseries 1988to2019 27SEP2021,      2,  99,-999.0,    8003,-999.0,20170523,2131,  22.7500, -158.0010,  4724, 4502.100,    1.489,   34.687,2,   34.689,2,  152.200,2,  152.300,2,  150.310,2,   35.260,2,    2.490,2, -999.000
           NA,HOT timeseries 1988to2019 27SEP2021,      2,  99,-999.0,    8002,-999.0,20170523,2131,  22.7500, -158.0010,  4724, 4603.300,    1.498,   34.687,2,   34.687,2,  152.600,2,  153.300,2,  150.100,2,   35.160,2,    2.490,2, -999.000
           NA,HOT timeseries 1988to2019 27SEP2021,      2,  99,-999.0,    8001,-999.0,20170523,2131,  22.7500, -158.0010,  4724, 4799.400,    1.518,   34.688,2,   34.688,2,  153.300,2,  153.700,2,  149.150,2,   34.970,2,    2.490,2, -999.000
           NA,HOT timeseries 1988to2019 27SEP2021,      2,  99,-999.0,    8058,-999.0,20170620,2148,  22.7507, -158.0002,  4749,   44.600,   25.910,   34.842,2,   34.844,2,  209.100,2,  208.600,2,    1.080,2,    0.000,2,    0.060,2, -999.000
           NA,HOT timeseries 1988to2019 27SEP2021,      2,  99,-999.0,    8023,-999.0,20170620,2148,  22.7507, -158.0002,  4749,   82.500,   24.548,   34.956,2,   34.958,2,  216.800,2,  217.200,2,    1.170,2,    0.030,2,    0.060,2, -999.000
           NA,HOT timeseries 1988to2019 27SEP2021,      2,  99,-999.0,    8022,-999.0,20170620,2148,  22.7507, -158.0002,  4749,  100.000,   23.903,   35.002,2,   35.003,2,  213.700,2,  213.700,2,    1.270,2,    0.010,2,    0.060,2, -999.000
           NA,HOT timeseries 1988to2019 27SEP2021,      2,  99,-999.0,    8021,-999.0,20170620,2148,  22.7507, -158.0002,  4749,  127.300,   23.185,   35.119,2,   35.119,2,  207.500,2,  210.800,2,    1.290,2,    0.010,2,    0.060,2, -999.000
           NA,HOT timeseries 1988to2019 27SEP2021,      2,  99,-999.0,    8020,-999.0,20170620,2148,  22.7507, -158.0002,  4749,  171.000,   21.984,   35.159,2,   35.158,2,  197.800,2,  197.900,2,    1.630,2,    0.880,2,    0.140,2, -999.000
           NA,HOT timeseries 1988to2019 27SEP2021,      2,  99,-999.0,    8018,-999.0,20170620,2148,  22.7507, -158.0002,  4749,  211.600,   19.465,   34.882,2,   34.880,2,  184.800,2,  184.200,2,    3.060,2,    3.320,2,    0.330,2, -999.000
           NA,HOT timeseries 1988to2019 27SEP2021,      2,  99,-999.0,    8017,-999.0,20170620,2148,  22.7507, -158.0002,  4749,  219.400,   19.155,   34.840,2, -999.000,3, -999.000,3,  183.400,2,    3.380,2,    3.760,2,    0.350,2, -999.000
           NA,HOT timeseries 1988to2019 27SEP2021,      2,  99,-999.0,    8015,-999.0,20170620,2148,  22.7507, -158.0002,  4749,  282.200,   15.268,   34.503,2,   34.495,2,  203.900,2, -999.000,3,    5.820,2,    6.050,2,    0.470,2, -999.000
           NA,HOT timeseries 1988to2019 27SEP2021,      2,  99,-999.0,    8014,-999.0,20170620,2148,  22.7507, -158.0002,  4749,  350.900,   12.372,   34.210,2,   34.209,2,  213.900,2, -999.000,3,    9.930,2,   10.090,2,    0.730,2, -999.000
           NA,HOT timeseries 1988to2019 27SEP2021,      2,  99,-999.0,    8025,-999.0,20170620,2148,  22.7507, -158.0002,  4749,  396.000,   10.395,   34.091,2,   34.091,2,  192.500,2,  194.400,2,   17.440,2,   15.820,2,    1.130,2, -999.000
           NA,HOT timeseries 1988to2019 27SEP2021,      2,  99,-999.0,    8012,-999.0,20170620,2148,  22.7507, -158.0002,  4749,  445.400,    9.204,   34.087,2,   34.088,2,  158.300,2,  154.300,2,   27.270,2,   21.820,2,    1.590,2, -999.000
           NA,HOT timeseries 1988to2019 27SEP2021,      2,  99,-999.0,    8011,-999.0,20170620,2148,  22.7507, -158.0002,  4749,  480.200,    8.086,   34.056,2,   34.057,2,  133.200,2,  133.900,2,   37.030,2,   26.200,2,    1.890,2, -999.000
           NA,HOT timeseries 1988to2019 27SEP2021,      2,  99,-999.0,    8010,-999.0,20170620,2148,  22.7507, -158.0002,  4749,  507.100,    7.705,   34.071,2,   34.072,2,  116.900,2,  117.200,2,   42.310,2,   28.270,2,    2.050,2, -999.000
           NA,HOT timeseries 1988to2019 27SEP2021,      2,  99,-999.0,    8009,-999.0,20170620,2148,  22.7507, -158.0002,  4749,  532.900,    6.880,   34.085,2,   34.085,2,   88.200,2,   87.100,2,   53.780,2,   32.610,2,    2.370,2, -999.000
           NA,HOT timeseries 1988to2019 27SEP2021,      2,  99,-999.0,    8008,-999.0,20170620,2148,  22.7507, -158.0002,  4749,  594.400,    6.157,   34.124,2,   34.125,2,   59.600,2,   58.300,2,   65.480,2,   36.350,2,    2.660,2, -999.000
           NA,HOT timeseries 1988to2019 27SEP2021,      2,  99,-999.0,    8060,-999.0,20170620,2148,  22.7507, -158.0002,  4749,  650.600,    5.609,   34.179,2,   34.178,2,   39.400,2,   40.200,2,   76.300,2,   38.940,2,    2.850,2, -999.000
           NA,HOT timeseries 1988to2019 27SEP2021,      2,  99,-999.0,    8006,-999.0,20170620,2148,  22.7507, -158.0002,  4749,  726.300,    5.145,   34.233,2,   34.233,2,   28.700,2,   29.200,2,   86.340,2,   40.760,2,    2.990,2, -999.000
           NA,HOT timeseries 1988to2019 27SEP2021,      2,  99,-999.0,    8005,-999.0,20170620,2148,  22.7507, -158.0002,  4749,  807.900,    4.786,   34.314,2,   34.314,2,   22.800,2,   23.300,2,   94.800,2,   41.840,2,    3.090,2, -999.000
           NA,HOT timeseries 1988to2019 27SEP2021,      2,  99,-999.0,    8059,-999.0,20170620,2148,  22.7507, -158.0002,  4749,  898.300,    4.523,   34.390,2,   34.390,2,   27.100,2,   26.600,2,  100.620,2,   42.270,2,    3.100,2, -999.000
           NA,HOT timeseries 1988to2019 27SEP2021,      2,  99,-999.0,    8003,-999.0,20170620,2148,  22.7507, -158.0002,  4749,  925.800,    4.375,   34.416,2,   34.416,2,   31.400,2,   31.800,2,  102.970,2,   42.190,2,    3.090,2, -999.000
           NA,HOT timeseries 1988to2019 27SEP2021,      2,  99,-999.0,    8002,-999.0,20170620,2148,  22.7507, -158.0002,  4749,  975.900,    4.203,   34.454,2,   34.454,2,   37.800,2,   37.800,2,  106.410,2,   41.910,2,    3.030,2, -999.000
           NA,HOT timeseries 1988to2019 27SEP2021,      2,  99,-999.0,    8001,-999.0,20170620,2148,  22.7507, -158.0002,  4749, 1020.300,    4.083,   34.471,2,   34.473,2,   40.600,2,   41.200,2,  108.430,2,   41.860,2,    3.040,2, -999.000
           NA,HOT timeseries 1988to2019 27SEP2021,      2,  99,-999.0,    8020,-999.0,20170620,2148,  22.7507, -158.0002,  4749, 1201.400,    3.536,   34.524,2,   34.525,2,   50.100,2,   50.100,2, -999.000,4,   41.610,2,    3.070,2, -999.000
           NA,HOT timeseries 1988to2019 27SEP2021,      2,  99,-999.0,    8019,-999.0,20170620,2148,  22.7507, -158.0002,  4749, 1401.800,    3.066,   34.558,2,   34.559,2,   60.400,2,   60.400,2,  130.530,2,   41.310,2,    3.000,2, -999.000
           NA,HOT timeseries 1988to2019 27SEP2021,      2,  99,-999.0,    8018,-999.0,20170620,2148,  22.7507, -158.0002,  4749, 1600.700,    2.673,   34.580,2,   34.581,2,   69.000,2,   68.800,2,  139.260,2,   40.800,2,    2.950,2, -999.000
           NA,HOT timeseries 1988to2019 27SEP2021,      2,  99,-999.0,    8017,-999.0,20170620,2148,  22.7507, -158.0002,  4749, 1801.300,    2.405,   34.601,2,   34.601,2,   78.600,2,   79.000,2,  145.960,2,   40.240,2,    2.900,2, -999.000
           NA,HOT timeseries 1988to2019 27SEP2021,      2,  99,-999.0,    8016,-999.0,20170620,2148,  22.7507, -158.0002,  4749, 2001.700,    2.171,   34.614,2,   34.614,2,   85.600,2,   85.800,2,  150.480,2,   39.710,2,    2.860,2, -999.000
           NA,HOT timeseries 1988to2019 27SEP2021,      2,  99,-999.0,    8015,-999.0,20170620,2148,  22.7507, -158.0002,  4749, 2201.100,    1.962,   34.630,2,   34.630,2,   96.300,2,   96.800,2,  153.720,2,   39.040,2,    2.800,2, -999.000
           NA,HOT timeseries 1988to2019 27SEP2021,      2,  99,-999.0,    8014,-999.0,20170620,2148,  22.7507, -158.0002,  4749, 2401.800,    1.820,   34.642,2,   34.643,2,  102.600,2,  104.400,2,  157.570,2,   38.640,2,    2.760,2, -999.000
           NA,HOT timeseries 1988to2019 27SEP2021,      2,  99,-999.0,    8025,-999.0,20170620,2148,  22.7507, -158.0002,  4749, 2602.100,    1.711,   34.653,2,   34.653,2,  111.700,2, -999.000,3,  157.330,2,   38.030,2,    2.710,2, -999.000
           NA,HOT timeseries 1988to2019 27SEP2021,      2,  99,-999.0,    8012,-999.0,20170620,2148,  22.7507, -158.0002,  4749, 2802.100,    1.626,   34.661,2,   34.661,2,  119.000,2,  118.900,2,  159.870,2,   37.510,2,    2.670,2, -999.000