BOTTLE,20214727JOAExport
EXPOCODE,SECT_ID,STNNBR,CASTNO,SAMPNO,BTLNBR,BTLNBR_FLAG_W,DATE,TIME,LATITUDE,LONGITUDE,DEPTH,CTDPRS,CTDTMP,CTDSAL,CTDSAL_FLAG_W,SALNTY,SALNTY_FLAG_W,CTDOXY,CTDOXY_FLAG_W,OXYGEN,OXYGEN_FLAG_W,SILCAT,SILCAT_FLAG_W,NINI,NINI_FLAG_W,PHSPHT,PHSPHT_FLAG_W,REVP
,,,,,,,,,,,,DB,IPTS-68,PSS-78,,PSS-78,,UMOL/KG,,UMOL/KG,,UMOL/KG,,UMOL/KG,,UMOL/KG,,DBAR
           NA,HOT timeseries 1988to2019 27SEP2021,    241,  99,-999.0,    8024,-999.0,20131220,1501,  22.7500, -157.9995,  4741,    7.100,   24.943,   35.408,2,   35.410,2,  206.700,2,  206.900,2,    1.120,2,    0.040,2,    0.050,2, -999.000
           NA,HOT timeseries 1988to2019 27SEP2021,    241,  99,-999.0,    8024,-999.0,20131220,1501,  22.7500, -157.9995,  4741,   70.500,   24.934,   35.408,2,   35.411,2,  205.500,2, -999.000,5,    1.190,2,    0.010,2,    0.040,2, -999.000
           NA,HOT timeseries 1988to2019 27SEP2021,    241,  99,-999.0,    8023,-999.0,20131220,1501,  22.7500, -157.9995,  4741,   85.700,   23.764,   35.404,2,   35.402,2,  211.800,2,  212.200,2,    1.330,2,    0.010,2,    0.020,2, -999.000
           NA,HOT timeseries 1988to2019 27SEP2021,    241,  99,-999.0,    8022,-999.0,20131220,1501,  22.7500, -157.9995,  4741,  122.400,   21.072,   35.284,2,   35.287,2,  201.400,2,  201.200,2,    1.760,2,    0.820,2,    0.100,2, -999.000
           NA,HOT timeseries 1988to2019 27SEP2021,    241,  99,-999.0,    8021,-999.0,20131220,1501,  22.7500, -157.9995,  4741,  155.100,   19.569,   35.063,2,   35.069,2,  190.600,2,  193.400,2,    2.580,2,    2.460,2,    0.210,2, -999.000
           NA,HOT timeseries 1988to2019 27SEP2021,    241,  99,-999.0,    8020,-999.0,20131220,1501,  22.7500, -157.9995,  4741,  209.600,   15.530,   34.521,2,   34.525,2,  202.700,2,  202.000,2,    5.650,2,    5.670,2,    0.410,2, -999.000
           NA,HOT timeseries 1988to2019 27SEP2021,    241,  99,-999.0,    8019,-999.0,20131220,1501,  22.7500, -157.9995,  4741,  262.200,   13.592,   34.357,2,   34.355,2,  200.400,2,  199.300,2,    9.020,2,    9.220,2,    0.650,2, -999.000
           NA,HOT timeseries 1988to2019 27SEP2021,    241,  99,-999.0,    8018,-999.0,20131220,1501,  22.7500, -157.9995,  4741,  316.500,   11.607,   34.235,2,   34.233,2,  198.000,2,  198.200,2,   14.400,2,   13.160,2,    0.910,2, -999.000
           NA,HOT timeseries 1988to2019 27SEP2021,    241,  99,-999.0,    8017,-999.0,20131220,1501,  22.7500, -157.9995,  4741,  356.000,   10.160,   34.145,2,   34.144,2,  196.700,2,  196.400,2,   19.200,2,   16.100,2,    1.110,2, -999.000
           NA,HOT timeseries 1988to2019 27SEP2021,    241,  99,-999.0,    8016,-999.0,20131220,1501,  22.7500, -157.9995,  4741,  421.000,    8.502,   34.066,2,   34.066,2,  164.200,2,  165.300,2,   31.620,2,   22.320,2,    1.550,2, -999.000
           NA,HOT timeseries 1988to2019 27SEP2021,    241,  99,-999.0,    8015,-999.0,20131220,1501,  22.7500, -157.9995,  4741,  461.000,    7.634,   34.046,2,   34.047,2,  139.200,2,  140.300,2,   40.750,2,   26.120,2,    1.840,2, -999.000
           NA,HOT timeseries 1988to2019 27SEP2021,    241,  99,-999.0,    8014,-999.0,20131220,1501,  22.7500, -157.9995,  4741,  500.700,    7.015,   34.040,2,   34.038,2,  124.500,2,  121.800,2,   48.940,2,   29.070,2,    2.060,2, -999.000
           NA,HOT timeseries 1988to2019 27SEP2021,    241,  99,-999.0,    8012,-999.0,20131220,1501,  22.7500, -157.9995,  4741,  546.200,    6.433,   34.073,2,   34.072,2,   92.300,2,   90.700,2,   58.860,2,   32.620,2,    2.350,2, -999.000
           NA,HOT timeseries 1988to2019 27SEP2021,    241,  99,-999.0,    8011,-999.0,20131220,1501,  22.7500, -157.9995,  4741,  591.400,    5.707,   34.087,2,   34.090,2,   73.100,2,   70.600,2,   71.200,2,   35.610,2,    2.580,2, -999.000
           NA,HOT timeseries 1988to2019 27SEP2021,    241,  99,-999.0,    8009,-999.0,20131220,1501,  22.7500, -157.9995,  4741,  684.900,    5.274,   34.247,2,   34.249,2,   39.400,2,   39.300,2,   83.710,2,   38.900,2,    2.860,2, -999.000
           NA,HOT timeseries 1988to2019 27SEP2021,    241,  99,-999.0,    8008,-999.0,20131220,1501,  22.7500, -157.9995,  4741,  719.600,    5.090,   34.285,2,   34.284,2,   35.900,2,   35.700,2,   87.780,2,   39.490,2,    2.910,2, -999.000
           NA,HOT timeseries 1988to2019 27SEP2021,    241,  99,-999.0,    8026,-999.0,20131220,1501,  22.7500, -157.9995,  4741,  756.400,    4.842,   34.324,2,   34.325,2,   35.200,2,   34.400,2,   93.030,2,   39.980,2,    2.950,2, -999.000
           NA,HOT timeseries 1988to2019 27SEP2021,    241,  99,-999.0,    8006,-999.0,20131220,1501,  22.7500, -157.9995,  4741,  800.300,    4.588,   34.333,2,   34.333,2,   35.100,2,   34.900,2,   97.800,2,   40.160,2,    2.960,2, -999.000
           NA,HOT timeseries 1988to2019 27SEP2021,    241,  99,-999.0,    8005,-999.0,20131220,1501,  22.7500, -157.9995,  4741,  845.400,    4.400,   34.386,2,   34.386,2,   36.000,2,   35.700,2,  102.200,2,   40.560,2,    2.980,2, -999.000
           NA,HOT timeseries 1988to2019 27SEP2021,    241,  99,-999.0,    8003,-999.0,20131220,1501,  22.7500, -157.9995,  4741,  932.600,    4.265,   34.454,2,   34.454,2,   38.900,2,   38.800,2,  104.740,2,   40.820,2,    3.000,2, -999.000
           NA,HOT timeseries 1988to2019 27SEP2021,    241,  99,-999.0,    8002,-999.0,20131220,1501,  22.7500, -157.9995,  4741,  975.600,    4.186,   34.473,2,   34.472,2,   40.500,2,   40.600,2,  106.160,2,   41.010,2,    3.010,2, -999.000
           NA,HOT timeseries 1988to2019 27SEP2021,    241,  99,-999.0,    8001,-999.0,20131220,1501,  22.7500, -157.9995,  4741, 1020.600,    4.045,   34.491,2,   34.492,2,   42.700,2,   42.800,2,  108.570,2,   40.900,2,    2.980,2, -999.000
           NA,HOT timeseries 1988to2019 27SEP2021,    241,  99,-999.0,    8020,-999.0,20131220,1501,  22.7500, -157.9995,  4741, 1200.200,    3.535,   34.530,2,   34.531,2,   51.500,2,   51.400,2,  120.160,2,   41.160,2,    2.940,2, -999.000
           NA,HOT timeseries 1988to2019 27SEP2021,    241,  99,-999.0,    8019,-999.0,20131220,1501,  22.7500, -157.9995,  4741, 1403.500,    3.090,   34.557,2,   34.558,2,   60.900,2,   60.700,2,  130.370,2,   40.780,2,    2.900,2, -999.000
           NA,HOT timeseries 1988to2019 27SEP2021,    241,  99,-999.0,    8018,-999.0,20131220,1501,  22.7500, -157.9995,  4741, 1601.500,    2.672,   34.583,2,   34.584,2,   70.700,2,   71.000,2,  139.970,2,   40.320,2,    2.850,2, -999.000
           NA,HOT timeseries 1988to2019 27SEP2021,    241,  99,-999.0,    8017,-999.0,20131220,1501,  22.7500, -157.9995,  4741, 1800.900,    2.401,   34.599,2,   34.599,2,   78.400,2,   78.300,2,  146.550,2,   40.020,2,    2.810,2, -999.000
           NA,HOT timeseries 1988to2019 27SEP2021,    241,  99,-999.0,    8016,-999.0,20131220,1501,  22.7500, -157.9995,  4741, 1999.300,    2.180,   34.616,2,   34.617,2,   86.000,2,   86.600,2,  151.350,2,   39.600,2,    2.770,2, -999.000
           NA,HOT timeseries 1988to2019 27SEP2021,    241,  99,-999.0,    8015,-999.0,20131220,1501,  22.7500, -157.9995,  4741, 2200.900,    1.956,   34.631,2,   34.632,2,   94.800,2,   95.000,2,  155.940,2,   39.170,2,    2.730,2, -999.000
           NA,HOT timeseries 1988to2019 27SEP2021,    241,  99,-999.0,    8014,-999.0,20131220,1501,  22.7500, -157.9995,  4741, 2401.000,    1.823,   34.642,2,   34.644,2,  101.900,2,  102.600,2,  158.370,2,   38.840,2,    2.690,2, -999.000
           NA,HOT timeseries 1988to2019 27SEP2021,    241,  99,-999.0,    8025,-999.0,20131220,1501,  22.7500, -157.9995,  4741, 2601.500,    1.719,   34.651,2,   34.651,2,  107.100,2,  107.700,2,  161.120,2,   38.500,2,    2.670,2, -999.000
           NA,HOT timeseries 1988to2019 27SEP2021,    241,  99,-999.0,    8012,-999.0,20131220,1501,  22.7500, -157.9995,  4741, 2799.300,    1.615,   34.659,2,   34.659,2,  114.500,2,  115.100,2,  161.600,2,   38.020,2,    2.630,2, -999.000
           NA,HOT timeseries 1988to2019 27SEP2021,    241,  99,-999.0,    8011,-999.0,20131220,1501,  22.7500, -157.9995,  4741, 3000.100,    1.550,   34.667,2,   34.668,2,  122.700,2,  123.300,2,  160.020,2,   37.280,2,    2.580,2, -999.000
           NA,HOT timeseries 1988to2019 27SEP2021,    241,  99,-999.0,    8010,-999.0,20131220,1501,  22.7500, -157.9995,  4741, 3198.000,    1.509,   34.673,2,   34.673,2,  129.400,2,  129.700,2,  158.000,2,   36.870,2,    2.550,2, -999.000
           NA,HOT timeseries 1988to2019 27SEP2021,    241,  99,-999.0,    8009,-999.0,20131220,1501,  22.7500, -157.9995,  4741, 3402.100,    1.476,   34.678,2,   34.678,2,  136.000,2,  135.700,2,  156.570,2,   36.530,2,    2.520,2, -999.000
           NA,HOT timeseries 1988to2019 27SEP2021,    241,  99,-999.0,    8008,-999.0,20131220,1501,  22.7500, -157.9995,  4741, 3600.000,    1.457,   34.682,2,   34.682,2,  141.000,2,  141.100,2,  155.030,2,   36.000,2,    2.490,2, -999.000
           NA,HOT timeseries 1988to2019 27SEP2021,    241,  99,-999.0,    8026,-999.0,20131220,1501,  22.7500, -157.9995,  4741, 3800.200,    1.451,   34.684,2,   34.684,2,  144.500,2,  144.500,2,  152.910,2,   35.790,2,    2.470,2, -999.000
           NA,HOT timeseries 1988to2019 27SEP2021,    241,  99,-999.0,    8006,-999.0,20131220,1501,  22.7500, -157.9995,  4741, 4001.100,    1.457,   34.686,2,   34.685,2,  146.700,2,  146.800,2,  152.170,2,   35.520,2,    2.460,2, -999.000
           NA,HOT timeseries 1988to2019 27SEP2021,    241,  99,-999.0,    8005,-999.0,20131220,1501,  22.7500, -157.9995,  4741, 4200.900,    1.468,   34.688,2,   34.687,2,  149.100,2,  148.500,2,  151.160,2,   35.480,2,    2.450,2, -999.000
           NA,HOT timeseries 1988to2019 27SEP2021,    241,  99,-999.0,    8004,-999.0,20131220,1501,  22.7500, -157.9995,  4741, 4400.400,    1.480,   34.688,2,   34.688,2,  150.300,2,  149.500,2,  150.670,2,   35.430,2,    2.450,2, -999.000
           NA,HOT timeseries 1988to2019 27SEP2021,    241,  99,-999.0,    8003,-999.0,20131220,1501,  22.7500, -157.9995,  4741, 4500.400,    1.490,   34.689,2,   34.688,2,  150.800,2,  150.500,2,  150.500,2,   35.480,2,    2.460,2, -999.000
           NA,HOT timeseries 1988to2019 27SEP2021,    241,  99,-999.0,    8002,-999.0,20131220,1501,  22.7500, -157.9995,  4741, 4599.900,    1.500,   34.689,2,   34.688,2,  151.000,2,  150.900,2,  150.650,2,   35.460,2,    2.460,2, -999.000
           NA,HOT timeseries 1988to2019 27SEP2021,    241,  99,-999.0,    8001,-999.0,20131220,1501,  22.7500, -157.9995,  4741, 4803.000,    1.520,   34.689,2,   34.689,2,  151.600,2,  151.800,2,  149.500,2,   35.370,2,    2.460,2, -999.000
           NA,HOT timeseries 1988to2019 27SEP2021,      2,   2,      24,    8058,-999.0,20170123,2313,  22.7498, -157.9998,  4745,    3.700,   23.724,   35.069,2,   35.068,2,  211.100,2,  213.200,2,    1.290,2,    0.010,2,    0.070,2, -999.000
           NA,HOT timeseries 1988to2019 27SEP2021,      2,   2,      23,    8023,-999.0,20170123,2313,  22.7498, -157.9998,  4745,   79.800,   23.687,   35.067,2,   35.069,2,  210.700,2,  212.000,2,    1.240,2,    0.000,2,    0.060,2, -999.000
           NA,HOT timeseries 1988to2019 27SEP2021,      2,   2,      22,    8022,-999.0,20170123,2313,  22.7498, -157.9998,  4745,  103.500,   23.309,   35.116,2,   35.116,2,  208.900,2,  208.300,2,    1.420,2,    0.020,2,    0.080,2, -999.000
           NA,HOT timeseries 1988to2019 27SEP2021,      2,   2,      21,    8021,-999.0,20170123,2313,  22.7498, -157.9998,  4745,  126.500,   22.043,   35.144,2,   35.149,2,  200.100,2,  199.800,2,    1.710,2,    0.530,2,    0.140,2, -999.000
           NA,HOT timeseries 1988to2019 27SEP2021,      2,   2,      20,    8020,-999.0,20170123,2313,  22.7498, -157.9998,  4745,  144.600,   20.584,   35.025,2,   35.030,2,  189.500,2,  190.200,2,    2.330,2, -999.000,3,    0.220,2, -999.000
           NA,HOT timeseries 1988to2019 27SEP2021,      2,   2,      19,    8019,-999.0,20170123,2313,  22.7498, -157.9998,  4745,  166.500,   18.924,   34.908,2,   34.907,2,  196.000,2,  195.900,2,    2.860,2,    2.570,2,    0.240,2, -999.000
           NA,HOT timeseries 1988to2019 27SEP2021,      2,   2,      18,    8018,-999.0,20170123,2313,  22.7498, -157.9998,  4745,  205.700,   15.747,   34.487,2,   34.493,2,  186.900,2,  186.200,2,    5.810,2,    6.340,2,    0.540,2, -999.000
           NA,HOT timeseries 1988to2019 27SEP2021,      2,   2,      17,    8017,-999.0,20170123,2313,  22.7498, -157.9998,  4745,  210.100,   15.376,   34.476,2,   34.470,2,  194.000,2,  192.400,2,    5.860,2,    6.200,2,    0.520,2, -999.000
           NA,HOT timeseries 1988to2019 27SEP2021,      2,   2,      16,    8016,-999.0,20170123,2313,  22.7498, -157.9998,  4745,  218.100,   15.018,   34.432,2,   34.440,2,  196.400,2,  196.600,2,    6.080,2,    6.320,2,    0.510,2, -999.000
           NA,HOT timeseries 1988to2019 27SEP2021,      2,   2,      15,    8015,-999.0,20170123,2313,  22.7498, -157.9998,  4745,  267.400,   12.386,   34.177,2,   34.175,2,  180.200,2,  176.900,2,   12.450,2,   12.870,2,    0.990,2, -999.000
           NA,HOT timeseries 1988to2019 27SEP2021,      2,   2,      14,    8014,-999.0,20170123,2313,  22.7498, -157.9998,  4745,  309.800,   11.330,   34.149,2,   34.152,2,  159.500,2,  159.800,2,   17.640,2,   16.780,2,    1.310,2, -999.000
           NA,HOT timeseries 1988to2019 27SEP2021,      2,   2,      13,    8025,-999.0,20170123,2313,  22.7498, -157.9998,  4745,  367.300,    9.071,   34.061,2,   34.075,2,  164.600,2,  165.900,2,   26.090,2,   21.090,2,    1.510,2, -999.000
           NA,HOT timeseries 1988to2019 27SEP2021,      2,   2,      12,    8012,-999.0,20170123,2313,  22.7498, -157.9998,  4745,  424.800,    7.858,   34.036,2,   34.037,2,  136.200,2,  135.700,2,   38.000,2,   26.580,2,    1.910,2, -999.000
           NA,HOT timeseries 1988to2019 27SEP2021,      2,   2,      11,    8011,-999.0,20170123,2313,  22.7498, -157.9998,  4745,  452.600,    7.283,   34.035,2,   34.037,2,  115.900,2,  114.000,2,   45.590,2,   29.580,2,    2.140,2, -999.000
           NA,HOT timeseries 1988to2019 27SEP2021,      2,   2,      10,    8010,-999.0,20170123,2313,  22.7498, -157.9998,  4745,  489.400,    6.694,   34.063,2,   34.064,2,   86.500,2,   83.300,2,   54.810,2,   33.310,2,    2.430,2, -999.000
           NA,HOT timeseries 1988to2019 27SEP2021,      2,   2,       9,    8009,-999.0,20170123,2313,  22.7498, -157.9998,  4745,  542.500,    5.806,   34.074,2, -999.000,4, -999.000,3,   64.400,2,   68.230,2,   36.570,2,    2.670,2, -999.000
           NA,HOT timeseries 1988to2019 27SEP2021,      2,   2,       8,    8008,-999.0,20170123,2313,  22.7498, -157.9998,  4745,  581.000,    5.544,   34.169,2,   34.171,2,   41.000,2, -999.000,3,   77.270,2,   39.260,2,    2.900,2, -999.000
           NA,HOT timeseries 1988to2019 27SEP2021,      2,   2,       7,    8060,-999.0,20170123,2313,  22.7498, -157.9998,  4745,  651.800,    5.033,   34.235,2, -999.000,4, -999.000,3,   24.200,2,   88.670,2,   41.230,2,    3.070,2, -999.000
           NA,HOT timeseries 1988to2019 27SEP2021,      2,   2,       6,    8006,-999.0,20170123,2313,  22.7498, -157.9998,  4745,  684.500,    4.935,   34.270,2,   34.269,2,   28.400,2,   26.900,2,   90.930,2,   41.430,2,    3.060,2, -999.000
           NA,HOT timeseries 1988to2019 27SEP2021,      2,   2,       5,    8005,-999.0,20170123,2313,  22.7498, -157.9998,  4745,  728.500,    4.753,   34.319,2,   34.321,2,   28.200,2,   27.400,2,   95.070,2,   41.310,2,    3.060,2, -999.000
           NA,HOT timeseries 1988to2019 27SEP2021,      2,   2,       4,    8059,-999.0,20170123,2313,  22.7498, -157.9998,  4745,  804.300,    4.587,   34.412,2,   34.409,2,   37.600,2,   37.000,2,   98.580,2,   41.250,2,    3.030,2, -999.000
           NA,HOT timeseries 1988to2019 27SEP2021,      2,   2,       3,    8003,-999.0,20170123,2313,  22.7498, -157.9998,  4745,  881.400,    4.394,   34.446,2,   34.446,2,   40.300,2,   40.300,2,  102.090,2,   41.630,2,    3.030,2, -999.000
           NA,HOT timeseries 1988to2019 27SEP2021,      2,   2,       2,    8002,-999.0,20170123,2313,  22.7498, -157.9998,  4745,  961.000,    4.037,   34.471,2, -999.000,4, -999.000,3,   43.800,2,  109.900,2,   41.760,2,    3.050,2, -999.000
           NA,HOT timeseries 1988to2019 27SEP2021,      2,   2,       1,    8001,-999.0,20170123,2313,  22.7498, -157.9998,  4745, 1019.600,    3.868,   34.495,2,   34.495,2,   46.300,2,   46.300,2,  112.680,2,   41.580,2,    3.050,2, -999.000