BOTTLE,20214727JOAExport
EXPOCODE,SECT_ID,STNNBR,CASTNO,SAMPNO,BTLNBR,BTLNBR_FLAG_W,DATE,TIME,LATITUDE,LONGITUDE,DEPTH,CTDPRS,CTDTMP,CTDSAL,CTDSAL_FLAG_W,SALNTY,SALNTY_FLAG_W,CTDOXY,CTDOXY_FLAG_W,OXYGEN,OXYGEN_FLAG_W,SILCAT,SILCAT_FLAG_W,NINI,NINI_FLAG_W,PHSPHT,PHSPHT_FLAG_W,REVP
,,,,,,,,,,,,DB,IPTS-68,PSS-78,,PSS-78,,UMOL/KG,,UMOL/KG,,UMOL/KG,,UMOL/KG,,UMOL/KG,,DBAR
           NA,HOT timeseries 1988to2019 27SEP2021,    131,  99,-999.0,      31,-999.0,20020220,1756,  22.7462, -158.0002,  4722,    3.900,   22.981,   35.255,2,   35.254,2,  214.100,2, -999.000,4,    1.370,2,    0.020,2,    0.040,2, -999.000
           NA,HOT timeseries 1988to2019 27SEP2021,    131,  99,-999.0,      30,-999.0,20020220,1756,  22.7462, -158.0002,  4722,   24.300,   22.985,   35.255,2,   35.254,2,  214.000,2,  214.600,2,    1.380,2,    0.050,2,    0.030,2, -999.000
           NA,HOT timeseries 1988to2019 27SEP2021,    131,  99,-999.0,      22,-999.0,20020220,1756,  22.7462, -158.0002,  4722,   44.000,   22.910,   35.253,2,   35.253,2,  214.200,2,  214.800,2,    1.400,2,    0.070,2,    0.050,2, -999.000
           NA,HOT timeseries 1988to2019 27SEP2021,    131,  99,-999.0,      21,-999.0,20020220,1756,  22.7462, -158.0002,  4722,   75.200,   22.905,   35.305,2,   35.300,2,  213.900,2,  214.300,2,    1.380,2,    0.070,2,    0.050,2, -999.000
           NA,HOT timeseries 1988to2019 27SEP2021,    131,  99,-999.0,      20,-999.0,20020220,1756,  22.7462, -158.0002,  4722,  115.000,   22.077,   35.295,2,   35.296,2,  200.500,2,  203.000,2,    1.730,2,    0.210,2,    0.100,2, -999.000
           NA,HOT timeseries 1988to2019 27SEP2021,    131,  99,-999.0,      19,-999.0,20020220,1756,  22.7462, -158.0002,  4722,  125.700,   22.087,   35.317,2,   35.317,2,  203.800,2,  204.800,2,    1.780,2,    0.510,2,    0.060,2, -999.000
           NA,HOT timeseries 1988to2019 27SEP2021,    131,  99,-999.0,      17,-999.0,20020220,1756,  22.7462, -158.0002,  4722,  213.600,   17.300,   34.764,2,   34.764,2,  199.500,2,  198.300,2,    3.810,2,    3.960,2,    0.360,2, -999.000
           NA,HOT timeseries 1988to2019 27SEP2021,    131,  99,-999.0,      16,-999.0,20020220,1756,  22.7462, -158.0002,  4722,  263.900,   14.345,   34.437,2,   34.437,2,  197.000,2,  197.700,2,    6.550,2,    7.550,2, -999.000,3, -999.000
           NA,HOT timeseries 1988to2019 27SEP2021,    131,  99,-999.0,      14,-999.0,20020220,1756,  22.7462, -158.0002,  4722,  349.400,   11.071,   34.165,2,   34.167,2,  197.700,2,  198.300,2,   13.390,2,   13.790,2, -999.000,3, -999.000
           NA,HOT timeseries 1988to2019 27SEP2021,    131,  99,-999.0,      13,-999.0,20020220,1756,  22.7462, -158.0002,  4722,  411.400,    9.082,   34.083,2,   34.085,2,  171.000,2,  175.100,2,   24.820,2,   20.530,2,    1.410,2, -999.000
           NA,HOT timeseries 1988to2019 27SEP2021,    131,  99,-999.0,      12,-999.0,20020220,1756,  22.7462, -158.0002,  4722,  482.500,    7.094,   34.025,2,   34.026,2,  126.600,2,  126.800,2,   43.980,2,   28.980,2, -999.000,3, -999.000
           NA,HOT timeseries 1988to2019 27SEP2021,    131,  99,-999.0,      30,-999.0,20020220,1756,  22.7462, -158.0002,  4722,  498.900,    6.852,   34.023,2,   34.024,2,  119.900,2,  120.700,2,   45.640,2,   29.850,2,    2.150,2, -999.000
           NA,HOT timeseries 1988to2019 27SEP2021,    131,  99,-999.0,      11,-999.0,20020220,1756,  22.7462, -158.0002,  4722,  514.600,    6.471,   34.027,2,   34.030,2,  106.100,2,  105.600,2,   52.730,2,   32.150,2,    2.170,2, -999.000
           NA,HOT timeseries 1988to2019 27SEP2021,    131,  99,-999.0,      32,-999.0,20020220,1756,  22.7462, -158.0002,  4722,  563.100,    5.729,   34.062,2,   34.062,2,   74.500,2,   74.500,2, -999.000,3,   36.150,2, -999.000,3, -999.000
           NA,HOT timeseries 1988to2019 27SEP2021,    131,  99,-999.0,       3,-999.0,20020220,1756,  22.7462, -158.0002,  4722,  611.500,    5.264,   34.107,2,   34.107,2,   52.700,2,   52.800,2, -999.000,3,   38.800,2,    2.720,2, -999.000
           NA,HOT timeseries 1988to2019 27SEP2021,    131,  99,-999.0,      29,-999.0,20020220,1756,  22.7462, -158.0002,  4722,  670.500,    4.776,   34.183,2,   34.184,2,   34.900,2,   33.600,2, -999.000,3,   41.120,2, -999.000,4, -999.000
           NA,HOT timeseries 1988to2019 27SEP2021,    131,  99,-999.0,      28,-999.0,20020220,1756,  22.7462, -158.0002,  4722,  698.500,    4.655,   34.224,2,   34.223,2,   28.000,2,   27.400,2, -999.000,3,   41.690,2, -999.000,4, -999.000
           NA,HOT timeseries 1988to2019 27SEP2021,    131,  99,-999.0,      38,-999.0,20020220,1756,  22.7462, -158.0002,  4722,  798.000,    4.506,   34.345,2,   34.344,2,   21.400,2,   22.400,2, -999.000,3,   42.500,2,    2.950,2, -999.000
           NA,HOT timeseries 1988to2019 27SEP2021,    131,  99,-999.0,      36,-999.0,20020220,1756,  22.7462, -158.0002,  4722,  831.900,    4.421,   34.389,2,   34.388,2,   24.700,2,   25.400,2, -999.000,3,   42.630,2, -999.000,4, -999.000
           NA,HOT timeseries 1988to2019 27SEP2021,    131,  99,-999.0,      35,-999.0,20020220,1756,  22.7462, -158.0002,  4722,  898.900,    4.235,   34.437,2,   34.437,2,   30.500,2,   30.500,2, -999.000,3,   42.500,2, -999.000,4, -999.000
           NA,HOT timeseries 1988to2019 27SEP2021,    131,  99,-999.0,      34,-999.0,20020220,1756,  22.7462, -158.0002,  4722,  963.100,    4.032,   34.471,2,   34.470,2,   35.500,2,   36.200,2, -999.000,3,   42.430,2, -999.000,4, -999.000
           NA,HOT timeseries 1988to2019 27SEP2021,    131,  99,-999.0,      33,-999.0,20020220,1756,  22.7462, -158.0002,  4722, 1018.000,    3.813,   34.496,2,   34.495,2,   40.000,2,   40.500,2, -999.000,3,   42.370,2, -999.000,4, -999.000
           NA,HOT timeseries 1988to2019 27SEP2021,    131,  99,-999.0,      20,-999.0,20020220,1756,  22.7462, -158.0002,  4722, 1200.500,    3.320,   34.543,2,   34.541,2,   54.800,2,   54.700,2,  124.020,2,   41.690,2,    3.010,2, -999.000
           NA,HOT timeseries 1988to2019 27SEP2021,    131,  99,-999.0,      19,-999.0,20020220,1756,  22.7462, -158.0002,  4722, 1399.200,    2.928,   34.570,2,   34.569,2,   64.100,2,   64.100,2,  132.110,2,   41.220,2,    2.930,2, -999.000
           NA,HOT timeseries 1988to2019 27SEP2021,    131,  99,-999.0,      18,-999.0,20020220,1756,  22.7462, -158.0002,  4722, 1598.000,    2.615,   34.591,2,   34.590,2,   72.700,2,   72.200,2,  139.480,2,   40.880,2,    2.920,2, -999.000
           NA,HOT timeseries 1988to2019 27SEP2021,    131,  99,-999.0,      17,-999.0,20020220,1756,  22.7462, -158.0002,  4722, 1799.100,    2.310,   34.611,2,   34.610,2,   82.300,2,   82.100,2,  146.230,2,   40.360,2, -999.000,4, -999.000
           NA,HOT timeseries 1988to2019 27SEP2021,    131,  99,-999.0,      16,-999.0,20020220,1756,  22.7462, -158.0002,  4722, 1999.800,    2.079,   34.626,2,   34.625,2,   91.100,2,   91.100,2,  151.120,2,   39.890,2, -999.000,4, -999.000
           NA,HOT timeseries 1988to2019 27SEP2021,    131,  99,-999.0,      23,-999.0,20020220,1756,  22.7462, -158.0002,  4722, 2199.600,    1.935,   34.638,2,   34.637,2,   98.300,2,   98.600,2,  154.330,2,   39.430,2, -999.000,3, -999.000
           NA,HOT timeseries 1988to2019 27SEP2021,    131,  99,-999.0,      14,-999.0,20020220,1756,  22.7462, -158.0002,  4722, 2399.500,    1.804,   34.646,2,   34.646,2,  104.700,2,  104.500,2,  157.390,2,   39.030,2,    2.730,2, -999.000
           NA,HOT timeseries 1988to2019 27SEP2021,    131,  99,-999.0,      13,-999.0,20020220,1756,  22.7462, -158.0002,  4722, 2600.300,    1.717,   34.654,2,   34.653,2,  109.900,2,  110.200,2,  159.100,2,   38.690,2, -999.000,4, -999.000
           NA,HOT timeseries 1988to2019 27SEP2021,    131,  99,-999.0,      12,-999.0,20020220,1756,  22.7462, -158.0002,  4722, 2799.900,    1.641,   34.661,2,   34.660,2,  116.800,2,  116.600,2,  158.810,2,   38.230,2,    2.680,2, -999.000
           NA,HOT timeseries 1988to2019 27SEP2021,    131,  99,-999.0,      11,-999.0,20020220,1756,  22.7462, -158.0002,  4722, 2999.200,    1.573,   34.669,2,   34.668,2,  122.500,2,  123.800,2,  158.960,2,   37.900,2,    2.640,2, -999.000
           NA,HOT timeseries 1988to2019 27SEP2021,    131,  99,-999.0,      32,-999.0,20020220,1756,  22.7462, -158.0002,  4722, 3199.600,    1.530,   34.674,2,   34.673,2,  128.600,2,  128.000,2,  158.600,2,   37.560,2,    2.620,2, -999.000
           NA,HOT timeseries 1988to2019 27SEP2021,    131,  99,-999.0,       3,-999.0,20020220,1756,  22.7462, -158.0002,  4722, 3399.600,    1.497,   34.679,2,   34.678,2,  134.700,2,  133.900,2,  155.840,2,   37.230,2, -999.000,4, -999.000
           NA,HOT timeseries 1988to2019 27SEP2021,    131,  99,-999.0,      29,-999.0,20020220,1756,  22.7462, -158.0002,  4722, 3600.100,    1.480,   34.682,2,   34.682,2,  138.900,2,  138.600,2, -999.000,5,   36.960,2,    2.550,2, -999.000
           NA,HOT timeseries 1988to2019 27SEP2021,    131,  99,-999.0,      28,-999.0,20020220,1756,  22.7462, -158.0002,  4722, 3800.700,    1.467,   34.684,2,   34.684,2,  143.900,2,  143.600,2,  152.430,2,   36.570,2,    2.560,2, -999.000
           NA,HOT timeseries 1988to2019 27SEP2021,    131,  99,-999.0,       7,-999.0,20020220,1756,  22.7462, -158.0002,  4722, 3999.500,    1.462,   34.686,2,   34.687,2,  147.700,2,  147.100,2,  151.010,2,   36.300,2, -999.000,4, -999.000
           NA,HOT timeseries 1988to2019 27SEP2021,    131,  99,-999.0,      38,-999.0,20020220,1756,  22.7462, -158.0002,  4722, 4197.900,    1.467,   34.688,2,   34.688,2,  149.900,2,  150.100,2,  150.470,2,   36.090,2,    2.520,2, -999.000
           NA,HOT timeseries 1988to2019 27SEP2021,    131,  99,-999.0,      36,-999.0,20020220,1756,  22.7462, -158.0002,  4722, 4400.000,    1.478,   34.688,2,   34.688,2,  152.000,2,  151.600,2,  149.080,2,   35.960,2, -999.000,4, -999.000
           NA,HOT timeseries 1988to2019 27SEP2021,    131,  99,-999.0,      35,-999.0,20020220,1756,  22.7462, -158.0002,  4722, 4499.200,    1.487,   34.689,2,   34.689,2,  152.100,2,  152.000,2,  149.000,2,   35.940,2,    2.480,2, -999.000
           NA,HOT timeseries 1988to2019 27SEP2021,    131,  99,-999.0,      34,-999.0,20020220,1756,  22.7462, -158.0002,  4722, 4599.000,    1.496,   34.689,2,   34.689,2,  152.500,2,  152.100,2,  148.850,2,   35.930,2,    2.480,2, -999.000
           NA,HOT timeseries 1988to2019 27SEP2021,    131,  99,-999.0,      33,-999.0,20020220,1756,  22.7462, -158.0002,  4722, 4795.200,    1.514,   34.689,2,   34.690,2,  152.700,2,  153.300,2,  147.880,2,   35.790,2, -999.000,4, -999.000