BOTTLE,20214727JOAExport
EXPOCODE,SECT_ID,STNNBR,CASTNO,SAMPNO,BTLNBR,BTLNBR_FLAG_W,DATE,TIME,LATITUDE,LONGITUDE,DEPTH,CTDPRS,CTDTMP,CTDSAL,CTDSAL_FLAG_W,SALNTY,SALNTY_FLAG_W,CTDOXY,CTDOXY_FLAG_W,OXYGEN,OXYGEN_FLAG_W,SILCAT,SILCAT_FLAG_W,NINI,NINI_FLAG_W,PHSPHT,PHSPHT_FLAG_W,REVP
,,,,,,,,,,,,DB,IPTS-68,PSS-78,,PSS-78,,UMOL/KG,,UMOL/KG,,UMOL/KG,,UMOL/KG,,UMOL/KG,,DBAR
           NA,HOT timeseries 1988to2019 27SEP2021,     37,  99,-999.0,      18,-999.0,19920921,2012,  22.7500, -157.9963,  4749,    7.100,   26.290,   35.057,2,   35.057,2,  203.600,2,  210.700,2,    0.310,2,    0.000,2,    0.060,2, -999.000
           NA,HOT timeseries 1988to2019 27SEP2021,     37,  99,-999.0,      17,-999.0,19920921,2012,  22.7500, -157.9963,  4749,   76.800,   25.222,   35.064,2,   35.070,2,  211.400,2,  213.400,2,    0.410,2,    0.010,2,    0.070,2, -999.000
           NA,HOT timeseries 1988to2019 27SEP2021,     37,  99,-999.0,      16,-999.0,19920921,2012,  22.7500, -157.9963,  4749,   92.700,   23.566,   35.130,2,   35.138,2,  212.400,2,  215.400,2,    0.580,2,    0.020,2,    0.080,2, -999.000
           NA,HOT timeseries 1988to2019 27SEP2021,     37,  99,-999.0,      15,-999.0,19920921,2012,  22.7500, -157.9963,  4749,  138.200,   22.114,   35.208,2,   35.208,2,  198.900,2,  200.400,2,    0.650,2,    0.550,2,    0.140,2, -999.000
           NA,HOT timeseries 1988to2019 27SEP2021,     37,  99,-999.0,      14,-999.0,19920921,2012,  22.7500, -157.9963,  4749,  212.400,   19.639,   35.126,2,   35.121,2,  188.900,2,  192.400,2,    1.980,2,    2.140,2,    0.280,2, -999.000
           NA,HOT timeseries 1988to2019 27SEP2021,     37,  99,-999.0,      13,-999.0,19920921,2012,  22.7500, -157.9963,  4749,  270.800,   16.746,   34.809,2,   34.810,2,  194.500,2,  194.500,2,    3.710,2,    4.300,2,    0.410,2, -999.000
           NA,HOT timeseries 1988to2019 27SEP2021,     37,  99,-999.0,      12,-999.0,19920921,2012,  22.7500, -157.9963,  4749,  340.200,   12.174,   34.278,2,   34.279,2,  198.900,2,  201.200,2,    9.630,2,   10.740,2,    0.820,2, -999.000
           NA,HOT timeseries 1988to2019 27SEP2021,     37,  99,-999.0,      11,-999.0,19920921,2012,  22.7500, -157.9963,  4749,  379.200,   10.583,   34.165,2,   34.174,2,  199.600,2,  197.200,2,   14.410,2,   14.430,2,    1.070,2, -999.000
           NA,HOT timeseries 1988to2019 27SEP2021,     37,  99,-999.0,      10,-999.0,19920921,2012,  22.7500, -157.9963,  4749,  446.400,    8.967,   34.115,2,   34.121,2,  150.300,2,  159.100,2,   26.690,2,   21.570,2,    1.560,2, -999.000
           NA,HOT timeseries 1988to2019 27SEP2021,     37,  99,-999.0,       9,-999.0,19920921,2012,  22.7500, -157.9963,  4749,  522.100,    7.537,   34.102,2,   34.105,2,  107.000,2,  114.800,2,   42.710,2,   28.220,2,    2.060,2, -999.000
           NA,HOT timeseries 1988to2019 27SEP2021,     37,  99,-999.0,      29,-999.0,19920921,2012,  22.7500, -157.9963,  4749,  561.300,    6.722,   34.084,2,   34.085,2,   96.100,2,   94.200,2,   52.490,2,   31.980,2,    2.310,2, -999.000
           NA,HOT timeseries 1988to2019 27SEP2021,     37,  99,-999.0,      28,-999.0,19920921,2012,  22.7500, -157.9963,  4749,  596.000,    6.136,   34.119,2,   34.121,2,   69.600,2,   68.300,2,   63.100,2,   35.460,2,    2.540,2, -999.000
           NA,HOT timeseries 1988to2019 27SEP2021,     37,  99,-999.0,       7,-999.0,19920921,2012,  22.7500, -157.9963,  4749,  636.700,    5.624,   34.159,2,   34.157,2,   45.900,2,   48.100,2,   72.320,2,   38.030,2,    2.750,2, -999.000
           NA,HOT timeseries 1988to2019 27SEP2021,     37,  99,-999.0,      23,-999.0,19920921,2012,  22.7500, -157.9963,  4749,  697.200,    5.167,   34.243,2,   34.240,2,   36.500,2,   35.200,2,   82.640,2,   39.980,2,    2.900,2, -999.000
           NA,HOT timeseries 1988to2019 27SEP2021,     37,  99,-999.0,      25,-999.0,19920921,2012,  22.7500, -157.9963,  4749,  772.700,    4.989,   34.353,2,   34.349,2,   32.700,2,   30.800,2,   87.870,2,   41.090,2,    2.960,2, -999.000
           NA,HOT timeseries 1988to2019 27SEP2021,     37,  99,-999.0,       3,-999.0,19920921,2012,  22.7500, -157.9963,  4749,  886.700,    4.417,   34.408,2,   34.408,2,   35.600,2,   34.400,2,   98.950,2,   41.750,2,    3.000,2, -999.000
           NA,HOT timeseries 1988to2019 27SEP2021,     37,  99,-999.0,       2,-999.0,19920921,2012,  22.7500, -157.9963,  4749, 1012.700,    4.031,   34.473,2,   34.473,2,   43.400,2,   41.500,2,  106.020,2,   41.890,2,    2.980,2, -999.000
           NA,HOT timeseries 1988to2019 27SEP2021,     37,  99,-999.0,       1,-999.0,19920921,2012,  22.7500, -157.9963,  4749, 1393.700,    3.074,   34.554,2,   34.553,2,   61.900,2,   61.500,2,  124.690,2,   41.340,2,    2.920,2, -999.000
           NA,HOT timeseries 1988to2019 27SEP2021,     37,  99,-999.0,      30,-999.0,19920921,2012,  22.7500, -157.9963,  4749, 1499.100,    2.841,   34.571,2,   34.572,2,   66.500,2,   66.900,2,  135.140,2,   41.130,2,    2.900,2, -999.000
           NA,HOT timeseries 1988to2019 27SEP2021,     37,  99,-999.0,      21,-999.0,19920921,2012,  22.7500, -157.9963,  4749, 1600.700,    2.668,   34.582,2,   34.580,2,   69.900,2, -999.000,5,  140.230,2,   40.980,2,    2.890,2, -999.000
           NA,HOT timeseries 1988to2019 27SEP2021,     37,  99,-999.0,      20,-999.0,19920921,2012,  22.7500, -157.9963,  4749, 1798.600,    2.329,   34.602,2, -999.000,4, -999.000,3,   81.100,2, -999.000,5, -999.000,5, -999.000,5, -999.000
           NA,HOT timeseries 1988to2019 27SEP2021,     37,  99,-999.0,      19,-999.0,19920921,2012,  22.7500, -157.9963,  4749, 1798.600,    2.329,   34.602,2,   34.604,2,   80.200,2,   81.000,2,  147.930,2,   40.270,2,    2.840,2, -999.000
           NA,HOT timeseries 1988to2019 27SEP2021,     37,  99,-999.0,      18,-999.0,19920921,2012,  22.7500, -157.9963,  4749, 1996.400,    2.118,   34.618,2,   34.616,2,   88.200,2,   88.700,2,  152.690,2,   39.800,2,    2.810,2, -999.000
           NA,HOT timeseries 1988to2019 27SEP2021,     37,  99,-999.0,      17,-999.0,19920921,2012,  22.7500, -157.9963,  4749, 2199.400,    1.919,   34.632,2,   34.632,2,   94.900,2,   96.100,2,  157.510,2,   39.240,2,    2.750,2, -999.000
           NA,HOT timeseries 1988to2019 27SEP2021,     37,  99,-999.0,      16,-999.0,19920921,2012,  22.7500, -157.9963,  4749, 2398.900,    1.782,   34.645,2,   34.643,2,  104.400,2,  105.600,2,  158.670,2,   38.590,2,    2.690,2, -999.000
           NA,HOT timeseries 1988to2019 27SEP2021,     37,  99,-999.0,      15,-999.0,19920921,2012,  22.7500, -157.9963,  4749, 2600.900,    1.704,   34.652,2,   34.653,2,  109.000,2,  110.500,2,  160.110,2,   38.250,2,    2.670,2, -999.000
           NA,HOT timeseries 1988to2019 27SEP2021,     37,  99,-999.0,      14,-999.0,19920921,2012,  22.7500, -157.9963,  4749, 2804.100,    1.619,   34.661,2,   34.659,2,  115.700,2,  117.300,2,  161.270,2,   37.780,2,    2.630,2, -999.000
           NA,HOT timeseries 1988to2019 27SEP2021,     37,  99,-999.0,      13,-999.0,19920921,2012,  22.7500, -157.9963,  4749, 3001.600,    1.569,   34.666,2,   34.666,2,  120.900,2,  122.300,2,  161.770,2,   37.500,2,    2.640,2, -999.000
           NA,HOT timeseries 1988to2019 27SEP2021,     37,  99,-999.0,      12,-999.0,19920921,2012,  22.7500, -157.9963,  4749, 3203.400,    1.523,   34.672,2,   34.671,2,  127.200,2,  129.200,2,  160.610,2,   37.170,2,    2.560,2, -999.000
           NA,HOT timeseries 1988to2019 27SEP2021,     37,  99,-999.0,      11,-999.0,19920921,2012,  22.7500, -157.9963,  4749, 3399.000,    1.492,   34.676,2,   34.676,2,  133.500,2,  134.000,2,  159.300,2,   36.790,2,    2.540,2, -999.000
           NA,HOT timeseries 1988to2019 27SEP2021,     37,  99,-999.0,      10,-999.0,19920921,2012,  22.7500, -157.9963,  4749, 3601.400,    1.472,   34.679,2,   34.680,2,  136.700,2,  139.500,2,  157.870,2,   36.450,2,    2.500,2, -999.000
           NA,HOT timeseries 1988to2019 27SEP2021,     37,  99,-999.0,       9,-999.0,19920921,2012,  22.7500, -157.9963,  4749, 3601.400,    1.472,   34.679,2,   34.678,2,  136.700,2,  139.700,2,  157.680,2,   36.500,2,    2.510,2, -999.000
           NA,HOT timeseries 1988to2019 27SEP2021,     37,  99,-999.0,      29,-999.0,19920921,2012,  22.7500, -157.9963,  4749, 3796.900,    1.462,   34.682,2,   34.683,2,  142.400,2,  143.200,2,  156.390,2,   36.250,2,    2.510,2, -999.000
           NA,HOT timeseries 1988to2019 27SEP2021,     37,  99,-999.0,      28,-999.0,19920921,2012,  22.7500, -157.9963,  4749, 3998.500,    1.459,   34.684,2, -999.000,2,  146.100,2, -999.000,2, -999.000,2, -999.000,2, -999.000,2, -999.000
           NA,HOT timeseries 1988to2019 27SEP2021,     37,  99,-999.0,      23,-999.0,19920921,2012,  22.7500, -157.9963,  4749, 4298.100,    1.473,   34.686,2,   34.689,2,  149.600,2, -999.000,5,  152.610,2,   35.770,2,    2.480,2, -999.000
           NA,HOT timeseries 1988to2019 27SEP2021,     37,  99,-999.0,      25,-999.0,19920921,2012,  22.7500, -157.9963,  4749, 4399.800,    1.479,   34.687,2,   34.687,2,  151.100,2,  150.500,2,  152.610,2,   35.670,2,    2.470,2, -999.000
           NA,HOT timeseries 1988to2019 27SEP2021,     37,  99,-999.0,       3,-999.0,19920921,2012,  22.7500, -157.9963,  4749, 4497.400,    1.485,   34.687,2,   34.688,2,  152.200,2,  151.100,2,  152.310,2,   35.690,2,    2.470,2, -999.000
           NA,HOT timeseries 1988to2019 27SEP2021,     37,  99,-999.0,       2,-999.0,19920921,2012,  22.7500, -157.9963,  4749, 4599.900,    1.492,   34.688,2,   34.688,2,  153.100,2,  151.900,2,  150.890,2,   35.670,2,    2.460,2, -999.000
           NA,HOT timeseries 1988to2019 27SEP2021,     37,  99,-999.0,       1,-999.0,19920921,2012,  22.7500, -157.9963,  4749, 4795.400,    1.507,   34.689,2,   34.691,2,  155.000,2,  153.400,2,  150.610,2,   35.560,2,    2.460,2, -999.000