BOTTLE,20214727JOAExport
EXPOCODE,SECT_ID,STNNBR,CASTNO,SAMPNO,BTLNBR,BTLNBR_FLAG_W,DATE,TIME,LATITUDE,LONGITUDE,DEPTH,CTDPRS,CTDTMP,CTDSAL,CTDSAL_FLAG_W,SALNTY,SALNTY_FLAG_W,CTDOXY,CTDOXY_FLAG_W,OXYGEN,OXYGEN_FLAG_W,SILCAT,SILCAT_FLAG_W,NINI,NINI_FLAG_W,PHSPHT,PHSPHT_FLAG_W,REVP
,,,,,,,,,,,,DB,IPTS-68,PSS-78,,PSS-78,,UMOL/KG,,UMOL/KG,,UMOL/KG,,UMOL/KG,,UMOL/KG,,DBAR
           NA,HOT timeseries 1988to2019 27SEP2021,     50,  99,-999.0,      22,-999.0,19940619,0442,  22.7478, -158.0713,  4714,    4.500,   24.842,   34.853,2,   34.856,2,  217.900,2,  208.500,2,    1.260,2,    0.000,2,    0.080,2, -999.000
           NA,HOT timeseries 1988to2019 27SEP2021,     50,  99,-999.0,      31,-999.0,19940619,0442,  22.7478, -158.0713,  4714,   10.900,   24.842,   34.850,2,   34.856,2,  213.100,2,  208.900,2,    1.630,2, -999.000,4, -999.000,4, -999.000
           NA,HOT timeseries 1988to2019 27SEP2021,     50,  99,-999.0,      21,-999.0,19940619,0442,  22.7478, -158.0713,  4714,   36.600,   24.789,   34.874,2,   34.878,2,  207.400,2,  209.400,2,    1.080,2,    0.000,2,    0.080,2, -999.000
           NA,HOT timeseries 1988to2019 27SEP2021,     50,  99,-999.0,      20,-999.0,19940619,0442,  22.7478, -158.0713,  4714,   65.500,   23.098,   35.088,2,   35.090,2,  220.800,2,  220.900,2,    1.100,2,    0.000,2,    0.050,2, -999.000
           NA,HOT timeseries 1988to2019 27SEP2021,     50,  99,-999.0,      19,-999.0,19940619,0442,  22.7478, -158.0713,  4714,  100.400,   22.352,   35.163,2, -999.000,3, -999.000,3,  216.300,2,    0.990,2,    0.000,2,    0.040,2, -999.000
           NA,HOT timeseries 1988to2019 27SEP2021,     50,  99,-999.0,      18,-999.0,19940619,0442,  22.7478, -158.0713,  4714,  125.300,   21.820,   35.220,2,   35.220,2,  211.000,2,  212.100,2,    1.010,2,    0.000,2,    0.070,2, -999.000
           NA,HOT timeseries 1988to2019 27SEP2021,     50,  99,-999.0,      30,-999.0,19940619,0442,  22.7478, -158.0713,  4714,  179.400,   20.434,   35.207,2,   35.211,2,  203.800,2,  199.400,2,    1.160,2,    0.040,2,    0.100,2, -999.000
           NA,HOT timeseries 1988to2019 27SEP2021,     50,  99,-999.0,      16,-999.0,19940619,0442,  22.7478, -158.0713,  4714,  193.400,   19.757,   35.148,2,   35.160,2,  201.700,2,  199.400,2,    1.990,2,    1.410,2,    0.150,2, -999.000
           NA,HOT timeseries 1988to2019 27SEP2021,     50,  99,-999.0,      15,-999.0,19940619,0442,  22.7478, -158.0713,  4714,  245.600,   16.122,   34.693,2,   34.697,2,  192.000,2,  196.500,2,    4.320,2,    4.690,2,    0.390,2, -999.000
           NA,HOT timeseries 1988to2019 27SEP2021,     50,  99,-999.0,      14,-999.0,19940619,0442,  22.7478, -158.0713,  4714,  279.500,   14.775,   34.545,2,   34.548,2,  200.300,2,  199.400,2,    6.080,2,    6.540,2,    0.490,2, -999.000
           NA,HOT timeseries 1988to2019 27SEP2021,     50,  99,-999.0,      13,-999.0,19940619,0442,  22.7478, -158.0713,  4714,  299.400,   14.110,   34.471,2,   34.477,2,  196.700,2,  199.600,2,    6.970,2,    7.570,2,    0.560,2, -999.000
           NA,HOT timeseries 1988to2019 27SEP2021,     50,  99,-999.0,      12,-999.0,19940619,0442,  22.7478, -158.0713,  4714,  343.100,   11.854,   34.257,2,   34.259,2,  203.600,2,  202.300,2,   11.420,2,   11.520,2,    0.830,2, -999.000
           NA,HOT timeseries 1988to2019 27SEP2021,     50,  99,-999.0,      11,-999.0,19940619,0442,  22.7478, -158.0713,  4714,  384.100,   10.644,   34.190,2,   34.194,2,  204.000,2,  201.500,2,   15.950,2,   14.300,2,    1.000,2, -999.000
           NA,HOT timeseries 1988to2019 27SEP2021,     50,  99,-999.0,      32,-999.0,19940619,0442,  22.7478, -158.0713,  4714,  446.700,    8.797,   34.084,2,   34.088,2,  181.300,2,  178.900,2,   26.360,2,   20.090,2,    1.420,2, -999.000
           NA,HOT timeseries 1988to2019 27SEP2021,     50,  99,-999.0,      22,-999.0,19940619,0442,  22.7478, -158.0713,  4714,  502.800,    7.641,   34.046,2,   34.048,2,  154.700,2,  145.400,2,   38.800,2,   25.400,2,    1.740,2, -999.000
           NA,HOT timeseries 1988to2019 27SEP2021,     50,  99,-999.0,       3,-999.0,19940619,0442,  22.7478, -158.0713,  4714,  511.300,    7.033,   34.033,2,   34.036,2,  132.200,2,  129.400,2,   45.230,2,   28.080,2,    2.000,2, -999.000
           NA,HOT timeseries 1988to2019 27SEP2021,     50,  99,-999.0,      29,-999.0,19940619,0442,  22.7478, -158.0713,  4714,  545.600,    6.694,   34.072,2, -999.000,4, -999.000,3,   89.700,2,   53.620,2,   32.040,2,    2.340,2, -999.000
           NA,HOT timeseries 1988to2019 27SEP2021,     50,  99,-999.0,      28,-999.0,19940619,0442,  22.7478, -158.0713,  4714,  608.600,    5.892,   34.106,2,   34.108,2,   68.700,2,   57.500,2,   67.600,2,   36.320,2,    2.680,2, -999.000
           NA,HOT timeseries 1988to2019 27SEP2021,     50,  99,-999.0,       7,-999.0,19940619,0442,  22.7478, -158.0713,  4714,  650.000,    5.460,   34.153,2, -999.000,4, -999.000,3,   41.100,2,   76.770,2,   38.480,2,    2.850,2, -999.000
           NA,HOT timeseries 1988to2019 27SEP2021,     50,  99,-999.0,      23,-999.0,19940619,0442,  22.7478, -158.0713,  4714,  717.400,    5.148,   34.260,2,   34.259,2,   37.000,2,   27.500,2,   85.750,2,   40.300,2,    3.000,2, -999.000
           NA,HOT timeseries 1988to2019 27SEP2021,     50,  99,-999.0,      36,-999.0,19940619,0442,  22.7478, -158.0713,  4714,  797.200,    4.873,   34.368,2,   34.368,2,   36.400,2,   27.600,2,   92.510,2,   41.070,2,    3.050,2, -999.000
           NA,HOT timeseries 1988to2019 27SEP2021,     50,  99,-999.0,      35,-999.0,19940619,0442,  22.7478, -158.0713,  4714,  883.500,    4.527,   34.440,2,   34.440,2,   37.300,2,   31.800,2,   99.140,2,   41.540,2,    3.070,2, -999.000
           NA,HOT timeseries 1988to2019 27SEP2021,     50,  99,-999.0,      34,-999.0,19940619,0442,  22.7478, -158.0713,  4714, 1038.100,    4.022,   34.491,2,   34.494,2,   44.900,2,   42.400,2,  108.980,2,   41.530,2,    3.080,2, -999.000
           NA,HOT timeseries 1988to2019 27SEP2021,     50,  99,-999.0,      33,-999.0,19940619,0442,  22.7478, -158.0713,  4714, 1104.600,    3.781,   34.507,2,   34.509,2,   46.600,2,   45.300,2,  114.060,2,   41.610,2,    3.050,2, -999.000
           NA,HOT timeseries 1988to2019 27SEP2021,     50,  99,-999.0,      20,-999.0,19940619,0442,  22.7478, -158.0713,  4714, 1201.400,    3.604,   34.519,2,   34.520,2,   50.000,2,   49.500,2,  117.770,2,   41.240,2,    3.010,2, -999.000
           NA,HOT timeseries 1988to2019 27SEP2021,     50,  99,-999.0,      19,-999.0,19940619,0442,  22.7478, -158.0713,  4714, 1392.000,    3.119,   34.552,2,   34.552,2,   58.600,2,   58.400,2,  128.910,2,   41.060,2,    3.010,2, -999.000
           NA,HOT timeseries 1988to2019 27SEP2021,     50,  99,-999.0,      18,-999.0,19940619,0442,  22.7478, -158.0713,  4714, 1601.100,    2.693,   34.581,2,   34.582,2,   67.600,2,   69.700,2,  138.760,2,   40.480,2,    2.950,2, -999.000
           NA,HOT timeseries 1988to2019 27SEP2021,     50,  99,-999.0,      17,-999.0,19940619,0442,  22.7478, -158.0713,  4714, 1798.100,    2.383,   34.600,2, -999.000,4, -999.000,3, -999.000,5, -999.000,4, -999.000,4, -999.000,4, -999.000
           NA,HOT timeseries 1988to2019 27SEP2021,     50,  99,-999.0,      16,-999.0,19940619,0442,  22.7478, -158.0713,  4714, 1998.800,    2.125,   34.618,2,   34.622,2,   84.800,2,   87.200,2,  150.220,2,   39.750,2,    2.860,2, -999.000
           NA,HOT timeseries 1988to2019 27SEP2021,     50,  99,-999.0,      15,-999.0,19940619,0442,  22.7478, -158.0713,  4714, 2203.700,    1.923,   34.634,2,   34.632,2,   92.100,2,   97.000,2,  155.000,2,   39.130,2,    2.810,2, -999.000
           NA,HOT timeseries 1988to2019 27SEP2021,     50,  99,-999.0,      14,-999.0,19940619,0442,  22.7478, -158.0713,  4714, 2403.600,    1.789,   34.645,2, -999.000,4, -999.000,3, -999.000,5, -999.000,4, -999.000,4, -999.000,4, -999.000
           NA,HOT timeseries 1988to2019 27SEP2021,     50,  99,-999.0,      13,-999.0,19940619,0442,  22.7478, -158.0713,  4714, 2603.600,    1.685,   34.654,2,   34.653,2,  107.300,2,  110.300,2,  158.860,2,   38.230,2,    2.750,2, -999.000
           NA,HOT timeseries 1988to2019 27SEP2021,     50,  99,-999.0,      12,-999.0,19940619,0442,  22.7478, -158.0713,  4714, 2807.900,    1.603,   34.662,2,   34.663,2,  114.100,2,  118.200,2,  159.210,2,   37.830,2,    2.710,2, -999.000
           NA,HOT timeseries 1988to2019 27SEP2021,     50,  99,-999.0,      11,-999.0,19940619,0442,  22.7478, -158.0713,  4714, 3004.300,    1.556,   34.668,2, -999.000,4, -999.000,3, -999.000,5, -999.000,4, -999.000,4, -999.000,4, -999.000
           NA,HOT timeseries 1988to2019 27SEP2021,     50,  99,-999.0,      32,-999.0,19940619,0442,  22.7478, -158.0713,  4714, 3200.200,    1.521,   34.673,2,   34.675,2,  126.500,2,  129.600,2,  158.110,2,   37.090,2,    2.650,2, -999.000
           NA,HOT timeseries 1988to2019 27SEP2021,     50,  99,-999.0,       3,-999.0,19940619,0442,  22.7478, -158.0713,  4714, 3403.700,    1.484,   34.677,2,   34.676,2,  132.700,2,  135.200,2,  156.390,2,   36.710,2,    2.600,2, -999.000
           NA,HOT timeseries 1988to2019 27SEP2021,     50,  99,-999.0,      29,-999.0,19940619,0442,  22.7478, -158.0713,  4714, 3605.900,    1.463,   34.681,2,   34.679,2,  138.800,2,  140.800,2,  154.380,2,   36.390,2,    2.570,2, -999.000
           NA,HOT timeseries 1988to2019 27SEP2021,     50,  99,-999.0,      28,-999.0,19940619,0442,  22.7478, -158.0713,  4714, 3815.600,    1.455,   34.684,2,   34.682,2,  143.400,2,  144.600,2,  153.580,2,   36.110,2,    2.530,2, -999.000
           NA,HOT timeseries 1988to2019 27SEP2021,     50,  99,-999.0,       7,-999.0,19940619,0442,  22.7478, -158.0713,  4714, 3989.200,    1.456,   34.685,2,   34.685,2,  147.100,2,  147.600,2,  151.490,2,   35.880,2,    2.530,2, -999.000
           NA,HOT timeseries 1988to2019 27SEP2021,     50,  99,-999.0,      23,-999.0,19940619,0442,  22.7478, -158.0713,  4714, 4193.800,    1.463,   34.687,2,   34.687,2,  149.600,2,  149.600,2,  150.070,2,   35.880,2,    2.500,2, -999.000
           NA,HOT timeseries 1988to2019 27SEP2021,     50,  99,-999.0,      36,-999.0,19940619,0442,  22.7478, -158.0713,  4714, 4396.900,    1.477,   34.688,2,   34.687,2,  152.100,2,  151.000,2,  148.990,2,   35.650,2,    2.500,2, -999.000
           NA,HOT timeseries 1988to2019 27SEP2021,     50,  99,-999.0,      35,-999.0,19940619,0442,  22.7478, -158.0713,  4714, 4497.700,    1.486,   34.688,2,   34.687,2,  154.100,2,  151.500,2,  149.230,2,   35.680,2,    2.490,2, -999.000
           NA,HOT timeseries 1988to2019 27SEP2021,     50,  99,-999.0,      34,-999.0,19940619,0442,  22.7478, -158.0713,  4714, 4597.100,    1.496,   34.688,2,   34.688,2,  154.200,2,  152.000,2,  148.980,2,   35.540,2,    2.480,2, -999.000
           NA,HOT timeseries 1988to2019 27SEP2021,     50,  99,-999.0,      33,-999.0,19940619,0442,  22.7478, -158.0713,  4714, 4799.700,    1.509,   34.689,2,   34.690,2,  155.100,2,  154.000,2,  147.460,2,   35.680,2,    2.480,2, -999.000