BOTTLE,20214727JOAExport
EXPOCODE,SECT_ID,STNNBR,CASTNO,SAMPNO,BTLNBR,BTLNBR_FLAG_W,DATE,TIME,LATITUDE,LONGITUDE,DEPTH,CTDPRS,CTDTMP,CTDSAL,CTDSAL_FLAG_W,SALNTY,SALNTY_FLAG_W,CTDOXY,CTDOXY_FLAG_W,OXYGEN,OXYGEN_FLAG_W,SILCAT,SILCAT_FLAG_W,NINI,NINI_FLAG_W,PHSPHT,PHSPHT_FLAG_W,REVP
,,,,,,,,,,,,DB,IPTS-68,PSS-78,,PSS-78,,UMOL/KG,,UMOL/KG,,UMOL/KG,,UMOL/KG,,UMOL/KG,,DBAR
           NA,HOT timeseries 1988to2019 27SEP2021,    229,  99,-999.0,    8024,-999.0,20120817,1519,  22.7498, -157.9997,  4741,    6.000,   25.314,   35.063,2,   35.064,2,  206.600,2,  207.400,2,    1.230,2,    0.010,2,    0.130,2, -999.000
           NA,HOT timeseries 1988to2019 27SEP2021,    229,  99,-999.0,    8024,-999.0,20120817,1519,  22.7498, -157.9997,  4741,    6.400,   25.327,   35.045,2,   35.049,2,  207.700,2,  207.500,2,    1.260,2,    0.010,2,    0.140,2, -999.000
           NA,HOT timeseries 1988to2019 27SEP2021,    229,  99,-999.0,    8023,-999.0,20120817,1519,  22.7498, -157.9997,  4741,   34.300,   25.241,   35.240,2, -999.000,3, -999.000,3,  209.500,2,    1.150,2,    0.020,2,    0.110,2, -999.000
           NA,HOT timeseries 1988to2019 27SEP2021,    229,  99,-999.0,    8022,-999.0,20120817,1519,  22.7498, -157.9997,  4741,   83.600,   23.614,   35.324,2,   35.334,2,  222.800,2,  221.900,2,    1.170,2,    0.020,2,    0.060,2, -999.000
           NA,HOT timeseries 1988to2019 27SEP2021,    229,  99,-999.0,    8021,-999.0,20120817,1519,  22.7498, -157.9997,  4741,  125.900,   22.184,   35.355,2,   35.355,2,  212.300,2,  212.300,2,    1.250,2,    0.030,2,    0.080,2, -999.000
           NA,HOT timeseries 1988to2019 27SEP2021,    229,  99,-999.0,    8020,-999.0,20120817,1519,  22.7498, -157.9997,  4741,  195.600,   19.547,   35.031,2, -999.000,3, -999.000,3,  194.700,2,    2.390,2,    2.310,2,    0.220,2, -999.000
           NA,HOT timeseries 1988to2019 27SEP2021,    229,  99,-999.0,    8019,-999.0,20120817,1519,  22.7498, -157.9997,  4741,  248.000,   15.770,   34.556,2,   34.554,2,  204.300,2,  202.000,2,    5.060,2,    5.120,2,    0.380,2, -999.000
           NA,HOT timeseries 1988to2019 27SEP2021,    229,  99,-999.0,    8018,-999.0,20120817,1519,  22.7498, -157.9997,  4741,  285.200,   13.698,   34.324,2,   34.321,2,  198.000,2,  199.700,2,    7.820,2,    8.330,2,    0.620,2, -999.000
           NA,HOT timeseries 1988to2019 27SEP2021,    229,  99,-999.0,    8017,-999.0,20120817,1519,  22.7498, -157.9997,  4741,  320.800,   12.332,   34.248,2, -999.000,3, -999.000,3,  202.200,2,   11.160,2,   11.220,2,    0.810,2, -999.000
           NA,HOT timeseries 1988to2019 27SEP2021,    229,  99,-999.0,    8016,-999.0,20120817,1519,  22.7498, -157.9997,  4741,  371.300,   10.705,   34.179,2,   34.179,2,  199.800,2,  199.600,2,   16.550,2,   14.690,2,    1.030,2, -999.000
           NA,HOT timeseries 1988to2019 27SEP2021,    229,  99,-999.0,    8015,-999.0,20120817,1519,  22.7498, -157.9997,  4741,  422.600,    8.700,   34.068,2,   34.071,2,  164.800,2,  163.700,2,   28.940,2,   21.640,2,    1.530,2, -999.000
           NA,HOT timeseries 1988to2019 27SEP2021,    229,  99,-999.0,    8014,-999.0,20120817,1519,  22.7498, -157.9997,  4741,  463.400,    7.918,   34.054,2,   34.053,2,  135.900,2,  133.600,2,   38.130,2,   26.020,2,    1.870,2, -999.000
           NA,HOT timeseries 1988to2019 27SEP2021,    229,  99,-999.0,    8025,-999.0,20120817,1519,  22.7498, -157.9997,  4741,  502.800,    7.182,   34.055,2,   34.053,2,  103.400,2,  105.200,2,   47.480,2,   30.020,2,    2.170,2, -999.000
           NA,HOT timeseries 1988to2019 27SEP2021,    229,  99,-999.0,    8012,-999.0,20120817,1519,  22.7498, -157.9997,  4741,  542.300,    6.429,   34.059,2,   34.058,2,   84.500,2,   83.500,2,   57.510,2,   33.280,2,    2.390,2, -999.000
           NA,HOT timeseries 1988to2019 27SEP2021,    229,  99,-999.0,    8011,-999.0,20120817,1519,  22.7498, -157.9997,  4741,  583.000,    5.940,   34.097,2, -999.000,3, -999.000,3,   59.800,2,   66.430,2,   35.930,2,    2.620,2, -999.000
           NA,HOT timeseries 1988to2019 27SEP2021,    229,  99,-999.0,    8010,-999.0,20120817,1519,  22.7498, -157.9997,  4741,  640.100,    5.582,   34.187,2,   34.188,2,   35.800,2,   36.000,2,   76.020,2,   38.450,2,    2.840,2, -999.000
           NA,HOT timeseries 1988to2019 27SEP2021,    229,  99,-999.0,    8009,-999.0,20120817,1519,  22.7498, -157.9997,  4741,  700.200,    5.069,   34.234,2,   34.237,2,   28.200,2,   26.600,2,   86.890,2,   40.460,2,    2.970,2, -999.000
           NA,HOT timeseries 1988to2019 27SEP2021,    229,  99,-999.0,    8008,-999.0,20120817,1519,  22.7498, -157.9997,  4741,  771.100,    4.828,   34.329,2,   34.333,2,   24.000,2,   23.200,2,   92.950,2,   41.260,2,    3.030,2, -999.000
           NA,HOT timeseries 1988to2019 27SEP2021,    229,  99,-999.0,    8026,-999.0,20120817,1519,  22.7498, -157.9997,  4741,  816.200,    4.725,   34.381,2,   34.382,2,   26.700,2,   26.200,2,   95.230,2, -999.000,3, -999.000,3, -999.000
           NA,HOT timeseries 1988to2019 27SEP2021,    229,  99,-999.0,    8006,-999.0,20120817,1519,  22.7498, -157.9997,  4741,  859.700,    4.569,   34.410,2,   34.412,2,   29.000,2,   28.800,2,   98.470,2,   41.350,2,    3.040,2, -999.000
           NA,HOT timeseries 1988to2019 27SEP2021,    229,  99,-999.0,    8005,-999.0,20120817,1519,  22.7498, -157.9997,  4741,  898.300,    4.452,   34.435,2,   34.437,2,   31.300,2,   31.300,2,  100.410,2,   41.510,2,    3.030,2, -999.000
           NA,HOT timeseries 1988to2019 27SEP2021,    229,  99,-999.0,    8004,-999.0,20120817,1519,  22.7498, -157.9997,  4741,  936.200,    4.326,   34.462,2,   34.462,2,   33.700,2,   33.600,2,  102.570,2,   41.930,2,    3.040,2, -999.000
           NA,HOT timeseries 1988to2019 27SEP2021,    229,  99,-999.0,    8003,-999.0,20120817,1519,  22.7498, -157.9997,  4741,  974.100,    4.261,   34.476,2,   34.477,2,   35.100,2,   35.900,2,  103.820,2,   41.650,2,    3.030,2, -999.000
           NA,HOT timeseries 1988to2019 27SEP2021,    229,  99,-999.0,    8001,-999.0,20120817,1519,  22.7498, -157.9997,  4741, 1020.200,    4.089,   34.489,2,   34.491,2,   40.600,2,   39.700,2,  106.460,2,   41.540,2,    3.010,2, -999.000
           NA,HOT timeseries 1988to2019 27SEP2021,    229,  99,-999.0,    8020,-999.0,20120817,1519,  22.7498, -157.9997,  4741, 1198.900,    3.542,   34.532,2,   34.531,2,   50.400,2,   50.400,2,  118.170,2,   41.430,2,    2.970,2, -999.000
           NA,HOT timeseries 1988to2019 27SEP2021,    229,  99,-999.0,    8019,-999.0,20120817,1519,  22.7498, -157.9997,  4741, 1399.900,    3.147,   34.557,2,   34.557,2,   57.700,2,   57.200,2,  127.140,2,   41.180,2,    2.940,2, -999.000
           NA,HOT timeseries 1988to2019 27SEP2021,    229,  99,-999.0,    8018,-999.0,20120817,1519,  22.7498, -157.9997,  4741, 1599.700,    2.731,   34.581,2,   34.581,2,   67.500,2,   68.800,2,  136.340,2,   40.600,2,    2.890,2, -999.000
           NA,HOT timeseries 1988to2019 27SEP2021,    229,  99,-999.0,    8017,-999.0,20120817,1519,  22.7498, -157.9997,  4741, 1799.300,    2.437,   34.599,2,   34.599,2,   76.900,2,   77.500,2,  143.130,2,   40.080,2,    2.840,2, -999.000
           NA,HOT timeseries 1988to2019 27SEP2021,    229,  99,-999.0,    8016,-999.0,20120817,1519,  22.7498, -157.9997,  4741, 1999.400,    2.192,   34.617,2,   34.617,2,   85.700,2,   86.300,2,  148.460,2,   39.520,2,    2.790,2, -999.000
           NA,HOT timeseries 1988to2019 27SEP2021,    229,  99,-999.0,    8015,-999.0,20120817,1519,  22.7498, -157.9997,  4741, 2199.600,    2.000,   34.630,2,   34.630,2,   93.500,2,   93.900,2,  152.650,2,   39.110,2,    2.750,2, -999.000
           NA,HOT timeseries 1988to2019 27SEP2021,    229,  99,-999.0,    8014,-999.0,20120817,1519,  22.7498, -157.9997,  4741, 2399.600,    1.857,   34.642,2,   34.642,2,  100.400,2,  101.400,2,  155.330,2,   38.760,2,    2.720,2, -999.000
           NA,HOT timeseries 1988to2019 27SEP2021,    229,  99,-999.0,    8025,-999.0,20120817,1519,  22.7498, -157.9997,  4741, 2599.800,    1.718,   34.653,2,   34.652,2,  106.700,2,  107.800,2,  159.020,2,   38.420,2,    2.690,2, -999.000
           NA,HOT timeseries 1988to2019 27SEP2021,    229,  99,-999.0,    8012,-999.0,20120817,1519,  22.7498, -157.9997,  4741, 2799.200,    1.633,   34.661,2,   34.662,2,  114.200,2,  115.000,2,  160.070,2,   38.010,2,    2.650,2, -999.000
           NA,HOT timeseries 1988to2019 27SEP2021,    229,  99,-999.0,    8011,-999.0,20120817,1519,  22.7498, -157.9997,  4741, 2999.500,    1.577,   34.668,2,   34.667,2,  120.600,2,  121.400,2,  159.680,2,   37.400,2,    2.610,2, -999.000
           NA,HOT timeseries 1988to2019 27SEP2021,    229,  99,-999.0,    8010,-999.0,20120817,1519,  22.7498, -157.9997,  4741, 3199.700,    1.539,   34.672,2,   34.672,2,  126.900,2,  126.100,2,  158.740,2,   37.000,2,    2.580,2, -999.000
           NA,HOT timeseries 1988to2019 27SEP2021,    229,  99,-999.0,    8009,-999.0,20120817,1519,  22.7498, -157.9997,  4741, 3399.300,    1.502,   34.677,2,   34.677,2,  132.500,2,  132.200,2,  157.300,2,   36.720,2,    2.550,2, -999.000
           NA,HOT timeseries 1988to2019 27SEP2021,    229,  99,-999.0,    8008,-999.0,20120817,1519,  22.7498, -157.9997,  4741, 3599.600,    1.476,   34.681,2,   34.681,2,  139.000,2,  139.000,2,  155.220,2,   36.320,2,    2.530,2, -999.000
           NA,HOT timeseries 1988to2019 27SEP2021,    229,  99,-999.0,    8026,-999.0,20120817,1519,  22.7498, -157.9997,  4741, 3798.700,    1.471,   34.683,2,   34.682,2,  142.500,2, -999.000,4,  153.600,2,   35.950,2,    2.520,2, -999.000
           NA,HOT timeseries 1988to2019 27SEP2021,    229,  99,-999.0,    8006,-999.0,20120817,1519,  22.7498, -157.9997,  4741, 3999.300,    1.463,   34.685,2,   34.685,2,  147.000,2,  146.500,2,  151.120,2,   35.590,2,    2.480,2, -999.000
           NA,HOT timeseries 1988to2019 27SEP2021,    229,  99,-999.0,    8005,-999.0,20120817,1519,  22.7498, -157.9997,  4741, 4200.400,    1.465,   34.687,2,   34.688,2,  150.300,2,  149.700,2,  149.640,2,   35.460,2,    2.480,2, -999.000
           NA,HOT timeseries 1988to2019 27SEP2021,    229,  99,-999.0,    8004,-999.0,20120817,1519,  22.7498, -157.9997,  4741, 4400.500,    1.480,   34.688,2,   34.688,2,  151.800,2,  151.100,2,  148.440,2,   35.460,2,    2.480,2, -999.000
           NA,HOT timeseries 1988to2019 27SEP2021,    229,  99,-999.0,    8003,-999.0,20120817,1519,  22.7498, -157.9997,  4741, 4500.100,    1.486,   34.688,2,   34.689,2,  152.300,2,  151.700,2,  148.490,2,   35.250,2,    2.470,2, -999.000
           NA,HOT timeseries 1988to2019 27SEP2021,    229,  99,-999.0,    8002,-999.0,20120817,1519,  22.7498, -157.9997,  4741, 4600.300,    1.494,   34.688,2,   34.689,2,  152.400,2, -999.000,4,  148.030,2,   35.120,2,    2.460,2, -999.000
           NA,HOT timeseries 1988to2019 27SEP2021,    229,  99,-999.0,    8001,-999.0,20120817,1519,  22.7498, -157.9997,  4741, 4808.800,    1.517,   34.689,2,   34.689,2,  152.800,2,  153.500,2,  147.090,2,   35.160,2,    2.440,2, -999.000