BOTTLE,20214727JOAExport
EXPOCODE,SECT_ID,STNNBR,CASTNO,SAMPNO,BTLNBR,BTLNBR_FLAG_W,DATE,TIME,LATITUDE,LONGITUDE,DEPTH,CTDPRS,CTDTMP,CTDSAL,CTDSAL_FLAG_W,SALNTY,SALNTY_FLAG_W,CTDOXY,CTDOXY_FLAG_W,OXYGEN,OXYGEN_FLAG_W,SILCAT,SILCAT_FLAG_W,NINI,NINI_FLAG_W,PHSPHT,PHSPHT_FLAG_W,REVP
,,,,,,,,,,,,DB,IPTS-68,PSS-78,,PSS-78,,UMOL/KG,,UMOL/KG,,UMOL/KG,,UMOL/KG,,UMOL/KG,,DBAR
           NA,HOT timeseries 1988to2019 27SEP2021,    111,  99,-999.0,      31,-999.0,20000523,1358,  22.7502, -158.0013,  4722,    5.000,   24.600,   34.984,2,   34.989,2,  211.000,2,  211.000,2,    1.640,2,    0.010,2,    0.080,2, -999.000
           NA,HOT timeseries 1988to2019 27SEP2021,    111,  99,-999.0,      31,-999.0,20000523,1358,  22.7502, -158.0013,  4722,   33.300,   24.480,   34.964,2,   34.962,2,  211.100,2,  211.800,2,    1.410,2,    0.000,2,    0.060,2, -999.000
           NA,HOT timeseries 1988to2019 27SEP2021,    111,  99,-999.0,      30,-999.0,20000523,1358,  22.7502, -158.0013,  4722,   59.000,   23.698,   35.108,2,   35.109,2,  217.100,2,  218.100,2,    1.740,2,    0.000,2,    0.050,2, -999.000
           NA,HOT timeseries 1988to2019 27SEP2021,    111,  99,-999.0,      22,-999.0,20000523,1358,  22.7502, -158.0013,  4722,   75.800,   23.334,   35.248,2,   35.245,2,  218.000,2,  218.700,2,    1.420,2,    0.000,2,    0.020,2, -999.000
           NA,HOT timeseries 1988to2019 27SEP2021,    111,  99,-999.0,      21,-999.0,20000523,1358,  22.7502, -158.0013,  4722,  124.600,   22.252,   35.312,2,   35.312,2,  210.900,2,  210.700,2,    1.550,2,    0.010,2,    0.060,2, -999.000
           NA,HOT timeseries 1988to2019 27SEP2021,    111,  99,-999.0,      20,-999.0,20000523,1358,  22.7502, -158.0013,  4722,  159.900,   21.246,   35.243,2,   35.243,2,  202.400,2,  202.100,2,    1.970,2,    0.740,2,    0.130,2, -999.000
           NA,HOT timeseries 1988to2019 27SEP2021,    111,  99,-999.0,      19,-999.0,20000523,1358,  22.7502, -158.0013,  4722,  202.200,   19.737,   35.139,2,   35.140,2,  197.600,2,  196.500,2,    2.450,2,    1.910,2,    0.160,2, -999.000
           NA,HOT timeseries 1988to2019 27SEP2021,    111,  99,-999.0,      18,-999.0,20000523,1358,  22.7502, -158.0013,  4722,  249.400,   17.874,   34.905,2,   34.896,2,  199.700,2,  198.300,2,    3.560,2,    3.140,2,    0.240,2, -999.000
           NA,HOT timeseries 1988to2019 27SEP2021,    111,  99,-999.0,      17,-999.0,20000523,1358,  22.7502, -158.0013,  4722,  273.700,   16.818,   34.759,2,   34.764,2,  199.600,2,  198.600,2,    4.300,2,    4.020,2,    0.300,2, -999.000
           NA,HOT timeseries 1988to2019 27SEP2021,    111,  99,-999.0,      16,-999.0,20000523,1358,  22.7502, -158.0013,  4722,  333.500,   12.757,   34.301,2,   34.298,2,  206.200,2,  204.500,2,    9.270,2,    9.350,2,    0.710,2, -999.000
           NA,HOT timeseries 1988to2019 27SEP2021,    111,  99,-999.0,      23,-999.0,20000523,1358,  22.7502, -158.0013,  4722,  382.100,   10.795,   34.165,2,   34.163,2,  189.100,2,  190.000,2,   15.960,2,   14.810,2,    1.080,2, -999.000
           NA,HOT timeseries 1988to2019 27SEP2021,    111,  99,-999.0,      14,-999.0,20000523,1358,  22.7502, -158.0013,  4722,  433.300,    9.590,   34.122,2,   34.122,2,  162.400,2,  163.400,2,   23.860,2,   19.790,2,    1.410,2, -999.000
           NA,HOT timeseries 1988to2019 27SEP2021,    111,  99,-999.0,      13,-999.0,20000523,1358,  22.7502, -158.0013,  4722,  494.500,    7.745,   34.075,2,   34.074,2,  124.100,2,  124.900,2,   40.480,2,   26.820,2,    1.960,2, -999.000
           NA,HOT timeseries 1988to2019 27SEP2021,    111,  99,-999.0,      12,-999.0,20000523,1358,  22.7502, -158.0013,  4722,  542.700,    6.707,   34.062,2,   34.062,2,   97.400,2,   98.500,2,   53.600,2,   31.380,2,    2.260,2, -999.000
           NA,HOT timeseries 1988to2019 27SEP2021,    111,  99,-999.0,      11,-999.0,20000523,1358,  22.7502, -158.0013,  4722,  588.700,    5.943,   34.077,2,   34.076,2,   75.100,2,   74.400,2,   65.850,2,   34.930,2,    2.520,2, -999.000
           NA,HOT timeseries 1988to2019 27SEP2021,    111,  99,-999.0,      32,-999.0,20000523,1358,  22.7502, -158.0013,  4722,  646.900,    5.457,   34.146,2,   34.146,2,   51.000,2,   47.800,2,   77.630,2,   37.950,2,    2.760,2, -999.000
           NA,HOT timeseries 1988to2019 27SEP2021,    111,  99,-999.0,       3,-999.0,20000523,1358,  22.7502, -158.0013,  4722,  711.800,    5.064,   34.217,2,   34.215,2,   36.900,2,   36.100,2,   87.180,2,   39.600,2,    2.920,2, -999.000
           NA,HOT timeseries 1988to2019 27SEP2021,    111,  99,-999.0,      29,-999.0,20000523,1358,  22.7502, -158.0013,  4722,  744.100,    4.802,   34.263,2,   34.259,2,   31.300,2,   29.900,2,   93.540,2,   40.590,2,    3.010,2, -999.000
           NA,HOT timeseries 1988to2019 27SEP2021,    111,  99,-999.0,      28,-999.0,20000523,1358,  22.7502, -158.0013,  4722,  777.200,    4.608,   34.301,2,   34.299,2,   28.600,2,   27.100,2,   98.730,2,   41.170,2,    3.060,2, -999.000
           NA,HOT timeseries 1988to2019 27SEP2021,    111,  99,-999.0,       7,-999.0,20000523,1358,  22.7502, -158.0013,  4722,  819.600,    4.460,   34.344,2,   34.340,2,   28.700,2,   27.500,2,  102.100,2,   41.370,2,    3.060,2, -999.000
           NA,HOT timeseries 1988to2019 27SEP2021,    111,  99,-999.0,      38,-999.0,20000523,1358,  22.7502, -158.0013,  4722,  853.500,    4.331,   34.379,2,   34.378,2,   29.500,2,   28.900,2,  104.570,2,   41.520,2,    3.070,2, -999.000
           NA,HOT timeseries 1988to2019 27SEP2021,    111,  99,-999.0,      36,-999.0,20000523,1358,  22.7502, -158.0013,  4722,  898.800,    4.249,   34.407,2,   34.404,2,   32.600,2,   31.900,2,  106.440,2,   41.370,2,    3.070,2, -999.000
           NA,HOT timeseries 1988to2019 27SEP2021,    111,  99,-999.0,      35,-999.0,20000523,1358,  22.7502, -158.0013,  4722,  939.500,    4.147,   34.433,2,   34.430,2,   34.800,2,   35.000,2,  108.990,2,   41.560,2,    3.060,2, -999.000
           NA,HOT timeseries 1988to2019 27SEP2021,    111,  99,-999.0,      33,-999.0,20000523,1358,  22.7502, -158.0013,  4722, 1008.900,    3.990,   34.466,2,   34.464,2,   39.300,2,   39.600,2,  112.150,2,   41.400,2,    3.050,2, -999.000
           NA,HOT timeseries 1988to2019 27SEP2021,    111,  99,-999.0,      20,-999.0,20000523,1358,  22.7502, -158.0013,  4722, 1199.800,    3.512,   34.520,2,   34.519,2,   49.400,2,   49.900,2,  121.340,2,   41.130,2,    2.980,2, -999.000
           NA,HOT timeseries 1988to2019 27SEP2021,    111,  99,-999.0,      19,-999.0,20000523,1358,  22.7502, -158.0013,  4722, 1399.200,    3.056,   34.555,2,   34.555,2,   59.700,2,   60.100,2,  131.640,2,   40.730,2,    2.950,2, -999.000
           NA,HOT timeseries 1988to2019 27SEP2021,    111,  99,-999.0,      18,-999.0,20000523,1358,  22.7502, -158.0013,  4722, 1600.500,    2.659,   34.583,2,   34.582,2,   69.200,2,   69.600,2,  141.530,2,   40.270,2,    2.870,2, -999.000
           NA,HOT timeseries 1988to2019 27SEP2021,    111,  99,-999.0,      17,-999.0,20000523,1358,  22.7502, -158.0013,  4722, 1800.100,    2.308,   34.602,2,   34.604,2,   78.600,2,   79.200,2,  149.270,2,   39.910,2,    2.860,2, -999.000
           NA,HOT timeseries 1988to2019 27SEP2021,    111,  99,-999.0,      16,-999.0,20000523,1358,  22.7502, -158.0013,  4722, 2000.000,    2.082,   34.619,2,   34.618,2,   85.700,2,   86.400,2,  154.930,2,   39.540,2,    2.810,2, -999.000
           NA,HOT timeseries 1988to2019 27SEP2021,    111,  99,-999.0,      23,-999.0,20000523,1358,  22.7502, -158.0013,  4722, 2200.900,    1.892,   34.633,2,   34.634,2,   93.300,2,   94.100,2,  158.260,2,   39.130,2,    2.790,2, -999.000
           NA,HOT timeseries 1988to2019 27SEP2021,    111,  99,-999.0,      14,-999.0,20000523,1358,  22.7502, -158.0013,  4722, 2400.000,    1.753,   34.644,2,   34.644,2,  100.800,2,  101.800,2,  162.050,2,   38.620,2,    2.750,2, -999.000
           NA,HOT timeseries 1988to2019 27SEP2021,    111,  99,-999.0,      13,-999.0,20000523,1358,  22.7502, -158.0013,  4722, 2600.500,    1.667,   34.653,2,   34.653,2,  108.200,2,  108.900,2,  161.750,2,   38.070,2,    2.690,2, -999.000
           NA,HOT timeseries 1988to2019 27SEP2021,    111,  99,-999.0,      12,-999.0,20000523,1358,  22.7502, -158.0013,  4722, 2799.900,    1.597,   34.661,2,   34.661,2,  116.100,2,  116.800,2,  161.390,2,   37.610,2,    2.620,2, -999.000
           NA,HOT timeseries 1988to2019 27SEP2021,    111,  99,-999.0,      11,-999.0,20000523,1358,  22.7502, -158.0013,  4722, 2999.200,    1.546,   34.668,2,   34.668,2,  123.900,2,  124.900,2,  160.670,2,   37.070,2,    2.620,2, -999.000
           NA,HOT timeseries 1988to2019 27SEP2021,    111,  99,-999.0,      32,-999.0,20000523,1358,  22.7502, -158.0013,  4722, 3200.000,    1.499,   34.674,2, -999.000,4, -999.000,3,  130.400,2,  157.200,2,   36.850,2, -999.000,3, -999.000
           NA,HOT timeseries 1988to2019 27SEP2021,    111,  99,-999.0,       3,-999.0,20000523,1358,  22.7502, -158.0013,  4722, 3399.900,    1.466,   34.678,2,   34.679,2,  137.700,2,  138.700,2,  156.750,2,   36.280,2, -999.000,3, -999.000
           NA,HOT timeseries 1988to2019 27SEP2021,    111,  99,-999.0,      29,-999.0,20000523,1358,  22.7502, -158.0013,  4722, 3599.600,    1.453,   34.681,2,   34.681,2,  142.100,2,  142.200,2,  154.990,2,   36.100,2,    2.570,2, -999.000
           NA,HOT timeseries 1988to2019 27SEP2021,    111,  99,-999.0,      28,-999.0,20000523,1358,  22.7502, -158.0013,  4722, 3799.600,    1.452,   34.683,2,   34.684,2,  145.100,2,  145.100,2,  153.420,2,   35.970,2,    2.530,2, -999.000
           NA,HOT timeseries 1988to2019 27SEP2021,    111,  99,-999.0,       7,-999.0,20000523,1358,  22.7502, -158.0013,  4722, 4000.400,    1.453,   34.684,2,   34.686,2,  148.200,2,  148.300,2,  151.970,2,   35.710,2,    2.550,2, -999.000
           NA,HOT timeseries 1988to2019 27SEP2021,    111,  99,-999.0,      38,-999.0,20000523,1358,  22.7502, -158.0013,  4722, 4201.100,    1.463,   34.686,2,   34.685,2,  150.600,2,  150.200,2,  151.130,2,   35.380,2,    2.490,2, -999.000
           NA,HOT timeseries 1988to2019 27SEP2021,    111,  99,-999.0,      36,-999.0,20000523,1358,  22.7502, -158.0013,  4722, 4400.900,    1.478,   34.686,2,   34.687,2,  151.800,2,  151.200,2,  150.600,2,   35.400,2,    2.490,2, -999.000
           NA,HOT timeseries 1988to2019 27SEP2021,    111,  99,-999.0,      35,-999.0,20000523,1358,  22.7502, -158.0013,  4722, 4502.000,    1.487,   34.686,2, -999.000,3, -999.000,3,  151.900,2,  150.450,2,   35.350,2,    2.470,2, -999.000
           NA,HOT timeseries 1988to2019 27SEP2021,    111,  99,-999.0,      34,-999.0,20000523,1358,  22.7502, -158.0013,  4722, 4602.500,    1.497,   34.686,2,   34.686,2,  152.700,2,  151.900,2,  150.150,2,   35.420,2,    2.490,2, -999.000
           NA,HOT timeseries 1988to2019 27SEP2021,    111,  99,-999.0,      33,-999.0,20000523,1358,  22.7502, -158.0013,  4722, 4807.200,    1.512,   34.687,2, -999.000,4, -999.000,3,  153.500,2,  148.750,2,   35.340,2,    2.460,2, -999.000