BOTTLE,20214727JOAExport
EXPOCODE,SECT_ID,STNNBR,CASTNO,SAMPNO,BTLNBR,BTLNBR_FLAG_W,DATE,TIME,LATITUDE,LONGITUDE,DEPTH,CTDPRS,CTDTMP,CTDSAL,CTDSAL_FLAG_W,SALNTY,SALNTY_FLAG_W,CTDOXY,CTDOXY_FLAG_W,OXYGEN,OXYGEN_FLAG_W,SILCAT,SILCAT_FLAG_W,NINI,NINI_FLAG_W,PHSPHT,PHSPHT_FLAG_W,REVP
,,,,,,,,,,,,DB,IPTS-68,PSS-78,,PSS-78,,UMOL/KG,,UMOL/KG,,UMOL/KG,,UMOL/KG,,UMOL/KG,,DBAR
           NA,HOT timeseries 1988to2019 27SEP2021,    143,  99,-999.0,      31,-999.0,20030423,1831,  22.7478, -157.9920,  4724,    4.100,   24.594,   34.984,2,   34.980,2,  233.800,2, -999.000,3,    1.030,2,    0.020,2,    0.030,2, -999.000
           NA,HOT timeseries 1988to2019 27SEP2021,    143,  99,-999.0,      30,-999.0,20030423,1831,  22.7478, -157.9920,  4724,   57.900,   23.292,   35.368,2,   35.365,2,  241.800,2, -999.000,3,    1.230,2,    0.030,2,    0.060,2, -999.000
           NA,HOT timeseries 1988to2019 27SEP2021,    143,  99,-999.0,      22,-999.0,20030423,1831,  22.7478, -157.9920,  4724,   83.500,   21.581,   35.335,2,   35.346,2,  245.800,2, -999.000,3,    1.470,2,    0.040,2,    0.070,2, -999.000
           NA,HOT timeseries 1988to2019 27SEP2021,    143,  99,-999.0,      21,-999.0,20030423,1831,  22.7478, -157.9920,  4724,  123.100,   19.411,   35.102,2,   35.108,2,  226.900,2, -999.000,3,    2.270,2,    1.190,2, -999.000,4, -999.000
           NA,HOT timeseries 1988to2019 27SEP2021,    143,  99,-999.0,      20,-999.0,20030423,1831,  22.7478, -157.9920,  4724,  160.400,   17.614,   34.839,2,   34.840,2,  231.400,2, -999.000,3,    3.200,2,    2.440,2, -999.000,4, -999.000
           NA,HOT timeseries 1988to2019 27SEP2021,    143,  99,-999.0,      19,-999.0,20030423,1831,  22.7478, -157.9920,  4724,  197.800,   16.143,   34.640,2,   34.638,2,  217.800,2, -999.000,3,    4.030,2,    5.170,2,    0.410,2, -999.000
           NA,HOT timeseries 1988to2019 27SEP2021,    143,  99,-999.0,      18,-999.0,20030423,1831,  22.7478, -157.9920,  4724,  240.400,   13.717,   34.365,2,   34.370,2,  223.100,2, -999.000,3,    6.950,2,    8.180,2,    0.610,2, -999.000
           NA,HOT timeseries 1988to2019 27SEP2021,    143,  99,-999.0,      17,-999.0,20030423,1831,  22.7478, -157.9920,  4724,  280.300,   12.096,   34.241,2,   34.244,2,  219.800,2, -999.000,3,    9.870,2,   11.260,2,    0.800,2, -999.000
           NA,HOT timeseries 1988to2019 27SEP2021,    143,  99,-999.0,      16,-999.0,20030423,1831,  22.7478, -157.9920,  4724,  318.500,   11.499,   34.211,2,   34.210,2,  218.700,2, -999.000,3,   11.810,2,   12.530,2,    0.900,2, -999.000
           NA,HOT timeseries 1988to2019 27SEP2021,    143,  99,-999.0,      23,-999.0,20030423,1831,  22.7478, -157.9920,  4724,  357.300,   10.511,   34.174,2,   34.171,2,  213.300,2, -999.000,3,   15.700,2,   15.050,2,    1.070,2, -999.000
           NA,HOT timeseries 1988to2019 27SEP2021,    143,  99,-999.0,      40,-999.0,20030423,1831,  22.7478, -157.9920,  4724,  427.400,    8.930,   34.102,2,   34.108,2,  185.400,2, -999.000,3,   26.360,2,   20.950,2,    1.480,2, -999.000
           NA,HOT timeseries 1988to2019 27SEP2021,    143,  99,-999.0,      13,-999.0,20030423,1831,  22.7478, -157.9920,  4724,  483.300,    7.186,   34.033,2,   34.034,2,  132.000,2, -999.000,3,   43.550,2,   28.510,2,    2.040,2, -999.000
           NA,HOT timeseries 1988to2019 27SEP2021,    143,  99,-999.0,      12,-999.0,20030423,1831,  22.7478, -157.9920,  4724,  523.600,    6.520,   34.036,2,   34.034,2,  106.300,2, -999.000,3,   53.000,2,   32.110,2,    2.280,2, -999.000
           NA,HOT timeseries 1988to2019 27SEP2021,    143,  99,-999.0,      39,-999.0,20030423,1831,  22.7478, -157.9920,  4724,  560.900,    5.827,   34.060,2,   34.059,2,   77.600,2, -999.000,3,   63.060,2,   35.450,2,    2.560,2, -999.000
           NA,HOT timeseries 1988to2019 27SEP2021,    143,  99,-999.0,      32,-999.0,20030423,1831,  22.7478, -157.9920,  4724,  617.600,    5.353,   34.107,2,   34.108,2,   59.000,2, -999.000,3,   75.530,2,   38.150,2, -999.000,4, -999.000
           NA,HOT timeseries 1988to2019 27SEP2021,    143,  99,-999.0,       3,-999.0,20030423,1831,  22.7478, -157.9920,  4724,  685.000,    5.153,   34.230,2,   34.229,2,   33.500,2, -999.000,4,   83.040,2,   40.490,2,    2.980,2, -999.000
           NA,HOT timeseries 1988to2019 27SEP2021,    143,  99,-999.0,      29,-999.0,20030423,1831,  22.7478, -157.9920,  4724,  753.100,    4.927,   34.329,2,   34.329,2,   26.400,2, -999.000,3,   89.580,2,   41.590,2,    3.070,2, -999.000
           NA,HOT timeseries 1988to2019 27SEP2021,    143,  99,-999.0,       7,-999.0,20030423,1831,  22.7478, -157.9920,  4724,  838.800,    4.610,   34.412,2,   34.410,2,   30.500,2, -999.000,3,   93.730,2,   42.110,2,    3.080,2, -999.000
           NA,HOT timeseries 1988to2019 27SEP2021,    143,  99,-999.0,      38,-999.0,20030423,1831,  22.7478, -157.9920,  4724,  875.500,    4.506,   34.431,2,   34.432,2,   32.700,2, -999.000,3, -999.000,4,   42.270,2,    3.060,2, -999.000
           NA,HOT timeseries 1988to2019 27SEP2021,    143,  99,-999.0,      36,-999.0,20030423,1831,  22.7478, -157.9920,  4724,  911.500,    4.356,   34.458,2,   34.457,2,   35.600,2, -999.000,3, -999.000,4,   42.100,2,    3.070,2, -999.000
           NA,HOT timeseries 1988to2019 27SEP2021,    143,  99,-999.0,      35,-999.0,20030423,1831,  22.7478, -157.9920,  4724,  947.300,    4.250,   34.473,2,   34.472,2,   37.800,2, -999.000,3, -999.000,4,   42.170,2,    3.050,2, -999.000
           NA,HOT timeseries 1988to2019 27SEP2021,    143,  99,-999.0,      21,-999.0,20030423,1831,  22.7478, -157.9920,  4724, 1001.600,    4.056,   34.493,2,   34.494,2,   37.200,2, -999.000,3, -999.000,4,   42.190,2,    3.050,2, -999.000
           NA,HOT timeseries 1988to2019 27SEP2021,    143,  99,-999.0,      33,-999.0,20030423,1831,  22.7478, -157.9920,  4724, 1022.500,    4.041,   34.496,2,   34.497,2,   42.300,2, -999.000,3, -999.000,4,   42.070,2,    3.030,2, -999.000
           NA,HOT timeseries 1988to2019 27SEP2021,    143,  99,-999.0,      20,-999.0,20030423,1831,  22.7478, -157.9920,  4724, 1200.000,    3.545,   34.535,2,   34.534,2,   45.100,2, -999.000,3,  117.980,2, -999.000,3,    3.030,2, -999.000
           NA,HOT timeseries 1988to2019 27SEP2021,    143,  99,-999.0,      19,-999.0,20030423,1831,  22.7478, -157.9920,  4724, 1401.600,    3.078,   34.556,2,   34.559,2,   57.700,2, -999.000,3,  128.350,2,   41.300,2,    2.940,2, -999.000
           NA,HOT timeseries 1988to2019 27SEP2021,    143,  99,-999.0,      18,-999.0,20030423,1831,  22.7478, -157.9920,  4724, 1601.100,    2.686,   34.584,2,   34.583,2,   69.600,2, -999.000,3,  136.250,2,   41.000,2,    2.910,2, -999.000
           NA,HOT timeseries 1988to2019 27SEP2021,    143,  99,-999.0,      17,-999.0,20030423,1831,  22.7478, -157.9920,  4724, 1798.700,    2.386,   34.602,2,   34.601,2,   77.600,2, -999.000,3,  143.650,2, -999.000,3,    2.870,2, -999.000
           NA,HOT timeseries 1988to2019 27SEP2021,    143,  99,-999.0,      16,-999.0,20030423,1831,  22.7478, -157.9920,  4724, 1999.100,    2.121,   34.618,2,   34.618,2,   85.400,2, -999.000,3,  150.070,2, -999.000,3,    2.810,2, -999.000
           NA,HOT timeseries 1988to2019 27SEP2021,    143,  99,-999.0,      23,-999.0,20030423,1831,  22.7478, -157.9920,  4724, 2200.200,    1.972,   34.630,2,   34.630,2,   92.400,2, -999.000,3,  152.730,2, -999.000,3,    2.780,2, -999.000
           NA,HOT timeseries 1988to2019 27SEP2021,    143,  99,-999.0,      40,-999.0,20030423,1831,  22.7478, -157.9920,  4724, 2400.100,    1.812,   34.644,2,   34.643,2,  102.000,2, -999.000,3,  157.180,2, -999.000,3,    2.730,2, -999.000
           NA,HOT timeseries 1988to2019 27SEP2021,    143,  99,-999.0,      13,-999.0,20030423,1831,  22.7478, -157.9920,  4724, 2599.300,    1.702,   34.654,2,   34.654,2,  109.300,2, -999.000,3,  157.740,2, -999.000,3,    2.680,2, -999.000
           NA,HOT timeseries 1988to2019 27SEP2021,    143,  99,-999.0,      12,-999.0,20030423,1831,  22.7478, -157.9920,  4724, 2798.700,    1.621,   34.662,2,   34.663,2,  116.400,2, -999.000,3,  158.850,2, -999.000,3,    2.670,2, -999.000
           NA,HOT timeseries 1988to2019 27SEP2021,    143,  99,-999.0,      39,-999.0,20030423,1831,  22.7478, -157.9920,  4724, 3000.200,    1.564,   34.669,2,   34.669,2,  122.100,2, -999.000,3,  158.160,2, -999.000,3,    2.640,2, -999.000
           NA,HOT timeseries 1988to2019 27SEP2021,    143,  99,-999.0,      32,-999.0,20030423,1831,  22.7478, -157.9920,  4724, 3198.300,    1.523,   34.674,2,   34.674,2,  128.000,2, -999.000,3,  158.090,2, -999.000,3,    2.600,2, -999.000
           NA,HOT timeseries 1988to2019 27SEP2021,    143,  99,-999.0,       3,-999.0,20030423,1831,  22.7478, -157.9920,  4724, 3398.200,    1.486,   34.678,2,   34.678,2,  134.600,2, -999.000,3,  156.840,2, -999.000,3,    2.570,2, -999.000
           NA,HOT timeseries 1988to2019 27SEP2021,    143,  99,-999.0,      29,-999.0,20030423,1831,  22.7478, -157.9920,  4724, 3599.700,    1.467,   34.682,2,   34.681,2,  140.000,2, -999.000,3,  154.600,2, -999.000,3,    2.540,2, -999.000
           NA,HOT timeseries 1988to2019 27SEP2021,    143,  99,-999.0,      28,-999.0,20030423,1831,  22.7478, -157.9920,  4724, 3799.500,    1.459,   34.685,2,   34.684,2,  144.200,2, -999.000,3,  153.090,2, -999.000,3,    2.520,2, -999.000
           NA,HOT timeseries 1988to2019 27SEP2021,    143,  99,-999.0,       7,-999.0,20030423,1831,  22.7478, -157.9920,  4724, 4000.700,    1.461,   34.686,2,   34.686,2,  147.200,2, -999.000,3,  152.060,2, -999.000,3,    2.500,2, -999.000
           NA,HOT timeseries 1988to2019 27SEP2021,    143,  99,-999.0,      38,-999.0,20030423,1831,  22.7478, -157.9920,  4724, 4199.500,    1.467,   34.688,2,   34.687,2,  149.600,2, -999.000,3,  150.950,2, -999.000,3,    2.490,2, -999.000
           NA,HOT timeseries 1988to2019 27SEP2021,    143,  99,-999.0,      36,-999.0,20030423,1831,  22.7478, -157.9920,  4724, 4400.000,    1.480,   34.689,2,   34.688,2,  151.400,2, -999.000,3,  150.400,2, -999.000,3,    2.480,2, -999.000
           NA,HOT timeseries 1988to2019 27SEP2021,    143,  99,-999.0,      35,-999.0,20030423,1831,  22.7478, -157.9920,  4724, 4494.300,    1.488,   34.689,2,   34.690,2,  152.100,2, -999.000,3,  150.120,2, -999.000,3,    2.480,2, -999.000
           NA,HOT timeseries 1988to2019 27SEP2021,    143,  99,-999.0,      34,-999.0,20030423,1831,  22.7478, -157.9920,  4724, 4601.000,    1.497,   34.690,2,   34.688,2,  152.600,2, -999.000,3,  147.630,2, -999.000,3,    2.470,2, -999.000
           NA,HOT timeseries 1988to2019 27SEP2021,    143,  99,-999.0,      33,-999.0,20030423,1831,  22.7478, -157.9920,  4724, 4794.300,    1.520,   34.690,2,   34.690,2,  152.600,2, -999.000,3,  148.580,2, -999.000,3, -999.000,3, -999.000