BOTTLE,20214727JOAExport
EXPOCODE,SECT_ID,STNNBR,CASTNO,SAMPNO,BTLNBR,BTLNBR_FLAG_W,DATE,TIME,LATITUDE,LONGITUDE,DEPTH,CTDPRS,CTDTMP,CTDSAL,CTDSAL_FLAG_W,SALNTY,SALNTY_FLAG_W,CTDOXY,CTDOXY_FLAG_W,OXYGEN,OXYGEN_FLAG_W,SILCAT,SILCAT_FLAG_W,NINI,NINI_FLAG_W,PHSPHT,PHSPHT_FLAG_W,REVP
,,,,,,,,,,,,DB,IPTS-68,PSS-78,,PSS-78,,UMOL/KG,,UMOL/KG,,UMOL/KG,,UMOL/KG,,UMOL/KG,,DBAR
           NA,HOT timeseries 1988to2019 27SEP2021,    200,  99,-999.0,    8024,-999.0,20080816,2103,  22.7503, -158.0013,  4745,    6.200,   26.084,   35.058,2,   35.057,2,  207.500,2,  206.900,2,    0.940,2,    0.040,2,    0.050,2, -999.000
           NA,HOT timeseries 1988to2019 27SEP2021,    200,  99,-999.0,    8024,-999.0,20080816,2103,  22.7503, -158.0013,  4745,    7.000,   25.977,   35.052,2,   35.052,2,  207.500,2,  207.000,2,    0.940,2,    0.020,2,    0.040,2, -999.000
           NA,HOT timeseries 1988to2019 27SEP2021,    200,  99,-999.0,    8023,-999.0,20080816,2103,  22.7503, -158.0013,  4745,   50.900,   25.070,   35.044,2,   35.051,2,  216.000,2,  216.200,2,    1.010,2,    0.080,2,    0.040,2, -999.000
           NA,HOT timeseries 1988to2019 27SEP2021,    200,  99,-999.0,    8022,-999.0,20080816,2103,  22.7503, -158.0013,  4745,   75.900,   23.537,   35.120,2,   35.120,2,  216.500,2,  218.800,2,    1.160,2,    0.080,2,    0.060,2, -999.000
           NA,HOT timeseries 1988to2019 27SEP2021,    200,  99,-999.0,    8021,-999.0,20080816,2103,  22.7503, -158.0013,  4745,  111.400,   22.819,   35.168,2,   35.167,2,  212.500,2,  212.600,2,    0.980,2,    0.060,2,    0.090,2, -999.000
           NA,HOT timeseries 1988to2019 27SEP2021,    200,  99,-999.0,    8020,-999.0,20080816,2103,  22.7503, -158.0013,  4745,  149.100,   22.191,   35.201,2,   35.199,2,  201.500,2,  202.000,2,    1.660,2,    0.580,2,    0.110,2, -999.000
           NA,HOT timeseries 1988to2019 27SEP2021,    200,  99,-999.0,    8019,-999.0,20080816,2103,  22.7503, -158.0013,  4745,  207.400,   19.758,   35.025,2, -999.000,3, -999.000,3,  193.100,2, -999.000,4,    2.040,2,    0.220,2, -999.000
           NA,HOT timeseries 1988to2019 27SEP2021,    200,  99,-999.0,    8018,-999.0,20080816,2103,  22.7503, -158.0013,  4745,  258.000,   16.721,   34.648,2, -999.000,3, -999.000,3,  192.200,2,    4.480,2,    4.950,2,    0.420,2, -999.000
           NA,HOT timeseries 1988to2019 27SEP2021,    200,  99,-999.0,    8017,-999.0,20080816,2103,  22.7503, -158.0013,  4745,  302.000,   14.088,   34.360,2,   34.358,2,  194.600,2,  193.400,2,    7.410,2,    8.120,2,    0.650,2, -999.000
           NA,HOT timeseries 1988to2019 27SEP2021,    200,  99,-999.0,    8016,-999.0,20080816,2103,  22.7503, -158.0013,  4745,  344.800,   12.179,   34.253,2,   34.243,2,  200.000,2,  199.600,2,   12.060,2,   11.610,2,    0.860,2, -999.000
           NA,HOT timeseries 1988to2019 27SEP2021,    200,  99,-999.0,    8015,-999.0,20080816,2103,  22.7503, -158.0013,  4745,  380.700,   10.542,   34.157,2,   34.155,2,  189.800,2,  189.400,2,   17.720,2,   15.520,2,    1.150,2, -999.000
           NA,HOT timeseries 1988to2019 27SEP2021,    200,  99,-999.0,    8014,-999.0,20080816,2103,  22.7503, -158.0013,  4745,  437.400,    9.056,   34.125,2,   34.125,2,  151.100,2,  149.300,2,   29.300,2,   22.140,2,    1.640,2, -999.000
           NA,HOT timeseries 1988to2019 27SEP2021,    200,  99,-999.0,    8023,-999.0,20080816,2103,  22.7503, -158.0013,  4745,  500.700,    7.834,   34.124,2, -999.000,5,  105.100,2,  106.500,2,   41.590,2,   28.860,2,    2.100,2, -999.000
           NA,HOT timeseries 1988to2019 27SEP2021,    200,  99,-999.0,    8012,-999.0,20080816,2103,  22.7503, -158.0013,  4745,  535.500,    6.885,   34.102,2,   34.104,2,   94.200,2,   92.400,2,   53.210,2,   32.000,2,    2.320,2, -999.000
           NA,HOT timeseries 1988to2019 27SEP2021,    200,  99,-999.0,    8011,-999.0,20080816,2103,  22.7503, -158.0013,  4745,  593.200,    6.149,   34.150,2,   34.150,2,   64.800,2,   68.600,2,   65.980,2,   35.400,2,    2.580,2, -999.000
           NA,HOT timeseries 1988to2019 27SEP2021,    200,  99,-999.0,    8010,-999.0,20080816,2103,  22.7503, -158.0013,  4745,  627.400,    5.952,   34.248,2,   34.245,2,   49.800,2,   42.400,2,   71.870,2,   38.070,2,    2.800,2, -999.000
           NA,HOT timeseries 1988to2019 27SEP2021,    200,  99,-999.0,    8009,-999.0,20080816,2103,  22.7503, -158.0013,  4745,  680.500,    5.564,   34.322,2,   34.322,2,   32.900,2,   31.300,2,   79.760,2,   39.730,2,    2.930,2, -999.000
           NA,HOT timeseries 1988to2019 27SEP2021,    200,  99,-999.0,    8008,-999.0,20080816,2103,  22.7503, -158.0013,  4745,  718.000,    5.390,   34.354,2,   34.352,2,   33.000,2,   31.600,2,   82.670,2,   40.200,2,    2.960,2, -999.000
           NA,HOT timeseries 1988to2019 27SEP2021,    200,  99,-999.0,    8006,-999.0,20080816,2103,  22.7503, -158.0013,  4745,  806.600,    4.877,   34.395,2,   34.393,2,   35.600,2,   35.300,2,   92.140,2,   40.590,2,    2.970,2, -999.000
           NA,HOT timeseries 1988to2019 27SEP2021,    200,  99,-999.0,    8004,-999.0,20080816,2103,  22.7503, -158.0013,  4745,  899.600,    4.536,   34.444,2,   34.442,2,   39.300,2,   39.400,2,   98.910,2,   41.240,2,    2.990,2, -999.000
           NA,HOT timeseries 1988to2019 27SEP2021,    200,  99,-999.0,    8003,-999.0,20080816,2103,  22.7503, -158.0013,  4745,  939.600,    4.382,   34.463,2,   34.463,2,   42.200,2,   42.800,2,  101.440,2,   41.520,2,    2.990,2, -999.000
           NA,HOT timeseries 1988to2019 27SEP2021,    200,  99,-999.0,    8002,-999.0,20080816,2103,  22.7503, -158.0013,  4745,  981.000,    4.290,   34.475,2,   34.475,2,   43.900,2,   44.800,2,  103.270,2,   41.470,2,    2.990,2, -999.000
           NA,HOT timeseries 1988to2019 27SEP2021,    200,  99,-999.0,    8001,-999.0,20080816,2103,  22.7503, -158.0013,  4745, 1020.700,    4.209,   34.483,2,   34.484,2,   44.900,2,   45.400,2,  104.670,2,   41.530,2,    2.980,2, -999.000
           NA,HOT timeseries 1988to2019 27SEP2021,    200,  99,-999.0,    8020,-999.0,20080816,2103,  22.7503, -158.0013,  4745, 1199.900,    3.758,   34.522,2,   34.521,2,   51.600,2,   52.200,2,  114.090,2,   41.510,2,    2.970,2, -999.000
           NA,HOT timeseries 1988to2019 27SEP2021,    200,  99,-999.0,    8019,-999.0,20080816,2103,  22.7503, -158.0013,  4745, 1401.400,    3.219,   34.553,2,   34.551,2,   59.900,2,   61.000,2,  125.850,2,   41.450,2,    2.950,2, -999.000
           NA,HOT timeseries 1988to2019 27SEP2021,    200,  99,-999.0,    8018,-999.0,20080816,2103,  22.7503, -158.0013,  4745, 1600.800,    2.753,   34.578,2,   34.576,2,   70.200,2,   71.300,2,  136.320,2,   40.970,2,    2.890,2, -999.000
           NA,HOT timeseries 1988to2019 27SEP2021,    200,  99,-999.0,    8017,-999.0,20080816,2103,  22.7503, -158.0013,  4745, 1800.300,    2.439,   34.597,2,   34.596,2,   79.000,2,   79.800,2,  143.510,2,   40.380,2,    2.850,2, -999.000
           NA,HOT timeseries 1988to2019 27SEP2021,    200,  99,-999.0,    8016,-999.0,20080816,2103,  22.7503, -158.0013,  4745, 2000.400,    2.212,   34.613,2,   34.612,2,   86.200,2,   86.900,2,  148.400,2,   40.020,2,    2.860,2, -999.000
           NA,HOT timeseries 1988to2019 27SEP2021,    200,  99,-999.0,    8015,-999.0,20080816,2103,  22.7503, -158.0013,  4745, 2200.200,    1.986,   34.631,2,   34.629,2,   95.000,2,   95.500,2,  153.280,2,   39.580,2,    2.770,2, -999.000
           NA,HOT timeseries 1988to2019 27SEP2021,    200,  99,-999.0,    8014,-999.0,20080816,2103,  22.7503, -158.0013,  4745, 2399.800,    1.852,   34.642,2,   34.641,2,  101.800,2,  102.800,2,  156.080,2,   39.160,2,    2.740,2, -999.000
           NA,HOT timeseries 1988to2019 27SEP2021,    200,  99,-999.0,    8025,-999.0,20080816,2103,  22.7503, -158.0013,  4745, 2599.200,    1.731,   34.653,2,   34.651,2,  108.600,2,  108.600,2,  158.110,2,   38.710,2,    2.700,2, -999.000
           NA,HOT timeseries 1988to2019 27SEP2021,    200,  99,-999.0,    8012,-999.0,20080816,2103,  22.7503, -158.0013,  4745, 2800.300,    1.635,   34.661,2,   34.660,2,  116.200,2,  116.800,2,  158.910,2,   38.250,2,    2.670,2, -999.000
           NA,HOT timeseries 1988to2019 27SEP2021,    200,  99,-999.0,    8011,-999.0,20080816,2103,  22.7503, -158.0013,  4745, 2999.400,    1.578,   34.667,2,   34.666,2,  122.800,2,  123.300,2,  158.680,2,   37.780,2,    2.630,2, -999.000
           NA,HOT timeseries 1988to2019 27SEP2021,    200,  99,-999.0,    8010,-999.0,20080816,2103,  22.7503, -158.0013,  4745, 3199.600,    1.538,   34.673,2,   34.672,2,  128.500,2,  128.600,2,  158.500,2,   37.630,2,    2.590,2, -999.000
           NA,HOT timeseries 1988to2019 27SEP2021,    200,  99,-999.0,    8009,-999.0,20080816,2103,  22.7503, -158.0013,  4745, 3399.200,    1.497,   34.679,2,   34.678,2,  134.800,2,  134.800,2,  156.880,2,   36.970,2,    2.570,2, -999.000
           NA,HOT timeseries 1988to2019 27SEP2021,    200,  99,-999.0,    8008,-999.0,20080816,2103,  22.7503, -158.0013,  4745, 3600.900,    1.480,   34.681,2,   34.680,2,  139.800,2,  139.300,2,  155.050,2,   36.900,2,    2.520,2, -999.000
           NA,HOT timeseries 1988to2019 27SEP2021,    200,  99,-999.0,    8026,-999.0,20080816,2103,  22.7503, -158.0013,  4745, 3800.900,    1.472,   34.684,2,   34.683,2,  143.500,2,  143.200,2,  154.310,2,   36.590,2,    2.520,2, -999.000
           NA,HOT timeseries 1988to2019 27SEP2021,    200,  99,-999.0,    8006,-999.0,20080816,2103,  22.7503, -158.0013,  4745, 3999.800,    1.465,   34.687,2,   34.685,2,  147.600,2,  147.200,2,  152.450,2,   36.210,2,    2.500,2, -999.000
           NA,HOT timeseries 1988to2019 27SEP2021,    200,  99,-999.0,    8005,-999.0,20080816,2103,  22.7503, -158.0013,  4745, 4200.700,    1.469,   34.688,2,   34.686,2,  150.700,2,  149.700,2,  150.490,2,   36.040,2,    2.490,2, -999.000
           NA,HOT timeseries 1988to2019 27SEP2021,    200,  99,-999.0,    8004,-999.0,20080816,2103,  22.7503, -158.0013,  4745, 4399.700,    1.482,   34.689,2,   34.688,2,  151.900,2,  151.300,2,  149.840,2,   35.970,2,    2.480,2, -999.000
           NA,HOT timeseries 1988to2019 27SEP2021,    200,  99,-999.0,    8003,-999.0,20080816,2103,  22.7503, -158.0013,  4745, 4500.400,    1.489,   34.689,2,   34.689,2,  152.400,2,  151.900,2,  149.380,2,   36.130,2,    2.490,2, -999.000
           NA,HOT timeseries 1988to2019 27SEP2021,    200,  99,-999.0,    8002,-999.0,20080816,2103,  22.7503, -158.0013,  4745, 4601.000,    1.495,   34.690,2,   34.689,2,  153.100,2,  153.700,2,  150.060,2,   36.110,2,    2.470,2, -999.000
           NA,HOT timeseries 1988to2019 27SEP2021,    200,  99,-999.0,    8001,-999.0,20080816,2103,  22.7503, -158.0013,  4745, 4806.200,    1.508,   34.691,2,   34.691,2,  154.300,2,  155.400,2,  147.590,2,   35.790,2,    2.460,2, -999.000