BOTTLE,20214727JOAExport
EXPOCODE,SECT_ID,STNNBR,CASTNO,SAMPNO,BTLNBR,BTLNBR_FLAG_W,DATE,TIME,LATITUDE,LONGITUDE,DEPTH,CTDPRS,CTDTMP,CTDSAL,CTDSAL_FLAG_W,SALNTY,SALNTY_FLAG_W,CTDOXY,CTDOXY_FLAG_W,OXYGEN,OXYGEN_FLAG_W,SILCAT,SILCAT_FLAG_W,NINI,NINI_FLAG_W,PHSPHT,PHSPHT_FLAG_W,REVP
,,,,,,,,,,,,DB,IPTS-68,PSS-78,,PSS-78,,UMOL/KG,,UMOL/KG,,UMOL/KG,,UMOL/KG,,UMOL/KG,,DBAR
           NA,HOT timeseries 1988to2019 27SEP2021,    121,  99,-999.0,      31,-999.0,20010417,1802,  22.7505, -158.0133,  4723,    3.700,   23.531,   35.174,2,   35.172,2,  212.300,2,  213.800,2, -999.000,9, -999.000,9, -999.000,9, -999.000
           NA,HOT timeseries 1988to2019 27SEP2021,    121,  99,-999.0,      30,-999.0,20010417,1802,  22.7505, -158.0133,  4723,   44.300,   23.535,   35.174,2,   35.172,2,  212.000,2,  213.900,2, -999.000,9, -999.000,9, -999.000,9, -999.000
           NA,HOT timeseries 1988to2019 27SEP2021,    121,  99,-999.0,      22,-999.0,20010417,1802,  22.7505, -158.0133,  4723,   78.400,   23.540,   35.173,2, -999.000,4, -999.000,3,  214.000,2, -999.000,9, -999.000,9, -999.000,9, -999.000
           NA,HOT timeseries 1988to2019 27SEP2021,    121,  99,-999.0,      21,-999.0,20010417,1802,  22.7505, -158.0133,  4723,  128.100,   22.963,   35.353,2,   35.360,2,  211.600,2,  211.700,2, -999.000,9, -999.000,9, -999.000,9, -999.000
           NA,HOT timeseries 1988to2019 27SEP2021,    121,  99,-999.0,      20,-999.0,20010417,1802,  22.7505, -158.0133,  4723,  163.200,   21.837,   35.264,2,   35.270,2,  208.500,2,  207.400,2, -999.000,9, -999.000,9, -999.000,9, -999.000
           NA,HOT timeseries 1988to2019 27SEP2021,    121,  99,-999.0,      19,-999.0,20010417,1802,  22.7505, -158.0133,  4723,  214.000,   19.610,   35.124,2,   35.130,2,  199.000,2,  198.500,2, -999.000,9, -999.000,9, -999.000,9, -999.000
           NA,HOT timeseries 1988to2019 27SEP2021,    121,  99,-999.0,      17,-999.0,20010417,1802,  22.7505, -158.0133,  4723,  298.700,   14.371,   34.445,2,   34.445,2,  200.700,2,  199.100,2, -999.000,9, -999.000,9, -999.000,9, -999.000
           NA,HOT timeseries 1988to2019 27SEP2021,    121,  99,-999.0,      16,-999.0,20010417,1802,  22.7505, -158.0133,  4723,  325.700,   12.880,   34.285,2,   34.289,2,  204.800,2,  203.200,2, -999.000,9, -999.000,9, -999.000,9, -999.000
           NA,HOT timeseries 1988to2019 27SEP2021,    121,  99,-999.0,      23,-999.0,20010417,1802,  22.7505, -158.0133,  4723,  348.900,   11.399,   34.193,2,   34.195,2,  205.500,2,  205.600,2, -999.000,9, -999.000,9, -999.000,9, -999.000
           NA,HOT timeseries 1988to2019 27SEP2021,    121,  99,-999.0,      13,-999.0,20010417,1802,  22.7505, -158.0133,  4723,  444.300,    9.060,   34.078,2,   34.081,2,  180.800,2,  179.300,2, -999.000,9, -999.000,9, -999.000,9, -999.000
           NA,HOT timeseries 1988to2019 27SEP2021,    121,  99,-999.0,      12,-999.0,20010417,1802,  22.7505, -158.0133,  4723,  503.600,    7.587,   34.066,2,   34.067,2,  125.500,2,  124.600,2, -999.000,9, -999.000,9, -999.000,9, -999.000
           NA,HOT timeseries 1988to2019 27SEP2021,    121,  99,-999.0,      11,-999.0,20010417,1802,  22.7505, -158.0133,  4723,  544.300,    6.840,   34.054,2,   34.055,2,  106.800,2,  106.700,2, -999.000,9, -999.000,9, -999.000,9, -999.000
           NA,HOT timeseries 1988to2019 27SEP2021,    121,  99,-999.0,      32,-999.0,20010417,1802,  22.7505, -158.0133,  4723,  593.000,    6.195,   34.095,2,   34.096,2,   79.600,2,   77.900,2, -999.000,9, -999.000,9, -999.000,9, -999.000
           NA,HOT timeseries 1988to2019 27SEP2021,    121,  99,-999.0,       3,-999.0,20010417,1802,  22.7505, -158.0133,  4723,  627.600,    5.572,   34.138,2,   34.138,2,   56.600,2,   55.100,2, -999.000,9, -999.000,9, -999.000,9, -999.000
           NA,HOT timeseries 1988to2019 27SEP2021,    121,  99,-999.0,      29,-999.0,20010417,1802,  22.7505, -158.0133,  4723,  673.800,    5.057,   34.182,2,   34.181,2,   41.100,2,   38.400,2, -999.000,9, -999.000,9, -999.000,9, -999.000
           NA,HOT timeseries 1988to2019 27SEP2021,    121,  99,-999.0,      28,-999.0,20010417,1802,  22.7505, -158.0133,  4723,  697.300,    5.011,   34.235,2,   34.237,2,   35.600,2,   32.700,2, -999.000,9, -999.000,9, -999.000,9, -999.000
           NA,HOT timeseries 1988to2019 27SEP2021,    121,  99,-999.0,       7,-999.0,20010417,1802,  22.7505, -158.0133,  4723,  743.000,    4.712,   34.289,2,   34.288,2,   30.800,2,   28.500,2, -999.000,9, -999.000,9, -999.000,9, -999.000
           NA,HOT timeseries 1988to2019 27SEP2021,    121,  99,-999.0,      22,-999.0,20010417,1802,  22.7505, -158.0133,  4723,  796.900,    4.569,   34.335,2,   34.333,2,   29.500,2,   27.100,2, -999.000,9, -999.000,9, -999.000,9, -999.000
           NA,HOT timeseries 1988to2019 27SEP2021,    121,  99,-999.0,      36,-999.0,20010417,1802,  22.7505, -158.0133,  4723,  839.200,    4.490,   34.387,2,   34.386,2,   31.100,2,   29.900,2, -999.000,9, -999.000,9, -999.000,9, -999.000
           NA,HOT timeseries 1988to2019 27SEP2021,    121,  99,-999.0,      35,-999.0,20010417,1802,  22.7505, -158.0133,  4723,  919.500,    4.165,   34.431,2,   34.429,2,   37.000,2,   36.200,2, -999.000,9, -999.000,9, -999.000,9, -999.000
           NA,HOT timeseries 1988to2019 27SEP2021,    121,  99,-999.0,      34,-999.0,20010417,1802,  22.7505, -158.0133,  4723,  991.400,    3.986,   34.461,2,   34.461,2,   40.200,2,   40.200,2, -999.000,9, -999.000,9, -999.000,9, -999.000
           NA,HOT timeseries 1988to2019 27SEP2021,    121,  99,-999.0,      33,-999.0,20010417,1802,  22.7505, -158.0133,  4723, 1020.000,    3.888,   34.476,2,   34.474,2,   42.900,2,   42.600,2, -999.000,9, -999.000,9, -999.000,9, -999.000
           NA,HOT timeseries 1988to2019 27SEP2021,    121,  99,-999.0,      20,-999.0,20010417,1802,  22.7505, -158.0133,  4723, 1198.700,    3.391,   34.528,2,   34.527,2,   53.000,2,   53.400,2, -999.000,9, -999.000,9, -999.000,9, -999.000
           NA,HOT timeseries 1988to2019 27SEP2021,    121,  99,-999.0,      19,-999.0,20010417,1802,  22.7505, -158.0133,  4723, 1399.400,    2.926,   34.564,2,   34.563,2,   62.900,2,   63.500,2, -999.000,9, -999.000,9, -999.000,9, -999.000
           NA,HOT timeseries 1988to2019 27SEP2021,    121,  99,-999.0,      18,-999.0,20010417,1802,  22.7505, -158.0133,  4723, 1598.900,    2.621,   34.587,2,   34.587,2,   71.000,2,   72.300,2, -999.000,9, -999.000,9, -999.000,9, -999.000
           NA,HOT timeseries 1988to2019 27SEP2021,    121,  99,-999.0,      17,-999.0,20010417,1802,  22.7505, -158.0133,  4723, 1798.800,    2.327,   34.608,2,   34.606,2,   79.500,2,   80.600,2, -999.000,9, -999.000,9, -999.000,9, -999.000
           NA,HOT timeseries 1988to2019 27SEP2021,    121,  99,-999.0,      16,-999.0,20010417,1802,  22.7505, -158.0133,  4723, 1998.600,    2.095,   34.622,2,   34.621,2,   87.000,2,   88.300,2, -999.000,9, -999.000,9, -999.000,9, -999.000
           NA,HOT timeseries 1988to2019 27SEP2021,    121,  99,-999.0,      23,-999.0,20010417,1802,  22.7505, -158.0133,  4723, 2199.300,    1.940,   34.633,2,   34.632,2,   93.500,2,   94.900,2, -999.000,9, -999.000,9, -999.000,9, -999.000
           NA,HOT timeseries 1988to2019 27SEP2021,    121,  99,-999.0,      14,-999.0,20010417,1802,  22.7505, -158.0133,  4723, 2398.900,    1.781,   34.647,2,   34.646,2,  101.900,2,  103.400,2, -999.000,9, -999.000,9, -999.000,9, -999.000
           NA,HOT timeseries 1988to2019 27SEP2021,    121,  99,-999.0,      13,-999.0,20010417,1802,  22.7505, -158.0133,  4723, 2600.000,    1.669,   34.656,2,   34.657,2,  108.900,2,  110.700,2, -999.000,9, -999.000,9, -999.000,9, -999.000
           NA,HOT timeseries 1988to2019 27SEP2021,    121,  99,-999.0,      12,-999.0,20010417,1802,  22.7505, -158.0133,  4723, 2799.900,    1.595,   34.664,2,   34.663,2,  117.300,2,  117.800,2, -999.000,9, -999.000,9, -999.000,9, -999.000
           NA,HOT timeseries 1988to2019 27SEP2021,    121,  99,-999.0,      11,-999.0,20010417,1802,  22.7505, -158.0133,  4723, 2999.100,    1.540,   34.671,2,   34.672,2,  124.500,2,  125.700,2, -999.000,9, -999.000,9, -999.000,9, -999.000
           NA,HOT timeseries 1988to2019 27SEP2021,    121,  99,-999.0,       3,-999.0,20010417,1802,  22.7505, -158.0133,  4723, 3399.100,    1.486,   34.680,2,   34.679,2,  134.400,2,  135.100,2, -999.000,9, -999.000,9, -999.000,9, -999.000
           NA,HOT timeseries 1988to2019 27SEP2021,    121,  99,-999.0,      29,-999.0,20010417,1802,  22.7505, -158.0133,  4723, 3598.800,    1.468,   34.683,2,   34.682,2,  139.800,2,  140.200,2, -999.000,9, -999.000,9, -999.000,9, -999.000
           NA,HOT timeseries 1988to2019 27SEP2021,    121,  99,-999.0,      28,-999.0,20010417,1802,  22.7505, -158.0133,  4723, 3796.500,    1.459,   34.685,2,   34.685,2,  144.400,2,  144.000,2, -999.000,9, -999.000,9, -999.000,9, -999.000
           NA,HOT timeseries 1988to2019 27SEP2021,    121,  99,-999.0,       7,-999.0,20010417,1802,  22.7505, -158.0133,  4723, 3998.900,    1.462,   34.687,2,   34.687,2,  147.200,2,  147.000,2, -999.000,9, -999.000,9, -999.000,9, -999.000
           NA,HOT timeseries 1988to2019 27SEP2021,    121,  99,-999.0,      38,-999.0,20010417,1802,  22.7505, -158.0133,  4723, 4198.700,    1.469,   34.688,2,   34.687,2,  149.800,2,  148.900,2, -999.000,9, -999.000,9, -999.000,9, -999.000
           NA,HOT timeseries 1988to2019 27SEP2021,    121,  99,-999.0,      36,-999.0,20010417,1802,  22.7505, -158.0133,  4723, 4399.100,    1.479,   34.689,2,   34.689,2,  152.300,2,  151.300,2, -999.000,9, -999.000,9, -999.000,9, -999.000
           NA,HOT timeseries 1988to2019 27SEP2021,    121,  99,-999.0,      35,-999.0,20010417,1802,  22.7505, -158.0133,  4723, 4497.700,    1.483,   34.690,2,   34.689,2,  153.600,2,  152.700,2, -999.000,9, -999.000,9, -999.000,9, -999.000
           NA,HOT timeseries 1988to2019 27SEP2021,    121,  99,-999.0,      34,-999.0,20010417,1802,  22.7505, -158.0133,  4723, 4598.700,    1.485,   34.690,2,   34.690,2,  155.100,2,  153.900,2, -999.000,9, -999.000,9, -999.000,9, -999.000
           NA,HOT timeseries 1988to2019 27SEP2021,    121,  99,-999.0,      33,-999.0,20010417,1802,  22.7505, -158.0133,  4723, 4807.600,    1.494,   34.691,2,   34.692,2,  157.300,2,  156.500,2, -999.000,9, -999.000,9, -999.000,9, -999.000