BOTTLE,20214727JOAExport
EXPOCODE,SECT_ID,STNNBR,CASTNO,SAMPNO,BTLNBR,BTLNBR_FLAG_W,DATE,TIME,LATITUDE,LONGITUDE,DEPTH,CTDPRS,CTDTMP,CTDSAL,CTDSAL_FLAG_W,SALNTY,SALNTY_FLAG_W,CTDOXY,CTDOXY_FLAG_W,OXYGEN,OXYGEN_FLAG_W,SILCAT,SILCAT_FLAG_W,NINI,NINI_FLAG_W,PHSPHT,PHSPHT_FLAG_W,REVP
,,,,,,,,,,,,DB,IPTS-68,PSS-78,,PSS-78,,UMOL/KG,,UMOL/KG,,UMOL/KG,,UMOL/KG,,UMOL/KG,,DBAR
           NA,HOT timeseries 1988to2019 27SEP2021,     70,  99,-999.0,      31,-999.0,19960726,1835,  22.7503, -158.0008,  4724,    4.500,   26.232,   34.614,2,   34.614,2,  207.300,2,  206.500,2,    1.250,2,    0.000,2,    0.080,2, -999.000
           NA,HOT timeseries 1988to2019 27SEP2021,     70,  99,-999.0,      31,-999.0,19960726,1835,  22.7503, -158.0008,  4724,    4.700,   26.172,   34.606,2,   34.609,2,  206.800,2,  206.400,2,    1.290,2,    0.000,2,    0.070,2, -999.000
           NA,HOT timeseries 1988to2019 27SEP2021,     70,  99,-999.0,      30,-999.0,19960726,1835,  22.7503, -158.0008,  4724,   14.800,   26.225,   34.613,2,   34.614,2,  207.400,2,  206.200,2,    1.170,2,    0.000,2,    0.080,2, -999.000
           NA,HOT timeseries 1988to2019 27SEP2021,     70,  99,-999.0,      22,-999.0,19960726,1835,  22.7503, -158.0008,  4724,   44.800,   26.130,   34.601,2,   34.603,2,  206.900,2,  207.100,2,    1.090,2,    0.000,2,    0.080,2, -999.000
           NA,HOT timeseries 1988to2019 27SEP2021,     70,  99,-999.0,      21,-999.0,19960726,1835,  22.7503, -158.0008,  4724,   55.000,   24.916,   34.842,2,   34.841,2,  217.400,2,  222.000,2,    1.120,2,    0.010,2,    0.050,2, -999.000
           NA,HOT timeseries 1988to2019 27SEP2021,     70,  99,-999.0,      30,-999.0,19960726,1835,  22.7503, -158.0008,  4724,   89.300,   23.100,   35.068,2,   35.067,2,  226.100,2,  223.700,2,    1.280,2,    0.000,2,    0.070,2, -999.000
           NA,HOT timeseries 1988to2019 27SEP2021,     70,  99,-999.0,      20,-999.0,19960726,1835,  22.7503, -158.0008,  4724,   89.800,   23.186,   35.051,2,   35.049,2,  225.400,2,  222.000,2,    1.130,2,    0.000,2,    0.040,2, -999.000
           NA,HOT timeseries 1988to2019 27SEP2021,     70,  99,-999.0,      19,-999.0,19960726,1835,  22.7503, -158.0008,  4724,  134.400,   21.501,   35.091,2,   35.093,2,  211.000,2,  208.700,2,    1.340,2,    0.290,2,    0.080,2, -999.000
           NA,HOT timeseries 1988to2019 27SEP2021,     70,  99,-999.0,      18,-999.0,19960726,1835,  22.7503, -158.0008,  4724,  173.900,   20.256,   35.112,2,   35.096,2,  196.700,2,  199.700,2,    1.710,2,    1.230,2,    0.150,2, -999.000
           NA,HOT timeseries 1988to2019 27SEP2021,     70,  99,-999.0,      17,-999.0,19960726,1835,  22.7503, -158.0008,  4724,  185.700,   19.677,   35.074,2,   35.078,2,  197.300,2,  200.600,2,    1.970,2,    1.520,2,    0.170,2, -999.000
           NA,HOT timeseries 1988to2019 27SEP2021,     70,  99,-999.0,      16,-999.0,19960726,1835,  22.7503, -158.0008,  4724,  208.000,   18.530,   34.959,2,   34.958,2,  198.200,2,  196.700,2,    2.690,2,    2.570,2,    0.230,2, -999.000
           NA,HOT timeseries 1988to2019 27SEP2021,     70,  99,-999.0,      15,-999.0,19960726,1835,  22.7503, -158.0008,  4724,  258.100,   16.351,   34.715,2,   34.714,2,  199.700,2,  200.900,2,    4.400,2,    4.430,2,    0.350,2, -999.000
           NA,HOT timeseries 1988to2019 27SEP2021,     70,  99,-999.0,      14,-999.0,19960726,1835,  22.7503, -158.0008,  4724,  299.600,   14.133,   34.480,2,   34.479,2,  202.100,2,  201.200,2,    7.240,2,    7.780,2,    0.560,2, -999.000
           NA,HOT timeseries 1988to2019 27SEP2021,     70,  99,-999.0,      13,-999.0,19960726,1835,  22.7503, -158.0008,  4724,  340.800,   12.501,   34.329,2,   34.329,2,  199.300,2,  199.500,2,   10.540,2,   10.890,2,    0.770,2, -999.000
           NA,HOT timeseries 1988to2019 27SEP2021,     70,  99,-999.0,      12,-999.0,19960726,1835,  22.7503, -158.0008,  4724,  394.300,   10.235,   34.157,2,   34.156,2,  172.300,2,  168.900,2,   19.420,2,   18.010,2,    1.290,2, -999.000
           NA,HOT timeseries 1988to2019 27SEP2021,     70,  99,-999.0,      11,-999.0,19960726,1835,  22.7503, -158.0008,  4724,  434.200,    8.977,   34.107,2,   34.106,2,  175.700,2,  167.500,2,   24.400,2,   19.540,2,    1.400,2, -999.000
           NA,HOT timeseries 1988to2019 27SEP2021,     70,  99,-999.0,      32,-999.0,19960726,1835,  22.7503, -158.0008,  4724,  499.800,    7.628,   34.082,2,   34.081,2,  126.900,2,  125.500,2,   40.260,2,   27.280,2,    1.940,2, -999.000
           NA,HOT timeseries 1988to2019 27SEP2021,     70,  99,-999.0,      22,-999.0,19960726,1835,  22.7503, -158.0008,  4724,  500.100,    7.581,   34.107,2,   34.105,2,  128.300,2,  112.200,2,   42.320,2,   27.960,2,    1.930,2, -999.000
           NA,HOT timeseries 1988to2019 27SEP2021,     70,  99,-999.0,       3,-999.0,19960726,1835,  22.7503, -158.0008,  4724,  512.100,    7.426,   34.080,2,   34.080,2,  126.400,2,  119.200,2,   42.700,2,   28.220,2,    2.020,2, -999.000
           NA,HOT timeseries 1988to2019 27SEP2021,     70,  99,-999.0,      29,-999.0,19960726,1835,  22.7503, -158.0008,  4724,  542.900,    7.239,   34.172,2,   34.171,2,   74.700,2,   74.700,2,   50.410,2,   32.120,2,    2.370,2, -999.000
           NA,HOT timeseries 1988to2019 27SEP2021,     70,  99,-999.0,      28,-999.0,19960726,1835,  22.7503, -158.0008,  4724,  570.600,    6.832,   34.232,2,   34.232,2,   50.400,2,   49.200,2,   57.850,2,   35.090,2,    2.610,2, -999.000
           NA,HOT timeseries 1988to2019 27SEP2021,     70,  99,-999.0,       7,-999.0,19960726,1835,  22.7503, -158.0008,  4724,  645.200,    6.318,   34.284,2,   34.282,2,   35.700,2,   32.900,2,   67.300,2,   37.690,2,    2.800,2, -999.000
           NA,HOT timeseries 1988to2019 27SEP2021,     70,  99,-999.0,      38,-999.0,19960726,1835,  22.7503, -158.0008,  4724,  707.000,    5.964,   34.357,2,   34.357,2,   26.000,2,   25.100,2,   72.870,2,   39.390,2,    2.920,2, -999.000
           NA,HOT timeseries 1988to2019 27SEP2021,     70,  99,-999.0,      36,-999.0,19960726,1835,  22.7503, -158.0008,  4724,  750.100,    5.468,   34.359,2,   34.358,2,   26.900,2,   25.700,2,   81.090,2,   40.280,2,    2.980,2, -999.000
           NA,HOT timeseries 1988to2019 27SEP2021,     70,  99,-999.0,      35,-999.0,19960726,1835,  22.7503, -158.0008,  4724,  810.100,    5.175,   34.390,2,   34.390,2,   26.400,2,   25.900,2,   86.520,2,   41.010,2,    3.010,2, -999.000
           NA,HOT timeseries 1988to2019 27SEP2021,     70,  99,-999.0,      34,-999.0,19960726,1835,  22.7503, -158.0008,  4724,  909.200,    4.619,   34.431,2,   34.430,2,   34.300,2,   34.200,2,   95.240,2,   40.960,2,    2.990,2, -999.000
           NA,HOT timeseries 1988to2019 27SEP2021,     70,  99,-999.0,      20,-999.0,19960726,1835,  22.7503, -158.0008,  4724, 1000.600,    4.382,   34.465,2,   34.465,2,   36.200,2,   37.000,2,  100.340,2,   41.300,2,    2.990,2, -999.000
           NA,HOT timeseries 1988to2019 27SEP2021,     70,  99,-999.0,      33,-999.0,19960726,1835,  22.7503, -158.0008,  4724, 1021.200,    4.319,   34.477,2,   34.477,2,   37.500,2,   37.200,2,  101.320,2,   41.750,2,    3.030,2, -999.000
           NA,HOT timeseries 1988to2019 27SEP2021,     70,  99,-999.0,      19,-999.0,19960726,1835,  22.7503, -158.0008,  4724, 1400.000,    3.155,   34.556,2,   34.555,2,   59.400,2,   58.800,2,  126.120,2,   41.050,2,    2.950,2, -999.000
           NA,HOT timeseries 1988to2019 27SEP2021,     70,  99,-999.0,      18,-999.0,19960726,1835,  22.7503, -158.0008,  4724, 1600.600,    2.750,   34.580,2,   34.581,2,   67.800,2,   67.700,2,  135.340,2,   40.690,2,    2.910,2, -999.000
           NA,HOT timeseries 1988to2019 27SEP2021,     70,  99,-999.0,      16,-999.0,19960726,1835,  22.7503, -158.0008,  4724, 2000.100,    2.190,   34.611,2,   34.610,2,   82.200,2,   81.800,2,  149.190,2,   39.970,2,    2.850,2, -999.000
           NA,HOT timeseries 1988to2019 27SEP2021,     70,  99,-999.0,      15,-999.0,19960726,1835,  22.7503, -158.0008,  4724, 2200.000,    2.006,   34.624,2,   34.624,2,   88.300,2,   88.900,2,  153.590,2,   39.570,2,    2.820,2, -999.000
           NA,HOT timeseries 1988to2019 27SEP2021,     70,  99,-999.0,      14,-999.0,19960726,1835,  22.7503, -158.0008,  4724, 2400.600,    1.860,   34.636,2,   34.634,2,   95.800,2,   95.400,2,  157.290,2,   39.290,2,    2.780,2, -999.000
           NA,HOT timeseries 1988to2019 27SEP2021,     70,  99,-999.0,      13,-999.0,19960726,1835,  22.7503, -158.0008,  4724, 2600.700,    1.711,   34.650,2,   34.650,2,  105.400,2,  105.300,2,  158.910,2,   38.570,2,    2.740,2, -999.000
           NA,HOT timeseries 1988to2019 27SEP2021,     70,  99,-999.0,      12,-999.0,19960726,1835,  22.7503, -158.0008,  4724, 2801.300,    1.618,   34.660,2,   34.660,2,  113.800,2,  114.600,2,  159.010,2,   38.010,2,    2.690,2, -999.000
           NA,HOT timeseries 1988to2019 27SEP2021,     70,  99,-999.0,      11,-999.0,19960726,1835,  22.7503, -158.0008,  4724, 3000.000,    1.560,   34.667,2,   34.667,2,  121.900,2,  122.000,2,  158.000,2,   37.620,2,    2.650,2, -999.000
           NA,HOT timeseries 1988to2019 27SEP2021,     70,  99,-999.0,      32,-999.0,19960726,1835,  22.7503, -158.0008,  4724, 3201.000,    1.519,   34.673,2,   34.672,2,  127.600,2,  129.000,2,  156.720,2,   37.220,2,    2.620,2, -999.000
           NA,HOT timeseries 1988to2019 27SEP2021,     70,  99,-999.0,       3,-999.0,19960726,1835,  22.7503, -158.0008,  4724, 3399.900,    1.489,   34.677,2,   34.677,2,  133.900,2,  134.400,2,  155.120,2,   36.920,2,    2.580,2, -999.000
           NA,HOT timeseries 1988to2019 27SEP2021,     70,  99,-999.0,      29,-999.0,19960726,1835,  22.7503, -158.0008,  4724, 3600.500,    1.471,   34.681,2,   34.680,2,  139.100,2,  139.300,2, -999.000,3,   36.640,2,    2.560,2, -999.000
           NA,HOT timeseries 1988to2019 27SEP2021,     70,  99,-999.0,      28,-999.0,19960726,1835,  22.7503, -158.0008,  4724, 3800.700,    1.461,   34.683,2,   34.683,2,  143.300,2,  143.600,2,  151.760,2,   36.420,2,    2.540,2, -999.000
           NA,HOT timeseries 1988to2019 27SEP2021,     70,  99,-999.0,       7,-999.0,19960726,1835,  22.7503, -158.0008,  4724, 4000.400,    1.460,   34.685,2,   34.685,2,  147.500,2,  147.200,2,  149.840,2,   36.050,2,    2.510,2, -999.000
           NA,HOT timeseries 1988to2019 27SEP2021,     70,  99,-999.0,      38,-999.0,19960726,1835,  22.7503, -158.0008,  4724, 4200.900,    1.468,   34.686,2,   34.685,2,  149.000,2,  149.100,2, -999.000,3,   35.930,2,    2.490,2, -999.000
           NA,HOT timeseries 1988to2019 27SEP2021,     70,  99,-999.0,      36,-999.0,19960726,1835,  22.7503, -158.0008,  4724, 4400.700,    1.480,   34.687,2,   34.687,2,  151.200,2,  150.900,2,  148.300,2, -999.000,3,    2.490,2, -999.000
           NA,HOT timeseries 1988to2019 27SEP2021,     70,  99,-999.0,      35,-999.0,19960726,1835,  22.7503, -158.0008,  4724, 4501.000,    1.488,   34.687,2,   34.688,2,  152.000,2,  151.800,2,  148.100,2,   35.890,2,    2.500,2, -999.000
           NA,HOT timeseries 1988to2019 27SEP2021,     70,  99,-999.0,      34,-999.0,19960726,1835,  22.7503, -158.0008,  4724, 4600.500,    1.498,   34.688,2, -999.000,4, -999.000,3,  151.700,2,  147.610,2,   35.860,2,    2.480,2, -999.000
           NA,HOT timeseries 1988to2019 27SEP2021,     70,  99,-999.0,      33,-999.0,19960726,1835,  22.7503, -158.0008,  4724, 4806.400,    1.518,   34.688,2,   34.688,2,  153.400,2,  152.400,2,  147.310,2,   35.820,2,    2.480,2, -999.000