BOTTLE,20214727JOAExport
EXPOCODE,SECT_ID,STNNBR,CASTNO,SAMPNO,BTLNBR,BTLNBR_FLAG_W,DATE,TIME,LATITUDE,LONGITUDE,DEPTH,CTDPRS,CTDTMP,CTDSAL,CTDSAL_FLAG_W,SALNTY,SALNTY_FLAG_W,CTDOXY,CTDOXY_FLAG_W,OXYGEN,OXYGEN_FLAG_W,SILCAT,SILCAT_FLAG_W,NINI,NINI_FLAG_W,PHSPHT,PHSPHT_FLAG_W,REVP
,,,,,,,,,,,,DB,IPTS-68,PSS-78,,PSS-78,,UMOL/KG,,UMOL/KG,,UMOL/KG,,UMOL/KG,,UMOL/KG,,DBAR
           NA,HOT timeseries 1988to2019 27SEP2021,     73,  99,-999.0,      31,-999.0,19961030,0006,  22.7507, -157.9677,  4714,    4.100,   26.632,   35.054,2,   35.055,2,  203.200,2,  202.900,2,    1.540,2,    0.000,2,    0.090,2, -999.000
           NA,HOT timeseries 1988to2019 27SEP2021,     73,  99,-999.0,      31,-999.0,19961030,0006,  22.7507, -157.9677,  4714,    4.800,   26.499,   35.058,2,   35.061,2,  202.900,2,  202.600,2,    1.470,2,    0.000,2,    0.050,2, -999.000
           NA,HOT timeseries 1988to2019 27SEP2021,     73,  99,-999.0,      30,-999.0,19961030,0006,  22.7507, -157.9677,  4714,   25.200,   26.461,   35.052,2,   35.054,2,  203.000,2,  203.200,2,    1.500,2,    0.000,2,    0.050,2, -999.000
           NA,HOT timeseries 1988to2019 27SEP2021,     73,  99,-999.0,      22,-999.0,19961030,0006,  22.7507, -157.9677,  4714,   52.600,   25.674,   35.073,2,   35.069,2,  205.400,2,  211.300,2,    1.570,2,    0.000,2,    0.040,2, -999.000
           NA,HOT timeseries 1988to2019 27SEP2021,     73,  99,-999.0,      21,-999.0,19961030,0006,  22.7507, -157.9677,  4714,   58.300,   23.806,   35.095,2,   35.093,2,  218.800,2,  223.700,2,    1.770,2,    0.000,2,    0.040,2, -999.000
           NA,HOT timeseries 1988to2019 27SEP2021,     73,  99,-999.0,      20,-999.0,19961030,0006,  22.7507, -157.9677,  4714,   61.200,   22.896,   35.114,2,   35.113,2,  220.800,2,  225.800,2,    1.900,2,   -0.010,2,    0.050,2, -999.000
           NA,HOT timeseries 1988to2019 27SEP2021,     73,  99,-999.0,      19,-999.0,19961030,0006,  22.7507, -157.9677,  4714,   72.700,   21.402,   35.116,2,   35.117,2,  215.900,2,  218.500,2,    2.140,2,   -0.010,2,    0.060,2, -999.000
           NA,HOT timeseries 1988to2019 27SEP2021,     73,  99,-999.0,      30,-999.0,19961030,0006,  22.7507, -157.9677,  4714,   86.700,   22.145,   35.121,2,   35.123,2,  217.300,2,  222.500,2,    1.930,2,    0.000,2,    0.070,2, -999.000
           NA,HOT timeseries 1988to2019 27SEP2021,     73,  99,-999.0,      22,-999.0,19961030,0006,  22.7507, -157.9677,  4714,   92.900,   21.783,   35.121,2,   35.120,2,  220.500,2,  220.600,2,    1.970,2,    0.000,2,    0.070,2, -999.000
           NA,HOT timeseries 1988to2019 27SEP2021,     73,  99,-999.0,      18,-999.0,19961030,0006,  22.7507, -157.9677,  4714,  130.300,   18.836,   34.995,2,   34.995,2,  199.500,2,  200.800,2,    3.000,2,    1.750,2,    0.200,2, -999.000
           NA,HOT timeseries 1988to2019 27SEP2021,     73,  99,-999.0,      17,-999.0,19961030,0006,  22.7507, -157.9677,  4714,  200.100,   16.203,   34.689,2,   34.693,2,  197.600,2,  197.900,2,    5.200,2,    4.830,2,    0.390,2, -999.000
           NA,HOT timeseries 1988to2019 27SEP2021,     73,  99,-999.0,      16,-999.0,19961030,0006,  22.7507, -157.9677,  4714,  250.200,   13.847,   34.436,2,   34.435,2,  199.400,2,  199.700,2,    8.110,2,    8.220,2,    0.610,2, -999.000
           NA,HOT timeseries 1988to2019 27SEP2021,     73,  99,-999.0,      15,-999.0,19961030,0006,  22.7507, -157.9677,  4714,  304.400,   11.705,   34.232,2,   34.234,2,  192.000,2,  192.000,2,   12.850,2,   12.790,2,    0.920,2, -999.000
           NA,HOT timeseries 1988to2019 27SEP2021,     73,  99,-999.0,      14,-999.0,19961030,0006,  22.7507, -157.9677,  4714,  334.600,   11.027,   34.214,2,   34.218,2,  205.900,2,  200.000,2,   15.800,2,   13.810,2,    0.990,2, -999.000
           NA,HOT timeseries 1988to2019 27SEP2021,     73,  99,-999.0,      13,-999.0,19961030,0006,  22.7507, -157.9677,  4714,  350.400,   10.182,   34.141,2,   34.143,2,  178.700,2,  183.100,2,   18.890,2,   16.890,2,    1.210,2, -999.000
           NA,HOT timeseries 1988to2019 27SEP2021,     73,  99,-999.0,      12,-999.0,19961030,0006,  22.7507, -157.9677,  4714,  400.000,    8.848,   34.093,2,   34.095,2,  182.000,2,  179.000,2,   26.530,2,   20.260,2,    1.420,2, -999.000
           NA,HOT timeseries 1988to2019 27SEP2021,     73,  99,-999.0,      11,-999.0,19961030,0006,  22.7507, -157.9677,  4714,  460.200,    7.636,   34.055,2,   34.056,2,  149.300,2,  147.900,2,   38.550,2,   25.560,2,    1.790,2, -999.000
           NA,HOT timeseries 1988to2019 27SEP2021,     73,  99,-999.0,      32,-999.0,19961030,0006,  22.7507, -157.9677,  4714,  473.500,    7.370,   34.054,2,   34.055,2,  140.300,2,  135.000,2,   42.960,2,   27.200,2,    1.920,2, -999.000
           NA,HOT timeseries 1988to2019 27SEP2021,     73,  99,-999.0,      21,-999.0,19961030,0006,  22.7507, -157.9677,  4714,  500.800,    7.307,   34.057,2,   34.057,2,  131.100,2,  129.800,2,   43.080,2,   27.250,2,    1.910,2, -999.000
           NA,HOT timeseries 1988to2019 27SEP2021,     73,  99,-999.0,       3,-999.0,19961030,0006,  22.7507, -157.9677,  4714,  511.400,    6.546,   34.058,2,   34.059,2,  107.900,2,  102.300,2,   54.310,2,   31.480,2,    2.250,2, -999.000
           NA,HOT timeseries 1988to2019 27SEP2021,     73,  99,-999.0,      29,-999.0,19961030,0006,  22.7507, -157.9677,  4714,  550.500,    6.418,   34.170,2,   34.167,2,   61.000,2,   57.400,2,   62.050,2,   35.240,2,    2.600,2, -999.000
           NA,HOT timeseries 1988to2019 27SEP2021,     73,  99,-999.0,      28,-999.0,19961030,0006,  22.7507, -157.9677,  4714,  615.400,    5.845,   34.216,2,   34.215,2,   40.600,2,   39.100,2,   72.280,2,   37.930,2,    2.780,2, -999.000
           NA,HOT timeseries 1988to2019 27SEP2021,     73,  99,-999.0,       7,-999.0,19961030,0006,  22.7507, -157.9677,  4714,  687.100,    5.438,   34.299,2,   34.297,2,   30.000,2,   29.000,2,   81.080,2,   39.780,2,    2.920,2, -999.000
           NA,HOT timeseries 1988to2019 27SEP2021,     73,  99,-999.0,      38,-999.0,19961030,0006,  22.7507, -157.9677,  4714,  744.000,    5.010,   34.369,2,   34.365,2,   26.800,2,   26.200,2,   89.560,2,   40.970,2,    2.990,2, -999.000
           NA,HOT timeseries 1988to2019 27SEP2021,     73,  99,-999.0,      36,-999.0,19961030,0006,  22.7507, -157.9677,  4714,  835.800,    4.638,   34.434,2,   34.433,2,   30.600,2,   30.000,2,   96.820,2,   41.650,2,    3.020,2, -999.000
           NA,HOT timeseries 1988to2019 27SEP2021,     73,  99,-999.0,      35,-999.0,19961030,0006,  22.7507, -157.9677,  4714,  900.600,    4.275,   34.454,2,   34.456,2,   33.900,2,   33.300,2,  104.370,2,   41.950,2,    3.020,2, -999.000
           NA,HOT timeseries 1988to2019 27SEP2021,     73,  99,-999.0,      20,-999.0,19961030,0006,  22.7507, -157.9677,  4714, 1000.100,    4.102,   34.479,2,   34.479,2,   37.700,2,   37.400,2,  106.600,2,   41.220,2,    3.050,2, -999.000
           NA,HOT timeseries 1988to2019 27SEP2021,     73,  99,-999.0,      34,-999.0,19961030,0006,  22.7507, -157.9677,  4714, 1007.000,    4.010,   34.485,2,   34.485,2,   39.900,2,   40.700,2,  109.460,2,   41.750,2,    3.020,2, -999.000
           NA,HOT timeseries 1988to2019 27SEP2021,     73,  99,-999.0,      33,-999.0,19961030,0006,  22.7507, -157.9677,  4714, 1020.300,    3.961,   34.489,2,   34.494,2,   40.800,2,   40.400,2,  110.600,2,   42.300,2,    3.010,2, -999.000
           NA,HOT timeseries 1988to2019 27SEP2021,     73,  99,-999.0,      19,-999.0,19961030,0006,  22.7507, -157.9677,  4714, 1399.800,    3.126,   34.556,2,   34.556,2,   57.600,2,   57.100,2, -999.000,5, -999.000,5, -999.000,5, -999.000
           NA,HOT timeseries 1988to2019 27SEP2021,     73,  99,-999.0,      18,-999.0,19961030,0006,  22.7507, -157.9677,  4714, 1599.100,    2.785,   34.578,2,   34.578,2,   65.900,2,   65.800,2,  134.780,2,   40.680,2,    2.890,2, -999.000
           NA,HOT timeseries 1988to2019 27SEP2021,     73,  99,-999.0,      17,-999.0,19961030,0006,  22.7507, -157.9677,  4714, 1799.300,    2.469,   34.598,2,   34.596,2,   75.200,2,   74.700,2,  141.660,2,   40.150,2,    2.850,2, -999.000
           NA,HOT timeseries 1988to2019 27SEP2021,     73,  99,-999.0,      16,-999.0,19961030,0006,  22.7507, -157.9677,  4714, 2000.500,    2.142,   34.617,2,   34.617,2,   84.800,2,   85.100,2,  149.220,2,   39.740,2,    2.800,2, -999.000
           NA,HOT timeseries 1988to2019 27SEP2021,     73,  99,-999.0,      15,-999.0,19961030,0006,  22.7507, -157.9677,  4714, 2198.800,    1.936,   34.631,2,   34.631,2,   91.300,2,   91.400,2,  155.370,2,   39.240,2,    2.770,2, -999.000
           NA,HOT timeseries 1988to2019 27SEP2021,     73,  99,-999.0,      14,-999.0,19961030,0006,  22.7507, -157.9677,  4714, 2399.300,    1.788,   34.643,2,   34.643,2,   98.800,2,   99.700,2,  158.140,2,   38.680,2,    2.740,2, -999.000
           NA,HOT timeseries 1988to2019 27SEP2021,     73,  99,-999.0,      13,-999.0,19961030,0006,  22.7507, -157.9677,  4714, 2600.700,    1.672,   34.655,2,   34.655,2,  108.500,2,  109.500,2,  158.290,2,   38.020,2,    2.680,2, -999.000
           NA,HOT timeseries 1988to2019 27SEP2021,     73,  99,-999.0,      12,-999.0,19961030,0006,  22.7507, -157.9677,  4714, 2800.100,    1.589,   34.663,2,   34.663,2,  118.800,2,  117.300,2,  159.420,2,   37.550,2,    2.650,2, -999.000
           NA,HOT timeseries 1988to2019 27SEP2021,     73,  99,-999.0,      11,-999.0,19961030,0006,  22.7507, -157.9677,  4714, 2999.200,    1.526,   34.671,2,   34.671,2,  126.300,2,  126.700,2,  157.060,2,   37.150,2,    2.600,2, -999.000
           NA,HOT timeseries 1988to2019 27SEP2021,     73,  99,-999.0,      32,-999.0,19961030,0006,  22.7507, -157.9677,  4714, 3201.200,    1.487,   34.676,2,   34.677,2,  132.000,2,  132.800,2,  155.320,2,   36.660,2,    2.560,2, -999.000
           NA,HOT timeseries 1988to2019 27SEP2021,     73,  99,-999.0,       3,-999.0,19961030,0006,  22.7507, -157.9677,  4714, 3400.500,    1.461,   34.680,2,   34.680,2,  137.800,2,  138.100,2,  153.600,2,   36.350,2,    2.530,2, -999.000
           NA,HOT timeseries 1988to2019 27SEP2021,     73,  99,-999.0,      29,-999.0,19961030,0006,  22.7507, -157.9677,  4714, 3600.400,    1.452,   34.683,2,   34.683,2,  141.700,2,  141.900,2,  152.430,2,   36.150,2,    2.530,2, -999.000
           NA,HOT timeseries 1988to2019 27SEP2021,     73,  99,-999.0,      28,-999.0,19961030,0006,  22.7507, -157.9677,  4714, 3801.000,    1.449,   34.685,2,   34.686,2,  145.500,2,  145.300,2,  151.050,2,   35.920,2,    2.500,2, -999.000
           NA,HOT timeseries 1988to2019 27SEP2021,     73,  99,-999.0,       7,-999.0,19961030,0006,  22.7507, -157.9677,  4714, 4000.100,    1.455,   34.686,2,   34.686,2,  147.400,2,  147.500,2,  149.470,2,   35.750,2,    2.500,2, -999.000
           NA,HOT timeseries 1988to2019 27SEP2021,     73,  99,-999.0,      38,-999.0,19961030,0006,  22.7507, -157.9677,  4714, 4201.300,    1.464,   34.687,2,   34.686,2,  149.900,2, -999.000,3, -999.000,3, -999.000,3, -999.000,3, -999.000
           NA,HOT timeseries 1988to2019 27SEP2021,     73,  99,-999.0,      36,-999.0,19961030,0006,  22.7507, -157.9677,  4714, 4400.000,    1.478,   34.688,2,   34.688,2,  151.100,2,  150.900,2,  147.840,2,   35.700,2,    2.470,2, -999.000
           NA,HOT timeseries 1988to2019 27SEP2021,     73,  99,-999.0,      35,-999.0,19961030,0006,  22.7507, -157.9677,  4714, 4499.900,    1.486,   34.689,2,   34.689,2,  152.000,2,  151.500,2,  147.620,2,   35.640,2,    2.470,2, -999.000
           NA,HOT timeseries 1988to2019 27SEP2021,     73,  99,-999.0,      34,-999.0,19961030,0006,  22.7507, -157.9677,  4714, 4601.000,    1.494,   34.689,2,   34.689,2,  152.500,2,  153.300,2,  146.850,2,   35.490,2,    2.460,2, -999.000
           NA,HOT timeseries 1988to2019 27SEP2021,     73,  99,-999.0,      33,-999.0,19961030,0006,  22.7507, -157.9677,  4714, 4810.400,    1.507,   34.690,2,   34.690,2,  155.400,2,  153.900,2,  145.720,2,   35.510,2,    2.450,2, -999.000