BOTTLE,20214727JOAExport
EXPOCODE,SECT_ID,STNNBR,CASTNO,SAMPNO,BTLNBR,BTLNBR_FLAG_W,DATE,TIME,LATITUDE,LONGITUDE,DEPTH,CTDPRS,CTDTMP,CTDSAL,CTDSAL_FLAG_W,SALNTY,SALNTY_FLAG_W,CTDOXY,CTDOXY_FLAG_W,OXYGEN,OXYGEN_FLAG_W,SILCAT,SILCAT_FLAG_W,NINI,NINI_FLAG_W,PHSPHT,PHSPHT_FLAG_W,REVP
,,,,,,,,,,,,DB,IPTS-68,PSS-78,,PSS-78,,UMOL/KG,,UMOL/KG,,UMOL/KG,,UMOL/KG,,UMOL/KG,,DBAR
           NA,HOT timeseries 1988to2019 27SEP2021,    161,  99,-999.0,      31,-999.0,20041127,1311,  22.7520, -158.0005,  4736,    4.800,   26.410,   34.907,2,   34.906,2,  203.000,2,  202.900,2,    0.830,2,    0.000,2,    0.020,2, -999.000
           NA,HOT timeseries 1988to2019 27SEP2021,    161,  99,-999.0,      31,-999.0,20041127,1311,  22.7520, -158.0005,  4736,   24.400,   26.085,   35.008,2,   35.001,2,  203.900,2,  204.300,2,    0.830,2,    0.030,2,    0.030,2, -999.000
           NA,HOT timeseries 1988to2019 27SEP2021,    161,  99,-999.0,      30,-999.0,20041127,1311,  22.7520, -158.0005,  4736,   71.200,   24.000,   35.264,2,   35.255,2,  219.200,2,  217.900,2,    0.980,2,    0.040,2,    0.040,2, -999.000
           NA,HOT timeseries 1988to2019 27SEP2021,    161,  99,-999.0,      22,-999.0,20041127,1311,  22.7520, -158.0005,  4736,   80.900,   23.232,   35.312,2,   35.316,2,  222.300,2,  222.200,2,    1.260,2,    0.030,2,    0.020,2, -999.000
           NA,HOT timeseries 1988to2019 27SEP2021,    161,  99,-999.0,      21,-999.0,20041127,1311,  22.7520, -158.0005,  4736,   97.900,   21.781,   35.298,2,   35.295,2,  202.000,2,  207.400,2,    1.450,2,    0.310,2,    0.040,2, -999.000
           NA,HOT timeseries 1988to2019 27SEP2021,    161,  99,-999.0,      20,-999.0,20041127,1311,  22.7520, -158.0005,  4736,  150.600,   19.568,   35.085,2,   35.095,2,  200.100,2,  200.100,2,    2.110,2,    1.520,2,    0.070,2, -999.000
           NA,HOT timeseries 1988to2019 27SEP2021,    161,  99,-999.0,      19,-999.0,20041127,1311,  22.7520, -158.0005,  4736,  192.600,   17.674,   34.817,2,   34.816,2,  197.200,2,  195.400,2,    3.300,2,    3.450,2,    0.360,2, -999.000
           NA,HOT timeseries 1988to2019 27SEP2021,    161,  99,-999.0,      18,-999.0,20041127,1311,  22.7520, -158.0005,  4736,  230.300,   15.733,   34.548,2,   34.551,2,  188.300,2,  187.800,2,    5.320,2,    6.290,2,    0.580,2, -999.000
           NA,HOT timeseries 1988to2019 27SEP2021,    161,  99,-999.0,      17,-999.0,20041127,1311,  22.7520, -158.0005,  4736,  263.200,   13.248,   34.296,2,   34.295,2,  190.000,2,  190.300,2,    8.890,2,    9.840,2,    0.830,2, -999.000
           NA,HOT timeseries 1988to2019 27SEP2021,    161,  99,-999.0,      16,-999.0,20041127,1311,  22.7520, -158.0005,  4736,  294.900,   12.124,   34.219,2,   34.221,2,  194.200,2,  192.900,2,   11.350,2,   11.770,2,    0.950,2, -999.000
           NA,HOT timeseries 1988to2019 27SEP2021,    161,  99,-999.0,     102,-999.0,20041127,1311,  22.7520, -158.0005,  4736,  330.900,   10.946,   34.180,2,   34.179,2,  182.400,2,  182.500,2,   16.050,2,   15.450,2,    1.200,2, -999.000
           NA,HOT timeseries 1988to2019 27SEP2021,    161,  99,-999.0,     101,-999.0,20041127,1311,  22.7520, -158.0005,  4736,  391.900,    9.281,   34.143,2,   34.142,2,  152.200,2,  152.200,2,   27.190,2,   21.690,2,    1.650,2, -999.000
           NA,HOT timeseries 1988to2019 27SEP2021,    161,  99,-999.0,      42,-999.0,20041127,1311,  22.7520, -158.0005,  4736,  452.900,    7.837,   34.120,2,   34.122,2,  112.300,2,  111.900,2,   41.210,2,   28.060,2,    2.120,2, -999.000
           NA,HOT timeseries 1988to2019 27SEP2021,    161,  99,-999.0,      12,-999.0,20041127,1311,  22.7520, -158.0005,  4736,  505.800,    7.211,   34.168,2,   34.166,2,   79.600,2,   76.500,2,   50.800,2,   32.230,2,    2.460,2, -999.000
           NA,HOT timeseries 1988to2019 27SEP2021,    161,  99,-999.0,      39,-999.0,20041127,1311,  22.7520, -158.0005,  4736,  554.400,    6.406,   34.163,2,   34.164,2,   62.200,2,   60.900,2,   61.480,2,   35.130,2,    2.660,2, -999.000
           NA,HOT timeseries 1988to2019 27SEP2021,    161,  99,-999.0,      32,-999.0,20041127,1311,  22.7520, -158.0005,  4736,  617.600,    5.931,   34.211,2,   34.218,2,   45.400,2,   44.400,2,   71.290,2,   37.670,2,    2.810,2, -999.000
           NA,HOT timeseries 1988to2019 27SEP2021,    161,  99,-999.0,       3,-999.0,20041127,1311,  22.7520, -158.0005,  4736,  668.900,    5.502,   34.294,2,   34.292,2,   35.000,2,   34.100,2,   79.960,2,   39.500,2,    2.950,2, -999.000
           NA,HOT timeseries 1988to2019 27SEP2021,    161,  99,-999.0,      29,-999.0,20041127,1311,  22.7520, -158.0005,  4736,  713.600,    5.277,   34.326,2,   34.324,2,   32.700,2,   32.000,2,   84.190,2,   40.130,2,    3.000,2, -999.000
           NA,HOT timeseries 1988to2019 27SEP2021,    161,  99,-999.0,      28,-999.0,20041127,1311,  22.7520, -158.0005,  4736,  757.100,    5.040,   34.357,2,   34.361,2,   32.100,2,   31.100,2,   88.420,2,   40.690,2,    3.040,2, -999.000
           NA,HOT timeseries 1988to2019 27SEP2021,    161,  99,-999.0,      13,-999.0,20041127,1311,  22.7520, -158.0005,  4736,  804.600,    4.829,   34.389,2,   34.387,2,   30.700,2,   30.700,2,   92.650,2,   41.110,2,    3.060,2, -999.000
           NA,HOT timeseries 1988to2019 27SEP2021,    161,  99,-999.0,      38,-999.0,20041127,1311,  22.7520, -158.0005,  4736,  850.800,    4.651,   34.424,2,   34.425,2,   34.600,2,   33.400,2,   95.100,2,   41.310,2,    3.060,2, -999.000
           NA,HOT timeseries 1988to2019 27SEP2021,    161,  99,-999.0,      36,-999.0,20041127,1311,  22.7520, -158.0005,  4736,  892.600,    4.495,   34.444,2,   34.444,2,   36.200,2,   37.000,2,   98.440,2,   41.440,2,    3.070,2, -999.000
           NA,HOT timeseries 1988to2019 27SEP2021,    161,  99,-999.0,      35,-999.0,20041127,1311,  22.7520, -158.0005,  4736,  931.800,    4.399,   34.464,2,   34.464,2,   38.200,2,   39.000,2,  100.880,2,   41.290,2,    3.060,2, -999.000
           NA,HOT timeseries 1988to2019 27SEP2021,    161,  99,-999.0,      34,-999.0,20041127,1311,  22.7520, -158.0005,  4736,  995.600,    4.228,   34.484,2,   34.484,2,   41.500,2, -999.000,3, -999.000,3,   41.420,2,    3.040,2, -999.000
           NA,HOT timeseries 1988to2019 27SEP2021,    161,  99,-999.0,      33,-999.0,20041127,1311,  22.7520, -158.0005,  4736, 1019.400,    4.161,   34.489,2,   34.490,2,   42.100,2,   42.600,2, -999.000,3,   41.410,2,    3.030,2, -999.000
           NA,HOT timeseries 1988to2019 27SEP2021,    161,  99,-999.0,      20,-999.0,20041127,1311,  22.7520, -158.0005,  4736, 1203.300,    3.591,   34.531,2, -999.000,3, -999.000,3,   50.600,2,  116.640,2,   41.590,2,    3.020,2, -999.000
           NA,HOT timeseries 1988to2019 27SEP2021,    161,  99,-999.0,      19,-999.0,20041127,1311,  22.7520, -158.0005,  4736, 1400.500,    3.138,   34.561,2, -999.000,3, -999.000,3,   57.400,2,  127.850,2,   41.300,2, -999.000,3, -999.000
           NA,HOT timeseries 1988to2019 27SEP2021,    161,  99,-999.0,      18,-999.0,20041127,1311,  22.7520, -158.0005,  4736, 1600.700,    2.736,   34.579,2,   34.579,2,   69.700,2,   70.300,2,  135.980,2,   40.440,2,    2.950,2, -999.000
           NA,HOT timeseries 1988to2019 27SEP2021,    161,  99,-999.0,      17,-999.0,20041127,1311,  22.7520, -158.0005,  4736, 1801.300,    2.382,   34.601,2,   34.602,2,   79.500,2,   80.000,2,  142.020,2,   40.010,2,    2.910,2, -999.000
           NA,HOT timeseries 1988to2019 27SEP2021,    161,  99,-999.0,      16,-999.0,20041127,1311,  22.7520, -158.0005,  4736, 1999.200,    2.151,   34.617,2,   34.617,2,   87.400,2,   88.300,2,  148.370,2,   39.570,2,    2.860,2, -999.000
           NA,HOT timeseries 1988to2019 27SEP2021,    161,  99,-999.0,     102,-999.0,20041127,1311,  22.7520, -158.0005,  4736, 2200.500,    1.957,   34.632,2,   34.633,2,   96.500,2,   96.300,2,  152.620,2,   38.930,2,    2.820,2, -999.000
           NA,HOT timeseries 1988to2019 27SEP2021,    161,  99,-999.0,     101,-999.0,20041127,1311,  22.7520, -158.0005,  4736, 2400.900,    1.808,   34.645,2,   34.645,2,  104.700,2,  105.200,2,  153.360,2,   38.570,2,    2.750,2, -999.000
           NA,HOT timeseries 1988to2019 27SEP2021,    161,  99,-999.0,      42,-999.0,20041127,1311,  22.7520, -158.0005,  4736, 2598.200,    1.699,   34.654,2,   34.654,2,  110.300,2,  110.600,2,  156.260,2,   38.210,2,    2.730,2, -999.000
           NA,HOT timeseries 1988to2019 27SEP2021,    161,  99,-999.0,      12,-999.0,20041127,1311,  22.7520, -158.0005,  4736, 2801.100,    1.620,   34.662,2,   34.665,2,  117.400,2,  117.600,2,  158.110,2,   37.790,2,    2.690,2, -999.000
           NA,HOT timeseries 1988to2019 27SEP2021,    161,  99,-999.0,      39,-999.0,20041127,1311,  22.7520, -158.0005,  4736, 2999.200,    1.556,   34.669,2,   34.668,2,  123.800,2,  124.200,2,  157.700,2,   37.520,2,    2.630,2, -999.000
           NA,HOT timeseries 1988to2019 27SEP2021,    161,  99,-999.0,      32,-999.0,20041127,1311,  22.7520, -158.0005,  4736, 3199.500,    1.510,   34.674,2, -999.000,4, -999.000,3,  129.200,2,  154.780,2,   37.330,2,    2.600,2, -999.000
           NA,HOT timeseries 1988to2019 27SEP2021,    161,  99,-999.0,       3,-999.0,20041127,1311,  22.7520, -158.0005,  4736, 3399.900,    1.478,   34.680,2,   34.682,2,  136.400,2,  136.300,2,  153.410,2,   36.840,2,    2.600,2, -999.000
           NA,HOT timeseries 1988to2019 27SEP2021,    161,  99,-999.0,      29,-999.0,20041127,1311,  22.7520, -158.0005,  4736, 3599.700,    1.464,   34.683,2,   34.682,2,  140.800,2,  140.600,2,  154.470,2,   36.610,2,    2.590,2, -999.000
           NA,HOT timeseries 1988to2019 27SEP2021,    161,  99,-999.0,      28,-999.0,20041127,1311,  22.7520, -158.0005,  4736, 3798.900,    1.459,   34.685,2,   34.685,2,  144.300,2, -999.000,4,  151.970,2,   36.330,2,    2.560,2, -999.000
           NA,HOT timeseries 1988to2019 27SEP2021,    161,  99,-999.0,      13,-999.0,20041127,1311,  22.7520, -158.0005,  4736, 4000.800,    1.458,   34.687,2,   34.688,2,  147.500,2,  147.200,2,  150.180,2,   36.270,2,    2.550,2, -999.000
           NA,HOT timeseries 1988to2019 27SEP2021,    161,  99,-999.0,      38,-999.0,20041127,1311,  22.7520, -158.0005,  4736, 4202.300,    1.465,   34.688,2,   34.690,2,  150.100,2,  150.000,2,  149.750,2,   36.080,2,    2.550,2, -999.000
           NA,HOT timeseries 1988to2019 27SEP2021,    161,  99,-999.0,      36,-999.0,20041127,1311,  22.7520, -158.0005,  4736, 4399.500,    1.476,   34.689,2,   34.689,2,  151.900,2,  152.200,2,  147.650,2,   35.940,2,    2.520,2, -999.000
           NA,HOT timeseries 1988to2019 27SEP2021,    161,  99,-999.0,      35,-999.0,20041127,1311,  22.7520, -158.0005,  4736, 4500.900,    1.484,   34.690,2,   34.689,2,  152.400,2,  151.900,2,  147.010,2,   35.930,2,    2.490,2, -999.000
           NA,HOT timeseries 1988to2019 27SEP2021,    161,  99,-999.0,      34,-999.0,20041127,1311,  22.7520, -158.0005,  4736, 4600.000,    1.491,   34.690,2,   34.693,2,  153.000,2,  152.900,2,  146.280,2,   35.640,2,    2.490,2, -999.000
           NA,HOT timeseries 1988to2019 27SEP2021,    161,  99,-999.0,      33,-999.0,20041127,1311,  22.7520, -158.0005,  4736, 4805.700,    1.507,   34.691,2,   34.692,2,  154.400,2,  154.900,2,  145.720,2,   35.630,2,    2.510,2, -999.000