BOTTLE,20214727JOAExport
EXPOCODE,SECT_ID,STNNBR,CASTNO,SAMPNO,BTLNBR,BTLNBR_FLAG_W,DATE,TIME,LATITUDE,LONGITUDE,DEPTH,CTDPRS,CTDTMP,CTDSAL,CTDSAL_FLAG_W,SALNTY,SALNTY_FLAG_W,CTDOXY,CTDOXY_FLAG_W,OXYGEN,OXYGEN_FLAG_W,SILCAT,SILCAT_FLAG_W,NINI,NINI_FLAG_W,PHSPHT,PHSPHT_FLAG_W,REVP
,,,,,,,,,,,,DB,IPTS-68,PSS-78,,PSS-78,,UMOL/KG,,UMOL/KG,,UMOL/KG,,UMOL/KG,,UMOL/KG,,DBAR
           NA,HOT timeseries 1988to2019 27SEP2021,    169,  99,-999.0,      23,-999.0,20050909,1515,  22.7505, -157.9868,  4739,   12.000,   26.706,   35.042,2,   35.042,2,  205.900,2,  204.900,2,    0.830,2,    0.060,2,    0.040,2, -999.000
           NA,HOT timeseries 1988to2019 27SEP2021,    169,  99,-999.0,      23,-999.0,20050909,1515,  22.7505, -157.9868,  4739,   13.300,   26.681,   35.037,2,   35.039,2,  204.700,2,  204.300,2,    0.910,2,    0.050,2,    0.060,2, -999.000
           NA,HOT timeseries 1988to2019 27SEP2021,    169,  99,-999.0,      30,-999.0,20050909,1515,  22.7505, -157.9868,  4739,   69.600,   25.444,   35.067,2,   35.073,2,  215.300,2,  214.700,2,    1.090,2,    0.090,2,    0.050,2, -999.000
           NA,HOT timeseries 1988to2019 27SEP2021,    169,  99,-999.0,      22,-999.0,20050909,1515,  22.7505, -157.9868,  4739,   94.100,   23.704,   35.187,2,   35.188,2,  221.800,2,  222.200,2,    1.150,2,    0.140,2,    0.030,2, -999.000
           NA,HOT timeseries 1988to2019 27SEP2021,    169,  99,-999.0,      21,-999.0,20050909,1515,  22.7505, -157.9868,  4739,  138.900,   22.029,   35.250,2,   35.250,2,  209.200,2,  210.200,2,    1.240,2,    0.220,2,    0.050,2, -999.000
           NA,HOT timeseries 1988to2019 27SEP2021,    169,  99,-999.0,      16,-999.0,20050909,1515,  22.7505, -157.9868,  4739,  173.700,   20.618,   35.113,2,   35.113,2,  196.700,2,  197.000,2,    1.690,2,    1.300,2,    0.140,2, -999.000
           NA,HOT timeseries 1988to2019 27SEP2021,    169,  99,-999.0,      19,-999.0,20050909,1515,  22.7505, -157.9868,  4739,  206.400,   18.723,   34.864,2,   34.883,2,  192.900,2,  193.800,2,    2.550,2,    2.610,2,    0.240,2, -999.000
           NA,HOT timeseries 1988to2019 27SEP2021,    169,  99,-999.0,      18,-999.0,20050909,1515,  22.7505, -157.9868,  4739,  257.900,   15.190,   34.418,2,   34.417,2,  192.500,2,  191.500,2,    5.560,2,    6.480,2,    0.530,2, -999.000
           NA,HOT timeseries 1988to2019 27SEP2021,    169,  99,-999.0,      17,-999.0,20050909,1515,  22.7505, -157.9868,  4739,  297.300,   12.894,   34.201,2,   34.198,2,  185.500,2,  186.400,2,    9.210,2,   10.350,2,    0.820,2, -999.000
           NA,HOT timeseries 1988to2019 27SEP2021,    169,  99,-999.0,      34,-999.0,20050909,1515,  22.7505, -157.9868,  4739,  334.200,   11.203,   34.099,2,   34.099,2,  199.600,2,  198.200,2,   13.050,2,   13.090,2,    0.910,2, -999.000
           NA,HOT timeseries 1988to2019 27SEP2021,    169,  99,-999.0,     102,-999.0,20050909,1515,  22.7505, -157.9868,  4739,  371.200,   10.228,   34.155,2,   34.152,2,  203.300,2,  204.000,2,   17.970,2,   15.520,2,    1.060,2, -999.000
           NA,HOT timeseries 1988to2019 27SEP2021,    169,  99,-999.0,     101,-999.0,20050909,1515,  22.7505, -157.9868,  4739,  438.700,    8.646,   34.090,2,   34.095,2,  165.000,2,  163.100,2,   30.070,2,   22.410,2,    1.600,2, -999.000
           NA,HOT timeseries 1988to2019 27SEP2021,    169,  99,-999.0,      42,-999.0,20050909,1515,  22.7505, -157.9868,  4739,  502.200,    7.221,   34.072,2,   34.071,2,  105.800,2,  106.600,2,   46.370,2,   30.000,2,    2.190,2, -999.000
           NA,HOT timeseries 1988to2019 27SEP2021,    169,  99,-999.0,      12,-999.0,20050909,1515,  22.7505, -157.9868,  4739,  545.300,    6.254,   34.052,2,   34.051,2,   88.300,2,   88.200,2,   58.830,2,   33.610,2,    2.360,2, -999.000
           NA,HOT timeseries 1988to2019 27SEP2021,    169,  99,-999.0,      39,-999.0,20050909,1515,  22.7505, -157.9868,  4739,  591.100,    5.843,   34.066,2,   34.070,2,   75.500,2,   72.100,2,   65.790,2,   35.280,2,    2.570,2, -999.000
           NA,HOT timeseries 1988to2019 27SEP2021,    169,  99,-999.0,      33,-999.0,20050909,1515,  22.7505, -157.9868,  4739,  630.700,    5.659,   34.163,2, -999.000,3, -999.000,3,   39.900,2,   71.670,2,   37.970,2,    2.830,2, -999.000
           NA,HOT timeseries 1988to2019 27SEP2021,    169,  99,-999.0,       3,-999.0,20050909,1515,  22.7505, -157.9868,  4739,  677.400,    5.546,   34.281,2, -999.000,4, -999.000,3,   25.800,2,   78.100,2,   39.710,2,    2.970,2, -999.000
           NA,HOT timeseries 1988to2019 27SEP2021,    169,  99,-999.0,      29,-999.0,20050909,1515,  22.7505, -157.9868,  4739,  723.500,    5.385,   34.339,2,   34.339,2,   24.200,2,   23.800,2,   80.380,2,   40.320,2,    3.010,2, -999.000
           NA,HOT timeseries 1988to2019 27SEP2021,    169,  99,-999.0,      28,-999.0,20050909,1515,  22.7505, -157.9868,  4739,  769.600,    5.292,   34.384,2,   34.381,2,   23.300,2,   22.900,2,   81.510,2,   40.620,2,    3.030,2, -999.000
           NA,HOT timeseries 1988to2019 27SEP2021,    169,  99,-999.0,      13,-999.0,20050909,1515,  22.7505, -157.9868,  4739,  813.800,    5.031,   34.413,2,   34.409,2,   25.800,2,   25.000,2,   85.870,2,   41.210,2,    3.050,2, -999.000
           NA,HOT timeseries 1988to2019 27SEP2021,    169,  99,-999.0,      38,-999.0,20050909,1515,  22.7505, -157.9868,  4739,  859.300,    4.848,   34.442,2,   34.445,2,   27.100,2,   26.900,2,   88.610,2,   41.560,2,    3.070,2, -999.000
           NA,HOT timeseries 1988to2019 27SEP2021,    169,  99,-999.0,      36,-999.0,20050909,1515,  22.7505, -157.9868,  4739,  902.500,    4.699,   34.460,2,   34.459,2,   29.000,2,   28.700,2,   92.830,2,   41.730,2,    3.080,2, -999.000
           NA,HOT timeseries 1988to2019 27SEP2021,    169,  99,-999.0,      35,-999.0,20050909,1515,  22.7505, -157.9868,  4739,  945.100,    4.503,   34.474,2,   34.474,2,   32.300,2,   32.100,2,   96.880,2,   41.940,2,    3.080,2, -999.000
           NA,HOT timeseries 1988to2019 27SEP2021,    169,  99,-999.0,       7,-999.0,20050909,1515,  22.7505, -157.9868,  4739,  988.300,    4.326,   34.486,2,   34.488,2,   35.300,2,   34.800,2,   99.890,2,   41.860,2,    3.070,2, -999.000
           NA,HOT timeseries 1988to2019 27SEP2021,    169,  99,-999.0,      11,-999.0,20050909,1515,  22.7505, -157.9868,  4739, 1033.600,    4.210,   34.494,2,   34.495,2,   36.700,2,   37.200,2,  102.680,2,   42.130,2,    3.080,2, -999.000
           NA,HOT timeseries 1988to2019 27SEP2021,    169,  99,-999.0,      16,-999.0,20050909,1515,  22.7505, -157.9868,  4739, 1195.400,    3.705,   34.529,2,   34.528,2,   45.200,2,   46.400,2,  114.200,2,   41.880,2,    3.010,2, -999.000
           NA,HOT timeseries 1988to2019 27SEP2021,    169,  99,-999.0,      19,-999.0,20050909,1515,  22.7505, -157.9868,  4739, 1400.100,    3.183,   34.560,2,   34.560,2,   56.500,2,   57.400,2,  126.830,2,   41.120,2,    2.970,2, -999.000
           NA,HOT timeseries 1988to2019 27SEP2021,    169,  99,-999.0,      18,-999.0,20050909,1515,  22.7505, -157.9868,  4739, 1599.700,    2.800,   34.582,2,   34.583,2,   68.200,2, -999.000,5,  133.580,2,   40.750,2,    2.940,2, -999.000
           NA,HOT timeseries 1988to2019 27SEP2021,    169,  99,-999.0,      17,-999.0,20050909,1515,  22.7505, -157.9868,  4739, 1800.400,    2.500,   34.599,2,   34.600,2,   76.000,2,   76.300,2,  140.470,2,   39.990,2,    2.880,2, -999.000
           NA,HOT timeseries 1988to2019 27SEP2021,    169,  99,-999.0,      34,-999.0,20050909,1515,  22.7505, -157.9868,  4739, 2000.900,    2.227,   34.616,2,   34.616,2,   87.600,2,   88.000,2,  146.760,2,   39.130,2,    2.810,2, -999.000
           NA,HOT timeseries 1988to2019 27SEP2021,    169,  99,-999.0,     102,-999.0,20050909,1515,  22.7505, -157.9868,  4739, 2199.000,    2.020,   34.629,2,   34.628,2,   93.200,2,   93.200,2,  151.400,2,   39.060,2,    2.790,2, -999.000
           NA,HOT timeseries 1988to2019 27SEP2021,    169,  99,-999.0,     101,-999.0,20050909,1515,  22.7505, -157.9868,  4739, 2400.000,    1.869,   34.638,2,   34.637,2,   95.500,2,   95.800,2,  157.020,2,   38.850,2,    2.780,2, -999.000
           NA,HOT timeseries 1988to2019 27SEP2021,    169,  99,-999.0,      42,-999.0,20050909,1515,  22.7505, -157.9868,  4739, 2601.200,    1.741,   34.651,2,   34.651,2,  106.400,2, -999.000,4,  156.740,2,   38.330,2,    2.740,2, -999.000
           NA,HOT timeseries 1988to2019 27SEP2021,    169,  99,-999.0,      12,-999.0,20050909,1515,  22.7505, -157.9868,  4739, 2797.900,    1.654,   34.659,2,   34.659,2,  113.800,2,  114.500,2,  158.590,2,   37.890,2,    2.680,2, -999.000
           NA,HOT timeseries 1988to2019 27SEP2021,    169,  99,-999.0,      39,-999.0,20050909,1515,  22.7505, -157.9868,  4739, 3002.000,    1.596,   34.666,2,   34.667,2,  121.100,2,  121.300,2,  158.780,2,   37.600,2,    2.640,2, -999.000
           NA,HOT timeseries 1988to2019 27SEP2021,    169,  99,-999.0,      33,-999.0,20050909,1515,  22.7505, -157.9868,  4739, 3200.800,    1.543,   34.673,2,   34.673,2,  127.100,2,  128.400,2,  157.360,2,   37.270,2,    2.610,2, -999.000
           NA,HOT timeseries 1988to2019 27SEP2021,    169,  99,-999.0,       3,-999.0,20050909,1515,  22.7505, -157.9868,  4739, 3400.600,    1.508,   34.678,2,   34.678,2,  132.400,2, -999.000,4,  158.830,2,   37.050,2,    2.570,2, -999.000
           NA,HOT timeseries 1988to2019 27SEP2021,    169,  99,-999.0,      29,-999.0,20050909,1515,  22.7505, -157.9868,  4739, 3600.100,    1.485,   34.681,2,   34.681,2,  138.400,2,  138.200,2,  154.840,2,   36.380,2,    2.540,2, -999.000
           NA,HOT timeseries 1988to2019 27SEP2021,    169,  99,-999.0,      28,-999.0,20050909,1515,  22.7505, -157.9868,  4739, 3798.800,    1.463,   34.685,2,   34.685,2,  144.000,2,  143.900,2,  152.130,2,   36.180,2,    2.540,2, -999.000
           NA,HOT timeseries 1988to2019 27SEP2021,    169,  99,-999.0,      13,-999.0,20050909,1515,  22.7505, -157.9868,  4739, 4000.300,    1.462,   34.687,2,   34.687,2,  147.400,2,  147.100,2,  151.070,2,   35.850,2,    2.510,2, -999.000
           NA,HOT timeseries 1988to2019 27SEP2021,    169,  99,-999.0,      38,-999.0,20050909,1515,  22.7505, -157.9868,  4739, 4199.900,    1.469,   34.688,2,   34.688,2,  150.000,2,  149.900,2,  150.110,2,   35.680,2,    2.490,2, -999.000
           NA,HOT timeseries 1988to2019 27SEP2021,    169,  99,-999.0,      36,-999.0,20050909,1515,  22.7505, -157.9868,  4739, 4399.900,    1.481,   34.689,2,   34.689,2,  151.900,2, -999.000,4,  149.590,2,   35.540,2,    2.470,2, -999.000
           NA,HOT timeseries 1988to2019 27SEP2021,    169,  99,-999.0,      35,-999.0,20050909,1515,  22.7505, -157.9868,  4739, 4501.700,    1.488,   34.690,2,   34.691,2,  152.600,2,  151.400,2,  147.870,2,   35.480,2,    2.480,2, -999.000
           NA,HOT timeseries 1988to2019 27SEP2021,    169,  99,-999.0,       7,-999.0,20050909,1515,  22.7505, -157.9868,  4739, 4602.300,    1.497,   34.690,2,   34.689,2,  153.100,2,  152.400,2,  147.810,2,   35.620,2,    2.490,2, -999.000
           NA,HOT timeseries 1988to2019 27SEP2021,    169,  99,-999.0,      11,-999.0,20050909,1515,  22.7505, -157.9868,  4739, 4800.600,    1.518,   34.690,2,   34.692,2,  153.400,2,  152.900,2,  152.970,2,   36.760,2,    2.570,2, -999.000