BOTTLE,20214727JOAExport
EXPOCODE,SECT_ID,STNNBR,CASTNO,SAMPNO,BTLNBR,BTLNBR_FLAG_W,DATE,TIME,LATITUDE,LONGITUDE,DEPTH,CTDPRS,CTDTMP,CTDSAL,CTDSAL_FLAG_W,SALNTY,SALNTY_FLAG_W,CTDOXY,CTDOXY_FLAG_W,OXYGEN,OXYGEN_FLAG_W,SILCAT,SILCAT_FLAG_W,NINI,NINI_FLAG_W,PHSPHT,PHSPHT_FLAG_W,REVP
,,,,,,,,,,,,DB,IPTS-68,PSS-78,,PSS-78,,UMOL/KG,,UMOL/KG,,UMOL/KG,,UMOL/KG,,UMOL/KG,,DBAR
           NA,HOT timeseries 1988to2019 27SEP2021,     82,  99,-999.0,      31,-999.0,19970803,1546,  22.8173, -158.0028,  4699,    4.800,   25.822,   35.115,2,   35.118,2,  207.000,2,  206.000,2,    1.010,2,    0.000,2,    0.070,2, -999.000
           NA,HOT timeseries 1988to2019 27SEP2021,     82,  99,-999.0,      30,-999.0,19970803,1546,  22.8173, -158.0028,  4699,   51.300,   25.800,   35.101,2,   35.102,2,  207.000,2,  206.700,2,    0.910,2,    0.030,2,    0.060,2, -999.000
           NA,HOT timeseries 1988to2019 27SEP2021,     82,  99,-999.0,      30,-999.0,19970803,1546,  22.8173, -158.0028,  4699,   77.200,   24.290,   35.069,2,   35.070,2,  219.400,2,  221.700,2,    1.000,2,    0.000,2,    0.050,2, -999.000
           NA,HOT timeseries 1988to2019 27SEP2021,     82,  99,-999.0,      22,-999.0,19970803,1546,  22.8173, -158.0028,  4699,   90.400,   23.442,   35.041,2,   35.045,2,  221.100,2,  222.300,2,    0.980,2,    0.010,2,    0.050,2, -999.000
           NA,HOT timeseries 1988to2019 27SEP2021,     82,  99,-999.0,      21,-999.0,19970803,1546,  22.8173, -158.0028,  4699,  130.700,   22.032,   35.056,2,   35.058,2,  209.600,2,  210.500,2,    1.170,2,    0.000,2,    0.070,2, -999.000
           NA,HOT timeseries 1988to2019 27SEP2021,     82,  99,-999.0,      20,-999.0,19970803,1546,  22.8173, -158.0028,  4699,  141.600,   21.604,   35.072,2,   35.076,2,  202.700,2,  204.800,2,    1.270,2,    0.190,2,    0.100,2, -999.000
           NA,HOT timeseries 1988to2019 27SEP2021,     82,  99,-999.0,      19,-999.0,19970803,1546,  22.8173, -158.0028,  4699,  190.500,   19.565,   35.028,2,   35.030,2,  189.900,2,  192.000,2,    2.030,2,    1.900,2,    0.210,2, -999.000
           NA,HOT timeseries 1988to2019 27SEP2021,     82,  99,-999.0,      18,-999.0,19970803,1546,  22.8173, -158.0028,  4699,  227.700,   18.002,   34.893,2,   34.894,2,  200.200,2,  199.700,2,    3.360,2,    2.590,2,    0.250,2, -999.000
           NA,HOT timeseries 1988to2019 27SEP2021,     82,  99,-999.0,      17,-999.0,19970803,1546,  22.8173, -158.0028,  4699,  275.300,   16.076,   34.655,2,   34.637,2,  195.300,2,  197.500,2,    4.720,2,    4.850,2,    0.400,2, -999.000
           NA,HOT timeseries 1988to2019 27SEP2021,     82,  99,-999.0,      16,-999.0,19970803,1546,  22.8173, -158.0028,  4699,  329.900,   12.071,   34.220,2,   34.222,2,  193.300,2,  194.900,2,   10.440,2,   11.050,2,    0.810,2, -999.000
           NA,HOT timeseries 1988to2019 27SEP2021,     82,  99,-999.0,      15,-999.0,19970803,1546,  22.8173, -158.0028,  4699,  368.700,   10.432,   34.113,2,   34.116,2,  189.000,2,  191.500,2,   15.920,2,   15.150,2,    1.080,2, -999.000
           NA,HOT timeseries 1988to2019 27SEP2021,     82,  99,-999.0,      14,-999.0,19970803,1546,  22.8173, -158.0028,  4699,  428.800,    8.744,   34.071,2,   34.073,2,  181.300,2,  181.300,2,   25.510,2,   19.960,2,    1.380,2, -999.000
           NA,HOT timeseries 1988to2019 27SEP2021,     82,  99,-999.0,      13,-999.0,19970803,1546,  22.8173, -158.0028,  4699,  500.700,    7.028,   34.025,2,   34.027,2,  137.300,2,  133.500,2,   45.070,2,   28.060,2,    1.980,2, -999.000
           NA,HOT timeseries 1988to2019 27SEP2021,     82,  99,-999.0,      12,-999.0,19970803,1546,  22.8173, -158.0028,  4699,  530.000,    6.533,   34.027,2,   34.028,2,  117.000,2,  115.300,2,   52.050,2,   30.530,2,    2.410,2, -999.000
           NA,HOT timeseries 1988to2019 27SEP2021,     82,  99,-999.0,      11,-999.0,19970803,1546,  22.8173, -158.0028,  4699,  547.700,    6.299,   34.048,2,   34.046,2,  103.600,2,   97.800,2,   55.480,2,   31.330,2,    2.270,2, -999.000
           NA,HOT timeseries 1988to2019 27SEP2021,     82,  99,-999.0,      32,-999.0,19970803,1546,  22.8173, -158.0028,  4699,  592.000,    5.919,   34.104,2,   34.105,2,   69.500,2,   63.600,2,   67.220,2,   36.570,2,    2.610,2, -999.000
           NA,HOT timeseries 1988to2019 27SEP2021,     82,  99,-999.0,       3,-999.0,19970803,1546,  22.8173, -158.0028,  4699,  629.900,    5.443,   34.145,2,   34.153,2,   49.900,2,   43.400,2,   77.180,2,   38.590,2,    2.800,2, -999.000
           NA,HOT timeseries 1988to2019 27SEP2021,     82,  99,-999.0,      29,-999.0,19970803,1546,  22.8173, -158.0028,  4699,  696.800,    4.983,   34.197,2,   34.201,2,   33.400,2,   31.000,2,   87.790,2,   40.420,2,    2.940,2, -999.000
           NA,HOT timeseries 1988to2019 27SEP2021,     82,  99,-999.0,      28,-999.0,19970803,1546,  22.8173, -158.0028,  4699,  739.100,    4.627,   34.277,2,   34.276,2,   23.600,2,   22.500,2,   96.430,2,   41.650,2,    3.040,2, -999.000
           NA,HOT timeseries 1988to2019 27SEP2021,     82,  99,-999.0,       7,-999.0,19970803,1546,  22.8173, -158.0028,  4699,  749.600,    4.591,   34.293,2,   34.298,2,   23.600,2,   22.800,2,   97.770,2,   41.780,2,    3.040,2, -999.000
           NA,HOT timeseries 1988to2019 27SEP2021,     82,  99,-999.0,      21,-999.0,19970803,1546,  22.8173, -158.0028,  4699,  770.600,    4.723,   34.309,2,   34.306,2,   24.200,2,   23.800,2,   97.700,2,   40.830,2,    2.960,2, -999.000
           NA,HOT timeseries 1988to2019 27SEP2021,     82,  99,-999.0,      38,-999.0,19970803,1546,  22.8173, -158.0028,  4699,  798.700,    4.526,   34.372,2,   34.375,2,   26.000,2,   25.900,2,  100.080,2,   41.770,2,    3.060,2, -999.000
           NA,HOT timeseries 1988to2019 27SEP2021,     82,  99,-999.0,      36,-999.0,19970803,1546,  22.8173, -158.0028,  4699,  836.500,    4.518,   34.406,2,   34.404,2,   28.300,2,   28.800,2,   99.900,2,   41.760,2,    3.050,2, -999.000
           NA,HOT timeseries 1988to2019 27SEP2021,     82,  99,-999.0,      35,-999.0,19970803,1546,  22.8173, -158.0028,  4699,  899.800,    4.360,   34.439,2,   34.440,2,   32.800,2,   32.200,2,  108.170,2,   41.830,2,    3.030,2, -999.000
           NA,HOT timeseries 1988to2019 27SEP2021,     82,  99,-999.0,      34,-999.0,19970803,1546,  22.8173, -158.0028,  4699,  949.800,    4.269,   34.459,2,   34.459,2,   34.700,2,   34.300,2,  104.710,2,   41.910,2,    3.040,2, -999.000
           NA,HOT timeseries 1988to2019 27SEP2021,     82,  99,-999.0,      33,-999.0,19970803,1546,  22.8173, -158.0028,  4699, 1021.100,    4.081,   34.483,2,   34.483,2,   38.800,2,   39.100,2,  103.580,2,   41.840,2,    3.050,2, -999.000
           NA,HOT timeseries 1988to2019 27SEP2021,     82,  99,-999.0,      20,-999.0,19970803,1546,  22.8173, -158.0028,  4699, 1200.600,    3.564,   34.525,2,   34.526,2,   48.600,2,   48.900,2,  119.710,2,   41.350,2,    2.970,2, -999.000
           NA,HOT timeseries 1988to2019 27SEP2021,     82,  99,-999.0,      19,-999.0,19970803,1546,  22.8173, -158.0028,  4699, 1399.100,    3.129,   34.555,2,   34.556,2,   57.600,2,   57.600,2,  128.170,2,   41.120,2,    2.950,2, -999.000
           NA,HOT timeseries 1988to2019 27SEP2021,     82,  99,-999.0,      18,-999.0,19970803,1546,  22.8173, -158.0028,  4699, 1600.700,    2.715,   34.582,2,   34.584,2,   67.600,2,   68.300,2,  137.520,2,   40.680,2,    2.900,2, -999.000
           NA,HOT timeseries 1988to2019 27SEP2021,     82,  99,-999.0,      17,-999.0,19970803,1546,  22.8173, -158.0028,  4699, 1801.300,    2.404,   34.602,2,   34.603,2,   77.000,2,   77.200,2,  145.810,2,   40.300,2,    2.850,2, -999.000
           NA,HOT timeseries 1988to2019 27SEP2021,     82,  99,-999.0,      16,-999.0,19970803,1546,  22.8173, -158.0028,  4699, 1999.600,    2.163,   34.617,2,   34.619,2,   84.100,2,   84.500,2,  150.890,2,   39.870,2,    2.820,2, -999.000
           NA,HOT timeseries 1988to2019 27SEP2021,     82,  99,-999.0,      15,-999.0,19970803,1546,  22.8173, -158.0028,  4699, 2201.000,    1.957,   34.632,2,   34.632,2,   91.400,2,   91.500,2,  156.510,2,   39.490,2,    2.780,2, -999.000
           NA,HOT timeseries 1988to2019 27SEP2021,     82,  99,-999.0,      14,-999.0,19970803,1546,  22.8173, -158.0028,  4699, 2400.800,    1.793,   34.645,2,   34.646,2,   99.600,2,  100.500,2,  158.810,2,   38.980,2,    2.750,2, -999.000
           NA,HOT timeseries 1988to2019 27SEP2021,     82,  99,-999.0,      13,-999.0,19970803,1546,  22.8173, -158.0028,  4699, 2600.400,    1.682,   34.655,2,   34.657,2,  107.400,2,  108.800,2,  160.380,2,   38.470,2,    2.700,2, -999.000
           NA,HOT timeseries 1988to2019 27SEP2021,     82,  99,-999.0,      12,-999.0,19970803,1546,  22.8173, -158.0028,  4699, 2800.900,    1.610,   34.664,2,   34.664,2,  115.900,2,  116.500,2,  159.850,2,   37.960,2,    2.670,2, -999.000
           NA,HOT timeseries 1988to2019 27SEP2021,     82,  99,-999.0,      11,-999.0,19970803,1546,  22.8173, -158.0028,  4699, 3000.700,    1.548,   34.671,2,   34.671,2,  123.600,2,  124.600,2,  158.960,2,   37.330,2,    2.620,2, -999.000
           NA,HOT timeseries 1988to2019 27SEP2021,     82,  99,-999.0,      32,-999.0,19970803,1546,  22.8173, -158.0028,  4699, 3199.900,    1.520,   34.675,2,   34.674,2,  128.200,2,  129.000,2,  157.840,2,   36.930,2,    2.600,2, -999.000
           NA,HOT timeseries 1988to2019 27SEP2021,     82,  99,-999.0,       3,-999.0,19970803,1546,  22.8173, -158.0028,  4699, 3399.800,    1.490,   34.680,2,   34.679,2,  133.600,2,  134.700,2,  156.450,2,   36.990,2,    2.580,2, -999.000
           NA,HOT timeseries 1988to2019 27SEP2021,     82,  99,-999.0,      29,-999.0,19970803,1546,  22.8173, -158.0028,  4699, 3600.000,    1.464,   34.684,2,   34.683,2,  139.900,2,  140.400,2,  154.790,2,   36.550,2,    2.530,2, -999.000
           NA,HOT timeseries 1988to2019 27SEP2021,     82,  99,-999.0,      28,-999.0,19970803,1546,  22.8173, -158.0028,  4699, 3800.300,    1.456,   34.686,2,   34.685,2,  143.500,2,  144.300,2,  153.310,2,   36.200,2,    2.500,2, -999.000
           NA,HOT timeseries 1988to2019 27SEP2021,     82,  99,-999.0,       7,-999.0,19970803,1546,  22.8173, -158.0028,  4699, 4002.000,    1.454,   34.688,2,   34.689,2,  147.400,2,  147.600,2,  151.620,2,   36.020,2,    2.500,2, -999.000
           NA,HOT timeseries 1988to2019 27SEP2021,     82,  99,-999.0,      38,-999.0,19970803,1546,  22.8173, -158.0028,  4699, 4201.800,    1.461,   34.690,2,   34.689,2,  150.200,2,  149.800,2,  150.540,2,   35.810,2,    2.470,2, -999.000
           NA,HOT timeseries 1988to2019 27SEP2021,     82,  99,-999.0,      36,-999.0,19970803,1546,  22.8173, -158.0028,  4699, 4401.000,    1.475,   34.691,2,   34.690,2,  151.600,2,  150.700,2,  149.570,2,   35.870,2,    2.490,2, -999.000
           NA,HOT timeseries 1988to2019 27SEP2021,     82,  99,-999.0,      35,-999.0,19970803,1546,  22.8173, -158.0028,  4699, 4501.100,    1.484,   34.691,2,   34.690,2,  152.000,2,  151.800,2,  148.890,2,   35.850,2,    2.480,2, -999.000
           NA,HOT timeseries 1988to2019 27SEP2021,     82,  99,-999.0,      34,-999.0,19970803,1546,  22.8173, -158.0028,  4699, 4601.200,    1.492,   34.691,2,   34.690,2,  153.200,2,  152.100,2,  149.110,2,   35.870,2,    2.480,2, -999.000
           NA,HOT timeseries 1988to2019 27SEP2021,     82,  99,-999.0,      33,-999.0,19970803,1546,  22.8173, -158.0028,  4699, 4776.200,    1.504,   34.692,2,   34.692,2,  154.900,2,  153.500,2,  147.620,2,   35.710,2,    2.460,2, -999.000