BOTTLE,20214727JOAExport
EXPOCODE,SECT_ID,STNNBR,CASTNO,SAMPNO,BTLNBR,BTLNBR_FLAG_W,DATE,TIME,LATITUDE,LONGITUDE,DEPTH,CTDPRS,CTDTMP,CTDSAL,CTDSAL_FLAG_W,SALNTY,SALNTY_FLAG_W,CTDOXY,CTDOXY_FLAG_W,OXYGEN,OXYGEN_FLAG_W,SILCAT,SILCAT_FLAG_W,NINI,NINI_FLAG_W,PHSPHT,PHSPHT_FLAG_W,REVP
,,,,,,,,,,,,DB,IPTS-68,PSS-78,,PSS-78,,UMOL/KG,,UMOL/KG,,UMOL/KG,,UMOL/KG,,UMOL/KG,,DBAR
           NA,HOT timeseries 1988to2019 27SEP2021,     68,  99,-999.0,      31,-999.0,19960523,1359,  22.7417, -157.9833,  4724,    4.400,   25.534,   34.752,2,   34.753,2,  208.800,2,  208.100,2,    1.410,2,    0.000,2,    0.120,2, -999.000
           NA,HOT timeseries 1988to2019 27SEP2021,     68,  99,-999.0,      31,-999.0,19960523,1359,  22.7417, -157.9833,  4724,    4.700,   25.538,   34.747,2,   34.751,2,  207.700,2,  208.900,2,    1.530,2,    0.000,2,    0.120,2, -999.000
           NA,HOT timeseries 1988to2019 27SEP2021,     68,  99,-999.0,      30,-999.0,19960523,1359,  22.7417, -157.9833,  4724,   21.000,   25.004,   34.784,2,   34.775,2,  208.900,2,  211.600,2,    1.370,2,    0.010,2,    0.120,2, -999.000
           NA,HOT timeseries 1988to2019 27SEP2021,     68,  99,-999.0,      22,-999.0,19960523,1359,  22.7417, -157.9833,  4724,   30.200,   24.314,   34.882,2, -999.000,3, -999.000,3,  217.000,2,    1.310,2,    0.000,2,    0.110,2, -999.000
           NA,HOT timeseries 1988to2019 27SEP2021,     68,  99,-999.0,      21,-999.0,19960523,1359,  22.7417, -157.9833,  4724,   43.700,   23.180,   35.008,2,   35.011,2,  216.400,2,  218.700,2,    1.290,2,    0.010,2,    0.090,2, -999.000
           NA,HOT timeseries 1988to2019 27SEP2021,     68,  99,-999.0,      20,-999.0,19960523,1359,  22.7417, -157.9833,  4724,   94.500,   21.666,   35.088,2,   35.089,2,  206.600,2,  207.800,2,    1.520,2,    0.080,2,    0.140,2, -999.000
           NA,HOT timeseries 1988to2019 27SEP2021,     68,  99,-999.0,      19,-999.0,19960523,1359,  22.7417, -157.9833,  4724,  101.300,   21.455,   35.096,2,   35.097,2,  206.000,2,  206.500,2,    1.580,2,    0.190,2,    0.130,2, -999.000
           NA,HOT timeseries 1988to2019 27SEP2021,     68,  99,-999.0,      30,-999.0,19960523,1359,  22.7417, -157.9833,  4724,  114.800,   21.731,   35.089,2,   35.090,2,  208.400,2,  210.500,2,    1.650,2,    0.000,2,    0.120,2, -999.000
           NA,HOT timeseries 1988to2019 27SEP2021,     68,  99,-999.0,      18,-999.0,19960523,1359,  22.7417, -157.9833,  4724,  119.900,   20.641,   35.115,2,   35.118,2,  213.000,2, -999.000,4,    1.780,2,    0.220,2,    0.110,2, -999.000
           NA,HOT timeseries 1988to2019 27SEP2021,     68,  99,-999.0,      17,-999.0,19960523,1359,  22.7417, -157.9833,  4724,  158.900,   19.595,   35.070,2,   35.071,2,  206.900,2,  209.900,2,    2.200,2,    0.970,2,    0.140,2, -999.000
           NA,HOT timeseries 1988to2019 27SEP2021,     68,  99,-999.0,      16,-999.0,19960523,1359,  22.7417, -157.9833,  4724,  231.900,   16.445,   34.731,2,   34.729,2,  197.200,2,  203.400,2,    4.630,2,    4.260,2,    0.350,2, -999.000
           NA,HOT timeseries 1988to2019 27SEP2021,     68,  99,-999.0,      15,-999.0,19960523,1359,  22.7417, -157.9833,  4724,  335.100,   12.262,   34.308,2,   34.302,2,  207.900,2,  201.800,2,   11.180,2,   11.200,2,    0.800,2, -999.000
           NA,HOT timeseries 1988to2019 27SEP2021,     68,  99,-999.0,      14,-999.0,19960523,1359,  22.7417, -157.9833,  4724,  375.000,   10.625,   34.178,2,   34.172,2,  192.700,2,  193.600,2,   16.700,2,   15.240,2,    1.070,2, -999.000
           NA,HOT timeseries 1988to2019 27SEP2021,     68,  99,-999.0,      13,-999.0,19960523,1359,  22.7417, -157.9833,  4724,  427.600,    8.920,   34.099,2, -999.000,4, -999.000,3,  174.500,2,   27.090,2,   20.590,2,    1.450,2, -999.000
           NA,HOT timeseries 1988to2019 27SEP2021,     68,  99,-999.0,      12,-999.0,19960523,1359,  22.7417, -157.9833,  4724,  503.200,    7.320,   34.051,2,   34.050,2,  126.500,2,  127.000,2,   42.860,2,   27.830,2,    1.950,2, -999.000
           NA,HOT timeseries 1988to2019 27SEP2021,     68,  99,-999.0,      22,-999.0,19960523,1359,  22.7417, -157.9833,  4724,  514.800,    7.288,   34.052,2,   34.053,2,  129.800,2,  128.300,2,   42.660,2,   27.470,2,    1.880,2, -999.000
           NA,HOT timeseries 1988to2019 27SEP2021,     68,  99,-999.0,      11,-999.0,19960523,1359,  22.7417, -157.9833,  4724,  515.800,    6.959,   34.051,2, -999.000,4, -999.000,3, -999.000,4, -999.000,4, -999.000,4, -999.000,4, -999.000
           NA,HOT timeseries 1988to2019 27SEP2021,     68,  99,-999.0,      32,-999.0,19960523,1359,  22.7417, -157.9833,  4724,  546.300,    6.702,   34.077,2,   34.077,2,   95.300,2,   93.400,2,   52.960,2,   31.700,2,    2.270,2, -999.000
           NA,HOT timeseries 1988to2019 27SEP2021,     68,  99,-999.0,       3,-999.0,19960523,1359,  22.7417, -157.9833,  4724,  598.600,    5.878,   34.104,2,   34.106,2,   60.800,2,   62.900,2,   66.980,2,   36.000,2,    2.590,2, -999.000
           NA,HOT timeseries 1988to2019 27SEP2021,     68,  99,-999.0,      29,-999.0,19960523,1359,  22.7417, -157.9833,  4724,  644.300,    5.505,   34.167,2,   34.168,2,   42.700,2,   41.400,2,   75.940,2,   38.500,2,    2.790,2, -999.000
           NA,HOT timeseries 1988to2019 27SEP2021,     68,  99,-999.0,      28,-999.0,19960523,1359,  22.7417, -157.9833,  4724,  706.800,    5.051,   34.254,2,   34.250,2,   28.000,2,   27.100,2,   86.960,2,   40.550,2,    2.950,2, -999.000
           NA,HOT timeseries 1988to2019 27SEP2021,     68,  99,-999.0,       7,-999.0,19960523,1359,  22.7417, -157.9833,  4724,  781.300,    4.951,   34.376,2,   34.371,2,   25.500,2,   24.800,2,   90.770,2,   41.360,2,    3.000,2, -999.000
           NA,HOT timeseries 1988to2019 27SEP2021,     68,  99,-999.0,      38,-999.0,19960523,1359,  22.7417, -157.9833,  4724,  824.600,    4.842,   34.408,2,   34.407,2,   28.000,2,   27.300,2,   92.680,2,   41.420,2, -999.000,3, -999.000
           NA,HOT timeseries 1988to2019 27SEP2021,     68,  99,-999.0,      36,-999.0,19960523,1359,  22.7417, -157.9833,  4724,  874.800,    4.650,   34.433,2,   34.432,2,   30.200,2,   29.300,2, -999.000,4, -999.000,4, -999.000,3, -999.000
           NA,HOT timeseries 1988to2019 27SEP2021,     68,  99,-999.0,      35,-999.0,19960523,1359,  22.7417, -157.9833,  4724,  899.500,    4.579,   34.444,2,   34.444,2,   32.000,2,   31.100,2, -999.000,4, -999.000,4, -999.000,4, -999.000
           NA,HOT timeseries 1988to2019 27SEP2021,     68,  99,-999.0,      34,-999.0,19960523,1359,  22.7417, -157.9833,  4724,  950.400,    4.427,   34.462,2,   34.463,2,   34.900,2,   34.500,2,  100.030,2,   41.760,2,    2.980,2, -999.000
           NA,HOT timeseries 1988to2019 27SEP2021,     68,  99,-999.0,      21,-999.0,19960523,1359,  22.7417, -157.9833,  4724, 1000.000,    4.297,   34.474,2,   34.475,2,   37.200,2,   37.500,2,  101.830,2,   41.570,2,    2.970,2, -999.000
           NA,HOT timeseries 1988to2019 27SEP2021,     68,  99,-999.0,      33,-999.0,19960523,1359,  22.7417, -157.9833,  4724, 1019.800,    4.151,   34.482,2,   34.483,2,   41.300,2,   41.100,2,  105.640,2,   41.670,2,    2.980,2, -999.000
           NA,HOT timeseries 1988to2019 27SEP2021,     68,  99,-999.0,      20,-999.0,19960523,1359,  22.7417, -157.9833,  4724, 1400.000,    3.239,   34.549,2,   34.549,2,   55.400,2,   55.400,2, -999.000,4,   41.450,2, -999.000,4, -999.000
           NA,HOT timeseries 1988to2019 27SEP2021,     68,  99,-999.0,      19,-999.0,19960523,1359,  22.7417, -157.9833,  4724, 1599.600,    2.839,   34.575,2,   34.575,2,   66.100,2,   65.400,2, -999.000,3,   41.100,2, -999.000,3, -999.000
           NA,HOT timeseries 1988to2019 27SEP2021,     68,  99,-999.0,      18,-999.0,19960523,1359,  22.7417, -157.9833,  4724, 1800.000,    2.503,   34.593,2,   34.593,2,   74.100,2,   74.400,2,  140.730,2,   40.550,2,    2.850,2, -999.000
           NA,HOT timeseries 1988to2019 27SEP2021,     68,  99,-999.0,      17,-999.0,19960523,1359,  22.7417, -157.9833,  4724, 1999.900,    2.193,   34.610,2,   34.610,2,   81.500,2,   82.400,2,  149.340,2,   40.200,2,    2.810,2, -999.000
           NA,HOT timeseries 1988to2019 27SEP2021,     68,  99,-999.0,      16,-999.0,19960523,1359,  22.7417, -157.9833,  4724, 2199.700,    1.985,   34.625,2,   34.625,2,   89.200,2,   89.800,2,  156.670,2,   39.700,2,    2.750,2, -999.000
           NA,HOT timeseries 1988to2019 27SEP2021,     68,  99,-999.0,      15,-999.0,19960523,1359,  22.7417, -157.9833,  4724, 2400.100,    1.806,   34.640,2,   34.641,2,   98.100,2,   98.900,2,  160.640,2,   39.260,2,    2.700,2, -999.000
           NA,HOT timeseries 1988to2019 27SEP2021,     68,  99,-999.0,      14,-999.0,19960523,1359,  22.7417, -157.9833,  4724, 2600.300,    1.690,   34.651,2,   34.651,2,  106.200,2,  107.300,2, -999.000,3,   38.680,2, -999.000,3, -999.000
           NA,HOT timeseries 1988to2019 27SEP2021,     68,  99,-999.0,      13,-999.0,19960523,1359,  22.7417, -157.9833,  4724, 2800.500,    1.607,   34.660,2,   34.660,2,  114.900,2,  115.700,2,  159.600,2,   38.360,2,    2.630,2, -999.000
           NA,HOT timeseries 1988to2019 27SEP2021,     68,  99,-999.0,      12,-999.0,19960523,1359,  22.7417, -157.9833,  4724, 3000.200,    1.546,   34.667,2,   34.667,2,  123.700,2,  124.200,2, -999.000,3, -999.000,3,    2.600,2, -999.000
           NA,HOT timeseries 1988to2019 27SEP2021,     68,  99,-999.0,      11,-999.0,19960523,1359,  22.7417, -157.9833,  4724, 3199.600,    1.513,   34.673,2,   34.674,2,  129.700,2,  130.300,2,  158.070,2,   37.320,2,    2.570,2, -999.000
           NA,HOT timeseries 1988to2019 27SEP2021,     68,  99,-999.0,      32,-999.0,19960523,1359,  22.7417, -157.9833,  4724, 3399.800,    1.486,   34.678,2,   34.678,2,  135.200,2,  135.500,2,  155.600,2,   36.850,2, -999.000,4, -999.000
           NA,HOT timeseries 1988to2019 27SEP2021,     68,  99,-999.0,       3,-999.0,19960523,1359,  22.7417, -157.9833,  4724, 3600.300,    1.469,   34.681,2,   34.679,2,  141.000,2,  140.600,2,  153.880,2, -999.000,3,    2.520,2, -999.000
           NA,HOT timeseries 1988to2019 27SEP2021,     68,  99,-999.0,      29,-999.0,19960523,1359,  22.7417, -157.9833,  4724, 3800.900,    1.456,   34.683,2,   34.683,2,  145.600,2,  145.100,2,  151.510,2,   36.330,2,    2.500,2, -999.000
           NA,HOT timeseries 1988to2019 27SEP2021,     68,  99,-999.0,      28,-999.0,19960523,1359,  22.7417, -157.9833,  4724, 4000.600,    1.455,   34.685,2,   34.685,2,  148.900,2,  148.300,2,  150.100,2,   36.110,2,    2.490,2, -999.000
           NA,HOT timeseries 1988to2019 27SEP2021,     68,  99,-999.0,       7,-999.0,19960523,1359,  22.7417, -157.9833,  4724, 4200.600,    1.463,   34.687,2,   34.686,2,  152.000,2,  150.400,2,  149.000,2,   36.040,2,    2.470,2, -999.000
           NA,HOT timeseries 1988to2019 27SEP2021,     68,  99,-999.0,      38,-999.0,19960523,1359,  22.7417, -157.9833,  4724, 4300.700,    1.469,   34.687,2,   34.687,2,  152.500,2,  151.700,2,  148.560,2, -999.000,3, -999.000,3, -999.000
           NA,HOT timeseries 1988to2019 27SEP2021,     68,  99,-999.0,      35,-999.0,19960523,1359,  22.7417, -157.9833,  4724, 4501.100,    1.487,   34.688,2,   34.688,2,  152.700,2,  152.200,2,  147.990,2,   35.970,2,    2.450,2, -999.000
           NA,HOT timeseries 1988to2019 27SEP2021,     68,  99,-999.0,      34,-999.0,19960523,1359,  22.7417, -157.9833,  4724, 4600.400,    1.497,   34.688,2,   34.688,2,  153.400,2, -999.000,3, -999.000,3, -999.000,3, -999.000,3, -999.000
           NA,HOT timeseries 1988to2019 27SEP2021,     68,  99,-999.0,      33,-999.0,19960523,1359,  22.7417, -157.9833,  4724, 4812.400,    1.515,   34.689,2,   34.688,2,  155.300,2,  155.700,2,  147.050,2,   35.790,2,    2.450,2, -999.000