BOTTLE,20214727JOAExport
EXPOCODE,SECT_ID,STNNBR,CASTNO,SAMPNO,BTLNBR,BTLNBR_FLAG_W,DATE,TIME,LATITUDE,LONGITUDE,DEPTH,CTDPRS,CTDTMP,CTDSAL,CTDSAL_FLAG_W,SALNTY,SALNTY_FLAG_W,CTDOXY,CTDOXY_FLAG_W,OXYGEN,OXYGEN_FLAG_W,SILCAT,SILCAT_FLAG_W,NINI,NINI_FLAG_W,PHSPHT,PHSPHT_FLAG_W,REVP
,,,,,,,,,,,,DB,IPTS-68,PSS-78,,PSS-78,,UMOL/KG,,UMOL/KG,,UMOL/KG,,UMOL/KG,,UMOL/KG,,DBAR
           NA,HOT timeseries 1988to2019 27SEP2021,    175,  99,-999.0,    8024,-999.0,20060311,0644,  22.8202, -158.0172,  4721,   15.400,   23.444,   35.036,2,   35.034,2,  211.700,2,  211.500,2,    0.830,2,    0.000,2,    0.050,2, -999.000
           NA,HOT timeseries 1988to2019 27SEP2021,    175,  99,-999.0,    8024,-999.0,20060311,0644,  22.8202, -158.0172,  4721,   31.500,   23.674,   34.973,2,   34.973,2,  211.600,2,  210.000,2,    0.910,2,    0.020,2,    0.070,2, -999.000
           NA,HOT timeseries 1988to2019 27SEP2021,    175,  99,-999.0,    8023,-999.0,20060311,0644,  22.8202, -158.0172,  4721,   33.700,   23.292,   35.090,2,   35.080,2,  211.800,2,  211.700,2,    0.820,2,    0.010,2,    0.050,2, -999.000
           NA,HOT timeseries 1988to2019 27SEP2021,    175,  99,-999.0,    8022,-999.0,20060311,0644,  22.8202, -158.0172,  4721,   95.400,   23.071,   35.200,2,   35.197,2,  210.700,2,  210.400,2,    0.800,2,    0.010,2,    0.040,2, -999.000
           NA,HOT timeseries 1988to2019 27SEP2021,    175,  99,-999.0,    8021,-999.0,20060311,0644,  22.8202, -158.0172,  4721,  153.600,   21.933,   35.252,2, -999.000,4, -999.000,3,  203.400,2,    1.160,2,    0.450,2,    0.060,2, -999.000
           NA,HOT timeseries 1988to2019 27SEP2021,    175,  99,-999.0,    8020,-999.0,20060311,0644,  22.8202, -158.0172,  4721,  199.700,   18.508,   34.878,2,   34.879,2,  197.700,2,  198.000,2,    2.510,2,    2.330,2,    0.210,2, -999.000
           NA,HOT timeseries 1988to2019 27SEP2021,    175,  99,-999.0,    8019,-999.0,20060311,0644,  22.8202, -158.0172,  4721,  260.600,   14.992,   34.389,2,   34.395,2,  190.600,2,  191.000,2,    5.200,2,    6.560,2,    0.540,2, -999.000
           NA,HOT timeseries 1988to2019 27SEP2021,    175,  99,-999.0,    8017,-999.0,20060311,0644,  22.8202, -158.0172,  4721,  336.500,   11.774,   34.170,2,   34.170,2,  188.800,2,  190.300,2,   12.070,2,   12.700,2,    0.950,2, -999.000
           NA,HOT timeseries 1988to2019 27SEP2021,    175,  99,-999.0,    8016,-999.0,20060311,0644,  22.8202, -158.0172,  4721,  394.200,   10.058,   34.136,2, -999.000,4, -999.000,3,  188.600,2,   19.040,2,   16.740,2,    1.180,2, -999.000
           NA,HOT timeseries 1988to2019 27SEP2021,    175,  99,-999.0,    8015,-999.0,20060311,0644,  22.8202, -158.0172,  4721,  452.900,    8.614,   34.091,2, -999.000,4, -999.000,3,  149.200,2,   30.900,2,   23.350,2,    1.670,2, -999.000
           NA,HOT timeseries 1988to2019 27SEP2021,    175,  99,-999.0,    8014,-999.0,20060311,0644,  22.8202, -158.0172,  4721,  489.200,    7.610,   34.051,2,   34.051,2,  141.100,2,  138.900,2,   39.820,2,   26.490,2,    1.860,2, -999.000
           NA,HOT timeseries 1988to2019 27SEP2021,    175,  99,-999.0,    8025,-999.0,20060311,0644,  22.8202, -158.0172,  4721,  526.600,    6.895,   34.042,2,   34.044,2,  121.100,2,  119.200,2,   49.290,2,   29.610,2,    2.100,2, -999.000
           NA,HOT timeseries 1988to2019 27SEP2021,    175,  99,-999.0,    8012,-999.0,20060311,0644,  22.8202, -158.0172,  4721,  563.500,    6.259,   34.074,2, -999.000,4, -999.000,3, -999.000,3,   61.280,2,   33.740,2,    2.430,2, -999.000
           NA,HOT timeseries 1988to2019 27SEP2021,    175,  99,-999.0,    8011,-999.0,20060311,0644,  22.8202, -158.0172,  4721,  605.800,    5.780,   34.115,2,   34.116,2,   68.000,2, -999.000,3,   69.770,2,   36.120,2,    2.600,2, -999.000
           NA,HOT timeseries 1988to2019 27SEP2021,    175,  99,-999.0,    8009,-999.0,20060311,0644,  22.8202, -158.0172,  4721,  680.100,    5.151,   34.201,2,   34.201,2,   37.100,2,   36.900,2,   84.090,2,   39.370,2, -999.000,3, -999.000
           NA,HOT timeseries 1988to2019 27SEP2021,    175,  99,-999.0,    8008,-999.0,20060311,0644,  22.8202, -158.0172,  4721,  713.600,    4.934,   34.221,2,   34.223,2,   33.800,2,   33.000,2,   90.090,2,   40.220,2,    2.900,2, -999.000
           NA,HOT timeseries 1988to2019 27SEP2021,    175,  99,-999.0,    8026,-999.0,20060311,0644,  22.8202, -158.0172,  4721,  745.400,    4.767,   34.269,2,   34.267,2,   29.400,2,   28.900,2,   93.460,2,   40.840,2,    2.950,2, -999.000
           NA,HOT timeseries 1988to2019 27SEP2021,    175,  99,-999.0,    8006,-999.0,20060311,0644,  22.8202, -158.0172,  4721,  777.600,    4.598,   34.306,2,   34.304,2,   28.200,2,   27.200,2,   98.650,2,   41.310,2,    2.990,2, -999.000
           NA,HOT timeseries 1988to2019 27SEP2021,    175,  99,-999.0,    8005,-999.0,20060311,0644,  22.8202, -158.0172,  4721,  812.600,    4.466,   34.347,2,   34.347,2,   27.600,2,   27.700,2,  101.830,2,   41.730,2,    3.000,2, -999.000
           NA,HOT timeseries 1988to2019 27SEP2021,    175,  99,-999.0,    8003,-999.0,20060311,0644,  22.8202, -158.0172,  4721,  904.000,    4.163,   34.440,2,   34.438,2,   33.300,2,   34.400,2,  108.570,2,   41.930,2,    3.060,2, -999.000
           NA,HOT timeseries 1988to2019 27SEP2021,    175,  99,-999.0,    8002,-999.0,20060311,0644,  22.8202, -158.0172,  4721,  958.800,    3.919,   34.470,2,   34.471,2,   40.300,2,   41.900,2,  113.330,2,   41.720,2,    3.030,2, -999.000
           NA,HOT timeseries 1988to2019 27SEP2021,    175,  99,-999.0,    8001,-999.0,20060311,0644,  22.8202, -158.0172,  4721, 1021.200,    3.758,   34.499,2,   34.500,2,   45.800,2,   46.400,2,  117.170,2,   41.580,2,    3.010,2, -999.000
           NA,HOT timeseries 1988to2019 27SEP2021,    175,  99,-999.0,    8020,-999.0,20060311,0644,  22.8202, -158.0172,  4721, 1199.700,    3.458,   34.534,2,   34.534,2,   52.600,2,   53.100,2,  120.880,2,   41.370,2,    3.010,2, -999.000
           NA,HOT timeseries 1988to2019 27SEP2021,    175,  99,-999.0,    8019,-999.0,20060311,0644,  22.8202, -158.0172,  4721, 1402.300,    3.026,   34.559,2,   34.559,2,   62.000,2,   61.700,2,  131.340,2,   40.940,2,    2.960,2, -999.000
           NA,HOT timeseries 1988to2019 27SEP2021,    175,  99,-999.0,    8018,-999.0,20060311,0644,  22.8202, -158.0172,  4721, 1598.100,    2.676,   34.584,2,   34.584,2,   70.400,2,   70.300,2,  138.890,2,   40.880,2,    2.910,2, -999.000
           NA,HOT timeseries 1988to2019 27SEP2021,    175,  99,-999.0,    8017,-999.0,20060311,0644,  22.8202, -158.0172,  4721, 1798.300,    2.392,   34.606,2,   34.606,2,   79.500,2,   79.600,2,  144.730,2,   40.430,2,    2.880,2, -999.000
           NA,HOT timeseries 1988to2019 27SEP2021,    175,  99,-999.0,    8016,-999.0,20060311,0644,  22.8202, -158.0172,  4721, 1998.700,    2.180,   34.621,2, -999.000,5,   88.100,2,   87.900,2,  148.450,2,   39.760,2,    2.830,2, -999.000
           NA,HOT timeseries 1988to2019 27SEP2021,    175,  99,-999.0,    8015,-999.0,20060311,0644,  22.8202, -158.0172,  4721, 2199.100,    1.939,   34.636,2,   34.635,2,   97.700,2,   98.100,2,  153.220,2,   39.100,2,    2.770,2, -999.000
           NA,HOT timeseries 1988to2019 27SEP2021,    175,  99,-999.0,    8014,-999.0,20060311,0644,  22.8202, -158.0172,  4721, 2398.600,    1.800,   34.647,2,   34.648,2,  105.400,2,  105.700,2,  155.140,2,   38.660,2,    2.740,2, -999.000
           NA,HOT timeseries 1988to2019 27SEP2021,    175,  99,-999.0,    8025,-999.0,20060311,0644,  22.8202, -158.0172,  4721, 2600.700,    1.701,   34.657,2,   34.656,2,  112.600,2, -999.000,4,  157.540,2,   38.280,2,    2.700,2, -999.000
           NA,HOT timeseries 1988to2019 27SEP2021,    175,  99,-999.0,    8012,-999.0,20060311,0644,  22.8202, -158.0172,  4721, 2799.700,    1.624,   34.663,2,   34.664,2,  118.600,2,  118.500,2,  157.110,2,   37.930,2,    2.670,2, -999.000
           NA,HOT timeseries 1988to2019 27SEP2021,    175,  99,-999.0,    8011,-999.0,20060311,0644,  22.8202, -158.0172,  4721, 2999.900,    1.557,   34.670,2,   34.669,2,  124.000,2,  123.900,2,  158.940,2,   37.300,2,    2.630,2, -999.000
           NA,HOT timeseries 1988to2019 27SEP2021,    175,  99,-999.0,    8010,-999.0,20060311,0644,  22.8202, -158.0172,  4721, 3200.800,    1.507,   34.676,2,   34.676,2,  131.100,2,  131.000,2,  155.290,2,   36.800,2,    2.590,2, -999.000
           NA,HOT timeseries 1988to2019 27SEP2021,    175,  99,-999.0,    8009,-999.0,20060311,0644,  22.8202, -158.0172,  4721, 3399.300,    1.478,   34.680,2,   34.679,2,  136.500,2,  136.500,2,  154.690,2,   36.430,2,    2.550,2, -999.000
           NA,HOT timeseries 1988to2019 27SEP2021,    175,  99,-999.0,    8008,-999.0,20060311,0644,  22.8202, -158.0172,  4721, 3601.000,    1.464,   34.683,2,   34.683,2,  140.700,2,  141.300,2,  153.670,2,   36.430,2,    2.550,2, -999.000
           NA,HOT timeseries 1988to2019 27SEP2021,    175,  99,-999.0,    8026,-999.0,20060311,0644,  22.8202, -158.0172,  4721, 3798.100,    1.459,   34.685,2,   34.687,2,  144.300,2,  143.900,2, -999.000,3,   36.140,2,    2.510,2, -999.000
           NA,HOT timeseries 1988to2019 27SEP2021,    175,  99,-999.0,    8006,-999.0,20060311,0644,  22.8202, -158.0172,  4721, 4000.000,    1.461,   34.687,2,   34.687,2,  147.100,2,  146.800,2,  150.140,2,   35.930,2,    2.500,2, -999.000
           NA,HOT timeseries 1988to2019 27SEP2021,    175,  99,-999.0,    8005,-999.0,20060311,0644,  22.8202, -158.0172,  4721, 4199.400,    1.468,   34.688,2,   34.688,2,  149.000,2, -999.000,4,  149.370,2,   35.700,2,    2.500,2, -999.000
           NA,HOT timeseries 1988to2019 27SEP2021,    175,  99,-999.0,    8004,-999.0,20060311,0644,  22.8202, -158.0172,  4721, 4399.000,    1.483,   34.689,2,   34.688,2,  150.300,2,  149.800,2,  148.250,2,   35.620,2,    2.480,2, -999.000
           NA,HOT timeseries 1988to2019 27SEP2021,    175,  99,-999.0,    8003,-999.0,20060311,0644,  22.8202, -158.0172,  4721, 4500.300,    1.491,   34.689,2,   34.690,2,  150.800,2,  151.000,2,  147.330,2,   35.610,2,    2.490,2, -999.000
           NA,HOT timeseries 1988to2019 27SEP2021,    175,  99,-999.0,    8002,-999.0,20060311,0644,  22.8202, -158.0172,  4721, 4599.200,    1.498,   34.690,2,   34.690,2,  151.000,2,  150.800,2, -999.000,3,   35.730,2,    2.510,2, -999.000
           NA,HOT timeseries 1988to2019 27SEP2021,    175,  99,-999.0,    8001,-999.0,20060311,0644,  22.8202, -158.0172,  4721, 4701.100,    1.511,   34.690,2,   34.690,2,  151.000,2,  151.200,2,  146.840,2,   35.700,2,    2.490,2, -999.000