BOTTLE,20214727JOAExport
EXPOCODE,SECT_ID,STNNBR,CASTNO,SAMPNO,BTLNBR,BTLNBR_FLAG_W,DATE,TIME,LATITUDE,LONGITUDE,DEPTH,CTDPRS,CTDTMP,CTDSAL,CTDSAL_FLAG_W,SALNTY,SALNTY_FLAG_W,CTDOXY,CTDOXY_FLAG_W,OXYGEN,OXYGEN_FLAG_W,SILCAT,SILCAT_FLAG_W,NINI,NINI_FLAG_W,PHSPHT,PHSPHT_FLAG_W,REVP
,,,,,,,,,,,,DB,IPTS-68,PSS-78,,PSS-78,,UMOL/KG,,UMOL/KG,,UMOL/KG,,UMOL/KG,,UMOL/KG,,DBAR
           NA,HOT timeseries 1988to2019 27SEP2021,    174,  99,-999.0,    8024,-999.0,20060214,2100,  22.7575, -157.9660,  4726,   11.400,   23.181,   35.225,2,   35.226,2,  211.900,2,  212.400,2,    0.840,2,    0.040,2,    0.030,2, -999.000
           NA,HOT timeseries 1988to2019 27SEP2021,    174,  99,-999.0,    8024,-999.0,20060214,2100,  22.7575, -157.9660,  4726,   15.300,   23.155,   35.234,2,   35.233,2,  213.800,2,  212.700,2,    0.890,2,    0.050,2,    0.030,2, -999.000
           NA,HOT timeseries 1988to2019 27SEP2021,    174,  99,-999.0,    8023,-999.0,20060214,2100,  22.7575, -157.9660,  4726,   40.300,   23.184,   35.225,2,   35.225,2,  211.900,2,  212.000,2,    0.840,2,    0.000,2,    0.030,2, -999.000
           NA,HOT timeseries 1988to2019 27SEP2021,    174,  99,-999.0,    8022,-999.0,20060214,2100,  22.7575, -157.9660,  4726,   71.300,   23.181,   35.227,2,   35.225,2,  211.900,2,  212.000,2,    0.850,2,    0.020,2,    0.020,2, -999.000
           NA,HOT timeseries 1988to2019 27SEP2021,    174,  99,-999.0,    8021,-999.0,20060214,2100,  22.7575, -157.9660,  4726,   98.600,   23.174,   35.232,2,   35.232,2,  211.700,2,  211.100,2,    0.850,2,    0.030,2,    0.020,2, -999.000
           NA,HOT timeseries 1988to2019 27SEP2021,    174,  99,-999.0,    8020,-999.0,20060214,2100,  22.7575, -157.9660,  4726,  128.800,   21.194,   35.065,2,   35.075,2,  194.200,2,  194.800,2,    1.550,2,    1.100,2,    0.160,2, -999.000
           NA,HOT timeseries 1988to2019 27SEP2021,    174,  99,-999.0,    8019,-999.0,20060214,2100,  22.7575, -157.9660,  4726,  158.800,   18.540,   34.740,2,   34.739,2,  181.000,2,  182.100,2,    3.170,2, -999.000,3, -999.000,3, -999.000
           NA,HOT timeseries 1988to2019 27SEP2021,    174,  99,-999.0,    8018,-999.0,20060214,2100,  22.7575, -157.9660,  4726,  206.300,   14.987,   34.322,2,   34.324,2,  179.300,2,  179.100,2,    6.330,2, -999.000,3, -999.000,3, -999.000
           NA,HOT timeseries 1988to2019 27SEP2021,    174,  99,-999.0,    8017,-999.0,20060214,2100,  22.7575, -157.9660,  4726,  243.200,   12.337,   34.147,2,   34.151,2,  176.000,2,  180.400,2,   11.160,2, -999.000,3, -999.000,3, -999.000
           NA,HOT timeseries 1988to2019 27SEP2021,    174,  99,-999.0,    8016,-999.0,20060214,2100,  22.7575, -157.9660,  4726,  279.900,   11.735,   34.185,2,   34.181,2,  197.800,2,  198.500,2,   12.120,2,   12.240,2,    0.900,2, -999.000
           NA,HOT timeseries 1988to2019 27SEP2021,    174,  99,-999.0,    8015,-999.0,20060214,2100,  22.7575, -157.9660,  4726,  340.000,   10.269,   34.157,2,   34.157,2,  198.300,2,  196.100,2,   17.990,2,   15.520,2,    1.080,2, -999.000
           NA,HOT timeseries 1988to2019 27SEP2021,    174,  99,-999.0,    8014,-999.0,20060214,2100,  22.7575, -157.9660,  4726,  394.600,    8.754,   34.092,2,   34.092,2,  167.500,2,  167.700,2,   29.170,2,   21.580,2,    1.520,2, -999.000
           NA,HOT timeseries 1988to2019 27SEP2021,    174,  99,-999.0,    8025,-999.0,20060214,2100,  22.7575, -157.9660,  4726,  453.700,    7.178,   34.042,2,   34.044,2,  124.200,2,  123.700,2,   45.690,2,   28.710,2,    2.050,2, -999.000
           NA,HOT timeseries 1988to2019 27SEP2021,    174,  99,-999.0,    8012,-999.0,20060214,2100,  22.7575, -157.9660,  4726,  510.000,    6.378,   34.048,2,   34.050,2,   96.000,2,   94.000,2,   57.480,2,   32.690,2,    2.360,2, -999.000
           NA,HOT timeseries 1988to2019 27SEP2021,    174,  99,-999.0,    8011,-999.0,20060214,2100,  22.7575, -157.9660,  4726,  550.900,    5.803,   34.062,2,   34.061,2,   74.800,2,   73.700,2,   66.370,2,   35.500,2,    2.570,2, -999.000
           NA,HOT timeseries 1988to2019 27SEP2021,    174,  99,-999.0,    8010,-999.0,20060214,2100,  22.7575, -157.9660,  4726,  600.400,    5.616,   34.145,2,   34.145,2,   46.200,2,   44.600,2,   74.280,2,   38.070,2,    2.780,2, -999.000
           NA,HOT timeseries 1988to2019 27SEP2021,    174,  99,-999.0,    8009,-999.0,20060214,2100,  22.7575, -157.9660,  4726,  660.700,    5.068,   34.208,2,   34.208,2,   30.300,2,   29.900,2,   86.680,2,   40.350,2,    2.950,2, -999.000
           NA,HOT timeseries 1988to2019 27SEP2021,    174,  99,-999.0,    8008,-999.0,20060214,2100,  22.7575, -157.9660,  4726,  703.400,    4.797,   34.250,2,   34.250,2,   26.700,2,   26.000,2,   92.800,2,   41.100,2,    3.000,2, -999.000
           NA,HOT timeseries 1988to2019 27SEP2021,    174,  99,-999.0,    8026,-999.0,20060214,2100,  22.7575, -157.9660,  4726,  747.000,    4.625,   34.309,2,   34.307,2,   24.900,2,   24.700,2,   98.390,2,   41.790,2,    3.030,2, -999.000
           NA,HOT timeseries 1988to2019 27SEP2021,    174,  99,-999.0,    8006,-999.0,20060214,2100,  22.7575, -157.9660,  4726,  800.900,    4.395,   34.341,2,   34.342,2,   25.900,2,   26.000,2,  104.220,2,   41.990,2,    3.040,2, -999.000
           NA,HOT timeseries 1988to2019 27SEP2021,    174,  99,-999.0,    8004,-999.0,20060214,2100,  22.7575, -157.9660,  4726,  892.100,    4.115,   34.408,2,   34.407,2,   29.100,2,   29.000,2,  111.010,2, -999.000,3,    3.060,2, -999.000
           NA,HOT timeseries 1988to2019 27SEP2021,    174,  99,-999.0,    8003,-999.0,20060214,2100,  22.7575, -157.9660,  4726,  929.000,    4.003,   34.430,2,   34.430,2,   31.800,2,   33.100,2,  112.160,2, -999.000,3,    3.050,2, -999.000
           NA,HOT timeseries 1988to2019 27SEP2021,    174,  99,-999.0,    8002,-999.0,20060214,2100,  22.7575, -157.9660,  4726,  969.400,    3.913,   34.447,2,   34.450,2,   34.900,2,   35.400,2,  114.490,2,   42.130,2,    3.030,2, -999.000
           NA,HOT timeseries 1988to2019 27SEP2021,    174,  99,-999.0,    8001,-999.0,20060214,2100,  22.7575, -157.9660,  4726, 1009.400,    3.803,   34.460,2,   34.460,2,   36.900,2,   37.200,2,  116.440,2, -999.000,3,    3.030,2, -999.000
           NA,HOT timeseries 1988to2019 27SEP2021,    174,  99,-999.0,    8020,-999.0,20060214,2100,  22.7575, -157.9660,  4726, 1200.900,    3.324,   34.525,2,   34.522,2,   52.500,2,   52.500,2,  125.770,2,   41.380,2,    2.950,2, -999.000
           NA,HOT timeseries 1988to2019 27SEP2021,    174,  99,-999.0,    8019,-999.0,20060214,2100,  22.7575, -157.9660,  4726, 1397.200,    2.906,   34.560,2,   34.559,2,   62.900,2,   63.300,2,  132.600,2,   40.830,2,    2.930,2, -999.000
           NA,HOT timeseries 1988to2019 27SEP2021,    174,  99,-999.0,    8018,-999.0,20060214,2100,  22.7575, -157.9660,  4726, 1600.600,    2.597,   34.590,2,   34.590,2,   73.200,2,   73.000,2,  138.740,2,   40.320,2,    2.860,2, -999.000
           NA,HOT timeseries 1988to2019 27SEP2021,    174,  99,-999.0,    8017,-999.0,20060214,2100,  22.7575, -157.9660,  4726, 1798.300,    2.324,   34.608,2,   34.607,2,   81.500,2,   81.500,2,  147.100,2,   39.860,2,    2.830,2, -999.000
           NA,HOT timeseries 1988to2019 27SEP2021,    174,  99,-999.0,    8016,-999.0,20060214,2100,  22.7575, -157.9660,  4726, 2001.400,    2.085,   34.625,2,   34.625,2,   91.300,2,   91.600,2,  150.590,2,   39.350,2,    2.780,2, -999.000
           NA,HOT timeseries 1988to2019 27SEP2021,    174,  99,-999.0,    8015,-999.0,20060214,2100,  22.7575, -157.9660,  4726, 2200.800,    1.933,   34.636,2,   34.636,2,   97.400,2,   97.400,2,  155.480,2,   39.180,2,    2.780,2, -999.000
           NA,HOT timeseries 1988to2019 27SEP2021,    174,  99,-999.0,    8014,-999.0,20060214,2100,  22.7575, -157.9660,  4726, 2401.400,    1.780,   34.648,2,   34.647,2,  105.500,2,  105.500,2,  157.690,2,   38.740,2,    2.730,2, -999.000
           NA,HOT timeseries 1988to2019 27SEP2021,    174,  99,-999.0,    8025,-999.0,20060214,2100,  22.7575, -157.9660,  4726, 2598.900,    1.659,   34.659,2,   34.658,2,  114.600,2,  114.900,2,  157.760,2,   38.090,2,    2.670,2, -999.000
           NA,HOT timeseries 1988to2019 27SEP2021,    174,  99,-999.0,    8012,-999.0,20060214,2100,  22.7575, -157.9660,  4726, 2799.700,    1.590,   34.666,2,   34.665,2,  120.500,2,  120.300,2,  159.150,2,   38.110,2,    2.660,2, -999.000
           NA,HOT timeseries 1988to2019 27SEP2021,    174,  99,-999.0,    8011,-999.0,20060214,2100,  22.7575, -157.9660,  4726, 2999.800,    1.538,   34.672,2,   34.672,2,  126.700,2,  126.400,2,  158.380,2,   37.040,2,    2.600,2, -999.000
           NA,HOT timeseries 1988to2019 27SEP2021,    174,  99,-999.0,    8010,-999.0,20060214,2100,  22.7575, -157.9660,  4726, 3200.900,    1.506,   34.676,2,   34.676,2,  131.900,2,  132.300,2,  156.740,2,   36.880,2,    2.570,2, -999.000
           NA,HOT timeseries 1988to2019 27SEP2021,    174,  99,-999.0,    8009,-999.0,20060214,2100,  22.7575, -157.9660,  4726, 3398.700,    1.477,   34.680,2,   34.679,2,  137.100,2,  137.300,2,  156.820,2,   36.750,2,    2.560,2, -999.000
           NA,HOT timeseries 1988to2019 27SEP2021,    174,  99,-999.0,    8008,-999.0,20060214,2100,  22.7575, -157.9660,  4726, 3600.200,    1.460,   34.684,2,   34.683,2,  141.600,2,  141.400,2,  153.980,2,   36.430,2,    2.550,2, -999.000
           NA,HOT timeseries 1988to2019 27SEP2021,    174,  99,-999.0,    8026,-999.0,20060214,2100,  22.7575, -157.9660,  4726, 3799.000,    1.451,   34.686,2,   34.685,2,  145.500,2,  145.000,2,  151.260,2,   36.050,2,    2.510,2, -999.000
           NA,HOT timeseries 1988to2019 27SEP2021,    174,  99,-999.0,    8006,-999.0,20060214,2100,  22.7575, -157.9660,  4726, 4000.000,    1.453,   34.688,2, -999.000,3, -999.000,3,  148.200,2,  150.490,2,   35.860,2,    2.510,2, -999.000
           NA,HOT timeseries 1988to2019 27SEP2021,    174,  99,-999.0,    8005,-999.0,20060214,2100,  22.7575, -157.9660,  4726, 4199.600,    1.464,   34.689,2,   34.688,2,  150.200,2,  149.200,2,  148.930,2,   35.650,2,    2.500,2, -999.000
           NA,HOT timeseries 1988to2019 27SEP2021,    174,  99,-999.0,    8004,-999.0,20060214,2100,  22.7575, -157.9660,  4726, 4403.400,    1.479,   34.690,2,   34.689,2,  151.300,2,  151.100,2,  149.540,2,   35.750,2,    2.510,2, -999.000
           NA,HOT timeseries 1988to2019 27SEP2021,    174,  99,-999.0,    8003,-999.0,20060214,2100,  22.7575, -157.9660,  4726, 4499.500,    1.488,   34.690,2,   34.690,2,  151.300,2,  151.300,2,  147.790,2,   35.790,2,    2.510,2, -999.000
           NA,HOT timeseries 1988to2019 27SEP2021,    174,  99,-999.0,    8002,-999.0,20060214,2100,  22.7575, -157.9660,  4726, 4601.300,    1.498,   34.690,2,   34.689,2,  151.400,2,  151.700,2,  148.200,2,   35.800,2,    2.500,2, -999.000
           NA,HOT timeseries 1988to2019 27SEP2021,    174,  99,-999.0,    8001,-999.0,20060214,2100,  22.7575, -157.9660,  4726, 4789.300,    1.520,   34.690,2,   34.689,2,  151.500,2,  152.400,2,  148.850,2,   35.750,2,    2.500,2, -999.000