BOTTLE,20214727JOAExport
EXPOCODE,SECT_ID,STNNBR,CASTNO,SAMPNO,BTLNBR,BTLNBR_FLAG_W,DATE,TIME,LATITUDE,LONGITUDE,DEPTH,CTDPRS,CTDTMP,CTDSAL,CTDSAL_FLAG_W,SALNTY,SALNTY_FLAG_W,CTDOXY,CTDOXY_FLAG_W,OXYGEN,OXYGEN_FLAG_W,SILCAT,SILCAT_FLAG_W,NINI,NINI_FLAG_W,PHSPHT,PHSPHT_FLAG_W,REVP
,,,,,,,,,,,,DB,IPTS-68,PSS-78,,PSS-78,,UMOL/KG,,UMOL/KG,,UMOL/KG,,UMOL/KG,,UMOL/KG,,DBAR
           NA,HOT timeseries 1988to2019 27SEP2021,    182,  99,-999.0,    8030,-999.0,20061020,1453,  22.7517, -158.0002,  4741,    6.700,   26.213,   35.159,2,   35.159,2,  205.000,2,  205.000,2,    0.580,2,    0.040,2,    0.010,2, -999.000
           NA,HOT timeseries 1988to2019 27SEP2021,    182,  99,-999.0,    8030,-999.0,20061020,1453,  22.7517, -158.0002,  4741,    7.400,   26.240,   35.144,2,   35.151,2,  205.300,2,  205.200,2, -999.000,4,    0.080,2,    0.030,2, -999.000
           NA,HOT timeseries 1988to2019 27SEP2021,    182,  99,-999.0,    8039,-999.0,20061020,1453,  22.7517, -158.0002,  4741,   47.200,   26.128,   35.165,2,   35.171,2,  205.400,2,  206.400,2,    1.670,2,    0.080,2,    0.020,2, -999.000
           NA,HOT timeseries 1988to2019 27SEP2021,    182,  99,-999.0,    8032,-999.0,20061020,1453,  22.7517, -158.0002,  4741,   63.100,   23.956,   35.146,2,   35.145,2,  229.200,2, -999.000,5, -999.000,4,    0.080,2,    0.020,2, -999.000
           NA,HOT timeseries 1988to2019 27SEP2021,    182,  99,-999.0,    8052,-999.0,20061020,1453,  22.7517, -158.0002,  4741,  103.300,   22.124,   35.295,2,   35.295,2,  217.800,2,  217.600,2, -999.000,4,    0.070,2,    0.050,2, -999.000
           NA,HOT timeseries 1988to2019 27SEP2021,    182,  99,-999.0,    8049,-999.0,20061020,1453,  22.7517, -158.0002,  4741,  135.900,   21.601,   35.324,2,   35.324,2,  205.800,2,  206.000,2, -999.000,4,    0.520,2,    0.090,2, -999.000
           NA,HOT timeseries 1988to2019 27SEP2021,    182,  99,-999.0,    8043,-999.0,20061020,1453,  22.7517, -158.0002,  4741,  169.500,   21.404,   35.334,2,   35.333,2,  202.700,2,  202.600,2, -999.000,4,    0.810,2,    0.090,2, -999.000
           NA,HOT timeseries 1988to2019 27SEP2021,    182,  99,-999.0,    8045,-999.0,20061020,1453,  22.7517, -158.0002,  4741,  235.900,   19.711,   35.114,2, -999.000,3, -999.000,3,  201.700,2, -999.000,4,    1.580,2,    0.140,2, -999.000
           NA,HOT timeseries 1988to2019 27SEP2021,    182,  99,-999.0,    8007,-999.0,20061020,1453,  22.7517, -158.0002,  4741,  295.400,   15.746,   34.541,2,   34.540,2,  198.900,2,  199.300,2, -999.000,4,    5.240,2,    0.430,2, -999.000
           NA,HOT timeseries 1988to2019 27SEP2021,    182,  99,-999.0,    8034,-999.0,20061020,1453,  22.7517, -158.0002,  4741,  333.500,   13.829,   34.342,2,   34.342,2,  202.300,2,  202.700,2, -999.000,3,    7.900,2,    0.610,2, -999.000
           NA,HOT timeseries 1988to2019 27SEP2021,    182,  99,-999.0,    8033,-999.0,20061020,1453,  22.7517, -158.0002,  4741,  370.700,   12.146,   34.262,2,   34.260,2,  207.400,2,  206.100,2,   11.810,2,   11.190,2,    0.810,2, -999.000
           NA,HOT timeseries 1988to2019 27SEP2021,    182,  99,-999.0,    8029,-999.0,20061020,1453,  22.7517, -158.0002,  4741,  420.000,   10.342,   34.138,2,   34.137,2,  195.900,2,  196.000,2,   19.400,2,   15.590,2,    1.130,2, -999.000
           NA,HOT timeseries 1988to2019 27SEP2021,    182,  99,-999.0,    8055,-999.0,20061020,1453,  22.7517, -158.0002,  4741,  478.700,    8.947,   34.097,2,   34.104,2,  170.600,2,  171.000,2,   26.320,2,   21.750,2,    1.500,2, -999.000
           NA,HOT timeseries 1988to2019 27SEP2021,    182,  99,-999.0,    8036,-999.0,20061020,1453,  22.7517, -158.0002,  4741,  540.600,    7.485,   34.056,2,   34.056,2,  125.200,2,  125.400,2,   42.430,2,   27.950,2,    2.030,2, -999.000
           NA,HOT timeseries 1988to2019 27SEP2021,    182,  99,-999.0,    8059,-999.0,20061020,1453,  22.7517, -158.0002,  4741,  584.400,    6.636,   34.041,2,   34.040,2,  109.100,2,  104.000,2,   54.220,2,   31.020,2,    2.250,2, -999.000
           NA,HOT timeseries 1988to2019 27SEP2021,    182,  99,-999.0,    8052,-999.0,20061020,1453,  22.7517, -158.0002,  4741,  634.600,    5.922,   34.060,2,   34.061,2,   79.400,2,   74.700,2,   66.030,2,   34.810,2,    2.540,2, -999.000
           NA,HOT timeseries 1988to2019 27SEP2021,    182,  99,-999.0,    8047,-999.0,20061020,1453,  22.7517, -158.0002,  4741,  665.800,    5.384,   34.120,2,   34.119,2,   46.000,2,   45.600,2,   79.290,2,   38.050,2,    2.810,2, -999.000
           NA,HOT timeseries 1988to2019 27SEP2021,    182,  99,-999.0,    8035,-999.0,20061020,1453,  22.7517, -158.0002,  4741,  731.400,    4.944,   34.197,2,   34.197,2,   28.000,2,   27.400,2,   90.030,2,   40.360,2,    2.990,2, -999.000
           NA,HOT timeseries 1988to2019 27SEP2021,    182,  99,-999.0,    8046,-999.0,20061020,1453,  22.7517, -158.0002,  4741,  775.200,    4.909,   34.266,2,   34.263,2,   28.800,2,   27.500,2, -999.000,3,   40.330,2,    2.990,2, -999.000
           NA,HOT timeseries 1988to2019 27SEP2021,    182,  99,-999.0,    8048,-999.0,20061020,1453,  22.7517, -158.0002,  4741,  816.800,    4.824,   34.315,2,   34.317,2,   28.600,2,   27.900,2,   93.910,2,   40.470,2,    2.990,2, -999.000
           NA,HOT timeseries 1988to2019 27SEP2021,    182,  99,-999.0,    8037,-999.0,20061020,1453,  22.7517, -158.0002,  4741,  859.900,    4.647,   34.342,2,   34.345,2,   27.500,2,   27.000,2,   99.270,2,   40.910,2,    3.010,2, -999.000
           NA,HOT timeseries 1988to2019 27SEP2021,    182,  99,-999.0,    8038,-999.0,20061020,1453,  22.7517, -158.0002,  4741,  901.100,    4.430,   34.390,2,   34.390,2,   29.200,2,   29.300,2,  103.180,2,   41.050,2,    3.020,2, -999.000
           NA,HOT timeseries 1988to2019 27SEP2021,    182,  99,-999.0,    8054,-999.0,20061020,1453,  22.7517, -158.0002,  4741,  949.500,    4.257,   34.433,2,   34.433,2,   33.800,2,   32.900,2, -999.000,4,   41.150,2,    3.020,2, -999.000
           NA,HOT timeseries 1988to2019 27SEP2021,    182,  99,-999.0,    8027,-999.0,20061020,1453,  22.7517, -158.0002,  4741, 1009.300,    4.038,   34.472,2,   34.475,2,   39.000,2,   39.500,2, -999.000,4,   41.410,2,    3.000,2, -999.000
           NA,HOT timeseries 1988to2019 27SEP2021,    182,  99,-999.0,    8049,-999.0,20061020,1453,  22.7517, -158.0002,  4741, 1201.800,    3.421,   34.538,2,   34.537,2,   52.400,2,   53.200,2,  122.430,2,   41.370,2,    2.990,2, -999.000
           NA,HOT timeseries 1988to2019 27SEP2021,    182,  99,-999.0,    8043,-999.0,20061020,1453,  22.7517, -158.0002,  4741, 1401.000,    3.070,   34.564,2,   34.562,2,   60.000,2,   60.600,2, -999.000,4,   41.070,2,    2.950,2, -999.000
           NA,HOT timeseries 1988to2019 27SEP2021,    182,  99,-999.0,    8045,-999.0,20061020,1453,  22.7517, -158.0002,  4741, 1600.600,    2.744,   34.581,2,   34.581,2,   68.300,2,   69.800,2,  136.150,2,   40.710,2,    2.910,2, -999.000
           NA,HOT timeseries 1988to2019 27SEP2021,    182,  99,-999.0,    8007,-999.0,20061020,1453,  22.7517, -158.0002,  4741, 1802.100,    2.426,   34.601,2,   34.599,2,   77.700,2,   77.600,2,  145.430,2,   40.390,2,    2.880,2, -999.000
           NA,HOT timeseries 1988to2019 27SEP2021,    182,  99,-999.0,    8034,-999.0,20061020,1453,  22.7517, -158.0002,  4741, 2000.900,    2.138,   34.622,2,   34.623,2,   87.400,2,   88.800,2,  151.590,2,   39.470,2,    2.800,2, -999.000
           NA,HOT timeseries 1988to2019 27SEP2021,    182,  99,-999.0,    8033,-999.0,20061020,1453,  22.7517, -158.0002,  4741, 2199.000,    1.955,   34.634,2,   34.635,2,   94.200,2, -999.000,5,  155.240,2,   39.230,2,    2.780,2, -999.000
           NA,HOT timeseries 1988to2019 27SEP2021,    182,  99,-999.0,    8029,-999.0,20061020,1453,  22.7517, -158.0002,  4741, 2400.500,    1.786,   34.647,2,   34.646,2,  102.200,2,  102.500,2,  157.500,2,   38.680,2,    2.710,2, -999.000
           NA,HOT timeseries 1988to2019 27SEP2021,    182,  99,-999.0,    8055,-999.0,20061020,1453,  22.7517, -158.0002,  4741, 2601.800,    1.661,   34.658,2,   34.658,2,  109.700,2,  109.100,2,  162.740,2,   38.290,2,    2.700,2, -999.000
           NA,HOT timeseries 1988to2019 27SEP2021,    182,  99,-999.0,    8036,-999.0,20061020,1453,  22.7517, -158.0002,  4741, 2799.100,    1.589,   34.666,2,   34.666,2,  118.000,2,  117.800,2,  161.200,2,   37.990,2,    2.670,2, -999.000
           NA,HOT timeseries 1988to2019 27SEP2021,    182,  99,-999.0,    8059,-999.0,20061020,1453,  22.7517, -158.0002,  4741, 3000.700,    1.538,   34.674,2,   34.674,2,  125.300,2,  125.000,2,  160.310,2,   37.410,2,    2.620,2, -999.000
           NA,HOT timeseries 1988to2019 27SEP2021,    182,  99,-999.0,    8052,-999.0,20061020,1453,  22.7517, -158.0002,  4741, 3200.400,    1.502,   34.678,2,   34.681,2,  131.200,2,  131.400,2,  156.860,2,   36.970,2,    2.580,2, -999.000
           NA,HOT timeseries 1988to2019 27SEP2021,    182,  99,-999.0,    8047,-999.0,20061020,1453,  22.7517, -158.0002,  4741, 3400.500,    1.474,   34.682,2,   34.681,2,  137.500,2,  137.000,2,  153.850,2,   36.710,2,    2.560,2, -999.000
           NA,HOT timeseries 1988to2019 27SEP2021,    182,  99,-999.0,    8035,-999.0,20061020,1453,  22.7517, -158.0002,  4741, 3603.000,    1.463,   34.684,2,   34.684,2,  141.700,2,  141.200,2,  152.690,2,   36.420,2,    2.540,2, -999.000
           NA,HOT timeseries 1988to2019 27SEP2021,    182,  99,-999.0,    8046,-999.0,20061020,1453,  22.7517, -158.0002,  4741, 3803.100,    1.460,   34.686,2,   34.686,2,  144.700,2,  144.400,2,  152.510,2,   36.090,2,    2.520,2, -999.000
           NA,HOT timeseries 1988to2019 27SEP2021,    182,  99,-999.0,    8048,-999.0,20061020,1453,  22.7517, -158.0002,  4741, 4003.000,    1.462,   34.688,2,   34.688,2,  147.500,2,  147.100,2,  151.510,2,   35.950,2,    2.500,2, -999.000
           NA,HOT timeseries 1988to2019 27SEP2021,    182,  99,-999.0,    8037,-999.0,20061020,1453,  22.7517, -158.0002,  4741, 4200.100,    1.474,   34.689,2,   34.689,2,  148.900,2,  148.400,2,  148.920,2,   35.770,2,    2.490,2, -999.000
           NA,HOT timeseries 1988to2019 27SEP2021,    182,  99,-999.0,    8038,-999.0,20061020,1453,  22.7517, -158.0002,  4741, 4401.500,    1.482,   34.690,2,   34.690,2,  151.100,2,  150.800,2,  149.660,2,   35.820,2,    2.500,2, -999.000
           NA,HOT timeseries 1988to2019 27SEP2021,    182,  99,-999.0,    8054,-999.0,20061020,1453,  22.7517, -158.0002,  4741, 4503.400,    1.488,   34.691,2,   34.692,2,  152.100,2,  151.600,2,  147.630,2,   35.590,2,    2.480,2, -999.000
           NA,HOT timeseries 1988to2019 27SEP2021,    182,  99,-999.0,    8053,-999.0,20061020,1453,  22.7517, -158.0002,  4741, 4601.600,    1.494,   34.691,2,   34.692,2,  152.600,2,  153.800,2, -999.000,3,   35.560,2,    2.490,2, -999.000
           NA,HOT timeseries 1988to2019 27SEP2021,    182,  99,-999.0,    8027,-999.0,20061020,1453,  22.7517, -158.0002,  4741, 4805.100,    1.510,   34.692,2,   34.693,2,  153.900,2,  154.700,2, -999.000,3,   35.590,2,    2.480,2, -999.000