BOTTLE,20214727JOAExport
EXPOCODE,SECT_ID,STNNBR,CASTNO,SAMPNO,BTLNBR,BTLNBR_FLAG_W,DATE,TIME,LATITUDE,LONGITUDE,DEPTH,CTDPRS,CTDTMP,CTDSAL,CTDSAL_FLAG_W,SALNTY,SALNTY_FLAG_W,CTDOXY,CTDOXY_FLAG_W,OXYGEN,OXYGEN_FLAG_W,SILCAT,SILCAT_FLAG_W,NINI,NINI_FLAG_W,PHSPHT,PHSPHT_FLAG_W,REVP
,,,,,,,,,,,,DB,IPTS-68,PSS-78,,PSS-78,,UMOL/KG,,UMOL/KG,,UMOL/KG,,UMOL/KG,,UMOL/KG,,DBAR
           NA,HOT timeseries 1988to2019 27SEP2021,    122,  99,-999.0,      31,-999.0,20010515,1159,  22.7500, -157.9977,  4722,    4.800,   23.790,   35.178,2,   35.184,2,  211.500,2,  211.800,2, -999.000,9, -999.000,9, -999.000,9, -999.000
           NA,HOT timeseries 1988to2019 27SEP2021,    122,  99,-999.0,      30,-999.0,20010515,1159,  22.7500, -157.9977,  4722,    8.900,   23.732,   35.232,2,   35.232,2,  211.900,2,  212.800,2, -999.000,9, -999.000,9, -999.000,9, -999.000
           NA,HOT timeseries 1988to2019 27SEP2021,    122,  99,-999.0,      22,-999.0,20010515,1159,  22.7500, -157.9977,  4722,   19.500,   23.724,   35.239,2,   35.245,2,  211.700,2,  212.900,2, -999.000,9, -999.000,9, -999.000,9, -999.000
           NA,HOT timeseries 1988to2019 27SEP2021,    122,  99,-999.0,      21,-999.0,20010515,1159,  22.7500, -157.9977,  4722,   59.100,   23.064,   35.374,2,   35.379,2,  217.200,2,  217.900,2, -999.000,9, -999.000,9, -999.000,9, -999.000
           NA,HOT timeseries 1988to2019 27SEP2021,    122,  99,-999.0,      20,-999.0,20010515,1159,  22.7500, -157.9977,  4722,  104.400,   22.071,   35.357,2,   35.356,2,  212.600,2,  214.800,2, -999.000,9, -999.000,9, -999.000,9, -999.000
           NA,HOT timeseries 1988to2019 27SEP2021,    122,  99,-999.0,      19,-999.0,20010515,1159,  22.7500, -157.9977,  4722,  124.200,   21.543,   35.334,2,   35.338,2,  214.300,2,  212.700,2, -999.000,9, -999.000,9, -999.000,9, -999.000
           NA,HOT timeseries 1988to2019 27SEP2021,    122,  99,-999.0,      18,-999.0,20010515,1159,  22.7500, -157.9977,  4722,  169.600,   19.154,   35.021,2,   35.021,2,  191.500,2,  194.700,2, -999.000,9, -999.000,9, -999.000,9, -999.000
           NA,HOT timeseries 1988to2019 27SEP2021,    122,  99,-999.0,      17,-999.0,20010515,1159,  22.7500, -157.9977,  4722,  216.400,   16.478,   34.704,2,   34.706,2,  198.500,2,  198.300,2, -999.000,9, -999.000,9, -999.000,9, -999.000
           NA,HOT timeseries 1988to2019 27SEP2021,    122,  99,-999.0,      16,-999.0,20010515,1159,  22.7500, -157.9977,  4722,  288.900,   12.038,   34.229,2,   34.229,2,  204.100,2,  202.800,2, -999.000,9, -999.000,9, -999.000,9, -999.000
           NA,HOT timeseries 1988to2019 27SEP2021,    122,  99,-999.0,      14,-999.0,20010515,1159,  22.7500, -157.9977,  4722,  357.000,   10.507,   34.161,2,   34.162,2,  196.800,2,  195.100,2, -999.000,9, -999.000,9, -999.000,9, -999.000
           NA,HOT timeseries 1988to2019 27SEP2021,    122,  99,-999.0,      13,-999.0,20010515,1159,  22.7500, -157.9977,  4722,  411.800,    8.887,   34.082,2,   34.084,2,  170.000,2,  174.200,2, -999.000,9, -999.000,9, -999.000,9, -999.000
           NA,HOT timeseries 1988to2019 27SEP2021,    122,  99,-999.0,      12,-999.0,20010515,1159,  22.7500, -157.9977,  4722,  481.500,    7.060,   34.026,2,   34.026,2,  124.600,2,  127.500,2, -999.000,9, -999.000,9, -999.000,9, -999.000
           NA,HOT timeseries 1988to2019 27SEP2021,    122,  99,-999.0,      11,-999.0,20010515,1159,  22.7500, -157.9977,  4722,  498.900,    6.800,   34.023,2,   34.024,2,  114.000,2,  120.000,2, -999.000,9, -999.000,9, -999.000,9, -999.000
           NA,HOT timeseries 1988to2019 27SEP2021,    122,  99,-999.0,      32,-999.0,20010515,1159,  22.7500, -157.9977,  4722,  520.700,    6.433,   34.024,2,   34.025,2,  106.100,2,  106.800,2, -999.000,9, -999.000,9, -999.000,9, -999.000
           NA,HOT timeseries 1988to2019 27SEP2021,    122,  99,-999.0,       3,-999.0,20010515,1159,  22.7500, -157.9977,  4722,  559.000,    5.834,   34.046,2,   34.045,2,   77.700,2,   78.900,2, -999.000,9, -999.000,9, -999.000,9, -999.000
           NA,HOT timeseries 1988to2019 27SEP2021,    122,  99,-999.0,      29,-999.0,20010515,1159,  22.7500, -157.9977,  4722,  583.200,    5.532,   34.076,2,   34.077,2,   57.000,2,   61.500,2, -999.000,9, -999.000,9, -999.000,9, -999.000
           NA,HOT timeseries 1988to2019 27SEP2021,    122,  99,-999.0,      28,-999.0,20010515,1159,  22.7500, -157.9977,  4722,  618.100,    5.206,   34.106,2,   34.108,2,   50.500,2,   47.100,2, -999.000,9, -999.000,9, -999.000,9, -999.000
           NA,HOT timeseries 1988to2019 27SEP2021,    122,  99,-999.0,       7,-999.0,20010515,1159,  22.7500, -157.9977,  4722,  674.000,    4.831,   34.168,2,   34.168,2,   31.900,2,   30.900,2, -999.000,9, -999.000,9, -999.000,9, -999.000
           NA,HOT timeseries 1988to2019 27SEP2021,    122,  99,-999.0,      38,-999.0,20010515,1159,  22.7500, -157.9977,  4722,  724.400,    4.582,   34.226,2,   34.229,2,   25.100,2,   23.800,2, -999.000,9, -999.000,9, -999.000,9, -999.000
           NA,HOT timeseries 1988to2019 27SEP2021,    122,  99,-999.0,      36,-999.0,20010515,1159,  22.7500, -157.9977,  4722,  766.000,    4.444,   34.300,2,   34.298,2,   23.200,2,   22.200,2, -999.000,9, -999.000,9, -999.000,9, -999.000
           NA,HOT timeseries 1988to2019 27SEP2021,    122,  99,-999.0,      35,-999.0,20010515,1159,  22.7500, -157.9977,  4722,  878.900,    4.200,   34.406,2,   34.405,2,   29.300,2,   27.600,2, -999.000,9, -999.000,9, -999.000,9, -999.000
           NA,HOT timeseries 1988to2019 27SEP2021,    122,  99,-999.0,      34,-999.0,20010515,1159,  22.7500, -157.9977,  4722,  950.800,    4.033,   34.455,2,   34.453,2,   35.400,2,   34.300,2, -999.000,9, -999.000,9, -999.000,9, -999.000
           NA,HOT timeseries 1988to2019 27SEP2021,    122,  99,-999.0,      33,-999.0,20010515,1159,  22.7500, -157.9977,  4722, 1019.600,    3.857,   34.484,2,   34.484,2,   40.200,2,   39.700,2, -999.000,9, -999.000,9, -999.000,9, -999.000
           NA,HOT timeseries 1988to2019 27SEP2021,    122,  99,-999.0,      20,-999.0,20010515,1159,  22.7500, -157.9977,  4722, 1199.200,    3.376,   34.533,2,   34.533,2,   51.500,2,   50.800,2, -999.000,9, -999.000,9, -999.000,9, -999.000
           NA,HOT timeseries 1988to2019 27SEP2021,    122,  99,-999.0,      19,-999.0,20010515,1159,  22.7500, -157.9977,  4722, 1399.500,    2.955,   34.568,2,   34.567,2,   62.200,2,   61.800,2, -999.000,9, -999.000,9, -999.000,9, -999.000
           NA,HOT timeseries 1988to2019 27SEP2021,    122,  99,-999.0,      18,-999.0,20010515,1159,  22.7500, -157.9977,  4722, 1599.100,    2.597,   34.590,2,   34.589,2,   71.100,2,   71.600,2, -999.000,9, -999.000,9, -999.000,9, -999.000
           NA,HOT timeseries 1988to2019 27SEP2021,    122,  99,-999.0,      17,-999.0,20010515,1159,  22.7500, -157.9977,  4722, 1800.600,    2.279,   34.608,2,   34.609,2,   79.600,2,   80.500,2, -999.000,9, -999.000,9, -999.000,9, -999.000
           NA,HOT timeseries 1988to2019 27SEP2021,    122,  99,-999.0,      16,-999.0,20010515,1159,  22.7500, -157.9977,  4722, 1999.000,    2.069,   34.622,2, -999.000,5,   87.000,2,   87.400,2, -999.000,9, -999.000,9, -999.000,9, -999.000
           NA,HOT timeseries 1988to2019 27SEP2021,    122,  99,-999.0,      23,-999.0,20010515,1159,  22.7500, -157.9977,  4722, 2199.800,    1.881,   34.636,2,   34.636,2,   94.900,2,   95.900,2, -999.000,9, -999.000,9, -999.000,9, -999.000
           NA,HOT timeseries 1988to2019 27SEP2021,    122,  99,-999.0,      14,-999.0,20010515,1159,  22.7500, -157.9977,  4722, 2399.500,    1.749,   34.648,2,   34.648,2,  103.700,2,  103.900,2, -999.000,9, -999.000,9, -999.000,9, -999.000
           NA,HOT timeseries 1988to2019 27SEP2021,    122,  99,-999.0,      13,-999.0,20010515,1159,  22.7500, -157.9977,  4722, 2599.600,    1.645,   34.659,2,   34.659,2,  112.900,2,  113.600,2, -999.000,9, -999.000,9, -999.000,9, -999.000
           NA,HOT timeseries 1988to2019 27SEP2021,    122,  99,-999.0,      12,-999.0,20010515,1159,  22.7500, -157.9977,  4722, 2798.800,    1.583,   34.666,2,   34.666,2,  118.800,2,  119.700,2, -999.000,9, -999.000,9, -999.000,9, -999.000
           NA,HOT timeseries 1988to2019 27SEP2021,    122,  99,-999.0,      11,-999.0,20010515,1159,  22.7500, -157.9977,  4722, 2999.100,    1.534,   34.672,2,   34.669,2,  124.700,2,  125.800,2, -999.000,9, -999.000,9, -999.000,9, -999.000
           NA,HOT timeseries 1988to2019 27SEP2021,    122,  99,-999.0,      32,-999.0,20010515,1159,  22.7500, -157.9977,  4722, 3198.400,    1.504,   34.676,2,   34.677,2,  130.300,2,  131.300,2, -999.000,9, -999.000,9, -999.000,9, -999.000
           NA,HOT timeseries 1988to2019 27SEP2021,    122,  99,-999.0,       3,-999.0,20010515,1159,  22.7500, -157.9977,  4722, 3399.900,    1.471,   34.681,2,   34.683,2,  137.000,2,  136.900,2, -999.000,9, -999.000,9, -999.000,9, -999.000
           NA,HOT timeseries 1988to2019 27SEP2021,    122,  99,-999.0,      29,-999.0,20010515,1159,  22.7500, -157.9977,  4722, 3599.500,    1.451,   34.684,2,   34.684,2,  142.300,2,  142.200,2, -999.000,9, -999.000,9, -999.000,9, -999.000
           NA,HOT timeseries 1988to2019 27SEP2021,    122,  99,-999.0,      28,-999.0,20010515,1159,  22.7500, -157.9977,  4722, 3799.200,    1.445,   34.686,2,   34.687,2,  146.000,2,  146.000,2, -999.000,9, -999.000,9, -999.000,9, -999.000
           NA,HOT timeseries 1988to2019 27SEP2021,    122,  99,-999.0,       7,-999.0,20010515,1159,  22.7500, -157.9977,  4722, 3999.500,    1.450,   34.688,2,   34.687,2,  148.600,2,  148.300,2, -999.000,9, -999.000,9, -999.000,9, -999.000
           NA,HOT timeseries 1988to2019 27SEP2021,    122,  99,-999.0,      38,-999.0,20010515,1159,  22.7500, -157.9977,  4722, 4199.200,    1.460,   34.689,2,   34.689,2,  150.700,2,  149.800,2, -999.000,9, -999.000,9, -999.000,9, -999.000
           NA,HOT timeseries 1988to2019 27SEP2021,    122,  99,-999.0,      36,-999.0,20010515,1159,  22.7500, -157.9977,  4722, 4398.600,    1.475,   34.689,2,   34.691,2,  152.100,2,  151.900,2, -999.000,9, -999.000,9, -999.000,9, -999.000
           NA,HOT timeseries 1988to2019 27SEP2021,    122,  99,-999.0,      35,-999.0,20010515,1159,  22.7500, -157.9977,  4722, 4498.800,    1.485,   34.689,2,   34.693,2,  152.400,2,  151.600,2, -999.000,9, -999.000,9, -999.000,9, -999.000
           NA,HOT timeseries 1988to2019 27SEP2021,    122,  99,-999.0,      34,-999.0,20010515,1159,  22.7500, -157.9977,  4722, 4598.700,    1.495,   34.689,2,   34.690,2,  152.400,2,  152.300,2, -999.000,9, -999.000,9, -999.000,9, -999.000
           NA,HOT timeseries 1988to2019 27SEP2021,    122,  99,-999.0,      33,-999.0,20010515,1159,  22.7500, -157.9977,  4722, 4804.700,    1.512,   34.690,2,   34.691,2,  153.000,2, -999.000,3, -999.000,9, -999.000,9, -999.000,9, -999.000