BOTTLE,20214727JOAExport
EXPOCODE,SECT_ID,STNNBR,CASTNO,SAMPNO,BTLNBR,BTLNBR_FLAG_W,DATE,TIME,LATITUDE,LONGITUDE,DEPTH,CTDPRS,CTDTMP,CTDSAL,CTDSAL_FLAG_W,SALNTY,SALNTY_FLAG_W,CTDOXY,CTDOXY_FLAG_W,OXYGEN,OXYGEN_FLAG_W,SILCAT,SILCAT_FLAG_W,NINI,NINI_FLAG_W,PHSPHT,PHSPHT_FLAG_W,REVP
,,,,,,,,,,,,DB,IPTS-68,PSS-78,,PSS-78,,UMOL/KG,,UMOL/KG,,UMOL/KG,,UMOL/KG,,UMOL/KG,,DBAR
           NA,HOT timeseries 1988to2019 27SEP2021,    199,  99,-999.0,    8024,-999.0,20080726,2156,  22.7503, -158.0000,  4745,   10.700,   26.029,   34.979,2,   34.979,2,  208.000,2,  207.000,2,    0.870,2,    0.090,2,    0.100,2, -999.000
           NA,HOT timeseries 1988to2019 27SEP2021,    199,  99,-999.0,    8024,-999.0,20080726,2156,  22.7503, -158.0000,  4745,   14.200,   25.823,   34.929,2,   34.929,2,  207.900,2,  207.200,2,    1.510,2,    0.090,2,    0.080,2, -999.000
           NA,HOT timeseries 1988to2019 27SEP2021,    199,  99,-999.0,    8023,-999.0,20080726,2156,  22.7503, -158.0000,  4745,   51.800,   24.567,   35.044,2, -999.000,3, -999.000,3,  224.300,2,    0.810,2, -999.000,3,    0.060,2, -999.000
           NA,HOT timeseries 1988to2019 27SEP2021,    199,  99,-999.0,    8022,-999.0,20080726,2156,  22.7503, -158.0000,  4745,   82.000,   23.524,   35.142,2,   35.144,2,  220.000,2,  221.200,2,    0.870,2, -999.000,3,    0.060,2, -999.000
           NA,HOT timeseries 1988to2019 27SEP2021,    199,  99,-999.0,    8021,-999.0,20080726,2156,  22.7503, -158.0000,  4745,  120.600,   22.671,   35.185,2,   35.184,2,  210.800,2,  213.300,2,    0.910,2, -999.000,3,    0.080,2, -999.000
           NA,HOT timeseries 1988to2019 27SEP2021,    199,  99,-999.0,    8020,-999.0,20080726,2156,  22.7503, -158.0000,  4745,  160.800,   21.844,   35.232,2,   35.232,2,  206.800,2,  206.700,2,    1.230,2,    0.460,2,    0.090,2, -999.000
           NA,HOT timeseries 1988to2019 27SEP2021,    199,  99,-999.0,    8019,-999.0,20080726,2156,  22.7503, -158.0000,  4745,  198.300,   20.008,   35.044,2,   35.041,2,  192.800,2,  194.000,2,    2.150,2,    1.890,2,    0.200,2, -999.000
           NA,HOT timeseries 1988to2019 27SEP2021,    199,  99,-999.0,    8018,-999.0,20080726,2156,  22.7503, -158.0000,  4745,  235.000,   18.254,   34.838,2,   34.840,2,  193.500,2,  192.800,2,    2.980,2,    3.380,2,    0.310,2, -999.000
           NA,HOT timeseries 1988to2019 27SEP2021,    199,  99,-999.0,    8017,-999.0,20080726,2156,  22.7503, -158.0000,  4745,  280.000,   15.700,   34.507,2,   34.508,2,  190.300,2,  191.600,2,    5.220,2,    6.020,2,    0.490,2, -999.000
           NA,HOT timeseries 1988to2019 27SEP2021,    199,  99,-999.0,    8016,-999.0,20080726,2156,  22.7503, -158.0000,  4745,  332.400,   11.946,   34.160,2,   34.160,2,  194.300,2,  194.800,2,   11.640,2,   12.130,2,    0.900,2, -999.000
           NA,HOT timeseries 1988to2019 27SEP2021,    199,  99,-999.0,    8015,-999.0,20080726,2156,  22.7503, -158.0000,  4745,  354.500,   10.844,   34.112,2,   34.111,2,  186.600,2,  186.100,2,   15.960,2,   15.310,2,    1.130,2, -999.000
           NA,HOT timeseries 1988to2019 27SEP2021,    199,  99,-999.0,    8023,-999.0,20080726,2156,  22.7503, -158.0000,  4745,  400.400,    9.630,   34.116,2,   34.118,2,  174.300,2,  172.300,2,   23.620,2,   19.220,2,    1.390,2, -999.000
           NA,HOT timeseries 1988to2019 27SEP2021,    199,  99,-999.0,    8014,-999.0,20080726,2156,  22.7503, -158.0000,  4745,  425.100,    9.221,   34.110,2,   34.110,2,  164.700,2,  164.400,2,   26.660,2,   21.030,2,    1.510,2, -999.000
           NA,HOT timeseries 1988to2019 27SEP2021,    199,  99,-999.0,    8025,-999.0,20080726,2156,  22.7503, -158.0000,  4745,  466.700,    8.404,   34.097,2,   34.097,2,  141.800,2,  141.400,2,   34.720,2,   24.840,2,    1.800,2, -999.000
           NA,HOT timeseries 1988to2019 27SEP2021,    199,  99,-999.0,    8012,-999.0,20080726,2156,  22.7503, -158.0000,  4745,  508.600,    7.472,   34.069,2,   34.071,2,  120.700,2,  123.100,2,   43.970,2,   28.410,2,    2.040,2, -999.000
           NA,HOT timeseries 1988to2019 27SEP2021,    199,  99,-999.0,    8011,-999.0,20080726,2156,  22.7503, -158.0000,  4745,  545.100,    6.845,   34.075,2,   34.076,2,  100.500,2,  100.000,2,   53.370,2,   31.620,2,    2.290,2, -999.000
           NA,HOT timeseries 1988to2019 27SEP2021,    199,  99,-999.0,    8009,-999.0,20080726,2156,  22.7503, -158.0000,  4745,  651.900,    5.911,   34.198,2,   34.197,2,   60.400,2,   56.800,2,   71.480,2,   37.110,2,    2.720,2, -999.000
           NA,HOT timeseries 1988to2019 27SEP2021,    199,  99,-999.0,    8010,-999.0,20080726,2156,  22.7503, -158.0000,  4745,  652.200,    5.910,   34.200,2,   34.198,2,   60.700,2,   56.600,2,   71.520,2,   37.230,2,    2.720,2, -999.000
           NA,HOT timeseries 1988to2019 27SEP2021,    199,  99,-999.0,    8008,-999.0,20080726,2156,  22.7503, -158.0000,  4745,  717.800,    5.360,   34.255,2,   34.255,2,   39.400,2,   38.700,2,   82.240,2,   39.930,2,    2.920,2, -999.000
           NA,HOT timeseries 1988to2019 27SEP2021,    199,  99,-999.0,    8026,-999.0,20080726,2156,  22.7503, -158.0000,  4745,  779.800,    4.843,   34.311,2,   34.311,2,   33.100,2,   32.000,2,   92.800,2,   41.250,2,    3.010,2, -999.000
           NA,HOT timeseries 1988to2019 27SEP2021,    199,  99,-999.0,    8006,-999.0,20080726,2156,  22.7503, -158.0000,  4745,  815.600,    4.649,   34.340,2,   34.340,2,   33.100,2,   32.400,2,   97.140,2,   41.650,2,    3.030,2, -999.000
           NA,HOT timeseries 1988to2019 27SEP2021,    199,  99,-999.0,    8005,-999.0,20080726,2156,  22.7503, -158.0000,  4745,  852.200,    4.484,   34.389,2,   34.388,2,   35.300,2,   34.400,2,  100.680,2,   41.740,2,    3.040,2, -999.000
           NA,HOT timeseries 1988to2019 27SEP2021,    199,  99,-999.0,    8004,-999.0,20080726,2156,  22.7503, -158.0000,  4745,  890.700,    4.382,   34.431,2,   34.430,2,   38.600,2,   38.800,2,  102.490,2,   41.720,2,    3.020,2, -999.000
           NA,HOT timeseries 1988to2019 27SEP2021,    199,  99,-999.0,    8003,-999.0,20080726,2156,  22.7503, -158.0000,  4745,  927.900,    4.243,   34.451,2,   34.451,2,   40.900,2,   41.100,2,  105.340,2,   41.840,2,    3.020,2, -999.000
           NA,HOT timeseries 1988to2019 27SEP2021,    199,  99,-999.0,    8002,-999.0,20080726,2156,  22.7503, -158.0000,  4745,  965.300,    4.199,   34.474,2,   34.473,2,   44.500,2, -999.000,3,  105.760,2,   41.840,2,    3.030,2, -999.000
           NA,HOT timeseries 1988to2019 27SEP2021,    199,  99,-999.0,    8001,-999.0,20080726,2156,  22.7503, -158.0000,  4745, 1002.600,    4.119,   34.487,2,   34.487,2,   45.000,2,   45.300,2,  107.430,2,   41.780,2,    3.030,2, -999.000
           NA,HOT timeseries 1988to2019 27SEP2021,    199,  99,-999.0,    8020,-999.0,20080726,2156,  22.7503, -158.0000,  4745, 1199.200,    3.632,   34.523,2,   34.523,2,   52.100,2,   52.800,2,  117.460,2,   41.520,2,    2.990,2, -999.000
           NA,HOT timeseries 1988to2019 27SEP2021,    199,  99,-999.0,    8019,-999.0,20080726,2156,  22.7503, -158.0000,  4745, 1400.100,    3.107,   34.550,2,   34.550,2,   61.700,2,   61.600,2,  129.490,2,   41.140,2,    2.950,2, -999.000
           NA,HOT timeseries 1988to2019 27SEP2021,    199,  99,-999.0,    8018,-999.0,20080726,2156,  22.7503, -158.0000,  4745, 1600.400,    2.796,   34.574,2,   34.574,2,   68.000,2,   68.200,2,  136.070,2,   40.980,2,    2.940,2, -999.000
           NA,HOT timeseries 1988to2019 27SEP2021,    199,  99,-999.0,    8017,-999.0,20080726,2156,  22.7503, -158.0000,  4745, 1799.000,    2.435,   34.595,2,   34.595,2,   77.500,2,   77.800,2,  145.530,2,   40.360,2,    2.880,2, -999.000
           NA,HOT timeseries 1988to2019 27SEP2021,    199,  99,-999.0,    8016,-999.0,20080726,2156,  22.7503, -158.0000,  4745, 1999.400,    2.126,   34.614,2,   34.614,2,   86.500,2,   87.400,2,  152.100,2,   39.950,2,    2.860,2, -999.000
           NA,HOT timeseries 1988to2019 27SEP2021,    199,  99,-999.0,    8015,-999.0,20080726,2156,  22.7503, -158.0000,  4745, 2199.800,    1.949,   34.632,2,   34.632,2,   95.800,2,   95.900,2,  155.290,2,   39.340,2,    2.790,2, -999.000
           NA,HOT timeseries 1988to2019 27SEP2021,    199,  99,-999.0,    8014,-999.0,20080726,2156,  22.7503, -158.0000,  4745, 2398.500,    1.808,   34.644,2,   34.644,2,  102.900,2,  104.300,2,  158.590,2,   39.000,2,    2.750,2, -999.000
           NA,HOT timeseries 1988to2019 27SEP2021,    199,  99,-999.0,    8025,-999.0,20080726,2156,  22.7503, -158.0000,  4745, 2599.400,    1.704,   34.653,2,   34.653,2,  110.500,2,  111.300,2,  158.840,2,   38.530,2,    2.720,2, -999.000
           NA,HOT timeseries 1988to2019 27SEP2021,    199,  99,-999.0,    8012,-999.0,20080726,2156,  22.7503, -158.0000,  4745, 2799.800,    1.613,   34.662,2,   34.662,2,  118.000,2,  118.300,2,  159.540,2,   37.910,2,    2.690,2, -999.000
           NA,HOT timeseries 1988to2019 27SEP2021,    199,  99,-999.0,    8011,-999.0,20080726,2156,  22.7503, -158.0000,  4745, 2999.000,    1.560,   34.668,2,   34.668,2,  124.100,2,  124.400,2,  159.950,2,   37.650,2,    2.640,2, -999.000
           NA,HOT timeseries 1988to2019 27SEP2021,    199,  99,-999.0,    8010,-999.0,20080726,2156,  22.7503, -158.0000,  4745, 3199.900,    1.524,   34.673,2,   34.674,2,  130.200,2,  130.200,2,  158.240,2,   37.380,2,    2.630,2, -999.000
           NA,HOT timeseries 1988to2019 27SEP2021,    199,  99,-999.0,    8009,-999.0,20080726,2156,  22.7503, -158.0000,  4745, 3399.500,    1.492,   34.677,2,   34.678,2,  135.800,2,  135.400,2,  157.030,2,   37.000,2,    2.600,2, -999.000
           NA,HOT timeseries 1988to2019 27SEP2021,    199,  99,-999.0,    8008,-999.0,20080726,2156,  22.7503, -158.0000,  4745, 3599.000,    1.470,   34.681,2,   34.682,2,  141.400,2,  140.800,2,  155.440,2,   36.630,2,    2.570,2, -999.000
           NA,HOT timeseries 1988to2019 27SEP2021,    199,  99,-999.0,    8026,-999.0,20080726,2156,  22.7503, -158.0000,  4745, 3799.100,    1.457,   34.684,2,   34.685,2,  145.400,2,  144.900,2,  153.910,2,   36.260,2,    2.540,2, -999.000
           NA,HOT timeseries 1988to2019 27SEP2021,    199,  99,-999.0,    8006,-999.0,20080726,2156,  22.7503, -158.0000,  4745, 3998.100,    1.462,   34.686,2,   34.686,2,  147.600,2,  147.400,2,  153.320,2,   36.050,2,    2.540,2, -999.000
           NA,HOT timeseries 1988to2019 27SEP2021,    199,  99,-999.0,    8005,-999.0,20080726,2156,  22.7503, -158.0000,  4745, 4198.400,    1.469,   34.687,2,   34.687,2,  150.000,2,  149.400,2,  151.930,2,   36.060,2,    2.530,2, -999.000
           NA,HOT timeseries 1988to2019 27SEP2021,    199,  99,-999.0,    8004,-999.0,20080726,2156,  22.7503, -158.0000,  4745, 4398.100,    1.480,   34.688,2,   34.688,2,  151.800,2,  151.200,2,  151.470,2,   36.000,2,    2.530,2, -999.000
           NA,HOT timeseries 1988to2019 27SEP2021,    199,  99,-999.0,    8003,-999.0,20080726,2156,  22.7503, -158.0000,  4745, 4501.000,    1.488,   34.688,2,   34.688,2,  152.400,2,  152.400,2,  151.100,2,   35.870,2,    2.520,2, -999.000
           NA,HOT timeseries 1988to2019 27SEP2021,    199,  99,-999.0,    8002,-999.0,20080726,2156,  22.7503, -158.0000,  4745, 4599.500,    1.495,   34.689,2,   34.689,2,  152.500,2,  152.300,2,  150.810,2,   36.080,2,    2.520,2, -999.000
           NA,HOT timeseries 1988to2019 27SEP2021,    199,  99,-999.0,    8001,-999.0,20080726,2156,  22.7503, -158.0000,  4745, 4803.400,    1.506,   34.690,2,   34.690,2,  154.300,2,  154.800,2,  148.100,2,   35.650,2,    2.470,2, -999.000