BOTTLE,20214727JOAExport
EXPOCODE,SECT_ID,STNNBR,CASTNO,SAMPNO,BTLNBR,BTLNBR_FLAG_W,DATE,TIME,LATITUDE,LONGITUDE,DEPTH,CTDPRS,CTDTMP,CTDSAL,CTDSAL_FLAG_W,SALNTY,SALNTY_FLAG_W,CTDOXY,CTDOXY_FLAG_W,OXYGEN,OXYGEN_FLAG_W,SILCAT,SILCAT_FLAG_W,NINI,NINI_FLAG_W,PHSPHT,PHSPHT_FLAG_W,REVP
,,,,,,,,,,,,DB,IPTS-68,PSS-78,,PSS-78,,UMOL/KG,,UMOL/KG,,UMOL/KG,,UMOL/KG,,UMOL/KG,,DBAR
           NA,HOT timeseries 1988to2019 27SEP2021,    239,  99,-999.0,    8024,-999.0,20131027,1453,  22.7495, -158.0020,  4742,    7.200,   26.458,   35.197,2,   35.198,2,  203.400,2,  203.500,2,    1.330,2,    0.010,2,    0.120,2, -999.000
           NA,HOT timeseries 1988to2019 27SEP2021,    239,  99,-999.0,    8024,-999.0,20131027,1453,  22.7495, -158.0020,  4742,    8.000,   26.535,   35.216,2,   35.216,2,  203.000,2,  203.400,2,    1.260,2,    0.010,2,    0.110,2, -999.000
           NA,HOT timeseries 1988to2019 27SEP2021,    239,  99,-999.0,    8023,-999.0,20131027,1453,  22.7495, -158.0020,  4742,   44.500,   26.446,   35.217,2,   35.218,2,  203.900,2,  203.800,2,    1.220,2,    0.010,2,    0.100,2, -999.000
           NA,HOT timeseries 1988to2019 27SEP2021,    239,  99,-999.0,    8022,-999.0,20131027,1453,  22.7495, -158.0020,  4742,   82.700,   23.513,   35.205,2,   35.206,2,  219.700,2,  219.800,2,    1.480,2,    0.020,2,    0.110,2, -999.000
           NA,HOT timeseries 1988to2019 27SEP2021,    239,  99,-999.0,    8021,-999.0,20131027,1453,  22.7495, -158.0020,  4742,  110.900,   21.973,   35.280,2,   35.279,2,  210.500,2,  210.000,2,    1.560,2,    0.170,2,    0.140,2, -999.000
           NA,HOT timeseries 1988to2019 27SEP2021,    239,  99,-999.0,    8020,-999.0,20131027,1453,  22.7495, -158.0020,  4742,  164.200,   21.079,   35.355,2,   35.354,2,  203.000,2,  203.000,2,    1.760,2,    0.740,2,    0.120,2, -999.000
           NA,HOT timeseries 1988to2019 27SEP2021,    239,  99,-999.0,    8019,-999.0,20131027,1453,  22.7495, -158.0020,  4742,  218.800,   19.168,   35.029,2,   35.019,2,  194.400,2,  194.800,2,    2.920,2,    2.600,2,    0.220,2, -999.000
           NA,HOT timeseries 1988to2019 27SEP2021,    239,  99,-999.0,    8018,-999.0,20131027,1453,  22.7495, -158.0020,  4742,  273.700,   15.525,   34.517,2,   34.527,2,  195.900,2,  195.500,2,    5.780,2,    6.040,2,    0.440,2, -999.000
           NA,HOT timeseries 1988to2019 27SEP2021,    239,  99,-999.0,    8017,-999.0,20131027,1453,  22.7495, -158.0020,  4742,  310.300,   13.889,   34.355,2,   34.357,2,  201.100,2,  200.800,2,    7.860,2,    7.910,2,    0.580,2, -999.000
           NA,HOT timeseries 1988to2019 27SEP2021,    239,  99,-999.0,    8016,-999.0,20131027,1453,  22.7495, -158.0020,  4742,  347.000,   11.716,   34.174,2,   34.174,2,  190.700,2,  193.500,2,   13.120,2,   12.810,2,    0.930,2, -999.000
           NA,HOT timeseries 1988to2019 27SEP2021,    239,  99,-999.0,    8015,-999.0,20131027,1453,  22.7495, -158.0020,  4742,  395.200,   10.396,   34.133,2,   34.135,2,  188.500,2,  185.400,2,   18.480,2,   16.350,2,    1.160,2, -999.000
           NA,HOT timeseries 1988to2019 27SEP2021,    239,  99,-999.0,    8014,-999.0,20131027,1453,  22.7495, -158.0020,  4742,  442.900,    8.747,   34.091,2,   34.091,2,  146.900,2,  147.000,2,   31.080,2,   23.120,2,    1.670,2, -999.000
           NA,HOT timeseries 1988to2019 27SEP2021,    239,  99,-999.0,    8012,-999.0,20131027,1453,  22.7495, -158.0020,  4742,  514.500,    7.344,   34.084,2,   34.085,2,  105.300,2,  102.200,2,   47.520,2,   29.700,2,    2.150,2, -999.000
           NA,HOT timeseries 1988to2019 27SEP2021,    239,  99,-999.0,    8011,-999.0,20131027,1453,  22.7495, -158.0020,  4742,  537.400,    7.009,   34.121,2,   34.118,2,   79.800,2,   79.000,2,   54.020,2,   32.330,2,    2.370,2, -999.000
           NA,HOT timeseries 1988to2019 27SEP2021,    239,  99,-999.0,    8010,-999.0,20131027,1453,  22.7495, -158.0020,  4742,  583.800,    6.546,   34.174,2,   34.171,2,   56.500,2,   57.600,2,   61.960,2,   35.060,2,    2.580,2, -999.000
           NA,HOT timeseries 1988to2019 27SEP2021,    239,  99,-999.0,    8026,-999.0,20131027,1453,  22.7495, -158.0020,  4742,  762.000,    4.789,   34.254,2,   34.255,2,   38.800,2,   38.400,2,   93.290,2,   39.860,2,    2.870,2, -999.000
           NA,HOT timeseries 1988to2019 27SEP2021,    239,  99,-999.0,    8006,-999.0,20131027,1453,  22.7495, -158.0020,  4742,  806.400,    4.535,   34.307,2,   34.307,2,   35.900,2,   36.100,2,   99.530,2,   40.380,2,    2.920,2, -999.000
           NA,HOT timeseries 1988to2019 27SEP2021,    239,  99,-999.0,    8004,-999.0,20131027,1453,  22.7495, -158.0020,  4742,  896.000,    4.285,   34.357,2,   34.357,2,   36.100,2,   35.900,2,  104.990,2,   41.010,2,    2.940,2, -999.000
           NA,HOT timeseries 1988to2019 27SEP2021,    239,  99,-999.0,    8003,-999.0,20131027,1453,  22.7495, -158.0020,  4742,  953.400,    4.100,   34.415,2,   34.417,2,   41.000,2,   41.000,2,  108.740,2,   40.990,2,    2.930,2, -999.000
           NA,HOT timeseries 1988to2019 27SEP2021,    239,  99,-999.0,    8001,-999.0,20131027,1453,  22.7495, -158.0020,  4742, 1020.300,    3.919,   34.461,2,   34.462,2,   46.300,2,   46.000,2,  111.970,2,   40.610,2,    2.900,2, -999.000
           NA,HOT timeseries 1988to2019 27SEP2021,    239,  99,-999.0,    8020,-999.0,20131027,1453,  22.7495, -158.0020,  4742, 1200.900,    3.464,   34.518,2,   34.519,2,   56.000,2,   55.600,2,  121.560,2,   40.610,2,    2.920,2, -999.000
           NA,HOT timeseries 1988to2019 27SEP2021,    239,  99,-999.0,    8019,-999.0,20131027,1453,  22.7495, -158.0020,  4742, 1401.100,    3.047,   34.546,2,   34.546,2,   63.400,2,   63.200,2,  130.320,2,   40.180,2,    2.890,2, -999.000
           NA,HOT timeseries 1988to2019 27SEP2021,    239,  99,-999.0,    8018,-999.0,20131027,1453,  22.7495, -158.0020,  4742, 1600.700,    2.650,   34.569,2,   34.570,2,   71.100,2,   71.600,2,  139.470,2,   40.120,2,    2.860,2, -999.000
           NA,HOT timeseries 1988to2019 27SEP2021,    239,  99,-999.0,    8017,-999.0,20131027,1453,  22.7495, -158.0020,  4742, 1800.200,    2.378,   34.597,2,   34.597,2,   79.600,2,   79.300,2,  145.150,2,   39.630,2,    2.820,2, -999.000
           NA,HOT timeseries 1988to2019 27SEP2021,    239,  99,-999.0,    8016,-999.0,20131027,1453,  22.7495, -158.0020,  4742, 2000.800,    2.130,   34.618,2,   34.620,2,   88.700,2,   89.100,2,  150.260,2,   39.140,2,    2.770,2, -999.000
           NA,HOT timeseries 1988to2019 27SEP2021,    239,  99,-999.0,    8015,-999.0,20131027,1453,  22.7495, -158.0020,  4742, 2199.900,    1.942,   34.632,2,   34.632,2,   96.200,2,   96.300,2,  154.730,2,   38.870,2,    2.760,2, -999.000
           NA,HOT timeseries 1988to2019 27SEP2021,    239,  99,-999.0,    8014,-999.0,20131027,1453,  22.7495, -158.0020,  4742, 2401.300,    1.784,   34.644,2,   34.644,2,  103.500,2,  103.700,2,  158.080,2,   38.320,2,    2.710,2, -999.000
           NA,HOT timeseries 1988to2019 27SEP2021,    239,  99,-999.0,    8025,-999.0,20131027,1453,  22.7495, -158.0020,  4742, 2600.600,    1.691,   34.653,2,   34.653,2,  110.800,2,  111.000,2,  158.850,2,   37.810,2,    2.670,2, -999.000
           NA,HOT timeseries 1988to2019 27SEP2021,    239,  99,-999.0,    8012,-999.0,20131027,1453,  22.7495, -158.0020,  4742, 2800.800,    1.613,   34.661,2,   34.662,2,  117.100,2,  117.700,2,  159.130,2,   37.520,2,    2.640,2, -999.000
           NA,HOT timeseries 1988to2019 27SEP2021,    239,  99,-999.0,    8011,-999.0,20131027,1453,  22.7495, -158.0020,  4742, 3000.000,    1.549,   34.666,2,   34.666,2,  123.400,2,  123.400,2,  158.410,2,   36.960,2,    2.590,2, -999.000
           NA,HOT timeseries 1988to2019 27SEP2021,    239,  99,-999.0,    8010,-999.0,20131027,1453,  22.7495, -158.0020,  4742, 3199.900,    1.510,   34.672,2,   34.672,2,  130.200,2,  131.200,2,  156.500,2,   36.870,2,    2.580,2, -999.000
           NA,HOT timeseries 1988to2019 27SEP2021,    239,  99,-999.0,    8009,-999.0,20131027,1453,  22.7495, -158.0020,  4742, 3400.100,    1.477,   34.677,2,   34.677,2,  136.600,2,  136.700,2,  154.940,2,   36.280,2,    2.540,2, -999.000
           NA,HOT timeseries 1988to2019 27SEP2021,    239,  99,-999.0,    8008,-999.0,20131027,1453,  22.7495, -158.0020,  4742, 3601.000,    1.461,   34.680,2,   34.679,2,  141.400,2,  141.300,2,  153.310,2,   36.040,2,    2.510,2, -999.000
           NA,HOT timeseries 1988to2019 27SEP2021,    239,  99,-999.0,    8026,-999.0,20131027,1453,  22.7495, -158.0020,  4742, 3800.000,    1.455,   34.682,2,   34.683,2,  144.300,2,  143.900,2,  152.600,2,   35.770,2,    2.500,2, -999.000
           NA,HOT timeseries 1988to2019 27SEP2021,    239,  99,-999.0,    8006,-999.0,20131027,1453,  22.7495, -158.0020,  4742, 4001.100,    1.456,   34.684,2,   34.684,2,  147.100,2,  146.600,2,  151.240,2,   35.520,2,    2.480,2, -999.000
           NA,HOT timeseries 1988to2019 27SEP2021,    239,  99,-999.0,    8005,-999.0,20131027,1453,  22.7495, -158.0020,  4742, 4200.500,    1.466,   34.685,2,   34.685,2,  149.300,2,  149.600,2,  150.680,2,   35.650,2,    2.490,2, -999.000
           NA,HOT timeseries 1988to2019 27SEP2021,    239,  99,-999.0,    8004,-999.0,20131027,1453,  22.7495, -158.0020,  4742, 4400.100,    1.481,   34.686,2,   34.686,2,  150.500,2,  150.200,2,  150.080,2,   35.290,2,    2.480,2, -999.000
           NA,HOT timeseries 1988to2019 27SEP2021,    239,  99,-999.0,    8003,-999.0,20131027,1453,  22.7495, -158.0020,  4742, 4501.100,    1.489,   34.686,2,   34.687,2,  151.100,2,  151.000,2,  149.290,2,   35.270,2,    2.470,2, -999.000
           NA,HOT timeseries 1988to2019 27SEP2021,    239,  99,-999.0,    8002,-999.0,20131027,1453,  22.7495, -158.0020,  4742, 4599.800,    1.500,   34.686,2,   34.688,2,  151.100,2,  151.300,2,  149.020,2,   35.030,2,    2.470,2, -999.000
           NA,HOT timeseries 1988to2019 27SEP2021,    239,  99,-999.0,    8001,-999.0,20131027,1453,  22.7495, -158.0020,  4742, 4809.100,    1.512,   34.688,2,   34.689,2,  153.000,2,  153.100,2,  147.200,2,   35.020,2,    2.450,2, -999.000