BOTTLE,20214727JOAExport
EXPOCODE,SECT_ID,STNNBR,CASTNO,SAMPNO,BTLNBR,BTLNBR_FLAG_W,DATE,TIME,LATITUDE,LONGITUDE,DEPTH,CTDPRS,CTDTMP,CTDSAL,CTDSAL_FLAG_W,SALNTY,SALNTY_FLAG_W,CTDOXY,CTDOXY_FLAG_W,OXYGEN,OXYGEN_FLAG_W,SILCAT,SILCAT_FLAG_W,NINI,NINI_FLAG_W,PHSPHT,PHSPHT_FLAG_W,REVP
,,,,,,,,,,,,DB,IPTS-68,PSS-78,,PSS-78,,UMOL/KG,,UMOL/KG,,UMOL/KG,,UMOL/KG,,UMOL/KG,,DBAR
           NA,HOT timeseries 1988to2019 27SEP2021,      2,  99,-999.0,    8024,-999.0,20140305,2150,  22.7492, -157.9998,  4743,    7.000,   24.192,   35.146,2,   35.146,2,  212.000,2,  211.800,2,    1.120,2,    0.060,2,    0.120,2, -999.000
           NA,HOT timeseries 1988to2019 27SEP2021,      2,  99,-999.0,    8023,-999.0,20140305,2150,  22.7492, -157.9998,  4743,   41.900,   24.073,   35.341,2,   35.340,2,  212.800,2,  212.800,2,    0.980,2,    0.090,2,    0.070,2, -999.000
           NA,HOT timeseries 1988to2019 27SEP2021,      2,  99,-999.0,    8022,-999.0,20140305,2150,  22.7492, -157.9998,  4743,   83.500,   23.460,   35.422,2,   35.424,2,  213.200,2,  213.400,2,    0.930,2,    0.120,2,    0.040,2, -999.000
           NA,HOT timeseries 1988to2019 27SEP2021,      2,  99,-999.0,    8021,-999.0,20140305,2150,  22.7492, -157.9998,  4743,  126.200,   22.891,   35.403,2,   35.395,2,  212.200,2,  210.700,2,    1.100,2,    0.030,2,    0.050,2, -999.000
           NA,HOT timeseries 1988to2019 27SEP2021,      2,  99,-999.0,    8020,-999.0,20140305,2150,  22.7492, -157.9998,  4743,  164.200,   20.191,   35.200,2,   35.205,2,  199.400,2,  200.100,2,    1.920,2,    1.480,2,    0.160,2, -999.000
           NA,HOT timeseries 1988to2019 27SEP2021,      2,  99,-999.0,    8019,-999.0,20140305,2150,  22.7492, -157.9998,  4743,  203.700,   17.712,   34.813,2,   34.808,2,  197.200,2,  196.300,2,    3.330,2,    3.520,2,    0.300,2, -999.000
           NA,HOT timeseries 1988to2019 27SEP2021,      2,  99,-999.0,    8018,-999.0,20140305,2150,  22.7492, -157.9998,  4743,  240.200,   15.097,   34.433,2,   34.426,2,  197.600,2,  198.500,2,    5.430,2,    5.990,2,    0.470,2, -999.000
           NA,HOT timeseries 1988to2019 27SEP2021,      2,  99,-999.0,    8017,-999.0,20140305,2150,  22.7492, -157.9998,  4743,  304.200,   11.469,   34.112,2,   34.111,2,  198.200,2,  198.600,2,   12.630,2,   12.540,2,    0.930,2, -999.000
           NA,HOT timeseries 1988to2019 27SEP2021,      2,  99,-999.0,    8016,-999.0,20140305,2150,  22.7492, -157.9998,  4743,  353.500,   10.078,   34.081,2,   34.081,2,  188.300,2,  190.000,2,   18.600,2,   16.440,2,    1.190,2, -999.000
           NA,HOT timeseries 1988to2019 27SEP2021,      2,  99,-999.0,    8015,-999.0,20140305,2150,  22.7492, -157.9998,  4743,  402.600,    8.753,   34.057,2,   34.058,2,  161.900,2,  160.400,2,   29.240,2,   22.050,2,    1.590,2, -999.000
           NA,HOT timeseries 1988to2019 27SEP2021,      2,  99,-999.0,    8014,-999.0,20140305,2150,  22.7492, -157.9998,  4743,  440.200,    8.049,   34.055,2,   34.054,2,  139.000,2,  137.100,2,   37.000,2,   25.630,2,    1.840,2, -999.000
           NA,HOT timeseries 1988to2019 27SEP2021,      2,  99,-999.0,    8025,-999.0,20140305,2150,  22.7492, -157.9998,  4743,  478.100,    7.400,   34.069,2,   34.068,2,  109.100,2,  110.800,2,   45.540,2,   29.220,2,    2.120,2, -999.000
           NA,HOT timeseries 1988to2019 27SEP2021,      2,  99,-999.0,    8023,-999.0,20140305,2150,  22.7492, -157.9998,  4743,  500.900,    6.784,   34.065,2,   34.064,2,   92.500,2,   92.700,2,   53.550,2,   31.430,2,    2.310,2, -999.000
           NA,HOT timeseries 1988to2019 27SEP2021,      2,  99,-999.0,    8012,-999.0,20140305,2150,  22.7492, -157.9998,  4743,  520.700,    6.614,   34.067,2,   34.069,2,   88.900,2,   88.700,2,   55.430,2,   32.620,2,    2.390,2, -999.000
           NA,HOT timeseries 1988to2019 27SEP2021,      2,  99,-999.0,    8011,-999.0,20140305,2150,  22.7492, -157.9998,  4743,  569.600,    5.936,   34.101,2,   34.098,2,   64.900,2,   66.000,2,   66.670,2,   35.670,2,    2.570,2, -999.000
           NA,HOT timeseries 1988to2019 27SEP2021,      2,  99,-999.0,    8010,-999.0,20140305,2150,  22.7492, -157.9998,  4743,  611.900,    5.502,   34.156,2,   34.157,2,   51.100,2,   49.100,2,   76.280,2,   37.910,2,    2.770,2, -999.000
           NA,HOT timeseries 1988to2019 27SEP2021,      2,  99,-999.0,    8009,-999.0,20140305,2150,  22.7492, -157.9998,  4743,  666.000,    4.993,   34.220,2,   34.217,2,   39.700,2,   39.400,2,   87.140,2,   39.580,2,    2.880,2, -999.000
           NA,HOT timeseries 1988to2019 27SEP2021,      2,  99,-999.0,    8008,-999.0,20140305,2150,  22.7492, -157.9998,  4743,  720.500,    4.714,   34.273,2,   34.271,2,   35.200,2,   35.300,2,   94.610,2,   40.630,2,    2.950,2, -999.000
           NA,HOT timeseries 1988to2019 27SEP2021,      2,  99,-999.0,    8026,-999.0,20140305,2150,  22.7492, -157.9998,  4743,  736.800,    4.662,   34.289,2,   34.292,2,   33.800,2,   34.600,2,   95.570,2,   40.530,2,    2.960,2, -999.000
           NA,HOT timeseries 1988to2019 27SEP2021,      2,  99,-999.0,    8022,-999.0,20140305,2150,  22.7492, -157.9998,  4743,  750.800,    4.630,   34.277,2,   34.279,2,   33.400,2, -999.000,3,   97.020,2,   40.100,2,    2.960,2, -999.000
           NA,HOT timeseries 1988to2019 27SEP2021,      2,  99,-999.0,    8006,-999.0,20140305,2150,  22.7492, -157.9998,  4743,  779.400,    4.473,   34.338,2,   34.338,2,   35.600,2,   35.400,2,  100.380,2,   40.920,2,    2.940,2, -999.000
           NA,HOT timeseries 1988to2019 27SEP2021,      2,  99,-999.0,    8005,-999.0,20140305,2150,  22.7492, -157.9998,  4743,  820.800,    4.394,   34.385,2,   34.379,2,   37.100,2,   37.200,2,  101.780,2,   41.160,2,    2.990,2, -999.000
           NA,HOT timeseries 1988to2019 27SEP2021,      2,  99,-999.0,    8002,-999.0,20140305,2150,  22.7492, -157.9998,  4743,  971.500,    3.961,   34.472,2,   34.473,2,   45.300,2,   45.400,2,  110.580,2,   41.420,2,    2.990,2, -999.000
           NA,HOT timeseries 1988to2019 27SEP2021,      2,  99,-999.0,    8001,-999.0,20140305,2150,  22.7492, -157.9998,  4743, 1020.300,    3.819,   34.492,2,   34.493,2,   48.400,2,   49.100,2,  113.490,2,   41.090,2,    2.980,2, -999.000
           NA,HOT timeseries 1988to2019 27SEP2021,      2,  99,-999.0,    8020,-999.0,20140305,2150,  22.7492, -157.9998,  4743, 1199.800,    3.438,   34.535,2,   34.535,2,   54.800,2,   54.100,2,  122.040,2,   40.690,2,    2.980,2, -999.000
           NA,HOT timeseries 1988to2019 27SEP2021,      2,  99,-999.0,    8019,-999.0,20140305,2150,  22.7492, -157.9998,  4743, 1400.200,    3.030,   34.556,2,   34.556,2,   63.800,2,   63.600,2,  130.810,2,   40.310,2,    2.940,2, -999.000
           NA,HOT timeseries 1988to2019 27SEP2021,      2,  99,-999.0,    8018,-999.0,20140305,2150,  22.7492, -157.9998,  4743, 1600.100,    2.663,   34.582,2,   34.581,2,   71.700,2,   71.500,2,  139.420,2,   40.100,2,    2.900,2, -999.000
           NA,HOT timeseries 1988to2019 27SEP2021,      2,  99,-999.0,    8017,-999.0,20140305,2150,  22.7492, -157.9998,  4743, 1799.600,    2.391,   34.599,2,   34.598,2,   79.600,2,   79.600,2,  145.650,2,   39.570,2,    2.860,2, -999.000
           NA,HOT timeseries 1988to2019 27SEP2021,      2,  99,-999.0,    8016,-999.0,20140305,2150,  22.7492, -157.9998,  4743, 2000.500,    2.139,   34.616,2,   34.616,2,   86.900,2,   87.300,2,  151.670,2,   39.290,2,    2.820,2, -999.000
           NA,HOT timeseries 1988to2019 27SEP2021,      2,  99,-999.0,    8015,-999.0,20140305,2150,  22.7492, -157.9998,  4743, 2200.300,    1.957,   34.630,2,   34.629,2,   93.400,2,   92.800,2,  156.400,2,   38.960,2,    2.790,2, -999.000
           NA,HOT timeseries 1988to2019 27SEP2021,      2,  99,-999.0,    8014,-999.0,20140305,2150,  22.7492, -157.9998,  4743, 2401.800,    1.786,   34.644,2,   34.642,2,  101.500,2,  101.900,2,  161.330,2,   38.450,2,    2.740,2, -999.000
           NA,HOT timeseries 1988to2019 27SEP2021,      2,  99,-999.0,    8025,-999.0,20140305,2150,  22.7492, -157.9998,  4743, 2599.900,    1.681,   34.654,2,   34.653,2,  109.900,2,  108.900,2,  161.240,2,   37.910,2,    2.700,2, -999.000
           NA,HOT timeseries 1988to2019 27SEP2021,      2,  99,-999.0,    8012,-999.0,20140305,2150,  22.7492, -157.9998,  4743, 2802.300,    1.598,   34.662,2,   34.662,2,  118.500,2,  119.400,2,  160.400,2,   37.440,2,    2.670,2, -999.000
           NA,HOT timeseries 1988to2019 27SEP2021,      2,  99,-999.0,    8011,-999.0,20140305,2150,  22.7492, -157.9998,  4743, 3000.000,    1.550,   34.668,2,   34.667,2,  125.400,2,  125.700,2,  157.900,2,   36.850,2,    2.620,2, -999.000
           NA,HOT timeseries 1988to2019 27SEP2021,      2,  99,-999.0,    8010,-999.0,20140305,2150,  22.7492, -157.9998,  4743, 3201.400,    1.510,   34.674,2,   34.674,2,  132.400,2, -999.000,3,  156.520,2,   36.450,2,    2.580,2, -999.000
           NA,HOT timeseries 1988to2019 27SEP2021,      2,  99,-999.0,    8009,-999.0,20140305,2150,  22.7492, -157.9998,  4743, 3402.300,    1.477,   34.679,2,   34.678,2,  138.000,2,  137.800,2,  155.860,2,   36.200,2,    2.560,2, -999.000
           NA,HOT timeseries 1988to2019 27SEP2021,      2,  99,-999.0,    8008,-999.0,20140305,2150,  22.7492, -157.9998,  4743, 3602.100,    1.461,   34.682,2,   34.680,2,  142.600,2,  142.000,2,  153.830,2,   35.930,2,    2.530,2, -999.000
           NA,HOT timeseries 1988to2019 27SEP2021,      2,  99,-999.0,    8026,-999.0,20140305,2150,  22.7492, -157.9998,  4743, 3802.500,    1.453,   34.684,2,   34.683,2,  147.100,2,  146.200,2,  152.420,2,   35.460,2,    2.510,2, -999.000
           NA,HOT timeseries 1988to2019 27SEP2021,      2,  99,-999.0,    8006,-999.0,20140305,2150,  22.7492, -157.9998,  4743, 4000.100,    1.455,   34.686,2,   34.685,2,  149.600,2,  149.600,2,  151.100,2,   35.410,2,    2.490,2, -999.000
           NA,HOT timeseries 1988to2019 27SEP2021,      2,  99,-999.0,    8005,-999.0,20140305,2150,  22.7492, -157.9998,  4743, 4209.500,    1.465,   34.687,2,   34.686,2,  151.500,2,  150.900,2,  150.410,2,   35.400,2,    2.480,2, -999.000
           NA,HOT timeseries 1988to2019 27SEP2021,      2,  99,-999.0,    8004,-999.0,20140305,2150,  22.7492, -157.9998,  4743, 4400.700,    1.480,   34.688,2,   34.687,2,  152.700,2,  152.400,2,  150.230,2,   35.210,2,    2.470,2, -999.000
           NA,HOT timeseries 1988to2019 27SEP2021,      2,  99,-999.0,    8003,-999.0,20140305,2150,  22.7492, -157.9998,  4743, 4507.400,    1.490,   34.688,2,   34.688,2,  153.600,2,  152.800,2,  149.880,2,   35.300,2,    2.470,2, -999.000
           NA,HOT timeseries 1988to2019 27SEP2021,      2,  99,-999.0,    8002,-999.0,20140305,2150,  22.7492, -157.9998,  4743, 4603.500,    1.500,   34.688,2,   34.688,2,  153.600,2,  153.900,2,  149.590,2,   35.120,2,    2.470,2, -999.000
           NA,HOT timeseries 1988to2019 27SEP2021,      2,  99,-999.0,    8001,-999.0,20140305,2150,  22.7492, -157.9998,  4743, 4806.600,    1.507,   34.689,2,   34.690,2,  156.000,2,  156.100,2,  146.970,2,   34.940,2,    2.460,2, -999.000
           NA,HOT timeseries 1988to2019 27SEP2021,      2,  99,-999.0,    8058,-999.0,20160112,2035,  22.7508, -158.0000,  4740,    7.400,   24.988,   34.944,2,   34.944,2,  206.300,2,  206.600,2,    1.320,2,    0.050,2,    0.070,2, -999.000
           NA,HOT timeseries 1988to2019 27SEP2021,      2,  99,-999.0,    8023,-999.0,20160112,2035,  22.7508, -158.0000,  4740,   41.400,   24.955,   34.947,2,   34.947,2,  206.200,2,  206.700,2,    1.370,2,    0.030,2,    0.070,2, -999.000
           NA,HOT timeseries 1988to2019 27SEP2021,      2,  99,-999.0,    8021,-999.0,20160112,2035,  22.7508, -158.0000,  4740,   92.000,   24.490,   35.120,2,   35.125,2,  206.300,2, -999.000,4,    1.340,2,    0.040,2,    0.080,2, -999.000
           NA,HOT timeseries 1988to2019 27SEP2021,      2,  99,-999.0,    8020,-999.0,20160112,2035,  22.7508, -158.0000,  4740,  136.900,   21.720,   35.204,2,   35.208,2,  200.600,2,  199.000,2,    1.880,2,    0.860,2,    0.130,2, -999.000
           NA,HOT timeseries 1988to2019 27SEP2021,      2,  99,-999.0,    8019,-999.0,20160112,2035,  22.7508, -158.0000,  4740,  187.600,   19.152,   34.991,2,   34.986,2,  194.300,2,  192.100,2,    2.910,2,    2.740,2,    0.260,2, -999.000
           NA,HOT timeseries 1988to2019 27SEP2021,      2,  99,-999.0,    8018,-999.0,20160112,2035,  22.7508, -158.0000,  4740,  234.600,   14.856,   34.422,2,   34.421,2,  193.500,2,  192.000,2,    6.420,2,    7.220,2,    0.560,2, -999.000
           NA,HOT timeseries 1988to2019 27SEP2021,      2,  99,-999.0,    8017,-999.0,20160112,2035,  22.7508, -158.0000,  4740,  271.500,   12.980,   34.240,2,   34.241,2,  197.000,2,  196.200,2,    9.430,2,   10.160,2,    0.730,2, -999.000
           NA,HOT timeseries 1988to2019 27SEP2021,      2,  99,-999.0,    8015,-999.0,20160112,2035,  22.7508, -158.0000,  4740,  353.800,   10.391,   34.127,2,   34.127,2,  177.200,2, -999.000,4,   19.820,2,   17.930,2, -999.000,3, -999.000
           NA,HOT timeseries 1988to2019 27SEP2021,      2,  99,-999.0,    8014,-999.0,20160112,2035,  22.7508, -158.0000,  4740,  403.600,    8.890,   34.099,2,   34.098,2,  148.900,2,  152.000,2,   30.750,2,   23.510,2,    1.680,2, -999.000
           NA,HOT timeseries 1988to2019 27SEP2021,      2,  99,-999.0,    8025,-999.0,20160112,2035,  22.7508, -158.0000,  4740,  438.200,    8.186,   34.115,2,   34.113,2,  114.600,2,  115.400,2,   39.070,2,   27.370,2,    2.010,2, -999.000
           NA,HOT timeseries 1988to2019 27SEP2021,      2,  99,-999.0,    8012,-999.0,20160112,2035,  22.7508, -158.0000,  4740,  472.700,    7.436,   34.097,2,   34.098,2,   99.300,2,  100.400,2,   46.450,2,   30.320,2,    2.200,2, -999.000
           NA,HOT timeseries 1988to2019 27SEP2021,      2,  99,-999.0,    8011,-999.0,20160112,2035,  22.7508, -158.0000,  4740,  510.300,    6.755,   34.103,2,   34.106,2,   81.200,2,   82.600,2,   55.670,2,   33.160,2,    2.400,2, -999.000
           NA,HOT timeseries 1988to2019 27SEP2021,      2,  99,-999.0,    8010,-999.0,20160112,2035,  22.7508, -158.0000,  4740,  563.500,    6.116,   34.124,2,   34.124,2,   67.600,2,   67.300,2,   66.200,2,   35.950,2,    2.600,2, -999.000
           NA,HOT timeseries 1988to2019 27SEP2021,      2,  99,-999.0,    8009,-999.0,20160112,2035,  22.7508, -158.0000,  4740,  624.400,    5.607,   34.179,2,   34.178,2,   45.600,2,   45.000,2,   76.120,2,   38.720,2,    2.810,2, -999.000
           NA,HOT timeseries 1988to2019 27SEP2021,      2,  99,-999.0,    8008,-999.0,20160112,2035,  22.7508, -158.0000,  4740,  685.700,    5.188,   34.241,2,   34.240,2,   35.400,2,   35.100,2,   84.800,2,   40.280,2,    2.940,2, -999.000
           NA,HOT timeseries 1988to2019 27SEP2021,      2,  99,-999.0,    8060,-999.0,20160112,2035,  22.7508, -158.0000,  4740,  726.700,    4.975,   34.287,2,   34.284,2,   32.400,2,   32.100,2,   90.030,2,   40.950,2,    2.980,2, -999.000
           NA,HOT timeseries 1988to2019 27SEP2021,      2,  99,-999.0,    8006,-999.0,20160112,2035,  22.7508, -158.0000,  4740,  766.600,    4.861,   34.329,2,   34.327,2,   32.800,2,   32.700,2,   92.600,2,   41.410,2,    3.010,2, -999.000
           NA,HOT timeseries 1988to2019 27SEP2021,      2,  99,-999.0,    8005,-999.0,20160112,2035,  22.7508, -158.0000,  4740,  816.100,    4.671,   34.372,2,   34.371,2,   33.100,2,   32.600,2,   96.660,2,   41.650,2, -999.000,3, -999.000
           NA,HOT timeseries 1988to2019 27SEP2021,      2,  99,-999.0,    8059,-999.0,20160112,2035,  22.7508, -158.0000,  4740,  866.100,    4.522,   34.402,2,   34.403,2,   36.800,2,   36.400,2,   99.830,2,   41.730,2,    3.020,2, -999.000
           NA,HOT timeseries 1988to2019 27SEP2021,      2,  99,-999.0,    8003,-999.0,20160112,2035,  22.7508, -158.0000,  4740,  931.800,    4.326,   34.443,2,   34.444,2,   39.700,2,   39.300,2,  103.480,2,   41.770,2,    3.020,2, -999.000
           NA,HOT timeseries 1988to2019 27SEP2021,      2,  99,-999.0,    8002,-999.0,20160112,2035,  22.7508, -158.0000,  4740,  995.700,    4.067,   34.478,2,   34.477,2,   44.700,2,   44.400,2,  108.510,2,   41.790,2,    3.010,2, -999.000
           NA,HOT timeseries 1988to2019 27SEP2021,      2,  99,-999.0,    8001,-999.0,20160112,2035,  22.7508, -158.0000,  4740, 1020.600,    4.044,   34.480,2,   34.481,2,   45.100,2,   45.300,2,  109.020,2,   41.730,2,    3.020,2, -999.000
           NA,HOT timeseries 1988to2019 27SEP2021,      2,  99,-999.0,    8020,-999.0,20160112,2035,  22.7508, -158.0000,  4740, 1200.900,    3.529,   34.527,2,   34.526,2,   53.500,2,   53.000,2,  119.710,2,   41.690,2,    2.970,2, -999.000
           NA,HOT timeseries 1988to2019 27SEP2021,      2,  99,-999.0,    8019,-999.0,20160112,2035,  22.7508, -158.0000,  4740, 1401.300,    3.092,   34.556,2,   34.556,2,   61.200,2,   61.200,2,  129.540,2,   41.470,2,    2.940,2, -999.000
           NA,HOT timeseries 1988to2019 27SEP2021,      2,  99,-999.0,    8018,-999.0,20160112,2035,  22.7508, -158.0000,  4740, 1601.500,    2.779,   34.578,2,   34.578,2,   68.800,2,   67.900,2,  136.710,2,   41.260,2,    2.930,2, -999.000
           NA,HOT timeseries 1988to2019 27SEP2021,      2,  99,-999.0,    8017,-999.0,20160112,2035,  22.7508, -158.0000,  4740, 1802.300,    2.461,   34.597,2,   34.597,2,   77.600,2,   77.200,2,  143.230,2,   40.400,2,    2.850,2, -999.000
           NA,HOT timeseries 1988to2019 27SEP2021,      2,  99,-999.0,    8016,-999.0,20160112,2035,  22.7508, -158.0000,  4740, 2000.900,    2.243,   34.613,2,   34.613,2,   85.000,2,   85.200,2,  148.640,2,   40.320,2,    2.840,2, -999.000
           NA,HOT timeseries 1988to2019 27SEP2021,      2,  99,-999.0,    8015,-999.0,20160112,2035,  22.7508, -158.0000,  4740, 2202.100,    2.035,   34.628,2,   34.628,2,   94.400,2,   95.300,2,  152.540,2,   39.750,2,    2.790,2, -999.000
           NA,HOT timeseries 1988to2019 27SEP2021,      2,  99,-999.0,    8014,-999.0,20160112,2035,  22.7508, -158.0000,  4740, 2400.900,    1.882,   34.639,2,   34.638,2,  101.100,2,  101.900,2,  155.640,2,   39.330,2,    2.750,2, -999.000
           NA,HOT timeseries 1988to2019 27SEP2021,      2,  99,-999.0,    8025,-999.0,20160112,2035,  22.7508, -158.0000,  4740, 2602.500,    1.755,   34.650,2,   34.650,2,  108.900,2,  110.600,2,  156.700,2,   38.880,2,    2.710,2, -999.000
           NA,HOT timeseries 1988to2019 27SEP2021,      2,  99,-999.0,    8012,-999.0,20160112,2035,  22.7508, -158.0000,  4740, 2801.200,    1.672,   34.658,2,   34.659,2,  115.800,2, -999.000,4,  158.230,2,   38.320,2,    2.670,2, -999.000
           NA,HOT timeseries 1988to2019 27SEP2021,      2,  99,-999.0,    8011,-999.0,20160112,2035,  22.7508, -158.0000,  4740, 3000.800,    1.596,   34.664,2,   34.665,2,  121.400,2,  121.200,2,  159.370,2,   38.000,2,    2.650,2, -999.000
           NA,HOT timeseries 1988to2019 27SEP2021,      2,  99,-999.0,    8010,-999.0,20160112,2035,  22.7508, -158.0000,  4740, 3202.200,    1.550,   34.670,2,   34.670,2,  127.400,2,  127.400,2,  158.380,2,   37.560,2, -999.000,4, -999.000
           NA,HOT timeseries 1988to2019 27SEP2021,      2,  99,-999.0,    8009,-999.0,20160112,2035,  22.7508, -158.0000,  4740, 3403.100,    1.503,   34.674,2,   34.674,2,  134.000,2,  134.400,2,  156.570,2,   37.180,2,    2.590,2, -999.000
           NA,HOT timeseries 1988to2019 27SEP2021,      2,  99,-999.0,    8008,-999.0,20160112,2035,  22.7508, -158.0000,  4740, 3601.400,    1.479,   34.679,2,   34.679,2,  139.000,2,  138.900,2,  156.780,2,   36.930,2,    2.560,2, -999.000
           NA,HOT timeseries 1988to2019 27SEP2021,      2,  99,-999.0,    8060,-999.0,20160112,2035,  22.7508, -158.0000,  4740, 3802.400,    1.463,   34.681,2,   34.681,2,  143.800,2,  144.000,2,  153.660,2,   36.550,2,    2.530,2, -999.000
           NA,HOT timeseries 1988to2019 27SEP2021,      2,  99,-999.0,    8006,-999.0,20160112,2035,  22.7508, -158.0000,  4740, 4000.900,    1.461,   34.683,2,   34.683,2,  147.500,2,  146.800,2,  152.290,2,   36.400,2,    2.520,2, -999.000