BOTTLE,20214727JOAExport
EXPOCODE,SECT_ID,STNNBR,CASTNO,SAMPNO,BTLNBR,BTLNBR_FLAG_W,DATE,TIME,LATITUDE,LONGITUDE,DEPTH,CTDPRS,CTDTMP,CTDSAL,CTDSAL_FLAG_W,SALNTY,SALNTY_FLAG_W,CTDOXY,CTDOXY_FLAG_W,OXYGEN,OXYGEN_FLAG_W,SILCAT,SILCAT_FLAG_W,NINI,NINI_FLAG_W,PHSPHT,PHSPHT_FLAG_W,REVP
,,,,,,,,,,,,DB,IPTS-68,PSS-78,,PSS-78,,UMOL/KG,,UMOL/KG,,UMOL/KG,,UMOL/KG,,UMOL/KG,,DBAR
           NA,HOT timeseries 1988to2019 27SEP2021,    166,  99,-999.0,      23,-999.0,20050614,2111,  22.7468, -157.9933,  4746,   13.200,   25.326,   35.223,2,   35.222,2,  208.100,2,  208.600,2, -999.000,4,    0.020,2,    0.020,2, -999.000
           NA,HOT timeseries 1988to2019 27SEP2021,    166,  99,-999.0,      30,-999.0,20050614,2111,  22.7468, -157.9933,  4746,   49.100,   23.550,   35.225,2,   35.229,2,  224.200,2,  223.200,2,    1.680,2,    0.040,2,    0.010,2, -999.000
           NA,HOT timeseries 1988to2019 27SEP2021,    166,  99,-999.0,      22,-999.0,20050614,2111,  22.7468, -157.9933,  4746,   86.500,   21.635,   35.199,2,   35.197,2,  224.200,2,  223.900,2,    1.850,2,    0.040,2, -999.000,3, -999.000
           NA,HOT timeseries 1988to2019 27SEP2021,    166,  99,-999.0,      21,-999.0,20050614,2111,  22.7468, -157.9933,  4746,  138.200,   19.126,   34.967,2,   34.964,2,  191.000,2,  195.900,2, -999.000,4,    2.430,2,    0.190,2, -999.000
           NA,HOT timeseries 1988to2019 27SEP2021,    166,  99,-999.0,      41,-999.0,20050614,2111,  22.7468, -157.9933,  4746,  172.700,   17.680,   34.825,2,   34.820,2,  207.000,2,  206.400,2,    3.280,2,    2.640,2, -999.000,3, -999.000
           NA,HOT timeseries 1988to2019 27SEP2021,    166,  99,-999.0,      19,-999.0,20050614,2111,  22.7468, -157.9933,  4746,  209.900,   15.601,   34.485,2,   34.482,2,  197.800,2, -999.000,4,    5.410,2,    5.160,2, -999.000,3, -999.000
           NA,HOT timeseries 1988to2019 27SEP2021,    166,  99,-999.0,      18,-999.0,20050614,2111,  22.7468, -157.9933,  4746,  274.900,   11.820,   34.133,2,   34.134,2,  197.500,2,  196.700,2,   11.420,2,   11.620,2,    0.860,2, -999.000
           NA,HOT timeseries 1988to2019 27SEP2021,    166,  99,-999.0,      17,-999.0,20050614,2111,  22.7468, -157.9933,  4746,  313.300,   11.506,   34.235,2,   34.234,2,  210.600,2,  210.200,2,   13.330,2,   12.260,2, -999.000,3, -999.000
           NA,HOT timeseries 1988to2019 27SEP2021,    166,  99,-999.0,      34,-999.0,20050614,2111,  22.7468, -157.9933,  4746,  349.300,   10.948,   34.215,2,   34.213,2,  211.100,2,  208.800,2,   15.500,2,   13.610,2, -999.000,3, -999.000
           NA,HOT timeseries 1988to2019 27SEP2021,    166,  99,-999.0,     102,-999.0,20050614,2111,  22.7468, -157.9933,  4746,  384.400,   10.089,   34.153,2,   34.156,2,  199.800,2,  200.800,2,   20.120,2,   16.130,2,    1.140,2, -999.000
           NA,HOT timeseries 1988to2019 27SEP2021,    166,  99,-999.0,     101,-999.0,20050614,2111,  22.7468, -157.9933,  4746,  418.900,    9.064,   34.107,2,   34.111,2,  181.900,2,  181.700,2,   26.920,2,   19.890,2,    1.390,2, -999.000
           NA,HOT timeseries 1988to2019 27SEP2021,    166,  99,-999.0,      42,-999.0,20050614,2111,  22.7468, -157.9933,  4746,  478.800,    7.230,   34.054,2,   34.055,2,  115.400,2,  114.500,2,   46.000,2,   29.220,2,    2.120,2, -999.000
           NA,HOT timeseries 1988to2019 27SEP2021,    166,  99,-999.0,      12,-999.0,20050614,2111,  22.7468, -157.9933,  4746,  519.800,    6.473,   34.037,2,   34.038,2,  106.900,2, -999.000,3,   55.480,2,   32.460,2,    2.340,2, -999.000
           NA,HOT timeseries 1988to2019 27SEP2021,    166,  99,-999.0,      39,-999.0,20050614,2111,  22.7468, -157.9933,  4746,  577.200,    5.722,   34.074,2,   34.071,2,   66.700,2,   65.900,2,   67.970,2,   36.330,2,    2.630,2, -999.000
           NA,HOT timeseries 1988to2019 27SEP2021,    166,  99,-999.0,      33,-999.0,20050614,2111,  22.7468, -157.9933,  4746,  617.900,    5.419,   34.128,2,   34.125,2,   47.600,2,   46.200,2,   74.800,2,   38.400,2,    2.810,2, -999.000
           NA,HOT timeseries 1988to2019 27SEP2021,    166,  99,-999.0,       3,-999.0,20050614,2111,  22.7468, -157.9933,  4746,  675.600,    4.927,   34.179,2,   34.180,2,   33.600,2,   31.400,2,   87.500,2,   40.590,2,    2.980,2, -999.000
           NA,HOT timeseries 1988to2019 27SEP2021,    166,  99,-999.0,      29,-999.0,20050614,2111,  22.7468, -157.9933,  4746,  744.700,    4.556,   34.281,2,   34.278,2,   23.200,2,   22.600,2,   98.630,2,   41.950,2,    3.090,2, -999.000
           NA,HOT timeseries 1988to2019 27SEP2021,    166,  99,-999.0,      13,-999.0,20050614,2111,  22.7468, -157.9933,  4746,  840.200,    4.300,   34.373,2,   34.375,2,   25.800,2,   25.900,2,  104.450,2,   42.030,2,    3.090,2, -999.000
           NA,HOT timeseries 1988to2019 27SEP2021,    166,  99,-999.0,      38,-999.0,20050614,2111,  22.7468, -157.9933,  4746,  876.400,    4.207,   34.402,2,   34.401,2,   30.400,2,   30.100,2,  104.880,2,   42.080,2,    3.090,2, -999.000
           NA,HOT timeseries 1988to2019 27SEP2021,    166,  99,-999.0,      35,-999.0,20050614,2111,  22.7468, -157.9933,  4746,  947.400,    4.137,   34.458,2,   34.457,2,   39.800,2,   39.900,2,  106.130,2,   41.650,2,    3.040,2, -999.000
           NA,HOT timeseries 1988to2019 27SEP2021,    166,  99,-999.0,      11,-999.0,20050614,2111,  22.7468, -157.9933,  4746, 1020.800,    3.935,   34.483,2,   34.485,2,   43.500,2,   43.900,2,  107.920,2,   41.730,2,    3.040,2, -999.000
           NA,HOT timeseries 1988to2019 27SEP2021,    166,  99,-999.0,      41,-999.0,20050614,2111,  22.7468, -157.9933,  4746, 1200.800,    3.549,   34.523,2,   34.522,2,   51.300,2,   51.800,2, -999.000,3,   41.310,2,    3.010,2, -999.000
           NA,HOT timeseries 1988to2019 27SEP2021,    166,  99,-999.0,      19,-999.0,20050614,2111,  22.7468, -157.9933,  4746, 1400.600,    3.090,   34.555,2,   34.555,2,   61.000,2,   61.400,2,  127.510,2,   41.030,2,    2.960,2, -999.000
           NA,HOT timeseries 1988to2019 27SEP2021,    166,  99,-999.0,      18,-999.0,20050614,2111,  22.7468, -157.9933,  4746, 1600.200,    2.727,   34.581,2,   34.581,2,   69.300,2,   69.900,2, -999.000,3,   40.630,2,    2.930,2, -999.000
           NA,HOT timeseries 1988to2019 27SEP2021,    166,  99,-999.0,      17,-999.0,20050614,2111,  22.7468, -157.9933,  4746, 1799.600,    2.430,   34.600,2,   34.600,2,   78.100,2,   78.500,2,  143.120,2,   40.130,2,    2.880,2, -999.000
           NA,HOT timeseries 1988to2019 27SEP2021,    166,  99,-999.0,      34,-999.0,20050614,2111,  22.7468, -157.9933,  4746, 1999.300,    2.212,   34.616,2,   34.616,2,   86.100,2,   86.700,2, -999.000,3,   39.670,2,    2.820,2, -999.000
           NA,HOT timeseries 1988to2019 27SEP2021,    166,  99,-999.0,     102,-999.0,20050614,2111,  22.7468, -157.9933,  4746, 2200.400,    1.974,   34.630,2,   34.630,2,   93.500,2,   94.000,2,  153.780,2,   39.230,2,    2.790,2, -999.000
           NA,HOT timeseries 1988to2019 27SEP2021,    166,  99,-999.0,     101,-999.0,20050614,2111,  22.7468, -157.9933,  4746, 2401.200,    1.809,   34.644,2,   34.643,2,  101.700,2,  102.100,2,  156.040,2,   38.760,2,    2.750,2, -999.000
           NA,HOT timeseries 1988to2019 27SEP2021,    166,  99,-999.0,      42,-999.0,20050614,2111,  22.7468, -157.9933,  4746, 2599.700,    1.706,   34.655,2,   34.655,2,  111.300,2, -999.000,4,  157.020,2,   37.940,2,    2.700,2, -999.000
           NA,HOT timeseries 1988to2019 27SEP2021,    166,  99,-999.0,      12,-999.0,20050614,2111,  22.7468, -157.9933,  4746, 2800.400,    1.616,   34.662,2,   34.662,2,  117.300,2,  117.800,2,  158.690,2,   37.650,2,    2.660,2, -999.000
           NA,HOT timeseries 1988to2019 27SEP2021,    166,  99,-999.0,      39,-999.0,20050614,2111,  22.7468, -157.9933,  4746, 2999.400,    1.549,   34.670,2,   34.671,2,  125.500,2,  125.800,2,  157.210,2,   37.200,2,    2.620,2, -999.000
           NA,HOT timeseries 1988to2019 27SEP2021,    166,  99,-999.0,      33,-999.0,20050614,2111,  22.7468, -157.9933,  4746, 3199.400,    1.512,   34.675,2,   34.674,2,  130.400,2,  130.600,2,  155.790,2,   36.940,2,    2.590,2, -999.000
           NA,HOT timeseries 1988to2019 27SEP2021,    166,  99,-999.0,       3,-999.0,20050614,2111,  22.7468, -157.9933,  4746, 3400.200,    1.490,   34.679,2,   34.678,2,  134.800,2, -999.000,4,  155.040,2,   36.610,2, -999.000,3, -999.000
           NA,HOT timeseries 1988to2019 27SEP2021,    166,  99,-999.0,      29,-999.0,20050614,2111,  22.7468, -157.9933,  4746, 3598.900,    1.475,   34.682,2,   34.682,2,  139.400,2,  139.600,2,  153.440,2,   36.340,2,    2.540,2, -999.000
           NA,HOT timeseries 1988to2019 27SEP2021,    166,  99,-999.0,      28,-999.0,20050614,2111,  22.7468, -157.9933,  4746, 3801.000,    1.466,   34.685,2,   34.685,2,  143.600,2,  143.800,2,  153.830,2,   36.200,2, -999.000,3, -999.000
           NA,HOT timeseries 1988to2019 27SEP2021,    166,  99,-999.0,      13,-999.0,20050614,2111,  22.7468, -157.9933,  4746, 4000.400,    1.462,   34.687,2,   34.686,2,  146.900,2,  147.300,2,  151.480,2,   35.810,2,    2.510,2, -999.000
           NA,HOT timeseries 1988to2019 27SEP2021,    166,  99,-999.0,      38,-999.0,20050614,2111,  22.7468, -157.9933,  4746, 4198.300,    1.468,   34.688,2,   34.689,2,  149.500,2,  149.400,2,  151.180,2,   35.800,2, -999.000,3, -999.000
           NA,HOT timeseries 1988to2019 27SEP2021,    166,  99,-999.0,      36,-999.0,20050614,2111,  22.7468, -157.9933,  4746, 4400.100,    1.478,   34.689,2,   34.689,2,  151.700,2, -999.000,4,  149.250,2,   35.470,2,    2.470,2, -999.000
           NA,HOT timeseries 1988to2019 27SEP2021,    166,  99,-999.0,      35,-999.0,20050614,2111,  22.7468, -157.9933,  4746, 4497.800,    1.486,   34.690,2,   34.691,2,  152.400,2,  151.700,2,  149.000,2,   35.590,2,    2.480,2, -999.000
           NA,HOT timeseries 1988to2019 27SEP2021,    166,  99,-999.0,       7,-999.0,20050614,2111,  22.7468, -157.9933,  4746, 4600.200,    1.497,   34.690,2,   34.689,2,  152.600,2,  152.500,2,  147.560,2,   35.410,2,    2.480,2, -999.000
           NA,HOT timeseries 1988to2019 27SEP2021,    166,  99,-999.0,      11,-999.0,20050614,2111,  22.7468, -157.9933,  4746, 4801.400,    1.516,   34.690,2,   34.690,2,  153.400,2,  153.100,2,  149.540,2,   35.760,2,    2.510,2, -999.000
           NA,HOT timeseries 1988to2019 27SEP2021,    167,  99,-999.0,      21,-999.0,20050718,0255,  22.7952, -158.0578,  4727,    5.200,   25.976,   34.995,2,   34.994,2,  206.900,2,  206.200,2,    0.980,2, -999.000,3,    0.020,2, -999.000
           NA,HOT timeseries 1988to2019 27SEP2021,    167,  99,-999.0,      41,-999.0,20050718,0255,  22.7952, -158.0578,  4727,   54.900,   24.965,   35.096,2,   35.095,2,  216.300,2,  215.700,2,    0.960,2, -999.000,3,    0.000,2, -999.000
           NA,HOT timeseries 1988to2019 27SEP2021,    167,  99,-999.0,      19,-999.0,20050718,0255,  22.7952, -158.0578,  4727,   76.100,   23.682,   35.189,2,   35.187,2,  220.400,2,  220.400,2,    0.980,2,    0.090,2,    0.000,2, -999.000
           NA,HOT timeseries 1988to2019 27SEP2021,    167,  99,-999.0,      18,-999.0,20050718,0255,  22.7952, -158.0578,  4727,  132.600,   21.731,   35.196,2,   35.195,2,  202.800,2,  203.800,2,    1.300,2,    0.380,2,    0.060,2, -999.000
           NA,HOT timeseries 1988to2019 27SEP2021,    167,  99,-999.0,      17,-999.0,20050718,0255,  22.7952, -158.0578,  4727,  182.500,   19.085,   34.953,2,   34.955,2,  191.500,2,  193.800,2,    2.400,2,    2.560,2,    0.140,2, -999.000
           NA,HOT timeseries 1988to2019 27SEP2021,    167,  99,-999.0,      34,-999.0,20050718,0255,  22.7952, -158.0578,  4727,  242.000,   14.719,   34.380,2,   34.391,2,  203.800,2,  202.100,2,    5.400,2,    6.030,2, -999.000,3, -999.000
           NA,HOT timeseries 1988to2019 27SEP2021,    167,  99,-999.0,     102,-999.0,20050718,0255,  22.7952, -158.0578,  4727,  289.400,   12.887,   34.247,2,   34.245,2,  211.100,2,  209.700,2,    8.480,2,    9.070,2, -999.000,3, -999.000
           NA,HOT timeseries 1988to2019 27SEP2021,    167,  99,-999.0,     101,-999.0,20050718,0255,  22.7952, -158.0578,  4727,  335.900,   11.085,   34.103,2,   34.105,2,  193.100,2,  189.600,2,   13.660,2,   13.700,2,    0.990,2, -999.000
           NA,HOT timeseries 1988to2019 27SEP2021,    167,  99,-999.0,      42,-999.0,20050718,0255,  22.7952, -158.0578,  4727,  370.100,   10.050,   34.091,2,   34.091,2,  180.000,2,  180.700,2,   19.290,2,   17.370,2,    1.180,2, -999.000
           NA,HOT timeseries 1988to2019 27SEP2021,    167,  99,-999.0,      12,-999.0,20050718,0255,  22.7952, -158.0578,  4727,  426.100,    8.820,   34.090,2,   34.089,2,  148.900,2,  148.200,2,   29.470,2,   23.060,2,    1.660,2, -999.000
           NA,HOT timeseries 1988to2019 27SEP2021,    167,  99,-999.0,      39,-999.0,20050718,0255,  22.7952, -158.0578,  4727,  460.400,    8.170,   34.074,2,   34.074,2,  132.200,2,  133.500,2,   35.520,2,   25.750,2,    1.870,2, -999.000
           NA,HOT timeseries 1988to2019 27SEP2021,    167,  99,-999.0,       3,-999.0,20050718,0255,  22.7952, -158.0578,  4727,  534.400,    6.511,   34.052,2,   34.050,2,   97.300,2,   94.500,2,   54.840,2,   32.270,2,    2.350,2, -999.000
           NA,HOT timeseries 1988to2019 27SEP2021,    167,  99,-999.0,      29,-999.0,20050718,0255,  22.7952, -158.0578,  4727,  592.400,    5.817,   34.070,2,   34.072,2,   69.900,2,   68.500,2,   66.050,2,   35.730,2,    2.590,2, -999.000
           NA,HOT timeseries 1988to2019 27SEP2021,    167,  99,-999.0,      28,-999.0,20050718,0255,  22.7952, -158.0578,  4727,  634.100,    5.382,   34.128,2,   34.128,2,   46.700,2,   45.800,2,   75.780,2,   38.520,2,    2.800,2, -999.000
           NA,HOT timeseries 1988to2019 27SEP2021,    167,  99,-999.0,      13,-999.0,20050718,0255,  22.7952, -158.0578,  4727,  697.200,    4.947,   34.206,2,   34.206,2,   31.900,2,   30.500,2,   85.000,2,   40.310,2,    2.950,2, -999.000
           NA,HOT timeseries 1988to2019 27SEP2021,    167,  99,-999.0,      36,-999.0,20050718,0255,  22.7952, -158.0578,  4727,  779.900,    4.522,   34.294,2,   34.294,2,   21.800,2,   21.300,2,   98.410,2,   42.020,2,    3.070,2, -999.000
           NA,HOT timeseries 1988to2019 27SEP2021,    167,  99,-999.0,      35,-999.0,20050718,0255,  22.7952, -158.0578,  4727,  918.000,    4.221,   34.428,2, -999.000,3, -999.000,3,   36.200,2,  103.980,2,   41.620,2,    3.040,2, -999.000
           NA,HOT timeseries 1988to2019 27SEP2021,    167,  99,-999.0,       7,-999.0,20050718,0255,  22.7952, -158.0578,  4727,  984.900,    4.026,   34.468,2,   34.470,2,   41.300,2,   41.300,2,  107.800,2,   41.500,2,    3.030,2, -999.000
           NA,HOT timeseries 1988to2019 27SEP2021,    167,  99,-999.0,      11,-999.0,20050718,0255,  22.7952, -158.0578,  4727, 1019.800,    3.900,   34.480,2,   34.485,2,   43.500,2,   43.900,2,  109.020,2,   41.590,2,    3.030,2, -999.000
           NA,HOT timeseries 1988to2019 27SEP2021,    167,  99,-999.0,      41,-999.0,20050718,0255,  22.7952, -158.0578,  4727, 1200.000,    3.551,   34.531,2,   34.533,2,   51.000,2,   50.200,2,  118.510,2,   41.510,2,    2.980,2, -999.000
           NA,HOT timeseries 1988to2019 27SEP2021,    167,  99,-999.0,      19,-999.0,20050718,0255,  22.7952, -158.0578,  4727, 1400.300,    3.118,   34.561,2,   34.561,2,   58.400,2,   58.800,2,  128.250,2,   41.270,2,    2.950,2, -999.000
           NA,HOT timeseries 1988to2019 27SEP2021,    167,  99,-999.0,      18,-999.0,20050718,0255,  22.7952, -158.0578,  4727, 1600.500,    2.743,   34.583,2,   34.584,2,   68.400,2,   69.200,2,  136.790,2,   40.770,2,    2.890,2, -999.000
           NA,HOT timeseries 1988to2019 27SEP2021,    167,  99,-999.0,      17,-999.0,20050718,0255,  22.7952, -158.0578,  4727, 1800.900,    2.457,   34.599,2,   34.599,2,   78.700,2,   79.100,2,  143.420,2,   40.170,2,    2.840,2, -999.000
           NA,HOT timeseries 1988to2019 27SEP2021,    167,  99,-999.0,      34,-999.0,20050718,0255,  22.7952, -158.0578,  4727, 2000.400,    2.173,   34.617,2,   34.618,2,   87.900,2,   87.900,2,  148.960,2,   39.640,2,    2.790,2, -999.000
           NA,HOT timeseries 1988to2019 27SEP2021,    167,  99,-999.0,     102,-999.0,20050718,0255,  22.7952, -158.0578,  4727, 2199.700,    2.001,   34.631,2,   34.633,2,   97.600,2,   98.100,2,  151.730,2,   39.080,2,    2.750,2, -999.000
           NA,HOT timeseries 1988to2019 27SEP2021,    167,  99,-999.0,     101,-999.0,20050718,0255,  22.7952, -158.0578,  4727, 2400.100,    1.845,   34.643,2,   34.643,2,  104.400,2,  106.000,2, -999.000,3,   38.470,2,    2.700,2, -999.000
           NA,HOT timeseries 1988to2019 27SEP2021,    167,  99,-999.0,      42,-999.0,20050718,0255,  22.7952, -158.0578,  4727, 2600.000,    1.719,   34.653,2,   34.657,2,  112.500,2,  113.600,2, -999.000,3,   38.240,2,    2.680,2, -999.000
           NA,HOT timeseries 1988to2019 27SEP2021,    167,  99,-999.0,      12,-999.0,20050718,0255,  22.7952, -158.0578,  4727, 2801.000,    1.635,   34.659,2,   34.661,2,  115.900,2, -999.000,5,  157.730,2,   38.140,2,    2.690,2, -999.000
           NA,HOT timeseries 1988to2019 27SEP2021,    167,  99,-999.0,      39,-999.0,20050718,0255,  22.7952, -158.0578,  4727, 3000.100,    1.570,   34.666,2,   34.666,2,  122.100,2,  122.200,2,  159.350,2,   37.380,2,    2.630,2, -999.000
           NA,HOT timeseries 1988to2019 27SEP2021,    167,  99,-999.0,      33,-999.0,20050718,0255,  22.7952, -158.0578,  4727, 3199.900,    1.528,   34.672,2,   34.673,2,  129.700,2,  130.000,2,  156.090,2,   36.720,2,    2.590,2, -999.000
           NA,HOT timeseries 1988to2019 27SEP2021,    167,  99,-999.0,       3,-999.0,20050718,0255,  22.7952, -158.0578,  4727, 3399.500,    1.498,   34.676,2, -999.000,4, -999.000,3,  134.900,2,  155.700,2,   36.580,2, -999.000,3, -999.000
           NA,HOT timeseries 1988to2019 27SEP2021,    167,  99,-999.0,      29,-999.0,20050718,0255,  22.7952, -158.0578,  4727, 3600.100,    1.470,   34.681,2,   34.681,2,  140.700,2,  140.400,2,  153.900,2,   36.240,2,    2.550,2, -999.000
           NA,HOT timeseries 1988to2019 27SEP2021,    167,  99,-999.0,      28,-999.0,20050718,0255,  22.7952, -158.0578,  4727, 3800.500,    1.457,   34.683,2,   34.684,2,  144.800,2,  144.400,2,  152.030,2,   36.010,2,    2.530,2, -999.000
           NA,HOT timeseries 1988to2019 27SEP2021,    167,  99,-999.0,      13,-999.0,20050718,0255,  22.7952, -158.0578,  4727, 4000.300,    1.460,   34.685,2, -999.000,3, -999.000,3,  148.000,2,  149.970,2,   35.730,2,    2.510,2, -999.000
           NA,HOT timeseries 1988to2019 27SEP2021,    167,  99,-999.0,      38,-999.0,20050718,0255,  22.7952, -158.0578,  4727, 4201.800,    1.466,   34.687,2,   34.687,2,  150.300,2,  150.000,2,  149.170,2,   35.660,2,    2.490,2, -999.000
           NA,HOT timeseries 1988to2019 27SEP2021,    167,  99,-999.0,      36,-999.0,20050718,0255,  22.7952, -158.0578,  4727, 4400.400,    1.478,   34.688,2,   34.689,2,  151.900,2,  151.700,2,  148.190,2,   35.490,2,    2.490,2, -999.000
           NA,HOT timeseries 1988to2019 27SEP2021,    167,  99,-999.0,      35,-999.0,20050718,0255,  22.7952, -158.0578,  4727, 4501.000,    1.486,   34.688,2,   34.690,2,  152.600,2,  151.800,2,  147.800,2,   35.510,2,    2.490,2, -999.000
           NA,HOT timeseries 1988to2019 27SEP2021,    167,  99,-999.0,       7,-999.0,20050718,0255,  22.7952, -158.0578,  4727, 4600.400,    1.496,   34.688,2,   34.688,2,  152.700,2,  154.200,2,  147.410,2,   35.500,2,    2.500,2, -999.000
           NA,HOT timeseries 1988to2019 27SEP2021,    167,  99,-999.0,      11,-999.0,20050718,0255,  22.7952, -158.0578,  4727, 4800.000,    1.517,   34.688,2,   34.689,2,  153.400,2,  153.100,2,  147.210,2,   35.430,2,    2.470,2, -999.000