BOTTLE,20214727JOAExport
EXPOCODE,SECT_ID,STNNBR,CASTNO,SAMPNO,BTLNBR,BTLNBR_FLAG_W,DATE,TIME,LATITUDE,LONGITUDE,DEPTH,CTDPRS,CTDTMP,CTDSAL,CTDSAL_FLAG_W,SALNTY,SALNTY_FLAG_W,CTDOXY,CTDOXY_FLAG_W,OXYGEN,OXYGEN_FLAG_W,SILCAT,SILCAT_FLAG_W,NINI,NINI_FLAG_W,PHSPHT,PHSPHT_FLAG_W,REVP
,,,,,,,,,,,,DB,IPTS-68,PSS-78,,PSS-78,,UMOL/KG,,UMOL/KG,,UMOL/KG,,UMOL/KG,,UMOL/KG,,DBAR
           NA,HOT timeseries 1988to2019 27SEP2021,      2,  99,-999.0,    8060,-999.0,20170223,0031,  22.7523, -158.0033,  4722, 3798.900,    1.471,   34.681,2,   34.681,2,  142.500,2,  142.600,2, -999.000,3,   36.440,2,    2.560,2, -999.000
           NA,HOT timeseries 1988to2019 27SEP2021,      2,  99,-999.0,    8006,-999.0,20170223,0031,  22.7523, -158.0033,  4722, 4008.700,    1.468,   34.684,2,   34.682,2,  146.700,2,  146.400,2,  153.150,2,   36.160,2,    2.540,2, -999.000
           NA,HOT timeseries 1988to2019 27SEP2021,      2,  99,-999.0,    8005,-999.0,20170223,0031,  22.7523, -158.0033,  4722, 4207.000,    1.472,   34.685,2,   34.685,2,  149.600,2,  149.200,2,  151.500,2,   35.960,2,    2.510,2, -999.000
           NA,HOT timeseries 1988to2019 27SEP2021,      2,  99,-999.0,    8059,-999.0,20170223,0031,  22.7523, -158.0033,  4722, 4408.400,    1.481,   34.687,2,   34.686,2,  151.900,2,  151.700,2,  151.120,2,   35.710,2,    2.510,2, -999.000
           NA,HOT timeseries 1988to2019 27SEP2021,      2,  99,-999.0,    8003,-999.0,20170223,0031,  22.7523, -158.0033,  4722, 4500.700,    1.488,   34.687,2,   34.687,2,  152.700,2,  152.300,2,  149.910,2,   35.590,2,    2.510,2, -999.000
           NA,HOT timeseries 1988to2019 27SEP2021,      2,  99,-999.0,    8002,-999.0,20170223,0031,  22.7523, -158.0033,  4722, 4614.200,    1.496,   34.688,2,   34.687,2,  153.600,2,  152.800,2,  150.180,2,   35.580,2,    2.500,2, -999.000
           NA,HOT timeseries 1988to2019 27SEP2021,      2,  99,-999.0,    8001,-999.0,20170223,0031,  22.7523, -158.0033,  4722, 4797.000,    1.512,   34.688,2,   34.688,2,  154.600,2,  155.100,2,  151.100,2,   35.380,2,    2.490,2, -999.000
           NA,HOT timeseries 1988to2019 27SEP2021,      2,  99,-999.0,    8058,-999.0,20170328,2136,  22.7515, -158.0013,  4725,    2.500,   24.516,   34.957,2,   34.956,2,  211.100,2,  212.000,2,    1.200,2,    0.050,2,    0.050,2, -999.000
           NA,HOT timeseries 1988to2019 27SEP2021,      2,  99,-999.0,    8023,-999.0,20170328,2136,  22.7515, -158.0013,  4725,   49.100,   23.411,   35.133,2,   35.126,2,  215.900,2,  217.300,2,    1.230,2,    0.040,2,    0.030,2, -999.000
           NA,HOT timeseries 1988to2019 27SEP2021,      2,  99,-999.0,    8022,-999.0,20170328,2136,  22.7515, -158.0013,  4725,   98.900,   22.420,   35.225,2,   35.225,2,  214.800,2,  216.600,2,    1.300,2,    0.000,2,    0.020,2, -999.000
           NA,HOT timeseries 1988to2019 27SEP2021,      2,  99,-999.0,    8021,-999.0,20170328,2136,  22.7515, -158.0013,  4725,  147.800,   21.707,   35.192,2,   35.197,2,  205.000,2,  205.700,2,    1.570,2,    0.460,2,    0.080,2, -999.000
           NA,HOT timeseries 1988to2019 27SEP2021,      2,  99,-999.0,    8020,-999.0,20170328,2136,  22.7515, -158.0013,  4725,  186.600,   19.496,   34.981,2,   34.988,2,  197.400,2,  198.000,2,    2.570,2,    2.090,2,    0.190,2, -999.000
           NA,HOT timeseries 1988to2019 27SEP2021,      2,  99,-999.0,    8019,-999.0,20170328,2136,  22.7515, -158.0013,  4725,  233.600,   15.944,   34.546,2,   34.537,2,  193.900,2,  193.300,2,    5.540,2,    5.890,2,    0.470,2, -999.000
           NA,HOT timeseries 1988to2019 27SEP2021,      2,  99,-999.0,    8018,-999.0,20170328,2136,  22.7515, -158.0013,  4725,  266.300,   13.815,   34.362,2,   34.364,2,  208.000,2,  206.600,2,    7.550,2,    7.790,2,    0.580,2, -999.000
           NA,HOT timeseries 1988to2019 27SEP2021,      2,  99,-999.0,    8017,-999.0,20170328,2136,  22.7515, -158.0013,  4725,  303.000,   11.817,   34.160,2,   34.161,2,  184.500,2,  188.400,2,   13.000,2,   12.930,2,    0.960,2, -999.000
           NA,HOT timeseries 1988to2019 27SEP2021,      2,  99,-999.0,    8016,-999.0,20170328,2136,  22.7515, -158.0013,  4725,  343.400,   10.530,   34.120,2,   34.120,2,  182.900,2,  183.100,2,   18.330,2,   16.500,2,    1.200,2, -999.000
           NA,HOT timeseries 1988to2019 27SEP2021,      2,  99,-999.0,    8015,-999.0,20170328,2136,  22.7515, -158.0013,  4725,  407.500,    9.136,   34.097,2,   34.097,2,  158.500,2,  155.900,2,   28.170,2,   21.770,2,    1.560,2, -999.000
           NA,HOT timeseries 1988to2019 27SEP2021,      2,  99,-999.0,    8014,-999.0,20170328,2136,  22.7515, -158.0013,  4725,  444.200,    8.215,   34.062,2,   34.062,2,  142.200,2,  141.600,2,   35.730,2,   24.900,2,    1.800,2, -999.000
           NA,HOT timeseries 1988to2019 27SEP2021,      2,  99,-999.0,    8025,-999.0,20170328,2136,  22.7515, -158.0013,  4725,  482.000,    7.390,   34.049,2,   34.050,2,  118.100,2,  117.700,2,   45.080,2,   28.650,2,    2.070,2, -999.000
           NA,HOT timeseries 1988to2019 27SEP2021,      2,  99,-999.0,    8012,-999.0,20170328,2136,  22.7515, -158.0013,  4725,  520.400,    6.931,   34.103,2,   34.102,2,   86.400,2,   83.300,2,   53.890,2,   32.240,2,    2.390,2, -999.000
           NA,HOT timeseries 1988to2019 27SEP2021,      2,  99,-999.0,    8011,-999.0,20170328,2136,  22.7515, -158.0013,  4725,  564.500,    6.326,   34.135,2,   34.133,2,   66.800,2,   61.700,2,   63.570,2,   35.140,2,    2.590,2, -999.000
           NA,HOT timeseries 1988to2019 27SEP2021,      2,  99,-999.0,    8010,-999.0,20170328,2136,  22.7515, -158.0013,  4725,  623.900,    5.857,   34.197,2,   34.201,2,   40.600,2,   40.300,2,   72.900,2,   37.830,2,    2.810,2, -999.000
           NA,HOT timeseries 1988to2019 27SEP2021,      2,  99,-999.0,    8008,-999.0,20170328,2136,  22.7515, -158.0013,  4725,  709.400,    5.437,   34.326,2,   34.325,2,   30.900,2,   30.700,2,   82.610,2,   39.690,2,    2.960,2, -999.000
           NA,HOT timeseries 1988to2019 27SEP2021,      2,  99,-999.0,    8060,-999.0,20170328,2136,  22.7515, -158.0013,  4725,  750.800,    5.251,   34.396,2,   34.396,2,   31.500,2,   30.800,2,   86.060,2,   40.310,2,    2.980,2, -999.000
           NA,HOT timeseries 1988to2019 27SEP2021,      2,  99,-999.0,    8005,-999.0,20170328,2136,  22.7515, -158.0013,  4725,  835.100,    4.933,   34.470,2,   34.470,2,   37.500,2,   37.000,2,   91.180,2,   41.000,2,    3.010,2, -999.000
           NA,HOT timeseries 1988to2019 27SEP2021,      2,  99,-999.0,    8059,-999.0,20170328,2136,  22.7515, -158.0013,  4725,  878.600,    4.750,   34.480,2,   34.481,2,   40.100,2,   40.200,2,   94.420,2,   41.050,2,    3.000,2, -999.000
           NA,HOT timeseries 1988to2019 27SEP2021,      2,  99,-999.0,    8003,-999.0,20170328,2136,  22.7515, -158.0013,  4725,  926.500,    4.563,   34.489,2,   34.490,2,   42.000,2,   42.400,2,   98.310,2,   41.110,2,    3.030,2, -999.000
           NA,HOT timeseries 1988to2019 27SEP2021,      2,  99,-999.0,    8002,-999.0,20170328,2136,  22.7515, -158.0013,  4725,  971.800,    4.392,   34.494,2,   34.497,2,   43.500,2,   42.900,2,  101.460,2,   41.360,2,    3.030,2, -999.000
           NA,HOT timeseries 1988to2019 27SEP2021,      2,  99,-999.0,    8001,-999.0,20170328,2136,  22.7515, -158.0013,  4725, 1018.100,    4.206,   34.496,2,   34.498,2,   45.200,2,   45.400,2,  105.100,2,   41.190,2,    3.020,2, -999.000
           NA,HOT timeseries 1988to2019 27SEP2021,      2,  99,-999.0,    8020,-999.0,20170328,2136,  22.7515, -158.0013,  4725, 1202.700,    3.661,   34.526,2,   34.525,2,   50.900,2,   51.000,2,  116.980,2,   41.780,2,    3.050,2, -999.000
           NA,HOT timeseries 1988to2019 27SEP2021,      2,  99,-999.0,    8019,-999.0,20170328,2136,  22.7515, -158.0013,  4725, 1401.500,    3.144,   34.549,2,   34.549,2,   59.700,2,   59.300,2,  128.550,2,   41.380,2,    3.000,2, -999.000
           NA,HOT timeseries 1988to2019 27SEP2021,      2,  99,-999.0,    8018,-999.0,20170328,2136,  22.7515, -158.0013,  4725, 1605.500,    2.769,   34.578,2,   34.578,2,   68.400,2,   68.600,2,  136.960,2,   41.080,2,    2.980,2, -999.000
           NA,HOT timeseries 1988to2019 27SEP2021,      2,  99,-999.0,    8017,-999.0,20170328,2136,  22.7515, -158.0013,  4725, 1799.200,    2.468,   34.596,2,   34.596,2,   78.300,2,   78.300,2,  143.120,2,   40.630,2,    2.920,2, -999.000
           NA,HOT timeseries 1988to2019 27SEP2021,      2,  99,-999.0,    8016,-999.0,20170328,2136,  22.7515, -158.0013,  4725, 2001.800,    2.189,   34.614,2,   34.614,2,   87.900,2,   88.300,2,  148.660,2,   39.920,2,    2.850,2, -999.000
           NA,HOT timeseries 1988to2019 27SEP2021,      2,  99,-999.0,    8015,-999.0,20170328,2136,  22.7515, -158.0013,  4725, 2210.500,    1.982,   34.629,2,   34.629,2,   96.100,2,   96.400,2,  152.830,2,   39.410,2,    2.820,2, -999.000
           NA,HOT timeseries 1988to2019 27SEP2021,      2,  99,-999.0,    8014,-999.0,20170328,2136,  22.7515, -158.0013,  4725, 2405.500,    1.851,   34.640,2,   34.640,2,  101.900,2,  103.300,2,  156.490,2,   38.990,2,    2.770,2, -999.000
           NA,HOT timeseries 1988to2019 27SEP2021,      2,  99,-999.0,    8025,-999.0,20170328,2136,  22.7515, -158.0013,  4725, 2603.000,    1.738,   34.649,2, -999.000,3, -999.000,3,  107.000,2,  156.870,2,   39.100,2,    2.760,2, -999.000
           NA,HOT timeseries 1988to2019 27SEP2021,      2,  99,-999.0,    8012,-999.0,20170328,2136,  22.7515, -158.0013,  4725, 2802.200,    1.636,   34.658,2,   34.659,2,  114.000,2,  115.100,2,  160.710,2,   38.250,2,    2.720,2, -999.000
           NA,HOT timeseries 1988to2019 27SEP2021,      2,  99,-999.0,    8011,-999.0,20170328,2136,  22.7515, -158.0013,  4725, 3005.800,    1.573,   34.665,2,   34.665,2,  121.300,2,  121.700,2,  160.160,2,   37.920,2,    2.670,2, -999.000
           NA,HOT timeseries 1988to2019 27SEP2021,      2,  99,-999.0,    8010,-999.0,20170328,2136,  22.7515, -158.0013,  4725, 3204.600,    1.529,   34.671,2,   34.671,2,  128.700,2,  129.000,2,  158.850,2,   37.280,2,    2.610,2, -999.000
           NA,HOT timeseries 1988to2019 27SEP2021,      2,  99,-999.0,    8009,-999.0,20170328,2136,  22.7515, -158.0013,  4725, 3401.200,    1.496,   34.677,2,   34.677,2,  134.600,2,  134.100,2,  158.890,2,   37.140,2,    2.620,2, -999.000
           NA,HOT timeseries 1988to2019 27SEP2021,      2,  99,-999.0,    8008,-999.0,20170328,2136,  22.7515, -158.0013,  4725, 3601.300,    1.474,   34.680,2,   34.680,2,  139.400,2,  139.800,2,  155.990,2,   36.540,2,    2.570,2, -999.000
           NA,HOT timeseries 1988to2019 27SEP2021,      2,  99,-999.0,    8060,-999.0,20170328,2136,  22.7515, -158.0013,  4725, 3801.900,    1.464,   34.683,2,   34.682,2,  143.800,2,  144.200,2,  154.060,2,   36.390,2,    2.570,2, -999.000
           NA,HOT timeseries 1988to2019 27SEP2021,      2,  99,-999.0,    8006,-999.0,20170328,2136,  22.7515, -158.0013,  4725, 3999.700,    1.463,   34.685,2,   34.684,2,  147.200,2,  146.900,2,  152.520,2,   36.010,2,    2.520,2, -999.000
           NA,HOT timeseries 1988to2019 27SEP2021,      2,  99,-999.0,    8005,-999.0,20170328,2136,  22.7515, -158.0013,  4725, 4206.600,    1.467,   34.686,2,   34.686,2,  150.200,2,  149.700,2,  150.740,2,   35.920,2,    2.510,2, -999.000
           NA,HOT timeseries 1988to2019 27SEP2021,      2,  99,-999.0,    8059,-999.0,20170328,2136,  22.7515, -158.0013,  4725, 4398.900,    1.481,   34.687,2,   34.687,2,  151.700,2,  151.300,2,  149.810,2,   35.540,2,    2.490,2, -999.000
           NA,HOT timeseries 1988to2019 27SEP2021,      2,  99,-999.0,    8003,-999.0,20170328,2136,  22.7515, -158.0013,  4725, 4503.200,    1.489,   34.688,2,   34.688,2,  152.200,2,  152.200,2,  149.580,2,   35.750,2,    2.500,2, -999.000
           NA,HOT timeseries 1988to2019 27SEP2021,      2,  99,-999.0,    8002,-999.0,20170328,2136,  22.7515, -158.0013,  4725, 4596.800,    1.497,   34.688,2,   34.688,2,  152.500,2,  152.000,2,  149.310,2,   35.690,2,    2.490,2, -999.000
           NA,HOT timeseries 1988to2019 27SEP2021,      2,  99,-999.0,    8001,-999.0,20170328,2136,  22.7515, -158.0013,  4725, 4796.500,    1.512,   34.689,2,   34.689,2,  153.900,2,  153.900,2,  148.130,2,   35.500,2,    2.490,2, -999.000
           NA,HOT timeseries 1988to2019 27SEP2021,      2,  99,-999.0,    8058,-999.0,20170425,2059,  22.7485, -158.0007,  4726,   43.200,   24.705,   34.903,2,   34.903,2,  214.400,2,  214.500,2,    1.200,2,    0.020,2,    0.070,2, -999.000
           NA,HOT timeseries 1988to2019 27SEP2021,      2,  99,-999.0,    8023,-999.0,20170425,2059,  22.7485, -158.0007,  4726,   69.200,   23.849,   34.985,2,   34.988,2,  215.700,2,  215.500,2,    1.250,2,    0.010,2,    0.090,2, -999.000
           NA,HOT timeseries 1988to2019 27SEP2021,      2,  99,-999.0,    8022,-999.0,20170425,2059,  22.7485, -158.0007,  4726,   96.000,   23.043,   35.114,2,   35.112,2,  213.400,2,  214.400,2,    1.290,2,    0.030,2,    0.090,2, -999.000
           NA,HOT timeseries 1988to2019 27SEP2021,      2,  99,-999.0,    8021,-999.0,20170425,2059,  22.7485, -158.0007,  4726,  138.300,   20.847,   35.004,2,   35.001,2,  192.000,2,  191.100,2,    2.290,2,    1.880,2,    0.270,2, -999.000
           NA,HOT timeseries 1988to2019 27SEP2021,      2,  99,-999.0,    8020,-999.0,20170425,2059,  22.7485, -158.0007,  4726,  188.600,   17.832,   34.666,2,   34.675,2,  183.300,2,  185.000,2,    4.160,2,    4.530,2,    0.450,2, -999.000
           NA,HOT timeseries 1988to2019 27SEP2021,      2,  99,-999.0,    8019,-999.0,20170425,2059,  22.7485, -158.0007,  4726,  234.400,   15.180,   34.465,2,   34.474,2,  198.800,2,  196.900,2,    6.310,2,    6.490,2,    0.560,2, -999.000
           NA,HOT timeseries 1988to2019 27SEP2021,      2,  99,-999.0,    8018,-999.0,20170425,2059,  22.7485, -158.0007,  4726,  265.800,   13.376,   34.246,2,   34.243,2,  184.900,2,  185.100,2,    9.630,2,   10.260,2,    0.840,2, -999.000
           NA,HOT timeseries 1988to2019 27SEP2021,      2,  99,-999.0,    8017,-999.0,20170425,2059,  22.7485, -158.0007,  4726,  296.600,   11.865,   34.114,2,   34.114,2,  174.600,2,  168.900,2,   14.280,2,   14.420,2,    1.170,2, -999.000
           NA,HOT timeseries 1988to2019 27SEP2021,      2,  99,-999.0,    8016,-999.0,20170425,2059,  22.7485, -158.0007,  4726,  336.700,   10.321,   34.111,2,   34.111,2,  178.700,2,  175.500,2,   19.810,2,   17.570,2,    1.340,2, -999.000
           NA,HOT timeseries 1988to2019 27SEP2021,      2,  99,-999.0,    8014,-999.0,20170425,2059,  22.7485, -158.0007,  4726,  395.200,    9.145,   34.100,2,   34.102,2,  140.100,2, -999.000,4,   28.550,2,   22.340,2,    1.690,2, -999.000
           NA,HOT timeseries 1988to2019 27SEP2021,      2,  99,-999.0,    8025,-999.0,20170425,2059,  22.7485, -158.0007,  4726,  449.000,    7.852,   34.102,2,   34.101,2,  105.100,2,  105.000,2,   42.180,2,   28.470,2,    2.150,2, -999.000
           NA,HOT timeseries 1988to2019 27SEP2021,      2,  99,-999.0,    8012,-999.0,20170425,2059,  22.7485, -158.0007,  4726,  485.900,    7.074,   34.112,2,   34.106,2,   81.000,2,   80.400,2,   52.300,2,   32.340,2,    2.420,2, -999.000
           NA,HOT timeseries 1988to2019 27SEP2021,      2,  99,-999.0,    8011,-999.0,20170425,2059,  22.7485, -158.0007,  4726,  525.100,    6.482,   34.159,2,   34.161,2,   55.500,2,   55.300,2,   62.380,2,   35.430,2,    2.670,2, -999.000
           NA,HOT timeseries 1988to2019 27SEP2021,      2,  99,-999.0,    8009,-999.0,20170425,2059,  22.7485, -158.0007,  4726,  582.900,    5.969,   34.221,2,   34.217,2,   40.200,2,   39.900,2,   71.660,2,   37.670,2,    2.850,2, -999.000
           NA,HOT timeseries 1988to2019 27SEP2021,      2,  99,-999.0,    8008,-999.0,20170425,2059,  22.7485, -158.0007,  4726,  619.300,    5.706,   34.244,2,   34.246,2,   35.700,2,   35.700,2,   76.280,2,   38.630,2,    2.900,2, -999.000
           NA,HOT timeseries 1988to2019 27SEP2021,      2,  99,-999.0,    8006,-999.0,20170425,2059,  22.7485, -158.0007,  4726,  682.800,    5.449,   34.304,2,   34.303,2,   31.100,2,   30.900,2,   81.970,2,   39.820,2,    2.990,2, -999.000
           NA,HOT timeseries 1988to2019 27SEP2021,      2,  99,-999.0,    8005,-999.0,20170425,2059,  22.7485, -158.0007,  4726,  711.100,    5.376,   34.329,2,   34.328,2,   30.900,2,   30.800,2,   83.590,2,   40.020,2,    3.000,2, -999.000
           NA,HOT timeseries 1988to2019 27SEP2021,      2,  99,-999.0,    8059,-999.0,20170425,2059,  22.7485, -158.0007,  4726,  739.300,    5.195,   34.353,2,   34.353,2,   31.700,2,   32.100,2,   86.680,2,   40.310,2,    3.020,2, -999.000
           NA,HOT timeseries 1988to2019 27SEP2021,      2,  99,-999.0,    8001,-999.0,20170425,2059,  22.7485, -158.0007,  4726,  871.800,    4.638,   34.418,2,   34.419,2,   34.300,2,   34.400,2,   97.250,2,   41.070,2,    3.070,2, -999.000
           NA,HOT timeseries 1988to2019 27SEP2021,      2,  99,-999.0,    8021,-999.0,20170425,2059,  22.7485, -158.0007,  4726,  999.900,    4.198,   34.465,2,   34.466,2,   43.000,2,   41.400,2,  106.280,2,   41.170,2,    3.080,2, -999.000
           NA,HOT timeseries 1988to2019 27SEP2021,      2,  99,-999.0,    8020,-999.0,20170425,2059,  22.7485, -158.0007,  4726, 1198.700,    3.692,   34.516,2,   34.518,2,   49.700,2,   49.600,2,  116.880,2,   41.220,2,    3.060,2, -999.000
           NA,HOT timeseries 1988to2019 27SEP2021,      2,  99,-999.0,    8019,-999.0,20170425,2059,  22.7485, -158.0007,  4726, 1401.500,    3.166,   34.550,2,   34.551,2,   59.000,2,   59.000,2,  129.180,2,   40.760,2,    3.000,2, -999.000
           NA,HOT timeseries 1988to2019 27SEP2021,      2,  99,-999.0,    8018,-999.0,20170425,2059,  22.7485, -158.0007,  4726, 1604.500,    2.770,   34.575,2,   34.575,2,   70.200,2,   69.800,2, -999.000,4,   40.360,2,    2.970,2, -999.000
           NA,HOT timeseries 1988to2019 27SEP2021,      2,  99,-999.0,    8017,-999.0,20170425,2059,  22.7485, -158.0007,  4726, 1803.600,    2.434,   34.594,2,   34.596,2,   79.400,2,   81.600,2,  144.650,2,   39.910,2,    2.930,2, -999.000
           NA,HOT timeseries 1988to2019 27SEP2021,      2,  99,-999.0,    8016,-999.0,20170425,2059,  22.7485, -158.0007,  4726, 2003.900,    2.185,   34.612,2,   34.614,2,   86.400,2,   87.100,2,  151.180,2,   39.640,2,    2.880,2, -999.000
           NA,HOT timeseries 1988to2019 27SEP2021,      2,  99,-999.0,    8015,-999.0,20170425,2059,  22.7485, -158.0007,  4726, 2201.800,    2.010,   34.626,2,   34.627,2,   94.400,2,   95.500,2,  153.780,2,   38.820,2,    2.820,2, -999.000
           NA,HOT timeseries 1988to2019 27SEP2021,      2,  99,-999.0,    8014,-999.0,20170425,2059,  22.7485, -158.0007,  4726, 2401.500,    1.860,   34.638,2,   34.639,2,  101.700,2,  102.800,2, -999.000,3,   38.500,2,    2.810,2, -999.000
           NA,HOT timeseries 1988to2019 27SEP2021,      2,  99,-999.0,    8025,-999.0,20170425,2059,  22.7485, -158.0007,  4726, 2601.400,    1.741,   34.648,2,   34.649,2,  108.500,2,  109.500,2,  158.540,2,   38.230,2,    2.760,2, -999.000
           NA,HOT timeseries 1988to2019 27SEP2021,      2,  99,-999.0,    8012,-999.0,20170425,2059,  22.7485, -158.0007,  4726, 2803.500,    1.640,   34.658,2,   34.657,2,  115.600,2,  116.700,2,  160.760,2,   37.630,2,    2.720,2, -999.000
           NA,HOT timeseries 1988to2019 27SEP2021,      2,  99,-999.0,    8011,-999.0,20170425,2059,  22.7485, -158.0007,  4726, 3003.100,    1.574,   34.666,2,   34.666,2,  122.500,2,  123.200,2, -999.000,3,   37.480,2,    2.660,2, -999.000
           NA,HOT timeseries 1988to2019 27SEP2021,      2,  99,-999.0,    8010,-999.0,20170425,2059,  22.7485, -158.0007,  4726, 3203.200,    1.529,   34.671,2,   34.671,2,  129.400,2,  129.000,2,  160.230,2,   36.990,2,    2.660,2, -999.000
           NA,HOT timeseries 1988to2019 27SEP2021,      2,  99,-999.0,    8009,-999.0,20170425,2059,  22.7485, -158.0007,  4726, 3409.600,    1.499,   34.675,2,   34.675,2,  135.300,2,  135.100,2,  158.490,2,   36.520,2,    2.610,2, -999.000