BOTTLE,20214727JOAExport
EXPOCODE,SECT_ID,STNNBR,CASTNO,SAMPNO,BTLNBR,BTLNBR_FLAG_W,DATE,TIME,LATITUDE,LONGITUDE,DEPTH,CTDPRS,CTDTMP,CTDSAL,CTDSAL_FLAG_W,SALNTY,SALNTY_FLAG_W,CTDOXY,CTDOXY_FLAG_W,OXYGEN,OXYGEN_FLAG_W,SILCAT,SILCAT_FLAG_W,NINI,NINI_FLAG_W,PHSPHT,PHSPHT_FLAG_W,REVP
,,,,,,,,,,,,DB,IPTS-68,PSS-78,,PSS-78,,UMOL/KG,,UMOL/KG,,UMOL/KG,,UMOL/KG,,UMOL/KG,,DBAR
           NA,HOT timeseries 1988to2019 27SEP2021,      2,  99,-999.0,    8011,-999.0,20170620,2148,  22.7507, -158.0002,  4749, 3001.400,    1.566,   34.667,2,   34.667,2,  124.900,2,  124.900,2,  157.530,2,   37.420,2,    2.660,2, -999.000
           NA,HOT timeseries 1988to2019 27SEP2021,      2,  99,-999.0,    8010,-999.0,20170620,2148,  22.7507, -158.0002,  4749, 3201.100,    1.515,   34.673,2,   34.672,2,  130.400,2,  130.200,2,  158.190,2,   36.950,2,    2.610,2, -999.000
           NA,HOT timeseries 1988to2019 27SEP2021,      2,  99,-999.0,    8009,-999.0,20170620,2148,  22.7507, -158.0002,  4749, 3401.700,    1.477,   34.678,2,   34.678,2,  137.200,2,  136.900,2,  155.980,2,   36.460,2,    2.570,2, -999.000
           NA,HOT timeseries 1988to2019 27SEP2021,      2,  99,-999.0,    8008,-999.0,20170620,2148,  22.7507, -158.0002,  4749, 3601.400,    1.456,   34.681,2,   34.681,2,  142.500,2,  141.600,2,  156.340,2,   36.160,2,    2.540,2, -999.000
           NA,HOT timeseries 1988to2019 27SEP2021,      2,  99,-999.0,    8060,-999.0,20170620,2148,  22.7507, -158.0002,  4749, 3801.800,    1.449,   34.684,2,   34.683,2,  146.100,2,  146.000,2,  153.790,2,   35.960,2,    2.530,2, -999.000
           NA,HOT timeseries 1988to2019 27SEP2021,      2,  99,-999.0,    8006,-999.0,20170620,2148,  22.7507, -158.0002,  4749, 4002.000,    1.454,   34.686,2,   34.685,2,  148.600,2,  148.600,2,  150.820,2,   35.750,2,    2.520,2, -999.000
           NA,HOT timeseries 1988to2019 27SEP2021,      2,  99,-999.0,    8005,-999.0,20170620,2148,  22.7507, -158.0002,  4749, 4203.800,    1.466,   34.686,2,   34.685,2,  150.000,2,  149.900,2,  151.920,2,   35.680,2,    2.510,2, -999.000
           NA,HOT timeseries 1988to2019 27SEP2021,      2,  99,-999.0,    8059,-999.0,20170620,2148,  22.7507, -158.0002,  4749, 4401.600,    1.481,   34.687,2,   34.687,2,  151.100,2,  151.300,2,  149.850,2,   35.550,2,    2.500,2, -999.000
           NA,HOT timeseries 1988to2019 27SEP2021,      2,  99,-999.0,    8003,-999.0,20170620,2148,  22.7507, -158.0002,  4749, 4502.300,    1.489,   34.687,2,   34.687,2,  151.400,2,  151.800,2,  149.240,2,   35.570,2,    2.490,2, -999.000
           NA,HOT timeseries 1988to2019 27SEP2021,      2,  99,-999.0,    8002,-999.0,20170620,2148,  22.7507, -158.0002,  4749, 4603.300,    1.499,   34.688,2,   34.687,2,  151.800,2,  151.900,2,  148.830,2,   35.340,2,    2.480,2, -999.000
           NA,HOT timeseries 1988to2019 27SEP2021,      2,  99,-999.0,    8001,-999.0,20170620,2148,  22.7507, -158.0002,  4749, 4806.600,    1.519,   34.688,2,   34.688,2,  151.800,2, -999.000,3,  149.560,2,   35.300,2,    2.470,2, -999.000
           NA,HOT timeseries 1988to2019 27SEP2021,      2,  99,-999.0,    8058,-999.0,20170808,2117,  22.7497, -157.9992,  4723,   41.400,   26.448,   35.069,2,   35.071,2,  213.700,2,  212.200,2,    1.330,2,    0.000,2,    0.020,2, -999.000
           NA,HOT timeseries 1988to2019 27SEP2021,      2,  99,-999.0,    8022,-999.0,20170808,2117,  22.7497, -157.9992,  4723,   74.500,   24.257,   35.154,2,   35.154,2,  219.600,2,  218.800,2,    1.710,2,    0.000,2,    0.020,2, -999.000
           NA,HOT timeseries 1988to2019 27SEP2021,      2,  99,-999.0,    8021,-999.0,20170808,2117,  22.7497, -157.9992,  4723,   90.300,   23.156,   35.147,2,   35.144,2,  213.300,2,  212.000,2,    1.620,2,    0.000,2,    0.070,2, -999.000
           NA,HOT timeseries 1988to2019 27SEP2021,      2,  99,-999.0,    8020,-999.0,20170808,2117,  22.7497, -157.9992,  4723,  129.500,   20.983,   35.101,2,   35.110,2,  195.300,2,  195.300,2,    2.480,2,    1.300,2,    0.180,2, -999.000
           NA,HOT timeseries 1988to2019 27SEP2021,      2,  99,-999.0,    8019,-999.0,20170808,2117,  22.7497, -157.9992,  4723,  175.400,   18.631,   34.871,2,   34.865,2,  191.300,2,  192.500,2, -999.000,4,    3.350,2,    0.310,2, -999.000
           NA,HOT timeseries 1988to2019 27SEP2021,      2,  99,-999.0,    8018,-999.0,20170808,2117,  22.7497, -157.9992,  4723,  226.600,   15.778,   34.553,2,   34.540,2,  198.900,2,  198.500,2,    5.860,2,    5.660,2,    0.450,2, -999.000
           NA,HOT timeseries 1988to2019 27SEP2021,      2,  99,-999.0,    8017,-999.0,20170808,2117,  22.7497, -157.9992,  4723,  295.500,   12.400,   34.211,2,   34.202,2,  202.100,2,  199.100,2,   11.240,2,   11.420,2,    0.840,2, -999.000
           NA,HOT timeseries 1988to2019 27SEP2021,      2,  99,-999.0,    8016,-999.0,20170808,2117,  22.7497, -157.9992,  4723,  311.800,   11.784,   34.174,2,   34.175,2,  189.700,2,  189.600,2,   14.990,2,   13.190,2,    0.980,2, -999.000
           NA,HOT timeseries 1988to2019 27SEP2021,      2,  99,-999.0,    8015,-999.0,20170808,2117,  22.7497, -157.9992,  4723,  357.800,   10.019,   34.110,2,   34.120,2,  161.300,2,  162.300,2,   22.910,2,   19.540,2,    1.460,2, -999.000
           NA,HOT timeseries 1988to2019 27SEP2021,      2,  99,-999.0,    8014,-999.0,20170808,2117,  22.7497, -157.9992,  4723,  409.800,    8.813,   34.100,2,   34.098,2,  136.400,2,  135.600,2,   32.580,2,   24.370,2,    1.800,2, -999.000
           NA,HOT timeseries 1988to2019 27SEP2021,      2,  99,-999.0,    8025,-999.0,20170808,2117,  22.7497, -157.9992,  4723,  469.000,    7.633,   34.133,2,   34.133,2,   89.600,2,   89.700,2,   46.800,2,   30.410,2,    2.260,2, -999.000
           NA,HOT timeseries 1988to2019 27SEP2021,      2,  99,-999.0,    8012,-999.0,20170808,2117,  22.7497, -157.9992,  4723,  507.600,    7.110,   34.166,2,   34.166,2,   74.800,2,   73.500,2,   57.610,2,   33.200,2,    2.460,2, -999.000
           NA,HOT timeseries 1988to2019 27SEP2021,      2,  99,-999.0,    8010,-999.0,20170808,2117,  22.7497, -157.9992,  4723,  576.200,    6.463,   34.185,2,   34.183,2,   56.600,2,   56.400,2,   65.290,2,   35.890,2,    2.640,2, -999.000
           NA,HOT timeseries 1988to2019 27SEP2021,      2,  99,-999.0,    8008,-999.0,20170808,2117,  22.7497, -157.9992,  4723,  679.000,    5.096,   34.216,2,   34.218,2,   37.200,2,   36.400,2,   86.530,2,   40.170,2,    2.920,2, -999.000
           NA,HOT timeseries 1988to2019 27SEP2021,      2,  99,-999.0,    8060,-999.0,20170808,2117,  22.7497, -157.9992,  4723,  758.700,    4.848,   34.319,2,   34.319,2,   31.200,2,   31.300,2,   93.880,2,   41.230,2,    2.990,2, -999.000
           NA,HOT timeseries 1988to2019 27SEP2021,      2,  99,-999.0,    8005,-999.0,20170808,2117,  22.7497, -157.9992,  4723,  844.900,    4.560,   34.400,2,   34.400,2,   34.900,2,   35.300,2,  100.340,2,   41.530,2,    2.990,2, -999.000
           NA,HOT timeseries 1988to2019 27SEP2021,      2,  99,-999.0,    8003,-999.0,20170808,2117,  22.7497, -157.9992,  4723,  933.300,    4.232,   34.454,2,   34.455,2,   40.300,2,   40.300,2,  106.020,2,   41.940,2,    2.960,2, -999.000
           NA,HOT timeseries 1988to2019 27SEP2021,      2,  99,-999.0,    8001,-999.0,20170808,2117,  22.7497, -157.9992,  4723, 1022.100,    3.999,   34.488,2,   34.489,2,   43.500,2,   43.400,2,  110.000,2,   41.950,2,    2.980,2, -999.000
           NA,HOT timeseries 1988to2019 27SEP2021,      2,  99,-999.0,    8020,-999.0,20170808,2117,  22.7497, -157.9992,  4723, 1202.200,    3.472,   34.529,2,   34.530,2,   50.900,2,   50.500,2,  122.360,2,   42.170,2,    3.020,2, -999.000
           NA,HOT timeseries 1988to2019 27SEP2021,      2,  99,-999.0,    8019,-999.0,20170808,2117,  22.7497, -157.9992,  4723, 1402.900,    2.997,   34.557,2,   34.558,2,   60.300,2,   60.200,2,  133.690,2,   41.820,2,    2.980,2, -999.000
           NA,HOT timeseries 1988to2019 27SEP2021,      2,  99,-999.0,    8018,-999.0,20170808,2117,  22.7497, -157.9992,  4723, 1603.800,    2.637,   34.583,2,   34.583,2,   70.500,2,   72.100,2,  141.360,2,   41.140,2,    2.920,2, -999.000
           NA,HOT timeseries 1988to2019 27SEP2021,      2,  99,-999.0,    8017,-999.0,20170808,2117,  22.7497, -157.9992,  4723, 1802.300,    2.331,   34.604,2,   34.604,2,   82.600,2,   82.500,2,  147.650,2,   40.550,2,    2.870,2, -999.000
           NA,HOT timeseries 1988to2019 27SEP2021,      2,  99,-999.0,    8016,-999.0,20170808,2117,  22.7497, -157.9992,  4723, 2002.400,    2.121,   34.618,2,   34.618,2,   90.300,2,   90.300,2,  152.250,2,   40.070,2,    2.820,2, -999.000
           NA,HOT timeseries 1988to2019 27SEP2021,      2,  99,-999.0,    8015,-999.0,20170808,2117,  22.7497, -157.9992,  4723, 2201.500,    1.930,   34.632,2,   34.632,2,   98.300,2,   98.600,2,  157.880,2,   39.490,2,    2.770,2, -999.000
           NA,HOT timeseries 1988to2019 27SEP2021,      2,  99,-999.0,    8014,-999.0,20170808,2117,  22.7497, -157.9992,  4723, 2404.500,    1.781,   34.645,2,   34.645,2,  106.400,2,  107.000,2,  158.290,2,   38.960,2,    2.740,2, -999.000
           NA,HOT timeseries 1988to2019 27SEP2021,      2,  99,-999.0,    8025,-999.0,20170808,2117,  22.7497, -157.9992,  4723, 2603.100,    1.669,   34.655,2,   34.653,2,  114.400,2,  115.200,2,  158.960,2,   38.450,2,    2.680,2, -999.000
           NA,HOT timeseries 1988to2019 27SEP2021,      2,  99,-999.0,    8012,-999.0,20170808,2117,  22.7497, -157.9992,  4723, 2802.900,    1.607,   34.661,2,   34.662,2,  120.300,2,  120.500,2,  161.840,2,   38.070,2,    2.650,2, -999.000
           NA,HOT timeseries 1988to2019 27SEP2021,      2,  99,-999.0,    8011,-999.0,20170808,2117,  22.7497, -157.9992,  4723, 3001.400,    1.552,   34.668,2,   34.667,2,  126.300,2,  127.600,2,  160.750,2,   37.480,2,    2.630,2, -999.000
           NA,HOT timeseries 1988to2019 27SEP2021,      2,  99,-999.0,    8010,-999.0,20170808,2117,  22.7497, -157.9992,  4723, 3201.900,    1.517,   34.672,2,   34.672,2,  131.400,2,  131.300,2,  158.690,2,   36.920,2,    2.610,2, -999.000
           NA,HOT timeseries 1988to2019 27SEP2021,      2,  99,-999.0,    8009,-999.0,20170808,2117,  22.7497, -157.9992,  4723, 3401.600,    1.488,   34.676,2,   34.676,2,  136.300,2,  134.700,2,  158.290,2,   36.570,2,    2.580,2, -999.000
           NA,HOT timeseries 1988to2019 27SEP2021,      2,  99,-999.0,    8008,-999.0,20170808,2117,  22.7497, -157.9992,  4723, 3601.200,    1.471,   34.679,2,   34.679,2,  141.000,2,  141.200,2,  156.580,2,   36.170,2,    2.550,2, -999.000
           NA,HOT timeseries 1988to2019 27SEP2021,      2,  99,-999.0,    8060,-999.0,20170808,2117,  22.7497, -157.9992,  4723, 3801.800,    1.462,   34.682,2,   34.682,2,  144.900,2,  145.000,2,  153.920,2,   35.900,2,    2.530,2, -999.000
           NA,HOT timeseries 1988to2019 27SEP2021,      2,  99,-999.0,    8006,-999.0,20170808,2117,  22.7497, -157.9992,  4723, 4002.200,    1.458,   34.684,2,   34.684,2,  148.700,2,  148.200,2,  154.930,2,   35.460,2,    2.540,2, -999.000
           NA,HOT timeseries 1988to2019 27SEP2021,      2,  99,-999.0,    8005,-999.0,20170808,2117,  22.7497, -157.9992,  4723, 4203.000,    1.465,   34.686,2,   34.686,2,  150.800,2,  150.400,2,  153.750,2,   35.140,2,    2.530,2, -999.000
           NA,HOT timeseries 1988to2019 27SEP2021,      2,  99,-999.0,    8059,-999.0,20170808,2117,  22.7497, -157.9992,  4723, 4402.700,    1.482,   34.686,2,   34.686,2,  151.900,2,  151.000,2,  151.210,2,   34.960,2,    2.520,2, -999.000
           NA,HOT timeseries 1988to2019 27SEP2021,      2,  99,-999.0,    8003,-999.0,20170808,2117,  22.7497, -157.9992,  4723, 4503.200,    1.492,   34.687,2,   34.687,2,  152.000,2,  152.400,2,  150.430,2,   36.240,2,    2.520,2, -999.000
           NA,HOT timeseries 1988to2019 27SEP2021,      2,  99,-999.0,    8002,-999.0,20170808,2117,  22.7497, -157.9992,  4723, 4603.500,    1.500,   34.687,2,   34.687,2,  152.500,2,  152.000,2,  151.500,2,   36.170,2,    2.530,2, -999.000
           NA,HOT timeseries 1988to2019 27SEP2021,      2,  99,-999.0,    8001,-999.0,20170808,2117,  22.7497, -157.9992,  4723, 4798.000,    1.506,   34.688,2,   34.689,2,  154.900,2,  155.200,2,  149.220,2,   35.950,2,    2.490,2, -999.000
           NA,HOT timeseries 1988to2019 27SEP2021,      2,  99,-999.0,    8058,-999.0,20171006,2045,  22.7502, -158.0003,  4739,    6.000,   26.795,   35.086,2,   35.087,2,  203.500,2, -999.000,3,    2.000,2,    0.210,2,    0.010,2, -999.000
           NA,HOT timeseries 1988to2019 27SEP2021,      2,  99,-999.0,    8023,-999.0,20171006,2045,  22.7502, -158.0003,  4739,   25.600,   26.781,   35.084,2,   35.087,2,  204.300,2,  204.000,2,    1.310,2,    0.120,2,    0.010,2, -999.000
           NA,HOT timeseries 1988to2019 27SEP2021,      2,  99,-999.0,    8022,-999.0,20171006,2045,  22.7502, -158.0003,  4739,   54.200,   24.820,   35.016,2,   35.015,2,  225.800,2,  226.700,2,    1.240,2,    0.070,2,    0.010,2, -999.000
           NA,HOT timeseries 1988to2019 27SEP2021,      2,  99,-999.0,    8021,-999.0,20171006,2045,  22.7502, -158.0003,  4739,   80.900,   23.256,   35.086,2,   35.089,2,  216.300,2,  216.200,2,    1.310,2,    0.110,2,    0.060,2, -999.000
           NA,HOT timeseries 1988to2019 27SEP2021,      2,  99,-999.0,    8020,-999.0,20171006,2045,  22.7502, -158.0003,  4739,  146.700,   21.498,   35.157,2,   35.155,2,  192.600,2,  193.500,2,    1.740,2,    1.170,2,    0.170,2, -999.000
           NA,HOT timeseries 1988to2019 27SEP2021,      2,  99,-999.0,    8019,-999.0,20171006,2045,  22.7502, -158.0003,  4739,  204.000,   17.672,   34.777,2,   34.791,2,  197.900,2,  197.800,2, -999.000,3,    3.370,2,    0.300,2, -999.000
           NA,HOT timeseries 1988to2019 27SEP2021,      2,  99,-999.0,    8018,-999.0,20171006,2045,  22.7502, -158.0003,  4739,  241.400,   15.634,   34.555,2,   34.568,2,  203.000,2,  203.700,2,    7.000,2,    4.990,2,    0.410,2, -999.000
           NA,HOT timeseries 1988to2019 27SEP2021,      2,  99,-999.0,    8017,-999.0,20171006,2045,  22.7502, -158.0003,  4739,  289.000,   13.336,   34.314,2,   34.320,2,  211.400,2,  212.800,2, -999.000,3,    7.990,2,    0.590,2, -999.000
           NA,HOT timeseries 1988to2019 27SEP2021,      2,  99,-999.0,    8016,-999.0,20171006,2045,  22.7502, -158.0003,  4739,  335.800,   11.792,   34.192,2,   34.192,2,  213.400,2,  211.900,2,   11.710,2,   11.280,2,    0.800,2, -999.000
           NA,HOT timeseries 1988to2019 27SEP2021,      2,  99,-999.0,    8015,-999.0,20171006,2045,  22.7502, -158.0003,  4739,  383.400,   10.298,   34.104,2,   34.106,2,  194.600,2,  195.900,2,   18.120,2,   15.770,2,    1.130,2, -999.000
           NA,HOT timeseries 1988to2019 27SEP2021,      2,  99,-999.0,    8014,-999.0,20171006,2045,  22.7502, -158.0003,  4739,  433.300,    8.831,   34.061,2,   34.063,2,  152.700,2,  152.900,2,   30.530,2,   22.650,2,    1.650,2, -999.000
           NA,HOT timeseries 1988to2019 27SEP2021,      2,  99,-999.0,    8025,-999.0,20171006,2045,  22.7502, -158.0003,  4739,  497.400,    7.425,   34.077,2,   34.074,2,  103.500,2,  102.400,2,   45.930,2,   29.530,2,    2.170,2, -999.000
           NA,HOT timeseries 1988to2019 27SEP2021,      2,  99,-999.0,    8012,-999.0,20171006,2045,  22.7502, -158.0003,  4739,  533.500,    6.690,   34.080,2,   34.083,2,   77.000,2,   76.400,2,   58.470,2,   33.270,2,    2.450,2, -999.000
           NA,HOT timeseries 1988to2019 27SEP2021,      2,  99,-999.0,    8011,-999.0,20171006,2045,  22.7502, -158.0003,  4739,  567.300,    6.098,   34.093,2,   34.093,2,   61.300,2,   61.900,2,   67.540,2,   35.750,2,    2.630,2, -999.000
           NA,HOT timeseries 1988to2019 27SEP2021,      2,  99,-999.0,    8010,-999.0,20171006,2045,  22.7502, -158.0003,  4739,  621.100,    5.699,   34.157,2,   34.159,2,   40.700,2,   40.900,2,   74.720,2,   38.180,2,    2.820,2, -999.000
           NA,HOT timeseries 1988to2019 27SEP2021,      2,  99,-999.0,    8009,-999.0,20171006,2045,  22.7502, -158.0003,  4739,  680.500,    5.411,   34.269,2,   34.265,2,   32.100,2,   31.700,2,   82.170,2,   39.540,2,    2.920,2, -999.000
           NA,HOT timeseries 1988to2019 27SEP2021,      2,  99,-999.0,    8008,-999.0,20171006,2045,  22.7502, -158.0003,  4739,  728.500,    5.114,   34.304,2,   34.303,2,   30.200,2,   29.600,2,   88.120,2,   40.230,2,    2.980,2, -999.000
           NA,HOT timeseries 1988to2019 27SEP2021,      2,  99,-999.0,    8060,-999.0,20171006,2045,  22.7502, -158.0003,  4739,  776.700,    4.903,   34.343,2,   34.341,2,   26.600,2,   27.100,2,   94.350,2,   41.190,2,    3.040,2, -999.000
           NA,HOT timeseries 1988to2019 27SEP2021,      2,  99,-999.0,    8006,-999.0,20171006,2045,  22.7502, -158.0003,  4739,  818.800,    4.746,   34.390,2,   34.390,2,   27.800,2,   27.500,2,   96.430,2,   41.310,2,    3.060,2, -999.000
           NA,HOT timeseries 1988to2019 27SEP2021,      2,  99,-999.0,    8059,-999.0,20171006,2045,  22.7502, -158.0003,  4739,  900.000,    4.486,   34.445,2,   34.444,2,   36.900,2,   37.000,2,  100.030,2,   41.420,2,    3.030,2, -999.000
           NA,HOT timeseries 1988to2019 27SEP2021,      2,  99,-999.0,    8003,-999.0,20171006,2045,  22.7502, -158.0003,  4739,  938.200,    4.373,   34.463,2,   34.462,2,   39.700,2,   40.100,2,  102.880,2,   41.360,2,    3.030,2, -999.000
           NA,HOT timeseries 1988to2019 27SEP2021,      2,  99,-999.0,    8001,-999.0,20171006,2045,  22.7502, -158.0003,  4739, 1020.100,    4.137,   34.487,2,   34.488,2,   43.200,2,   43.600,2,  109.460,2,   41.240,2,    3.000,2, -999.000
           NA,HOT timeseries 1988to2019 27SEP2021,      2,  99,-999.0,    8020,-999.0,20171006,2045,  22.7502, -158.0003,  4739, 1206.200,    3.632,   34.526,2,   34.526,2,   49.900,2,   49.700,2,  123.320,2,   42.050,2,    3.000,2, -999.000
           NA,HOT timeseries 1988to2019 27SEP2021,      2,  99,-999.0,    8019,-999.0,20171006,2045,  22.7502, -158.0003,  4739, 1406.300,    3.182,   34.554,2,   34.554,2,   56.900,2,   56.900,2,  129.460,2,   41.990,2,    3.010,2, -999.000
           NA,HOT timeseries 1988to2019 27SEP2021,      2,  99,-999.0,    8018,-999.0,20171006,2045,  22.7502, -158.0003,  4739, 1607.900,    2.803,   34.576,2,   34.576,2,   66.600,2, -999.000,5,  140.980,2,   41.320,2,    2.970,2, -999.000
           NA,HOT timeseries 1988to2019 27SEP2021,      2,  99,-999.0,    8017,-999.0,20171006,2045,  22.7502, -158.0003,  4739, 1806.300,    2.471,   34.597,2,   34.597,2,   75.600,2,   75.700,2,  144.270,2,   40.850,2,    2.910,2, -999.000
           NA,HOT timeseries 1988to2019 27SEP2021,      2,  99,-999.0,    8016,-999.0,20171006,2045,  22.7502, -158.0003,  4739, 2003.000,    2.177,   34.616,2,   34.616,2,   84.800,2,   85.100,2,  153.550,2,   40.460,2,    2.860,2, -999.000
           NA,HOT timeseries 1988to2019 27SEP2021,      2,  99,-999.0,    8015,-999.0,20171006,2045,  22.7502, -158.0003,  4739, 2202.900,    1.971,   34.630,2,   34.630,2,   92.400,2,   92.500,2,  156.720,2,   39.760,2,    2.810,2, -999.000
           NA,HOT timeseries 1988to2019 27SEP2021,      2,  99,-999.0,    8014,-999.0,20171006,2045,  22.7502, -158.0003,  4739, 2402.800,    1.833,   34.641,2,   34.640,2,   99.400,2,   99.700,2,  160.540,2,   39.410,2,    2.750,2, -999.000
           NA,HOT timeseries 1988to2019 27SEP2021,      2,  99,-999.0,    8025,-999.0,20171006,2045,  22.7502, -158.0003,  4739, 2604.100,    1.712,   34.653,2,   34.652,2,  108.000,2,  108.100,2,  162.590,2,   38.910,2,    2.720,2, -999.000
           NA,HOT timeseries 1988to2019 27SEP2021,      2,  99,-999.0,    8012,-999.0,20171006,2045,  22.7502, -158.0003,  4739, 2804.300,    1.622,   34.662,2,   34.663,2,  115.800,2,  116.300,2,  161.750,2,   38.100,2,    2.680,2, -999.000
           NA,HOT timeseries 1988to2019 27SEP2021,      2,  99,-999.0,    8011,-999.0,20171006,2045,  22.7502, -158.0003,  4739, 3004.400,    1.572,   34.668,2, -999.000,5,  121.400,2,  121.700,2,  161.550,2,   37.930,2,    2.650,2, -999.000