BOTTLE,20214727JOAExport
EXPOCODE,SECT_ID,STNNBR,CASTNO,SAMPNO,BTLNBR,BTLNBR_FLAG_W,DATE,TIME,LATITUDE,LONGITUDE,DEPTH,CTDPRS,CTDTMP,CTDSAL,CTDSAL_FLAG_W,SALNTY,SALNTY_FLAG_W,CTDOXY,CTDOXY_FLAG_W,OXYGEN,OXYGEN_FLAG_W,SILCAT,SILCAT_FLAG_W,NINI,NINI_FLAG_W,PHSPHT,PHSPHT_FLAG_W,REVP
,,,,,,,,,,,,DB,IPTS-68,PSS-78,,PSS-78,,UMOL/KG,,UMOL/KG,,UMOL/KG,,UMOL/KG,,UMOL/KG,,DBAR
           NA,HOT timeseries 1988to2019 27SEP2021,      2,  99,-999.0,    8009,-999.0,20180225,2132,  22.7500, -158.0005,  4753, 3402.300,    1.485,   34.677,2,   34.677,2,  136.900,2,  137.000,2,  156.820,2,   37.190,2,    2.600,2, -999.000
           NA,HOT timeseries 1988to2019 27SEP2021,      2,  99,-999.0,    8008,-999.0,20180225,2132,  22.7500, -158.0005,  4753, 3603.100,    1.467,   34.680,2,   34.680,2,  141.300,2,  141.000,2, -999.000,3,   36.780,2,    2.590,2, -999.000
           NA,HOT timeseries 1988to2019 27SEP2021,      2,  99,-999.0,    8060,-999.0,20180225,2132,  22.7500, -158.0005,  4753, 3803.000,    1.463,   34.683,2,   34.683,2,  145.100,2,  145.100,2,  153.150,2,   36.470,2,    2.560,2, -999.000
           NA,HOT timeseries 1988to2019 27SEP2021,      2,  99,-999.0,    8006,-999.0,20180225,2132,  22.7500, -158.0005,  4753, 4002.900,    1.463,   34.684,2,   34.684,2,  147.900,2,  148.000,2,  151.060,2,   36.240,2,    2.530,2, -999.000
           NA,HOT timeseries 1988to2019 27SEP2021,      2,  99,-999.0,    8005,-999.0,20180225,2132,  22.7500, -158.0005,  4753, 4201.500,    1.469,   34.686,2,   34.687,2,  150.400,2,  150.400,2,  149.910,2,   36.100,2,    2.510,2, -999.000
           NA,HOT timeseries 1988to2019 27SEP2021,      2,  99,-999.0,    8059,-999.0,20180225,2132,  22.7500, -158.0005,  4753, 4405.000,    1.485,   34.687,2,   34.686,2,  151.700,2,  151.200,2,  150.200,2,   36.110,2,    2.500,2, -999.000
           NA,HOT timeseries 1988to2019 27SEP2021,      2,  99,-999.0,    8003,-999.0,20180225,2132,  22.7500, -158.0005,  4753, 4503.700,    1.493,   34.687,2,   34.687,2,  152.100,2,  152.100,2,  148.670,2,   35.830,2,    2.480,2, -999.000
           NA,HOT timeseries 1988to2019 27SEP2021,      2,  99,-999.0,    8002,-999.0,20180225,2132,  22.7500, -158.0005,  4753, 4602.900,    1.501,   34.687,2,   34.687,2,  152.400,2,  152.200,2,  148.570,2,   35.940,2,    2.500,2, -999.000
           NA,HOT timeseries 1988to2019 27SEP2021,      2,  99,-999.0,    8001,-999.0,20180225,2132,  22.7500, -158.0005,  4753, 4804.300,    1.517,   34.688,2,   34.688,2,  153.800,2,  154.000,2,  147.940,2,   35.670,2,    2.490,2, -999.000
           NA,HOT timeseries 1988to2019 27SEP2021,      2,  99,-999.0,    8058,-999.0,20180418,0133,  22.7550, -158.0010,  4803,    5.800,   23.571,   35.076,2,   35.077,2,  215.500,2,  215.600,2,    1.210,2,    0.130,2,    0.030,2, -999.000
           NA,HOT timeseries 1988to2019 27SEP2021,      2,  99,-999.0,    8023,-999.0,20180418,0133,  22.7550, -158.0010,  4803,   26.900,   23.496,   35.090,2,   35.091,2,  216.100,2,  216.000,2,    1.550,2,    0.140,2,    0.040,2, -999.000
           NA,HOT timeseries 1988to2019 27SEP2021,      2,  99,-999.0,    8022,-999.0,20180418,0133,  22.7550, -158.0010,  4803,   75.500,   22.617,   35.163,2,   35.164,2,  216.200,2,  216.800,2,    1.490,2,    0.150,2,    0.040,2, -999.000
           NA,HOT timeseries 1988to2019 27SEP2021,      2,  99,-999.0,    8021,-999.0,20180418,0133,  22.7550, -158.0010,  4803,  126.400,   21.984,   35.183,2, -999.000,4, -999.000,3,  204.600,2,    1.230,2,    0.140,2,    0.110,2, -999.000
           NA,HOT timeseries 1988to2019 27SEP2021,      2,  99,-999.0,    8019,-999.0,20180418,0133,  22.7550, -158.0010,  4803,  195.700,   19.304,   34.961,2,   34.956,2,  195.800,2,  197.300,2,    2.130,2,    0.790,2,    0.240,2, -999.000
           NA,HOT timeseries 1988to2019 27SEP2021,      2,  99,-999.0,    8018,-999.0,20180418,0133,  22.7550, -158.0010,  4803,  244.500,   16.772,   34.703,2,   34.703,2,  203.900,2,  203.500,2, -999.000,3,    2.570,2,    0.350,2, -999.000
           NA,HOT timeseries 1988to2019 27SEP2021,      2,  99,-999.0,    8017,-999.0,20180418,0133,  22.7550, -158.0010,  4803,  293.800,   13.799,   34.320,2, -999.000,3, -999.000,3,  204.200,2,    7.250,2,    7.800,2,    0.590,2, -999.000
           NA,HOT timeseries 1988to2019 27SEP2021,      2,  99,-999.0,    8016,-999.0,20180418,0133,  22.7550, -158.0010,  4803,  335.600,   12.027,   34.203,2,   34.203,2,  202.200,2,  201.300,2,   11.760,2,   11.880,2,    0.880,2, -999.000
           NA,HOT timeseries 1988to2019 27SEP2021,      2,  99,-999.0,    8015,-999.0,20180418,0133,  22.7550, -158.0010,  4803,  384.000,   10.182,   34.107,2,   34.107,2,  186.600,2,  186.100,2,   19.440,2,   17.310,2,    1.250,2, -999.000
           NA,HOT timeseries 1988to2019 27SEP2021,      2,  99,-999.0,    8014,-999.0,20180418,0133,  22.7550, -158.0010,  4803,  430.200,    8.746,   34.081,2,   34.081,2,  147.400,2,  147.100,2,   30.950,2,   23.410,2,    1.740,2, -999.000
           NA,HOT timeseries 1988to2019 27SEP2021,      2,  99,-999.0,    8025,-999.0,20180418,0133,  22.7550, -158.0010,  4803,  480.900,    7.161,   34.027,2,   34.027,2,  124.400,2,  121.500,2, -999.000,3,   28.870,2,    2.080,2, -999.000
           NA,HOT timeseries 1988to2019 27SEP2021,      2,  99,-999.0,    8012,-999.0,20180418,0133,  22.7550, -158.0010,  4803,  523.900,    6.559,   34.040,2,   34.040,2,  100.500,2,   99.800,2,   51.140,2,   32.040,2,    2.330,2, -999.000
           NA,HOT timeseries 1988to2019 27SEP2021,      2,  99,-999.0,    8011,-999.0,20180418,0133,  22.7550, -158.0010,  4803,  562.100,    5.945,   34.068,2,   34.066,2,   74.300,2,   74.000,2,   57.870,2,   35.080,2,    2.580,2, -999.000
           NA,HOT timeseries 1988to2019 27SEP2021,      2,  99,-999.0,    8010,-999.0,20180418,0133,  22.7550, -158.0010,  4803,  610.400,    5.554,   34.123,2,   34.121,2,   48.700,2,   48.700,2,   66.210,2,   37.880,2,    2.830,2, -999.000
           NA,HOT timeseries 1988to2019 27SEP2021,      2,  99,-999.0,    8009,-999.0,20180418,0133,  22.7550, -158.0010,  4803,  676.700,    5.083,   34.201,2,   34.201,2,   32.200,2,   32.000,2,   74.520,2,   40.010,2,    2.970,2, -999.000
           NA,HOT timeseries 1988to2019 27SEP2021,      2,  99,-999.0,    8008,-999.0,20180418,0133,  22.7550, -158.0010,  4803,  725.000,    4.666,   34.222,2,   34.223,2,   30.200,2,   30.400,2,   87.620,2,   40.800,2,    3.010,2, -999.000
           NA,HOT timeseries 1988to2019 27SEP2021,      2,  99,-999.0,    8006,-999.0,20180418,0133,  22.7550, -158.0010,  4803,  813.500,    4.360,   34.317,2,   34.320,2,   30.500,2,   29.600,2,   99.900,2,   41.380,2,    3.050,2, -999.000
           NA,HOT timeseries 1988to2019 27SEP2021,      2,  99,-999.0,    8005,-999.0,20180418,0133,  22.7550, -158.0010,  4803,  853.300,    4.167,   34.362,2,   34.362,2,   31.800,2,   32.000,2,  102.370,2,   41.510,2,    3.050,2, -999.000
           NA,HOT timeseries 1988to2019 27SEP2021,      2,  99,-999.0,    8059,-999.0,20180418,0133,  22.7550, -158.0010,  4803,  887.400,    4.067,   34.385,2,   34.386,2,   33.700,2, -999.000,5,  106.850,2,   41.560,2,    3.050,2, -999.000
           NA,HOT timeseries 1988to2019 27SEP2021,      2,  99,-999.0,    8003,-999.0,20180418,0133,  22.7550, -158.0010,  4803,  922.600,    4.040,   34.408,2,   34.410,2,   36.300,2,   35.900,2,  109.800,2,   41.330,2,    3.030,2, -999.000
           NA,HOT timeseries 1988to2019 27SEP2021,      2,  99,-999.0,    8001,-999.0,20180418,0133,  22.7550, -158.0010,  4803, 1022.700,    3.899,   34.477,2,   34.481,2,   45.100,2,   45.200,2,  113.270,2,   41.280,2,    3.000,2, -999.000
           NA,HOT timeseries 1988to2019 27SEP2021,      2,  99,-999.0,    8020,-999.0,20180418,0133,  22.7550, -158.0010,  4803, 1201.600,    3.484,   34.530,2,   34.530,2,   53.100,2,   53.000,2,  120.040,2,   41.550,2,    3.020,2, -999.000
           NA,HOT timeseries 1988to2019 27SEP2021,      2,  99,-999.0,    8019,-999.0,20180418,0133,  22.7550, -158.0010,  4803, 1404.100,    2.996,   34.561,2,   34.562,2,   60.900,2,   60.600,2,  129.970,2,   41.210,2,    2.990,2, -999.000
           NA,HOT timeseries 1988to2019 27SEP2021,      2,  99,-999.0,    8018,-999.0,20180418,0133,  22.7550, -158.0010,  4803, 1601.300,    2.556,   34.584,2,   34.586,2,   73.000,2,   73.000,2,  138.910,2,   40.810,2,    2.930,2, -999.000
           NA,HOT timeseries 1988to2019 27SEP2021,      2,  99,-999.0,    8017,-999.0,20180418,0133,  22.7550, -158.0010,  4803, 1800.000,    2.220,   34.607,2,   34.608,2,   84.000,2,   82.600,2, -999.000,3,   40.450,2,    2.860,2, -999.000
           NA,HOT timeseries 1988to2019 27SEP2021,      2,  99,-999.0,    8016,-999.0,20180418,0133,  22.7550, -158.0010,  4803, 1999.900,    2.017,   34.622,2,   34.624,2,   91.100,2,   91.100,2,  150.750,2,   40.120,2,    2.820,2, -999.000
           NA,HOT timeseries 1988to2019 27SEP2021,      2,  99,-999.0,    8015,-999.0,20180418,0133,  22.7550, -158.0010,  4803, 2202.600,    1.845,   34.636,2,   34.637,2,   97.700,2,   97.200,2,  153.450,2,   39.280,2,    2.780,2, -999.000
           NA,HOT timeseries 1988to2019 27SEP2021,      2,  99,-999.0,    8014,-999.0,20180418,0133,  22.7550, -158.0010,  4803, 2401.700,    1.724,   34.649,2,   34.649,2,  109.600,2,  111.100,2,  156.280,2,   38.290,2, -999.000,3, -999.000
           NA,HOT timeseries 1988to2019 27SEP2021,      2,  99,-999.0,    8025,-999.0,20180418,0133,  22.7550, -158.0010,  4803, 2600.200,    1.670,   34.655,2,   34.656,2,  113.900,2, -999.000,3,  158.650,2,   37.820,2,    2.670,2, -999.000
           NA,HOT timeseries 1988to2019 27SEP2021,      2,  99,-999.0,    8012,-999.0,20180418,0133,  22.7550, -158.0010,  4803, 2801.000,    1.600,   34.662,2,   34.662,2,  121.500,2,  122.900,2,  158.840,2,   37.390,2,    2.650,2, -999.000
           NA,HOT timeseries 1988to2019 27SEP2021,      2,  99,-999.0,    8011,-999.0,20180418,0133,  22.7550, -158.0010,  4803, 2998.300,    1.534,   34.669,2,   34.668,2,  128.000,2,  127.800,2,  158.000,2,   37.920,2,    2.630,2, -999.000
           NA,HOT timeseries 1988to2019 27SEP2021,      2,  99,-999.0,    8010,-999.0,20180418,0133,  22.7550, -158.0010,  4803, 3201.000,    1.496,   34.674,2,   34.673,2,  134.000,2,  134.700,2,  157.270,2,   37.150,2,    2.590,2, -999.000
           NA,HOT timeseries 1988to2019 27SEP2021,      2,  99,-999.0,    8009,-999.0,20180418,0133,  22.7550, -158.0010,  4803, 3398.400,    1.467,   34.678,2,   34.678,2,  139.700,2,  140.700,2,  153.600,2,   36.790,2,    2.560,2, -999.000
           NA,HOT timeseries 1988to2019 27SEP2021,      2,  99,-999.0,    8008,-999.0,20180418,0133,  22.7550, -158.0010,  4803, 3597.200,    1.450,   34.681,2,   34.682,2,  144.800,2,  145.200,2,  153.460,2,   36.390,2,    2.550,2, -999.000
           NA,HOT timeseries 1988to2019 27SEP2021,      2,  99,-999.0,    8060,-999.0,20180418,0133,  22.7550, -158.0010,  4803, 3799.100,    1.447,   34.684,2,   34.684,2,  148.500,2,  147.900,2,  152.270,2,   36.120,2,    2.520,2, -999.000
           NA,HOT timeseries 1988to2019 27SEP2021,      2,  99,-999.0,    8006,-999.0,20180418,0133,  22.7550, -158.0010,  4803, 4000.300,    1.452,   34.685,2,   34.685,2,  150.800,2,  150.500,2,  151.310,2,   35.940,2,    2.500,2, -999.000
           NA,HOT timeseries 1988to2019 27SEP2021,      2,  99,-999.0,    8005,-999.0,20180418,0133,  22.7550, -158.0010,  4803, 4200.100,    1.464,   34.686,2,   34.686,2,  152.500,2,  151.700,2,  148.520,2,   35.780,2,    2.490,2, -999.000
           NA,HOT timeseries 1988to2019 27SEP2021,      2,  99,-999.0,    8059,-999.0,20180418,0133,  22.7550, -158.0010,  4803, 4402.000,    1.480,   34.687,2,   34.687,2,  153.700,2,  153.600,2,  149.370,2,   35.690,2,    2.480,2, -999.000
           NA,HOT timeseries 1988to2019 27SEP2021,      2,  99,-999.0,    8003,-999.0,20180418,0133,  22.7550, -158.0010,  4803, 4501.900,    1.488,   34.687,2,   34.686,2,  154.100,2,  153.400,2,  148.560,2,   35.650,2,    2.490,2, -999.000
           NA,HOT timeseries 1988to2019 27SEP2021,      2,  99,-999.0,    8002,-999.0,20180418,0133,  22.7550, -158.0010,  4803, 4597.500,    1.498,   34.687,2,   34.686,2,  154.300,2,  154.600,2,  149.110,2,   35.530,2,    2.490,2, -999.000
           NA,HOT timeseries 1988to2019 27SEP2021,      2,  99,-999.0,    8001,-999.0,20180418,0133,  22.7550, -158.0010,  4803, 4805.900,    1.506,   34.688,2,   34.690,2,  156.700,2,  155.000,2,  147.180,2,   35.240,2,    2.460,2, -999.000
           NA,HOT timeseries 1988to2019 27SEP2021,      2,  99,-999.0,    8058,-999.0,20180515,2220,  22.7505, -158.0023,  4721,    8.600,   24.453,   34.787,2,   34.790,2,  212.100,2,  212.000,2,    1.320,2,    0.000,2,    0.090,2, -999.000
           NA,HOT timeseries 1988to2019 27SEP2021,      2,  99,-999.0,    8023,-999.0,20180515,2220,  22.7505, -158.0023,  4721,   54.900,   23.001,   35.112,2,   35.112,2,  220.200,2,  219.900,2,    1.840,2,    0.000,2,    0.060,2, -999.000
           NA,HOT timeseries 1988to2019 27SEP2021,      2,  99,-999.0,    8022,-999.0,20180515,2220,  22.7505, -158.0023,  4721,   90.600,   22.415,   35.165,2,   35.165,2,  217.000,2,  216.400,2,    2.040,2,    0.000,2,    0.060,2, -999.000
           NA,HOT timeseries 1988to2019 27SEP2021,      2,  99,-999.0,    8021,-999.0,20180515,2220,  22.7505, -158.0023,  4721,  125.100,   21.403,   35.158,2,   35.159,2,  207.600,2,  207.100,2, -999.000,3,    0.270,2,    0.120,2, -999.000
           NA,HOT timeseries 1988to2019 27SEP2021,      2,  99,-999.0,    8020,-999.0,20180515,2220,  22.7505, -158.0023,  4721,  170.900,   18.901,   34.910,2,   34.908,2,  194.400,2,  196.100,2,    3.070,2,    2.580,2,    0.180,2, -999.000
           NA,HOT timeseries 1988to2019 27SEP2021,      2,  99,-999.0,    8019,-999.0,20180515,2220,  22.7505, -158.0023,  4721,  227.500,   15.550,   34.539,2, -999.000,4, -999.000,3,  203.900,2,    6.670,2,    5.680,2,    0.510,2, -999.000
           NA,HOT timeseries 1988to2019 27SEP2021,      2,  99,-999.0,    8018,-999.0,20180515,2220,  22.7505, -158.0023,  4721,  267.200,   13.376,   34.321,2,   34.316,2,  205.000,2,  205.000,2,    9.190,2,    8.660,2,    0.690,2, -999.000
           NA,HOT timeseries 1988to2019 27SEP2021,      2,  99,-999.0,    8017,-999.0,20180515,2220,  22.7505, -158.0023,  4721,  307.100,   11.941,   34.208,2,   34.210,2,  202.700,2,  203.900,2,   14.200,2,   11.810,2,    0.900,2, -999.000
           NA,HOT timeseries 1988to2019 27SEP2021,      2,  99,-999.0,    8016,-999.0,20180515,2220,  22.7505, -158.0023,  4721,  354.100,   10.331,   34.107,2,   34.108,2,  192.100,2,  191.400,2,   18.660,2,   16.200,2,    1.200,2, -999.000
           NA,HOT timeseries 1988to2019 27SEP2021,      2,  99,-999.0,    8015,-999.0,20180515,2220,  22.7505, -158.0023,  4721,  411.200,    8.853,   34.071,2, -999.000,3, -999.000,3,  160.500,2,   29.600,2,   22.130,2,    1.610,2, -999.000
           NA,HOT timeseries 1988to2019 27SEP2021,      2,  99,-999.0,    8014,-999.0,20180515,2220,  22.7505, -158.0023,  4721,  443.300,    8.027,   34.056,2,   34.056,2,  133.800,2,  128.800,2,   40.210,2,   26.700,2,    1.970,2, -999.000
           NA,HOT timeseries 1988to2019 27SEP2021,      2,  99,-999.0,    8025,-999.0,20180515,2220,  22.7505, -158.0023,  4721,  475.700,    7.313,   34.053,2,   34.053,2,  112.800,2,  112.800,2,   46.160,2,   29.080,2,    2.140,2, -999.000
           NA,HOT timeseries 1988to2019 27SEP2021,      2,  99,-999.0,    8012,-999.0,20180515,2220,  22.7505, -158.0023,  4721,  510.800,    6.733,   34.062,2,   34.066,2,   90.700,2,   88.100,2,   55.970,2,   32.600,2,    1.990,2, -999.000
           NA,HOT timeseries 1988to2019 27SEP2021,      2,  99,-999.0,    8011,-999.0,20180515,2220,  22.7505, -158.0023,  4721,  559.100,    6.004,   34.097,2,   34.097,2,   62.200,2,   61.400,2,   66.850,2,   35.590,2,    2.710,2, -999.000
           NA,HOT timeseries 1988to2019 27SEP2021,      2,  99,-999.0,    8010,-999.0,20180515,2220,  22.7505, -158.0023,  4721,  601.700,    5.498,   34.137,2,   34.137,2,   45.800,2,   46.800,2,   75.640,2,   38.140,2,    2.860,2, -999.000
           NA,HOT timeseries 1988to2019 27SEP2021,      2,  99,-999.0,    8009,-999.0,20180515,2220,  22.7505, -158.0023,  4721,  657.200,    4.910,   34.187,2,   34.188,2,   34.100,2,   35.300,2,   88.830,2,   40.150,2,    3.000,2, -999.000
           NA,HOT timeseries 1988to2019 27SEP2021,      2,  99,-999.0,    8008,-999.0,20180515,2220,  22.7505, -158.0023,  4721,  702.700,    4.659,   34.224,2,   34.225,2,   31.500,2,   32.000,2,   95.740,2,   40.670,2,    3.040,2, -999.000
           NA,HOT timeseries 1988to2019 27SEP2021,      2,  99,-999.0,    8005,-999.0,20180515,2220,  22.7505, -158.0023,  4721,  857.000,    4.360,   34.433,2,   34.434,2,   37.800,2,   37.300,2,  101.640,2,   41.320,2,    3.090,2, -999.000
           NA,HOT timeseries 1988to2019 27SEP2021,      2,  99,-999.0,    8059,-999.0,20180515,2220,  22.7505, -158.0023,  4721,  903.700,    4.292,   34.453,2,   34.453,2,   39.600,2,   39.300,2,  103.270,2,   41.140,2,    3.080,2, -999.000
           NA,HOT timeseries 1988to2019 27SEP2021,      2,  99,-999.0,    8003,-999.0,20180515,2220,  22.7505, -158.0023,  4721,  949.800,    4.193,   34.470,2,   34.471,2,   41.300,2,   40.600,2,  106.020,2,   41.020,2, -999.000,3, -999.000
           NA,HOT timeseries 1988to2019 27SEP2021,      2,  99,-999.0,    8001,-999.0,20180515,2220,  22.7505, -158.0023,  4721, 1021.000,    4.027,   34.491,2,   34.493,2,   41.800,2,   41.300,2,  108.870,2,   41.200,2,    3.060,2, -999.000
           NA,HOT timeseries 1988to2019 27SEP2021,      2,  99,-999.0,    8020,-999.0,20180515,2220,  22.7505, -158.0023,  4721, 1200.700,    3.502,   34.531,2,   34.530,2,   50.700,2,   51.000,2,  119.430,2,   42.000,2, -999.000,4, -999.000
           NA,HOT timeseries 1988to2019 27SEP2021,      2,  99,-999.0,    8019,-999.0,20180515,2220,  22.7505, -158.0023,  4721, 1401.400,    3.073,   34.558,2,   34.558,2,   59.600,2,   59.100,2,  129.910,2,   41.950,2, -999.000,4, -999.000
           NA,HOT timeseries 1988to2019 27SEP2021,      2,  99,-999.0,    8018,-999.0,20180515,2220,  22.7505, -158.0023,  4721, 1602.000,    2.707,   34.582,2,   34.582,2,   70.800,2,   70.900,2,  137.600,2,   40.700,2, -999.000,4, -999.000
           NA,HOT timeseries 1988to2019 27SEP2021,      2,  99,-999.0,    8017,-999.0,20180515,2220,  22.7505, -158.0023,  4721, 1802.200,    2.388,   34.602,2,   34.602,2,   81.200,2,   80.600,2,  144.830,2,   39.470,2, -999.000,4, -999.000
           NA,HOT timeseries 1988to2019 27SEP2021,      2,  99,-999.0,    8016,-999.0,20180515,2220,  22.7505, -158.0023,  4721, 2002.000,    2.126,   34.619,2,   34.619,2,   88.600,2,   88.900,2,  150.310,2,   39.100,2, -999.000,4, -999.000
           NA,HOT timeseries 1988to2019 27SEP2021,      2,  99,-999.0,    8015,-999.0,20180515,2220,  22.7505, -158.0023,  4721, 2201.600,    1.933,   34.631,2,   34.632,2,   94.800,2,   94.000,2,  155.470,2,   38.970,2, -999.000,4, -999.000
           NA,HOT timeseries 1988to2019 27SEP2021,      2,  99,-999.0,    8014,-999.0,20180515,2220,  22.7505, -158.0023,  4721, 2401.400,    1.794,   34.644,2,   34.645,2,  102.700,2,  103.500,2,  157.450,2,   38.450,2, -999.000,4, -999.000
           NA,HOT timeseries 1988to2019 27SEP2021,      2,  99,-999.0,    8025,-999.0,20180515,2220,  22.7505, -158.0023,  4721, 2601.900,    1.699,   34.654,2,   34.654,2,  110.600,2,  111.200,2,  158.510,2,   37.990,2, -999.000,4, -999.000
           NA,HOT timeseries 1988to2019 27SEP2021,      2,  99,-999.0,    8012,-999.0,20180515,2220,  22.7505, -158.0023,  4721, 2800.800,    1.620,   34.662,2,   34.663,2,  119.500,2,  119.500,2,  157.700,2,   37.390,2, -999.000,4, -999.000
           NA,HOT timeseries 1988to2019 27SEP2021,      2,  99,-999.0,    8011,-999.0,20180515,2220,  22.7505, -158.0023,  4721, 3002.000,    1.561,   34.668,2,   34.668,2,  124.400,2,  124.700,2,  157.780,2,   37.270,2, -999.000,4, -999.000