BOTTLE,20214727JOAExport
EXPOCODE,SECT_ID,STNNBR,CASTNO,SAMPNO,BTLNBR,BTLNBR_FLAG_W,DATE,TIME,LATITUDE,LONGITUDE,DEPTH,CTDPRS,CTDTMP,CTDSAL,CTDSAL_FLAG_W,SALNTY,SALNTY_FLAG_W,CTDOXY,CTDOXY_FLAG_W,OXYGEN,OXYGEN_FLAG_W,SILCAT,SILCAT_FLAG_W,NINI,NINI_FLAG_W,PHSPHT,PHSPHT_FLAG_W,REVP
,,,,,,,,,,,,DB,IPTS-68,PSS-78,,PSS-78,,UMOL/KG,,UMOL/KG,,UMOL/KG,,UMOL/KG,,UMOL/KG,,DBAR
           NA,HOT timeseries 1988to2019 27SEP2021,    119,  99,-999.0,      19,-999.0,20010214,1401,  22.7460, -157.9957,  4727,    4.200,   23.372,   35.310,2,   35.309,2,  213.100,2,  212.800,2,    1.480,2,    0.000,2,    0.070,2, -999.000
           NA,HOT timeseries 1988to2019 27SEP2021,    119,  99,-999.0,      31,-999.0,20010214,1401,  22.7460, -157.9957,  4727,    4.300,   23.417,   35.287,2,   35.289,2,  212.800,2,  212.200,2,    1.930,2,    0.030,2,    0.070,2, -999.000
           NA,HOT timeseries 1988to2019 27SEP2021,    119,  99,-999.0,      18,-999.0,20010214,1401,  22.7460, -157.9957,  4727,   13.900,   23.379,   35.310,2,   35.310,2,  213.100,2, -999.000,5,    1.520,2,    0.000,2,    0.070,2, -999.000
           NA,HOT timeseries 1988to2019 27SEP2021,    119,  99,-999.0,      16,-999.0,20010214,1401,  22.7460, -157.9957,  4727,   25.000,   23.380,   35.310,2, -999.000,4, -999.000,3,  212.600,2,    1.500,2,    0.000,2,    0.060,2, -999.000
           NA,HOT timeseries 1988to2019 27SEP2021,    119,  99,-999.0,      23,-999.0,20010214,1401,  22.7460, -157.9957,  4727,   33.800,   23.387,   35.310,2,   35.309,2,  213.100,2, -999.000,5,    1.490,2,    0.000,2,    0.070,2, -999.000
           NA,HOT timeseries 1988to2019 27SEP2021,    119,  99,-999.0,      14,-999.0,20010214,1401,  22.7460, -157.9957,  4727,   43.900,   23.387,   35.313,2,   35.312,2,  213.000,2,  212.400,2,    1.500,2,    0.010,2,    0.060,2, -999.000
           NA,HOT timeseries 1988to2019 27SEP2021,    119,  99,-999.0,      13,-999.0,20010214,1401,  22.7460, -157.9957,  4727,   59.500,   23.394,   35.316,2,   35.315,2,  213.000,2, -999.000,5,    1.520,2,    0.010,2,    0.070,2, -999.000
           NA,HOT timeseries 1988to2019 27SEP2021,    119,  99,-999.0,      12,-999.0,20010214,1401,  22.7460, -157.9957,  4727,   73.800,   23.408,   35.399,2,   35.397,2,  212.800,2,  211.800,2,    1.440,2,    0.010,2,    0.050,2, -999.000
           NA,HOT timeseries 1988to2019 27SEP2021,    119,  99,-999.0,      11,-999.0,20010214,1401,  22.7460, -157.9957,  4727,   86.600,   22.745,   35.363,2,   35.363,2,  210.300,2,  209.900,2, -999.000,5, -999.000,5, -999.000,5, -999.000
           NA,HOT timeseries 1988to2019 27SEP2021,    119,  99,-999.0,      32,-999.0,20010214,1401,  22.7460, -157.9957,  4727,   99.100,   21.821,   35.286,2,   35.286,2,  213.200,2,  213.000,2,    1.930,2,    0.080,2,    0.070,2, -999.000
           NA,HOT timeseries 1988to2019 27SEP2021,    119,  99,-999.0,       3,-999.0,20010214,1401,  22.7460, -157.9957,  4727,  114.100,   21.027,   35.248,2,   35.249,2,  207.300,2,  207.400,2, -999.000,5, -999.000,5, -999.000,5, -999.000
           NA,HOT timeseries 1988to2019 27SEP2021,    119,  99,-999.0,      29,-999.0,20010214,1401,  22.7460, -157.9957,  4727,  123.200,   20.600,   35.230,2,   35.233,2,  203.400,2,  202.600,2,    2.250,2,    0.900,2,    0.140,2, -999.000
           NA,HOT timeseries 1988to2019 27SEP2021,    119,  99,-999.0,      28,-999.0,20010214,1401,  22.7460, -157.9957,  4727,  151.300,   19.340,   35.093,2,   35.102,2,  199.700,2,  199.600,2,    2.830,2,    1.760,2,    0.200,2, -999.000
           NA,HOT timeseries 1988to2019 27SEP2021,    119,  99,-999.0,       7,-999.0,20010214,1401,  22.7460, -157.9957,  4727,  165.500,   19.085,   35.068,2,   35.075,2,  200.700,2,  199.000,2, -999.000,5, -999.000,5, -999.000,5, -999.000
           NA,HOT timeseries 1988to2019 27SEP2021,    119,  99,-999.0,      38,-999.0,20010214,1401,  22.7460, -157.9957,  4727,  173.800,   18.764,   35.022,2,   35.040,2,  200.300,2,  198.800,2,    3.130,2,    2.250,2,    0.220,2, -999.000
           NA,HOT timeseries 1988to2019 27SEP2021,    119,  99,-999.0,      36,-999.0,20010214,1401,  22.7460, -157.9957,  4727,  198.400,   17.081,   34.768,2,   34.782,2,  192.200,2,  194.300,2,    4.300,2,    4.010,2,    0.350,2, -999.000
           NA,HOT timeseries 1988to2019 27SEP2021,    119,  99,-999.0,      30,-999.0,20010214,1401,  22.7460, -157.9957,  4727,  418.100,    8.943,   34.102,2,   34.100,2,  156.800,2,  152.100,2,   29.160,2,   21.700,2,    1.530,2, -999.000
           NA,HOT timeseries 1988to2019 27SEP2021,    119,  99,-999.0,      35,-999.0,20010214,1401,  22.7460, -157.9957,  4727,  473.700,    8.073,   34.086,2,   34.090,2,  134.600,2,  128.700,2, -999.000,5, -999.000,5, -999.000,5, -999.000
           NA,HOT timeseries 1988to2019 27SEP2021,    119,  99,-999.0,      34,-999.0,20010214,1401,  22.7460, -157.9957,  4727,  798.000,    4.633,   34.355,2,   34.358,2,   32.000,2,   29.700,2, -999.000,5, -999.000,5, -999.000,5, -999.000
           NA,HOT timeseries 1988to2019 27SEP2021,    119,  99,-999.0,      22,-999.0,20010214,1401,  22.7460, -157.9957,  4727,  848.800,    4.428,   34.407,2,   34.407,2,   32.200,2,   32.200,2,  100.100,2,   40.630,2, -999.000,3, -999.000
           NA,HOT timeseries 1988to2019 27SEP2021,    119,  99,-999.0,      21,-999.0,20010214,1401,  22.7460, -157.9957,  4727,  999.000,    4.073,   34.475,2,   34.475,2,   40.200,2,   40.000,2,  107.680,2,   41.070,2, -999.000,3, -999.000
           NA,HOT timeseries 1988to2019 27SEP2021,    119,  99,-999.0,      33,-999.0,20010214,1401,  22.7460, -157.9957,  4727, 1021.100,    3.874,   34.489,2,   34.495,2,   44.600,2,   43.400,2, -999.000,5, -999.000,5, -999.000,5, -999.000
           NA,HOT timeseries 1988to2019 27SEP2021,    119,  99,-999.0,      20,-999.0,20010214,1401,  22.7460, -157.9957,  4727, 1200.100,    3.522,   34.522,2,   34.521,2,   49.700,2,   50.200,2,  119.170,2,   41.050,2,    2.940,2, -999.000
           NA,HOT timeseries 1988to2019 27SEP2021,    119,  99,-999.0,      19,-999.0,20010214,1401,  22.7460, -157.9957,  4727, 1398.400,    3.014,   34.563,2,   34.560,2,   61.200,2,   61.000,2,  129.390,2,   40.600,2,    2.920,2, -999.000
           NA,HOT timeseries 1988to2019 27SEP2021,    119,  99,-999.0,      18,-999.0,20010214,1401,  22.7460, -157.9957,  4727, 1599.900,    2.636,   34.587,2,   34.588,2,   70.600,2,   71.800,2,  138.340,2,   40.050,2,    2.850,2, -999.000
           NA,HOT timeseries 1988to2019 27SEP2021,    119,  99,-999.0,      17,-999.0,20010214,1401,  22.7460, -157.9957,  4727, 1798.200,    2.320,   34.608,2,   34.607,2,   80.600,2,   81.200,2,  145.320,2,   39.480,2,    2.820,2, -999.000
           NA,HOT timeseries 1988to2019 27SEP2021,    119,  99,-999.0,      16,-999.0,20010214,1401,  22.7460, -157.9957,  4727, 2000.700,    2.062,   34.622,2, -999.000,3, -999.000,3,   88.500,2,  152.670,2,   39.210,2,    2.780,2, -999.000
           NA,HOT timeseries 1988to2019 27SEP2021,    119,  99,-999.0,      23,-999.0,20010214,1401,  22.7460, -157.9957,  4727, 2198.500,    1.881,   34.636,2,   34.635,2,   96.300,2,   96.500,2,  156.750,2,   38.810,2,    2.740,2, -999.000
           NA,HOT timeseries 1988to2019 27SEP2021,    119,  99,-999.0,      14,-999.0,20010214,1401,  22.7460, -157.9957,  4727, 2401.000,    1.747,   34.649,2,   34.648,2,  105.200,2,  106.300,2,  157.970,2,   38.110,2,    2.690,2, -999.000
           NA,HOT timeseries 1988to2019 27SEP2021,    119,  99,-999.0,      13,-999.0,20010214,1401,  22.7460, -157.9957,  4727, 2598.700,    1.665,   34.656,2,   34.657,2,  110.000,2,  111.300,2,  159.180,2,   37.700,2,    2.650,2, -999.000
           NA,HOT timeseries 1988to2019 27SEP2021,    119,  99,-999.0,      12,-999.0,20010214,1401,  22.7460, -157.9957,  4727, 2800.500,    1.578,   34.664,2,   34.664,2,  118.100,2,  118.900,2,  160.620,2,   37.530,2,    2.640,2, -999.000
           NA,HOT timeseries 1988to2019 27SEP2021,    119,  99,-999.0,      11,-999.0,20010214,1401,  22.7460, -157.9957,  4727, 3000.400,    1.524,   34.672,2,   34.672,2,  125.900,2,  126.800,2,  158.860,2,   36.850,2,    2.580,2, -999.000
           NA,HOT timeseries 1988to2019 27SEP2021,    119,  99,-999.0,      32,-999.0,20010214,1401,  22.7460, -157.9957,  4727, 3200.100,    1.491,   34.676,2,   34.676,2,  131.800,2,  132.800,2,  157.090,2,   36.560,2,    2.570,2, -999.000
           NA,HOT timeseries 1988to2019 27SEP2021,    119,  99,-999.0,       3,-999.0,20010214,1401,  22.7460, -157.9957,  4727, 3401.400,    1.464,   34.680,2,   34.681,2,  137.300,2,  138.300,2,  155.230,2,   36.260,2,    2.530,2, -999.000
           NA,HOT timeseries 1988to2019 27SEP2021,    119,  99,-999.0,      29,-999.0,20010214,1401,  22.7460, -157.9957,  4727, 3598.300,    1.451,   34.683,2,   34.685,2,  142.000,2,  142.400,2,  153.440,2,   36.000,2,    2.500,2, -999.000
           NA,HOT timeseries 1988to2019 27SEP2021,    119,  99,-999.0,      28,-999.0,20010214,1401,  22.7460, -157.9957,  4727, 3801.300,    1.449,   34.685,2, -999.000,3, -999.000,3,  145.700,2,  152.960,2,   35.900,2,    2.490,2, -999.000
           NA,HOT timeseries 1988to2019 27SEP2021,    119,  99,-999.0,       7,-999.0,20010214,1401,  22.7460, -157.9957,  4727, 3998.400,    1.458,   34.686,2,   34.686,2,  147.500,2,  147.400,2,  151.060,2,   35.540,2,    2.470,2, -999.000
           NA,HOT timeseries 1988to2019 27SEP2021,    119,  99,-999.0,      38,-999.0,20010214,1401,  22.7460, -157.9957,  4727, 4198.700,    1.469,   34.687,2,   34.687,2,  150.000,2,  149.400,2,  150.020,2,   35.480,2,    2.480,2, -999.000
           NA,HOT timeseries 1988to2019 27SEP2021,    119,  99,-999.0,      36,-999.0,20010214,1401,  22.7460, -157.9957,  4727, 4399.800,    1.480,   34.688,2,   34.687,2,  151.900,2,  150.900,2,  149.160,2,   35.360,2,    2.460,2, -999.000
           NA,HOT timeseries 1988to2019 27SEP2021,    119,  99,-999.0,      35,-999.0,20010214,1401,  22.7460, -157.9957,  4727, 4499.300,    1.488,   34.688,2,   34.688,2,  152.400,2,  151.700,2,  148.640,2,   35.410,2,    2.470,2, -999.000
           NA,HOT timeseries 1988to2019 27SEP2021,    119,  99,-999.0,      34,-999.0,20010214,1401,  22.7460, -157.9957,  4727, 4599.400,    1.494,   34.688,2,   34.688,2,  153.100,2,  152.600,2,  148.240,2,   35.270,2,    2.450,2, -999.000
           NA,HOT timeseries 1988to2019 27SEP2021,    119,  99,-999.0,      33,-999.0,20010214,1401,  22.7460, -157.9957,  4727, 4805.100,    1.506,   34.689,2,   34.691,2,  155.300,2,  154.100,2,  146.620,2,   35.260,2,    2.450,2, -999.000