BOTTLE,20214727JOAExport
EXPOCODE,SECT_ID,STNNBR,CASTNO,SAMPNO,BTLNBR,BTLNBR_FLAG_W,DATE,TIME,LATITUDE,LONGITUDE,DEPTH,CTDPRS,CTDTMP,CTDSAL,CTDSAL_FLAG_W,SALNTY,SALNTY_FLAG_W,CTDOXY,CTDOXY_FLAG_W,OXYGEN,OXYGEN_FLAG_W,SILCAT,SILCAT_FLAG_W,NINI,NINI_FLAG_W,PHSPHT,PHSPHT_FLAG_W,REVP
,,,,,,,,,,,,DB,IPTS-68,PSS-78,,PSS-78,,UMOL/KG,,UMOL/KG,,UMOL/KG,,UMOL/KG,,UMOL/KG,,DBAR
           NA,HOT timeseries 1988to2019 27SEP2021,      2,  99,-999.0,    8084,-999.0,20190904,2049,  22.7387, -158.0065,  4736,    4.600,   28.015,   34.665,2,   34.665,2,  201.600,2,  201.400,2, -999.000,3,    0.000,2,    0.050,2, -999.000
           NA,HOT timeseries 1988to2019 27SEP2021,      2,  99,-999.0,    8083,-999.0,20190904,2049,  22.7387, -158.0065,  4736,   52.100,   27.057,   34.666,2, -999.000,4, -999.000,3,  216.000,2,    1.910,2,    0.020,2,    0.030,2, -999.000
           NA,HOT timeseries 1988to2019 27SEP2021,      2,  99,-999.0,    8082,-999.0,20190904,2049,  22.7387, -158.0065,  4736,   64.800,   25.764,   34.839,2,   34.841,2,  222.500,2,  225.100,2,    1.170,2,    0.010,2,    0.030,2, -999.000
           NA,HOT timeseries 1988to2019 27SEP2021,      2,  99,-999.0,    8081,-999.0,20190904,2049,  22.7387, -158.0065,  4736,   75.100,   24.479,   34.832,2,   34.839,2,  221.300,2,  221.600,2,    1.810,2,    0.040,2,    0.050,2, -999.000
           NA,HOT timeseries 1988to2019 27SEP2021,      2,  99,-999.0,    8079,-999.0,20190904,2049,  22.7387, -158.0065,  4736,  102.800,   23.126,   35.113,2,   35.120,2,  220.500,2,  219.500,2,    1.660,2,    0.040,2,    0.030,2, -999.000
           NA,HOT timeseries 1988to2019 27SEP2021,      2,  99,-999.0,    8078,-999.0,20190904,2049,  22.7387, -158.0065,  4736,  111.900,   22.681,   35.125,2,   35.123,2,  217.900,2,  216.900,2,    1.760,2,    0.060,2,    0.040,2, -999.000
           NA,HOT timeseries 1988to2019 27SEP2021,      2,  99,-999.0,    8075,-999.0,20190904,2049,  22.7387, -158.0065,  4736,  177.600,   19.433,   35.013,2,   35.013,2,  201.400,2,  202.100,2,    2.700,2,    1.980,2,    0.190,2, -999.000
           NA,HOT timeseries 1988to2019 27SEP2021,      2,  99,-999.0,    8073,-999.0,20190904,2049,  22.7387, -158.0065,  4736,  310.500,   10.986,   34.139,2,   34.143,2,  192.300,2,  192.800,2,   16.130,2,   14.450,2,    1.050,2, -999.000
           NA,HOT timeseries 1988to2019 27SEP2021,      2,  99,-999.0,    8071,-999.0,20190904,2049,  22.7387, -158.0065,  4736,  340.200,   10.069,   34.097,2,   34.099,2,  169.900,2,  171.000,2,   21.630,2,   18.500,2,    1.360,2, -999.000
           NA,HOT timeseries 1988to2019 27SEP2021,      2,  99,-999.0,    8070,-999.0,20190904,2049,  22.7387, -158.0065,  4736,  384.200,    8.746,   34.070,2,   34.069,2,  160.100,2,  155.000,2,   30.360,2,   22.800,2,    1.630,2, -999.000
           NA,HOT timeseries 1988to2019 27SEP2021,      2,  99,-999.0,    8069,-999.0,20190904,2049,  22.7387, -158.0065,  4736,  445.000,    7.601,   34.083,2,   34.083,2,  113.400,2,  108.200,2,   44.940,2,   29.080,2,    2.120,2, -999.000
           NA,HOT timeseries 1988to2019 27SEP2021,      2,  99,-999.0,    8068,-999.0,20190904,2049,  22.7387, -158.0065,  4736,  482.200,    7.243,   34.143,2,   34.142,2,   79.000,2,   73.400,2,   51.590,2,   32.480,2,    2.400,2, -999.000
           NA,HOT timeseries 1988to2019 27SEP2021,      2,  99,-999.0,    8067,-999.0,20190904,2049,  22.7387, -158.0065,  4736,  515.600,    6.654,   34.186,2,   34.189,2,   55.200,2,   52.400,2,   61.280,2,   35.680,2,    2.670,2, -999.000
           NA,HOT timeseries 1988to2019 27SEP2021,      2,  99,-999.0,    8066,-999.0,20190904,2049,  22.7387, -158.0065,  4736,  570.300,    6.151,   34.224,2,   34.224,2,   41.900,2,   40.700,2,   69.060,2,   37.540,2,    2.770,2, -999.000
           NA,HOT timeseries 1988to2019 27SEP2021,      2,  99,-999.0,    8065,-999.0,20190904,2049,  22.7387, -158.0065,  4736,  644.800,    5.606,   34.295,2,   34.295,2,   32.900,2,   31.800,2,   78.970,2,   39.760,2,    2.910,2, -999.000
           NA,HOT timeseries 1988to2019 27SEP2021,      2,  99,-999.0,    8004,-999.0,20190904,2049,  22.7387, -158.0065,  4736,  700.100,    5.514,   34.360,2,   34.361,2,   31.400,2,   30.800,2,   83.710,2,   40.240,2,    2.940,2, -999.000
           NA,HOT timeseries 1988to2019 27SEP2021,      2,  99,-999.0,    8062,-999.0,20190904,2049,  22.7387, -158.0065,  4736,  843.800,    4.861,   34.449,2,   34.450,2,   34.900,2,   35.300,2,   92.710,2,   41.350,2,    3.010,2, -999.000
           NA,HOT timeseries 1988to2019 27SEP2021,      2,  99,-999.0,    8061,-999.0,20190904,2049,  22.7387, -158.0065,  4736, 1020.000,    4.222,   34.491,2,   34.490,2,   45.900,2,   46.700,2,  104.670,2,   41.350,2,    2.980,2, -999.000
           NA,HOT timeseries 1988to2019 27SEP2021,      2,  99,-999.0,    8080,-999.0,20190904,2049,  22.7387, -158.0065,  4736, 1200.100,    3.773,   34.523,2, -999.000,3, -999.000,3,   51.600,2,  114.070,2,   41.270,2,    2.970,2, -999.000
           NA,HOT timeseries 1988to2019 27SEP2021,      2,  99,-999.0,    8079,-999.0,20190904,2049,  22.7387, -158.0065,  4736, 1399.700,    3.196,   34.556,2,   34.557,2,   59.400,2,   59.600,2,  127.880,2,   41.500,2,    2.980,2, -999.000
           NA,HOT timeseries 1988to2019 27SEP2021,      2,  99,-999.0,    8078,-999.0,20190904,2049,  22.7387, -158.0065,  4736, 1600.500,    2.801,   34.574,2,   34.574,2,   69.500,2,   69.500,2,  135.700,2,   41.010,2,    2.930,2, -999.000
           NA,HOT timeseries 1988to2019 27SEP2021,      2,  99,-999.0,    8077,-999.0,20190904,2049,  22.7387, -158.0065,  4736, 1800.300,    2.456,   34.596,2,   34.596,2,   79.400,2,   79.900,2,  143.140,2,   40.300,2,    2.870,2, -999.000
           NA,HOT timeseries 1988to2019 27SEP2021,      2,  99,-999.0,    8076,-999.0,20190904,2049,  22.7387, -158.0065,  4736, 2000.800,    2.175,   34.613,2,   34.614,2,   86.200,2,   86.700,2,  150.220,2,   40.090,2,    2.830,2, -999.000
           NA,HOT timeseries 1988to2019 27SEP2021,      2,  99,-999.0,    8075,-999.0,20190904,2049,  22.7387, -158.0065,  4736, 2199.000,    1.995,   34.626,2,   34.626,2,   92.200,2,   92.600,2,  154.450,2,   39.790,2,    2.800,2, -999.000
           NA,HOT timeseries 1988to2019 27SEP2021,      2,  99,-999.0,    8074,-999.0,20190904,2049,  22.7387, -158.0065,  4736, 2401.700,    1.819,   34.640,2,   34.640,2,  100.600,2,  101.000,2,  158.370,2,   39.200,2,    2.760,2, -999.000
           NA,HOT timeseries 1988to2019 27SEP2021,      2,  99,-999.0,    8073,-999.0,20190904,2049,  22.7387, -158.0065,  4736, 2599.300,    1.704,   34.651,2,   34.650,2,  108.900,2,  109.600,2,  159.550,2,   38.670,2,    2.710,2, -999.000
           NA,HOT timeseries 1988to2019 27SEP2021,      2,  99,-999.0,    8072,-999.0,20190904,2049,  22.7387, -158.0065,  4736, 2798.300,    1.625,   34.659,2,   34.659,2,  116.300,2,  117.500,2,  159.340,2,   38.220,2,    2.670,2, -999.000
           NA,HOT timeseries 1988to2019 27SEP2021,      2,  99,-999.0,    8071,-999.0,20190904,2049,  22.7387, -158.0065,  4736, 2999.800,    1.589,   34.663,2,   34.664,2,  121.100,2,  122.000,2,  160.410,2,   37.850,2,    2.640,2, -999.000
           NA,HOT timeseries 1988to2019 27SEP2021,      2,  99,-999.0,    8070,-999.0,20190904,2049,  22.7387, -158.0065,  4736, 3200.200,    1.535,   34.671,2,   34.670,2,  128.800,2,  128.700,2,  157.910,2,   37.560,2,    2.610,2, -999.000
           NA,HOT timeseries 1988to2019 27SEP2021,      2,  99,-999.0,    8069,-999.0,20190904,2049,  22.7387, -158.0065,  4736, 3399.500,    1.503,   34.675,2,   34.675,2,  134.700,2,  136.000,2,  156.220,2,   36.990,2,    2.580,2, -999.000
           NA,HOT timeseries 1988to2019 27SEP2021,      2,  99,-999.0,    8068,-999.0,20190904,2049,  22.7387, -158.0065,  4736, 3600.400,    1.488,   34.679,2,   34.679,2,  139.200,2,  139.500,2,  155.240,2,   36.710,2,    2.550,2, -999.000
           NA,HOT timeseries 1988to2019 27SEP2021,      2,  99,-999.0,    8067,-999.0,20190904,2049,  22.7387, -158.0065,  4736, 3799.900,    1.473,   34.682,2,   34.682,2,  143.800,2,  143.500,2,  152.900,2,   36.250,2,    2.520,2, -999.000
           NA,HOT timeseries 1988to2019 27SEP2021,      2,  99,-999.0,    8066,-999.0,20190904,2049,  22.7387, -158.0065,  4736, 4000.700,    1.469,   34.684,2,   34.684,2,  147.500,2,  146.800,2,  152.160,2,   36.110,2,    2.510,2, -999.000
           NA,HOT timeseries 1988to2019 27SEP2021,      2,  99,-999.0,    8065,-999.0,20190904,2049,  22.7387, -158.0065,  4736, 4199.600,    1.475,   34.686,2,   34.685,2,  149.900,2,  149.500,2,  152.160,2,   36.000,2,    2.490,2, -999.000
           NA,HOT timeseries 1988to2019 27SEP2021,      2,  99,-999.0,    8004,-999.0,20190904,2049,  22.7387, -158.0065,  4736, 4401.000,    1.486,   34.687,2,   34.685,2,  151.800,2, -999.000,4,  152.240,2,   35.820,2,    2.490,2, -999.000
           NA,HOT timeseries 1988to2019 27SEP2021,      2,  99,-999.0,    8063,-999.0,20190904,2049,  22.7387, -158.0065,  4736, 4500.500,    1.494,   34.687,2,   34.687,2,  152.300,2,  152.900,2,  150.090,2,   35.760,2,    2.480,2, -999.000
           NA,HOT timeseries 1988to2019 27SEP2021,      2,  99,-999.0,    8062,-999.0,20190904,2049,  22.7387, -158.0065,  4736, 4600.800,    1.504,   34.687,2,   34.687,2,  152.800,2,  152.300,2,  149.800,2,   35.720,2,    2.470,2, -999.000
           NA,HOT timeseries 1988to2019 27SEP2021,      2,  99,-999.0,    8061,-999.0,20190904,2049,  22.7387, -158.0065,  4736, 4807.300,    1.516,   34.688,2,   34.688,2,  154.300,2,  152.700,2,  148.120,2,   35.550,2,    2.450,2, -999.000
           NA,HOT timeseries 1988to2019 27SEP2021,      2,  99,-999.0,    8084,-999.0,20191017,2312,  22.7498, -158.0000,  4734,    4.600,   27.325,   34.963,2, -999.000,4, -999.000,3,  201.600,2,    1.270,2,    0.010,2,    0.010,2, -999.000
           NA,HOT timeseries 1988to2019 27SEP2021,      2,  99,-999.0,    8083,-999.0,20191017,2312,  22.7498, -158.0000,  4734,   54.600,   22.983,   35.135,2,   35.141,2,  230.400,2, -999.000,4,    2.120,2,    0.020,2,    0.010,2, -999.000
           NA,HOT timeseries 1988to2019 27SEP2021,      2,  99,-999.0,    8082,-999.0,20191017,2312,  22.7498, -158.0000,  4734,   64.100,   21.774,   35.120,2,   35.125,2,  230.900,2, -999.000,4,    2.220,2,    0.030,2,    0.020,2, -999.000
           NA,HOT timeseries 1988to2019 27SEP2021,      2,  99,-999.0,    8026,-999.0,20191017,2312,  22.7498, -158.0000,  4734,  114.700,   19.799,   35.078,2,   35.075,2,  206.300,2, -999.000,4,    2.430,2,    1.100,2,    0.150,2, -999.000
           NA,HOT timeseries 1988to2019 27SEP2021,      2,  99,-999.0,    8079,-999.0,20191017,2312,  22.7498, -158.0000,  4734,  179.800,   16.335,   34.664,2, -999.000,3, -999.000,3, -999.000,4,    4.830,2,    4.490,2,    0.360,2, -999.000
           NA,HOT timeseries 1988to2019 27SEP2021,      2,  99,-999.0,    8078,-999.0,20191017,2312,  22.7498, -158.0000,  4734,  224.200,   13.922,   34.382,2,   34.387,2,  206.500,2, -999.000,4,    7.510,2,    7.810,2,    0.570,2, -999.000
           NA,HOT timeseries 1988to2019 27SEP2021,      2,  99,-999.0,    8077,-999.0,20191017,2312,  22.7498, -158.0000,  4734,  269.000,   12.051,   34.224,2,   34.225,2,  209.400,2,  209.700,2,   11.230,2,   11.260,2,    0.800,2, -999.000
           NA,HOT timeseries 1988to2019 27SEP2021,      2,  99,-999.0,    8076,-999.0,20191017,2312,  22.7498, -158.0000,  4734,  319.300,   10.465,   34.138,2,   34.137,2,  207.900,2,  207.700,2,   17.010,2,   14.720,2,    1.030,2, -999.000
           NA,HOT timeseries 1988to2019 27SEP2021,      2,  99,-999.0,    8075,-999.0,20191017,2312,  22.7498, -158.0000,  4734,  381.500,    8.833,   34.062,2,   34.063,2,  170.400,2,  175.300,2,   28.430,2,   21.190,2,    1.490,2, -999.000
           NA,HOT timeseries 1988to2019 27SEP2021,      2,  99,-999.0,    8074,-999.0,20191017,2312,  22.7498, -158.0000,  4734,  448.600,    7.316,   34.032,2,   34.032,2,  122.200,2,  121.100,2,   44.870,2, -999.000,3, -999.000,3, -999.000
           NA,HOT timeseries 1988to2019 27SEP2021,      2,  99,-999.0,    8073,-999.0,20191017,2312,  22.7498, -158.0000,  4734,  493.600,    6.669,   34.043,2,   34.044,2,   97.000,2,   97.400,2,   54.230,2,   32.220,2,    2.310,2, -999.000
           NA,HOT timeseries 1988to2019 27SEP2021,      2,  99,-999.0,    8072,-999.0,20191017,2312,  22.7498, -158.0000,  4734,  531.900,    5.914,   34.073,2,   34.072,2,   69.200,2,   70.100,2,   67.820,2,   35.990,2,    2.590,2, -999.000
           NA,HOT timeseries 1988to2019 27SEP2021,      2,  99,-999.0,    8071,-999.0,20191017,2312,  22.7498, -158.0000,  4734,  594.500,    5.426,   34.110,2,   34.109,2,   51.400,2,   51.400,2,   77.580,2,   38.360,2,    2.770,2, -999.000
           NA,HOT timeseries 1988to2019 27SEP2021,      2,  99,-999.0,    8070,-999.0,20191017,2312,  22.7498, -158.0000,  4734,  647.200,    4.968,   34.189,2,   34.188,2,   40.300,2,   40.700,2,   88.740,2,   39.980,2,    2.890,2, -999.000
           NA,HOT timeseries 1988to2019 27SEP2021,      2,  99,-999.0,    8069,-999.0,20191017,2312,  22.7498, -158.0000,  4734,  682.200,    4.787,   34.245,2,   34.245,2,   35.300,2,   34.500,2,   94.910,2,   40.690,2,    2.930,2, -999.000
           NA,HOT timeseries 1988to2019 27SEP2021,      2,  99,-999.0,    8068,-999.0,20191017,2312,  22.7498, -158.0000,  4734,  716.200,    4.704,   34.286,2,   34.285,2,   34.500,2,   33.600,2,   96.410,2,   41.020,2,    2.970,2, -999.000
           NA,HOT timeseries 1988to2019 27SEP2021,      2,  99,-999.0,    8067,-999.0,20191017,2312,  22.7498, -158.0000,  4734,  760.800,    4.602,   34.350,2,   34.349,2,   35.300,2,   36.300,2,   98.250,2,   41.270,2,    2.990,2, -999.000
           NA,HOT timeseries 1988to2019 27SEP2021,      2,  99,-999.0,    8065,-999.0,20191017,2312,  22.7498, -158.0000,  4734,  848.200,    4.369,   34.410,2,   34.410,2,   37.700,2,   37.400,2,  102.720,2,   41.570,2,    3.010,2, -999.000
           NA,HOT timeseries 1988to2019 27SEP2021,      2,  99,-999.0,    8063,-999.0,20191017,2312,  22.7498, -158.0000,  4734,  938.900,    4.176,   34.459,2,   34.459,2,   42.000,2,   42.000,2,  108.060,2,   41.460,2,    2.990,2, -999.000
           NA,HOT timeseries 1988to2019 27SEP2021,      2,  99,-999.0,    8061,-999.0,20191017,2312,  22.7498, -158.0000,  4734, 1019.400,    3.959,   34.484,2,   34.484,2,   45.900,2,   46.000,2,  111.460,2,   41.580,2,    2.980,2, -999.000
           NA,HOT timeseries 1988to2019 27SEP2021,      2,  99,-999.0,    8080,-999.0,20191017,2312,  22.7498, -158.0000,  4734, 1200.400,    3.462,   34.529,2, -999.000,5,   54.700,2, -999.000,5, -999.000,5, -999.000,5, -999.000,5, -999.000
           NA,HOT timeseries 1988to2019 27SEP2021,      2,  99,-999.0,    8079,-999.0,20191017,2312,  22.7498, -158.0000,  4734, 1399.500,    3.016,   34.552,2,   34.552,2,   62.500,2,   62.000,2,  131.200,2,   41.190,2,    2.960,2, -999.000
           NA,HOT timeseries 1988to2019 27SEP2021,      2,  99,-999.0,    8078,-999.0,20191017,2312,  22.7498, -158.0000,  4734, 1600.900,    2.670,   34.580,2,   34.580,2,   71.600,2,   72.000,2,  140.290,2,   40.730,2,    2.920,2, -999.000
           NA,HOT timeseries 1988to2019 27SEP2021,      2,  99,-999.0,    8077,-999.0,20191017,2312,  22.7498, -158.0000,  4734, 1800.900,    2.352,   34.602,2,   34.604,2,   83.300,2,   82.800,2,  147.980,2,   40.090,2,    2.860,2, -999.000
           NA,HOT timeseries 1988to2019 27SEP2021,      2,  99,-999.0,    8076,-999.0,20191017,2312,  22.7498, -158.0000,  4734, 2000.100,    2.135,   34.615,2,   34.616,2,   88.200,2,   87.000,2,  153.920,2,   39.880,2,    2.820,2, -999.000
           NA,HOT timeseries 1988to2019 27SEP2021,      2,  99,-999.0,    8075,-999.0,20191017,2312,  22.7498, -158.0000,  4734, 2201.000,    1.927,   34.631,2,   34.631,2,   95.500,2,   95.400,2,  156.410,2,   39.380,2,    2.790,2, -999.000
           NA,HOT timeseries 1988to2019 27SEP2021,      2,  99,-999.0,    8074,-999.0,20191017,2312,  22.7498, -158.0000,  4734, 2400.800,    1.796,   34.642,2,   34.642,2,  102.900,2,  103.000,2,  161.390,2,   38.930,2,    2.750,2, -999.000
           NA,HOT timeseries 1988to2019 27SEP2021,      2,  99,-999.0,    8073,-999.0,20191017,2312,  22.7498, -158.0000,  4734, 2600.400,    1.678,   34.653,2,   34.653,2,  111.300,2,  111.200,2,  160.320,2,   38.350,2,    2.700,2, -999.000
           NA,HOT timeseries 1988to2019 27SEP2021,      2,  99,-999.0,    8072,-999.0,20191017,2312,  22.7498, -158.0000,  4734, 2800.200,    1.590,   34.662,2,   34.661,2,  119.700,2,  120.100,2,  161.820,2,   37.790,2,    2.660,2, -999.000
           NA,HOT timeseries 1988to2019 27SEP2021,      2,  99,-999.0,    8071,-999.0,20191017,2312,  22.7498, -158.0000,  4734, 3000.100,    1.543,   34.667,2,   34.667,2,  125.400,2,  126.400,2,  159.810,2,   37.680,2,    2.620,2, -999.000
           NA,HOT timeseries 1988to2019 27SEP2021,      2,  99,-999.0,    8070,-999.0,20191017,2312,  22.7498, -158.0000,  4734, 3201.600,    1.500,   34.674,2,   34.673,2,  132.400,2,  132.600,2,  158.250,2,   37.100,2,    2.600,2, -999.000
           NA,HOT timeseries 1988to2019 27SEP2021,      2,  99,-999.0,    8069,-999.0,20191017,2312,  22.7498, -158.0000,  4734, 3400.600,    1.468,   34.678,2,   34.678,2,  138.600,2,  138.300,2,  155.820,2,   36.680,2,    2.570,2, -999.000
           NA,HOT timeseries 1988to2019 27SEP2021,      2,  99,-999.0,    8068,-999.0,20191017,2312,  22.7498, -158.0000,  4734, 3601.200,    1.454,   34.681,2,   34.682,2,  143.200,2,  143.100,2,  153.820,2,   36.420,2,    2.530,2, -999.000
           NA,HOT timeseries 1988to2019 27SEP2021,      2,  99,-999.0,    8067,-999.0,20191017,2312,  22.7498, -158.0000,  4734, 3800.600,    1.451,   34.683,2,   34.686,2,  146.600,2,  145.300,2,  153.280,2,   36.190,2,    2.530,2, -999.000
           NA,HOT timeseries 1988to2019 27SEP2021,      2,  99,-999.0,    8066,-999.0,20191017,2312,  22.7498, -158.0000,  4734, 3998.800,    1.457,   34.685,2,   34.685,2,  148.800,2,  148.100,2,  152.990,2,   36.050,2,    2.520,2, -999.000
           NA,HOT timeseries 1988to2019 27SEP2021,      2,  99,-999.0,    8065,-999.0,20191017,2312,  22.7498, -158.0000,  4734, 4199.500,    1.468,   34.686,2,   34.688,2,  150.500,2,  151.400,2,  151.790,2,   35.990,2,    2.520,2, -999.000
           NA,HOT timeseries 1988to2019 27SEP2021,      2,  99,-999.0,    8004,-999.0,20191017,2312,  22.7498, -158.0000,  4734, 4399.600,    1.484,   34.687,2,   34.687,2,  151.500,2,  151.200,2,  152.360,2,   35.910,2,    2.510,2, -999.000
           NA,HOT timeseries 1988to2019 27SEP2021,      2,  99,-999.0,    8063,-999.0,20191017,2312,  22.7498, -158.0000,  4734, 4500.700,    1.493,   34.687,2,   34.687,2,  151.900,2,  152.100,2,  151.890,2,   35.820,2,    2.500,2, -999.000
           NA,HOT timeseries 1988to2019 27SEP2021,      2,  99,-999.0,    8062,-999.0,20191017,2312,  22.7498, -158.0000,  4734, 4596.400,    1.502,   34.687,2,   34.689,2,  152.200,2,  152.700,2, -999.000,3,   35.790,2,    2.490,2, -999.000
           NA,HOT timeseries 1988to2019 27SEP2021,      2,  99,-999.0,    8061,-999.0,20191017,2312,  22.7498, -158.0000,  4734, 4776.400,    1.515,   34.688,2,   34.688,2,  153.300,2,  153.500,2, -999.000,3,   35.750,2,    2.490,2, -999.000
           NA,HOT timeseries 1988to2019 27SEP2021,      2,  99,-999.0,    8084,-999.0,20191219,2129,  22.7502, -157.9993,  4739,    4.600,   25.875,   34.714,2,   34.713,2,  204.700,2,  205.000,2,    1.620,2,    0.080,2,    0.070,2, -999.000
           NA,HOT timeseries 1988to2019 27SEP2021,      2,  99,-999.0,    8083,-999.0,20191219,2129,  22.7502, -157.9993,  4739,   56.100,   25.835,   34.712,2,   34.715,2,  204.800,2,  204.700,2,    1.490,2,    0.050,2,    0.060,2, -999.000
           NA,HOT timeseries 1988to2019 27SEP2021,      2,  99,-999.0,    8082,-999.0,20191219,2129,  22.7502, -157.9993,  4739,  110.600,   24.036,   34.779,2,   34.778,2,  206.400,2,  207.700,2,    1.530,2,    0.180,2,    0.120,2, -999.000