BOTTLE,20214727JOAExport
EXPOCODE,SECT_ID,STNNBR,CASTNO,SAMPNO,BTLNBR,BTLNBR_FLAG_W,DATE,TIME,LATITUDE,LONGITUDE,DEPTH,CTDPRS,CTDTMP,CTDSAL,CTDSAL_FLAG_W,SALNTY,SALNTY_FLAG_W,CTDOXY,CTDOXY_FLAG_W,OXYGEN,OXYGEN_FLAG_W,SILCAT,SILCAT_FLAG_W,NINI,NINI_FLAG_W,PHSPHT,PHSPHT_FLAG_W,REVP
,,,,,,,,,,,,DB,IPTS-68,PSS-78,,PSS-78,,UMOL/KG,,UMOL/KG,,UMOL/KG,,UMOL/KG,,UMOL/KG,,DBAR
           NA,HOT timeseries 1988to2019 27SEP2021,      2,  99,-999.0,    8010,-999.0,20171212,2130,  22.7333, -157.9985,  4744, 3404.700,    1.486,   34.676,2,   34.676,2,  136.800,2,  136.500,2,  158.590,2,   36.510,2,    2.580,2, -999.000
           NA,HOT timeseries 1988to2019 27SEP2021,      2,  99,-999.0,    8009,-999.0,20171212,2130,  22.7333, -157.9985,  4744, 3602.700,    1.470,   34.679,2,   34.678,2,  140.900,2,  140.500,2,  154.700,2,   36.290,2,    2.580,2, -999.000
           NA,HOT timeseries 1988to2019 27SEP2021,      2,  99,-999.0,    8008,-999.0,20171212,2130,  22.7333, -157.9985,  4744, 3803.900,    1.457,   34.682,2,   34.681,2,  145.500,2,  145.100,2,  153.980,2,   36.050,2,    2.560,2, -999.000
           NA,HOT timeseries 1988to2019 27SEP2021,      2,  99,-999.0,    8060,-999.0,20171212,2130,  22.7333, -157.9985,  4744, 4004.900,    1.457,   34.685,2,   34.684,2,  148.800,2,  148.300,2,  151.940,2,   35.850,2,    2.540,2, -999.000
           NA,HOT timeseries 1988to2019 27SEP2021,      2,  99,-999.0,    8006,-999.0,20171212,2130,  22.7333, -157.9985,  4744, 4202.800,    1.465,   34.686,2,   34.686,2,  150.700,2,  150.300,2,  150.580,2,   35.830,2,    2.550,2, -999.000
           NA,HOT timeseries 1988to2019 27SEP2021,      2,  99,-999.0,    8005,-999.0,20171212,2130,  22.7333, -157.9985,  4744, 4402.900,    1.478,   34.687,2,   34.687,2,  152.300,2,  151.800,2,  149.170,2,   35.510,2,    2.530,2, -999.000
           NA,HOT timeseries 1988to2019 27SEP2021,      2,  99,-999.0,    8059,-999.0,20171212,2130,  22.7333, -157.9985,  4744, 4407.300,    1.479,   34.687,2,   34.688,2,  152.400,2,  151.700,2,  149.920,2,   35.730,2,    2.530,2, -999.000
           NA,HOT timeseries 1988to2019 27SEP2021,      2,  99,-999.0,    8003,-999.0,20171212,2130,  22.7333, -157.9985,  4744, 4506.100,    1.487,   34.687,2,   34.689,2,  152.900,2,  153.000,2,  149.710,2,   35.620,2,    2.530,2, -999.000
           NA,HOT timeseries 1988to2019 27SEP2021,      2,  99,-999.0,    8002,-999.0,20171212,2130,  22.7333, -157.9985,  4744, 4604.700,    1.496,   34.687,2,   34.687,2,  153.200,2,  153.000,2,  149.840,2,   35.780,2,    2.520,2, -999.000
           NA,HOT timeseries 1988to2019 27SEP2021,      2,  99,-999.0,    8001,-999.0,20171212,2130,  22.7333, -157.9985,  4744, 4804.800,    1.519,   34.688,2,   34.688,2,  153.500,2,  153.800,2,  148.110,2,   35.660,2,    2.520,2, -999.000
           NA,HOT timeseries 1988to2019 27SEP2021,      2,  99,-999.0,    8058,-999.0,20180117,2050,  22.7508, -158.0008,  4749,    5.800,   24.453,   34.983,2,   34.984,2,  210.400,2,  210.900,2,    1.350,2,    0.000,2,    0.060,2, -999.000
           NA,HOT timeseries 1988to2019 27SEP2021,      2,  99,-999.0,    8023,-999.0,20180117,2050,  22.7508, -158.0008,  4749,   51.700,   23.549,   35.098,2,   35.099,2,  213.100,2,  213.300,2,    1.290,2,    0.000,2,    0.040,2, -999.000
           NA,HOT timeseries 1988to2019 27SEP2021,      2,  99,-999.0,    8022,-999.0,20180117,2050,  22.7508, -158.0008,  4749,  100.000,   23.296,   35.122,2,   35.122,2,  210.200,2,  209.900,2,    1.330,2,    0.000,2,    0.050,2, -999.000
           NA,HOT timeseries 1988to2019 27SEP2021,      2,  99,-999.0,    8021,-999.0,20180117,2050,  22.7508, -158.0008,  4749,  134.000,   21.296,   35.114,2,   35.107,2,  196.000,2,  196.300,2,    2.070,2,    1.270,2,    0.180,2, -999.000
           NA,HOT timeseries 1988to2019 27SEP2021,      2,  99,-999.0,    8020,-999.0,20180117,2050,  22.7508, -158.0008,  4749,  151.800,   20.087,   34.973,2,   34.982,2,  193.000,2, -999.000,3,    2.760,2,    2.480,2,    0.280,2, -999.000
           NA,HOT timeseries 1988to2019 27SEP2021,      2,  99,-999.0,    8017,-999.0,20180117,2050,  22.7508, -158.0008,  4749,  229.500,   15.016,   34.451,2,   34.455,2,  197.900,2,  195.700,2,    6.650,2,    6.780,2,    0.550,2, -999.000
           NA,HOT timeseries 1988to2019 27SEP2021,      2,  99,-999.0,    8016,-999.0,20180117,2050,  22.7508, -158.0008,  4749,  271.700,   13.078,   34.250,2,   34.251,2,  192.200,2,  190.600,2,    9.810,2,   10.360,2,    0.800,2, -999.000
           NA,HOT timeseries 1988to2019 27SEP2021,      2,  99,-999.0,    8015,-999.0,20180117,2050,  22.7508, -158.0008,  4749,  312.000,   11.407,   34.152,2,   34.152,2,  181.000,2,  183.100,2,   14.980,2,   14.570,2,    1.090,2, -999.000
           NA,HOT timeseries 1988to2019 27SEP2021,      2,  99,-999.0,    8014,-999.0,20180117,2050,  22.7508, -158.0008,  4749,  354.100,    9.947,   34.100,2,   34.105,2,  183.300,2,  183.200,2,   20.500,2,   17.690,2,    1.270,2, -999.000
           NA,HOT timeseries 1988to2019 27SEP2021,      2,  99,-999.0,    8025,-999.0,20180117,2050,  22.7508, -158.0008,  4749,  414.000,    8.389,   34.053,2,   34.051,2,  157.400,2, -999.000,4,   32.730,2,   23.710,2,    1.710,2, -999.000
           NA,HOT timeseries 1988to2019 27SEP2021,      2,  99,-999.0,    8012,-999.0,20180117,2050,  22.7508, -158.0008,  4749,  473.100,    7.056,   34.041,2,   34.042,2,  116.100,2,  119.000,2,   48.810,2,   29.430,2,    2.110,2, -999.000
           NA,HOT timeseries 1988to2019 27SEP2021,      2,  99,-999.0,    8011,-999.0,20180117,2050,  22.7508, -158.0008,  4749,  525.900,    6.355,   34.058,2,   34.059,2,   90.000,2,   88.300,2,   62.530,2,   33.550,2,    2.430,2, -999.000
           NA,HOT timeseries 1988to2019 27SEP2021,      2,  99,-999.0,    8010,-999.0,20180117,2050,  22.7508, -158.0008,  4749,  553.300,    5.831,   34.110,2,   34.114,2,   58.100,2,   55.500,2,   70.000,2,   36.980,2,    2.710,2, -999.000
           NA,HOT timeseries 1988to2019 27SEP2021,      2,  99,-999.0,    8009,-999.0,20180117,2050,  22.7508, -158.0008,  4749,  602.200,    5.455,   34.168,2,   34.167,2,   38.100,2,   39.300,2,   78.110,2,   38.750,2,    2.850,2, -999.000
           NA,HOT timeseries 1988to2019 27SEP2021,      2,  99,-999.0,    8008,-999.0,20180117,2050,  22.7508, -158.0008,  4749,  665.200,    4.899,   34.225,2, -999.000,4, -999.000,3,   35.500,2,   89.900,2,   40.240,2, -999.000,3, -999.000
           NA,HOT timeseries 1988to2019 27SEP2021,      2,  99,-999.0,    8006,-999.0,20180117,2050,  22.7508, -158.0008,  4749,  744.300,    4.688,   34.357,2,   34.357,2,   32.700,2,   33.000,2,   96.000,2,   41.050,2,    3.020,2, -999.000
           NA,HOT timeseries 1988to2019 27SEP2021,      2,  99,-999.0,    8059,-999.0,20180117,2050,  22.7508, -158.0008,  4749,  837.700,    4.428,   34.423,2,   34.423,2,   37.200,2,   37.300,2,  100.820,2,   41.340,2,    3.040,2, -999.000
           NA,HOT timeseries 1988to2019 27SEP2021,      2,  99,-999.0,    8003,-999.0,20180117,2050,  22.7508, -158.0008,  4749,  895.300,    4.194,   34.458,2,   34.458,2,   39.700,2,   39.700,2,  105.700,2,   41.520,2,    3.050,2, -999.000
           NA,HOT timeseries 1988to2019 27SEP2021,      2,  99,-999.0,    8002,-999.0,20180117,2050,  22.7508, -158.0008,  4749,  956.000,    4.054,   34.481,2,   34.481,2,   41.400,2,   41.400,2,  108.260,2,   41.720,2,    3.050,2, -999.000
           NA,HOT timeseries 1988to2019 27SEP2021,      2,  99,-999.0,    8001,-999.0,20180117,2050,  22.7508, -158.0008,  4749, 1021.000,    3.870,   34.502,2,   34.502,2,   45.500,2,   45.900,2,  111.950,2,   41.370,2,    3.030,2, -999.000
           NA,HOT timeseries 1988to2019 27SEP2021,      2,  99,-999.0,    8020,-999.0,20180117,2050,  22.7508, -158.0008,  4749, 1200.300,    3.489,   34.529,2,   34.530,2,   52.200,2,   51.900,2,  120.040,2,   41.340,2,    3.030,2, -999.000
           NA,HOT timeseries 1988to2019 27SEP2021,      2,  99,-999.0,    8019,-999.0,20180117,2050,  22.7508, -158.0008,  4749, 1401.200,    3.056,   34.560,2,   34.562,2,   59.500,2,   59.600,2,  129.970,2,   41.060,2,    3.000,2, -999.000
           NA,HOT timeseries 1988to2019 27SEP2021,      2,  99,-999.0,    8018,-999.0,20180117,2050,  22.7508, -158.0008,  4749, 1600.300,    2.684,   34.581,2,   34.581,2,   69.300,2,   69.500,2,  138.910,2,   40.600,2,    2.950,2, -999.000
           NA,HOT timeseries 1988to2019 27SEP2021,      2,  99,-999.0,    8017,-999.0,20180117,2050,  22.7508, -158.0008,  4749, 1801.700,    2.388,   34.603,2,   34.604,2,   80.300,2,   81.600,2,  143.440,2,   40.200,2,    2.910,2, -999.000
           NA,HOT timeseries 1988to2019 27SEP2021,      2,  99,-999.0,    8016,-999.0,20180117,2050,  22.7508, -158.0008,  4749, 2000.800,    2.124,   34.618,2,   34.619,2,   88.200,2,   88.000,2,  150.750,2,   39.730,2,    2.870,2, -999.000
           NA,HOT timeseries 1988to2019 27SEP2021,      2,  99,-999.0,    8015,-999.0,20180117,2050,  22.7508, -158.0008,  4749, 2200.400,    1.922,   34.634,2,   34.633,2,   96.500,2,   96.900,2,  153.450,2,   39.210,2,    2.810,2, -999.000
           NA,HOT timeseries 1988to2019 27SEP2021,      2,  99,-999.0,    8014,-999.0,20180117,2050,  22.7508, -158.0008,  4749, 2400.200,    1.798,   34.643,2,   34.645,2,  103.500,2,  103.700,2,  156.280,2,   38.740,2,    2.780,2, -999.000
           NA,HOT timeseries 1988to2019 27SEP2021,      2,  99,-999.0,    8025,-999.0,20180117,2050,  22.7508, -158.0008,  4749, 2600.900,    1.675,   34.654,2,   34.654,2,  111.400,2,  111.600,2,  158.650,2,   38.100,2,    2.740,2, -999.000
           NA,HOT timeseries 1988to2019 27SEP2021,      2,  99,-999.0,    8012,-999.0,20180117,2050,  22.7508, -158.0008,  4749, 2802.300,    1.610,   34.662,2,   34.661,2,  118.000,2,  118.300,2,  158.840,2,   37.850,2,    2.720,2, -999.000
           NA,HOT timeseries 1988to2019 27SEP2021,      2,  99,-999.0,    8011,-999.0,20180117,2050,  22.7508, -158.0008,  4749, 3001.900,    1.550,   34.669,2,   34.668,2,  125.800,2,  126.000,2,  158.000,2,   37.320,2,    2.660,2, -999.000
           NA,HOT timeseries 1988to2019 27SEP2021,      2,  99,-999.0,    8010,-999.0,20180117,2050,  22.7508, -158.0008,  4749, 3202.200,    1.515,   34.673,2,   34.673,2,  131.100,2,  131.200,2,  157.270,2,   37.120,2,    2.640,2, -999.000
           NA,HOT timeseries 1988to2019 27SEP2021,      2,  99,-999.0,    8009,-999.0,20180117,2050,  22.7508, -158.0008,  4749, 3400.900,    1.483,   34.678,2,   34.679,2,  137.700,2, -999.000,3, -999.000,3,   36.460,2,    2.590,2, -999.000
           NA,HOT timeseries 1988to2019 27SEP2021,      2,  99,-999.0,    8008,-999.0,20180117,2050,  22.7508, -158.0008,  4749, 3602.200,    1.461,   34.681,2,   34.681,2,  142.800,2,  142.700,2,  153.460,2,   36.360,2,    2.590,2, -999.000
           NA,HOT timeseries 1988to2019 27SEP2021,      2,  99,-999.0,    8060,-999.0,20180117,2050,  22.7508, -158.0008,  4749, 3801.500,    1.455,   34.683,2,   34.683,2,  146.200,2,  146.200,2,  151.830,2,   36.070,2,    2.560,2, -999.000
           NA,HOT timeseries 1988to2019 27SEP2021,      2,  99,-999.0,    8006,-999.0,20180117,2050,  22.7508, -158.0008,  4749, 4002.400,    1.453,   34.685,2,   34.685,2,  149.400,2,  149.200,2,  151.310,2,   35.930,2,    2.550,2, -999.000
           NA,HOT timeseries 1988to2019 27SEP2021,      2,  99,-999.0,    8005,-999.0,20180117,2050,  22.7508, -158.0008,  4749, 4202.800,    1.461,   34.687,2,   34.686,2,  151.600,2,  151.800,2,  148.520,2,   35.640,2,    2.530,2, -999.000
           NA,HOT timeseries 1988to2019 27SEP2021,      2,  99,-999.0,    8059,-999.0,20180117,2050,  22.7508, -158.0008,  4749, 4402.700,    1.477,   34.687,2,   34.687,2,  152.900,2,  152.300,2,  149.370,2,   35.630,2,    2.530,2, -999.000
           NA,HOT timeseries 1988to2019 27SEP2021,      2,  99,-999.0,    8003,-999.0,20180117,2050,  22.7508, -158.0008,  4749, 4502.600,    1.486,   34.688,2,   34.689,2,  153.400,2,  153.200,2,  148.560,2,   35.720,2,    2.520,2, -999.000
           NA,HOT timeseries 1988to2019 27SEP2021,      2,  99,-999.0,    8002,-999.0,20180117,2050,  22.7508, -158.0008,  4749, 4601.700,    1.496,   34.688,2,   34.686,2,  153.600,2,  153.400,2,  149.110,2,   35.640,2,    2.520,2, -999.000
           NA,HOT timeseries 1988to2019 27SEP2021,      2,  99,-999.0,    8001,-999.0,20180117,2050,  22.7508, -158.0008,  4749, 4805.100,    1.512,   34.688,2,   34.689,2,  155.600,2,  155.100,2,  147.180,2,   35.390,2,    2.500,2, -999.000
           NA,HOT timeseries 1988to2019 27SEP2021,      2,  99,-999.0,    8058,-999.0,20180225,2132,  22.7500, -158.0005,  4753,    5.800,   23.115,   35.030,2,   35.029,2,  214.200,2,  214.400,2,    1.220,2,    0.000,2,    0.030,2, -999.000
           NA,HOT timeseries 1988to2019 27SEP2021,      2,  99,-999.0,    8023,-999.0,20180225,2132,  22.7500, -158.0005,  4753,   52.200,   22.947,   35.131,2,   35.130,2,  214.600,2,  214.500,2,    1.430,2,    0.000,2,    0.020,2, -999.000
           NA,HOT timeseries 1988to2019 27SEP2021,      2,  99,-999.0,    8022,-999.0,20180225,2132,  22.7500, -158.0005,  4753,   98.000,   22.857,   35.203,2,   35.203,2,  210.200,2,  209.200,2,    1.170,2,    0.000,2,    0.040,2, -999.000
           NA,HOT timeseries 1988to2019 27SEP2021,      2,  99,-999.0,    8019,-999.0,20180225,2132,  22.7500, -158.0005,  4753,  174.200,   20.599,   35.190,2,   35.190,2,  211.800,2,  211.300,2, -999.000,4,    0.810,2,    0.090,2, -999.000
           NA,HOT timeseries 1988to2019 27SEP2021,      2,  99,-999.0,    8017,-999.0,20180225,2132,  22.7500, -158.0005,  4753,  231.600,   17.184,   34.757,2,   34.748,2,  207.600,2,  208.100,2,    4.410,2,    3.520,2,    0.300,2, -999.000
           NA,HOT timeseries 1988to2019 27SEP2021,      2,  99,-999.0,    8016,-999.0,20180225,2132,  22.7500, -158.0005,  4753,  270.100,   14.466,   34.445,2, -999.000,3, -999.000,3,  208.400,2,    7.180,2,    7.100,2,    0.540,2, -999.000
           NA,HOT timeseries 1988to2019 27SEP2021,      2,  99,-999.0,    8015,-999.0,20180225,2132,  22.7500, -158.0005,  4753,  311.900,   12.668,   34.264,2,   34.267,2,  210.400,2,  210.400,2,    9.590,2,    9.750,2,    0.710,2, -999.000
           NA,HOT timeseries 1988to2019 27SEP2021,      2,  99,-999.0,    8014,-999.0,20180225,2132,  22.7500, -158.0005,  4753,  351.500,   11.391,   34.180,2,   34.188,2,  211.600,2,  211.000,2,   13.040,2,   12.190,2,    0.880,2, -999.000
           NA,HOT timeseries 1988to2019 27SEP2021,      2,  99,-999.0,    8025,-999.0,20180225,2132,  22.7500, -158.0005,  4753,  413.600,    9.624,   34.089,2,   34.090,2,  189.400,2,  188.300,2,   21.770,2,   18.020,2,    1.280,2, -999.000
           NA,HOT timeseries 1988to2019 27SEP2021,      2,  99,-999.0,    8012,-999.0,20180225,2132,  22.7500, -158.0005,  4753,  476.700,    8.171,   34.049,2,   34.050,2,  138.300,2,  139.400,2,   36.950,2,   25.120,2,    1.840,2, -999.000
           NA,HOT timeseries 1988to2019 27SEP2021,      2,  99,-999.0,    8011,-999.0,20180225,2132,  22.7500, -158.0005,  4753,  527.800,    7.139,   34.060,2,   34.060,2,  100.100,2,   98.300,2,   49.140,2,   30.790,2,    2.280,2, -999.000
           NA,HOT timeseries 1988to2019 27SEP2021,      2,  99,-999.0,    8010,-999.0,20180225,2132,  22.7500, -158.0005,  4753,  554.300,    6.853,   34.076,2,   34.074,2,   83.600,2,   84.200,2,   54.390,2,   32.330,2,    2.400,2, -999.000
           NA,HOT timeseries 1988to2019 27SEP2021,      2,  99,-999.0,    8009,-999.0,20180225,2132,  22.7500, -158.0005,  4753,  598.700,    6.134,   34.096,2,   34.096,2,   62.100,2,   61.800,2,   65.530,2,   35.630,2,    2.650,2, -999.000
           NA,HOT timeseries 1988to2019 27SEP2021,      2,  99,-999.0,    8008,-999.0,20180225,2132,  22.7500, -158.0005,  4753,  663.800,    5.629,   34.202,2,   34.198,2,   33.300,2,   33.000,2,   76.410,2,   38.870,2,    2.900,2, -999.000
           NA,HOT timeseries 1988to2019 27SEP2021,      2,  99,-999.0,    8060,-999.0,20180225,2132,  22.7500, -158.0005,  4753,  704.400,    5.209,   34.257,2,   34.255,2,   25.300,2,   24.900,2,   85.540,2,   40.430,2,    3.030,2, -999.000
           NA,HOT timeseries 1988to2019 27SEP2021,      2,  99,-999.0,    8006,-999.0,20180225,2132,  22.7500, -158.0005,  4753,  742.300,    5.071,   34.297,2,   34.292,2,   22.500,2,   22.100,2,   88.990,2,   40.950,2,    3.050,2, -999.000
           NA,HOT timeseries 1988to2019 27SEP2021,      2,  99,-999.0,    8005,-999.0,20180225,2132,  22.7500, -158.0005,  4753,  789.200,    4.924,   34.351,2,   34.350,2,   22.100,2,   22.100,2,   93.050,2,   41.520,2,    3.090,2, -999.000
           NA,HOT timeseries 1988to2019 27SEP2021,      2,  99,-999.0,    8059,-999.0,20180225,2132,  22.7500, -158.0005,  4753,  838.900,    4.634,   34.370,2,   34.370,2,   25.900,2,   25.700,2,   97.790,2,   41.840,2,    3.080,2, -999.000
           NA,HOT timeseries 1988to2019 27SEP2021,      2,  99,-999.0,    8003,-999.0,20180225,2132,  22.7500, -158.0005,  4753,  896.500,    4.393,   34.426,2,   34.426,2,   32.800,2,   33.400,2,  102.150,2,   41.830,2,    3.060,2, -999.000
           NA,HOT timeseries 1988to2019 27SEP2021,      2,  99,-999.0,    8002,-999.0,20180225,2132,  22.7500, -158.0005,  4753,  955.400,    4.280,   34.452,2,   34.454,2,   36.200,2,   36.300,2,  104.230,2,   41.740,2,    3.040,2, -999.000
           NA,HOT timeseries 1988to2019 27SEP2021,      2,  99,-999.0,    8001,-999.0,20180225,2132,  22.7500, -158.0005,  4753, 1022.000,    4.138,   34.477,2,   34.477,2,   40.000,2,   40.200,2,  107.050,2,   41.840,2,    3.030,2, -999.000
           NA,HOT timeseries 1988to2019 27SEP2021,      2,  99,-999.0,    8020,-999.0,20180225,2132,  22.7500, -158.0005,  4753, 1200.800,    3.566,   34.528,2,   34.528,2,   48.000,2,   47.700,2,  118.650,2,   41.830,2,    3.040,2, -999.000
           NA,HOT timeseries 1988to2019 27SEP2021,      2,  99,-999.0,    8019,-999.0,20180225,2132,  22.7500, -158.0005,  4753, 1400.600,    3.135,   34.555,2,   34.556,2,   59.300,2,   60.300,2,  128.570,2,   40.970,2,    2.950,2, -999.000
           NA,HOT timeseries 1988to2019 27SEP2021,      2,  99,-999.0,    8018,-999.0,20180225,2132,  22.7500, -158.0005,  4753, 1601.200,    2.770,   34.576,2,   34.577,2,   68.200,2,   68.500,2,  136.320,2,   40.760,2,    2.920,2, -999.000
           NA,HOT timeseries 1988to2019 27SEP2021,      2,  99,-999.0,    8017,-999.0,20180225,2132,  22.7500, -158.0005,  4753, 1801.800,    2.448,   34.594,2,   34.597,2,   76.800,2,   77.200,2,  143.430,2,   40.920,2,    2.880,2, -999.000
           NA,HOT timeseries 1988to2019 27SEP2021,      2,  99,-999.0,    8016,-999.0,20180225,2132,  22.7500, -158.0005,  4753, 2000.900,    2.215,   34.611,2,   34.611,2,   84.900,2,   85.200,2,  147.810,2,   40.190,2,    2.860,2, -999.000
           NA,HOT timeseries 1988to2019 27SEP2021,      2,  99,-999.0,    8015,-999.0,20180225,2132,  22.7500, -158.0005,  4753, 2200.100,    1.986,   34.627,2,   34.627,2,   91.600,2,   92.600,2,  153.780,2,   39.100,2,    2.760,2, -999.000
           NA,HOT timeseries 1988to2019 27SEP2021,      2,  99,-999.0,    8014,-999.0,20180225,2132,  22.7500, -158.0005,  4753, 2400.300,    1.810,   34.643,2,   34.643,2,  105.000,2,  105.000,2,  157.350,2,   38.530,2,    2.730,2, -999.000
           NA,HOT timeseries 1988to2019 27SEP2021,      2,  99,-999.0,    8025,-999.0,20180225,2132,  22.7500, -158.0005,  4753, 2602.900,    1.680,   34.654,2,   34.655,2,  113.500,2, -999.000,4,  159.050,2,   37.840,2,    2.680,2, -999.000
           NA,HOT timeseries 1988to2019 27SEP2021,      2,  99,-999.0,    8011,-999.0,20180225,2132,  22.7500, -158.0005,  4753, 3004.500,    1.570,   34.666,2,   34.667,2,  122.900,2,  123.600,2,  158.760,2,   38.130,2,    2.670,2, -999.000
           NA,HOT timeseries 1988to2019 27SEP2021,      2,  99,-999.0,    8010,-999.0,20180225,2132,  22.7500, -158.0005,  4753, 3199.800,    1.521,   34.673,2,   34.673,2,  131.200,2,  130.900,2,  156.940,2,   37.520,2,    2.640,2, -999.000