BOTTLE,20214727JOAExport
EXPOCODE,SECT_ID,STNNBR,CASTNO,SAMPNO,BTLNBR,BTLNBR_FLAG_W,DATE,TIME,LATITUDE,LONGITUDE,DEPTH,CTDPRS,CTDTMP,CTDSAL,CTDSAL_FLAG_W,SALNTY,SALNTY_FLAG_W,CTDOXY,CTDOXY_FLAG_W,OXYGEN,OXYGEN_FLAG_W,SILCAT,SILCAT_FLAG_W,NINI,NINI_FLAG_W,PHSPHT,PHSPHT_FLAG_W,REVP
,,,,,,,,,,,,DB,IPTS-68,PSS-78,,PSS-78,,UMOL/KG,,UMOL/KG,,UMOL/KG,,UMOL/KG,,UMOL/KG,,DBAR
           NA,HOT timeseries 1988to2019 27SEP2021,    231,  99,-999.0,    8024,-999.0,20121007,1429,  22.7497, -158.0012,  4741,    5.100,   25.521,   35.117,2,   35.118,2,  207.800,2,  205.900,2,    1.340,2,    0.020,2,    0.160,2, -999.000
           NA,HOT timeseries 1988to2019 27SEP2021,    231,  99,-999.0,    8024,-999.0,20121007,1429,  22.7497, -158.0012,  4741,    6.300,   25.565,   35.083,2,   35.086,2,  207.000,2,  205.800,2,    1.310,2,    0.040,2,    0.140,2, -999.000
           NA,HOT timeseries 1988to2019 27SEP2021,    231,  99,-999.0,    8023,-999.0,20121007,1429,  22.7497, -158.0012,  4741,   66.400,   24.888,   35.168,2, -999.000,3, -999.000,3,  222.200,2,    1.230,2,    0.010,2,    0.080,2, -999.000
           NA,HOT timeseries 1988to2019 27SEP2021,    231,  99,-999.0,    8022,-999.0,20121007,1429,  22.7497, -158.0012,  4741,   81.500,   23.550,   35.282,2,   35.286,2,  226.200,2,  225.100,2,    1.220,2,    0.020,2,    0.070,2, -999.000
           NA,HOT timeseries 1988to2019 27SEP2021,    231,  99,-999.0,    8021,-999.0,20121007,1429,  22.7497, -158.0012,  4741,  115.300,   22.103,   35.325,2,   35.324,2,  218.100,2,  217.400,2,    1.270,2,    0.010,2,    0.080,2, -999.000
           NA,HOT timeseries 1988to2019 27SEP2021,    231,  99,-999.0,    8020,-999.0,20121007,1429,  22.7497, -158.0012,  4741,  163.700,   21.110,   35.308,2,   35.304,2,  203.700,2,  203.900,2,    1.510,2,    0.570,2,    0.130,2, -999.000
           NA,HOT timeseries 1988to2019 27SEP2021,    231,  99,-999.0,    8019,-999.0,20121007,1429,  22.7497, -158.0012,  4741,  211.400,   19.128,   34.983,2,   34.978,2,  196.900,2,  196.700,2,    2.420,2,    2.150,2,    0.220,2, -999.000
           NA,HOT timeseries 1988to2019 27SEP2021,    231,  99,-999.0,    8018,-999.0,20121007,1429,  22.7497, -158.0012,  4741,  276.600,   14.566,   34.294,2,   34.284,2,  177.600,2,  178.200,2,    7.300,2,    8.380,2,    0.700,2, -999.000
           NA,HOT timeseries 1988to2019 27SEP2021,    231,  99,-999.0,    8017,-999.0,20121007,1429,  22.7497, -158.0012,  4741,  327.800,   11.398,   34.124,2,   34.123,2,  193.800,2,  187.300,2,   13.880,2,   13.630,2,    1.020,2, -999.000
           NA,HOT timeseries 1988to2019 27SEP2021,    231,  99,-999.0,    8016,-999.0,20121007,1429,  22.7497, -158.0012,  4741,  370.800,   10.166,   34.100,2,   34.101,2,  190.900,2,  182.300,2,   19.290,2,   16.870,2,    1.230,2, -999.000
           NA,HOT timeseries 1988to2019 27SEP2021,    231,  99,-999.0,    8015,-999.0,20121007,1429,  22.7497, -158.0012,  4741,  414.800,    8.774,   34.083,2,   34.083,2,  138.000,2,  138.600,2,   31.610,2,   23.750,2,    1.750,2, -999.000
           NA,HOT timeseries 1988to2019 27SEP2021,    231,  99,-999.0,    8014,-999.0,20121007,1429,  22.7497, -158.0012,  4741,  466.400,    7.791,   34.135,2,   34.137,2,   90.100,2,   86.900,2,   44.820,2,   29.800,2,    2.240,2, -999.000
           NA,HOT timeseries 1988to2019 27SEP2021,    231,  99,-999.0,    8025,-999.0,20121007,1429,  22.7497, -158.0012,  4741,  501.600,    7.137,   34.134,2,   34.135,2,   74.700,2,   72.500,2,   52.600,2,   32.490,2,    2.440,2, -999.000
           NA,HOT timeseries 1988to2019 27SEP2021,    231,  99,-999.0,    8012,-999.0,20121007,1429,  22.7497, -158.0012,  4741,  547.300,    6.603,   34.169,2,   34.171,2,   54.000,2,   54.400,2,   60.380,2,   35.130,2,    2.620,2, -999.000
           NA,HOT timeseries 1988to2019 27SEP2021,    231,  99,-999.0,    8011,-999.0,20121007,1429,  22.7497, -158.0012,  4741,  605.200,    5.867,   34.180,2,   34.180,2,   44.700,2,   45.000,2,   71.380,2,   37.460,2,    2.760,2, -999.000
           NA,HOT timeseries 1988to2019 27SEP2021,    231,  99,-999.0,    8010,-999.0,20121007,1429,  22.7497, -158.0012,  4741,  640.100,    5.722,   34.228,2,   34.229,2,   38.200,2,   37.400,2,   75.080,2,   38.280,2,    2.840,2, -999.000
           NA,HOT timeseries 1988to2019 27SEP2021,    231,  99,-999.0,    8009,-999.0,20121007,1429,  22.7497, -158.0012,  4741,  674.100,    5.451,   34.254,2,   34.260,2,   33.100,2,   32.300,2,   80.390,2,   39.280,2,    2.890,2, -999.000
           NA,HOT timeseries 1988to2019 27SEP2021,    231,  99,-999.0,    8008,-999.0,20121007,1429,  22.7497, -158.0012,  4741,  741.600,    5.027,   34.340,2,   34.339,2,   26.800,2,   27.400,2,   89.670,2,   40.770,2,    3.000,2, -999.000
           NA,HOT timeseries 1988to2019 27SEP2021,    231,  99,-999.0,    8026,-999.0,20121007,1429,  22.7497, -158.0012,  4741,  800.400,    4.779,   34.374,2,   34.376,2,   25.500,2,   26.700,2,   94.330,2,   41.360,2,    3.030,2, -999.000
           NA,HOT timeseries 1988to2019 27SEP2021,    231,  99,-999.0,    8006,-999.0,20121007,1429,  22.7497, -158.0012,  4741,  842.900,    4.575,   34.421,2,   34.420,2,   31.600,2,   30.200,2,   98.070,2,   41.350,2,    3.020,2, -999.000
           NA,HOT timeseries 1988to2019 27SEP2021,    231,  99,-999.0,    8004,-999.0,20121007,1429,  22.7497, -158.0012,  4741,  927.400,    4.342,   34.464,2,   34.465,2,   37.100,2,   37.100,2,  101.910,2,   41.460,2,    3.010,2, -999.000
           NA,HOT timeseries 1988to2019 27SEP2021,    231,  99,-999.0,    8003,-999.0,20121007,1429,  22.7497, -158.0012,  4741,  968.100,    4.228,   34.477,2,   34.478,2,   39.600,2,   39.800,2,  104.320,2,   41.450,2,    3.010,2, -999.000
           NA,HOT timeseries 1988to2019 27SEP2021,    231,  99,-999.0,    8001,-999.0,20121007,1429,  22.7497, -158.0012,  4741, 1020.000,    4.009,   34.483,2,   34.486,2,   40.600,2,   40.600,2,  108.210,2,   41.620,2,    3.000,2, -999.000
           NA,HOT timeseries 1988to2019 27SEP2021,    231,  99,-999.0,    8020,-999.0,20121007,1429,  22.7497, -158.0012,  4741, 1200.000,    3.595,   34.527,2,   34.527,2,   49.300,2,   48.800,2,  116.720,2,   41.720,2,    2.970,2, -999.000
           NA,HOT timeseries 1988to2019 27SEP2021,    231,  99,-999.0,    8019,-999.0,20121007,1429,  22.7497, -158.0012,  4741, 1399.900,    3.116,   34.559,2,   34.559,2,   57.800,2,   57.500,2,  127.130,2,   41.480,2,    2.960,2, -999.000
           NA,HOT timeseries 1988to2019 27SEP2021,    231,  99,-999.0,    8018,-999.0,20121007,1429,  22.7497, -158.0012,  4741, 1600.200,    2.748,   34.580,2,   34.580,2,   67.400,2,   67.800,2,  135.130,2,   40.880,2,    2.920,2, -999.000
           NA,HOT timeseries 1988to2019 27SEP2021,    231,  99,-999.0,    8017,-999.0,20121007,1429,  22.7497, -158.0012,  4741, 1800.500,    2.442,   34.600,2,   34.600,2,   77.400,2,   77.800,2,  141.880,2,   40.280,2,    2.850,2, -999.000
           NA,HOT timeseries 1988to2019 27SEP2021,    231,  99,-999.0,    8016,-999.0,20121007,1429,  22.7497, -158.0012,  4741, 1999.300,    2.153,   34.618,2,   34.618,2,   86.700,2,   87.800,2,  148.440,2,   39.800,2,    2.810,2, -999.000
           NA,HOT timeseries 1988to2019 27SEP2021,    231,  99,-999.0,    8015,-999.0,20121007,1429,  22.7497, -158.0012,  4741, 2198.400,    1.945,   34.633,2,   34.633,2,   96.600,2,   97.000,2,  152.900,2,   39.380,2,    2.760,2, -999.000
           NA,HOT timeseries 1988to2019 27SEP2021,    231,  99,-999.0,    8014,-999.0,20121007,1429,  22.7497, -158.0012,  4741, 2399.400,    1.799,   34.645,2,   34.645,2,  103.800,2,  103.800,2,  155.470,2,   38.930,2,    2.720,2, -999.000
           NA,HOT timeseries 1988to2019 27SEP2021,    231,  99,-999.0,    8025,-999.0,20121007,1429,  22.7497, -158.0012,  4741, 2598.300,    1.691,   34.654,2,   34.654,2,  109.700,2,  110.100,2,  157.860,2,   38.440,2,    2.680,2, -999.000
           NA,HOT timeseries 1988to2019 27SEP2021,    231,  99,-999.0,    8012,-999.0,20121007,1429,  22.7497, -158.0012,  4741, 2800.000,    1.606,   34.662,2,   34.662,2,  116.800,2,  116.900,2,  158.930,2,   38.070,2,    2.640,2, -999.000
           NA,HOT timeseries 1988to2019 27SEP2021,    231,  99,-999.0,    8011,-999.0,20121007,1429,  22.7497, -158.0012,  4741, 3000.600,    1.549,   34.669,2,   34.669,2,  124.200,2,  124.500,2,  159.170,2,   37.530,2,    2.600,2, -999.000
           NA,HOT timeseries 1988to2019 27SEP2021,    231,  99,-999.0,    8010,-999.0,20121007,1429,  22.7497, -158.0012,  4741, 3198.700,    1.514,   34.673,2,   34.673,2,  130.000,2,  129.800,2,  157.670,2,   37.260,2,    2.570,2, -999.000
           NA,HOT timeseries 1988to2019 27SEP2021,    231,  99,-999.0,    8009,-999.0,20121007,1429,  22.7497, -158.0012,  4741, 3399.700,    1.479,   34.678,2,   34.678,2,  136.300,2,  136.300,2,  155.940,2,   36.870,2,    2.540,2, -999.000
           NA,HOT timeseries 1988to2019 27SEP2021,    231,  99,-999.0,    8008,-999.0,20121007,1429,  22.7497, -158.0012,  4741, 3600.300,    1.458,   34.682,2,   34.682,2,  141.300,2,  141.100,2,  154.690,2,   36.440,2,    2.510,2, -999.000
           NA,HOT timeseries 1988to2019 27SEP2021,    231,  99,-999.0,    8026,-999.0,20121007,1429,  22.7497, -158.0012,  4741, 3800.400,    1.449,   34.684,2,   34.684,2,  145.900,2,  146.100,2,  152.480,2,   35.890,2,    2.480,2, -999.000
           NA,HOT timeseries 1988to2019 27SEP2021,    231,  99,-999.0,    8006,-999.0,20121007,1429,  22.7497, -158.0012,  4741, 4000.400,    1.454,   34.686,2,   34.686,2,  148.400,2,  148.000,2, -999.000,3,   35.960,2,    2.480,2, -999.000
           NA,HOT timeseries 1988to2019 27SEP2021,    231,  99,-999.0,    8005,-999.0,20121007,1429,  22.7497, -158.0012,  4741, 4205.600,    1.463,   34.687,2,   34.686,2,  150.100,2,  149.600,2, -999.000,3,   35.760,2,    2.460,2, -999.000
           NA,HOT timeseries 1988to2019 27SEP2021,    231,  99,-999.0,    8004,-999.0,20121007,1429,  22.7497, -158.0012,  4741, 4401.300,    1.478,   34.688,2,   34.688,2,  151.500,2,  151.500,2, -999.000,3,   35.550,2,    2.450,2, -999.000
           NA,HOT timeseries 1988to2019 27SEP2021,    231,  99,-999.0,    8003,-999.0,20121007,1429,  22.7497, -158.0012,  4741, 4499.600,    1.486,   34.688,2,   34.688,2,  152.000,2,  151.700,2, -999.000,3,   35.500,2,    2.450,2, -999.000
           NA,HOT timeseries 1988to2019 27SEP2021,    231,  99,-999.0,    8002,-999.0,20121007,1429,  22.7497, -158.0012,  4741, 4611.200,    1.496,   34.688,2,   34.688,2,  152.600,2,  152.000,2,  147.520,2,   35.720,2,    2.450,2, -999.000
           NA,HOT timeseries 1988to2019 27SEP2021,    231,  99,-999.0,    8001,-999.0,20121007,1429,  22.7497, -158.0012,  4741, 4811.000,    1.519,   34.688,2,   34.688,2,  152.800,2,  152.600,2,  148.320,2,   35.620,2,    2.450,2, -999.000