BOTTLE,20214727JOAExport
EXPOCODE,SECT_ID,STNNBR,CASTNO,SAMPNO,BTLNBR,BTLNBR_FLAG_W,DATE,TIME,LATITUDE,LONGITUDE,DEPTH,CTDPRS,CTDTMP,CTDSAL,CTDSAL_FLAG_W,SALNTY,SALNTY_FLAG_W,CTDOXY,CTDOXY_FLAG_W,OXYGEN,OXYGEN_FLAG_W,SILCAT,SILCAT_FLAG_W,NINI,NINI_FLAG_W,PHSPHT,PHSPHT_FLAG_W,REVP
,,,,,,,,,,,,DB,IPTS-68,PSS-78,,PSS-78,,UMOL/KG,,UMOL/KG,,UMOL/KG,,UMOL/KG,,UMOL/KG,,DBAR
           NA,HOT timeseries 1988to2019 27SEP2021,    221,  99,-999.0,    8024,-999.0,20111130,1451,  22.7503, -157.9992,  4724,    4.800,   24.544,   35.199,2,   35.200,2,  206.200,2,  206.200,2,    0.810,2,    0.000,2,    0.080,2, -999.000
           NA,HOT timeseries 1988to2019 27SEP2021,    221,  99,-999.0,    8024,-999.0,20111130,1451,  22.7503, -157.9992,  4724,    5.300,   24.558,   35.201,2,   35.200,2,  206.700,2,  207.300,2,    0.830,2,    0.030,2,    0.080,2, -999.000
           NA,HOT timeseries 1988to2019 27SEP2021,    221,  99,-999.0,    8023,-999.0,20111130,1451,  22.7503, -157.9992,  4724,   52.800,   24.559,   35.201,2,   35.201,2,  206.900,2,  207.100,2,    0.820,2,    0.050,2,    0.080,2, -999.000
           NA,HOT timeseries 1988to2019 27SEP2021,    221,  99,-999.0,    8022,-999.0,20111130,1451,  22.7503, -157.9992,  4724,   99.400,   24.528,   35.200,2,   35.204,2,  206.600,2,  206.700,2,    0.800,2,    0.030,2,    0.080,2, -999.000
           NA,HOT timeseries 1988to2019 27SEP2021,    221,  99,-999.0,    8021,-999.0,20111130,1451,  22.7503, -157.9992,  4724,  124.200,   22.194,   35.305,2,   35.304,2,  205.500,2,  206.100,2,    1.220,2,    0.450,2,    0.080,2, -999.000
           NA,HOT timeseries 1988to2019 27SEP2021,    221,  99,-999.0,    8020,-999.0,20111130,1451,  22.7503, -157.9992,  4724,  169.300,   20.157,   35.138,2,   35.139,2,  198.300,2,  197.200,2,    1.890,2,    1.490,2,    0.160,2, -999.000
           NA,HOT timeseries 1988to2019 27SEP2021,    221,  99,-999.0,    8019,-999.0,20111130,1451,  22.7503, -157.9992,  4724,  213.900,   17.335,   34.771,2,   34.771,2,  198.300,2,  197.900,2,    3.450,2,    3.520,2,    0.300,2, -999.000
           NA,HOT timeseries 1988to2019 27SEP2021,    221,  99,-999.0,    8018,-999.0,20111130,1451,  22.7503, -157.9992,  4724,  258.700,   14.979,   34.471,2,   34.458,2,  201.800,2,  201.800,2,    5.570,2,    5.920,2,    0.470,2, -999.000
           NA,HOT timeseries 1988to2019 27SEP2021,    221,  99,-999.0,    8017,-999.0,20111130,1451,  22.7503, -157.9992,  4724,  292.100,   12.962,   34.278,2,   34.275,2,  203.400,2,  202.600,2,    8.830,2,    9.530,2,    0.700,2, -999.000
           NA,HOT timeseries 1988to2019 27SEP2021,    221,  99,-999.0,    8016,-999.0,20111130,1451,  22.7503, -157.9992,  4724,  326.000,   11.782,   34.208,2,   34.208,2,  194.000,2,  195.900,2,   12.320,2,   12.580,2,    0.910,2, -999.000
           NA,HOT timeseries 1988to2019 27SEP2021,    221,  99,-999.0,    8015,-999.0,20111130,1451,  22.7503, -157.9992,  4724,  365.800,   10.304,   34.138,2,   34.138,2,  184.000,2,  185.900,2,   18.370,2,   16.590,2,    1.210,2, -999.000
           NA,HOT timeseries 1988to2019 27SEP2021,    221,  99,-999.0,    8014,-999.0,20111130,1451,  22.7503, -157.9992,  4724,  430.600,    8.743,   34.080,2,   34.082,2,  155.600,2,  154.200,2,   29.730,2,   22.560,2, -999.000,3, -999.000
           NA,HOT timeseries 1988to2019 27SEP2021,    221,  99,-999.0,    8025,-999.0,20111130,1451,  22.7503, -157.9992,  4724,  481.200,    7.392,   34.048,2,   34.047,2,  122.500,2,  120.000,2,   43.680,2,   28.570,2, -999.000,3, -999.000
           NA,HOT timeseries 1988to2019 27SEP2021,    221,  99,-999.0,    8012,-999.0,20111130,1451,  22.7503, -157.9992,  4724,  504.100,    6.905,   34.040,2,   34.039,2,  107.300,2,  107.700,2,   49.620,2,   30.510,2,    2.230,2, -999.000
           NA,HOT timeseries 1988to2019 27SEP2021,    221,  99,-999.0,    8011,-999.0,20111130,1451,  22.7503, -157.9992,  4724,  519.300,    6.592,   34.040,2,   34.036,2,   97.300,2,   97.500,2,   53.910,2,   31.880,2,    2.310,2, -999.000
           NA,HOT timeseries 1988to2019 27SEP2021,    221,  99,-999.0,    8010,-999.0,20111130,1451,  22.7503, -157.9992,  4724,  577.500,    5.883,   34.066,2,   34.066,2,   70.200,2,   71.500,2,   65.600,2,   35.350,2,    2.630,2, -999.000
           NA,HOT timeseries 1988to2019 27SEP2021,    221,  99,-999.0,    8009,-999.0,20111130,1451,  22.7503, -157.9992,  4724,  626.200,    5.295,   34.110,2,   34.109,2,   51.300,2,   51.300,2,   77.440,2,   38.150,2,    2.800,2, -999.000
           NA,HOT timeseries 1988to2019 27SEP2021,    221,  99,-999.0,    8008,-999.0,20111130,1451,  22.7503, -157.9992,  4724,  681.300,    4.877,   34.186,2,   34.185,2,   33.900,2,   33.100,2,   88.600,2,   40.240,2,    2.960,2, -999.000
           NA,HOT timeseries 1988to2019 27SEP2021,    221,  99,-999.0,    8026,-999.0,20111130,1451,  22.7503, -157.9992,  4724,  720.400,    4.728,   34.236,2,   34.235,2,   28.800,2,   27.800,2,   93.040,2,   41.040,2,    3.030,2, -999.000
           NA,HOT timeseries 1988to2019 27SEP2021,    221,  99,-999.0,    8006,-999.0,20111130,1451,  22.7503, -157.9992,  4724,  759.700,    4.614,   34.291,2,   34.289,2,   26.900,2,   26.400,2, -999.000,3,   41.180,2,    3.060,2, -999.000
           NA,HOT timeseries 1988to2019 27SEP2021,    221,  99,-999.0,    8005,-999.0,20111130,1451,  22.7503, -157.9992,  4724,  801.500,    4.482,   34.332,2,   34.330,2,   27.300,2,   26.900,2,   99.500,2,   41.530,2,    3.080,2, -999.000
           NA,HOT timeseries 1988to2019 27SEP2021,    221,  99,-999.0,    8004,-999.0,20111130,1451,  22.7503, -157.9992,  4724,  857.600,    4.349,   34.373,2,   34.371,2,   29.900,2,   29.500,2,  102.700,2,   41.570,2,    3.090,2, -999.000
           NA,HOT timeseries 1988to2019 27SEP2021,    221,  99,-999.0,    8003,-999.0,20111130,1451,  22.7503, -157.9992,  4724,  919.900,    4.105,   34.422,2,   34.421,2,   34.400,2,   34.300,2,  107.540,2,   41.490,2,    3.080,2, -999.000
           NA,HOT timeseries 1988to2019 27SEP2021,    221,  99,-999.0,    8002,-999.0,20111130,1451,  22.7503, -157.9992,  4724,  979.400,    3.935,   34.456,2,   34.454,2,   40.900,2,   40.800,2,  110.240,2,   41.310,2,    3.070,2, -999.000
           NA,HOT timeseries 1988to2019 27SEP2021,    221,  99,-999.0,    8001,-999.0,20111130,1451,  22.7503, -157.9992,  4724, 1019.800,    3.835,   34.480,2,   34.479,2,   46.000,2,   45.900,2,  111.670,2,   40.980,2,    3.050,2, -999.000
           NA,HOT timeseries 1988to2019 27SEP2021,    221,  99,-999.0,    8020,-999.0,20111130,1451,  22.7503, -157.9992,  4724, 1199.100,    3.389,   34.526,2,   34.526,2,   54.800,2,   55.100,2,  121.900,2,   41.180,2, -999.000,3, -999.000
           NA,HOT timeseries 1988to2019 27SEP2021,    221,  99,-999.0,    8019,-999.0,20111130,1451,  22.7503, -157.9992,  4724, 1399.700,    2.955,   34.559,2,   34.559,2,   64.300,2,   64.500,2,  131.480,2,   40.620,2,    2.930,2, -999.000
           NA,HOT timeseries 1988to2019 27SEP2021,    221,  99,-999.0,    8018,-999.0,20111130,1451,  22.7503, -157.9992,  4724, 1600.800,    2.649,   34.580,2,   34.579,2,   72.200,2,   73.700,2,  137.700,2,   40.300,2,    2.900,2, -999.000
           NA,HOT timeseries 1988to2019 27SEP2021,    221,  99,-999.0,    8017,-999.0,20111130,1451,  22.7503, -157.9992,  4724, 1800.200,    2.372,   34.597,2,   34.597,2,   78.900,2,   79.300,2,  144.080,2,   39.980,2,    2.860,2, -999.000
           NA,HOT timeseries 1988to2019 27SEP2021,    221,  99,-999.0,    8016,-999.0,20111130,1451,  22.7503, -157.9992,  4724, 1999.700,    2.126,   34.616,2,   34.615,2,   87.100,2,   87.300,2,  149.420,2,   39.610,2,    2.830,2, -999.000
           NA,HOT timeseries 1988to2019 27SEP2021,    221,  99,-999.0,    8015,-999.0,20111130,1451,  22.7503, -157.9992,  4724, 2199.800,    1.950,   34.628,2,   34.627,2,   91.100,2,   92.400,2,  154.910,2,   39.350,2,    2.810,2, -999.000
           NA,HOT timeseries 1988to2019 27SEP2021,    221,  99,-999.0,    8014,-999.0,20111130,1451,  22.7503, -157.9992,  4724, 2400.000,    1.807,   34.640,2,   34.640,2,   99.100,2,   99.700,2,  156.890,2,   38.910,2,    2.770,2, -999.000
           NA,HOT timeseries 1988to2019 27SEP2021,    221,  99,-999.0,    8025,-999.0,20111130,1451,  22.7503, -157.9992,  4724, 2599.900,    1.701,   34.651,2,   34.652,2,  107.300,2,  107.600,2,  160.100,2,   38.410,2,    2.670,2, -999.000
           NA,HOT timeseries 1988to2019 27SEP2021,    221,  99,-999.0,    8012,-999.0,20111130,1451,  22.7503, -157.9992,  4724, 2799.400,    1.615,   34.660,2,   34.660,2,  115.300,2,  116.400,2,  159.110,2,   37.820,2, -999.000,3, -999.000
           NA,HOT timeseries 1988to2019 27SEP2021,    221,  99,-999.0,    8011,-999.0,20111130,1451,  22.7503, -157.9992,  4724, 2999.200,    1.544,   34.667,2,   34.668,2,  125.300,2,  125.300,2,  156.140,2,   37.100,2,    2.610,2, -999.000
           NA,HOT timeseries 1988to2019 27SEP2021,    221,  99,-999.0,    8010,-999.0,20111130,1451,  22.7503, -157.9992,  4724, 3200.000,    1.508,   34.672,2,   34.672,2,  130.800,2,  132.700,2,  155.110,2,   36.930,2,    2.570,2, -999.000
           NA,HOT timeseries 1988to2019 27SEP2021,    221,  99,-999.0,    8009,-999.0,20111130,1451,  22.7503, -157.9992,  4724, 3398.600,    1.469,   34.677,2,   34.678,2,  137.000,2,  137.900,2,  156.930,2,   36.430,2,    2.570,2, -999.000
           NA,HOT timeseries 1988to2019 27SEP2021,    221,  99,-999.0,    8008,-999.0,20111130,1451,  22.7503, -157.9992,  4724, 3599.400,    1.452,   34.680,2,   34.680,2,  141.400,2,  141.600,2,  153.930,2,   36.000,2,    2.540,2, -999.000
           NA,HOT timeseries 1988to2019 27SEP2021,    221,  99,-999.0,    8026,-999.0,20111130,1451,  22.7503, -157.9992,  4724, 3799.200,    1.451,   34.682,2,   34.682,2,  145.200,2,  144.600,2,  151.970,2,   35.740,2,    2.520,2, -999.000
           NA,HOT timeseries 1988to2019 27SEP2021,    221,  99,-999.0,    8006,-999.0,20111130,1451,  22.7503, -157.9992,  4724, 3998.900,    1.453,   34.684,2,   34.684,2,  148.300,2,  148.500,2,  150.430,2,   35.640,2,    2.510,2, -999.000
           NA,HOT timeseries 1988to2019 27SEP2021,    221,  99,-999.0,    8005,-999.0,20111130,1451,  22.7503, -157.9992,  4724, 4198.600,    1.461,   34.685,2,   34.685,2,  150.600,2,  150.000,2,  149.400,2,   35.550,2,    2.510,2, -999.000
           NA,HOT timeseries 1988to2019 27SEP2021,    221,  99,-999.0,    8004,-999.0,20111130,1451,  22.7503, -157.9992,  4724, 4399.300,    1.478,   34.686,2,   34.685,2,  151.500,2,  150.900,2,  148.920,2,   35.490,2,    2.500,2, -999.000
           NA,HOT timeseries 1988to2019 27SEP2021,    221,  99,-999.0,    8003,-999.0,20111130,1451,  22.7503, -157.9992,  4724, 4498.500,    1.486,   34.686,2,   34.686,2,  152.000,2,  152.100,2,  148.850,2,   35.400,2,    2.490,2, -999.000
           NA,HOT timeseries 1988to2019 27SEP2021,    221,  99,-999.0,    8002,-999.0,20111130,1451,  22.7503, -157.9992,  4724, 4598.400,    1.495,   34.686,2, -999.000,3, -999.000,3, -999.000,3,  148.540,2,   35.320,2,    2.470,2, -999.000
           NA,HOT timeseries 1988to2019 27SEP2021,    221,  99,-999.0,    8001,-999.0,20111130,1451,  22.7503, -157.9992,  4724, 4808.800,    1.512,   34.687,2,   34.686,2,  154.000,2,  153.500,2,  147.630,2,   35.270,2,    2.450,2, -999.000