BOTTLE,20214727JOAExport
EXPOCODE,SECT_ID,STNNBR,CASTNO,SAMPNO,BTLNBR,BTLNBR_FLAG_W,DATE,TIME,LATITUDE,LONGITUDE,DEPTH,CTDPRS,CTDTMP,CTDSAL,CTDSAL_FLAG_W,SALNTY,SALNTY_FLAG_W,CTDOXY,CTDOXY_FLAG_W,OXYGEN,OXYGEN_FLAG_W,SILCAT,SILCAT_FLAG_W,NINI,NINI_FLAG_W,PHSPHT,PHSPHT_FLAG_W,REVP
,,,,,,,,,,,,DB,IPTS-68,PSS-78,,PSS-78,,UMOL/KG,,UMOL/KG,,UMOL/KG,,UMOL/KG,,UMOL/KG,,DBAR
           NA,HOT timeseries 1988to2019 27SEP2021,     38,  99,-999.0,      31,-999.0,19921018,2249,  22.7483, -158.0100,  4749,    1.700,   26.635,   35.077,2,   35.078,2,  203.800,2,  203.700,2,    0.710,2,    0.000,2,    0.060,2, -999.000
           NA,HOT timeseries 1988to2019 27SEP2021,     38,  99,-999.0,      30,-999.0,19921018,2249,  22.7483, -158.0100,  4749,    3.400,   26.603,   35.078,2,   35.078,2,  204.400,2,  203.700,2,    0.550,2,    0.000,2,    0.040,2, -999.000
           NA,HOT timeseries 1988to2019 27SEP2021,     38,  99,-999.0,      31,-999.0,19921018,2249,  22.7483, -158.0100,  4749,    5.300,   26.418,   35.084,2,   35.087,2,  204.700,2,  203.500,2,    0.820,2,    0.000,2,    0.060,2, -999.000
           NA,HOT timeseries 1988to2019 27SEP2021,     38,  99,-999.0,      30,-999.0,19921018,2249,  22.7483, -158.0100,  4749,   80.200,   25.088,   35.051,2, -999.000,5,  220.400,2,  218.200,2,    0.930,2,    0.010,2,    0.060,2, -999.000
           NA,HOT timeseries 1988to2019 27SEP2021,     38,  99,-999.0,      22,-999.0,19921018,2249,  22.7483, -158.0100,  4749,   92.400,   22.693,   35.079,2,   35.070,2,  213.300,2,  212.900,2,    0.790,2,    0.010,2,    0.090,2, -999.000
           NA,HOT timeseries 1988to2019 27SEP2021,     38,  99,-999.0,      21,-999.0,19921018,2249,  22.7483, -158.0100,  4749,  105.400,   22.295,   35.150,2,   35.153,2,  209.900,2,  206.000,2,    0.990,2,    0.180,2,    0.100,2, -999.000
           NA,HOT timeseries 1988to2019 27SEP2021,     38,  99,-999.0,      20,-999.0,19921018,2249,  22.7483, -158.0100,  4749,  132.500,   21.200,   35.148,2,   35.149,2,  208.200,2,  201.200,2,    1.240,2,    0.510,2,    0.140,2, -999.000
           NA,HOT timeseries 1988to2019 27SEP2021,     38,  99,-999.0,      19,-999.0,19921018,2249,  22.7483, -158.0100,  4749,  154.400,   20.940,   35.162,2,   35.160,2,  202.100,2,  198.200,2,    1.300,2,    0.820,2,    0.160,2, -999.000
           NA,HOT timeseries 1988to2019 27SEP2021,     38,  99,-999.0,      18,-999.0,19921018,2249,  22.7483, -158.0100,  4749,  229.800,   16.572,   34.718,2,   34.706,2,  181.900,2,  183.700,2,    4.380,2,    5.600,2,    0.500,2, -999.000
           NA,HOT timeseries 1988to2019 27SEP2021,     38,  99,-999.0,      22,-999.0,19921018,2249,  22.7483, -158.0100,  4749,  250.700,   15.311,   34.620,2,   34.621,2,  194.100,2,  196.700,2,    5.650,2,    6.020,2,    0.480,2, -999.000
           NA,HOT timeseries 1988to2019 27SEP2021,     38,  99,-999.0,      17,-999.0,19921018,2249,  22.7483, -158.0100,  4749,  280.100,   13.873,   34.444,2,   34.441,2,  195.300,2,  192.500,2,    7.550,2,    8.610,2,    0.660,2, -999.000
           NA,HOT timeseries 1988to2019 27SEP2021,     38,  99,-999.0,      16,-999.0,19921018,2249,  22.7483, -158.0100,  4749,  301.800,   12.708,   34.328,2,   34.311,2,  193.300,2,  193.100,2,    9.990,2,   10.860,2,    0.830,2, -999.000
           NA,HOT timeseries 1988to2019 27SEP2021,     38,  99,-999.0,      15,-999.0,19921018,2249,  22.7483, -158.0100,  4749,  317.500,   12.080,   34.268,2,   34.265,2,  192.600,2,  192.700,2,   10.990,2,   11.900,2,    0.910,2, -999.000
           NA,HOT timeseries 1988to2019 27SEP2021,     38,  99,-999.0,      14,-999.0,19921018,2249,  22.7483, -158.0100,  4749,  348.000,   10.388,   34.157,2,   34.158,2,  198.300,2,  189.400,2,   16.860,2,   15.870,2,    1.160,2, -999.000
           NA,HOT timeseries 1988to2019 27SEP2021,     38,  99,-999.0,      13,-999.0,19921018,2249,  22.7483, -158.0100,  4749,  401.300,    8.582,   34.087,2,   34.086,2,  170.300,2,  172.900,2,   29.120,2,   21.520,2,    1.530,2, -999.000
           NA,HOT timeseries 1988to2019 27SEP2021,     38,  99,-999.0,      12,-999.0,19921018,2249,  22.7483, -158.0100,  4749,  483.200,    6.665,   34.047,2,   34.046,2,  113.600,2,  110.500,2,   52.450,2,   30.710,2,    2.230,2, -999.000
           NA,HOT timeseries 1988to2019 27SEP2021,     38,  99,-999.0,      11,-999.0,19921018,2249,  22.7483, -158.0100,  4749,  500.800,    6.605,   34.048,2,   34.050,2,  104.500,2,  101.700,2,   53.940,2,   31.320,2,    2.290,2, -999.000
           NA,HOT timeseries 1988to2019 27SEP2021,     38,  99,-999.0,      21,-999.0,19921018,2249,  22.7483, -158.0100,  4749,  501.000,    6.897,   34.044,2, -999.000,5,  124.000,2,  121.500,2,   49.070,2,   29.190,2,    2.060,2, -999.000
           NA,HOT timeseries 1988to2019 27SEP2021,     38,  99,-999.0,      10,-999.0,19921018,2249,  22.7483, -158.0100,  4749,  524.500,    6.416,   34.052,2,   34.053,2,  103.200,2,  106.900,2,   56.650,2,   32.110,2,    2.340,2, -999.000
           NA,HOT timeseries 1988to2019 27SEP2021,     38,  99,-999.0,       9,-999.0,19921018,2249,  22.7483, -158.0100,  4749,  560.700,    5.902,   34.070,2,   34.069,2,   77.700,2,   79.700,2,   65.790,2,   34.950,2,    2.540,2, -999.000
           NA,HOT timeseries 1988to2019 27SEP2021,     38,  99,-999.0,      29,-999.0,19921018,2249,  22.7483, -158.0100,  4749,  599.700,    5.565,   34.112,2,   34.113,2,   61.500,2,   59.300,2,   73.630,2,   37.390,2,    2.730,2, -999.000
           NA,HOT timeseries 1988to2019 27SEP2021,     38,  99,-999.0,      28,-999.0,19921018,2249,  22.7483, -158.0100,  4749,  609.300,    5.376,   34.108,2,   34.108,2,   58.900,2,   57.900,2,   76.380,2,   37.800,2,    2.740,2, -999.000
           NA,HOT timeseries 1988to2019 27SEP2021,     38,  99,-999.0,       7,-999.0,19921018,2249,  22.7483, -158.0100,  4749,  669.400,    5.255,   34.226,2,   34.225,2,   34.000,2,   33.700,2,   83.750,2,   40.160,2,    2.950,2, -999.000
           NA,HOT timeseries 1988to2019 27SEP2021,     38,  99,-999.0,      23,-999.0,19921018,2249,  22.7483, -158.0100,  4749,  742.600,    4.886,   34.339,2,   34.339,2,   32.000,2,   30.900,2,   92.880,2,   41.300,2,    3.010,2, -999.000
           NA,HOT timeseries 1988to2019 27SEP2021,     38,  99,-999.0,      25,-999.0,19921018,2249,  22.7483, -158.0100,  4749,  830.400,    4.460,   34.409,2,   34.408,2,   34.100,2,   33.200,2,  102.240,2,   41.950,2,    3.040,2, -999.000
           NA,HOT timeseries 1988to2019 27SEP2021,     38,  99,-999.0,       3,-999.0,19921018,2249,  22.7483, -158.0100,  4749,  960.700,    4.125,   34.477,2,   34.475,2,   40.400,2,   40.000,2,  108.440,2,   41.800,2,    3.040,2, -999.000
           NA,HOT timeseries 1988to2019 27SEP2021,     38,  99,-999.0,       2,-999.0,19921018,2249,  22.7483, -158.0100,  4749,  988.400,    4.034,   34.488,2, -999.000,5,   42.500,2,   42.100,2,  110.220,2,   41.860,2,    3.040,2, -999.000
           NA,HOT timeseries 1988to2019 27SEP2021,     38,  99,-999.0,       1,-999.0,19921018,2249,  22.7483, -158.0100,  4749, 1201.400,    3.493,   34.530,2,   34.531,2,   52.400,2,   52.100,2,  121.490,2,   41.670,2,    3.000,2, -999.000
           NA,HOT timeseries 1988to2019 27SEP2021,     38,  99,-999.0,      20,-999.0,19921018,2249,  22.7483, -158.0100,  4749, 1400.700,    3.047,   34.557,2,   34.558,2,   62.300,2,   62.600,2,  131.140,2,   40.950,2,    2.920,2, -999.000
           NA,HOT timeseries 1988to2019 27SEP2021,     38,  99,-999.0,      19,-999.0,19921018,2249,  22.7483, -158.0100,  4749, 1598.900,    2.659,   34.583,2,   34.582,2,   72.100,2,   71.300,2,  140.040,2,   40.860,2,    2.910,2, -999.000
           NA,HOT timeseries 1988to2019 27SEP2021,     38,  99,-999.0,      18,-999.0,19921018,2249,  22.7483, -158.0100,  4749, 1800.600,    2.355,   34.603,2,   34.604,2,   78.000,2,   78.200,2,  147.840,2,   40.610,2,    2.880,2, -999.000
           NA,HOT timeseries 1988to2019 27SEP2021,     38,  99,-999.0,      17,-999.0,19921018,2249,  22.7483, -158.0100,  4749, 2000.200,    2.106,   34.620,2,   34.622,2,   87.300,2,   87.700,2,  153.800,2,   40.050,2,    2.830,2, -999.000
           NA,HOT timeseries 1988to2019 27SEP2021,     38,  99,-999.0,      16,-999.0,19921018,2249,  22.7483, -158.0100,  4749, 2200.700,    1.918,   34.634,2,   34.636,2,   96.000,2,   96.700,2,  157.220,2,   39.570,2,    2.780,2, -999.000
           NA,HOT timeseries 1988to2019 27SEP2021,     38,  99,-999.0,      15,-999.0,19921018,2249,  22.7483, -158.0100,  4749, 2399.400,    1.795,   34.645,2,   34.647,2,  102.800,2,  103.200,2,  159.930,2,   39.060,2,    2.750,2, -999.000
           NA,HOT timeseries 1988to2019 27SEP2021,     38,  99,-999.0,      14,-999.0,19921018,2249,  22.7483, -158.0100,  4749, 2600.200,    1.682,   34.655,2,   34.656,2,  109.700,2,  110.400,2,  161.810,2,   38.710,2,    2.720,2, -999.000
           NA,HOT timeseries 1988to2019 27SEP2021,     38,  99,-999.0,      13,-999.0,19921018,2249,  22.7483, -158.0100,  4749, 2800.400,    1.613,   34.662,2,   34.662,2,  115.200,2,  116.300,2,  162.520,2,   38.390,2,    2.690,2, -999.000
           NA,HOT timeseries 1988to2019 27SEP2021,     38,  99,-999.0,      12,-999.0,19921018,2249,  22.7483, -158.0100,  4749, 2995.900,    1.570,   34.670,2,   34.670,2,  123.300,2,  123.800,2,  160.980,2,   37.880,2,    2.640,2, -999.000
           NA,HOT timeseries 1988to2019 27SEP2021,     38,  99,-999.0,      11,-999.0,19921018,2249,  22.7483, -158.0100,  4749, 3199.800,    1.523,   34.674,2, -999.000,3, -999.000,3,  129.400,2,  160.910,2,   37.600,2,    2.630,2, -999.000
           NA,HOT timeseries 1988to2019 27SEP2021,     38,  99,-999.0,      10,-999.0,19921018,2249,  22.7483, -158.0100,  4749, 3398.100,    1.498,   34.678,2,   34.678,2,  133.100,2,  134.500,2,  159.360,2,   37.090,2,    2.590,2, -999.000
           NA,HOT timeseries 1988to2019 27SEP2021,     38,  99,-999.0,       9,-999.0,19921018,2249,  22.7483, -158.0100,  4749, 3599.700,    1.471,   34.682,2,   34.681,2,  138.400,2,  139.600,2,  158.280,2,   36.960,2,    2.560,2, -999.000
           NA,HOT timeseries 1988to2019 27SEP2021,     38,  99,-999.0,      29,-999.0,19921018,2249,  22.7483, -158.0100,  4749, 3797.900,    1.462,   34.684,2,   34.685,2,  143.100,2,  143.300,2,  156.770,2,   36.710,2,    2.540,2, -999.000
           NA,HOT timeseries 1988to2019 27SEP2021,     38,  99,-999.0,      28,-999.0,19921018,2249,  22.7483, -158.0100,  4749, 3999.600,    1.462,   34.686,2,   34.685,2,  147.000,2,  146.600,2,  154.630,2,   36.500,2,    2.540,2, -999.000
           NA,HOT timeseries 1988to2019 27SEP2021,     38,  99,-999.0,       7,-999.0,19921018,2249,  22.7483, -158.0100,  4749, 4199.300,    1.469,   34.687,2,   34.689,2,  149.000,2,  148.700,2,  153.480,2,   36.190,2,    2.500,2, -999.000
           NA,HOT timeseries 1988to2019 27SEP2021,     38,  99,-999.0,      23,-999.0,19921018,2249,  22.7483, -158.0100,  4749, 4297.500,    1.473,   34.688,2, -999.000,4, -999.000,3,  149.900,2,  152.990,2,   35.980,2,    2.500,2, -999.000
           NA,HOT timeseries 1988to2019 27SEP2021,     38,  99,-999.0,      25,-999.0,19921018,2249,  22.7483, -158.0100,  4749, 4397.700,    1.478,   34.689,2,   34.689,2,  151.500,2,  151.400,2,  152.390,2,   36.030,2,    2.510,2, -999.000
           NA,HOT timeseries 1988to2019 27SEP2021,     38,  99,-999.0,       3,-999.0,19921018,2249,  22.7483, -158.0100,  4749, 4498.900,    1.484,   34.689,2,   34.689,2,  152.000,2,  151.700,2,  151.920,2,   36.020,2,    2.500,2, -999.000
           NA,HOT timeseries 1988to2019 27SEP2021,     38,  99,-999.0,       2,-999.0,19921018,2249,  22.7483, -158.0100,  4749, 4599.500,    1.491,   34.690,2,   34.689,2,  153.600,2,  152.600,2,  151.080,2,   35.820,2,    2.480,2, -999.000
           NA,HOT timeseries 1988to2019 27SEP2021,     38,  99,-999.0,       1,-999.0,19921018,2249,  22.7483, -158.0100,  4749, 4767.400,    1.507,   34.690,2,   34.689,2,  154.900,2,  153.500,2,  150.550,2,   35.730,2,    2.480,2, -999.000
           NA,HOT timeseries 1988to2019 27SEP2021,     39,  99,-999.0,    -999,-999.0,19921124,0900,  22.7500, -158.0000,  4749,    5.000,   25.651,   34.781,2,   34.773,2, -999.000,5,  203.900,2,    1.090,2,    0.010,2,    0.110,2, -999.000
           NA,HOT timeseries 1988to2019 27SEP2021,     39,  99,-999.0,    -999,-999.0,19921124,0900,  22.7500, -158.0000,  4749,   15.000,   25.658,   34.781,2,   34.781,2, -999.000,5,  205.400,2,    1.060,2,    0.000,2,    0.110,2, -999.000
           NA,HOT timeseries 1988to2019 27SEP2021,     39,  99,-999.0,    -999,-999.0,19921124,0900,  22.7500, -158.0000,  4749,   25.000,   25.656,   34.781,2,   34.778,2, -999.000,5,  205.500,2,    1.070,2,    0.000,2,    0.100,2, -999.000
           NA,HOT timeseries 1988to2019 27SEP2021,     39,  99,-999.0,    -999,-999.0,19921124,0900,  22.7500, -158.0000,  4749,   35.000,   25.657,   34.780,2,   34.774,2, -999.000,5,  203.700,2,    1.060,2,    0.000,2,    0.110,2, -999.000
           NA,HOT timeseries 1988to2019 27SEP2021,     39,  99,-999.0,    -999,-999.0,19921124,0900,  22.7500, -158.0000,  4749,   45.000,   25.655,   34.784,2,   34.775,2, -999.000,5,  203.800,2,    1.040,2,    0.000,2,    0.100,2, -999.000
           NA,HOT timeseries 1988to2019 27SEP2021,     39,  99,-999.0,    -999,-999.0,19921124,0900,  22.7500, -158.0000,  4749,   60.000,   25.440,   34.965,2,   34.792,2, -999.000,5,  204.000,2,    1.040,2,    0.000,2,    0.100,2, -999.000
           NA,HOT timeseries 1988to2019 27SEP2021,     39,  99,-999.0,    -999,-999.0,19921124,0900,  22.7500, -158.0000,  4749,   75.000,   25.412,   34.964,2,   34.829,2, -999.000,5,  204.500,2,    1.140,2,    0.000,2,    0.100,2, -999.000
           NA,HOT timeseries 1988to2019 27SEP2021,     39,  99,-999.0,    -999,-999.0,19921124,0900,  22.7500, -158.0000,  4749,   85.000,   25.400,   34.958,2,   34.957,2, -999.000,5,  211.400,2,    1.000,2,    0.090,2,    0.080,2, -999.000
           NA,HOT timeseries 1988to2019 27SEP2021,     39,  99,-999.0,    -999,-999.0,19921124,0900,  22.7500, -158.0000,  4749,   95.000,   24.600,   35.001,2,   35.020,2, -999.000,5,  216.000,2,    0.970,2,    0.010,2,    0.090,2, -999.000
           NA,HOT timeseries 1988to2019 27SEP2021,     39,  99,-999.0,    -999,-999.0,19921124,0900,  22.7500, -158.0000,  4749,  105.000,   23.640,   35.081,2,   35.042,2, -999.000,5,  217.500,2,    1.020,2,    0.010,2,    0.100,2, -999.000
           NA,HOT timeseries 1988to2019 27SEP2021,     39,  99,-999.0,    -999,-999.0,19921124,0900,  22.7500, -158.0000,  4749,  115.000,   22.919,   35.125,2,   35.072,2, -999.000,5,  216.300,2,    1.010,2,    0.020,2,    0.100,2, -999.000
           NA,HOT timeseries 1988to2019 27SEP2021,     39,  99,-999.0,    -999,-999.0,19921124,0900,  22.7500, -158.0000,  4749,  125.000,   22.462,   35.151,2,   35.087,2, -999.000,5,  211.000,2,    1.050,2,    0.150,2,    0.120,2, -999.000
           NA,HOT timeseries 1988to2019 27SEP2021,     39,  99,-999.0,    -999,-999.0,19921124,0900,  22.7500, -158.0000,  4749,  135.000,   22.509,   35.150,2,   35.154,2, -999.000,5,  203.100,2,    1.090,2,    0.360,2,    0.150,2, -999.000
           NA,HOT timeseries 1988to2019 27SEP2021,     39,  99,-999.0,    -999,-999.0,19921124,0900,  22.7500, -158.0000,  4749,  150.000,   21.558,   35.183,2,   35.178,2, -999.000,5,  205.500,2,    1.120,2,    0.360,2,    0.120,2, -999.000
           NA,HOT timeseries 1988to2019 27SEP2021,     39,  99,-999.0,    -999,-999.0,19921124,0900,  22.7500, -158.0000,  4749,  160.000,   21.063,   35.176,2,   35.184,2, -999.000,5,  203.500,2,    1.170,2,    0.390,2,    0.120,2, -999.000
           NA,HOT timeseries 1988to2019 27SEP2021,     39,  99,-999.0,    -999,-999.0,19921124,0900,  22.7500, -158.0000,  4749,  175.000,   20.542,   35.200,2,   35.187,2, -999.000,5,  202.000,2,    1.260,2,    0.510,2,    0.150,2, -999.000
           NA,HOT timeseries 1988to2019 27SEP2021,     39,  99,-999.0,    -999,-999.0,19921124,0900,  22.7500, -158.0000,  4749,  185.000,   20.032,   35.195,2,   35.177,2, -999.000,5,  198.300,2,    1.360,2,    0.840,2,    0.180,2, -999.000
           NA,HOT timeseries 1988to2019 27SEP2021,     39,  99,-999.0,    -999,-999.0,19921124,0900,  22.7500, -158.0000,  4749,  200.000,   19.484,   35.156,2,   35.171,2, -999.000,5,  197.000,2,    1.510,2,    1.310,2,    0.200,2, -999.000
           NA,HOT timeseries 1988to2019 27SEP2021,     39,  99,-999.0,    -999,-999.0,19921124,0900,  22.7500, -158.0000,  4749,  210.000,   19.323,   35.156,2,   35.141,2, -999.000,5,  196.300,2,    1.730,2,    1.730,2,    0.210,2, -999.000
           NA,HOT timeseries 1988to2019 27SEP2021,     39,  99,-999.0,    -999,-999.0,19921124,0900,  22.7500, -158.0000,  4749,  225.000,   18.791,   35.112,2,   35.110,2, -999.000,5,  195.800,2,    2.180,2,    2.060,2,    0.230,2, -999.000
           NA,HOT timeseries 1988to2019 27SEP2021,     39,  99,-999.0,    -999,-999.0,19921124,0900,  22.7500, -158.0000,  4749,  235.000,   18.450,   35.073,2,   35.095,2, -999.000,5,  196.000,2,    2.070,2,    2.180,2,    0.230,2, -999.000
           NA,HOT timeseries 1988to2019 27SEP2021,     39,  99,-999.0,    -999,-999.0,19921124,0900,  22.7500, -158.0000,  4749,  250.000,   17.939,   34.995,2,   35.003,2, -999.000,5,  194.900,2,    2.660,2,    2.860,2,    0.280,2, -999.000