BOTTLE,20214727JOAExport
EXPOCODE,SECT_ID,STNNBR,CASTNO,SAMPNO,BTLNBR,BTLNBR_FLAG_W,DATE,TIME,LATITUDE,LONGITUDE,DEPTH,CTDPRS,CTDTMP,CTDSAL,CTDSAL_FLAG_W,SALNTY,SALNTY_FLAG_W,CTDOXY,CTDOXY_FLAG_W,OXYGEN,OXYGEN_FLAG_W,SILCAT,SILCAT_FLAG_W,NINI,NINI_FLAG_W,PHSPHT,PHSPHT_FLAG_W,REVP
,,,,,,,,,,,,DB,IPTS-68,PSS-78,,PSS-78,,UMOL/KG,,UMOL/KG,,UMOL/KG,,UMOL/KG,,UMOL/KG,,DBAR
           NA,HOT timeseries 1988to2019 27SEP2021,     88,  99,-999.0,      31,-999.0,19980414,1631,  22.7512, -157.9805,  4714,    3.600,   23.338,   35.202,2,   35.201,2,  222.000,2,  214.100,2,    1.260,2,    0.000,2,    0.060,2, -999.000
           NA,HOT timeseries 1988to2019 27SEP2021,     88,  99,-999.0,      31,-999.0,19980414,1631,  22.7512, -157.9805,  4714,    9.700,   23.481,   35.188,2,   35.189,2,  212.000,2,  213.600,2,    1.260,2,    0.000,2,    0.060,2, -999.000
           NA,HOT timeseries 1988to2019 27SEP2021,     88,  99,-999.0,      30,-999.0,19980414,1631,  22.7512, -157.9805,  4714,   51.700,   23.346,   35.202,2,   35.201,2,  221.000,2,  211.000,2,    1.300,2,    0.000,2,    0.060,2, -999.000
           NA,HOT timeseries 1988to2019 27SEP2021,     88,  99,-999.0,      22,-999.0,19980414,1631,  22.7512, -157.9805,  4714,   97.300,   22.078,   35.196,2,   35.195,2,  206.900,2, -999.000,4,    1.380,2,    0.010,2,    0.050,2, -999.000
           NA,HOT timeseries 1988to2019 27SEP2021,     88,  99,-999.0,      21,-999.0,19980414,1631,  22.7512, -157.9805,  4714,  120.200,   21.754,   35.298,2,   35.291,2,  222.500,2,  218.200,2,    1.450,2,    0.270,2,    0.030,2, -999.000
           NA,HOT timeseries 1988to2019 27SEP2021,     88,  99,-999.0,      20,-999.0,19980414,1631,  22.7512, -157.9805,  4714,  181.600,   19.613,   35.011,2,   35.013,2,  184.500,2,  194.400,2,    2.300,2,    1.940,2,    0.200,2, -999.000
           NA,HOT timeseries 1988to2019 27SEP2021,     88,  99,-999.0,      19,-999.0,19980414,1631,  22.7512, -157.9805,  4714,  247.800,   16.009,   34.607,2,   34.611,2,  191.600,2,  191.800,2,    4.800,2,    5.200,2,    0.410,2, -999.000
           NA,HOT timeseries 1988to2019 27SEP2021,     88,  99,-999.0,      18,-999.0,19980414,1631,  22.7512, -157.9805,  4714,  278.700,   14.639,   34.458,2,   34.471,2,  189.200,2,  194.500,2,    6.250,2,    6.760,2,    0.520,2, -999.000
           NA,HOT timeseries 1988to2019 27SEP2021,     88,  99,-999.0,      17,-999.0,19980414,1631,  22.7512, -157.9805,  4714,  323.200,   11.825,   34.220,2,   34.224,2,  202.400,2,  203.500,2,   10.770,2,   11.010,2,    0.770,2, -999.000
           NA,HOT timeseries 1988to2019 27SEP2021,     88,  99,-999.0,      16,-999.0,19980414,1631,  22.7512, -157.9805,  4714,  351.600,   10.578,   34.136,2,   34.136,2,  187.200,2,  186.400,2,   16.450,2,   15.370,2,    1.080,2, -999.000
           NA,HOT timeseries 1988to2019 27SEP2021,     88,  99,-999.0,      15,-999.0,19980414,1631,  22.7512, -157.9805,  4714,  412.800,    8.924,   34.092,2,   34.090,2,  164.600,2,  160.100,2,   27.490,2,   21.220,2,    1.510,2, -999.000
           NA,HOT timeseries 1988to2019 27SEP2021,     88,  99,-999.0,      14,-999.0,19980414,1631,  22.7512, -157.9805,  4714,  451.700,    8.176,   34.087,2,   34.089,2,  139.700,2,  138.100,2,   34.670,2,   24.700,2,    1.810,2, -999.000
           NA,HOT timeseries 1988to2019 27SEP2021,     88,  99,-999.0,      13,-999.0,19980414,1631,  22.7512, -157.9805,  4714,  490.400,    7.326,   34.084,2,   34.092,2,  114.600,2,  113.200,2,   45.280,2,   28.670,2,    2.100,2, -999.000
           NA,HOT timeseries 1988to2019 27SEP2021,     88,  99,-999.0,      12,-999.0,19980414,1631,  22.7512, -157.9805,  4714,  535.400,    6.669,   34.110,2,   34.109,2,   89.600,2,   88.700,2,   55.840,2,   32.050,2,    2.360,2, -999.000
           NA,HOT timeseries 1988to2019 27SEP2021,     88,  99,-999.0,      11,-999.0,19980414,1631,  22.7512, -157.9805,  4714,  579.100,    6.157,   34.147,2,   34.145,2,   65.500,2,   64.900,2,   64.980,2,   35.000,2,    2.580,2, -999.000
           NA,HOT timeseries 1988to2019 27SEP2021,     88,  99,-999.0,      32,-999.0,19980414,1631,  22.7512, -157.9805,  4714,  625.200,    5.728,   34.206,2,   34.197,2,   43.600,2,   50.200,2,   74.090,2,   37.420,2,    2.790,2, -999.000
           NA,HOT timeseries 1988to2019 27SEP2021,     88,  99,-999.0,       3,-999.0,19980414,1631,  22.7512, -157.9805,  4714,  674.700,    5.330,   34.263,2,   34.257,2,   36.400,2,   36.000,2,   82.870,2,   38.990,2,    2.880,2, -999.000
           NA,HOT timeseries 1988to2019 27SEP2021,     88,  99,-999.0,      22,-999.0,19980414,1631,  22.7512, -157.9805,  4714,  700.500,    5.172,   34.298,2,   34.296,2,   32.800,2,   32.200,2,   84.850,2,   39.440,2,    2.870,2, -999.000
           NA,HOT timeseries 1988to2019 27SEP2021,     88,  99,-999.0,      28,-999.0,19980414,1631,  22.7512, -157.9805,  4714,  750.700,    4.969,   34.348,2,   34.347,2,   31.100,2,   30.100,2,   90.620,2,   40.280,2,    2.960,2, -999.000
           NA,HOT timeseries 1988to2019 27SEP2021,     88,  99,-999.0,       7,-999.0,19980414,1631,  22.7512, -157.9805,  4714,  789.100,    4.687,   34.354,2,   34.352,2,   32.800,2,   33.000,2,   95.590,2,   40.510,2,    2.970,2, -999.000
           NA,HOT timeseries 1988to2019 27SEP2021,     88,  99,-999.0,      38,-999.0,19980414,1631,  22.7512, -157.9805,  4714,  837.600,    4.391,   34.384,2,   34.381,2,   27.100,2,   27.100,2,  102.820,2,   41.420,2,    3.060,2, -999.000
           NA,HOT timeseries 1988to2019 27SEP2021,     88,  99,-999.0,      36,-999.0,19980414,1631,  22.7512, -157.9805,  4714,  868.000,    4.278,   34.412,2,   34.410,2,   31.100,2,   30.500,2,  104.960,2,   41.420,2,    3.050,2, -999.000
           NA,HOT timeseries 1988to2019 27SEP2021,     88,  99,-999.0,      35,-999.0,19980414,1631,  22.7512, -157.9805,  4714,  919.400,    4.212,   34.450,2,   34.449,2,   36.500,2,   36.400,2,  105.940,2,   41.230,2,    3.030,2, -999.000
           NA,HOT timeseries 1988to2019 27SEP2021,     88,  99,-999.0,      34,-999.0,19980414,1631,  22.7512, -157.9805,  4714,  980.800,    4.048,   34.476,2,   34.475,2,   40.600,2,   39.900,2,  108.950,2,   41.120,2,    3.020,2, -999.000
           NA,HOT timeseries 1988to2019 27SEP2021,     88,  99,-999.0,      33,-999.0,19980414,1631,  22.7512, -157.9805,  4714, 1018.800,    3.944,   34.490,2,   34.491,2,   43.500,2,   43.200,2,  110.930,2,   41.120,2,    3.020,2, -999.000
           NA,HOT timeseries 1988to2019 27SEP2021,     88,  99,-999.0,      20,-999.0,19980414,1631,  22.7512, -157.9805,  4714, 1201.300,    3.424,   34.531,2,   34.529,2,   52.600,2,   53.800,2,  120.270,2,   41.080,2,    2.940,2, -999.000
           NA,HOT timeseries 1988to2019 27SEP2021,     88,  99,-999.0,      19,-999.0,19980414,1631,  22.7512, -157.9805,  4714, 1399.900,    2.987,   34.567,2,   34.566,2,   62.200,2,   62.100,2,  132.650,2,   40.960,2,    2.940,2, -999.000
           NA,HOT timeseries 1988to2019 27SEP2021,     88,  99,-999.0,      18,-999.0,19980414,1631,  22.7512, -157.9805,  4714, 1601.200,    2.633,   34.587,2,   34.586,2,   71.200,2,   70.600,2,  138.420,2,   40.570,2,    2.890,2, -999.000
           NA,HOT timeseries 1988to2019 27SEP2021,     88,  99,-999.0,      17,-999.0,19980414,1631,  22.7512, -157.9805,  4714, 1799.600,    2.279,   34.608,2,   34.608,2,   80.700,2,   82.700,2,  147.150,2,   39.820,2,    2.840,2, -999.000
           NA,HOT timeseries 1988to2019 27SEP2021,     88,  99,-999.0,      16,-999.0,19980414,1631,  22.7512, -157.9805,  4714, 2000.600,    2.038,   34.625,2,   34.625,2,   90.000,2,   91.600,2,  152.110,2,   39.280,2,    2.770,2, -999.000
           NA,HOT timeseries 1988to2019 27SEP2021,     88,  99,-999.0,      15,-999.0,19980414,1631,  22.7512, -157.9805,  4714, 2198.000,    1.870,   34.638,2,   34.637,2,   98.200,2,   98.000,2,  156.900,2,   38.870,2,    2.750,2, -999.000
           NA,HOT timeseries 1988to2019 27SEP2021,     88,  99,-999.0,      14,-999.0,19980414,1631,  22.7512, -157.9805,  4714, 2400.400,    1.765,   34.648,2,   34.648,2,  105.300,2,  105.300,2,  157.500,2,   38.410,2,    2.720,2, -999.000
           NA,HOT timeseries 1988to2019 27SEP2021,     88,  99,-999.0,      13,-999.0,19980414,1631,  22.7512, -157.9805,  4714, 2600.600,    1.667,   34.657,2,   34.658,2,  111.400,2,  112.200,2,  158.860,2,   38.030,2,    2.680,2, -999.000
           NA,HOT timeseries 1988to2019 27SEP2021,     88,  99,-999.0,      12,-999.0,19980414,1631,  22.7512, -157.9805,  4714, 2801.600,    1.596,   34.664,2,   34.664,2,  118.000,2,  118.900,2,  159.110,2,   37.620,2,    2.660,2, -999.000
           NA,HOT timeseries 1988to2019 27SEP2021,     88,  99,-999.0,      11,-999.0,19980414,1631,  22.7512, -157.9805,  4714, 2999.600,    1.548,   34.670,2,   34.669,2,  124.000,2,  124.800,2,  158.510,2,   37.290,2,    2.620,2, -999.000
           NA,HOT timeseries 1988to2019 27SEP2021,     88,  99,-999.0,      32,-999.0,19980414,1631,  22.7512, -157.9805,  4714, 3200.200,    1.505,   34.675,2,   34.675,2,  130.400,2,  131.800,2,  156.960,2,   36.970,2,    2.610,2, -999.000
           NA,HOT timeseries 1988to2019 27SEP2021,     88,  99,-999.0,       3,-999.0,19980414,1631,  22.7512, -157.9805,  4714, 3401.800,    1.475,   34.680,2,   34.682,2,  136.500,2,  136.100,2,  155.960,2,   36.740,2,    2.530,2, -999.000
           NA,HOT timeseries 1988to2019 27SEP2021,     88,  99,-999.0,      29,-999.0,19980414,1631,  22.7512, -157.9805,  4714, 3602.900,    1.462,   34.683,2,   34.682,2,  140.800,2,  141.200,2,  154.900,2,   36.390,2,    2.530,2, -999.000
           NA,HOT timeseries 1988to2019 27SEP2021,     88,  99,-999.0,      28,-999.0,19980414,1631,  22.7512, -157.9805,  4714, 3800.900,    1.453,   34.685,2,   34.686,2,  144.700,2,  144.900,2,  152.660,2,   36.240,2,    2.520,2, -999.000
           NA,HOT timeseries 1988to2019 27SEP2021,     88,  99,-999.0,       7,-999.0,19980414,1631,  22.7512, -157.9805,  4714, 4003.100,    1.456,   34.687,2,   34.687,2,  148.200,2,  147.700,2,  151.210,2,   35.950,2,    2.510,2, -999.000
           NA,HOT timeseries 1988to2019 27SEP2021,     88,  99,-999.0,      38,-999.0,19980414,1631,  22.7512, -157.9805,  4714, 4199.400,    1.463,   34.688,2,   34.690,2,  150.400,2,  151.000,2,  150.200,2,   35.930,2,    2.480,2, -999.000
           NA,HOT timeseries 1988to2019 27SEP2021,     88,  99,-999.0,      36,-999.0,19980414,1631,  22.7512, -157.9805,  4714, 4402.600,    1.478,   34.689,2,   34.689,2,  151.900,2,  151.300,2,  149.280,2,   35.840,2,    2.480,2, -999.000
           NA,HOT timeseries 1988to2019 27SEP2021,     88,  99,-999.0,      35,-999.0,19980414,1631,  22.7512, -157.9805,  4714, 4499.300,    1.485,   34.689,2, -999.000,3, -999.000,3,  152.400,2,  149.050,2,   35.690,2, -999.000,3, -999.000
           NA,HOT timeseries 1988to2019 27SEP2021,     88,  99,-999.0,      34,-999.0,19980414,1631,  22.7512, -157.9805,  4714, 4602.600,    1.494,   34.690,2,   34.690,2,  152.600,2,  152.600,2, -999.000,3,   35.720,2,    2.470,2, -999.000
           NA,HOT timeseries 1988to2019 27SEP2021,     88,  99,-999.0,      33,-999.0,19980414,1631,  22.7512, -157.9805,  4714, 4791.900,    1.514,   34.690,2,   34.691,2,  153.900,2,  152.800,2,  147.790,2,   35.660,2,    2.480,2, -999.000