BOTTLE,20214727JOAExport
EXPOCODE,SECT_ID,STNNBR,CASTNO,SAMPNO,BTLNBR,BTLNBR_FLAG_W,DATE,TIME,LATITUDE,LONGITUDE,DEPTH,CTDPRS,CTDTMP,CTDSAL,CTDSAL_FLAG_W,SALNTY,SALNTY_FLAG_W,CTDOXY,CTDOXY_FLAG_W,OXYGEN,OXYGEN_FLAG_W,SILCAT,SILCAT_FLAG_W,NINI,NINI_FLAG_W,PHSPHT,PHSPHT_FLAG_W,REVP
,,,,,,,,,,,,DB,IPTS-68,PSS-78,,PSS-78,,UMOL/KG,,UMOL/KG,,UMOL/KG,,UMOL/KG,,UMOL/KG,,DBAR
           NA,HOT timeseries 1988to2019 27SEP2021,     95,  99,-999.0,      31,-999.0,19981110,1812,  22.7553, -157.9980,  4719,    5.800,   25.237,   35.446,2,   35.445,2,  206.900,2,  206.000,2,    1.390,2,   -0.010,2,    0.030,2, -999.000
           NA,HOT timeseries 1988to2019 27SEP2021,     95,  99,-999.0,      30,-999.0,19981110,1812,  22.7553, -157.9980,  4719,   45.400,   25.187,   35.456,2,   35.458,2,  207.100,2,  207.500,2,    1.300,2,    0.000,2,    0.040,2, -999.000
           NA,HOT timeseries 1988to2019 27SEP2021,     95,  99,-999.0,      22,-999.0,19981110,1812,  22.7553, -157.9980,  4719,   76.600,   24.068,   35.389,2,   35.383,2,  215.000,2,  219.300,2,    1.430,2,    0.000,2,    0.030,2, -999.000
           NA,HOT timeseries 1988to2019 27SEP2021,     95,  99,-999.0,      21,-999.0,19981110,1812,  22.7553, -157.9980,  4719,  104.400,   21.711,   35.259,2, -999.000,3, -999.000,3,  221.900,2,    1.650,2,    0.010,2,    0.040,2, -999.000
           NA,HOT timeseries 1988to2019 27SEP2021,     95,  99,-999.0,      20,-999.0,19981110,1812,  22.7553, -157.9980,  4719,  141.500,   19.697,   35.125,2,   35.134,2,  207.900,2,  209.600,2,    2.140,2,    0.630,2,    0.120,2, -999.000
           NA,HOT timeseries 1988to2019 27SEP2021,     95,  99,-999.0,      19,-999.0,19981110,1812,  22.7553, -157.9980,  4719,  191.300,   17.889,   34.892,2, -999.000,3, -999.000,3,  203.600,2,    3.170,2,    2.360,2,    0.220,2, -999.000
           NA,HOT timeseries 1988to2019 27SEP2021,     95,  99,-999.0,      18,-999.0,19981110,1812,  22.7553, -157.9980,  4719,  228.500,   15.865,   34.622,2, -999.000,4, -999.000,3, -999.000,4, -999.000,4, -999.000,4, -999.000,4, -999.000
           NA,HOT timeseries 1988to2019 27SEP2021,     95,  99,-999.0,      17,-999.0,19981110,1812,  22.7553, -157.9980,  4719,  289.900,   12.227,   34.267,2,   34.268,2,  200.200,2,  200.600,2,   10.560,2,   10.640,2,    0.750,2, -999.000
           NA,HOT timeseries 1988to2019 27SEP2021,     95,  99,-999.0,      16,-999.0,19981110,1812,  22.7553, -157.9980,  4719,  346.100,   10.330,   34.100,2,   34.102,2,  186.900,2,  187.000,2,   16.990,2,   15.640,2,    1.100,2, -999.000
           NA,HOT timeseries 1988to2019 27SEP2021,     95,  99,-999.0,      15,-999.0,19981110,1812,  22.7553, -157.9980,  4719,  391.900,    8.954,   34.081,2,   34.079,2,  180.800,2,  178.200,2,   25.570,2,   19.860,2,    1.360,2, -999.000
           NA,HOT timeseries 1988to2019 27SEP2021,     95,  99,-999.0,      14,-999.0,19981110,1812,  22.7553, -157.9980,  4719,  425.300,    8.118,   34.048,2,   34.052,2,  165.000,2,  164.200,2,   31.660,2,   22.770,2,    1.550,2, -999.000
           NA,HOT timeseries 1988to2019 27SEP2021,     95,  99,-999.0,      13,-999.0,19981110,1812,  22.7553, -157.9980,  4719,  464.900,    7.178,   34.022,2,   34.026,2,  137.000,2,  137.800,2,   42.460,2,   27.090,2,    1.880,2, -999.000
           NA,HOT timeseries 1988to2019 27SEP2021,     95,  99,-999.0,      30,-999.0,19981110,1812,  22.7553, -157.9980,  4719,  502.900,    6.411,   34.039,2, -999.000,5,  105.600,2, -999.000,5, -999.000,5, -999.000,5, -999.000,5, -999.000
           NA,HOT timeseries 1988to2019 27SEP2021,     95,  99,-999.0,      12,-999.0,19981110,1812,  22.7553, -157.9980,  4719,  507.700,    6.522,   34.035,2,   34.034,2,  106.400,2,  105.700,2,   53.340,2,   31.320,2,    2.200,2, -999.000
           NA,HOT timeseries 1988to2019 27SEP2021,     95,  99,-999.0,      11,-999.0,19981110,1812,  22.7553, -157.9980,  4719,  559.600,    5.960,   34.081,2,   34.084,2,   76.600,2,   74.000,2,   64.820,2,   35.000,2,    2.490,2, -999.000
           NA,HOT timeseries 1988to2019 27SEP2021,     95,  99,-999.0,      32,-999.0,19981110,1812,  22.7553, -157.9980,  4719,  604.700,    5.568,   34.135,2,   34.132,2,   53.600,2,   53.300,2,   74.090,2,   37.350,2,    2.630,2, -999.000
           NA,HOT timeseries 1988to2019 27SEP2021,     95,  99,-999.0,       3,-999.0,19981110,1812,  22.7553, -157.9980,  4719,  657.200,    5.132,   34.221,2,   34.218,2,   37.400,2,   35.900,2,   85.570,2,   39.640,2,    2.830,2, -999.000
           NA,HOT timeseries 1988to2019 27SEP2021,     95,  99,-999.0,      29,-999.0,19981110,1812,  22.7553, -157.9980,  4719,  700.900,    4.827,   34.270,2,   34.270,2,   30.900,2,   31.200,2,   92.120,2,   40.640,2,    2.920,2, -999.000
           NA,HOT timeseries 1988to2019 27SEP2021,     95,  99,-999.0,      28,-999.0,19981110,1812,  22.7553, -157.9980,  4719,  746.500,    4.586,   34.288,2,   34.287,2,   26.200,2,   25.300,2,   97.370,2,   41.100,2,    3.050,2, -999.000
           NA,HOT timeseries 1988to2019 27SEP2021,     95,  99,-999.0,      22,-999.0,19981110,1812,  22.7553, -157.9980,  4719,  781.600,    4.465,   34.350,2,   34.349,2,   27.200,2,   25.500,2,  100.040,2,   40.740,2,    2.930,2, -999.000
           NA,HOT timeseries 1988to2019 27SEP2021,     95,  99,-999.0,       7,-999.0,19981110,1812,  22.7553, -157.9980,  4719,  802.000,    4.496,   34.370,2,   34.369,2,   25.900,2,   24.600,2,  100.690,2,   41.680,2,    2.940,2, -999.000
           NA,HOT timeseries 1988to2019 27SEP2021,     95,  99,-999.0,      38,-999.0,19981110,1812,  22.7553, -157.9980,  4719,  834.100,    4.322,   34.380,2,   34.380,2,   28.400,2,   30.200,2,  103.830,2,   41.590,2,    3.000,2, -999.000
           NA,HOT timeseries 1988to2019 27SEP2021,     95,  99,-999.0,      36,-999.0,19981110,1812,  22.7553, -157.9980,  4719,  867.000,    4.283,   34.416,2, -999.000,4, -999.000,3,   29.200,2,  104.960,2,   41.720,2,    3.000,2, -999.000
           NA,HOT timeseries 1988to2019 27SEP2021,     95,  99,-999.0,      35,-999.0,19981110,1812,  22.7553, -157.9980,  4719,  900.600,    4.155,   34.440,2,   34.440,2,   32.700,2,   32.400,2,  107.650,2,   41.730,2,    2.980,2, -999.000
           NA,HOT timeseries 1988to2019 27SEP2021,     95,  99,-999.0,      34,-999.0,19981110,1812,  22.7553, -157.9980,  4719,  950.700,    3.954,   34.463,2,   34.462,2,   37.300,2,   37.400,2,  111.250,2,   41.560,2,    2.980,2, -999.000
           NA,HOT timeseries 1988to2019 27SEP2021,     95,  99,-999.0,      21,-999.0,19981110,1812,  22.7553, -157.9980,  4719, 1002.100,    3.911,   34.478,2,   34.482,2,   40.400,2,   38.700,2,  111.020,2,   41.330,2,    2.950,2, -999.000
           NA,HOT timeseries 1988to2019 27SEP2021,     95,  99,-999.0,      33,-999.0,19981110,1812,  22.7553, -157.9980,  4719, 1019.100,    3.797,   34.495,2,   34.496,2,   42.400,2,   44.200,2,  114.260,2,   41.370,2,    2.960,2, -999.000
           NA,HOT timeseries 1988to2019 27SEP2021,     95,  99,-999.0,      20,-999.0,19981110,1812,  22.7553, -157.9980,  4719, 1200.400,    3.434,   34.527,2, -999.000,5,   50.700,2, -999.000,5, -999.000,5, -999.000,5, -999.000,5, -999.000
           NA,HOT timeseries 1988to2019 27SEP2021,     95,  99,-999.0,      19,-999.0,19981110,1812,  22.7553, -157.9980,  4719, 1399.400,    3.003,   34.562,2,   34.560,2,   61.600,2,   62.400,2,  130.630,2,   40.660,2,    2.880,2, -999.000
           NA,HOT timeseries 1988to2019 27SEP2021,     95,  99,-999.0,      18,-999.0,19981110,1812,  22.7553, -157.9980,  4719, 1600.800,    2.647,   34.588,2,   34.587,2,   69.900,2,   71.800,2,  138.480,2,   40.210,2,    2.850,2, -999.000
           NA,HOT timeseries 1988to2019 27SEP2021,     95,  99,-999.0,      17,-999.0,19981110,1812,  22.7553, -157.9980,  4719, 1799.700,    2.318,   34.607,2,   34.607,2,   79.200,2,   82.300,2,  146.650,2,   39.740,2,    2.830,2, -999.000
           NA,HOT timeseries 1988to2019 27SEP2021,     95,  99,-999.0,      16,-999.0,19981110,1812,  22.7553, -157.9980,  4719, 1999.600,    2.068,   34.622,2,   34.623,2,   87.500,2,   88.100,2,  152.500,2,   39.430,2,    2.760,2, -999.000
           NA,HOT timeseries 1988to2019 27SEP2021,     95,  99,-999.0,      15,-999.0,19981110,1812,  22.7553, -157.9980,  4719, 2200.500,    1.896,   34.637,2,   34.638,2,   87.500,2,   97.400,2,  155.730,2,   38.820,2,    2.760,2, -999.000
           NA,HOT timeseries 1988to2019 27SEP2021,     95,  99,-999.0,      14,-999.0,19981110,1812,  22.7553, -157.9980,  4719, 2399.800,    1.773,   34.647,2,   34.648,2,  103.500,2,  104.900,2,  157.310,2,   38.520,2,    2.710,2, -999.000
           NA,HOT timeseries 1988to2019 27SEP2021,     95,  99,-999.0,      13,-999.0,19981110,1812,  22.7553, -157.9980,  4719, 2600.800,    1.668,   34.656,2,   34.658,2,  100.100,2,  111.400,2,  159.110,2,   37.980,2, -999.000,3, -999.000
           NA,HOT timeseries 1988to2019 27SEP2021,     95,  99,-999.0,      12,-999.0,19981110,1812,  22.7553, -157.9980,  4719, 2800.000,    1.595,   34.663,2,   34.664,2,  117.200,2,  116.900,2,  160.350,2,   37.660,2,    2.640,2, -999.000
           NA,HOT timeseries 1988to2019 27SEP2021,     95,  99,-999.0,      11,-999.0,19981110,1812,  22.7553, -157.9980,  4719, 3001.100,    1.546,   34.670,2,   34.672,2,  123.700,2,  124.000,2,  158.600,2,   37.290,2,    2.630,2, -999.000
           NA,HOT timeseries 1988to2019 27SEP2021,     95,  99,-999.0,      32,-999.0,19981110,1812,  22.7553, -157.9980,  4719, 3200.300,    1.512,   34.675,2,   34.677,2,  129.200,2,  129.400,2,  157.710,2,   36.820,2,    2.550,2, -999.000
           NA,HOT timeseries 1988to2019 27SEP2021,     95,  99,-999.0,       3,-999.0,19981110,1812,  22.7553, -157.9980,  4719, 3401.600,    1.477,   34.680,2,   34.681,2,  135.300,2,  135.800,2,  156.160,2,   36.450,2,    2.530,2, -999.000
           NA,HOT timeseries 1988to2019 27SEP2021,     95,  99,-999.0,      29,-999.0,19981110,1812,  22.7553, -157.9980,  4719, 3601.700,    1.462,   34.683,2,   34.683,2,  139.900,2,  141.700,2,  154.410,2,   36.320,2,    2.540,2, -999.000
           NA,HOT timeseries 1988to2019 27SEP2021,     95,  99,-999.0,      28,-999.0,19981110,1812,  22.7553, -157.9980,  4719, 3801.100,    1.459,   34.685,2,   34.688,2,  143.800,2,  144.100,2,  153.040,2,   36.140,2,    2.520,2, -999.000
           NA,HOT timeseries 1988to2019 27SEP2021,     95,  99,-999.0,       7,-999.0,19981110,1812,  22.7553, -157.9980,  4719, 4000.200,    1.461,   34.687,2,   34.687,2,  146.900,2,  146.800,2,  152.270,2,   35.890,2,    2.500,2, -999.000
           NA,HOT timeseries 1988to2019 27SEP2021,     95,  99,-999.0,      38,-999.0,19981110,1812,  22.7553, -157.9980,  4719, 4201.700,    1.464,   34.688,2,   34.687,2,  150.200,2,  149.400,2,  150.860,2,   35.690,2,    2.490,2, -999.000
           NA,HOT timeseries 1988to2019 27SEP2021,     95,  99,-999.0,      36,-999.0,19981110,1812,  22.7553, -157.9980,  4719, 4402.600,    1.469,   34.690,2,   34.692,2,  152.900,2,  152.300,2,  148.400,2,   35.610,2,    2.450,2, -999.000
           NA,HOT timeseries 1988to2019 27SEP2021,     95,  99,-999.0,      35,-999.0,19981110,1812,  22.7553, -157.9980,  4719, 4500.600,    1.474,   34.690,2,   34.689,2,  154.100,2,  153.400,2,  147.420,2,   35.400,2,    2.490,2, -999.000
           NA,HOT timeseries 1988to2019 27SEP2021,     95,  99,-999.0,      34,-999.0,19981110,1812,  22.7553, -157.9980,  4719, 4603.200,    1.476,   34.691,2,   34.693,2,  155.800,2,  156.200,2,  146.850,2,   35.440,2,    2.480,2, -999.000
           NA,HOT timeseries 1988to2019 27SEP2021,     95,  99,-999.0,      33,-999.0,19981110,1812,  22.7553, -157.9980,  4719, 4806.900,    1.499,   34.691,2,   34.691,2,  157.000,2,  157.200,2,  146.010,2,   35.360,2,    2.450,2, -999.000