BOTTLE,20214727JOAExport
EXPOCODE,SECT_ID,STNNBR,CASTNO,SAMPNO,BTLNBR,BTLNBR_FLAG_W,DATE,TIME,LATITUDE,LONGITUDE,DEPTH,CTDPRS,CTDTMP,CTDSAL,CTDSAL_FLAG_W,SALNTY,SALNTY_FLAG_W,CTDOXY,CTDOXY_FLAG_W,OXYGEN,OXYGEN_FLAG_W,SILCAT,SILCAT_FLAG_W,NINI,NINI_FLAG_W,PHSPHT,PHSPHT_FLAG_W,REVP
,,,,,,,,,,,,DB,IPTS-68,PSS-78,,PSS-78,,UMOL/KG,,UMOL/KG,,UMOL/KG,,UMOL/KG,,UMOL/KG,,DBAR
           NA,HOT timeseries 1988to2019 27SEP2021,     75,  99,-999.0,      31,-999.0,19970107,1358,  22.7495, -157.9982,  4724,    4.600,   23.558,   34.905,2,   34.905,2,  211.100,2,  209.400,2,    0.990,2,    0.000,2,    0.070,2, -999.000
           NA,HOT timeseries 1988to2019 27SEP2021,     75,  99,-999.0,      31,-999.0,19970107,1358,  22.7495, -157.9982,  4724,    5.100,   23.520,   34.914,2,   34.914,2,  209.600,2,  209.900,2,    1.440,2,    0.000,2,    0.090,2, -999.000
           NA,HOT timeseries 1988to2019 27SEP2021,     75,  99,-999.0,      30,-999.0,19970107,1358,  22.7495, -157.9982,  4724,   25.300,   23.525,   34.930,2,   34.931,2,  209.700,2,  210.100,2,    1.060,2,    0.000,2,    0.080,2, -999.000
           NA,HOT timeseries 1988to2019 27SEP2021,     75,  99,-999.0,      22,-999.0,19970107,1358,  22.7495, -157.9982,  4724,   57.400,   22.820,   35.033,2,   35.031,2,  209.900,2,  210.100,2,    1.560,2,    0.010,2,    0.110,2, -999.000
           NA,HOT timeseries 1988to2019 27SEP2021,     75,  99,-999.0,      21,-999.0,19970107,1358,  22.7495, -157.9982,  4724,  100.800,   21.009,   35.086,2,   35.085,2,  197.800,2,  200.100,2,    1.670,2,    0.920,2,    0.170,2, -999.000
           NA,HOT timeseries 1988to2019 27SEP2021,     75,  99,-999.0,      30,-999.0,19970107,1358,  22.7495, -157.9982,  4724,  143.700,   20.082,   35.086,2,   35.086,2,  200.300,2,  200.100,2,    2.210,2,    1.120,2,    0.150,2, -999.000
           NA,HOT timeseries 1988to2019 27SEP2021,     75,  99,-999.0,      20,-999.0,19970107,1358,  22.7495, -157.9982,  4724,  152.600,   19.081,   35.006,2,   35.004,2,  194.700,2,  195.400,2,    2.630,2,    2.180,2,    0.240,2, -999.000
           NA,HOT timeseries 1988to2019 27SEP2021,     75,  99,-999.0,      19,-999.0,19970107,1358,  22.7495, -157.9982,  4724,  224.600,   15.859,   34.652,2,   34.651,2,  202.000,2,  200.500,2,    4.690,2,    4.800,2,    0.410,2, -999.000
           NA,HOT timeseries 1988to2019 27SEP2021,     75,  99,-999.0,      18,-999.0,19970107,1358,  22.7495, -157.9982,  4724,  263.100,   15.085,   34.571,2,   34.556,2,  206.500,2,  202.700,2,    5.580,2,    5.870,2,    0.480,2, -999.000
           NA,HOT timeseries 1988to2019 27SEP2021,     75,  99,-999.0,      17,-999.0,19970107,1358,  22.7495, -157.9982,  4724,  303.000,   13.429,   34.390,2,   34.389,2,  199.100,2,  197.300,2,    8.480,2,    8.850,2,    0.670,2, -999.000
           NA,HOT timeseries 1988to2019 27SEP2021,     75,  99,-999.0,      16,-999.0,19970107,1358,  22.7495, -157.9982,  4724,  320.700,   12.567,   34.311,2,   34.313,2,  194.200,2,  194.500,2,   10.030,2,   10.650,2,    0.810,2, -999.000
           NA,HOT timeseries 1988to2019 27SEP2021,     75,  99,-999.0,      15,-999.0,19970107,1358,  22.7495, -157.9982,  4724,  362.900,   11.103,   34.188,2,   34.184,2,  197.400,2,  197.400,2,   13.520,2,   13.350,2,    0.990,2, -999.000
           NA,HOT timeseries 1988to2019 27SEP2021,     75,  99,-999.0,      14,-999.0,19970107,1358,  22.7495, -157.9982,  4724,  380.200,   10.381,   34.156,2,   34.156,2,  193.500,2,  194.300,2,   16.300,2,   15.140,2,    1.120,2, -999.000
           NA,HOT timeseries 1988to2019 27SEP2021,     75,  99,-999.0,      13,-999.0,19970107,1358,  22.7495, -157.9982,  4724,  426.500,    8.870,   34.080,2,   34.078,2,  179.100,2,  178.000,2,   25.020,2,   19.830,2,    1.430,2, -999.000
           NA,HOT timeseries 1988to2019 27SEP2021,     75,  99,-999.0,      12,-999.0,19970107,1358,  22.7495, -157.9982,  4724,  498.300,    7.204,   34.041,2,   34.040,2,  137.700,2,  133.100,2,   42.510,2,   27.170,2,    1.950,2, -999.000
           NA,HOT timeseries 1988to2019 27SEP2021,     75,  99,-999.0,      22,-999.0,19970107,1358,  22.7495, -157.9982,  4724,  506.800,    7.400,   34.040,2,   34.039,2,  143.500,2,  142.600,2,   39.500,2,   25.640,2,    1.760,2, -999.000
           NA,HOT timeseries 1988to2019 27SEP2021,     75,  99,-999.0,      11,-999.0,19970107,1358,  22.7495, -157.9982,  4724,  527.000,    6.861,   34.057,2,   34.056,2,  111.900,2,  110.000,2,   48.610,2,   29.700,2,    2.160,2, -999.000
           NA,HOT timeseries 1988to2019 27SEP2021,     75,  99,-999.0,      32,-999.0,19970107,1358,  22.7495, -157.9982,  4724,  551.300,    6.404,   34.067,2,   34.066,2,   97.000,2,   91.500,2,   55.920,2,   32.210,2,    2.360,2, -999.000
           NA,HOT timeseries 1988to2019 27SEP2021,     75,  99,-999.0,       3,-999.0,19970107,1358,  22.7495, -157.9982,  4724,  582.300,    5.879,   34.086,2,   34.084,2,   70.600,2, -999.000,4,   65.040,2,   34.910,2,    2.570,2, -999.000
           NA,HOT timeseries 1988to2019 27SEP2021,     75,  99,-999.0,      29,-999.0,19970107,1358,  22.7495, -157.9982,  4724,  631.300,    5.401,   34.135,2,   34.134,2,   49.200,2,   47.800,2,   75.360,2,   37.510,2,    2.770,2, -999.000
           NA,HOT timeseries 1988to2019 27SEP2021,     75,  99,-999.0,      28,-999.0,19970107,1358,  22.7495, -157.9982,  4724,  697.700,    4.803,   34.202,2,   34.201,2,   39.800,2,   38.300,2,   88.620,2,   39.310,2,    2.900,2, -999.000
           NA,HOT timeseries 1988to2019 27SEP2021,     75,  99,-999.0,       7,-999.0,19970107,1358,  22.7495, -157.9982,  4724,  739.900,    4.738,   34.263,2,   34.264,2,   33.000,2,   31.900,2,   91.730,2,   40.000,2,    2.950,2, -999.000
           NA,HOT timeseries 1988to2019 27SEP2021,     75,  99,-999.0,      38,-999.0,19970107,1358,  22.7495, -157.9982,  4724,  778.400,    4.650,   34.306,2,   34.305,2,   30.000,2,   29.200,2,   95.190,2,   40.460,2,    2.980,2, -999.000
           NA,HOT timeseries 1988to2019 27SEP2021,     75,  99,-999.0,      36,-999.0,19970107,1358,  22.7495, -157.9982,  4724,  854.700,    4.343,   34.385,2,   34.386,2,   31.200,2,   30.100,2,  100.690,2,   41.040,2,    3.030,2, -999.000
           NA,HOT timeseries 1988to2019 27SEP2021,     75,  99,-999.0,      35,-999.0,19970107,1358,  22.7495, -157.9982,  4724,  919.300,    4.185,   34.430,2,   34.429,2,   35.000,2,   34.100,2,  104.830,2,   41.060,2,    2.990,2, -999.000
           NA,HOT timeseries 1988to2019 27SEP2021,     75,  99,-999.0,      34,-999.0,19970107,1358,  22.7495, -157.9982,  4724,  989.100,    3.972,   34.465,2,   34.466,2,   39.600,2,   39.700,2,  108.690,2,   41.010,2,    3.010,2, -999.000
           NA,HOT timeseries 1988to2019 27SEP2021,     75,  99,-999.0,      33,-999.0,19970107,1358,  22.7495, -157.9982,  4724, 1022.100,    3.890,   34.477,2,   34.477,2,   42.000,2,   42.500,2,  109.840,2,   41.090,2,    3.020,2, -999.000
           NA,HOT timeseries 1988to2019 27SEP2021,     75,  99,-999.0,      20,-999.0,19970107,1358,  22.7495, -157.9982,  4724, 1200.000,    3.510,   34.528,2,   34.528,2,   50.700,2,   50.500,2,  117.400,2,   40.820,2,    2.920,2, -999.000
           NA,HOT timeseries 1988to2019 27SEP2021,     75,  99,-999.0,      19,-999.0,19970107,1358,  22.7495, -157.9982,  4724, 1397.400,    3.059,   34.556,2,   34.556,2,   59.400,2,   59.300,2,  127.550,2,   40.610,2,    2.910,2, -999.000
           NA,HOT timeseries 1988to2019 27SEP2021,     75,  99,-999.0,      18,-999.0,19970107,1358,  22.7495, -157.9982,  4724, 1600.200,    2.635,   34.581,2,   34.583,2,   69.900,2,   70.100,2,  137.630,2,   40.010,2,    2.860,2, -999.000
           NA,HOT timeseries 1988to2019 27SEP2021,     75,  99,-999.0,      17,-999.0,19970107,1358,  22.7495, -157.9982,  4724, 1799.500,    2.343,   34.598,2,   34.598,2,   78.100,2,   78.300,2,  143.730,2,   39.680,2,    2.820,2, -999.000
           NA,HOT timeseries 1988to2019 27SEP2021,     75,  99,-999.0,      16,-999.0,19970107,1358,  22.7495, -157.9982,  4724, 2000.300,    2.102,   34.615,2,   34.616,2,   84.700,2,   86.400,2,  150.370,2,   39.200,2,    2.790,2, -999.000
           NA,HOT timeseries 1988to2019 27SEP2021,     75,  99,-999.0,      15,-999.0,19970107,1358,  22.7495, -157.9982,  4724, 2199.700,    1.914,   34.629,2,   34.630,2,   92.400,2,   92.400,2,  155.000,2,   38.900,2,    2.750,2, -999.000
           NA,HOT timeseries 1988to2019 27SEP2021,     75,  99,-999.0,      14,-999.0,19970107,1358,  22.7495, -157.9982,  4724, 2400.800,    1.811,   34.639,2,   34.640,2,   97.700,2,  100.300,2,  156.300,2,   38.450,2,    2.720,2, -999.000
           NA,HOT timeseries 1988to2019 27SEP2021,     75,  99,-999.0,      13,-999.0,19970107,1358,  22.7495, -157.9982,  4724, 2601.300,    1.706,   34.650,2,   34.653,2,  107.900,2,  109.600,2, -999.000,3,   37.810,2,    2.670,2, -999.000
           NA,HOT timeseries 1988to2019 27SEP2021,     75,  99,-999.0,      12,-999.0,19970107,1358,  22.7495, -157.9982,  4724, 2798.600,    1.618,   34.658,2,   34.660,2,  115.300,2,  116.600,2,  156.620,2,   37.390,2,    2.630,2, -999.000
           NA,HOT timeseries 1988to2019 27SEP2021,     75,  99,-999.0,      11,-999.0,19970107,1358,  22.7495, -157.9982,  4724, 2997.700,    1.564,   34.665,2,   34.667,2,  121.800,2,  122.500,2,  156.370,2,   36.950,2,    2.600,2, -999.000
           NA,HOT timeseries 1988to2019 27SEP2021,     75,  99,-999.0,      32,-999.0,19970107,1358,  22.7495, -157.9982,  4724, 3198.700,    1.519,   34.671,2,   34.670,2,  128.900,2,  130.500,2,  155.340,2,   36.480,2,    2.570,2, -999.000
           NA,HOT timeseries 1988to2019 27SEP2021,     75,  99,-999.0,       3,-999.0,19970107,1358,  22.7495, -157.9982,  4724, 3400.200,    1.490,   34.675,2,   34.676,2,  134.700,2,  134.900,2,  153.390,2,   36.170,2,    2.540,2, -999.000
           NA,HOT timeseries 1988to2019 27SEP2021,     75,  99,-999.0,      29,-999.0,19970107,1358,  22.7495, -157.9982,  4724, 3599.700,    1.465,   34.679,2,   34.680,2,  140.400,2,  140.300,2,  151.520,2,   35.830,2,    2.520,2, -999.000
           NA,HOT timeseries 1988to2019 27SEP2021,     75,  99,-999.0,      28,-999.0,19970107,1358,  22.7495, -157.9982,  4724, 3800.500,    1.456,   34.682,2,   34.681,2,  144.500,2,  144.100,2,  150.620,2,   35.660,2,    2.500,2, -999.000
           NA,HOT timeseries 1988to2019 27SEP2021,     75,  99,-999.0,       7,-999.0,19970107,1358,  22.7495, -157.9982,  4724, 4000.100,    1.456,   34.684,2,   34.683,2,  147.600,2,  147.500,2,  149.820,2,   35.450,2,    2.480,2, -999.000
           NA,HOT timeseries 1988to2019 27SEP2021,     75,  99,-999.0,      38,-999.0,19970107,1358,  22.7495, -157.9982,  4724, 4200.800,    1.463,   34.685,2,   34.685,2,  150.900,2,  149.300,2,  147.720,2,   35.260,2,    2.470,2, -999.000
           NA,HOT timeseries 1988to2019 27SEP2021,     75,  99,-999.0,      36,-999.0,19970107,1358,  22.7495, -157.9982,  4724, 4401.100,    1.477,   34.686,2,   34.686,2,  151.500,2,  151.500,2,  146.960,2,   35.340,2,    2.470,2, -999.000
           NA,HOT timeseries 1988to2019 27SEP2021,     75,  99,-999.0,      35,-999.0,19970107,1358,  22.7495, -157.9982,  4724, 4502.000,    1.485,   34.687,2,   34.687,2,  153.200,2, -999.000,3,  146.880,2,   35.240,2,    2.470,2, -999.000
           NA,HOT timeseries 1988to2019 27SEP2021,     75,  99,-999.0,      34,-999.0,19970107,1358,  22.7495, -157.9982,  4724, 4602.800,    1.493,   34.687,2,   34.686,2,  153.600,2, -999.000,3,  146.380,2,   35.250,2,    2.470,2, -999.000
           NA,HOT timeseries 1988to2019 27SEP2021,     75,  99,-999.0,      33,-999.0,19970107,1358,  22.7495, -157.9982,  4724, 4810.100,    1.494,   34.689,2,   34.688,2,  157.800,2,  156.400,2, -999.000,3,   34.850,2,    2.450,2, -999.000