BOTTLE,20214727JOAExport
EXPOCODE,SECT_ID,STNNBR,CASTNO,SAMPNO,BTLNBR,BTLNBR_FLAG_W,DATE,TIME,LATITUDE,LONGITUDE,DEPTH,CTDPRS,CTDTMP,CTDSAL,CTDSAL_FLAG_W,SALNTY,SALNTY_FLAG_W,CTDOXY,CTDOXY_FLAG_W,OXYGEN,OXYGEN_FLAG_W,SILCAT,SILCAT_FLAG_W,NINI,NINI_FLAG_W,PHSPHT,PHSPHT_FLAG_W,REVP
,,,,,,,,,,,,DB,IPTS-68,PSS-78,,PSS-78,,UMOL/KG,,UMOL/KG,,UMOL/KG,,UMOL/KG,,UMOL/KG,,DBAR
           NA,HOT timeseries 1988to2019 27SEP2021,    228,  99,-999.0,    8024,-999.0,20120731,2205,  22.7500, -158.0000,  4741,    9.600,   25.058,   35.132,2,   35.133,2,  210.000,2,  208.300,2,    1.250,2,    0.010,2,    0.120,2, -999.000
           NA,HOT timeseries 1988to2019 27SEP2021,    228,  99,-999.0,    8024,-999.0,20120731,2205,  22.7500, -158.0000,  4741,   11.600,   24.972,   35.136,2,   35.136,2,  209.300,2,  209.000,2,    1.370,2,    0.060,2,    0.110,2, -999.000
           NA,HOT timeseries 1988to2019 27SEP2021,    228,  99,-999.0,    8023,-999.0,20120731,2205,  22.7500, -158.0000,  4741,   60.500,   23.730,   35.256,2,   35.255,2,  220.000,2,  220.400,2,    1.180,2,    0.010,2,    0.090,2, -999.000
           NA,HOT timeseries 1988to2019 27SEP2021,    228,  99,-999.0,    8022,-999.0,20120731,2205,  22.7500, -158.0000,  4741,  107.000,   22.328,   35.296,2,   35.297,2,  214.200,2,  212.900,2,    1.230,2,    0.020,2,    0.110,2, -999.000
           NA,HOT timeseries 1988to2019 27SEP2021,    228,  99,-999.0,    8021,-999.0,20120731,2205,  22.7500, -158.0000,  4741,  149.500,   21.134,   35.203,2,   35.204,2,  198.800,2,  201.400,2,    1.570,2,    0.860,2,    0.170,2, -999.000
           NA,HOT timeseries 1988to2019 27SEP2021,    228,  99,-999.0,    8020,-999.0,20120731,2205,  22.7500, -158.0000,  4741,  190.800,   19.215,   34.937,2, -999.000,3, -999.000,3,  190.200,2,    1.730,2,    2.820,2,    0.290,2, -999.000
           NA,HOT timeseries 1988to2019 27SEP2021,    228,  99,-999.0,    8019,-999.0,20120731,2205,  22.7500, -158.0000,  4741,  254.400,   15.405,   34.421,2, -999.000,3, -999.000,3,  191.600,2,    4.730,2,    6.230,2,    0.520,2, -999.000
           NA,HOT timeseries 1988to2019 27SEP2021,    228,  99,-999.0,    8018,-999.0,20120731,2205,  22.7500, -158.0000,  4741,  320.400,   12.357,   34.188,2,   34.176,2,  198.500,2,  194.600,2,    9.950,2,   11.330,2,    0.850,2, -999.000
           NA,HOT timeseries 1988to2019 27SEP2021,    228,  99,-999.0,    8017,-999.0,20120731,2205,  22.7500, -158.0000,  4741,  359.000,   10.588,   34.091,2,   34.092,2,  185.300,2,  183.600,2,   15.970,2,   15.800,2,    1.150,2, -999.000
           NA,HOT timeseries 1988to2019 27SEP2021,    228,  99,-999.0,    8016,-999.0,20120731,2205,  22.7500, -158.0000,  4741,  412.300,    8.900,   34.074,2,   34.075,2,  160.100,2,  162.000,2,   26.980,2,   21.480,2,    1.530,2, -999.000
           NA,HOT timeseries 1988to2019 27SEP2021,    228,  99,-999.0,    8015,-999.0,20120731,2205,  22.7500, -158.0000,  4741,  450.300,    7.948,   34.071,2,   34.065,2,  116.300,2,  129.900,2,   35.630,2,   25.850,2,    1.870,2, -999.000
           NA,HOT timeseries 1988to2019 27SEP2021,    228,  99,-999.0,    8014,-999.0,20120731,2205,  22.7500, -158.0000,  4741,  478.300,    7.442,   34.081,2,   34.081,2,   95.500,2,   99.400,2,   44.530,2,   29.750,2,    2.180,2, -999.000
           NA,HOT timeseries 1988to2019 27SEP2021,    228,  99,-999.0,    8025,-999.0,20120731,2205,  22.7500, -158.0000,  4741,  513.300,    6.825,   34.080,2,   34.078,2,   85.000,2,   81.900,2,   53.030,2,   32.920,2,    2.390,2, -999.000
           NA,HOT timeseries 1988to2019 27SEP2021,    228,  99,-999.0,    8012,-999.0,20120731,2205,  22.7500, -158.0000,  4741,  561.500,    5.929,   34.086,2,   34.088,2,   60.100,2,   60.400,2,   65.700,2,   36.330,2,    2.660,2, -999.000
           NA,HOT timeseries 1988to2019 27SEP2021,    228,  99,-999.0,    8011,-999.0,20120731,2205,  22.7500, -158.0000,  4741,  610.300,    5.368,   34.148,2,   34.143,2,   38.800,2,   40.300,2,   76.800,2,   38.800,2,    2.830,2, -999.000
           NA,HOT timeseries 1988to2019 27SEP2021,    228,  99,-999.0,    8011,-999.0,20120731,2205,  22.7500, -158.0000,  4741,  610.300,    5.368,   34.148,2,   34.143,2,   38.800,2,   40.300,2,   76.800,2,   38.800,2,    2.830,2, -999.000
           NA,HOT timeseries 1988to2019 27SEP2021,    228,  99,-999.0,    8009,-999.0,20120731,2205,  22.7500, -158.0000,  4741,  713.500,    4.953,   34.298,2, -999.000,3, -999.000,3,   23.400,2,   88.970,2,   41.010,2,    3.000,2, -999.000
           NA,HOT timeseries 1988to2019 27SEP2021,    228,  99,-999.0,    8026,-999.0,20120731,2205,  22.7500, -158.0000,  4741,  805.600,    4.594,   34.360,2,   34.360,2,   24.400,2, -999.000,5,   97.330,2,   41.710,2,    3.040,2, -999.000
           NA,HOT timeseries 1988to2019 27SEP2021,    228,  99,-999.0,    8006,-999.0,20120731,2205,  22.7500, -158.0000,  4741,  856.100,    4.408,   34.394,2,   34.396,2,   27.400,2,   27.200,2,  100.950,2,   41.750,2,    3.030,2, -999.000
           NA,HOT timeseries 1988to2019 27SEP2021,    228,  99,-999.0,    8005,-999.0,20120731,2205,  22.7500, -158.0000,  4741,  894.900,    4.344,   34.421,2,   34.423,2,   30.700,2,   30.600,2,  101.760,2,   41.620,2,    3.020,2, -999.000
           NA,HOT timeseries 1988to2019 27SEP2021,    228,  99,-999.0,    8004,-999.0,20120731,2205,  22.7500, -158.0000,  4741,  935.400,    4.269,   34.446,2,   34.447,2,   34.000,2,   33.300,2,  103.360,2,   41.810,2,    3.020,2, -999.000
           NA,HOT timeseries 1988to2019 27SEP2021,    228,  99,-999.0,    8003,-999.0,20120731,2205,  22.7500, -158.0000,  4741,  974.700,    4.190,   34.468,2,   34.469,2,   35.800,2,   36.100,2,  104.380,2,   41.710,2,    3.020,2, -999.000
           NA,HOT timeseries 1988to2019 27SEP2021,    228,  99,-999.0,    8001,-999.0,20120731,2205,  22.7500, -158.0000,  4741, 1020.200,    4.099,   34.489,2,   34.489,2,   37.000,2,   37.300,2,  105.770,2,   41.650,2,    3.010,2, -999.000
           NA,HOT timeseries 1988to2019 27SEP2021,    228,  99,-999.0,    8020,-999.0,20120731,2205,  22.7500, -158.0000,  4741, 1200.400,    3.526,   34.533,2,   34.532,2,   48.900,2,   49.100,2,  119.210,2,   41.600,2,    2.970,2, -999.000
           NA,HOT timeseries 1988to2019 27SEP2021,    228,  99,-999.0,    8019,-999.0,20120731,2205,  22.7500, -158.0000,  4741, 1400.100,    3.015,   34.564,2,   34.564,2,   60.300,2,   60.400,2,  130.200,2,   41.130,2,    2.930,2, -999.000
           NA,HOT timeseries 1988to2019 27SEP2021,    228,  99,-999.0,    8018,-999.0,20120731,2205,  22.7500, -158.0000,  4741, 1600.700,    2.661,   34.588,2,   34.588,2,   70.000,2,   70.500,2,  137.670,2,   40.650,2,    2.880,2, -999.000
           NA,HOT timeseries 1988to2019 27SEP2021,    228,  99,-999.0,    8017,-999.0,20120731,2205,  22.7500, -158.0000,  4741, 1799.400,    2.399,   34.603,2,   34.602,2,   77.500,2,   77.500,2,  143.880,2,   40.230,2,    2.840,2, -999.000
           NA,HOT timeseries 1988to2019 27SEP2021,    228,  99,-999.0,    8016,-999.0,20120731,2205,  22.7500, -158.0000,  4741, 2000.300,    2.155,   34.620,2,   34.620,2,   87.600,2,   87.900,2,  148.590,2,   39.630,2,    2.790,2, -999.000
           NA,HOT timeseries 1988to2019 27SEP2021,    228,  99,-999.0,    8015,-999.0,20120731,2205,  22.7500, -158.0000,  4741, 2200.200,    1.981,   34.632,2,   34.631,2,   94.500,2,   95.100,2,  152.760,2,   39.220,2,    2.740,2, -999.000
           NA,HOT timeseries 1988to2019 27SEP2021,    228,  99,-999.0,    8014,-999.0,20120731,2205,  22.7500, -158.0000,  4741, 2400.600,    1.842,   34.642,2,   34.640,2,  101.600,2,  100.800,2,  155.850,2,   38.860,2,    2.720,2, -999.000
           NA,HOT timeseries 1988to2019 27SEP2021,    228,  99,-999.0,    8025,-999.0,20120731,2205,  22.7500, -158.0000,  4741, 2599.300,    1.743,   34.650,2,   34.650,2,  107.300,2,  107.200,2,  157.330,2,   38.500,2,    2.680,2, -999.000
           NA,HOT timeseries 1988to2019 27SEP2021,    228,  99,-999.0,    8012,-999.0,20120731,2205,  22.7500, -158.0000,  4741, 2799.500,    1.638,   34.660,2,   34.660,2,  115.800,2,  116.200,2,  158.170,2,   37.970,2,    2.650,2, -999.000
           NA,HOT timeseries 1988to2019 27SEP2021,    228,  99,-999.0,    8011,-999.0,20120731,2205,  22.7500, -158.0000,  4741, 2999.800,    1.577,   34.666,2,   34.666,2,  121.700,2,  122.000,2,  158.050,2,   37.520,2,    2.600,2, -999.000
           NA,HOT timeseries 1988to2019 27SEP2021,    228,  99,-999.0,    8010,-999.0,20120731,2205,  22.7500, -158.0000,  4741, 3199.600,    1.525,   34.673,2,   34.673,2,  129.300,2,  129.900,2,  156.290,2,   36.980,2,    2.570,2, -999.000
           NA,HOT timeseries 1988to2019 27SEP2021,    228,  99,-999.0,    8009,-999.0,20120731,2205,  22.7500, -158.0000,  4741, 3399.200,    1.485,   34.678,2,   34.679,2,  135.100,2,  134.600,2,  155.920,2,   36.720,2,    2.540,2, -999.000
           NA,HOT timeseries 1988to2019 27SEP2021,    228,  99,-999.0,    8008,-999.0,20120731,2205,  22.7500, -158.0000,  4741, 3600.000,    1.472,   34.681,2,   34.681,2,  139.100,2,  139.200,2,  154.380,2,   36.400,2,    2.530,2, -999.000
           NA,HOT timeseries 1988to2019 27SEP2021,    228,  99,-999.0,    8026,-999.0,20120731,2205,  22.7500, -158.0000,  4741, 3800.000,    1.458,   34.684,2,   34.683,2,  144.500,2,  143.900,2,  151.650,2,   36.100,2,    2.490,2, -999.000
           NA,HOT timeseries 1988to2019 27SEP2021,    228,  99,-999.0,    8006,-999.0,20120731,2205,  22.7500, -158.0000,  4741, 3999.000,    1.461,   34.685,2,   34.685,2,  147.000,2,  146.100,2,  150.570,2,   35.910,2,    2.490,2, -999.000
           NA,HOT timeseries 1988to2019 27SEP2021,    228,  99,-999.0,    8005,-999.0,20120731,2205,  22.7500, -158.0000,  4741, 4200.700,    1.466,   34.687,2,   34.687,2,  149.400,2, -999.000,5,  148.620,2,   35.760,2,    2.480,2, -999.000
           NA,HOT timeseries 1988to2019 27SEP2021,    228,  99,-999.0,    8004,-999.0,20120731,2205,  22.7500, -158.0000,  4741, 4400.600,    1.480,   34.688,2,   34.687,2,  150.600,2,  151.200,2,  147.870,2,   35.680,2,    2.470,2, -999.000
           NA,HOT timeseries 1988to2019 27SEP2021,    228,  99,-999.0,    8003,-999.0,20120731,2205,  22.7500, -158.0000,  4741, 4501.200,    1.489,   34.688,2,   34.687,2,  151.300,2,  151.000,2,  147.700,2,   35.640,2,    2.470,2, -999.000
           NA,HOT timeseries 1988to2019 27SEP2021,    228,  99,-999.0,    8002,-999.0,20120731,2205,  22.7500, -158.0000,  4741, 4600.300,    1.499,   34.688,2,   34.688,2,  151.400,2,  151.800,2,  146.810,2,   35.690,2,    2.470,2, -999.000
           NA,HOT timeseries 1988to2019 27SEP2021,    228,  99,-999.0,    8001,-999.0,20120731,2205,  22.7500, -158.0000,  4741, 4809.200,    1.522,   34.688,2,   34.689,2,  151.500,2,  151.400,2,  146.600,2,   35.500,2,    2.460,2, -999.000