BOTTLE,20020809WHPSIObren
EXPOCODE,SECT_ID,STNNBR,CASTNO,SAMPNO,BTLNBR,BTLNBR_FLAG_W,DATE,TIME,LATITUDE,LONGITUDE,DEPTH,CTDPRS,CTDTMP,CTDSAL,CTDSAL_FLAG_W,SALNTY,SALNTY_FLAG_W,CTDOXY,CTDOXY_FLAG_W,OXYGEN,OXYGEN_FLAG_W,SILCAT,SILCAT_FLAG_W,NO2+NO3,NO2+NO3_FLAG_W,PHSPHT,PHSPHT_FLAG_W,CTDRAW,REVTMP,REVPRS,THETA
,,,,,,,,,,,,DBAR,ITS-90,PSS-78,,PSS-78,,UMOL/KG,,UMOL/KG,,UMOL/KG,,UMOL/KG,,UMOL/KG,,,DEG C,DBAR,ITS-90
     33KI131_1,  PRS2,     2,  4,     14,     14,2,20011023,0000, 22.7587,-157.9975, 4717,      5.7,  25.5201,  35.4110,2,  35.4111,2,    205.1,1,   -999.0,9,  -999.00,9,  -999.00,9,  -999.00,9,      6,-999.000,  -999.0, 25.5188
     33KI131_1,  PRS2,     2,  4,     13,     13,2,20011023,0000, 22.7587,-157.9975, 4717,     26.4,  25.4399,  35.4083,2,  35.4084,2,    207.4,1,   -999.0,9,  -999.00,9,  -999.00,9,  -999.00,9,     27,-999.000,  -999.0, 25.4341
     33KI131_1,  PRS2,     2,  4,     12,     12,2,20011023,0000, 22.7587,-157.9975, 4717,     46.5,  25.4285,  35.4077,2,  35.4082,2,    206.7,1,   -999.0,9,  -999.00,9,  -999.00,9,  -999.00,9,     47,-999.000,  -999.0, 25.4183
     33KI131_1,  PRS2,     2,  4,     11,     11,2,20011023,0000, 22.7587,-157.9975, 4717,     75.2,  22.3897,  35.2904,2,  35.2897,2,    222.1,1,   -999.0,9,  -999.00,9,  -999.00,9,  -999.00,9,     76,-999.000,  -999.0, 22.3746
     33KI131_1,  PRS2,     2,  4,     10,     32,2,20011023,0000, 22.7587,-157.9975, 4717,     99.8,  21.3215,  35.2596,2,  35.2576,2,    214.8,1,   -999.0,9,  -999.00,9,  -999.00,9,  -999.00,9,    100,-999.000,  -999.0, 21.3022
     33KI131_1,  PRS2,     2,  4,      9,      3,2,20011023,0000, 22.7587,-157.9975, 4717,    125.8,  20.1163,  35.1844,2,  35.1857,2,    201.3,1,   -999.0,9,  -999.00,9,  -999.00,9,  -999.00,9,    125,-999.000,  -999.0, 20.0930
     33KI131_1,  PRS2,     2,  4,      8,     29,2,20011023,0000, 22.7587,-157.9975, 4717,    150.1,  19.2403,  35.0933,2,  35.0963,2,    199.6,1,   -999.0,9,  -999.00,9,  -999.00,9,  -999.00,9,    150,-999.000,  -999.0, 19.2133
     33KI131_1,  PRS2,     2,  4,      7,     28,2,20011023,0000, 22.7587,-157.9975, 4717,    175.4,  18.2731,  34.9449,2,  34.9437,2,    198.3,1,   -999.0,9,  -999.00,9,  -999.00,9,  -999.00,9,    176,-999.000,  -999.0, 18.2427
     33KI131_1,  PRS2,     2,  4,      6,      7,2,20011023,0000, 22.7587,-157.9975, 4717,    202.9,  16.7937,  34.7278,2,  34.7528,3,    198.4,1,   -999.0,9,  -999.00,9,  -999.00,9,  -999.00,9,    203,-999.000,  -999.0, 16.7606
     33KI131_1,  PRS2,     2,  4,      5,     38,2,20011023,0000, 22.7587,-157.9975, 4717,    251.3,  13.4819,  34.3154,2,  34.3229,2,    198.8,1,   -999.0,9,  -999.00,9,  -999.00,9,  -999.00,9,    251,-999.000,  -999.0, 13.4466
     33KI131_1,  PRS2,     2,  4,      3,     35,2,20011023,0000, 22.7587,-157.9975, 4717,    352.4,   9.6008,  34.0832,2,  34.0870,2,    178.8,1,   -999.0,9,  -999.00,9,  -999.00,9,  -999.00,9,    352,-999.000,  -999.0,  9.5611
     33KI131_1,  PRS2,     2,  4,      4,     36,2,20011023,0000, 22.7587,-157.9975, 4717,    353.1,   9.5893,  34.0831,2,  34.0825,2,    178.9,1,   -999.0,9,  -999.00,9,  -999.00,9,  -999.00,9,    353,-999.000,  -999.0,  9.5495
     33KI131_1,  PRS2,     2,  4,      2,     34,2,20011023,0000, 22.7587,-157.9975, 4717,    751.4,   4.6707,  34.3508,2,  34.3507,2,     25.9,1,   -999.0,9,  -999.00,9,  -999.00,9,  -999.00,9,    752,-999.000,  -999.0,  4.6115
     33KI131_1,  PRS2,     2,  4,      1,     33,2,20011023,0000, 22.7587,-157.9975, 4717,   1020.7,   3.9026,  34.4984,2,  34.5046,2,     42.3,1,   -999.0,9,  -999.00,9,  -999.00,9,  -999.00,9,   1021,-999.000,  -999.0,  3.8260
     33KI131_1,  PRS2,     2,  5,     14,     14,2,20011023,0259, 22.7815,-157.9943, 4711,      5.0,  25.4916,  35.4092,2,  35.4082,2,    206.6,1,   -999.0,9,  -999.00,9,  -999.00,9,  -999.00,9,      5,-999.000,  -999.0, 25.4905
     33KI131_1,  PRS2,     2,  5,     13,     13,2,20011023,0259, 22.7815,-157.9943, 4711,     26.5,  25.4682,  35.4099,2,  35.4091,2,    206.9,1,   -999.0,9,  -999.00,9,  -999.00,9,  -999.00,9,     26,-999.000,  -999.0, 25.4624
     33KI131_1,  PRS2,     2,  5,     12,     12,2,20011023,0259, 22.7815,-157.9943, 4711,     45.4,  25.4331,  35.4089,2,  35.4131,2,    207.3,1,   -999.0,9,  -999.00,9,  -999.00,9,  -999.00,9,     45,-999.000,  -999.0, 25.4231
     33KI131_1,  PRS2,     2,  5,     11,     11,2,20011023,0259, 22.7815,-157.9943, 4711,     75.5,  22.2859,  35.2904,2,  35.2883,2,    221.4,1,   -999.0,9,  -999.00,9,  -999.00,9,  -999.00,9,     75,-999.000,  -999.0, 22.2708
     33KI131_1,  PRS2,     2,  5,     10,     32,2,20011023,0259, 22.7815,-157.9943, 4711,    100.1,  21.2437,  35.2632,2,  35.2627,2,    208.6,1,   -999.0,9,  -999.00,9,  -999.00,9,  -999.00,9,    101,-999.000,  -999.0, 21.2244
     33KI131_1,  PRS2,     2,  5,      9,      3,2,20011023,0259, 22.7815,-157.9943, 4711,    124.7,  20.5071,  35.2454,2,  35.2796,4,    205.1,1,   -999.0,9,  -999.00,9,  -999.00,9,  -999.00,9,    125,-999.000,  -999.0, 20.4836
     33KI131_1,  PRS2,     2,  5,      8,     29,2,20011023,0259, 22.7815,-157.9943, 4711,    150.1,  19.6111,  35.1377,2,  35.1106,3,    201.0,1,   -999.0,9,  -999.00,9,  -999.00,9,  -999.00,9,    150,-999.000,  -999.0, 19.5837
     33KI131_1,  PRS2,     2,  5,      7,     28,2,20011023,0259, 22.7815,-157.9943, 4711,    174.3,  18.3202,  34.9497,2,  34.9457,2,    199.1,1,   -999.0,9,  -999.00,9,  -999.00,9,  -999.00,9,    174,-999.000,  -999.0, 18.2899
     33KI131_1,  PRS2,     2,  5,      6,      7,2,20011023,0259, 22.7815,-157.9943, 4711,    201.7,  16.4918,  34.6844,2,  34.6846,2,    198.6,1,   -999.0,9,  -999.00,9,  -999.00,9,  -999.00,9,    202,-999.000,  -999.0, 16.4593
     33KI131_1,  PRS2,     2,  5,      5,     38,2,20011023,0259, 22.7815,-157.9943, 4711,    250.1,  13.3047,  34.2970,2,  34.2956,2,    198.2,1,   -999.0,9,  -999.00,9,  -999.00,9,  -999.00,9,    251,-999.000,  -999.0, 13.2699
     33KI131_1,  PRS2,     2,  5,      4,     36,2,20011023,0259, 22.7815,-157.9943, 4711,    350.6,   9.7432,  34.0884,2,  34.0848,2,    178.3,1,   -999.0,9,  -999.00,9,  -999.00,9,  -999.00,9,    351,-999.000,  -999.0,  9.7033
     33KI131_1,  PRS2,     2,  5,      3,     35,2,20011023,0259, 22.7815,-157.9943, 4711,    350.7,   9.7561,  34.0876,2,  34.0858,2,    178.2,1,   -999.0,9,  -999.00,9,  -999.00,9,  -999.00,9,    351,-999.000,  -999.0,  9.7162
     33KI131_1,  PRS2,     2,  5,      2,     34,2,20011023,0259, 22.7815,-157.9943, 4711,    482.1,   6.7610,  34.0343,2,  34.0341,2,    109.5,1,   -999.0,9,  -999.00,9,  -999.00,9,  -999.00,9,    482,-999.000,  -999.0,  6.7165
     33KI131_1,  PRS2,     2,  5,      1,     33,2,20011023,0259, 22.7815,-157.9943, 4711,   1021.2,   3.9530,  34.4927,2,  34.4919,2,     41.4,1,   -999.0,9,  -999.00,9,  -999.00,9,  -999.00,9,   1021,-999.000,  -999.0,  3.8760
     33KI131_1,  PRS2,     2,  6,     19,     19,2,20011023,0552, 22.7493,-158.0007, 4728,      5.1,  25.4416,  35.4061,2,  35.4056,2,    206.7,2,   -999.0,5,  -999.00,9,  -999.00,9,  -999.00,9,      5,-999.000,  -999.0, 25.4405
     33KI131_1,  PRS2,     2,  6,     18,     18,2,20011023,0552, 22.7493,-158.0007, 4728,      5.1,  25.4435,  35.4062,2,  35.4052,2,    206.7,2,    207.7,2,  -999.00,9,  -999.00,9,  -999.00,9,      6,-999.000,  -999.0, 25.4424
     33KI131_1,  PRS2,     2,  6,     17,     17,2,20011023,0552, 22.7493,-158.0007, 4728,     15.1,  25.4474,  35.4058,2,  35.4044,2,    206.7,2,   -999.0,5,  -999.00,9,  -999.00,9,  -999.00,9,     15,-999.000,  -999.0, 25.4441
     33KI131_1,  PRS2,     2,  6,     16,     16,3,20011023,0552, 22.7493,-158.0007, 4728,     25.0,  25.4504,  35.4062,2,-999.0000,5,    206.7,2,   -999.0,5,  -999.00,9,  -999.00,9,  -999.00,9,     25,-999.000,  -999.0, 25.4449
     33KI131_1,  PRS2,     2,  6,     15,     23,2,20011023,0552, 22.7493,-158.0007, 4728,     25.0,  25.4464,  35.4062,2,  35.4054,2,    206.6,2,    207.8,2,  -999.00,9,  -999.00,9,  -999.00,9,     25,-999.000,  -999.0, 25.4409
     33KI131_1,  PRS2,     2,  6,     14,     14,2,20011023,0552, 22.7493,-158.0007, 4728,     34.7,  25.4526,  35.4058,2,  35.4342,4,    206.7,3,   -999.0,5,  -999.00,9,  -999.00,9,  -999.00,9,     35,-999.000,  -999.0, 25.4450
     33KI131_1,  PRS2,     2,  6,     13,     13,2,20011023,0552, 22.7493,-158.0007, 4728,     45.9,  25.4452,  35.4072,2,  35.4084,2,    206.5,2,    207.3,2,  -999.00,9,  -999.00,9,  -999.00,9,     46,-999.000,  -999.0, 25.4351
     33KI131_1,  PRS2,     2,  6,     12,     12,2,20011023,0552, 22.7493,-158.0007, 4728,     59.0,  25.4558,  35.4066,2,  35.4054,2,    206.6,2,   -999.0,5,  -999.00,9,  -999.00,9,  -999.00,9,     59,-999.000,  -999.0, 25.4428
     33KI131_1,  PRS2,     2,  6,     11,     11,2,20011023,0552, 22.7493,-158.0007, 4728,     75.7,  25.4288,  35.4073,2,  35.4267,4,    206.8,3,    207.3,2,  -999.00,9,  -999.00,9,  -999.00,9,     76,-999.000,  -999.0, 25.4121
     33KI131_1,  PRS2,     2,  6,     10,     32,2,20011023,0552, 22.7493,-158.0007, 4728,     85.9,  23.5225,  35.2863,2,  35.2889,2,    226.5,2,    225.8,2,  -999.00,9,  -999.00,9,  -999.00,9,     86,-999.000,  -999.0, 23.5046
     33KI131_1,  PRS2,     2,  6,      9,      3,2,20011023,0552, 22.7493,-158.0007, 4728,     99.4,  22.2746,  35.2913,2,  35.2954,2,    219.8,2,    221.7,2,  -999.00,9,  -999.00,9,  -999.00,9,    100,-999.000,  -999.0, 22.2548
     33KI131_1,  PRS2,     2,  6,      8,     29,2,20011023,0552, 22.7493,-158.0007, 4728,    114.5,  21.3608,  35.2745,2,  35.2729,2,    214.3,2,    214.1,2,  -999.00,9,  -999.00,9,  -999.00,9,    114,-999.000,  -999.0, 21.3386
     33KI131_1,  PRS2,     2,  6,      7,     28,2,20011023,0552, 22.7493,-158.0007, 4728,    126.4,  20.8926,  35.2536,2,  35.2538,2,    209.4,2,    210.4,2,  -999.00,9,  -999.00,9,  -999.00,9,    126,-999.000,  -999.0, 20.8685
     33KI131_1,  PRS2,     2,  6,      6,      7,4,20011023,0552, 22.7493,-158.0007, 4728,    148.9,  19.9561,  35.1791,2,-999.0000,5,    201.8,2,   -999.0,5,  -999.00,9,  -999.00,9,  -999.00,9,    149,-999.000,  -999.0, 19.9286
     33KI131_1,  PRS2,     2,  6,      5,     38,2,20011023,0552, 22.7493,-158.0007, 4728,    164.5,  19.7091,  35.1411,2,  35.1400,2,    201.1,2,    200.1,2,  -999.00,9,  -999.00,9,  -999.00,9,    164,-999.000,  -999.0, 19.6790
     33KI131_1,  PRS2,     2,  6,      4,     36,2,20011023,0552, 22.7493,-158.0007, 4728,    174.5,  19.3025,  35.0902,2,  35.0994,2,    199.9,2,    198.8,2,  -999.00,9,  -999.00,9,  -999.00,9,    175,-999.000,  -999.0, 19.2710
     33KI131_1,  PRS2,     2,  6,      3,     35,2,20011023,0552, 22.7493,-158.0007, 4728,    201.4,  18.1306,  34.9191,2,  34.9274,2,    197.8,2,    196.9,2,  -999.00,9,  -999.00,9,  -999.00,9,    202,-999.000,  -999.0, 18.0959
     33KI131_1,  PRS2,     2,  6,      2,     34,2,20011023,0552, 22.7493,-158.0007, 4728,    499.8,   6.8445,  34.0309,2,  34.0321,2,    113.0,2,   -999.0,5,  -999.00,9,  -999.00,9,  -999.00,9,    499,-999.000,  -999.0,  6.7980
     33KI131_1,  PRS2,     2,  6,      1,     33,2,20011023,0552, 22.7493,-158.0007, 4728,   1021.0,   3.9097,  34.4986,2,  34.4985,2,     43.3,2,   -999.0,5,  -999.00,9,  -999.00,9,  -999.00,9,   1021,-999.000,  -999.0,  3.8330
     33KI131_1,  PRS2,     2,  7,     20,     20,2,20011023,0855, 22.7533,-157.9898, 4720,      4.9,  25.4358,  35.4095,2,  35.4135,2,    206.9,1,   -999.0,9,  -999.00,9,  -999.00,9,  -999.00,9,      5,-999.000,  -999.0, 25.4347
     33KI131_1,  PRS2,     2,  7,     19,     19,2,20011023,0855, 22.7533,-157.9898, 4720,      4.9,  25.4313,  35.4094,2,  35.4103,2,    206.8,1,   -999.0,9,  -999.00,9,  -999.00,9,  -999.00,9,      5,-999.000,  -999.0, 25.4303
     33KI131_1,  PRS2,     2,  7,     18,     18,2,20011023,0855, 22.7533,-157.9898, 4720,      4.9,  25.4370,  35.4093,2,  35.4129,2,    206.8,1,   -999.0,9,  -999.00,9,  -999.00,9,  -999.00,9,      5,-999.000,  -999.0, 25.4359
     33KI131_1,  PRS2,     2,  7,     15,     23,2,20011023,0855, 22.7533,-157.9898, 4720,     24.8,  25.4385,  35.4089,2,  35.4109,2,    206.8,1,   -999.0,9,  -999.00,9,  -999.00,9,  -999.00,9,     25,-999.000,  -999.0, 25.4330
     33KI131_1,  PRS2,     2,  7,     16,     16,2,20011023,0855, 22.7533,-157.9898, 4720,     24.9,  25.4388,  35.4090,2,  35.4245,4,    206.8,1,   -999.0,9,  -999.00,9,  -999.00,9,  -999.00,9,     25,-999.000,  -999.0, 25.4334
     33KI131_1,  PRS2,     2,  7,     17,     17,2,20011023,0855, 22.7533,-157.9898, 4720,     25.0,  25.4392,  35.4090,2,  35.4115,2,    206.8,1,   -999.0,9,  -999.00,9,  -999.00,9,  -999.00,9,     25,-999.000,  -999.0, 25.4337
     33KI131_1,  PRS2,     2,  7,     12,     12,2,20011023,0855, 22.7533,-157.9898, 4720,     45.0,  25.4456,  35.4078,2,  35.4289,4,    206.9,1,   -999.0,9,  -999.00,9,  -999.00,9,  -999.00,9,     45,-999.000,  -999.0, 25.4357
     33KI131_1,  PRS2,     2,  7,     13,     13,2,20011023,0855, 22.7533,-157.9898, 4720,     45.3,  25.4448,  35.4080,2,  35.4099,2,    206.9,1,   -999.0,9,  -999.00,9,  -999.00,9,  -999.00,9,     45,-999.000,  -999.0, 25.4348
     33KI131_1,  PRS2,     2,  7,     14,     14,2,20011023,0855, 22.7533,-157.9898, 4720,     45.4,  25.4448,  35.4083,2,  35.4154,2,    206.8,1,   -999.0,9,  -999.00,9,  -999.00,9,  -999.00,9,     46,-999.000,  -999.0, 25.4348
     33KI131_1,  PRS2,     2,  7,     11,     11,2,20011023,0855, 22.7533,-157.9898, 4720,     75.5,  25.4288,  35.4074,2,  35.4082,2,    206.3,1,   -999.0,9,  -999.00,9,  -999.00,9,  -999.00,9,     76,-999.000,  -999.0, 25.4122
     33KI131_1,  PRS2,     2,  7,     10,     32,2,20011023,0855, 22.7533,-157.9898, 4720,     75.6,  25.4289,  35.4070,2,  35.4407,4,    206.5,1,   -999.0,9,  -999.00,9,  -999.00,9,  -999.00,9,     75,-999.000,  -999.0, 25.4123
     33KI131_1,  PRS2,     2,  7,      9,      3,2,20011023,0855, 22.7533,-157.9898, 4720,     75.8,  25.4300,  35.4067,2,  35.4091,2,    206.6,1,   -999.0,9,  -999.00,9,  -999.00,9,  -999.00,9,     76,-999.000,  -999.0, 25.4134
     33KI131_1,  PRS2,     2,  7,      7,     28,2,20011023,0855, 22.7533,-157.9898, 4720,    100.2,  22.3668,  35.2879,2,  35.2897,2,    221.5,1,   -999.0,9,  -999.00,9,  -999.00,9,  -999.00,9,    100,-999.000,  -999.0, 22.3467
     33KI131_1,  PRS2,     2,  7,      6,      7,2,20011023,0855, 22.7533,-157.9898, 4720,    100.2,  22.3691,  35.2877,2,  35.2885,2,    221.4,1,   -999.0,9,  -999.00,9,  -999.00,9,  -999.00,9,    100,-999.000,  -999.0, 22.3490
     33KI131_1,  PRS2,     2,  7,      8,     29,2,20011023,0855, 22.7533,-157.9898, 4720,    100.4,  22.3740,  35.2879,2,  35.2905,2,    221.6,1,   -999.0,9,  -999.00,9,  -999.00,9,  -999.00,9,    100,-999.000,  -999.0, 22.3539
     33KI131_1,  PRS2,     2,  7,      3,     35,2,20011023,0855, 22.7533,-157.9898, 4720,    150.7,  19.9246,  35.1633,2,  35.1652,2,    202.5,1,   -999.0,9,  -999.00,9,  -999.00,9,  -999.00,9,    151,-999.000,  -999.0, 19.8968
     33KI131_1,  PRS2,     2,  7,      5,     38,2,20011023,0855, 22.7533,-157.9898, 4720,    150.9,  19.8879,  35.1600,2,  35.1855,4,    202.5,1,   -999.0,9,  -999.00,9,  -999.00,9,  -999.00,9,    151,-999.000,  -999.0, 19.8601
     33KI131_1,  PRS2,     2,  7,      4,     36,2,20011023,0855, 22.7533,-157.9898, 4720,    150.9,  19.9057,  35.1604,2,  35.1935,4,    202.6,1,   -999.0,9,  -999.00,9,  -999.00,9,  -999.00,9,    151,-999.000,  -999.0, 19.8779
     33KI131_1,  PRS2,     2,  7,      2,     34,2,20011023,0855, 22.7533,-157.9898, 4720,    468.1,   6.8279,  34.0325,2,  34.0382,2,    109.9,1,   -999.0,9,  -999.00,9,  -999.00,9,  -999.00,9,    468,-999.000,  -999.0,  6.7845
     33KI131_1,  PRS2,     2,  7,      1,     33,2,20011023,0855, 22.7533,-157.9898, 4720,   1020.6,   3.7672,  34.4929,2,  34.4926,2,     43.7,1,   -999.0,9,  -999.00,9,  -999.00,9,  -999.00,9,   1021,-999.000,  -999.0,  3.6916