BOTTLE,20020809WHPSIObren
EXPOCODE,SECT_ID,STNNBR,CASTNO,SAMPNO,BTLNBR,BTLNBR_FLAG_W,DATE,TIME,LATITUDE,LONGITUDE,DEPTH,CTDPRS,CTDTMP,CTDSAL,CTDSAL_FLAG_W,SALNTY,SALNTY_FLAG_W,CTDOXY,CTDOXY_FLAG_W,OXYGEN,OXYGEN_FLAG_W,SILCAT,SILCAT_FLAG_W,NO2+NO3,NO2+NO3_FLAG_W,PHSPHT,PHSPHT_FLAG_W,CTDRAW,REVTMP,REVPRS,THETA
,,,,,,,,,,,,DBAR,ITS-90,PSS-78,,PSS-78,,UMOL/KG,,UMOL/KG,,UMOL/KG,,UMOL/KG,,UMOL/KG,,,DEG C,DBAR,ITS-90
     33KI131_1,  PRS2,     2, 16,     13,     13,2,20011024,1054, 22.7488,-158.0170, 4727,    100.2,  21.3622,  35.2881,2,-999.0000,9,    209.7,1,   -999.0,9,  -999.00,9,  -999.00,9,  -999.00,9,    100,-999.000,  -999.0, 21.3428
     33KI131_1,  PRS2,     2, 16,     22,     22,2,20011024,1054, 22.7488,-158.0170, 4727,    100.3,  21.3999,  35.2898,2,-999.0000,9,    211.0,1,   -999.0,9,  -999.00,9,  -999.00,9,  -999.00,9,     99,-999.000,  -999.0, 21.3805
     33KI131_1,  PRS2,     2, 16,     17,     17,2,20011024,1054, 22.7488,-158.0170, 4727,    100.3,  21.3818,  35.2903,2,-999.0000,9,    211.4,1,   -999.0,9,  -999.00,9,  -999.00,9,  -999.00,9,    100,-999.000,  -999.0, 21.3624
     33KI131_1,  PRS2,     2, 16,     23,     30,2,20011024,1054, 22.7488,-158.0170, 4727,    100.5,  21.4248,  35.2890,2,-999.0000,9,    210.2,1,   -999.0,9,  -999.00,9,  -999.00,9,  -999.00,9,    100,-999.000,  -999.0, 21.4052
     33KI131_1,  PRS2,     2, 16,     15,     23,2,20011024,1054, 22.7488,-158.0170, 4727,    100.5,  21.3757,  35.2891,2,-999.0000,9,    210.8,1,   -999.0,9,  -999.00,9,  -999.00,9,  -999.00,9,    100,-999.000,  -999.0, 21.3562
     33KI131_1,  PRS2,     2, 16,     18,     18,2,20011024,1054, 22.7488,-158.0170, 4727,    100.6,  21.3842,  35.2905,2,-999.0000,9,    211.6,1,   -999.0,9,  -999.00,9,  -999.00,9,  -999.00,9,    100,-999.000,  -999.0, 21.3647
     33KI131_1,  PRS2,     2, 16,     16,     16,2,20011024,1054, 22.7488,-158.0170, 4727,    100.6,  21.3802,  35.2898,2,-999.0000,9,    211.1,1,   -999.0,9,  -999.00,9,  -999.00,9,  -999.00,9,    101,-999.000,  -999.0, 21.3607
     33KI131_1,  PRS2,     2, 16,     24,     31,2,20011024,1054, 22.7488,-158.0170, 4727,    100.7,  21.4881,  35.2916,2,-999.0000,9,    211.6,1,   -999.0,9,  -999.00,9,  -999.00,9,  -999.00,9,    100,-999.000,  -999.0, 21.4685
     33KI131_1,  PRS2,     2, 16,     20,     20,2,20011024,1054, 22.7488,-158.0170, 4727,    100.7,  21.3897,  35.2907,2,-999.0000,9,    211.5,1,   -999.0,9,  -999.00,9,  -999.00,9,  -999.00,9,    100,-999.000,  -999.0, 21.3701
     33KI131_1,  PRS2,     2, 16,     14,     14,2,20011024,1054, 22.7488,-158.0170, 4727,    100.7,  21.3748,  35.2890,2,-999.0000,9,    210.5,1,   -999.0,9,  -999.00,9,  -999.00,9,  -999.00,9,    101,-999.000,  -999.0, 21.3553
     33KI131_1,  PRS2,     2, 16,     21,     21,2,20011024,1054, 22.7488,-158.0170, 4727,    100.8,  21.3956,  35.2910,2,-999.0000,9,    211.3,1,   -999.0,9,  -999.00,9,  -999.00,9,  -999.00,9,    101,-999.000,  -999.0, 21.3760
     33KI131_1,  PRS2,     2, 16,     19,     19,2,20011024,1054, 22.7488,-158.0170, 4727,    100.8,  21.3875,  35.2907,2,-999.0000,9,    211.6,1,   -999.0,9,  -999.00,9,  -999.00,9,  -999.00,9,    102,-999.000,  -999.0, 21.3680
     33KI131_1,  PRS2,     2, 16,     12,     12,2,20011024,1054, 22.7488,-158.0170, 4727,    120.0,  20.7827,  35.2492,2,-999.0000,9,    204.0,1,   -999.0,9,  -999.00,9,  -999.00,9,  -999.00,9,    120,-999.000,  -999.0, 20.7598
     33KI131_1,  PRS2,     2, 16,     11,     11,2,20011024,1054, 22.7488,-158.0170, 4727,    120.2,  20.7884,  35.2494,2,-999.0000,9,    204.2,1,   -999.0,9,  -999.00,9,  -999.00,9,  -999.00,9,    120,-999.000,  -999.0, 20.7655
     33KI131_1,  PRS2,     2, 16,      2,     34,2,20011024,1054, 22.7488,-158.0170, 4727,    120.3,  20.8029,  35.2498,2,-999.0000,9,    204.0,1,   -999.0,9,  -999.00,9,  -999.00,9,  -999.00,9,    121,-999.000,  -999.0, 20.7800
     33KI131_1,  PRS2,     2, 16,     10,     32,2,20011024,1054, 22.7488,-158.0170, 4727,    120.4,  20.7866,  35.2494,2,-999.0000,9,    204.4,1,   -999.0,9,  -999.00,9,  -999.00,9,  -999.00,9,    121,-999.000,  -999.0, 20.7637
     33KI131_1,  PRS2,     2, 16,      9,      3,2,20011024,1054, 22.7488,-158.0170, 4727,    120.4,  20.7910,  35.2495,2,-999.0000,9,    204.5,1,   -999.0,9,  -999.00,9,  -999.00,9,  -999.00,9,    121,-999.000,  -999.0, 20.7681
     33KI131_1,  PRS2,     2, 16,      8,     29,2,20011024,1054, 22.7488,-158.0170, 4727,    120.5,  20.7917,  35.2504,2,-999.0000,9,    204.6,1,   -999.0,9,  -999.00,9,  -999.00,9,  -999.00,9,    120,-999.000,  -999.0, 20.7688
     33KI131_1,  PRS2,     2, 16,      7,     28,2,20011024,1054, 22.7488,-158.0170, 4727,    120.5,  20.7950,  35.2506,2,-999.0000,9,    204.6,1,   -999.0,9,  -999.00,9,  -999.00,9,  -999.00,9,    121,-999.000,  -999.0, 20.7721
     33KI131_1,  PRS2,     2, 16,      6,      7,2,20011024,1054, 22.7488,-158.0170, 4727,    120.5,  20.7984,  35.2507,2,-999.0000,9,    204.5,1,   -999.0,9,  -999.00,9,  -999.00,9,  -999.00,9,    121,-999.000,  -999.0, 20.7755
     33KI131_1,  PRS2,     2, 16,      5,     38,2,20011024,1054, 22.7488,-158.0170, 4727,    120.5,  20.7981,  35.2508,2,-999.0000,9,    204.4,1,   -999.0,9,  -999.00,9,  -999.00,9,  -999.00,9,    121,-999.000,  -999.0, 20.7752
     33KI131_1,  PRS2,     2, 16,      4,     36,2,20011024,1054, 22.7488,-158.0170, 4727,    120.5,  20.7990,  35.2509,2,-999.0000,9,    204.3,1,   -999.0,9,  -999.00,9,  -999.00,9,  -999.00,9,    120,-999.000,  -999.0, 20.7761
     33KI131_1,  PRS2,     2, 16,      3,     35,2,20011024,1054, 22.7488,-158.0170, 4727,    120.5,  20.8014,  35.2496,2,-999.0000,9,    204.1,1,   -999.0,9,  -999.00,9,  -999.00,9,  -999.00,9,    121,-999.000,  -999.0, 20.7785
     33KI131_1,  PRS2,     2, 16,      1,     33,2,20011024,1054, 22.7488,-158.0170, 4727,    120.5,  20.8034,  35.2496,2,-999.0000,9,    203.9,1,   -999.0,9,  -999.00,9,  -999.00,9,  -999.00,9,    121,-999.000,  -999.0, 20.7805
     33KI131_1,  PRS2,     2, 17,     18,     18,2,20011025,0322, 22.7718,-157.9905, 4719,      4.7,  25.7549,  35.4155,2,-999.0000,5,    205.8,1,   -999.0,9,  -999.00,9,  -999.00,9,  -999.00,9,      5,-999.000,  -999.0, 25.7539
     33KI131_1,  PRS2,     2, 17,     17,     17,2,20011025,0322, 22.7718,-157.9905, 4719,      4.7,  25.7556,  35.4153,2,-999.0000,5,    205.7,1,   -999.0,9,  -999.00,9,  -999.00,9,  -999.00,9,      5,-999.000,  -999.0, 25.7546
     33KI131_1,  PRS2,     2, 17,     16,     16,2,20011025,0322, 22.7718,-157.9905, 4719,     30.0,  25.4929,  35.4051,2,  35.4156,3,    206.5,1,   -999.0,9,  -999.00,9,  -999.00,9,  -999.00,9,     30,-999.000,  -999.0, 25.4863
     33KI131_1,  PRS2,     2, 17,     15,     23,2,20011025,0322, 22.7718,-157.9905, 4719,     30.0,  25.4928,  35.4050,2,  35.4050,2,    206.5,1,   -999.0,9,  -999.00,9,  -999.00,9,  -999.00,9,     30,-999.000,  -999.0, 25.4862
     33KI131_1,  PRS2,     2, 17,     13,     13,2,20011025,0322, 22.7718,-157.9905, 4719,     59.8,  25.4503,  35.4016,2,  35.4109,2,    206.2,1,   -999.0,9,  -999.00,9,  -999.00,9,  -999.00,9,     60,-999.000,  -999.0, 25.4371
     33KI131_1,  PRS2,     2, 17,     14,     14,2,20011025,0322, 22.7718,-157.9905, 4719,     59.9,  25.4542,  35.4015,2,-999.0000,5,    206.0,1,   -999.0,9,  -999.00,9,  -999.00,9,  -999.00,9,     60,-999.000,  -999.0, 25.4410
     33KI131_1,  PRS2,     2, 17,     12,     12,2,20011025,0322, 22.7718,-157.9905, 4719,     79.6,  22.6249,  35.2907,2,-999.0000,5,    224.9,1,   -999.0,9,  -999.00,9,  -999.00,9,  -999.00,9,     80,-999.000,  -999.0, 22.6088
     33KI131_1,  PRS2,     2, 17,     11,     11,2,20011025,0322, 22.7718,-157.9905, 4719,     79.6,  22.6086,  35.2904,2,  35.2895,2,    224.5,1,   -999.0,9,  -999.00,9,  -999.00,9,  -999.00,9,     79,-999.000,  -999.0, 22.5926
     33KI131_1,  PRS2,     2, 17,      9,      3,2,20011025,0322, 22.7718,-157.9905, 4719,    100.6,  21.6523,  35.2913,2,  35.2924,2,    216.2,1,   -999.0,9,  -999.00,9,  -999.00,9,  -999.00,9,    100,-999.000,  -999.0, 21.6327
     33KI131_1,  PRS2,     2, 17,     10,     32,2,20011025,0322, 22.7718,-157.9905, 4719,    100.7,  21.6144,  35.2881,2,-999.0000,5,    215.7,1,   -999.0,9,  -999.00,9,  -999.00,9,  -999.00,9,    100,-999.000,  -999.0, 21.5947
     33KI131_1,  PRS2,     2, 17,      7,     28,2,20011025,0322, 22.7718,-157.9905, 4719,    121.0,  20.9960,  35.2601,2,  35.2588,2,    205.5,1,   -999.0,9,  -999.00,9,  -999.00,9,  -999.00,9,    121,-999.000,  -999.0, 20.9728
     33KI131_1,  PRS2,     2, 17,      8,     29,2,20011025,0322, 22.7718,-157.9905, 4719,    121.1,  20.9967,  35.2599,2,-999.0000,5,    205.6,1,   -999.0,9,  -999.00,9,  -999.00,9,  -999.00,9,    121,-999.000,  -999.0, 20.9735
     33KI131_1,  PRS2,     2, 17,      6,      7,2,20011025,0322, 22.7718,-157.9905, 4719,    130.0,  20.5517,  35.2396,2,-999.0000,5,    204.5,1,   -999.0,9,  -999.00,9,  -999.00,9,  -999.00,9,    130,-999.000,  -999.0, 20.5272
     33KI131_1,  PRS2,     2, 17,      5,     38,2,20011025,0322, 22.7718,-157.9905, 4719,    130.0,  20.5573,  35.2400,2,  35.2654,4,    204.4,1,   -999.0,9,  -999.00,9,  -999.00,9,  -999.00,9,    130,-999.000,  -999.0, 20.5328
     33KI131_1,  PRS2,     2, 17,      4,     36,2,20011025,0322, 22.7718,-157.9905, 4719,    160.4,  19.0412,  35.0595,2,-999.0000,5,    199.0,1,   -999.0,9,  -999.00,9,  -999.00,9,  -999.00,9,    160,-999.000,  -999.0, 19.0126
     33KI131_1,  PRS2,     2, 17,      3,     35,2,20011025,0322, 22.7718,-157.9905, 4719,    160.5,  19.0490,  35.0596,2,  35.0671,2,    198.9,1,   -999.0,9,  -999.00,9,  -999.00,9,  -999.00,9,    161,-999.000,  -999.0, 19.0203
     33KI131_1,  PRS2,     2, 17,      2,     34,2,20011025,0322, 22.7718,-157.9905, 4719,    460.3,   6.8156,  34.0329,2,  34.0351,2,    109.4,1,   -999.0,9,  -999.00,9,  -999.00,9,  -999.00,9,    460,-999.000,  -999.0,  6.7730
     33KI131_1,  PRS2,     2, 17,      1,     33,2,20011025,0322, 22.7718,-157.9905, 4719,   1020.9,   3.8502,  34.5005,2,  34.5013,2,     42.9,1,   -999.0,9,  -999.00,9,  -999.00,9,  -999.00,9,   1020,-999.000,  -999.0,  3.7740
     33KI131_1,  PRS2,     2, 18,     20,     20,2,20011025,0556, 22.7478,-158.0003, 4725,      5.2,  25.6222,  35.4127,2,  35.4454,4,    205.8,3,    206.4,2,  -999.00,9,  -999.00,9,  -999.00,9,      5,-999.000,  -999.0, 25.6211
     33KI131_1,  PRS2,     2, 18,     19,     19,2,20011025,0556, 22.7478,-158.0003, 4725,     24.4,  25.5103,  35.4050,2,  35.4046,2,    207.1,2,   -999.0,5,  -999.00,9,  -999.00,9,  -999.00,9,     24,-999.000,  -999.0, 25.5049
     33KI131_1,  PRS2,     2, 18,     18,     18,2,20011025,0556, 22.7478,-158.0003, 4725,     35.0,  25.5048,  35.4050,2,  35.4060,2,    206.5,2,   -999.0,5,  -999.00,9,  -999.00,9,  -999.00,9,     36,-999.000,  -999.0, 25.4971
     33KI131_1,  PRS2,     2, 18,     17,     17,2,20011025,0556, 22.7478,-158.0003, 4725,     44.9,  25.4890,  35.4047,2,  35.4038,2,    206.5,2,   -999.0,5,  -999.00,9,  -999.00,9,  -999.00,9,     45,-999.000,  -999.0, 25.4792
     33KI131_1,  PRS2,     2, 18,     16,     16,2,20011025,0556, 22.7478,-158.0003, 4725,     74.6,  25.4568,  35.4029,2,  35.4032,2,    207.1,2,   -999.0,5,  -999.00,9,  -999.00,9,  -999.00,9,     75,-999.000,  -999.0, 25.4404
     33KI131_1,  PRS2,     2, 18,     15,     23,2,20011025,0556, 22.7478,-158.0003, 4725,     99.3,  23.2349,  35.2978,2,  35.2982,2,    226.3,2,   -999.0,5,  -999.00,9,  -999.00,9,  -999.00,9,     99,-999.000,  -999.0, 23.2144
     33KI131_1,  PRS2,     2, 18,     14,     14,2,20011025,0556, 22.7478,-158.0003, 4725,    125.5,  21.2551,  35.2663,2,  35.2798,3,    210.8,3,   -999.0,5,  -999.00,9,  -999.00,9,  -999.00,9,    126,-999.000,  -999.0, 21.2309
     33KI131_1,  PRS2,     2, 18,     13,     13,2,20011025,0556, 22.7478,-158.0003, 4725,    150.4,  19.8232,  35.1703,2,  35.1780,2,    200.2,2,   -999.0,5,  -999.00,9,  -999.00,9,  -999.00,9,    151,-999.000,  -999.0, 19.7956
     33KI131_1,  PRS2,     2, 18,     12,     12,2,20011025,0556, 22.7478,-158.0003, 4725,    463.1,   7.2222,  34.0323,2,  34.0339,2,    128.0,2,    126.2,2,  -999.00,9,  -999.00,9,  -999.00,9,    463,-999.000,  -999.0,  7.1779
     33KI131_1,  PRS2,     2, 18,     11,     11,2,20011025,0556, 22.7478,-158.0003, 4725,    724.6,   4.6256,  34.2889,2,  34.2876,2,     21.8,2,   -999.0,5,  -999.00,9,  -999.00,9,  -999.00,9,    724,-999.000,  -999.0,  4.5690
     33KI131_1,  PRS2,     2, 18,     10,     32,2,20011025,0556, 22.7478,-158.0003, 4725,   1000.3,   3.9414,  34.4915,2,  34.4995,3,     40.7,3,     40.4,2,  -999.00,9,  -999.00,9,  -999.00,9,   1000,-999.000,  -999.0,  3.8662
     33KI131_1,  PRS2,     2, 18,      9,      3,2,20011025,0556, 22.7478,-158.0003, 4725,   2000.8,   2.1205,  34.6203,2,  34.6211,2,     89.3,2,     90.3,2,  -999.00,9,  -999.00,9,  -999.00,9,   2001,-999.000,  -999.0,  1.9822
     33KI131_1,  PRS2,     2, 18,      8,     29,2,20011025,0556, 22.7478,-158.0003, 4725,   3000.6,   1.5601,  34.6693,2,  34.6708,2,    124.5,2,    124.7,2,  -999.00,9,  -999.00,9,  -999.00,9,   3000,-999.000,  -999.0,  1.3420
     33KI131_1,  PRS2,     2, 18,      5,     38,4,20011025,0556, 22.7478,-158.0003, 4725,   3500.8,   1.4795,  34.6802,2,-999.0000,5,    136.9,2,   -999.0,5,  -999.00,9,  -999.00,9,  -999.00,9,   3499,-999.000,  -999.0,  1.2138
     33KI131_1,  PRS2,     2, 18,      4,     36,2,20011025,0556, 22.7478,-158.0003, 4725,   3500.8,   1.4794,  34.6802,2,  34.6838,2,    136.9,2,   -999.0,5,  -999.00,9,  -999.00,9,  -999.00,9,   3499,-999.000,  -999.0,  1.2137
     33KI131_1,  PRS2,     2, 18,      7,     28,2,20011025,0556, 22.7478,-158.0003, 4725,   3500.9,   1.4795,  34.6802,2,  34.6848,2,    136.8,2,   -999.0,5,  -999.00,9,  -999.00,9,  -999.00,9,   3500,-999.000,  -999.0,  1.2138
     33KI131_1,  PRS2,     2, 18,      6,      7,2,20011025,0556, 22.7478,-158.0003, 4725,   3500.9,   1.4795,  34.6801,2,  34.6704,4,    136.8,3,   -999.0,5,  -999.00,9,  -999.00,9,  -999.00,9,   3501,-999.000,  -999.0,  1.2138
     33KI131_1,  PRS2,     2, 18,      3,     35,2,20011025,0556, 22.7478,-158.0003, 4725,   3500.9,   1.4791,  34.6803,2,  34.6812,2,    136.9,2,    137.9,2,  -999.00,9,  -999.00,9,  -999.00,9,   3500,-999.000,  -999.0,  1.2134
     33KI131_1,  PRS2,     2, 18,      2,     34,2,20011025,0556, 22.7478,-158.0003, 4725,   4000.2,   1.4547,  34.6863,2,  34.6903,2,    147.5,2,    147.1,2,  -999.00,9,  -999.00,9,  -999.00,9,   4000,-999.000,  -999.0,  1.1370
     33KI131_1,  PRS2,     2, 18,      1,     33,2,20011025,0556, 22.7478,-158.0003, 4725,   4000.2,   1.4547,  34.6863,2,  34.6885,2,    147.5,2,    147.0,2,  -999.00,9,  -999.00,9,  -999.00,9,   4000,-999.000,  -999.0,  1.1370
     33KI131_1,  PRS2,     6,  1,     13,     13,2,20011026,0258, 21.8467,-158.3633, 2433,      5.2,  26.3148,  35.2238,2,  35.2235,2,    202.5,1,   -999.0,9,  -999.00,9,  -999.00,9,  -999.00,9,      5,-999.000,  -999.0, 26.3137
     33KI131_1,  PRS2,     6,  1,     12,     12,2,20011026,0258, 21.8467,-158.3633, 2433,     25.3,  25.8163,  35.2095,2,  35.2257,3,    203.6,1,   -999.0,9,  -999.00,9,  -999.00,9,  -999.00,9,     25,-999.000,  -999.0, 25.8107
     33KI131_1,  PRS2,     6,  1,     11,     11,2,20011026,0258, 21.8467,-158.3633, 2433,     44.9,  25.7308,  35.2092,2,  35.2087,2,    204.1,1,   -999.0,9,  -999.00,9,  -999.00,9,  -999.00,9,     44,-999.000,  -999.0, 25.7208
     33KI131_1,  PRS2,     6,  1,     10,     32,2,20011026,0258, 21.8467,-158.3633, 2433,     75.5,  23.5882,  35.2603,2,  35.2597,2,    206.7,1,   -999.0,9,  -999.00,9,  -999.00,9,  -999.00,9,     75,-999.000,  -999.0, 23.5725
     33KI131_1,  PRS2,     6,  1,      9,      3,2,20011026,0258, 21.8467,-158.3633, 2433,    101.1,  22.0192,  35.2600,2,  35.2595,2,    200.9,1,   -999.0,9,  -999.00,9,  -999.00,9,  -999.00,9,    102,-999.000,  -999.0, 21.9992
     33KI131_1,  PRS2,     6,  1,      8,     29,2,20011026,0258, 21.8467,-158.3633, 2433,    124.6,  20.6030,  35.1608,2,  35.1679,2,    196.5,1,   -999.0,9,  -999.00,9,  -999.00,9,  -999.00,9,    124,-999.000,  -999.0, 20.5795
     33KI131_1,  PRS2,     6,  1,      7,     28,2,20011026,0258, 21.8467,-158.3633, 2433,    150.8,  19.4345,  35.0472,2,  35.0461,2,    193.9,1,   -999.0,9,  -999.00,9,  -999.00,9,  -999.00,9,    151,-999.000,  -999.0, 19.4071
     33KI131_1,  PRS2,     6,  1,      6,      7,2,20011026,0258, 21.8467,-158.3633, 2433,    178.6,  17.9086,  34.8683,2,  34.8757,2,    191.7,1,   -999.0,9,  -999.00,9,  -999.00,9,  -999.00,9,    179,-999.000,  -999.0, 17.8781
     33KI131_1,  PRS2,     6,  1,      5,     38,4,20011026,0258, 21.8467,-158.3633, 2433,    449.0,   7.2450,  34.0410,2,-999.0000,5,    130.9,1,   -999.0,9,  -999.00,9,  -999.00,9,  -999.00,9,    448,-999.000,  -999.0,  7.2020
     33KI131_1,  PRS2,     6,  1,      4,     36,2,20011026,0258, 21.8467,-158.3633, 2433,   1002.2,   4.0466,  34.4926,2,  34.4924,2,     46.7,1,   -999.0,9,  -999.00,9,  -999.00,9,  -999.00,9,   1001,-999.000,  -999.0,  3.9704
     33KI131_1,  PRS2,     6,  1,      3,     35,2,20011026,0258, 21.8467,-158.3633, 2433,   1500.9,   2.8603,  34.5714,2,  34.5718,2,     69.2,1,   -999.0,9,  -999.00,9,  -999.00,9,  -999.00,9,   1500,-999.000,  -999.0,  2.7540
     33KI131_1,  PRS2,     6,  1,      2,     34,2,20011026,0258, 21.8467,-158.3633, 2433,   1998.2,   2.1972,  34.6137,2,  34.6148,2,     87.9,1,   -999.0,9,  -999.00,9,  -999.00,9,  -999.00,9,   1998,-999.000,  -999.0,  2.0580
     33KI131_1,  PRS2,     6,  1,      1,     33,2,20011026,0258, 21.8467,-158.3633, 2433,   2454.5,   1.7614,  34.6479,2,  34.6498,2,    108.3,1,   -999.0,9,  -999.00,9,  -999.00,9,  -999.00,9,   2455,-999.000,  -999.0,  1.5896