BOTTLE,20020809WHPSIObren
EXPOCODE,SECT_ID,STNNBR,CASTNO,SAMPNO,BTLNBR,BTLNBR_FLAG_W,DATE,TIME,LATITUDE,LONGITUDE,DEPTH,CTDPRS,CTDTMP,CTDSAL,CTDSAL_FLAG_W,SALNTY,SALNTY_FLAG_W,CTDOXY,CTDOXY_FLAG_W,OXYGEN,OXYGEN_FLAG_W,SILCAT,SILCAT_FLAG_W,NO2+NO3,NO2+NO3_FLAG_W,PHSPHT,PHSPHT_FLAG_W,CTDRAW,REVTMP,REVPRS,THETA
,,,,,,,,,,,,DBAR,ITS-90,PSS-78,,PSS-78,,UMOL/KG,,UMOL/KG,,UMOL/KG,,UMOL/KG,,UMOL/KG,,,DEG C,DBAR,ITS-90
     33KI131_1,  PRS2,     2,  8,     22,     22,2,20011023,1159, 22.7497,-157.9987, 4723,      4.8,  25.4257,  35.4115,2,  35.4111,2,    205.6,1,   -999.0,9,  -999.00,9,  -999.00,9,  -999.00,9,      6,-999.000,  -999.0, 25.4246
     33KI131_1,  PRS2,     2,  8,     21,     21,2,20011023,1159, 22.7497,-157.9987, 4723,      4.8,  25.4258,  35.4112,2,  35.4107,2,    205.7,1,   -999.0,9,  -999.00,9,  -999.00,9,  -999.00,9,      5,-999.000,  -999.0, 25.4247
     33KI131_1,  PRS2,     2,  8,     20,     20,2,20011023,1159, 22.7497,-157.9987, 4723,      4.8,  25.4253,  35.4114,2,  35.4109,2,    205.7,1,   -999.0,9,  -999.00,9,  -999.00,9,  -999.00,9,      5,-999.000,  -999.0, 25.4242
     33KI131_1,  PRS2,     2,  8,     19,     19,2,20011023,1159, 22.7497,-157.9987, 4723,     24.4,  25.4346,  35.4108,2,  35.4097,2,    205.7,1,   -999.0,9,  -999.00,9,  -999.00,9,  -999.00,9,     24,-999.000,  -999.0, 25.4292
     33KI131_1,  PRS2,     2,  8,     18,     18,2,20011023,1159, 22.7497,-157.9987, 4723,     24.6,  25.4337,  35.4108,2,  35.4097,2,    205.7,1,   -999.0,9,  -999.00,9,  -999.00,9,  -999.00,9,     24,-999.000,  -999.0, 25.4283
     33KI131_1,  PRS2,     2,  8,     17,     17,2,20011023,1159, 22.7497,-157.9987, 4723,     24.7,  25.4331,  35.4107,2,  35.4097,2,    205.8,1,   -999.0,9,  -999.00,9,  -999.00,9,  -999.00,9,     25,-999.000,  -999.0, 25.4277
     33KI131_1,  PRS2,     2,  8,     15,     23,2,20011023,1159, 22.7497,-157.9987, 4723,     45.2,  25.4355,  35.4102,2,  35.4105,2,    205.9,1,   -999.0,9,  -999.00,9,  -999.00,9,  -999.00,9,     46,-999.000,  -999.0, 25.4255
     33KI131_1,  PRS2,     2,  8,     16,     16,2,20011023,1159, 22.7497,-157.9987, 4723,     45.3,  25.4361,  35.4104,2,  35.4097,2,    205.8,1,   -999.0,9,  -999.00,9,  -999.00,9,  -999.00,9,     46,-999.000,  -999.0, 25.4261
     33KI131_1,  PRS2,     2,  8,     14,     14,2,20011023,1159, 22.7497,-157.9987, 4723,     45.3,  25.4342,  35.4099,2,  35.4091,2,    205.9,1,   -999.0,9,  -999.00,9,  -999.00,9,  -999.00,9,     45,-999.000,  -999.0, 25.4242
     33KI131_1,  PRS2,     2,  8,     11,     11,2,20011023,1159, 22.7497,-157.9987, 4723,     75.1,  22.3875,  35.2869,2,  35.2857,2,    226.0,1,   -999.0,9,  -999.00,9,  -999.00,9,  -999.00,9,     75,-999.000,  -999.0, 22.3724
     33KI131_1,  PRS2,     2,  8,     13,     13,2,20011023,1159, 22.7497,-157.9987, 4723,     75.2,  22.4064,  35.2879,2,  35.2854,2,    225.6,1,   -999.0,9,  -999.00,9,  -999.00,9,  -999.00,9,     76,-999.000,  -999.0, 22.3914
     33KI131_1,  PRS2,     2,  8,     12,     12,2,20011023,1159, 22.7497,-157.9987, 4723,     75.3,  22.3910,  35.2876,2,  35.2855,2,    225.8,1,   -999.0,9,  -999.00,9,  -999.00,9,  -999.00,9,     76,-999.000,  -999.0, 22.3759
     33KI131_1,  PRS2,     2,  8,     10,     32,2,20011023,1159, 22.7497,-157.9987, 4723,    100.3,  21.2706,  35.2655,2,  35.2637,2,    208.7,1,   -999.0,9,  -999.00,9,  -999.00,9,  -999.00,9,    101,-999.000,  -999.0, 21.2512
     33KI131_1,  PRS2,     2,  8,      9,      3,2,20011023,1159, 22.7497,-157.9987, 4723,    100.3,  21.2685,  35.2655,2,  35.2641,2,    208.5,1,   -999.0,9,  -999.00,9,  -999.00,9,  -999.00,9,    100,-999.000,  -999.0, 21.2491
     33KI131_1,  PRS2,     2,  8,      8,     29,2,20011023,1159, 22.7497,-157.9987, 4723,    100.4,  21.2634,  35.2652,2,  35.2633,2,    208.3,1,   -999.0,9,  -999.00,9,  -999.00,9,  -999.00,9,    101,-999.000,  -999.0, 21.2440
     33KI131_1,  PRS2,     2,  8,      7,     28,2,20011023,1159, 22.7497,-157.9987, 4723,    124.6,  20.3853,  35.2165,2,  35.2190,2,    203.4,1,   -999.0,9,  -999.00,9,  -999.00,9,  -999.00,9,    125,-999.000,  -999.0, 20.3620
     33KI131_1,  PRS2,     2,  8,      6,      7,2,20011023,1159, 22.7497,-157.9987, 4723,    124.7,  20.3884,  35.2165,2,  35.2158,2,    203.2,1,   -999.0,9,  -999.00,9,  -999.00,9,  -999.00,9,    125,-999.000,  -999.0, 20.3651
     33KI131_1,  PRS2,     2,  8,      5,     38,2,20011023,1159, 22.7497,-157.9987, 4723,    124.7,  20.3971,  35.2173,2,  35.2195,2,    203.0,1,   -999.0,9,  -999.00,9,  -999.00,9,  -999.00,9,    125,-999.000,  -999.0, 20.3738
     33KI131_1,  PRS2,     2,  8,      4,     36,2,20011023,1159, 22.7497,-157.9987, 4723,    150.4,  19.4899,  35.1157,2,  35.1301,2,    200.3,1,   -999.0,9,  -999.00,9,  -999.00,9,  -999.00,9,    151,-999.000,  -999.0, 19.4626
     33KI131_1,  PRS2,     2,  8,      3,     35,2,20011023,1159, 22.7497,-157.9987, 4723,    174.5,  18.5321,  34.9794,2,  34.9833,2,    199.2,1,   -999.0,9,  -999.00,9,  -999.00,9,  -999.00,9,    175,-999.000,  -999.0, 18.5015
     33KI131_1,  PRS2,     2,  8,      2,     34,2,20011023,1159, 22.7497,-157.9987, 4723,    464.4,   7.2027,  34.0309,2,  34.0307,2,    125.7,1,   -999.0,9,  -999.00,9,  -999.00,9,  -999.00,9,    464,-999.000,  -999.0,  7.1583
     33KI131_1,  PRS2,     2,  8,      1,     33,2,20011023,1159, 22.7497,-157.9987, 4723,   1020.6,   3.8110,  34.4880,2,  34.4877,2,     42.7,1,   -999.0,9,  -999.00,9,  -999.00,9,  -999.00,9,   1021,-999.000,  -999.0,  3.7352
     33KI131_1,  PRS2,     2,  9,     24,     31,2,20011023,1455, 22.7608,-157.9988, 4723,      4.8,  25.3989,  35.4122,2,-999.0000,5,    206.1,1,   -999.0,9,  -999.00,9,  -999.00,9,  -999.00,9,      5,-999.000,  -999.0, 25.3979
     33KI131_1,  PRS2,     2,  9,     23,     30,2,20011023,1455, 22.7608,-157.9988, 4723,      4.8,  25.3992,  35.4122,2,-999.0000,5,    206.5,1,   -999.0,9,  -999.00,9,  -999.00,9,  -999.00,9,      5,-999.000,  -999.0, 25.3982
     33KI131_1,  PRS2,     2,  9,     22,     22,2,20011023,1455, 22.7608,-157.9988, 4723,      4.8,  25.4049,  35.4120,2,-999.0000,5,    206.8,1,   -999.0,9,  -999.00,9,  -999.00,9,  -999.00,9,      5,-999.000,  -999.0, 25.4039
     33KI131_1,  PRS2,     2,  9,     21,     21,2,20011023,1455, 22.7608,-157.9988, 4723,      4.8,  25.4086,  35.4119,2,  35.4190,2,    207.0,1,   -999.0,9,  -999.00,9,  -999.00,9,  -999.00,9,      5,-999.000,  -999.0, 25.4075
     33KI131_1,  PRS2,     2,  9,     20,     20,2,20011023,1455, 22.7608,-157.9988, 4723,     24.9,  25.4118,  35.4115,2,  35.4111,2,    207.4,1,   -999.0,9,  -999.00,9,  -999.00,9,  -999.00,9,     25,-999.000,  -999.0, 25.4063
     33KI131_1,  PRS2,     2,  9,     14,     14,2,20011023,1455, 22.7608,-157.9988, 4723,     30.1,  25.4177,  35.4111,2,-999.0000,5,    214.4,1,   -999.0,9,  -999.00,9,  -999.00,9,  -999.00,9,     30,-999.000,  -999.0, 25.4111
     33KI131_1,  PRS2,     2,  9,     16,     16,2,20011023,1455, 22.7608,-157.9988, 4723,     30.2,  25.4164,  35.4112,2,-999.0000,5,    211.4,1,   -999.0,9,  -999.00,9,  -999.00,9,  -999.00,9,     30,-999.000,  -999.0, 25.4097
     33KI131_1,  PRS2,     2,  9,     15,     23,2,20011023,1455, 22.7608,-157.9988, 4723,     30.2,  25.4176,  35.4111,2,-999.0000,5,    212.8,1,   -999.0,9,  -999.00,9,  -999.00,9,  -999.00,9,     30,-999.000,  -999.0, 25.4110
     33KI131_1,  PRS2,     2,  9,     13,     13,2,20011023,1455, 22.7608,-157.9988, 4723,     30.2,  25.4185,  35.4109,2,-999.0000,5,    215.9,1,   -999.0,9,  -999.00,9,  -999.00,9,  -999.00,9,     30,-999.000,  -999.0, 25.4119
     33KI131_1,  PRS2,     2,  9,     10,     32,2,20011023,1455, 22.7608,-157.9988, 4723,     30.2,  25.4193,  35.4108,2,-999.0000,5,    220.2,1,   -999.0,9,  -999.00,9,  -999.00,9,  -999.00,9,     30,-999.000,  -999.0, 25.4126
     33KI131_1,  PRS2,     2,  9,      9,      3,2,20011023,1455, 22.7608,-157.9988, 4723,     30.2,  25.4194,  35.4107,2,-999.0000,5,    221.6,1,   -999.0,9,  -999.00,9,  -999.00,9,  -999.00,9,     30,-999.000,  -999.0, 25.4128
     33KI131_1,  PRS2,     2,  9,      8,     29,2,20011023,1455, 22.7608,-157.9988, 4723,     30.2,  25.4176,  35.4106,2,  35.4097,2,    222.8,1,   -999.0,9,  -999.00,9,  -999.00,9,  -999.00,9,     30,-999.000,  -999.0, 25.4110
     33KI131_1,  PRS2,     2,  9,     17,     17,2,20011023,1455, 22.7608,-157.9988, 4723,     30.3,  25.4158,  35.4111,2,-999.0000,5,    210.1,1,   -999.0,9,  -999.00,9,  -999.00,9,  -999.00,9,     31,-999.000,  -999.0, 25.4091
     33KI131_1,  PRS2,     2,  9,     12,     12,2,20011023,1455, 22.7608,-157.9988, 4723,     30.3,  25.4188,  35.4109,2,-999.0000,5,    217.2,1,   -999.0,9,  -999.00,9,  -999.00,9,  -999.00,9,     31,-999.000,  -999.0, 25.4122
     33KI131_1,  PRS2,     2,  9,     11,     11,2,20011023,1455, 22.7608,-157.9988, 4723,     30.3,  25.4191,  35.4108,2,-999.0000,5,    218.7,1,   -999.0,9,  -999.00,9,  -999.00,9,  -999.00,9,     30,-999.000,  -999.0, 25.4124
     33KI131_1,  PRS2,     2,  9,     19,     19,2,20011023,1455, 22.7608,-157.9988, 4723,     30.4,  25.4171,  35.4111,2,-999.0000,5,    208.1,1,   -999.0,9,  -999.00,9,  -999.00,9,  -999.00,9,     30,-999.000,  -999.0, 25.4104
     33KI131_1,  PRS2,     2,  9,     18,     18,2,20011023,1455, 22.7608,-157.9988, 4723,     30.4,  25.4171,  35.4111,2,-999.0000,5,    209.0,1,   -999.0,9,  -999.00,9,  -999.00,9,  -999.00,9,     31,-999.000,  -999.0, 25.4104
     33KI131_1,  PRS2,     2,  9,      7,     28,3,20011023,1455, 22.7608,-157.9988, 4723,     45.1,  25.4184,  35.4100,2,  35.4111,2,    224.0,1,   -999.0,9,  -999.00,9,  -999.00,9,  -999.00,9,     45,-999.000,  -999.0, 25.4085
     33KI131_1,  PRS2,     2,  9,      6,      7,2,20011023,1455, 22.7608,-157.9988, 4723,     75.1,  23.2114,  35.2838,2,  35.2842,2,    228.7,1,   -999.0,9,  -999.00,9,  -999.00,9,  -999.00,9,     75,-999.000,  -999.0, 23.1960
     33KI131_1,  PRS2,     2,  9,      5,     38,2,20011023,1455, 22.7608,-157.9988, 4723,    100.2,  21.4150,  35.2735,2,  35.2721,2,    212.1,1,   -999.0,9,  -999.00,9,  -999.00,9,  -999.00,9,    100,-999.000,  -999.0, 21.3956
     33KI131_1,  PRS2,     2,  9,      4,     36,2,20011023,1455, 22.7608,-157.9988, 4723,    149.6,  20.1077,  35.1971,2,  35.1955,2,    204.4,1,   -999.0,9,  -999.00,9,  -999.00,9,  -999.00,9,    150,-999.000,  -999.0, 20.0800
     33KI131_1,  PRS2,     2,  9,      3,     35,2,20011023,1455, 22.7608,-157.9988, 4723,    200.5,  17.4998,  34.8267,2,  34.8277,2,    197.1,1,   -999.0,9,  -999.00,9,  -999.00,9,  -999.00,9,    201,-999.000,  -999.0, 17.4661
     33KI131_1,  PRS2,     2,  9,      2,     34,2,20011023,1455, 22.7608,-157.9988, 4723,    750.4,   4.6661,  34.3484,2,  34.3501,2,     25.6,1,   -999.0,9,  -999.00,9,  -999.00,9,  -999.00,9,    751,-999.000,  -999.0,  4.6070
     33KI131_1,  PRS2,     2,  9,      1,     33,2,20011023,1455, 22.7608,-157.9988, 4723,   1020.1,   3.9333,  34.4934,2,  34.4960,2,     41.9,1,   -999.0,9,  -999.00,9,  -999.00,9,  -999.00,9,   1020,-999.000,  -999.0,  3.8565
     33KI131_1,  PRS2,     2, 10,     22,     22,2,20011023,1757, 22.7640,-158.0053, 4715,      4.8,  25.4137,  35.4111,2,  35.4103,2,    205.3,1,   -999.0,9,  -999.00,9,  -999.00,9,  -999.00,9,      5,-999.000,  -999.0, 25.4126
     33KI131_1,  PRS2,     2, 10,     21,     21,2,20011023,1757, 22.7640,-158.0053, 4715,      4.9,  25.4138,  35.4111,2,  35.4099,2,    205.4,1,   -999.0,9,  -999.00,9,  -999.00,9,  -999.00,9,      5,-999.000,  -999.0, 25.4127
     33KI131_1,  PRS2,     2, 10,     20,     20,2,20011023,1757, 22.7640,-158.0053, 4715,     14.8,  25.4123,  35.4110,2,  35.4099,2,    205.5,1,   -999.0,9,  -999.00,9,  -999.00,9,  -999.00,9,     15,-999.000,  -999.0, 25.4090
     33KI131_1,  PRS2,     2, 10,     19,     19,2,20011023,1757, 22.7640,-158.0053, 4715,     24.7,  25.4123,  35.4110,2,  35.4095,2,    205.2,1,   -999.0,9,  -999.00,9,  -999.00,9,  -999.00,9,     25,-999.000,  -999.0, 25.4068
     33KI131_1,  PRS2,     2, 10,     18,     18,2,20011023,1757, 22.7640,-158.0053, 4715,     29.4,  25.4113,  35.4107,2,  35.4095,2,    205.2,1,   -999.0,9,  -999.00,9,  -999.00,9,  -999.00,9,     29,-999.000,  -999.0, 25.4048
     33KI131_1,  PRS2,     2, 10,     17,     17,2,20011023,1757, 22.7640,-158.0053, 4715,     34.6,  25.4125,  35.4106,2,  35.4091,2,    205.2,1,   -999.0,9,  -999.00,9,  -999.00,9,  -999.00,9,     35,-999.000,  -999.0, 25.4049
     33KI131_1,  PRS2,     2, 10,     16,     16,2,20011023,1757, 22.7640,-158.0053, 4715,     34.7,  25.4124,  35.4105,2,  35.4918,4,    205.2,1,   -999.0,9,  -999.00,9,  -999.00,9,  -999.00,9,     34,-999.000,  -999.0, 25.4048
     33KI131_1,  PRS2,     2, 10,     15,     23,2,20011023,1757, 22.7640,-158.0053, 4715,     45.2,  25.4154,  35.4104,2,  35.4109,2,    205.1,1,   -999.0,9,  -999.00,9,  -999.00,9,  -999.00,9,     46,-999.000,  -999.0, 25.4055
     33KI131_1,  PRS2,     2, 10,     13,     13,2,20011023,1757, 22.7640,-158.0053, 4715,     60.5,  25.4164,  35.4112,2,  35.4095,2,    205.3,1,   -999.0,9,  -999.00,9,  -999.00,9,  -999.00,9,     61,-999.000,  -999.0, 25.4031
     33KI131_1,  PRS2,     2, 10,     14,     14,2,20011023,1757, 22.7640,-158.0053, 4715,     60.6,  25.4174,  35.4104,2,  35.4095,2,    205.0,1,   -999.0,9,  -999.00,9,  -999.00,9,  -999.00,9,     61,-999.000,  -999.0, 25.4041
     33KI131_1,  PRS2,     2, 10,     12,     12,2,20011023,1757, 22.7640,-158.0053, 4715,     74.9,  22.6473,  35.2914,2,  35.2885,2,    229.2,1,   -999.0,9,  -999.00,9,  -999.00,9,  -999.00,9,     75,-999.000,  -999.0, 22.6322
     33KI131_1,  PRS2,     2, 10,     11,     11,2,20011023,1757, 22.7640,-158.0053, 4715,     79.5,  22.4903,  35.2948,2,  35.2922,2,    223.8,1,   -999.0,9,  -999.00,9,  -999.00,9,  -999.00,9,     80,-999.000,  -999.0, 22.4743
     33KI131_1,  PRS2,     2, 10,     10,     32,2,20011023,1757, 22.7640,-158.0053, 4715,     99.2,  21.3921,  35.2715,2,  35.2871,4,    213.6,1,   -999.0,9,  -999.00,9,  -999.00,9,  -999.00,9,    100,-999.000,  -999.0, 21.3729
     33KI131_1,  PRS2,     2, 10,      9,      3,2,20011023,1757, 22.7640,-158.0053, 4715,     99.2,  21.3927,  35.2716,2,  35.2735,2,    213.6,1,   -999.0,9,  -999.00,9,  -999.00,9,  -999.00,9,     99,-999.000,  -999.0, 21.3734
     33KI131_1,  PRS2,     2, 10,      8,     29,2,20011023,1757, 22.7640,-158.0053, 4715,    120.1,  20.9149,  35.2617,2,  35.2593,2,    204.9,1,   -999.0,9,  -999.00,9,  -999.00,9,  -999.00,9,    120,-999.000,  -999.0, 20.8919
     33KI131_1,  PRS2,     2, 10,      7,     28,2,20011023,1757, 22.7640,-158.0053, 4715,    124.4,  20.7537,  35.2486,2,  35.2475,2,    202.6,1,   -999.0,9,  -999.00,9,  -999.00,9,  -999.00,9,    125,-999.000,  -999.0, 20.7301
     33KI131_1,  PRS2,     2, 10,      6,      7,2,20011023,1757, 22.7640,-158.0053, 4715,    129.5,  20.6182,  35.2375,2,  35.2526,4,    201.2,1,   -999.0,9,  -999.00,9,  -999.00,9,  -999.00,9,    130,-999.000,  -999.0, 20.5937
     33KI131_1,  PRS2,     2, 10,      5,     38,2,20011023,1757, 22.7640,-158.0053, 4715,    150.5,  19.9802,  35.1852,2,  35.1949,2,    204.0,1,   -999.0,9,  -999.00,9,  -999.00,9,  -999.00,9,    151,-999.000,  -999.0, 19.9524
     33KI131_1,  PRS2,     2, 10,      4,     36,2,20011023,1757, 22.7640,-158.0053, 4715,    159.6,  19.2572,  35.0891,2,  35.1120,3,    198.9,1,   -999.0,9,  -999.00,9,  -999.00,9,  -999.00,9,    160,-999.000,  -999.0, 19.2285
     33KI131_1,  PRS2,     2, 10,      3,     35,2,20011023,1757, 22.7640,-158.0053, 4715,    174.3,  18.6192,  34.9956,2,  34.9939,2,    199.5,1,   -999.0,9,  -999.00,9,  -999.00,9,  -999.00,9,    175,-999.000,  -999.0, 18.5886
     33KI131_1,  PRS2,     2, 10,      2,     34,2,20011023,1757, 22.7640,-158.0053, 4715,    500.4,   6.7965,  34.0338,2,  34.0327,2,    108.0,1,   -999.0,9,  -999.00,9,  -999.00,9,  -999.00,9,    500,-999.000,  -999.0,  6.7501
     33KI131_1,  PRS2,     2, 10,      1,     33,2,20011023,1757, 22.7640,-158.0053, 4715,   1019.5,   3.9575,  34.4883,2,  34.4881,2,     41.4,1,   -999.0,9,  -999.00,9,  -999.00,9,  -999.00,9,   1020,-999.000,  -999.0,  3.8805
     33KI131_1,  PRS2,     2, 11,     15,     23,2,20011023,2056, 22.7572,-158.0435, 4733,      4.8,  25.4967,  35.4125,2,  35.4123,2,    203.0,1,   -999.0,9,  -999.00,9,  -999.00,9,  -999.00,9,      5,-999.000,  -999.0, 25.4957
     33KI131_1,  PRS2,     2, 11,     14,     14,2,20011023,2056, 22.7572,-158.0435, 4733,     24.8,  25.4233,  35.4108,2,  35.4174,2,    206.4,1,   -999.0,9,  -999.00,9,  -999.00,9,  -999.00,9,     25,-999.000,  -999.0, 25.4179
     33KI131_1,  PRS2,     2, 11,     13,     13,2,20011023,2056, 22.7572,-158.0435, 4733,     50.4,  25.4218,  35.4105,2,  35.4109,2,    206.4,1,   -999.0,9,  -999.00,9,  -999.00,9,  -999.00,9,     51,-999.000,  -999.0, 25.4107
     33KI131_1,  PRS2,     2, 11,     12,     12,2,20011023,2056, 22.7572,-158.0435, 4733,     75.7,  23.0720,  35.2853,2,  35.2863,2,    230.7,1,   -999.0,9,  -999.00,9,  -999.00,9,  -999.00,9,     76,-999.000,  -999.0, 23.0565
     33KI131_1,  PRS2,     2, 11,     11,     11,2,20011023,2056, 22.7572,-158.0435, 4733,    100.3,  22.5207,  35.2998,2,  35.2984,2,    223.3,1,   -999.0,9,  -999.00,9,  -999.00,9,  -999.00,9,    101,-999.000,  -999.0, 22.5005
     33KI131_1,  PRS2,     2, 11,     10,     32,2,20011023,2056, 22.7572,-158.0435, 4733,    125.0,  21.5419,  35.2842,2,  35.2960,3,    213.3,1,   -999.0,9,  -999.00,9,  -999.00,9,  -999.00,9,    125,-999.000,  -999.0, 21.5176
     33KI131_1,  PRS2,     2, 11,      9,      3,2,20011023,2056, 22.7572,-158.0435, 4733,    149.3,  20.9515,  35.2730,2,  35.2666,2,    205.2,1,   -999.0,9,  -999.00,9,  -999.00,9,  -999.00,9,    150,-999.000,  -999.0, 20.9230
     33KI131_1,  PRS2,     2, 11,      8,     29,2,20011023,2056, 22.7572,-158.0435, 4733,    175.1,  19.9673,  35.1886,2,  35.2036,3,    202.6,1,   -999.0,9,  -999.00,9,  -999.00,9,  -999.00,9,    175,-999.000,  -999.0, 19.9349
     33KI131_1,  PRS2,     2, 11,      7,     28,2,20011023,2056, 22.7572,-158.0435, 4733,    200.3,  18.3823,  34.9563,2,  34.9642,2,    198.3,1,   -999.0,9,  -999.00,9,  -999.00,9,  -999.00,9,    200,-999.000,  -999.0, 18.3474
     33KI131_1,  PRS2,     2, 11,      6,      7,2,20011023,2056, 22.7572,-158.0435, 4733,    252.4,  14.8377,  34.4697,2,  34.4832,2,    200.9,1,   -999.0,9,  -999.00,9,  -999.00,9,  -999.00,9,    252,-999.000,  -999.0, 14.7998
     33KI131_1,  PRS2,     2, 11,      5,     38,2,20011023,2056, 22.7572,-158.0435, 4733,    351.8,  10.3305,  34.1119,2,  34.1111,2,    191.3,1,   -999.0,9,  -999.00,9,  -999.00,9,  -999.00,9,    352,-999.000,  -999.0, 10.2890
     33KI131_1,  PRS2,     2, 11,      4,     36,2,20011023,2056, 22.7572,-158.0435, 4733,    502.9,   6.8368,  34.0330,2,  34.0329,2,    112.6,1,   -999.0,9,  -999.00,9,  -999.00,9,  -999.00,9,    503,-999.000,  -999.0,  6.7900
     33KI131_1,  PRS2,     2, 11,      3,     35,2,20011023,2056, 22.7572,-158.0435, 4733,    726.9,   4.8006,  34.3057,2,  34.3048,2,     26.6,1,   -999.0,9,  -999.00,9,  -999.00,9,  -999.00,9,    727,-999.000,  -999.0,  4.7428
     33KI131_1,  PRS2,     2, 11,      2,     34,2,20011023,2056, 22.7572,-158.0435, 4733,    847.2,   4.3083,  34.4234,2,  34.4228,2,     31.4,1,   -999.0,9,  -999.00,9,  -999.00,9,  -999.00,9,    846,-999.000,  -999.0,  4.2433
     33KI131_1,  PRS2,     2, 11,      1,     33,2,20011023,2056, 22.7572,-158.0435, 4733,   1021.9,   3.7517,  34.5011,2,  34.4999,2,     45.6,1,   -999.0,9,  -999.00,9,  -999.00,9,  -999.00,9,   1022,-999.000,  -999.0,  3.6762