BOTTLE,20020809WHPSIObren
EXPOCODE,SECT_ID,STNNBR,CASTNO,SAMPNO,BTLNBR,BTLNBR_FLAG_W,DATE,TIME,LATITUDE,LONGITUDE,DEPTH,CTDPRS,CTDTMP,CTDSAL,CTDSAL_FLAG_W,SALNTY,SALNTY_FLAG_W,CTDOXY,CTDOXY_FLAG_W,OXYGEN,OXYGEN_FLAG_W,SILCAT,SILCAT_FLAG_W,NO2+NO3,NO2+NO3_FLAG_W,PHSPHT,PHSPHT_FLAG_W,CTDRAW,REVTMP,REVPRS,THETA
,,,,,,,,,,,,DBAR,ITS-90,PSS-78,,PSS-78,,UMOL/KG,,UMOL/KG,,UMOL/KG,,UMOL/KG,,UMOL/KG,,,DEG C,DBAR,ITS-90
     33KI131_1,  PRS2,     6,  2,     11,     11,2,20011026,0558, 21.8457,-158.3647, 2475,      4.5,  25.9255,  35.2134,2,-999.0000,5,    203.3,1,   -999.0,9,  -999.00,9,  -999.00,9,  -999.00,9,      5,-999.000,  -999.0, 25.9244
     33KI131_1,  PRS2,     6,  2,     10,     32,2,20011026,0558, 21.8457,-158.3647, 2475,      4.5,  25.9255,  35.2132,2,-999.0000,5,    203.4,1,   -999.0,9,  -999.00,9,  -999.00,9,  -999.00,9,      4,-999.000,  -999.0, 25.9245
     33KI131_1,  PRS2,     6,  2,      8,     29,2,20011026,0558, 21.8457,-158.3647, 2475,      4.5,  25.9267,  35.2131,2,-999.0000,5,    203.5,1,   -999.0,9,  -999.00,9,  -999.00,9,  -999.00,9,      5,-999.000,  -999.0, 25.9257
     33KI131_1,  PRS2,     6,  2,      5,     38,2,20011026,0558, 21.8457,-158.3647, 2475,      4.5,  25.9311,  35.2124,2,-999.0000,5,    203.3,1,   -999.0,9,  -999.00,9,  -999.00,9,  -999.00,9,      5,-999.000,  -999.0, 25.9301
     33KI131_1,  PRS2,     6,  2,      4,     36,2,20011026,0558, 21.8457,-158.3647, 2475,      4.5,  25.9329,  35.2125,2,-999.0000,5,    203.2,1,   -999.0,9,  -999.00,9,  -999.00,9,  -999.00,9,      4,-999.000,  -999.0, 25.9319
     33KI131_1,  PRS2,     6,  2,      3,     35,2,20011026,0558, 21.8457,-158.3647, 2475,      4.5,  25.9351,  35.2122,2,  35.2142,2,    203.1,1,   -999.0,9,  -999.00,9,  -999.00,9,  -999.00,9,      5,-999.000,  -999.0, 25.9341
     33KI131_1,  PRS2,     6,  2,     23,     30,2,20011026,0558, 21.8457,-158.3647, 2475,      4.6,  25.9165,  35.2141,2,-999.0000,5,    202.3,1,   -999.0,9,  -999.00,9,  -999.00,9,  -999.00,9,      5,-999.000,  -999.0, 25.9155
     33KI131_1,  PRS2,     6,  2,     22,     22,2,20011026,0558, 21.8457,-158.3647, 2475,      4.6,  25.9167,  35.2140,2,-999.0000,5,    202.1,1,   -999.0,9,  -999.00,9,  -999.00,9,  -999.00,9,      4,-999.000,  -999.0, 25.9157
     33KI131_1,  PRS2,     6,  2,     21,     21,2,20011026,0558, 21.8457,-158.3647, 2475,      4.6,  25.9167,  35.2139,2,-999.0000,5,    202.0,1,   -999.0,9,  -999.00,9,  -999.00,9,  -999.00,9,      5,-999.000,  -999.0, 25.9157
     33KI131_1,  PRS2,     6,  2,     20,     20,2,20011026,0558, 21.8457,-158.3647, 2475,      4.6,  25.9165,  35.2140,2,-999.0000,5,    201.9,1,   -999.0,9,  -999.00,9,  -999.00,9,  -999.00,9,      4,-999.000,  -999.0, 25.9155
     33KI131_1,  PRS2,     6,  2,     19,     19,2,20011026,0558, 21.8457,-158.3647, 2475,      4.6,  25.9165,  35.2137,2,-999.0000,5,    201.9,1,   -999.0,9,  -999.00,9,  -999.00,9,  -999.00,9,      5,-999.000,  -999.0, 25.9155
     33KI131_1,  PRS2,     6,  2,     18,     18,2,20011026,0558, 21.8457,-158.3647, 2475,      4.6,  25.9161,  35.2137,2,-999.0000,5,    202.1,1,   -999.0,9,  -999.00,9,  -999.00,9,  -999.00,9,      5,-999.000,  -999.0, 25.9150
     33KI131_1,  PRS2,     6,  2,     17,     17,2,20011026,0558, 21.8457,-158.3647, 2475,      4.6,  25.9165,  35.2135,2,-999.0000,5,    202.3,1,   -999.0,9,  -999.00,9,  -999.00,9,  -999.00,9,      5,-999.000,  -999.0, 25.9154
     33KI131_1,  PRS2,     6,  2,     16,     16,2,20011026,0558, 21.8457,-158.3647, 2475,      4.6,  25.9196,  35.2134,2,-999.0000,5,    202.5,1,   -999.0,9,  -999.00,9,  -999.00,9,  -999.00,9,      5,-999.000,  -999.0, 25.9186
     33KI131_1,  PRS2,     6,  2,     15,     23,2,20011026,0558, 21.8457,-158.3647, 2475,      4.6,  25.9196,  35.2131,2,-999.0000,5,    202.8,1,   -999.0,9,  -999.00,9,  -999.00,9,  -999.00,9,      5,-999.000,  -999.0, 25.9185
     33KI131_1,  PRS2,     6,  2,     14,     14,2,20011026,0558, 21.8457,-158.3647, 2475,      4.6,  25.9198,  35.2132,2,-999.0000,5,    203.0,1,   -999.0,9,  -999.00,9,  -999.00,9,  -999.00,9,      5,-999.000,  -999.0, 25.9188
     33KI131_1,  PRS2,     6,  2,     13,     13,2,20011026,0558, 21.8457,-158.3647, 2475,      4.6,  25.9232,  35.2133,2,-999.0000,5,    203.2,1,   -999.0,9,  -999.00,9,  -999.00,9,  -999.00,9,      5,-999.000,  -999.0, 25.9222
     33KI131_1,  PRS2,     6,  2,     12,     12,2,20011026,0558, 21.8457,-158.3647, 2475,      4.6,  25.9261,  35.2131,2,-999.0000,5,    203.3,1,   -999.0,9,  -999.00,9,  -999.00,9,  -999.00,9,      5,-999.000,  -999.0, 25.9250
     33KI131_1,  PRS2,     6,  2,      9,      3,2,20011026,0558, 21.8457,-158.3647, 2475,      4.6,  25.9275,  35.2130,2,-999.0000,5,    203.4,1,   -999.0,9,  -999.00,9,  -999.00,9,  -999.00,9,      5,-999.000,  -999.0, 25.9265
     33KI131_1,  PRS2,     6,  2,      7,     28,2,20011026,0558, 21.8457,-158.3647, 2475,      4.6,  25.9285,  35.2129,2,-999.0000,5,    203.4,1,   -999.0,9,  -999.00,9,  -999.00,9,  -999.00,9,      5,-999.000,  -999.0, 25.9275
     33KI131_1,  PRS2,     6,  2,      6,      7,2,20011026,0558, 21.8457,-158.3647, 2475,      4.6,  25.9297,  35.2125,2,-999.0000,5,    203.4,1,   -999.0,9,  -999.00,9,  -999.00,9,  -999.00,9,      5,-999.000,  -999.0, 25.9287
     33KI131_1,  PRS2,     6,  2,     24,     31,2,20011026,0558, 21.8457,-158.3647, 2475,      4.7,  25.9161,  35.2141,2,-999.0000,5,    202.4,1,   -999.0,9,  -999.00,9,  -999.00,9,  -999.00,9,      5,-999.000,  -999.0, 25.9151
     33KI131_1,  PRS2,     6,  2,      2,     34,2,20011026,0558, 21.8457,-158.3647, 2475,    492.8,   6.6900,  34.0251,2,  34.0253,2,    118.8,1,   -999.0,9,  -999.00,9,  -999.00,9,  -999.00,9,    493,-999.000,  -999.0,  6.6448
     33KI131_1,  PRS2,     6,  2,      1,     33,2,20011026,0558, 21.8457,-158.3647, 2475,   1020.0,   4.0197,  34.4938,2,  34.4932,2,     47.0,1,   -999.0,9,  -999.00,9,  -999.00,9,  -999.00,9,   1020,-999.000,  -999.0,  3.9423
     33KI131_1,  PRS2,     8,  1,     13,     13,3,20011025,2057, 22.3333,-158.1783, 4852,      5.0,  25.9764,  35.2366,2,  35.2363,2,    203.7,2,    204.4,2,  -999.00,9,  -999.00,9,  -999.00,9,      5,-999.000,  -999.0, 25.9753
     33KI131_1,  PRS2,     8,  1,     12,     12,2,20011025,2057, 22.3333,-158.1783, 4852,     25.0,  25.8744,  35.2379,2,  35.2389,2,    204.6,2,    205.3,2,  -999.00,9,  -999.00,9,  -999.00,9,     25,-999.000,  -999.0, 25.8688
     33KI131_1,  PRS2,     8,  1,     11,     11,2,20011025,2057, 22.3333,-158.1783, 4852,     45.2,  25.8298,  35.2488,2,  35.2481,2,    204.8,2,    205.2,2,  -999.00,9,  -999.00,9,  -999.00,9,     45,-999.000,  -999.0, 25.8197
     33KI131_1,  PRS2,     8,  1,     10,     32,2,20011025,2057, 22.3333,-158.1783, 4852,     74.8,  25.5999,  35.3486,2,  35.3559,2,    208.6,2,    207.9,2,  -999.00,9,  -999.00,9,  -999.00,9,     75,-999.000,  -999.0, 25.5834
     33KI131_1,  PRS2,     8,  1,      9,      3,2,20011025,2057, 22.3333,-158.1783, 4852,    100.6,  22.3425,  35.3020,2,  35.3125,2,    220.5,2,    219.8,2,  -999.00,9,  -999.00,9,  -999.00,9,    100,-999.000,  -999.0, 22.3223
     33KI131_1,  PRS2,     8,  1,      8,     29,2,20011025,2057, 22.3333,-158.1783, 4852,    125.2,  21.4147,  35.2820,2,  35.2820,2,    211.6,2,    211.1,2,  -999.00,9,  -999.00,9,  -999.00,9,    126,-999.000,  -999.0, 21.3904
     33KI131_1,  PRS2,     8,  1,      7,     28,3,20011025,2057, 22.3333,-158.1783, 4852,    149.6,  20.1615,  35.1729,2,  35.1736,2,    198.0,2,    198.7,2,  -999.00,9,  -999.00,9,  -999.00,9,    150,-999.000,  -999.0, 20.1336
     33KI131_1,  PRS2,     8,  1,      6,      7,2,20011025,2057, 22.3333,-158.1783, 4852,    175.4,  19.1118,  35.0337,2,  35.0449,2,    193.1,2,    192.0,2,  -999.00,9,  -999.00,9,  -999.00,9,    175,-999.000,  -999.0, 19.0804
     33KI131_1,  PRS2,     8,  1,      5,     38,2,20011025,2057, 22.3333,-158.1783, 4852,    203.5,  17.7686,  34.8555,2,  34.8644,2,    190.4,2,    190.2,2,  -999.00,9,  -999.00,9,  -999.00,9,    204,-999.000,  -999.0, 17.7340
     33KI131_1,  PRS2,     8,  1,      4,     36,2,20011025,2057, 22.3333,-158.1783, 4852,    350.3,  10.2802,  34.1611,2,  34.1617,2,    199.6,2,    199.9,2,  -999.00,9,  -999.00,9,  -999.00,9,    350,-999.000,  -999.0, 10.2390
     33KI131_1,  PRS2,     8,  1,      3,     35,2,20011025,2057, 22.3333,-158.1783, 4852,    500.1,   6.8123,  34.0564,2,  34.0568,2,    106.2,2,    106.6,2,  -999.00,9,  -999.00,9,  -999.00,9,    500,-999.000,  -999.0,  6.7659
     33KI131_1,  PRS2,     8,  1,      2,     34,2,20011025,2057, 22.3333,-158.1783, 4852,    749.6,   4.6581,  34.2984,2,  34.3007,2,     23.9,2,     23.3,2,  -999.00,9,  -999.00,9,  -999.00,9,    749,-999.000,  -999.0,  4.5992
     33KI131_1,  PRS2,     8,  1,      1,     33,2,20011025,2057, 22.3333,-158.1783, 4852,   1021.4,   3.7968,  34.4793,2,  34.4801,2,     42.2,2,     42.6,2,  -999.00,9,  -999.00,9,  -999.00,9,   1021,-999.000,  -999.0,  3.7210