BOTTLE,20020809WHPSIObren
EXPOCODE,SECT_ID,STNNBR,CASTNO,SAMPNO,BTLNBR,BTLNBR_FLAG_W,DATE,TIME,LATITUDE,LONGITUDE,DEPTH,CTDPRS,CTDTMP,CTDSAL,CTDSAL_FLAG_W,SALNTY,SALNTY_FLAG_W,CTDOXY,CTDOXY_FLAG_W,OXYGEN,OXYGEN_FLAG_W,SILCAT,SILCAT_FLAG_W,NO2+NO3,NO2+NO3_FLAG_W,PHSPHT,PHSPHT_FLAG_W,CTDRAW,REVTMP,REVPRS,THETA
,,,,,,,,,,,,DBAR,ITS-90,PSS-78,,PSS-78,,UMOL/KG,,UMOL/KG,,UMOL/KG,,UMOL/KG,,UMOL/KG,,,DEG C,DBAR,ITS-90
     33KI131_1,  PRS2,     2, 12,     12,     12,2,20011023,2354, 22.7578,-158.0177, 4727,      5.0,  25.5640,  35.4142,2,  35.4188,2,    206.5,1,   -999.0,9,  -999.00,9,  -999.00,9,  -999.00,9,      5,-999.000,  -999.0, 25.5628
     33KI131_1,  PRS2,     2, 12,     11,     11,2,20011023,2354, 22.7578,-158.0177, 4727,     25.3,  25.4277,  35.4115,2,  35.4109,2,    207.1,1,   -999.0,9,  -999.00,9,  -999.00,9,  -999.00,9,     26,-999.000,  -999.0, 25.4221
     33KI131_1,  PRS2,     2, 12,     10,     32,2,20011023,2354, 22.7578,-158.0177, 4727,     25.3,  25.4277,  35.4114,2,  35.4107,2,    207.1,1,   -999.0,9,  -999.00,9,  -999.00,9,  -999.00,9,     25,-999.000,  -999.0, 25.4221
     33KI131_1,  PRS2,     2, 12,      9,      3,2,20011023,2354, 22.7578,-158.0177, 4727,     44.3,  25.4154,  35.4103,2,  35.4099,2,    207.4,1,   -999.0,9,  -999.00,9,  -999.00,9,  -999.00,9,     45,-999.000,  -999.0, 25.4057
     33KI131_1,  PRS2,     2, 12,      8,     29,3,20011023,2354, 22.7578,-158.0177, 4727,     75.0,  22.6927,  35.2914,2,  35.2922,2,    226.4,1,   -999.0,9,  -999.00,9,  -999.00,9,  -999.00,9,     76,-999.000,  -999.0, 22.6776
     33KI131_1,  PRS2,     2, 12,      7,     28,2,20011023,2354, 22.7578,-158.0177, 4727,     99.4,  21.5517,  35.2829,2,  35.2846,2,    212.3,1,   -999.0,9,  -999.00,9,  -999.00,9,  -999.00,9,     99,-999.000,  -999.0, 21.5324
     33KI131_1,  PRS2,     2, 12,      6,      7,2,20011023,2354, 22.7578,-158.0177, 4727,    125.2,  20.7293,  35.2675,2,  35.2680,2,    204.1,1,   -999.0,9,  -999.00,9,  -999.00,9,  -999.00,9,    125,-999.000,  -999.0, 20.7055
     33KI131_1,  PRS2,     2, 12,      5,     38,2,20011023,2354, 22.7578,-158.0177, 4727,    154.3,  19.8859,  35.1769,2,  35.1949,3,    202.8,1,   -999.0,9,  -999.00,9,  -999.00,9,  -999.00,9,    155,-999.000,  -999.0, 19.8575
     33KI131_1,  PRS2,     2, 12,      4,     36,2,20011023,2354, 22.7578,-158.0177, 4727,    247.7,  14.3387,  34.4144,2,  34.4548,3,    199.7,1,   -999.0,9,  -999.00,9,  -999.00,9,  -999.00,9,    248,-999.000,  -999.0, 14.3024
     33KI131_1,  PRS2,     2, 12,      3,     35,2,20011023,2354, 22.7578,-158.0177, 4727,    348.1,  10.0509,  34.1062,2,  34.1044,2,    189.0,1,   -999.0,9,  -999.00,9,  -999.00,9,  -999.00,9,    348,-999.000,  -999.0, 10.0106
     33KI131_1,  PRS2,     2, 12,      2,     34,2,20011023,2354, 22.7578,-158.0177, 4727,    749.8,   4.6544,  34.3534,2,  34.3539,2,     25.7,1,   -999.0,9,  -999.00,9,  -999.00,9,  -999.00,9,    751,-999.000,  -999.0,  4.5954
     33KI131_1,  PRS2,     2, 12,      1,     33,2,20011023,2354, 22.7578,-158.0177, 4727,   1019.2,   3.7963,  34.4913,2,  34.4905,2,     43.5,1,   -999.0,9,  -999.00,9,  -999.00,9,  -999.00,9,   1018,-999.000,  -999.0,  3.7207
     33KI131_1,  PRS2,     2, 13,      9,      3,2,20011024,0256, 22.7438,-158.0285, 4730,      5.8,  25.5378,  35.4119,2,  35.4115,2,    206.6,1,   -999.0,9,  -999.00,9,  -999.00,9,  -999.00,9,      6,-999.000,  -999.0, 25.5365
     33KI131_1,  PRS2,     2, 13,      8,     29,2,20011024,0256, 22.7438,-158.0285, 4730,     25.8,  25.4368,  35.4098,2,  35.4095,2,    207.1,1,   -999.0,9,  -999.00,9,  -999.00,9,  -999.00,9,     26,-999.000,  -999.0, 25.4311
     33KI131_1,  PRS2,     2, 13,      7,     28,2,20011024,0256, 22.7438,-158.0285, 4730,     46.7,  25.4200,  35.4094,2,  35.4093,2,    206.7,1,   -999.0,9,  -999.00,9,  -999.00,9,  -999.00,9,     47,-999.000,  -999.0, 25.4097
     33KI131_1,  PRS2,     2, 13,      6,      7,2,20011024,0256, 22.7438,-158.0285, 4730,     76.5,  22.6454,  35.2906,2,  35.2905,2,    225.9,1,   -999.0,9,  -999.00,9,  -999.00,9,  -999.00,9,     77,-999.000,  -999.0, 22.6299
     33KI131_1,  PRS2,     2, 13,      5,     38,2,20011024,0256, 22.7438,-158.0285, 4730,    100.8,  20.7724,  35.2592,2,  35.2613,2,    205.1,1,   -999.0,9,  -999.00,9,  -999.00,9,  -999.00,9,    101,-999.000,  -999.0, 20.7533
     33KI131_1,  PRS2,     2, 13,      4,     36,2,20011024,0256, 22.7438,-158.0285, 4730,    149.7,  18.9330,  35.0411,2,  35.0663,3,    200.2,1,   -999.0,9,  -999.00,9,  -999.00,9,  -999.00,9,    150,-999.000,  -999.0, 18.9063
     33KI131_1,  PRS2,     2, 13,      3,     35,2,20011024,0256, 22.7438,-158.0285, 4730,    199.7,  16.5309,  34.6911,2,  34.6906,2,    198.0,1,   -999.0,9,  -999.00,9,  -999.00,9,  -999.00,9,    200,-999.000,  -999.0, 16.4986
     33KI131_1,  PRS2,     2, 13,      2,     34,2,20011024,0256, 22.7438,-158.0285, 4730,    476.4,   6.8734,  34.0300,2,  34.0311,2,    114.4,1,   -999.0,9,  -999.00,9,  -999.00,9,  -999.00,9,    477,-999.000,  -999.0,  6.8290
     33KI131_1,  PRS2,     2, 13,      1,     33,2,20011024,0256, 22.7438,-158.0285, 4730,   1020.2,   3.8136,  34.4897,2,  34.4964,2,     43.2,1,   -999.0,9,  -999.00,9,  -999.00,9,  -999.00,9,   1020,-999.000,  -999.0,  3.7378
     33KI131_1,  PRS2,     2, 14,     20,     20,3,20011024,0553, 22.7485,-158.0032, 4727,      4.4,  25.5064,  35.4127,2,  35.4119,2,    205.3,1,   -999.0,9,  -999.00,9,  -999.00,9,  -999.00,9,      4,-999.000,  -999.0, 25.5054
     33KI131_1,  PRS2,     2, 14,     19,     19,2,20011024,0553, 22.7485,-158.0032, 4727,      4.4,  25.5077,  35.4126,2,-999.0000,5,    205.3,1,   -999.0,9,  -999.00,9,  -999.00,9,  -999.00,9,      4,-999.000,  -999.0, 25.5067
     33KI131_1,  PRS2,     2, 14,     18,     18,2,20011024,0553, 22.7485,-158.0032, 4727,     25.1,  25.4806,  35.4114,2,  35.4099,2,    207.0,1,   -999.0,9,  -999.00,9,  -999.00,9,  -999.00,9,     25,-999.000,  -999.0, 25.4751
     33KI131_1,  PRS2,     2, 14,     17,     17,2,20011024,0553, 22.7485,-158.0032, 4727,     25.2,  25.4807,  35.4112,2,-999.0000,5,    207.0,1,   -999.0,9,  -999.00,9,  -999.00,9,  -999.00,9,     25,-999.000,  -999.0, 25.4751
     33KI131_1,  PRS2,     2, 14,     15,     23,2,20011024,0553, 22.7485,-158.0032, 4727,     43.9,  25.4329,  35.4097,2,  35.4085,2,    206.9,1,   -999.0,9,  -999.00,9,  -999.00,9,  -999.00,9,     44,-999.000,  -999.0, 25.4233
     33KI131_1,  PRS2,     2, 14,     16,     16,3,20011024,0553, 22.7485,-158.0032, 4727,     44.0,  25.4329,  35.4097,2,  35.4103,2,    206.8,1,   -999.0,9,  -999.00,9,  -999.00,9,  -999.00,9,     44,-999.000,  -999.0, 25.4232
     33KI131_1,  PRS2,     2, 14,     14,     14,2,20011024,0553, 22.7485,-158.0032, 4727,     60.1,  25.4268,  35.4092,2,  35.4087,2,    207.0,1,   -999.0,9,  -999.00,9,  -999.00,9,  -999.00,9,     60,-999.000,  -999.0, 25.4136
     33KI131_1,  PRS2,     2, 14,     13,     13,2,20011024,0553, 22.7485,-158.0032, 4727,     74.7,  25.4268,  35.4091,2,-999.0000,5,    206.0,1,   -999.0,9,  -999.00,9,  -999.00,9,  -999.00,9,     74,-999.000,  -999.0, 25.4104
     33KI131_1,  PRS2,     2, 14,     12,     12,2,20011024,0553, 22.7485,-158.0032, 4727,     84.5,  25.4225,  35.4085,2,  35.4085,2,    206.8,1,   -999.0,9,  -999.00,9,  -999.00,9,  -999.00,9,     85,-999.000,  -999.0, 25.4039
     33KI131_1,  PRS2,     2, 14,     11,     11,2,20011024,0553, 22.7485,-158.0032, 4727,    100.0,  22.8862,  35.2889,2,  35.2842,2,    228.6,1,   -999.0,9,  -999.00,9,  -999.00,9,  -999.00,9,    100,-999.000,  -999.0, 22.8658
     33KI131_1,  PRS2,     2, 14,     10,     32,2,20011024,0553, 22.7485,-158.0032, 4727,    115.1,  21.5241,  35.2769,2,  35.2867,3,    214.7,1,   -999.0,9,  -999.00,9,  -999.00,9,  -999.00,9,    115,-999.000,  -999.0, 21.5017
     33KI131_1,  PRS2,     2, 14,      8,     29,2,20011024,0553, 22.7485,-158.0032, 4727,    124.1,  21.0101,  35.2632,2,  35.2637,2,    205.2,1,   -999.0,9,  -999.00,9,  -999.00,9,  -999.00,9,    124,-999.000,  -999.0, 20.9864
     33KI131_1,  PRS2,     2, 14,      9,      3,3,20011024,0553, 22.7485,-158.0032, 4727,    124.3,  20.9914,  35.2630,2,  35.2627,2,    205.6,1,   -999.0,9,  -999.00,9,  -999.00,9,  -999.00,9,    124,-999.000,  -999.0, 20.9676
     33KI131_1,  PRS2,     2, 14,      7,     28,2,20011024,0553, 22.7485,-158.0032, 4727,    134.3,  20.5267,  35.2392,2,  35.2743,4,    202.5,1,   -999.0,9,  -999.00,9,  -999.00,9,  -999.00,9,    134,-999.000,  -999.0, 20.5014
     33KI131_1,  PRS2,     2, 14,      5,     38,2,20011024,0553, 22.7485,-158.0032, 4727,    149.3,  20.1122,  35.2152,2,  35.2140,2,    202.8,1,   -999.0,9,  -999.00,9,  -999.00,9,  -999.00,9,    150,-999.000,  -999.0, 20.0845
     33KI131_1,  PRS2,     2, 14,      6,      7,3,20011024,0553, 22.7485,-158.0032, 4727,    149.4,  20.1121,  35.2151,2,  35.2146,2,    202.8,1,   -999.0,9,  -999.00,9,  -999.00,9,  -999.00,9,    149,-999.000,  -999.0, 20.0844
     33KI131_1,  PRS2,     2, 14,      3,     35,2,20011024,0553, 22.7485,-158.0032, 4727,    176.3,  18.8888,  35.0333,2,  35.0323,2,    200.3,1,   -999.0,9,  -999.00,9,  -999.00,9,  -999.00,9,    177,-999.000,  -999.0, 18.8575
     33KI131_1,  PRS2,     2, 14,      4,     36,3,20011024,0553, 22.7485,-158.0032, 4727,    176.8,  18.8830,  35.0312,2,  35.0344,2,    200.3,1,   -999.0,9,  -999.00,9,  -999.00,9,  -999.00,9,    177,-999.000,  -999.0, 18.8516
     33KI131_1,  PRS2,     2, 14,      2,     34,2,20011024,0553, 22.7485,-158.0032, 4727,    463.8,   7.1256,  34.0306,2,  34.0309,2,    119.6,1,   -999.0,9,  -999.00,9,  -999.00,9,  -999.00,9,    464,-999.000,  -999.0,  7.0816
     33KI131_1,  PRS2,     2, 14,      1,     33,2,20011024,0553, 22.7485,-158.0032, 4727,   1020.2,   3.9541,  34.4918,2,  34.4913,2,     41.2,1,   -999.0,9,  -999.00,9,  -999.00,9,  -999.00,9,   1020,-999.000,  -999.0,  3.8772
     33KI131_1,  PRS2,     2, 15,     20,     20,2,20011024,0922, 22.7472,-158.0028, 4727,     29.7,  25.4735,  35.4125,2,-999.0000,9,    207.2,1,   -999.0,9,  -999.00,9,  -999.00,9,  -999.00,9,     30,-999.000,  -999.0, 25.4669
     33KI131_1,  PRS2,     2, 15,     23,     30,2,20011024,0922, 22.7472,-158.0028, 4727,     29.8,  25.4588,  35.4121,2,-999.0000,9,    207.2,1,   -999.0,9,  -999.00,9,  -999.00,9,  -999.00,9,     30,-999.000,  -999.0, 25.4523
     33KI131_1,  PRS2,     2, 15,     19,     19,2,20011024,0922, 22.7472,-158.0028, 4727,     29.8,  25.4733,  35.4125,2,-999.0000,9,    207.2,1,   -999.0,9,  -999.00,9,  -999.00,9,  -999.00,9,     30,-999.000,  -999.0, 25.4668
     33KI131_1,  PRS2,     2, 15,     18,     18,2,20011024,0922, 22.7472,-158.0028, 4727,     29.8,  25.4734,  35.4125,2,-999.0000,9,    207.2,1,   -999.0,9,  -999.00,9,  -999.00,9,  -999.00,9,     30,-999.000,  -999.0, 25.4668
     33KI131_1,  PRS2,     2, 15,     16,     16,2,20011024,0922, 22.7472,-158.0028, 4727,     29.8,  25.4766,  35.4125,2,-999.0000,9,    207.1,1,   -999.0,9,  -999.00,9,  -999.00,9,  -999.00,9,     30,-999.000,  -999.0, 25.4701
     33KI131_1,  PRS2,     2, 15,     15,     23,2,20011024,0922, 22.7472,-158.0028, 4727,     29.8,  25.4770,  35.4126,2,-999.0000,9,    207.1,1,   -999.0,9,  -999.00,9,  -999.00,9,  -999.00,9,     30,-999.000,  -999.0, 25.4704
     33KI131_1,  PRS2,     2, 15,     13,     13,2,20011024,0922, 22.7472,-158.0028, 4727,     29.8,  25.4786,  35.4126,2,-999.0000,9,    207.1,1,   -999.0,9,  -999.00,9,  -999.00,9,  -999.00,9,     30,-999.000,  -999.0, 25.4721
     33KI131_1,  PRS2,     2, 15,     24,     31,2,20011024,0922, 22.7472,-158.0028, 4727,     29.9,  25.4528,  35.4121,2,-999.0000,9,    207.3,1,   -999.0,9,  -999.00,9,  -999.00,9,  -999.00,9,     30,-999.000,  -999.0, 25.4463
     33KI131_1,  PRS2,     2, 15,     22,     22,2,20011024,0922, 22.7472,-158.0028, 4727,     29.9,  25.4625,  35.4123,2,-999.0000,9,    207.2,1,   -999.0,9,  -999.00,9,  -999.00,9,  -999.00,9,     30,-999.000,  -999.0, 25.4560
     33KI131_1,  PRS2,     2, 15,     21,     21,2,20011024,0922, 22.7472,-158.0028, 4727,     29.9,  25.4658,  35.4124,2,-999.0000,9,    207.2,1,   -999.0,9,  -999.00,9,  -999.00,9,  -999.00,9,     30,-999.000,  -999.0, 25.4592
     33KI131_1,  PRS2,     2, 15,     17,     17,2,20011024,0922, 22.7472,-158.0028, 4727,     29.9,  25.4688,  35.4124,2,-999.0000,9,    207.2,1,   -999.0,9,  -999.00,9,  -999.00,9,  -999.00,9,     30,-999.000,  -999.0, 25.4623
     33KI131_1,  PRS2,     2, 15,     14,     14,2,20011024,0922, 22.7472,-158.0028, 4727,     29.9,  25.4787,  35.4125,2,-999.0000,9,    207.1,1,   -999.0,9,  -999.00,9,  -999.00,9,  -999.00,9,     30,-999.000,  -999.0, 25.4721
     33KI131_1,  PRS2,     2, 15,     12,     12,2,20011024,0922, 22.7472,-158.0028, 4727,     60.3,  25.4278,  35.4118,2,-999.0000,9,    206.8,1,   -999.0,9,  -999.00,9,  -999.00,9,  -999.00,9,     60,-999.000,  -999.0, 25.4146
     33KI131_1,  PRS2,     2, 15,     11,     11,2,20011024,0922, 22.7472,-158.0028, 4727,     60.3,  25.4285,  35.4115,2,-999.0000,9,    206.8,1,   -999.0,9,  -999.00,9,  -999.00,9,  -999.00,9,     60,-999.000,  -999.0, 25.4152
     33KI131_1,  PRS2,     2, 15,     10,     32,2,20011024,0922, 22.7472,-158.0028, 4727,     60.3,  25.4284,  35.4114,2,-999.0000,9,    206.9,1,   -999.0,9,  -999.00,9,  -999.00,9,  -999.00,9,     60,-999.000,  -999.0, 25.4151
     33KI131_1,  PRS2,     2, 15,      5,     38,2,20011024,0922, 22.7472,-158.0028, 4727,     60.3,  25.4277,  35.4111,2,-999.0000,9,    207.0,1,   -999.0,9,  -999.00,9,  -999.00,9,  -999.00,9,     61,-999.000,  -999.0, 25.4144
     33KI131_1,  PRS2,     2, 15,      2,     34,2,20011024,0922, 22.7472,-158.0028, 4727,     60.3,  25.4282,  35.4109,2,-999.0000,9,    207.1,1,   -999.0,9,  -999.00,9,  -999.00,9,  -999.00,9,     61,-999.000,  -999.0, 25.4150
     33KI131_1,  PRS2,     2, 15,      1,     33,2,20011024,0922, 22.7472,-158.0028, 4727,     60.3,  25.4271,  35.4109,2,-999.0000,9,    207.1,1,   -999.0,9,  -999.00,9,  -999.00,9,  -999.00,9,     60,-999.000,  -999.0, 25.4138
     33KI131_1,  PRS2,     2, 15,      9,      3,2,20011024,0922, 22.7472,-158.0028, 4727,     60.4,  25.4284,  35.4113,2,-999.0000,9,    206.9,1,   -999.0,9,  -999.00,9,  -999.00,9,  -999.00,9,     61,-999.000,  -999.0, 25.4151
     33KI131_1,  PRS2,     2, 15,      8,     29,2,20011024,0922, 22.7472,-158.0028, 4727,     60.4,  25.4287,  35.4112,2,-999.0000,9,    206.9,1,   -999.0,9,  -999.00,9,  -999.00,9,  -999.00,9,     61,-999.000,  -999.0, 25.4154
     33KI131_1,  PRS2,     2, 15,      7,     28,2,20011024,0922, 22.7472,-158.0028, 4727,     60.4,  25.4287,  35.4112,2,-999.0000,9,    206.9,1,   -999.0,9,  -999.00,9,  -999.00,9,  -999.00,9,     60,-999.000,  -999.0, 25.4154
     33KI131_1,  PRS2,     2, 15,      6,      7,2,20011024,0922, 22.7472,-158.0028, 4727,     60.4,  25.4278,  35.4112,2,-999.0000,9,    206.9,1,   -999.0,9,  -999.00,9,  -999.00,9,  -999.00,9,     60,-999.000,  -999.0, 25.4145
     33KI131_1,  PRS2,     2, 15,      4,     36,2,20011024,0922, 22.7472,-158.0028, 4727,     60.4,  25.4279,  35.4110,2,-999.0000,9,    207.0,1,   -999.0,9,  -999.00,9,  -999.00,9,  -999.00,9,     61,-999.000,  -999.0, 25.4146
     33KI131_1,  PRS2,     2, 15,      3,     35,2,20011024,0922, 22.7472,-158.0028, 4727,     60.4,  25.4285,  35.4110,2,-999.0000,9,    207.1,1,   -999.0,9,  -999.00,9,  -999.00,9,  -999.00,9,     61,-999.000,  -999.0, 25.4152