BOTTLE,20020809WHPSIObren
#code : jjward hyd_to_exchange.pl 
#original files copied from HTML directory: 20020809
#original HYD file: /whpo/11/HOTS/BOTTLE/hot131/hot131.sea   Fri Aug  9 09:51:29 2002
#original SUM file: /whpo/11/HOTS/BOTTLE/hot131/hot131.sum   Fri Aug  9 13:30:33 2002
EXPOCODE,SECT_ID,STNNBR,CASTNO,SAMPNO,BTLNBR,BTLNBR_FLAG_W,DATE,TIME,LATITUDE,LONGITUDE,DEPTH,CTDPRS,CTDTMP,CTDSAL,CTDSAL_FLAG_W,SALNTY,SALNTY_FLAG_W,CTDOXY,CTDOXY_FLAG_W,OXYGEN,OXYGEN_FLAG_W,SILCAT,SILCAT_FLAG_W,NO2+NO3,NO2+NO3_FLAG_W,PHSPHT,PHSPHT_FLAG_W,CTDRAW,REVTMP,REVPRS,THETA
,,,,,,,,,,,,DBAR,ITS-90,PSS-78,,PSS-78,,UMOL/KG,,UMOL/KG,,UMOL/KG,,UMOL/KG,,UMOL/KG,,,DEG C,DBAR,ITS-90
     33KI131_1,  PRS2,     1,  1,     16,     16,2,20011021,2325, 21.3432,-158.2733, 1500,      4.9,  26.3471,  35.2147,2,  35.2264,4,    202.5,3,    202.7,2,  -999.00,9,  -999.00,9,  -999.00,9,      5,-999.000,  -999.0, 26.3460
     33KI131_1,  PRS2,     1,  1,     15,     23,2,20011021,2325, 21.3432,-158.2733, 1500,      4.9,  26.3482,  35.2153,2,  35.2241,3,    202.5,3,    203.0,2,  -999.00,9,  -999.00,9,  -999.00,9,      5,-999.000,  -999.0, 26.3471
     33KI131_1,  PRS2,     1,  1,     14,     14,3,20011021,2325, 21.3432,-158.2733, 1500,     24.6,  26.1370,  35.2128,2,  35.2142,2,    203.5,2,    204.0,2,  -999.00,9,  -999.00,9,  -999.00,9,     25,-999.000,  -999.0, 26.1315
     33KI131_1,  PRS2,     1,  1,     13,     13,3,20011021,2325, 21.3432,-158.2733, 1500,     45.1,  26.0346,  35.2141,2,  35.2160,2,    204.7,2,    204.5,2,  -999.00,9,  -999.00,9,  -999.00,9,     45,-999.000,  -999.0, 26.0245
     33KI131_1,  PRS2,     1,  1,     12,     12,2,20011021,2325, 21.3432,-158.2733, 1500,     75.0,  23.6138,  35.3072,2,  35.3080,2,    214.0,2,    213.6,2,  -999.00,9,  -999.00,9,  -999.00,9,     76,-999.000,  -999.0, 23.5982
     33KI131_1,  PRS2,     1,  1,     11,     11,2,20011021,2325, 21.3432,-158.2733, 1500,    100.1,  21.8082,  35.2283,2,  35.2268,2,    201.0,2,    201.2,2,  -999.00,9,  -999.00,9,  -999.00,9,    101,-999.000,  -999.0, 21.7886
     33KI131_1,  PRS2,     1,  1,     10,     32,2,20011021,2325, 21.3432,-158.2733, 1500,    124.5,  20.6802,  35.1653,2,  35.2237,4,    196.1,3,    196.0,2,  -999.00,9,  -999.00,9,  -999.00,9,    125,-999.000,  -999.0, 20.6566
     33KI131_1,  PRS2,     1,  1,      9,      3,2,20011021,2325, 21.3432,-158.2733, 1500,    150.0,  19.3969,  35.0403,2,  35.0386,2,    194.1,2,    193.6,2,  -999.00,9,  -999.00,9,  -999.00,9,    151,-999.000,  -999.0, 19.3697
     33KI131_1,  PRS2,     1,  1,      8,     29,2,20011021,2325, 21.3432,-158.2733, 1500,    175.4,  18.9702,  34.9950,2,  34.9955,2,    193.8,2,    193.2,2,  -999.00,9,  -999.00,9,  -999.00,9,    176,-999.000,  -999.0, 18.9389
     33KI131_1,  PRS2,     1,  1,      7,     28,2,20011021,2325, 21.3432,-158.2733, 1500,    200.4,  17.7822,  34.8528,2,  34.8554,2,    191.9,2,    191.4,2,  -999.00,9,  -999.00,9,  -999.00,9,    201,-999.000,  -999.0, 17.7481
     33KI131_1,  PRS2,     1,  1,      6,      7,2,20011021,2325, 21.3432,-158.2733, 1500,    251.0,  13.7675,  34.4195,2,  34.4224,2,    190.3,2,    190.3,2,  -999.00,9,  -999.00,9,  -999.00,9,    252,-999.000,  -999.0, 13.7317
     33KI131_1,  PRS2,     1,  1,      5,     38,2,20011021,2325, 21.3432,-158.2733, 1500,    349.7,   9.1099,  34.1322,2,  34.1309,2,    151.2,2,    152.3,2,  -999.00,9,  -999.00,9,  -999.00,9,    349,-999.000,  -999.0,  9.0717
     33KI131_1,  PRS2,     1,  1,      4,     36,2,20011021,2325, 21.3432,-158.2733, 1500,    499.9,   6.8741,  34.1438,2,  34.1428,2,     82.1,2,     82.1,2,  -999.00,9,  -999.00,9,  -999.00,9,    500,-999.000,  -999.0,  6.8274
     33KI131_1,  PRS2,     1,  1,      3,     35,2,20011021,2325, 21.3432,-158.2733, 1500,    602.4,   5.4483,  34.2048,2,  34.2070,2,     43.1,2,     42.4,2,  -999.00,9,  -999.00,9,  -999.00,9,    602,-999.000,  -999.0,  5.3981
     33KI131_1,  PRS2,     1,  1,      2,     34,2,20011021,2325, 21.3432,-158.2733, 1500,    751.0,   5.0186,  34.4328,2,  34.4345,2,     32.7,2,     32.8,2,  -999.00,9,  -999.00,9,  -999.00,9,    751,-999.000,  -999.0,  4.9574
     33KI131_1,  PRS2,     1,  1,      1,     33,2,20011021,2325, 21.3432,-158.2733, 1500,   1020.4,   4.1493,  34.4961,2,  34.4952,2,     46.3,2,     46.6,2,  -999.00,9,  -999.00,9,  -999.00,9,   1021,-999.000,  -999.0,  4.0708
     33KI131_1,  PRS2,     2,  1,     24,     31,3,20011022,1303, 22.7468,-158.0012, 4723,      4.6,  25.4023,  35.3996,2,  35.4036,2,    207.3,2,    206.1,2,  -999.00,9,  -999.00,9,  -999.00,9,      5,-999.000,  -999.0, 25.4013
     33KI131_1,  PRS2,     2,  1,     23,     30,2,20011022,1303, 22.7468,-158.0012, 4723,    501.5,   6.3243,  34.0404,2,  34.0388,2,     95.1,2,     92.6,2,  -999.00,9,  -999.00,9,  -999.00,9,    502,-999.000,  -999.0,  6.2796
     33KI131_1,  PRS2,     2,  1,     22,     22,2,20011022,1303, 22.7468,-158.0012, 4723,    751.6,   4.7510,  34.3238,2,  34.3225,2,     26.1,2,     25.2,2,  -999.00,9,  -999.00,9,  -999.00,9,    752,-999.000,  -999.0,  4.6913
     33KI131_1,  PRS2,     2,  1,     21,     21,2,20011022,1303, 22.7468,-158.0012, 4723,   1000.6,   3.9934,  34.4872,2,  34.4858,2,     39.4,2,     40.1,2,  -999.00,9,  -999.00,9,  -999.00,9,   1000,-999.000,  -999.0,  3.9177
     33KI131_1,  PRS2,     2,  1,     20,     20,2,20011022,1303, 22.7468,-158.0012, 4723,   1199.9,   3.4865,  34.5312,2,  34.5303,2,     48.8,2,     49.5,2,  -999.00,9,  -999.00,9,  -999.00,9,   1200,-999.000,  -999.0,  3.3986
     33KI131_1,  PRS2,     2,  1,     19,     19,2,20011022,1303, 22.7468,-158.0012, 4723,   1401.6,   2.9937,  34.5623,2,  34.5612,2,     61.6,2,     62.1,2,  -999.00,9,  -999.00,9,  -999.00,9,   1402,-999.000,  -999.0,  2.8941
     33KI131_1,  PRS2,     2,  1,     18,     18,2,20011022,1303, 22.7468,-158.0012, 4723,   1600.6,   2.6805,  34.5828,2,  34.5822,2,     69.0,2,     69.8,2,  -999.00,9,  -999.00,9,  -999.00,9,   1600,-999.000,  -999.0,  2.5681
     33KI131_1,  PRS2,     2,  1,     17,     17,2,20011022,1303, 22.7468,-158.0012, 4723,   1801.5,   2.3522,  34.6043,2,  34.6036,2,     79.2,2,     80.0,2,  -999.00,9,  -999.00,9,  -999.00,9,   1801,-999.000,  -999.0,  2.2273
     33KI131_1,  PRS2,     2,  1,     16,     16,2,20011022,1303, 22.7468,-158.0012, 4723,   2001.9,   2.0893,  34.6229,2,  34.6233,2,     88.1,2,     88.8,2,  -999.00,9,  -999.00,9,  -999.00,9,   2002,-999.000,  -999.0,  1.9513
     33KI131_1,  PRS2,     2,  1,     15,     23,2,20011022,1303, 22.7468,-158.0012, 4723,   2201.1,   1.8902,  34.6380,2,  34.6382,2,     97.8,2,     98.6,2,  -999.00,9,  -999.00,9,  -999.00,9,   2201,-999.000,  -999.0,  1.7384
     33KI131_1,  PRS2,     2,  1,     14,     14,2,20011022,1303, 22.7468,-158.0012, 4723,   2398.6,   1.7541,  34.6498,2,  34.6500,2,    104.9,2,    106.7,2,  -999.00,9,  -999.00,9,  -999.00,9,   2398,-999.000,  -999.0,  1.5874
     33KI131_1,  PRS2,     2,  1,     13,     13,2,20011022,1303, 22.7468,-158.0012, 4723,   2601.1,   1.6609,  34.6586,2,  34.6596,2,    113.2,2,    113.9,2,  -999.00,9,  -999.00,9,  -999.00,9,   2600,-999.000,  -999.0,  1.4779
     33KI131_1,  PRS2,     2,  1,     12,     12,2,20011022,1303, 22.7468,-158.0012, 4723,   2802.6,   1.5993,  34.6651,2,  34.6643,2,    119.7,2,    120.3,2,  -999.00,9,  -999.00,9,  -999.00,9,   2802,-999.000,  -999.0,  1.3990
     33KI131_1,  PRS2,     2,  1,     11,     11,2,20011022,1303, 22.7468,-158.0012, 4723,   2999.2,   1.5462,  34.6710,2,  34.6700,2,    125.9,2,    127.0,3,  -999.00,9,  -999.00,9,  -999.00,9,   2998,-999.000,  -999.0,  1.3285
     33KI131_1,  PRS2,     2,  1,     10,     32,2,20011022,1303, 22.7468,-158.0012, 4723,   3199.8,   1.5088,  34.6760,2,  34.6759,2,    130.3,2,    130.5,2,  -999.00,9,  -999.00,9,  -999.00,9,   3198,-999.000,  -999.0,  1.2725
     33KI131_1,  PRS2,     2,  1,      9,      3,2,20011022,1303, 22.7468,-158.0012, 4723,   3400.2,   1.4807,  34.6798,2,  34.6850,2,    135.4,2,    136.0,2,  -999.00,9,  -999.00,9,  -999.00,9,   3400,-999.000,  -999.0,  1.2251
     33KI131_1,  PRS2,     2,  1,      8,     29,2,20011022,1303, 22.7468,-158.0012, 4723,   3598.3,   1.4680,  34.6827,2,  34.6824,2,    139.2,2,    139.7,2,  -999.00,9,  -999.00,9,  -999.00,9,   3598,-999.000,  -999.0,  1.1926
     33KI131_1,  PRS2,     2,  1,      7,     28,2,20011022,1303, 22.7468,-158.0012, 4723,   3798.2,   1.4522,  34.6853,2,  34.6853,2,    145.0,2,    144.8,2,  -999.00,9,  -999.00,9,  -999.00,9,   3798,-999.000,  -999.0,  1.1562
     33KI131_1,  PRS2,     2,  1,      6,      7,2,20011022,1303, 22.7468,-158.0012, 4723,   3999.5,   1.4514,  34.6873,2,  34.6873,2,    148.1,2,    148.3,2,  -999.00,9,  -999.00,9,  -999.00,9,   3999,-999.000,  -999.0,  1.1339
     33KI131_1,  PRS2,     2,  1,      5,     38,2,20011022,1303, 22.7468,-158.0012, 4723,   4202.3,   1.4599,  34.6884,2,  34.6883,2,    150.5,2,    150.3,2,  -999.00,9,  -999.00,9,  -999.00,9,   4202,-999.000,  -999.0,  1.1199
     33KI131_1,  PRS2,     2,  1,      4,     36,2,20011022,1303, 22.7468,-158.0012, 4723,   4398.8,   1.4757,  34.6890,2,  34.6891,2,    152.0,2,    151.1,2,  -999.00,9,  -999.00,9,  -999.00,9,   4398,-999.000,  -999.0,  1.1131
     33KI131_1,  PRS2,     2,  1,      3,     35,2,20011022,1303, 22.7468,-158.0012, 4723,   4500.3,   1.4841,  34.6893,2,  34.6899,2,    152.5,2,    152.1,2,  -999.00,9,  -999.00,9,  -999.00,9,   4501,-999.000,  -999.0,  1.1096
     33KI131_1,  PRS2,     2,  1,      2,     34,2,20011022,1303, 22.7468,-158.0012, 4723,   4604.4,   1.4912,  34.6896,2,  34.6910,2,    153.3,2,    152.5,2,  -999.00,9,  -999.00,9,  -999.00,9,   4604,-999.000,  -999.0,  1.1044
     33KI131_1,  PRS2,     2,  1,      1,     33,2,20011022,1303, 22.7468,-158.0012, 4723,   4804.9,   1.5079,  34.6902,2,  34.6914,2,    154.4,2,    151.4,3,  -999.00,9,  -999.00,9,  -999.00,9,   4805,-999.000,  -999.0,  1.0969
     33KI131_1,  PRS2,     2,  2,     24,     31,3,20011022,1758, 22.7567,-157.9790, 4710,      4.4,  25.4246,  35.4067,2,  35.4072,2,    206.1,2,    207.0,2,  -999.00,9,  -999.00,9,  -999.00,9,      4,-999.000,  -999.0, 25.4236
     33KI131_1,  PRS2,     2,  2,     23,     30,2,20011022,1758, 22.7567,-157.9790, 4710,     64.9,  25.4153,  35.4058,2,  35.4050,2,    206.1,2,    207.0,2,  -999.00,9,  -999.00,9,  -999.00,9,     65,-999.000,  -999.0, 25.4010
     33KI131_1,  PRS2,     2,  2,     22,     22,2,20011022,1758, 22.7567,-157.9790, 4710,     92.6,  22.2801,  35.2894,2,  35.3230,4,    220.9,3,    221.8,2,  -999.00,9,  -999.00,9,  -999.00,9,     92,-999.000,  -999.0, 22.2617
     33KI131_1,  PRS2,     2,  2,     21,     21,2,20011022,1758, 22.7567,-157.9790, 4710,    154.8,  20.2889,  35.2022,2,  35.2048,2,    202.9,2,    203.3,2,  -999.00,9,  -999.00,9,  -999.00,9,    155,-999.000,  -999.0, 20.2600
     33KI131_1,  PRS2,     2,  2,     20,     20,2,20011022,1758, 22.7567,-157.9790, 4710,    189.9,  18.8093,  35.0276,2,  35.0297,2,    198.4,2,    197.8,2,  -999.00,9,  -999.00,9,  -999.00,9,    189,-999.000,  -999.0, 18.7757
     33KI131_1,  PRS2,     2,  2,     19,     19,2,20011022,1758, 22.7567,-157.9790, 4710,    231.7,  16.5216,  34.6904,2,  34.6905,2,    197.8,2,    196.9,2,  -999.00,9,  -999.00,9,  -999.00,9,    232,-999.000,  -999.0, 16.4841
     33KI131_1,  PRS2,     2,  2,     18,     18,2,20011022,1758, 22.7567,-157.9790, 4710,    280.6,  13.4280,  34.3095,2,  34.3091,2,    198.5,2,    197.0,2,  -999.00,9,  -999.00,9,  -999.00,9,    280,-999.000,  -999.0, 13.3887
     33KI131_1,  PRS2,     2,  2,     17,     17,2,20011022,1758, 22.7567,-157.9790, 4710,    322.3,  11.3786,  34.1475,2,  34.1499,2,    198.2,2,    196.7,2,  -999.00,9,  -999.00,9,  -999.00,9,    322,-999.000,  -999.0, 11.3381
     33KI131_1,  PRS2,     2,  2,     16,     16,2,20011022,1758, 22.7567,-157.9790, 4710,    358.9,  10.2744,  34.1016,2,  34.1013,2,    189.9,2,    188.5,2,  -999.00,9,  -999.00,9,  -999.00,9,    359,-999.000,  -999.0, 10.2322
     33KI131_1,  PRS2,     2,  2,     15,     23,2,20011022,1758, 22.7567,-157.9790, 4710,    392.7,   9.0363,  34.0739,2,  34.0748,2,    172.3,2,    173.3,2,  -999.00,9,  -999.00,9,  -999.00,9,    392,-999.000,  -999.0,  8.9935
     33KI131_1,  PRS2,     2,  2,     14,     14,2,20011022,1758, 22.7567,-157.9790, 4710,    425.0,   8.0939,  34.0473,2,  34.0480,2,    153.7,2,    154.6,2,  -999.00,9,  -999.00,9,  -999.00,9,    425,-999.000,  -999.0,  8.0505
     33KI131_1,  PRS2,     2,  2,     13,     13,2,20011022,1758, 22.7567,-157.9790, 4710,    467.1,   7.3638,  34.0319,2,  34.0323,2,    132.5,2,    132.6,2,  -999.00,9,  -999.00,9,  -999.00,9,    466,-999.000,  -999.0,  7.3186
     33KI131_1,  PRS2,     2,  2,     12,     12,2,20011022,1758, 22.7567,-157.9790, 4710,    510.4,   6.5174,  34.0358,2,  34.0345,2,    100.0,2,    101.2,2,  -999.00,9,  -999.00,9,  -999.00,9,    510,-999.000,  -999.0,  6.4711
     33KI131_1,  PRS2,     2,  2,     11,     11,2,20011022,1758, 22.7567,-157.9790, 4710,    568.8,   5.6011,  34.0727,2,  34.0723,2,     62.8,2,     63.4,2,  -999.00,9,  -999.00,9,  -999.00,9,    569,-999.000,  -999.0,  5.5533
     33KI131_1,  PRS2,     2,  2,     10,     32,2,20011022,1758, 22.7567,-157.9790, 4710,    605.3,   5.2288,  34.1133,2,  34.1134,2,     46.3,2,     46.4,2,  -999.00,9,  -999.00,9,  -999.00,9,    605,-999.000,  -999.0,  5.1794
     33KI131_1,  PRS2,     2,  2,      9,      3,2,20011022,1758, 22.7567,-157.9790, 4710,    639.9,   5.0477,  34.1454,2,  34.1448,2,     37.6,2,     36.5,2,  -999.00,9,  -999.00,9,  -999.00,9,    639,-999.000,  -999.0,  4.9962
     33KI131_1,  PRS2,     2,  2,      8,     29,2,20011022,1758, 22.7567,-157.9790, 4710,    672.9,   4.9309,  34.1990,2,  34.1977,2,     28.1,2,     27.4,2,  -999.00,9,  -999.00,9,  -999.00,9,    673,-999.000,  -999.0,  4.8772
     33KI131_1,  PRS2,     2,  2,      7,     28,2,20011022,1758, 22.7567,-157.9790, 4710,    700.0,   4.8072,  34.2353,2,  34.2393,2,     25.4,2,     23.6,2,  -999.00,9,  -999.00,9,  -999.00,9,    700,-999.000,  -999.0,  4.7518
     33KI131_1,  PRS2,     2,  2,      6,      7,2,20011022,1758, 22.7567,-157.9790, 4710,    740.3,   4.7820,  34.3112,2,  34.3107,2,     26.0,2,     24.7,2,  -999.00,9,  -999.00,9,  -999.00,9,    740,-999.000,  -999.0,  4.7232
     33KI131_1,  PRS2,     2,  2,      5,     38,2,20011022,1758, 22.7567,-157.9790, 4710,    789.8,   4.5622,  34.4045,2,  34.4047,2,     29.9,2,     28.6,2,  -999.00,9,  -999.00,9,  -999.00,9,    790,-999.000,  -999.0,  4.5004
     33KI131_1,  PRS2,     2,  2,      4,     36,2,20011022,1758, 22.7567,-157.9790, 4710,    849.8,   4.2879,  34.4325,2,  34.4310,2,     31.8,2,     30.6,2,  -999.00,9,  -999.00,9,  -999.00,9,    850,-999.000,  -999.0,  4.2228
     33KI131_1,  PRS2,     2,  2,      3,     35,2,20011022,1758, 22.7567,-157.9790, 4710,    900.5,   4.1554,  34.4638,2,  34.4628,2,     36.7,2,     35.8,2,  -999.00,9,  -999.00,9,  -999.00,9,    901,-999.000,  -999.0,  4.0869
     33KI131_1,  PRS2,     2,  2,      2,     34,2,20011022,1758, 22.7567,-157.9790, 4710,    942.8,   4.0648,  34.4777,2,  34.4762,2,     38.9,2,     38.0,2,  -999.00,9,  -999.00,9,  -999.00,9,    943,-999.000,  -999.0,  3.9934
     33KI131_1,  PRS2,     2,  2,      1,     33,2,20011022,1758, 22.7567,-157.9790, 4710,   1020.6,   3.8354,  34.4993,2,  34.4997,2,     44.7,2,     44.5,2,  -999.00,9,  -999.00,9,  -999.00,9,   1020,-999.000,  -999.0,  3.7594
     33KI131_1,  PRS2,     2,  3,     17,     17,3,20011022,2056, 22.7578,-157.9553, 4704,      4.8,  25.4580,  35.4025,2,  35.4636,4,    206.8,1,   -999.0,9,  -999.00,9,  -999.00,9,  -999.00,9,      5,-999.000,  -999.0, 25.4569
     33KI131_1,  PRS2,     2,  3,     18,     18,3,20011022,2056, 22.7578,-157.9553, 4704,      4.9,  25.4587,  35.4027,2,  35.4752,4,    206.8,1,   -999.0,9,  -999.00,9,  -999.00,9,  -999.00,9,      4,-999.000,  -999.0, 25.4576
     33KI131_1,  PRS2,     2,  3,     16,     16,2,20011022,2056, 22.7578,-157.9553, 4704,     24.5,  25.4303,  35.4015,2,  35.4003,2,    205.8,1,   -999.0,9,  -999.00,9,  -999.00,9,  -999.00,9,     24,-999.000,  -999.0, 25.4250
     33KI131_1,  PRS2,     2,  3,     15,     23,2,20011022,2056, 22.7578,-157.9553, 4704,     29.1,  25.4268,  35.4014,2,  35.3997,2,    206.2,1,   -999.0,9,  -999.00,9,  -999.00,9,  -999.00,9,     29,-999.000,  -999.0, 25.4204
     33KI131_1,  PRS2,     2,  3,     14,     14,2,20011022,2056, 22.7578,-157.9553, 4704,     44.5,  25.4182,  35.4011,2,  35.3999,2,    206.2,1,   -999.0,9,  -999.00,9,  -999.00,9,  -999.00,9,     44,-999.000,  -999.0, 25.4084
     33KI131_1,  PRS2,     2,  3,     13,     13,2,20011022,2056, 22.7578,-157.9553, 4704,     59.5,  25.4118,  35.4009,2,  35.3989,2,    205.9,1,   -999.0,9,  -999.00,9,  -999.00,9,  -999.00,9,     60,-999.000,  -999.0, 25.3987
     33KI131_1,  PRS2,     2,  3,     12,     12,2,20011022,2056, 22.7578,-157.9553, 4704,     74.5,  23.6922,  35.2983,2,  35.3638,3,    224.3,1,   -999.0,9,  -999.00,9,  -999.00,9,  -999.00,9,     75,-999.000,  -999.0, 23.6767
     33KI131_1,  PRS2,     2,  3,     11,     11,2,20011022,2056, 22.7578,-157.9553, 4704,     79.6,  23.2361,  35.2848,2,  35.2816,2,    230.1,1,   -999.0,9,  -999.00,9,  -999.00,9,  -999.00,9,     80,-999.000,  -999.0, 23.2198
     33KI131_1,  PRS2,     2,  3,     10,     32,2,20011022,2056, 22.7578,-157.9553, 4704,     99.5,  22.3556,  35.2924,2,  35.2934,2,    221.5,1,   -999.0,9,  -999.00,9,  -999.00,9,  -999.00,9,     99,-999.000,  -999.0, 22.3356
     33KI131_1,  PRS2,     2,  3,      9,      3,2,20011022,2056, 22.7578,-157.9553, 4704,     99.5,  22.3552,  35.2921,2,  35.2919,2,    221.5,1,   -999.0,9,  -999.00,9,  -999.00,9,  -999.00,9,    100,-999.000,  -999.0, 22.3353
     33KI131_1,  PRS2,     2,  3,      8,     29,2,20011022,2056, 22.7578,-157.9553, 4704,    118.7,  21.5926,  35.2807,2,  35.2867,2,    215.3,1,   -999.0,9,  -999.00,9,  -999.00,9,  -999.00,9,    119,-999.000,  -999.0, 21.5694
     33KI131_1,  PRS2,     2,  3,      7,     28,2,20011022,2056, 22.7578,-157.9553, 4704,    126.3,  21.3201,  35.2740,2,  35.2777,2,    212.8,1,   -999.0,9,  -999.00,9,  -999.00,9,  -999.00,9,    126,-999.000,  -999.0, 21.2957
     33KI131_1,  PRS2,     2,  3,      6,      7,2,20011022,2056, 22.7578,-157.9553, 4704,    130.1,  21.2779,  35.2733,2,  35.2714,2,    212.7,1,   -999.0,9,  -999.00,9,  -999.00,9,  -999.00,9,    130,-999.000,  -999.0, 21.2528
     33KI131_1,  PRS2,     2,  3,      5,     38,2,20011022,2056, 22.7578,-157.9553, 4704,    149.6,  20.5676,  35.2360,2,  35.2353,2,    203.8,1,   -999.0,9,  -999.00,9,  -999.00,9,  -999.00,9,    150,-999.000,  -999.0, 20.5394
     33KI131_1,  PRS2,     2,  3,      4,     36,2,20011022,2056, 22.7578,-157.9553, 4704,    160.3,  20.3736,  35.2275,2,  35.2262,2,    202.1,1,   -999.0,9,  -999.00,9,  -999.00,9,  -999.00,9,    161,-999.000,  -999.0, 20.3435
     33KI131_1,  PRS2,     2,  3,      3,     35,2,20011022,2056, 22.7578,-157.9553, 4704,    175.3,  19.3183,  35.1041,2,  35.1089,2,    198.3,1,   -999.0,9,  -999.00,9,  -999.00,9,  -999.00,9,    176,-999.000,  -999.0, 19.2867
     33KI131_1,  PRS2,     2,  3,      2,     34,2,20011022,2056, 22.7578,-157.9553, 4704,    501.3,   6.7511,  34.0317,2,  34.0323,2,    109.7,1,   -999.0,9,  -999.00,9,  -999.00,9,  -999.00,9,    501,-999.000,  -999.0,  6.7048
     33KI131_1,  PRS2,     2,  3,      1,     33,2,20011022,2056, 22.7578,-157.9553, 4704,   1019.4,   3.7226,  34.4998,2,  34.4993,2,     44.7,1,   -999.0,9,  -999.00,9,  -999.00,9,  -999.00,9,   1019,-999.000,  -999.0,  3.6476