BOTTLE,20130606CCHSIOCBG
EXPOCODE,SECT_ID,STNNBR,CASTNO,BTLNBR,BTLNBR_FLAG_W,DATE,TIME,LATITUDE,LONGITUDE,DEPTH,CTDPRS,CTDTMP,CTDSAL,CTDSAL_FLAG_W,SALNTY,SALNTY_FLAG_W,OXYGEN,OXYGEN_FLAG_W,SILCAT,SILCAT_FLAG_W,NITRAT,NITRAT_FLAG_W,PHSPHT,PHSPHT_FLAG_W,TCARBN,TCARBN_FLAG_W,ALKALI,ALKALI_FLAG_W,DELC13,DELC13_FLAG_W
,,,,,,,,,,METERS,DBAR,ITS-90,PSS-78,,PSS-78,,UMOL/KG,,UMOL/KG,,UMOL/KG,,UMOL/KG,,UMOL/KG,,UMOL/KG,,/MILLE,
  35MF20110114,  OISO,     9,  1,      1,2,20110126,   0,-48.4998,  64.9998, 2090,   1003.3,   2.3128,  34.6613,2,  34.6720,2,    180.7,2,    76.48,2,    32.99,2,  -999.00,9,   2254.9,2,   2347.9,2,     0.23,2
  35MF20110114,  OISO,     9,  1,      2,2,20110126,   0,-48.4998,  64.9998, 2090,   1001.1,   2.3128,  34.6613,2,-999.0000,9,    181.7,2,    76.00,2,    32.60,2,  -999.00,9,   2252.2,2,   2345.0,2,  -999.00,9
  35MF20110114,  OISO,     9,  1,      3,2,20110126,   0,-48.4998,  64.9998, 2090,    799.9,   2.4133,  34.5901,2,-999.0000,9,    180.2,2,    72.40,2,    34.45,2,  -999.00,9,   2260.5,2,   2344.5,2,  -999.00,9
  35MF20110114,  OISO,     9,  1,      4,2,20110126,   0,-48.4998,  64.9998, 2090,    596.4,   2.3991,  34.4674,2,-999.0000,9,    185.5,2,    65.50,2,    34.84,2,  -999.00,9,   2263.3,2,   2333.5,2,  -999.00,9
  35MF20110114,  OISO,     9,  1,      5,2,20110126,   0,-48.4998,  64.9998, 2090,    500.9,   2.3887,  34.3770,2,  34.3840,2,    196.5,2,    58.30,2,    34.36,2,  -999.00,9,   2234.5,3,   2326.6,3,     0.35,2
  35MF20110114,  OISO,     9,  1,      6,2,20110126,   0,-48.4998,  64.9998, 2090,    399.8,   2.3810,  34.2813,2,-999.0000,9,    212.4,2,    50.42,2,    34.26,2,  -999.00,9,   2220.3,3,   2313.6,3,  -999.00,9
  35MF20110114,  OISO,     9,  1,      7,2,20110126,   0,-48.4998,  64.9998, 2090,    299.0,   2.3330,  34.1430,2,-999.0000,9,    247.4,2,    38.94,2,    32.22,2,  -999.00,9,   2219.8,2,   2305.8,2,     0.47,2
  35MF20110114,  OISO,     9,  1,      8,2,20110126,   0,-48.4998,  64.9998, 2090,    248.5,   2.2943,  34.0472,2,-999.0000,9,    268.3,2,    33.20,2,    31.54,2,  -999.00,9,   2195.5,2,   2299.8,2,  -999.00,9
  35MF20110114,  OISO,     9,  1,      9,2,20110126,   0,-48.4998,  64.9998, 2090,    197.2,   2.3305,  33.9431,2,  33.9760,2,    291.2,2,    25.41,2,    29.60,2,  -999.00,9,   2192.4,2,   2296.2,2,     0.85,2
  35MF20110114,  OISO,     9,  1,     10,2,20110126,   0,-48.4998,  64.9998, 2090,    147.5,   2.4125,  33.8454,2,-999.0000,9,    314.1,2,    18.11,2,    28.33,2,  -999.00,9,   2162.3,2,   2287.6,2,  -999.00,9
  35MF20110114,  OISO,     9,  1,     11,2,20110126,   0,-48.4998,  64.9998, 2090,    121.5,   2.5577,  33.8183,2,-999.0000,9,    317.7,2,    16.46,2,    27.46,2,  -999.00,9,   2156.6,2,   2284.3,2,  -999.00,9
  35MF20110114,  OISO,     9,  1,     12,2,20110126,   0,-48.4998,  64.9998, 2090,    101.4,   2.8545,  33.8003,2,-999.0000,9,    315.6,2,    15.48,2,    27.46,2,  -999.00,9,   2158.0,2,   2284.9,2,     1.15,2
  35MF20110114,  OISO,     9,  1,     13,2,20110126,   0,-48.4998,  64.9998, 2090,     75.9,   3.7026,  33.7582,2,-999.0000,9,    317.6,2,     8.96,2,    25.32,2,  -999.00,9,   2147.0,2,   2283.2,2,     1.26,2
  35MF20110114,  OISO,     9,  1,     23,2,20110126,   0,-48.4998,  64.9998, 2090,     76.2,   3.7247,  33.7572,2,-999.0000,9,   -999.0,9,  -999.00,9,  -999.00,9,  -999.00,9,   -999.0,9,   -999.0,9,  -999.00,9
  35MF20110114,  OISO,     9,  1,     24,2,20110126,   0,-48.4998,  64.9998, 2090,     51.9,   5.0417,  33.7170,2,-999.0000,9,   -999.0,9,  -999.00,9,  -999.00,9,  -999.00,9,   -999.0,9,   -999.0,9,  -999.00,9
  35MF20110114,  OISO,     9,  1,     14,2,20110126,   0,-48.4998,  64.9998, 2090,     50.7,   5.0686,  33.7172,2,  33.7210,2,    319.6,2,    -0.78,2,    22.70,2,  -999.00,9,   2118.1,2,   2275.8,2,     1.42,2
  35MF20110114,  OISO,     9,  1,     15,2,20110126,   0,-48.4998,  64.9998, 2090,     41.0,   5.3223,  33.7092,2,-999.0000,9,    326.3,2,    -0.78,2,    22.31,2,  -999.00,9,   2111.7,2,   2273.8,2,  -999.00,9
  35MF20110114,  OISO,     9,  1,     16,2,20110126,   0,-48.4998,  64.9998, 2090,     31.0,   5.6380,  33.6984,2,-999.0000,9,    323.1,2,    -0.78,2,    22.21,2,  -999.00,9,   2114.8,2,   2276.0,2,  -999.00,9
  35MF20110114,  OISO,     9,  1,     17,2,20110126,   0,-48.4998,  64.9998, 2090,     20.6,   6.0756,  33.6838,2,  33.6930,2,    319.4,2,    -0.49,2,    22.41,2,  -999.00,9,   2111.2,2,   2273.0,2,     1.29,3
  35MF20110114,  OISO,     9,  1,     18,2,20110126,   0,-48.4998,  64.9998, 2090,     10.6,   6.1513,  33.6824,2,-999.0000,9,    317.1,2,    -0.49,2,    22.21,2,  -999.00,9,   2108.8,2,   2271.4,2,  -999.00,9
  35MF20110114,  OISO,     9,  1,     21,2,20110126,   0,-48.4998,  64.9998, 2090,      6.9,   6.1565,  33.6826,2,-999.0000,9,   -999.0,9,  -999.00,9,  -999.00,9,  -999.00,9,   -999.0,9,   -999.0,9,  -999.00,9
  35MF20110114,  OISO,     9,  1,     19,2,20110126,   0,-48.4998,  64.9998, 2090,      3.5,   6.1591,  33.6827,2,  33.6910,2,   -999.0,9,    -0.29,2,    22.99,2,     1.34,2,   2114.9,2,   2281.9,2,     1.42,2
  35MF20110114,  OISO,     9,  1,     20,2,20110126,   0,-48.4998,  64.9998, 2090,      3.3,   6.1588,  33.6827,2,-999.0000,9,    318.1,2,  -999.00,9,  -999.00,9,  -999.00,9,   -999.0,9,   -999.0,9,  -999.00,9
  35MF20110114,  OISO,    10,  1,      1,2,20110130,   0,-50.6667,  68.4167, 1661,   1602.1,   1.8886,  34.7582,2,  34.7540,2,    201.6,2,    86.69,2,    30.26,2,     1.79,2,   2242.8,2,   2355.8,2,     0.43,2
  35MF20110114,  OISO,    10,  1,      2,2,20110130,   0,-50.6667,  68.4167, 1661,   1602.2,   1.8887,  34.7583,2,-999.0000,9,    203.5,2,    86.30,2,    30.26,2,  -999.00,9,   2244.3,2,   2356.3,2,  -999.00,9
  35MF20110114,  OISO,    10,  1,      3,2,20110130,   0,-50.6667,  68.4167, 1661,   1404.3,   2.0945,  34.7487,2,-999.0000,9,    199.5,2,    79.10,2,    30.26,2,  -999.00,9,   2239.0,2,   2352.1,2,  -999.00,9
  35MF20110114,  OISO,    10,  1,      4,2,20110130,   0,-50.6667,  68.4167, 1661,   1202.5,   2.1936,  34.7295,2,-999.0000,9,    191.5,2,    77.74,2,    30.84,2,  -999.00,9,   2240.9,2,   2348.3,2,  -999.00,9
  35MF20110114,  OISO,    10,  1,      5,2,20110130,   0,-50.6667,  68.4167, 1661,   1003.8,   2.2633,  34.6897,2,-999.0000,9,    185.1,2,    77.16,2,    31.72,2,     1.19,3,   2239.1,2,   2341.5,2,     0.31,2
  35MF20110114,  OISO,    10,  1,      6,2,20110130,   0,-50.6667,  68.4167, 1661,    800.5,   2.3258,  34.6156,2,-999.0000,9,    178.2,2,    73.47,2,    33.67,2,  -999.00,9,   2251.9,2,   2344.7,2,  -999.00,9
  35MF20110114,  OISO,    10,  1,      7,2,20110130,   0,-50.6667,  68.4167, 1661,    603.1,   2.3290,  34.4993,2,-999.0000,9,    183.6,2,    69.10,2,    34.45,2,  -999.00,9,   2241.6,2,   2326.7,2,  -999.00,9
  35MF20110114,  OISO,    10,  1,      8,2,20110130,   0,-50.6667,  68.4167, 1661,    502.2,   2.3689,  34.3917,2,  34.3890,2,    192.6,2,    60.05,2,    34.94,2,     1.39,2,   2228.1,2,   2313.1,2,     0.48,2
  35MF20110114,  OISO,    10,  1,      9,2,20110130,   0,-50.6667,  68.4167, 1661,    400.1,   2.3680,  34.2796,2,-999.0000,9,    213.4,2,  -999.00,9,  -999.00,9,  -999.00,9,   2217.2,2,   2306.2,2,  -999.00,9
  35MF20110114,  OISO,    10,  1,     10,2,20110130,   0,-50.6667,  68.4167, 1661,    300.5,   2.2426,  34.1415,2,  34.2290,3,    247.4,2,    38.55,2,    32.42,2,     2.02,2,   2191.6,2,   2298.4,2,     1.46,4
  35MF20110114,  OISO,    10,  1,     11,2,20110130,   0,-50.6667,  68.4167, 1661,    253.9,   1.9811,  34.0295,2,-999.0000,9,    280.5,2,    29.50,2,    31.35,2,  -999.00,9,   2179.1,2,   2290.1,2,  -999.00,9
  35MF20110114,  OISO,    10,  1,     12,2,20110130,   0,-50.6667,  68.4167, 1661,    204.8,   1.5628,  33.9052,2,  33.9310,2,    317.4,2,    22.00,2,    29.11,2,     1.47,2,   2164.5,2,   2285.8,2,     1.11,2
  35MF20110114,  OISO,    10,  1,     13,2,20110130,   0,-50.6667,  68.4167, 1661,    177.5,   1.6649,  33.8771,2,-999.0000,9,    324.2,2,    19.76,2,    28.53,2,  -999.00,9,   2153.9,2,   2280.5,2,  -999.00,9
  35MF20110114,  OISO,    10,  1,     14,2,20110130,   0,-50.6667,  68.4167, 1661,    153.2,   1.7778,  33.8635,2,-999.0000,9,    326.4,2,    18.40,2,    27.94,2,  -999.00,9,   2147.8,2,   2282.1,2,     1.16,2
  35MF20110114,  OISO,    10,  1,     15,2,20110130,   0,-50.6667,  68.4167, 1661,    128.7,   2.2302,  33.8355,2,-999.0000,9,    329.8,2,    16.55,2,    26.39,2,  -999.00,9,   2147.9,2,   2285.7,2,  -999.00,9
  35MF20110114,  OISO,    10,  1,     16,2,20110130,   0,-50.6667,  68.4167, 1661,    102.7,   3.0695,  33.8022,2,  33.8050,2,    322.6,2,    10.52,2,    25.12,2,     1.23,2,   2133.5,2,   2276.0,2,     1.30,2
  35MF20110114,  OISO,    10,  1,     17,2,20110130,   0,-50.6667,  68.4167, 1661,     76.8,   3.8171,  33.7794,2,-999.0000,9,    323.8,2,     4.77,2,    25.13,2,  -999.00,9,   2123.2,2,   2277.5,2,  -999.00,9
  35MF20110114,  OISO,    10,  1,     18,2,20110130,   0,-50.6667,  68.4167, 1661,     52.5,   4.6015,  33.7552,2,  33.7570,2,    322.8,2,     4.68,2,    24.06,2,     1.22,2,   2123.5,2,   2275.5,2,     1.58,2
  35MF20110114,  OISO,    10,  1,     19,2,20110130,   0,-50.6667,  68.4167, 1661,     42.2,   4.7197,  33.7477,2,-999.0000,9,   -999.0,9,  -999.00,9,  -999.00,9,  -999.00,9,   -999.0,9,   -999.0,9,  -999.00,9
  35MF20110114,  OISO,    10,  1,     20,2,20110130,   0,-50.6667,  68.4167, 1661,     31.8,   4.7641,  33.7435,2,-999.0000,9,    326.6,2,     4.68,2,    24.15,2,  -999.00,9,   2119.5,2,   2278.3,2,     0.69,4
  35MF20110114,  OISO,    10,  1,     21,2,20110130,   0,-50.6667,  68.4167, 1661,     20.9,   4.8101,  33.7383,2,-999.0000,9,   -999.0,9,  -999.00,9,  -999.00,9,  -999.00,9,   -999.0,9,   -999.0,9,  -999.00,9
  35MF20110114,  OISO,    10,  1,     22,2,20110130,   0,-50.6667,  68.4167, 1661,      8.5,   4.8272,  33.7363,2,-999.0000,9,    324.6,2,     4.87,2,    23.77,2,  -999.00,9,   2120.6,2,   2277.9,2,  -999.00,9
  35MF20110114,  OISO,    10,  1,     23,2,20110130,   0,-50.6667,  68.4167, 1661,      6.0,   4.8260,  33.7364,2,  33.7410,2,    325.3,2,     4.48,2,    23.67,2,     1.37,2,   2117.9,2,   2275.3,2,     1.36,2
  35MF20110114,  OISO,    10,  1,     24,2,20110130,   0,-50.6667,  68.4167, 1661,      3.4,   4.8252,  33.7361,2,-999.0000,9,   -999.0,9,  -999.00,9,  -999.00,9,  -999.00,9,   -999.0,9,   -999.0,9,  -999.00,9
  35MF20110114,  OISO,    11,  1,      1,2,20110128,   0,-56.5005,  63.0010, 4823,   1003.4,   2.1478,  34.7125,2,  34.7160,2,    187.3,2,    79.40,2,    31.62,2,     1.67,2,   2259.5,2,   2354.4,2,     0.18,2
  35MF20110114,  OISO,    11,  1,      2,2,20110128,   0,-56.5005,  63.0010, 4823,   1004.1,   2.1476,  34.7126,2,-999.0000,9,    188.2,2,    79.40,2,    31.62,2,  -999.00,9,   2251.8,2,   2344.3,2,  -999.00,9
  35MF20110114,  OISO,    11,  1,      3,2,20110128,   0,-56.5005,  63.0010, 4823,    801.2,   2.2296,  34.6648,2,-999.0000,9,    181.7,2,    77.84,2,    33.38,2,  -999.00,9,   2264.1,2,   2349.8,2,  -999.00,9
  35MF20110114,  OISO,    11,  1,      4,2,20110128,   0,-56.5005,  63.0010, 4823,    602.8,   2.2688,  34.5800,2,-999.0000,9,    175.5,2,    74.64,2,    34.45,2,  -999.00,9,   2267.9,2,   2345.3,2,  -999.00,9
  35MF20110114,  OISO,    11,  1,      5,2,20110128,   0,-56.5005,  63.0010, 4823,    501.8,   2.3184,  34.5288,2,  34.5340,2,    175.2,2,    73.28,2,    36.20,2,     1.45,2,   2256.8,2,   2332.1,2,     0.20,3
  35MF20110114,  OISO,    11,  1,      6,2,20110128,   0,-56.5005,  63.0010, 4823,    400.7,   2.2658,  34.4543,2,-999.0000,9,    181.5,2,    66.37,2,    35.52,2,  -999.00,9,   2243.4,2,   2316.7,2,  -999.00,9
  35MF20110114,  OISO,    11,  1,      7,2,20110128,   0,-56.5005,  63.0010, 4823,    299.6,   2.1478,  34.3321,2,-999.0000,9,    203.7,2,    56.35,2,    35.04,2,     2.01,2,   2236.8,2,   2314.0,2,     0.44,2
  35MF20110114,  OISO,    11,  1,      8,2,20110128,   0,-56.5005,  63.0010, 4823,    253.5,   1.9691,  34.2515,2,-999.0000,9,    225.4,2,    50.23,2,    34.26,2,  -999.00,9,   2223.7,2,   2303.5,2,  -999.00,9
  35MF20110114,  OISO,    11,  1,      9,2,20110128,   0,-56.5005,  63.0010, 4823,    202.9,   1.2210,  34.0844,2,  34.0880,2,    277.6,2,    40.88,2,    31.44,2,     1.71,2,   2198.5,2,   2293.2,2,     0.71,2
  35MF20110114,  OISO,    11,  1,     10,2,20110128,   0,-56.5005,  63.0010, 4823,    152.9,   0.7318,  33.9514,2,-999.0000,9,    321.8,2,    33.20,2,    29.98,2,  -999.00,9,   2179.1,2,   2286.4,2,  -999.00,9
  35MF20110114,  OISO,    11,  1,     11,2,20110128,   0,-56.5005,  63.0010, 4823,    127.4,   0.8041,  33.9103,2,-999.0000,9,    333.6,2,    31.54,2,    28.82,2,  -999.00,9,   2174.7,2,   2287.4,2,  -999.00,9
  35MF20110114,  OISO,    11,  1,     12,2,20110128,   0,-56.5005,  63.0010, 4823,    101.3,   1.6373,  33.8788,2,-999.0000,9,    336.4,2,    25.80,2,    27.07,2,     1.60,2,   2159.2,2,   2285.2,2,     1.01,2
  35MF20110114,  OISO,    11,  1,     13,2,20110128,   0,-56.5005,  63.0010, 4823,     77.2,   1.8881,  33.8739,2,-999.0000,9,    335.0,2,    23.17,2,    26.68,2,     1.24,3,   2157.1,2,   2283.4,2,     1.25,2
  35MF20110114,  OISO,    11,  1,     14,2,20110128,   0,-56.5005,  63.0010, 4823,     51.4,   2.0034,  33.8706,2,  33.9190,3,    338.0,2,    23.17,2,    26.87,2,     1.57,2,   2155.1,2,   2286.1,2,     1.31,2
  35MF20110114,  OISO,    11,  1,     15,2,20110128,   0,-56.5005,  63.0010, 4823,     41.4,   2.0234,  33.8703,2,-999.0000,9,    340.7,2,    22.59,2,    26.29,2,     1.58,2,   2157.3,2,   2291.7,2,     0.74,4
  35MF20110114,  OISO,    11,  1,     16,2,20110128,   0,-56.5005,  63.0010, 4823,     31.2,   2.1003,  33.8695,2,-999.0000,9,    338.3,2,    21.81,2,    26.39,2,  -999.00,9,   2156.5,2,   2295.1,2,  -999.00,9
  35MF20110114,  OISO,    11,  1,     17,2,20110128,   0,-56.5005,  63.0010, 4823,     20.6,   2.1533,  33.8682,2,  33.8760,2,    337.3,2,    21.23,2,    26.48,2,     1.43,2,   2154.4,2,   2297.7,2,     1.29,2
  35MF20110114,  OISO,    11,  1,     18,2,20110128,   0,-56.5005,  63.0010, 4823,     10.8,   2.2127,  33.8663,2,-999.0000,9,   -999.0,9,  -999.00,9,  -999.00,9,  -999.00,9,   -999.0,9,   -999.0,9,  -999.00,9
  35MF20110114,  OISO,    11,  1,     24,2,20110128,   0,-56.5005,  63.0010, 4823,      5.7,   2.2159,  33.8663,2,-999.0000,9,   -999.0,9,  -999.00,9,  -999.00,9,  -999.00,9,   -999.0,9,   -999.0,9,     1.17,2
  35MF20110114,  OISO,    11,  1,     19,2,20110128,   0,-56.5005,  63.0010, 4823,      3.4,   2.2188,  33.8664,2,  33.8690,2,    337.2,2,    20.93,2,    26.09,2,     1.30,2,   2160.6,2,   2296.3,2,  -999.00,9
  35MF20110114,  OISO,    11,  1,     20,2,20110128,   0,-56.5005,  63.0010, 4823,      4.0,   2.2191,  33.8662,2,-999.0000,9,   -999.0,9,  -999.00,9,  -999.00,9,  -999.00,9,   -999.0,9,   -999.0,9,  -999.00,9
  35MF20110114,  OISO,    11,  1,     21,2,20110128,   0,-56.5005,  63.0010, 4823,      3.5,   2.2189,  33.8662,2,-999.0000,9,   -999.0,9,  -999.00,9,  -999.00,9,  -999.00,9,   -999.0,9,   -999.0,9,  -999.00,9
  35MF20110114,  OISO,    11,  1,     22,2,20110128,   0,-56.5005,  63.0010, 4823,      3.9,   2.2192,  33.8663,2,-999.0000,9,   -999.0,9,  -999.00,9,  -999.00,9,  -999.00,9,   -999.0,9,   -999.0,9,  -999.00,9
  35MF20110114,  OISO,    11,  1,     23,2,20110128,   0,-56.5005,  63.0010, 4823,      3.7,   2.2193,  33.8663,2,-999.0000,9,   -999.0,9,  -999.00,9,  -999.00,9,  -999.00,9,   -999.0,9,   -999.0,9,  -999.00,9
  35MF20110114,  OISO,    11,  2,      1,2,20110128,   0,-56.5005,  63.0010, 4823,   4871.0,  -0.1466,  34.6601,2,  34.6610,2,    240.5,2,   145.74,2,    34.54,2,     1.75,2,   2256.0,2,   2363.2,2,     0.25,2
  35MF20110114,  OISO,    11,  2,      2,2,20110128,   0,-56.5005,  63.0010, 4823,   4873.4,  -0.1459,  34.6598,2,-999.0000,9,    241.4,2,   141.95,2,    33.37,2,  -999.00,9,   2247.2,2,   2355.5,2,  -999.00,9
  35MF20110114,  OISO,    11,  2,      3,2,20110128,   0,-56.5005,  63.0010, 4823,   4787.8,  -0.1179,  34.6613,2,-999.0000,9,    240.0,2,   140.49,2,    33.08,2,  -999.00,9,   2251.8,2,   2356.1,2,  -999.00,9
  35MF20110114,  OISO,    11,  2,      4,2,20110128,   0,-56.5005,  63.0010, 4823,   4684.0,  -0.1051,  34.6621,2,-999.0000,9,    240.0,2,   141.56,2,    34.34,2,  -999.00,9,   2252.2,2,   2357.9,2,  -999.00,9
  35MF20110114,  OISO,    11,  2,      5,2,20110128,   0,-56.5005,  63.0010, 4823,   4581.5,  -0.0793,  34.6634,2,  34.6740,2,    235.5,2,   138.05,2,    33.47,2,     1.77,2,   2254.2,2,   2362.1,2,     0.37,2
  35MF20110114,  OISO,    11,  2,      6,2,20110128,   0,-56.5005,  63.0010, 4823,   4478.4,  -0.0658,  34.6642,2,-999.0000,9,    235.3,2,   137.67,2,    33.27,2,  -999.00,9,   2254.8,2,   2359.8,2,  -999.00,9
  35MF20110114,  OISO,    11,  2,      7,2,20110128,   0,-56.5005,  63.0010, 4823,   4271.9,   0.0184,  34.6678,2,-999.0000,9,    231.7,2,   136.01,2,    33.47,2,  -999.00,9,   2255.5,2,   2359.8,2,  -999.00,9
  35MF20110114,  OISO,    11,  2,      8,2,20110128,   0,-56.5005,  63.0010, 4823,   4070.4,   0.0722,  34.6703,2,  34.6690,2,    230.2,2,   135.53,2,    34.25,2,     1.41,2,   2256.2,2,   2360.1,2,     0.23,2
  35MF20110114,  OISO,    11,  2,      9,2,20110128,   0,-56.5005,  63.0010, 4823,   3557.1,   0.2766,  34.6797,2,-999.0000,9,    221.0,2,   129.59,2,    33.66,2,  -999.00,9,   2264.2,2,   2361.5,2,  -999.00,9
  35MF20110114,  OISO,    11,  2,     10,2,20110128,   0,-56.5005,  63.0010, 4823,   3047.6,   0.5273,  34.6914,2,  34.6900,2,    214.9,2,   124.05,2,    33.66,2,     1.65,2,   2266.3,2,   2364.2,2,     0.17,2
  35MF20110114,  OISO,    11,  2,     11,2,20110128,   0,-56.5005,  63.0010, 4823,   2536.1,   0.8883,  34.7120,2,-999.0000,9,    210.0,2,   113.64,2,    32.79,2,  -999.00,9,   2258.7,2,   2362.0,2,  -999.00,9
  35MF20110114,  OISO,    11,  2,     12,2,20110128,   0,-56.5005,  63.0010, 4823,   2025.2,   1.3170,  34.7378,2,  34.7380,2,    208.0,2,    98.85,2,    31.91,2,     1.55,2,   2250.7,2,   2357.7,2,     0.28,2
  35MF20110114,  OISO,    11,  2,     13,2,20110128,   0,-56.5005,  63.0010, 4823,   1817.9,   1.4918,  34.7459,2,-999.0000,9,    211.9,2,    92.72,2,    30.65,2,  -999.00,9,   2248.3,2,   2358.5,2,  -999.00,9
  35MF20110114,  OISO,    11,  2,     14,2,20110128,   0,-56.5005,  63.0010, 4823,   1617.6,   1.6685,  34.7510,2,-999.0000,9,    204.9,2,    90.78,2,    31.33,2,  -999.00,9,   2250.3,2,   2357.1,2,  -999.00,9
  35MF20110114,  OISO,    11,  2,     15,2,20110128,   0,-56.5005,  63.0010, 4823,   1418.1,   1.8392,  34.7500,2,-999.0000,9,    201.6,2,    84.65,2,    30.55,2,  -999.00,9,   2261.7,2,   2359.6,2,  -999.00,9
  35MF20110114,  OISO,    11,  2,     16,2,20110128,   0,-56.5005,  63.0010, 4823,   1213.8,   1.9553,  34.7361,2,-999.0000,9,   -999.0,9,    83.00,2,    31.23,2,  -999.00,9,   -999.0,9,   -999.0,9,  -999.00,9
  35MF20110114,  OISO,    11,  2,     17,2,20110128,   0,-56.5005,  63.0010, 4823,   1006.4,   2.1370,  34.7163,2,-999.0000,9,    188.0,2,    79.40,2,    31.62,2,  -999.00,9,   2254.7,2,   2352.0,2,  -999.00,9
  35MF20110114,  OISO,    11,  2,     18,2,20110128,   0,-56.5005,  63.0010, 4823,   1005.3,   2.1377,  34.7158,2,  34.7160,2,    188.1,2,    79.11,2,    32.01,2,     1.48,2,   2257.6,2,   2358.0,2,     0.27,2
  35MF20110114,  OISO,    11,  2,     19,2,20110128,   0,-56.5005,  63.0010, 4823,   1005.6,   2.1388,  34.7154,2,-999.0000,9,   -999.0,9,  -999.00,9,  -999.00,9,  -999.00,9,   -999.0,9,   -999.0,9,  -999.00,9