BOTTLE,20130606CCHSIOCBG
EXPOCODE,SECT_ID,STNNBR,CASTNO,BTLNBR,BTLNBR_FLAG_W,DATE,TIME,LATITUDE,LONGITUDE,DEPTH,CTDPRS,CTDTMP,CTDSAL,CTDSAL_FLAG_W,SALNTY,SALNTY_FLAG_W,OXYGEN,OXYGEN_FLAG_W,SILCAT,SILCAT_FLAG_W,NITRAT,NITRAT_FLAG_W,PHSPHT,PHSPHT_FLAG_W,TCARBN,TCARBN_FLAG_W,ALKALI,ALKALI_FLAG_W,DELC13,DELC13_FLAG_W
,,,,,,,,,,METERS,DBAR,ITS-90,PSS-78,,PSS-78,,UMOL/KG,,UMOL/KG,,UMOL/KG,,UMOL/KG,,UMOL/KG,,UMOL/KG,,/MILLE,
  35MF20110114,  OISO,     5,  1,      1,2,20110121,   0,-42.4993,  52.4842, 3680,   1001.6,   2.7909,  34.4425,2,  34.4440,2,    188.7,2,    56.94,2,    34.36,2,     2.11,2,   2224.7,2,   2314.1,2,     0.39,2
  35MF20110114,  OISO,     5,  1,      2,2,20110121,   0,-42.4993,  52.4842, 3680,   1001.4,   2.7910,  34.4424,2,-999.0000,9,    189.0,2,    56.84,2,    34.36,2,  -999.00,9,   2228.2,2,   2319.2,2,  -999.00,9
  35MF20110114,  OISO,     5,  1,      3,2,20110121,   0,-42.4993,  52.4842, 3680,    795.0,   2.9677,  34.3328,2,-999.0000,9,    208.9,2,    44.97,2,    33.58,2,  -999.00,9,   2208.0,2,   2307.2,2,  -999.00,9
  35MF20110114,  OISO,     5,  1,      4,4,20110121,   0,-42.4993,  52.4842, 3680,    716.8,   3.0548,  63.6028,4,-999.0000,9,   -999.0,9,    28.31,4,    31.25,4,  -999.00,9,   2184.9,4,   2288.1,4,  -999.00,9
  35MF20110114,  OISO,     5,  1,      5,4,20110121,   0,-42.4993,  52.4842, 3680,    712.3,   3.0489,  37.6407,4,  34.1960,4,    243.8,4,    21.94,4,    30.19,4,     1.44,4,   2167.2,4,   2281.1,4,     0.88,4
  35MF20110114,  OISO,     5,  1,      6,4,20110121,   0,-42.4993,  52.4842, 3680,    711.3,   3.0484,  35.6231,4,-999.0000,9,    246.8,4,    15.66,4,    28.10,4,  -999.00,9,   2155.7,4,   2278.4,4,  -999.00,9
  35MF20110114,  OISO,     5,  1,      7,4,20110121,   0,-42.4993,  52.4842, 3680,    710.0,   3.0482,  35.5764,4,-999.0000,9,    256.5,4,    11.38,4,    25.87,4,     1.39,4,   2147.7,4,   2275.7,4,     0.98,4
  35MF20110114,  OISO,     5,  1,      8,2,20110121,   0,-42.4993,  52.4842, 3680,    252.9,   6.4295,  34.2639,2,-999.0000,9,   -999.0,9,  -999.00,9,  -999.00,9,  -999.00,9,   -999.0,9,   -999.0,9,  -999.00,9
  35MF20110114,  OISO,     5,  1,      9,2,20110121,   0,-42.4993,  52.4842, 3680,    201.7,   5.7284,  34.0402,2,  34.0450,2,    281.8,2,     6.51,2,    21.63,2,     0.94,2,   2127.6,2,   2270.7,2,     1.12,2
  35MF20110114,  OISO,     5,  1,     10,2,20110121,   0,-42.4993,  52.4842, 3680,    152.1,   5.6318,  33.9039,2,-999.0000,9,    292.7,2,     4.70,2,    20.48,2,  -999.00,9,   2116.8,2,   2265.6,2,  -999.00,9
  35MF20110114,  OISO,     5,  1,     11,2,20110121,   0,-42.4993,  52.4842, 3680,    120.6,   5.9852,  33.8981,2,-999.0000,9,    292.0,2,     4.35,2,    20.00,2,  -999.00,9,   2111.1,2,   2264.3,2,  -999.00,9
  35MF20110114,  OISO,     5,  1,     12,2,20110121,   0,-42.4993,  52.4842, 3680,    100.9,   6.3355,  33.8747,2,-999.0000,9,    292.2,2,     3.54,2,    19.62,2,     1.15,2,   2107.8,2,   2265.0,2,     1.23,2
  35MF20110114,  OISO,     5,  1,     13,2,20110121,   0,-42.4993,  52.4842, 3680,     76.8,   7.3194,  33.8552,2,-999.0000,9,    301.8,2,     2.12,2,    16.15,2,     1.19,2,   2093.0,2,   2264.4,2,     1.42,2
  35MF20110114,  OISO,     5,  1,     14,2,20110121,   0,-42.4993,  52.4842, 3680,     51.9,   8.4773,  33.8470,2,  33.8470,2,    307.7,2,     0.62,2,    14.74,2,     0.76,2,   2073.6,2,   2265.6,2,     1.69,2
  35MF20110114,  OISO,     5,  1,     15,2,20110121,   0,-42.4993,  52.4842, 3680,     38.9,   9.4286,  33.7791,2,-999.0000,9,    309.6,2,     0.60,2,    13.80,2,  -999.00,9,   2070.4,2,   2266.3,2,  -999.00,9
  35MF20110114,  OISO,     5,  1,     16,2,20110121,   0,-42.4993,  52.4842, 3680,     29.7,  10.5612,  33.7498,2,-999.0000,9,   -999.0,9,  -999.00,9,  -999.00,9,  -999.00,9,   -999.0,9,   -999.0,9,  -999.00,9
  35MF20110114,  OISO,     5,  1,     17,2,20110121,   0,-42.4993,  52.4842, 3680,     20.8,  10.6836,  33.7491,2,  33.7540,2,    296.1,2,     0.69,2,    13.80,2,     0.70,2,   2066.2,2,   2261.2,2,     1.72,2
  35MF20110114,  OISO,     5,  1,     18,2,20110121,   0,-42.4993,  52.4842, 3680,     10.6,  12.1938,  33.8112,2,-999.0000,9,    285.2,2,     0.62,2,    12.54,2,  -999.00,9,   2063.3,2,   2266.0,2,  -999.00,9
  35MF20110114,  OISO,     5,  1,     19,2,20110121,   0,-42.4993,  52.4842, 3680,      4.0,  12.3149,  33.8204,2,-999.0000,9,   -999.0,9,  -999.00,9,  -999.00,9,  -999.00,9,   -999.0,9,   -999.0,9,  -999.00,9
  35MF20110114,  OISO,     5,  1,     20,2,20110121,   0,-42.4993,  52.4842, 3680,      5.6,  12.3272,  33.8210,2,  33.8260,2,    284.1,2,     0.42,2,    11.97,2,     0.65,2,   2053.4,2,   2264.3,2,     1.71,2
  35MF20110114,  OISO,     5,  1,     21,2,20110121,   0,-42.4993,  52.4842, 3680,      5.6,  12.3191,  33.8212,2,-999.0000,9,   -999.0,9,  -999.00,9,  -999.00,9,  -999.00,9,   -999.0,9,   -999.0,9,  -999.00,9
  35MF20110114,  OISO,     5,  1,     22,2,20110121,   0,-42.4993,  52.4842, 3680,      6.0,  12.3038,  33.8204,2,-999.0000,9,   -999.0,9,  -999.00,9,  -999.00,9,  -999.00,9,   -999.0,9,   -999.0,9,  -999.00,9
  35MF20110114,  OISO,     6,  1,      1,2,20110121,   0,-44.9998,  52.1005, 3260,    998.7,   2.5356,  34.5731,2,  34.5720,2,    180.7,2,    68.32,2,    34.64,2,  -999.00,9,   2236.3,2,   2331.0,2,     0.23,2
  35MF20110114,  OISO,     6,  1,      2,2,20110121,   0,-44.9998,  52.1005, 3260,    999.2,   2.5355,  34.5732,2,-999.0000,9,   -999.0,9,    68.41,2,    34.06,2,  -999.00,9,   2235.6,2,   2329.8,2,  -999.00,9
  35MF20110114,  OISO,     6,  1,      3,2,20110121,   0,-44.9998,  52.1005, 3260,    800.2,   2.6365,  34.4595,2,-999.0000,9,    187.8,2,    59.85,2,    34.55,2,  -999.00,9,   2233.3,2,   2324.3,2,  -999.00,9
  35MF20110114,  OISO,     6,  1,      4,2,20110121,   0,-44.9998,  52.1005, 3260,    599.2,   2.8154,  34.3016,2,-999.0000,9,    211.5,2,    43.51,2,    33.48,2,  -999.00,9,   2208.9,2,   2304.4,2,  -999.00,9
  35MF20110114,  OISO,     6,  1,      5,2,20110121,   0,-44.9998,  52.1005, 3260,    499.3,   2.8955,  34.2217,2,  34.2230,2,    230.3,2,    34.46,2,    32.03,2,  -999.00,9,   2195.2,2,   2296.1,2,     0.80,2
  35MF20110114,  OISO,     6,  1,      6,2,20110121,   0,-44.9998,  52.1005, 3260,    399.7,   3.1992,  34.1611,2,-999.0000,9,    244.5,2,    26.67,2,    30.67,2,  -999.00,9,   2177.0,2,   2287.1,2,  -999.00,9
  35MF20110114,  OISO,     6,  1,      7,2,20110121,   0,-44.9998,  52.1005, 3260,    299.7,   3.4567,  34.0378,2,-999.0000,9,    269.0,2,    20.64,2,    28.53,2,  -999.00,9,   2161.6,2,   2282.0,2,     1.11,2
  35MF20110114,  OISO,     6,  1,      8,2,20110121,   0,-44.9998,  52.1005, 3260,    251.1,   3.5654,  33.9404,2,-999.0000,9,    286.7,2,    16.46,2,    26.97,2,  -999.00,9,   2153.8,2,   2277.7,2,  -999.00,9
  35MF20110114,  OISO,     6,  1,      9,2,20110121,   0,-44.9998,  52.1005, 3260,    200.3,   3.7109,  33.8805,2,  33.8860,2,    296.5,2,    14.12,2,    27.07,2,  -999.00,9,   2150.0,2,   2281.9,2,     1.16,2
  35MF20110114,  OISO,     6,  1,     10,2,20110121,   0,-44.9998,  52.1005, 3260,    148.4,   3.9142,  33.8490,2,-999.0000,9,    298.7,2,    12.85,2,    26.49,2,  -999.00,9,   2136.6,2,   2274.5,2,  -999.00,9
  35MF20110114,  OISO,     6,  1,     11,2,20110121,   0,-44.9998,  52.1005, 3260,    123.7,   4.1322,  33.8210,2,-999.0000,9,    302.5,2,    11.20,2,    26.00,2,  -999.00,9,   2132.1,2,   2276.6,2,  -999.00,9
  35MF20110114,  OISO,     6,  1,     12,2,20110121,   0,-44.9998,  52.1005, 3260,    102.1,   4.3252,  33.8071,2,-999.0000,9,    302.2,2,    10.32,2,    25.42,2,  -999.00,9,   2130.5,2,   2273.3,2,     1.37,2
  35MF20110114,  OISO,     6,  1,     13,2,20110121,   0,-44.9998,  52.1005, 3260,     75.7,   5.6675,  33.7577,2,-999.0000,9,    301.8,2,     7.01,2,    22.70,2,  -999.00,9,   2115.5,2,   2273.2,2,  -999.00,9
  35MF20110114,  OISO,     6,  1,     14,2,20110121,   0,-44.9998,  52.1005, 3260,     50.1,   8.3274,  33.6958,2,  33.7010,2,    306.6,2,     2.63,2,    18.03,2,  -999.00,9,   2081.1,2,   2266.8,2,     1.83,2
  35MF20110114,  OISO,     6,  1,     15,2,20110121,   0,-44.9998,  52.1005, 3260,     39.7,   8.4396,  33.6967,2,-999.0000,9,    309.9,2,     2.14,2,    17.54,2,  -999.00,9,   2077.6,2,   2267.4,2,     1.90,2
  35MF20110114,  OISO,     6,  1,     16,2,20110121,   0,-44.9998,  52.1005, 3260,     32.0,   8.8548,  33.6927,2,-999.0000,9,    307.8,2,     1.95,2,    17.35,2,  -999.00,9,   2078.9,2,   2266.8,2,  -999.00,9
  35MF20110114,  OISO,     6,  1,     17,2,20110121,   0,-44.9998,  52.1005, 3260,     20.7,   9.7804,  33.6741,2,  33.6790,2,    294.1,2,     1.75,2,    17.06,2,  -999.00,9,   2088.4,2,   2269.0,2,     1.84,2
  35MF20110114,  OISO,     6,  1,     18,2,20110121,   0,-44.9998,  52.1005, 3260,     11.5,   9.7834,  33.6742,2,-999.0000,9,    294.4,2,     1.85,2,    16.86,2,  -999.00,9,   2094.9,2,   2275.7,2,  -999.00,9
  35MF20110114,  OISO,     6,  1,     19,2,20110121,   0,-44.9998,  52.1005, 3260,      4.3,   9.7846,  33.6742,2,  33.6790,2,    294.0,2,     2.05,2,    16.96,2,  -999.00,9,   2108.7,2,   2283.1,2,     1.73,2
  35MF20110114,  OISO,     7,  1,      1,2,20110123,   0,-47.6665,  58.0000, 4260,   1005.0,   2.4516,  34.6080,2,  34.6070,2,    176.3,2,    70.94,2,    33.57,2,     1.91,2,   2258.3,2,   2344.5,2,     0.37,2
  35MF20110114,  OISO,     7,  1,      2,2,20110123,   0,-47.6665,  58.0000, 4260,   1003.5,   2.4516,  34.6079,2,-999.0000,9,    177.0,2,    70.84,2,    33.77,2,     2.10,2,   2260.1,2,   2343.1,2,     0.34,2
  35MF20110114,  OISO,     7,  1,      3,2,20110123,   0,-47.6665,  58.0000, 4260,    801.4,   2.5127,  34.5058,2,-999.0000,9,    178.7,2,    64.91,2,    34.65,2,  -999.00,9,   2258.8,2,   2336.2,2,  -999.00,9
  35MF20110114,  OISO,     7,  1,      4,2,20110123,   0,-47.6665,  58.0000, 4260,    586.6,   2.5839,  34.3544,2,-999.0000,9,    196.4,2,    52.36,2,    34.55,2,  -999.00,9,   2239.0,2,   2327.7,2,  -999.00,9
  35MF20110114,  OISO,     7,  1,      5,2,20110123,   0,-47.6665,  58.0000, 4260,    497.2,   2.5923,  34.2782,2,  34.2760,2,    210.2,2,    44.39,2,    33.78,2,     1.87,2,   -999.0,9,   -999.0,9,  -999.00,9
  35MF20110114,  OISO,     7,  1,      6,2,20110123,   0,-47.6665,  58.0000, 4260,    400.7,   2.7203,  34.1721,2,-999.0000,9,    238.2,2,    32.90,2,    32.22,2,  -999.00,9,   2192.2,2,   2292.5,2,  -999.00,9
  35MF20110114,  OISO,     7,  1,      7,2,20110123,   0,-47.6665,  58.0000, 4260,    300.1,   2.7432,  34.0512,2,-999.0000,9,    270.7,2,    23.66,2,    29.60,2,     1.54,2,   2184.9,2,   2288.6,2,     0.83,2
  35MF20110114,  OISO,     7,  1,      8,2,20110123,   0,-47.6665,  58.0000, 4260,    197.2,   2.4868,  33.8214,2,-999.0000,9,   -999.0,9,  -999.00,9,  -999.00,9,  -999.00,9,   -999.0,9,   -999.0,9,  -999.00,9
  35MF20110114,  OISO,     7,  1,      9,2,20110123,   0,-47.6665,  58.0000, 4260,    193.7,   2.5169,  33.8131,2,  33.8220,2,    316.7,2,    13.83,2,    26.78,2,     1.53,2,   2159.6,2,   2287.5,2,     1.15,2
  35MF20110114,  OISO,     7,  1,     10,2,20110123,   0,-47.6665,  58.0000, 4260,    147.1,   3.0568,  33.7851,2,-999.0000,9,    313.0,2,    11.49,2,    26.20,2,  -999.00,9,   2149.6,2,   2282.3,2,  -999.00,9
  35MF20110114,  OISO,     7,  1,     11,2,20110123,   0,-47.6665,  58.0000, 4260,    123.2,   3.2683,  33.7576,2,-999.0000,9,    314.2,2,     9.15,2,    25.42,2,  -999.00,9,   -999.0,9,   -999.0,9,  -999.00,9
  35MF20110114,  OISO,     7,  1,     12,2,20110123,   0,-47.6665,  58.0000, 4260,     99.2,   3.9145,  33.7216,2,-999.0000,9,    314.9,2,     7.01,2,    25.03,2,     1.24,2,   2161.5,3,   2284.1,3,     1.26,2
  35MF20110114,  OISO,     7,  1,     13,2,20110123,   0,-47.6665,  58.0000, 4260,     73.2,   5.9614,  33.6602,2,-999.0000,9,    313.4,2,     0.78,2,    20.85,2,     1.14,3,   2122.1,2,   2273.6,2,     1.66,2
  35MF20110114,  OISO,     7,  1,     14,2,20110123,   0,-47.6665,  58.0000, 4260,     48.6,   6.3786,  33.6530,2,  33.6560,2,    309.9,2,     0.68,2,    20.17,2,     1.23,2,   2116.8,2,   2273.9,2,     1.60,2
  35MF20110114,  OISO,     7,  1,     15,2,20110123,   0,-47.6665,  58.0000, 4260,     39.4,   6.7270,  33.6491,2,-999.0000,9,    310.9,2,     0.68,2,    20.07,2,  -999.00,9,   2116.7,2,   2271.8,2,     1.76,2
  35MF20110114,  OISO,     7,  1,     16,2,20110123,   0,-47.6665,  58.0000, 4260,     31.5,   7.3125,  33.6470,2,-999.0000,9,    304.8,2,     0.58,2,    20.27,2,  -999.00,9,   2112.5,2,   2271.1,2,  -999.00,9
  35MF20110114,  OISO,     7,  1,     17,2,20110123,   0,-47.6665,  58.0000, 4260,     22.6,   7.4927,  33.6190,2,  33.6380,2,    304.4,2,     0.78,2,    19.39,2,     0.97,2,   2123.3,2,   2277.5,2,     1.54,2
  35MF20110114,  OISO,     7,  1,     18,2,20110123,   0,-47.6665,  58.0000, 4260,     12.6,   7.5435,  33.5888,2,-999.0000,9,    303.1,2,     0.58,2,    20.07,2,  -999.00,9,   2121.9,2,   2273.1,2,  -999.00,9
  35MF20110114,  OISO,     7,  1,     19,2,20110123,   0,-47.6665,  58.0000, 4260,      3.8,   7.5523,  33.5860,2,  33.5870,2,   -999.0,9,     0.68,2,    20.56,2,     1.15,2,   2119.5,2,   2275.9,2,     1.68,2
  35MF20110114,  OISO,     7,  1,     20,2,20110123,   0,-47.6665,  58.0000, 4260,      1.6,   7.5521,  33.5843,2,-999.0000,9,    303.1,2,  -999.00,9,  -999.00,9,  -999.00,9,   -999.0,9,   -999.0,9,  -999.00,9
  35MF20110114,  OISO,     8,  1,      1,2,20110123,   0,-48.0002,  59.9998, 4460,   1003.0,   2.4676,  34.6133,2,  34.6120,2,    177.2,2,    71.33,2,    33.57,2,  -999.00,9,   2259.3,2,   2346.2,2,     0.35,2
  35MF20110114,  OISO,     8,  1,      2,2,20110123,   0,-48.0002,  59.9998, 4460,   1003.4,   2.4674,  34.6133,2,-999.0000,9,    178.7,2,    70.94,2,    33.48,2,  -999.00,9,   2271.3,3,   2353.0,3,  -999.00,9
  35MF20110114,  OISO,     8,  1,      3,2,20110123,   0,-48.0002,  59.9998, 4460,    801.2,   2.5532,  34.5103,2,-999.0000,9,    180.6,2,    65.20,2,    35.04,2,  -999.00,9,   2257.0,2,   2336.8,2,  -999.00,9
  35MF20110114,  OISO,     8,  1,      4,2,20110123,   0,-48.0002,  59.9998, 4460,    599.2,   2.6077,  34.3712,2,-999.0000,9,    193.6,2,    53.73,2,    34.55,2,  -999.00,9,   2240.9,2,   2322.7,2,  -999.00,9
  35MF20110114,  OISO,     8,  1,      5,2,20110123,   0,-48.0002,  59.9998, 4460,    496.1,   2.6594,  34.2911,2,  34.2910,2,    210.9,2,    44.68,2,    33.48,2,  -999.00,9,   2227.4,2,   2314.7,2,     0.44,2
  35MF20110114,  OISO,     8,  1,      6,2,20110123,   0,-48.0002,  59.9998, 4460,    395.2,   2.7655,  34.1905,2,-999.0000,9,    234.9,2,    33.58,2,    32.03,2,  -999.00,9,   2202.1,2,   2295.4,2,  -999.00,9
  35MF20110114,  OISO,     8,  1,      7,2,20110123,   0,-48.0002,  59.9998, 4460,    300.1,   3.0788,  34.1158,2,-999.0000,9,    255.4,2,    24.73,2,    30.18,2,  -999.00,9,   2192.5,2,   2296.6,2,     0.85,2
  35MF20110114,  OISO,     8,  1,      8,2,20110123,   0,-48.0002,  59.9998, 4460,    248.0,   2.6730,  33.9588,2,-999.0000,9,    290.9,2,    19.67,2,    28.53,2,  -999.00,9,   2177.5,2,   2294.8,2,  -999.00,9
  35MF20110114,  OISO,     8,  1,      9,2,20110123,   0,-48.0002,  59.9998, 4460,    198.6,   3.2254,  33.8601,2,  33.8600,2,    300.3,2,    12.46,2,    26.39,2,  -999.00,9,   2153.5,2,   2279.1,2,     1.21,2
  35MF20110114,  OISO,     8,  1,     10,2,20110123,   0,-48.0002,  59.9998, 4460,    146.9,   3.3668,  33.7551,2,-999.0000,9,    314.0,2,     8.67,2,    25.32,2,  -999.00,9,   2144.9,2,   2280.1,2,  -999.00,9
  35MF20110114,  OISO,     8,  1,     11,2,20110123,   0,-48.0002,  59.9998, 4460,    123.0,   3.6839,  33.7335,2,-999.0000,9,    315.0,2,     7.30,2,    25.52,2,  -999.00,9,   2150.1,2,   2286.0,2,  -999.00,9
  35MF20110114,  OISO,     8,  1,     12,2,20110123,   0,-48.0002,  59.9998, 4460,    102.7,   4.2981,  33.7005,2,-999.0000,9,    314.5,2,     4.09,2,    22.79,2,  -999.00,9,   2138.6,2,   2280.2,2,     1.43,2
  35MF20110114,  OISO,     8,  1,     13,2,20110123,   0,-48.0002,  59.9998, 4460,     77.0,   5.6811,  33.6716,2,-999.0000,9,    312.6,2,     0.39,2,    20.65,2,  -999.00,9,   2123.7,2,   2280.9,2,     1.54,2
  35MF20110114,  OISO,     8,  1,     14,2,20110123,   0,-48.0002,  59.9998, 4460,     52.4,   6.1242,  33.6716,2,  33.6740,2,    310.9,2,    -0.29,2,    20.17,2,  -999.00,9,   2112.8,2,   2277.5,2,     1.58,2
  35MF20110114,  OISO,     8,  1,     15,2,20110123,   0,-48.0002,  59.9998, 4460,     41.8,   6.6591,  33.6590,2,-999.0000,9,    312.0,2,    -0.39,2,    20.07,2,  -999.00,9,   2112.7,2,   2280.6,2,     1.66,2
  35MF20110114,  OISO,     8,  1,     16,2,20110123,   0,-48.0002,  59.9998, 4460,     31.8,   6.8756,  33.6499,2,-999.0000,9,    308.0,2,    -0.39,2,    20.07,2,  -999.00,9,   2116.1,2,   2281.3,2,  -999.00,9
  35MF20110114,  OISO,     8,  1,     17,2,20110123,   0,-48.0002,  59.9998, 4460,     21.3,   7.1335,  33.6106,2,  33.6400,2,    305.6,2,    -0.49,2,    20.36,2,  -999.00,9,   2108.1,2,   2275.0,2,     1.55,2
  35MF20110114,  OISO,     8,  1,     18,2,20110123,   0,-48.0002,  59.9998, 4460,     11.2,   7.1138,  33.6070,2,-999.0000,9,    305.5,2,    -0.39,2,    19.88,2,  -999.00,9,   2112.7,2,   2280.7,2,  -999.00,9
  35MF20110114,  OISO,     8,  1,     19,2,20110123,   0,-48.0002,  59.9998, 4460,      5.1,   7.1203,  33.6076,2,  33.6130,2,    306.7,2,    -0.49,2,    20.56,2,  -999.00,9,   2113.0,2,   2278.1,2,     1.50,2
  35MF20110114,  OISO,     8,  1,     20,2,20110123,   0,-48.0002,  59.9998, 4460,      4.5,   7.1217,  33.6079,2,-999.0000,9,   -999.0,9,  -999.00,9,  -999.00,9,  -999.00,9,   -999.0,9,   -999.0,9,  -999.00,9
  35MF20110114,  OISO,     8,  1,     21,2,20110123,   0,-48.0002,  59.9998, 4460,      2.5,   7.1230,  33.6081,2,-999.0000,9,   -999.0,9,  -999.00,9,  -999.00,9,  -999.00,9,   -999.0,9,   -999.0,9,  -999.00,9
  35MF20110114,  OISO,     8,  1,     22,2,20110123,   0,-48.0002,  59.9998, 4460,      2.2,   7.1237,  33.6077,2,-999.0000,9,   -999.0,9,  -999.00,9,  -999.00,9,  -999.00,9,   -999.0,9,   -999.0,9,  -999.00,9
  35MF20110114,  OISO,     8,  1,     23,2,20110123,   0,-48.0002,  59.9998, 4460,      2.9,   7.1239,  33.6081,2,-999.0000,9,   -999.0,9,  -999.00,9,  -999.00,9,  -999.00,9,   -999.0,9,   -999.0,9,  -999.00,9
  35MF20110114,  OISO,     8,  1,     24,2,20110123,   0,-48.0002,  59.9998, 4460,      1.1,   7.1238,  33.5843,2,-999.0000,9,   -999.0,9,  -999.00,9,  -999.00,9,  -999.00,9,   -999.0,9,   -999.0,9,  -999.00,9