BOTTLE,20130606CCHSIOCBG
EXPOCODE,SECT_ID,STNNBR,CASTNO,BTLNBR,BTLNBR_FLAG_W,DATE,TIME,LATITUDE,LONGITUDE,DEPTH,CTDPRS,CTDTMP,CTDSAL,CTDSAL_FLAG_W,SALNTY,SALNTY_FLAG_W,OXYGEN,OXYGEN_FLAG_W,SILCAT,SILCAT_FLAG_W,NITRAT,NITRAT_FLAG_W,PHSPHT,PHSPHT_FLAG_W,TCARBN,TCARBN_FLAG_W,ALKALI,ALKALI_FLAG_W,DELC13,DELC13_FLAG_W
,,,,,,,,,,METERS,DBAR,ITS-90,PSS-78,,PSS-78,,UMOL/KG,,UMOL/KG,,UMOL/KG,,UMOL/KG,,UMOL/KG,,UMOL/KG,,/MILLE,
  35MF20110114,  OISO,    12,  1,      1,2,20110131,   0,-46.9988,  72.0173, 1831,   1003.2,   2.3529,  34.6671,2,  34.6690,2,    184.5,2,    73.76,2,    32.99,2,  -999.00,9,   2251.1,2,   2344.2,2,     0.36,2
  35MF20110114,  OISO,    12,  1,      2,2,20110131,   0,-46.9988,  72.0173, 1831,   1002.2,   2.3526,  34.6671,2,-999.0000,9,    182.7,2,    74.44,2,    32.60,2,  -999.00,9,   2260.5,2,   2349.6,2,  -999.00,9
  35MF20110114,  OISO,    12,  1,      3,2,20110131,   0,-46.9988,  72.0173, 1831,    800.6,   2.3912,  34.5875,2,-999.0000,9,    181.1,2,    72.30,2,    34.16,2,  -999.00,9,   2258.3,2,   2339.7,2,  -999.00,9
  35MF20110114,  OISO,    12,  1,      4,2,20110131,   0,-46.9988,  72.0173, 1831,    601.9,   2.3791,  34.4103,2,-999.0000,9,    194.2,2,    61.90,2,    35.43,2,  -999.00,9,   2255.8,2,   2330.9,2,  -999.00,9
  35MF20110114,  OISO,    12,  1,      5,2,20110131,   0,-46.9988,  72.0173, 1831,    501.2,   2.3947,  34.3030,2,-999.0000,9,    208.6,2,    51.68,2,    34.36,2,  -999.00,9,   2225.0,2,   2310.9,2,     0.48,2
  35MF20110114,  OISO,    12,  1,      6,2,20110131,   0,-46.9988,  72.0173, 1831,    400.0,   2.4248,  34.1978,2,-999.0000,9,    231.1,2,    40.79,2,    33.39,2,  -999.00,9,   2209.9,2,   2300.0,2,  -999.00,9
  35MF20110114,  OISO,    12,  1,      7,2,20110131,   0,-46.9988,  72.0173, 1831,    298.9,   2.3360,  34.0279,2,  34.0300,2,    274.3,2,    29.50,2,    31.06,2,  -999.00,9,   2183.0,2,   2287.6,2,     0.88,2
  35MF20110114,  OISO,    12,  1,      8,2,20110131,   0,-46.9988,  72.0173, 1831,    254.2,   2.4535,  33.9476,2,-999.0000,9,    281.4,2,    26.58,2,    29.79,2,  -999.00,9,   2176.7,2,   2286.5,2,  -999.00,9
  35MF20110114,  OISO,    12,  1,      9,2,20110131,   0,-46.9988,  72.0173, 1831,    202.2,   2.6685,  33.8583,2,  33.8520,2,    295.7,2,    19.38,2,    27.95,2,  -999.00,9,   2168.8,2,   2282.6,2,     1.00,2
  35MF20110114,  OISO,    12,  1,     10,2,20110131,   0,-46.9988,  72.0173, 1831,    151.6,   3.1063,  33.7954,2,-999.0000,9,    289.8,2,    17.14,2,    26.58,2,  -999.00,9,   2161.5,2,   2279.6,2,  -999.00,9
  35MF20110114,  OISO,    12,  1,     11,2,20110131,   0,-46.9988,  72.0173, 1831,    126.8,   3.7484,  33.7504,2,-999.0000,9,   -999.0,9,  -999.00,9,  -999.00,9,  -999.00,9,   -999.0,9,   -999.0,9,  -999.00,9
  35MF20110114,  OISO,    12,  1,     12,2,20110131,   0,-46.9988,  72.0173, 1831,    100.5,   4.3447,  33.7253,2,-999.0000,9,    299.7,2,     8.57,2,    21.91,2,  -999.00,9,   2132.0,2,   2279.2,2,     1.37,2
  35MF20110114,  OISO,    12,  1,     13,2,20110131,   0,-46.9988,  72.0173, 1831,     75.8,   5.2123,  33.6905,2,-999.0000,9,    311.5,2,     3.51,2,    18.99,2,  -999.00,9,   2112.0,2,   2284.1,2,  -999.00,9
  35MF20110114,  OISO,    12,  1,     14,2,20110131,   0,-46.9988,  72.0173, 1831,     50.9,   5.7922,  33.6806,2,  33.6820,2,    319.4,2,     0.49,2,    16.27,2,  -999.00,9,   2094.4,2,   2285.6,2,     1.75,2
  35MF20110114,  OISO,    12,  1,     15,2,20110131,   0,-46.9988,  72.0173, 1831,     41.5,   6.1057,  33.6524,2,-999.0000,9,    320.6,2,     0.39,2,    15.98,2,  -999.00,9,   2089.5,2,   2281.6,2,  -999.00,9
  35MF20110114,  OISO,    12,  1,     16,2,20110131,   0,-46.9988,  72.0173, 1831,     31.3,   6.4071,  33.6377,2,-999.0000,9,    322.7,2,     0.10,2,    15.59,2,  -999.00,9,   2087.0,2,   2283.3,2,  -999.00,9
  35MF20110114,  OISO,    12,  1,     17,2,20110131,   0,-46.9988,  72.0173, 1831,     20.8,   7.0383,  33.5867,2,  33.6020,2,    317.5,2,     1.46,2,    16.86,2,  -999.00,9,   2089.5,2,   2280.3,2,     1.68,2
  35MF20110114,  OISO,    12,  1,     18,2,20110131,   0,-46.9988,  72.0173, 1831,     11.0,   7.1576,  33.5648,2,-999.0000,9,    314.1,2,     1.66,2,    17.34,2,  -999.00,9,   2081.0,2,   2268.2,2,  -999.00,9
  35MF20110114,  OISO,    12,  1,     24,2,20110131,   0,-46.9988,  72.0173, 1831,      6.5,   7.3625,  33.5548,2,-999.0000,9,   -999.0,9,  -999.00,9,  -999.00,9,  -999.00,9,   -999.0,9,   -999.0,9,  -999.00,9
  35MF20110114,  OISO,    12,  1,     19,2,20110131,   0,-46.9988,  72.0173, 1831,      3.9,   7.4247,  33.5519,2,  33.5580,2,    312.0,0,     2.24,2,    18.22,2,     1.07,2,   2088.4,2,   2270.7,2,     1.68,2
  35MF20110114,  OISO,    12,  1,     20,2,20110131,   0,-46.9988,  72.0173, 1831,      3.3,   7.4125,  33.5529,2,-999.0000,9,   -999.0,9,  -999.00,9,  -999.00,9,  -999.00,9,   -999.0,9,   -999.0,9,  -999.00,9
  35MF20110114,  OISO,    12,  1,     21,2,20110131,   0,-46.9988,  72.0173, 1831,      4.5,   7.4857,  33.5511,2,-999.0000,9,   -999.0,9,  -999.00,9,  -999.00,9,  -999.00,9,   -999.0,9,   -999.0,9,  -999.00,9
  35MF20110114,  OISO,    12,  1,     22,2,20110131,   0,-46.9988,  72.0173, 1831,      3.4,   7.3940,  33.5541,2,-999.0000,9,   -999.0,9,  -999.00,9,  -999.00,9,  -999.00,9,   -999.0,9,   -999.0,9,  -999.00,9
  35MF20110114,  OISO,    12,  1,     23,2,20110131,   0,-46.9988,  72.0173, 1831,      2.4,   7.3504,  33.5562,2,-999.0000,9,   -999.0,9,  -999.00,9,  -999.00,9,  -999.00,9,   -999.0,9,   -999.0,9,  -999.00,9
  35MF20110114,  OISO,    13,  1,      1,2,20110131,   0,-45.0002,  73.3165, 3977,   1002.3,   3.7806,  34.3923,2,  34.3940,2,    195.7,2,    43.32,2,    33.10,2,  -999.00,9,   2224.7,2,   2318.6,2,     0.54,2
  35MF20110114,  OISO,    13,  1,      2,2,20110131,   0,-45.0002,  73.3165, 3977,   1002.7,   3.7818,  34.3921,2,-999.0000,9,    195.5,2,    43.51,2,    32.61,2,  -999.00,9,   2208.6,4,   2317.6,2,  -999.00,9
  35MF20110114,  OISO,    13,  1,      3,2,20110131,   0,-45.0002,  73.3165, 3977,    800.0,   4.2319,  34.3007,2,-999.0000,9,    221.1,2,    28.62,2,    30.37,2,  -999.00,9,   2194.6,2,   2307.9,2,  -999.00,9
  35MF20110114,  OISO,    13,  1,      4,2,20110131,   0,-45.0002,  73.3165, 3977,    602.2,   5.5361,  34.3069,2,-999.0000,9,    230.4,2,    16.94,2,    27.75,2,  -999.00,9,   2175.0,2,   2292.4,2,  -999.00,9
  35MF20110114,  OISO,    13,  1,      5,2,20110131,   0,-45.0002,  73.3165, 3977,    499.5,   7.4536,  34.4898,2,  34.4960,2,    217.4,2,    12.76,2,    24.05,2,  -999.00,9,   2164.6,2,   2297.7,2,     0.77,2
  35MF20110114,  OISO,    13,  1,      6,2,20110131,   0,-45.0002,  73.3165, 3977,    397.9,   9.0985,  34.6714,2,-999.0000,9,    217.6,2,     4.19,3,    12.56,3,  -999.00,9,   2119.5,3,   2316.9,3,  -999.00,9
  35MF20110114,  OISO,    13,  1,      7,2,20110131,   0,-45.0002,  73.3165, 3977,    296.0,  10.1026,  34.7478,2,-999.0000,9,    230.2,2,     5.94,2,    16.07,2,  -999.00,9,   2126.6,2,   2303.0,2,     0.75,2
  35MF20110114,  OISO,    13,  1,      8,2,20110131,   0,-45.0002,  73.3165, 3977,    251.6,  10.5609,  34.7915,2,-999.0000,9,    236.0,2,     5.06,2,    14.80,2,  -999.00,9,   2127.5,2,   2309.2,2,  -999.00,9
  35MF20110114,  OISO,    13,  1,      9,2,20110131,   0,-45.0002,  73.3165, 3977,    201.7,  10.9036,  34.8144,2,  34.8190,2,    244.1,2,     4.29,2,    12.57,2,  -999.00,9,   2127.7,2,   2314.6,2,     0.89,2
  35MF20110114,  OISO,    13,  1,     10,2,20110131,   0,-45.0002,  73.3165, 3977,    152.6,  11.4305,  34.8984,2,-999.0000,9,    244.4,2,     4.09,2,    11.40,2,  -999.00,9,   2118.8,2,   2315.7,2,  -999.00,9
  35MF20110114,  OISO,    13,  1,     11,2,20110131,   0,-45.0002,  73.3165, 3977,    126.6,  11.6211,  34.9249,2,-999.0000,9,    244.0,2,     3.90,2,    11.40,2,  -999.00,9,   2115.8,2,   2315.8,2,  -999.00,9
  35MF20110114,  OISO,    13,  1,     12,2,20110131,   0,-45.0002,  73.3165, 3977,    101.6,  11.8954,  34.9632,2,-999.0000,9,    241.0,2,     3.51,2,    10.33,2,  -999.00,9,   2116.8,2,   2322.0,2,     0.75,2
  35MF20110114,  OISO,    13,  1,     13,2,20110131,   0,-45.0002,  73.3165, 3977,     76.2,  12.1427,  34.9721,2,-999.0000,9,    242.5,2,     3.21,2,     9.55,2,  -999.00,9,   2116.2,2,   2322.5,2,  -999.00,9
  35MF20110114,  OISO,    13,  1,     14,2,20110131,   0,-45.0002,  73.3165, 3977,     51.3,  11.9676,  34.7025,2,  34.7030,2,    253.4,2,     1.66,2,     8.48,2,  -999.00,9,   2094.9,2,   2310.5,2,     1.03,2
  35MF20110114,  OISO,    13,  1,     15,2,20110131,   0,-45.0002,  73.3165, 3977,     41.3,  10.8638,  34.1553,2,-999.0000,9,    281.3,2,     0.29,2,     9.84,2,  -999.00,9,   2072.9,2,   2283.7,2,  -999.00,9
  35MF20110114,  OISO,    13,  1,     16,2,20110131,   0,-45.0002,  73.3165, 3977,     31.0,  10.5960,  33.9843,2,-999.0000,9,    287.4,2,     0.00,2,    10.62,2,  -999.00,9,   2078.6,2,   2285.0,2,  -999.00,9
  35MF20110114,  OISO,    13,  1,     17,2,20110131,   0,-45.0002,  73.3165, 3977,     21.1,  11.0906,  33.9213,2,  33.9730,2,    287.0,2,     0.00,2,    11.01,2,  -999.00,9,   2066.5,2,   2281.1,2,     1.64,2
  35MF20110114,  OISO,    13,  1,     18,2,20110131,   0,-45.0002,  73.3165, 3977,     10.7,  13.0404,  34.0651,2,-999.0000,9,    275.0,2,     0.19,2,     8.97,2,  -999.00,9,   2063.7,2,   2281.8,2,  -999.00,9
  35MF20110114,  OISO,    13,  1,     19,2,20110131,   0,-45.0002,  73.3165, 3977,      3.9,  13.4250,  34.0644,2,-999.0000,9,   -999.0,9,  -999.00,9,  -999.00,9,  -999.00,9,   -999.0,9,   -999.0,9,  -999.00,9
  35MF20110114,  OISO,    13,  1,     20,2,20110131,   0,-45.0002,  73.3165, 3977,      4.5,  13.4244,  34.0644,2,  34.0730,2,    277.4,2,     0.00,2,     8.87,2,     0.42,2,   2063.7,2,   2287.0,2,     1.73,2
  35MF20110114,  OISO,    13,  1,     21,2,20110131,   0,-45.0002,  73.3165, 3977,      3.9,  13.4242,  34.0648,2,-999.0000,9,   -999.0,9,  -999.00,9,  -999.00,9,  -999.00,9,   -999.0,9,   -999.0,9,  -999.00,9
  35MF20110114,  OISO,    13,  1,     22,2,20110131,   0,-45.0002,  73.3165, 3977,      2.2,  13.4241,  34.0651,2,-999.0000,9,   -999.0,9,  -999.00,9,  -999.00,9,  -999.00,9,   -999.0,9,   -999.0,9,  -999.00,9
  35MF20110114,  OISO,    13,  1,     23,2,20110131,   0,-45.0002,  73.3165, 3977,      1.5,  13.4239,  34.0651,2,-999.0000,9,   -999.0,9,  -999.00,9,  -999.00,9,  -999.00,9,   -999.0,9,   -999.0,9,  -999.00,9
  35MF20110114,  OISO,    13,  1,     24,2,20110131,   0,-45.0002,  73.3165, 3977,      0.4,  13.4238,  34.0653,2,-999.0000,9,   -999.0,9,  -999.00,9,  -999.00,9,  -999.00,9,   -999.0,9,   -999.0,9,  -999.00,9
  35MF20110114,  OISO,    21,  1,      1,2,20110218,   0,-25.9998,  57.4998, 5150,   5111.1,   0.8969,  34.7022,2,  34.6970,2,    213.3,2,   123.66,2,    32.69,2,     1.96,2,   2269.3,2,   2371.8,2,     0.38,2
  35MF20110114,  OISO,    21,  1,      2,2,20110218,   0,-25.9998,  57.4998, 5150,   5108.5,   0.8952,  34.7040,2,-999.0000,9,    213.9,2,   125.99,2,    32.88,2,  -999.00,9,   2270.2,2,   2373.4,2,  -999.00,9
  35MF20110114,  OISO,    21,  1,      3,2,20110218,   0,-25.9998,  57.4998, 5150,   4520.0,   0.9795,  34.7085,2,-999.0000,9,    208.0,2,   122.49,2,    32.79,2,  -999.00,9,   2276.4,2,   2377.2,2,  -999.00,9
  35MF20110114,  OISO,    21,  1,      4,2,20110218,   0,-25.9998,  57.4998, 5150,   4007.9,   1.2616,  34.7187,2,  34.7220,2,    196.3,2,   124.05,2,    33.96,2,     1.81,2,   2288.7,2,   2385.8,2,     0.22,2
  35MF20110114,  OISO,    21,  1,      5,2,20110218,   0,-25.9998,  57.4998, 5150,   3502.9,   1.4800,  34.7251,2,-999.0000,9,    183.6,2,   122.01,2,    33.76,2,  -999.00,9,   2296.3,2,   2397.0,2,     0.20,2
  35MF20110114,  OISO,    21,  1,      6,2,20110218,   0,-25.9998,  57.4998, 5150,   3000.8,   1.7496,  34.7324,2,  34.7330,2,    171.0,2,   116.66,2,    34.25,2,     1.79,2,   2300.6,2,   2399.8,2,     0.18,2
  35MF20110114,  OISO,    21,  1,      7,2,20110218,   0,-25.9998,  57.4998, 5150,   2499.2,   2.0247,  34.7333,2,-999.0000,9,    171.6,2,   111.11,2,    34.05,2,  -999.00,9,   2294.1,2,   2393.1,2,  -999.00,9
  35MF20110114,  OISO,    21,  1,      8,2,20110218,   0,-25.9998,  57.4998, 5150,   2000.1,   2.3999,  34.7108,2,  34.7100,2,    176.8,2,    93.31,2,    33.08,2,     1.52,2,   2275.0,2,   2369.7,2,     0.28,2
  35MF20110114,  OISO,    21,  1,      9,2,20110218,   0,-25.9998,  57.4998, 5150,   1501.7,   3.1184,  34.6033,2,-999.0000,9,    166.0,2,    76.39,2,    34.35,2,     1.59,2,   2264.6,2,   2352.7,2,     0.27,2
  35MF20110114,  OISO,    21,  1,     10,2,20110218,   0,-25.9998,  57.4998, 5150,    999.3,   5.2897,  34.4324,2,  34.4370,2,    188.3,2,    32.52,2,    30.57,2,  -999.00,9,   2207.8,2,   2314.4,2,  -999.00,9
  35MF20110114,  OISO,    21,  1,     11,2,20110218,   0,-25.9998,  57.4998, 5150,    798.0,   8.2544,  34.5992,2,  35.3440,4,    207.1,4,     1.55,4,     0.57,4,  -999.00,9,   2005.1,4,   2323.9,4,     0.71,4
  35MF20110114,  OISO,    21,  1,     12,2,20110218,   0,-25.9998,  57.4998, 5150,    600.9,  10.6983,  34.8896,2,-999.0000,9,    226.0,2,     4.72,2,    13.73,2,  -999.00,9,   2131.3,2,   2309.8,2,  -999.00,9
  35MF20110114,  OISO,    21,  1,     13,2,20110218,   0,-25.9998,  57.4998, 5150,    505.6,  11.6418,  35.0259,2,  35.0280,2,    228.9,2,     4.16,2,    11.15,2,     0.71,2,   2123.6,2,   2314.3,2,     0.86,2
  35MF20110114,  OISO,    21,  1,     14,2,20110218,   0,-25.9998,  57.4998, 5150,    403.8,  12.6001,  35.1725,2,-999.0000,9,    230.7,2,     3.41,2,     9.64,2,  -999.00,9,   2119.1,2,   2320.8,2,  -999.00,9
  35MF20110114,  OISO,    21,  1,     15,2,20110218,   0,-25.9998,  57.4998, 5150,    301.1,  13.3266,  35.2844,2,-999.0000,9,    233.7,2,     2.92,2,     8.09,2,  -999.00,9,   2112.9,2,   2325.1,2,  -999.00,9
  35MF20110114,  OISO,    21,  1,     16,2,20110218,   0,-25.9998,  57.4998, 5150,    207.4,  14.4941,  35.3986,2,-999.0000,9,    221.9,2,     2.53,2,     6.14,2,  -999.00,9,   2108.1,2,   2332.1,2,  -999.00,9
  35MF20110114,  OISO,    21,  1,     17,2,20110218,   0,-25.9998,  57.4998, 5150,    156.8,  15.3943,  35.4819,2,  35.4890,2,    224.7,2,     1.95,2,     4.09,2,     0.30,2,   2093.4,2,   2330.2,2,     0.64,2
  35MF20110114,  OISO,    21,  1,     18,2,20110218,   0,-25.9998,  57.4998, 5150,    126.3,  16.1585,  35.5320,2,-999.0000,9,    226.1,2,     1.66,2,     2.53,2,     0.24,2,   2088.6,2,   2335.9,2,     0.74,2
  35MF20110114,  OISO,    21,  1,     19,2,20110218,   0,-25.9998,  57.4998, 5150,    100.8,  17.0514,  35.5711,2,-999.0000,9,    227.6,2,     1.17,2,     0.39,2,     0.14,2,   2080.4,2,   2338.1,2,     0.84,2
  35MF20110114,  OISO,    21,  1,     20,2,20110218,   0,-25.9998,  57.4998, 5150,     76.2,  18.2508,  35.6006,2,-999.0000,9,    239.2,2,     1.85,2,     0.19,2,  -999.00,9,   2068.5,2,   2341.1,2,  -999.00,9
  35MF20110114,  OISO,    21,  1,     21,2,20110218,   0,-25.9998,  57.4998, 5150,     50.9,  19.9332,  35.5839,2,  35.5860,2,    236.5,2,     1.66,2,     0.00,2,  -999.00,9,   2046.8,2,   2334.9,2,  -999.00,9
  35MF20110114,  OISO,    21,  1,     22,2,20110218,   0,-25.9998,  57.4998, 5150,     30.6,  24.3535,  35.4219,2,-999.0000,9,    224.8,2,     1.37,2,     0.10,2,  -999.00,9,   2024.0,2,   2331.4,2,  -999.00,9
  35MF20110114,  OISO,    21,  1,     23,2,20110218,   0,-25.9998,  57.4998, 5150,     10.7,  25.8544,  35.3467,2,-999.0000,9,    213.4,2,     1.07,2,     0.00,2,  -999.00,9,   2002.8,2,   2318.8,2,  -999.00,9