BOTTLE,20130606CCHSIOCBG
# station 5, cast 1, bottles 4-7, all parameters flagged 4
#BOTTLE,20130604PRINUNIVRMK
# 6/4/2013 Initialized README file  
# Data source: C.Lo Monaco 5/24/13 
# SHIP: Marion Dufresne 
# Cruise: OISO-19 
# Region: SW Indian Ocean 
# EXPOCODE: 35MF20110114 
# DATES: 1/14 - 2/20/2011 
# Chief Scientist: N.Metzl & C. Lo Monaco 
# 14 stations with 24 place Rosette 
# Hydro: Who - Metzl & Lo Monaco; Status - final 
# 	Notes: 	 
# Nuts: Who - Metzl & Lo Monaco; Status - final 
# 	Notes: 
# O2: Who - Metzl & Lo Monaco; Status - final 
# 	Notes: no CTDOXY values in file 
# TCO2: Who -Metzl & Lo Monaco; Status - final 
# 	Notes:  
# TA: Who - Metzl & Lo Monaco; Status - final 
# 	Notes:  
# C13: Who - C. Pierre; Status - final 
# 	Notes: accuracy estimated at 0.01 o/oo 
# References: 
EXPOCODE,SECT_ID,STNNBR,CASTNO,BTLNBR,BTLNBR_FLAG_W,DATE,TIME,LATITUDE,LONGITUDE,DEPTH,CTDPRS,CTDTMP,CTDSAL,CTDSAL_FLAG_W,SALNTY,SALNTY_FLAG_W,OXYGEN,OXYGEN_FLAG_W,SILCAT,SILCAT_FLAG_W,NITRAT,NITRAT_FLAG_W,PHSPHT,PHSPHT_FLAG_W,TCARBN,TCARBN_FLAG_W,ALKALI,ALKALI_FLAG_W,DELC13,DELC13_FLAG_W
,,,,,,,,,,METERS,DBAR,ITS-90,PSS-78,,PSS-78,,UMOL/KG,,UMOL/KG,,UMOL/KG,,UMOL/KG,,UMOL/KG,,UMOL/KG,,/MILLE,
  35MF20110114,  OISO,     1,  1,      1,2,20110116,   0,-27.9997,  54.3333, 5080,   1001.3,   6.0233,  34.4473,2,  34.4550,2,    202.1,2,    24.34,2,    28.43,2,     1.76,2,   2182.7,2,   2295.3,2,     0.64,4
  35MF20110114,  OISO,     1,  1,      2,2,20110116,   0,-27.9997,  54.3333, 5080,   1000.7,   6.0390,  34.4474,2,-999.0000,9,    203.3,2,    24.24,2,    28.43,2,  -999.00,9,   2184.8,2,   2292.1,2,  -999.00,9
  35MF20110114,  OISO,     1,  1,      3,2,20110116,   0,-27.9997,  54.3333, 5080,    803.3,   8.8919,  34.6605,2,-999.0000,9,    224.2,2,     8.68,2,    18.74,2,  -999.00,9,   2144.5,2,   2292.0,2,  -999.00,9
  35MF20110114,  OISO,     1,  1,      4,2,20110116,   0,-27.9997,  54.3333, 5080,    601.1,  11.1044,  34.9461,2,-999.0000,9,    230.0,2,     4.63,2,    13.24,2,  -999.00,9,   2120.7,2,   2299.2,2,  -999.00,9
  35MF20110114,  OISO,     1,  1,      5,2,20110116,   0,-27.9997,  54.3333, 5080,    500.5,  11.9578,  35.0698,2,  35.0790,2,    227.8,2,     4.69,2,    10.82,2,     0.59,2,   2123.4,2,   2310.6,2,     0.76,2
  35MF20110114,  OISO,     1,  1,      6,2,20110116,   0,-27.9997,  54.3333, 5080,    400.8,  12.8494,  35.2090,2,-999.0000,9,    227.3,2,     2.82,2,     5.36,2,  -999.00,9,   2104.3,2,   2326.0,2,  -999.00,9
  35MF20110114,  OISO,     1,  1,      7,2,20110116,   0,-27.9997,  54.3333, 5080,    303.5,  13.8272,  35.3315,2,-999.0000,9,    219.6,4,     3.31,2,     7.79,2,     0.51,2,   2107.5,2,   2314.9,2,     0.67,2
  35MF20110114,  OISO,     1,  1,      8,2,20110116,   0,-27.9997,  54.3333, 5080,    253.4,  14.6490,  35.4103,2,-999.0000,9,    217.5,2,     2.73,2,     6.33,2,  -999.00,9,   2105.6,2,   2325.6,2,  -999.00,9
  35MF20110114,  OISO,     1,  1,      9,2,20110116,   0,-27.9997,  54.3333, 5080,    202.7,  15.5260,  35.4898,2,  35.4950,2,    210.7,2,     2.83,2,     5.75,2,     0.41,2,   2100.1,2,   2329.3,2,     0.70,2
  35MF20110114,  OISO,     1,  1,     10,2,20110116,   0,-27.9997,  54.3333, 5080,    152.2,  16.7491,  35.5572,2,-999.0000,9,    207.2,2,     2.73,2,     4.09,2,  -999.00,9,   2091.6,2,   2331.8,2,  -999.00,9
  35MF20110114,  OISO,     1,  1,     11,2,20110116,   0,-27.9997,  54.3333, 5080,    126.4,  17.3628,  35.5783,2,-999.0000,9,    208.3,2,     2.73,2,     3.02,2,  -999.00,9,   2087.0,2,   2334.3,2,  -999.00,9
  35MF20110114,  OISO,     1,  1,     12,2,20110116,   0,-27.9997,  54.3333, 5080,    101.8,  18.2315,  35.5912,2,-999.0000,9,    202.6,2,     2.14,2,     2.83,2,     0.26,2,   2080.8,2,   2335.9,2,     0.64,2
  35MF20110114,  OISO,     1,  1,     13,2,20110116,   0,-27.9997,  54.3333, 5080,     76.9,  19.4143,  35.5823,2,-999.0000,9,    224.6,2,     1.46,2,     0.20,2,     0.15,2,   2050.4,2,   2333.8,2,     0.66,2
  35MF20110114,  OISO,     1,  1,     14,2,20110116,   0,-27.9997,  54.3333, 5080,     51.1,  21.6604,  35.5092,2,  35.5130,2,    233.0,2,     1.07,2,     0.10,2,     0.14,2,   2024.6,2,   2329.7,2,     0.78,2
  35MF20110114,  OISO,     1,  1,     15,2,20110116,   0,-27.9997,  54.3333, 5080,     41.6,  23.9523,  35.4001,2,-999.0000,9,    223.8,2,     0.88,2,     0.10,2,  -999.00,9,   2008.2,2,   2321.4,2,  -999.00,9
  35MF20110114,  OISO,     1,  1,     16,2,20110116,   0,-27.9997,  54.3333, 5080,     31.5,  25.7694,  35.2751,2,-999.0000,9,    211.6,2,     1.07,2,     0.10,2,  -999.00,9,   1991.5,2,   2312.5,2,  -999.00,9
  35MF20110114,  OISO,     1,  1,     17,2,20110116,   0,-27.9997,  54.3333, 5080,     21.4,  25.9363,  35.2808,2,  35.2900,2,    211.7,2,     0.98,2,     0.20,2,     0.15,2,   1990.2,2,   2315.4,2,     0.84,2
  35MF20110114,  OISO,     1,  1,     20,2,20110116,   0,-27.9997,  54.3333, 5080,     21.5,  25.9408,  35.2808,2,-999.0000,9,   -999.0,9,  -999.00,9,  -999.00,9,  -999.00,9,   -999.0,9,   -999.0,9,  -999.00,9
  35MF20110114,  OISO,     1,  1,     21,2,20110116,   0,-27.9997,  54.3333, 5080,     11.3,  26.1179,  35.2895,2,-999.0000,9,   -999.0,9,  -999.00,9,  -999.00,9,  -999.00,9,   -999.0,9,   -999.0,9,  -999.00,9
  35MF20110114,  OISO,     1,  1,     18,2,20110116,   0,-27.9997,  54.3333, 5080,     11.2,  26.1286,  35.2896,2,-999.0000,9,    211.4,2,     0.78,2,     0.20,2,  -999.00,9,   1993.4,2,   2319.2,2,  -999.00,9
  35MF20110114,  OISO,     1,  1,     19,2,20110116,   0,-27.9997,  54.3333, 5080,      4.6,  26.2878,  35.2926,2,  35.3050,2,    207.5,2,     0.78,2,     0.20,2,     0.27,2,   1991.5,2,   2317.0,2,     0.89,2
  35MF20110114,  OISO,     1,  1,     22,2,20110116,   0,-27.9997,  54.3333, 5080,      3.9,  26.3511,  35.2941,2,-999.0000,9,   -999.0,9,  -999.00,9,  -999.00,9,  -999.00,9,   -999.0,9,   -999.0,9,  -999.00,9
  35MF20110114,  OISO,     1,  1,     23,2,20110116,   0,-27.9997,  54.3333, 5080,      4.3,  26.3530,  35.2941,2,-999.0000,9,   -999.0,9,  -999.00,9,  -999.00,9,  -999.00,9,   -999.0,9,   -999.0,9,  -999.00,9
  35MF20110114,  OISO,     1,  1,     24,2,20110116,   0,-27.9997,  54.3333, 5080,      4.5,  26.3531,  35.2945,2,-999.0000,9,   -999.0,9,  -999.00,9,  -999.00,9,  -999.00,9,   -999.0,9,   -999.0,9,  -999.00,9
  35MF20110114,  OISO,     2,  1,      1,2,20110116,   0,-30.0005,  54.1003, 4460,   1001.3,   6.1466,  34.4494,2,-999.0000,9,    215.8,4,     9.64,4,    13.14,4,  -999.00,9,   2122.3,4,   2321.6,4,     0.77,4
  35MF20110114,  OISO,     2,  1,      2,2,20110116,   0,-30.0005,  54.1003, 4460,   1001.3,   6.1486,  34.4497,2,  34.4620,3,    202.2,3,    22.98,3,    29.79,3,  -999.00,9,   2187.7,3,   2305.0,3,     0.81,3
  35MF20110114,  OISO,     2,  1,      3,2,20110116,   0,-30.0005,  54.1003, 4460,    803.4,   9.1295,  34.6933,2,-999.0000,9,    220.7,3,     8.37,3,    18.31,3,  -999.00,9,   2143.8,3,   2304.5,3,  -999.00,9
  35MF20110114,  OISO,     2,  1,      4,2,20110116,   0,-30.0005,  54.1003, 4460,    600.5,  11.3310,  34.9764,2,-999.0000,9,    224.9,3,     3.11,3,     6.44,3,  -999.00,9,   2088.9,3,   2327.2,3,  -999.00,9
  35MF20110114,  OISO,     2,  1,      5,2,20110116,   0,-30.0005,  54.1003, 4460,    499.3,  12.1555,  35.1018,2,-999.0000,9,    226.5,3,     3.08,3,     6.76,3,  -999.00,9,   2103.3,3,   2324.7,3,     0.79,3
  35MF20110114,  OISO,     2,  1,      6,2,20110116,   0,-30.0005,  54.1003, 4460,    398.9,  12.9744,  35.2289,2,-999.0000,9,    226.6,3,     2.73,3,     6.43,3,  -999.00,9,   2108.8,3,   2330.1,3,  -999.00,9
  35MF20110114,  OISO,     2,  1,      7,2,20110116,   0,-30.0005,  54.1003, 4460,    298.7,  13.7216,  35.3231,2,-999.0000,9,    223.9,3,     2.44,3,     5.46,3,  -999.00,9,   2099.3,3,   2328.2,3,     0.76,3
  35MF20110114,  OISO,     2,  1,      8,2,20110116,   0,-30.0005,  54.1003, 4460,    253.4,  14.3119,  35.3797,2,-999.0000,9,    222.2,3,     2.83,3,     6.43,3,  -999.00,9,   2105.5,3,   2329.1,3,  -999.00,9
  35MF20110114,  OISO,     2,  1,      9,2,20110116,   0,-30.0005,  54.1003, 4460,    202.9,  15.0368,  35.4469,2,  35.4780,3,    217.9,4,     1.95,3,     2.44,3,  -999.00,9,   2080.9,3,   2335.1,3,     0.73,3
  35MF20110114,  OISO,     2,  1,     10,2,20110116,   0,-30.0005,  54.1003, 4460,    152.0,  15.9541,  35.5141,2,-999.0000,9,    215.7,3,     1.75,3,     3.41,3,  -999.00,9,   2095.3,3,   2340.3,3,  -999.00,9
  35MF20110114,  OISO,     2,  1,     11,2,20110116,   0,-30.0005,  54.1003, 4460,    126.3,  16.6094,  35.5549,2,-999.0000,9,    218.5,3,     2.92,3,     2.44,3,  -999.00,9,   2083.6,3,   2339.4,3,  -999.00,9
  35MF20110114,  OISO,     2,  1,     12,2,20110116,   0,-30.0005,  54.1003, 4460,    102.3,  17.1189,  35.5757,2,-999.0000,9,    211.6,3,     1.75,3,     2.24,3,  -999.00,9,   2089.5,3,   2343.8,3,     0.64,3
  35MF20110114,  OISO,     2,  1,     13,2,20110116,   0,-30.0005,  54.1003, 4460,     76.4,  17.9500,  35.5908,2,-999.0000,9,    222.1,3,     1.46,3,     0.97,3,  -999.00,9,   2071.6,3,   2341.5,3,     0.75,3
  35MF20110114,  OISO,     2,  1,     14,2,20110116,   0,-30.0005,  54.1003, 4460,     51.8,  18.9442,  35.5955,2,  35.5880,3,    235.8,3,     0.98,3,     0.20,3,  -999.00,9,   2047.4,3,   2340.5,3,     0.85,3
  35MF20110114,  OISO,     2,  1,     15,2,20110116,   0,-30.0005,  54.1003, 4460,     41.5,  19.4857,  35.5862,2,-999.0000,9,    237.5,3,     0.98,3,     0.10,3,  -999.00,9,   2043.5,3,   2342.7,3,  -999.00,9
  35MF20110114,  OISO,     2,  1,     16,2,20110116,   0,-30.0005,  54.1003, 4460,     30.9,  20.7295,  35.5488,2,-999.0000,9,    243.7,3,     0.98,3,     0.10,3,  -999.00,9,   2038.3,3,   2342.6,3,  -999.00,9
  35MF20110114,  OISO,     2,  1,     17,2,20110116,   0,-30.0005,  54.1003, 4460,     20.6,  24.9176,  35.4044,2,-999.0000,9,    216.8,3,     0.78,3,     0.10,3,  -999.00,9,   2013.9,3,   2328.6,3,     2.10,4
  35MF20110114,  OISO,     2,  1,     18,2,20110116,   0,-30.0005,  54.1003, 4460,     11.0,  25.2413,  35.4206,2,-999.0000,9,    214.6,3,     0.78,3,     0.10,3,  -999.00,9,   2023.4,3,   2336.6,3,  -999.00,9
  35MF20110114,  OISO,     2,  1,     19,2,20110116,   0,-30.0005,  54.1003, 4460,      4.0,  25.7151,  35.4342,2,  35.5830,3,    210.6,3,     0.78,3,     0.10,3,  -999.00,9,   2018.9,3,   2333.6,3,     0.80,3
  35MF20110114,  OISO,     2,  1,     20,2,20110116,   0,-30.0005,  54.1003, 4460,      4.5,  25.6854,  35.4332,2,-999.0000,9,   -999.0,9,  -999.00,9,  -999.00,9,  -999.00,9,   -999.0,9,   -999.0,9,  -999.00,9
  35MF20110114,  OISO,     3,  1,      1,2,20110118,   0,-35.0000,  53.4997, 4060,   1000.7,   7.3439,  34.5276,2,  34.5370,2,    208.3,2,    16.16,2,    25.02,2,     1.42,2,   2168.2,2,   2305.6,2,     0.91,2
  35MF20110114,  OISO,     3,  1,      2,2,20110118,   0,-35.0000,  53.4997, 4060,    998.6,   7.3471,  34.5278,2,-999.0000,9,    209.9,2,    16.36,2,    24.93,2,  -999.00,9,   2171.3,2,   2304.1,2,     0.96,2
  35MF20110114,  OISO,     3,  1,      3,2,20110118,   0,-35.0000,  53.4997, 4060,    800.5,   9.7681,  34.7683,2,-999.0000,9,    220.8,2,     7.96,2,    17.71,2,  -999.00,9,   2150.6,2,   2312.1,2,  -999.00,9
  35MF20110114,  OISO,     3,  1,      4,2,20110118,   0,-35.0000,  53.4997, 4060,    597.3,  11.5538,  35.0059,2,-999.0000,9,    226.6,2,     4.84,2,    12.75,2,  -999.00,9,   2132.2,2,   2319.6,2,  -999.00,9
  35MF20110114,  OISO,     3,  1,      5,2,20110118,   0,-35.0000,  53.4997, 4060,    498.4,  12.4362,  35.1458,2,  35.1430,2,    230.5,2,     4.18,2,    10.36,2,     0.53,2,   2118.0,2,   2324.7,2,     0.74,2
  35MF20110114,  OISO,     3,  1,      6,2,20110118,   0,-35.0000,  53.4997, 4060,    398.5,  13.2219,  35.2720,2,-999.0000,9,    230.7,2,     3.51,2,     8.47,2,  -999.00,9,   2119.7,2,   2332.5,2,  -999.00,9
  35MF20110114,  OISO,     3,  1,      7,2,20110118,   0,-35.0000,  53.4997, 4060,    299.7,  13.7042,  35.3294,2,-999.0000,9,    229.4,2,     3.31,2,     7.60,2,     0.51,2,   2104.1,2,   2329.4,2,     0.70,2
  35MF20110114,  OISO,     3,  1,      8,2,20110118,   0,-35.0000,  53.4997, 4060,    251.6,  14.1193,  35.3718,2,-999.0000,9,    231.0,2,     3.12,2,     6.72,2,  -999.00,9,   2104.1,2,   2332.7,2,  -999.00,9
  35MF20110114,  OISO,     3,  1,      9,2,20110118,   0,-35.0000,  53.4997, 4060,    201.7,  14.5752,  35.4202,2,  35.4330,2,    230.1,2,     3.12,2,     5.85,2,     0.41,2,   2092.4,2,   2327.7,2,     0.26,4
  35MF20110114,  OISO,     3,  1,     10,2,20110118,   0,-35.0000,  53.4997, 4060,    151.4,  15.1463,  35.4690,2,-999.0000,9,    230.1,2,     2.53,2,     4.77,2,  -999.00,9,   2093.5,2,   2336.2,2,  -999.00,9
  35MF20110114,  OISO,     3,  1,     11,2,20110118,   0,-35.0000,  53.4997, 4060,    126.3,  15.5117,  35.4886,2,-999.0000,9,    237.3,2,     2.14,2,     3.22,2,  -999.00,9,   2086.0,2,   2341.2,2,  -999.00,9
  35MF20110114,  OISO,     3,  1,     12,2,20110118,   0,-35.0000,  53.4997, 4060,    101.1,  16.1166,  35.4989,2,-999.0000,9,    243.4,2,     2.05,2,     1.66,2,     0.21,2,   2069.4,2,   2337.0,2,     0.80,2
  35MF20110114,  OISO,     3,  1,     13,2,20110118,   0,-35.0000,  53.4997, 4060,     76.4,  17.4775,  35.4966,2,-999.0000,9,    248.4,2,     1.36,2,     0.10,2,     0.14,2,   2058.5,2,   2338.6,2,     0.96,2
  35MF20110114,  OISO,     3,  1,     14,2,20110118,   0,-35.0000,  53.4997, 4060,     50.0,  18.4389,  35.4750,2,  35.4860,2,    243.0,2,     0.78,2,     0.10,2,     0.12,2,   2014.3,4,   2325.3,4,     0.92,2
  35MF20110114,  OISO,     3,  1,     15,2,20110118,   0,-35.0000,  53.4997, 4060,     41.2,  18.6452,  35.4585,2,-999.0000,9,    242.2,2,     0.59,2,     0.10,2,  -999.00,9,   2090.4,4,   2347.6,4,  -999.00,9
  35MF20110114,  OISO,     3,  1,     16,2,20110118,   0,-35.0000,  53.4997, 4060,     30.8,  18.9923,  35.4334,2,-999.0000,9,    238.8,2,     0.68,2,     0.10,2,  -999.00,9,   2045.5,2,   2327.9,2,  -999.00,9
  35MF20110114,  OISO,     3,  1,     17,2,20110118,   0,-35.0000,  53.4997, 4060,     20.3,  19.5947,  35.4105,2,  35.4380,2,    235.0,2,     0.59,2,     0.10,2,     0.27,2,   2048.7,2,   2330.0,2,     0.78,2
  35MF20110114,  OISO,     3,  1,     18,2,20110118,   0,-35.0000,  53.4997, 4060,     10.1,  19.8404,  35.3935,2,-999.0000,9,    233.1,2,     0.59,2,     0.10,2,  -999.00,9,   2045.7,2,   2327.1,2,  -999.00,9
  35MF20110114,  OISO,     3,  1,     19,2,20110118,   0,-35.0000,  53.4997, 4060,      3.7,  19.9234,  35.3903,2,  35.3970,2,    232.8,2,     0.59,2,     0.10,2,     0.27,2,   2046.0,2,   2326.8,2,     0.89,2
  35MF20110114,  OISO,     4,  1,      1,2,20110119,   0,-39.9998,  52.8335, 3900,   1001.8,   7.2186,  34.5039,2,  34.5220,2,    207.2,2,    16.16,2,    25.41,2,  -999.00,9,   2164.7,2,   2298.0,2,     0.70,4
  35MF20110114,  OISO,     4,  1,      2,2,20110119,   0,-39.9998,  52.8335, 3900,   1001.7,   7.2134,  34.5034,2,-999.0000,9,    209.9,2,    16.16,2,    25.51,2,  -999.00,9,   2161.7,2,   2296.8,2,  -999.00,9
  35MF20110114,  OISO,     4,  1,      3,2,20110119,   0,-39.9998,  52.8335, 3900,    805.0,   9.7851,  34.7590,2,-999.0000,9,    220.4,2,     7.72,2,    17.77,2,  -999.00,9,   2136.2,2,   2303.7,2,  -999.00,9
  35MF20110114,  OISO,     4,  1,      4,2,20110119,   0,-39.9998,  52.8335, 3900,    593.8,  12.1682,  35.0986,2,-999.0000,9,    231.7,2,     4.47,2,    11.31,2,  -999.00,9,   2111.3,2,   2313.5,2,  -999.00,9
  35MF20110114,  OISO,     4,  1,      5,2,20110119,   0,-39.9998,  52.8335, 3900,    486.9,  12.8084,  35.1826,2,  35.2010,2,    231.7,2,     4.24,2,    10.18,2,  -999.00,9,   2111.1,2,   2322.4,2,     0.78,2
  35MF20110114,  OISO,     4,  1,      6,2,20110119,   0,-39.9998,  52.8335, 3900,    399.3,  13.6321,  35.3397,2,-999.0000,9,    241.1,2,     3.51,2,     6.72,2,  -999.00,9,   2096.2,2,   2328.1,2,  -999.00,9
  35MF20110114,  OISO,     4,  1,      7,2,20110119,   0,-39.9998,  52.8335, 3900,    294.8,  14.0934,  35.3833,2,-999.0000,9,    236.7,2,     3.70,2,     6.23,2,  -999.00,9,   2092.3,2,   2330.0,2,     0.46,2
  35MF20110114,  OISO,     4,  1,      8,2,20110119,   0,-39.9998,  52.8335, 3900,    247.4,  14.4423,  35.4042,2,-999.0000,9,    234.7,2,     3.80,2,     6.04,2,  -999.00,9,   2090.0,2,   2330.9,2,  -999.00,9
  35MF20110114,  OISO,     4,  1,      9,2,20110119,   0,-39.9998,  52.8335, 3900,    201.6,  14.9628,  35.4961,2,  35.5090,2,    239.5,2,     3.60,2,     4.58,2,  -999.00,9,   2080.0,2,   2331.9,2,     0.53,2
  35MF20110114,  OISO,     4,  1,     10,2,20110119,   0,-39.9998,  52.8335, 3900,    143.5,  15.0804,  35.4707,2,-999.0000,9,    233.4,2,     3.02,2,     4.87,2,  -999.00,9,   2082.8,2,   2332.8,2,  -999.00,9
  35MF20110114,  OISO,     4,  1,     11,2,20110119,   0,-39.9998,  52.8335, 3900,    126.0,  15.2294,  35.4757,2,-999.0000,9,    229.6,2,     3.02,2,     4.87,2,  -999.00,9,   2081.3,2,   2330.9,2,  -999.00,9
  35MF20110114,  OISO,     4,  1,     12,2,20110119,   0,-39.9998,  52.8335, 3900,    101.8,  15.4416,  35.4876,2,-999.0000,9,    229.4,2,     2.92,2,     4.68,2,  -999.00,9,   2081.9,2,   2332.8,2,     0.93,3
  35MF20110114,  OISO,     4,  1,     13,2,20110119,   0,-39.9998,  52.8335, 3900,     75.4,  15.9027,  35.5203,2,-999.0000,9,    227.5,2,     2.73,2,     3.90,2,  -999.00,9,   2076.6,2,   2333.8,2,     1.07,2
  35MF20110114,  OISO,     4,  1,     14,2,20110119,   0,-39.9998,  52.8335, 3900,     53.0,  16.5580,  35.5313,2,  35.5570,2,    246.0,2,     0.78,2,     0.19,2,  -999.00,9,   2054.5,2,   2336.7,2,     0.77,2
  35MF20110114,  OISO,     4,  1,     15,2,20110119,   0,-39.9998,  52.8335, 3900,     41.1,  17.0948,  35.5529,2,-999.0000,9,    246.0,2,     0.88,2,     0.10,2,  -999.00,9,   2055.6,2,   2338.4,2,  -999.00,9
  35MF20110114,  OISO,     4,  1,     16,2,20110119,   0,-39.9998,  52.8335, 3900,     30.4,  17.2574,  35.5579,2,-999.0000,9,    244.7,2,     0.78,2,     0.19,2,  -999.00,9,   2054.2,2,   2340.1,2,  -999.00,9
  35MF20110114,  OISO,     4,  1,     17,2,20110119,   0,-39.9998,  52.8335, 3900,     21.4,  17.3227,  35.5592,2,  35.5850,2,    245.4,2,     1.17,2,     0.00,2,  -999.00,9,   2052.9,2,   2339.7,2,     0.82,2
  35MF20110114,  OISO,     4,  1,     18,2,20110119,   0,-39.9998,  52.8335, 3900,     11.4,  17.3800,  35.5601,2,-999.0000,9,    244.9,2,     1.07,2,     0.10,2,  -999.00,9,   2052.4,2,   2340.9,2,  -999.00,9
  35MF20110114,  OISO,     4,  1,     19,2,20110119,   0,-39.9998,  52.8335, 3900,      3.8,  17.3860,  35.5604,2,  35.5640,2,    247.1,2,     0.51,2,     0.00,2,  -999.00,9,   2054.7,2,   2333.2,2,     0.74,2