BOTTLE,20020809WHPSIObren
EXPOCODE,SECT_ID,STNNBR,CASTNO,SAMPNO,BTLNBR,BTLNBR_FLAG_W,DATE,TIME,LATITUDE,LONGITUDE,DEPTH,CTDPRS,CTDTMP,CTDSAL,CTDSAL_FLAG_W,SALNTY,SALNTY_FLAG_W,CTDOXY,CTDOXY_FLAG_W,OXYGEN,OXYGEN_FLAG_W,SILCAT,SILCAT_FLAG_W,NO2+NO3,NO2+NO3_FLAG_W,PHSPHT,PHSPHT_FLAG_W,CTDRAW,REVTMP,REVPRS,THETA
,,,,,,,,,,,,DBAR,ITS-90,PSS-78,,PSS-78,,UMOL/KG,,UMOL/KG,,UMOL/KG,,UMOL/KG,,UMOL/KG,,,DEG C,DBAR,ITS-90
     32MW096_1,  PRS2,     2,  4,      5,     38,2,19980810,0857, 22.7737,-157.9792, 4705,     22.9,  25.2771,  35.1637,2,  35.1631,2,    212.4,1,   -999.0,9,  -999.00,9,  -999.00,9,  -999.00,9,     23,-999.000,  -999.0, 25.2721
     32MW096_1,  PRS2,     2,  4,      4,     36,2,19980810,0857, 22.7737,-157.9792, 4705,    280.2,  12.4533,  34.2879,2,  34.2842,2,    201.0,1,   -999.0,9,  -999.00,9,  -999.00,9,  -999.00,9,    280,-999.000,  -999.0, 12.4160
     32MW096_1,  PRS2,     2,  4,      3,     35,2,19980810,0857, 22.7737,-157.9792, 4705,    520.7,   6.2736,  34.0182,2,  34.0167,2,    110.4,1,   -999.0,9,  -999.00,9,  -999.00,9,  -999.00,9,    521,-999.000,  -999.0,  6.2273
     32MW096_1,  PRS2,     2,  4,      2,     34,2,19980810,0857, 22.7737,-157.9792, 4705,    820.0,   4.1172,  34.3167,2,  34.3183,2,     19.2,1,   -999.0,9,  -999.00,9,  -999.00,9,  -999.00,9,    820,-999.000,  -999.0,  4.0557
     32MW096_1,  PRS2,     2,  4,      1,     33,2,19980810,0857, 22.7737,-157.9792, 4705,   1021.9,   3.6887,  34.4821,2,  34.4863,2,     45.1,1,   -999.0,9,  -999.00,9,  -999.00,9,  -999.00,9,   1021,-999.000,  -999.0,  3.6137
     32MW096_1,  PRS2,     2,  5,      5,     38,2,19980810,1240, 22.7488,-158.0015, 4725,     20.3,  25.2849,  35.1652,2,  35.1974,4,    211.7,1,   -999.0,9,  -999.00,9,  -999.00,9,  -999.00,9,     21,-999.000,  -999.0, 25.2804
     32MW096_1,  PRS2,     2,  5,      4,     36,2,19980810,1240, 22.7488,-158.0015, 4725,    506.9,   6.4094,  34.0156,2,  34.0132,2,    117.8,1,   -999.0,9,  -999.00,9,  -999.00,9,  -999.00,9,    507,-999.000,  -999.0,  6.3639
     32MW096_1,  PRS2,     2,  5,      3,     35,2,19980810,1240, 22.7488,-158.0015, 4725,    816.3,   4.0628,  34.3313,2,  34.3286,2,     19.7,1,   -999.0,9,  -999.00,9,  -999.00,9,  -999.00,9,    816,-999.000,  -999.0,  4.0020
     32MW096_1,  PRS2,     2,  5,      2,     34,2,19980810,1240, 22.7488,-158.0015, 4725,    896.4,   3.8900,  34.3988,2,  34.4015,2,     23.5,1,   -999.0,9,  -999.00,9,  -999.00,9,  -999.00,9,    897,-999.000,  -999.0,  3.8238
     32MW096_1,  PRS2,     2,  5,      1,     33,2,19980810,1240, 22.7488,-158.0015, 4725,   1018.7,   3.7318,  34.4728,2,  34.4712,2,     42.6,1,   -999.0,9,  -999.00,9,  -999.00,9,  -999.00,9,   1018,-999.000,  -999.0,  3.6568
     32MW096_1,  PRS2,     2,  6,     14,     14,2,19980810,1600, 22.7533,-157.9950, 4725,      5.6,  25.2551,  35.1653,2,  35.1633,2,    210.1,1,   -999.0,9,  -999.00,9,  -999.00,9,  -999.00,9,      5,-999.000,  -999.0, 25.2538
     32MW096_1,  PRS2,     2,  6,     12,     12,2,19980810,1600, 22.7533,-157.9950, 4725,     15.1,  25.2591,  35.1649,2,  35.1627,2,    210.2,1,   -999.0,9,  -999.00,9,  -999.00,9,  -999.00,9,     15,-999.000,  -999.0, 25.2558
     32MW096_1,  PRS2,     2,  6,     13,     13,2,19980810,1600, 22.7533,-157.9950, 4725,     15.2,  25.2589,  35.1649,2,  35.1633,2,    210.2,1,   -999.0,9,  -999.00,9,  -999.00,9,  -999.00,9,     15,-999.000,  -999.0, 25.2556
     32MW096_1,  PRS2,     2,  6,     11,     11,2,19980810,1600, 22.7533,-157.9950, 4725,     25.2,  25.2587,  35.1647,2,  35.1634,2,    210.2,1,   -999.0,9,  -999.00,9,  -999.00,9,  -999.00,9,     25,-999.000,  -999.0, 25.2532
     32MW096_1,  PRS2,     2,  6,     10,     32,2,19980810,1600, 22.7533,-157.9950, 4725,     44.7,  23.6013,  35.1376,2,  35.1284,2,    213.5,1,   -999.0,9,  -999.00,9,  -999.00,9,  -999.00,9,     44,-999.000,  -999.0, 23.5920
     32MW096_1,  PRS2,     2,  6,      9,      3,2,19980810,1600, 22.7533,-157.9950, 4725,     75.1,  22.4430,  35.1555,2,  35.1547,2,    215.8,1,   -999.0,9,  -999.00,9,  -999.00,9,  -999.00,9,     74,-999.000,  -999.0, 22.4280
     32MW096_1,  PRS2,     2,  6,      8,     29,2,19980810,1600, 22.7533,-157.9950, 4725,    100.1,  22.1726,  35.1758,2,  35.1752,2,    213.4,1,   -999.0,9,  -999.00,9,  -999.00,9,  -999.00,9,    100,-999.000,  -999.0, 22.1527
     32MW096_1,  PRS2,     2,  6,      7,     28,2,19980810,1600, 22.7533,-157.9950, 4725,    124.7,  21.2564,  35.1456,2,  35.1428,2,    205.0,1,   -999.0,9,  -999.00,9,  -999.00,9,  -999.00,9,    125,-999.000,  -999.0, 21.2323
     32MW096_1,  PRS2,     2,  6,      6,      7,3,19980810,1600, 22.7533,-157.9950, 4725,    150.2,  20.2760,  35.2093,2,  35.2065,2,    208.2,1,   -999.0,9,  -999.00,9,  -999.00,9,  -999.00,9,    150,-999.000,  -999.0, 20.2479
     32MW096_1,  PRS2,     2,  6,      5,     38,2,19980810,1600, 22.7533,-157.9950, 4725,    173.6,  19.1036,  35.0562,2,  35.0556,2,    200.9,1,   -999.0,9,  -999.00,9,  -999.00,9,  -999.00,9,    173,-999.000,  -999.0, 19.0725
     32MW096_1,  PRS2,     2,  6,      4,     36,2,19980810,1600, 22.7533,-157.9950, 4725,    250.6,  15.8631,  34.6114,2,  34.5921,2,    208.2,1,   -999.0,9,  -999.00,9,  -999.00,9,  -999.00,9,    251,-999.000,  -999.0, 15.8237
     32MW096_1,  PRS2,     2,  6,      3,     35,2,19980810,1600, 22.7533,-157.9950, 4725,    500.4,   7.1364,  34.0298,2,  34.0291,2,    133.0,1,   -999.0,9,  -999.00,9,  -999.00,9,  -999.00,9,    500,-999.000,  -999.0,  7.0888
     32MW096_1,  PRS2,     2,  6,      2,     34,2,19980810,1600, 22.7533,-157.9950, 4725,    751.4,   4.4106,  34.2371,2,  34.2359,2,     23.2,1,   -999.0,9,  -999.00,9,  -999.00,9,  -999.00,9,    751,-999.000,  -999.0,  4.3532
     32MW096_1,  PRS2,     2,  6,      1,     33,2,19980810,1600, 22.7533,-157.9950, 4725,   1021.1,   3.6878,  34.4817,2,  34.4794,2,     45.3,1,   -999.0,9,  -999.00,9,  -999.00,9,  -999.00,9,   1021,-999.000,  -999.0,  3.6128
     32MW096_1,  PRS2,     2,  7,     24,     31,2,19980810,1900, 22.7387,-158.0068, 4723,      5.7,  25.2845,  35.1655,2,-999.0000,5,    210.5,1,   -999.0,9,  -999.00,9,  -999.00,9,  -999.00,9,      6,-999.000,  -999.0, 25.2833
     32MW096_1,  PRS2,     2,  7,     23,     30,2,19980810,1900, 22.7387,-158.0068, 4723,      5.7,  25.2850,  35.1654,2,  35.1641,2,    210.5,1,   -999.0,9,  -999.00,9,  -999.00,9,  -999.00,9,      5,-999.000,  -999.0, 25.2837
     32MW096_1,  PRS2,     2,  7,     21,     21,2,19980810,1900, 22.7387,-158.0068, 4723,     25.1,  25.2621,  35.1639,2,  35.1627,2,    210.6,1,   -999.0,9,  -999.00,9,  -999.00,9,  -999.00,9,     25,-999.000,  -999.0, 25.2566
     32MW096_1,  PRS2,     2,  7,     22,     22,2,19980810,1900, 22.7387,-158.0068, 4723,     25.3,  25.2625,  35.1638,2,  35.1671,2,    210.5,1,   -999.0,9,  -999.00,9,  -999.00,9,  -999.00,9,     26,-999.000,  -999.0, 25.2570
     32MW096_1,  PRS2,     2,  7,     20,     20,2,19980810,1900, 22.7387,-158.0068, 4723,     45.5,  23.3540,  35.0950,2,  35.1003,2,    217.2,1,   -999.0,9,  -999.00,9,  -999.00,9,  -999.00,9,     45,-999.000,  -999.0, 23.3446
     32MW096_1,  PRS2,     2,  7,     19,     19,2,19980810,1900, 22.7387,-158.0068, 4723,     45.5,  23.3535,  35.0947,2,  35.1014,2,    217.2,1,   -999.0,9,  -999.00,9,  -999.00,9,  -999.00,9,     45,-999.000,  -999.0, 23.3441
     32MW096_1,  PRS2,     2,  7,     18,     18,2,19980810,1900, 22.7387,-158.0068, 4723,     75.6,  22.6032,  35.1451,2,  35.1447,2,    218.9,1,   -999.0,9,  -999.00,9,  -999.00,9,  -999.00,9,     76,-999.000,  -999.0, 22.5880
     32MW096_1,  PRS2,     2,  7,     17,     17,2,19980810,1900, 22.7387,-158.0068, 4723,     75.6,  22.6048,  35.1449,2,  35.1448,2,    218.7,1,   -999.0,9,  -999.00,9,  -999.00,9,  -999.00,9,     75,-999.000,  -999.0, 22.5896
     32MW096_1,  PRS2,     2,  7,     15,     15,2,19980810,1900, 22.7387,-158.0068, 4723,    100.2,  22.2600,  35.1678,2,  35.1669,2,    214.1,1,   -999.0,9,  -999.00,9,  -999.00,9,  -999.00,9,    100,-999.000,  -999.0, 22.2400
     32MW096_1,  PRS2,     2,  7,     16,     16,2,19980810,1900, 22.7387,-158.0068, 4723,    100.3,  22.2613,  35.1678,2,  35.1660,2,    214.2,1,   -999.0,9,  -999.00,9,  -999.00,9,  -999.00,9,    100,-999.000,  -999.0, 22.2413
     32MW096_1,  PRS2,     2,  7,     14,     14,2,19980810,1900, 22.7387,-158.0068, 4723,    124.7,  21.3452,  35.1558,2,  35.1584,2,    204.9,1,   -999.0,9,  -999.00,9,  -999.00,9,  -999.00,9,    125,-999.000,  -999.0, 21.3210
     32MW096_1,  PRS2,     2,  7,     13,     13,2,19980810,1900, 22.7387,-158.0068, 4723,    124.7,  21.3439,  35.1564,2,  35.1602,2,    204.7,1,   -999.0,9,  -999.00,9,  -999.00,9,  -999.00,9,    125,-999.000,  -999.0, 21.3198
     32MW096_1,  PRS2,     2,  7,     11,     11,2,19980810,1900, 22.7387,-158.0068, 4723,    150.4,  20.4083,  35.2061,2,  35.2100,2,    209.5,1,   -999.0,9,  -999.00,9,  -999.00,9,  -999.00,9,    151,-999.000,  -999.0, 20.3801
     32MW096_1,  PRS2,     2,  7,     12,     12,2,19980810,1900, 22.7387,-158.0068, 4723,    150.6,  20.3886,  35.2033,2,  35.2374,4,    210.1,1,   -999.0,9,  -999.00,9,  -999.00,9,  -999.00,9,    150,-999.000,  -999.0, 20.3604
     32MW096_1,  PRS2,     2,  7,     10,     32,2,19980810,1900, 22.7387,-158.0068, 4723,    175.4,  18.9225,  35.0301,2,  35.0359,2,    201.2,1,   -999.0,9,  -999.00,9,  -999.00,9,  -999.00,9,    175,-999.000,  -999.0, 18.8913
     32MW096_1,  PRS2,     2,  7,      9,      3,2,19980810,1900, 22.7387,-158.0068, 4723,    175.4,  18.9256,  35.0300,2,  35.0313,2,    201.3,1,   -999.0,9,  -999.00,9,  -999.00,9,  -999.00,9,    176,-999.000,  -999.0, 18.8944
     32MW096_1,  PRS2,     2,  7,      8,     29,2,19980810,1900, 22.7387,-158.0068, 4723,    250.6,  14.5913,  34.4482,2,  34.4496,2,    189.7,1,   -999.0,9,  -999.00,9,  -999.00,9,  -999.00,9,    250,-999.000,  -999.0, 14.5542
     32MW096_1,  PRS2,     2,  7,      7,     28,2,19980810,1900, 22.7387,-158.0068, 4723,    250.8,  14.5845,  34.4478,2,  34.4517,2,    189.6,1,   -999.0,9,  -999.00,9,  -999.00,9,  -999.00,9,    251,-999.000,  -999.0, 14.5473
     32MW096_1,  PRS2,     2,  7,      6,      7,2,19980810,1900, 22.7387,-158.0068, 4723,    501.1,   7.0040,  34.0191,2,  34.0319,4,    134.4,1,   -999.0,9,  -999.00,9,  -999.00,9,  -999.00,9,    501,-999.000,  -999.0,  6.9568
     32MW096_1,  PRS2,     2,  7,      5,     38,2,19980810,1900, 22.7387,-158.0068, 4723,    501.1,   7.0016,  34.0193,2,  34.0180,2,    134.5,1,   -999.0,9,  -999.00,9,  -999.00,9,  -999.00,9,    501,-999.000,  -999.0,  6.9544
     32MW096_1,  PRS2,     2,  7,      4,     36,2,19980810,1900, 22.7387,-158.0068, 4723,    750.7,   4.3814,  34.2442,2,  34.2424,2,     23.4,1,   -999.0,9,  -999.00,9,  -999.00,9,  -999.00,9,    750,-999.000,  -999.0,  4.3241
     32MW096_1,  PRS2,     2,  7,      3,     35,2,19980810,1900, 22.7387,-158.0068, 4723,    750.7,   4.3815,  34.2441,2,  34.2429,2,     23.3,1,   -999.0,9,  -999.00,9,  -999.00,9,  -999.00,9,    750,-999.000,  -999.0,  4.3242
     32MW096_1,  PRS2,     2,  7,      2,     34,2,19980810,1900, 22.7387,-158.0068, 4723,   1021.0,   3.7172,  34.4816,2,  34.4795,2,     45.0,1,   -999.0,9,  -999.00,9,  -999.00,9,  -999.00,9,   1020,-999.000,  -999.0,  3.6420
     32MW096_1,  PRS2,     2,  7,      1,     33,2,19980810,1900, 22.7387,-158.0068, 4723,   1021.0,   3.7194,  34.4811,2,  34.4803,2,     45.0,1,   -999.0,9,  -999.00,9,  -999.00,9,  -999.00,9,   1021,-999.000,  -999.0,  3.6442
     32MW096_1,  PRS2,     2,  8,     13,     13,2,19980810,2200, 22.7250,-158.0055, 4723,      5.2,  25.4669,  35.1673,2,  35.1771,2,    209.5,1,   -999.0,9,  -999.00,9,  -999.00,9,  -999.00,9,      5,-999.000,  -999.0, 25.4658
     32MW096_1,  PRS2,     2,  8,     12,     12,2,19980810,2200, 22.7250,-158.0055, 4723,     25.8,  25.2589,  35.1631,2,  35.1645,2,    211.6,1,   -999.0,9,  -999.00,9,  -999.00,9,  -999.00,9,     26,-999.000,  -999.0, 25.2533
     32MW096_1,  PRS2,     2,  8,     11,     11,2,19980810,2200, 22.7250,-158.0055, 4723,     50.9,  22.9938,  35.1131,2,  35.1134,2,    218.2,1,   -999.0,9,  -999.00,9,  -999.00,9,  -999.00,9,     51,-999.000,  -999.0, 22.9834
     32MW096_1,  PRS2,     2,  8,     10,     32,2,19980810,2200, 22.7250,-158.0055, 4723,     76.1,  22.5562,  35.1508,2,  35.1509,2,    217.0,1,   -999.0,9,  -999.00,9,  -999.00,9,  -999.00,9,     76,-999.000,  -999.0, 22.5409
     32MW096_1,  PRS2,     2,  8,      9,      3,2,19980810,2200, 22.7250,-158.0055, 4723,     99.9,  21.4990,  35.1670,2,  35.1668,2,    206.0,1,   -999.0,9,  -999.00,9,  -999.00,9,  -999.00,9,    101,-999.000,  -999.0, 21.4796
     32MW096_1,  PRS2,     2,  8,      8,     29,2,19980810,2200, 22.7250,-158.0055, 4723,    125.1,  20.4461,  35.2026,2,  35.2157,2,    209.2,1,   -999.0,9,  -999.00,9,  -999.00,9,  -999.00,9,    125,-999.000,  -999.0, 20.4226
     32MW096_1,  PRS2,     2,  8,      7,     28,2,19980810,2200, 22.7250,-158.0055, 4723,    150.6,  18.8410,  35.0156,2,  35.0214,2,    200.2,1,   -999.0,9,  -999.00,9,  -999.00,9,  -999.00,9,    150,-999.000,  -999.0, 18.8143
     32MW096_1,  PRS2,     2,  8,      6,      7,2,19980810,2200, 22.7250,-158.0055, 4723,    176.4,  17.6504,  34.8412,2,  34.8455,2,    200.4,1,   -999.0,9,  -999.00,9,  -999.00,9,  -999.00,9,    176,-999.000,  -999.0, 17.6206
     32MW096_1,  PRS2,     2,  8,      5,     38,2,19980810,2200, 22.7250,-158.0055, 4723,    200.5,  15.8019,  34.6018,2,  34.6069,2,    202.6,1,   -999.0,9,  -999.00,9,  -999.00,9,  -999.00,9,    200,-999.000,  -999.0, 15.7706
     32MW096_1,  PRS2,     2,  8,      4,     36,2,19980810,2200, 22.7250,-158.0055, 4723,    225.0,  14.3323,  34.4285,2,  34.4282,2,    197.5,1,   -999.0,9,  -999.00,9,  -999.00,9,  -999.00,9,    224,-999.000,  -999.0, 14.2994
     32MW096_1,  PRS2,     2,  8,      3,     35,2,19980810,2200, 22.7250,-158.0055, 4723,    251.6,  13.6884,  34.4022,2,  34.4029,2,    202.7,1,   -999.0,9,  -999.00,9,  -999.00,9,  -999.00,9,    251,-999.000,  -999.0, 13.6528
     32MW096_1,  PRS2,     2,  8,      2,     34,2,19980810,2200, 22.7250,-158.0055, 4723,    751.1,   4.3324,  34.2537,2,  34.2519,2,     22.1,1,   -999.0,9,  -999.00,9,  -999.00,9,  -999.00,9,    752,-999.000,  -999.0,  4.2753
     32MW096_1,  PRS2,     2,  8,      1,     33,2,19980810,2200, 22.7250,-158.0055, 4723,   1020.7,   3.6604,  34.4824,2,  34.4809,2,     45.5,1,   -999.0,9,  -999.00,9,  -999.00,9,  -999.00,9,   1020,-999.000,  -999.0,  3.5857
     32MW096_1,  PRS2,     2,  9,     10,     32,2,19980811,0057, 22.7457,-158.0203, 4730,      5.3,  25.5314,  35.1712,2,  35.1723,2,    210.6,1,   -999.0,9,  -999.00,9,  -999.00,9,  -999.00,9,      5,-999.000,  -999.0, 25.5302
     32MW096_1,  PRS2,     2,  9,      9,      3,2,19980811,0057, 22.7457,-158.0203, 4730,     25.1,  25.2922,  35.1619,2,  35.1644,2,    213.1,1,   -999.0,9,  -999.00,9,  -999.00,9,  -999.00,9,     25,-999.000,  -999.0, 25.2867
     32MW096_1,  PRS2,     2,  9,      8,     29,2,19980811,0057, 22.7457,-158.0203, 4730,     45.4,  23.6595,  35.1043,2,  35.1155,2,    213.6,1,   -999.0,9,  -999.00,9,  -999.00,9,  -999.00,9,     46,-999.000,  -999.0, 23.6500
     32MW096_1,  PRS2,     2,  9,      7,     28,2,19980811,0057, 22.7457,-158.0203, 4730,     75.2,  22.4336,  35.1587,2,  35.1576,2,    215.5,1,   -999.0,9,  -999.00,9,  -999.00,9,  -999.00,9,     76,-999.000,  -999.0, 22.4185
     32MW096_1,  PRS2,     2,  9,      6,      7,2,19980811,0057, 22.7457,-158.0203, 4730,    100.6,  21.3943,  35.1436,2,  35.1456,2,    207.4,1,   -999.0,9,  -999.00,9,  -999.00,9,  -999.00,9,    100,-999.000,  -999.0, 21.3748
     32MW096_1,  PRS2,     2,  9,      5,     38,2,19980811,0057, 22.7457,-158.0203, 4730,    124.9,  20.5531,  35.2011,2,  35.2046,2,    209.0,1,   -999.0,9,  -999.00,9,  -999.00,9,  -999.00,9,    126,-999.000,  -999.0, 20.5296
     32MW096_1,  PRS2,     2,  9,      4,     36,2,19980811,0057, 22.7457,-158.0203, 4730,    150.4,  19.4147,  35.0938,2,  35.1040,2,    203.1,1,   -999.0,9,  -999.00,9,  -999.00,9,  -999.00,9,    150,-999.000,  -999.0, 19.3875
     32MW096_1,  PRS2,     2,  9,      3,     35,2,19980811,0057, 22.7457,-158.0203, 4730,    176.1,  18.1967,  34.9218,2,  34.9214,2,    200.0,1,   -999.0,9,  -999.00,9,  -999.00,9,  -999.00,9,    176,-999.000,  -999.0, 18.1663
     32MW096_1,  PRS2,     2,  9,      2,     34,2,19980811,0057, 22.7457,-158.0203, 4730,    840.9,   4.1042,  34.3672,2,  34.3676,2,     29.2,1,   -999.0,9,  -999.00,9,  -999.00,9,  -999.00,9,    841,-999.000,  -999.0,  4.0411
     32MW096_1,  PRS2,     2,  9,      1,     33,2,19980811,0057, 22.7457,-158.0203, 4730,   1020.7,   3.6984,  34.4850,2,  34.4842,2,     46.0,1,   -999.0,9,  -999.00,9,  -999.00,9,  -999.00,9,   1020,-999.000,  -999.0,  3.6235
     32MW096_1,  PRS2,     2, 10,      5,     38,2,19980811,0358, 22.7067,-157.9888, 4723,     20.6,  25.4168,  35.1676,2,  35.1705,2,    213.4,1,   -999.0,9,  -999.00,9,  -999.00,9,  -999.00,9,     20,-999.000,  -999.0, 25.4122
     32MW096_1,  PRS2,     2, 10,      4,     36,2,19980811,0358, 22.7067,-157.9888, 4723,    150.5,  20.4168,  35.2142,2,  35.2145,2,    209.2,1,   -999.0,9,  -999.00,9,  -999.00,9,  -999.00,9,    150,-999.000,  -999.0, 20.3886
     32MW096_1,  PRS2,     2, 10,      3,     35,2,19980811,0358, 22.7067,-157.9888, 4723,    531.1,   6.7001,  34.0133,2,  34.0148,2,    130.7,1,   -999.0,9,  -999.00,9,  -999.00,9,  -999.00,9,    531,-999.000,  -999.0,  6.6511
     32MW096_1,  PRS2,     2, 10,      2,     34,2,19980811,0358, 22.7067,-157.9888, 4723,    850.5,   3.9763,  34.3562,2,  34.3537,2,     20.8,1,   -999.0,9,  -999.00,9,  -999.00,9,  -999.00,9,    850,-999.000,  -999.0,  3.9133
     32MW096_1,  PRS2,     2, 10,      1,     33,2,19980811,0358, 22.7067,-157.9888, 4723,   1020.9,   3.7040,  34.4733,2,  34.4733,2,     42.4,1,   -999.0,9,  -999.00,9,  -999.00,9,  -999.00,9,   1021,-999.000,  -999.0,  3.6290