BOTTLE,20020809WHPSIObren
#code : jjward hyd_to_exchange.pl 
#original files copied from HTML directory: 20020809
#original HYD file: /whpo/11/HOTS/BOTTLE/hot96/hot96.sea   Fri Aug  9 09:51:38 2002
#original SUM file: /whpo/11/HOTS/BOTTLE/hot96/hot96.sum   Fri Aug  9 13:30:30 2002
EXPOCODE,SECT_ID,STNNBR,CASTNO,SAMPNO,BTLNBR,BTLNBR_FLAG_W,DATE,TIME,LATITUDE,LONGITUDE,DEPTH,CTDPRS,CTDTMP,CTDSAL,CTDSAL_FLAG_W,SALNTY,SALNTY_FLAG_W,CTDOXY,CTDOXY_FLAG_W,OXYGEN,OXYGEN_FLAG_W,SILCAT,SILCAT_FLAG_W,NO2+NO3,NO2+NO3_FLAG_W,PHSPHT,PHSPHT_FLAG_W,CTDRAW,REVTMP,REVPRS,THETA
,,,,,,,,,,,,DBAR,ITS-90,PSS-78,,PSS-78,,UMOL/KG,,UMOL/KG,,UMOL/KG,,UMOL/KG,,UMOL/KG,,,DEG C,DBAR,ITS-90
     32MW096_1,  PRS2,     1,  1,     24,     31,4,19980808,2333, 21.3468,-158.2732, 1500,      5.5,  27.0393,  35.1923,2,-999.0000,5,    202.0,2,   -999.0,5,  -999.00,5,  -999.00,5,  -999.00,5,      5,-999.000,  -999.0, 27.0381
     32MW096_1,  PRS2,     1,  1,     23,     30,2,19980808,2333, 21.3468,-158.2732, 1500,      5.5,  26.9977,  35.1910,2,-999.0000,5,    202.8,2,    202.9,2,     1.11,2,     0.01,2,     0.11,2,      6,-999.000,  -999.0, 26.9964
     32MW096_1,  PRS2,     1,  1,     22,     22,2,19980808,2333, 21.3468,-158.2732, 1500,     25.2,  26.4403,  35.1798,2,  35.1798,2,    202.2,2,    203.6,2,     1.33,2,     0.01,2,     0.10,2,     25,-999.000,  -999.0, 26.4346
     32MW096_1,  PRS2,     1,  1,     21,     21,2,19980808,2333, 21.3468,-158.2732, 1500,     45.7,  26.2439,  35.2117,2,  35.2092,2,    204.5,2,    205.1,2,     1.23,2,     0.00,2,     0.09,2,     46,-999.000,  -999.0, 26.2336
     32MW096_1,  PRS2,     1,  1,     20,     20,2,19980808,2333, 21.3468,-158.2732, 1500,     60.9,  25.6791,  35.3078,2,  35.3069,2,    209.3,2,    208.6,2,     1.27,2,     0.01,2,     0.07,2,     61,-999.000,  -999.0, 25.6656
     32MW096_1,  PRS2,     1,  1,     19,     19,2,19980808,2333, 21.3468,-158.2732, 1500,     75.8,  24.2528,  35.2152,2,  35.2192,2,    214.5,2,    215.1,2,     1.36,2,     0.00,2,     0.07,2,     76,-999.000,  -999.0, 24.2367
     32MW096_1,  PRS2,     1,  1,     18,     18,2,19980808,2333, 21.3468,-158.2732, 1500,     95.6,  22.9151,  35.1918,2,  35.1888,2,    213.2,2,    213.1,2,     1.40,2,     0.00,2,     0.10,2,     95,-999.000,  -999.0, 22.8957
     32MW096_1,  PRS2,     1,  1,     17,     17,2,19980808,2333, 21.3468,-158.2732, 1500,    105.5,  22.6678,  35.2151,2,  35.2137,2,    214.1,2,    213.1,2,     1.46,2,     0.00,2,     0.09,2,    105,-999.000,  -999.0, 22.6464
     32MW096_1,  PRS2,     1,  1,     16,     16,2,19980808,2333, 21.3468,-158.2732, 1500,    115.9,  21.9298,  35.2107,2,  35.2099,2,    208.7,2,    208.4,2,     1.43,2,     0.05,2,     0.10,2,    116,-999.000,  -999.0, 21.9070
     32MW096_1,  PRS2,     1,  1,     15,     15,2,19980808,2333, 21.3468,-158.2732, 1500,    125.1,  21.4563,  35.2170,2,  35.2167,2,    208.0,2,    207.5,2,     1.53,2,     0.19,2,     0.10,2,    125,-999.000,  -999.0, 21.4320
     32MW096_1,  PRS2,     1,  1,     14,     14,2,19980808,2333, 21.3468,-158.2732, 1500,    151.3,  19.7057,  35.0070,2,  35.0104,2,    193.2,2,    193.0,2,     2.72,2,     2.33,2,     0.25,2,    151,-999.000,  -999.0, 19.6780
     32MW096_1,  PRS2,     1,  1,     13,     13,2,19980808,2333, 21.3468,-158.2732, 1500,    175.9,  18.8111,  34.9626,2,  34.9706,2,    199.0,2,    197.0,2,     3.20,2,     2.57,2,     0.27,2,    175,-999.000,  -999.0, 18.7800
     32MW096_1,  PRS2,     1,  1,     12,     12,2,19980808,2333, 21.3468,-158.2732, 1500,    199.7,  17.5632,  34.8207,2,  34.8173,2,    194.9,2,    195.5,2,     7.78,4,     8.05,4,     0.66,4,    199,-999.000,  -999.0, 17.5296
     32MW096_1,  PRS2,     1,  1,     11,     11,2,19980808,2333, 21.3468,-158.2732, 1500,    225.2,  15.2517,  34.5788,2,  34.5800,2,    200.8,2,    201.6,2,     7.91,2,     8.11,3,     0.64,3,    225,-999.000,  -999.0, 15.2173
     32MW096_1,  PRS2,     1,  1,     10,     32,2,19980808,2333, 21.3468,-158.2732, 1500,    250.7,  14.0092,  34.4368,2,  34.4368,2,    192.7,2,    197.2,2,     7.88,2,     8.14,2,     0.64,2,    251,-999.000,  -999.0, 13.9731
     32MW096_1,  PRS2,     1,  1,      9,      3,2,19980808,2333, 21.3468,-158.2732, 1500,    276.2,  13.7259,  34.4086,2,  34.4082,2,    196.1,2,    196.7,2,  -999.00,5,  -999.00,5,  -999.00,5,    276,-999.000,  -999.0, 13.6866
     32MW096_1,  PRS2,     1,  1,      8,     29,2,19980808,2333, 21.3468,-158.2732, 1500,    301.1,  13.0865,  34.3641,2,  34.3663,2,    201.4,2,    201.8,2,     9.26,2,     9.30,2,     0.69,2,    301,-999.000,  -999.0, 13.0450
     32MW096_1,  PRS2,     1,  1,      7,     28,2,19980808,2333, 21.3468,-158.2732, 1500,    400.2,   8.3805,  34.0754,2,  34.0751,2,    159.8,2,    159.7,2,    31.97,2,    22.64,2,     1.59,2,    400,-999.000,  -999.0,  8.3389
     32MW096_1,  PRS2,     1,  1,      6,      7,2,19980808,2333, 21.3468,-158.2732, 1500,    500.1,   6.3532,  34.1374,2,  34.1376,2,     76.6,2,     76.4,2,    61.97,2,    33.95,2,     2.45,2,    500,-999.000,  -999.0,  6.3084
     32MW096_1,  PRS2,     1,  1,      5,     38,2,19980808,2333, 21.3468,-158.2732, 1500,    600.4,   5.5733,  34.2617,2,  34.2598,2,     39.4,2,     37.6,2,  -999.00,5,  -999.00,5,  -999.00,5,    600,-999.000,  -999.0,  5.5226
     32MW096_1,  PRS2,     1,  1,      4,     36,2,19980808,2333, 21.3468,-158.2732, 1500,    700.4,   4.8597,  34.3672,2,  34.3691,2,     33.6,2,     34.2,2,    91.96,2,    40.59,2,     2.96,2,    700,-999.000,  -999.0,  4.8038
     32MW096_1,  PRS2,     1,  1,      3,     35,2,19980808,2333, 21.3468,-158.2732, 1500,    800.0,   4.6456,  34.4309,2,  34.4303,2,     34.3,2,     34.9,2,  -999.00,5,  -999.00,5,  -999.00,5,    800,-999.000,  -999.0,  4.5824
     32MW096_1,  PRS2,     1,  1,      2,     34,2,19980808,2333, 21.3468,-158.2732, 1500,    899.9,   4.3364,  34.4725,2,  34.4702,2,     39.2,2,     39.4,2,  -999.00,5,  -999.00,5,  -999.00,5,    899,-999.000,  -999.0,  4.2667
     32MW096_1,  PRS2,     1,  1,      1,     33,2,19980808,2333, 21.3468,-158.2732, 1500,   1021.0,   4.0010,  34.5042,2,  34.5041,2,     44.2,2,     44.4,2,   109.00,2,    41.54,2,     3.01,2,   1021,-999.000,  -999.0,  3.9235
     32MW096_1,  PRS2,     2,  1,     17,     17,2,19980810,0005, 22.7535,-158.0033, 4725,      5.2,  25.4562,  35.1680,2,  35.1678,2,    210.3,1,   -999.0,9,  -999.00,9,  -999.00,9,  -999.00,9,      5,-999.000,  -999.0, 25.4550
     32MW096_1,  PRS2,     2,  1,     15,     15,2,19980810,0005, 22.7535,-158.0033, 4725,     19.8,  25.1944,  35.1619,2,  35.1618,2,    212.0,1,   -999.0,9,  -999.00,9,  -999.00,9,  -999.00,9,     20,-999.000,  -999.0, 25.1901
     32MW096_1,  PRS2,     2,  1,     14,     14,3,19980810,0005, 22.7535,-158.0033, 4725,     19.8,  25.1942,  35.1620,2,  35.1676,2,    212.0,1,   -999.0,9,  -999.00,9,  -999.00,9,  -999.00,9,     19,-999.000,  -999.0, 25.1898
     32MW096_1,  PRS2,     2,  1,     16,     16,3,19980810,0005, 22.7535,-158.0033, 4725,     19.9,  25.1947,  35.1620,2,  35.1616,2,    212.0,1,   -999.0,9,  -999.00,9,  -999.00,9,  -999.00,9,     20,-999.000,  -999.0, 25.1904
     32MW096_1,  PRS2,     2,  1,     13,     13,2,19980810,0005, 22.7535,-158.0033, 4725,     19.9,  25.1940,  35.1620,2,  35.1613,2,    212.1,1,   -999.0,9,  -999.00,9,  -999.00,9,  -999.00,9,     20,-999.000,  -999.0, 25.1897
     32MW096_1,  PRS2,     2,  1,     12,     12,2,19980810,0005, 22.7535,-158.0033, 4725,     20.0,  25.1935,  35.1620,2,  35.1640,2,    212.1,1,   -999.0,9,  -999.00,9,  -999.00,9,  -999.00,9,     20,-999.000,  -999.0, 25.1891
     32MW096_1,  PRS2,     2,  1,     11,     11,2,19980810,0005, 22.7535,-158.0033, 4725,     25.2,  25.1760,  35.1612,2,  35.1621,2,    212.4,1,   -999.0,9,  -999.00,9,  -999.00,9,  -999.00,9,     26,-999.000,  -999.0, 25.1705
     32MW096_1,  PRS2,     2,  1,     10,     32,2,19980810,0005, 22.7535,-158.0033, 4725,     45.3,  23.3507,  35.0754,2,  35.0716,2,    214.9,1,   -999.0,9,  -999.00,9,  -999.00,9,  -999.00,9,     45,-999.000,  -999.0, 23.3413
     32MW096_1,  PRS2,     2,  1,      9,      3,2,19980810,0005, 22.7535,-158.0033, 4725,     74.9,  22.3194,  35.1590,2,  35.1607,2,    213.8,1,   -999.0,9,  -999.00,9,  -999.00,9,  -999.00,9,     76,-999.000,  -999.0, 22.3045
     32MW096_1,  PRS2,     2,  1,      8,     29,2,19980810,0005, 22.7535,-158.0033, 4725,    100.1,  21.1515,  35.1851,2,  35.1859,2,    204.5,1,   -999.0,9,  -999.00,9,  -999.00,9,  -999.00,9,    100,-999.000,  -999.0, 21.1323
     32MW096_1,  PRS2,     2,  1,      7,     28,2,19980810,0005, 22.7535,-158.0033, 4725,    125.1,  19.9744,  35.1005,2,  35.1063,2,    201.3,1,   -999.0,9,  -999.00,9,  -999.00,9,  -999.00,9,    125,-999.000,  -999.0, 19.9513
     32MW096_1,  PRS2,     2,  1,      6,      7,2,19980810,0005, 22.7535,-158.0033, 4725,    149.4,  19.0950,  34.9746,2,  34.9735,2,    195.9,1,   -999.0,9,  -999.00,9,  -999.00,9,  -999.00,9,    149,-999.000,  -999.0, 19.0683
     32MW096_1,  PRS2,     2,  1,      5,     38,2,19980810,0005, 22.7535,-158.0033, 4725,    175.3,  18.4915,  34.9651,2,  34.9625,2,    205.3,1,   -999.0,9,  -999.00,9,  -999.00,9,  -999.00,9,    175,-999.000,  -999.0, 18.4608
     32MW096_1,  PRS2,     2,  1,      4,     36,2,19980810,0005, 22.7535,-158.0033, 4725,    250.5,  14.0174,  34.4170,2,  34.4133,2,    203.1,1,   -999.0,9,  -999.00,9,  -999.00,9,  -999.00,9,    250,-999.000,  -999.0, 13.9813
     32MW096_1,  PRS2,     2,  1,      3,     35,2,19980810,0005, 22.7535,-158.0033, 4725,    501.5,   6.5909,  34.0145,2,  34.0148,2,    125.5,1,   -999.0,9,  -999.00,9,  -999.00,9,  -999.00,9,    501,-999.000,  -999.0,  6.5452
     32MW096_1,  PRS2,     2,  1,      2,     34,2,19980810,0005, 22.7535,-158.0033, 4725,    750.6,   4.3425,  34.2504,2,  34.2471,2,     22.9,1,   -999.0,9,  -999.00,9,  -999.00,9,  -999.00,9,    750,-999.000,  -999.0,  4.2854
     32MW096_1,  PRS2,     2,  1,      1,     33,2,19980810,0005, 22.7535,-158.0033, 4725,   1022.9,   3.6922,  34.4819,2,  34.4811,2,     45.8,1,   -999.0,9,  -999.00,9,  -999.00,9,  -999.00,9,   1023,-999.000,  -999.0,  3.6171
     32MW096_1,  PRS2,     2,  2,     17,     17,2,19980810,0259, 22.7490,-157.9993, 4725,      5.8,  25.4084,  35.1680,2,  35.1685,2,    211.8,2,    212.0,2,  -999.00,5,  -999.00,5,  -999.00,5,      6,-999.000,  -999.0, 25.4071
     32MW096_1,  PRS2,     2,  2,     16,     16,3,19980810,0259, 22.7490,-157.9993, 4725,     90.4,  22.3065,  35.1591,2,  35.1597,2,    214.5,2,    214.1,2,  -999.00,5,  -999.00,5,  -999.00,5,     90,-999.000,  -999.0, 22.2885
     32MW096_1,  PRS2,     2,  2,     15,     15,2,19980810,0259, 22.7490,-157.9993, 4725,    210.5,  18.4386,  34.9609,2,  34.9578,2,    205.9,2,    205.2,2,     2.71,2,     1.92,2,     0.21,2,    210,-999.000,  -999.0, 18.4019
     32MW096_1,  PRS2,     2,  2,     14,     14,2,19980810,0259, 22.7490,-157.9993, 4725,    225.3,  17.0380,  34.7433,2,  34.7544,2,    198.7,2,    202.5,2,     3.67,2,     3.09,2,     0.31,2,    226,-999.000,  -999.0, 17.0008
     32MW096_1,  PRS2,     2,  2,     13,     13,2,19980810,0259, 22.7490,-157.9993, 4725,    235.3,  16.3182,  34.6525,2,  34.6515,2,    193.9,2,    202.2,2,     4.38,2,     3.88,2,     0.36,2,    235,-999.000,  -999.0, 16.2805
     32MW096_1,  PRS2,     2,  2,     12,     12,2,19980810,0259, 22.7490,-157.9993, 4725,    250.0,  15.4554,  34.5392,2,  34.5436,2,    192.2,2,    196.8,2,     5.41,2,     5.39,2,     0.46,2,    249,-999.000,  -999.0, 15.4169
     32MW096_1,  PRS2,     2,  2,     11,     11,2,19980810,0259, 22.7490,-157.9993, 4725,    275.4,  13.9604,  34.4264,2,  34.4301,2,    202.3,2,    203.4,2,     7.02,2,     7.12,2,     0.57,2,    275,-999.000,  -999.0, 13.9207
     32MW096_1,  PRS2,     2,  2,     10,     32,2,19980810,0259, 22.7490,-157.9993, 4725,    300.4,  12.4954,  34.2783,2,  34.2796,2,    198.6,2,    201.1,2,     9.78,2,    10.09,2,     0.74,2,    300,-999.000,  -999.0, 12.4553
     32MW096_1,  PRS2,     2,  2,      9,      3,2,19980810,0259, 22.7490,-157.9993, 4725,    324.9,  11.5681,  34.2119,2,  34.2082,2,    200.1,2,    201.9,2,    12.05,2,    11.94,2,     0.87,2,    325,-999.000,  -999.0, 11.5269
     32MW096_1,  PRS2,     2,  2,      8,     29,2,19980810,0259, 22.7490,-157.9993, 4725,    350.2,  11.5238,  34.2461,2,  34.2417,2,    209.5,2,    207.3,2,    13.05,2,    12.17,2,     0.88,2,    350,-999.000,  -999.0, 11.4794
     32MW096_1,  PRS2,     2,  2,      7,     28,2,19980810,0259, 22.7490,-157.9993, 4725,    401.1,   9.6931,  34.1024,2,  34.1023,2,    186.8,2,    190.9,2,    20.10,2,    17.14,2,     1.21,2,    401,-999.000,  -999.0,  9.6475
     32MW096_1,  PRS2,     2,  2,      6,      7,2,19980810,0259, 22.7490,-157.9993, 4725,    500.9,   7.1231,  34.0249,2,  34.0371,4,    135.9,3,    135.9,2,    42.64,2,    27.02,2,     1.93,2,    501,-999.000,  -999.0,  7.0754
     32MW096_1,  PRS2,     2,  2,      5,     38,2,19980810,0259, 22.7490,-157.9993, 4725,    599.8,   5.4220,  34.0672,2,  34.0694,2,     66.9,2,     63.0,2,    73.13,2,    36.98,2,     2.65,2,    600,-999.000,  -999.0,  5.3723
     32MW096_1,  PRS2,     2,  2,      4,     36,2,19980810,0259, 22.7490,-157.9993, 4725,    700.1,   4.5839,  34.1952,2,  34.1921,2,     30.8,2,     28.7,2,    95.14,2,    41.01,2,     2.97,2,    700,-999.000,  -999.0,  4.5297
     32MW096_1,  PRS2,     2,  2,      3,     35,4,19980810,0259, 22.7490,-157.9993, 4725,    800.9,   4.0982,  34.3212,2,  34.1299,4,     19.5,3,   -999.0,5,  -999.00,5,  -999.00,5,  -999.00,5,    801,-999.000,  -999.0,  4.0384
     32MW096_1,  PRS2,     2,  2,      2,     34,2,19980810,0259, 22.7490,-157.9993, 4725,    900.4,   3.8931,  34.4010,2,  34.3034,4,     24.5,3,     22.5,2,   114.79,2,    42.65,2,     3.09,2,    900,-999.000,  -999.0,  3.8265
     32MW096_1,  PRS2,     2,  2,      1,     33,2,19980810,0259, 22.7490,-157.9993, 4725,   1020.6,   3.7251,  34.4734,2,  34.4734,2,     43.3,2,     42.2,2,   116.44,2,    41.53,2,     2.99,2,   1020,-999.000,  -999.0,  3.6499
     32MW096_1,  PRS2,     2,  3,     23,     30,2,19980810,0558, 22.7507,-157.9987, 4775,      5.3,  25.3769,  35.1696,2,  35.1668,2,    212.3,2,   -999.0,5,  -999.00,5,  -999.00,5,  -999.00,5,      5,-999.000,  -999.0, 25.3758
     32MW096_1,  PRS2,     2,  3,     22,     22,2,19980810,0558, 22.7507,-157.9987, 4775,      5.3,  25.3774,  35.1695,2,  35.1684,2,    212.2,2,    212.0,2,     1.06,2,     0.00,2,     0.10,2,      5,-999.000,  -999.0, 25.3763
     32MW096_1,  PRS2,     2,  3,     21,     21,2,19980810,0558, 22.7507,-157.9987, 4775,     15.1,  25.3157,  35.1680,2,  35.1659,2,    212.1,2,    212.7,2,     1.07,2,     0.01,2,     0.10,2,     15,-999.000,  -999.0, 25.3124
     32MW096_1,  PRS2,     2,  3,     19,     19,2,19980810,0558, 22.7507,-157.9987, 4775,     25.8,  25.1670,  35.1624,2,  35.1609,2,    213.4,2,    213.1,2,     1.09,2,     0.01,2,     0.10,2,     26,-999.000,  -999.0, 25.1613
     32MW096_1,  PRS2,     2,  3,     20,     20,2,19980810,0558, 22.7507,-157.9987, 4775,     25.9,  25.1678,  35.1623,2,  35.1604,2,    213.3,2,   -999.0,5,  -999.00,5,  -999.00,5,  -999.00,5,     26,-999.000,  -999.0, 25.1622
     32MW096_1,  PRS2,     2,  3,     18,     18,2,19980810,0558, 22.7507,-157.9987, 4775,     35.5,  23.7020,  35.1133,2,  35.1230,2,    212.1,2,    220.5,3,     1.48,2,     0.00,2,     0.12,2,     35,-999.000,  -999.0, 23.6946
     32MW096_1,  PRS2,     2,  3,     17,     17,2,19980810,0558, 22.7507,-157.9987, 4775,     46.1,  22.8702,  35.1228,2,  35.1180,2,    217.8,2,    221.3,2,     1.48,2,     0.01,2,     0.12,2,     45,-999.000,  -999.0, 22.8608
     32MW096_1,  PRS2,     2,  3,     16,     16,2,19980810,0558, 22.7507,-157.9987, 4775,     60.6,  22.4521,  35.1561,2,  35.1530,2,    214.7,2,    216.7,2,     1.48,2,     0.00,2,     0.13,2,     60,-999.000,  -999.0, 22.4399
     32MW096_1,  PRS2,     2,  3,     15,     15,2,19980810,0558, 22.7507,-157.9987, 4775,     75.1,  22.2872,  35.1612,2,  35.1588,2,    213.7,2,    214.2,2,     1.47,2,     0.00,2,     0.15,2,     75,-999.000,  -999.0, 22.2722
     32MW096_1,  PRS2,     2,  3,     14,     14,2,19980810,0558, 22.7507,-157.9987, 4775,     85.3,  22.1825,  35.1655,2,  35.1650,2,    212.0,2,    213.1,2,     1.49,2,     0.00,2,     0.14,2,     85,-999.000,  -999.0, 22.1655
     32MW096_1,  PRS2,     2,  3,     13,     13,2,19980810,0558, 22.7507,-157.9987, 4775,     95.2,  22.0060,  35.1709,2,  35.1698,2,    210.5,2,    210.4,2,     1.64,2,     0.00,2,     0.14,2,     96,-999.000,  -999.0, 21.9872
     32MW096_1,  PRS2,     2,  3,     12,     12,2,19980810,0558, 22.7507,-157.9987, 4775,    105.6,  21.4546,  35.1782,2,  35.1762,2,    205.5,2,    206.9,2,     1.54,2,     0.10,2,     0.13,2,    105,-999.000,  -999.0, 21.4341
     32MW096_1,  PRS2,     2,  3,     11,     11,2,19980810,0558, 22.7507,-157.9987, 4775,    114.7,  21.1596,  35.1950,2,  35.1902,2,    208.0,2,    208.4,2,     1.60,2,     0.22,2,     0.11,2,    114,-999.000,  -999.0, 21.1376
     32MW096_1,  PRS2,     2,  3,     10,     32,2,19980810,0558, 22.7507,-157.9987, 4775,    125.4,  20.8119,  35.1631,2,  35.1597,2,    204.2,2,    204.7,2,     1.76,2,     0.57,2,     0.14,2,    125,-999.000,  -999.0, 20.7880
     32MW096_1,  PRS2,     2,  3,      9,      3,2,19980810,0558, 22.7507,-157.9987, 4775,    136.3,  20.6133,  35.1357,2,  35.1352,2,    204.8,2,    202.8,2,     1.83,2,     0.74,2,     0.15,2,    137,-999.000,  -999.0, 20.5876
     32MW096_1,  PRS2,     2,  3,      8,     29,2,19980810,0558, 22.7507,-157.9987, 4775,    150.2,  20.4282,  35.1716,2,  35.1688,2,    210.8,2,    209.5,2,     1.79,2,     0.53,2,     0.12,2,    149,-999.000,  -999.0, 20.4000
     32MW096_1,  PRS2,     2,  3,      7,     28,2,19980810,0558, 22.7507,-157.9987, 4775,    159.9,  20.0185,  35.1184,2,  35.1263,2,    204.5,2,    204.7,2,  -999.00,5,  -999.00,5,  -999.00,5,    160,-999.000,  -999.0, 19.9889
     32MW096_1,  PRS2,     2,  3,      6,      7,2,19980810,0558, 22.7507,-157.9987, 4775,    176.0,  19.2788,  34.9986,2,  34.9990,2,    196.7,2,    198.7,2,     2.46,2,     1.81,2,     0.22,2,    176,-999.000,  -999.0, 19.2471
     32MW096_1,  PRS2,     2,  3,      5,     38,2,19980810,0558, 22.7507,-157.9987, 4775,    186.5,  18.8965,  35.0040,2,  34.9927,2,    199.2,2,    202.7,2,  -999.00,5,  -999.00,5,  -999.00,5,    186,-999.000,  -999.0, 18.8634
     32MW096_1,  PRS2,     2,  3,      4,     36,2,19980810,0558, 22.7507,-157.9987, 4775,    199.7,  18.0284,  34.8960,2,  34.8976,2,    204.0,2,    204.0,2,     3.01,2,     2.22,2,     0.24,2,    199,-999.000,  -999.0, 17.9941
     32MW096_1,  PRS2,     2,  3,      3,     35,2,19980810,0558, 22.7507,-157.9987, 4775,    531.0,   6.5557,  34.0151,2,  34.0156,2,    124.9,2,    121.7,2,  -999.00,5,  -999.00,5,  -999.00,5,    531,-999.000,  -999.0,  6.5074
     32MW096_1,  PRS2,     2,  3,      2,     34,2,19980810,0558, 22.7507,-157.9987, 4775,    850.1,   4.0451,  34.3364,2,  34.3353,2,     19.6,2,     19.8,2,  -999.00,5,  -999.00,5,  -999.00,5,    849,-999.000,  -999.0,  3.9817
     32MW096_1,  PRS2,     2,  3,      1,     33,2,19980810,0558, 22.7507,-157.9987, 4775,   1020.5,   3.6905,  34.4810,2,  34.4783,2,     45.5,2,     46.8,2,  -999.00,5,  -999.00,5,  -999.00,5,   1020,-999.000,  -999.0,  3.6156