BOTTLE,20020809WHPSIObren
EXPOCODE,SECT_ID,STNNBR,CASTNO,SAMPNO,BTLNBR,BTLNBR_FLAG_W,DATE,TIME,LATITUDE,LONGITUDE,DEPTH,CTDPRS,CTDTMP,CTDSAL,CTDSAL_FLAG_W,SALNTY,SALNTY_FLAG_W,CTDOXY,CTDOXY_FLAG_W,OXYGEN,OXYGEN_FLAG_W,SILCAT,SILCAT_FLAG_W,NO2+NO3,NO2+NO3_FLAG_W,PHSPHT,PHSPHT_FLAG_W,CTDRAW,REVTMP,REVPRS,THETA
,,,,,,,,,,,,DBAR,ITS-90,PSS-78,,PSS-78,,UMOL/KG,,UMOL/KG,,UMOL/KG,,UMOL/KG,,UMOL/KG,,,DEG C,DBAR,ITS-90
     32MW096_1,  PRS2,     2, 11,     10,     32,2,19980811,0658, 22.7480,-158.0015, 4725,     26.3,  25.3661,  35.1766,2,  35.1773,2,    212.0,1,   -999.0,9,  -999.00,9,  -999.00,9,  -999.00,9,     26,-999.000,  -999.0, 25.3603
     32MW096_1,  PRS2,     2, 11,      5,     38,2,19980811,0658, 22.7480,-158.0015, 4725,    108.5,  21.2082,  35.1462,2,  35.1460,2,    205.3,1,   -999.0,9,  -999.00,9,  -999.00,9,  -999.00,9,    108,-999.000,  -999.0, 21.1872
     32MW096_1,  PRS2,     2, 11,      9,      3,2,19980811,0658, 22.7480,-158.0015, 4725,    108.6,  21.2179,  35.1455,2,  35.1457,2,    206.0,1,   -999.0,9,  -999.00,9,  -999.00,9,  -999.00,9,    108,-999.000,  -999.0, 21.1970
     32MW096_1,  PRS2,     2, 11,      8,     29,2,19980811,0658, 22.7480,-158.0015, 4725,    108.6,  21.2165,  35.1465,2,  35.1456,2,    205.9,1,   -999.0,9,  -999.00,9,  -999.00,9,  -999.00,9,    108,-999.000,  -999.0, 21.1956
     32MW096_1,  PRS2,     2, 11,      6,      7,2,19980811,0658, 22.7480,-158.0015, 4725,    108.6,  21.2127,  35.1461,2,  35.1451,2,    205.5,1,   -999.0,9,  -999.00,9,  -999.00,9,  -999.00,9,    108,-999.000,  -999.0, 21.1917
     32MW096_1,  PRS2,     2, 11,      7,     28,2,19980811,0658, 22.7480,-158.0015, 4725,    108.7,  21.2127,  35.1460,2,  35.1459,2,    205.7,1,   -999.0,9,  -999.00,9,  -999.00,9,  -999.00,9,    108,-999.000,  -999.0, 21.1917
     32MW096_1,  PRS2,     2, 11,      4,     36,2,19980811,0658, 22.7480,-158.0015, 4725,    550.1,   5.9848,  34.0285,2,  34.0280,2,     97.1,1,   -999.0,9,  -999.00,9,  -999.00,9,  -999.00,9,    550,-999.000,  -999.0,  5.9371
     32MW096_1,  PRS2,     2, 11,      3,     35,2,19980811,0658, 22.7480,-158.0015, 4725,    800.6,   4.2433,  34.3012,2,  34.3001,2,     21.1,1,   -999.0,9,  -999.00,9,  -999.00,9,  -999.00,9,    800,-999.000,  -999.0,  4.1827
     32MW096_1,  PRS2,     2, 11,      1,     33,2,19980811,0658, 22.7480,-158.0015, 4725,   1020.9,   3.7268,  34.4692,2,  34.4698,2,     40.7,1,   -999.0,9,  -999.00,9,  -999.00,9,  -999.00,9,   1020,-999.000,  -999.0,  3.6516
     32MW096_1,  PRS2,     2, 11,      2,     34,2,19980811,0658, 22.7480,-158.0015, 4725,   1021.1,   3.7241,  34.4702,2,  34.4703,2,     40.7,1,   -999.0,9,  -999.00,9,  -999.00,9,  -999.00,9,   1020,-999.000,  -999.0,  3.6489
     32MW096_1,  PRS2,     2, 12,     24,     31,2,19980811,0959, 22.7472,-158.0430, 4737,      6.3,  25.3586,  35.1673,2,  35.1676,2,    211.2,1,   -999.0,9,  -999.00,9,  -999.00,9,  -999.00,9,      6,-999.000,  -999.0, 25.3573
     32MW096_1,  PRS2,     2, 12,     23,     30,2,19980811,0959, 22.7472,-158.0430, 4737,      6.6,  25.3567,  35.1655,2,  35.1789,3,    211.3,1,   -999.0,9,  -999.00,9,  -999.00,9,  -999.00,9,      6,-999.000,  -999.0, 25.3552
     32MW096_1,  PRS2,     2, 12,     22,     22,2,19980811,0959, 22.7472,-158.0430, 4737,     15.5,  25.3669,  35.1729,2,  35.1715,2,    211.2,1,   -999.0,9,  -999.00,9,  -999.00,9,  -999.00,9,     16,-999.000,  -999.0, 25.3635
     32MW096_1,  PRS2,     2, 12,     21,     21,2,19980811,0959, 22.7472,-158.0430, 4737,     25.6,  25.1988,  35.1813,2,  35.1804,2,    211.8,1,   -999.0,9,  -999.00,9,  -999.00,9,  -999.00,9,     25,-999.000,  -999.0, 25.1932
     32MW096_1,  PRS2,     2, 12,     20,     20,2,19980811,0959, 22.7472,-158.0430, 4737,     25.6,  25.1985,  35.1814,2,  35.1783,2,    211.8,1,   -999.0,9,  -999.00,9,  -999.00,9,  -999.00,9,     26,-999.000,  -999.0, 25.1929
     32MW096_1,  PRS2,     2, 12,     19,     19,2,19980811,0959, 22.7472,-158.0430, 4737,     25.7,  25.1991,  35.1816,2,  35.1789,2,    211.8,1,   -999.0,9,  -999.00,9,  -999.00,9,  -999.00,9,     27,-999.000,  -999.0, 25.1935
     32MW096_1,  PRS2,     2, 12,     18,     18,2,19980811,0959, 22.7472,-158.0430, 4737,     35.8,  25.0504,  35.1854,2,  35.1875,2,    211.1,1,   -999.0,9,  -999.00,9,  -999.00,9,  -999.00,9,     36,-999.000,  -999.0, 25.0426
     32MW096_1,  PRS2,     2, 12,     16,     16,2,19980811,0959, 22.7472,-158.0430, 4737,     46.2,  22.9836,  35.1220,2,  35.1171,2,    218.1,1,   -999.0,9,  -999.00,9,  -999.00,9,  -999.00,9,     46,-999.000,  -999.0, 22.9742
     32MW096_1,  PRS2,     2, 12,     17,     17,2,19980811,0959, 22.7472,-158.0430, 4737,     46.8,  22.9669,  35.1252,2,  35.1089,3,    217.9,1,   -999.0,9,  -999.00,9,  -999.00,9,  -999.00,9,     46,-999.000,  -999.0, 22.9574
     32MW096_1,  PRS2,     2, 12,     14,     14,2,19980811,0959, 22.7472,-158.0430, 4737,     76.8,  21.9019,  35.1817,2,  35.1777,2,    209.3,1,   -999.0,9,  -999.00,9,  -999.00,9,  -999.00,9,     77,-999.000,  -999.0, 21.8868
     32MW096_1,  PRS2,     2, 12,     15,     15,2,19980811,0959, 22.7472,-158.0430, 4737,     77.0,  21.8804,  35.1827,2,  35.1813,2,    209.4,1,   -999.0,9,  -999.00,9,  -999.00,9,  -999.00,9,     77,-999.000,  -999.0, 21.8652
     32MW096_1,  PRS2,     2, 12,     13,     13,2,19980811,0959, 22.7472,-158.0430, 4737,     90.2,  21.4127,  35.1807,2,  35.1795,2,    206.7,1,   -999.0,9,  -999.00,9,  -999.00,9,  -999.00,9,     90,-999.000,  -999.0, 21.3952
     32MW096_1,  PRS2,     2, 12,     12,     12,2,19980811,0959, 22.7472,-158.0430, 4737,     90.3,  21.4220,  35.1793,2,  35.1791,2,    206.6,1,   -999.0,9,  -999.00,9,  -999.00,9,  -999.00,9,     91,-999.000,  -999.0, 21.4045
     32MW096_1,  PRS2,     2, 12,     10,     32,2,19980811,0959, 22.7472,-158.0430, 4737,     99.8,  21.1784,  35.1852,2,  35.1840,2,    209.4,1,   -999.0,9,  -999.00,9,  -999.00,9,  -999.00,9,     99,-999.000,  -999.0, 21.1591
     32MW096_1,  PRS2,     2, 12,     11,     11,2,19980811,0959, 22.7472,-158.0430, 4737,    100.1,  21.1487,  35.1832,2,  35.1847,2,    209.5,1,   -999.0,9,  -999.00,9,  -999.00,9,  -999.00,9,    100,-999.000,  -999.0, 21.1294
     32MW096_1,  PRS2,     2, 12,      8,     29,2,19980811,0959, 22.7472,-158.0430, 4737,    124.1,  20.2168,  35.1228,2,  35.1341,2,    206.4,1,   -999.0,9,  -999.00,9,  -999.00,9,  -999.00,9,    123,-999.000,  -999.0, 20.1937
     32MW096_1,  PRS2,     2, 12,      9,      3,2,19980811,0959, 22.7472,-158.0430, 4737,    124.2,  20.2115,  35.1229,2,  35.1343,2,    206.3,1,   -999.0,9,  -999.00,9,  -999.00,9,  -999.00,9,    124,-999.000,  -999.0, 20.1884
     32MW096_1,  PRS2,     2, 12,      6,      7,2,19980811,0959, 22.7472,-158.0430, 4737,    153.1,  18.9717,  35.0300,2,  35.0467,2,    205.0,1,   -999.0,9,  -999.00,9,  -999.00,9,  -999.00,9,    153,-999.000,  -999.0, 18.9444
     32MW096_1,  PRS2,     2, 12,      7,     28,2,19980811,0959, 22.7472,-158.0430, 4737,    153.5,  18.9541,  35.0283,2,  35.0381,2,    204.8,1,   -999.0,9,  -999.00,9,  -999.00,9,  -999.00,9,    153,-999.000,  -999.0, 18.9268
     32MW096_1,  PRS2,     2, 12,      4,     36,2,19980811,0959, 22.7472,-158.0430, 4737,    176.4,  18.0714,  34.9036,2,  34.9075,2,    203.1,1,   -999.0,9,  -999.00,9,  -999.00,9,  -999.00,9,    176,-999.000,  -999.0, 18.0410
     32MW096_1,  PRS2,     2, 12,      5,     38,2,19980811,0959, 22.7472,-158.0430, 4737,    176.6,  18.0713,  34.9023,2,  34.9051,2,    203.2,1,   -999.0,9,  -999.00,9,  -999.00,9,  -999.00,9,    178,-999.000,  -999.0, 18.0409
     32MW096_1,  PRS2,     2, 12,      3,     35,2,19980811,0959, 22.7472,-158.0430, 4737,    525.2,   5.9158,  34.0310,2,  34.0298,2,     94.2,1,   -999.0,9,  -999.00,9,  -999.00,9,  -999.00,9,    524,-999.000,  -999.0,  5.8705
     32MW096_1,  PRS2,     2, 12,      2,     34,2,19980811,0959, 22.7472,-158.0430, 4737,    777.5,   4.2519,  34.2883,2,  34.2870,2,     20.6,1,   -999.0,9,  -999.00,9,  -999.00,9,  -999.00,9,    777,-999.000,  -999.0,  4.1931
     32MW096_1,  PRS2,     2, 12,      1,     33,2,19980811,0959, 22.7472,-158.0430, 4737,   1021.5,   3.7266,  34.4789,2,  34.4780,2,     43.4,1,   -999.0,9,  -999.00,9,  -999.00,9,  -999.00,9,   1022,-999.000,  -999.0,  3.6514
     32MW096_1,  PRS2,     2, 13,     24,     31,2,19980811,1359, 22.7515,-158.0005, 4725,      4.9,  25.3258,  35.1868,2,  35.1870,2,    210.1,2,    208.9,2,     1.04,2,     0.00,2,     0.07,2,      5,-999.000,  -999.0, 25.3247
     32MW096_1,  PRS2,     2, 13,     23,     30,2,19980811,1359, 22.7515,-158.0005, 4725,      9.8,  25.3242,  35.1865,2,  35.1878,2,    210.1,2,    208.9,2,     1.08,2,     0.00,2,     0.09,2,      9,-999.000,  -999.0, 25.3220
     32MW096_1,  PRS2,     2, 13,     22,     22,2,19980811,1359, 22.7515,-158.0005, 4725,     43.1,  24.0533,  35.1238,2,  35.1262,2,    214.5,2,    218.8,2,     1.15,2,     0.01,2,     0.08,2,     43,-999.000,  -999.0, 24.0442
     32MW096_1,  PRS2,     2, 13,     21,     21,2,19980811,1359, 22.7515,-158.0005, 4725,     90.3,  21.7046,  35.1763,2,  35.1763,2,    208.1,2,    209.9,2,     1.29,2,     0.01,2,     0.10,2,     89,-999.000,  -999.0, 21.6869
     32MW096_1,  PRS2,     2, 13,     20,     20,2,19980811,1359, 22.7515,-158.0005, 4725,    150.6,  19.9667,  35.2024,2,  35.2106,2,    210.7,2,    211.6,2,     1.85,2,     0.83,2,     0.10,2,    150,-999.000,  -999.0, 19.9389
     32MW096_1,  PRS2,     2, 13,     19,     19,2,19980811,1359, 22.7515,-158.0005, 4725,    155.9,  19.4759,  35.1213,2,  35.1046,2,    206.1,2,    207.0,2,     2.03,2,     1.28,2,     0.14,2,    155,-999.000,  -999.0, 19.4476
     32MW096_1,  PRS2,     2, 13,     18,     18,2,19980811,1359, 22.7515,-158.0005, 4725,    216.4,  16.2076,  34.7232,2,  34.7200,2,    211.4,2,    211.2,2,     4.05,2,     3.49,2,     0.29,2,    216,-999.000,  -999.0, 16.1731
     32MW096_1,  PRS2,     2, 13,     17,     17,2,19980811,1359, 22.7515,-158.0005, 4725,    311.9,  11.6579,  34.2102,2,  34.2193,2,    202.9,2,    200.4,2,    11.27,2,    11.62,2,     0.81,2,    311,-999.000,  -999.0, 11.6181
     32MW096_1,  PRS2,     2, 13,     16,     16,2,19980811,1359, 22.7515,-158.0005, 4725,    348.2,  10.5624,  34.1827,2,  34.1974,3,    209.7,3,    205.9,2,    15.21,2,    13.90,2,     0.95,2,    348,-999.000,  -999.0, 10.5207
     32MW096_1,  PRS2,     2, 13,     15,     15,2,19980811,1359, 22.7515,-158.0005, 4725,    411.6,   8.7433,  34.0703,2,  34.0708,2,    187.6,2,    184.7,2,    25.85,2,    19.90,2,     1.35,2,    412,-999.000,  -999.0,  8.6994
     32MW096_1,  PRS2,     2, 13,     14,     14,2,19980811,1359, 22.7515,-158.0005, 4725,    450.3,   7.9768,  34.0347,2,  34.0382,2,    166.8,2,    165.3,2,    32.40,2,    23.19,2,     1.58,2,    450,-999.000,  -999.0,  7.9312
     32MW096_1,  PRS2,     2, 13,     13,     13,2,19980811,1359, 22.7515,-158.0005, 4725,    478.1,   7.5065,  34.0639,2,  34.0646,2,    131.5,2,    126.6,2,    41.29,2,    27.29,2,     1.94,2,    478,-999.000,  -999.0,  7.4597
     32MW096_1,  PRS2,     2, 13,     12,     12,2,19980811,1359, 22.7515,-158.0005, 4725,    509.5,   6.4568,  34.0171,2,  34.0176,2,    119.1,2,    116.8,2,    51.22,2,    30.43,2,     2.14,2,    509,-999.000,  -999.0,  6.4109
     32MW096_1,  PRS2,     2, 13,     11,     11,2,19980811,1359, 22.7515,-158.0005, 4725,    547.4,   5.8010,  34.0370,2,  34.0380,2,     88.8,2,     83.6,2,    63.73,2,    34.67,2,     2.44,2,    549,-999.000,  -999.0,  5.7542
     32MW096_1,  PRS2,     2, 13,     10,     32,2,19980811,1359, 22.7515,-158.0005, 4725,    592.5,   5.2373,  34.0934,2,  34.0952,2,     55.5,2,     57.4,2,    77.57,2,    38.17,2,     2.74,2,    592,-999.000,  -999.0,  5.1890
     32MW096_1,  PRS2,     2, 13,      9,      3,2,19980811,1359, 22.7515,-158.0005, 4725,    650.0,   4.7662,  34.1687,2,  34.1690,2,     36.0,2,     34.8,2,    89.65,2,    40.44,2,     2.90,2,    649,-999.000,  -999.0,  4.7152
     32MW096_1,  PRS2,     2, 13,      8,     29,2,19980811,1359, 22.7515,-158.0005, 4725,    699.9,   4.5098,  34.2303,2,  34.2338,2,     27.4,2,     25.8,2,    97.75,2,    41.72,2,     2.99,2,    700,-999.000,  -999.0,  4.4560
     32MW096_1,  PRS2,     2, 13,      7,     28,2,19980811,1359, 22.7515,-158.0005, 4725,    730.7,   4.3703,  34.2629,2,  34.2607,2,     22.7,2,     21.8,2,   102.38,2,    42.10,2,     3.03,2,    730,-999.000,  -999.0,  4.3147
     32MW096_1,  PRS2,     2, 13,      6,      7,2,19980811,1359, 22.7515,-158.0005, 4725,    800.4,   4.1651,  34.3359,2,  34.3417,2,     22.6,2,     26.6,2,   104.88,2,    41.62,2,     2.98,2,    801,-999.000,  -999.0,  4.1049
     32MW096_1,  PRS2,     2, 13,      5,     38,2,19980811,1359, 22.7515,-158.0005, 4725,    825.5,   4.0435,  34.3481,2,  34.3479,2,     24.7,2,     21.6,2,   110.94,2,    42.31,2,     3.08,2,    825,-999.000,  -999.0,  3.9821
     32MW096_1,  PRS2,     2, 13,      4,     36,2,19980811,1359, 22.7515,-158.0005, 4725,    870.5,   3.9344,  34.3873,2,  34.3874,2,     21.2,2,     21.4,2,   114.07,2,    42.54,2,     3.06,2,    871,-999.000,  -999.0,  3.8700
     32MW096_1,  PRS2,     2, 13,      3,     35,2,19980811,1359, 22.7515,-158.0005, 4725,    901.0,   3.8871,  34.4111,2,  34.4130,2,     23.9,2,     23.7,2,   114.66,2,    42.51,2,     3.09,2,    901,-999.000,  -999.0,  3.8205
     32MW096_1,  PRS2,     2, 13,      2,     34,2,19980811,1359, 22.7515,-158.0005, 4725,    961.6,   3.7963,  34.4454,2,  34.4470,2,     29.3,2,     30.5,2,   116.24,2,    42.56,2,     3.07,2,    960,-999.000,  -999.0,  3.7254
     32MW096_1,  PRS2,     2, 13,      1,     33,2,19980811,1359, 22.7515,-158.0005, 4725,   1020.2,   3.7044,  34.4704,2,  34.4720,2,     39.2,2,     39.3,2,   117.07,2,    42.00,2,     3.02,2,   1020,-999.000,  -999.0,  3.6294
     32MW096_1,  PRS2,     2, 14,     24,     31,2,19980811,1758, 22.7492,-157.9973, 4725,      5.8,  25.3773,  35.2042,2,  35.2059,2,    208.4,2,    208.0,2,     1.25,2,     0.00,2,     0.09,2,      6,-999.000,  -999.0, 25.3760
     32MW096_1,  PRS2,     2, 14,     23,     30,2,19980811,1758, 22.7492,-157.9973, 4725,    519.8,   6.4811,  34.0238,2,  34.0232,2,    118.4,2,    110.6,2,    52.03,2,    30.56,2,     2.13,2,    519,-999.000,  -999.0,  6.4342
     32MW096_1,  PRS2,     2, 14,     22,     22,2,19980811,1758, 22.7492,-157.9973, 4725,    814.5,   4.1987,  34.3186,2,  34.3174,2,     20.7,2,     21.0,2,   106.11,2,    42.06,2,     2.99,2,    814,-999.000,  -999.0,  4.1372
     32MW096_1,  PRS2,     2, 14,     21,     21,2,19980811,1758, 22.7492,-157.9973, 4725,   1000.9,   3.7072,  34.4741,2,  34.4754,2,     40.7,2,     38.9,2,   116.74,2,    41.81,2,     2.97,2,   1000,-999.000,  -999.0,  3.6338
     32MW096_1,  PRS2,     2, 14,     20,     20,2,19980811,1758, 22.7492,-157.9973, 4725,   1200.9,   3.2842,  34.5303,2,  34.5316,2,     53.3,2,     53.7,2,   124.43,2,    41.23,2,     2.93,2,   1200,-999.000,  -999.0,  3.1981
     32MW096_1,  PRS2,     2, 14,     19,     19,2,19980811,1758, 22.7492,-157.9973, 4725,   1400.9,   2.9190,  34.5672,2,  34.5671,2,     65.1,2,     64.4,2,   132.46,2,    40.85,2,     2.90,2,   1400,-999.000,  -999.0,  2.8202
     32MW096_1,  PRS2,     2, 14,     18,     18,2,19980811,1758, 22.7492,-157.9973, 4725,   1599.8,   2.5543,  34.5924,2,  34.5937,2,     73.4,2,     73.7,2,   140.75,2,    40.54,2,     2.85,2,   1600,-999.000,  -999.0,  2.4434
     32MW096_1,  PRS2,     2, 14,     17,     17,2,19980811,1758, 22.7492,-157.9973, 4725,   1799.5,   2.2564,  34.6100,2,  34.6087,2,     82.0,2,     82.4,2,   147.54,2,    39.86,2,     2.82,2,   1799,-999.000,  -999.0,  2.1330
     32MW096_1,  PRS2,     2, 14,     16,     16,2,19980811,1758, 22.7492,-157.9973, 4725,   1999.8,   2.0412,  34.6285,2,  34.6298,2,     91.7,2,     92.9,2,   151.63,2,    39.29,2,     2.77,2,   2000,-999.000,  -999.0,  1.9042
     32MW096_1,  PRS2,     2, 14,     15,     15,2,19980811,1758, 22.7492,-157.9973, 4725,   2200.2,   1.8864,  34.6389,2,  34.6392,2,     98.8,2,     99.4,2,   155.00,2,    38.99,2,     2.75,2,   2199,-999.000,  -999.0,  1.7348
     32MW096_1,  PRS2,     2, 14,     14,     14,2,19980811,1758, 22.7492,-157.9973, 4725,   2400.5,   1.7523,  34.6512,2,  34.6509,2,    106.7,2,    107.7,2,   156.18,2,    38.32,2,     2.71,2,   2400,-999.000,  -999.0,  1.5855
     32MW096_1,  PRS2,     2, 14,     13,     13,2,19980811,1758, 22.7492,-157.9973, 4725,   2599.7,   1.6638,  34.6593,2,  34.6589,2,    113.2,2,    115.2,2,   156.85,2,    38.10,2,     2.67,2,   2599,-999.000,  -999.0,  1.4808
     32MW096_1,  PRS2,     2, 14,     12,     12,2,19980811,1758, 22.7492,-157.9973, 4725,   2800.2,   1.5987,  34.6656,2,  34.6653,2,    119.0,2,    118.9,2,   158.40,2,    37.86,2,     2.65,2,   2799,-999.000,  -999.0,  1.3986
     32MW096_1,  PRS2,     2, 14,     11,     11,2,19980811,1758, 22.7492,-157.9973, 4725,   3000.2,   1.5384,  34.6722,2,  34.6720,2,    124.9,2,    125.7,2,   158.52,2,    37.45,2,     2.62,2,   3000,-999.000,  -999.0,  1.3208
     32MW096_1,  PRS2,     2, 14,     10,     32,2,19980811,1758, 22.7492,-157.9973, 4725,   3200.4,   1.4931,  34.6778,2,  34.6788,2,    131.9,2,    133.3,2,   156.84,2,    37.02,2,     2.58,2,   3200,-999.000,  -999.0,  1.2571
     32MW096_1,  PRS2,     2, 14,      9,      3,2,19980811,1758, 22.7492,-157.9973, 4725,   3400.7,   1.4691,  34.6815,2,  34.6812,2,    136.9,2,    137.1,2,   155.72,2,    36.57,2,     2.57,2,   3400,-999.000,  -999.0,  1.2138
     32MW096_1,  PRS2,     2, 14,      8,     29,2,19980811,1758, 22.7492,-157.9973, 4725,   3600.6,   1.4499,  34.6851,2,  34.6866,2,    142.6,2,    142.5,2,   153.28,2,    36.23,2,     2.53,2,   3600,-999.000,  -999.0,  1.1747
     32MW096_1,  PRS2,     2, 14,      7,     28,2,19980811,1758, 22.7492,-157.9973, 4725,   3800.5,   1.4448,  34.6874,2,  34.6870,2,    146.5,2,    146.0,2,   152.02,2,    36.04,2,     2.51,2,   3800,-999.000,  -999.0,  1.1488
     32MW096_1,  PRS2,     2, 14,      6,      7,2,19980811,1758, 22.7492,-157.9973, 4725,   4001.0,   1.4475,  34.6891,2,  34.6891,2,    149.4,2,    149.0,2,   151.03,2,    35.89,2,     2.50,2,   4000,-999.000,  -999.0,  1.1300
     32MW096_1,  PRS2,     2, 14,      5,     38,2,19980811,1758, 22.7492,-157.9973, 4725,   4201.7,   1.4594,  34.6899,2,  34.6902,2,    151.2,2,    150.3,2,   149.54,2,    35.75,2,     2.49,2,   4200,-999.000,  -999.0,  1.1194
     32MW096_1,  PRS2,     2, 14,      4,     36,2,19980811,1758, 22.7492,-157.9973, 4725,   4401.6,   1.4756,  34.6905,2,  34.6913,2,    152.8,2,    151.5,2,   149.58,2,    35.72,2,     2.47,2,   4401,-999.000,  -999.0,  1.1126
     32MW096_1,  PRS2,     2, 14,      3,     35,2,19980811,1758, 22.7492,-157.9973, 4725,   4501.4,   1.4853,  34.6907,2,  34.6906,2,    153.0,2,    152.5,2,   149.10,2,    35.72,2,     2.47,2,   4501,-999.000,  -999.0,  1.1106
     32MW096_1,  PRS2,     2, 14,      2,     34,2,19980811,1758, 22.7492,-157.9973, 4725,   4600.5,   1.4945,  34.6909,2,  34.6910,2,    153.7,2,    154.3,2,   149.20,2,    35.76,2,     2.49,3,   4600,-999.000,  -999.0,  1.1080
     32MW096_1,  PRS2,     2, 14,      1,     33,2,19980811,1758, 22.7492,-157.9973, 4725,   4802.9,   1.5179,  34.6910,2,  34.6929,2,    154.0,2,   -999.0,5,   148.30,2,    35.83,2,     2.47,2,   4802,-999.000,  -999.0,  1.1068