BOTTLE,20020809WHPSIObren
EXPOCODE,SECT_ID,STNNBR,CASTNO,SAMPNO,BTLNBR,BTLNBR_FLAG_W,DATE,TIME,LATITUDE,LONGITUDE,DEPTH,CTDPRS,CTDTMP,CTDSAL,CTDSAL_FLAG_W,SALNTY,SALNTY_FLAG_W,CTDOXY,CTDOXY_FLAG_W,OXYGEN,OXYGEN_FLAG_W,SILCAT,SILCAT_FLAG_W,NO2+NO3,NO2+NO3_FLAG_W,PHSPHT,PHSPHT_FLAG_W,CTDRAW,REVTMP,REVPRS,THETA
,,,,,,,,,,,,DBAR,ITS-90,PSS-78,,PSS-78,,UMOL/KG,,UMOL/KG,,UMOL/KG,,UMOL/KG,,UMOL/KG,,,DEG C,DBAR,ITS-90
     32MW096_1,  PRS2,     8,  1,     13,     13,2,19980809,1830, 22.3865,-158.0900, 4850,      4.9,  25.4193,  35.3073,2,  35.3095,2,    207.1,2,    207.8,2,  -999.00,9,  -999.00,9,  -999.00,9,      4,-999.000,  -999.0, 25.4182
     32MW096_1,  PRS2,     8,  1,     12,     12,2,19980809,1830, 22.3865,-158.0900, 4850,      4.9,  25.4206,  35.3072,2,  35.3063,2,    207.1,2,    207.6,2,  -999.00,9,  -999.00,9,  -999.00,9,      5,-999.000,  -999.0, 25.4195
     32MW096_1,  PRS2,     8,  1,     11,     11,2,19980809,1830, 22.3865,-158.0900, 4850,     25.9,  25.4010,  35.3073,2,  35.3126,2,    208.2,2,    207.7,2,  -999.00,9,  -999.00,9,  -999.00,9,     26,-999.000,  -999.0, 25.3953
     32MW096_1,  PRS2,     8,  1,     10,     32,2,19980809,1830, 22.3865,-158.0900, 4850,     45.6,  24.2729,  35.4395,2,  35.4364,2,    215.4,2,    216.6,2,  -999.00,9,  -999.00,9,  -999.00,9,     46,-999.000,  -999.0, 24.2633
     32MW096_1,  PRS2,     8,  1,      9,      3,2,19980809,1830, 22.3865,-158.0900, 4850,     75.5,  22.5468,  35.3207,2,  35.3218,2,    226.2,2,    225.2,2,  -999.00,9,  -999.00,9,  -999.00,9,     75,-999.000,  -999.0, 22.5316
     32MW096_1,  PRS2,     8,  1,      8,     29,2,19980809,1830, 22.3865,-158.0900, 4850,    100.1,  21.4431,  35.2526,2,  35.2529,2,    219.1,2,    219.5,2,  -999.00,9,  -999.00,9,  -999.00,9,    101,-999.000,  -999.0, 21.4237
     32MW096_1,  PRS2,     8,  1,      7,     28,2,19980809,1830, 22.3865,-158.0900, 4850,    124.7,  20.0434,  35.1511,2,  35.1527,2,    215.0,2,    212.8,2,  -999.00,9,  -999.00,9,  -999.00,9,    125,-999.000,  -999.0, 20.0203
     32MW096_1,  PRS2,     8,  1,      6,      7,2,19980809,1830, 22.3865,-158.0900, 4850,    150.7,  18.9222,  35.0404,2,  35.0413,2,    206.4,2,    206.1,2,  -999.00,9,  -999.00,9,  -999.00,9,    151,-999.000,  -999.0, 18.8954
     32MW096_1,  PRS2,     8,  1,      5,     38,2,19980809,1830, 22.3865,-158.0900, 4850,    176.2,  18.2577,  34.9631,2,  34.9690,2,    208.0,2,    207.2,2,  -999.00,9,  -999.00,9,  -999.00,9,    176,-999.000,  -999.0, 18.2272
     32MW096_1,  PRS2,     8,  1,      4,     36,2,19980809,1830, 22.3865,-158.0900, 4850,    250.7,  13.8116,  34.3943,2,  34.3983,2,    195.7,2,    198.5,2,  -999.00,9,  -999.00,9,  -999.00,9,    251,-999.000,  -999.0, 13.7759
     32MW096_1,  PRS2,     8,  1,      3,     35,2,19980809,1830, 22.3865,-158.0900, 4850,    499.8,   6.6266,  34.0748,2,  34.0731,2,     95.2,2,     93.4,2,  -999.00,9,  -999.00,9,  -999.00,9,    500,-999.000,  -999.0,  6.5809
     32MW096_1,  PRS2,     8,  1,      2,     34,2,19980809,1830, 22.3865,-158.0900, 4850,    750.2,   4.8780,  34.3638,2,  34.3617,2,     31.5,2,     31.2,2,  -999.00,9,  -999.00,9,  -999.00,9,    750,-999.000,  -999.0,  4.8178
     32MW096_1,  PRS2,     8,  1,      1,     33,2,19980809,1830, 22.3865,-158.0900, 4850,   1021.0,   3.9335,  34.4993,2,  34.4975,2,     44.3,2,     45.5,2,  -999.00,9,  -999.00,9,  -999.00,9,   1021,-999.000,  -999.0,  3.8566