BOTTLE,20110114CCHDOSIODM
EXPOCODE,SECT_ID,STNNBR,CASTNO,SAMPNO,BTLNBR,BTLNBR_FLAG_W,DATE,TIME,LATITUDE,LONGITUDE,DEPTH,CTDRAW,CTDPRS,CTDTMP,CTDSAL,CTDSAL_FLAG_W,SALNTY,SALNTY_FLAG_W,CTDOXY,CTDOXY_FLAG_W,OXYGEN,OXYGEN_FLAG_W,SILCAT,SILCAT_FLAG_W,NITRAT,NITRAT_FLAG_W,NITRIT,NITRIT_FLAG_W,PHSPHT,PHSPHT_FLAG_W,CFC-11,CFC-11_FLAG_W,CFC-12,CFC-12_FLAG_W,TCARBN,TCARBN_FLAG_W,ALKALI,ALKALI_FLAG_W,PCO2,PCO2_FLAG_W,THETA,REVPRS,REVPRS_FLAG_W,REVTMP,REVTMP_FLAG_W
,,,,,,,,,,,METERS,DBAR,DBAR,ITS-68,PSS-78,,PSS-78,,UMOL/KG,,UMOL/KG,,UMOL/KG,,UMOL/KG,,UMOL/KG,,UMOL/KG,,PMOL/KG,,PMOL/KG,,UMOL/KG,,UMOL/KG,,UATM,,DEG C,DBAR,,ITS-68,
316N19871218, SAVE2, 59, 1, 13, 13, 2, 19871229, 0412, -10.2850, 12.1667, 1860,  -999.00,      3.1,  26.2782,  36.0276, 2,  36.0300, 2,   -999.0, 9,    213.3, 2,     0.78, 2,     0.10, 2,     0.00, 2,     0.18, 2,    1.485, 2,    0.774, 2,   2031.2, 2,   -999.0, 9,   -999.0, 9,  26.2775,   -999.0, 9, -999.000, 9
316N19871218, SAVE2, 59, 1, 14, 14, 2, 19871229, 0412, -10.2850, 12.1667, 1860,  -999.00,     16.0,  26.1460,  36.0196, 2,  36.0210, 2,   -999.0, 9,    214.6, 2,     0.68, 2,     0.10, 2,     0.00, 2,     0.18, 2, -999.000, 9, -999.000, 9,   2034.1, 2,   -999.0, 9,   -999.0, 9,  26.1424,   -999.0, 9, -999.000, 9
316N19871218, SAVE2, 59, 1, 15, 15, 2, 19871229, 0412, -10.2850, 12.1667, 1860,  -999.00,     22.4,  24.8307,  35.8903, 2,  35.9310, 2,   -999.0, 9,    228.1, 2,     0.49, 2,     0.10, 2,     0.00, 2,     0.19, 2,    1.502, 2,    0.760, 2,   -999.0, 9,   -999.0, 9,   -999.0, 9,  24.8259,   -999.0, 9, -999.000, 9
316N19871218, SAVE2, 59, 1, 16, 16, 2, 19871229, 0412, -10.2850, 12.1667, 1860,  -999.00,     32.5,  20.6968,  35.8211, 2,  35.8100, 2,   -999.0, 9,    288.4, 2,     0.78, 2,     0.10, 2,     0.02, 2,     0.27, 2,    1.348, 2,    0.682, 2,   -999.0, 9,   -999.0, 9,   -999.0, 9,  20.6906,   -999.0, 9, -999.000, 9
316N19871218, SAVE2, 59, 1, 17, 17, 2, 19871229, 0412, -10.2850, 12.1667, 1860,  -999.00,     51.9,  16.6748,  35.6980, 2,  35.6950, 2,   -999.0, 9,     74.4, 2,     6.84, 2,    20.02, 2,     0.20, 2,     1.43, 2,    1.441, 2, -999.000, 9,   -999.0, 9,   -999.0, 9,   -999.0, 9,  16.6663,   -999.0, 9, -999.000, 9
316N19871218, SAVE2, 59, 1, 18, 18, 2, 19871229, 0412, -10.2850, 12.1667, 1860,  -999.00,     68.2,  15.9118,  35.6183, 2,  35.6150, 2,   -999.0, 9,     68.3, 2,     7.33, 2,    22.37, 2,     0.05, 2,     1.51, 2,    0.971, 2,    0.474, 2,   -999.0, 9,   -999.0, 9,   -999.0, 9,  15.9011,   -999.0, 9, -999.000, 9
316N19871218, SAVE2, 59, 1, 19, 19, 2, 19871229, 0412, -10.2850, 12.1667, 1860,  -999.00,     87.3,  15.5836,  35.5922, 2,  35.5970, 2,   -999.0, 9,     64.8, 2,     8.40, 2,    23.15, 2,     0.02, 2,     1.56, 2,    0.858, 2,    0.421, 2,   -999.0, 9,   -999.0, 9,   -999.0, 9,  15.5700,   -999.0, 9, -999.000, 9
316N19871218, SAVE2, 59, 1, 20, 20, 2, 19871229, 0412, -10.2850, 12.1667, 1860,  -999.00,    137.5,  14.6749,  35.4826, 2,  35.4700, 2,   -999.0, 9,     49.6, 2,     9.28, 2,    26.47, 2,     0.01, 2,     1.73, 2, -999.000, 9, -999.000, 9,   -999.0, 9,   -999.0, 9,   -999.0, 9,  14.6543,   -999.0, 9, -999.000, 9
316N19871218, SAVE2, 59, 1, 21, 21, 2, 19871229, 0412, -10.2850, 12.1667, 1860,  -999.00,    192.2,  13.3604,  35.3243, 2,  35.3420, 2,   -999.0, 9,     45.2, 2,    10.75, 2,    28.33, 2,     0.01, 2,     1.86, 2,    0.514, 2,    0.264, 2,   -999.0, 9,   -999.0, 9,   -999.0, 9,  13.3335,   -999.0, 9, -999.000, 9
316N19871218, SAVE2, 59, 1, 22, 22, 2, 19871229, 0412, -10.2850, 12.1667, 1860,  -999.00,    278.1,  10.8356,  35.0270, 2,  35.0250, 2,   -999.0, 9,     25.7, 2,    14.76, 2,    34.98, 2,     0.00, 2,     2.23, 2,    0.140, 2,    0.074, 2,   -999.0, 9,   -999.0, 9,   -999.0, 9,  10.8015,   -999.0, 9, -999.000, 9
316N19871218, SAVE2, 59, 1, 23, 23, 2, 19871229, 0412, -10.2850, 12.1667, 1860,  -999.00,    342.1,   9.9964,  34.9343, 2,  34.9270, 2,   -999.0, 9,     21.7, 2,    17.20, 2,    37.23, 2,     0.00, 2,     2.36, 2,    0.087, 2,    0.048, 2,   -999.0, 9,   -999.0, 9,   -999.0, 9,   9.9565,   -999.0, 9, -999.000, 9
316N19871218, SAVE2, 59, 1, 24, 24, 2, 19871229, 0412, -10.2850, 12.1667, 1860,  -999.00,    412.4,   8.6335,  34.7935, 2,  34.7910, 2,   -999.0, 9,     24.4, 2,    20.62, 2,    39.48, 2,     0.00, 2,     2.54, 2,    0.034, 2,    0.011, 2,   -999.0, 9,   -999.0, 9,   -999.0, 9,   8.5894,   -999.0, 9, -999.000, 9
316N19871218, SAVE2, 59, 1, 25, 25, 2, 19871229, 0412, -10.2850, 12.1667, 1860,  -999.00,    479.5,   7.4068,  34.6758, 2,  34.6760, 2,   -999.0, 9,     34.8, 2,    23.46, 2,    41.35, 2,     0.00, 2,     2.66, 2, -999.000, 9, -999.000, 9,   -999.0, 9,   -999.0, 9,   -999.0, 9,   7.3598,   -999.0, 9, -999.000, 9
316N19871218, SAVE2, 59, 1, 26, 26, 2, 19871229, 0412, -10.2850, 12.1667, 1860,  -999.00,    598.8,   6.1283,  34.5719, 2,  34.5730, 2,   -999.0, 9,     60.4, 2,    27.57, 2,    41.54, 2,     0.00, 2,     2.69, 2,    0.020, 2,    0.009, 2,   -999.0, 9,   -999.0, 9,   -999.0, 9,   6.0749,   -999.0, 9, -999.000, 9
316N19871218, SAVE2, 59, 1, 27, 27, 2, 19871229, 0412, -10.2850, 12.1667, 1860,  -999.00,    734.9,   4.9841,  34.5157, 2,  34.5130, 2,   -999.0, 9,    102.2, 2,    32.85, 2,    39.20, 2,     0.00, 2,     2.60, 2,    0.009, 2,    0.003, 2,   -999.0, 9,   -999.0, 9,   -999.0, 9,   4.9243,   -999.0, 9, -999.000, 9
316N19871218, SAVE2, 59, 1, 28, 28, 2, 19871229, 0412, -10.2850, 12.1667, 1860,  -999.00,    795.9,   4.6663,  34.5106, 2,  34.5120, 2,   -999.0, 9,    113.0, 2,    35.00, 2,    38.52, 2,     0.00, 2,     2.57, 2,    0.009, 2, -999.000, 9,   -999.0, 9,   -999.0, 9,   -999.0, 9,   4.6032,   -999.0, 9, -999.000, 9
316N19871218, SAVE2, 59, 1, 29, 29, 2, 19871229, 0412, -10.2850, 12.1667, 1860,  -999.00,    885.3,   4.4159,  34.5470, 2,  34.5470, 2,   -999.0, 9,    130.4, 2,    35.68, 2,    36.46, 2,     0.00, 2,     2.48, 2,    0.009, 2,    0.001, 2,   -999.0, 9,   -999.0, 9,   -999.0, 9,   4.3467,   -999.0, 9, -999.000, 9
316N19871218, SAVE2, 59, 1, 30, 30, 2, 19871229, 0412, -10.2850, 12.1667, 1860,  -999.00,   1000.8,   4.2263,  34.5979, 2,  34.5970, 2,   -999.0, 9,    140.4, 2,    36.36, 2,    34.99, 2,     0.00, 2,     2.40, 2, -999.000, 9, -999.000, 9,   -999.0, 9,   -999.0, 9,   -999.0, 9,   4.1487,   -999.0, 9, -999.000, 9
316N19871218, SAVE2, 59, 1, 31, 31, 2, 19871229, 0412, -10.2850, 12.1667, 1860,  -999.00,   1095.7,   4.1014,  34.6565, 2,  34.6540, 2,   -999.0, 9,    149.9, 2,    35.48, 2,    33.43, 2,     0.00, 2,     2.28, 2,    0.001, 2, -999.000, 9,   -999.0, 9,   -999.0, 9,   -999.0, 9,   4.0166,   -999.0, 9, -999.000, 9
316N19871218, SAVE2, 59, 1, 32, 32, 2, 19871229, 0412, -10.2850, 12.1667, 1860,  -999.00,   1231.3,   4.0417,  34.7579, 2,  34.7570, 2,   -999.0, 9,    168.6, 2,    32.64, 2,    30.40, 2,     0.00, 2,     2.09, 2, -999.000, 9,    0.001, 2,   -999.0, 9,   -999.0, 9,   -999.0, 9,   3.9455,   -999.0, 9, -999.000, 9
316N19871218, SAVE2, 59, 1, 33, 33, 2, 19871229, 0412, -10.2850, 12.1667, 1860,  -999.00,   1356.7,   3.9375,  34.8378, 2,  34.8380, 2,   -999.0, 9,    189.0, 2,    29.22, 2,    27.66, 2,     0.00, 2,     1.89, 2, -999.000, 9,    0.003, 2,   -999.0, 9,   -999.0, 9,   -999.0, 9,   3.8311,   -999.0, 9, -999.000, 9
316N19871218, SAVE2, 59, 1, 34, 34, 2, 19871229, 0412, -10.2850, 12.1667, 1860,  -999.00,   1572.9,   3.7718,  34.9122, 2,  34.9130, 2,   -999.0, 9,    212.5, 2,    27.17, 2,    24.33, 2,     0.00, 2,     1.64, 2, -999.000, 9, -999.000, 9,   -999.0, 9,   -999.0, 9,   -999.0, 9,   3.6478,   -999.0, 9, -999.000, 9
316N19871218, SAVE2, 59, 1, 35, 35, 2, 19871229, 0412, -10.2850, 12.1667, 1860,  -999.00,   1785.4,   3.6178,  34.9317, 2,  34.9320, 2,   -999.0, 9,    222.9, 2,    27.17, 2,    23.16, 2,     0.00, 2,     1.56, 2,    0.002, 2,    0.007, 2,   -999.0, 9,   -999.0, 9,   -999.0, 9,   3.4762,   1784.1, 2,    3.619, 2
316N19871218, SAVE2, 59, 1, 36, 36, 2, 19871229, 0412, -10.2850, 12.1667, 1860,  -999.00,   1860.7,   3.5477,  34.9309, 2,  34.9320, 2,   -999.0, 9,    220.3, 2,    28.54, 2,    23.16, 2,     0.01, 2,     1.56, 2, -999.000, 9,    0.005, 2,   2198.0, 2,   -999.0, 9,   -999.0, 9,   3.4001,   -999.0, 9, -999.000, 9
316N19871218, SAVE2, 60, 1, 13, 13, 2, 19871229, 0931, -10.4033, 11.6717, 2213,  -999.00,      1.6,  26.9164,  35.9649, 2,  35.9650, 2,   -999.0, 9,    206.8, 2,     0.98, 2,     0.20, 2,     0.00, 2,     0.15, 2,    1.453, 2,    0.777, 2,   2031.7, 2,   -999.0, 9,   -999.0, 9,  26.9160,   -999.0, 9, -999.000, 9
316N19871218, SAVE2, 60, 1, 14, 14, 2, 19871229, 0931, -10.4033, 11.6717, 2213,  -999.00,     15.8,  26.6183,  35.9955, 2,  35.9890, 2,   -999.0, 9,    209.4, 2,     0.88, 2,     0.20, 2,     0.00, 2,     0.17, 2, -999.000, 9, -999.000, 9,   2030.9, 2,   -999.0, 9,   -999.0, 9,  26.6147,   -999.0, 9, -999.000, 9
316N19871218, SAVE2, 60, 1, 15, 15, 2, 19871229, 0931, -10.4033, 11.6717, 2213,  -999.00,     30.1,  21.8939,  35.7735, 2,  35.7830, 2,   -999.0, 9,    238.8, 2,     1.27, 2,     0.20, 2,     0.00, 2,     0.26, 2,    1.312, 2,    0.709, 2,   2047.5, 2,   -999.0, 9,   -999.0, 9,  21.8880,   -999.0, 9, -999.000, 9
316N19871218, SAVE2, 60, 1, 16, 16, 2, 19871229, 0931, -10.4033, 11.6717, 2213,  -999.00,     37.6,  20.0310,  35.8134, 2,  35.7930, 2,   -999.0, 9,    278.7, 2,     2.15, 2,     0.49, 2,     0.07, 2,     0.30, 2,    1.210, 2,    0.659, 2,   2035.3, 2,   -999.0, 9,   -999.0, 9,  20.0240,   -999.0, 9, -999.000, 9
316N19871218, SAVE2, 60, 1, 17, 17, 2, 19871229, 0931, -10.4033, 11.6717, 2213,  -999.00,     50.9,  17.2782,  35.7745, 2,  35.7750, 2,   -999.0, 9,     84.9, 2,     6.45, 2,    17.77, 2,     0.03, 2,     1.29, 2,    1.102, 2,    0.549, 2,   2188.5, 2,   -999.0, 9,   -999.0, 9,  17.2697,   -999.0, 9, -999.000, 9
316N19871218, SAVE2, 60, 1, 18, 18, 2, 19871229, 0931, -10.4033, 11.6717, 2213,  -999.00,     61.3,  16.2274,  35.6553, 2,  35.6620, 2,   -999.0, 9,     77.9, 2,     7.03, 2,    20.61, 2,     0.02, 2,     1.45, 2,    0.977, 2,    0.519, 2,   2198.6, 2,   -999.0, 9,   -999.0, 9,  16.2176,   -999.0, 9, -999.000, 9
316N19871218, SAVE2, 60, 1, 19, 19, 2, 19871229, 0931, -10.4033, 11.6717, 2213,  -999.00,    109.6,  15.0956,  35.5300, 2,  35.5350, 2,   -999.0, 9,     54.4, 2,     8.60, 2,    24.91, 2,     0.01, 2,     1.64, 2,    0.780, 2,    0.393, 2,   2214.5, 2,   -999.0, 9,   -999.0, 9,  15.0789,   -999.0, 9, -999.000, 9
316N19871218, SAVE2, 60, 1, 20, 20, 2, 19871229, 0931, -10.4033, 11.6717, 2213,  -999.00,    173.8,  14.0068,  35.4043, 2,  35.4020, 2,   -999.0, 9,     49.2, 2,     9.96, 2,    27.06, 2,     0.01, 2,     1.76, 2,    0.584, 2,    0.297, 2,   2222.4, 2,   -999.0, 9,   -999.0, 9,  13.9816,   -999.0, 9, -999.000, 9
316N19871218, SAVE2, 60, 1, 21, 21, 2, 19871229, 0931, -10.4033, 11.6717, 2213,  -999.00,    244.2,  12.3372,  35.2035, 2,  35.2010, 2,   -999.0, 9,     41.3, 2,    11.72, 2,    30.48, 2,     0.01, 2,     1.94, 2,    0.347, 2,    0.181, 2,   2236.0, 2,   -999.0, 9,   -999.0, 9,  12.3046,   -999.0, 9, -999.000, 9
316N19871218, SAVE2, 60, 1, 22, 22, 2, 19871229, 0931, -10.4033, 11.6717, 2213,  -999.00,    297.1,  11.0786,  35.0571, 2,  35.0560, 2,   -999.0, 9,     28.7, 2,    14.75, 2,    34.20, 2,     0.01, 2,     2.17, 2,    0.203, 2,    0.105, 2,   2253.5, 2,   -999.0, 9,   -999.0, 9,  11.0416,   -999.0, 9, -999.000, 9
316N19871218, SAVE2, 60, 1, 23, 23, 2, 19871229, 0931, -10.4033, 11.6717, 2213,  -999.00,    369.4,   9.2052,  34.8535, 2,  34.8520, 2,   -999.0, 9,     21.7, 2,    19.16, 2,    38.31, 2,     0.01, 2,     2.42, 2,    0.040, 2,    0.019, 2,   2271.7, 2,   -999.0, 9,   -999.0, 9,   9.1642,   -999.0, 9, -999.000, 9
316N19871218, SAVE2, 60, 1, 24, 24, 2, 19871229, 0931, -10.4033, 11.6717, 2213,  -999.00,    474.1,   7.5629,  34.6947, 2,  34.6940, 2,   -999.0, 9,     35.7, 2,    23.07, 2,    40.56, 2,     0.01, 2,     2.59, 2, -999.000, 9, -999.000, 9,   2270.5, 2,   -999.0, 9,   -999.0, 9,   7.5158,   -999.0, 9, -999.000, 9
316N19871218, SAVE2, 60, 1, 25, 25, 2, 19871229, 0931, -10.4033, 11.6717, 2213,  -999.00,    571.7,   6.3324,  34.5895, 2,  34.5900, 2,   -999.0, 9,     54.8, 2,    26.69, 2,    41.25, 2,     0.01, 2,     2.66, 2,    0.010, 2,    0.002, 2,   -999.0, 9,   -999.0, 9,   -999.0, 9,   6.2807,   -999.0, 9, -999.000, 9
316N19871218, SAVE2, 60, 1, 26, 26, 2, 19871229, 0931, -10.4033, 11.6717, 2213,  -999.00,    659.6,   5.5738,  34.5377, 2,  34.5370, 2,   -999.0, 9,     79.6, 2,    29.62, 2,    40.18, 2,     0.01, 2,     2.62, 2,    0.006, 2,    0.002, 2,   2260.8, 2,   -999.0, 9,   -999.0, 9,   5.5175,   -999.0, 9, -999.000, 9
316N19871218, SAVE2, 60, 1, 27, 27, 2, 19871229, 0931, -10.4033, 11.6717, 2213,  -999.00,    749.5,   4.9191,  34.5112, 2,  34.5120, 2,   -999.0, 9,    105.2, 2,    33.14, 2,    38.71, 2,     0.01, 2,     2.55, 2,    0.003, 2,    0.006, 2,   2252.2, 2,   -999.0, 9,   -999.0, 9,   4.8585,   -999.0, 9, -999.000, 9
316N19871218, SAVE2, 60, 1, 28, 28, 2, 19871229, 0931, -10.4033, 11.6717, 2213,  -999.00,    809.6,   4.7222,  34.5143, 2,  34.5140, 2,   -999.0, 9,    113.5, 2,    34.02, 2,    37.93, 2,     0.01, 2,     2.54, 2, -999.000, 9, -999.000, 9,   2251.4, 2,   -999.0, 9,   -999.0, 9,   4.6576,   -999.0, 9, -999.000, 9
316N19871218, SAVE2, 60, 1, 29, 29, 2, 19871229, 0931, -10.4033, 11.6717, 2213,  -999.00,    927.4,   4.3904,  34.5581, 2,  34.5580, 2,   -999.0, 9,    132.6, 2,    35.58, 2,    35.78, 2,     0.01, 2,     2.42, 2, -999.000, 9, -999.000, 9,   2243.1, 2,   -999.0, 9,   -999.0, 9,   4.3178,   -999.0, 9, -999.000, 9
316N19871218, SAVE2, 60, 1, 30, 30, 2, 19871229, 0931, -10.4033, 11.6717, 2213,  -999.00,   1050.6,   4.2155,  34.6280, 2,  34.6260, 2,   -999.0, 9,    144.7, 2,    35.19, 2,    33.92, 2,     0.00, 2,     2.31, 2, -999.000, 9,    0.003, 2,   2237.8, 2,   -999.0, 9,   -999.0, 9,   4.1336,   -999.0, 9, -999.000, 9
316N19871218, SAVE2, 60, 1, 31, 31, 2, 19871229, 0931, -10.4033, 11.6717, 2213,  -999.00,   1251.0,   4.0625,  34.7522, 2, -999.0000, 9,   -999.0, 9,    166.9, 2,    32.25, 2,    30.49, 2,     0.00, 2,     2.06, 2,    0.000, 2,    0.001, 2,   2225.1, 2,   -999.0, 9,   -999.0, 9,   3.9644,   -999.0, 9, -999.000, 9
316N19871218, SAVE2, 60, 1, 32, 32, 2, 19871229, 0931, -10.4033, 11.6717, 2213,  -999.00,   1451.3,   3.8756,  34.8737, 2,  34.8750, 2,   -999.0, 9,    199.5, 2,    27.85, 2,    25.90, 2,     0.00, 2,     1.75, 2,    0.000, 2,    0.004, 2,   2193.9, 2,   -999.0, 9,   -999.0, 9,   3.7614,   1459.4, 2,    3.869, 2
316N19871218, SAVE2, 60, 1, 33, 33, 2, 19871229, 0931, -10.4033, 11.6717, 2213,  -999.00,   1654.7,   3.7477,  34.9240, 2,  34.9250, 2,   -999.0, 9,    217.7, 2,    25.80, 2,    23.36, 2,     0.00, 2,     1.56, 2, -999.000, 9,    0.003, 2,   2194.8, 2,   -999.0, 9,   -999.0, 9,   3.6165,   -999.0, 9, -999.000, 9
316N19871218, SAVE2, 60, 1, 34, 34, 2, 19871229, 0931, -10.4033, 11.6717, 2213,  -999.00,   1854.8,   3.5138,  34.9338, 2,  34.9350, 2,   -999.0, 9,    224.6, 2,    27.95, 2,    22.48, 2,     0.01, 2,     1.51, 2, -999.000, 9, -999.000, 9,   2192.2, 2,   -999.0, 9,   -999.0, 9,   3.3672,   -999.0, 9, -999.000, 9
316N19871218, SAVE2, 60, 1, 35, 35, 2, 19871229, 0931, -10.4033, 11.6717, 2213,  -999.00,   2054.0,   3.3299,  34.9338, 2,  34.9340, 2,   -999.0, 9,    225.5, 2,    30.88, 2,    22.38, 2,     0.01, 2,     1.50, 2, -999.000, 9, -999.000, 9,   2196.0, 2,   -999.0, 9,   -999.0, 9,   3.1674,   2055.1, 2,    3.319, 2
316N19871218, SAVE2, 60, 1, 36, 36, 2, 19871229, 0931, -10.4033, 11.6717, 2213,  -999.00,   2193.8,   3.2800,  34.9320, 2,  34.9330, 2,   -999.0, 9,    224.2, 2,    31.96, 2,    22.48, 2,     0.02, 2,     1.50, 2, -999.000, 9, -999.000, 9,   2202.3, 2,   -999.0, 9,   -999.0, 9,   3.1049,   -999.0, 9, -999.000, 9