BOTTLE,20110114CCHDOSIODM
EXPOCODE,SECT_ID,STNNBR,CASTNO,SAMPNO,BTLNBR,BTLNBR_FLAG_W,DATE,TIME,LATITUDE,LONGITUDE,DEPTH,CTDRAW,CTDPRS,CTDTMP,CTDSAL,CTDSAL_FLAG_W,SALNTY,SALNTY_FLAG_W,CTDOXY,CTDOXY_FLAG_W,OXYGEN,OXYGEN_FLAG_W,SILCAT,SILCAT_FLAG_W,NITRAT,NITRAT_FLAG_W,NITRIT,NITRIT_FLAG_W,PHSPHT,PHSPHT_FLAG_W,CFC-11,CFC-11_FLAG_W,CFC-12,CFC-12_FLAG_W,TCARBN,TCARBN_FLAG_W,ALKALI,ALKALI_FLAG_W,PCO2,PCO2_FLAG_W,THETA,REVPRS,REVPRS_FLAG_W,REVTMP,REVTMP_FLAG_W
,,,,,,,,,,,METERS,DBAR,DBAR,ITS-68,PSS-78,,PSS-78,,UMOL/KG,,UMOL/KG,,UMOL/KG,,UMOL/KG,,UMOL/KG,,UMOL/KG,,PMOL/KG,,PMOL/KG,,UMOL/KG,,UMOL/KG,,UATM,,DEG C,DBAR,,ITS-68,
316N19871218, SAVE2, 50, 1, 1, 1, 2, 19871223, 1651, -3.2983, 2.7750, 4799,  -999.00,      0.3,  27.0546,  34.5212, 2,  34.5210, 2,   -999.0, 9,    205.3, 2,     3.71, 2,     0.10, 2,     0.00, 2,     0.10, 2,    1.520, 2,    0.776, 2,   1964.3, 2,   -999.0, 9,   -999.0, 9,  27.0545,   -999.0, 9, -999.000, 9
316N19871218, SAVE2, 50, 1, 2, 2, 2, 19871223, 1651, -3.2983, 2.7750, 4799,  -999.00,      6.3,  27.0435,  34.5234, 2,  34.5250, 2,   -999.0, 9,    203.6, 2,     3.71, 2,     0.10, 2,     0.00, 2,     0.10, 2,    1.517, 2,    0.778, 2,   1963.3, 2,   -999.0, 9,   -999.0, 9,  27.0421,   -999.0, 9, -999.000, 9
316N19871218, SAVE2, 50, 1, 3, 3, 2, 19871223, 1651, -3.2983, 2.7750, 4799,  -999.00,     35.8,  20.0141,  35.9459, 2,  35.9460, 2,   -999.0, 9,    148.1, 2,     3.32, 2,     8.69, 2,     0.63, 2,     0.79, 2,    1.326, 2,    0.651, 2,   -999.0, 9,   -999.0, 9,   -999.0, 9,  20.0074,   -999.0, 9, -999.000, 9
316N19871218, SAVE2, 50, 1, 4, 4, 2, 19871223, 1651, -3.2983, 2.7750, 4799,  -999.00,     40.9,  18.8299,  35.8582, 2,  35.8600, 2,   -999.0, 9,    132.4, 2,     4.10, 2,    11.82, 2,     0.69, 2,     0.97, 2,    1.237, 2,    0.614, 2,   -999.0, 9,   -999.0, 9,   -999.0, 9,  18.8226,   -999.0, 9, -999.000, 9
316N19871218, SAVE2, 50, 1, 5, 5, 2, 19871223, 1651, -3.2983, 2.7750, 4799,  -999.00,     52.4,  16.8197,  35.7359, 2,  35.7330, 2,   -999.0, 9,    124.0, 2,     5.47, 2,    15.72, 2,     0.03, 2,     1.13, 2,    1.162, 2,    0.580, 2,   -999.0, 9,   -999.0, 9,   -999.0, 9,  16.8111,   -999.0, 9, -999.000, 9
316N19871218, SAVE2, 50, 1, 6, 6, 2, 19871223, 1651, -3.2983, 2.7750, 4799,  -999.00,     62.3,  16.2227,  35.6776, 2,  35.6740, 2,   -999.0, 9,    122.7, 2,     5.96, 2,    16.70, 2,     0.03, 2,     1.18, 2,    1.118, 2,    0.567, 2,   -999.0, 9,   -999.0, 9,   -999.0, 9,  16.2127,   -999.0, 9, -999.000, 9
316N19871218, SAVE2, 50, 1, 7, 7, 2, 19871223, 1651, -3.2983, 2.7750, 4799,  -999.00,     82.6,  15.2651,  35.5822, 2,  35.5770, 2,   -999.0, 9,    113.6, 2,     6.94, 2,    18.46, 2,     0.02, 2,     1.26, 2,    1.030, 2,    0.513, 2,   2179.1, 2,   -999.0, 9,   -999.0, 9,  15.2525,   -999.0, 9, -999.000, 9
316N19871218, SAVE2, 50, 1, 8, 8, 2, 19871223, 1651, -3.2983, 2.7750, 4799,  -999.00,    137.8,  14.5187,  35.4798, 2,  35.4830, 2,   -999.0, 9,     99.6, 2,     7.91, 2,    20.90, 2,     0.01, 2,     1.40, 2,    0.901, 2,    0.441, 2,   -999.0, 9,   -999.0, 9,   -999.0, 9,  14.4982,   -999.0, 9, -999.000, 9
316N19871218, SAVE2, 50, 1, 9, 9, 2, 19871223, 1651, -3.2983, 2.7750, 4799,  -999.00,    183.4,  13.9407,  35.3987, 2,  35.3940, 2,   -999.0, 9,     84.4, 2,     9.09, 2,    23.54, 2,     0.01, 2,     1.52, 2,    0.722, 2,    0.365, 2,   2201.4, 2,   -999.0, 9,   -999.0, 9,  13.9142,   -999.0, 9, -999.000, 9
316N19871218, SAVE2, 50, 1, 10, 10, 2, 19871223, 1651, -3.2983, 2.7750, 4799,  -999.00,    223.5,  13.1267,  35.2939, 2,  35.2920, 2,   -999.0, 9,     73.1, 2,    10.45, 2,    26.09, 2,     0.01, 2,     1.66, 2,    0.534, 2,    0.263, 2,   2213.8, 2,   -999.0, 9,   -999.0, 9,  13.0957,   -999.0, 9, -999.000, 9
316N19871218, SAVE2, 50, 1, 11, 11, 2, 19871223, 1651, -3.2983, 2.7750, 4799,  -999.00,    268.8,  12.0296,  35.1605, 2,  35.1610, 2,   -999.0, 9,     81.8, 2,    11.43, 2,    26.77, 2,     0.01, 2,     1.70, 2,    0.461, 2,    0.233, 2,   2213.4, 2,   -999.0, 9,   -999.0, 9,  11.9943,   -999.0, 9, -999.000, 9
316N19871218, SAVE2, 50, 1, 12, 12, 2, 19871223, 1651, -3.2983, 2.7750, 4799,  -999.00,    298.8,  10.9584,  35.0506, 2,  35.0480, 2,   -999.0, 9,     55.2, 2,    14.17, 2,    31.46, 2,     0.01, 2,     1.96, 2,    0.233, 2,    0.126, 2,   2237.7, 2,   -999.0, 9,   -999.0, 9,  10.9215,   -999.0, 9, -999.000, 9
316N19871218, SAVE2, 50, 1, 13, 13, 2, 19871223, 1651, -3.2983, 2.7750, 4799,  -999.00,    358.6,   9.4811,  34.8795, 2,  34.8780, 2,   -999.0, 9,     49.1, 2,    17.20, 2,    34.99, 2,     0.01, 2,     2.19, 2,    0.104, 2,    0.056, 2,   2255.9, 2,   -999.0, 9,   -999.0, 9,   9.4406,   -999.0, 9, -999.000, 9
316N19871218, SAVE2, 50, 1, 14, 14, 2, 19871223, 1651, -3.2983, 2.7750, 4799,  -999.00,    415.9,   8.5115,  34.7757, 2,  34.7790, 2,   -999.0, 9,     69.6, 2,    18.77, 2,    35.09, 2,     0.01, 2,     2.23, 2, -999.000, 9, -999.000, 9,   2247.4, 2,   -999.0, 9,   -999.0, 9,   8.4674,   -999.0, 9, -999.000, 9
316N19871218, SAVE2, 50, 1, 15, 15, 2, 19871223, 1651, -3.2983, 2.7750, 4799,  -999.00,    464.3,   7.6698,  34.6941, 2,  34.6920, 2,   -999.0, 9,     70.9, 2,    21.31, 2,    36.85, 2,     0.00, 2,     2.36, 2,    0.034, 2,    0.020, 2,   2251.5, 2,   -999.0, 9,   -999.0, 9,   7.6234,   -999.0, 9, -999.000, 9
316N19871218, SAVE2, 50, 1, 16, 16, 2, 19871223, 1651, -3.2983, 2.7750, 4799,  -999.00,    609.2,   5.8070,  34.5233, 2,  34.5220, 2,   -999.0, 9,    126.9, 2,    26.00, 2,    35.09, 2,     0.00, 2,     2.34, 2, -999.000, 9, -999.000, 9,   2231.8, 2,   -999.0, 9,   -999.0, 9,   5.7541,   -999.0, 9, -999.000, 9
316N19871218, SAVE2, 50, 1, 17, 17, 2, 19871223, 1651, -3.2983, 2.7750, 4799,  -999.00,    759.8,   4.9536,  34.4884, 2,  34.4860, 2,   -999.0, 9,    143.9, 2,    30.70, 2,    34.90, 2,     0.00, 2,     2.35, 2,    0.022, 2,    0.009, 2,   2232.7, 2,   -999.0, 9,   -999.0, 9,   4.8919,   -999.0, 9, -999.000, 9
316N19871218, SAVE2, 50, 1, 18, 18, 2, 19871223, 1651, -3.2983, 2.7750, 4799,  -999.00,    930.5,   4.4064,  34.5589, 2,  34.5580, 2,   -999.0, 9,    150.8, 2,    33.92, 2,    34.12, 2,     0.00, 2,     2.33, 2,    0.000, 2,    0.001, 2,   2231.6, 2,   -999.0, 9,   -999.0, 9,   4.3334,   -999.0, 9, -999.000, 9
316N19871218, SAVE2, 50, 1, 19, 19, 2, 19871223, 1651, -3.2983, 2.7750, 4799,  -999.00,   1045.9,   4.3482,  34.6628, 2,  34.6630, 2,   -999.0, 9,    159.9, 2,    32.26, 2,    32.16, 2,     0.00, 2,     2.19, 2, -999.000, 9, -999.000, 9,   2222.6, 2,   -999.0, 9,   -999.0, 9,   4.2656,   -999.0, 9, -999.000, 9
316N19871218, SAVE2, 50, 1, 20, 20, 2, 19871223, 1651, -3.2983, 2.7750, 4799,  -999.00,   1272.2,   4.2952,  34.8248, 2,  34.8270, 2,   -999.0, 9,    186.0, 2,    26.88, 2,    27.76, 2,     0.00, 2,     1.88, 2, -999.000, 9,    0.001, 2,   -999.0, 9,   -999.0, 9,   -999.0, 9,   4.1928,   -999.0, 9, -999.000, 9
316N19871218, SAVE2, 50, 1, 21, 21, 2, 19871223, 1651, -3.2983, 2.7750, 4799,  -999.00,   1529.0,   4.1425,  34.9483, 2,  34.9480, 2,   -999.0, 9,    225.5, 2,    20.42, 2,    22.48, 2,     0.00, 2,     1.50, 2, -999.000, 9, -999.000, 9,   -999.0, 9,   -999.0, 9,   -999.0, 9,   4.0181,   -999.0, 9, -999.000, 9
316N19871218, SAVE2, 50, 1, 22, 22, 2, 19871223, 1651, -3.2983, 2.7750, 4799,  -999.00,   1595.0,   4.0071,  34.9507, 2,  34.9500, 2,   -999.0, 9,    229.0, 2,    21.01, 2,    21.99, 2,     0.00, 2,     1.48, 2,    0.001, 2,    0.003, 2,   -999.0, 9,   -999.0, 9,   -999.0, 9,   3.8781,   -999.0, 9, -999.000, 9
316N19871218, SAVE2, 50, 1, 23, 23, 2, 19871223, 1651, -3.2983, 2.7750, 4799,  -999.00,   1726.2,   3.8196,  34.9600, 2,  34.9570, 2,   -999.0, 9,    236.8, 2,    21.11, 2,    21.40, 2,     0.00, 2,     1.43, 2, -999.000, 9,    0.001, 2,   2178.7, 2,   -999.0, 9,   -999.0, 9,   3.6807,   -999.0, 9, -999.000, 9
316N19871218, SAVE2, 50, 1, 24, 24, 2, 19871223, 1651, -3.2983, 2.7750, 4799,  -999.00,   1932.9,   3.5510,  34.9519, 2,  34.9520, 2,   -999.0, 9,    240.3, 2,    23.84, 2,    21.21, 2,     0.00, 2,     1.42, 2, -999.000, 9, -999.000, 9,   -999.0, 9,   -999.0, 9,   -999.0, 9,   3.3965,   -999.0, 9, -999.000, 9
316N19871218, SAVE2, 50, 1, 25, 25, 2, 19871223, 1651, -3.2983, 2.7750, 4799,  -999.00,   2135.2,   3.3581,  34.9485, 2,  34.9480, 2,   -999.0, 9,    243.8, 2,    25.70, 2,    21.01, 2,     0.00, 2,     1.40, 2, -999.000, 9, -999.000, 9,   2186.7, 2,   -999.0, 9,   -999.0, 9,   3.1874,   -999.0, 9, -999.000, 9
316N19871218, SAVE2, 50, 1, 26, 26, 2, 19871223, 1651, -3.2983, 2.7750, 4799,  -999.00,   2398.0,   3.0315,  34.9319, 2,  34.9300, 2,   -999.0, 9,    240.7, 2,    32.54, 2,    21.79, 2,     0.00, 2,     1.45, 2, -999.000, 9, -999.000, 9,   -999.0, 9,   -999.0, 9,   -999.0, 9,   2.8410,   -999.0, 9, -999.000, 9
316N19871218, SAVE2, 50, 1, 27, 27, 2, 19871223, 1651, -3.2983, 2.7750, 4799,  -999.00,   2646.0,   2.8645,  34.9231, 2,  34.9210, 2,   -999.0, 9,    240.7, 2,    35.57, 2,    21.89, 2,     0.00, 2,     1.46, 2, -999.000, 9, -999.000, 9,   -999.0, 9,   -999.0, 9,   -999.0, 9,   2.6527,   -999.0, 9, -999.000, 9
316N19871218, SAVE2, 50, 1, 28, 28, 2, 19871223, 1651, -3.2983, 2.7750, 4799,  -999.00,   2899.4,   2.6971,  34.9130, 2,  34.9110, 2,   -999.0, 9,    236.8, 2,    40.56, 2,    22.38, 2,     0.00, 2,     1.50, 2, -999.000, 9, -999.000, 9,   -999.0, 9,   -999.0, 9,   -999.0, 9,   2.4633,   -999.0, 9, -999.000, 9
316N19871218, SAVE2, 50, 1, 29, 29, 2, 19871223, 1651, -3.2983, 2.7750, 4799,  -999.00,   3148.0,   2.5883,  34.9063, 2,  34.9040, 2,   -999.0, 9,    239.0, 2,    42.71, 2,    22.38, 2,     0.00, 2,     1.50, 2, -999.000, 9, -999.000, 9,   -999.0, 9,   -999.0, 9,   -999.0, 9,   2.3313,   -999.0, 9, -999.000, 9
316N19871218, SAVE2, 50, 1, 30, 30, 2, 19871223, 1651, -3.2983, 2.7750, 4799,  -999.00,   3396.7,   2.5021,  34.9001, 2,  34.8990, 2,   -999.0, 9,    238.1, 2,    45.25, 2,    22.48, 2,     0.00, 2,     1.51, 2, -999.000, 9, -999.000, 9,   -999.0, 9,   -999.0, 9,   -999.0, 9,   2.2208,   -999.0, 9, -999.000, 9
316N19871218, SAVE2, 50, 1, 31, 31, 2, 19871223, 1651, -3.2983, 2.7750, 4799,  -999.00,   3645.8,   2.4247,  34.8944, 2,  34.8930, 2,   -999.0, 9,    236.8, 2,    48.57, 2,    22.87, 2,     0.00, 2,     1.53, 2, -999.000, 9, -999.000, 9,   -999.0, 9,   -999.0, 9,   -999.0, 9,   2.1184,   -999.0, 9, -999.000, 9
316N19871218, SAVE2, 50, 1, 32, 32, 2, 19871223, 1651, -3.2983, 2.7750, 4799,  -999.00,   3905.7,   2.3936,  34.8905, 2,  34.8890, 2,   -999.0, 9,    239.8, 2,    48.57, 2,    22.77, 2,     0.00, 2,     1.54, 2, -999.000, 9, -999.000, 9,   -999.0, 9,   -999.0, 9,   -999.0, 9,   2.0591,   3902.5, 2,    2.389, 2
316N19871218, SAVE2, 50, 1, 33, 33, 2, 19871223, 1651, -3.2983, 2.7750, 4799,  -999.00,   4179.7,   2.3493,  34.8849, 2,  34.8840, 2,   -999.0, 9,    241.1, 2,    49.45, 2,    22.77, 2,     0.00, 2,     1.53, 2, -999.000, 9, -999.000, 9,   -999.0, 9,   -999.0, 9,   -999.0, 9,   1.9846,   -999.0, 9, -999.000, 9
316N19871218, SAVE2, 50, 1, 34, 34, 2, 19871223, 1651, -3.2983, 2.7750, 4799,  -999.00,   4448.4,   2.3233,  34.8803, 2,  34.8790, 2,   -999.0, 9,    242.4, 2,    50.33, 2,    22.97, 2,     0.00, 2,     1.53, 2, -999.000, 9, -999.000, 9,   -999.0, 9,   -999.0, 9,   -999.0, 9,   1.9277,   -999.0, 9, -999.000, 9
316N19871218, SAVE2, 50, 1, 35, 35, 2, 19871223, 1651, -3.2983, 2.7750, 4799,  -999.00,   4708.6,   2.3175,  34.8758, 2,  34.8750, 2,   -999.0, 9,    242.0, 2,    51.89, 2,    23.06, 2,     0.00, 2,     1.54, 2, -999.000, 9, -999.000, 9,   2212.5, 2,   -999.0, 9,   -999.0, 9,   1.8906,   4698.9, 2,    2.313, 2
316N19871218, SAVE2, 50, 1, 36, 36, 2, 19871223, 1651, -3.2983, 2.7750, 4799,  -999.00,   4873.2,   2.3361,  34.8753, 2,  34.8750, 2,   -999.0, 9,    242.0, 2,    51.80, 2,    23.06, 2,     0.00, 2,     1.54, 2, -999.000, 9,    0.000, 2,   2215.2, 2,   -999.0, 9,   -999.0, 9,   1.8882,   -999.0, 9, -999.000, 9