BOTTLE,20110114CCHDOSIODM
EXPOCODE,SECT_ID,STNNBR,CASTNO,SAMPNO,BTLNBR,BTLNBR_FLAG_W,DATE,TIME,LATITUDE,LONGITUDE,DEPTH,CTDRAW,CTDPRS,CTDTMP,CTDSAL,CTDSAL_FLAG_W,SALNTY,SALNTY_FLAG_W,CTDOXY,CTDOXY_FLAG_W,OXYGEN,OXYGEN_FLAG_W,SILCAT,SILCAT_FLAG_W,NITRAT,NITRAT_FLAG_W,NITRIT,NITRIT_FLAG_W,PHSPHT,PHSPHT_FLAG_W,CFC-11,CFC-11_FLAG_W,CFC-12,CFC-12_FLAG_W,TCARBN,TCARBN_FLAG_W,ALKALI,ALKALI_FLAG_W,PCO2,PCO2_FLAG_W,THETA,REVPRS,REVPRS_FLAG_W,REVTMP,REVTMP_FLAG_W
,,,,,,,,,,,METERS,DBAR,DBAR,ITS-68,PSS-78,,PSS-78,,UMOL/KG,,UMOL/KG,,UMOL/KG,,UMOL/KG,,UMOL/KG,,UMOL/KG,,PMOL/KG,,PMOL/KG,,UMOL/KG,,UMOL/KG,,UATM,,DEG C,DBAR,,ITS-68,
316N19871218, SAVE2, 85, 1, 1, 1, 2, 19880111, 2029, -15.8750, -19.1117, 4615,  -999.00,      1.8,  25.1421,  37.0898, 2,  37.0900, 2,   -999.0, 9,    208.3, 2,     1.37, 2,     0.10, 2,     0.00, 2,     0.20, 2,    1.642, 2,    0.818, 2,   2087.3, 2,   2455.6, 2,    294.7, 2,  25.1417,   -999.0, 9, -999.000, 9
316N19871218, SAVE2, 85, 1, 2, 2, 2, 19880111, 2029, -15.8750, -19.1117, 4615,  -999.00,     18.0,  25.1421,  37.0906, 2,  37.0900, 2,   -999.0, 9,    207.4, 2,     1.27, 2,     0.10, 2,     0.00, 2,     0.20, 2, -999.000, 9, -999.000, 9,   2088.1, 2,   2454.3, 2,    297.1, 2,  25.1382,   -999.0, 9, -999.000, 9
316N19871218, SAVE2, 85, 1, 3, 3, 2, 19880111, 2029, -15.8750, -19.1117, 4615,  -999.00,     37.1,  25.0031,  37.0745, 2,  37.0750, 2,   -999.0, 9,    209.6, 2,     1.27, 2,     0.10, 2,     0.00, 2,     0.20, 2,    1.628, 2,    0.819, 2,   2086.9, 2,   2451.0, 2,    298.8, 2,  24.9950,   -999.0, 9, -999.000, 9
316N19871218, SAVE2, 85, 1, 4, 4, 2, 19880111, 2029, -15.8750, -19.1117, 4615,  -999.00,     64.0,  24.2031,  36.9736, 2,  36.9690, 2,   -999.0, 9,    215.2, 2,     1.27, 2,     0.10, 2,     0.00, 2,     0.20, 2, -999.000, 9, -999.000, 9,   2081.5, 2,   2445.7, 2,    296.5, 2,  24.1894,   -999.0, 9, -999.000, 9
316N19871218, SAVE2, 85, 1, 5, 5, 2, 19880111, 2029, -15.8750, -19.1117, 4615,  -999.00,     80.0,  23.6100,  36.8998, 2,  36.8980, 2,   -999.0, 9,    216.9, 2,     1.27, 2,     0.10, 2,     0.00, 2,     0.20, 2,    1.743, 2,    0.860, 2,   2081.8, 2,   2442.9, 2,    299.1, 2,  23.5932,   -999.0, 9, -999.000, 9
316N19871218, SAVE2, 85, 1, 6, 6, 2, 19880111, 2029, -15.8750, -19.1117, 4615,  -999.00,     95.7,  23.2300,  36.8708, 2,  36.8740, 2,   -999.0, 9,    216.5, 2,     1.27, 2,     0.10, 2,     0.00, 2,     0.20, 2, -999.000, 9, -999.000, 9,   2083.3, 2,   2435.8, 2,    308.5, 2,  23.2102,   -999.0, 9, -999.000, 9
316N19871218, SAVE2, 85, 1, 7, 7, 2, 19880111, 2029, -15.8750, -19.1117, 4615,  -999.00,    141.2,  20.9989,  36.4543, 2,  36.4390, 2,   -999.0, 9,    209.9, 2,     1.37, 2,     0.10, 2,     0.03, 2,     0.27, 2,    1.818, 2,    0.905, 2,   2091.9, 2,   2416.5, 2,    339.8, 2,  20.9717,   -999.0, 9, -999.000, 9
316N19871218, SAVE2, 85, 1, 8, 8, 2, 19880111, 2029, -15.8750, -19.1117, 4615,  -999.00,    212.2,  15.9844,  35.5955, 2,  35.6080, 2,   -999.0, 9,    193.7, 2,     2.93, 2,     6.45, 2,     0.01, 2,     0.62, 2, -999.000, 9, -999.000, 9,   2105.2, 2,   2354.3, 2,    455.8, 2,  15.9507,   -999.0, 9, -999.000, 9
316N19871218, SAVE2, 85, 1, 9, 9, 2, 19880111, 2029, -15.8750, -19.1117, 4615,  -999.00,    257.1,  14.1668,  35.3224, 2,  35.3230, 2,   -999.0, 9,    185.4, 2,     4.30, 2,    10.55, 2,     0.00, 2,     0.84, 2,    1.687, 2,    0.800, 2,   2118.6, 2,   2337.0, 2,    526.3, 2,  14.1291,   -999.0, 9, -999.000, 9
316N19871218, SAVE2, 85, 1, 10, 10, 2, 19880111, 2029, -15.8750, -19.1117, 4615,  -999.00,    292.2,  12.1733,  35.0775, 2, -999.0000, 9,   -999.0, 9,   -999.0, 9,  -999.00, 9,  -999.00, 9,  -999.00, 9,  -999.00, 9, -999.000, 9, -999.000, 9,   -999.0, 9,   -999.0, 9,   -999.0, 9,  12.1346,   -999.0, 9, -999.000, 9
316N19871218, SAVE2, 85, 1, 11, 11, 2, 19880111, 2029, -15.8750, -19.1117, 4615,  -999.00,    330.7,  11.1536,  34.9819, 2,  34.9860, 2,   -999.0, 9,    135.3, 2,     9.77, 2,    22.28, 2,     0.00, 2,     1.51, 2,    0.845, 2,    0.399, 2,   2176.0, 2,   2322.1, 2,    795.4, 2,  11.1122,   -999.0, 9, -999.000, 9
316N19871218, SAVE2, 85, 1, 12, 12, 2, 19880111, 2029, -15.8750, -19.1117, 4615,  -999.00,    395.7,   9.4751,  34.8253, 2,  34.8330, 2,   -999.0, 9,    120.5, 2,    13.78, 2,    27.56, 2,     0.00, 2,     1.83, 2,    0.364, 2,    0.181, 2,   2198.5, 2,   2312.5, 2,    976.5, 2,   9.4304,   -999.0, 9, -999.000, 9
316N19871218, SAVE2, 85, 1, 13, 13, 2, 19880111, 2029, -15.8750, -19.1117, 4615,  -999.00,    503.2,   6.9631,  34.5817, 2,  34.5860, 2,   -999.0, 9,    143.1, 2,    19.55, 2,    30.50, 2,     0.00, 2,     2.04, 2,    0.097, 2,    0.060, 2,   2202.1, 2,   2306.7, 2,   1036.4, 2,   6.9154,   -999.0, 9, -999.000, 9
316N19871218, SAVE2, 85, 1, 14, 14, 2, 19880111, 2029, -15.8750, -19.1117, 4615,  -999.00,    603.3,   5.5378,  34.4679, 2,  34.4690, 2,   -999.0, 9,    159.1, 2,    25.03, 2,    32.16, 2,     0.00, 2,     2.16, 2,    0.055, 2,    0.037, 2,   2208.1, 2,   2308.8, 2,   1065.6, 2,   5.4868,   -999.0, 9, -999.000, 9
316N19871218, SAVE2, 85, 1, 15, 15, 2, 19880111, 2029, -15.8750, -19.1117, 4615,  -999.00,    703.3,   4.7062,  34.4324, 2,  34.4320, 2,   -999.0, 9,    166.1, 2,    30.21, 2,    33.24, 2,     0.00, 2,     2.24, 2,    0.027, 2,    0.019, 2,   2213.8, 2,   2311.3, 2,   1092.9, 2,   4.6508,   -999.0, 9, -999.000, 9
316N19871218, SAVE2, 85, 1, 16, 16, 2, 19880111, 2029, -15.8750, -19.1117, 4615,  -999.00,    803.7,   4.2454,  34.4422, 2,  34.4410, 2,   -999.0, 9,    169.1, 2,    34.31, 2,    33.63, 2,     0.00, 2,     2.29, 2,    0.011, 2,    0.003, 2,   2218.0, 2,   2313.6, 2,   1110.8, 2,   4.1844,   -999.0, 9, -999.000, 9
316N19871218, SAVE2, 85, 1, 17, 17, 2, 19880111, 2029, -15.8750, -19.1117, 4615,  -999.00,    948.7,   3.8536,  34.4981, 2,  34.4970, 2,   -999.0, 9,    174.3, 2,    38.52, 2,    33.14, 2,     0.00, 2,     2.26, 2, -999.000, 9, -999.000, 9,   2222.2, 2,   2322.1, 2,   1085.3, 2,   3.7833,   -999.0, 9, -999.000, 9
316N19871218, SAVE2, 85, 1, 18, 18, 2, 19880111, 2029, -15.8750, -19.1117, 4615,  -999.00,   1098.1,   3.8137,  34.6030, 2,  34.6000, 2,   -999.0, 9,    175.2, 2,    37.44, 2,    31.77, 2,     0.00, 2,     2.17, 2,    0.001, 2,    0.001, 2,   2220.7, 2,   2323.5, 2,   1065.4, 2,   3.7312,   -999.0, 9, -999.000, 9
316N19871218, SAVE2, 85, 1, 19, 19, 2, 19880111, 2029, -15.8750, -19.1117, 4615,  -999.00,   1236.0,   3.8017,  34.7033, 2,  34.7040, 2,   -999.0, 9,    185.6, 2,    34.40, 2,    29.62, 2,     0.00, 2,     2.00, 2, -999.000, 9, -999.000, 9,   2212.0, 2,   2324.0, 2,   1000.1, 2,   3.7074,   -999.0, 9, -999.000, 9
316N19871218, SAVE2, 85, 1, 20, 20, 2, 19880111, 2029, -15.8750, -19.1117, 4615,  -999.00,   1367.1,   3.7657,  34.7876, 2,  34.7840, 2,   -999.0, 9,    199.0, 2,    31.76, 2,    27.27, 2,     0.00, 2,     1.85, 2,    0.000, 2, -999.000, 9,   2202.8, 2,   2326.2, 2,    927.0, 2,   3.6603,   -999.0, 9, -999.000, 9
316N19871218, SAVE2, 85, 1, 21, 21, 2, 19880111, 2029, -15.8750, -19.1117, 4615,  -999.00,   1543.3,   3.5578,  34.8523, 2,  34.8520, 2,   -999.0, 9,    216.8, 2,    30.49, 2,    24.73, 2,     0.00, 2,     1.67, 2, -999.000, 9, -999.000, 9,   2195.8, 2,   2332.8, 2,    851.3, 2,   3.4391,   -999.0, 9, -999.000, 9
316N19871218, SAVE2, 85, 1, 22, 22, 2, 19880111, 2029, -15.8750, -19.1117, 4615,  -999.00,   1709.7,   3.3579,  34.8861, 2,  34.8860, 2,   -999.0, 9,    229.4, 2,    30.30, 2,    23.26, 2,     0.00, 2,     1.56, 2, -999.000, 9, -999.000, 9,   2189.1, 2,   2336.1, 2,    799.9, 2,   3.2268,   -999.0, 9, -999.000, 9
316N19871218, SAVE2, 85, 1, 23, 23, 2, 19880111, 2029, -15.8750, -19.1117, 4615,  -999.00,   1881.6,   3.1780,  34.9005, 2,  34.9010, 2,   -999.0, 9,    236.8, 2,    31.37, 2,    22.48, 2,     0.00, 2,     1.50, 2, -999.000, 9, -999.000, 9,   2185.9, 2,   2335.7, 2,    785.8, 2,   3.0338,   -999.0, 9, -999.000, 9
316N19871218, SAVE2, 85, 1, 24, 24, 2, 19880111, 2029, -15.8750, -19.1117, 4615,  -999.00,   2053.0,   2.9951,  34.9031, 2,  34.9040, 2,   -999.0, 9,    239.8, 2,    34.40, 2,    22.18, 2,     0.00, 2,     1.50, 2, -999.000, 9, -999.000, 9,   2190.8, 2,   2343.1, 2,    778.1, 2,   2.8379,   -999.0, 9, -999.000, 9
316N19871218, SAVE2, 85, 1, 25, 25, 2, 19880111, 2029, -15.8750, -19.1117, 4615,  -999.00,   2201.8,   2.8942,  34.9031, 2,  34.9040, 2,   -999.0, 9,    240.7, 2,    36.16, 2,    22.28, 2,     0.00, 2,     1.50, 2, -999.000, 9, -999.000, 9,   2190.9, 2,   2340.9, 2,    788.4, 2,   2.7248,   -999.0, 9, -999.000, 9
316N19871218, SAVE2, 85, 1, 26, 26, 2, 19880111, 2029, -15.8750, -19.1117, 4615,  -999.00,   2449.5,   2.7852,  34.8990, 2,  34.8990, 2,   -999.0, 9,    241.1, 2,    38.60, 2,    22.38, 2,     0.00, 2,     1.50, 2, -999.000, 9, -999.000, 9,   2191.7, 2,   2344.5, 2,    777.2, 2,   2.5943,   -999.0, 9, -999.000, 9
316N19871218, SAVE2, 85, 1, 27, 27, 2, 19880111, 2029, -15.8750, -19.1117, 4615,  -999.00,   2698.1,   2.7143,  34.8971, 2,  34.8970, 2,   -999.0, 9,    241.6, 2,    40.36, 2,    22.38, 2,     0.00, 2,     1.50, 2, -999.000, 9, -999.000, 9,   2193.6, 2,   2346.6, 2,    777.3, 2,   2.5004,   -999.0, 9, -999.000, 9
316N19871218, SAVE2, 85, 1, 28, 28, 2, 19880111, 2029, -15.8750, -19.1117, 4615,  -999.00,   2947.9,   2.6423,  34.8941, 2,  34.8950, 2,   -999.0, 9,    241.6, 2,    42.02, 2,    22.57, 2,     0.00, 2,     1.51, 2, -999.000, 9, -999.000, 9,   2196.2, 2,   2349.0, 2,    780.0, 2,   2.4048,   -999.0, 9, -999.000, 9
316N19871218, SAVE2, 85, 1, 29, 29, 2, 19880111, 2029, -15.8750, -19.1117, 4615,  -999.00,   3200.5,   2.5534,  34.8913, 2,  34.8910, 2,   -999.0, 9,    242.4, 2,    43.88, 2,    22.57, 2,     0.00, 2,     1.51, 2, -999.000, 9, -999.000, 9,   2197.6, 2,   2350.4, 2,    780.9, 2,   2.2917,   -999.0, 9, -999.000, 9
316N19871218, SAVE2, 85, 1, 30, 30, 2, 19880111, 2029, -15.8750, -19.1117, 4615,  -999.00,   3450.9,   2.4374,  34.8828, 2,  34.8840, 2,   -999.0, 9,    243.7, 2,    46.62, 2,    22.67, 2,     0.00, 2,     1.54, 2, -999.000, 9,    0.002, 2,   2198.3, 2,   2348.9, 2,    791.1, 2,   2.1520,   -999.0, 9, -999.000, 9
316N19871218, SAVE2, 85, 1, 31, 31, 2, 19880111, 2029, -15.8750, -19.1117, 4615,  -999.00,   3699.6,   2.2805,  34.8732, 2,  34.8720, 2,   -999.0, 9,    245.5, 2,    49.94, 2,    22.97, 2,     0.00, 2,     1.55, 2, -999.000, 9, -999.000, 9,   2200.4, 2,   2354.3, 2,    778.6, 2,   1.9721,   -999.0, 9, -999.000, 9
316N19871218, SAVE2, 85, 1, 32, 32, 2, 19880111, 2029, -15.8750, -19.1117, 4615,  -999.00,   3898.6,   1.9577,  34.8412, 2,  34.8420, 2,   -999.0, 9,    242.0, 2,    61.47, 2,    24.43, 2,     0.00, 2,     1.66, 2, -999.000, 9,    0.001, 2,   2216.3, 2,   2363.8, 2,    817.2, 2,   1.6362,   3916.2, 2,    1.962, 2
316N19871218, SAVE2, 85, 1, 33, 33, 2, 19880111, 2029, -15.8750, -19.1117, 4615,  -999.00,   4096.8,   1.5899,  34.8042, 2,  34.8050, 2,   -999.0, 9,    236.4, 2,    75.35, 2,    26.29, 2,     0.00, 2,     1.79, 2, -999.000, 9, -999.000, 9,   2226.8, 2,   2367.8, 2,    856.2, 2,   1.2571,   -999.0, 9, -999.000, 9
316N19871218, SAVE2, 85, 1, 34, 34, 2, 19880111, 2029, -15.8750, -19.1117, 4615,  -999.00,   4313.7,   1.3021,  34.7748, 2,  34.7750, 2,   -999.0, 9,    232.9, 2,    86.50, 2,    27.76, 2,     0.00, 2,     1.90, 2,    0.000, 2, -999.000, 9,   2237.4, 2,   2370.7, 2,    903.0, 2,   0.9537,   -999.0, 9, -999.000, 9
316N19871218, SAVE2, 85, 1, 35, 35, 2, 19880111, 2029, -15.8750, -19.1117, 4615,  -999.00,   4543.9,   1.1982,  34.7628, 2,  34.7610, 2,   -999.0, 9,    231.6, 2,    91.19, 2,    28.54, 2,     0.00, 2,     1.94, 2, -999.000, 9, -999.000, 9,   2241.8, 2,   2373.2, 2,    916.6, 2,   0.8270,   4559.8, 2,    1.199, 2
316N19871218, SAVE2, 85, 1, 36, 36, 2, 19880111, 2029, -15.8750, -19.1117, 4615,  -999.00,   4695.0,   1.1392,  34.7554, 2,  34.7570, 2,   -999.0, 9,    230.3, 2,    94.12, 2,    28.93, 2,     0.00, 2,     1.96, 2,    0.003, 2,    0.001, 2,   2241.9, 2,   2371.9, 2,    924.9, 2,   0.7526,   -999.0, 9, -999.000, 9