BOTTLE,20110114CCHDOSIODM
EXPOCODE,SECT_ID,STNNBR,CASTNO,SAMPNO,BTLNBR,BTLNBR_FLAG_W,DATE,TIME,LATITUDE,LONGITUDE,DEPTH,CTDRAW,CTDPRS,CTDTMP,CTDSAL,CTDSAL_FLAG_W,SALNTY,SALNTY_FLAG_W,CTDOXY,CTDOXY_FLAG_W,OXYGEN,OXYGEN_FLAG_W,SILCAT,SILCAT_FLAG_W,NITRAT,NITRAT_FLAG_W,NITRIT,NITRIT_FLAG_W,PHSPHT,PHSPHT_FLAG_W,CFC-11,CFC-11_FLAG_W,CFC-12,CFC-12_FLAG_W,TCARBN,TCARBN_FLAG_W,ALKALI,ALKALI_FLAG_W,PCO2,PCO2_FLAG_W,THETA,REVPRS,REVPRS_FLAG_W,REVTMP,REVTMP_FLAG_W
,,,,,,,,,,,METERS,DBAR,DBAR,ITS-68,PSS-78,,PSS-78,,UMOL/KG,,UMOL/KG,,UMOL/KG,,UMOL/KG,,UMOL/KG,,UMOL/KG,,PMOL/KG,,PMOL/KG,,UMOL/KG,,UMOL/KG,,UATM,,DEG C,DBAR,,ITS-68,
316N19871218, SAVE2, 49, 1, 1, 1, 2, 19871223, 0156, -2.2483, 1.7133, 4591,  -999.00,      0.8,  26.5749,  34.5423, 2,  34.5410, 2,   -999.0, 9,    203.1, 2,     2.35, 2,     0.00, 2,     0.00, 2,     0.10, 2,    1.524, 2,    0.774, 2,   1962.4, 2,   -999.0, 9,   -999.0, 9,  26.5747,   -999.0, 9, -999.000, 9
316N19871218, SAVE2, 49, 1, 2, 2, 2, 19871223, 0156, -2.2483, 1.7133, 4591,  -999.00,      8.8,  26.5135,  34.5805, 2,  34.5820, 2,   -999.0, 9,    207.0, 2,     2.25, 2,     0.00, 2,     0.00, 2,     0.10, 2,    1.505, 2,    0.759, 2,   1966.4, 2,   -999.0, 9,   -999.0, 9,  26.5115,   -999.0, 9, -999.000, 9
316N19871218, SAVE2, 49, 1, 3, 3, 2, 19871223, 0156, -2.2483, 1.7133, 4591,  -999.00,     39.5,  19.4961,  35.9457, 2,  35.9410, 2,   -999.0, 9,    142.4, 2,     3.32, 2,    10.55, 2,     0.21, 2,     0.83, 2,    1.335, 2,    0.645, 2,   2134.9, 2,   -999.0, 9,   -999.0, 9,  19.4889,   -999.0, 9, -999.000, 9
316N19871218, SAVE2, 49, 1, 4, 4, 2, 19871223, 0156, -2.2483, 1.7133, 4591,  -999.00,     54.7,  19.1595,  35.9385, 2,  35.9340, 2,   -999.0, 9,    139.3, 2,     3.71, 2,    11.33, 2,     0.13, 2,     0.88, 2,    1.299, 2,    0.660, 2,   2139.5, 2,   -999.0, 9,   -999.0, 9,  19.1497,   -999.0, 9, -999.000, 9
316N19871218, SAVE2, 49, 1, 5, 5, 2, 19871223, 0156, -2.2483, 1.7133, 4591,  -999.00,     70.0,  17.3111,  35.7882, 2,  35.7850, 2,   -999.0, 9,    129.3, 2,     4.88, 2,    14.06, 2,     0.45, 2,     1.06, 2,    1.183, 2,    0.598, 2,   2155.1, 2,   -999.0, 9,   -999.0, 9,  17.2994,   -999.0, 9, -999.000, 9
316N19871218, SAVE2, 49, 1, 6, 6, 2, 19871223, 0156, -2.2483, 1.7133, 4591,  -999.00,     89.9,  16.0498,  35.6401, 2,  35.6380, 2,   -999.0, 9,    115.3, 2,     6.06, 2,    17.48, 2,     0.06, 2,     1.22, 2,    1.035, 2,    0.539, 2,   2170.1, 2,   -999.0, 9,   -999.0, 9,  16.0355,   -999.0, 9, -999.000, 9
316N19871218, SAVE2, 49, 1, 7, 7, 2, 19871223, 0156, -2.2483, 1.7133, 4591,  -999.00,    110.1,  15.1653,  35.5670, 2,  35.5640, 2,   -999.0, 9,    114.0, 2,     6.94, 2,    18.56, 2,     0.02, 2,     1.27, 2,    1.044, 2,    0.511, 2,   2171.6, 2,   -999.0, 9,   -999.0, 9,  15.1484,   -999.0, 9, -999.000, 9
316N19871218, SAVE2, 49, 1, 8, 8, 2, 19871223, 0156, -2.2483, 1.7133, 4591,  -999.00,    155.4,  14.3940,  35.4614, 2,  35.4580, 2,   -999.0, 9,     96.6, 2,     8.30, 2,    21.59, 2,     0.01, 2,     1.44, 2,    0.846, 2,    0.426, 2,   2188.3, 2,   -999.0, 9,   -999.0, 9,  14.3711,   -999.0, 9, -999.000, 9
316N19871218, SAVE2, 49, 1, 9, 9, 2, 19871223, 0156, -2.2483, 1.7133, 4591,  -999.00,    195.8,  13.9744,  35.3997, 2,  35.3980, 2,   -999.0, 9,     83.1, 2,     8.99, 2,    23.54, 2,     0.00, 2,     1.54, 2,    0.713, 2,    0.354, 2,   2197.4, 2,   -999.0, 9,   -999.0, 9,  13.9460,   -999.0, 9, -999.000, 9
316N19871218, SAVE2, 49, 1, 10, 10, 2, 19871223, 0156, -2.2483, 1.7133, 4591,  -999.00,    231.0,  13.0506,  35.2860, 2,  35.2900, 2,   -999.0, 9,     73.1, 2,    10.55, 2,    26.09, 2,     0.01, 2,     1.68, 2,    0.532, 2,    0.283, 2,   2211.3, 2,   -999.0, 9,   -999.0, 9,  13.0186,   -999.0, 9, -999.000, 9
316N19871218, SAVE2, 49, 1, 11, 11, 2, 19871223, 0156, -2.2483, 1.7133, 4591,  -999.00,    276.3,  11.7259,  35.1339, 2,  35.1310, 2,   -999.0, 9,     55.2, 2,    12.70, 2,    30.19, 2,     0.01, 2,     1.92, 2,    0.321, 2,    0.165, 2,   2229.6, 2,   -999.0, 9,   -999.0, 9,  11.6902,   -999.0, 9, -999.000, 9
316N19871218, SAVE2, 49, 1, 12, 12, 2, 19871223, 0156, -2.2483, 1.7133, 4591,  -999.00,    306.4,  10.7626,  35.0309, 2,  35.0280, 2,   -999.0, 9,     53.9, 2,    14.66, 2,    31.95, 2,     0.01, 2,     2.01, 2,    0.211, 2,    0.118, 2,   2236.9, 2,   -999.0, 9,   -999.0, 9,  10.7251,   -999.0, 9, -999.000, 9
316N19871218, SAVE2, 49, 1, 13, 13, 2, 19871223, 0156, -2.2483, 1.7133, 4591,  -999.00,    390.9,   8.8844,  34.8092, 2,  34.8050, 2,   -999.0, 9,     84.8, 2,    17.30, 2,    32.94, 2,     0.00, 2,     2.10, 2,    0.148, 2,    0.077, 2,   2229.8, 2,   -999.0, 9,   -999.0, 9,   8.8418,   -999.0, 9, -999.000, 9
316N19871218, SAVE2, 49, 1, 14, 14, 2, 19871223, 0156, -2.2483, 1.7133, 4591,  -999.00,    480.0,   7.3182,  34.6507, 2,  34.6480, 2,   -999.0, 9,    100.9, 2,    21.11, 2,    34.50, 2,     0.00, 2,     2.24, 2,    0.079, 2,    0.045, 2,   2229.7, 2,   -999.0, 9,   -999.0, 9,   7.2714,   -999.0, 9, -999.000, 9
316N19871218, SAVE2, 49, 1, 15, 15, 2, 19871223, 0156, -2.2483, 1.7133, 4591,  -999.00,    610.5,   5.8089,  34.5407, 2,  34.5390, 2,   -999.0, 9,    103.0, 2,    27.57, 2,    37.34, 2,     0.00, 2,     2.49, 2,    0.007, 2,    0.004, 2,   2242.4, 2,   -999.0, 9,   -999.0, 9,   5.7559,   -999.0, 9, -999.000, 9
316N19871218, SAVE2, 49, 1, 16, 16, 2, 19871223, 0156, -2.2483, 1.7133, 4591,  -999.00,    710.1,   5.0845,  34.4881, 2,  34.4870, 2,   -999.0, 9,    139.5, 2,    30.01, 2,    35.00, 2,     0.00, 2,     2.36, 2,    0.019, 2,    0.005, 2,   2226.0, 2,   -999.0, 9,   -999.0, 9,   5.0264,   -999.0, 9, -999.000, 9
316N19871218, SAVE2, 49, 1, 17, 17, 2, 19871223, 0156, -2.2483, 1.7133, 4591,  -999.00,    950.0,   4.4187,  34.5633, 2,  34.5610, 2,   -999.0, 9,    150.4, 2,    34.02, 2,    33.92, 2,     0.00, 2,     2.32, 2,    0.007, 2,    0.005, 2,   2229.1, 2,   -999.0, 9,   -999.0, 9,   4.3441,   -999.0, 9, -999.000, 9
316N19871218, SAVE2, 49, 1, 18, 18, 2, 19871223, 0156, -2.2483, 1.7133, 4591,  -999.00,   1100.6,   4.3397,  34.6869, 2,  34.6850, 2,   -999.0, 9,    162.6, 2,    31.86, 2,    31.57, 2,     0.00, 2,     2.15, 2,    0.001, 2,    0.005, 2,   2221.9, 2,   -999.0, 9,   -999.0, 9,   4.2524,   -999.0, 9, -999.000, 9
316N19871218, SAVE2, 49, 1, 19, 19, 2, 19871223, 0156, -2.2483, 1.7133, 4591,  -999.00,   1251.4,   4.2944,  34.8326, 2,  34.8300, 2,   -999.0, 9,    186.9, 2,    26.58, 2,    27.46, 2,     0.00, 2,     1.86, 2,    0.001, 2,    0.004, 2,   2206.4, 2,   -999.0, 9,   -999.0, 9,   4.1939,   -999.0, 9, -999.000, 9
316N19871218, SAVE2, 49, 1, 20, 20, 2, 19871223, 0156, -2.2483, 1.7133, 4591,  -999.00,   1524.0,   4.1216,  34.9647, 2,  34.9630, 2,   -999.0, 9,    234.2, 2,    18.96, 2,    21.30, 2,     0.00, 2,     1.42, 2,    0.018, 2,    0.006, 2,   2179.8, 2,   -999.0, 9,   -999.0, 9,   3.9978,   -999.0, 9, -999.000, 9
316N19871218, SAVE2, 49, 1, 21, 21, 2, 19871223, 0156, -2.2483, 1.7133, 4591,  -999.00,   1649.9,   3.9378,  34.9603, 2,  34.9590, 2,   -999.0, 9,    235.5, 2,    20.23, 2,    21.30, 2,     0.00, 2,     1.42, 2,    0.005, 2, -999.000, 9,   2182.3, 2,   -999.0, 9,   -999.0, 9,   3.8046,   -999.0, 9, -999.000, 9
316N19871218, SAVE2, 49, 1, 22, 22, 2, 19871223, 0156, -2.2483, 1.7133, 4591,  -999.00,   1775.1,   3.7455,  34.9596, 2,  34.9590, 2,   -999.0, 9,    240.7, 2,    21.01, 2,    21.01, 2,     0.00, 2,     1.39, 2, -999.000, 9, -999.000, 9,   2186.3, 2,   -999.0, 9,   -999.0, 9,   3.6031,   -999.0, 9, -999.000, 9
316N19871218, SAVE2, 49, 1, 23, 23, 2, 19871223, 0156, -2.2483, 1.7133, 4591,  -999.00,   1896.1,   3.5985,  34.9571, 2,  34.9560, 2,   -999.0, 9,    242.5, 2,    22.57, 2,    20.81, 2,     0.00, 2,     1.38, 2, -999.000, 9,    0.003, 2,   2179.7, 2,   -999.0, 9,   -999.0, 9,   3.4468,   -999.0, 9, -999.000, 9
316N19871218, SAVE2, 49, 1, 24, 24, 2, 19871223, 0156, -2.2483, 1.7133, 4591,  -999.00,   2098.1,   3.3676,  34.9495, 2,  34.9490, 2,   -999.0, 9,    243.8, 2,    25.70, 2,    20.91, 2,     0.00, 2,     1.39, 2, -999.000, 9, -999.000, 9,   2184.5, 2,   -999.0, 9,   -999.0, 9,   3.2003,   -999.0, 9, -999.000, 9
316N19871218, SAVE2, 49, 1, 25, 25, 2, 19871223, 0156, -2.2483, 1.7133, 4591,  -999.00,   2298.9,   3.2110,  34.9440, 2,  34.9430, 2,   -999.0, 9,    248.5, 2,    27.46, 2,    20.82, 2,     0.00, 2,     1.38, 2, -999.000, 9,    0.001, 2,   2188.5, 2,   -999.0, 9,   -999.0, 9,   3.0269,   -999.0, 9, -999.000, 9
316N19871218, SAVE2, 49, 1, 26, 26, 2, 19871223, 0156, -2.2483, 1.7133, 4591,  -999.00,   2479.4,   3.0687,  34.9343, 2,  34.9320, 2,   -999.0, 9,    242.9, 2,    31.47, 2,    21.40, 2,     0.00, 2,     1.43, 2, -999.000, 9,    0.003, 2,   2190.4, 2,   -999.0, 9,   -999.0, 9,   2.8695,   -999.0, 9, -999.000, 9
316N19871218, SAVE2, 49, 1, 27, 27, 2, 19871223, 0156, -2.2483, 1.7133, 4591,  -999.00,   2639.8,   2.9028,  34.9254, 2,  34.9230, 2,   -999.0, 9,    240.3, 2,    35.57, 2,    21.89, 2,     0.00, 2,     1.46, 2, -999.000, 9, -999.000, 9,   2195.3, 2,   -999.0, 9,   -999.0, 9,   2.6909,   -999.0, 9, -999.000, 9
316N19871218, SAVE2, 49, 1, 28, 28, 2, 19871223, 0156, -2.2483, 1.7133, 4591,  -999.00,   2795.2,   2.7815,  34.9173, 2,  34.9150, 2,   -999.0, 9,    239.4, 2,    38.02, 2,    22.09, 2,     0.00, 2,     1.47, 2,    0.011, 2,    0.005, 2,   2198.7, 2,   -999.0, 9,   -999.0, 9,   2.5565,   -999.0, 9, -999.000, 9
316N19871218, SAVE2, 49, 1, 29, 29, 2, 19871223, 0156, -2.2483, 1.7133, 4591,  -999.00,   3044.4,   2.6318,  34.9085, 2,  34.9070, 2,   -999.0, 9,    238.5, 2,    41.53, 2,    22.38, 2,     0.00, 2,     1.49, 2, -999.000, 9, -999.000, 9,   2205.3, 2,   -999.0, 9,   -999.0, 9,   2.3846,   -999.0, 9, -999.000, 9
316N19871218, SAVE2, 49, 1, 30, 30, 2, 19871223, 0156, -2.2483, 1.7133, 4591,  -999.00,   3309.4,   2.5119,  34.9010, 2,  34.8980, 2,   -999.0, 9,    239.0, 2,    44.27, 2,    22.57, 2,     0.00, 2,     1.50, 2,    0.010, 2,    0.001, 2,   2209.4, 2,   -999.0, 9,   -999.0, 9,   2.2397,   -999.0, 9, -999.000, 9
316N19871218, SAVE2, 49, 1, 31, 31, 2, 19871223, 0156, -2.2483, 1.7133, 4591,  -999.00,   3574.8,   2.4369,  34.8951, 2,  34.8920, 2,   -999.0, 9,    243.3, 2,    46.71, 2,    22.67, 2,     0.00, 2,     1.50, 2,    0.003, 2, -999.000, 9,   2210.5, 2,   -999.0, 9,   -999.0, 9,   2.1380,   -999.0, 9, -999.000, 9
316N19871218, SAVE2, 49, 1, 32, 32, 2, 19871223, 0156, -2.2483, 1.7133, 4591,  -999.00,   3810.2,   2.3734,  34.8894, 2,  34.8860, 2,   -999.0, 9,    242.9, 2,    47.10, 2,    22.57, 2,     0.00, 2,     1.50, 2, -999.000, 9, -999.000, 9,   2208.6, 2,   -999.0, 9,   -999.0, 9,   2.0502,   3806.0, 2,    2.372, 2
316N19871218, SAVE2, 49, 1, 33, 33, 2, 19871223, 0156, -2.2483, 1.7133, 4591,  -999.00,   4070.8,   2.3194,  34.8829, 2,  34.8790, 2,   -999.0, 9,    242.9, 2,    48.38, 2,    22.77, 2,     0.00, 2,     1.52, 2,    0.001, 2,    0.000, 2,   -999.0, 9,   -999.0, 9,   -999.0, 9,   1.9682,   -999.0, 9, -999.000, 9
316N19871218, SAVE2, 49, 1, 34, 34, 2, 19871223, 0156, -2.2483, 1.7133, 4591,  -999.00,   4401.6,   2.2523,  34.8742, 2,  34.8710, 2,   -999.0, 9,    242.4, 2,    51.41, 2,    23.06, 2,     0.00, 2,     1.52, 2, -999.000, 9, -999.000, 9,   2213.7, 2,   -999.0, 9,   -999.0, 9,   1.8645,   -999.0, 9, -999.000, 9
316N19871218, SAVE2, 49, 1, 35, 35, 2, 19871223, 0156, -2.2483, 1.7133, 4591,  -999.00,   4575.4,   2.2019,  34.8678, 2,  34.8640, 2,   -999.0, 9,    239.8, 2,    55.12, 2,    23.45, 2,     0.00, 2,     1.57, 2,    0.003, 2,    0.000, 2,   2220.8, 2,   -999.0, 9,   -999.0, 9,   1.7949,   -999.0, 9, -999.000, 9
316N19871218, SAVE2, 49, 1, 36, 36, 2, 19871223, 0156, -2.2483, 1.7133, 4591,  -999.00,   4671.2,   2.2092,  34.8671, 2,  34.8640, 2,   -999.0, 9,    239.4, 2,    55.31, 2,    23.55, 2,     0.00, 2,     1.57, 2,    0.001, 2,    0.000, 2,   2233.8, 2,   -999.0, 9,   -999.0, 9,   1.7904,   -999.0, 9, -999.000, 9