BOTTLE,20110114CCHDOSIODM
EXPOCODE,SECT_ID,STNNBR,CASTNO,SAMPNO,BTLNBR,BTLNBR_FLAG_W,DATE,TIME,LATITUDE,LONGITUDE,DEPTH,CTDRAW,CTDPRS,CTDTMP,CTDSAL,CTDSAL_FLAG_W,SALNTY,SALNTY_FLAG_W,CTDOXY,CTDOXY_FLAG_W,OXYGEN,OXYGEN_FLAG_W,SILCAT,SILCAT_FLAG_W,NITRAT,NITRAT_FLAG_W,NITRIT,NITRIT_FLAG_W,PHSPHT,PHSPHT_FLAG_W,CFC-11,CFC-11_FLAG_W,CFC-12,CFC-12_FLAG_W,TCARBN,TCARBN_FLAG_W,ALKALI,ALKALI_FLAG_W,PCO2,PCO2_FLAG_W,THETA,REVPRS,REVPRS_FLAG_W,REVTMP,REVTMP_FLAG_W
,,,,,,,,,,,METERS,DBAR,DBAR,ITS-68,PSS-78,,PSS-78,,UMOL/KG,,UMOL/KG,,UMOL/KG,,UMOL/KG,,UMOL/KG,,UMOL/KG,,PMOL/KG,,PMOL/KG,,UMOL/KG,,UMOL/KG,,UATM,,DEG C,DBAR,,ITS-68,
316N19871218, SAVE2, 72, 1, 1, 1, 2, 19880105, 0823, -13.0467, -3.3967, 4167,  -999.00,      2.5,  23.8115,  36.5129, 2,  36.5170, 2,   -999.0, 9,    213.1, 2,     1.27, 2,     0.00, 2,     0.00, 2,     0.19, 2,    1.735, 2, -999.000, 9,   2064.3, 2,   -999.0, 9,   -999.0, 9,  23.8110,   -999.0, 9, -999.000, 9
316N19871218, SAVE2, 72, 1, 2, 2, 2, 19880105, 0823, -13.0467, -3.3967, 4167,  -999.00,     24.0,  23.7675,  36.5097, 2,  36.5130, 2,   -999.0, 9,    213.1, 2,     1.27, 2,     0.00, 2,     0.00, 2,     0.18, 2,    1.716, 2, -999.000, 9,   2065.3, 2,   -999.0, 9,   -999.0, 9,  23.7625,   -999.0, 9, -999.000, 9
316N19871218, SAVE2, 72, 1, 3, 3, 2, 19880105, 0823, -13.0467, -3.3967, 4167,  -999.00,     36.2,  23.1207,  36.5149, 2,  36.5260, 2,   -999.0, 9,    218.3, 2,     1.27, 2,     0.00, 2,     0.00, 2,     0.18, 2,    1.789, 2, -999.000, 9,   2065.7, 2,   -999.0, 9,   -999.0, 9,  23.1132,   -999.0, 9, -999.000, 9
316N19871218, SAVE2, 72, 1, 4, 4, 2, 19880105, 0823, -13.0467, -3.3967, 4167,  -999.00,     55.7,  20.4265,  36.3510, 2,  36.3570, 2,   -999.0, 9,    213.3, 2,     1.46, 2,     1.76, 2,     0.07, 2,     0.33, 2,    1.764, 2, -999.000, 9,   2082.9, 2,   -999.0, 9,   -999.0, 9,  20.4160,   -999.0, 9, -999.000, 9
316N19871218, SAVE2, 72, 1, 5, 5, 2, 19880105, 0823, -13.0467, -3.3967, 4167,  -999.00,     70.4,  18.7711,  36.1476, 2,  36.1280, 2,   -999.0, 9,    172.4, 2,     2.83, 2,     8.30, 2,     0.41, 2,     0.72, 2,    1.670, 2, -999.000, 9,   2122.6, 2,   -999.0, 9,   -999.0, 9,  18.7586,   -999.0, 9, -999.000, 9
316N19871218, SAVE2, 72, 1, 6, 6, 2, 19880105, 0823, -13.0467, -3.3967, 4167,  -999.00,     90.6,  16.7419,  35.8334, 2,  35.8130, 2,   -999.0, 9,    125.3, 2,     4.98, 2,    16.02, 2,     0.36, 2,     1.14, 2,    1.379, 2, -999.000, 9,   2162.9, 2,   -999.0, 9,   -999.0, 9,  16.7270,   -999.0, 9, -999.000, 9
316N19871218, SAVE2, 72, 1, 7, 7, 2, 19880105, 0823, -13.0467, -3.3967, 4167,  -999.00,    134.6,  12.9167,  35.2843, 2,  35.2770, 2,   -999.0, 9,     52.6, 2,    10.06, 2,    28.43, 2,     0.02, 2,     1.82, 2,    0.623, 2, -999.000, 9,   2224.0, 2,   -999.0, 9,   -999.0, 9,  12.8983,   -999.0, 9, -999.000, 9
316N19871218, SAVE2, 72, 1, 8, 8, 2, 19880105, 0823, -13.0467, -3.3967, 4167,  -999.00,    174.9,  11.8943,  35.1595, 2,  35.1560, 2,   -999.0, 9,     51.3, 2,    11.82, 2,    30.19, 2,     0.02, 2,     1.92, 2,    0.374, 2, -999.000, 9,   2229.7, 2,   -999.0, 9,   -999.0, 9,  11.8716,   -999.0, 9, -999.000, 9
316N19871218, SAVE2, 72, 1, 9, 9, 2, 19880105, 0823, -13.0467, -3.3967, 4167,  -999.00,    204.7,  11.1397,  35.0705, 2,  35.0680, 2,   -999.0, 9,     58.7, 2,    13.00, 2,    30.68, 2,     0.01, 2,     1.96, 2,    0.251, 2, -999.000, 9,   2227.5, 2,   -999.0, 9,   -999.0, 9,  11.1143,   -999.0, 9, -999.000, 9
316N19871218, SAVE2, 72, 1, 10, 10, 2, 19880105, 0823, -13.0467, -3.3967, 4167,  -999.00,    244.4,  10.5031,  34.9917, 2,  34.9960, 2,   -999.0, 9,     59.1, 2,    14.07, 2,    31.95, 2,     0.01, 2,     2.03, 2,    0.171, 2, -999.000, 9,   2232.6, 2,   -999.0, 9,   -999.0, 9,  10.4738,   -999.0, 9, -999.000, 9
316N19871218, SAVE2, 72, 1, 11, 11, 2, 19880105, 0823, -13.0467, -3.3967, 4167,  -999.00,    289.6,   9.9704,  34.9303, 2,  34.9310, 2,   -999.0, 9,     58.3, 2,    15.34, 2,    33.13, 2,     0.01, 2,     2.10, 2,    0.119, 2, -999.000, 9,   2238.3, 2,   -999.0, 9,   -999.0, 9,   9.9368,   -999.0, 9, -999.000, 9
316N19871218, SAVE2, 72, 1, 12, 12, 2, 19880105, 0823, -13.0467, -3.3967, 4167,  -999.00,    374.8,   8.8741,  34.8098, 2,  34.8090, 2,   -999.0, 9,     59.6, 2,    17.49, 2,    35.28, 2,     0.00, 2,     2.25, 2,    0.054, 2, -999.000, 9,   2244.7, 2,   -999.0, 9,   -999.0, 9,   8.8334,   -999.0, 9, -999.000, 9
316N19871218, SAVE2, 72, 1, 13, 13, 2, 19880105, 0823, -13.0467, -3.3967, 4167,  -999.00,    464.8,   7.7939,  34.7007, 2,  34.7030, 2,   -999.0, 9,     63.5, 2,    20.62, 2,    37.34, 2,     0.00, 2,     2.39, 2,    0.021, 2, -999.000, 9,   2250.5, 2,   -999.0, 9,   -999.0, 9,   7.7469,   -999.0, 9, -999.000, 9
316N19871218, SAVE2, 72, 1, 14, 14, 2, 19880105, 0823, -13.0467, -3.3967, 4167,  -999.00,    539.9,   6.7856,  34.6119, 2,  34.6160, 2,   -999.0, 9,     73.0, 2,    23.36, 2,    38.61, 2,     0.00, 2,     2.50, 2,    0.010, 2, -999.000, 9,   2251.6, 2,   -999.0, 9,   -999.0, 9,   6.7349,   -999.0, 9, -999.000, 9
316N19871218, SAVE2, 72, 1, 15, 15, 2, 19880105, 0823, -13.0467, -3.3967, 4167,  -999.00,    619.9,   5.8962,  34.5459, 2,  34.5420, 2,   -999.0, 9,     87.8, 2,    27.08, 2,    39.10, 2,     0.00, 2,     2.56, 2,    0.004, 2, -999.000, 9,   2253.6, 2,   -999.0, 9,   -999.0, 9,   5.8420,   -999.0, 9, -999.000, 9
316N19871218, SAVE2, 72, 1, 16, 16, 2, 19880105, 0823, -13.0467, -3.3967, 4167,  -999.00,    685.0,   5.3616,  34.5139, 2,  34.5130, 2,   -999.0, 9,    102.2, 2,    29.62, 2,    38.81, 2,     0.00, 2,     2.56, 2, -999.000, 9, -999.000, 9,   2248.4, 2,   -999.0, 9,   -999.0, 9,   5.3042,   -999.0, 9, -999.000, 9
316N19871218, SAVE2, 72, 1, 17, 17, 2, 19880105, 0823, -13.0467, -3.3967, 4167,  -999.00,    785.1,   4.8030,  34.4993, 2,  34.4970, 2,   -999.0, 9,    122.2, 2,    32.55, 2,    37.64, 2,     0.00, 2,     2.52, 2, -999.000, 9, -999.000, 9,   2248.3, 2,   -999.0, 9,   -999.0, 9,   4.7400,   -999.0, 9, -999.000, 9
316N19871218, SAVE2, 72, 1, 18, 18, 2, 19880105, 0823, -13.0467, -3.3967, 4167,  -999.00,    880.4,   4.4293,  34.5129, 2,  34.5130, 2,   -999.0, 9,    136.9, 2,    34.80, 2,    36.27, 2,     0.00, 2,     2.45, 2, -999.000, 9, -999.000, 9,   -999.0, 9,   -999.0, 9,   -999.0, 9,   4.3605,   -999.0, 9, -999.000, 9
316N19871218, SAVE2, 72, 1, 19, 19, 2, 19880105, 0823, -13.0467, -3.3967, 4167,  -999.00,    910.8,   4.3254,  34.5237, 2,  34.5290, 2,   -999.0, 9,    140.0, 2,    35.48, 2,    35.97, 2,     0.00, 2,     2.45, 2,    0.001, 2, -999.000, 9,   2243.3, 2,   -999.0, 9,   -999.0, 9,   4.2548,   -999.0, 9, -999.000, 9
316N19871218, SAVE2, 72, 1, 20, 20, 2, 19880105, 0823, -13.0467, -3.3967, 4167,  -999.00,    980.9,   4.1615,  34.5546, 2,  34.5540, 2,   -999.0, 9,    146.0, 2,    36.66, 2,    35.29, 2,     0.00, 2,     2.38, 2, -999.000, 9, -999.000, 9,   -999.0, 9,   -999.0, 9,   -999.0, 9,   4.0861,   -999.0, 9, -999.000, 9
316N19871218, SAVE2, 72, 1, 21, 21, 2, 19880105, 0823, -13.0467, -3.3967, 4167,  -999.00,   1106.3,   3.9786,  34.6318, 2,  34.6300, 2,   -999.0, 9,    157.8, 2,    36.36, 2,    33.04, 2,     0.00, 2,     2.26, 2, -999.000, 9, -999.000, 9,   2238.3, 2,   -999.0, 9,   -999.0, 9,   3.8940,   -999.0, 9, -999.000, 9
316N19871218, SAVE2, 72, 1, 22, 22, 2, 19880105, 0823, -13.0467, -3.3967, 4167,  -999.00,   1232.3,   3.8727,  34.7173, 2,  34.7170, 2,   -999.0, 9,    173.0, 2,    34.40, 2,    30.59, 2,     0.00, 2,     2.07, 2,    0.001, 2, -999.000, 9,   -999.0, 9,   -999.0, 9,   -999.0, 9,   3.7781,   -999.0, 9, -999.000, 9
316N19871218, SAVE2, 72, 1, 23, 23, 2, 19880105, 0823, -13.0467, -3.3967, 4167,  -999.00,   1433.3,   3.7488,  34.8314, 2,  34.8310, 2,   -999.0, 9,    197.7, 2,    30.79, 2,    26.78, 2,     0.00, 2,     1.81, 2, -999.000, 9,    0.003, 2,   -999.0, 9,   -999.0, 9,   -999.0, 9,   3.6377,   -999.0, 9, -999.000, 9
316N19871218, SAVE2, 72, 1, 24, 24, 2, 19880105, 0823, -13.0467, -3.3967, 4167,  -999.00,   1632.1,   3.5989,  34.8925, 2,  34.8920, 2,   -999.0, 9,    215.1, 2,    29.02, 2,    24.33, 2,     0.00, 2,     1.64, 2, -999.000, 9, -999.000, 9,   2200.0, 2,   -999.0, 9,   -999.0, 9,   3.4717,   -999.0, 9, -999.000, 9
316N19871218, SAVE2, 72, 1, 25, 25, 2, 19880105, 0823, -13.0467, -3.3967, 4167,  -999.00,   1831.8,   3.4261,  34.9136, 2,  34.9120, 2,   -999.0, 9,    223.8, 2,    29.81, 2,    23.36, 2,     0.00, 2,     1.56, 2,    0.003, 2, -999.000, 9,   -999.0, 9,   -999.0, 9,   -999.0, 9,   3.2829,   -999.0, 9, -999.000, 9
316N19871218, SAVE2, 72, 1, 26, 26, 2, 19880105, 0823, -13.0467, -3.3967, 4167,  -999.00,   2034.0,   3.2412,  34.9187, 2,  34.9190, 2,   -999.0, 9,    229.9, 2,    31.66, 2,    22.87, 2,     0.00, 2,     1.53, 2,    0.005, 2, -999.000, 9,   2197.4, 2,   -999.0, 9,   -999.0, 9,   3.0820,   -999.0, 9, -999.000, 9
316N19871218, SAVE2, 72, 1, 27, 27, 2, 19880105, 0823, -13.0467, -3.3967, 4167,  -999.00,   2231.0,   3.0604,  34.9159, 2,  34.9160, 2,   -999.0, 9,    234.2, 2,    34.50, 2,    22.67, 2,     0.00, 2,     1.51, 2, -999.000, 9, -999.000, 9,   -999.0, 9,   -999.0, 9,   -999.0, 9,   2.8855,   -999.0, 9, -999.000, 9
316N19871218, SAVE2, 72, 1, 28, 28, 2, 19880105, 0823, -13.0467, -3.3967, 4167,  -999.00,   2433.7,   2.9035,  34.9111, 2,  34.9120, 2,   -999.0, 9,    236.4, 2,    37.43, 2,    22.67, 2,     0.00, 2,     1.51, 2, -999.000, 9, -999.000, 9,   -999.0, 9,   -999.0, 9,   -999.0, 9,   2.7119,   -999.0, 9, -999.000, 9
316N19871218, SAVE2, 72, 1, 29, 29, 2, 19880105, 0823, -13.0467, -3.3967, 4167,  -999.00,   2635.6,   2.7486,  34.9057, 2,  34.9050, 2,   -999.0, 9,    236.4, 2,    40.65, 2,    22.87, 2,     0.00, 2,     1.53, 2, -999.000, 9, -999.000, 9,   -999.0, 9,   -999.0, 9,   -999.0, 9,   2.5402,   -999.0, 9, -999.000, 9
316N19871218, SAVE2, 72, 1, 30, 30, 2, 19880105, 0823, -13.0467, -3.3967, 4167,  -999.00,   2833.5,   2.6327,  34.9003, 2,  34.9010, 2,   -999.0, 9,    236.4, 2,    43.49, 2,    22.87, 2,     0.00, 2,     1.53, 2,    0.000, 2, -999.000, 9,   2208.9, 2,   -999.0, 9,   -999.0, 9,   2.4070,   -999.0, 9, -999.000, 9
316N19871218, SAVE2, 72, 1, 31, 31, 2, 19880105, 0823, -13.0467, -3.3967, 4167,  -999.00,   3082.3,   2.5188,  34.8941, 2,  34.8960, 2,   -999.0, 9,    235.9, 2,    46.71, 2,    23.16, 2,     0.00, 2,     1.55, 2, -999.000, 9, -999.000, 9,   -999.0, 9,   -999.0, 9,   -999.0, 9,   2.2702,   -999.0, 9, -999.000, 9
316N19871218, SAVE2, 72, 1, 32, 32, 2, 19880105, 0823, -13.0467, -3.3967, 4167,  -999.00,   3336.0,   2.4529,  34.8911, 2,  34.8920, 2,   -999.0, 9,    235.9, 2,    48.57, 2,    23.26, 2,     0.00, 2,     1.55, 2,    0.002, 2, -999.000, 9,   -999.0, 9,   -999.0, 9,   -999.0, 9,   2.1793,   3349.5, 2,    2.439, 2
316N19871218, SAVE2, 72, 1, 33, 33, 2, 19880105, 0823, -13.0467, -3.3967, 4167,  -999.00,   3585.2,   2.4189,  34.8884, 2,  34.8900, 2,   -999.0, 9,    236.4, 2,    49.74, 2,    23.26, 2,     0.00, 2,     1.55, 2, -999.000, 9, -999.000, 9,   2212.1, 2,   -999.0, 9,   -999.0, 9,   2.1194,   -999.0, 9, -999.000, 9
316N19871218, SAVE2, 72, 1, 34, 34, 2, 19880105, 0823, -13.0467, -3.3967, 4167,  -999.00,   3839.3,   2.3899,  34.8865, 2,  34.8870, 2,   -999.0, 9,    236.4, 2,    50.04, 2,    23.26, 2,     0.00, 2,     1.57, 2, -999.000, 9, -999.000, 9,   -999.0, 9,   -999.0, 9,   -999.0, 9,   2.0630,   -999.0, 9, -999.000, 9
316N19871218, SAVE2, 72, 1, 35, 35, 2, 19880105, 0823, -13.0467, -3.3967, 4167,  -999.00,   4088.9,   2.3959,  34.8865, 2,  34.8860, 2,   -999.0, 9,    236.4, 2,    50.72, 2,    23.36, 2,     0.00, 2,     1.57, 2, -999.000, 9, -999.000, 9,   -999.0, 9,   -999.0, 9,   -999.0, 9,   2.0404,   4084.2, 2,    2.392, 2
316N19871218, SAVE2, 72, 1, 36, 36, 2, 19880105, 0823, -13.0467, -3.3967, 4167,  -999.00,   4226.6,   2.3899,  34.8855, 2,  34.8850, 2,   -999.0, 9,    236.4, 2,    51.11, 2,    23.26, 2,     0.00, 2,     1.55, 2, -999.000, 9, -999.000, 9,   2213.8, 2,   -999.0, 9,   -999.0, 9,   2.0186,   -999.0, 9, -999.000, 9