BOTTLE,20110114CCHDOSIODM
EXPOCODE,SECT_ID,STNNBR,CASTNO,SAMPNO,BTLNBR,BTLNBR_FLAG_W,DATE,TIME,LATITUDE,LONGITUDE,DEPTH,CTDRAW,CTDPRS,CTDTMP,CTDSAL,CTDSAL_FLAG_W,SALNTY,SALNTY_FLAG_W,CTDOXY,CTDOXY_FLAG_W,OXYGEN,OXYGEN_FLAG_W,SILCAT,SILCAT_FLAG_W,NITRAT,NITRAT_FLAG_W,NITRIT,NITRIT_FLAG_W,PHSPHT,PHSPHT_FLAG_W,CFC-11,CFC-11_FLAG_W,CFC-12,CFC-12_FLAG_W,TCARBN,TCARBN_FLAG_W,ALKALI,ALKALI_FLAG_W,PCO2,PCO2_FLAG_W,THETA,REVPRS,REVPRS_FLAG_W,REVTMP,REVTMP_FLAG_W
,,,,,,,,,,,METERS,DBAR,DBAR,ITS-68,PSS-78,,PSS-78,,UMOL/KG,,UMOL/KG,,UMOL/KG,,UMOL/KG,,UMOL/KG,,UMOL/KG,,PMOL/KG,,PMOL/KG,,UMOL/KG,,UMOL/KG,,UATM,,DEG C,DBAR,,ITS-68,
316N19871218, SAVE2, 86, 1, 1, 1, 2, 19880112, 0723, -16.0783, -20.3000, 4556,  -999.00,      1.3,  25.5212,  37.1326, 2,  37.1330, 2,   -999.0, 9,    207.0, 2,     1.07, 2,     0.10, 2,     0.00, 2,     0.20, 2,    1.597, 2,    0.806, 2,   2087.6, 2,   2449.4, 2,    301.9, 2,  25.5209,   -999.0, 9, -999.000, 9
316N19871218, SAVE2, 86, 1, 2, 2, 2, 19880112, 0723, -16.0783, -20.3000, 4556,  -999.00,     44.9,  25.4892,  37.1283, 2,  37.1300, 2,   -999.0, 9,    207.0, 2,     1.07, 2,     0.10, 2,     0.00, 2,     0.20, 2,    1.632, 2,    0.808, 2,   -999.0, 9,   -999.0, 9,   -999.0, 9,  25.4792,   -999.0, 9, -999.000, 9
316N19871218, SAVE2, 86, 1, 3, 3, 2, 19880112, 0723, -16.0783, -20.3000, 4556,  -999.00,     71.8,  23.7490,  36.8342, 2,  36.8400, 2,   -999.0, 9,    219.6, 2,     1.07, 2,     0.10, 2,     0.00, 2,     0.20, 2,    1.754, 2,    0.863, 2,   -999.0, 9,   -999.0, 9,   -999.0, 9,  23.7339,   -999.0, 9, -999.000, 9
316N19871218, SAVE2, 86, 1, 4, 4, 2, 19880112, 0723, -16.0783, -20.3000, 4556,  -999.00,     83.4,  23.2760,  36.7792, 2,  36.7790, 2,   -999.0, 9,    221.7, 2,     1.07, 2,     0.10, 2,     0.00, 2,     0.20, 2,    1.798, 2,    0.892, 2,   -999.0, 9,   -999.0, 9,   -999.0, 9,  23.2587,   -999.0, 9, -999.000, 9
316N19871218, SAVE2, 86, 1, 5, 5, 2, 19880112, 0723, -16.0783, -20.3000, 4556,  -999.00,    135.8,  21.4849,  36.5257, 2,  36.5100, 2,   -999.0, 9,    211.6, 2,     1.07, 2,     0.10, 2,     0.02, 2,     0.26, 2,    1.859, 2,    0.906, 2,   -999.0, 9,   -999.0, 9,   -999.0, 9,  21.4583,   -999.0, 9, -999.000, 9
316N19871218, SAVE2, 86, 1, 6, 6, 2, 19880112, 0723, -16.0783, -20.3000, 4556,  -999.00,    143.7,  20.7040,  36.3909, 2,  36.3890, 2,   -999.0, 9,    209.4, 2,     1.07, 2,     0.29, 2,     0.07, 2,     0.29, 2,    1.854, 2,    0.915, 2,   -999.0, 9,   -999.0, 9,   -999.0, 9,  20.6765,   -999.0, 9, -999.000, 9
316N19871218, SAVE2, 86, 1, 7, 7, 2, 19880112, 0723, -16.0783, -20.3000, 4556,  -999.00,    167.4,  18.8381,  36.0394, 2,  35.9980, 2,   -999.0, 9,    205.9, 2,     1.76, 2,     1.66, 2,     0.11, 2,     0.38, 2,    1.931, 2,    0.940, 2,   -999.0, 9,   -999.0, 9,   -999.0, 9,  18.8082,   -999.0, 9, -999.000, 9
316N19871218, SAVE2, 86, 1, 8, 8, 2, 19880112, 0723, -16.0783, -20.3000, 4556,  -999.00,    204.7,  15.9434,  35.5746, 2,  35.5660, 2,   -999.0, 9,    198.0, 2,     2.64, 2,     6.06, 2,     0.01, 2,     0.60, 2,    1.909, 2,    0.903, 2,   -999.0, 9,   -999.0, 9,   -999.0, 9,  15.9109,   -999.0, 9, -999.000, 9
316N19871218, SAVE2, 86, 1, 9, 9, 2, 19880112, 0723, -16.0783, -20.3000, 4556,  -999.00,    269.7,  13.1770,  35.1960, 2,  35.1950, 2,   -999.0, 9,    171.8, 2,     5.37, 2,    14.26, 2,     0.01, 2,     1.05, 2,    1.464, 2,    0.702, 2,   -999.0, 9,   -999.0, 9,   -999.0, 9,  13.1394,   -999.0, 9, -999.000, 9
316N19871218, SAVE2, 86, 1, 10, 10, 2, 19880112, 0723, -16.0783, -20.3000, 4556,  -999.00,    363.7,  10.3288,  34.8970, 2,  34.8980, 2,   -999.0, 9,    129.2, 2,    11.24, 2,    24.53, 2,     0.00, 2,     1.65, 2,    0.656, 2,    0.321, 2,   -999.0, 9,   -999.0, 9,   -999.0, 9,  10.2855,   -999.0, 9, -999.000, 9
316N19871218, SAVE2, 86, 1, 11, 11, 2, 19880112, 0723, -16.0783, -20.3000, 4556,  -999.00,    431.0,   8.9963,  34.7722, 2,  34.7650, 2,   -999.0, 9,    115.2, 2,    15.15, 2,    29.13, 2,     0.00, 2,     1.94, 2,    0.315, 2,    0.162, 2,   -999.0, 9,   -999.0, 9,   -999.0, 9,   8.9490,   -999.0, 9, -999.000, 9
316N19871218, SAVE2, 86, 1, 12, 12, 2, 19880112, 0723, -16.0783, -20.3000, 4556,  -999.00,    511.1,   7.1211,  34.6004, 2,  34.5920, 2,   -999.0, 9,    136.1, 2,    19.94, 2,    31.18, 2,     0.00, 2,     2.07, 2,    0.116, 2,    0.067, 2,   -999.0, 9,   -999.0, 9,   -999.0, 9,   7.0720,   -999.0, 9, -999.000, 9
316N19871218, SAVE2, 86, 1, 13, 13, 2, 19880112, 0723, -16.0783, -20.3000, 4556,  -999.00,    601.0,   5.6847,  34.4829, 2,  34.4890, 2,   -999.0, 9,    150.9, 2,    24.54, 2,    32.55, 2,     0.00, 2,     2.19, 2,    0.049, 2,    0.032, 2,   -999.0, 9,   -999.0, 9,   -999.0, 9,   5.6333,   -999.0, 9, -999.000, 9
316N19871218, SAVE2, 86, 1, 14, 14, 2, 19880112, 0723, -16.0783, -20.3000, 4556,  -999.00,    691.4,   4.8941,  34.4508, 2,  34.4500, 2,   -999.0, 9,    156.5, 2,    29.33, 2,    33.63, 2,     0.00, 2,     2.27, 2,    0.023, 2,    0.015, 2,   2218.9, 2,   2312.8, 2,   1122.6, 2,   4.8387,   -999.0, 9, -999.000, 9
316N19871218, SAVE2, 86, 1, 15, 15, 2, 19880112, 0723, -16.0783, -20.3000, 4556,  -999.00,    771.9,   4.4473,  34.4465, 2,  34.4470, 2,   -999.0, 9,    162.1, 2,    32.94, 2,    33.73, 2,     0.00, 2,     2.29, 2,    0.009, 2,    0.004, 2,   -999.0, 9,   -999.0, 9,   -999.0, 9,   4.3877,   -999.0, 9, -999.000, 9
316N19871218, SAVE2, 86, 1, 16, 16, 2, 19880112, 0723, -16.0783, -20.3000, 4556,  -999.00,    852.1,   4.0415,  34.4437, 2,  34.4450, 2,   -999.0, 9,    174.7, 2,    35.98, 2,    33.14, 2,     0.00, 2,     2.27, 2, -999.000, 9, -999.000, 9,   2223.1, 2,   2325.1, 2,   1069.7, 2,   3.9778,   -999.0, 9, -999.000, 9
316N19871218, SAVE2, 86, 1, 17, 17, 2, 19880112, 0723, -16.0783, -20.3000, 4556,  -999.00,    897.2,   3.9676,  34.4748, 2,  34.4750, 2,   -999.0, 9,    171.7, 2,    36.95, 2,    33.24, 2,     0.00, 2,     2.26, 2,    0.002, 2, -999.000, 9,   -999.0, 9,   -999.0, 9,   -999.0, 9,   3.9007,   -999.0, 9, -999.000, 9
316N19871218, SAVE2, 86, 1, 18, 18, 2, 19880112, 0723, -16.0783, -20.3000, 4556,  -999.00,   1002.8,   3.8227,  34.5154, 2,  34.5160, 2,   -999.0, 9,    175.2, 2,    38.12, 2,    32.55, 2,     0.00, 2,     2.23, 2, -999.000, 9, -999.000, 9,   -999.0, 9,   -999.0, 9,   -999.0, 9,   3.7481,   -999.0, 9, -999.000, 9
316N19871218, SAVE2, 86, 1, 19, 19, 2, 19880112, 0723, -16.0783, -20.3000, 4556,  -999.00,   1083.2,   3.8077,  34.5829, 2,  34.5850, 2,   -999.0, 9,    175.2, 2,    37.54, 2,    31.77, 2,     0.00, 2,     2.17, 2,    0.000, 2, -999.000, 9,   -999.0, 9,   -999.0, 9,   -999.0, 9,   3.7265,   -999.0, 9, -999.000, 9
316N19871218, SAVE2, 86, 1, 20, 20, 2, 19880112, 0723, -16.0783, -20.3000, 4556,  -999.00,   1309.3,   3.7797,  34.7556, 2,  34.7570, 2,   -999.0, 9,    194.3, 2,    32.74, 2,    27.95, 2,     0.00, 2,     1.90, 2, -999.000, 9, -999.000, 9,   -999.0, 9,   -999.0, 9,   -999.0, 9,   3.6793,   -999.0, 9, -999.000, 9
316N19871218, SAVE2, 86, 1, 21, 21, 2, 19880112, 0723, -16.0783, -20.3000, 4556,  -999.00,   1541.6,   3.6488,  34.8842, 2,  34.8840, 2,   -999.0, 9,    222.5, 2,    27.36, 2,    23.75, 2,     0.00, 2,     1.59, 2,    0.002, 2, -999.000, 9,   -999.0, 9,   -999.0, 9,   -999.0, 9,   3.5290,   -999.0, 9, -999.000, 9
316N19871218, SAVE2, 86, 1, 22, 22, 2, 19880112, 0723, -16.0783, -20.3000, 4556,  -999.00,   1697.9,   3.4039,  34.8986, 2,  34.9000, 2,   -999.0, 9,    231.6, 2,    28.73, 2,    22.77, 2,     0.00, 2,     1.53, 2, -999.000, 9, -999.000, 9,   -999.0, 9,   -999.0, 9,   -999.0, 9,   3.2732,   -999.0, 9, -999.000, 9
316N19871218, SAVE2, 86, 1, 23, 23, 2, 19880112, 0723, -16.0783, -20.3000, 4556,  -999.00,   1866.2,   3.1450,  34.9050, 2,  34.9050, 2,   -999.0, 9,    237.7, 2,    31.57, 2,    22.18, 2,     0.00, 2,     1.50, 2, -999.000, 9, -999.000, 9,   -999.0, 9,   -999.0, 9,   -999.0, 9,   3.0026,   -999.0, 9, -999.000, 9
316N19871218, SAVE2, 86, 1, 24, 24, 2, 19880112, 0723, -16.0783, -20.3000, 4556,  -999.00,   2040.9,   3.0101,  34.9043, 2,  34.9050, 2,   -999.0, 9,    239.8, 2,    34.01, 2,    22.09, 2,     0.00, 2,     1.49, 2, -999.000, 9, -999.000, 9,   -999.0, 9,   -999.0, 9,   -999.0, 9,   2.8538,   -999.0, 9, -999.000, 9
316N19871218, SAVE2, 86, 1, 25, 25, 2, 19880112, 0723, -16.0783, -20.3000, 4556,  -999.00,   2215.4,   2.9122,  34.9036, 2,  34.9050, 2,   -999.0, 9,    240.7, 2,    35.77, 2,    22.09, 2,     0.00, 2,     1.49, 2,    0.007, 2,    0.001, 2,   -999.0, 9,   -999.0, 9,   -999.0, 9,   2.7412,   -999.0, 9, -999.000, 9
316N19871218, SAVE2, 86, 1, 26, 26, 2, 19880112, 0723, -16.0783, -20.3000, 4556,  -999.00,   2467.8,   2.7772,  34.9004, 2,  34.9000, 2,   -999.0, 9,    241.6, 2,    38.80, 2,    22.18, 2,     0.00, 2,     1.50, 2, -999.000, 9, -999.000, 9,   -999.0, 9,   -999.0, 9,   -999.0, 9,   2.5847,   -999.0, 9, -999.000, 9
316N19871218, SAVE2, 86, 1, 27, 27, 2, 19880112, 0723, -16.0783, -20.3000, 4556,  -999.00,   2728.3,   2.7083,  34.8972, 2,  34.8970, 2,   -999.0, 9,    241.1, 2,    40.75, 2,    22.38, 2,     0.00, 2,     1.50, 2, -999.000, 9, -999.000, 9,   -999.0, 9,   -999.0, 9,   -999.0, 9,   2.4915,   -999.0, 9, -999.000, 9
316N19871218, SAVE2, 86, 1, 28, 28, 2, 19880112, 0723, -16.0783, -20.3000, 4556,  -999.00,   3011.6,   2.6253,  34.8922, 2,  34.8940, 2,   -999.0, 9,    241.6, 2,    42.71, 2,    22.57, 2,     0.00, 2,     1.51, 2, -999.000, 9, -999.000, 9,   -999.0, 9,   -999.0, 9,   -999.0, 9,   2.3817,   -999.0, 9, -999.000, 9
316N19871218, SAVE2, 86, 1, 29, 29, 2, 19880112, 0723, -16.0783, -20.3000, 4556,  -999.00,   3205.3,   2.5534,  34.8881, 2,  34.8880, 2,   -999.0, 9,    242.0, 2,    44.76, 2,    22.67, 2,     0.00, 2,     1.52, 2, -999.000, 9, -999.000, 9,   -999.0, 9,   -999.0, 9,   -999.0, 9,   2.2912,   -999.0, 9, -999.000, 9
316N19871218, SAVE2, 86, 1, 30, 30, 2, 19880112, 0723, -16.0783, -20.3000, 4556,  -999.00,   3574.8,   2.3645,  34.8767, 2,  34.8790, 2,   -999.0, 9,    244.2, 2,    48.28, 2,    22.77, 2,     0.00, 2,     1.52, 2, -999.000, 9, -999.000, 9,   -999.0, 9,   -999.0, 9,   -999.0, 9,   2.0675,   -999.0, 9, -999.000, 9
316N19871218, SAVE2, 86, 1, 31, 31, 2, 19880112, 0723, -16.0783, -20.3000, 4556,  -999.00,   3736.3,   2.1996,  34.8625, 2,  34.8650, 2,   -999.0, 9,    243.7, 2,    53.26, 2,    23.36, 2,     0.00, 2,     1.57, 2, -999.000, 9, -999.000, 9,   -999.0, 9,   -999.0, 9,   -999.0, 9,   1.8893,   -999.0, 9, -999.000, 9
316N19871218, SAVE2, 86, 1, 32, 32, 2, 19880112, 0723, -16.0783, -20.3000, 4556,  -999.00,   3899.3,   1.9537,  34.8403, 2,  34.8420, 2,   -999.0, 9,    241.6, 2,    61.77, 2,    24.43, 2,     0.00, 2,     1.65, 2, -999.000, 9, -999.000, 9,   -999.0, 9,   -999.0, 9,   -999.0, 9,   1.6323,   3888.8, 2,    1.950, 2
316N19871218, SAVE2, 86, 1, 33, 33, 2, 19880112, 0723, -16.0783, -20.3000, 4556,  -999.00,   4093.4,   1.4800,  34.7929, 2,  34.7960, 2,   -999.0, 9,    235.9, 2,    79.46, 2,    26.68, 2,     0.00, 2,     1.82, 2, -999.000, 9, -999.000, 9,   -999.0, 9,   -999.0, 9,   -999.0, 9,   1.1507,   -999.0, 9, -999.000, 9
316N19871218, SAVE2, 86, 1, 34, 34, 2, 19880112, 0723, -16.0783, -20.3000, 4556,  -999.00,   4358.9,   1.2022,  34.7664, 2, -999.0000, 9,   -999.0, 9,   -999.0, 9,  -999.00, 9,  -999.00, 9,  -999.00, 9,  -999.00, 9, -999.000, 9, -999.000, 9,   -999.0, 9,   -999.0, 9,   -999.0, 9,   0.8518,   -999.0, 9, -999.000, 9
316N19871218, SAVE2, 86, 1, 35, 35, 2, 19880112, 0723, -16.0783, -20.3000, 4556,  -999.00,   4359.4,   1.2022,  34.7662, 2,  34.7650, 2,   -999.0, 9,    231.6, 2,    90.80, 2,    28.15, 2,     0.00, 2,     1.94, 2, -999.000, 9, -999.000, 9,   -999.0, 9,   -999.0, 9,   -999.0, 9,   0.8518,   4377.3, 2,    1.206, 2
316N19871218, SAVE2, 86, 1, 36, 36, 2, 19880112, 0723, -16.0783, -20.3000, 4556,  -999.00,   4585.6,   1.1102,  34.7547, 2,  34.7570, 2,   -999.0, 9,    231.1, 2,    95.29, 2,    28.73, 2,     0.00, 2,     1.96, 2, -999.000, 9, -999.000, 9,   2248.7, 2,   2381.2, 2,    915.8, 2,   0.7372,   -999.0, 9, -999.000, 9