BOTTLE,20110114CCHDOSIODM
EXPOCODE,SECT_ID,STNNBR,CASTNO,SAMPNO,BTLNBR,BTLNBR_FLAG_W,DATE,TIME,LATITUDE,LONGITUDE,DEPTH,CTDRAW,CTDPRS,CTDTMP,CTDSAL,CTDSAL_FLAG_W,SALNTY,SALNTY_FLAG_W,CTDOXY,CTDOXY_FLAG_W,OXYGEN,OXYGEN_FLAG_W,SILCAT,SILCAT_FLAG_W,NITRAT,NITRAT_FLAG_W,NITRIT,NITRIT_FLAG_W,PHSPHT,PHSPHT_FLAG_W,CFC-11,CFC-11_FLAG_W,CFC-12,CFC-12_FLAG_W,TCARBN,TCARBN_FLAG_W,ALKALI,ALKALI_FLAG_W,PCO2,PCO2_FLAG_W,THETA,REVPRS,REVPRS_FLAG_W,REVTMP,REVTMP_FLAG_W
,,,,,,,,,,,METERS,DBAR,DBAR,ITS-68,PSS-78,,PSS-78,,UMOL/KG,,UMOL/KG,,UMOL/KG,,UMOL/KG,,UMOL/KG,,UMOL/KG,,PMOL/KG,,PMOL/KG,,UMOL/KG,,UMOL/KG,,UATM,,DEG C,DBAR,,ITS-68,
316N19871218, SAVE2, 69, 1, 1, 1, 2, 19880103, 1629, -12.2150, 1.0133, 5468,  -999.00,      2.7,  24.0175,  36.2422, 2,  36.2450, 2,   -999.0, 9,    213.6, 2,     0.88, 2,     0.00, 2,     0.00, 2,     0.21, 2,    1.728, 2,    0.855, 2,   2060.4, 2,   -999.0, 9,   -999.0, 9,  24.0169,   -999.0, 9, -999.000, 9
316N19871218, SAVE2, 69, 1, 2, 2, 2, 19880103, 1629, -12.2150, 1.0133, 5468,  -999.00,     15.1,  23.6985,  36.2443, 2,  36.2450, 2,   -999.0, 9,    214.4, 2,     0.88, 2,     0.00, 2,     0.00, 2,     0.20, 2,    1.729, 2,    0.869, 2,   2059.9, 2,   -999.0, 9,   -999.0, 9,  23.6954,   -999.0, 9, -999.000, 9
316N19871218, SAVE2, 69, 1, 3, 3, 2, 19880103, 1629, -12.2150, 1.0133, 5468,  -999.00,     26.6,  23.6715,  36.2488, 2,  36.2560, 2,   -999.0, 9,    214.9, 2,     0.98, 2,     0.00, 2,     0.00, 2,     0.21, 2,    1.754, 2,    0.894, 2,   2057.9, 2,   -999.0, 9,   -999.0, 9,  23.6660,   -999.0, 9, -999.000, 9
316N19871218, SAVE2, 69, 1, 4, 4, 2, 19880103, 1629, -12.2150, 1.0133, 5468,  -999.00,     52.6,  20.2775,  36.2959, 2,  36.2880, 2,   -999.0, 9,    231.2, 2,     0.59, 2,     1.27, 2,     0.40, 2,     0.24, 2,    1.926, 2,    0.959, 2,   2085.5, 2,   -999.0, 9,   -999.0, 9,  20.2677,   -999.0, 9, -999.000, 9
316N19871218, SAVE2, 69, 1, 5, 5, 2, 19880103, 1629, -12.2150, 1.0133, 5468,  -999.00,     87.3,  17.1037,  35.8854, 2,  35.8350, 2,   -999.0, 9,    140.1, 2,     4.10, 2,    14.65, 2,     0.11, 2,     1.10, 2,    1.636, 2,    0.801, 2,   2158.0, 2,   -999.0, 9,   -999.0, 9,  17.0892,   -999.0, 9, -999.000, 9
316N19871218, SAVE2, 69, 1, 6, 6, 2, 19880103, 1629, -12.2150, 1.0133, 5468,  -999.00,    111.2,  13.5234,  35.3387, 2,  35.3410, 2,   -999.0, 9,     59.6, 2,     8.69, 2,    26.87, 2,     0.02, 2,     1.75, 2,    0.891, 2,    0.421, 2,   2216.3, 2,   -999.0, 9,   -999.0, 9,  13.5077,   -999.0, 9, -999.000, 9
316N19871218, SAVE2, 69, 1, 7, 7, 2, 19880103, 1629, -12.2150, 1.0133, 5468,  -999.00,    155.7,  12.2731,  35.2086, 2,  35.2020, 2,   -999.0, 9,     44.4, 2,    11.63, 2,    30.29, 2,     0.01, 2,     1.95, 2,    0.387, 2,    0.194, 2,   2235.7, 2,   -999.0, 9,   -999.0, 9,  12.2525,   -999.0, 9, -999.000, 9
316N19871218, SAVE2, 69, 1, 8, 8, 2, 19880103, 1629, -12.2150, 1.0133, 5468,  -999.00,    200.7,  11.4636,  35.1065, 2,  35.1000, 2,   -999.0, 9,     38.3, 2,    13.29, 2,    32.34, 2,     0.01, 2,     2.07, 2,    0.225, 2,    0.112, 2,   2243.9, 2,   -999.0, 9,   -999.0, 9,  11.4381,   -999.0, 9, -999.000, 9
316N19871218, SAVE2, 69, 1, 9, 9, 2, 19880103, 1629, -12.2150, 1.0133, 5468,  -999.00,    235.9,  10.9688,  35.0489, 2,  35.0410, 2,   -999.0, 9,     43.5, 2,    13.78, 2,    32.64, 2,     0.00, 2,     2.09, 2,    0.182, 2,    0.098, 2,   2244.3, 2,   -999.0, 9,   -999.0, 9,  10.9397,   -999.0, 9, -999.000, 9
316N19871218, SAVE2, 69, 1, 10, 10, 2, 19880103, 1629, -12.2150, 1.0133, 5468,  -999.00,    301.1,  10.0794,  34.9432, 2,  34.9410, 2,   -999.0, 9,     46.5, 2,    15.34, 2,    33.91, 2,     0.00, 2,     2.15, 2,    0.107, 2,    0.059, 2,   2248.8, 2,   -999.0, 9,   -999.0, 9,  10.0441,   -999.0, 9, -999.000, 9
316N19871218, SAVE2, 69, 1, 11, 11, 2, 19880103, 1629, -12.2150, 1.0133, 5468,  -999.00,    366.3,   9.1729,  34.8432, 2,  34.8430, 2,   -999.0, 9,     40.4, 2,    17.69, 2,    36.36, 2,     0.00, 2,     2.32, 2,    0.046, 2,    0.024, 2,   2257.7, 2,   -999.0, 9,   -999.0, 9,   9.1324,   -999.0, 9, -999.000, 9
316N19871218, SAVE2, 69, 1, 12, 12, 2, 19880103, 1629, -12.2150, 1.0133, 5468,  -999.00,    436.2,   8.2555,  34.7502, 2,  34.7390, 2,   -999.0, 9,     51.3, 2,    20.04, 2,    37.43, 2,     0.00, 2,     2.39, 2,    0.025, 2,    0.011, 2,   2255.5, 2,   -999.0, 9,   -999.0, 9,   8.2100,   -999.0, 9, -999.000, 9
316N19871218, SAVE2, 69, 1, 13, 13, 2, 19880103, 1629, -12.2150, 1.0133, 5468,  -999.00,    511.0,   7.3602,  34.6671, 2,  34.6630, 2,   -999.0, 9,     59.1, 2,    22.48, 2,    38.41, 2,     0.00, 2,     2.49, 2,    0.007, 2,    0.002, 2,   2256.4, 2,   -999.0, 9,   -999.0, 9,   7.3101,   -999.0, 9, -999.000, 9
316N19871218, SAVE2, 69, 1, 14, 14, 2, 19880103, 1629, -12.2150, 1.0133, 5468,  -999.00,    635.0,   5.9352,  34.5473, 2,  34.5440, 2,   -999.0, 9,     85.2, 2,    27.37, 2,    39.10, 2,     0.00, 2,     2.59, 2,    0.006, 2, -999.000, 9,   2255.3, 2,   -999.0, 9,   -999.0, 9,   5.8794,   -999.0, 9, -999.000, 9
316N19871218, SAVE2, 69, 1, 15, 15, 2, 19880103, 1629, -12.2150, 1.0133, 5468,  -999.00,    769.7,   4.8889,  34.4992, 2,  34.4940, 2,   -999.0, 9,    113.0, 2,    32.55, 2,    38.32, 2,     0.00, 2,     2.57, 2,    0.001, 2,    0.000, 2,   2250.0, 2,   -999.0, 9,   -999.0, 9,   4.8268,   -999.0, 9, -999.000, 9
316N19871218, SAVE2, 69, 1, 16, 16, 2, 19880103, 1629, -12.2150, 1.0133, 5468,  -999.00,    850.6,   4.5002,  34.5066, 2,  34.5000, 2,   -999.0, 9,    126.9, 2,    34.61, 2,    37.15, 2,     0.00, 2,     2.51, 2,    0.002, 2,    0.000, 2,   2246.3, 2,   -999.0, 9,   -999.0, 9,   4.4335,   -999.0, 9, -999.000, 9
316N19871218, SAVE2, 69, 1, 17, 17, 2, 19880103, 1629, -12.2150, 1.0133, 5468,  -999.00,    944.6,   4.2304,  34.5361, 2, -999.0000, 9,   -999.0, 9,    138.7, 2,    36.17, 2,    35.78, 2,     0.00, 2,     2.43, 2,    0.001, 2,    0.000, 2,   2240.5, 2,   -999.0, 9,   -999.0, 9,   4.1576,   -999.0, 9, -999.000, 9
316N19871218, SAVE2, 69, 1, 18, 18, 2, 19880103, 1629, -12.2150, 1.0133, 5468,  -999.00,   1036.8,   4.0766,  34.5937, 2,  34.5920, 2,   -999.0, 9,    147.8, 2,    36.56, 2,    34.31, 2,     0.00, 2,     2.35, 2,    0.000, 2,    0.000, 2,   2238.8, 2,   -999.0, 9,   -999.0, 9,   3.9971,   -999.0, 9, -999.000, 9
316N19871218, SAVE2, 69, 1, 19, 19, 2, 19880103, 1629, -12.2150, 1.0133, 5468,  -999.00,   1214.9,   3.8667,  34.7274, 2,  34.7250, 2,   -999.0, 9,    167.3, 2,    35.28, 2,    30.79, 2,     0.00, 2,     2.11, 2,    0.000, 2,    0.002, 2,   2239.3, 2,   -999.0, 9,   -999.0, 9,   3.7736,   -999.0, 9, -999.000, 9
316N19871218, SAVE2, 69, 1, 20, 20, 2, 19880103, 1629, -12.2150, 1.0133, 5468,  -999.00,   1483.4,   3.7628,  34.8744, 2,  34.8710, 2,   -999.0, 9,    199.5, 2,    29.42, 2,    25.90, 2,     0.00, 2,     1.77, 2, -999.000, 9,    0.004, 2,   2207.4, 2,   -999.0, 9,   -999.0, 9,   3.6470,   -999.0, 9, -999.000, 9
316N19871218, SAVE2, 69, 1, 21, 21, 2, 19880103, 1629, -12.2150, 1.0133, 5468,  -999.00,   1772.5,   3.5400,  34.9205, 2,  34.9160, 2,   -999.0, 9,    216.8, 2,    29.12, 2,    23.75, 2,     0.00, 2,     1.60, 2, -999.000, 9,    0.002, 2,   2200.0, 2,   -999.0, 9,   -999.0, 9,   3.4007,   -999.0, 9, -999.000, 9
316N19871218, SAVE2, 69, 1, 22, 22, 2, 19880103, 1629, -12.2150, 1.0133, 5468,  -999.00,   2062.1,   3.2742,  34.9274, 2,  34.9250, 2,   -999.0, 9,    224.6, 2,    32.05, 2,    23.06, 2,     0.00, 2,     1.57, 2, -999.000, 9,    0.003, 2,   2197.8, 2,   -999.0, 9,   -999.0, 9,   3.1118,   -999.0, 9, -999.000, 9
316N19871218, SAVE2, 69, 1, 23, 23, 2, 19880103, 1629, -12.2150, 1.0133, 5468,  -999.00,   2308.9,   3.0544,  34.9246, 2,  34.9210, 2,   -999.0, 9,    230.3, 2,    34.89, 2,    22.77, 2,     0.00, 2,     1.54, 2, -999.000, 9, -999.000, 9,   2199.3, 2,   -999.0, 9,   -999.0, 9,   2.8721,   -999.0, 9, -999.000, 9
316N19871218, SAVE2, 69, 1, 24, 24, 2, 19880103, 1629, -12.2150, 1.0133, 5468,  -999.00,   2560.5,   2.8396,  34.9147, 2,  34.9110, 2,   -999.0, 9,    233.3, 2,    38.60, 2,    22.77, 2,     0.00, 2,     1.53, 2, -999.000, 9,    0.005, 2,   2195.1, 2,   -999.0, 9,   -999.0, 9,   2.6368,   -999.0, 9, -999.000, 9
316N19871218, SAVE2, 69, 1, 25, 25, 2, 19880103, 1629, -12.2150, 1.0133, 5468,  -999.00,   2811.9,   2.6797,  34.9083, 2,  34.9050, 2,   -999.0, 9,    233.8, 2,    42.32, 2,    22.87, 2,     0.00, 2,     1.54, 2,    0.002, 2,    0.002, 2,   2203.8, 2,   -999.0, 9,   -999.0, 9,   2.4551,   -999.0, 9, -999.000, 9
316N19871218, SAVE2, 69, 1, 26, 26, 2, 19880103, 1629, -12.2150, 1.0133, 5468,  -999.00,   3058.8,   2.5508,  34.9030, 2,  34.8970, 2,   -999.0, 9,    230.3, 2,    46.91, 2,    23.36, 2,     0.00, 2,     1.57, 2, -999.000, 9,    0.001, 2,   2210.9, 2,   -999.0, 9,   -999.0, 9,   2.3039,   -999.0, 9, -999.000, 9
316N19871218, SAVE2, 69, 1, 27, 27, 2, 19880103, 1629, -12.2150, 1.0133, 5468,  -999.00,   3311.3,   2.4429,  34.8978, 2,  34.8930, 2,   -999.0, 9,    228.1, 2,    50.92, 2,    23.45, 2,     0.00, 2,     1.59, 2, -999.000, 9,    0.000, 2,   2219.6, 2,   -999.0, 9,   -999.0, 9,   2.1721,   -999.0, 9, -999.000, 9
316N19871218, SAVE2, 69, 1, 28, 28, 2, 19880103, 1629, -12.2150, 1.0133, 5468,  -999.00,   3558.6,   2.3769,  34.8934, 2,  34.8890, 2,   -999.0, 9,    231.6, 2,    51.60, 2,    23.36, 2,     0.00, 2,     1.58, 2, -999.000, 9,    0.002, 2,   2218.2, 2,   -999.0, 9,   -999.0, 9,   2.0813,   -999.0, 9, -999.000, 9
316N19871218, SAVE2, 69, 1, 29, 29, 2, 19880103, 1629, -12.2150, 1.0133, 5468,  -999.00,   3857.6,   2.3569,  34.8917, 2,  34.8870, 2,   -999.0, 9,    232.0, 2,    52.38, 2,    23.36, 2,     0.00, 2,     1.58, 2, -999.000, 9,    0.001, 2,   2219.4, 2,   -999.0, 9,   -999.0, 9,   2.0289,   -999.0, 9, -999.000, 9
316N19871218, SAVE2, 69, 1, 30, 30, 2, 19880103, 1629, -12.2150, 1.0133, 5468,  -999.00,   4161.1,   2.3579,  34.8894, 2,  34.8850, 2,   -999.0, 9,    232.9, 2,    52.58, 2,    23.45, 2,     0.00, 2,     1.58, 2,    0.007, 2,    0.002, 2,   2223.5, 2,   -999.0, 9,   -999.0, 9,   1.9952,   -999.0, 9, -999.000, 9
316N19871218, SAVE2, 69, 1, 31, 31, 2, 19880103, 1629, -12.2150, 1.0133, 5468,  -999.00,   4463.6,   2.3719,  34.8864, 2,  34.8830, 2,   -999.0, 9,    233.3, 2,    52.68, 2,    23.36, 2,     0.00, 2,     1.57, 2,    0.006, 2,    0.001, 2,   2221.7, 2,   -999.0, 9,   -999.0, 9,   1.9730,   -999.0, 9, -999.000, 9
316N19871218, SAVE2, 69, 1, 32, 32, 2, 19880103, 1629, -12.2150, 1.0133, 5468,  -999.00,   4759.8,   2.3889,  34.8834, 2,  34.8810, 2,   -999.0, 9,    235.1, 2,    52.77, 2,    23.26, 2,     0.00, 2,     1.56, 2,    0.003, 2,    0.002, 2,   2221.0, 2,   -999.0, 9,   -999.0, 9,   1.9534,   4784.6, 2,    2.379, 2
316N19871218, SAVE2, 69, 1, 33, 33, 2, 19880103, 1629, -12.2150, 1.0133, 5468,  -999.00,   4964.9,   2.4019,  34.8826, 2,  34.8800, 2,   -999.0, 9,    235.9, 2,    53.26, 2,    23.26, 2,     0.00, 2,     1.57, 2,    0.005, 2,    0.001, 2,   2222.4, 2,   -999.0, 9,   -999.0, 9,   1.9403,   -999.0, 9, -999.000, 9
316N19871218, SAVE2, 69, 1, 34, 34, 2, 19880103, 1629, -12.2150, 1.0133, 5468,  -999.00,   5214.1,   2.4199,  34.8806, 2,  34.8760, 2,   -999.0, 9,    237.2, 2,    53.46, 2,    23.26, 2,     0.00, 2,     1.56, 2,    0.006, 2,    0.001, 2,   2227.9, 3,   -999.0, 9,   -999.0, 9,   1.9259,   -999.0, 9, -999.000, 9
316N19871218, SAVE2, 69, 1, 35, 35, 2, 19880103, 1629, -12.2150, 1.0133, 5468,  -999.00,   5458.0,   2.4419,  34.8794, 2,  34.8770, 2,   -999.0, 9,    238.1, 2,    53.65, 2,    23.16, 2,     0.00, 2,     1.57, 2,    0.005, 2,    0.002, 2,   2218.8, 2,   -999.0, 9,   -999.0, 9,   1.9152,   5449.6, 2,    2.440, 2
316N19871218, SAVE2, 69, 1, 36, 36, 2, 19880103, 1629, -12.2150, 1.0133, 5468,  -999.00,   5608.9,   2.4579,  34.8793, 2,  34.8770, 2,   -999.0, 9,    239.0, 2,    53.75, 2,    23.26, 2,     0.00, 2,     1.57, 2,    0.001, 2,    0.001, 2,   2220.5, 2,   -999.0, 9,   -999.0, 9,   1.9105,   -999.0, 9, -999.000, 9