BOTTLE,20110114CCHDOSIODM
EXPOCODE,SECT_ID,STNNBR,CASTNO,SAMPNO,BTLNBR,BTLNBR_FLAG_W,DATE,TIME,LATITUDE,LONGITUDE,DEPTH,CTDRAW,CTDPRS,CTDTMP,CTDSAL,CTDSAL_FLAG_W,SALNTY,SALNTY_FLAG_W,CTDOXY,CTDOXY_FLAG_W,OXYGEN,OXYGEN_FLAG_W,SILCAT,SILCAT_FLAG_W,NITRAT,NITRAT_FLAG_W,NITRIT,NITRIT_FLAG_W,PHSPHT,PHSPHT_FLAG_W,CFC-11,CFC-11_FLAG_W,CFC-12,CFC-12_FLAG_W,TCARBN,TCARBN_FLAG_W,ALKALI,ALKALI_FLAG_W,PCO2,PCO2_FLAG_W,THETA,REVPRS,REVPRS_FLAG_W,REVTMP,REVTMP_FLAG_W
,,,,,,,,,,,METERS,DBAR,DBAR,ITS-68,PSS-78,,PSS-78,,UMOL/KG,,UMOL/KG,,UMOL/KG,,UMOL/KG,,UMOL/KG,,UMOL/KG,,PMOL/KG,,PMOL/KG,,UMOL/KG,,UMOL/KG,,UATM,,DEG C,DBAR,,ITS-68,
316N19871218, SAVE2, 81, 1, 1, 1, 2, 19880110, 0035, -15.0317, -14.3967, 3288,  -999.00,      0.6,  24.1070,  36.7417, 2,  36.7430, 2,   -999.0, 9,    212.2, 2,     1.17, 2,     0.00, 2,     0.00, 2,     0.21, 2,    1.714, 2,    0.899, 2,   2080.9, 2,   2427.6, 2,    313.1, 2,  24.1069,   -999.0, 9, -999.000, 9
316N19871218, SAVE2, 81, 1, 2, 2, 2, 19880110, 0035, -15.0317, -14.3967, 3288,  -999.00,     33.3,  24.0700,  36.7416, 2,  36.7410, 2,   -999.0, 9,    212.2, 2,     1.17, 2,     0.00, 2,     0.00, 2,     0.23, 2,    1.725, 2,    0.897, 2,   2083.0, 2,   2426.9, 2,    316.9, 2,  24.0630,   -999.0, 9, -999.000, 9
316N19871218, SAVE2, 81, 1, 3, 3, 2, 19880110, 0035, -15.0317, -14.3967, 3288,  -999.00,     48.4,  23.2670,  36.7118, 2,  36.6920, 2,   -999.0, 9,    216.9, 2,     1.17, 2,     0.00, 2,     0.00, 2,     0.21, 2,    1.750, 2,    0.912, 2,   2093.2, 2,   2438.1, 3,    318.0, 2,  23.2570,   -999.0, 9, -999.000, 9
316N19871218, SAVE2, 81, 1, 4, 4, 2, 19880110, 0035, -15.0317, -14.3967, 3288,  -999.00,     68.9,  22.8220,  36.7447, 2,  36.7500, 2,   -999.0, 9,    219.1, 2,     1.17, 2,     0.00, 2,     0.00, 2,     0.20, 2,    1.850, 2,    0.926, 2,   -999.0, 9,   -999.0, 9,   -999.0, 9,  22.8079,   -999.0, 9, -999.000, 9
316N19871218, SAVE2, 81, 1, 5, 5, 2, 19880110, 0035, -15.0317, -14.3967, 3288,  -999.00,     79.0,  22.4810,  36.7060, 2,  36.7100, 2,   -999.0, 9,    220.8, 2,     1.17, 2,     0.00, 2,     0.00, 2,     0.21, 2,    1.836, 2,    0.902, 2,   2079.4, 2,   2425.7, 2,    312.9, 2,  22.4650,   -999.0, 9, -999.000, 9
316N19871218, SAVE2, 81, 1, 6, 6, 2, 19880110, 0035, -15.0317, -14.3967, 3288,  -999.00,     99.2,  22.0319,  36.6931, 2,  36.6930, 2,   -999.0, 9,    215.6, 2,     1.17, 2,     0.00, 2,     0.00, 2,     0.21, 2,    1.834, 2,    0.917, 2,   2084.2, 2,   2416.4, 2,    330.4, 2,  22.0122,   -999.0, 9, -999.000, 9
316N19871218, SAVE2, 81, 1, 7, 7, 2, 19880110, 0035, -15.0317, -14.3967, 3288,  -999.00,    119.2,  21.6439,  36.6320, 2,  36.6240, 2,   -999.0, 9,    209.5, 2,     1.17, 2,     0.10, 2,     0.12, 2,     0.25, 2,    1.823, 2,    0.936, 2,   -999.0, 9,   -999.0, 9,   -999.0, 9,  21.6205,   -999.0, 9, -999.000, 9
316N19871218, SAVE2, 81, 1, 8, 8, 2, 19880110, 0035, -15.0317, -14.3967, 3288,  -999.00,    139.9,  19.7760,  36.2945, 2,  36.2390, 2,   -999.0, 9,    189.4, 2,     2.25, 2,     4.49, 2,     0.10, 2,     0.51, 2,    1.848, 2,    0.913, 2,   2105.7, 2,   2393.5, 2,    394.6, 2,  19.7502,   -999.0, 9, -999.000, 9
316N19871218, SAVE2, 81, 1, 9, 9, 2, 19880110, 0035, -15.0317, -14.3967, 3288,  -999.00,    159.7,  17.4232,  35.8622, 2,  35.8690, 2,   -999.0, 9,    173.7, 2,     2.83, 2,     8.59, 2,     0.02, 2,     0.73, 2,    1.813, 2,    0.881, 2,   -999.0, 9,   -999.0, 9,   -999.0, 9,  17.3963,   -999.0, 9, -999.000, 9
316N19871218, SAVE2, 81, 1, 10, 10, 2, 19880110, 0035, -15.0317, -14.3967, 3288,  -999.00,    180.3,  15.4275,  35.5403, 2,  35.5420, 2,   -999.0, 9,    154.5, 2,     4.49, 2,    13.28, 2,     0.01, 2,     1.01, 2,    1.661, 2,    0.813, 2,   2144.3, 2,   2343.7, 2,    592.0, 2,  15.3996,   -999.0, 9, -999.000, 9
316N19871218, SAVE2, 81, 1, 11, 11, 2, 19880110, 0035, -15.0317, -14.3967, 3288,  -999.00,    225.7,  12.8631,  35.1874, 2,  35.1900, 2,   -999.0, 9,    135.3, 2,     6.94, 2,    18.95, 2,     0.00, 2,     1.31, 2,    1.267, 2,    0.608, 2,   2165.4, 2,   2330.3, 2,    713.4, 2,  12.8322,   -999.0, 9, -999.000, 9
316N19871218, SAVE2, 81, 1, 12, 12, 2, 19880110, 0035, -15.0317, -14.3967, 3288,  -999.00,    291.0,  11.3025,  35.0341, 2,  35.0350, 2,   -999.0, 9,     90.0, 2,    11.04, 2,    26.77, 2,     0.00, 2,     1.77, 2,    0.617, 2,    0.306, 2,   2207.9, 2,   2320.1, 2,    996.7, 2,  11.2658,   -999.0, 9, -999.000, 9
316N19871218, SAVE2, 81, 1, 13, 13, 2, 19880110, 0035, -15.0317, -14.3967, 3288,  -999.00,    325.3,  10.4608,  34.9503, 2,  34.9570, 2,   -999.0, 9,     80.9, 2,    13.09, 2,    29.32, 2,     0.00, 2,     1.91, 2,    0.383, 2,    0.190, 2,   2219.5, 2,   2317.1, 2,   1101.0, 2,  10.4217,   -999.0, 9, -999.000, 9
316N19871218, SAVE2, 81, 1, 14, 14, 2, 19880110, 0035, -15.0317, -14.3967, 3288,  -999.00,    366.4,   9.3912,  34.8385, 2,  34.8450, 2,   -999.0, 9,     92.2, 2,    14.76, 2,    30.20, 2,     0.00, 2,     1.98, 2,    0.265, 2,    0.137, 2,   2218.1, 2,   2308.8, 2,   1148.4, 2,   9.3500,   -999.0, 9, -999.000, 9
316N19871218, SAVE2, 81, 1, 15, 15, 2, 19880110, 0035, -15.0317, -14.3967, 3288,  -999.00,    478.9,   7.2050,  34.6232, 2,  34.6240, 2,   -999.0, 9,    117.8, 2,    20.04, 2,    32.65, 2,     0.00, 2,     2.15, 2,    0.057, 2,    0.034, 2,   2221.1, 2,   2312.0, 2,   1146.8, 2,   7.1588,   -999.0, 9, -999.000, 9
316N19871218, SAVE2, 81, 1, 16, 16, 2, 19880110, 0035, -15.0317, -14.3967, 3288,  -999.00,    572.1,   6.0156,  34.5242, 2,  34.5270, 2,   -999.0, 9,    132.2, 2,    23.95, 2,    33.72, 2,     0.00, 2,     2.25, 2,    0.027, 2,    0.021, 2,   2221.7, 2,   2313.0, 2,   1144.6, 2,   5.9652,   -999.0, 9, -999.000, 9
316N19871218, SAVE2, 81, 1, 17, 17, 2, 19880110, 0035, -15.0317, -14.3967, 3288,  -999.00,    662.1,   5.2739,  34.4728, 2,  34.4730, 2,   -999.0, 9,    146.5, 2,    27.67, 2,    34.02, 2,     0.00, 2,     2.28, 2,    0.019, 2,    0.015, 2,   -999.0, 9,   -999.0, 9,   -999.0, 9,   5.2190,   -999.0, 9, -999.000, 9
316N19871218, SAVE2, 81, 1, 18, 18, 2, 19880110, 0035, -15.0317, -14.3967, 3288,  -999.00,    728.5,   4.7832,  34.4573, 2,  34.4570, 2,   -999.0, 9,    153.0, 2,    30.79, 2,    34.31, 2,     0.00, 2,     2.33, 2,    0.012, 2,    0.002, 2,   2223.4, 2,   2324.0, 2,   1079.5, 2,   4.7252,   -999.0, 9, -999.000, 9
316N19871218, SAVE2, 81, 1, 19, 19, 2, 19880110, 0035, -15.0317, -14.3967, 3288,  -999.00,    822.8,   4.4154,  34.4731, 2,  34.4730, 2,   -999.0, 9,    153.5, 2,    33.63, 2,    34.61, 2,     0.00, 2,     2.36, 2, -999.000, 9, -999.000, 9,   -999.0, 9,   -999.0, 9,   1086.3, 2,   4.3516,   -999.0, 9, -999.000, 9
316N19871218, SAVE2, 81, 1, 20, 20, 2, 19880110, 0035, -15.0317, -14.3967, 3288,  -999.00,    951.3,   4.0795,  34.5161, 2,  34.5160, 2,   -999.0, 9,    161.3, 2,    36.07, 2,    33.73, 2,     0.00, 2,     2.31, 2,    0.003, 2, -999.000, 9,   -999.0, 9,   -999.0, 9,   -999.0, 9,   4.0073,   -999.0, 9, -999.000, 9
316N19871218, SAVE2, 81, 1, 21, 21, 2, 19880110, 0035, -15.0317, -14.3967, 3288,  -999.00,   1052.0,   3.8776,  34.5680, 2,  34.5710, 2,   -999.0, 9,    171.3, 2,    37.05, 2,    32.36, 2,     0.00, 2,     2.21, 2, -999.000, 9, -999.000, 9,   2224.7, 2,   2326.9, 2,   1071.3, 2,   3.7985,   -999.0, 9, -999.000, 9
316N19871218, SAVE2, 81, 1, 22, 22, 2, 19880110, 0035, -15.0317, -14.3967, 3288,  -999.00,   1152.8,   3.8267,  34.6460, 2,  34.6460, 2,   -999.0, 9,    177.3, 2,    35.77, 2,    30.89, 2,     0.00, 2,     2.12, 2, -999.000, 9, -999.000, 9,   -999.0, 9,   -999.0, 9,   -999.0, 9,   3.7394,   -999.0, 9, -999.000, 9
316N19871218, SAVE2, 81, 1, 23, 23, 2, 19880110, 0035, -15.0317, -14.3967, 3288,  -999.00,   1300.5,   3.8017,  34.7357, 2,  34.7360, 2,   -999.0, 9,    189.0, 2,    33.23, 2,    28.73, 2,     0.00, 2,     1.94, 2, -999.000, 9, -999.000, 9,   2214.1, 2,   2331.8, 2,    966.8, 2,   3.7018,   -999.0, 9, -999.000, 9
316N19871218, SAVE2, 81, 1, 24, 24, 2, 19880110, 0035, -15.0317, -14.3967, 3288,  -999.00,   1441.7,   3.7897,  34.8254, 2,  34.8230, 2,   -999.0, 9,    205.1, 2,    29.61, 2,    26.00, 2,     0.00, 2,     1.76, 2, -999.000, 9,    0.000, 2,   -999.0, 9,   -999.0, 9,   -999.0, 9,   3.6774,   -999.0, 9, -999.000, 9
316N19871218, SAVE2, 81, 1, 25, 25, 2, 19880110, 0035, -15.0317, -14.3967, 3288,  -999.00,   1600.9,   3.6508,  34.8859, 2,  34.8860, 2,   -999.0, 9,    222.0, 2,    27.75, 2,    23.75, 2,     0.00, 2,     1.59, 2, -999.000, 9, -999.000, 9,   2192.1, 2,   2333.2, 2,    828.7, 2,   3.5257,   -999.0, 9, -999.000, 9
316N19871218, SAVE2, 81, 1, 26, 26, 2, 19880110, 0035, -15.0317, -14.3967, 3288,  -999.00,   1752.3,   3.4079,  34.8996, 2,  34.9010, 2,   -999.0, 9,    231.2, 2,    29.32, 2,    22.77, 2,     0.00, 2,     1.52, 2, -999.000, 9, -999.000, 9,   -999.0, 9,   -999.0, 9,   -999.0, 9,   3.2722,   -999.0, 9, -999.000, 9
316N19871218, SAVE2, 81, 1, 27, 27, 2, 19880110, 0035, -15.0317, -14.3967, 3288,  -999.00,   1833.0,   3.2280,  34.9022, 2,  34.9030, 2,   -999.0, 9,    235.1, 2,    31.57, 2,    22.38, 2,     0.00, 2,     1.50, 2, -999.000, 9, -999.000, 9,   2190.3, 2,   2338.0, 2,    797.8, 2,   3.0874,   -999.0, 9, -999.000, 9
316N19871218, SAVE2, 81, 1, 28, 28, 2, 19880110, 0035, -15.0317, -14.3967, 3288,  -999.00,   1910.6,   3.1650,  34.9090, 2,  34.9110, 2,   -999.0, 9,    237.7, 2,    32.15, 2,    22.18, 2,     0.00, 2,     1.49, 2, -999.000, 9, -999.000, 9,   -999.0, 9,   -999.0, 9,   -999.0, 9,   3.0183,   -999.0, 9, -999.000, 9
316N19871218, SAVE2, 81, 1, 29, 29, 2, 19880110, 0035, -15.0317, -14.3967, 3288,  -999.00,   2001.6,   3.0661,  34.9083, 2,  34.9080, 2,   -999.0, 9,    238.5, 2,    33.91, 2,    22.18, 2,     0.01, 2,     1.50, 2, -999.000, 9, -999.000, 9,   2189.8, 2,   2338.5, 2,    793.1, 2,   2.9125,   -999.0, 9, -999.000, 9
316N19871218, SAVE2, 81, 1, 30, 30, 2, 19880110, 0035, -15.0317, -14.3967, 3288,  -999.00,   2201.7,   2.8912,  34.9028, 2,  34.9030, 2,   -999.0, 9,    239.8, 2,    37.23, 2,    22.28, 2,     0.00, 2,     1.50, 2,    0.006, 2,    0.000, 2,   -999.0, 9,   -999.0, 9,   -999.0, 9,   2.7218,   -999.0, 9, -999.000, 9
316N19871218, SAVE2, 81, 1, 31, 31, 2, 19880110, 0035, -15.0317, -14.3967, 3288,  -999.00,   2400.9,   2.7972,  34.8994, 2,  34.9000, 2,   -999.0, 9,    241.1, 2,    39.38, 2,    22.38, 2,     0.00, 2,     1.52, 2, -999.000, 9, -999.000, 9,   2196.4, 2,   2350.1, 2,    776.1, 2,   2.6107,   -999.0, 9, -999.000, 9
316N19871218, SAVE2, 81, 1, 32, 32, 2, 19880110, 0035, -15.0317, -14.3967, 3288,  -999.00,   2603.4,   2.7293,  34.8967, 2,  34.8970, 2,   -999.0, 9,    241.1, 2,    40.85, 2,    22.48, 2,     0.00, 2,     1.51, 2, -999.000, 9,    0.000, 2,   -999.0, 9,   -999.0, 9,   -999.0, 9,   2.5244,   2612.9, 2,    2.728, 2
316N19871218, SAVE2, 81, 1, 33, 33, 2, 19880110, 0035, -15.0317, -14.3967, 3288,  -999.00,   2800.8,   2.7003,  34.8935, 2, -999.0000, 9,   -999.0, 9,    240.7, 2,    41.73, 2,    22.48, 2,     0.00, 2,     1.51, 2, -999.000, 9, -999.000, 9,   2197.1, 2,   2349.0, 2,    784.2, 2,   2.4765,   -999.0, 9, -999.000, 9
316N19871218, SAVE2, 81, 1, 34, 34, 2, 19880110, 0035, -15.0317, -14.3967, 3288,  -999.00,   3003.5,   2.6233,  34.8906, 2,  34.8900, 2,   -999.0, 9,    241.1, 2,    43.68, 2,    22.67, 2,     0.00, 2,     1.53, 2,    0.000, 2,    0.001, 2,   -999.0, 9,   -999.0, 9,   -999.0, 9,   2.3806,   -999.0, 9, -999.000, 9
316N19871218, SAVE2, 81, 1, 35, 35, 2, 19880110, 0035, -15.0317, -14.3967, 3288,  -999.00,   3206.2,   2.5983,  34.8872, 2,  34.8870, 2,   -999.0, 9,    241.1, 2,    44.86, 2,    22.87, 2,     0.00, 2,     1.53, 2, -999.000, 9, -999.000, 9,   2201.3, 2,   2352.8, 2,    788.9, 2,   2.3351,   3216.2, 2,    2.595, 2
316N19871218, SAVE2, 81, 1, 36, 36, 2, 19880110, 0035, -15.0317, -14.3967, 3288,  -999.00,   3307.4,   2.5803,  34.8863, 2,  34.8870, 2,   -999.0, 9,    241.1, 2,    45.35, 2,    22.87, 2,     0.00, 2,     1.54, 2,    0.000, 2,    0.003, 2,   2203.1, 2,   2353.4, 2,    795.0, 2,   2.3068,   -999.0, 9, -999.000, 9