BOTTLE,20110114CCHDOSIODM
EXPOCODE,SECT_ID,STNNBR,CASTNO,SAMPNO,BTLNBR,BTLNBR_FLAG_W,DATE,TIME,LATITUDE,LONGITUDE,DEPTH,CTDRAW,CTDPRS,CTDTMP,CTDSAL,CTDSAL_FLAG_W,SALNTY,SALNTY_FLAG_W,CTDOXY,CTDOXY_FLAG_W,OXYGEN,OXYGEN_FLAG_W,SILCAT,SILCAT_FLAG_W,NITRAT,NITRAT_FLAG_W,NITRIT,NITRIT_FLAG_W,PHSPHT,PHSPHT_FLAG_W,CFC-11,CFC-11_FLAG_W,CFC-12,CFC-12_FLAG_W,TCARBN,TCARBN_FLAG_W,ALKALI,ALKALI_FLAG_W,PCO2,PCO2_FLAG_W,THETA,REVPRS,REVPRS_FLAG_W,REVTMP,REVTMP_FLAG_W
,,,,,,,,,,,METERS,DBAR,DBAR,ITS-68,PSS-78,,PSS-78,,UMOL/KG,,UMOL/KG,,UMOL/KG,,UMOL/KG,,UMOL/KG,,UMOL/KG,,PMOL/KG,,PMOL/KG,,UMOL/KG,,UMOL/KG,,UATM,,DEG C,DBAR,,ITS-68,
316N19871218, SAVE2, 67, 1, 1, 1, 2, 19880102, 0937, -11.7850, 3.4717, 5536,  -999.00,      1.6,  23.8150,  36.2605, 2,  36.2630, 2,   -999.0, 9,    216.2, 2,     0.88, 2,     0.10, 2,     0.00, 2,     0.21, 2,    1.746, 2,    0.885, 2,   2061.5, 2,   -999.0, 9,   -999.0, 9,  23.8147,   -999.0, 9, -999.000, 9
316N19871218, SAVE2, 67, 1, 2, 2, 2, 19880102, 0937, -11.7850, 3.4717, 5536,  -999.00,     15.8,  23.3780,  36.2628, 2,  36.2640, 2,   -999.0, 9,    217.0, 2,     0.78, 2,     0.10, 2,     0.00, 2,     0.21, 2,    1.760, 2,    0.892, 2,   2060.7, 2,   -999.0, 9,   -999.0, 9,  23.3747,   -999.0, 9, -999.000, 9
316N19871218, SAVE2, 67, 1, 3, 3, 2, 19880102, 0937, -11.7850, 3.4717, 5536,  -999.00,     26.2,  19.8370,  36.1643, 2,  36.1680, 2,   -999.0, 9,    233.4, 2,     0.49, 2,     1.56, 2,     0.15, 2,     0.31, 2,    1.833, 2,    0.914, 2,   2084.1, 2,   -999.0, 9,   -999.0, 9,  19.8322,   -999.0, 9, -999.000, 9
316N19871218, SAVE2, 67, 1, 4, 4, 2, 19880102, 0937, -11.7850, 3.4717, 5536,  -999.00,     46.6,  16.6323,  35.7311, 2,  35.7220, 2,   -999.0, 9,    104.0, 2,     5.47, 2,    17.38, 2,     0.50, 2,     1.27, 2,    1.105, 2,    0.551, 2,   2177.5, 2,   -999.0, 9,   -999.0, 9,  16.6247,   -999.0, 9, -999.000, 9
316N19871218, SAVE2, 67, 1, 5, 5, 2, 19880102, 0937, -11.7850, 3.4717, 5536,  -999.00,     72.7,  14.4587,  35.4541, 2,  35.4500, 2,   -999.0, 9,     43.5, 2,     8.99, 2,    27.35, 2,     0.05, 2,     1.77, 2,    0.667, 2,    0.328, 2,   2224.6, 2,   -999.0, 9,   -999.0, 9,  14.4480,   -999.0, 9, -999.000, 9
316N19871218, SAVE2, 67, 1, 6, 6, 2, 19880102, 0937, -11.7850, 3.4717, 5536,  -999.00,     94.8,  13.9938,  35.3998, 2,  35.4010, 2,   -999.0, 9,     47.0, 2,     9.57, 2,    27.35, 2,     0.02, 2,     1.76, 2, -999.000, 9, -999.000, 9,   2225.7, 2,   -999.0, 9,   -999.0, 9,  13.9801,   -999.0, 9, -999.000, 9
316N19871218, SAVE2, 67, 1, 7, 7, 2, 19880102, 0937, -11.7850, 3.4717, 5536,  -999.00,    118.0,  13.5099,  35.3439, 2,  35.3430, 2,   -999.0, 9,     56.6, 2,     9.87, 2,    27.16, 2,     0.01, 2,     1.76, 2,    0.544, 2,    0.288, 2,   2218.7, 2,   -999.0, 9,   -999.0, 9,  13.4933,   -999.0, 9, -999.000, 9
316N19871218, SAVE2, 67, 1, 8, 8, 2, 19880102, 0937, -11.7850, 3.4717, 5536,  -999.00,    181.3,  12.3752,  35.2066, 2,  35.2060, 2,   -999.0, 9,     62.2, 2,    11.14, 2,    28.24, 2,     0.01, 2,     1.81, 2,    0.382, 2,    0.209, 2,   2223.5, 2,   -999.0, 9,   -999.0, 9,  12.3510,   -999.0, 9, -999.000, 9
316N19871218, SAVE2, 67, 1, 9, 9, 2, 19880102, 0937, -11.7850, 3.4717, 5536,  -999.00,    293.6,  10.6947,  35.0069, 2,  35.0090, 2,   -999.0, 9,     57.0, 2,    14.27, 2,    31.76, 2,     0.01, 2,     2.03, 2,    0.199, 2,    0.115, 2,   2233.7, 2,   -999.0, 9,   -999.0, 9,  10.6590,   -999.0, 9, -999.000, 9
316N19871218, SAVE2, 67, 1, 10, 10, 2, 19880102, 0937, -11.7850, 3.4717, 5536,  -999.00,    384.0,   9.3472,  34.8612, 2,  34.8680, 2,   -999.0, 9,     39.6, 2,    17.30, 2,    36.06, 2,     0.01, 2,     2.31, 2, -999.000, 9, -999.000, 9,   -999.0, 9,   -999.0, 9,   -999.0, 9,   9.3041,   -999.0, 9, -999.000, 9
316N19871218, SAVE2, 67, 1, 11, 11, 2, 19880102, 0937, -11.7850, 3.4717, 5536,  -999.00,    469.5,   8.3326,  34.7623, 2,  34.7630, 2,   -999.0, 9,     33.9, 2,    20.43, 2,    39.00, 2,     0.00, 2,     2.49, 2,    0.017, 2,    0.010, 2,   2267.0, 2,   -999.0, 9,   -999.0, 9,   8.2832,   -999.0, 9, -999.000, 9
316N19871218, SAVE2, 67, 1, 12, 12, 2, 19880102, 0937, -11.7850, 3.4717, 5536,  -999.00,    544.6,   7.2930,  34.6631, 2,  34.6640, 2,   -999.0, 9,     36.1, 2,    23.26, 2,    41.25, 2,     0.00, 2,     2.66, 2,    0.006, 2,    0.003, 2,   2274.1, 2,   -999.0, 9,   -999.0, 9,   7.2398,   -999.0, 9, -999.000, 9
316N19871218, SAVE2, 67, 1, 13, 13, 2, 19880102, 0937, -11.7850, 3.4717, 5536,  -999.00,    675.0,   5.8347,  34.5494, 2,  34.5510, 2,   -999.0, 9,     66.1, 2,    27.66, 2,    41.25, 2,     0.00, 2,     2.70, 2, -999.000, 9, -999.000, 9,   -999.0, 9,   -999.0, 9,   -999.0, 9,   5.7756,   -999.0, 9, -999.000, 9
316N19871218, SAVE2, 67, 1, 14, 14, 2, 19880102, 0937, -11.7850, 3.4717, 5536,  -999.00,    825.7,   4.7772,  34.5040, 2,  34.5040, 2,   -999.0, 9,    110.4, 2,    32.85, 2,    38.32, 2,     0.00, 2,     2.57, 2, -999.000, 9, -999.000, 9,   2254.7, 2,   -999.0, 9,   -999.0, 9,   4.7108,   -999.0, 9, -999.000, 9
316N19871218, SAVE2, 67, 1, 15, 15, 2, 19880102, 0937, -11.7850, 3.4717, 5536,  -999.00,    976.4,   4.3044,  34.5330, 2,  34.5360, 2,   -999.0, 9,    134.3, 2,    35.29, 2,    35.97, 2,     0.00, 2,     2.44, 2, -999.000, 9, -999.000, 9,   2243.4, 2,   -999.0, 9,   -999.0, 9,   4.2284,   -999.0, 9, -999.000, 9
316N19871218, SAVE2, 67, 1, 16, 16, 2, 19880102, 0937, -11.7850, 3.4717, 5536,  -999.00,   1060.7,   4.1485,  34.5768, 2,  34.5800, 2,   -999.0, 9,    144.3, 2,    35.68, 2,    34.70, 2,     0.00, 2,     2.36, 2,    0.004, 2,    0.003, 2,   2241.7, 2,   -999.0, 9,   -999.0, 9,   4.0664,   -999.0, 9, -999.000, 9
316N19871218, SAVE2, 67, 1, 17, 17, 2, 19880102, 0937, -11.7850, 3.4717, 5536,  -999.00,   1252.8,   3.9416,  34.7016, 2,  34.7020, 2,   -999.0, 9,    161.7, 2,    35.09, 2,    31.67, 2,     0.00, 2,     2.16, 2, -999.000, 9, -999.000, 9,   -999.0, 9,   -999.0, 9,   -999.0, 9,   3.8446,   -999.0, 9, -999.000, 9
316N19871218, SAVE2, 67, 1, 18, 18, 2, 19880102, 0937, -11.7850, 3.4717, 5536,  -999.00,   1449.5,   3.7947,  34.8383, 2,  34.8420, 2,   -999.0, 9,    192.1, 2,    30.39, 2,    27.07, 2,     0.01, 2,     1.85, 2, -999.000, 9, -999.000, 9,   -999.0, 9,   -999.0, 9,   -999.0, 9,   3.6816,   -999.0, 9, -999.000, 9
316N19871218, SAVE2, 67, 1, 19, 19, 2, 19880102, 0937, -11.7850, 3.4717, 5536,  -999.00,   1595.6,   3.7297,  34.8951, 2,  34.8980, 2,   -999.0, 9,    207.7, 2,    27.85, 2,    24.72, 2,     0.01, 2,     1.68, 2, -999.000, 9,    0.003, 2,   -999.0, 9,   -999.0, 9,   -999.0, 9,   3.6042,   -999.0, 9, -999.000, 9
316N19871218, SAVE2, 67, 1, 20, 20, 2, 19880102, 0937, -11.7850, 3.4717, 5536,  -999.00,   1739.6,   3.5878,  34.9141, 2,  34.9170, 2,   -999.0, 9,    217.3, 2,    28.14, 2,    23.75, 2,     0.01, 2,     1.61, 2, -999.000, 9, -999.000, 9,   -999.0, 9,   -999.0, 9,   -999.0, 9,   3.4509,   -999.0, 9, -999.000, 9
316N19871218, SAVE2, 67, 1, 21, 21, 2, 19880102, 0937, -11.7850, 3.4717, 5536,  -999.00,   1892.7,   3.4409,  34.9226, 2,  34.9250, 2,   -999.0, 9,    221.6, 2,    29.71, 2,    23.16, 2,     0.00, 2,     1.58, 2, -999.000, 9,    0.001, 2,   -999.0, 9,   -999.0, 9,   -999.0, 9,   3.2918,   -999.0, 9, -999.000, 9
316N19871218, SAVE2, 67, 1, 22, 22, 2, 19880102, 0937, -11.7850, 3.4717, 5536,  -999.00,   2049.1,   3.2870,  34.9269, 2,  34.9290, 2,   -999.0, 9,    224.2, 2,    31.66, 2,    22.97, 2,     0.00, 2,     1.57, 2, -999.000, 9, -999.000, 9,   2196.7, 2,   -999.0, 9,   -999.0, 9,   3.1256,   -999.0, 9, -999.000, 9
316N19871218, SAVE2, 67, 1, 23, 23, 2, 19880102, 0937, -11.7850, 3.4717, 5536,  -999.00,   2249.1,   3.0921,  34.9221, 2,  34.9240, 2,   -999.0, 9,    229.0, 2,    34.01, 2,    22.77, 2,     0.00, 2,     1.54, 2,    0.002, 2,    0.003, 2,   -999.0, 9,   -999.0, 9,   -999.0, 9,   2.9149,   -999.0, 9, -999.000, 9
316N19871218, SAVE2, 67, 1, 24, 24, 2, 19880102, 0937, -11.7850, 3.4717, 5536,  -999.00,   2447.8,   2.9531,  34.9220, 2,  34.9190, 2,   -999.0, 9,    231.1, 2,    36.55, 2,    22.77, 2,     0.00, 2,     1.54, 2, -999.000, 9, -999.000, 9,   -999.0, 9,   -999.0, 9,   -999.0, 9,   2.7592,   -999.0, 9, -999.000, 9
316N19871218, SAVE2, 67, 1, 25, 25, 2, 19880102, 0937, -11.7850, 3.4717, 5536,  -999.00,   2723.1,   2.7812,  34.9142, 2,  34.9140, 2,   -999.0, 9,    231.6, 2,    40.36, 2,    22.77, 2,     0.00, 2,     1.54, 2, -999.000, 9, -999.000, 9,   -999.0, 9,   -999.0, 9,   -999.0, 9,   2.5635,   -999.0, 9, -999.000, 9
316N19871218, SAVE2, 67, 1, 26, 26, 2, 19880102, 0937, -11.7850, 3.4717, 5536,  -999.00,   3023.5,   2.6143,  34.9029, 2,  34.9010, 2,   -999.0, 9,    232.9, 2,    44.27, 2,    23.16, 2,     0.00, 2,     1.57, 2, -999.000, 9, -999.000, 9,   -999.0, 9,   -999.0, 9,   -999.0, 9,   2.3697,   -999.0, 9, -999.000, 9
316N19871218, SAVE2, 67, 1, 27, 27, 2, 19880102, 0937, -11.7850, 3.4717, 5536,  -999.00,   3230.8,   2.5264,  34.8988, 2,  34.8960, 2,   -999.0, 9,    229.0, 2,    48.08, 2,    23.55, 2,     0.00, 2,     1.59, 2, -999.000, 9, -999.000, 9,   -999.0, 9,   -999.0, 9,   -999.0, 9,   2.2621,   -999.0, 9, -999.000, 9
316N19871218, SAVE2, 67, 1, 28, 28, 2, 19880102, 0937, -11.7850, 3.4717, 5536,  -999.00,   3452.9,   2.4254,  34.8936, 2,  34.8920, 2,   -999.0, 9,    226.4, 2,    51.60, 2,    23.65, 2,     0.00, 2,     1.61, 2,    0.001, 2,    0.003, 2,   2222.9, 2,   -999.0, 9,   -999.0, 9,   2.1400,   -999.0, 9, -999.000, 9
316N19871218, SAVE2, 67, 1, 29, 29, 2, 19880102, 0937, -11.7850, 3.4717, 5536,  -999.00,   3748.5,   2.3605,  34.8904, 2,  34.8880, 2,   -999.0, 9,    230.7, 2,    52.19, 2,    23.45, 2,     0.00, 2,  -999.00, 9, -999.000, 9, -999.000, 9,   -999.0, 9,   -999.0, 9,   -999.0, 9,   2.0445,   -999.0, 9, -999.000, 9
316N19871218, SAVE2, 67, 1, 30, 30, 2, 19880102, 0937, -11.7850, 3.4717, 5536,  -999.00,   4073.1,   2.3575,  34.8885, 2,  34.8870, 2,   -999.0, 9,    232.4, 2,    52.28, 2,    23.36, 2,     0.00, 2,     1.57, 2, -999.000, 9, -999.000, 9,   -999.0, 9,   -999.0, 9,   -999.0, 9,   2.0049,   -999.0, 9, -999.000, 9
316N19871218, SAVE2, 67, 1, 31, 31, 2, 19880102, 0937, -11.7850, 3.4717, 5536,  -999.00,   4401.1,   2.3685,  34.8860, 2,  34.8860, 2,   -999.0, 9,    233.3, 2,    52.58, 2,    23.36, 2,     0.00, 2,     1.57, 2, -999.000, 9,    0.007, 2,   2221.6, 2,   -999.0, 9,   -999.0, 9,   1.9771,   -999.0, 9, -999.000, 9
316N19871218, SAVE2, 67, 1, 32, 32, 2, 19880102, 0937, -11.7850, 3.4717, 5536,  -999.00,   4701.7,   2.3835,  34.8827, 2,  34.8820, 2,   -999.0, 9,    234.6, 2,    53.16, 2,    23.26, 2,     0.00, 2,     1.57, 2, -999.000, 9, -999.000, 9,   -999.0, 9,   -999.0, 9,   -999.0, 9,   1.9553,   4723.4, 2,    2.382, 2
316N19871218, SAVE2, 67, 1, 33, 33, 2, 19880102, 0937, -11.7850, 3.4717, 5536,  -999.00,   4995.1,   2.4014,  34.8807, 2,  34.8800, 2,   -999.0, 9,    236.4, 2,    53.36, 2,    23.26, 2,     0.00, 2,     1.57, 2, -999.000, 9, -999.000, 9,   -999.0, 9,   -999.0, 9,   -999.0, 9,   1.9361,   -999.0, 9, -999.000, 9
316N19871218, SAVE2, 67, 1, 34, 34, 2, 19880102, 0937, -11.7850, 3.4717, 5536,  -999.00,   5270.4,   2.4264,  34.8774, 2,  34.8780, 2,   -999.0, 9,    237.2, 2,    53.65, 2,    23.16, 2,     0.00, 2,     1.56, 2, -999.000, 9, -999.000, 9,   -999.0, 9,   -999.0, 9,   -999.0, 9,   1.9249,   -999.0, 9, -999.000, 9
316N19871218, SAVE2, 67, 1, 35, 35, 2, 19880102, 0937, -11.7850, 3.4717, 5536,  -999.00,   5526.2,   2.4544,  34.8779, 2,  34.8760, 2,   -999.0, 9,    238.1, 2,    53.75, 2,    23.26, 2,     0.00, 2,     1.57, 2, -999.000, 9, -999.000, 9,   -999.0, 9,   -999.0, 9,   -999.0, 9,   1.9183,   5515.0, 2,    2.452, 2
316N19871218, SAVE2, 67, 1, 36, 36, 2, 19880102, 0937, -11.7850, 3.4717, 5536,  -999.00,   5676.0,   2.4704,  34.8774, 2,  34.8760, 2,   -999.0, 9,    238.1, 2,    53.36, 2,    23.26, 2,     0.00, 2,     1.57, 2,    0.000, 2,    0.010, 2,   2216.8, 2,   -999.0, 9,   -999.0, 9,   1.9136,   -999.0, 9, -999.000, 9