BOTTLE,20110114CCHDOSIODM
EXPOCODE,SECT_ID,STNNBR,CASTNO,SAMPNO,BTLNBR,BTLNBR_FLAG_W,DATE,TIME,LATITUDE,LONGITUDE,DEPTH,CTDRAW,CTDPRS,CTDTMP,CTDSAL,CTDSAL_FLAG_W,SALNTY,SALNTY_FLAG_W,CTDOXY,CTDOXY_FLAG_W,OXYGEN,OXYGEN_FLAG_W,SILCAT,SILCAT_FLAG_W,NITRAT,NITRAT_FLAG_W,NITRIT,NITRIT_FLAG_W,PHSPHT,PHSPHT_FLAG_W,CFC-11,CFC-11_FLAG_W,CFC-12,CFC-12_FLAG_W,TCARBN,TCARBN_FLAG_W,ALKALI,ALKALI_FLAG_W,PCO2,PCO2_FLAG_W,THETA,REVPRS,REVPRS_FLAG_W,REVTMP,REVTMP_FLAG_W
,,,,,,,,,,,METERS,DBAR,DBAR,ITS-68,PSS-78,,PSS-78,,UMOL/KG,,UMOL/KG,,UMOL/KG,,UMOL/KG,,UMOL/KG,,UMOL/KG,,PMOL/KG,,PMOL/KG,,UMOL/KG,,UMOL/KG,,UATM,,DEG C,DBAR,,ITS-68,
316N19871218, SAVE2, 82, 1, 1, 1, 2, 19880110, 1045, -15.2383, -15.5733, 3489,  -999.00,      0.2,  24.4341,  36.8330, 2,  36.8330, 2,   -999.0, 9,    210.7, 2,     1.16, 2,     0.04, 2,     0.00, 2,     0.21, 2,    1.729, 2,    0.954, 2,   2082.5, 2,   2433.3, 2,    309.8, 2,  24.4340,   -999.0, 9, -999.000, 9
316N19871218, SAVE2, 82, 1, 2, 2, 2, 19880110, 1045, -15.2383, -15.5733, 3489,  -999.00,     25.8,  24.2641,  36.8195, 2,  36.8250, 2,   -999.0, 9,    211.1, 2,     1.16, 2,     0.04, 2,     0.00, 2,     0.20, 2,    1.712, 2,    0.898, 2,   2087.1, 2,   2439.2, 2,    309.6, 2,  24.2585,   -999.0, 9, -999.000, 9
316N19871218, SAVE2, 82, 1, 3, 3, 2, 19880110, 1045, -15.2383, -15.5733, 3489,  -999.00,     33.8,  23.8540,  36.7607, 2,  36.7700, 2,   -999.0, 9,    215.3, 2,     1.02, 2,     0.04, 2,     0.00, 2,     0.21, 2,    1.752, 2,    0.907, 2,   -999.0, 9,   -999.0, 9,   -999.0, 9,  23.8469,   -999.0, 9, -999.000, 9
316N19871218, SAVE2, 82, 1, 4, 4, 2, 19880110, 1045, -15.2383, -15.5733, 3489,  -999.00,     57.4,  23.3920,  36.7103, 2,  36.7210, 2,   -999.0, 9,    216.7, 2,     1.02, 2,     0.03, 2,     0.00, 2,     0.21, 2,    1.777, 2,    0.932, 2,   -999.0, 9,   -999.0, 9,   -999.0, 9,  23.3801,   -999.0, 9, -999.000, 9
316N19871218, SAVE2, 82, 1, 5, 5, 2, 19880110, 1045, -15.2383, -15.5733, 3489,  -999.00,     81.7,  22.5790,  36.6887, 2,  36.6900, 2,   -999.0, 9,    220.5, 2,     1.02, 2,     0.03, 2,     0.00, 2,     0.21, 2,    1.794, 2,    0.931, 2,   -999.0, 9,   -999.0, 9,   -999.0, 9,  22.5624,   -999.0, 9, -999.000, 9
316N19871218, SAVE2, 82, 1, 6, 6, 2, 19880110, 1045, -15.2383, -15.5733, 3489,  -999.00,    113.2,  21.7529,  36.6301, 2,  36.6320, 2,   -999.0, 9,    213.5, 2,     1.01, 2,     0.09, 2,     0.04, 2,     0.24, 2,    1.743, 2,    0.906, 2,   -999.0, 9,   -999.0, 9,   -999.0, 9,  21.7306,   -999.0, 9, -999.000, 9
316N19871218, SAVE2, 82, 1, 7, 7, 2, 19880110, 1045, -15.2383, -15.5733, 3489,  -999.00,    142.5,  19.1070,  36.1901, 2,  36.1090, 2,   -999.0, 9,    194.7, 2,     2.06, 2,     3.95, 2,     0.11, 2,     0.48, 2,    1.832, 2,    0.938, 2,   -999.0, 9,   -999.0, 9,   -999.0, 9,  19.0814,   -999.0, 9, -999.000, 9
316N19871218, SAVE2, 82, 1, 8, 8, 2, 19880110, 1045, -15.2383, -15.5733, 3489,  -999.00,    164.6,  16.5763,  35.7183, 2, -999.0000, 9,   -999.0, 9,   -999.0, 9,  -999.00, 9,  -999.00, 9,  -999.00, 9,  -999.00, 9,    1.766, 2,    0.873, 2,   -999.0, 9,   -999.0, 9,   -999.0, 9,  16.5495,   -999.0, 9, -999.000, 9
316N19871218, SAVE2, 82, 1, 9, 9, 2, 19880110, 1045, -15.2383, -15.5733, 3489,  -999.00,    196.0,  14.3497,  35.3687, 2,  35.3570, 2,   -999.0, 9,    168.8, 2,     4.82, 2,    12.78, 2,     0.01, 2,     0.95, 2,    1.599, 2,    0.793, 2,   -999.0, 9,   -999.0, 9,   -999.0, 9,  14.3208,   -999.0, 9, -999.000, 9
316N19871218, SAVE2, 82, 1, 10, 10, 2, 19880110, 1045, -15.2383, -15.5733, 3489,  -999.00,    215.2,  13.1410,  35.1970, 2,  35.1960, 2,   -999.0, 9,    168.3, 2,     5.87, 2,    14.71, 2,     0.01, 2,     1.06, 2, -999.000, 9, -999.000, 9,   -999.0, 9,   -999.0, 9,   -999.0, 9,  13.1111,   -999.0, 9, -999.000, 9
316N19871218, SAVE2, 82, 1, 11, 11, 2, 19880110, 1045, -15.2383, -15.5733, 3489,  -999.00,    230.2,  12.6881,  35.1374, 2,  35.1410, 2,   -999.0, 9,    172.9, 2,     6.13, 2,    14.86, 2,     0.01, 2,     1.06, 2,    1.401, 2,    0.671, 2,   -999.0, 9,   -999.0, 9,   -999.0, 9,  12.6569,   -999.0, 9, -999.000, 9
316N19871218, SAVE2, 82, 1, 12, 12, 2, 19880110, 1045, -15.2383, -15.5733, 3489,  -999.00,    275.6,  11.4805,  35.0007, 2, -999.0000, 9,   -999.0, 9,    158.9, 2,     8.23, 2,    18.94, 2,     0.01, 2,     1.31, 2,    1.084, 2,    0.517, 2,   -999.0, 9,   -999.0, 9,   -999.0, 9,  11.4454,   -999.0, 9, -999.000, 9
316N19871218, SAVE2, 82, 1, 13, 13, 2, 19880110, 1045, -15.2383, -15.5733, 3489,  -999.00,    315.5,  10.4778,  34.9241, 2,  34.9300, 2,   -999.0, 9,    124.3, 2,    11.38, 2,    24.69, 2,     0.00, 2,     1.65, 2,    0.641, 2,    0.301, 2,   -999.0, 9,   -999.0, 9,   -999.0, 9,  10.4399,   -999.0, 9, -999.000, 9
316N19871218, SAVE2, 82, 1, 14, 14, 2, 19880110, 1045, -15.2383, -15.5733, 3489,  -999.00,    372.5,   8.8134,  34.7573, 2,  34.7620, 2,   -999.0, 9,    121.0, 2,    15.32, 2,    28.66, 2,     0.00, 2,     1.90, 2,    0.294, 2,    0.150, 2,   -999.0, 9,   -999.0, 9,   -999.0, 9,   8.7731,   -999.0, 9, -999.000, 9
316N19871218, SAVE2, 82, 1, 15, 15, 2, 19880110, 1045, -15.2383, -15.5733, 3489,  -999.00,    411.4,   7.9707,  34.6836, 2,  34.6870, 2,   -999.0, 9,    122.2, 2,    17.81, 2,    30.46, 2,     0.00, 2,     2.02, 2,    0.133, 2,    0.071, 2,   -999.0, 9,   -999.0, 9,   -999.0, 9,   7.9288,   -999.0, 9, -999.000, 9
316N19871218, SAVE2, 82, 1, 16, 16, 2, 19880110, 1045, -15.2383, -15.5733, 3489,  -999.00,    491.8,   6.8282,  34.5804, 2, -999.0000, 9,   -999.0, 9,    133.4, 2,    20.56, 2,    31.80, 2,     0.00, 2,     2.10, 2,    0.056, 2,    0.035, 2,   -999.0, 9,   -999.0, 9,   -999.0, 9,   6.7821,   -999.0, 9, -999.000, 9
316N19871218, SAVE2, 82, 1, 17, 17, 2, 19880110, 1045, -15.2383, -15.5733, 3489,  -999.00,    550.8,   6.0995,  34.5191, 2,  34.5250, 2,   -999.0, 9,    142.0, 2,    23.18, 2,    32.56, 2,     0.00, 2,     2.15, 2,    0.044, 2,    0.027, 2,   -999.0, 9,   -999.0, 9,   -999.0, 9,   6.0508,   -999.0, 9, -999.000, 9
316N19871218, SAVE2, 82, 1, 18, 18, 2, 19880110, 1045, -15.2383, -15.5733, 3489,  -999.00,    615.8,   5.4758,  34.4774, 2,  34.4780, 2,   -999.0, 9,    148.8, 2,    26.19, 2,    33.28, 2,     0.00, 2,     2.21, 2,    0.028, 2,    0.021, 2,   -999.0, 9,   -999.0, 9,   -999.0, 9,   5.4240,   -999.0, 9, -999.000, 9
316N19871218, SAVE2, 82, 1, 19, 19, 2, 19880110, 1045, -15.2383, -15.5733, 3489,  -999.00,    676.3,   5.0900,  34.4622, 2, -999.0000, 9,   -999.0, 9,    150.6, 2,    28.68, 2,    33.95, 2,     0.00, 2,     2.30, 2, -999.000, 9,    0.001, 2,   -999.0, 9,   -999.0, 9,   -999.0, 9,   5.0348,   -999.0, 9, -999.000, 9
316N19871218, SAVE2, 82, 1, 20, 20, 2, 19880110, 1045, -15.2383, -15.5733, 3489,  -999.00,    711.3,   4.8811,  34.4521, 2,  34.4530, 2,   -999.0, 9,    154.5, 2,    30.37, 2,    34.14, 2,     0.00, 2,     2.32, 2, -999.000, 9,    0.001, 2,   -999.0, 9,   -999.0, 9,   -999.0, 9,   4.8241,   -999.0, 9, -999.000, 9
316N19871218, SAVE2, 82, 1, 21, 21, 2, 19880110, 1045, -15.2383, -15.5733, 3489,  -999.00,    754.2,   4.6562,  34.4551, 2,  34.4540, 2,   -999.0, 9,    155.2, 2,    32.33, 2,    34.43, 2,     0.00, 2,     2.34, 2, -999.000, 9, -999.000, 9,   -999.0, 9,   -999.0, 9,   -999.0, 9,   4.5968,   -999.0, 9, -999.000, 9
316N19871218, SAVE2, 82, 1, 22, 22, 2, 19880110, 1045, -15.2383, -15.5733, 3489,  -999.00,    864.1,   4.2444,  34.4734, 2,  34.4730, 2,   -999.0, 9,    160.5, 2,    35.07, 2,    34.10, 2,     0.00, 2,     2.32, 2, -999.000, 9, -999.000, 9,   -999.0, 9,   -999.0, 9,   -999.0, 9,   4.1784,   -999.0, 9, -999.000, 9
316N19871218, SAVE2, 82, 1, 23, 23, 2, 19880110, 1045, -15.2383, -15.5733, 3489,  -999.00,    969.0,   4.0126,  34.5118, 2,  34.5090, 2,   -999.0, 9,    165.5, 2,    37.03, 2,    33.58, 2,     0.00, 2,     2.28, 2, -999.000, 9, -999.000, 9,   -999.0, 9,   -999.0, 9,   -999.0, 9,   3.9394,   -999.0, 9, -999.000, 9
316N19871218, SAVE2, 82, 1, 24, 24, 2, 19880110, 1045, -15.2383, -15.5733, 3489,  -999.00,   1107.2,   3.8576,  34.6112, 2,  34.6110, 2,   -999.0, 9,    173.7, 2,    36.49, 2,    31.77, 2,     0.00, 2,     2.16, 2, -999.000, 9, -999.000, 9,   -999.0, 9,   -999.0, 9,   -999.0, 9,   3.7740,   -999.0, 9, -999.000, 9
316N19871218, SAVE2, 82, 1, 25, 25, 2, 19880110, 1045, -15.2383, -15.5733, 3489,  -999.00,   1298.0,   3.8486,  34.7438, 2,  34.7450, 2,   -999.0, 9,    189.2, 2,    32.41, 2,    28.73, 2,     0.00, 2,     1.94, 2, -999.000, 9, -999.000, 9,   -999.0, 9,   -999.0, 9,   -999.0, 9,   3.7485,   -999.0, 9, -999.000, 9
316N19871218, SAVE2, 82, 1, 26, 26, 2, 19880110, 1045, -15.2383, -15.5733, 3489,  -999.00,   1489.5,   3.7797,  34.8611, 2,  34.8610, 2,   -999.0, 9,    212.2, 2,    27.94, 2,    25.14, 2,     0.00, 2,     1.68, 2, -999.000, 9, -999.000, 9,   -999.0, 9,   -999.0, 9,   -999.0, 9,   3.6632,   -999.0, 9, -999.000, 9
316N19871218, SAVE2, 82, 1, 27, 27, 2, 19880110, 1045, -15.2383, -15.5733, 3489,  -999.00,   1574.9,   3.7107,  34.8820, 2,  34.8810, 2,   -999.0, 9,    218.6, 2,    27.14, 2,    24.15, 2,     0.00, 2,     1.62, 2, -999.000, 9, -999.000, 9,   -999.0, 9,   -999.0, 9,   -999.0, 9,   3.5873,   -999.0, 9, -999.000, 9
316N19871218, SAVE2, 82, 1, 28, 28, 2, 19880110, 1045, -15.2383, -15.5733, 3489,  -999.00,   1796.3,   3.3489,  34.9040, 2,  34.9050, 2,   -999.0, 9,    232.9, 2,    29.49, 2,    22.74, 2,     0.00, 2,     1.52, 2, -999.000, 9, -999.000, 9,   -999.0, 9,   -999.0, 9,   -999.0, 9,   3.2100,   -999.0, 9, -999.000, 9
316N19871218, SAVE2, 82, 1, 29, 29, 2, 19880110, 1045, -15.2383, -15.5733, 3489,  -999.00,   1909.5,   3.2340,  34.9093, 2,  34.9080, 2,   -999.0, 9,    235.6, 2,    30.65, 2,    22.46, 2,     0.00, 2,     1.49, 2, -999.000, 9, -999.000, 9,   -999.0, 9,   -999.0, 9,   -999.0, 9,   3.0864,   -999.0, 9, -999.000, 9
316N19871218, SAVE2, 82, 1, 30, 30, 2, 19880110, 1045, -15.2383, -15.5733, 3489,  -999.00,   2159.2,   2.9641,  34.9052, 2,  34.9050, 2,   -999.0, 9,    239.6, 2,    34.83, 2,    22.27, 2,     0.00, 2,     1.48, 2, -999.000, 9, -999.000, 9,   -999.0, 9,   -999.0, 9,   -999.0, 9,   2.7976,   -999.0, 9, -999.000, 9
316N19871218, SAVE2, 82, 1, 31, 31, 2, 19880110, 1045, -15.2383, -15.5733, 3489,  -999.00,   2409.4,   2.8242,  34.9004, 2, -999.0000, 9,   -999.0, 9,    240.6, 2,    37.96, 2,    22.32, 2,     0.00, 2,     1.49, 2, -999.000, 9, -999.000, 9,   -999.0, 9,   -999.0, 9,   -999.0, 9,   2.6364,   -999.0, 9, -999.000, 9
316N19871218, SAVE2, 82, 1, 32, 32, 2, 19880110, 1045, -15.2383, -15.5733, 3489,  -999.00,   2658.7,   2.6983,  34.8955, 2,  34.8940, 2,   -999.0, 9,    241.0, 2,    41.35, 2,    22.46, 2,     0.00, 2,     1.50, 2, -999.000, 9, -999.000, 9,   -999.0, 9,   -999.0, 9,   -999.0, 9,   2.4886,   2668.3, 2,    2.692, 2
316N19871218, SAVE2, 82, 1, 33, 33, 2, 19880110, 1045, -15.2383, -15.5733, 3489,  -999.00,   2911.1,   2.6493,  34.8939, 2,  34.8930, 2,   -999.0, 9,    240.6, 2,    42.90, 2,    22.55, 2,     0.00, 2,     1.51, 2, -999.000, 9, -999.000, 9,   -999.0, 9,   -999.0, 9,   -999.0, 9,   2.4154,   -999.0, 9, -999.000, 9
316N19871218, SAVE2, 82, 1, 34, 34, 2, 19880110, 1045, -15.2383, -15.5733, 3489,  -999.00,   3113.6,   2.5664,  34.8881, 2, -999.0000, 9,   -999.0, 9,    240.9, 2,    45.11, 2,    22.74, 2,     0.00, 2,     1.52, 2, -999.000, 9, -999.000, 9,   -999.0, 9,   -999.0, 9,   -999.0, 9,   2.3135,   -999.0, 9, -999.000, 9
316N19871218, SAVE2, 82, 1, 35, 35, 2, 19880110, 1045, -15.2383, -15.5733, 3489,  -999.00,   3435.2,   2.4174,  34.8778, 2,  34.8760, 2,   -999.0, 9,    240.8, 2,    49.93, 2,    23.22, 2,     0.00, 2,     1.56, 2, -999.000, 9, -999.000, 9,   2210.7, 2,   2361.7, 2,    796.9, 2,   2.1342,   3443.6, 2,    2.411, 2
316N19871218, SAVE2, 82, 1, 36, 36, 2, 19880110, 1045, -15.2383, -15.5733, 3489,  -999.00,   3552.9,   2.3755,  34.8723, 2,  34.8730, 2,   -999.0, 9,    240.8, 2,    51.49, 2,    23.31, 2,     0.00, 2,     1.57, 2, -999.000, 9, -999.000, 9,   -999.0, 9,   -999.0, 9,    795.5, 2,   2.0806,   -999.0, 9, -999.000, 9