BOTTLE,20110114CCHDOSIODM
EXPOCODE,SECT_ID,STNNBR,CASTNO,SAMPNO,BTLNBR,BTLNBR_FLAG_W,DATE,TIME,LATITUDE,LONGITUDE,DEPTH,CTDRAW,CTDPRS,CTDTMP,CTDSAL,CTDSAL_FLAG_W,SALNTY,SALNTY_FLAG_W,CTDOXY,CTDOXY_FLAG_W,OXYGEN,OXYGEN_FLAG_W,SILCAT,SILCAT_FLAG_W,NITRAT,NITRAT_FLAG_W,NITRIT,NITRIT_FLAG_W,PHSPHT,PHSPHT_FLAG_W,CFC-11,CFC-11_FLAG_W,CFC-12,CFC-12_FLAG_W,TCARBN,TCARBN_FLAG_W,ALKALI,ALKALI_FLAG_W,PCO2,PCO2_FLAG_W,THETA,REVPRS,REVPRS_FLAG_W,REVTMP,REVTMP_FLAG_W
,,,,,,,,,,,METERS,DBAR,DBAR,ITS-68,PSS-78,,PSS-78,,UMOL/KG,,UMOL/KG,,UMOL/KG,,UMOL/KG,,UMOL/KG,,UMOL/KG,,PMOL/KG,,PMOL/KG,,UMOL/KG,,UMOL/KG,,UATM,,DEG C,DBAR,,ITS-68,
316N19871218, SAVE2, 91, 1, 3, 3, 2, 19880114, 2252, -17.1117, -26.2067, 5651,  -999.00,    126.9,  23.8720,  37.0213, 2,  37.0080, 2,   -999.0, 9,    209.5, 2,     1.27, 2,     0.10, 2,     0.00, 2,     0.18, 2, -999.000, 9, -999.000, 9,   2083.9, 2,   2440.1, 2,    305.7, 2,  23.8452,   -999.0, 9, -999.000, 9
316N19871218, SAVE2, 91, 1, 2, 2, 2, 19880114, 2252, -17.1117, -26.2067, 5651,  -999.00,    126.9,  23.8720,  37.0213, 2,  37.0260, 2,   -999.0, 9,    210.0, 2,     1.37, 2,     0.10, 2,     0.00, 2,     0.17, 2,    1.681, 2,    0.826, 2,   2094.6, 2,   2461.5, 3,    297.5, 2,  23.8452,   -999.0, 9, -999.000, 9
316N19871218, SAVE2, 91, 1, 4, 4, 2, 19880114, 2252, -17.1117, -26.2067, 5651,  -999.00,    162.0,  21.1309,  36.4797, 2,  36.4850, 2,   -999.0, 9,    206.8, 2,     1.27, 2,     0.00, 2,     0.09, 2,     0.25, 2,    1.790, 2,    0.884, 2,   2093.4, 2,   2419.0, 2,    339.3, 2,  21.0996,   -999.0, 9, -999.000, 9
316N19871218, SAVE2, 91, 1, 5, 5, 2, 19880114, 2252, -17.1117, -26.2067, 5651,  -999.00,    163.7,  21.0979,  36.4766, 2,  36.4800, 2,   -999.0, 9,    206.0, 2,     1.37, 2,     0.10, 2,     0.10, 2,     0.25, 2, -999.000, 9, -999.000, 9,   2092.1, 2,   2416.2, 2,    340.8, 2,  21.0663,   -999.0, 9, -999.000, 9
316N19871218, SAVE2, 91, 1, 6, 6, 2, 19880114, 2252, -17.1117, -26.2067, 5651,  -999.00,    228.3,  16.6813,  35.6950, 2,  35.6860, 2,   -999.0, 9,    193.7, 2,     2.64, 2,     5.47, 2,     0.01, 2,     0.58, 2,    1.883, 2,    0.898, 2,   2105.7, 2,   2362.0, 2,    443.0, 2,  16.6439,   -999.0, 9, -999.000, 9
316N19871218, SAVE2, 91, 1, 7, 7, 2, 19880114, 2252, -17.1117, -26.2067, 5651,  -999.00,    267.3,  14.5977,  35.3785, 2,  35.3650, 2,   -999.0, 9,    191.5, 2,     3.81, 2,     8.89, 2,     0.01, 2,     0.75, 2,    1.764, 2,    0.829, 2,   2113.7, 2,   2343.3, 2,    498.1, 2,  14.5577,   -999.0, 9, -999.000, 9
316N19871218, SAVE2, 91, 1, 8, 8, 2, 19880114, 2252, -17.1117, -26.2067, 5651,  -999.00,    322.5,  12.4082,  35.0908, 2,  35.0950, 2,   -999.0, 9,    187.1, 2,     5.77, 2,    13.58, 2,     0.01, 2,     1.02, 2,    1.490, 2,    0.694, 2,   2129.1, 2,   2328.0, 2,    580.4, 2,  12.3649,   -999.0, 9, -999.000, 9
316N19871218, SAVE2, 91, 1, 9, 9, 2, 19880114, 2252, -17.1117, -26.2067, 5651,  -999.00,    362.7,  11.3065,  34.9790, 2,  34.9760, 2,   -999.0, 9,    165.7, 2,     8.21, 2,    18.37, 2,     0.01, 2,     1.31, 2,    1.033, 2,    0.481, 2,   2156.0, 2,   -999.0, 9,   -999.0, 9,  11.2607,   -999.0, 9, -999.000, 9
316N19871218, SAVE2, 91, 1, 10, 10, 2, 19880114, 2252, -17.1117, -26.2067, 5651,  -999.00,    397.4,  10.3788,  34.8797, 2,  34.8820, 2,   -999.0, 9,    157.0, 2,    10.07, 2,    21.30, 2,     0.01, 2,     1.48, 2,    0.796, 2,    0.377, 2,   2167.3, 2,   2321.1, 2,    755.4, 2,  10.3312,   -999.0, 9, -999.000, 9
316N19871218, SAVE2, 91, 1, 11, 11, 2, 19880114, 2252, -17.1117, -26.2067, 5651,  -999.00,    451.0,   8.7664,  34.7285, 2,  34.7310, 2,   -999.0, 9,    140.0, 2,    14.56, 2,    26.78, 2,     0.00, 2,     1.80, 2,    0.421, 2,    0.209, 2,   2196.5, 3,   2316.6, 2,    937.5, 2,   8.7176,   -999.0, 9, -999.000, 9
316N19871218, SAVE2, 91, 1, 12, 12, 2, 19880114, 2252, -17.1117, -26.2067, 5651,  -999.00,    500.7,   7.4889,  34.6161, 2,  34.6180, 2,   -999.0, 9,    142.2, 2,    18.18, 2,    29.52, 2,     0.00, 2,     1.97, 2,    0.221, 2,    0.147, 2,   2203.7, 3,   2609.5, 3,    273.9, 4,   7.4394,   -999.0, 9, -999.000, 9
316N19871218, SAVE2, 91, 1, 13, 13, 2, 19880114, 2252, -17.1117, -26.2067, 5651,  -999.00,    554.2,   6.6573,  34.5454, 2,  34.5500, 2,   -999.0, 9,    147.4, 2,    20.72, 2,    30.79, 2,     0.00, 2,     2.05, 2,    0.137, 2,    0.080, 2,   2210.4, 3,   2316.3, 2,   1032.3, 2,   6.6058,   -999.0, 9, -999.000, 9
316N19871218, SAVE2, 91, 1, 14, 14, 2, 19880114, 2252, -17.1117, -26.2067, 5651,  -999.00,    639.3,   5.2279,  34.4382, 2,  34.4400, 2,   -999.0, 9,    170.4, 2,    26.20, 2,    31.77, 2,     0.00, 2,     2.13, 2,    0.088, 2,    0.057, 2,   2207.9, 2,   -999.0, 9,   -999.0, 9,   5.1753,   -999.0, 9, -999.000, 9
316N19871218, SAVE2, 91, 1, 15, 15, 2, 19880114, 2252, -17.1117, -26.2067, 5651,  -999.00,    729.5,   4.5783,  34.4104, 2,  34.4100, 2,   -999.0, 9,    179.1, 2,    30.11, 2,    32.16, 2,     0.00, 2,     2.18, 2, -999.000, 9, -999.000, 9,   2209.3, 2,   2314.6, 2,   1036.0, 2,   4.5214,   -999.0, 9, -999.000, 9
316N19871218, SAVE2, 91, 1, 16, 16, 2, 19880114, 2252, -17.1117, -26.2067, 5651,  -999.00,    843.2,   3.9866,  34.4303, 2,  34.4290, 2,   -999.0, 9,    180.4, 2,    36.17, 2,    32.65, 2,     0.00, 2,     2.23, 2,    0.028, 2,    0.021, 2,   2217.2, 2,   2321.6, 2,   1049.3, 2,   3.9240,   -999.0, 9, -999.000, 9
316N19871218, SAVE2, 91, 1, 17, 17, 2, 19880114, 2252, -17.1117, -26.2067, 5651,  -999.00,    959.4,   3.7607,  34.4853, 2,  34.4830, 2,   -999.0, 9,    180.0, 2,    39.30, 2,    32.55, 2,     0.00, 2,     2.22, 2, -999.000, 9, -999.000, 9,   2222.3, 2,   2328.2, 2,   1043.8, 2,   3.6902,   -999.0, 9, -999.000, 9
316N19871218, SAVE2, 91, 1, 18, 18, 2, 19880114, 2252, -17.1117, -26.2067, 5651,  -999.00,   1178.1,   3.8237,  34.6522, 2,  34.6520, 2,   -999.0, 9,    183.4, 2,    35.97, 2,    30.30, 2,     0.00, 2,     2.05, 2, -999.000, 9, -999.000, 9,   2219.2, 2,   2332.5, 2,    996.4, 2,   3.7343,   -999.0, 9, -999.000, 9
316N19871218, SAVE2, 91, 1, 19, 19, 2, 19880114, 2252, -17.1117, -26.2067, 5651,  -999.00,   1384.3,   3.7867,  34.7876, 2,  34.7890, 2,   -999.0, 9,    200.8, 2,    31.57, 2,    26.97, 2,     0.00, 2,     1.82, 2, -999.000, 9, -999.000, 9,   2206.7, 2,   2333.1, 2,    912.9, 2,   3.6796,   -999.0, 9, -999.000, 9
316N19871218, SAVE2, 91, 1, 20, 20, 2, 19880114, 2252, -17.1117, -26.2067, 5651,  -999.00,   1545.2,   3.6408,  34.8543, 2,  34.8540, 2,   -999.0, 9,    216.8, 2,    29.61, 2,    24.63, 2,     0.00, 2,     1.65, 2, -999.000, 9, -999.000, 9,   2197.0, 2,   2333.9, 2,    852.3, 2,   3.5209,   -999.0, 9, -999.000, 9
316N19871218, SAVE2, 91, 1, 21, 21, 2, 19880114, 2252, -17.1117, -26.2067, 5651,  -999.00,   1706.8,   3.4808,  34.8925, 2,  34.8930, 2,   -999.0, 9,    229.9, 2,    28.54, 2,    22.97, 2,     0.00, 2,     1.53, 2, -999.000, 9, -999.000, 9,   2190.8, 2,   -999.0, 9,   -999.0, 9,   3.3484,   -999.0, 9, -999.000, 9
316N19871218, SAVE2, 91, 1, 22, 22, 2, 19880114, 2252, -17.1117, -26.2067, 5651,  -999.00,   1865.2,   3.3859,  34.9194, 2,  34.9200, 2,   -999.0, 9,    239.0, 2,    27.27, 2,    21.69, 2,     0.00, 2,     1.46, 2,    0.000, 2,    0.006, 2,   2182.8, 2,   2334.8, 2,    774.0, 2,   3.2402,   -999.0, 9, -999.000, 9
316N19871218, SAVE2, 91, 1, 23, 23, 2, 19880114, 2252, -17.1117, -26.2067, 5651,  -999.00,   2030.7,   3.1440,  34.9127, 2,  34.9130, 2,   -999.0, 9,    241.1, 2,    30.78, 2,    21.89, 2,     0.00, 2,     1.46, 2, -999.000, 9, -999.000, 9,   2189.9, 2,   -999.0, 9,   -999.0, 9,   2.9866,   -999.0, 9, -999.000, 9
316N19871218, SAVE2, 91, 1, 24, 24, 2, 19880114, 2252, -17.1117, -26.2067, 5651,  -999.00,   2197.0,   3.0071,  34.9142, 2,  34.9150, 2,   -999.0, 9,    243.8, 2,    32.35, 2,    21.60, 2,     0.00, 2,     1.46, 2, -999.000, 9, -999.000, 9,   2183.3, 2,   2336.3, 2,    770.8, 2,   2.8363,   -999.0, 9, -999.000, 9
316N19871218, SAVE2, 91, 1, 25, 25, 2, 19880114, 2252, -17.1117, -26.2067, 5651,  -999.00,   2445.4,   2.8902,  34.9147, 2,  34.9130, 2,   -999.0, 9,    245.5, 2,    33.81, 2,    21.50, 2,     0.00, 2,     1.45, 2, -999.000, 9, -999.000, 9,   2193.9, 2,   -999.0, 9,   -999.0, 9,   2.6977,   -999.0, 9, -999.000, 9
316N19871218, SAVE2, 91, 1, 26, 26, 2, 19880114, 2252, -17.1117, -26.2067, 5651,  -999.00,   2697.7,   2.8092,  34.9143, 2,  34.9140, 2,   -999.0, 9,    247.2, 2,    34.79, 2,    21.30, 2,     0.00, 2,     1.42, 2, -999.000, 9,    0.003, 2,   2186.8, 2,   2344.2, 2,    754.2, 2,   2.5934,   -999.0, 9, -999.000, 9
316N19871218, SAVE2, 91, 1, 27, 27, 2, 19880114, 2252, -17.1117, -26.2067, 5651,  -999.00,   2999.6,   2.7183,  34.9129, 2,  34.9120, 2,   -999.0, 9,    249.4, 2,    35.67, 2,    21.30, 2,     0.00, 2,     1.42, 2, -999.000, 9, -999.000, 9,   2186.2, 2,   -999.0, 9,   -999.0, 9,   2.4738,   -999.0, 9, -999.000, 9
316N19871218, SAVE2, 91, 1, 28, 28, 2, 19880114, 2252, -17.1117, -26.2067, 5651,  -999.00,   3297.8,   2.6063,  34.9087, 2,  34.9090, 2,   -999.0, 9,    251.6, 2,    36.65, 2,    21.11, 2,     0.00, 2,     1.41, 2, -999.000, 9, -999.000, 9,   2179.9, 2,   2337.0, 2,    751.9, 2,   2.3331,   -999.0, 9, -999.000, 9
316N19871218, SAVE2, 91, 1, 29, 29, 2, 19880114, 2252, -17.1117, -26.2067, 5651,  -999.00,   3596.7,   2.3855,  34.8884, 2,  34.8890, 2,   -999.0, 9,    250.3, 2,    43.00, 2,    21.79, 2,     0.00, 2,     1.46, 2,    0.004, 2,    0.003, 2,   2192.0, 2,   2348.4, 2,    762.1, 2,   2.0855,   -999.0, 9, -999.000, 9
316N19871218, SAVE2, 91, 1, 30, 30, 2, 19880114, 2252, -17.1117, -26.2067, 5651,  -999.00,   3922.8,   1.8818,  34.8367, 2,  34.8370, 2,   -999.0, 9,    242.0, 2,    63.33, 2,    24.63, 2,     0.00, 2,     1.66, 2, -999.000, 9, -999.000, 9,   2213.7, 2,   2360.4, 2,    819.8, 2,   1.5597,   -999.0, 9, -999.000, 9
316N19871218, SAVE2, 91, 1, 31, 31, 2, 19880114, 2252, -17.1117, -26.2067, 5651,  -999.00,   4245.5,   1.3391,  34.7818, 2,  34.7840, 2,   -999.0, 9,    235.5, 2,    84.34, 2,    27.27, 2,     0.00, 2,     1.87, 2, -999.000, 9, -999.000, 9,   2225.5, 2,   -999.0, 9,   -999.0, 9,   0.9972,   -999.0, 9, -999.000, 9
316N19871218, SAVE2, 91, 1, 32, 32, 2, 19880114, 2252, -17.1117, -26.2067, 5651,  -999.00,   4579.6,   1.0023,  34.7463, 2,  34.7440, 2,   -999.0, 9,    229.0, 2,    99.20, 2,    29.22, 2,     0.00, 2,     1.99, 2, -999.000, 9, -999.000, 9,   2241.2, 2,   2368.6, 2,    939.2, 2,   0.6334,   4599.8, 2,    1.007, 2
316N19871218, SAVE2, 91, 1, 33, 33, 2, 19880114, 2252, -17.1117, -26.2067, 5651,  -999.00,   4926.8,   0.8054,  34.7219, 2,  34.7230, 2,   -999.0, 9,    225.9, 2,   108.39, 2,    30.40, 2,     0.00, 2,     2.09, 2,    0.010, 2,    0.008, 2,   2248.9, 2,   -999.0, 9,   -999.0, 9,   0.4031,   -999.0, 9, -999.000, 9
316N19871218, SAVE2, 91, 1, 34, 34, 2, 19880114, 2252, -17.1117, -26.2067, 5651,  -999.00,   5249.5,   0.7374,  34.7123, 2,  34.7110, 2,   -999.0, 9,    224.6, 2,   112.89, 2,    30.89, 2,     0.00, 2,     2.13, 2, -999.000, 9, -999.000, 9,   2258.1, 2,   2381.8, 2,    973.4, 2,   0.2992,   -999.0, 9, -999.000, 9
316N19871218, SAVE2, 91, 1, 35, 35, 2, 19880114, 2252, -17.1117, -26.2067, 5651,  -999.00,   5578.2,   0.7075,  34.7055, 2,  34.7040, 2,   -999.0, 9,    223.8, 2,   115.63, 2,    31.28, 2,     0.00, 2,     2.15, 2, -999.000, 9, -999.000, 9,   2260.0, 2,   -999.0, 9,   -999.0, 9,   0.2301,   5562.2, 2,    0.709, 2
316N19871218, SAVE2, 91, 1, 36, 36, 2, 19880114, 2252, -17.1117, -26.2067, 5651,  -999.00,   5788.4,   0.6805,  34.7005, 2,  34.6980, 2,   -999.0, 9,    222.9, 2,   117.48, 2,    31.57, 2,     0.00, 2,     2.16, 2, -999.000, 9, -999.000, 9,   2259.7, 2,   2376.9, 2,   1013.2, 2,   0.1778,   -999.0, 9, -999.000, 9