BOTTLE,20110114CCHDOSIODM
EXPOCODE,SECT_ID,STNNBR,CASTNO,SAMPNO,BTLNBR,BTLNBR_FLAG_W,DATE,TIME,LATITUDE,LONGITUDE,DEPTH,CTDRAW,CTDPRS,CTDTMP,CTDSAL,CTDSAL_FLAG_W,SALNTY,SALNTY_FLAG_W,CTDOXY,CTDOXY_FLAG_W,OXYGEN,OXYGEN_FLAG_W,SILCAT,SILCAT_FLAG_W,NITRAT,NITRAT_FLAG_W,NITRIT,NITRIT_FLAG_W,PHSPHT,PHSPHT_FLAG_W,CFC-11,CFC-11_FLAG_W,CFC-12,CFC-12_FLAG_W,TCARBN,TCARBN_FLAG_W,ALKALI,ALKALI_FLAG_W,PCO2,PCO2_FLAG_W,THETA,REVPRS,REVPRS_FLAG_W,REVTMP,REVTMP_FLAG_W
,,,,,,,,,,,METERS,DBAR,DBAR,ITS-68,PSS-78,,PSS-78,,UMOL/KG,,UMOL/KG,,UMOL/KG,,UMOL/KG,,UMOL/KG,,UMOL/KG,,PMOL/KG,,PMOL/KG,,UMOL/KG,,UMOL/KG,,UATM,,DEG C,DBAR,,ITS-68,
316N19871218, SAVE2, 92, 1, 1, 1, 2, 19880115, 1546, -17.3333, -27.4667, 5339,  -999.00,      1.4,  27.5111,  37.4136, 2,  37.4140, 2,   -999.0, 9,    200.5, 2,     1.27, 2,     0.10, 2,     0.00, 2,     0.11, 2,    1.490, 2,    0.756, 2,   2073.6, 2,   2464.6, 2,    272.0, 2,  27.5108,   -999.0, 9, -999.000, 9
316N19871218, SAVE2, 92, 1, 2, 2, 2, 19880115, 1546, -17.3333, -27.4667, 5339,  -999.00,     43.9,  27.1604,  37.3929, 2,  37.3970, 2,   -999.0, 9,    201.4, 2,     1.27, 2,     0.10, 2,     0.00, 2,     0.12, 2,    1.497, 2,    0.772, 2,   2074.3, 2,   -999.0, 9,   -999.0, 9,  27.1502,   -999.0, 9, -999.000, 9
316N19871218, SAVE2, 92, 1, 3, 3, 2, 19880115, 1546, -17.3333, -27.4667, 5339,  -999.00,     73.7,  25.9931,  37.2388, 2,  37.2190, 2,   -999.0, 9,    210.5, 2,     1.27, 2,     0.10, 2,     0.00, 2,     0.15, 2,    1.607, 2,    0.820, 2,   -999.0, 9,   -999.0, 9,   -999.0, 9,  25.9766,   -999.0, 9, -999.000, 9
316N19871218, SAVE2, 92, 1, 4, 4, 2, 19880115, 1546, -17.3333, -27.4667, 5339,  -999.00,    109.2,  24.6210,  37.1002, 2,  37.0970, 2,   -999.0, 9,    213.9, 2,     1.27, 2,     0.10, 2,     0.00, 2,     0.18, 2,    1.643, 2,    0.826, 2,   2077.9, 2,   -999.0, 9,   -999.0, 9,  24.5974,   -999.0, 9, -999.000, 9
316N19871218, SAVE2, 92, 1, 5, 5, 2, 19880115, 1546, -17.3333, -27.4667, 5339,  -999.00,    129.8,  23.8375,  36.9742, 2,  36.9690, 2,   -999.0, 9,    212.1, 2,     1.27, 2,     0.10, 2,     0.00, 2,     0.19, 2,    1.683, 2,    0.828, 2,   -999.0, 9,   -999.0, 9,   -999.0, 9,  23.8101,   -999.0, 9, -999.000, 9
316N19871218, SAVE2, 92, 1, 6, 6, 2, 19880115, 1546, -17.3333, -27.4667, 5339,  -999.00,    160.5,  21.3461,  36.5083, 2,  36.4910, 2,   -999.0, 9,    205.1, 2,     1.37, 2,     0.20, 2,     0.12, 2,     0.27, 2,    1.766, 2,    0.862, 2,   -999.0, 9,   -999.0, 9,   -999.0, 9,  21.3148,   -999.0, 9, -999.000, 9
316N19871218, SAVE2, 92, 1, 7, 7, 2, 19880115, 1546, -17.3333, -27.4667, 5339,  -999.00,    236.2,  15.8098,  35.5580, 2,  35.5500, 2,   -999.0, 9,    195.0, 2,     2.93, 2,     6.84, 2,     0.01, 2,     0.63, 2,    1.788, 2,    0.863, 2,   -999.0, 9,   -999.0, 9,   -999.0, 9,  15.7726,   -999.0, 9, -999.000, 9
316N19871218, SAVE2, 92, 1, 8, 8, 2, 19880115, 1546, -17.3333, -27.4667, 5339,  -999.00,    301.4,  12.9653,  35.1608, 2,  35.1600, 2,   -999.0, 9,    184.0, 2,     5.18, 2,    13.09, 2,     0.01, 2,     0.97, 2,    1.505, 2,    0.704, 2,   -999.0, 9,   -999.0, 9,   -999.0, 9,  12.9237,   -999.0, 9, -999.000, 9
316N19871218, SAVE2, 92, 1, 9, 9, 2, 19880115, 1546, -17.3333, -27.4667, 5339,  -999.00,    372.1,  11.1147,  34.9541, 2,  34.9530, 2,   -999.0, 9,    168.3, 2,     8.31, 2,    18.76, 2,     0.01, 2,     1.31, 2,    0.988, 2,    0.469, 2,   -999.0, 9,   -999.0, 9,   -999.0, 9,  11.0681,   -999.0, 9, -999.000, 9
316N19871218, SAVE2, 92, 1, 10, 10, 2, 19880115, 1546, -17.3333, -27.4667, 5339,  -999.00,    407.3,  10.2281,  34.8615, 2,  34.8650, 2,   -999.0, 9,    157.9, 2,    10.46, 2,    21.70, 2,     0.00, 2,     1.49, 2,    0.776, 2,    0.370, 2,   -999.0, 9,   -999.0, 9,   -999.0, 9,  10.1797,   -999.0, 9, -999.000, 9
316N19871218, SAVE2, 92, 1, 11, 11, 2, 19880115, 1546, -17.3333, -27.4667, 5339,  -999.00,    462.0,   8.8532,  34.7235, 2,  34.7280, 2,   -999.0, 9,    157.4, 2,    13.39, 2,    24.92, 2,     0.00, 2,     1.68, 2, -999.000, 9, -999.000, 9,   -999.0, 9,   -999.0, 9,   -999.0, 9,   8.8029,   -999.0, 9, -999.000, 9
316N19871218, SAVE2, 92, 1, 12, 12, 2, 19880115, 1546, -17.3333, -27.4667, 5339,  -999.00,    567.3,   6.5426,  34.5339, 2,  34.5400, 2,   -999.0, 9,    148.7, 2,    21.31, 2,    31.09, 2,     0.00, 2,     2.06, 2,    0.352, 2,    0.166, 2,   -999.0, 9,   -999.0, 9,   -999.0, 9,   6.4904,   -999.0, 9, -999.000, 9
316N19871218, SAVE2, 92, 1, 13, 13, 2, 19880115, 1546, -17.3333, -27.4667, 5339,  -999.00,    666.9,   5.1776,  34.4404, 2,  34.4420, 2,   -999.0, 9,    167.4, 2,    26.98, 2,    32.07, 2,     0.00, 2,     2.16, 2,    0.068, 2,    0.040, 2,   -999.0, 9,   -999.0, 9,   -999.0, 9,   5.1228,   -999.0, 9, -999.000, 9
316N19871218, SAVE2, 92, 1, 14, 14, 2, 19880115, 1546, -17.3333, -27.4667, 5339,  -999.00,    767.7,   4.3151,  34.4144, 2,  34.4130, 2,   -999.0, 9,    178.7, 2,    33.04, 2,    32.55, 2,     0.00, 2,     2.20, 2,    0.036, 2,    0.023, 2,   -999.0, 9,   -999.0, 9,   -999.0, 9,   4.2566,   -999.0, 9, -999.000, 9
316N19871218, SAVE2, 92, 1, 15, 15, 2, 19880115, 1546, -17.3333, -27.4667, 5339,  -999.00,    873.3,   3.8589,  34.4399, 2,  34.4380, 2,   -999.0, 9,    182.6, 2,    38.03, 2,    32.55, 2,     0.00, 2,     2.23, 2,    0.025, 2,    0.014, 2,   -999.0, 9,   -999.0, 9,   -999.0, 9,   3.7948,   -999.0, 9, -999.000, 9
316N19871218, SAVE2, 92, 1, 16, 16, 2, 19880115, 1546, -17.3333, -27.4667, 5339,  -999.00,    979.7,   3.7014,  34.4939, 2,  34.4910, 2,   -999.0, 9,    183.0, 2,    40.18, 2,    32.26, 2,     0.00, 2,     2.20, 2,    0.010, 2,    0.003, 2,   2217.7, 2,   2322.0, 2,   1051.5, 2,   3.6297,   -999.0, 9, -999.000, 9
316N19871218, SAVE2, 92, 1, 17, 17, 2, 19880115, 1546, -17.3333, -27.4667, 5339,  -999.00,   1054.2,   3.6839,  34.5449, 2,  34.5470, 2,   -999.0, 9,    181.2, 2,    39.78, 2,    31.77, 2,     0.00, 2,     2.16, 2,    0.003, 2, -999.000, 9,   -999.0, 9,   -999.0, 9,   -999.0, 9,   3.6062,   -999.0, 9, -999.000, 9
316N19871218, SAVE2, 92, 1, 18, 18, 2, 19880115, 1546, -17.3333, -27.4667, 5339,  -999.00,   1109.6,   3.7177,  34.5918, 2,  34.5930, 2,   -999.0, 9,    182.5, 2,    38.61, 2,    31.08, 2,     0.00, 2,     2.12, 2, -999.000, 9, -999.000, 9,   -999.0, 9,   -999.0, 9,   -999.0, 9,   3.6351,   -999.0, 9, -999.000, 9
316N19871218, SAVE2, 92, 1, 19, 19, 2, 19880115, 1546, -17.3333, -27.4667, 5339,  -999.00,   1230.4,   3.8895,  34.7136, 2,  34.7150, 2,   -999.0, 9,    188.2, 2,    33.43, 2,    28.83, 2,     0.00, 2,     1.96, 2,    0.001, 2, -999.000, 9,   -999.0, 9,   -999.0, 9,   -999.0, 9,   3.7949,   -999.0, 9, -999.000, 9
316N19871218, SAVE2, 92, 1, 20, 20, 2, 19880115, 1546, -17.3333, -27.4667, 5339,  -999.00,   1351.0,   3.9499,  34.8016, 2,  34.8030, 2,   -999.0, 9,    200.3, 2,    29.52, 2,    26.68, 2,     0.00, 2,     1.80, 2, -999.000, 9, -999.000, 9,   -999.0, 9,   -999.0, 9,   -999.0, 9,   3.8440,   -999.0, 9, -999.000, 9
316N19871218, SAVE2, 92, 1, 21, 21, 2, 19880115, 1546, -17.3333, -27.4667, 5339,  -999.00,   1497.3,   3.7859,  34.8551, 2,  34.8570, 2,   -999.0, 9,    213.8, 2,    27.95, 2,    24.92, 2,     0.00, 2,     1.67, 2,    0.001, 2, -999.000, 9,   -999.0, 9,   -999.0, 9,   -999.0, 9,   3.6686,   -999.0, 9, -999.000, 9
316N19871218, SAVE2, 92, 1, 22, 22, 2, 19880115, 1546, -17.3333, -27.4667, 5339,  -999.00,   1699.0,   3.4722,  34.8961, 2,  34.8990, 2,   -999.0, 9,    230.3, 2,    28.24, 2,    22.77, 2,     0.00, 2,     1.53, 2,    0.000, 2, -999.000, 9,   -999.0, 9,   -999.0, 9,   -999.0, 9,   3.3405,   -999.0, 9, -999.000, 9
316N19871218, SAVE2, 92, 1, 23, 23, 2, 19880115, 1546, -17.3333, -27.4667, 5339,  -999.00,   1900.7,   3.2427,  34.9122, 2,  34.9150, 2,   -999.0, 9,    239.0, 2,    29.12, 2,    21.89, 2,     0.00, 2,     1.46, 2, -999.000, 9, -999.000, 9,   -999.0, 9,   -999.0, 9,   -999.0, 9,   3.0957,   -999.0, 9, -999.000, 9
316N19871218, SAVE2, 92, 1, 24, 24, 2, 19880115, 1546, -17.3333, -27.4667, 5339,  -999.00,   2097.9,   3.0634,  34.9149, 2,  34.9170, 2,   -999.0, 9,    243.8, 2,    31.17, 2,    21.60, 2,     0.00, 2,     1.45, 2, -999.000, 9,    0.001, 2,   2180.7, 2,   -999.0, 9,   -999.0, 9,   2.9009,   -999.0, 9, -999.000, 9
316N19871218, SAVE2, 92, 1, 25, 25, 2, 19880115, 1546, -17.3333, -27.4667, 5339,  -999.00,   2299.9,   2.9254,  34.9112, 2,  34.9130, 2,   -999.0, 9,    243.8, 2,    33.72, 2,    21.60, 2,     0.00, 2,     1.45, 2,    0.000, 2,    0.000, 2,   -999.0, 9,   -999.0, 9,   -999.0, 9,   2.7462,   -999.0, 9, -999.000, 9
316N19871218, SAVE2, 92, 1, 26, 26, 2, 19880115, 1546, -17.3333, -27.4667, 5339,  -999.00,   2548.1,   2.7781,  34.9024, 2,  34.9030, 2,   -999.0, 9,    242.9, 2,    37.82, 2,    22.09, 2,     0.00, 2,     1.48, 2, -999.000, 9, -999.000, 9,   -999.0, 9,   -999.0, 9,   -999.0, 9,   2.5778,   -999.0, 9, -999.000, 9
316N19871218, SAVE2, 92, 1, 27, 27, 2, 19880115, 1546, -17.3333, -27.4667, 5339,  -999.00,   2821.5,   2.7278,  34.8992, 2,  34.8990, 2,   -999.0, 9,    242.4, 2,    39.19, 2,    22.09, 2,     0.00, 2,     1.49, 2, -999.000, 9, -999.000, 9,   -999.0, 9,   -999.0, 9,   -999.0, 9,   2.5013,   -999.0, 9, -999.000, 9
316N19871218, SAVE2, 92, 1, 28, 28, 2, 19880115, 1546, -17.3333, -27.4667, 5339,  -999.00,   3151.4,   2.6625,  34.9049, 2,  34.9070, 2,   -999.0, 9,    247.2, 2,    37.92, 2,    21.60, 2,     0.00, 2,     1.44, 2, -999.000, 9, -999.000, 9,   -999.0, 9,   -999.0, 9,   -999.0, 9,   2.4035,   -999.0, 9, -999.000, 9
316N19871218, SAVE2, 92, 1, 29, 29, 2, 19880115, 1546, -17.3333, -27.4667, 5339,  -999.00,   3449.9,   2.5525,  34.9019, 2,  34.9060, 2,   -999.0, 9,    250.7, 2,    38.31, 2,    21.30, 2,     0.00, 2,     1.42, 2, -999.000, 9, -999.000, 9,   -999.0, 9,   -999.0, 9,   -999.0, 9,   2.2642,   -999.0, 9, -999.000, 9
316N19871218, SAVE2, 92, 1, 30, 30, 2, 19880115, 1546, -17.3333, -27.4667, 5339,  -999.00,   3754.0,   2.2600,  34.8761, 2,  34.8780, 2,   -999.0, 9,    249.0, 2,    47.50, 2,    22.28, 2,     0.00, 2,     1.50, 2, -999.000, 9, -999.000, 9,   2199.6, 2,   -999.0, 9,   -999.0, 9,   1.9462,   -999.0, 9, -999.000, 9
316N19871218, SAVE2, 92, 1, 31, 31, 2, 19880115, 1546, -17.3333, -27.4667, 5339,  -999.00,   4053.0,   1.7278,  34.8209, 2,  34.8220, 2,   -999.0, 9,    240.7, 2,    68.80, 2,    25.21, 2,     0.00, 2,     1.71, 2, -999.000, 9,    0.001, 2,   -999.0, 9,   -999.0, 9,   -999.0, 9,   1.3958,   -999.0, 9, -999.000, 9
316N19871218, SAVE2, 92, 1, 32, 32, 2, 19880115, 1546, -17.3333, -27.4667, 5339,  -999.00,   4351.7,   1.2898,  34.7753, 2,  34.7750, 2,   -999.0, 9,    234.2, 2,    86.59, 2,    27.66, 2,     0.00, 2,     1.88, 2, -999.000, 9, -999.000, 9,   -999.0, 9,   -999.0, 9,   -999.0, 9,   0.9376,   4369.0, 2,    1.293, 2
316N19871218, SAVE2, 92, 1, 33, 33, 2, 19880115, 1546, -17.3333, -27.4667, 5339,  -999.00,   4651.1,   1.0003,  34.7439, 2,  34.7460, 2,   -999.0, 9,    229.0, 2,    98.71, 2,    29.32, 2,     0.00, 2,     2.00, 2,    0.001, 2,    0.001, 2,   -999.0, 9,   -999.0, 9,   -999.0, 9,   0.6233,   -999.0, 9, -999.000, 9
316N19871218, SAVE2, 92, 1, 34, 34, 2, 19880115, 1546, -17.3333, -27.4667, 5339,  -999.00,   4951.9,   0.8242,  34.7234, 2,  34.7230, 2,   -999.0, 9,    225.9, 2,   107.02, 2,    30.30, 2,     0.00, 2,     2.08, 2, -999.000, 9, -999.000, 9,   -999.0, 9,   -999.0, 9,   -999.0, 9,   0.4183,   -999.0, 9, -999.000, 9
316N19871218, SAVE2, 92, 1, 35, 35, 2, 19880115, 1546, -17.3333, -27.4667, 5339,  -999.00,   5266.2,   0.6695,  34.7047, 2,  34.7050, 2,   -999.0, 9,    223.8, 2,   114.75, 2,    31.28, 2,     0.00, 2,     2.16, 2,    0.006, 2,    0.002, 2,   -999.0, 9,   -999.0, 9,   -999.0, 9,   0.2318,   5250.5, 2,    0.670, 2
316N19871218, SAVE2, 92, 1, 36, 36, 2, 19880115, 1546, -17.3333, -27.4667, 5339,  -999.00,   5466.3,   0.5919,  34.6949, 2,  34.6950, 2,   -999.0, 9,    222.5, 2,   118.27, 2,    31.77, 2,     0.00, 2,     2.17, 2,    0.013, 2,    0.005, 2,   2262.6, 2,   2381.0, 2,   1008.2, 2,   0.1328,   -999.0, 9, -999.000, 9