BOTTLE,20110114CCHDOSIODM
EXPOCODE,SECT_ID,STNNBR,CASTNO,SAMPNO,BTLNBR,BTLNBR_FLAG_W,DATE,TIME,LATITUDE,LONGITUDE,DEPTH,CTDRAW,CTDPRS,CTDTMP,CTDSAL,CTDSAL_FLAG_W,SALNTY,SALNTY_FLAG_W,CTDOXY,CTDOXY_FLAG_W,OXYGEN,OXYGEN_FLAG_W,SILCAT,SILCAT_FLAG_W,NITRAT,NITRAT_FLAG_W,NITRIT,NITRIT_FLAG_W,PHSPHT,PHSPHT_FLAG_W,CFC-11,CFC-11_FLAG_W,CFC-12,CFC-12_FLAG_W,TCARBN,TCARBN_FLAG_W,ALKALI,ALKALI_FLAG_W,PCO2,PCO2_FLAG_W,THETA,REVPRS,REVPRS_FLAG_W,REVTMP,REVTMP_FLAG_W
,,,,,,,,,,,METERS,DBAR,DBAR,ITS-68,PSS-78,,PSS-78,,UMOL/KG,,UMOL/KG,,UMOL/KG,,UMOL/KG,,UMOL/KG,,UMOL/KG,,PMOL/KG,,PMOL/KG,,UMOL/KG,,UMOL/KG,,UATM,,DEG C,DBAR,,ITS-68,
316N19871218, SAVE2, 103, 1, 1, 1, 2, 19880121, 0738, -18.8533, -37.7083, 3223,  -999.00,      0.7,  28.3625,  37.2269, 2,  37.2310, 2,   -999.0, 9,    201.1, 2,     1.37, 2,     0.10, 2,     0.00, 2,     0.03, 2,    1.437, 2,    0.719, 2,   2044.7, 2,   -999.0, 9,   -999.0, 9,  28.3624,   -999.0, 9, -999.000, 9
316N19871218, SAVE2, 103, 1, 2, 2, 2, 19880121, 0738, -18.8533, -37.7083, 3223,  -999.00,     20.9,  27.9482,  37.1727, 2,  37.1890, 2,   -999.0, 9,    201.0, 2,     1.27, 2,     0.10, 2,     0.00, 2,     0.04, 2, -999.000, 9, -999.000, 9,   2048.8, 2,   -999.0, 9,   -999.0, 9,  27.9432,   -999.0, 9, -999.000, 9
316N19871218, SAVE2, 103, 1, 3, 3, 2, 19880121, 0738, -18.8533, -37.7083, 3223,  -999.00,     57.5,  24.8026,  37.2151, 2,  37.2140, 2,   -999.0, 9,    203.5, 2,     1.17, 2,     0.10, 2,     0.00, 2,     0.13, 2,    1.570, 2,    0.787, 2,   2081.3, 2,   -999.0, 9,   -999.0, 9,  24.7901,   -999.0, 9, -999.000, 9
316N19871218, SAVE2, 103, 1, 4, 4, 2, 19880121, 0738, -18.8533, -37.7083, 3223,  -999.00,     72.9,  23.8956,  37.0512, 2,  37.0290, 2,   -999.0, 9,    196.9, 2,     1.17, 2,     0.10, 2,     0.20, 2,     0.20, 2, -999.000, 9, -999.000, 9,   2092.9, 2,   -999.0, 9,   -999.0, 9,  23.8802,   -999.0, 9, -999.000, 9
316N19871218, SAVE2, 103, 1, 5, 5, 2, 19880121, 0738, -18.8533, -37.7083, 3223,  -999.00,     98.5,  21.5785,  36.6078, 2,  36.5430, 2,   -999.0, 9,    197.3, 2,     1.17, 2,     0.98, 2,     0.07, 2,     0.25, 2,    1.725, 2,    0.869, 2,   2088.6, 2,   -999.0, 9,   -999.0, 9,  21.5592,   -999.0, 9, -999.000, 9
316N19871218, SAVE2, 103, 1, 6, 6, 2, 19880121, 0738, -18.8533, -37.7083, 3223,  -999.00,    142.4,  16.4544,  35.6885, 2,  35.6710, 2,   -999.0, 9,    200.6, 2,     2.25, 2,     4.98, 2,     0.02, 2,     0.51, 2, -999.000, 9, -999.000, 9,   2092.4, 2,   -999.0, 9,   -999.0, 9,  16.4314,   -999.0, 9, -999.000, 9
316N19871218, SAVE2, 103, 1, 7, 7, 2, 19880121, 0738, -18.8533, -37.7083, 3223,  -999.00,    171.6,  15.1649,  35.4864, 2,  35.4840, 2,   -999.0, 9,    201.9, 2,     2.74, 2,     6.45, 2,     0.01, 2,     0.58, 2,    1.774, 2,    0.862, 2,   -999.0, 9,   -999.0, 9,   -999.0, 9,  15.1386,   -999.0, 9, -999.000, 9
316N19871218, SAVE2, 103, 1, 8, 8, 2, 19880121, 0738, -18.8533, -37.7083, 3223,  -999.00,    212.0,  14.2351,  35.3540, 2,  35.3520, 2,   -999.0, 9,    202.8, 2,     3.22, 2,     8.11, 2,     0.01, 2,     0.67, 2, -999.000, 9, -999.000, 9,   2101.3, 2,   -999.0, 9,   -999.0, 9,  14.2040,   -999.0, 9, -999.000, 9
316N19871218, SAVE2, 103, 1, 9, 9, 2, 19880121, 0738, -18.8533, -37.7083, 3223,  -999.00,    258.0,  13.3211,  35.2385, 2,  35.2390, 2,   -999.0, 9,    201.9, 2,     3.81, 2,    10.06, 2,     0.01, 2,     0.80, 2,    1.585, 2,    0.767, 2,   2110.5, 2,   -999.0, 9,   -999.0, 9,  13.2848,   -999.0, 9, -999.000, 9
316N19871218, SAVE2, 103, 1, 10, 10, 2, 19880121, 0738, -18.8533, -37.7083, 3223,  -999.00,    302.1,  12.3948,  35.1155, 2,  35.1110, 2,   -999.0, 9,    196.6, 2,     5.08, 2,    12.70, 2,     0.01, 2,     0.95, 2, -999.000, 9, -999.000, 9,   2119.3, 2,   -999.0, 9,   -999.0, 9,  12.3543,   -999.0, 9, -999.000, 9
316N19871218, SAVE2, 103, 1, 11, 11, 2, 19880121, 0738, -18.8533, -37.7083, 3223,  -999.00,    341.3,  11.4474,  34.9995, 2,  35.0000, 2,   -999.0, 9,    193.6, 2,     6.35, 2,    15.15, 2,     0.00, 2,     1.08, 2,    1.235, 2,    0.586, 2,   -999.0, 9,   -999.0, 9,   -999.0, 9,  11.4039,   -999.0, 9, -999.000, 9
316N19871218, SAVE2, 103, 1, 12, 12, 2, 19880121, 0738, -18.8533, -37.7083, 3223,  -999.00,    386.4,  10.4130,  34.8740, 2,  34.8770, 2,   -999.0, 9,    187.0, 2,     8.31, 2,    18.08, 2,     0.00, 2,     1.28, 2, -999.000, 9, -999.000, 9,   2140.9, 2,   -999.0, 9,   -999.0, 9,  10.3666,   -999.0, 9, -999.000, 9
316N19871218, SAVE2, 103, 1, 14, 14, 2, 19880121, 0738, -18.8533, -37.7083, 3223,  -999.00,    476.3,   8.8165,  34.7029, 2,  34.7030, 2,   -999.0, 9,    186.1, 2,    11.63, 2,    22.09, 2,     0.00, 2,     1.51, 2,    0.791, 2,    0.387, 2,   -999.0, 9,   -999.0, 9,   -999.0, 9,   8.7647,   -999.0, 9, -999.000, 9
316N19871218, SAVE2, 103, 1, 13, 13, 2, 19880121, 0738, -18.8533, -37.7083, 3223,  -999.00,    476.4,   8.8302,  34.7048, 2,  34.7040, 2,   -999.0, 9,    186.6, 2,    11.53, 2,    21.99, 2,     0.00, 2,     1.51, 2, -999.000, 9, -999.000, 9,   2157.5, 2,   -999.0, 9,   -999.0, 9,   8.7784,   -999.0, 9, -999.000, 9
316N19871218, SAVE2, 103, 1, 15, 15, 2, 19880121, 0738, -18.8533, -37.7083, 3223,  -999.00,    564.8,   7.8487,  34.5967, 2,  34.5960, 2,   -999.0, 9,    200.0, 2,    12.61, 2,    23.07, 2,     0.00, 2,     1.58, 2,    0.855, 2,    0.399, 2,   2157.0, 2,   -999.0, 9,   -999.0, 9,   7.7911,   -999.0, 9, -999.000, 9
316N19871218, SAVE2, 103, 1, 16, 16, 2, 19880121, 0738, -18.8533, -37.7083, 3223,  -999.00,    629.7,   6.7055,  34.4830, 2,  34.4910, 2,   -999.0, 9,    206.1, 2,    15.45, 2,    25.03, 2,     0.00, 2,     1.72, 2, -999.000, 9, -999.000, 9,   -999.0, 9,   -999.0, 9,   -999.0, 9,   6.6465,   -999.0, 9, -999.000, 9
316N19871218, SAVE2, 103, 1, 17, 17, 2, 19880121, 0738, -18.8533, -37.7083, 3223,  -999.00,    685.0,   6.1798,  34.4534, 2,  34.4550, 2,   -999.0, 9,    197.8, 2,    18.67, 2,    27.18, 2,     0.00, 2,     1.84, 2,    0.533, 2,    0.261, 2,   2176.5, 2,   -999.0, 9,   -999.0, 9,   6.1182,   -999.0, 9, -999.000, 9
316N19871218, SAVE2, 103, 1, 18, 18, 2, 19880121, 0738, -18.8533, -37.7083, 3223,  -999.00,    749.4,   5.3639,  34.3827, 2,  34.3800, 2,   -999.0, 9,    211.3, 2,    20.82, 2,    27.86, 2,     0.00, 2,     1.90, 2, -999.000, 9, -999.000, 9,   2172.6, 2,   -999.0, 9,   -999.0, 9,   5.3009,   -999.0, 9, -999.000, 9
316N19871218, SAVE2, 103, 1, 19, 19, 2, 19880121, 0738, -18.8533, -37.7083, 3223,  -999.00,    825.8,   4.6662,  34.3490, 2,  34.3460, 2,   -999.0, 9,    212.2, 2,    25.32, 2,    29.33, 2,     0.00, 2,     1.99, 2,    0.482, 2,    0.237, 2,   2187.1, 2,   -999.0, 9,   -999.0, 9,   4.6008,   -999.0, 9, -999.000, 9
316N19871218, SAVE2, 103, 1, 20, 20, 2, 19880121, 0738, -18.8533, -37.7083, 3223,  -999.00,    906.3,   4.3711,  34.3581, 2,  34.3560, 2,   -999.0, 9,    205.2, 2,    29.13, 2,    30.41, 2,     0.00, 2,     2.06, 2, -999.000, 9, -999.000, 9,   -999.0, 9,   -999.0, 9,   -999.0, 9,   4.3008,   -999.0, 9, -999.000, 9
316N19871218, SAVE2, 103, 1, 21, 21, 2, 19880121, 0738, -18.8533, -37.7083, 3223,  -999.00,    991.0,   3.7662,  34.3835, 2,  34.3810, 2,   -999.0, 9,    198.2, 2,    37.25, 2,    31.68, 2,     0.00, 2,     2.16, 2,    0.162, 2,    0.085, 2,   2208.7, 2,   -999.0, 9,   -999.0, 9,   3.6933,   -999.0, 9, -999.000, 9
316N19871218, SAVE2, 103, 1, 22, 22, 2, 19880121, 0738, -18.8533, -37.7083, 3223,  -999.00,   1090.1,   3.5494,  34.4284, 2,  34.4290, 2,   -999.0, 9,    194.3, 2,    41.25, 2,    31.97, 2,     0.00, 2,     2.17, 2, -999.000, 9, -999.000, 9,   2213.8, 2,   -999.0, 9,   -999.0, 9,   3.4701,   -999.0, 9, -999.000, 9
316N19871218, SAVE2, 103, 1, 23, 23, 2, 19880121, 0738, -18.8533, -37.7083, 3223,  -999.00,   1157.1,   3.4810,  34.4656, 2,  34.4650, 2,   -999.0, 9,    192.1, 2,    42.72, 2,    31.97, 2,     0.00, 2,     2.17, 2,    0.059, 2,    0.036, 2,   2216.4, 2,   -999.0, 9,   -999.0, 9,   3.3968,   -999.0, 9, -999.000, 9
316N19871218, SAVE2, 103, 1, 24, 24, 2, 19880121, 0738, -18.8533, -37.7083, 3223,  -999.00,   1216.5,   3.4770,  34.5182, 2,  34.5180, 2,   -999.0, 9,    190.4, 2,    43.11, 2,    31.48, 2,     0.00, 2,     2.14, 2,    0.031, 2,    0.025, 2,   2218.3, 2,   -999.0, 9,   -999.0, 9,   3.3879,   -999.0, 9, -999.000, 9
316N19871218, SAVE2, 103, 1, 25, 25, 2, 19880121, 0738, -18.8533, -37.7083, 3223,  -999.00,   1306.0,   3.5722,  34.6158, 2,  34.6150, 2,   -999.0, 9,    190.4, 2,    41.05, 2,    30.30, 2,     0.00, 2,     2.05, 2,    0.007, 2,    0.012, 2,   2215.9, 2,   -999.0, 9,   -999.0, 9,   3.4744,   -999.0, 9, -999.000, 9
316N19871218, SAVE2, 103, 1, 26, 26, 2, 19880121, 0738, -18.8533, -37.7083, 3223,  -999.00,   1444.0,   3.8159,  34.7460, 2,  34.7430, 2,   -999.0, 9,    197.3, 2,    34.01, 2,    27.86, 2,     0.00, 2,     1.87, 2, -999.000, 9, -999.000, 9,   -999.0, 9,   -999.0, 9,   -999.0, 9,   3.7033,   -999.0, 9, -999.000, 9
316N19871218, SAVE2, 103, 1, 27, 27, 2, 19880121, 0738, -18.8533, -37.7083, 3223,  -999.00,   1587.6,   4.1200,  34.8749, 2,  34.8720, 2,   -999.0, 9,    211.2, 2,    24.53, 2,    24.53, 2,     0.00, 2,     1.64, 2, -999.000, 9,    0.001, 2,   2192.8, 2,   -999.0, 9,   -999.0, 9,   3.9906,   -999.0, 9, -999.000, 9
316N19871218, SAVE2, 103, 1, 28, 28, 2, 19880121, 0738, -18.8533, -37.7083, 3223,  -999.00,   1751.2,   3.9792,  34.9482, 2,  34.9400, 2,   -999.0, 9,    233.3, 2,    20.23, 2,    21.40, 2,     0.00, 2,     1.42, 2,    0.007, 2,    0.010, 2,   2181.5, 2,   -999.0, 9,   -999.0, 9,   3.8360,   -999.0, 9, -999.000, 9
316N19871218, SAVE2, 103, 1, 29, 29, 2, 19880121, 0738, -18.8533, -37.7083, 3223,  -999.00,   1915.3,   3.6173,  34.9642, 2,  34.9620, 2,   -999.0, 9,    249.4, 2,    20.23, 2,    19.94, 2,     0.00, 2,     1.32, 2,    0.003, 2,    0.014, 2,   2168.3, 2,   -999.0, 9,   -999.0, 9,   3.4635,   -999.0, 9, -999.000, 9
316N19871218, SAVE2, 103, 1, 30, 30, 2, 19880121, 0738, -18.8533, -37.7083, 3223,  -999.00,   2250.3,   2.9537,  34.9366, 2,  34.9360, 2,   -999.0, 9,    252.4, 2,    28.24, 2,    20.13, 2,     0.00, 2,     1.33, 2,    0.001, 2,    0.001, 2,   2182.3, 2,   -999.0, 9,   -999.0, 9,   2.7787,   -999.0, 9, -999.000, 9
316N19871218, SAVE2, 103, 1, 31, 31, 2, 19880121, 0738, -18.8533, -37.7083, 3223,  -999.00,   2448.0,   2.8278,  34.9295, 2,  34.9280, 2,   -999.0, 9,    252.9, 2,    30.69, 2,    20.33, 2,     0.00, 2,     1.35, 2,    0.000, 2,    0.008, 2,   -999.0, 9,   -999.0, 9,   -999.0, 9,   2.6361,   -999.0, 9, -999.000, 9
316N19871218, SAVE2, 103, 1, 32, 32, 2, 19880121, 0738, -18.8533, -37.7083, 3223,  -999.00,   2626.6,   2.7771,  34.9263, 2,  34.9240, 2,   -999.0, 9,    252.9, 2,    31.66, 2,    20.42, 2,     0.00, 2,     1.36, 2, -999.000, 9,    0.003, 2,   2178.5, 2,   -999.0, 9,   -999.0, 9,   2.5690,   -999.0, 9, -999.000, 9
316N19871218, SAVE2, 103, 1, 33, 33, 2, 19880121, 0738, -18.8533, -37.7083, 3223,  -999.00,   2801.1,   2.7306,  34.9236, 2,  34.9220, 2,   -999.0, 9,    252.9, 2,    32.15, 2,    20.52, 2,     0.00, 2,     1.36, 2,    0.002, 2,    0.001, 2,   2181.5, 2,   -999.0, 9,   -999.0, 9,   2.5060,   -999.0, 9, -999.000, 9
316N19871218, SAVE2, 103, 1, 34, 34, 2, 19880121, 0738, -18.8533, -37.7083, 3223,  -999.00,   3001.9,   2.5434,  34.9110, 2,  34.9080, 2,   -999.0, 9,    253.7, 2,    36.26, 2,    20.72, 2,     0.00, 2,     1.38, 2,    0.001, 2,    0.001, 2,   2186.0, 2,   -999.0, 9,   -999.0, 9,   2.3024,   -999.0, 9, -999.000, 9
316N19871218, SAVE2, 103, 1, 35, 35, 2, 19880121, 0738, -18.8533, -37.7083, 3223,  -999.00,   3149.3,   2.3565,  34.8941, 2,  34.8910, 2,   -999.0, 9,    252.4, 2,    41.83, 2,    21.40, 2,     0.00, 2,     1.43, 2,    0.000, 2, -999.000, 9,   2187.5, 2,   -999.0, 9,   -999.0, 9,   2.1046,   3133.5, 2,    2.356, 2
316N19871218, SAVE2, 103, 1, 36, 36, 2, 19880121, 0738, -18.8533, -37.7083, 3223,  -999.00,   3253.7,   2.1749,  34.8767, 2,  34.8730, 2,   -999.0, 9,    249.4, 2,    48.77, 2,    22.28, 2,     0.00, 2,     1.50, 2,    0.003, 2,    0.001, 2,   2198.7, 2,   -999.0, 9,   -999.0, 9,   1.9166,   -999.0, 9, -999.000, 9
316N19871218, SAVE2, 104, 1, 13, 13, 2, 19880121, 1213, -18.8583, -37.7933, 1689,  -999.00,      4.0,  28.5174,  37.2272, 2,  37.2310, 2,   -999.0, 9,    201.1, 2,     1.17, 2,     0.00, 2,     0.00, 2,     0.10, 2,    1.433, 2,    0.730, 2,   2044.0, 2,   -999.0, 9,   -999.0, 9,  28.5164,   -999.0, 9, -999.000, 9
316N19871218, SAVE2, 104, 1, 14, 14, 2, 19880121, 1213, -18.8583, -37.7933, 1689,  -999.00,     33.1,  28.0598,  37.2030, 2,  37.2040, 2,   -999.0, 9,    201.0, 2,     1.17, 2,     0.00, 2,     0.00, 2,     0.10, 2,    1.459, 2,    0.750, 2,   2045.4, 2,   -999.0, 9,   -999.0, 9,  28.0519,   -999.0, 9, -999.000, 9
316N19871218, SAVE2, 104, 1, 15, 15, 2, 19880121, 1213, -18.8583, -37.7933, 1689,  -999.00,     68.9,  24.7739,  37.0827, 2,  37.0820, 2,   -999.0, 9,    203.9, 2,     0.98, 2,     0.00, 2,     0.00, 2,     0.20, 2,    1.541, 2,    0.792, 2,   2079.0, 2,   -999.0, 9,   -999.0, 9,  24.7589,   -999.0, 9, -999.000, 9
316N19871218, SAVE2, 104, 1, 16, 16, 2, 19880121, 1213, -18.8583, -37.7933, 1689,  -999.00,     97.9,  23.7241,  37.0159, 2,  37.0250, 2,   -999.0, 9,    199.5, 2,     0.98, 2,     0.00, 2,     0.18, 2,     0.26, 2,    1.599, 2,    0.804, 2,   2088.9, 2,   -999.0, 9,   -999.0, 9,  23.7035,   -999.0, 9, -999.000, 9
316N19871218, SAVE2, 104, 1, 17, 17, 2, 19880121, 1213, -18.8583, -37.7933, 1689,  -999.00,    136.7,  21.2865,  36.5377, 2,  36.5410, 2,   -999.0, 9,    195.5, 2,     1.07, 2,     0.98, 2,     0.08, 2,     0.35, 2,    1.679, 2,    0.850, 2,   2091.5, 2,   -999.0, 9,   -999.0, 9,  21.2599,   -999.0, 9, -999.000, 9
316N19871218, SAVE2, 104, 1, 18, 18, 2, 19880121, 1213, -18.8583, -37.7933, 1689,  -999.00,    149.0,  19.7579,  36.2667, 2,  36.2780, 2,   -999.0, 9,    199.8, 2,     1.37, 2,     1.85, 2,     0.05, 2,     0.39, 2,    1.776, 2,    0.942, 2,   2088.0, 2,   -999.0, 9,   -999.0, 9,  19.7304,   -999.0, 9, -999.000, 9
316N19871218, SAVE2, 104, 1, 19, 19, 2, 19880121, 1213, -18.8583, -37.7933, 1689,  -999.00,    165.3,  16.0116,  35.6262, 2,  35.6330, 2,   -999.0, 9,    203.2, 2,     2.15, 2,     5.37, 2,     0.03, 2,     0.60, 2,    1.773, 2,    0.878, 2,   2093.3, 2,   -999.0, 9,   -999.0, 9,  15.9853,   -999.0, 9, -999.000, 9
316N19871218, SAVE2, 104, 1, 20, 20, 2, 19880121, 1213, -18.8583, -37.7933, 1689,  -999.00,    222.9,  13.9662,  35.3234, 2,  35.3200, 2,   -999.0, 9,    204.5, 2,     2.15, 2,     5.47, 2,     0.03, 2,     0.61, 2,    1.677, 2,    0.826, 2,   2100.5, 2,   -999.0, 9,   -999.0, 9,  13.9339,   -999.0, 9, -999.000, 9
316N19871218, SAVE2, 104, 1, 21, 21, 2, 19880121, 1213, -18.8583, -37.7933, 1689,  -999.00,    290.9,  13.3301,  35.2346, 2,  35.2370, 2,   -999.0, 9,    200.1, 2,     3.13, 2,     8.60, 2,     0.01, 2,     0.77, 2,    1.580, 2,    0.770, 2,   2105.7, 2,   -999.0, 9,   -999.0, 9,  13.2891,   -999.0, 9, -999.000, 9
316N19871218, SAVE2, 104, 1, 22, 22, 2, 19880121, 1213, -18.8583, -37.7933, 1689,  -999.00,    327.6,  12.8340,  35.1705, 2,  35.1760, 2,   -999.0, 9,    199.7, 2,     3.91, 2,    10.26, 2,     0.01, 2,     0.87, 2,    1.508, 2,    0.724, 2,   2111.4, 2,   -999.0, 9,   -999.0, 9,  12.7890,   -999.0, 9, -999.000, 9
316N19871218, SAVE2, 104, 1, 23, 23, 2, 19880121, 1213, -18.8583, -37.7933, 1689,  -999.00,    365.7,  11.9012,  35.0582, 2,  35.0580, 2,   -999.0, 9,    197.5, 2,     4.20, 2,    11.53, 2,     0.01, 2,     0.94, 2,    1.340, 2,    0.634, 2,   2119.9, 2,   -999.0, 9,   -999.0, 9,  11.8534,   -999.0, 9, -999.000, 9
316N19871218, SAVE2, 104, 1, 24, 24, 2, 19880121, 1213, -18.8583, -37.7933, 1689,  -999.00,    435.7,  10.8146,  34.9252, 2,  34.9270, 2,   -999.0, 9,    194.0, 2,     5.37, 2,    13.88, 2,     0.01, 2,     1.07, 2,    1.169, 2,    0.549, 2,   2133.4, 2,   -999.0, 9,   -999.0, 9,  10.7609,   -999.0, 9, -999.000, 9
316N19871218, SAVE2, 104, 1, 25, 25, 2, 19880121, 1213, -18.8583, -37.7933, 1689,  -999.00,    492.2,  10.0021,  34.8284, 2,  34.8330, 2,   -999.0, 9,    197.5, 2,     8.21, 2,    18.37, 2,     0.01, 2,     1.35, 2,    1.069, 2,    0.497, 2,   2135.6, 2,   -999.0, 9,   -999.0, 9,   9.9443,   -999.0, 9, -999.000, 9
316N19871218, SAVE2, 104, 1, 26, 26, 2, 19880121, 1213, -18.8583, -37.7933, 1689,  -999.00,    562.5,   8.1025,  34.6268, 2,  34.6290, 2,   -999.0, 9,    189.2, 2,    13.29, 2,    23.75, 2,     0.00, 2,     1.68, 2,    0.704, 2,    0.336, 2,   2158.9, 2,   -999.0, 9,   -999.0, 9,   8.0441,   -999.0, 9, -999.000, 9
316N19871218, SAVE2, 104, 1, 27, 27, 2, 19880121, 1213, -18.8583, -37.7933, 1689,  -999.00,    631.2,   7.3620,  34.5457, 2,  34.5460, 2,   -999.0, 9,    202.6, 2,    13.78, 2,    24.05, 2,     0.00, 2,     1.71, 2,    0.817, 2,    0.374, 2,   -999.0, 9,   -999.0, 9,   -999.0, 9,   7.2997,   -999.0, 9, -999.000, 9
316N19871218, SAVE2, 104, 1, 28, 28, 2, 19880121, 1213, -18.8583, -37.7933, 1689,  -999.00,    701.2,   6.0070,  34.4347, 2,  34.4380, 2,   -999.0, 9,    203.5, 2,    18.87, 2,    27.18, 2,     0.00, 2,     1.92, 2,    0.587, 2,    0.277, 2,   -999.0, 9,   -999.0, 9,   -999.0, 9,   5.9448,   -999.0, 9, -999.000, 9
316N19871218, SAVE2, 104, 1, 29, 29, 2, 19880121, 1213, -18.8583, -37.7933, 1689,  -999.00,    795.2,   5.1459,  34.3763, 2,  34.3770, 2,   -999.0, 9,    209.6, 2,    22.58, 2,    28.55, 2,     0.00, 2,     2.00, 2,    0.540, 2,    0.246, 2,   2175.2, 2,   -999.0, 9,   -999.0, 9,   5.0801,   -999.0, 9, -999.000, 9
316N19871218, SAVE2, 104, 1, 30, 30, 2, 19880121, 1213, -18.8583, -37.7933, 1689,  -999.00,    890.3,   4.3916,  34.3510, 2,  34.3520, 2,   -999.0, 9,    209.1, 2,    28.25, 2,    30.01, 2,     0.00, 2,     2.11, 2,    0.399, 2,    0.193, 2,   2186.2, 2,   -999.0, 9,   -999.0, 9,   4.3225,   -999.0, 9, -999.000, 9
316N19871218, SAVE2, 104, 1, 31, 31, 2, 19880121, 1213, -18.8583, -37.7933, 1689,  -999.00,   1051.7,   3.5130,  34.4689, 2,  34.4610, 2,   -999.0, 9,    194.3, 2,    41.64, 2,    31.77, 2,     0.00, 2,     2.23, 2,    0.068, 2,    0.044, 2,   -999.0, 9,   -999.0, 9,   -999.0, 9,   3.4371,   -999.0, 9, -999.000, 9
316N19871218, SAVE2, 104, 1, 32, 32, 2, 19880121, 1213, -18.8583, -37.7933, 1689,  -999.00,   1225.2,   3.5008,  34.5429, 2,  34.5410, 2,   -999.0, 9,    189.9, 2,    42.72, 2,    31.28, 2,     0.00, 2,     2.19, 2,    0.031, 2,    0.030, 2,   2219.4, 2,   -999.0, 9,   -999.0, 9,   3.4107,   1223.8, 2,    3.489, 2
316N19871218, SAVE2, 104, 1, 33, 33, 2, 19880121, 1213, -18.8583, -37.7933, 1689,  -999.00,   1385.3,   3.6620,  34.6446, 2,  34.6510, 2,   -999.0, 9,    192.1, 2,    38.80, 2,    29.62, 2,     0.00, 2,     2.07, 2,    0.010, 2, -999.000, 9,   2217.8, 2,   -999.0, 9,   -999.0, 9,   3.5565,   -999.0, 9, -999.000, 9
316N19871218, SAVE2, 104, 1, 34, 34, 2, 19880121, 1213, -18.8583, -37.7933, 1689,  -999.00,   1524.6,   3.9257,  34.7708, 2,  34.7690, 2,   -999.0, 9,    199.0, 2,    31.57, 2,    27.27, 2,     0.00, 2,     1.91, 2, -999.000, 9,    0.000, 2,   2203.6, 2,   -999.0, 9,   -999.0, 9,   3.8046,   -999.0, 9, -999.000, 9
316N19871218, SAVE2, 104, 1, 35, 35, 2, 19880121, 1213, -18.8583, -37.7933, 1689,  -999.00,   1650.8,   4.0307,  34.8494, 2,  34.8500, 2,   -999.0, 9,    210.3, 2,    26.39, 2,    25.02, 2,     0.00, 2,     1.75, 2,    0.004, 2,    0.001, 2,   2190.8, 2,   -999.0, 9,   -999.0, 9,   3.8965,   1659.6, 2,    4.024, 2
316N19871218, SAVE2, 104, 1, 36, 36, 2, 19880121, 1213, -18.8583, -37.7933, 1689,  -999.00,   1772.6,   3.9080,  34.9247, 2,  34.9250, 2,   -999.0, 9,    231.2, 2,    22.09, 2,    21.99, 2,     0.00, 2,     1.53, 2,    0.009, 2,    0.010, 2,   2176.0, 2,   -999.0, 9,   -999.0, 9,   3.7638,   -999.0, 9, -999.000, 9