BOTTLE,20110114CCHDOSIODM
#code : Justin Fields merge_exchange.rb 
#original files copied from HTML directory: 2011-01-07
#original HYD file: /Users/dave/CCHD11/SAVE/LEG2/save2odfdmsv_merged_hy1.csv  2011-01-07
EXPOCODE,SECT_ID,STNNBR,CASTNO,SAMPNO,BTLNBR,BTLNBR_FLAG_W,DATE,TIME,LATITUDE,LONGITUDE,DEPTH,CTDRAW,CTDPRS,CTDTMP,CTDSAL,CTDSAL_FLAG_W,SALNTY,SALNTY_FLAG_W,CTDOXY,CTDOXY_FLAG_W,OXYGEN,OXYGEN_FLAG_W,SILCAT,SILCAT_FLAG_W,NITRAT,NITRAT_FLAG_W,NITRIT,NITRIT_FLAG_W,PHSPHT,PHSPHT_FLAG_W,CFC-11,CFC-11_FLAG_W,CFC-12,CFC-12_FLAG_W,TCARBN,TCARBN_FLAG_W,ALKALI,ALKALI_FLAG_W,PCO2,PCO2_FLAG_W,THETA,REVPRS,REVPRS_FLAG_W,REVTMP,REVTMP_FLAG_W
,,,,,,,,,,,METERS,DBAR,DBAR,ITS-68,PSS-78,,PSS-78,,UMOL/KG,,UMOL/KG,,UMOL/KG,,UMOL/KG,,UMOL/KG,,UMOL/KG,,PMOL/KG,,PMOL/KG,,UMOL/KG,,UMOL/KG,,UATM,,DEG C,DBAR,,ITS-68,
316N19871218, SAVE2, 44, 1, 11, 11, 2, 19871219, 2212, 2.6500, -3.6283, 4791,  -999.00,   1007.4,   4.4883,  34.6331, 2,  34.6340, 2,   -999.0, 9,    154.7, 2,    32.26, 2,    32.84, 2,     0.00, 2,     2.24, 2, -999.000, 9, -999.000, 9,   -999.0, 9,   -999.0, 9,   -999.0, 9,   4.4080,   -999.0, 9, -999.000, 9
316N19871218, SAVE2, 44, 1, 13, 13, 2, 19871219, 2212, 2.6500, -3.6283, 4791,  -999.00,   1007.5,   4.4883,  34.6330, 2,  34.6340, 2,   -999.0, 9,    155.2, 2,    32.35, 2,    32.84, 2,     0.00, 2,     2.23, 2, -999.000, 9, -999.000, 9,   -999.0, 9,   -999.0, 9,   -999.0, 9,   4.4080,   -999.0, 9, -999.000, 9
316N19871218, SAVE2, 44, 1, 9, 9, 2, 19871219, 2212, 2.6500, -3.6283, 4791,  -999.00,   1007.6,   4.4883,  34.6330, 2,  34.6350, 2,   -999.0, 9,    155.2, 2,    32.06, 2,    32.84, 2,     0.00, 2,     2.22, 2, -999.000, 9, -999.000, 9,   -999.0, 9,   -999.0, 9,   -999.0, 9,   4.4080,   -999.0, 9, -999.000, 9
316N19871218, SAVE2, 44, 1, 14, 14, 2, 19871219, 2212, 2.6500, -3.6283, 4791,  -999.00,   1007.6,   4.4883,  34.6330, 2,  34.6340, 2,   -999.0, 9,    154.3, 2,    32.45, 2,    32.84, 2,     0.00, 2,     2.23, 2, -999.000, 9, -999.000, 9,   -999.0, 9,   -999.0, 9,   -999.0, 9,   4.4080,   -999.0, 9, -999.000, 9
316N19871218, SAVE2, 44, 1, 7, 7, 2, 19871219, 2212, 2.6500, -3.6283, 4791,  -999.00,   1007.6,   4.4883,  34.6330, 2,  34.6360, 2,   -999.0, 9,    155.2, 2,    32.16, 2,    32.84, 2,     0.00, 2,     2.23, 2, -999.000, 9, -999.000, 9,   -999.0, 9,   -999.0, 9,   -999.0, 9,   4.4080,   -999.0, 9, -999.000, 9
316N19871218, SAVE2, 44, 1, 16, 16, 2, 19871219, 2212, 2.6500, -3.6283, 4791,  -999.00,   1007.6,   4.4883,  34.6330, 2,  34.6340, 2,   -999.0, 9,    156.9, 2,    32.45, 2,    32.74, 2,     0.00, 2,     2.23, 2, -999.000, 9, -999.000, 9,   -999.0, 9,   -999.0, 9,   -999.0, 9,   4.4080,   -999.0, 9, -999.000, 9
316N19871218, SAVE2, 44, 1, 10, 10, 2, 19871219, 2212, 2.6500, -3.6283, 4791,  -999.00,   1007.6,   4.4883,  34.6330, 2,  34.6350, 2,   -999.0, 9,    154.7, 2,    32.35, 2,    32.84, 2,     0.00, 2,     2.23, 2, -999.000, 9, -999.000, 9,   -999.0, 9,   -999.0, 9,   -999.0, 9,   4.4080,   -999.0, 9, -999.000, 9
316N19871218, SAVE2, 44, 1, 8, 8, 2, 19871219, 2212, 2.6500, -3.6283, 4791,  -999.00,   1007.6,   4.4883,  34.6330, 2,  34.6340, 2,   -999.0, 9,    154.3, 2,    32.26, 2,    32.84, 2,     0.00, 2,     2.23, 2, -999.000, 9, -999.000, 9,   -999.0, 9,   -999.0, 9,   -999.0, 9,   4.4080,   -999.0, 9, -999.000, 9
316N19871218, SAVE2, 44, 1, 17, 17, 2, 19871219, 2212, 2.6500, -3.6283, 4791,  -999.00,   1007.6,   4.4883,  34.6330, 2,  34.6340, 2,   -999.0, 9,    154.3, 2,    32.55, 2,    32.74, 2,     0.00, 2,     2.23, 2, -999.000, 9, -999.000, 9,   -999.0, 9,   -999.0, 9,   -999.0, 9,   4.4080,   -999.0, 9, -999.000, 9
316N19871218, SAVE2, 44, 1, 18, 18, 2, 19871219, 2212, 2.6500, -3.6283, 4791,  -999.00,   1007.7,   4.4883,  34.6329, 2,  34.6330, 2,   -999.0, 9,    154.7, 2,    32.35, 2,    32.84, 2,     0.00, 2,     2.23, 2, -999.000, 9, -999.000, 9,   -999.0, 9,   -999.0, 9,   -999.0, 9,   4.4080,   -999.0, 9, -999.000, 9
316N19871218, SAVE2, 44, 1, 15, 15, 2, 19871219, 2212, 2.6500, -3.6283, 4791,  -999.00,   1007.7,   4.4883,  34.6329, 2,  34.6340, 2,   -999.0, 9,    154.3, 2,    32.45, 2,    32.84, 2,     0.00, 2,     2.24, 2, -999.000, 9, -999.000, 9,   -999.0, 9,   -999.0, 9,   -999.0, 9,   4.4080,   -999.0, 9, -999.000, 9
316N19871218, SAVE2, 44, 1, 4, 4, 2, 19871219, 2212, 2.6500, -3.6283, 4791,  -999.00,   1007.7,   4.4883,  34.6329, 2,  34.6290, 2,   -999.0, 9,    154.7, 2,    32.26, 2,    32.84, 2,     0.00, 2,     2.22, 2, -999.000, 9, -999.000, 9,   -999.0, 9,   -999.0, 9,   -999.0, 9,   4.4080,   -999.0, 9, -999.000, 9
316N19871218, SAVE2, 44, 1, 6, 6, 2, 19871219, 2212, 2.6500, -3.6283, 4791,  -999.00,   1007.7,   4.4883,  34.6329, 2,  34.6350, 2,   -999.0, 9,    155.2, 2,    32.35, 2,    32.84, 2,     0.00, 2,     2.22, 2, -999.000, 9, -999.000, 9,   -999.0, 9,   -999.0, 9,   -999.0, 9,   4.4080,   -999.0, 9, -999.000, 9
316N19871218, SAVE2, 44, 1, 5, 5, 2, 19871219, 2212, 2.6500, -3.6283, 4791,  -999.00,   1007.7,   4.4883,  34.6329, 2,  34.6350, 2,   -999.0, 9,    154.7, 2,    32.06, 2,    32.84, 2,     0.00, 2,     2.23, 2, -999.000, 9, -999.000, 9,   -999.0, 9,   -999.0, 9,   -999.0, 9,   4.4080,   -999.0, 9, -999.000, 9
316N19871218, SAVE2, 44, 1, 12, 12, 2, 19871219, 2212, 2.6500, -3.6283, 4791,  -999.00,   1007.7,   4.4883,  34.6329, 2,  34.6350, 2,   -999.0, 9,    155.2, 2,    32.26, 2,    32.84, 2,     0.00, 2,     2.23, 2, -999.000, 9, -999.000, 9,   -999.0, 9,   -999.0, 9,   -999.0, 9,   4.4080,   -999.0, 9, -999.000, 9
316N19871218, SAVE2, 44, 1, 20, 20, 2, 19871219, 2212, 2.6500, -3.6283, 4791,  -999.00,   1007.7,   4.4883,  34.6329, 2,  34.6330, 2,   -999.0, 9,    154.7, 2,    32.55, 2,    32.74, 2,     0.00, 2,     2.22, 2, -999.000, 9, -999.000, 9,   -999.0, 9,   -999.0, 9,   -999.0, 9,   4.4080,   -999.0, 9, -999.000, 9
316N19871218, SAVE2, 44, 1, 19, 19, 2, 19871219, 2212, 2.6500, -3.6283, 4791,  -999.00,   1007.7,   4.4883,  34.6329, 2,  34.6340, 2,   -999.0, 9,    154.3, 2,    32.45, 2,    32.74, 2,     0.00, 2,     2.22, 2, -999.000, 9, -999.000, 9,   -999.0, 9,   -999.0, 9,   -999.0, 9,   4.4080,   -999.0, 9, -999.000, 9
316N19871218, SAVE2, 44, 1, 3, 3, 2, 19871219, 2212, 2.6500, -3.6283, 4791,  -999.00,   1007.8,   4.4883,  34.6329, 2,  34.6350, 2,   -999.0, 9,    154.7, 2,    32.06, 2,    32.74, 2,     0.00, 2,     2.21, 2, -999.000, 9, -999.000, 9,   -999.0, 9,   -999.0, 9,   -999.0, 9,   4.4080,   -999.0, 9, -999.000, 9
316N19871218, SAVE2, 44, 1, 1, 1, 2, 19871219, 2212, 2.6500, -3.6283, 4791,  -999.00,   1007.8,   4.4883,  34.6329, 2,  34.6340, 2,   -999.0, 9,    154.7, 2,    31.77, 2,    32.55, 2,     0.00, 2,     2.20, 2, -999.000, 9, -999.000, 9,   -999.0, 9,   -999.0, 9,   -999.0, 9,   4.4080,   -999.0, 9, -999.000, 9
316N19871218, SAVE2, 44, 1, 23, 23, 2, 19871219, 2212, 2.6500, -3.6283, 4791,  -999.00,   1007.9,   4.4883,  34.6328, 2,  34.6330, 2,   -999.0, 9,    154.3, 2,    32.45, 2,    32.74, 2,     0.00, 2,     2.23, 2, -999.000, 9, -999.000, 9,   -999.0, 9,   -999.0, 9,   -999.0, 9,   4.4080,   -999.0, 9, -999.000, 9
316N19871218, SAVE2, 44, 1, 21, 21, 2, 19871219, 2212, 2.6500, -3.6283, 4791,  -999.00,   1007.9,   4.4883,  34.6328, 2,  34.6330, 2,   -999.0, 9,    153.9, 2,    32.35, 2,    32.84, 2,     0.00, 2,     2.23, 2, -999.000, 9, -999.000, 9,   -999.0, 9,   -999.0, 9,   -999.0, 9,   4.4080,   -999.0, 9, -999.000, 9
316N19871218, SAVE2, 44, 1, 29, 29, 2, 19871219, 2212, 2.6500, -3.6283, 4791,  -999.00,   1007.9,   4.4883,  34.6328, 2,  34.6320, 2,   -999.0, 9,    154.7, 2,    32.45, 2,    32.84, 2,     0.00, 2,     2.22, 2, -999.000, 9, -999.000, 9,   -999.0, 9,   -999.0, 9,   -999.0, 9,   4.4080,   -999.0, 9, -999.000, 9
316N19871218, SAVE2, 44, 1, 25, 25, 2, 19871219, 2212, 2.6500, -3.6283, 4791,  -999.00,   1007.9,   4.4873,  34.6339, 2,  34.6330, 2,   -999.0, 9,    153.9, 2,    32.16, 2,    32.84, 2,     0.01, 2,     2.23, 2, -999.000, 9, -999.000, 9,   -999.0, 9,   -999.0, 9,   -999.0, 9,   4.4070,   -999.0, 9, -999.000, 9
316N19871218, SAVE2, 44, 1, 34, 34, 2, 19871219, 2212, 2.6500, -3.6283, 4791,  -999.00,   1007.9,   4.4883,  34.6328, 2,  34.6330, 2,   -999.0, 9,    154.7, 2,    32.26, 2,    32.84, 2,     0.00, 2,     2.25, 2, -999.000, 9, -999.000, 9,   -999.0, 9,   -999.0, 9,   -999.0, 9,   4.4080,   -999.0, 9, -999.000, 9
316N19871218, SAVE2, 44, 1, 2, 2, 2, 19871219, 2212, 2.6500, -3.6283, 4791,  -999.00,   1007.9,   4.4883,  34.6328, 2,  34.6340, 2,   -999.0, 9,    155.6, 2,    31.77, 2,    32.74, 2,     0.00, 2,     2.21, 2, -999.000, 9, -999.000, 9,   -999.0, 9,   -999.0, 9,   -999.0, 9,   4.4080,   -999.0, 9, -999.000, 9
316N19871218, SAVE2, 44, 1, 36, 36, 2, 19871219, 2212, 2.6500, -3.6283, 4791,  -999.00,   1007.9,   4.4883,  34.6328, 2,  34.6330, 2,   -999.0, 9,    154.3, 2,    32.26, 2,    32.84, 2,     0.00, 2,     2.24, 2, -999.000, 9, -999.000, 9,   -999.0, 9,   -999.0, 9,   -999.0, 9,   4.4080,   -999.0, 9, -999.000, 9
316N19871218, SAVE2, 44, 1, 30, 30, 2, 19871219, 2212, 2.6500, -3.6283, 4791,  -999.00,   1007.9,   4.4883,  34.6328, 2,  34.6330, 2,   -999.0, 9,    154.3, 2,    32.45, 2,    32.84, 2,     0.00, 2,     2.23, 2, -999.000, 9, -999.000, 9,   -999.0, 9,   -999.0, 9,   -999.0, 9,   4.4080,   -999.0, 9, -999.000, 9
316N19871218, SAVE2, 44, 1, 27, 27, 2, 19871219, 2212, 2.6500, -3.6283, 4791,  -999.00,   1008.0,   4.4883,  34.6328, 2,  34.6340, 2,   -999.0, 9,    154.3, 2,    32.26, 2,    32.84, 2,     0.00, 2,     2.23, 2, -999.000, 9, -999.000, 9,   -999.0, 9,   -999.0, 9,   -999.0, 9,   4.4080,   -999.0, 9, -999.000, 9
316N19871218, SAVE2, 44, 1, 24, 24, 2, 19871219, 2212, 2.6500, -3.6283, 4791,  -999.00,   1008.0,   4.4883,  34.6328, 2,  34.6330, 2,   -999.0, 9,    154.3, 2,    32.26, 2,    32.74, 2,     0.00, 2,     2.21, 2, -999.000, 9, -999.000, 9,   -999.0, 9,   -999.0, 9,   -999.0, 9,   4.4080,   -999.0, 9, -999.000, 9
316N19871218, SAVE2, 44, 1, 28, 28, 2, 19871219, 2212, 2.6500, -3.6283, 4791,  -999.00,   1008.0,   4.4883,  34.6328, 2,  34.6320, 2,   -999.0, 9,    154.3, 2,    32.35, 2,    32.74, 2,     0.00, 2,     2.23, 2, -999.000, 9, -999.000, 9,   -999.0, 9,   -999.0, 9,   -999.0, 9,   4.4080,   -999.0, 9, -999.000, 9
316N19871218, SAVE2, 44, 1, 26, 26, 2, 19871219, 2212, 2.6500, -3.6283, 4791,  -999.00,   1008.0,   4.4883,  34.6328, 2,  34.6320, 2,   -999.0, 9,    154.3, 2,    32.45, 2,    32.84, 2,     0.01, 2,     2.22, 2, -999.000, 9, -999.000, 9,   -999.0, 9,   -999.0, 9,   -999.0, 9,   4.4080,   -999.0, 9, -999.000, 9
316N19871218, SAVE2, 44, 1, 32, 32, 2, 19871219, 2212, 2.6500, -3.6283, 4791,  -999.00,   1008.0,   4.4883,  34.6328, 2,  34.6310, 2,   -999.0, 9,    154.3, 2,    32.35, 2,    32.84, 2,     0.00, 2,     2.23, 2, -999.000, 9, -999.000, 9,   -999.0, 9,   -999.0, 9,   -999.0, 9,   4.4080,   1004.3, 2,    4.479, 2
316N19871218, SAVE2, 44, 1, 33, 33, 2, 19871219, 2212, 2.6500, -3.6283, 4791,  -999.00,   1008.0,   4.4883,  34.6328, 2,  34.6290, 2,   -999.0, 9,    154.3, 2,    32.35, 2,    32.84, 2,     0.00, 2,     2.24, 2, -999.000, 9, -999.000, 9,   -999.0, 9,   -999.0, 9,   -999.0, 9,   4.4080,   -999.0, 9, -999.000, 9
316N19871218, SAVE2, 44, 1, 31, 31, 2, 19871219, 2212, 2.6500, -3.6283, 4791,  -999.00,   1008.0,   4.4883,  34.6328, 2,  34.6320, 2,   -999.0, 9,    153.9, 2,    32.45, 2,    32.74, 2,     0.00, 2,     2.23, 2, -999.000, 9, -999.000, 9,   -999.0, 9,   -999.0, 9,   -999.0, 9,   4.4080,   -999.0, 9, -999.000, 9
316N19871218, SAVE2, 44, 1, 35, 35, 2, 19871219, 2212, 2.6500, -3.6283, 4791,  -999.00,   1008.0,   4.4883,  34.6328, 2,  34.6330, 2,   -999.0, 9,    154.3, 2,    32.26, 2,    32.84, 2,     0.00, 2,     2.24, 2, -999.000, 9, -999.000, 9,   -999.0, 9,   -999.0, 9,   -999.0, 9,   4.4080,   1001.5, 2,    4.481, 2
316N19871218, SAVE2, 44, 1, 22, 22, 2, 19871219, 2212, 2.6500, -3.6283, 4791,  -999.00,   1008.0,   4.4873,  34.6338, 2,  34.6330, 2,   -999.0, 9,    155.6, 2,    32.35, 2,    32.74, 2,     0.00, 2,     2.22, 2, -999.000, 9, -999.000, 9,   -999.0, 9,   -999.0, 9,   -999.0, 9,   4.4070,   -999.0, 9, -999.000, 9