BOTTLE,20110114CCHDOSIODM
EXPOCODE,SECT_ID,STNNBR,CASTNO,SAMPNO,BTLNBR,BTLNBR_FLAG_W,DATE,TIME,LATITUDE,LONGITUDE,DEPTH,CTDRAW,CTDPRS,CTDTMP,CTDSAL,CTDSAL_FLAG_W,SALNTY,SALNTY_FLAG_W,CTDOXY,CTDOXY_FLAG_W,OXYGEN,OXYGEN_FLAG_W,SILCAT,SILCAT_FLAG_W,NITRAT,NITRAT_FLAG_W,NITRIT,NITRIT_FLAG_W,PHSPHT,PHSPHT_FLAG_W,CFC-11,CFC-11_FLAG_W,CFC-12,CFC-12_FLAG_W,TCARBN,TCARBN_FLAG_W,ALKALI,ALKALI_FLAG_W,PCO2,PCO2_FLAG_W,THETA,REVPRS,REVPRS_FLAG_W,REVTMP,REVTMP_FLAG_W
,,,,,,,,,,,METERS,DBAR,DBAR,ITS-68,PSS-78,,PSS-78,,UMOL/KG,,UMOL/KG,,UMOL/KG,,UMOL/KG,,UMOL/KG,,UMOL/KG,,PMOL/KG,,PMOL/KG,,UMOL/KG,,UMOL/KG,,UATM,,DEG C,DBAR,,ITS-68,
316N19871218, SAVE2, 52, 1, 1, 1, 2, 19871225, 1002, -5.2133, 5.0717, 4887,  -999.00,      2.0,  26.8294,  35.6446, 2,  35.6440, 2,   -999.0, 9,    205.1, 2,     1.37, 2,     0.10, 2,     0.00, 2,     0.10, 2,    1.523, 2,    0.790, 2,   2014.0, 2,   -999.0, 9,   -999.0, 9,  26.8289,   -999.0, 9, -999.000, 9
316N19871218, SAVE2, 52, 1, 2, 2, 2, 19871225, 1002, -5.2133, 5.0717, 4887,  -999.00,     12.0,  26.7323,  35.6508, 2,  35.6570, 2,   -999.0, 9,    202.5, 2,     1.37, 2,     0.10, 2,     0.00, 2,     0.10, 2,    1.519, 2,    0.793, 2,   2012.7, 2,   -999.0, 9,   -999.0, 9,  26.7296,   -999.0, 9, -999.000, 9
316N19871218, SAVE2, 52, 1, 3, 3, 2, 19871225, 1002, -5.2133, 5.0717, 4887,  -999.00,     20.2,  26.5883,  35.9149, 2,  35.9230, 2,   -999.0, 9,    203.3, 2,     1.17, 2,     0.10, 2,     0.00, 2,     0.10, 2,    1.551, 2,    0.771, 2,   2023.9, 2,   -999.0, 9,   -999.0, 9,  26.5837,   -999.0, 9, -999.000, 9
316N19871218, SAVE2, 52, 1, 4, 4, 2, 19871225, 1002, -5.2133, 5.0717, 4887,  -999.00,     30.3,  25.0001,  35.9526, 2,  35.9540, 2,   -999.0, 9,    215.0, 2,     1.17, 2,     0.10, 2,     0.00, 2,     0.16, 2,    1.523, 2,    0.807, 2,   2034.6, 2,   -999.0, 9,   -999.0, 9,  24.9935,   -999.0, 9, -999.000, 9
316N19871218, SAVE2, 52, 1, 5, 5, 2, 19871225, 1002, -5.2133, 5.0717, 4887,  -999.00,     50.6,  18.9560,  35.7274, 2, -999.0000, 9,   -999.0, 9,   -999.0, 9,  -999.00, 9,  -999.00, 9,  -999.00, 9,  -999.00, 9,    1.091, 2,    0.555, 2,   2158.8, 2,   -999.0, 9,   -999.0, 9,  18.9470,   -999.0, 9, -999.000, 9
316N19871218, SAVE2, 52, 1, 6, 6, 2, 19871225, 1002, -5.2133, 5.0717, 4887,  -999.00,     56.7,  16.8213,  35.6361, 2,  35.6330, 2,   -999.0, 9,    128.8, 2,     5.57, 2,    15.04, 2,     0.39, 2,     1.09, 2,    1.075, 2,    0.550, 2,   2158.7, 2,   -999.0, 9,   -999.0, 9,  16.8120,   -999.0, 9, -999.000, 9
316N19871218, SAVE2, 52, 1, 7, 7, 2, 19871225, 1002, -5.2133, 5.0717, 4887,  -999.00,     76.8,  15.3905,  35.5845, 2,  35.5740, 2,   -999.0, 9,    108.3, 2,     6.74, 2,    18.85, 2,     0.09, 2,     1.28, 2,    1.018, 2,    0.531, 2,   2178.8, 2,   -999.0, 9,   -999.0, 9,  15.3787,   -999.0, 9, -999.000, 9
316N19871218, SAVE2, 52, 1, 8, 8, 2, 19871225, 1002, -5.2133, 5.0717, 4887,  -999.00,    131.8,  14.4797,  35.4833, 2,  35.4770, 2,   -999.0, 9,    124.4, 2,     7.13, 2,    18.36, 2,     0.02, 2,     1.25, 2,    0.981, 2,    0.499, 2,   2171.4, 2,   -999.0, 9,   -999.0, 9,  14.4602,   -999.0, 9, -999.000, 9
316N19871218, SAVE2, 52, 1, 9, 9, 2, 19871225, 1002, -5.2133, 5.0717, 4887,  -999.00,    172.4,  13.9888,  35.4082, 2,  35.4040, 2,   -999.0, 9,     93.1, 2,     8.99, 2,    22.47, 2,     0.01, 2,     1.47, 2,    0.760, 2,    0.384, 2,   2193.6, 2,   -999.0, 9,   -999.0, 9,  13.9638,   -999.0, 9, -999.000, 9
316N19871218, SAVE2, 52, 1, 10, 10, 2, 19871225, 1002, -5.2133, 5.0717, 4887,  -999.00,    212.4,  13.4289,  35.3345, 2,  35.3260, 2,   -999.0, 9,     78.7, 2,     9.77, 2,    24.91, 2,     0.01, 2,     1.60, 2,    0.601, 2,    0.305, 2,   2208.1, 2,   -999.0, 9,   -999.0, 9,  13.3990,   -999.0, 9, -999.000, 9
316N19871218, SAVE2, 52, 1, 11, 11, 2, 19871225, 1002, -5.2133, 5.0717, 4887,  -999.00,    272.6,  12.2612,  35.1857, 2,  35.1820, 2,   -999.0, 9,     91.8, 2,    10.65, 2,    25.40, 2,     0.01, 2,     1.62, 2, -999.000, 9, -999.000, 9,   2200.1, 2,   -999.0, 9,   -999.0, 9,  12.2250,   -999.0, 9, -999.000, 9
316N19871218, SAVE2, 52, 1, 12, 12, 2, 19871225, 1002, -5.2133, 5.0717, 4887,  -999.00,    322.7,  11.0716,  35.0522, 2,  35.0570, 2,   -999.0, 9,     55.2, 2,    13.68, 2,    31.07, 2,     0.01, 2,     1.96, 2,    0.236, 2,    0.125, 2,   2235.2, 2,   -999.0, 9,   -999.0, 9,  11.0314,   -999.0, 9, -999.000, 9
316N19871218, SAVE2, 52, 1, 13, 13, 2, 19871225, 1002, -5.2133, 5.0717, 4887,  -999.00,    403.2,   9.4741,  34.8788, 2,  34.8720, 2,   -999.0, 9,     37.8, 2,    17.59, 2,    36.26, 2,     0.00, 2,     2.28, 2,    0.069, 2,    0.040, 2,   2260.4, 2,   -999.0, 9,   -999.0, 9,   9.4285,   -999.0, 9, -999.000, 9
316N19871218, SAVE2, 52, 1, 14, 14, 2, 19871225, 1002, -5.2133, 5.0717, 4887,  -999.00,    438.4,   8.5465,  34.7885, 2,  34.7920, 2,   -999.0, 9,     31.3, 2,    19.94, 2,    38.51, 2,     0.00, 2,     2.43, 2,    0.024, 2,    0.011, 2,   -999.0, 9,   -999.0, 9,   -999.0, 9,   8.4998,   -999.0, 9, -999.000, 9
316N19871218, SAVE2, 52, 1, 15, 15, 2, 19871225, 1002, -5.2133, 5.0717, 4887,  -999.00,    438.5,   8.4775,  34.7801, 2,  34.7920, 2,   -999.0, 9,     31.3, 2,    19.94, 2,    38.60, 2,     0.00, 2,     2.42, 2, -999.000, 9, -999.000, 9,   2270.8, 2,   -999.0, 9,   -999.0, 9,   8.4310,   -999.0, 9, -999.000, 9
316N19871218, SAVE2, 52, 1, 16, 16, 2, 19871225, 1002, -5.2133, 5.0717, 4887,  -999.00,    483.5,   7.5059,  34.6806, 2,  34.6790, 2,   -999.0, 9,     63.9, 2,    21.60, 2,    37.73, 2,     0.00, 2,     2.39, 2,    0.021, 2,    0.007, 2,   2226.7, 2,   -999.0, 9,   -999.0, 9,   7.4581,   -999.0, 9, -999.000, 9
316N19871218, SAVE2, 52, 1, 17, 17, 2, 19871225, 1002, -5.2133, 5.0717, 4887,  -999.00,    633.8,   5.8077,  34.5392, 2,  34.5370, 2,   -999.0, 9,     98.7, 2,    26.78, 2,    37.83, 2,     0.00, 2,     2.49, 2,    0.010, 2,    0.005, 2,   2249.6, 2,   -999.0, 9,   -999.0, 9,   5.7526,   -999.0, 9, -999.000, 9
316N19871218, SAVE2, 52, 1, 18, 18, 2, 19871225, 1002, -5.2133, 5.0717, 4887,  -999.00,    774.3,   4.9871,  34.5044, 2,  34.5030, 2,   -999.0, 9,    117.4, 2,    31.38, 2,    37.24, 2,     0.00, 2,     2.49, 2,    0.000, 2, -999.000, 9,   2252.8, 2,   -999.0, 9,   -999.0, 9,   4.9239,   -999.0, 9, -999.000, 9
316N19871218, SAVE2, 52, 1, 19, 19, 2, 19871225, 1002, -5.2133, 5.0717, 4887,  -999.00,    929.8,   4.3854,  34.5407, 2,  34.5410, 2,   -999.0, 9,    141.3, 2,    34.41, 2,    35.19, 2,     0.00, 2,     2.38, 2,    0.001, 2,    0.001, 2,   2240.5, 2,   -999.0, 9,   -999.0, 9,   4.3127,   -999.0, 9, -999.000, 9
316N19871218, SAVE2, 52, 1, 20, 20, 2, 19871225, 1002, -5.2133, 5.0717, 4887,  -999.00,   1171.2,   4.2015,  34.7412, 2,  34.7400, 2,   -999.0, 9,    168.2, 2,    30.69, 2,    30.49, 2,     0.00, 2,     2.06, 2,    0.005, 2,    0.001, 2,   2227.2, 2,   -999.0, 9,   -999.0, 9,   4.1091,   -999.0, 9, -999.000, 9
316N19871218, SAVE2, 52, 1, 21, 21, 2, 19871225, 1002, -5.2133, 5.0717, 4887,  -999.00,   1412.7,   4.0555,  34.9091, 2,  34.9070, 2,   -999.0, 9,    211.6, 2,    23.45, 2,    24.33, 2,     0.00, 2,     1.61, 2, -999.000, 9, -999.000, 9,   2196.4, 2,   -999.0, 9,   -999.0, 9,   3.9428,   -999.0, 9, -999.000, 9
316N19871218, SAVE2, 52, 1, 22, 22, 2, 19871225, 1002, -5.2133, 5.0717, 4887,  -999.00,   1629.4,   3.8397,  34.9405, 2,  34.9400, 2,   -999.0, 9,    226.8, 2,    22.48, 2,    22.48, 2,     0.00, 2,     1.50, 2,    0.000, 2,    0.001, 2,   2184.8, 2,   -999.0, 9,   -999.0, 9,   3.7096,   -999.0, 9, -999.000, 9
316N19871218, SAVE2, 52, 1, 23, 23, 2, 19871225, 1002, -5.2133, 5.0717, 4887,  -999.00,   1851.4,   3.6528,  34.9484, 2,  34.9490, 2,   -999.0, 9,    235.5, 2,    23.06, 2,    21.60, 2,     0.00, 2,     1.43, 2, -999.000, 9, -999.000, 9,   2181.3, 2,   -999.0, 9,   -999.0, 9,   3.5045,   -999.0, 9, -999.000, 9
316N19871218, SAVE2, 52, 1, 24, 24, 2, 19871225, 1002, -5.2133, 5.0717, 4887,  -999.00,   2098.4,   3.3819,  34.9441, 2,  34.9440, 2,   -999.0, 9,    238.5, 2,    26.19, 2,    21.50, 2,     0.00, 2,     1.43, 2, -999.000, 9,    0.000, 2,   2184.7, 2,   -999.0, 9,   -999.0, 9,   3.2143,   -999.0, 9, -999.000, 9
316N19871218, SAVE2, 52, 1, 25, 25, 2, 19871225, 1002, -5.2133, 5.0717, 4887,  -999.00,   2350.8,   3.1061,  34.9342, 2,  34.9330, 2,   -999.0, 9,    238.1, 2,    31.37, 2,    21.79, 2,     0.00, 2,     1.45, 2,    0.000, 2, -999.000, 9,   2187.7, 2,   -999.0, 9,   -999.0, 9,   2.9188,   -999.0, 9, -999.000, 9
316N19871218, SAVE2, 52, 1, 26, 26, 2, 19871225, 1002, -5.2133, 5.0717, 4887,  -999.00,   2598.2,   2.9222,  34.9251, 2,  34.9230, 2,   -999.0, 9,    238.1, 2,    34.89, 2,    21.99, 2,     0.00, 2,     1.46, 2, -999.000, 9, -999.000, 9,   2191.7, 2,   -999.0, 9,   -999.0, 9,   2.7140,   -999.0, 9, -999.000, 9
316N19871218, SAVE2, 52, 1, 27, 27, 2, 19871225, 1002, -5.2133, 5.0717, 4887,  -999.00,   2852.1,   2.7493,  34.9151, 2,  34.9130, 2,   -999.0, 9,    236.4, 2,    38.89, 2,    22.48, 2,     0.00, 2,     1.50, 2, -999.000, 9, -999.000, 9,   2199.0, 2,   -999.0, 9,   -999.0, 9,   2.5192,   -999.0, 9, -999.000, 9
316N19871218, SAVE2, 52, 1, 28, 28, 2, 19871225, 1002, -5.2133, 5.0717, 4887,  -999.00,   3100.6,   2.6163,  34.9078, 2,  34.9070, 2,   -999.0, 9,    235.9, 2,    41.83, 2,    22.48, 2,     0.00, 2,     1.50, 2,    0.000, 2, -999.000, 9,   2201.0, 2,   -999.0, 9,   -999.0, 9,   2.3636,   -999.0, 9, -999.000, 9
316N19871218, SAVE2, 52, 1, 29, 29, 2, 19871225, 1002, -5.2133, 5.0717, 4887,  -999.00,   3374.6,   2.5104,  34.9012, 2,  34.9000, 2,   -999.0, 9,    235.5, 2,    45.15, 2,    22.67, 2,     0.00, 2,     1.50, 2, -999.000, 9, -999.000, 9,   2149.1, 4,   -999.0, 9,   -999.0, 9,   2.2313,   -999.0, 9, -999.000, 9
316N19871218, SAVE2, 52, 1, 30, 30, 2, 19871225, 1002, -5.2133, 5.0717, 4887,  -999.00,   3658.4,   2.4284,  34.8951, 2,  34.8930, 2,   -999.0, 9,    232.4, 2,    48.86, 2,    22.97, 2,     0.00, 2,     1.52, 2, -999.000, 9,    0.000, 2,   2216.8, 2,   -999.0, 9,   -999.0, 9,   2.1206,   -999.0, 9, -999.000, 9
316N19871218, SAVE2, 52, 1, 31, 31, 2, 19871225, 1002, -5.2133, 5.0717, 4887,  -999.00,   3932.2,   2.3525,  34.8894, 2,  34.8870, 2,   -999.0, 9,    223.3, 2,    55.22, 2,    23.85, 2,     0.00, 2,     1.58, 2, -999.000, 9, -999.000, 9,   2234.2, 2,   -999.0, 9,   -999.0, 9,   2.0161,   -999.0, 9, -999.000, 9
316N19871218, SAVE2, 52, 1, 32, 32, 2, 19871225, 1002, -5.2133, 5.0717, 4887,  -999.00,   4211.0,   2.3365,  34.8858, 2,  34.8830, 2,   -999.0, 9,    231.6, 2,    53.26, 2,    23.45, 2,     0.00, 2,     1.59, 2, -999.000, 9, -999.000, 9,   2223.4, 2,   -999.0, 9,   -999.0, 9,   1.9685,   4205.4, 2,    2.331, 2
316N19871218, SAVE2, 52, 1, 33, 33, 2, 19871225, 1002, -5.2133, 5.0717, 4887,  -999.00,   4477.6,   2.3445,  34.8824, 2,  34.8820, 2,   -999.0, 9,    233.7, 2,    52.68, 2,    23.36, 2,     0.00, 2,     1.54, 2, -999.000, 9, -999.000, 9,   2220.4, 2,   -999.0, 9,   -999.0, 9,   1.9448,   -999.0, 9, -999.000, 9
316N19871218, SAVE2, 52, 1, 34, 34, 2, 19871225, 1002, -5.2133, 5.0717, 4887,  -999.00,   4637.3,   2.3555,  34.8806, 2,  34.8800, 2,   -999.0, 9,    235.1, 2,    52.97, 2,    23.26, 2,     0.00, 2,     1.53, 2,    0.003, 2, -999.000, 9,   2219.5, 2,   -999.0, 9,   -999.0, 9,   1.9361,   -999.0, 9, -999.000, 9
316N19871218, SAVE2, 52, 1, 35, 35, 2, 19871225, 1002, -5.2133, 5.0717, 4887,  -999.00,   4868.5,   2.3735,  34.8792, 2,  34.8780, 2,   -999.0, 9,    235.1, 2,    53.36, 2,    23.16, 2,     0.00, 2,     1.53, 2, -999.000, 9, -999.000, 9,   2219.0, 2,   -999.0, 9,   -999.0, 9,   1.9250,   4853.9, 2,    2.372, 2
316N19871218, SAVE2, 52, 1, 36, 36, 2, 19871225, 1002, -5.2133, 5.0717, 4887,  -999.00,   4983.5,   2.3755,  34.8772, 2,  34.8780, 2,   -999.0, 9,    235.9, 2,    53.55, 2,    23.16, 2,     0.00, 2,     1.53, 2, -999.000, 9,    0.000, 2,   2219.6, 2,   -999.0, 9,   -999.0, 9,   1.9125,   -999.0, 9, -999.000, 9