BOTTLE,20110114CCHDOSIODM
EXPOCODE,SECT_ID,STNNBR,CASTNO,SAMPNO,BTLNBR,BTLNBR_FLAG_W,DATE,TIME,LATITUDE,LONGITUDE,DEPTH,CTDRAW,CTDPRS,CTDTMP,CTDSAL,CTDSAL_FLAG_W,SALNTY,SALNTY_FLAG_W,CTDOXY,CTDOXY_FLAG_W,OXYGEN,OXYGEN_FLAG_W,SILCAT,SILCAT_FLAG_W,NITRAT,NITRAT_FLAG_W,NITRIT,NITRIT_FLAG_W,PHSPHT,PHSPHT_FLAG_W,CFC-11,CFC-11_FLAG_W,CFC-12,CFC-12_FLAG_W,TCARBN,TCARBN_FLAG_W,ALKALI,ALKALI_FLAG_W,PCO2,PCO2_FLAG_W,THETA,REVPRS,REVPRS_FLAG_W,REVTMP,REVTMP_FLAG_W
,,,,,,,,,,,METERS,DBAR,DBAR,ITS-68,PSS-78,,PSS-78,,UMOL/KG,,UMOL/KG,,UMOL/KG,,UMOL/KG,,UMOL/KG,,UMOL/KG,,PMOL/KG,,PMOL/KG,,UMOL/KG,,UMOL/KG,,UATM,,DEG C,DBAR,,ITS-68,
316N19871218, SAVE2, 84, 1, 1, 1, 2, 19880111, 1010, -15.6817, -17.9400, 4000,  -999.00,      1.7,  24.7901,  36.9827, 2,  36.9810, 2,   -999.0, 9,    209.6, 2,     1.27, 2,     0.00, 2,     0.00, 2,     0.20, 2,    1.665, 2,    0.828, 2,   2089.4, 2,   2450.9, 2,    301.4, 2,  24.7897,   -999.0, 9, -999.000, 9
316N19871218, SAVE2, 84, 1, 2, 2, 2, 19880111, 1010, -15.6817, -17.9400, 4000,  -999.00,     39.8,  24.7621,  36.9961, 2,  36.9960, 2,   -999.0, 9,    209.6, 2,     1.27, 2,     0.00, 2,     0.00, 2,     0.20, 2, -999.000, 9, -999.000, 9,   -999.0, 9,   -999.0, 9,   -999.0, 9,  24.7535,   -999.0, 9, -999.000, 9
316N19871218, SAVE2, 84, 1, 3, 3, 2, 19880111, 1010, -15.6817, -17.9400, 4000,  -999.00,     50.8,  24.4081,  36.9979, 2,  36.9930, 2,   -999.0, 9,    214.4, 2,     1.27, 2,     0.00, 2,     0.00, 2,     0.20, 2,    1.670, 2,    0.829, 2,   -999.0, 9,   -999.0, 9,   -999.0, 9,  24.3972,   -999.0, 9, -999.000, 9
316N19871218, SAVE2, 84, 1, 4, 4, 2, 19880111, 1010, -15.6817, -17.9400, 4000,  -999.00,     83.4,  22.8950,  36.7932, 2,  36.7940, 2,   -999.0, 9,    217.3, 2,     1.17, 2,     0.00, 2,     0.00, 2,     0.21, 2,    1.753, 2,    0.875, 2,   -999.0, 9,   -999.0, 9,   -999.0, 9,  22.8779,   -999.0, 9, -999.000, 9
316N19871218, SAVE2, 84, 1, 5, 5, 2, 19880111, 1010, -15.6817, -17.9400, 4000,  -999.00,     93.8,  22.7800,  36.7827, 2,  36.7650, 2,   -999.0, 9,    215.6, 2,     1.17, 2,     0.00, 2,     0.00, 2,     0.21, 2,    1.640, 2,    0.819, 2,   -999.0, 9,   -999.0, 9,   -999.0, 9,  22.7608,   -999.0, 9, -999.000, 9
316N19871218, SAVE2, 84, 1, 6, 6, 2, 19880111, 1010, -15.6817, -17.9400, 4000,  -999.00,    129.1,  20.7530,  36.4066, 2,  36.4010, 2,   -999.0, 9,    210.7, 2,     1.27, 2,     0.00, 2,     0.01, 2,     0.26, 2,    1.825, 2,    0.899, 2,   -999.0, 9,   -999.0, 9,   -999.0, 9,  20.7283,   -999.0, 9, -999.000, 9
316N19871218, SAVE2, 84, 1, 7, 7, 2, 19880111, 1010, -15.6817, -17.9400, 4000,  -999.00,    199.5,  16.0174,  35.5863, 2,  35.5840, 2,   -999.0, 9,    198.9, 2,     2.44, 2,     5.67, 2,     0.01, 2,     0.58, 2,    1.880, 2,    0.916, 2,   -999.0, 9,   -999.0, 9,   -999.0, 9,  15.9857,   -999.0, 9, -999.000, 9
316N19871218, SAVE2, 84, 1, 8, 8, 2, 19880111, 1010, -15.6817, -17.9400, 4000,  -999.00,    271.4,  12.8601,  35.1555, 2,  35.1530, 2,   -999.0, 9,    180.5, 2,     5.28, 2,    13.48, 2,     0.01, 2,     1.01, 2,    1.472, 2,    0.715, 2,   -999.0, 9,   -999.0, 9,   -999.0, 9,  12.8229,   -999.0, 9, -999.000, 9
316N19871218, SAVE2, 84, 1, 9, 9, 2, 19880111, 1010, -15.6817, -17.9400, 4000,  -999.00,    351.8,  10.4468,  34.9067, 2,  34.9100, 2,   -999.0, 9,    127.0, 2,    10.95, 2,    24.33, 2,     0.01, 2,     1.65, 2,    0.673, 2,    0.333, 2,   -999.0, 9,   -999.0, 9,   -999.0, 9,  10.4046,   -999.0, 9, -999.000, 9
316N19871218, SAVE2, 84, 1, 10, 10, 2, 19880111, 1010, -15.6817, -17.9400, 4000,  -999.00,    426.0,   8.3176,  34.6984, 2,  34.6970, 2,   -999.0, 9,    130.0, 2,    16.13, 2,    28.74, 2,     0.00, 2,     1.94, 2,    0.325, 2,    0.160, 2,   -999.0, 9,   -999.0, 9,   -999.0, 9,   8.2730,   -999.0, 9, -999.000, 9
316N19871218, SAVE2, 84, 1, 11, 11, 2, 19880111, 1010, -15.6817, -17.9400, 4000,  -999.00,    500.4,   7.0721,  34.5945, 2,  34.5950, 2,   -999.0, 9,    132.2, 2,    19.84, 2,    31.28, 2,     0.00, 2,     2.09, 2,    0.109, 2,    0.062, 2,   2211.8, 2,   2312.6, 2,   1068.6, 2,   7.0242,   -999.0, 9, -999.000, 9
316N19871218, SAVE2, 84, 1, 12, 12, 2, 19880111, 1010, -15.6817, -17.9400, 4000,  -999.00,    552.0,   6.2285,  34.5255, 2,  34.5270, 2,   -999.0, 9,    140.0, 2,    22.58, 2,    32.26, 2,     0.00, 2,     2.17, 2, -999.000, 9, -999.000, 9,   -999.0, 9,   -999.0, 9,   -999.0, 9,   6.1791,   -999.0, 9, -999.000, 9
316N19871218, SAVE2, 84, 1, 13, 13, 2, 19880111, 1010, -15.6817, -17.9400, 4000,  -999.00,    599.8,   5.5498,  34.4770, 2,  34.4790, 2,   -999.0, 9,    152.6, 2,    25.12, 2,    32.46, 2,     0.00, 2,     2.18, 2,    0.044, 2,    0.032, 2,   -999.0, 9,   -999.0, 9,   -999.0, 9,   5.4990,   -999.0, 9, -999.000, 9
316N19871218, SAVE2, 84, 1, 14, 14, 2, 19880111, 1010, -15.6817, -17.9400, 4000,  -999.00,    639.9,   5.0850,  34.4506, 2,  34.4500, 2,   -999.0, 9,    159.6, 2,    27.47, 2,    32.75, 2,     0.00, 2,     2.22, 2,    0.034, 2,    0.022, 2,   -999.0, 9,   -999.0, 9,   -999.0, 9,   5.0330,   -999.0, 9, -999.000, 9
316N19871218, SAVE2, 84, 1, 15, 15, 2, 19880111, 1010, -15.6817, -17.9400, 4000,  -999.00,    710.0,   4.6432,  34.4304, 2,  34.4290, 2,   -999.0, 9,    168.2, 2,    30.60, 2,    32.85, 2,     0.00, 2,     2.25, 2,    0.035, 2,    0.020, 2,   -999.0, 9,   -999.0, 9,   -999.0, 9,   4.5876,   -999.0, 9, -999.000, 9
316N19871218, SAVE2, 84, 1, 16, 16, 2, 19880111, 1010, -15.6817, -17.9400, 4000,  -999.00,    760.0,   4.4134,  34.4332, 2,  34.4310, 2,   -999.0, 9,    170.0, 2,    32.46, 2,    32.95, 2,     0.00, 2,     2.29, 2, -999.000, 9, -999.000, 9,   -999.0, 9,   -999.0, 9,   -999.0, 9,   4.3549,   -999.0, 9, -999.000, 9
316N19871218, SAVE2, 84, 1, 17, 17, 2, 19880111, 1010, -15.6817, -17.9400, 4000,  -999.00,    804.0,   4.2145,  34.4390, 2,  34.4370, 2,   -999.0, 9,    172.1, 2,    34.31, 2,    33.04, 2,     0.00, 2,     2.30, 2,    0.016, 2,    0.004, 2,   -999.0, 9,   -999.0, 9,   -999.0, 9,   4.1536,   -999.0, 9, -999.000, 9
316N19871218, SAVE2, 84, 1, 18, 18, 2, 19880111, 1010, -15.6817, -17.9400, 4000,  -999.00,    903.1,   3.9916,  34.4887, 2,  34.4870, 2,   -999.0, 9,    168.7, 2,    36.66, 2,    33.14, 2,     0.00, 2,     2.30, 2, -999.000, 9, -999.000, 9,   -999.0, 9,   -999.0, 9,   -999.0, 9,   3.9240,   -999.0, 9, -999.000, 9
316N19871218, SAVE2, 84, 1, 19, 19, 2, 19880111, 1010, -15.6817, -17.9400, 4000,  -999.00,   1047.3,   3.8087,  34.5764, 2,  34.5770, 2,   -999.0, 9,    174.7, 2,    37.34, 2,    31.77, 2,     0.00, 2,     2.21, 2, -999.000, 9, -999.000, 9,   -999.0, 9,   -999.0, 9,   -999.0, 9,   3.7305,   -999.0, 9, -999.000, 9
316N19871218, SAVE2, 84, 1, 20, 20, 2, 19880111, 1010, -15.6817, -17.9400, 4000,  -999.00,   1198.7,   3.8237,  34.6937, 2,  34.6920, 2,   -999.0, 9,    184.3, 2,    34.11, 2,    29.52, 2,     0.00, 2,     2.05, 2,    0.003, 2,    0.003, 2,   -999.0, 9,   -999.0, 9,   -999.0, 9,   3.7324,   -999.0, 9, -999.000, 9
316N19871218, SAVE2, 84, 1, 21, 21, 2, 19880111, 1010, -15.6817, -17.9400, 4000,  -999.00,   1347.4,   3.7907,  34.7745, 2,  34.7730, 2,   -999.0, 9,    196.0, 2,    31.28, 2,    27.56, 2,     0.00, 2,     1.91, 2, -999.000, 9, -999.000, 9,   -999.0, 9,   -999.0, 9,   -999.0, 9,   3.6868,   -999.0, 9, -999.000, 9
316N19871218, SAVE2, 84, 1, 22, 22, 2, 19880111, 1010, -15.6817, -17.9400, 4000,  -999.00,   1498.5,   3.7617,  34.8530, 2,  34.8530, 2,   -999.0, 9,    212.9, 2,    28.24, 2,    24.92, 2,     0.00, 2,     1.73, 2, -999.000, 9,    0.005, 2,   -999.0, 9,   -999.0, 9,   -999.0, 9,   3.6446,   -999.0, 9, -999.000, 9
316N19871218, SAVE2, 84, 1, 23, 23, 2, 19880111, 1010, -15.6817, -17.9400, 4000,  -999.00,   1598.7,   3.6647,  34.8876, 2,  34.8860, 2,   -999.0, 9,    222.9, 2,    27.07, 2,    23.55, 2,     0.00, 2,     1.63, 2, -999.000, 9, -999.000, 9,   -999.0, 9,   -999.0, 9,   -999.0, 9,   3.5397,   -999.0, 9, -999.000, 9
316N19871218, SAVE2, 84, 1, 24, 24, 2, 19880111, 1010, -15.6817, -17.9400, 4000,  -999.00,   1734.5,   3.5098,  34.9078, 2,  34.9060, 2,   -999.0, 9,    231.6, 2,    26.87, 2,    22.57, 2,     0.00, 2,     1.56, 2, -999.000, 9,    0.000, 2,   -999.0, 9,   -999.0, 9,   -999.0, 9,   3.3744,   -999.0, 9, -999.000, 9
316N19871218, SAVE2, 84, 1, 25, 25, 2, 19880111, 1010, -15.6817, -17.9400, 4000,  -999.00,   1868.8,   3.2690,  34.9134, 2,  34.9130, 2,   -999.0, 9,    237.2, 2,    29.32, 2,    21.99, 2,     0.00, 2,     1.51, 2, -999.000, 9, -999.000, 9,   2187.8, 2,   2338.7, 2,    782.0, 2,   3.1246,   -999.0, 9, -999.000, 9
316N19871218, SAVE2, 84, 1, 26, 26, 2, 19880111, 1010, -15.6817, -17.9400, 4000,  -999.00,   2051.5,   3.0431,  34.9081, 2,  34.9070, 2,   -999.0, 9,    239.0, 2,    32.84, 2,    22.18, 2,     0.00, 2,     1.50, 2,    0.001, 2,    0.002, 2,   -999.0, 9,   -999.0, 9,   -999.0, 9,   2.8853,   -999.0, 9, -999.000, 9
316N19871218, SAVE2, 84, 1, 27, 27, 2, 19880111, 1010, -15.6817, -17.9400, 4000,  -999.00,   2297.9,   2.8422,  34.9023, 2,  34.9020, 2,   -999.0, 9,    241.1, 2,    36.65, 2,    22.28, 2,     0.00, 2,     1.50, 2, -999.000, 9, -999.000, 9,   -999.0, 9,   -999.0, 9,   -999.0, 9,   2.6647,   -999.0, 9, -999.000, 9
316N19871218, SAVE2, 84, 1, 28, 28, 2, 19880111, 1010, -15.6817, -17.9400, 4000,  -999.00,   2547.3,   2.7383,  34.8991, 2,  34.8970, 2,   -999.0, 9,    241.6, 2,    39.29, 2,    22.28, 2,     0.00, 2,     1.50, 2, -999.000, 9, -999.000, 9,   -999.0, 9,   -999.0, 9,   -999.0, 9,   2.5387,   -999.0, 9, -999.000, 9
316N19871218, SAVE2, 84, 1, 29, 29, 2, 19880111, 1010, -15.6817, -17.9400, 4000,  -999.00,   2799.2,   2.6753,  34.8955, 2,  34.8940, 2,   -999.0, 9,    242.0, 2,    41.44, 2,    22.48, 2,     0.00, 2,     1.52, 2, -999.000, 9, -999.000, 9,   -999.0, 9,   -999.0, 9,   -999.0, 9,   2.4521,   -999.0, 9, -999.000, 9
316N19871218, SAVE2, 84, 1, 30, 30, 2, 19880111, 1010, -15.6817, -17.9400, 4000,  -999.00,   3052.4,   2.5993,  34.8910, 2,  34.8900, 2,   -999.0, 9,    241.1, 2,    43.78, 2,    22.67, 2,     0.00, 2,     1.54, 2,    0.005, 2,    0.005, 2,   -999.0, 9,   -999.0, 9,   -999.0, 9,   2.3521,   -999.0, 9, -999.000, 9
316N19871218, SAVE2, 84, 1, 31, 31, 2, 19880111, 1010, -15.6817, -17.9400, 4000,  -999.00,   3304.3,   2.4944,  34.8840, 2,  34.8830, 2,   -999.0, 9,    241.1, 2,    46.91, 2,    22.97, 2,     0.00, 2,     1.55, 2, -999.000, 9, -999.000, 9,   -999.0, 9,   -999.0, 9,   -999.0, 9,   2.2232,   -999.0, 9, -999.000, 9
316N19871218, SAVE2, 84, 1, 32, 32, 2, 19880111, 1010, -15.6817, -17.9400, 4000,  -999.00,   3437.0,   2.3895,  34.8786, 2,  34.8770, 2,   -999.0, 9,    241.6, 2,    49.45, 2,    23.06, 2,     0.00, 2,     1.57, 2, -999.000, 9, -999.000, 9,   -999.0, 9,   -999.0, 9,   -999.0, 9,   2.1067,   3448.6, 2,    2.375, 2
316N19871218, SAVE2, 84, 1, 33, 33, 2, 19880111, 1010, -15.6817, -17.9400, 4000,  -999.00,   3593.4,   2.2795,  34.8699, 2,  34.8700, 2,   -999.0, 9,    242.0, 2,    51.99, 2,    23.26, 2,     0.00, 2,     1.58, 2,    0.002, 2, -999.000, 9,   -999.0, 9,   -999.0, 9,   -999.0, 9,   1.9827,   -999.0, 9, -999.000, 9
316N19871218, SAVE2, 84, 1, 34, 34, 2, 19880111, 1010, -15.6817, -17.9400, 4000,  -999.00,   3752.3,   2.0896,  34.8520, 2,  34.8530, 2,   -999.0, 9,    240.7, 2,    58.64, 2,    24.14, 2,     0.00, 2,     1.64, 2, -999.000, 9, -999.000, 9,   -999.0, 9,   -999.0, 9,   -999.0, 9,   1.7806,   -999.0, 9, -999.000, 9
316N19871218, SAVE2, 84, 1, 35, 35, 2, 19880111, 1010, -15.6817, -17.9400, 4000,  -999.00,   3973.4,   1.8708,  34.8302, 2,  34.8280, 2,   -999.0, 9,    238.1, 2,    66.65, 2,    25.21, 2,     0.00, 2,     1.72, 2,    0.004, 2,    0.002, 2,   -999.0, 9,   -999.0, 9,   -999.0, 9,   1.5435,   3987.0, 2,    1.877, 2
316N19871218, SAVE2, 84, 1, 36, 36, 2, 19880111, 1010, -15.6817, -17.9400, 4000,  -999.00,   4087.2,   1.7258,  34.8169, 2,  34.8130, 2,   -999.0, 9,    236.4, 2,    71.83, 2,    25.80, 2,     0.00, 2,     1.77, 2, -999.000, 9, -999.000, 9,   2227.7, 2,   2371.7, 2,    841.8, 2,   1.3901,   -999.0, 9, -999.000, 9