BOTTLE,20110114CCHDOSIODM
EXPOCODE,SECT_ID,STNNBR,CASTNO,SAMPNO,BTLNBR,BTLNBR_FLAG_W,DATE,TIME,LATITUDE,LONGITUDE,DEPTH,CTDRAW,CTDPRS,CTDTMP,CTDSAL,CTDSAL_FLAG_W,SALNTY,SALNTY_FLAG_W,CTDOXY,CTDOXY_FLAG_W,OXYGEN,OXYGEN_FLAG_W,SILCAT,SILCAT_FLAG_W,NITRAT,NITRAT_FLAG_W,NITRIT,NITRIT_FLAG_W,PHSPHT,PHSPHT_FLAG_W,CFC-11,CFC-11_FLAG_W,CFC-12,CFC-12_FLAG_W,TCARBN,TCARBN_FLAG_W,ALKALI,ALKALI_FLAG_W,PCO2,PCO2_FLAG_W,THETA,REVPRS,REVPRS_FLAG_W,REVTMP,REVTMP_FLAG_W
,,,,,,,,,,,METERS,DBAR,DBAR,ITS-68,PSS-78,,PSS-78,,UMOL/KG,,UMOL/KG,,UMOL/KG,,UMOL/KG,,UMOL/KG,,UMOL/KG,,PMOL/KG,,PMOL/KG,,UMOL/KG,,UMOL/KG,,UATM,,DEG C,DBAR,,ITS-68,
316N19871218, SAVE2, 64, 1, 1, 1, 2, 19871231, 1112, -11.1233, 7.8267, 4867,  -999.00,      2.0,  24.9138,  36.1259, 2,  36.1350, 2,   -999.0, 9,    211.0, 2,     0.98, 2,     0.20, 2,     0.00, 2,     0.16, 2, -999.000, 9, -999.000, 9,   2043.0, 2,   2393.1, 2,    294.1, 2,  24.9134,   -999.0, 9, -999.000, 9
316N19871218, SAVE2, 64, 1, 2, 2, 2, 19871231, 1112, -11.1233, 7.8267, 4867,  -999.00,     24.2,  24.6512,  36.1274, 2,  36.1350, 2,   -999.0, 9,    211.9, 2,     0.98, 2,     0.20, 2,     0.00, 2,     0.17, 2,    1.690, 2,    0.850, 2,   2042.6, 2,   2388.5, 2,    298.5, 2,  24.6460,   -999.0, 9, -999.000, 9
316N19871218, SAVE2, 64, 1, 3, 3, 2, 19871231, 1112, -11.1233, 7.8267, 4867,  -999.00,     36.8,  19.4481,  35.9905, 2,  35.9760, 2,   -999.0, 9,    225.5, 2,     1.86, 2,     3.22, 2,     0.15, 2,     0.44, 2, -999.000, 9, -999.000, 9,   2084.8, 2,   2381.2, 2,    372.0, 2,  19.4414,   -999.0, 9, -999.000, 9
316N19871218, SAVE2, 64, 1, 4, 4, 2, 19871231, 1112, -11.1233, 7.8267, 4867,  -999.00,     65.2,  14.3750,  35.4509, 2,  35.4460, 2,   -999.0, 9,     59.6, 2,     8.89, 2,    25.40, 2,     0.05, 2,     1.65, 2,    0.704, 2,    0.341, 2,   2213.3, 2,   2336.0, 2,    945.5, 2,  14.3654,   -999.0, 9, -999.000, 9
316N19871218, SAVE2, 64, 1, 5, 5, 2, 19871231, 1112, -11.1233, 7.8267, 4867,  -999.00,     87.5,  13.8718,  35.3914, 2,  35.3870, 2,   -999.0, 9,     64.8, 2,     9.28, 2,    25.79, 2,     0.02, 2,     1.67, 2,    0.641, 2,    0.309, 2,   -999.0, 9,   -999.0, 9,   -999.0, 9,  13.8593,   -999.0, 9, -999.000, 9
316N19871218, SAVE2, 64, 1, 6, 6, 2, 19871231, 1112, -11.1233, 7.8267, 4867,  -999.00,    109.7,  13.4011,  35.3335, 2,  35.3330, 2,   -999.0, 9,     63.5, 2,     9.96, 2,    26.57, 2,     0.01, 2,     1.73, 2,    0.555, 2,    0.287, 2,   -999.0, 9,   -999.0, 9,   -999.0, 9,  13.3857,   -999.0, 9, -999.000, 9
316N19871218, SAVE2, 64, 1, 7, 7, 2, 19871231, 1112, -11.1233, 7.8267, 4867,  -999.00,    152.1,  12.6832,  35.2463, 2,  35.2410, 2,   -999.0, 9,     56.1, 2,    11.33, 2,    28.53, 2,     0.01, 2,     1.84, 2, -999.000, 9, -999.000, 9,   2224.1, 2,   2330.1, 2,   1051.8, 2,  12.6626,   -999.0, 9, -999.000, 9
316N19871218, SAVE2, 64, 1, 8, 8, 2, 19871231, 1112, -11.1233, 7.8267, 4867,  -999.00,    200.1,  12.0528,  35.1694, 2,  35.1650, 2,   -999.0, 9,     60.9, 2,    12.02, 2,    29.02, 2,     0.01, 2,     1.86, 2,    0.362, 2,    0.180, 2,   -999.0, 9,   -999.0, 9,   -999.0, 9,  12.0266,   -999.0, 9, -999.000, 9
316N19871218, SAVE2, 64, 1, 9, 9, 2, 19871231, 1112, -11.1233, 7.8267, 4867,  -999.00,    262.2,  11.0443,  35.0534, 2,  35.0540, 2,   -999.0, 9,     48.3, 2,    13.78, 2,    32.05, 2,     0.01, 2,     2.02, 2, -999.000, 9, -999.000, 9,   -999.0, 9,   -999.0, 9,   -999.0, 9,  11.0118,   -999.0, 9, -999.000, 9
316N19871218, SAVE2, 64, 1, 10, 10, 2, 19871231, 1112, -11.1233, 7.8267, 4867,  -999.00,    305.3,  10.3771,  34.9769, 2,  34.9740, 2,   -999.0, 9,     32.2, 2,    15.44, 2,    34.98, 2,     0.01, 2,     2.20, 2,    0.099, 2,    0.057, 2,   2254.1, 2,   2318.0, 2,   1409.3, 2,  10.3407,   -999.0, 9, -999.000, 9
316N19871218, SAVE2, 64, 1, 12, 12, 2, 19871231, 1112, -11.1233, 7.8267, 4867,  -999.00,    384.3,   9.1114,  34.8402, 2,  34.8410, 2,   -999.0, 9,   -999.0, 9,    18.86, 2,    38.41, 2,     0.00, 2,     2.45, 2,    0.032, 2,    0.019, 2,   -999.0, 9,   -999.0, 9,   -999.0, 9,   9.0689,   -999.0, 9, -999.000, 9
316N19871218, SAVE2, 64, 1, 11, 11, 2, 19871231, 1112, -11.1233, 7.8267, 4867,  -999.00,    384.4,   9.1622,  34.8460, 2,  34.8430, 2,   -999.0, 9,     23.5, 2,    18.86, 2,    38.31, 2,     0.01, 2,     2.43, 2, -999.000, 9, -999.000, 9,   2269.4, 2,   2311.7, 2,   1652.0, 2,   9.1196,   -999.0, 9, -999.000, 9
316N19871218, SAVE2, 64, 1, 13, 13, 2, 19871231, 1112, -11.1233, 7.8267, 4867,  -999.00,    484.4,   7.5737,  34.6964, 2,  34.6930, 2,   -999.0, 9,     30.4, 2,    22.87, 2,    41.34, 2,     0.00, 2,     2.66, 2, -999.000, 9, -999.000, 9,   2271.5, 2,   2304.8, 2,   1763.6, 2,   7.5255,   -999.0, 9, -999.000, 9
316N19871218, SAVE2, 64, 1, 14, 14, 2, 19871231, 1112, -11.1233, 7.8267, 4867,  -999.00,    570.5,   6.4500,  34.6003, 2,  34.5980, 2,   -999.0, 9,     50.9, 2,    26.49, 2,    41.64, 2,     0.00, 2,     2.68, 2,    0.001, 2, -999.000, 9,   -999.0, 9,   -999.0, 9,   -999.0, 9,   6.3978,   -999.0, 9, -999.000, 9
316N19871218, SAVE2, 64, 1, 15, 15, 2, 19871231, 1112, -11.1233, 7.8267, 4867,  -999.00,    660.7,   5.6213,  34.5427, 2,  34.5400, 2,   -999.0, 9,     75.2, 2,    29.62, 2,    40.76, 2,     0.00, 2,     2.66, 2,    0.000, 2, -999.000, 9,   -999.0, 9,   -999.0, 9,   -999.0, 9,   5.5646,   -999.0, 9, -999.000, 9
316N19871218, SAVE2, 64, 1, 16, 16, 2, 19871231, 1112, -11.1233, 7.8267, 4867,  -999.00,    760.2,   4.9466,  34.5156, 2,  34.5120, 2,   -999.0, 9,    101.3, 2,    32.94, 2,    39.10, 2,     0.00, 2,     2.59, 2,    0.002, 2,    0.001, 2,   2252.5, 2,   2309.2, 2,   1478.3, 2,   4.8849,   -999.0, 9, -999.000, 9
316N19871218, SAVE2, 64, 1, 17, 17, 2, 19871231, 1112, -11.1233, 7.8267, 4867,  -999.00,    851.4,   4.5880,  34.5187, 2,  34.5150, 2,   -999.0, 9,    117.8, 2,    34.80, 2,    37.83, 2,     0.00, 2,     2.55, 2, -999.000, 9,    0.001, 2,   -999.0, 9,   -999.0, 9,   -999.0, 9,   4.5206,   -999.0, 9, -999.000, 9
316N19871218, SAVE2, 64, 1, 18, 18, 2, 19871231, 1112, -11.1233, 7.8267, 4867,  -999.00,    939.1,   4.3089,  34.5425, 2,  34.5390, 2,   -999.0, 9,    131.7, 2,    35.97, 2,    36.27, 2,     0.00, 2,     2.46, 2,    0.000, 2,    0.001, 2,   2244.8, 2,   2319.9, 2,   1297.1, 2,   4.2360,   -999.0, 9, -999.000, 9
316N19871218, SAVE2, 64, 1, 19, 19, 2, 19871231, 1112, -11.1233, 7.8267, 4867,  -999.00,   1005.4,   4.1728,  34.5830, 2,  34.5810, 2,   -999.0, 9,    139.5, 2,    36.07, 2,    35.09, 2,     0.00, 2,     2.39, 2,    0.001, 2,    0.003, 2,   2236.2, 2,   -999.0, 9,   -999.0, 9,   4.0952,   -999.0, 9, -999.000, 9
316N19871218, SAVE2, 64, 1, 20, 20, 2, 19871231, 1112, -11.1233, 7.8267, 4867,  -999.00,   1196.8,   3.9863,  34.7188, 2,  34.7170, 2,   -999.0, 9,    162.1, 2,    34.21, 2,    31.47, 2,     0.00, 2,     2.15, 2, -999.000, 9, -999.000, 9,   -999.0, 9,   -999.0, 9,   -999.0, 9,   3.8937,   -999.0, 9, -999.000, 9
316N19871218, SAVE2, 64, 1, 21, 21, 2, 19871231, 1112, -11.1233, 7.8267, 4867,  -999.00,   1397.7,   3.8451,  34.8477, 2,  34.8460, 2,   -999.0, 9,    190.8, 2,    29.81, 2,    27.07, 2,     0.00, 2,     1.82, 2, -999.000, 9, -999.000, 9,   2206.7, 2,   -999.0, 9,   -999.0, 9,   3.7361,   -999.0, 9, -999.000, 9
316N19871218, SAVE2, 64, 1, 22, 22, 2, 19871231, 1112, -11.1233, 7.8267, 4867,  -999.00,   1549.4,   3.7502,  34.9002, 2,  34.8990, 2,   -999.0, 9,    207.7, 2,    27.85, 2,    24.72, 2,     0.00, 2,     1.66, 2, -999.000, 9,    0.005, 2,   -999.0, 9,   -999.0, 9,   -999.0, 9,   3.6286,   -999.0, 9, -999.000, 9
316N19871218, SAVE2, 64, 1, 23, 23, 2, 19871231, 1112, -11.1233, 7.8267, 4867,  -999.00,   1700.2,   3.5977,  34.9211, 2,  34.9190, 2,   -999.0, 9,    217.3, 2,    27.95, 2,    23.75, 2,     0.01, 2,     1.58, 2, -999.000, 9,    0.001, 2,   -999.0, 9,   -999.0, 9,   -999.0, 9,   3.4642,   -999.0, 9, -999.000, 9
316N19871218, SAVE2, 64, 1, 24, 24, 2, 19871231, 1112, -11.1233, 7.8267, 4867,  -999.00,   1901.4,   3.3967,  34.9289, 2,  34.9260, 2,   -999.0, 9,    222.0, 2,    30.29, 2,    23.16, 2,     0.01, 2,     1.56, 2, -999.000, 9,    0.001, 2,   -999.0, 9,   -999.0, 9,   -999.0, 9,   3.2474,   -999.0, 9, -999.000, 9
316N19871218, SAVE2, 64, 1, 25, 25, 2, 19871231, 1112, -11.1233, 7.8267, 4867,  -999.00,   2096.3,   3.1951,  34.9306, 2,  34.9290, 2,   -999.0, 9,    226.8, 2,    32.64, 2,    22.87, 2,     0.01, 2,     1.53, 2,    0.006, 2,    0.001, 2,   2191.8, 2,   2334.8, 3,    820.7, 2,   3.0307,   -999.0, 9, -999.000, 9
316N19871218, SAVE2, 64, 1, 26, 26, 2, 19871231, 1112, -11.1233, 7.8267, 4867,  -999.00,   2294.4,   3.0219,  34.9263, 2,  34.9230, 2,   -999.0, 9,    229.4, 2,    35.08, 2,    22.77, 2,     0.00, 2,     1.52, 2, -999.000, 9, -999.000, 9,   -999.0, 9,   -999.0, 9,   -999.0, 9,   2.8415,   -999.0, 9, -999.000, 9
316N19871218, SAVE2, 64, 1, 27, 27, 2, 19871231, 1112, -11.1233, 7.8267, 4867,  -999.00,   2544.4,   2.8501,  34.9199, 2,  34.9170, 2,   -999.0, 9,    231.1, 2,    38.31, 2,    22.87, 2,     0.00, 2,     1.52, 2, -999.000, 9, -999.000, 9,   -999.0, 9,   -999.0, 9,   -999.0, 9,   2.6487,   -999.0, 9, -999.000, 9
316N19871218, SAVE2, 64, 1, 28, 28, 2, 19871231, 1112, -11.1233, 7.8267, 4867,  -999.00,   2793.4,   2.7216,  34.9144, 2,  34.9120, 2,   -999.0, 9,    230.7, 2,    41.73, 2,    22.87, 2,     0.00, 2,     1.53, 2, -999.000, 9, -999.000, 9,   -999.0, 9,   -999.0, 9,   -999.0, 9,   2.4980,   -999.0, 9, -999.000, 9
316N19871218, SAVE2, 64, 1, 29, 29, 2, 19871231, 1112, -11.1233, 7.8267, 4867,  -999.00,   3098.2,   2.5888,  34.9073, 2, -999.0000, 9,   -999.0, 9,   -999.0, 9,  -999.00, 9,  -999.00, 9,  -999.00, 9,  -999.00, 9, -999.000, 9, -999.000, 9,   -999.0, 9,   -999.0, 9,   -999.0, 9,   2.3370,   -999.0, 9, -999.000, 9
316N19871218, SAVE2, 64, 1, 30, 30, 2, 19871231, 1112, -11.1233, 7.8267, 4867,  -999.00,   3450.1,   2.4767,  34.8997, 2,  34.8970, 2,   -999.0, 9,    228.5, 2,    49.35, 2,    23.36, 2,     0.01, 2,     1.57, 2,    0.003, 2,    0.003, 2,   -999.0, 9,   -999.0, 9,   -999.0, 9,   2.1903,   -999.0, 9, -999.000, 9
316N19871218, SAVE2, 64, 1, 31, 31, 2, 19871231, 1112, -11.1233, 7.8267, 4867,  -999.00,   3662.9,   2.4027,  34.8947, 2,  34.8930, 2,   -999.0, 9,    224.2, 2,    53.95, 2,    23.85, 2,     0.01, 2,     1.61, 2, -999.000, 9, -999.000, 9,   -999.0, 9,   -999.0, 9,   -999.0, 9,   2.0951,   -999.0, 9, -999.000, 9
316N19871218, SAVE2, 64, 1, 32, 32, 2, 19871231, 1112, -11.1233, 7.8267, 4867,  -999.00,   3952.2,   2.3584,  34.8902, 2,  34.8910, 2,   -999.0, 9,    224.6, 2,    55.51, 2,    24.04, 2,     0.00, 2,     1.63, 2, -999.000, 9, -999.000, 9,   -999.0, 9,   -999.0, 9,   -999.0, 9,   2.0196,   3940.9, 2,    2.349, 2
316N19871218, SAVE2, 64, 1, 33, 33, 2, 19871231, 1112, -11.1233, 7.8267, 4867,  -999.00,   4275.0,   2.3632,  34.8877, 2,  34.8860, 2,   -999.0, 9,    225.9, 2,    55.51, 2,    24.04, 2,     0.00, 2,     1.62, 2, -999.000, 9, -999.000, 9,   -999.0, 9,   -999.0, 9,   -999.0, 9,   1.9869,   -999.0, 9, -999.000, 9
316N19871218, SAVE2, 64, 1, 34, 34, 2, 19871231, 1112, -11.1233, 7.8267, 4867,  -999.00,   4598.1,   2.3834,  34.8850, 2,  34.8830, 2,   -999.0, 9,    232.0, 2,    53.55, 2,    23.65, 2,     0.00, 2,     1.58, 2,    0.001, 2,    0.009, 2,   2221.6, 2,   2373.2, 2,    800.7, 2,   1.9678,   -999.0, 9, -999.000, 9
316N19871218, SAVE2, 64, 1, 35, 35, 2, 19871231, 1112, -11.1233, 7.8267, 4867,  -999.00,   4814.3,   2.3996,  34.8833, 2,  34.8820, 2,   -999.0, 9,    232.0, 2,    53.95, 2,    23.65, 2,     0.01, 2,     1.57, 2, -999.000, 9, -999.000, 9,   -999.0, 9,   -999.0, 9,   -999.0, 9,   1.9569,   4834.2, 2,    2.388, 2
316N19871218, SAVE2, 64, 1, 36, 36, 2, 19871231, 1112, -11.1233, 7.8267, 4867,  -999.00,   4963.2,   2.4161,  34.8829, 2,  34.8820, 2,   -999.0, 9,    232.4, 2,    54.04, 2,    23.65, 2,     0.01, 2,     1.57, 2, -999.000, 9, -999.000, 9,   -999.0, 9,   -999.0, 9,    794.1, 2,   1.9543,   -999.0, 9, -999.000, 9