BOTTLE,20110114CCHDOSIODM
EXPOCODE,SECT_ID,STNNBR,CASTNO,SAMPNO,BTLNBR,BTLNBR_FLAG_W,DATE,TIME,LATITUDE,LONGITUDE,DEPTH,CTDRAW,CTDPRS,CTDTMP,CTDSAL,CTDSAL_FLAG_W,SALNTY,SALNTY_FLAG_W,CTDOXY,CTDOXY_FLAG_W,OXYGEN,OXYGEN_FLAG_W,SILCAT,SILCAT_FLAG_W,NITRAT,NITRAT_FLAG_W,NITRIT,NITRIT_FLAG_W,PHSPHT,PHSPHT_FLAG_W,CFC-11,CFC-11_FLAG_W,CFC-12,CFC-12_FLAG_W,TCARBN,TCARBN_FLAG_W,ALKALI,ALKALI_FLAG_W,PCO2,PCO2_FLAG_W,THETA,REVPRS,REVPRS_FLAG_W,REVTMP,REVTMP_FLAG_W
,,,,,,,,,,,METERS,DBAR,DBAR,ITS-68,PSS-78,,PSS-78,,UMOL/KG,,UMOL/KG,,UMOL/KG,,UMOL/KG,,UMOL/KG,,UMOL/KG,,PMOL/KG,,PMOL/KG,,UMOL/KG,,UMOL/KG,,UATM,,DEG C,DBAR,,ITS-68,
316N19871218, SAVE2, 73, 1, 1, 1, 2, 19880105, 2011, -13.3083, -4.7867, 4861,  -999.00,      2.3,  24.0395,  36.5695, 2,  36.5710, 2,   -999.0, 9,    212.3, 2,     1.27, 2,     0.00, 2,     0.00, 2,     0.18, 2,    1.723, 2,    0.889, 2,   2064.7, 2,   -999.0, 9,   -999.0, 9,  24.0390,   -999.0, 9, -999.000, 9
316N19871218, SAVE2, 73, 1, 2, 2, 2, 19880105, 2011, -13.3083, -4.7867, 4861,  -999.00,     14.5,  23.8245,  36.5760, 2,  36.5750, 2,   -999.0, 9,    213.0, 2,     1.27, 2,     0.00, 2,     0.00, 2,     0.21, 2,    1.731, 2,    0.871, 2,   2067.7, 2,   -999.0, 9,   -999.0, 9,  23.8215,   -999.0, 9, -999.000, 9
316N19871218, SAVE2, 73, 1, 3, 3, 2, 19880105, 2011, -13.3083, -4.7867, 4861,  -999.00,     32.8,  23.3396,  36.5908, 2,  36.5980, 2,   -999.0, 9,    215.4, 2,     1.27, 2,     0.00, 2,     0.00, 2,     0.18, 2,    1.763, 2,    0.877, 2,   -999.0, 9,   -999.0, 9,   -999.0, 9,  23.3328,   -999.0, 9, -999.000, 9
316N19871218, SAVE2, 73, 1, 4, 4, 2, 19880105, 2011, -13.3083, -4.7867, 4861,  -999.00,     40.9,  22.4379,  36.4436, 2,  36.4170, 2,   -999.0, 9,    227.8, 2,     0.98, 2,     0.00, 2,     0.00, 2,     0.23, 2,    1.910, 2,    0.970, 2,   2068.2, 2,   -999.0, 9,   -999.0, 9,  22.4296,   -999.0, 9, -999.000, 9
316N19871218, SAVE2, 73, 1, 5, 5, 2, 19880105, 2011, -13.3083, -4.7867, 4861,  -999.00,     70.9,  19.2589,  36.1620, 2,  36.1660, 2,   -999.0, 9,    215.8, 2,     1.46, 2,     3.03, 2,     0.81, 2,     0.51, 2,    1.983, 2,    0.974, 2,   2096.7, 2,   -999.0, 9,   -999.0, 9,  19.2461,   -999.0, 9, -999.000, 9
316N19871218, SAVE2, 73, 1, 6, 6, 2, 19880105, 2011, -13.3083, -4.7867, 4861,  -999.00,     93.2,  16.3051,  35.6497, 2,  35.6030, 2,   -999.0, 9,    165.5, 2,     3.91, 2,    12.01, 2,     0.05, 2,     0.94, 2,    1.825, 2,    0.887, 2,   2134.1, 2,   -999.0, 9,   -999.0, 9,  16.2901,   -999.0, 9, -999.000, 9
316N19871218, SAVE2, 73, 1, 7, 7, 2, 19880105, 2011, -13.3083, -4.7867, 4861,  -999.00,    127.8,  13.8263,  35.3343, 2,  35.3390, 2,   -999.0, 9,     76.2, 2,     8.21, 2,    25.01, 2,     0.02, 2,     1.67, 2,    1.187, 2,    0.578, 2,   2206.8, 2,   -999.0, 9,   -999.0, 9,  13.8079,   -999.0, 9, -999.000, 9
316N19871218, SAVE2, 73, 1, 8, 8, 2, 19880105, 2011, -13.3083, -4.7867, 4861,  -999.00,    179.5,  12.5949,  35.2093, 2,  35.2020, 2,   -999.0, 9,     45.7, 2,    10.85, 2,    29.80, 2,     0.01, 2,     1.94, 2,    0.638, 2,    0.320, 2,   2226.7, 2,   -999.0, 9,   -999.0, 9,  12.5707,   -999.0, 9, -999.000, 9
316N19871218, SAVE2, 73, 1, 9, 9, 2, 19880105, 2011, -13.3083, -4.7867, 4861,  -999.00,    219.6,  11.6315,  35.1132, 2,  35.1120, 2,   -999.0, 9,     48.5, 2,    12.31, 2,    31.07, 2,     0.01, 2,     2.01, 2,    0.380, 2,    0.197, 2,   2228.8, 2,   -999.0, 9,   -999.0, 9,  11.6033,   -999.0, 9, -999.000, 9
316N19871218, SAVE2, 73, 1, 10, 10, 2, 19880105, 2011, -13.3083, -4.7867, 4861,  -999.00,    304.1,  10.0464,  34.9359, 2,  34.9320, 2,   -999.0, 9,     55.3, 2,    15.54, 2,    33.32, 2,     0.01, 2,     2.14, 2,    0.141, 2,    0.077, 2,   2236.6, 2,   -999.0, 9,   -999.0, 9,  10.0108,   -999.0, 9, -999.000, 9
316N19871218, SAVE2, 73, 1, 11, 11, 2, 19880105, 2011, -13.3083, -4.7867, 4861,  -999.00,    394.3,   8.5763,  34.7810, 2,  34.7740, 2,   -999.0, 9,     69.6, 2,    18.47, 2,    34.70, 2,     0.01, 2,     2.24, 2,    0.054, 2,    0.034, 2,   2234.8, 2,   -999.0, 9,   -999.0, 9,   8.5344,   -999.0, 9, -999.000, 9
316N19871218, SAVE2, 73, 1, 12, 12, 2, 19880105, 2011, -13.3083, -4.7867, 4861,  -999.00,    466.1,   7.5140,  34.6715, 2,  34.6710, 2,   -999.0, 9,     78.1, 2,    21.21, 2,    36.07, 2,     0.00, 2,     2.34, 2,    0.023, 2,    0.015, 2,   2237.7, 2,   -999.0, 9,   -999.0, 9,   7.4680,   -999.0, 9, -999.000, 9
316N19871218, SAVE2, 73, 1, 13, 13, 2, 19880105, 2011, -13.3083, -4.7867, 4861,  -999.00,    544.1,   6.4458,  34.5723, 2,  34.5740, 2,   -999.0, 9,    101.6, 2,    23.85, 2,    35.97, 2,     0.00, 2,     2.37, 2,    0.012, 2,    0.015, 2,   -999.0, 9,   -999.0, 9,   -999.0, 9,   6.3962,   -999.0, 9, -999.000, 9
316N19871218, SAVE2, 73, 1, 14, 14, 2, 19880105, 2011, -13.3083, -4.7867, 4861,  -999.00,    584.2,   6.2090,  34.5614, 2,  34.5630, 2,   -999.0, 9,     92.2, 2,    25.61, 2,    37.73, 2,     0.00, 2,     2.48, 2,    0.010, 2,    0.002, 2,   2241.9, 2,   -999.0, 9,   -999.0, 9,   6.1566,   -999.0, 9, -999.000, 9
316N19871218, SAVE2, 73, 1, 15, 15, 2, 19880105, 2011, -13.3083, -4.7867, 4861,  -999.00,    674.3,   5.3446,  34.5104, 2,  34.5110, 2,   -999.0, 9,    104.9, 2,    30.01, 2,    38.32, 2,     0.00, 2,     2.55, 2,    0.001, 2,    0.001, 2,   -999.0, 9,   -999.0, 9,   -999.0, 9,   5.2882,   -999.0, 9, -999.000, 9
316N19871218, SAVE2, 73, 1, 16, 16, 2, 19880105, 2011, -13.3083, -4.7867, 4861,  -999.00,    779.5,   4.7101,  34.4951, 2,  34.4950, 2,   -999.0, 9,   -999.0, 9,    33.43, 2,    37.24, 2,     0.00, 2,     2.52, 2,    0.002, 2,    0.001, 2,   2241.0, 2,   -999.0, 9,   -999.0, 9,   4.6481,   -999.0, 9, -999.000, 9
316N19871218, SAVE2, 73, 1, 17, 17, 2, 19880105, 2011, -13.3083, -4.7867, 4861,  -999.00,    909.8,   4.2954,  34.5238, 2,  34.5240, 2,   -999.0, 9,    142.4, 2,    35.88, 2,    35.58, 2,     0.00, 2,     2.43, 2,    0.000, 2,    0.001, 2,   2236.2, 2,   -999.0, 9,   -999.0, 9,   4.2251,   -999.0, 9, -999.000, 9
316N19871218, SAVE2, 73, 1, 18, 18, 2, 19880105, 2011, -13.3083, -4.7867, 4861,  -999.00,   1030.3,   4.0196,  34.5967, 2,  34.5940, 2,   -999.0, 9,    156.1, 2,    36.36, 2,    33.63, 2,     0.00, 2,     2.31, 2, -999.000, 9, -999.000, 9,   2231.1, 2,   -999.0, 9,   -999.0, 9,   3.9411,   -999.0, 9, -999.000, 9
316N19871218, SAVE2, 73, 1, 19, 19, 2, 19880105, 2011, -13.3083, -4.7867, 4861,  -999.00,   1181.3,   3.8717,  34.7050, 2,  34.7000, 2,   -999.0, 9,    172.2, 2,    34.60, 2,    30.89, 2,     0.00, 2,     2.12, 2,    0.000, 2,    0.001, 2,   2222.0, 2,   -999.0, 9,   -999.0, 9,   3.7815,   -999.0, 9, -999.000, 9
316N19871218, SAVE2, 73, 1, 20, 20, 2, 19880105, 2011, -13.3083, -4.7867, 4861,  -999.00,   1332.1,   3.7958,  34.7956, 2,  34.7950, 2,   -999.0, 9,    189.2, 2,    31.86, 2,    28.15, 2,     0.00, 2,     1.93, 2,    0.002, 2, -999.000, 9,   -999.0, 9,   -999.0, 9,   -999.0, 9,   3.6931,   -999.0, 9, -999.000, 9
316N19871218, SAVE2, 73, 1, 21, 21, 2, 19880105, 2011, -13.3083, -4.7867, 4861,  -999.00,   1533.7,   3.6659,  34.8763, 2,  34.8770, 2,   -999.0, 9,    209.1, 2,    29.03, 2,    25.12, 2,     0.00, 2,     1.70, 2,    0.004, 2,    0.001, 2,   -999.0, 9,   -999.0, 9,   -999.0, 9,   3.5467,   -999.0, 9, -999.000, 9
316N19871218, SAVE2, 73, 1, 22, 22, 2, 19880105, 2011, -13.3083, -4.7867, 4861,  -999.00,   1730.5,   3.5570,  34.9101, 2,  34.9100, 2,   -999.0, 9,    219.4, 2,    28.05, 2,    23.65, 2,     0.00, 2,     1.60, 2,    0.004, 2,    0.002, 2,   2193.9, 2,   -999.0, 9,   -999.0, 9,   3.4213,   -999.0, 9, -999.000, 9
316N19871218, SAVE2, 73, 1, 23, 23, 2, 19880105, 2011, -13.3083, -4.7867, 4861,  -999.00,   1962.5,   3.3202,  34.9161, 2, -999.0000, 9,   -999.0, 9,    227.6, 2,    30.49, 2,    23.06, 2,     0.01, 2,     1.54, 2, -999.000, 9,    0.000, 2,   2192.9, 2,   -999.0, 9,   -999.0, 9,   3.1664,   -999.0, 9, -999.000, 9
316N19871218, SAVE2, 73, 1, 24, 24, 2, 19880105, 2011, -13.3083, -4.7867, 4861,  -999.00,   2104.0,   3.1683,  34.9159, 2,  34.9150, 2,   -999.0, 9,    233.8, 2,    32.05, 2,    22.48, 2,     0.01, 2,     1.51, 2, -999.000, 9,    0.000, 2,   2190.7, 2,   -999.0, 9,   -999.0, 9,   3.0036,   -999.0, 9, -999.000, 9
316N19871218, SAVE2, 73, 1, 25, 25, 2, 19880105, 2011, -13.3083, -4.7867, 4861,  -999.00,   2311.4,   2.9954,  34.9120, 2,  34.9140, 2,   -999.0, 9,    236.3, 2,    34.89, 2,    22.38, 2,     0.01, 2,     1.50, 2,    0.001, 2,    0.000, 2,   2191.8, 2,   -999.0, 9,   -999.0, 9,   2.8140,   -999.0, 9, -999.000, 9
316N19871218, SAVE2, 73, 1, 26, 26, 2, 19880105, 2011, -13.3083, -4.7867, 4861,  -999.00,   2534.3,   2.8166,  34.9059, 2,  34.9040, 2,   -999.0, 9,    236.3, 2,    38.89, 2,    22.57, 2,     0.01, 2,     1.51, 2, -999.000, 9,    0.000, 2,   2194.0, 2,   -999.0, 9,   -999.0, 9,   2.6168,   -999.0, 9, -999.000, 9
316N19871218, SAVE2, 73, 1, 27, 27, 2, 19880105, 2011, -13.3083, -4.7867, 4861,  -999.00,   2731.8,   2.6907,  34.9000, 2,  34.9000, 2,   -999.0, 9,    238.0, 2,    41.63, 2,    22.67, 2,     0.01, 2,     1.52, 2, -999.000, 9, -999.000, 9,   2199.0, 2,   -999.0, 9,   -999.0, 9,   2.4739,   -999.0, 9, -999.000, 9
316N19871218, SAVE2, 73, 1, 28, 28, 2, 19880105, 2011, -13.3083, -4.7867, 4861,  -999.00,   2985.4,   2.5378,  34.8924, 2,  34.8920, 2,   -999.0, 9,    237.4, 2,    45.35, 2,    22.97, 2,     0.01, 2,     1.55, 2, -999.000, 9, -999.000, 9,   2203.3, 2,   -999.0, 9,   -999.0, 9,   2.2987,   -999.0, 9, -999.000, 9
316N19871218, SAVE2, 73, 1, 29, 29, 2, 19880105, 2011, -13.3083, -4.7867, 4861,  -999.00,   3234.1,   2.4629,  34.8894, 2,  34.8890, 2,   -999.0, 9,    237.5, 2,    47.40, 2,    23.06, 2,     0.01, 2,     1.56, 2, -999.000, 9, -999.000, 9,   2209.7, 2,   -999.0, 9,   -999.0, 9,   2.1998,   -999.0, 9, -999.000, 9
316N19871218, SAVE2, 73, 1, 30, 30, 2, 19880105, 2011, -13.3083, -4.7867, 4861,  -999.00,   3488.2,   2.4229,  34.8877, 2,  34.8880, 2,   -999.0, 9,    237.0, 2,    48.96, 2,    23.26, 2,     0.01, 2,     1.58, 2, -999.000, 9, -999.000, 9,   2210.2, 2,   -999.0, 9,   -999.0, 9,   2.1338,   -999.0, 9, -999.000, 9
316N19871218, SAVE2, 73, 1, 31, 31, 2, 19880105, 2011, -13.3083, -4.7867, 4861,  -999.00,   3737.0,   2.4059,  34.8866, 2,  34.8860, 2,   -999.0, 9,    236.9, 2,    49.94, 2,    23.36, 2,     0.00, 2,     1.58, 2, -999.000, 9, -999.000, 9,   2212.9, 2,   -999.0, 9,   -999.0, 9,   2.0900,   -999.0, 9, -999.000, 9
316N19871218, SAVE2, 73, 1, 32, 32, 2, 19880105, 2011, -13.3083, -4.7867, 4861,  -999.00,   3991.4,   2.3999,  34.8856, 2,  34.8840, 2,   -999.0, 9,    237.5, 2,    50.04, 2,    23.36, 2,     0.00, 2,     1.57, 2, -999.000, 9, -999.000, 9,   2212.6, 2,   -999.0, 9,   -999.0, 9,   2.0555,   4011.0, 2,    2.396, 2
316N19871218, SAVE2, 73, 1, 33, 33, 2, 19880105, 2011, -13.3083, -4.7867, 4861,  -999.00,   4240.7,   2.3969,  34.8833, 2,  34.8840, 2,   -999.0, 9,    238.5, 2,    50.92, 2,    23.26, 2,     0.00, 2,     1.59, 2, -999.000, 9, -999.000, 9,   2215.7, 2,   -999.0, 9,   -999.0, 9,   2.0237,   -999.0, 9, -999.000, 9
316N19871218, SAVE2, 73, 1, 34, 34, 2, 19880105, 2011, -13.3083, -4.7867, 4861,  -999.00,   4500.9,   2.3869,  34.8812, 2,  34.8810, 2,   -999.0, 9,    239.0, 2,    51.80, 2,    23.26, 2,     0.00, 2,     1.57, 2, -999.000, 9, -999.000, 9,   2211.3, 2,   -999.0, 9,   -999.0, 9,   1.9831,   -999.0, 9, -999.000, 9
316N19871218, SAVE2, 73, 1, 35, 35, 2, 19880105, 2011, -13.3083, -4.7867, 4861,  -999.00,   4761.0,   2.4019,  34.8791, 2,  34.8790, 2,   -999.0, 9,    239.2, 2,    51.80, 2,    23.26, 2,     0.00, 2,     1.57, 2, -999.000, 9, -999.000, 9,   2220.3, 2,   -999.0, 9,   -999.0, 9,   1.9659,   4756.1, 2,    2.399, 2
316N19871218, SAVE2, 73, 1, 36, 36, 2, 19880105, 2011, -13.3083, -4.7867, 4861,  -999.00,   4955.4,   2.4219,  34.8799, 2,  34.8820, 2,   -999.0, 9,    238.7, 2,  -999.00, 9,  -999.00, 9,  -999.00, 9,  -999.00, 9, -999.000, 9, -999.000, 9,   2214.0, 2,   -999.0, 9,   -999.0, 9,   1.9609,   -999.0, 9, -999.000, 9