BOTTLE,20110114CCHDOSIODM
EXPOCODE,SECT_ID,STNNBR,CASTNO,SAMPNO,BTLNBR,BTLNBR_FLAG_W,DATE,TIME,LATITUDE,LONGITUDE,DEPTH,CTDRAW,CTDPRS,CTDTMP,CTDSAL,CTDSAL_FLAG_W,SALNTY,SALNTY_FLAG_W,CTDOXY,CTDOXY_FLAG_W,OXYGEN,OXYGEN_FLAG_W,SILCAT,SILCAT_FLAG_W,NITRAT,NITRAT_FLAG_W,NITRIT,NITRIT_FLAG_W,PHSPHT,PHSPHT_FLAG_W,CFC-11,CFC-11_FLAG_W,CFC-12,CFC-12_FLAG_W,TCARBN,TCARBN_FLAG_W,ALKALI,ALKALI_FLAG_W,PCO2,PCO2_FLAG_W,THETA,REVPRS,REVPRS_FLAG_W,REVTMP,REVTMP_FLAG_W
,,,,,,,,,,,METERS,DBAR,DBAR,ITS-68,PSS-78,,PSS-78,,UMOL/KG,,UMOL/KG,,UMOL/KG,,UMOL/KG,,UMOL/KG,,UMOL/KG,,PMOL/KG,,PMOL/KG,,UMOL/KG,,UMOL/KG,,UATM,,DEG C,DBAR,,ITS-68,
316N19871218, SAVE2, 68, 1, 1, 1, 2, 19880102, 2241, -12.0050, 2.0050, 5539,  -999.00,      0.2,  24.0145,  36.3036, 2,  36.3050, 2,   -999.0, 9,    213.1, 2,     1.07, 2,     0.00, 2,     0.00, 2,     0.18, 2,    1.743, 2,    0.855, 2,   2056.5, 2,   -999.0, 9,   -999.0, 9,  24.0145,   -999.0, 9, -999.000, 9
316N19871218, SAVE2, 68, 1, 2, 2, 2, 19880102, 2241, -12.0050, 2.0050, 5539,  -999.00,     23.4,  23.8547,  36.2982, 2,  36.2990, 2,   -999.0, 9,    214.0, 2,     0.98, 2,     0.00, 2,     0.00, 2,     0.18, 2,    1.759, 2,    0.863, 2,   2055.0, 2,   -999.0, 9,   -999.0, 9,  23.8498,   -999.0, 9, -999.000, 9
316N19871218, SAVE2, 68, 1, 3, 3, 2, 19880102, 2241, -12.0050, 2.0050, 5539,  -999.00,     39.1,  20.3832,  36.1579, 2,  36.1700, 2,   -999.0, 9,    245.6, 2,     0.78, 2,     0.00, 2,     0.02, 2,     0.24, 2,    1.963, 2,    0.952, 2,   2064.0, 2,   -999.0, 9,   -999.0, 9,  20.3758,   -999.0, 9, -999.000, 9
316N19871218, SAVE2, 68, 1, 4, 4, 2, 19880102, 2241, -12.0050, 2.0050, 5539,  -999.00,     74.5,  17.1017,  35.8880, 2,  35.8800, 2,   -999.0, 9,    124.9, 2,     4.39, 2,    15.62, 2,     0.21, 2,     1.13, 2, -999.000, 9, -999.000, 9,   2161.5, 2,   -999.0, 9,   -999.0, 9,  17.0894,   -999.0, 9, -999.000, 9
316N19871218, SAVE2, 68, 1, 5, 5, 2, 19880102, 2241, -12.0050, 2.0050, 5539,  -999.00,     94.7,  14.3753,  35.4942, 2,  35.4930, 2,   -999.0, 9,     77.4, 2,     7.62, 2,    23.74, 2,     0.03, 2,     1.57, 2,    0.900, 2,    0.439, 2,   2202.2, 2,   -999.0, 9,   -999.0, 9,  14.3614,   -999.0, 9, -999.000, 9
316N19871218, SAVE2, 68, 1, 6, 6, 2, 19880102, 2241, -12.0050, 2.0050, 5539,  -999.00,    107.0,  13.4677,  35.3593, 2,  35.3530, 2,   -999.0, 9,     69.2, 2,     9.28, 2,    25.99, 2,     0.01, 2,     1.71, 2,    0.638, 2,    0.315, 2,   2208.6, 2,   -999.0, 9,   -999.0, 9,  13.4527,   -999.0, 9, -999.000, 9
316N19871218, SAVE2, 68, 1, 7, 7, 2, 19880102, 2241, -12.0050, 2.0050, 5539,  -999.00,    185.4,  11.6221,  35.1191, 2,  35.1180, 2,   -999.0, 9,     64.8, 2,    12.21, 2,    29.31, 2,     0.00, 2,     1.90, 2,    0.312, 2,    0.159, 2,   2220.0, 2,   -999.0, 9,   -999.0, 9,  11.5984,   -999.0, 9, -999.000, 9
316N19871218, SAVE2, 68, 1, 8, 8, 2, 19880102, 2241, -12.0050, 2.0050, 5539,  -999.00,    217.6,  11.2673,  35.0801, 2,  35.0790, 2,   -999.0, 9,     63.5, 2,    12.70, 2,    30.19, 2,     0.00, 2,     1.93, 2,    0.250, 2,    0.123, 2,   2222.7, 2,   -999.0, 9,   -999.0, 9,  11.2400,   -999.0, 9, -999.000, 9
316N19871218, SAVE2, 68, 1, 9, 9, 2, 19880102, 2241, -12.0050, 2.0050, 5539,  -999.00,    330.7,   9.8747,  34.9166, 2,  34.9180, 2,   -999.0, 9,     52.2, 2,    15.64, 2,    33.81, 2,     0.00, 2,     2.16, 2,    0.095, 2,    0.056, 2,   2240.7, 2,   -999.0, 9,   -999.0, 9,   9.8364,   -999.0, 9, -999.000, 9
316N19871218, SAVE2, 68, 1, 10, 10, 2, 19880102, 2241, -12.0050, 2.0050, 5539,  -999.00,    425.7,   8.8435,  34.8055, 2,  34.8040, 2,   -999.0, 9,     50.9, 2,    18.18, 2,    36.16, 2,     0.00, 2,     2.32, 2,    0.038, 2,    0.023, 2,   2251.8, 2,   -999.0, 9,   -999.0, 9,   8.7972,   -999.0, 9, -999.000, 9
316N19871218, SAVE2, 68, 1, 11, 11, 2, 19880102, 2241, -12.0050, 2.0050, 5539,  -999.00,    519.7,   7.6882,  34.6971, 2,  34.6950, 2,   -999.0, 9,     46.1, 2,    21.99, 2,    39.29, 2,     0.00, 2,     2.56, 2,    0.010, 2,    0.003, 2,   2262.3, 2,   -999.0, 9,   -999.0, 9,   7.6360,   -999.0, 9, -999.000, 9
316N19871218, SAVE2, 68, 1, 12, 12, 2, 19880102, 2241, -12.0050, 2.0050, 5539,  -999.00,    619.3,   6.5396,  34.5981, 2,  34.5990, 2,   -999.0, 9,     55.7, 2,    25.61, 2,    40.86, 2,     0.00, 2,     2.68, 2, -999.000, 9, -999.000, 9,   2266.8, 2,   -999.0, 9,   -999.0, 9,   6.4824,   -999.0, 9, -999.000, 9
316N19871218, SAVE2, 68, 1, 13, 13, 2, 19880102, 2241, -12.0050, 2.0050, 5539,  -999.00,    679.7,   5.9052,  34.5523, 2,  34.5510, 2,   -999.0, 9,     71.7, 2,    27.76, 2,    40.47, 2,     0.00, 2,     2.68, 2,    0.000, 2,    0.001, 2,   2256.7, 2,   -999.0, 9,   -999.0, 9,   5.8454,   -999.0, 9, -999.000, 9
316N19871218, SAVE2, 68, 1, 14, 14, 2, 19880102, 2241, -12.0050, 2.0050, 5539,  -999.00,    849.1,   4.7055,  34.5014, 2,  34.5000, 2,   -999.0, 9,    115.2, 2,    33.73, 2,    38.03, 2,     0.00, 2,     2.57, 2,    0.000, 2,    0.007, 2,   2253.8, 2,   -999.0, 9,   -999.0, 9,   4.6376,   -999.0, 9, -999.000, 9
316N19871218, SAVE2, 68, 1, 15, 15, 2, 19880102, 2241, -12.0050, 2.0050, 5539,  -999.00,    989.7,   4.2196,  34.5437, 2,  34.5410, 2,   -999.0, 9,    136.5, 2,    36.27, 2,    35.78, 2,     0.00, 2,     2.44, 2, -999.000, 9, -999.000, 9,   2246.6, 2,   -999.0, 9,   -999.0, 9,   4.1430,   -999.0, 9, -999.000, 9
316N19871218, SAVE2, 68, 1, 16, 16, 2, 19880102, 2241, -12.0050, 2.0050, 5539,  -999.00,   1109.5,   4.0272,  34.6174, 2,  34.6140, 2,   -999.0, 9,    149.1, 2,    36.66, 2,    33.82, 2,     0.00, 2,     2.33, 2, -999.000, 9, -999.000, 9,   2241.4, 2,   -999.0, 9,   -999.0, 9,   3.9419,   -999.0, 9, -999.000, 9
316N19871218, SAVE2, 68, 1, 17, 17, 2, 19880102, 2241, -12.0050, 2.0050, 5539,  -999.00,   1235.4,   3.8965,  34.7107, 2,  34.7090, 2,   -999.0, 9,    166.5, 2,    35.09, 2,    31.18, 2,     0.00, 2,     2.15, 2, -999.000, 9, -999.000, 9,   2232.9, 2,   -999.0, 9,   -999.0, 9,   3.8014,   -999.0, 9, -999.000, 9
316N19871218, SAVE2, 68, 1, 18, 18, 2, 19880102, 2241, -12.0050, 2.0050, 5539,  -999.00,   1419.9,   3.8309,  34.8342, 2,  34.8350, 2,   -999.0, 9,    188.6, 2,    31.08, 2,    27.46, 2,     0.00, 2,     1.89, 2, -999.000, 9, -999.000, 9,   2221.1, 2,   -999.0, 9,   -999.0, 9,   3.7200,   -999.0, 9, -999.000, 9
316N19871218, SAVE2, 68, 1, 19, 19, 2, 19880102, 2241, -12.0050, 2.0050, 5539,  -999.00,   1581.2,   3.7508,  34.8928, 2,  34.8970, 2,   -999.0, 9,    206.8, 2,    28.63, 2,    25.02, 2,     0.00, 2,     1.73, 2, -999.000, 9, -999.000, 9,   2205.9, 2,   -999.0, 9,   -999.0, 9,   3.6263,   -999.0, 9, -999.000, 9
316N19871218, SAVE2, 68, 1, 20, 20, 2, 19880102, 2241, -12.0050, 2.0050, 5539,  -999.00,   1728.4,   3.5991,  34.9170, 2,  34.9170, 2,   -999.0, 9,    215.5, 2,    28.24, 2,    23.84, 2,     0.00, 2,     1.63, 2, -999.000, 9,    0.001, 2,   2201.1, 2,   -999.0, 9,   -999.0, 9,   3.4630,   -999.0, 9, -999.000, 9
316N19871218, SAVE2, 68, 1, 21, 21, 2, 19880102, 2241, -12.0050, 2.0050, 5539,  -999.00,   1845.5,   3.3832,  34.9084, 2,  34.9070, 2,   -999.0, 9,    215.5, 2,    31.96, 2,    23.94, 2,     0.00, 2,     1.63, 2,    0.002, 2, -999.000, 9,   2206.9, 2,   -999.0, 9,   -999.0, 9,   3.2393,   -999.0, 9, -999.000, 9
316N19871218, SAVE2, 68, 1, 22, 22, 2, 19880102, 2241, -12.0050, 2.0050, 5539,  -999.00,   2109.0,   3.2100,  34.9250, 2,  34.9240, 2,   -999.0, 9,    225.1, 2,    32.35, 2,    22.87, 2,     0.00, 2,     1.55, 2, -999.000, 9, -999.000, 9,   2195.9, 2,   -999.0, 9,   -999.0, 9,   3.0442,   -999.0, 9, -999.000, 9
316N19871218, SAVE2, 68, 1, 23, 23, 2, 19880102, 2241, -12.0050, 2.0050, 5539,  -999.00,   2400.7,   2.9570,  34.9189, 2,  34.9170, 2,   -999.0, 9,    230.7, 2,    36.65, 2,    22.77, 2,     0.00, 2,     1.54, 2, -999.000, 9, -999.000, 9,   2201.8, 2,   -999.0, 9,   -999.0, 9,   2.7676,   -999.0, 9, -999.000, 9
316N19871218, SAVE2, 68, 1, 24, 24, 2, 19880102, 2241, -12.0050, 2.0050, 5539,  -999.00,   2705.2,   2.7654,  34.9108, 2,  34.9080, 2,   -999.0, 9,    232.9, 2,    41.14, 2,    22.87, 2,     0.00, 2,     1.54, 2, -999.000, 9, -999.000, 9,   2201.1, 2,   -999.0, 9,   -999.0, 9,   2.5498,   -999.0, 9, -999.000, 9
316N19871218, SAVE2, 68, 1, 25, 25, 2, 19880102, 2241, -12.0050, 2.0050, 5539,  -999.00,   2994.1,   2.6027,  34.9020, 2,  34.9030, 2,   -999.0, 9,    232.4, 2,    45.54, 2,    23.06, 2,     0.00, 2,     1.58, 2, -999.000, 9, -999.000, 9,   2207.3, 2,   -999.0, 9,   -999.0, 9,   2.3613,   -999.0, 9, -999.000, 9
316N19871218, SAVE2, 68, 1, 26, 26, 2, 19880102, 2241, -12.0050, 2.0050, 5539,  -999.00,   3249.5,   2.4823,  34.8970, 2,  34.8960, 2,   -999.0, 9,    227.7, 2,    49.84, 2,    23.45, 2,     0.00, 2,     1.61, 2, -999.000, 9, -999.000, 9,   2218.2, 2,   -999.0, 9,   -999.0, 9,   2.2171,   -999.0, 9, -999.000, 9
316N19871218, SAVE2, 68, 1, 27, 27, 2, 19880102, 2241, -12.0050, 2.0050, 5539,  -999.00,   3499.7,   2.3953,  34.8920, 2,  34.8910, 2,   -999.0, 9,    226.8, 2,    52.28, 2,    23.75, 2,     0.00, 2,     1.60, 2, -999.000, 9, -999.000, 9,   2222.4, 2,   -999.0, 9,   -999.0, 9,   2.1056,   -999.0, 9, -999.000, 9
316N19871218, SAVE2, 68, 1, 28, 28, 2, 19880102, 2241, -12.0050, 2.0050, 5539,  -999.00,   3705.4,   2.3610,  34.8907, 2,  34.8880, 2,   -999.0, 9,    230.7, 2,    51.80, 2,    23.45, 2,     0.00, 2,     1.58, 2, -999.000, 9, -999.000, 9,   2221.6, 2,   -999.0, 9,   -999.0, 9,   2.0497,   -999.0, 9, -999.000, 9
316N19871218, SAVE2, 68, 1, 29, 29, 2, 19880102, 2241, -12.0050, 2.0050, 5539,  -999.00,   3881.3,   2.3531,  34.8896, 2,  34.8870, 2,   -999.0, 9,    232.0, 2,    51.99, 2,    23.45, 2,     0.00, 2,     1.58, 2, -999.000, 9, -999.000, 9,   2220.5, 2,   -999.0, 9,   -999.0, 9,   2.0224,   -999.0, 9, -999.000, 9
316N19871218, SAVE2, 68, 1, 30, 30, 2, 19880102, 2241, -12.0050, 2.0050, 5539,  -999.00,   4191.0,   2.3580,  34.8873, 2,  34.8860, 2,   -999.0, 9,    233.7, 2,    52.77, 2,    23.45, 2,     0.00, 2,     1.58, 2, -999.000, 9, -999.000, 9,   2219.7, 2,   -999.0, 9,   -999.0, 9,   1.9917,   -999.0, 9, -999.000, 9
316N19871218, SAVE2, 68, 1, 31, 31, 2, 19880102, 2241, -12.0050, 2.0050, 5539,  -999.00,   4496.2,   2.3725,  34.8839, 2,  34.8840, 2,   -999.0, 9,    234.2, 2,    53.65, 2,    23.45, 2,     0.00, 2,     1.58, 2, -999.000, 9, -999.000, 9,   2222.3, 2,   -999.0, 9,   -999.0, 9,   1.9696,   -999.0, 9, -999.000, 9
316N19871218, SAVE2, 68, 1, 32, 32, 2, 19880102, 2241, -12.0050, 2.0050, 5539,  -999.00,   4747.3,   2.3891,  34.8824, 2,  34.8830, 2,   -999.0, 9,    235.5, 2,    53.26, 2,    23.36, 2,     0.00, 2,     1.58, 2, -999.000, 9, -999.000, 9,   2220.6, 2,   -999.0, 9,   -999.0, 9,   1.9551,   4770.8, 2,    2.386, 2
316N19871218, SAVE2, 68, 1, 33, 33, 2, 19880102, 2241, -12.0050, 2.0050, 5539,  -999.00,   4996.1,   2.4055,  34.8806, 2,  34.8820, 2,   -999.0, 9,    236.4, 2,    52.48, 2,    23.26, 2,     0.00, 2,     1.57, 2, -999.000, 9, -999.000, 9,   2217.7, 2,   -999.0, 9,   -999.0, 9,   1.9399,   -999.0, 9, -999.000, 9
316N19871218, SAVE2, 68, 1, 34, 34, 2, 19880102, 2241, -12.0050, 2.0050, 5539,  -999.00,   5292.7,   2.4303,  34.8785, 2,  34.8780, 2,   -999.0, 9,    237.7, 2,    52.28, 2,    23.16, 2,     0.00, 2,     1.55, 2, -999.000, 9, -999.000, 9,   2211.8, 2,   -999.0, 9,   -999.0, 9,   1.9258,   -999.0, 9, -999.000, 9
316N19871218, SAVE2, 68, 1, 35, 35, 2, 19880102, 2241, -12.0050, 2.0050, 5539,  -999.00,   5539.0,   2.4563,  34.8775, 2,  34.8770, 2,   -999.0, 9,    238.5, 2,    52.77, 2,    23.16, 2,     0.00, 2,     1.56, 2, -999.000, 9, -999.000, 9,   2218.1, 2,   -999.0, 9,   -999.0, 9,   1.9184,   5529.7, 2,    2.455, 2
316N19871218, SAVE2, 68, 1, 36, 36, 2, 19880102, 2241, -12.0050, 2.0050, 5539,  -999.00,   5677.1,   2.4731,  34.8771, 2,  34.8770, 2,   -999.0, 9,    238.5, 2,    53.46, 2,    23.16, 2,     0.00, 2,     1.57, 2, -999.000, 9,    0.003, 2,   2216.7, 2,   -999.0, 9,   -999.0, 9,   1.9161,   -999.0, 9, -999.000, 9