BOTTLE,20110114CCHDOSIODM
EXPOCODE,SECT_ID,STNNBR,CASTNO,SAMPNO,BTLNBR,BTLNBR_FLAG_W,DATE,TIME,LATITUDE,LONGITUDE,DEPTH,CTDRAW,CTDPRS,CTDTMP,CTDSAL,CTDSAL_FLAG_W,SALNTY,SALNTY_FLAG_W,CTDOXY,CTDOXY_FLAG_W,OXYGEN,OXYGEN_FLAG_W,SILCAT,SILCAT_FLAG_W,NITRAT,NITRAT_FLAG_W,NITRIT,NITRIT_FLAG_W,PHSPHT,PHSPHT_FLAG_W,CFC-11,CFC-11_FLAG_W,CFC-12,CFC-12_FLAG_W,TCARBN,TCARBN_FLAG_W,ALKALI,ALKALI_FLAG_W,PCO2,PCO2_FLAG_W,THETA,REVPRS,REVPRS_FLAG_W,REVTMP,REVTMP_FLAG_W
,,,,,,,,,,,METERS,DBAR,DBAR,ITS-68,PSS-78,,PSS-78,,UMOL/KG,,UMOL/KG,,UMOL/KG,,UMOL/KG,,UMOL/KG,,UMOL/KG,,PMOL/KG,,PMOL/KG,,UMOL/KG,,UMOL/KG,,UATM,,DEG C,DBAR,,ITS-68,
316N19871218, SAVE2, 47, 1, 1, 1, 2, 19871221, 1650, -0.2817, -0.5067, 4917,  -999.00,      0.6,  27.4005,  35.0612, 2,  35.0640, 2,   -999.0, 9,    202.2, 2,     0.98, 2,     0.10, 2,     0.00, 2,     0.04, 2,    1.417, 2,    0.747, 2,   1960.4, 2,   -999.0, 9,   -999.0, 9,  27.4003,   -999.0, 9, -999.000, 9
316N19871218, SAVE2, 47, 1, 2, 2, 2, 19871221, 1650, -0.2817, -0.5067, 4917,  -999.00,     16.2,  27.3575,  35.0760, 2,  35.0780, 2,   -999.0, 9,    202.6, 2,     0.98, 2,     0.10, 2,     0.00, 2,     0.05, 2, -999.000, 9, -999.000, 9,   1961.3, 2,   -999.0, 9,   -999.0, 9,  27.3537,   -999.0, 9, -999.000, 9
316N19871218, SAVE2, 47, 1, 3, 3, 2, 19871221, 1650, -0.2817, -0.5067, 4917,  -999.00,     38.3,  24.6681,  35.8615, 2,  35.8310, 2,   -999.0, 9,    192.8, 2,     1.17, 2,     1.27, 2,     0.14, 2,     0.21, 2, -999.000, 9, -999.000, 9,   2043.3, 2,   -999.0, 9,   -999.0, 9,  24.6598,   -999.0, 9, -999.000, 9
316N19871218, SAVE2, 47, 1, 4, 4, 2, 19871221, 1650, -0.2817, -0.5067, 4917,  -999.00,     48.6,  22.7040,  36.1266, 2,  36.1220, 2,   -999.0, 9,    169.1, 2,     1.95, 2,     4.98, 2,     0.40, 2,     0.48, 2, -999.000, 9, -999.000, 9,   2090.6, 2,   -999.0, 9,   -999.0, 9,  22.6941,   -999.0, 9, -999.000, 9
316N19871218, SAVE2, 47, 1, 5, 5, 2, 19871221, 1650, -0.2817, -0.5067, 4917,  -999.00,     59.4,  18.1591,  35.9592, 2,  35.9620, 2,   -999.0, 9,    145.4, 2,     4.10, 2,    11.52, 2,     0.10, 2,     0.87, 2, -999.000, 9, -999.000, 9,   2162.9, 2,   -999.0, 9,   -999.0, 9,  18.1488,   -999.0, 9, -999.000, 9
316N19871218, SAVE2, 47, 1, 6, 6, 2, 19871221, 1650, -0.2817, -0.5067, 4917,  -999.00,     69.8,  16.8003,  35.7923, 2, -999.0000, 9,   -999.0, 9,   -999.0, 9,  -999.00, 9,  -999.00, 9,  -999.00, 9,  -999.00, 9,    1.091, 2,    0.561, 2,   2155.6, 2,   -999.0, 9,   -999.0, 9,  16.7888,   -999.0, 9, -999.000, 9
316N19871218, SAVE2, 47, 1, 7, 7, 2, 19871221, 1650, -0.2817, -0.5067, 4917,  -999.00,    120.2,  14.7426,  35.5214, 2,  35.5200, 2,   -999.0, 9,    144.4, 2,     6.54, 2,    15.73, 2,     0.02, 2,     1.10, 2,    1.112, 2,    0.534, 2,   2162.4, 2,   -999.0, 9,   -999.0, 9,  14.7246,   -999.0, 9, -999.000, 9
316N19871218, SAVE2, 47, 1, 8, 8, 2, 19871221, 1650, -0.2817, -0.5067, 4917,  -999.00,    185.3,  14.1438,  35.4320, 2,  35.4330, 2,   -999.0, 9,    127.5, 2,     7.82, 2,    18.56, 2,     0.01, 2,     1.27, 2,    0.944, 2,    0.468, 2,   2169.3, 2,   -999.0, 9,   -999.0, 9,  14.1167,   -999.0, 9, -999.000, 9
316N19871218, SAVE2, 47, 1, 9, 9, 2, 19871221, 1650, -0.2817, -0.5067, 4917,  -999.00,    245.7,  13.5549,  35.3542, 2,  35.3520, 2,   -999.0, 9,    129.2, 2,     8.21, 2,    19.44, 2,     0.01, 2,     1.31, 2,    0.887, 2,    0.436, 2,   2170.4, 2,   -999.0, 9,   -999.0, 9,  13.5200,   -999.0, 9, -999.000, 9
316N19871218, SAVE2, 47, 1, 10, 10, 2, 19871221, 1650, -0.2817, -0.5067, 4917,  -999.00,    275.9,  11.2895,  35.0993, 2,  35.1010, 2,   -999.0, 9,     68.3, 2,    13.48, 2,    29.61, 2,     0.00, 2,     1.87, 2,    0.302, 2,    0.150, 2,   2224.1, 2,   -999.0, 9,   -999.0, 9,  11.2548,   -999.0, 9, -999.000, 9
316N19871218, SAVE2, 47, 1, 11, 11, 2, 19871221, 1650, -0.2817, -0.5067, 4917,  -999.00,    295.7,   9.9050,  34.9386, 2,  34.9380, 2,   -999.0, 9,     65.7, 2,    15.93, 2,    32.64, 2,     0.00, 2,     2.04, 2,    0.183, 2,    0.082, 2,   2232.1, 2,   -999.0, 9,   -999.0, 9,   9.8707,   -999.0, 9, -999.000, 9
316N19871218, SAVE2, 47, 1, 12, 12, 2, 19871221, 1650, -0.2817, -0.5067, 4917,  -999.00,    441.1,   7.4339,  34.6643, 2,  34.6630, 2,   -999.0, 9,    112.6, 2,    20.43, 2,    33.04, 2,     0.00, 2,     2.15, 2,    0.129, 2,    0.061, 2,   2236.7, 2,   -999.0, 9,   -999.0, 9,   7.3907,   -999.0, 9, -999.000, 9
316N19871218, SAVE2, 47, 1, 13, 13, 2, 19871221, 1650, -0.2817, -0.5067, 4917,  -999.00,    576.5,   6.3554,  34.5682, 2,  34.5690, 2,   -999.0, 9,    133.0, 2,    23.75, 2,    33.14, 2,     0.00, 2,     2.21, 2,    0.081, 2,    0.046, 2,   2215.0, 2,   -999.0, 9,   -999.0, 9,   6.3031,   -999.0, 9, -999.000, 9
316N19871218, SAVE2, 47, 1, 14, 14, 2, 19871221, 1650, -0.2817, -0.5067, 4917,  -999.00,    701.7,   5.4049,  34.5153, 2,  34.5160, 2,   -999.0, 9,    134.3, 2,    28.45, 2,    34.80, 2,     0.00, 2,     2.34, 2,    0.022, 2,    0.021, 2,   2225.0, 2,   -999.0, 9,   -999.0, 9,   5.3457,   -999.0, 9, -999.000, 9
316N19871218, SAVE2, 47, 1, 15, 15, 2, 19871221, 1650, -0.2817, -0.5067, 4917,  -999.00,    761.8,   4.9181,  34.5047, 2,  34.5070, 2,   -999.0, 9,    145.6, 2,    30.69, 2,    34.41, 2,     0.00, 2,     2.35, 2,    0.015, 2,    0.005, 2,   2224.8, 2,   -999.0, 9,   -999.0, 9,   4.8564,   -999.0, 9, -999.000, 9
316N19871218, SAVE2, 47, 1, 16, 16, 2, 19871221, 1650, -0.2817, -0.5067, 4917,  -999.00,    851.8,   4.6202,  34.5252, 2,  34.5230, 2,   -999.0, 9,    149.1, 2,    32.55, 2,    34.31, 2,     0.00, 2,     2.33, 2,    0.004, 2,    0.005, 2,   2229.0, 2,   -999.0, 9,   -999.0, 9,   4.5526,   -999.0, 9, -999.000, 9
316N19871218, SAVE2, 47, 1, 17, 17, 2, 19871221, 1650, -0.2817, -0.5067, 4917,  -999.00,    927.6,   4.4743,  34.5627, 2,  34.5630, 2,   -999.0, 9,    152.6, 2,    33.24, 2,    33.82, 2,     0.00, 2,     2.30, 2, -999.000, 9, -999.000, 9,   2228.5, 2,   -999.0, 9,   -999.0, 9,   4.4012,   -999.0, 9, -999.000, 9
316N19871218, SAVE2, 47, 1, 18, 18, 2, 19871221, 1650, -0.2817, -0.5067, 4917,  -999.00,   1098.6,   4.4144,  34.6713, 2,  34.6740, 2,   -999.0, 9,    162.6, 2,    31.08, 2,    31.57, 2,     0.00, 2,     2.14, 2, -999.000, 9, -999.000, 9,   2220.9, 2,   -999.0, 9,   -999.0, 9,   4.3266,   -999.0, 9, -999.000, 9
316N19871218, SAVE2, 47, 1, 19, 19, 2, 19871221, 1650, -0.2817, -0.5067, 4917,  -999.00,   1249.5,   4.4283,  34.8439, 2,  34.8510, 2,   -999.0, 9,    189.5, 2,    25.12, 2,    27.07, 2,     0.00, 2,     1.82, 2, -999.000, 9, -999.000, 9,   2204.8, 2,   -999.0, 9,   -999.0, 9,   4.3267,   -999.0, 9, -999.000, 9
316N19871218, SAVE2, 47, 1, 20, 20, 2, 19871221, 1650, -0.2817, -0.5067, 4917,  -999.00,   1521.5,   4.0795,  34.9633, 2,  34.9650, 2,   -999.0, 9,    234.2, 2,    19.06, 2,    21.40, 2,     0.00, 2,     1.42, 2,    0.007, 2,    0.006, 2,   2174.0, 2,   -999.0, 9,   -999.0, 9,   3.9565,   -999.0, 9, -999.000, 9
316N19871218, SAVE2, 47, 1, 21, 21, 2, 19871221, 1650, -0.2817, -0.5067, 4917,  -999.00,   1748.3,   3.9576,  34.9743, 2,  34.9750, 2,   -999.0, 9,    243.8, 2,    18.08, 2,    20.33, 2,     0.00, 2,     1.33, 2,    0.014, 2,    0.009, 2,   2174.6, 2,   -999.0, 9,   -999.0, 9,   3.8149,   -999.0, 9, -999.000, 9
316N19871218, SAVE2, 47, 1, 22, 22, 2, 19871221, 1650, -0.2817, -0.5067, 4917,  -999.00,   2101.7,   3.3629,  34.9520, 2,  34.9540, 2,   -999.0, 9,    246.4, 2,    24.72, 2,    20.62, 2,     0.00, 2,     1.36, 2, -999.000, 9,    0.004, 2,   2181.1, 2,   -999.0, 9,   -999.0, 9,   3.1953,   -999.0, 9, -999.000, 9
316N19871218, SAVE2, 47, 1, 23, 23, 2, 19871221, 1650, -0.2817, -0.5067, 4917,  -999.00,   2298.7,   3.1420,  34.9410, 2,  34.9430, 2,   -999.0, 9,    246.4, 2,    28.44, 2,    20.91, 2,     0.00, 2,     1.37, 2, -999.000, 9, -999.000, 9,   2183.1, 2,   -999.0, 9,   -999.0, 9,   2.9592,   -999.0, 9, -999.000, 9
316N19871218, SAVE2, 47, 1, 24, 24, 2, 19871221, 1650, -0.2817, -0.5067, 4917,  -999.00,   2440.4,   3.0031,  34.9320, 2,  34.9330, 2,   -999.0, 9,    244.6, 2,    31.56, 2,    21.30, 2,     0.00, 2,     1.40, 2, -999.000, 9, -999.000, 9,   2185.2, 2,   -999.0, 9,   -999.0, 9,   2.8090,   -999.0, 9, -999.000, 9
316N19871218, SAVE2, 47, 1, 25, 25, 2, 19871221, 1650, -0.2817, -0.5067, 4917,  -999.00,   2728.3,   2.8222,  34.9209, 2,  34.9210, 2,   -999.0, 9,    242.9, 2,    35.96, 2,    21.69, 2,     0.00, 2,     1.44, 2, -999.000, 9, -999.000, 9,   2195.3, 2,   -999.0, 9,   -999.0, 9,   2.6031,   -999.0, 9, -999.000, 9
316N19871218, SAVE2, 47, 1, 26, 26, 2, 19871221, 1650, -0.2817, -0.5067, 4917,  -999.00,   2898.8,   2.7113,  34.9139, 2,  34.9130, 2,   -999.0, 9,    240.7, 2,    38.80, 2,    22.09, 2,     0.00, 2,     1.48, 2, -999.000, 9, -999.000, 9,   2194.5, 2,   -999.0, 9,   -999.0, 9,   2.4772,   -999.0, 9, -999.000, 9
316N19871218, SAVE2, 47, 1, 27, 27, 2, 19871221, 1650, -0.2817, -0.5067, 4917,  -999.00,   3153.6,   2.5753,  34.9061, 2,  34.9060, 2,   -999.0, 9,    243.3, 2,    40.75, 2,    22.09, 2,     0.00, 2,     1.47, 2, -999.000, 9, -999.000, 9,   2202.8, 2,   -999.0, 9,   -999.0, 9,   2.3180,   -999.0, 9, -999.000, 9
316N19871218, SAVE2, 47, 1, 28, 28, 2, 19871221, 1650, -0.2817, -0.5067, 4917,  -999.00,   3387.4,   2.4764,  34.8992, 2,  34.9000, 2,   -999.0, 9,    243.3, 2,    43.00, 2,    22.18, 2,     0.00, 2,     1.49, 2, -999.000, 9, -999.000, 9,   2202.8, 2,   -999.0, 9,   -999.0, 9,   2.1968,   -999.0, 9, -999.000, 9
316N19871218, SAVE2, 47, 1, 29, 29, 2, 19871221, 1650, -0.2817, -0.5067, 4917,  -999.00,   3605.5,   2.4134,  34.8941, 2,  34.8940, 2,   -999.0, 9,    243.3, 2,    44.86, 2,    22.38, 2,     0.00, 2,     1.50, 2, -999.000, 9, -999.000, 9,   2201.0, 2,   -999.0, 9,   -999.0, 9,   2.1118,   -999.0, 9, -999.000, 9
316N19871218, SAVE2, 47, 1, 30, 30, 2, 19871221, 1650, -0.2817, -0.5067, 4917,  -999.00,   3814.5,   2.3725,  34.8891, 2,  34.8890, 2,   -999.0, 9,    244.6, 2,    45.83, 2,    22.38, 2,     0.00, 2,     1.49, 2, -999.000, 9, -999.000, 9,   2204.4, 2,   -999.0, 9,   -999.0, 9,   2.0488,   -999.0, 9, -999.000, 9
316N19871218, SAVE2, 47, 1, 31, 31, 2, 19871221, 1650, -0.2817, -0.5067, 4917,  -999.00,   4073.5,   2.3205,  34.8825, 2,  34.8840, 2,   -999.0, 9,    244.2, 2,    47.59, 2,    22.58, 2,     0.00, 2,     1.50, 2, -999.000, 9, -999.000, 9,   2205.2, 2,   -999.0, 9,   -999.0, 9,   1.9689,   -999.0, 9, -999.000, 9
316N19871218, SAVE2, 47, 1, 32, 32, 2, 19871221, 1650, -0.2817, -0.5067, 4917,  -999.00,   4329.1,   2.2715,  34.8775, 2,  34.8780, 2,   -999.0, 9,    244.2, 2,    49.35, 2,    22.67, 2,     0.00, 2,     1.50, 2, -999.000, 9, -999.000, 9,   2205.9, 2,   -999.0, 9,   -999.0, 9,   1.8917,   4359.5, 2,    2.265, 2
316N19871218, SAVE2, 47, 1, 33, 33, 2, 19871221, 1650, -0.2817, -0.5067, 4917,  -999.00,   4329.4,   2.2715,  34.8773, 2, -999.0000, 9,   -999.0, 9,   -999.0, 9,  -999.00, 9,  -999.00, 9,  -999.00, 9,  -999.00, 9, -999.000, 9, -999.000, 9,   -999.0, 9,   -999.0, 9,   -999.0, 9,   1.8917,   -999.0, 9, -999.000, 9
316N19871218, SAVE2, 47, 1, 34, 34, 2, 19871221, 1650, -0.2817, -0.5067, 4917,  -999.00,   4584.2,   2.2285,  34.8696, 2,  34.8730, 2,   -999.0, 9,    242.0, 2,    51.80, 2,    22.97, 2,     0.00, 2,     1.53, 2, -999.000, 9, -999.000, 9,   2210.1, 2,   -999.0, 9,   -999.0, 9,   1.8197,   -999.0, 9, -999.000, 9
316N19871218, SAVE2, 47, 1, 35, 35, 2, 19871221, 1650, -0.2817, -0.5067, 4917,  -999.00,   4841.1,   2.2026,  34.8657, 2,  34.8640, 2,   -999.0, 9,    241.1, 2,    54.73, 2,    23.36, 2,     0.00, 2,     1.55, 2, -999.000, 9, -999.000, 9,   2218.2, 2,   -999.0, 9,   -999.0, 9,   1.7631,   4834.4, 2,    2.200, 2
316N19871218, SAVE2, 47, 1, 36, 36, 2, 19871221, 1650, -0.2817, -0.5067, 4917,  -999.00,   5017.5,   2.1876,  34.8603, 2,  34.8610, 2,   -999.0, 9,    239.0, 2,    57.17, 2,    23.65, 2,     0.00, 2,     1.58, 2, -999.000, 9, -999.000, 9,   2224.0, 2,   -999.0, 9,   -999.0, 9,   1.7267,   -999.0, 9, -999.000, 9