BOTTLE,20110114CCHDOSIODM
EXPOCODE,SECT_ID,STNNBR,CASTNO,SAMPNO,BTLNBR,BTLNBR_FLAG_W,DATE,TIME,LATITUDE,LONGITUDE,DEPTH,CTDRAW,CTDPRS,CTDTMP,CTDSAL,CTDSAL_FLAG_W,SALNTY,SALNTY_FLAG_W,CTDOXY,CTDOXY_FLAG_W,OXYGEN,OXYGEN_FLAG_W,SILCAT,SILCAT_FLAG_W,NITRAT,NITRAT_FLAG_W,NITRIT,NITRIT_FLAG_W,PHSPHT,PHSPHT_FLAG_W,CFC-11,CFC-11_FLAG_W,CFC-12,CFC-12_FLAG_W,TCARBN,TCARBN_FLAG_W,ALKALI,ALKALI_FLAG_W,PCO2,PCO2_FLAG_W,THETA,REVPRS,REVPRS_FLAG_W,REVTMP,REVTMP_FLAG_W
,,,,,,,,,,,METERS,DBAR,DBAR,ITS-68,PSS-78,,PSS-78,,UMOL/KG,,UMOL/KG,,UMOL/KG,,UMOL/KG,,UMOL/KG,,UMOL/KG,,PMOL/KG,,PMOL/KG,,UMOL/KG,,UMOL/KG,,UATM,,DEG C,DBAR,,ITS-68,
316N19871218, SAVE2, 57, 1, 1, 1, 2, 19871228, 0842, -9.3333, 11.3667, 2400,  -999.00,      3.5,  26.9504,  35.7889, 2,  35.7900, 2,   -999.0, 9,    206.0, 2,     1.46, 2,     0.10, 2,     0.00, 2,     0.19, 2,    1.502, 2,    0.781, 2,   1975.7, 2,   -999.0, 9,   -999.0, 9,  26.9496,   -999.0, 9, -999.000, 9
316N19871218, SAVE2, 57, 1, 2, 2, 2, 19871228, 0842, -9.3333, 11.3667, 2400,  -999.00,      9.8,  26.8374,  35.7865, 2,  35.7880, 2,   -999.0, 9,    205.5, 2,     1.46, 2,     0.10, 2,     0.00, 2,     0.19, 2, -999.000, 9, -999.000, 9,   2034.4, 2,   -999.0, 9,   -999.0, 9,  26.8351,   -999.0, 9, -999.000, 9
316N19871218, SAVE2, 57, 1, 3, 3, 2, 19871228, 0842, -9.3333, 11.3667, 2400,  -999.00,     15.4,  23.9850,  35.8381, 2,  35.8040, 2,   -999.0, 9,    263.4, 2,     0.98, 2,     0.10, 2,     0.00, 2,     0.22, 2, -999.000, 9, -999.000, 9,   -999.0, 9,   -999.0, 9,   -999.0, 9,  23.9818,   -999.0, 9, -999.000, 9
316N19871218, SAVE2, 57, 1, 4, 4, 2, 19871228, 0842, -9.3333, 11.3667, 2400,  -999.00,     20.3,  20.5310,  35.7515, 2,  35.7260, 2,   -999.0, 9,    320.6, 2,     0.78, 2,     0.10, 2,     0.00, 2,     0.19, 2,    1.079, 2,    0.538, 2,   2005.2, 2,   -999.0, 9,   -999.0, 9,  20.5271,   -999.0, 9, -999.000, 9
316N19871218, SAVE2, 57, 1, 5, 5, 2, 19871228, 0842, -9.3333, 11.3667, 2400,  -999.00,     26.3,  18.8641,  35.6691, 2,  35.6630, 2,   -999.0, 9,    301.8, 2,     0.98, 2,     2.54, 2,     0.04, 2,     0.30, 2, -999.000, 9, -999.000, 9,   2024.2, 2,   -999.0, 9,   -999.0, 9,  18.8594,   -999.0, 9, -999.000, 9
316N19871218, SAVE2, 57, 1, 6, 6, 2, 19871228, 0842, -9.3333, 11.3667, 2400,  -999.00,     39.2,  16.6653,  35.6449, 2,  35.6400, 2,   -999.0, 9,     85.3, 2,     6.45, 2,    18.66, 2,     0.27, 2,     1.37, 2, -999.000, 9, -999.000, 9,   2187.4, 2,   -999.0, 9,   -999.0, 9,  16.6589,   -999.0, 9, -999.000, 9
316N19871218, SAVE2, 57, 1, 7, 7, 2, 19871228, 0842, -9.3333, 11.3667, 2400,  -999.00,     54.3,  15.8754,  35.6066, 2,  35.6040, 2,   -999.0, 9,     59.6, 2,     8.01, 2,    22.66, 2,     0.20, 2,     1.54, 2,    0.929, 2,    0.471, 2,   2210.4, 2,   -999.0, 9,   -999.0, 9,  15.8669,   -999.0, 9, -999.000, 9
316N19871218, SAVE2, 57, 1, 8, 8, 2, 19871228, 0842, -9.3333, 11.3667, 2400,  -999.00,     72.7,  15.4305,  35.5748, 2,  35.5760, 2,   -999.0, 9,     69.6, 2,     8.40, 2,    22.76, 2,     0.04, 2,     1.53, 2, -999.000, 9, -999.000, 9,   2199.7, 2,   -999.0, 9,   -999.0, 9,  15.4193,   -999.0, 9, -999.000, 9
316N19871218, SAVE2, 57, 1, 9, 9, 2, 19871228, 0842, -9.3333, 11.3667, 2400,  -999.00,     84.7,  15.1885,  35.5452, 2,  35.5390, 2,   -999.0, 9,     65.7, 2,     8.40, 2,    23.83, 2,     0.02, 2,     1.58, 2, -999.000, 9, -999.000, 9,   2206.0, 2,   -999.0, 9,   -999.0, 9,  15.1756,   -999.0, 9, -999.000, 9
316N19871218, SAVE2, 57, 1, 10, 10, 2, 19871228, 0842, -9.3333, 11.3667, 2400,  -999.00,    103.1,  14.9406,  35.5140, 2,  35.5140, 2,   -999.0, 9,     63.1, 2,     8.79, 2,    24.42, 2,     0.02, 2,     1.60, 2,    0.781, 2,    0.384, 2,   2210.5, 2,   -999.0, 9,   -999.0, 9,  14.9250,   -999.0, 9, -999.000, 9
316N19871218, SAVE2, 57, 1, 11, 11, 2, 19871228, 0842, -9.3333, 11.3667, 2400,  -999.00,    163.4,  14.0498,  35.4085, 2,  35.4080, 2,   -999.0, 9,     64.4, 2,     9.67, 2,    25.69, 2,     0.01, 2,     1.66, 2, -999.000, 9, -999.000, 9,   2208.1, 2,   -999.0, 9,   -999.0, 9,  14.0261,   -999.0, 9, -999.000, 9
316N19871218, SAVE2, 57, 1, 12, 12, 2, 19871228, 0842, -9.3333, 11.3667, 2400,  -999.00,    213.7,  13.2190,  35.3055, 2,  35.3080, 2,   -999.0, 9,     59.6, 2,    10.84, 2,    27.36, 2,     0.01, 2,     1.77, 2,    0.491, 2,    0.247, 2,   2217.2, 2,   -999.0, 9,   -999.0, 9,  13.1892,   -999.0, 9, -999.000, 9
316N19871218, SAVE2, 57, 1, 13, 13, 2, 19871228, 0842, -9.3333, 11.3667, 2400,  -999.00,    253.9,  12.3842,  35.2038, 2,  35.2150, 2,   -999.0, 9,     52.2, 2,    11.92, 2,    29.41, 2,     0.01, 2,     1.88, 2, -999.000, 9, -999.000, 9,   2231.3, 2,   -999.0, 9,   -999.0, 9,  12.3502,   -999.0, 9, -999.000, 9
316N19871218, SAVE2, 57, 1, 14, 14, 2, 19871228, 0842, -9.3333, 11.3667, 2400,  -999.00,    288.8,  11.6354,  35.1155, 2,  35.1240, 2,   -999.0, 9,     49.1, 2,    13.00, 2,    31.07, 2,     0.01, 2,     1.97, 2,    0.252, 2,    0.123, 2,   2231.5, 2,   -999.0, 9,   -999.0, 9,  11.5983,   -999.0, 9, -999.000, 9
316N19871218, SAVE2, 57, 1, 15, 15, 2, 19871228, 0842, -9.3333, 11.3667, 2400,  -999.00,    314.1,  11.1906,  35.0666, 2,  35.0660, 2,   -999.0, 9,     39.6, 2,    14.27, 2,    32.93, 2,     0.01, 2,     2.08, 2, -999.000, 9, -999.000, 9,   2240.6, 2,   -999.0, 9,   -999.0, 9,  11.1512,   -999.0, 9, -999.000, 9
316N19871218, SAVE2, 57, 1, 16, 16, 2, 19871228, 0842, -9.3333, 11.3667, 2400,  -999.00,    358.1,  10.3248,  34.9685, 2,  34.9710, 2,   -999.0, 9,     31.3, 2,    15.93, 2,    35.18, 2,     0.01, 2,     2.23, 2,    0.105, 2,    0.060, 2,   2253.4, 2,   -999.0, 9,   -999.0, 9,  10.2821,   -999.0, 9, -999.000, 9
316N19871218, SAVE2, 57, 1, 17, 17, 2, 19871228, 0842, -9.3333, 11.3667, 2400,  -999.00,    413.0,   9.0263,  34.8340, 2,  34.8370, 2,   -999.0, 9,     23.0, 2,    19.64, 2,    38.70, 2,     0.00, 2,     2.46, 2, -999.000, 9, -999.000, 9,   2270.7, 2,   -999.0, 9,   -999.0, 9,   8.9809,   -999.0, 9, -999.000, 9
316N19871218, SAVE2, 57, 1, 18, 18, 2, 19871228, 0842, -9.3333, 11.3667, 2400,  -999.00,    433.0,   8.6005,  34.7913, 2,  34.7910, 2,   -999.0, 9,     23.0, 2,    20.52, 2,    39.68, 2,     0.00, 2,     2.53, 2,    0.029, 2,    0.016, 2,   2272.7, 2,   -999.0, 9,   -999.0, 9,   8.5542,   -999.0, 9, -999.000, 9
316N19871218, SAVE2, 57, 1, 19, 19, 2, 19871228, 0842, -9.3333, 11.3667, 2400,  -999.00,    503.2,   7.4379,  34.6820, 2,  34.6850, 2,   -999.0, 9,     34.8, 2,    23.26, 2,    41.25, 2,     0.00, 2,     2.65, 2,    0.013, 2,    0.004, 2,   2269.0, 2,   -999.0, 9,   -999.0, 9,   7.3883,   -999.0, 9, -999.000, 9
316N19871218, SAVE2, 57, 1, 20, 20, 2, 19871228, 0842, -9.3333, 11.3667, 2400,  -999.00,    698.0,   5.4718,  34.5288, 2,  34.5280, 2,   -999.0, 9,     88.7, 2,    29.81, 2,    39.79, 2,     0.00, 2,     2.64, 2, -999.000, 9, -999.000, 9,   -999.0, 9,   -999.0, 9,   -999.0, 9,   5.4126,   -999.0, 9, -999.000, 9
316N19871218, SAVE2, 57, 1, 21, 21, 2, 19871228, 0842, -9.3333, 11.3667, 2400,  -999.00,    808.3,   4.8831,  34.5121, 2,  34.5120, 2,   -999.0, 9,    109.1, 2,    32.94, 2,    38.32, 2,     0.00, 2,     2.57, 2, -999.000, 9, -999.000, 9,   2250.6, 2,   -999.0, 9,   -999.0, 9,   4.8176,   -999.0, 9, -999.000, 9
316N19871218, SAVE2, 57, 1, 22, 22, 2, 19871228, 0842, -9.3333, 11.3667, 2400,  -999.00,    878.9,   4.5753,  34.5272, 2,  34.5280, 2,   -999.0, 9,    125.6, 2,    34.90, 2,    36.95, 2,     0.00, 2,     2.52, 2, -999.000, 9, -999.000, 9,   -999.0, 9,   -999.0, 9,   -999.0, 9,   4.5056,   -999.0, 9, -999.000, 9
316N19871218, SAVE2, 57, 1, 23, 23, 2, 19871228, 0842, -9.3333, 11.3667, 2400,  -999.00,    959.4,   4.3294,  34.5647, 2,  34.5650, 2,   -999.0, 9,    133.9, 2,    35.87, 2,    35.87, 2,     0.00, 2,     2.46, 2,    0.004, 2,    0.004, 2,   2244.9, 2,   -999.0, 9,   -999.0, 9,   4.2546,   -999.0, 9, -999.000, 9
316N19871218, SAVE2, 57, 1, 24, 24, 2, 19871228, 0842, -9.3333, 11.3667, 2400,  -999.00,    999.8,   4.2734,  34.5828, 2,  34.5820, 2,   -999.0, 9,    137.8, 2,    35.87, 2,    35.39, 2,     0.00, 2,     2.42, 2,    0.002, 2, -999.000, 9,   -999.0, 9,   -999.0, 9,   -999.0, 9,   4.1955,   -999.0, 9, -999.000, 9
316N19871218, SAVE2, 57, 1, 25, 25, 2, 19871228, 0842, -9.3333, 11.3667, 2400,  -999.00,   1159.0,   4.1115,  34.6989, 2,  34.6980, 2,   -999.0, 9,    157.8, 2,    33.62, 2,    32.16, 2,     0.00, 2,     2.20, 2,    0.004, 2, -999.000, 9,   2229.0, 2,   -999.0, 9,   -999.0, 9,   4.0211,   -999.0, 9, -999.000, 9
316N19871218, SAVE2, 57, 1, 26, 26, 2, 19871228, 0842, -9.3333, 11.3667, 2400,  -999.00,   1249.0,   4.0505,  34.7624, 2,  34.7630, 2,   -999.0, 9,    169.5, 2,    32.16, 2,    30.10, 2,     0.00, 2,     2.05, 2,    0.000, 2, -999.000, 9,   -999.0, 9,   -999.0, 9,   -999.0, 9,   3.9527,   -999.0, 9, -999.000, 9
316N19871218, SAVE2, 57, 1, 27, 27, 2, 19871228, 0842, -9.3333, 11.3667, 2400,  -999.00,   1401.4,   3.9766,  34.8608, 2,  34.8590, 2,   -999.0, 9,    193.8, 2,    27.95, 2,    26.68, 2,     0.00, 2,     1.81, 2,    0.004, 2, -999.000, 9,   2207.0, 2,   -999.0, 9,   -999.0, 9,   3.8658,   -999.0, 9, -999.000, 9
316N19871218, SAVE2, 57, 1, 28, 28, 2, 19871228, 0842, -9.3333, 11.3667, 2400,  -999.00,   1501.8,   3.9086,  34.8922, 2,  34.8930, 2,   -999.0, 9,    205.1, 2,    26.39, 2,    25.31, 2,     0.00, 2,     1.70, 2,    0.003, 2, -999.000, 9,   -999.0, 9,   -999.0, 9,   -999.0, 9,   3.7895,   -999.0, 9, -999.000, 9
316N19871218, SAVE2, 57, 1, 29, 29, 2, 19871228, 0842, -9.3333, 11.3667, 2400,  -999.00,   1616.6,   3.7717,  34.9163, 2,  34.9170, 2,   -999.0, 9,    216.4, 2,    25.60, 2,    23.94, 2,     0.00, 2,     1.62, 2,    0.010, 2,    0.004, 2,   2194.2, 2,   -999.0, 9,   -999.0, 9,   3.6437,   -999.0, 9, -999.000, 9
316N19871218, SAVE2, 57, 1, 30, 30, 2, 19871228, 0842, -9.3333, 11.3667, 2400,  -999.00,   1808.3,   3.6128,  34.9291, 2,  34.9290, 2,   -999.0, 9,    223.3, 2,    26.19, 2,    23.16, 2,     0.00, 2,     1.55, 2,    0.011, 2,    0.002, 2,   -999.0, 9,   -999.0, 9,   -999.0, 9,   3.4691,   -999.0, 9, -999.000, 9
316N19871218, SAVE2, 57, 1, 31, 31, 2, 19871228, 0842, -9.3333, 11.3667, 2400,  -999.00,   2000.3,   3.3789,  34.9365, 2,  34.9380, 2,   -999.0, 9,    230.7, 2,    28.54, 2,    22.28, 2,     0.00, 2,     1.51, 2, -999.000, 9, -999.000, 9,   2192.5, 2,   -999.0, 9,   -999.0, 9,   3.2207,   -999.0, 9, -999.000, 9
316N19871218, SAVE2, 57, 1, 32, 32, 2, 19871228, 0842, -9.3333, 11.3667, 2400,  -999.00,   2044.8,   3.3139,  34.9386, 2,  34.9360, 2,   -999.0, 9,    232.0, 2,    29.41, 2,    22.18, 2,     0.00, 2,     1.50, 2, -999.000, 9, -999.000, 9,   2189.8, 2,   -999.0, 9,   -999.0, 9,   3.1525,   2038.7, 2,    3.310, 2
316N19871218, SAVE2, 57, 1, 33, 33, 2, 19871228, 0842, -9.3333, 11.3667, 2400,  -999.00,   2111.7,   3.2290,  34.9333, 2,  34.9330, 2,   -999.0, 9,    229.0, 2,    31.76, 2,    22.38, 2,     0.00, 2,     1.51, 2, -999.000, 9, -999.000, 9,   -999.0, 9,   -999.0, 9,   -999.0, 9,   3.0626,   -999.0, 9, -999.000, 9
316N19871218, SAVE2, 57, 1, 34, 34, 2, 19871228, 0842, -9.3333, 11.3667, 2400,  -999.00,   2177.3,   3.2130,  34.9334, 2,  34.9350, 2,   -999.0, 9,    230.3, 2,    31.66, 2,    22.28, 2,     0.00, 2,     1.50, 2,    0.001, 2,    0.004, 2,   2197.2, 2,   -999.0, 9,   -999.0, 9,   3.0406,   -999.0, 9, -999.000, 9
316N19871218, SAVE2, 57, 1, 35, 35, 2, 19871228, 0842, -9.3333, 11.3667, 2400,  -999.00,   2279.4,   3.1610,  34.9317, 2,  34.9320, 2,   -999.0, 9,    230.7, 2,    32.54, 2,    22.18, 2,     0.00, 2,     1.50, 2,    0.000, 2,    0.004, 2,   -999.0, 9,   -999.0, 9,   -999.0, 9,   2.9797,   2267.4, 2,    3.158, 2
316N19871218, SAVE2, 57, 1, 36, 36, 2, 19871228, 0842, -9.3333, 11.3667, 2400,  -999.00,   2412.7,   3.0911,  34.9289, 2,  34.9310, 2,   -999.0, 9,    230.3, 2,    33.91, 2,    22.28, 2,     0.01, 2,     1.50, 2, -999.000, 9, -999.000, 9,   2202.0, 2,   -999.0, 9,   -999.0, 9,   2.8981,   -999.0, 9, -999.000, 9
316N19871218, SAVE2, 58, 1, 13, 13, 2, 19871228, 2006, -10.1733, 12.6617, 1431,  -999.00,      3.2,  24.2766,  35.8040, 2,  35.8120, 2,   -999.0, 9,    236.3, 2,     0.78, 2,     0.20, 2,     0.01, 2,     0.19, 2,    1.453, 2,    0.739, 2,   2022.6, 2,   -999.0, 9,   -999.0, 9,  24.2759,   -999.0, 9, -999.000, 9
316N19871218, SAVE2, 58, 1, 14, 14, 2, 19871228, 2006, -10.1733, 12.6617, 1431,  -999.00,      7.8,  24.1157,  35.8096, 2,  35.8020, 2,   -999.0, 9,    249.8, 2,     1.07, 2,     0.20, 2,     0.01, 2,     0.21, 2, -999.000, 9, -999.000, 9,   2022.9, 2,   -999.0, 9,   -999.0, 9,  24.1141,   -999.0, 9, -999.000, 9
316N19871218, SAVE2, 58, 1, 15, 15, 2, 19871228, 2006, -10.1733, 12.6617, 1431,  -999.00,     17.1,  21.3063,  35.8392, 2,  35.7960, 2,   -999.0, 9,    261.4, 2,     1.56, 2,     0.20, 2,     0.01, 2,     0.23, 2,    1.330, 2,    0.682, 2,   2024.5, 2,   -999.0, 9,   -999.0, 9,  21.3030,   -999.0, 9, -999.000, 9
316N19871218, SAVE2, 58, 1, 16, 16, 2, 19871228, 2006, -10.1733, 12.6617, 1431,  -999.00,     34.1,  17.4099,  35.6758, 2,  35.6890, 2,   -999.0, 9,    157.6, 2,     4.59, 2,    10.65, 2,     0.19, 2,     0.91, 2,    1.056, 2,    0.523, 2,   -999.0, 9,   -999.0, 9,   -999.0, 9,  17.4042,   -999.0, 9, -999.000, 9
316N19871218, SAVE2, 58, 1, 17, 17, 2, 19871228, 2006, -10.1733, 12.6617, 1431,  -999.00,     54.6,  16.5152,  35.6910, 2,  35.6880, 2,   -999.0, 9,     89.2, 2,     6.84, 2,    19.05, 2,     0.10, 2,     1.33, 2,    1.059, 2,    0.521, 2,   2182.8, 2,   -999.0, 9,   -999.0, 9,  16.5064,   -999.0, 9, -999.000, 9
316N19871218, SAVE2, 58, 1, 18, 18, 2, 19871228, 2006, -10.1733, 12.6617, 1431,  -999.00,     84.8,  15.8101,  35.6206, 2,  35.6190, 2,   -999.0, 9,     79.6, 2,     7.81, 2,    21.20, 2,     0.03, 2,     1.43, 2,    0.976, 2,    0.478, 2,   2189.3, 2,   -999.0, 9,   -999.0, 9,  15.7968,   -999.0, 9, -999.000, 9
316N19871218, SAVE2, 58, 1, 19, 19, 2, 19871228, 2006, -10.1733, 12.6617, 1431,  -999.00,    112.0,  15.3162,  35.5624, 2,  35.5570, 2,   -999.0, 9,     72.2, 2,     8.21, 2,    22.86, 2,     0.03, 2,     1.50, 2,    0.882, 2,    0.444, 2,   2196.0, 2,   -999.0, 9,   -999.0, 9,  15.2990,   -999.0, 9, -999.000, 9
316N19871218, SAVE2, 58, 1, 20, 20, 2, 19871228, 2006, -10.1733, 12.6617, 1431,  -999.00,    134.9,  14.9599,  35.5196, 2,  35.5180, 2,   -999.0, 9,     67.0, 2,     8.60, 2,    23.83, 2,     0.02, 2,     1.55, 2,    0.798, 2,    0.410, 2,   2203.5, 2,   -999.0, 9,   -999.0, 9,  14.9395,   -999.0, 9, -999.000, 9
316N19871218, SAVE2, 58, 1, 21, 21, 2, 19871228, 2006, -10.1733, 12.6617, 1431,  -999.00,    175.2,  14.5862,  35.4733, 2,  35.4720, 2,   -999.0, 9,     65.3, 2,     9.28, 2,    24.81, 2,     0.02, 2,     1.60, 2, -999.000, 9, -999.000, 9,   2208.1, 2,   -999.0, 9,   -999.0, 9,  14.5601,   -999.0, 9, -999.000, 9
316N19871218, SAVE2, 58, 1, 22, 22, 2, 19871228, 2006, -10.1733, 12.6617, 1431,  -999.00,    205.3,  14.1365,  35.4160, 2,  35.4130, 2,   -999.0, 9,     53.1, 2,    10.06, 2,    26.67, 2,     0.01, 2,     1.72, 2,    0.581, 2,    0.295, 2,   2218.9, 2,   -999.0, 9,   -999.0, 9,  14.1065,   -999.0, 9, -999.000, 9
316N19871218, SAVE2, 58, 1, 23, 23, 2, 19871228, 2006, -10.1733, 12.6617, 1431,  -999.00,    250.3,  13.4313,  35.3312, 2,  35.3310, 2,   -999.0, 9,     47.9, 2,    10.84, 2,    28.23, 2,     0.01, 2,     1.81, 2,    0.488, 2,    0.252, 2,   2227.3, 2,   -999.0, 9,   -999.0, 9,  13.3960,   -999.0, 9, -999.000, 9
316N19871218, SAVE2, 58, 1, 24, 24, 2, 19871228, 2006, -10.1733, 12.6617, 1431,  -999.00,    295.1,  12.4355,  35.2172, 2,  35.2140, 2,   -999.0, 9,     38.3, 2,    12.51, 2,    30.78, 2,     0.01, 2,     1.96, 2,    0.357, 2,    0.187, 2,   2238.4, 2,   -999.0, 9,   -999.0, 9,  12.3958,   -999.0, 9, -999.000, 9
316N19871218, SAVE2, 58, 1, 25, 25, 2, 19871228, 2006, -10.1733, 12.6617, 1431,  -999.00,    330.4,  11.1514,  35.0695, 2,  35.0670, 2,   -999.0, 9,     29.6, 2,    15.24, 2,    33.61, 2,     0.01, 2,     2.14, 2,    0.222, 2,    0.109, 2,   -999.0, 9,   -999.0, 9,   -999.0, 9,  11.1100,   -999.0, 9, -999.000, 9
316N19871218, SAVE2, 58, 1, 26, 26, 2, 19871228, 2006, -10.1733, 12.6617, 1431,  -999.00,    390.5,   8.8904,  34.8150, 2,  34.8150, 2,   -999.0, 9,     22.2, 2,    19.84, 2,    38.70, 2,     0.01, 2,     2.44, 2,    0.038, 2,    0.019, 2,   2273.6, 2,   -999.0, 9,   -999.0, 9,   8.8480,   -999.0, 9, -999.000, 9
316N19871218, SAVE2, 58, 1, 27, 27, 2, 19871228, 2006, -10.1733, 12.6617, 1431,  -999.00,    510.9,   7.4942,  34.6879, 2,  34.6890, 2,   -999.0, 9,     40.9, 2,    23.26, 2,    39.88, 2,     0.01, 2,     2.54, 2,    0.013, 2,    0.004, 2,   -999.0, 9,   -999.0, 9,   -999.0, 9,   7.4436,   -999.0, 9, -999.000, 9
316N19871218, SAVE2, 58, 1, 28, 28, 2, 19871228, 2006, -10.1733, 12.6617, 1431,  -999.00,    615.8,   6.4575,  34.5987, 2,  34.6010, 2,   -999.0, 9,     56.1, 2,    26.59, 2,    40.76, 2,     0.01, 2,     2.62, 2,    0.011, 2,    0.004, 2,   2268.5, 2,   -999.0, 9,   -999.0, 9,   6.4009,   -999.0, 9, -999.000, 9
316N19871218, SAVE2, 58, 1, 29, 29, 2, 19871228, 2006, -10.1733, 12.6617, 1431,  -999.00,    715.4,   5.5097,  34.5328, 2, -999.0000, 9,   -999.0, 9,     82.2, 2,    30.40, 2,    39.98, 2,     0.01, 2,     2.61, 2,    0.005, 2,    0.000, 2,   -999.0, 9,   -999.0, 9,   -999.0, 9,   5.4488,   -999.0, 9, -999.000, 9
316N19871218, SAVE2, 58, 1, 30, 30, 2, 19871228, 2006, -10.1733, 12.6617, 1431,  -999.00,    810.8,   4.8520,  34.5121, 2,  34.5120, 2,   -999.0, 9,    105.6, 2,    33.92, 2,    38.61, 2,     0.01, 2,     2.56, 2,    0.004, 2, -999.000, 9,   2255.6, 2,   -999.0, 9,   -999.0, 9,   4.7865,   -999.0, 9, -999.000, 9
316N19871218, SAVE2, 58, 1, 31, 31, 2, 19871228, 2006, -10.1733, 12.6617, 1431,  -999.00,    946.3,   4.2967,  34.5544, 2,  34.5550, 2,   -999.0, 9,    130.4, 2,    36.75, 2,    36.07, 2,     0.01, 2,     2.44, 2,    0.002, 2, -999.000, 9,   -999.0, 9,   -999.0, 9,   -999.0, 9,   4.2233,   -999.0, 9, -999.000, 9
316N19871218, SAVE2, 58, 1, 32, 32, 2, 19871228, 2006, -10.1733, 12.6617, 1431,  -999.00,   1051.6,   4.1829,  34.6321, 2,  34.6340, 2,   -999.0, 9,    146.5, 2,    34.99, 2,    33.72, 2,     0.01, 2,     2.29, 2, -999.000, 9, -999.000, 9,   2239.0, 2,   -999.0, 9,   -999.0, 9,   4.1012,   1054.0, 2,    4.178, 2
316N19871218, SAVE2, 58, 1, 33, 33, 2, 19871228, 2006, -10.1733, 12.6617, 1431,  -999.00,   1152.1,   4.0698,  34.6979, 2,  34.7000, 2,   -999.0, 9,    157.3, 2,    34.11, 2,    31.96, 2,     0.01, 2,     2.17, 2,    0.001, 2, -999.000, 9,   -999.0, 9,   -999.0, 9,   -999.0, 9,   3.9804,   -999.0, 9, -999.000, 9
316N19871218, SAVE2, 58, 1, 34, 34, 2, 19871228, 2006, -10.1733, 12.6617, 1431,  -999.00,   1322.9,   3.9601,  34.8085, 2,  34.8100, 2,   -999.0, 9,    180.3, 2,    30.49, 2,    28.34, 2,     0.00, 2,     1.92, 2,    0.004, 2,    0.004, 2,   2219.7, 2,   -999.0, 9,   -999.0, 9,   3.8566,   -999.0, 9, -999.000, 9
316N19871218, SAVE2, 58, 1, 35, 35, 2, 19871228, 2006, -10.1733, 12.6617, 1431,  -999.00,   1383.0,   3.9067,  34.8574, 2,  34.8600, 2,   -999.0, 9,    193.8, 2,    28.44, 2,    26.39, 2,     0.00, 2,     1.77, 2, -999.000, 9, -999.000, 9,   -999.0, 9,   -999.0, 9,   -999.0, 9,   3.7983,   1381.8, 2,    3.899, 2
316N19871218, SAVE2, 58, 1, 36, 36, 2, 19871228, 2006, -10.1733, 12.6617, 1431,  -999.00,   1428.3,   3.8814,  34.8744, 2,  34.8770, 2,   -999.0, 9,    198.6, 2,    27.95, 2,    25.60, 2,     0.01, 2,     1.72, 2, -999.000, 9,    0.006, 2,   2210.7, 2,   -999.0, 9,   -999.0, 9,   3.7692,   -999.0, 9, -999.000, 9