BOTTLE,20110114CCHDOSIODM
EXPOCODE,SECT_ID,STNNBR,CASTNO,SAMPNO,BTLNBR,BTLNBR_FLAG_W,DATE,TIME,LATITUDE,LONGITUDE,DEPTH,CTDRAW,CTDPRS,CTDTMP,CTDSAL,CTDSAL_FLAG_W,SALNTY,SALNTY_FLAG_W,CTDOXY,CTDOXY_FLAG_W,OXYGEN,OXYGEN_FLAG_W,SILCAT,SILCAT_FLAG_W,NITRAT,NITRAT_FLAG_W,NITRIT,NITRIT_FLAG_W,PHSPHT,PHSPHT_FLAG_W,CFC-11,CFC-11_FLAG_W,CFC-12,CFC-12_FLAG_W,TCARBN,TCARBN_FLAG_W,ALKALI,ALKALI_FLAG_W,PCO2,PCO2_FLAG_W,THETA,REVPRS,REVPRS_FLAG_W,REVTMP,REVTMP_FLAG_W
,,,,,,,,,,,METERS,DBAR,DBAR,ITS-68,PSS-78,,PSS-78,,UMOL/KG,,UMOL/KG,,UMOL/KG,,UMOL/KG,,UMOL/KG,,UMOL/KG,,PMOL/KG,,PMOL/KG,,UMOL/KG,,UMOL/KG,,UATM,,DEG C,DBAR,,ITS-68,
316N19871218, SAVE2, 54, 1, 1, 1, 2, 19871226, 1407, -6.8700, 7.5850, 4331,  -999.00,      0.8,  26.5742,  35.6346, 2,  35.6370, 2,   -999.0, 9,    206.4, 2,     1.37, 2,     0.10, 2,     0.00, 2,     0.13, 2, -999.000, 9, -999.000, 9,   2016.3, 2,   -999.0, 9,   -999.0, 9,  26.5740,   -999.0, 9, -999.000, 9
316N19871218, SAVE2, 54, 1, 2, 2, 2, 19871226, 1407, -6.8700, 7.5850, 4331,  -999.00,     11.2,  26.3627,  35.6345, 2,  35.6380, 2,   -999.0, 9,    206.8, 2,     1.27, 2,     0.10, 2,     0.00, 2,     0.13, 2,    1.548, 2,    0.783, 2,   2019.2, 2,   -999.0, 9,   -999.0, 9,  26.3602,   -999.0, 9, -999.000, 9
316N19871218, SAVE2, 54, 1, 3, 3, 2, 19871226, 1407, -6.8700, 7.5850, 4331,  -999.00,     26.6,  17.3982,  35.7489, 2,  35.7290, 2,   -999.0, 9,    163.2, 2,     4.39, 2,    11.13, 2,     0.49, 2,     0.88, 2,    1.152, 2,    0.557, 2,   2133.2, 2,   -999.0, 9,   -999.0, 9,  17.3937,   -999.0, 9, -999.000, 9
316N19871218, SAVE2, 54, 1, 4, 4, 2, 19871226, 1407, -6.8700, 7.5850, 4331,  -999.00,     36.5,  17.1488,  35.7419, 2,  35.7350, 2,   -999.0, 9,    154.9, 2,     4.49, 2,    12.11, 2,     0.53, 2,     0.94, 2,    1.132, 2,    0.555, 2,   2138.1, 2,   -999.0, 9,   -999.0, 9,  17.1428,   -999.0, 9, -999.000, 9
316N19871218, SAVE2, 54, 1, 5, 5, 2, 19871226, 1407, -6.8700, 7.5850, 4331,  -999.00,     52.7,  16.3161,  35.7123, 2,  35.7100, 2,   -999.0, 9,    121.8, 2,     5.76, 2,    16.12, 2,     0.04, 2,     1.14, 2,    1.134, 2,    0.565, 2,   2162.9, 2,   -999.0, 9,   -999.0, 9,  16.3076,   -999.0, 9, -999.000, 9
316N19871218, SAVE2, 54, 1, 6, 6, 2, 19871226, 1407, -6.8700, 7.5850, 4331,  -999.00,     82.8,  15.6572,  35.6276, 2,  35.6270, 2,   -999.0, 9,    111.8, 2,     6.74, 2,    18.07, 2,     0.02, 2,     1.25, 2,    1.047, 2,    0.512, 2,   2170.6, 2,   -999.0, 9,   -999.0, 9,  15.6442,   -999.0, 9, -999.000, 9
316N19871218, SAVE2, 54, 1, 7, 7, 2, 19871226, 1407, -6.8700, 7.5850, 4331,  -999.00,    118.4,  15.0763,  35.5443, 2,  35.5460, 2,   -999.0, 9,     87.5, 2,     8.11, 2,    21.39, 2,     0.01, 2,     1.43, 2,    0.883, 2,    0.457, 2,   2187.4, 2,   -999.0, 9,   -999.0, 9,  15.0582,   -999.0, 9, -999.000, 9
316N19871218, SAVE2, 54, 1, 8, 8, 2, 19871226, 1407, -6.8700, 7.5850, 4331,  -999.00,    173.6,  14.5234,  35.4689, 2,  35.4700, 2,   -999.0, 9,     68.7, 2,     9.67, 2,    24.23, 2,     0.01, 2,     1.57, 2,    0.705, 2,    0.344, 2,   2202.7, 2,   -999.0, 9,   -999.0, 9,  14.4976,   -999.0, 9, -999.000, 9
316N19871218, SAVE2, 54, 1, 9, 9, 2, 19871226, 1407, -6.8700, 7.5850, 4331,  -999.00,    213.9,  13.9823,  35.3983, 2,  35.4010, 2,   -999.0, 9,     68.3, 2,    10.26, 2,    25.89, 2,     0.01, 2,     1.65, 2,    0.616, 2,    0.352, 2,   2212.0, 2,   -999.0, 9,   -999.0, 9,  13.9513,   -999.0, 9, -999.000, 9
316N19871218, SAVE2, 54, 1, 10, 10, 2, 19871226, 1407, -6.8700, 7.5850, 4331,  -999.00,    263.9,  12.5116,  35.2232, 2,  35.2260, 2,   -999.0, 9,     46.5, 2,    12.51, 2,    29.70, 2,     0.01, 2,     1.87, 2,    0.371, 2,    0.193, 2,   -999.0, 9,   -999.0, 9,   -999.0, 9,  12.4760,   -999.0, 9, -999.000, 9
316N19871218, SAVE2, 54, 1, 11, 11, 2, 19871226, 1407, -6.8700, 7.5850, 4331,  -999.00,    309.2,  11.2394,  35.0783, 2,  35.0790, 2,   -999.0, 9,     32.6, 2,    15.15, 2,    33.22, 2,     0.01, 2,     2.09, 2,    0.140, 2,    0.067, 2,   2246.5, 2,   -999.0, 9,   -999.0, 9,  11.2006,   -999.0, 9, -999.000, 9
316N19871218, SAVE2, 54, 1, 12, 12, 2, 19871226, 1407, -6.8700, 7.5850, 4331,  -999.00,    374.4,   9.3647,  34.8724, 2,  34.8760, 2,   -999.0, 9,     30.9, 2,    18.76, 2,    37.04, 2,     0.01, 2,     2.34, 2,    0.069, 2,    0.038, 2,   2258.2, 2,   -999.0, 9,   -999.0, 9,   9.3226,   -999.0, 9, -999.000, 9
316N19871218, SAVE2, 54, 1, 13, 13, 2, 19871226, 1407, -6.8700, 7.5850, 4331,  -999.00,    454.4,   7.9445,  34.7299, 2,  34.7350, 2,   -999.0, 9,     32.6, 2,    22.19, 2,    39.97, 2,     0.01, 2,     2.53, 2,    0.015, 2,    0.023, 2,   2269.4, 2,   -999.0, 9,   -999.0, 9,   7.8981,   -999.0, 9, -999.000, 9
316N19871218, SAVE2, 54, 1, 14, 14, 2, 19871226, 1407, -6.8700, 7.5850, 4331,  -999.00,    484.6,   7.5150,  34.6900, 2,  34.6920, 2,   -999.0, 9,     40.4, 2,    23.26, 2,    40.27, 2,     0.00, 2,     2.58, 2,    0.008, 2,    0.005, 2,   -999.0, 9,   -999.0, 9,   -999.0, 9,   7.4670,   -999.0, 9, -999.000, 9
316N19871218, SAVE2, 54, 1, 15, 15, 2, 19871226, 1407, -6.8700, 7.5850, 4331,  -999.00,    624.6,   5.9916,  34.5560, 2,  34.5570, 2,   -999.0, 9,     84.3, 2,    27.08, 2,    39.20, 2,     0.00, 2,     2.57, 2,    0.002, 2,    0.002, 2,   -999.0, 9,   -999.0, 9,   -999.0, 9,   5.9364,   -999.0, 9, -999.000, 9
316N19871218, SAVE2, 54, 1, 16, 16, 2, 19871226, 1407, -6.8700, 7.5850, 4331,  -999.00,    764.9,   5.0207,  34.5103, 2,  34.5110, 2,   -999.0, 9,    112.2, 2,    32.26, 2,    38.03, 2,     0.00, 2,     2.55, 2,    0.004, 2,    0.000, 2,   -999.0, 9,   -999.0, 9,   -999.0, 9,   4.9582,   -999.0, 9, -999.000, 9
316N19871218, SAVE2, 54, 1, 17, 17, 2, 19871226, 1407, -6.8700, 7.5850, 4331,  -999.00,    940.3,   4.4070,  34.5547, 2,  34.5560, 2,   -999.0, 9,    134.3, 2,    35.58, 2,    35.78, 2,     0.00, 2,     2.43, 2,    0.001, 2, -999.000, 9,   -999.0, 9,   -999.0, 9,   -999.0, 9,   4.3332,   -999.0, 9, -999.000, 9
316N19871218, SAVE2, 54, 1, 18, 18, 2, 19871226, 1407, -6.8700, 7.5850, 4331,  -999.00,   1106.1,   4.2142,  34.6778, 2,  34.6780, 2,   -999.0, 9,    156.9, 2,    33.53, 2,    32.25, 2,     0.00, 2,     2.21, 2, -999.000, 9, -999.000, 9,   -999.0, 9,   -999.0, 9,   -999.0, 9,   4.1275,   -999.0, 9, -999.000, 9
316N19871218, SAVE2, 54, 1, 19, 19, 2, 19871226, 1407, -6.8700, 7.5850, 4331,  -999.00,   1358.0,   4.0755,  34.8506, 2,  34.8520, 2,   -999.0, 9,    191.6, 2,    27.66, 2,    26.88, 2,     0.00, 2,     1.82, 2,    0.000, 2,    0.000, 2,   -999.0, 9,   -999.0, 9,   -999.0, 9,   3.9676,   -999.0, 9, -999.000, 9
316N19871218, SAVE2, 54, 1, 20, 20, 2, 19871226, 1407, -6.8700, 7.5850, 4331,  -999.00,   1498.8,   3.9461,  34.9059, 2,  34.9080, 2,   -999.0, 9,    210.3, 2,    25.12, 2,    24.53, 2,     0.00, 2,     1.65, 2, -999.000, 9, -999.000, 9,   -999.0, 9,   -999.0, 9,   -999.0, 9,   3.8268,   -999.0, 9, -999.000, 9
316N19871218, SAVE2, 54, 1, 21, 21, 2, 19871226, 1407, -6.8700, 7.5850, 4331,  -999.00,   1675.2,   3.7655,  34.9351, 2,  34.9370, 2,   -999.0, 9,    225.5, 2,    24.14, 2,    22.87, 2,     0.00, 2,     1.53, 2, -999.000, 9, -999.000, 9,   -999.0, 9,   -999.0, 9,   -999.0, 9,   3.6321,   -999.0, 9, -999.000, 9
316N19871218, SAVE2, 54, 1, 22, 22, 2, 19871226, 1407, -6.8700, 7.5850, 4331,  -999.00,   1862.0,   3.5442,  34.9406, 2,  34.9430, 2,   -999.0, 9,    234.6, 2,    25.11, 2,    21.99, 2,     0.00, 2,     1.47, 2,    0.001, 2,    0.001, 2,   -999.0, 9,   -999.0, 9,   -999.0, 9,   3.3965,   -999.0, 9, -999.000, 9
316N19871218, SAVE2, 54, 1, 23, 23, 2, 19871226, 1407, -6.8700, 7.5850, 4331,  -999.00,   1998.7,   3.3843,  34.9383, 2,  34.9400, 2,   -999.0, 9,    235.5, 2,    27.66, 2,    21.99, 2,     0.00, 2,     1.47, 2, -999.000, 9, -999.000, 9,   -999.0, 9,   -999.0, 9,   -999.0, 9,   3.2261,   -999.0, 9, -999.000, 9
316N19871218, SAVE2, 54, 1, 24, 24, 2, 19871226, 1407, -6.8700, 7.5850, 4331,  -999.00,   2175.6,   3.2007,  34.9344, 2,  34.9350, 2,   -999.0, 9,    236.4, 2,    30.59, 2,    22.09, 2,     0.00, 2,     1.48, 2, -999.000, 9, -999.000, 9,   -999.0, 9,   -999.0, 9,   -999.0, 9,   3.0287,   -999.0, 9, -999.000, 9
316N19871218, SAVE2, 54, 1, 25, 25, 2, 19871226, 1407, -6.8700, 7.5850, 4331,  -999.00,   2352.3,   3.0460,  34.9283, 2,  34.9300, 2,   -999.0, 9,    235.9, 2,    33.52, 2,    22.18, 2,     0.00, 2,     1.50, 2, -999.000, 9, -999.000, 9,   -999.0, 9,   -999.0, 9,   -999.0, 9,   2.8597,   -999.0, 9, -999.000, 9
316N19871218, SAVE2, 54, 1, 26, 26, 2, 19871226, 1407, -6.8700, 7.5850, 4331,  -999.00,   2574.2,   2.8803,  34.9213, 2,  34.9210, 2,   -999.0, 9,    235.5, 2,    37.04, 2,    22.38, 2,     0.00, 2,     1.50, 2, -999.000, 9, -999.000, 9,   -999.0, 9,   -999.0, 9,   -999.0, 9,   2.6753,   -999.0, 9, -999.000, 9
316N19871218, SAVE2, 54, 1, 27, 27, 2, 19871226, 1407, -6.8700, 7.5850, 4331,  -999.00,   2775.6,   2.7656,  34.9151, 2,  34.9150, 2,   -999.0, 9,    236.4, 2,    39.87, 2,    22.57, 2,     0.00, 2,     1.51, 2, -999.000, 9, -999.000, 9,   -999.0, 9,   -999.0, 9,   -999.0, 9,   2.5429,   -999.0, 9, -999.000, 9
316N19871218, SAVE2, 54, 1, 28, 28, 2, 19871226, 1407, -6.8700, 7.5850, 4331,  -999.00,   2973.2,   2.6772,  34.9116, 2,  34.9130, 2,   -999.0, 9,    233.8, 2,    42.90, 2,    22.77, 2,     0.00, 2,     1.53, 2, -999.000, 9, -999.000, 9,   -999.0, 9,   -999.0, 9,   -999.0, 9,   2.4363,   -999.0, 9, -999.000, 9
316N19871218, SAVE2, 54, 1, 29, 29, 2, 19871226, 1407, -6.8700, 7.5850, 4331,  -999.00,   3151.6,   2.5955,  34.9065, 2,  34.9070, 2,   -999.0, 9,    233.3, 2,    45.15, 2,    22.97, 2,     0.00, 2,     1.55, 2, -999.000, 9, -999.000, 9,   -999.0, 9,   -999.0, 9,   -999.0, 9,   2.3380,   -999.0, 9, -999.000, 9
316N19871218, SAVE2, 54, 1, 30, 30, 2, 19871226, 1407, -6.8700, 7.5850, 4331,  -999.00,   3324.1,   2.5447,  34.9036, 2,  34.9030, 2,   -999.0, 9,    232.9, 2,    46.81, 2,    22.97, 2,     0.00, 2,     1.54, 2, -999.000, 9, -999.000, 9,   -999.0, 9,   -999.0, 9,   -999.0, 9,   2.2701,   -999.0, 9, -999.000, 9
316N19871218, SAVE2, 54, 1, 31, 31, 2, 19871226, 1407, -6.8700, 7.5850, 4331,  -999.00,   3497.3,   2.4924,  34.8998, 2,  34.8990, 2,   -999.0, 9,    232.9, 2,    48.37, 2,    23.06, 2,     0.00, 2,     1.55, 2,    0.000, 2,    0.000, 2,   -999.0, 9,   -999.0, 9,   -999.0, 9,   2.2005,   -999.0, 9, -999.000, 9
316N19871218, SAVE2, 54, 1, 32, 32, 2, 19871226, 1407, -6.8700, 7.5850, 4331,  -999.00,   3721.0,   2.4384,  34.8950, 2,  34.8950, 2,   -999.0, 9,    232.4, 2,    50.82, 2,    23.26, 2,     0.00, 2,     1.57, 2, -999.000, 9, -999.000, 9,   -999.0, 9,   -999.0, 9,   -999.0, 9,   2.1234,   -999.0, 9, -999.000, 9
316N19871218, SAVE2, 54, 1, 33, 33, 2, 19871226, 1407, -6.8700, 7.5850, 4331,  -999.00,   3950.7,   2.3621,  34.8884, 2,  34.8890, 2,   -999.0, 9,    221.1, 2,    58.54, 2,    24.14, 2,     0.00, 2,     1.64, 2, -999.000, 9, -999.000, 9,   2235.7, 2,   -999.0, 9,   -999.0, 9,   2.0234,   -999.0, 9, -999.000, 9
316N19871218, SAVE2, 54, 1, 34, 34, 2, 19871226, 1407, -6.8700, 7.5850, 4331,  -999.00,   4200.2,   2.3431,  34.8843, 2,  34.8840, 2,   -999.0, 9,    223.3, 2,    57.27, 2,    24.14, 2,     0.00, 2,     1.62, 2, -999.000, 9, -999.000, 9,   2237.1, 2,   -999.0, 9,   -999.0, 9,   1.9762,   -999.0, 9, -999.000, 9
316N19871218, SAVE2, 54, 1, 35, 35, 2, 19871226, 1407, -6.8700, 7.5850, 4331,  -999.00,   4317.3,   2.3502,  34.8830, 2,  34.8820, 2,   -999.0, 9,    224.2, 2,    56.68, 2,    24.14, 2,     0.01, 2,     1.62, 2, -999.000, 9, -999.000, 9,   -999.0, 9,   -999.0, 9,   -999.0, 9,   1.9694,   4306.2, 2,    2.347, 2
316N19871218, SAVE2, 54, 1, 36, 36, 2, 19871226, 1407, -6.8700, 7.5850, 4331,  -999.00,   4398.4,   2.3595,  34.8828, 2,  34.8840, 2,   -999.0, 9,    224.6, 2,    56.19, 2,    23.94, 2,     0.01, 2,     1.60, 2, -999.000, 9, -999.000, 9,   2239.6, 2,   -999.0, 9,   -999.0, 9,   1.9688,   -999.0, 9, -999.000, 9