BOTTLE,20110114CCHDOSIODM
EXPOCODE,SECT_ID,STNNBR,CASTNO,SAMPNO,BTLNBR,BTLNBR_FLAG_W,DATE,TIME,LATITUDE,LONGITUDE,DEPTH,CTDRAW,CTDPRS,CTDTMP,CTDSAL,CTDSAL_FLAG_W,SALNTY,SALNTY_FLAG_W,CTDOXY,CTDOXY_FLAG_W,OXYGEN,OXYGEN_FLAG_W,SILCAT,SILCAT_FLAG_W,NITRAT,NITRAT_FLAG_W,NITRIT,NITRIT_FLAG_W,PHSPHT,PHSPHT_FLAG_W,CFC-11,CFC-11_FLAG_W,CFC-12,CFC-12_FLAG_W,TCARBN,TCARBN_FLAG_W,ALKALI,ALKALI_FLAG_W,PCO2,PCO2_FLAG_W,THETA,REVPRS,REVPRS_FLAG_W,REVTMP,REVTMP_FLAG_W
,,,,,,,,,,,METERS,DBAR,DBAR,ITS-68,PSS-78,,PSS-78,,UMOL/KG,,UMOL/KG,,UMOL/KG,,UMOL/KG,,UMOL/KG,,UMOL/KG,,PMOL/KG,,PMOL/KG,,UMOL/KG,,UMOL/KG,,UATM,,DEG C,DBAR,,ITS-68,
316N19871218, SAVE2, 56, 1, 1, 1, 2, 19871227, 1955, -8.5000, 10.0967, 4043,  -999.00,      2.0,  26.3813,  35.9555, 2,  35.9569, 2,   -999.0, 9,    205.7, 2,     1.05, 2,     0.08, 2,     0.00, 2,     0.15, 2,    1.541, 2,    0.753, 2,   2029.2, 2,   -999.0, 9,   -999.0, 9,  26.3808,   -999.0, 9, -999.000, 9
316N19871218, SAVE2, 56, 1, 2, 2, 2, 19871227, 1955, -8.5000, 10.0967, 4043,  -999.00,     17.0,  23.7224,  35.9051, 2,  35.8725, 2,   -999.0, 9,    231.5, 2,     1.68, 2,     0.08, 2,     0.00, 2,     0.24, 2, -999.000, 9, -999.000, 9,   2044.9, 2,   -999.0, 9,   -999.0, 9,  23.7189,   -999.0, 9, -999.000, 9
316N19871218, SAVE2, 56, 1, 3, 3, 2, 19871227, 1955, -8.5000, 10.0967, 4043,  -999.00,     24.1,  19.3055,  35.7662, 2,  35.7606, 2,   -999.0, 9,    183.3, 2,     3.74, 2,     7.97, 2,     0.11, 2,     0.71, 2,    1.170, 2,    0.567, 2,   2111.5, 2,   -999.0, 9,   -999.0, 9,  19.3012,   -999.0, 9, -999.000, 9
316N19871218, SAVE2, 56, 1, 4, 4, 2, 19871227, 1955, -8.5000, 10.0967, 4043,  -999.00,     33.1,  17.3399,  35.6446, 2,  35.6410, 2,   -999.0, 9,    109.5, 2,     6.04, 2,    16.82, 2,     0.32, 2,     1.22, 2, -999.000, 9, -999.000, 9,   -999.0, 9,   -999.0, 9,   -999.0, 9,  17.3344,   -999.0, 9, -999.000, 9
316N19871218, SAVE2, 56, 1, 5, 5, 2, 19871227, 1955, -8.5000, 10.0967, 4043,  -999.00,     48.0,  16.1888,  35.6197, 2,  35.6212, 2,   -999.0, 9,     76.6, 2,     7.19, 2,    20.59, 2,     0.45, 2,     1.46, 2,    0.943, 2,    0.466, 2,   2201.5, 2,   -999.0, 9,   -999.0, 9,  16.1811,   -999.0, 9, -999.000, 9
316N19871218, SAVE2, 56, 1, 6, 6, 2, 19871227, 1955, -8.5000, 10.0967, 4043,  -999.00,     65.6,  15.5386,  35.5817, 2,  35.5789, 2,   -999.0, 9,     65.3, 2,     8.21, 2,    23.20, 2,     0.07, 2,     1.54, 2, -999.000, 9, -999.000, 9,   -999.0, 9,   -999.0, 9,   -999.0, 9,  15.5284,   -999.0, 9, -999.000, 9
316N19871218, SAVE2, 56, 1, 7, 7, 2, 19871227, 1955, -8.5000, 10.0967, 4043,  -999.00,    111.1,  14.8012,  35.5027, 2,  35.4994, 2,   -999.0, 9,     71.6, 2,     8.58, 2,    23.63, 2,     0.02, 2,     1.55, 2,    0.818, 2,    0.405, 2,   2206.5, 2,   -999.0, 9,   -999.0, 9,  14.7845,   -999.0, 9, -999.000, 9
316N19871218, SAVE2, 56, 1, 8, 8, 2, 19871227, 1955, -8.5000, 10.0967, 4043,  -999.00,    164.5,  14.0313,  35.4060, 2,  35.4037, 2,   -999.0, 9,     62.5, 2,     9.86, 2,    25.79, 2,     0.01, 2,     1.67, 2,    0.646, 2,    0.327, 2,   -999.0, 9,   -999.0, 9,   -999.0, 9,  14.0074,   -999.0, 9, -999.000, 9
316N19871218, SAVE2, 56, 1, 9, 9, 2, 19871227, 1955, -8.5000, 10.0967, 4043,  -999.00,    231.7,  12.8915,  35.2650, 2,  35.2669, 2,   -999.0, 9,     74.2, 2,    10.62, 2,    26.27, 2,     0.01, 2,     1.69, 2,    0.528, 2,    0.259, 2,   2215.2, 2,   -999.0, 9,   -999.0, 9,  12.8597,   -999.0, 9, -999.000, 9
316N19871218, SAVE2, 56, 1, 10, 10, 2, 19871227, 1955, -8.5000, 10.0967, 4043,  -999.00,    316.9,  11.1187,  35.0598, 2,  35.0587, 2,   -999.0, 9,     33.6, 2,    14.85, 2,    33.41, 2,     0.01, 2,     2.10, 2,    0.175, 2,    0.090, 2,   -999.0, 9,   -999.0, 9,   -999.0, 9,  11.0791,   -999.0, 9, -999.000, 9
316N19871218, SAVE2, 56, 1, 11, 11, 2, 19871227, 1955, -8.5000, 10.0967, 4043,  -999.00,    416.5,   8.9473,  34.8251, 2,  34.8254, 2,   -999.0, 9,     20.9, 2,    19.99, 2,    38.95, 2,     0.01, 2,     2.47, 2,    0.039, 2,    0.018, 2,   2274.5, 2,   -999.0, 9,   -999.0, 9,   8.9018,   -999.0, 9, -999.000, 9
316N19871218, SAVE2, 56, 1, 13, 13, 2, 19871227, 1955, -8.5000, 10.0967, 4043,  -999.00,    492.0,   7.5527,  34.6915, 2, -999.0000, 9,   -999.0, 9,   -999.0, 9,  -999.00, 9,  -999.00, 9,  -999.00, 9,  -999.00, 9, -999.000, 9, -999.000, 9,   -999.0, 9,   -999.0, 9,   -999.0, 9,   7.5038,   -999.0, 9, -999.000, 9
316N19871218, SAVE2, 56, 1, 12, 12, 2, 19871227, 1955, -8.5000, 10.0967, 4043,  -999.00,    492.1,   7.5653,  34.6917, 2,  34.6911, 2,   -999.0, 9,     36.4, 2,    22.80, 2,    40.68, 2,     0.01, 2,     2.58, 2,    0.011, 2,    0.001, 2,   -999.0, 9,   -999.0, 9,   -999.0, 9,   7.5163,   -999.0, 9, -999.000, 9
316N19871218, SAVE2, 56, 1, 14, 14, 2, 19871227, 1955, -8.5000, 10.0967, 4043,  -999.00,    602.3,   6.1964,  34.5777, 2,  34.5784, 2,   -999.0, 9,     63.3, 2,    26.90, 2,    40.82, 2,     0.01, 2,     2.65, 2,    0.006, 2, -999.000, 9,   2235.7, 2,   -999.0, 9,   -999.0, 9,   6.1424,   -999.0, 9, -999.000, 9
316N19871218, SAVE2, 56, 1, 15, 15, 2, 19871227, 1955, -8.5000, 10.0967, 4043,  -999.00,    702.5,   5.3555,  34.5231, 2,  34.5226, 2,   -999.0, 9,     91.4, 2,    30.48, 2,    39.46, 2,     0.01, 2,     2.59, 2,    0.005, 2, -999.000, 9,   -999.0, 9,   -999.0, 9,   -999.0, 9,   5.2965,   -999.0, 9, -999.000, 9
316N19871218, SAVE2, 56, 1, 16, 16, 2, 19871227, 1955, -8.5000, 10.0967, 4043,  -999.00,    812.9,   4.7364,  34.5081, 2,  34.5065, 2,   -999.0, 9,    114.4, 2,    33.93, 2,    38.06, 2,     0.01, 2,     2.54, 2,    0.000, 2, -999.000, 9,   2255.3, 2,   -999.0, 9,   -999.0, 9,   4.6714,   -999.0, 9, -999.000, 9
316N19871218, SAVE2, 56, 1, 17, 17, 2, 19871227, 1955, -8.5000, 10.0967, 4043,  -999.00,    941.4,   4.3112,  34.5518, 2,  34.5516, 2,   -999.0, 9,    133.7, 2,    36.09, 2,    35.89, 2,     0.00, 2,     2.42, 2, -999.000, 9, -999.000, 9,   -999.0, 9,   -999.0, 9,   -999.0, 9,   4.2381,   -999.0, 9, -999.000, 9
316N19871218, SAVE2, 56, 1, 18, 18, 2, 19871227, 1955, -8.5000, 10.0967, 4043,  -999.00,   1063.6,   4.2035,  34.6403, 2,  34.6402, 2,   -999.0, 9,    149.6, 2,    34.91, 2,    33.40, 2,     0.00, 2,     2.26, 2, -999.000, 9, -999.000, 9,   2241.2, 2,   -999.0, 9,   -999.0, 9,   4.1206,   -999.0, 9, -999.000, 9
316N19871218, SAVE2, 56, 1, 19, 19, 2, 19871227, 1955, -8.5000, 10.0967, 4043,  -999.00,   1182.1,   4.0673,  34.7211, 2,  34.7237, 2,   -999.0, 9,    160.9, 2,    34.25, 2,    31.22, 2,     0.00, 2,     2.13, 2, -999.000, 9, -999.000, 9,   -999.0, 9,   -999.0, 9,   -999.0, 9,   3.9753,   -999.0, 9, -999.000, 9
316N19871218, SAVE2, 56, 1, 20, 20, 2, 19871227, 1955, -8.5000, 10.0967, 4043,  -999.00,   1300.4,   4.1436,  34.8006, 2,  34.8015, 2,   -999.0, 9,    176.8, 2,    30.37, 2,    28.71, 2,     0.00, 2,     1.94, 2, -999.000, 9, -999.000, 9,   2223.7, 2,   -999.0, 9,   -999.0, 9,   4.0402,   -999.0, 9, -999.000, 9
316N19871218, SAVE2, 56, 1, 21, 21, 2, 19871227, 1955, -8.5000, 10.0967, 4043,  -999.00,   1481.7,   3.9620,  34.8942, 2,  34.8943, 2,   -999.0, 9,    204.6, 2,    26.12, 2,    25.04, 2,     0.00, 2,     1.68, 2, -999.000, 9, -999.000, 9,   -999.0, 9,   -999.0, 9,   -999.0, 9,   3.8441,   -999.0, 9, -999.000, 9
316N19871218, SAVE2, 56, 1, 22, 22, 2, 19871227, 1955, -8.5000, 10.0967, 4043,  -999.00,   1651.0,   3.7627,  34.9188, 2,  34.9207, 2,   -999.0, 9,    217.3, 2,    25.97, 2,    23.65, 2,     0.00, 2,     1.58, 2, -999.000, 9, -999.000, 9,   2199.2, 2,   -999.0, 9,   -999.0, 9,   3.6316,   -999.0, 9, -999.000, 9
316N19871218, SAVE2, 56, 1, 23, 23, 2, 19871227, 1955, -8.5000, 10.0967, 4043,  -999.00,   1799.2,   3.5833,  34.9299, 2,  34.9305, 2,   -999.0, 9,    224.6, 2,    27.23, 2,    22.85, 2,     0.00, 2,     1.53, 2, -999.000, 9, -999.000, 9,   -999.0, 9,   -999.0, 9,   -999.0, 9,   3.4409,   -999.0, 9, -999.000, 9
316N19871218, SAVE2, 56, 1, 24, 24, 2, 19871227, 1955, -8.5000, 10.0967, 4043,  -999.00,   1940.5,   3.4251,  34.9350, 2,  34.9359, 2,   -999.0, 9,    228.9, 2,    28.49, 2,    22.43, 2,     0.00, 2,     1.50, 2, -999.000, 9, -999.000, 9,   -999.0, 9,   -999.0, 9,   -999.0, 9,   3.2718,   -999.0, 9, -999.000, 9
316N19871218, SAVE2, 56, 1, 25, 25, 2, 19871227, 1955, -8.5000, 10.0967, 4043,  -999.00,   2077.2,   3.2852,  34.9353, 2,  34.9357, 2,   -999.0, 9,    230.2, 2,    30.27, 2,    22.26, 2,     0.00, 2,     1.49, 2, -999.000, 9, -999.000, 9,   2193.2, 2,   -999.0, 9,   -999.0, 9,   3.1211,   -999.0, 9, -999.000, 9
316N19871218, SAVE2, 56, 1, 26, 26, 2, 19871227, 1955, -8.5000, 10.0967, 4043,  -999.00,   2231.8,   3.1374,  34.9321, 2,  34.9319, 2,   -999.0, 9,    231.3, 2,    33.19, 2,    22.27, 2,     0.00, 2,     1.49, 2, -999.000, 9, -999.000, 9,   -999.0, 9,   -999.0, 9,   -999.0, 9,   2.9611,   -999.0, 9, -999.000, 9
316N19871218, SAVE2, 56, 1, 27, 27, 2, 19871227, 1955, -8.5000, 10.0967, 4043,  -999.00,   2380.6,   3.0118,  34.9269, 2,  34.9260, 2,   -999.0, 9,    231.1, 2,    35.22, 2,    22.40, 2,     0.00, 2,     1.51, 2, -999.000, 9, -999.000, 9,   -999.0, 9,   -999.0, 9,   -999.0, 9,   2.8233,   -999.0, 9, -999.000, 9
316N19871218, SAVE2, 56, 1, 28, 28, 2, 19871227, 1955, -8.5000, 10.0967, 4043,  -999.00,   2532.2,   2.8951,  34.9222, 2,  34.9225, 2,   -999.0, 9,    232.3, 2,    37.63, 2,    22.44, 2,     0.00, 2,     1.50, 2, -999.000, 9, -999.000, 9,   -999.0, 9,   -999.0, 9,   -999.0, 9,   2.6940,   -999.0, 9, -999.000, 9
316N19871218, SAVE2, 56, 1, 29, 29, 2, 19871227, 1955, -8.5000, 10.0967, 4043,  -999.00,   2752.0,   2.7382,  34.9138, 2,  34.9136, 2,   -999.0, 9,    230.5, 2,    41.57, 2,    22.82, 2,     0.00, 2,     1.52, 2, -999.000, 9, -999.000, 9,   2208.1, 2,   -999.0, 9,   -999.0, 9,   2.5184,   -999.0, 9, -999.000, 9
316N19871218, SAVE2, 56, 1, 30, 30, 2, 19871227, 1955, -8.5000, 10.0967, 4043,  -999.00,   2952.6,   2.6425,  34.9094, 2,  34.9090, 2,   -999.0, 9,    231.1, 2,    43.98, 2,    22.82, 2,     0.00, 2,     1.53, 2, -999.000, 9, -999.000, 9,   -999.0, 9,   -999.0, 9,   -999.0, 9,   2.4045,   -999.0, 9, -999.000, 9
316N19871218, SAVE2, 56, 1, 31, 31, 2, 19871227, 1955, -8.5000, 10.0967, 4043,  -999.00,   3155.6,   2.5626,  34.9050, 2,  34.9039, 2,   -999.0, 9,    231.4, 2,    46.26, 2,    22.91, 2,     0.00, 2,     1.54, 2, -999.000, 9, -999.000, 9,   -999.0, 9,   -999.0, 9,   -999.0, 9,   2.3053,   -999.0, 9, -999.000, 9
316N19871218, SAVE2, 56, 1, 32, 32, 2, 19871227, 1955, -8.5000, 10.0967, 4043,  -999.00,   3351.4,   2.5014,  34.9003, 2,  34.8999, 2,   -999.0, 9,    229.6, 2,    48.54, 2,    23.21, 2,     0.00, 2,     1.56, 2, -999.000, 9, -999.000, 9,   2215.8, 2,   -999.0, 9,   -999.0, 9,   2.2250,   3348.4, 2,    2.500, 2
316N19871218, SAVE2, 56, 1, 33, 33, 2, 19871227, 1955, -8.5000, 10.0967, 4043,  -999.00,   3540.8,   2.4465,  34.8962, 2,  34.8963, 2,   -999.0, 9,    228.9, 2,    50.56, 2,    23.21, 2,     0.00, 2,     1.56, 2,    0.007, 2, -999.000, 9,   -999.0, 9,   -999.0, 9,   -999.0, 9,   2.1511,   -999.0, 9, -999.000, 9
316N19871218, SAVE2, 56, 1, 34, 34, 2, 19871227, 1955, -8.5000, 10.0967, 4043,  -999.00,   3744.2,   2.4005,  34.8922, 2,  34.8926, 2,   -999.0, 9,    225.0, 2,    53.99, 2,    23.59, 2,     0.00, 2,     1.59, 2, -999.000, 9, -999.000, 9,   2227.4, 2,   -999.0, 9,   -999.0, 9,   2.0840,   -999.0, 9, -999.000, 9
316N19871218, SAVE2, 56, 1, 35, 35, 2, 19871227, 1955, -8.5000, 10.0967, 4043,  -999.00,   3948.2,   2.3540,  34.8874, 2,  34.8861, 2,   -999.0, 9,    216.9, 2,    59.21, 2,    24.23, 2,     0.00, 2,     1.64, 2,    0.002, 2, -999.000, 9,   2245.2, 2,   -999.0, 9,   -999.0, 9,   2.0158,   3939.6, 2,    2.353, 2
316N19871218, SAVE2, 56, 1, 36, 36, 2, 19871227, 1955, -8.5000, 10.0967, 4043,  -999.00,   4101.5,   2.3450,  34.8849, 2,  34.8849, 2,   -999.0, 9,    216.5, 2,    58.15, 2,    24.39, 2,     0.01, 2,     1.63, 2,    0.002, 2, -999.000, 9,   2246.3, 2,   -999.0, 9,   -999.0, 9,   1.9895,   -999.0, 9, -999.000, 9