BOTTLE,20110114CCHDOSIODM
EXPOCODE,SECT_ID,STNNBR,CASTNO,SAMPNO,BTLNBR,BTLNBR_FLAG_W,DATE,TIME,LATITUDE,LONGITUDE,DEPTH,CTDRAW,CTDPRS,CTDTMP,CTDSAL,CTDSAL_FLAG_W,SALNTY,SALNTY_FLAG_W,CTDOXY,CTDOXY_FLAG_W,OXYGEN,OXYGEN_FLAG_W,SILCAT,SILCAT_FLAG_W,NITRAT,NITRAT_FLAG_W,NITRIT,NITRIT_FLAG_W,PHSPHT,PHSPHT_FLAG_W,CFC-11,CFC-11_FLAG_W,CFC-12,CFC-12_FLAG_W,TCARBN,TCARBN_FLAG_W,ALKALI,ALKALI_FLAG_W,PCO2,PCO2_FLAG_W,THETA,REVPRS,REVPRS_FLAG_W,REVTMP,REVTMP_FLAG_W
,,,,,,,,,,,METERS,DBAR,DBAR,ITS-68,PSS-78,,PSS-78,,UMOL/KG,,UMOL/KG,,UMOL/KG,,UMOL/KG,,UMOL/KG,,UMOL/KG,,PMOL/KG,,PMOL/KG,,UMOL/KG,,UMOL/KG,,UATM,,DEG C,DBAR,,ITS-68,
316N19871218, SAVE2, 99, 1, 1, 1, 2, 19880119, 1319, -18.5600, -35.7200, 3969,  -999.00,      1.5,  28.6773,  37.4236, 2,  37.4270, 2,   -999.0, 9,    198.0, 2,     0.98, 2,     0.10, 2,     0.00, 2,     0.03, 2, -999.000, 9, -999.000, 9,   2055.5, 2,   2459.8, 2,    256.1, 2,  28.6769,   -999.0, 9, -999.000, 9
316N19871218, SAVE2, 99, 1, 2, 2, 2, 19880119, 1319, -18.5600, -35.7200, 3969,  -999.00,     46.2,  28.2003,  37.4348, 2,  37.4350, 2,   -999.0, 9,    200.1, 2,     0.98, 2,     0.10, 2,     0.00, 2,     0.03, 2,    1.477, 2,    0.762, 2,   2056.9, 2,   2475.9, 2,    244.6, 2,  28.1893,   -999.0, 9, -999.000, 9
316N19871218, SAVE2, 99, 1, 3, 3, 2, 19880119, 1319, -18.5600, -35.7200, 3969,  -999.00,     87.3,  26.0784,  37.3332, 2,  37.3350, 2,   -999.0, 9,    208.7, 2,     0.98, 2,     0.00, 2,     0.00, 2,     0.08, 2,    1.556, 2,    0.786, 2,   2066.9, 2,   2460.9, 2,    267.1, 2,  26.0587,   -999.0, 9, -999.000, 9
316N19871218, SAVE2, 99, 1, 4, 4, 2, 19880119, 1319, -18.5600, -35.7200, 3969,  -999.00,    142.2,  23.8801,  37.0425, 2,  37.0400, 2,   -999.0, 9,    197.3, 2,     0.98, 2,     0.10, 2,     0.24, 2,     0.19, 2,    1.622, 2,    0.828, 2,   2091.0, 2,   2447.6, 2,    307.4, 2,  23.8500,   -999.0, 9, -999.000, 9
316N19871218, SAVE2, 99, 1, 5, 5, 2, 19880119, 1319, -18.5600, -35.7200, 3969,  -999.00,    199.0,  20.2590,  36.3532, 2,  36.3420, 2,   -999.0, 9,    193.3, 2,     1.46, 2,     1.56, 2,     0.02, 2,     0.34, 2,    1.746, 2,    0.858, 2,   2097.2, 2,   2405.8, 2,    361.7, 2,  20.2215,   -999.0, 9, -999.000, 9
316N19871218, SAVE2, 99, 1, 6, 6, 2, 19880119, 1319, -18.5600, -35.7200, 3969,  -999.00,    246.8,  16.6546,  35.6907, 2,  35.6690, 2,   -999.0, 9,    203.7, 2,     2.05, 2,     4.20, 2,     0.01, 2,     0.47, 2,    1.896, 2,    0.906, 2,   -999.0, 9,   -999.0, 9,   -999.0, 9,  16.6142,   -999.0, 9, -999.000, 9
316N19871218, SAVE2, 99, 1, 7, 7, 2, 19880119, 1319, -18.5600, -35.7200, 3969,  -999.00,    292.0,  14.7967,  35.4025, 2,  35.3840, 2,   -999.0, 9,    203.6, 2,     2.93, 2,     7.13, 2,     0.01, 2,     0.63, 2,    1.832, 2,    0.871, 2,   2100.4, 2,   2345.1, 2,    460.3, 2,  14.7526,   -999.0, 9, -999.000, 9
316N19871218, SAVE2, 99, 1, 8, 8, 2, 19880119, 1319, -18.5600, -35.7200, 3969,  -999.00,    347.6,  12.9739,  35.1672, 2,  35.1660, 2,   -999.0, 9,    196.2, 2,     4.30, 2,    11.53, 2,     0.00, 2,     0.87, 2,    1.569, 2,    0.743, 2,   -999.0, 9,   -999.0, 9,   -999.0, 9,  12.9259,   -999.0, 9, -999.000, 9
316N19871218, SAVE2, 99, 1, 9, 9, 2, 19880119, 1319, -18.5600, -35.7200, 3969,  -999.00,    400.6,  11.4267,  34.9803, 2,  34.9840, 2,   -999.0, 9,    184.9, 2,     6.74, 2,    16.22, 2,     0.00, 2,     1.14, 2,    1.221, 2,    0.584, 2,   2136.9, 2,   2320.7, 2,    628.7, 2,  11.3756,   -999.0, 9, -999.000, 9
316N19871218, SAVE2, 99, 1, 10, 10, 2, 19880119, 1319, -18.5600, -35.7200, 3969,  -999.00,    452.7,  10.0116,  34.8307, 2,  34.8270, 2,   -999.0, 9,    179.6, 2,     9.68, 2,    20.03, 2,     0.00, 2,     1.38, 2,    0.902, 2,    0.438, 2,   -999.0, 9,   -999.0, 9,   -999.0, 9,   9.9585,   -999.0, 9, -999.000, 9
316N19871218, SAVE2, 99, 1, 11, 11, 2, 19880119, 1319, -18.5600, -35.7200, 3969,  -999.00,    525.5,   8.0351,  34.6283, 2,  34.6310, 2,   -999.0, 9,    176.1, 2,    14.47, 2,    24.83, 2,     0.00, 2,     1.68, 2,    0.581, 2,    0.283, 2,   2170.9, 2,   2315.1, 2,    796.7, 2,   7.9809,   -999.0, 9, -999.000, 9
316N19871218, SAVE2, 99, 1, 12, 12, 2, 19880119, 1319, -18.5600, -35.7200, 3969,  -999.00,    596.3,   6.4988,  34.4925, 2,  34.4950, 2,   -999.0, 9,    185.2, 2,    18.77, 2,    27.76, 2,     0.00, 2,     1.87, 2,    0.408, 2,    0.207, 2,   -999.0, 9,   -999.0, 9,   -999.0, 9,   6.4441,   -999.0, 9, -999.000, 9
316N19871218, SAVE2, 99, 1, 13, 13, 2, 19880119, 1319, -18.5600, -35.7200, 3969,  -999.00,    620.2,   6.2292,  34.4966, 2,  34.4980, 2,   -999.0, 9,    168.7, 2,    21.02, 2,    29.72, 2,     0.00, 2,     1.98, 2,    0.204, 2,    0.113, 2,   -999.0, 9,   -999.0, 9,   -999.0, 9,   6.1734,   -999.0, 9, -999.000, 9
316N19871218, SAVE2, 99, 1, 14, 14, 2, 19880119, 1319, -18.5600, -35.7200, 3969,  -999.00,    685.6,   5.3123,  34.4368, 2,  34.4370, 2,   -999.0, 9,    175.2, 2,    25.32, 2,    31.19, 2,     0.00, 2,     2.08, 2,    0.141, 2,    0.076, 2,   2200.7, 2,   2309.7, 2,   1005.2, 2,   5.2552,   -999.0, 9, -999.000, 9
316N19871218, SAVE2, 99, 1, 15, 15, 2, 19880119, 1319, -18.5600, -35.7200, 3969,  -999.00,    730.3,   4.6913,  34.3875, 2,  34.3910, 2,   -999.0, 9,    192.2, 2,    27.96, 2,    30.89, 2,     0.00, 2,     2.08, 2,    0.202, 2,    0.108, 2,   -999.0, 9,   -999.0, 9,   -999.0, 9,   4.6338,   -999.0, 9, -999.000, 9
316N19871218, SAVE2, 99, 1, 16, 16, 2, 19880119, 1319, -18.5600, -35.7200, 3969,  -999.00,    790.4,   4.0632,  34.3668, 2,  34.3660, 2,   -999.0, 9,    200.8, 2,    32.85, 2,    31.09, 2,     0.00, 2,     2.11, 2,    0.217, 2,    0.102, 2,   2198.5, 2,   2313.4, 2,    967.7, 2,   4.0045,   -999.0, 9, -999.000, 9
316N19871218, SAVE2, 99, 1, 17, 17, 2, 19880119, 1319, -18.5600, -35.7200, 3969,  -999.00,    888.8,   3.7564,  34.3986, 2,  34.3980, 2,   -999.0, 9,    195.6, 2,    37.54, 2,    31.87, 2,     0.00, 2,     2.16, 2,    0.113, 2,    0.069, 2,   2208.0, 2,   2315.6, 2,   1021.0, 2,   3.6917,   -999.0, 9, -999.000, 9
316N19871218, SAVE2, 99, 1, 18, 18, 2, 19880119, 1319, -18.5600, -35.7200, 3969,  -999.00,    986.6,   3.5340,  34.4540, 2,  34.4540, 2,   -999.0, 9,    190.8, 2,    41.84, 2,    31.97, 2,     0.00, 2,     2.17, 2,    0.058, 2,    0.035, 2,   -999.0, 9,   -999.0, 9,   -999.0, 9,   3.4631,   -999.0, 9, -999.000, 9
316N19871218, SAVE2, 99, 1, 19, 19, 2, 19880119, 1319, -18.5600, -35.7200, 3969,  -999.00,   1030.8,   3.4973,  34.4783, 2,  34.4800, 2,   -999.0, 9,    190.4, 2,    42.62, 2,    31.77, 2,     0.00, 2,     2.16, 2,    0.050, 2,    0.030, 2,   2218.9, 2,   2325.7, 2,   1035.3, 2,   3.4232,   -999.0, 9, -999.000, 9
316N19871218, SAVE2, 99, 1, 20, 20, 2, 19880119, 1319, -18.5600, -35.7200, 3969,  -999.00,   1148.0,   3.6301,  34.5891, 2,  34.5890, 2,   -999.0, 9,    186.9, 2,    40.27, 2,    30.89, 2,     0.00, 2,     2.08, 2,    0.014, 2,    0.011, 2,   -999.0, 9,   -999.0, 9,   -999.0, 9,   3.5450,   -999.0, 9, -999.000, 9
316N19871218, SAVE2, 99, 1, 21, 21, 2, 19880119, 1319, -18.5600, -35.7200, 3969,  -999.00,   1262.9,   3.8779,  34.7231, 2,  34.7220, 2,   -999.0, 9,    193.0, 2,    33.82, 2,    28.54, 2,     0.00, 2,     1.92, 2,    0.003, 2,    0.003, 2,   -999.0, 9,   -999.0, 9,   -999.0, 9,   3.7806,   -999.0, 9, -999.000, 9
316N19871218, SAVE2, 99, 1, 22, 22, 2, 19880119, 1319, -18.5600, -35.7200, 3969,  -999.00,   1377.0,   4.0956,  34.8438, 2,  34.8440, 2,   -999.0, 9,    205.1, 2,    26.19, 2,    25.70, 2,     0.00, 2,     1.71, 2,    0.004, 2,    0.005, 2,   2195.1, 2,   2326.3, 2,    879.4, 2,   3.9858,   -999.0, 9, -999.000, 9
316N19871218, SAVE2, 99, 1, 23, 23, 2, 19880119, 1319, -18.5600, -35.7200, 3969,  -999.00,   1543.4,   4.0474,  34.9322, 2,  34.9320, 2,   -999.0, 9,    227.7, 2,    21.11, 2,    22.28, 2,     0.00, 2,     1.48, 2,    0.014, 2,    0.012, 2,   -999.0, 9,   -999.0, 9,   -999.0, 9,   3.9228,   -999.0, 9, -999.000, 9
316N19871218, SAVE2, 99, 1, 24, 24, 2, 19880119, 1319, -18.5600, -35.7200, 3969,  -999.00,   1712.4,   3.8323,  34.9587, 2,  34.9590, 2,   -999.0, 9,    242.0, 2,    20.03, 2,    20.72, 2,     0.00, 2,     1.37, 2,    0.015, 2,    0.015, 2,   -999.0, 9,   -999.0, 9,   -999.0, 9,   3.6946,   -999.0, 9, -999.000, 9
316N19871218, SAVE2, 99, 1, 25, 25, 2, 19880119, 1319, -18.5600, -35.7200, 3969,  -999.00,   1914.5,   3.6365,  34.9678, 2,  34.9690, 2,   -999.0, 9,    250.7, 2,    19.74, 2,    19.64, 2,     0.00, 2,     1.29, 2, -999.000, 9, -999.000, 9,   2170.9, 2,   2331.9, 2,    729.3, 2,   3.4825,   -999.0, 9, -999.000, 9
316N19871218, SAVE2, 99, 1, 26, 26, 2, 19880119, 1319, -18.5600, -35.7200, 3969,  -999.00,   2124.7,   3.3937,  34.9572, 2,  34.9580, 2,   -999.0, 9,    253.7, 2,    22.38, 2,    19.74, 2,     0.00, 2,     1.31, 2, -999.000, 9, -999.000, 9,   -999.0, 9,   -999.0, 9,   -999.0, 9,   3.2234,   -999.0, 9, -999.000, 9
316N19871218, SAVE2, 99, 1, 27, 27, 2, 19880119, 1319, -18.5600, -35.7200, 3969,  -999.00,   2313.9,   3.1841,  34.9472, 2,  34.9460, 2,   -999.0, 9,    253.3, 2,    24.82, 2,    19.94, 2,     0.00, 2,     1.33, 2,    0.005, 2,    0.008, 2,   2173.3, 2,   2332.3, 2,    739.0, 2,   2.9990,   -999.0, 9, -999.000, 9
316N19871218, SAVE2, 99, 1, 28, 28, 2, 19880119, 1319, -18.5600, -35.7200, 3969,  -999.00,   2529.0,   2.9930,  34.9362, 2,  34.9370, 2,   -999.0, 9,    252.4, 2,    28.05, 2,    20.23, 2,     0.00, 2,     1.34, 2,    0.006, 2,    0.001, 2,   -999.0, 9,   -999.0, 9,   -999.0, 9,   2.7904,   -999.0, 9, -999.000, 9
316N19871218, SAVE2, 99, 1, 29, 29, 2, 19880119, 1319, -18.5600, -35.7200, 3969,  -999.00,   2747.8,   2.8553,  34.9281, 2,  34.9270, 2,   -999.0, 9,    253.3, 2,    30.39, 2,    20.42, 2,     0.00, 2,     1.37, 2,    0.006, 2,    0.008, 2,   2176.1, 2,   2334.3, 2,    744.6, 2,   2.6335,   -999.0, 9, -999.000, 9
316N19871218, SAVE2, 99, 1, 30, 30, 2, 19880119, 1319, -18.5600, -35.7200, 3969,  -999.00,   2960.7,   2.7437,  34.9216, 2,  34.9220, 2,   -999.0, 9,    253.3, 2,    32.44, 2,    20.42, 2,     0.00, 2,     1.37, 2,    0.006, 2,    0.008, 2,   -999.0, 9,   -999.0, 9,   -999.0, 9,   2.5026,   -999.0, 9, -999.000, 9
316N19871218, SAVE2, 99, 1, 31, 31, 2, 19880119, 1319, -18.5600, -35.7200, 3969,  -999.00,   3185.8,   2.6134,  34.9134, 2,  34.9130, 2,   -999.0, 9,    254.2, 2,    34.69, 2,    20.62, 2,     0.00, 2,     1.38, 2, -999.000, 9, -999.000, 9,   -999.0, 9,   -999.0, 9,   -999.0, 9,   2.3519,   -999.0, 9, -999.000, 9
316N19871218, SAVE2, 99, 1, 32, 32, 2, 19880119, 1319, -18.5600, -35.7200, 3969,  -999.00,   3399.3,   2.4373,  34.8986, 2,  34.8980, 2,   -999.0, 9,    253.7, 2,    39.38, 2,    21.21, 2,     0.00, 2,     1.42, 2,    0.000, 2,    0.003, 2,   2185.9, 2,   2345.1, 2,    746.7, 2,   2.1574,   3410.2, 2,    2.429, 2
316N19871218, SAVE2, 99, 1, 33, 33, 2, 19880119, 1319, -18.5600, -35.7200, 3969,  -999.00,   3556.6,   2.2752,  34.8830, 2,  34.8830, 2,   -999.0, 9,    252.0, 2,    44.86, 2,    21.79, 2,     0.00, 2,     1.46, 2, -999.000, 9,    0.002, 2,   2192.1, 2,   2346.6, 2,    770.3, 2,   1.9825,   -999.0, 9, -999.000, 9
316N19871218, SAVE2, 99, 1, 34, 34, 2, 19880119, 1319, -18.5600, -35.7200, 3969,  -999.00,   3703.7,   2.0299,  34.8579, 2,  34.8580, 2,   -999.0, 9,    248.1, 2,    54.14, 2,    23.16, 2,     0.00, 2,     1.55, 2, -999.000, 9,    0.002, 2,   -999.0, 9,   -999.0, 9,   -999.0, 9,   1.7277,   -999.0, 9, -999.000, 9
316N19871218, SAVE2, 99, 1, 35, 35, 2, 19880119, 1319, -18.5600, -35.7200, 3969,  -999.00,   3902.0,   1.4440,  34.7962, 2,  34.7940, 2,   -999.0, 9,    237.2, 2,    79.26, 2,    26.58, 2,     0.00, 2,     1.81, 2,    0.000, 2,    0.002, 2,   2223.3, 2,   2360.3, 2,    874.4, 2,   1.1366,   3886.0, 2,    1.446, 2
316N19871218, SAVE2, 99, 1, 36, 36, 2, 19880119, 1319, -18.5600, -35.7200, 3969,  -999.00,   4034.7,   1.1485,  34.7638, 2,  34.7670, 2,   -999.0, 9,    231.1, 2,    91.58, 2,    28.25, 2,     0.00, 2,     1.93, 2,    0.000, 2,    0.005, 2,   2242.9, 2,   2374.7, 2,    915.0, 2,   0.8353,   -999.0, 9, -999.000, 9