BOTTLE,20110114CCHDOSIODM
EXPOCODE,SECT_ID,STNNBR,CASTNO,SAMPNO,BTLNBR,BTLNBR_FLAG_W,DATE,TIME,LATITUDE,LONGITUDE,DEPTH,CTDRAW,CTDPRS,CTDTMP,CTDSAL,CTDSAL_FLAG_W,SALNTY,SALNTY_FLAG_W,CTDOXY,CTDOXY_FLAG_W,OXYGEN,OXYGEN_FLAG_W,SILCAT,SILCAT_FLAG_W,NITRAT,NITRAT_FLAG_W,NITRIT,NITRIT_FLAG_W,PHSPHT,PHSPHT_FLAG_W,CFC-11,CFC-11_FLAG_W,CFC-12,CFC-12_FLAG_W,TCARBN,TCARBN_FLAG_W,ALKALI,ALKALI_FLAG_W,PCO2,PCO2_FLAG_W,THETA,REVPRS,REVPRS_FLAG_W,REVTMP,REVTMP_FLAG_W
,,,,,,,,,,,METERS,DBAR,DBAR,ITS-68,PSS-78,,PSS-78,,UMOL/KG,,UMOL/KG,,UMOL/KG,,UMOL/KG,,UMOL/KG,,UMOL/KG,,PMOL/KG,,PMOL/KG,,UMOL/KG,,UMOL/KG,,UATM,,DEG C,DBAR,,ITS-68,
316N19871218, SAVE2, 96, 1, 1, 1, 2, 19880118, 0313, -18.1350, -32.2467, 4548,  -999.00,      2.2,  27.9300,  37.5445, 2,  37.5450, 2,   -999.0, 9,    197.1, 2,     1.27, 2,     0.10, 2,     0.00, 2,     0.06, 2,    1.481, 2,    0.787, 2,   2075.8, 2,   2476.0, 2,    265.3, 2,  27.9294,   -999.0, 9, -999.000, 9
316N19871218, SAVE2, 96, 1, 2, 2, 2, 19880118, 0313, -18.1350, -32.2467, 4548,  -999.00,     30.8,  27.8497,  37.5287, 2,  37.5290, 2,   -999.0, 9,    199.0, 2,     1.27, 2,     0.10, 2,     0.00, 2,     0.08, 2,    1.475, 2,    0.778, 2,   2074.7, 2,   2471.5, 2,    267.9, 2,  27.8425,   -999.0, 9, -999.000, 9
316N19871218, SAVE2, 96, 1, 3, 3, 2, 19880118, 0313, -18.1350, -32.2467, 4548,  -999.00,     55.7,  27.2057,  37.4558, 2,  37.4420, 2,   -999.0, 9,    208.0, 2,     1.27, 2,     0.10, 2,     0.00, 2,     0.06, 2,    1.478, 2,    0.780, 2,   -999.0, 9,   -999.0, 9,   -999.0, 9,  27.1928,   -999.0, 9, -999.000, 9
316N19871218, SAVE2, 96, 1, 4, 4, 2, 19880118, 0313, -18.1350, -32.2467, 4548,  -999.00,     75.0,  25.3859,  37.1668, 2,  37.1650, 2,   -999.0, 9,    217.4, 2,     1.17, 2,     0.00, 2,     0.00, 2,     0.09, 2,    1.609, 2,    0.833, 2,   -999.0, 9,   -999.0, 9,   -999.0, 9,  25.3693,   -999.0, 9, -999.000, 9
316N19871218, SAVE2, 96, 1, 5, 5, 2, 19880118, 0313, -18.1350, -32.2467, 4548,  -999.00,     98.4,  24.6176,  37.1665, 2,  37.1550, 2,   -999.0, 9,    209.6, 2,     1.17, 2,     0.00, 2,     0.00, 2,     0.12, 2,    1.534, 2,    0.813, 2,   -999.0, 9,   -999.0, 9,   -999.0, 9,  24.5963,   -999.0, 9, -999.000, 9
316N19871218, SAVE2, 96, 1, 6, 6, 2, 19880118, 0313, -18.1350, -32.2467, 4548,  -999.00,    160.1,  21.3649,  36.5455, 2,  36.5320, 2,   -999.0, 9,    202.0, 2,     1.27, 2,     0.29, 2,     0.07, 2,     0.23, 2,    1.737, 2,    0.901, 2,   -999.0, 9,   -999.0, 9,   -999.0, 9,  21.3337,   -999.0, 9, -999.000, 9
316N19871218, SAVE2, 96, 1, 7, 7, 2, 19880118, 0313, -18.1350, -32.2467, 4548,  -999.00,    186.5,  19.9129,  36.2758, 2,  36.2500, 2,   -999.0, 9,    198.6, 2,     1.46, 2,     1.17, 2,     0.02, 2,     0.29, 2,    1.795, 2,    0.904, 2,   -999.0, 9,   -999.0, 9,   -999.0, 9,  19.8783,   -999.0, 9, -999.000, 9
316N19871218, SAVE2, 96, 1, 8, 8, 2, 19880118, 0313, -18.1350, -32.2467, 4548,  -999.00,    247.0,  16.4816,  35.6823, 2,  35.6520, 2,   -999.0, 9,    197.1, 2,     2.54, 2,     4.88, 2,     0.01, 2,     0.54, 2,    1.798, 2,    0.885, 2,   -999.0, 9,   -999.0, 9,   -999.0, 9,  16.4415,   -999.0, 9, -999.000, 9
316N19871218, SAVE2, 96, 1, 9, 9, 2, 19880118, 0313, -18.1350, -32.2467, 4548,  -999.00,    286.3,  14.7298,  35.4027, 2,  35.3960, 2,   -999.0, 9,    187.2, 2,     3.81, 2,     9.09, 2,     0.01, 2,     0.77, 2,    1.686, 2,    0.829, 2,   -999.0, 9,   -999.0, 9,   -999.0, 9,  14.6867,   -999.0, 9, -999.000, 9
316N19871218, SAVE2, 96, 1, 10, 10, 2, 19880118, 0313, -18.1350, -32.2467, 4548,  -999.00,    331.3,  13.3487,  35.2107, 2,  35.2110, 2,   -999.0, 9,    186.6, 2,     4.69, 2,    11.53, 2,     0.00, 2,     0.91, 2,    1.482, 2,    0.726, 2,   -999.0, 9,   -999.0, 9,   -999.0, 9,  13.3020,   -999.0, 9, -999.000, 9
316N19871218, SAVE2, 96, 1, 11, 11, 2, 19880118, 0313, -18.1350, -32.2467, 4548,  -999.00,    391.4,  11.4769,  34.9933, 2,  34.9960, 2,   -999.0, 9,    176.2, 2,     7.33, 2,    16.61, 2,     0.00, 2,     1.20, 2,    1.070, 2,    0.527, 2,   -999.0, 9,   -999.0, 9,   -999.0, 9,  11.4268,   -999.0, 9, -999.000, 9
316N19871218, SAVE2, 96, 1, 12, 12, 2, 19880118, 0313, -18.1350, -32.2467, 4548,  -999.00,    446.3,   9.8157,  34.8208, 2,  34.8240, 2,   -999.0, 9,    161.5, 2,    10.85, 2,    21.89, 2,     0.00, 2,     1.52, 2,    0.645, 2,    0.323, 2,   2167.4, 2,   -999.0, 9,   -999.0, 9,   9.7640,   -999.0, 9, -999.000, 9
316N19871218, SAVE2, 96, 1, 13, 13, 2, 19880118, 0313, -18.1350, -32.2467, 4548,  -999.00,    505.9,   7.7700,  34.5990, 2,  34.6130, 2,   -999.0, 9,    178.1, 2,    14.76, 2,    24.83, 2,     0.00, 2,     1.71, 2,    0.549, 2,    0.282, 2,   -999.0, 9,   -999.0, 9,   -999.0, 9,   7.7189,   -999.0, 9, -999.000, 9
316N19871218, SAVE2, 96, 1, 14, 14, 2, 19880118, 0313, -18.1350, -32.2467, 4548,  -999.00,    614.0,   5.5969,  34.4351, 2,  34.4350, 2,   -999.0, 9,    184.1, 2,    23.07, 2,    29.52, 2,     0.00, 2,     2.00, 2,    0.274, 2,    0.154, 2,   -999.0, 9,   -999.0, 9,   -999.0, 9,   5.5447,   -999.0, 9, -999.000, 9
316N19871218, SAVE2, 96, 1, 15, 15, 2, 19880118, 0313, -18.1350, -32.2467, 4548,  -999.00,    736.5,   4.4172,  34.3925, 2,  34.3910, 2,   -999.0, 9,    188.9, 2,    30.99, 2,    31.68, 2,     0.00, 2,     2.15, 2,    0.180, 2,    0.097, 2,   -999.0, 9,   -999.0, 9,   -999.0, 9,   4.3606,   -999.0, 9, -999.000, 9
316N19871218, SAVE2, 96, 1, 16, 16, 2, 19880118, 0313, -18.1350, -32.2467, 4548,  -999.00,    842.2,   3.8930,  34.4171, 2,  34.4150, 2,   -999.0, 9,    188.3, 2,    37.25, 2,    32.36, 2,     0.00, 2,     2.20, 2,    0.059, 2,    0.039, 2,   2213.0, 2,   -999.0, 9,   -999.0, 9,   3.8311,   -999.0, 9, -999.000, 9
316N19871218, SAVE2, 96, 1, 17, 17, 2, 19880118, 0313, -18.1350, -32.2467, 4548,  -999.00,    956.7,   3.6172,  34.4728, 2,  34.4720, 2,   -999.0, 9,    186.0, 2,    41.35, 2,    32.06, 2,     0.00, 2,     2.19, 2,    0.033, 2,    0.023, 2,   2222.5, 2,   -999.0, 9,   -999.0, 9,   3.5480,   -999.0, 9, -999.000, 9
316N19871218, SAVE2, 96, 1, 18, 18, 2, 19880118, 0313, -18.1350, -32.2467, 4548,  -999.00,   1112.9,   3.6629,  34.6028, 2,  34.6010, 2,   -999.0, 9,    186.0, 2,    39.88, 2,    30.50, 2,     0.00, 2,     2.10, 2,    0.017, 2,    0.019, 2,   2222.6, 2,   -999.0, 9,   -999.0, 9,   3.5805,   -999.0, 9, -999.000, 9
316N19871218, SAVE2, 96, 1, 19, 19, 2, 19880118, 0313, -18.1350, -32.2467, 4548,  -999.00,   1281.8,   4.0359,  34.7873, 2,  34.7840, 2,   -999.0, 9,    195.9, 2,    29.71, 2,    27.07, 2,     0.00, 2,     1.84, 2, -999.000, 9, -999.000, 9,   -999.0, 9,   -999.0, 9,   -999.0, 9,   3.9353,   -999.0, 9, -999.000, 9
316N19871218, SAVE2, 96, 1, 20, 20, 2, 19880118, 0313, -18.1350, -32.2467, 4548,  -999.00,   1386.0,   4.0407,  34.8559, 2,  34.8520, 2,   -999.0, 9,    208.0, 2,    26.68, 2,    25.12, 2,     0.00, 2,     1.69, 2,    0.006, 2,    0.013, 2,   2200.8, 2,   -999.0, 9,   -999.0, 9,   3.9307,   -999.0, 9, -999.000, 9
316N19871218, SAVE2, 96, 1, 21, 21, 2, 19880118, 0313, -18.1350, -32.2467, 4548,  -999.00,   1594.5,   3.9219,  34.9422, 2,  34.9400, 2,   -999.0, 9,    233.3, 2,    21.50, 2,    21.40, 2,     0.00, 2,     1.44, 2,    0.010, 2,    0.012, 2,   -999.0, 9,   -999.0, 9,   -999.0, 9,   3.7940,   -999.0, 9, -999.000, 9
316N19871218, SAVE2, 96, 1, 22, 22, 2, 19880118, 0313, -18.1350, -32.2467, 4548,  -999.00,   1820.8,   3.6376,  34.9603, 2,  34.9580, 2,   -999.0, 9,    247.3, 2,    20.81, 2,    19.94, 2,     0.00, 2,     1.34, 2,    0.011, 2,    0.013, 2,   2175.3, 2,   -999.0, 9,   -999.0, 9,   3.4923,   -999.0, 9, -999.000, 9
316N19871218, SAVE2, 96, 1, 23, 23, 2, 19880118, 0313, -18.1350, -32.2467, 4548,  -999.00,   2001.5,   3.4514,  34.9597, 2,  34.9580, 2,   -999.0, 9,    252.0, 2,    21.60, 2,    19.54, 2,     0.00, 2,     1.31, 2,    0.010, 2,    0.013, 2,   2159.9, 3,   -999.0, 9,   -999.0, 9,   3.2919,   -999.0, 9, -999.000, 9
316N19871218, SAVE2, 96, 1, 24, 24, 2, 19880118, 0313, -18.1350, -32.2467, 4548,  -999.00,   2202.6,   3.2214,  34.9436, 2,  34.9420, 2,   -999.0, 9,    250.8, 2,    25.60, 2,    20.03, 2,     0.00, 2,     1.34, 2,    0.004, 2,    0.010, 2,   2179.3, 2,   -999.0, 9,   -999.0, 9,   3.0464,   -999.0, 9, -999.000, 9
316N19871218, SAVE2, 96, 1, 25, 25, 2, 19880118, 0313, -18.1350, -32.2467, 4548,  -999.00,   2454.4,   3.0487,  34.9404, 2,  34.9390, 2,   -999.0, 9,    252.9, 2,    27.26, 2,    19.94, 2,     0.00, 2,     1.34, 2, -999.000, 9, -999.000, 9,   -999.0, 9,   -999.0, 9,   -999.0, 9,   2.8523,   -999.0, 9, -999.000, 9
316N19871218, SAVE2, 96, 1, 26, 26, 2, 19880118, 0313, -18.1350, -32.2467, 4548,  -999.00,   2698.9,   2.9656,  34.9348, 2,  34.9330, 2,   -999.0, 9,    252.9, 2,    29.02, 2,    20.03, 2,     0.00, 2,     1.34, 2,    0.007, 2,    0.011, 2,   -999.0, 9,   -999.0, 9,   -999.0, 9,   2.7466,   -999.0, 9, -999.000, 9
316N19871218, SAVE2, 96, 1, 27, 27, 2, 19880118, 0313, -18.1350, -32.2467, 4548,  -999.00,   2950.8,   2.8563,  34.9264, 2,  34.9240, 2,   -999.0, 9,    251.8, 2,    31.37, 2,    20.33, 2,     0.00, 2,     1.37, 2, -999.000, 9, -999.000, 9,   2185.8, 2,   -999.0, 9,   -999.0, 9,   2.6138,   -999.0, 9, -999.000, 9
316N19871218, SAVE2, 96, 1, 28, 28, 2, 19880118, 0313, -18.1350, -32.2467, 4548,  -999.00,   3201.8,   2.7462,  34.9190, 2,  34.9160, 2,   -999.0, 9,    251.7, 2,    33.52, 2,    20.52, 2,     0.00, 2,     1.38, 2,    0.002, 2,    0.002, 2,   -999.0, 9,   -999.0, 9,   -999.0, 9,   2.4798,   -999.0, 9, -999.000, 9
316N19871218, SAVE2, 96, 1, 29, 29, 2, 19880118, 0313, -18.1350, -32.2467, 4548,  -999.00,   3474.1,   2.5899,  34.9100, 2,  34.9080, 2,   -999.0, 9,    254.5, 2,    35.47, 2,    20.52, 2,     0.00, 2,     1.39, 2, -999.000, 9, -999.000, 9,   -999.0, 9,   -999.0, 9,   -999.0, 9,   2.2981,   -999.0, 9, -999.000, 9
316N19871218, SAVE2, 96, 1, 30, 30, 2, 19880118, 0313, -18.1350, -32.2467, 4548,  -999.00,   3723.0,   2.3308,  34.8885, 2,  34.8870, 2,   -999.0, 9,   -999.0, 9,    42.51, 2,    21.40, 2,     0.00, 2,     1.44, 2,    0.005, 2,    0.003, 2,   2194.4, 2,   -999.0, 9,   -999.0, 9,   2.0184,   -999.0, 9, -999.000, 9
316N19871218, SAVE2, 96, 1, 31, 31, 2, 19880118, 0313, -18.1350, -32.2467, 4548,  -999.00,   3953.0,   1.8867,  34.8404, 2,  34.8390, 2,   -999.0, 9,    244.1, 2,    60.89, 2,    24.04, 2,     0.00, 2,     1.63, 2, -999.000, 9,    0.003, 2,   -999.0, 9,   -999.0, 9,   -999.0, 9,   1.5612,   -999.0, 9, -999.000, 9
316N19871218, SAVE2, 96, 1, 32, 32, 2, 19880118, 0313, -18.1350, -32.2467, 4548,  -999.00,   4155.7,   1.4487,  34.7933, 2,  34.7900, 2,   -999.0, 9,   -999.0, 9,    79.65, 2,    26.78, 2,     0.00, 2,     1.82, 2, -999.000, 9,    0.002, 2,   -999.0, 9,   -999.0, 9,   -999.0, 9,   1.1135,   4170.6, 2,    1.454, 2
316N19871218, SAVE2, 96, 1, 33, 33, 2, 19880118, 0313, -18.1350, -32.2467, 4548,  -999.00,   4354.0,   1.0405,  34.7497, 2,  34.7480, 2,   -999.0, 9,    228.6, 2,    95.88, 2,    29.03, 2,     0.00, 2,     1.98, 2,    0.002, 2,    0.001, 2,   -999.0, 9,   -999.0, 9,   -999.0, 9,   0.6957,   -999.0, 9, -999.000, 9
316N19871218, SAVE2, 96, 1, 34, 34, 2, 19880118, 0313, -18.1350, -32.2467, 4548,  -999.00,   4462.7,   0.7831,  34.7236, 2,  34.7220, 2,   -999.0, 9,    224.4, 2,   106.14, 2,    30.40, 2,     0.00, 2,     2.09, 2,    0.007, 2,    0.014, 2,   -999.0, 9,   -999.0, 9,   -999.0, 9,   0.4344,   -999.0, 9, -999.000, 9
316N19871218, SAVE2, 96, 1, 35, 35, 2, 19880118, 0313, -18.1350, -32.2467, 4548,  -999.00,   4572.5,   0.5680,  34.7021, 2,  34.6970, 2,   -999.0, 9,    222.2, 2,   114.65, 2,    31.47, 2,     0.00, 2,     2.17, 2,    0.017, 2,    0.018, 2,   -999.0, 9,   -999.0, 9,   -999.0, 9,   0.2140,   4557.5, 2,    0.571, 2
316N19871218, SAVE2, 96, 1, 36, 36, 2, 19880118, 0313, -18.1350, -32.2467, 4548,  -999.00,   4625.3,   0.5731,  34.7023, 2,  34.7020, 2,   -999.0, 9,    222.0, 2,   114.36, 2,    31.47, 2,     0.00, 2,     2.15, 2,    0.020, 2,    0.016, 2,   2264.6, 2,   2385.2, 2,    995.5, 2,   0.2130,   -999.0, 9, -999.000, 9