BOTTLE,20110114CCHDOSIODM
EXPOCODE,SECT_ID,STNNBR,CASTNO,SAMPNO,BTLNBR,BTLNBR_FLAG_W,DATE,TIME,LATITUDE,LONGITUDE,DEPTH,CTDRAW,CTDPRS,CTDTMP,CTDSAL,CTDSAL_FLAG_W,SALNTY,SALNTY_FLAG_W,CTDOXY,CTDOXY_FLAG_W,OXYGEN,OXYGEN_FLAG_W,SILCAT,SILCAT_FLAG_W,NITRAT,NITRAT_FLAG_W,NITRIT,NITRIT_FLAG_W,PHSPHT,PHSPHT_FLAG_W,CFC-11,CFC-11_FLAG_W,CFC-12,CFC-12_FLAG_W,TCARBN,TCARBN_FLAG_W,ALKALI,ALKALI_FLAG_W,PCO2,PCO2_FLAG_W,THETA,REVPRS,REVPRS_FLAG_W,REVTMP,REVTMP_FLAG_W
,,,,,,,,,,,METERS,DBAR,DBAR,ITS-68,PSS-78,,PSS-78,,UMOL/KG,,UMOL/KG,,UMOL/KG,,UMOL/KG,,UMOL/KG,,UMOL/KG,,PMOL/KG,,PMOL/KG,,UMOL/KG,,UMOL/KG,,UATM,,DEG C,DBAR,,ITS-68,
316N19871218, SAVE2, 94, 1, 1, 1, 2, 19880116, 1357, -17.7617, -29.8933, 4851,  -999.00,      2.1,  27.9281,  37.4483, 2,  37.4510, 2,   -999.0, 9,    197.9, 2,     1.09, 2,     0.19, 2,     0.00, 2,     0.07, 2,    1.485, 2,    0.745, 2,   2066.7, 2,   2472.2, 2,    258.0, 2,  27.9276,   -999.0, 9, -999.000, 9
316N19871218, SAVE2, 94, 1, 2, 2, 2, 19880116, 1357, -17.7617, -29.8933, 4851,  -999.00,     32.3,  27.5733,  37.4724, 2,  37.4720, 2,   -999.0, 9,    200.1, 2,     1.09, 2,     0.19, 2,     0.00, 2,     0.10, 2,    1.498, 2,    0.754, 2,   2076.6, 2,   2471.9, 2,    269.3, 2,  27.5657,   -999.0, 9, -999.000, 9
316N19871218, SAVE2, 94, 1, 3, 3, 2, 19880116, 1357, -17.7617, -29.8933, 4851,  -999.00,     76.7,  25.1777,  37.1732, 2,  37.1750, 2,   -999.0, 9,    215.2, 2,     1.09, 2,     0.19, 2,     0.00, 2,     0.15, 2,    1.599, 2,    0.802, 2,   -999.0, 9,   -999.0, 9,   -999.0, 9,  25.1609,   -999.0, 9, -999.000, 9
316N19871218, SAVE2, 94, 1, 4, 4, 2, 19880116, 1357, -17.7617, -29.8933, 4851,  -999.00,    147.8,  22.3825,  36.7516, 2,  36.7180, 2,   -999.0, 9,    204.7, 2,     0.97, 2,     0.16, 2,     0.03, 2,     0.20, 2,    1.670, 2,    0.843, 2,   -999.0, 9,   -999.0, 9,   -999.0, 9,  22.3526,   -999.0, 9, -999.000, 9
316N19871218, SAVE2, 94, 1, 5, 5, 2, 19880116, 1357, -17.7617, -29.8933, 4851,  -999.00,    167.1,  21.0197,  36.4933, 2,  36.4750, 2,   -999.0, 9,    201.2, 2,     1.21, 2,     0.41, 2,     0.07, 2,     0.25, 2,    1.720, 2,    0.860, 2,   -999.0, 9,   -999.0, 9,   -999.0, 9,  20.9875,   -999.0, 9, -999.000, 9
316N19871218, SAVE2, 94, 1, 6, 6, 2, 19880116, 1357, -17.7617, -29.8933, 4851,  -999.00,    239.6,  16.1384,  35.6154, 2,  35.6000, 2,   -999.0, 9,    199.8, 2,     2.41, 2,     5.23, 2,     0.01, 2,     0.54, 2,    1.832, 2,    0.878, 2,   -999.0, 9,   -999.0, 9,   -999.0, 9,  16.1000,   -999.0, 9, -999.000, 9
316N19871218, SAVE2, 94, 1, 7, 7, 2, 19880116, 1357, -17.7617, -29.8933, 4851,  -999.00,    266.8,  14.9985,  35.4418, 2,  35.4320, 2,   -999.0, 9,    198.9, 2,     3.14, 2,     7.39, 2,     0.00, 2,     0.64, 2,    1.761, 2,    0.852, 2,   -999.0, 9,   -999.0, 9,   -999.0, 9,  14.9579,   -999.0, 9, -999.000, 9
316N19871218, SAVE2, 94, 1, 8, 8, 2, 19880116, 1357, -17.7617, -29.8933, 4851,  -999.00,    319.8,  13.0950,  35.1804, 2,  35.1830, 2,   -999.0, 9,    189.2, 2,     4.58, 2,    12.24, 2,     0.00, 2,     0.91, 2,    1.443, 2,    0.689, 2,   -999.0, 9,   -999.0, 9,   -999.0, 9,  13.0505,   -999.0, 9, -999.000, 9
316N19871218, SAVE2, 94, 1, 9, 9, 2, 19880116, 1357, -17.7617, -29.8933, 4851,  -999.00,    424.1,  10.0682,  34.8393, 2,  34.8420, 2,   -999.0, 9,    168.3, 2,    10.25, 2,    21.08, 2,     0.00, 2,     1.44, 2,    0.748, 2,    0.363, 2,   -999.0, 9,   -999.0, 9,   -999.0, 9,  10.0183,   -999.0, 9, -999.000, 9
316N19871218, SAVE2, 94, 1, 10, 10, 2, 19880116, 1357, -17.7617, -29.8933, 4851,  -999.00,    461.1,   9.1208,  34.7591, 2,  34.7570, 2,   -999.0, 9,    156.6, 2,    13.01, 2,    24.57, 2,     0.00, 2,     1.66, 2,    0.472, 2,    0.241, 2,   -999.0, 9,   -999.0, 9,   -999.0, 9,   9.0696,   -999.0, 9, -999.000, 9
316N19871218, SAVE2, 94, 1, 11, 11, 2, 19880116, 1357, -17.7617, -29.8933, 4851,  -999.00,    490.1,   8.3128,  34.6666, 2,  34.6740, 2,   -999.0, 9,    163.1, 2,    14.57, 2,    25.75, 2,     0.00, 2,     1.73, 2,    0.435, 2,    0.221, 2,   -999.0, 9,   -999.0, 9,   -999.0, 9,   8.2613,   -999.0, 9, -999.000, 9
316N19871218, SAVE2, 94, 1, 12, 12, 2, 19880116, 1357, -17.7617, -29.8933, 4851,  -999.00,    590.0,   6.1207,  34.4650, 2,  34.4880, 2,   -999.0, 9,    184.8, 2,    20.35, 2,    28.70, 2,     0.00, 2,     1.93, 2,    0.346, 2,    0.180, 2,   -999.0, 9,   -999.0, 9,   -999.0, 9,   6.0683,   -999.0, 9, -999.000, 9
316N19871218, SAVE2, 94, 1, 13, 13, 2, 19880116, 1357, -17.7617, -29.8933, 4851,  -999.00,    657.1,   5.0516,  34.3957, 2,  34.3960, 2,   -999.0, 9,    193.5, 2,    25.40, 2,    30.38, 2,     0.00, 2,     2.04, 2,    0.271, 2,    0.138, 2,   -999.0, 9,   -999.0, 9,   -999.0, 9,   4.9984,   -999.0, 9, -999.000, 9
316N19871218, SAVE2, 94, 1, 14, 14, 2, 19880116, 1357, -17.7617, -29.8933, 4851,  -999.00,    747.3,   4.1953,  34.3710, 2,  34.3660, 2,   -999.0, 9,    199.5, 2,    32.12, 2,    31.47, 2,     0.00, 2,     2.13, 2,    0.215, 2,    0.112, 2,   -999.0, 9,   -999.0, 9,   -999.0, 9,   4.1392,   -999.0, 9, -999.000, 9
316N19871218, SAVE2, 94, 1, 15, 15, 2, 19880116, 1357, -17.7617, -29.8933, 4851,  -999.00,    850.3,   3.7320,  34.4027, 2,  34.4040, 2,   -999.0, 9,    193.9, 2,    38.96, 2,    32.30, 2,     0.00, 2,     2.19, 2,    0.105, 2,    0.056, 2,   -999.0, 9,   -999.0, 9,   -999.0, 9,   3.6706,   -999.0, 9, -999.000, 9
316N19871218, SAVE2, 94, 1, 16, 16, 2, 19880116, 1357, -17.7617, -29.8933, 4851,  -999.00,    970.5,   3.5378,  34.4709, 2,  34.4720, 2,   -999.0, 9,    189.1, 2,    42.67, 2,    32.40, 2,     0.00, 2,     2.20, 2,    0.038, 2,    0.016, 2,   2225.6, 2,   -999.0, 9,   -999.0, 9,   3.4681,   -999.0, 9, -999.000, 9
316N19871218, SAVE2, 94, 1, 17, 17, 2, 19880116, 1357, -17.7617, -29.8933, 4851,  -999.00,   1078.2,   3.6641,  34.5841, 2,  34.5840, 2,   -999.0, 9,    184.7, 2,    40.24, 2,    31.50, 2,     0.00, 2,     2.12, 2,    0.003, 2,    0.004, 2,   -999.0, 9,   -999.0, 9,   -999.0, 9,   3.5846,   -999.0, 9, -999.000, 9
316N19871218, SAVE2, 94, 1, 18, 18, 2, 19880116, 1357, -17.7617, -29.8933, 4851,  -999.00,   1229.5,   3.9153,  34.7368, 2,  34.7370, 2,   -999.0, 9,    191.2, 2,    33.13, 2,    28.68, 2,     0.00, 2,     1.93, 2, -999.000, 9,    0.004, 2,   -999.0, 9,   -999.0, 9,   -999.0, 9,   3.8205,   -999.0, 9, -999.000, 9
316N19871218, SAVE2, 94, 1, 19, 19, 2, 19880116, 1357, -17.7617, -29.8933, 4851,  -999.00,   1377.5,   4.0959,  34.8701, 2,  34.8730, 2,   -999.0, 9,    209.9, 2,    25.44, 2,    25.04, 2,     0.00, 2,     1.67, 2,    0.006, 2,    0.001, 2,   -999.0, 9,   -999.0, 9,   -999.0, 9,   3.9860,   -999.0, 9, -999.000, 9
316N19871218, SAVE2, 94, 1, 20, 20, 2, 19880116, 1357, -17.7617, -29.8933, 4851,  -999.00,   1573.9,   3.9240,  34.9369, 2,  34.9370, 2,   -999.0, 9,    232.0, 2,    22.06, 2,    22.08, 2,     0.00, 2,     1.46, 2,    0.009, 2,    0.013, 2,   -999.0, 9,   -999.0, 9,   -999.0, 9,   3.7980,   -999.0, 9, -999.000, 9
316N19871218, SAVE2, 94, 1, 21, 21, 2, 19880116, 1357, -17.7617, -29.8933, 4851,  -999.00,   1710.1,   3.7469,  34.9556, 2,  34.9550, 2,   -999.0, 9,    242.9, 2,    21.10, 2,    20.81, 2,     0.00, 2,     1.37, 2,    0.008, 2,    0.004, 2,   2177.7, 2,   -999.0, 9,   -999.0, 9,   3.6105,   -999.0, 9, -999.000, 9
316N19871218, SAVE2, 94, 1, 22, 22, 2, 19880116, 1357, -17.7617, -29.8933, 4851,  -999.00,   1912.4,   3.4584,  34.9496, 2,  34.9510, 2,   -999.0, 9,    248.5, 2,    23.12, 2,    20.36, 2,     0.00, 2,     1.36, 2,    0.005, 2,    0.006, 2,   -999.0, 9,   -999.0, 9,   -999.0, 9,   3.3071,   -999.0, 9, -999.000, 9
316N19871218, SAVE2, 94, 1, 24, 24, 2, 19880116, 1357, -17.7617, -29.8933, 4851,  -999.00,   2042.6,   3.3330,  34.9473, 2,  34.9490, 2,   -999.0, 9,    250.3, 2,    24.18, 2,    20.36, 2,     0.00, 2,     1.34, 2, -999.000, 9, -999.000, 9,   -999.0, 9,   -999.0, 9,   -999.0, 9,   3.1715,   -999.0, 9, -999.000, 9
316N19871218, SAVE2, 94, 1, 25, 25, 2, 19880116, 1357, -17.7617, -29.8933, 4851,  -999.00,   2177.1,   3.2082,  34.9415, 2,  34.9430, 2,   -999.0, 9,    250.7, 2,    25.84, 2,    20.41, 2,     0.00, 2,     1.35, 2, -999.000, 9,    0.004, 2,   -999.0, 9,   -999.0, 9,   -999.0, 9,   3.0359,   -999.0, 9, -999.000, 9
316N19871218, SAVE2, 94, 1, 26, 26, 2, 19880116, 1357, -17.7617, -29.8933, 4851,  -999.00,   2331.5,   3.0369,  34.9239, 2,  34.9240, 2,   -999.0, 9,    247.7, 2,    30.37, 2,    21.14, 2,     0.00, 2,     1.40, 2, -999.000, 9, -999.000, 9,   -999.0, 9,   -999.0, 9,   -999.0, 9,   2.8527,   -999.0, 9, -999.000, 9
316N19871218, SAVE2, 94, 1, 23, 23, 2, 19880116, 1357, -17.7617, -29.8933, 4851,  -999.00,   2488.8,   2.9406,  34.9199, 2,  34.9230, 2,   -999.0, 9,    247.7, 2,    32.45, 2,    21.34, 2,     0.00, 2,     1.42, 2, -999.000, 9, -999.000, 9,   -999.0, 9,   -999.0, 9,   -999.0, 9,   2.7430,   -999.0, 9, -999.000, 9
316N19871218, SAVE2, 94, 1, 27, 27, 2, 19880116, 1357, -17.7617, -29.8933, 4851,  -999.00,   2747.3,   2.8559,  34.9204, 2,  34.9210, 2,   -999.0, 9,    249.4, 2,    32.87, 2,    21.14, 2,     0.00, 2,     1.40, 2, -999.000, 9,    0.001, 2,   -999.0, 9,   -999.0, 9,   -999.0, 9,   2.6342,   -999.0, 9, -999.000, 9
316N19871218, SAVE2, 94, 1, 28, 28, 2, 19880116, 1357, -17.7617, -29.8933, 4851,  -999.00,   3001.9,   2.7633,  34.9162, 2,  34.9170, 2,   -999.0, 9,    249.8, 2,    34.41, 2,    21.09, 2,     0.00, 2,     1.40, 2, -999.000, 9, -999.000, 9,   -999.0, 9,   -999.0, 9,   -999.0, 9,   2.5176,   -999.0, 9, -999.000, 9
316N19871218, SAVE2, 94, 1, 29, 29, 2, 19880116, 1357, -17.7617, -29.8933, 4851,  -999.00,   3224.6,   2.6991,  34.9137, 2,  34.9150, 2,   -999.0, 9,    251.1, 2,    35.11, 2,    21.13, 2,     0.00, 2,     1.40, 2,    0.002, 2,    0.001, 2,   -999.0, 9,   -999.0, 9,   -999.0, 9,   2.4314,   -999.0, 9, -999.000, 9
316N19871218, SAVE2, 94, 1, 30, 30, 2, 19880116, 1357, -17.7617, -29.8933, 4851,  -999.00,   3447.2,   2.6114,  34.9081, 2,  34.9090, 2,   -999.0, 9,    252.4, 2,    36.41, 2,    21.13, 2,     0.00, 2,     1.40, 2,    0.004, 2,    0.002, 2,   2192.8, 2,   -999.0, 9,   -999.0, 9,   2.3220,   -999.0, 9, -999.000, 9
316N19871218, SAVE2, 94, 1, 31, 31, 2, 19880116, 1357, -17.7617, -29.8933, 4851,  -999.00,   3751.2,   2.4223,  34.8940, 2,  34.8940, 2,   -999.0, 9,    252.9, 2,    40.57, 2,    21.38, 2,     0.00, 2,     1.43, 2,    0.001, 2,    0.001, 2,   -999.0, 9,   -999.0, 9,   -999.0, 9,   2.1044,   -999.0, 9, -999.000, 9
316N19871218, SAVE2, 94, 1, 32, 32, 2, 19880116, 1357, -17.7617, -29.8933, 4851,  -999.00,   4004.6,   2.0372,  34.8541, 2,  34.8580, 2,   -999.0, 9,    246.8, 2,    55.96, 2,    23.33, 2,     0.00, 2,     1.58, 2, -999.000, 9,    0.000, 2,   -999.0, 9,   -999.0, 9,   -999.0, 9,   1.7016,   4022.5, 2,    2.037, 2
316N19871218, SAVE2, 94, 1, 33, 33, 2, 19880116, 1357, -17.7617, -29.8933, 4851,  -999.00,   4266.4,   1.4859,  34.7948, 2,  34.7960, 2,   -999.0, 9,    236.4, 2,    78.69, 2,    26.68, 2,     0.00, 2,     1.82, 2,    0.001, 2,    0.000, 2,   -999.0, 9,   -999.0, 9,   -999.0, 9,   1.1372,   -999.0, 9, -999.000, 9
316N19871218, SAVE2, 94, 1, 34, 34, 2, 19880116, 1357, -17.7617, -29.8933, 4851,  -999.00,   4551.4,   1.0047,  34.7431, 2,  34.7430, 2,   -999.0, 9,    228.1, 2,    98.90, 2,    29.48, 2,     0.00, 2,     2.03, 2,    0.001, 2,    0.000, 2,   -999.0, 9,   -999.0, 9,   -999.0, 9,   0.6389,   -999.0, 9, -999.000, 9
316N19871218, SAVE2, 94, 1, 35, 35, 2, 19880116, 1357, -17.7617, -29.8933, 4851,  -999.00,   4857.4,   0.4187,  34.6866, 2,  34.6860, 2,   -999.0, 9,    222.0, 2,   122.23, 2,    32.24, 2,     0.00, 2,     2.21, 2,    0.020, 2,    0.012, 2,   -999.0, 9,   -999.0, 9,   -999.0, 9,   0.0377,   4842.8, 2,    0.421, 2
316N19871218, SAVE2, 94, 1, 36, 36, 2, 19880116, 1357, -17.7617, -29.8933, 4851,  -999.00,   4927.7,   0.3745,  34.6815, 2,  34.6820, 2,   -999.0, 9,    221.6, 2,   123.83, 2,    32.29, 2,     0.00, 2,     2.23, 2,    0.030, 2,    0.022, 2,   2266.6, 2,   2382.6, 2,   1026.4, 2,  -0.0130,   -999.0, 9, -999.000, 9