BOTTLE,20110114CCHDOSIODM
EXPOCODE,SECT_ID,STNNBR,CASTNO,SAMPNO,BTLNBR,BTLNBR_FLAG_W,DATE,TIME,LATITUDE,LONGITUDE,DEPTH,CTDRAW,CTDPRS,CTDTMP,CTDSAL,CTDSAL_FLAG_W,SALNTY,SALNTY_FLAG_W,CTDOXY,CTDOXY_FLAG_W,OXYGEN,OXYGEN_FLAG_W,SILCAT,SILCAT_FLAG_W,NITRAT,NITRAT_FLAG_W,NITRIT,NITRIT_FLAG_W,PHSPHT,PHSPHT_FLAG_W,CFC-11,CFC-11_FLAG_W,CFC-12,CFC-12_FLAG_W,TCARBN,TCARBN_FLAG_W,ALKALI,ALKALI_FLAG_W,PCO2,PCO2_FLAG_W,THETA,REVPRS,REVPRS_FLAG_W,REVTMP,REVTMP_FLAG_W
,,,,,,,,,,,METERS,DBAR,DBAR,ITS-68,PSS-78,,PSS-78,,UMOL/KG,,UMOL/KG,,UMOL/KG,,UMOL/KG,,UMOL/KG,,UMOL/KG,,PMOL/KG,,PMOL/KG,,UMOL/KG,,UMOL/KG,,UATM,,DEG C,DBAR,,ITS-68,
316N19871218, SAVE2, 100, 1, 1, 1, 2, 19880120, 0732, -18.6217, -36.2183, 3863,  -999.00,      0.4,  28.4517,  37.3671, 2,  37.3680, 2,   -999.0, 9,    197.6, 2,     1.07, 2,     0.10, 2,     0.00, 2,     0.02, 2,    1.405, 2,    0.711, 2,   2050.1, 2,   2455.4, 2,    253.6, 2,  28.4516,   -999.0, 9, -999.000, 9
316N19871218, SAVE2, 100, 1, 2, 2, 2, 19880120, 0732, -18.6217, -36.2183, 3863,  -999.00,     40.0,  28.1826,  37.3567, 2,  37.3580, 2,   -999.0, 9,    200.6, 2,     1.07, 2,     0.00, 2,     0.00, 2,     0.03, 2,    1.408, 2,    0.698, 2,   2050.4, 2,   -999.0, 9,   -999.0, 9,  28.1731,   -999.0, 9, -999.000, 9
316N19871218, SAVE2, 100, 1, 3, 3, 2, 19880120, 0732, -18.6217, -36.2183, 3863,  -999.00,     59.2,  26.6343,  37.3357, 2,  37.3410, 2,   -999.0, 9,    212.3, 2,     1.07, 2,     0.00, 2,     0.00, 2,     0.10, 2,    1.527, 2,    0.773, 2,   2065.6, 2,   -999.0, 9,   -999.0, 9,  26.6208,   -999.0, 9, -999.000, 9
316N19871218, SAVE2, 100, 1, 4, 4, 2, 19880120, 0732, -18.6217, -36.2183, 3863,  -999.00,     96.9,  25.3802,  37.3354, 2,  37.3370, 2,   -999.0, 9,    203.0, 2,     0.88, 2,     0.00, 2,     0.00, 2,     0.12, 2,    1.569, 2,    0.802, 2,   2078.4, 2,   2460.5, 2,    280.8, 2,  25.3587,   -999.0, 9, -999.000, 9
316N19871218, SAVE2, 100, 1, 5, 5, 2, 19880120, 0732, -18.6217, -36.2183, 3863,  -999.00,    157.6,  24.0780,  37.0994, 2,  37.1020, 2,   -999.0, 9,    196.0, 2,     0.88, 2,     0.10, 2,     0.26, 2,     0.20, 2,    1.577, 2,    0.795, 2,   2086.5, 2,   -999.0, 9,   -999.0, 9,  24.0445,   -999.0, 9, -999.000, 9
316N19871218, SAVE2, 100, 1, 6, 6, 2, 19880120, 0732, -18.6217, -36.2183, 3863,  -999.00,    182.1,  22.3560,  36.7634, 2,  36.7110, 2,   -999.0, 9,    195.1, 2,     0.98, 2,     0.49, 2,     0.04, 2,     0.26, 2,    1.682, 2,    0.829, 2,   2092.2, 2,   -999.0, 9,   -999.0, 9,  22.3192,   -999.0, 9, -999.000, 9
316N19871218, SAVE2, 100, 1, 7, 7, 2, 19880120, 0732, -18.6217, -36.2183, 3863,  -999.00,    221.7,  19.9020,  36.2818, 2,  36.2730, 2,   -999.0, 9,    193.3, 2,     1.27, 2,     1.66, 2,     0.02, 2,     0.35, 2,    1.776, 2,    0.876, 2,   2095.7, 2,   -999.0, 9,   -999.0, 9,  19.8608,   -999.0, 9, -999.000, 9
316N19871218, SAVE2, 100, 1, 8, 8, 2, 19880120, 0732, -18.6217, -36.2183, 3863,  -999.00,    283.1,  16.0734,  35.6056, 2,  35.6070, 2,   -999.0, 9,    201.9, 2,     2.15, 2,     4.49, 2,     0.01, 2,     0.51, 2,    1.847, 2,    0.902, 2,   2093.5, 2,   2352.6, 2,    432.2, 2,  16.0281,   -999.0, 9, -999.000, 9
316N19871218, SAVE2, 100, 1, 9, 9, 2, 19880120, 0732, -18.6217, -36.2183, 3863,  -999.00,    315.3,  14.8216,  35.4160, 2,  35.4090, 2,   -999.0, 9,    203.2, 2,     2.83, 2,     6.45, 2,     0.01, 2,     0.62, 2,    1.800, 2,    0.864, 2,   2097.5, 2,   -999.0, 9,   -999.0, 9,  14.7739,   -999.0, 9, -999.000, 9
316N19871218, SAVE2, 100, 1, 10, 10, 2, 19880120, 0732, -18.6217, -36.2183, 3863,  -999.00,    354.6,  13.5119,  35.2382, 2,  35.2420, 2,   -999.0, 9,    198.8, 2,     3.71, 2,     9.48, 2,     0.01, 2,     0.78, 2,    1.615, 2,    0.779, 2,   2108.0, 2,   2332.5, 2,    506.1, 2,  13.4615,   -999.0, 9, -999.000, 9
316N19871218, SAVE2, 100, 1, 11, 11, 2, 19880120, 0732, -18.6217, -36.2183, 3863,  -999.00,    401.6,  12.0573,  35.0682, 2,  35.0700, 2,   -999.0, 9,    191.0, 2,     5.57, 2,    13.29, 2,     0.00, 2,     1.01, 2,    1.344, 2,    0.646, 2,   2128.0, 2,   -999.0, 9,   -999.0, 9,  12.0043,   -999.0, 9, -999.000, 9
316N19871218, SAVE2, 100, 1, 12, 12, 2, 19880120, 0732, -18.6217, -36.2183, 3863,  -999.00,    456.5,  10.2549,  34.8504, 2,  34.8610, 2,   -999.0, 9,    181.4, 2,     8.89, 2,    18.28, 2,     0.00, 2,     1.32, 2,    0.948, 2,    0.446, 2,   2146.0, 2,   2314.2, 2,    686.2, 2,  10.2004,   -999.0, 9, -999.000, 9
316N19871218, SAVE2, 100, 1, 13, 13, 2, 19880120, 0732, -18.6217, -36.2183, 3863,  -999.00,    526.6,   8.4445,  34.6616, 2,  34.6740, 2,   -999.0, 9,    177.4, 2,    13.10, 2,    22.97, 2,     0.00, 2,     1.61, 2,    0.634, 2,    0.308, 2,   2168.2, 2,   -999.0, 9,   -999.0, 9,   8.3886,   -999.0, 9, -999.000, 9
316N19871218, SAVE2, 100, 1, 14, 14, 2, 19880120, 0732, -18.6217, -36.2183, 3863,  -999.00,    602.5,   6.4993,  34.4967, 2,  34.4980, 2,   -999.0, 9,    179.6, 2,    18.96, 2,    27.47, 2,     0.00, 2,     1.90, 2,    0.350, 2,    0.177, 2,   2180.7, 2,   2303.2, 2,    911.7, 2,   6.4440,   -999.0, 9, -999.000, 9
316N19871218, SAVE2, 100, 1, 15, 15, 2, 19880120, 0732, -18.6217, -36.2183, 3863,  -999.00,    640.4,   5.8147,  34.4423, 2,  34.4490, 2,   -999.0, 9,    184.3, 2,    21.51, 2,    28.64, 2,     0.00, 2,     1.96, 2,    0.291, 2,    0.151, 2,   2184.9, 2,   -999.0, 9,   -999.0, 9,   5.7590,   -999.0, 9, -999.000, 9
316N19871218, SAVE2, 100, 1, 16, 16, 2, 19880120, 0732, -18.6217, -36.2183, 3863,  -999.00,    739.7,   4.4413,  34.3784, 2,  34.3830, 2,   -999.0, 9,    192.2, 2,    29.92, 2,    30.70, 2,     0.00, 2,     2.11, 2,    0.174, 2,    0.098, 2,   2197.5, 2,   2307.5, 2,    997.0, 2,   4.3844,   -999.0, 9, -999.000, 9
316N19871218, SAVE2, 100, 1, 17, 17, 2, 19880120, 0732, -18.6217, -36.2183, 3863,  -999.00,    859.0,   3.7337,  34.3897, 2,  34.3870, 2,   -999.0, 9,    198.2, 2,    37.15, 2,    31.09, 2,     0.00, 2,     2.16, 2,    0.161, 2,    0.087, 2,   2207.0, 2,   -999.0, 9,   -999.0, 9,   3.6716,   -999.0, 9, -999.000, 9
316N19871218, SAVE2, 100, 1, 18, 18, 2, 19880120, 0732, -18.6217, -36.2183, 3863,  -999.00,    969.6,   3.4768,  34.4551, 2,  34.4520, 2,   -999.0, 9,    192.6, 2,    42.23, 2,    31.38, 2,     0.00, 2,     2.18, 2,    0.068, 2,    0.041, 2,   2212.0, 2,   2320.2, 2,   1021.9, 2,   3.4077,   -999.0, 9, -999.000, 9
316N19871218, SAVE2, 100, 1, 19, 19, 2, 19880120, 0732, -18.6217, -36.2183, 3863,  -999.00,   1049.9,   3.4459,  34.5228, 2,  34.5240, 2,   -999.0, 9,    189.1, 2,  -999.00, 9,  -999.00, 9,  -999.00, 9,  -999.00, 9,    0.024, 2,    0.018, 2,   2216.4, 2,   -999.0, 9,   -999.0, 9,   3.3705,   -999.0, 9, -999.000, 9
316N19871218, SAVE2, 100, 1, 20, 20, 2, 19880120, 0732, -18.6217, -36.2183, 3863,  -999.00,   1154.7,   3.7087,  34.6513, 2,  34.6510, 2,   -999.0, 9,    189.1, 2,  -999.00, 9,  -999.00, 9,  -999.00, 9,  -999.00, 9,    0.004, 2,    0.001, 2,   2221.4, 2,   -999.0, 9,    981.4, 2,   3.6223,   -999.0, 9, -999.000, 9
316N19871218, SAVE2, 100, 1, 21, 21, 2, 19880120, 0732, -18.6217, -36.2183, 3863,  -999.00,   1239.4,   3.9456,  34.7566, 2,  34.7580, 2,   -999.0, 9,    195.1, 2,    31.28, 2,    27.17, 2,     0.00, 2,     1.86, 2,    0.002, 2,    0.005, 2,   -999.0, 9,   -999.0, 9,   -999.0, 9,   3.8496,   -999.0, 9, -999.000, 9
316N19871218, SAVE2, 100, 1, 22, 22, 2, 19880120, 0732, -18.6217, -36.2183, 3863,  -999.00,   1339.8,   4.1195,  34.8305, 2,  34.8370, 2,   -999.0, 9,    201.6, 2,    26.09, 2,    25.41, 2,     0.00, 2,     1.74, 2,    0.003, 2,    0.012, 2,   2202.4, 2,   2332.2, 2,    891.1, 2,   4.0128,   -999.0, 9, -999.000, 9
316N19871218, SAVE2, 100, 1, 23, 23, 2, 19880120, 0732, -18.6217, -36.2183, 3863,  -999.00,   1499.4,   4.0256,  34.9205, 2,  34.9210, 2,   -999.0, 9,    225.1, 2,    21.69, 2,    22.09, 2,     0.00, 2,     1.50, 2,    0.003, 2,    0.014, 2,   2187.5, 2,   -999.0, 9,   -999.0, 9,   3.9052,   -999.0, 9, -999.000, 9
316N19871218, SAVE2, 100, 1, 24, 24, 2, 19880120, 0732, -18.6217, -36.2183, 3863,  -999.00,   1649.5,   3.9096,  34.9715, 2,  34.9700, 2,   -999.0, 9,    245.1, 2,    18.27, 2,    19.64, 2,     0.00, 2,     1.33, 2,    0.014, 2,    0.018, 2,   2178.0, 2,   2334.8, 2,    749.9, 2,   3.7767,   -999.0, 9, -999.000, 9
316N19871218, SAVE2, 100, 1, 25, 25, 2, 19880120, 0732, -18.6217, -36.2183, 3863,  -999.00,   1809.0,   3.6478,  34.9686, 2,  34.9690, 2,   -999.0, 9,    250.7, 2,    19.35, 2,    19.15, 2,     0.00, 2,     1.30, 2,    0.011, 2,    0.012, 2,   2170.2, 2,   -999.0, 9,   -999.0, 9,   3.5035,   -999.0, 9, -999.000, 9
316N19871218, SAVE2, 100, 1, 26, 26, 2, 19880120, 0732, -18.6217, -36.2183, 3863,  -999.00,   2031.9,   3.3269,  34.9548, 2,  34.9560, 2,   -999.0, 9,    252.9, 2,    22.57, 2,    19.25, 2,     0.00, 2,     1.30, 2,    0.004, 2,    0.009, 2,   2174.2, 2,   -999.0, 9,   -999.0, 9,   3.1665,   -999.0, 9, -999.000, 9
316N19871218, SAVE2, 100, 1, 27, 27, 2, 19880120, 0732, -18.6217, -36.2183, 3863,  -999.00,   2158.2,   3.1730,  34.9470, 2,  34.9470, 2,   -999.0, 9,    252.9, 2,    24.72, 2,    19.45, 2,     0.00, 2,     1.32, 2,    0.005, 2,    0.008, 2,   2175.8, 2,   -999.0, 9,   -999.0, 9,   3.0030,   -999.0, 9, -999.000, 9
316N19871218, SAVE2, 100, 1, 28, 28, 2, 19880120, 0732, -18.6217, -36.2183, 3863,  -999.00,   2349.0,   3.0811,  34.9431, 2,  34.9430, 2,   -999.0, 9,    253.3, 2,    26.09, 2,    19.45, 2,     0.00, 2,     1.32, 2,    0.007, 2, -999.000, 9,   2177.5, 2,   2336.7, 2,    740.5, 2,   2.8944,   -999.0, 9, -999.000, 9
316N19871218, SAVE2, 100, 1, 29, 29, 2, 19880120, 0732, -18.6217, -36.2183, 3863,  -999.00,   2555.4,   2.9991,  34.9373, 2,  34.9370, 2,   -999.0, 9,    253.3, 2,    27.66, 2,    19.84, 2,     0.00, 2,     1.33, 2,    0.002, 2,    0.001, 2,   2178.9, 2,   -999.0, 9,   -999.0, 9,   2.7937,   -999.0, 9, -999.000, 9
316N19871218, SAVE2, 100, 1, 30, 30, 2, 19880120, 0732, -18.6217, -36.2183, 3863,  -999.00,   2750.8,   2.9172,  34.9318, 2,  34.9320, 2,   -999.0, 9,    252.9, 2,    29.22, 2,    19.84, 2,     0.00, 2,     1.34, 2,    0.006, 2,    0.002, 2,   2181.6, 2,   2344.2, 2,    729.3, 2,   2.6938,   -999.0, 9, -999.000, 9
316N19871218, SAVE2, 100, 1, 31, 31, 2, 19880120, 0732, -18.6217, -36.2183, 3863,  -999.00,   3004.1,   2.8282,  34.9273, 2,  34.9270, 2,   -999.0, 9,    252.9, 2,    30.69, 2,    19.94, 2,     0.00, 2,     1.36, 2,    0.003, 2,    0.007, 2,   2181.4, 2,   -999.0, 9,   -999.0, 9,   2.5808,   -999.0, 9, -999.000, 9
316N19871218, SAVE2, 100, 1, 32, 32, 2, 19880120, 0732, -18.6217, -36.2183, 3863,  -999.00,   3252.0,   2.7592,  34.9222, 2,  34.9210, 2,   -999.0, 9,    253.3, 2,    31.96, 2,    20.03, 2,     0.00, 2,     1.36, 2, -999.000, 9,    0.002, 2,   2188.1, 2,   -999.0, 9,   -999.0, 9,   2.4873,   3263.6, 2,    2.754, 2
316N19871218, SAVE2, 100, 1, 33, 33, 2, 19880120, 0732, -18.6217, -36.2183, 3863,  -999.00,   3480.4,   2.6143,  34.9127, 2,  34.9130, 2,   -999.0, 9,    254.6, 2,    34.20, 2,    20.13, 2,     0.00, 2,     1.36, 2,    0.003, 2,    0.002, 2,   2186.2, 2,   2346.9, 2,    739.9, 2,   2.3212,   -999.0, 9, -999.000, 9
316N19871218, SAVE2, 100, 1, 34, 34, 2, 19880120, 0732, -18.6217, -36.2183, 3863,  -999.00,   3595.7,   2.4834,  34.9011, 2,  34.9020, 2,   -999.0, 9,    253.7, 2,    38.11, 2,    20.62, 2,     0.00, 2,     1.40, 2, -999.000, 9,    0.003, 2,   2187.7, 2,   -999.0, 9,   -999.0, 9,   2.1810,   -999.0, 9, -999.000, 9
316N19871218, SAVE2, 100, 1, 35, 35, 2, 19880120, 0732, -18.6217, -36.2183, 3863,  -999.00,   3740.1,   2.1136,  34.8654, 2,  34.8650, 2,   -999.0, 9,    248.5, 2,    51.41, 2,    22.48, 2,     0.00, 2,     1.51, 2, -999.000, 9,    0.002, 2,   2201.3, 2,   2353.3, 2,    787.1, 2,   1.8052,   3727.9, 2,    2.112, 2
316N19871218, SAVE2, 100, 1, 36, 36, 2, 19880120, 0732, -18.6217, -36.2183, 3863,  -999.00,   3922.7,   1.2861,  34.7793, 2,  34.7810, 2,   -999.0, 9,    232.9, 2,    84.35, 2,    27.07, 2,     0.00, 2,     1.85, 2, -999.000, 9,    0.001, 2,   2236.1, 2,   2371.6, 2,    890.6, 2,   0.9809,   -999.0, 9, -999.000, 9