BOTTLE,20110114CCHDOSIODM
EXPOCODE,SECT_ID,STNNBR,CASTNO,SAMPNO,BTLNBR,BTLNBR_FLAG_W,DATE,TIME,LATITUDE,LONGITUDE,DEPTH,CTDRAW,CTDPRS,CTDTMP,CTDSAL,CTDSAL_FLAG_W,SALNTY,SALNTY_FLAG_W,CTDOXY,CTDOXY_FLAG_W,OXYGEN,OXYGEN_FLAG_W,SILCAT,SILCAT_FLAG_W,NITRAT,NITRAT_FLAG_W,NITRIT,NITRIT_FLAG_W,PHSPHT,PHSPHT_FLAG_W,CFC-11,CFC-11_FLAG_W,CFC-12,CFC-12_FLAG_W,TCARBN,TCARBN_FLAG_W,ALKALI,ALKALI_FLAG_W,PCO2,PCO2_FLAG_W,THETA,REVPRS,REVPRS_FLAG_W,REVTMP,REVTMP_FLAG_W
,,,,,,,,,,,METERS,DBAR,DBAR,ITS-68,PSS-78,,PSS-78,,UMOL/KG,,UMOL/KG,,UMOL/KG,,UMOL/KG,,UMOL/KG,,UMOL/KG,,PMOL/KG,,PMOL/KG,,UMOL/KG,,UMOL/KG,,UATM,,DEG C,DBAR,,ITS-68,
316N19871218, SAVE2, 74, 1, 1, 1, 2, 19880106, 1146, -13.5717, -6.1683, 4006,  -999.00,      2.3,  23.6765,  36.6603, 2,  36.6630, 2,   -999.0, 9,    214.4, 2,     1.17, 2,     0.00, 2,     0.00, 2,     0.20, 2,    1.747, 2,    0.824, 2,   2072.0, 2,   -999.0, 9,   -999.0, 9,  23.6761,   -999.0, 9, -999.000, 9
316N19871218, SAVE2, 74, 1, 2, 2, 2, 19880106, 1146, -13.5717, -6.1683, 4006,  -999.00,     15.8,  23.5906,  36.6578, 2,  36.6600, 2,   -999.0, 9,    214.8, 2,     1.17, 2,     0.00, 2,     0.00, 2,     0.20, 2,    1.747, 2,    0.875, 2,   2076.3, 2,   -999.0, 9,   -999.0, 9,  23.5873,   -999.0, 9, -999.000, 9
316N19871218, SAVE2, 74, 1, 3, 3, 2, 19880106, 1146, -13.5717, -6.1683, 4006,  -999.00,     23.2,  23.3756,  36.6490, 2,  36.6460, 2,   -999.0, 9,    217.4, 2,     1.17, 2,     0.00, 2,     0.00, 2,     0.20, 2,    1.778, 2,    0.869, 2,   -999.0, 9,   -999.0, 9,   -999.0, 9,  23.3708,   -999.0, 9, -999.000, 9
316N19871218, SAVE2, 74, 1, 4, 4, 2, 19880106, 1146, -13.5717, -6.1683, 4006,  -999.00,     43.3,  21.9930,  36.5657, 2,  36.5690, 2,   -999.0, 9,    225.6, 2,     1.07, 2,     0.00, 2,     0.00, 2,     0.23, 2,    1.878, 2,    0.930, 2,   -999.0, 9,   -999.0, 9,   -999.0, 9,  21.9844,   -999.0, 9, -999.000, 9
316N19871218, SAVE2, 74, 1, 5, 5, 2, 19880106, 1146, -13.5717, -6.1683, 4006,  -999.00,     59.7,  20.6874,  36.4214, 2,  36.4160, 2,   -999.0, 9,    224.7, 2,     1.07, 2,     0.39, 2,     0.15, 2,     0.31, 2,    1.930, 2,    0.940, 2,   -999.0, 9,   -999.0, 9,   -999.0, 9,  20.6760,   -999.0, 9, -999.000, 9
316N19871218, SAVE2, 74, 1, 6, 6, 2, 19880106, 1146, -13.5717, -6.1683, 4006,  -999.00,    109.0,  17.7235,  35.9749, 2,  35.9710, 2,   -999.0, 9,    167.6, 2,     3.22, 2,    10.06, 2,     0.10, 2,     0.81, 2,    1.726, 2,    0.852, 2,   -999.0, 9,   -999.0, 9,   -999.0, 9,  17.7049,   -999.0, 9, -999.000, 9
316N19871218, SAVE2, 74, 1, 7, 7, 2, 19880106, 1146, -13.5717, -6.1683, 4006,  -999.00,    124.2,  16.6689,  35.7909, 2,  35.7870, 2,   -999.0, 9,    152.8, 2,     4.10, 2,    12.79, 2,     0.05, 2,     0.97, 2,    1.658, 2,    0.811, 2,   -999.0, 9,   -999.0, 9,   -999.0, 9,  16.6486,   -999.0, 9, -999.000, 9
316N19871218, SAVE2, 74, 1, 8, 8, 2, 19880106, 1146, -13.5717, -6.1683, 4006,  -999.00,    164.1,  13.7403,  35.3144, 2,  35.3170, 2,   -999.0, 9,    112.2, 2,     7.23, 2,    20.71, 2,     0.02, 2,     1.41, 2,    1.302, 2,    0.605, 2,   -999.0, 9,   -999.0, 9,   -999.0, 9,  13.7168,   -999.0, 9, -999.000, 9
316N19871218, SAVE2, 74, 1, 9, 9, 2, 19880106, 1146, -13.5717, -6.1683, 4006,  -999.00,    248.8,  11.0348,  35.0506, 2,  35.0500, 2,   -999.0, 9,     53.1, 2,    13.29, 2,    31.46, 2,     0.01, 2,     2.02, 2,    0.281, 2,    0.126, 2,   -999.0, 9,   -999.0, 9,   -999.0, 9,  11.0040,   -999.0, 9, -999.000, 9
316N19871218, SAVE2, 74, 1, 10, 10, 2, 19880106, 1146, -13.5717, -6.1683, 4006,  -999.00,    323.6,   9.5197,  34.8729, 2,  34.8750, 2,   -999.0, 9,     68.3, 2,    15.93, 2,    32.84, 2,     0.01, 2,     2.12, 2,    0.121, 2,    0.056, 2,   -999.0, 9,   -999.0, 9,   -999.0, 9,   9.4831,   -999.0, 9, -999.000, 9
316N19871218, SAVE2, 74, 1, 11, 11, 2, 19880106, 1146, -13.5717, -6.1683, 4006,  -999.00,    388.6,   8.1326,  34.7248, 2,  34.7330, 2,   -999.0, 9,     80.4, 2,    18.96, 2,    34.40, 2,     0.01, 2,     2.23, 2,    0.051, 2,    0.022, 2,   -999.0, 9,   -999.0, 9,   -999.0, 9,   8.0926,   -999.0, 9, -999.000, 9
316N19871218, SAVE2, 74, 1, 12, 12, 2, 19880106, 1146, -13.5717, -6.1683, 4006,  -999.00,    473.6,   7.2942,  34.6469, 2,  34.6460, 2,   -999.0, 9,     90.4, 2,    21.50, 2,    35.38, 2,     0.01, 2,     2.31, 2,    0.032, 2,    0.016, 2,   -999.0, 9,   -999.0, 9,   -999.0, 9,   7.2482,   -999.0, 9, -999.000, 9
316N19871218, SAVE2, 74, 1, 13, 13, 2, 19880106, 1146, -13.5717, -6.1683, 4006,  -999.00,    538.8,   6.5797,  34.5863, 2,  34.5860, 2,   -999.0, 9,     94.3, 2,    24.05, 2,    36.56, 2,     0.00, 2,     2.40, 2,    0.013, 2, -999.000, 9,   -999.0, 9,   -999.0, 9,   -999.0, 9,   6.5300,   -999.0, 9, -999.000, 9
316N19871218, SAVE2, 74, 1, 14, 14, 2, 19880106, 1146, -13.5717, -6.1683, 4006,  -999.00,    644.0,   5.6494,  34.5198, 2,  34.5170, 2,   -999.0, 9,    112.2, 2,    27.76, 2,    36.95, 2,     0.00, 2,     2.47, 2,    0.006, 2, -999.000, 9,   -999.0, 9,   -999.0, 9,   -999.0, 9,   5.5942,   -999.0, 9, -999.000, 9
316N19871218, SAVE2, 74, 1, 15, 15, 2, 19880106, 1146, -13.5717, -6.1683, 4006,  -999.00,    749.1,   4.9409,  34.4988, 2,  34.4970, 2,   -999.0, 9,    123.0, 2,    31.97, 2,    37.15, 2,     0.00, 2,     2.51, 2, -999.000, 9, -999.000, 9,   -999.0, 9,   -999.0, 9,   -999.0, 9,   4.8802,   -999.0, 9, -999.000, 9
316N19871218, SAVE2, 74, 1, 16, 16, 2, 19880106, 1146, -13.5717, -6.1683, 4006,  -999.00,    814.1,   4.5062,  34.4818, 2,  34.4800, 2,   -999.0, 9,    147.4, 2,    33.92, 2,    35.29, 2,     0.00, 2,     2.41, 2,    0.003, 2, -999.000, 9,   -999.0, 9,   -999.0, 9,   -999.0, 9,   4.4426,   -999.0, 9, -999.000, 9
316N19871218, SAVE2, 74, 1, 17, 17, 2, 19880106, 1146, -13.5717, -6.1683, 4006,  -999.00,    849.1,   4.3963,  34.4883, 2,  34.4860, 2,   -999.0, 9,    147.8, 2,    34.90, 2,    35.39, 2,     0.00, 2,     2.43, 2,    0.004, 2, -999.000, 9,   -999.0, 9,   -999.0, 9,   -999.0, 9,   4.3305,   -999.0, 9, -999.000, 9
316N19871218, SAVE2, 74, 1, 18, 18, 2, 19880106, 1146, -13.5717, -6.1683, 4006,  -999.00,    899.0,   4.2814,  34.4994, 2,  34.4980, 2,   -999.0, 9,    149.1, 2,    36.07, 2,    35.19, 2,     0.00, 2,     2.42, 2, -999.000, 9, -999.000, 9,   -999.0, 9,   -999.0, 9,   -999.0, 9,   4.2121,   -999.0, 9, -999.000, 9
316N19871218, SAVE2, 74, 1, 19, 19, 2, 19880106, 1146, -13.5717, -6.1683, 4006,  -999.00,    939.7,   4.0995,  34.5191, 2,  34.5230, 2,   -999.0, 9,    154.7, 2,    37.44, 2,    34.70, 2,     0.00, 2,     2.39, 2,    0.001, 2, -999.000, 9,   -999.0, 9,   -999.0, 9,   -999.0, 9,   4.0281,   -999.0, 9, -999.000, 9
316N19871218, SAVE2, 74, 1, 20, 20, 2, 19880106, 1146, -13.5717, -6.1683, 4006,  -999.00,    999.8,   3.9587,  34.5522, 2,  34.5490, 2,   -999.0, 9,    159.5, 2,    38.12, 2,    34.02, 2,     0.00, 2,     2.36, 2, -999.000, 9, -999.000, 9,   -999.0, 9,   -999.0, 9,   -999.0, 9,   3.8833,   -999.0, 9, -999.000, 9
316N19871218, SAVE2, 74, 1, 21, 21, 2, 19880106, 1146, -13.5717, -6.1683, 4006,  -999.00,   1125.2,   3.8068,  34.6372, 2,  34.6360, 2,   -999.0, 9,    169.9, 2,    37.83, 2,    32.06, 2,     0.00, 2,     2.21, 2,    0.000, 2, -999.000, 9,   -999.0, 9,   -999.0, 9,   -999.0, 9,   3.7220,   -999.0, 9, -999.000, 9
316N19871218, SAVE2, 74, 1, 22, 22, 2, 19880106, 1146, -13.5717, -6.1683, 4006,  -999.00,   1261.3,   3.7468,  34.7299, 2,  34.7280, 2,   -999.0, 9,    183.0, 2,    35.19, 2,    29.71, 2,     0.00, 2,     2.04, 2, -999.000, 9, -999.000, 9,   -999.0, 9,   -999.0, 9,   -999.0, 9,   3.6509,   -999.0, 9, -999.000, 9
316N19871218, SAVE2, 74, 1, 23, 23, 2, 19880106, 1146, -13.5717, -6.1683, 4006,  -999.00,   1401.6,   3.7348,  34.8134, 2,  34.8120, 2,   -999.0, 9,    197.3, 2,    31.57, 2,    27.27, 2,     0.00, 2,     1.86, 2, -999.000, 9, -999.000, 9,   -999.0, 9,   -999.0, 9,   -999.0, 9,   3.6267,   -999.0, 9, -999.000, 9
316N19871218, SAVE2, 74, 1, 24, 24, 2, 19880106, 1146, -13.5717, -6.1683, 4006,  -999.00,   1541.7,   3.6679,  34.8632, 2,  34.8620, 2,   -999.0, 9,    209.4, 2,    29.71, 2,    25.41, 2,     0.00, 2,     1.74, 2, -999.000, 9, -999.000, 9,   -999.0, 9,   -999.0, 9,   -999.0, 9,   3.5480,   -999.0, 9, -999.000, 9
316N19871218, SAVE2, 74, 1, 25, 25, 2, 19880106, 1146, -13.5717, -6.1683, 4006,  -999.00,   1692.4,   3.5430,  34.8973, 2,  34.8980, 2,   -999.0, 9,    221.2, 2,    29.02, 2,    23.94, 2,     0.00, 2,     1.62, 2, -999.000, 9, -999.000, 9,   -999.0, 9,   -999.0, 9,   -999.0, 9,   3.4110,   -999.0, 9, -999.000, 9
316N19871218, SAVE2, 74, 1, 26, 26, 2, 19880106, 1146, -13.5717, -6.1683, 4006,  -999.00,   1859.1,   3.3991,  34.9124, 2,  34.9110, 2,   -999.0, 9,    226.4, 2,    29.81, 2,    23.26, 2,     0.00, 2,     1.58, 2,    0.004, 2, -999.000, 9,   -999.0, 9,   -999.0, 9,   -999.0, 9,   3.2538,   -999.0, 9, -999.000, 9
316N19871218, SAVE2, 74, 1, 27, 27, 2, 19880106, 1146, -13.5717, -6.1683, 4006,  -999.00,   2032.7,   3.2232,  34.9170, 2,  34.9160, 2,   -999.0, 9,    231.2, 2,    32.15, 2,    22.87, 2,     0.00, 2,     1.55, 2,    0.001, 2, -999.000, 9,   -999.0, 9,   -999.0, 9,   -999.0, 9,   3.0644,   -999.0, 9, -999.000, 9
316N19871218, SAVE2, 74, 1, 28, 28, 2, 19880106, 1146, -13.5717, -6.1683, 4006,  -999.00,   2230.4,   3.0384,  34.9145, 2,  34.9140, 2,   -999.0, 9,    235.9, 2,    34.89, 2,    22.67, 2,     0.00, 2,     1.53, 2,    0.001, 2, -999.000, 9,   -999.0, 9,   -999.0, 9,   -999.0, 9,   2.8639,   -999.0, 9, -999.000, 9
316N19871218, SAVE2, 74, 1, 29, 29, 2, 19880106, 1146, -13.5717, -6.1683, 4006,  -999.00,   2483.8,   2.8455,  34.9084, 2,  34.9070, 2,   -999.0, 9,    236.4, 2,    38.89, 2,    22.77, 2,     0.00, 2,     1.55, 2, -999.000, 9, -999.000, 9,   -999.0, 9,   -999.0, 9,   -999.0, 9,   2.6501,   -999.0, 9, -999.000, 9
316N19871218, SAVE2, 74, 1, 30, 30, 2, 19880106, 1146, -13.5717, -6.1683, 4006,  -999.00,   2736.5,   2.6647,  34.9014, 2,  34.9010, 2,   -999.0, 9,    236.4, 2,    43.00, 2,    23.16, 2,     0.00, 2,     1.59, 2, -999.000, 9, -999.000, 9,   -999.0, 9,   -999.0, 9,   -999.0, 9,   2.4480,   -999.0, 9, -999.000, 9
316N19871218, SAVE2, 74, 1, 31, 31, 2, 19880106, 1146, -13.5717, -6.1683, 4006,  -999.00,   2984.8,   2.5298,  34.8940, 2,  34.8940, 2,   -999.0, 9,    237.2, 2,    46.91, 2,    23.26, 2,     0.00, 2,     1.59, 2, -999.000, 9, -999.000, 9,   -999.0, 9,   -999.0, 9,   -999.0, 9,   2.2910,   -999.0, 9, -999.000, 9
316N19871218, SAVE2, 74, 1, 32, 32, 2, 19880106, 1146, -13.5717, -6.1683, 4006,  -999.00,   3233.6,   2.4549,  34.8898, 2,  34.8900, 2,   -999.0, 9,    236.8, 2,    48.67, 2,    23.45, 2,     0.00, 2,     1.60, 2,    0.000, 2, -999.000, 9,   -999.0, 9,   -999.0, 9,   -999.0, 9,   2.1920,   3247.2, 2,    2.447, 2
316N19871218, SAVE2, 74, 1, 33, 33, 2, 19880106, 1146, -13.5717, -6.1683, 4006,  -999.00,   3488.1,   2.4089,  34.8870, 2,  34.8880, 2,   -999.0, 9,    236.4, 2,    49.84, 2,    23.45, 2,     0.00, 2,     1.61, 2, -999.000, 9, -999.000, 9,   -999.0, 9,   -999.0, 9,   -999.0, 9,   2.1202,   -999.0, 9, -999.000, 9
316N19871218, SAVE2, 74, 1, 34, 34, 2, 19880106, 1146, -13.5717, -6.1683, 4006,  -999.00,   3736.8,   2.4059,  34.8867, 2,  34.8870, 2,   -999.0, 9,    236.8, 2,    50.13, 2,    23.45, 2,     0.00, 2,     1.59, 2, -999.000, 9, -999.000, 9,   -999.0, 9,   -999.0, 9,   -999.0, 9,   2.0900,   -999.0, 9, -999.000, 9
316N19871218, SAVE2, 74, 1, 35, 35, 2, 19880106, 1146, -13.5717, -6.1683, 4006,  -999.00,   3940.3,   2.4209,  34.8873, 2,  34.8860, 2,   -999.0, 9,    236.8, 2,    50.13, 2,    23.45, 2,     0.00, 2,     1.59, 2, -999.000, 9, -999.000, 9,   -999.0, 9,   -999.0, 9,   -999.0, 9,   2.0817,   3934.0, 2,    2.419, 2
316N19871218, SAVE2, 74, 1, 36, 36, 2, 19880106, 1146, -13.5717, -6.1683, 4006,  -999.00,   4062.3,   2.4159,  34.8862, 2,  34.8850, 2,   -999.0, 9,    236.8, 2,    50.82, 2,    23.45, 2,     0.00, 2,     1.59, 2,    0.004, 2, -999.000, 9,   2215.6, 2,   -999.0, 9,   -999.0, 9,   2.0629,   -999.0, 9, -999.000, 9