BOTTLE,20110114CCHDOSIODM
EXPOCODE,SECT_ID,STNNBR,CASTNO,SAMPNO,BTLNBR,BTLNBR_FLAG_W,DATE,TIME,LATITUDE,LONGITUDE,DEPTH,CTDRAW,CTDPRS,CTDTMP,CTDSAL,CTDSAL_FLAG_W,SALNTY,SALNTY_FLAG_W,CTDOXY,CTDOXY_FLAG_W,OXYGEN,OXYGEN_FLAG_W,SILCAT,SILCAT_FLAG_W,NITRAT,NITRAT_FLAG_W,NITRIT,NITRIT_FLAG_W,PHSPHT,PHSPHT_FLAG_W,CFC-11,CFC-11_FLAG_W,CFC-12,CFC-12_FLAG_W,TCARBN,TCARBN_FLAG_W,ALKALI,ALKALI_FLAG_W,PCO2,PCO2_FLAG_W,THETA,REVPRS,REVPRS_FLAG_W,REVTMP,REVTMP_FLAG_W
,,,,,,,,,,,METERS,DBAR,DBAR,ITS-68,PSS-78,,PSS-78,,UMOL/KG,,UMOL/KG,,UMOL/KG,,UMOL/KG,,UMOL/KG,,UMOL/KG,,PMOL/KG,,PMOL/KG,,UMOL/KG,,UMOL/KG,,UATM,,DEG C,DBAR,,ITS-68,
316N19871218, SAVE2, 76, 1, 1, 1, 2, 19880107, 0839, -13.9817, -8.5150, 3603,  -999.00,      1.3,  23.4670,  36.5242, 2,  36.5250, 2,   -999.0, 9,    214.8, 2,     1.07, 2,     0.10, 2,     0.00, 2,     0.25, 2,    1.803, 2,    0.865, 2,   2075.9, 2,   -999.0, 9,   -999.0, 9,  23.4667,   -999.0, 9, -999.000, 9
316N19871218, SAVE2, 76, 1, 2, 2, 2, 19880107, 0839, -13.9817, -8.5150, 3603,  -999.00,     19.7,  23.4450,  36.5243, 2,  36.5220, 2,   -999.0, 9,    214.4, 2,     1.07, 2,     0.10, 2,     0.00, 2,     0.25, 2,    1.808, 2,    0.903, 2,   2078.1, 2,   -999.0, 9,   -999.0, 9,  23.4409,   -999.0, 9, -999.000, 9
316N19871218, SAVE2, 76, 1, 3, 3, 2, 19880107, 0839, -13.9817, -8.5150, 3603,  -999.00,     33.0,  23.2370,  36.5413, 2,  36.5490, 2,   -999.0, 9,    217.4, 2,     1.07, 2,     0.10, 2,     0.00, 2,     0.24, 2,    1.829, 2,    0.906, 2,   -999.0, 9,   -999.0, 9,   -999.0, 9,  23.2302,   -999.0, 9, -999.000, 9
316N19871218, SAVE2, 76, 1, 4, 4, 2, 19880107, 0839, -13.9817, -8.5150, 3603,  -999.00,     52.8,  22.4920,  36.5320, 2,  36.5340, 2,   -999.0, 9,    222.6, 2,     1.07, 2,     0.10, 2,     0.00, 2,     0.23, 2,    1.859, 2,    0.911, 2,   -999.0, 9,   -999.0, 9,   -999.0, 9,  22.4813,   -999.0, 9, -999.000, 9
316N19871218, SAVE2, 76, 1, 5, 5, 2, 19880107, 0839, -13.9817, -8.5150, 3603,  -999.00,     73.2,  21.2879,  36.4288, 2,  36.4240, 2,   -999.0, 9,    224.7, 2,     1.07, 2,     0.10, 2,     0.00, 2,     0.25, 2,    1.905, 2,    0.946, 2,   -999.0, 9,   -999.0, 9,   -999.0, 9,  21.2737,   -999.0, 9, -999.000, 9
316N19871218, SAVE2, 76, 1, 6, 6, 2, 19880107, 0839, -13.9817, -8.5150, 3603,  -999.00,     99.2,  20.4140,  36.3618, 2,  36.3610, 2,   -999.0, 9,    212.5, 2,     1.27, 2,     0.78, 2,     0.41, 2,     0.36, 2,    1.892, 2,    0.963, 2,   -999.0, 9,   -999.0, 9,   -999.0, 9,  20.3952,   -999.0, 9, -999.000, 9
316N19871218, SAVE2, 76, 1, 7, 7, 2, 19880107, 0839, -13.9817, -8.5150, 3603,  -999.00,    126.3,  18.9440,  36.1451, 2,  36.1420, 2,   -999.0, 9,    191.1, 2,     1.95, 2,     5.47, 2,     0.23, 2,     0.58, 2,    1.863, 2,    0.925, 2,   -999.0, 9,   -999.0, 9,   -999.0, 9,  18.9214,   -999.0, 9, -999.000, 9
316N19871218, SAVE2, 76, 1, 8, 8, 2, 19880107, 0839, -13.9817, -8.5150, 3603,  -999.00,    146.7,  16.5633,  35.7590, 2,  35.7310, 2,   -999.0, 9,    153.2, 2,     4.00, 2,    12.50, 2,     0.03, 2,     0.96, 2,    1.664, 2,    0.823, 2,   -999.0, 9,   -999.0, 9,   -999.0, 9,  16.5394,   -999.0, 9, -999.000, 9
316N19871218, SAVE2, 76, 1, 9, 9, 2, 19880107, 0839, -13.9817, -8.5150, 3603,  -999.00,    169.2,  13.8678,  35.3749, 2, -999.0000, 9,   -999.0, 9,   -999.0, 9,  -999.00, 9,  -999.00, 9,  -999.00, 9,  -999.00, 9, -999.000, 9, -999.000, 9,   -999.0, 9,   -999.0, 9,   -999.0, 9,  13.8435,   -999.0, 9, -999.000, 9
316N19871218, SAVE2, 76, 1, 10, 10, 2, 19880107, 0839, -13.9817, -8.5150, 3603,  -999.00,    215.3,  12.5372,  35.2146, 2,  35.2100, 2,   -999.0, 9,     74.4, 2,     9.67, 2,    26.58, 2,     0.01, 2,     1.74, 2,    0.701, 2,    0.364, 2,   -999.0, 9,   -999.0, 9,   -999.0, 9,  12.5082,   -999.0, 9, -999.000, 9
316N19871218, SAVE2, 76, 1, 11, 11, 2, 19880107, 0839, -13.9817, -8.5150, 3603,  -999.00,    242.3,  11.9683,  35.1459, 2,  35.1460, 2,   -999.0, 9,     65.7, 2,    11.04, 2,    28.53, 2,     0.01, 2,     1.86, 2,    0.525, 2,    0.269, 2,   -999.0, 9,   -999.0, 9,   -999.0, 9,  11.9367,   -999.0, 9, -999.000, 9
316N19871218, SAVE2, 76, 1, 12, 12, 2, 19880107, 0839, -13.9817, -8.5150, 3603,  -999.00,    274.9,  10.9106,  35.0156, 2,  35.0170, 2,   -999.0, 9,     73.5, 2,    12.80, 2,    29.41, 2,     0.01, 2,     1.93, 2,    0.374, 2,    0.190, 2,   -999.0, 9,   -999.0, 9,   -999.0, 9,  10.8768,   -999.0, 9, -999.000, 9
316N19871218, SAVE2, 76, 1, 13, 13, 2, 19880107, 0839, -13.9817, -8.5150, 3603,  -999.00,    346.5,   9.0073,  34.8084, 2,  34.8090, 2,   -999.0, 9,     77.8, 2,    16.81, 2,    32.64, 2,     0.01, 2,     2.13, 2,    0.121, 2,    0.071, 2,   -999.0, 9,   -999.0, 9,   -999.0, 9,   8.9694,   -999.0, 9, -999.000, 9
316N19871218, SAVE2, 76, 1, 14, 14, 2, 19880107, 0839, -13.9817, -8.5150, 3603,  -999.00,    375.0,   8.6185,  34.7672, 2,  34.7670, 2,   -999.0, 9,     82.2, 2,    17.59, 2,    33.13, 2,     0.01, 2,     2.17, 2,    0.093, 2,    0.046, 2,   -999.0, 9,   -999.0, 9,   -999.0, 9,   8.5785,   -999.0, 9, -999.000, 9
316N19871218, SAVE2, 76, 1, 15, 15, 2, 19880107, 0839, -13.9817, -8.5150, 3603,  -999.00,    470.6,   7.1061,  34.6171, 2,  34.6210, 2,   -999.0, 9,    107.8, 2,    20.92, 2,    33.82, 2,     0.01, 2,     2.23, 2,    0.043, 2,    0.022, 2,   -999.0, 9,   -999.0, 9,   -999.0, 9,   7.0610,   -999.0, 9, -999.000, 9
316N19871218, SAVE2, 76, 1, 16, 16, 2, 19880107, 0839, -13.9817, -8.5150, 3603,  -999.00,    564.8,   5.9576,  34.5219, 2,  34.5250, 2,   -999.0, 9,    127.0, 2,    24.73, 2,    34.41, 2,     0.01, 2,     2.31, 2,    0.022, 2,    0.013, 2,   -999.0, 9,   -999.0, 9,   -999.0, 9,   5.9082,   -999.0, 9, -999.000, 9
316N19871218, SAVE2, 76, 1, 17, 17, 2, 19880107, 0839, -13.9817, -8.5150, 3603,  -999.00,    665.1,   5.1590,  34.4748, 2,  34.4760, 2,   -999.0, 9,    140.0, 2,    28.74, 2,    34.80, 2,     0.01, 2,     2.36, 2,    0.012, 2,    0.008, 2,   -999.0, 9,   -999.0, 9,   -999.0, 9,   5.1044,   -999.0, 9, -999.000, 9
316N19871218, SAVE2, 76, 1, 18, 18, 2, 19880107, 0839, -13.9817, -8.5150, 3603,  -999.00,    765.2,   4.6442,  34.4713, 2,  34.4720, 2,   -999.0, 9,    145.6, 2,    32.26, 2,    35.09, 2,     0.01, 2,     2.40, 2,    0.003, 2, -999.000, 9,   -999.0, 9,   -999.0, 9,   -999.0, 9,   4.5839,   -999.0, 9, -999.000, 9
316N19871218, SAVE2, 76, 1, 19, 19, 2, 19880107, 0839, -13.9817, -8.5150, 3603,  -999.00,    838.8,   4.3954,  34.4833, 2,  34.4850, 2,   -999.0, 9,    150.0, 2,    34.21, 2,    34.90, 2,     0.01, 2,     2.38, 2,    0.001, 2, -999.000, 9,   -999.0, 9,   -999.0, 9,   -999.0, 9,   4.3304,   -999.0, 9, -999.000, 9
316N19871218, SAVE2, 76, 1, 20, 20, 2, 19880107, 0839, -13.9817, -8.5150, 3603,  -999.00,    914.0,   4.1275,  34.5091, 2,  34.5090, 2,   -999.0, 9,    155.6, 2,    36.56, 2,    34.31, 2,     0.01, 2,     2.36, 2, -999.000, 9, -999.000, 9,   -999.0, 9,   -999.0, 9,   -999.0, 9,   4.0580,   -999.0, 9, -999.000, 9
316N19871218, SAVE2, 76, 1, 21, 21, 2, 19880107, 0839, -13.9817, -8.5150, 3603,  -999.00,   1037.7,   3.8766,  34.5969, 2,  34.5970, 2,   -999.0, 9,    165.6, 2,    37.54, 2,    32.65, 2,     0.01, 2,     2.25, 2, -999.000, 9, -999.000, 9,   -999.0, 9,   -999.0, 9,   -999.0, 9,   3.7987,   -999.0, 9, -999.000, 9
316N19871218, SAVE2, 76, 1, 22, 22, 2, 19880107, 0839, -13.9817, -8.5150, 3603,  -999.00,   1163.4,   3.8077,  34.6849, 2,  34.6850, 2,   -999.0, 9,    176.9, 2,    35.48, 2,    30.59, 2,     0.01, 2,     2.10, 2, -999.000, 9, -999.000, 9,   -999.0, 9,   -999.0, 9,   -999.0, 9,   3.7196,   -999.0, 9, -999.000, 9
316N19871218, SAVE2, 76, 1, 23, 23, 2, 19880107, 0839, -13.9817, -8.5150, 3603,  -999.00,   1298.8,   3.7507,  34.7865, 2,  34.7870, 2,   -999.0, 9,    194.3, 2,    32.06, 2,    27.76, 2,     0.01, 2,     1.91, 2, -999.000, 9, -999.000, 9,   -999.0, 9,   -999.0, 9,   -999.0, 9,   3.6514,   -999.0, 9, -999.000, 9
316N19871218, SAVE2, 76, 1, 24, 24, 2, 19880107, 0839, -13.9817, -8.5150, 3603,  -999.00,   1404.5,   3.7307,  34.8340, 2,  34.8330, 2,   -999.0, 9,    202.1, 2,    30.10, 2,    26.49, 2,     0.00, 2,     1.82, 2, -999.000, 9, -999.000, 9,   -999.0, 9,   -999.0, 9,   -999.0, 9,   3.6223,   -999.0, 9, -999.000, 9
316N19871218, SAVE2, 76, 1, 25, 25, 2, 19880107, 0839, -13.9817, -8.5150, 3603,  -999.00,   1500.7,   3.6917,  34.8604, 2,  34.8600, 2,   -999.0, 9,    206.8, 2,    29.71, 2,    25.51, 2,     0.00, 2,     1.75, 2, -999.000, 9, -999.000, 9,   -999.0, 9,   -999.0, 9,   -999.0, 9,   3.5752,   -999.0, 9, -999.000, 9
316N19871218, SAVE2, 76, 1, 26, 26, 2, 19880107, 0839, -13.9817, -8.5150, 3603,  -999.00,   1733.8,   3.5198,  34.9054, 2,  34.9060, 2,   -999.0, 9,    223.3, 2,    28.83, 2,    23.45, 2,     0.00, 2,     1.60, 2,    0.000, 2, -999.000, 9,   -999.0, 9,   -999.0, 9,   -999.0, 9,   3.3843,   -999.0, 9, -999.000, 9
316N19871218, SAVE2, 76, 1, 27, 27, 2, 19880107, 0839, -13.9817, -8.5150, 3603,  -999.00,   1961.0,   3.3089,  34.9178, 2,  34.9180, 2,   -999.0, 9,    232.9, 2,    30.29, 2,    22.57, 2,     0.00, 2,     1.53, 2, -999.000, 9, -999.000, 9,   -999.0, 9,   -999.0, 9,   -999.0, 9,   3.1555,   -999.0, 9, -999.000, 9
316N19871218, SAVE2, 76, 1, 28, 28, 2, 19880107, 0839, -13.9817, -8.5150, 3603,  -999.00,   2133.1,   3.1330,  34.9146, 2,  34.9150, 2,   -999.0, 9,    235.9, 2,    32.93, 2,    22.48, 2,     0.00, 2,     1.52, 2, -999.000, 9, -999.000, 9,   -999.0, 9,   -999.0, 9,   -999.0, 9,   2.9662,   -999.0, 9, -999.000, 9
316N19871218, SAVE2, 76, 1, 29, 29, 2, 19880107, 0839, -13.9817, -8.5150, 3603,  -999.00,   2297.5,   2.9461,  34.9101, 2,  34.9090, 2,   -999.0, 9,    237.7, 2,    36.35, 2,    22.48, 2,     0.00, 2,     1.52, 2, -999.000, 9, -999.000, 9,   -999.0, 9,   -999.0, 9,   -999.0, 9,   2.7668,   -999.0, 9, -999.000, 9
316N19871218, SAVE2, 76, 1, 30, 30, 2, 19880107, 0839, -13.9817, -8.5150, 3603,  -999.00,   2546.7,   2.7503,  34.9020, 2,  34.9040, 2,   -999.0, 9,    238.1, 2,    40.36, 2,    22.57, 2,     0.00, 2,     1.53, 2, -999.000, 9, -999.000, 9,   -999.0, 9,   -999.0, 9,   -999.0, 9,   2.5505,   -999.0, 9, -999.000, 9
316N19871218, SAVE2, 76, 1, 31, 31, 2, 19880107, 0839, -13.9817, -8.5150, 3603,  -999.00,   2778.5,   2.6293,  34.8972, 2,  34.8970, 2,   -999.0, 9,    237.7, 2,    43.29, 2,    22.87, 2,     0.00, 2,     1.54, 2, -999.000, 9, -999.000, 9,   -999.0, 9,   -999.0, 9,   -999.0, 9,   2.4092,   -999.0, 9, -999.000, 9
316N19871218, SAVE2, 76, 1, 32, 32, 2, 19880107, 0839, -13.9817, -8.5150, 3603,  -999.00,   2923.2,   2.5534,  34.8931, 2,  34.8930, 2,   -999.0, 9,    238.1, 2,    45.25, 2,    22.97, 2,     0.00, 2,     1.55, 2, -999.000, 9, -999.000, 9,   -999.0, 9,   -999.0, 9,   -999.0, 9,   2.3203,   2933.0, 2,    2.552, 2
316N19871218, SAVE2, 76, 1, 33, 33, 2, 19880107, 0839, -13.9817, -8.5150, 3603,  -999.00,   3165.1,   2.4884,  34.8904, 2,  34.8920, 2,   -999.0, 9,    238.1, 2,    46.91, 2,    22.97, 2,     0.00, 2,     1.55, 2, -999.000, 9, -999.000, 9,   -999.0, 9,   -999.0, 9,   -999.0, 9,   2.2320,   -999.0, 9, -999.000, 9
316N19871218, SAVE2, 76, 1, 34, 34, 2, 19880107, 0839, -13.9817, -8.5150, 3603,  -999.00,   3412.2,   2.4514,  34.8875, 2,  34.8890, 2,   -999.0, 9,    237.7, 2,    48.08, 2,    23.06, 2,     0.00, 2,     1.55, 2, -999.000, 9, -999.000, 9,   -999.0, 9,   -999.0, 9,   -999.0, 9,   2.1698,   -999.0, 9, -999.000, 9
316N19871218, SAVE2, 76, 1, 35, 35, 2, 19880107, 0839, -13.9817, -8.5150, 3603,  -999.00,   3652.1,   2.4504,  34.8877, 2,  34.8870, 2,   -999.0, 9,    238.1, 2,    48.86, 2,    23.06, 2,     0.00, 2,     1.56, 2, -999.000, 9, -999.000, 9,   -999.0, 9,   -999.0, 9,   -999.0, 9,   2.1428,   3666.6, 2,    2.448, 2
316N19871218, SAVE2, 76, 1, 36, 36, 2, 19880107, 0839, -13.9817, -8.5150, 3603,  -999.00,   3718.5,   2.4544,  34.8873, 2,  34.8860, 2,   -999.0, 9,    237.2, 2,    48.96, 2,    23.06, 2,     0.00, 2,     1.56, 2, -999.000, 9, -999.000, 9,   2209.4, 2,   -999.0, 9,   -999.0, 9,   2.1393,   -999.0, 9, -999.000, 9