BOTTLE,20110114CCHDOSIODM
EXPOCODE,SECT_ID,STNNBR,CASTNO,SAMPNO,BTLNBR,BTLNBR_FLAG_W,DATE,TIME,LATITUDE,LONGITUDE,DEPTH,CTDRAW,CTDPRS,CTDTMP,CTDSAL,CTDSAL_FLAG_W,SALNTY,SALNTY_FLAG_W,CTDOXY,CTDOXY_FLAG_W,OXYGEN,OXYGEN_FLAG_W,SILCAT,SILCAT_FLAG_W,NITRAT,NITRAT_FLAG_W,NITRIT,NITRIT_FLAG_W,PHSPHT,PHSPHT_FLAG_W,CFC-11,CFC-11_FLAG_W,CFC-12,CFC-12_FLAG_W,TCARBN,TCARBN_FLAG_W,ALKALI,ALKALI_FLAG_W,PCO2,PCO2_FLAG_W,THETA,REVPRS,REVPRS_FLAG_W,REVTMP,REVTMP_FLAG_W
,,,,,,,,,,,METERS,DBAR,DBAR,ITS-68,PSS-78,,PSS-78,,UMOL/KG,,UMOL/KG,,UMOL/KG,,UMOL/KG,,UMOL/KG,,UMOL/KG,,PMOL/KG,,PMOL/KG,,UMOL/KG,,UMOL/KG,,UATM,,DEG C,DBAR,,ITS-68,
316N19871218, SAVE2, 70, 1, 1, 1, 2, 19880104, 0530, -12.4900, -0.4600, 5482,  -999.00,      2.7,  23.0737,  36.4656, 2,  36.4690, 2,   -999.0, 9,    217.0, 2,     0.49, 2,     0.00, 2,     0.00, 2,     0.16, 2,    1.794, 2,    0.921, 2,   2070.2, 2,   -999.0, 9,   -999.0, 9,  23.0731,   -999.0, 9, -999.000, 9
316N19871218, SAVE2, 70, 1, 2, 2, 2, 19880104, 0530, -12.4900, -0.4600, 5482,  -999.00,     28.6,  22.6098,  36.4584, 2,  36.4630, 2,   -999.0, 9,    219.6, 2,     0.39, 2,     0.00, 2,     0.00, 2,     0.16, 2,    1.820, 2,    0.915, 2,   2068.9, 2,   -999.0, 9,   -999.0, 9,  22.6040,   -999.0, 9, -999.000, 9
316N19871218, SAVE2, 70, 1, 3, 3, 2, 19880104, 0530, -12.4900, -0.4600, 5482,  -999.00,     53.3,  21.5811,  36.3985, 2,  36.4040, 2,   -999.0, 9,    222.6, 2,     0.68, 2,     0.10, 2,     0.03, 2,     0.20, 2,    1.862, 2,    0.919, 2,   -999.0, 9,   -999.0, 9,   -999.0, 9,  21.5707,   -999.0, 9, -999.000, 9
316N19871218, SAVE2, 70, 1, 4, 4, 2, 19880104, 0530, -12.4900, -0.4600, 5482,  -999.00,     72.3,  19.6777,  36.2528, 2,  36.3130, 2,   -999.0, 9,    196.8, 2,     1.56, 2,     3.32, 2,     0.60, 2,     0.46, 2,    1.797, 2,    0.895, 2,   -999.0, 9,   -999.0, 9,   -999.0, 9,  19.6645,   -999.0, 9, -999.000, 9
316N19871218, SAVE2, 70, 1, 5, 5, 2, 19880104, 0530, -12.4900, -0.4600, 5482,  -999.00,    109.8,  13.9282,  35.4346, 2,  35.4300, 2,   -999.0, 9,     67.9, 2,     8.30, 2,    25.40, 2,     0.03, 2,     1.67, 2,    0.804, 2,    0.390, 2,   -999.0, 9,   -999.0, 9,   -999.0, 9,  13.9124,   -999.0, 9, -999.000, 9
316N19871218, SAVE2, 70, 1, 6, 6, 2, 19880104, 0530, -12.4900, -0.4600, 5482,  -999.00,    149.5,  12.5919,  35.2521, 2,  35.2460, 2,   -999.0, 9,     60.9, 2,    10.65, 2,    28.04, 2,     0.01, 2,     1.83, 2,    0.513, 2,    0.252, 2,   -999.0, 9,   -999.0, 9,   -999.0, 9,  12.5718,   -999.0, 9, -999.000, 9
316N19871218, SAVE2, 70, 1, 7, 7, 2, 19880104, 0530, -12.4900, -0.4600, 5482,  -999.00,    189.1,  11.6375,  35.1328, 2,  35.1270, 2,   -999.0, 9,     60.0, 2,    12.41, 2,    29.80, 2,     0.01, 2,     1.92, 2,    0.325, 2,    0.164, 2,   -999.0, 9,   -999.0, 9,   -999.0, 9,  11.6132,   -999.0, 9, -999.000, 9
316N19871218, SAVE2, 70, 1, 8, 8, 2, 19880104, 0530, -12.4900, -0.4600, 5482,  -999.00,    233.9,  10.9848,  35.0502, 2,  35.0490, 2,   -999.0, 9,     55.7, 2,    13.68, 2,    31.27, 2,     0.01, 2,     2.01, 2,    0.220, 2,    0.116, 2,   -999.0, 9,   -999.0, 9,   -999.0, 9,  10.9560,   -999.0, 9, -999.000, 9
316N19871218, SAVE2, 70, 1, 9, 9, 2, 19880104, 0530, -12.4900, -0.4600, 5482,  -999.00,    284.2,  10.3332,  34.9715, 2,  34.9700, 2,   -999.0, 9,     53.9, 2,    15.05, 2,    32.93, 2,     0.01, 2,     2.11, 2,    0.139, 2,    0.082, 2,   -999.0, 9,   -999.0, 9,   -999.0, 9,  10.2994,   -999.0, 9, -999.000, 9
316N19871218, SAVE2, 70, 1, 10, 10, 2, 19880104, 0530, -12.4900, -0.4600, 5482,  -999.00,    384.5,   8.9731,  34.8220, 2,  34.8210, 2,   -999.0, 9,     35.7, 2,    18.96, 2,    37.53, 2,     0.00, 2,     2.39, 2,    0.039, 2,    0.020, 2,   -999.0, 9,   -999.0, 9,   -999.0, 9,   8.9310,   -999.0, 9, -999.000, 9
316N19871218, SAVE2, 70, 1, 11, 11, 2, 19880104, 0530, -12.4900, -0.4600, 5482,  -999.00,    434.6,   8.4324,  34.7645, 2,  34.7680, 2,   -999.0, 9,     48.7, 2,    19.94, 2,    37.34, 2,     0.01, 2,     2.39, 2, -999.000, 9, -999.000, 9,   -999.0, 9,   -999.0, 9,   -999.0, 9,   8.3865,   -999.0, 9, -999.000, 9
316N19871218, SAVE2, 70, 1, 12, 12, 2, 19880104, 0530, -12.4900, -0.4600, 5482,  -999.00,    529.4,   7.0384,  34.6404, 2,  34.6400, 2,   -999.0, 9,     53.0, 2,    24.53, 2,    40.08, 2,     0.00, 2,     2.61, 2,    0.004, 2,    0.003, 2,   2266.2, 2,   -999.0, 9,   -999.0, 9,   6.9877,   -999.0, 9, -999.000, 9
316N19871218, SAVE2, 70, 1, 13, 13, 2, 19880104, 0530, -12.4900, -0.4600, 5482,  -999.00,    619.4,   6.1790,  34.5735, 2,  34.5720, 2,   -999.0, 9,     60.9, 2,    27.96, 2,    41.35, 2,     0.01, 2,     2.70, 2,    0.001, 2,    0.001, 2,   -999.0, 9,   -999.0, 9,   -999.0, 9,   6.1234,   -999.0, 9, -999.000, 9
316N19871218, SAVE2, 70, 1, 14, 14, 2, 19880104, 0530, -12.4900, -0.4600, 5482,  -999.00,    708.9,   5.3696,  34.5189, 2,  34.5210, 2,   -999.0, 9,     86.1, 2,    31.38, 2,    40.08, 2,     0.00, 2,     2.64, 2, -999.000, 9, -999.000, 9,   -999.0, 9,   -999.0, 9,   -999.0, 9,   5.3100,   -999.0, 9, -999.000, 9
316N19871218, SAVE2, 70, 1, 15, 15, 2, 19880104, 0530, -12.4900, -0.4600, 5482,  -999.00,    794.4,   4.8110,  34.4979, 2,  34.4980, 2,   -999.0, 9,    113.5, 2,    34.31, 2,    38.22, 2,     0.00, 2,     2.57, 2,    0.002, 2,    0.001, 2,   -999.0, 9,   -999.0, 9,   -999.0, 9,   4.7472,   -999.0, 9, -999.000, 9
316N19871218, SAVE2, 70, 1, 16, 16, 2, 19880104, 0530, -12.4900, -0.4600, 5482,  -999.00,    904.8,   4.3663,  34.5226, 2,  34.5210, 2,   -999.0, 9,    128.7, 2,    37.34, 2,    36.76, 2,     0.00, 2,     2.50, 2,    0.000, 2,    0.003, 2,   -999.0, 9,   -999.0, 9,   -999.0, 9,   4.2959,   -999.0, 9, -999.000, 9
316N19871218, SAVE2, 70, 1, 17, 17, 2, 19880104, 0530, -12.4900, -0.4600, 5482,  -999.00,   1030.1,   4.0876,  34.5939, 2,  34.5910, 2,   -999.0, 9,    146.5, 2,    38.02, 2,    34.41, 2,     0.00, 2,     2.37, 2, -999.000, 9,    0.003, 2,   -999.0, 9,   -999.0, 9,   -999.0, 9,   4.0085,   -999.0, 9, -999.000, 9
316N19871218, SAVE2, 70, 1, 18, 18, 2, 19880104, 0530, -12.4900, -0.4600, 5482,  -999.00,   1180.6,   3.9567,  34.7117, 2,  34.7080, 2,   -999.0, 9,    163.0, 2,    36.26, 2,    31.57, 2,     0.00, 2,     2.18, 2, -999.000, 9, -999.000, 9,   -999.0, 9,   -999.0, 9,   -999.0, 9,   3.8657,   -999.0, 9, -999.000, 9
316N19871218, SAVE2, 70, 1, 19, 19, 2, 19880104, 0530, -12.4900, -0.4600, 5482,  -999.00,   1330.6,   3.8477,  34.8053, 2,  34.8110, 2,   -999.0, 9,    184.7, 2,    32.74, 2,    28.34, 2,     0.00, 2,     1.94, 2, -999.000, 9, -999.000, 9,   -999.0, 9,   -999.0, 9,   -999.0, 9,   3.7447,   -999.0, 9, -999.000, 9
316N19871218, SAVE2, 70, 1, 20, 20, 2, 19880104, 0530, -12.4900, -0.4600, 5482,  -999.00,   1480.7,   3.7698,  34.8732, 2,  34.8750, 2,   -999.0, 9,    203.4, 2,    29.71, 2,    25.70, 2,     0.00, 2,     1.74, 2, -999.000, 9, -999.000, 9,   -999.0, 9,   -999.0, 9,   -999.0, 9,   3.6542,   -999.0, 9, -999.000, 9
316N19871218, SAVE2, 70, 1, 21, 21, 2, 19880104, 0530, -12.4900, -0.4600, 5482,  -999.00,   1631.1,   3.6559,  34.9075, 2,  34.9050, 2,   -999.0, 9,    214.7, 2,    28.93, 2,    24.24, 2,     0.00, 2,     1.64, 2, -999.000, 9, -999.000, 9,   -999.0, 9,   -999.0, 9,   -999.0, 9,   3.5280,   -999.0, 9, -999.000, 9
316N19871218, SAVE2, 70, 1, 22, 22, 2, 19880104, 0530, -12.4900, -0.4600, 5482,  -999.00,   1879.7,   3.3981,  34.9234, 2,  34.9230, 2,   -999.0, 9,    224.2, 2,    30.98, 2,    23.26, 2,     0.00, 2,     1.58, 2, -999.000, 9, -999.000, 9,   -999.0, 9,   -999.0, 9,   -999.0, 9,   3.2509,   -999.0, 9, -999.000, 9
316N19871218, SAVE2, 70, 1, 23, 23, 2, 19880104, 0530, -12.4900, -0.4600, 5482,  -999.00,   2141.3,   3.1633,  34.9247, 2,  34.9230, 2,   -999.0, 9,    229.8, 2,    34.30, 2,    22.87, 2,     0.00, 2,     1.54, 2, -999.000, 9, -999.000, 9,   -999.0, 9,   -999.0, 9,   -999.0, 9,   2.9952,   -999.0, 9, -999.000, 9
316N19871218, SAVE2, 70, 1, 24, 24, 2, 19880104, 0530, -12.4900, -0.4600, 5482,  -999.00,   2385.2,   2.9844,  34.9186, 2,  34.9170, 2,   -999.0, 9,    232.0, 2,    37.33, 2,    22.77, 2,     0.00, 2,     1.54, 2, -999.000, 9, -999.000, 9,   -999.0, 9,   -999.0, 9,   -999.0, 9,   2.7960,   -999.0, 9, -999.000, 9
316N19871218, SAVE2, 70, 1, 25, 25, 2, 19880104, 0530, -12.4900, -0.4600, 5482,  -999.00,   2633.7,   2.8106,  34.9104, 2,  34.9110, 2,   -999.0, 9,    233.8, 2,    41.14, 2,    22.97, 2,     0.00, 2,     1.55, 2, -999.000, 9, -999.000, 9,   -999.0, 9,   -999.0, 9,   -999.0, 9,   2.6012,   -999.0, 9, -999.000, 9
316N19871218, SAVE2, 70, 1, 26, 26, 2, 19880104, 0530, -12.4900, -0.4600, 5482,  -999.00,   2886.8,   2.6727,  34.9033, 2,  34.9050, 2,   -999.0, 9,    233.3, 2,    44.86, 2,    23.06, 2,     0.00, 2,     1.58, 2,    0.000, 2, -999.000, 9,   -999.0, 9,   -999.0, 9,   -999.0, 9,   2.4407,   -999.0, 9, -999.000, 9
316N19871218, SAVE2, 70, 1, 27, 27, 2, 19880104, 0530, -12.4900, -0.4600, 5482,  -999.00,   3140.3,   2.5428,  34.8980, 2,  34.8990, 2,   -999.0, 9,    231.1, 2,    48.67, 2,    23.45, 2,     0.00, 2,     1.58, 2,    0.000, 2, -999.000, 9,   -999.0, 9,   -999.0, 9,   -999.0, 9,   2.2877,   -999.0, 9, -999.000, 9
316N19871218, SAVE2, 70, 1, 28, 28, 2, 19880104, 0530, -12.4900, -0.4600, 5482,  -999.00,   3389.0,   2.4509,  34.8939, 2,  34.8930, 2,   -999.0, 9,    229.8, 2,    51.99, 2,    23.55, 2,     0.00, 2,     1.61, 2, -999.000, 9, -999.000, 9,   -999.0, 9,   -999.0, 9,   -999.0, 9,   2.1717,   -999.0, 9, -999.000, 9
316N19871218, SAVE2, 70, 1, 29, 29, 2, 19880104, 0530, -12.4900, -0.4600, 5482,  -999.00,   3632.6,   2.3899,  34.8913, 2,  34.8900, 2,   -999.0, 9,    229.0, 2,    53.95, 2,    23.75, 2,     0.00, 2,     1.61, 2, -999.000, 9, -999.000, 9,   -999.0, 9,   -999.0, 9,   -999.0, 9,   2.0859,   -999.0, 9, -999.000, 9
316N19871218, SAVE2, 70, 1, 30, 30, 2, 19880104, 0530, -12.4900, -0.4600, 5482,  -999.00,   3939.1,   2.3659,  34.8889, 2,  34.8880, 2,   -999.0, 9,    232.0, 2,    53.85, 2,    23.45, 2,     0.00, 2,     1.58, 2, -999.000, 9, -999.000, 9,   -999.0, 9,   -999.0, 9,   -999.0, 9,   2.0284,   -999.0, 9, -999.000, 9
316N19871218, SAVE2, 70, 1, 31, 31, 2, 19880104, 0530, -12.4900, -0.4600, 5482,  -999.00,   4238.0,   2.3729,  34.8866, 2,  34.8880, 2,   -999.0, 9,    231.6, 2,    53.36, 2,    23.55, 2,     0.00, 2,     1.60, 2,    0.001, 2, -999.000, 9,   -999.0, 9,   -999.0, 9,   -999.0, 9,   2.0008,   -999.0, 9, -999.000, 9
316N19871218, SAVE2, 70, 1, 32, 32, 2, 19880104, 0530, -12.4900, -0.4600, 5482,  -999.00,   4553.0,   2.3819,  34.8835, 2,  34.8830, 2,   -999.0, 9,    234.2, 2,    54.24, 2,    23.45, 2,     0.00, 2,     1.58, 2, -999.000, 9, -999.000, 9,   -999.0, 9,   -999.0, 9,   -999.0, 9,   1.9720,   4575.7, 2,    2.384, 2
316N19871218, SAVE2, 70, 1, 33, 33, 2, 19880104, 0530, -12.4900, -0.4600, 5482,  -999.00,   4849.4,   2.3999,  34.8814, 2,  34.8820, 2,   -999.0, 9,    235.1, 2,    54.14, 2,    23.36, 2,     0.00, 2,     1.57, 2, -999.000, 9, -999.000, 9,   -999.0, 9,   -999.0, 9,   -999.0, 9,   1.9529,   -999.0, 9, -999.000, 9
316N19871218, SAVE2, 70, 1, 34, 34, 2, 19880104, 0530, -12.4900, -0.4600, 5482,  -999.00,   5167.0,   2.4239,  34.8798, 2,  34.8800, 2,   -999.0, 9,    236.4, 2,    54.14, 2,    23.36, 2,     0.00, 2,     1.57, 2, -999.000, 9, -999.000, 9,   -999.0, 9,   -999.0, 9,   -999.0, 9,   1.9358,   -999.0, 9, -999.000, 9
316N19871218, SAVE2, 70, 1, 35, 35, 2, 19880104, 0530, -12.4900, -0.4600, 5482,  -999.00,   5474.3,   2.4519,  34.8774, 2,  34.8790, 2,   -999.0, 9,    238.1, 2,    54.04, 2,    23.36, 2,     0.00, 2,     1.57, 2, -999.000, 9, -999.000, 9,   2217.2, 2,   -999.0, 9,   -999.0, 9,   1.9227,   5467.9, 2,    2.448, 2
316N19871218, SAVE2, 70, 1, 36, 36, 2, 19880104, 0530, -12.4900, -0.4600, 5482,  -999.00,   5677.6,   2.4719,  34.8758, 2,  34.8770, 2,   -999.0, 9,    237.7, 2,    53.65, 2,    23.26, 2,     0.00, 2,     1.56, 2,    0.000, 2,    0.001, 2,   -999.0, 9,   -999.0, 9,   -999.0, 9,   1.9148,   -999.0, 9, -999.000, 9