BOTTLE,20110114CCHDOSIODM
EXPOCODE,SECT_ID,STNNBR,CASTNO,SAMPNO,BTLNBR,BTLNBR_FLAG_W,DATE,TIME,LATITUDE,LONGITUDE,DEPTH,CTDRAW,CTDPRS,CTDTMP,CTDSAL,CTDSAL_FLAG_W,SALNTY,SALNTY_FLAG_W,CTDOXY,CTDOXY_FLAG_W,OXYGEN,OXYGEN_FLAG_W,SILCAT,SILCAT_FLAG_W,NITRAT,NITRAT_FLAG_W,NITRIT,NITRIT_FLAG_W,PHSPHT,PHSPHT_FLAG_W,CFC-11,CFC-11_FLAG_W,CFC-12,CFC-12_FLAG_W,TCARBN,TCARBN_FLAG_W,ALKALI,ALKALI_FLAG_W,PCO2,PCO2_FLAG_W,THETA,REVPRS,REVPRS_FLAG_W,REVTMP,REVTMP_FLAG_W
,,,,,,,,,,,METERS,DBAR,DBAR,ITS-68,PSS-78,,PSS-78,,UMOL/KG,,UMOL/KG,,UMOL/KG,,UMOL/KG,,UMOL/KG,,UMOL/KG,,PMOL/KG,,PMOL/KG,,UMOL/KG,,UMOL/KG,,UATM,,DEG C,DBAR,,ITS-68,
316N19871218, SAVE2, 89, 1, 1, 1, 2, 19880114, 0017, -16.7517, -24.0033, 5351,  -999.00,      1.7,  26.4713,  37.3005, 2,  37.3030, 2,   -999.0, 9,    203.4, 2,     1.37, 2,     0.00, 2,     0.00, 2,     0.18, 2,    1.558, 2,    0.775, 2,   2096.8, 2,   2475.2, 3,    288.8, 2,  26.4709,   -999.0, 9, -999.000, 9
316N19871218, SAVE2, 89, 1, 2, 2, 2, 19880114, 0017, -16.7517, -24.0033, 5351,  -999.00,     25.4,  26.4123,  37.2934, 2,  37.2950, 2,   -999.0, 9,    203.6, 2,     1.37, 2,     0.00, 2,     0.00, 2,     0.18, 2,    1.559, 2,    0.753, 2,   2083.4, 2,   2452.8, 2,    294.2, 2,  26.4065,   -999.0, 9, -999.000, 9
316N19871218, SAVE2, 89, 1, 3, 3, 2, 19880114, 0017, -16.7517, -24.0033, 5351,  -999.00,     53.5,  25.8092,  37.2228, 2,  37.2240, 2,   -999.0, 9,    208.0, 2,     1.37, 2,     0.00, 2,     0.00, 2,     0.18, 2,    1.571, 2,    0.796, 2,   2083.1, 2,   2454.3, 2,    291.8, 2,  25.7973,   -999.0, 9, -999.000, 9
316N19871218, SAVE2, 89, 1, 4, 4, 2, 19880114, 0017, -16.7517, -24.0033, 5351,  -999.00,     73.4,  24.4181,  37.0204, 2,  37.0200, 2,   -999.0, 9,    218.1, 2,     1.27, 2,     0.00, 2,     0.00, 2,     0.19, 2,    1.700, 2,    0.831, 2,   2078.7, 2,   2451.0, 2,    288.0, 2,  24.4023,   -999.0, 9, -999.000, 9
316N19871218, SAVE2, 89, 1, 5, 5, 2, 19880114, 0017, -16.7517, -24.0033, 5351,  -999.00,    123.6,  23.0520,  36.8246, 2,  36.8110, 2,   -999.0, 9,    213.4, 2,     1.27, 2,     0.00, 2,     0.00, 2,     0.20, 2,    1.697, 2,    0.843, 2,   2079.3, 2,   2426.9, 2,    312.2, 2,  23.0265,   -999.0, 9, -999.000, 9
316N19871218, SAVE2, 89, 1, 6, 6, 2, 19880114, 0017, -16.7517, -24.0033, 5351,  -999.00,    164.0,  18.8441,  36.0487, 2,  36.0220, 2,   -999.0, 9,    203.1, 2,     1.95, 2,     1.66, 2,     0.05, 2,     0.40, 2,    1.904, 2,    0.917, 2,   2090.8, 2,   2380.3, 2,    384.5, 2,  18.8148,   -999.0, 9, -999.000, 9
316N19871218, SAVE2, 89, 1, 7, 7, 2, 19880114, 0017, -16.7517, -24.0033, 5351,  -999.00,    224.5,  15.8564,  35.5604, 2,  35.5620, 2,   -999.0, 9,    197.8, 2,     2.93, 2,     5.96, 2,     0.01, 2,     0.59, 2,    1.876, 2,    0.893, 2,   2099.8, 2,   2356.4, 2,    438.9, 2,  15.8209,   -999.0, 9, -999.000, 9
316N19871218, SAVE2, 89, 1, 8, 8, 2, 19880114, 0017, -16.7517, -24.0033, 5351,  -999.00,    289.5,  13.5819,  35.2528, 2,  35.2550, 2,   -999.0, 9,    174.6, 2,     4.98, 2,    13.09, 2,     0.01, 2,     0.98, 2,    1.513, 2,    0.724, 2,   2129.5, 2,   2335.4, 2,    563.1, 2,  13.5407,   -999.0, 9, -999.000, 9
316N19871218, SAVE2, 89, 1, 9, 9, 2, 19880114, 0017, -16.7517, -24.0033, 5351,  -999.00,    324.8,  11.9913,  35.0494, 2, -999.0000, 9,   -999.0, 9,   -999.0, 9,  -999.00, 9,  -999.00, 9,  -999.00, 9,  -999.00, 9, -999.000, 9, -999.000, 9,   -999.0, 9,   -999.0, 9,   -999.0, 9,  11.9487,   -999.0, 9, -999.000, 9
316N19871218, SAVE2, 89, 1, 10, 10, 2, 19880114, 0017, -16.7517, -24.0033, 5351,  -999.00,    360.0,  11.1346,  34.9570, 2,  34.9660, 2,   -999.0, 9,    164.5, 2,     8.50, 2,    18.96, 2,     0.01, 2,     1.34, 2,    1.043, 2,    0.495, 2,   2150.4, 2,   2315.5, 2,    701.9, 2,  11.0895,   -999.0, 9, -999.000, 9
316N19871218, SAVE2, 89, 1, 11, 11, 2, 19880114, 0017, -16.7517, -24.0033, 5351,  -999.00,    400.2,  10.1329,  34.8498, 2,  34.8520, 2,   -999.0, 9,    163.3, 2,    10.46, 2,    21.31, 2,     0.00, 2,     1.48, 2,    0.827, 2,    0.392, 2,   2161.5, 2,   2315.3, 2,    751.7, 2,  10.0857,   -999.0, 9, -999.000, 9
316N19871218, SAVE2, 89, 1, 12, 12, 2, 19880114, 0017, -16.7517, -24.0033, 5351,  -999.00,    450.6,   8.6145,  34.7145, 2,  34.7170, 2,   -999.0, 9,    140.0, 2,    15.15, 2,    27.37, 2,     0.00, 2,     1.83, 2,    0.401, 2,    0.202, 2,   2188.9, 2,   2309.3, 2,    931.3, 2,   8.5662,   -999.0, 9, -999.000, 9
316N19871218, SAVE2, 89, 1, 13, 13, 2, 19880114, 0017, -16.7517, -24.0033, 5351,  -999.00,    495.5,   7.6948,  34.6218, 2,  34.6240, 2,   -999.0, 9,    151.5, 2,    17.40, 2,    28.25, 2,     0.00, 2,     1.91, 2,    0.320, 2,    0.167, 2,   2196.6, 2,   2315.0, 2,    946.6, 2,   7.6451,   -999.0, 9, -999.000, 9
316N19871218, SAVE2, 89, 1, 14, 14, 2, 19880114, 0017, -16.7517, -24.0033, 5351,  -999.00,    540.6,   6.7762,  34.5526, 2,  34.5530, 2,   -999.0, 9,    149.4, 2,    21.02, 2,    30.69, 2,     0.00, 2,     2.06, 2,    0.162, 2,    0.089, 2,   2204.4, 2,   2311.8, 2,   1019.3, 2,   6.7256,   -999.0, 9, -999.000, 9
316N19871218, SAVE2, 89, 1, 15, 15, 2, 19880114, 0017, -16.7517, -24.0033, 5351,  -999.00,    620.7,   5.4079,  34.4604, 2,  34.4660, 2,   -999.0, 9,    158.4, 2,    26.39, 2,    32.46, 2,     0.00, 2,     2.20, 2,    0.067, 2,    0.040, 2,   2209.6, 2,   2308.2, 2,   1081.8, 2,   5.3559,   -999.0, 9, -999.000, 9
316N19871218, SAVE2, 89, 1, 16, 16, 2, 19880114, 0017, -16.7517, -24.0033, 5351,  -999.00,    701.3,   4.5633,  34.4229, 2,  34.4220, 2,   -999.0, 9,    172.7, 2,    31.67, 2,    32.95, 2,     0.00, 2,     2.24, 2,    0.037, 2,    0.021, 2,   2215.0, 2,   2315.6, 2,   1072.4, 2,   4.5088,   -999.0, 9, -999.000, 9
316N19871218, SAVE2, 89, 1, 17, 17, 2, 19880114, 0017, -16.7517, -24.0033, 5351,  -999.00,    776.5,   4.1615,  34.4186, 2,  34.4180, 2,   -999.0, 9,    180.1, 2,    35.19, 2,    32.95, 2,     0.00, 2,     2.26, 2, -999.000, 9, -999.000, 9,   2214.7, 2,   2316.1, 2,   1067.3, 2,   4.1032,   -999.0, 9, -999.000, 9
316N19871218, SAVE2, 89, 1, 18, 18, 2, 19880114, 0017, -16.7517, -24.0033, 5351,  -999.00,    942.7,   3.7457,  34.4797, 2,  34.4790, 2,   -999.0, 9,   -999.0, 9,    40.37, 2,    32.75, 2,     0.00, 2,     2.25, 2,    0.009, 2,    0.001, 2,   2220.4, 2,   2322.0, 2,   1071.9, 2,   3.6767,   -999.0, 9, -999.000, 9
316N19871218, SAVE2, 89, 1, 19, 19, 2, 19880114, 0017, -16.7517, -24.0033, 5351,  -999.00,   1047.9,   3.7117,  34.5558, 2,  34.5550, 2,   -999.0, 9,    180.4, 2,    40.18, 2,    32.16, 2,     0.00, 2,     2.20, 2,    0.003, 2,    0.001, 2,   2224.2, 2,   2329.1, 2,   1053.5, 2,   3.6343,   -999.0, 9, -999.000, 9
316N19871218, SAVE2, 89, 1, 20, 20, 2, 19880114, 0017, -16.7517, -24.0033, 5351,  -999.00,   1151.5,   3.7757,  34.6339, 2,  34.6360, 2,   -999.0, 9,    182.7, 2,    37.73, 2,    30.89, 2,     0.00, 2,     2.10, 2, -999.000, 9, -999.000, 9,   2218.9, 2,   2329.5, 2,   1013.0, 2,   3.6890,   -999.0, 9, -999.000, 9
316N19871218, SAVE2, 89, 1, 21, 21, 2, 19880114, 0017, -16.7517, -24.0033, 5351,  -999.00,   1279.3,   3.8077,  34.7310, 2,  34.7320, 2,   -999.0, 9,    191.7, 2,    34.21, 2,    28.83, 2,     0.00, 2,     1.96, 2, -999.000, 9, -999.000, 9,   2210.5, 2,   2330.6, 2,    950.8, 2,   3.7096,   -999.0, 9, -999.000, 9
316N19871218, SAVE2, 89, 1, 22, 22, 2, 19880114, 0017, -16.7517, -24.0033, 5351,  -999.00,   1491.1,   3.6687,  34.8486, 2,  34.8480, 2,   -999.0, 9,    214.2, 2,    30.20, 2,    25.12, 2,     0.00, 2,     1.70, 2, -999.000, 9, -999.000, 9,   2194.8, 2,   2330.6, 2,    856.8, 2,   3.5534,   -999.0, 9, -999.000, 9
316N19871218, SAVE2, 89, 1, 23, 23, 2, 19880114, 0017, -16.7517, -24.0033, 5351,  -999.00,   1669.6,   3.4239,  34.8835, 2,  34.8850, 2,   -999.0, 9,    227.6, 2,    30.39, 2,    23.55, 2,     0.00, 2,     1.58, 2, -999.000, 9, -999.000, 9,   2194.6, 2,   2308.4, 3,    976.2, 3,   3.2955,   -999.0, 9, -999.000, 9
316N19871218, SAVE2, 89, 1, 24, 24, 2, 19880114, 0017, -16.7517, -24.0033, 5351,  -999.00,   1849.3,   3.2000,  34.9049, 2,  34.9040, 2,   -999.0, 9,    237.0, 2,    31.66, 2,    22.57, 2,     0.00, 2,     1.51, 2, -999.000, 9, -999.000, 9,   2191.4, 2,   2342.1, 2,    785.3, 2,   3.0584,   -999.0, 9, -999.000, 9
316N19871218, SAVE2, 89, 1, 25, 25, 2, 19880114, 0017, -16.7517, -24.0033, 5351,  -999.00,   2051.3,   3.0371,  34.9084, 2,  34.9080, 2,   -999.0, 9,    240.3, 2,    33.81, 2,    22.18, 2,     0.00, 2,     1.50, 2, -999.000, 9, -999.000, 9,   2195.7, 2,   2347.8, 2,    781.8, 2,   2.8794,   -999.0, 9, -999.000, 9
316N19871218, SAVE2, 89, 1, 26, 26, 2, 19880114, 0017, -16.7517, -24.0033, 5351,  -999.00,   2349.7,   2.8572,  34.9027, 2,  34.9030, 2,   -999.0, 9,    241.5, 2,    37.53, 2,    22.38, 2,     0.00, 2,     1.50, 2, -999.000, 9, -999.000, 9,   2196.4, 2,   2350.0, 2,    776.2, 2,   2.6745,   -999.0, 9, -999.000, 9
316N19871218, SAVE2, 89, 1, 27, 27, 2, 19880114, 0017, -16.7517, -24.0033, 5351,  -999.00,   2673.5,   2.7283,  34.8983, 2,  34.8980, 2,   -999.0, 9,    241.9, 2,    40.46, 2,    22.57, 2,     0.00, 2,     1.50, 2, -999.000, 9, -999.000, 9,   2198.1, 2,   2351.7, 2,    777.2, 2,   2.5166,   -999.0, 9, -999.000, 9
316N19871218, SAVE2, 89, 1, 28, 28, 2, 19880114, 0017, -16.7517, -24.0033, 5351,  -999.00,   3003.2,   2.6493,  34.8961, 2,  34.8970, 2,   -999.0, 9,    242.0, 2,    42.32, 2,    22.57, 2,     0.00, 2,     1.52, 2, -999.000, 9, -999.000, 9,   2198.0, 2,   2350.4, 2,    782.6, 2,   2.4060,   -999.0, 9, -999.000, 9
316N19871218, SAVE2, 89, 1, 29, 29, 2, 19880114, 0017, -16.7517, -24.0033, 5351,  -999.00,   3352.3,   2.5334,  34.8910, 2,  34.8900, 2,   -999.0, 9,    243.9, 2,    44.37, 2,    22.57, 2,     0.00, 2,     1.52, 2, -999.000, 9, -999.000, 9,   2201.6, 2,   2355.4, 2,    779.0, 2,   2.2562,   -999.0, 9, -999.000, 9
316N19871218, SAVE2, 89, 1, 30, 30, 2, 19880114, 0017, -16.7517, -24.0033, 5351,  -999.00,   3702.3,   2.2216,  34.8682, 2,  34.8700, 2,   -999.0, 9,    245.2, 2,    51.80, 2,    23.16, 2,     0.00, 2,     1.56, 2,    0.002, 2,    0.000, 2,   2203.3, 2,   2353.8, 2,    795.1, 2,   1.9144,   -999.0, 9, -999.000, 9
316N19871218, SAVE2, 89, 1, 31, 31, 2, 19880114, 0017, -16.7517, -24.0033, 5351,  -999.00,   4006.1,   1.6969,  34.8178, 2,  34.8190, 2,   -999.0, 9,    239.6, 2,    71.05, 2,    25.61, 2,     0.00, 2,     1.75, 2, -999.000, 9, -999.000, 9,   2221.2, 2,   2362.6, 2,    850.5, 2,   1.3709,   -999.0, 9, -999.000, 9
316N19871218, SAVE2, 89, 1, 32, 32, 2, 19880114, 0017, -16.7517, -24.0033, 5351,  -999.00,   4306.4,   1.2521,  34.7725, 2,  34.7710, 2,   -999.0, 9,    233.2, 2,    88.35, 2,    28.05, 2,     0.00, 2,     1.93, 2, -999.000, 9, -999.000, 9,   2239.3, 2,   2371.3, 2,    911.6, 2,   0.9061,   -999.0, 9, -999.000, 9
316N19871218, SAVE2, 89, 1, 33, 33, 2, 19880114, 0017, -16.7517, -24.0033, 5351,  -999.00,   4630.9,   0.9793,  34.7430, 2,  34.7420, 2,   -999.0, 9,    228.3, 2,   100.28, 2,    29.52, 2,     0.00, 2,     2.03, 2, -999.000, 9, -999.000, 9,   2249.7, 2,   2376.6, 2,    947.8, 2,   0.6053,   -999.0, 9, -999.000, 9
316N19871218, SAVE2, 89, 1, 34, 34, 2, 19880114, 0017, -16.7517, -24.0033, 5351,  -999.00,   4959.0,   0.8224,  34.7236, 2,  34.7220, 2,   -999.0, 9,   -999.0, 9,   107.81, 2,    30.49, 2,     0.00, 2,     2.10, 2, -999.000, 9, -999.000, 9,   2256.7, 2,   -999.0, 9,   -999.0, 9,   0.4157,   -999.0, 9, -999.000, 9
316N19871218, SAVE2, 89, 1, 35, 35, 2, 19880114, 0017, -16.7517, -24.0033, 5351,  -999.00,   5277.7,   0.7474,  34.7132, 2,  34.7110, 2,   -999.0, 9,    224.9, 2,   112.01, 2,    31.08, 2,     0.00, 2,     2.15, 2, -999.000, 9, -999.000, 9,   2264.4, 2,   2384.8, 2,    996.5, 2,   0.3055,   5301.0, 2,    0.753, 2
316N19871218, SAVE2, 89, 1, 36, 36, 2, 19880114, 0017, -16.7517, -24.0033, 5351,  -999.00,   5473.4,   0.6875,  34.7059, 2,  34.7050, 2,   -999.0, 9,    223.6, 2,   115.33, 2,    31.47, 2,     0.00, 2,     2.16, 2,    0.004, 2,    0.003, 2,   2264.1, 2,   2386.2, 2,    986.6, 2,   0.2238,   -999.0, 9, -999.000, 9