BOTTLE,20110114CCHDOSIODM
EXPOCODE,SECT_ID,STNNBR,CASTNO,SAMPNO,BTLNBR,BTLNBR_FLAG_W,DATE,TIME,LATITUDE,LONGITUDE,DEPTH,CTDRAW,CTDPRS,CTDTMP,CTDSAL,CTDSAL_FLAG_W,SALNTY,SALNTY_FLAG_W,CTDOXY,CTDOXY_FLAG_W,OXYGEN,OXYGEN_FLAG_W,SILCAT,SILCAT_FLAG_W,NITRAT,NITRAT_FLAG_W,NITRIT,NITRIT_FLAG_W,PHSPHT,PHSPHT_FLAG_W,CFC-11,CFC-11_FLAG_W,CFC-12,CFC-12_FLAG_W,TCARBN,TCARBN_FLAG_W,ALKALI,ALKALI_FLAG_W,PCO2,PCO2_FLAG_W,THETA,REVPRS,REVPRS_FLAG_W,REVTMP,REVTMP_FLAG_W
,,,,,,,,,,,METERS,DBAR,DBAR,ITS-68,PSS-78,,PSS-78,,UMOL/KG,,UMOL/KG,,UMOL/KG,,UMOL/KG,,UMOL/KG,,UMOL/KG,,PMOL/KG,,PMOL/KG,,UMOL/KG,,UMOL/KG,,UATM,,DEG C,DBAR,,ITS-68,
316N19871218, SAVE2, 78, 1, 1, 1, 2, 19880108, 0449, -14.4150, -10.8517, 3389,  -999.00,      0.6,  23.6260,  36.5600, 2,  36.5580, 2,   -999.0, 9,    213.5, 2,     1.46, 2,     0.10, 2,     0.00, 2,     0.25, 2, -999.000, 9, -999.000, 9,   2080.0, 2,   -999.0, 9,   -999.0, 9,  23.6259,   -999.0, 9, -999.000, 9
316N19871218, SAVE2, 78, 1, 2, 2, 2, 19880108, 0449, -14.4150, -10.8517, 3389,  -999.00,     23.7,  23.5390,  36.5560, 2,  36.5570, 2,   -999.0, 9,    213.9, 2,     1.27, 2,     0.10, 2,     0.00, 2,     0.24, 2,    1.783, 2,    0.861, 2,   2080.5, 2,   -999.0, 9,   -999.0, 9,  23.5341,   -999.0, 9, -999.000, 9
316N19871218, SAVE2, 78, 1, 3, 3, 2, 19880108, 0449, -14.4150, -10.8517, 3389,  -999.00,     39.5,  22.4900,  36.5514, 2,  36.5500, 2,   -999.0, 9,    222.1, 2,     1.27, 2,     0.10, 2,     0.00, 2,     0.24, 2,    1.834, 2,    0.923, 2,   -999.0, 9,   -999.0, 9,   -999.0, 9,  22.4820,   -999.0, 9, -999.000, 9
316N19871218, SAVE2, 78, 1, 4, 4, 2, 19880108, 0449, -14.4150, -10.8517, 3389,  -999.00,     54.9,  21.8209,  36.5314, 2,  36.5290, 2,   -999.0, 9,    223.9, 2,     1.27, 2,     0.10, 2,     0.00, 2,     0.23, 2,    1.875, 2,    0.928, 2,   -999.0, 9,   -999.0, 9,   -999.0, 9,  21.8101,   -999.0, 9, -999.000, 9
316N19871218, SAVE2, 78, 1, 5, 5, 2, 19880108, 0449, -14.4150, -10.8517, 3389,  -999.00,     82.3,  20.9909,  36.4486, 2,  36.4450, 2,   -999.0, 9,    219.9, 2,     1.17, 2,     0.10, 2,     0.01, 2,     0.27, 2,    1.863, 2,    0.946, 2,   2084.9, 2,   -999.0, 9,   -999.0, 9,  20.9751,   -999.0, 9, -999.000, 9
316N19871218, SAVE2, 78, 1, 6, 6, 2, 19880108, 0449, -14.4150, -10.8517, 3389,  -999.00,     90.3,  20.7940,  36.4219, 2,  36.4210, 2,   -999.0, 9,    216.0, 2,     1.17, 2,     0.00, 2,     0.20, 2,     0.30, 2,    1.905, 2,    0.957, 2,   -999.0, 9,   -999.0, 9,   -999.0, 9,  20.7767,   -999.0, 9, -999.000, 9
316N19871218, SAVE2, 78, 1, 7, 7, 2, 19880108, 0449, -14.4150, -10.8517, 3389,  -999.00,    138.5,  19.5770,  36.2403, 2,  36.2240, 2,   -999.0, 9,    192.9, 2,     2.05, 2,     4.69, 2,     0.04, 2,     0.53, 2,    1.846, 2,    0.929, 2,   -999.0, 9,   -999.0, 9,   -999.0, 9,  19.5516,   -999.0, 9, -999.000, 9
316N19871218, SAVE2, 78, 1, 8, 8, 2, 19880108, 0449, -14.4150, -10.8517, 3389,  -999.00,    166.4,  16.7123,  35.7808, 2, -999.0000, 9,   -999.0, 9,   -999.0, 9,  -999.00, 9,  -999.00, 9,  -999.00, 9,  -999.00, 9, -999.000, 9, -999.000, 9,   -999.0, 9,   -999.0, 9,   -999.0, 9,  16.6850,   -999.0, 9, -999.000, 9
316N19871218, SAVE2, 78, 1, 9, 9, 2, 19880108, 0449, -14.4150, -10.8517, 3389,  -999.00,    199.3,  13.9598,  35.3790, 2,  35.3700, 2,   -999.0, 9,     98.8, 2,     7.42, 2,    21.88, 2,     0.01, 2,     1.47, 2,    1.139, 2,    0.567, 2,   2189.6, 2,   -999.0, 9,   -999.0, 9,  13.9310,   -999.0, 9, -999.000, 9
316N19871218, SAVE2, 78, 1, 10, 10, 2, 19880108, 0449, -14.4150, -10.8517, 3389,  -999.00,    218.7,  12.8861,  35.2345, 2, -999.0000, 9,   -999.0, 9,   -999.0, 9,  -999.00, 9,  -999.00, 9,  -999.00, 9,  -999.00, 9, -999.000, 9, -999.000, 9,   -999.0, 9,   -999.0, 9,   -999.0, 9,  12.8561,   -999.0, 9, -999.000, 9
316N19871218, SAVE2, 78, 1, 11, 11, 2, 19880108, 0449, -14.4150, -10.8517, 3389,  -999.00,    253.9,  11.6774,  35.1002, 2,  35.1050, 2,   -999.0, 9,     76.6, 2,    10.94, 2,    27.75, 2,     0.01, 2,     1.81, 2,    0.578, 2,    0.287, 2,   2215.3, 2,   -999.0, 9,   -999.0, 9,  11.6448,   -999.0, 9, -999.000, 9
316N19871218, SAVE2, 78, 1, 12, 12, 2, 19880108, 0449, -14.4150, -10.8517, 3389,  -999.00,    299.8,  10.9096,  35.0038, 2,  35.0130, 2,   -999.0, 9,     81.8, 2,    12.31, 2,    28.63, 2,     0.00, 2,     1.91, 2,    0.442, 2,    0.222, 2,   2214.9, 2,   -999.0, 9,   -999.0, 9,  10.8727,   -999.0, 9, -999.000, 9
316N19871218, SAVE2, 78, 1, 13, 13, 2, 19880108, 0449, -14.4150, -10.8517, 3389,  -999.00,    366.8,   9.4261,  34.8486, 2,  34.8520, 2,   -999.0, 9,     85.2, 2,    15.44, 2,    31.37, 2,     0.00, 2,     2.09, 2,    0.197, 2,    0.095, 2,   2230.9, 2,   -999.0, 9,   -999.0, 9,   9.3848,   -999.0, 9, -999.000, 9
316N19871218, SAVE2, 78, 1, 14, 14, 2, 19880108, 0449, -14.4150, -10.8517, 3389,  -999.00,    430.6,   7.9477,  34.6975, 2,  34.7000, 2,   -999.0, 9,    103.1, 2,    18.47, 2,    32.74, 2,     0.00, 2,     2.20, 2,    0.089, 2,    0.052, 2,   -999.0, 9,   -999.0, 9,   -999.0, 9,   7.9038,   -999.0, 9, -999.000, 9
316N19871218, SAVE2, 78, 1, 15, 15, 2, 19880108, 0449, -14.4150, -10.8517, 3389,  -999.00,    487.4,   7.4249,  34.6467, 2,  34.6450, 2,   -999.0, 9,    107.8, 2,    20.53, 2,    33.72, 2,     0.00, 2,     2.28, 2,    0.058, 2,    0.028, 2,   2224.8, 2,   -999.0, 9,   -999.0, 9,   7.3770,   -999.0, 9, -999.000, 9
316N19871218, SAVE2, 78, 1, 16, 16, 2, 19880108, 0449, -14.4150, -10.8517, 3389,  -999.00,    557.2,   6.3464,  34.5528, 2,  34.5600, 2,   -999.0, 9,    117.8, 2,    23.75, 2,    34.99, 2,     0.00, 2,     2.39, 2,    0.022, 2,    0.015, 2,   -999.0, 9,   -999.0, 9,   -999.0, 9,   6.2960,   -999.0, 9, -999.000, 9
316N19871218, SAVE2, 78, 1, 17, 17, 2, 19880108, 0449, -14.4150, -10.8517, 3389,  -999.00,    642.5,   5.5328,  34.4975, 2,  34.5000, 2,   -999.0, 9,    128.3, 2,    27.66, 2,    35.88, 2,     0.00, 2,     2.46, 2,    0.013, 2, -999.000, 9,   -999.0, 9,   -999.0, 9,   -999.0, 9,   5.4783,   -999.0, 9, -999.000, 9
316N19871218, SAVE2, 78, 1, 18, 18, 2, 19880108, 0449, -14.4150, -10.8517, 3389,  -999.00,    722.5,   4.9331,  34.4727, 2,  34.4720, 2,   -999.0, 9,    139.5, 2,    31.58, 2,    35.78, 2,     0.00, 2,     2.48, 2,    0.007, 2, -999.000, 9,   2230.3, 2,   -999.0, 9,   -999.0, 9,   4.8748,   -999.0, 9, -999.000, 9
316N19871218, SAVE2, 78, 1, 19, 19, 2, 19880108, 0449, -14.4150, -10.8517, 3389,  -999.00,    795.6,   4.5223,  34.4785, 2,  34.4760, 2,   -999.0, 9,    144.8, 2,    34.51, 2,    35.68, 2,     0.00, 2,     2.50, 2,    0.002, 2,    0.001, 2,   -999.0, 9,   -999.0, 9,   -999.0, 9,   4.4601,   -999.0, 9, -999.000, 9
316N19871218, SAVE2, 78, 1, 20, 20, 2, 19880108, 0449, -14.4150, -10.8517, 3389,  -999.00,    895.6,   4.2255,  34.5051, 2,  34.5040, 2,   -999.0, 9,    153.9, 2,    36.66, 2,    35.00, 2,     0.00, 2,     2.45, 2, -999.000, 9, -999.000, 9,   -999.0, 9,   -999.0, 9,   -999.0, 9,   4.1568,   -999.0, 9, -999.000, 9
316N19871218, SAVE2, 78, 1, 21, 21, 2, 19880108, 0449, -14.4150, -10.8517, 3389,  -999.00,    971.9,   4.0595,  34.5354, 2,  34.5360, 2,   -999.0, 9,    157.8, 2,    37.93, 2,    34.31, 2,     0.00, 2,     2.41, 2, -999.000, 9, -999.000, 9,   2228.5, 2,   -999.0, 9,   -999.0, 9,   3.9857,   -999.0, 9, -999.000, 9
316N19871218, SAVE2, 78, 1, 22, 22, 2, 19880108, 0449, -14.4150, -10.8517, 3389,  -999.00,   1102.5,   3.8506,  34.6369, 2,  34.6370, 2,   -999.0, 9,    170.8, 2,    37.73, 2,    32.06, 2,     0.00, 2,     2.28, 2, -999.000, 9, -999.000, 9,   -999.0, 9,   -999.0, 9,   -999.0, 9,   3.7674,   -999.0, 9, -999.000, 9
316N19871218, SAVE2, 78, 1, 23, 23, 2, 19880108, 0449, -14.4150, -10.8517, 3389,  -999.00,   1235.1,   3.8447,  34.7286, 2,  34.7280, 2,   -999.0, 9,    183.8, 2,    34.11, 2,    29.71, 2,     0.00, 2,     2.10, 2, -999.000, 9, -999.000, 9,   -999.0, 9,   -999.0, 9,   -999.0, 9,   3.7500,   -999.0, 9, -999.000, 9
316N19871218, SAVE2, 78, 1, 24, 24, 2, 19880108, 0449, -14.4150, -10.8517, 3389,  -999.00,   1299.8,   3.8466,  34.7659, 2,  34.7660, 2,   -999.0, 9,    190.3, 2,    32.84, 2,    28.64, 2,     0.00, 2,     2.01, 2, -999.000, 9, -999.000, 9,   -999.0, 9,   -999.0, 9,   -999.0, 9,   3.7464,   -999.0, 9, -999.000, 9
316N19871218, SAVE2, 78, 1, 25, 25, 2, 19880108, 0449, -14.4150, -10.8517, 3389,  -999.00,   1452.4,   3.8167,  34.8420, 2,  34.8410, 2,   -999.0, 9,    205.1, 2,    29.22, 2,    26.29, 2,     0.00, 2,     1.82, 2,    0.000, 2, -999.000, 9,   -999.0, 9,   -999.0, 9,   -999.0, 9,   3.7031,   -999.0, 9, -999.000, 9
316N19871218, SAVE2, 78, 1, 26, 26, 2, 19880108, 0449, -14.4150, -10.8517, 3389,  -999.00,   1600.9,   3.7787,  34.8880, 2,  34.8890, 2,   -999.0, 9,    216.8, 2,    27.07, 2,    24.53, 2,     0.00, 2,     1.67, 2,    0.003, 2, -999.000, 9,   -999.0, 9,   -999.0, 9,   -999.0, 9,   3.6521,   -999.0, 9, -999.000, 9
316N19871218, SAVE2, 78, 1, 27, 27, 2, 19880108, 0449, -14.4150, -10.8517, 3389,  -999.00,   1739.2,   3.6208,  34.9078, 2,  34.9070, 2,   -999.0, 9,    225.1, 2,    27.66, 2,    23.36, 2,     0.00, 2,     1.60, 2, -999.000, 9, -999.000, 9,   -999.0, 9,   -999.0, 9,   -999.0, 9,   3.4835,   -999.0, 9, -999.000, 9
316N19871218, SAVE2, 78, 1, 28, 28, 2, 19880108, 0449, -14.4150, -10.8517, 3389,  -999.00,   1875.1,   3.4249,  34.9180, 2,  34.9180, 2,   -999.0, 9,    232.9, 2,    28.93, 2,    22.57, 2,     0.00, 2,     1.53, 2,    0.002, 2, -999.000, 9,   -999.0, 9,   -999.0, 9,   -999.0, 9,   3.2777,   -999.0, 9, -999.000, 9
316N19871218, SAVE2, 78, 1, 29, 29, 2, 19880108, 0449, -14.4150, -10.8517, 3389,  -999.00,   1988.2,   3.2680,  34.9130, 2,  34.9130, 2,   -999.0, 9,    235.5, 2,    31.27, 2,    22.48, 2,     0.00, 2,     1.53, 2,    0.003, 2, -999.000, 9,   -999.0, 9,   -999.0, 9,   -999.0, 9,   3.1126,   -999.0, 9, -999.000, 9
316N19871218, SAVE2, 78, 1, 30, 30, 2, 19880108, 0449, -14.4150, -10.8517, 3389,  -999.00,   2101.7,   3.0901,  34.9080, 2,  34.9080, 2,   -999.0, 9,    237.7, 2,    33.81, 2,    22.38, 2,     0.00, 2,     1.52, 2, -999.000, 9, -999.000, 9,   -999.0, 9,   -999.0, 9,   -999.0, 9,   2.9269,   -999.0, 9, -999.000, 9
316N19871218, SAVE2, 78, 1, 31, 31, 2, 19880108, 0449, -14.4150, -10.8517, 3389,  -999.00,   2347.0,   2.8622,  34.9046, 2,  34.9040, 2,   -999.0, 9,    239.8, 2,    37.53, 2,    22.38, 2,     0.00, 2,     1.51, 2,    0.002, 2, -999.000, 9,   -999.0, 9,   -999.0, 9,   -999.0, 9,   2.6796,   -999.0, 9, -999.000, 9
316N19871218, SAVE2, 78, 1, 32, 32, 2, 19880108, 0449, -14.4150, -10.8517, 3389,  -999.00,   2578.7,   2.6823,  34.8966, 2, -999.0000, 9,   -999.0, 9,    240.7, 2,    41.53, 2,    22.57, 2,     0.00, 2,     1.52, 2, -999.000, 9, -999.000, 9,   -999.0, 9,   -999.0, 9,   -999.0, 9,   2.4808,   2586.7, 2,    2.689, 2
316N19871218, SAVE2, 78, 1, 33, 33, 2, 19880108, 0449, -14.4150, -10.8517, 3389,  -999.00,   2840.3,   2.5813,  34.8930, 2,  34.8930, 2,   -999.0, 9,    240.7, 2,    44.37, 2,    22.67, 2,     0.00, 2,     1.53, 2,    0.004, 2, -999.000, 9,   -999.0, 9,   -999.0, 9,   -999.0, 9,   2.3560,   -999.0, 9, -999.000, 9
316N19871218, SAVE2, 78, 1, 34, 34, 2, 19880108, 0449, -14.4150, -10.8517, 3389,  -999.00,   3096.8,   2.5204,  34.8900, 2,  34.8920, 2,   -999.0, 9,    239.4, 2,    46.42, 2,    22.87, 2,     0.00, 2,     1.55, 2, -999.000, 9, -999.000, 9,   -999.0, 9,   -999.0, 9,   -999.0, 9,   2.2703,   -999.0, 9, -999.000, 9
316N19871218, SAVE2, 78, 1, 35, 35, 2, 19880108, 0449, -14.4150, -10.8517, 3389,  -999.00,   3302.6,   2.5174,  34.8899, 2,  34.8900, 2,   -999.0, 9,    239.0, 2,    47.01, 2,    23.06, 2,     0.00, 2,     1.55, 2,    0.001, 2, -999.000, 9,   -999.0, 9,   -999.0, 9,   -999.0, 9,   2.2458,   3314.8, 2,    2.513, 2
316N19871218, SAVE2, 78, 1, 36, 36, 2, 19880108, 0449, -14.4150, -10.8517, 3389,  -999.00,   3419.2,   2.5204,  34.8901, 2,  34.8900, 2,   -999.0, 9,    238.5, 2,    47.10, 2,    22.97, 2,     0.00, 2,     1.55, 2, -999.000, 9, -999.000, 9,   -999.0, 9,   -999.0, 9,   -999.0, 9,   2.2363,   -999.0, 9, -999.000, 9