BOTTLE,20110114CCHDOSIODM
EXPOCODE,SECT_ID,STNNBR,CASTNO,SAMPNO,BTLNBR,BTLNBR_FLAG_W,DATE,TIME,LATITUDE,LONGITUDE,DEPTH,CTDRAW,CTDPRS,CTDTMP,CTDSAL,CTDSAL_FLAG_W,SALNTY,SALNTY_FLAG_W,CTDOXY,CTDOXY_FLAG_W,OXYGEN,OXYGEN_FLAG_W,SILCAT,SILCAT_FLAG_W,NITRAT,NITRAT_FLAG_W,NITRIT,NITRIT_FLAG_W,PHSPHT,PHSPHT_FLAG_W,CFC-11,CFC-11_FLAG_W,CFC-12,CFC-12_FLAG_W,TCARBN,TCARBN_FLAG_W,ALKALI,ALKALI_FLAG_W,PCO2,PCO2_FLAG_W,THETA,REVPRS,REVPRS_FLAG_W,REVTMP,REVTMP_FLAG_W
,,,,,,,,,,,METERS,DBAR,DBAR,ITS-68,PSS-78,,PSS-78,,UMOL/KG,,UMOL/KG,,UMOL/KG,,UMOL/KG,,UMOL/KG,,UMOL/KG,,PMOL/KG,,PMOL/KG,,UMOL/KG,,UMOL/KG,,UATM,,DEG C,DBAR,,ITS-68,
316N19871218, SAVE2, 63, 1, 1, 1, 2, 19871230, 2241, -10.9017, 9.3100, 4389,  -999.00,      0.6,  25.8462,  35.9070, 2,  35.9060, 2,   -999.0, 9,    208.5, 2,     1.07, 2,     0.10, 2,     0.00, 2,     0.17, 2,    1.540, 2,    0.785, 2,   2032.2, 2,   2386.0, 2,    285.7, 2,  25.8461,   -999.0, 9, -999.000, 9
316N19871218, SAVE2, 63, 1, 2, 2, 2, 19871230, 2241, -10.9017, 9.3100, 4389,  -999.00,     15.2,  25.8312,  35.9053, 2,  35.9040, 2,   -999.0, 9,    208.9, 2,     1.17, 2,     0.10, 2,     0.00, 2,     0.17, 2,    1.552, 2,    0.787, 2,   2031.0, 2,   -999.0, 9,   -999.0, 9,  25.8278,   -999.0, 9, -999.000, 9
316N19871218, SAVE2, 63, 1, 3, 3, 2, 19871230, 2241, -10.9017, 9.3100, 4389,  -999.00,     32.0,  18.0511,  35.7299, 2,  35.7320, 2,   -999.0, 9,    188.5, 2,     2.25, 2,     9.96, 2,     0.33, 2,     0.83, 2,    1.165, 2,    0.575, 2,   2110.3, 2,   2366.6, 2,    446.2, 2,  18.0456,   -999.0, 9, -999.000, 9
316N19871218, SAVE2, 63, 1, 4, 4, 2, 19871230, 2241, -10.9017, 9.3100, 4389,  -999.00,     42.1,  16.2724,  35.6220, 2,  35.6180, 2,   -999.0, 9,     87.5, 2,     6.54, 2,    20.02, 2,     0.31, 2,     1.43, 2,    0.963, 2,    0.462, 2,   2189.8, 2,   2348.1, 2,    760.8, 2,  16.2656,   -999.0, 9, -999.000, 9
316N19871218, SAVE2, 63, 1, 5, 5, 2, 19871230, 2241, -10.9017, 9.3100, 4389,  -999.00,     53.8,  15.5495,  35.5761, 2,  35.5680, 2,   -999.0, 9,     57.0, 2,     8.01, 2,    23.83, 2,     0.15, 2,     1.64, 2,    0.875, 2,    0.430, 2,   2209.7, 2,   2340.9, 2,    899.5, 2,  15.5411,   -999.0, 9, -999.000, 9
316N19871218, SAVE2, 63, 1, 6, 6, 2, 19871230, 2241, -10.9017, 9.3100, 4389,  -999.00,     69.7,  15.0186,  35.5244, 2,  35.5170, 2,   -999.0, 9,     57.4, 2,     8.79, 2,    24.91, 2,     0.04, 2,     1.63, 2,    0.795, 2,    0.391, 2,   2212.0, 2,   2341.5, 2,    908.8, 2,  15.0080,   -999.0, 9, -999.000, 9
316N19871218, SAVE2, 63, 1, 7, 7, 2, 19871230, 2241, -10.9017, 9.3100, 4389,  -999.00,     93.9,  14.5377,  35.4694, 2,  35.4650, 2,   -999.0, 9,     59.6, 2,     9.08, 2,    25.50, 2,     0.02, 2,     1.66, 2,    0.720, 2,    0.358, 2,   2213.6, 2,   2336.9, 2,    942.8, 2,  14.5237,   -999.0, 9, -999.000, 9
316N19871218, SAVE2, 63, 1, 8, 8, 2, 19871230, 2241, -10.9017, 9.3100, 4389,  -999.00,    152.2,  13.3919,  35.3313, 2,  35.3280, 2,   -999.0, 9,     63.1, 2,    10.26, 2,    26.87, 2,     0.01, 2,     1.73, 2,    0.553, 2,    0.285, 2,   -999.0, 9,   -999.0, 9,   -999.0, 9,  13.3706,   -999.0, 9, -999.000, 9
316N19871218, SAVE2, 63, 1, 9, 9, 2, 19871230, 2241, -10.9017, 9.3100, 4389,  -999.00,    182.2,  12.9121,  35.2729, 2,  35.2710, 2,   -999.0, 9,     51.8, 2,    11.04, 2,    28.72, 2,     0.00, 2,     1.86, 2,    0.438, 2,    0.222, 2,   -999.0, 9,   -999.0, 9,   1073.6, 2,  12.8871,   -999.0, 9, -999.000, 9
316N19871218, SAVE2, 63, 1, 10, 10, 2, 19871230, 2241, -10.9017, 9.3100, 4389,  -999.00,    210.3,  12.3682,  35.2106, 2,  35.2040, 2,   -999.0, 9,     53.9, 2,    11.53, 2,    29.51, 2,     0.00, 2,     1.91, 2,    0.361, 2,    0.185, 2,   -999.0, 9,   -999.0, 9,   -999.0, 9,  12.3401,   -999.0, 9, -999.000, 9
316N19871218, SAVE2, 63, 1, 11, 11, 2, 19871230, 2241, -10.9017, 9.3100, 4389,  -999.00,    242.7,  11.7854,  35.1403, 2,  35.1400, 2,   -999.0, 9,     48.7, 2,    12.70, 2,    30.97, 2,     0.00, 2,     1.97, 2,    0.280, 2,    0.143, 2,   -999.0, 9,   -999.0, 9,   -999.0, 9,  11.7540,   -999.0, 9, -999.000, 9
316N19871218, SAVE2, 63, 1, 12, 12, 2, 19871230, 2241, -10.9017, 9.3100, 4389,  -999.00,    295.5,  11.0316,  35.0500, 2,  35.0540, 2,   -999.0, 9,     32.6, 2,    14.36, 2,    33.81, 2,     0.00, 2,     2.13, 2,    0.164, 2,    0.085, 2,   2251.2, 2,   2320.0, 2,   1361.7, 2,  10.9949,   -999.0, 9, -999.000, 9
316N19871218, SAVE2, 63, 1, 13, 13, 2, 19871230, 2241, -10.9017, 9.3100, 4389,  -999.00,    409.0,   9.1393,  34.8415, 2,  34.8380, 2,   -999.0, 9,     21.7, 2,    19.25, 2,    38.70, 2,     0.00, 2,     2.44, 2,    0.040, 2,    0.032, 2,   2270.9, 2,   2311.5, 2,   1673.1, 2,   9.0939,   -999.0, 9, -999.000, 9
316N19871218, SAVE2, 63, 1, 14, 14, 2, 19871230, 2241, -10.9017, 9.3100, 4389,  -999.00,    513.2,   7.2530,  34.6584, 2,  34.6580, 2,   -999.0, 9,     38.3, 2,    23.95, 2,    41.25, 2,     0.00, 2,     2.62, 2,    0.012, 2,    0.006, 2,   2278.0, 2,   2314.8, 2,   1723.7, 2,   7.2031,   -999.0, 9, -999.000, 9
316N19871218, SAVE2, 63, 1, 15, 15, 2, 19871230, 2241, -10.9017, 9.3100, 4389,  -999.00,    551.2,   6.6993,  34.6126, 2,  34.6120, 2,   -999.0, 9,     47.4, 2,    25.81, 2,    41.44, 2,     0.00, 2,     2.68, 2,    0.005, 2,    0.006, 2,   2273.7, 2,   2308.8, 2,   1741.1, 2,   6.6479,   -999.0, 9, -999.000, 9
316N19871218, SAVE2, 63, 1, 16, 16, 2, 19871230, 2241, -10.9017, 9.3100, 4389,  -999.00,    626.1,   5.9096,  34.5584, 2,  34.5640, 2,   -999.0, 9,     65.6, 2,    28.35, 2,    41.45, 2,     0.00, 2,     2.71, 2,    0.000, 2, -999.000, 9,   -999.0, 9,   -999.0, 9,   -999.0, 9,   5.8547,   -999.0, 9, -999.000, 9
316N19871218, SAVE2, 63, 1, 17, 17, 2, 19871230, 2241, -10.9017, 9.3100, 4389,  -999.00,    700.9,   5.3419,  34.5248, 2,  34.5230, 2,   -999.0, 9,     84.8, 2,    30.99, 2,    40.67, 2,     0.00, 2,     2.68, 2,    0.001, 2,    0.006, 2,   2262.1, 2,   2313.8, 2,   1540.0, 2,   5.2832,   -999.0, 9, -999.000, 9
316N19871218, SAVE2, 63, 1, 18, 18, 2, 19871230, 2241, -10.9017, 9.3100, 4389,  -999.00,    790.9,   4.8391,  34.5132, 2,  34.5110, 2,   -999.0, 9,    107.4, 2,    33.73, 2,    38.91, 2,     0.00, 2,     2.61, 2, -999.000, 9, -999.000, 9,   2254.1, 2,   2316.4, 2,   1423.7, 2,   4.7754,   -999.0, 9, -999.000, 9
316N19871218, SAVE2, 63, 1, 19, 19, 2, 19871230, 2241, -10.9017, 9.3100, 4389,  -999.00,    946.0,   4.2854,  34.5472, 2,  34.5490, 2,   -999.0, 9,    128.7, 2,    36.46, 2,    36.56, 2,     0.00, 2,     2.48, 2, -999.000, 9,    0.006, 2,   2248.9, 2,   2323.2, 2,   1307.2, 2,   4.2121,   -999.0, 9, -999.000, 9
316N19871218, SAVE2, 63, 1, 20, 20, 2, 19871230, 2241, -10.9017, 9.3100, 4389,  -999.00,   1060.0,   4.1255,  34.6295, 2,  34.6270, 2,   -999.0, 9,    145.6, 2,    35.87, 2,    34.02, 2,     0.00, 2,     2.31, 2, -999.000, 9, -999.000, 9,   2239.5, 2,   2324.7, 2,   1209.1, 2,   4.0436,   -999.0, 9, -999.000, 9
316N19871218, SAVE2, 63, 1, 21, 21, 2, 19871230, 2241, -10.9017, 9.3100, 4389,  -999.00,   1174.5,   4.0256,  34.7083, 2,  34.7060, 2,   -999.0, 9,    159.5, 2,    34.31, 2,    31.77, 2,     0.00, 2,     2.15, 2,    0.000, 2,    0.006, 2,   -999.0, 9,   -999.0, 9,   -999.0, 9,   3.9345,   -999.0, 9, -999.000, 9
316N19871218, SAVE2, 63, 1, 22, 22, 2, 19871230, 2241, -10.9017, 9.3100, 4389,  -999.00,   1390.9,   3.9026,  34.8614, 2,  34.8600, 2,   -999.0, 9,    194.2, 2,    28.44, 2,    26.58, 2,     0.00, 2,     1.78, 2, -999.000, 9,    0.001, 2,   2209.2, 2,   2333.7, 2,    925.2, 2,   3.7935,   -999.0, 9, -999.000, 9
316N19871218, SAVE2, 63, 1, 23, 23, 2, 19871230, 2241, -10.9017, 9.3100, 4389,  -999.00,   1498.5,   3.8147,  34.8985, 2,  34.8970, 2,   -999.0, 9,    207.7, 2,    27.07, 2,    24.92, 2,     0.00, 2,     1.67, 2, -999.000, 9, -999.000, 9,   2199.9, 2,   2332.5, 2,    876.1, 2,   3.6969,   -999.0, 9, -999.000, 9
316N19871218, SAVE2, 63, 1, 24, 24, 2, 19871230, 2241, -10.9017, 9.3100, 4389,  -999.00,   1717.5,   3.6078,  34.9265, 2,  34.9250, 2,   -999.0, 9,    220.7, 2,    27.17, 2,    23.45, 2,     0.00, 2,     1.58, 2, -999.000, 9,    0.008, 2,   -999.0, 9,   -999.0, 9,   -999.0, 9,   3.4726,   -999.0, 9, -999.000, 9
316N19871218, SAVE2, 63, 1, 25, 25, 2, 19871230, 2241, -10.9017, 9.3100, 4389,  -999.00,   1960.9,   3.3139,  34.9314, 2,  34.9290, 2,   -999.0, 9,    224.6, 2,    30.98, 2,    23.06, 2,     0.00, 2,     1.56, 2,    0.000, 2,    0.006, 2,   -999.0, 9,   -999.0, 9,   -999.0, 9,   3.1604,   -999.0, 9, -999.000, 9
316N19871218, SAVE2, 63, 1, 26, 26, 2, 19871230, 2241, -10.9017, 9.3100, 4389,  -999.00,   2199.3,   3.0811,  34.9290, 2,  34.9260, 2,   -999.0, 9,    227.7, 2,    34.89, 2,    22.77, 2,     0.00, 2,     1.54, 2,    0.001, 2, -999.000, 9,   -999.0, 9,   -999.0, 9,   -999.0, 9,   2.9088,   -999.0, 9, -999.000, 9
316N19871218, SAVE2, 63, 1, 27, 27, 2, 19871230, 2241, -10.9017, 9.3100, 4389,  -999.00,   2396.6,   2.9771,  34.9232, 2,  34.9210, 2,   -999.0, 9,    228.5, 2,    36.94, 2,    22.77, 2,     0.00, 2,     1.53, 2, -999.000, 9, -999.000, 9,   -999.0, 9,   -999.0, 9,   -999.0, 9,   2.7877,   -999.0, 9, -999.000, 9
316N19871218, SAVE2, 63, 1, 28, 28, 2, 19871230, 2241, -10.9017, 9.3100, 4389,  -999.00,   2599.0,   2.8492,  34.9201, 2,  34.9170, 2,   -999.0, 9,    230.3, 2,    39.29, 2,    22.77, 2,     0.00, 2,     1.53, 2, -999.000, 9, -999.000, 9,   -999.0, 9,   -999.0, 9,   -999.0, 9,   2.6424,   -999.0, 9, -999.000, 9
316N19871218, SAVE2, 63, 1, 29, 29, 2, 19871230, 2241, -10.9017, 9.3100, 4389,  -999.00,   2847.8,   2.7143,  34.9141, 2,  34.9100, 2,   -999.0, 9,    230.7, 2,    42.71, 2,    22.97, 2,     0.00, 2,     1.54, 2, -999.000, 9, -999.000, 9,   -999.0, 9,   -999.0, 9,   -999.0, 9,   2.4853,   -999.0, 9, -999.000, 9
316N19871218, SAVE2, 63, 1, 30, 30, 2, 19871230, 2241, -10.9017, 9.3100, 4389,  -999.00,   3100.7,   2.5863,  34.9079, 2,  34.9050, 2,   -999.0, 9,    230.3, 2,    45.83, 2,    23.16, 2,     0.00, 2,     1.56, 2,    0.002, 2,    0.007, 2,   -999.0, 9,   -999.0, 9,   -999.0, 9,   2.3343,   -999.0, 9, -999.000, 9
316N19871218, SAVE2, 63, 1, 31, 31, 2, 19871230, 2241, -10.9017, 9.3100, 4389,  -999.00,   3347.8,   2.4984,  34.9024, 2, -999.0000, 9,   -999.0, 9,    229.0, 2,    48.86, 2,    23.26, 2,     0.00, 2,     1.57, 2, -999.000, 9, -999.000, 9,   -999.0, 9,   -999.0, 9,   -999.0, 9,   2.2224,   -999.0, 9, -999.000, 9
316N19871218, SAVE2, 63, 1, 32, 32, 2, 19871230, 2241, -10.9017, 9.3100, 4389,  -999.00,   3593.6,   2.4344,  34.8981, 2,  34.8950, 2,   -999.0, 9,    226.4, 2,    52.58, 2,    23.55, 2,     0.00, 2,     1.60, 2, -999.000, 9, -999.000, 9,   -999.0, 9,   -999.0, 9,   -999.0, 9,   2.1335,   3609.1, 2,    2.430, 2
316N19871218, SAVE2, 63, 1, 33, 33, 2, 19871230, 2241, -10.9017, 9.3100, 4389,  -999.00,   3848.0,   2.3735,  34.8914, 2,  34.8900, 2,   -999.0, 9,    221.6, 2,    56.19, 2,    24.04, 2,     0.00, 2,     1.61, 2, -999.000, 9, -999.000, 9,   -999.0, 9,   -999.0, 9,   -999.0, 9,   2.0460,   -999.0, 9, -999.000, 9
316N19871218, SAVE2, 63, 1, 34, 34, 2, 19871230, 2241, -10.9017, 9.3100, 4389,  -999.00,   4098.6,   2.3575,  34.8879, 2,  34.8860, 2,   -999.0, 9,    221.1, 2,    56.97, 2,    24.24, 2,     0.00, 2,     1.61, 2, -999.000, 9, -999.000, 9,   -999.0, 9,   -999.0, 9,   -999.0, 9,   2.0020,   -999.0, 9, -999.000, 9
316N19871218, SAVE2, 63, 1, 35, 35, 2, 19871230, 2241, -10.9017, 9.3100, 4389,  -999.00,   4348.2,   2.3665,  34.8857, 2,  34.8840, 2,   -999.0, 9,    223.8, 2,    56.10, 2,    24.14, 2,     0.00, 2,     1.59, 2, -999.000, 9, -999.000, 9,   -999.0, 9,   -999.0, 9,   -999.0, 9,   1.9815,   4338.5, 2,    2.362, 2
316N19871218, SAVE2, 63, 1, 36, 36, 2, 19871230, 2241, -10.9017, 9.3100, 4389,  -999.00,   4455.4,   2.3685,  34.8837, 2,  34.8830, 2,   -999.0, 9,    225.5, 2,    55.61, 2,    23.94, 2,     0.00, 2,     1.59, 2,    0.001, 2,    0.001, 2,   2231.5, 3,   2385.4, 2,    796.3, 2,   1.9707,   -999.0, 9, -999.000, 9