BOTTLE,20110114CCHDOSIODM
EXPOCODE,SECT_ID,STNNBR,CASTNO,SAMPNO,BTLNBR,BTLNBR_FLAG_W,DATE,TIME,LATITUDE,LONGITUDE,DEPTH,CTDRAW,CTDPRS,CTDTMP,CTDSAL,CTDSAL_FLAG_W,SALNTY,SALNTY_FLAG_W,CTDOXY,CTDOXY_FLAG_W,OXYGEN,OXYGEN_FLAG_W,SILCAT,SILCAT_FLAG_W,NITRAT,NITRAT_FLAG_W,NITRIT,NITRIT_FLAG_W,PHSPHT,PHSPHT_FLAG_W,CFC-11,CFC-11_FLAG_W,CFC-12,CFC-12_FLAG_W,TCARBN,TCARBN_FLAG_W,ALKALI,ALKALI_FLAG_W,PCO2,PCO2_FLAG_W,THETA,REVPRS,REVPRS_FLAG_W,REVTMP,REVTMP_FLAG_W
,,,,,,,,,,,METERS,DBAR,DBAR,ITS-68,PSS-78,,PSS-78,,UMOL/KG,,UMOL/KG,,UMOL/KG,,UMOL/KG,,UMOL/KG,,UMOL/KG,,PMOL/KG,,PMOL/KG,,UMOL/KG,,UMOL/KG,,UATM,,DEG C,DBAR,,ITS-68,
316N19871218, SAVE2, 62, 1, 1, 1, 2, 19871230, 0759, -10.7050, 10.3850, 4159,  -999.00,      1.8,  26.5918,  35.8532, 2,  35.8570, 2,   -999.0, 9,    208.1, 2,     0.98, 2,     0.20, 2,     0.01, 2,     0.15, 2,    1.462, 2,    0.781, 2,   2023.3, 2,   2370.6, 2,    289.6, 2,  26.5914,   -999.0, 9, -999.000, 9
316N19871218, SAVE2, 62, 1, 2, 2, 2, 19871230, 0759, -10.7050, 10.3850, 4159,  -999.00,     14.0,  26.4828,  35.8510, 2,  35.8540, 2,   -999.0, 9,    209.0, 2,     0.98, 2,     0.10, 2,     0.00, 2,     0.15, 2,    1.454, 2,    0.746, 2,   2020.2, 2,   2367.6, 2,    288.7, 2,  26.4796,   -999.0, 9, -999.000, 9
316N19871218, SAVE2, 62, 1, 3, 3, 2, 19871230, 0759, -10.7050, 10.3850, 4159,  -999.00,     23.6,  19.9464,  35.8038, 2,  35.7960, 2,   -999.0, 9,    311.4, 2,     0.29, 2,     0.39, 2,     0.05, 2,     0.22, 2,    1.121, 2,    0.567, 2,   2010.8, 2,   2373.6, 2,    270.7, 2,  19.9420,   -999.0, 9, -999.000, 9
316N19871218, SAVE2, 62, 1, 4, 4, 2, 19871230, 0759, -10.7050, 10.3850, 4159,  -999.00,     38.5,  16.5685,  35.6781, 2,  35.6720, 2,   -999.0, 9,     59.2, 2,     7.23, 2,    21.29, 2,     0.40, 2,     1.51, 2,    0.996, 2,    0.508, 2,   2206.2, 2,   2343.9, 2,    864.7, 2,  16.5623,   -999.0, 9, -999.000, 9
316N19871218, SAVE2, 62, 1, 5, 5, 2, 19871230, 0759, -10.7050, 10.3850, 4159,  -999.00,     52.0,  15.9976,  35.6316, 2,  35.6270, 2,   -999.0, 9,     58.7, 2,     7.81, 2,    22.86, 2,     0.08, 2,     1.57, 2,    0.967, 2,    0.504, 2,   2207.5, 2,   2343.4, 2,    874.4, 2,  15.9894,   -999.0, 9, -999.000, 9
316N19871218, SAVE2, 62, 1, 6, 6, 2, 19871230, 0759, -10.7050, 10.3850, 4159,  -999.00,     93.9,  15.0281,  35.5299, 2,  35.5270, 2,   -999.0, 9,     56.1, 2,     9.08, 2,    24.81, 2,     0.02, 2,     1.64, 2,    0.763, 2,    0.384, 2,   2218.7, 2,   2349.1, 2,    908.1, 2,  15.0138,   -999.0, 9, -999.000, 9
316N19871218, SAVE2, 62, 1, 7, 7, 2, 19871230, 0759, -10.7050, 10.3850, 4159,  -999.00,    143.4,  14.1806,  35.4275, 2,  35.4240, 2,   -999.0, 9,     52.6, 2,    10.16, 2,    26.57, 2,     0.01, 2,     1.72, 2, -999.000, 9, -999.000, 9,   2218.2, 2,   2335.6, 2,    979.4, 2,  14.1596,   -999.0, 9, -999.000, 9
316N19871218, SAVE2, 62, 1, 8, 8, 2, 19871230, 0759, -10.7050, 10.3850, 4159,  -999.00,    178.9,  13.6535,  35.3611, 2,  35.3580, 2,   -999.0, 9,     57.9, 2,    10.26, 2,    26.87, 2,     0.01, 2,     1.73, 2,    0.544, 2,    0.284, 2,   -999.0, 9,   -999.0, 9,   -999.0, 9,  13.6280,   -999.0, 9, -999.000, 9
316N19871218, SAVE2, 62, 1, 9, 9, 2, 19871230, 0759, -10.7050, 10.3850, 4159,  -999.00,    209.0,  13.0762,  35.2916, 2,  35.2900, 2,   -999.0, 9,     62.2, 2,    10.55, 2,    27.26, 2,     0.01, 2,     1.74, 2,    0.491, 2,    0.251, 2,   2215.2, 2,   2329.3, 2,    995.2, 2,  13.0473,   -999.0, 9, -999.000, 9
316N19871218, SAVE2, 62, 1, 10, 10, 2, 19871230, 0759, -10.7050, 10.3850, 4159,  -999.00,    241.8,  12.4332,  35.2141, 2,  35.2110, 2,   -999.0, 9,     49.2, 2,    12.41, 2,    29.60, 2,     0.01, 2,     1.89, 2,    0.344, 2,    0.184, 2,   2228.6, 2,   2325.6, 2,   1116.6, 2,  12.4008,   -999.0, 9, -999.000, 9
316N19871218, SAVE2, 62, 1, 11, 11, 2, 19871230, 0759, -10.7050, 10.3850, 4159,  -999.00,    289.6,  11.5504,  35.1105, 2, -999.0000, 9,   -999.0, 9,   -999.0, 9,  -999.00, 9,  -999.00, 9,  -999.00, 9,  -999.00, 9,    0.156, 2,    0.057, 2,   -999.0, 9,   -999.0, 9,   -999.0, 9,  11.5134,   -999.0, 9, -999.000, 9
316N19871218, SAVE2, 62, 1, 12, 12, 2, 19871230, 0759, -10.7050, 10.3850, 4159,  -999.00,    320.1,  11.0220,  35.0492, 2,  35.0490, 2,   -999.0, 9,     30.9, 2,    14.66, 2,    33.91, 2,     0.01, 2,     2.13, 2,    0.079, 2,    0.040, 2,   -999.0, 9,   -999.0, 9,   1366.7, 2,  10.9822,   -999.0, 9, -999.000, 9
316N19871218, SAVE2, 62, 1, 13, 13, 2, 19871230, 0759, -10.7050, 10.3850, 4159,  -999.00,    370.7,   9.9712,  34.9327, 2,  34.9370, 2,   -999.0, 9,     20.9, 2,    17.20, 2,    36.84, 2,     0.01, 2,     2.35, 2,    0.028, 2,    0.016, 2,   -999.0, 9,   -999.0, 9,   1555.6, 2,   9.9279,   -999.0, 9, -999.000, 9
316N19871218, SAVE2, 62, 1, 14, 14, 2, 19871230, 0759, -10.7050, 10.3850, 4159,  -999.00,    441.0,   8.7115,  34.8040, 2,  34.8050, 2,   -999.0, 9,     23.0, 2,    20.33, 2,    39.48, 2,     0.01, 2,     2.48, 2,    0.013, 2,    0.012, 2,   2280.3, 2,   2319.5, 2,   1696.5, 2,   8.6640,   -999.0, 9, -999.000, 9
316N19871218, SAVE2, 62, 1, 15, 15, 2, 19871230, 0759, -10.7050, 10.3850, 4159,  -999.00,    505.2,   7.7659,  34.7130, 2,  34.7110, 2,   -999.0, 9,     30.0, 2,    22.58, 2,    41.05, 2,     0.00, 2,     2.65, 2, -999.000, 9, -999.000, 9,   2272.4, 2,   2306.1, 2,   1759.6, 2,   7.7148,   -999.0, 9, -999.000, 9
316N19871218, SAVE2, 62, 1, 16, 16, 2, 19871230, 0759, -10.7050, 10.3850, 4159,  -999.00,    636.3,   5.9495,  34.5581, 2,  34.5600, 2,   -999.0, 9,     63.5, 2,    27.76, 2,    41.54, 2,     0.00, 2,     2.69, 2,    0.002, 2, -999.000, 9,   2265.6, 2,   2305.3, 2,   1678.2, 2,   5.8935,   -999.0, 9, -999.000, 9
316N19871218, SAVE2, 62, 1, 17, 17, 2, 19871230, 0759, -10.7050, 10.3850, 4159,  -999.00,    766.6,   4.9369,  34.5129, 2,  34.5110, 2,   -999.0, 9,    102.2, 2,    33.14, 2,    39.10, 2,     0.00, 2,     2.60, 2,    0.005, 2,    0.001, 2,   2253.9, 2,   2310.8, 2,   1477.5, 2,   4.8747,   -999.0, 9, -999.000, 9
316N19871218, SAVE2, 62, 1, 18, 18, 2, 19871230, 0759, -10.7050, 10.3850, 4159,  -999.00,    821.0,   4.6560,  34.5169, 2,  34.5150, 2,   -999.0, 9,    113.0, 2,    34.70, 2,    38.22, 2,     0.00, 2,     2.55, 2,    0.001, 2, -999.000, 9,   2251.2, 2,   -999.0, 9,   -999.0, 9,   4.5908,   -999.0, 9, -999.000, 9
316N19871218, SAVE2, 62, 1, 19, 19, 2, 19871230, 0759, -10.7050, 10.3850, 4159,  -999.00,    947.2,   4.2851,  34.5492, 2,  34.5480, 2,   -999.0, 9,    130.0, 2,    36.66, 2,    36.17, 2,     0.01, 2,     2.46, 2,    0.012, 2, -999.000, 9,   2252.1, 2,   2325.7, 2,   1315.8, 2,   4.2117,   -999.0, 9, -999.000, 9
316N19871218, SAVE2, 62, 1, 20, 20, 2, 19871230, 0759, -10.7050, 10.3850, 4159,  -999.00,   1086.0,   4.1061,  34.6531, 2,  34.6510, 2,   -999.0, 9,    151.3, 2,    35.58, 2,    33.14, 2,     0.01, 2,     2.26, 2, -999.000, 9, -999.000, 9,   -999.0, 9,   -999.0, 9,   -999.0, 9,   4.0221,   -999.0, 9, -999.000, 9
316N19871218, SAVE2, 62, 1, 21, 21, 2, 19871230, 0759, -10.7050, 10.3850, 4159,  -999.00,   1226.4,   4.0349,  34.7490, 2,  34.7490, 2,   -999.0, 9,    166.9, 2,    33.04, 2,    30.59, 2,     0.01, 2,     2.09, 2, -999.000, 9, -999.000, 9,   2226.9, 2,   2327.0, 2,   1089.4, 2,   3.9393,   -999.0, 9, -999.000, 9
316N19871218, SAVE2, 62, 1, 22, 22, 2, 19871230, 0759, -10.7050, 10.3850, 4159,  -999.00,   1395.0,   3.9212,  34.8388, 2,  34.8390, 2,   -999.0, 9,    188.6, 2,    29.51, 2,    27.46, 2,     0.00, 2,     1.88, 2, -999.000, 9, -999.000, 9,   -999.0, 9,   -999.0, 9,   -999.0, 9,   3.8116,   -999.0, 9, -999.000, 9
316N19871218, SAVE2, 62, 1, 23, 23, 2, 19871230, 0759, -10.7050, 10.3850, 4159,  -999.00,   1600.1,   3.7669,  34.9065, 2,  34.9060, 2,   -999.0, 9,    211.6, 2,    26.68, 2,    24.43, 2,     0.00, 2,     1.64, 2, -999.000, 9, -999.000, 9,   2198.9, 2,   2333.2, 2,    866.8, 2,   3.6405,   -999.0, 9, -999.000, 9
316N19871218, SAVE2, 62, 1, 24, 24, 2, 19871230, 0759, -10.7050, 10.3850, 4159,  -999.00,   1830.3,   3.5285,  34.9300, 2,  34.9300, 2,   -999.0, 9,    223.8, 2,    27.46, 2,    22.97, 2,     0.00, 2,     1.54, 2, -999.000, 9, -999.000, 9,   -999.0, 9,   -999.0, 9,   -999.0, 9,   3.3840,   -999.0, 9, -999.000, 9
316N19871218, SAVE2, 62, 1, 25, 25, 2, 19871230, 0759, -10.7050, 10.3850, 4159,  -999.00,   2061.8,   3.3021,  34.9341, 2,  34.9330, 2,   -999.0, 9,    228.1, 2,    30.29, 2,    22.38, 2,     0.01, 2,     1.51, 2, -999.000, 9, -999.000, 9,   -999.0, 9,   -999.0, 9,   -999.0, 9,   3.1393,   -999.0, 9, -999.000, 9
316N19871218, SAVE2, 62, 1, 26, 26, 2, 19871230, 0759, -10.7050, 10.3850, 4159,  -999.00,   2251.5,   3.1366,  34.9313, 2,  34.9300, 2,   -999.0, 9,    229.0, 2,    33.91, 2,    22.38, 2,     0.01, 2,     1.51, 2,    0.001, 2, -999.000, 9,   2199.1, 2,   2344.0, 2,    815.9, 2,   2.9584,   -999.0, 9, -999.000, 9
316N19871218, SAVE2, 62, 1, 27, 27, 2, 19871230, 0759, -10.7050, 10.3850, 4159,  -999.00,   2474.0,   2.9640,  34.9238, 2,  34.9230, 2,   -999.0, 9,    229.8, 2,    37.04, 2,    22.67, 2,     0.01, 2,     1.53, 2, -999.000, 9, -999.000, 9,   -999.0, 9,   -999.0, 9,   -999.0, 9,   2.7674,   -999.0, 9, -999.000, 9
316N19871218, SAVE2, 62, 1, 28, 28, 2, 19871230, 0759, -10.7050, 10.3850, 4159,  -999.00,   2696.3,   2.8131,  34.9179, 2,  34.9160, 2,   -999.0, 9,    230.3, 2,    40.75, 2,    22.67, 2,     0.01, 2,     1.55, 2,    0.002, 2, -999.000, 9,   -999.0, 9,   -999.0, 9,   -999.0, 9,   2.5974,   -999.0, 9, -999.000, 9
316N19871218, SAVE2, 62, 1, 29, 29, 2, 19871230, 0759, -10.7050, 10.3850, 4159,  -999.00,   2922.1,   2.6951,  34.9119, 2,  34.9130, 2,   -999.0, 9,    230.3, 2,    43.00, 2,    22.97, 2,     0.00, 2,     1.55, 2, -999.000, 9, -999.000, 9,   2210.0, 2,   2357.0, 2,    813.9, 2,   2.4590,   -999.0, 9, -999.000, 9
316N19871218, SAVE2, 62, 1, 30, 30, 2, 19871230, 0759, -10.7050, 10.3850, 4159,  -999.00,   3147.5,   2.5980,  34.9072, 2,  34.9060, 2,   -999.0, 9,    230.3, 2,    45.83, 2,    23.06, 2,     0.00, 2,     1.57, 2, -999.000, 9, -999.000, 9,   -999.0, 9,   -999.0, 9,   -999.0, 9,   2.3409,   -999.0, 9, -999.000, 9
316N19871218, SAVE2, 62, 1, 31, 31, 2, 19871230, 0759, -10.7050, 10.3850, 4159,  -999.00,   3398.2,   2.5225,  34.9022, 2,  34.9010, 2,   -999.0, 9,    229.4, 2,    48.18, 2,    23.16, 2,     0.00, 2,     1.57, 2, -999.000, 9, -999.000, 9,   2216.8, 2,   2367.5, 2,    801.6, 2,   2.2405,   -999.0, 9, -999.000, 9
316N19871218, SAVE2, 62, 1, 32, 32, 2, 19871230, 0759, -10.7050, 10.3850, 4159,  -999.00,   3606.4,   2.4546,  34.8971, 2,  34.8960, 2,   -999.0, 9,    226.4, 2,    51.50, 2,    23.55, 2,     0.01, 2,     1.58, 2,    0.000, 2, -999.000, 9,   -999.0, 9,   -999.0, 9,   -999.0, 9,   2.1518,   3620.0, 2,    2.449, 2
316N19871218, SAVE2, 62, 1, 33, 33, 2, 19871230, 0759, -10.7050, 10.3850, 4159,  -999.00,   3844.2,   2.3913,  34.8915, 2,  34.8920, 2,   -999.0, 9,    222.0, 2,    55.90, 2,    23.85, 2,     0.01, 2,     1.62, 2, -999.000, 9, -999.000, 9,   2232.3, 2,   2378.1, 2,    833.6, 2,   2.0637,   -999.0, 9, -999.000, 9
316N19871218, SAVE2, 62, 1, 34, 34, 2, 19871230, 0759, -10.7050, 10.3850, 4159,  -999.00,   3995.4,   2.3595,  34.8882, 2,  34.8880, 2,   -999.0, 9,    219.4, 2,    57.85, 2,    24.14, 2,     0.01, 2,     1.64, 2,    0.001, 2, -999.000, 9,   -999.0, 9,   -999.0, 9,   -999.0, 9,   2.0157,   -999.0, 9, -999.000, 9
316N19871218, SAVE2, 62, 1, 35, 35, 2, 19871230, 0759, -10.7050, 10.3850, 4159,  -999.00,   4105.4,   2.3550,  34.8873, 2,  34.8860, 2,   -999.0, 9,    222.0, 2,    57.66, 2,    24.14, 2,     0.01, 2,     1.62, 2, -999.000, 9, -999.000, 9,   2238.9, 3,   2387.3, 2,    825.6, 2,   1.9987,   4091.9, 2,    2.351, 2
316N19871218, SAVE2, 62, 1, 36, 36, 2, 19871230, 0759, -10.7050, 10.3850, 4159,  -999.00,   4216.5,   2.3570,  34.8857, 2,  34.8860, 2,   -999.0, 9,    219.8, 2,    57.76, 2,    24.24, 2,     0.01, 2,     1.62, 2,    0.002, 2,    0.001, 2,   -999.0, 9,   -999.0, 9,   -999.0, 9,   1.9878,   -999.0, 9, -999.000, 9