BOTTLE,20110114CCHDOSIODM
EXPOCODE,SECT_ID,STNNBR,CASTNO,SAMPNO,BTLNBR,BTLNBR_FLAG_W,DATE,TIME,LATITUDE,LONGITUDE,DEPTH,CTDRAW,CTDPRS,CTDTMP,CTDSAL,CTDSAL_FLAG_W,SALNTY,SALNTY_FLAG_W,CTDOXY,CTDOXY_FLAG_W,OXYGEN,OXYGEN_FLAG_W,SILCAT,SILCAT_FLAG_W,NITRAT,NITRAT_FLAG_W,NITRIT,NITRIT_FLAG_W,PHSPHT,PHSPHT_FLAG_W,CFC-11,CFC-11_FLAG_W,CFC-12,CFC-12_FLAG_W,TCARBN,TCARBN_FLAG_W,ALKALI,ALKALI_FLAG_W,PCO2,PCO2_FLAG_W,THETA,REVPRS,REVPRS_FLAG_W,REVTMP,REVTMP_FLAG_W
,,,,,,,,,,,METERS,DBAR,DBAR,ITS-68,PSS-78,,PSS-78,,UMOL/KG,,UMOL/KG,,UMOL/KG,,UMOL/KG,,UMOL/KG,,UMOL/KG,,PMOL/KG,,PMOL/KG,,UMOL/KG,,UMOL/KG,,UATM,,DEG C,DBAR,,ITS-68,
316N19871218, SAVE2, 71, 1, 1, 1, 2, 19880104, 1841, -12.7600, -1.8767, 5374,  -999.00,      2.9,  23.6366,  36.4763, 2,  36.4770, 2,   -999.0, 9,    214.4, 2,     1.37, 2,     0.00, 2,     0.00, 2,     0.19, 2,    1.762, 2,    0.884, 2,   2062.0, 2,   -999.0, 9,   -999.0, 9,  23.6359,   -999.0, 9, -999.000, 9
316N19871218, SAVE2, 71, 1, 2, 2, 2, 19880104, 1841, -12.7600, -1.8767, 5374,  -999.00,     10.7,  23.3656,  36.4628, 2,  36.4640, 2,   -999.0, 9,    214.8, 2,     1.37, 2,     0.00, 2,     0.00, 2,     0.19, 2,    1.777, 2,    0.870, 2,   2064.4, 2,   -999.0, 9,   -999.0, 9,  23.3634,   -999.0, 9, -999.000, 9
316N19871218, SAVE2, 71, 1, 3, 3, 2, 19880104, 1841, -12.7600, -1.8767, 5374,  -999.00,     32.9,  22.9927,  36.4643, 2,  36.4650, 2,   -999.0, 9,    218.7, 2,     1.37, 2,     0.00, 2,     0.00, 2,     0.19, 2,    1.812, 2,    0.900, 2,   2063.6, 2,   -999.0, 9,   -999.0, 9,  22.9860,   -999.0, 9, -999.000, 9
316N19871218, SAVE2, 71, 1, 4, 4, 2, 19880104, 1841, -12.7600, -1.8767, 5374,  -999.00,     54.7,  21.4112,  36.4190, 2,  36.4200, 2,   -999.0, 9,    230.4, 2,     1.46, 2,     0.10, 2,     0.00, 2,     0.21, 2,    1.617, 2,    0.796, 2,   2064.1, 2,   -999.0, 9,   -999.0, 9,  21.4005,   -999.0, 9, -999.000, 9
316N19871218, SAVE2, 71, 1, 5, 5, 2, 19880104, 1841, -12.7600, -1.8767, 5374,  -999.00,    103.7,  17.5595,  35.9771, 2,  35.9830, 2,   -999.0, 9,    149.7, 2,     4.00, 2,    12.21, 2,     0.59, 2,     0.95, 2,    1.194, 2,    0.590, 2,   2142.9, 2,   -999.0, 9,   -999.0, 9,  17.5420,   -999.0, 9, -999.000, 9
316N19871218, SAVE2, 71, 1, 6, 6, 2, 19880104, 1841, -12.7600, -1.8767, 5374,  -999.00,    123.3,  14.8927,  35.5680, 2,  35.5960, 2,   -999.0, 9,     88.3, 2,     6.93, 2,    21.78, 2,     0.06, 2,     1.47, 2, -999.000, 9, -999.000, 9,   2192.2, 2,   -999.0, 9,   -999.0, 9,  14.8741,   -999.0, 9, -999.000, 9
316N19871218, SAVE2, 71, 1, 7, 7, 2, 19880104, 1841, -12.7600, -1.8767, 5374,  -999.00,    143.5,  13.2975,  35.3350, 2,  35.3270, 2,   -999.0, 9,     37.0, 2,    10.36, 2,    29.50, 2,     0.02, 2,     1.89, 2,    0.603, 2,    0.304, 2,   2234.3, 2,   -999.0, 9,   -999.0, 9,  13.2775,   -999.0, 9, -999.000, 9
316N19871218, SAVE2, 71, 1, 8, 8, 2, 19880104, 1841, -12.7600, -1.8767, 5374,  -999.00,    218.4,  11.3016,  35.0874, 2,  35.0880, 2,   -999.0, 9,     46.1, 2,    13.48, 2,    31.56, 2,     0.01, 2,     2.02, 2,    0.220, 2,    0.117, 2,   2238.8, 2,   -999.0, 9,   -999.0, 9,  11.2742,   -999.0, 9, -999.000, 9
316N19871218, SAVE2, 71, 1, 9, 9, 2, 19880104, 1841, -12.7600, -1.8767, 5374,  -999.00,    315.1,   9.6047,  34.8900, 2,  34.8890, 2,   -999.0, 9,     48.7, 2,    16.61, 2,    34.69, 2,     0.00, 2,     2.22, 2,    0.075, 2,    0.045, 2,   2246.2, 2,   -999.0, 9,   -999.0, 9,   9.5688,   -999.0, 9, -999.000, 9
316N19871218, SAVE2, 71, 1, 10, 10, 2, 19880104, 1841, -12.7600, -1.8767, 5374,  -999.00,    403.1,   8.5344,  34.7751, 2,  34.7750, 2,   -999.0, 9,     59.1, 2,    19.06, 2,    35.87, 2,     0.00, 2,     2.30, 2,    0.041, 2,    0.025, 2,   2248.1, 2,   -999.0, 9,   -999.0, 9,   8.4916,   -999.0, 9, -999.000, 9
316N19871218, SAVE2, 71, 1, 11, 11, 2, 19880104, 1841, -12.7600, -1.8767, 5374,  -999.00,    494.9,   7.4871,  34.6761, 2,  34.6750, 2,   -999.0, 9,     51.3, 2,    22.58, 2,    39.19, 2,     0.00, 2,     2.53, 2,    0.008, 2,    0.004, 2,   2259.5, 3,   -999.0, 9,   -999.0, 9,   7.4381,   -999.0, 9, -999.000, 9
316N19871218, SAVE2, 71, 1, 12, 12, 2, 19880104, 1841, -12.7600, -1.8767, 5374,  -999.00,    568.3,   6.5527,  34.5993, 2,  34.5980, 2,   -999.0, 9,     57.8, 2,    25.81, 2,    40.66, 2,     0.00, 2,     2.66, 2,    0.004, 2, -999.000, 9,   -999.0, 9,   -999.0, 9,   -999.0, 9,   6.5003,   -999.0, 9, -999.000, 9
316N19871218, SAVE2, 71, 1, 13, 13, 2, 19880104, 1841, -12.7600, -1.8767, 5374,  -999.00,    653.3,   5.7513,  34.5460, 2,  34.5440, 2,   -999.0, 9,     68.7, 2,    29.42, 2,    41.25, 2,     0.00, 2,     2.71, 2, -999.000, 9, -999.000, 9,   2265.1, 3,   -999.0, 9,   -999.0, 9,   5.6947,   -999.0, 9, -999.000, 9
316N19871218, SAVE2, 71, 1, 14, 14, 2, 19880104, 1841, -12.7600, -1.8767, 5374,  -999.00,    728.4,   5.2027,  34.5168, 2,  34.5150, 2,   -999.0, 9,     87.8, 2,    31.97, 2,    40.27, 2,     0.00, 2,     2.67, 2,    0.000, 2,    0.001, 2,   -999.0, 9,   -999.0, 9,   -999.0, 9,   5.1423,   -999.0, 9, -999.000, 9
316N19871218, SAVE2, 71, 1, 15, 15, 2, 19880104, 1841, -12.7600, -1.8767, 5374,  -999.00,    803.7,   4.7860,  34.5052, 2,  34.5020, 2,   -999.0, 9,    109.5, 2,    34.31, 2,    38.61, 2,     0.00, 2,     2.59, 2, -999.000, 9, -999.000, 9,   2251.0, 2,   -999.0, 9,   -999.0, 9,   4.7215,   -999.0, 9, -999.000, 9
316N19871218, SAVE2, 71, 1, 16, 16, 2, 19880104, 1841, -12.7600, -1.8767, 5374,  -999.00,    878.8,   4.4563,  34.5125, 2,  34.5100, 2,   -999.0, 9,    131.3, 2,    35.68, 2,    36.76, 2,     0.00, 2,     2.49, 2, -999.000, 9, -999.000, 9,   -999.0, 9,   -999.0, 9,   -999.0, 9,   4.3875,   -999.0, 9, -999.000, 9
316N19871218, SAVE2, 71, 1, 17, 17, 2, 19880104, 1841, -12.7600, -1.8767, 5374,  -999.00,    944.0,   4.2334,  34.5404, 2,  34.5400, 2,   -999.0, 9,    143.4, 2,    36.85, 2,    35.39, 2,     0.00, 2,     2.41, 2, -999.000, 9, -999.000, 9,   2237.4, 2,   -999.0, 9,   -999.0, 9,   4.1607,   -999.0, 9, -999.000, 9
316N19871218, SAVE2, 71, 1, 18, 18, 2, 19880104, 1841, -12.7600, -1.8767, 5374,  -999.00,   1054.6,   4.0306,  34.6105, 2,  34.6070, 2,   -999.0, 9,    153.9, 2,    37.05, 2,    33.82, 2,     0.00, 2,     2.31, 2, -999.000, 9, -999.000, 9,   -999.0, 9,   -999.0, 9,   -999.0, 9,   3.9499,   -999.0, 9, -999.000, 9
316N19871218, SAVE2, 71, 1, 19, 19, 2, 19880104, 1841, -12.7600, -1.8767, 5374,  -999.00,   1150.2,   3.9407,  34.6777, 2,  34.6810, 2,   -999.0, 9,    163.9, 2,    35.87, 2,    31.96, 2,     0.00, 2,     2.19, 2,    0.001, 2, -999.000, 9,   -999.0, 9,   -999.0, 9,   -999.0, 9,   3.8525,   -999.0, 9, -999.000, 9
316N19871218, SAVE2, 71, 1, 20, 20, 2, 19880104, 1841, -12.7600, -1.8767, 5374,  -999.00,   1295.9,   3.8507,  34.7699, 2,  34.7700, 2,   -999.0, 9,    179.9, 2,    33.52, 2,    29.32, 2,     0.00, 2,     2.00, 2, -999.000, 9, -999.000, 9,   2218.6, 2,   -999.0, 9,   -999.0, 9,   3.7507,   -999.0, 9, -999.000, 9
316N19871218, SAVE2, 71, 1, 21, 21, 2, 19880104, 1841, -12.7600, -1.8767, 5374,  -999.00,   1447.0,   3.7618,  34.8569, 2,  34.8560, 2,   -999.0, 9,    199.9, 2,    30.00, 2,    26.19, 2,     0.00, 2,     1.79, 2, -999.000, 9, -999.000, 9,   -999.0, 9,   -999.0, 9,   -999.0, 9,   3.6493,   -999.0, 9, -999.000, 9
316N19871218, SAVE2, 71, 1, 22, 22, 2, 19880104, 1841, -12.7600, -1.8767, 5374,  -999.00,   1699.1,   3.5560,  34.9121, 2,  34.9120, 2,   -999.0, 9,    217.7, 2,    29.02, 2,    23.94, 2,     0.00, 2,     1.62, 2, -999.000, 9,    0.000, 2,   -999.0, 9,   -999.0, 9,   -999.0, 9,   3.4232,   -999.0, 9, -999.000, 9
316N19871218, SAVE2, 71, 1, 23, 23, 2, 19880104, 1841, -12.7600, -1.8767, 5374,  -999.00,   1931.1,   3.3621,  34.9236, 2,  34.9230, 2,   -999.0, 9,    224.6, 2,    30.69, 2,    23.26, 2,     0.00, 2,     1.57, 2, -999.000, 9,    0.002, 2,   -999.0, 9,   -999.0, 9,   -999.0, 9,   3.2106,   -999.0, 9, -999.000, 9
316N19871218, SAVE2, 71, 1, 24, 24, 2, 19880104, 1841, -12.7600, -1.8767, 5374,  -999.00,   2092.6,   3.2382,  34.9248, 2,  34.9230, 2,   -999.0, 9,    228.1, 2,    32.15, 2,    22.87, 2,     0.00, 2,     1.54, 2, -999.000, 9,    0.000, 2,   2199.5, 2,   -999.0, 9,   -999.0, 9,   3.0735,   -999.0, 9, -999.000, 9
316N19871218, SAVE2, 71, 1, 25, 25, 2, 19880104, 1841, -12.7600, -1.8767, 5374,  -999.00,   2344.6,   2.9924,  34.9150, 2,  34.9160, 2,   -999.0, 9,    233.8, 2,    35.87, 2,    22.57, 2,     0.00, 2,     1.51, 2,    0.000, 2,    0.002, 2,   -999.0, 9,   -999.0, 9,   -999.0, 9,   2.8078,   -999.0, 9, -999.000, 9
316N19871218, SAVE2, 71, 1, 26, 26, 2, 19880104, 1841, -12.7600, -1.8767, 5374,  -999.00,   2547.2,   2.8545,  34.9088, 2,  34.9090, 2,   -999.0, 9,    235.5, 2,    38.60, 2,    22.67, 2,     0.00, 2,     1.52, 2, -999.000, 9, -999.000, 9,   2197.8, 2,   -999.0, 9,   -999.0, 9,   2.6528,   -999.0, 9, -999.000, 9
316N19871218, SAVE2, 71, 1, 27, 27, 2, 19880104, 1841, -12.7600, -1.8767, 5374,  -999.00,   2852.3,   2.6517,  34.9016, 2,  34.9000, 2,   -999.0, 9,    235.5, 2,    43.59, 2,    22.97, 2,     0.00, 2,     1.54, 2, -999.000, 9, -999.000, 9,   -999.0, 9,   -999.0, 9,   -999.0, 9,   2.4237,   -999.0, 9, -999.000, 9
316N19871218, SAVE2, 71, 1, 28, 28, 2, 19880104, 1841, -12.7600, -1.8767, 5374,  -999.00,   3156.7,   2.5318,  34.8964, 2,  34.8960, 2,   -999.0, 9,    234.6, 2,    47.30, 2,    23.06, 2,     0.00, 2,     1.54, 2,    0.001, 2, -999.000, 9,   -999.0, 9,   -999.0, 9,   -999.0, 9,   2.2752,   -999.0, 9, -999.000, 9
316N19871218, SAVE2, 71, 1, 29, 29, 2, 19880104, 1841, -12.7600, -1.8767, 5374,  -999.00,   3390.4,   2.4529,  34.8936, 2,  34.8920, 2,   -999.0, 9,    233.7, 2,    49.25, 2,    23.16, 2,     0.00, 2,     1.56, 2, -999.000, 9, -999.000, 9,   2210.9, 2,   -999.0, 9,   -999.0, 9,   2.1735,   -999.0, 9, -999.000, 9
316N19871218, SAVE2, 71, 1, 30, 30, 2, 19880104, 1841, -12.7600, -1.8767, 5374,  -999.00,   3746.4,   2.3949,  34.8880, 2,  34.8880, 2,   -999.0, 9,    235.5, 2,    51.21, 2,    23.16, 2,     0.00, 2,     1.55, 2, -999.000, 9, -999.000, 9,   -999.0, 9,   -999.0, 9,   -999.0, 9,   2.0783,   -999.0, 9, -999.000, 9
316N19871218, SAVE2, 71, 1, 31, 31, 2, 19880104, 1841, -12.7600, -1.8767, 5374,  -999.00,   4082.3,   2.3769,  34.8852, 2,  34.8860, 2,   -999.0, 9,    235.9, 2,    51.89, 2,    23.16, 2,     0.00, 2,     1.55, 2,    0.003, 2,    0.000, 2,   -999.0, 9,   -999.0, 9,   -999.0, 9,   2.0228,   -999.0, 9, -999.000, 9
316N19871218, SAVE2, 71, 1, 32, 32, 2, 19880104, 1841, -12.7600, -1.8767, 5374,  -999.00,   4388.3,   2.3779,  34.8841, 2,  34.8830, 2,   -999.0, 9,    236.4, 2,    52.68, 2,    23.16, 2,     0.01, 2,     1.55, 2, -999.000, 9, -999.000, 9,   2211.1, 2,   -999.0, 9,   -999.0, 9,   1.9879,   4411.1, 2,    2.379, 2
316N19871218, SAVE2, 71, 1, 33, 33, 2, 19880104, 1841, -12.7600, -1.8767, 5374,  -999.00,   4682.0,   2.3869,  34.8813, 2,  34.8820, 2,   -999.0, 9,    237.2, 2,    53.16, 2,    23.16, 2,     0.01, 2,     1.56, 2,    0.002, 2,    0.003, 2,   -999.0, 9,   -999.0, 9,   -999.0, 9,   1.9611,   -999.0, 9, -999.000, 9
316N19871218, SAVE2, 71, 1, 34, 34, 2, 19880104, 1841, -12.7600, -1.8767, 5374,  -999.00,   5021.0,   2.3969,  34.8785, 2,  34.8800, 2,   -999.0, 9,    237.7, 2,    53.46, 2,    23.26, 2,     0.00, 2,     1.57, 2, -999.000, 9, -999.000, 9,   -999.0, 9,   -999.0, 9,   -999.0, 9,   1.9284,   -999.0, 9, -999.000, 9
316N19871218, SAVE2, 71, 1, 35, 35, 2, 19880104, 1841, -12.7600, -1.8767, 5374,  -999.00,   5338.5,   2.4359,  34.8773, 2,  34.8780, 2,   -999.0, 9,    237.7, 2,    53.26, 2,    23.36, 2,     0.00, 2,     1.57, 2, -999.000, 9, -999.000, 9,   -999.0, 9,   -999.0, 9,   -999.0, 9,   1.9251,   5331.0, 2,    2.434, 2
316N19871218, SAVE2, 71, 1, 36, 36, 2, 19880104, 1841, -12.7600, -1.8767, 5374,  -999.00,   5502.7,   2.4559,  34.8772, 2,  34.8780, 2,   -999.0, 9,    237.7, 2,    53.16, 2,    23.36, 2,     0.00, 2,     1.56, 2, -999.000, 9, -999.000, 9,   2217.2, 2,   -999.0, 9,   -999.0, 9,   1.9228,   -999.0, 9, -999.000, 9