BOTTLE,20110114CCHDOSIODM
EXPOCODE,SECT_ID,STNNBR,CASTNO,SAMPNO,BTLNBR,BTLNBR_FLAG_W,DATE,TIME,LATITUDE,LONGITUDE,DEPTH,CTDRAW,CTDPRS,CTDTMP,CTDSAL,CTDSAL_FLAG_W,SALNTY,SALNTY_FLAG_W,CTDOXY,CTDOXY_FLAG_W,OXYGEN,OXYGEN_FLAG_W,SILCAT,SILCAT_FLAG_W,NITRAT,NITRAT_FLAG_W,NITRIT,NITRIT_FLAG_W,PHSPHT,PHSPHT_FLAG_W,CFC-11,CFC-11_FLAG_W,CFC-12,CFC-12_FLAG_W,TCARBN,TCARBN_FLAG_W,ALKALI,ALKALI_FLAG_W,PCO2,PCO2_FLAG_W,THETA,REVPRS,REVPRS_FLAG_W,REVTMP,REVTMP_FLAG_W
,,,,,,,,,,,METERS,DBAR,DBAR,ITS-68,PSS-78,,PSS-78,,UMOL/KG,,UMOL/KG,,UMOL/KG,,UMOL/KG,,UMOL/KG,,UMOL/KG,,PMOL/KG,,PMOL/KG,,UMOL/KG,,UMOL/KG,,UATM,,DEG C,DBAR,,ITS-68,
316N19871218, SAVE2, 93, 1, 1, 1, 2, 19880116, 0256, -17.5600, -28.6917, 5079,  -999.00,      1.5,  27.6142,  37.4110, 2,  37.4140, 2,   -999.0, 9,    201.7, 2,     1.17, 2,     0.10, 2,     0.00, 2,     0.09, 2,    1.476, 2,    0.803, 2,   2067.5, 2,   2464.4, 2,    265.2, 2,  27.6138,   -999.0, 9, -999.000, 9
316N19871218, SAVE2, 93, 1, 2, 2, 2, 19880116, 0256, -17.5600, -28.6917, 5079,  -999.00,     50.1,  27.2096,  37.3692, 2,  37.3650, 2,   -999.0, 9,    203.0, 2,     1.17, 2,     0.10, 2,     0.00, 2,     0.10, 2,    1.531, 2,    0.777, 2,   2069.3, 2,   2465.2, 2,    266.2, 2,  27.1980,   -999.0, 9, -999.000, 9
316N19871218, SAVE2, 93, 1, 3, 3, 2, 19880116, 0256, -17.5600, -28.6917, 5079,  -999.00,     80.9,  25.6398,  37.2370, 2,  37.2380, 2,   -999.0, 9,    212.8, 2,     1.17, 2,     0.00, 2,     0.00, 2,     0.15, 2, -999.000, 9, -999.000, 9,   2076.2, 2,   2458.9, 2,    279.0, 2,  25.6218,   -999.0, 9, -999.000, 9
316N19871218, SAVE2, 93, 1, 4, 4, 2, 19880116, 0256, -17.5600, -28.6917, 5079,  -999.00,    138.7,  22.8036,  36.7993, 2,  36.8180, 2,   -999.0, 9,    203.6, 2,     1.17, 2,     0.00, 2,     0.00, 2,     0.20, 2,    1.679, 2,    0.832, 2,   2093.6, 2,   2434.7, 2,    323.7, 2,  22.7752,   -999.0, 9, -999.000, 9
316N19871218, SAVE2, 93, 1, 5, 5, 2, 19880116, 0256, -17.5600, -28.6917, 5079,  -999.00,    172.3,  19.3888,  36.1564, 2,  36.1380, 2,   -999.0, 9,    195.9, 2,     1.66, 2,     1.86, 2,     0.04, 2,     0.40, 2,    1.784, 2,    0.873, 2,   2100.4, 2,   2388.8, 2,    390.4, 2,  19.3574,   -999.0, 9, -999.000, 9
316N19871218, SAVE2, 93, 1, 6, 6, 2, 19880116, 0256, -17.5600, -28.6917, 5079,  -999.00,    211.9,  16.2147,  35.6503, 2,  35.6410, 2,   -999.0, 9,    191.1, 2,     2.73, 2,     6.15, 2,     0.01, 2,     0.62, 2,    1.781, 2,    0.859, 2,   2105.1, 2,   2363.2, 2,    439.0, 2,  16.1806,   -999.0, 9, -999.000, 9
316N19871218, SAVE2, 93, 1, 7, 7, 2, 19880116, 0256, -17.5600, -28.6917, 5079,  -999.00,    249.8,  14.5283,  35.3859, 2,  35.3930, 2,   -999.0, 9,    180.9, 2,     4.01, 2,    10.26, 2,     0.01, 2,     0.83, 2,    1.620, 2,    0.788, 2,   2118.5, 2,   2343.2, 2,    512.1, 2,  14.4911,   -999.0, 9, -999.000, 9
316N19871218, SAVE2, 93, 1, 8, 8, 2, 19880116, 0256, -17.5600, -28.6917, 5079,  -999.00,    305.0,  12.4646,  35.1253, 2,  35.1170, 2,   -999.0, 9,    175.3, 2,     6.35, 2,    15.44, 2,     0.00, 2,     1.11, 2,    1.291, 2,    0.601, 2,   2139.6, 2,   2328.1, 2,    617.0, 2,  12.4236,   -999.0, 9, -999.000, 9
316N19871218, SAVE2, 93, 1, 9, 9, 2, 19880116, 0256, -17.5600, -28.6917, 5079,  -999.00,    360.2,  10.9505,  34.9291, 2,  34.9310, 2,   -999.0, 9,    185.2, 2,     7.92, 2,    17.20, 2,     0.00, 2,     1.22, 2,    1.156, 2,    0.547, 2,   2138.8, 2,   2317.2, 2,    647.2, 2,  10.9059,   -999.0, 9, -999.000, 9
316N19871218, SAVE2, 93, 1, 10, 10, 2, 19880116, 0256, -17.5600, -28.6917, 5079,  -999.00,    405.7,   9.9470,  34.8248, 2,  34.8280, 2,   -999.0, 9,    167.7, 2,    10.75, 2,    21.31, 2,     0.00, 2,     1.47, 2,    0.854, 2,    0.400, 2,   2158.5, 2,   2310.5, 2,    757.2, 2,   9.8996,   -999.0, 9, -999.000, 9
316N19871218, SAVE2, 93, 1, 11, 11, 2, 19880116, 0256, -17.5600, -28.6917, 5079,  -999.00,    470.9,   8.3478,  34.6820, 2,  34.6810, 2,   -999.0, 9,    149.2, 2,    15.54, 2,    26.98, 2,     0.00, 2,     1.81, 2,    0.353, 2,    0.189, 2,   2188.3, 3,   2312.6, 2,    908.5, 2,   8.2983,   -999.0, 9, -999.000, 9
316N19871218, SAVE2, 93, 1, 12, 12, 2, 19880116, 0256, -17.5600, -28.6917, 5079,  -999.00,    558.7,   6.5124,  34.5227, 2,  34.5310, 2,   -999.0, 9,    157.4, 2,    21.02, 2,    30.21, 2,     0.00, 2,     2.01, 2,    0.167, 2,    0.090, 2,   2197.7, 3,   2306.5, 2,   1004.8, 2,   6.4612,   -999.0, 9, -999.000, 9
316N19871218, SAVE2, 93, 1, 13, 13, 2, 19880116, 0256, -17.5600, -28.6917, 5079,  -999.00,    661.2,   5.0047,  34.4247, 2,  34.4250, 2,   -999.0, 9,    173.7, 2,    27.96, 2,    31.97, 2,     0.00, 2,     2.15, 2,    0.081, 2,    0.047, 2,   2213.1, 2,   2320.5, 2,   1024.3, 2,   4.9513,   -999.0, 9, -999.000, 9
316N19871218, SAVE2, 93, 1, 14, 14, 2, 19880116, 0256, -17.5600, -28.6917, 5079,  -999.00,    761.3,   4.2520,  34.3957, 2,  34.3950, 2,   -999.0, 9,    187.0, 2,    32.65, 2,    32.07, 2,     0.00, 2,     2.16, 2,    0.096, 2,    0.056, 2,   2205.4, 2,   2311.6, 2,   1027.1, 2,   4.1945,   -999.0, 9, -999.000, 9
316N19871218, SAVE2, 93, 1, 15, 15, 2, 19880116, 0256, -17.5600, -28.6917, 5079,  -999.00,    862.2,   3.8621,  34.4265, 2,  34.4270, 2,   -999.0, 9,    185.0, 2,    37.74, 2,    32.55, 2,     0.00, 2,     2.22, 2,    0.042, 2,    0.026, 2,   2215.2, 2,   2319.4, 2,   1048.9, 2,   3.7988,   -999.0, 9, -999.000, 9
316N19871218, SAVE2, 93, 1, 16, 16, 2, 19880116, 0256, -17.5600, -28.6917, 5079,  -999.00,    961.4,   3.7059,  34.4849, 2,  34.4840, 2,   -999.0, 9,    182.3, 2,    40.08, 2,    32.36, 2,     0.00, 2,     2.21, 2,    0.013, 2,    0.004, 2,   2218.7, 2,   2321.7, 2,   1061.0, 2,   3.6357,   -999.0, 9, -999.000, 9
316N19871218, SAVE2, 93, 1, 17, 17, 2, 19880116, 0256, -17.5600, -28.6917, 5079,  -999.00,   1068.7,   3.6829,  34.5561, 2,  34.5540, 2,   -999.0, 9,    183.0, 2,    40.08, 2,    31.67, 2,     0.00, 2,     2.15, 2,    0.008, 2,    0.008, 2,   2222.4, 2,   2329.8, 2,   1035.3, 2,   3.6040,   -999.0, 9, -999.000, 9
316N19871218, SAVE2, 93, 1, 18, 18, 2, 19880116, 0256, -17.5600, -28.6917, 5079,  -999.00,   1177.0,   3.7740,  34.6505, 2,  34.6490, 2,   -999.0, 9,    184.4, 2,    36.46, 2,    30.30, 2,     0.00, 2,     2.05, 2, -999.000, 9, -999.000, 9,   2213.8, 2,   2325.2, 2,   1004.8, 2,   3.6851,   -999.0, 9, -999.000, 9
316N19871218, SAVE2, 93, 1, 19, 19, 2, 19880116, 0256, -17.5600, -28.6917, 5079,  -999.00,   1336.2,   3.9183,  34.7754, 2,  34.7770, 2,   -999.0, 9,    195.3, 2,    30.98, 2,    27.56, 2,     0.00, 2,     1.84, 2,    0.000, 2, -999.000, 9,   2207.6, 2,   2332.0, 2,    924.0, 2,   3.8141,   -999.0, 9, -999.000, 9
316N19871218, SAVE2, 93, 1, 20, 20, 2, 19880116, 0256, -17.5600, -28.6917, 5079,  -999.00,   1519.1,   3.7747,  34.8529, 2,  34.8520, 2,   -999.0, 9,    214.4, 2,    28.44, 2,    24.92, 2,     0.00, 2,     1.66, 2, -999.000, 9,    0.002, 2,   2200.0, 2,   2335.1, 2,    862.4, 2,   3.6556,   -999.0, 9, -999.000, 9
316N19871218, SAVE2, 93, 1, 21, 21, 2, 19880116, 0256, -17.5600, -28.6917, 5079,  -999.00,   1708.4,   3.5345,  34.8958, 2,  34.8950, 2,   -999.0, 9,    229.1, 2,    27.66, 2,    23.06, 2,     0.00, 2,     1.51, 2,    0.000, 2,    0.000, 2,   2199.0, 2,   2346.6, 2,    802.1, 2,   3.4012,   -999.0, 9, -999.000, 9
316N19871218, SAVE2, 93, 1, 22, 22, 2, 19880116, 0256, -17.5600, -28.6917, 5079,  -999.00,   1901.7,   3.3367,  34.9208, 2,  34.9230, 2,   -999.0, 9,    240.7, 2,    27.36, 2,    21.69, 2,     0.00, 2,     1.43, 2, -999.000, 9, -999.000, 9,   2186.2, 2,   2339.6, 2,    769.7, 2,   3.1883,   -999.0, 9, -999.000, 9
316N19871218, SAVE2, 93, 1, 23, 23, 2, 19880116, 0256, -17.5600, -28.6917, 5079,  -999.00,   2023.8,   3.2222,  34.9233, 2,  34.9240, 2,   -999.0, 9,    243.3, 2,    28.44, 2,    21.40, 2,     0.00, 2,     1.41, 2, -999.000, 9,    0.000, 2,   2184.2, 2,   2340.1, 2,    758.3, 2,   3.0642,   -999.0, 9, -999.000, 9
316N19871218, SAVE2, 93, 1, 24, 24, 2, 19880116, 0256, -17.5600, -28.6917, 5079,  -999.00,   2248.2,   2.9921,  34.9116, 2,  34.9120, 2,   -999.0, 9,    243.5, 2,    33.13, 2,    21.79, 2,     0.00, 2,     1.44, 2, -999.000, 9,    0.001, 2,   2187.8, 2,   2342.2, 2,    767.0, 2,   2.8167,   -999.0, 9, -999.000, 9
316N19871218, SAVE2, 93, 1, 25, 25, 2, 19880116, 0256, -17.5600, -28.6917, 5079,  -999.00,   2467.5,   2.8963,  34.9141, 2,  34.9150, 2,   -999.0, 9,    244.7, 2,    33.91, 2,    21.60, 2,     0.00, 2,     1.42, 2,    0.001, 2, -999.000, 9,   2186.7, 2,   2343.5, 2,    756.6, 2,   2.7015,   -999.0, 9, -999.000, 9
316N19871218, SAVE2, 93, 1, 26, 26, 2, 19880116, 0256, -17.5600, -28.6917, 5079,  -999.00,   2692.4,   2.8189,  34.9138, 2,  34.9140, 2,   -999.0, 9,    246.5, 2,    34.59, 2,    21.50, 2,     0.00, 2,     1.42, 2, -999.000, 9, -999.000, 9,   2189.3, 2,   2346.3, 2,    756.9, 2,   2.6035,   -999.0, 9, -999.000, 9
316N19871218, SAVE2, 93, 1, 27, 27, 2, 19880116, 0256, -17.5600, -28.6917, 5079,  -999.00,   3044.3,   2.7076,  34.9094, 2,  34.9090, 2,   -999.0, 9,    247.5, 2,    36.65, 2,    21.50, 2,     0.00, 2,     1.43, 2, -999.000, 9,    0.000, 2,   2189.5, 2,   2347.9, 2,    751.7, 2,   2.4587,   -999.0, 9, -999.000, 9
316N19871218, SAVE2, 93, 1, 28, 28, 2, 19880116, 0256, -17.5600, -28.6917, 5079,  -999.00,   3400.3,   2.5770,  34.9043, 2,  34.9040, 2,   -999.0, 9,    250.6, 2,    37.53, 2,    21.30, 2,     0.00, 2,     1.41, 2, -999.000, 9, -999.000, 9,   2192.0, 2,   2354.2, 2,    737.5, 2,   2.2936,   -999.0, 9, -999.000, 9
316N19871218, SAVE2, 93, 1, 29, 29, 2, 19880116, 0256, -17.5600, -28.6917, 5079,  -999.00,   3556.8,   2.4808,  34.8981, 2,  34.8970, 2,   -999.0, 9,    251.1, 2,    39.68, 2,    21.50, 2,     0.00, 2,     1.43, 2, -999.000, 9,    0.001, 2,   2193.5, 2,   2352.2, 2,    752.9, 2,   2.1828,   -999.0, 9, -999.000, 9
316N19871218, SAVE2, 93, 1, 30, 30, 2, 19880116, 0256, -17.5600, -28.6917, 5079,  -999.00,   3850.5,   2.1535,  34.8659, 2,  34.8670, 2,   -999.0, 9,   -999.0, 9,    51.60, 2,    22.97, 2,     0.00, 2,     1.53, 2,    0.000, 2,    0.001, 2,   2202.7, 2,   2357.1, 2,    777.7, 2,   1.8319,   -999.0, 9, -999.000, 9
316N19871218, SAVE2, 93, 1, 31, 31, 2, 19880116, 0256, -17.5600, -28.6917, 5079,  -999.00,   4151.1,   1.7373,  34.8225, 2,  34.8240, 2,   -999.0, 9,    242.4, 2,    67.83, 2,    25.12, 2,     0.00, 2,     1.70, 2, -999.000, 9,    0.002, 2,   2219.9, 2,   2364.2, 2,    835.0, 2,   1.3940,   -999.0, 9, -999.000, 9
316N19871218, SAVE2, 93, 1, 32, 32, 2, 19880116, 0256, -17.5600, -28.6917, 5079,  -999.00,   4442.4,   1.3751,  34.7833, 2,  34.7820, 2,   -999.0, 9,   -999.0, 9,    82.78, 2,    27.37, 2,     0.00, 2,     1.84, 2, -999.000, 9, -999.000, 9,   2235.5, 2,   2372.4, 2,    882.5, 2,   1.0099,   4461.1, 2,    1.380, 2
316N19871218, SAVE2, 93, 1, 33, 33, 2, 19880116, 0256, -17.5600, -28.6917, 5079,  -999.00,   4745.0,   0.9685,  34.7383, 2,  34.7390, 2,   -999.0, 9,    227.8, 2,    99.30, 2,    29.52, 2,     0.00, 2,     2.00, 2,    0.001, 2, -999.000, 9,   2252.3, 2,   2378.4, 2,    953.3, 2,   0.5818,   -999.0, 9, -999.000, 9
316N19871218, SAVE2, 93, 1, 34, 34, 2, 19880116, 0256, -17.5600, -28.6917, 5079,  -999.00,   4991.4,   0.5432,  34.6964, 2, -999.0000, 9,   -999.0, 9,   -999.0, 9,  -999.00, 9,  -999.00, 9,  -999.00, 9,  -999.00, 9,    0.012, 2,    0.004, 2,   -999.0, 9,   -999.0, 9,   -999.0, 9,   0.1424,   -999.0, 9, -999.000, 9
316N19871218, SAVE2, 93, 1, 35, 35, 2, 19880116, 0256, -17.5600, -28.6917, 5079,  -999.00,   4991.5,   0.5431,  34.6964, 2,  34.6940, 2,   -999.0, 9,    222.7, 2,   116.51, 2,    31.77, 2,     0.00, 2,     2.15, 2, -999.000, 9, -999.000, 9,   2268.4, 2,   2385.3, 2,   1020.2, 2,   0.1423,   4976.6, 2,    0.544, 2
316N19871218, SAVE2, 93, 1, 36, 36, 2, 19880116, 0256, -17.5600, -28.6917, 5079,  -999.00,   5195.7,   0.4299,  34.6831, 2,  34.6820, 2,   -999.0, 9,    220.9, 2,   122.18, 2,    32.55, 2,     0.00, 2,     2.21, 2,    0.022, 2,    0.018, 2,   2271.8, 2,   2385.4, 2,   1044.1, 2,   0.0093,   -999.0, 9, -999.000, 9