BOTTLE,20110114CCHDOSIODM
EXPOCODE,SECT_ID,STNNBR,CASTNO,SAMPNO,BTLNBR,BTLNBR_FLAG_W,DATE,TIME,LATITUDE,LONGITUDE,DEPTH,CTDRAW,CTDPRS,CTDTMP,CTDSAL,CTDSAL_FLAG_W,SALNTY,SALNTY_FLAG_W,CTDOXY,CTDOXY_FLAG_W,OXYGEN,OXYGEN_FLAG_W,SILCAT,SILCAT_FLAG_W,NITRAT,NITRAT_FLAG_W,NITRIT,NITRIT_FLAG_W,PHSPHT,PHSPHT_FLAG_W,CFC-11,CFC-11_FLAG_W,CFC-12,CFC-12_FLAG_W,TCARBN,TCARBN_FLAG_W,ALKALI,ALKALI_FLAG_W,PCO2,PCO2_FLAG_W,THETA,REVPRS,REVPRS_FLAG_W,REVTMP,REVTMP_FLAG_W
,,,,,,,,,,,METERS,DBAR,DBAR,ITS-68,PSS-78,,PSS-78,,UMOL/KG,,UMOL/KG,,UMOL/KG,,UMOL/KG,,UMOL/KG,,UMOL/KG,,PMOL/KG,,PMOL/KG,,UMOL/KG,,UMOL/KG,,UATM,,DEG C,DBAR,,ITS-68,
316N19871218, SAVE2, 46, 1, 1, 1, 2, 19871221, 0005, 0.7050, -1.9050, 5044,  -999.00,      1.9,  28.1686,  34.4990, 2,  34.5020, 2,   -999.0, 9,    202.8, 2,     0.88, 2,     0.10, 2,     0.00, 2,     0.02, 2,    1.452, 2,    0.750, 2,   1920.6, 2,   -999.0, 9,   -999.0, 9,  28.1682,   -999.0, 9, -999.000, 9
316N19871218, SAVE2, 46, 1, 2, 2, 2, 19871221, 0005, 0.7050, -1.9050, 5044,  -999.00,     34.2,  27.7995,  34.7130, 2, -999.0000, 9,   -999.0, 9,   -999.0, 9,  -999.00, 9,  -999.00, 9,  -999.00, 9,  -999.00, 9, -999.000, 9, -999.000, 9,   -999.0, 9,   -999.0, 9,   -999.0, 9,  27.7915,   -999.0, 9, -999.000, 9
316N19871218, SAVE2, 46, 1, 3, 3, 2, 19871221, 0005, 0.7050, -1.9050, 5044,  -999.00,     53.7,  20.8040,  35.9122, 2,  35.9110, 2,   -999.0, 9,    151.6, 2,     3.42, 2,     8.30, 2,     0.34, 2,     0.65, 2,    1.290, 2,    0.651, 2,   2112.1, 2,   -999.0, 9,   -999.0, 9,  20.7937,   -999.0, 9, -999.000, 9
316N19871218, SAVE2, 46, 1, 4, 4, 2, 19871221, 0005, 0.7050, -1.9050, 5044,  -999.00,     64.3,  18.8481,  35.9280, 2,  35.9300, 2,   -999.0, 9,    134.5, 2,     4.39, 2,    12.60, 2,     0.13, 2,     0.90, 2,    1.222, 2,    0.613, 2,   2142.8, 2,   -999.0, 9,   -999.0, 9,  18.8366,   -999.0, 9, -999.000, 9
316N19871218, SAVE2, 46, 1, 5, 5, 2, 19871221, 0005, 0.7050, -1.9050, 5044,  -999.00,    101.7,  15.5365,  35.5972, 2,  35.5990, 2,   -999.0, 9,    124.9, 2,     6.64, 2,    17.29, 2,     0.04, 2,     1.20, 2,    1.035, 2,    0.514, 2,   2165.3, 2,   -999.0, 9,   -999.0, 9,  15.5207,   -999.0, 9, -999.000, 9
316N19871218, SAVE2, 46, 1, 6, 6, 2, 19871221, 0005, 0.7050, -1.9050, 5044,  -999.00,    138.9,  14.5777,  35.4971, 2, -999.0000, 9,   -999.0, 9,   -999.0, 9,  -999.00, 9,  -999.00, 9,  -999.00, 9,  -999.00, 9,    0.929, 2,    0.450, 2,   2169.8, 2,   -999.0, 9,   -999.0, 9,  14.5570,   -999.0, 9, -999.000, 9
316N19871218, SAVE2, 46, 1, 7, 7, 2, 19871221, 0005, 0.7050, -1.9050, 5044,  -999.00,    184.2,  14.2797,  35.4498, 2,  35.4470, 2,   -999.0, 9,    125.3, 2,     7.72, 2,    18.76, 2,     0.01, 2,     1.28, 2,    0.955, 2,    0.461, 2,   2169.0, 2,   -999.0, 9,   -999.0, 9,  14.2527,   -999.0, 9, -999.000, 9
316N19871218, SAVE2, 46, 1, 8, 8, 2, 19871221, 0005, 0.7050, -1.9050, 5044,  -999.00,    219.3,  13.9668,  35.4073, 2,  35.4070, 2,   -999.0, 9,    124.4, 2,     7.82, 2,    19.24, 2,     0.01, 2,     1.31, 2,    0.913, 2,    0.437, 2,   2168.4, 2,   -999.0, 9,   -999.0, 9,  13.9350,   -999.0, 9, -999.000, 9
316N19871218, SAVE2, 46, 1, 9, 9, 2, 19871221, 0005, 0.7050, -1.9050, 5044,  -999.00,    264.6,  11.7954,  35.1534, 2,  35.1380, 2,   -999.0, 9,     65.2, 2,    12.90, 2,    29.31, 2,     0.01, 2,     1.86, 2,    0.299, 2,    0.187, 2,   2221.3, 2,   -999.0, 9,   -999.0, 9,  11.7611,   -999.0, 9, -999.000, 9
316N19871218, SAVE2, 46, 1, 10, 10, 2, 19871221, 0005, 0.7050, -1.9050, 5044,  -999.00,    299.9,   9.7510,  34.9134, 2,  34.9140, 2,   -999.0, 9,     91.8, 2,    15.15, 2,    30.49, 2,     0.01, 2,     1.94, 2,    0.240, 2,    0.115, 2,   2217.2, 2,   -999.0, 9,   -999.0, 9,   9.7166,   -999.0, 9, -999.000, 9
316N19871218, SAVE2, 46, 1, 11, 11, 2, 19871221, 0005, 0.7050, -1.9050, 5044,  -999.00,    397.2,   8.3905,  34.7603, 2,  34.7600, 2,   -999.0, 9,     93.1, 2,    18.28, 2,    33.13, 2,     0.00, 2,     2.13, 2,    0.116, 2,    0.084, 2,   2226.9, 2,   -999.0, 9,   -999.0, 9,   8.3488,   -999.0, 9, -999.000, 9
316N19871218, SAVE2, 46, 1, 12, 12, 2, 19871221, 0005, 0.7050, -1.9050, 5044,  -999.00,    492.7,   7.3600,  34.6536, 2,  34.6530, 2,   -999.0, 9,    122.2, 2,    20.53, 2,    32.35, 2,     0.00, 2,     2.13, 2,    0.124, 2,    0.085, 2,   2217.0, 2,   -999.0, 9,   -999.0, 9,   7.3118,   -999.0, 9, -999.000, 9
316N19871218, SAVE2, 46, 1, 13, 13, 2, 19871221, 0005, 0.7050, -1.9050, 5044,  -999.00,    595.7,   6.7282,  34.5991, 2,  34.6010, 2,   -999.0, 9,    129.1, 2,    22.29, 2,    32.84, 2,     0.00, 2,     2.18, 2,    0.095, 2,    0.073, 2,   2215.8, 2,   -999.0, 9,   -999.0, 9,   6.6724,   -999.0, 9, -999.000, 9
316N19871218, SAVE2, 46, 1, 14, 14, 2, 19871221, 0005, 0.7050, -1.9050, 5044,  -999.00,    685.8,   5.4738,  34.5245, 2,  34.5250, 2,   -999.0, 9,    134.8, 2,    28.54, 2,    34.90, 2,     0.00, 2,     2.36, 2,    0.021, 2,    0.036, 2,   2227.2, 2,   -999.0, 9,   -999.0, 9,   5.4157,   -999.0, 9, -999.000, 9
316N19871218, SAVE2, 46, 1, 15, 15, 2, 19871221, 0005, 0.7050, -1.9050, 5044,  -999.00,    781.1,   4.8301,  34.5165, 2,  34.5160, 2,   -999.0, 9,    146.5, 2,    31.57, 2,    34.51, 2,     0.00, 2,     2.36, 2,    0.012, 2,    0.005, 2,   2225.0, 2,   -999.0, 9,   -999.0, 9,   4.7673,   -999.0, 9, -999.000, 9
316N19871218, SAVE2, 46, 1, 16, 16, 2, 19871221, 0005, 0.7050, -1.9050, 5044,  -999.00,    949.7,   4.5063,  34.5710, 2,  34.5720, 2,   -999.0, 9,    153.4, 2,    33.14, 2,    33.72, 2,     0.00, 2,     2.32, 2,    0.005, 2,    0.003, 2,   2225.9, 2,   -999.0, 9,   -999.0, 9,   4.4310,   -999.0, 9, -999.000, 9
316N19871218, SAVE2, 46, 1, 17, 17, 2, 19871221, 0005, 0.7050, -1.9050, 5044,  -999.00,   1102.8,   4.4873,  34.7109, 2,  34.7090, 2,   -999.0, 9,    164.3, 2,    30.49, 2,    31.08, 2,     0.00, 2,     2.12, 2,    0.005, 2,    0.003, 2,   2221.6, 2,   -999.0, 9,   -999.0, 9,   4.3985,   -999.0, 9, -999.000, 9
316N19871218, SAVE2, 46, 1, 18, 18, 2, 19871221, 0005, 0.7050, -1.9050, 5044,  -999.00,   1278.5,   4.4383,  34.8554, 2,  34.8540, 2,   -999.0, 9,    191.2, 2,    24.92, 2,    26.88, 2,     0.00, 2,     1.81, 2, -999.000, 9, -999.000, 9,   2205.1, 2,   -999.0, 9,   -999.0, 9,   4.3340,   -999.0, 9, -999.000, 9
316N19871218, SAVE2, 46, 1, 19, 19, 2, 19871221, 0005, 0.7050, -1.9050, 5044,  -999.00,   1500.0,   4.1495,  34.9555, 2,  34.9570, 2,   -999.0, 9,    228.1, 2,    19.64, 2,    22.09, 2,     0.00, 2,     1.46, 2,    0.014, 2,    0.007, 2,   2185.0, 2,   -999.0, 9,   -999.0, 9,   4.0276,   -999.0, 9, -999.000, 9
316N19871218, SAVE2, 46, 1, 20, 20, 2, 19871221, 0005, 0.7050, -1.9050, 5044,  -999.00,   1760.0,   3.8726,  34.9734, 2,  34.9730, 2,   -999.0, 9,    245.5, 2,    18.76, 2,    20.23, 2,     0.00, 2,     1.34, 2,    0.019, 2,    0.007, 2,   2188.6, 2,   -999.0, 9,   -999.0, 9,   3.7299,   -999.0, 9, -999.000, 9
316N19871218, SAVE2, 46, 1, 21, 21, 2, 19871221, 0005, 0.7050, -1.9050, 5044,  -999.00,   1945.4,   3.6158,  34.9638, 2,  34.9640, 2,   -999.0, 9,    247.7, 2,    20.91, 2,    20.33, 2,     0.00, 2,     1.34, 2,    0.000, 2,    0.005, 2,   2175.7, 2,   -999.0, 9,   -999.0, 9,   3.4592,   -999.0, 9, -999.000, 9
316N19871218, SAVE2, 46, 1, 22, 22, 2, 19871221, 0005, 0.7050, -1.9050, 5044,  -999.00,   2113.5,   3.3139,  34.9507, 2,  34.9510, 2,   -999.0, 9,    247.7, 2,    25.21, 2,    20.52, 2,     0.00, 2,     1.37, 2, -999.000, 9, -999.000, 9,   2180.9, 2,   -999.0, 9,   -999.0, 9,   3.1460,   -999.0, 9, -999.000, 9
316N19871218, SAVE2, 46, 1, 23, 23, 2, 19871221, 0005, 0.7050, -1.9050, 5044,  -999.00,   2297.0,   3.1510,  34.9431, 2,  34.9410, 2,   -999.0, 9,    249.0, 2,    28.05, 2,    20.72, 2,     0.00, 2,     1.38, 2, -999.000, 9, -999.000, 9,   2184.2, 2,   -999.0, 9,   -999.0, 9,   2.9682,   -999.0, 9, -999.000, 9
316N19871218, SAVE2, 46, 1, 24, 24, 2, 19871221, 0005, 0.7050, -1.9050, 5044,  -999.00,   2499.8,   3.0131,  34.9333, 2,  34.9330, 2,   -999.0, 9,    245.9, 2,    31.17, 2,    21.21, 2,     0.00, 2,     1.42, 2, -999.000, 9,    0.001, 2,   2188.0, 2,   -999.0, 9,   -999.0, 9,   2.8130,   -999.0, 9, -999.000, 9
316N19871218, SAVE2, 46, 1, 25, 25, 2, 19871221, 0005, 0.7050, -1.9050, 5044,  -999.00,   2747.1,   2.7832,  34.9200, 2,  34.9190, 2,   -999.0, 9,    243.3, 2,    36.26, 2,    21.69, 2,     0.00, 2,     1.46, 2, -999.000, 9, -999.000, 9,   2193.8, 2,   -999.0, 9,   -999.0, 9,   2.5630,   -999.0, 9, -999.000, 9
316N19871218, SAVE2, 46, 1, 26, 26, 2, 19871221, 0005, 0.7050, -1.9050, 5044,  -999.00,   2998.6,   2.6233,  34.9103, 2,  34.9090, 2,   -999.0, 9,    244.2, 2,    39.19, 2,    21.89, 2,     0.00, 2,     1.46, 2, -999.000, 9,    0.002, 2,   2195.9, 2,   -999.0, 9,   -999.0, 9,   2.3810,   -999.0, 9, -999.000, 9
316N19871218, SAVE2, 46, 1, 27, 27, 2, 19871221, 0005, 0.7050, -1.9050, 5044,  -999.00,   3242.2,   2.5274,  34.9044, 2,  34.9030, 2,   -999.0, 9,    244.6, 2,    41.44, 2,    22.09, 2,     0.00, 2,     1.48, 2, -999.000, 9, -999.000, 9,   2203.7, 2,   -999.0, 9,   -999.0, 9,   2.2619,   -999.0, 9, -999.000, 9
316N19871218, SAVE2, 46, 1, 28, 28, 2, 19871221, 0005, 0.7050, -1.9050, 5044,  -999.00,   3496.3,   2.4344,  34.8962, 2,  34.8950, 2,   -999.0, 9,    244.6, 2,    43.68, 2,    22.18, 2,     0.00, 2,     1.49, 2,    0.001, 2, -999.000, 9,   2204.0, 2,   -999.0, 9,   -999.0, 9,   2.1441,   -999.0, 9, -999.000, 9
316N19871218, SAVE2, 46, 1, 29, 29, 2, 19871221, 0005, 0.7050, -1.9050, 5044,  -999.00,   3741.7,   2.3715,  34.8911, 2,  34.8890, 2,   -999.0, 9,    245.0, 2,    45.44, 2,    22.18, 2,     0.00, 2,     1.49, 2, -999.000, 9, -999.000, 9,   2204.8, 2,   -999.0, 9,   -999.0, 9,   2.0559,   -999.0, 9, -999.000, 9
316N19871218, SAVE2, 46, 1, 30, 30, 2, 19871221, 0005, 0.7050, -1.9050, 5044,  -999.00,   3986.3,   2.3435,  34.8873, 2,  34.8850, 2,   -999.0, 9,    244.2, 2,    47.01, 2,    22.57, 2,     0.00, 2,     1.50, 2,    0.007, 2,    0.001, 2,   2207.2, 2,   -999.0, 9,   -999.0, 9,   2.0012,   -999.0, 9, -999.000, 9
316N19871218, SAVE2, 46, 1, 31, 31, 2, 19871221, 0005, 0.7050, -1.9050, 5044,  -999.00,   4241.8,   2.3005,  34.8813, 2,  34.8790, 2,   -999.0, 9,    245.5, 2,    48.38, 2,    22.58, 2,     0.00, 2,     1.51, 2, -999.000, 9, -999.000, 9,   2208.7, 2,   -999.0, 9,   -999.0, 9,   1.9300,   -999.0, 9, -999.000, 9
316N19871218, SAVE2, 46, 1, 32, 32, 2, 19871221, 0005, 0.7050, -1.9050, 5044,  -999.00,   4472.3,   2.2515,  34.8745, 2,  34.8720, 2,   -999.0, 9,    244.6, 2,    50.62, 2,    22.87, 2,     0.00, 2,     1.52, 2,    0.001, 2,    0.006, 2,   2210.2, 2,   -999.0, 9,   -999.0, 9,   1.8553,   4464.9, 2,    2.253, 2
316N19871218, SAVE2, 46, 1, 33, 33, 2, 19871221, 0005, 0.7050, -1.9050, 5044,  -999.00,   4472.7,   2.2505,  34.8742, 2, -999.0000, 9,   -999.0, 9,   -999.0, 9,  -999.00, 9,  -999.00, 9,  -999.00, 9,  -999.00, 9, -999.000, 9, -999.000, 9,   -999.0, 9,   -999.0, 9,   -999.0, 9,   1.8543,   -999.0, 9, -999.000, 9
316N19871218, SAVE2, 46, 1, 34, 34, 2, 19871221, 0005, 0.7050, -1.9050, 5044,  -999.00,   4680.1,   2.2076,  34.8683, 2,  34.8670, 2,   -999.0, 9,    243.7, 2,    52.87, 2,    23.16, 2,     0.00, 2,     1.54, 2, -999.000, 9, -999.000, 9,   2216.9, 2,   -999.0, 9,   -999.0, 9,   1.7877,   -999.0, 9, -999.000, 9
316N19871218, SAVE2, 46, 1, 35, 35, 2, 19871221, 0005, 0.7050, -1.9050, 5044,  -999.00,   4991.0,   2.1666,  34.8602, 2,  34.8580, 2,   -999.0, 9,    241.1, 2,    56.49, 2,    23.65, 2,     0.00, 2,     1.58, 2,    0.000, 2,    0.002, 2,   2221.6, 2,   -999.0, 9,   -999.0, 9,   1.7097,   4984.4, 2,    2.166, 2
316N19871218, SAVE2, 46, 1, 36, 36, 2, 19871221, 0005, 0.7050, -1.9050, 5044,  -999.00,   5146.6,   2.1726,  34.8558, 2,  34.8570, 2,   -999.0, 9,    240.7, 2,    57.56, 2,    23.65, 2,     0.00, 2,     1.59, 2, -999.000, 9,    0.004, 2,   2221.8, 2,   -999.0, 9,   -999.0, 9,   1.6959,   -999.0, 9, -999.000, 9