BOTTLE,20110114CCHDOSIODM
EXPOCODE,SECT_ID,STNNBR,CASTNO,SAMPNO,BTLNBR,BTLNBR_FLAG_W,DATE,TIME,LATITUDE,LONGITUDE,DEPTH,CTDRAW,CTDPRS,CTDTMP,CTDSAL,CTDSAL_FLAG_W,SALNTY,SALNTY_FLAG_W,CTDOXY,CTDOXY_FLAG_W,OXYGEN,OXYGEN_FLAG_W,SILCAT,SILCAT_FLAG_W,NITRAT,NITRAT_FLAG_W,NITRIT,NITRIT_FLAG_W,PHSPHT,PHSPHT_FLAG_W,CFC-11,CFC-11_FLAG_W,CFC-12,CFC-12_FLAG_W,TCARBN,TCARBN_FLAG_W,ALKALI,ALKALI_FLAG_W,PCO2,PCO2_FLAG_W,THETA,REVPRS,REVPRS_FLAG_W,REVTMP,REVTMP_FLAG_W
,,,,,,,,,,,METERS,DBAR,DBAR,ITS-68,PSS-78,,PSS-78,,UMOL/KG,,UMOL/KG,,UMOL/KG,,UMOL/KG,,UMOL/KG,,UMOL/KG,,PMOL/KG,,PMOL/KG,,UMOL/KG,,UMOL/KG,,UATM,,DEG C,DBAR,,ITS-68,
316N19871218, SAVE2, 75, 1, 1, 1, 2, 19880106, 2226, -13.7717, -7.3367, 4189,  -999.00,      1.0,  23.7650,  36.7476, 2,  36.7470, 2,   -999.0, 9,    213.0, 2,     1.17, 2,     0.00, 2,     0.00, 2,     0.17, 2,    1.790, 2,    0.888, 2,   2074.3, 2,   -999.0, 9,   -999.0, 9,  23.7648,   -999.0, 9, -999.000, 9
316N19871218, SAVE2, 75, 1, 2, 2, 2, 19880106, 2226, -13.7717, -7.3367, 4189,  -999.00,     35.7,  23.1580,  36.7200, 2,  36.7150, 2,   -999.0, 9,    216.9, 2,     1.07, 2,     0.00, 2,     0.00, 2,     0.20, 2,    1.825, 2,    0.895, 2,   2074.6, 2,   -999.0, 9,   -999.0, 9,  23.1506,   -999.0, 9, -999.000, 9
316N19871218, SAVE2, 75, 1, 3, 3, 2, 19880106, 2226, -13.7717, -7.3367, 4189,  -999.00,     54.8,  21.5159,  36.4510, 2,  36.4480, 2,   -999.0, 9,    229.1, 2,     1.07, 2,     0.00, 2,     0.00, 2,     0.24, 2,    1.847, 2,    0.908, 2,   -999.0, 9,   -999.0, 9,   -999.0, 9,  21.5052,   -999.0, 9, -999.000, 9
316N19871218, SAVE2, 75, 1, 4, 4, 2, 19880106, 2226, -13.7717, -7.3367, 4189,  -999.00,     80.3,  19.9650,  36.3208, 2,  36.3200, 2,   -999.0, 9,    217.2, 2,     1.46, 2,     1.56, 2,     0.45, 2,     0.39, 2,    2.036, 2,    0.991, 2,   2089.7, 2,   -999.0, 9,   -999.0, 9,  19.9501,   -999.0, 9, -999.000, 9
316N19871218, SAVE2, 75, 1, 5, 5, 2, 19880106, 2226, -13.7717, -7.3367, 4189,  -999.00,     99.9,  19.1560,  36.2050, 2,  36.1080, 2,   -999.0, 9,    195.0, 2,     2.15, 2,     5.47, 2,     0.67, 2,     0.61, 2,    1.965, 2,    0.932, 2,   2112.1, 2,   -999.0, 9,   -999.0, 9,  19.1380,   -999.0, 9, -999.000, 9
316N19871218, SAVE2, 75, 1, 6, 6, 2, 19880106, 2226, -13.7717, -7.3367, 4189,  -999.00,    127.3,  15.0096,  35.4712, 2,  35.4620, 2,   -999.0, 9,    147.9, 2,     4.79, 2,    15.04, 2,     0.03, 2,     1.09, 2,    1.692, 2,    0.809, 2,   2148.1, 2,   -999.0, 9,   -999.0, 9,  14.9903,   -999.0, 9, -999.000, 9
316N19871218, SAVE2, 75, 1, 7, 7, 2, 19880106, 2226, -13.7717, -7.3367, 4189,  -999.00,    161.6,  13.8438,  35.3442, 2,  35.3420, 2,   -999.0, 9,    109.6, 2,     7.13, 2,    20.81, 2,     0.01, 2,     1.41, 2,    1.256, 2,    0.614, 2,   2182.5, 2,   -999.0, 9,   -999.0, 9,  13.8206,   -999.0, 9, -999.000, 9
316N19871218, SAVE2, 75, 1, 8, 8, 2, 19880106, 2226, -13.7717, -7.3367, 4189,  -999.00,    191.6,  12.7001,  35.2119, 2, -999.0000, 9,   -999.0, 9,   -999.0, 9,  -999.00, 9,  -999.00, 9,  -999.00, 9,  -999.00, 9,    1.710, 2,    0.834, 2,   2103.9, 2,   -999.0, 9,   -999.0, 9,  12.6741,   -999.0, 9, -999.000, 9
316N19871218, SAVE2, 75, 1, 9, 9, 2, 19880106, 2226, -13.7717, -7.3367, 4189,  -999.00,    254.7,  11.0306,  35.0263, 2,  35.0240, 2,   -999.0, 9,   -999.0, 9,    12.90, 2,    30.19, 2,     0.01, 2,     1.97, 2,    0.387, 2,    0.212, 2,   -999.0, 9,   -999.0, 9,   -999.0, 9,  10.9991,   -999.0, 9, -999.000, 9
316N19871218, SAVE2, 75, 1, 10, 10, 2, 19880106, 2226, -13.7717, -7.3367, 4189,  -999.00,    254.8,  10.9606,  35.0210, 2,  35.0220, 2,   -999.0, 9,     64.4, 2,    13.09, 2,    30.29, 2,     0.01, 2,     1.97, 2,    0.358, 2,    0.184, 2,   2227.8, 2,   -999.0, 9,   -999.0, 9,  10.9292,   -999.0, 9, -999.000, 9
316N19871218, SAVE2, 75, 1, 11, 11, 2, 19880106, 2226, -13.7717, -7.3367, 4189,  -999.00,    310.1,   9.8190,  34.8983, 2,  34.8970, 2,   -999.0, 9,     72.2, 2,    15.15, 2,    31.86, 2,     0.01, 2,     2.07, 2,    0.175, 2,    0.092, 2,   2231.1, 2,   -999.0, 9,   -999.0, 9,   9.7833,   -999.0, 9, -999.000, 9
316N19871218, SAVE2, 75, 1, 12, 12, 2, 19880106, 2226, -13.7717, -7.3367, 4189,  -999.00,    375.3,   8.7494,  34.7881, 2,  34.7910, 2,   -999.0, 9,     77.8, 2,    17.40, 2,    33.33, 2,     0.01, 2,     2.18, 2,    0.075, 2,    0.041, 2,   2232.9, 2,   -999.0, 9,   -999.0, 9,   8.7090,   -999.0, 9, -999.000, 9
316N19871218, SAVE2, 75, 1, 13, 13, 2, 19880106, 2226, -13.7717, -7.3367, 4189,  -999.00,    465.7,   6.9971,  34.6077, 2,  34.6200, 2,   -999.0, 9,    107.0, 2,    21.31, 2,    34.11, 2,     0.01, 2,     2.25, 2,    0.040, 2,    0.027, 2,   2227.2, 2,   -999.0, 9,   -999.0, 9,   6.9529,   -999.0, 9, -999.000, 9
316N19871218, SAVE2, 75, 1, 14, 14, 2, 19880106, 2226, -13.7717, -7.3367, 4189,  -999.00,    555.9,   6.0905,  34.5322, 2,  34.5370, 2,   -999.0, 9,    122.2, 2,    24.54, 2,    34.80, 2,     0.00, 2,     2.32, 2,    0.024, 2,    0.005, 2,   2226.7, 2,   -999.0, 9,   -999.0, 9,   6.0413,   -999.0, 9, -999.000, 9
316N19871218, SAVE2, 75, 1, 15, 15, 2, 19880106, 2226, -13.7717, -7.3367, 4189,  -999.00,    699.5,   5.0270,  34.4687, 2,  34.4680, 2,   -999.0, 9,    144.3, 2,    29.72, 2,    34.70, 2,     0.00, 2,     2.36, 2,    0.014, 2,    0.001, 2,   2227.5, 2,   -999.0, 9,   -999.0, 9,   4.9702,   -999.0, 9, -999.000, 9
316N19871218, SAVE2, 75, 1, 16, 16, 2, 19880106, 2226, -13.7717, -7.3367, 4189,  -999.00,    817.9,   4.4773,  34.4783, 2,  34.4780, 2,   -999.0, 9,    149.1, 2,    34.12, 2,    35.00, 2,     0.00, 2,     2.40, 2,    0.001, 2, -999.000, 9,   -999.0, 9,   -999.0, 9,   -999.0, 9,   4.4136,   -999.0, 9, -999.000, 9
316N19871218, SAVE2, 75, 1, 17, 17, 2, 19880106, 2226, -13.7717, -7.3367, 4189,  -999.00,    942.5,   4.1465,  34.5061, 2,  34.5050, 2,   -999.0, 9,    154.7, 2,    36.85, 2,    34.51, 2,     0.00, 2,     2.35, 2, -999.000, 9, -999.000, 9,   -999.0, 9,   -999.0, 9,   -999.0, 9,   4.0745,   -999.0, 9, -999.000, 9
316N19871218, SAVE2, 75, 1, 18, 18, 2, 19880106, 2226, -13.7717, -7.3367, 4189,  -999.00,   1073.1,   3.8676,  34.5834, 2,  34.5780, 2,   -999.0, 9,    164.7, 2,    38.12, 2,    32.94, 2,     0.00, 2,     2.27, 2,    0.007, 2, -999.000, 9,   2234.1, 2,   -999.0, 9,   -999.0, 9,   3.7868,   -999.0, 9, -999.000, 9
316N19871218, SAVE2, 75, 1, 19, 19, 2, 19880106, 2226, -13.7717, -7.3367, 4189,  -999.00,   1200.5,   3.7427,  34.6794, 2,  34.6810, 2,   -999.0, 9,    177.8, 2,    37.04, 2,    30.69, 2,     0.00, 2,     2.11, 2, -999.000, 9, -999.000, 9,   -999.0, 9,   -999.0, 9,   -999.0, 9,   3.6521,   -999.0, 9, -999.000, 9
316N19871218, SAVE2, 75, 1, 20, 20, 2, 19880106, 2226, -13.7717, -7.3367, 4189,  -999.00,   1419.9,   3.6867,  34.8213, 2,  34.8210, 2,   -999.0, 9,    201.2, 2,    31.57, 2,    26.58, 2,     0.00, 2,     1.82, 2, -999.000, 9, -999.000, 9,   -999.0, 9,   -999.0, 9,   -999.0, 9,   3.5775,   -999.0, 9, -999.000, 9
316N19871218, SAVE2, 75, 1, 21, 21, 2, 19880106, 2226, -13.7717, -7.3367, 4189,  -999.00,   1530.5,   3.6288,  34.8642, 2,  34.8650, 2,   -999.0, 9,    210.3, 2,    30.00, 2,    25.12, 2,     0.00, 2,     1.69, 2, -999.000, 9, -999.000, 9,   2200.6, 2,   -999.0, 9,   -999.0, 9,   3.5103,   -999.0, 9, -999.000, 9
316N19871218, SAVE2, 75, 1, 22, 22, 2, 19880106, 2226, -13.7717, -7.3367, 4189,  -999.00,   1648.2,   3.5488,  34.8919, 2,  34.8920, 2,   -999.0, 9,    219.4, 2,    29.02, 2,    24.04, 2,     0.00, 2,     1.61, 2, -999.000, 9, -999.000, 9,   -999.0, 9,   -999.0, 9,   -999.0, 9,   3.4207,   -999.0, 9, -999.000, 9
316N19871218, SAVE2, 75, 1, 23, 23, 2, 19880106, 2226, -13.7717, -7.3367, 4189,  -999.00,   1847.3,   3.3719,  34.9096, 2,  34.9110, 2,   -999.0, 9,    226.4, 2,    30.20, 2,    23.06, 2,     0.00, 2,     1.55, 2, -999.000, 9,    0.000, 2,   -999.0, 9,   -999.0, 9,   -999.0, 9,   3.2280,   -999.0, 9, -999.000, 9
316N19871218, SAVE2, 75, 1, 24, 24, 2, 19880106, 2226, -13.7717, -7.3367, 4189,  -999.00,   2038.5,   3.2170,  34.9150, 2,  34.9160, 2,   -999.0, 9,    231.2, 2,    31.76, 2,    22.67, 2,     0.00, 2,     1.52, 2, -999.000, 9, -999.000, 9,   -999.0, 9,   -999.0, 9,   -999.0, 9,   3.0577,   -999.0, 9, -999.000, 9
316N19871218, SAVE2, 75, 1, 25, 25, 2, 19880106, 2226, -13.7717, -7.3367, 4189,  -999.00,   2197.5,   3.1081,  34.9139, 2,  34.9150, 2,   -999.0, 9,    233.8, 2,    33.42, 2,    22.57, 2,     0.00, 2,     1.51, 2,    0.000, 2,    0.003, 2,   -999.0, 9,   -999.0, 9,   -999.0, 9,   2.9355,   -999.0, 9, -999.000, 9
316N19871218, SAVE2, 75, 1, 26, 26, 2, 19880106, 2226, -13.7717, -7.3367, 4189,  -999.00,   2395.8,   2.8992,  34.9072, 2,  34.9060, 2,   -999.0, 9,    237.7, 2,    36.84, 2,    22.48, 2,     0.00, 2,     1.50, 2, -999.000, 9, -999.000, 9,   -999.0, 9,   -999.0, 9,   -999.0, 9,   2.7113,   -999.0, 9, -999.000, 9
316N19871218, SAVE2, 75, 1, 27, 27, 2, 19880106, 2226, -13.7717, -7.3367, 4189,  -999.00,   2598.2,   2.7403,  34.9008, 2,  34.9010, 2,   -999.0, 9,    239.0, 2,    40.07, 2,    22.57, 2,     0.00, 2,     1.51, 2, -999.000, 9, -999.000, 9,   2200.6, 2,   -999.0, 9,   -999.0, 9,   2.5357,   -999.0, 9, -999.000, 9
316N19871218, SAVE2, 75, 1, 28, 28, 2, 19880106, 2226, -13.7717, -7.3367, 4189,  -999.00,   2795.6,   2.6003,  34.8938, 2,  34.8930, 2,   -999.0, 9,    239.0, 2,    43.29, 2,    22.67, 2,     0.00, 2,     1.53, 2, -999.000, 9,    0.000, 2,   -999.0, 9,   -999.0, 9,   -999.0, 9,   2.3791,   -999.0, 9, -999.000, 9
316N19871218, SAVE2, 75, 1, 29, 29, 2, 19880106, 2226, -13.7717, -7.3367, 4189,  -999.00,   2998.2,   2.4884,  34.8881, 2,  34.8890, 2,   -999.0, 9,    239.0, 2,    46.13, 2,    22.97, 2,     0.00, 2,     1.54, 2, -999.000, 9, -999.000, 9,   2203.0, 2,   -999.0, 9,   -999.0, 9,   2.2491,   -999.0, 9, -999.000, 9
316N19871218, SAVE2, 75, 1, 30, 30, 2, 19880106, 2226, -13.7717, -7.3367, 4189,  -999.00,   3195.3,   2.4474,  34.8879, 2,  34.8880, 2,   -999.0, 9,    238.1, 2,    47.40, 2,    23.06, 2,     0.00, 2,     1.55, 2, -999.000, 9, -999.000, 9,   -999.0, 9,   -999.0, 9,   -999.0, 9,   2.1888,   -999.0, 9, -999.000, 9
316N19871218, SAVE2, 75, 1, 31, 31, 2, 19880106, 2226, -13.7717, -7.3367, 4189,  -999.00,   3398.0,   2.4344,  34.8867, 2,  34.8880, 2,   -999.0, 9,    238.1, 2,    48.37, 2,    23.16, 2,     0.00, 2,     1.56, 2, -999.000, 9, -999.000, 9,   2209.5, 2,   -999.0, 9,   -999.0, 9,   2.1547,   -999.0, 9, -999.000, 9
316N19871218, SAVE2, 75, 1, 32, 32, 2, 19880106, 2226, -13.7717, -7.3367, 4189,  -999.00,   3596.0,   2.4324,  34.8859, 2,  34.8860, 2,   -999.0, 9,    237.7, 2,    48.96, 2,    23.26, 2,     0.00, 2,     1.56, 2, -999.000, 9,    0.000, 2,   -999.0, 9,   -999.0, 9,   -999.0, 9,   2.1314,   3609.7, 2,    2.432, 2
316N19871218, SAVE2, 75, 1, 33, 33, 2, 19880106, 2226, -13.7717, -7.3367, 4189,  -999.00,   3800.8,   2.4314,  34.8863, 2,  34.8870, 2,   -999.0, 9,    239.0, 2,    49.74, 2,    23.26, 2,     0.00, 2,     1.57, 2, -999.000, 9, -999.000, 9,   -999.0, 9,   -999.0, 9,   -999.0, 9,   2.1077,   -999.0, 9, -999.000, 9
316N19871218, SAVE2, 75, 1, 34, 34, 2, 19880106, 2226, -13.7717, -7.3367, 4189,  -999.00,   3944.4,   2.4314,  34.8865, 2,  34.8860, 2,   -999.0, 9,    238.1, 2,    49.74, 2,    23.26, 2,     0.00, 2,     1.57, 2, -999.000, 9, -999.000, 9,   -999.0, 9,   -999.0, 9,   -999.0, 9,   2.0915,   -999.0, 9, -999.000, 9
316N19871218, SAVE2, 75, 1, 35, 35, 2, 19880106, 2226, -13.7717, -7.3367, 4189,  -999.00,   4098.1,   2.4404,  34.8861, 2,  34.8840, 2,   -999.0, 9,    237.7, 2,    50.04, 2,    23.26, 2,     0.00, 2,     1.57, 2, -999.000, 9, -999.000, 9,   -999.0, 9,   -999.0, 9,   -999.0, 9,   2.0826,   4091.1, 2,    2.439, 2
316N19871218, SAVE2, 75, 1, 36, 36, 2, 19880106, 2226, -13.7717, -7.3367, 4189,  -999.00,   4252.9,   2.4524,  34.8866, 2,  34.8860, 2,   -999.0, 9,    236.4, 2,    50.13, 2,    23.16, 2,     0.00, 2,     1.57, 2,    0.000, 2,    0.000, 2,   2210.1, 2,   -999.0, 9,   -999.0, 9,   2.0762,   -999.0, 9, -999.000, 9