BOTTLE,20110114CCHDOSIODM
EXPOCODE,SECT_ID,STNNBR,CASTNO,SAMPNO,BTLNBR,BTLNBR_FLAG_W,DATE,TIME,LATITUDE,LONGITUDE,DEPTH,CTDRAW,CTDPRS,CTDTMP,CTDSAL,CTDSAL_FLAG_W,SALNTY,SALNTY_FLAG_W,CTDOXY,CTDOXY_FLAG_W,OXYGEN,OXYGEN_FLAG_W,SILCAT,SILCAT_FLAG_W,NITRAT,NITRAT_FLAG_W,NITRIT,NITRIT_FLAG_W,PHSPHT,PHSPHT_FLAG_W,CFC-11,CFC-11_FLAG_W,CFC-12,CFC-12_FLAG_W,TCARBN,TCARBN_FLAG_W,ALKALI,ALKALI_FLAG_W,PCO2,PCO2_FLAG_W,THETA,REVPRS,REVPRS_FLAG_W,REVTMP,REVTMP_FLAG_W
,,,,,,,,,,,METERS,DBAR,DBAR,ITS-68,PSS-78,,PSS-78,,UMOL/KG,,UMOL/KG,,UMOL/KG,,UMOL/KG,,UMOL/KG,,UMOL/KG,,PMOL/KG,,PMOL/KG,,UMOL/KG,,UMOL/KG,,UATM,,DEG C,DBAR,,ITS-68,
316N19871218, SAVE2, 45, 1, 1, 1, 2, 19871220, 0757, 1.6567, -3.2600, 5077,  -999.00,      0.5,  28.5247,  34.6622, 2,  34.6990, 2,   -999.0, 9,    198.8, 2,     0.68, 2,     0.20, 2,     0.00, 2,     0.02, 2,    1.401, 2,    0.761, 2,   1912.5, 2,   -999.0, 9,   -999.0, 9,  28.5246,   -999.0, 9, -999.000, 9
316N19871218, SAVE2, 45, 1, 2, 2, 2, 19871220, 0757, 1.6567, -3.2600, 5077,  -999.00,     35.6,  28.5367,  35.0089, 2,  35.0120, 2,   -999.0, 9,    204.0, 2,     0.68, 2,     0.20, 2,     0.00, 2,     0.04, 2,    1.411, 2,    0.752, 2,   1926.7, 2,   -999.0, 9,   -999.0, 9,  28.5282,   -999.0, 9, -999.000, 9
316N19871218, SAVE2, 45, 1, 3, 3, 2, 19871220, 0757, 1.6567, -3.2600, 5077,  -999.00,     50.1,  23.0480,  35.6488, 2,  35.5970, 2,   -999.0, 9,    187.5, 2,     0.88, 2,     0.68, 2,     0.02, 2,     0.19, 2,    1.336, 2,    0.679, 2,   2044.9, 2,   -999.0, 9,   -999.0, 9,  23.0377,   -999.0, 9, -999.000, 9
316N19871218, SAVE2, 45, 1, 4, 4, 2, 19871220, 0757, 1.6567, -3.2600, 5077,  -999.00,     61.7,  19.1120,  35.8414, 2,  35.8370, 2,   -999.0, 9,    140.2, 2,     2.83, 2,     9.57, 2,     0.22, 2,     0.79, 2,    1.172, 2,    0.584, 2,   2136.6, 2,   -999.0, 9,   -999.0, 9,  19.1010,   -999.0, 9, -999.000, 9
316N19871218, SAVE2, 45, 1, 5, 5, 2, 19871220, 0757, 1.6567, -3.2600, 5077,  -999.00,     85.0,  16.8193,  35.7616, 2,  35.7570, 2,   -999.0, 9,    129.7, 2,     5.18, 2,    15.04, 2,     0.08, 2,     1.05, 2,    1.127, 2,    0.586, 2,   2159.2, 2,   -999.0, 9,   -999.0, 9,  16.8053,   -999.0, 9, -999.000, 9
316N19871218, SAVE2, 45, 1, 6, 6, 2, 19871220, 0757, 1.6567, -3.2600, 5077,  -999.00,    105.2,  15.9274,  35.6764, 2,  35.6670, 2,   -999.0, 9,    138.8, 2,     5.57, 2,    15.24, 2,     0.04, 2,     1.06, 2,    1.121, 2,    0.564, 2,   2146.7, 2,   -999.0, 9,   -999.0, 9,  15.9108,   -999.0, 9, -999.000, 9
316N19871218, SAVE2, 45, 1, 7, 7, 2, 19871220, 0757, 1.6567, -3.2600, 5077,  -999.00,    143.7,  14.8796,  35.5346, 2,  35.5310, 2,   -999.0, 9,    128.8, 2,     6.74, 2,    17.68, 2,     0.02, 2,     1.20, 2,    1.012, 2,    0.518, 2,   2161.0, 2,   -999.0, 9,   -999.0, 9,  14.8579,   -999.0, 9, -999.000, 9
316N19871218, SAVE2, 45, 1, 8, 8, 2, 19871220, 0757, 1.6567, -3.2600, 5077,  -999.00,    215.0,  13.8728,  35.3901, 2,  35.3850, 2,   -999.0, 9,     91.4, 2,     9.18, 2,    23.15, 2,     0.01, 2,     1.50, 2,    0.677, 2,    0.357, 2,   2194.1, 2,   -999.0, 9,   -999.0, 9,  13.8418,   -999.0, 9, -999.000, 9
316N19871218, SAVE2, 45, 1, 9, 9, 2, 19871220, 0757, 1.6567, -3.2600, 5077,  -999.00,    286.9,  11.1946,  35.0827, 2, -999.0000, 9,   -999.0, 9,   -999.0, 9,  -999.00, 9,  -999.00, 9,  -999.00, 9,  -999.00, 9,    0.268, 2, -999.000, 9,   2225.8, 2,   -999.0, 9,   -999.0, 9,  11.1586,   -999.0, 9, -999.000, 9
316N19871218, SAVE2, 45, 1, 10, 10, 2, 19871220, 0757, 1.6567, -3.2600, 5077,  -999.00,    350.3,   9.3622,  34.8798, 2,  34.8780, 2,   -999.0, 9,     79.1, 2,    16.32, 2,    32.54, 2,     0.00, 2,     2.03, 2, -999.000, 9, -999.000, 9,   2225.8, 2,   -999.0, 9,   -999.0, 9,   9.3229,   -999.0, 9, -999.000, 9
316N19871218, SAVE2, 45, 1, 11, 11, 2, 19871220, 0757, 1.6567, -3.2600, 5077,  -999.00,    468.5,   7.5899,  34.6932, 2,  34.6890, 2,   -999.0, 9,    103.0, 2,    20.23, 2,    33.82, 2,     0.00, 2,     2.17, 2,    0.082, 2,    0.015, 2,   2224.1, 2,   -999.0, 9,   -999.0, 9,   7.5433,   -999.0, 9, -999.000, 9
316N19871218, SAVE2, 45, 1, 12, 12, 2, 19871220, 0757, 1.6567, -3.2600, 5077,  -999.00,    575.8,   6.2165,  34.5798, 2,  34.5820, 2,   -999.0, 9,    109.1, 2,    25.41, 2,    35.87, 2,     0.00, 2,     2.35, 2,    0.025, 2,    0.007, 2,   2233.4, 2,   -999.0, 9,   -999.0, 9,   6.1648,   -999.0, 9, -999.000, 9
316N19871218, SAVE2, 45, 1, 13, 13, 2, 19871220, 0757, 1.6567, -3.2600, 5077,  -999.00,    689.8,   5.2319,  34.5169, 2,  34.5160, 2,   -999.0, 9,    136.9, 2,    29.23, 2,    35.00, 2,     0.00, 2,     2.34, 2, -999.000, 9, -999.000, 9,   2228.0, 2,   -999.0, 9,   -999.0, 9,   5.1748,   -999.0, 9, -999.000, 9
316N19871218, SAVE2, 45, 1, 14, 14, 2, 19871220, 0757, 1.6567, -3.2600, 5077,  -999.00,    789.1,   4.8851,  34.5355, 2,  34.5350, 2,   -999.0, 9,    140.0, 2,    31.18, 2,    34.90, 2,     0.00, 2,     2.34, 2,    0.009, 2,    0.005, 2,   2230.2, 2,   -999.0, 9,   -999.0, 9,   4.8212,   -999.0, 9, -999.000, 9
316N19871218, SAVE2, 45, 1, 15, 15, 2, 19871220, 0757, 1.6567, -3.2600, 5077,  -999.00,    917.7,   4.5913,  34.5757, 2,  34.5700, 2,   -999.0, 9,    151.7, 2,    32.06, 2,    33.72, 2,     0.00, 2,     2.27, 2,    0.006, 2,    0.000, 2,   2226.3, 2,   -999.0, 9,   -999.0, 9,   4.5181,   -999.0, 9, -999.000, 9
316N19871218, SAVE2, 45, 1, 16, 16, 2, 19871220, 0757, 1.6567, -3.2600, 5077,  -999.00,   1028.9,   4.5093,  34.6621, 2,  34.6610, 2,   -999.0, 9,    158.6, 2,    31.18, 2,    32.26, 2,     0.00, 2,     2.17, 2,    0.013, 2,    0.007, 2,   2222.8, 2,   -999.0, 9,   -999.0, 9,   4.4269,   -999.0, 9, -999.000, 9
316N19871218, SAVE2, 45, 1, 17, 17, 2, 19871220, 0757, 1.6567, -3.2600, 5077,  -999.00,   1140.2,   4.4873,  34.7750, 2,  34.7760, 2,   -999.0, 9,    173.4, 2,    28.15, 2,    29.61, 2,     0.00, 2,     1.97, 2, -999.000, 9, -999.000, 9,   2215.3, 2,   -999.0, 9,   -999.0, 9,   4.3951,   -999.0, 9, -999.000, 9
316N19871218, SAVE2, 45, 1, 18, 18, 2, 19871220, 0757, 1.6567, -3.2600, 5077,  -999.00,   1300.0,   4.4493,  34.8497, 2,  34.8520, 2,   -999.0, 9,    190.3, 2,    24.63, 2,    26.97, 2,     0.00, 2,     1.79, 2,    0.009, 2,    0.006, 2,   2201.4, 2,   -999.0, 9,   -999.0, 9,   4.3429,   -999.0, 9, -999.000, 9
316N19871218, SAVE2, 45, 1, 19, 19, 2, 19871220, 0757, 1.6567, -3.2600, 5077,  -999.00,   1496.7,   4.1975,  34.9514, 2,  34.9520, 2,   -999.0, 9,    225.1, 2,    19.54, 2,    22.38, 2,     0.00, 2,     1.47, 2, -999.000, 9, -999.000, 9,   2182.9, 2,   -999.0, 9,   -999.0, 9,   4.0754,   -999.0, 9, -999.000, 9
316N19871218, SAVE2, 45, 1, 20, 20, 2, 19871220, 0757, 1.6567, -3.2600, 5077,  -999.00,   1678.5,   4.0445,  34.9685, 2,  34.9690, 2,   -999.0, 9,    238.6, 2,    18.37, 2,    21.01, 2,     0.00, 2,     1.38, 2,    0.021, 2,    0.007, 2,   2176.8, 2,   -999.0, 9,   -999.0, 9,   3.9073,   -999.0, 9, -999.000, 9
316N19871218, SAVE2, 45, 1, 21, 21, 2, 19871220, 0757, 1.6567, -3.2600, 5077,  -999.00,   1880.4,   3.7377,  34.9646, 2,  34.9660, 2,   -999.0, 9,    242.9, 2,    20.13, 2,    20.72, 2,     0.00, 2,     1.36, 2, -999.000, 9, -999.000, 9,   2170.9, 2,   -999.0, 9,   -999.0, 9,   3.5855,   -999.0, 9, -999.000, 9
316N19871218, SAVE2, 45, 1, 22, 22, 2, 19871220, 0757, 1.6567, -3.2600, 5077,  -999.00,   2000.9,   3.5318,  34.9572, 2,  34.9600, 2,   -999.0, 9,    244.6, 2,    22.87, 2,    20.72, 2,     0.00, 2,     1.36, 2,    0.008, 2,    0.002, 2,   2175.0, 2,   -999.0, 9,   -999.0, 9,   3.3712,   -999.0, 9, -999.000, 9
316N19871218, SAVE2, 45, 1, 23, 23, 2, 19871220, 0757, 1.6567, -3.2600, 5077,  -999.00,   2251.8,   3.2230,  34.9468, 2,  34.9490, 2,   -999.0, 9,    245.1, 2,    27.17, 2,    21.01, 2,     0.00, 2,     1.38, 2, -999.000, 9, -999.000, 9,   2181.6, 2,   -999.0, 9,   -999.0, 9,   3.0433,   -999.0, 9, -999.000, 9
316N19871218, SAVE2, 45, 1, 24, 24, 2, 19871220, 0757, 1.6567, -3.2600, 5077,  -999.00,   2499.9,   3.0061,  34.9336, 2,  34.9330, 2,   -999.0, 9,    245.1, 2,    31.08, 2,    21.30, 2,     0.00, 2,     1.39, 2,    0.002, 2,    0.003, 2,   2186.7, 2,   -999.0, 9,   -999.0, 9,   2.8061,   -999.0, 9, -999.000, 9
316N19871218, SAVE2, 45, 1, 25, 25, 2, 19871220, 0757, 1.6567, -3.2600, 5077,  -999.00,   2723.9,   2.8132,  34.9242, 2,  34.9250, 2,   -999.0, 9,    239.4, 2,    36.84, 2,    21.99, 2,     0.00, 2,     1.46, 2, -999.000, 9, -999.000, 9,   2194.5, 2,   -999.0, 9,   -999.0, 9,   2.5947,   -999.0, 9, -999.000, 9
316N19871218, SAVE2, 45, 1, 26, 26, 2, 19871220, 0757, 1.6567, -3.2600, 5077,  -999.00,   2999.9,   2.6513,  34.9126, 2,  34.9120, 2,   -999.0, 9,    242.0, 2,    39.09, 2,    22.09, 2,     0.00, 2,     1.46, 2,    0.005, 2,    0.003, 2,   2198.3, 2,   -999.0, 9,   -999.0, 9,   2.4082,   -999.0, 9, -999.000, 9
316N19871218, SAVE2, 45, 1, 27, 27, 2, 19871220, 0757, 1.6567, -3.2600, 5077,  -999.00,   3251.5,   2.5634,  34.9068, 2,  34.9050, 2,   -999.0, 9,    242.0, 2,    41.14, 2,    22.09, 2,     0.00, 2,     1.47, 2, -999.000, 9, -999.000, 9,   2200.0, 2,   -999.0, 9,   -999.0, 9,   2.2960,   -999.0, 9, -999.000, 9
316N19871218, SAVE2, 45, 1, 28, 28, 2, 19871220, 0757, 1.6567, -3.2600, 5077,  -999.00,   3499.4,   2.4754,  34.8998, 2,  34.8980, 2,   -999.0, 9,    241.1, 2,    43.88, 2,    22.38, 2,     0.00, 2,     1.48, 2,    0.003, 2,    0.002, 2,   2205.3, 2,   -999.0, 9,   -999.0, 9,   2.1837,   -999.0, 9, -999.000, 9
316N19871218, SAVE2, 45, 1, 29, 29, 2, 19871220, 0757, 1.6567, -3.2600, 5077,  -999.00,   3775.5,   2.4034,  34.8935, 2,  34.8970, 2,   -999.0, 9,    244.6, 2,    45.25, 2,    22.48, 2,     0.00, 2,     1.49, 2, -999.000, 9, -999.000, 9,   2205.5, 2,   -999.0, 9,   -999.0, 9,   2.0833,   -999.0, 9, -999.000, 9
316N19871218, SAVE2, 45, 1, 30, 30, 2, 19871220, 0757, 1.6567, -3.2600, 5077,  -999.00,   4050.7,   2.3365,  34.8861, 2,  34.8850, 2,   -999.0, 9,    241.1, 2,    48.28, 2,    22.77, 2,     0.00, 2,     1.50, 2, -999.000, 9, -999.000, 9,   2210.1, 2,   -999.0, 9,   -999.0, 9,   1.9871,   -999.0, 9, -999.000, 9
316N19871218, SAVE2, 45, 1, 31, 31, 2, 19871220, 0757, 1.6567, -3.2600, 5077,  -999.00,   4304.5,   2.2685,  34.8775, 2,  34.8730, 2,   -999.0, 9,    243.3, 2,    50.04, 2,    22.87, 2,     0.00, 2,     1.51, 2, -999.000, 9, -999.000, 9,   2208.9, 2,   -999.0, 9,   -999.0, 9,   1.8917,   -999.0, 9, -999.000, 9
316N19871218, SAVE2, 45, 1, 32, 32, 2, 19871220, 0757, 1.6567, -3.2600, 5077,  -999.00,   4594.9,   2.2166,  34.8697, 2,  34.8670, 2,   -999.0, 9,    243.7, 2,    52.48, 2,    23.16, 2,     0.00, 2,     1.53, 2,    0.009, 2,    0.001, 2,   2215.1, 2,   -999.0, 9,   -999.0, 9,   1.8068,   4616.3, 2,    2.207, 2
316N19871218, SAVE2, 45, 1, 33, 33, 2, 19871220, 0757, 1.6567, -3.2600, 5077,  -999.00,   4850.0,   2.1996,  34.8656, 2,  34.8640, 2,   -999.0, 9,    240.7, 2,    55.12, 2,    23.45, 2,     0.00, 2,     1.55, 2,    0.006, 2,    0.005, 2,   2220.5, 2,   -999.0, 9,   -999.0, 9,   1.7591,   -999.0, 9, -999.000, 9
316N19871218, SAVE2, 45, 1, 35, 35, 2, 19871220, 0757, 1.6567, -3.2600, 5077,  -999.00,   5033.9,   2.1826,  34.8595, 2,  34.8590, 2,   -999.0, 9,    240.7, 2,    56.29, 2,    23.65, 2,     0.00, 2,     1.57, 2, -999.000, 9, -999.000, 9,   2220.4, 2,   -999.0, 9,   -999.0, 9,   1.7198,   5033.9, 2,    2.180, 2
316N19871218, SAVE2, 45, 1, 34, 34, 2, 19871220, 0757, 1.6567, -3.2600, 5077,  -999.00,   5034.0,   2.1826,  34.8594, 2,  34.8590, 2,   -999.0, 9,   -999.0, 9,  -999.00, 9,  -999.00, 9,  -999.00, 9,  -999.00, 9,    0.002, 2,    0.005, 2,   -999.0, 9,   -999.0, 9,   -999.0, 9,   1.7198,   -999.0, 9, -999.000, 9
316N19871218, SAVE2, 45, 1, 36, 36, 2, 19871220, 0757, 1.6567, -3.2600, 5077,  -999.00,   5188.7,   2.1496,  34.8533, 2,  34.8530, 2,   -999.0, 9,    240.3, 2,    58.15, 2,    23.85, 2,     0.00, 2,     1.58, 2,    0.000, 2,    0.004, 2,   2225.5, 2,   -999.0, 9,   -999.0, 9,   1.6684,   -999.0, 9, -999.000, 9