BOTTLE,20110114CCHDOSIODM
EXPOCODE,SECT_ID,STNNBR,CASTNO,SAMPNO,BTLNBR,BTLNBR_FLAG_W,DATE,TIME,LATITUDE,LONGITUDE,DEPTH,CTDRAW,CTDPRS,CTDTMP,CTDSAL,CTDSAL_FLAG_W,SALNTY,SALNTY_FLAG_W,CTDOXY,CTDOXY_FLAG_W,OXYGEN,OXYGEN_FLAG_W,SILCAT,SILCAT_FLAG_W,NITRAT,NITRAT_FLAG_W,NITRIT,NITRIT_FLAG_W,PHSPHT,PHSPHT_FLAG_W,CFC-11,CFC-11_FLAG_W,CFC-12,CFC-12_FLAG_W,TCARBN,TCARBN_FLAG_W,ALKALI,ALKALI_FLAG_W,PCO2,PCO2_FLAG_W,THETA,REVPRS,REVPRS_FLAG_W,REVTMP,REVTMP_FLAG_W
,,,,,,,,,,,METERS,DBAR,DBAR,ITS-68,PSS-78,,PSS-78,,UMOL/KG,,UMOL/KG,,UMOL/KG,,UMOL/KG,,UMOL/KG,,UMOL/KG,,PMOL/KG,,PMOL/KG,,UMOL/KG,,UMOL/KG,,UATM,,DEG C,DBAR,,ITS-68,
316N19871218, SAVE2, 51, 1, 1, 1, 2, 19871224, 1419, -4.3733, 3.8483, 5110,  -999.00,      1.2,  26.8176,  35.6324, 2,  35.6340, 2,   -999.0, 9,    205.1, 2,     1.66, 2,     0.10, 2,     0.00, 2,     0.10, 2, -999.000, 9, -999.000, 9,   1944.6, 2,   -999.0, 9,   -999.0, 9,  26.8173,   -999.0, 9, -999.000, 9
316N19871218, SAVE2, 51, 1, 2, 2, 2, 19871224, 1419, -4.3733, 3.8483, 5110,  -999.00,     15.8,  26.6854,  35.6308, 2,  35.6240, 2,   -999.0, 9,    204.7, 2,     1.56, 2,     0.10, 2,     0.00, 2,     0.09, 2,    1.479, 2,    0.785, 2,   2004.6, 2,   -999.0, 9,   -999.0, 9,  26.6818,   -999.0, 9, -999.000, 9
316N19871218, SAVE2, 51, 1, 3, 3, 2, 19871224, 1419, -4.3733, 3.8483, 5110,  -999.00,     26.3,  26.5785,  35.7257, 2,  35.7250, 2,   -999.0, 9,    205.5, 2,     1.56, 2,     0.10, 2,     0.00, 2,     0.10, 2,    1.455, 2,    0.832, 2,   2008.4, 2,   -999.0, 9,   -999.0, 9,  26.5726,   -999.0, 9, -999.000, 9
316N19871218, SAVE2, 51, 1, 4, 4, 2, 19871224, 1419, -4.3733, 3.8483, 5110,  -999.00,     36.9,  20.1649,  35.7432, 2,  35.7300, 2,   -999.0, 9,    203.4, 2,     3.22, 2,     4.59, 2,     0.07, 2,     0.53, 2, -999.000, 9, -999.000, 9,   2083.0, 2,   -999.0, 9,   -999.0, 9,  20.1580,   -999.0, 9, -999.000, 9
316N19871218, SAVE2, 51, 1, 5, 5, 2, 19871224, 1419, -4.3733, 3.8483, 5110,  -999.00,     57.6,  16.1215,  35.6354, 2,  35.6300, 2,   -999.0, 9,    117.5, 2,     5.86, 2,    16.90, 2,     0.35, 2,     1.22, 2,    1.000, 2,    0.508, 2,   2164.0, 2,   -999.0, 9,   -999.0, 9,  16.1123,   -999.0, 9, -999.000, 9
316N19871218, SAVE2, 51, 1, 6, 6, 2, 19871224, 1419, -4.3733, 3.8483, 5110,  -999.00,     78.7,  15.2723,  35.5791, 2, -999.0000, 9,   -999.0, 9,   -999.0, 9,  -999.00, 9,  -999.00, 9,  -999.00, 9,  -999.00, 9,    0.912, 2,    0.458, 2,   2176.2, 2,   -999.0, 9,   -999.0, 9,  15.2603,   -999.0, 9, -999.000, 9
316N19871218, SAVE2, 51, 1, 7, 7, 2, 19871224, 1419, -4.3733, 3.8483, 5110,  -999.00,    128.5,  14.6418,  35.4966, 2,  35.4950, 2,   -999.0, 9,    104.4, 2,     7.72, 2,    20.32, 2,     0.01, 2,     1.38, 2,    0.977, 2, -999.000, 9,   2178.6, 2,   -999.0, 9,   -999.0, 9,  14.6226,   -999.0, 9, -999.000, 9
316N19871218, SAVE2, 51, 1, 8, 8, 2, 19871224, 1419, -4.3733, 3.8483, 5110,  -999.00,    178.7,  13.9502,  35.3979, 2,  35.3970, 2,   -999.0, 9,     81.8, 2,     9.09, 2,    23.84, 2,     0.01, 2,     1.56, 2,    0.704, 2,    0.357, 2,   2196.4, 2,   -999.0, 9,   -999.0, 9,  13.9244,   -999.0, 9, -999.000, 9
316N19871218, SAVE2, 51, 1, 9, 9, 2, 19871224, 1419, -4.3733, 3.8483, 5110,  -999.00,    218.9,  13.3159,  35.3196, 2,  35.3180, 2,   -999.0, 9,     82.7, 2,     9.67, 2,    24.72, 2,     0.00, 2,     1.60, 2,    0.623, 2,    0.321, 2,   2197.9, 2,   -999.0, 9,   -999.0, 9,  13.2852,   -999.0, 9, -999.000, 9
316N19871218, SAVE2, 51, 1, 10, 10, 2, 19871224, 1419, -4.3733, 3.8483, 5110,  -999.00,    268.5,  12.4039,  35.2016, 2,  35.2020, 2,   -999.0, 9,     97.0, 2,    10.06, 2,    24.62, 2,     0.00, 2,     1.61, 2,    0.570, 2,    0.290, 2,   2195.2, 2,   -999.0, 9,   -999.0, 9,  12.3679,   -999.0, 9, -999.000, 9
316N19871218, SAVE2, 51, 1, 11, 11, 2, 19871224, 1419, -4.3733, 3.8483, 5110,  -999.00,    319.0,  11.5641,  35.0978, 2,  35.1000, 2,   -999.0, 9,     92.2, 2,    11.33, 2,    26.58, 2,     0.00, 2,     1.72, 2,    0.441, 2,    0.223, 2,   2200.1, 2,   -999.0, 9,   -999.0, 9,  11.5233,   -999.0, 9, -999.000, 9
316N19871218, SAVE2, 51, 1, 12, 12, 2, 19871224, 1419, -4.3733, 3.8483, 5110,  -999.00,    354.2,  10.5003,  34.9860, 2,  34.9870, 2,   -999.0, 9,     47.8, 2,    15.15, 2,    33.03, 2,     0.00, 2,     2.08, 2,    0.169, 2,    0.083, 2,   2243.2, 2,   -999.0, 9,   -999.0, 9,  10.4576,   -999.0, 9, -999.000, 9
316N19871218, SAVE2, 51, 1, 13, 13, 2, 19871224, 1419, -4.3733, 3.8483, 5110,  -999.00,    394.2,   9.1980,  34.8499, 2,  34.8550, 2,   -999.0, 9,     42.6, 2,    17.88, 2,    36.16, 2,     0.00, 2,     2.28, 2,    0.068, 2,    0.038, 2,   2254.6, 2,   -999.0, 9,   -999.0, 9,   9.1542,   -999.0, 9, -999.000, 9
316N19871218, SAVE2, 51, 1, 14, 14, 2, 19871224, 1419, -4.3733, 3.8483, 5110,  -999.00,    479.9,   7.4702,  34.6743, 2,  34.6770, 2,   -999.0, 9,     67.0, 2,    21.89, 2,    37.34, 2,     0.00, 2,     2.38, 2,    0.022, 2,    0.010, 2,   2251.1, 2,   -999.0, 9,   -999.0, 9,   7.4229,   -999.0, 9, -999.000, 9
316N19871218, SAVE2, 51, 1, 15, 15, 2, 19871224, 1419, -4.3733, 3.8483, 5110,  -999.00,    645.1,   5.7151,  34.5277, 2,  34.5310, 2,   -999.0, 9,    106.5, 2,    27.66, 2,    36.95, 2,     0.00, 2,     2.44, 2,    0.005, 2,    0.003, 2,   2241.4, 2,   -999.0, 9,   -999.0, 9,   5.6595,   -999.0, 9, -999.000, 9
316N19871218, SAVE2, 51, 1, 16, 16, 2, 19871224, 1419, -4.3733, 3.8483, 5110,  -999.00,    753.1,   5.0230,  34.4970, 2,  34.5000, 2,   -999.0, 9,    123.9, 2,    30.99, 2,    36.46, 2,     0.00, 2,     2.44, 2,    0.003, 2,    0.001, 2,   2242.2, 2,   -999.0, 9,   -999.0, 9,   4.9615,   -999.0, 9, -999.000, 9
316N19871218, SAVE2, 51, 1, 17, 17, 2, 19871224, 1419, -4.3733, 3.8483, 5110,  -999.00,    920.5,   4.3907,  34.5490, 2,  34.5530, 2,   -999.0, 9,    145.2, 2,    34.70, 2,    34.51, 2,     0.00, 2,     2.34, 2,    0.000, 2,    0.000, 2,   2236.2, 2,   -999.0, 9,   -999.0, 9,   4.3187,   -999.0, 9, -999.000, 9
316N19871218, SAVE2, 51, 1, 18, 18, 2, 19871224, 1419, -4.3733, 3.8483, 5110,  -999.00,   1175.6,   4.2942,  34.7498, 2,  34.7540, 2,   -999.0, 9,    172.5, 2,    30.10, 2,    29.71, 2,     0.00, 2,     2.00, 2, -999.000, 9, -999.000, 9,   2218.5, 2,   -999.0, 9,   -999.0, 9,   4.2006,   -999.0, 9, -999.000, 9
316N19871218, SAVE2, 51, 1, 19, 19, 2, 19871224, 1419, -4.3733, 3.8483, 5110,  -999.00,   1326.8,   4.1250,  34.8486, 2,  34.8510, 2,   -999.0, 9,    193.4, 2,    26.88, 2,    26.58, 2,     0.00, 2,     1.78, 2,    0.002, 2,    0.000, 2,   2210.4, 2,   -999.0, 9,   -999.0, 9,   4.0194,   -999.0, 9, -999.000, 9
316N19871218, SAVE2, 51, 1, 20, 20, 2, 19871224, 1419, -4.3733, 3.8483, 5110,  -999.00,   1419.3,   4.1327,  34.9008, 2, -999.0000, 9,   -999.0, 9,    209.9, 2,    23.75, 2,    24.33, 2,     0.00, 2,     1.62, 2,    0.004, 2,    0.001, 2,   -999.0, 9,   -999.0, 9,   -999.0, 9,   4.0185,   -999.0, 9, -999.000, 9
316N19871218, SAVE2, 51, 1, 21, 21, 2, 19871224, 1419, -4.3733, 3.8483, 5110,  -999.00,   1600.8,   3.9266,  34.9356, 2,  34.9390, 2,   -999.0, 9,    225.5, 2,    22.38, 2,    22.57, 2,     0.00, 2,     1.50, 2,    0.001, 2,    0.001, 2,   2190.9, 2,   -999.0, 9,   -999.0, 9,   3.7981,   -999.0, 9, -999.000, 9
316N19871218, SAVE2, 51, 1, 22, 22, 2, 19871224, 1419, -4.3733, 3.8483, 5110,  -999.00,   1868.5,   3.6049,  34.9482, 2,  34.9530, 2,   -999.0, 9,    239.0, 2,    23.55, 2,    21.30, 2,     0.00, 2,     1.43, 2,    0.004, 2,    0.002, 2,   -999.0, 9,   -999.0, 9,   -999.0, 9,   3.4557,   -999.0, 9, -999.000, 9
316N19871218, SAVE2, 51, 1, 23, 23, 2, 19871224, 1419, -4.3733, 3.8483, 5110,  -999.00,   2049.8,   3.4073,  34.9438, 2,  34.9470, 2,   -999.0, 9,    240.7, 2,    25.90, 2,    21.21, 2,     0.00, 2,     1.43, 2, -999.000, 9,    0.003, 2,   2182.0, 2,   -999.0, 9,   -999.0, 9,   3.2439,   -999.0, 9, -999.000, 9
316N19871218, SAVE2, 51, 1, 24, 24, 2, 19871224, 1419, -4.3733, 3.8483, 5110,  -999.00,   2201.3,   3.2275,  34.9354, 2,  34.9390, 2,   -999.0, 9,    239.4, 2,    29.22, 2,    21.60, 2,     0.00, 2,     1.45, 2,    0.000, 2,    0.000, 2,   -999.0, 9,   -999.0, 9,   -999.0, 9,   3.0526,   -999.0, 9, -999.000, 9
316N19871218, SAVE2, 51, 1, 25, 25, 2, 19871224, 1419, -4.3733, 3.8483, 5110,  -999.00,   2498.4,   2.9599,  34.9241, 2,  34.9280, 2,   -999.0, 9,    239.4, 2,    34.01, 2,    21.79, 2,     0.00, 2,     1.46, 2,    0.002, 2,    0.000, 2,   2190.5, 2,   -999.0, 9,   -999.0, 9,   2.7610,   -999.0, 9, -999.000, 9
316N19871218, SAVE2, 51, 1, 26, 26, 2, 19871224, 1419, -4.3733, 3.8483, 5110,  -999.00,   2749.6,   2.7868,  34.9137, 2,  34.9160, 2,   -999.0, 9,    238.5, 2,    37.62, 2,    22.18, 2,     0.00, 2,     1.49, 2, -999.000, 9,    0.002, 2,   -999.0, 9,   -999.0, 9,   -999.0, 9,   2.5663,   -999.0, 9, -999.000, 9
316N19871218, SAVE2, 51, 1, 27, 27, 2, 19871224, 1419, -4.3733, 3.8483, 5110,  -999.00,   2999.7,   2.6509,  34.9059, 2,  34.9080, 2,   -999.0, 9,    238.5, 2,    40.56, 2,    22.38, 2,     0.00, 2,     1.50, 2, -999.000, 9, -999.000, 9,   2200.9, 2,   -999.0, 9,   -999.0, 9,   2.4079,   -999.0, 9, -999.000, 9
316N19871218, SAVE2, 51, 1, 28, 28, 2, 19871224, 1419, -4.3733, 3.8483, 5110,  -999.00,   3249.1,   2.5258,  34.8984, 2,  34.9010, 2,   -999.0, 9,    238.1, 2,    44.07, 2,    22.67, 2,     0.00, 2,     1.51, 2, -999.000, 9, -999.000, 9,   -999.0, 9,   -999.0, 9,   -999.0, 9,   2.2596,   -999.0, 9, -999.000, 9
316N19871218, SAVE2, 51, 1, 29, 29, 2, 19871224, 1419, -4.3733, 3.8483, 5110,  -999.00,   3497.4,   2.4544,  34.8941, 2,  34.8970, 2,   -999.0, 9,    236.8, 2,    46.13, 2,    22.67, 2,     0.00, 2,     1.51, 2, -999.000, 9, -999.000, 9,   2207.4, 2,   -999.0, 9,   -999.0, 9,   2.1635,   -999.0, 9, -999.000, 9
316N19871218, SAVE2, 51, 1, 30, 30, 2, 19871224, 1419, -4.3733, 3.8483, 5110,  -999.00,   3775.9,   2.3902,  34.8884, 2,  34.8910, 2,   -999.0, 9,    232.4, 2,    50.33, 2,    23.06, 2,     0.00, 2,     1.54, 2, -999.000, 9,    0.000, 2,   -999.0, 9,   -999.0, 9,   -999.0, 9,   2.0703,   -999.0, 9, -999.000, 9
316N19871218, SAVE2, 51, 1, 31, 31, 2, 19871224, 1419, -4.3733, 3.8483, 5110,  -999.00,   4045.5,   2.3498,  34.8830, 2,  34.8850, 2,   -999.0, 9,    239.0, 2,    49.35, 2,    22.77, 2,     0.00, 2,     1.51, 2, -999.000, 9, -999.000, 9,   2212.4, 3,   -999.0, 9,   -999.0, 9,   2.0006,   -999.0, 9, -999.000, 9
316N19871218, SAVE2, 51, 1, 32, 32, 2, 19871224, 1419, -4.3733, 3.8483, 5110,  -999.00,   4299.8,   2.3462,  34.8813, 2,  34.8830, 2,   -999.0, 9,    231.1, 2,    53.65, 2,    23.45, 2,     0.00, 2,     1.55, 2, -999.000, 9,    0.004, 2,   -999.0, 9,   -999.0, 9,   -999.0, 9,   1.9676,   4294.3, 2,    2.339, 2
316N19871218, SAVE2, 51, 1, 33, 33, 2, 19871224, 1419, -4.3733, 3.8483, 5110,  -999.00,   4547.4,   2.3538,  34.8778, 2,  34.8810, 2,   -999.0, 9,    232.9, 2,    53.36, 2,    23.36, 2,     0.00, 2,     1.55, 2, -999.000, 9,    0.001, 2,   2223.9, 2,   -999.0, 9,   -999.0, 9,   1.9454,   -999.0, 9, -999.000, 9
316N19871218, SAVE2, 51, 1, 34, 34, 2, 19871224, 1419, -4.3733, 3.8483, 5110,  -999.00,   4808.3,   2.3669,  34.8759, 2,  34.8760, 2,   -999.0, 9,    235.5, 2,    53.26, 2,    23.26, 2,     0.00, 2,     1.55, 2, -999.000, 9,    0.003, 2,   -999.0, 9,   -999.0, 9,   -999.0, 9,   1.9261,   -999.0, 9, -999.000, 9
316N19871218, SAVE2, 51, 1, 35, 35, 2, 19871224, 1419, -4.3733, 3.8483, 5110,  -999.00,   5032.9,   2.3793,  34.8774, 2,  34.8770, 2,   -999.0, 9,    238.1, 2,    52.87, 2,    23.16, 2,     0.00, 2,     1.54, 2, -999.000, 9,    0.001, 2,   2216.6, 2,   -999.0, 9,   -999.0, 9,   1.9099,   5019.9, 2,    2.374, 2
316N19871218, SAVE2, 51, 1, 36, 36, 2, 19871224, 1419, -4.3733, 3.8483, 5110,  -999.00,   5218.5,   2.3831,  34.8752, 2,  34.8750, 2,   -999.0, 9,    240.7, 2,    52.38, 2,    23.16, 2,     0.00, 2,     1.54, 2, -999.000, 9, -999.000, 9,   2212.6, 2,   -999.0, 9,   -999.0, 9,   1.8898,   -999.0, 9, -999.000, 9