BOTTLE,20110114CCHDOSIODM
EXPOCODE,SECT_ID,STNNBR,CASTNO,SAMPNO,BTLNBR,BTLNBR_FLAG_W,DATE,TIME,LATITUDE,LONGITUDE,DEPTH,CTDRAW,CTDPRS,CTDTMP,CTDSAL,CTDSAL_FLAG_W,SALNTY,SALNTY_FLAG_W,CTDOXY,CTDOXY_FLAG_W,OXYGEN,OXYGEN_FLAG_W,SILCAT,SILCAT_FLAG_W,NITRAT,NITRAT_FLAG_W,NITRIT,NITRIT_FLAG_W,PHSPHT,PHSPHT_FLAG_W,CFC-11,CFC-11_FLAG_W,CFC-12,CFC-12_FLAG_W,TCARBN,TCARBN_FLAG_W,ALKALI,ALKALI_FLAG_W,PCO2,PCO2_FLAG_W,THETA,REVPRS,REVPRS_FLAG_W,REVTMP,REVTMP_FLAG_W
,,,,,,,,,,,METERS,DBAR,DBAR,ITS-68,PSS-78,,PSS-78,,UMOL/KG,,UMOL/KG,,UMOL/KG,,UMOL/KG,,UMOL/KG,,UMOL/KG,,PMOL/KG,,PMOL/KG,,UMOL/KG,,UMOL/KG,,UATM,,DEG C,DBAR,,ITS-68,
316N19871218, SAVE2, 65, 1, 1, 1, 2, 19880101, 0702, -11.3283, 6.3850, 5258,  -999.00,      1.0,  24.0390,  36.3218, 2,  36.3260, 2,   -999.0, 9,    212.7, 2,     0.98, 2,     0.20, 2,     0.00, 2,     0.20, 2,    1.679, 2,    0.854, 2,   2056.8, 2,   -999.0, 9,   -999.0, 9,  24.0388,   -999.0, 9, -999.000, 9
316N19871218, SAVE2, 65, 1, 2, 2, 2, 19880101, 0702, -11.3283, 6.3850, 5258,  -999.00,     31.0,  19.6440,  36.1655, 2,  36.1720, 2,   -999.0, 9,    238.6, 2,     1.46, 2,     1.07, 2,     0.09, 2,     0.36, 2,    1.920, 2,    0.959, 2,   2085.3, 2,   -999.0, 9,   -999.0, 9,  19.6383,   -999.0, 9, -999.000, 9
316N19871218, SAVE2, 65, 1, 3, 3, 2, 19880101, 0702, -11.3283, 6.3850, 5258,  -999.00,     43.4,  18.3471,  35.9905, 2,  36.0210, 2,   -999.0, 9,    175.9, 2,     3.03, 2,     8.69, 2,     0.73, 2,     0.80, 2,    1.628, 2,    0.801, 2,   2128.8, 2,   -999.0, 9,   -999.0, 9,  18.3395,   -999.0, 9, -999.000, 9
316N19871218, SAVE2, 65, 1, 4, 4, 2, 19880101, 0702, -11.3283, 6.3850, 5258,  -999.00,     73.2,  14.0308,  35.4076, 2,  35.4140, 2,   -999.0, 9,     60.0, 2,     9.18, 2,    26.38, 2,     0.03, 2,     1.72, 2,    0.671, 2,    0.330, 2,   2218.8, 2,   -999.0, 9,   -999.0, 9,  14.0202,   -999.0, 9, -999.000, 9
316N19871218, SAVE2, 65, 1, 5, 5, 2, 19880101, 0702, -11.3283, 6.3850, 5258,  -999.00,     93.4,  13.5769,  35.3463, 2,  35.3380, 2,   -999.0, 9,     52.2, 2,    10.45, 2,    27.94, 2,     0.01, 2,     1.82, 2,    0.549, 2,    0.281, 2,   2225.4, 2,   -999.0, 9,   -999.0, 9,  13.5637,   -999.0, 9, -999.000, 9
316N19871218, SAVE2, 65, 1, 6, 6, 2, 19880101, 0702, -11.3283, 6.3850, 5258,  -999.00,    114.6,  13.0870,  35.2915, 2,  35.2880, 2,   -999.0, 9,     61.3, 2,    10.75, 2,    27.65, 2,     0.01, 2,     1.80, 2, -999.000, 9, -999.000, 9,   2219.3, 2,   -999.0, 9,   -999.0, 9,  13.0712,   -999.0, 9, -999.000, 9
316N19871218, SAVE2, 65, 1, 7, 7, 2, 19880101, 0702, -11.3283, 6.3850, 5258,  -999.00,    157.7,  12.2662,  35.1924, 2,  35.1900, 2,   -999.0, 9,     58.3, 2,    12.02, 2,    29.21, 2,     0.01, 2,     1.89, 2,    0.357, 2,    0.182, 2,   2227.2, 2,   -999.0, 9,   -999.0, 9,  12.2454,   -999.0, 9, -999.000, 9
316N19871218, SAVE2, 65, 1, 8, 8, 2, 19880101, 0702, -11.3283, 6.3850, 5258,  -999.00,    182.1,  11.8963,  35.1491, 2,  35.1460, 2,   -999.0, 9,     61.3, 2,    12.12, 2,    29.51, 2,     0.01, 2,     1.92, 2, -999.000, 9, -999.000, 9,   2227.2, 2,   -999.0, 9,   -999.0, 9,  11.8727,   -999.0, 9, -999.000, 9
316N19871218, SAVE2, 65, 1, 9, 9, 2, 19880101, 0702, -11.3283, 6.3850, 5258,  -999.00,    215.1,  11.3545,  35.0854, 2,  35.0880, 2,   -999.0, 9,     57.8, 2,    13.29, 2,    30.78, 2,     0.01, 2,     1.96, 2,    0.256, 2,    0.133, 2,   2231.5, 2,   -999.0, 9,   -999.0, 9,  11.3274,   -999.0, 9, -999.000, 9
316N19871218, SAVE2, 65, 1, 10, 10, 2, 19880101, 0702, -11.3283, 6.3850, 5258,  -999.00,    250.2,  10.9096,  35.0345, 2, -999.0000, 9,   -999.0, 9,   -999.0, 9,  -999.00, 9,  -999.00, 9,  -999.00, 9,  -999.00, 9, -999.000, 9, -999.000, 9,   -999.0, 9,   -999.0, 9,   -999.0, 9,  10.8789,   -999.0, 9, -999.000, 9
316N19871218, SAVE2, 65, 1, 11, 11, 2, 19880101, 0702, -11.3283, 6.3850, 5258,  -999.00,    380.8,   8.9163,  34.8193, 2, -999.0000, 9,   -999.0, 9,   -999.0, 9,  -999.00, 9,  -999.00, 9,  -999.00, 9,  -999.00, 9, -999.000, 9, -999.000, 9,   -999.0, 9,   -999.0, 9,   -999.0, 9,   8.8749,   -999.0, 9, -999.000, 9
316N19871218, SAVE2, 65, 1, 12, 12, 2, 19880101, 0702, -11.3283, 6.3850, 5258,  -999.00,    526.1,   6.8412,  34.6242, 2,  34.6240, 2,   -999.0, 9,     41.7, 2,    25.22, 2,    41.93, 2,     0.00, 2,     2.71, 2,    0.003, 2,    0.005, 2,   2278.1, 2,   -999.0, 9,   -999.0, 9,   6.7917,   -999.0, 9, -999.000, 9
316N19871218, SAVE2, 65, 1, 13, 13, 2, 19880101, 0702, -11.3283, 6.3850, 5258,  -999.00,    651.2,   5.7187,  34.5438, 2,  34.5450, 2,   -999.0, 9,     70.9, 2,    29.13, 2,    41.25, 2,     0.00, 2,     2.68, 2,    0.002, 2,    0.001, 2,   2268.3, 2,   -999.0, 9,   -999.0, 9,   5.6625,   -999.0, 9, -999.000, 9
316N19871218, SAVE2, 65, 1, 14, 14, 2, 19880101, 0702, -11.3283, 6.3850, 5258,  -999.00,    781.3,   4.8032,  34.5053, 2,  34.5050, 2,   -999.0, 9,    105.6, 2,    34.12, 2,    39.00, 2,     0.00, 2,     2.60, 2, -999.000, 9, -999.000, 9,   2255.9, 2,   -999.0, 9,   -999.0, 9,   4.7405,   -999.0, 9, -999.000, 9
316N19871218, SAVE2, 65, 1, 15, 15, 2, 19880101, 0702, -11.3283, 6.3850, 5258,  -999.00,    927.5,   4.2534,  34.5463, 2,  34.5460, 2,   -999.0, 9,    131.3, 2,    37.24, 2,    36.46, 2,     0.00, 2,     2.49, 2, -999.000, 9,    0.002, 2,   2246.3, 2,   -999.0, 9,   -999.0, 9,   4.1819,   -999.0, 9, -999.000, 9
316N19871218, SAVE2, 65, 1, 16, 16, 2, 19880101, 0702, -11.3283, 6.3850, 5258,  -999.00,   1072.9,   4.0276,  34.6523, 2,  34.6480, 2,   -999.0, 9,    151.3, 2,    36.56, 2,    33.53, 2,     0.00, 2,     2.31, 2, -999.000, 9, -999.000, 9,   2237.9, 2,   -999.0, 9,   -999.0, 9,   3.9453,   -999.0, 9, -999.000, 9
316N19871218, SAVE2, 65, 1, 17, 17, 2, 19880101, 0702, -11.3283, 6.3850, 5258,  -999.00,   1249.1,   3.9286,  34.7701, 2,  34.7690, 2,   -999.0, 9,    174.7, 2,    32.74, 2,    29.81, 2,     0.00, 2,     2.06, 2,    0.001, 2,    0.003, 2,   2226.7, 2,   -999.0, 9,   -999.0, 9,   3.8319,   -999.0, 9, -999.000, 9
316N19871218, SAVE2, 65, 1, 18, 18, 2, 19880101, 0702, -11.3283, 6.3850, 5258,  -999.00,   1419.7,   3.8746,  34.8576, 2,  34.8570, 2,   -999.0, 9,    196.9, 2,    28.83, 2,    26.58, 2,     0.00, 2,     1.81, 2, -999.000, 9, -999.000, 9,   2211.5, 2,   -999.0, 9,   -999.0, 9,   3.7633,   -999.0, 9, -999.000, 9
316N19871218, SAVE2, 65, 1, 19, 19, 2, 19880101, 0702, -11.3283, 6.3850, 5258,  -999.00,   1626.0,   3.7177,  34.9048, 2,  34.9060, 2,   -999.0, 9,    212.0, 2,    27.66, 2,    24.33, 2,     0.00, 2,     1.65, 2, -999.000, 9,    0.003, 2,   2200.9, 2,   -999.0, 9,   -999.0, 9,   3.5895,   -999.0, 9, -999.000, 9
316N19871218, SAVE2, 65, 1, 20, 20, 2, 19880101, 0702, -11.3283, 6.3850, 5258,  -999.00,   1847.9,   3.4908,  34.9213, 2,  34.9210, 2,   -999.0, 9,    219.9, 2,    29.12, 2,    23.45, 2,     0.00, 2,     1.60, 2, -999.000, 9, -999.000, 9,   2203.8, 2,   -999.0, 9,   -999.0, 9,   3.3452,   -999.0, 9, -999.000, 9
316N19871218, SAVE2, 65, 1, 21, 21, 2, 19880101, 0702, -11.3283, 6.3850, 5258,  -999.00,   2100.5,   3.2350,  34.9276, 2,  34.9260, 2,   -999.0, 9,    225.9, 2,    32.25, 2,    22.97, 2,     0.00, 2,     1.54, 2, -999.000, 9,    0.003, 2,   -999.0, 9,   -999.0, 9,   -999.0, 9,   3.0696,   -999.0, 9, -999.000, 9
316N19871218, SAVE2, 65, 1, 22, 22, 2, 19880101, 0702, -11.3283, 6.3850, 5258,  -999.00,   2247.0,   3.1051,  34.9263, 2,  34.9270, 2,   -999.0, 9,    228.1, 2,    34.01, 2,    22.67, 2,     0.00, 2,     1.53, 2, -999.000, 9, -999.000, 9,   -999.0, 9,   -999.0, 9,   -999.0, 9,   2.9278,   -999.0, 9, -999.000, 9
316N19871218, SAVE2, 65, 1, 23, 23, 2, 19880101, 0702, -11.3283, 6.3850, 5258,  -999.00,   2499.9,   2.9282,  34.9207, 2,  34.9190, 2,   -999.0, 9,    229.8, 2,    37.62, 2,    22.77, 2,     0.00, 2,     1.53, 2, -999.000, 9, -999.000, 9,   2207.2, 2,   -999.0, 9,   -999.0, 9,   2.7296,   -999.0, 9, -999.000, 9
316N19871218, SAVE2, 65, 1, 24, 24, 2, 19880101, 0702, -11.3283, 6.3850, 5258,  -999.00,   2748.5,   2.7772,  34.9154, 2,  34.9130, 2,   -999.0, 9,    230.7, 2,    40.85, 2,    22.97, 2,     0.00, 2,     1.54, 2, -999.000, 9, -999.000, 9,   2204.0, 2,   -999.0, 9,   -999.0, 9,   2.5570,   -999.0, 9, -999.000, 9
316N19871218, SAVE2, 65, 1, 25, 25, 2, 19880101, 0702, -11.3283, 6.3850, 5258,  -999.00,   2997.6,   2.6583,  34.9078, 2,  34.9090, 2,   -999.0, 9,    230.3, 2,    44.07, 2,    23.06, 2,     0.00, 2,     1.56, 2, -999.000, 9, -999.000, 9,   2211.8, 2,   -999.0, 9,   -999.0, 9,   2.4153,   -999.0, 9, -999.000, 9
316N19871218, SAVE2, 65, 1, 26, 26, 2, 19880101, 0702, -11.3283, 6.3850, 5258,  -999.00,   3251.4,   2.5494,  34.9004, 2,  34.8990, 2,   -999.0, 9,    231.1, 2,    46.71, 2,    23.36, 2,     0.00, 2,     1.58, 2, -999.000, 9, -999.000, 9,   2209.6, 2,   -999.0, 9,   -999.0, 9,   2.2824,   -999.0, 9, -999.000, 9
316N19871218, SAVE2, 65, 1, 27, 27, 2, 19880101, 0702, -11.3283, 6.3850, 5258,  -999.00,   3423.9,   2.4754,  34.8957, 2,  34.8940, 2,   -999.0, 9,    228.1, 2,    50.33, 2,    23.75, 2,     0.00, 2,     1.61, 2, -999.000, 9, -999.000, 9,   2217.3, 2,   -999.0, 9,   -999.0, 9,   2.1919,   -999.0, 9, -999.000, 9
316N19871218, SAVE2, 65, 1, 28, 28, 2, 19880101, 0702, -11.3283, 6.3850, 5258,  -999.00,   3602.0,   2.4164,  34.8929, 2,  34.8910, 2,   -999.0, 9,    225.1, 2,    53.07, 2,    23.85, 2,     0.00, 2,     1.61, 2, -999.000, 9, -999.000, 9,   2224.7, 2,   2372.0, 2,    822.3, 2,   2.1151,   -999.0, 9, -999.000, 9
316N19871218, SAVE2, 65, 1, 29, 29, 2, 19880101, 0702, -11.3283, 6.3850, 5258,  -999.00,   3851.2,   2.3625,  34.8883, 2,  34.8870, 2,   -999.0, 9,    227.7, 2,    53.75, 2,    23.85, 2,     0.00, 2,     1.59, 2, -999.000, 9, -999.000, 9,   2226.0, 2,   2375.4, 2,    813.2, 2,   2.0350,   -999.0, 9, -999.000, 9
316N19871218, SAVE2, 65, 1, 30, 30, 2, 19880101, 0702, -11.3283, 6.3850, 5258,  -999.00,   4100.9,   2.3535,  34.8874, 2,  34.8870, 2,   -999.0, 9,    232.0, 2,    52.28, 2,    23.55, 2,     0.00, 2,     1.57, 2, -999.000, 9, -999.000, 9,   2216.2, 2,   2367.6, 2,    798.4, 2,   1.9978,   -999.0, 9, -999.000, 9
316N19871218, SAVE2, 65, 1, 31, 31, 2, 19880101, 0702, -11.3283, 6.3850, 5258,  -999.00,   4299.6,   2.3595,  34.8850, 2,  34.8840, 2,   -999.0, 9,    232.4, 2,    52.97, 2,    23.55, 2,     0.00, 2,     1.56, 2, -999.000, 9, -999.000, 9,   2218.7, 2,   2369.4, 2,    802.9, 2,   1.9805,   -999.0, 9, -999.000, 9
316N19871218, SAVE2, 65, 1, 32, 32, 2, 19880101, 0702, -11.3283, 6.3850, 5258,  -999.00,   4498.7,   2.3695,  34.8831, 2,  34.8820, 2,   -999.0, 9,    234.6, 2,    52.58, 2,    23.45, 2,     0.00, 2,     1.57, 2, -999.000, 9, -999.000, 9,   2220.5, 2,   2374.1, 2,    791.4, 2,   1.9664,   4484.5, 2,    2.369, 2
316N19871218, SAVE2, 65, 1, 33, 33, 2, 19880101, 0702, -11.3283, 6.3850, 5258,  -999.00,   4748.9,   2.3845,  34.8813, 2, -999.0000, 9,   -999.0, 9,    234.6, 2,    52.87, 2,    23.45, 2,     0.00, 2,     1.57, 2, -999.000, 9, -999.000, 9,   2219.0, 2,   2372.2, 2,    792.1, 2,   1.9504,   -999.0, 9, -999.000, 9
316N19871218, SAVE2, 65, 1, 34, 34, 2, 19880101, 0702, -11.3283, 6.3850, 5258,  -999.00,   4998.3,   2.4064,  34.8792, 2,  34.8800, 2,   -999.0, 9,    235.1, 2,    53.26, 2,    23.55, 2,     0.00, 2,     1.57, 2, -999.000, 9, -999.000, 9,   2217.2, 2,   2370.5, 2,    790.9, 2,   1.9405,   -999.0, 9, -999.000, 9
316N19871218, SAVE2, 65, 1, 35, 35, 2, 19880101, 0702, -11.3283, 6.3850, 5258,  -999.00,   5222.6,   2.4324,  34.8783, 2,  34.8790, 2,   -999.0, 9,    235.1, 2,    53.16, 2,    23.45, 2,     0.00, 2,     1.56, 2, -999.000, 9, -999.000, 9,   2216.9, 2,   2370.4, 2,    789.9, 2,   1.9369,   -999.0, 9,    2.426, 2
316N19871218, SAVE2, 65, 1, 36, 36, 2, 19880101, 0702, -11.3283, 6.3850, 5258,  -999.00,   5374.4,   2.4514,  34.8772, 2,  34.8810, 2,   -999.0, 9,    235.1, 2,    53.16, 2,    23.45, 2,     0.00, 2,     1.57, 2, -999.000, 9, -999.000, 9,   2219.4, 2,   2375.4, 2,    780.6, 2,   1.9354,   -999.0, 9, -999.000, 9