BOTTLE,20110114CCHDOSIODM
EXPOCODE,SECT_ID,STNNBR,CASTNO,SAMPNO,BTLNBR,BTLNBR_FLAG_W,DATE,TIME,LATITUDE,LONGITUDE,DEPTH,CTDRAW,CTDPRS,CTDTMP,CTDSAL,CTDSAL_FLAG_W,SALNTY,SALNTY_FLAG_W,CTDOXY,CTDOXY_FLAG_W,OXYGEN,OXYGEN_FLAG_W,SILCAT,SILCAT_FLAG_W,NITRAT,NITRAT_FLAG_W,NITRIT,NITRIT_FLAG_W,PHSPHT,PHSPHT_FLAG_W,CFC-11,CFC-11_FLAG_W,CFC-12,CFC-12_FLAG_W,TCARBN,TCARBN_FLAG_W,ALKALI,ALKALI_FLAG_W,PCO2,PCO2_FLAG_W,THETA,REVPRS,REVPRS_FLAG_W,REVTMP,REVTMP_FLAG_W
,,,,,,,,,,,METERS,DBAR,DBAR,ITS-68,PSS-78,,PSS-78,,UMOL/KG,,UMOL/KG,,UMOL/KG,,UMOL/KG,,UMOL/KG,,UMOL/KG,,PMOL/KG,,PMOL/KG,,UMOL/KG,,UMOL/KG,,UATM,,DEG C,DBAR,,ITS-68,
316N19871218, SAVE2, 95, 2, 1, 1, 2, 19880117, 0402, -17.9967, -30.9833, 4705,  -999.00,    496.1,   8.6125,  34.6911, 2,  34.6930, 2,   -999.0, 9,    172.2, 2,    13.59, 2,    24.04, 2,     0.00, 2,     1.65, 2,    0.538, 2,    0.269, 2,   2171.5, 2,   2311.7, 2,    816.3, 2,   8.5593,   -999.0, 9, -999.000, 9
316N19871218, SAVE2, 95, 2, 3, 3, 2, 19880117, 0402, -17.9967, -30.9833, 4705,  -999.00,    596.0,   6.4724,  34.4954, 2,  34.4950, 2,   -999.0, 9,    183.1, 2,    19.16, 2,    27.96, 2,     0.00, 2,     1.90, 2, -999.000, 9, -999.000, 9,   2182.9, 2,   2306.5, 2,    906.9, 2,   6.4178,   -999.0, 9, -999.000, 9
316N19871218, SAVE2, 95, 2, 2, 2, 2, 19880117, 0402, -17.9967, -30.9833, 4705,  -999.00,    596.1,   6.4674,  34.4946, 2,  34.4960, 2,   -999.0, 9,    183.1, 2,    19.16, 2,    27.96, 2,     0.00, 2,     1.91, 2,    0.385, 2,    0.201, 2,   -999.0, 9,   -999.0, 9,   -999.0, 9,   6.4128,   -999.0, 9, -999.000, 9
316N19871218, SAVE2, 95, 2, 4, 4, 2, 19880117, 0402, -17.9967, -30.9833, 4705,  -999.00,    701.4,   4.6922,  34.3797, 2,  34.3830, 2,   -999.0, 9,    198.2, 2,    27.86, 2,    30.70, 2,     0.00, 2,     2.09, 2, -999.000, 9, -999.000, 9,   2195.8, 2,   -999.0, 9,   -999.0, 9,   4.6371,   -999.0, 9, -999.000, 9
316N19871218, SAVE2, 95, 2, 5, 5, 2, 19880117, 0402, -17.9967, -30.9833, 4705,  -999.00,    799.4,   4.1265,  34.3988, 2,  34.4000, 2,   -999.0, 9,    187.4, 2,    34.31, 2,    32.16, 2,     0.00, 2,     2.19, 2, -999.000, 9, -999.000, 9,   2212.6, 2,   2319.4, 2,   1028.7, 2,   4.0666,   -999.0, 9, -999.000, 9
316N19871218, SAVE2, 95, 2, 6, 6, 2, 19880117, 0402, -17.9967, -30.9833, 4705,  -999.00,    799.6,   4.1225,  34.3980, 2,  34.3990, 2,   -999.0, 9,    186.9, 2,    34.31, 2,    32.16, 2,     0.00, 2,     2.20, 2,    0.087, 2,    0.049, 2,   -999.0, 9,   -999.0, 9,   -999.0, 9,   4.0626,   -999.0, 9, -999.000, 9
316N19871218, SAVE2, 95, 2, 7, 7, 2, 19880117, 0402, -17.9967, -30.9833, 4705,  -999.00,    898.5,   3.6558,  34.4244, 2,  34.4240, 2,   -999.0, 9,    195.6, 2,    39.89, 2,    32.16, 2,     0.00, 2,     2.20, 2,    0.078, 2,    0.047, 2,   2213.9, 2,   2320.4, 2,   1033.4, 2,   3.5910,   -999.0, 9, -999.000, 9
316N19871218, SAVE2, 95, 2, 9, 9, 2, 19880117, 0402, -17.9967, -30.9833, 4705,  -999.00,    998.9,   3.6607,  34.5073, 2,  34.5080, 2,   -999.0, 9,    183.0, 2,    40.37, 2,    32.06, 2,     0.00, 2,     2.19, 2, -999.000, 9, -999.000, 9,   2220.1, 2,   2324.4, 2,   1053.6, 2,   3.5878,   -999.0, 9, -999.000, 9
316N19871218, SAVE2, 95, 2, 8, 8, 2, 19880117, 0402, -17.9967, -30.9833, 4705,  -999.00,    998.9,   3.6627,  34.5052, 2,  34.5060, 2,   -999.0, 9,    183.4, 2,    40.08, 2,    32.06, 2,     0.00, 2,     2.19, 2,    0.026, 2,    0.030, 2,   -999.0, 9,   -999.0, 9,   -999.0, 9,   3.5898,   -999.0, 9, -999.000, 9
316N19871218, SAVE2, 95, 2, 10, 10, 2, 19880117, 0402, -17.9967, -30.9833, 4705,  -999.00,   1150.9,   3.7557,  34.6444, 2,  34.6440, 2,   -999.0, 9,    186.0, 2,    37.14, 2,    30.20, 2,     0.00, 2,     2.04, 2,    0.011, 2,    0.001, 2,   2216.2, 2,   2329.0, 2,    997.4, 2,   3.6692,   -999.0, 9, -999.000, 9
316N19871218, SAVE2, 95, 2, 11, 11, 2, 19880117, 0402, -17.9967, -30.9833, 4705,  -999.00,   1275.3,   3.9136,  34.7678, 2,  34.7680, 2,   -999.0, 9,    195.6, 2,    31.37, 2,    27.56, 2,     0.00, 2,     1.86, 2, -999.000, 9,    0.001, 2,   -999.0, 9,   -999.0, 9,   -999.0, 9,   3.8148,   -999.0, 9, -999.000, 9
316N19871218, SAVE2, 95, 2, 12, 12, 2, 19880117, 0402, -17.9967, -30.9833, 4705,  -999.00,   1393.6,   4.0585,  34.8670, 2,  34.8670, 2,   -999.0, 9,    209.9, 2,    25.51, 2,    24.73, 2,     0.00, 2,     1.67, 2,    0.003, 2,    0.001, 2,   2193.1, 2,   2327.0, 2,    864.4, 2,   3.9476,   -999.0, 9, -999.000, 9
316N19871218, SAVE2, 95, 2, 14, 14, 2, 19880117, 0402, -17.9967, -30.9833, 4705,  -999.00,   1509.0,   4.0116,  34.9200, 2,  34.9200, 2,   -999.0, 9,    224.2, 2,    22.28, 2,    22.67, 2,     0.00, 2,     1.51, 2,    0.002, 2,    0.011, 2,   2188.4, 2,   2333.2, 2,    808.6, 2,   3.8905,   -999.0, 9, -999.000, 9
316N19871218, SAVE2, 95, 2, 13, 13, 2, 19880117, 0402, -17.9967, -30.9833, 4705,  -999.00,   1509.1,   4.0166,  34.9207, 2,  34.9210, 2,   -999.0, 9,    223.8, 2,    22.38, 2,    22.57, 2,     0.00, 2,     1.51, 2, -999.000, 9, -999.000, 9,   -999.0, 9,   -999.0, 9,   -999.0, 9,   3.8955,   -999.0, 9, -999.000, 9
316N19871218, SAVE2, 95, 2, 15, 15, 2, 19880117, 0402, -17.9967, -30.9833, 4705,  -999.00,   1624.1,   3.7767,  34.9277, 2,  34.9250, 2,   -999.0, 9,    233.3, 2,    23.16, 2,    21.99, 2,     0.00, 2,     1.48, 2, -999.000, 9, -999.000, 9,   2183.0, 2,   -999.0, 9,   -999.0, 9,   3.6479,   -999.0, 9, -999.000, 9
316N19871218, SAVE2, 95, 2, 16, 16, 2, 19880117, 0402, -17.9967, -30.9833, 4705,  -999.00,   1739.5,   3.5838,  34.9300, 2,  34.9310, 2,   -999.0, 9,    238.1, 2,    23.94, 2,    21.50, 2,     0.00, 2,     1.43, 2,    0.000, 2,    0.003, 2,   2178.0, 2,   2328.4, 2,    778.0, 2,   3.4469,   -999.0, 9, -999.000, 9
316N19871218, SAVE2, 95, 2, 17, 17, 2, 19880117, 0402, -17.9967, -30.9833, 4705,  -999.00,   1904.1,   3.5388,  34.9564, 2,  34.9570, 2,   -999.0, 9,    249.0, 2,    21.40, 2,    20.03, 2,     0.00, 2,     1.33, 2,    0.004, 2,    0.001, 2,   2170.1, 2,   2327.8, 2,    742.2, 2,   3.3872,   -999.0, 9, -999.000, 9
316N19871218, SAVE2, 95, 2, 19, 19, 2, 19880117, 0402, -17.9967, -30.9833, 4705,  -999.00,   2049.9,   3.3799,  34.9530, 2,  34.9530, 2,   -999.0, 9,    251.6, 2,    22.67, 2,    19.94, 2,     0.00, 2,     1.32, 2, -999.000, 9, -999.000, 9,   -999.0, 9,   -999.0, 9,   -999.0, 9,   3.2169,   -999.0, 9, -999.000, 9
316N19871218, SAVE2, 95, 2, 18, 18, 2, 19880117, 0402, -17.9967, -30.9833, 4705,  -999.00,   2050.1,   3.3829,  34.9534, 2,  34.9520, 2,   -999.0, 9,    251.1, 2,    22.67, 2,    19.84, 2,     0.00, 2,     1.32, 2,    0.005, 2,    0.007, 2,   2171.1, 2,   2329.4, 2,    740.5, 2,   3.2199,   -999.0, 9, -999.000, 9
316N19871218, SAVE2, 95, 2, 20, 20, 2, 19880117, 0402, -17.9967, -30.9833, 4705,  -999.00,   2246.4,   3.1810,  34.9413, 2,  34.9410, 2,   -999.0, 9,   -999.0, 9,    25.60, 2,    20.13, 2,     0.00, 2,     1.35, 2,    0.003, 2,    0.012, 2,   2182.2, 2,   2341.2, 2,    743.7, 2,   3.0025,   -999.0, 9, -999.000, 9
316N19871218, SAVE2, 95, 2, 21, 21, 2, 19880117, 0402, -17.9967, -30.9833, 4705,  -999.00,   2498.3,   3.0071,  34.9299, 2,  34.9310, 2,   -999.0, 9,    249.8, 2,    29.02, 2,    20.52, 2,     0.00, 2,     1.39, 2, -999.000, 9, -999.000, 9,   -999.0, 9,   -999.0, 9,   -999.0, 9,   2.8072,   -999.0, 9, -999.000, 9
316N19871218, SAVE2, 95, 2, 22, 22, 2, 19880117, 0402, -17.9967, -30.9833, 4705,  -999.00,   2751.2,   2.8952,  34.9269, 2,  34.9280, 2,   -999.0, 9,    251.1, 2,    30.59, 2,    20.52, 2,     0.00, 2,     1.38, 2,    0.004, 2,    0.001, 2,   2186.2, 2,   2344.7, 2,    748.5, 2,   2.6723,   -999.0, 9, -999.000, 9
316N19871218, SAVE2, 95, 2, 23, 23, 2, 19880117, 0402, -17.9967, -30.9833, 4705,  -999.00,   3002.8,   2.7792,  34.9184, 2,  34.9170, 2,   -999.0, 9,    250.3, 2,    33.52, 2,    20.91, 2,     0.00, 2,     1.40, 2, -999.000, 9, -999.000, 9,   -999.0, 9,   -999.0, 9,   -999.0, 9,   2.5330,   -999.0, 9, -999.000, 9
316N19871218, SAVE2, 95, 2, 24, 24, 2, 19880117, 0402, -17.9967, -30.9833, 4705,  -999.00,   3003.1,   2.7792,  34.9170, 2,  34.9180, 2,   -999.0, 9,    249.8, 2,    33.62, 2,    20.91, 2,     0.00, 2,     1.40, 2,    0.002, 2,    0.001, 2,   2192.1, 2,   2350.6, 2,    752.1, 2,   2.5330,   -999.0, 9, -999.000, 9
316N19871218, SAVE2, 95, 2, 25, 25, 2, 19880117, 0402, -17.9967, -30.9833, 4705,  -999.00,   3259.7,   2.7003,  34.9148, 2,  34.9170, 2,   -999.0, 9,   -999.0, 9,    33.81, 2,    20.72, 2,     0.00, 2,     1.39, 2, -999.000, 9, -999.000, 9,   2191.2, 2,   -999.0, 9,   -999.0, 9,   2.4289,   -999.0, 9, -999.000, 9
316N19871218, SAVE2, 95, 2, 26, 26, 2, 19880117, 0402, -17.9967, -30.9833, 4705,  -999.00,   3503.2,   2.5903,  34.9087, 2,  34.9070, 2,   -999.0, 9,    253.7, 2,    35.67, 2,    20.72, 2,     0.00, 2,     1.39, 2, -999.000, 9,    0.001, 2,   2193.2, 2,   2352.6, 2,    749.0, 2,   2.2953,   -999.0, 9, -999.000, 9
316N19871218, SAVE2, 95, 2, 27, 27, 2, 19880117, 0402, -17.9967, -30.9833, 4705,  -999.00,   3727.1,   2.4034,  34.8926, 2,  34.8920, 2,   -999.0, 9,    252.9, 2,    40.95, 2,    21.30, 2,     0.00, 2,     1.43, 2, -999.000, 9,    0.001, 2,   2195.8, 2,   -999.0, 9,   -999.0, 9,   2.0887,   -999.0, 9, -999.000, 9
316N19871218, SAVE2, 95, 2, 29, 29, 2, 19880117, 0402, -17.9967, -30.9833, 4705,  -999.00,   3956.9,   1.9327,  34.8430, 2,  34.8430, 2,   -999.0, 9,    245.0, 2,    59.52, 2,    23.94, 2,     0.00, 2,     1.61, 2, -999.000, 9, -999.000, 9,   2214.8, 2,   -999.0, 9,   -999.0, 9,   1.6055,   -999.0, 9, -999.000, 9
316N19871218, SAVE2, 95, 2, 28, 28, 2, 19880117, 0402, -17.9967, -30.9833, 4705,  -999.00,   3957.4,   1.9317,  34.8438, 2,  34.8430, 2,   -999.0, 9,    245.0, 2,    59.42, 2,    23.94, 2,     0.00, 2,     1.62, 2, -999.000, 9,    0.001, 2,   -999.0, 9,   -999.0, 9,   -999.0, 9,   1.6044,   -999.0, 9, -999.000, 9
316N19871218, SAVE2, 95, 2, 30, 30, 2, 19880117, 0402, -17.9967, -30.9833, 4705,  -999.00,   4205.9,   1.3651,  34.7831, 2,  34.7830, 2,   -999.0, 9,    234.6, 2,    83.27, 2,    27.27, 2,     0.00, 2,     1.87, 2,    0.001, 2,    0.003, 2,   2237.1, 2,   -999.0, 9,   -999.0, 9,   1.0268,   -999.0, 9, -999.000, 9
316N19871218, SAVE2, 95, 2, 31, 31, 2, 19880117, 0402, -17.9967, -30.9833, 4705,  -999.00,   4351.8,   1.1352,  34.7593, 2,  34.7590, 2,   -999.0, 9,    230.7, 2,    92.65, 2,    28.54, 2,     0.00, 2,     1.95, 2,    0.001, 2,    0.002, 2,   -999.0, 9,   -999.0, 9,   -999.0, 9,   0.7877,   -999.0, 9, -999.000, 9
316N19871218, SAVE2, 95, 2, 33, 33, 2, 19880117, 0402, -17.9967, -30.9833, 4705,  -999.00,   4507.3,   0.8444,  34.7287, 2,  34.7300, 2,   -999.0, 9,    225.9, 2,   103.99, 2,    30.10, 2,     0.00, 2,     2.06, 2, -999.000, 9, -999.000, 9,   -999.0, 9,   -999.0, 9,   -999.0, 9,   0.4888,   -999.0, 9, -999.000, 9
316N19871218, SAVE2, 95, 2, 32, 32, 2, 19880117, 0402, -17.9967, -30.9833, 4705,  -999.00,   4507.7,   0.8444,  34.7286, 2,  34.7290, 2,   -999.0, 9,    226.8, 2,   103.99, 2,    30.10, 2,     0.00, 2,     2.06, 2, -999.000, 9, -999.000, 9,   2255.2, 2,   2367.4, 2,   1038.4, 2,   0.4887,   4528.0, 2,    0.848, 2
316N19871218, SAVE2, 95, 2, 34, 34, 2, 19880117, 0402, -17.9967, -30.9833, 4705,  -999.00,   4603.5,   0.6335,  34.7084, 2,  34.7070, 2,   -999.0, 9,    223.8, 2,   111.91, 2,    31.08, 2,     0.00, 2,     2.14, 2,    0.004, 2,    0.003, 2,   2262.7, 2,   2382.7, 2,    997.3, 2,   0.2740,   -999.0, 9, -999.000, 9
316N19871218, SAVE2, 95, 2, 35, 35, 2, 19880117, 0402, -17.9967, -30.9833, 4705,  -999.00,   4694.6,   0.4117,  34.6873, 2,  34.6870, 2,   -999.0, 9,    222.0, 2,   119.83, 2,    31.96, 2,     0.00, 2,     2.20, 2,    0.024, 2,    0.011, 2,   2271.0, 2,   -999.0, 9,   -999.0, 9,   0.0492,   4676.5, 2,    0.417, 2
316N19871218, SAVE2, 95, 2, 36, 36, 2, 19880117, 0402, -17.9967, -30.9833, 4705,  -999.00,   4785.4,   0.4087,  34.6857, 2,  34.6860, 2,   -999.0, 9,    222.0, 2,   120.71, 2,    32.06, 2,     0.00, 2,     2.21, 2,    0.031, 2,    0.019, 2,   2270.5, 2,   2383.5, 2,   1047.1, 2,   0.0362,   -999.0, 9, -999.000, 9
316N19871218, SAVE2, 95, 4, 13, 13, 2, 19880117, 1033, -18.0033, -31.0017, 4686,  -999.00,      2.5,  27.7445,  37.5220, 2,  37.5230, 2,   -999.0, 9,    197.9, 2,     0.98, 2,     0.10, 2,     0.00, 2,     0.07, 2, -999.000, 9, -999.000, 9,   -999.0, 9,   -999.0, 9,   -999.0, 9,  27.7439,   -999.0, 9, -999.000, 9
316N19871218, SAVE2, 95, 4, 14, 14, 2, 19880117, 1033, -18.0033, -31.0017, 4686,  -999.00,      2.6,  27.7435,  37.5220, 2,  37.5230, 2,   -999.0, 9,    201.8, 2,     0.98, 2,     0.10, 2,     0.00, 2,     0.09, 2,    1.469, 2,    0.755, 2,   2071.2, 2,   2469.6, 2,    265.6, 2,  27.7429,   -999.0, 9, -999.000, 9
316N19871218, SAVE2, 95, 4, 16, 16, 2, 19880117, 1033, -18.0033, -31.0017, 4686,  -999.00,     24.1,  27.7415,  37.5197, 2,  37.5240, 2,   -999.0, 9,    203.6, 2,     0.98, 2,     0.10, 2,     0.00, 2,     0.06, 2,    1.467, 2,    0.751, 2,   -999.0, 9,   -999.0, 9,   -999.0, 9,  27.7358,   -999.0, 9, -999.000, 9
316N19871218, SAVE2, 95, 4, 15, 15, 2, 19880117, 1033, -18.0033, -31.0017, 4686,  -999.00,     24.1,  27.7445,  37.5195, 2,  37.5230, 2,   -999.0, 9,    202.7, 2,     0.98, 2,     0.10, 2,     0.00, 2,     0.07, 2, -999.000, 9, -999.000, 9,   2072.9, 2,   2469.8, 2,    267.3, 2,  27.7388,   -999.0, 9, -999.000, 9
316N19871218, SAVE2, 95, 4, 17, 17, 2, 19880117, 1033, -18.0033, -31.0017, 4686,  -999.00,     44.9,  27.2164,  37.4530, 2,  37.4530, 2,   -999.0, 9,    210.1, 2,     0.88, 2,     0.10, 2,     0.00, 2,     0.05, 2,    1.509, 2,    0.774, 2,   2066.1, 2,   2468.3, 2,    260.6, 2,  27.2060,   -999.0, 9, -999.000, 9
316N19871218, SAVE2, 95, 4, 18, 18, 2, 19880117, 1033, -18.0033, -31.0017, 4686,  -999.00,     60.0,  26.0062,  37.2950, 2,  37.2970, 2,   -999.0, 9,    219.6, 2,     0.88, 2,     0.10, 2,     0.00, 2,     0.07, 2,    1.556, 2,    0.791, 2,   2065.5, 2,   2456.3, 2,    269.2, 2,  25.9928,   -999.0, 9, -999.000, 9
316N19871218, SAVE2, 95, 4, 20, 20, 2, 19880117, 1033, -18.0033, -31.0017, 4686,  -999.00,    104.3,  24.1180,  37.0465, 2,  37.0540, 2,   -999.0, 9,    214.3, 2,     0.88, 2,     0.10, 2,     0.00, 2,     0.14, 2,    1.639, 2,    0.840, 2,   2077.8, 2,   2450.9, 2,    287.1, 2,  24.0958,   -999.0, 9, -999.000, 9
316N19871218, SAVE2, 95, 4, 19, 19, 2, 19880117, 1033, -18.0033, -31.0017, 4686,  -999.00,    104.3,  24.1530,  37.0574, 2,  37.0760, 2,   -999.0, 9,    213.9, 2,     0.88, 2,     0.10, 2,     0.00, 2,     0.14, 2, -999.000, 9, -999.000, 9,   -999.0, 9,   -999.0, 9,   -999.0, 9,  24.1308,   -999.0, 9, -999.000, 9
316N19871218, SAVE2, 95, 4, 21, 21, 2, 19880117, 1033, -18.0033, -31.0017, 4686,  -999.00,    154.3,  21.8839,  36.6515, 2,  36.6530, 2,   -999.0, 9,    207.3, 2,     0.88, 2,     0.10, 2,     0.05, 2,     0.18, 2, -999.000, 9, -999.000, 9,   -999.0, 9,   -999.0, 9,   -999.0, 9,  21.8533,   -999.0, 9, -999.000, 9
316N19871218, SAVE2, 95, 4, 22, 22, 2, 19880117, 1033, -18.0033, -31.0017, 4686,  -999.00,    154.4,  21.8609,  36.6448, 2,  36.6420, 2,   -999.0, 9,    208.6, 2,     0.88, 2,     0.10, 2,     0.06, 2,     0.18, 2,    1.725, 2,    0.856, 2,   2082.3, 2,   2422.8, 2,    319.6, 2,  21.8303,   -999.0, 9, -999.000, 9
316N19871218, SAVE2, 95, 4, 24, 24, 2, 19880117, 1033, -18.0033, -31.0017, 4686,  -999.00,    204.8,  18.1371,  35.9556, 2,  35.9510, 2,   -999.0, 9,    198.9, 2,     1.76, 2,     2.64, 2,     0.02, 2,     0.40, 2,    1.775, 2,    0.883, 2,   2093.2, 2,   2377.5, 2,    392.6, 2,  18.1015,   -999.0, 9, -999.000, 9
316N19871218, SAVE2, 95, 4, 23, 23, 2, 19880117, 1033, -18.0033, -31.0017, 4686,  -999.00,    204.9,  18.1531,  35.9608, 2,  35.9620, 2,   -999.0, 9,    198.9, 2,     1.76, 2,     2.54, 2,     0.02, 2,     0.39, 2, -999.000, 9, -999.000, 9,   -999.0, 9,   -999.0, 9,   -999.0, 9,  18.1175,   -999.0, 9, -999.000, 9
316N19871218, SAVE2, 95, 4, 26, 26, 2, 19880117, 1033, -18.0033, -31.0017, 4686,  -999.00,    254.0,  15.4015,  35.4976, 2,  35.4940, 2,   -999.0, 9,    201.5, 2,     2.44, 2,     6.15, 2,     0.01, 2,     0.59, 2,    1.799, 2, -999.000, 9,   2098.9, 2,   2351.1, 2,    446.0, 2,  15.3621,   -999.0, 9, -999.000, 9
316N19871218, SAVE2, 95, 4, 25, 25, 2, 19880117, 1033, -18.0033, -31.0017, 4686,  -999.00,    254.0,  15.3915,  35.4945, 2,  35.4980, 2,   -999.0, 9,    201.5, 2,     2.44, 2,     6.06, 2,     0.01, 2,     0.58, 2, -999.000, 9, -999.000, 9,   -999.0, 9,   -999.0, 9,   -999.0, 9,  15.3521,   -999.0, 9, -999.000, 9
316N19871218, SAVE2, 95, 4, 27, 27, 2, 19880117, 1033, -18.0033, -31.0017, 4686,  -999.00,    304.3,  13.6039,  35.2427, 2,  35.2430, 2,   -999.0, 9,    194.5, 2,     3.81, 2,    10.36, 2,     0.01, 2,     0.81, 2, -999.000, 9, -999.000, 9,   -999.0, 9,   -999.0, 9,   -999.0, 9,  13.5605,   -999.0, 9, -999.000, 9
316N19871218, SAVE2, 95, 4, 28, 28, 2, 19880117, 1033, -18.0033, -31.0017, 4686,  -999.00,    304.4,  13.5999,  35.2405, 2,  35.2420, 2,   -999.0, 9,    194.9, 2,     3.91, 2,    10.36, 2,     0.01, 2,     0.81, 2,    1.613, 2,    0.767, 2,   2113.7, 2,   2334.7, 2,    516.6, 2,  13.5565,   -999.0, 9, -999.000, 9
316N19871218, SAVE2, 95, 4, 29, 29, 2, 19880117, 1033, -18.0033, -31.0017, 4686,  -999.00,    355.7,  12.2352,  35.0785, 2,  35.0760, 2,   -999.0, 9,    187.1, 2,     5.57, 2,    14.17, 2,     0.00, 2,     1.04, 2,    1.312, 2,    0.628, 2,   -999.0, 9,   -999.0, 9,   -999.0, 9,  12.1879,   -999.0, 9, -999.000, 9
316N19871218, SAVE2, 95, 4, 31, 31, 2, 19880117, 1033, -18.0033, -31.0017, 4686,  -999.00,    404.8,  10.6027,  34.8883, 2,  34.8920, 2,   -999.0, 9,    175.7, 2,     8.70, 2,    19.06, 2,     0.00, 2,     1.33, 2, -999.000, 9, -999.000, 9,   -999.0, 9,   -999.0, 9,   -999.0, 9,  10.5536,   -999.0, 9, -999.000, 9
316N19871218, SAVE2, 95, 4, 30, 30, 2, 19880117, 1033, -18.0033, -31.0017, 4686,  -999.00,    404.8,  10.6747,  34.8993, 2,  34.9000, 2,   -999.0, 9,    177.0, 2,     8.31, 2,    18.86, 2,     0.00, 2,     1.31, 2,    0.918, 2,    0.447, 2,   2145.7, 2,   2313.6, 2,    687.7, 2,  10.6253,   -999.0, 9, -999.000, 9
316N19871218, SAVE2, 95, 4, 32, 32, 2, 19880117, 1033, -18.0033, -31.0017, 4686,  -999.00,    425.9,   9.9710,  34.8271, 2,  34.8450, 2,   -999.0, 9,    173.1, 2,     9.48, 2,    20.43, 2,     0.00, 2,     1.41, 2,    0.794, 2,    0.391, 2,   -999.0, 9,   -999.0, 9,   -999.0, 9,   9.9212,   -999.0, 9, -999.000, 9
316N19871218, SAVE2, 95, 4, 33, 33, 2, 19880117, 1033, -18.0033, -31.0017, 4686,  -999.00,    466.3,   8.9773,  34.7266, 2,  34.7360, 2,   -999.0, 9,    170.5, 2,    12.02, 2,    23.07, 2,     0.00, 2,     1.57, 2,    0.587, 2,    0.300, 2,   2166.0, 2,   2310.4, 2,    794.0, 2,   8.9261,   -999.0, 9, -999.000, 9
316N19871218, SAVE2, 95, 4, 34, 34, 2, 19880117, 1033, -18.0033, -31.0017, 4686,  -999.00,    501.0,   7.9757,  34.6311, 2,  34.6280, 2,   -999.0, 9,    168.7, 2,    15.15, 2,    26.00, 2,     0.00, 2,     1.75, 2,    0.426, 2,    0.216, 2,   -999.0, 9,   -999.0, 9,   -999.0, 9,   7.9244,   -999.0, 9, -999.000, 9
316N19871218, SAVE2, 95, 4, 35, 35, 2, 19880117, 1033, -18.0033, -31.0017, 4686,  -999.00,    546.1,   6.9411,  34.5331, 2,  34.5340, 2,   -999.0, 9,    181.3, 2,    17.30, 2,    27.08, 2,     0.00, 2,     1.83, 2,    0.417, 2,    0.216, 2,   -999.0, 9,   -999.0, 9,   -999.0, 9,   6.8893,   -999.0, 9,    6.933, 2
316N19871218, SAVE2, 95, 4, 36, 36, 2, 19880117, 1033, -18.0033, -31.0017, 4686,  -999.00,    600.8,   5.8067,  34.4424, 2,  34.4410, 2,   -999.0, 9,    187.8, 2,    21.31, 2,    29.13, 2,     0.00, 2,     1.96, 2,    0.325, 2,    0.179, 2,   -999.0, 9,   -999.0, 9,   -999.0, 9,   5.7547,   -999.0, 9, -999.000, 9