BOTTLE,20110114CCHDOSIODM
EXPOCODE,SECT_ID,STNNBR,CASTNO,SAMPNO,BTLNBR,BTLNBR_FLAG_W,DATE,TIME,LATITUDE,LONGITUDE,DEPTH,CTDRAW,CTDPRS,CTDTMP,CTDSAL,CTDSAL_FLAG_W,SALNTY,SALNTY_FLAG_W,CTDOXY,CTDOXY_FLAG_W,OXYGEN,OXYGEN_FLAG_W,SILCAT,SILCAT_FLAG_W,NITRAT,NITRAT_FLAG_W,NITRIT,NITRIT_FLAG_W,PHSPHT,PHSPHT_FLAG_W,CFC-11,CFC-11_FLAG_W,CFC-12,CFC-12_FLAG_W,TCARBN,TCARBN_FLAG_W,ALKALI,ALKALI_FLAG_W,PCO2,PCO2_FLAG_W,THETA,REVPRS,REVPRS_FLAG_W,REVTMP,REVTMP_FLAG_W
,,,,,,,,,,,METERS,DBAR,DBAR,ITS-68,PSS-78,,PSS-78,,UMOL/KG,,UMOL/KG,,UMOL/KG,,UMOL/KG,,UMOL/KG,,UMOL/KG,,PMOL/KG,,PMOL/KG,,UMOL/KG,,UMOL/KG,,UATM,,DEG C,DBAR,,ITS-68,
316N19871218, SAVE2, 101, 1, 1, 1, 2, 19880120, 1341, -18.6917, -36.7433, 3752,  -999.00,      0.5,  28.9043,  37.3996, 2,  37.4040, 2,   -999.0, 9,    202.4, 2,     0.98, 2,     0.10, 2,     0.00, 2,     0.03, 2, -999.000, 9, -999.000, 9,   2054.3, 2,   2467.7, 2,    248.3, 2,  28.9041,   -999.0, 9, -999.000, 9
316N19871218, SAVE2, 101, 1, 2, 2, 2, 19880120, 1341, -18.6917, -36.7433, 3752,  -999.00,     42.1,  28.2316,  37.4124, 2,  37.4190, 2,   -999.0, 9,    196.7, 2,     0.98, 2,     0.10, 2,     0.00, 2,     0.05, 2, -999.000, 9, -999.000, 9,   2059.9, 2,   -999.0, 9,   -999.0, 9,  28.2216,   -999.0, 9, -999.000, 9
316N19871218, SAVE2, 101, 1, 3, 3, 2, 19880120, 1341, -18.6917, -36.7433, 3752,  -999.00,     71.8,  27.3927,  37.3738, 2,  37.3800, 2,   -999.0, 9,    203.2, 2,     0.98, 2,     0.10, 2,     0.00, 2,     0.05, 2, -999.000, 9, -999.000, 9,   2059.0, 2,   2463.8, 2,    256.2, 2,  27.3759,   -999.0, 9, -999.000, 9
316N19871218, SAVE2, 101, 1, 4, 4, 2, 19880120, 1341, -18.6917, -36.7433, 3752,  -999.00,    136.4,  24.5486,  37.1877, 2,  37.1850, 2,   -999.0, 9,    198.7, 2,     0.88, 2,     0.10, 2,     0.20, 2,     0.16, 2, -999.000, 9, -999.000, 9,   2085.0, 2,   -999.0, 9,   -999.0, 9,  24.5191,   -999.0, 9, -999.000, 9
316N19871218, SAVE2, 101, 1, 5, 5, 2, 19880120, 1341, -18.6917, -36.7433, 3752,  -999.00,    202.2,  21.4327,  36.5708, 2,  36.5940, 2,   -999.0, 9,    195.1, 2,     0.98, 2,     0.88, 2,     0.03, 2,     0.27, 2, -999.000, 9, -999.000, 9,   2093.8, 2,   2415.3, 2,    345.7, 2,  21.3931,   -999.0, 9, -999.000, 9
316N19871218, SAVE2, 101, 1, 6, 6, 2, 19880120, 1341, -18.6917, -36.7433, 3752,  -999.00,    238.5,  19.2074,  36.1595, 2,  36.1090, 2,   -999.0, 9,    191.6, 2,     1.66, 2,     3.12, 2,     0.03, 2,     0.42, 2, -999.000, 9, -999.000, 9,   -999.0, 9,   -999.0, 9,   -999.0, 9,  19.1642,   -999.0, 9, -999.000, 9
316N19871218, SAVE2, 101, 1, 7, 7, 2, 19880120, 1341, -18.6917, -36.7433, 3752,  -999.00,    263.7,  17.0701,  35.7809, 2,  35.7660, 2,   -999.0, 9,    198.5, 2,     1.86, 2,     4.30, 2,     0.02, 2,     0.48, 2, -999.000, 9, -999.000, 9,   2092.7, 2,   2361.0, 2,    417.1, 2,  17.0262,   -999.0, 9, -999.000, 9
316N19871218, SAVE2, 101, 1, 8, 8, 2, 19880120, 1341, -18.6917, -36.7433, 3752,  -999.00,    306.7,  15.3092,  35.4983, 2,  35.4960, 2,   -999.0, 9,    195.4, 2,     2.93, 2,     7.03, 2,     0.01, 2,     0.63, 2, -999.000, 9, -999.000, 9,   2102.6, 2,   -999.0, 9,   -999.0, 9,  15.2618,   -999.0, 9, -999.000, 9
316N19871218, SAVE2, 101, 1, 9, 9, 2, 19880120, 1341, -18.6917, -36.7433, 3752,  -999.00,    353.0,  13.6006,  35.2648, 2,  35.2640, 2,   -999.0, 9,    200.1, 2,     3.52, 2,     9.67, 2,     0.01, 2,     0.77, 2, -999.000, 9, -999.000, 9,   2108.9, 2,   2336.7, 2,    499.0, 2,  13.5502,   -999.0, 9, -999.000, 9
316N19871218, SAVE2, 101, 1, 10, 10, 2, 19880120, 1341, -18.6917, -36.7433, 3752,  -999.00,    426.9,  11.3041,  34.9765, 2,  34.9670, 2,   -999.0, 9,    189.6, 2,     6.55, 2,    15.93, 2,     0.00, 2,     1.15, 2, -999.000, 9, -999.000, 9,   2133.4, 2,   -999.0, 9,   -999.0, 9,  11.2500,   -999.0, 9, -999.000, 9
316N19871218, SAVE2, 101, 1, 11, 11, 2, 19880120, 1341, -18.6917, -36.7433, 3752,  -999.00,    475.6,   9.8530,  34.8140, 2,  34.8090, 2,   -999.0, 9,    185.7, 2,     9.48, 2,    19.64, 2,     0.00, 2,     1.37, 2, -999.000, 9, -999.000, 9,   2153.0, 2,   2316.5, 2,    707.0, 2,   9.7977,   -999.0, 9, -999.000, 9
316N19871218, SAVE2, 101, 1, 12, 12, 2, 19880120, 1341, -18.6917, -36.7433, 3752,  -999.00,    575.8,   6.9517,  34.5282, 2,  34.5320, 2,   -999.0, 9,    183.9, 2,    16.72, 2,    26.39, 2,     0.00, 2,     1.80, 2, -999.000, 9, -999.000, 9,   2177.5, 2,   -999.0, 9,   -999.0, 9,   6.8970,   -999.0, 9, -999.000, 9
316N19871218, SAVE2, 101, 1, 13, 13, 2, 19880120, 1341, -18.6917, -36.7433, 3752,  -999.00,    620.2,   5.9750,  34.4478, 2,  34.4560, 2,   -999.0, 9,    190.4, 2,    19.84, 2,    28.06, 2,     0.00, 2,     1.91, 2, -999.000, 9, -999.000, 9,   -999.0, 9,   -999.0, 9,   -999.0, 9,   5.9204,   -999.0, 9, -999.000, 9
316N19871218, SAVE2, 101, 1, 14, 14, 2, 19880120, 1341, -18.6917, -36.7433, 3752,  -999.00,    685.3,   5.0111,  34.3893, 2,  34.3880, 2,   -999.0, 9,    196.5, 2,    24.83, 2,    29.62, 2,     0.00, 2,     2.02, 2,    0.299, 2,    0.154, 2,   2194.0, 2,   2311.3, 2,    948.7, 2,   4.9557,   -999.0, 9, -999.000, 9
316N19871218, SAVE2, 101, 1, 15, 15, 2, 19880120, 1341, -18.6917, -36.7433, 3752,  -999.00,    781.5,   4.1808,  34.3684, 2,  34.3680, 2,   -999.0, 9,    200.0, 2,    31.09, 2,    30.80, 2,     0.00, 2,     2.11, 2,    0.221, 2,    0.114, 2,   2201.3, 2,   -999.0, 9,   -999.0, 9,   4.1220,   -999.0, 9, -999.000, 9
316N19871218, SAVE2, 101, 1, 16, 16, 2, 19880120, 1341, -18.6917, -36.7433, 3752,  -999.00,    860.6,   3.6957,  34.3985, 2,  34.3980, 2,   -999.0, 9,    195.6, 2,    38.13, 2,    31.68, 2,     0.00, 2,     2.16, 2,    0.116, 2,    0.066, 2,   2214.0, 2,   2322.6, 2,   1018.4, 2,   3.6337,   -999.0, 9, -999.000, 9
316N19871218, SAVE2, 101, 1, 17, 17, 2, 19880120, 1341, -18.6917, -36.7433, 3752,  -999.00,    950.1,   3.4820,  34.4449, 2,  34.4440, 2,   -999.0, 9,    193.0, 2,    42.13, 2,    31.77, 2,     0.00, 2,     2.18, 2, -999.000, 9, -999.000, 9,   2218.2, 2,   -999.0, 9,   -999.0, 9,   3.4144,   -999.0, 9, -999.000, 9
316N19871218, SAVE2, 101, 1, 18, 18, 2, 19880120, 1341, -18.6917, -36.7433, 3752,  -999.00,   1015.7,   3.4415,  34.4896, 2,  34.4890, 2,   -999.0, 9,    189.9, 2,    43.11, 2,    31.58, 2,     0.00, 2,     2.15, 2, -999.000, 9, -999.000, 9,   2221.2, 2,   -999.0, 9,   -999.0, 9,   3.3689,   -999.0, 9, -999.000, 9
316N19871218, SAVE2, 101, 1, 19, 19, 2, 19880120, 1341, -18.6917, -36.7433, 3752,  -999.00,   1139.6,   3.5622,  34.6031, 2,  34.6050, 2,   -999.0, 9,    189.5, 2,    40.66, 2,    30.11, 2,     0.00, 2,     2.05, 2, -999.000, 9, -999.000, 9,   2216.3, 2,   -999.0, 9,   -999.0, 9,   3.4784,   -999.0, 9, -999.000, 9
316N19871218, SAVE2, 101, 1, 20, 20, 2, 19880120, 1341, -18.6917, -36.7433, 3752,  -999.00,   1219.3,   3.7189,  34.6867, 2,  34.6850, 2,   -999.0, 9,    193.0, 2,    36.65, 2,    28.83, 2,     0.00, 2,     1.95, 2, -999.000, 9, -999.000, 9,   -999.0, 9,   -999.0, 9,   -999.0, 9,   3.6269,   -999.0, 9, -999.000, 9
316N19871218, SAVE2, 101, 1, 21, 21, 2, 19880120, 1341, -18.6917, -36.7433, 3752,  -999.00,   1349.2,   4.2280,  34.8583, 2,  34.8610, 2,   -999.0, 9,    202.1, 2,    24.43, 2,    25.21, 2,     0.00, 2,     1.70, 2,    0.004, 2,    0.003, 2,   2198.6, 2,   2329.4, 2,    883.6, 2,   4.1193,   -999.0, 9, -999.000, 9
316N19871218, SAVE2, 101, 1, 22, 22, 2, 19880120, 1341, -18.6917, -36.7433, 3752,  -999.00,   1479.4,   4.1175,  34.9078, 2,  34.9080, 2,   -999.0, 9,    219.0, 2,    21.99, 2,    23.06, 2,     0.00, 2,     1.54, 2, -999.000, 9, -999.000, 9,   -999.0, 9,   -999.0, 9,   -999.0, 9,   3.9980,   -999.0, 9, -999.000, 9
316N19871218, SAVE2, 101, 1, 23, 23, 2, 19880120, 1341, -18.6917, -36.7433, 3752,  -999.00,   1598.4,   4.0181,  34.9481, 2,  34.9470, 2,   -999.0, 9,    232.9, 2,    19.74, 2,    21.30, 2,     0.00, 2,     1.42, 2,    0.014, 2,    0.013, 2,   2181.7, 2,   -999.0, 9,   -999.0, 9,   3.8887,   -999.0, 9, -999.000, 9
316N19871218, SAVE2, 101, 1, 24, 24, 2, 19880120, 1341, -18.6917, -36.7433, 3752,  -999.00,   1767.9,   3.7605,  34.9672, 2,  34.9670, 2,   -999.0, 9,    247.2, 2,    18.96, 2,    19.84, 2,     0.00, 2,     1.31, 2,    0.016, 2,    0.014, 2,   2170.2, 2,   -999.0, 9,   -999.0, 9,   3.6185,   -999.0, 9, -999.000, 9
316N19871218, SAVE2, 101, 1, 25, 25, 2, 19880120, 1341, -18.6917, -36.7433, 3752,  -999.00,   1959.6,   3.4590,  34.9595, 2,  34.9600, 2,   -999.0, 9,    251.6, 2,    21.30, 2,    19.45, 2,     0.00, 2,     1.30, 2,    0.015, 2,    0.012, 2,   2176.1, 2,   -999.0, 9,   -999.0, 9,   3.3033,   -999.0, 9, -999.000, 9
316N19871218, SAVE2, 101, 1, 26, 26, 2, 19880120, 1341, -18.6917, -36.7433, 3752,  -999.00,   2197.1,   3.2161,  34.9505, 2,  34.9520, 2,   -999.0, 9,    253.7, 2,    23.94, 2,    19.54, 2,     0.00, 2,     1.30, 2,    0.009, 2,    0.005, 2,   2173.1, 2,   2330.6, 2,    744.9, 2,   3.0417,   -999.0, 9, -999.000, 9
316N19871218, SAVE2, 101, 1, 27, 27, 2, 19880120, 1341, -18.6917, -36.7433, 3752,  -999.00,   2450.2,   2.9232,  34.9328, 2,  34.9330, 2,   -999.0, 9,    252.4, 2,    28.63, 2,    19.94, 2,     0.00, 2,     1.34, 2,    0.002, 2,    0.004, 2,   -999.0, 9,   -999.0, 9,   -999.0, 9,   2.7295,   -999.0, 9, -999.000, 9
316N19871218, SAVE2, 101, 1, 28, 28, 2, 19880120, 1341, -18.6917, -36.7433, 3752,  -999.00,   2591.7,   2.8664,  34.9309, 2,  34.9310, 2,   -999.0, 9,    252.9, 2,    29.71, 2,    20.03, 2,     0.00, 2,     1.34, 2, -999.000, 9, -999.000, 9,   2174.9, 2,   -999.0, 9,   -999.0, 9,   2.6600,   -999.0, 9, -999.000, 9
316N19871218, SAVE2, 101, 1, 29, 29, 2, 19880120, 1341, -18.6917, -36.7433, 3752,  -999.00,   2728.8,   2.7891,  34.9242, 2,  34.9240, 2,   -999.0, 9,    252.9, 2,    31.08, 2,    20.23, 2,     0.00, 2,     1.35, 2,    0.006, 2,    0.002, 2,   -999.0, 9,   -999.0, 9,   -999.0, 9,   2.5706,   -999.0, 9, -999.000, 9
316N19871218, SAVE2, 101, 1, 30, 30, 2, 19880120, 1341, -18.6917, -36.7433, 3752,  -999.00,   2896.0,   2.7162,  34.9209, 2,  34.9210, 2,   -999.0, 9,    253.3, 2,    31.96, 2,    20.13, 2,     0.00, 2,     1.35, 2,    0.008, 2, -999.000, 9,   2178.1, 2,   2336.8, 2,    743.5, 2,   2.4823,   -999.0, 9, -999.000, 9
316N19871218, SAVE2, 101, 1, 31, 31, 2, 19880120, 1341, -18.6917, -36.7433, 3752,  -999.00,   3048.3,   2.6050,  34.9147, 2,  34.9140, 2,   -999.0, 9,    254.6, 2,    33.42, 2,    20.23, 2,     0.00, 2,     1.35, 2,    0.008, 2,    0.009, 2,   2179.0, 2,   -999.0, 9,   -999.0, 9,   2.3580,   -999.0, 9, -999.000, 9
316N19871218, SAVE2, 101, 1, 32, 32, 2, 19880120, 1341, -18.6917, -36.7433, 3752,  -999.00,   3200.6,   2.4863,  34.9039, 2,  34.9050, 2,   -999.0, 9,    254.2, 2,    33.42, 2,    20.23, 2,     0.00, 2,     1.36, 2,    0.003, 2,    0.005, 2,   2182.4, 2,   -999.0, 9,   -999.0, 9,   2.2261,   3210.5, 2,    2.481, 2
316N19871218, SAVE2, 101, 1, 33, 33, 2, 19880120, 1341, -18.6917, -36.7433, 3752,  -999.00,   3352.4,   2.2699,  34.8850, 2,  34.8840, 2,   -999.0, 9,    252.0, 2,    44.08, 2,    21.50, 2,     0.00, 2,     1.45, 2,    0.008, 2,    0.003, 2,   2191.9, 2,   -999.0, 9,   -999.0, 9,   1.9990,   -999.0, 9, -999.000, 9
316N19871218, SAVE2, 101, 1, 34, 34, 2, 19880120, 1341, -18.6917, -36.7433, 3752,  -999.00,   3580.9,   1.7800,  34.8337, 2,  34.8330, 2,   -999.0, 9,    243.3, 2,    63.43, 2,    24.24, 2,     0.00, 2,     1.64, 2,    0.005, 2,    0.002, 2,   2213.0, 2,   2358.1, 2,    826.3, 2,   1.4975,   -999.0, 9, -999.000, 9
316N19871218, SAVE2, 101, 1, 35, 35, 2, 19880120, 1341, -18.6917, -36.7433, 3752,  -999.00,   3712.3,   1.2683,  34.7800, 2,  34.7800, 2,   -999.0, 9,    234.2, 2,    83.86, 2,    27.17, 2,     0.00, 2,     1.85, 2, -999.000, 9, -999.000, 9,   2230.8, 2,   -999.0, 9,   -999.0, 9,   0.9858,   3697.4, 2,    1.281, 2
316N19871218, SAVE2, 101, 1, 36, 36, 2, 19880120, 1341, -18.6917, -36.7433, 3752,  -999.00,   3808.7,   1.1714,  34.7695, 2,  34.7690, 2,   -999.0, 9,    232.4, 2,    88.26, 2,    27.66, 2,     0.00, 2,     1.90, 2,    0.005, 2,    0.002, 2,   2241.8, 2,   2374.0, 2,    911.5, 2,   0.8814,   -999.0, 9, -999.000, 9