BOTTLE,20110114CCHDOSIODM
EXPOCODE,SECT_ID,STNNBR,CASTNO,SAMPNO,BTLNBR,BTLNBR_FLAG_W,DATE,TIME,LATITUDE,LONGITUDE,DEPTH,CTDRAW,CTDPRS,CTDTMP,CTDSAL,CTDSAL_FLAG_W,SALNTY,SALNTY_FLAG_W,CTDOXY,CTDOXY_FLAG_W,OXYGEN,OXYGEN_FLAG_W,SILCAT,SILCAT_FLAG_W,NITRAT,NITRAT_FLAG_W,NITRIT,NITRIT_FLAG_W,PHSPHT,PHSPHT_FLAG_W,CFC-11,CFC-11_FLAG_W,CFC-12,CFC-12_FLAG_W,TCARBN,TCARBN_FLAG_W,ALKALI,ALKALI_FLAG_W,PCO2,PCO2_FLAG_W,THETA,REVPRS,REVPRS_FLAG_W,REVTMP,REVTMP_FLAG_W
,,,,,,,,,,,METERS,DBAR,DBAR,ITS-68,PSS-78,,PSS-78,,UMOL/KG,,UMOL/KG,,UMOL/KG,,UMOL/KG,,UMOL/KG,,UMOL/KG,,PMOL/KG,,PMOL/KG,,UMOL/KG,,UMOL/KG,,UATM,,DEG C,DBAR,,ITS-68,
316N19871218, SAVE2, 61, 1, 1, 1, 2, 19871229, 1804, -10.5283, 11.1333, 3749,  -999.00,      0.9,  26.8901,  36.0071, 2,  36.0100, 2,   -999.0, 9,    204.6, 2,     1.07, 2,     0.20, 2,     0.00, 2,     0.17, 2, -999.000, 9, -999.000, 9,   2031.7, 2,   2379.9, 2,    292.2, 2,  26.8899,   -999.0, 9, -999.000, 9
316N19871218, SAVE2, 61, 1, 2, 2, 2, 19871229, 1804, -10.5283, 11.1333, 3749,  -999.00,     17.1,  26.8535,  36.0087, 2,  36.0080, 2,   -999.0, 9,    204.6, 2,     1.07, 2,     0.20, 2,     0.00, 2,     0.17, 2,    1.510, 2,    0.768, 2,   2035.2, 2,   2389.6, 2,    286.7, 2,  26.8496,   -999.0, 9, -999.000, 9
316N19871218, SAVE2, 61, 1, 3, 3, 2, 19871229, 1804, -10.5283, 11.1333, 3749,  -999.00,     29.6,  20.8218,  35.7614, 2,  35.7550, 2,   -999.0, 9,    268.4, 2,     0.98, 2,     0.29, 2,     0.03, 2,     0.32, 2,    1.213, 2,    0.589, 2,   -999.0, 9,   -999.0, 9,   -999.0, 9,  20.8161,   -999.0, 9, -999.000, 9
316N19871218, SAVE2, 61, 1, 4, 4, 2, 19871229, 1804, -10.5283, 11.1333, 3749,  -999.00,     37.6,  18.1110,  35.7670, 2,  35.7340, 2,   -999.0, 9,    154.6, 2,     3.52, 2,    11.04, 2,     0.55, 2,     0.94, 2,    1.109, 2,    0.550, 2,   2137.0, 2,   2361.6, 2,    524.8, 2,  18.1045,   -999.0, 9, -999.000, 9
316N19871218, SAVE2, 61, 1, 5, 5, 2, 19871229, 1804, -10.5283, 11.1333, 3749,  -999.00,     48.6,  16.4897,  35.6701, 2,  35.6700, 2,   -999.0, 9,     78.3, 2,     6.45, 2,    20.22, 2,     0.17, 2,     1.46, 2,    1.039, 2,    0.506, 2,   -999.0, 9,   -999.0, 9,   -999.0, 9,  16.4819,   -999.0, 9, -999.000, 9
316N19871218, SAVE2, 61, 1, 6, 6, 2, 19871229, 1804, -10.5283, 11.1333, 3749,  -999.00,     91.7,  15.2071,  35.5479, 2,  35.5450, 2,   -999.0, 9,     54.8, 2,     8.89, 2,    24.91, 2,     0.02, 2,     1.67, 2,    0.814, 2,    0.395, 2,   2205.9, 2,   2330.5, 2,    932.6, 2,  15.1931,   -999.0, 9, -999.000, 9
316N19871218, SAVE2, 61, 1, 7, 7, 2, 19871229, 1804, -10.5283, 11.1333, 3749,  -999.00,    166.8,  13.8448,  35.3830, 2,  35.3800, 2,   -999.0, 9,     57.4, 2,     9.96, 2,    26.77, 2,     0.01, 2,     1.75, 2,    0.586, 2,    0.299, 2,   2213.6, 2,   2328.3, 2,    992.3, 2,  13.8208,   -999.0, 9, -999.000, 9
316N19871218, SAVE2, 61, 1, 8, 8, 2, 19871229, 1804, -10.5283, 11.1333, 3749,  -999.00,    197.3,  13.2964,  35.3161, 2,  35.3190, 2,   -999.0, 9,     55.7, 2,    10.65, 2,    27.65, 2,     0.01, 2,     1.80, 2,    0.494, 2,    0.249, 2,   -999.0, 9,   -999.0, 9,   -999.0, 9,  13.2687,   -999.0, 9, -999.000, 9
316N19871218, SAVE2, 61, 1, 9, 9, 2, 19871229, 1804, -10.5283, 11.1333, 3749,  -999.00,    251.3,  12.3612,  35.2031, 2,  35.2000, 2,   -999.0, 9,     50.0, 2,    12.02, 2,    29.70, 2,     0.01, 2,     1.90, 2,    0.357, 2,    0.187, 2,   -999.0, 9,   -999.0, 9,   -999.0, 9,  12.3276,   -999.0, 9, -999.000, 9
316N19871218, SAVE2, 61, 1, 10, 10, 2, 19871229, 1804, -10.5283, 11.1333, 3749,  -999.00,    326.2,  11.1276,  35.0583, 2,  35.0570, 2,   -999.0, 9,     47.0, 2,    13.78, 2,    32.15, 2,     0.01, 2,     2.03, 2,    0.206, 2,    0.104, 2,   -999.0, 9,   -999.0, 9,   -999.0, 9,  11.0868,   -999.0, 9, -999.000, 9
316N19871218, SAVE2, 61, 1, 11, 11, 2, 19871229, 1804, -10.5283, 11.1333, 3749,  -999.00,    389.7,   9.8243,  34.9142, 2,  34.9170, 2,   -999.0, 9,     20.9, 2,    17.59, 2,    37.14, 2,     0.01, 2,     2.36, 2,    0.084, 2,    0.041, 2,   2265.6, 2,   2313.8, 2,   1581.9, 2,   9.7792,   -999.0, 9, -999.000, 9
316N19871218, SAVE2, 61, 1, 12, 12, 2, 19871229, 1804, -10.5283, 11.1333, 3749,  -999.00,    424.8,   8.7777,  34.8100, 2,  34.8160, 2,   -999.0, 9,     21.3, 2,    19.84, 2,    39.19, 2,     0.01, 2,     2.50, 2,    0.043, 2,    0.021, 2,   2268.6, 2,   2306.7, 2,   1701.1, 2,   8.7317,   -999.0, 9, -999.000, 9
316N19871218, SAVE2, 61, 1, 13, 13, 2, 19871229, 1804, -10.5283, 11.1333, 3749,  -999.00,    490.1,   7.7411,  34.7078, 2,  34.7140, 2,   -999.0, 9,     29.1, 2,    22.68, 2,    41.05, 2,     0.00, 2,     2.66, 2,    0.020, 2,    0.008, 2,   -999.0, 9,   -999.0, 9,   -999.0, 9,   7.6917,   -999.0, 9, -999.000, 9
316N19871218, SAVE2, 61, 1, 14, 14, 2, 19871229, 1804, -10.5283, 11.1333, 3749,  -999.00,    535.1,   7.1013,  34.6572, 2,  34.6550, 2,   -999.0, 9,     38.3, 2,    24.44, 2,    41.64, 2,     0.00, 2,     2.73, 2,    0.015, 2,    0.005, 2,   -999.0, 9,   -999.0, 9,   -999.0, 9,   7.0498,   -999.0, 9, -999.000, 9
316N19871218, SAVE2, 61, 1, 15, 15, 2, 19871229, 1804, -10.5283, 11.1333, 3749,  -999.00,    670.5,   5.7675,  34.5489, 2,  34.5500, 2,   -999.0, 9,     72.2, 2,    28.93, 2,    40.96, 2,     0.00, 2,     2.72, 2,    0.007, 2,    0.000, 2,   -999.0, 9,   -999.0, 9,   -999.0, 9,   5.7092,   -999.0, 9, -999.000, 9
316N19871218, SAVE2, 61, 1, 16, 16, 2, 19871229, 1804, -10.5283, 11.1333, 3749,  -999.00,    811.0,   4.9212,  34.5116, 2,  34.5100, 2,   -999.0, 9,    105.2, 2,    33.04, 2,    38.91, 2,     0.00, 2,     2.65, 2,    0.009, 2, -999.000, 9,   -999.0, 9,   -999.0, 9,   -999.0, 9,   4.8552,   -999.0, 9, -999.000, 9
316N19871218, SAVE2, 61, 1, 17, 17, 2, 19871229, 1804, -10.5283, 11.1333, 3749,  -999.00,    961.6,   4.3665,  34.5407, 2,  34.5380, 2,   -999.0, 9,    128.7, 2,    35.78, 2,    36.56, 2,     0.00, 2,     2.52, 2,    0.008, 2,    0.000, 2,   -999.0, 9,   -999.0, 9,   -999.0, 9,   4.2912,   -999.0, 9, -999.000, 9
316N19871218, SAVE2, 61, 1, 18, 18, 2, 19871229, 1804, -10.5283, 11.1333, 3749,  -999.00,   1077.4,   4.2095,  34.6190, 2,  34.6160, 2,   -999.0, 9,    143.4, 2,    35.68, 2,    34.31, 2,     0.00, 2,     2.39, 2, -999.000, 9, -999.000, 9,   -999.0, 9,   -999.0, 9,   -999.0, 9,   4.1254,   -999.0, 9, -999.000, 9
316N19871218, SAVE2, 61, 1, 19, 19, 2, 19871229, 1804, -10.5283, 11.1333, 3749,  -999.00,   1198.1,   4.1017,  34.7148, 2,  34.7180, 2,   -999.0, 9,    160.4, 2,    33.52, 2,    31.47, 2,     0.00, 2,     2.19, 2, -999.000, 9, -999.000, 9,   -999.0, 9,   -999.0, 9,   -999.0, 9,   4.0079,   -999.0, 9, -999.000, 9
316N19871218, SAVE2, 61, 1, 20, 20, 2, 19871229, 1804, -10.5283, 11.1333, 3749,  -999.00,   1389.4,   3.9372,  34.8495, 2,  34.8470, 2,   -999.0, 9,    191.2, 2,    29.12, 2,    26.97, 2,     0.00, 2,     1.86, 2,    0.008, 2,    0.006, 2,   -999.0, 9,   -999.0, 9,   -999.0, 9,   3.8279,   -999.0, 9, -999.000, 9
316N19871218, SAVE2, 61, 1, 21, 21, 2, 19871229, 1804, -10.5283, 11.1333, 3749,  -999.00,   1500.5,   3.8382,  34.8870, 2,  34.8860, 2,   -999.0, 9,    203.4, 2,    27.56, 2,    25.31, 2,     0.00, 2,     1.73, 2, -999.000, 9, -999.000, 9,   -999.0, 9,   -999.0, 9,   -999.0, 9,   3.7199,   -999.0, 9, -999.000, 9
316N19871218, SAVE2, 61, 1, 22, 22, 2, 19871229, 1804, -10.5283, 11.1333, 3749,  -999.00,   1631.6,   3.7686,  34.9074, 2,  34.9060, 2,   -999.0, 9,    210.7, 2,    26.78, 2,    24.33, 2,     0.00, 2,     1.65, 2, -999.000, 9,    0.002, 2,   -999.0, 9,   -999.0, 9,   -999.0, 9,   3.6393,   -999.0, 9, -999.000, 9
316N19871218, SAVE2, 61, 1, 23, 23, 2, 19871229, 1804, -10.5283, 11.1333, 3749,  -999.00,   1777.5,   3.5995,  34.9217, 2,  34.9200, 2,   -999.0, 9,    217.7, 2,    27.75, 2,    23.55, 2,     0.00, 2,     1.59, 2, -999.000, 9, -999.000, 9,   -999.0, 9,   -999.0, 9,   -999.0, 9,   3.4589,   -999.0, 9, -999.000, 9
316N19871218, SAVE2, 61, 1, 24, 24, 2, 19871229, 1804, -10.5283, 11.1333, 3749,  -999.00,   1929.0,   3.4457,  34.9302, 2,  34.9290, 2,   -999.0, 9,    223.8, 2,    28.93, 2,    22.87, 2,     0.00, 2,     1.54, 2,    0.001, 2,    0.005, 2,   -999.0, 9,   -999.0, 9,   -999.0, 9,   3.2931,   -999.0, 9, -999.000, 9
316N19871218, SAVE2, 61, 1, 25, 25, 2, 19871229, 1804, -10.5283, 11.1333, 3749,  -999.00,   2080.5,   3.2955,  34.9338, 2,  34.9300, 2,   -999.0, 9,    227.7, 2,    30.69, 2,    22.48, 2,     0.00, 2,     1.52, 2, -999.000, 9, -999.000, 9,   -999.0, 9,   -999.0, 9,   -999.0, 9,   3.1310,   -999.0, 9, -999.000, 9
316N19871218, SAVE2, 61, 1, 26, 26, 2, 19871229, 1804, -10.5283, 11.1333, 3749,  -999.00,   2161.4,   3.2383,  34.9337, 2,  34.9310, 2,   -999.0, 9,    229.4, 2,    31.37, 2,    22.48, 2,     0.00, 2,     1.51, 2, -999.000, 9,    0.004, 2,   -999.0, 9,   -999.0, 9,   -999.0, 9,   3.0670,   -999.0, 9, -999.000, 9
316N19871218, SAVE2, 61, 1, 27, 27, 2, 19871229, 1804, -10.5283, 11.1333, 3749,  -999.00,   2328.0,   3.0965,  34.9298, 2,  34.9270, 2,   -999.0, 9,    229.8, 2,    34.11, 2,    22.38, 2,     0.01, 2,     1.51, 2, -999.000, 9, -999.000, 9,   -999.0, 9,   -999.0, 9,   -999.0, 9,   2.9116,   -999.0, 9, -999.000, 9
316N19871218, SAVE2, 61, 1, 28, 28, 2, 19871229, 1804, -10.5283, 11.1333, 3749,  -999.00,   2474.9,   2.9851,  34.9256, 2,  34.9250, 2,   -999.0, 9,    230.7, 2,    36.16, 2,    22.48, 2,     0.01, 2,     1.52, 2,    0.004, 2,    0.002, 2,   -999.0, 9,   -999.0, 9,   -999.0, 9,   2.7880,   -999.0, 9, -999.000, 9
316N19871218, SAVE2, 61, 1, 29, 29, 2, 19871229, 1804, -10.5283, 11.1333, 3749,  -999.00,   2601.4,   2.8949,  34.9222, 2,  34.9240, 2,   -999.0, 9,    230.7, 2,    38.41, 2,    22.57, 2,     0.01, 2,     1.53, 2, -999.000, 9, -999.000, 9,   -999.0, 9,   -999.0, 9,   -999.0, 9,   2.6870,   -999.0, 9, -999.000, 9
316N19871218, SAVE2, 61, 1, 30, 30, 2, 19871229, 1804, -10.5283, 11.1333, 3749,  -999.00,   2798.9,   2.7500,  34.9147, 2,  34.9110, 2,   -999.0, 9,    230.3, 2,    41.73, 2,    22.97, 2,     0.00, 2,     1.56, 2, -999.000, 9, -999.000, 9,   -999.0, 9,   -999.0, 9,   -999.0, 9,   2.5252,   -999.0, 9, -999.000, 9
316N19871218, SAVE2, 61, 1, 31, 31, 2, 19871229, 1804, -10.5283, 11.1333, 3749,  -999.00,   2971.4,   2.6639,  34.9105, 2,  34.9070, 2,   -999.0, 9,    230.7, 2,    43.59, 2,    23.06, 2,     0.00, 2,     1.57, 2, -999.000, 9, -999.000, 9,   -999.0, 9,   -999.0, 9,   -999.0, 9,   2.4235,   -999.0, 9, -999.000, 9
316N19871218, SAVE2, 61, 1, 32, 32, 2, 19871229, 1804, -10.5283, 11.1333, 3749,  -999.00,   3148.9,   2.5773,  34.9059, 2,  34.9030, 2,   -999.0, 9,    229.8, 2,    46.03, 2,    23.16, 2,     0.00, 2,     1.57, 2, -999.000, 9, -999.000, 9,   -999.0, 9,   -999.0, 9,   -999.0, 9,   2.3205,   3158.4, 2,    2.573, 2
316N19871218, SAVE2, 61, 1, 33, 33, 2, 19871229, 1804, -10.5283, 11.1333, 3749,  -999.00,   3346.2,   2.4978,  34.9010, 2,  34.9010, 2,   -999.0, 9,    229.0, 2,    48.77, 2,    23.26, 2,     0.00, 2,     1.60, 2,    0.004, 2,    0.011, 2,   -999.0, 9,   -999.0, 9,   -999.0, 9,   2.2220,   -999.0, 9, -999.000, 9
316N19871218, SAVE2, 61, 1, 34, 34, 2, 19871229, 1804, -10.5283, 11.1333, 3749,  -999.00,   3549.3,   2.4433,  34.8970, 2,  34.8940, 2,   -999.0, 9,    226.8, 2,    51.60, 2,    23.45, 2,     0.00, 2,     1.60, 2, -999.000, 9, -999.000, 9,   -999.0, 9,   -999.0, 9,   -999.0, 9,   2.1470,   -999.0, 9, -999.000, 9
316N19871218, SAVE2, 61, 1, 35, 35, 2, 19871229, 1804, -10.5283, 11.1333, 3749,  -999.00,   3701.4,   2.4162,  34.8943, 2,  34.8910, 2,   -999.0, 9,    224.2, 2,    53.75, 2,    23.55, 2,     0.00, 2,     1.60, 2,    0.002, 2,    0.005, 2,   -999.0, 9,   -999.0, 9,   -999.0, 9,   2.1040,   -999.0, 9,    2.409, 2
316N19871218, SAVE2, 61, 1, 36, 36, 2, 19871229, 1804, -10.5283, 11.1333, 3749,  -999.00,   3793.3,   2.3740,  34.8905, 2,  34.8880, 2,   -999.0, 9,    217.2, 2,    57.37, 2,    23.94, 2,     0.02, 2,     1.63, 2,    0.000, 2,    0.011, 2,   2240.6, 3,   2385.7, 2,    841.7, 2,   2.0526,   -999.0, 9, -999.000, 9