BOTTLE,20110114CCHDOSIODM
EXPOCODE,SECT_ID,STNNBR,CASTNO,SAMPNO,BTLNBR,BTLNBR_FLAG_W,DATE,TIME,LATITUDE,LONGITUDE,DEPTH,CTDRAW,CTDPRS,CTDTMP,CTDSAL,CTDSAL_FLAG_W,SALNTY,SALNTY_FLAG_W,CTDOXY,CTDOXY_FLAG_W,OXYGEN,OXYGEN_FLAG_W,SILCAT,SILCAT_FLAG_W,NITRAT,NITRAT_FLAG_W,NITRIT,NITRIT_FLAG_W,PHSPHT,PHSPHT_FLAG_W,CFC-11,CFC-11_FLAG_W,CFC-12,CFC-12_FLAG_W,TCARBN,TCARBN_FLAG_W,ALKALI,ALKALI_FLAG_W,PCO2,PCO2_FLAG_W,THETA,REVPRS,REVPRS_FLAG_W,REVTMP,REVTMP_FLAG_W
,,,,,,,,,,,METERS,DBAR,DBAR,ITS-68,PSS-78,,PSS-78,,UMOL/KG,,UMOL/KG,,UMOL/KG,,UMOL/KG,,UMOL/KG,,UMOL/KG,,PMOL/KG,,PMOL/KG,,UMOL/KG,,UMOL/KG,,UATM,,DEG C,DBAR,,ITS-68,
316N19871218, SAVE2, 77, 1, 1, 1, 2, 19880107, 1840, -14.1933, -9.6817, 3501,  -999.00,      0.4,  23.7620,  36.5038, 2,  36.5030, 2,   -999.0, 9,    213.5, 2,     1.17, 2,     0.00, 2,     0.00, 2,     0.25, 2,    1.773, 2,    0.880, 2,   2076.1, 2,   -999.0, 9,   -999.0, 9,  23.7619,   -999.0, 9, -999.000, 9
316N19871218, SAVE2, 77, 1, 2, 2, 2, 19880107, 1840, -14.1933, -9.6817, 3501,  -999.00,     27.3,  22.6910,  36.4421, 2, -999.0000, 9,   -999.0, 9,   -999.0, 9,  -999.00, 9,  -999.00, 9,  -999.00, 9,  -999.00, 9,    1.838, 2,    0.884, 2,   2074.7, 2,   -999.0, 9,   -999.0, 9,  22.6854,   -999.0, 9, -999.000, 9
316N19871218, SAVE2, 77, 1, 3, 3, 2, 19880107, 1840, -14.1933, -9.6817, 3501,  -999.00,     46.5,  21.1479,  36.3673, 2,  36.3490, 2,   -999.0, 9,    227.2, 2,     0.98, 2,     0.00, 2,     0.00, 2,     0.25, 2,    1.935, 2,    0.945, 2,   2073.2, 2,   -999.0, 9,   -999.0, 9,  21.1390,   -999.0, 9, -999.000, 9
316N19871218, SAVE2, 77, 1, 4, 4, 2, 19880107, 1840, -14.1933, -9.6817, 3501,  -999.00,     71.0,  20.7730,  36.3992, 2,  36.4010, 2,   -999.0, 9,    219.5, 2,     0.98, 2,     0.00, 2,     0.00, 2,     0.26, 2,    1.907, 2,    0.939, 2,   2086.6, 2,   -999.0, 9,   -999.0, 9,  20.7594,   -999.0, 9, -999.000, 9
316N19871218, SAVE2, 77, 1, 5, 5, 2, 19880107, 1840, -14.1933, -9.6817, 3501,  -999.00,     96.4,  20.2100,  36.3060, 2,  36.2670, 2,   -999.0, 9,    210.0, 2,     1.27, 2,     1.27, 2,     0.24, 2,     0.36, 2,    1.917, 2,    0.943, 2,   2092.4, 2,   -999.0, 9,   -999.0, 9,  20.1919,   -999.0, 9, -999.000, 9
316N19871218, SAVE2, 77, 1, 6, 6, 2, 19880107, 1840, -14.1933, -9.6817, 3501,  -999.00,    136.2,  15.8904,  35.5997, 2,  35.5950, 2,   -999.0, 9,    166.0, 2,     3.71, 2,    11.62, 2,     0.02, 2,     0.90, 2,    1.817, 2,    0.875, 2,   2130.6, 2,   -999.0, 9,   -999.0, 9,  15.8689,   -999.0, 9, -999.000, 9
316N19871218, SAVE2, 77, 1, 7, 7, 2, 19880107, 1840, -14.1933, -9.6817, 3501,  -999.00,    176.4,  13.4689,  35.2613, 2,  35.2530, 2,   -999.0, 9,    122.0, 2,     6.94, 2,    19.74, 2,     0.01, 2,     1.35, 2,    1.330, 2,    0.645, 2,   2172.8, 2,   -999.0, 9,   -999.0, 9,  13.4440,   -999.0, 9, -999.000, 9
316N19871218, SAVE2, 77, 1, 8, 8, 2, 19880107, 1840, -14.1933, -9.6817, 3501,  -999.00,    221.8,  11.7464,  35.0934, 2, -999.0000, 9,   -999.0, 9,   -999.0, 9,  -999.00, 9,  -999.00, 9,  -999.00, 9,  -999.00, 9, -999.000, 9, -999.000, 9,   2225.4, 2,   -999.0, 9,   -999.0, 9,  11.7178,   -999.0, 9, -999.000, 9
316N19871218, SAVE2, 77, 1, 9, 9, 2, 19880107, 1840, -14.1933, -9.6817, 3501,  -999.00,    261.9,  10.7287,  34.9829, 2,  34.9800, 2,   -999.0, 9,     72.8, 2,    12.80, 2,    29.71, 2,     0.01, 2,     1.93, 2,    0.369, 2,    0.187, 2,   -999.0, 9,   -999.0, 9,   -999.0, 9,  10.6968,   -999.0, 9, -999.000, 9
316N19871218, SAVE2, 77, 1, 10, 10, 2, 19880107, 1840, -14.1933, -9.6817, 3501,  -999.00,    326.9,   9.5061,  34.8540, 2,  34.8540, 2,   -999.0, 9,     65.9, 2,    15.64, 2,    32.84, 2,     0.00, 2,     2.13, 2,    0.185, 2,    0.094, 2,   2234.9, 2,   -999.0, 9,   -999.0, 9,   9.4692,   -999.0, 9, -999.000, 9
316N19871218, SAVE2, 77, 1, 11, 11, 2, 19880107, 1840, -14.1933, -9.6817, 3501,  -999.00,    440.4,   7.2530,  34.6334, 2,  34.6360, 2,   -999.0, 9,    101.4, 2,    20.53, 2,    34.11, 2,     0.00, 2,     2.23, 2,    0.043, 2,    0.017, 2,   2231.8, 2,   -999.0, 9,   -999.0, 9,   7.2104,   -999.0, 9, -999.000, 9
316N19871218, SAVE2, 77, 1, 12, 12, 2, 19880107, 1840, -14.1933, -9.6817, 3501,  -999.00,    555.8,   5.9716,  34.5251, 2,  34.5270, 2,   -999.0, 9,    123.8, 2,    24.63, 2,    34.70, 2,     0.00, 2,     2.30, 2,    0.020, 2,    0.000, 2,   2227.7, 2,   -999.0, 9,   -999.0, 9,   5.9229,   -999.0, 9, -999.000, 9
316N19871218, SAVE2, 77, 1, 13, 13, 2, 19880107, 1840, -14.1933, -9.6817, 3501,  -999.00,    651.0,   5.2489,  34.4830, 2,  34.4830, 2,   -999.0, 9,    134.3, 2,    28.06, 2,    35.09, 2,     0.00, 2,     2.35, 2,    0.005, 2, -999.000, 9,   2227.5, 2,   -999.0, 9,   -999.0, 9,   5.1951,   -999.0, 9, -999.000, 9
316N19871218, SAVE2, 77, 1, 14, 14, 2, 19880107, 1840, -14.1933, -9.6817, 3501,  -999.00,    743.1,   4.7792,  34.4663, 2,  34.4640, 2,   -999.0, 9,    144.6, 2,    30.89, 2,    35.00, 2,     0.00, 2,     2.33, 2,    0.009, 2, -999.000, 9,   2231.2, 2,   -999.0, 9,   -999.0, 9,   4.7199,   -999.0, 9, -999.000, 9
316N19871218, SAVE2, 77, 1, 15, 15, 2, 19880107, 1840, -14.1933, -9.6817, 3501,  -999.00,    833.5,   4.3954,  34.4767, 2,  34.4750, 2,   -999.0, 9,    151.5, 2,    34.02, 2,    34.61, 2,     0.00, 2,     2.36, 2,    0.004, 2,    0.000, 2,   2234.9, 2,   -999.0, 9,   -999.0, 9,   4.3308,   -999.0, 9, -999.000, 9
316N19871218, SAVE2, 77, 1, 16, 16, 2, 19880107, 1840, -14.1933, -9.6817, 3501,  -999.00,    923.7,   4.1595,  34.5220, 2,  34.5200, 2,   -999.0, 9,    154.6, 2,    35.68, 2,    34.21, 2,     0.00, 2,     2.32, 2,    0.000, 2, -999.000, 9,   2233.4, 2,   -999.0, 9,   -999.0, 9,   4.0890,   -999.0, 9, -999.000, 9
316N19871218, SAVE2, 77, 1, 17, 17, 2, 19880107, 1840, -14.1933, -9.6817, 3501,  -999.00,   1014.5,   3.9776,  34.5751, 2,  34.5740, 2,   -999.0, 9,    162.7, 2,    36.27, 2,    33.04, 2,     0.00, 2,     2.24, 2, -999.000, 9, -999.000, 9,   2229.9, 2,   -999.0, 9,   -999.0, 9,   3.9008,   -999.0, 9, -999.000, 9
316N19871218, SAVE2, 77, 1, 18, 18, 2, 19880107, 1840, -14.1933, -9.6817, 3501,  -999.00,   1095.1,   3.8936,  34.6271, 2,  34.6280, 2,   -999.0, 9,    169.3, 2,    35.68, 2,    31.87, 2,     0.00, 2,     2.15, 2, -999.000, 9, -999.000, 9,   2228.3, 2,   -999.0, 9,   -999.0, 9,   3.8107,   -999.0, 9, -999.000, 9
316N19871218, SAVE2, 77, 1, 19, 19, 2, 19880107, 1840, -14.1933, -9.6817, 3501,  -999.00,   1185.5,   3.8556,  34.6834, 2,  34.6830, 2,   -999.0, 9,    175.5, 2,    34.50, 2,    30.50, 2,     0.00, 2,     2.06, 2, -999.000, 9, -999.000, 9,   2225.7, 2,   -999.0, 9,   -999.0, 9,   3.7653,   -999.0, 9, -999.000, 9
316N19871218, SAVE2, 77, 1, 20, 20, 2, 19880107, 1840, -14.1933, -9.6817, 3501,  -999.00,   1296.3,   3.8167,  34.7637, 2,  34.7620, 2,   -999.0, 9,    189.7, 2,    32.06, 2,    28.34, 2,     0.00, 2,     1.91, 2, -999.000, 9,    0.000, 2,   2218.3, 2,   -999.0, 9,   -999.0, 9,   3.7170,   -999.0, 9, -999.000, 9
316N19871218, SAVE2, 77, 1, 21, 21, 2, 19880107, 1840, -14.1933, -9.6817, 3501,  -999.00,   1401.7,   3.8117,  34.8248, 2,  34.8240, 2,   -999.0, 9,    200.7, 2,    29.51, 2,    26.49, 2,     0.00, 2,     1.77, 2, -999.000, 9, -999.000, 9,   2223.2, 3,   -999.0, 9,   -999.0, 9,   3.7027,   -999.0, 9, -999.000, 9
316N19871218, SAVE2, 77, 1, 22, 22, 2, 19880107, 1840, -14.1933, -9.6817, 3501,  -999.00,   1517.3,   3.7437,  34.8684, 2,  34.8690, 2,   -999.0, 9,    211.4, 2,    27.95, 2,    24.92, 2,     0.00, 2,     1.67, 2, -999.000, 9, -999.000, 9,   2201.3, 2,   -999.0, 9,   -999.0, 9,   3.6251,   -999.0, 9, -999.000, 9
316N19871218, SAVE2, 77, 1, 23, 23, 2, 19880107, 1840, -14.1933, -9.6817, 3501,  -999.00,   1633.1,   3.6737,  34.8938, 2,  34.8940, 2,   -999.0, 9,    219.0, 2,    27.17, 2,    23.85, 2,     0.00, 2,     1.59, 2, -999.000, 9, -999.000, 9,   2193.0, 2,   -999.0, 9,   -999.0, 9,   3.5455,   -999.0, 9, -999.000, 9
316N19871218, SAVE2, 77, 1, 24, 24, 2, 19880107, 1840, -14.1933, -9.6817, 3501,  -999.00,   1751.3,   3.5578,  34.9084, 2,  34.9080, 2,   -999.0, 9,    226.4, 2,    27.56, 2,    23.16, 2,     0.00, 2,     1.54, 2,    0.003, 2, -999.000, 9,   2192.0, 2,   -999.0, 9,   -999.0, 9,   3.4202,   -999.0, 9, -999.000, 9
316N19871218, SAVE2, 77, 1, 25, 25, 2, 19880107, 1840, -14.1933, -9.6817, 3501,  -999.00,   1915.2,   3.3419,  34.9127, 2,  34.9140, 2,   -999.0, 9,    233.5, 2,    29.32, 2,    22.38, 2,     0.00, 2,     1.50, 2,    0.004, 2, -999.000, 9,   2188.8, 2,   -999.0, 9,   -999.0, 9,   3.1922,   -999.0, 9, -999.000, 9
316N19871218, SAVE2, 77, 1, 26, 26, 2, 19880107, 1840, -14.1933, -9.6817, 3501,  -999.00,   2062.1,   3.1750,  34.9118, 2,  34.9100, 2,   -999.0, 9,    237.8, 2,    31.66, 2,    22.28, 2,     0.00, 2,     1.48, 2,    0.004, 2, -999.000, 9,   2188.9, 2,   -999.0, 9,   -999.0, 9,   3.0142,   -999.0, 9, -999.000, 9
316N19871218, SAVE2, 77, 1, 27, 27, 2, 19880107, 1840, -14.1933, -9.6817, 3501,  -999.00,   2203.2,   2.9501,  34.9065, 2,  34.9040, 2,   -999.0, 9,    239.4, 2,    35.28, 2,    22.18, 2,     0.00, 2,     1.48, 2, -999.000, 9, -999.000, 9,   2190.0, 2,   -999.0, 9,   -999.0, 9,   2.7797,   -999.0, 9, -999.000, 9
316N19871218, SAVE2, 77, 1, 28, 28, 2, 19880107, 1840, -14.1933, -9.6817, 3501,  -999.00,   2353.1,   2.8202,  34.9028, 2, -999.0000, 9,   -999.0, 9,   -999.0, 9,  -999.00, 9,  -999.00, 9,  -999.00, 9,  -999.00, 9, -999.000, 9, -999.000, 9,   -999.0, 9,   -999.0, 9,   -999.0, 9,   2.6378,   -999.0, 9, -999.000, 9
316N19871218, SAVE2, 77, 1, 29, 29, 2, 19880107, 1840, -14.1933, -9.6817, 3501,  -999.00,   2501.4,   2.7023,  34.8951, 2,  34.8970, 2,   -999.0, 9,    240.6, 2,    40.17, 2,    22.38, 2,     0.00, 2,     1.50, 2, -999.000, 9, -999.000, 9,   2198.1, 2,   -999.0, 9,   -999.0, 9,   2.5079,   -999.0, 9, -999.000, 9
316N19871218, SAVE2, 77, 1, 30, 30, 2, 19880107, 1840, -14.1933, -9.6817, 3501,  -999.00,   2652.8,   2.6293,  34.8934, 2,  34.8940, 2,   -999.0, 9,    240.8, 2,    42.22, 2,    22.57, 2,     0.00, 2,     1.51, 2, -999.000, 9, -999.000, 9,   2195.2, 2,   -999.0, 9,   -999.0, 9,   2.4216,   -999.0, 9, -999.000, 9
316N19871218, SAVE2, 77, 1, 31, 31, 2, 19880107, 1840, -14.1933, -9.6817, 3501,  -999.00,   2801.8,   2.5634,  34.8911, 2, -999.0000, 9,   -999.0, 9,   -999.0, 9,  -999.00, 9,  -999.00, 9,  -999.00, 9,  -999.00, 9, -999.000, 9, -999.000, 9,   -999.0, 9,   -999.0, 9,   -999.0, 9,   2.3423,   -999.0, 9, -999.000, 9
316N19871218, SAVE2, 77, 1, 32, 32, 2, 19880107, 1840, -14.1933, -9.6817, 3501,  -999.00,   2951.5,   2.5074,  34.8884, 2,  34.8880, 2,   -999.0, 9,    240.1, 2,    46.03, 2,    22.87, 2,     0.00, 2,     1.52, 2, -999.000, 9, -999.000, 9,   2200.4, 2,   -999.0, 9,   -999.0, 9,   2.2724,   2962.2, 2,    2.503, 2
316N19871218, SAVE2, 77, 1, 33, 33, 2, 19880107, 1840, -14.1933, -9.6817, 3501,  -999.00,   3103.0,   2.4844,  34.8880, 2,  34.8890, 2,   -999.0, 9,    239.9, 2,    46.62, 2,    22.87, 2,     0.00, 2,     1.53, 2, -999.000, 9, -999.000, 9,   2202.3, 2,   -999.0, 9,   -999.0, 9,   2.2345,   -999.0, 9, -999.000, 9
316N19871218, SAVE2, 77, 1, 34, 34, 2, 19880107, 1840, -14.1933, -9.6817, 3501,  -999.00,   3252.7,   2.4704,  34.8870, 2,  34.8870, 2,   -999.0, 9,    238.9, 2,    47.30, 2,    22.97, 2,     0.00, 2,     1.53, 2, -999.000, 9, -999.000, 9,   2205.7, 2,   -999.0, 9,   -999.0, 9,   2.2052,   -999.0, 9, -999.000, 9
316N19871218, SAVE2, 77, 1, 35, 35, 2, 19880107, 1840, -14.1933, -9.6817, 3501,  -999.00,   3387.1,   2.4694,  34.8872, 2,  34.8860, 2,   -999.0, 9,   -999.0, 9,    47.40, 2,    23.06, 2,     0.00, 2,     1.54, 2, -999.000, 9, -999.000, 9,   2204.7, 2,   -999.0, 9,   -999.0, 9,   2.1900,   3395.8, 2,    2.463, 2
316N19871218, SAVE2, 77, 1, 36, 36, 2, 19880107, 1840, -14.1933, -9.6817, 3501,  -999.00,   3539.9,   2.4694,  34.8865, 2,  34.8880, 2,   -999.0, 9,    237.8, 2,    47.89, 2,    23.06, 2,     0.00, 2,     1.54, 2, -999.000, 9,    0.000, 2,   2207.5, 2,   -999.0, 9,   -999.0, 9,   2.1736,   -999.0, 9, -999.000, 9