BOTTLE,20110114CCHDOSIODM
EXPOCODE,SECT_ID,STNNBR,CASTNO,SAMPNO,BTLNBR,BTLNBR_FLAG_W,DATE,TIME,LATITUDE,LONGITUDE,DEPTH,CTDRAW,CTDPRS,CTDTMP,CTDSAL,CTDSAL_FLAG_W,SALNTY,SALNTY_FLAG_W,CTDOXY,CTDOXY_FLAG_W,OXYGEN,OXYGEN_FLAG_W,SILCAT,SILCAT_FLAG_W,NITRAT,NITRAT_FLAG_W,NITRIT,NITRIT_FLAG_W,PHSPHT,PHSPHT_FLAG_W,CFC-11,CFC-11_FLAG_W,CFC-12,CFC-12_FLAG_W,TCARBN,TCARBN_FLAG_W,ALKALI,ALKALI_FLAG_W,PCO2,PCO2_FLAG_W,THETA,REVPRS,REVPRS_FLAG_W,REVTMP,REVTMP_FLAG_W
,,,,,,,,,,,METERS,DBAR,DBAR,ITS-68,PSS-78,,PSS-78,,UMOL/KG,,UMOL/KG,,UMOL/KG,,UMOL/KG,,UMOL/KG,,UMOL/KG,,PMOL/KG,,PMOL/KG,,UMOL/KG,,UMOL/KG,,UATM,,DEG C,DBAR,,ITS-68,
316N19871218, SAVE2, 88, 1, 1, 1, 2, 19880113, 1345, -16.5250, -22.8333, 4874,  -999.00,      1.5,  26.1863,  37.2249, 2,  37.2270, 2,   -999.0, 9,    204.8, 2,     1.46, 2,     0.10, 2,     0.00, 2,     0.20, 2,    1.606, 2,    0.780, 2,   2087.3, 2,   2453.3, 2,    298.2, 2,  26.1859,   -999.0, 9, -999.000, 9
316N19871218, SAVE2, 88, 1, 2, 2, 2, 19880113, 1345, -16.5250, -22.8333, 4874,  -999.00,     26.3,  25.9432,  37.2172, 2,  37.2180, 2,   -999.0, 9,    205.7, 2,     1.46, 2,     0.10, 2,     0.00, 2,     0.20, 2,    1.614, 2,    0.799, 2,   -999.0, 9,   -999.0, 9,   -999.0, 9,  25.9373,   -999.0, 9, -999.000, 9
316N19871218, SAVE2, 88, 1, 3, 3, 2, 19880113, 1345, -16.5250, -22.8333, 4874,  -999.00,     58.2,  25.2421,  37.1595, 2,  37.1610, 2,   -999.0, 9,    210.5, 2,     1.27, 2,     0.10, 2,     0.00, 2,     0.19, 2,    1.613, 2,    0.800, 2,   -999.0, 9,   -999.0, 9,   -999.0, 9,  25.2293,   -999.0, 9, -999.000, 9
316N19871218, SAVE2, 88, 1, 4, 4, 2, 19880113, 1345, -16.5250, -22.8333, 4874,  -999.00,     93.8,  23.6740,  36.9405, 2,  36.9380, 2,   -999.0, 9,    216.9, 2,     1.27, 2,     0.00, 2,     0.00, 2,     0.20, 2,    1.758, 2,    0.841, 2,   -999.0, 9,   -999.0, 9,   -999.0, 9,  23.6543,   -999.0, 9, -999.000, 9
316N19871218, SAVE2, 88, 1, 5, 5, 2, 19880113, 1345, -16.5250, -22.8333, 4874,  -999.00,    131.4,  22.7380,  36.7956, 2,  36.7790, 2,   -999.0, 9,    211.2, 2,     1.27, 2,     0.00, 2,     0.00, 2,     0.22, 2,    1.745, 2,    0.833, 2,   -999.0, 9,   -999.0, 9,   -999.0, 9,  22.7111,   -999.0, 9, -999.000, 9
316N19871218, SAVE2, 88, 1, 6, 6, 2, 19880113, 1345, -16.5250, -22.8333, 4874,  -999.00,    149.7,  21.2549,  36.5097, 2,  36.4960, 2,   -999.0, 9,    208.1, 2,     1.37, 2,     0.10, 2,     0.02, 2,     0.27, 2,    1.836, 2,    0.868, 2,   -999.0, 9,   -999.0, 9,   -999.0, 9,  21.2258,   -999.0, 9, -999.000, 9
316N19871218, SAVE2, 88, 1, 7, 7, 2, 19880113, 1345, -16.5250, -22.8333, 4874,  -999.00,    212.6,  15.7724,  35.5658, 2,  35.5650, 2,   -999.0, 9,    181.0, 2,     3.42, 2,     8.99, 2,     0.01, 2,     0.76, 2,    1.791, 2,    0.848, 2,   -999.0, 9,   -999.0, 9,   -999.0, 9,  15.7390,   -999.0, 9, -999.000, 9
316N19871218, SAVE2, 88, 1, 8, 8, 2, 19880113, 1345, -16.5250, -22.8333, 4874,  -999.00,    238.5,  14.5987,  35.3880, 2,  35.3870, 2,   -999.0, 9,    176.2, 2,     4.30, 2,    11.43, 2,     0.01, 2,     0.90, 2,    1.679, 2,    0.784, 2,   -999.0, 9,   -999.0, 9,   -999.0, 9,  14.5630,   -999.0, 9, -999.000, 9
316N19871218, SAVE2, 88, 1, 9, 9, 2, 19880113, 1345, -16.5250, -22.8333, 4874,  -999.00,    278.9,  13.2820,  35.2289, 2,  35.2310, 2,   -999.0, 9,    153.1, 2,     6.25, 2,    16.41, 2,     0.00, 2,     1.17, 2,    1.354, 2,    0.628, 2,   -999.0, 9,   -999.0, 9,   -999.0, 9,  13.2429,   -999.0, 9, -999.000, 9
316N19871218, SAVE2, 88, 1, 10, 10, 2, 19880113, 1345, -16.5250, -22.8333, 4874,  -999.00,    320.9,  11.8843,  35.0671, 2,  35.0740, 2,   -999.0, 9,    134.4, 2,     8.89, 2,    21.01, 2,     0.00, 2,     1.45, 2,    0.958, 2,    0.444, 2,   -999.0, 9,   -999.0, 9,   -999.0, 9,  11.8425,   -999.0, 9, -999.000, 9
316N19871218, SAVE2, 88, 1, 11, 11, 2, 19880113, 1345, -16.5250, -22.8333, 4874,  -999.00,    366.2,  10.4208,  34.9102, 2,  34.9200, 2,   -999.0, 9,    129.2, 2,    11.43, 2,    24.43, 2,     0.00, 2,     1.65, 2,    0.641, 2,    0.294, 2,   -999.0, 9,   -999.0, 9,   -999.0, 9,  10.3769,   -999.0, 9, -999.000, 9
316N19871218, SAVE2, 88, 1, 12, 12, 2, 19880113, 1345, -16.5250, -22.8333, 4874,  -999.00,    401.2,   9.3302,  34.7935, 2,  34.7970, 2,   -999.0, 9,    129.2, 2,    13.98, 2,    26.78, 2,     0.00, 2,     1.79, 2,    0.451, 2,    0.229, 2,   -999.0, 9,   -999.0, 9,   -999.0, 9,   9.2852,   -999.0, 9, -999.000, 9
316N19871218, SAVE2, 88, 1, 13, 13, 2, 19880113, 1345, -16.5250, -22.8333, 4874,  -999.00,    461.3,   7.9687,  34.6631, 2,  34.6700, 2,   -999.0, 9,    132.2, 2,    17.30, 2,    29.42, 2,     0.00, 2,     1.96, 2,    0.237, 2,    0.126, 2,   -999.0, 9,   -999.0, 9,   -999.0, 9,   7.9216,   -999.0, 9, -999.000, 9
316N19871218, SAVE2, 88, 1, 14, 14, 2, 19880113, 1345, -16.5250, -22.8333, 4874,  -999.00,    527.6,   6.7083,  34.5474, 2,  34.5640, 2,   -999.0, 9,    149.1, 2,    20.53, 2,    30.40, 2,     0.00, 2,     2.04, 2,    0.130, 2,    0.070, 2,   -999.0, 9,   -999.0, 9,   -999.0, 9,   6.6592,   -999.0, 9, -999.000, 9
316N19871218, SAVE2, 88, 1, 15, 15, 2, 19880113, 1345, -16.5250, -22.8333, 4874,  -999.00,    649.8,   4.8062,  34.4130, 2,  34.4130, 2,   -999.0, 9,    178.7, 2,    28.55, 2,    31.87, 2,     0.00, 2,     2.16, 2,    0.073, 2,    0.041, 2,   -999.0, 9,   -999.0, 9,   -999.0, 9,   4.7547,   -999.0, 9, -999.000, 9
316N19871218, SAVE2, 88, 1, 16, 16, 2, 19880113, 1345, -16.5250, -22.8333, 4874,  -999.00,    719.1,   4.4213,  34.4106, 2,  34.4100, 2,   -999.0, 9,    178.7, 2,    31.77, 2,    32.46, 2,     0.00, 2,     2.23, 2,    0.044, 2,    0.028, 2,   2209.0, 2,   2311.6, 2,   1054.8, 2,   4.3662,   -999.0, 9, -999.000, 9
316N19871218, SAVE2, 88, 1, 17, 17, 2, 19880113, 1345, -16.5250, -22.8333, 4874,  -999.00,    837.5,   4.0076,  34.4361, 2,  34.4350, 2,   -999.0, 9,    178.2, 2,    36.56, 2,    32.95, 2,     0.00, 2,     2.26, 2,    0.019, 2,    0.013, 2,   -999.0, 9,   -999.0, 9,   1074.6, 2,   3.9453,   -999.0, 9, -999.000, 9
316N19871218, SAVE2, 88, 1, 18, 18, 2, 19880113, 1345, -16.5250, -22.8333, 4874,  -999.00,    993.2,   3.8177,  34.5028, 2,  34.5000, 2,   -999.0, 9,    176.5, 2,    39.10, 2,    32.75, 2,     0.00, 2,     2.23, 2,    0.004, 2,    0.001, 2,   -999.0, 9,   -999.0, 9,   -999.0, 9,   3.7440,   -999.0, 9, -999.000, 9
316N19871218, SAVE2, 88, 1, 19, 19, 2, 19880113, 1345, -16.5250, -22.8333, 4874,  -999.00,   1143.9,   3.7837,  34.6145, 2,  34.6140, 2,   -999.0, 9,    180.4, 2,    37.83, 2,    31.08, 2,     0.00, 2,     2.12, 2, -999.000, 9, -999.000, 9,   -999.0, 9,   -999.0, 9,   -999.0, 9,   3.6976,   -999.0, 9, -999.000, 9
316N19871218, SAVE2, 88, 1, 20, 20, 2, 19880113, 1345, -16.5250, -22.8333, 4874,  -999.00,   1270.2,   3.7997,  34.7145, 2,  34.7150, 2,   -999.0, 9,    188.6, 2,    34.50, 2,    29.13, 2,     0.00, 2,     1.97, 2, -999.000, 9, -999.000, 9,   -999.0, 9,   -999.0, 9,   -999.0, 9,   3.7025,   -999.0, 9, -999.000, 9
316N19871218, SAVE2, 88, 1, 21, 21, 2, 19880113, 1345, -16.5250, -22.8333, 4874,  -999.00,   1395.9,   3.7857,  34.7907, 2,  34.7910, 2,   -999.0, 9,    200.3, 2,    31.37, 2,    26.88, 2,     0.00, 2,     1.82, 2, -999.000, 9, -999.000, 9,   -999.0, 9,   -999.0, 9,   -999.0, 9,   3.6776,   -999.0, 9, -999.000, 9
316N19871218, SAVE2, 88, 1, 22, 22, 2, 19880113, 1345, -16.5250, -22.8333, 4874,  -999.00,   1520.6,   3.6558,  34.8414, 2,  34.8410, 2,   -999.0, 9,    213.4, 2,    30.20, 2,    25.21, 2,     0.00, 2,     1.70, 2, -999.000, 9, -999.000, 9,   -999.0, 9,   -999.0, 9,   -999.0, 9,   3.5379,   -999.0, 9, -999.000, 9
316N19871218, SAVE2, 88, 1, 23, 23, 2, 19880113, 1345, -16.5250, -22.8333, 4874,  -999.00,   1719.2,   3.4119,  34.8839, 2,  34.8850, 2,   -999.0, 9,    228.1, 2,    30.39, 2,    23.36, 2,     0.00, 2,     1.57, 2, -999.000, 9, -999.000, 9,   -999.0, 9,   -999.0, 9,   -999.0, 9,   3.2792,   -999.0, 9, -999.000, 9
316N19871218, SAVE2, 88, 1, 24, 24, 2, 19880113, 1345, -16.5250, -22.8333, 4874,  -999.00,   1919.7,   3.1640,  34.9025, 2,  34.9050, 2,   -999.0, 9,    237.7, 2,    31.76, 2,    22.28, 2,     0.00, 2,     1.50, 2, -999.000, 9, -999.000, 9,   2187.0, 2,   2338.1, 2,    781.1, 2,   3.0165,   -999.0, 9, -999.000, 9
316N19871218, SAVE2, 88, 1, 25, 25, 2, 19880113, 1345, -16.5250, -22.8333, 4874,  -999.00,   2129.9,   2.9651,  34.9048, 2,  34.9060, 2,   -999.0, 9,    240.7, 2,    34.69, 2,    22.18, 2,     0.00, 2,     1.49, 2, -999.000, 9, -999.000, 9,   2187.9, 2,   2340.2, 2,    776.6, 2,   2.8013,   -999.0, 9, -999.000, 9
316N19871218, SAVE2, 88, 1, 26, 26, 2, 19880113, 1345, -16.5250, -22.8333, 4874,  -999.00,   2429.9,   2.8042,  34.9011, 2,  34.9010, 2,   -999.0, 9,    242.0, 2,    38.41, 2,    22.18, 2,     0.00, 2,     1.50, 2, -999.000, 9, -999.000, 9,   -999.0, 9,   -999.0, 9,   -999.0, 9,   2.6148,   -999.0, 9, -999.000, 9
316N19871218, SAVE2, 88, 1, 27, 27, 2, 19880113, 1345, -16.5250, -22.8333, 4874,  -999.00,   2729.0,   2.7083,  34.8974, 2,  34.8980, 2,   -999.0, 9,    242.0, 2,    40.65, 2,    22.28, 2,     0.00, 2,     1.50, 2, -999.000, 9, -999.000, 9,   -999.0, 9,   -999.0, 9,   -999.0, 9,   2.4915,   -999.0, 9, -999.000, 9
316N19871218, SAVE2, 88, 1, 28, 28, 2, 19880113, 1345, -16.5250, -22.8333, 4874,  -999.00,   3034.9,   2.6513,  34.8968, 2,  34.8970, 2,   -999.0, 9,    243.7, 2,    41.44, 2,    22.28, 2,     0.00, 2,     1.50, 2, -999.000, 9, -999.000, 9,   -999.0, 9,   -999.0, 9,   -999.0, 9,   2.4047,   -999.0, 9, -999.000, 9
316N19871218, SAVE2, 88, 1, 29, 29, 2, 19880113, 1345, -16.5250, -22.8333, 4874,  -999.00,   3350.7,   2.5434,  34.8945, 2,  34.8950, 2,   -999.0, 9,    245.9, 2,    42.41, 2,    22.09, 2,     0.00, 2,     1.49, 2, -999.000, 9, -999.000, 9,   -999.0, 9,   -999.0, 9,   -999.0, 9,   2.2661,   -999.0, 9, -999.000, 9
316N19871218, SAVE2, 88, 1, 30, 30, 2, 19880113, 1345, -16.5250, -22.8333, 4874,  -999.00,   3599.4,   2.3635,  34.8800, 2,  34.8830, 2,   -999.0, 9,    246.3, 2,    47.01, 2,    22.48, 2,     0.00, 2,     1.52, 2, -999.000, 9, -999.000, 9,   -999.0, 9,   -999.0, 9,   -999.0, 9,   2.0638,   -999.0, 9, -999.000, 9
316N19871218, SAVE2, 88, 1, 31, 31, 2, 19880113, 1345, -16.5250, -22.8333, 4874,  -999.00,   3797.0,   2.0936,  34.8559, 2,  34.8560, 2,   -999.0, 9,    243.7, 2,    56.19, 2,    23.55, 2,     0.00, 2,     1.60, 2, -999.000, 9, -999.000, 9,   -999.0, 9,   -999.0, 9,   -999.0, 9,   1.7796,   -999.0, 9, -999.000, 9
316N19871218, SAVE2, 88, 1, 32, 32, 2, 19880113, 1345, -16.5250, -22.8333, 4874,  -999.00,   4000.8,   1.7248,  34.8202, 2,  34.8190, 2,   -999.0, 9,    239.8, 2,    70.17, 2,    25.41, 2,     0.00, 2,     1.73, 2, -999.000, 9, -999.000, 9,   -999.0, 9,   -999.0, 9,   -999.0, 9,   1.3987,   3991.0, 2,    1.722, 2
316N19871218, SAVE2, 88, 1, 33, 33, 2, 19880113, 1345, -16.5250, -22.8333, 4874,  -999.00,   4257.2,   1.2931,  34.7757, 2,  34.7790, 2,   -999.0, 9,    233.3, 2,    86.40, 2,    27.56, 2,     0.00, 2,     1.90, 2, -999.000, 9, -999.000, 9,   -999.0, 9,   -999.0, 9,   -999.0, 9,   0.9513,   -999.0, 9, -999.000, 9
316N19871218, SAVE2, 88, 1, 34, 34, 2, 19880113, 1345, -16.5250, -22.8333, 4874,  -999.00,   4558.3,   1.1312,  34.7579, 2,  34.7570, 2,   -999.0, 9,    231.1, 2,    93.83, 2,    28.64, 2,     0.00, 2,     1.96, 2, -999.000, 9, -999.000, 9,   -999.0, 9,   -999.0, 9,   -999.0, 9,   0.7606,   -999.0, 9, -999.000, 9
316N19871218, SAVE2, 88, 1, 35, 35, 2, 19880113, 1345, -16.5250, -22.8333, 4874,  -999.00,   4859.3,   0.9733,  34.7386, 2,  34.7390, 2,   -999.0, 9,    228.5, 2,   101.26, 2,    29.52, 2,     0.00, 2,     2.04, 2, -999.000, 9, -999.000, 9,   -999.0, 9,   -999.0, 9,   -999.0, 9,   0.5732,   4880.0, 2,    0.971, 2
316N19871218, SAVE2, 88, 1, 36, 36, 2, 19880113, 1345, -16.5250, -22.8333, 4874,  -999.00,   5070.0,   0.8824,  34.7279, 2,  34.7290, 2,   -999.0, 9,    226.8, 2,   105.66, 2,    30.01, 2,     0.00, 2,     2.07, 2,    0.002, 2, -999.000, 9,   -999.0, 9,   -999.0, 9,    967.7, 2,   0.4605,   -999.0, 9, -999.000, 9