BOTTLE,20110114CCHDOSIODM
EXPOCODE,SECT_ID,STNNBR,CASTNO,SAMPNO,BTLNBR,BTLNBR_FLAG_W,DATE,TIME,LATITUDE,LONGITUDE,DEPTH,CTDRAW,CTDPRS,CTDTMP,CTDSAL,CTDSAL_FLAG_W,SALNTY,SALNTY_FLAG_W,CTDOXY,CTDOXY_FLAG_W,OXYGEN,OXYGEN_FLAG_W,SILCAT,SILCAT_FLAG_W,NITRAT,NITRAT_FLAG_W,NITRIT,NITRIT_FLAG_W,PHSPHT,PHSPHT_FLAG_W,CFC-11,CFC-11_FLAG_W,CFC-12,CFC-12_FLAG_W,TCARBN,TCARBN_FLAG_W,ALKALI,ALKALI_FLAG_W,PCO2,PCO2_FLAG_W,THETA,REVPRS,REVPRS_FLAG_W,REVTMP,REVTMP_FLAG_W
,,,,,,,,,,,METERS,DBAR,DBAR,ITS-68,PSS-78,,PSS-78,,UMOL/KG,,UMOL/KG,,UMOL/KG,,UMOL/KG,,UMOL/KG,,UMOL/KG,,PMOL/KG,,PMOL/KG,,UMOL/KG,,UMOL/KG,,UATM,,DEG C,DBAR,,ITS-68,
316N19871218, SAVE2, 98, 1, 1, 1, 2, 19880118, 2308, -18.4367, -34.5600, 4241,  -999.00,      0.5,  28.4026,  37.3191, 2,  37.3240, 2,   -999.0, 9,    199.3, 2,     1.07, 2,     0.10, 2,     0.00, 2,     0.02, 2,    1.451, 2,    0.759, 2,   2050.9, 2,   2466.9, 2,    244.9, 2,  28.4025,   -999.0, 9, -999.000, 9
316N19871218, SAVE2, 98, 1, 2, 2, 2, 19880118, 2308, -18.4367, -34.5600, 4241,  -999.00,     48.6,  27.6944,  37.2340, 2,  37.2370, 2,   -999.0, 9,    202.3, 2,     1.27, 2,     0.10, 2,     0.00, 2,     0.04, 2, -999.000, 9, -999.000, 9,   2051.1, 2,   2450.4, 2,    257.9, 2,  27.6830,   -999.0, 9, -999.000, 9
316N19871218, SAVE2, 98, 1, 3, 3, 2, 19880118, 2308, -18.4367, -34.5600, 4241,  -999.00,     66.9,  25.8098,  37.0812, 2,  37.0870, 2,   -999.0, 9,    216.2, 2,     1.27, 2,     0.00, 2,     0.00, 2,     0.09, 2,    1.621, 2,    0.827, 2,   2065.7, 2,   -999.0, 9,   -999.0, 9,  25.7949,   -999.0, 9, -999.000, 9
316N19871218, SAVE2, 98, 1, 4, 4, 2, 19880118, 2308, -18.4367, -34.5600, 4241,  -999.00,     99.5,  24.1893,  37.0274, 2,  37.0290, 2,   -999.0, 9,    214.8, 2,     1.17, 2,     0.00, 2,     0.00, 2,     0.13, 2,    1.678, 2,    0.843, 2,   2075.0, 2,   -999.0, 9,   -999.0, 9,  24.1680,   -999.0, 9, -999.000, 9
316N19871218, SAVE2, 98, 1, 5, 5, 2, 19880118, 2308, -18.4367, -34.5600, 4241,  -999.00,    164.4,  21.3779,  36.5606, 2,  36.5590, 2,   -999.0, 9,    196.0, 2,     1.17, 2,     0.78, 2,     0.04, 2,     0.27, 2,    1.712, 2,    0.847, 2,   2094.0, 2,   2414.6, 2,    346.7, 2,  21.3458,   -999.0, 9, -999.000, 9
316N19871218, SAVE2, 98, 1, 6, 6, 2, 19880118, 2308, -18.4367, -34.5600, 4241,  -999.00,    200.5,  18.4773,  36.0270, 2,  36.0260, 2,   -999.0, 9,    197.2, 2,     1.66, 2,     2.54, 2,     0.02, 2,     0.39, 2,    1.834, 2,    0.895, 2,   2096.9, 2,   -999.0, 9,   -999.0, 9,  18.4420,   -999.0, 9, -999.000, 9
316N19871218, SAVE2, 98, 1, 7, 7, 2, 19880118, 2308, -18.4367, -34.5600, 4241,  -999.00,    231.6,  16.7194,  35.7113, 2,  35.7010, 2,   -999.0, 9,    202.8, 2,     2.15, 2,     3.71, 2,     0.01, 2,     0.46, 2, -999.000, 9, -999.000, 9,   2088.6, 2,   -999.0, 9,   -999.0, 9,  16.6814,   -999.0, 9, -999.000, 9
316N19871218, SAVE2, 98, 1, 8, 8, 2, 19880118, 2308, -18.4367, -34.5600, 4241,  -999.00,    253.9,  16.0060,  35.5980, 2,  35.5770, 2,   -999.0, 9,    202.8, 2,     2.34, 2,     5.08, 2,     0.01, 2,     0.53, 2,    1.876, 2,    0.901, 2,   2094.5, 2,   2344.0, 2,    450.3, 2,  15.9656,   -999.0, 9, -999.000, 9
316N19871218, SAVE2, 98, 1, 9, 9, 2, 19880118, 2308, -18.4367, -34.5600, 4241,  -999.00,    292.1,  14.6552,  35.3945, 2,  35.3920, 2,   -999.0, 9,    199.3, 2,     3.22, 2,     7.52, 2,     0.00, 2,     0.66, 2,    1.745, 2,    0.839, 2,   2101.6, 2,   -999.0, 9,   -999.0, 9,  14.6113,   -999.0, 9, -999.000, 9
316N19871218, SAVE2, 98, 1, 10, 10, 2, 19880118, 2308, -18.4367, -34.5600, 4241,  -999.00,    325.6,  13.3999,  35.2220, 2,  35.2210, 2,   -999.0, 9,    189.7, 2,     4.40, 2,    11.14, 2,     0.00, 2,     0.87, 2,    1.514, 2,    0.737, 2,   2119.8, 2,   2335.1, 2,    533.3, 2,  13.3539,   -999.0, 9, -999.000, 9
316N19871218, SAVE2, 98, 1, 11, 11, 2, 19880118, 2308, -18.4367, -34.5600, 4241,  -999.00,    393.1,  11.4178,  34.9904, 2,  34.9880, 2,   -999.0, 9,    173.6, 2,     7.33, 2,    17.20, 2,     0.00, 2,     1.22, 2,    1.026, 2,    0.494, 2,   2149.4, 2,   -999.0, 9,   -999.0, 9,  11.3677,   -999.0, 9, -999.000, 9
316N19871218, SAVE2, 98, 1, 12, 12, 2, 19880118, 2308, -18.4367, -34.5600, 4241,  -999.00,    448.0,  10.2738,  34.8704, 2,  34.8600, 2,   -999.0, 9,    166.6, 2,     9.77, 2,    20.62, 2,     0.00, 2,     1.43, 2,    0.765, 2,    0.379, 2,   2164.3, 2,   2319.9, 2,    745.3, 2,  10.2203,   -999.0, 9, -999.000, 9
316N19871218, SAVE2, 98, 1, 13, 13, 2, 19880118, 2308, -18.4367, -34.5600, 4241,  -999.00,    533.3,   7.9145,  34.6147, 2, -999.0000, 9,   -999.0, 9,   -999.0, 9,  -999.00, 9,  -999.00, 9,  -999.00, 9,  -999.00, 9, -999.000, 9, -999.000, 9,   -999.0, 9,   -999.0, 9,   -999.0, 9,   7.8600,   -999.0, 9, -999.000, 9
316N19871218, SAVE2, 98, 1, 14, 14, 2, 19880118, 2308, -18.4367, -34.5600, 4241,  -999.00,    613.2,   5.8822,  34.4416, 2,  34.4510, 2,   -999.0, 9,    188.7, 2,    20.24, 2,    28.25, 2,     0.00, 2,     1.90, 2,    0.373, 2,    0.193, 2,   2190.0, 2,   -999.0, 9,   -999.0, 9,   5.8288,   -999.0, 9, -999.000, 9
316N19871218, SAVE2, 98, 1, 15, 15, 2, 19880118, 2308, -18.4367, -34.5600, 4241,  -999.00,    748.6,   4.3112,  34.3734, 2,  34.3730, 2,   -999.0, 9,    196.5, 2,    30.70, 2,    30.89, 2,     0.00, 2,     2.10, 2,    0.198, 2,    0.103, 2,   2204.7, 2,   2319.2, 2,    973.4, 2,   4.2543,   -999.0, 9, -999.000, 9
316N19871218, SAVE2, 98, 1, 16, 16, 2, 19880118, 2308, -18.4367, -34.5600, 4241,  -999.00,    808.8,   3.9070,  34.3761, 2,  34.3740, 2,   -999.0, 9,    199.5, 2,    34.61, 2,    31.28, 2,     0.00, 2,     2.12, 2,    0.180, 2,    0.095, 2,   2209.6, 2,   -999.0, 9,   -999.0, 9,   3.8477,   -999.0, 9, -999.000, 9
316N19871218, SAVE2, 98, 1, 17, 17, 2, 19880118, 2308, -18.4367, -34.5600, 4241,  -999.00,    954.3,   3.6029,  34.4688, 2,  34.4670, 2,   -999.0, 9,    189.1, 2,    40.67, 2,    31.77, 2,     0.00, 2,     2.16, 2,    0.052, 2,    0.030, 2,   2223.3, 2,   2331.0, 2,   1032.2, 2,   3.5340,   -999.0, 9, -999.000, 9
316N19871218, SAVE2, 98, 1, 18, 18, 2, 19880118, 2308, -18.4367, -34.5600, 4241,  -999.00,   1075.2,   3.7081,  34.5743, 2,  34.5740, 2,   -999.0, 9,    183.9, 2,    38.51, 2,    30.99, 2,     0.00, 2,     2.09, 2,    0.015, 2,    0.005, 2,   2221.7, 2,   2333.6, 2,   1005.5, 2,   3.6285,   -999.0, 9, -999.000, 9
316N19871218, SAVE2, 98, 1, 19, 19, 2, 19880118, 2308, -18.4367, -34.5600, 4241,  -999.00,   1200.5,   4.0133,  34.7101, 2,  34.7100, 2,   -999.0, 9,    185.1, 2,    32.25, 2,    29.13, 2,     0.00, 2,     1.96, 2, -999.000, 9, -999.000, 9,   2215.8, 2,   -999.0, 9,   -999.0, 9,   3.9201,   -999.0, 9, -999.000, 9
316N19871218, SAVE2, 98, 1, 20, 20, 2, 19880118, 2308, -18.4367, -34.5600, 4241,  -999.00,   1331.2,   4.0356,  34.8071, 2,  34.8070, 2,   -999.0, 9,    199.5, 2,    28.64, 2,    26.39, 2,     0.00, 2,     1.77, 2, -999.000, 9, -999.000, 9,   2205.8, 2,   -999.0, 9,   -999.0, 9,   3.9306,   -999.0, 9, -999.000, 9
316N19871218, SAVE2, 98, 1, 21, 21, 2, 19880118, 2308, -18.4367, -34.5600, 4241,  -999.00,   1471.5,   4.0819,  34.9006, 2,  34.9010, 2,   -999.0, 9,    217.7, 2,    23.16, 2,    23.55, 2,     0.00, 2,     1.56, 2,    0.005, 2,    0.001, 2,   2191.2, 2,   2334.1, 2,    819.1, 2,   3.9636,   -999.0, 9, -999.000, 9
316N19871218, SAVE2, 98, 1, 22, 22, 2, 19880118, 2308, -18.4367, -34.5600, 4241,  -999.00,   1667.7,   3.8840,  34.9519, 2,  34.9530, 2,   -999.0, 9,    238.1, 2,    20.13, 2,    20.91, 2,     0.00, 2,     1.39, 2,    0.017, 2,    0.007, 2,   2180.1, 2,   -999.0, 9,   -999.0, 9,   3.7498,   -999.0, 9, -999.000, 9
316N19871218, SAVE2, 98, 1, 23, 23, 2, 19880118, 2308, -18.4367, -34.5600, 4241,  -999.00,   1874.3,   3.6908,  34.9669, 2,  34.9670, 2,   -999.0, 9,    249.0, 2,    19.54, 2,    19.74, 2,     0.00, 2,     1.31, 2,    0.016, 2,    0.013, 2,   2175.4, 2,   2325.7, 2,    775.7, 2,   3.5399,   -999.0, 9, -999.000, 9
316N19871218, SAVE2, 98, 1, 24, 24, 2, 19880118, 2308, -18.4367, -34.5600, 4241,  -999.00,   2000.6,   3.5259,  34.9606, 2,  34.9600, 2,   -999.0, 9,    250.7, 2,    21.21, 2,    19.74, 2,     0.00, 2,     1.31, 2,    0.011, 2,    0.006, 2,   2177.7, 2,   -999.0, 9,   -999.0, 9,   3.3654,   -999.0, 9, -999.000, 9
316N19871218, SAVE2, 98, 1, 25, 25, 2, 19880118, 2308, -18.4367, -34.5600, 4241,  -999.00,   2198.1,   3.3262,  34.9533, 2,  34.9530, 2,   -999.0, 9,    252.9, 2,    23.16, 2,    19.74, 2,     0.00, 2,     1.31, 2,    0.009, 2,    0.003, 2,   2176.4, 2,   2340.1, 2,    721.9, 2,   3.1500,   -999.0, 9, -999.000, 9
316N19871218, SAVE2, 98, 1, 26, 26, 2, 19880118, 2308, -18.4367, -34.5600, 4241,  -999.00,   2400.6,   3.1631,  34.9477, 2,  34.9490, 2,   -999.0, 9,    253.7, 2,    24.92, 2,    19.74, 2,     0.00, 2,     1.31, 2,    0.008, 2, -999.000, 9,   2176.3, 2,   -999.0, 9,   -999.0, 9,   2.9700,   -999.0, 9, -999.000, 9
316N19871218, SAVE2, 98, 1, 27, 27, 2, 19880118, 2308, -18.4367, -34.5600, 4241,  -999.00,   2598.4,   2.9961,  34.9356, 2,  34.9360, 2,   -999.0, 9,    252.4, 2,    28.24, 2,    20.13, 2,     0.00, 2,     1.34, 2, -999.000, 9, -999.000, 9,   2181.4, 2,   -999.0, 9,   -999.0, 9,   2.7865,   -999.0, 9, -999.000, 9
316N19871218, SAVE2, 98, 1, 28, 28, 2, 19880118, 2308, -18.4367, -34.5600, 4241,  -999.00,   2801.5,   2.8838,  34.9297, 2,  34.9240, 2,   -999.0, 9,    252.9, 2,    30.00, 2,    20.23, 2,     0.00, 2,     1.35, 2,    0.005, 2,    0.003, 2,   2186.8, 2,   2348.9, 2,    734.2, 2,   2.6560,   -999.0, 9, -999.000, 9
316N19871218, SAVE2, 98, 1, 29, 29, 2, 19880118, 2308, -18.4367, -34.5600, 4241,  -999.00,   2999.7,   2.7695,  34.9226, 2,  34.9240, 2,   -999.0, 9,    253.3, 2,    31.86, 2,    20.42, 2,     0.00, 2,     1.35, 2, -999.000, 9, -999.000, 9,   2183.8, 2,   -999.0, 9,   -999.0, 9,   2.5239,   -999.0, 9, -999.000, 9
316N19871218, SAVE2, 98, 1, 30, 30, 2, 19880118, 2308, -18.4367, -34.5600, 4241,  -999.00,   3203.2,   2.6783,  34.9177, 2,  34.9190, 2,   -999.0, 9,    253.7, 2,    33.13, 2,    20.42, 2,     0.00, 2,     1.36, 2,    0.006, 2,    0.002, 2,   2184.5, 2,   2350.0, 2,    720.4, 2,   2.4134,   -999.0, 9, -999.000, 9
316N19871218, SAVE2, 98, 1, 31, 31, 2, 19880118, 2308, -18.4367, -34.5600, 4241,  -999.00,   3406.3,   2.5279,  34.9067, 2,  34.9060, 2,   -999.0, 9,    254.6, 2,    36.45, 2,    20.72, 2,     0.00, 2,     1.38, 2,    0.002, 2,    0.002, 2,   2187.3, 2,   -999.0, 9,   -999.0, 9,   2.2449,   -999.0, 9, -999.000, 9
316N19871218, SAVE2, 98, 1, 32, 32, 2, 19880118, 2308, -18.4367, -34.5600, 4241,  -999.00,   3625.3,   2.2100,  34.8764, 2,  34.8760, 2,   -999.0, 9,    250.7, 2,    47.30, 2,    22.18, 2,     0.00, 2,     1.49, 2, -999.000, 9, -999.000, 9,   2196.7, 2,   2356.5, 2,    751.4, 2,   1.9115,   3639.4, 2,    2.210, 2
316N19871218, SAVE2, 98, 1, 33, 33, 2, 19880118, 2308, -18.4367, -34.5600, 4241,  -999.00,   3899.3,   1.5757,  34.8095, 2,  34.8090, 2,   -999.0, 9,    239.0, 2,    73.40, 2,    25.80, 2,     0.00, 2,     1.74, 2,    0.000, 2,    0.003, 2,   2225.3, 2,   -999.0, 9,   -999.0, 9,   1.2649,   -999.0, 9, -999.000, 9
316N19871218, SAVE2, 98, 1, 34, 34, 2, 19880118, 2308, -18.4367, -34.5600, 4241,  -999.00,   4102.5,   1.2093,  34.7699, 2,  34.7680, 2,   -999.0, 9,    232.0, 2,    89.23, 2,    28.05, 2,     0.00, 2,     1.91, 2,    0.003, 2,    0.007, 2,   2241.3, 2,   2374.3, 2,    907.3, 2,   0.8870,   -999.0, 9, -999.000, 9
316N19871218, SAVE2, 98, 1, 35, 35, 2, 19880118, 2308, -18.4367, -34.5600, 4241,  -999.00,   4254.5,   0.7921,  34.7264, 2,  34.7240, 2,   -999.0, 9,    225.5, 2,   106.34, 2,    30.20, 2,     0.00, 2,     2.06, 2,    0.007, 2,    0.008, 2,   2254.2, 2,   -999.0, 9,   -999.0, 9,   0.4659,   4235.8, 2,    0.804, 2
316N19871218, SAVE2, 98, 1, 36, 36, 2, 19880118, 2308, -18.4367, -34.5600, 4241,  -999.00,   4312.4,   0.6698,  34.7144, 2,  34.7110, 2,   -999.0, 9,    224.2, 2,   111.42, 2,    30.79, 2,     0.00, 2,     2.10, 2,    0.013, 2,    0.014, 2,   2260.0, 2,   2379.6, 2,    997.7, 2,   0.3411,   -999.0, 9, -999.000, 9