BOTTLE,20110114CCHDOSIODM
EXPOCODE,SECT_ID,STNNBR,CASTNO,SAMPNO,BTLNBR,BTLNBR_FLAG_W,DATE,TIME,LATITUDE,LONGITUDE,DEPTH,CTDRAW,CTDPRS,CTDTMP,CTDSAL,CTDSAL_FLAG_W,SALNTY,SALNTY_FLAG_W,CTDOXY,CTDOXY_FLAG_W,OXYGEN,OXYGEN_FLAG_W,SILCAT,SILCAT_FLAG_W,NITRAT,NITRAT_FLAG_W,NITRIT,NITRIT_FLAG_W,PHSPHT,PHSPHT_FLAG_W,CFC-11,CFC-11_FLAG_W,CFC-12,CFC-12_FLAG_W,TCARBN,TCARBN_FLAG_W,ALKALI,ALKALI_FLAG_W,PCO2,PCO2_FLAG_W,THETA,REVPRS,REVPRS_FLAG_W,REVTMP,REVTMP_FLAG_W
,,,,,,,,,,,METERS,DBAR,DBAR,ITS-68,PSS-78,,PSS-78,,UMOL/KG,,UMOL/KG,,UMOL/KG,,UMOL/KG,,UMOL/KG,,UMOL/KG,,PMOL/KG,,PMOL/KG,,UMOL/KG,,UMOL/KG,,UATM,,DEG C,DBAR,,ITS-68,
316N19871218, SAVE2, 66, 1, 1, 1, 2, 19880101, 2040, -11.5533, 4.9233, 5489,  -999.00,      1.8,  23.7055,  36.3175, 2,  36.3190, 2,   -999.0, 9,    214.9, 2,     0.88, 2,     0.00, 2,     0.00, 2,     0.20, 2,    1.666, 2,    0.919, 2,   2059.5, 2,   -999.0, 9,   -999.0, 9,  23.7051,   -999.0, 9, -999.000, 9
316N19871218, SAVE2, 66, 1, 2, 2, 2, 19880101, 2040, -11.5533, 4.9233, 5489,  -999.00,     12.4,  23.6842,  36.3183, 2,  36.3190, 2,   -999.0, 9,    214.9, 2,     0.78, 2,     0.00, 2,     0.00, 2,     0.21, 2,    1.751, 2,    0.864, 2,   -999.0, 9,   -999.0, 9,   -999.0, 9,  23.6816,   -999.0, 9, -999.000, 9
316N19871218, SAVE2, 66, 1, 3, 3, 2, 19880101, 2040, -11.5533, 4.9233, 5489,  -999.00,     22.8,  23.5056,  36.3152, 2,  36.3110, 2,   -999.0, 9,    224.4, 2,     0.68, 2,     0.00, 2,     0.00, 2,     0.20, 2,    1.749, 2,    0.885, 2,   2058.6, 2,   -999.0, 9,   -999.0, 9,  23.5009,   -999.0, 9, -999.000, 9
316N19871218, SAVE2, 66, 1, 4, 4, 2, 19880101, 2040, -11.5533, 4.9233, 5489,  -999.00,     38.1,  20.3615,  36.2722, 2,  36.2740, 2,   -999.0, 9,    263.0, 2,     0.29, 2,     0.00, 2,     0.01, 2,     0.09, 2,    1.969, 2,    0.994, 2,   2060.5, 2,   -999.0, 9,   -999.0, 9,  20.3543,   -999.0, 9, -999.000, 9
316N19871218, SAVE2, 66, 1, 5, 5, 2, 19880101, 2040, -11.5533, 4.9233, 5489,  -999.00,     49.5,  18.3337,  36.0221, 2,  36.0790, 2,   -999.0, 9,    174.1, 2,     1.86, 2,     7.81, 2,     1.31, 2,     0.72, 2,    1.755, 2,    0.871, 2,   2129.9, 2,   -999.0, 9,   -999.0, 9,  18.3251,   -999.0, 9, -999.000, 9
316N19871218, SAVE2, 66, 1, 6, 6, 2, 19880101, 2040, -11.5533, 4.9233, 5489,  -999.00,     76.8,  14.0611,  35.4171, 2,  35.4170, 2,   -999.0, 9,     52.6, 2,     8.99, 2,    26.77, 2,     0.03, 2,     1.75, 2,    0.675, 2,    0.337, 2,   2221.2, 2,   -999.0, 9,   -999.0, 9,  14.0500,   -999.0, 9, -999.000, 9
316N19871218, SAVE2, 66, 1, 7, 7, 2, 19880101, 2040, -11.5533, 4.9233, 5489,  -999.00,     96.9,  13.2438,  35.3220, 2,  35.3130, 2,   -999.0, 9,     66.1, 2,     9.77, 2,    26.48, 2,     0.01, 2,     1.72, 2,    0.571, 2,    0.328, 2,   2213.8, 2,   -999.0, 9,   -999.0, 9,  13.2303,   -999.0, 9, -999.000, 9
316N19871218, SAVE2, 66, 1, 8, 8, 2, 19880101, 2040, -11.5533, 4.9233, 5489,  -999.00,    147.0,  12.1687,  35.1874, 2,  35.1840, 2,   -999.0, 9,     64.8, 2,    11.33, 2,    28.33, 2,     0.01, 2,     1.82, 2,    0.372, 2,    0.192, 2,   2222.8, 2,   -999.0, 9,   -999.0, 9,  12.1493,   -999.0, 9, -999.000, 9
316N19871218, SAVE2, 66, 1, 9, 9, 2, 19880101, 2040, -11.5533, 4.9233, 5489,  -999.00,    192.4,  11.5369,  35.1102, 2,  35.1080, 2,   -999.0, 9,     59.6, 2,    12.41, 2,    30.00, 2,     0.01, 2,     1.92, 2,    0.271, 2,    0.146, 2,   2228.6, 2,   -999.0, 9,   -999.0, 9,  11.5125,   -999.0, 9, -999.000, 9
316N19871218, SAVE2, 66, 1, 10, 10, 2, 19880101, 2040, -11.5533, 4.9233, 5489,  -999.00,    222.6,  11.0835,  35.0564, 2, -999.0000, 9,   -999.0, 9,   -999.0, 9,  -999.00, 9,  -999.00, 9,  -999.00, 9,  -999.00, 9, -999.000, 9, -999.000, 9,   -999.0, 9,   -999.0, 9,   -999.0, 9,  11.0559,   -999.0, 9, -999.000, 9
316N19871218, SAVE2, 66, 1, 11, 11, 2, 19880101, 2040, -11.5533, 4.9233, 5489,  -999.00,    312.9,   9.9463,  34.9268, 2,  34.9250, 2,   -999.0, 9,     36.5, 2,    16.22, 2,    35.38, 2,     0.00, 2,     2.25, 2,    0.091, 2,    0.052, 2,   2256.9, 2,   -999.0, 9,   -999.0, 9,   9.9099,   -999.0, 9, -999.000, 9
316N19871218, SAVE2, 66, 1, 12, 12, 2, 19880101, 2040, -11.5533, 4.9233, 5489,  -999.00,    413.2,   8.4366,  34.7709, 2,  34.7690, 2,   -999.0, 9,     30.4, 2,    20.13, 2,    39.19, 2,     0.00, 2,     2.51, 2,    0.020, 2,    0.008, 2,   2269.8, 2,   -999.0, 9,   -999.0, 9,   8.3930,   -999.0, 9, -999.000, 9
316N19871218, SAVE2, 66, 1, 13, 13, 2, 19880101, 2040, -11.5533, 4.9233, 5489,  -999.00,    503.4,   7.2267,  34.6595, 2,  34.6570, 2,   -999.0, 9,     35.7, 2,    23.75, 2,    41.54, 2,     0.00, 2,     2.70, 2,    0.007, 2,    0.003, 2,   2273.3, 2,   -999.0, 9,   -999.0, 9,   7.1779,   -999.0, 9, -999.000, 9
316N19871218, SAVE2, 66, 1, 14, 14, 2, 19880101, 2040, -11.5533, 4.9233, 5489,  -999.00,    682.4,   5.4459,  34.5249, 2,  34.5240, 2,   -999.0, 9,     84.3, 2,    29.81, 2,    40.27, 2,     0.00, 2,     2.67, 2, -999.000, 9,    0.008, 2,   -999.0, 9,   -999.0, 9,   -999.0, 9,   5.3883,   -999.0, 9, -999.000, 9
316N19871218, SAVE2, 66, 1, 15, 15, 2, 19880101, 2040, -11.5533, 4.9233, 5489,  -999.00,    809.6,   4.7330,  34.5050, 2,  34.5040, 2,   -999.0, 9,    113.0, 2,    33.63, 2,    38.22, 2,     0.00, 2,     2.59, 2,    0.001, 2,    0.003, 2,   2249.1, 2,   -999.0, 9,   -999.0, 9,   4.6683,   -999.0, 9, -999.000, 9
316N19871218, SAVE2, 66, 1, 16, 16, 2, 19880101, 2040, -11.5533, 4.9233, 5489,  -999.00,    960.4,   4.2789,  34.5390, 2,  34.5400, 2,   -999.0, 9,    138.2, 2,    35.88, 2,    35.58, 2,     0.00, 2,     2.43, 2,    0.004, 2,    0.005, 2,   2237.2, 2,   -999.0, 9,   -999.0, 9,   4.2044,   -999.0, 9, -999.000, 9
316N19871218, SAVE2, 66, 1, 17, 17, 2, 19880101, 2040, -11.5533, 4.9233, 5489,  -999.00,   1141.5,   4.0461,  34.6463, 2,  34.6480, 2,   -999.0, 9,    157.8, 2,    34.70, 2,    32.55, 2,     0.00, 2,     2.24, 2, -999.000, 9,    0.003, 2,   -999.0, 9,   -999.0, 9,   -999.0, 9,   3.9579,   -999.0, 9, -999.000, 9
316N19871218, SAVE2, 66, 1, 18, 18, 2, 19880101, 2040, -11.5533, 4.9233, 5489,  -999.00,   1327.1,   3.9099,  34.7684, 2,  34.7670, 2,   -999.0, 9,    176.0, 2,    32.16, 2,    29.42, 2,     0.00, 2,     2.00, 2, -999.000, 9,    0.003, 2,   2219.8, 2,   -999.0, 9,   -999.0, 9,   3.8066,   -999.0, 9, -999.000, 9
316N19871218, SAVE2, 66, 1, 19, 19, 2, 19880101, 2040, -11.5533, 4.9233, 5489,  -999.00,   1483.3,   3.8403,  34.8529, 2,  34.8570, 2,   -999.0, 9,    194.2, 2,    29.03, 2,    26.48, 2,     0.00, 2,     1.79, 2,    0.002, 2,    0.007, 2,   -999.0, 9,   -999.0, 9,   -999.0, 9,   3.7236,   -999.0, 9, -999.000, 9
316N19871218, SAVE2, 66, 1, 20, 20, 2, 19880101, 2040, -11.5533, 4.9233, 5489,  -999.00,   1641.2,   3.7168,  34.9003, 2,  34.9010, 2,   -999.0, 9,    208.6, 2,    27.75, 2,    24.53, 2,     0.00, 2,     1.66, 2,    0.003, 2, -999.000, 9,   -999.0, 9,   -999.0, 9,   -999.0, 9,   3.5873,   -999.0, 9, -999.000, 9
316N19871218, SAVE2, 66, 1, 21, 21, 2, 19880101, 2040, -11.5533, 4.9233, 5489,  -999.00,   1851.1,   3.4980,  34.9205, 2,  34.9210, 2,   -999.0, 9,    218.1, 2,    28.73, 2,    23.45, 2,     0.00, 2,     1.57, 2,    0.003, 2,    0.004, 2,   -999.0, 9,   -999.0, 9,   -999.0, 9,   3.3520,   -999.0, 9, -999.000, 9
316N19871218, SAVE2, 66, 1, 22, 22, 2, 19880101, 2040, -11.5533, 4.9233, 5489,  -999.00,   2062.0,   3.2762,  34.9267, 2,  34.9270, 2,   -999.0, 9,    225.1, 2,    31.08, 2,    22.77, 2,     0.00, 2,     1.52, 2,    0.003, 2, -999.000, 9,   2195.0, 2,   -999.0, 9,   -999.0, 9,   3.1137,   -999.0, 9, -999.000, 9
316N19871218, SAVE2, 66, 1, 23, 23, 2, 19880101, 2040, -11.5533, 4.9233, 5489,  -999.00,   2248.3,   3.1030,  34.9254, 2,  34.9240, 2,   -999.0, 9,    229.4, 2,    33.52, 2,    22.57, 2,     0.00, 2,     1.52, 2,    0.000, 2, -999.000, 9,   -999.0, 9,   -999.0, 9,   -999.0, 9,   2.9256,   -999.0, 9, -999.000, 9
316N19871218, SAVE2, 66, 1, 24, 24, 2, 19880101, 2040, -11.5533, 4.9233, 5489,  -999.00,   2451.7,   2.9461,  34.9205, 2,  34.9190, 2,   -999.0, 9,    230.3, 2,    36.45, 2,    22.67, 2,     0.00, 2,     1.51, 2, -999.000, 9, -999.000, 9,   -999.0, 9,   -999.0, 9,   -999.0, 9,   2.7520,   -999.0, 9, -999.000, 9
316N19871218, SAVE2, 66, 1, 25, 25, 2, 19880101, 2040, -11.5533, 4.9233, 5489,  -999.00,   2700.3,   2.8063,  34.9163, 2,  34.9170, 2,   -999.0, 9,    230.7, 2,    39.58, 2,    22.57, 2,     0.00, 2,     1.52, 2,    0.003, 2,    0.001, 2,   -999.0, 9,   -999.0, 9,   -999.0, 9,   2.5903,   -999.0, 9, -999.000, 9
316N19871218, SAVE2, 66, 1, 26, 26, 2, 19880101, 2040, -11.5533, 4.9233, 5489,  -999.00,   2953.4,   2.6831,  34.9098, 2,  34.9090, 2,   -999.0, 9,    231.6, 2,    42.41, 2,    22.67, 2,     0.00, 2,     1.54, 2, -999.000, 9, -999.000, 9,   -999.0, 9,   -999.0, 9,   -999.0, 9,   2.4441,   -999.0, 9, -999.000, 9
316N19871218, SAVE2, 66, 1, 27, 27, 2, 19880101, 2040, -11.5533, 4.9233, 5489,  -999.00,   3141.6,   2.5830,  34.9016, 2,  34.8990, 2,   -999.0, 9,    232.4, 2,    44.95, 2,    23.06, 2,     0.00, 2,     1.56, 2, -999.000, 9, -999.000, 9,   2211.9, 2,   -999.0, 9,   -999.0, 9,   2.3268,   -999.0, 9, -999.000, 9
316N19871218, SAVE2, 66, 1, 28, 28, 2, 19880101, 2040, -11.5533, 4.9233, 5489,  -999.00,   3365.0,   2.4868,  34.8965, 2,  34.8940, 2,   -999.0, 9,    227.7, 2,    49.06, 2,    23.45, 2,     0.00, 2,     1.60, 2,    0.002, 2,    0.010, 2,   -999.0, 9,   -999.0, 9,   -999.0, 9,   2.2093,   -999.0, 9, -999.000, 9
316N19871218, SAVE2, 66, 1, 29, 29, 2, 19880101, 2040, -11.5533, 4.9233, 5489,  -999.00,   3582.9,   2.4061,  34.8929, 2,  34.8900, 2,   -999.0, 9,    225.5, 2,    52.67, 2,    23.75, 2,     0.00, 2,     1.62, 2, -999.000, 9, -999.000, 9,   2223.7, 2,   -999.0, 9,   -999.0, 9,   2.1072,   -999.0, 9, -999.000, 9
316N19871218, SAVE2, 66, 1, 30, 30, 2, 19880101, 2040, -11.5533, 4.9233, 5489,  -999.00,   3908.1,   2.3562,  34.8892, 2,  34.8880, 2,   -999.0, 9,    230.7, 2,    52.67, 2,    23.45, 2,     0.00, 2,     1.60, 2,    0.005, 2,    0.001, 2,   2217.4, 2,   -999.0, 9,   -999.0, 9,   2.0224,   -999.0, 9, -999.000, 9
316N19871218, SAVE2, 66, 1, 31, 31, 2, 19880101, 2040, -11.5533, 4.9233, 5489,  -999.00,   4203.7,   2.3610,  34.8876, 2,  34.8880, 2,   -999.0, 9,    232.9, 2,    52.28, 2,    23.45, 2,     0.00, 2,     1.59, 2, -999.000, 9, -999.000, 9,   -999.0, 9,   -999.0, 9,   -999.0, 9,   1.9932,   -999.0, 9, -999.000, 9
316N19871218, SAVE2, 66, 1, 32, 32, 2, 19880101, 2040, -11.5533, 4.9233, 5489,  -999.00,   4499.7,   2.3751,  34.8840, 2,  34.8840, 2,   -999.0, 9,    233.7, 2,    52.48, 2,    23.36, 2,     0.00, 2,     1.59, 2,    0.000, 2, -999.000, 9,   -999.0, 9,   -999.0, 9,   -999.0, 9,   1.9717,   -999.0, 9, -999.000, 9
316N19871218, SAVE2, 66, 1, 33, 33, 2, 19880101, 2040, -11.5533, 4.9233, 5489,  -999.00,   4817.0,   2.3905,  34.8818, 2,  34.8810, 2,   -999.0, 9,    235.1, 2,    52.58, 2,    23.26, 2,     0.00, 2,     1.59, 2, -999.000, 9, -999.000, 9,   2215.9, 2,   -999.0, 9,   -999.0, 9,   1.9478,   -999.0, 9, -999.000, 9
316N19871218, SAVE2, 66, 1, 34, 34, 2, 19880101, 2040, -11.5533, 4.9233, 5489,  -999.00,   5174.6,   2.4194,  34.8792, 2,  34.8800, 2,   -999.0, 9,    237.2, 2,    52.68, 2,    23.26, 2,     0.00, 2,     1.58, 2, -999.000, 9, -999.000, 9,   -999.0, 9,   -999.0, 9,   -999.0, 9,   1.9305,   -999.0, 9, -999.000, 9
316N19871218, SAVE2, 66, 1, 35, 35, 2, 19880101, 2040, -11.5533, 4.9233, 5489,  -999.00,   5481.9,   2.4554,  34.8782, 2,  34.8770, 2,   -999.0, 9,    237.2, 2,    53.16, 2,    23.36, 2,     0.00, 2,     1.58, 2,    0.004, 2,    0.005, 2,   -999.0, 9,   -999.0, 9,   -999.0, 9,   1.9251,   5473.2, 2,    2.449, 2
316N19871218, SAVE2, 66, 1, 36, 36, 2, 19880101, 2040, -11.5533, 4.9233, 5489,  -999.00,   5629.6,   2.4734,  34.8777, 2,  34.8780, 2,   -999.0, 9,    236.8, 2,    53.46, 2,    23.26, 2,     0.00, 2,     1.58, 2,    0.001, 2,    0.003, 2,   2216.2, 2,   -999.0, 9,   -999.0, 9,   1.9227,   -999.0, 9, -999.000, 9