BOTTLE,20110114CCHDOSIODM
EXPOCODE,SECT_ID,STNNBR,CASTNO,SAMPNO,BTLNBR,BTLNBR_FLAG_W,DATE,TIME,LATITUDE,LONGITUDE,DEPTH,CTDRAW,CTDPRS,CTDTMP,CTDSAL,CTDSAL_FLAG_W,SALNTY,SALNTY_FLAG_W,CTDOXY,CTDOXY_FLAG_W,OXYGEN,OXYGEN_FLAG_W,SILCAT,SILCAT_FLAG_W,NITRAT,NITRAT_FLAG_W,NITRIT,NITRIT_FLAG_W,PHSPHT,PHSPHT_FLAG_W,CFC-11,CFC-11_FLAG_W,CFC-12,CFC-12_FLAG_W,TCARBN,TCARBN_FLAG_W,ALKALI,ALKALI_FLAG_W,PCO2,PCO2_FLAG_W,THETA,REVPRS,REVPRS_FLAG_W,REVTMP,REVTMP_FLAG_W
,,,,,,,,,,,METERS,DBAR,DBAR,ITS-68,PSS-78,,PSS-78,,UMOL/KG,,UMOL/KG,,UMOL/KG,,UMOL/KG,,UMOL/KG,,UMOL/KG,,PMOL/KG,,PMOL/KG,,UMOL/KG,,UMOL/KG,,UATM,,DEG C,DBAR,,ITS-68,
316N19871218, SAVE2, 79, 1, 1, 1, 2, 19880109, 0120, -14.6283, -12.0167, 3174,  -999.00,      1.5,  24.1090,  36.7812, 2,  36.7800, 2,   -999.0, 9,    210.9, 2,     1.37, 2,     0.10, 2,     0.00, 2,     0.19, 2,    1.695, 2,    0.841, 2,   2076.2, 2,   -999.0, 9,   -999.0, 9,  24.1087,   -999.0, 9, -999.000, 9
316N19871218, SAVE2, 79, 1, 2, 2, 2, 19880109, 0120, -14.6283, -12.0167, 3174,  -999.00,     31.1,  24.0530,  36.7766, 2,  36.7740, 2,   -999.0, 9,    211.3, 2,     1.37, 2,     0.00, 2,     0.00, 2,     0.19, 2,    1.718, 2,    0.856, 2,   2078.5, 2,   -999.0, 9,   -999.0, 9,  24.0464,   -999.0, 9, -999.000, 9
316N19871218, SAVE2, 79, 1, 3, 3, 2, 19880109, 0120, -14.6283, -12.0167, 3174,  -999.00,     51.3,  23.0270,  36.6463, 2,  36.6360, 2,   -999.0, 9,    218.7, 2,     1.37, 2,     0.00, 2,     0.00, 2,     0.22, 2, -999.000, 9, -999.000, 9,   -999.0, 9,   -999.0, 9,   -999.0, 9,  23.0164,   -999.0, 9, -999.000, 9
316N19871218, SAVE2, 79, 1, 4, 4, 2, 19880109, 0120, -14.6283, -12.0167, 3174,  -999.00,     71.6,  21.6459,  36.5379, 2,  36.5380, 2,   -999.0, 9,    222.1, 2,     1.37, 2,     0.00, 2,     0.00, 2,     0.23, 2,    1.856, 2,    0.931, 2,   2078.3, 2,   -999.0, 9,   -999.0, 9,  21.6319,   -999.0, 9, -999.000, 9
316N19871218, SAVE2, 79, 1, 5, 5, 2, 19880109, 0120, -14.6283, -12.0167, 3174,  -999.00,    107.3,  20.5120,  36.3933, 2,  36.3650, 2,   -999.0, 9,    201.2, 2,     1.76, 2,     2.05, 2,     0.34, 2,     0.39, 2,    1.837, 2,    0.913, 2,   2100.3, 2,   -999.0, 9,   -999.0, 9,  20.4916,   -999.0, 9, -999.000, 9
316N19871218, SAVE2, 79, 1, 6, 6, 2, 19880109, 0120, -14.6283, -12.0167, 3174,  -999.00,    127.6,  17.7932,  35.9218, 2,  35.8890, 2,   -999.0, 9,    184.6, 2,     2.93, 2,     6.84, 2,     0.05, 2,     0.63, 2,    1.816, 2,    0.904, 2,   -999.0, 9,   -999.0, 9,   -999.0, 9,  17.7713,   -999.0, 9, -999.000, 9
316N19871218, SAVE2, 79, 1, 7, 7, 2, 19880109, 0120, -14.6283, -12.0167, 3174,  -999.00,    148.0,  15.3795,  35.5127, 2,  35.4970, 2,   -999.0, 9,    169.3, 2,     4.20, 2,    11.33, 2,     0.01, 2,     0.88, 2,    1.737, 2,    0.850, 2,   2127.2, 2,   -999.0, 9,   -999.0, 9,  15.3567,   -999.0, 9, -999.000, 9
316N19871218, SAVE2, 79, 1, 8, 8, 2, 19880109, 0120, -14.6283, -12.0167, 3174,  -999.00,    175.0,  14.1578,  35.3417, 2,  35.3340, 2,   -999.0, 9,    152.3, 2,     5.47, 2,    15.24, 2,     0.01, 2,     1.08, 2,    1.546, 2,    0.753, 2,   -999.0, 9,   -999.0, 9,   -999.0, 9,  14.1322,   -999.0, 9, -999.000, 9
316N19871218, SAVE2, 79, 1, 9, 9, 2, 19880109, 0120, -14.6283, -12.0167, 3174,  -999.00,    203.2,  13.1630,  35.2233, 2,  35.2220, 2,   -999.0, 9,    127.5, 2,     7.43, 2,    19.64, 2,     0.01, 2,     1.35, 2,    1.269, 2,    0.617, 2,   2169.1, 2,   -999.0, 9,   -999.0, 9,  13.1348,   -999.0, 9, -999.000, 9
316N19871218, SAVE2, 79, 1, 10, 10, 2, 19880109, 0120, -14.6283, -12.0167, 3174,  -999.00,    298.0,  10.7747,  34.9872, 2,  34.9880, 2,   -999.0, 9,     77.4, 2,    13.09, 2,    29.32, 2,     0.00, 2,     1.92, 2,    0.410, 2,    0.216, 2,   2220.6, 2,   -999.0, 9,   -999.0, 9,  10.7383,   -999.0, 9, -999.000, 9
316N19871218, SAVE2, 79, 1, 11, 11, 2, 19880109, 0120, -14.6283, -12.0167, 3174,  -999.00,    333.2,  10.1539,  34.9230, 2,  34.9200, 2,   -999.0, 9,     74.8, 2,    14.46, 2,    30.78, 2,     0.00, 2,     2.02, 2,    0.276, 2,    0.144, 2,   2227.2, 2,   -999.0, 9,   -999.0, 9,  10.1146,   -999.0, 9, -999.000, 9
316N19871218, SAVE2, 79, 1, 12, 12, 2, 19880109, 0120, -14.6283, -12.0167, 3174,  -999.00,    404.1,   8.8004,  34.7850, 2,  34.7850, 2,   -999.0, 9,     79.6, 2,    17.49, 2,    33.13, 2,     0.00, 2,     2.16, 2,    0.102, 2,    0.056, 2,   -999.0, 9,   -999.0, 9,   -999.0, 9,   8.7567,   -999.0, 9, -999.000, 9
316N19871218, SAVE2, 79, 1, 13, 13, 2, 19880109, 0120, -14.6283, -12.0167, 3174,  -999.00,    488.7,   7.5269,  34.6597, 2,  34.6600, 2,   -999.0, 9,     99.1, 2,    20.33, 2,    33.92, 2,     0.00, 2,     2.24, 2,    0.040, 2,    0.027, 2,   2229.3, 2,   -999.0, 9,   -999.0, 9,   7.4785,   -999.0, 9, -999.000, 9
316N19871218, SAVE2, 79, 1, 14, 14, 2, 19880109, 0120, -14.6283, -12.0167, 3174,  -999.00,    537.8,   6.8442,  34.5936, 2,  34.5960, 2,   -999.0, 9,    113.9, 2,    21.99, 2,    33.82, 2,     0.00, 2,     2.24, 2,    0.033, 2,    0.021, 2,   -999.0, 9,   -999.0, 9,   -999.0, 9,   6.7935,   -999.0, 9, -999.000, 9
316N19871218, SAVE2, 79, 1, 15, 15, 2, 19880109, 0120, -14.6283, -12.0167, 3174,  -999.00,    602.0,   6.1345,  34.5339, 2,  34.5340, 2,   -999.0, 9,    129.1, 2,    24.14, 2,    34.02, 2,     0.00, 2,     2.28, 2,    0.023, 2,    0.016, 2,   2224.1, 2,   -999.0, 9,   -999.0, 9,   6.0808,   -999.0, 9, -999.000, 9
316N19871218, SAVE2, 79, 1, 16, 16, 2, 19880109, 0120, -14.6283, -12.0167, 3174,  -999.00,    659.3,   5.6008,  34.4972, 2,  34.4990, 2,   -999.0, 9,    134.8, 2,    26.88, 2,    34.61, 2,     0.00, 2,     2.32, 2, -999.000, 9, -999.000, 9,   -999.0, 9,   -999.0, 9,   -999.0, 9,   5.5444,   -999.0, 9, -999.000, 9
316N19871218, SAVE2, 79, 1, 17, 17, 2, 19880109, 0120, -14.6283, -12.0167, 3174,  -999.00,    749.5,   4.8881,  34.4678, 2,  34.4670, 2,   -999.0, 9,    143.5, 2,    30.99, 2,    35.00, 2,     0.00, 2,     2.38, 2,    0.007, 2,    0.009, 2,   2225.8, 2,   -999.0, 9,   -999.0, 9,   4.8277,   -999.0, 9, -999.000, 9
316N19871218, SAVE2, 79, 1, 18, 18, 2, 19880109, 0120, -14.6283, -12.0167, 3174,  -999.00,    779.9,   4.6592,  34.4646, 2,  34.4630, 2,   -999.0, 9,    148.2, 2,    32.46, 2,    34.80, 2,     0.00, 2,     2.37, 2,    0.006, 2,    0.005, 2,   2228.7, 2,   -999.0, 9,   -999.0, 9,   4.5976,   -999.0, 9, -999.000, 9
316N19871218, SAVE2, 79, 1, 19, 19, 2, 19880109, 0120, -14.6283, -12.0167, 3174,  -999.00,    859.7,   4.3064,  34.4852, 2,  34.4840, 2,   -999.0, 9,    153.0, 2,    35.19, 2,    34.61, 2,     0.00, 2,     2.37, 2,    0.003, 2,    0.003, 2,   2225.4, 2,   -999.0, 9,   -999.0, 9,   4.2403,   -999.0, 9, -999.000, 9
316N19871218, SAVE2, 79, 1, 20, 20, 2, 19880109, 0120, -14.6283, -12.0167, 3174,  -999.00,    979.5,   3.9676,  34.5308, 2,  34.5280, 2,   -999.0, 9,    164.7, 2,    37.34, 2,    33.33, 2,     0.00, 2,     2.29, 2, -999.000, 9, -999.000, 9,   2229.5, 2,   -999.0, 9,   -999.0, 9,   3.8938,   -999.0, 9, -999.000, 9
316N19871218, SAVE2, 79, 1, 21, 21, 2, 19880109, 0120, -14.6283, -12.0167, 3174,  -999.00,   1099.2,   3.8427,  34.6156, 2,  34.6130, 2,   -999.0, 9,    169.1, 2,    37.05, 2,    32.16, 2,     0.00, 2,     2.20, 2, -999.000, 9, -999.000, 9,   2225.1, 2,   -999.0, 9,   -999.0, 9,   3.7598,   -999.0, 9, -999.000, 9
316N19871218, SAVE2, 79, 1, 22, 22, 2, 19880109, 0120, -14.6283, -12.0167, 3174,  -999.00,   1258.2,   3.8227,  34.7185, 2,  34.7170, 2,   -999.0, 9,    183.4, 2,    33.92, 2,    29.52, 2,     0.00, 2,     2.01, 2, -999.000, 9, -999.000, 9,   2214.1, 2,   -999.0, 9,   -999.0, 9,   3.7263,   -999.0, 9, -999.000, 9
316N19871218, SAVE2, 79, 1, 23, 23, 2, 19880109, 0120, -14.6283, -12.0167, 3174,  -999.00,   1426.3,   3.8267,  34.8228, 2,  34.8220, 2,   -999.0, 9,    202.1, 2,    29.22, 2,    26.29, 2,     0.00, 2,     1.75, 2, -999.000, 9, -999.000, 9,   -999.0, 9,   -999.0, 9,   -999.0, 9,   3.7153,   -999.0, 9, -999.000, 9
316N19871218, SAVE2, 79, 1, 24, 24, 2, 19880109, 0120, -14.6283, -12.0167, 3174,  -999.00,   1548.1,   3.7577,  34.8633, 2,  34.8620, 2,   -999.0, 9,    212.5, 2,    27.85, 2,    24.73, 2,     0.00, 2,     1.63, 2, -999.000, 9, -999.000, 9,   2195.5, 2,   -999.0, 9,   -999.0, 9,   3.6362,   -999.0, 9, -999.000, 9
316N19871218, SAVE2, 79, 1, 25, 25, 2, 19880109, 0120, -14.6283, -12.0167, 3174,  -999.00,   1700.1,   3.5738,  34.8925, 2,  34.8930, 2,   -999.0, 9,    224.2, 2,    28.24, 2,    23.36, 2,     0.00, 2,     1.54, 2, -999.000, 9, -999.000, 9,   -999.0, 9,   -999.0, 9,   -999.0, 9,   3.4407,   -999.0, 9, -999.000, 9
316N19871218, SAVE2, 79, 1, 26, 26, 2, 19880109, 0120, -14.6283, -12.0167, 3174,  -999.00,   1846.7,   3.2840,  34.8997, 2,  34.8990, 2,   -999.0, 9,    232.9, 2,    31.08, 2,    22.67, 2,     0.00, 2,     1.50, 2, -999.000, 9, -999.000, 9,   2189.3, 2,   -999.0, 9,   -999.0, 9,   3.1414,   -999.0, 9, -999.000, 9
316N19871218, SAVE2, 79, 1, 27, 27, 2, 19880109, 0120, -14.6283, -12.0167, 3174,  -999.00,   1998.4,   3.0621,  34.9025, 2, -999.0000, 9,   -999.0, 9,    238.1, 2,    33.72, 2,    22.18, 2,     0.00, 2,     1.47, 2, -999.000, 9, -999.000, 9,   -999.0, 9,   -999.0, 9,   -999.0, 9,   2.9089,   -999.0, 9, -999.000, 9
316N19871218, SAVE2, 79, 1, 28, 28, 2, 19880109, 0120, -14.6283, -12.0167, 3174,  -999.00,   2159.7,   2.9431,  34.9055, 2,  34.9040, 2,   -999.0, 9,    239.4, 2,    35.38, 2,    22.18, 2,     0.00, 2,     1.50, 2, -999.000, 9,    0.001, 2,   2191.7, 2,   -999.0, 9,   -999.0, 9,   2.7769,   -999.0, 9, -999.000, 9
316N19871218, SAVE2, 79, 1, 29, 29, 2, 19880109, 0120, -14.6283, -12.0167, 3174,  -999.00,   2200.2,   2.8972,  34.9040, 2,  34.9020, 2,   -999.0, 9,    240.7, 2,    36.35, 2,    22.18, 2,     0.00, 2,     1.50, 2, -999.000, 9, -999.000, 9,   -999.0, 9,   -999.0, 9,   -999.0, 9,   2.7279,   -999.0, 9, -999.000, 9
316N19871218, SAVE2, 79, 1, 30, 30, 2, 19880109, 0120, -14.6283, -12.0167, 3174,  -999.00,   2346.5,   2.7602,  34.8982, 2,  34.9000, 2,   -999.0, 9,    242.0, 2,    38.90, 2,    22.28, 2,     0.00, 2,     1.50, 2, -999.000, 9,    0.001, 2,   2189.1, 2,   -999.0, 9,   -999.0, 9,   2.5795,   -999.0, 9, -999.000, 9
316N19871218, SAVE2, 79, 1, 31, 31, 2, 19880109, 0120, -14.6283, -12.0167, 3174,  -999.00,   2498.1,   2.6623,  34.8936, 2,  34.8950, 2,   -999.0, 9,    242.0, 2,    41.53, 2,    22.57, 2,     0.00, 2,     1.51, 2, -999.000, 9, -999.000, 9,   -999.0, 9,   -999.0, 9,   -999.0, 9,   2.4689,   -999.0, 9, -999.000, 9
316N19871218, SAVE2, 79, 1, 32, 32, 2, 19880109, 0120, -14.6283, -12.0167, 3174,  -999.00,   2649.7,   2.6313,  34.8931, 2,  34.8930, 2,   -999.0, 9,    241.6, 2,    42.22, 2,    22.57, 2,     0.00, 2,     1.52, 2, -999.000, 9,    0.003, 2,   2199.3, 2,   -999.0, 9,   -999.0, 9,   2.4239,   2659.6, 2,    2.630, 2
316N19871218, SAVE2, 79, 1, 33, 33, 2, 19880109, 0120, -14.6283, -12.0167, 3174,  -999.00,   2795.8,   2.6173,  34.8928, 2,  34.8930, 2,   -999.0, 9,    241.1, 2,    42.80, 2,    22.67, 2,     0.00, 2,     1.51, 2, -999.000, 9, -999.000, 9,   -999.0, 9,   -999.0, 9,   -999.0, 9,   2.3957,   -999.0, 9, -999.000, 9
316N19871218, SAVE2, 79, 1, 34, 34, 2, 19880109, 0120, -14.6283, -12.0167, 3174,  -999.00,   2947.1,   2.6013,  34.8917, 2,  34.8910, 2,   -999.0, 9,    240.7, 2,    43.59, 2,    22.67, 2,     0.00, 2,     1.51, 2, -999.000, 9, -999.000, 9,   2198.1, 2,   -999.0, 9,   -999.0, 9,   2.3648,   -999.0, 9, -999.000, 9
316N19871218, SAVE2, 79, 1, 35, 35, 2, 19880109, 0120, -14.6283, -12.0167, 3174,  -999.00,   3088.5,   2.5823,  34.8916, 2,  34.8900, 2,   -999.0, 9,    240.3, 2,    44.07, 2,    22.77, 2,     0.00, 2,     1.53, 2,    0.000, 2,    0.003, 2,   -999.0, 9,   -999.0, 9,   -999.0, 9,   2.3317,   3101.3, 2,    2.577, 2
316N19871218, SAVE2, 79, 1, 36, 36, 2, 19880109, 0120, -14.6283, -12.0167, 3174,  -999.00,   3169.5,   2.5724,  34.8896, 2,  34.8900, 2,   -999.0, 9,    239.8, 2,    44.17, 2,    22.77, 2,     0.00, 2,     1.52, 2, -999.000, 9, -999.000, 9,   2203.8, 2,   -999.0, 9,   -999.0, 9,   2.3135,   -999.0, 9, -999.000, 9