BOTTLE,20110114CCHDOSIODM
EXPOCODE,SECT_ID,STNNBR,CASTNO,SAMPNO,BTLNBR,BTLNBR_FLAG_W,DATE,TIME,LATITUDE,LONGITUDE,DEPTH,CTDRAW,CTDPRS,CTDTMP,CTDSAL,CTDSAL_FLAG_W,SALNTY,SALNTY_FLAG_W,CTDOXY,CTDOXY_FLAG_W,OXYGEN,OXYGEN_FLAG_W,SILCAT,SILCAT_FLAG_W,NITRAT,NITRAT_FLAG_W,NITRIT,NITRIT_FLAG_W,PHSPHT,PHSPHT_FLAG_W,CFC-11,CFC-11_FLAG_W,CFC-12,CFC-12_FLAG_W,TCARBN,TCARBN_FLAG_W,ALKALI,ALKALI_FLAG_W,PCO2,PCO2_FLAG_W,THETA,REVPRS,REVPRS_FLAG_W,REVTMP,REVTMP_FLAG_W
,,,,,,,,,,,METERS,DBAR,DBAR,ITS-68,PSS-78,,PSS-78,,UMOL/KG,,UMOL/KG,,UMOL/KG,,UMOL/KG,,UMOL/KG,,UMOL/KG,,PMOL/KG,,PMOL/KG,,UMOL/KG,,UMOL/KG,,UATM,,DEG C,DBAR,,ITS-68,
316N19871218, SAVE2, 48, 1, 1, 1, 2, 19871222, 0741, -1.1850, 0.6650, 4733,  -999.00,      2.1,  27.1111,  34.9177, 2,  34.9200, 2,   -999.0, 9,    203.1, 2,     1.56, 2,     0.10, 2,     0.00, 2,     0.05, 2,    1.492, 2,    0.763, 2,   1966.1, 2,   -999.0, 9,   -999.0, 9,  27.1106,   -999.0, 9, -999.000, 9
316N19871218, SAVE2, 48, 1, 2, 2, 2, 19871222, 0741, -1.1850, 0.6650, 4733,  -999.00,     20.0,  25.4865,  35.5431, 2,  35.5570, 2,   -999.0, 9,    197.6, 2,     1.47, 2,     0.78, 2,     0.07, 2,     0.17, 2,    1.377, 2,    0.766, 2,   2016.0, 2,   -999.0, 9,   -999.0, 9,  25.4821,   -999.0, 9, -999.000, 9
316N19871218, SAVE2, 48, 1, 3, 3, 2, 19871222, 0741, -1.1850, 0.6650, 4733,  -999.00,     27.6,  22.1045,  35.9060, 2,  35.8890, 2,   -999.0, 9,    159.9, 2,     2.54, 2,     7.03, 2,     0.56, 2,     0.62, 2,    1.370, 2,    0.727, 2,   2097.9, 2,   -999.0, 9,   -999.0, 9,  22.0991,   -999.0, 9, -999.000, 9
316N19871218, SAVE2, 48, 1, 4, 4, 2, 19871222, 0741, -1.1850, 0.6650, 4733,  -999.00,     32.9,  19.4918,  35.8747, 2,  35.8670, 2,   -999.0, 9,    128.9, 2,     4.20, 2,    12.40, 2,     0.63, 2,     0.97, 2,    1.316, 2,    0.739, 2,   2144.5, 2,   -999.0, 9,   -999.0, 9,  19.4858,   -999.0, 9, -999.000, 9
316N19871218, SAVE2, 48, 1, 5, 5, 2, 19871222, 0741, -1.1850, 0.6650, 4733,  -999.00,     58.0,  16.7926,  35.7840, 2,  35.7710, 2,   -999.0, 9,    136.2, 2,     5.37, 2,    14.26, 2,     0.05, 2,     1.04, 2, -999.000, 9, -999.000, 9,   2151.0, 2,   -999.0, 9,   -999.0, 9,  16.7831,   -999.0, 9, -999.000, 9
316N19871218, SAVE2, 48, 1, 6, 6, 2, 19871222, 0741, -1.1850, 0.6650, 4733,  -999.00,     92.5,  15.4906,  35.6242, 2,  35.6220, 2,   -999.0, 9,    137.9, 2,     6.35, 2,    15.63, 2,     0.02, 2,     1.10, 2, -999.000, 9, -999.000, 9,   2157.1, 2,   -999.0, 9,   -999.0, 9,  15.4762,   -999.0, 9, -999.000, 9
316N19871218, SAVE2, 48, 1, 7, 7, 2, 19871222, 0741, -1.1850, 0.6650, 4733,  -999.00,    128.8,  14.6286,  35.5029, 2,  35.5030, 2,   -999.0, 9,    132.7, 2,     6.94, 2,    17.39, 2,     0.01, 2,     1.21, 2, -999.000, 9, -999.000, 9,   2161.5, 2,   -999.0, 9,   -999.0, 9,  14.6093,   -999.0, 9, -999.000, 9
316N19871218, SAVE2, 48, 1, 8, 8, 2, 19871222, 0741, -1.1850, 0.6650, 4733,  -999.00,    198.4,  14.0803,  35.4227, 2,  35.4220, 2,   -999.0, 9,    121.8, 2,     7.91, 2,    19.34, 2,     0.01, 2,     1.31, 2, -999.000, 9, -999.000, 9,   2174.5, 2,   -999.0, 9,   -999.0, 9,  14.0514,   -999.0, 9, -999.000, 9
316N19871218, SAVE2, 48, 1, 9, 9, 2, 19871222, 0741, -1.1850, 0.6650, 4733,  -999.00,    244.0,  13.2395,  35.3080, 2,  35.3060, 2,   -999.0, 9,    106.1, 2,     9.38, 2,    22.57, 2,     0.01, 2,     1.48, 2, -999.000, 9, -999.000, 9,   2188.2, 2,   -999.0, 9,   -999.0, 9,  13.2054,   -999.0, 9, -999.000, 9
316N19871218, SAVE2, 48, 1, 10, 10, 2, 19871222, 0741, -1.1850, 0.6650, 4733,  -999.00,    269.0,  11.0004,  35.0677, 2,  35.0690, 2,   -999.0, 9,     66.5, 2,    13.68, 2,    30.29, 2,     0.00, 2,     1.92, 2,    0.286, 2,    0.145, 2,   2226.9, 2,   -999.0, 9,   -999.0, 9,  10.9671,   -999.0, 9, -999.000, 9
316N19871218, SAVE2, 48, 1, 11, 11, 2, 19871222, 0741, -1.1850, 0.6650, 4733,  -999.00,    320.5,  10.0240,  34.9470, 2,  34.9460, 2,   -999.0, 9,     65.7, 2,    15.34, 2,    32.54, 2,     0.00, 2,     2.03, 2,    0.189, 2,    0.095, 2,   2230.9, 2,   -999.0, 9,   -999.0, 9,   9.9866,   -999.0, 9, -999.000, 9
316N19871218, SAVE2, 48, 1, 12, 12, 2, 19871222, 0741, -1.1850, 0.6650, 4733,  -999.00,    380.9,   8.5136,  34.7674, 2,  34.7700, 2,   -999.0, 9,     95.2, 2,    17.69, 2,    32.55, 2,     0.00, 2,     2.09, 2, -999.000, 9, -999.000, 9,   2229.4, 2,   -999.0, 9,   -999.0, 9,   8.4733,   -999.0, 9, -999.000, 9
316N19871218, SAVE2, 48, 1, 13, 13, 2, 19871222, 0741, -1.1850, 0.6650, 4733,  -999.00,    410.2,   7.7870,  34.6869, 2,  34.6910, 2,   -999.0, 9,    114.8, 2,    18.96, 2,    32.06, 2,     0.00, 2,     2.09, 2,    0.173, 2,    0.133, 2,   2218.6, 2,   -999.0, 9,   -999.0, 9,   7.7457,   -999.0, 9, -999.000, 9
316N19871218, SAVE2, 48, 1, 14, 14, 2, 19871222, 0741, -1.1850, 0.6650, 4733,  -999.00,    478.1,   7.3601,  34.6547, 2,  34.6560, 2,   -999.0, 9,    114.8, 2,    20.53, 2,    33.14, 2,     0.00, 2,     2.16, 2,    0.108, 2,    0.070, 2,   2222.8, 2,   -999.0, 9,   -999.0, 9,   7.3133,   -999.0, 9, -999.000, 9
316N19871218, SAVE2, 48, 1, 15, 15, 2, 19871222, 0741, -1.1850, 0.6650, 4733,  -999.00,    624.2,   6.1314,  34.5456, 2,  34.5490, 2,   -999.0, 9,    126.5, 2,    24.73, 2,    34.31, 2,     0.00, 2,     2.28, 2,    0.058, 2,    0.031, 2,   2218.4, 2,   -999.0, 9,   -999.0, 9,   6.0757,   -999.0, 9, -999.000, 9
316N19871218, SAVE2, 48, 1, 16, 16, 2, 19871222, 0741, -1.1850, 0.6650, 4733,  -999.00,    775.6,   4.9071,  34.5005, 2,  34.5010, 2,   -999.0, 9,    141.3, 2,    31.18, 2,    35.09, 2,     0.00, 2,     2.38, 2, -999.000, 9, -999.000, 9,   2230.2, 2,   -999.0, 9,   -999.0, 9,   4.8443,   -999.0, 9, -999.000, 9
316N19871218, SAVE2, 48, 1, 17, 17, 2, 19871222, 0741, -1.1850, 0.6650, 4733,  -999.00,    840.3,   4.5933,  34.5156, 2,  34.5150, 2,   -999.0, 9,    152.1, 2,    32.85, 2,    34.21, 2,     0.00, 2,     2.34, 2,    0.011, 2,    0.006, 2,   2237.7, 2,   -999.0, 9,   -999.0, 9,   4.5268,   -999.0, 9, -999.000, 9
316N19871218, SAVE2, 48, 1, 18, 18, 2, 19871222, 0741, -1.1850, 0.6650, 4733,  -999.00,    937.1,   4.5010,  34.5718, 2,  34.5730, 2,   -999.0, 9,    153.0, 2,    32.94, 2,    33.72, 2,     0.00, 2,     2.29, 2,    0.005, 2,    0.004, 2,   2233.7, 2,   -999.0, 9,   -999.0, 9,   4.4268,   -999.0, 9, -999.000, 9
316N19871218, SAVE2, 48, 1, 19, 19, 2, 19871222, 0741, -1.1850, 0.6650, 4733,  -999.00,   1102.0,   4.3993,  34.6652, 2,  34.6720, 2,   -999.0, 9,    162.1, 2,    31.57, 2,    31.77, 2,     0.00, 2,     2.17, 2,    0.007, 2,    0.014, 2,   2227.6, 2,   -999.0, 9,   -999.0, 9,   4.3114,   -999.0, 9, -999.000, 9
316N19871218, SAVE2, 48, 1, 20, 20, 2, 19871222, 0741, -1.1850, 0.6650, 4733,  -999.00,   1247.9,   4.4184,  34.8385, 2,  34.8390, 2,   -999.0, 9,    189.9, 2,    25.02, 2,    27.07, 2,     0.00, 2,     1.81, 2,    0.009, 2,    0.005, 2,   2208.6, 2,   -999.0, 9,   -999.0, 9,   4.3171,   -999.0, 9, -999.000, 9
316N19871218, SAVE2, 48, 1, 21, 21, 2, 19871222, 0741, -1.1850, 0.6650, 4733,  -999.00,   1499.1,   4.1066,  34.9563, 2,  34.9580, 2,   -999.0, 9,    230.3, 2,    19.35, 2,    21.89, 2,     0.00, 2,     1.45, 2,    0.016, 2,    0.006, 2,   2186.8, 2,   -999.0, 9,   -999.0, 9,   3.9853,   -999.0, 9, -999.000, 9
316N19871218, SAVE2, 48, 1, 22, 22, 2, 19871222, 0741, -1.1850, 0.6650, 4733,  -999.00,   1746.6,   3.9069,  34.9725, 2,  34.9760, 2,   -999.0, 9,    244.6, 2,    18.57, 2,    20.33, 2,     0.00, 2,     1.34, 2,    0.017, 2,    0.010, 2,   2177.7, 2,   -999.0, 9,   -999.0, 9,   3.7650,   -999.0, 9, -999.000, 9
316N19871218, SAVE2, 48, 1, 23, 23, 2, 19871222, 0741, -1.1850, 0.6650, 4733,  -999.00,   1988.9,   3.6370,  34.9625, 2,  34.9630, 2,   -999.0, 9,    245.9, 2,    20.91, 2,    20.42, 2,     0.00, 2,     1.36, 2,    0.007, 2,    0.003, 2,   2182.0, 2,   -999.0, 9,   -999.0, 9,   3.4759,   -999.0, 9, -999.000, 9
316N19871218, SAVE2, 48, 1, 24, 24, 2, 19871222, 0741, -1.1850, 0.6650, 4733,  -999.00,   2180.6,   3.2784,  34.9477, 2,  34.9490, 2,   -999.0, 9,    248.1, 2,    25.80, 2,    20.62, 2,     0.00, 2,     1.36, 2, -999.000, 9, -999.000, 9,   2185.7, 2,   -999.0, 9,   -999.0, 9,   3.1046,   -999.0, 9, -999.000, 9
316N19871218, SAVE2, 48, 1, 25, 25, 2, 19871222, 0741, -1.1850, 0.6650, 4733,  -999.00,   2347.6,   3.1599,  34.9403, 2,  34.9420, 2,   -999.0, 9,    245.1, 2,    28.73, 2,    21.11, 2,     0.00, 2,     1.40, 2, -999.000, 9, -999.000, 9,   2187.2, 2,   -999.0, 9,   -999.0, 9,   2.9720,   -999.0, 9, -999.000, 9
316N19871218, SAVE2, 48, 1, 26, 26, 2, 19871222, 0741, -1.1850, 0.6650, 4733,  -999.00,   2499.8,   3.0524,  34.9339, 2,  34.9340, 2,   -999.0, 9,    244.2, 2,    30.78, 2,    21.40, 2,     0.00, 2,     1.41, 2, -999.000, 9, -999.000, 9,   2192.1, 2,   -999.0, 9,   -999.0, 9,   2.8515,   -999.0, 9, -999.000, 9
316N19871218, SAVE2, 48, 1, 27, 27, 2, 19871222, 0741, -1.1850, 0.6650, 4733,  -999.00,   2747.7,   2.8233,  34.9200, 2,  34.9200, 2,   -999.0, 9,    240.3, 2,    36.26, 2,    21.99, 2,     0.00, 2,     1.46, 2, -999.000, 9, -999.000, 9,   2199.4, 2,   -999.0, 9,   -999.0, 9,   2.6022,   -999.0, 9, -999.000, 9
316N19871218, SAVE2, 48, 1, 28, 28, 2, 19871222, 0741, -1.1850, 0.6650, 4733,  -999.00,   3001.5,   2.6751,  34.9108, 2,  34.9110, 2,   -999.0, 9,    240.3, 2,    39.48, 2,    22.28, 2,     0.00, 2,     1.47, 2, -999.000, 9, -999.000, 9,   2203.5, 2,   -999.0, 9,   -999.0, 9,   2.4313,   -999.0, 9, -999.000, 9
316N19871218, SAVE2, 48, 1, 29, 29, 2, 19871222, 0741, -1.1850, 0.6650, 4733,  -999.00,   3249.9,   2.5495,  34.9030, 2,  34.9030, 2,   -999.0, 9,    240.3, 2,    42.41, 2,    22.38, 2,     0.00, 2,     1.49, 2, -999.000, 9, -999.000, 9,   2205.0, 2,   -999.0, 9,   -999.0, 9,   2.2827,   -999.0, 9, -999.000, 9
316N19871218, SAVE2, 48, 1, 30, 30, 2, 19871222, 0741, -1.1850, 0.6650, 4733,  -999.00,   3498.8,   2.4485,  34.8959, 2,  34.8960, 2,   -999.0, 9,    240.7, 2,    44.47, 2,    22.48, 2,     0.00, 2,     1.48, 2, -999.000, 9, -999.000, 9,   2207.5, 2,   -999.0, 9,   -999.0, 9,   2.1576,   -999.0, 9, -999.000, 9
316N19871218, SAVE2, 48, 1, 31, 31, 2, 19871222, 0741, -1.1850, 0.6650, 4733,  -999.00,   3753.0,   2.3848,  34.8905, 2,  34.8900, 2,   -999.0, 9,    242.9, 2,    45.74, 2,    22.38, 2,     0.00, 2,     1.47, 2, -999.000, 9, -999.000, 9,   2208.8, 2,   -999.0, 9,   -999.0, 9,   2.0676,   -999.0, 9, -999.000, 9
316N19871218, SAVE2, 48, 1, 32, 32, 2, 19871222, 0741, -1.1850, 0.6650, 4733,  -999.00,   4002.4,   2.3292,  34.8840, 2,  34.8840, 2,   -999.0, 9,    244.2, 2,    47.30, 2,    22.38, 2,     0.00, 2,     1.48, 2, -999.000, 9, -999.000, 9,   2207.7, 2,   -999.0, 9,   -999.0, 9,   1.9855,   3994.5, 2,    2.323, 2
316N19871218, SAVE2, 48, 1, 33, 33, 2, 19871222, 0741, -1.1850, 0.6650, 4733,  -999.00,   4251.5,   2.2816,  34.8785, 2,  34.8770, 2,   -999.0, 9,    243.7, 2,    49.65, 2,    22.67, 2,     0.00, 2,     1.50, 2, -999.000, 9, -999.000, 9,   2210.8, 2,   -999.0, 9,   -999.0, 9,   1.9106,   -999.0, 9, -999.000, 9
316N19871218, SAVE2, 48, 1, 34, 34, 2, 19871222, 0741, -1.1850, 0.6650, 4733,  -999.00,   4505.7,   2.2380,  34.8718, 2,  34.8700, 2,   -999.0, 9,    242.9, 2,    51.60, 2,    22.97, 2,     0.00, 2,     1.52, 2, -999.000, 9, -999.000, 9,   2214.1, 2,   -999.0, 9,   -999.0, 9,   1.8383,   -999.0, 9, -999.000, 9
316N19871218, SAVE2, 48, 1, 35, 35, 2, 19871222, 0741, -1.1850, 0.6650, 4733,  -999.00,   4658.2,   2.2180,  34.8684, 2,  34.8660, 2,   -999.0, 9,    242.9, 2,    53.65, 2,    23.16, 2,     0.00, 2,     1.52, 2, -999.000, 9, -999.000, 9,   2215.7, 2,   -999.0, 9,   -999.0, 9,   1.8004,   4650.7, 2,    2.214, 2
316N19871218, SAVE2, 48, 1, 36, 36, 2, 19871222, 0741, -1.1850, 0.6650, 4733,  -999.00,   4822.5,   2.1968,  34.8638, 2,  34.8620, 2,   -999.0, 9,    239.4, 2,    56.59, 2,    23.55, 2,     0.00, 2,     1.56, 2, -999.000, 9, -999.000, 9,   2222.1, 2,   -999.0, 9,   -999.0, 9,   1.7598,   -999.0, 9, -999.000, 9