BOTTLE,20110114CCHDOSIODM
EXPOCODE,SECT_ID,STNNBR,CASTNO,SAMPNO,BTLNBR,BTLNBR_FLAG_W,DATE,TIME,LATITUDE,LONGITUDE,DEPTH,CTDRAW,CTDPRS,CTDTMP,CTDSAL,CTDSAL_FLAG_W,SALNTY,SALNTY_FLAG_W,CTDOXY,CTDOXY_FLAG_W,OXYGEN,OXYGEN_FLAG_W,SILCAT,SILCAT_FLAG_W,NITRAT,NITRAT_FLAG_W,NITRIT,NITRIT_FLAG_W,PHSPHT,PHSPHT_FLAG_W,CFC-11,CFC-11_FLAG_W,CFC-12,CFC-12_FLAG_W,TCARBN,TCARBN_FLAG_W,ALKALI,ALKALI_FLAG_W,PCO2,PCO2_FLAG_W,THETA,REVPRS,REVPRS_FLAG_W,REVTMP,REVTMP_FLAG_W
,,,,,,,,,,,METERS,DBAR,DBAR,ITS-68,PSS-78,,PSS-78,,UMOL/KG,,UMOL/KG,,UMOL/KG,,UMOL/KG,,UMOL/KG,,UMOL/KG,,PMOL/KG,,PMOL/KG,,UMOL/KG,,UMOL/KG,,UATM,,DEG C,DBAR,,ITS-68,
316N19871218, SAVE2, 83, 1, 1, 1, 2, 19880110, 2041, -15.4550, -16.7433, 3831,  -999.00,      0.6,  24.5521,  36.9154, 2,  36.9130, 2,   -999.0, 9,    210.4, 2,     1.46, 2,     0.10, 2,     0.00, 2,     0.20, 2, -999.000, 9, -999.000, 9,   2083.3, 2,   2444.0, 2,    300.1, 2,  24.5520,   -999.0, 9, -999.000, 9
316N19871218, SAVE2, 83, 1, 2, 2, 2, 19880110, 2041, -15.4550, -16.7433, 3831,  -999.00,     21.0,  24.4451,  36.9042, 2,  36.9010, 2,   -999.0, 9,    211.0, 2,     1.46, 2,     0.10, 2,     0.00, 2,     0.22, 2, -999.000, 9, -999.000, 9,   2083.9, 2,   2439.8, 2,    305.3, 2,  24.4406,   -999.0, 9, -999.000, 9
316N19871218, SAVE2, 83, 1, 3, 3, 2, 19880110, 2041, -15.4550, -16.7433, 3831,  -999.00,     41.2,  23.9790,  36.8417, 2,  36.8380, 2,   -999.0, 9,    213.6, 2,     1.46, 2,     0.10, 2,     0.00, 2,     0.21, 2, -999.000, 9, -999.000, 9,   2084.2, 2,   2436.7, 2,    308.4, 2,  23.9703,   -999.0, 9, -999.000, 9
316N19871218, SAVE2, 83, 1, 4, 4, 2, 19880110, 2041, -15.4550, -16.7433, 3831,  -999.00,     56.9,  23.7480,  36.8676, 2,  36.8660, 2,   -999.0, 9,    216.4, 2,     1.46, 2,     0.00, 2,     0.00, 2,     0.20, 2,    1.738, 2,    0.842, 2,   2081.5, 2,   2436.2, 2,    305.6, 2,  23.7360,   -999.0, 9, -999.000, 9
316N19871218, SAVE2, 83, 1, 5, 5, 2, 19880110, 2041, -15.4550, -16.7433, 3831,  -999.00,    101.3,  22.6100,  36.7735, 2,  36.7720, 2,   -999.0, 9,    217.7, 2,     1.46, 2,     0.00, 2,     0.00, 2,     0.21, 2, -999.000, 9, -999.000, 9,   2081.2, 2,   2430.8, 2,    310.3, 2,  22.5894,   -999.0, 9, -999.000, 9
316N19871218, SAVE2, 83, 1, 6, 6, 2, 19880110, 2041, -15.4550, -16.7433, 3831,  -999.00,    142.0,  20.8230,  36.4588, 2,  36.4210, 2,   -999.0, 9,    201.6, 2,     1.66, 2,     1.56, 2,     0.23, 2,     0.37, 2,    1.828, 2,    0.895, 2,   2094.9, 2,   2410.3, 2,    352.7, 2,  20.7957,   -999.0, 9, -999.000, 9
316N19871218, SAVE2, 83, 1, 7, 7, 2, 19880110, 2041, -15.4550, -16.7433, 3831,  -999.00,    178.3,  17.3072,  35.8328, 2,  35.8130, 2,   -999.0, 9,    183.8, 2,     2.93, 2,     7.03, 2,     0.05, 2,     0.66, 2,    1.753, 2,    0.855, 2,   2111.8, 2,   2368.5, 2,    446.3, 2,  17.2773,   -999.0, 9, -999.000, 9
316N19871218, SAVE2, 83, 1, 8, 8, 2, 19880110, 2041, -15.4550, -16.7433, 3831,  -999.00,    235.9,  13.7209,  35.2682, 2,  35.2540, 2,   -999.0, 9,    174.6, 2,     5.18, 2,    13.09, 2,     0.01, 2,     0.98, 2, -999.000, 9, -999.000, 9,   2127.7, 2,   2332.9, 2,    564.2, 2,  13.6871,   -999.0, 9, -999.000, 9
316N19871218, SAVE2, 83, 1, 9, 9, 2, 19880110, 2041, -15.4550, -16.7433, 3831,  -999.00,    261.6,  12.8321,  35.1530, 2,  35.1530, 2,   -999.0, 9,    164.2, 2,     6.45, 2,    15.73, 2,     0.00, 2,     1.14, 2,    1.362, 2,    0.660, 2,   -999.0, 9,   -999.0, 9,   -999.0, 9,  12.7963,   -999.0, 9, -999.000, 9
316N19871218, SAVE2, 83, 1, 10, 10, 2, 19880110, 2041, -15.4550, -16.7433, 3831,  -999.00,    291.7,  11.4935,  35.0009, 2,  35.0030, 2,   -999.0, 9,    169.5, 2,     7.82, 2,    17.69, 2,     0.00, 2,     1.25, 2,    1.568, 2,    0.759, 2,   2145.9, 2,   2322.2, 2,    659.1, 2,  11.4563,   -999.0, 9, -999.000, 9
316N19871218, SAVE2, 83, 1, 11, 11, 2, 19880110, 2041, -15.4550, -16.7433, 3831,  -999.00,    340.9,  10.4228,  34.8823, 2,  34.8760, 2,   -999.0, 9,    163.4, 2,    10.16, 2,    20.91, 2,     0.00, 2,     1.45, 2,    0.889, 2,    0.430, 2,   2159.2, 2,   2314.9, 2,    742.8, 2,  10.3820,   -999.0, 9, -999.000, 9
316N19871218, SAVE2, 83, 1, 12, 12, 2, 19880110, 2041, -15.4550, -16.7433, 3831,  -999.00,    435.3,   7.6748,  34.6346, 2,  34.6360, 2,   -999.0, 9,    137.9, 2,    17.99, 2,    29.62, 2,     0.00, 2,     1.96, 2,    0.251, 2,    0.131, 2,   2204.9, 2,   2311.7, 2,   1023.7, 2,   7.6314,   -999.0, 9, -999.000, 9
316N19871218, SAVE2, 83, 1, 13, 13, 2, 19880110, 2041, -15.4550, -16.7433, 3831,  -999.00,    485.5,   6.8202,  34.5622, 2, -999.0000, 9,   -999.0, 9,   -999.0, 9,  -999.00, 9,  -999.00, 9,  -999.00, 9,  -999.00, 9, -999.000, 9, -999.000, 9,   -999.0, 9,   -999.0, 9,   -999.0, 9,   6.7748,   -999.0, 9, -999.000, 9
316N19871218, SAVE2, 83, 1, 14, 14, 2, 19880110, 2041, -15.4550, -16.7433, 3831,  -999.00,    569.6,   5.7017,  34.4805, 2,  34.4840, 2,   -999.0, 9,    154.0, 2,    25.12, 2,    32.16, 2,     0.00, 2,     2.17, 2,    0.069, 2,    0.039, 2,   2212.3, 2,   2313.3, 2,   1067.4, 2,   5.6530,   -999.0, 9, -999.000, 9
316N19871218, SAVE2, 83, 1, 15, 15, 2, 19880110, 2041, -15.4550, -16.7433, 3831,  -999.00,    660.5,   4.7302,  34.4323, 2,  34.4310, 2,   -999.0, 9,    168.1, 2,    30.50, 2,    33.14, 2,     0.00, 2,     2.23, 2,    0.032, 2,    0.018, 2,   2214.7, 2,   2314.7, 2,   1076.0, 2,   4.6782,   -999.0, 9, -999.000, 9
316N19871218, SAVE2, 83, 1, 16, 16, 2, 19880110, 2041, -15.4550, -16.7433, 3831,  -999.00,    748.0,   4.3194,  34.4450, 2,  34.4420, 2,   -999.0, 9,    167.1, 2,    34.12, 2,    33.73, 2,     0.00, 2,     2.29, 2,    0.010, 2,    0.004, 2,   -999.0, 9,   -999.0, 9,   -999.0, 9,   4.2624,   -999.0, 9, -999.000, 9
316N19871218, SAVE2, 83, 1, 17, 17, 2, 19880110, 2041, -15.4550, -16.7433, 3831,  -999.00,    838.1,   4.0415,  34.4743, 2,  34.4700, 2,   -999.0, 9,    169.3, 2,    37.05, 2,    33.63, 2,     0.00, 2,     2.29, 2, -999.000, 9, -999.000, 9,   2227.8, 2,   2328.2, 2,   1084.6, 2,   3.9789,   -999.0, 9, -999.000, 9
316N19871218, SAVE2, 83, 1, 18, 18, 2, 19880110, 2041, -15.4550, -16.7433, 3831,  -999.00,    916.8,   3.9206,  34.5022, 2,  34.5020, 2,   -999.0, 9,    171.0, 2,    38.52, 2,    33.33, 2,     0.00, 2,     2.26, 2,    0.001, 2, -999.000, 9,   -999.0, 9,   -999.0, 9,   -999.0, 9,   3.8524,   -999.0, 9, -999.000, 9
316N19871218, SAVE2, 83, 1, 19, 19, 2, 19880110, 2041, -15.4550, -16.7433, 3831,  -999.00,   1019.5,   3.8137,  34.5582, 2,  34.5580, 2,   -999.0, 9,    174.9, 2,    38.61, 2,    32.45, 2,     0.00, 2,     2.20, 2, -999.000, 9, -999.000, 9,   2206.4, 3,   2306.8, 3,   1071.6, 2,   3.7378,   -999.0, 9, -999.000, 9
316N19871218, SAVE2, 83, 1, 20, 20, 2, 19880110, 2041, -15.4550, -16.7433, 3831,  -999.00,   1120.0,   3.8097,  34.6273, 2,  34.6260, 2,   -999.0, 9,    179.9, 2,    37.24, 2,    31.28, 2,     0.00, 2,     2.17, 2,    0.002, 2,    0.000, 2,   -999.0, 9,   -999.0, 9,   -999.0, 9,   3.7253,   -999.0, 9, -999.000, 9
316N19871218, SAVE2, 83, 1, 21, 21, 2, 19880110, 2041, -15.4550, -16.7433, 3831,  -999.00,   1218.9,   3.8596,  34.6943, 2,  34.6930, 2,   -999.0, 9,    187.3, 2,    34.80, 2,    29.91, 2,     0.00, 2,     2.03, 2, -999.000, 9, -999.000, 9,   -999.0, 9,   -999.0, 9,   -999.0, 9,   3.7663,   -999.0, 9, -999.000, 9
316N19871218, SAVE2, 83, 1, 22, 22, 2, 19880110, 2041, -15.4550, -16.7433, 3831,  -999.00,   1328.6,   3.9226,  34.7968, 2,  34.7940, 2,   -999.0, 9,    198.4, 2,    30.30, 2,    27.17, 2,     0.00, 2,     1.85, 2,    0.005, 2, -999.000, 9,   -999.0, 9,   -999.0, 9,    919.9, 2,   3.8190,   -999.0, 9, -999.000, 9
316N19871218, SAVE2, 83, 1, 23, 23, 2, 19880110, 2041, -15.4550, -16.7433, 3831,  -999.00,   1492.8,   3.8227,  34.8801, 2,  34.8770, 2,   -999.0, 9,    217.6, 2,    26.78, 2,    24.33, 2,     0.00, 2,     1.64, 2,    0.000, 2,    0.000, 2,   -999.0, 9,   -999.0, 9,   -999.0, 9,   3.7053,   -999.0, 9, -999.000, 9
316N19871218, SAVE2, 83, 1, 24, 24, 2, 19880110, 2041, -15.4550, -16.7433, 3831,  -999.00,   1659.2,   3.5478,  34.9054, 2,  34.9040, 2,   -999.0, 9,    230.8, 2,    27.36, 2,    22.97, 2,     0.00, 2,     1.53, 2, -999.000, 9, -999.000, 9,   2190.8, 2,   2338.4, 2,    798.1, 2,   3.4187,   -999.0, 9, -999.000, 9
316N19871218, SAVE2, 83, 1, 25, 25, 2, 19880110, 2041, -15.4550, -16.7433, 3831,  -999.00,   1828.8,   3.2250,  34.9079, 2,  34.9080, 2,   -999.0, 9,    236.8, 2,    30.98, 2,    22.38, 2,     0.00, 2,     1.50, 2,    0.005, 2, -999.000, 9,   -999.0, 9,   -999.0, 9,   -999.0, 9,   3.0848,   -999.0, 9, -999.000, 9
316N19871218, SAVE2, 83, 1, 26, 26, 2, 19880110, 2041, -15.4550, -16.7433, 3831,  -999.00,   1950.8,   3.0771,  34.9069, 2,  34.9050, 2,   -999.0, 9,    239.2, 2,    33.13, 2,    22.38, 2,     0.00, 2,     1.50, 2, -999.000, 9, -999.000, 9,   2192.9, 2,   2344.6, 2,    781.5, 2,   2.9280,   -999.0, 9, -999.000, 9
316N19871218, SAVE2, 83, 1, 27, 27, 2, 19880110, 2041, -15.4550, -16.7433, 3831,  -999.00,   2078.0,   2.9931,  34.9074, 2,  34.9060, 2,   -999.0, 9,   -999.0, 9,    34.50, 2,    22.18, 2,     0.00, 2,     1.50, 2, -999.000, 9,    0.000, 2,   -999.0, 9,   -999.0, 9,   -999.0, 9,   2.8336,   -999.0, 9, -999.000, 9
316N19871218, SAVE2, 83, 1, 28, 28, 2, 19880110, 2041, -15.4550, -16.7433, 3831,  -999.00,   2299.5,   2.8532,  34.9045, 2,  34.9040, 2,   -999.0, 9,    241.9, 2,    37.14, 2,    22.38, 2,     0.00, 2,     1.50, 2,    0.003, 2,    0.002, 2,   2194.3, 2,   2349.1, 2,    769.6, 2,   2.6753,   -999.0, 9, -999.000, 9
316N19871218, SAVE2, 83, 1, 29, 29, 2, 19880110, 2041, -15.4550, -16.7433, 3831,  -999.00,   2497.5,   2.7552,  34.8991, 2,  34.8970, 2,   -999.0, 9,    241.4, 2,    39.58, 2,    22.48, 2,     0.00, 2,     1.50, 2, -999.000, 9, -999.000, 9,   -999.0, 9,   -999.0, 9,   -999.0, 9,   2.5602,   -999.0, 9, -999.000, 9
316N19871218, SAVE2, 83, 1, 30, 30, 2, 19880110, 2041, -15.4550, -16.7433, 3831,  -999.00,   2700.3,   2.6963,  34.8973, 2,  34.8960, 2,   -999.0, 9,    242.0, 2,    41.34, 2,    22.57, 2,     0.00, 2,     1.50, 2, -999.000, 9, -999.000, 9,   2198.2, 2,   2351.5, 2,    778.7, 2,   2.4826,   -999.0, 9, -999.000, 9
316N19871218, SAVE2, 83, 1, 31, 31, 2, 19880110, 2041, -15.4550, -16.7433, 3831,  -999.00,   2889.7,   2.6493,  34.8951, 2,  34.8950, 2,   -999.0, 9,    241.3, 2,    42.32, 2,    22.67, 2,     0.00, 2,     1.52, 2, -999.000, 9, -999.000, 9,   -999.0, 9,   -999.0, 9,   -999.0, 9,   2.4176,   -999.0, 9, -999.000, 9
316N19871218, SAVE2, 83, 1, 32, 32, 2, 19880110, 2041, -15.4550, -16.7433, 3831,  -999.00,   3125.9,   2.5933,  34.8927, 2,  34.8900, 2,   -999.0, 9,    241.8, 2,    43.78, 2,    22.67, 2,     0.00, 2,     1.53, 2, -999.000, 9, -999.000, 9,   -999.0, 9,   -999.0, 9,   -999.0, 9,   2.3386,   3136.2, 2,    2.590, 2
316N19871218, SAVE2, 83, 1, 33, 33, 2, 19880110, 2041, -15.4550, -16.7433, 3831,  -999.00,   3329.2,   2.4814,  34.8840, 2,  34.8830, 2,   -999.0, 9,    242.9, 2,    46.71, 2,    22.97, 2,     0.00, 2,     1.55, 2,    0.001, 2,    0.000, 2,   2206.5, 2,   2358.6, 2,    789.3, 2,   2.2079,   -999.0, 9, -999.000, 9
316N19871218, SAVE2, 83, 1, 34, 34, 2, 19880110, 2041, -15.4550, -16.7433, 3831,  -999.00,   3532.9,   2.2845,  34.8682, 2,  34.8680, 2,   -999.0, 9,   -999.0, 9,    52.87, 2,    23.65, 2,     0.00, 2,     1.60, 2, -999.000, 9, -999.000, 9,   -999.0, 9,   -999.0, 9,   -999.0, 9,   1.9942,   -999.0, 9, -999.000, 9
316N19871218, SAVE2, 83, 1, 35, 35, 2, 19880110, 2041, -15.4550, -16.7433, 3831,  -999.00,   3726.3,   2.1676,  34.8576, 2,  34.8550, 2,   -999.0, 9,    240.6, 2,    57.56, 2,    24.14, 2,     0.00, 2,     1.64, 2,    0.003, 2, -999.000, 9,   2216.6, 2,   2365.6, 2,    810.1, 2,   1.8593,   3742.2, 2,    2.168, 2
316N19871218, SAVE2, 83, 1, 36, 36, 2, 19880110, 2041, -15.4550, -16.7433, 3831,  -999.00,   3879.2,   2.1146,  34.8511, 2,  34.8500, 2,   -999.0, 9,    240.1, 2,    59.32, 2,    24.43, 2,     0.00, 2,     1.65, 2, -999.000, 9, -999.000, 9,   2216.6, 2,   2365.5, 2,    810.8, 2,   1.7909,   -999.0, 9, -999.000, 9