BOTTLE,20110114CCHDOSIODM
EXPOCODE,SECT_ID,STNNBR,CASTNO,SAMPNO,BTLNBR,BTLNBR_FLAG_W,DATE,TIME,LATITUDE,LONGITUDE,DEPTH,CTDRAW,CTDPRS,CTDTMP,CTDSAL,CTDSAL_FLAG_W,SALNTY,SALNTY_FLAG_W,CTDOXY,CTDOXY_FLAG_W,OXYGEN,OXYGEN_FLAG_W,SILCAT,SILCAT_FLAG_W,NITRAT,NITRAT_FLAG_W,NITRIT,NITRIT_FLAG_W,PHSPHT,PHSPHT_FLAG_W,CFC-11,CFC-11_FLAG_W,CFC-12,CFC-12_FLAG_W,TCARBN,TCARBN_FLAG_W,ALKALI,ALKALI_FLAG_W,PCO2,PCO2_FLAG_W,THETA,REVPRS,REVPRS_FLAG_W,REVTMP,REVTMP_FLAG_W
,,,,,,,,,,,METERS,DBAR,DBAR,ITS-68,PSS-78,,PSS-78,,UMOL/KG,,UMOL/KG,,UMOL/KG,,UMOL/KG,,UMOL/KG,,UMOL/KG,,PMOL/KG,,PMOL/KG,,UMOL/KG,,UMOL/KG,,UATM,,DEG C,DBAR,,ITS-68,
316N19871218, SAVE2, 87, 1, 1, 1, 2, 19880112, 1817, -16.2950, -21.4817, 5281,  -999.00,      1.2,  26.0983,  37.2222, 2,  37.2230, 2,   -999.0, 9,    205.3, 2,     1.56, 2,     0.10, 2,     0.00, 2,     0.20, 2, -999.000, 9, -999.000, 9,   2088.8, 2,   2455.5, 2,    297.9, 2,  26.0980,   -999.0, 9, -999.000, 9
316N19871218, SAVE2, 87, 1, 2, 2, 2, 19880112, 1817, -16.2950, -21.4817, 5281,  -999.00,     47.6,  25.9481,  37.2473, 2,  37.2430, 2,   -999.0, 9,    205.7, 2,     1.56, 2,     0.10, 2,     0.00, 2,     0.20, 2,    1.581, 2,    0.788, 2,   2086.6, 2,   2461.7, 2,    289.1, 2,  25.9375,   -999.0, 9, -999.000, 9
316N19871218, SAVE2, 87, 1, 3, 3, 2, 19880112, 1817, -16.2950, -21.4817, 5281,  -999.00,     72.6,  24.6734,  37.0829, 2,  37.0560, 2,   -999.0, 9,    216.5, 2,     1.56, 2,     0.10, 2,     0.00, 2,     0.20, 2,    1.697, 2,    0.843, 2,   2079.6, 2,   2453.8, 2,    286.7, 2,  24.6577,   -999.0, 9, -999.000, 9
316N19871218, SAVE2, 87, 1, 4, 4, 2, 19880112, 1817, -16.2950, -21.4817, 5281,  -999.00,    133.1,  22.5190,  36.6980, 2,  36.6960, 2,   -999.0, 9,    215.2, 2,     1.37, 2,     0.10, 2,     0.00, 2,     0.22, 2,    1.784, 2,    0.888, 2,   2082.4, 2,   -999.0, 9,   -999.0, 9,  22.4920,   -999.0, 9, -999.000, 9
316N19871218, SAVE2, 87, 1, 5, 5, 2, 19880112, 1817, -16.2950, -21.4817, 5281,  -999.00,    152.5,  20.2040,  36.2789, 2,  36.2780, 2,   -999.0, 9,    212.5, 2,     1.66, 2,     0.10, 2,     0.04, 2,     0.27, 2,    1.836, 2,    0.920, 2,   2085.4, 2,   2401.0, 2,    348.0, 2,  20.1754,   -999.0, 9, -999.000, 9
316N19871218, SAVE2, 87, 1, 6, 6, 2, 19880112, 1817, -16.2950, -21.4817, 5281,  -999.00,    218.0,  16.3643,  35.6396, 2,  35.6300, 2,   -999.0, 9,    198.5, 2,     2.83, 2,     5.57, 2,     0.01, 2,     0.58, 2,    1.916, 2,    0.920, 2,   2099.0, 2,   -999.0, 9,   -999.0, 9,  16.3291,   -999.0, 9, -999.000, 9
316N19871218, SAVE2, 87, 1, 7, 7, 2, 19880112, 1817, -16.2950, -21.4817, 5281,  -999.00,    260.9,  13.9260,  35.2801, 2,  35.2740, 2,   -999.0, 9,    192.7, 2,     4.20, 2,    10.06, 2,     0.01, 2,     0.82, 2,    1.717, 2,    0.828, 2,   2115.8, 2,   2334.6, 2,    523.5, 2,  13.8883,   -999.0, 9, -999.000, 9
316N19871218, SAVE2, 87, 1, 8, 8, 2, 19880112, 1817, -16.2950, -21.4817, 5281,  -999.00,    296.1,  12.5022,  35.1134, 2,  35.1100, 2,   -999.0, 9,    174.9, 2,     6.16, 2,    15.24, 2,     0.01, 2,     1.10, 2,    1.364, 2,    0.660, 2,   2137.6, 2,   2324.5, 2,    620.8, 2,  12.4623,   -999.0, 9, -999.000, 9
316N19871218, SAVE2, 87, 1, 9, 9, 2, 19880112, 1817, -16.2950, -21.4817, 5281,  -999.00,    380.4,  10.3582,  34.8884, 2,  34.8890, 2,   -999.0, 9,    141.4, 2,    10.95, 2,    23.26, 2,     0.00, 2,     1.59, 2,    0.716, 2,    0.348, 2,   2173.9, 2,   2314.6, 2,    818.1, 2,  10.3127,   -999.0, 9, -999.000, 9
316N19871218, SAVE2, 87, 1, 10, 10, 2, 19880112, 1817, -16.2950, -21.4817, 5281,  -999.00,    470.7,   7.9538,  34.6577, 2,  34.6580, 2,   -999.0, 9,    140.5, 2,    17.20, 2,    28.74, 2,     0.00, 2,     1.94, 2,    0.245, 2,    0.140, 2,   2198.1, 2,   2311.8, 2,    976.2, 2,   7.9057,   -999.0, 9, -999.000, 9
316N19871218, SAVE2, 87, 1, 11, 11, 2, 19880112, 1817, -16.2950, -21.4817, 5281,  -999.00,    549.7,   6.3736,  34.5244, 2,  34.5280, 2,   -999.0, 9,    152.6, 2,    21.60, 2,    31.09, 2,     0.00, 2,     2.09, 2,    0.104, 2,    0.061, 2,   2204.5, 2,   2308.4, 2,   1042.2, 2,   6.3238,   -999.0, 9, -999.000, 9
316N19871218, SAVE2, 87, 1, 12, 12, 2, 19880112, 1817, -16.2950, -21.4817, 5281,  -999.00,    648.8,   5.1018,  34.4334, 2,  34.4400, 2,   -999.0, 9,    173.9, 2,    26.79, 2,    31.77, 2,     0.00, 2,     2.17, 2,    0.076, 2,    0.045, 2,   2208.6, 2,   2311.3, 2,   1052.5, 2,   5.0490,   -999.0, 9, -999.000, 9
316N19871218, SAVE2, 87, 1, 13, 13, 2, 19880112, 1817, -16.2950, -21.4817, 5281,  -999.00,    774.0,   4.2191,  34.4170, 2,  34.4160, 2,   -999.0, 9,    179.1, 2,    34.12, 2,    32.65, 2,     0.00, 2,     2.24, 2, -999.000, 9, -999.000, 9,   2216.5, 2,   -999.0, 9,   -999.0, 9,   4.1606,   -999.0, 9, -999.000, 9
316N19871218, SAVE2, 87, 1, 14, 14, 2, 19880112, 1817, -16.2950, -21.4817, 5281,  -999.00,    899.1,   3.8658,  34.4683, 2,  34.4660, 2,   -999.0, 9,    176.9, 2,    38.52, 2,    32.75, 2,     0.00, 2,     2.24, 2,    0.008, 2,    0.006, 2,   2226.7, 2,   2327.6, 2,   1080.1, 2,   3.7995,   -999.0, 9, -999.000, 9
316N19871218, SAVE2, 87, 1, 15, 15, 2, 19880112, 1817, -16.2950, -21.4817, 5281,  -999.00,   1020.0,   3.7730,  34.5291, 2,  34.5270, 2,   -999.0, 9,    176.9, 2,    39.39, 2,    32.45, 2,     0.00, 2,     2.23, 2, -999.000, 9, -999.000, 9,   2225.7, 2,   2327.4, 2,   1075.5, 2,   3.6974,   -999.0, 9, -999.000, 9
316N19871218, SAVE2, 87, 1, 16, 16, 2, 19880112, 1817, -16.2950, -21.4817, 5281,  -999.00,   1099.5,   3.7870,  34.5892, 2,  34.5860, 2,   -999.0, 9,    176.9, 2,    38.32, 2,    31.67, 2,     0.00, 2,     2.18, 2, -999.000, 9, -999.000, 9,   2225.7, 2,   2329.9, 2,   1059.0, 2,   3.7046,   -999.0, 9, -999.000, 9
316N19871218, SAVE2, 87, 1, 17, 17, 2, 19880112, 1817, -16.2950, -21.4817, 5281,  -999.00,   1208.9,   3.8014,  34.6763, 2,  34.6730, 2,   -999.0, 9,    184.7, 2,    35.58, 2,    30.01, 2,     0.00, 2,     2.06, 2, -999.000, 9, -999.000, 9,   2218.2, 2,   2330.2, 2,   1003.8, 2,   3.7095,   -999.0, 9, -999.000, 9
316N19871218, SAVE2, 87, 1, 18, 18, 2, 19880112, 1817, -16.2950, -21.4817, 5281,  -999.00,   1318.0,   3.7857,  34.7394, 2,  34.7370, 2,   -999.0, 9,    192.1, 2,    33.52, 2,    28.54, 2,     0.00, 2,     1.95, 2, -999.000, 9, -999.000, 9,   2214.2, 2,   2332.3, 2,    964.7, 2,   3.6845,   -999.0, 9, -999.000, 9
316N19871218, SAVE2, 87, 1, 19, 19, 2, 19880112, 1817, -16.2950, -21.4817, 5281,  -999.00,   1498.7,   3.6253,  34.8468, 2,  34.8450, 2,   -999.0, 9,    213.8, 2,    30.39, 2,    25.12, 2,     0.00, 2,     1.71, 2, -999.000, 9,    0.000, 2,   2201.7, 2,   2336.9, 2,    863.9, 2,   3.5097,   -999.0, 9, -999.000, 9
316N19871218, SAVE2, 87, 1, 20, 20, 2, 19880112, 1817, -16.2950, -21.4817, 5281,  -999.00,   1679.0,   3.4698,  34.8910, 2,  34.8890, 2,   -999.0, 9,    228.1, 2,    29.22, 2,    23.16, 2,     0.00, 2,     1.58, 2, -999.000, 9, -999.000, 9,   2193.7, 2,   2338.0, 2,    815.0, 2,   3.3399,   -999.0, 9, -999.000, 9
316N19871218, SAVE2, 87, 1, 21, 21, 2, 19880112, 1817, -16.2950, -21.4817, 5281,  -999.00,   1872.8,   3.2211,  34.9045, 2,  34.9030, 2,   -999.0, 9,    237.7, 2,    31.08, 2,    22.38, 2,     0.00, 2,     1.53, 2, -999.000, 9, -999.000, 9,   2196.9, 2,   2347.6, 2,    788.3, 2,   3.0770,   -999.0, 9, -999.000, 9
316N19871218, SAVE2, 87, 1, 22, 22, 2, 19880112, 1817, -16.2950, -21.4817, 5281,  -999.00,   2098.0,   2.9896,  34.9049, 2,  34.9050, 2,   -999.0, 9,    239.8, 2,    34.79, 2,    22.18, 2,     0.00, 2,     1.53, 2, -999.000, 9,    0.000, 2,   2190.5, 2,   -999.0, 9,   -999.0, 9,   2.8283,   -999.0, 9, -999.000, 9
316N19871218, SAVE2, 87, 1, 23, 23, 2, 19880112, 1817, -16.2950, -21.4817, 5281,  -999.00,   2298.0,   2.8815,  34.9031, 2,  34.9020, 2,   -999.0, 9,    241.1, 2,    37.04, 2,    22.28, 2,     0.00, 2,     1.55, 2, -999.000, 9, -999.000, 9,   2194.4, 2,   2347.8, 2,    776.1, 2,   2.7033,   -999.0, 9, -999.000, 9
316N19871218, SAVE2, 87, 1, 24, 24, 2, 19880112, 1817, -16.2950, -21.4817, 5281,  -999.00,   2550.7,   2.7741,  34.8996, 2,  34.8980, 2,   -999.0, 9,    241.1, 2,    39.68, 2,    22.28, 2,     0.00, 2,     1.51, 2, -999.000, 9, -999.000, 9,   2195.2, 2,   2348.6, 2,    776.6, 2,   2.5736,   -999.0, 9, -999.000, 9
316N19871218, SAVE2, 87, 1, 25, 25, 2, 19880112, 1817, -16.2950, -21.4817, 5281,  -999.00,   2798.1,   2.7077,  34.8993, 2,  34.8990, 2,   -999.0, 9,    242.0, 2,    40.85, 2,    22.28, 2,     0.00, 2,     1.51, 2, -999.000, 9, -999.000, 9,   2195.9, 2,   2349.0, 2,    778.5, 2,   2.4840,   -999.0, 9, -999.000, 9
316N19871218, SAVE2, 87, 1, 26, 26, 2, 19880112, 1817, -16.2950, -21.4817, 5281,  -999.00,   3048.2,   2.6332,  34.8955, 2,  34.8950, 2,   -999.0, 9,    242.4, 2,    42.32, 2,    22.48, 2,     0.00, 2,     1.52, 2, -999.000, 9,    0.000, 2,   2198.2, 2,   2352.0, 2,    777.0, 2,   2.3856,   -999.0, 9, -999.000, 9
316N19871218, SAVE2, 87, 1, 27, 27, 2, 19880112, 1817, -16.2950, -21.4817, 5281,  -999.00,   3300.2,   2.5698,  34.8963, 2,  34.8940, 2,   -999.0, 9,    245.9, 2,    42.12, 2,    22.09, 2,     0.00, 2,     1.50, 2, -999.000, 9, -999.000, 9,   2196.9, 2,   2352.6, 2,    768.0, 2,   2.2972,   -999.0, 9, -999.000, 9
316N19871218, SAVE2, 87, 1, 28, 28, 2, 19880112, 1817, -16.2950, -21.4817, 5281,  -999.00,   3548.0,   2.3825,  34.8821, 2,  34.8820, 2,   -999.0, 9,    245.5, 2,    47.10, 2,    22.48, 2,     0.00, 2,     1.53, 2, -999.000, 9, -999.000, 9,   2200.1, 2,   2354.0, 2,    777.9, 2,   2.0879,   -999.0, 9, -999.000, 9
316N19871218, SAVE2, 87, 1, 29, 29, 2, 19880112, 1817, -16.2950, -21.4817, 5281,  -999.00,   3801.1,   2.0057,  34.8490, 2,  34.8480, 2,   -999.0, 9,    242.9, 2,    59.32, 2,    24.04, 2,     0.00, 2,     1.64, 2, -999.000, 9,    0.002, 2,   2212.0, 2,   2360.0, 2,    812.3, 2,   1.6936,   -999.0, 9, -999.000, 9
316N19871218, SAVE2, 87, 1, 30, 30, 2, 19880112, 1817, -16.2950, -21.4817, 5281,  -999.00,   4050.6,   1.4932,  34.7988, 2,  34.8000, 2,   -999.0, 9,    237.7, 2,    78.28, 2,    26.49, 2,     0.00, 2,     1.84, 2, -999.000, 9, -999.000, 9,   2230.3, 2,   2368.1, 2,    875.1, 2,   1.1682,   -999.0, 9, -999.000, 9
316N19871218, SAVE2, 87, 1, 31, 31, 2, 19880112, 1817, -16.2950, -21.4817, 5281,  -999.00,   4299.7,   1.1689,  34.7652, 2,  34.7640, 2,   -999.0, 9,    232.4, 2,    91.09, 2,    28.15, 2,     0.00, 2,     1.94, 2, -999.000, 9, -999.000, 9,   2242.5, 2,   2373.5, 2,    919.2, 2,   0.8262,   -999.0, 9, -999.000, 9
316N19871218, SAVE2, 87, 1, 32, 32, 2, 19880112, 1817, -16.2950, -21.4817, 5281,  -999.00,   4548.7,   1.0383,  34.7498, 2,  34.7490, 2,   -999.0, 9,    229.8, 2,    97.05, 2,    28.83, 2,     0.00, 2,     2.02, 2, -999.000, 9, -999.000, 9,   2253.0, 2,   2381.4, 2,    941.0, 2,   0.6717,   4535.1, 2,    1.043, 2
316N19871218, SAVE2, 87, 1, 33, 33, 2, 19880112, 1817, -16.2950, -21.4817, 5281,  -999.00,   4792.3,   1.0168,  34.7449, 2,  34.7460, 2,   -999.0, 9,    229.8, 2,    98.91, 2,    29.13, 2,     0.00, 2,     2.02, 2, -999.000, 9,    0.002, 2,   2249.5, 2,   2376.2, 2,    948.5, 2,   0.6230,   -999.0, 9, -999.000, 9
316N19871218, SAVE2, 87, 1, 34, 34, 2, 19880112, 1817, -16.2950, -21.4817, 5281,  -999.00,   5048.4,   1.0132,  34.7418, 2,  34.7390, 2,   -999.0, 9,    228.5, 2,    99.89, 2,    29.32, 2,     0.00, 2,     2.06, 2, -999.000, 9, -999.000, 9,   2249.7, 2,   2376.0, 2,    951.4, 2,   0.5893,   -999.0, 9, -999.000, 9
316N19871218, SAVE2, 87, 1, 35, 35, 2, 19880112, 1817, -16.2950, -21.4817, 5281,  -999.00,   5254.1,   1.0027,  34.7385, 2,  34.7350, 2,   -999.0, 9,    228.5, 2,   101.16, 2,    29.52, 2,     0.00, 2,     2.06, 2, -999.000, 9, -999.000, 9,   2251.3, 2,   2378.6, 2,    946.9, 2,   0.5543,   5273.2, 2,    1.003, 2
316N19871218, SAVE2, 87, 1, 36, 36, 2, 19880112, 1817, -16.2950, -21.4817, 5281,  -999.00,   5405.7,   1.0043,  34.7368, 2,  34.7350, 2,   -999.0, 9,    228.5, 2,   102.62, 2,    29.61, 2,     0.00, 2,     2.07, 2,    0.003, 2,    0.005, 2,   2253.2, 2,   2380.4, 2,    948.6, 2,   0.5372,   -999.0, 9, -999.000, 9