BOTTLE,20110114CCHDOSIODM
EXPOCODE,SECT_ID,STNNBR,CASTNO,SAMPNO,BTLNBR,BTLNBR_FLAG_W,DATE,TIME,LATITUDE,LONGITUDE,DEPTH,CTDRAW,CTDPRS,CTDTMP,CTDSAL,CTDSAL_FLAG_W,SALNTY,SALNTY_FLAG_W,CTDOXY,CTDOXY_FLAG_W,OXYGEN,OXYGEN_FLAG_W,SILCAT,SILCAT_FLAG_W,NITRAT,NITRAT_FLAG_W,NITRIT,NITRIT_FLAG_W,PHSPHT,PHSPHT_FLAG_W,CFC-11,CFC-11_FLAG_W,CFC-12,CFC-12_FLAG_W,TCARBN,TCARBN_FLAG_W,ALKALI,ALKALI_FLAG_W,PCO2,PCO2_FLAG_W,THETA,REVPRS,REVPRS_FLAG_W,REVTMP,REVTMP_FLAG_W
,,,,,,,,,,,METERS,DBAR,DBAR,ITS-68,PSS-78,,PSS-78,,UMOL/KG,,UMOL/KG,,UMOL/KG,,UMOL/KG,,UMOL/KG,,UMOL/KG,,PMOL/KG,,PMOL/KG,,UMOL/KG,,UMOL/KG,,UATM,,DEG C,DBAR,,ITS-68,
316N19871218, SAVE2, 97, 1, 1, 1, 2, 19880118, 1309, -18.2767, -33.4033, 4356,  -999.00,      0.3,  28.2452,  37.3583, 2,  37.3600, 2,   -999.0, 9,    198.4, 2,     0.98, 2,     0.10, 2,     0.00, 2,     0.03, 2,    1.464, 2,    0.752, 2,   2055.6, 2,   2459.2, 2,    256.2, 2,  28.2451,   -999.0, 9, -999.000, 9
316N19871218, SAVE2, 97, 1, 2, 2, 2, 19880118, 1309, -18.2767, -33.4033, 4356,  -999.00,     15.1,  28.0115,  37.3819, 2,  37.3880, 2,   -999.0, 9,    198.8, 2,     0.98, 2,     0.10, 2,     0.00, 2,     0.03, 2,    1.437, 2,    0.753, 2,   2060.1, 2,   2455.8, 2,    264.2, 2,  28.0079,   -999.0, 9, -999.000, 9
316N19871218, SAVE2, 97, 1, 3, 3, 2, 19880118, 1309, -18.2767, -33.4033, 4356,  -999.00,     39.2,  27.8464,  37.4843, 2,  37.4840, 2,   -999.0, 9,    201.0, 2,     0.98, 2,     0.10, 2,     0.00, 2,     0.05, 2,    1.529, 2,    0.776, 2,   2066.7, 2,   2471.1, 2,    259.0, 2,  27.8372,   -999.0, 9, -999.000, 9
316N19871218, SAVE2, 97, 1, 4, 4, 2, 19880118, 1309, -18.2767, -33.4033, 4356,  -999.00,     57.8,  27.1548,  37.4536, 2,  37.4550, 2,   -999.0, 9,    204.9, 2,     0.78, 2,     0.10, 2,     0.00, 2,     0.07, 2, -999.000, 9, -999.000, 9,   2066.7, 2,   -999.0, 9,   -999.0, 9,  27.1414,   -999.0, 9, -999.000, 9
316N19871218, SAVE2, 97, 1, 5, 5, 2, 19880118, 1309, -18.2767, -33.4033, 4356,  -999.00,     72.7,  26.1937,  37.3628, 2,  37.3620, 2,   -999.0, 9,    209.2, 2,     0.78, 2,     0.10, 2,     0.00, 2,     0.08, 2,    1.502, 2,    0.788, 2,   2067.6, 2,   2461.4, 2,    267.5, 2,  26.1772,   -999.0, 9, -999.000, 9
316N19871218, SAVE2, 97, 1, 6, 6, 2, 19880118, 1309, -18.2767, -33.4033, 4356,  -999.00,    147.2,  23.7711,  37.0267, 2,  37.0170, 2,   -999.0, 9,    196.0, 2,     0.78, 2,     0.29, 2,     0.08, 2,     0.19, 2,    1.640, 2,    0.829, 2,   2084.9, 2,   2440.1, 2,    307.2, 2,  23.7401,   -999.0, 9, -999.000, 9
316N19871218, SAVE2, 97, 1, 7, 7, 2, 19880118, 1309, -18.2767, -33.4033, 4356,  -999.00,    185.1,  21.2283,  36.5383, 2,  36.5260, 2,   -999.0, 9,    193.3, 2,     0.98, 2,     1.17, 2,     0.02, 2,     0.29, 2, -999.000, 9, -999.000, 9,   2094.1, 2,   -999.0, 9,   -999.0, 9,  21.1924,   -999.0, 9, -999.000, 9
316N19871218, SAVE2, 97, 1, 8, 8, 2, 19880118, 1309, -18.2767, -33.4033, 4356,  -999.00,    214.3,  19.2949,  36.1552, 2,  36.1510, 2,   -999.0, 9,    201.6, 2,     1.17, 2,     1.37, 2,     0.02, 2,     0.30, 2,    1.876, 2,    0.919, 2,   2085.6, 2,   -999.0, 9,   -999.0, 9,  19.2560,   -999.0, 9, -999.000, 9
316N19871218, SAVE2, 97, 1, 9, 9, 2, 19880118, 1309, -18.2767, -33.4033, 4356,  -999.00,    275.7,  15.6852,  35.5443, 2,  35.5460, 2,   -999.0, 9,    200.6, 2,     2.34, 2,     5.57, 2,     0.01, 2,     0.57, 2,    1.867, 2,    0.904, 2,   2096.2, 2,   2351.0, 2,    440.6, 2,  15.6418,   -999.0, 9, -999.000, 9
316N19871218, SAVE2, 97, 1, 10, 10, 2, 19880118, 1309, -18.2767, -33.4033, 4356,  -999.00,    291.8,  15.1625,  35.4658, 2,  35.4680, 2,   -999.0, 9,    199.7, 2,     2.54, 2,     6.54, 2,     0.01, 2,     0.61, 2,    1.798, 2,    0.869, 2,   2101.4, 2,   -999.0, 9,   -999.0, 9,  15.1176,   -999.0, 9, -999.000, 9
316N19871218, SAVE2, 97, 1, 11, 11, 2, 19880118, 1309, -18.2767, -33.4033, 4356,  -999.00,    347.3,  13.2981,  35.2117, 2,  35.2130, 2,   -999.0, 9,    191.9, 2,     4.20, 2,    11.24, 2,     0.00, 2,     0.87, 2,    1.508, 2,    0.725, 2,   2111.8, 2,   2330.3, 2,    522.0, 2,  13.2492,   -999.0, 9, -999.000, 9
316N19871218, SAVE2, 97, 1, 12, 12, 2, 19880118, 1309, -18.2767, -33.4033, 4356,  -999.00,    406.7,  11.7374,  35.0209, 2,  35.0200, 2,   -999.0, 9,    182.3, 2,     6.25, 2,    15.73, 2,     0.00, 2,     1.13, 2,    1.156, 2,    0.550, 2,   2134.1, 2,   -999.0, 9,   -999.0, 9,  11.6846,   -999.0, 9, -999.000, 9
316N19871218, SAVE2, 97, 1, 13, 13, 2, 19880118, 1309, -18.2767, -33.4033, 4356,  -999.00,    466.5,  10.0962,  34.8400, 2, -999.0000, 9,   -999.0, 9,   -999.0, 9,  -999.00, 9,  -999.00, 9,  -999.00, 9,  -999.00, 9, -999.000, 9, -999.000, 9,   -999.0, 9,   -999.0, 9,   -999.0, 9,  10.0411,   -999.0, 9, -999.000, 9
316N19871218, SAVE2, 97, 1, 14, 14, 2, 19880118, 1309, -18.2767, -33.4033, 4356,  -999.00,    541.4,   8.1965,  34.6439, 2,  34.6520, 2,   -999.0, 9,    173.1, 2,    13.78, 2,    24.63, 2,     0.00, 2,     1.68, 2,    0.563, 2,    0.287, 2,   2168.0, 2,   -999.0, 9,   -999.0, 9,   8.1400,   -999.0, 9, -999.000, 9
316N19871218, SAVE2, 97, 1, 15, 15, 2, 19880118, 1309, -18.2767, -33.4033, 4356,  -999.00,    619.1,   6.4431,  34.4904, 2,  34.4930, 2,   -999.0, 9,    181.7, 2,    19.16, 2,    28.06, 2,     0.00, 2,     1.91, 2,    0.377, 2,    0.194, 2,   2179.7, 2,   2300.4, 2,    920.8, 2,   6.3864,   -999.0, 9, -999.000, 9
316N19871218, SAVE2, 97, 1, 16, 16, 2, 19880118, 1309, -18.2767, -33.4033, 4356,  -999.00,    729.3,   4.8631,  34.3987, 2,  34.3990, 2,   -999.0, 9,    187.4, 2,    27.76, 2,    30.99, 2,     0.00, 2,     2.10, 2,    0.186, 2,    0.104, 2,   2194.1, 2,   -999.0, 9,   -999.0, 9,   4.8047,   -999.0, 9, -999.000, 9
316N19871218, SAVE2, 97, 1, 17, 17, 2, 19880118, 1309, -18.2767, -33.4033, 4356,  -999.00,    803.6,   4.1627,  34.3954, 2,  34.3950, 2,   -999.0, 9,    187.4, 2,    33.92, 2,    31.97, 2,     0.00, 2,     2.18, 2,    0.097, 2,    0.059, 2,   2204.7, 2,   2312.6, 2,   1016.4, 2,   4.1022,   -999.0, 9, -999.000, 9
316N19871218, SAVE2, 97, 1, 18, 18, 2, 19880118, 1309, -18.2767, -33.4033, 4356,  -999.00,    941.9,   3.6003,  34.4613, 2,  34.4620, 2,   -999.0, 9,    186.5, 2,    42.04, 2,    32.36, 2,     0.00, 2,     2.20, 2,    0.027, 2,    0.023, 2,   2216.9, 2,   -999.0, 9,   -999.0, 9,   3.5324,   -999.0, 9, -999.000, 9
316N19871218, SAVE2, 97, 1, 19, 19, 2, 19880118, 1309, -18.2767, -33.4033, 4356,  -999.00,   1024.0,   3.4895,  34.5228, 2,  34.5250, 2,   -999.0, 9,    186.5, 2,    43.79, 2,    31.67, 2,     0.00, 2,     2.16, 2, -999.000, 9, -999.000, 9,   2218.6, 2,   -999.0, 9,   -999.0, 9,   3.4159,   -999.0, 9, -999.000, 9
316N19871218, SAVE2, 97, 1, 20, 20, 2, 19880118, 1309, -18.2767, -33.4033, 4356,  -999.00,   1099.5,   3.5564,  34.6001, 2,  34.6010, 2,   -999.0, 9,    187.3, 2,    41.64, 2,    30.60, 2,     0.00, 2,     2.09, 2,    0.013, 2,    0.014, 2,   2217.7, 2,   -999.0, 9,   -999.0, 9,   3.4760,   -999.0, 9, -999.000, 9
316N19871218, SAVE2, 97, 1, 21, 21, 2, 19880118, 1309, -18.2767, -33.4033, 4356,  -999.00,   1220.7,   3.8040,  34.7264, 2,  34.7270, 2,   -999.0, 9,    193.4, 2,    34.99, 2,    28.34, 2,     0.00, 2,     1.92, 2,    0.002, 2,    0.002, 2,   -999.0, 9,   -999.0, 9,   -999.0, 9,   3.7110,   -999.0, 9, -999.000, 9
316N19871218, SAVE2, 97, 1, 22, 22, 2, 19880118, 1309, -18.2767, -33.4033, 4356,  -999.00,   1346.0,   4.0430,  34.8586, 2,  34.8610, 2,   -999.0, 9,    209.5, 2,    26.19, 2,    24.92, 2,     0.00, 2,     1.68, 2, -999.000, 9, -999.000, 9,   2191.8, 2,   2324.7, 2,    868.9, 2,   3.9365,   -999.0, 9, -999.000, 9
316N19871218, SAVE2, 97, 1, 23, 23, 2, 19880118, 1309, -18.2767, -33.4033, 4356,  -999.00,   1521.8,   3.9615,  34.9380, 2,  34.9380, 2,   -999.0, 9,    231.2, 2,    21.21, 2,    21.89, 2,     0.00, 2,     1.46, 2,    0.010, 2,    0.009, 2,   2176.3, 2,   -999.0, 9,   -999.0, 9,   3.8398,   -999.0, 9, -999.000, 9
316N19871218, SAVE2, 97, 1, 24, 24, 2, 19880118, 1309, -18.2767, -33.4033, 4356,  -999.00,   1697.9,   3.7482,  34.9606, 2,  34.9610, 2,   -999.0, 9,    244.6, 2,    20.03, 2,    20.33, 2,     0.00, 2,     1.36, 2,    0.013, 2,    0.009, 2,   2169.7, 2,   -999.0, 9,   -999.0, 9,   3.6129,   -999.0, 9, -999.000, 9
316N19871218, SAVE2, 97, 1, 25, 25, 2, 19880118, 1309, -18.2767, -33.4033, 4356,  -999.00,   1873.5,   3.5474,  34.9634, 2,  34.9650, 2,   -999.0, 9,    250.7, 2,    20.72, 2,    19.74, 2,     0.00, 2,     1.32, 2,    0.014, 2,    0.010, 2,   2169.1, 2,   2327.0, 2,    740.9, 2,   3.3985,   -999.0, 9, -999.000, 9
316N19871218, SAVE2, 97, 1, 26, 26, 2, 19880118, 1309, -18.2767, -33.4033, 4356,  -999.00,   2049.4,   3.3519,  34.9550, 2,  34.9560, 2,   -999.0, 9,    252.4, 2,    22.57, 2,    19.84, 2,     0.00, 2,     1.32, 2,    0.008, 2,    0.004, 2,   2170.0, 2,   -999.0, 9,   -999.0, 9,   3.1894,   -999.0, 9, -999.000, 9
316N19871218, SAVE2, 97, 1, 27, 27, 2, 19880118, 1309, -18.2767, -33.4033, 4356,  -999.00,   2276.5,   3.1714,  34.9463, 2,  34.9470, 2,   -999.0, 9,    252.4, 2,    25.11, 2,    19.94, 2,     0.00, 2,     1.33, 2,    0.005, 2,    0.002, 2,   2172.7, 2,   -999.0, 9,   -999.0, 9,   2.9902,   -999.0, 9, -999.000, 9
316N19871218, SAVE2, 97, 1, 28, 28, 2, 19880118, 1309, -18.2767, -33.4033, 4356,  -999.00,   2474.3,   3.0330,  34.9381, 2,  34.9390, 2,   -999.0, 9,    252.4, 2,    27.56, 2,    20.23, 2,     0.00, 2,     1.34, 2,    0.004, 2,    0.004, 2,   2174.4, 2,   -999.0, 9,   -999.0, 9,   2.8350,   -999.0, 9, -999.000, 9
316N19871218, SAVE2, 97, 1, 29, 29, 2, 19880118, 1309, -18.2767, -33.4033, 4356,  -999.00,   2725.6,   2.8668,  34.9261, 2,  34.9260, 2,   -999.0, 9,    250.7, 2,    31.08, 2,    20.62, 2,     0.00, 2,     1.37, 2,    0.002, 2,    0.001, 2,   2176.9, 2,   -999.0, 9,   -999.0, 9,   2.6470,   -999.0, 9, -999.000, 9
316N19871218, SAVE2, 97, 1, 30, 30, 2, 19880118, 1309, -18.2767, -33.4033, 4356,  -999.00,   3002.9,   2.7435,  34.9199, 2,  34.9210, 2,   -999.0, 9,    252.0, 2,    32.84, 2,    20.62, 2,     0.00, 2,     1.38, 2,    0.003, 2,    0.002, 2,   2178.7, 2,   2338.9, 2,    737.9, 2,   2.4980,   -999.0, 9, -999.000, 9
316N19871218, SAVE2, 97, 1, 31, 31, 2, 19880118, 1309, -18.2767, -33.4033, 4356,  -999.00,   3295.6,   2.6084,  34.9118, 2,  34.9130, 2,   -999.0, 9,    253.7, 2,    34.89, 2,    20.62, 2,     0.00, 2,     1.38, 2, -999.000, 9, -999.000, 9,   2180.6, 2,   -999.0, 9,   -999.0, 9,   2.3354,   -999.0, 9, -999.000, 9
316N19871218, SAVE2, 97, 1, 32, 32, 2, 19880118, 1309, -18.2767, -33.4033, 4356,  -999.00,   3594.5,   2.3361,  34.8890, 2,  34.8890, 2,   -999.0, 9,    252.4, 2,    42.32, 2,    21.50, 2,     0.00, 2,     1.45, 2,    0.001, 2,    0.002, 2,   2187.7, 2,   2342.8, 2,    765.1, 2,   2.0376,   -999.0, 9, -999.000, 9
316N19871218, SAVE2, 97, 1, 33, 33, 2, 19880118, 1309, -18.2767, -33.4033, 4356,  -999.00,   3946.3,   1.5955,  34.8108, 2,  34.8110, 2,   -999.0, 9,    238.5, 2,    72.91, 2,    25.80, 2,     0.00, 2,     1.75, 2,    0.000, 2,    0.001, 2,   2219.5, 2,   -999.0, 9,   -999.0, 9,   1.2790,   -999.0, 9, -999.000, 9
316N19871218, SAVE2, 97, 1, 34, 34, 2, 19880118, 1309, -18.2767, -33.4033, 4356,  -999.00,   4277.1,   0.9514,  34.7411, 2,  34.7410, 2,   -999.0, 9,    227.2, 2,    99.79, 2,    29.42, 2,     0.00, 2,     2.02, 2,    0.005, 2,    0.012, 2,   2248.7, 2,   2374.9, 2,    951.0, 2,   0.6179,   -999.0, 9, -999.000, 9
316N19871218, SAVE2, 97, 1, 35, 35, 2, 19880118, 1309, -18.2767, -33.4033, 4356,  -999.00,   4374.3,   0.5733,  34.7043, 2,  34.7030, 2,   -999.0, 9,    222.5, 2,   114.26, 2,    31.37, 2,     0.00, 2,     2.16, 2,    0.016, 2,    0.014, 2,   2260.5, 2,   -999.0, 9,   -999.0, 9,   0.2409,   4356.7, 2,    0.575, 2
316N19871218, SAVE2, 97, 1, 36, 36, 2, 19880118, 1309, -18.2767, -33.4033, 4356,  -999.00,   4435.3,   0.5736,  34.7035, 2,  34.7050, 2,   -999.0, 9,    222.0, 2,   114.65, 2,    31.47, 2,     0.00, 2,     2.14, 2,    0.018, 2,    0.016, 2,   2257.4, 2,   2376.2, 2,   1001.5, 2,   0.2345,   -999.0, 9, -999.000, 9