BOTTLE,20110114CCHDOSIODM
EXPOCODE,SECT_ID,STNNBR,CASTNO,SAMPNO,BTLNBR,BTLNBR_FLAG_W,DATE,TIME,LATITUDE,LONGITUDE,DEPTH,CTDRAW,CTDPRS,CTDTMP,CTDSAL,CTDSAL_FLAG_W,SALNTY,SALNTY_FLAG_W,CTDOXY,CTDOXY_FLAG_W,OXYGEN,OXYGEN_FLAG_W,SILCAT,SILCAT_FLAG_W,NITRAT,NITRAT_FLAG_W,NITRIT,NITRIT_FLAG_W,PHSPHT,PHSPHT_FLAG_W,CFC-11,CFC-11_FLAG_W,CFC-12,CFC-12_FLAG_W,TCARBN,TCARBN_FLAG_W,ALKALI,ALKALI_FLAG_W,PCO2,PCO2_FLAG_W,THETA,REVPRS,REVPRS_FLAG_W,REVTMP,REVTMP_FLAG_W
,,,,,,,,,,,METERS,DBAR,DBAR,ITS-68,PSS-78,,PSS-78,,UMOL/KG,,UMOL/KG,,UMOL/KG,,UMOL/KG,,UMOL/KG,,UMOL/KG,,PMOL/KG,,PMOL/KG,,UMOL/KG,,UMOL/KG,,UATM,,DEG C,DBAR,,ITS-68,
316N19871218, SAVE2, 90, 1, 1, 1, 2, 19880114, 1050, -16.9567, -25.1083, 5214,  -999.00,      1.3,  26.5533,  37.2905, 2,  37.2910, 2,   -999.0, 9,    204.9, 2,     1.37, 2,     0.10, 2,     0.00, 2,     0.17, 2,    1.531, 2,    0.753, 2,   2082.3, 2,   2454.9, 2,    290.7, 2,  26.5530,   -999.0, 9, -999.000, 9
316N19871218, SAVE2, 90, 1, 2, 2, 2, 19880114, 1050, -16.9567, -25.1083, 5214,  -999.00,     44.4,  26.4583,  37.3054, 2,  37.3080, 2,   -999.0, 9,    203.5, 2,     1.17, 2,     0.10, 2,     0.00, 2,     0.17, 2,    1.575, 2,    0.777, 2,   2085.1, 2,   2468.3, 2,    281.3, 2,  26.4482,   -999.0, 9, -999.000, 9
316N19871218, SAVE2, 90, 1, 3, 3, 2, 19880114, 1050, -16.9567, -25.1083, 5214,  -999.00,     74.8,  25.1271,  37.1241, 2,  37.1370, 2,   -999.0, 9,    213.9, 2,     1.17, 2,     0.10, 2,     0.00, 2,     0.18, 2, -999.000, 9, -999.000, 9,   -999.0, 9,   -999.0, 9,   -999.0, 9,  25.1107,   -999.0, 9, -999.000, 9
316N19871218, SAVE2, 90, 1, 4, 4, 2, 19880114, 1050, -16.9567, -25.1083, 5214,  -999.00,    125.2,  23.1570,  36.8207, 2,  36.8090, 2,   -999.0, 9,    209.1, 2,     1.27, 2,     0.10, 2,     0.00, 2,     0.21, 2, -999.000, 9, -999.000, 9,   -999.0, 9,   -999.0, 9,   -999.0, 9,  23.1311,   -999.0, 9, -999.000, 9
316N19871218, SAVE2, 90, 1, 5, 5, 2, 19880114, 1050, -16.9567, -25.1083, 5214,  -999.00,    185.8,  18.8301,  36.0476, 2,  36.0360, 2,   -999.0, 9,    202.4, 2,     1.66, 2,     1.66, 2,     0.07, 2,     0.36, 2, -999.000, 9, -999.000, 9,   -999.0, 9,   -999.0, 9,   -999.0, 9,  18.7969,   -999.0, 9, -999.000, 9
316N19871218, SAVE2, 90, 1, 6, 6, 2, 19880114, 1050, -16.9567, -25.1083, 5214,  -999.00,    232.4,  15.7764,  35.5508, 2,  35.5480, 2,   -999.0, 9,    195.8, 2,     2.93, 2,     6.64, 2,     0.01, 2,     0.62, 2,    1.619, 2,    0.780, 2,   -999.0, 9,   -999.0, 9,   -999.0, 9,  15.7398,   -999.0, 9, -999.000, 9
316N19871218, SAVE2, 90, 1, 7, 7, 2, 19880114, 1050, -16.9567, -25.1083, 5214,  -999.00,    271.0,  14.0988,  35.3154, 2,  35.3080, 2,   -999.0, 9,    184.5, 2,     4.20, 2,    11.04, 2,     0.01, 2,     0.85, 2,    1.292, 2,    0.612, 2,   -999.0, 9,   -999.0, 9,   -999.0, 9,  14.0592,   -999.0, 9, -999.000, 9
316N19871218, SAVE2, 90, 1, 8, 8, 2, 19880114, 1050, -16.9567, -25.1083, 5214,  -999.00,    321.1,  12.4882,  35.1159, 2,  35.1150, 2,   -999.0, 9,    167.9, 2,     6.35, 2,    15.93, 2,     0.00, 2,     1.14, 2, -999.000, 9,    0.586, 2,   -999.0, 9,   -999.0, 9,   -999.0, 9,  12.4449,   -999.0, 9, -999.000, 9
316N19871218, SAVE2, 90, 1, 9, 9, 2, 19880114, 1050, -16.9567, -25.1083, 5214,  -999.00,    370.7,  10.7407,  34.9158, 2,  34.9180, 2,   -999.0, 9,    163.5, 2,     9.19, 2,    20.13, 2,     0.00, 2,     1.39, 2,    0.927, 2,    0.439, 2,   -999.0, 9,   -999.0, 9,   -999.0, 9,  10.6954,   -999.0, 9, -999.000, 9
316N19871218, SAVE2, 90, 1, 10, 10, 2, 19880114, 1050, -16.9567, -25.1083, 5214,  -999.00,    445.1,   8.8234,  34.7348, 2,  34.7340, 2,   -999.0, 9,    141.3, 2,    14.37, 2,    26.68, 2,     0.00, 2,     1.80, 2,    0.425, 2,    0.218, 2,   -999.0, 9,   -999.0, 9,   -999.0, 9,   8.7751,   -999.0, 9, -999.000, 9
316N19871218, SAVE2, 90, 1, 11, 11, 2, 19880114, 1050, -16.9567, -25.1083, 5214,  -999.00,    555.6,   6.6853,  34.5437, 2,  34.5450, 2,   -999.0, 9,    152.6, 2,    20.43, 2,    30.40, 2,     0.00, 2,     2.04, 2,    0.146, 2,    0.079, 2,   -999.0, 9,   -999.0, 9,   -999.0, 9,   6.6336,   -999.0, 9, -999.000, 9
316N19871218, SAVE2, 90, 1, 12, 12, 2, 19880114, 1050, -16.9567, -25.1083, 5214,  -999.00,    615.3,   5.7637,  34.4709, 2,  34.4730, 2,   -999.0, 9,    164.8, 2,    23.75, 2,    31.38, 2,     0.00, 2,     2.11, 2,    0.124, 2,    0.067, 2,   -999.0, 9,   -999.0, 9,   -999.0, 9,   5.7106,   -999.0, 9, -999.000, 9
316N19871218, SAVE2, 90, 1, 13, 13, 2, 19880114, 1050, -16.9567, -25.1083, 5214,  -999.00,    674.6,   5.0550,  34.4264, 2,  34.4250, 2,   -999.0, 9,    174.3, 2,    26.98, 2,    31.97, 2,     0.00, 2,     2.15, 2,    0.112, 2,    0.059, 2,   -999.0, 9,   -999.0, 9,   -999.0, 9,   5.0002,   -999.0, 9, -999.000, 9
316N19871218, SAVE2, 90, 1, 14, 14, 2, 19880114, 1050, -16.9567, -25.1083, 5214,  -999.00,    774.9,   4.3544,  34.4196, 2,  34.4190, 2,   -999.0, 9,    175.6, 2,    32.85, 2,    32.95, 2,     0.00, 2,     2.22, 2,    0.043, 2,    0.026, 2,   -999.0, 9,   -999.0, 9,   -999.0, 9,   4.2950,   -999.0, 9, -999.000, 9
316N19871218, SAVE2, 90, 1, 15, 15, 2, 19880114, 1050, -16.9567, -25.1083, 5214,  -999.00,    858.9,   3.9196,  34.4250, 2,  34.4250, 2,   -999.0, 9,    183.4, 2,    36.86, 2,    32.75, 2,     0.00, 2,     2.23, 2,    0.049, 2,    0.025, 2,   -999.0, 9,   -999.0, 9,   -999.0, 9,   3.8562,   -999.0, 9, -999.000, 9
316N19871218, SAVE2, 90, 1, 16, 16, 2, 19880114, 1050, -16.9567, -25.1083, 5214,  -999.00,    982.7,   3.7147,  34.4859, 2,  34.4830, 2,   -999.0, 9,    181.7, 2,    39.69, 2,    32.65, 2,     0.00, 2,     2.23, 2,    0.023, 2,    0.009, 2,   2219.7, 2,   2326.4, 2,   1037.2, 2,   3.6427,   -999.0, 9, -999.000, 9
316N19871218, SAVE2, 90, 1, 17, 17, 2, 19880114, 1050, -16.9567, -25.1083, 5214,  -999.00,   1118.8,   3.7097,  34.6003, 2,  34.5960, 2,   -999.0, 9,    181.7, 2,    39.00, 2,    31.18, 2,     0.00, 2,     2.14, 2,    0.009, 2,    0.004, 2,   -999.0, 9,   -999.0, 9,   -999.0, 9,   3.6264,   -999.0, 9, -999.000, 9
316N19871218, SAVE2, 90, 1, 18, 18, 2, 19880114, 1050, -16.9567, -25.1083, 5214,  -999.00,   1314.6,   3.7637,  34.7501, 2,  34.7500, 2,   -999.0, 9,    195.1, 2,    33.43, 2,    28.15, 2,     0.00, 2,     1.92, 2,    0.003, 2,    0.012, 2,   -999.0, 9,   -999.0, 9,   -999.0, 9,   3.6630,   -999.0, 9, -999.000, 9
316N19871218, SAVE2, 90, 1, 19, 19, 2, 19880114, 1050, -16.9567, -25.1083, 5214,  -999.00,   1470.5,   3.7117,  34.8321, 2,  34.8340, 2,   -999.0, 9,    210.8, 2,    30.39, 2,    25.70, 2,     0.00, 2,     1.73, 2,    0.004, 2,    0.002, 2,   -999.0, 9,   -999.0, 9,   -999.0, 9,   3.5977,   -999.0, 9, -999.000, 9
316N19871218, SAVE2, 90, 1, 20, 20, 2, 19880114, 1050, -16.9567, -25.1083, 5214,  -999.00,   1684.5,   3.4938,  34.8919, 2,  34.8930, 2,   -999.0, 9,    229.0, 2,    28.63, 2,    23.26, 2,     0.00, 2,     1.55, 2,    0.008, 2,    0.002, 2,   -999.0, 9,   -999.0, 9,   -999.0, 9,   3.3632,   -999.0, 9, -999.000, 9
316N19871218, SAVE2, 90, 1, 21, 21, 2, 19880114, 1050, -16.9567, -25.1083, 5214,  -999.00,   1898.8,   3.3449,  34.9193, 2,  34.9200, 2,   -999.0, 9,    239.8, 2,    27.66, 2,    21.89, 2,     0.00, 2,     1.46, 2,    0.001, 2,    0.001, 2,   -999.0, 9,   -999.0, 9,   -999.0, 9,   3.1967,   -999.0, 9, -999.000, 9
316N19871218, SAVE2, 90, 1, 22, 22, 2, 19880114, 1050, -16.9567, -25.1083, 5214,  -999.00,   2060.5,   3.2570,  34.9346, 2,  34.9370, 2,   -999.0, 9,    246.8, 2,    26.48, 2,    21.01, 2,     0.00, 2,     1.40, 2,    0.006, 2,    0.004, 2,   2178.9, 3,   2334.2, 2,    757.6, 2,   3.0949,   -999.0, 9, -999.000, 9
316N19871218, SAVE2, 90, 1, 23, 23, 2, 19880114, 1050, -16.9567, -25.1083, 5214,  -999.00,   2299.4,   3.0301,  34.9248, 2,  34.9260, 2,   -999.0, 9,    247.2, 2,    30.20, 2,    21.21, 2,     0.00, 2,     1.42, 2,    0.000, 2,    0.002, 2,   -999.0, 9,   -999.0, 9,   -999.0, 9,   2.8491,   -999.0, 9, -999.000, 9
316N19871218, SAVE2, 90, 1, 24, 24, 2, 19880114, 1050, -16.9567, -25.1083, 5214,  -999.00,   2548.7,   2.9082,  34.9225, 2,  34.9220, 2,   -999.0, 9,    248.5, 2,    31.96, 2,    21.11, 2,     0.00, 2,     1.42, 2,    0.003, 2,    0.004, 2,   -999.0, 9,   -999.0, 9,   -999.0, 9,   2.7052,   -999.0, 9, -999.000, 9
316N19871218, SAVE2, 90, 1, 25, 25, 2, 19880114, 1050, -16.9567, -25.1083, 5214,  -999.00,   2796.1,   2.8022,  34.9184, 2,  34.9200, 2,   -999.0, 9,    248.5, 2,    33.81, 2,    21.21, 2,     0.00, 2,     1.42, 2,    0.005, 2,    0.005, 2,   -999.0, 9,   -999.0, 9,   -999.0, 9,   2.5767,   -999.0, 9, -999.000, 9
316N19871218, SAVE2, 90, 1, 26, 26, 2, 19880114, 1050, -16.9567, -25.1083, 5214,  -999.00,   3075.7,   2.6923,  34.9135, 2,  34.9120, 2,   -999.0, 9,    249.8, 2,    35.57, 2,    21.30, 2,     0.00, 2,     1.43, 2,    0.003, 2,    0.002, 2,   -999.0, 9,   -999.0, 9,   -999.0, 9,   2.4404,   -999.0, 9, -999.000, 9
316N19871218, SAVE2, 90, 1, 27, 27, 2, 19880114, 1050, -16.9567, -25.1083, 5214,  -999.00,   3349.3,   2.5654,  34.9045, 2,  34.9040, 2,   -999.0, 9,    250.7, 2,    38.31, 2,    21.50, 2,     0.00, 2,     1.44, 2,    0.004, 2,    0.000, 2,   -999.0, 9,   -999.0, 9,   -999.0, 9,   2.2876,   -999.0, 9, -999.000, 9
316N19871218, SAVE2, 90, 1, 28, 28, 2, 19880114, 1050, -16.9567, -25.1083, 5214,  -999.00,   3650.7,   2.2715,  34.8750, 2,  34.8760, 2,   -999.0, 9,    245.9, 2,    49.45, 2,    22.97, 2,     0.00, 2,     1.53, 2,    0.002, 2,    0.001, 2,   2197.7, 2,   2351.7, 2,    776.3, 2,   1.9687,   -999.0, 9, -999.000, 9
316N19871218, SAVE2, 90, 1, 29, 29, 2, 19880114, 1050, -16.9567, -25.1083, 5214,  -999.00,   3953.7,   1.7728,  34.8261, 2,  34.8260, 2,   -999.0, 9,    240.3, 2,    67.63, 2,    25.21, 2,     0.00, 2,     1.71, 2,    0.004, 2,    0.002, 2,   -999.0, 9,   -999.0, 9,   -999.0, 9,   1.4505,   -999.0, 9, -999.000, 9
316N19871218, SAVE2, 90, 1, 30, 30, 2, 19880114, 1050, -16.9567, -25.1083, 5214,  -999.00,   4147.3,   1.4660,  34.7950, 2,  34.7950, 2,   -999.0, 9,    235.9, 2,    79.46, 2,    26.78, 2,     0.00, 2,     1.84, 2,    0.006, 2,    0.004, 2,   -999.0, 9,   -999.0, 9,   -999.0, 9,   1.1312,   -999.0, 9, -999.000, 9
316N19871218, SAVE2, 90, 1, 31, 31, 2, 19880114, 1050, -16.9567, -25.1083, 5214,  -999.00,   4347.1,   1.2142,  34.7684, 2,  34.7690, 2,   -999.0, 9,    232.4, 2,    89.53, 2,    28.15, 2,     0.00, 2,     1.93, 2,    0.001, 2,    0.002, 2,   -999.0, 9,   -999.0, 9,   -999.0, 9,   0.8648,   -999.0, 9, -999.000, 9
316N19871218, SAVE2, 90, 1, 32, 32, 2, 19880114, 1050, -16.9567, -25.1083, 5214,  -999.00,   4547.0,   1.0343,  34.7495, 2,  34.7490, 2,   -999.0, 9,    229.4, 2,    96.96, 2,    29.32, 2,     0.00, 2,     2.00, 2,    0.001, 2,    0.001, 2,   -999.0, 9,   -999.0, 9,   -999.0, 9,   0.6680,   4566.7, 2,    1.038, 2
316N19871218, SAVE2, 90, 1, 33, 33, 2, 19880114, 1050, -16.9567, -25.1083, 5214,  -999.00,   4772.5,   0.8784,  34.7324, 2,  34.7320, 2,   -999.0, 9,    226.8, 2,   104.09, 2,    30.10, 2,     0.00, 2,     2.06, 2,    0.012, 2,    0.000, 2,   -999.0, 9,   -999.0, 9,   -999.0, 9,   0.4915,   -999.0, 9, -999.000, 9
316N19871218, SAVE2, 90, 1, 34, 34, 2, 19880114, 1050, -16.9567, -25.1083, 5214,  -999.00,   4977.2,   0.7774,  34.7200, 2,  34.7180, 2,   -999.0, 9,    225.1, 2,   108.98, 2,    30.69, 2,     0.00, 2,     2.11, 2,    0.009, 2,    0.000, 2,   -999.0, 9,   -999.0, 9,   -999.0, 9,   0.3702,   -999.0, 9, -999.000, 9
316N19871218, SAVE2, 90, 1, 35, 35, 2, 19880114, 1050, -16.9567, -25.1083, 5214,  -999.00,   5166.5,   0.7345,  34.7130, 2,  34.7120, 2,   -999.0, 9,    224.6, 2,   111.52, 2,    31.08, 2,     0.00, 2,     2.14, 2,    0.005, 2,    0.003, 2,   -999.0, 9,   -999.0, 9,   -999.0, 9,   0.3063,   5154.1, 2,    0.737, 2
316N19871218, SAVE2, 90, 1, 36, 36, 2, 19880114, 1050, -16.9567, -25.1083, 5214,  -999.00,   5319.7,   0.7175,  34.7101, 2,  34.7110, 2,   -999.0, 9,    223.8, 2,   113.28, 2,    31.28, 2,     0.00, 2,     2.15, 2,    0.006, 2,    0.004, 2,   2256.8, 2,   2376.7, 2,    994.6, 2,   0.2715,   -999.0, 9, -999.000, 9