BOTTLE,20110114CCHDOSIODM
EXPOCODE,SECT_ID,STNNBR,CASTNO,SAMPNO,BTLNBR,BTLNBR_FLAG_W,DATE,TIME,LATITUDE,LONGITUDE,DEPTH,CTDRAW,CTDPRS,CTDTMP,CTDSAL,CTDSAL_FLAG_W,SALNTY,SALNTY_FLAG_W,CTDOXY,CTDOXY_FLAG_W,OXYGEN,OXYGEN_FLAG_W,SILCAT,SILCAT_FLAG_W,NITRAT,NITRAT_FLAG_W,NITRIT,NITRIT_FLAG_W,PHSPHT,PHSPHT_FLAG_W,CFC-11,CFC-11_FLAG_W,CFC-12,CFC-12_FLAG_W,TCARBN,TCARBN_FLAG_W,ALKALI,ALKALI_FLAG_W,PCO2,PCO2_FLAG_W,THETA,REVPRS,REVPRS_FLAG_W,REVTMP,REVTMP_FLAG_W
,,,,,,,,,,,METERS,DBAR,DBAR,ITS-68,PSS-78,,PSS-78,,UMOL/KG,,UMOL/KG,,UMOL/KG,,UMOL/KG,,UMOL/KG,,UMOL/KG,,PMOL/KG,,PMOL/KG,,UMOL/KG,,UMOL/KG,,UATM,,DEG C,DBAR,,ITS-68,
316N19871218, SAVE2, 105, 1, 24, 24, 2, 19880121, 1805, -18.8900, -37.8783, 65,  -999.00,      1.8,  28.8432,  37.2353, 2, -999.0000, 9,   -999.0, 9,   -999.0, 9,  -999.00, 9,  -999.00, 9,  -999.00, 9,  -999.00, 9,    1.408, 2,    0.727, 2,   -999.0, 9,   -999.0, 9,   -999.0, 9,  28.8428,   -999.0, 9, -999.000, 9
316N19871218, SAVE2, 105, 1, 25, 25, 2, 19880121, 1805, -18.8900, -37.8783, 65,  -999.00,      1.8,  28.8459,  37.2356, 2,  37.2360, 2,   -999.0, 9,    200.6, 2,     1.46, 2,     0.10, 2,     0.00, 2,     0.03, 2, -999.000, 9, -999.000, 9,   2046.2, 2,   2449.6, 2,    253.4, 2,  28.8455,   -999.0, 9, -999.000, 9
316N19871218, SAVE2, 105, 1, 26, 26, 2, 19880121, 1805, -18.8900, -37.8783, 65,  -999.00,      6.0,  28.5059,  37.2260, 2,  37.2278, 2,   -999.0, 9,    201.4, 2,     1.46, 2,     0.10, 2,     0.00, 2,     0.04, 2,    1.427, 2,    0.729, 2,   -999.0, 9,   -999.0, 9,   -999.0, 9,  28.5044,   -999.0, 9, -999.000, 9
316N19871218, SAVE2, 105, 1, 27, 27, 2, 19880121, 1805, -18.8900, -37.8783, 65,  -999.00,     10.9,  28.4290,  37.2288, 2,  37.2285, 2,   -999.0, 9,    202.4, 2,     1.46, 2,     0.10, 2,     0.00, 2,     0.03, 2, -999.000, 9, -999.000, 9,   2043.4, 2,   -999.0, 9,   -999.0, 9,  28.4263,   -999.0, 9, -999.000, 9
316N19871218, SAVE2, 105, 1, 28, 28, 2, 19880121, 1805, -18.8900, -37.8783, 65,  -999.00,     15.9,  28.1627,  37.2299, 2,  37.2369, 2,   -999.0, 9,    202.2, 2,     1.37, 2,     0.10, 2,     0.00, 2,     0.03, 2, -999.000, 9, -999.000, 9,   -999.0, 9,   -999.0, 9,   -999.0, 9,  28.1589,   -999.0, 9, -999.000, 9
316N19871218, SAVE2, 105, 1, 29, 29, 2, 19880121, 1805, -18.8900, -37.8783, 65,  -999.00,     21.1,  27.8827,  37.1962, 2,  37.1988, 2,   -999.0, 9,    201.7, 2,     1.37, 2,     0.10, 2,     0.00, 2,     0.04, 2,    1.450, 2,    0.733, 2,   2048.5, 2,   2451.6, 2,    253.9, 2,  27.8778,   -999.0, 9, -999.000, 9
316N19871218, SAVE2, 105, 1, 30, 30, 2, 19880121, 1805, -18.8900, -37.8783, 65,  -999.00,     26.0,  27.4205,  37.1987, 2, -999.0000, 9,   -999.0, 9,    203.8, 2,     1.37, 2,     0.10, 2,     0.00, 2,     0.05, 2, -999.000, 9, -999.000, 9,   -999.0, 9,   -999.0, 9,   -999.0, 9,  27.4144,   -999.0, 9, -999.000, 9
316N19871218, SAVE2, 105, 1, 31, 31, 2, 19880121, 1805, -18.8900, -37.8783, 65,  -999.00,     33.1,  26.5504,  37.1296, 2,  37.1292, 2,   -999.0, 9,    207.8, 2,     1.27, 2,     0.10, 2,     0.00, 2,     0.08, 2, -999.000, 9, -999.000, 9,   2061.0, 2,   2447.9, 2,    270.5, 2,  26.5429,   -999.0, 9, -999.000, 9
316N19871218, SAVE2, 105, 1, 32, 32, 2, 19880121, 1805, -18.8900, -37.8783, 65,  -999.00,     37.1,  26.2120,  37.1906, 2,  37.1799, 2,   -999.0, 9,    205.3, 2,     1.27, 2,     0.10, 2,     0.00, 2,     0.09, 2,    1.505, 2,    0.777, 2,   2064.1, 2,   2447.7, 2,    274.6, 2,  26.2036,   -999.0, 9, -999.000, 9
316N19871218, SAVE2, 105, 1, 33, 33, 2, 19880121, 1805, -18.8900, -37.8783, 65,  -999.00,     41.7,  25.5568,  37.1895, 2,  37.1902, 2,   -999.0, 9,    206.4, 2,     1.27, 2,     0.10, 2,     0.00, 2,     0.11, 2,    1.533, 2,    0.781, 2,   -999.0, 9,   -999.0, 9,   -999.0, 9,  25.5475,   -999.0, 9, -999.000, 9
316N19871218, SAVE2, 105, 1, 34, 34, 2, 19880121, 1805, -18.8900, -37.8783, 65,  -999.00,     51.5,  24.0171,  37.0067, 2,  37.0179, 2,   -999.0, 9,    200.6, 2,     1.27, 2,     0.10, 2,     0.00, 2,     0.16, 2,    1.594, 2,    0.802, 2,   2082.4, 2,   2443.9, 2,    299.8, 2,  24.0062,   -999.0, 9, -999.000, 9
316N19871218, SAVE2, 105, 1, 35, 35, 2, 19880121, 1805, -18.8900, -37.8783, 65,  -999.00,     56.5,  23.5994,  36.9346, 2,  36.9355, 2,   -999.0, 9,    205.6, 2,     1.27, 2,     0.10, 2,     0.01, 2,     0.19, 2,    1.608, 2,    0.818, 2,   2083.0, 2,   -999.0, 9,   -999.0, 9,  23.5876,   -999.0, 9, -999.000, 9
316N19871218, SAVE2, 105, 1, 36, 36, 2, 19880121, 1805, -18.8900, -37.8783, 65,  -999.00,     63.2,  23.3841,  36.9076, 2,  36.9112, 2,   -999.0, 9,    201.8, 2,     1.27, 2,     0.20, 2,     0.02, 2,     0.20, 2,    1.615, 2,    0.827, 2,   2087.1, 2,   2439.8, 2,    309.5, 2,  23.3709,   -999.0, 9, -999.000, 9