BOTTLE,20110114CCHDOSIODM
EXPOCODE,SECT_ID,STNNBR,CASTNO,SAMPNO,BTLNBR,BTLNBR_FLAG_W,DATE,TIME,LATITUDE,LONGITUDE,DEPTH,CTDRAW,CTDPRS,CTDTMP,CTDSAL,CTDSAL_FLAG_W,SALNTY,SALNTY_FLAG_W,CTDOXY,CTDOXY_FLAG_W,OXYGEN,OXYGEN_FLAG_W,SILCAT,SILCAT_FLAG_W,NITRAT,NITRAT_FLAG_W,NITRIT,NITRIT_FLAG_W,PHSPHT,PHSPHT_FLAG_W,CFC-11,CFC-11_FLAG_W,CFC-12,CFC-12_FLAG_W,TCARBN,TCARBN_FLAG_W,ALKALI,ALKALI_FLAG_W,PCO2,PCO2_FLAG_W,THETA,REVPRS,REVPRS_FLAG_W,REVTMP,REVTMP_FLAG_W
,,,,,,,,,,,METERS,DBAR,DBAR,ITS-68,PSS-78,,PSS-78,,UMOL/KG,,UMOL/KG,,UMOL/KG,,UMOL/KG,,UMOL/KG,,UMOL/KG,,PMOL/KG,,PMOL/KG,,UMOL/KG,,UMOL/KG,,UATM,,DEG C,DBAR,,ITS-68,
316N19871218, SAVE2, 55, 1, 1, 1, 2, 19871227, 0709, -7.6933, 8.8167, 4219,  -999.00,      1.9,  26.3913,  35.6385, 2,  35.6440, 2,   -999.0, 9,    205.1, 2,     1.37, 2,     0.10, 2,     0.00, 2,     0.13, 2,    1.550, 2,    0.782, 2,   2016.4, 2,   -999.0, 9,   -999.0, 9,  26.3909,   -999.0, 9, -999.000, 9
316N19871218, SAVE2, 55, 1, 2, 2, 2, 19871227, 0709, -7.6933, 8.8167, 4219,  -999.00,     14.8,  26.3263,  35.6385, 2,  35.6430, 2,   -999.0, 9,    206.0, 2,     1.47, 2,     0.10, 2,     0.00, 2,     0.12, 2,    1.538, 2,    0.767, 2,   -999.0, 9,   -999.0, 9,   -999.0, 9,  26.3230,   -999.0, 9, -999.000, 9
316N19871218, SAVE2, 55, 1, 3, 3, 2, 19871227, 0709, -7.6933, 8.8167, 4219,  -999.00,     29.1,  20.3960,  35.7448, 2,  35.7440, 2,   -999.0, 9,    270.1, 2,     1.46, 2,     0.10, 2,     0.00, 2,     0.25, 2,    1.275, 2,    0.635, 2,   2033.3, 2,   -999.0, 9,   -999.0, 9,  20.3905,   -999.0, 9, -999.000, 9
316N19871218, SAVE2, 55, 1, 4, 4, 2, 19871227, 0709, -7.6933, 8.8167, 4219,  -999.00,     45.9,  17.0013,  35.6631, 2,  35.6580, 2,   -999.0, 9,    128.8, 2,     5.18, 2,    14.65, 2,     0.64, 2,     1.11, 2,    1.091, 2,    0.526, 2,   2158.4, 2,   -999.0, 9,   -999.0, 9,  16.9937,   -999.0, 9, -999.000, 9
316N19871218, SAVE2, 55, 1, 5, 5, 2, 19871227, 0709, -7.6933, 8.8167, 4219,  -999.00,     61.2,  16.0054,  35.6442, 2,  35.6460, 2,   -999.0, 9,     98.3, 2,     6.54, 2,    18.95, 2,     0.28, 2,     1.31, 2,    1.052, 2,    0.515, 2,   2181.4, 2,   -999.0, 9,   -999.0, 9,  15.9957,   -999.0, 9, -999.000, 9
316N19871218, SAVE2, 55, 1, 6, 6, 2, 19871227, 0709, -7.6933, 8.8167, 4219,  -999.00,    121.3,  14.9396,  35.5255, 2,  35.5190, 2,   -999.0, 9,     85.3, 2,     8.01, 2,    22.08, 2,     0.03, 2,     1.47, 2,    0.884, 2,    0.430, 2,   2190.1, 2,   -999.0, 9,   -999.0, 9,  14.9212,   -999.0, 9, -999.000, 9
316N19871218, SAVE2, 55, 1, 7, 7, 2, 19871227, 0709, -7.6933, 8.8167, 4219,  -999.00,    186.7,  13.9708,  35.3993, 2,  35.3980, 2,   -999.0, 9,     69.2, 2,     9.96, 2,    25.20, 2,     0.01, 2,     1.64, 2,    0.639, 2,    0.317, 2,   2207.5, 2,   -999.0, 9,   -999.0, 9,  13.9438,   -999.0, 9, -999.000, 9
316N19871218, SAVE2, 55, 1, 8, 8, 2, 19871227, 0709, -7.6933, 8.8167, 4219,  -999.00,    211.9,  13.5459,  35.3436, 2,  35.3400, 2,   -999.0, 9,     64.4, 2,    10.06, 2,    26.48, 2,     0.01, 2,     1.71, 2,    0.552, 2,    0.265, 2,   2212.3, 2,   -999.0, 9,   -999.0, 9,  13.5158,   -999.0, 9, -999.000, 9
316N19871218, SAVE2, 55, 1, 9, 9, 2, 19871227, 0709, -7.6933, 8.8167, 4219,  -999.00,    266.6,  12.3422,  35.2016, 2,  35.1970, 2,   -999.0, 9,     69.2, 2,    11.24, 2,    27.75, 2,     0.01, 2,     1.79, 2,    0.421, 2,    0.210, 2,   2217.9, 2,   -999.0, 9,   -999.0, 9,  12.3066,   -999.0, 9, -999.000, 9
316N19871218, SAVE2, 55, 1, 10, 10, 2, 19871227, 0709, -7.6933, 8.8167, 4219,  -999.00,    309.5,  11.3005,  35.0799, 2,  35.0810, 2,   -999.0, 9,     39.6, 2,    14.17, 2,    32.54, 2,     0.01, 2,     2.07, 2,    0.206, 2,    0.106, 2,   2243.3, 2,   -999.0, 9,   -999.0, 9,  11.2615,   -999.0, 9, -999.000, 9
316N19871218, SAVE2, 55, 1, 11, 11, 2, 19871227, 0709, -7.6933, 8.8167, 4219,  -999.00,    331.6,  10.6717,  35.0168, 2,  35.0150, 2,   -999.0, 9,     30.9, 2,    15.63, 2,    34.69, 2,     0.00, 2,     2.21, 2,    0.142, 2,    0.066, 2,   2250.9, 2,   -999.0, 9,   -999.0, 9,  10.6314,   -999.0, 9, -999.000, 9
316N19871218, SAVE2, 55, 1, 12, 12, 2, 19871227, 0709, -7.6933, 8.8167, 4219,  -999.00,    407.0,   9.0483,  34.8410, 2,  34.8410, 2,   -999.0, 9,     33.0, 2,    19.35, 2,    37.82, 2,     0.00, 2,     2.40, 2,    0.049, 2,    0.023, 2,   2267.3, 2,   -999.0, 9,   -999.0, 9,   9.0035,   -999.0, 9, -999.000, 9
316N19871218, SAVE2, 55, 1, 13, 13, 2, 19871227, 0709, -7.6933, 8.8167, 4219,  -999.00,    491.9,   7.6159,  34.6993, 2,  34.6990, 2,   -999.0, 9,     47.4, 2,    22.97, 2,    39.49, 2,     0.00, 2,     2.54, 2,    0.026, 2,    0.003, 2,   -999.0, 9,   -999.0, 9,   -999.0, 9,   7.5668,   -999.0, 9, -999.000, 9
316N19871218, SAVE2, 55, 1, 14, 14, 2, 19871227, 0709, -7.6933, 8.8167, 4219,  -999.00,    595.6,   6.1675,  34.5692, 2,  34.5690, 2,   -999.0, 9,     82.6, 2,    26.20, 2,    39.00, 2,     0.00, 2,     2.49, 2,    0.007, 2,    0.000, 2,   2256.4, 2,   -999.0, 9,   -999.0, 9,   6.1142,   -999.0, 9, -999.000, 9
316N19871218, SAVE2, 55, 1, 15, 15, 2, 19871227, 0709, -7.6933, 8.8167, 4219,  -999.00,    699.5,   5.3329,  34.5170, 2,  34.5170, 2,   -999.0, 9,     98.3, 2,    30.30, 2,    38.91, 2,     0.00, 2,     2.56, 2,    0.005, 2,    0.000, 2,   2252.5, 2,   -999.0, 9,   -999.0, 9,   5.2743,   -999.0, 9, -999.000, 9
316N19871218, SAVE2, 55, 1, 16, 16, 2, 19871227, 0709, -7.6933, 8.8167, 4219,  -999.00,    789.5,   4.8491,  34.5065, 2,  34.5050, 2,   -999.0, 9,    115.6, 2,    33.14, 2,    37.83, 2,     0.00, 2,     2.51, 2, -999.000, 9, -999.000, 9,   2245.0, 2,   -999.0, 9,   -999.0, 9,   4.7855,   -999.0, 9, -999.000, 9
316N19871218, SAVE2, 55, 1, 17, 17, 2, 19871227, 0709, -7.6933, 8.8167, 4219,  -999.00,    875.4,   4.5143,  34.5196, 2,  34.5200, 2,   -999.0, 9,    129.1, 2,    35.29, 2,    36.56, 2,     0.00, 2,     2.46, 2,    0.003, 2, -999.000, 9,   2245.5, 2,   -999.0, 9,   -999.0, 9,   4.4454,   -999.0, 9, -999.000, 9
316N19871218, SAVE2, 55, 1, 18, 18, 2, 19871227, 0709, -7.6933, 8.8167, 4219,  -999.00,    960.7,   4.3444,  34.5586, 2,  34.5570, 2,   -999.0, 9,    138.7, 2,    35.97, 2,    35.48, 2,     0.00, 2,     2.42, 2,    0.001, 2, -999.000, 9,   2242.6, 2,   -999.0, 9,   -999.0, 9,   4.2694,   -999.0, 9, -999.000, 9
316N19871218, SAVE2, 55, 1, 19, 19, 2, 19871227, 0709, -7.6933, 8.8167, 4219,  -999.00,   1030.7,   4.2284,  34.5926, 2,  34.5930, 2,   -999.0, 9,    143.4, 2,    35.97, 2,    34.60, 2,     0.00, 2,     2.38, 2,    0.008, 2,    0.001, 2,   2241.8, 2,   -999.0, 9,   -999.0, 9,   4.1483,   -999.0, 9, -999.000, 9
316N19871218, SAVE2, 55, 1, 20, 20, 2, 19871227, 0709, -7.6933, 8.8167, 4219,  -999.00,   1226.4,   4.1005,  34.7561, 2,  34.7560, 2,   -999.0, 9,    168.6, 2,    32.25, 2,    30.40, 2,     0.00, 2,     2.09, 2, -999.000, 9, -999.000, 9,   2229.7, 2,   -999.0, 9,   -999.0, 9,   4.0042,   -999.0, 9, -999.000, 9
316N19871218, SAVE2, 55, 1, 21, 21, 2, 19871227, 0709, -7.6933, 8.8167, 4219,  -999.00,   1422.0,   3.9936,  34.8770, 2,  34.8770, 2,   -999.0, 9,    200.3, 2,    27.17, 2,    26.09, 2,     0.00, 2,     1.78, 2,    0.005, 2, -999.000, 9,   2205.5, 2,   -999.0, 9,   -999.0, 9,   3.8807,   -999.0, 9, -999.000, 9
316N19871218, SAVE2, 55, 1, 22, 22, 2, 19871227, 0709, -7.6933, 8.8167, 4219,  -999.00,   1689.0,   3.7937,  34.9306, 2,  34.9330, 2,   -999.0, 9,    222.0, 2,    24.82, 2,    23.16, 2,     0.00, 2,     1.57, 2, -999.000, 9, -999.000, 9,   2194.1, 2,   -999.0, 9,   -999.0, 9,   3.6587,   -999.0, 9, -999.000, 9
316N19871218, SAVE2, 55, 1, 23, 23, 2, 19871227, 0709, -7.6933, 8.8167, 4219,  -999.00,   1945.4,   3.5048,  34.9398, 2,  34.9400, 2,   -999.0, 9,    232.0, 2,    26.58, 2,    22.28, 2,     0.00, 2,     1.51, 2,    0.005, 2, -999.000, 9,   2187.1, 2,   -999.0, 9,   -999.0, 9,   3.3499,   -999.0, 9, -999.000, 9
316N19871218, SAVE2, 55, 1, 24, 24, 2, 19871227, 0709, -7.6933, 8.8167, 4219,  -999.00,   2110.9,   3.3089,  34.9357, 2,  34.9370, 2,   -999.0, 9,    231.6, 2,    30.10, 2,    22.38, 2,     0.00, 2,     1.51, 2,    0.014, 2,    0.001, 2,   2193.8, 2,   -999.0, 9,   -999.0, 9,   3.1413,   -999.0, 9, -999.000, 9
316N19871218, SAVE2, 55, 1, 25, 25, 2, 19871227, 0709, -7.6933, 8.8167, 4219,  -999.00,   2271.1,   3.1560,  34.9345, 2,  34.9330, 2,   -999.0, 9,    233.3, 2,    32.54, 2,    22.28, 2,     0.00, 2,     1.49, 2, -999.000, 9, -999.000, 9,   2195.1, 2,   -999.0, 9,   -999.0, 9,   2.9756,   -999.0, 9, -999.000, 9
316N19871218, SAVE2, 55, 1, 26, 26, 2, 19871227, 0709, -7.6933, 8.8167, 4219,  -999.00,   2396.7,   3.0431,  34.9281, 2,  34.9280, 2,   -999.0, 9,    232.5, 2,    34.79, 2,    22.38, 2,     0.00, 2,     1.50, 2,    0.008, 2, -999.000, 9,   -999.0, 9,   -999.0, 9,   -999.0, 9,   2.8525,   -999.0, 9, -999.000, 9
316N19871218, SAVE2, 55, 1, 27, 27, 2, 19871227, 0709, -7.6933, 8.8167, 4219,  -999.00,   2548.1,   2.9222,  34.9233, 2,  34.9220, 2,   -999.0, 9,    232.0, 2,    37.53, 2,    22.57, 2,     0.00, 2,     1.50, 2, -999.000, 9, -999.000, 9,   2200.6, 2,   -999.0, 9,   -999.0, 9,   2.7190,   -999.0, 9, -999.000, 9
316N19871218, SAVE2, 55, 1, 28, 28, 2, 19871227, 0709, -7.6933, 8.8167, 4219,  -999.00,   2720.8,   2.7982,  34.9174, 2,  34.9160, 2,   -999.0, 9,    231.6, 2,    40.75, 2,    22.77, 2,     0.00, 2,     1.52, 2,    0.008, 2, -999.000, 9,   -999.0, 9,   -999.0, 9,   -999.0, 9,   2.5804,   -999.0, 9, -999.000, 9
316N19871218, SAVE2, 55, 1, 29, 29, 2, 19871227, 0709, -7.6933, 8.8167, 4219,  -999.00,   2924.1,   2.6903,  34.9126, 2,  34.9110, 2,   -999.0, 9,    231.6, 2,    43.59, 2,    22.87, 2,     0.00, 2,     1.55, 2, -999.000, 9, -999.000, 9,   2209.6, 2,   -999.0, 9,   -999.0, 9,   2.4541,   -999.0, 9, -999.000, 9
316N19871218, SAVE2, 55, 1, 30, 30, 2, 19871227, 0709, -7.6933, 8.8167, 4219,  -999.00,   3122.2,   2.5923,  34.9069, 2,  34.9040, 2,   -999.0, 9,    232.9, 2,    45.74, 2,    23.06, 2,     0.00, 2,     1.56, 2,    0.020, 2, -999.000, 9,   -999.0, 9,   -999.0, 9,   -999.0, 9,   2.3379,   -999.0, 9, -999.000, 9
316N19871218, SAVE2, 55, 1, 31, 31, 2, 19871227, 0709, -7.6933, 8.8167, 4219,  -999.00,   3323.8,   2.5304,  34.9025, 2, -999.0000, 9,   -999.0, 9,   -999.0, 9,  -999.00, 9,  -999.00, 9,  -999.00, 9,  -999.00, 9, -999.000, 9, -999.000, 9,   -999.0, 9,   -999.0, 9,   -999.0, 9,   2.2562,   -999.0, 9, -999.000, 9
316N19871218, SAVE2, 55, 1, 32, 32, 2, 19871227, 0709, -7.6933, 8.8167, 4219,  -999.00,   3527.1,   2.4794,  34.8991, 2,  34.8970, 2,   -999.0, 9,    230.7, 2,    49.74, 2,    23.26, 2,     0.00, 2,     1.57, 2,    0.006, 2, -999.000, 9,   2217.4, 2,   -999.0, 9,   -999.0, 9,   2.1846,   3522.0, 2,    2.473, 2
316N19871218, SAVE2, 55, 1, 33, 33, 2, 19871227, 0709, -7.6933, 8.8167, 4219,  -999.00,   3723.5,   2.4244,  34.8945, 2,  34.8940, 2,   -999.0, 9,    228.5, 2,    52.77, 2,    23.55, 2,     0.00, 2,     1.58, 2, -999.000, 9, -999.000, 9,   2222.1, 2,   -999.0, 9,   -999.0, 9,   2.1095,   -999.0, 9, -999.000, 9
316N19871218, SAVE2, 55, 1, 34, 34, 2, 19871227, 0709, -7.6933, 8.8167, 4219,  -999.00,   3968.0,   2.3735,  34.8886, 2,  34.8870, 2,   -999.0, 9,    220.3, 2,    57.85, 2,    24.14, 2,     0.00, 2,     1.63, 2,    0.012, 2,    0.000, 2,   2238.8, 2,   -999.0, 9,   -999.0, 9,   2.0325,   -999.0, 9, -999.000, 9
316N19871218, SAVE2, 55, 1, 35, 35, 2, 19871227, 0709, -7.6933, 8.8167, 4219,  -999.00,   4157.8,   2.3495,  34.8857, 2,  34.8820, 2,   -999.0, 9,    216.4, 2,    59.22, 2,    24.53, 2,     0.00, 2,     1.63, 2, -999.000, 9, -999.000, 9,   2249.7, 2,   -999.0, 9,   -999.0, 9,   1.9873,   4147.6, 2,    2.348, 2
316N19871218, SAVE2, 55, 1, 36, 36, 2, 19871227, 0709, -7.6933, 8.8167, 4219,  -999.00,   4282.2,   2.3605,  34.8845, 2,  34.8830, 2,   -999.0, 9,    215.5, 2,    59.13, 2,    24.43, 2,     0.00, 2,     1.64, 2,    0.007, 2, -999.000, 9,   2247.3, 2,   -999.0, 9,   -999.0, 9,   1.9835,   -999.0, 9, -999.000, 9