BOTTLE,20110114CCHDOSIODM
EXPOCODE,SECT_ID,STNNBR,CASTNO,SAMPNO,BTLNBR,BTLNBR_FLAG_W,DATE,TIME,LATITUDE,LONGITUDE,DEPTH,CTDRAW,CTDPRS,CTDTMP,CTDSAL,CTDSAL_FLAG_W,SALNTY,SALNTY_FLAG_W,CTDOXY,CTDOXY_FLAG_W,OXYGEN,OXYGEN_FLAG_W,SILCAT,SILCAT_FLAG_W,NITRAT,NITRAT_FLAG_W,NITRIT,NITRIT_FLAG_W,PHSPHT,PHSPHT_FLAG_W,CFC-11,CFC-11_FLAG_W,CFC-12,CFC-12_FLAG_W,TCARBN,TCARBN_FLAG_W,ALKALI,ALKALI_FLAG_W,PCO2,PCO2_FLAG_W,THETA,REVPRS,REVPRS_FLAG_W,REVTMP,REVTMP_FLAG_W
,,,,,,,,,,,METERS,DBAR,DBAR,ITS-68,PSS-78,,PSS-78,,UMOL/KG,,UMOL/KG,,UMOL/KG,,UMOL/KG,,UMOL/KG,,UMOL/KG,,PMOL/KG,,PMOL/KG,,UMOL/KG,,UMOL/KG,,UATM,,DEG C,DBAR,,ITS-68,
316N19871218, SAVE2, 53, 1, 1, 1, 2, 19871225, 2353, -6.0200, 6.3217, 4619,  -999.00,      0.7,  26.7605,  35.5328, 2,  35.5530, 2,   -999.0, 9,    207.1, 2,     1.74, 2,     0.06, 2,     0.00, 2,     0.12, 2,    1.507, 2,    0.785, 2,   2016.4, 2,   -999.0, 9,   -999.0, 9,  26.7603,   -999.0, 9, -999.000, 9
316N19871218, SAVE2, 53, 1, 2, 2, 2, 19871225, 2353, -6.0200, 6.3217, 4619,  -999.00,     20.9,  26.6578,  35.5466, 2, -999.0000, 9,   -999.0, 9,   -999.0, 9,  -999.00, 9,  -999.00, 9,  -999.00, 9,  -999.00, 9, -999.000, 9, -999.000, 9,   2217.6, 2,   -999.0, 9,   -999.0, 9,  26.6531,   -999.0, 9, -999.000, 9
316N19871218, SAVE2, 53, 1, 3, 3, 2, 19871225, 2353, -6.0200, 6.3217, 4619,  -999.00,     31.8,  20.1023,  35.7715, 2,  35.7490, 2,   -999.0, 9,    213.4, 2,     3.43, 2,     2.39, 2,     0.06, 2,     0.46, 2,    1.299, 2,    0.650, 2,   2078.7, 2,   -999.0, 9,   -999.0, 9,  20.0964,   -999.0, 9, -999.000, 9
316N19871218, SAVE2, 53, 1, 4, 4, 2, 19871225, 2353, -6.0200, 6.3217, 4619,  -999.00,     35.4,  18.6042,  35.7057, 2,  35.6960, 2,   -999.0, 9,    169.8, 2,     4.42, 2,     9.42, 2,     0.16, 2,     0.79, 2,    1.216, 2,    0.612, 2,   2124.9, 2,   -999.0, 9,   -999.0, 9,  18.5979,   -999.0, 9, -999.000, 9
316N19871218, SAVE2, 53, 1, 5, 5, 2, 19871225, 2353, -6.0200, 6.3217, 4619,  -999.00,     53.9,  16.2019,  35.6407, 2,  35.6380, 2,   -999.0, 9,    118.6, 2,     6.11, 2,    16.58, 2,     0.83, 2,     1.22, 2,    1.082, 2,    0.548, 2,   2165.5, 2,   -999.0, 9,   -999.0, 9,  16.1933,   -999.0, 9, -999.000, 9
316N19871218, SAVE2, 53, 1, 6, 6, 2, 19871225, 2353, -6.0200, 6.3217, 4619,  -999.00,    109.9,  15.0346,  35.5443, 2, -999.0000, 9,   -999.0, 9,   -999.0, 9,  -999.00, 9,  -999.00, 9,  -999.00, 9,  -999.00, 9,    0.885, 2,    0.445, 2,   2190.1, 2,   -999.0, 9,   -999.0, 9,  15.0179,   -999.0, 9, -999.000, 9
316N19871218, SAVE2, 53, 1, 7, 7, 2, 19871225, 2353, -6.0200, 6.3217, 4619,  -999.00,    150.2,  14.5773,  35.4807, 2,  35.4750, 2,   -999.0, 9,     96.3, 2,     7.80, 2,    21.45, 2,     0.01, 2,     1.43, 2,    0.896, 2,    0.454, 2,   2189.7, 2,   -999.0, 9,   -999.0, 9,  14.5549,   -999.0, 9, -999.000, 9
316N19871218, SAVE2, 53, 1, 8, 8, 2, 19871225, 2353, -6.0200, 6.3217, 4619,  -999.00,    195.2,  14.0763,  35.4145, 2,  35.4130, 2,   -999.0, 9,     83.0, 2,     9.21, 2,    23.64, 2,     0.01, 2,     1.56, 2,    0.757, 2,    0.399, 2,   2199.8, 2,   -999.0, 9,   -999.0, 9,  14.0479,   -999.0, 9, -999.000, 9
316N19871218, SAVE2, 53, 1, 9, 9, 2, 19871225, 2353, -6.0200, 6.3217, 4619,  -999.00,    255.5,  12.8973,  35.2660, 2,  35.2680, 2,   -999.0, 9,     55.6, 2,    11.61, 2,    28.27, 2,     0.01, 2,     1.81, 2,    0.426, 2,    0.221, 2,   -999.0, 9,   -999.0, 9,   -999.0, 9,  12.8621,   -999.0, 9, -999.000, 9
316N19871218, SAVE2, 53, 1, 10, 10, 2, 19871225, 2353, -6.0200, 6.3217, 4619,  -999.00,    285.7,  12.0701,  35.1708, 2, -999.0000, 9,   -999.0, 9,   -999.0, 9,  -999.00, 9,  -999.00, 9,  -999.00, 9,  -999.00, 9,    0.236, 2,    0.120, 2,   -999.0, 9,   -999.0, 9,   -999.0, 9,  12.0325,   -999.0, 9, -999.000, 9
316N19871218, SAVE2, 53, 1, 11, 11, 2, 19871225, 2353, -6.0200, 6.3217, 4619,  -999.00,    311.0,  11.5488,  35.1123, 2,  35.1100, 2,   -999.0, 9,     40.9, 2,    14.14, 2,    31.99, 2,     0.01, 2,     2.03, 2,    0.231, 2,    0.124, 2,   2240.7, 2,   -999.0, 9,   -999.0, 9,  11.5090,   -999.0, 9, -999.000, 9
316N19871218, SAVE2, 53, 1, 13, 13, 2, 19871225, 2353, -6.0200, 6.3217, 4619,  -999.00,    389.2,   9.2990,  34.8655, 2,  34.8650, 2,   -999.0, 9,     30.0, 2,    18.80, 2,    37.51, 2,     0.00, 2,     2.37, 2, -999.000, 9, -999.000, 9,   -999.0, 9,   -999.0, 9,   -999.0, 9,   9.2555,   -999.0, 9, -999.000, 9
316N19871218, SAVE2, 53, 1, 12, 12, 2, 19871225, 2353, -6.0200, 6.3217, 4619,  -999.00,    389.4,   9.3094,  34.8665, 2,  34.8650, 2,   -999.0, 9,     29.5, 2,    18.82, 2,    37.45, 2,     0.00, 2,     2.37, 2,    0.052, 2,    0.027, 2,   2262.6, 2,   -999.0, 9,   -999.0, 9,   9.2658,   -999.0, 9, -999.000, 9
316N19871218, SAVE2, 53, 1, 14, 14, 2, 19871225, 2353, -6.0200, 6.3217, 4619,  -999.00,    488.1,   7.5342,  34.6842, 2, -999.0000, 9,   -999.0, 9,   -999.0, 9,  -999.00, 9,  -999.00, 9,  -999.00, 9,  -999.00, 9, -999.000, 9, -999.000, 9,   -999.0, 9,   -999.0, 9,   -999.0, 9,   7.4858,   -999.0, 9, -999.000, 9
316N19871218, SAVE2, 53, 1, 15, 15, 2, 19871225, 2353, -6.0200, 6.3217, 4619,  -999.00,    593.0,   6.2871,  34.5734, 2,  34.5730, 2,   -999.0, 9,     90.9, 2,    25.60, 2,    37.74, 2,     0.00, 2,     2.49, 2,    0.012, 2,    0.006, 2,   2245.0, 2,   -999.0, 9,   -999.0, 9,   6.2336,   -999.0, 9, -999.000, 9
316N19871218, SAVE2, 53, 1, 16, 16, 2, 19871225, 2353, -6.0200, 6.3217, 4619,  -999.00,    693.1,   5.4737,  34.5207, 2,  34.5210, 2,   -999.0, 9,    102.0, 2,    29.41, 2,    38.33, 2,     0.00, 2,     2.56, 2, -999.000, 9,    0.000, 2,   2247.3, 2,   -999.0, 9,   -999.0, 9,   5.4150,   -999.0, 9, -999.000, 9
316N19871218, SAVE2, 53, 1, 17, 17, 2, 19871225, 2353, -6.0200, 6.3217, 4619,  -999.00,    797.4,   4.8841,  34.5071, 2,  34.5060, 2,   -999.0, 9,    116.3, 2,    33.08, 2,    37.72, 2,     0.00, 2,     2.56, 2,    0.000, 2, -999.000, 9,   2245.2, 2,   -999.0, 9,   -999.0, 9,   4.8196,   -999.0, 9, -999.000, 9
316N19871218, SAVE2, 53, 1, 18, 18, 2, 19871225, 2353, -6.0200, 6.3217, 4619,  -999.00,    939.0,   4.3612,  34.5572, 2,  34.5560, 2,   -999.0, 9,    136.9, 2,    36.03, 2,    35.58, 2,     0.00, 2,     2.42, 2, -999.000, 9, -999.000, 9,   2239.2, 2,   -999.0, 9,   -999.0, 9,   4.2879,   -999.0, 9, -999.000, 9
316N19871218, SAVE2, 53, 1, 19, 19, 2, 19871225, 2353, -6.0200, 6.3217, 4619,  -999.00,   1101.3,   4.2152,  34.6925, 2,  34.6920, 2,   -999.0, 9,    160.8, 2,    33.17, 2,    31.84, 2,     0.00, 2,     2.17, 2,    0.000, 2, -999.000, 9,   -999.0, 9,   -999.0, 9,   -999.0, 9,   4.1288,   -999.0, 9, -999.000, 9
316N19871218, SAVE2, 53, 1, 20, 20, 2, 19871225, 2353, -6.0200, 6.3217, 4619,  -999.00,   1308.7,   4.1534,  34.8503, 2,  34.8500, 2,   -999.0, 9,    191.6, 2,    27.18, 2,    26.98, 2,     0.00, 2,     1.83, 2,    0.004, 2,    0.001, 2,   -999.0, 9,   -999.0, 9,   -999.0, 9,   4.0491,   -999.0, 9, -999.000, 9
316N19871218, SAVE2, 53, 1, 21, 21, 2, 19871225, 2353, -6.0200, 6.3217, 4619,  -999.00,   1437.5,   4.1111,  34.9084, 2,  34.9080, 2,   -999.0, 9,    208.7, 2,    24.32, 2,    24.63, 2,     0.00, 2,     1.65, 2, -999.000, 9, -999.000, 9,   2193.5, 2,   -999.0, 9,   -999.0, 9,   3.9955,   -999.0, 9, -999.000, 9
316N19871218, SAVE2, 53, 1, 22, 22, 2, 19871225, 2353, -6.0200, 6.3217, 4619,  -999.00,   1523.7,   4.0195,  34.9260, 2,  34.9260, 2,   -999.0, 9,    218.1, 2,    23.03, 2,    23.52, 2,     0.00, 2,     1.58, 2, -999.000, 9, -999.000, 9,   -999.0, 9,   -999.0, 9,   -999.0, 9,   3.8970,   -999.0, 9, -999.000, 9
316N19871218, SAVE2, 53, 1, 23, 23, 2, 19871225, 2353, -6.0200, 6.3217, 4619,  -999.00,   1698.9,   3.7873,  34.9378, 2,  34.9380, 2,   -999.0, 9,    227.7, 2,    23.71, 2,    22.58, 2,     0.00, 2,     1.52, 2, -999.000, 9, -999.000, 9,   -999.0, 9,   -999.0, 9,   -999.0, 9,   3.6515,   -999.0, 9, -999.000, 9
316N19871218, SAVE2, 53, 1, 24, 24, 2, 19871225, 2353, -6.0200, 6.3217, 4619,  -999.00,   1852.9,   3.6321,  34.9454, 2,  34.9450, 2,   -999.0, 9,    234.3, 2,    24.40, 2,    22.03, 2,     0.00, 2,     1.48, 2, -999.000, 9, -999.000, 9,   -999.0, 9,   -999.0, 9,   -999.0, 9,   3.4840,   -999.0, 9, -999.000, 9
316N19871218, SAVE2, 53, 1, 25, 25, 2, 19871225, 2353, -6.0200, 6.3217, 4619,  -999.00,   1999.4,   3.4298,  34.9423, 2,  34.9430, 2,   -999.0, 9,    235.6, 2,    27.06, 2,    21.91, 2,     0.00, 2,     1.47, 2,    0.000, 2, -999.000, 9,   -999.0, 9,   -999.0, 9,   -999.0, 9,   3.2709,   -999.0, 9, -999.000, 9
316N19871218, SAVE2, 53, 1, 26, 26, 2, 19871225, 2353, -6.0200, 6.3217, 4619,  -999.00,   2197.3,   3.2076,  34.9375, 2,  34.9350, 2,   -999.0, 9,    237.1, 2,    30.29, 2,    21.92, 2,     0.00, 2,     1.48, 2, -999.000, 9, -999.000, 9,   -999.0, 9,   -999.0, 9,   -999.0, 9,   3.0334,   -999.0, 9, -999.000, 9
316N19871218, SAVE2, 53, 1, 27, 27, 2, 19871225, 2353, -6.0200, 6.3217, 4619,  -999.00,   2393.4,   3.0219,  34.9287, 2,  34.9280, 2,   -999.0, 9,    236.5, 2,    34.08, 2,    22.18, 2,     0.00, 2,     1.49, 2, -999.000, 9, -999.000, 9,   -999.0, 9,   -999.0, 9,   -999.0, 9,   2.8320,   -999.0, 9, -999.000, 9
316N19871218, SAVE2, 53, 1, 28, 28, 2, 19871225, 2353, -6.0200, 6.3217, 4619,  -999.00,   2619.2,   2.8458,  34.9199, 2,  34.9190, 2,   -999.0, 9,    236.0, 2,    38.01, 2,    22.53, 2,     0.00, 2,     1.51, 2, -999.000, 9, -999.000, 9,   -999.0, 9,   -999.0, 9,   -999.0, 9,   2.6371,   -999.0, 9, -999.000, 9
316N19871218, SAVE2, 53, 1, 29, 29, 2, 19871225, 2353, -6.0200, 6.3217, 4619,  -999.00,   2866.8,   2.6970,  34.9129, 2,  34.9110, 2,   -999.0, 9,    236.8, 2,    40.94, 2,    22.58, 2,     0.00, 2,     1.53, 2, -999.000, 9, -999.000, 9,   -999.0, 9,   -999.0, 9,   -999.0, 9,   2.4665,   -999.0, 9, -999.000, 9
316N19871218, SAVE2, 53, 1, 30, 30, 2, 19871225, 2353, -6.0200, 6.3217, 4619,  -999.00,   3156.9,   2.5823,  34.9050, 2,  34.9040, 2,   -999.0, 9,    235.8, 2,    44.16, 2,    22.88, 2,     0.00, 2,     1.54, 2, -999.000, 9, -999.000, 9,   -999.0, 9,   -999.0, 9,   -999.0, 9,   2.3245,   -999.0, 9, -999.000, 9
316N19871218, SAVE2, 53, 1, 31, 31, 2, 19871225, 2353, -6.0200, 6.3217, 4619,  -999.00,   3395.6,   2.5067,  34.9010, 2,  34.8990, 2,   -999.0, 9,    235.6, 2,    46.24, 2,    23.02, 2,     0.00, 2,     1.55, 2, -999.000, 9, -999.000, 9,   -999.0, 9,   -999.0, 9,   -999.0, 9,   2.2254,   -999.0, 9, -999.000, 9
316N19871218, SAVE2, 53, 1, 32, 32, 2, 19871225, 2353, -6.0200, 6.3217, 4619,  -999.00,   3695.7,   2.4489,  34.8965, 2,  34.8940, 2,   -999.0, 9,    233.7, 2,    49.17, 2,    23.19, 2,     0.00, 2,     1.56, 2, -999.000, 9, -999.000, 9,   2212.3, 2,   -999.0, 9,   -999.0, 9,   2.1364,   3691.1, 2,    2.448, 2
316N19871218, SAVE2, 53, 1, 33, 33, 2, 19871225, 2353, -6.0200, 6.3217, 4619,  -999.00,   4006.2,   2.3586,  34.8887, 2,  34.8860, 2,   -999.0, 9,    220.4, 2,    56.90, 2,    24.23, 2,     0.00, 2,     1.64, 2, -999.000, 9, -999.000, 9,   2237.5, 2,   -999.0, 9,   -999.0, 9,   2.0136,   -999.0, 9, -999.000, 9
316N19871218, SAVE2, 53, 1, 34, 34, 2, 19871225, 2353, -6.0200, 6.3217, 4619,  -999.00,   4277.8,   2.3491,  34.8851, 2,  34.8830, 2,   -999.0, 9,    224.7, 2,    55.17, 2,    24.06, 2,     0.00, 2,     1.61, 2, -999.000, 9, -999.000, 9,   2232.3, 2,   -999.0, 9,   -999.0, 9,   1.9729,   -999.0, 9, -999.000, 9
316N19871218, SAVE2, 53, 1, 35, 35, 2, 19871225, 2353, -6.0200, 6.3217, 4619,  -999.00,   4547.3,   2.3639,  34.8820, 2,  34.8810, 2,   -999.0, 9,    230.9, 2,    53.86, 2,    23.77, 2,     0.00, 2,     1.58, 2,    0.000, 2, -999.000, 9,   2230.6, 2,   -999.0, 9,   -999.0, 9,   1.9552,   4539.6, 2,    2.362, 2
316N19871218, SAVE2, 53, 1, 36, 36, 2, 19871225, 2353, -6.0200, 6.3217, 4619,  -999.00,   4703.1,   2.3769,  34.8812, 2,  34.8790, 2,   -999.0, 9,    225.4, 2,    55.10, 2,    23.59, 2,     0.01, 2,     1.58, 2, -999.000, 9, -999.000, 9,   2240.2, 2,   -999.0, 9,   -999.0, 9,   1.9487,   -999.0, 9, -999.000, 9