BOTTLE,20110114CCHDOSIODM
EXPOCODE,SECT_ID,STNNBR,CASTNO,SAMPNO,BTLNBR,BTLNBR_FLAG_W,DATE,TIME,LATITUDE,LONGITUDE,DEPTH,CTDRAW,CTDPRS,CTDTMP,CTDSAL,CTDSAL_FLAG_W,SALNTY,SALNTY_FLAG_W,CTDOXY,CTDOXY_FLAG_W,OXYGEN,OXYGEN_FLAG_W,SILCAT,SILCAT_FLAG_W,NITRAT,NITRAT_FLAG_W,NITRIT,NITRIT_FLAG_W,PHSPHT,PHSPHT_FLAG_W,CFC-11,CFC-11_FLAG_W,CFC-12,CFC-12_FLAG_W,TCARBN,TCARBN_FLAG_W,ALKALI,ALKALI_FLAG_W,PCO2,PCO2_FLAG_W,THETA,REVPRS,REVPRS_FLAG_W,REVTMP,REVTMP_FLAG_W
,,,,,,,,,,,METERS,DBAR,DBAR,ITS-68,PSS-78,,PSS-78,,UMOL/KG,,UMOL/KG,,UMOL/KG,,UMOL/KG,,UMOL/KG,,UMOL/KG,,PMOL/KG,,PMOL/KG,,UMOL/KG,,UMOL/KG,,UATM,,DEG C,DBAR,,ITS-68,
316N19871218, SAVE2, 80, 1, 1, 1, 2, 19880109, 1140, -14.8150, -13.4050, 2531,  -999.00,      2.0,  24.2585,  36.8933, 2,  36.8920, 2,   -999.0, 9,    211.7, 2,     1.27, 2,     0.10, 2,     0.00, 2,     0.18, 2,    1.697, 2,    0.872, 2,   2083.5, 2,   -999.0, 9,   -999.0, 9,  24.2580,   -999.0, 9, -999.000, 9
316N19871218, SAVE2, 80, 1, 2, 2, 2, 19880109, 1140, -14.8150, -13.4050, 2531,  -999.00,     27.6,  24.0963,  36.8960, 2,  36.8870, 2,   -999.0, 9,    212.6, 2,     1.27, 2,     0.10, 2,     0.00, 2,     0.18, 2,    1.743, 2,    0.884, 2,   -999.0, 9,   -999.0, 9,   -999.0, 9,  24.0905,   -999.0, 9, -999.000, 9
316N19871218, SAVE2, 80, 1, 3, 3, 2, 19880109, 1140, -14.8150, -13.4050, 2531,  -999.00,     58.4,  23.0480,  36.7481, 2,  36.7500, 2,   -999.0, 9,    218.7, 2,     1.27, 2,     0.10, 2,     0.00, 2,     0.20, 2,    1.767, 2,    0.888, 2,   2081.0, 2,   -999.0, 9,   -999.0, 9,  23.0360,   -999.0, 9, -999.000, 9
316N19871218, SAVE2, 80, 1, 4, 4, 2, 19880109, 1140, -14.8150, -13.4050, 2531,  -999.00,     93.9,  21.8052,  36.6110, 2,  36.5990, 2,   -999.0, 9,    220.4, 2,     1.27, 2,     0.10, 2,     0.00, 2,     0.22, 2,    1.815, 2,    0.933, 2,   -999.0, 9,   -999.0, 9,   -999.0, 9,  21.7867,   -999.0, 9, -999.000, 9
316N19871218, SAVE2, 80, 1, 5, 5, 2, 19880109, 1140, -14.8150, -13.4050, 2531,  -999.00,    129.1,  20.7686,  36.4342, 2,  36.4300, 2,   -999.0, 9,    206.0, 2,     1.46, 2,     1.17, 2,     0.25, 2,     0.33, 2,    1.844, 2,    0.934, 2,   2096.9, 2,   -999.0, 9,   -999.0, 9,  20.7439,   -999.0, 9, -999.000, 9
316N19871218, SAVE2, 80, 1, 6, 6, 2, 19880109, 1140, -14.8150, -13.4050, 2531,  -999.00,    165.4,  17.9397,  35.9324, 2,  35.8910, 2,   -999.0, 9,    189.3, 2,     2.64, 2,     5.96, 2,     0.03, 2,     0.59, 2,    1.847, 2,    0.918, 2,   -999.0, 9,   -999.0, 9,   -999.0, 9,  17.9112,   -999.0, 9, -999.000, 9
316N19871218, SAVE2, 80, 1, 7, 7, 2, 19880109, 1140, -14.8150, -13.4050, 2531,  -999.00,    196.9,  14.3839,  35.3986, 2,  35.3860, 2,   -999.0, 9,    154.0, 2,     5.28, 2,    14.65, 2,     0.01, 2,     1.05, 2,    1.520, 2,    0.745, 2,   -999.0, 9,   -999.0, 9,   -999.0, 9,  14.3548,   -999.0, 9, -999.000, 9
316N19871218, SAVE2, 80, 1, 8, 8, 2, 19880109, 1140, -14.8150, -13.4050, 2531,  -999.00,    229.0,  12.1099,  35.0976, 2,  35.1020, 2,   -999.0, 9,    136.2, 2,     8.31, 2,    20.23, 2,     0.00, 2,     1.37, 2,    1.094, 2,    0.540, 2,   -999.0, 9,   -999.0, 9,   -999.0, 9,  12.0798,   -999.0, 9, -999.000, 9
316N19871218, SAVE2, 80, 1, 9, 9, 2, 19880109, 1140, -14.8150, -13.4050, 2531,  -999.00,    267.2,  11.1424,  34.9806, 2,  34.9800, 2,   -999.0, 9,    135.7, 2,     9.67, 2,    22.08, 2,     0.00, 2,     1.49, 2,    0.916, 2,    0.448, 2,   -999.0, 9,   -999.0, 9,   -999.0, 9,  11.1091,   -999.0, 9, -999.000, 9
316N19871218, SAVE2, 80, 1, 10, 10, 2, 19880109, 1140, -14.8150, -13.4050, 2531,  -999.00,    300.3,  10.3309,  34.8941, 2,  34.8930, 2,   -999.0, 9,    132.2, 2,    11.34, 2,    24.04, 2,     0.00, 2,     1.61, 2,    0.733, 2,    0.363, 2,   -999.0, 9,   -999.0, 9,   -999.0, 9,  10.2952,   -999.0, 9, -999.000, 9
316N19871218, SAVE2, 80, 1, 11, 11, 2, 19880109, 1140, -14.8150, -13.4050, 2531,  -999.00,    316.3,  10.1270,  34.8946, 2,  34.8920, 2,   -999.0, 9,    108.3, 2,    12.80, 2,    27.17, 2,     0.00, 2,     1.77, 2,    0.496, 2,    0.246, 2,   -999.0, 9,   -999.0, 9,   -999.0, 9,  10.0898,   -999.0, 9, -999.000, 9
316N19871218, SAVE2, 80, 1, 12, 12, 2, 19880109, 1140, -14.8150, -13.4050, 2531,  -999.00,    338.5,   9.8113,  34.8846, 2,  34.8830, 2,   -999.0, 9,     81.8, 2,    14.66, 2,    30.69, 2,     0.00, 2,     1.97, 2,    0.266, 2,    0.136, 2,   -999.0, 9,   -999.0, 9,   -999.0, 9,   9.7723,   -999.0, 9, -999.000, 9
316N19871218, SAVE2, 80, 1, 13, 13, 2, 19880109, 1140, -14.8150, -13.4050, 2531,  -999.00,    360.4,   9.5461,  34.8612, 2,  34.8670, 2,   -999.0, 9,     80.9, 2,    15.15, 2,    30.98, 2,     0.00, 2,     1.99, 2,    0.241, 2,    0.122, 2,   2226.4, 2,   -999.0, 9,   -999.0, 9,   9.5052,   -999.0, 9, -999.000, 9
316N19871218, SAVE2, 80, 1, 14, 14, 2, 19880109, 1140, -14.8150, -13.4050, 2531,  -999.00,    415.7,   8.1910,  34.7245, 2,  34.7310, 2,   -999.0, 9,     89.1, 2,    18.18, 2,    33.13, 2,     0.00, 2,     2.13, 2,    0.092, 2,    0.047, 2,   -999.0, 9,   -999.0, 9,   -999.0, 9,   8.1479,   -999.0, 9, -999.000, 9
316N19871218, SAVE2, 80, 1, 15, 15, 2, 19880109, 1140, -14.8150, -13.4050, 2531,  -999.00,    480.9,   7.1871,  34.6270, 2,  34.6260, 2,   -999.0, 9,    107.8, 2,    20.62, 2,    33.72, 2,     0.00, 2,     2.17, 2, -999.000, 9, -999.000, 9,   -999.0, 9,   -999.0, 9,   -999.0, 9,   7.1408,   -999.0, 9, -999.000, 9
316N19871218, SAVE2, 80, 1, 16, 16, 2, 19880109, 1140, -14.8150, -13.4050, 2531,  -999.00,    540.7,   6.5765,  34.5756, 2,  34.5740, 2,   -999.0, 9,    114.3, 2,    22.58, 2,    34.41, 2,     0.00, 2,     2.24, 2,    0.019, 2,    0.012, 2,   -999.0, 9,   -999.0, 9,   -999.0, 9,   6.5267,   -999.0, 9, -999.000, 9
316N19871218, SAVE2, 80, 1, 17, 17, 2, 19880109, 1140, -14.8150, -13.4050, 2531,  -999.00,    596.0,   5.9564,  34.5238, 2,  34.5250, 2,   -999.0, 9,    127.8, 2,    24.63, 2,    34.41, 2,     0.00, 2,     2.25, 2,    0.013, 2,    0.008, 2,   2232.0, 2,   -999.0, 9,   -999.0, 9,   5.9041,   -999.0, 9, -999.000, 9
316N19871218, SAVE2, 80, 1, 18, 18, 2, 19880109, 1140, -14.8150, -13.4050, 2531,  -999.00,    645.9,   5.5524,  34.4960, 2,  34.4960, 2,   -999.0, 9,    135.2, 2,    26.39, 2,    34.51, 2,     0.00, 2,     2.26, 2,    0.010, 2,    0.003, 2,   -999.0, 9,   -999.0, 9,   -999.0, 9,   5.4975,   -999.0, 9, -999.000, 9
316N19871218, SAVE2, 80, 1, 19, 19, 2, 19880109, 1140, -14.8150, -13.4050, 2531,  -999.00,    696.2,   5.0949,  34.4739, 2,  34.4720, 2,   -999.0, 9,    143.5, 2,    28.74, 2,    34.51, 2,     0.00, 2,     2.28, 2,    0.009, 2,    0.003, 2,   -999.0, 9,   -999.0, 9,   -999.0, 9,   5.0380,   -999.0, 9, -999.000, 9
316N19871218, SAVE2, 80, 1, 20, 20, 2, 19880109, 1140, -14.8150, -13.4050, 2531,  -999.00,    746.2,   4.8556,  34.4692, 2,  34.4670, 2,   -999.0, 9,    146.9, 2,    30.11, 2,    34.51, 2,     0.00, 2,     2.29, 2,    0.005, 2,    0.001, 2,   -999.0, 9,   -999.0, 9,   -999.0, 9,   4.7957,   -999.0, 9, -999.000, 9
316N19871218, SAVE2, 80, 1, 21, 21, 2, 19880109, 1140, -14.8150, -13.4050, 2531,  -999.00,    801.1,   4.4660,  34.4636, 2,  34.4610, 2,   -999.0, 9,    156.1, 2,    32.75, 2,    34.02, 2,     0.00, 2,     2.27, 2, -999.000, 9, -999.000, 9,   -999.0, 9,   -999.0, 9,   -999.0, 9,   4.4038,   -999.0, 9, -999.000, 9
316N19871218, SAVE2, 80, 1, 22, 22, 2, 19880109, 1140, -14.8150, -13.4050, 2531,  -999.00,    871.7,   4.2292,  34.4838, 2,  34.4820, 2,   -999.0, 9,    159.1, 2,    34.80, 2,    33.92, 2,     0.00, 2,     2.26, 2, -999.000, 9, -999.000, 9,   2227.2, 2,   -999.0, 9,   -999.0, 9,   4.1626,   -999.0, 9, -999.000, 9
316N19871218, SAVE2, 80, 1, 23, 23, 2, 19880109, 1140, -14.8150, -13.4050, 2531,  -999.00,    941.9,   4.0419,  34.5183, 2,  34.5170, 2,   -999.0, 9,    163.0, 2,    36.27, 2,    33.33, 2,     0.00, 2,     2.22, 2, -999.000, 9, -999.000, 9,   -999.0, 9,   -999.0, 9,   -999.0, 9,   3.9708,   -999.0, 9, -999.000, 9
316N19871218, SAVE2, 80, 1, 24, 24, 2, 19880109, 1140, -14.8150, -13.4050, 2531,  -999.00,   1037.1,   3.8885,  34.5734, 2,  34.5710, 2,   -999.0, 9,    169.1, 2,    37.24, 2,    32.26, 2,     0.00, 2,     2.16, 2, -999.000, 9, -999.000, 9,   -999.0, 9,   -999.0, 9,   -999.0, 9,   3.8105,   -999.0, 9, -999.000, 9
316N19871218, SAVE2, 80, 1, 25, 25, 2, 19880109, 1140, -14.8150, -13.4050, 2531,  -999.00,   1198.2,   3.7962,  34.6804, 2,  34.6800, 2,   -999.0, 9,    181.7, 2,    35.38, 2,    29.91, 2,     0.00, 2,     2.00, 2, -999.000, 9, -999.000, 9,   -999.0, 9,   -999.0, 9,   -999.0, 9,   3.7053,   -999.0, 9, -999.000, 9
316N19871218, SAVE2, 80, 1, 26, 26, 2, 19880109, 1140, -14.8150, -13.4050, 2531,  -999.00,   1349.6,   3.7374,  34.8018, 2,  34.7990, 2,   -999.0, 9,    201.6, 2,    31.57, 2,    26.68, 2,     0.00, 2,     1.78, 2, -999.000, 9, -999.000, 9,   -999.0, 9,   -999.0, 9,   -999.0, 9,   3.6338,   -999.0, 9, -999.000, 9
316N19871218, SAVE2, 80, 1, 27, 27, 2, 19880109, 1140, -14.8150, -13.4050, 2531,  -999.00,   1491.2,   3.6782,  34.8480, 2,  34.8460, 2,   -999.0, 9,    212.1, 2,    30.00, 2,    25.21, 2,     0.00, 2,     1.67, 2, -999.000, 9, -999.000, 9,   -999.0, 9,   -999.0, 9,   -999.0, 9,   3.5628,   -999.0, 9, -999.000, 9
316N19871218, SAVE2, 80, 1, 28, 28, 2, 19880109, 1140, -14.8150, -13.4050, 2531,  -999.00,   1627.3,   3.5528,  34.8907, 2,  34.8900, 2,   -999.0, 9,    224.2, 2,    28.73, 2,    23.45, 2,     0.00, 2,     1.55, 2,    0.002, 2,    0.001, 2,   2189.8, 2,   -999.0, 9,   -999.0, 9,   3.4266,   -999.0, 9, -999.000, 9
316N19871218, SAVE2, 80, 1, 29, 29, 2, 19880109, 1140, -14.8150, -13.4050, 2531,  -999.00,   1743.3,   3.3564,  34.9021, 2,  34.9000, 2,   -999.0, 9,    231.6, 2,    30.10, 2,    22.77, 2,     0.00, 2,     1.51, 2, -999.000, 9, -999.000, 9,   -999.0, 9,   -999.0, 9,   -999.0, 9,   3.2222,   -999.0, 9, -999.000, 9
316N19871218, SAVE2, 80, 1, 30, 30, 2, 19880109, 1140, -14.8150, -13.4050, 2531,  -999.00,   1858.8,   3.2255,  34.9078, 2,  34.9070, 2,   -999.0, 9,    235.5, 2,    31.27, 2,    22.38, 2,     0.00, 2,     1.49, 2, -999.000, 9, -999.000, 9,   2193.9, 2,   -999.0, 9,   -999.0, 9,   3.0826,   -999.0, 9, -999.000, 9
316N19871218, SAVE2, 80, 1, 31, 31, 2, 19880109, 1140, -14.8150, -13.4050, 2531,  -999.00,   2000.1,   3.0285,  34.9045, 2,  34.9040, 2,   -999.0, 9,    238.1, 2,    34.30, 2,    22.38, 2,     0.00, 2,     1.49, 2, -999.000, 9, -999.000, 9,   -999.0, 9,   -999.0, 9,   -999.0, 9,   2.8756,   -999.0, 9, -999.000, 9
316N19871218, SAVE2, 80, 1, 32, 32, 2, 19880109, 1140, -14.8150, -13.4050, 2531,  -999.00,   2125.5,   2.9344,  34.9023, 2,  34.9010, 2,   -999.0, 9,    239.8, 2,    36.06, 2,    22.57, 2,     0.00, 2,     1.50, 2, -999.000, 9, -999.000, 9,   2197.2, 2,   -999.0, 9,   -999.0, 9,   2.7715,   2131.9, 2,    2.929, 2
316N19871218, SAVE2, 80, 1, 33, 33, 2, 19880109, 1140, -14.8150, -13.4050, 2531,  -999.00,   2251.3,   2.8907,  34.9019, 2,  34.9010, 2,   -999.0, 9,    239.4, 2,    36.84, 2,    22.48, 2,     0.00, 2,     1.51, 2, -999.000, 9, -999.000, 9,   -999.0, 9,   -999.0, 9,   -999.0, 9,   2.7167,   -999.0, 9, -999.000, 9
316N19871218, SAVE2, 80, 1, 34, 34, 2, 19880109, 1140, -14.8150, -13.4050, 2531,  -999.00,   2378.0,   2.8241,  34.9002, 2,  34.9000, 2,   -999.0, 9,    240.3, 2,    38.60, 2,    22.48, 2,     0.00, 2,     1.48, 2, -999.000, 9, -999.000, 9,   -999.0, 9,   -999.0, 9,   -999.0, 9,   2.6393,   -999.0, 9, -999.000, 9
316N19871218, SAVE2, 80, 1, 35, 35, 2, 19880109, 1140, -14.8150, -13.4050, 2531,  -999.00,   2499.6,   2.7996,  34.8987, 2,  34.8970, 2,   -999.0, 9,    239.8, 2,    39.68, 2,    22.48, 2,     0.00, 2,     1.50, 2, -999.000, 9, -999.000, 9,   -999.0, 9,   -999.0, 9,   -999.0, 9,   2.6036,   2508.8, 2,    2.789, 2
316N19871218, SAVE2, 80, 1, 36, 36, 2, 19880109, 1140, -14.8150, -13.4050, 2531,  -999.00,   2577.1,   2.7747,  34.8982, 2,  34.8970, 2,   -999.0, 9,    240.3, 2,    40.65, 2,    22.48, 2,     0.00, 2,     1.50, 2, -999.000, 9, -999.000, 9,   2194.2, 2,   -999.0, 9,   -999.0, 9,   2.5716,   -999.0, 9, -999.000, 9