BOTTLE,20110114CCHDOSIODM
EXPOCODE,SECT_ID,STNNBR,CASTNO,SAMPNO,BTLNBR,BTLNBR_FLAG_W,DATE,TIME,LATITUDE,LONGITUDE,DEPTH,CTDRAW,CTDPRS,CTDTMP,CTDSAL,CTDSAL_FLAG_W,SALNTY,SALNTY_FLAG_W,CTDOXY,CTDOXY_FLAG_W,OXYGEN,OXYGEN_FLAG_W,SILCAT,SILCAT_FLAG_W,NITRAT,NITRAT_FLAG_W,NITRIT,NITRIT_FLAG_W,PHSPHT,PHSPHT_FLAG_W,CFC-11,CFC-11_FLAG_W,CFC-12,CFC-12_FLAG_W,TCARBN,TCARBN_FLAG_W,ALKALI,ALKALI_FLAG_W,PCO2,PCO2_FLAG_W,THETA,REVPRS,REVPRS_FLAG_W,REVTMP,REVTMP_FLAG_W
,,,,,,,,,,,METERS,DBAR,DBAR,ITS-68,PSS-78,,PSS-78,,UMOL/KG,,UMOL/KG,,UMOL/KG,,UMOL/KG,,UMOL/KG,,UMOL/KG,,PMOL/KG,,PMOL/KG,,UMOL/KG,,UMOL/KG,,UATM,,DEG C,DBAR,,ITS-68,
316N19871218, SAVE2, 102, 1, 1, 1, 2, 19880121, 0038, -18.7450, -37.2633, 3488,  -999.00,      2.2,  28.5295,  37.2705, 2,  37.2751, 2,   -999.0, 9,    199.2, 2,     1.51, 2,     0.14, 2,     0.00, 2,     0.03, 2,    1.447, 2,    0.731, 2,   2043.1, 2,   2447.6, 2,    252.0, 2,  28.5289,   -999.0, 9, -999.000, 9
316N19871218, SAVE2, 102, 1, 2, 2, 2, 19880121, 0038, -18.7450, -37.2633, 3488,  -999.00,     32.7,  28.2418,  37.2767, 2,  37.2800, 2,   -999.0, 9,    200.2, 2,     1.50, 2,     0.14, 2,     0.00, 2,     0.03, 2,    1.432, 2,    0.727, 2,   2047.4, 2,   -999.0, 9,   -999.0, 9,  28.2340,   -999.0, 9, -999.000, 9
316N19871218, SAVE2, 102, 1, 3, 3, 2, 19880121, 0038, -18.7450, -37.2633, 3488,  -999.00,     58.2,  26.7836,  37.2196, 2,  37.2204, 2,   -999.0, 9,    207.5, 2,     1.37, 2,     0.14, 2,     0.00, 2,     0.08, 2,    1.509, 2,    0.758, 2,   2062.6, 2,   2456.7, 2,    265.1, 2,  26.7702,   -999.0, 9, -999.000, 9
316N19871218, SAVE2, 102, 1, 4, 4, 2, 19880121, 0038, -18.7450, -37.2633, 3488,  -999.00,     92.6,  24.8367,  37.0438, 2,  37.0499, 2,   -999.0, 9,    209.4, 2,     1.35, 2,     0.14, 2,     0.00, 2,     0.08, 2,    1.624, 2,    0.826, 2,   2068.1, 2,   -999.0, 9,   -999.0, 9,  24.8166,   -999.0, 9, -999.000, 9
316N19871218, SAVE2, 102, 1, 5, 5, 2, 19880121, 0038, -18.7450, -37.2633, 3488,  -999.00,    104.4,  24.4881,  37.0399, 2,  37.0435, 2,   -999.0, 9,    208.9, 2,     1.22, 2,     0.09, 2,     0.00, 2,     0.10, 2,    1.639, 2,    0.833, 2,   2073.4, 2,   -999.0, 9,   -999.0, 9,  24.4656,   -999.0, 9, -999.000, 9
316N19871218, SAVE2, 102, 1, 6, 6, 2, 19880121, 0038, -18.7450, -37.2633, 3488,  -999.00,    155.2,  21.9078,  36.6638, 2,  36.6279, 2,   -999.0, 9,    196.1, 2,     1.33, 2,     0.83, 2,     0.04, 2,     0.25, 2,    1.691, 2,    0.846, 2,   2093.1, 2,   2419.9, 2,    339.1, 2,  21.8770,   -999.0, 9, -999.000, 9
316N19871218, SAVE2, 102, 1, 7, 7, 2, 19880121, 0038, -18.7450, -37.2633, 3488,  -999.00,    195.9,  18.0611,  35.9513, 2,  35.9264, 2,   -999.0, 9,    200.8, 2,     1.79, 2,     2.59, 2,     0.02, 2,     0.39, 2,    1.836, 2,    0.901, 2,   -999.0, 9,   -999.0, 9,   -999.0, 9,  18.0272,   -999.0, 9, -999.000, 9
316N19871218, SAVE2, 102, 1, 8, 8, 2, 19880121, 0038, -18.7450, -37.2633, 3488,  -999.00,    216.0,  16.6622,  35.6943, 2,  35.6747, 2,   -999.0, 9,    204.5, 2,     2.24, 2,     3.82, 2,     0.01, 2,     0.47, 2,    1.851, 2,    0.902, 2,   2095.1, 2,   2363.5, 2,    416.8, 2,  16.6269,   -999.0, 9, -999.000, 9
316N19871218, SAVE2, 102, 1, 9, 9, 2, 19880121, 0038, -18.7450, -37.2633, 3488,  -999.00,    261.2,  15.1544,  35.4697, 2,  35.4872, 2,   -999.0, 9,    202.1, 2,     2.70, 2,     6.06, 2,     0.01, 2,     0.59, 2,    1.785, 2,    0.874, 2,   2099.4, 2,   -999.0, 9,   -999.0, 9,  15.1143,   -999.0, 9, -999.000, 9
316N19871218, SAVE2, 102, 1, 10, 10, 2, 19880121, 0038, -18.7450, -37.2633, 3488,  -999.00,    321.5,  13.3220,  35.2304, 2,  35.2329, 2,   -999.0, 9,    199.1, 2,     3.97, 2,     9.95, 2,     0.01, 2,     0.81, 2,    1.571, 2,    0.755, 2,   2112.6, 2,   2334.3, 2,    514.4, 2,  13.2767,   -999.0, 9, -999.000, 9
316N19871218, SAVE2, 102, 1, 11, 11, 2, 19880121, 0038, -18.7450, -37.2633, 3488,  -999.00,    371.8,  12.0322,  35.0583, 2,  35.0616, 2,   -999.0, 9,    189.1, 2,     5.82, 2,    13.83, 2,     0.00, 2,     1.04, 2,    1.305, 2,    0.630, 2,   2129.6, 2,   -999.0, 9,   -999.0, 9,  11.9832,   -999.0, 9, -999.000, 9
316N19871218, SAVE2, 102, 1, 12, 12, 2, 19880121, 0038, -18.7450, -37.2633, 3488,  -999.00,    417.2,  10.9966,  34.9363, 2,  34.9336, 2,   -999.0, 9,    183.1, 2,     7.79, 2,    16.88, 2,     0.00, 2,     1.22, 2,    1.070, 2,    0.507, 2,   2143.6, 2,   2323.0, 2,    646.3, 2,  10.9447,   -999.0, 9, -999.000, 9
316N19871218, SAVE2, 102, 1, 13, 13, 2, 19880121, 0038, -18.7450, -37.2633, 3488,  -999.00,    462.2,   9.9682,  34.8251, 2,  34.8254, 2,   -999.0, 9,    176.9, 2,     9.63, 2,    19.71, 2,     0.00, 2,     1.39, 2,    0.853, 2,    0.414, 2,   2155.3, 2,   -999.0, 9,   -999.0, 9,   9.9140,   -999.0, 9, -999.000, 9
316N19871218, SAVE2, 102, 1, 14, 14, 2, 19880121, 0038, -18.7450, -37.2633, 3488,  -999.00,    522.0,   8.4443,  34.6632, 2,  34.6732, 2,   -999.0, 9,    182.1, 2,    12.64, 2,    22.68, 2,     0.00, 2,     1.57, 2,    0.685, 2,    0.331, 2,   -999.0, 9,   -999.0, 9,    772.0, 2,   8.3889,   -999.0, 9, -999.000, 9
316N19871218, SAVE2, 102, 1, 15, 15, 2, 19880121, 0038, -18.7450, -37.2633, 3488,  -999.00,    647.4,   5.9008,  34.4371, 2,  34.4479, 2,   -999.0, 9,    192.2, 2,    19.95, 2,    27.76, 2,     0.00, 2,     1.90, 2,    0.398, 2,    0.204, 2,   2179.0, 2,   -999.0, 9,   -999.0, 9,   5.8441,   -999.0, 9, -999.000, 9
316N19871218, SAVE2, 102, 1, 16, 16, 2, 19880121, 0038, -18.7450, -37.2633, 3488,  -999.00,    737.5,   5.0484,  34.3920, 2,  34.3937, 2,   -999.0, 9,    195.8, 2,    24.58, 2,    29.40, 2,     0.00, 2,     2.00, 2,    0.299, 2,    0.151, 2,   2189.8, 2,   -999.0, 9,   -999.0, 9,   4.9883,   -999.0, 9, -999.000, 9
316N19871218, SAVE2, 102, 1, 17, 17, 2, 19880121, 0038, -18.7450, -37.2633, 3488,  -999.00,    824.9,   4.2573,  34.3696, 2,  34.3712, 2,   -999.0, 9,    198.4, 2,    31.17, 2,    30.64, 2,     0.00, 2,     2.11, 2,    0.210, 2,    0.108, 2,   2195.5, 2,   2309.7, 2,    970.2, 2,   4.1945,   -999.0, 9, -999.000, 9
316N19871218, SAVE2, 102, 1, 18, 18, 2, 19880121, 0038, -18.7450, -37.2633, 3488,  -999.00,    879.1,   3.9586,  34.3765, 2,  34.3774, 2,   -999.0, 9,    198.9, 2,    34.27, 2,    31.00, 2,     0.00, 2,     2.13, 2,    0.172, 2,    0.097, 2,   2202.4, 2,   -999.0, 9,   -999.0, 9,   3.8933,   -999.0, 9, -999.000, 9
316N19871218, SAVE2, 102, 1, 19, 19, 2, 19880121, 0038, -18.7450, -37.2633, 3488,  -999.00,   1013.9,   3.4870,  34.4471, 2, -999.0000, 9,   -999.0, 9,   -999.0, 9,  -999.00, 9,  -999.00, 9,  -999.00, 9,  -999.00, 9, -999.000, 9, -999.000, 9,   -999.0, 9,   -999.0, 9,   -999.0, 9,   3.4143,   -999.0, 9, -999.000, 9
316N19871218, SAVE2, 102, 1, 20, 20, 2, 19880121, 0038, -18.7450, -37.2633, 3488,  -999.00,   1109.3,   3.4575,  34.5081, 2,  34.5105, 2,   -999.0, 9,    189.2, 2,    43.17, 2,    31.22, 2,     0.00, 2,     2.14, 2,    0.034, 2,    0.022, 2,   2216.2, 2,   -999.0, 9,   -999.0, 9,   3.3772,   -999.0, 9, -999.000, 9
316N19871218, SAVE2, 102, 1, 21, 21, 2, 19880121, 0038, -18.7450, -37.2633, 3488,  -999.00,   1201.9,   3.5192,  34.5723, 2,  34.5749, 2,   -999.0, 9,    189.0, 2,    41.96, 2,    30.47, 2,     0.00, 2,     2.08, 2,    0.023, 2,    0.010, 2,   2217.5, 2,   2327.8, 2,   1013.3, 2,   3.4308,   -999.0, 9, -999.000, 9
316N19871218, SAVE2, 102, 1, 22, 22, 2, 19880121, 0038, -18.7450, -37.2633, 3488,  -999.00,   1365.8,   3.7752,  34.7218, 2,  34.7252, 2,   -999.0, 9,    195.4, 2,    34.96, 2,    27.84, 2,     0.00, 2,     1.90, 2,    0.005, 2,    0.005, 2,   2210.2, 2,   -999.0, 9,   -999.0, 9,   3.6700,   -999.0, 9, -999.000, 9
316N19871218, SAVE2, 102, 1, 23, 23, 2, 19880121, 0038, -18.7450, -37.2633, 3488,  -999.00,   1484.4,   4.1046,  34.8523, 2,  34.8547, 2,   -999.0, 9,    207.1, 2,    25.55, 2,    24.90, 2,     0.00, 2,     1.69, 2,    0.003, 2, -999.000, 9,   2199.3, 2,   2332.0, 2,    874.2, 2,   3.9849,   -999.0, 9, -999.000, 9
316N19871218, SAVE2, 102, 1, 24, 24, 2, 19880121, 0038, -18.7450, -37.2633, 3488,  -999.00,   1605.2,   4.0802,  34.9210, 2,  34.9228, 2,   -999.0, 9,    223.4, 2,    21.70, 2,    22.33, 2,     0.00, 2,     1.50, 2,    0.009, 2,    0.008, 2,   -999.0, 9,   -999.0, 9,   -999.0, 9,   3.9495,   -999.0, 9, -999.000, 9
316N19871218, SAVE2, 102, 1, 25, 25, 2, 19880121, 0038, -18.7450, -37.2633, 3488,  -999.00,   1742.7,   3.8587,  34.9573, 2,  34.9593, 2,   -999.0, 9,    240.5, 2,    19.82, 2,    20.32, 2,     0.00, 2,     1.36, 2,    0.015, 2,    0.010, 2,   2171.7, 2,   -999.0, 9,   -999.0, 9,   3.7179,   -999.0, 9, -999.000, 9
316N19871218, SAVE2, 102, 1, 26, 26, 2, 19880121, 0038, -18.7450, -37.2633, 3488,  -999.00,   1844.9,   3.6234,  34.9580, 2,  34.9605, 2,   -999.0, 9,    247.2, 2,    20.83, 2,    19.86, 2,     0.00, 2,     1.33, 2,    0.011, 2,    0.009, 2,   2168.5, 2,   2327.7, 2,    735.3, 2,   3.4761,   -999.0, 9, -999.000, 9
316N19871218, SAVE2, 102, 1, 27, 27, 2, 19880121, 0038, -18.7450, -37.2633, 3488,  -999.00,   1952.2,   3.4079,  34.9586, 2,  34.9609, 2,   -999.0, 9,    252.2, 2,    21.96, 2,    19.40, 2,     0.00, 2,     1.30, 2,    0.008, 2,    0.005, 2,   2171.4, 2,   -999.0, 9,   -999.0, 9,   3.2537,   -999.0, 9, -999.000, 9
316N19871218, SAVE2, 102, 1, 28, 28, 2, 19880121, 0038, -18.7450, -37.2633, 3488,  -999.00,   2101.0,   3.1751,  34.9490, 2,  34.9510, 2,   -999.0, 9,    255.4, 2,    24.70, 2,    19.48, 2,     0.00, 2,     1.31, 2,    0.007, 2,    0.008, 2,   2174.9, 2,   2336.3, 2,    730.3, 2,   3.0105,   -999.0, 9, -999.000, 9
316N19871218, SAVE2, 102, 1, 29, 29, 2, 19880121, 0038, -18.7450, -37.2633, 3488,  -999.00,   2301.4,   2.9263,  34.9342, 2,  34.9360, 2,   -999.0, 9,    252.5, 2,    28.81, 2,    19.93, 2,     0.00, 2,     1.34, 2,    0.004, 2,    0.002, 2,   -999.0, 9,   -999.0, 9,   -999.0, 9,   2.7468,   -999.0, 9, -999.000, 9
316N19871218, SAVE2, 102, 1, 30, 30, 2, 19880121, 0038, -18.7450, -37.2633, 3488,  -999.00,   2497.9,   2.8356,  34.9285, 2,  34.9317, 2,   -999.0, 9,    252.7, 2,    30.39, 2,    20.02, 2,     0.00, 2,     1.35, 2,    0.004, 2,    0.003, 2,   2177.7, 2,   2338.8, 2,    733.6, 2,   2.6389,   -999.0, 9, -999.000, 9
316N19871218, SAVE2, 102, 1, 31, 31, 2, 19880121, 0038, -18.7450, -37.2633, 3488,  -999.00,   2695.3,   2.7151,  34.9220, 2,  34.9234, 2,   -999.0, 9,    253.1, 2,    32.19, 2,    20.19, 2,     0.00, 2,     1.36, 2,    0.003, 2,    0.003, 2,   2178.1, 2,   -999.0, 9,   -999.0, 9,   2.5014,   -999.0, 9, -999.000, 9
316N19871218, SAVE2, 102, 1, 32, 32, 2, 19880121, 0038, -18.7450, -37.2633, 3488,  -999.00,   2899.4,   2.6011,  34.9141, 2,  34.9143, 2,   -999.0, 9,    253.9, 2,    34.57, 2,    20.28, 2,     0.00, 2,     1.37, 2,    0.001, 2,    0.002, 2,   -999.0, 9,   -999.0, 9,   -999.0, 9,   2.3694,   2912.2, 2,    2.600, 2
316N19871218, SAVE2, 102, 1, 33, 33, 2, 19880121, 0038, -18.7450, -37.2633, 3488,  -999.00,   3047.2,   2.5395,  34.9093, 2,  34.9127, 2,   -999.0, 9,    253.4, 2,    35.79, 2,    20.45, 2,     0.00, 2,     1.37, 2,    0.000, 2, -999.000, 9,   2186.6, 2,   -999.0, 9,   -999.0, 9,   2.2940,   -999.0, 9, -999.000, 9
316N19871218, SAVE2, 102, 1, 34, 34, 2, 19880121, 0038, -18.7450, -37.2633, 3488,  -999.00,   3200.6,   2.4348,  34.9004, 2,  34.9040, 2,   -999.0, 9,    253.5, 2,    38.51, 2,    20.76, 2,     0.00, 2,     1.39, 2,    0.001, 2, -999.000, 9,   2186.6, 2,   -999.0, 9,   -999.0, 9,   2.1759,   -999.0, 9, -999.000, 9
316N19871218, SAVE2, 102, 1, 35, 35, 2, 19880121, 0038, -18.7450, -37.2633, 3488,  -999.00,   3433.3,   1.9139,  34.8491, 2,  34.8509, 2,   -999.0, 9,    245.7, 2,    57.77, 2,    23.44, 2,     0.00, 2,     1.58, 2,    0.000, 2,    0.001, 2,   -999.0, 9,   -999.0, 9,   -999.0, 9,   1.6434,   3422.4, 2,    1.914, 2
316N19871218, SAVE2, 102, 1, 36, 36, 2, 19880121, 0038, -18.7450, -37.2633, 3488,  -999.00,   3525.6,   1.4502,  34.8009, 2,  34.8005, 2,   -999.0, 9,    237.4, 2,    77.77, 2,    26.25, 2,     0.00, 2,     1.78, 2, -999.000, 9,    0.002, 2,   2225.2, 2,   -999.0, 9,   -999.0, 9,   1.1820,   -999.0, 9, -999.000, 9