BOTTLE,20020919WHPSIOSA
EXPOCODE,SECT_ID,STNNBR,CASTNO,SAMPNO,BTLNBR,BTLNBR_FLAG_W,DATE,TIME,LATITUDE,LONGITUDE,DEPTH,CTDPRS,CTDTMP,CTDSAL,CTDSAL_FLAG_W,SALNTY,SALNTY_FLAG_W,OXYGEN,OXYGEN_FLAG_W,SILCAT,SILCAT_FLAG_W,NITRAT,NITRAT_FLAG_W,NITRIT,NITRIT_FLAG_W,PHSPHT,PHSPHT_FLAG_W,CFC-11,CFC-11_FLAG_W,CFC-12,CFC-12_FLAG_W,TCARBN,TCARBN_FLAG_W,ALKALI,ALKALI_FLAG_W,TRITUM,TRITUM_FLAG_W,HELIUM,HELIUM_FLAG_W,DELHE3,DELHE3_FLAG_W,REVTMP,DELC14,DELC14_FLAG_W,C14ERR,CTDRAW,HELIER,DELHER,THETA,TRITER
,,,,,,,,,,,METERS,DBAR,ITS-90,PSS-78,,PSS-78,,UMOL/KG,,UMOL/KG,,UMOL/KG,,UMOL/KG,,UMOL/KG,,PMOL/KG,,PMOL/KG,,UMOL/KG,,UMOL/KG,,TU,,NMOL/KG,,PERCNT,,ITS-90,/MILLE,,/MILLE,DBAR,NMOL/KG,PERCNT,DEG,TU
   06MT18_1,       A01E,     617,          1,         24,        B41,2,19910920,       0706,    52.3383,   -15.7717,       3273,    23.9,  15.6144,  35.3302,2,  35.3370,2,   244.3,2,    0.59,2,    0.20,2,    0.09,2,    0.15,2,-999.000,9,-999.000,9,  2048.3,2,  2381.0,2,-999.000,9,-999.0000,9, -999.00,9,-999.000,  -999.0,9,  -999.0,    25.1,-999.0000,-999.000,    15.6107,-999.000
   06MT18_1,       A01E,     617,          1,         23,        K23,2,19910920,       0706,    52.3383,   -15.7717,       3273,    33.3,  15.6014,  35.3335,2,  35.3390,2,   244.8,2,    0.49,2,    0.20,2,    0.09,2,    0.15,2,-999.000,9,-999.000,9,  2048.1,2,  2379.0,2,-999.000,9,-999.0000,9, -999.00,9,-999.000,  -999.0,9,  -999.0,    34.6,-999.0000,-999.000,    15.5962,-999.000
   06MT18_1,       A01E,     617,          1,         22,        B38,2,19910920,       0706,    52.3383,   -15.7717,       3273,    64.8,  13.9670,  35.3664,2,  35.3780,2,   235.7,2,    1.17,2,    3.81,2,    0.68,2,    0.40,2,-999.000,9,-999.000,9,  2080.7,2,  2387.0,2,-999.000,9,-999.0000,9, -999.00,9,-999.000,  -999.0,9,  -999.0,    66.4,-999.0000,-999.000,    13.9577,-999.000
   06MT18_1,       A01E,     617,          1,         21,         K2,2,19910920,       0706,    52.3383,   -15.7717,       3273,   104.7,  10.7981,  35.4687,2,  35.4720,2,   246.2,2,    4.39,2,   11.52,2,    0.01,2,    0.76,2,-999.000,9,-999.000,9,  2124.0,2,  2400.0,2,-999.000,9,-999.0000,9, -999.00,9,-999.000,  -999.0,9,  -999.0,   106.6,-999.0000,-999.000,    10.7853,-999.000
   06MT18_1,       A01E,     617,          1,         20,        K15,2,19910920,       0706,    52.3383,   -15.7717,       3273,   303.8,   9.4345,  35.2907,2,  35.2990,2,   249.5,2,    6.25,2,   13.09,2,    0.01,2,    0.88,2,-999.000,9,-999.000,9,  2131.2,2,  2376.0,2,-999.000,9,-999.0000,9, -999.00,9,-999.000,  -999.0,9,  -999.0,   307.4,-999.0000,-999.000,     9.4002,-999.000
   06MT18_1,       A01E,     617,          1,         19,        B33,2,19910920,       0706,    52.3383,   -15.7717,       3273,   402.8,   9.1078,  35.2683,2,  35.2650,2,   241.9,2,    7.23,2,   14.55,2,    0.01,2,    0.96,2,-999.000,9,-999.000,9,  2138.8,2,  -999.0,9,-999.000,9,-999.0000,9, -999.00,9,-999.000,  -999.0,9,  -999.0,   407.0,-999.0000,-999.000,     9.0630,-999.000
   06MT18_1,       A01E,     617,          1,         18,        K10,2,19910920,       0706,    52.3383,   -15.7717,       3273,   504.7,   8.2487,  35.1702,2,  35.1760,2,   225.9,2,    9.08,2,   16.61,2,    0.01,2,    1.12,2,-999.000,9,-999.000,9,  2153.1,2,  2360.0,2,-999.000,9,-999.0000,9, -999.00,9,   8.274,  -999.0,9,  -999.0,   509.4,-999.0000,-999.000,     8.1955,-999.000
   06MT18_1,       A01E,     617,          1,         17,        B34,2,19910920,       0706,    52.3383,   -15.7717,       3273,   606.1,   8.4784,  35.3261,2,  35.3290,2,   207.6,2,   10.06,2,   17.39,2,    0.01,2,    1.15,2,-999.000,9,-999.000,9,  2164.2,2,  -999.0,9,-999.000,9,-999.0000,9, -999.00,9,-999.000,  -999.0,9,  -999.0,   611.3,-999.0000,-999.000,     8.4130,-999.000
   06MT18_1,       A01E,     617,          1,         15,        B39,2,19910920,       0706,    52.3383,   -15.7717,       3273,   806.2,   6.2876,  35.0895,2,  35.0910,2,   224.6,2,   11.33,2,   18.56,2,    0.00,2,    1.23,2,-999.000,9,-999.000,9,  2165.4,2,  -999.0,9,-999.000,9,-999.0000,9, -999.00,9,-999.000,  -999.0,9,  -999.0,   811.9,-999.0000,-999.000,     6.2129,-999.000
   06MT18_1,       A01E,     617,          1,         14,        B42,2,19910920,       0706,    52.3383,   -15.7717,       3273,  1005.4,   5.2355,  35.0315,2,  35.0320,2,   239.2,2,   11.72,2,   18.37,2,    0.00,2,    1.23,2,-999.000,9,-999.000,9,  2163.4,2,  2354.0,2,   1.624,2,   1.8122,2,    7.61,2,   5.233,  -999.0,9,  -999.0,  1011.3,   0.0072,   0.180,     5.1490,   0.038
   06MT18_1,       A01E,     617,          1,         13,         K9,2,19910920,       0706,    52.3383,   -15.7717,       3273,  1211.6,   4.3463,  34.9553,2,  34.9570,2,   257.8,2,   11.43,2,   17.88,2,    0.00,2,    1.21,2,-999.000,9,-999.000,9,  2156.9,2,  -999.0,9,-999.000,9,-999.0000,9, -999.00,9,-999.000,  -999.0,9,  -999.0,  1217.4,-999.0000,-999.000,     4.2486,-999.000
   06MT18_1,       A01E,     617,          1,         12,        B50,2,19910920,       0706,    52.3383,   -15.7717,       3273,  1414.9,   3.8687,  34.9200,2,  34.9230,2,   270.0,2,   11.33,2,   17.39,2,    0.00,2,    1.18,2,-999.000,9,-999.000,9,  2152.0,2,  -999.0,9,   1.589,2,   1.8071,2,    8.09,2,   3.874,  -999.0,9,  -999.0,  1420.4,   0.0072,   0.240,     3.7577,   0.043
   06MT18_1,       A01E,     617,          1,         11,        B44,2,19910920,       0706,    52.3383,   -15.7717,       3273,  1606.1,   3.5749,  34.9049,2,  34.9050,2,   277.0,2,   11.92,2,   17.20,2,    0.00,2,    1.17,2,-999.000,9,-999.000,9,  2149.1,2,  2344.0,2,-999.000,9,-999.0000,9, -999.00,9,-999.000,  -999.0,9,  -999.0,  1611.0,-999.0000,-999.000,     3.4503,-999.000
   06MT18_1,       A01E,     617,          1,         10,        K19,2,19910920,       0706,    52.3383,   -15.7717,       3273,  1813.4,   3.5240,  34.9227,2,  34.9240,2,   273.8,2,   12.70,2,   17.10,2,    0.00,2,    1.17,2,-999.000,9,-999.000,9,  2151.0,2,  -999.0,9,   1.317,2,   1.8009,2,    7.94,2,   3.526,  -999.0,9,  -999.0,  1817.5,   0.0072,   0.180,     3.3811,   0.036
   06MT18_1,       A01E,     617,          1,          9,        B45,2,19910920,       0706,    52.3383,   -15.7717,       3273,  2014.3,   3.4231,  34.9383,2,  34.9400,2,   270.6,2,   14.26,2,   17.19,2,    0.00,2,    1.18,2,-999.000,9,-999.000,9,  2153.0,2,  2355.0,2,-999.000,9,-999.0000,9, -999.00,9,-999.000,  -999.0,9,  -999.0,  2017.5,-999.0000,-999.000,     3.2629,-999.000
   06MT18_1,       A01E,     617,          1,          8,         K7,2,19910920,       0706,    52.3383,   -15.7717,       3273,  2189.8,   3.2562,  34.9454,2,  34.9470,2,   268.9,2,   16.02,2,   17.29,2,    0.00,2,    1.19,2,-999.000,9,-999.000,9,  2155.1,2,  -999.0,9,   0.887,2,-999.0000,5,   -9.00,5,   3.257,  -999.0,9,  -999.0,  2192.1,-999.0000,-999.000,     3.0819,   0.021
   06MT18_1,       A01E,     617,          1,          7,        B52,2,19910920,       0706,    52.3383,   -15.7717,       3273,  2400.9,   3.1113,  34.9513,2,  34.9520,2,   265.3,2,   19.64,2,   17.78,2,    0.00,2,    1.23,2,-999.000,9,-999.000,9,  2160.9,2,  -999.0,9,-999.000,9,-999.0000,9, -999.00,9,-999.000,  -999.0,9,  -999.0,  2402.1,-999.0000,-999.000,     2.9190,-999.000
   06MT18_1,       A01E,     617,          1,          6,        B51,2,19910920,       0706,    52.3383,   -15.7717,       3273,  2595.3,   2.9365,  34.9502,2,  34.9510,2,   259.5,2,   25.01,2,   18.56,2,    0.00,2,    1.29,2,-999.000,9,-999.000,9,  2168.9,2,  2363.0,2,   0.548,2,   1.8126,2,    5.06,2,   2.939,  -999.0,9,  -999.0,  2595.4,   0.0073,   0.190,     2.7283,   0.015
   06MT18_1,       A01E,     617,          1,          5,        B49,2,19910920,       0706,    52.3383,   -15.7717,       3273,  2797.0,   2.7896,  34.9435,2,  34.9440,2,   254.5,2,   30.19,2,   19.44,2,    0.00,2,    1.35,2,-999.000,9,-999.000,9,  2177.2,2,  -999.0,9,-999.000,9,-999.0000,9, -999.00,9,-999.000,  -999.0,9,  -999.0,  2796.0,-999.0000,-999.000,     2.5641,-999.000
   06MT18_1,       A01E,     617,          1,          4,        B43,2,19910920,       0706,    52.3383,   -15.7717,       3273,  2999.0,   2.6537,  34.9310,2,  34.9320,2,   248.3,2,   36.05,2,   20.52,2,    0.00,2,    1.43,2,-999.000,9,-999.000,9,  2184.9,2,  2387.0,2,   0.204,2,   1.8187,2,    3.15,2,   2.654,  -999.0,9,  -999.0,  2996.9,   0.0073,   0.190,     2.4106,   0.016
   06MT18_1,       A01E,     617,          1,          3,        K30,2,19910920,       0706,    52.3383,   -15.7717,       3273,  3152.3,   2.5638,  34.9201,2,  34.9220,2,   244.1,2,   40.35,2,   21.40,2,    0.00,2,    1.48,2,-999.000,9,-999.000,9,  2191.7,2,  -999.0,9,-999.000,9,-999.0000,9, -999.00,9,-999.000,  -999.0,9,  -999.0,  3149.5,-999.0000,-999.000,     2.3068,-999.000
   06MT18_1,       A01E,     617,          1,          2,        B46,2,19910920,       0706,    52.3383,   -15.7717,       3273,  3258.1,   2.4748,  34.9107,2,  34.9120,2,   241.8,2,   44.26,2,   21.98,2,    0.00,2,    1.50,2,-999.000,9,-999.000,9,  2196.0,2,  2388.0,2,-999.000,9,-999.0000,9, -999.00,9,-999.000,  -999.0,9,  -999.0,  3254.8,-999.0000,-999.000,     2.2088,-999.000
   06MT18_1,       A01E,     617,          1,          1,        K31,2,19910920,       0706,    52.3383,   -15.7717,       3273,  3305.0,   2.4538,  34.9074,2,  34.9090,2,   241.5,2,   45.04,2,   22.08,2,    0.00,2,    1.52,2,-999.000,9,-999.000,9,  2198.5,2,  -999.0,9,   0.030,2,   1.8265,2,    2.63,2,-999.000,  -999.0,9,  -999.0,  3301.5,   0.0073,   0.210,     2.1834,   0.001
   06MT18_1,       A01E,     618,          1,         20,        K15,2,19910920,       1207,    52.3350,   -15.5017,       2839,    33.5,  15.4825,  35.3059,2,  35.3100,2,   243.7,2,    0.29,2,    0.49,2,    0.19,2,    0.18,2,   2.897,2,   1.475,2,  2050.6,2,  -999.0,9,   2.231,2,   1.7280,2,   -1.69,2,-999.000,  -999.0,9,  -999.0,    34.8,   0.0069,   0.180,    15.4773,   0.022
   06MT18_1,       A01E,     618,          1,         19,        B33,2,19910920,       1207,    52.3350,   -15.5017,       2839,    65.4,  12.6433,  35.5282,2,  35.5320,2,   233.3,2,    2.15,2,    8.89,2,    0.03,2,    0.62,2,   3.147,2,   1.570,2,  2111.9,2,  -999.0,9,-999.000,9,-999.0000,9, -999.00,9,-999.000,  -999.0,9,  -999.0,    67.0,-999.0000,-999.000,    12.6345,-999.000
   06MT18_1,       A01E,     618,          1,         18,        K10,2,19910920,       1207,    52.3350,   -15.5017,       2839,   104.5,  11.6283,  35.5658,2,  35.5730,2,   238.7,2,    3.61,2,   11.03,2,    0.00,2,    0.74,2,   3.133,2,   1.557,2,  2124.4,2,  -999.0,9,   2.077,2,   1.7639,2,   -0.49,2,  11.639,  -999.0,9,  -999.0,   106.4,   0.0071,   0.160,    11.6149,   0.032
   06MT18_1,       A01E,     618,          1,         17,        B34,2,19910920,       1207,    52.3350,   -15.5017,       2839,   203.3,  10.6962,  35.4603,2,  35.4640,2,   246.4,2,    4.79,2,   11.62,2,    0.00,2,    0.78,2,   3.190,2,   1.556,2,  2123.9,2,  -999.0,9,   2.105,2,   1.7519,2,   -0.30,2,-999.000,  -999.0,9,  -999.0,   206.1,   0.0070,   0.170,    10.6714,   0.025
   06MT18_1,       A01E,     618,          1,         16,        B53,2,19910920,       1207,    52.3350,   -15.5017,       2839,   299.9,  10.3766,  35.4271,2,  35.4320,2,   244.2,2,    5.18,2,   12.30,2,    0.00,2,    0.83,2,-999.000,9,-999.000,9,  2128.0,2,  -999.0,9,-999.000,9,-999.0000,9, -999.00,9,  10.379,  -999.0,9,  -999.0,   303.4,-999.0000,-999.000,    10.3406,-999.000
   06MT18_1,       A01E,     618,          1,         15,        B39,2,19910920,       1207,    52.3350,   -15.5017,       2839,   403.9,  10.1518,  35.4180,2,  35.4180,2,   245.0,2,    5.66,2,   12.60,2,    0.00,2,    0.85,2,   3.023,2,   1.491,2,  2129.5,2,  -999.0,9,   2.246,2,   1.7645,2,    0.96,2,-999.000,  -999.0,9,  -999.0,   408.1,   0.0071,   0.180,    10.1037,   0.060
   06MT18_1,       A01E,     618,          1,         14,        B42,2,19910920,       1207,    52.3350,   -15.5017,       2839,   505.9,   9.2996,  35.2854,2,  35.2890,2,   232.1,2,    7.62,2,   14.85,2,    0.00,2,    1.00,2,   2.682,2,   1.320,2,  2141.3,2,  -999.0,9,   1.969,2,   1.7883,2,    2.29,2,   9.345,  -999.0,9,  -999.0,   510.6,   0.0072,   0.180,     9.2423,   0.028
   06MT18_1,       A01E,     618,          1,         13,         K9,2,19910920,       1207,    52.3350,   -15.5017,       2839,   708.6,   7.7182,  35.1819,2,  35.1850,2,   212.0,2,   10.84,2,   18.27,2,    0.00,2,    1.21,2,   1.869,2,   0.898,2,  2163.7,2,  -999.0,9,   1.768,2,   2.0537,4,    4.90,2,-999.000,  -999.0,9,  -999.0,   714.1,   0.0082,   0.160,     7.6454,   0.027
   06MT18_1,       A01E,     618,          1,         12,        B50,2,19910920,       1207,    52.3350,   -15.5017,       2839,   909.6,   6.0378,  35.0786,2,  35.0810,2,   228.4,2,   11.72,2,   18.66,2,    0.00,2,    1.24,2,   1.882,2,   0.892,2,  2167.1,2,  -999.0,9,-999.000,9,-999.0000,9, -999.00,9,-999.000,  -999.0,9,  -999.0,   915.5,-999.0000,-999.000,     5.9546,-999.000
   06MT18_1,       A01E,     618,          1,         11,        B44,2,19910920,       1207,    52.3350,   -15.5017,       2839,  1110.8,   5.0557,  35.0176,2,  35.0190,2,   243.9,2,   11.62,2,   18.27,2,    0.00,2,    1.24,2,   1.750,2,   0.832,2,  2162.6,2,  -999.0,9,   1.618,2,   1.7960,2,    7.85,2,-999.000,  -999.0,9,  -999.0,  1116.7,   0.0072,   0.180,     4.9609,   0.020
   06MT18_1,       A01E,     618,          1,         10,        K19,2,19910920,       1207,    52.3350,   -15.5017,       2839,  1315.1,   4.2254,  34.9467,2,  34.9480,2,   261.1,2,   11.33,2,   17.88,2,    0.00,2,    1.21,2,   1.775,2,   0.844,2,  2156.0,2,  -999.0,9,   1.632,2,   1.8205,2,    8.00,2,   4.226,  -999.0,9,  -999.0,  1320.8,   0.0073,   0.190,     4.1196,   0.027
   06MT18_1,       A01E,     618,          1,          9,        B45,2,19910920,       1207,    52.3350,   -15.5017,       2839,  1518.3,   3.8267,  34.9145,2,  34.9170,2,   271.8,2,   11.23,2,   17.49,2,    0.00,2,    1.19,2,-999.000,9,-999.000,9,  2151.8,2,  -999.0,9,-999.000,9,-999.0000,9, -999.00,9,-999.000,  -999.0,9,  -999.0,  1523.5,-999.0000,-999.000,     3.7069,-999.000
   06MT18_1,       A01E,     618,          1,          8,         K7,2,19910920,       1207,    52.3350,   -15.5017,       2839,  1719.3,   3.5789,  34.8964,2,  34.8980,2,   278.5,2,   11.14,2,   17.19,2,    0.00,2,    1.18,2,   1.813,2,   0.847,2,  2149.1,2,  -999.0,9,   1.638,2,   1.8282,2,    7.89,2,   3.579,  -999.0,9,  -999.0,  1723.8,   0.0073,   0.160,     3.4440,   0.024
   06MT18_1,       A01E,     618,          1,          7,        B52,2,19910920,       1207,    52.3350,   -15.5017,       2839,  1919.9,   3.5120,  34.9100,2,  34.9120,2,   277.0,2,   11.92,2,   17.58,2,    0.00,2,    1.17,2,-999.000,9,-999.000,9,  2148.6,2,  -999.0,9,-999.000,9,-999.0000,9, -999.00,9,-999.000,  -999.0,9,  -999.0,  1923.6,-999.0000,-999.000,     3.3594,-999.000
   06MT18_1,       A01E,     618,          1,          6,        B51,2,19910920,       1207,    52.3350,   -15.5017,       2839,  2124.0,   3.4510,  34.9325,2,  34.9340,2,   271.9,2,   13.48,2,   17.10,2,    0.00,2,    1.18,2,   0.919,2,   0.416,2,  2150.1,2,  -999.0,9,   1.136,2,   1.8216,2,    7.42,2,   3.453,  -999.0,9,  -999.0,  2126.7,   0.0073,   0.160,     3.2799,   0.019
   06MT18_1,       A01E,     618,          1,          5,        B49,2,19910920,       1207,    52.3350,   -15.5017,       2839,  2322.9,   3.3032,  34.9436,2,  34.9460,2,   269.1,2,   15.73,2,   17.29,2,    0.00,2,    1.19,2,-999.000,9,-999.000,9,  2153.9,2,  -999.0,9,-999.000,9,-999.0000,9, -999.00,9,-999.000,  -999.0,9,  -999.0,  2324.5,-999.0000,-999.000,     3.1152,-999.000
   06MT18_1,       A01E,     618,          1,          4,        B43,2,19910920,       1207,    52.3350,   -15.5017,       2839,  2526.9,   3.1263,  34.9483,2,  34.9510,2,   264.1,2,   19.64,2,   17.88,2,    0.00,2,    1.23,2,   0.568,2,   0.253,2,  2160.3,2,  -999.0,9,   0.715,2,   1.8261,2,    5.72,2,   3.127,  -999.0,9,  -999.0,  2527.4,   0.0073,   0.190,     2.9213,   0.020
   06MT18_1,       A01E,     618,          1,          3,        K30,2,19910920,       1207,    52.3350,   -15.5017,       2839,  2729.4,   2.9574,  34.9476,2,  34.9490,2,   257.1,2,   26.67,2,   19.05,2,    0.00,2,    1.32,2,-999.000,9,-999.000,9,  2173.2,2,  -999.0,9,-999.000,9,-999.0000,9, -999.00,9,-999.000,  -999.0,9,  -999.0,  2728.8,-999.0000,-999.000,     2.7354,-999.000
   06MT18_1,       A01E,     618,          1,          2,        B46,2,19910920,       1207,    52.3350,   -15.5017,       2839,  2777.2,   2.9205,  34.9457,2,  34.9470,2,   254.9,2,   28.23,2,   19.25,2,    0.00,2,    1.34,2,-999.000,9,-999.000,9,  2174.1,2,  -999.0,9,-999.000,9,-999.0000,9, -999.00,9,   2.920,  -999.0,9,  -999.0,  2776.3,-999.0000,-999.000,     2.6944,-999.000
   06MT18_1,       A01E,     618,          1,          1,        K31,2,19910920,       1207,    52.3350,   -15.5017,       2839,  2830.3,   2.8945,  34.9443,2,  34.9470,2,   254.3,2,   29.41,2,   19.54,2,    0.00,2,    1.35,2,   0.218,2,   0.110,2,  2174.7,2,  -999.0,9,   0.359,2,   1.8296,2,    4.07,2,-999.000,  -999.0,9,  -999.0,  2829.1,   0.0073,   0.160,     2.6635,   0.011