BOTTLE,20020919WHPSIOSA
EXPOCODE,SECT_ID,STNNBR,CASTNO,SAMPNO,BTLNBR,BTLNBR_FLAG_W,DATE,TIME,LATITUDE,LONGITUDE,DEPTH,CTDPRS,CTDTMP,CTDSAL,CTDSAL_FLAG_W,SALNTY,SALNTY_FLAG_W,OXYGEN,OXYGEN_FLAG_W,SILCAT,SILCAT_FLAG_W,NITRAT,NITRAT_FLAG_W,NITRIT,NITRIT_FLAG_W,PHSPHT,PHSPHT_FLAG_W,CFC-11,CFC-11_FLAG_W,CFC-12,CFC-12_FLAG_W,TCARBN,TCARBN_FLAG_W,ALKALI,ALKALI_FLAG_W,TRITUM,TRITUM_FLAG_W,HELIUM,HELIUM_FLAG_W,DELHE3,DELHE3_FLAG_W,REVTMP,DELC14,DELC14_FLAG_W,C14ERR,CTDRAW,HELIER,DELHER,THETA,TRITER
,,,,,,,,,,,METERS,DBAR,ITS-90,PSS-78,,PSS-78,,UMOL/KG,,UMOL/KG,,UMOL/KG,,UMOL/KG,,UMOL/KG,,PMOL/KG,,PMOL/KG,,UMOL/KG,,UMOL/KG,,TU,,NMOL/KG,,PERCNT,,ITS-90,/MILLE,,/MILLE,DBAR,NMOL/KG,PERCNT,DEG,TU
   06MT18_1,       A01E,     599,          1,         24,        B41,2,19910915,       1120,    53.6717,   -25.4250,       3626,    13.6,  12.6313,  34.6165,2,  34.6220,2,   263.5,2,    2.74,2,    1.56,2,    0.10,2,    0.29,2,   3.330,2,   1.684,2,  2046.0,2,  -999.0,9,-999.000,9,-999.0000,9, -999.00,9,-999.000,  -999.0,9,  -999.0,    14.7,-999.0000,-999.000,    12.6295,-999.000
   06MT18_1,       A01E,     599,          1,         23,        K23,2,19910915,       1120,    53.6717,   -25.4250,       3626,    34.0,  12.5793,  34.6462,2,  34.6370,2,   262.4,2, -999.00,9, -999.00,9, -999.00,9, -999.00,9,   3.372,2,   1.695,2,  2047.4,2,  -999.0,9,-999.000,9,-999.0000,9, -999.00,9,-999.000,  -999.0,9,  -999.0,    35.3,-999.0000,-999.000,    12.5748,-999.000
   06MT18_1,       A01E,     599,          1,         22,         K3,4,19910915,       1120,    53.6717,   -25.4250,       3626,    63.6,-999.0000,-999.0000,9,  34.9270,2,   224.8,2,    7.62,3,   14.55,2,    0.02,2,    1.03,2,   3.046,2,   1.504,2,  2135.2,2,  -999.0,9,-999.000,9,-999.0000,9, -999.00,9,-999.000,  -999.0,9,  -999.0,    65.2,-999.0000,-999.000,     -999.0,-999.000
   06MT18_1,       A01E,     599,          1,         21,        B35,2,19910915,       1120,    53.6717,   -25.4250,       3626,    63.6,   8.6233,  34.9160,2,  34.9280,2,   224.8,2,    8.11,2,   14.65,2,    0.01,2,    1.04,2,   3.045,2,   1.511,2,  -999.0,9,  -999.0,9,   2.358,2,   1.7621,2,    1.71,2,-999.000,  -999.0,9,  -999.0,    65.2,   0.0070,   0.180,     8.6166,   0.029
   06MT18_1,       A01E,     599,          1,         20,        B48,2,19910915,       1120,    53.6717,   -25.4250,       3626,   155.1,   7.6752,  34.9573,2,  34.9600,2,   224.9,2,   10.55,2,   17.29,2,    0.01,2,    1.20,2,   2.720,2,   1.341,2,  2149.7,2,  -999.0,9,   1.999,2,   1.7693,2,    2.00,2,-999.000,  -999.0,9,  -999.0,   157.5,   0.0071,   0.180,     7.6599,   0.035
   06MT18_1,       A01E,     599,          1,         19,        K18,2,19910915,       1120,    53.6717,   -25.4250,       3626,   266.6,   6.3095,  34.8569,2,  34.8610,2,   234.5,2,   11.53,2,   18.17,2,    0.01,2,    1.26,2,   3.081,4,   1.378,3,  2154.2,2,  -999.0,9,   1.942,2,   1.7829,2,    2.80,2,-999.000,  -999.0,9,  -999.0,   269.9,   0.0071,   0.170,     6.2859,   0.036
   06MT18_1,       A01E,     599,          1,         18,        B40,2,19910915,       1120,    53.6717,   -25.4250,       3626,   351.8,   6.1767,  34.9440,2,  34.9460,2,   239.1,2,   11.33,2,   18.17,2,    0.01,2,    1.25,2,   2.738,2,   1.345,2,  2157.1,2,  -999.0,9,   1.902,2,   1.7819,2,    3.34,2,   6.178,  -999.0,9,  -999.0,   355.7,   0.0071,   0.160,     6.1456,   0.035
   06MT18_1,       A01E,     599,          1,         17,        K17,2,19910915,       1120,    53.6717,   -25.4250,       3626,   479.9,   4.8349,  34.8662,2,  34.8660,2,   254.6,2,   11.52,2,   18.17,2,    0.00,2,    1.26,2,   2.958,2,   1.441,2,  2156.3,2,  -999.0,9,   1.877,2,   1.7853,2,    3.26,2,-999.000,  -999.0,9,  -999.0,   484.5,   0.0071,   0.180,     4.7971,   0.026
   06MT18_1,       A01E,     599,          1,         16,        B53,2,19910915,       1120,    53.6717,   -25.4250,       3626,   584.1,   4.7649,  34.9302,2,  34.9240,2,   249.8,2,   12.11,2,   18.56,2,    0.00,2,    1.27,2,   2.502,2,   1.187,2,  2160.5,2,  -999.0,9,   1.763,2,   1.7982,2,    4.69,2,   4.763,  -999.0,9,  -999.0,   589.2,   0.0072,   0.140,     4.7187,   0.031
   06MT18_1,       A01E,     599,          1,         15,        B39,2,19910915,       1120,    53.6717,   -25.4250,       3626,   808.4,   4.1984,  34.9229,2,  34.9230,2,   261.8,2,   11.82,2,   18.17,2,    0.00,2,    1.24,2,-999.000,9,-999.000,9,  2157.7,2,  -999.0,9,-999.000,9,-999.0000,9, -999.00,9,-999.000,  -999.0,9,  -999.0,   814.1,-999.0000,-999.000,     4.1366,-999.000
   06MT18_1,       A01E,     599,          1,         14,        B42,2,19910915,       1120,    53.6717,   -25.4250,       3626,  1108.6,   3.7028,  34.8956,2,  34.8950,2,   276.4,2,   11.62,2,   17.58,2,    0.00,2,    1.21,2,   2.320,2,   1.104,2,  2152.7,2,  -999.0,9,   1.797,2,   1.7795,2,    6.54,2,   3.701,  -999.0,9,  -999.0,  1114.5,   0.0071,   0.180,     3.6198,   0.047
   06MT18_1,       A01E,     599,          1,         13,         K9,2,19910915,       1120,    53.6717,   -25.4250,       3626,  1410.8,   3.4610,  34.8908,2,  34.8890,2,   281.3,2,   11.72,2,   17.29,2,    0.00,2,    1.20,2,-999.000,9,-999.000,9,  2150.5,2,  -999.0,9,-999.000,9,-999.0000,9, -999.00,9,-999.000,  -999.0,9,  -999.0,  1416.3,-999.0000,-999.000,     3.3548,-999.000
   06MT18_1,       A01E,     599,          1,         12,        B50,2,19910915,       1120,    53.6717,   -25.4250,       3626,  1612.4,   3.3771,  34.8913,2,  34.8900,2,   282.8,2,   12.01,2,   17.09,2,    0.00,2,    1.19,2,   1.960,2,   0.925,2,  2149.8,2,  -999.0,9,   1.590,2,   1.9269,4,    6.51,2,   3.378,  -999.0,9,  -999.0,  1617.3,   0.0077,   0.170,     3.2543,   0.036
   06MT18_1,       A01E,     599,          1,         11,        B44,2,19910915,       1120,    53.6717,   -25.4250,       3626,  1813.3,   3.3871,  34.9062,2,  34.9060,2,   279.8,2,   12.50,2,   17.19,2,    0.00,2,    1.20,2,-999.000,9,-999.000,9,  2150.3,2,  -999.0,9,-999.000,9,-999.0000,9, -999.00,9,-999.000,  -999.0,9,  -999.0,  1817.4,-999.0000,-999.000,     3.2461,-999.000
   06MT18_1,       A01E,     599,          1,         10,        K19,2,19910915,       1120,    53.6717,   -25.4250,       3626,  2015.6,   3.3591,  34.9262,2,  34.9260,2,   276.1,2,   13.38,2,   17.09,2,    0.00,2,    1.19,2,-999.000,9,-999.000,9,  2151.3,2,  -999.0,9,-999.000,9,-999.0000,9, -999.00,9,   3.361,  -999.0,9,  -999.0,  2018.8,-999.0000,-999.000,     3.1998,-999.000
   06MT18_1,       A01E,     599,          1,          9,        B45,2,19910915,       1120,    53.6717,   -25.4250,       3626,  2220.8,   3.2872,  34.9331,2,  34.9340,2,   275.1,2,   14.16,2,   17.09,2,    0.00,2,    1.19,2,-999.000,9,-999.000,9,  2152.2,2,  -999.0,9,-999.000,9,-999.0000,9, -999.00,9,-999.000,  -999.0,9,  -999.0,  2223.0,-999.0000,-999.000,     3.1095,-999.000
   06MT18_1,       A01E,     599,          1,          8,        K22,2,19910915,       1120,    53.6717,   -25.4250,       3626,  2425.8,   3.1873,  34.9388,2,  34.9400,2,   274.0,2,   14.84,2,   16.99,2,    0.00,2,    1.19,2,   0.967,2,   0.458,2,  2153.7,2,  -999.0,9,   1.082,2,   1.8069,2,    7.23,2,   3.189,  -999.0,9,  -999.0,  2426.9,   0.0072,   0.170,     2.9913,   0.029
   06MT18_1,       A01E,     599,          1,          7,        B52,2,19910915,       1120,    53.6717,   -25.4250,       3626,  2630.5,   3.1213,  34.9422,2,  34.9430,2,   273.1,2,   15.53,2,   16.99,2,    0.00,2,    1.19,2,-999.000,9,-999.000,9,  2154.2,2,  -999.0,9,-999.000,9,-999.0000,9, -999.00,9,-999.000,  -999.0,9,  -999.0,  2630.4,-999.0000,-999.000,     2.9061,-999.000
   06MT18_1,       A01E,     599,          1,          6,        B51,2,19910915,       1120,    53.6717,   -25.4250,       3626,  2834.9,   3.0034,  34.9508,2,  34.9530,2,   269.9,2,   18.36,2,   17.29,2,    0.00,2,    1.21,2,-999.000,9,-999.000,9,  2159.8,2,  -999.0,9,-999.000,9,-999.0000,9, -999.00,9,   3.013,  -999.0,9,  -999.0,  2833.7,-999.0000,-999.000,     2.7697,-999.000
   06MT18_1,       A01E,     599,          1,          5,        B49,2,19910915,       1120,    53.6717,   -25.4250,       3626,  3243.3,   2.8036,  34.9482,2,  34.9530,2,   267.5,2,   21.39,2,   17.68,2,    0.00,2,    1.24,2,-999.000,9,-999.000,9,  2164.3,2,  -999.0,9,-999.000,9,-999.0000,9, -999.00,9,-999.000,  -999.0,9,  -999.0,  3240.0,-999.0000,-999.000,     2.5314,-999.000
   06MT18_1,       A01E,     599,          1,          4,        B43,2,19910915,       1120,    53.6717,   -25.4250,       3626,  3345.0,   2.7966,  34.9480,2,  34.9500,2,   263.4,2,   25.20,2,   18.26,2,    0.00,2,    1.29,2,   0.787,2,   0.368,2,  2171.1,2,  -999.0,9,   0.879,2,   1.8194,2,    5.42,2,   2.806,  -999.0,9,  -999.0,  3341.3,   0.0073,   0.260,     2.5136,   0.021
   06MT18_1,       A01E,     599,          1,          3,        K30,2,19910915,       1120,    53.6717,   -25.4250,       3626,  3447.8,   2.7866,  34.9473,2,  34.9490,2,   265.3,2,   24.32,2,   17.97,2,    0.00,2,    1.26,2,-999.000,9,-999.000,9,  2168.5,2,  -999.0,9,-999.000,9,-999.0000,9, -999.00,9,-999.000,  -999.0,9,  -999.0,  3443.7,-999.0000,-999.000,     2.4926,-999.000
   06MT18_1,       A01E,     599,          1,          2,        B46,2,19910915,       1120,    53.6717,   -25.4250,       3626,  3563.4,   2.7496,  34.9399,2,  34.9420,2,   260.0,2,   28.71,2,   18.85,2,    0.00,2,    1.33,2,   0.696,2,   0.326,2,  2175.8,2,  -999.0,9,   0.692,2,   1.8227,2,    5.19,2,   2.757,  -999.0,9,  -999.0,  3558.9,   0.0073,   0.280,     2.4438,   0.020
   06MT18_1,       A01E,     599,          1,          1,        K31,2,19910915,       1120,    53.6717,   -25.4250,       3626,  3636.4,   2.6877,  34.9284,2,  34.9330,2,   253.5,2,   34.67,2,   20.02,2,    0.00,2,    1.41,2,   0.483,2,   0.223,2,  2183.2,2,  -999.0,9,   0.470,2,   1.8199,2,    4.48,2,-999.000,  -999.0,9,  -999.0,  3631.7,   0.0073,   0.270,     2.3754,   0.004
   06MT18_1,       A01E,     600,          1,         24,        B41,2,19910915,       1715,    53.4633,   -24.6850,       3570,    30.0,  12.8840,  34.9267,2,  34.9310,2,   261.7,2,    2.34,2,    1.46,2,    0.11,2,    0.24,2,   3.245,2,   1.657,2,  2050.9,2,  -999.0,9,-999.000,9,-999.0000,9, -999.00,9,-999.000,  -999.0,9,  -999.0,    31.2,-999.0000,-999.000,    12.8799,-999.000
   06MT18_1,       A01E,     600,          1,         23,        K23,2,19910915,       1715,    53.4633,   -24.6850,       3570,    58.9,  11.1068,  35.1328,2,  35.1290,2,   246.1,2,    3.32,2,    8.40,2,    0.29,2,    0.68,2,   3.344,2,   1.730,2,  2098.5,2,  -999.0,9,-999.000,9,-999.0000,9, -999.00,9,-999.000,  -999.0,9,  -999.0,    60.4,-999.0000,-999.000,    11.0995,-999.000
   06MT18_1,       A01E,     600,          1,         22,         K3,4,19910915,       1715,    53.4633,   -24.6850,       3570,    93.6,-999.0000,-999.0000,9,  35.2970,3,   248.7,2,    5.96,3,   13.47,2,    0.02,2,    0.93,2,   3.233,2,   1.639,2,  2130.0,2,  -999.0,9,-999.000,9,-999.0000,9, -999.00,9,-999.000,  -999.0,9,  -999.0,    95.4,-999.0000,-999.000,     -999.0,-999.000
   06MT18_1,       A01E,     600,          1,         21,        B35,2,19910915,       1715,    53.4633,   -24.6850,       3570,    93.6,   9.7961,  35.2878,2,  35.2940,2,   248.9,2,    6.25,2,   13.47,2,    0.02,2,    0.93,2,   3.233,2,   1.626,2,  -999.0,9,  -999.0,9,-999.000,9,-999.0000,9, -999.00,9,-999.000,  -999.0,9,  -999.0,    95.4,-999.0000,-999.000,     9.7854,-999.000
   06MT18_1,       A01E,     600,          1,         20,        B48,2,19910915,       1715,    53.4633,   -24.6850,       3570,   192.0,   8.0149,  35.0348,2,  35.0350,2,   256.1,2,    8.20,2,   15.23,2,    0.01,2,    1.07,2,   3.388,2,   1.692,2,  2136.8,2,  -999.0,9,-999.000,9,-999.0000,9, -999.00,9,-999.000,  -999.0,9,  -999.0,   194.7,-999.0000,-999.000,     7.9954,-999.000
   06MT18_1,       A01E,     600,          1,         19,        K18,2,19910915,       1715,    53.4633,   -24.6850,       3570,   291.4,   7.2836,  34.9939,2,  34.9940,2,   250.1,2,    9.37,2,   16.70,2,    0.01,2,    1.17,2,   3.376,2,   1.583,2,  2144.4,2,  -999.0,9,-999.000,9,-999.0000,9, -999.00,9,-999.000,  -999.0,9,  -999.0,   294.9,-999.0000,-999.000,     7.2555,-999.000
   06MT18_1,       A01E,     600,          1,         18,        B40,2,19910915,       1715,    53.4633,   -24.6850,       3570,   394.1,   6.2266,  34.9152,2,  34.9170,2,   240.1,2,   11.13,2,   18.36,2,    0.00,2,    1.28,2,-999.000,9,-999.000,9,  2154.8,2,  -999.0,9,-999.000,9,-999.0000,9, -999.00,9,   6.230,  -999.0,9,  -999.0,   398.2,-999.0000,-999.000,     6.1915,-999.000
   06MT18_1,       A01E,     600,          1,         17,        K17,2,19910915,       1715,    53.4633,   -24.6850,       3570,   594.8,   5.4553,  34.9914,2,  34.9910,2,   238.6,2,   12.01,2,   19.04,2,    0.00,2,    1.32,2,   2.263,2,   1.083,2,  2163.3,2,  -999.0,9,-999.000,9,-999.0000,9, -999.00,9,-999.000,  -999.0,9,  -999.0,   599.9,-999.0000,-999.000,     5.4049,-999.000
   06MT18_1,       A01E,     600,          1,         16,        B53,2,19910915,       1715,    53.4633,   -24.6850,       3570,   793.1,   4.3713,  34.9317,2,  34.9310,2,   257.6,2,   11.91,2,   18.65,2,    0.00,2,    1.30,2,-999.000,9,-999.000,9,  2159.6,2,  -999.0,9,-999.000,9,-999.0000,9, -999.00,9,   4.374,  -999.0,9,  -999.0,   798.8,-999.0000,-999.000,     4.3097,-999.000
   06MT18_1,       A01E,     600,          1,         15,        B39,2,19910915,       1715,    53.4633,   -24.6850,       3570,   990.8,   3.9466,  34.9112,2,  34.9090,2,   269.2,2,   11.72,2,   18.26,2,    0.00,2,    1.26,2,   2.239,2,   1.064,2,  2154.6,2,  -999.0,9,-999.000,9,-999.0000,9, -999.00,9,-999.000,  -999.0,9,  -999.0,   996.7,-999.0000,-999.000,     3.8714,-999.000
   06MT18_1,       A01E,     600,          1,         14,        B42,2,19910915,       1715,    53.4633,   -24.6850,       3570,  1192.9,   3.6968,  34.8995,2,  34.8980,2,   276.0,2,   11.72,2,   17.87,2,    0.00,2,    1.25,2,-999.000,9,-999.000,9,  2152.0,2,  -999.0,9,-999.000,9,-999.0000,9, -999.00,9,   3.698,  -999.0,9,  -999.0,  1198.8,-999.0000,-999.000,     3.6068,-999.000
   06MT18_1,       A01E,     600,          1,         13,         K9,2,19910915,       1715,    53.4633,   -24.6850,       3570,  1374.5,   3.5450,  34.8939,2,  34.8930,2,   279.7,2,   11.72,2,   17.68,2,    0.00,2,    1.24,2,   1.977,2,   0.925,2,  2150.6,2,  -999.0,9,-999.000,9,-999.0000,9, -999.00,9,-999.000,  -999.0,9,  -999.0,  1380.1,-999.0000,-999.000,     3.4410,-999.000
   06MT18_1,       A01E,     600,          1,         12,        B50,2,19910915,       1715,    53.4633,   -24.6850,       3570,  1579.0,   3.4860,  34.8974,2,  34.8940,2,   280.0,2,   12.01,2,   17.58,2,    0.00,2,    1.23,2,-999.000,9,-999.000,9,  2151.9,2,  -999.0,9,-999.000,9,-999.0000,9, -999.00,9,   3.487,  -999.0,9,  -999.0,  1584.0,-999.0000,-999.000,     3.3649,-999.000
   06MT18_1,       A01E,     600,          1,         11,        B44,2,19910915,       1715,    53.4633,   -24.6850,       3570,  1780.2,   3.4530,  34.9121,2,  34.9110,2,   278.4,2,   12.50,2,   17.68,2,    0.00,2,    1.23,2,   1.422,2,   0.677,2,  2150.1,2,  -999.0,9,-999.000,9,-999.0000,9, -999.00,9,-999.000,  -999.0,9,  -999.0,  1784.5,-999.0000,-999.000,     3.3142,-999.000
   06MT18_1,       A01E,     600,          1,         10,        K19,2,19910915,       1715,    53.4633,   -24.6850,       3570,  1986.5,   3.4171,  34.9288,2,  34.9270,2,   275.9,2,   13.28,2,   17.48,2,    0.00,2,    1.24,2,   1.086,2,   0.523,2,  2151.6,2,  -999.0,9,-999.000,9,-999.0000,9, -999.00,9,   3.422,  -999.0,9,  -999.0,  1989.9,-999.0000,-999.000,     3.2596,-999.000
   06MT18_1,       A01E,     600,          1,          9,        B45,2,19910915,       1715,    53.4633,   -24.6850,       3570,  2183.0,   3.3481,  34.9366,2,  34.9370,2,   273.7,2,   14.16,2,   17.48,2,    0.00,2,    1.23,2,   0.942,2,   0.441,2,  2152.4,2,  -999.0,9,-999.000,9,-999.0000,9, -999.00,9,-999.000,  -999.0,9,  -999.0,  2185.4,-999.0000,-999.000,     3.1730,-999.000
   06MT18_1,       A01E,     600,          1,          8,        K22,2,19910915,       1715,    53.4633,   -24.6850,       3570,  2384.2,   3.2622,  34.9422,2,  34.9430,2,   273.0,2,   14.94,2,   17.48,2,    0.00,2,    1.23,2,-999.000,9,-999.000,9,  2153.4,2,  -999.0,9,-999.000,9,-999.0000,9, -999.00,9,   3.264,  -999.0,9,  -999.0,  2385.5,-999.0000,-999.000,     3.0689,-999.000
   06MT18_1,       A01E,     600,          1,          7,        B52,2,19910915,       1715,    53.4633,   -24.6850,       3570,  2594.2,   3.1193,  34.9480,2,  34.9500,2,   270.5,2,   17.09,2,   17.58,2,    0.00,2,    1.25,2,   0.827,2,   0.396,2,  2156.9,2,  -999.0,9,-999.000,9,-999.0000,9, -999.00,9,-999.000,  -999.0,9,  -999.0,  2594.3,-999.0000,-999.000,     2.9077,-999.000
   06MT18_1,       A01E,     600,          1,          6,        B51,2,19910915,       1715,    53.4633,   -24.6850,       3570,  2801.1,   2.9634,  34.9523,2,  34.9520,2,   266.8,2,   20.61,2,   18.07,2,    0.00,2,    1.28,2,-999.000,9,-999.000,9,  2163.9,2,  -999.0,9,-999.000,9,-999.0000,9, -999.00,9,   2.971,  -999.0,9,  -999.0,  2800.1,-999.0000,-999.000,     2.7339,-999.000
   06MT18_1,       A01E,     600,          1,          5,        B49,2,19910915,       1715,    53.4633,   -24.6850,       3570,  2997.1,   2.8825,  34.9528,2,  34.9540,2,   265.5,2,   22.66,2,   18.26,2,    0.00,2,    1.31,2,   0.788,2,   0.379,2,  2164.5,2,  -999.0,9,   0.818,2,   1.8137,2,    6.03,2,-999.000,  -999.0,9,  -999.0,  2995.0,   0.0073,   0.200,     2.6345,   0.018
   06MT18_1,       A01E,     600,          1,          4,        B43,2,19910915,       1715,    53.4633,   -24.6850,       3570,  3299.2,   2.7866,  34.9451,2,  34.9490,2,   262.3,2,   26.27,2,   18.75,2,    0.00,2,    1.34,2,   0.751,2,   0.361,2,  2171.6,2,  -999.0,9,   0.792,2,   2.0173,4,    5.36,2,   2.790,  -999.0,9,  -999.0,  3295.7,   0.0081,   0.210,     2.5088,   0.007
   06MT18_1,       A01E,     600,          1,          3,        K30,2,19910915,       1715,    53.4633,   -24.6850,       3570,  3505.5,   2.7116,  34.9355,2,  34.9380,2,   257.8,2,   31.25,2,   19.73,2,    0.00,2,    1.41,2,   0.563,2,   0.267,2,  2179.0,2,  -999.0,9,   0.605,2,   1.8299,2,    4.84,2,-999.000,  -999.0,9,  -999.0,  3501.2,   0.0073,   0.220,     2.4132,   0.007
   06MT18_1,       A01E,     600,          1,          2,        B46,2,19910915,       1715,    53.4633,   -24.6850,       3570,  3555.9,   2.6817,  34.9286,2,  34.9330,2,   252.9,4,   35.16,2,   20.41,2,    0.00,2,    1.46,2,   0.437,2,   0.213,2,  2184.4,2,  -999.0,9,   0.465,2,-999.0000,5,   -9.00,5,   2.688,  -999.0,9,  -999.0,  3551.4,-999.0000,-999.000,     2.3785,   0.004
   06MT18_1,       A01E,     600,          1,          1,        K31,2,19910915,       1715,    53.4633,   -24.6850,       3570,  3609.5,   2.6867,  34.9291,2,  34.9330,2,   253.6,2,   35.35,2,   20.41,2,    0.00,2,    1.46,2,   0.434,2,   0.211,2,  2184.3,2,  -999.0,9,   0.464,2,   1.8228,2,    4.50,2,-999.000,  -999.0,9,  -999.0,  3604.9,   0.0073,   0.170,     2.3774,   0.005