BOTTLE,20020919WHPSIOSA
EXPOCODE,SECT_ID,STNNBR,CASTNO,SAMPNO,BTLNBR,BTLNBR_FLAG_W,DATE,TIME,LATITUDE,LONGITUDE,DEPTH,CTDPRS,CTDTMP,CTDSAL,CTDSAL_FLAG_W,SALNTY,SALNTY_FLAG_W,OXYGEN,OXYGEN_FLAG_W,SILCAT,SILCAT_FLAG_W,NITRAT,NITRAT_FLAG_W,NITRIT,NITRIT_FLAG_W,PHSPHT,PHSPHT_FLAG_W,CFC-11,CFC-11_FLAG_W,CFC-12,CFC-12_FLAG_W,TCARBN,TCARBN_FLAG_W,ALKALI,ALKALI_FLAG_W,TRITUM,TRITUM_FLAG_W,HELIUM,HELIUM_FLAG_W,DELHE3,DELHE3_FLAG_W,REVTMP,DELC14,DELC14_FLAG_W,C14ERR,CTDRAW,HELIER,DELHER,THETA,TRITER
,,,,,,,,,,,METERS,DBAR,ITS-90,PSS-78,,PSS-78,,UMOL/KG,,UMOL/KG,,UMOL/KG,,UMOL/KG,,UMOL/KG,,PMOL/KG,,PMOL/KG,,UMOL/KG,,UMOL/KG,,TU,,NMOL/KG,,PERCNT,,ITS-90,/MILLE,,/MILLE,DBAR,NMOL/KG,PERCNT,DEG,TU
   06MT18_1,       A01E,     567,          1,          1,        B50,2,19910907,       1139,    59.5050,   -37.5483,       3129,    13.9,   7.8910,  34.6500,2,  34.6650,2,   296.4,2,    3.42,2,    8.99,2,    0.20,2,    0.71,2,   4.269,2,   2.039,2,  2087.8,2,  2356.0,2,   2.080,2,   1.7930,2,   -1.64,2,   7.905,    26.0,2,     5.0,    15.0,   0.0072,   0.170,     7.8896,   0.024
   06MT18_1,       A01E,     567,          1,         23,         K1,2,19910907,       1139,    59.5050,   -37.5483,       3129,    59.6,   5.1256,  34.8525,2,-999.0000,9,   290.3,2,    8.21,2,   16.51,2,    0.07,2,    1.11,2,   4.574,2,   2.135,2,  2141.8,2,  2386.0,2,-999.000,5,   1.7801,2,   -1.06,2,-999.000,  -999.0,9,  -999.0,    61.1,   0.0071,   0.120,     5.1210,-999.000
   06MT18_1,       A01E,     567,          1,         22,         K3,2,19910907,       1139,    59.5050,   -37.5483,       3129,   101.2,   4.6690,  34.9019,2,  34.9000,2,   286.4,2,    9.28,2,   17.19,2,    0.00,2,    1.14,2,   4.097,2,   1.924,2,  2146.3,2,  2402.0,2,-999.000,9,-999.0000,9, -999.00,9,-999.000,  -999.0,9,  -999.0,   103.1,-999.0000,-999.000,     4.6614,-999.000
   06MT18_1,       A01E,     567,          1,         21,        B35,2,19910907,       1139,    59.5050,   -37.5483,       3129,   151.1,   4.2484,  34.8786,2,  34.8810,2,   287.4,2,    9.67,2,   17.19,2,    0.00,2,    1.15,2,   3.842,2,   1.806,2,  2146.7,2,  2393.0,2,-999.000,9,-999.0000,9, -999.00,9,-999.000,  -999.0,9,  -999.0,   153.5,-999.0000,-999.000,     4.2376,-999.000
   06MT18_1,       A01E,     567,          1,         20,        B48,2,19910907,       1139,    59.5050,   -37.5483,       3129,   352.5,   3.7748,  34.8972,2,  34.9010,2,   291.1,2,    9.96,2,   17.29,2,    0.00,2,    1.15,2,   3.589,2,   1.689,2,  2148.5,2,  2387.0,2,   1.897,2,   1.7816,2,    2.22,2,-999.000,     8.0,2,     5.0,   356.4,   0.0071,   0.190,     3.7503,   0.028
   06MT18_1,       A01E,     567,          1,         19,        B36,2,19910907,       1139,    59.5050,   -37.5483,       3129,   503.7,   3.4111,  34.8709,2,  34.8730,2,   297.1,2,    9.96,2,   17.19,2,    0.00,2,    1.15,2,   3.709,2,   1.744,2,  2144.1,2,  -999.0,9,   1.900,2,   1.8010,2,    2.16,2,-999.000,  -999.0,9,  -999.0,   508.4,   0.0072,   0.190,     3.3769,   0.063
   06MT18_1,       A01E,     567,          1,         18,        B34,2,19910907,       1139,    59.5050,   -37.5483,       3129,   704.9,   3.2652,  34.8640,2,  34.8650,2,   298.9,2,    9.96,2,   17.00,2,    0.00,2,    1.14,2,   3.631,2,   1.722,2,  2146.9,2,  2393.0,2,   1.841,2,   1.8036,2,    2.36,2,-999.000,  -999.0,9,  -999.0,   710.4,   0.0072,   0.180,     3.2171,   0.042
   06MT18_1,       A01E,     567,          1,         17,         K4,3,19910907,       1139,    59.5050,   -37.5483,       3129,  1006.5,   3.1793,  34.8598,2,  34.8620,2,   297.9,2,    9.96,2,   16.80,2,    0.00,2,    1.13,2,   3.358,2,   1.593,2,  2146.3,2,  -999.0,9,   1.854,2,   1.8072,2,    2.97,2,   3.187,  -999.0,9,  -999.0,  1012.4,   0.0072,   0.190,     3.1089,   0.047
   06MT18_1,       A01E,     567,          1,         16,        B39,2,19910907,       1139,    59.5050,   -37.5483,       3129,  1308.3,   3.0534,  34.8459,2,  34.8480,2,   300.5,2,    9.96,2,   16.80,2,    0.00,2,    1.14,2,   3.434,2,   1.619,2,  2145.0,2,  2400.0,2,   1.883,2,   1.8052,2,    3.04,2,-999.000,   -15.0,2,     6.0,  1314.0,   0.0072,   0.180,     2.9601,   0.057
   06MT18_1,       A01E,     567,          1,         15,        K15,2,19910907,       1139,    59.5050,   -37.5483,       3129,  1511.5,   3.0504,  34.8485,2,  34.8500,2,   299.2,2,    9.87,2,   16.70,2,    0.00,2,    1.13,2,   3.271,2,   1.548,2,  2147.0,2,  -999.0,9,   2.006,2,   1.7902,2,    3.10,2,-999.000,  -999.0,9,  -999.0,  1516.7,   0.0072,   0.180,     2.9403,   0.041
   06MT18_1,       A01E,     567,          1,         14,         K7,2,19910907,       1139,    59.5050,   -37.5483,       3129,  1713.7,   3.0414,  34.8500,2,  34.8520,2,   298.4,2,    9.96,2,   16.70,2,    0.00,2,    1.14,2,   3.263,2,   1.527,2,  2145.7,2,  2390.0,2,   1.838,2,   1.8050,2,    3.39,2,   3.044,  -999.0,9,  -999.0,  1718.2,   0.0072,   0.160,     2.9141,   0.039
   06MT18_1,       A01E,     567,          1,         13,        B42,2,19910907,       1139,    59.5050,   -37.5483,       3129,  2029.1,   3.3182,  34.9262,2,  34.9280,2,   278.8,2,   11.92,2,   16.80,2,    0.00,2,    1.15,2,-999.000,9,-999.000,9,  2151.3,2,  -999.0,9,   1.419,2,   1.7931,2,    7.47,2,-999.000,  -999.0,9,  -999.0,  2032.2,   0.0072,   0.200,     3.1582,   0.036
   06MT18_1,       A01E,     567,          1,         12,        B44,2,19910907,       1139,    59.5050,   -37.5483,       3129,  2232.8,   3.1953,  34.9340,2,  34.9360,2,   277.3,2,   12.50,2,   16.80,2,    0.00,2,    1.15,2,   1.180,2,   0.561,2,  2151.0,2,  2400.0,2,   1.166,2,   1.8016,2,    7.55,2,-999.000,  -999.0,9,  -999.0,  2234.9,   0.0072,   0.170,     3.0179,   0.033
   06MT18_1,       A01E,     567,          1,         11,        B46,2,19910907,       1139,    59.5050,   -37.5483,       3129,  2435.6,   3.0883,  34.9386,2,  34.9390,2,   276.9,2,   13.28,2,   16.70,2,    0.00,2,    1.15,2,   1.135,2,   0.539,2,  2151.0,2,  -999.0,9,   1.231,3,   1.8593,3,    7.52,2,-999.000,   -23.0,2,     5.0,  2436.6,   0.0074,   0.150,     2.8931,   0.026
   06MT18_1,       A01E,     567,          1,         10,        B45,2,19910907,       1139,    59.5050,   -37.5483,       3129,  2636.8,   2.9175,  34.9362,2,  34.9370,2,   278.1,2,   13.77,2,   16.61,2,    0.00,2,    1.14,2,   1.155,2,   0.543,2,  2152.4,2,  -999.0,9,-999.000,9,-999.0000,9, -999.00,9,-999.000,  -999.0,9,  -999.0,  2636.7,-999.0000,-999.000,     2.7056,-999.000
   06MT18_1,       A01E,     567,          1,          9,        B40,2,19910907,       1139,    59.5050,   -37.5483,       3129,  2836.4,   2.7016,  34.9268,2,  34.9290,2,   280.3,2,   13.97,2,   16.41,2,    0.00,2,    1.14,2,   1.314,2,   0.619,2,  2152.5,2,  2409.0,2,   1.208,2,-999.0000,5,   -9.00,5,   2.704,   -22.0,2,     5.0,  2835.2,-999.0000,-999.000,     2.4740,   0.020
   06MT18_1,       A01E,     567,          1,          8,        B52,2,19910907,       1139,    59.5050,   -37.5483,       3129,  2887.0,   2.6307,  34.9224,2,  34.9260,2,   281.7,2,   13.77,2,   16.21,2,    0.00,2,    1.11,2,   1.439,2,   0.678,2,  2152.2,2,  -999.0,9,   1.296,2,   1.8284,2,    6.55,2,-999.000,  -999.0,9,  -999.0,  2885.5,   0.0073,   0.410,     2.3995,   0.021
   06MT18_1,       A01E,     567,          1,          7,        B37,2,19910907,       1139,    59.5050,   -37.5483,       3129,  2937.3,   2.5628,  34.9186,2,  34.9220,2,   282.8,2,   13.48,2,   16.12,2,    0.00,2,    1.11,2,   1.530,2,   0.716,2,  2152.2,2,  2409.0,2,   1.332,2,-999.0000,5,   -9.00,5,   2.564,  -999.0,9,  -999.0,  2935.5,-999.0000,-999.000,     2.3280,   0.026
   06MT18_1,       A01E,     567,          1,          6,        B49,2,19910907,       1139,    59.5050,   -37.5483,       3129,  2987.2,   2.4039,  34.9089,2,  34.9120,2,   286.0,2,   12.60,2,   15.73,2,    0.00,2,    1.10,2,   1.835,2,   0.858,2,  2151.9,2,  -999.0,9,-999.000,9,-999.0000,9, -999.00,9,-999.000,  -999.0,9,  -999.0,  2985.2,-999.0000,-999.000,     2.1675,-999.000
   06MT18_1,       A01E,     567,          1,          5,        B51,2,19910907,       1139,    59.5050,   -37.5483,       3129,  3037.2,   2.0961,  34.8848,2,  34.8880,2,   296.5,2,    9.77,2,   14.85,2,    0.00,2,    1.04,2,   2.728,2,   1.281,2,  2147.7,2,  -999.0,9,   1.703,2,   1.8387,2,    5.12,2,   2.098,  -999.0,9,  -999.0,  3034.9,   0.0074,   0.150,     1.8615,   0.028
   06MT18_1,       A01E,     567,          1,          4,        K30,2,19910907,       1139,    59.5050,   -37.5483,       3129,  3087.4,   1.7204,  34.8767,2,  34.8800,2,   302.1,2,    8.79,2,   14.36,2,    0.00,2,    1.00,2,   3.026,2,   1.418,2,  2146.7,2,  -999.0,9,-999.000,9,-999.0000,9, -999.00,9,-999.000,  -999.0,9,  -999.0,  3084.9,-999.0000,-999.000,     1.4892,-999.000
   06MT18_1,       A01E,     567,          1,          3,        K22,3,19910907,       1139,    59.5050,   -37.5483,       3129,  3141.4,   1.3366,  34.8765,2,  34.8800,2,   303.8,2,    9.08,2,   14.07,2,    0.01,2,    0.99,2,   3.058,2,   1.434,2,  2148.5,2,  2412.0,2,   1.784,2,   1.8624,3,    4.65,2,   1.335,     1.0,2,     5.0,  3138.6,   0.0074,   0.190,     1.1089,   0.027
   06MT18_1,       A01E,     568,          1,         24,        B41,2,19910907,       1701,    59.4017,   -36.6483,       3130,    27.1,   7.5334,  34.7348,2,  34.7540,2,   291.7,2,    5.08,2,   10.94,2,    0.21,2,    0.77,2,   4.247,2,   2.017,2,  2104.0,2,  -999.0,9,-999.000,9,-999.0000,9, -999.00,9,-999.000,  -999.0,9,  -999.0,    28.3,-999.0000,-999.000,     7.5308,-999.000
   06MT18_1,       A01E,     568,          1,         23,         K1,2,19910907,       1701,    59.4017,   -36.6483,       3130,    57.1,   5.3524,  34.9033,2,  34.9070,2,   286.4,2,    8.89,2,   17.00,2,    0.07,2,    1.11,2,   4.313,2,   2.035,2,  2143.3,2,  -999.0,9,-999.000,9,-999.0000,9, -999.00,9,-999.000,  -999.0,9,  -999.0,    58.6,-999.0000,-999.000,     5.3478,-999.000
   06MT18_1,       A01E,     568,          1,         22,         K3,2,19910907,       1701,    59.4017,   -36.6483,       3130,    97.6,   5.2055,  34.9400,2,  34.9340,2,   285.2,2,    9.18,2,   17.00,2,    0.00,2,    1.11,2,   4.078,2,   1.926,2,  2144.7,2,  -999.0,9,-999.000,9,-999.0000,9, -999.00,9,-999.000,  -999.0,9,  -999.0,    99.5,-999.0000,-999.000,     5.1978,-999.000
   06MT18_1,       A01E,     568,          1,         21,        B35,2,19910907,       1701,    59.4017,   -36.6483,       3130,   198.0,   4.3603,  34.8955,2,  34.8960,2,   285.4,2,    9.96,2,   17.39,2,    0.00,2,    1.14,2,   3.752,2,   1.768,2,  2148.4,2,  -999.0,9,   1.910,2,   1.7919,2,    1.33,2,-999.000,  -999.0,9,  -999.0,   200.8,   0.0072,   0.200,     4.3458,   0.028
   06MT18_1,       A01E,     568,          1,         20,        B48,2,19910907,       1701,    59.4017,   -36.6483,       3130,   287.3,   4.0785,  34.8994,2,  34.8980,2,   286.7,2,   10.06,2,   17.48,2,    0.00,2,    1.15,2,   3.550,2,   1.668,2,  2148.9,2,  -999.0,9,-999.000,9,-999.0000,9, -999.00,9,-999.000,  -999.0,9,  -999.0,   290.7,-999.0000,-999.000,     4.0580,-999.000
   06MT18_1,       A01E,     568,          1,         19,        B36,2,19910907,       1701,    59.4017,   -36.6483,       3130,   590.6,   3.4880,  34.8841,2,  34.8830,2,   293.0,2,   10.16,2,   17.29,2,    0.00,2,    1.15,2,   3.323,2,   1.582,2,  2148.5,2,  -999.0,9,-999.000,5,   1.7990,2,   -9.00,2,-999.000,  -999.0,9,  -999.0,   595.7,   0.0072,-999.000,     3.4471,-999.000
   06MT18_1,       A01E,     568,          1,         18,        B34,2,19910907,       1701,    59.4017,   -36.6483,       3130,   893.1,   3.2602,  34.8664,2,  34.8650,2,   298.8,2,   10.06,2,   17.00,2,    0.00,2,    1.13,2,   3.531,2,   1.672,2,  2146.8,2,  -999.0,9,-999.000,9,-999.0000,9, -999.00,9,-999.000,  -999.0,9,  -999.0,   899.0,-999.0000,-999.000,     3.1979,-999.000
   06MT18_1,       A01E,     568,          1,         17,         K4,2,19910907,       1701,    59.4017,   -36.6483,       3130,   994.2,   3.2312,  34.8639,2,  34.8650,2,   297.6,2,   10.06,2,   17.00,2,    0.00,2,    1.14,2,   3.426,2,   1.620,2,  2146.8,2,  -999.0,9,   1.850,2,   1.8046,2,    2.82,2,   3.243,  -999.0,9,  -999.0,  1000.1,   0.0072,   0.270,     3.1613,   0.055
   06MT18_1,       A01E,     568,          1,         16,        B39,2,19910907,       1701,    59.4017,   -36.6483,       3130,  1094.3,   3.2172,  34.8666,2,  34.8650,2,   298.1,2,   10.06,2,   16.90,2,    0.00,2,    1.13,2,   3.344,2,   1.592,2,  -999.0,9,  -999.0,9,-999.000,9,-999.0000,9, -999.00,9,-999.000,  -999.0,9,  -999.0,  1100.2,-999.0000,-999.000,     3.1396,-999.000
   06MT18_1,       A01E,     568,          1,         15,        K15,2,19910907,       1701,    59.4017,   -36.6483,       3130,  1371.6,   3.1243,  34.8549,2,  34.8530,2,   300.3,2,    9.96,2,   16.80,2,    0.00,2,    1.13,2,   3.412,2,   1.617,2,  2145.4,2,  -999.0,9,   1.956,2,   1.7939,2,    2.73,2,-999.000,  -999.0,9,  -999.0,  1377.2,   0.0072,   0.160,     3.0251,   0.050
   06MT18_1,       A01E,     568,          1,         14,         K7,2,19910907,       1701,    59.4017,   -36.6483,       3130,  1624.2,   3.2192,  34.8795,2,  34.8780,2,   291.4,2,   10.55,2,   16.90,2,    0.00,2,    1.13,2,   2.676,2,   1.250,2,  2148.9,2,  -999.0,9,   1.746,2,   1.7916,2,    4.83,2,   3.230,  -999.0,9,  -999.0,  1629.1,   0.0072,   0.170,     3.0974,   0.038
   06MT18_1,       A01E,     568,          1,         13,        B42,2,19910907,       1701,    59.4017,   -36.6483,       3130,  1786.3,   3.2033,  34.8824,2,  34.8820,2,   289.5,2,   10.74,2,   16.80,2,    0.00,2,    1.14,2,   2.423,2,   1.148,2,  2149.1,2,  -999.0,9,   1.722,2,   1.8087,2,    5.49,2,-999.000,  -999.0,9,  -999.0,  1790.5,   0.0072,   0.160,     3.0673,   0.055
   06MT18_1,       A01E,     568,          1,         12,        B44,2,19910907,       1701,    59.4017,   -36.6483,       3130,  1989.9,   3.4021,  34.9348,2,  34.9360,2,   278.1,2,   11.82,2,   16.90,2,    0.00,2,    1.15,2,   1.544,2,   0.721,2,  2151.1,2,  -999.0,9,   1.407,2,   1.7932,2,    7.49,2,-999.000,  -999.0,9,  -999.0,  1993.2,   0.0072,   0.190,     3.2445,   0.038
   06MT18_1,       A01E,     568,          1,         11,        B46,2,19910907,       1701,    59.4017,   -36.6483,       3130,  2295.2,   3.2282,  34.9425,2,  34.9430,2,   276.6,2,   12.89,2,   16.80,2,    0.00,2,    1.15,2,   1.194,2,   0.563,2,  2152.0,2,  -999.0,9,   1.188,2,   1.8352,2,    7.48,2,   3.227,  -999.0,9,  -999.0,  2297.0,   0.0073,   0.200,     3.0442,   0.022
   06MT18_1,       A01E,     568,          1,         10,        B45,2,19910907,       1701,    59.4017,   -36.6483,       3130,  2549.1,   3.0963,  34.9454,2,  34.9460,2,   276.6,2,   13.67,2,   16.80,2,    0.00,2,    1.15,2,   1.112,2,   0.523,2,  2154.0,2,  -999.0,9,   1.218,2,   1.8537,3,    6.73,2,-999.000,  -999.0,9,  -999.0,  2549.5,   0.0074,   0.320,     2.8897,   0.021
   06MT18_1,       A01E,     568,          1,          9,        B40,2,19910907,       1701,    59.4017,   -36.6483,       3130,  2700.2,   2.9335,  34.9332,2,  34.9340,2,   279.7,2,   13.28,2,   16.60,2,    0.00,2,    1.14,2,   1.279,2,   0.603,2,  2153.6,2,  -999.0,9,   1.263,2,   1.8204,2,    6.79,2,   2.936,   -33.0,3,     5.0,  2699.7,   0.0073,   0.420,     2.7150,   0.026
   06MT18_1,       A01E,     568,          1,          8,        B52,2,19910907,       1701,    59.4017,   -36.6483,       3130,  2794.4,   2.8325,  34.9298,2,  34.9310,2,   280.6,2,   13.58,2,   16.51,2,    0.00,2,    1.12,2,   1.354,2,   0.634,2,  2153.2,2,  -999.0,9,-999.000,9,-999.0000,9, -999.00,9,-999.000,  -999.0,9,  -999.0,  2793.4,-999.0000,-999.000,     2.6065,-999.000
   06MT18_1,       A01E,     568,          1,          7,        B37,2,19910907,       1701,    59.4017,   -36.6483,       3130,  2897.2,   2.6867,  34.9246,2,  34.9240,2,   282.3,2,   13.28,2,   16.31,2,    0.00,2,    1.12,2,   1.491,2,   0.697,2,  2153.1,2,  -999.0,9,   1.309,2,   1.8519,3,    6.17,2,   2.687,  -999.0,9,  -999.0,  2895.7,   0.0074,   0.170,     2.4533,   0.024
   06MT18_1,       A01E,     568,          1,          6,        B49,2,19910907,       1701,    59.4017,   -36.6483,       3130,  2948.7,   2.5847,  34.9190,2,  34.9200,2,   283.8,2,   12.89,2,   16.12,2,    0.00,2,    1.11,2,   1.620,2,   0.752,2,  2152.4,2,  -999.0,9,   1.395,2,   1.8384,2,    6.56,2,-999.000,  -999.0,9,  -999.0,  2946.9,   0.0074,   0.190,     2.3482,   0.022
   06MT18_1,       A01E,     568,          1,          5,        B51,2,19910907,       1701,    59.4017,   -36.6483,       3130,  2999.5,   2.4139,  34.9096,2,  34.9080,2,   287.7,2,   11.92,2,   15.82,2,    0.00,2,    1.09,2,   1.976,2,   0.906,2,  -999.0,9,  -999.0,9,-999.000,9,-999.0000,9, -999.00,9,   2.427,  -999.0,9,  -999.0,  2997.4,-999.0000,-999.000,     2.1760,-999.000
   06MT18_1,       A01E,     568,          1,          4,        K30,2,19910907,       1701,    59.4017,   -36.6483,       3130,  3050.2,   2.1990,  34.9005,2,  34.9000,2,   291.1,2,   11.14,2,   15.34,2,    0.00,2,    1.06,2,   2.266,2,   1.053,2,  2149.8,2,  -999.0,9,   1.581,2,   2.0467,4,    5.75,2,-999.000,  -999.0,9,  -999.0,  3047.9,   0.0082,   0.160,     1.9608,   0.022
   06MT18_1,       A01E,     568,          1,          3,        K22,2,19910907,       1701,    59.4017,   -36.6483,       3130,  3101.1,   1.6524,  34.8868,2,  34.8870,2,   300.1,2,    9.77,2,   14.46,2,    0.01,2,    1.01,2,   2.865,2,   1.337,2,  2149.0,2,  -999.0,9,-999.000,9,-999.0000,9, -999.00,9,   1.677,  -999.0,9,  -999.0,  3098.5,-999.0000,-999.000,     1.4214,-999.000
   06MT18_1,       A01E,     568,          1,          2,        K31,4,19910907,       1701,    59.4017,   -36.6483,       3130,  3131.9,-999.0000,-999.0000,9,  34.8810,2,   303.8,2,    9.47,3,   14.16,2,    0.01,2,    1.00,2,   3.010,2,   1.407,2,  -999.0,9,  -999.0,9,-999.000,9,-999.0000,9, -999.00,9,-999.000,  -999.0,9,  -999.0,  3129.2,-999.0000,-999.000,     -999.0,-999.000
   06MT18_1,       A01E,     568,          1,          1,        B50,2,19910907,       1701,    59.4017,   -36.6483,       3130,  3131.9,   1.3316,  34.8801,2,  34.8810,2,   303.4,2,    9.38,2,   14.16,2,    0.01,2,    0.99,2,   3.003,2,   1.404,2,  2148.6,2,  -999.0,9,   1.822,2,-999.0000,5,   -9.00,5,   1.332,     2.0,2,     5.0,  3129.2,-999.0000,-999.000,     1.1049,   0.027