BOTTLE,20020919WHPSIOSA
EXPOCODE,SECT_ID,STNNBR,CASTNO,SAMPNO,BTLNBR,BTLNBR_FLAG_W,DATE,TIME,LATITUDE,LONGITUDE,DEPTH,CTDPRS,CTDTMP,CTDSAL,CTDSAL_FLAG_W,SALNTY,SALNTY_FLAG_W,OXYGEN,OXYGEN_FLAG_W,SILCAT,SILCAT_FLAG_W,NITRAT,NITRAT_FLAG_W,NITRIT,NITRIT_FLAG_W,PHSPHT,PHSPHT_FLAG_W,CFC-11,CFC-11_FLAG_W,CFC-12,CFC-12_FLAG_W,TCARBN,TCARBN_FLAG_W,ALKALI,ALKALI_FLAG_W,TRITUM,TRITUM_FLAG_W,HELIUM,HELIUM_FLAG_W,DELHE3,DELHE3_FLAG_W,REVTMP,DELC14,DELC14_FLAG_W,C14ERR,CTDRAW,HELIER,DELHER,THETA,TRITER
,,,,,,,,,,,METERS,DBAR,ITS-90,PSS-78,,PSS-78,,UMOL/KG,,UMOL/KG,,UMOL/KG,,UMOL/KG,,UMOL/KG,,PMOL/KG,,PMOL/KG,,UMOL/KG,,UMOL/KG,,TU,,NMOL/KG,,PERCNT,,ITS-90,/MILLE,,/MILLE,DBAR,NMOL/KG,PERCNT,DEG,TU
   06MT18_1,       A01E,     584,          1,         24,        B41,2,19910911,       0519,    57.6167,   -28.6350,       2420,     9.2,  11.7961,  34.9388,2,  34.9410,2,   276.9,2,    1.66,2,    3.32,2,    0.11,2,    0.30,2,-999.000,9,-999.000,9,  -999.0,9,  -999.0,9,-999.000,9,-999.0000,9, -999.00,9,-999.000,  -999.0,9,  -999.0,    10.2,-999.0000,-999.000,    11.7949,-999.000
   06MT18_1,       A01E,     584,          1,         23,        K23,2,19910911,       0519,    57.6167,   -28.6350,       2420,     9.4,  11.8011,  34.9389,2,  34.9410,2,   276.8,2,    1.56,2,    3.22,2,    0.11,2,    0.29,2,   3.375,2,   1.674,2,  -999.0,9,  -999.0,9,   2.182,2,   1.7529,2,   -1.45,2,-999.000,  -999.0,9,  -999.0,    10.4,   0.0070,   0.170,    11.7999,   0.032
   06MT18_1,       A01E,     584,          1,         22,         K3,2,19910911,       0519,    57.6167,   -28.6350,       2420,    28.9,  10.9330,  34.9373,2,  34.9410,2,   269.1,2,    1.86,2,    5.37,2,    0.15,2,    0.47,2,   3.452,2,   1.699,2,  -999.0,9,  -999.0,9,-999.000,9,-999.0000,9, -999.00,9,-999.000,  -999.0,9,  -999.0,    30.1,-999.0000,-999.000,    10.9295,-999.000
   06MT18_1,       A01E,     584,          1,         21,        B35,2,19910911,       0519,    57.6167,   -28.6350,       2420,    58.4,   8.8910,  35.1201,2,  35.1240,2,   260.0,2,    7.13,2,   13.87,2,    0.05,2,    0.89,2,   3.442,2,   1.685,2,  -999.0,9,  -999.0,9,-999.000,9,-999.0000,9, -999.00,9,-999.000,  -999.0,9,  -999.0,    59.9,-999.0000,-999.000,     8.8847,-999.000
   06MT18_1,       A01E,     584,          1,         20,        B48,2,19910911,       0519,    57.6167,   -28.6350,       2420,    96.3,   8.6892,  35.1666,2,  35.1590,2,   261.8,2,    7.43,2,   14.17,2,    0.01,2,    0.91,2,   3.408,2,   1.666,2,  -999.0,9,  -999.0,9,   2.126,2,   1.7563,2,   -0.63,2,-999.000,  -999.0,9,  -999.0,    98.2,   0.0070,   0.170,     8.6790,   0.032
   06MT18_1,       A01E,     584,          1,         19,        B36,2,19910911,       0519,    57.6167,   -28.6350,       2420,   197.2,   7.9450,  35.1093,2,  35.1180,2,   263.9,2,    8.21,2,   14.95,2,    0.00,2,    0.96,2,   3.413,2,   1.657,2,  -999.0,9,  -999.0,9,   2.010,2,   1.7646,2,   -0.10,2,-999.000,  -999.0,9,  -999.0,   200.0,   0.0071,   0.210,     7.9251,   0.047
   06MT18_1,       A01E,     584,          1,         18,        K17,2,19910911,       0519,    57.6167,   -28.6350,       2420,   295.1,   7.4455,  35.0864,2,  35.0870,2,   263.7,2,    8.60,2,   15.63,2,    0.00,2,    1.00,2,   3.442,2,   1.663,2,  -999.0,9,  -999.0,9,   1.988,2,   1.7626,2,    0.42,2,-999.000,  -999.0,9,  -999.0,   298.6,   0.0071,   0.200,     7.4166,   0.030
   06MT18_1,       A01E,     584,          1,         17,        K19,2,19910911,       0519,    57.6167,   -28.6350,       2420,   395.5,   6.7381,  35.0381,2,  35.0400,2,   270.8,2,    9.09,2,   16.12,2,    0.00,2,    1.04,2,   3.600,2,   1.732,2,  -999.0,9,  -999.0,9,-999.000,5,   1.7693,2,   -9.00,2,   6.750,  -999.0,9,  -999.0,   399.6,   0.0071,-999.000,     6.7013,-999.000
   06MT18_1,       A01E,     584,          1,         16,        B39,2,19910911,       0519,    57.6167,   -28.6350,       2420,   495.1,   6.7152,  35.0835,2,  35.0880,2,   274.8,2,    8.99,2,   15.93,2,    0.00,2,    1.03,2,-999.000,9,-999.000,9,  -999.0,9,  -999.0,9,-999.000,9,-999.0000,9, -999.00,9,-999.000,  -999.0,9,  -999.0,   499.8,-999.0000,-999.000,     6.6688,-999.000
   06MT18_1,       A01E,     584,          1,         15,        K16,3,19910911,       0519,    57.6167,   -28.6350,       2420,   596.0,   6.6942,  35.1131,2,  35.1150,2,   277.6,2,    8.60,2,   15.73,2,    0.00,2,    1.02,2,   3.685,2,   1.764,2,  -999.0,9,  -999.0,9,   2.055,2,   1.7682,2,   -0.05,2,   6.697,    16.0,2,     5.0,   601.1,   0.0071,   0.150,     6.6380,   0.036
   06MT18_1,       A01E,     584,          1,         14,        B42,2,19910911,       0519,    57.6167,   -28.6350,       2420,   690.0,   6.3625,  35.0829,2,  35.0830,2,   268.3,2,    9.48,2,   16.61,2,    0.00,2,    1.07,2,-999.000,9,-999.000,9,  -999.0,9,  -999.0,9,-999.000,9,-999.0000,9, -999.00,9,-999.000,  -999.0,9,  -999.0,   695.4,-999.0000,-999.000,     6.2988,-999.000
   06MT18_1,       A01E,     584,          1,         13,         K7,2,19910911,       0519,    57.6167,   -28.6350,       2420,   787.9,   5.7550,  35.0269,2,  35.0280,2,   253.2,2,   10.75,2,   17.88,2,    0.00,2,    1.15,2,   2.758,2,   1.273,2,  -999.0,9,  -999.0,9,   1.820,2,   1.7763,2,    4.03,2,   5.761,  -999.0,9,  -999.0,   793.6,   0.0071,   0.220,     5.6854,   0.024
   06MT18_1,       A01E,     584,          1,         12,        B44,2,19910911,       0519,    57.6167,   -28.6350,       2420,   997.0,   4.6041,  34.9575,2,  34.9590,2,   254.3,2,   11.82,2,   18.57,2,    0.00,2,    1.20,2,   2.042,2,   0.962,2,  -999.0,9,  -999.0,9,   1.704,2,   1.8071,2,    7.15,2,-999.000,  -999.0,9,  -999.0,  1002.9,   0.0072,   0.280,     4.5233,   0.034
   06MT18_1,       A01E,     584,          1,         11,        B46,2,19910911,       0519,    57.6167,   -28.6350,       2420,  1199.7,   3.9986,  34.9205,2,  34.9210,2,   268.0,2,   11.53,2,   18.18,2,    0.00,2,    1.18,2,   1.930,2,   0.901,2,  -999.0,9,  -999.0,9,-999.000,9,-999.0000,9, -999.00,9,   3.999,  -999.0,9,  -999.0,  1205.6,-999.0000,-999.000,     3.9052,-999.000
   06MT18_1,       A01E,     584,          1,         10,        B45,2,19910911,       0519,    57.6167,   -28.6350,       2420,  1378.5,   3.7988,  34.9119,2,  34.9130,2,   277.3,2,   11.53,2,   17.88,2,    0.00,2,    1.17,2,   1.864,2,   0.876,2,  -999.0,9,  -999.0,9,-999.000,9,-999.0000,9, -999.00,9,-999.000,   -19.0,2,     5.0,  1384.1,-999.0000,-999.000,     3.6918,-999.000
   06MT18_1,       A01E,     584,          1,          9,        B40,4,19910911,       0519,    57.6167,   -28.6350,       2420,  1378.5,-999.0000,-999.0000,9,  34.9130,2,   274.0,4,   11.43,3,   17.88,2,    0.00,2,    1.16,2,   1.863,2,   0.875,2,  -999.0,9,  -999.0,9,   1.676,2,   1.7995,2,    7.98,2,   3.804,  -999.0,9,  -999.0,  1384.1,   0.0072,   0.200,     -999.0,   0.028
   06MT18_1,       A01E,     584,          1,          8,        B52,2,19910911,       0519,    57.6167,   -28.6350,       2420,  1796.8,   3.5839,  34.9475,2,  34.9480,2,   275.3,2,   11.92,2,   17.20,2,    0.00,2,    1.13,2,   1.427,2,   0.673,2,  -999.0,9,  -999.0,9,-999.000,9,-999.0000,9, -999.00,9,-999.000,  -999.0,9,  -999.0,  1801.0,-999.0000,-999.000,     3.4417,-999.000
   06MT18_1,       A01E,     584,          1,          7,        B37,2,19910911,       0519,    57.6167,   -28.6350,       2420,  1997.8,   3.3571,  34.9584,2,  34.9600,2,   273.9,2,   13.19,2,   17.20,2,    0.00,2,    1.13,2,   1.183,2,   0.560,2,  -999.0,9,  -999.0,9,   1.198,2,   1.8093,2,    6.67,2,   3.358,  -999.0,9,  -999.0,  2001.1,   0.0072,   0.160,     3.1994,   0.024
   06MT18_1,       A01E,     584,          1,          6,        B49,2,19910911,       0519,    57.6167,   -28.6350,       2420,  2193.3,   3.1243,  34.9780,2,  34.9770,2,   276.4,2,   13.00,2,   16.51,2,    0.00,2,    1.09,2,   1.653,2,   0.776,2,  -999.0,9,  -999.0,9,-999.000,9,-999.0000,9, -999.00,9,-999.000,  -999.0,9,  -999.0,  2195.6,-999.0000,-999.000,     2.9517,-999.000
   06MT18_1,       A01E,     584,          1,          5,        B51,2,19910911,       0519,    57.6167,   -28.6350,       2420,  2247.2,   3.0774,  34.9794,2,  34.9800,2,   277.1,2,   12.60,2,   16.42,2,    0.00,2,    1.08,2,-999.000,9,-999.000,9,  -999.0,9,  -999.0,9,-999.000,9,-999.0000,9, -999.00,9,   3.081,  -999.0,9,  -999.0,  2249.2,-999.0000,-999.000,     2.9004,-999.000
   06MT18_1,       A01E,     584,          1,          4,        K30,2,19910911,       0519,    57.6167,   -28.6350,       2420,  2299.6,   2.9375,  34.9785,2,  34.9780,2,   276.6,2,   13.48,2,   16.51,2,    0.00,2,    1.09,2,   1.666,2,   0.780,2,  -999.0,9,  -999.0,9,   1.305,2,   1.8190,2,    6.22,2,-999.000,  -999.0,9,  -999.0,  2301.3,   0.0073,   0.410,     2.7579,   0.028
   06MT18_1,       A01E,     584,          1,          3,        K22,2,19910911,       0519,    57.6167,   -28.6350,       2420,  2348.6,   2.9035,  34.9793,2,  34.9800,3,   276.9,2,   13.29,2,   16.42,2,    0.00,2,    1.08,2,-999.000,9,-999.000,9,  -999.0,9,  -999.0,9,-999.000,9,-999.0000,9, -999.00,9,   2.905,  -999.0,9,  -999.0,  2350.1,-999.0000,-999.000,     2.7198,-999.000
   06MT18_1,       A01E,     584,          1,          2,        K31,2,19910911,       0519,    57.6167,   -28.6350,       2420,  2399.9,   2.8505,  34.9765,2,  34.9770,2,   276.5,2,   14.27,2,   16.51,2,    0.00,2,    1.09,2,-999.000,9,-999.000,9,  -999.0,9,  -999.0,9,-999.000,9,-999.0000,9, -999.00,9,-999.000,  -999.0,9,  -999.0,  2401.1,-999.0000,-999.000,     2.6628,-999.000
   06MT18_1,       A01E,     584,          1,          1,        B50,2,19910911,       0519,    57.6167,   -28.6350,       2420,  2419.1,   2.8515,  34.9772,2,  34.9770,2,   275.7,2,   14.27,2,   16.51,2,    0.00,2,    1.09,2,   1.633,2,   0.769,2,  -999.0,9,  -999.0,9,   1.296,2,   1.8046,2,    5.73,2,   2.852,   -29.0,3,     4.0,  2420.2,   0.0072,   0.160,     2.6620,   0.022
   06MT18_1,       A01E,     585,          1,         24,        B41,2,19910911,       1321,    57.3700,   -28.1583,       2645,    17.3,  12.0559,  34.9053,2,  34.9110,2,   278.6,2,    0.98,2,    2.74,2,    0.12,2,    0.25,2,   3.376,2,   1.666,2,  2050.9,2,  -999.0,9,-999.000,9,-999.0000,9, -999.00,9,-999.000,  -999.0,9,  -999.0,    18.4,-999.0000,-999.000,    12.0537,-999.000
   06MT18_1,       A01E,     585,          1,         23,        K23,2,19910911,       1321,    57.3700,   -28.1583,       2645,    34.4,  11.0229,  34.9583,2,  34.9610,2,   271.8,2,    2.25,2,    5.28,2,    0.17,2,    0.45,2,   3.487,2,   1.726,2,  2074.9,2,  -999.0,9,-999.000,9,-999.0000,9, -999.00,9,-999.000,  -999.0,9,  -999.0,    35.7,-999.0000,-999.000,    11.0187,-999.000
   06MT18_1,       A01E,     585,          1,         22,         K3,2,19910911,       1321,    57.3700,   -28.1583,       2645,    65.1,   8.7122,  34.9683,2,  35.0000,2,   259.8,2,    5.76,2,   13.19,2,    0.03,2,    0.87,2,   3.726,2,   1.800,2,  2124.5,2,  -999.0,9,-999.000,9,-999.0000,9, -999.00,9,-999.000,  -999.0,9,  -999.0,    66.7,-999.0000,-999.000,     8.7053,-999.000
   06MT18_1,       A01E,     585,          1,         21,        B35,2,19910911,       1321,    57.3700,   -28.1583,       2645,    95.0,   7.9839,  35.0357,2,  35.0370,2,   260.6,2,    7.82,2,   15.05,2,    0.03,2,    0.98,2,   3.486,2,   1.687,2,  2138.7,2,  -999.0,9,-999.000,9,-999.0000,9, -999.00,9,-999.000,  -999.0,9,  -999.0,    96.9,-999.0000,-999.000,     7.9743,-999.000
   06MT18_1,       A01E,     585,          1,         20,        B48,2,19910911,       1321,    57.3700,   -28.1583,       2645,   144.7,   7.3476,  34.9785,2,  34.9820,2,   263.8,2,    8.50,2,   15.73,2,    0.02,2,    1.04,2,-999.000,9,-999.000,9,  2140.1,2,  -999.0,9,-999.000,9,-999.0000,9, -999.00,9,-999.000,  -999.0,9,  -999.0,   147.0,-999.0000,-999.000,     7.3337,-999.000
   06MT18_1,       A01E,     585,          1,         19,        B36,2,19910911,       1321,    57.3700,   -28.1583,       2645,   195.7,   7.3985,  35.0430,2,  35.0450,2,   265.7,2,    8.11,2,   15.53,2,    0.01,2,    1.01,2,   3.537,2,   1.705,2,  2140.2,2,  -999.0,9,   2.015,2,   1.7627,2,    0.13,2,-999.000,  -999.0,9,  -999.0,   198.4,   0.0071,   0.280,     7.3796,   0.049
   06MT18_1,       A01E,     585,          1,         18,        B40,2,19910911,       1321,    57.3700,   -28.1583,       2645,   295.1,   6.8131,  35.0181,2,  35.0190,2,   260.0,2,    9.18,2,   16.51,2,    0.01,2,    1.07,2,-999.000,9,-999.000,9,  2147.8,2,  -999.0,9,-999.000,9,-999.0000,9, -999.00,9,   6.810,  -999.0,9,  -999.0,   298.6,-999.0000,-999.000,     6.7857,-999.000
   06MT18_1,       A01E,     585,          1,         17,        K17,2,19910911,       1321,    57.3700,   -28.1583,       2645,   396.7,   6.2896,  34.9987,2,  34.9980,2,   254.1,2,    9.97,2,   17.49,2,    0.01,2,    1.14,2,   3.017,2,   1.451,2,  2155.4,2,  -999.0,9,   1.869,2,   1.7774,2,    2.38,2,-999.000,  -999.0,9,  -999.0,   400.9,   0.0071,   0.210,     6.2540,   0.028
   06MT18_1,       A01E,     585,          1,         16,         K7,2,19910911,       1321,    57.3700,   -28.1583,       2645,   469.4,   6.1357,  35.0185,2,  35.0190,2,   245.7,2,   10.65,2,   18.17,2,    0.01,2,    1.18,2,-999.000,9,-999.000,9,  2159.6,2,  -999.0,9,-999.000,9,-999.0000,9, -999.00,9,   6.133,  -999.0,9,  -999.0,   474.0,-999.0000,-999.000,     6.0939,-999.000
   06MT18_1,       A01E,     585,          1,         15,        B39,2,19910911,       1321,    57.3700,   -28.1583,       2645,   570.4,   5.7511,  35.0079,2,  35.0080,2,   245.1,2,   10.94,2,   18.46,2,    0.01,2,    1.21,2,   2.498,2,   1.189,2,  2163.5,2,  -999.0,9,   1.778,2,   1.7802,2,    4.70,2,-999.000,  -999.0,9,  -999.0,   575.4,   0.0071,   0.170,     5.7016,   0.025
   06MT18_1,       A01E,     585,          1,         14,        B42,2,19910911,       1321,    57.3700,   -28.1583,       2645,   770.6,   4.8149,  34.9671,2,  34.9680,2,   248.6,2,   11.53,2,   18.86,2,    0.01,2,    1.22,2,-999.000,9,-999.000,9,  2163.1,2,  -999.0,9,-999.000,9,-999.0000,9, -999.00,9,-999.000,  -999.0,9,  -999.0,   776.3,-999.0000,-999.000,     4.7525,-999.000
   06MT18_1,       A01E,     585,          1,         13,         K9,2,19910911,       1321,    57.3700,   -28.1583,       2645,   971.8,   4.1545,  34.9280,2,  34.9290,2,   262.8,2,   11.43,2,   18.47,2,    0.01,2,    1.20,2,   2.011,2,   0.937,2,  2157.8,2,  -999.0,9,   1.707,2,   1.7908,2,    7.42,2,-999.000,  -999.0,9,  -999.0,   977.7,   0.0072,   0.170,     4.0793,   0.028
   06MT18_1,       A01E,     585,          1,         12,        B50,2,19910911,       1321,    57.3700,   -28.1583,       2645,  1174.6,   3.8327,  34.9121,2,  34.9120,2,   272.6,2,   11.24,2,   17.98,2,    0.01,2,    1.18,2,-999.000,9,-999.000,9,  2150.2,2,  -999.0,9,-999.000,9,-999.0000,9, -999.00,9,   3.835,  -999.0,9,  -999.0,  1180.5,-999.0000,-999.000,     3.7430,-999.000
   06MT18_1,       A01E,     585,          1,         11,        B44,2,19910911,       1321,    57.3700,   -28.1583,       2645,  1377.1,   3.6149,  34.8995,2,  34.8990,2,   278.5,2,   11.24,2,   17.78,2,    0.01,2,    1.16,2,   1.811,2,   0.853,2,  2151.3,2,  -999.0,9,   1.666,2,   1.7995,2,    8.03,2,-999.000,  -999.0,9,  -999.0,  1382.7,   0.0072,   0.220,     3.5100,   0.027
   06MT18_1,       A01E,     585,          1,         10,        K19,2,19910911,       1321,    57.3700,   -28.1583,       2645,  1578.4,   3.5150,  34.9039,2,  34.9040,2,   279.9,2,   11.33,2,   17.59,2,    0.01,2,    1.16,2,-999.000,9,-999.000,9,  2150.5,2,  -999.0,9,-999.000,9,-999.0000,9, -999.00,9,   3.522,  -999.0,9,  -999.0,  1583.4,-999.0000,-999.000,     3.3935,-999.000
   06MT18_1,       A01E,     585,          1,          9,        B45,2,19910911,       1321,    57.3700,   -28.1583,       2645,  1780.8,   3.5050,  34.9259,2,  34.9270,2,   279.3,2,   11.92,2,   17.49,2,    0.01,2,    1.15,2,   1.252,2,   0.592,2,  2152.2,2,  -999.0,9,   1.281,2,   1.7914,2,    7.83,2,-999.000,  -999.0,9,  -999.0,  1785.1,   0.0072,   0.200,     3.3654,   0.025
   06MT18_1,       A01E,     585,          1,          8,        K22,2,19910911,       1321,    57.3700,   -28.1583,       2645,  1984.6,   3.3861,  34.9496,2,  34.9510,2,   274.3,2,   12.90,2,   17.29,2,    0.00,2,    1.14,2,   1.062,2,   0.507,2,  -999.0,9,  -999.0,9,   1.166,2,   1.7979,2,    7.61,2,   3.386,  -999.0,9,  -999.0,  1988.0,   0.0072,   0.170,     3.2292,   0.025
   06MT18_1,       A01E,     585,          1,          7,        B52,2,19910911,       1321,    57.3700,   -28.1583,       2645,  2185.4,   3.1803,  34.9582,2,  34.9600,2,   272.9,2,   14.66,2,   17.39,2,    0.00,2,    1.15,2,   0.993,2,   0.473,2,  2154.5,2,  -999.0,9,   1.052,2,   1.8049,2,    6.76,2,-999.000,  -999.0,9,  -999.0,  2187.8,   0.0072,   0.160,     3.0076,   0.022
   06MT18_1,       A01E,     585,          1,          6,        B51,2,19910911,       1321,    57.3700,   -28.1583,       2645,  2390.4,   2.9105,  34.9665,2,  34.9670,2,   271.2,2,   17.10,2,   17.39,2,    0.00,2,    1.16,2,-999.000,9,-999.000,9,  2160.9,2,  -999.0,9,-999.000,9,-999.0000,9, -999.00,9,-999.000,  -999.0,9,  -999.0,  2391.6,-999.0000,-999.000,     2.7227,-999.000
   06MT18_1,       A01E,     585,          1,          5,        B49,2,19910911,       1321,    57.3700,   -28.1583,       2645,  2441.5,   2.8375,  34.9658,2,  34.9650,2,   271.8,2,   17.78,2,   17.39,2,    0.00,2,    1.16,2,-999.000,9,-999.000,9,  2163.3,2,  -999.0,9,-999.000,9,-999.0000,9, -999.00,9,-999.000,  -999.0,9,  -999.0,  2442.5,-999.0000,-999.000,     2.6461,-999.000
   06MT18_1,       A01E,     585,          1,          4,        B37,2,19910911,       1321,    57.3700,   -28.1583,       2645,  2492.8,   2.7966,  34.9673,2,  34.9670,2,   270.7,2,   17.78,2,   17.49,2,    0.00,2,    1.16,2,   1.180,2,   0.558,2,  2163.7,2,  -999.0,9,   1.121,2,   1.8085,2,    6.12,2,-999.000,  -999.0,9,  -999.0,  2493.5,   0.0072,   0.170,     2.6010,   0.025
   06MT18_1,       A01E,     585,          1,          3,        K30,2,19910911,       1321,    57.3700,   -28.1583,       2645,  2543.2,   2.7706,  34.9713,2,  34.9710,2,   273.3,2,   16.22,2,   17.00,2,    0.00,2,    1.13,2,-999.000,9,-999.000,9,  2162.0,2,  -999.0,9,-999.000,9,-999.0000,9, -999.00,9,-999.000,  -999.0,9,  -999.0,  2543.6,-999.0000,-999.000,     2.5706,-999.000
   06MT18_1,       A01E,     585,          1,          2,        B46,2,19910911,       1321,    57.3700,   -28.1583,       2645,  2594.9,   2.7546,  34.9714,2,  34.9720,2,   274.0,2,   15.73,2,   16.90,2,    0.00,2,    1.13,2,-999.000,9,-999.000,9,  2162.1,2,  -999.0,9,-999.000,9,-999.0000,9, -999.00,9,   2.752,  -999.0,9,  -999.0,  2595.0,-999.0000,-999.000,     2.5498,-999.000
   06MT18_1,       A01E,     585,          1,          1,        K31,2,19910911,       1321,    57.3700,   -28.1583,       2645,  2646.7,   2.7046,  34.9715,2,  34.9720,2,   273.7,2,   16.22,2,   16.90,2,    0.01,2,    1.13,2,   1.555,2,   0.726,2,  2162.1,2,  -999.0,9,   1.290,2,   1.8435,2,    5.92,2,-999.000,  -999.0,9,  -999.0,  2646.5,   0.0074,   0.170,     2.4957,   0.024