BOTTLE,20020919WHPSIOSA
EXPOCODE,SECT_ID,STNNBR,CASTNO,SAMPNO,BTLNBR,BTLNBR_FLAG_W,DATE,TIME,LATITUDE,LONGITUDE,DEPTH,CTDPRS,CTDTMP,CTDSAL,CTDSAL_FLAG_W,SALNTY,SALNTY_FLAG_W,OXYGEN,OXYGEN_FLAG_W,SILCAT,SILCAT_FLAG_W,NITRAT,NITRAT_FLAG_W,NITRIT,NITRIT_FLAG_W,PHSPHT,PHSPHT_FLAG_W,CFC-11,CFC-11_FLAG_W,CFC-12,CFC-12_FLAG_W,TCARBN,TCARBN_FLAG_W,ALKALI,ALKALI_FLAG_W,TRITUM,TRITUM_FLAG_W,HELIUM,HELIUM_FLAG_W,DELHE3,DELHE3_FLAG_W,REVTMP,DELC14,DELC14_FLAG_W,C14ERR,CTDRAW,HELIER,DELHER,THETA,TRITER
,,,,,,,,,,,METERS,DBAR,ITS-90,PSS-78,,PSS-78,,UMOL/KG,,UMOL/KG,,UMOL/KG,,UMOL/KG,,UMOL/KG,,PMOL/KG,,PMOL/KG,,UMOL/KG,,UMOL/KG,,TU,,NMOL/KG,,PERCNT,,ITS-90,/MILLE,,/MILLE,DBAR,NMOL/KG,PERCNT,DEG,TU
   06MT18_1,       A01E,     588,          1,         24,        B41,2,19910912,       0950,    55.9917,   -27.1250,       2819,    69.2,   8.9220,  34.9624,2,  34.9670,2,   249.6,2,    6.15,2,   13.38,2,    0.06,2,    0.89,2,   3.505,2,   1.690,2,  2124.2,2,  -999.0,9,   2.235,2,   1.7595,2,   -0.42,2,-999.000,  -999.0,9,  -999.0,    70.8,   0.0070,   0.170,     8.9146,   0.033
   06MT18_1,       A01E,     588,          1,         23,        K23,2,19910912,       0950,    55.9917,   -27.1250,       2819,   105.3,   8.1258,  35.0207,2,  35.0230,2,   250.9,2,    7.72,2,   15.34,2,    0.02,2,    1.00,2,   3.283,2,   1.592,2,  2138.0,2,  2392.0,2,-999.000,9,-999.0000,9, -999.00,9,-999.000,  -999.0,9,  -999.0,   107.3,-999.0000,-999.000,     8.1151,-999.000
   06MT18_1,       A01E,     588,          1,         22,         K3,2,19910912,       0950,    55.9917,   -27.1250,       2819,   105.3,   8.1088,  35.0193,2,  35.0220,2,   251.7,2,    7.72,2,   15.34,2,    0.02,2,    1.01,2,   3.298,2,   1.607,2,  -999.0,9,  2392.0,2,-999.000,9,-999.0000,9, -999.00,9,-999.000,  -999.0,9,  -999.0,   107.3,-999.0000,-999.000,     8.0981,-999.000
   06MT18_1,       A01E,     588,          1,         21,        B35,4,19910912,       0950,    55.9917,   -27.1250,       2819,   105.3,-999.0000,-999.0000,9,  35.0240,2,   251.2,2,    7.72,2,   15.43,3,    0.02,2,    1.01,2,   3.272,2,   1.601,2,  -999.0,9,  2355.0,2,   2.182,2,   1.7623,2,   -0.30,2,-999.000,  -999.0,9,  -999.0,   107.3,   0.0070,   0.210,     -999.0,   0.028
   06MT18_1,       A01E,     588,          1,         20,        B48,2,19910912,       0950,    55.9917,   -27.1250,       2819,   307.3,   5.7531,  34.8592,2,  34.8670,2,   255.4,2,    9.87,2,   17.78,2,    0.00,2,    1.16,2,   3.224,2,   1.541,2,  2150.8,2,  2363.0,2,   1.908,2,   1.7864,2,    1.70,2,-999.000,  -999.0,9,  -999.0,   310.9,   0.0071,   0.180,     5.7271,   0.029
   06MT18_1,       A01E,     588,          1,         19,        B36,2,19910912,       0950,    55.9917,   -27.1250,       2819,   409.3,   5.4653,  34.9185,2,  34.9180,2,   246.0,2,   10.75,2,   18.66,2,    0.00,2,    1.22,2,   2.706,2,   1.285,2,  2159.3,2,  -999.0,9,-999.000,5,   1.7855,2,   -9.00,2,-999.000,  -999.0,9,  -999.0,   413.5,   0.0071,-999.000,     5.4312,-999.000
   06MT18_1,       A01E,     588,          1,         18,        B40,2,19910912,       0950,    55.9917,   -27.1250,       2819,   508.2,   5.0757,  34.9360,2,  34.9390,2,   246.7,2,   11.04,2,   18.85,2,    0.00,2,    1.24,2,   2.504,2,   1.178,2,  2162.8,2,  2375.0,2,   1.767,2,   1.7923,2,    4.74,2,-999.000,  -999.0,9,  -999.0,   512.9,   0.0072,   0.170,     5.0345,   0.029
   06MT18_1,       A01E,     588,          1,         17,        K17,2,19910912,       0950,    55.9917,   -27.1250,       2819,   611.0,   4.6520,  34.9300,2,  34.9320,2,   253.4,2,   11.23,2,   18.76,2,    0.00,2,    1.24,2,   2.383,2,   1.122,2,  2161.6,2,  -999.0,9,   1.699,2,   1.7915,2,    5.44,2,-999.000,  -999.0,9,  -999.0,   616.2,   0.0072,   0.220,     4.6040,   0.035
   06MT18_1,       A01E,     588,          1,         16,         K7,2,19910912,       0950,    55.9917,   -27.1250,       2819,   709.2,   4.4142,  34.9355,2,  34.9370,2,   255.7,2,   11.23,2,   18.66,2,    0.00,2,    1.23,2,   2.183,2,   1.014,2,  2161.4,2,  -999.0,9,   1.720,2,   1.7937,2,    6.84,2,-999.000,  -999.0,9,  -999.0,   714.7,   0.0072,   0.180,     4.3593,   0.026
   06MT18_1,       A01E,     588,          1,         15,        B39,2,19910912,       0950,    55.9917,   -27.1250,       2819,   711.8,   4.4142,  34.9365,2,  34.9360,2,   255.9,2,   11.43,3,   18.66,2,    0.00,2,    1.23,2,   2.159,2,   1.015,2,  2161.0,2,  2374.0,2,   1.700,2,   1.7992,2,    6.51,2,-999.000,  -999.0,9,  -999.0,   717.3,   0.0072,   0.200,     4.3591,   0.036
   06MT18_1,       A01E,     588,          1,         14,        B42,4,19910912,       0950,    55.9917,   -27.1250,       2819,   711.8,-999.0000,-999.0000,9,  34.9360,2,   255.8,2,   11.23,2,   18.85,4,    0.00,2,    1.24,2,-999.000,9,-999.000,9,  -999.0,9,  -999.0,9,-999.000,9,-999.0000,9, -999.00,9,-999.000,  -999.0,9,  -999.0,   717.3,-999.0000,-999.000,     -999.0,-999.000
   06MT18_1,       A01E,     588,          1,         13,         K9,2,19910912,       0950,    55.9917,   -27.1250,       2819,   908.7,   3.9716,  34.9126,2,  34.9130,2,   267.3,2,   11.04,2,   18.27,2,    0.00,2,    1.22,2,-999.000,9,-999.000,9,  2157.0,2,  -999.0,9,-999.000,9,-999.0000,9, -999.00,9,-999.000,  -999.0,9,  -999.0,   914.6,-999.0000,-999.000,     3.9030,-999.000
   06MT18_1,       A01E,     588,          1,         12,        B50,2,19910912,       0950,    55.9917,   -27.1250,       2819,  1004.8,   3.8457,  34.9053,2,  34.9060,2,   271.2,2,   10.84,2,   18.07,2,    0.00,2,    1.21,2,   2.060,2,   0.972,2,  2156.0,2,  2352.0,2,-999.000,9,-999.0000,9, -999.00,9,-999.000,   -18.0,2,     5.0,  1010.7,-999.0000,-999.000,     3.7702,-999.000
   06MT18_1,       A01E,     588,          1,         11,        B44,2,19910912,       0950,    55.9917,   -27.1250,       2819,  1098.9,   3.7338,  34.9034,2,  34.9060,2,   271.0,2,   10.84,2,   18.17,2,    0.00,2,    1.21,2,-999.000,9,-999.000,9,  2156.2,2,  -999.0,9,-999.000,9,-999.0000,9, -999.00,9,-999.000,  -999.0,9,  -999.0,  1104.8,-999.0000,-999.000,     3.6514,-999.000
   06MT18_1,       A01E,     588,          1,         10,        K19,2,19910912,       0950,    55.9917,   -27.1250,       2819,  1301.3,   3.5370,  34.8928,2,  34.8920,2,   280.1,2,   10.94,2,   17.68,2,    0.00,2,    1.19,2,   1.911,2,   0.899,2,  2152.1,2,  -999.0,9,   1.685,2,   1.7917,2,    7.36,2,-999.000,  -999.0,9,  -999.0,  1307.0,   0.0072,   0.200,     3.4394,   0.030
   06MT18_1,       A01E,     588,          1,          9,        B45,2,19910912,       0950,    55.9917,   -27.1250,       2819,  1504.8,   3.4760,  34.8996,2,  34.8990,2,   280.4,2,   11.04,2,   17.59,2,    0.00,2,    1.17,2,   1.622,2,   0.773,2,  2150.9,2,  2360.0,2,   1.525,2,   1.8210,2,    7.84,2,-999.000,  -999.0,9,  -999.0,  1510.0,   0.0073,   0.200,     3.3615,   0.033
   06MT18_1,       A01E,     588,          1,          8,        K22,2,19910912,       0950,    55.9917,   -27.1250,       2819,  1708.1,   3.4710,  34.9200,2,  34.9180,2,   277.7,2,   11.72,2,   17.49,2,    0.00,2,    1.19,2,-999.000,9,-999.000,9,  2152.0,2,  -999.0,9,-999.000,9,-999.0000,9, -999.00,9,-999.000,  -999.0,9,  -999.0,  1712.7,-999.0000,-999.000,     3.3384,-999.000
   06MT18_1,       A01E,     588,          1,          7,        B52,2,19910912,       0950,    55.9917,   -27.1250,       2819,  1911.5,   3.4251,  34.9400,2,  34.9410,2,   274.9,2,   12.31,2,   17.49,2,    0.00,2,    1.19,2,   1.059,2,   0.513,2,  2152.5,2,  2368.0,2,   1.144,2,   1.8048,2,    7.65,2,-999.000,   -36.0,2,     5.0,  1915.2,   0.0072,   0.280,     3.2745,   0.026
   06MT18_1,       A01E,     588,          1,          6,        B51,2,19910912,       0950,    55.9917,   -27.1250,       2819,  2112.3,   3.3252,  34.9528,2,  34.9530,2,   272.8,2,   12.99,2,   17.29,2,    0.00,2,    1.18,2,   1.035,2,   0.496,2,  2153.9,2,  -999.0,9,   1.066,2,   1.8000,2,    7.16,2,-999.000,  -999.0,9,  -999.0,  2115.0,   0.0072,   0.210,     3.1572,   0.021
   06MT18_1,       A01E,     588,          1,          5,        B49,2,19910912,       0950,    55.9917,   -27.1250,       2819,  2311.8,   3.1613,  34.9614,2,  34.9620,2,   272.8,2,   14.17,2,   17.29,2,    0.00,2,    1.18,2,   1.050,2,   0.504,2,  2157.2,2,  -999.0,9,   1.079,2,   1.8021,2,    6.86,2,-999.000,  -999.0,9,  -999.0,  2313.5,   0.0072,   0.230,     2.9768,   0.022
   06MT18_1,       A01E,     588,          1,          4,        B37,2,19910912,       0950,    55.9917,   -27.1250,       2819,  2520.3,   2.9225,  34.9624,2,  34.9620,2,   269.6,2,   17.78,2,   17.58,2,    0.00,2,    1.22,2,-999.000,9,-999.000,9,  2163.0,2,  2378.0,2,-999.000,9,-999.0000,9, -999.00,9,-999.000,  -999.0,9,  -999.0,  2520.8,-999.0000,-999.000,     2.7219,-999.000
   06MT18_1,       A01E,     588,          1,          3,        K30,2,19910912,       0950,    55.9917,   -27.1250,       2819,  2623.8,   2.8395,  34.9627,2,  34.9620,2,   268.7,2,   18.95,2,   17.68,2,    0.00,2,    1.24,2,-999.000,9,-999.000,9,  2165.4,2,  -999.0,9,-999.000,9,-999.0000,9, -999.00,9,-999.000,  -999.0,9,  -999.0,  2623.7,-999.0000,-999.000,     2.6303,-999.000
   06MT18_1,       A01E,     588,          1,          2,        B46,2,19910912,       0950,    55.9917,   -27.1250,       2819,  2723.6,   2.7916,  34.9663,2,  34.9670,2,   270.9,2,   17.78,2,   17.39,2,    0.00,2,    1.21,2,   1.251,2,   0.612,2,  2163.7,2,  -999.0,9,   1.166,2,   1.8134,2,    6.20,2,-999.000,  -999.0,9,  -999.0,  2723.0,   0.0073,   0.180,     2.5734,   0.023
   06MT18_1,       A01E,     588,          1,          1,        K31,2,19910912,       0950,    55.9917,   -27.1250,       2819,  2831.7,   2.7326,  34.9696,2,-999.0000,9,   272.6,2,   16.80,2,   17.00,2,    0.00,2,    1.19,2,   1.461,2,   0.713,2,  2164.6,2,  2398.0,2,   1.284,2,   1.8167,2,    6.05,2,-999.000,   -39.0,3,     5.0,  2830.5,   0.0073,   0.220,     2.5047,   0.028
   06MT18_1,       A01E,     589,          1,          2,        B46,2,19910912,       1545,    55.5333,   -26.8000,       3194,    28.0,  12.0778,  34.7260,2,  34.7300,2,   264.2,2,    1.27,2,    3.42,4,    0.18,2,    0.44,4,   3.287,2,   1.641,2,  -999.0,9,  -999.0,9,   2.261,2,   1.7253,2,   -1.57,2,  12.097,  -999.0,9,  -999.0,    29.2,   0.0069,   0.170,    12.0742,   0.029
   06MT18_1,       A01E,     589,          1,          1,        K31,4,19910912,       1545,    55.5333,   -26.8000,       3194,    28.0,-999.0000,-999.0000,9,  34.7270,2,   264.5,2,    1.07,2,    3.42,4,    0.17,2,    0.42,4,   3.289,2,   1.637,2,  -999.0,9,  -999.0,9,-999.000,9,-999.0000,9, -999.00,9,-999.000,  -999.0,9,  -999.0,    29.2,-999.0000,-999.000,     -999.0,-999.000
   06MT18_1,       A01E,     589,          1,         24,        B41,2,19910912,       1545,    55.5333,   -26.8000,       3194,    98.5,   7.1937,  34.8585,2,  34.8630,2,   254.6,2,    8.99,2,   16.80,4,    0.02,2,    1.13,4,   3.499,2,   1.707,2,  -999.0,9,  -999.0,9,   2.194,2,-999.0000,5,   -9.00,5,-999.000,  -999.0,9,  -999.0,   100.4,-999.0000,-999.000,     7.1844,   0.028
   06MT18_1,       A01E,     589,          1,         23,        K23,2,19910912,       1545,    55.5333,   -26.8000,       3194,   188.0,   6.2506,  34.8618,2,  34.8640,2,   250.4,2,   10.55,2,   18.46,4,    0.01,2,    1.23,4,   3.088,2,   1.513,2,  -999.0,9,  -999.0,9,   1.917,2,   1.7966,2,    1.48,2,-999.000,  -999.0,9,  -999.0,   190.7,   0.0072,   0.220,     6.2341,   0.038
   06MT18_1,       A01E,     589,          1,         22,         K3,2,19910912,       1545,    55.5333,   -26.8000,       3194,   286.4,   6.3455,  34.9956,2,  34.9940,2,   235.5,2,   11.14,2,   19.44,4,    0.00,2,    1.29,4,   2.485,2,   1.205,2,  -999.0,9,  -999.0,9,-999.000,5,   1.7872,2,    3.50,2,-999.000,  -999.0,9,  -999.0,   289.8,   0.0071,   0.180,     6.3199,-999.000
   06MT18_1,       A01E,     589,          1,         21,        B35,2,19910912,       1545,    55.5333,   -26.8000,       3194,   383.1,   6.0867,  35.0415,2,  35.0370,2,   233.0,2,   11.72,2,   19.83,4,    0.00,2,    1.31,4,   2.157,2,   1.037,2,  -999.0,9,  -999.0,9,   1.756,2,   1.7885,2,    5.63,2,-999.000,  -999.0,9,  -999.0,   387.2,   0.0072,   0.180,     6.0530,   0.046
   06MT18_1,       A01E,     589,          1,         20,        B48,2,19910912,       1545,    55.5333,   -26.8000,       3194,   480.4,   5.5073,  35.0277,2,  35.0250,2,   237.0,2,   11.92,2,   20.02,4,    0.00,2,    1.32,4,   1.947,2,   0.926,2,  -999.0,9,  -999.0,9,   1.624,2,   1.7944,2,    6.76,2,-999.000,  -999.0,9,  -999.0,   485.0,   0.0072,   0.170,     5.4668,   0.039
   06MT18_1,       A01E,     589,          1,         19,        B36,2,19910912,       1545,    55.5333,   -26.8000,       3194,   584.7,   4.8698,  34.9838,2,  34.9850,2,   246.8,2,   12.21,2,   19.83,4,    0.00,2,    1.31,4,   1.942,2,   0.930,2,  -999.0,9,  -999.0,9,-999.000,9,-999.0000,9, -999.00,9,-999.000,  -999.0,9,  -999.0,   589.8,-999.0000,-999.000,     4.8230,-999.000
   06MT18_1,       A01E,     589,          1,         18,        B40,2,19910912,       1545,    55.5333,   -26.8000,       3194,   584.8,   4.8688,  34.9836,2,  34.9840,2,   246.7,2,   12.11,2,   19.83,4,    0.00,2,    1.31,4,   1.932,2,   0.923,2,  -999.0,9,  -999.0,9,-999.000,9,-999.0000,9, -999.00,9,   4.879,  -999.0,9,  -999.0,   589.9,-999.0000,-999.000,     4.8220,-999.000
   06MT18_1,       A01E,     589,          1,         17,        K17,4,19910912,       1545,    55.5333,   -26.8000,       3194,   584.8,-999.0000,-999.0000,9,  34.9830,2,   247.1,2,   11.82,4,   19.83,4,    0.00,2,    1.31,4,   1.938,2,   0.912,2,  -999.0,9,  -999.0,9,   1.671,2,   1.7985,2,    6.99,2,-999.000,  -999.0,9,  -999.0,   589.9,   0.0072,   0.160,     -999.0,   0.037
   06MT18_1,       A01E,     589,          1,         16,         K7,2,19910912,       1545,    55.5333,   -26.8000,       3194,  1194.6,   3.5899,  34.8977,2,  34.8970,2,   278.1,2,   11.53,2,   18.66,4,    0.00,2,    1.24,4,   1.930,2,   0.874,2,  -999.0,9,  -999.0,9,   1.587,2,   1.8047,2,    7.60,2,-999.000,  -999.0,9,  -999.0,  1200.5,   0.0072,   0.280,     3.5007,   0.037
   06MT18_1,       A01E,     589,          1,         15,        B39,2,19910912,       1545,    55.5333,   -26.8000,       3194,  1380.6,   3.4211,  34.8839,2,  34.8840,2,   283.5,2,   11.33,2,   18.46,4,    0.00,2,    1.24,4,-999.000,9,-999.000,9,  -999.0,9,  -999.0,9,-999.000,9,-999.0000,9, -999.00,9,-999.000,  -999.0,9,  -999.0,  1386.2,-999.0000,-999.000,     3.3179,-999.000
   06MT18_1,       A01E,     589,          1,         14,        B42,2,19910912,       1545,    55.5333,   -26.8000,       3194,  1695.7,   3.4071,  34.9080,2,-999.0000,9,   284.0,2,   11.33,2,   18.46,4,    0.00,2,    1.23,4,   2.053,2,   0.966,2,  -999.0,9,  -999.0,9,   1.708,2,   1.7872,2,    6.98,2,-999.000,  -999.0,9,  -999.0,  1700.3,   0.0071,   0.190,     3.2766,   0.040
   06MT18_1,       A01E,     589,          1,         13,         K9,2,19910912,       1545,    55.5333,   -26.8000,       3194,  1783.5,   3.4171,  34.9152,2,  34.9080,3,   278.4,2,   12.50,2,   18.46,4,    0.00,2,    1.23,4,-999.000,9,-999.000,9,  -999.0,9,  -999.0,9,-999.000,9,-999.0000,9, -999.00,9,-999.000,  -999.0,9,  -999.0,  1787.8,-999.0000,-999.000,     3.2784,-999.000
   06MT18_1,       A01E,     589,          1,         12,        B50,2,19910912,       1545,    55.5333,   -26.8000,       3194,  1985.9,   3.3791,  34.9324,2,  34.9320,2,   275.2,2,   13.29,2,   18.37,4,    0.00,2,    1.24,4,   1.003,2,   0.484,2,  -999.0,9,  -999.0,9,-999.000,9,-999.0000,9, -999.00,9,-999.000,  -999.0,9,  -999.0,  1989.3,-999.0000,-999.000,     3.2222,-999.000
   06MT18_1,       A01E,     589,          1,         11,        B44,4,19910912,       1545,    55.5333,   -26.8000,       3194,  1985.9,-999.0000,-999.0000,9,  34.9320,2,   275.1,2,   13.29,2,   18.46,4,    0.00,2,    1.27,4,   1.008,2,   0.486,2,  -999.0,9,  -999.0,9,-999.000,9,-999.0000,9, -999.00,9,-999.000,  -999.0,9,  -999.0,  1989.3,-999.0000,-999.000,     -999.0,-999.000
   06MT18_1,       A01E,     589,          1,         10,        K19,2,19910912,       1545,    55.5333,   -26.8000,       3194,  2391.9,   3.1423,  34.9546,2,  34.9530,2,   272.9,2,   15.43,2,   18.17,4,    0.00,2,    1.27,4,-999.000,9,-999.000,9,  -999.0,9,  -999.0,9,-999.000,9,-999.0000,9, -999.00,9,-999.000,  -999.0,9,  -999.0,  2393.1,-999.0000,-999.000,     2.9503,-999.000
   06MT18_1,       A01E,     589,          1,          9,        B45,2,19910912,       1545,    55.5333,   -26.8000,       3194,  2597.3,   3.0074,  34.9599,2,  34.9580,2,   271.0,2,   17.49,2,   18.46,4,    0.00,2,    1.28,4,   0.919,2,   0.452,2,  -999.0,9,  -999.0,9,   0.980,2,   1.8098,2,    6.63,2,-999.000,  -999.0,9,  -999.0,  2597.4,   0.0072,   0.110,     2.7976,   0.024
   06MT18_1,       A01E,     589,          1,          8,        K22,2,19910912,       1545,    55.5333,   -26.8000,       3194,  2802.2,   2.8655,  34.9573,2,  34.9560,2,   267.2,2,   21.59,2,   19.05,4,    0.00,2,    1.32,4,   0.863,2,   0.416,2,  -999.0,9,  -999.0,9,-999.000,9,-999.0000,9, -999.00,9,-999.000,  -999.0,9,  -999.0,  2801.2,-999.0000,-999.000,     2.6379,-999.000
   06MT18_1,       A01E,     589,          1,          7,        B52,2,19910912,       1545,    55.5333,   -26.8000,       3194,  2963.9,   2.8006,  34.9551,2,  34.9520,2,   265.3,2,   23.74,2,   19.44,4,    0.00,2,    1.34,4,-999.000,9,-999.000,9,  -999.0,9,  -999.0,9,   0.892,2,   1.8201,2,    5.47,2,-999.000,  -999.0,9,  -999.0,  2962.0,   0.0073,   0.140,     2.5578,   0.024
   06MT18_1,       A01E,     589,          1,          6,        B51,2,19910912,       1545,    55.5333,   -26.8000,       3194,  3062.5,   2.7686,  34.9542,2,  34.9550,2,   264.5,2,   24.62,2,   19.44,4,    0.00,2,    1.35,4,   0.888,2,   0.430,2,  -999.0,9,  -999.0,9,-999.000,9,-999.0000,9, -999.00,9,-999.000,  -999.0,9,  -999.0,  3060.1,-999.0000,-999.000,     2.5163,-999.000
   06MT18_1,       A01E,     589,          1,          5,        B49,2,19910912,       1545,    55.5333,   -26.8000,       3194,  3110.5,   2.7636,  34.9559,2,  34.9550,2,   265.5,2,   23.84,2,   19.24,4,    0.00,2,    1.33,4,-999.000,9,-999.000,9,  -999.0,9,  -999.0,9,-999.000,9,-999.0000,9, -999.00,9,-999.000,  -999.0,9,  -999.0,  3107.9,-999.0000,-999.000,     2.5063,-999.000
   06MT18_1,       A01E,     589,          1,          4,        B37,2,19910912,       1545,    55.5333,   -26.8000,       3194,  3164.7,   2.7596,  34.9612,2,  34.9590,2,   267.3,2,   22.57,2,   18.85,4,    0.00,2,    1.29,4,   1.120,2,   0.537,2,  -999.0,9,  -999.0,9,   1.078,2,   1.8104,2,    5.82,2,-999.000,  -999.0,9,  -999.0,  3161.8,   0.0072,   0.180,     2.4967,   0.021
   06MT18_1,       A01E,     589,          1,          3,        K30,2,19910912,       1545,    55.5333,   -26.8000,       3194,  3214.9,   2.7636,  34.9622,2,  34.9630,2,   268.1,2,   21.69,2,   18.66,4,    0.00,2,    1.28,4,   1.209,2,   0.572,2,  -999.0,9,  -999.0,9,   1.074,2,   1.8590,3,    6.09,2,-999.000,  -999.0,9,  -999.0,  3211.8,   0.0074,   0.180,     2.4953,   0.032