BOTTLE,20020919WHPSIOSA
EXPOCODE,SECT_ID,STNNBR,CASTNO,SAMPNO,BTLNBR,BTLNBR_FLAG_W,DATE,TIME,LATITUDE,LONGITUDE,DEPTH,CTDPRS,CTDTMP,CTDSAL,CTDSAL_FLAG_W,SALNTY,SALNTY_FLAG_W,OXYGEN,OXYGEN_FLAG_W,SILCAT,SILCAT_FLAG_W,NITRAT,NITRAT_FLAG_W,NITRIT,NITRIT_FLAG_W,PHSPHT,PHSPHT_FLAG_W,CFC-11,CFC-11_FLAG_W,CFC-12,CFC-12_FLAG_W,TCARBN,TCARBN_FLAG_W,ALKALI,ALKALI_FLAG_W,TRITUM,TRITUM_FLAG_W,HELIUM,HELIUM_FLAG_W,DELHE3,DELHE3_FLAG_W,REVTMP,DELC14,DELC14_FLAG_W,C14ERR,CTDRAW,HELIER,DELHER,THETA,TRITER
,,,,,,,,,,,METERS,DBAR,ITS-90,PSS-78,,PSS-78,,UMOL/KG,,UMOL/KG,,UMOL/KG,,UMOL/KG,,UMOL/KG,,PMOL/KG,,PMOL/KG,,UMOL/KG,,UMOL/KG,,TU,,NMOL/KG,,PERCNT,,ITS-90,/MILLE,,/MILLE,DBAR,NMOL/KG,PERCNT,DEG,TU
   06MT18_1,       A01E,     564,          1,         23,        K22,2,19910906,       1138,    59.7867,   -40.2050,       2631,    11.5,   8.3516,  34.7107,2,  34.7150,2,   292.1,2,    2.54,2,    6.64,2,    0.16,2,    0.55,2,   4.127,2,   1.964,2,  2075.4,2,  2354.0,2,   2.212,2,   1.7636,2,   -1.63,2,   8.354,  -999.0,9,  -999.0,    12.5,   0.0071,   0.170,     8.3504,   0.032
   06MT18_1,       A01E,     564,          1,         22,         K3,2,19910906,       1138,    59.7867,   -40.2050,       2631,    31.9,   7.8171,  34.7447,2,  34.7620,2,   292.5,2,    3.22,2,    8.21,2,    0.23,2,    0.66,2,-999.000,9,-999.000,9,  2087.8,2,  2371.0,2,-999.000,9,-999.0000,9, -999.00,9,-999.000,  -999.0,9,  -999.0,    33.1,-999.0000,-999.000,     7.8140,-999.000
   06MT18_1,       A01E,     564,          1,         21,        B35,2,19910906,       1138,    59.7867,   -40.2050,       2631,    66.9,   4.3613,  34.8795,2,  34.8840,2,   291.6,2,    8.99,2,   17.58,2,    0.11,2,    1.13,2,-999.000,9,-999.000,9,  2145.6,2,  2384.0,2,-999.000,9,-999.0000,9, -999.00,9,-999.000,  -999.0,9,  -999.0,    68.5,-999.0000,-999.000,     4.3565,-999.000
   06MT18_1,       A01E,     564,          1,         20,        B37,2,19910906,       1138,    59.7867,   -40.2050,       2631,   107.3,   4.1325,  34.9054,2,  34.9070,2,   292.8,2,    9.38,2,   17.58,2,    0.00,2,    1.13,2,   4.203,2,   1.960,2,  2146.5,2,  2386.0,2,   2.084,2,   1.6803,3,   -0.13,2,   4.130,  -999.0,9,  -999.0,   109.3,   0.0067,   0.220,     4.1249,   0.028
   06MT18_1,       A01E,     564,          1,         19,        B36,2,19910906,       1138,    59.7867,   -40.2050,       2631,   207.0,   3.8267,  34.9033,2,  34.9070,2,   295.0,2,    9.57,2,   17.68,2,    0.00,2,    1.15,2,-999.000,9,-999.000,9,  2147.6,2,  2372.0,2,-999.000,9,-999.0000,9, -999.00,9,-999.000,  -999.0,9,  -999.0,   209.8,-999.0000,-999.000,     3.8124,-999.000
   06MT18_1,       A01E,     564,          1,         18,        B34,2,19910906,       1138,    59.7867,   -40.2050,       2631,   307.9,   3.7018,  34.9006,2,  34.9010,2,   296.1,2,    9.87,2,   17.58,2,    0.00,2,    1.16,2,   3.921,2,   1.839,2,  2147.5,2,  2381.0,2,   1.937,2,-999.0000,5,   -9.00,5,-999.000,  -999.0,9,  -999.0,   311.5,-999.0000,-999.000,     3.6806,   0.031
   06MT18_1,       A01E,     564,          1,         17,         K4,3,19910906,       1138,    59.7867,   -40.2050,       2631,   507.8,   3.4191,  34.8790,2,  34.8810,2,   296.3,2,    9.87,2,   17.58,2,    0.00,2,    1.15,2,   3.601,2,   1.696,2,  2146.6,2,  -999.0,9,-999.000,9,-999.0000,9, -999.00,9,   3.429,  -999.0,9,  -999.0,   512.5,-999.0000,-999.000,     3.3846,-999.000
   06MT18_1,       A01E,     564,          1,         16,        B39,2,19910906,       1138,    59.7867,   -40.2050,       2631,   708.9,   3.3072,  34.8708,2,  34.8720,2,   295.7,2,    9.96,2,   17.49,2,    0.00,2,    1.14,2,   3.349,2,   1.589,2,  2145.2,2,  -999.0,9,   1.990,2,   1.7942,2,    3.02,2,-999.000,  -999.0,9,  -999.0,   714.4,   0.0072,   0.210,     3.2585,   0.026
   06MT18_1,       A01E,     564,          1,         15,        K15,2,19910906,       1138,    59.7867,   -40.2050,       2631,   809.1,   3.2532,  34.8671,2,  34.8680,2,   295.9,2,    9.96,2,   17.39,2,    0.00,2,    1.15,2,-999.000,9,-999.000,9,  2146.9,2,  2394.0,2,-999.000,9,-999.0000,9, -999.00,9,-999.000,  -999.0,9,  -999.0,   814.8,-999.0000,-999.000,     3.1974,-999.000
   06MT18_1,       A01E,     564,          1,         14,         K7,2,19910906,       1138,    59.7867,   -40.2050,       2631,  1010.4,   3.1693,  34.8597,2,  34.8600,2,   298.6,2,    9.96,2,   17.29,2,    0.00,2,    1.15,2,   3.435,2,   1.626,2,  2144.6,2,  -999.0,9,-999.000,9,-999.0000,9, -999.00,9,   3.172,  -999.0,9,  -999.0,  1016.3,-999.0000,-999.000,     3.0987,-999.000
   06MT18_1,       A01E,     564,          1,         13,        B42,2,19910906,       1138,    59.7867,   -40.2050,       2631,  1212.7,   3.0993,  34.8527,2,  34.8540,2,   297.9,2,   10.06,2,   17.19,2,    0.00,2,    1.15,2,   3.275,2,   1.547,2,  2149.3,2,  -999.0,9,   2.005,2,   1.8072,2,    3.28,2,-999.000,  -999.0,9,  -999.0,  1218.5,   0.0072,   0.210,     3.0133,   0.041
   06MT18_1,       A01E,     564,          1,         12,        B44,2,19910906,       1138,    59.7867,   -40.2050,       2631,  1413.9,   3.0883,  34.8570,2,  34.8570,2,   296.7,2,   10.16,2,   17.19,2,    0.00,2,    1.12,2,-999.000,9,-999.000,9,  2146.7,2,  2398.0,2,-999.000,9,-999.0000,9, -999.00,9,-999.000,  -999.0,9,  -999.0,  1419.4,-999.0000,-999.000,     2.9860,-999.000
   06MT18_1,       A01E,     564,          1,         11,        B46,2,19910906,       1138,    59.7867,   -40.2050,       2631,  1615.5,   3.1933,  34.8821,2,  34.8830,2,   289.3,2,   10.45,2,   17.19,2,    0.00,2,    1.14,2,   2.453,2,   1.160,2,  2150.1,2,  2394.0,2,   1.903,2,   1.7978,2,    5.64,2,   3.188,  -999.0,9,  -999.0,  1620.4,   0.0072,   0.180,     3.0725,   0.028
   06MT18_1,       A01E,     564,          1,         10,        B45,2,19910906,       1138,    59.7867,   -40.2050,       2631,  1817.3,   3.2482,  34.9171,2,  34.9170,2,   282.4,2,   11.14,2,   17.00,2,    0.00,2,    1.14,2,-999.000,9,-999.000,9,  2151.8,2,  -999.0,9,-999.000,9,-999.0000,9, -999.00,9,-999.000,  -999.0,9,  -999.0,  1821.4,-999.0000,-999.000,     3.1087,-999.000
   06MT18_1,       A01E,     564,          1,          9,        B52,2,19910906,       1138,    59.7867,   -40.2050,       2631,  2019.9,   3.0923,  34.9241,2,  34.9250,2,   281.2,2,   11.82,2,   17.09,2,    0.00,2,    1.14,2,   1.619,2,   0.762,2,  2150.8,2,  -999.0,9,   1.377,2,   1.8365,2,    6.91,2,-999.000,  -999.0,9,  -999.0,  2023.1,   0.0073,   0.160,     2.9366,   0.022
   06MT18_1,       A01E,     564,          1,          8,        B40,2,19910906,       1138,    59.7867,   -40.2050,       2631,  2222.7,   2.9185,  34.9346,2,  34.9350,2,   279.0,2,   13.19,2,   16.90,2,    0.00,2,    1.15,2,   1.236,2,   0.584,2,  2153.3,2,  -999.0,9,   1.211,2,   1.8230,2,    6.95,2,   2.922,  -999.0,9,  -999.0,  2224.9,   0.0073,   0.420,     2.7466,   0.021
   06MT18_1,       A01E,     564,          1,          7,        B48,2,19910906,       1138,    59.7867,   -40.2050,       2631,  2323.2,   2.7316,  34.9252,2,  34.9270,2,   281.1,2,   13.19,2,   16.70,2,    0.00,2,    1.26,4,-999.000,9,-999.000,9,  2150.5,2,  2406.0,2,-999.000,9,-999.0000,9, -999.00,9,-999.000,  -999.0,9,  -999.0,  2324.8,-999.0000,-999.000,     2.5535,-999.000
   06MT18_1,       A01E,     564,          1,          6,        B49,2,19910906,       1138,    59.7867,   -40.2050,       2631,  2375.4,   2.5727,  34.9103,2,  34.9120,2,   286.6,2,   12.01,2,   16.21,2,    0.00,2,    1.09,2,-999.000,9,-999.000,9,  2151.9,2,  -999.0,9,-999.000,9,-999.0000,9, -999.00,9,-999.000,  -999.0,9,  -999.0,  2376.7,-999.0000,-999.000,     2.3925,-999.000
   06MT18_1,       A01E,     564,          1,          5,        B51,2,19910906,       1138,    59.7867,   -40.2050,       2631,  2425.2,   2.3389,  34.8921,2,  34.8940,2,   292.8,2,   10.45,2,   15.73,2,    0.00,2,    1.07,2,   2.531,2,   1.186,2,  2149.0,2,  -999.0,9,   1.711,2,   1.8345,2,    5.03,2,   2.340,  -999.0,9,  -999.0,  2426.3,   0.0073,   0.140,     2.1583,   0.029
   06MT18_1,       A01E,     564,          1,          4,        K30,2,19910906,       1138,    59.7867,   -40.2050,       2631,  2476.0,   2.2660,  34.9057,2,  34.9070,2,   288.6,2,   12.01,2,   16.02,2,    0.00,2,    1.08,2,-999.000,9,-999.000,9,  2151.4,2,  -999.0,9,-999.000,9,-999.0000,9, -999.00,9,-999.000,  -999.0,9,  -999.0,  2476.8,-999.0000,-999.000,     2.0820,-999.000
   06MT18_1,       A01E,     564,          1,          3,         K1,2,19910906,       1138,    59.7867,   -40.2050,       2631,  2526.6,   2.0451,  34.8947,2,  34.8950,2,   294.3,2,   10.26,2,   15.43,2,    0.00,2,    1.05,2,   2.541,2,   1.189,2,  2145.0,2,  2408.0,2,   1.754,2,   1.8525,2,    5.54,2,-999.000,  -999.0,9,  -999.0,  2527.1,   0.0074,   0.170,     1.8605,   0.029
   06MT18_1,       A01E,     564,          1,          2,        B50,2,19910906,       1138,    59.7867,   -40.2050,       2631,  2577.8,   1.7014,  34.8830,2,  34.8840,2,   300.6,2,    8.99,2,   14.85,2,    0.00,2,    1.03,2,   3.002,2,   1.408,2,  2147.2,2,  -999.0,9,   1.790,2,   1.8335,2,    5.21,2,   1.710,  -999.0,9,  -999.0,  2578.0,   0.0073,   0.410,     1.5187,   0.026
   06MT18_1,       A01E,     564,          1,          1,        K31,2,19910906,       1138,    59.7867,   -40.2050,       2631,  2628.7,   1.6384,  34.8844,2,  34.8850,2,   301.3,2,    9.08,2,   14.85,2,    0.00,2,    1.03,2,   3.016,2,   1.422,2,  2146.9,2,  2405.0,2,   1.817,2,   1.8492,2,    4.63,2,-999.000,  -999.0,9,  -999.0,  2628.6,   0.0074,   0.530,     1.4523,   0.027
   06MT18_1,       A01E,     565,          1,         23,         K1,2,19910906,       1624,    59.7050,   -39.5900,       2807,     9.2,   8.2677,  34.7597,2,  34.7610,2,   295.3,2,    2.44,2,    7.13,2,    0.18,2,    0.57,2,   4.155,2,   1.981,2,  -999.0,9,  -999.0,9,-999.000,9,-999.0000,9, -999.00,9,-999.000,  -999.0,9,  -999.0,    10.2,-999.0000,-999.000,     8.2668,-999.000
   06MT18_1,       A01E,     565,          1,         22,         K3,2,19910906,       1624,    59.7050,   -39.5900,       2807,    29.8,   7.4804,  34.7901,2,  34.7820,2,   295.0,2,    3.52,2,    8.79,2,    0.30,2,    0.70,2,-999.000,9,-999.000,9,  -999.0,9,  -999.0,9,-999.000,9,-999.0000,9, -999.00,9,-999.000,  -999.0,9,  -999.0,    31.0,-999.0000,-999.000,     7.4775,-999.000
   06MT18_1,       A01E,     565,          1,         21,        B35,2,19910906,       1624,    59.7050,   -39.5900,       2807,    58.0,   4.9698,  34.9689,2,  34.9710,2,   269.3,4,    8.69,2,   16.99,2,    0.04,2,    1.15,2,   4.236,2,   1.984,2,  -999.0,9,  -999.0,9,-999.000,9,-999.0000,9, -999.00,9,-999.000,  -999.0,9,  -999.0,    59.5,-999.0000,-999.000,     4.9653,-999.000
   06MT18_1,       A01E,     565,          1,         20,        B48,2,19910906,       1624,    59.7050,   -39.5900,       2807,    96.3,   4.7300,  34.9763,2,  34.9800,2,   289.0,2,    8.88,2,   16.79,2,    0.01,2,    1.14,2,-999.000,9,-999.000,9,  -999.0,9,  -999.0,9,-999.000,9,-999.0000,9, -999.00,9,-999.000,  -999.0,9,  -999.0,    98.2,-999.0000,-999.000,     4.7227,-999.000
   06MT18_1,       A01E,     565,          1,         19,        B36,2,19910906,       1624,    59.7050,   -39.5900,       2807,   195.7,   4.2064,  34.9401,2,  34.9420,2,   290.7,2,    9.08,2,   16.70,2,    0.01,2,    1.14,2,   3.806,2,   1.803,2,  -999.0,9,  -999.0,9,   2.130,2,   1.7956,2,    1.40,2,-999.000,  -999.0,9,  -999.0,   198.4,   0.0072,   0.160,     4.1923,   0.055
   06MT18_1,       A01E,     565,          1,         18,        B34,2,19910906,       1624,    59.7050,   -39.5900,       2807,   345.0,   3.5809,  34.8850,2,  34.8850,2,   294.6,2,    9.57,2,   17.18,2,    0.01,2,    1.18,2,   3.693,2,   1.747,2,  -999.0,9,  -999.0,9,   1.989,2,   1.7964,2,    1.71,2,-999.000,  -999.0,9,  -999.0,   348.8,   0.0072,   0.170,     3.5574,   0.026
   06MT18_1,       A01E,     565,          1,         17,         K4,3,19910906,       1624,    59.7050,   -39.5900,       2807,   496.1,   3.3971,  34.8775,2,  34.8770,2,   299.4,4,    9.47,2,   17.09,2,    0.01,2,    1.17,2,-999.000,9,-999.000,9,  -999.0,9,  -999.0,9,-999.000,9,-999.0000,9, -999.00,9,   3.407,  -999.0,9,  -999.0,   500.8,-999.0000,-999.000,     3.3635,-999.000
   06MT18_1,       A01E,     565,          1,         16,        B39,2,19910906,       1624,    59.7050,   -39.5900,       2807,   695.2,   3.2732,  34.8686,2,  34.8680,2,   298.3,2,    9.67,2,   16.89,2,    0.00,2,    1.17,2,   3.514,2,   1.660,2,  -999.0,9,  -999.0,9,-999.000,9,-999.0000,9, -999.00,9,-999.000,  -999.0,9,  -999.0,   700.7,-999.0000,-999.000,     3.2257,-999.000
   06MT18_1,       A01E,     565,          1,         15,        K15,2,19910906,       1624,    59.7050,   -39.5900,       2807,   893.6,   3.1913,  34.8610,2,  34.8610,2,   299.5,2,    9.67,2,   16.89,2,    0.00,2,    1.19,2,   3.522,2,   1.667,2,  -999.0,9,  -999.0,9,   1.935,2,   1.8125,2,    2.41,2,-999.000,   -10.0,2,     5.0,   899.5,   0.0073,   0.180,     3.1295,   0.025
   06MT18_1,       A01E,     565,          1,         13,        B42,2,19910906,       1624,    59.7050,   -39.5900,       2807,  1194.9,   3.1083,  34.8522,2,  34.8520,2,   299.5,2,    9.76,2,   16.79,2,    0.00,2,    1.14,2,-999.000,9,-999.000,9,  -999.0,9,  -999.0,9,-999.000,9,-999.0000,9, -999.00,9,-999.000,  -999.0,9,  -999.0,  1200.8,-999.0000,-999.000,     3.0236,-999.000
   06MT18_1,       A01E,     565,          1,         14,         K7,3,19910906,       1624,    59.7050,   -39.5900,       2807,  1195.2,   3.1073,  34.8531,2,  34.8520,2,  -999.0,9,    9.76,2,   16.79,2,    0.00,2,    1.11,3,-999.000,9,-999.000,9,  -999.0,9,  -999.0,9,-999.000,9,-999.0000,9, -999.00,9,   3.113,  -999.0,9,  -999.0,  1201.1,-999.0000,-999.000,     3.0226,-999.000
   06MT18_1,       A01E,     565,          1,         12,        B44,2,19910906,       1624,    59.7050,   -39.5900,       2807,  1585.0,   3.1883,  34.8787,2,  34.8770,2,   290.7,2,   10.35,2,   16.79,2,    0.00,2,    1.12,2,   2.546,2,   1.202,2,  -999.0,9,  -999.0,9,   1.794,2,   1.8108,2,    5.10,2,-999.000,  -999.0,9,  -999.0,  1590.0,   0.0072,   0.160,     3.0703,   0.025
   06MT18_1,       A01E,     565,          1,         11,        B46,2,19910906,       1624,    59.7050,   -39.5900,       2807,  1784.7,   3.3471,  34.9283,2,  34.9280,2,   278.6,2,   11.33,2,   16.79,2,    0.00,2,    1.19,2,   1.487,2,   0.701,2,  -999.0,9,  -999.0,9,   1.462,2,   1.8013,2,    7.45,2,   3.347,   -23.0,2,     5.0,  1789.0,   0.0072,   0.180,     3.2092,   0.020
   06MT18_1,       A01E,     565,          1,         10,        B45,2,19910906,       1624,    59.7050,   -39.5900,       2807,  1991.1,   3.2102,  34.9362,2,  34.9370,2,   277.3,2,   11.91,2,   16.70,2,    0.00,2,    1.19,2,-999.000,9,-999.000,9,  -999.0,9,  -999.0,9,-999.000,9,-999.0000,9, -999.00,9,-999.000,  -999.0,9,  -999.0,  1994.4,-999.0000,-999.000,     3.0553,-999.000
   06MT18_1,       A01E,     565,          1,          9,        B40,2,19910906,       1624,    59.7050,   -39.5900,       2807,  2193.8,   3.0434,  34.9381,2,  34.9380,2,   277.7,2,   12.79,2,   16.60,2,    0.00,2,    1.20,2,   1.184,2,   0.557,2,  -999.0,9,  -999.0,9,   1.241,2,   1.8168,2,    7.22,2,   3.049,  -999.0,9,  -999.0,  2196.1,   0.0073,   0.180,     2.8722,   0.018
   06MT18_1,       A01E,     565,          1,          8,        B52,2,19910906,       1624,    59.7050,   -39.5900,       2807,  2347.0,   2.8915,  34.9353,2,  34.9350,2,   279.3,2,   13.28,2,   16.50,2,    0.00,2,    1.18,2,   1.205,2,   0.569,2,  -999.0,9,  -999.0,9,-999.000,9,-999.0000,9, -999.00,9,-999.000,  -999.0,9,  -999.0,  2348.5,-999.0000,-999.000,     2.7083,-999.000
   06MT18_1,       A01E,     565,          1,          7,        B37,2,19910906,       1624,    59.7050,   -39.5900,       2807,  2498.8,   2.6097,  34.9164,2,  34.9180,2,   284.3,2,   12.40,2,   16.01,2,    0.00,2,    1.15,2,   1.693,2,   0.789,2,  -999.0,9,  -999.0,9,   1.414,2,   1.8189,2,    6.45,2,   2.613,  -999.0,9,  -999.0,  2499.4,   0.0073,   0.170,     2.4171,   0.019
   06MT18_1,       A01E,     565,          1,          6,        B49,2,19910906,       1624,    59.7050,   -39.5900,       2807,  2548.7,   2.4079,  34.9021,2,  34.9020,2,   289.4,2,   10.94,2,   15.52,2,    0.00,2,    1.12,2,-999.000,9,-999.000,9,  -999.0,9,  -999.0,9,-999.000,9,-999.0000,9, -999.00,9,-999.000,  -999.0,9,  -999.0,  2549.1,-999.0000,-999.000,     2.2144,-999.000
   06MT18_1,       A01E,     565,          1,          5,        B51,2,19910906,       1624,    59.7050,   -39.5900,       2807,  2598.7,   2.1371,  34.8855,2,  34.8860,2,   297.1,2,    9.37,2,   14.94,2,    0.00,2,    1.08,2,   2.865,2,   1.346,2,  -999.0,9,  -999.0,9,   1.876,2,   1.8289,2,    4.82,2,   2.142,  -999.0,9,  -999.0,  2598.8,   0.0073,   0.170,     1.9441,   0.026
   06MT18_1,       A01E,     565,          1,          4,        K30,2,19910906,       1624,    59.7050,   -39.5900,       2807,  2654.3,   1.9132,  34.8835,2,  34.8840,2,   299.3,2,    8.79,2,   14.65,2,    0.00,2,    1.06,2,-999.000,9,-999.000,9,  -999.0,9,  -999.0,9,-999.000,9,-999.0000,9, -999.00,9,-999.000,  -999.0,9,  -999.0,  2654.1,-999.0000,-999.000,     1.7194,-999.000
   06MT18_1,       A01E,     565,          1,          3,        K22,2,19910906,       1624,    59.7050,   -39.5900,       2807,  2696.7,   1.7753,  34.8837,2,  34.8850,2,   300.2,2,    8.59,2,   14.45,2,    0.00,2,    1.05,2,   2.925,2,   1.367,2,  -999.0,9,  -999.0,9,   1.860,2,   1.8306,2,    4.41,2,   1.777,  -999.0,9,  -999.0,  2696.2,   0.0073,   0.180,     1.5802,   0.025
   06MT18_1,       A01E,     565,          1,          2,        K21,2,19910906,       1624,    59.7050,   -39.5900,       2807,  2747.0,   1.7324,  34.8839,2,  34.8850,2,   300.6,2,    8.59,2,   14.35,2,    0.01,2,    1.05,2,-999.000,9,-999.000,9,  -999.0,9,  -999.0,9,-999.000,9,-999.0000,9, -999.00,9,-999.000,  -999.0,9,  -999.0,  2746.3,-999.0000,-999.000,     1.5335,-999.000
   06MT18_1,       A01E,     565,          1,          1,        B50,2,19910906,       1624,    59.7050,   -39.5900,       2807,  2807.5,   1.6624,  34.8826,2,  34.8840,2,   300.7,2,    8.59,2,   14.26,2,    0.01,2,    1.04,2,   2.954,2,   1.384,2,  -999.0,9,  -999.0,9,   1.816,2,   1.8396,2,    4.39,2,   1.663,     2.0,2,     5.0,  2806.4,   0.0074,   0.200,     1.4593,   1.008