BOTTLE,20020919WHPSIOSA
EXPOCODE,SECT_ID,STNNBR,CASTNO,SAMPNO,BTLNBR,BTLNBR_FLAG_W,DATE,TIME,LATITUDE,LONGITUDE,DEPTH,CTDPRS,CTDTMP,CTDSAL,CTDSAL_FLAG_W,SALNTY,SALNTY_FLAG_W,OXYGEN,OXYGEN_FLAG_W,SILCAT,SILCAT_FLAG_W,NITRAT,NITRAT_FLAG_W,NITRIT,NITRIT_FLAG_W,PHSPHT,PHSPHT_FLAG_W,CFC-11,CFC-11_FLAG_W,CFC-12,CFC-12_FLAG_W,TCARBN,TCARBN_FLAG_W,ALKALI,ALKALI_FLAG_W,TRITUM,TRITUM_FLAG_W,HELIUM,HELIUM_FLAG_W,DELHE3,DELHE3_FLAG_W,REVTMP,DELC14,DELC14_FLAG_W,C14ERR,CTDRAW,HELIER,DELHER,THETA,TRITER
,,,,,,,,,,,METERS,DBAR,ITS-90,PSS-78,,PSS-78,,UMOL/KG,,UMOL/KG,,UMOL/KG,,UMOL/KG,,UMOL/KG,,PMOL/KG,,PMOL/KG,,UMOL/KG,,UMOL/KG,,TU,,NMOL/KG,,PERCNT,,ITS-90,/MILLE,,/MILLE,DBAR,NMOL/KG,PERCNT,DEG,TU
   06MT18_1,       A01E,     562,          1,         24,        B41,4,19910906,       0251,    59.8633,   -41.2000,       2042,     9.0,   8.5404,  34.7625,2,  34.8860,4,   293.0,4,    9.87,4,   17.00,4,    0.00,4,    1.10,4,   3.421,2,   1.604,2,  -999.0,9,  -999.0,9,   1.933,2,-999.0000,5,   -9.00,5,-999.000,     9.0,2,     5.0,    10.0,-999.0000,-999.000,     8.5395,   0.028
   06MT18_1,       A01E,     562,          1,         23,        K22,2,19910906,       0251,    59.8633,   -41.2000,       2042,    28.7,   8.5364,  34.7814,2,  34.7960,2,   288.2,2,    1.86,2,    6.06,2,    0.17,2,    0.52,2,-999.000,9,-999.000,9,  -999.0,9,  -999.0,9,-999.000,9,-999.0000,9, -999.00,9,-999.000,  -999.0,9,  -999.0,    29.9,-999.0000,-999.000,     8.5334,-999.000
   06MT18_1,       A01E,     562,          1,         22,         K3,2,19910906,       0251,    59.8633,   -41.2000,       2042,    59.0,   6.6332,  34.9350,2,  34.9560,2,   287.6,2,    4.59,2,   12.01,2,    0.46,2,    0.89,2,-999.000,9,-999.000,9,  -999.0,9,  -999.0,9,-999.000,9,-999.0000,9, -999.00,9,-999.000,  -999.0,9,  -999.0,    60.5,-999.0000,-999.000,     6.6279,-999.000
   06MT18_1,       A01E,     562,          1,         21,        B35,2,19910906,       0251,    59.8633,   -41.2000,       2042,    97.4,   5.4493,  34.9802,2,  34.9820,2,   284.6,2,    7.42,2,   16.41,2,    0.25,2,    1.10,2,-999.000,9,-999.000,9,  -999.0,9,  -999.0,9,-999.000,9,-999.0000,9, -999.00,9,-999.000,  -999.0,9,  -999.0,    99.3,-999.0000,-999.000,     5.4414,-999.000
   06MT18_1,       A01E,     562,          1,         20,        B37,2,19910906,       0251,    59.8633,   -41.2000,       2042,   148.9,   5.0527,  34.9891,2,  34.9920,2,   287.1,2,    8.89,2,   16.90,2,    0.00,2,    1.12,2,   4.147,2,   1.962,2,  -999.0,9,  -999.0,9,   1.957,2,   1.7738,2,   -0.19,2,   5.059,  -999.0,9,  -999.0,   151.2,   0.0071,   0.480,     5.0410,   0.032
   06MT18_1,       A01E,     562,          1,         19,        B36,2,19910906,       0251,    59.8633,   -41.2000,       2042,   198.4,   4.8459,  34.9852,2,  34.9820,2,   291.0,2,    9.47,2,   17.58,2,    0.00,2,    1.17,2,-999.000,9,-999.000,9,  -999.0,9,  -999.0,9,-999.000,9,-999.0000,9, -999.00,9,-999.000,  -999.0,9,  -999.0,   201.2,-999.0000,-999.000,     4.8306,-999.000
   06MT18_1,       A01E,     562,          1,         18,        B34,2,19910906,       0251,    59.8633,   -41.2000,       2042,   297.8,   4.4722,  34.9550,2,  34.9560,2,   290.6,2,    9.38,2,   16.90,2,    0.00,2,    1.13,2,-999.000,9,-999.000,9,  -999.0,9,  -999.0,9,-999.000,9,-999.0000,9, -999.00,9,-999.000,  -999.0,9,  -999.0,   301.3,-999.0000,-999.000,     4.4499,-999.000
   06MT18_1,       A01E,     562,          1,         17,         K4,2,19910906,       0251,    59.8633,   -41.2000,       2042,   398.0,   4.1994,  34.9374,2,  34.9370,2,   290.5,2,    9.47,2,   16.90,2,    0.00,2,    1.14,2,-999.000,9,-999.000,9,  -999.0,9,  -999.0,9,-999.000,9,-999.0000,9, -999.00,9,   4.205,  -999.0,9,  -999.0,   402.2,-999.0000,-999.000,     4.1702,-999.000
   06MT18_1,       A01E,     562,          1,         16,        B39,2,19910906,       0251,    59.8633,   -41.2000,       2042,   487.2,   4.0116,  34.9261,2,  34.9250,2,   288.7,2,    9.47,2,   16.70,2,    0.00,2,    1.13,2,   3.544,2,   1.671,2,  -999.0,9,  -999.0,9,   1.928,2,-999.0000,5,   -9.00,5,-999.000,  -999.0,9,  -999.0,   491.8,-999.0000,-999.000,     3.9762,   0.031
   06MT18_1,       A01E,     562,          1,         15,        K15,2,19910906,       0251,    59.8633,   -41.2000,       2042,   591.1,   3.8157,  34.9129,2,  34.9130,2,   288.4,2,    9.77,2,   16.80,2,    0.00,2,    1.14,2,-999.000,9,-999.000,9,  -999.0,9,  -999.0,9,-999.000,9,-999.0000,9, -999.00,9,-999.000,  -999.0,9,  -999.0,   596.2,-999.0000,-999.000,     3.7733,-999.000
   06MT18_1,       A01E,     562,          1,         14,         K7,2,19910906,       0251,    59.8633,   -41.2000,       2042,   790.8,   3.4840,  34.8862,2,  34.8850,2,   293.8,2,    9.77,2,   17.00,2,    0.00,2,    1.15,2,   3.499,2,   1.652,2,  -999.0,9,  -999.0,9,   1.801,3,   1.9109,4,    3.41,2,   3.489,    -2.0,2,     5.0,   796.5,   0.0076,   0.250,     3.4281,   0.025
   06MT18_1,       A01E,     562,          1,         13,        B42,2,19910906,       0251,    59.8633,   -41.2000,       2042,   891.4,   3.4001,  34.8811,2,  34.8790,2,   292.8,2,    9.96,2,   16.90,2,    0.00,2,    1.15,2,-999.000,9,-999.000,9,  -999.0,9,  -999.0,9,-999.000,9,-999.0000,9, -999.00,9,-999.000,  -999.0,9,  -999.0,   897.3,-999.0000,-999.000,     3.3370,-999.000
   06MT18_1,       A01E,     562,          1,         12,        B44,2,19910906,       0251,    59.8633,   -41.2000,       2042,   992.8,   3.3232,  34.8755,2,  34.8740,2,   292.7,2,   10.06,2,   16.90,2,    0.00,2,    1.15,2,   3.082,2,   1.468,2,  -999.0,9,  -999.0,9,   1.920,2,   1.7915,2,    4.00,2,-999.000,  -999.0,9,  -999.0,   998.7,   0.0072,   0.210,     3.2527,   0.031
   06MT18_1,       A01E,     562,          1,         11,        B46,2,19910906,       0251,    59.8633,   -41.2000,       2042,  1073.1,   3.2892,  34.8737,2,  34.8720,2,   292.9,2,   10.06,2,   16.90,2,    0.00,2,    1.16,2,   3.019,2,   1.442,2,  -999.0,9,  -999.0,9,   1.913,2,   1.7825,2,    4.31,2,   3.290,  -999.0,9,  -999.0,  1079.0,   0.0071,   0.200,     3.2126,   0.039
   06MT18_1,       A01E,     562,          1,         10,        B45,2,19910906,       0251,    59.8633,   -41.2000,       2042,  1191.1,   3.2122,  34.8673,2,  34.8660,2,   293.8,2,   10.16,2,   16.90,2,    0.00,2,    1.15,2,   2.940,2,   1.403,2,  -999.0,9,  -999.0,9,   1.912,2,   1.8092,2,    4.54,2,-999.000,  -999.0,9,  -999.0,  1197.0,   0.0072,   0.250,     3.1269,   0.031
   06MT18_1,       A01E,     562,          1,          9,        B52,2,19910906,       0251,    59.8633,   -41.2000,       2042,  1392.5,   3.2902,  34.8919,2,  34.8910,2,   288.2,2,   10.35,2,   16.51,2,    0.00,2,    1.15,2,   2.618,2,   1.236,2,  -999.0,9,  -999.0,9,   1.810,2,-999.0000,5,   -9.00,5,-999.000,  -999.0,9,  -999.0,  1398.0,-999.0000,-999.000,     3.1874,   0.026
   06MT18_1,       A01E,     562,          1,          8,        B40,2,19910906,       0251,    59.8633,   -41.2000,       2042,  1592.5,   3.0833,  34.9109,2,  34.9100,2,   285.5,2,   10.74,2,   16.31,2,    0.00,2,    1.12,2,   2.164,2,   1.017,2,  -999.0,9,  -999.0,9,   1.569,2,   1.8008,2,    6.39,2,   3.087,  -999.0,9,  -999.0,  1597.5,   0.0072,   0.190,     2.9658,   0.036
   06MT18_1,       A01E,     562,          1,          7,        B48,2,19910906,       0251,    59.8633,   -41.2000,       2042,  1695.0,   2.9644,  34.9167,2,  34.9150,2,   284.1,2,   11.33,2,   16.21,2,    0.00,2,    1.12,2,-999.000,9,-999.000,9,  -999.0,9,  -999.0,9,-999.000,9,-999.0000,9, -999.00,9,-999.000,  -999.0,9,  -999.0,  1699.6,-999.0000,-999.000,     2.8395,-999.000
   06MT18_1,       A01E,     562,          1,          6,        B49,2,19910906,       0251,    59.8633,   -41.2000,       2042,  1795.7,   2.7936,  34.9235,2,  34.9220,2,   282.7,2,   12.31,2,   16.12,2,    0.00,2,    1.14,2,-999.000,9,-999.000,9,  -999.0,9,  -999.0,9,   1.505,2,   1.7420,3,    6.48,2,-999.000,  -999.0,9,  -999.0,  1799.9,   0.0070,   0.180,     2.6622,   0.027
   06MT18_1,       A01E,     562,          1,          5,        B51,2,19910906,       0251,    59.8633,   -41.2000,       2042,  1861.8,   2.5148,  34.9027,2,  34.9010,2,   289.9,2,   10.84,2,   15.53,2,    0.00,2,    1.09,2,   2.339,2,   1.097,2,  -999.0,9,  -999.0,9,-999.000,9,-999.0000,9, -999.00,9,   2.516,  -999.0,9,  -999.0,  1865.7,-999.0000,-999.000,     2.3817,-999.000
   06MT18_1,       A01E,     562,          1,          4,        K30,2,19910906,       0251,    59.8633,   -41.2000,       2042,  1911.7,   2.3979,  34.8961,2,  34.8940,2,   293.1,2,    9.77,2,   15.24,2,    0.00,2,    1.08,2,   2.607,2,   1.226,2,  -999.0,9,  -999.0,9,   1.719,2,   1.8108,2,    5.24,2,-999.000,  -999.0,9,  -999.0,  1915.4,   0.0072,   0.210,     2.2622,   0.027
   06MT18_1,       A01E,     562,          1,          3,         K1,2,19910906,       0251,    59.8633,   -41.2000,       2042,  1966.2,   2.2020,  34.8935,2,  34.8920,2,   293.8,2,    9.77,2,   15.14,2,    0.00,2,    1.07,2,   2.665,2,   1.246,2,  -999.0,9,  -999.0,9,   1.709,2,   1.8106,2,    5.09,2,-999.000,  -999.0,9,  -999.0,  1969.6,   0.0072,   0.190,     2.0645,   0.027
   06MT18_1,       A01E,     562,          1,          2,        B50,2,19910906,       0251,    59.8633,   -41.2000,       2042,  2015.7,   2.1940,  34.8935,2,  34.8920,2,   294.8,2,    9.67,2,   15.14,2,    0.00,2,    1.07,2,   2.679,2,   1.260,2,  -999.0,9,  -999.0,9,   1.683,2,   1.8291,2,    5.33,2,   2.195,  -999.0,9,  -999.0,  2018.9,   0.0073,   0.160,     2.0524,   0.026
   06MT18_1,       A01E,     562,          1,          1,        K31,2,19910906,       0251,    59.8633,   -41.2000,       2042,  2026.6,   2.1950,  34.8932,2,  34.8920,2,   294.0,2,    9.77,2,   15.14,2,    0.00,2,    1.07,2,   2.658,2,   1.238,2,  -999.0,9,  -999.0,9,   1.728,2,   1.8084,2,    5.15,2,-999.000,   -22.0,3,     6.0,  2029.8,   0.0072,   0.130,     2.0524,   0.024
   06MT18_1,       A01E,     563,          1,         24,        B41,2,19910906,       0657,    59.8333,   -40.8667,       2330,    26.3,   8.2217,  34.9244,2,  34.9320,2,   288.3,2,    2.54,2,    6.35,2,    0.14,2,    0.53,2,   4.081,2,   1.953,2,  -999.0,9,  -999.0,9,-999.000,9,-999.0000,9, -999.00,9,-999.000,  -999.0,9,  -999.0,    27.5,-999.0000,-999.000,     8.2190,-999.000
   06MT18_1,       A01E,     563,          1,         23,        K22,2,19910906,       0657,    59.8333,   -40.8667,       2330,    57.8,   7.7841,  34.9660,2,  34.9740,2,   286.0,2,    3.32,2,    8.89,2,    0.19,2,    0.66,2,-999.000,9,-999.000,9,  -999.0,9,  -999.0,9,-999.000,9,-999.0000,9, -999.00,9,   7.775,  -999.0,9,  -999.0,    59.3,-999.0000,-999.000,     7.7784,-999.000
   06MT18_1,       A01E,     563,          1,         22,         K3,2,19910906,       0657,    59.8333,   -40.8667,       2330,    92.8,   6.6502,  35.0241,2,  35.0280,2,   282.7,2,    5.37,2,   14.26,2,    0.09,2,    0.93,2,   4.185,2,   1.976,2,  -999.0,9,  -999.0,9,-999.000,9,-999.0000,9, -999.00,9,-999.000,  -999.0,9,  -999.0,    94.6,-999.0000,-999.000,     6.6418,-999.000
   06MT18_1,       A01E,     563,          1,         21,        B35,2,19910906,       0657,    59.8333,   -40.8667,       2330,   193.0,   5.6102,  35.0281,2,  35.0300,2,   283.0,2,    8.30,2,   16.60,2,    0.00,2,    1.09,2,-999.000,9,-999.000,9,  -999.0,9,  -999.0,9,-999.000,9,-999.0000,9, -999.00,9,-999.000,  -999.0,9,  -999.0,   195.7,-999.0000,-999.000,     5.5942,-999.000
   06MT18_1,       A01E,     563,          1,         20,        B37,2,19910906,       0657,    59.8333,   -40.8667,       2330,   293.3,   5.0377,  34.9890,2,  34.9930,2,   286.0,2,    8.79,2,   16.70,2,    0.01,2,    1.10,2,-999.000,9,-999.000,9,  -999.0,9,  -999.0,9,-999.000,9,-999.0000,9, -999.00,9,   5.048,  -999.0,9,  -999.0,   296.8,-999.0000,-999.000,     5.0145,-999.000
   06MT18_1,       A01E,     563,          1,         19,        B36,2,19910906,       0657,    59.8333,   -40.8667,       2330,   392.9,   4.7170,  34.9696,2,  34.9730,2,   287.8,2,    9.08,2,   16.90,2,    0.01,2,    1.12,2,   3.888,2,   1.841,2,  -999.0,9,  -999.0,9,-999.000,9,-999.0000,9, -999.00,9,-999.000,  -999.0,9,  -999.0,   397.0,-999.0000,-999.000,     4.6866,-999.000
   06MT18_1,       A01E,     563,          1,         18,        B34,2,19910906,       0657,    59.8333,   -40.8667,       2330,   493.6,   4.4512,  34.9525,2,  34.9550,2,   290.5,2,    9.28,2,   17.39,2,    0.00,2,    1.15,2,   3.943,2,   1.866,2,  -999.0,9,  -999.0,9,-999.000,9,-999.0000,9, -999.00,9,-999.000,  -999.0,9,  -999.0,   498.3,-999.0000,-999.000,     4.4136,-999.000
   06MT18_1,       A01E,     563,          1,         17,         K4,2,19910906,       0657,    59.8333,   -40.8667,       2330,   593.5,   4.1325,  34.9264,2,  34.9300,2,   291.3,2,    9.38,2,   17.39,2,    0.00,2,    1.17,2,-999.000,9,-999.000,9,  -999.0,9,  -999.0,9,-999.000,9,-999.0000,9, -999.00,9,   4.141,  -999.0,9,  -999.0,   598.6,-999.0000,-999.000,     4.0884,-999.000
   06MT18_1,       A01E,     563,          1,         16,        B39,2,19910906,       0657,    59.8333,   -40.8667,       2330,   795.3,   3.7988,  34.9107,2,  34.9120,2,   288.6,2,    9.57,2,   17.09,2,    0.00,2,    1.14,2,   3.340,2,   1.589,2,  -999.0,9,  -999.0,9,-999.000,9,-999.0000,9, -999.00,9,-999.000,  -999.0,9,  -999.0,   801.0,-999.0000,-999.000,     3.7406,-999.000
   06MT18_1,       A01E,     563,          1,         15,        K15,2,19910906,       0657,    59.8333,   -40.8667,       2330,   896.3,   3.6629,  34.9025,2,  34.9040,2,   288.5,2,    9.77,2,   17.09,2,    0.00,2,    1.15,2,   3.222,2,   1.539,2,  -999.0,9,  -999.0,9,   1.992,2,   1.7605,2,    3.76,2,-999.000,  -999.0,9,  -999.0,   902.2,   0.0070,   0.180,     3.5975,   0.031
   06MT18_1,       A01E,     563,          1,         14,         K7,2,19910906,       0657,    59.8333,   -40.8667,       2330,  1096.5,   3.4740,  34.8937,2,  34.8950,2,   288.3,2,    9.87,2,   17.09,2,    0.00,2,    1.14,2,-999.000,9,-999.000,9,  -999.0,9,  -999.0,9,-999.000,9,-999.0000,9, -999.00,9,   3.478,  -999.0,9,  -999.0,  1102.4,-999.0000,-999.000,     3.3940,-999.000
   06MT18_1,       A01E,     563,          1,         13,        B42,2,19910906,       0657,    59.8333,   -40.8667,       2330,  1297.9,   3.3092,  34.8861,2,  34.8880,2,   289.3,2,   10.06,2,   17.00,2,    0.00,2,    1.15,2,-999.000,9,-999.000,9,  -999.0,9,  -999.0,9,-999.000,9,-999.0000,9, -999.00,9,-999.000,  -999.0,9,  -999.0,  1303.6,-999.0000,-999.000,     3.2141,-999.000
   06MT18_1,       A01E,     563,          1,         12,        B44,2,19910906,       0657,    59.8333,   -40.8667,       2330,  1498.2,   3.2722,  34.8962,2,  34.8940,2,   287.6,2,   10.26,2,   16.90,2,    0.00,2,    1.14,2,   2.584,2,   1.228,2,  -999.0,9,  -999.0,9,   1.946,2,   1.7938,2,    5.52,2,-999.000,    -4.0,3,     5.0,  1503.5,   0.0072,   0.210,     3.1606,   0.030
   06MT18_1,       A01E,     563,          1,         11,        B46,2,19910906,       0657,    59.8333,   -40.8667,       2330,  1687.8,   3.1873,  34.9126,2,  34.9130,2,   283.7,2,   10.74,2,   16.80,2,    0.00,2,    1.14,2,-999.000,9,-999.000,9,  -999.0,9,  -999.0,9,-999.000,9,-999.0000,9, -999.00,9,   3.190,  -999.0,9,  -999.0,  1692.4,-999.0000,-999.000,     3.0602,-999.000
   06MT18_1,       A01E,     563,          1,         10,        B45,2,19910906,       0657,    59.8333,   -40.8667,       2330,  1890.4,   2.9195,  34.9091,2,  34.9100,2,   285.9,2,   10.94,2,   16.41,2,    0.00,2,    1.13,2,   2.118,2,   0.992,2,  -999.0,9,  -999.0,9,   1.674,2,   1.8012,2,    5.97,2,-999.000,  -999.0,9,  -999.0,  1894.2,   0.0072,   0.210,     2.7781,   0.028
   06MT18_1,       A01E,     563,          1,          9,        B52,2,19910906,       0657,    59.8333,   -40.8667,       2330,  1992.0,   2.7776,  34.9165,2,  34.9180,2,   284.4,2,   11.82,2,   16.41,2,    0.00,2,    1.12,2,-999.000,9,-999.000,9,  -999.0,9,  -999.0,9,-999.000,9,-999.0000,9, -999.00,9,-999.000,  -999.0,9,  -999.0,  1995.3,-999.0000,-999.000,     2.6292,-999.000
   06MT18_1,       A01E,     563,          1,          8,        B40,2,19910906,       0657,    59.8333,   -40.8667,       2330,  2044.7,   2.6867,  34.9176,2,  34.9190,2,   284.1,2,   12.21,2,   16.41,2,    0.00,2,    1.14,2,-999.000,9,-999.000,9,  -999.0,9,  -999.0,9,-999.000,9,-999.0000,9, -999.00,9,   2.689,  -999.0,9,  -999.0,  2047.8,-999.0000,-999.000,     2.5349,-999.000
   06MT18_1,       A01E,     563,          1,          7,        B48,2,19910906,       0657,    59.8333,   -40.8667,       2330,  2045.4,   2.6837,  34.9170,2,  34.9190,2,   284.2,2,   12.21,2,   16.41,2,    0.00,2,    1.14,2,-999.000,9,-999.000,9,  -999.0,9,  -999.0,9,-999.000,9,-999.0000,9, -999.00,9,-999.000,  -999.0,9,  -999.0,  2048.5,-999.0000,-999.000,     2.5319,-999.000
   06MT18_1,       A01E,     563,          1,          6,        B49,2,19910906,       0657,    59.8333,   -40.8667,       2330,  2097.2,   2.5667,  34.9100,2,  34.9110,2,   286.8,2,   11.62,2,   16.21,2,    0.00,2,    1.11,2,   1.972,2,   0.927,2,  -999.0,9,  -999.0,9,   1.464,2,   1.8168,2,    5.89,2,-999.000,  -999.0,9,  -999.0,  2100.0,   0.0073,   0.200,     2.4121,   0.022
   06MT18_1,       A01E,     563,          1,          5,        B51,2,19910906,       0657,    59.8333,   -40.8667,       2330,  2146.5,   2.3589,  34.8991,2,  34.9000,2,   290.8,2,   10.74,2,   15.82,2,    0.00,2,    1.08,2,-999.000,9,-999.000,9,  -999.0,9,  -999.0,9,-999.000,9,-999.0000,9, -999.00,9,   2.363,  -999.0,9,  -999.0,  2149.1,-999.0000,-999.000,     2.2033,-999.000
   06MT18_1,       A01E,     563,          1,          4,        K30,2,19910906,       0657,    59.8333,   -40.8667,       2330,  2197.2,   2.2180,  34.8925,2,  34.8950,2,   293.3,2,   10.16,2,   15.53,2,    0.00,2,    1.06,2,   2.500,2,   1.171,2,  -999.0,9,  -999.0,9,   1.687,2,   1.8463,2,    4.72,2,-999.000,  -999.0,9,  -999.0,  2199.5,   0.0074,   0.220,     2.0602,   0.026
   06MT18_1,       A01E,     563,          1,          3,         K1,2,19910906,       0657,    59.8333,   -40.8667,       2330,  2247.3,   1.9922,  34.8826,2,  34.8860,2,   297.6,2,    9.28,2,   15.14,2,    0.00,2,    1.04,2,-999.000,9,-999.000,9,  -999.0,9,  -999.0,9,-999.000,9,-999.0000,9, -999.00,9,-999.000,  -999.0,9,  -999.0,  2249.3,-999.0000,-999.000,     1.8338,-999.000
   06MT18_1,       A01E,     563,          1,          2,        B50,2,19910906,       0657,    59.8333,   -40.8667,       2330,  2298.3,   1.7514,  34.8828,2,  34.8850,2,   299.9,2,    8.99,2,   14.85,2,    0.00,2,    1.03,2,   2.958,2,   1.392,2,  -999.0,9,  -999.0,9,   1.792,2,   1.8152,2,    4.82,2,   1.751,  -999.0,9,  -999.0,  2300.1,   0.0073,   0.120,     1.5926,   0.026
   06MT18_1,       A01E,     563,          1,          1,        K31,2,19910906,       0657,    59.8333,   -40.8667,       2330,  2319.2,   1.7544,  34.8830,2,  34.8860,2,   299.8,2,    8.99,2,   14.85,2,    0.00,2,    1.04,2,   2.963,2,   1.393,2,  -999.0,9,  -999.0,9,   1.750,2,   1.8212,2,    4.70,2,-999.000,    -5.0,3,     5.0,  2320.8,   0.0073,   0.200,     1.5937,   0.027