BOTTLE,20020919WHPSIOSA
EXPOCODE,SECT_ID,STNNBR,CASTNO,SAMPNO,BTLNBR,BTLNBR_FLAG_W,DATE,TIME,LATITUDE,LONGITUDE,DEPTH,CTDPRS,CTDTMP,CTDSAL,CTDSAL_FLAG_W,SALNTY,SALNTY_FLAG_W,OXYGEN,OXYGEN_FLAG_W,SILCAT,SILCAT_FLAG_W,NITRAT,NITRAT_FLAG_W,NITRIT,NITRIT_FLAG_W,PHSPHT,PHSPHT_FLAG_W,CFC-11,CFC-11_FLAG_W,CFC-12,CFC-12_FLAG_W,TCARBN,TCARBN_FLAG_W,ALKALI,ALKALI_FLAG_W,TRITUM,TRITUM_FLAG_W,HELIUM,HELIUM_FLAG_W,DELHE3,DELHE3_FLAG_W,REVTMP,DELC14,DELC14_FLAG_W,C14ERR,CTDRAW,HELIER,DELHER,THETA,TRITER
,,,,,,,,,,,METERS,DBAR,ITS-90,PSS-78,,PSS-78,,UMOL/KG,,UMOL/KG,,UMOL/KG,,UMOL/KG,,UMOL/KG,,PMOL/KG,,PMOL/KG,,UMOL/KG,,UMOL/KG,,TU,,NMOL/KG,,PERCNT,,ITS-90,/MILLE,,/MILLE,DBAR,NMOL/KG,PERCNT,DEG,TU
   06MT18_1,       A01E,     605,          1,         23,        K23,2,19910917,       0114,    52.4667,   -20.8633,       3739,    32.0,  14.6703,  34.9999,2,  35.0010,2,   254.1,2,    0.59,2,    0.39,2,    0.03,2,    0.15,2,-999.000,9,-999.000,9,  -999.0,9,  -999.0,9,-999.000,9,-999.0000,9, -999.00,9,-999.000,  -999.0,9,  -999.0,    33.2,-999.0000,-999.000,    14.6655,-999.000
   06MT18_1,       A01E,     605,          1,         22,         K3,3,19910917,       0114,    52.4667,   -20.8633,       3739,    32.0,  14.6703,  34.9999,2,  35.0720,4,   252.5,4,    8.01,4,   14.94,4,    0.01,4,    1.01,4,   3.494,2,   1.694,2,  -999.0,9,  -999.0,9,   2.153,2,-999.0000,5,   -9.00,5,-999.000,  -999.0,9,  -999.0,    33.2,-999.0000,-999.000,    14.6655,   0.025
   06MT18_1,       A01E,     605,          1,         21,        B35,2,19910917,       0114,    52.4667,   -20.8633,       3739,    63.0,  10.7232,  35.1210,2,  35.1180,2,   237.5,2,    4.20,2,   10.84,2,    0.02,2,    0.77,2,-999.000,9,-999.000,9,  -999.0,9,  -999.0,9,-999.000,9,-999.0000,9, -999.00,9,-999.000,  -999.0,9,  -999.0,    64.6,-999.0000,-999.000,    10.7156,-999.000
   06MT18_1,       A01E,     605,          1,         20,        B48,2,19910917,       0114,    52.4667,   -20.8633,       3739,   101.9,   9.9959,  35.2698,2,  35.2710,2,   230.7,2,    7.03,2,   14.16,2,    0.01,2,    0.95,2,-999.000,9,-999.000,9,  -999.0,9,  -999.0,9,-999.000,9,-999.0000,9, -999.00,9,-999.000,  -999.0,9,  -999.0,   103.8,-999.0000,-999.000,     9.9841,-999.000
   06MT18_1,       A01E,     605,          1,         19,        K18,4,19910917,       0114,    52.4667,   -20.8633,       3739,   200.7,-999.0000,-999.0000,9,  35.2220,2,   246.8,2,    7.32,2,   14.16,2,    0.01,2,    0.95,2,   3.470,2,   1.647,2,  -999.0,9,  -999.0,9,   2.105,2,   1.7958,2,   -0.23,2,-999.000,  -999.0,9,  -999.0,   203.5,   0.0072,   0.210,     -999.0,   0.021
   06MT18_1,       A01E,     605,          1,         18,        B40,2,19910917,       0114,    52.4667,   -20.8633,       3739,   200.7,   9.3076,  35.2177,2,  35.2220,2,   246.7,2,    7.32,2,   14.16,2,    0.01,2,    0.95,2,-999.000,9,-999.000,9,  -999.0,9,  -999.0,9,-999.000,9,-999.0000,9, -999.00,9,   9.321,  -999.0,9,  -999.0,   203.5,-999.0000,-999.000,     9.2853,-999.000
   06MT18_1,       A01E,     605,          1,         17,        K17,2,19910917,       0114,    52.4667,   -20.8633,       3739,   302.4,   8.3865,  35.0895,2,  35.0890,2,   250.8,2,    8.11,2,   14.94,2,    0.01,2,    1.01,2,   3.458,2,   1.732,2,  -999.0,9,  -999.0,9,   2.096,2,   1.7767,2,    0.33,2,-999.000,  -999.0,9,  -999.0,   305.9,   0.0071,   0.180,     8.3548,   0.022
   06MT18_1,       A01E,     605,          1,         16,        B53,2,19910917,       0114,    52.4667,   -20.8633,       3739,   404.3,   7.4974,  34.9929,2,  34.9950,2,   250.4,2,    8.99,2,   16.12,2,    0.01,2,    1.08,2,   3.373,2,   1.617,2,  -999.0,9,  -999.0,9,   2.052,2,   1.7887,2,    0.91,2,-999.000,  -999.0,9,  -999.0,   408.5,   0.0072,   0.170,     7.4574,   0.022
   06MT18_1,       A01E,     605,          1,         15,        B39,2,19910917,       0114,    52.4667,   -20.8633,       3739,   518.4,   6.6682,  34.9520,2,  34.9500,2,   239.2,2,   10.26,2,   17.68,2,    0.01,2,    1.19,2,   2.826,2,   1.380,2,  -999.0,9,  -999.0,9,   1.885,2,   1.8029,2,    2.64,2,-999.000,  -999.0,9,  -999.0,   523.2,   0.0072,   0.210,     6.6198,   0.022
   06MT18_1,       A01E,     605,          1,         14,        B42,2,19910917,       0114,    52.4667,   -20.8633,       3739,   654.0,   6.7142,  35.1117,2,  35.1120,2,   220.9,2,   11.33,2,   18.56,2,    0.00,2,    1.23,2,   1.918,2,   0.928,2,  -999.0,9,  -999.0,9,   1.673,2,   1.7985,2,    6.53,2,-999.000,  -999.0,9,  -999.0,   659.3,   0.0072,   0.220,     6.6522,   0.019
   06MT18_1,       A01E,     605,          1,         13,         K9,2,19910917,       0114,    52.4667,   -20.8633,       3739,   803.8,   5.8020,  35.0818,2,  35.0810,2,   231.5,2,   11.92,2,   18.56,2,    0.00,2,    1.24,2,   1.759,2,   0.849,2,  -999.0,9,  -999.0,9,   1.594,2,   1.8083,2,    7.38,2,-999.000,  -999.0,9,  -999.0,   809.5,   0.0072,   0.200,     5.7305,   0.020
   06MT18_1,       A01E,     605,          1,         12,        B50,2,19910917,       0114,    52.4667,   -20.8633,       3739,  1006.0,   4.5601,  34.9736,2,  34.9730,2,   252.7,2,   11.72,2,   18.26,2,    0.00,2,    1.22,2,-999.000,9,-999.000,9,  -999.0,9,  -999.0,9,-999.000,9,-999.0000,9, -999.00,9,-999.000,  -999.0,9,  -999.0,  1011.9,-999.0000,-999.000,     4.4788,-999.000
   06MT18_1,       A01E,     605,          1,         11,        B44,2,19910917,       0114,    52.4667,   -20.8633,       3739,  1307.8,   3.7688,  34.9040,2,  34.9030,2,   273.3,2,   11.23,2,   17.58,2,    0.00,2,    1.18,2,   2.033,2,   0.980,2,  -999.0,9,  -999.0,9,   1.696,2,   1.8132,2,    7.74,2,-999.000,   -40.0,3,     7.0,  1313.5,   0.0073,   0.230,     3.6683,   0.039
   06MT18_1,       A01E,     605,          1,         10,        K19,2,19910917,       0114,    52.4667,   -20.8633,       3739,  1614.9,   3.5270,  34.8920,2,  34.8910,2,   279.9,2,   11.14,2,   17.29,2,    0.00,2,    1.17,2,-999.000,9,-999.000,9,  -999.0,9,  -999.0,9,-999.000,9,-999.0000,9, -999.00,9,-999.000,  -999.0,9,  -999.0,  1619.8,-999.0000,-999.000,     3.4022,-999.000
   06MT18_1,       A01E,     605,          1,          9,        B45,2,19910917,       0114,    52.4667,   -20.8633,       3739,  2219.6,   3.4121,  34.9319,2,  34.9320,2,   273.3,2,   13.19,2,   17.29,2,    0.00,2,    1.17,2,   0.954,2,   0.450,2,  -999.0,9,  -999.0,9,   1.146,2,   1.8178,2,    7.45,2,-999.000,  -999.0,9,  -999.0,  2221.8,   0.0073,   0.190,     3.2324,   0.017
   06MT18_1,       A01E,     605,          1,          8,         K7,2,19910917,       0114,    52.4667,   -20.8633,       3739,  2527.3,   3.2013,  34.9476,2,  34.9490,2,   267.7,2,   17.68,2,   17.58,2,    0.00,2,    1.20,2,-999.000,9,-999.000,9,  -999.0,9,  -999.0,9,-999.000,9,-999.0000,9, -999.00,9,-999.000,  -999.0,9,  -999.0,  2527.8,-999.0000,-999.000,     2.9949,-999.000
   06MT18_1,       A01E,     605,          1,          7,        B52,2,19910917,       0114,    52.4667,   -20.8633,       3739,  2833.0,   2.9385,  34.9491,2,  34.9490,2,   261.2,2,   24.42,2,   18.56,2,    0.00,2,    1.27,2,   0.520,2,   0.245,2,  -999.0,9,  -999.0,9,   0.571,2,   1.8308,2,    5.10,2,-999.000,  -999.0,9,  -999.0,  2831.8,   0.0073,   0.230,     2.7063,   0.057
   06MT18_1,       A01E,     605,          1,          6,        B51,2,19910917,       0114,    52.4667,   -20.8633,       3739,  3138.5,   2.7656,  34.9431,2,  34.9440,2,   257.4,2,   29.01,2,   19.14,2,    0.00,2,    1.32,2,-999.000,9,-999.000,9,  -999.0,9,  -999.0,9,-999.000,9,-999.0000,9, -999.00,9,-999.000,  -999.0,9,  -999.0,  3135.7,-999.0000,-999.000,     2.5054,-999.000
   06MT18_1,       A01E,     605,          1,          5,        B49,2,19910917,       0114,    52.4667,   -20.8633,       3739,  3342.5,   2.6617,  34.9317,2,  34.9320,2,   250.7,2,   35.36,2,   20.41,2,    0.00,2,    1.41,2,   0.252,2,   0.138,2,  -999.0,9,  -999.0,9,   0.388,2,   1.8366,2,    3.62,2,-999.000,  -999.0,9,  -999.0,  3338.8,   0.0073,   0.200,     2.3822,   0.012
   06MT18_1,       A01E,     605,          1,          4,        B43,2,19910917,       0114,    52.4667,   -20.8633,       3739,  3549.6,   2.5648,  34.9188,2,  34.9190,2,   244.9,2,   41.22,2,   21.49,2,    0.00,2,    1.48,2,-999.000,9,-999.000,9,  -999.0,9,  -999.0,9,-999.000,9,-999.0000,9, -999.00,9,-999.000,  -999.0,9,  -999.0,  3545.2,-999.0000,-999.000,     2.2653,-999.000
   06MT18_1,       A01E,     605,          1,          3,        K30,2,19910917,       0114,    52.4667,   -20.8633,       3739,  3649.7,   2.5168,  34.9120,2,  34.9130,2,   240.6,2,   44.05,2,   21.98,2,    0.00,2,    1.51,2,   0.061,2,   0.027,2,  -999.0,9,  -999.0,9,   0.111,2,   1.8458,2,    2.92,2,-999.000,  -999.0,9,  -999.0,  3645.0,   0.0074,   0.220,     2.2075,   0.008
   06MT18_1,       A01E,     605,          1,          2,        B46,2,19910917,       0114,    52.4667,   -20.8633,       3739,  3741.4,   2.4868,  34.9070,2,  34.9080,2,   241.3,2,   45.62,2,   22.27,2,    0.00,2,    1.54,2,   0.033,2,   0.017,2,  -999.0,9,  -999.0,9,-999.000,5,   1.8487,2,    2.53,2,   2.492,  -999.0,9,  -999.0,  3736.4,   0.0074,   0.180,     2.1682,-999.000
   06MT18_1,       A01E,     605,          1,          1,        K31,2,19910917,       0114,    52.4667,   -20.8633,       3739,  3790.7,   2.4828,  34.9071,2,  34.9080,2,   240.5,2,   46.10,2,   22.37,2,    0.00,2,    1.54,2,   0.043,2,   0.014,2,  -999.0,9,  -999.0,9,   0.039,2,   1.8466,2,    2.64,2,-999.000,  -999.0,9,  -999.0,  3785.6,   0.0074,   0.220,     2.1588,   0.006
   06MT18_1,       A01E,     607,          1,         24,        B41,2,19910917,       1601,    52.4967,   -20.0000,       2803,    17.2,  14.7402,  35.1867,2,-999.0000,9,  -999.0,9, -999.00,9, -999.00,9, -999.00,9, -999.00,9,-999.000,9,-999.000,9,  2060.3,2,  2378.0,2,-999.000,9,-999.0000,9, -999.00,9,-999.000,  -999.0,9,  -999.0,    18.3,-999.0000,-999.000,    14.7376,-999.000
   06MT18_1,       A01E,     607,          1,         22,         K3,2,19910917,       1601,    52.4967,   -20.0000,       2803,    26.3,  14.4635,  35.2611,2,-999.0000,9,  -999.0,9, -999.00,9, -999.00,9, -999.00,9, -999.00,9,-999.000,9,-999.000,9,  2092.5,2,  2371.0,2,-999.000,9,-999.0000,9, -999.00,9,-999.000,  -999.0,9,  -999.0,    27.5,-999.0000,-999.000,    14.4596,-999.000
   06MT18_1,       A01E,     607,          1,         20,        B48,2,19910917,       1601,    52.4967,   -20.0000,       2803,    59.3,  11.8601,  35.5401,2,-999.0000,9,  -999.0,9, -999.00,9, -999.00,9, -999.00,9, -999.00,9,-999.000,9,-999.000,9,  2121.0,2,  2381.0,2,-999.000,9,-999.0000,9, -999.00,9,-999.000,  -999.0,9,  -999.0,    60.8,-999.0000,-999.000,    11.8525,-999.000
   06MT18_1,       A01E,     607,          1,         18,        B40,2,19910917,       1601,    52.4967,   -20.0000,       2803,    98.5,  11.1388,  35.4953,2,-999.0000,9,  -999.0,9, -999.00,9, -999.00,9, -999.00,9, -999.00,9,-999.000,9,-999.000,9,  2126.6,2,  2389.0,2,-999.000,9,-999.0000,9, -999.00,9,-999.000,  -999.0,9,  -999.0,   100.4,-999.0000,-999.000,    11.1266,-999.000
   06MT18_1,       A01E,     607,          1,         16,        B53,2,19910917,       1601,    52.4967,   -20.0000,       2803,   296.9,   9.8541,  35.3255,2,-999.0000,9,  -999.0,9, -999.00,9, -999.00,9, -999.00,9, -999.00,9,-999.000,9,-999.000,9,  2130.2,2,  2384.0,2,-999.000,9,-999.0000,9, -999.00,9,-999.000,  -999.0,9,  -999.0,   300.4,-999.0000,-999.000,     9.8198,-999.000
   06MT18_1,       A01E,     607,          1,         14,        B42,2,19910917,       1601,    52.4967,   -20.0000,       2803,   495.6,   8.8541,  35.2290,2,-999.0000,9,  -999.0,9, -999.00,9, -999.00,9, -999.00,9, -999.00,9,-999.000,9,-999.000,9,  2148.1,2,  2377.0,2,-999.000,9,-999.0000,9, -999.00,9,-999.000,  -999.0,9,  -999.0,   500.3,-999.0000,-999.000,     8.7999,-999.000
   06MT18_1,       A01E,     607,          1,         12,        B50,2,19910917,       1601,    52.4967,   -20.0000,       2803,   744.1,   7.4864,  35.2741,2,-999.0000,9,  -999.0,9, -999.00,9, -999.00,9, -999.00,9, -999.00,9,-999.000,9,-999.000,9,  2171.1,2,  2370.0,2,-999.000,9,-999.0000,9, -999.00,9,-999.000,  -999.0,9,  -999.0,   749.7,-999.0000,-999.000,     7.4114,-999.000
   06MT18_1,       A01E,     607,          1,         10,        K19,2,19910917,       1601,    52.4967,   -20.0000,       2803,   992.2,   5.3574,  35.0621,2,-999.0000,9,  -999.0,9, -999.00,9, -999.00,9, -999.00,9, -999.00,9,-999.000,9,-999.000,9,  2165.3,2,  2365.0,2,-999.000,9,-999.0000,9, -999.00,9,-999.000,  -999.0,9,  -999.0,   998.1,-999.0000,-999.000,     5.2715,-999.000
   06MT18_1,       A01E,     607,          1,          8,         K7,2,19910917,       1601,    52.4967,   -20.0000,       2803,  1496.3,   3.7098,  34.9008,2,-999.0000,9,  -999.0,9, -999.00,9, -999.00,9, -999.00,9, -999.00,9,-999.000,9,-999.000,9,  2151.9,2,  2364.0,2,-999.000,9,-999.0000,9, -999.00,9,-999.000,  -999.0,9,  -999.0,  1501.6,-999.0000,-999.000,     3.5934,-999.000
   06MT18_1,       A01E,     607,          1,          6,        B51,2,19910917,       1601,    52.4967,   -20.0000,       2803,  1996.2,   3.4880,  34.9071,2,-999.0000,9,  -999.0,9, -999.00,9, -999.00,9, -999.00,9, -999.00,9,-999.000,9,-999.000,9,  2150.6,2,  2352.0,2,-999.000,9,-999.0000,9, -999.00,9,-999.000,  -999.0,9,  -999.0,  1999.5,-999.0000,-999.000,     3.3286,-999.000
   06MT18_1,       A01E,     607,          1,          4,        B43,2,19910917,       1601,    52.4967,   -20.0000,       2803,  2499.0,   3.2292,  34.9467,2,-999.0000,9,  -999.0,9, -999.00,9, -999.00,9, -999.00,9, -999.00,9,-999.000,9,-999.000,9,  2159.6,2,  2366.0,2,-999.000,9,-999.0000,9, -999.00,9,-999.000,  -999.0,9,  -999.0,  2499.6,-999.0000,-999.000,     3.0253,-999.000
   06MT18_1,       A01E,     607,          1,          2,        B46,2,19910917,       1601,    52.4967,   -20.0000,       2803,  2703.8,   3.0644,  34.9466,2,-999.0000,9,  -999.0,9, -999.00,9, -999.00,9, -999.00,9, -999.00,9,-999.000,9,-999.000,9,  2168.2,2,  2377.0,2,-999.000,9,-999.0000,9, -999.00,9,-999.000,  -999.0,9,  -999.0,  2703.3,-999.0000,-999.000,     2.8430,-999.000