BOTTLE,20020919WHPSIOSA
EXPOCODE,SECT_ID,STNNBR,CASTNO,SAMPNO,BTLNBR,BTLNBR_FLAG_W,DATE,TIME,LATITUDE,LONGITUDE,DEPTH,CTDPRS,CTDTMP,CTDSAL,CTDSAL_FLAG_W,SALNTY,SALNTY_FLAG_W,OXYGEN,OXYGEN_FLAG_W,SILCAT,SILCAT_FLAG_W,NITRAT,NITRAT_FLAG_W,NITRIT,NITRIT_FLAG_W,PHSPHT,PHSPHT_FLAG_W,CFC-11,CFC-11_FLAG_W,CFC-12,CFC-12_FLAG_W,TCARBN,TCARBN_FLAG_W,ALKALI,ALKALI_FLAG_W,TRITUM,TRITUM_FLAG_W,HELIUM,HELIUM_FLAG_W,DELHE3,DELHE3_FLAG_W,REVTMP,DELC14,DELC14_FLAG_W,C14ERR,CTDRAW,HELIER,DELHER,THETA,TRITER
,,,,,,,,,,,METERS,DBAR,ITS-90,PSS-78,,PSS-78,,UMOL/KG,,UMOL/KG,,UMOL/KG,,UMOL/KG,,UMOL/KG,,PMOL/KG,,PMOL/KG,,UMOL/KG,,UMOL/KG,,TU,,NMOL/KG,,PERCNT,,ITS-90,/MILLE,,/MILLE,DBAR,NMOL/KG,PERCNT,DEG,TU
   06MT18_1,       A01E,     582,          1,         23,        K23,2,19910910,       1944,    58.0850,   -29.5000,       2252,    13.2,  10.9130,  34.9194,2,  34.9220,2,   276.0,2,    2.44,2,    5.86,3,    0.16,2,    0.52,3,-999.000,9,-999.000,9,  2071.2,2,  -999.0,9,-999.000,9,-999.0000,9, -999.00,9,-999.000,  -999.0,9,  -999.0,    14.2,-999.0000,-999.000,    10.9114,-999.000
   06MT18_1,       A01E,     582,          1,         24,        B41,2,19910910,       1944,    58.0850,   -29.5000,       2252,    13.3,  10.9150,  34.9184,2,  34.9200,2,  -999.0,9, -999.00,9, -999.00,9, -999.00,9, -999.00,9,-999.000,9,-999.000,9,  -999.0,9,  2362.0,2,-999.000,9,-999.0000,9, -999.00,9,-999.000,  -999.0,9,  -999.0,    14.4,-999.0000,-999.000,    10.9134,-999.000
   06MT18_1,       A01E,     582,          1,         22,         K3,2,19910910,       1944,    58.0850,   -29.5000,       2252,    23.0,  10.9130,  34.9199,2,  34.9230,2,   275.6,2,    2.44,2,    5.86,3,    0.16,2,    0.53,3,   3.509,2,   1.734,2,  2070.0,2,  2357.0,2,-999.000,9,-999.0000,9, -999.00,9,-999.000,  -999.0,9,  -999.0,    24.2,-999.0000,-999.000,    10.9102,-999.000
   06MT18_1,       A01E,     582,          1,         21,        B35,2,19910910,       1944,    58.0850,   -29.5000,       2252,    43.2,  10.3426,  34.9414,2,  34.9570,2,   268.7,2,    2.74,2,    7.72,3,    0.21,2,    0.64,3,   3.562,2,   1.743,2,  2084.8,2,  2371.0,2,-999.000,9,-999.0000,9, -999.00,9,-999.000,  -999.0,9,  -999.0,    44.6,-999.0000,-999.000,    10.3375,-999.000
   06MT18_1,       A01E,     582,          1,         20,        B48,2,19910910,       1944,    58.0850,   -29.5000,       2252,    84.0,   7.4135,  35.0417,2,  35.0460,2,   272.4,2,    7.04,2,   16.42,3,    0.01,2,    1.09,3,   3.858,2,   1.840,2,  2135.9,2,  2372.0,2,   2.315,2,   1.7842,2,   -0.90,2,-999.000,  -999.0,9,  -999.0,    85.8,   0.0071,   0.180,     7.4054,   0.052
   06MT18_1,       A01E,     582,          1,         19,        B36,2,19910910,       1944,    58.0850,   -29.5000,       2252,   183.9,   6.6382,  35.0206,2,  35.0230,2,   268.6,2,    8.79,2,   17.69,3,    0.00,2,    1.20,3,   3.502,2,   1.684,2,  2143.8,2,  2383.0,2,   1.953,2,   1.7802,2,    0.42,2,-999.000,  -999.0,9,  -999.0,   186.5,   0.0071,   0.120,     6.6215,   0.019
   06MT18_1,       A01E,     582,          1,         18,        K17,3,19910910,       1944,    58.0850,   -29.5000,       2252,   283.8,   6.2116,  35.0000,2,  35.0020,2,   256.2,4,    9.97,4,   18.96,4,    0.00,4,    1.28,4,   3.076,2,   1.470,2,  2150.7,2,  -999.0,9,   1.988,2,   1.7781,2,    2.22,2,-999.000,  -999.0,9,  -999.0,   287.2,   0.0071,   0.190,     6.1865,   0.024
   06MT18_1,       A01E,     582,          1,         17,        K19,2,19910910,       1944,    58.0850,   -29.5000,       2252,   384.7,   6.4414,  35.0851,2,  35.0850,2,   269.1,2,    9.09,2,   17.98,3,    0.00,2,    1.21,3,   3.368,2,   1.612,2,  2146.2,2,  2383.0,2,   1.986,2,   1.7848,2,    1.14,2,   6.445,  -999.0,9,  -999.0,   388.8,   0.0071,   0.180,     6.4064,   0.024
   06MT18_1,       A01E,     582,          1,         16,        B39,2,19910910,       1944,    58.0850,   -29.5000,       2252,   485.4,   6.1007,  35.0546,2,  35.0550,2,   259.8,2,    9.77,2,   18.86,3,    0.00,2,    1.28,3,-999.000,9,-999.000,9,  -999.0,9,  -999.0,9,-999.000,9,-999.0000,9, -999.00,9,-999.000,  -999.0,9,  -999.0,   490.0,-999.0000,-999.000,     6.0575,-999.000
   06MT18_1,       A01E,     582,          1,         15,        K16,2,19910910,       1944,    58.0850,   -29.5000,       2252,   585.9,   5.6941,  35.0320,2,  35.0320,2,   251.8,2,   10.46,2,   19.64,3,    0.00,2,    1.33,3,   2.572,2,   1.223,2,  2157.6,2,  2403.0,2,-999.000,9,-999.0000,9, -999.00,9,   5.699,  -999.0,9,  -999.0,   591.0,-999.0000,-999.000,     5.6434,-999.000
   06MT18_1,       A01E,     582,          1,         14,        B42,2,19910910,       1944,    58.0850,   -29.5000,       2252,   637.0,   5.3304,  35.0050,2,  35.0040,2,   245.8,2,   11.14,2,   20.23,3,    0.00,2,    1.37,3,   2.215,2,   1.045,2,  2160.7,2,  -999.0,9,   1.793,2,   1.8038,2,    5.70,2,-999.000,  -999.0,9,  -999.0,   642.3,   0.0072,   0.180,     5.2769,   0.033
   06MT18_1,       A01E,     582,          1,         13,         K7,2,19910910,       1944,    58.0850,   -29.5000,       2252,   888.7,   4.3853,  34.9620,2,  34.9630,2,   262.0,2,   11.04,2,   19.64,3,    0.00,2,    1.33,3,   2.158,2,   0.960,2,  2157.7,2,  2400.0,2,-999.000,9,-999.0000,9, -999.00,9,   4.411,  -999.0,9,  -999.0,   894.6,-999.0000,-999.000,     4.3155,-999.000
   06MT18_1,       A01E,     582,          1,         12,        B44,2,19910910,       1944,    58.0850,   -29.5000,       2252,  1091.0,   3.8267,  34.9183,2,  34.9200,2,   274.4,2,   11.14,2,   19.45,3,    0.00,2,    1.32,3,-999.000,9,-999.000,9,  2154.2,2,  -999.0,9,-999.000,9,-999.0000,9, -999.00,9,-999.000,  -999.0,9,  -999.0,  1096.9,-999.0000,-999.000,     3.7441,-999.000
   06MT18_1,       A01E,     582,          1,         11,        B46,2,19910910,       1944,    58.0850,   -29.5000,       2252,  1292.8,   3.5450,  34.9041,2,  34.9030,2,   279.3,2,   11.34,2,   19.25,3,    0.00,2,    1.31,3,   1.690,2,   0.793,2,  2151.3,2,  2393.0,2,   1.659,2,   1.8274,2,    8.08,2,   3.545,  -999.0,9,  -999.0,  1298.5,   0.0073,   0.180,     3.4480,   0.023
   06MT18_1,       A01E,     582,          1,         10,        B45,2,19910910,       1944,    58.0850,   -29.5000,       2252,  1494.5,   3.5420,  34.9409,2,  34.9410,2,   275.6,2,   11.73,2,   18.86,3,    0.00,2,    1.29,3,-999.000,9,-999.000,9,  2152.7,2,  -999.0,9,-999.000,9,-999.0000,9, -999.00,9,-999.000,  -999.0,9,  -999.0,  1499.8,-999.0000,-999.000,     3.4275,-999.000
   06MT18_1,       A01E,     582,          1,          9,        B40,2,19910910,       1944,    58.0850,   -29.5000,       2252,  1697.5,   3.3551,  34.9721,2,  34.9710,2,   274.7,2,   12.21,2,   18.47,3,    0.00,2,    1.26,3,   1.454,2,   0.683,2,  2155.5,2,  2392.0,2,   1.328,2,-999.0000,5,   -9.00,5,   3.357,  -999.0,9,  -999.0,  1702.1,-999.0000,-999.000,     3.2248,   0.027
   06MT18_1,       A01E,     582,          1,          8,        B52,2,19910910,       1944,    58.0850,   -29.5000,       2252,  1900.5,   3.0774,  34.9823,2,  34.9810,2,   277.2,2,   12.31,2,   17.98,3,    0.00,2,    1.24,3,-999.000,9,-999.000,9,  2155.4,2,  -999.0,9,-999.000,9,-999.0000,9, -999.00,9,-999.000,  -999.0,9,  -999.0,  1904.3,-999.0000,-999.000,     2.9326,-999.000
   06MT18_1,       A01E,     582,          1,          7,        B37,2,19910910,       1944,    58.0850,   -29.5000,       2252,  1952.0,   3.0414,  34.9823,2,  34.9820,2,   276.6,2,   12.51,2,   17.98,3,    0.00,2,    1.24,3,-999.000,9,-999.000,9,  2155.9,2,  -999.0,9,-999.000,9,-999.0000,9, -999.00,9,   3.044,  -999.0,9,  -999.0,  1955.5,-999.0000,-999.000,     2.8925,-999.000
   06MT18_1,       A01E,     582,          1,          6,        B49,2,19910910,       1944,    58.0850,   -29.5000,       2252,  2001.8,   3.0354,  34.9824,2,  34.9830,2,   276.2,2,   12.51,2,   17.98,3,    0.00,2,    1.22,3,   1.720,2,   0.803,2,  2156.2,2,  2396.0,2,   1.392,2,   1.8038,2,    5.75,2,-999.000,  -999.0,9,  -999.0,  2005.1,   0.0072,   0.180,     2.8820,   0.027
   06MT18_1,       A01E,     582,          1,          5,        B51,2,19910910,       1944,    58.0850,   -29.5000,       2252,  2052.7,   3.0204,  34.9822,2,  34.9820,2,   276.8,2,   12.61,2,   17.98,3,    0.00,2,    1.23,3,-999.000,9,-999.000,9,  2156.3,2,  -999.0,9,-999.000,9,-999.0000,9, -999.00,9,   3.038,  -999.0,9,  -999.0,  2055.7,-999.0000,-999.000,     2.8626,-999.000
   06MT18_1,       A01E,     582,          1,          4,        K30,2,19910910,       1944,    58.0850,   -29.5000,       2252,  2102.5,   3.0124,  34.9822,2,  34.9810,2,   276.4,2,   12.80,2,   17.98,3,    0.00,2,    1.24,3,-999.000,9,-999.000,9,  2156.7,2,  -999.0,9,-999.000,9,-999.0000,9, -999.00,9,-999.000,  -999.0,9,  -999.0,  2105.3,-999.0000,-999.000,     2.8501,-999.000
   06MT18_1,       A01E,     582,          1,          3,        K22,2,19910910,       1944,    58.0850,   -29.5000,       2252,  2143.6,   3.0104,  34.9826,2,  34.9800,2,   276.2,2,   12.70,2,   17.98,3,    0.00,2,    1.24,3,   1.711,2,   0.800,2,  2157.0,2,  -999.0,9,-999.000,5,   1.8120,2,    5.57,2,   3.010,  -999.0,9,  -999.0,  2146.2,   0.0072,   0.190,     2.8443,-999.000
   06MT18_1,       A01E,     582,          1,          2,        K31,2,19910910,       1944,    58.0850,   -29.5000,       2252,  2194.3,   3.0064,  34.9805,2,  34.9800,2,   276.8,2,   12.90,2,   17.98,3,    0.00,2,    1.24,3,-999.000,9,-999.000,9,  2157.1,2,  -999.0,9,-999.000,9,-999.0000,9, -999.00,9,-999.000,  -999.0,9,  -999.0,  2196.6,-999.0000,-999.000,     2.8356,-999.000
   06MT18_1,       A01E,     582,          1,          1,        B50,2,19910910,       1944,    58.0850,   -29.5000,       2252,  2244.9,   2.9964,  34.9815,2,  34.9810,2,   278.3,2,   13.09,2,   17.98,3,    0.01,2,    1.24,3,   1.694,2,   0.795,2,  2157.8,2,  2400.0,2,   1.382,2,   1.8181,2,    5.86,2,   2.997,  -999.0,9,  -999.0,  2246.9,   0.0073,   0.170,     2.8210,   0.017
   06MT18_1,       A01E,     583,          1,         24,        B41,2,19910911,       0020,    57.8583,   -29.0567,       2333,    14.8,  10.8601,  34.9543,2,  34.9480,2,   275.3,2,    1.76,2,    5.47,2,    0.15,2,    0.47,2,-999.000,9,-999.000,9,  -999.0,9,  -999.0,9,-999.000,9,-999.0000,9, -999.00,9,-999.000,  -999.0,9,  -999.0,    15.9,-999.0000,-999.000,    10.8583,-999.000
   06MT18_1,       A01E,     583,          1,         23,        K23,2,19910911,       0020,    57.8583,   -29.0567,       2333,    35.5,  10.0639,  34.9800,2,  34.9860,2,   266.5,2,    3.62,2,    8.40,2,    0.19,2,    0.64,2,   3.527,2,   1.724,2,  -999.0,9,  -999.0,9,-999.000,9,-999.0000,9, -999.00,9,-999.000,  -999.0,9,  -999.0,    36.8,-999.0000,-999.000,    10.0598,-999.000
   06MT18_1,       A01E,     583,          1,         22,         K3,2,19910911,       0020,    57.8583,   -29.0567,       2333,    65.8,   8.2227,  35.0621,2,  35.0670,2,   264.2,2,    7.33,2,   14.95,2,    0.02,2,    0.97,2,-999.000,9,-999.000,9,  -999.0,9,  -999.0,9,-999.000,9,-999.0000,9, -999.00,9,-999.000,  -999.0,9,  -999.0,    67.4,-999.0000,-999.000,     8.2160,-999.000
   06MT18_1,       A01E,     583,          1,         21,        B35,2,19910911,       0020,    57.8583,   -29.0567,       2333,   100.4,   7.9789,  35.0706,2,  35.0750,2,   264.6,2,    7.72,2,   15.34,2,    0.01,2,    1.00,2,   3.534,2,   1.711,2,  -999.0,9,  -999.0,9,-999.000,9,-999.0000,9, -999.00,9,-999.000,  -999.0,9,  -999.0,   102.3,-999.0000,-999.000,     7.9688,-999.000
   06MT18_1,       A01E,     583,          1,         20,        B48,2,19910911,       0020,    57.8583,   -29.0567,       2333,   201.5,   7.4774,  35.0771,2,  35.0750,2,   264.7,2,    8.31,2,   16.02,2,    0.01,2,    1.05,2,-999.000,9,-999.000,9,  -999.0,9,  -999.0,9,-999.000,9,-999.0000,9, -999.00,9,-999.000,  -999.0,9,  -999.0,   204.3,-999.0000,-999.000,     7.4578,-999.000
   06MT18_1,       A01E,     583,          1,         19,        B36,2,19910911,       0020,    57.8583,   -29.0567,       2333,   301.9,   6.8630,  35.0491,2,  35.0490,2,   268.8,2,    8.70,2,   16.61,2,    0.00,2,    1.08,2,   3.508,2,   1.691,2,  -999.0,9,  -999.0,9,-999.000,9,-999.0000,9, -999.00,9,-999.000,  -999.0,9,  -999.0,   305.4,-999.0000,-999.000,     6.8348,-999.000
   06MT18_1,       A01E,     583,          1,         18,        K17,2,19910911,       0020,    57.8583,   -29.0567,       2333,   399.6,   6.7092,  35.0748,2,  35.0750,2,   270.4,2,    8.79,2,   16.71,2,    0.00,2,    1.09,2,-999.000,9,-999.000,9,  -999.0,9,  -999.0,9,-999.000,9,-999.0000,9, -999.00,9,-999.000,  -999.0,9,  -999.0,   403.8,-999.0000,-999.000,     6.6720,-999.000
   06MT18_1,       A01E,     583,          1,         17,        K19,2,19910911,       0020,    57.8583,   -29.0567,       2333,   500.7,   6.5583,  35.0858,2,  35.0850,2,   272.0,2,    8.79,2,   16.81,2,    0.01,2,    1.09,2,   3.510,2,   1.687,2,  -999.0,9,  -999.0,9,-999.000,9,-999.0000,9, -999.00,9,   6.566,  -999.0,9,  -999.0,   505.4,-999.0000,-999.000,     6.5120,-999.000
   06MT18_1,       A01E,     583,          1,         16,        B39,2,19910911,       0020,    57.8583,   -29.0567,       2333,   603.1,   6.1457,  35.0439,2,  35.0410,2,   257.8,2,   10.06,2,   18.17,2,    0.00,2,    1.17,2,-999.000,9,-999.000,9,  -999.0,9,  -999.0,9,-999.000,9,-999.0000,9, -999.00,9,-999.000,  -999.0,9,  -999.0,   608.2,-999.0000,-999.000,     6.0914,-999.000
   06MT18_1,       A01E,     583,          1,         15,        K16,2,19910911,       0020,    57.8583,   -29.0567,       2333,   702.0,   5.4973,  34.9978,2,  34.9990,2,   246.0,2,   11.34,2,   19.25,2,    0.01,2,    1.25,2,   2.405,2,   1.133,2,  -999.0,9,  -999.0,9,-999.000,9,-999.0000,9, -999.00,9,   5.519,  -999.0,9,  -999.0,   707.5,-999.0000,-999.000,     5.4371,-999.000
   06MT18_1,       A01E,     583,          1,         14,        B42,4,19910911,       0020,    57.8583,   -29.0567,       2333,   702.0,-999.0000,-999.0000,9,  34.9990,2,   245.8,2,   11.43,2,   19.25,2,    0.01,2,    1.26,2,-999.000,9,-999.000,9,  -999.0,9,  -999.0,9,-999.000,9,-999.0000,9, -999.00,9,-999.000,  -999.0,9,  -999.0,   707.5,-999.0000,-999.000,     -999.0,-999.000
   06MT18_1,       A01E,     583,          1,         13,         K7,2,19910911,       0020,    57.8583,   -29.0567,       2333,  1005.7,   4.2784,  34.9365,2,  34.9360,2,   259.9,2,   11.73,2,   19.25,2,    0.01,2,    1.25,2,   2.052,2,   0.925,2,  -999.0,9,  -999.0,9,-999.000,9,-999.0000,9, -999.00,9,   4.282,  -999.0,9,  -999.0,  1011.6,-999.0000,-999.000,     4.1994,-999.000
   06MT18_1,       A01E,     583,          1,         12,        B44,2,19910911,       0020,    57.8583,   -29.0567,       2333,  1207.8,   3.9017,  34.9196,2,  34.9180,2,   271.6,2,   11.53,2,   18.57,2,    0.01,2,    1.22,2,   1.918,2,   0.902,2,  -999.0,9,  -999.0,9,-999.000,9,-999.0000,9, -999.00,9,-999.000,  -999.0,9,  -999.0,  1213.7,-999.0000,-999.000,     3.8085,-999.000
   06MT18_1,       A01E,     583,          1,         11,        B46,2,19910911,       0020,    57.8583,   -29.0567,       2333,  1318.3,   3.7408,  34.9121,2,  34.9120,2,   275.4,2,   11.34,2,   18.37,2,    0.01,2,    1.21,2,   1.842,2,   0.865,2,  -999.0,9,  -999.0,9,-999.000,9,-999.0000,9, -999.00,9,   3.741,  -999.0,9,  -999.0,  1324.0,-999.0000,-999.000,     3.6396,-999.000
   06MT18_1,       A01E,     583,          1,         10,        B45,2,19910911,       0020,    57.8583,   -29.0567,       2333,  1458.3,   3.6759,  34.9276,2,  34.9280,2,   277.1,2,   11.24,2,   17.98,2,    0.01,2,    1.18,2,-999.000,9,-999.000,9,  -999.0,9,  -999.0,9,-999.000,9,-999.0000,9, -999.00,9,-999.000,  -999.0,9,  -999.0,  1463.7,-999.0000,-999.000,     3.5632,-999.000
   06MT18_1,       A01E,     583,          1,          9,        B40,2,19910911,       0020,    57.8583,   -29.0567,       2333,  1585.9,   3.6099,  34.9354,2,  34.9360,2,   276.5,2,   11.53,2,   17.88,2,    0.01,2,    1.19,2,   1.557,2,   0.731,2,  -999.0,9,  -999.0,9,-999.000,9,-999.0000,9, -999.00,9,   3.613,  -999.0,9,  -999.0,  1590.9,-999.0000,-999.000,     3.4866,-999.000
   06MT18_1,       A01E,     583,          1,          8,        B52,2,19910911,       0020,    57.8583,   -29.0567,       2333,  1788.2,   3.4820,  34.9622,2,-999.0000,5,   274.9,2,   12.22,2,   17.59,2,    0.00,2,    1.17,2,   1.401,2,   0.660,2,  -999.0,9,  -999.0,9,-999.000,9,-999.0000,9, -999.00,9,-999.000,  -999.0,9,  -999.0,  1792.4,-999.0000,-999.000,     3.3420,-999.000
   06MT18_1,       A01E,     583,          1,          7,        B37,2,19910911,       0020,    57.8583,   -29.0567,       2333,  1991.4,   3.1933,  34.9706,2,  34.9700,2,   274.5,2,   13.49,2,   17.49,2,    0.00,2,    1.17,2,   1.346,2,   0.629,2,  -999.0,9,  -999.0,9,-999.000,9,-999.0000,9, -999.00,9,   3.195,  -999.0,9,  -999.0,  1994.7,-999.0000,-999.000,     3.0385,-999.000
   06MT18_1,       A01E,     583,          1,          6,        B49,2,19910911,       0020,    57.8583,   -29.0567,       2333,  2092.5,   3.0194,  34.9748,2,  34.9740,2,   275.4,2,   13.78,2,   17.30,2,    0.00,2,    1.16,2,-999.000,9,-999.000,9,  -999.0,9,  -999.0,9,-999.000,9,-999.0000,9, -999.00,9,-999.000,  -999.0,9,  -999.0,  2095.3,-999.0000,-999.000,     2.8579,-999.000
   06MT18_1,       A01E,     583,          1,          5,        B51,2,19910911,       0020,    57.8583,   -29.0567,       2333,  2142.9,   2.9554,  34.9778,2,  34.9770,2,   276.0,2,   13.68,2,   17.20,2,    0.00,2,    1.15,2,   1.614,2,   0.756,2,  -999.0,9,  -999.0,9,-999.000,9,-999.0000,9, -999.00,9,-999.000,  -999.0,9,  -999.0,  2145.5,-999.0000,-999.000,     2.7902,-999.000
   06MT18_1,       A01E,     583,          1,          4,        K30,2,19910911,       0020,    57.8583,   -29.0567,       2333,  2192.6,   2.9245,  34.9797,2,  34.9790,2,   276.9,2,   13.29,2,   17.00,2,    0.00,2,    1.14,2,-999.000,9,-999.000,9,  -999.0,9,  -999.0,9,-999.000,9,-999.0000,9, -999.00,9,-999.000,  -999.0,9,  -999.0,  2194.9,-999.0000,-999.000,     2.7552,-999.000
   06MT18_1,       A01E,     583,          1,          3,        K22,2,19910911,       0020,    57.8583,   -29.0567,       2333,  2242.0,   2.9065,  34.9800,2,  34.9790,2,   282.5,4,   13.49,2,   17.00,2,    0.00,2,    1.14,2,   1.727,2,   0.810,2,  -999.0,9,  -999.0,9,-999.000,9,-999.0000,9, -999.00,9,   2.907,  -999.0,9,  -999.0,  2244.1,-999.0000,-999.000,     2.7329,-999.000
   06MT18_1,       A01E,     583,          1,          2,        K31,2,19910911,       0020,    57.8583,   -29.0567,       2333,  2289.6,   2.8785,  34.9774,2,  34.9790,2,   276.4,2,   14.07,2,   17.10,2,    0.00,2,    1.15,2,-999.000,9,-999.000,9,  -999.0,9,  -999.0,9,-999.000,9,-999.0000,9, -999.00,9,-999.000,  -999.0,9,  -999.0,  2291.4,-999.0000,-999.000,     2.7008,-999.000
   06MT18_1,       A01E,     583,          1,          1,        B50,2,19910911,       0020,    57.8583,   -29.0567,       2333,  2339.1,   2.8355,  34.9768,2,  34.9770,2,   275.8,2,   14.46,2,   17.20,2,    0.00,2,    1.16,2,   1.617,2,   0.755,2,  -999.0,9,  -999.0,9,-999.000,9,-999.0000,9, -999.00,9,   2.838,  -999.0,9,  -999.0,  2340.6,-999.0000,-999.000,     2.6539,-999.000