BOTTLE,20020919WHPSIOSA
EXPOCODE,SECT_ID,STNNBR,CASTNO,SAMPNO,BTLNBR,BTLNBR_FLAG_W,DATE,TIME,LATITUDE,LONGITUDE,DEPTH,CTDPRS,CTDTMP,CTDSAL,CTDSAL_FLAG_W,SALNTY,SALNTY_FLAG_W,OXYGEN,OXYGEN_FLAG_W,SILCAT,SILCAT_FLAG_W,NITRAT,NITRAT_FLAG_W,NITRIT,NITRIT_FLAG_W,PHSPHT,PHSPHT_FLAG_W,CFC-11,CFC-11_FLAG_W,CFC-12,CFC-12_FLAG_W,TCARBN,TCARBN_FLAG_W,ALKALI,ALKALI_FLAG_W,TRITUM,TRITUM_FLAG_W,HELIUM,HELIUM_FLAG_W,DELHE3,DELHE3_FLAG_W,REVTMP,DELC14,DELC14_FLAG_W,C14ERR,CTDRAW,HELIER,DELHER,THETA,TRITER
,,,,,,,,,,,METERS,DBAR,ITS-90,PSS-78,,PSS-78,,UMOL/KG,,UMOL/KG,,UMOL/KG,,UMOL/KG,,UMOL/KG,,PMOL/KG,,PMOL/KG,,UMOL/KG,,UMOL/KG,,TU,,NMOL/KG,,PERCNT,,ITS-90,/MILLE,,/MILLE,DBAR,NMOL/KG,PERCNT,DEG,TU
   06MT18_1,       A01E,     576,          1,         24,        B41,2,19910909,       1401,    58.9417,   -32.1283,       1752,    11.8,   9.3955,  34.7252,2,  34.7310,2,   293.2,2,    4.20,2,    8.11,3,    0.17,2,    0.61,2,   3.906,2,   1.883,2,  -999.0,9,  -999.0,9,   2.144,2,   1.7629,2,   -1.55,2,-999.000,  -999.0,9,  -999.0,    12.8,   0.0071,   0.220,     9.3942,   0.028
   06MT18_1,       A01E,     576,          1,         23,         K1,2,19910909,       1401,    58.9417,   -32.1283,       1752,    40.0,   8.7951,  34.7410,2,  34.7540,2,   283.0,2,    4.00,2,    9.28,3,    0.18,2,    0.67,2,   3.921,2,   1.882,2,  -999.0,9,  -999.0,9,-999.000,9,-999.0000,9, -999.00,9,-999.000,  -999.0,9,  -999.0,    41.3,-999.0000,-999.000,     8.7909,-999.000
   06MT18_1,       A01E,     576,          1,         22,         K3,2,19910909,       1401,    58.9417,   -32.1283,       1752,    90.0,   6.5024,  34.9776,2,  34.9770,2,   277.2,2,    8.40,2,   16.51,3,    0.01,2,    1.07,2,-999.000,9,-999.000,9,  -999.0,9,  -999.0,9,   2.012,2,   1.7742,2,   -0.55,2,-999.000,  -999.0,9,  -999.0,    91.8,   0.0071,   0.160,     6.4944,   0.034
   06MT18_1,       A01E,     576,          1,         21,        B35,2,19910909,       1401,    58.9417,   -32.1283,       1752,   126.7,   6.4414,  35.0026,2,  35.0010,2,   276.6,2,    8.79,2,   16.70,3,    0.00,2,    1.09,2,-999.000,9,-999.000,9,  -999.0,9,  -999.0,9,-999.000,9,-999.0000,9, -999.00,9,-999.000,  -999.0,9,  -999.0,   128.9,-999.0000,-999.000,     6.4301,-999.000
   06MT18_1,       A01E,     576,          1,         20,        B48,2,19910909,       1401,    58.9417,   -32.1283,       1752,   173.1,   6.4444,  35.0398,2,  35.0420,2,   277.0,2,    8.89,2,   16.60,3,    0.00,2,    1.09,2,   3.818,2,   1.818,2,  -999.0,9,  -999.0,9,-999.000,9,-999.0000,9, -999.00,9,-999.000,  -999.0,9,  -999.0,   175.7,-999.0000,-999.000,     6.4289,-999.000
   06MT18_1,       A01E,     576,          1,         19,        B36,2,19910909,       1401,    58.9417,   -32.1283,       1752,   202.7,   6.3255,  35.0420,2,  35.0440,2,   279.0,2,    8.69,2,   16.60,3,    0.00,2,    1.09,2,   3.816,2,   1.815,2,  -999.0,9,  -999.0,9,   1.955,2,   1.7603,2,   -0.37,2,-999.000,     9.0,3,     7.0,   205.5,   0.0070,   0.140,     6.3075,   0.027
   06MT18_1,       A01E,     576,          1,         18,        K17,2,19910909,       1401,    58.9417,   -32.1283,       1752,   302.9,   6.4284,  35.0871,2,  35.0890,2,   278.5,2,    8.40,2,   16.41,3,    0.00,2,    1.08,2,   3.701,2,   1.768,2,  -999.0,9,  -999.0,9,   2.076,2,   1.7710,2,   -0.02,2,-999.000,  -999.0,9,  -999.0,   306.5,   0.0071,   0.150,     6.4011,   0.047
   06MT18_1,       A01E,     576,          1,         17,        K19,2,19910909,       1401,    58.9417,   -32.1283,       1752,   367.9,   6.2116,  35.0634,2,  35.0690,2,   275.9,2,    8.79,2,   16.89,3,    0.00,2,    1.11,2,-999.000,9,-999.000,9,  -999.0,9,  -999.0,9,-999.000,9,-999.0000,9, -999.00,9,   6.262,  -999.0,9,  -999.0,   371.9,-999.0000,-999.000,     6.1789,-999.000
   06MT18_1,       A01E,     576,          1,         16,        B39,2,19910909,       1401,    58.9417,   -32.1283,       1752,   468.4,   5.6501,  35.0061,2,  35.0060,2,   270.2,2,    9.57,2,   17.68,3,    0.00,2,    1.18,2,   3.314,2,   1.586,2,  -999.0,9,  -999.0,9,   1.815,2,   1.7819,2,    2.21,2,-999.000,  -999.0,9,  -999.0,   473.0,   0.0071,   0.180,     5.6102,   0.054
   06MT18_1,       A01E,     576,          1,         15,        K15,2,19910909,       1401,    58.9417,   -32.1283,       1752,   569.4,   4.8928,  34.9314,2,  34.9330,2,   279.7,2,    9.77,2,   17.87,3,    0.00,2,    1.19,2,-999.000,9,-999.000,9,  -999.0,9,  -999.0,9,-999.000,9,-999.0000,9, -999.00,9,-999.000,  -999.0,9,  -999.0,   574.4,-999.0000,-999.000,     4.8472,-999.000
   06MT18_1,       A01E,     576,          1,         14,         K7,4,19910909,       1401,    58.9417,   -32.1283,       1752,   569.4,-999.0000,-999.0000,9,  34.9330,2,   279.8,2,    9.77,2,   17.87,3,    0.01,3,    1.20,2,   3.647,2,   1.696,2,  -999.0,9,  -999.0,9,-999.000,9,-999.0000,9, -999.00,9,   4.902,  -999.0,9,  -999.0,   574.4,-999.0000,-999.000,     -999.0,-999.000
   06MT18_1,       A01E,     576,          1,         13,        B42,2,19910909,       1401,    58.9417,   -32.1283,       1752,   727.7,   4.3523,  34.9137,2,  34.9140,2,   278.6,2,   10.45,2,   18.36,3,    0.00,2,    1.23,2,-999.000,9,-999.000,9,  -999.0,9,  -999.0,9,-999.000,9,-999.0000,9, -999.00,9,-999.000,  -999.0,9,  -999.0,   733.2,-999.0000,-999.000,     4.2962,-999.000
   06MT18_1,       A01E,     576,          1,         12,        B44,2,19910909,       1401,    58.9417,   -32.1283,       1752,   829.2,   4.1465,  34.9174,2,  34.9180,2,   275.7,2,   10.94,2,   18.56,3,    0.00,2,    1.24,2,   2.789,2,   1.322,2,  -999.0,9,  -999.0,9,-999.000,5,   1.8004,2,   -9.00,2,-999.000,  -999.0,9,  -999.0,   835.0,   0.0072,-999.000,     4.0833,-999.000
   06MT18_1,       A01E,     576,          1,         11,        B46,2,19910909,       1401,    58.9417,   -32.1283,       1752,  1030.6,   3.7868,  34.9143,2,  34.9130,2,   280.8,2,   10.74,2,   18.26,3,    0.00,2,    1.22,2,-999.000,9,-999.000,9,  -999.0,9,  -999.0,9,-999.000,9,-999.0000,9, -999.00,9,   3.787,  -999.0,9,  -999.0,  1036.5,-999.0000,-999.000,     3.7096,-999.000
   06MT18_1,       A01E,     576,          1,         10,        B45,2,19910909,       1401,    58.9417,   -32.1283,       1752,  1131.8,   3.6529,  34.9071,2,  34.9060,2,   284.0,2,   10.84,2,   18.07,3,    0.00,2,    1.22,2,   2.691,2,   1.266,2,  -999.0,9,  -999.0,9,   1.734,2,   1.7989,2,    4.87,2,-999.000,   -25.0,2,     6.0,  1137.7,   0.0072,   0.150,     3.5684,   0.056
   06MT18_1,       A01E,     576,          1,          9,        B40,2,19910909,       1401,    58.9417,   -32.1283,       1752,  1233.1,   3.6109,  34.9073,2,  34.9050,2,   284.7,2,   10.74,2,   17.97,3,    0.00,2,    1.22,2,-999.000,9,-999.000,9,  -999.0,9,  -999.0,9,-999.000,9,-999.0000,9, -999.00,9,   3.614,  -999.0,9,  -999.0,  1238.9,-999.0000,-999.000,     3.5183,-999.000
   06MT18_1,       A01E,     576,          1,          8,        B52,2,19910909,       1401,    58.9417,   -32.1283,       1752,  1333.4,   3.6559,  34.9232,2,  34.9240,2,   279.9,2,   11.04,2,   17.97,3,    0.00,2,    1.22,2,-999.000,9,-999.000,9,  -999.0,9,  -999.0,9,-999.000,9,-999.0000,9, -999.00,9,-999.000,  -999.0,9,  -999.0,  1339.1,-999.0000,-999.000,     3.5543,-999.000
   06MT18_1,       A01E,     576,          1,          7,        B37,2,19910909,       1401,    58.9417,   -32.1283,       1752,  1434.5,   3.6369,  34.9273,2,  34.9270,2,   278.6,2,   11.13,2,   17.87,3,    0.00,2,    1.22,2,   2.123,2,   0.993,2,  -999.0,9,  -999.0,9,   1.572,2,   1.7757,2,    6.61,2,   3.639,  -999.0,9,  -999.0,  1439.9,   0.0071,   0.200,     3.5267,   0.037
   06MT18_1,       A01E,     576,          1,          6,        B49,2,19910909,       1401,    58.9417,   -32.1283,       1752,  1483.7,   3.6109,  34.9255,2,  34.9260,2,   279.4,2,   11.23,2,   17.87,3,    0.00,2,    1.22,2,-999.000,9,-999.000,9,  -999.0,9,  -999.0,9,-999.000,9,-999.0000,9, -999.00,9,-999.000,  -999.0,9,  -999.0,  1489.0,-999.0000,-999.000,     3.4966,-999.000
   06MT18_1,       A01E,     576,          1,          5,        B51,2,19910909,       1401,    58.9417,   -32.1283,       1752,  1534.7,   3.5819,  34.9237,2,  34.9240,2,   280.1,2,   11.33,2,   17.78,3,    0.00,2,    1.22,2,   2.127,2,   0.996,2,  -999.0,9,  -999.0,9,-999.000,9,-999.0000,9, -999.00,9,   3.582,  -999.0,9,  -999.0,  1539.9,-999.0000,-999.000,     3.4635,-999.000
   06MT18_1,       A01E,     576,          1,          4,        K30,2,19910909,       1401,    58.9417,   -32.1283,       1752,  1585.8,   3.5460,  34.9247,2,  34.9250,2,   280.4,2,   11.33,2,   17.78,3,    0.00,2,    1.23,2,   2.072,2,   0.965,2,  -999.0,9,  -999.0,9,   1.470,2,   1.7910,2,   -9.00,2,-999.000,  -999.0,9,  -999.0,  1590.8,   0.0072,-999.000,     3.4235,   0.129
   06MT18_1,       A01E,     576,          1,          3,        K22,2,19910909,       1401,    58.9417,   -32.1283,       1752,  1636.6,   3.5520,  34.9254,2,  34.9260,2,   279.7,2,   11.33,2,   17.87,3,    0.00,2,    1.23,2,-999.000,9,-999.000,9,  -999.0,9,  -999.0,9,-999.000,9,-999.0000,9, -999.00,9,   3.550,  -999.0,9,  -999.0,  1641.4,-999.0000,-999.000,     3.4248,-999.000
   06MT18_1,       A01E,     576,          1,          2,        K31,2,19910909,       1401,    58.9417,   -32.1283,       1752,  1686.6,   3.5440,  34.9260,2,  34.9260,2,   280.7,2,   11.33,2,   17.78,3,    0.00,2,    1.19,2,   2.042,2,   0.958,2,  -999.0,9,  -999.0,9,   1.528,2,   1.7910,2,    6.53,2,-999.000,   -31.0,2,     6.0,  1691.2,   0.0072,   0.140,     3.4124,   0.041
   06MT18_1,       A01E,     577,          2,         22,         K3,2,19910909,       2040,    58.8817,   -31.4900,       1550,     9.3,   9.9480,  34.7857,2,  34.7900,2,   291.1,2,    3.42,2,    7.33,2,    0.18,2,    0.57,2,   3.751,2,   1.819,2,  2074.3,2,  2365.0,2,-999.000,9,-999.0000,9, -999.00,9,-999.000,  -999.0,9,  -999.0,    10.3,-999.0000,-999.000,     9.9469,-999.000
   06MT18_1,       A01E,     577,          2,         21,        B35,2,19910909,       2040,    58.8817,   -31.4900,       1550,    54.3,   8.2826,  34.8828,2,  34.8790,2,   276.0,2,    5.08,2,   11.82,2,    0.15,2,    0.81,2,   3.916,2,   1.871,2,  2110.0,2,  2352.0,2,-999.000,9,-999.0000,9, -999.00,9,-999.000,  -999.0,9,  -999.0,    55.8,-999.0000,-999.000,     8.2770,-999.000
   06MT18_1,       A01E,     577,          2,         20,        B48,2,19910909,       2040,    58.8817,   -31.4900,       1550,    82.7,   6.7841,  34.9700,2,  34.9710,2,   275.9,2,    7.91,2,   15.73,2,    0.00,2,    1.03,2,-999.000,9,-999.000,9,  2138.0,2,  2362.0,2,-999.000,9,-999.0000,9, -999.00,9,-999.000,  -999.0,9,  -999.0,    84.4,-999.0000,-999.000,     6.7766,-999.000
   06MT18_1,       A01E,     577,          2,         19,        B36,2,19910909,       2040,    58.8817,   -31.4900,       1550,   123.5,   6.5383,  34.9784,2,  34.9810,2,   276.3,2,    8.69,2,   16.21,2,    0.00,2,    1.05,2,   3.853,2,   1.831,2,  2141.7,2,  -999.0,9,-999.000,5,   1.7716,2,   -0.06,2,-999.000,  -999.0,9,  -999.0,   125.6,   0.0071,   0.160,     6.5272,-999.000
   06MT18_1,       A01E,     577,          2,         18,        K17,2,19910909,       2040,    58.8817,   -31.4900,       1550,   223.7,   6.5413,  35.0510,2,  35.0520,2,   274.4,2,    8.69,2,   16.31,2,    0.00,2,    1.06,2,-999.000,9,-999.000,9,  2142.0,2,  -999.0,9,-999.000,9,-999.0000,9, -999.00,9,-999.000,  -999.0,9,  -999.0,   226.7,-999.0000,-999.000,     6.5211,-999.000
   06MT18_1,       A01E,     577,          2,         17,        K19,2,19910909,       2040,    58.8817,   -31.4900,       1550,   324.5,   6.5973,  35.0958,2,  35.0960,2,   278.2,2,    8.30,2,   15.92,2,    0.00,2,    1.05,2,   3.713,2,   1.779,2,  2146.7,2,  2391.0,2,   2.035,2,   1.7848,2,   -0.18,2,   6.604,  -999.0,9,  -999.0,   328.2,   0.0071,   0.160,     6.5676,   0.024
   06MT18_1,       A01E,     577,          2,         16,        B39,2,19910909,       2040,    58.8817,   -31.4900,       1550,   421.8,   6.5233,  35.0974,2,  35.0970,2,   273.3,2,    8.79,2,   16.31,2,    0.00,2,    1.06,2,   3.499,2,   1.685,2,  -999.0,9,  -999.0,9,-999.000,9,-999.0000,9, -999.00,9,-999.000,  -999.0,9,  -999.0,   426.1,-999.0000,-999.000,     6.4846,-999.000
   06MT18_1,       A01E,     577,          2,         15,        K15,2,19910909,       2040,    58.8817,   -31.4900,       1550,   519.8,   6.2166,  35.0719,2,  35.0710,2,   264.2,2,    9.57,2,   16.99,2,    0.00,2,    1.11,2,-999.000,9,-999.000,9,  2150.7,2,  2386.0,2,-999.000,9,-999.0000,9, -999.00,9,-999.000,  -999.0,9,  -999.0,   524.6,-999.0000,-999.000,     6.1698,-999.000
   06MT18_1,       A01E,     577,          2,         14,         K7,2,19910909,       2040,    58.8817,   -31.4900,       1550,   618.4,   5.7850,  35.0361,2,  35.0360,2,   257.5,2,   10.35,2,   17.78,2,    0.00,2,    1.16,2,   2.808,2,   1.325,2,  2154.1,2,  -999.0,9,   1.901,2,   1.7757,2,    3.89,2,   5.786,  -999.0,9,  -999.0,   623.6,   0.0071,   0.160,     5.7309,   0.027
   06MT18_1,       A01E,     577,          2,         13,        B42,2,19910909,       2040,    58.8817,   -31.4900,       1550,   717.6,   5.3504,  35.0192,2,  35.0180,2,   249.7,2,   10.94,2,   18.46,2,    0.00,2,    1.20,2,-999.000,9,-999.000,9,  2160.4,2,  2384.0,2,-999.000,9,-999.0000,9, -999.00,9,-999.000,  -999.0,9,  -999.0,   723.1,-999.0000,-999.000,     5.2896,-999.000
   06MT18_1,       A01E,     577,          2,         12,        B44,2,19910909,       2040,    58.8817,   -31.4900,       1550,   817.1,   4.8059,  34.9843,2,  34.9840,2,   253.4,2,   11.23,2,   18.56,2,    0.00,2,    1.22,2,   2.051,2,   0.959,2,  2160.0,2,  -999.0,9,   1.792,2,   1.7868,2,    7.09,2,-999.000,  -999.0,9,  -999.0,   822.8,   0.0071,   0.170,     4.7395,   0.026
   06MT18_1,       A01E,     577,          2,         11,        B46,2,19910909,       2040,    58.8817,   -31.4900,       1550,   918.5,   4.4362,  34.9717,2,  34.9720,2,   262.9,2,   10.84,2,   17.97,2,    0.00,2,    1.18,2,-999.000,9,-999.000,9,  2156.5,2,  -999.0,9,-999.000,9,-999.0000,9, -999.00,9,   4.451,  -999.0,9,  -999.0,   924.4,-999.0000,-999.000,     4.3635,-999.000
   06MT18_1,       A01E,     577,          2,         10,        B45,2,19910909,       2040,    58.8817,   -31.4900,       1550,  1011.1,   4.2124,  34.9693,2,  34.9690,2,   268.0,2,   10.84,2,   17.68,2,    0.00,2,    1.16,2,   2.060,2,   0.965,2,  2156.1,2,  2385.0,2,-999.000,9,-999.0000,9, -999.00,9,-999.000,  -999.0,9,  -999.0,  1017.0,-999.0000,-999.000,     4.1334,-999.000
   06MT18_1,       A01E,     577,          2,          9,        B40,2,19910909,       2040,    58.8817,   -31.4900,       1550,  1103.2,   4.0795,  34.9688,2,  34.9700,2,   270.3,2,   10.84,2,   17.39,2,    0.00,2,    1.15,2,   2.064,2,   0.968,2,  2155.3,2,  -999.0,9,   1.699,2,   1.7983,2,    7.66,2,   4.083,  -999.0,9,  -999.0,  1109.1,   0.0072,   0.170,     3.9937,   0.026
   06MT18_1,       A01E,     577,          2,          8,        B52,2,19910909,       2040,    58.8817,   -31.4900,       1550,  1192.8,   4.0256,  34.9724,2,  34.9720,2,   271.2,2,   10.84,2,   17.29,2,    0.00,2,    1.15,2,-999.000,9,-999.000,9,  2155.1,2,  -999.0,9,-999.000,9,-999.0000,9, -999.00,9,-999.000,  -999.0,9,  -999.0,  1198.7,-999.0000,-999.000,     3.9325,-999.000
   06MT18_1,       A01E,     577,          2,          7,        B37,2,19910909,       2040,    58.8817,   -31.4900,       1550,  1294.6,   4.0006,  34.9725,2,  34.9720,2,   272.1,2,   10.84,2,   17.29,2,    0.00,2,    1.14,2,   2.082,2,   0.969,2,  -999.0,9,  2392.0,2,   1.675,2,   1.7951,2,    7.18,2,   4.001,  -999.0,9,  -999.0,  1300.3,   0.0072,   0.200,     3.8988,   0.025
   06MT18_1,       A01E,     577,          2,          6,        B49,2,19910909,       2040,    58.8817,   -31.4900,       1550,  1369.7,   3.9926,  34.9706,2,  34.9720,2,   271.6,2,   10.94,2,   17.19,2,    0.00,2,    1.14,2,   2.064,2,   0.971,2,  2154.5,2,  -999.0,9,-999.000,9,-999.0000,9, -999.00,9,-999.000,  -999.0,9,  -999.0,  1375.3,-999.0000,-999.000,     3.8842,-999.000
   06MT18_1,       A01E,     577,          2,          5,        B51,2,19910909,       2040,    58.8817,   -31.4900,       1550,  1482.4,   3.9896,  34.9710,2,  34.9710,2,   272.3,2,   10.84,2,   17.19,2,    0.00,2,    1.15,2,-999.000,9,-999.000,9,  2155.2,2,  -999.0,9,-999.000,9,-999.0000,9, -999.00,9,   3.993,  -999.0,9,  -999.0,  1487.7,-999.0000,-999.000,     3.8711,-999.000
   06MT18_1,       A01E,     577,          2,          4,        K30,2,19910909,       2040,    58.8817,   -31.4900,       1550,  1522.8,   3.9906,  34.9713,2,  34.9720,2,   272.3,2,   10.84,2,   17.19,2,    0.00,2,    1.15,2,   2.052,2,   0.960,2,  2154.3,2,  2390.0,2,   1.699,2,   1.8109,2,    7.40,2,-999.000,  -999.0,9,  -999.0,  1528.0,   0.0072,   0.180,     3.8684,   0.025