BOTTLE,20020919WHPSIOSA
EXPOCODE,SECT_ID,STNNBR,CASTNO,SAMPNO,BTLNBR,BTLNBR_FLAG_W,DATE,TIME,LATITUDE,LONGITUDE,DEPTH,CTDPRS,CTDTMP,CTDSAL,CTDSAL_FLAG_W,SALNTY,SALNTY_FLAG_W,OXYGEN,OXYGEN_FLAG_W,SILCAT,SILCAT_FLAG_W,NITRAT,NITRAT_FLAG_W,NITRIT,NITRIT_FLAG_W,PHSPHT,PHSPHT_FLAG_W,CFC-11,CFC-11_FLAG_W,CFC-12,CFC-12_FLAG_W,TCARBN,TCARBN_FLAG_W,ALKALI,ALKALI_FLAG_W,TRITUM,TRITUM_FLAG_W,HELIUM,HELIUM_FLAG_W,DELHE3,DELHE3_FLAG_W,REVTMP,DELC14,DELC14_FLAG_W,C14ERR,CTDRAW,HELIER,DELHER,THETA,TRITER
,,,,,,,,,,,METERS,DBAR,ITS-90,PSS-78,,PSS-78,,UMOL/KG,,UMOL/KG,,UMOL/KG,,UMOL/KG,,UMOL/KG,,PMOL/KG,,PMOL/KG,,UMOL/KG,,UMOL/KG,,TU,,NMOL/KG,,PERCNT,,ITS-90,/MILLE,,/MILLE,DBAR,NMOL/KG,PERCNT,DEG,TU
   06MT18_1,       A01E,     578,          1,         19,        B36,2,19910910,       0041,    58.7983,   -30.8317,       1272,    12.0,  10.2017,  34.9472,2,  34.9530,2,   286.4,2,    2.83,2,    6.54,2,    0.15,2,    0.50,2,   3.662,2,   1.792,2,  -999.0,9,  -999.0,9,-999.000,9,-999.0000,9, -999.00,9,-999.000,  -999.0,9,  -999.0,    13.0,-999.0000,-999.000,    10.2003,-999.000
   06MT18_1,       A01E,     578,          1,         18,        K17,2,19910910,       0041,    58.7983,   -30.8317,       1272,    34.1,   9.7841,  34.9224,2,  34.9280,2,   277.5,2,    2.83,2,    7.52,2,    0.19,2,    0.57,2,   3.696,2,   1.792,2,  -999.0,9,  -999.0,9,-999.000,9,-999.0000,9, -999.00,9,-999.000,  -999.0,9,  -999.0,    35.4,-999.0000,-999.000,     9.7802,-999.000
   06MT18_1,       A01E,     578,          1,         17,        K19,2,19910910,       0041,    58.7983,   -30.8317,       1272,    64.2,   9.0199,  35.0611,2,  35.0650,2,   270.5,2,    3.81,2,   10.65,2,    0.14,2,    0.71,2,-999.000,9,-999.000,9,  -999.0,9,  -999.0,9,-999.000,9,-999.0000,9, -999.00,9,   9.099,  -999.0,9,  -999.0,    65.8,-999.0000,-999.000,     9.0130,-999.000
   06MT18_1,       A01E,     578,          1,         16,        B39,2,19910910,       0041,    58.7983,   -30.8317,       1272,    94.2,   7.7512,  35.1011,2,  35.0980,2,   275.5,2,    5.57,2,   14.46,2,    0.01,2,    0.92,2,   3.890,2,   1.859,2,  -999.0,9,  -999.0,9,-999.000,9,-999.0000,9, -999.00,9,-999.000,  -999.0,9,  -999.0,    96.1,-999.0000,-999.000,     7.7419,-999.000
   06MT18_1,       A01E,     578,          1,         15,        K15,2,19910910,       0041,    58.7983,   -30.8317,       1272,   145.0,   6.8470,  35.0499,2,  35.0540,2,   273.6,2,    7.81,2,   16.02,2,    0.00,2,    1.04,2,   3.760,2,   1.792,2,  -999.0,9,  -999.0,9,-999.000,9,-999.0000,9, -999.00,9,-999.000,  -999.0,9,  -999.0,   147.3,-999.0000,-999.000,     6.8336,-999.000
   06MT18_1,       A01E,     578,          1,         14,         K7,2,19910910,       0041,    58.7983,   -30.8317,       1272,   195.1,   6.7901,  35.0719,2,  35.0710,2,   274.6,2,    7.91,2,   16.02,2,    0.00,2,    1.05,2,   3.776,2,   1.776,2,  -999.0,9,  -999.0,9,-999.000,9,-999.0000,9, -999.00,9,   6.781,  -999.0,9,  -999.0,   197.8,-999.0000,-999.000,     6.7721,-999.000
   06MT18_1,       A01E,     578,          1,         13,        B42,2,19910910,       0041,    58.7983,   -30.8317,       1272,   295.3,   6.9409,  35.1389,2,  35.1400,2,   276.6,2,    7.62,2,   15.73,2,    0.00,2,    1.03,2,-999.000,9,-999.000,9,  -999.0,9,  -999.0,9,-999.000,9,-999.0000,9, -999.00,9,-999.000,  -999.0,9,  -999.0,   298.8,-999.0000,-999.000,     6.9131,-999.000
   06MT18_1,       A01E,     578,          1,         12,        B44,2,19910910,       0041,    58.7983,   -30.8317,       1272,   395.8,   6.7941,  35.1330,2,  35.1340,2,   275.9,2,    7.72,2,   15.82,2,    0.00,2,    1.04,2,   3.620,2,   1.737,2,  -999.0,9,  -999.0,9,-999.000,9,-999.0000,9, -999.00,9,-999.000,  -999.0,9,  -999.0,   399.9,-999.0000,-999.000,     6.7570,-999.000
   06MT18_1,       A01E,     578,          1,         11,        B46,2,19910910,       0041,    58.7983,   -30.8317,       1272,   496.3,   6.5673,  35.1123,2,  35.1110,2,   266.6,2,    8.11,2,   16.12,2,    0.00,2,    1.05,2,   3.491,2,   1.679,2,  -999.0,9,  -999.0,9,-999.000,9,-999.0000,9, -999.00,9,   6.569,  -999.0,9,  -999.0,   501.0,-999.0000,-999.000,     6.5213,-999.000
   06MT18_1,       A01E,     578,          1,         10,        B45,2,19910910,       0041,    58.7983,   -30.8317,       1272,   597.0,   6.1827,  35.0798,2,  35.0770,2,   263.3,2,    8.99,2,   17.00,2,    0.00,2,    1.11,2,   3.038,2,   1.455,2,  -999.0,9,  -999.0,9,-999.000,9,-999.0000,9, -999.00,9,-999.000,  -999.0,9,  -999.0,   602.1,-999.0000,-999.000,     6.1288,-999.000
   06MT18_1,       A01E,     578,          1,          9,        B40,2,19910910,       0041,    58.7983,   -30.8317,       1272,   697.9,   5.4024,  35.0358,2,  35.0350,2,   252.4,2,   10.26,2,   17.97,2,    0.00,2,    1.17,2,   2.332,2,   1.096,2,  -999.0,9,  -999.0,9,-999.000,9,-999.0000,9, -999.00,9,   5.408,  -999.0,9,  -999.0,   703.4,-999.0000,-999.000,     5.3430,-999.000
   06MT18_1,       A01E,     578,          1,          8,        B52,2,19910910,       0041,    58.7983,   -30.8317,       1272,   797.1,   5.0657,  35.0200,2,  35.0180,2,   255.5,2,   10.35,2,   17.88,2,    0.00,2,    1.17,2,   2.245,2,   1.052,2,  -999.0,9,  -999.0,9,-999.000,9,-999.0000,9, -999.00,9,-999.000,  -999.0,9,  -999.0,   802.8,-999.0000,-999.000,     4.9994,-999.000
   06MT18_1,       A01E,     578,          1,          7,        B37,2,19910910,       0041,    58.7983,   -30.8317,       1272,   898.6,   4.6680,  35.0006,2,  35.0000,2,   262.7,2,   10.16,2,   17.58,2,    0.00,2,    1.15,2,   2.272,2,   1.057,2,  -999.0,9,  -999.0,9,-999.000,9,-999.0000,9, -999.00,9,   4.675,  -999.0,9,  -999.0,   904.5,-999.0000,-999.000,     4.5953,-999.000
   06MT18_1,       A01E,     578,          1,          6,        B49,2,19910910,       0041,    58.7983,   -30.8317,       1272,   998.7,   4.2164,  34.9809,2,-999.0000,9,   262.7,2,   10.26,2,   17.58,2,    0.00,2,    1.16,2,-999.000,9,-999.000,9,  -999.0,9,  -999.0,9,-999.000,9,-999.0000,9, -999.00,9,-999.000,  -999.0,9,  -999.0,  1004.6,-999.0000,-999.000,     4.1384,-999.000
   06MT18_1,       A01E,     578,          1,          5,        B51,2,19910910,       0041,    58.7983,   -30.8317,       1272,  1050.1,   4.1595,  34.9797,2,  34.9790,2,   269.8,2,   10.26,2,   17.39,2,    0.00,2,    1.15,2,   2.168,2,   1.015,2,  -999.0,9,  -999.0,9,-999.000,9,-999.0000,9, -999.00,9,-999.000,  -999.0,9,  -999.0,  1056.0,-999.0000,-999.000,     4.0775,-999.000
   06MT18_1,       A01E,     578,          1,          4,        K30,2,19910910,       0041,    58.7983,   -30.8317,       1272,  1100.1,   4.0326,  34.9777,2,  34.9780,2,   272.0,2,   10.35,2,   17.09,2,    0.00,2,    1.14,2,-999.000,9,-999.000,9,  -999.0,9,  -999.0,9,-999.000,9,-999.0000,9, -999.00,9,-999.000,  -999.0,9,  -999.0,  1106.0,-999.0000,-999.000,     3.9474,-999.000
   06MT18_1,       A01E,     578,          1,          3,        K22,2,19910910,       0041,    58.7983,   -30.8317,       1272,  1148.8,   3.9736,  34.9763,2,  34.9760,2,   272.3,2,   10.45,2,   17.09,2,    0.00,2,    1.13,2,   2.102,2,   0.981,2,  -999.0,9,  -999.0,9,-999.000,9,-999.0000,9, -999.00,9,   3.974,  -999.0,9,  -999.0,  1154.7,-999.0000,-999.000,     3.8847,-999.000
   06MT18_1,       A01E,     578,          1,          2,        K31,2,19910910,       0041,    58.7983,   -30.8317,       1272,  1199.6,   3.9766,  34.9747,2,  34.9760,2,   272.4,2,   10.35,2,   17.09,2,    0.00,2,    1.13,2,-999.000,9,-999.000,9,  -999.0,9,  -999.0,9,-999.000,9,-999.0000,9, -999.00,9,-999.000,  -999.0,9,  -999.0,  1205.5,-999.0000,-999.000,     3.8833,-999.000
   06MT18_1,       A01E,     578,          1,          1,        B50,2,19910910,       0041,    58.7983,   -30.8317,       1272,  1248.9,   3.9307,  34.9737,2,  34.9740,2,   272.7,2,   10.35,2,   17.09,2,    0.00,2,    1.13,2,   2.079,2,   0.975,2,  -999.0,9,  -999.0,9,-999.000,9,-999.0000,9, -999.00,9,   3.932,  -999.0,9,  -999.0,  1254.7,-999.0000,-999.000,     3.8336,-999.000
   06MT18_1,       A01E,     579,          1,         24,        B41,2,19910910,       0437,    58.5617,   -30.3867,       1736,     8.1,  10.2447,  34.9533,2,  34.9700,2,   284.1,2,    2.64,2,    6.45,2,    0.14,2,    0.49,2,   3.662,2,   1.787,2,  -999.0,9,  -999.0,9,   2.146,2,   1.7411,2,   -1.92,2,-999.000,    37.0,2,     7.0,     9.1,   0.0070,   0.160,    10.2438,   0.036
   06MT18_1,       A01E,     579,          1,         23,        K23,2,19910910,       0437,    58.5617,   -30.3867,       1736,    29.0,  10.3516,  35.0761,2,  35.0780,2,   271.5,2,    2.64,2,    6.06,2,    0.16,2,    0.47,2,   3.582,2,   1.748,2,  -999.0,9,  -999.0,9,-999.000,9,-999.0000,9, -999.00,9,-999.000,  -999.0,9,  -999.0,    30.2,-999.0000,-999.000,    10.3482,-999.000
   06MT18_1,       A01E,     579,          1,         22,         K3,2,19910910,       0437,    58.5617,   -30.3867,       1736,    58.4,   8.9670,  35.0552,2,  35.0580,2,   271.5,2,    4.10,2,   10.74,2,    0.12,2,    0.72,2,-999.000,9,-999.000,9,  -999.0,9,  -999.0,9,-999.000,9,-999.0000,9, -999.00,9,-999.000,  -999.0,9,  -999.0,    59.9,-999.0000,-999.000,     8.9607,-999.000
   06MT18_1,       A01E,     579,          1,         21,        B35,2,19910910,       0437,    58.5617,   -30.3867,       1736,    98.0,   7.4554,  35.1093,2,  35.1110,2,   275.1,2,    6.35,2,   14.94,2,    0.00,2,    0.97,2,   3.872,2,   1.843,2,  -999.0,9,  -999.0,9,   2.030,2,   1.7726,2,   -0.73,2,-999.000,  -999.0,9,  -999.0,    99.9,   0.0071,   0.160,     7.4459,   0.060
   06MT18_1,       A01E,     579,          1,         20,        B48,2,19910910,       0437,    58.5617,   -30.3867,       1736,   147.0,   6.9769,  35.1032,2,  35.1050,2,   271.2,2,    8.11,2,   15.92,2,    0.00,2,    1.04,2,-999.000,9,-999.000,9,  -999.0,9,  -999.0,9,-999.000,9,-999.0000,9, -999.00,9,-999.000,  -999.0,9,  -999.0,   149.3,-999.0000,-999.000,     6.9632,-999.000
   06MT18_1,       A01E,     579,          1,         19,        B36,2,19910910,       0437,    58.5617,   -30.3867,       1736,   186.0,   6.9759,  35.1290,2,  35.1300,2,   274.2,2,    7.91,2,   15.82,2,    0.00,2,    1.03,2,   3.660,2,   1.750,2,  -999.0,9,  -999.0,9,   2.015,2,   1.7724,2,   -0.02,2,-999.000,  -999.0,9,  -999.0,   188.7,   0.0071,   0.250,     6.9585,   0.050
   06MT18_1,       A01E,     579,          1,         18,        K17,2,19910910,       0437,    58.5617,   -30.3867,       1736,   286.9,   6.9010,  35.1376,2,  35.1380,2,   275.6,2,    7.91,2,   15.72,2,    0.00,2,    1.03,2,-999.000,9,-999.000,9,  -999.0,9,  -999.0,9,-999.000,9,-999.0000,9, -999.00,9,-999.000,  -999.0,9,  -999.0,   290.3,-999.0000,-999.000,     6.8741,-999.000
   06MT18_1,       A01E,     579,          1,         17,        K19,2,19910910,       0437,    58.5617,   -30.3867,       1736,   388.3,   6.7981,  35.1370,2,  35.1380,2,   276.8,2,    7.91,2,   15.63,2,    0.00,2,    1.03,2,   3.659,2,   1.740,2,  -999.0,9,  -999.0,9,-999.000,5,   1.7677,2,   -9.00,2,   6.806,  -999.0,9,  -999.0,   392.4,   0.0071,-999.000,     6.7617,-999.000
   06MT18_1,       A01E,     579,          1,         16,        B39,2,19910910,       0437,    58.5617,   -30.3867,       1736,   488.2,   6.4864,  35.1035,2,  35.1040,2,   271.6,2,    8.30,2,   16.31,2,    0.00,2,    1.06,2,-999.000,9,-999.000,9,  -999.0,9,  -999.0,9,-999.000,9,-999.0000,9, -999.00,9,-999.000,  -999.0,9,  -999.0,   492.9,-999.0000,-999.000,     6.4415,-999.000
   06MT18_1,       A01E,     579,          1,         15,        K15,2,19910910,       0437,    58.5617,   -30.3867,       1736,   588.7,   6.1447,  35.0859,2,  35.0860,2,   261.5,2,    9.28,2,   16.99,2,    0.00,2,    1.11,2,   2.956,2,   1.427,2,  -999.0,9,  -999.0,9,-999.000,5,   1.7844,2,   -9.00,2,-999.000,  -999.0,9,  -999.0,   593.8,   0.0071,-999.000,     6.0917,-999.000
   06MT18_1,       A01E,     579,          1,         14,         K7,2,19910910,       0437,    58.5617,   -30.3867,       1736,   689.4,   5.7141,  35.0561,2,  35.0570,2,   255.4,2,    9.96,2,   17.68,2,    0.00,2,    1.14,2,-999.000,9,-999.000,9,  -999.0,9,  -999.0,9,-999.000,9,-999.0000,9, -999.00,9,   5.723,  -999.0,9,  -999.0,   694.8,-999.0000,-999.000,     5.6538,-999.000
   06MT18_1,       A01E,     579,          1,         13,        B42,2,19910910,       0437,    58.5617,   -30.3867,       1736,   788.0,   5.2415,  35.0274,2,  35.0260,2,   253.1,2,   10.65,2,   17.97,2,    0.00,2,    1.17,2,-999.000,9,-999.000,9,  -999.0,9,  -999.0,9,-999.000,9,-999.0000,9, -999.00,9,-999.000,  -999.0,9,  -999.0,   793.7,-999.0000,-999.000,     5.1749,-999.000
   06MT18_1,       A01E,     579,          1,         12,        B44,2,19910910,       0437,    58.5617,   -30.3867,       1736,   887.7,   4.8469,  35.0009,2,  35.0010,2,   256.8,2,   10.65,2,   18.07,2,    0.00,2,    1.18,2,   2.202,2,   1.033,2,  -999.0,9,  -999.0,9,   1.720,2,   1.7699,2,    6.74,2,-999.000,  -999.0,9,  -999.0,   893.6,   0.0071,   0.180,     4.7740,   0.042
   06MT18_1,       A01E,     579,          1,         11,        B46,2,19910910,       0437,    58.5617,   -30.3867,       1736,   988.3,   4.4053,  34.9713,2,  34.9720,2,   264.0,2,   10.74,2,   17.87,2,    0.00,2,    1.17,2,   2.134,2,   0.993,2,  -999.0,9,  -999.0,9,-999.000,5,   1.8016,2,   -9.00,2,   4.403,  -999.0,9,  -999.0,   994.2,   0.0072,-999.000,     4.3268,-999.000
   06MT18_1,       A01E,     579,          1,         10,        B45,2,19910910,       0437,    58.5617,   -30.3867,       1736,  1088.4,   4.2444,  34.9658,2,  34.9680,2,   268.4,2,   10.55,2,   17.48,2,    0.00,2,    1.16,2,   2.107,2,   0.985,2,  -999.0,9,  -999.0,9,   1.680,2,   1.8008,2,    6.84,2,-999.000,  -999.0,9,  -999.0,  1094.3,   0.0072,   0.170,     4.1585,   0.052
   06MT18_1,       A01E,     579,          1,          9,        B40,2,19910910,       0437,    58.5617,   -30.3867,       1736,  1188.8,   4.0446,  34.9578,2,  34.9590,2,   271.9,2,   10.65,2,   17.39,2,    0.00,2,    1.14,2,   2.063,2,   0.963,2,  -999.0,9,  -999.0,9,-999.000,5,   1.8023,2,   -9.00,2,   4.048,  -999.0,9,  -999.0,  1194.7,   0.0072,-999.000,     3.9517,-999.000
   06MT18_1,       A01E,     579,          1,          8,        B52,2,19910910,       0437,    58.5617,   -30.3867,       1736,  1292.8,   3.7948,  34.9545,2,  34.9550,2,   275.6,2,   10.74,2,   17.09,2,    0.00,2,    1.13,2,   1.937,2,   0.898,2,  -999.0,9,  -999.0,9,   1.649,2,   1.7868,2,    6.95,2,-999.000,  -999.0,9,  -999.0,  1298.5,   0.0071,   0.150,     3.6952,   0.097
   06MT18_1,       A01E,     579,          1,          7,        B37,2,19910910,       0437,    58.5617,   -30.3867,       1736,  1412.1,   3.7068,  34.9595,2,  34.9600,2,   275.8,2,   10.94,2,   17.00,2,    0.00,2,    1.13,2,-999.000,9,-999.000,9,  -999.0,9,  -999.0,9,-999.000,9,-999.0000,9, -999.00,9,   3.708,  -999.0,9,  -999.0,  1417.6,-999.0000,-999.000,     3.5977,-999.000
   06MT18_1,       A01E,     579,          1,          6,        B49,2,19910910,       0437,    58.5617,   -30.3867,       1736,  1463.7,   3.6699,  34.9611,2,  34.9600,2,   275.8,2,   10.94,2,   17.00,2,    0.01,2,    1.14,2,-999.000,9,-999.000,9,  -999.0,9,  -999.0,9,-999.000,9,-999.0000,9, -999.00,9,-999.000,  -999.0,9,  -999.0,  1469.1,-999.0000,-999.000,     3.5567,-999.000
   06MT18_1,       A01E,     579,          1,          5,        B51,2,19910910,       0437,    58.5617,   -30.3867,       1736,  1514.3,   3.6469,  34.9639,2,  34.9650,2,   276.1,2,   10.94,2,   16.90,2,    0.00,2,    1.10,2,   1.866,2,   0.874,2,  -999.0,9,  -999.0,9,-999.000,5,   1.7865,2,   -9.00,2,   3.650,  -999.0,9,  -999.0,  1519.5,   0.0071,-999.000,     3.5294,-999.000
   06MT18_1,       A01E,     579,          1,          4,        K30,2,19910910,       0437,    58.5617,   -30.3867,       1736,  1564.5,   3.6329,  34.9656,2,  34.9660,2,   276.4,2,   10.94,2,   16.90,2,    0.00,2,    1.13,2,-999.000,9,-999.000,9,  -999.0,9,  -999.0,9,-999.000,9,-999.0000,9, -999.00,9,-999.000,  -999.0,9,  -999.0,  1569.6,-999.0000,-999.000,     3.5111,-999.000
   06MT18_1,       A01E,     579,          1,          3,        K22,3,19910910,       0437,    58.5617,   -30.3867,       1736,  1614.9,   3.6309,  34.9655,2,  34.9660,2,   276.4,2,   10.94,2,   16.90,2,    0.01,2,    1.13,2,   1.857,2,   0.869,2,  -999.0,9,  -999.0,9,-999.000,9,-999.0000,9, -999.00,9,   3.635,  -999.0,9,  -999.0,  1619.8,-999.0000,-999.000,     3.5046,-999.000
   06MT18_1,       A01E,     579,          1,          2,        K31,2,19910910,       0437,    58.5617,   -30.3867,       1736,  1665.7,   3.6099,  34.9664,2,  34.9680,2,   276.8,2,   10.94,2,   16.90,2,    0.00,2,    1.13,2,-999.000,9,-999.000,9,  -999.0,9,  -999.0,9,-999.000,9,-999.0000,9, -999.00,9,-999.000,  -999.0,9,  -999.0,  1670.4,-999.0000,-999.000,     3.4793,-999.000
   06MT18_1,       A01E,     579,          1,          1,        B50,2,19910910,       0437,    58.5617,   -30.3867,       1736,  1715.7,   3.6059,  34.9674,2,  34.9690,2,   276.7,2,   11.04,2,   16.80,2,    0.00,2,    1.14,2,   1.852,2,   0.862,2,  -999.0,9,  -999.0,9,   1.460,2,   1.7876,2,    6.37,2,   3.607,  -999.0,9,  -999.0,  1720.2,   0.0072,   0.200,     3.4708,   0.039