BOTTLE,20020919WHPSIOSA
EXPOCODE,SECT_ID,STNNBR,CASTNO,SAMPNO,BTLNBR,BTLNBR_FLAG_W,DATE,TIME,LATITUDE,LONGITUDE,DEPTH,CTDPRS,CTDTMP,CTDSAL,CTDSAL_FLAG_W,SALNTY,SALNTY_FLAG_W,OXYGEN,OXYGEN_FLAG_W,SILCAT,SILCAT_FLAG_W,NITRAT,NITRAT_FLAG_W,NITRIT,NITRIT_FLAG_W,PHSPHT,PHSPHT_FLAG_W,CFC-11,CFC-11_FLAG_W,CFC-12,CFC-12_FLAG_W,TCARBN,TCARBN_FLAG_W,ALKALI,ALKALI_FLAG_W,TRITUM,TRITUM_FLAG_W,HELIUM,HELIUM_FLAG_W,DELHE3,DELHE3_FLAG_W,REVTMP,DELC14,DELC14_FLAG_W,C14ERR,CTDRAW,HELIER,DELHER,THETA,TRITER
,,,,,,,,,,,METERS,DBAR,ITS-90,PSS-78,,PSS-78,,UMOL/KG,,UMOL/KG,,UMOL/KG,,UMOL/KG,,UMOL/KG,,PMOL/KG,,PMOL/KG,,UMOL/KG,,UMOL/KG,,TU,,NMOL/KG,,PERCNT,,ITS-90,/MILLE,,/MILLE,DBAR,NMOL/KG,PERCNT,DEG,TU
   06MT18_1,       A01E,     612,          1,         23,        K23,2,19910918,       2103,    52.3233,   -18.6200,       4329,    12.7,  15.9980,  35.4240,2,  35.4310,2,   243.7,2,    0.78,2,    0.39,2,    0.08,2,    0.11,2,   2.730,2,   1.433,2,  -999.0,9,  -999.0,9,   2.204,2,   1.7157,2,   -1.19,2,-999.000,    47.0,2,     6.0,    13.7,   0.0069,   0.200,    15.9960,   0.046
   06MT18_1,       A01E,     612,          1,         21,         K2,2,19910918,       2103,    52.3233,   -18.6200,       4329,    33.2,  16.0000,  35.4230,2,  35.4310,2,   243.6,2,    0.78,2,    0.39,2,    0.08,2,    0.11,2,   2.744,2,   1.425,2,  -999.0,9,  -999.0,9,-999.000,9,-999.0000,9, -999.00,9,-999.000,  -999.0,9,  -999.0,    34.5,-999.0000,-999.000,    15.9947,-999.000
   06MT18_1,       A01E,     612,          1,         20,        K15,2,19910918,       2103,    52.3233,   -18.6200,       4329,    63.4,  13.8721,  35.5508,2,  35.5630,2,   234.0,2,    1.95,2,    6.74,2,    0.14,2,    0.46,2,-999.000,9,-999.000,9,  -999.0,9,  -999.0,9,-999.000,9,-999.0000,9, -999.00,9,-999.000,  -999.0,9,  -999.0,    65.0,-999.0000,-999.000,    13.8630,-999.000
   06MT18_1,       A01E,     612,          1,         19,        B33,4,19910918,       2103,    52.3233,   -18.6200,       4329,    63.4,-999.0000,-999.0000,9,  35.5660,2,   233.5,2,    1.95,2,    6.83,2,    0.13,2,    0.47,2,   2.950,2,   1.533,2,  -999.0,9,  -999.0,9,   2.093,2,   1.7352,2,   -1.14,2,-999.000,  -999.0,9,  -999.0,    65.0,   0.0069,   0.170,     -999.0,   0.032
   06MT18_1,       A01E,     612,          1,         18,        K10,2,19910918,       2103,    52.3233,   -18.6200,       4329,   205.2,  10.7212,  35.4654,2,  35.4730,2,   247.5,2,    4.98,2,   11.52,2,    0.01,2,    0.73,2,   3.030,2,   1.558,2,  -999.0,9,  -999.0,9,   2.193,2,   1.7503,2,   -0.04,2,  10.721,  -999.0,9,  -999.0,   208.0,   0.0070,   0.170,    10.6962,   0.036
   06MT18_1,       A01E,     612,          1,         17,        B34,2,19910918,       2103,    52.3233,   -18.6200,       4329,   303.9,  10.3536,  35.4101,2,  35.4130,2,   244.2,2,    5.86,2,   12.50,2,    0.01,2,    0.79,2,-999.000,9,-999.000,9,  -999.0,9,  -999.0,9,-999.000,9,-999.0000,9, -999.00,9,-999.000,  -999.0,9,  -999.0,   307.5,-999.0000,-999.000,    10.3172,-999.000
   06MT18_1,       A01E,     612,          1,         16,        B53,2,19910918,       2103,    52.3233,   -18.6200,       4329,   405.0,  10.3456,  35.4450,2,  35.4490,2,   248.7,2,    5.57,2,   12.11,2,    0.01,2,    0.77,2,   3.018,2,   1.542,2,  -999.0,9,  -999.0,9,   2.241,2,   1.7456,2,    0.16,2,  10.342,    25.0,2,     6.0,   409.2,   0.0070,   0.190,    10.2968,   0.032
   06MT18_1,       A01E,     612,          1,         15,        B39,2,19910918,       2103,    52.3233,   -18.6200,       4329,   603.1,   9.4345,  35.3125,2,  35.3150,2,   236.0,2,    7.71,2,   14.55,2,    0.01,2,    0.93,2,   2.703,2,   1.362,2,  -999.0,9,  -999.0,9,   1.988,2,   1.7552,2,    2.43,2,-999.000,  -999.0,9,  -999.0,   608.2,   0.0070,   0.190,     9.3653,   0.028
   06MT18_1,       A01E,     612,          1,         14,        B42,2,19910918,       2103,    52.3233,   -18.6200,       4329,   804.3,   7.5304,  35.1379,2,  35.1410,2,   214.6,2,   11.13,2,   18.36,2,    0.01,2,    1.18,2,   1.976,2,   0.955,2,  -999.0,9,  -999.0,9,   1.781,2,   1.7680,2,    6.00,2,   7.538,  -999.0,9,  -999.0,   810.0,   0.0071,   0.180,     7.4484,   0.030
   06MT18_1,       A01E,     612,          1,         13,         K9,2,19910918,       2103,    52.3233,   -18.6200,       4329,  1005.8,   6.5643,  35.1756,2,  35.1760,2,   218.7,2,   12.01,2,   18.65,2,    0.01,2,    1.21,2,   1.561,2,   0.734,2,  -999.0,9,  -999.0,9,   1.581,2,   1.7720,2,    8.00,2,-999.000,  -999.0,9,  -999.0,  1011.7,   0.0071,   0.190,     6.4676,   0.027
   06MT18_1,       A01E,     612,          1,         12,        B50,2,19910918,       2103,    52.3233,   -18.6200,       4329,  1207.2,   4.8629,  34.9973,2,  34.9990,2,   246.0,2,   11.92,2,   18.46,2,    0.01,2,    1.20,2,   1.811,2,   0.865,2,  -999.0,9,  -999.0,9,-999.000,9,-999.0000,9, -999.00,9,   4.866,  -999.0,9,  -999.0,  1213.1,-999.0000,-999.000,     4.7608,-999.000
   06MT18_1,       A01E,     612,          1,         11,        B44,2,19910918,       2103,    52.3233,   -18.6200,       4329,  1407.2,   4.1435,  34.9381,2,  34.9400,2,   263.1,2,   11.82,2,   18.07,2,    0.01,2,    1.17,2,   1.794,2,   0.853,2,  -999.0,9,  -999.0,9,   1.661,2,   1.7806,2,    8.21,2,-999.000,  -999.0,9,  -999.0,  1412.7,   0.0071,   0.220,     4.0302,   0.029
   06MT18_1,       A01E,     612,          1,         10,        K19,2,19910918,       2103,    52.3233,   -18.6200,       4329,  1609.9,   3.8018,  34.9111,2,  34.9120,2,   272.4,2,   11.62,2,   17.58,2,    0.00,2,    1.15,2,-999.000,9,-999.000,9,  -999.0,9,  -999.0,9,-999.000,9,-999.0000,9, -999.00,9,   3.803,  -999.0,9,  -999.0,  1614.8,-999.0000,-999.000,     3.6740,-999.000
   06MT18_1,       A01E,     612,          1,          9,        B45,2,19910918,       2103,    52.3233,   -18.6200,       4329,  1814.7,   3.6149,  34.9009,2,  34.9020,2,   276.9,2,   11.72,2,   17.29,2,    0.01,2,    1.14,2,   1.633,2,   0.773,2,  -999.0,9,  -999.0,9,   1.553,2,   1.7979,2,    8.38,2,-999.000,   -23.0,2,     5.0,  1818.8,   0.0072,   0.240,     3.4707,   0.025
   06MT18_1,       A01E,     612,          1,          8,         K7,2,19910918,       2103,    52.3233,   -18.6200,       4329,  2017.8,   3.5430,  34.9134,2,  34.9150,2,   275.6,2,   12.40,2,   17.29,2,    0.00,2,    1.14,2,-999.000,9,-999.000,9,  -999.0,9,  -999.0,9,-999.000,9,-999.0000,9, -999.00,9,   3.544,  -999.0,9,  -999.0,  2021.0,-999.0000,-999.000,     3.3807,-999.000
   06MT18_1,       A01E,     612,          1,          7,        B52,2,19910918,       2103,    52.3233,   -18.6200,       4329,  2424.0,   3.3092,  34.9471,2,  34.9470,2,   267.3,2,   17.48,2,   17.68,2,    0.00,2,    1.18,2,   0.568,2,   0.275,2,  -999.0,9,  -999.0,9,   0.841,2,   1.8057,2,    6.63,2,-999.000,   -52.0,2,     4.0,  2425.1,   0.0072,   0.220,     3.1112,   0.020
   06MT18_1,       A01E,     612,          1,          6,        B51,2,19910918,       2103,    52.3233,   -18.6200,       4329,  2830.9,   2.9584,  34.9493,2,  34.9510,2,   255.1,2,   28.13,2,   19.44,2,    0.00,2,    1.31,2,   0.197,2,   0.093,2,  -999.0,9,  -999.0,9,   0.326,2,   1.8049,2,    3.77,2,   2.961,  -999.0,9,  -999.0,  2829.7,   0.0072,   0.180,     2.7260,   0.015
   06MT18_1,       A01E,     612,          1,          5,        B49,2,19910918,       2103,    52.3233,   -18.6200,       4329,  3238.3,   2.6837,  34.9316,2,  34.9320,2,   247.6,2,   37.02,2,   20.90,2,    0.00,2,    1.42,2,   0.084,2,   0.035,2,  -999.0,9,  -999.0,9,   0.145,2,   1.8213,2,    2.57,2,-999.000,   -99.0,2,     4.0,  3235.1,   0.0073,   0.190,     2.4149,   0.003
   06MT18_1,       A01E,     612,          1,          4,        B43,2,19910918,       2103,    52.3233,   -18.6200,       4329,  3649.5,   2.5328,  34.9132,2,  34.9140,2,   242.6,2,   43.46,2,   21.98,2,    0.00,2,    1.48,2,   0.034,2,   0.024,2,  -999.0,9,  -999.0,9,   0.040,2,   1.8366,2,    2.73,2,   2.541,  -999.0,9,  -999.0,  3644.8,   0.0073,   0.200,     2.2231,   0.001
   06MT18_1,       A01E,     612,          1,          3,        K30,2,19910918,       2103,    52.3233,   -18.6200,       4329,  4041.7,   2.5038,  34.9033,2,  34.9060,2,   241.1,2,   45.71,2,   22.27,2,    0.00,2,    1.50,2,   0.040,2,   0.021,2,  -999.0,9,  -999.0,9,-999.000,5,   1.8298,2,    2.42,2,-999.000,  -129.0,2,     5.0,  4036.3,   0.0073,   0.210,     2.1506,-999.000
   06MT18_1,       A01E,     612,          1,          2,        B46,2,19910918,       2103,    52.3233,   -18.6200,       4329,  4147.8,   2.5088,  34.9034,2,  34.9060,2,   241.2,2,   45.81,2,   22.37,2,    0.00,2,    1.50,2,   0.035,2,   0.013,2,  -999.0,9,  -999.0,9,   0.020,2,   1.8315,2,    2.65,2,-999.000,  -122.0,2,     5.0,  4142.4,   0.0073,   0.200,     2.1431,   0.001
   06MT18_1,       A01E,     612,          1,          1,        K31,2,19910918,       2103,    52.3233,   -18.6200,       4329,  4263.2,   2.5198,  34.9009,2,  34.9060,2,   241.1,2,   46.10,2,   22.27,2,    0.00,2,    1.51,2,   0.052,2,   0.017,2,  -999.0,9,  -999.0,9,   0.020,2,   1.8440,2,    2.61,2,-999.000,  -119.0,2,     7.0,  4258.0,   0.0074,   0.200,     2.1402,   0.001
   06MT18_1,       A01E,     613,          1,         23,        K23,2,19910919,       0402,    52.3317,   -17.8150,       4292,    12.3,  15.9751,  35.4162,2,  35.4250,2,   243.0,2,    0.88,2,    0.39,2,    0.09,2,    0.11,2,   2.763,2,   1.447,2,  2048.1,2,  2395.0,2,-999.000,9,-999.0000,9, -999.00,9,-999.000,  -999.0,9,  -999.0,    13.3,-999.0000,-999.000,    15.9732,-999.000
   06MT18_1,       A01E,     613,          1,         20,        K15,4,19910919,       0402,    52.3317,   -17.8150,       4292,    89.9,-999.0000,-999.0000,9,  35.6620,2,   238.8,2,    4.00,2,   10.15,2,    0.02,2,    0.64,2,   3.002,2,   1.545,2,  -999.0,9,  -999.0,9,-999.000,9,-999.0000,9, -999.00,9,-999.000,  -999.0,9,  -999.0,    91.7,-999.0000,-999.000,     -999.0,-999.000
   06MT18_1,       A01E,     613,          1,         19,        B33,2,19910919,       0402,    52.3317,   -17.8150,       4292,    89.9,  12.0678,  35.6566,2,  35.6620,2,   242.3,3,    4.00,2,   10.15,2,    0.02,2,    0.63,2,   2.989,2,   1.548,2,  2122.0,2,  2401.0,2,-999.000,9,-999.0000,9, -999.00,9,-999.000,  -999.0,9,  -999.0,    91.7,-999.0000,-999.000,    12.0560,-999.000
   06MT18_1,       A01E,     613,          1,         18,        K10,2,19910919,       0402,    52.3317,   -17.8150,       4292,   190.4,  11.2537,  35.5501,2,  35.5570,2,   244.6,2,    4.49,2,   10.74,2,    0.01,2,    0.68,2,-999.000,9,-999.000,9,  2124.1,2,  2393.0,2,-999.000,9,-999.0000,9, -999.00,9,  11.272,  -999.0,9,  -999.0,   193.1,-999.0000,-999.000,    11.2297,-999.000
   06MT18_1,       A01E,     613,          1,         17,        B34,2,19910919,       0402,    52.3317,   -17.8150,       4292,   391.4,  10.4944,  35.4542,2,  35.4580,2,   248.3,2,    5.17,2,   11.81,2,    0.01,2,    0.76,2,   3.156,2,   1.574,2,  2127.1,2,  2381.0,2,-999.000,9,-999.0000,9, -999.00,9,-999.000,  -999.0,9,  -999.0,   395.5,-999.0000,-999.000,    10.4469,-999.000
   06MT18_1,       A01E,     613,          1,         16,        B53,2,19910919,       0402,    52.3317,   -17.8150,       4292,   591.4,   8.9240,  35.1965,2,  35.2040,2,   226.0,2,    8.98,2,   16.02,2,    0.01,2,    1.04,2,   2.520,2,   1.264,2,  2146.4,2,  -999.0,9,-999.000,9,-999.0000,9, -999.00,9,   8.949,  -999.0,9,  -999.0,   596.5,-999.0000,-999.000,     8.8584,-999.000
   06MT18_1,       A01E,     613,          1,         15,        B39,2,19910919,       0402,    52.3317,   -17.8150,       4292,   792.0,   8.4485,  35.2952,2,  35.2990,2,   206.0,2,   10.64,2,   17.77,2,    0.00,2,    1.14,2,   1.706,2,   0.829,2,  2164.6,2,  -999.0,9,-999.000,9,-999.0000,9, -999.00,9,-999.000,  -999.0,9,  -999.0,   797.7,-999.0000,-999.000,     8.3623,-999.000
   06MT18_1,       A01E,     613,          1,         14,        B42,2,19910919,       0402,    52.3317,   -17.8150,       4292,   991.0,   6.6602,  35.1678,2,  35.1700,2,   217.6,2,   11.91,2,   18.65,2,    0.01,2,    1.21,2,   1.588,2,   0.760,2,  2169.4,2,  2376.0,2,-999.000,9,-999.0000,9, -999.00,9,   6.667,  -999.0,9,  -999.0,   996.9,-999.0000,-999.000,     6.5643,-999.000
   06MT18_1,       A01E,     613,          1,         13,         K9,2,19910919,       0402,    52.3317,   -17.8150,       4292,  1172.7,   5.4763,  35.0692,2,  35.0710,2,   235.1,2,   12.11,2,   18.46,2,    0.01,2,    1.21,2,   0.868,4,   0.765,2,  2165.8,2,  -999.0,9,-999.000,9,-999.0000,9, -999.00,9,-999.000,  -999.0,9,  -999.0,  1178.6,-999.0000,-999.000,     5.3719,-999.000
   06MT18_1,       A01E,     613,          1,         12,        B50,2,19910919,       0402,    52.3317,   -17.8150,       4292,  1472.9,   4.1325,  34.9374,2,  34.9390,2,   263.4,2,   11.82,2,   17.87,2,    0.00,2,    1.17,2,   1.764,2,   0.842,2,  2156.1,2,  2360.0,2,-999.000,9,-999.0000,9, -999.00,9,   4.135,  -999.0,9,  -999.0,  1478.2,-999.0000,-999.000,     4.0134,-999.000
   06MT18_1,       A01E,     613,          1,         11,        B44,2,19910919,       0402,    52.3317,   -17.8150,       4292,  1773.7,   3.6269,  34.8939,2,  34.8960,2,   277.9,2,   11.53,2,   17.29,2,    0.00,2,    1.14,2,   1.926,2,   0.920,2,  2150.7,2,  -999.0,9,-999.000,9,-999.0000,9, -999.00,9,-999.000,  -999.0,9,  -999.0,  1778.0,-999.0000,-999.000,     3.4864,-999.000
   06MT18_1,       A01E,     613,          1,         10,        K19,2,19910919,       0402,    52.3317,   -17.8150,       4292,  2077.5,   3.4830,  34.8973,2,  34.8990,2,   278.7,3,   11.82,2,   17.09,2,    0.00,2,    1.13,2,   1.654,2,   0.789,2,  2150.0,2,  2357.0,2,-999.000,9,-999.0000,9, -999.00,9,   3.485,  -999.0,9,  -999.0,  2080.4,-999.0000,-999.000,     3.3160,-999.000
   06MT18_1,       A01E,     613,          1,          9,        B45,2,19910919,       0402,    52.3317,   -17.8150,       4292,  2383.3,   3.4590,  34.9303,2,  34.9320,2,   273.1,2,   13.67,2,   17.19,2,    0.00,2,    1.14,2,   0.991,2,   0.463,2,  2152.6,2,  -999.0,9,-999.000,9,-999.0000,9, -999.00,9,-999.000,  -999.0,9,  -999.0,  2384.6,-999.0000,-999.000,     3.2624,-999.000
   06MT18_1,       A01E,     613,          1,          8,         K7,2,19910919,       0402,    52.3317,   -17.8150,       4292,  2687.1,   3.2772,  34.9462,2,  34.9490,2,   268.6,2,   16.80,2,   17.39,2,    0.00,2,    1.16,2,   0.735,2,   0.299,2,  2157.7,2,  2358.0,2,-999.000,9,-999.0000,9, -999.00,9,   3.277,  -999.0,9,  -999.0,  2686.7,-999.0000,-999.000,     3.0532,-999.000
   06MT18_1,       A01E,     613,          1,          7,        B52,2,19910919,       0402,    52.3317,   -17.8150,       4292,  2990.7,   3.0344,  34.9485,2,  34.9510,2,   262.1,2,   23.34,2,   18.27,2,    0.00,2,    1.23,2,   0.483,2,   0.232,2,  2166.6,2,  -999.0,9,-999.000,9,-999.0000,9, -999.00,9,-999.000,  -999.0,9,  -999.0,  2988.7,-999.0000,-999.000,     2.7838,-999.000
   06MT18_1,       A01E,     613,          1,          6,        B51,2,19910919,       0402,    52.3317,   -17.8150,       4292,  3297.3,   2.7896,  34.9373,2,  34.9420,2,   251.8,2,   31.74,2,   19.73,2,    0.00,2,    1.33,2,   0.286,2,   0.147,2,  2179.7,2,  2378.0,2,-999.000,9,-999.0000,9, -999.00,9,   2.793,  -999.0,9,  -999.0,  3293.8,-999.0000,-999.000,     2.5119,-999.000
   06MT18_1,       A01E,     613,          1,          5,        B49,2,19910919,       0402,    52.3317,   -17.8150,       4292,  3601.8,   2.6427,  34.9232,2,  34.9270,2,   245.6,2,   39.46,2,   21.29,2,    0.00,2,    1.44,2,   0.077,2,   0.039,2,  2189.8,2,  -999.0,9,-999.000,9,-999.0000,9, -999.00,9,-999.000,  -999.0,9,  -999.0,  3597.2,-999.0000,-999.000,     2.3354,-999.000
   06MT18_1,       A01E,     613,          1,          4,        B43,2,19910919,       0402,    52.3317,   -17.8150,       4292,  3907.8,   2.5408,  34.9093,2,  34.9130,2,   242.2,2,   43.95,2,   21.98,2,    0.00,2,    1.48,2,   0.046,2,   0.029,2,  2197.5,2,  2400.0,2,-999.000,9,-999.0000,9, -999.00,9,   2.548,  -999.0,9,  -999.0,  3902.5,-999.0000,-999.000,     2.2019,-999.000
   06MT18_1,       A01E,     613,          1,          3,        K30,2,19910919,       0402,    52.3317,   -17.8150,       4292,  4209.8,   2.5158,  34.9018,2,  34.9060,2,   241.8,2,   45.81,2,   22.37,2,    0.00,2,    1.50,2,   0.048,2,   0.023,2,  2199.6,2,  -999.0,9,-999.000,9,-999.0000,9, -999.00,9,-999.000,  -999.0,9,  -999.0,  4204.5,-999.0000,-999.000,     2.1427,-999.000
   06MT18_1,       A01E,     613,          1,          2,        B46,2,19910919,       0402,    52.3317,   -17.8150,       4292,  4308.0,   2.5218,  34.9010,2,  34.9060,2,   241.4,2,   46.01,2,   22.37,2,    0.00,2,    1.50,2,   0.039,2,   0.022,2,  2200.8,2,  -999.0,9,-999.000,9,-999.0000,9, -999.00,9,   2.528,  -999.0,9,  -999.0,  4302.8,-999.0000,-999.000,     2.1369,-999.000
   06MT18_1,       A01E,     613,          1,          1,        K31,2,19910919,       0402,    52.3317,   -17.8150,       4292,  4370.1,   2.5258,  34.9004,2,  34.9060,2,   240.3,2,   46.59,2,   22.37,2,    0.00,2,    1.51,2,   0.050,2,   0.016,2,  2201.1,2,  2408.0,2,-999.000,9,-999.0000,9, -999.00,9,-999.000,  -999.0,9,  -999.0,  4365.1,-999.0000,-999.000,     2.1333,-999.000