BOTTLE,20020919WHPSIOSA
EXPOCODE,SECT_ID,STNNBR,CASTNO,SAMPNO,BTLNBR,BTLNBR_FLAG_W,DATE,TIME,LATITUDE,LONGITUDE,DEPTH,CTDPRS,CTDTMP,CTDSAL,CTDSAL_FLAG_W,SALNTY,SALNTY_FLAG_W,OXYGEN,OXYGEN_FLAG_W,SILCAT,SILCAT_FLAG_W,NITRAT,NITRAT_FLAG_W,NITRIT,NITRIT_FLAG_W,PHSPHT,PHSPHT_FLAG_W,CFC-11,CFC-11_FLAG_W,CFC-12,CFC-12_FLAG_W,TCARBN,TCARBN_FLAG_W,ALKALI,ALKALI_FLAG_W,TRITUM,TRITUM_FLAG_W,HELIUM,HELIUM_FLAG_W,DELHE3,DELHE3_FLAG_W,REVTMP,DELC14,DELC14_FLAG_W,C14ERR,CTDRAW,HELIER,DELHER,THETA,TRITER
,,,,,,,,,,,METERS,DBAR,ITS-90,PSS-78,,PSS-78,,UMOL/KG,,UMOL/KG,,UMOL/KG,,UMOL/KG,,UMOL/KG,,PMOL/KG,,PMOL/KG,,UMOL/KG,,UMOL/KG,,TU,,NMOL/KG,,PERCNT,,ITS-90,/MILLE,,/MILLE,DBAR,NMOL/KG,PERCNT,DEG,TU
   06MT18_1,       A01E,     574,          1,         24,        B41,2,19910909,       0453,    59.0767,   -33.4033,       2521,     8.0,   9.0269,  34.6960,2,  34.7010,2,   292.3,2,    4.10,3,    8.50,3,    0.19,2,    0.63,2,   3.979,2,   1.917,2,  -999.0,9,  -999.0,9,-999.000,9,-999.0000,9, -999.00,9,-999.000,  -999.0,9,  -999.0,     9.0,-999.0000,-999.000,     9.0260,-999.000
   06MT18_1,       A01E,     574,          1,         23,         K1,2,19910909,       0453,    59.0767,   -33.4033,       2521,    28.8,   8.6473,  34.6897,2,  34.7000,2,   292.5,2,    3.81,2,    8.50,2,    0.19,2,    0.63,2,   3.988,2,   1.910,2,  -999.0,9,  -999.0,9,-999.000,9,-999.0000,9, -999.00,9,-999.000,  -999.0,9,  -999.0,    30.0,-999.0000,-999.000,     8.6443,-999.000
   06MT18_1,       A01E,     574,          1,         22,         K3,2,19910909,       0453,    59.0767,   -33.4033,       2521,    58.5,   7.2916,  34.7836,2,  34.7990,2,   281.3,2,    6.64,2,   14.26,2,    0.13,2,    0.93,2,-999.000,9,-999.000,9,  -999.0,9,  -999.0,9,-999.000,9,-999.0000,9, -999.00,9,-999.000,  -999.0,9,  -999.0,    60.0,-999.0000,-999.000,     7.2861,-999.000
   06MT18_1,       A01E,     574,          1,         21,        B35,2,19910909,       0453,    59.0767,   -33.4033,       2521,    98.1,   5.8460,  34.8890,2,  34.9020,2,   280.1,2,    8.79,2,   16.60,2,    0.01,2,    1.06,2,   4.076,2,   1.925,2,  -999.0,9,  -999.0,9,   1.995,2,   1.7678,2,   -0.30,2,-999.000,  -999.0,9,  -999.0,   100.0,   0.0071,   0.160,     5.8378,   0.048
   06MT18_1,       A01E,     574,          1,         20,        B48,2,19910909,       0453,    59.0767,   -33.4033,       2521,   198.2,   5.8799,  34.9945,2,  34.9910,2,   279.6,2,    8.98,2,   16.70,2,    0.01,2,    1.07,2,   3.827,2,   1.816,2,  -999.0,9,  -999.0,9,   1.960,2,   1.7729,2,   -0.25,2,-999.000,  -999.0,9,  -999.0,   201.0,   0.0071,   0.180,     5.8630,   0.040
   06MT18_1,       A01E,     574,          1,         19,        B36,2,19910909,       0453,    59.0767,   -33.4033,       2521,   296.5,   5.1806,  34.9380,2,  34.9380,2,   278.8,2,    9.38,2,   17.29,2,    0.00,2,    1.11,2,-999.000,9,-999.000,9,  -999.0,9,  -999.0,9,-999.000,9,-999.0000,9, -999.00,9,-999.000,  -999.0,9,  -999.0,   300.0,-999.0000,-999.000,     5.1568,-999.000
   06MT18_1,       A01E,     574,          1,         18,        K17,2,19910909,       0453,    59.0767,   -33.4033,       2521,   390.9,   4.9278,  34.9442,2,  34.9440,2,   263.1,2,   10.55,2,   18.26,2,    0.00,2,    1.17,2,   2.928,2,   1.390,2,  -999.0,9,  -999.0,9,   1.785,2,   1.7725,2,    3.69,2,-999.000,  -999.0,9,  -999.0,   395.0,   0.0071,   0.200,     4.8969,   0.036
   06MT18_1,       A01E,     574,          1,         17,        K19,2,19910909,       0453,    59.0767,   -33.4033,       2521,   491.3,   4.4642,  34.9068,2,  34.9230,2,   270.5,2,   10.65,2,   18.17,2,    0.01,2,    1.17,2,-999.000,9,-999.000,9,  -999.0,9,  -999.0,9,-999.000,9,-999.0000,9, -999.00,9,   4.484,  -999.0,9,  -999.0,   496.0,-999.0000,-999.000,     4.4268,-999.000
   06MT18_1,       A01E,     574,          1,         16,        B39,2,19910909,       0453,    59.0767,   -33.4033,       2521,   591.9,   4.0705,  34.8860,2,  34.8950,2,   280.2,2,   10.45,2,   18.07,2,    0.01,2,    1.16,2,   3.213,2,   1.530,2,  -999.0,9,  -999.0,9,-999.000,9,-999.0000,9, -999.00,9,-999.000,  -999.0,9,  -999.0,   597.0,-999.0000,-999.000,     4.0268,-999.000
   06MT18_1,       A01E,     574,          1,         15,        K15,2,19910909,       0453,    59.0767,   -33.4033,       2521,   794.3,   3.7968,  34.8985,2,  34.8960,2,   280.7,2,   10.65,2,   18.07,2,    0.00,2,    1.16,2,-999.000,9,-999.000,9,  -999.0,9,  -999.0,9,-999.000,9,-999.0000,9, -999.00,9,-999.000,  -999.0,9,  -999.0,   800.0,-999.0000,-999.000,     3.7387,-999.000
   06MT18_1,       A01E,     574,          1,         14,         K7,4,19910909,       0453,    59.0767,   -33.4033,       2521,   794.3,-999.0000,-999.0000,9,  34.8960,2,   280.3,2,   10.74,3,   18.17,3,    0.00,2,    1.17,2,   2.794,2,   1.310,2,  -999.0,9,  -999.0,9,-999.000,9,-999.0000,9, -999.00,9,   3.800,  -999.0,9,  -999.0,   800.0,-999.0000,-999.000,     -999.0,-999.000
   06MT18_1,       A01E,     574,          1,         13,        B42,2,19910909,       0453,    59.0767,   -33.4033,       2521,  1184.1,   3.4790,  34.8991,2,  34.9010,2,   285.1,2,   10.84,2,   17.58,2,    0.00,2,    1.15,2,   2.462,2,   1.166,2,  -999.0,9,  -999.0,9,   1.739,2,-999.0000,5,   -9.00,5,-999.000,  -999.0,9,  -999.0,  1190.0,-999.0000,-999.000,     3.3917,   0.029
   06MT18_1,       A01E,     574,          1,         12,        B44,2,19910909,       0453,    59.0767,   -33.4033,       2521,  1389.5,   3.4481,  34.9094,2,  34.9070,2,   284.2,2,   10.94,2,   17.48,2,    0.00,2,    1.13,2,-999.000,9,-999.000,9,  -999.0,9,  -999.0,9,-999.000,9,-999.0000,9, -999.00,9,-999.000,  -999.0,9,  -999.0,  1395.0,-999.0000,-999.000,     3.3438,-999.000
   06MT18_1,       A01E,     574,          1,         11,        B46,2,19910909,       0453,    59.0767,   -33.4033,       2521,  1592.0,   3.4171,  34.9140,2,  34.9120,2,   283.2,2,   11.04,2,   17.29,2,    0.00,2,    1.14,2,   2.166,2,   1.021,2,  -999.0,9,  -999.0,9,-999.000,9,-999.0000,9, -999.00,9,   3.407,  -999.0,9,  -999.0,  1597.0,-999.0000,-999.000,     3.2956,-999.000
   06MT18_1,       A01E,     574,          1,         10,        B45,2,19910909,       0453,    59.0767,   -33.4033,       2521,  1795.8,   3.4431,  34.9354,2,  34.9350,2,   279.1,2,   11.62,2,   17.29,2,    0.00,2,    1.14,2,   1.709,2,   0.800,2,  -999.0,9,  -999.0,9,-999.000,9,-999.0000,9, -999.00,9,-999.000,  -999.0,9,  -999.0,  1800.0,-999.0000,-999.000,     3.3029,-999.000
   06MT18_1,       A01E,     574,          1,          9,        B40,2,19910909,       0453,    59.0767,   -33.4033,       2521,  1996.7,   3.4071,  34.9525,2,  34.9520,2,   276.1,2,   12.11,2,   17.19,2,    0.00,2,    1.13,2,   1.514,2,   0.713,2,  -999.0,9,  -999.0,9,   1.365,2,-999.0000,5,   -9.00,5,   3.410,  -999.0,9,  -999.0,  2000.0,-999.0000,-999.000,     3.2487,   0.022
   06MT18_1,       A01E,     574,          1,          8,        B52,2,19910909,       0453,    59.0767,   -33.4033,       2521,  2197.7,   3.2612,  34.9489,2,  34.9500,2,   275.7,2,   12.99,2,   17.19,2,    0.00,2,    1.14,2,   1.302,2,   0.607,2,  -999.0,9,  -999.0,9,-999.000,9,-999.0000,9, -999.00,9,-999.000,  -999.0,9,  -999.0,  2200.0,-999.0000,-999.000,     3.0860,-999.000
   06MT18_1,       A01E,     574,          1,          7,        B37,2,19910909,       0453,    59.0767,   -33.4033,       2521,  2250.0,   3.2332,  34.9490,2,  34.9500,2,   275.5,2,   13.18,2,   17.19,2,    0.00,2,    1.15,2,   1.295,2,   0.601,2,  -999.0,9,  -999.0,9,   1.299,2,   1.8159,2,    7.35,2,   3.239,  -999.0,9,  -999.0,  2252.0,   0.0073,   0.160,     3.0535,   0.023
   06MT18_1,       A01E,     574,          1,          6,        B49,2,19910909,       0453,    59.0767,   -33.4033,       2521,  2299.3,   3.2192,  34.9477,2,  34.9490,2,   275.8,2,   13.28,2,   17.19,2,    0.00,2,    1.14,2,   1.254,2,   0.587,2,  -999.0,9,  -999.0,9,-999.000,9,-999.0000,9, -999.00,9,-999.000,  -999.0,9,  -999.0,  2301.0,-999.0000,-999.000,     3.0349,-999.000
   06MT18_1,       A01E,     574,          1,          5,        B51,2,19910909,       0453,    59.0767,   -33.4033,       2521,  2348.5,   3.2162,  34.9479,2,  34.9490,2,   275.6,2,   13.38,2,   17.19,2,    0.00,2,    1.14,2,-999.000,9,-999.000,9,  -999.0,9,  -999.0,9,-999.000,9,-999.0000,9, -999.00,9,   3.213,  -999.0,9,  -999.0,  2350.0,-999.0000,-999.000,     3.0272,-999.000
   06MT18_1,       A01E,     574,          1,          4,        K30,2,19910909,       0453,    59.0767,   -33.4033,       2521,  2398.8,   3.2192,  34.9475,2,  34.9490,2,   275.7,2,   13.57,2,   17.19,2,    0.00,2,    1.14,2,   1.233,2,   0.578,2,  -999.0,9,  -999.0,9,   1.267,2,   1.8022,2,    7.40,2,-999.000,  -999.0,9,  -999.0,  2400.0,   0.0072,   0.160,     3.0252,   0.022
   06MT18_1,       A01E,     574,          1,          3,        K22,2,19910909,       0453,    59.0767,   -33.4033,       2521,  2449.1,   3.2192,  34.9466,2,  34.9490,2,   275.7,2,   13.57,2,   17.19,2,    0.00,2,    1.14,2,-999.000,9,-999.000,9,  -999.0,9,  -999.0,9,-999.000,9,-999.0000,9, -999.00,9,   3.218,  -999.0,9,  -999.0,  2450.0,-999.0000,-999.000,     3.0203,-999.000
   06MT18_1,       A01E,     574,          1,          2,        K31,2,19910909,       0453,    59.0767,   -33.4033,       2521,  2499.4,   3.2172,  34.9467,2,  34.9490,2,   275.5,2,   13.67,2,   17.19,2,    0.00,2,    1.14,2,-999.000,9,-999.000,9,  -999.0,9,  -999.0,9,-999.000,9,-999.0000,9, -999.00,9,-999.000,  -999.0,9,  -999.0,  2500.0,-999.0000,-999.000,     3.0133,-999.000
   06MT18_1,       A01E,     574,          1,          1,        B50,2,19910909,       0453,    59.0767,   -33.4033,       2521,  2524.5,   3.2172,  34.9458,2,  34.9490,2,   275.7,2,   13.57,2,   17.19,2,    0.00,2,    1.15,2,   1.224,2,   0.576,2,  -999.0,9,  -999.0,9,   1.294,2,   1.8229,2,    7.42,2,   3.218,  -999.0,9,  -999.0,  2525.0,   0.0073,   0.270,     3.0108,   0.026
   06MT18_1,       A01E,     575,          1,         24,        B41,2,19910909,       0920,    59.0133,   -32.7717,       2063,    10.0,   9.1708,  34.7284,2,  34.7300,2,   290.9,2,    4.40,2,    8.69,2,    0.16,2,    0.63,2,   3.978,2,   1.911,2,  2088.2,2,  -999.0,9,-999.000,9,-999.0000,9, -999.00,9,-999.000,  -999.0,9,  -999.0,    11.0,-999.0000,-999.000,     9.1697,-999.000
   06MT18_1,       A01E,     575,          1,         23,         K1,2,19910909,       0920,    59.0133,   -32.7717,       2063,    29.8,   8.9230,  34.7256,2,  34.8630,4,   276.9,2,    3.91,2,    8.69,2,    0.16,2,    0.63,2,   4.022,2,   1.909,2,  2129.1,2,  -999.0,9,-999.000,9,-999.0000,9, -999.00,9,-999.000,  -999.0,9,  -999.0,    31.0,-999.0000,-999.000,     8.9198,-999.000
   06MT18_1,       A01E,     575,          1,         22,         K3,2,19910909,       0920,    59.0133,   -32.7717,       2063,    58.5,   7.3306,  34.8354,2,  34.8820,4,   275.9,2,    7.23,2,   14.45,2,    0.05,2,    0.95,2,-999.000,9,-999.000,9,  2128.1,2,  -999.0,9,-999.000,9,-999.0000,9, -999.00,9,-999.000,  -999.0,9,  -999.0,    60.0,-999.0000,-999.000,     7.3250,-999.000
   06MT18_1,       A01E,     575,          1,         21,        B35,2,19910909,       0920,    59.0133,   -32.7717,       2063,    93.2,   6.5973,  34.9309,2,  34.8840,2,   275.8,2,    7.42,2,   14.65,2,    0.05,2,    0.95,2,-999.000,9,-999.000,9,  2129.0,2,  -999.0,9,-999.000,9,-999.0000,9, -999.00,9,-999.000,  -999.0,9,  -999.0,    95.0,-999.0000,-999.000,     6.5889,-999.000
   06MT18_1,       A01E,     575,          1,         20,        B48,2,19910909,       0920,    59.0133,   -32.7717,       2063,   242.9,   6.1557,  35.0008,2,  35.0040,2,   270.0,2,    8.98,2,   16.50,2,    0.00,2,    1.07,2,   3.592,2,   1.709,2,  2144.1,2,  -999.0,9,   1.945,2,   1.7701,2,    0.73,2,-999.000,  -999.0,9,  -999.0,   246.0,   0.0071,   0.160,     6.1344,   0.031
   06MT18_1,       A01E,     575,          1,         19,        B36,2,19910909,       0920,    59.0133,   -32.7717,       2063,   345.2,   6.0668,  35.0318,2,  35.0330,2,   273.5,2,    8.79,2,   16.41,2,    0.00,2,    1.05,2,   3.623,2,   1.731,2,  2143.9,2,  -999.0,9,   1.933,2,   1.7623,2,    0.56,2,-999.000,  -999.0,9,  -999.0,   349.0,   0.0070,   0.190,     6.0365,   0.027
   06MT18_1,       A01E,     575,          1,         18,        K17,2,19910909,       0920,    59.0133,   -32.7717,       2063,   442.6,   5.6571,  34.9914,2,  34.9950,2,   273.5,2,    9.28,2,   16.80,2,    0.00,2,    1.07,2,   3.544,2,   1.691,2,  2146.0,2,  -999.0,9,   1.878,2,   1.7668,2,    1.07,2,-999.000,  -999.0,9,  -999.0,   447.0,   0.0071,   0.160,     5.6194,   0.030
   06MT18_1,       A01E,     575,          1,         17,        K19,2,19910909,       0920,    59.0133,   -32.7717,       2063,   538.1,   5.2615,  34.9687,2,  34.9700,2,   264.1,2,   10.06,2,   17.58,2,    0.00,2,    1.14,2,-999.000,9,-999.000,9,  2152.6,2,  -999.0,9,-999.000,9,-999.0000,9, -999.00,9,   5.267,  -999.0,9,  -999.0,   543.0,-999.0000,-999.000,     5.2170,-999.000
   06MT18_1,       A01E,     575,          1,         16,        B39,4,19910909,       0920,    59.0133,   -32.7717,       2063,   538.1,-999.0000,-999.0000,9,  34.9700,2,   263.7,2,   10.06,2,   17.58,2,    0.00,2,    1.14,2,   3.047,2,   1.453,2,  -999.0,9,  -999.0,9,   1.934,2,   1.7731,2,    3.04,2,-999.000,  -999.0,9,  -999.0,   543.0,   0.0071,   0.170,     -999.0,   0.032
   06MT18_1,       A01E,     575,          1,         15,        K15,2,19910909,       0920,    59.0133,   -32.7717,       2063,   847.2,   4.0607,  34.9075,2,  34.9080,2,   277.3,2,   10.25,2,   17.78,2,    0.00,2,    1.15,2,-999.000,9,-999.000,9,  2152.4,2,  -999.0,9,-999.000,9,-999.0000,9, -999.00,9,-999.000,  -999.0,9,  -999.0,   852.0,-999.0000,-999.000,     3.9966,-999.000
   06MT18_1,       A01E,     575,          1,         14,         K7,4,19910909,       0920,    59.0133,   -32.7717,       2063,   847.2,-999.0000,-999.0000,9,  34.9090,2,   277.4,2,   10.25,2,   17.78,2,    0.00,2,    1.15,2,   2.985,2,   1.401,2,  -999.0,9,  -999.0,9,-999.000,9,-999.0000,9, -999.00,9,   4.068,  -999.0,9,  -999.0,   852.0,-999.0000,-999.000,     -999.0,-999.000
   06MT18_1,       A01E,     575,          1,         13,        B42,2,19910909,       0920,    59.0133,   -32.7717,       2063,  1095.1,   3.7398,  34.9134,2,  34.9120,2,   281.2,2,   10.45,2,   17.38,2,    0.00,2,    1.13,2,-999.000,9,-999.000,9,  2152.2,2,  -999.0,9,-999.000,9,-999.0000,9, -999.00,9,-999.000,  -999.0,9,  -999.0,  1101.0,-999.0000,-999.000,     3.6576,-999.000
   06MT18_1,       A01E,     575,          1,         12,        B44,2,19910909,       0920,    59.0133,   -32.7717,       2063,  1183.1,   3.6679,  34.9103,2,  34.9070,2,   284.2,2,   10.45,2,   17.29,2,    0.00,2,    1.12,2,   2.720,2,   1.282,2,  2153.2,2,  -999.0,9,   1.784,2,   1.7929,2,    5.02,2,-999.000,  -999.0,9,  -999.0,  1189.0,   0.0072,   0.130,     3.5790,   0.039
   06MT18_1,       A01E,     575,          1,         11,        B46,2,19910909,       0920,    59.0133,   -32.7717,       2063,  1285.3,   3.4810,  34.8910,2,  34.8900,2,   289.6,2,   10.26,2,   17.19,2,    0.00,2,    1.12,2,-999.000,9,-999.000,9,  2152.3,2,  -999.0,9,-999.000,9,-999.0000,9, -999.00,9,   3.480,  -999.0,9,  -999.0,  1291.0,-999.0000,-999.000,     3.3853,-999.000
   06MT18_1,       A01E,     575,          1,         10,        B45,2,19910909,       0920,    59.0133,   -32.7717,       2063,  1393.5,   3.5070,  34.9021,2,  34.9030,2,   285.7,2,   10.45,2,   17.09,2,    0.00,2,    1.13,2,   2.621,2,   1.228,2,  -999.0,9,  -999.0,9,   1.749,2,   1.7996,2,    5.53,2,-999.000,  -999.0,9,  -999.0,  1399.0,   0.0072,   0.170,     3.4018,   0.027
   06MT18_1,       A01E,     575,          1,          9,        B40,2,19910909,       0920,    59.0133,   -32.7717,       2063,  1493.7,   3.3971,  34.8896,2,  34.8910,2,   288.5,2,   10.26,2,   16.99,2,    0.00,2,    1.13,2,   2.709,2,   1.278,2,  2152.4,2,  -999.0,9,-999.000,5,   1.7988,2,   -9.00,2,   3.404,  -999.0,9,  -999.0,  1499.0,   0.0072,-999.000,     3.2845,-999.000
   06MT18_1,       A01E,     575,          1,          8,        B52,2,19910909,       0920,    59.0133,   -32.7717,       2063,  1595.0,   3.4580,  34.9048,2,  34.9060,2,   285.2,2,   10.65,2,   17.09,2,    0.00,2,    1.13,2,   2.426,2,   1.136,2,  2152.1,2,  -999.0,9,   1.686,2,   1.7982,2,    6.00,2,-999.000,  -999.0,9,  -999.0,  1600.0,   0.0072,   0.170,     3.3358,   0.026
   06MT18_1,       A01E,     575,          1,          7,        B37,2,19910909,       0920,    59.0133,   -32.7717,       2063,  1692.4,   3.4690,  34.9143,2,  34.9140,2,   282.5,2,   10.74,2,   16.90,2,    0.00,2,    1.13,2,-999.000,9,-999.000,9,  2153.1,2,  -999.0,9,-999.000,9,-999.0000,9, -999.00,9,   3.470,  -999.0,9,  -999.0,  1697.0,-999.0000,-999.000,     3.3379,-999.000
   06MT18_1,       A01E,     575,          1,          6,        B49,2,19910909,       0920,    59.0133,   -32.7717,       2063,  1787.8,   3.3751,  34.9051,2,  34.9050,2,   284.5,2,   10.84,2,   16.99,2,    0.00,2,    1.13,2,   2.248,2,   1.047,2,  2152.9,2,  -999.0,9,   1.565,2,   1.8018,2,   -9.00,2,-999.000,  -999.0,9,  -999.0,  1792.0,   0.0072,-999.000,     3.2366,   0.099
   06MT18_1,       A01E,     575,          1,          5,        B51,2,19910909,       0920,    59.0133,   -32.7717,       2063,  1842.0,   3.3641,  34.9070,2,  34.9070,2,   283.9,2,   10.74,2,   16.90,2,    0.00,2,    1.12,2,-999.000,9,-999.000,9,  2153.2,2,  -999.0,9,-999.000,9,-999.0000,9, -999.00,9,-999.000,  -999.0,9,  -999.0,  1846.0,-999.0000,-999.000,     3.2208,-999.000
   06MT18_1,       A01E,     575,          1,          4,        K30,2,19910909,       0920,    59.0133,   -32.7717,       2063,  1899.2,   3.3811,  34.9161,2,  34.9150,2,   281.8,2,   10.84,2,   16.90,2,    0.00,2,    1.12,2,-999.000,9,-999.000,9,  -999.0,9,  -999.0,9,-999.000,9,-999.0000,9, -999.00,9,-999.000,  -999.0,9,  -999.0,  1903.0,-999.0000,-999.000,     3.2323,-999.000
   06MT18_1,       A01E,     575,          1,          3,        K22,4,19910909,       0920,    59.0133,   -32.7717,       2063,  1899.2,-999.0000,-999.0000,9,  34.9150,2,   282.0,2,   10.84,2,   16.90,2,    0.00,2,    1.13,2,-999.000,9,-999.000,9,  2153.4,2,  -999.0,9,-999.000,9,-999.0000,9, -999.00,9,   3.381,  -999.0,9,  -999.0,  1903.0,-999.0000,-999.000,     -999.0,-999.000
   06MT18_1,       A01E,     575,          1,          2,        K31,2,19910909,       0920,    59.0133,   -32.7717,       2063,  1994.7,   3.4111,  34.9241,2,  34.9270,2,   279.9,2,   11.23,2,   16.90,2,    0.00,2,    1.13,2,   1.845,2,   0.858,2,  2152.5,2,  -999.0,9,   1.535,2,   1.7926,2,    6.95,2,-999.000,  -999.0,9,  -999.0,  1998.0,   0.0072,   0.190,     3.2529,   0.025