BOTTLE,20020919WHPSIOSA
EXPOCODE,SECT_ID,STNNBR,CASTNO,SAMPNO,BTLNBR,BTLNBR_FLAG_W,DATE,TIME,LATITUDE,LONGITUDE,DEPTH,CTDPRS,CTDTMP,CTDSAL,CTDSAL_FLAG_W,SALNTY,SALNTY_FLAG_W,OXYGEN,OXYGEN_FLAG_W,SILCAT,SILCAT_FLAG_W,NITRAT,NITRAT_FLAG_W,NITRIT,NITRIT_FLAG_W,PHSPHT,PHSPHT_FLAG_W,CFC-11,CFC-11_FLAG_W,CFC-12,CFC-12_FLAG_W,TCARBN,TCARBN_FLAG_W,ALKALI,ALKALI_FLAG_W,TRITUM,TRITUM_FLAG_W,HELIUM,HELIUM_FLAG_W,DELHE3,DELHE3_FLAG_W,REVTMP,DELC14,DELC14_FLAG_W,C14ERR,CTDRAW,HELIER,DELHER,THETA,TRITER
,,,,,,,,,,,METERS,DBAR,ITS-90,PSS-78,,PSS-78,,UMOL/KG,,UMOL/KG,,UMOL/KG,,UMOL/KG,,UMOL/KG,,PMOL/KG,,PMOL/KG,,UMOL/KG,,UMOL/KG,,TU,,NMOL/KG,,PERCNT,,ITS-90,/MILLE,,/MILLE,DBAR,NMOL/KG,PERCNT,DEG,TU
   06MT18_1,       A01E,     586,          1,         24,        B41,3,19910911,       2005,    56.9117,   -27.8400,       2922,    13.7,  12.1118,  34.8660,2,  34.9870,2,   263.6,4,    2.93,4,    7.82,4,    0.16,4,    0.64,4,   3.684,2,   1.757,2,  -999.0,9,  -999.0,9,-999.000,9,-999.0000,9, -999.00,9,-999.000,  -999.0,9,  -999.0,    14.8,-999.0000,-999.000,    12.1100,-999.000
   06MT18_1,       A01E,     586,          1,         23,        K23,2,19910911,       2005,    56.9117,   -27.8400,       2922,    33.7,  10.9849,  34.9447,2,  34.9800,2,   264.8,2,    2.35,2,    7.33,2,    0.15,2,    0.60,2,   3.649,2,   1.749,2,  -999.0,9,  -999.0,9,-999.000,9,-999.0000,9, -999.00,9,-999.000,  -999.0,9,  -999.0,    35.0,-999.0000,-999.000,    10.9808,-999.000
   06MT18_1,       A01E,     586,          1,         22,         K3,2,19910911,       2005,    56.9117,   -27.8400,       2922,    63.9,   8.8900,  35.1567,2,  35.1190,2,   262.2,2,    6.94,2,   14.17,2,    0.01,2,    0.91,2,-999.000,9,-999.000,9,  -999.0,9,  -999.0,9,-999.000,9,-999.0000,9, -999.00,9,-999.000,  -999.0,9,  -999.0,    65.5,-999.0000,-999.000,     8.8831,-999.000
   06MT18_1,       A01E,     586,          1,         21,        B35,2,19910911,       2005,    56.9117,   -27.8400,       2922,   104.1,   8.4605,  35.1168,2,  35.1160,3,   262.4,2,    7.03,2,   14.36,2,    0.01,2,    0.94,2,   3.613,2,   1.721,2,  -999.0,9,  -999.0,9,   2.125,2,   1.7613,2,   -0.14,2,-999.000,  -999.0,9,  -999.0,   106.0,   0.0070,   0.150,     8.4496,   0.028
   06MT18_1,       A01E,     586,          1,         20,        B48,2,19910911,       2005,    56.9117,   -27.8400,       2922,   124.0,   8.3905,  35.1152,2,  35.0390,2,   260.5,2,    8.40,2,   15.93,2,    0.00,2,    1.04,2,   3.503,2,   1.600,2,  -999.0,9,  -999.0,9,   2.006,2,   1.7652,2,    0.79,2,-999.000,  -999.0,9,  -999.0,   126.1,   0.0071,   0.170,     8.3776,   0.027
   06MT18_1,       A01E,     586,          1,         19,        B36,4,19910911,       2005,    56.9117,   -27.8400,       2922,   470.0,-999.0000,-999.0000,9,  34.9770,2,   249.4,2,   10.16,2,   17.88,2,    0.00,2,    1.17,2,   2.823,2,   1.357,2,  -999.0,9,  -999.0,9,   1.853,2,   1.7802,2,    2.70,2,-999.000,  -999.0,9,  -999.0,   474.6,   0.0071,   0.270,     -999.0,   0.022
   06MT18_1,       A01E,     586,          1,         18,        B40,2,19910911,       2005,    56.9117,   -27.8400,       2922,   470.0,   6.0977,  34.9761,2,  34.9770,2,   249.2,2,   10.16,2,   17.88,2,    0.00,2,    1.17,2,   2.816,2,   1.359,2,  -999.0,9,  -999.0,9,-999.000,9,-999.0000,9, -999.00,9,   6.097,  -999.0,9,  -999.0,   474.6,-999.0000,-999.000,     6.0560,-999.000
   06MT18_1,       A01E,     586,          1,         17,        K17,4,19910911,       2005,    56.9117,   -27.8400,       2922,   968.6,-999.0000,-999.0000,9,  34.9170,2,   265.7,2,   11.24,2,   18.27,2,    0.00,2,    1.20,2,   2.058,2,   0.972,2,  -999.0,9,  -999.0,9,   1.751,2,   1.8106,2,    7.21,2,-999.000,  -999.0,9,  -999.0,   974.5,   0.0072,   0.190,     -999.0,   0.043
   06MT18_1,       A01E,     586,          1,         16,         K7,2,19910911,       2005,    56.9117,   -27.8400,       2922,   968.6,   4.0436,  34.9146,2,  34.9160,2,   265.8,2,   11.24,2,   18.27,2,    0.00,2,    1.20,2,-999.000,9,-999.000,9,  -999.0,9,  -999.0,9,-999.000,9,-999.0000,9, -999.00,9,   4.052,  -999.0,9,  -999.0,   974.5,-999.0000,-999.000,     3.9696,-999.000
   06MT18_1,       A01E,     586,          1,         15,        B39,4,19910911,       2005,    56.9117,   -27.8400,       2922,  1172.7,-999.0000,-999.0000,9,  34.9020,2,   274.4,2,   11.14,2,   17.98,2,    0.00,2,    1.18,2,   1.959,2,   0.923,2,  -999.0,9,  -999.0,9,-999.000,9,-999.0000,9, -999.00,9,-999.000,  -999.0,9,  -999.0,  1178.6,-999.0000,-999.000,     -999.0,-999.000
   06MT18_1,       A01E,     586,          1,         14,        B42,2,19910911,       2005,    56.9117,   -27.8400,       2922,  1172.7,   3.7528,  34.9016,2,  34.9010,2,   274.0,2,   11.04,2,   17.98,2,    0.00,2,    1.18,2,   1.950,2,   0.924,2,  -999.0,9,  -999.0,9,   1.633,2,   1.7848,2,    7.33,2,   3.760,  -999.0,9,  -999.0,  1178.6,   0.0071,   0.190,     3.6640,   0.056
   06MT18_1,       A01E,     586,          1,         13,         K9,2,19910911,       2005,    56.9117,   -27.8400,       2922,  1574.7,   3.4680,  34.8936,2,  34.8940,2,   281.5,2,   11.14,2,   17.59,2,    0.00,2,    1.16,2,   1.688,2,   0.797,2,  -999.0,9,  -999.0,9,-999.000,9,-999.0000,9, -999.00,9,-999.000,  -999.0,9,  -999.0,  1579.7,-999.0000,-999.000,     3.3475,-999.000
   06MT18_1,       A01E,     586,          1,         12,        B50,2,19910911,       2005,    56.9117,   -27.8400,       2922,  1773.8,   3.4640,  34.9167,2,  34.9170,2,   277.8,2,   11.82,2,   17.49,2,    0.00,2,    1.16,2,   1.229,2,   0.583,2,  -999.0,9,  -999.0,9,   1.279,2,   1.7901,2,    8.03,2,   3.465,  -999.0,9,  -999.0,  1778.1,   0.0072,   0.180,     3.3256,   0.036
   06MT18_1,       A01E,     586,          1,         11,        B44,2,19910911,       2005,    56.9117,   -27.8400,       2922,  1976.4,   3.4001,  34.9351,2,  34.9390,2,   274.5,2,   12.90,2,   17.39,2,    0.00,2,    1.16,2,   0.987,2,   0.459,2,  -999.0,9,  -999.0,9,-999.000,9,-999.0000,9, -999.00,9,-999.000,  -999.0,9,  -999.0,  1979.8,-999.0000,-999.000,     3.2438,-999.000
   06MT18_1,       A01E,     586,          1,         10,        K19,2,19910911,       2005,    56.9117,   -27.8400,       2922,  2172.0,   3.2502,  34.9514,2,  34.9510,2,   273.1,2,   14.17,2,   17.39,2,    0.00,2,    1.14,2,   0.937,2,   0.439,2,  -999.0,9,  -999.0,9,   1.040,2,   1.8070,2,    7.10,2,   3.259,  -999.0,9,  -999.0,  2174.4,   0.0072,   0.160,     3.0777,   0.019
   06MT18_1,       A01E,     586,          1,          9,        B45,2,19910911,       2005,    56.9117,   -27.8400,       2922,  2364.5,   3.0654,  34.9629,2,  34.9630,2,   272.1,2,   15.63,2,   17.30,2,    0.00,2,    1.14,2,   1.068,2,   0.497,2,  -999.0,9,  -999.0,9,-999.000,9,-999.0000,9, -999.00,9,-999.000,  -999.0,9,  -999.0,  2365.9,-999.0000,-999.000,     2.8774,-999.000
   06MT18_1,       A01E,     586,          1,          8,        K22,2,19910911,       2005,    56.9117,   -27.8400,       2922,  2568.7,   2.8665,  34.9656,2,  34.9660,2,   271.7,2,   17.20,2,   17.30,2,    0.00,2,    1.15,2,   1.232,2,   0.573,2,  -999.0,9,  -999.0,9,   1.078,2,-999.0000,5,   -9.00,5,   2.866,  -999.0,9,  -999.0,  2569.0,-999.0000,-999.000,     2.6622,   0.019
   06MT18_1,       A01E,     586,          1,          7,        B52,2,19910911,       2005,    56.9117,   -27.8400,       2922,  2621.8,   2.8365,  34.9655,2,  34.9660,2,   271.4,2,   17.30,2,   17.20,2,    0.00,2,    1.14,2,-999.000,9,-999.000,9,  -999.0,9,  -999.0,9,-999.000,9,-999.0000,9, -999.00,9,-999.000,  -999.0,9,  -999.0,  2621.8,-999.0000,-999.000,     2.6275,-999.000
   06MT18_1,       A01E,     586,          1,          6,        B51,2,19910911,       2005,    56.9117,   -27.8400,       2922,  2669.3,   2.8106,  34.9663,2,  34.9670,2,   271.9,2,   17.30,2,   17.10,2,    0.00,2,    1.14,2,   1.300,2,   0.603,2,  -999.0,9,  -999.0,9,-999.000,9,-999.0000,9, -999.00,9,   2.812,  -999.0,9,  -999.0,  2669.0,-999.0000,-999.000,     2.5974,-999.000
   06MT18_1,       A01E,     586,          1,          5,        B49,2,19910911,       2005,    56.9117,   -27.8400,       2922,  2727.9,   2.7866,  34.9672,2,  34.9680,2,   272.8,2,   16.91,2,   17.10,2,    0.00,2,    1.13,2,-999.000,9,-999.000,9,  -999.0,9,  -999.0,9,-999.000,9,-999.0000,9, -999.00,9,-999.000,  -999.0,9,  -999.0,  2727.3,-999.0000,-999.000,     2.5680,-999.000
   06MT18_1,       A01E,     586,          1,          4,        B37,2,19910911,       2005,    56.9117,   -27.8400,       2922,  2783.9,   2.7636,  34.9682,2,  34.9690,2,   273.7,2,   16.61,2,   17.00,2,    0.00,2,    1.13,2,   1.391,2,   0.650,2,  -999.0,9,  -999.0,9,-999.000,9,-999.0000,9, -999.00,9,   2.765,  -999.0,9,  -999.0,  2783.0,-999.0000,-999.000,     2.5399,-999.000
   06MT18_1,       A01E,     586,          1,          3,        K30,2,19910911,       2005,    56.9117,   -27.8400,       2922,  2847.4,   2.7496,  34.9684,2,  34.9690,2,   273.0,2,   16.51,2,   17.00,2,    0.00,2,    1.13,2,-999.000,9,-999.000,9,  -999.0,9,  -999.0,9,-999.000,9,-999.0000,9, -999.00,9,-999.000,  -999.0,9,  -999.0,  2846.1,-999.0000,-999.000,     2.5197,-999.000
   06MT18_1,       A01E,     586,          1,          2,        B46,2,19910911,       2005,    56.9117,   -27.8400,       2922,  2903.1,   2.7386,  34.9680,2,  34.9700,2,   273.9,2,   16.51,2,   16.91,2,    0.00,2,    1.12,2,-999.000,9,-999.000,9,  -999.0,9,  -999.0,9,-999.000,9,-999.0000,9, -999.00,9,   2.738,  -999.0,9,  -999.0,  2901.5,-999.0000,-999.000,     2.5033,-999.000
   06MT18_1,       A01E,     586,          1,          1,        K31,2,19910911,       2005,    56.9117,   -27.8400,       2922,  2921.7,   2.7406,  34.9693,2,  34.9700,2,   273.1,2,   16.51,2,   16.91,2,    0.00,2,    1.13,2,   1.476,2,   0.691,2,  -999.0,9,  -999.0,9,   1.227,2,   1.8093,2,    6.14,2,-999.000,  -999.0,9,  -999.0,  2920.0,   0.0072,   0.180,     2.5033,   0.022
   06MT18_1,       A01E,     587,          1,         13,         K9,2,19910912,       0242,    56.4600,   -27.4933,       2779,  1265.3,   3.5700,  34.8962,2,  34.8940,2,   278.9,2,   11.53,2,   17.59,2,    0.00,2,    1.15,2,   1.868,2,   0.867,2,  -999.0,9,  -999.0,9,-999.000,9,-999.0000,9, -999.00,9,-999.000,  -999.0,9,  -999.0,  1271.1,-999.0000,-999.000,     3.4751,-999.000
   06MT18_1,       A01E,     587,          1,         12,        B50,2,19910912,       0242,    56.4600,   -27.4933,       2779,  1464.9,   3.4860,  34.8993,2,  34.8990,2,   280.2,2,   11.33,2,   17.49,2,    0.00,2,    1.14,2,   1.651,2,   0.782,2,  -999.0,9,  -999.0,9,-999.000,9,-999.0000,9, -999.00,9,   3.487,  -999.0,9,  -999.0,  1470.3,-999.0000,-999.000,     3.3749,-999.000
   06MT18_1,       A01E,     587,          1,         11,        B44,4,19910912,       0242,    56.4600,   -27.4933,       2779,  1464.9,-999.0000,-999.0000,9,  34.8980,2,   280.1,2,   11.24,2,   17.49,2,    0.00,2,    1.15,2,   1.662,2,   0.785,2,  -999.0,9,  -999.0,9,-999.000,9,-999.0000,9, -999.00,9,-999.000,  -999.0,9,  -999.0,  1470.3,-999.0000,-999.000,     -999.0,-999.000
   06MT18_1,       A01E,     587,          1,         10,        K19,2,19910912,       0242,    56.4600,   -27.4933,       2779,  1870.8,   3.4051,  34.9367,2,  34.9380,2,   272.8,2,   12.80,2,   17.29,2,    0.00,2,    1.15,2,   1.007,2,   0.487,2,  -999.0,9,  -999.0,9,-999.000,9,-999.0000,9, -999.00,9,   3.413,  -999.0,9,  -999.0,  1874.7,-999.0000,-999.000,     3.2585,-999.000
   06MT18_1,       A01E,     587,          1,          9,        B45,2,19910912,       0242,    56.4600,   -27.4933,       2779,  2072.8,   3.2432,  34.9501,2,  34.9500,2,   273.5,2,   13.97,2,   17.29,2,    0.00,2,    1.15,2,   0.892,2,   0.432,2,  -999.0,9,  -999.0,9,-999.000,9,-999.0000,9, -999.00,9,-999.000,  -999.0,9,  -999.0,  2075.7,-999.0000,-999.000,     3.0802,-999.000
   06MT18_1,       A01E,     587,          1,          8,        K22,2,19910912,       0242,    56.4600,   -27.4933,       2779,  2276.2,   3.0823,  34.9639,2,  34.9640,2,   272.1,2,   15.34,2,   17.19,2,    0.00,2,    1.15,2,   0.680,2,   0.317,2,  -999.0,9,  -999.0,9,-999.000,9,-999.0000,9, -999.00,9,   3.083,  -999.0,9,  -999.0,  2278.1,-999.0000,-999.000,     2.9025,-999.000
   06MT18_1,       A01E,     587,          1,          7,        B52,2,19910912,       0242,    56.4600,   -27.4933,       2779,  2479.3,   2.8285,  34.9613,2,  34.9610,2,   268.5,2,   19.83,2,   17.88,2,    0.00,2,    1.20,2,   0.980,2,   0.470,2,  -999.0,9,  -999.0,9,-999.000,9,-999.0000,9, -999.00,9,-999.000,  -999.0,9,  -999.0,  2480.1,-999.0000,-999.000,     2.6336,-999.000
   06MT18_1,       A01E,     587,          1,          6,        B51,2,19910912,       0242,    56.4600,   -27.4933,       2779,  2576.8,   2.7706,  34.9592,2,  34.9600,2,   266.2,2,   20.91,2,   17.88,2,    0.00,2,    1.21,2,   0.993,2,   0.473,2,  -999.0,9,  -999.0,9,-999.000,9,-999.0000,9, -999.00,9,-999.000,  -999.0,9,  -999.0,  2577.0,-999.0000,-999.000,     2.5673,-999.000
   06MT18_1,       A01E,     587,          1,          4,        B37,2,19910912,       0242,    56.4600,   -27.4933,       2779,  2626.1,   2.7436,  34.9589,2,  34.9600,2,   266.8,2,   21.49,2,   17.98,2,    0.00,2,    1.22,2,   1.019,2,   0.483,2,  -999.0,9,  -999.0,9,-999.000,9,-999.0000,9, -999.00,9,   2.744,  -999.0,9,  -999.0,  2626.0,-999.0000,-999.000,     2.5360,-999.000
   06MT18_1,       A01E,     587,          1,          5,        B49,2,19910912,       0242,    56.4600,   -27.4933,       2779,  2627.3,   2.7396,  34.9590,2,  34.9600,2,   267.1,2,   21.49,2,   17.98,2,    0.00,2,    1.22,2,   1.022,2,   0.484,2,  -999.0,9,  -999.0,9,-999.000,9,-999.0000,9, -999.00,9,-999.000,  -999.0,9,  -999.0,  2627.2,-999.0000,-999.000,     2.5320,-999.000
   06MT18_1,       A01E,     587,          1,          3,        K30,2,19910912,       0242,    56.4600,   -27.4933,       2779,  2674.3,   2.7476,  34.9671,2,  34.9590,4,   270.1,2,   21.59,2,   17.98,2,    0.00,2,    1.23,2,   1.014,2,   0.478,2,  -999.0,9,  -999.0,9,-999.000,9,-999.0000,9, -999.00,9,-999.000,  -999.0,9,  -999.0,  2674.0,-999.0000,-999.000,     2.5352,-999.000
   06MT18_1,       A01E,     587,          1,          2,        B46,2,19910912,       0242,    56.4600,   -27.4933,       2779,  2729.5,   2.7316,  34.9683,2,  34.9700,2,   272.8,2,   16.80,2,   17.00,2,    0.00,2,    1.18,2,-999.000,9,-999.000,9,  -999.0,9,  -999.0,9,-999.000,9,-999.0000,9, -999.00,9,   2.731,  -999.0,9,  -999.0,  2728.9,-999.0000,-999.000,     2.5140,-999.000
   06MT18_1,       A01E,     587,          1,          1,        K31,2,19910912,       0242,    56.4600,   -27.4933,       2779,  2779.4,   2.7146,  34.9681,2,  34.9710,2,   272.7,2,   17.39,2,   17.10,2,    0.00,2,    1.16,2,   1.461,2,   0.685,2,  -999.0,9,  -999.0,9,-999.000,9,-999.0000,9, -999.00,9,-999.000,  -999.0,9,  -999.0,  2778.5,-999.0000,-999.000,     2.4923,-999.000