BOTTLE,20020919WHPSIOSA
EXPOCODE,SECT_ID,STNNBR,CASTNO,SAMPNO,BTLNBR,BTLNBR_FLAG_W,DATE,TIME,LATITUDE,LONGITUDE,DEPTH,CTDPRS,CTDTMP,CTDSAL,CTDSAL_FLAG_W,SALNTY,SALNTY_FLAG_W,OXYGEN,OXYGEN_FLAG_W,SILCAT,SILCAT_FLAG_W,NITRAT,NITRAT_FLAG_W,NITRIT,NITRIT_FLAG_W,PHSPHT,PHSPHT_FLAG_W,CFC-11,CFC-11_FLAG_W,CFC-12,CFC-12_FLAG_W,TCARBN,TCARBN_FLAG_W,ALKALI,ALKALI_FLAG_W,TRITUM,TRITUM_FLAG_W,HELIUM,HELIUM_FLAG_W,DELHE3,DELHE3_FLAG_W,REVTMP,DELC14,DELC14_FLAG_W,C14ERR,CTDRAW,HELIER,DELHER,THETA,TRITER
,,,,,,,,,,,METERS,DBAR,ITS-90,PSS-78,,PSS-78,,UMOL/KG,,UMOL/KG,,UMOL/KG,,UMOL/KG,,UMOL/KG,,PMOL/KG,,PMOL/KG,,UMOL/KG,,UMOL/KG,,TU,,NMOL/KG,,PERCNT,,ITS-90,/MILLE,,/MILLE,DBAR,NMOL/KG,PERCNT,DEG,TU
   06MT18_1,       A01E,     596,          1,         22,         K3,2,19910914,       1741,    54.3767,   -25.9500,       3229,    13.2,  12.5993,  34.8827,2,  34.8880,2,   264.8,2,    0.88,2,    2.05,2,    0.11,2,    0.24,2,   3.244,2,   1.637,2,  2055.9,2,  -999.0,9,   2.307,2,   1.7367,2,   -1.05,2,-999.000,  -999.0,9,  -999.0,    14.2,   0.0069,   0.240,    12.5975,   0.053
   06MT18_1,       A01E,     596,          1,         21,        B35,2,19910914,       1741,    54.3767,   -25.9500,       3229,    30.2,  12.5394,  34.8867,2,  34.9000,2,   260.1,2,    1.07,2,    2.73,2,    0.12,2,    0.28,2,   3.300,2,   1.658,2,  2062.2,2,  -999.0,9,   2.349,2,   1.7332,2,   -1.84,2,-999.000,  -999.0,9,  -999.0,    31.4,   0.0069,   0.140,    12.5354,   0.045
   06MT18_1,       A01E,     596,          1,         20,        B48,2,19910914,       1741,    54.3767,   -25.9500,       3229,    60.6,   9.7662,  35.2157,2,  35.2100,2,   237.5,2,    6.44,2,   13.57,2,    0.03,2,    0.93,2,   3.166,2,   1.589,2,  2135.8,2,  -999.0,9,   2.093,2,   1.7612,2,    0.20,2,-999.000,  -999.0,9,  -999.0,    62.1,   0.0070,   0.170,     9.7593,   0.042
   06MT18_1,       A01E,     596,          1,         19,        B36,2,19910914,       1741,    54.3767,   -25.9500,       3229,    91.6,   9.5823,  35.2465,2,  35.2410,2,   245.7,2,    6.74,2,   13.86,2,    0.01,2,    0.93,2,   3.204,2,   1.603,2,  2137.0,2,  -999.0,9,   2.062,2,   1.7723,2,    0.01,2,-999.000,  -999.0,9,  -999.0,    93.4,   0.0071,   0.200,     9.5720,   0.040
   06MT18_1,       A01E,     596,          1,         18,        B40,2,19910914,       1741,    54.3767,   -25.9500,       3229,   192.3,   8.7272,  35.1409,2,  35.1400,2,   253.7,2,    7.32,2,   14.25,2,    0.01,2,    0.96,2,-999.000,9,-999.000,9,  2137.1,2,  -999.0,9,   2.104,2,   1.7701,2,   -0.08,2,   8.726,  -999.0,9,  -999.0,   195.0,   0.0071,   0.170,     8.7066,   0.041
   06MT18_1,       A01E,     596,          1,         17,        K17,2,19910914,       1741,    54.3767,   -25.9500,       3229,   394.5,   6.7781,  34.9510,2,  34.9510,2,   242.3,2,   10.25,2,   17.28,2,    0.01,2,    1.17,2,   2.949,2,   1.449,2,  2153.9,2,  -999.0,9,   1.932,2,   1.8096,2,    2.47,2,-999.000,  -999.0,9,  -999.0,   398.6,   0.0072,   0.190,     6.7413,   0.041
   06MT18_1,       A01E,     596,          1,         16,         K7,2,19910914,       1741,    54.3767,   -25.9500,       3229,   493.8,   6.4144,  35.0123,2,  35.0100,2,   236.5,2,   10.64,2,   17.97,2,    0.00,2,    1.21,2,   2.689,2,   1.264,2,  2160.8,2,  -999.0,9,-999.000,9,-999.0000,9, -999.00,9,   6.431,  -999.0,9,  -999.0,   498.5,-999.0000,-999.000,     6.3693,-999.000
   06MT18_1,       A01E,     596,          1,         15,        B39,2,19910914,       1741,    54.3767,   -25.9500,       3229,   594.6,   5.8260,  35.0147,2,  35.0130,2,   233.7,2,   11.52,2,   18.55,2,    0.00,2,    1.24,2,   2.289,2,   1.072,2,  2166.8,2,  -999.0,9,   1.682,2,   1.8046,2,    5.53,2,-999.000,  -999.0,9,  -999.0,   599.7,   0.0072,   0.190,     5.7740,   0.041
   06MT18_1,       A01E,     596,          1,         14,        B42,2,19910914,       1741,    54.3767,   -25.9500,       3229,   690.4,   5.3544,  35.0001,2,  35.0000,2,   238.8,2,   11.52,2,   18.65,2,    0.00,2,    1.26,2,   2.183,2,   1.021,2,  2167.8,2,  -999.0,9,   1.678,2,   1.8011,2,    6.60,2,   5.359,  -999.0,9,  -999.0,   695.8,   0.0072,   0.190,     5.2960,   0.041
   06MT18_1,       A01E,     596,          1,         13,         K9,2,19910914,       1741,    54.3767,   -25.9500,       3229,   788.5,   4.7639,  34.9615,2,  34.9610,2,   249.1,2,   11.52,2,   18.46,2,    0.00,2,    1.25,2,-999.000,9,-999.000,9,  2165.2,2,  -999.0,9,-999.000,9,-999.0000,9, -999.00,9,-999.000,  -999.0,9,  -999.0,   794.2,-999.0000,-999.000,     4.7002,-999.000
   06MT18_1,       A01E,     596,          1,         12,        B50,2,19910914,       1741,    54.3767,   -25.9500,       3229,   992.0,   4.1715,  34.9292,2,-999.0000,5,   262.0,2,   11.42,2,   18.07,2,    0.00,2,    1.23,2,   2.102,2,   0.986,2,  2161.1,2,  -999.0,9,   1.691,2,   1.8110,2,    7.45,2,   4.176,  -999.0,9,  -999.0,   997.9,   0.0072,   0.170,     4.0944,   0.045
   06MT18_1,       A01E,     596,          1,         11,        B44,2,19910914,       1741,    54.3767,   -25.9500,       3229,  1194.2,   3.7898,  34.9062,2,  34.9050,2,   272.5,2,   11.23,2,   17.68,2,    0.00,2,    1.20,2,   2.047,2,   0.957,2,  2157.3,2,  -999.0,9,-999.000,9,-999.0000,9, -999.00,9,-999.000,  -999.0,9,  -999.0,  1200.1,-999.0000,-999.000,     3.6988,-999.000
   06MT18_1,       A01E,     596,          1,         10,        K19,2,19910914,       1741,    54.3767,   -25.9500,       3229,  1393.0,   3.5809,  34.8942,2,  34.8920,2,   278.5,2,   11.23,2,   17.38,2,    0.00,2,    1.19,2,   2.065,2,   0.973,2,  2154.4,2,  -999.0,9,   1.699,2,   1.7921,2,    7.52,2,   3.581,  -999.0,9,  -999.0,  1398.5,   0.0072,   0.200,     3.4750,   0.039
   06MT18_1,       A01E,     596,          1,          9,        B45,2,19910914,       1741,    54.3767,   -25.9500,       3229,  1595.2,   3.4820,  34.8960,2,  34.8950,2,   279.9,2,   11.43,2,   17.28,2,    0.00,2,    1.19,2,-999.000,9,-999.000,9,  2154.4,2,  -999.0,9,-999.000,9,-999.0000,9, -999.00,9,-999.000,  -999.0,9,  -999.0,  1600.2,-999.0000,-999.000,     3.3595,-999.000
   06MT18_1,       A01E,     596,          1,          8,        K22,2,19910914,       1741,    54.3767,   -25.9500,       3229,  1795.6,   3.4301,  34.9087,2,  34.9070,2,   279.4,2,   11.82,2,   17.19,2,    0.00,2,    1.18,2,-999.000,9,-999.000,9,  2154.3,2,  -999.0,9,   1.409,2,-999.0000,5,   -9.00,5,   3.432,  -999.0,9,  -999.0,  1799.8,-999.0000,-999.000,     3.2902,   0.031
   06MT18_1,       A01E,     596,          1,          6,        B51,2,19910914,       1741,    54.3767,   -25.9500,       3229,  2398.8,   3.1883,  34.9457,2,  34.9480,2,   270.7,2,   16.21,2,   17.38,2,    0.00,2,    1.22,2,   0.787,2,   0.380,2,  2160.7,2,  -999.0,9,   0.931,2,   1.8085,2,    6.59,2,   3.199,   -38.0,2,     5.0,  2400.0,   0.0072,   0.190,     2.9949,   0.022
   06MT18_1,       A01E,     596,          1,          5,        B49,2,19910914,       1741,    54.3767,   -25.9500,       3229,  2600.8,   3.0494,  34.9532,2,  34.9520,2,   266.8,2,   19.24,2,   17.67,2,    0.00,2,    1.25,2,   0.741,2,   0.350,2,  2165.5,2,  -999.0,9,   0.874,2,   1.8097,2,    6.38,2,-999.000,  -999.0,9,  -999.0,  2600.9,   0.0072,   0.220,     2.8385,   0.022
   06MT18_1,       A01E,     596,          1,          4,        B43,2,19910914,       1741,    54.3767,   -25.9500,       3229,  2801.4,   2.9205,  34.9522,2,-999.0000,5,   264.3,2,   21.68,2,   17.97,2,    0.01,2,    1.27,2,   0.741,2,   0.353,2,  2169.8,2,  -999.0,9,   0.855,2,   1.8057,2,    5.80,2,   2.922,   -61.0,2,     6.0,  2800.4,   0.0072,   0.230,     2.6919,   0.022
   06MT18_1,       A01E,     596,          1,          3,        K30,2,19910914,       1741,    54.3767,   -25.9500,       3229,  2997.9,   2.8116,  34.9485,2,-999.0000,5,   261.7,2,   24.90,2,   18.46,2,    0.00,2,    1.29,2,   0.688,2,   0.332,2,  2174.8,2,  -999.0,9,   0.775,2,   1.8212,2,    5.53,2,-999.000,  -999.0,9,  -999.0,  2995.8,   0.0073,   0.200,     2.5651,   0.019
   06MT18_1,       A01E,     596,          1,          2,        B46,2,19910914,       1741,    54.3767,   -25.9500,       3229,  3250.9,   2.7286,  34.9389,2,  34.9390,2,   256.6,2,   29.98,2,   19.43,2,    0.00,2,    1.35,2,   0.551,6,   0.268,6,  2183.3,2,  -999.0,9,   0.597,2,   1.8146,2,    4.84,2,   2.735,  -999.0,9,  -999.0,  3247.6,   0.0073,   0.140,     2.4573,   0.006
   06MT18_1,       A01E,     597,          1,         24,        B41,2,19910914,       2254,    54.1550,   -25.7617,       3156,    18.0,  12.4545,  34.8616,2,  34.8650,2,   262.1,2,    1.47,2,    2.93,2,    0.14,2,    0.36,2,   3.310,2,   1.668,2,  -999.0,9,  -999.0,9,-999.000,9,-999.0000,9, -999.00,9,-999.000,  -999.0,9,  -999.0,    19.1,-999.0000,-999.000,    12.4521,-999.000
   06MT18_1,       A01E,     597,          1,         23,        K23,2,19910914,       2254,    54.1550,   -25.7617,       3156,    38.2,  11.3855,  35.0119,2,  34.9670,2,   254.0,2,    2.15,2,    5.86,2,    0.18,2,    0.54,2,-999.000,9,-999.000,9,  -999.0,9,  -999.0,9,-999.000,9,-999.0000,9, -999.00,9,-999.000,  -999.0,9,  -999.0,    39.5,-999.0000,-999.000,    11.3807,-999.000
   06MT18_1,       A01E,     597,          1,         22,         K3,2,19910914,       2254,    54.1550,   -25.7617,       3156,    68.5,   9.7492,  35.2547,2,  35.2630,2,   245.7,2,    5.76,2,   13.47,2,    0.02,2,    0.93,2,   3.224,2,   1.616,2,  -999.0,9,  -999.0,9,-999.000,9,-999.0000,9, -999.00,9,-999.000,  -999.0,9,  -999.0,    70.1,-999.0000,-999.000,     9.7414,-999.000
   06MT18_1,       A01E,     597,          1,         21,        B35,2,19910914,       2254,    54.1550,   -25.7617,       3156,   109.3,   9.5054,  35.2579,2,  35.2550,2,   251.0,2,    6.44,2,   13.67,2,    0.01,2,    0.94,2,   3.243,2,   1.624,2,  -999.0,9,  -999.0,9,-999.000,9,-999.0000,9, -999.00,9,-999.000,  -999.0,9,  -999.0,   111.3,-999.0000,-999.000,     9.4931,-999.000
   06MT18_1,       A01E,     597,          1,         20,        B48,2,19910914,       2254,    54.1550,   -25.7617,       3156,   209.0,   8.2647,  35.0899,2,  35.0610,2,   251.9,2,    8.01,2,   15.33,2,    0.01,2,    1.05,2,   3.300,2,   1.622,2,  -999.0,9,  -999.0,9,-999.000,9,-999.0000,9, -999.00,9,-999.000,  -999.0,9,  -999.0,   211.9,-999.0000,-999.000,     8.2431,-999.000
   06MT18_1,       A01E,     597,          1,         19,        B36,2,19910914,       2254,    54.1550,   -25.7617,       3156,   309.6,   8.3226,  35.1902,2,  35.1890,2,   258.7,2,    7.23,2,   14.55,2,    0.01,2,    1.01,2,   3.366,2,   1.656,2,  -999.0,9,  -999.0,9,-999.000,9,-999.0000,9, -999.00,9,-999.000,  -999.0,9,  -999.0,   313.2,-999.0000,-999.000,     8.2902,-999.000
   06MT18_1,       A01E,     597,          1,         18,        B40,2,19910914,       2254,    54.1550,   -25.7617,       3156,   410.2,   7.3196,  35.0680,2,  35.0690,2,   247.0,2,    8.98,2,   16.50,2,    0.01,2,    1.13,2,   3.018,2,   1.481,2,  -999.0,9,  -999.0,9,-999.000,9,-999.0000,9, -999.00,9,   7.318,  -999.0,9,  -999.0,   414.4,-999.0000,-999.000,     7.2795,-999.000
   06MT18_1,       A01E,     597,          1,         17,        K17,2,19910914,       2254,    54.1550,   -25.7617,       3156,   510.8,   6.3395,  35.0058,2,  35.0000,2,   235.5,2,   10.74,2,   18.26,2,    0.01,2,    1.25,2,   2.561,2,   1.234,2,  -999.0,9,  -999.0,9,-999.000,9,-999.0000,9, -999.00,9,-999.000,  -999.0,9,  -999.0,   515.6,-999.0000,-999.000,     6.2931,-999.000
   06MT18_1,       A01E,     597,          1,         16,         K7,2,19910914,       2254,    54.1550,   -25.7617,       3156,   611.6,   5.9569,  35.0191,2,  35.0210,2,   234.3,2,   11.23,2,   18.65,2,    0.00,2,    1.27,2,   2.359,2,   1.102,2,  -999.0,9,  -999.0,9,-999.000,9,-999.0000,9, -999.00,9,   5.960,  -999.0,9,  -999.0,   616.8,-999.0000,-999.000,     5.9027,-999.000
   06MT18_1,       A01E,     597,          1,         14,        B42,2,19910914,       2254,    54.1550,   -25.7617,       3156,   809.9,   4.6101,  34.9410,2,  34.9410,2,   251.3,2,   11.43,2,   18.56,2,    0.00,2,    1.27,2,   2.292,2,   1.073,2,  -999.0,9,  -999.0,9,-999.000,9,-999.0000,9, -999.00,9,   4.612,  -999.0,9,  -999.0,   815.6,-999.0000,-999.000,     4.5456,-999.000
   06MT18_1,       A01E,     597,          1,          8,        K22,2,19910914,       2254,    54.1550,   -25.7617,       3156,  1924.0,   3.4251,  34.9160,2,  34.9180,2,   276.6,2,   12.40,2,   17.29,2,    0.00,2,    1.21,2,   1.206,2,   0.576,2,  -999.0,9,  -999.0,9,-999.000,9,-999.0000,9, -999.00,9,   3.428,  -999.0,9,  -999.0,  1927.6,-999.0000,-999.000,     3.2734,-999.000
   06MT18_1,       A01E,     597,          1,          3,        K30,2,19910914,       2254,    54.1550,   -25.7617,       3156,  2936.9,   2.8645,  34.9463,2,  34.9500,2,   262.3,2,   23.93,2,   18.46,2,    0.00,2,    1.31,2,   0.664,6,   0.322,6,  -999.0,9,  -999.0,9,   0.770,2,   1.8085,2,    6.33,2,-999.000,  -999.0,9,  -999.0,  2935.1,   0.0072,   0.150,     2.6232,   0.016
   06MT18_1,       A01E,     597,          1,          1,        K31,2,19910914,       2254,    54.1550,   -25.7617,       3156,  3189.2,   2.7226,  34.9355,2,  34.9390,2,   254.1,2,   31.55,2,   19.83,2,    0.00,2,    1.40,2,   0.458,6,   0.224,6,  -999.0,9,  -999.0,9,   0.528,2,   1.8159,2,    4.57,2,-999.000,  -999.0,9,  -999.0,  3186.2,   0.0073,   0.160,     2.4580,   0.012
   06MT18_1,       A01E,     598,          1,         20,        B48,2,19910915,       0334,    53.9200,   -25.6367,       3622,   181.9,   7.6902,  34.9792,2,  34.9780,2,   242.1,2,   10.55,2,   16.21,2,    0.01,2,    1.14,2,   3.135,2,   1.541,2,  2142.2,2,  2406.0,2,-999.000,9,-999.0000,9, -999.00,9,-999.000,  -999.0,9,  -999.0,   184.5,-999.0000,-999.000,     7.6722,-999.000
   06MT18_1,       A01E,     598,          1,         19,        B36,2,19910915,       0334,    53.9200,   -25.6367,       3622,   273.6,   6.4674,  34.8710,2,  34.8730,2,   239.0,2,   11.91,2,   17.97,2,    0.01,2,    1.26,2,   2.966,2,   1.441,2,  2151.1,2,  2405.0,2,   1.944,2,   1.7774,2,    2.10,2,-999.000,  -999.0,9,  -999.0,   276.9,   0.0071,   0.160,     6.4428,   0.034
   06MT18_1,       A01E,     598,          1,         18,        B40,2,19910915,       0334,    53.9200,   -25.6367,       3622,   478.0,   4.9488,  34.8489,2,  34.8510,2,   252.8,2,   12.40,2,   18.26,2,    0.01,2,    1.29,2,   3.023,2,   1.455,2,  2156.0,2,  2394.0,2,-999.000,9,-999.0000,9, -999.00,9,   4.950,  -999.0,9,  -999.0,   482.6,-999.0000,-999.000,     4.9107,-999.000
   06MT18_1,       A01E,     598,          1,         17,        K17,2,19910915,       0334,    53.9200,   -25.6367,       3622,   678.8,   4.5391,  34.9355,2,  34.9350,2,   253.6,2,   12.60,2,   18.56,2,    0.00,2,    1.29,2,   2.336,2,   1.099,2,  2159.9,2,  2386.0,2,   1.711,2,   1.7904,2,    5.93,2,-999.000,  -999.0,9,  -999.0,   684.2,   0.0072,   0.200,     4.4861,   0.024
   06MT18_1,       A01E,     598,          1,         16,         K7,2,19910915,       0334,    53.9200,   -25.6367,       3622,   879.9,   3.9976,  34.9071,2,  34.9070,2,   267.4,2,   12.31,2,   18.07,2,    0.00,2,    1.26,2,   2.488,2,   1.152,2,  2156.2,2,  2388.0,2,   1.912,2,   1.8027,2,    5.51,2,   4.000,  -999.0,9,  -999.0,   885.7,   0.0072,   0.170,     3.9312,   0.027
   06MT18_1,       A01E,     598,          1,         14,        B42,2,19910915,       0334,    53.9200,   -25.6367,       3622,  1283.7,   3.5490,  34.8889,2,  34.8880,2,   280.1,2,   12.21,2,   17.48,2,    0.00,2,    1.23,2,   2.202,2,   1.033,2,  2150.8,2,  2372.0,2,-999.000,9,-999.0000,9, -999.00,9,   3.550,  -999.0,9,  -999.0,  1289.4,-999.0000,-999.000,     3.4528,-999.000
   06MT18_1,       A01E,     598,          1,         13,         K9,2,19910915,       0334,    53.9200,   -25.6367,       3622,  1485.5,   3.4381,  34.8873,2,  34.8860,2,   282.4,2,   12.31,2,   17.38,2,    0.00,2,    1.23,2,   2.114,2,   0.970,2,  2149.3,2,  2366.0,2,   1.754,2,-999.0000,5,   -9.00,5,-999.000,  -999.0,9,  -999.0,  1490.8,-999.0000,-999.000,     3.3257,   0.033
   06MT18_1,       A01E,     598,          1,          8,        K22,2,19910915,       0334,    53.9200,   -25.6367,       3622,  2529.1,   3.1713,  34.9482,2,  34.9490,2,   272.3,2,   16.21,2,   17.29,2,    0.00,2,    1.23,2,   0.863,2,   0.408,2,  2155.0,2,  2393.0,2,   1.060,2,   1.8127,2,    7.19,2,   3.172,  -999.0,9,  -999.0,  2529.6,   0.0073,   0.270,     2.9653,   0.027
   06MT18_1,       A01E,     598,          1,          6,        B51,2,19910915,       0334,    53.9200,   -25.6367,       3622,  2937.8,   2.9375,  34.9525,2,  34.9550,2,   268.9,2,   20.31,2,   17.68,2,    0.00,2,    1.26,2,   0.889,2,   0.416,2,  2162.5,2,  2396.0,2,   1.025,2,   1.8138,2,    6.62,2,   2.956,  -999.0,9,  -999.0,  2936.0,   0.0073,   0.270,     2.6945,   0.023
   06MT18_1,       A01E,     598,          1,          5,        B49,2,19910915,       0334,    53.9200,   -25.6367,       3622,  3141.1,   2.8455,  34.9502,2,  34.9520,2,   265.3,2,   23.73,2,   18.26,2,    0.00,2,    1.30,2,   0.802,2,   0.377,2,  2167.9,2,  2393.0,2,-999.000,9,-999.0000,9, -999.00,9,-999.000,  -999.0,9,  -999.0,  3138.3,-999.0000,-999.000,     2.5832,-999.000
   06MT18_1,       A01E,     598,          1,          1,        K31,2,19910915,       0334,    53.9200,   -25.6367,       3622,  3662.2,   2.6976,  34.9320,2,  34.9340,2,   253.0,2,   35.06,2,   20.22,2,    0.00,2,    1.45,2,   0.458,6,   0.220,6,  2184.4,2,  2401.0,2,-999.000,5,   1.8110,2,    3.95,2,-999.000,  -999.0,9,  -999.0,  3657.4,   0.0072,   0.180,     2.3822,-999.000