BOTTLE,20020919WHPSIOSA
EXPOCODE,SECT_ID,STNNBR,CASTNO,SAMPNO,BTLNBR,BTLNBR_FLAG_W,DATE,TIME,LATITUDE,LONGITUDE,DEPTH,CTDPRS,CTDTMP,CTDSAL,CTDSAL_FLAG_W,SALNTY,SALNTY_FLAG_W,OXYGEN,OXYGEN_FLAG_W,SILCAT,SILCAT_FLAG_W,NITRAT,NITRAT_FLAG_W,NITRIT,NITRIT_FLAG_W,PHSPHT,PHSPHT_FLAG_W,CFC-11,CFC-11_FLAG_W,CFC-12,CFC-12_FLAG_W,TCARBN,TCARBN_FLAG_W,ALKALI,ALKALI_FLAG_W,TRITUM,TRITUM_FLAG_W,HELIUM,HELIUM_FLAG_W,DELHE3,DELHE3_FLAG_W,REVTMP,DELC14,DELC14_FLAG_W,C14ERR,CTDRAW,HELIER,DELHER,THETA,TRITER
,,,,,,,,,,,METERS,DBAR,ITS-90,PSS-78,,PSS-78,,UMOL/KG,,UMOL/KG,,UMOL/KG,,UMOL/KG,,UMOL/KG,,PMOL/KG,,PMOL/KG,,UMOL/KG,,UMOL/KG,,TU,,NMOL/KG,,PERCNT,,ITS-90,/MILLE,,/MILLE,DBAR,NMOL/KG,PERCNT,DEG,TU
   06MT18_1,       A01E,     571,          1,          1,        B50,2,19910908,       1222,    59.1450,   -34.0367,       2855,  1955.8,   3.3062,  34.9468,2,  34.9460,2,   276.7,2,   12.31,2,   16.70,2, -999.00,9,    1.12,3,   1.342,2,   0.631,2,  -999.0,9,  -999.0,9,-999.000,9,-999.0000,9, -999.00,9,   3.306,  -999.0,9,  -999.0,  1959.3,-999.0000,-999.000,     3.1532,-999.000
   06MT18_1,       A01E,     571,          1,          2,        K31,2,19910908,       1222,    59.1450,   -34.0367,       2855,  1956.3,   3.3052,  34.9476,2,  34.9460,2,   276.0,2,   12.31,2,   16.70,2, -999.00,9,    1.12,3,-999.000,9,-999.000,9,  -999.0,9,  -999.0,9,-999.000,9,-999.0000,9, -999.00,9,-999.000,  -999.0,9,  -999.0,  1959.8,-999.0000,-999.000,     3.1521,-999.000
   06MT18_1,       A01E,     571,          1,          4,        K30,2,19910908,       1222,    59.1450,   -34.0367,       2855,  1956.4,   3.3052,  34.9476,2,  34.9460,2,   276.7,2,   12.40,2,   16.70,2, -999.00,9,    1.12,3,-999.000,9,-999.000,9,  -999.0,9,  -999.0,9,-999.000,9,-999.0000,9, -999.00,9,-999.000,  -999.0,9,  -999.0,  1959.9,-999.0000,-999.000,     3.1521,-999.000
   06MT18_1,       A01E,     571,          1,          5,        B51,2,19910908,       1222,    59.1450,   -34.0367,       2855,  1956.6,   3.3052,  34.9475,2,  34.9460,2,   276.7,2,   12.31,2,   16.70,2, -999.00,9,    1.12,3,   1.351,2,   0.630,2,  -999.0,9,  -999.0,9,-999.000,9,-999.0000,9, -999.00,9,   3.307,  -999.0,9,  -999.0,  1960.1,-999.0000,-999.000,     3.1521,-999.000
   06MT18_1,       A01E,     571,          1,          3,        K22,2,19910908,       1222,    59.1450,   -34.0367,       2855,  1956.7,   3.3052,  34.9474,2,  34.9460,2,   277.0,2,   12.31,2,   16.70,2, -999.00,9,    1.12,3,   1.350,2,   0.630,2,  -999.0,9,  -999.0,9,-999.000,9,-999.0000,9, -999.00,9,   3.306,  -999.0,9,  -999.0,  1960.2,-999.0000,-999.000,     3.1521,-999.000
   06MT18_1,       A01E,     571,          1,          7,        B37,2,19910908,       1222,    59.1450,   -34.0367,       2855,  1956.8,   3.3052,  34.9462,2,  34.9460,2,   276.8,2,   12.40,2,   16.70,2, -999.00,9,    1.11,2,   1.347,2,   0.636,2,  -999.0,9,  -999.0,9,-999.000,9,-999.0000,9, -999.00,9,   3.306,  -999.0,9,  -999.0,  1960.3,-999.0000,-999.000,     3.1521,-999.000
   06MT18_1,       A01E,     571,          1,          6,        B49,2,19910908,       1222,    59.1450,   -34.0367,       2855,  1957.0,   3.3052,  34.9473,2,  34.9460,2,   277.0,2,   12.21,4,   16.70,2, -999.00,9,    1.11,2,-999.000,9,-999.000,9,  -999.0,9,  -999.0,9,-999.000,9,-999.0000,9, -999.00,9,-999.000,  -999.0,9,  -999.0,  1960.5,-999.0000,-999.000,     3.1521,-999.000
   06MT18_1,       A01E,     571,          1,          9,        B40,2,19910908,       1222,    59.1450,   -34.0367,       2855,  1957.0,   3.3052,  34.9473,2,  34.9460,2,   276.4,2,   12.40,2,   16.70,2, -999.00,9,    1.11,2,   1.345,2,   0.629,2,  -999.0,9,  -999.0,9,-999.000,9,-999.0000,9, -999.00,9,   3.307,  -999.0,9,  -999.0,  1960.5,-999.0000,-999.000,     3.1521,-999.000
   06MT18_1,       A01E,     571,          1,         13,        B42,2,19910908,       1222,    59.1450,   -34.0367,       2855,  1957.0,   3.3052,  34.9461,2,  34.9460,2,   276.1,2,   12.40,2,   16.70,2, -999.00,9,    1.11,2,   1.366,3,   0.633,2,  -999.0,9,  -999.0,9,-999.000,9,-999.0000,9, -999.00,9,-999.000,  -999.0,9,  -999.0,  1960.5,-999.0000,-999.000,     3.1521,-999.000
   06MT18_1,       A01E,     571,          1,          8,        B52,2,19910908,       1222,    59.1450,   -34.0367,       2855,  1957.1,   3.3052,  34.9472,2,  34.9460,2,   276.9,2,   12.31,2,   16.70,2, -999.00,9,    1.12,2,-999.000,9,-999.000,9,  -999.0,9,  -999.0,9,-999.000,9,-999.0000,9, -999.00,9,-999.000,  -999.0,9,  -999.0,  1960.6,-999.0000,-999.000,     3.1521,-999.000
   06MT18_1,       A01E,     571,          1,         10,        B45,2,19910908,       1222,    59.1450,   -34.0367,       2855,  1957.1,   3.3042,  34.9471,2,  34.9460,2,   276.7,2,   12.50,2,   16.70,2, -999.00,9,    1.11,2,-999.000,9,-999.000,9,  -999.0,9,  -999.0,9,-999.000,9,-999.0000,9, -999.00,9,-999.000,  -999.0,9,  -999.0,  1960.6,-999.0000,-999.000,     3.1511,-999.000
   06MT18_1,       A01E,     571,          1,         11,        B46,2,19910908,       1222,    59.1450,   -34.0367,       2855,  1957.4,   3.3042,  34.9470,2,  34.9460,2,   276.1,2,   12.40,2,   16.70,2, -999.00,9,    1.11,2,   1.378,3,   0.646,3,  -999.0,9,  -999.0,9,-999.000,9,-999.0000,9, -999.00,9,   3.304,  -999.0,9,  -999.0,  1960.9,-999.0000,-999.000,     3.1510,-999.000
   06MT18_1,       A01E,     571,          1,         15,        K15,2,19910908,       1222,    59.1450,   -34.0367,       2855,  1957.4,   3.3052,  34.9471,2,  34.9460,2,   276.2,2,   12.40,2,   16.70,2, -999.00,9,    1.11,2,   1.333,2,   0.626,2,  -999.0,9,  -999.0,9,-999.000,9,-999.0000,9, -999.00,9,-999.000,  -999.0,9,  -999.0,  1960.9,-999.0000,-999.000,     3.1520,-999.000
   06MT18_1,       A01E,     571,          1,         16,        B39,2,19910908,       1222,    59.1450,   -34.0367,       2855,  1957.4,   3.3042,  34.9470,2,  34.9460,2,   276.2,2,   12.40,2,   16.70,2, -999.00,9,    1.10,2,-999.000,9,-999.000,9,  -999.0,9,  -999.0,9,-999.000,9,-999.0000,9, -999.00,9,-999.000,  -999.0,9,  -999.0,  1960.9,-999.0000,-999.000,     3.1510,-999.000
   06MT18_1,       A01E,     571,          1,         12,        B44,2,19910908,       1222,    59.1450,   -34.0367,       2855,  1957.5,   3.3052,  34.9470,2,  34.9460,2,   276.2,2,   12.40,2,   16.70,2, -999.00,9,    1.10,2,-999.000,9,-999.000,9,  -999.0,9,  -999.0,9,-999.000,9,-999.0000,9, -999.00,9,-999.000,  -999.0,9,  -999.0,  1961.0,-999.0000,-999.000,     3.1520,-999.000
   06MT18_1,       A01E,     571,          1,         21,        B35,2,19910908,       1222,    59.1450,   -34.0367,       2855,  1957.5,   3.3042,  34.9481,2,  34.9460,2,   276.5,2,   12.60,2,   16.70,2, -999.00,9,    1.09,2,   1.341,2,   0.631,2,  -999.0,9,  -999.0,9,-999.000,9,-999.0000,9, -999.00,9,-999.000,  -999.0,9,  -999.0,  1961.0,-999.0000,-999.000,     3.1510,-999.000
   06MT18_1,       A01E,     571,          1,         22,         K3,2,19910908,       1222,    59.1450,   -34.0367,       2855,  1957.5,   3.3042,  34.9469,2,  34.9460,2,   277.0,2,   12.60,2,   16.70,2, -999.00,9,    1.08,3,-999.000,9,-999.000,9,  -999.0,9,  -999.0,9,-999.000,9,-999.0000,9, -999.00,9,-999.000,  -999.0,9,  -999.0,  1961.0,-999.0000,-999.000,     3.1510,-999.000
   06MT18_1,       A01E,     571,          1,         14,         K7,2,19910908,       1222,    59.1450,   -34.0367,       2855,  1957.6,   3.3052,  34.9470,2,  34.9460,2,   276.3,2,   12.50,2,   16.70,2, -999.00,9,    1.10,2,-999.000,9,-999.000,9,  -999.0,9,  -999.0,9,-999.000,9,-999.0000,9, -999.00,9,   3.306,  -999.0,9,  -999.0,  1961.1,-999.0000,-999.000,     3.1520,-999.000
   06MT18_1,       A01E,     571,          1,         18,        K17,2,19910908,       1222,    59.1450,   -34.0367,       2855,  1957.6,   3.3042,  34.9469,2,  34.9460,2,   276.6,2,   12.60,2,   16.70,2, -999.00,9,    1.10,2,-999.000,9,-999.000,9,  -999.0,9,  -999.0,9,-999.000,9,-999.0000,9, -999.00,9,-999.000,  -999.0,9,  -999.0,  1961.1,-999.0000,-999.000,     3.1510,-999.000
   06MT18_1,       A01E,     571,          1,         19,        B36,2,19910908,       1222,    59.1450,   -34.0367,       2855,  1957.6,   3.3042,  34.9469,2,  34.9460,2,   278.3,4,   12.50,2,   16.70,2, -999.00,9,    1.09,2,   1.342,2,   0.632,2,  -999.0,9,  -999.0,9,-999.000,9,-999.0000,9, -999.00,9,-999.000,  -999.0,9,  -999.0,  1961.1,-999.0000,-999.000,     3.1510,-999.000
   06MT18_1,       A01E,     571,          1,         20,        B48,2,19910908,       1222,    59.1450,   -34.0367,       2855,  1957.7,   3.3042,  34.9480,2,  34.9460,2,   275.9,2,   12.50,2,   16.70,2, -999.00,9,    1.09,2,-999.000,9,-999.000,9,  -999.0,9,  -999.0,9,-999.000,9,-999.0000,9, -999.00,9,-999.000,  -999.0,9,  -999.0,  1961.2,-999.0000,-999.000,     3.1510,-999.000
   06MT18_1,       A01E,     571,          1,         17,        K19,2,19910908,       1222,    59.1450,   -34.0367,       2855,  1957.9,   3.3042,  34.9467,2,  34.9460,2,   276.5,2,   12.40,2,   16.70,2, -999.00,9,    1.10,2,   1.347,2,   0.632,2,  -999.0,9,  -999.0,9,-999.000,9,-999.0000,9, -999.00,9,   3.307,  -999.0,9,  -999.0,  1961.4,-999.0000,-999.000,     3.1510,-999.000
   06MT18_1,       A01E,     571,          1,         24,        B41,2,19910908,       1222,    59.1450,   -34.0367,       2855,  1957.9,   3.3042,  34.9467,2,  34.9460,2,   276.3,2,   12.60,2,   16.70,2, -999.00,9,    1.08,3,-999.000,9,-999.000,9,  -999.0,9,  -999.0,9,-999.000,9,-999.0000,9, -999.00,9,-999.000,  -999.0,9,  -999.0,  1961.4,-999.0000,-999.000,     3.1510,-999.000
   06MT18_1,       A01E,     571,          1,         23,         K1,2,19910908,       1222,    59.1450,   -34.0367,       2855,  1958.1,   3.3042,  34.9478,2,  34.9460,2,   279.3,4,   12.99,4,   16.70,2, -999.00,9,    1.09,2,   1.332,2,   0.624,2,  -999.0,9,  -999.0,9,-999.000,9,-999.0000,9, -999.00,9,-999.000,  -999.0,9,  -999.0,  1961.6,-999.0000,-999.000,     3.1510,-999.000
   06MT18_1,       A01E,     573,          1,         23,         K1,4,19910909,       0035,    59.1367,   -33.9933,       2734,    13.0,   8.8021,  34.7343,2,  34.7280,2,   293.7,2,    3.32,2,    8.01,2,    0.17,2,    0.61,2,   3.973,2,   1.911,2,  2082.5,2,  -999.0,9,   2.062,2,   1.7544,2,   -1.68,2,-999.000,  -999.0,9,  -999.0,    14.0,   0.0070,   0.200,     8.8007,   0.036
   06MT18_1,       A01E,     573,          1,         22,         K3,2,19910909,       0035,    59.1367,   -33.9933,       2734,    62.5,   7.1997,  34.7889,2,  34.8120,2,   287.6,2,    5.66,2,   12.99,2,    0.41,2,    0.92,2,-999.000,9,-999.000,9,  2121.7,2,  -999.0,9,-999.000,9,-999.0000,9, -999.00,9,-999.000,  -999.0,9,  -999.0,    64.0,-999.0000,-999.000,     7.1938,-999.000
   06MT18_1,       A01E,     573,          1,         21,        B35,2,19910909,       0035,    59.1367,   -33.9933,       2734,   104.1,   4.9758,  34.8936,2,  34.8950,2,   288.0,2,    9.08,2,   17.29,2,    0.02,2,    1.11,2,   4.244,2,   1.992,2,  2144.4,2,  -999.0,9,-999.000,9,-999.0000,9, -999.00,9,-999.000,  -999.0,9,  -999.0,   106.0,-999.0000,-999.000,     4.9678,-999.000
   06MT18_1,       A01E,     573,          1,         20,        B48,2,19910909,       0035,    59.1367,   -33.9933,       2734,   204.2,   4.5831,  34.9072,2,  34.9080,2,   283.2,2,    9.77,2,   17.58,2,    0.00,2,    1.14,2,   3.740,2,   1.783,2,  2147.6,2,  -999.0,9,   1.890,2,   1.7818,2,    1.12,2,-999.000,  -999.0,9,  -999.0,   207.0,   0.0071,   0.210,     4.5678,   0.042
   06MT18_1,       A01E,     573,          1,         19,        B36,2,19910909,       0035,    59.1367,   -33.9933,       2734,   304.4,   4.2414,  34.9032,2,  34.9040,2,   279.4,2,   10.16,2,   17.87,2,    0.00,2,    1.15,2,   3.317,2,   1.574,2,  2151.1,2,  -999.0,9,-999.000,9,-999.0000,9, -999.00,9,-999.000,  -999.0,9,  -999.0,   308.0,-999.0000,-999.000,     4.2192,-999.000
   06MT18_1,       A01E,     573,          1,         18,        K17,2,19910909,       0035,    59.1367,   -33.9933,       2734,   405.8,   4.0565,  34.9129,2,  34.9120,2,   275.7,2,   10.65,2,   18.17,2,    0.00,2,    1.16,2,-999.000,9,-999.000,9,  2152.6,2,  -999.0,9,-999.000,9,-999.0000,9, -999.00,9,-999.000,  -999.0,9,  -999.0,   410.0,-999.0000,-999.000,     4.0272,-999.000
   06MT18_1,       A01E,     573,          1,         17,        K19,2,19910909,       0035,    59.1367,   -33.9933,       2734,   505.3,   3.8287,  34.9011,2,  34.9000,2,   282.3,2,   10.55,2,   17.97,2,    0.00,2,    1.16,2,   2.943,2,   1.404,2,  2151.6,2,  -999.0,9,-999.000,9,-999.0000,9, -999.00,9,   3.834,  -999.0,9,  -999.0,   510.0,-999.0000,-999.000,     3.7927,-999.000
   06MT18_1,       A01E,     573,          1,         16,        B39,2,19910909,       0035,    59.1367,   -33.9933,       2734,   606.8,   3.7518,  34.9066,2,  34.9050,2,   279.9,2,   10.74,2,   17.97,2,    0.00,2,    1.17,2,-999.000,9,-999.000,9,  2151.3,2,  -999.0,9,-999.000,9,-999.0000,9, -999.00,9,-999.000,  -999.0,9,  -999.0,   612.0,-999.0000,-999.000,     3.7085,-999.000
   06MT18_1,       A01E,     573,          1,         15,        K15,2,19910909,       0035,    59.1367,   -33.9933,       2734,   808.3,   3.5150,  34.8974,2,  34.8970,2,   284.6,2,   10.74,2,   17.68,2,    0.00,2,    1.16,2,   2.569,2,   1.215,2,  2150.0,2,  -999.0,9,   1.766,2,   1.7736,2,    5.38,2,-999.000,  -999.0,9,  -999.0,   814.0,   0.0071,   0.210,     3.4575,   0.035
   06MT18_1,       A01E,     573,          1,         14,         K7,2,19910909,       0035,    59.1367,   -33.9933,       2734,  1009.1,   3.3301,  34.8817,2,  34.8820,2,   291.0,2,   10.55,2,   17.38,2,    0.00,2,    1.15,2,-999.000,9,-999.000,9,  2148.2,2,  -999.0,9,-999.000,9,-999.0000,9, -999.00,9,   3.334,  -999.0,9,  -999.0,  1015.0,-999.0000,-999.000,     3.2583,-999.000
   06MT18_1,       A01E,     573,          1,         13,        B42,2,19910909,       0035,    59.1367,   -33.9933,       2734,  1137.1,   3.2202,  34.8702,2,  34.8700,2,   294.6,2,   10.06,2,   17.29,2,    0.00,2,    1.13,2,   3.081,2,   1.458,2,  2151.2,2,  -999.0,9,   1.821,2,   1.8040,2,    3.89,2,-999.000,  -999.0,9,  -999.0,  1143.0,   0.0072,   0.220,     3.1391,   0.036
   06MT18_1,       A01E,     573,          1,         12,        B44,2,19910909,       0035,    59.1367,   -33.9933,       2734,  1246.2,   3.2042,  34.8697,2,  34.8700,2,   293.8,2,   10.06,2,   17.29,2,    0.00,2,    1.14,2,   2.919,2,   1.382,2,  2149.0,2,  -999.0,9,   1.872,2,   1.7944,2,    4.04,2,-999.000,  -999.0,9,  -999.0,  1252.0,   0.0072,   0.180,     3.1145,   0.030
   06MT18_1,       A01E,     573,          1,         11,        B46,2,19910909,       0035,    59.1367,   -33.9933,       2734,  1490.7,   3.4031,  34.9160,2,  34.9150,2,   282.2,2,   10.94,2,   17.38,2,    0.00,2,    1.14,2,   2.077,2,   0.975,2,  2152.9,2,  -999.0,9,   1.568,2,   1.8279,2,    6.24,2,   3.402,  -999.0,9,  -999.0,  1496.0,   0.0073,   0.180,     3.2906,   0.036
   06MT18_1,       A01E,     573,          1,         10,        B45,2,19910909,       0035,    59.1367,   -33.9933,       2734,  1580.0,   3.4251,  34.9271,2,  34.9260,2,   279.8,2,   11.13,2,   17.38,2,    0.00,2,    1.14,2,   1.842,2,   0.869,2,  2154.7,2,  -999.0,9,   1.550,2,   1.8271,2,    7.02,2,-999.000,  -999.0,9,  -999.0,  1585.0,   0.0073,   0.180,     3.3045,   0.033
   06MT18_1,       A01E,     573,          1,          9,        B40,2,19910909,       0035,    59.1367,   -33.9933,       2734,  1771.7,   3.3501,  34.9348,2,  34.9340,2,   277.8,2,   11.82,2,   17.38,2,    0.00,2,    1.14,2,   1.443,2,   0.675,2,  2154.5,2,  -999.0,9,   1.381,2,   1.7966,2,    7.49,2,   3.353,  -999.0,9,  -999.0,  1776.0,   0.0072,   0.150,     3.2133,   0.026
   06MT18_1,       A01E,     573,          1,          8,        B52,2,19910909,       0035,    59.1367,   -33.9933,       2734,  2077.1,   3.2522,  34.9455,2,  34.9460,2,   275.9,2,   12.79,2,   17.29,2,    0.00,2,    1.14,2,   1.248,2,   0.582,2,  2155.2,2,  -999.0,9,   1.335,2,   1.8062,2,    7.72,2,-999.000,  -999.0,9,  -999.0,  2080.0,   0.0072,   0.190,     3.0886,   0.027
   06MT18_1,       A01E,     573,          1,          7,        B37,2,19910909,       0035,    59.1367,   -33.9933,       2734,  2281.2,   3.1633,  34.9474,2,  34.9460,2,   276.0,2,   13.28,2,   17.29,2,    0.00,2,    1.14,2,   1.156,2,   0.540,2,  2155.2,2,  -999.0,9,   1.194,2,   1.8208,2,    7.68,2,   3.165,  -999.0,9,  -999.0,  2283.0,   0.0073,   0.270,     2.9818,   0.024
   06MT18_1,       A01E,     573,          1,          6,        B49,2,19910909,       0035,    59.1367,   -33.9933,       2734,  2484.3,   2.9734,  34.9406,2,  34.9400,2,   277.3,2,   13.87,2,   17.09,2,    0.00,2,    1.14,2,-999.000,9,-999.000,9,  2156.3,2,  -999.0,9,-999.000,9,-999.0000,9, -999.00,9,-999.000,  -999.0,9,  -999.0,  2485.0,-999.0000,-999.000,     2.7755,-999.000
   06MT18_1,       A01E,     573,          1,          5,        B51,2,19910909,       0035,    59.1367,   -33.9933,       2734,  2534.6,   2.9495,  34.9390,2,  34.9400,3,   277.3,2,   13.97,2,   17.09,2,    0.00,2,    1.15,2,   1.187,2,   0.553,2,  2156.1,2,  -999.0,9,   1.263,2,   1.8297,2,    7.15,2,-999.000,  -999.0,9,  -999.0,  2535.0,   0.0073,   0.180,     2.7471,   0.025
   06MT18_1,       A01E,     573,          1,          4,        K30,2,19910909,       0035,    59.1367,   -33.9933,       2734,  2585.8,   2.9315,  34.9391,2,  34.9370,4,   277.3,2,   13.97,2,   17.09,2,    0.00,2,    1.15,2,   1.187,2,   0.548,2,  2155.6,2,  -999.0,9,   1.240,2,   1.8231,2,    7.02,2,-999.000,  -999.0,9,  -999.0,  2586.0,   0.0073,   0.180,     2.7244,   0.026
   06MT18_1,       A01E,     573,          1,          3,        K22,2,19910909,       0035,    59.1367,   -33.9933,       2734,  2635.1,   2.9335,  34.9381,2,  34.9380,2,   277.7,2,   13.97,2,   17.09,2,    0.00,2,    1.15,2,-999.000,9,-999.000,9,  2155.8,2,  -999.0,9,-999.000,9,-999.0000,9, -999.00,9,   2.934,  -999.0,9,  -999.0,  2635.0,-999.0000,-999.000,     2.7215,-999.000
   06MT18_1,       A01E,     573,          1,          2,        K31,2,19910909,       0035,    59.1367,   -33.9933,       2734,  2686.4,   2.9345,  34.9373,2,  34.9380,2,   277.7,2,   13.97,2,   17.09,2,    0.00,2,    1.17,2,   1.179,2,   0.550,2,  2155.8,2,  -999.0,9,   1.214,2,   1.8265,2,    7.23,2,-999.000,  -999.0,9,  -999.0,  2686.0,   0.0073,   0.160,     2.7173,   0.028
   06MT18_1,       A01E,     573,          1,          1,        B50,2,19910909,       0035,    59.1367,   -33.9933,       2734,  2736.7,   2.9125,  34.9375,2,  34.9370,2,   278.0,2,   13.97,2,   16.99,2,    0.00,2,    1.16,2,   1.184,2,   0.552,2,  2154.2,2,  -999.0,9,   1.247,2,   1.8186,2,    7.10,2,   2.915,  -999.0,9,  -999.0,  2736.0,   0.0073,   0.160,     2.6907,   0.023