BOTTLE,20020919WHPSIOSA
EXPOCODE,SECT_ID,STNNBR,CASTNO,SAMPNO,BTLNBR,BTLNBR_FLAG_W,DATE,TIME,LATITUDE,LONGITUDE,DEPTH,CTDPRS,CTDTMP,CTDSAL,CTDSAL_FLAG_W,SALNTY,SALNTY_FLAG_W,OXYGEN,OXYGEN_FLAG_W,SILCAT,SILCAT_FLAG_W,NITRAT,NITRAT_FLAG_W,NITRIT,NITRIT_FLAG_W,PHSPHT,PHSPHT_FLAG_W,CFC-11,CFC-11_FLAG_W,CFC-12,CFC-12_FLAG_W,TCARBN,TCARBN_FLAG_W,ALKALI,ALKALI_FLAG_W,TRITUM,TRITUM_FLAG_W,HELIUM,HELIUM_FLAG_W,DELHE3,DELHE3_FLAG_W,REVTMP,DELC14,DELC14_FLAG_W,C14ERR,CTDRAW,HELIER,DELHER,THETA,TRITER
,,,,,,,,,,,METERS,DBAR,ITS-90,PSS-78,,PSS-78,,UMOL/KG,,UMOL/KG,,UMOL/KG,,UMOL/KG,,UMOL/KG,,PMOL/KG,,PMOL/KG,,UMOL/KG,,UMOL/KG,,TU,,NMOL/KG,,PERCNT,,ITS-90,/MILLE,,/MILLE,DBAR,NMOL/KG,PERCNT,DEG,TU
   06MT18_1,       A01E,     580,          1,         23,        K23,2,19910910,       0858,    58.3300,   -29.9417,       2369,    27.4,   9.8840,  34.9551,2,  34.9610,2,   279.4,2,    3.32,2,    7.52,2,    0.16,2,    0.62,2,   3.673,2,   1.794,2,  2085.8,2,  -999.0,9,   2.106,2,   1.7407,2,   -1.85,2,-999.000,  -999.0,9,  -999.0,    28.6,   0.0070,   0.190,     9.8809,   0.030
   06MT18_1,       A01E,     580,          1,         22,         K3,2,19910910,       0858,    58.3300,   -29.9417,       2369,    57.5,   9.6483,  34.9905,2,  34.9970,2,   274.8,2,    3.32,2,    8.21,2,    0.16,2,    0.66,2,-999.000,9,-999.000,9,  2093.8,2,  -999.0,9,-999.000,9,-999.0000,9, -999.00,9,-999.000,  -999.0,9,  -999.0,    59.0,-999.0000,-999.000,     9.6418,-999.000
   06MT18_1,       A01E,     580,          1,         21,        B35,2,19910910,       0858,    58.3300,   -29.9417,       2369,    98.0,   7.6742,  35.1229,2,  35.1240,2,   274.1,2,    5.86,2,   14.66,2,    0.02,2,    0.99,2,   3.859,2,   1.842,2,  2134.0,2,  -999.0,9,-999.000,9,-999.0000,9, -999.00,9,-999.000,  -999.0,9,  -999.0,    99.9,-999.0000,-999.000,     7.6646,-999.000
   06MT18_1,       A01E,     580,          1,         20,        B48,2,19910910,       0858,    58.3300,   -29.9417,       2369,   197.3,   7.1198,  35.1241,2,  35.1260,2,   273.1,2,    7.52,2,   15.73,2,    0.02,2,    1.07,2,   3.703,2,   1.778,2,  2142.3,2,  -999.0,9,   2.091,2,   1.7786,2,   -0.48,2,-999.000,  -999.0,9,  -999.0,   200.1,   0.0071,   0.200,     7.1011,   0.052
   06MT18_1,       A01E,     580,          1,         19,        B36,2,19910910,       0858,    58.3300,   -29.9417,       2369,   298.2,   7.0169,  35.1460,2,  35.1480,2,   278.4,2,    7.62,2,   15.53,2,    0.01,2,    1.06,2,-999.000,9,-999.000,9,  2141.1,2,  -999.0,9,-999.000,9,-999.0000,9, -999.00,9,-999.000,  -999.0,9,  -999.0,   301.7,-999.0000,-999.000,     6.9886,-999.000
   06MT18_1,       A01E,     580,          1,         18,        K17,2,19910910,       0858,    58.3300,   -29.9417,       2369,   397.8,   6.9210,  35.1460,2,  35.1460,2,   277.7,2,    7.72,2,   15.63,2,    0.02,2,    1.06,2,   3.694,2,   1.778,2,  -999.0,9,  -999.0,9,   2.011,2,   1.7773,2,   -0.18,2,-999.000,  -999.0,9,  -999.0,   402.0,   0.0071,   0.150,     6.8833,   0.046
   06MT18_1,       A01E,     580,          1,         17,        K19,2,19910910,       0858,    58.3300,   -29.9417,       2369,   497.6,   6.7951,  35.1359,2,  35.1380,2,   277.1,2,    7.82,2,   15.73,2,    0.01,2,    1.07,2,-999.000,9,-999.000,9,  2141.9,2,  -999.0,9,-999.000,9,-999.0000,9, -999.00,9,   6.803,  -999.0,9,  -999.0,   502.3,-999.0000,-999.000,     6.7481,-999.000
   06MT18_1,       A01E,     580,          1,         16,        B39,2,19910910,       0858,    58.3300,   -29.9417,       2369,   597.0,   6.4654,  35.1091,2,  35.1100,2,   268.3,2,    8.40,2,   16.41,2,    0.01,2,    1.11,2,   3.259,2,   1.577,2,  -999.0,9,  -999.0,9,-999.000,9,-999.0000,9, -999.00,9,-999.000,  -999.0,9,  -999.0,   602.1,-999.0000,-999.000,     6.4101,-999.000
   06MT18_1,       A01E,     580,          1,         15,        K15,2,19910910,       0858,    58.3300,   -29.9417,       2369,   697.6,   6.1277,  35.0831,2,  35.0830,2,   259.1,2,    9.28,2,   17.20,2,    0.01,2,    1.16,2,-999.000,9,-999.000,9,  2153.7,2,  -999.0,9,   1.856,2,   1.7838,2,    3.72,2,-999.000,  -999.0,9,  -999.0,   703.1,   0.0071,   0.190,     6.0645,   0.048
   06MT18_1,       A01E,     580,          1,         14,         K7,4,19910910,       0858,    58.3300,   -29.9417,       2369,   697.6,-999.0000,-999.0000,9,  35.0830,2,   259.3,2,    9.38,2,   17.20,2,    0.01,2,    1.17,2,   2.871,2,   1.363,2,  -999.0,9,  -999.0,9,-999.000,9,-999.0000,9, -999.00,9,   6.137,  -999.0,9,  -999.0,   703.1,-999.0000,-999.000,     -999.0,-999.000
   06MT18_1,       A01E,     580,          1,         13,        B42,2,19910910,       0858,    58.3300,   -29.9417,       2369,   900.0,   4.9298,  35.0004,2,  35.0010,2,   253.5,2,   10.65,2,   18.17,2,    0.01,2,    1.24,2,-999.000,9,-999.000,9,  2160.4,2,  -999.0,9,-999.000,9,-999.0000,9, -999.00,9,-999.000,  -999.0,9,  -999.0,   905.9,-999.0000,-999.000,     4.8552,-999.000
   06MT18_1,       A01E,     580,          1,         12,        B44,2,19910910,       0858,    58.3300,   -29.9417,       2369,   999.0,   4.5941,  34.9822,2,  34.9830,2,   260.0,2,   10.65,2,   17.98,2,    0.01,2,    1.23,2,   2.114,2,   0.989,2,  2158.5,2,  -999.0,9,   1.673,2,   1.8078,2,    6.93,2,-999.000,  -999.0,9,  -999.0,  1004.9,   0.0072,   0.190,     4.5132,   0.041
   06MT18_1,       A01E,     580,          1,         11,        B46,2,19910910,       0858,    58.3300,   -29.9417,       2369,  1197.8,   4.1175,  34.9599,2,  34.9610,2,   271.1,2,   10.46,2,   17.49,2,    0.01,2,    1.20,2,-999.000,9,-999.000,9,  2155.6,2,  -999.0,9,-999.000,9,-999.0000,9, -999.00,9,   4.117,  -999.0,9,  -999.0,  1203.7,-999.0000,-999.000,     4.0231,-999.000
   06MT18_1,       A01E,     580,          1,         10,        B45,2,19910910,       0858,    58.3300,   -29.9417,       2369,  1394.9,   3.7678,  34.9616,2,  34.9620,2,   276.2,2,   10.65,2,   17.00,2,    0.01,2,    1.17,2,   1.939,2,   0.912,2,  2152.2,2,  -999.0,9,   1.573,2,   1.8031,2,    6.63,2,-999.000,  -999.0,9,  -999.0,  1400.4,   0.0072,   0.150,     3.6596,   0.044
   06MT18_1,       A01E,     580,          1,          9,        B40,2,19910910,       0858,    58.3300,   -29.9417,       2369,  1594.7,   3.5180,  34.9739,2,  34.9750,2,   276.8,2,   10.94,2,   16.81,2,    0.01,2,    1.16,2,   1.765,2,   0.828,2,  2153.1,2,  -999.0,9,   1.445,2,   1.7887,2,    6.45,2,   3.524,  -999.0,9,  -999.0,  1599.7,   0.0072,   0.150,     3.3949,   0.043
   06MT18_1,       A01E,     580,          1,          8,        B52,2,19910910,       0858,    58.3300,   -29.9417,       2369,  1842.4,   3.1733,  34.9830,2,  34.9820,2,   277.8,2,   11.53,2,   16.61,2,    0.01,2,    1.15,2,-999.000,9,-999.000,9,  2154.9,2,  -999.0,9,-999.000,9,-999.0000,9, -999.00,9,-999.000,  -999.0,9,  -999.0,  1846.4,-999.0000,-999.000,     3.0324,-999.000
   06MT18_1,       A01E,     580,          1,          7,        B37,2,19910910,       0858,    58.3300,   -29.9417,       2369,  2044.9,   3.0873,  34.9831,2,  34.9820,2,   277.8,2,   11.82,2,   16.51,2,    0.01,2,    1.15,2,   1.799,2,   0.838,2,  2156.0,2,  -999.0,9,   1.400,2,   1.8080,2,    5.80,2,   3.089,  -999.0,9,  -999.0,  2048.0,   0.0072,   0.170,     2.9292,   0.020
   06MT18_1,       A01E,     580,          1,          6,        B49,2,19910910,       0858,    58.3300,   -29.9417,       2369,  2096.4,   3.0953,  34.9821,2,  34.9820,2,   277.2,2,   11.82,2,   16.51,2,    0.01,2,    1.15,2,-999.000,9,-999.000,9,  2155.9,2,  -999.0,9,-999.000,9,-999.0000,9, -999.00,9,-999.000,  -999.0,9,  -999.0,  2099.2,-999.0000,-999.000,     2.9322,-999.000
   06MT18_1,       A01E,     580,          1,          5,        B51,2,19910910,       0858,    58.3300,   -29.9417,       2369,  2146.0,   3.0963,  34.9824,2,  34.9820,2,   277.5,2,   11.92,2,   16.51,2,    0.01,2,    1.15,2,   1.807,2,   0.842,2,  2156.7,2,  -999.0,9,-999.000,9,-999.0000,9, -999.00,9,   3.098,  -999.0,9,  -999.0,  2148.6,-999.0000,-999.000,     2.9286,-999.000
   06MT18_1,       A01E,     580,          1,          4,        K30,2,19910910,       0858,    58.3300,   -29.9417,       2369,  2196.0,   3.0883,  34.9825,2,  34.9810,2,   277.1,2,   11.92,2,   16.51,2,    0.01,2,    1.15,2,-999.000,9,-999.000,9,  2156.9,2,  -999.0,9,-999.000,9,-999.0000,9, -999.00,9,-999.000,  -999.0,9,  -999.0,  2198.3,-999.0000,-999.000,     2.9160,-999.000
   06MT18_1,       A01E,     580,          1,          3,        K22,2,19910910,       0858,    58.3300,   -29.9417,       2369,  2245.8,   3.0793,  34.9816,2,  34.9810,2,   276.9,2,   11.92,2,   16.51,2,    0.01,2,    1.15,2,   1.793,2,   0.839,2,  2157.3,2,  -999.0,9,-999.000,9,-999.0000,9, -999.00,9,   3.081,  -999.0,9,  -999.0,  2247.8,-999.0000,-999.000,     2.9024,-999.000
   06MT18_1,       A01E,     580,          1,          2,        K31,2,19910910,       0858,    58.3300,   -29.9417,       2369,  2296.2,   3.0793,  34.9816,2,  34.9840,2,   276.9,2,   11.92,2,   16.51,2,    0.01,2,    1.15,2,-999.000,9,-999.000,9,  2156.7,2,  -999.0,9,-999.000,9,-999.0000,9, -999.00,9,-999.000,  -999.0,9,  -999.0,  2298.0,-999.0000,-999.000,     2.8976,-999.000
   06MT18_1,       A01E,     580,          1,          1,        B50,2,19910910,       0858,    58.3300,   -29.9417,       2369,  2366.9,   3.0714,  34.9818,2,  34.9810,2,   276.7,2,   12.02,2,   16.51,2,    0.00,2,    1.15,2,   1.772,2,   0.829,2,  2157.5,2,  -999.0,9,   1.428,2,   1.8469,3,    5.77,2,   3.072,  -999.0,9,  -999.0,  2368.3,   0.0074,   0.170,     2.8830,   0.023
   06MT18_1,       A01E,     581,          1,          6,        B49,2,19910910,       1547,    58.1850,   -29.6183,       2070,  2032.8,   2.9854,  34.9810,2,  34.9810,2,   275.9,2,   12.80,2,   16.41,2, -999.00,9,    1.14,2,   1.694,2,   0.791,2,  -999.0,9,  -999.0,9,-999.000,9,-999.0000,9, -999.00,9,-999.000,  -999.0,9,  -999.0,  2035.9,-999.0000,-999.000,     2.8299,-999.000
   06MT18_1,       A01E,     581,          1,          2,        K31,2,19910910,       1547,    58.1850,   -29.6183,       2070,  2032.9,   2.9854,  34.9810,2,  34.9820,2,   275.7,2,   12.90,2,   16.41,2, -999.00,9,    1.12,3,   1.676,2,   0.782,2,  -999.0,9,  -999.0,9,-999.000,9,-999.0000,9, -999.00,9,-999.000,  -999.0,9,  -999.0,  2036.0,-999.0000,-999.000,     2.8299,-999.000
   06MT18_1,       A01E,     581,          1,          3,        K22,2,19910910,       1547,    58.1850,   -29.6183,       2070,  2032.9,   2.9854,  34.9810,2,  34.9820,2,   276.7,2,   12.90,2,   16.41,2, -999.00,9,    1.13,2,-999.000,9,-999.000,9,  -999.0,9,  -999.0,9,-999.000,9,-999.0000,9, -999.00,9,   2.985,  -999.0,9,  -999.0,  2036.0,-999.0000,-999.000,     2.8299,-999.000
   06MT18_1,       A01E,     581,          1,         11,        B46,2,19910910,       1547,    58.1850,   -29.6183,       2070,  2033.1,   2.9864,  34.9810,2,-999.0000,9,   275.9,2,   12.90,2,   16.41,2, -999.00,9,    1.14,2,-999.000,9,-999.000,9,  -999.0,9,  -999.0,9,-999.000,9,-999.0000,9, -999.00,9,   2.985,  -999.0,9,  -999.0,  2036.2,-999.0000,-999.000,     2.8309,-999.000
   06MT18_1,       A01E,     581,          1,         16,        B39,2,19910910,       1547,    58.1850,   -29.6183,       2070,  2033.1,   2.9854,  34.9821,2,  34.9820,2,   276.6,2,   12.99,2,   16.41,2, -999.00,9,    1.15,2,   1.692,2,   0.787,2,  -999.0,9,  -999.0,9,-999.000,9,-999.0000,9, -999.00,9,-999.000,  -999.0,9,  -999.0,  2036.2,-999.0000,-999.000,     2.8299,-999.000
   06MT18_1,       A01E,     581,          1,          7,        B37,2,19910910,       1547,    58.1850,   -29.6183,       2070,  2033.2,   2.9854,  34.9808,2,  34.9820,2,   276.2,2,   12.90,2,   16.41,2, -999.00,9,    1.14,2,-999.000,9,-999.000,9,  -999.0,9,  -999.0,9,-999.000,9,-999.0000,9, -999.00,9,   2.986,  -999.0,9,  -999.0,  2036.3,-999.0000,-999.000,     2.8299,-999.000
   06MT18_1,       A01E,     581,          1,          8,        B52,2,19910910,       1547,    58.1850,   -29.6183,       2070,  2033.2,   2.9854,  34.9808,2,  34.9820,2,   275.9,2,   12.90,2,   16.31,2, -999.00,9,    1.14,2,   1.694,2,   0.794,2,  -999.0,9,  -999.0,9,-999.000,9,-999.0000,9, -999.00,9,-999.000,  -999.0,9,  -999.0,  2036.3,-999.0000,-999.000,     2.8299,-999.000
   06MT18_1,       A01E,     581,          1,          9,        B40,2,19910910,       1547,    58.1850,   -29.6183,       2070,  2033.2,   2.9854,  34.9808,2,  34.9810,2,   276.2,2,   12.99,2,   16.41,2, -999.00,9,    1.14,2,-999.000,9,-999.000,9,  -999.0,9,  -999.0,9,-999.000,9,-999.0000,9, -999.00,9,   2.987,  -999.0,9,  -999.0,  2036.3,-999.0000,-999.000,     2.8299,-999.000
   06MT18_1,       A01E,     581,          1,         13,         K7,2,19910910,       1547,    58.1850,   -29.6183,       2070,  2033.2,   2.9854,  34.9808,2,  34.9820,2,   276.0,2,   12.99,2,   16.51,2, -999.00,9,    1.15,2,-999.000,9,-999.000,9,  -999.0,9,  -999.0,9,-999.000,9,-999.0000,9, -999.00,9,   2.986,  -999.0,9,  -999.0,  2036.3,-999.0000,-999.000,     2.8299,-999.000
   06MT18_1,       A01E,     581,          1,          4,        K30,2,19910910,       1547,    58.1850,   -29.6183,       2070,  2033.3,   2.9844,  34.9818,2,  34.9820,2,   275.9,2,   12.90,2,   16.41,2, -999.00,9,    1.13,2,   1.691,2,   0.793,2,  -999.0,9,  -999.0,9,-999.000,9,-999.0000,9, -999.00,9,-999.000,  -999.0,9,  -999.0,  2036.4,-999.0000,-999.000,     2.8289,-999.000
   06MT18_1,       A01E,     581,          1,         10,        B45,2,19910910,       1547,    58.1850,   -29.6183,       2070,  2033.4,   2.9854,  34.9819,2,  34.9820,2,   276.4,2,   12.90,2,   16.41,2, -999.00,9,    1.14,2,   1.692,2,   0.791,2,  -999.0,9,  -999.0,9,-999.000,9,-999.0000,9, -999.00,9,-999.000,  -999.0,9,  -999.0,  2036.5,-999.0000,-999.000,     2.8299,-999.000
   06MT18_1,       A01E,     581,          1,         17,        K19,2,19910910,       1547,    58.1850,   -29.6183,       2070,  2033.4,   2.9864,  34.9809,2,  34.9820,2,   276.1,2,   12.99,2,   16.41,2, -999.00,9,    1.16,2,-999.000,9,-999.000,9,  -999.0,9,  -999.0,9,-999.000,9,-999.0000,9, -999.00,9,-999.000,  -999.0,9,  -999.0,  2036.5,-999.0000,-999.000,     2.8309,-999.000
   06MT18_1,       A01E,     581,          1,          5,        B51,2,19910910,       1547,    58.1850,   -29.6183,       2070,  2033.5,   2.9844,  34.9817,2,  34.9820,2,   276.1,2,   12.90,2,   16.41,2, -999.00,9,    1.13,2,-999.000,9,-999.000,9,  -999.0,9,  -999.0,9,-999.000,9,-999.0000,9, -999.00,9,   2.986,  -999.0,9,  -999.0,  2036.6,-999.0000,-999.000,     2.8289,-999.000
   06MT18_1,       A01E,     581,          1,         12,        B44,2,19910910,       1547,    58.1850,   -29.6183,       2070,  2033.5,   2.9854,  34.9807,2,  34.9820,2,   276.1,2,   12.90,2,   16.41,2, -999.00,9,    1.15,2,   1.692,2,   0.792,2,  -999.0,9,  -999.0,9,-999.000,9,-999.0000,9, -999.00,9,-999.000,  -999.0,9,  -999.0,  2036.6,-999.0000,-999.000,     2.8299,-999.000
   06MT18_1,       A01E,     581,          1,         14,        B42,2,19910910,       1547,    58.1850,   -29.6183,       2070,  2033.6,   2.9854,  34.9818,2,  34.9820,2,   276.2,2,   12.80,2,   16.41,2, -999.00,9,    1.15,2,   1.694,2,   0.800,2,  -999.0,9,  -999.0,9,-999.000,9,-999.0000,9, -999.00,9,-999.000,  -999.0,9,  -999.0,  2036.7,-999.0000,-999.000,     2.8298,-999.000
   06MT18_1,       A01E,     581,          1,         15,        K16,3,19910910,       1547,    58.1850,   -29.6183,       2070,  2033.7,   2.9854,  34.9818,2,  34.9810,2,   275.9,2,   12.90,2,   16.41,2, -999.00,9,    1.16,2,-999.000,9,-999.000,9,  -999.0,9,  -999.0,9,-999.000,9,-999.0000,9, -999.00,9,   2.987,  -999.0,9,  -999.0,  2036.8,-999.0000,-999.000,     2.8298,-999.000
   06MT18_1,       A01E,     581,          1,         18,        K17,2,19910910,       1547,    58.1850,   -29.6183,       2070,  2033.8,   2.9864,  34.9807,2,  34.9820,2,   276.3,2,   13.09,2,   16.31,2, -999.00,9,    1.16,2,   1.685,2,   0.790,2,  -999.0,9,  -999.0,9,-999.000,9,-999.0000,9, -999.00,9,-999.000,  -999.0,9,  -999.0,  2036.9,-999.0000,-999.000,     2.8308,-999.000
   06MT18_1,       A01E,     581,          1,         20,        B48,2,19910910,       1547,    58.1850,   -29.6183,       2070,  2033.8,   2.9864,  34.9807,2,  34.9820,2,   276.5,2,   12.99,2,   16.31,2, -999.00,9,    1.16,2,   1.697,2,   0.788,2,  -999.0,9,  -999.0,9,-999.000,9,-999.0000,9, -999.00,9,-999.000,  -999.0,9,  -999.0,  2036.9,-999.0000,-999.000,     2.8308,-999.000
   06MT18_1,       A01E,     581,          1,         21,        B35,2,19910910,       1547,    58.1850,   -29.6183,       2070,  2033.8,   2.9874,  34.9808,2,  34.9820,2,   276.4,2,   13.09,2,   16.31,2, -999.00,9,    1.16,2,-999.000,9,-999.000,9,  -999.0,9,  -999.0,9,-999.000,9,-999.0000,9, -999.00,9,-999.000,  -999.0,9,  -999.0,  2036.9,-999.0000,-999.000,     2.8318,-999.000
   06MT18_1,       A01E,     581,          1,         22,         K3,2,19910910,       1547,    58.1850,   -29.6183,       2070,  2033.8,   2.9884,  34.9809,2,  34.9820,2,   276.4,2,   12.99,2,   16.31,2, -999.00,9,    1.17,3,   1.679,2,   0.792,2,  -999.0,9,  -999.0,9,-999.000,9,-999.0000,9, -999.00,9,-999.000,  -999.0,9,  -999.0,  2036.9,-999.0000,-999.000,     2.8328,-999.000
   06MT18_1,       A01E,     581,          1,         19,        B36,2,19910910,       1547,    58.1850,   -29.6183,       2070,  2034.1,   2.9854,  34.9816,2,  34.9820,2,   276.1,2,   12.99,2,   16.41,2, -999.00,9,    1.16,2,-999.000,9,-999.000,9,  -999.0,9,  -999.0,9,-999.000,9,-999.0000,9, -999.00,9,-999.000,  -999.0,9,  -999.0,  2037.2,-999.0000,-999.000,     2.8298,-999.000
   06MT18_1,       A01E,     581,          1,         23,        K23,2,19910910,       1547,    58.1850,   -29.6183,       2070,  2034.5,   2.9884,  34.9806,2,  34.9820,2,   278.0,4,   12.90,2,   16.41,2, -999.00,9,    1.17,3,-999.000,9,-999.000,9,  -999.0,9,  -999.0,9,-999.000,9,-999.0000,9, -999.00,9,-999.000,  -999.0,9,  -999.0,  2037.6,-999.0000,-999.000,     2.8327,-999.000