BOTTLE,20020919WHPSIOSA
# Original header:
#code : jjward hyd_to_exchange.pl 
#original files copied from HTML directory: Sept. 19, 2002
#original HYD file: a01ehy.txt   Thu Sep 19 14:17:33 2002
#original SUM file: a01esu.txt   Tue Apr  6 18:14:05 1999
EXPOCODE,SECT_ID,STNNBR,CASTNO,SAMPNO,BTLNBR,BTLNBR_FLAG_W,DATE,TIME,LATITUDE,LONGITUDE,DEPTH,CTDPRS,CTDTMP,CTDSAL,CTDSAL_FLAG_W,SALNTY,SALNTY_FLAG_W,OXYGEN,OXYGEN_FLAG_W,SILCAT,SILCAT_FLAG_W,NITRAT,NITRAT_FLAG_W,NITRIT,NITRIT_FLAG_W,PHSPHT,PHSPHT_FLAG_W,CFC-11,CFC-11_FLAG_W,CFC-12,CFC-12_FLAG_W,TCARBN,TCARBN_FLAG_W,ALKALI,ALKALI_FLAG_W,TRITUM,TRITUM_FLAG_W,HELIUM,HELIUM_FLAG_W,DELHE3,DELHE3_FLAG_W,REVTMP,DELC14,DELC14_FLAG_W,C14ERR,CTDRAW,HELIER,DELHER,THETA,TRITER
,,,,,,,,,,,METERS,DBAR,ITS-90,PSS-78,,PSS-78,,UMOL/KG,,UMOL/KG,,UMOL/KG,,UMOL/KG,,UMOL/KG,,PMOL/KG,,PMOL/KG,,UMOL/KG,,UMOL/KG,,TU,,NMOL/KG,,PERCNT,,ITS-90,/MILLE,,/MILLE,DBAR,NMOL/KG,PERCNT,DEG,TU
   06MT18_1,       A01E,     558,          1,         12,        B44,2,19910905,       1346,    60.0000,   -42.5067,        185,     7.9,   6.7531,  34.7076,2,  34.7090,2,   301.9,2,    2.34,2,    6.54,4,    0.16,4,    0.60,4,-999.000,9,-999.000,9,  2086.3,2,  -999.0,9,-999.000,9,-999.0000,9, -999.00,9,-999.000,  -999.0,9,  -999.0,     8.9,-999.0000,-999.000,     6.7524,-999.000
   06MT18_1,       A01E,     558,          1,         13,        B42,2,19910905,       1346,    60.0000,   -42.5067,        185,     8.0,   6.7531,  34.7065,2,  34.7090,2,   301.4,2,    2.54,2,    6.54,4,    0.17,4,    0.57,4,-999.000,9,-999.000,9,  2087.5,2,  -999.0,9,-999.000,9,-999.0000,9, -999.00,9,-999.000,  -999.0,9,  -999.0,     9.0,-999.0000,-999.000,     6.7524,-999.000
   06MT18_1,       A01E,     558,          1,         11,        B46,2,19910905,       1346,    60.0000,   -42.5067,        185,     8.5,   6.7571,  34.7066,2,  34.7090,2,   302.4,2,    2.34,2,    6.54,4,    0.16,4,    0.60,4,-999.000,9,-999.000,9,  2086.5,2,  -999.0,9,-999.000,9,-999.0000,9, -999.00,9,   6.754,  -999.0,9,  -999.0,     9.5,-999.0000,-999.000,     6.7563,-999.000
   06MT18_1,       A01E,     558,          1,         14,         K7,2,19910905,       1346,    60.0000,   -42.5067,        185,     8.7,   6.7511,  34.7059,2,  34.7090,2,   301.6,2,    2.54,2,    6.54,4,    0.16,4,    0.58,4,-999.000,9,-999.000,9,  2087.8,2,  -999.0,9,-999.000,9,-999.0000,9, -999.00,9,-999.000,  -999.0,9,  -999.0,     9.7,-999.0000,-999.000,     6.7503,-999.000
   06MT18_1,       A01E,     558,          1,         10,        B45,2,19910905,       1346,    60.0000,   -42.5067,        185,    26.9,   6.2526,  34.6606,2,  34.6650,2,   302.9,2,    2.73,2,    7.23,4,    0.18,4,    0.63,4,   4.464,2,   2.117,2,  2091.5,2,  2354.0,2,   2.539,2,   1.7877,2,   -1.21,2,-999.000,     4.0,3,     6.0,    28.1,   0.0072,   0.190,     6.2503,   0.030
   06MT18_1,       A01E,     558,          1,          9,        B52,2,19910905,       1346,    60.0000,   -42.5067,        185,    46.7,   5.6971,  34.5841,2,  34.5780,2,   305.6,2,    3.13,2,    7.52,4,    0.19,4,    0.67,4,   4.574,2,   2.164,2,  2093.2,2,  2334.0,2,   2.755,2,   1.7958,2,   -1.29,2,-999.000,  -999.0,9,  -999.0,    48.1,   0.0072,   0.170,     5.6933,   0.036
   06MT18_1,       A01E,     558,          1,          8,        B40,2,19910905,       1346,    60.0000,   -42.5067,        185,    66.0,   5.2315,  34.5157,2,  34.5140,2,   307.4,2,    3.42,2,    7.81,4,    0.20,4,    0.69,4,   4.660,2,   2.190,2,  2095.7,2,  2332.0,2,   2.815,2,   1.7969,2,   -1.12,2,   5.249,  -999.0,9,  -999.0,    67.6,   0.0072,   0.180,     5.2263,   0.045
   06MT18_1,       A01E,     558,          1,          7,        B48,2,19910905,       1346,    60.0000,   -42.5067,        185,    85.5,   3.5260,  34.3883,2,  34.3840,2,   310.8,2,    4.98,2,    9.96,4,    0.23,4,    0.87,4,   4.909,2,   2.281,2,  2109.4,2,  2330.0,2,   3.032,2,   1.8731,4,   -0.53,2,-999.000,  -999.0,9,  -999.0,    87.3,   0.0075,   0.180,     3.5205,   0.035
   06MT18_1,       A01E,     558,          1,          6,        B49,2,19910905,       1346,    60.0000,   -42.5067,        185,    98.5,   3.2192,  34.3987,2,  34.3990,2,   309.8,2,    5.27,2,   10.84,4,    0.23,4,    0.93,4,-999.000,9,-999.000,9,  2114.1,2,  2346.0,2,   2.934,2,   1.8244,2,   -0.58,2,-999.000,    19.0,3,     6.0,   100.4,   0.0073,   0.170,     3.2131,   0.035
   06MT18_1,       A01E,     558,          1,          5,        B51,2,19910905,       1346,    60.0000,   -42.5067,        185,   110.6,   3.3641,  34.4548,2,  34.4560,2,   304.1,2,    6.06,2,   11.72,4,    0.24,4,    0.99,4,   4.896,2,   2.277,2,  2121.0,2,  -999.0,9,   2.917,2,   1.8300,2,   -0.49,2,   3.365,  -999.0,9,  -999.0,   112.6,   0.0073,   0.160,     3.3571,   0.032
   06MT18_1,       A01E,     558,          1,          4,        K30,2,19910905,       1346,    60.0000,   -42.5067,        185,   131.2,   3.3951,  34.4927,2,  34.4940,2,   301.8,2,    6.35,2,   12.40,4,    0.23,4,    1.02,4,-999.000,9,-999.000,9,  2123.4,2,  -999.0,9,   2.869,2,   1.8293,2,   -0.55,2,-999.000,  -999.0,9,  -999.0,   133.4,   0.0073,   0.170,     3.3867,   0.032
   06MT18_1,       A01E,     558,          1,          3,        B47,2,19910905,       1346,    60.0000,   -42.5067,        185,   150.9,   3.4011,  34.5093,2,  34.5120,2,   300.5,2,    6.54,2,   12.70,4,    0.22,4,    1.05,4,   4.834,2,   2.256,2,  2124.2,2,  -999.0,9,   2.755,2,   1.7375,4,   -0.27,2,-999.000,  -999.0,9,  -999.0,   153.3,   0.0069,   0.190,     3.3914,   0.046
   06MT18_1,       A01E,     558,          1,          2,        B50,4,19910905,       1346,    60.0000,   -42.5067,        185,   170.7,-999.0000,-999.0000,9,  34.5620,2,   297.6,2,    7.23,2,   13.48,4,    0.19,4,    1.08,4,-999.000,9,-999.000,9,  -999.0,9,  2346.0,2,-999.000,9,-999.0000,9, -999.00,9,   3.557,  -999.0,9,  -999.0,   173.2,-999.0000,-999.000,     -999.0,-999.000
   06MT18_1,       A01E,     558,          1,          1,        K31,2,19910905,       1346,    60.0000,   -42.5067,        185,   170.7,   3.5030,  34.5613,2,  34.5620,2,   297.6,2,    7.23,2,   13.58,4,    0.19,4,    1.07,4,   4.773,2,   2.231,2,  2129.4,2,  -999.0,9,   2.732,2,   1.8168,2,   -0.33,2,-999.000,    31.0,3,     7.0,   173.2,   0.0073,   0.190,     3.4918,   0.036
   06MT18_1,       A01E,     559,          1,         18,        B34,2,19910905,       1607,    59.9667,   -42.1750,        504,     8.3,   7.9460,  34.9208,2,-999.0000,9,   292.1,2,    2.54,2,    6.35,4,    0.15,4,    0.51,4,-999.000,9,-999.000,9,  -999.0,9,  -999.0,9,-999.000,9,-999.0000,9, -999.00,9,-999.000,  -999.0,9,  -999.0,     9.3,-999.0000,-999.000,     7.9452,-999.000
   06MT18_1,       A01E,     559,          1,         17,         K4,2,19910905,       1607,    59.9667,   -42.1750,        504,     8.3,   7.9739,  34.9188,2,-999.0000,9,   291.7,2,    2.44,2,    6.25,4,    0.15,4,    0.52,4,-999.000,9,-999.000,9,  -999.0,9,  -999.0,9,-999.000,9,-999.0000,9, -999.00,9,-999.000,  -999.0,9,  -999.0,     9.3,-999.0000,-999.000,     7.9731,-999.000
   06MT18_1,       A01E,     559,          1,         15,        K15,2,19910905,       1607,    59.9667,   -42.1750,        504,     8.3,   7.9490,  34.9221,2,  34.9220,2,   290.6,2,    2.25,2,    6.44,4,    0.15,4,    0.53,4,   4.065,2,   1.969,2,  -999.0,9,  -999.0,9,   2.237,2,   1.7793,2,   -1.56,2,-999.000,  -999.0,9,  -999.0,     9.3,   0.0071,   0.160,     7.9482,   0.050
   06MT18_1,       A01E,     559,          1,         16,        B39,2,19910905,       1607,    59.9667,   -42.1750,        504,     8.4,   7.9739,  34.9175,2,  34.9220,2,   291.0,2,    2.25,2,    6.35,4,    0.15,4,    0.52,4,-999.000,9,-999.000,9,  -999.0,9,  -999.0,9,-999.000,9,-999.0000,9, -999.00,9,-999.000,  -999.0,9,  -999.0,     9.4,-999.0000,-999.000,     7.9731,-999.000
   06MT18_1,       A01E,     559,          1,         14,         K7,2,19910905,       1607,    59.9667,   -42.1750,        504,    26.1,   7.3655,  34.9011,2,  34.9040,2,   290.0,2,    3.32,2,    8.59,4,    0.15,4,    0.65,4,-999.000,9,-999.000,9,  -999.0,9,  -999.0,9,-999.000,9,-999.0000,9, -999.00,9,-999.000,  -999.0,9,  -999.0,    27.3,-999.0000,-999.000,     7.3630,-999.000
   06MT18_1,       A01E,     559,          1,         13,        B42,2,19910905,       1607,    59.9667,   -42.1750,        504,    56.7,   5.4393,  34.7606,2,  34.7470,2,   296.7,2,    4.88,2,   11.23,4,    0.13,4,    0.84,4,   4.469,2,   2.104,2,  -999.0,9,  -999.0,9,   2.522,2,   1.7960,2,   -1.09,2,-999.000,  -999.0,9,  -999.0,    58.2,   0.0072,   0.190,     5.4347,   0.033
   06MT18_1,       A01E,     559,          1,         12,        B44,2,19910905,       1607,    59.9667,   -42.1750,        504,    97.2,   4.1095,  34.6918,2,  34.7410,2,   296.9,2,    4.98,2,   11.33,4,    0.13,4,    0.85,4,   4.429,2,   2.082,2,  -999.0,9,  -999.0,9,   2.417,2,   1.8050,2,   -0.99,2,-999.000,  -999.0,9,  -999.0,    99.1,   0.0072,   0.210,     4.1027,   0.042
   06MT18_1,       A01E,     559,          1,         11,        B46,2,19910905,       1607,    59.9667,   -42.1750,        504,   155.5,   4.5831,  34.8445,2,  34.8450,2,   291.2,2,    7.62,2,   15.43,4,    0.00,4,    1.11,4,   4.384,2,   2.059,2,  -999.0,9,  -999.0,9,   2.282,2,   1.7971,2,   -0.51,2,   4.584,  -999.0,9,  -999.0,   157.9,   0.0072,   0.260,     4.5715,   0.041
   06MT18_1,       A01E,     559,          1,         10,        B45,2,19910905,       1607,    59.9667,   -42.1750,        504,   197.7,   4.5741,  34.8607,2,  34.8610,2,   290.6,2,    8.01,2,   15.62,4,    0.00,4,    1.13,4,   4.335,2,   2.044,2,  -999.0,9,  -999.0,9,   2.286,2,   1.8027,2,   -0.14,2,-999.000,  -999.0,9,  -999.0,   200.5,   0.0072,   0.190,     4.5593,   0.044
   06MT18_1,       A01E,     559,          1,          9,        B52,2,19910905,       1607,    59.9667,   -42.1750,        504,   228.8,   4.6500,  34.8743,2,  34.8800,2,   289.0,2,    8.10,2,   15.72,4,    0.00,4,    1.14,4,-999.000,9,-999.000,9,  -999.0,9,  -999.0,9,-999.000,9,-999.0000,9, -999.00,9,-999.000,  -999.0,9,  -999.0,   231.8,-999.0000,-999.000,     4.6327,-999.000
   06MT18_1,       A01E,     559,          1,          8,        B40,2,19910905,       1607,    59.9667,   -42.1750,        504,   277.7,   4.7929,  34.9152,2,  34.9170,2,   287.7,2,    8.30,2,   16.01,4,    0.00,4,    1.16,4,   4.171,2,   1.973,2,  -999.0,9,  -999.0,9,   2.319,2,   1.8005,2,   -0.05,2,   4.796,  -999.0,9,  -999.0,   281.1,   0.0072,   0.190,     4.7715,   0.044
   06MT18_1,       A01E,     559,          1,          7,        B48,2,19910905,       1607,    59.9667,   -42.1750,        504,   328.7,   4.8299,  34.9357,2,  34.9360,2,   287.1,2,    8.50,2,   16.21,4,    0.00,4,    1.17,4,-999.000,9,-999.000,9,  -999.0,9,  -999.0,9,-999.000,9,-999.0000,9, -999.00,9,-999.000,  -999.0,9,  -999.0,   332.4,-999.0000,-999.000,     4.8043,-999.000
   06MT18_1,       A01E,     559,          1,          6,        B49,2,19910905,       1607,    59.9667,   -42.1750,        504,   377.2,   4.8299,  34.9382,2,  34.9380,2,   286.8,2,    8.50,2,   16.21,4,    0.00,4,    1.19,4,-999.000,9,-999.000,9,  -999.0,9,  -999.0,9,-999.000,9,-999.0000,9, -999.00,9,-999.000,  -999.0,9,  -999.0,   381.2,-999.0000,-999.000,     4.8004,-999.000
   06MT18_1,       A01E,     559,          1,          5,        B51,2,19910905,       1607,    59.9667,   -42.1750,        504,   398.1,   4.8259,  34.9397,2,  34.9400,2,   286.6,2,    8.59,2,   16.11,4,    0.00,4,    1.19,4,   4.065,2,   1.916,2,  -999.0,9,  -999.0,9,   2.096,2,   1.7927,2,    0.30,2,   4.824,  -999.0,9,  -999.0,   402.3,   0.0072,   0.200,     4.7947,   0.045
   06MT18_1,       A01E,     559,          1,          4,        K30,2,19910905,       1607,    59.9667,   -42.1750,        504,   418.7,   4.8239,  34.9415,2,  34.9410,2,   286.4,2,    8.50,2,   16.31,4,    0.00,4,    1.19,4,-999.000,9,-999.000,9,  -999.0,9,  -999.0,9,-999.000,9,-999.0000,9, -999.00,9,-999.000,  -999.0,9,  -999.0,   423.0,-999.0000,-999.000,     4.7911,-999.000
   06MT18_1,       A01E,     559,          1,          3,        B47,2,19910905,       1607,    59.9667,   -42.1750,        504,   438.7,   4.8219,  34.9413,2,  34.9420,2,   286.4,2,    8.59,2,   16.31,4,    0.00,4,    1.20,4,-999.000,9,-999.000,9,  -999.0,9,  -999.0,9,-999.000,9,-999.0000,9, -999.00,9,-999.000,  -999.0,9,  -999.0,   443.1,-999.0000,-999.000,     4.7874,-999.000
   06MT18_1,       A01E,     559,          1,          2,        B50,2,19910905,       1607,    59.9667,   -42.1750,        504,   458.3,   4.8179,  34.9423,2,  34.9430,2,   287.9,3,    8.69,2,   16.40,4,    0.00,4,    1.20,4,-999.000,9,-999.000,9,  -999.0,9,  -999.0,9,-999.000,9,-999.0000,9, -999.00,9,-999.000,  -999.0,9,  -999.0,   462.8,-999.0000,-999.000,     4.7818,-999.000
   06MT18_1,       A01E,     559,          1,          1,        K31,2,19910905,       1607,    59.9667,   -42.1750,        504,   477.1,   4.7849,  34.9439,2,  34.9440,2,   286.5,2,    8.79,2,   16.40,4,    0.00,4,    1.20,4,   4.005,2,   1.903,2,  -999.0,9,  -999.0,9,   2.069,2,   1.7873,2,    0.35,2,-999.000,  -999.0,9,  -999.0,   481.7,   0.0071,   0.180,     4.7474,   0.027