BOTTLE,20020919WHPSIOSA
EXPOCODE,SECT_ID,STNNBR,CASTNO,SAMPNO,BTLNBR,BTLNBR_FLAG_W,DATE,TIME,LATITUDE,LONGITUDE,DEPTH,CTDPRS,CTDTMP,CTDSAL,CTDSAL_FLAG_W,SALNTY,SALNTY_FLAG_W,OXYGEN,OXYGEN_FLAG_W,SILCAT,SILCAT_FLAG_W,NITRAT,NITRAT_FLAG_W,NITRIT,NITRIT_FLAG_W,PHSPHT,PHSPHT_FLAG_W,CFC-11,CFC-11_FLAG_W,CFC-12,CFC-12_FLAG_W,TCARBN,TCARBN_FLAG_W,ALKALI,ALKALI_FLAG_W,TRITUM,TRITUM_FLAG_W,HELIUM,HELIUM_FLAG_W,DELHE3,DELHE3_FLAG_W,REVTMP,DELC14,DELC14_FLAG_W,C14ERR,CTDRAW,HELIER,DELHER,THETA,TRITER
,,,,,,,,,,,METERS,DBAR,ITS-90,PSS-78,,PSS-78,,UMOL/KG,,UMOL/KG,,UMOL/KG,,UMOL/KG,,UMOL/KG,,PMOL/KG,,PMOL/KG,,UMOL/KG,,UMOL/KG,,TU,,NMOL/KG,,PERCNT,,ITS-90,/MILLE,,/MILLE,DBAR,NMOL/KG,PERCNT,DEG,TU
   06MT18_1,       A01E,     601,          1,         24,        B41,2,19910915,       2340,    53.2667,   -23.8983,       3718,    33.3,  12.9759,  34.8773,2,  34.8830,2,   260.1,2,    0.49,2,    0.98,2,    0.08,2,    0.21,2,   3.259,2,   1.660,2,  -999.0,9,  -999.0,9,   2.352,2,   1.7335,2,   -1.43,2,-999.000,  -999.0,9,  -999.0,    34.6,   0.0069,   0.200,    12.9714,   0.034
   06MT18_1,       A01E,     601,          1,         23,        K23,2,19910915,       2340,    53.2667,   -23.8983,       3718,    63.4,   9.9440,  35.0831,2,  35.0870,2,   247.9,2,    4.49,2,   11.52,2,    0.08,2,    0.81,2,   3.557,2,   1.761,2,  -999.0,9,  -999.0,9,-999.000,9,-999.0000,9, -999.00,9,-999.000,  -999.0,9,  -999.0,    65.0,-999.0000,-999.000,     9.9367,-999.000
   06MT18_1,       A01E,     601,          1,         22,         K3,2,19910915,       2340,    53.2667,   -23.8983,       3718,   104.2,   8.8211,  35.1372,2,  35.1410,2,   255.2,2,    7.03,2,   14.06,2,    0.02,2,    0.95,2,-999.000,9,-999.000,9,  -999.0,9,  -999.0,9,-999.000,9,-999.0000,9, -999.00,9,-999.000,  -999.0,9,  -999.0,   106.1,-999.0000,-999.000,     8.8099,-999.000
   06MT18_1,       A01E,     601,          1,         21,        B35,4,19910915,       2340,    53.2667,   -23.8983,       3718,   204.6,-999.0000,-999.0000,9,  34.9920,2,   256.2,2,    8.30,2,   15.53,2,    0.01,2,    1.05,2,   3.419,2,   1.693,2,  -999.0,9,  -999.0,9,-999.000,5,   1.7616,2,    0.44,2,-999.000,  -999.0,9,  -999.0,   207.4,   0.0070,   0.190,     -999.0,-999.000
   06MT18_1,       A01E,     601,          1,         20,        B48,2,19910915,       2340,    53.2667,   -23.8983,       3718,   204.6,   7.6103,  34.9900,2,  34.9920,2,   255.8,2,    8.20,2,   15.53,2,    0.01,2,    1.05,2,-999.000,9,-999.000,9,  -999.0,9,  -999.0,9,-999.000,9,-999.0000,9, -999.00,9,-999.000,  -999.0,9,  -999.0,   207.4,-999.0000,-999.000,     7.5902,-999.000
   06MT18_1,       A01E,     601,          1,         19,        K18,2,19910915,       2340,    53.2667,   -23.8983,       3718,   302.6,   6.8241,  34.9453,2,  34.9470,2,   251.4,2,    9.18,2,   16.60,2,    0.01,2,    1.12,2,   3.356,2,   1.580,2,  -999.0,9,  -999.0,9,   2.033,2,   1.7680,2,    1.38,2,-999.000,  -999.0,9,  -999.0,   306.2,   0.0071,   0.180,     6.7960,   0.040
   06MT18_1,       A01E,     601,          1,         18,        B40,2,19910915,       2340,    53.2667,   -23.8983,       3718,   404.8,   6.1127,  34.9358,2,  34.9380,2,   238.8,2,   10.65,2,   18.07,2,    0.00,2,    1.22,2,   2.756,2,   1.334,2,  -999.0,9,  -999.0,9,-999.000,9,-999.0000,9, -999.00,9,   6.116,  -999.0,9,  -999.0,   409.0,-999.0000,-999.000,     6.0770,-999.000
   06MT18_1,       A01E,     601,          1,         17,        K17,2,19910915,       2340,    53.2667,   -23.8983,       3718,   503.6,   5.6721,  34.9607,2,  34.9570,2,   237.6,2,   11.13,2,   18.46,2,    0.01,2,    1.25,2,-999.000,9,-999.000,9,  -999.0,9,  -999.0,9,-999.000,9,-999.0000,9, -999.00,9,-999.000,  -999.0,9,  -999.0,   508.3,-999.0000,-999.000,     5.6290,-999.000
   06MT18_1,       A01E,     601,          1,         16,        B53,2,19910915,       2340,    53.2667,   -23.8983,       3718,   706.5,   4.8589,  34.9735,2,  34.9740,2,   246.3,2,   11.43,2,   18.46,2,    0.00,2,    1.24,2,   2.086,2,   0.984,2,  -999.0,9,  -999.0,9,   1.835,2,   1.8046,2,    6.70,2,-999.000,  -999.0,9,  -999.0,   712.0,   0.0072,   0.220,     4.8018,   0.042
   06MT18_1,       A01E,     601,          1,         15,        B39,2,19910915,       2340,    53.2667,   -23.8983,       3718,   908.3,   4.1984,  34.9339,2,  34.9320,2,   261.7,2,   11.14,2,   17.97,2,    0.00,2,    1.21,2,   2.095,2,   0.986,2,  -999.0,9,  -999.0,9,-999.000,5,   1.8128,2,    6.71,2,-999.000,  -999.0,9,  -999.0,   914.2,   0.0073,   0.220,     4.1283,-999.000
   06MT18_1,       A01E,     601,          1,         14,        B42,2,19910915,       2340,    53.2667,   -23.8983,       3718,  1108.6,   3.8387,  34.9096,2,  34.9110,2,   271.2,2,   11.14,2,   17.58,2,    0.00,2,    1.19,2,-999.000,9,-999.000,9,  -999.0,9,  -999.0,9,-999.000,9,-999.0000,9, -999.00,9,   3.840,  -999.0,9,  -999.0,  1114.5,-999.0000,-999.000,     3.7545,-999.000
   06MT18_1,       A01E,     601,          1,         13,         K9,3,19910915,       2340,    53.2667,   -23.8983,       3718,  1411.8,   3.5340,  34.8916,2,  34.8900,2,   280.1,2,   10.84,2,   17.19,2,    0.00,2,    1.17,2,   2.018,2,   0.941,2,  -999.0,9,  -999.0,9,   1.640,2,   1.7941,2,    7.56,2,-999.000,  -999.0,9,  -999.0,  1417.3,   0.0072,   0.180,     3.4270,   0.043
   06MT18_1,       A01E,     601,          1,         12,        B50,2,19910915,       2340,    53.2667,   -23.8983,       3718,  1614.5,   3.4640,  34.8972,2,  34.8970,2,   280.7,2,   11.04,2,   17.19,2,    0.00,2,    1.17,2,-999.000,9,-999.000,9,  -999.0,9,  -999.0,9,-999.000,9,-999.0000,9, -999.00,9,   3.465,  -999.0,9,  -999.0,  1619.4,-999.0000,-999.000,     3.3400,-999.000
   06MT18_1,       A01E,     601,          1,         11,        B44,2,19910915,       2340,    53.2667,   -23.8983,       3718,  1917.1,   3.4411,  34.9227,2,  34.9220,2,   275.7,2,   12.11,2,   17.19,2,    0.00,2,    1.17,2,   1.148,2,   0.549,2,  -999.0,9,  -999.0,9,   1.284,2,   1.8087,2,    8.07,2,-999.000,  -999.0,9,  -999.0,  1920.8,   0.0072,   0.190,     3.2898,   0.033
   06MT18_1,       A01E,     601,          1,         10,        K19,2,19910915,       2340,    53.2667,   -23.8983,       3718,  2220.4,   3.3152,  34.9394,2,  34.9400,2,   272.7,2,   13.67,2,   17.19,2,    0.00,2,    1.17,2,   0.877,2,   0.422,2,  -999.0,9,  -999.0,9,-999.000,9,-999.0000,9, -999.00,9,   3.317,  -999.0,9,  -999.0,  2222.6,-999.0000,-999.000,     3.1370,-999.000
   06MT18_1,       A01E,     601,          1,          9,        B45,2,19910915,       2340,    53.2667,   -23.8983,       3718,  2531.3,   3.1373,  34.9485,2,  34.9500,2,   270.7,2,   15.92,2,   17.19,2,    0.00,2,    1.18,2,   0.748,2,   0.367,2,  -999.0,9,  -999.0,9,   0.890,2,   1.7245,4,    7.13,2,-999.000,  -999.0,9,  -999.0,  2531.8,   0.0069,   0.210,     2.9317,   0.021
   06MT18_1,       A01E,     601,          1,          8,        K22,2,19910915,       2340,    53.2667,   -23.8983,       3718,  2835.0,   2.9395,  34.9526,2,  34.9520,2,   266.1,2,   20.80,2,   17.78,2,    0.00,2,    1.23,2,   0.716,2,   0.343,2,  -999.0,9,  -999.0,9,-999.000,9,-999.0000,9, -999.00,9,   2.941,  -999.0,9,  -999.0,  2833.8,-999.0000,-999.000,     2.7071,-999.000
   06MT18_1,       A01E,     601,          1,          7,        B52,2,19910915,       2340,    53.2667,   -23.8983,       3718,  3037.7,   2.8525,  34.9496,2,  34.9510,2,   263.4,2,   23.34,2,   18.17,2,    0.00,2,    1.25,2,   0.700,2,   0.335,2,  -999.0,9,  -999.0,9,   0.746,2,   1.8214,2,    5.55,2,-999.000,  -999.0,9,  -999.0,  3035.4,   0.0073,   0.190,     2.6009,   0.017
   06MT18_1,       A01E,     601,          1,          5,        B49,2,19910915,       2340,    53.2667,   -23.8983,       3718,  3499.5,   2.6937,  34.9343,2,  34.9360,2,   253.3,2,   32.82,2,   19.93,2,    0.00,2,    1.38,2,   0.413,2,   0.196,2,  -999.0,9,  -999.0,9,   0.459,2,-999.0000,5,   -9.00,5,-999.000,  -999.0,9,  -999.0,  3495.2,-999.0000,-999.000,     2.3964,   0.006
   06MT18_1,       A01E,     601,          1,          4,        B43,2,19910915,       2340,    53.2667,   -23.8983,       3718,  3602.9,   2.6407,  34.9252,2,  34.9270,2,   249.3,2,   36.63,2,   20.71,2,    0.00,2,    1.44,2,   0.289,2,   0.135,2,  -999.0,9,  -999.0,9,-999.000,9,-999.0000,9, -999.00,9,   2.643,  -999.0,9,  -999.0,  3598.3,-999.0000,-999.000,     2.3334,-999.000
   06MT18_1,       A01E,     601,          1,          3,        K30,2,19910915,       2340,    53.2667,   -23.8983,       3718,  3652.5,   2.5837,  34.9186,2,  34.9200,2,   246.0,2,   40.15,2,   21.39,2,    0.00,2,    1.47,2,   0.169,2,   0.083,2,  -999.0,9,  -999.0,9,   0.200,2,-999.0000,5,   -9.00,5,-999.000,  -999.0,9,  -999.0,  3647.7,-999.0000,-999.000,     2.2724,   0.003
   06MT18_1,       A01E,     601,          1,          2,        B46,2,19910915,       2340,    53.2667,   -23.8983,       3718,  3698.5,   2.5448,  34.9137,2,  34.9160,2,   243.7,2,   42.00,2,   21.78,2,    0.00,2,    1.49,2,   0.113,2,   0.054,2,  -999.0,9,  -999.0,9,   0.132,2,   1.8249,2,    2.77,2,   2.558,  -999.0,9,  -999.0,  3693.6,   0.0073,   0.160,     2.2294,   0.002
   06MT18_1,       A01E,     601,          1,          1,        K31,2,19910915,       2340,    53.2667,   -23.8983,       3718,  3754.4,   2.5398,  34.9119,2,  34.9130,2,   242.8,2,   42.98,2,   21.88,2,    0.00,2,    1.51,2,   0.096,2,   0.047,2,  -999.0,9,  -999.0,9,   0.102,2,   1.8334,2,    2.89,2,-999.000,  -999.0,9,  -999.0,  3749.4,   0.0073,   0.170,     2.2183,   0.002
   06MT18_1,       A01E,     602,          1,         24,        B41,2,19910916,       0559,    53.0683,   -23.1300,       3875,    12.0,  14.8101,  34.9449,3,  34.9500,2,   254.0,2,    0.59,2,    0.10,2,    0.00,2,    0.09,2,   2.996,2,   1.519,2,  2037.0,2,  2373.0,2,-999.000,9,-999.0000,9, -999.00,9,-999.000,  -999.0,9,  -999.0,    13.0,-999.0000,-999.000,    14.8083,-999.000
   06MT18_1,       A01E,     602,          1,         23,        K23,2,19910916,       0559,    53.0683,   -23.1300,       3875,    32.6,  14.8801,  35.1052,3,  35.1040,2,   250.7,2,    0.59,2,    0.49,2,    0.09,2,    0.14,2,   2.988,2,   1.538,2,  2046.5,2,  2379.0,2,-999.000,9,-999.0000,9, -999.00,9,-999.000,  -999.0,9,  -999.0,    33.8,-999.0000,-999.000,    14.8752,-999.000
   06MT18_1,       A01E,     602,          1,         22,         K3,2,19910916,       0559,    53.0683,   -23.1300,       3875,    61.1,  12.1558,  35.4867,3,  35.4860,2,   236.3,2,    2.25,2,    9.47,2,    0.05,2,    0.63,2,-999.000,9,-999.000,9,  2114.4,2,  2396.0,2,-999.000,9,-999.0000,9, -999.00,9,-999.000,  -999.0,9,  -999.0,    62.6,-999.0000,-999.000,    12.1478,-999.000
   06MT18_1,       A01E,     602,          1,         21,        B35,4,19910916,       0559,    53.0683,   -23.1300,       3875,   102.6,-999.0000,-999.0000,9,  35.4720,2,   243.9,2,    4.49,2,   12.01,2,    0.01,2,    0.77,2,   3.111,2,   1.561,2,  2127.2,2,  2395.0,2,-999.000,9,-999.0000,9, -999.00,9,-999.000,  -999.0,9,  -999.0,   104.5,-999.0000,-999.000,     -999.0,-999.000
   06MT18_1,       A01E,     602,          1,         20,        B48,2,19910916,       0559,    53.0683,   -23.1300,       3875,   102.6,  10.8850,  35.4749,3,  35.4740,2,   243.9,2,    4.49,2,   12.01,2,    0.01,2,    0.77,2,   3.133,2,   1.571,2,  -999.0,9,  -999.0,9,-999.000,9,-999.0000,9, -999.00,9,-999.000,  -999.0,9,  -999.0,   104.5,-999.0000,-999.000,    10.8724,-999.000
   06MT18_1,       A01E,     602,          1,         19,        K18,2,19910916,       0559,    53.0683,   -23.1300,       3875,   201.1,  10.0489,  35.3540,3,  35.3560,2,   248.3,2,    5.47,2,   12.79,2,    0.01,2,    0.83,2,-999.000,9,-999.000,9,  2129.5,2,  2397.0,2,-999.000,9,-999.0000,9, -999.00,9,-999.000,  -999.0,9,  -999.0,   203.9,-999.0000,-999.000,    10.0254,-999.000
   06MT18_1,       A01E,     602,          1,         18,        B40,2,19910916,       0559,    53.0683,   -23.1300,       3875,   296.0,   9.5424,  35.2847,3,  35.2870,2,   252.9,2,    5.86,2,   13.19,2,    0.01,2,    0.87,2,   3.265,2,   1.595,2,  2131.4,2,  -999.0,9,-999.000,9,-999.0000,9, -999.00,9,   9.548,  -999.0,9,  -999.0,   299.5,-999.0000,-999.000,     9.5087,-999.000
   06MT18_1,       A01E,     602,          1,         17,        K17,2,19910916,       0559,    53.0683,   -23.1300,       3875,   392.0,   8.8431,  35.1836,3,  35.1850,2,   240.9,2,    7.52,2,   15.14,2,    0.01,2,    1.00,2,   2.915,2,   1.448,2,  2141.4,2,  2389.0,2,-999.000,9,-999.0000,9, -999.00,9,-999.000,  -999.0,9,  -999.0,   396.1,-999.0000,-999.000,     8.8004,-999.000
   06MT18_1,       A01E,     602,          1,         16,        B53,2,19910916,       0559,    53.0683,   -23.1300,       3875,   595.1,   6.9120,  35.0017,3,  35.0030,2,   225.0,2,   10.55,2,   18.37,2,    0.00,2,    1.22,2,   2.430,2,   1.160,2,  2160.3,2,  -999.0,9,-999.000,9,-999.0000,9, -999.00,9,   6.899,  -999.0,9,  -999.0,   600.2,-999.0000,-999.000,     6.8550,-999.000
   06MT18_1,       A01E,     602,          1,         15,        B39,2,19910916,       0559,    53.0683,   -23.1300,       3875,   787.8,   6.0248,  35.0614,3,  35.0630,2,   228.5,2,   11.43,2,   18.85,2,    0.00,2,    1.24,2,-999.000,9,-999.000,9,  2166.2,2,  2379.0,2,-999.000,9,-999.0000,9, -999.00,9,-999.000,  -999.0,9,  -999.0,   793.5,-999.0000,-999.000,     5.9535,-999.000
   06MT18_1,       A01E,     602,          1,         14,        B42,4,19910916,       0559,    53.0683,   -23.1300,       3875,   989.1,   4.6400,  34.9820,3,  34.9750,2,   251.0,2,   11.33,2,   18.37,2,    0.00,2,    1.23,2,   1.983,2,   0.926,2,  2161.6,2,  -999.0,9,-999.000,9,-999.0000,9, -999.00,9,   4.678,  -999.0,9,  -999.0,   995.0,-999.0000,-999.000,     4.5596,-999.000
   06MT18_1,       A01E,     602,          1,         13,         K9,2,19910916,       0559,    53.0683,   -23.1300,       3875,  1193.1,   4.0196,  34.9182,3,  34.9200,2,   267.0,2,   11.04,2,   17.98,2,    0.00,2,    1.20,2,   2.083,2,   0.972,2,  2156.2,2,  -999.0,9,-999.000,9,-999.0000,9, -999.00,9,-999.000,  -999.0,9,  -999.0,  1199.0,-999.0000,-999.000,     3.9266,-999.000
   06MT18_1,       A01E,     602,          1,         12,        B50,2,19910916,       0559,    53.0683,   -23.1300,       3875,  1387.2,   3.7308,  34.9013,3,  34.9040,2,   275.3,2,   10.85,2,   17.59,2,    0.00,2,    1.18,2,   1.980,2,   0.931,2,  2154.0,2,  2379.0,2,-999.000,9,-999.0000,9, -999.00,9,   3.733,  -999.0,9,  -999.0,  1392.7,-999.0000,-999.000,     3.6238,-999.000
   06MT18_1,       A01E,     602,          1,         11,        B44,2,19910916,       0559,    53.0683,   -23.1300,       3875,  1592.0,   3.5470,  34.8906,3,  34.8970,2,   280.4,2,   11.24,2,   17.29,2,    0.00,2,    1.16,2,   1.678,2,   0.790,2,  2150.2,2,  -999.0,9,-999.000,9,-999.0000,9, -999.00,9,-999.000,  -999.0,9,  -999.0,  1597.0,-999.0000,-999.000,     3.4240,-999.000
   06MT18_1,       A01E,     602,          1,         10,        K19,2,19910916,       0559,    53.0683,   -23.1300,       3875,  1998.8,   3.4700,  34.9133,3,  34.9140,2,   277.6,2,   11.82,2,   17.29,2,    0.00,2,    1.16,2,   1.257,2,   0.600,2,  2151.0,2,  -999.0,9,-999.000,9,-999.0000,9, -999.00,9,   3.471,  -999.0,9,  -999.0,  2002.1,-999.0000,-999.000,     3.3106,-999.000
   06MT18_1,       A01E,     602,          1,          9,        B45,2,19910916,       0559,    53.0683,   -23.1300,       3875,  2146.8,   3.4371,  34.9239,3,  34.9270,2,   275.6,2,   12.41,2,   17.20,2,    0.00,2,    1.16,2,   1.044,2,   0.507,2,  2151.4,2,  -999.0,9,-999.000,9,-999.0000,9, -999.00,9,-999.000,  -999.0,9,  -999.0,  2149.4,-999.0000,-999.000,     3.2641,-999.000
   06MT18_1,       A01E,     602,          1,          8,        K22,2,19910916,       0559,    53.0683,   -23.1300,       3875,  2384.2,   3.3361,  34.9390,3,  34.9420,2,   272.8,2,   13.87,2,   17.20,2,    0.00,2,    1.17,2,   0.799,2,   0.394,2,  2153.3,2,  2371.0,2,-999.000,9,-999.0000,9, -999.00,9,-999.000,  -999.0,9,  -999.0,  2385.5,-999.0000,-999.000,     3.1416,-999.000
   06MT18_1,       A01E,     602,          1,          7,        B52,2,19910916,       0559,    53.0683,   -23.1300,       3875,  2579.7,   3.1803,  34.9439,3,  34.9470,2,   272.4,2,   14.85,2,   17.10,2,    0.00,2,    1.16,2,   0.834,2,   0.410,2,  2155.1,2,  -999.0,9,-999.000,9,-999.0000,9, -999.00,9,-999.000,  -999.0,9,  -999.0,  2579.9,-999.0000,-999.000,     2.9691,-999.000
   06MT18_1,       A01E,     602,          1,          6,        B51,2,19910916,       0559,    53.0683,   -23.1300,       3875,  2885.3,   3.0104,  34.9493,3,  34.9530,2,   268.6,2,   18.47,2,   17.49,2,    0.00,2,    1.20,2,   0.771,2,   0.382,2,  2161.5,2,  -999.0,9,-999.000,9,-999.0000,9, -999.00,9,   3.018,  -999.0,9,  -999.0,  2883.8,-999.0000,-999.000,     2.7713,-999.000
   06MT18_1,       A01E,     602,          1,          5,        B49,2,19910916,       0559,    53.0683,   -23.1300,       3875,  3199.1,   2.8575,  34.9465,3,  34.9530,2,   264.4,2,   23.15,2,   18.17,2,    0.00,2,    1.24,2,   0.713,2,   0.349,2,  2168.5,2,  2382.0,2,-999.000,5,   1.8066,2,    5.67,2,-999.000,  -999.0,9,  -999.0,  3196.0,   0.0072,   0.160,     2.5887,-999.000
   06MT18_1,       A01E,     602,          1,          4,        B43,2,19910916,       0559,    53.0683,   -23.1300,       3875,  3504.8,   2.7766,  34.9486,3,-999.0000,5,   260.3,2,   27.26,2,   18.76,2,    0.00,2,    1.30,2,   0.645,2,   0.312,2,  2174.4,2,  -999.0,9,   0.666,2,   1.8119,2,    5.55,2,   2.785,  -999.0,9,  -999.0,  3500.5,   0.0072,   0.200,     2.4766,   0.005
   06MT18_1,       A01E,     602,          1,          3,        K30,2,19910916,       0559,    53.0683,   -23.1300,       3875,  3806.0,   2.6527,  34.9196,3,  34.9260,2,   249.2,2,   37.52,2,   20.81,2,    0.00,2,    1.44,2,   0.265,2,   0.139,2,  2191.4,2,  2416.0,2,   0.351,2,   1.8200,2,    3.80,2,-999.000,  -999.0,9,  -999.0,  3800.9,   0.0073,   0.210,     2.3223,   0.017
   06MT18_1,       A01E,     602,          1,          2,        B36,2,19910916,       0559,    53.0683,   -23.1300,       3875,  3891.8,   2.5807,  34.9114,3,  34.9180,2,   244.7,2,   41.62,2,   21.69,2,    0.00,2,    1.49,2,   0.128,2,   0.060,2,  2196.6,2,  -999.0,9,   0.147,2,   1.9354,4,    3.05,2,   2.588,  -999.0,9,  -999.0,  3886.6,   0.0077,   0.210,     2.2425,   0.002
   06MT18_1,       A01E,     602,          1,          1,        K31,2,19910916,       0559,    53.0683,   -23.1300,       3875,  3926.8,   2.5598,  34.9069,3,  34.9140,2,   242.9,2,   43.28,2,   21.98,2,    0.00,2,    1.51,2,   0.102,2,   0.045,2,  2198.7,2,  2422.0,2,   0.089,2,   1.8221,2,    2.89,2,-999.000,  -999.0,9,  -999.0,  3921.5,   0.0073,   0.220,     2.2182,   0.002