BOTTLE,20020919WHPSIOSA
EXPOCODE,SECT_ID,STNNBR,CASTNO,SAMPNO,BTLNBR,BTLNBR_FLAG_W,DATE,TIME,LATITUDE,LONGITUDE,DEPTH,CTDPRS,CTDTMP,CTDSAL,CTDSAL_FLAG_W,SALNTY,SALNTY_FLAG_W,OXYGEN,OXYGEN_FLAG_W,SILCAT,SILCAT_FLAG_W,NITRAT,NITRAT_FLAG_W,NITRIT,NITRIT_FLAG_W,PHSPHT,PHSPHT_FLAG_W,CFC-11,CFC-11_FLAG_W,CFC-12,CFC-12_FLAG_W,TCARBN,TCARBN_FLAG_W,ALKALI,ALKALI_FLAG_W,TRITUM,TRITUM_FLAG_W,HELIUM,HELIUM_FLAG_W,DELHE3,DELHE3_FLAG_W,REVTMP,DELC14,DELC14_FLAG_W,C14ERR,CTDRAW,HELIER,DELHER,THETA,TRITER
,,,,,,,,,,,METERS,DBAR,ITS-90,PSS-78,,PSS-78,,UMOL/KG,,UMOL/KG,,UMOL/KG,,UMOL/KG,,UMOL/KG,,PMOL/KG,,PMOL/KG,,UMOL/KG,,UMOL/KG,,TU,,NMOL/KG,,PERCNT,,ITS-90,/MILLE,,/MILLE,DBAR,NMOL/KG,PERCNT,DEG,TU
   06MT18_1,       A01E,     590,          1,         18,        B40,2,19910912,       2159,    55.0683,   -26.4600,       3378,    19.1,  12.5024,  34.6495,2,  34.6540,2,   268.7,2,    1.47,2,    2.44,2,    0.11,2,    0.32,2,   3.267,2,   1.631,2,  2046.8,2,  -999.0,9,-999.000,9,-999.0000,9, -999.00,9,  12.502,  -999.0,9,  -999.0,    20.2,-999.0000,-999.000,    12.4999,-999.000
   06MT18_1,       A01E,     590,          1,         17,        K17,4,19910912,       2159,    55.0683,   -26.4600,       3378,    19.1,-999.0000,-999.0000,9,  34.6540,2,   269.1,2,    1.27,2,    2.35,2,    0.11,2,    0.32,2,   3.265,2,   1.628,2,  -999.0,9,  -999.0,9,-999.000,9,-999.0000,9, -999.00,9,-999.000,  -999.0,9,  -999.0,    20.2,-999.0000,-999.000,     -999.0,-999.000
   06MT18_1,       A01E,     590,          1,         16,         K7,2,19910912,       2159,    55.0683,   -26.4600,       3378,    65.1,  10.4335,  34.7873,2,  34.7760,2,   254.0,2,    2.25,2,    6.25,2,    0.23,2,    0.60,2,   3.447,2,   1.713,2,  2080.4,2,  -999.0,9,-999.000,9,-999.0000,9, -999.00,9,-999.000,  -999.0,9,  -999.0,    66.7,-999.0000,-999.000,    10.4258,-999.000
   06MT18_1,       A01E,     590,          1,         15,        B39,2,19910912,       2159,    55.0683,   -26.4600,       3378,   104.2,   7.5144,  34.8656,2,  34.8640,2,   254.5,2,    7.91,2,   15.05,2,    0.02,2,    1.07,2,   3.535,2,   1.690,2,  2136.7,2,  -999.0,9,   2.198,2,   1.7759,2,   -0.12,2,-999.000,  -999.0,9,  -999.0,   106.1,   0.0071,   0.190,     7.5043,   0.028
   06MT18_1,       A01E,     590,          1,         14,        B42,4,19910912,       2159,    55.0683,   -26.4600,       3378,   104.2,-999.0000,-999.0000,9,  34.8650,2,   254.6,2,    8.01,2,   15.05,2,    0.02,2,    1.07,2,   3.558,2,   1.703,2,  -999.0,9,  -999.0,9,-999.000,9,-999.0000,9, -999.00,9,-999.000,  -999.0,9,  -999.0,   106.1,-999.0000,-999.000,     -999.0,-999.000
   06MT18_1,       A01E,     590,          1,         13,         K9,2,19910912,       2159,    55.0683,   -26.4600,       3378,   906.4,   3.9606,  34.9160,2,  34.9160,2,   268.0,2,   10.94,2,   17.68,2,    0.00,2,    1.22,2,   2.083,2,   0.975,2,  2154.4,2,  -999.0,9,-999.000,9,-999.0000,9, -999.00,9,-999.000,  -999.0,9,  -999.0,   912.3,-999.0000,-999.000,     3.8923,-999.000
   06MT18_1,       A01E,     590,          1,         12,        B50,2,19910912,       2159,    55.0683,   -26.4600,       3378,  1007.1,   3.7678,  34.9037,2,  34.9030,2,   273.9,2,   10.85,2,   17.39,2,    0.00,2,    1.20,2,   2.128,2,   1.005,2,  2155.8,2,  -999.0,9,-999.000,9,-999.0000,9, -999.00,9,-999.000,  -999.0,9,  -999.0,  1013.0,-999.0000,-999.000,     3.6927,-999.000
   06MT18_1,       A01E,     590,          1,         11,        B44,2,19910912,       2159,    55.0683,   -26.4600,       3378,  1208.4,   3.5620,  34.8906,2,  34.8890,2,   280.1,2,   10.75,2,   17.10,2,    0.00,2,    1.20,2,   2.104,2,   0.993,2,  2149.9,2,  -999.0,9,-999.000,9,-999.0000,9, -999.00,9,-999.000,  -999.0,9,  -999.0,  1214.3,-999.0000,-999.000,     3.4720,-999.000
   06MT18_1,       A01E,     590,          1,         10,        K19,2,19910912,       2159,    55.0683,   -26.4600,       3378,  1407.6,   3.4980,  34.8937,2,  34.8930,2,   280.7,2,   10.94,2,   17.10,2,    0.00,2,    1.19,2,   1.846,2,   0.873,2,  2153.1,2,  -999.0,9,   1.655,2,   1.8036,2,    7.47,2,-999.000,  -999.0,9,  -999.0,  1413.1,   0.0072,   0.200,     3.3917,   0.029
   06MT18_1,       A01E,     590,          1,          9,        B45,2,19910912,       2159,    55.0683,   -26.4600,       3378,  1607.9,   3.4191,  34.8956,2,  34.8950,2,   281.7,2,   11.33,2,   17.10,2,    0.00,2,    1.18,2,   1.721,2,   0.819,2,  2152.1,2,  -999.0,9,-999.000,9,-999.0000,9, -999.00,9,-999.000,  -999.0,9,  -999.0,  1612.8,-999.0000,-999.000,     3.2962,-999.000
   06MT18_1,       A01E,     590,          1,          8,        K22,3,19910912,       2159,    55.0683,   -26.4600,       3378,  1812.6,   3.4151,  34.9127,2,  34.9110,2,   278.9,2,   11.82,2,   17.00,2,    0.00,2,    1.18,2,   1.371,2,   0.655,2,  2152.7,2,  -999.0,9,-999.000,9,-999.0000,9, -999.00,9,-999.000,  -999.0,9,  -999.0,  1816.7,-999.0000,-999.000,     3.2738,-999.000
   06MT18_1,       A01E,     590,          1,          7,        B52,2,19910912,       2159,    55.0683,   -26.4600,       3378,  2013.9,   3.3781,  34.9308,2,  34.9310,2,   275.2,2,   12.70,2,   17.00,2,    0.00,2,    1.18,2,   0.989,2,   0.484,2,  2154.1,2,  -999.0,9,   1.119,2,   1.8103,2,    7.70,2,-999.000,  -999.0,9,  -999.0,  2017.1,   0.0072,   0.220,     3.2186,   0.019
   06MT18_1,       A01E,     590,          1,          6,        B51,2,19910912,       2159,    55.0683,   -26.4600,       3378,  2272.3,   3.2632,  34.9449,2,  34.9450,2,   272.3,2,   14.36,2,   17.00,2,    0.00,2,    1.19,2,   0.812,2,   0.402,2,  2156.6,2,  -999.0,9,-999.000,9,-999.0000,9, -999.00,9,-999.000,  -999.0,9,  -999.0,  2274.2,-999.0000,-999.000,     3.0808,-999.000
   06MT18_1,       A01E,     590,          1,          5,        B49,2,19910912,       2159,    55.0683,   -26.4600,       3378,  2524.7,   3.1153,  34.9486,2,  34.9460,2,   272.3,2,   14.46,2,   17.10,2,    0.00,2,    1.19,2,   0.810,2,   0.402,2,  2156.5,2,  -999.0,9,   0.990,2,   1.8162,2,    7.01,2,-999.000,  -999.0,9,  -999.0,  2525.2,   0.0073,   0.200,     2.9108,   0.026
   06MT18_1,       A01E,     590,          1,          4,        B37,2,19910912,       2159,    55.0683,   -26.4600,       3378,  2774.5,   2.9554,  34.9513,2,  34.9520,2,   264.4,2,   21.89,2,   17.98,2,    0.00,2,    1.26,2,   0.640,2,   0.321,2,  2159.6,2,  -999.0,9,-999.000,9,-999.0000,9, -999.00,9,-999.000,  -999.0,9,  -999.0,  2773.6,-999.0000,-999.000,     2.7288,-999.000
   06MT18_1,       A01E,     590,          1,          3,        K30,2,19910912,       2159,    55.0683,   -26.4600,       3378,  3019.9,   2.8335,  34.9548,2,  34.9550,2,   265.9,2,   22.18,2,   17.68,2,    0.00,2,    1.25,2,   0.833,2,   0.406,2,  2169.9,2,  -999.0,9,   0.891,2,   1.8225,2,    5.87,2,-999.000,  -999.0,9,  -999.0,  3017.7,   0.0073,   0.220,     2.5842,   0.023
   06MT18_1,       A01E,     590,          1,          2,        B46,2,19910912,       2159,    55.0683,   -26.4600,       3378,  3205.2,   2.7896,  34.9547,2,  34.9580,2,   265.0,2,   23.25,2,   17.78,2,    0.00,2,    1.24,2,   0.905,2,   0.431,2,  2174.0,2,  -999.0,9,   0.875,2,   1.8146,2,    5.83,2,   2.790,  -999.0,9,  -999.0,  3202.1,   0.0073,   0.160,     2.5217,   0.019
   06MT18_1,       A01E,     590,          1,          1,        K31,2,19910912,       2159,    55.0683,   -26.4600,       3378,  3379.3,   2.7826,  34.9633,2,  34.9650,2,   269.3,2,   20.03,2,   17.00,2,    0.00,2,    1.19,2,   1.285,2,   0.612,2,  2168.2,2,  -999.0,9,   1.109,2,   1.8149,2,    6.07,2,-999.000,  -999.0,9,  -999.0,  3375.5,   0.0073,   0.270,     2.4961,   0.025
   06MT18_1,       A01E,     591,          1,         22,         K3,2,19910913,       0505,    54.6100,   -26.1183,       3420,    17.6,  13.0698,  34.7126,2,  34.7170,2,   263.6,2,    0.78,2,    0.49,2,    0.05,2,    0.20,2,   3.128,2,   1.569,2,  -999.0,9,  -999.0,9,   2.413,2,   1.7358,2,   -1.52,2,-999.000,    18.0,3,     7.0,    18.7,   0.0069,   0.150,    13.0674,   0.024
   06MT18_1,       A01E,     591,          1,         23,        K23,2,19910913,       0505,    54.6100,   -26.1183,       3420,    17.7,  13.0738,  34.7099,2,-999.0000,9,   263.3,2,    1.07,3,    0.49,2,    0.05,2,    0.24,3,-999.000,9,-999.000,9,  -999.0,9,  2381.0,2,-999.000,9,-999.0000,9, -999.00,9,-999.000,  -999.0,9,  -999.0,    18.8,-999.0000,-999.000,    13.0714,-999.000
   06MT18_1,       A01E,     591,          1,         21,        B35,2,19910913,       0505,    54.6100,   -26.1183,       3420,    29.1,  13.0539,  34.7178,2,  34.7320,2,   263.2,2,    0.59,2,    0.59,2,    0.05,2,    0.21,2,   3.142,2,   1.573,2,  -999.0,9,  2368.0,2,-999.000,9,-999.0000,9, -999.00,9,-999.000,  -999.0,9,  -999.0,    30.3,-999.0000,-999.000,    13.0499,-999.000
   06MT18_1,       A01E,     591,          1,         20,        B48,2,19910913,       0505,    54.6100,   -26.1183,       3420,    59.4,  10.4335,  34.9347,2,  34.9830,2,   243.3,2,    3.03,2,    8.40,2,    0.21,2,    0.70,2,   3.356,2,   1.638,2,  -999.0,9,  2381.0,2,-999.000,9,-999.0000,9, -999.00,9,-999.000,  -999.0,9,  -999.0,    60.9,-999.0000,-999.000,    10.4265,-999.000
   06MT18_1,       A01E,     591,          1,         19,        B36,2,19910913,       0505,    54.6100,   -26.1183,       3420,   118.5,   8.9050,  35.1609,2,  35.1620,2,   258.7,2,    6.15,2,   13.58,2,    0.02,2,    0.94,2,   3.399,2,   1.646,2,  -999.0,9,  2386.0,2,   2.130,2,   1.7642,2,   -0.80,2,-999.000,  -999.0,9,  -999.0,   120.6,   0.0071,   0.140,     8.8922,   0.025
   06MT18_1,       A01E,     591,          1,         18,        B40,2,19910913,       0505,    54.6100,   -26.1183,       3420,   391.2,   6.0088,  34.8849,2,  34.8890,2,   245.7,2,   10.06,2,   17.49,2,    0.00,2,    1.21,2,   2.904,2,   1.389,2,  -999.0,9,  2370.0,2,   1.932,2,   1.8155,2,    2.41,2,   6.062,  -999.0,9,  -999.0,   395.3,   0.0073,   0.160,     5.9746,   0.027
   06MT18_1,       A01E,     591,          1,         17,        K17,2,19910913,       0505,    54.6100,   -26.1183,       3420,   495.2,   5.1596,  34.8778,2,  34.8870,2,   245.9,2,   10.06,2,   17.49,2,    0.01,2,    1.21,2,-999.000,9,-999.000,9,  -999.0,9,  2365.0,2,   1.874,2,   1.8044,2,    2.58,2,-999.000,  -999.0,9,  -999.0,   499.9,   0.0072,   0.140,     5.1192,   0.028
   06MT18_1,       A01E,     591,          1,         16,         K7,2,19910913,       0505,    54.6100,   -26.1183,       3420,   595.7,   4.9917,  34.9314,2,  34.9320,2,   245.5,2,   10.94,2,   18.37,2,    0.00,2,    1.26,2,-999.000,9,-999.000,9,  -999.0,9,  -999.0,9,-999.000,9,-999.0000,9, -999.00,9,-999.000,  -999.0,9,  -999.0,   600.8,-999.0000,-999.000,     4.9434,-999.000
   06MT18_1,       A01E,     591,          1,         15,        B39,2,19910913,       0505,    54.6100,   -26.1183,       3420,   777.2,   4.3153,  34.9261,2,  34.9270,2,   258.7,2,   11.04,2,   18.07,2,    0.00,2,    1.24,2,   2.910,2,   1.397,2,  -999.0,9,  -999.0,9,   1.733,2,   1.8048,2,    5.34,2,-999.000,   -17.0,3,     6.0,   782.9,   0.0072,   0.120,     4.2554,   0.021
   06MT18_1,       A01E,     591,          1,         14,        B42,2,19910913,       0505,    54.6100,   -26.1183,       3420,   978.9,   3.9047,  34.9108,2,  34.9130,2,   269.7,2,   10.94,2,   17.68,2,    0.00,2,    1.22,2,-999.000,9,-999.000,9,  -999.0,9,  2360.0,2,-999.000,9,-999.0000,9, -999.00,9,-999.000,  -999.0,9,  -999.0,   984.8,-999.0000,-999.000,     3.8308,-999.000
   06MT18_1,       A01E,     591,          1,         13,         K9,2,19910913,       0505,    54.6100,   -26.1183,       3420,  1188.3,   3.6149,  34.8911,2,  34.8900,2,   278.5,2,   10.65,2,   17.19,2,    0.00,2,    1.19,2,   2.242,2,   1.042,2,  -999.0,9,  -999.0,9,-999.000,9,-999.0000,9, -999.00,9,-999.000,  -999.0,9,  -999.0,  1194.2,-999.0000,-999.000,     3.5261,-999.000
   06MT18_1,       A01E,     591,          1,         12,        B50,2,19910913,       0505,    54.6100,   -26.1183,       3420,  1388.9,   3.4740,  34.8856,2,  34.8850,2,   282.1,2,   10.65,2,   17.00,2,    0.00,2,    1.18,2,   2.090,2,   0.979,2,  -999.0,9,  -999.0,9,   1.714,2,   1.8054,2,    6.72,2,-999.000,  -999.0,9,  -999.0,  1394.4,   0.0072,   0.150,     3.3696,   0.025
   06MT18_1,       A01E,     591,          1,         11,        B44,2,19910913,       0505,    54.6100,   -26.1183,       3420,  1594.9,   3.4321,  34.8930,2,  34.8930,2,   281.9,2,   10.84,2,   17.00,2,    0.00,2,    1.18,2,-999.000,9,-999.000,9,  -999.0,9,  2362.0,2,-999.000,9,-999.0000,9, -999.00,9,-999.000,  -999.0,9,  -999.0,  1599.9,-999.0000,-999.000,     3.3102,-999.000
   06MT18_1,       A01E,     591,          1,         10,        K19,2,19910913,       0505,    54.6100,   -26.1183,       3420,  1795.4,   3.4121,  34.9052,2,  34.9050,2,   280.0,2,   11.33,2,   17.00,2,    0.00,2,    1.19,2,   1.524,2,   0.718,2,  -999.0,9,  -999.0,9,-999.000,9,-999.0000,9, -999.00,9,-999.000,  -999.0,9,  -999.0,  1799.6,-999.0000,-999.000,     3.2724,-999.000
   06MT18_1,       A01E,     591,          1,          9,        B45,2,19910913,       0505,    54.6100,   -26.1183,       3420,  1978.1,   3.4101,  34.9201,2,  34.9220,2,   276.6,2,   12.02,2,   17.00,2,    0.00,2,    1.18,2,   1.200,2,   0.573,2,  -999.0,9,  2365.0,2,   1.156,2,   1.8120,2,    7.87,2,-999.000,   -44.0,2,     6.0,  1981.5,   0.0072,   0.150,     3.2535,   0.031
   06MT18_1,       A01E,     591,          1,          8,        K22,2,19910913,       0505,    54.6100,   -26.1183,       3420,  2181.4,   3.3361,  34.9309,2,  34.9330,2,   275.0,2,   12.60,2,   16.90,2,    0.01,2,    1.18,2,-999.000,9,-999.000,9,  -999.0,9,  -999.0,9,-999.000,9,-999.0000,9, -999.00,9,-999.000,  -999.0,9,  -999.0,  2183.8,-999.0000,-999.000,     3.1614,-999.000
   06MT18_1,       A01E,     591,          1,          7,        B52,2,19910913,       0505,    54.6100,   -26.1183,       3420,  2387.1,   3.2422,  34.9416,2,  34.9430,2,   273.4,2,   13.68,2,   16.90,2,    0.00,2,    1.18,2,   0.861,2,   0.421,2,  -999.0,9,  -999.0,9,   1.025,2,   1.8348,2,    6.83,2,-999.000,  -999.0,9,  -999.0,  2388.4,   0.0073,   0.150,     3.0490,   0.017
   06MT18_1,       A01E,     591,          1,          6,        B51,2,19910913,       0505,    54.6100,   -26.1183,       3420,  2590.3,   3.1183,  34.9485,2,  34.9440,2,   273.5,2,   13.68,2,   16.90,2,    0.00,2,    1.18,2,   0.888,2,   0.421,2,  -999.0,9,  2386.0,2,-999.000,9,-999.0000,9, -999.00,9,-999.000,  -999.0,9,  -999.0,  2590.4,-999.0000,-999.000,     2.9072,-999.000
   06MT18_1,       A01E,     591,          1,          5,        B49,2,19910913,       0505,    54.6100,   -26.1183,       3420,  2793.4,   2.9724,  34.9582,2,  34.9580,2,   269.9,2,   16.90,2,   17.19,2,    0.00,2,    1.19,2,   0.919,2,   0.439,2,  -999.0,9,  -999.0,9,-999.000,5,   1.8346,2,    6.24,2,-999.000,   -49.0,2,     6.0,  2792.4,   0.0073,   0.150,     2.7435,-999.000
   06MT18_1,       A01E,     591,          1,          4,        B37,2,19910913,       0505,    54.6100,   -26.1183,       3420,  2997.5,   2.8575,  34.9552,2,  34.9560,2,   266.4,2,   20.51,2,   17.68,2,    0.00,2,    1.23,2,-999.000,9,-999.000,9,  -999.0,9,  2400.0,2,-999.000,9,-999.0000,9, -999.00,9,-999.000,  -999.0,9,  -999.0,  2995.4,-999.0000,-999.000,     2.6100,-999.000
   06MT18_1,       A01E,     591,          1,          3,        K30,4,19910913,       0505,    54.6100,   -26.1183,       3420,  2997.5,-999.0000,-999.0000,9,  34.9580,3,   266.2,2,   20.71,3,   17.68,2,    0.00,2,    1.24,2,   0.862,2,   0.407,2,  -999.0,9,  -999.0,9,   0.907,2,   1.8348,2,    5.82,2,-999.000,   -60.0,2,     5.0,  2995.4,   0.0073,   0.130,     -999.0,   0.017
   06MT18_1,       A01E,     591,          1,          2,        B46,2,19910913,       0505,    54.6100,   -26.1183,       3420,  3404.7,   2.7826,  34.9571,2,  34.9600,2,   266.4,2,   21.10,2,   17.58,2,    0.00,2,    1.23,2,   1.130,2,   0.536,2,  -999.0,9,  2402.0,2,   1.076,2,   1.8289,2,    5.40,2,   2.783,  -999.0,9,  -999.0,  3400.8,   0.0073,   0.170,     2.4934,   0.016
   06MT18_1,       A01E,     591,          1,          1,        K31,2,19910913,       0505,    54.6100,   -26.1183,       3420,  3448.1,   2.7856,  34.9589,2,  34.9630,2,   267.7,2,   20.32,2,   17.29,2,    0.00,2,    1.21,2,   1.227,2,   0.577,2,  -999.0,9,  -999.0,9,   1.081,2,   1.8396,2,    5.64,2,-999.000,  -999.0,9,  -999.0,  3444.0,   0.0074,   0.130,     2.4915,   0.026