BOTTLE,20020919WHPSIOSA
EXPOCODE,SECT_ID,STNNBR,CASTNO,SAMPNO,BTLNBR,BTLNBR_FLAG_W,DATE,TIME,LATITUDE,LONGITUDE,DEPTH,CTDPRS,CTDTMP,CTDSAL,CTDSAL_FLAG_W,SALNTY,SALNTY_FLAG_W,OXYGEN,OXYGEN_FLAG_W,SILCAT,SILCAT_FLAG_W,NITRAT,NITRAT_FLAG_W,NITRIT,NITRIT_FLAG_W,PHSPHT,PHSPHT_FLAG_W,CFC-11,CFC-11_FLAG_W,CFC-12,CFC-12_FLAG_W,TCARBN,TCARBN_FLAG_W,ALKALI,ALKALI_FLAG_W,TRITUM,TRITUM_FLAG_W,HELIUM,HELIUM_FLAG_W,DELHE3,DELHE3_FLAG_W,REVTMP,DELC14,DELC14_FLAG_W,C14ERR,CTDRAW,HELIER,DELHER,THETA,TRITER
,,,,,,,,,,,METERS,DBAR,ITS-90,PSS-78,,PSS-78,,UMOL/KG,,UMOL/KG,,UMOL/KG,,UMOL/KG,,UMOL/KG,,PMOL/KG,,PMOL/KG,,UMOL/KG,,UMOL/KG,,TU,,NMOL/KG,,PERCNT,,ITS-90,/MILLE,,/MILLE,DBAR,NMOL/KG,PERCNT,DEG,TU
   06MT18_1,       A01E,     618,          2,          1,        K31,2,19910920,       1657,    52.3350,   -15.5000,       2834,  1849.5,   3.5020,  34.9023,2,  34.9050,2,   277.8,2,   11.63,2,   17.00,2,    0.00,2,    1.16,2,   1.498,2,   0.709,2,  -999.0,9,  -999.0,9,-999.000,9,-999.0000,9, -999.00,9,-999.000,  -999.0,9,  -999.0,  1853.5,-999.0000,-999.000,     3.3561,-999.000
   06MT18_1,       A01E,     618,          2,          7,        B52,2,19910920,       1657,    52.3350,   -15.5000,       2834,  1849.8,   3.4960,  34.9014,2,  34.9040,2,   277.0,3,   11.53,2,   17.00,2,    0.00,2,    1.16,2,   1.511,2,   0.718,2,  -999.0,9,  -999.0,9,-999.000,9,-999.0000,9, -999.00,9,-999.000,  -999.0,9,  -999.0,  1853.8,-999.0000,-999.000,     3.3502,-999.000
   06MT18_1,       A01E,     618,          2,          5,        B49,2,19910920,       1657,    52.3350,   -15.5000,       2834,  1849.9,   3.4970,  34.9015,2,  34.9040,2,   278.6,3,   11.43,2,   16.90,2,    0.00,2,    1.16,2,   1.515,2,   0.717,2,  -999.0,9,  -999.0,9,-999.000,9,-999.0000,9, -999.00,9,-999.000,  -999.0,9,  -999.0,  1853.9,-999.0000,-999.000,     3.3512,-999.000
   06MT18_1,       A01E,     618,          2,         14,        B42,2,19910920,       1657,    52.3350,   -15.5000,       2834,  1850.0,   3.4970,  34.9014,2,  34.9040,2,   277.5,2,   11.53,2,   17.00,2,    0.00,2,    1.16,2,-999.000,9,-999.000,9,  -999.0,9,  -999.0,9,-999.000,9,-999.0000,9, -999.00,9,   3.498,  -999.0,9,  -999.0,  1854.0,-999.0000,-999.000,     3.3512,-999.000
   06MT18_1,       A01E,     618,          2,          4,        B43,2,19910920,       1657,    52.3350,   -15.5000,       2834,  1850.2,   3.4980,  34.9027,2,  34.9040,2,   277.8,2,   11.43,2,   17.10,2,    0.00,2,    1.16,2,-999.000,9,-999.000,9,  -999.0,9,  -999.0,9,-999.000,9,-999.0000,9, -999.00,9,   3.498,  -999.0,9,  -999.0,  1854.2,-999.0000,-999.000,     3.3521,-999.000
   06MT18_1,       A01E,     618,          2,         11,        B44,2,19910920,       1657,    52.3350,   -15.5000,       2834,  1850.2,   3.4970,  34.9025,2,  34.9030,2,   278.3,2,   11.43,2,   17.00,2,    0.00,2,    1.16,2,   1.520,2,   0.720,2,  -999.0,9,  -999.0,9,-999.000,9,-999.0000,9, -999.00,9,-999.000,  -999.0,9,  -999.0,  1854.2,-999.0000,-999.000,     3.3512,-999.000
   06MT18_1,       A01E,     618,          2,          3,        K30,3,19910920,       1657,    52.3350,   -15.5000,       2834,  1850.3,   3.4990,  34.9016,2,  34.9030,2,   277.7,2,   11.33,3,   17.00,2,    0.00,2,    1.16,2,   1.505,2,   0.717,2,  -999.0,9,  -999.0,9,-999.000,9,-999.0000,9, -999.00,9,-999.000,  -999.0,9,  -999.0,  1854.3,-999.0000,-999.000,     3.3531,-999.000
   06MT18_1,       A01E,     618,          2,         20,        K15,2,19910920,       1657,    52.3350,   -15.5000,       2834,  1850.4,   3.4960,  34.9023,2,  34.9040,2,   277.5,2,   11.53,2,   16.90,2,    0.00,2,    1.16,2,-999.000,9,-999.000,9,  -999.0,9,  -999.0,9,-999.000,9,-999.0000,9, -999.00,9,-999.000,  -999.0,9,  -999.0,  1854.4,-999.0000,-999.000,     3.3502,-999.000
   06MT18_1,       A01E,     618,          2,         22,        B38,2,19910920,       1657,    52.3350,   -15.5000,       2834,  1850.4,   3.4970,  34.9013,2,  34.9040,2,   278.0,2,   11.53,2,   17.10,2,    0.00,2,    1.17,2,-999.000,9,-999.000,9,  -999.0,9,  -999.0,9,-999.000,9,-999.0000,9, -999.00,9,-999.000,  -999.0,9,  -999.0,  1854.4,-999.0000,-999.000,     3.3511,-999.000
   06MT18_1,       A01E,     618,          2,         19,        B33,2,19910920,       1657,    52.3350,   -15.5000,       2834,  1850.5,   3.4960,  34.9011,2,  34.9040,2,   277.9,2,   11.43,2,   17.00,2,    0.00,2,    1.16,2,   1.515,2,   0.711,2,  -999.0,9,  -999.0,9,-999.000,9,-999.0000,9, -999.00,9,-999.000,  -999.0,9,  -999.0,  1854.5,-999.0000,-999.000,     3.3501,-999.000
   06MT18_1,       A01E,     618,          2,          9,        B45,2,19910920,       1657,    52.3350,   -15.5000,       2834,  1850.7,   3.4960,  34.9022,2,  34.9040,2,   277.8,2,   11.43,2,   17.00,2,    0.00,2,    1.16,2,   1.511,2,   0.714,2,  -999.0,9,  -999.0,9,-999.000,9,-999.0000,9, -999.00,9,-999.000,  -999.0,9,  -999.0,  1854.7,-999.0000,-999.000,     3.3501,-999.000
   06MT18_1,       A01E,     618,          2,         17,        B43,2,19910920,       1657,    52.3350,   -15.5000,       2834,  1850.7,   3.4950,  34.9008,2,  34.9040,2,   278.0,2,   11.43,2,   16.90,2,    0.00,2,    1.16,2,   1.541,3,   0.727,2,  -999.0,9,  -999.0,9,-999.000,9,-999.0000,9, -999.00,9,-999.000,  -999.0,9,  -999.0,  1854.7,-999.0000,-999.000,     3.3491,-999.000
   06MT18_1,       A01E,     618,          2,         24,        B41,2,19910920,       1657,    52.3350,   -15.5000,       2834,  1850.7,   3.4960,  34.9022,2,  34.9040,2,   277.6,2,   11.53,2,   17.10,2,    0.00,2,    1.16,2,-999.000,9,-999.000,9,  -999.0,9,  -999.0,9,-999.000,9,-999.0000,9, -999.00,9,-999.000,  -999.0,9,  -999.0,  1854.7,-999.0000,-999.000,     3.3501,-999.000
   06MT18_1,       A01E,     618,          2,          8,         K7,2,19910920,       1657,    52.3350,   -15.5000,       2834,  1850.8,   3.4950,  34.9020,2,  34.9050,2,   278.1,2,   11.53,2,   17.00,2,    0.00,2,    1.16,2,-999.000,9,-999.000,9,  -999.0,9,  -999.0,9,-999.000,9,-999.0000,9, -999.00,9,   3.494,  -999.0,9,  -999.0,  1854.8,-999.0000,-999.000,     3.3491,-999.000
   06MT18_1,       A01E,     618,          2,         12,        B50,2,19910920,       1657,    52.3350,   -15.5000,       2834,  1850.8,   3.4970,  34.9022,2,  34.9030,2,   277.6,2,   11.53,2,   17.00,2,    0.00,2,    1.16,2,-999.000,9,-999.000,9,  -999.0,9,  -999.0,9,-999.000,9,-999.0000,9, -999.00,9,   3.497,  -999.0,9,  -999.0,  1854.8,-999.0000,-999.000,     3.3511,-999.000
   06MT18_1,       A01E,     618,          2,         13,         K9,2,19910920,       1657,    52.3350,   -15.5000,       2834,  1851.1,   3.4970,  34.9021,2,  34.9030,2,   278.5,2,   11.63,2,   17.10,2,    0.00,2,    1.16,2,   1.534,3,   0.721,2,  -999.0,9,  -999.0,9,-999.000,9,-999.0000,9, -999.00,9,-999.000,  -999.0,9,  -999.0,  1855.1,-999.0000,-999.000,     3.3511,-999.000
   06MT18_1,       A01E,     618,          2,         16,        B53,2,19910920,       1657,    52.3350,   -15.5000,       2834,  1851.3,   3.4950,  34.9017,2,  34.9030,2,   278.3,2,   11.53,2,   17.00,2,    0.00,2,    1.16,2,-999.000,9,-999.000,9,  -999.0,9,  -999.0,9,-999.000,9,-999.0000,9, -999.00,9,   3.498,  -999.0,9,  -999.0,  1855.3,-999.0000,-999.000,     3.3491,-999.000
   06MT18_1,       A01E,     618,          2,         18,        K10,2,19910920,       1657,    52.3350,   -15.5000,       2834,  1851.4,   3.4940,  34.9016,2,-999.0000,9,   278.2,2,   11.53,2,   17.00,2,    0.00,2,    1.16,2,-999.000,9,-999.000,9,  -999.0,9,  -999.0,9,-999.000,9,-999.0000,9, -999.00,9,-999.000,  -999.0,9,  -999.0,  1855.4,-999.0000,-999.000,     3.3481,-999.000
   06MT18_1,       A01E,     618,          2,         23,        K23,2,19910920,       1657,    52.3350,   -15.5000,       2834,  1851.4,   3.4960,  34.9018,2,  34.9050,2,   277.6,2,   11.43,2,   17.10,2,    0.00,2,    1.16,2,   1.509,2,   0.711,2,  -999.0,9,  -999.0,9,-999.000,9,-999.0000,9, -999.00,9,-999.000,  -999.0,9,  -999.0,  1855.4,-999.0000,-999.000,     3.3501,-999.000
   06MT18_1,       A01E,     618,          2,          6,        B51,2,19910920,       1657,    52.3350,   -15.5000,       2834,  1851.5,   3.4960,  34.9018,2,  34.9040,2,   278.7,2,   11.43,2,   17.00,2,    0.00,2,    1.16,2,-999.000,9,-999.000,9,  -999.0,9,  -999.0,9,-999.000,9,-999.0000,9, -999.00,9,   3.496,  -999.0,9,  -999.0,  1855.5,-999.0000,-999.000,     3.3500,-999.000
   06MT18_1,       A01E,     618,          2,         10,        K19,2,19910920,       1657,    52.3350,   -15.5000,       2834,  1851.5,   3.4970,  34.9019,2,  34.9040,2,   278.0,2,   11.43,2,   17.00,2,    0.00,2,    1.16,2,-999.000,9,-999.000,9,  -999.0,9,  -999.0,9,-999.000,9,-999.0000,9, -999.00,9,   3.498,  -999.0,9,  -999.0,  1855.5,-999.0000,-999.000,     3.3510,-999.000
   06MT18_1,       A01E,     618,          2,          2,        B46,2,19910920,       1657,    52.3350,   -15.5000,       2834,  1851.6,   3.5000,  34.9022,2,  34.9050,2,   277.5,2,   11.63,2,   17.00,2,    0.00,2,    1.17,2,-999.000,9,-999.000,9,  -999.0,9,  -999.0,9,-999.000,9,-999.0000,9, -999.00,9,   3.501,  -999.0,9,  -999.0,  1855.6,-999.0000,-999.000,     3.3540,-999.000
   06MT18_1,       A01E,     618,          2,         21,         K2,2,19910920,       1657,    52.3350,   -15.5000,       2834,  1852.3,   3.4960,  34.9026,2,  34.9040,2,   277.7,2,   11.43,2,   17.00,2,    0.00,2,    1.17,2,   1.508,2,   0.711,2,  -999.0,9,  -999.0,9,-999.000,9,-999.0000,9, -999.00,9,-999.000,  -999.0,9,  -999.0,  1856.3,-999.0000,-999.000,     3.3500,-999.000
   06MT18_1,       A01E,     619,          1,         24,        B41,2,19910920,       2251,    52.3317,   -15.2183,       1262,    21.9,  16.0690,  35.4212,2,  35.4300,2,   244.0,2,    0.68,2,    0.10,2,    0.05,2,    0.13,2,   2.787,2,   1.419,3,  2046.1,2,  -999.0,9,   2.272,2,   1.7425,2,   -1.78,2,-999.000,  -999.0,9,  -999.0,    23.0,   0.0070,   0.150,    16.0655,   0.030
   06MT18_1,       A01E,     619,          1,         22,        B38,2,19910920,       2251,    52.3317,   -15.2183,       1262,    32.8,  16.0480,  35.4151,2,  35.4290,2,   243.7,2,    0.59,2,    0.10,2,    0.05,2,    0.11,2,   2.794,2,   1.403,3,  2046.5,2,  -999.0,9,   2.242,2,   1.7307,2,   -1.47,2,-999.000,  -999.0,9,  -999.0,    34.1,   0.0069,   0.160,    16.0428,   0.027
   06MT18_1,       A01E,     619,          1,         20,        K15,2,19910920,       2251,    52.3317,   -15.2183,       1262,    62.7,  13.1897,  35.5345,2,  35.5420,2,   231.7,2,    1.86,2,    7.23,2,    0.31,2,    0.53,2,   3.131,2,   1.534,3,  2103.4,2,  -999.0,9,   2.104,2,   1.7515,2,   -1.16,2,-999.000,  -999.0,9,  -999.0,    64.2,   0.0070,   0.200,    13.1810,   0.027
   06MT18_1,       A01E,     619,          1,         18,        K10,2,19910920,       2251,    52.3317,   -15.2183,       1262,   103.6,  11.5683,  35.5793,2,  35.5880,2,   240.4,2,    4.30,2,   10.84,2,    0.01,2,    0.70,2,   3.123,2,   1.499,3,  2123.5,2,  -999.0,9,-999.000,5,   1.7573,2,   -9.00,2,-999.000,  -999.0,9,  -999.0,   105.5,   0.0070,-999.000,    11.5551,-999.000
   06MT18_1,       A01E,     619,          1,         16,        B53,2,19910920,       2251,    52.3317,   -15.2183,       1262,   154.1,  11.1658,  35.5269,2,  35.5360,2,   243.7,2,    4.59,2,   11.13,2,    0.01,2,    0.72,2,   3.120,2,   1.494,3,  2123.3,2,  -999.0,9,   2.136,2,   1.7574,2,   -0.31,2,-999.000,  -999.0,9,  -999.0,   156.5,   0.0070,   0.200,    11.1465,   0.029
   06MT18_1,       A01E,     619,          1,         14,        B42,2,19910920,       2251,    52.3317,   -15.2183,       1262,   203.7,  10.8731,  35.4857,2,  35.4920,2,   246.3,2,    4.98,2,   11.33,2,    0.01,2,    0.74,2,   3.153,2,   1.497,3,  2125.4,2,  -999.0,9,   2.205,2,   1.8872,4,   -0.19,2,-999.000,  -999.0,9,  -999.0,   206.5,   0.0075,   0.170,    10.8480,   0.029
   06MT18_1,       A01E,     619,          1,         12,        B50,2,19910920,       2251,    52.3317,   -15.2183,       1262,   404.2,   9.9380,  35.3408,2,  35.3470,2,   245.4,2,    6.25,2,   12.89,2,    0.01,2,    0.85,2,   3.054,2,   1.464,3,  2130.1,2,  -999.0,9,   2.165,2,   1.7713,2,    0.57,2,   9.944,  -999.0,9,  -999.0,   408.4,   0.0071,   0.180,     9.8906,   0.028
   06MT18_1,       A01E,     619,          1,         10,        K19,2,19910920,       2251,    52.3317,   -15.2183,       1262,   603.8,   8.9909,  35.2281,2,  35.2320,2,   242.8,2,    7.72,2,   14.55,2,    0.01,2,    0.96,2,   2.996,2,   1.483,2,  2140.8,2,  -999.0,9,   2.048,2,   1.7710,2,    1.22,2,   9.987,  -999.0,9,  -999.0,   609.0,   0.0071,   0.180,     8.9236,   0.028
   06MT18_1,       A01E,     619,          1,          8,         K7,4,19910920,       2251,    52.3317,   -15.2183,       1262,   796.7,-999.0000,-999.0000,9,  35.2540,2,   209.4,2,   10.84,2,   17.87,2,    0.01,2,    1.16,2,   1.789,2,   0.851,2,  2165.4,2,  -999.0,9,-999.000,9,-999.0000,9, -999.00,9,   8.042,  -999.0,9,  -999.0,   802.4,-999.0000,-999.000,     -999.0,-999.000
   06MT18_1,       A01E,     619,          1,          7,        B52,2,19910920,       2251,    52.3317,   -15.2183,       1262,   796.7,   8.0669,  35.2553,2,-999.0000,9,  -999.0,9, -999.00,9, -999.00,9, -999.00,9, -999.00,9,-999.000,9,-999.000,9,  -999.0,9,  -999.0,9,-999.000,9,-999.0000,9, -999.00,9,-999.000,  -999.0,9,  -999.0,   802.4,-999.0000,-999.000,     7.9825,-999.000
   06MT18_1,       A01E,     619,          1,          6,        B51,4,19910920,       2251,    52.3317,   -15.2183,       1262,   796.7,-999.0000,-999.0000,9,  35.2570,2,   209.0,2,   10.84,2,   17.87,2,    0.00,3,    1.16,2,   1.757,2,   0.849,2,  -999.0,9,  -999.0,9,   1.705,2,   1.7809,2,    6.89,2,   8.061,  -999.0,9,  -999.0,   802.4,   0.0071,   0.160,     -999.0,   0.017
   06MT18_1,       A01E,     619,          1,          4,        B43,2,19910920,       2251,    52.3317,   -15.2183,       1262,  1206.9,   5.4763,  35.0742,2,  35.0800,2,   236.0,2,   12.01,2,   18.36,2,    0.01,2,    1.20,2,   1.642,2,   0.784,2,  2168.2,2,  -999.0,9,   1.620,2,   1.8123,2,    7.86,2,   5.482,  -999.0,9,  -999.0,  1212.8,   0.0072,   0.220,     5.3685,   0.024
   06MT18_1,       A01E,     619,          1,          2,        B46,2,19910920,       2251,    52.3317,   -15.2183,       1262,  1252.5,   5.0467,  35.0195,2,  35.0250,2,   243.2,2,   12.01,2,   18.27,2,    0.01,2,    1.20,2,   1.735,2,   0.814,2,  2163.0,2,  -999.0,9,   1.622,2,   1.7974,2,    7.90,2,   5.047,  -999.0,9,  -999.0,  1258.3,   0.0072,   0.180,     4.9386,   0.023
   06MT18_1,       A01E,     620,          1,         12,        B50,2,19910921,       0220,    52.3333,   -14.9317,        839,    31.2,  15.9351,  35.4202,2,  35.4270,2,   244.3,2,    0.59,2,    0.20,2,    0.05,2,    0.11,2,   2.786,2,   1.432,2,  2047.6,2,  -999.0,9,-999.000,9,-999.0000,9, -999.00,9,-999.000,  -999.0,9,  -999.0,    32.4,-999.0000,-999.000,    15.9302,-999.000
   06MT18_1,       A01E,     620,          1,         11,        B44,2,19910921,       0220,    52.3333,   -14.9317,        839,    61.0,  12.4175,  35.5514,2,  35.5720,2,   236.0,2,    3.03,2,    9.37,2,    0.05,2,    0.62,2,   3.109,2,   1.556,2,  2114.5,2,  -999.0,9,-999.000,9,-999.0000,9, -999.00,9,-999.000,  -999.0,9,  -999.0,    62.5,-999.0000,-999.000,    12.4094,-999.000
   06MT18_1,       A01E,     620,          1,         10,        K19,2,19910921,       0220,    52.3333,   -14.9317,        839,    84.3,  11.6483,  35.5871,2,  35.5940,2,   240.0,2,    4.00,2,   10.64,2,    0.03,2,    0.68,2,   3.115,2,   1.561,2,  2124.6,2,  -999.0,9,-999.000,9,-999.0000,9, -999.00,9,  11.651,  -999.0,9,  -999.0,    86.1,-999.0000,-999.000,    11.6375,-999.000
   06MT18_1,       A01E,     620,          1,          9,        B45,2,19910921,       0220,    52.3333,   -14.9317,        839,   151.3,  11.1108,  35.5273,2,  35.5350,2,   244.2,2,    4.39,2,   11.03,2,    0.01,2,    0.71,2,   3.103,2,   1.555,2,  2122.8,2,  -999.0,9,-999.000,9,-999.0000,9, -999.00,9,-999.000,  -999.0,9,  -999.0,   153.7,-999.0000,-999.000,    11.0919,-999.000
   06MT18_1,       A01E,     620,          1,          8,         K7,2,19910921,       0220,    52.3333,   -14.9317,        839,   250.1,  10.5504,  35.4405,2,  35.4470,2,   244.5,2,    5.18,2,   11.91,2,    0.01,2,    0.77,2,   3.118,2,   1.544,2,  2127.7,2,  -999.0,9,-999.000,9,-999.0000,9, -999.00,9,  10.552,  -999.0,9,  -999.0,   253.3,-999.0000,-999.000,    10.5201,-999.000
   06MT18_1,       A01E,     620,          1,          7,        B52,2,19910921,       0220,    52.3333,   -14.9317,        839,   350.7,  10.4225,  35.4535,2,  35.4590,2,   249.3,2,    5.08,2,   11.62,2,    0.00,2,    0.76,2,   3.186,2,   1.578,2,  2127.5,2,  -999.0,9,-999.000,9,-999.0000,9, -999.00,9,-999.000,  -999.0,9,  -999.0,   354.6,-999.0000,-999.000,    10.3802,-999.000
   06MT18_1,       A01E,     620,          1,          6,        B51,2,19910921,       0220,    52.3333,   -14.9317,        839,   450.9,  10.2377,  35.4410,2,  35.4470,2,   247.6,2,    5.27,2,   12.01,2,    0.01,2,    0.79,2,   3.118,2,   1.555,2,  2130.5,2,  -999.0,9,-999.000,9,-999.0000,9, -999.00,9,  10.238,  -999.0,9,  -999.0,   455.4,-999.0000,-999.000,    10.1836,-999.000
   06MT18_1,       A01E,     620,          1,          5,        B49,2,19910921,       0220,    52.3333,   -14.9317,        839,   550.2,  10.0908,  35.4450,2,  35.4500,2,   249.3,2,    5.18,2,   11.91,2,    0.02,2,    0.78,2,   3.182,2,   1.573,2,  2132.7,2,  -999.0,9,-999.000,9,-999.0000,9, -999.00,9,-999.000,  -999.0,9,  -999.0,   555.1,-999.0000,-999.000,    10.0251,-999.000
   06MT18_1,       A01E,     620,          1,          4,        B43,2,19910921,       0220,    52.3333,   -14.9317,        839,   645.5,   9.8441,  35.4277,2,  35.4330,2,   240.7,2,    6.45,2,   12.79,2,    0.01,2,    0.85,2,   2.917,2,   1.447,2,  2137.6,2,  -999.0,9,-999.000,9,-999.0000,9, -999.00,9,   9.851,  -999.0,9,  -999.0,   650.8,-999.0000,-999.000,     9.7678,-999.000
   06MT18_1,       A01E,     620,          1,          3,        K30,2,19910921,       0220,    52.3333,   -14.9317,        839,   749.0,   9.5394,  35.3870,2,  35.3920,2,   233.1,2,    7.42,2,   13.97,2,    0.02,2,    0.92,2,   2.685,2,   1.334,2,  2143.6,2,  -999.0,9,-999.000,9,-999.0000,9, -999.00,9,-999.000,  -999.0,9,  -999.0,   754.6,-999.0000,-999.000,     9.4521,-999.000
   06MT18_1,       A01E,     620,          1,          2,        B46,2,19910921,       0220,    52.3333,   -14.9317,        839,   799.5,   9.2956,  35.3681,2,  35.3730,2,   227.5,2,    8.01,2,   14.75,2,    0.02,2,    0.98,2,   2.499,2,   1.242,2,  2148.3,2,  -999.0,9,-999.000,9,-999.0000,9, -999.00,9,   9.303,  -999.0,9,  -999.0,   805.2,-999.0000,-999.000,     9.2036,-999.000
   06MT18_1,       A01E,     620,          1,          1,        K31,2,19910921,       0220,    52.3333,   -14.9317,        839,   831.6,   9.0359,  35.3478,2,  35.3520,2,   220.3,2,    8.89,2,   15.72,2,    0.02,2,    1.03,2,   2.212,2,   1.091,2,  2155.5,2,  -999.0,9,-999.000,9,-999.0000,9, -999.00,9,-999.000,  -999.0,9,  -999.0,   837.4,-999.0000,-999.000,     8.9416,-999.000