BOTTLE,20020919WHPSIOSA
EXPOCODE,SECT_ID,STNNBR,CASTNO,SAMPNO,BTLNBR,BTLNBR_FLAG_W,DATE,TIME,LATITUDE,LONGITUDE,DEPTH,CTDPRS,CTDTMP,CTDSAL,CTDSAL_FLAG_W,SALNTY,SALNTY_FLAG_W,OXYGEN,OXYGEN_FLAG_W,SILCAT,SILCAT_FLAG_W,NITRAT,NITRAT_FLAG_W,NITRIT,NITRIT_FLAG_W,PHSPHT,PHSPHT_FLAG_W,CFC-11,CFC-11_FLAG_W,CFC-12,CFC-12_FLAG_W,TCARBN,TCARBN_FLAG_W,ALKALI,ALKALI_FLAG_W,TRITUM,TRITUM_FLAG_W,HELIUM,HELIUM_FLAG_W,DELHE3,DELHE3_FLAG_W,REVTMP,DELC14,DELC14_FLAG_W,C14ERR,CTDRAW,HELIER,DELHER,THETA,TRITER
,,,,,,,,,,,METERS,DBAR,ITS-90,PSS-78,,PSS-78,,UMOL/KG,,UMOL/KG,,UMOL/KG,,UMOL/KG,,UMOL/KG,,PMOL/KG,,PMOL/KG,,UMOL/KG,,UMOL/KG,,TU,,NMOL/KG,,PERCNT,,ITS-90,/MILLE,,/MILLE,DBAR,NMOL/KG,PERCNT,DEG,TU
   06MT18_1,       A01E,     610,          1,         23,        K23,2,19910918,       0920,    52.3367,   -20.0000,       3308,    63.2,  12.3086,  35.6450,2,  35.6530,2,   236.4,2,    3.61,2,   10.64,2,    0.01,2,    0.69,2,   2.979,2,   1.571,2,  2188.6,2,  -999.0,9,-999.000,9,-999.0000,9, -999.00,9,-999.000,  -999.0,9,  -999.0,    64.8,-999.0000,-999.000,    12.3002,-999.000
   06MT18_1,       A01E,     610,          1,         21,         K2,2,19910918,       0920,    52.3367,   -20.0000,       3308,    64.4,  12.2766,  35.6497,2,  35.6530,2,   236.9,2,    3.81,2,   10.74,2,    0.01,2,    0.69,2,   2.961,2,   1.553,2,  2121.9,2,  -999.0,9,   1.994,2,   1.7377,2,   -0.76,2,-999.000,  -999.0,9,  -999.0,    66.0,   0.0070,   0.210,    12.2681,   0.031
   06MT18_1,       A01E,     610,          1,         20,        K15,2,19910918,       0920,    52.3367,   -20.0000,       3308,   104.4,  11.5713,  35.5790,2,  35.5820,2,   241.6,2,    4.49,2,   11.23,2,    0.01,2,    0.74,2,-999.000,9,-999.000,9,  2123.5,2,  -999.0,9,-999.000,9,-999.0000,9, -999.00,9,-999.000,  -999.0,9,  -999.0,   106.3,-999.0000,-999.000,    11.5580,-999.000
   06MT18_1,       A01E,     610,          1,         19,        B33,2,19910918,       0920,    52.3367,   -20.0000,       3308,   204.8,  10.9030,  35.4892,2,  35.4980,2,   248.4,2,    5.17,2,   11.72,2,    0.01,2,    0.77,2,   3.093,2,   1.572,2,  2124.4,2,  -999.0,9,-999.000,5,   1.7590,2,   -9.00,2,-999.000,  -999.0,9,  -999.0,   207.6,   0.0070,-999.000,    10.8777,-999.000
   06MT18_1,       A01E,     610,          1,         18,        K10,2,19910918,       0920,    52.3367,   -20.0000,       3308,   304.1,  10.4265,  35.4130,2,  35.4170,2,   247.9,3,    5.96,2,   12.69,2,    0.00,2,    0.84,2,-999.000,9,-999.000,9,  2127.8,2,  -999.0,9,-999.000,9,-999.0000,9, -999.00,9,  10.429,  -999.0,9,  -999.0,   307.7,-999.0000,-999.000,    10.3899,-999.000
   06MT18_1,       A01E,     610,          1,         17,        B34,2,19910918,       0920,    52.3367,   -20.0000,       3308,   401.3,   9.8791,  35.3383,2,  35.3420,2,   234.7,2,    7.13,2,   14.35,2,    0.00,2,    0.96,2,   2.785,2,   1.379,2,  2137.7,2,  -999.0,9,   2.075,2,-999.0000,5,   -9.00,5,-999.000,  -999.0,9,  -999.0,   405.5,-999.0000,-999.000,     9.8322,   0.057
   06MT18_1,       A01E,     610,          1,         16,        B53,2,19910918,       0920,    52.3367,   -20.0000,       3308,   504.3,   8.9849,  35.2131,2,  35.2120,2,   232.1,2,    8.40,2,   16.02,2,    0.00,2,    1.05,2,-999.000,9,-999.000,9,  2144.2,2,  -999.0,9,-999.000,9,-999.0000,9, -999.00,9,   8.980,  -999.0,9,  -999.0,   509.0,-999.0000,-999.000,     8.9290,-999.000
   06MT18_1,       A01E,     610,          1,         15,        B39,2,19910918,       0920,    52.3367,   -20.0000,       3308,   605.0,   7.9370,  35.1095,2,  35.1140,2,   223.5,2,   10.16,2,   17.77,2,    0.00,2,    1.18,2,-999.000,9,-999.000,9,  2155.4,2,  -999.0,9,-999.000,9,-999.0000,9, -999.00,9,-999.000,  -999.0,9,  -999.0,   610.2,-999.0000,-999.000,     7.8743,-999.000
   06MT18_1,       A01E,     610,          1,         14,        B42,2,19910918,       0920,    52.3367,   -20.0000,       3308,   638.8,   7.5943,  35.0850,2,  35.0860,2,   221.6,2,   10.94,2,   18.36,2,    0.00,2,    1.22,2,   2.320,2,   1.127,2,  2158.1,2,  -999.0,9,   1.759,2,-999.0000,5,   -9.00,5,   7.592,  -999.0,9,  -999.0,   644.1,-999.0000,-999.000,     7.5296,   0.041
   06MT18_1,       A01E,     610,          1,         13,         K9,2,19910918,       0920,    52.3367,   -20.0000,       3308,   685.2,   8.5644,  35.3358,2,  35.3390,2,   204.4,2,   10.45,2,   18.16,2,    0.00,2,    1.19,2,   1.613,2,   0.775,2,  2165.7,2,  -999.0,9,-999.000,9,-999.0000,9, -999.00,9,-999.000,  -999.0,9,  -999.0,   690.6,-999.0000,-999.000,     8.4897,-999.000
   06MT18_1,       A01E,     610,          1,         12,        B50,2,19910918,       0920,    52.3367,   -20.0000,       3308,   774.0,   7.0089,  35.1478,2,  35.1490,2,   215.3,2,   11.62,2,   18.95,2,    0.00,2,    1.26,2,   1.770,2,   0.852,2,  2168.4,2,  -999.0,9,   1.634,2,   1.7695,2,    7.09,2,-999.000,  -999.0,9,  -999.0,   779.7,   0.0071,   0.200,     6.9332,   0.038
   06MT18_1,       A01E,     610,          1,         11,        B44,2,19910918,       0920,    52.3367,   -20.0000,       3308,   833.6,   7.1857,  35.2513,2,  35.2510,2,   211.7,2,   11.91,2,   19.04,2,    0.00,2,    1.25,2,   1.452,2,   0.679,2,  2171.8,2,  -999.0,9,   1.558,2,   1.7801,2,    8.38,2,-999.000,  -999.0,9,  -999.0,   839.4,   0.0071,   0.170,     7.1026,   0.057
   06MT18_1,       A01E,     610,          1,          9,        B45,2,19910918,       0920,    52.3367,   -20.0000,       3308,  1209.6,   4.3163,  34.9492,2,  34.9500,2,   258.7,2,   12.01,2,   18.36,2,    0.00,2,    1.24,2,   1.885,2,   0.891,2,  2159.0,2,  -999.0,9,   1.609,2,   1.7982,2,    7.69,2,-999.000,  -999.0,9,  -999.0,  1215.5,   0.0072,   0.270,     4.2191,   0.052
   06MT18_1,       A01E,     610,          1,          8,         K7,2,19910918,       0920,    52.3367,   -20.0000,       3308,  1509.0,   3.7218,  34.8997,2,  34.9000,2,   275.1,2,   11.33,2,   17.78,2,    0.00,2,    1.21,2,   2.119,2,   0.985,2,  2152.0,2,  -999.0,9,   1.823,2,   1.7949,2,    7.61,2,   3.723,  -999.0,9,  -999.0,  1514.2,   0.0072,   0.140,     3.6041,   0.040
   06MT18_1,       A01E,     610,          1,          7,        B52,2,19910918,       0920,    52.3367,   -20.0000,       3308,  1812.1,   3.4940,  34.8875,2,  34.8880,2,   281.6,2,   11.53,2,   17.39,2,    0.00,2,    1.19,2,   1.969,2,   0.926,2,  2150.6,2,  -999.0,9,   1.752,2,   1.7940,2,    7.48,2,-999.000,  -999.0,9,  -999.0,  1816.2,   0.0072,   0.210,     3.3518,   0.039
   06MT18_1,       A01E,     610,          1,          6,        B51,2,19910918,       0920,    52.3367,   -20.0000,       3308,  2119.3,   3.4880,  34.9148,2,  34.9150,2,   277.0,2,   12.40,2,   17.39,2,    0.00,2,    1.19,2,   1.307,2,   0.609,2,  2151.1,2,  -999.0,9,   1.365,2,   1.7351,3,    7.92,2,   3.490,  -999.0,9,  -999.0,  2122.0,   0.0069,   0.170,     3.3169,   0.027
   06MT18_1,       A01E,     610,          1,          5,        B49,2,19910918,       0920,    52.3367,   -20.0000,       3308,  2424.7,   3.3941,  34.9379,2,  34.9390,2,   273.5,2,   14.26,2,   17.48,2,    0.00,2,    1.20,2,   0.838,2,   0.389,2,  2154.0,2,  -999.0,9,-999.000,9,-999.0000,9, -999.00,9,-999.000,  -999.0,9,  -999.0,  2425.8,-999.0000,-999.000,     3.1945,-999.000
   06MT18_1,       A01E,     610,          1,          4,        B43,2,19910918,       0920,    52.3367,   -20.0000,       3308,  2730.9,   3.1643,  34.9479,2,  34.9500,2,   267.4,2,   18.46,2,   18.27,2,    0.00,2,    1.22,2,   0.754,2,   0.344,2,  2161.0,2,  -999.0,9,   0.815,2,   1.8072,2,    6.42,2,   3.171,  -999.0,9,  -999.0,  2730.3,   0.0072,   0.160,     2.9380,   0.021
   06MT18_1,       A01E,     610,          1,          3,        K30,2,19910918,       0920,    52.3367,   -20.0000,       3308,  3028.2,   2.8226,  34.9381,2,  34.9380,2,   250.3,2,   32.82,2,   20.32,2,    0.00,2,    1.41,2,   0.216,2,   0.103,2,  2183.1,2,  -999.0,9,   0.322,2,-999.0000,5,   -9.00,5,-999.000,  -999.0,9,  -999.0,  3026.0,-999.0000,-999.000,     2.5727,   0.015
   06MT18_1,       A01E,     610,          1,          2,        B46,2,19910918,       0920,    52.3367,   -20.0000,       3308,  3231.9,   2.7236,  34.9305,2,  34.9310,2,   246.5,2,   37.41,2,   21.10,2,    0.00,2,    1.46,2,-999.000,9,-999.000,9,  2190.7,2,  -999.0,9,-999.000,9,-999.0000,9, -999.00,9,   2.730,  -999.0,9,  -999.0,  3228.7,-999.0000,-999.000,     2.4545,-999.000
   06MT18_1,       A01E,     610,          1,          1,        K31,2,19910918,       0920,    52.3367,   -20.0000,       3308,  3310.8,   2.7236,  34.9305,2,  34.9320,2,   246.7,2,   37.51,2,   21.10,3,    0.00,2,    1.47,2,   0.152,2,   0.067,2,  2189.7,2,  -999.0,9,   0.260,2,   1.8185,2,    3.06,2,-999.000,  -999.0,9,  -999.0,  3307.3,   0.0073,   0.220,     2.4461,   0.038
   06MT18_1,       A01E,     610,          1,         24,        B41,2,19910918,       0920,    52.3367,   -20.0000,       3308,  3310.8,   2.7236,  34.9305,2,  34.9310,2,   247.2,2,   37.41,2,   21.29,2,    0.00,2,    1.47,2,   0.144,2,   0.070,2,  -999.0,9,  -999.0,9,-999.000,9,-999.0000,9, -999.00,9,-999.000,  -999.0,9,  -999.0,  3307.3,-999.0000,-999.000,     2.4461,-999.000
   06MT18_1,       A01E,     611,          1,         23,        K23,3,19910918,       1459,    52.3367,   -19.4117,       3600,    10.6,  15.7782,  35.2984,2,-999.0000,9,   244.3,4,    4.49,4,   11.23,4,    0.01,4,    0.73,4,   3.206,2,   1.619,2,  -999.0,9,  -999.0,9,-999.000,9,-999.0000,9, -999.00,9,-999.000,  -999.0,9,  -999.0,    11.6,-999.0000,-999.000,    15.7765,-999.000
   06MT18_1,       A01E,     611,          1,         21,         K2,2,19910918,       1459,    52.3367,   -19.4117,       3600,    10.7,  15.7762,  35.2983,2,  35.3040,2,   247.1,2,    0.68,2,    0.39,2,    0.06,2,    0.16,2,-999.000,9,-999.000,9,  -999.0,9,  -999.0,9,-999.000,9,-999.0000,9, -999.00,9,-999.000,  -999.0,9,  -999.0,    11.7,-999.0000,-999.000,    15.7745,-999.000
   06MT18_1,       A01E,     611,          1,         20,        K15,2,19910918,       1459,    52.3367,   -19.4117,       3600,    30.1,  15.7812,  35.2979,2,  35.3040,2,   246.8,2,    0.59,2,    0.39,2,    0.06,2,    0.16,2,   2.949,2,   1.521,2,  -999.0,9,  -999.0,9,-999.000,9,-999.0000,9, -999.00,9,-999.000,  -999.0,9,  -999.0,    31.3,-999.0000,-999.000,    15.7765,-999.000
   06MT18_1,       A01E,     611,          1,         19,        B33,4,19910918,       1459,    52.3367,   -19.4117,       3600,   100.0,-999.0000,-999.0000,9,  35.6190,2,   240.1,2,    3.71,2,   10.54,2,    0.02,2,    0.69,2,-999.000,9,-999.000,9,  -999.0,9,  -999.0,9,-999.000,9,-999.0000,9, -999.00,9,-999.000,  -999.0,9,  -999.0,   101.9,-999.0000,-999.000,     -999.0,-999.000
   06MT18_1,       A01E,     611,          1,         18,        K10,2,19910918,       1459,    52.3367,   -19.4117,       3600,   100.0,  11.7771,  35.6140,2,  35.6190,2,   240.0,2,    3.71,2,   10.74,2,    0.02,2,    0.69,2,   3.204,2,   1.622,2,  -999.0,9,  -999.0,9,-999.000,9,-999.0000,9, -999.00,9,  11.779,  -999.0,9,  -999.0,   101.9,-999.0000,-999.000,    11.7642,-999.000
   06MT18_1,       A01E,     611,          1,         17,        B34,2,19910918,       1459,    52.3367,   -19.4117,       3600,   200.4,  10.8760,  35.4932,2,  35.5000,2,   247.2,2,    4.59,2,   11.42,2,    0.01,2,    0.75,2,   3.366,2,   1.655,2,  -999.0,9,  -999.0,9,-999.000,9,-999.0000,9, -999.00,9,-999.000,  -999.0,9,  -999.0,   203.2,-999.0000,-999.000,    10.8513,-999.000
   06MT18_1,       A01E,     611,          1,         16,        B53,2,19910918,       1459,    52.3367,   -19.4117,       3600,   300.7,  10.5094,  35.4503,2,  35.4550,2,   247.0,2,    4.78,2,   12.11,2,    0.01,2,    0.78,2,-999.000,9,-999.000,9,  -999.0,9,  -999.0,9,-999.000,9,-999.0000,9, -999.00,9,  10.514,  -999.0,9,  -999.0,   304.2,-999.0000,-999.000,    10.4730,-999.000
   06MT18_1,       A01E,     611,          1,         15,        B39,2,19910918,       1459,    52.3367,   -19.4117,       3600,   400.6,  10.3256,  35.4401,2,  35.4440,2,   250.3,2,    4.78,2,   12.01,2,    0.01,2,    0.79,2,   3.249,2,   1.635,2,  -999.0,9,  -999.0,9,-999.000,9,-999.0000,9, -999.00,9,-999.000,  -999.0,9,  -999.0,   404.8,-999.0000,-999.000,    10.2774,-999.000
   06MT18_1,       A01E,     611,          1,         14,        B42,2,19910918,       1459,    52.3367,   -19.4117,       3600,   598.9,   9.2277,  35.2846,2,  35.2860,2,   232.6,2,    7.52,2,   15.13,2,    0.00,2,    1.00,2,   2.754,2,   1.351,2,  -999.0,9,  -999.0,9,-999.000,9,-999.0000,9, -999.00,9,   9.227,  -999.0,9,  -999.0,   604.0,-999.0000,-999.000,     9.1599,-999.000
   06MT18_1,       A01E,     611,          1,         13,         K9,2,19910918,       1459,    52.3367,   -19.4117,       3600,   798.6,   8.0439,  35.3156,2,  35.3070,2,   204.7,2,   10.55,2,   18.26,2,    0.00,2,    1.20,2,   1.876,2,   0.864,2,  -999.0,9,  -999.0,9,-999.000,9,-999.0000,9, -999.00,9,-999.000,  -999.0,9,  -999.0,   804.3,-999.0000,-999.000,     7.9593,-999.000
   06MT18_1,       A01E,     611,          1,         12,        B50,2,19910918,       1459,    52.3367,   -19.4117,       3600,  1202.5,   4.6860,  34.9727,2,  34.9740,2,   249.9,2,   11.33,2,   18.26,2,    0.00,2,    1.23,2,-999.000,9,-999.000,9,  -999.0,9,  -999.0,9,-999.000,9,-999.0000,9, -999.00,9,   4.684,  -999.0,9,  -999.0,  1208.4,-999.0000,-999.000,     4.5860,-999.000
   06MT18_1,       A01E,     611,          1,         11,        B44,2,19910918,       1459,    52.3367,   -19.4117,       3600,  1406.9,   4.1025,  34.9320,2,  34.9320,2,   264.4,2,   11.33,2,   17.87,2,    0.00,2,    1.20,2,   1.851,2,   0.891,2,  -999.0,9,  -999.0,9,-999.000,9,-999.0000,9, -999.00,9,-999.000,  -999.0,9,  -999.0,  1412.4,-999.0000,-999.000,     3.9897,-999.000
   06MT18_1,       A01E,     611,          1,         10,        K19,2,19910918,       1459,    52.3367,   -19.4117,       3600,  1606.6,   3.7568,  34.9035,2,  34.9030,2,   274.4,2,   10.94,2,   17.58,2,    0.00,2,    1.19,2,-999.000,9,-999.000,9,  -999.0,9,  -999.0,9,-999.000,9,-999.0000,9, -999.00,9,   3.758,  -999.0,9,  -999.0,  1611.5,-999.0000,-999.000,     3.6299,-999.000
   06MT18_1,       A01E,     611,          1,          9,        B45,2,19910918,       1459,    52.3367,   -19.4117,       3600,  1808.0,   3.5809,  34.8914,2,  34.8910,2,   278.8,2,   10.84,2,   17.39,2,    0.00,2,    1.18,2,   1.972,2,   0.946,2,  -999.0,9,  -999.0,9,-999.000,9,-999.0000,9, -999.00,9,-999.000,  -999.0,9,  -999.0,  1812.2,-999.0000,-999.000,     3.4378,-999.000
   06MT18_1,       A01E,     611,          1,          8,         K7,2,19910918,       1459,    52.3367,   -19.4117,       3600,  2066.2,   3.5779,  34.9198,2,  34.9210,2,   274.6,2,   12.40,2,   17.29,2,    0.00,2,    1.18,2,-999.000,9,-999.000,9,  -999.0,9,  -999.0,9,-999.000,9,-999.0000,9, -999.00,9,   3.579,  -999.0,9,  -999.0,  2069.2,-999.0000,-999.000,     3.4105,-999.000
   06MT18_1,       A01E,     611,          1,          7,        B52,2,19910918,       1459,    52.3367,   -19.4117,       3600,  2522.4,   3.2902,  34.9441,2,  34.9460,2,   269.6,2,   15.53,2,   17.48,2,    0.00,2,    1.19,2,   0.703,2,   0.319,2,  -999.0,9,  -999.0,9,-999.000,9,-999.0000,9, -999.00,9,-999.000,  -999.0,9,  -999.0,  2522.9,-999.0000,-999.000,     3.0827,-999.000
   06MT18_1,       A01E,     611,          1,          6,        B51,2,19910918,       1459,    52.3367,   -19.4117,       3600,  2827.4,   3.0154,  34.9504,2,  34.9510,2,   263.6,2,   21.39,2,   18.07,2,    0.00,2,    1.24,2,-999.000,9,-999.000,9,  -999.0,9,  -999.0,9,-999.000,9,-999.0000,9, -999.00,9,   3.019,  -999.0,9,  -999.0,  2826.2,-999.0000,-999.000,     2.7822,-999.000
   06MT18_1,       A01E,     611,          1,          5,        B49,2,19910918,       1459,    52.3367,   -19.4117,       3600,  3112.1,   2.7346,  34.9361,2,  34.9370,2,   250.7,2,   33.70,2,   20.12,2,    0.00,2,    1.40,2,   0.236,2,   0.098,2,  -999.0,9,  -999.0,9,-999.000,9,-999.0000,9, -999.00,9,-999.000,  -999.0,9,  -999.0,  3109.5,-999.0000,-999.000,     2.4779,-999.000
   06MT18_1,       A01E,     611,          1,          4,        B43,2,19910918,       1459,    52.3367,   -19.4117,       3600,  3415.2,   2.5178,  34.9152,2,  34.9160,2,   242.6,2,   42.39,2,   21.78,2,    0.00,2,    1.49,2,   0.084,2,   0.032,2,  -999.0,9,  -999.0,9,-999.000,9,-999.0000,9, -999.00,9,   2.526,  -999.0,9,  -999.0,  3411.2,-999.0000,-999.000,     2.2341,-999.000
   06MT18_1,       A01E,     611,          1,          3,        K30,2,19910918,       1459,    52.3367,   -19.4117,       3600,  3552.4,   2.4528,  34.9051,2,  34.9070,2,   240.8,2,   45.52,2,   22.27,2,    0.00,2,    1.53,2,-999.000,9,-999.000,9,  -999.0,9,  -999.0,9,-999.000,9,-999.0000,9, -999.00,9,-999.000,  -999.0,9,  -999.0,  3547.9,-999.0000,-999.000,     2.1559,-999.000
   06MT18_1,       A01E,     611,          1,          2,        B46,2,19910918,       1459,    52.3367,   -19.4117,       3600,  3602.0,   2.4398,  34.9045,2,  34.9050,2,   240.3,2,   45.71,2,   22.46,2,    0.00,2,    1.54,2,   0.042,2,   0.007,2,  -999.0,9,  -999.0,9,-999.000,9,-999.0000,9, -999.00,9,   2.447,  -999.0,9,  -999.0,  3597.4,-999.0000,-999.000,     2.1378,-999.000
   06MT18_1,       A01E,     611,          1,          1,        K31,2,19910918,       1459,    52.3367,   -19.4117,       3600,  3654.8,   2.4418,  34.9026,2,  34.9040,2,   240.3,2,   45.91,2,   22.46,2,    0.00,2,    1.55,2,   0.054,2,   0.016,2,  -999.0,9,  -999.0,9,-999.000,9,-999.0000,9, -999.00,9,-999.000,  -999.0,9,  -999.0,  3650.0,-999.0000,-999.000,     2.1340,-999.000