BOTTLE,20020919WHPSIOSA
EXPOCODE,SECT_ID,STNNBR,CASTNO,SAMPNO,BTLNBR,BTLNBR_FLAG_W,DATE,TIME,LATITUDE,LONGITUDE,DEPTH,CTDPRS,CTDTMP,CTDSAL,CTDSAL_FLAG_W,SALNTY,SALNTY_FLAG_W,OXYGEN,OXYGEN_FLAG_W,SILCAT,SILCAT_FLAG_W,NITRAT,NITRAT_FLAG_W,NITRIT,NITRIT_FLAG_W,PHSPHT,PHSPHT_FLAG_W,CFC-11,CFC-11_FLAG_W,CFC-12,CFC-12_FLAG_W,TCARBN,TCARBN_FLAG_W,ALKALI,ALKALI_FLAG_W,TRITUM,TRITUM_FLAG_W,HELIUM,HELIUM_FLAG_W,DELHE3,DELHE3_FLAG_W,REVTMP,DELC14,DELC14_FLAG_W,C14ERR,CTDRAW,HELIER,DELHER,THETA,TRITER
,,,,,,,,,,,METERS,DBAR,ITS-90,PSS-78,,PSS-78,,UMOL/KG,,UMOL/KG,,UMOL/KG,,UMOL/KG,,UMOL/KG,,PMOL/KG,,PMOL/KG,,UMOL/KG,,UMOL/KG,,TU,,NMOL/KG,,PERCNT,,ITS-90,/MILLE,,/MILLE,DBAR,NMOL/KG,PERCNT,DEG,TU
   06MT18_1,       A01E,     560,          1,         24,        B41,2,19910905,       1855,    59.9300,   -41.8533,       1823,     8.9,   8.1488,  34.8973,2,  34.9010,2,   292.6,2,    2.25,2,    5.57,4,    0.11,4,    0.51,4,   4.043,6,   1.947,6,  2086.3,2,  -999.0,9,-999.000,5,   1.7580,2,   -9.00,2,-999.000,  -999.0,9,  -999.0,     9.9,   0.0070,-999.000,     8.1479,-999.000
   06MT18_1,       A01E,     560,          1,         23,        K22,2,19910905,       1855,    59.9300,   -41.8533,       1823,    28.7,   8.1148,  34.8970,2,  34.8980,2,   291.1,2,    2.15,2,    5.86,4,    0.19,4,    0.53,4,-999.000,9,-999.000,9,  2079.5,2,  -999.0,9,-999.000,9,-999.0000,9, -999.00,9,-999.000,  -999.0,9,  -999.0,    29.9,-999.0000,-999.000,     8.1119,-999.000
   06MT18_1,       A01E,     560,          1,         22,         K3,2,19910905,       1855,    59.9300,   -41.8533,       1823,    58.4,   7.6932,  34.9326,2,  34.9550,2,   284.5,2,    3.32,2,    8.89,4,    0.17,4,    0.70,4,-999.000,9,-999.000,9,  2103.2,2,  -999.0,9,-999.000,9,-999.0000,9, -999.00,9,-999.000,  -999.0,9,  -999.0,    59.9,-999.0000,-999.000,     7.6875,-999.000
   06MT18_1,       A01E,     560,          1,         21,        B35,2,19910905,       1855,    59.9300,   -41.8533,       1823,    96.8,   6.6352,  35.0240,2,  35.0370,2,   281.1,2,    6.35,2,   14.84,4,    0.05,4,    1.02,4,   4.056,2,   1.932,2,  2131.5,2,  -999.0,9,-999.000,5,   1.7702,2,   -0.53,2,-999.000,  -999.0,9,  -999.0,    98.7,   0.0071,   0.170,     6.6265,-999.000
   06MT18_1,       A01E,     560,          1,         20,        B37,2,19910905,       1855,    59.9300,   -41.8533,       1823,   196.0,   5.9319,  35.0495,2,  35.0500,2,   281.0,2,    8.20,2,   16.50,4,    0.00,4,    1.16,4,   3.928,2,   1.877,2,  2141.3,2,  -999.0,9,   2.024,2,   1.7844,2,    0.02,2,   5.937,  -999.0,9,  -999.0,   198.7,   0.0071,   0.170,     5.9151,   0.040
   06MT18_1,       A01E,     560,          1,         19,        B36,2,19910905,       1855,    59.9300,   -41.8533,       1823,   297.0,   5.5223,  35.0270,2,  35.0280,2,   283.4,2,    8.50,2,   16.99,4,    0.00,4,    1.21,4,-999.000,9,-999.000,9,  2144.5,2,  -999.0,9,-999.000,9,-999.0000,9, -999.00,9,-999.000,  -999.0,9,  -999.0,   300.5,-999.0000,-999.000,     5.4976,-999.000
   06MT18_1,       A01E,     560,          1,         18,        B34,2,19910905,       1855,    59.9300,   -41.8533,       1823,   396.6,   5.2475,  35.0122,2,  35.0130,2,   285.5,2,    8.89,2,   17.09,4,    0.00,4,    1.22,4,   3.904,2,   1.858,2,  2143.9,2,  -999.0,9,   2.030,2,   1.7789,2,    0.16,2,-999.000,  -999.0,9,  -999.0,   400.8,   0.0071,   0.200,     5.2151,   0.030
   06MT18_1,       A01E,     560,          1,         17,         K4,2,19910905,       1855,    59.9300,   -41.8533,       1823,   493.4,   4.9138,  34.9859,2,  34.9870,2,   287.0,2,    9.18,2,   16.99,4,    0.00,4,    1.22,4,-999.000,9,-999.000,9,  2148.6,2,  -999.0,9,-999.000,9,-999.0000,9, -999.00,9,-999.000,  -999.0,9,  -999.0,   498.1,-999.0000,-999.000,     4.8744,-999.000
   06MT18_1,       A01E,     560,          1,         16,        B39,2,19910905,       1855,    59.9300,   -41.8533,       1823,   590.6,   4.6221,  34.9654,2,  34.9650,2,   288.0,2,    9.37,2,   17.09,4,    0.00,4,    1.24,4,   3.767,2,   1.797,2,  2143.6,2,  -999.0,9,   1.902,3,   1.7924,2,    1.18,2,-999.000,  -999.0,9,  -999.0,   595.7,   0.0072,   0.170,     4.5759,   0.040
   06MT18_1,       A01E,     560,          1,         15,        K15,2,19910905,       1855,    59.9300,   -41.8533,       1823,   691.5,   4.2444,  34.9375,2,  34.9390,2,   290.3,3,    9.47,2,   17.28,4,    0.00,4,    1.25,4,-999.000,9,-999.000,9,  2144.7,2,  -999.0,9,-999.000,9,-999.0000,9, -999.00,9,-999.000,  -999.0,9,  -999.0,   696.9,-999.0000,-999.000,     4.1919,-999.000
   06MT18_1,       A01E,     560,          1,         14,         K7,2,19910905,       1855,    59.9300,   -41.8533,       1823,   803.0,   4.1225,  34.9320,2,  34.9310,2,   288.7,2,    9.57,2,   17.38,4,    0.00,4,    1.26,4,   3.571,2,   1.700,2,  2144.8,2,  -999.0,9,   1.939,2,   1.8109,2,    2.11,2,-999.000,  -999.0,9,  -999.0,   808.7,   0.0072,   0.280,     4.0616,   0.049
   06MT18_1,       A01E,     560,          1,         13,        B42,2,19910905,       1855,    59.9300,   -41.8533,       1823,   902.0,   4.0076,  34.9222,2,  34.9230,2,   289.1,2,    9.67,2,   17.28,4,    0.01,4,    1.24,4,-999.000,9,-999.000,9,  2146.7,2,  -999.0,9,-999.000,9,-999.0000,9, -999.00,9,-999.000,  -999.0,9,  -999.0,   907.9,-999.0000,-999.000,     3.9393,-999.000
   06MT18_1,       A01E,     560,          1,         12,        B44,2,19910905,       1855,    59.9300,   -41.8533,       1823,   997.0,   3.8857,  34.9138,2,  34.9150,2,   289.2,2,    9.77,2,   17.28,4,    0.00,4,    1.25,4,   3.384,2,   1.612,2,  2149.4,2,  -999.0,9,   1.896,2,   1.7975,2,    3.13,2,-999.000,  -999.0,9,  -999.0,  1002.9,   0.0072,   0.200,     3.8105,   0.045
   06MT18_1,       A01E,     560,          1,         11,        B46,2,19910905,       1855,    59.9300,   -41.8533,       1823,  1100.1,   3.6839,  34.9039,2,  34.9020,2,   289.3,2,   10.06,2,   17.38,4,    0.00,4,    1.25,4,-999.000,9,-999.000,9,  2146.1,2,  -999.0,9,-999.000,9,-999.0000,9, -999.00,9,   3.684,  -999.0,9,  -999.0,  1106.0,-999.0000,-999.000,     3.6018,-999.000
   06MT18_1,       A01E,     560,          1,         10,        B45,2,19910905,       1855,    59.9300,   -41.8533,       1823,  1198.3,   3.6069,  34.8987,2,  34.8980,2,   289.2,2,   10.06,2,   17.28,4,    0.00,4,    1.27,4,-999.000,9,-999.000,9,  2146.0,2,  -999.0,9,-999.000,9,-999.0000,9, -999.00,9,-999.000,  -999.0,9,  -999.0,  1204.2,-999.0000,-999.000,     3.5173,-999.000
   06MT18_1,       A01E,     560,          1,          9,        B52,2,19910905,       1855,    59.9300,   -41.8533,       1823,  1296.5,   3.5250,  34.8954,2,  34.8950,2,   289.6,2,   10.25,2,   17.28,4,    0.00,4,    1.26,4,   3.026,2,   1.435,2,  2145.0,2,  -999.0,9,-999.000,5,   1.8098,2,    4.12,2,-999.000,  -999.0,9,  -999.0,  1302.2,   0.0072,   0.180,     3.4279,-999.000
   06MT18_1,       A01E,     560,          1,          8,        B40,2,19910905,       1855,    59.9300,   -41.8533,       1823,  1394.6,   3.3012,  34.8972,2,  34.8950,2,   288.9,2,   10.45,2,   17.09,4,    0.00,4,    1.25,4,-999.000,9,-999.000,9,  2148.2,2,  -999.0,9,-999.000,9,-999.0000,9, -999.00,9,   3.313,  -999.0,9,  -999.0,  1400.1,-999.0000,-999.000,     3.1981,-999.000
   06MT18_1,       A01E,     560,          1,          7,        B48,2,19910905,       1855,    59.9300,   -41.8533,       1823,  1492.6,   3.1783,  34.8982,2,  34.8970,2,   288.1,2,   10.64,2,   16.89,4,    0.00,4,    1.23,4,   2.609,2,   1.241,2,  2147.7,2,  -999.0,9,   1.769,2,   1.7904,2,    5.40,2,-999.000,  -999.0,9,  -999.0,  1497.9,   0.0072,   0.200,     3.0682,   0.040
   06MT18_1,       A01E,     560,          1,          6,        B49,2,19910905,       1855,    59.9300,   -41.8533,       1823,  1591.9,   3.1043,  34.8996,2,  34.9000,2,   288.0,2,   10.64,2,   16.80,4,    0.00,4,    1.24,4,-999.000,9,-999.000,9,  2146.4,2,  -999.0,9,-999.000,9,-999.0000,9, -999.00,9,-999.000,  -999.0,9,  -999.0,  1596.9,-999.0000,-999.000,     2.9866,-999.000
   06MT18_1,       A01E,     560,          1,          5,        B51,2,19910905,       1855,    59.9300,   -41.8533,       1823,  1641.6,   3.0314,  34.9020,2,  34.9000,2,   287.7,2,   10.64,2,   16.70,4,    0.00,4,    1.23,4,-999.000,9,-999.000,9,  2149.9,2,  -999.0,9,-999.000,9,-999.0000,9, -999.00,9,   3.049,  -999.0,9,  -999.0,  1646.4,-999.0000,-999.000,     2.9103,-999.000
   06MT18_1,       A01E,     560,          1,          4,        K30,2,19910905,       1855,    59.9300,   -41.8533,       1823,  1692.9,   2.9075,  34.9013,2,  34.9000,2,   288.1,2,   10.55,2,   16.41,4,    0.00,4,    1.22,4,   2.447,2,   1.156,2,  2149.5,2,  -999.0,9,   1.646,2,   1.8029,2,    5.55,2,-999.000,  -999.0,9,  -999.0,  1697.5,   0.0072,   0.200,     2.7836,   0.036
   06MT18_1,       A01E,     560,          1,          3,        B47,2,19910905,       1855,    59.9300,   -41.8533,       1823,  1744.3,   2.6996,  34.8969,2,  34.8970,2,   290.1,2,   10.35,2,   16.11,4,    0.00,4,    1.21,4,   2.521,2,   1.194,2,  2147.0,2,  -999.0,9,   1.655,2,-999.0000,5,   -9.00,5,-999.000,  -999.0,9,  -999.0,  1748.7,-999.0000,-999.000,     2.5740,   0.035
   06MT18_1,       A01E,     560,          1,          1,        B50,2,19910905,       1855,    59.9300,   -41.8533,       1823,  1804.5,   2.5747,  34.8950,2,  34.8930,2,   291.4,2,   10.25,2,   16.02,4,    0.00,4,    1.19,4,   2.603,2,   1.235,2,  2147.4,2,  -999.0,9,   1.659,2,   1.8036,2,    4.85,2,-999.000,  -999.0,9,  -999.0,  1808.7,   0.0072,   0.120,     2.4457,   0.034
   06MT18_1,       A01E,     561,          1,         23,        K22,2,19910905,       2242,    59.8950,   -41.5100,       1898,    59.6,   7.2127,  34.9932,2,  35.0000,2,   284.8,2,    4.59,2,   10.75,4,    0.21,2,    0.78,2,-999.000,9,-999.000,9,  2113.2,2,  -999.0,9,-999.000,9,-999.0000,9, -999.00,9,-999.000,  -999.0,9,  -999.0,    61.1,-999.0000,-999.000,     7.2071,-999.000
   06MT18_1,       A01E,     561,          1,         22,         K3,2,19910905,       2242,    59.8950,   -41.5100,       1898,    99.7,   6.4764,  35.0439,2,  35.0450,2,   281.1,2,    6.94,2,   14.16,4,    0.03,2,    0.98,2,-999.000,9,-999.000,9,  2133.2,2,  -999.0,9,-999.000,9,-999.0000,9, -999.00,9,-999.000,  -999.0,9,  -999.0,   101.6,-999.0000,-999.000,     6.4675,-999.000
   06MT18_1,       A01E,     561,          1,         20,        B37,2,19910905,       2242,    59.8950,   -41.5100,       1898,   235.6,   5.4194,  35.0207,2,  35.0210,2,   283.5,2,    8.69,2,   16.02,4,    0.01,2,    1.09,2,-999.000,9,-999.000,9,  2142.1,2,  -999.0,9,-999.000,9,-999.0000,9, -999.00,9,-999.000,  -999.0,9,  -999.0,   238.7,-999.0000,-999.000,     5.4001,-999.000
   06MT18_1,       A01E,     561,          1,         21,        B35,2,19910905,       2242,    59.8950,   -41.5100,       1898,   236.2,   5.4174,  35.0214,2,  35.0210,2,   283.5,2,    8.69,2,   15.92,4,    0.00,2,    1.10,2,-999.000,9,-999.000,9,  2142.6,2,  -999.0,9,-999.000,9,-999.0000,9, -999.00,9,-999.000,  -999.0,9,  -999.0,   239.3,-999.0000,-999.000,     5.3981,-999.000
   06MT18_1,       A01E,     561,          1,         18,        B34,2,19910905,       2242,    59.8950,   -41.5100,       1898,   388.2,   4.7130,  34.9704,2,  34.9690,2,   287.6,2,    9.18,2,   16.02,4,    0.01,2,    1.12,2,-999.000,9,-999.000,9,  2143.5,2,  -999.0,9,-999.000,9,-999.0000,9, -999.00,9,-999.000,  -999.0,9,  -999.0,   392.3,-999.0000,-999.000,     4.6830,-999.000
   06MT18_1,       A01E,     561,          1,         16,        B39,2,19910905,       2242,    59.8950,   -41.5100,       1898,   687.6,   4.0526,  34.9254,2,  34.9270,2,   288.2,2,    9.67,2,   16.41,4,    0.01,2,    1.12,2,-999.000,9,-999.000,9,  2146.3,2,  -999.0,9,-999.000,9,-999.0000,9, -999.00,9,-999.000,  -999.0,9,  -999.0,   693.0,-999.0000,-999.000,     4.0014,-999.000
   06MT18_1,       A01E,     561,          1,         15,        K15,2,19910905,       2242,    59.8950,   -41.5100,       1898,   789.2,   3.8128,  34.9133,2,  34.9120,2,   288.2,2,    9.77,2,   16.41,4,    0.00,2,    1.12,2,-999.000,9,-999.000,9,  2147.1,2,  -999.0,9,-999.000,9,-999.0000,9, -999.00,9,-999.000,  -999.0,9,  -999.0,   794.9,-999.0000,-999.000,     3.7550,-999.000
   06MT18_1,       A01E,     561,          1,         14,         K7,2,19910905,       2242,    59.8950,   -41.5100,       1898,   890.0,   3.6209,  34.8967,2,  34.8980,2,   290.1,2,    9.87,2,   16.61,4,    0.00,2,    1.13,2,   3.307,2,   1.567,2,  2147.2,2,  -999.0,9,   1.905,2,   1.8013,2,    3.68,2,-999.000,  -999.0,9,  -999.0,   895.9,   0.0072,   0.210,     3.5563,   0.044
   06MT18_1,       A01E,     561,          1,         13,        B42,2,19910905,       2242,    59.8950,   -41.5100,       1898,   990.1,   3.4790,  34.8859,2,  34.8850,2,   293.4,2,    9.87,2,   16.61,4,    0.00,2,    1.14,2,   3.351,2,   1.583,2,  2149.2,2,  -999.0,9,-999.000,9,-999.0000,9, -999.00,9,-999.000,  -999.0,9,  -999.0,   996.0,-999.0000,-999.000,     3.4075,-999.000
   06MT18_1,       A01E,     561,          1,         12,        B44,2,19910905,       2242,    59.8950,   -41.5100,       1898,  1091.9,   3.4560,  34.8925,2,  34.8910,2,   289.0,2,   10.06,2,   16.41,4,    0.00,2,    1.13,2,   2.991,2,   1.420,2,  2149.3,2,  -999.0,9,-999.000,9,-999.0000,9, -999.00,9,-999.000,  -999.0,9,  -999.0,  1097.8,-999.0000,-999.000,     3.3765,-999.000
   06MT18_1,       A01E,     561,          1,         11,        B46,2,19910905,       2242,    59.8950,   -41.5100,       1898,  1193.0,   3.4021,  34.8921,2,  34.8920,2,   288.9,2,   10.26,2,   16.22,4,    0.00,2,    1.13,2,   2.886,2,   1.363,2,  2149.9,2,  -999.0,9,   2.039,3,   1.8115,2,    4.50,2,-999.000,  -999.0,9,  -999.0,  1198.9,   0.0072,   0.220,     3.3148,   0.043
   06MT18_1,       A01E,     561,          1,         10,        B45,2,19910905,       2242,    59.8950,   -41.5100,       1898,  1293.9,   3.3411,  34.8889,2,  34.8880,2,   289.3,2,   10.65,2,   16.31,4,    0.01,2,    1.15,2,   2.836,2,   1.346,2,  2149.7,2,  -999.0,9,-999.000,9,-999.0000,9, -999.00,9,-999.000,  -999.0,9,  -999.0,  1299.6,-999.0000,-999.000,     3.2461,-999.000
   06MT18_1,       A01E,     561,          1,          9,        B52,2,19910905,       2242,    59.8950,   -41.5100,       1898,  1395.0,   3.2842,  34.8911,2,  34.8910,2,   288.0,2,   10.75,2,   16.22,4,    0.01,2,    1.14,2,   2.623,2,   1.244,2,  2148.6,2,  -999.0,9,   1.730,2,   1.7921,2,    5.31,2,-999.000,  -999.0,9,  -999.0,  1400.5,   0.0072,   0.180,     3.1813,   0.041
   06MT18_1,       A01E,     561,          1,          8,        B40,2,19910905,       2242,    59.8950,   -41.5100,       1898,  1495.5,   3.2522,  34.8961,2,  34.8960,2,   287.7,2,   10.36,2,   15.92,4,    0.01,2,    1.13,2,   2.653,2,   1.260,2,  2146.7,2,  -999.0,9,   1.721,2,   1.7986,2,    5.28,2,-999.000,  -999.0,9,  -999.0,  1500.8,   0.0072,   0.150,     3.1411,   0.035
   06MT18_1,       A01E,     561,          1,          7,        B48,2,19910905,       2242,    59.8950,   -41.5100,       1898,  1545.2,   3.2122,  34.8982,2,  34.8960,2,   287.9,2,   10.26,2,   15.92,4,    0.01,2,    1.12,2,   2.610,2,   1.239,2,  2146.7,2,  -999.0,9,-999.000,9,-999.0000,9, -999.00,9,-999.000,  -999.0,9,  -999.0,  1550.3,-999.0000,-999.000,     3.0973,-999.000
   06MT18_1,       A01E,     561,          1,          6,        B49,2,19910905,       2242,    59.8950,   -41.5100,       1898,  1596.4,   3.1843,  34.9000,2,  34.8990,2,   287.0,2,   10.06,2,   15.92,4,    0.00,2,    1.12,2,   2.506,2,   1.186,2,  2147.5,2,  -999.0,9,-999.000,9,-999.0000,9, -999.00,9,-999.000,  -999.0,9,  -999.0,  1601.4,-999.0000,-999.000,     3.0653,-999.000
   06MT18_1,       A01E,     561,          1,          5,        B51,2,19910905,       2242,    59.8950,   -41.5100,       1898,  1647.1,   3.1493,  34.9059,2,  34.9040,2,   285.8,2,   10.75,2,   16.02,4,    0.00,2,    1.13,2,   2.328,2,   1.098,2,  2149.2,2,  -999.0,9,   1.647,2,   1.7906,2,    6.01,2,-999.000,  -999.0,9,  -999.0,  1651.9,   0.0072,   0.200,     3.0263,   0.036
   06MT18_1,       A01E,     561,          1,          4,        K30,2,19910905,       2242,    59.8950,   -41.5100,       1898,  1748.3,   3.0374,  34.9064,2,  34.9050,2,   286.2,2,   10.84,2,   15.83,4,    0.00,2,    1.12,2,   2.304,2,   1.091,2,  2149.9,2,  -999.0,9,   1.586,2,   1.8056,2,    5.60,3,-999.000,  -999.0,9,  -999.0,  1752.7,   0.0072,   0.170,     2.9070,   0.035
   06MT18_1,       A01E,     561,          1,          3,         K1,2,19910905,       2242,    59.8950,   -41.5100,       1898,  1813.9,   2.9315,  34.9050,2,  34.9050,2,   286.8,2,   10.65,2,   15.73,4,    0.00,2,    1.11,2,   2.297,2,   1.082,2,  2147.4,2,  -999.0,9,   1.683,3,   1.7941,2,    5.76,2,-999.000,  -999.0,9,  -999.0,  1818.0,   0.0072,   0.180,     2.7967,   0.042
   06MT18_1,       A01E,     561,          1,          2,        B50,2,19910905,       2242,    59.8950,   -41.5100,       1898,  1831.2,   2.9245,  34.9052,2,  34.9040,2,   286.7,2,   10.45,2,   15.73,4,    0.00,2,    1.11,2,   2.316,2,   1.087,2,  2150.6,2,  -999.0,9,   1.570,2,   1.8117,2,    5.63,2,-999.000,  -999.0,9,  -999.0,  1835.3,   0.0072,   0.180,     2.7883,   0.032
   06MT18_1,       A01E,     561,          1,          1,        K31,2,19910905,       2242,    59.8950,   -41.5100,       1898,  1879.3,   2.5618,  34.8973,2,  34.8960,2,   290.4,2,   10.06,2,   15.24,4,    0.00,2,    1.09,2,   2.552,2,   1.201,2,  2147.7,2,  -999.0,9,-999.000,5,   1.7987,2,    5.20,2,-999.000,  -999.0,9,  -999.0,  1883.1,   0.0072,   0.190,     2.4265,-999.000