BOTTLE,20020919WHPSIOSA
EXPOCODE,SECT_ID,STNNBR,CASTNO,SAMPNO,BTLNBR,BTLNBR_FLAG_W,DATE,TIME,LATITUDE,LONGITUDE,DEPTH,CTDPRS,CTDTMP,CTDSAL,CTDSAL_FLAG_W,SALNTY,SALNTY_FLAG_W,OXYGEN,OXYGEN_FLAG_W,SILCAT,SILCAT_FLAG_W,NITRAT,NITRAT_FLAG_W,NITRIT,NITRIT_FLAG_W,PHSPHT,PHSPHT_FLAG_W,CFC-11,CFC-11_FLAG_W,CFC-12,CFC-12_FLAG_W,TCARBN,TCARBN_FLAG_W,ALKALI,ALKALI_FLAG_W,TRITUM,TRITUM_FLAG_W,HELIUM,HELIUM_FLAG_W,DELHE3,DELHE3_FLAG_W,REVTMP,DELC14,DELC14_FLAG_W,C14ERR,CTDRAW,HELIER,DELHER,THETA,TRITER
,,,,,,,,,,,METERS,DBAR,ITS-90,PSS-78,,PSS-78,,UMOL/KG,,UMOL/KG,,UMOL/KG,,UMOL/KG,,UMOL/KG,,PMOL/KG,,PMOL/KG,,UMOL/KG,,UMOL/KG,,TU,,NMOL/KG,,PERCNT,,ITS-90,/MILLE,,/MILLE,DBAR,NMOL/KG,PERCNT,DEG,TU
   06MT18_1,       A01E,     608,          1,          4,        B43,2,19910917,       2123,    52.1750,   -19.9933,       3783,  3816.6,   2.5118,  34.9087,2,  34.9100,2,   240.5,2,   45.22,2,   22.27,2,    0.00,2,    1.55,2,   0.048,6,   0.020,6,  -999.0,9,  -999.0,9,-999.000,9,-999.0000,9, -999.00,9,   2.519,  -999.0,9,  -999.0,  3811.5,-999.0000,-999.000,     2.1841,-999.000
   06MT18_1,       A01E,     608,          1,         20,        B48,2,19910917,       2123,    52.1750,   -19.9933,       3783,  3817.5,   2.5118,  34.9084,2,  34.9100,2,   240.8,2,   45.22,2,   22.27,2,    0.00,2,    1.56,2,   0.049,2,   0.019,2,  -999.0,9,  -999.0,9,-999.000,9,-999.0000,9, -999.00,9,-999.000,  -999.0,9,  -999.0,  3812.4,-999.0000,-999.000,     2.1840,-999.000
   06MT18_1,       A01E,     608,          1,         21,     -999.0,9,19910917,       2123,    52.1750,   -19.9933,       3783,  3817.5,   2.5118,  34.9096,2,-999.0000,9,  -999.0,9, -999.00,9, -999.00,9, -999.00,9, -999.00,9,-999.000,9,-999.000,9,  -999.0,9,  -999.0,9,-999.000,9,-999.0000,9, -999.00,9,-999.000,  -999.0,9,  -999.0,  3812.4,-999.0000,-999.000,     2.1840,-999.000
   06MT18_1,       A01E,     608,          1,          1,     -999.0,9,19910917,       2123,    52.1750,   -19.9933,       3783,  3817.7,   2.5118,  34.9083,2,-999.0000,9,  -999.0,9, -999.00,9, -999.00,9, -999.00,9, -999.00,9,-999.000,9,-999.000,9,  -999.0,9,  -999.0,9,-999.000,9,-999.0000,9, -999.00,9,-999.000,  -999.0,9,  -999.0,  3812.6,-999.0000,-999.000,     2.1839,-999.000
   06MT18_1,       A01E,     608,          1,          7,     -999.0,9,19910917,       2123,    52.1750,   -19.9933,       3783,  3817.7,   2.5118,  34.9083,2,-999.0000,9,  -999.0,9, -999.00,9, -999.00,9, -999.00,9, -999.00,9,-999.000,9,-999.000,9,  -999.0,9,  -999.0,9,-999.000,9,-999.0000,9, -999.00,9,-999.000,  -999.0,9,  -999.0,  3812.6,-999.0000,-999.000,     2.1839,-999.000
   06MT18_1,       A01E,     608,          1,         19,     -999.0,9,19910917,       2123,    52.1750,   -19.9933,       3783,  3817.7,   2.5118,  34.9095,2,-999.0000,9,  -999.0,9, -999.00,9, -999.00,9, -999.00,9, -999.00,9,-999.000,9,-999.000,9,  -999.0,9,  -999.0,9,-999.000,9,-999.0000,9, -999.00,9,-999.000,  -999.0,9,  -999.0,  3812.6,-999.0000,-999.000,     2.1839,-999.000
   06MT18_1,       A01E,     608,          1,         16,        B53,3,19910917,       2123,    52.1750,   -19.9933,       3783,  3818.6,   2.5118,  34.9091,2,-999.0000,9,   242.8,4,   41.32,4,   21.29,4,    0.00,2,    1.48,4,   0.220,3,   0.115,3,  -999.0,9,  -999.0,9,-999.000,9,-999.0000,9, -999.00,9,-999.000,  -999.0,9,  -999.0,  3813.5,-999.0000,-999.000,     2.1838,-999.000
   06MT18_1,       A01E,     608,          1,          2,        B46,2,19910917,       2123,    52.1750,   -19.9933,       3783,  3819.0,   2.5118,  34.9089,2,  34.9110,2,   240.3,2,   45.61,4,   22.27,2,    0.00,2,    1.54,2,   0.040,6,   0.020,6,  -999.0,9,  -999.0,9,-999.000,9,-999.0000,9, -999.00,9,   2.517,  -999.0,9,  -999.0,  3813.9,-999.0000,-999.000,     2.1838,-999.000
   06MT18_1,       A01E,     608,          1,         13,     -999.0,9,19910917,       2123,    52.1750,   -19.9933,       3783,  3819.0,   2.5118,  34.9089,2,-999.0000,9,  -999.0,9, -999.00,9, -999.00,9, -999.00,9, -999.00,9,-999.000,9,-999.000,9,  -999.0,9,  -999.0,9,-999.000,9,-999.0000,9, -999.00,9,-999.000,  -999.0,9,  -999.0,  3813.9,-999.0000,-999.000,     2.1838,-999.000
   06MT18_1,       A01E,     608,          1,         24,        B41,2,19910917,       2123,    52.1750,   -19.9933,       3783,  3819.0,   2.5118,  34.9089,2,  34.9090,2,   240.5,2,   44.93,4,   22.27,2,    0.00,2,    1.56,2,   0.044,2,   0.019,2,  -999.0,9,  -999.0,9,-999.000,9,-999.0000,9, -999.00,9,-999.000,  -999.0,9,  -999.0,  3813.9,-999.0000,-999.000,     2.1838,-999.000
   06MT18_1,       A01E,     608,          1,         14,        B42,2,19910917,       2123,    52.1750,   -19.9933,       3783,  3819.2,   2.5128,  34.9090,2,  34.9100,2,   240.8,2,   45.22,2,   22.37,2,    0.00,2,    1.56,2,   0.043,2,   0.015,2,  -999.0,9,  -999.0,9,-999.000,9,-999.0000,9, -999.00,9,   2.511,  -999.0,9,  -999.0,  3814.1,-999.0000,-999.000,     2.1847,-999.000
   06MT18_1,       A01E,     608,          1,          6,        B51,2,19910917,       2123,    52.1750,   -19.9933,       3783,  3819.3,   2.5118,  34.9088,2,  34.9110,2,   240.7,2,   45.32,2,   22.47,2,    0.00,2,    1.56,2,   0.050,2,   0.021,2,  -999.0,9,  -999.0,9,-999.000,9,-999.0000,9, -999.00,9,   2.513,  -999.0,9,  -999.0,  3814.2,-999.0000,-999.000,     2.1837,-999.000
   06MT18_1,       A01E,     608,          1,         15,     -999.0,9,19910917,       2123,    52.1750,   -19.9933,       3783,  3819.3,   2.5118,  34.9088,2,-999.0000,9,  -999.0,9, -999.00,9, -999.00,9, -999.00,9, -999.00,9,-999.000,9,-999.000,9,  -999.0,9,  -999.0,9,-999.000,9,-999.0000,9, -999.00,9,-999.000,  -999.0,9,  -999.0,  3814.2,-999.0000,-999.000,     2.1838,-999.000
   06MT18_1,       A01E,     608,          1,         17,     -999.0,9,19910917,       2123,    52.1750,   -19.9933,       3783,  3819.6,   2.5118,  34.9087,2,-999.0000,9,  -999.0,9, -999.00,9, -999.00,9, -999.00,9, -999.00,9,-999.000,9,-999.000,9,  -999.0,9,  -999.0,9,-999.000,9,-999.0000,9, -999.00,9,-999.000,  -999.0,9,  -999.0,  3814.5,-999.0000,-999.000,     2.1837,-999.000
   06MT18_1,       A01E,     608,          1,          3,     -999.0,9,19910917,       2123,    52.1750,   -19.9933,       3783,  3819.7,   2.5118,  34.9086,2,-999.0000,9,  -999.0,9, -999.00,9, -999.00,9, -999.00,9, -999.00,9,-999.000,9,-999.000,9,  -999.0,9,  -999.0,9,-999.000,9,-999.0000,9, -999.00,9,-999.000,  -999.0,9,  -999.0,  3814.6,-999.0000,-999.000,     2.1837,-999.000
   06MT18_1,       A01E,     608,          1,          9,     -999.0,9,19910917,       2123,    52.1750,   -19.9933,       3783,  3820.2,   2.5118,  34.9096,2,-999.0000,9,  -999.0,9, -999.00,9, -999.00,9, -999.00,9, -999.00,9,-999.000,9,-999.000,9,  -999.0,9,  -999.0,9,-999.000,9,-999.0000,9, -999.00,9,-999.000,  -999.0,9,  -999.0,  3815.1,-999.0000,-999.000,     2.1836,-999.000
   06MT18_1,       A01E,     608,          1,         10,        K19,3,19910917,       2123,    52.1750,   -19.9933,       3783,  3820.3,   2.5128,  34.9085,2,-999.0000,9,   241.8,4,   41.71,4,   21.68,4,    0.00,2,    1.50,4,   0.225,3,   0.116,3,  -999.0,9,  -999.0,9,-999.000,9,-999.0000,9, -999.00,9,   2.513,  -999.0,9,  -999.0,  3815.2,-999.0000,-999.000,     2.1846,-999.000
   06MT18_1,       A01E,     608,          1,          5,     -999.0,9,19910917,       2123,    52.1750,   -19.9933,       3783,  3820.4,   2.5118,  34.9083,2,-999.0000,9,  -999.0,9, -999.00,9, -999.00,9, -999.00,9, -999.00,9,-999.000,9,-999.000,9,  -999.0,9,  -999.0,9,-999.000,9,-999.0000,9, -999.00,9,-999.000,  -999.0,9,  -999.0,  3815.3,-999.0000,-999.000,     2.1836,-999.000
   06MT18_1,       A01E,     608,          1,          8,         K7,2,19910917,       2123,    52.1750,   -19.9933,       3783,  3820.5,   2.5118,  34.9095,2,  34.9100,2,   240.6,2,   45.32,2,   22.66,4,    0.00,2,    1.56,2,   0.069,2,   0.028,2,  -999.0,9,  -999.0,9,-999.000,9,-999.0000,9, -999.00,9,   2.513,  -999.0,9,  -999.0,  3815.4,-999.0000,-999.000,     2.1836,-999.000
   06MT18_1,       A01E,     608,          1,         11,     -999.0,9,19910917,       2123,    52.1750,   -19.9933,       3783,  3820.5,   2.5118,  34.9095,2,-999.0000,9,  -999.0,9, -999.00,9, -999.00,9, -999.00,9, -999.00,9,-999.000,9,-999.000,9,  -999.0,9,  -999.0,9,-999.000,9,-999.0000,9, -999.00,9,-999.000,  -999.0,9,  -999.0,  3815.4,-999.0000,-999.000,     2.1836,-999.000
   06MT18_1,       A01E,     608,          1,         18,        B40,2,19910917,       2123,    52.1750,   -19.9933,       3783,  3820.6,   2.5118,  34.9094,2,  34.9100,2,   240.5,2,   45.13,2,   22.37,2,    0.00,2,    1.56,2,   0.044,2,   0.022,2,  -999.0,9,  -999.0,9,-999.000,9,-999.0000,9, -999.00,9,-999.000,  -999.0,9,  -999.0,  3815.5,-999.0000,-999.000,     2.1836,-999.000
   06MT18_1,       A01E,     608,          1,         12,        B50,2,19910917,       2123,    52.1750,   -19.9933,       3783,  3821.0,   2.5118,  34.9093,2,  34.9100,2,   240.6,2,   45.13,2,   22.27,2,    0.00,2,    1.56,2,   0.042,2,   0.017,2,  -999.0,9,  -999.0,9,-999.000,9,-999.0000,9, -999.00,9,   2.512,  -999.0,9,  -999.0,  3815.9,-999.0000,-999.000,     2.1836,-999.000
   06MT18_1,       A01E,     608,          1,         23,     -999.0,9,19910917,       2123,    52.1750,   -19.9933,       3783,  3821.1,   2.5118,  34.9092,2,-999.0000,9,  -999.0,9, -999.00,9, -999.00,9, -999.00,9, -999.00,9,-999.000,9,-999.000,9,  -999.0,9,  -999.0,9,-999.000,9,-999.0000,9, -999.00,9,-999.000,  -999.0,9,  -999.0,  3816.0,-999.0000,-999.000,     2.1835,-999.000
   06MT18_1,       A01E,     608,          1,         22,         K3,2,19910917,       2123,    52.1750,   -19.9933,       3783,  3821.2,   2.5118,  34.9092,2,  34.9100,2,   240.6,2,   45.13,2,   22.37,2,    0.00,2,    1.56,2,   0.044,2,   0.019,2,  -999.0,9,  -999.0,9,-999.000,9,-999.0000,9, -999.00,9,-999.000,  -999.0,9,  -999.0,  3816.1,-999.0000,-999.000,     2.1835,-999.000
   06MT18_1,       A01E,     609,          1,         23,        K23,2,19910918,       0345,    52.3583,   -20.4683,       3646,    58.0,  12.4045,  35.5970,2,  35.5930,2,   236.9,2,    2.93,2,   10.06,2,    0.02,2,    0.65,2,   3.064,2,   1.547,2,  -999.0,9,  -999.0,9,-999.000,9,-999.0000,9, -999.00,9,-999.000,  -999.0,9,  -999.0,    59.5,-999.0000,-999.000,    12.3968,-999.000
   06MT18_1,       A01E,     609,          1,         15,        B39,2,19910918,       0345,    52.3583,   -20.4683,       3646,   979.0,   5.5333,  35.0922,2,  35.0880,2,   234.3,2,   12.21,2,   18.75,2,    0.00,2,    1.25,2,   1.576,2,   0.735,2,  -999.0,9,  -999.0,9,-999.000,9,-999.0000,9, -999.00,9,-999.000,  -999.0,9,  -999.0,   984.9,-999.0000,-999.000,     5.4470,-999.000
   06MT18_1,       A01E,     609,          1,         14,        B42,2,19910918,       0345,    52.3583,   -20.4683,       3646,  1180.2,   4.3753,  34.9638,2,-999.0000,5,   256.7,2,   10.84,3,   16.80,3,    0.02,3,    1.13,3,   1.789,2,   0.845,2,  -999.0,9,  -999.0,9,-999.000,9,-999.0000,9, -999.00,9,   4.375,  -999.0,9,  -999.0,  1186.1,-999.0000,-999.000,     4.2799,-999.000
   06MT18_1,       A01E,     609,          1,         13,         K9,2,19910918,       0345,    52.3583,   -20.4683,       3646,  1380.4,   3.8907,  34.9199,2,  34.9180,2,   270.1,2,   11.72,2,   17.87,2,    0.00,2,    1.20,2,   1.808,2,   0.840,2,  -999.0,9,  -999.0,9,-999.000,9,-999.0000,9, -999.00,9,-999.000,  -999.0,9,  -999.0,  1386.0,-999.0000,-999.000,     3.7826,-999.000
   06MT18_1,       A01E,     609,          1,         12,        B50,2,19910918,       0345,    52.3583,   -20.4683,       3646,  1583.5,   3.6469,  34.9030,2,  34.9030,2,   276.1,2,   11.62,2,   17.58,2,    0.00,2,    1.19,2,   1.742,2,   0.813,2,  -999.0,9,  -999.0,9,-999.000,9,-999.0000,9, -999.00,9,   3.650,  -999.0,9,  -999.0,  1588.5,-999.0000,-999.000,     3.5234,-999.000
   06MT18_1,       A01E,     609,          1,         11,        B44,2,19910918,       0345,    52.3583,   -20.4683,       3646,  1787.2,   3.4950,  34.8973,2,  34.8970,2,   279.6,2,   11.82,2,   17.39,2,    0.00,2,    1.18,2,   1.683,2,   0.793,2,  -999.0,9,  -999.0,9,-999.000,9,-999.0000,9, -999.00,9,-999.000,  -999.0,9,  -999.0,  1791.4,-999.0000,-999.000,     3.3550,-999.000
   06MT18_1,       A01E,     609,          1,          9,        B45,2,19910918,       0345,    52.3583,   -20.4683,       3646,  2194.4,   3.4121,  34.9296,2,  34.9300,2,   274.7,2,   13.19,2,   17.39,2,    0.01,2,    1.18,2,   1.033,2,   0.485,2,  -999.0,9,  -999.0,9,-999.000,9,-999.0000,9, -999.00,9,-999.000,  -999.0,9,  -999.0,  2196.7,-999.0000,-999.000,     3.2349,-999.000
   06MT18_1,       A01E,     609,          1,          8,         K7,2,19910918,       0345,    52.3583,   -20.4683,       3646,  2396.1,   3.3172,  34.9386,2,  34.9410,2,   272.9,2,   13.87,2,   17.19,2,    0.01,2,    1.18,2,-999.000,9,-999.000,9,  -999.0,9,  -999.0,9,-999.000,9,-999.0000,9, -999.00,9,   3.318,  -999.0,9,  -999.0,  2397.3,-999.0000,-999.000,     3.1218,-999.000
   06MT18_1,       A01E,     609,          1,          7,        B52,2,19910918,       0345,    52.3583,   -20.4683,       3646,  2698.9,   3.1243,  34.9499,2,  34.9510,2,   267.4,2,   18.46,2,   17.78,2,    0.00,2,    1.22,2,   0.666,2,   0.323,2,  -999.0,9,  -999.0,9,-999.000,9,-999.0000,9, -999.00,9,-999.000,  -999.0,9,  -999.0,  2698.4,-999.0000,-999.000,     2.9021,-999.000
   06MT18_1,       A01E,     609,          1,          6,        B51,2,19910918,       0345,    52.3583,   -20.4683,       3646,  3004.2,   2.9055,  34.9485,2,  34.9500,2,   260.9,2,   24.81,2,   18.75,2,    0.00,2,    1.28,2,   0.539,2,   0.253,2,  -999.0,9,  -999.0,9,-999.000,9,-999.0000,9, -999.00,9,   2.907,  -999.0,9,  -999.0,  3002.1,-999.0000,-999.000,     2.6563,-999.000
   06MT18_1,       A01E,     609,          1,          5,        B49,2,19910918,       0345,    52.3583,   -20.4683,       3646,  3236.5,   2.7546,  34.9400,2,  34.9410,2,   254.5,2,   31.26,2,   19.83,2,    0.00,2,    1.37,2,   0.395,2,   0.184,2,  -999.0,9,  -999.0,9,-999.000,9,-999.0000,9, -999.00,9,-999.000,  -999.0,9,  -999.0,  3233.3,-999.0000,-999.000,     2.4843,-999.000
   06MT18_1,       A01E,     609,          1,          4,        B43,2,19910918,       0345,    52.3583,   -20.4683,       3646,  3443.7,   2.6377,  34.9272,2,  34.9270,2,   247.8,2,   37.90,2,   21.10,2,    0.04,4,    1.46,2,   0.206,2,   0.100,2,  -999.0,9,  -999.0,9,-999.000,9,-999.0000,9, -999.00,9,   2.648,  -999.0,9,  -999.0,  3439.6,-999.0000,-999.000,     2.3479,-999.000
   06MT18_1,       A01E,     609,          1,          3,        K30,2,19910918,       0345,    52.3583,   -20.4683,       3646,  3534.0,   2.6057,  34.9230,2,  34.9240,2,   246.2,2,   39.75,2,   21.49,2,    0.23,4,    1.48,2,   0.151,2,   0.073,2,  -999.0,9,  -999.0,9,-999.000,9,-999.0000,9, -999.00,9,-999.000,  -999.0,9,  -999.0,  3529.6,-999.0000,-999.000,     2.3069,-999.000
   06MT18_1,       A01E,     609,          1,          2,        B46,2,19910918,       0345,    52.3583,   -20.4683,       3646,  3581.2,   2.5877,  34.9193,2,  34.9210,2,   245.0,2,   40.83,2,   21.68,2,    0.00,2,    1.49,2,   0.125,2,   0.055,2,  -999.0,9,  -999.0,9,-999.000,9,-999.0000,9, -999.00,9,   2.593,  -999.0,9,  -999.0,  3576.7,-999.0000,-999.000,     2.2842,-999.000
   06MT18_1,       A01E,     609,          1,          1,        K31,2,19910918,       0345,    52.3583,   -20.4683,       3646,  3627.5,   2.5628,  34.9163,2,  34.9170,2,   243.9,2,   42.00,2,   22.56,2,    0.00,2,    1.51,2,   0.096,2,   0.049,2,  -999.0,9,  -999.0,9,-999.000,9,-999.0000,9, -999.00,9,-999.000,  -999.0,9,  -999.0,  3622.8,-999.0000,-999.000,     2.2548,-999.000