BOTTLE,20020919WHPSIOSA
EXPOCODE,SECT_ID,STNNBR,CASTNO,SAMPNO,BTLNBR,BTLNBR_FLAG_W,DATE,TIME,LATITUDE,LONGITUDE,DEPTH,CTDPRS,CTDTMP,CTDSAL,CTDSAL_FLAG_W,SALNTY,SALNTY_FLAG_W,OXYGEN,OXYGEN_FLAG_W,SILCAT,SILCAT_FLAG_W,NITRAT,NITRAT_FLAG_W,NITRIT,NITRIT_FLAG_W,PHSPHT,PHSPHT_FLAG_W,CFC-11,CFC-11_FLAG_W,CFC-12,CFC-12_FLAG_W,TCARBN,TCARBN_FLAG_W,ALKALI,ALKALI_FLAG_W,TRITUM,TRITUM_FLAG_W,HELIUM,HELIUM_FLAG_W,DELHE3,DELHE3_FLAG_W,REVTMP,DELC14,DELC14_FLAG_W,C14ERR,CTDRAW,HELIER,DELHER,THETA,TRITER
,,,,,,,,,,,METERS,DBAR,ITS-90,PSS-78,,PSS-78,,UMOL/KG,,UMOL/KG,,UMOL/KG,,UMOL/KG,,UMOL/KG,,PMOL/KG,,PMOL/KG,,UMOL/KG,,UMOL/KG,,TU,,NMOL/KG,,PERCNT,,ITS-90,/MILLE,,/MILLE,DBAR,NMOL/KG,PERCNT,DEG,TU
   06MT18_1,       A01E,     569,          1,          1,        B50,2,19910907,       2210,    59.3350,   -35.9433,       3116,     8.8,   8.3606,  34.6985,2,  34.6990,2,   295.7,2,    3.61,2,    9.28,2,    0.18,2,    0.67,2,   4.141,2,   1.986,2,  -999.0,9,  -999.0,9,   2.112,2,   1.7943,2,   -1.78,2,   8.359,  -999.0,9,  -999.0,     9.8,   0.0072,   0.140,     8.3597,   0.022
   06MT18_1,       A01E,     569,          1,         24,        B41,2,19910907,       2210,    59.3350,   -35.9433,       3116,    28.5,   8.1118,  34.7024,2,  34.7060,2,   292.8,2,    3.71,2,    9.48,2,    0.20,2,    0.67,2,-999.000,9,-999.000,9,  -999.0,9,  -999.0,9,-999.000,9,-999.0000,9, -999.00,9,-999.000,  -999.0,9,  -999.0,    29.7,-999.0000,-999.000,     8.1089,-999.000
   06MT18_1,       A01E,     569,          1,         23,         K1,2,19910907,       2210,    59.3350,   -35.9433,       3116,    58.1,   7.1897,  34.7405,2,  34.7410,2,   289.0,2,    4.49,2,   11.14,2,    0.27,2,    0.79,2,   4.252,2,   2.021,2,  -999.0,9,  -999.0,9,-999.000,9,-999.0000,9, -999.00,9,-999.000,  -999.0,9,  -999.0,    59.6,-999.0000,-999.000,     7.1843,-999.000
   06MT18_1,       A01E,     569,          1,         22,         K3,2,19910907,       2210,    59.3350,   -35.9433,       3116,    77.6,   5.3674,  34.8166,2,  34.8220,2,   288.8,2,    7.72,2,   16.51,2,    0.23,2,    1.08,2,-999.000,9,-999.000,9,  -999.0,9,  -999.0,9,   2.054,2,   1.7917,2,   -1.41,2,-999.000,  -999.0,9,  -999.0,    79.3,   0.0072,   0.140,     5.3612,   0.024
   06MT18_1,       A01E,     569,          1,         21,        B35,2,19910907,       2210,    59.3350,   -35.9433,       3116,   178.1,   4.4862,  34.8788,2,  34.8790,2,   288.8,2,    9.57,2,   17.78,2,    0.00,2,    1.14,2,-999.000,9,-999.000,9,  -999.0,9,  -999.0,9,-999.000,9,-999.0000,9, -999.00,9,-999.000,  -999.0,9,  -999.0,   180.7,-999.0000,-999.000,     4.4730,-999.000
   06MT18_1,       A01E,     569,          1,         20,        B48,2,19910907,       2210,    59.3350,   -35.9433,       3116,   277.2,   4.1924,  34.8976,2,  34.8960,2,   278.1,2,   10.06,2,   17.97,2,    0.00,2,    1.15,2,   3.272,2,   1.554,2,  -999.0,9,  -999.0,9,   1.978,2,   1.8133,2,    2.81,2,-999.000,  -999.0,9,  -999.0,   280.6,   0.0073,   0.110,     4.1723,   0.023
   06MT18_1,       A01E,     569,          1,         19,        B36,2,19910907,       2210,    59.3350,   -35.9433,       3116,   378.0,   3.9087,  34.8876,2,  34.8850,2,   286.0,2,   10.16,2,   18.07,2,    0.00,2,    1.16,2,-999.000,9,-999.000,9,  -999.0,9,  -999.0,9,-999.000,9,-999.0000,9, -999.00,9,-999.000,  -999.0,9,  -999.0,   382.0,-999.0000,-999.000,     3.8819,-999.000
   06MT18_1,       A01E,     569,          1,         18,        K17,2,19910907,       2210,    59.3350,   -35.9433,       3116,   680.0,   3.4510,  34.8809,2,  34.8790,2,   292.5,2,   10.16,2,   17.48,2,    0.00,2,    1.12,2,   3.207,2,   1.517,2,  -999.0,9,  -999.0,9,   1.877,2,   1.8034,2,    3.31,2,-999.000,  -999.0,9,  -999.0,   685.4,   0.0072,   0.150,     3.4037,   0.022
   06MT18_1,       A01E,     569,          1,         17,        K19,2,19910907,       2210,    59.3350,   -35.9433,       3116,   984.2,   3.2352,  34.8672,2,  34.8650,2,   298.0,2,    9.87,2,   17.19,2,    0.00,2,    1.11,2,-999.000,9,-999.000,9,  -999.0,9,  -999.0,9,-999.000,9,-999.0000,9, -999.00,9,   3.244,  -999.0,9,  -999.0,   990.1,-999.0000,-999.000,     3.1661,-999.000
   06MT18_1,       A01E,     569,          1,         16,        B39,2,19910907,       2210,    59.3350,   -35.9433,       3116,  1182.1,   3.1883,  34.8630,2,  34.8620,2,   298.0,2,    9.87,2,   17.09,2,    0.00,2,    1.11,2,   3.339,2,   1.578,2,  -999.0,9,  -999.0,9,   1.939,2,   1.8127,2,    2.93,2,-999.000,  -999.0,9,  -999.0,  1188.0,   0.0073,   0.190,     3.1039,   0.022
   06MT18_1,       A01E,     569,          1,         15,        K15,2,19910907,       2210,    59.3350,   -35.9433,       3116,  1485.8,   3.1583,  34.8646,2,  34.8630,2,   294.3,2,   10.16,2,   17.09,2,    0.00,2,    1.11,2,-999.000,9,-999.000,9,  -999.0,9,  -999.0,9,-999.000,9,-999.0000,9, -999.00,9,-999.000,  -999.0,9,  -999.0,  1491.1,-999.0000,-999.000,     3.0491,-999.000
   06MT18_1,       A01E,     569,          1,         14,         K7,2,19910907,       2210,    59.3350,   -35.9433,       3116,  1689.0,   3.2532,  34.8893,2,  34.8870,2,   288.0,2,   10.74,2,   17.19,2,    0.00,2,    1.11,2,   2.455,2,   1.138,2,  -999.0,9,  -999.0,9,   1.724,2,   1.8137,2,    5.36,2,   3.256,  -999.0,9,  -999.0,  1693.6,   0.0073,   0.170,     3.1252,   0.022
   06MT18_1,       A01E,     569,          1,         12,        B44,2,19910907,       2210,    59.3350,   -35.9433,       3116,  1994.9,   3.3831,  34.9418,2,  34.9430,2,   277.4,2,   11.82,2,   17.09,2,    0.00,2,    1.12,2,   1.484,2,   0.701,2,  -999.0,9,  -999.0,9,-999.000,9,-999.0000,9, -999.00,9,-999.000,  -999.0,9,  -999.0,  1998.2,-999.0000,-999.000,     3.2253,-999.000
   06MT18_1,       A01E,     569,          1,         11,        B46,2,19910907,       2210,    59.3350,   -35.9433,       3116,  2096.7,   3.3621,  34.9521,2,  34.9530,2,   275.9,2,   12.21,2,   17.09,2,    0.00,2,    1.12,2,   1.374,2,   0.649,2,  -999.0,9,  -999.0,9,   1.332,2,   1.8188,2,    7.22,2,   3.363,  -999.0,9,  -999.0,  2099.5,   0.0073,   0.110,     3.1950,   0.017
   06MT18_1,       A01E,     569,          1,         10,        B45,2,19910907,       2210,    59.3350,   -35.9433,       3116,  2199.6,   3.2722,  34.9447,2,  34.9460,2,   276.2,2,   12.60,2,   17.09,2,    0.00,2,    1.11,2,-999.000,9,-999.000,9,  -999.0,9,  -999.0,9,-999.000,9,-999.0000,9, -999.00,9,-999.000,  -999.0,9,  -999.0,  2201.9,-999.0000,-999.000,     3.0967,-999.000
   06MT18_1,       A01E,     569,          1,          9,        B40,2,19910907,       2210,    59.3350,   -35.9433,       3116,  2397.2,   3.1673,  34.9447,2,  34.9460,2,   276.1,2,   13.28,2,   17.09,2,    0.00,2,    1.12,2,   1.159,2,   0.545,2,  -999.0,9,  -999.0,9,   1.258,2,   1.8411,2,    7.34,2,   3.170,  -999.0,9,  -999.0,  2398.4,   0.0074,   0.130,     2.9744,   0.017
   06MT18_1,       A01E,     569,          1,          8,        B52,2,19910907,       2210,    59.3350,   -35.9433,       3116,  2595.0,   3.0504,  34.9441,2,  34.9430,2,   276.7,2,   13.77,2,   16.99,2,    0.00,2,    1.12,2,   1.098,2,   0.516,2,  -999.0,9,  -999.0,9,-999.000,9,-999.0000,9, -999.00,9,-999.000,  -999.0,9,  -999.0,  2595.1,-999.0000,-999.000,     2.8401,-999.000
   06MT18_1,       A01E,     569,          1,          7,        B37,2,19910907,       2210,    59.3350,   -35.9433,       3116,  2796.2,   2.9075,  34.9383,2,  34.9370,2,   278.0,2,   13.87,2,   16.90,2,    0.00,2,    1.12,2,-999.000,9,-999.000,9,  -999.0,9,  -999.0,9,   1.183,2,   1.8332,2,    7.06,2,   2.909,  -999.0,9,  -999.0,  2795.2,   0.0073,   0.140,     2.6797,   0.017
   06MT18_1,       A01E,     569,          1,          6,        B49,2,19910907,       2210,    59.3350,   -35.9433,       3116,  2947.2,   2.6467,  34.9214,2,  34.9210,2,   282.8,2,   13.09,2,   16.41,2,    0.00,2,    1.09,2,   1.548,2,   0.724,2,  -999.0,9,  -999.0,9,-999.000,9,-999.0000,9, -999.00,9,-999.000,  -999.0,9,  -999.0,  2945.4,-999.0000,-999.000,     2.4091,-999.000
   06MT18_1,       A01E,     569,          1,          5,        B51,4,19910907,       2210,    59.3350,   -35.9433,       3116,  2947.2,-999.0000,-999.0000,9,  34.9210,2,   282.6,2,   13.19,3,   16.41,2,    0.00,2,    1.09,2,-999.000,9,-999.000,9,  -999.0,9,  -999.0,9,   1.339,2,   1.8301,2,    6.24,2,   2.651,  -999.0,9,  -999.0,  2945.4,   0.0073,   0.140,     -999.0,   0.019
   06MT18_1,       A01E,     569,          1,          4,        K30,2,19910907,       2210,    59.3350,   -35.9433,       3116,  3050.3,   2.3379,  34.9055,2,  34.9060,2,   288.8,2,   11.72,2,   15.73,2,    0.00,2,    1.06,2,   2.068,2,   0.959,2,  -999.0,9,  -999.0,9,   1.512,2,   1.8313,2,    6.04,2,-999.000,  -999.0,9,  -999.0,  3048.0,   0.0073,   0.140,     2.0965,   0.021
   06MT18_1,       A01E,     569,          1,          3,        K22,4,19910907,       2210,    59.3350,   -35.9433,       3116,  3102.5,   1.7663,  34.8857,2,  34.8900,2,   298.2,2,    9.96,2,   14.85,2,    0.01,2,    1.00,2,   2.728,2,   1.273,2,  -999.0,9,  -999.0,9,   1.772,2,   1.8435,2,    5.35,2,   1.794,  -999.0,9,  -999.0,  3099.9,   0.0074,   0.170,     1.5326,   0.020
   06MT18_1,       A01E,     569,          1,          2,        K31,2,19910907,       2210,    59.3350,   -35.9433,       3116,  3129.9,   1.4865,  34.8839,2,  34.8830,2,   302.0,2,    9.47,2,   14.36,2,    0.01,2,    0.97,2,   2.989,2,   1.401,2,  -999.0,9,  -999.0,9,   1.831,2,   1.8316,2,    4.56,2,-999.000,  -999.0,9,  -999.0,  3127.2,   0.0073,   0.140,     1.2565,   0.033
   06MT18_1,       A01E,     570,          1,         23,         K1,2,19910908,       0348,    59.2333,   -35.0017,       2861,    28.4,   9.0309,  34.7097,2,  34.7330,2,   283.3,2,    2.83,2,    8.30,2,    0.21,2,    0.62,2,   3.961,2,   1.902,2,  2088.7,2,  -999.0,9,-999.000,9,-999.0000,9, -999.00,9,-999.000,  -999.0,9,  -999.0,    29.6,-999.0000,-999.000,     9.0278,-999.000
   06MT18_1,       A01E,     570,          1,         22,         K3,2,19910908,       0348,    59.2333,   -35.0017,       2861,    58.7,   6.1197,  34.8518,2,  34.8690,2,   284.9,2,    7.03,2,   16.21,2,    0.02,2,    1.05,2,   4.453,2,   2.081,2,  2137.2,2,  -999.0,9,-999.000,9,-999.0000,9, -999.00,9,-999.000,  -999.0,9,  -999.0,    60.2,-999.0000,-999.000,     6.1147,-999.000
   06MT18_1,       A01E,     570,          1,         21,        B35,2,19910908,       0348,    59.2333,   -35.0017,       2861,    88.7,   5.6452,  34.9189,2,  34.9290,2,   284.0,2,    8.30,2,   16.80,2,    0.01,2,    1.07,2,-999.000,9,-999.000,9,  2142.7,2,  -999.0,9,-999.000,9,-999.0000,9, -999.00,9,-999.000,  -999.0,9,  -999.0,    90.5,-999.0000,-999.000,     5.6379,-999.000
   06MT18_1,       A01E,     570,          1,         20,        B48,2,19910908,       0348,    59.2333,   -35.0017,       2861,   189.6,   5.0946,  34.9337,2,  34.9390,2,   278.6,2,    9.08,2,   17.29,2,    0.00,2,    1.10,2,   3.683,2,   1.742,2,  2148.0,2,  -999.0,9,-999.000,9,-999.0000,9, -999.00,9,-999.000,  -999.0,9,  -999.0,   192.3,-999.0000,-999.000,     5.0796,-999.000
   06MT18_1,       A01E,     570,          1,         19,        B36,2,19910908,       0348,    59.2333,   -35.0017,       2861,   390.6,   4.3533,  34.9254,2,  34.9260,2,   269.7,2,   10.26,2,   18.17,2,    0.00,2,    1.16,2,   2.787,2,   1.336,3,  2155.2,2,  -999.0,9,-999.000,9,-999.0000,9, -999.00,9,-999.000,  -999.0,9,  -999.0,   394.7,-999.0000,-999.000,     4.3242,-999.000
   06MT18_1,       A01E,     570,          1,         18,        K17,2,19910908,       0348,    59.2333,   -35.0017,       2861,   591.4,   3.8088,  34.8982,2,  34.8980,2,   284.9,2,   10.06,2,   17.78,2,    0.00,2,    1.14,2,   3.094,2,   1.500,3,  2153.2,2,  -999.0,9,-999.000,9,-999.0000,9, -999.00,9,-999.000,  -999.0,9,  -999.0,   596.5,-999.0000,-999.000,     3.7664,-999.000
   06MT18_1,       A01E,     570,          1,         16,        B39,2,19910908,       0348,    59.2333,   -35.0017,       2861,   995.2,   3.3122,  34.8744,2,  34.8720,2,   295.2,2,    9.87,2,   17.29,2,    0.00,2,    1.11,2,-999.000,9,-999.000,9,  2149.8,2,  -999.0,9,-999.000,9,-999.0000,9, -999.00,9,-999.000,  -999.0,9,  -999.0,  1001.1,-999.0000,-999.000,     3.2416,-999.000
   06MT18_1,       A01E,     570,          1,         15,        K15,2,19910908,       0348,    59.2333,   -35.0017,       2861,  1094.7,   3.3351,  34.8814,2,  34.8760,2,   293.1,2,    9.77,2,   17.29,2,    0.00,2,    1.11,2,   3.075,2,   1.482,2,  2149.3,2,  -999.0,9,   1.875,2,   1.7863,2,    3.64,2,-999.000,  -999.0,9,  -999.0,  1100.6,   0.0071,   0.200,     3.2564,   0.036
   06MT18_1,       A01E,     570,          1,         14,         K7,2,19910908,       0348,    59.2333,   -35.0017,       2861,  1345.5,   3.4211,  34.9064,2,  34.9050,2,   284.8,2,   10.45,2,   17.19,2,    0.00,2,    1.12,2,   2.393,2,   1.122,2,  2150.2,2,  -999.0,9,   1.639,2,   1.8274,2,    5.82,2,   3.423,  -999.0,9,  -999.0,  1351.1,   0.0073,   0.190,     3.3209,   0.029
   06MT18_1,       A01E,     570,          1,         13,        B42,2,19910908,       0348,    59.2333,   -35.0017,       2861,  1474.5,   3.3052,  34.8965,2,  34.8950,2,   286.4,2,   10.45,2,   17.19,2,    0.00,2,    1.12,2,   2.335,2,   1.108,2,  2151.3,2,  -999.0,9,   1.700,2,   1.7928,2,    5.73,2,-999.000,  -999.0,9,  -999.0,  1479.8,   0.0072,   0.190,     3.1953,   0.035
   06MT18_1,       A01E,     570,          1,         12,        B44,2,19910908,       0348,    59.2333,   -35.0017,       2861,  1645.2,   3.4091,  34.9248,2,  34.9250,2,   280.5,2,   11.04,2,   17.19,2,    0.00,2,    1.12,2,   1.851,2,   0.874,2,  2152.1,2,  -999.0,9,-999.000,9,-999.0000,9, -999.00,9,-999.000,  -999.0,9,  -999.0,  1650.0,-999.0000,-999.000,     3.2829,-999.000
   06MT18_1,       A01E,     570,          1,         11,        B46,2,19910908,       0348,    59.2333,   -35.0017,       2861,  1794.4,   3.3991,  34.9422,2,  34.9410,2,   277.5,2,   11.53,2,   17.19,2,    0.00,2,    1.12,2,   1.569,2,   0.742,2,  2153.2,2,  -999.0,9,   1.359,2,   1.8027,2,    7.32,2,   3.400,  -999.0,9,  -999.0,  1798.6,   0.0072,   0.200,     3.2596,   0.031
   06MT18_1,       A01E,     570,          1,         10,        B45,2,19910908,       0348,    59.2333,   -35.0017,       2861,  1997.9,   3.3052,  34.9466,2,  34.9460,2,   276.2,2,   12.31,2,   17.09,2,    0.00,2,    1.12,2,   1.349,2,   0.637,2,  2142.1,2,  -999.0,9,   1.347,2,   1.8149,2,    7.32,2,-999.000,  -999.0,9,  -999.0,  2001.2,   0.0073,   0.180,     3.1483,   0.023
   06MT18_1,       A01E,     570,          1,          9,        B40,2,19910908,       0348,    59.2333,   -35.0017,       2861,  2148.9,   3.2342,  34.9495,2,  34.9480,2,   275.9,2,   12.70,2,   17.09,2,    0.00,2,    1.13,2,   1.266,2,   0.598,2,  2145.5,2,  -999.0,9,-999.000,9,-999.0000,9, -999.00,9,   3.237,  -999.0,9,  -999.0,  2151.4,-999.0000,-999.000,     3.0641,-999.000
   06MT18_1,       A01E,     570,          1,          8,        B52,2,19910908,       0348,    59.2333,   -35.0017,       2861,  2298.4,   3.1133,  34.9456,2,  34.9450,2,   276.3,2,   13.19,2,   17.09,2,    0.00,2,    1.13,2,   1.154,2,   0.544,2,  2155.3,2,  -999.0,9,-999.000,9,-999.0000,9, -999.00,9,-999.000,  -999.0,9,  -999.0,  2300.2,-999.0000,-999.000,     2.9309,-999.000
   06MT18_1,       A01E,     570,          1,          7,        B37,2,19910908,       0348,    59.2333,   -35.0017,       2861,  2467.1,   3.0394,  34.9422,2,  34.9420,2,   277.1,2,   13.48,2,   17.00,2,    0.00,2,    1.14,2,   1.123,2,   0.520,2,  2154.1,2,  -999.0,9,   1.177,2,   1.8278,2,    7.07,2,   3.040,  -999.0,9,  -999.0,  2467.9,   0.0073,   0.190,     2.8420,   0.022
   06MT18_1,       A01E,     570,          1,          6,        B49,2,19910908,       0348,    59.2333,   -35.0017,       2861,  2567.4,   2.9754,  34.9405,2,  34.9400,2,   277.2,2,   13.58,2,   17.00,2,    0.00,2,    1.14,2,-999.000,9,-999.000,9,  2155.6,2,  -999.0,9,-999.000,9,-999.0000,9, -999.00,9,-999.000,  -999.0,9,  -999.0,  2567.7,-999.0000,-999.000,     2.7693,-999.000
   06MT18_1,       A01E,     570,          1,          5,        B51,2,19910908,       0348,    59.2333,   -35.0017,       2861,  2617.6,   2.9415,  34.9401,2,  34.9390,2,   277.6,2,   13.77,2,   17.00,2,    0.00,2,    1.13,2,   1.144,2,   0.536,2,  2154.6,2,  -999.0,9,-999.000,9,-999.0000,9, -999.00,9,   2.944,  -999.0,9,  -999.0,  2617.6,-999.0000,-999.000,     2.7310,-999.000
   06MT18_1,       A01E,     570,          1,          4,        K30,2,19910908,       0348,    59.2333,   -35.0017,       2861,  2667.6,   2.9345,  34.9400,2,  34.9390,2,   277.7,2,   13.77,2,   16.90,2,    0.00,2,    1.13,2,-999.000,9,-999.000,9,  2154.5,2,  -999.0,9,-999.000,9,-999.0000,9, -999.00,9,-999.000,  -999.0,9,  -999.0,  2667.3,-999.0000,-999.000,     2.7192,-999.000
   06MT18_1,       A01E,     570,          1,          3,        K22,2,19910908,       0348,    59.2333,   -35.0017,       2861,  2718.7,   2.9265,  34.9393,2,  34.9380,2,   277.9,2,   13.67,2,   16.90,2,    0.00,2,    1.13,2,   1.158,2,   0.545,2,  2154.7,2,  -999.0,9,   1.201,2,-999.0000,5,   -9.00,5,   2.928,  -999.0,9,  -999.0,  2718.1,-999.0000,-999.000,     2.7062,   0.024
   06MT18_1,       A01E,     570,          1,          2,        K31,2,19910908,       0348,    59.2333,   -35.0017,       2861,  2770.2,   2.9115,  34.9376,2,  34.9370,2,   277.6,2,   13.48,2,   16.90,2,    0.00,2,    1.13,2,-999.000,9,-999.000,9,  -999.0,9,  -999.0,9,-999.000,9,-999.0000,9, -999.00,9,-999.000,  -999.0,9,  -999.0,  2769.3,-999.0000,-999.000,     2.6863,-999.000
   06MT18_1,       A01E,     570,          1,          1,        B50,2,19910908,       0348,    59.2333,   -35.0017,       2861,  2819.9,   2.9095,  34.9374,2,  34.9370,2,   277.7,2,   13.48,2,   16.90,2,    0.00,2,    1.13,2,   1.176,2,   0.551,2,  2152.7,2,  -999.0,9,   1.214,2,   1.8072,2,    7.28,2,   2.910,  -999.0,9,  -999.0,  2818.8,   0.0072,   0.180,     2.6793,   0.027