BOTTLE,20020919WHPSIOSA
EXPOCODE,SECT_ID,STNNBR,CASTNO,SAMPNO,BTLNBR,BTLNBR_FLAG_W,DATE,TIME,LATITUDE,LONGITUDE,DEPTH,CTDPRS,CTDTMP,CTDSAL,CTDSAL_FLAG_W,SALNTY,SALNTY_FLAG_W,OXYGEN,OXYGEN_FLAG_W,SILCAT,SILCAT_FLAG_W,NITRAT,NITRAT_FLAG_W,NITRIT,NITRIT_FLAG_W,PHSPHT,PHSPHT_FLAG_W,CFC-11,CFC-11_FLAG_W,CFC-12,CFC-12_FLAG_W,TCARBN,TCARBN_FLAG_W,ALKALI,ALKALI_FLAG_W,TRITUM,TRITUM_FLAG_W,HELIUM,HELIUM_FLAG_W,DELHE3,DELHE3_FLAG_W,REVTMP,DELC14,DELC14_FLAG_W,C14ERR,CTDRAW,HELIER,DELHER,THETA,TRITER
,,,,,,,,,,,METERS,DBAR,ITS-90,PSS-78,,PSS-78,,UMOL/KG,,UMOL/KG,,UMOL/KG,,UMOL/KG,,UMOL/KG,,PMOL/KG,,PMOL/KG,,UMOL/KG,,UMOL/KG,,TU,,NMOL/KG,,PERCNT,,ITS-90,/MILLE,,/MILLE,DBAR,NMOL/KG,PERCNT,DEG,TU
   06MT18_1,       A01E,     621,          1,         10,        K19,2,19910921,       0508,    52.3367,   -14.6433,        417,    11.4,  14.9460,  35.3357,2,  35.3430,2,   249.6,2,    0.59,2,    0.78,2,    0.07,2,    0.17,2,   2.936,2,   1.508,2,  2049.2,2,  -999.0,9,-999.000,9,-999.0000,9, -999.00,9,  14.945,  -999.0,9,  -999.0,    12.4,-999.0000,-999.000,    14.9443,-999.000
   06MT18_1,       A01E,     621,          1,          9,        B45,2,19910921,       0508,    52.3367,   -14.6433,        417,    30.5,  14.9360,  35.3342,2,  35.3420,2,   249.7,2,    0.68,2,    0.78,2,    0.07,2,    0.17,2,   2.944,2,   1.505,2,  2049.6,2,  -999.0,9,-999.000,9,-999.0000,9, -999.00,9,-999.000,  -999.0,9,  -999.0,    31.7,-999.0000,-999.000,    14.9314,-999.000
   06MT18_1,       A01E,     621,          1,          8,         K7,2,19910921,       0508,    52.3367,   -14.6433,        417,    58.9,  13.5809,  35.4832,2,  35.4170,2,   238.2,2,    1.95,2,    6.64,2,    0.37,2,    0.52,2,   3.261,2,   1.623,2,  2098.5,2,  -999.0,9,-999.000,9,-999.0000,9, -999.00,9,  13.513,  -999.0,9,  -999.0,    60.4,-999.0000,-999.000,    13.5726,-999.000
   06MT18_1,       A01E,     621,          1,          7,        B52,3,19910921,       0508,    52.3367,   -14.6433,        417,    97.5,  11.0109,  35.4405,2,  35.4460,2,   241.4,4,    3.22,2,   10.94,2,    0.06,2,    0.73,2,-999.000,9,-999.000,9,  -999.0,9,  -999.0,9,-999.000,9,-999.0000,9, -999.00,9,-999.000,  -999.0,9,  -999.0,    99.4,-999.0000,-999.000,    10.9989,-999.000
   06MT18_1,       A01E,     621,          1,          6,        B51,2,19910921,       0508,    52.3367,   -14.6433,        417,   148.3,  10.2587,  35.4397,2,  35.4460,2,   251.0,2,    4.69,2,   11.72,2,    0.02,2,    0.77,2,   3.325,2,   1.645,2,  2124.8,2,  -999.0,9,-999.000,9,-999.0000,9, -999.00,9,  10.215,  -999.0,9,  -999.0,   150.6,-999.0000,-999.000,    10.2412,-999.000
   06MT18_1,       A01E,     621,          1,          5,        B49,2,19910921,       0508,    52.3367,   -14.6433,        417,   197.4,  10.1058,  35.4309,2,  35.4370,2,   249.7,2,    5.08,2,   12.11,2,    0.02,2,    0.79,2,   3.254,2,   1.606,2,  2128.2,2,  -999.0,9,-999.000,9,-999.0000,9, -999.00,9,-999.000,  -999.0,9,  -999.0,   200.2,-999.0000,-999.000,    10.0826,-999.000
   06MT18_1,       A01E,     621,          1,          4,        B43,2,19910921,       0508,    52.3367,   -14.6433,        417,   247.9,  10.0069,  35.4288,2,  35.4380,2,   248.8,2,    5.18,2,   12.21,2,    0.02,2,    0.79,2,-999.000,9,-999.000,9,  2128.5,2,  -999.0,9,-999.000,9,-999.0000,9, -999.00,9,  10.009,  -999.0,9,  -999.0,   251.1,-999.0000,-999.000,     9.9779,-999.000
   06MT18_1,       A01E,     621,          1,          3,        K30,2,19910921,       0508,    52.3367,   -14.6433,        417,   297.4,   9.9939,  35.4443,2,  35.4500,2,   248.6,2,    5.08,2,   12.01,2,    0.02,2,    0.79,2,   3.194,2,   1.577,2,  2128.6,2,  -999.0,9,-999.000,9,-999.0000,9, -999.00,9,-999.000,  -999.0,9,  -999.0,   300.9,-999.0000,-999.000,     9.9590,-999.000
   06MT18_1,       A01E,     621,          1,          2,        B46,2,19910921,       0508,    52.3367,   -14.6433,        417,   347.8,   9.9570,  35.4563,2,  35.4620,2,   247.5,2,    5.47,2,   12.01,2,    0.02,2,    0.79,2,-999.000,9,-999.000,9,  2130.5,2,  -999.0,9,-999.000,9,-999.0000,9, -999.00,9,   9.956,  -999.0,9,  -999.0,   351.7,-999.0000,-999.000,     9.9162,-999.000
   06MT18_1,       A01E,     621,          1,          1,        K31,2,19910921,       0508,    52.3367,   -14.6433,        417,   398.0,   9.9140,  35.4622,2,  35.4690,2,   242.4,2,    7.13,2,   12.30,2,    0.04,2,    0.84,2,   3.265,2,   1.619,2,  2136.1,2,  -999.0,9,-999.000,9,-999.0000,9, -999.00,9,-999.000,  -999.0,9,  -999.0,   402.2,-999.0000,-999.000,     9.8673,-999.000
   06MT18_1,       A01E,     622,          1,         10,        K19,2,19910921,       0737,    52.3333,   -14.2533,        335,    22.1,  14.6813,  35.3252,2,  35.3320,2,   248.3,3,    0.78,2,    0.98,2,    0.07,2,    0.19,2,   2.820,6,   1.545,6,  -999.0,9,  -999.0,9,-999.000,9,-999.0000,9, -999.00,9,  14.683,  -999.0,9,  -999.0,    23.2,-999.0000,-999.000,    14.6780,-999.000
   06MT18_1,       A01E,     622,          1,          9,        B45,2,19910921,       0737,    52.3333,   -14.2533,        335,    23.1,  14.6803,  35.3257,2,  35.3320,2,   249.8,2,    0.78,2,    0.98,2,    0.06,2,    0.19,2,   2.995,2,   1.527,2,  -999.0,9,  -999.0,9,   2.148,2,   1.7284,2,   -1.51,2,-999.000,  -999.0,9,  -999.0,    24.3,   0.0069,   0.200,    14.6769,   0.033
   06MT18_1,       A01E,     622,          1,          8,         K7,2,19910921,       0737,    52.3333,   -14.2533,        335,    29.1,  14.6813,  35.3278,2,  35.3320,2,   248.7,2,    0.88,2,    0.98,2,    0.07,2,    0.18,2,   3.028,2,   1.523,2,  -999.0,9,  -999.0,9,-999.000,9,-999.0000,9, -999.00,9,  14.693,  -999.0,9,  -999.0,    30.3,-999.0000,-999.000,    14.6770,-999.000
   06MT18_1,       A01E,     622,          1,          7,        B52,2,19910921,       0737,    52.3333,   -14.2533,        335,    58.1,  14.3466,  35.3342,2,  35.3510,2,   243.8,2,    1.07,2,    2.44,2,    0.13,2,    0.27,2,   3.081,2,   1.562,2,  -999.0,9,  -999.0,9,   2.223,2,   1.7309,2,   -1.70,2,-999.000,  -999.0,9,  -999.0,    59.6,   0.0069,   0.160,    14.3381,   0.033
   06MT18_1,       A01E,     622,          1,          6,        B51,2,19910921,       0737,    52.3333,   -14.2533,        335,    98.5,  10.3586,  35.4323,2,  35.4380,2,   247.1,2,    4.49,2,   11.91,2,    0.01,2,    0.76,2,   3.449,2,   1.696,2,  -999.0,9,  -999.0,9,   2.169,2,   1.7477,2,   -0.75,2,  10.373,  -999.0,9,  -999.0,   100.4,   0.0070,   0.160,    10.3469,   0.028
   06MT18_1,       A01E,     622,          1,          5,        B49,2,19910921,       0737,    52.3333,   -14.2533,        335,   149.2,  10.0789,  35.4284,2,  35.4340,2,   248.5,2,    5.47,2,   12.21,2,    0.00,2,    0.79,2,-999.000,9,-999.000,9,  -999.0,9,  -999.0,9,-999.000,9,-999.0000,9, -999.00,9,-999.000,  -999.0,9,  -999.0,   151.6,-999.0000,-999.000,    10.0614,-999.000
   06MT18_1,       A01E,     622,          1,          4,        B43,2,19910921,       0737,    52.3333,   -14.2533,        335,   197.5,   9.9849,  35.4317,2,  35.4560,2,   250.5,2,    4.98,2,   12.11,2,    0.01,2,    0.79,2,   3.287,2,   1.625,2,  -999.0,9,  -999.0,9,   2.162,2,   1.7602,2,   -0.06,2,   9.988,  -999.0,9,  -999.0,   200.3,   0.0070,   0.190,     9.9619,   0.041
   06MT18_1,       A01E,     622,          1,          3,        K30,2,19910921,       0737,    52.3333,   -14.2533,        335,   248.0,   9.9720,  35.4517,2,  35.4560,2,   251.1,2,    4.98,2,   11.82,2,    0.00,2,    0.77,2,-999.000,9,-999.000,9,  -999.0,9,  -999.0,9,   2.071,2,   1.7621,2,    0.01,2,-999.000,  -999.0,9,  -999.0,   251.2,   0.0070,   0.190,     9.9430,   0.040
   06MT18_1,       A01E,     622,          1,          2,        B46,2,19910921,       0737,    52.3333,   -14.2533,        335,   296.4,   9.8781,  35.4570,2,  35.4610,2,   241.3,2,    7.32,2,   12.50,2,    0.01,2,    0.86,2,-999.000,9,-999.000,9,  -999.0,9,  -999.0,9,-999.000,9,-999.0000,9, -999.00,9,   9.882,  -999.0,9,  -999.0,   299.9,-999.0000,-999.000,     9.8436,-999.000
   06MT18_1,       A01E,     622,          1,          1,        K31,2,19910921,       0737,    52.3333,   -14.2533,        335,   316.0,   9.8701,  35.4589,2,  35.4620,2,   239.1,2,    8.01,2,   12.60,2,    0.01,2,    0.87,2,   3.388,2,   1.673,2,  -999.0,9,  -999.0,9,   2.211,2,   1.7621,2,   -0.12,2,-999.000,  -999.0,9,  -999.0,   319.6,   0.0070,   0.170,     9.8333,   0.041