BOTTLE,20020919WHPSIOSA
EXPOCODE,SECT_ID,STNNBR,CASTNO,SAMPNO,BTLNBR,BTLNBR_FLAG_W,DATE,TIME,LATITUDE,LONGITUDE,DEPTH,CTDPRS,CTDTMP,CTDSAL,CTDSAL_FLAG_W,SALNTY,SALNTY_FLAG_W,OXYGEN,OXYGEN_FLAG_W,SILCAT,SILCAT_FLAG_W,NITRAT,NITRAT_FLAG_W,NITRIT,NITRIT_FLAG_W,PHSPHT,PHSPHT_FLAG_W,CFC-11,CFC-11_FLAG_W,CFC-12,CFC-12_FLAG_W,TCARBN,TCARBN_FLAG_W,ALKALI,ALKALI_FLAG_W,TRITUM,TRITUM_FLAG_W,HELIUM,HELIUM_FLAG_W,DELHE3,DELHE3_FLAG_W,REVTMP,DELC14,DELC14_FLAG_W,C14ERR,CTDRAW,HELIER,DELHER,THETA,TRITER
,,,,,,,,,,,METERS,DBAR,ITS-90,PSS-78,,PSS-78,,UMOL/KG,,UMOL/KG,,UMOL/KG,,UMOL/KG,,UMOL/KG,,PMOL/KG,,PMOL/KG,,UMOL/KG,,UMOL/KG,,TU,,NMOL/KG,,PERCNT,,ITS-90,/MILLE,,/MILLE,DBAR,NMOL/KG,PERCNT,DEG,TU
   06MT18_1,       A01E,     615,          1,         24,        B41,2,19910919,       1859,    52.3267,   -16.9883,       3931,    18.0,  14.9051,  35.1537,2,  35.1580,2,   251.6,2,    0.68,2,    0.29,2,    0.06,2,    0.16,2,   3.012,2,   1.514,2,  2044.9,2,  -999.0,9,   2.237,2,   1.7295,2,   -1.32,2,-999.000,    60.0,2,     5.0,    19.1,   0.0069,   0.190,    14.9024,   0.037
   06MT18_1,       A01E,     615,          1,         23,        K23,2,19910919,       1859,    52.3267,   -16.9883,       3931,    33.2,  14.8771,  35.1517,2,  35.1540,2,   250.9,2,    0.68,2,    0.29,2,    0.06,2,    0.16,2,   3.075,2,   1.528,2,  2045.2,2,  -999.0,9,-999.000,9,-999.0000,9, -999.00,9,-999.000,  -999.0,9,  -999.0,    34.5,-999.0000,-999.000,    14.8721,-999.000
   06MT18_1,       A01E,     615,          1,         22,        B38,2,19910919,       1859,    52.3267,   -16.9883,       3931,    63.8,  13.0009,  35.4984,2,  35.4860,2,   234.2,2,    1.95,2,    8.10,2,    0.19,2,    0.58,2,   3.230,2,   1.587,2,  2104.7,2,  -999.0,9,-999.000,9,-999.0000,9, -999.00,9,-999.000,  -999.0,9,  -999.0,    65.4,-999.0000,-999.000,    12.9921,-999.000
   06MT18_1,       A01E,     615,          1,         21,         K2,2,19910919,       1859,    52.3267,   -16.9883,       3931,   104.4,  11.7322,  35.5843,2,  35.5890,2,   237.9,2,    4.39,2,   11.23,2,    0.01,2,    0.75,2,   3.098,2,   1.526,2,  2122.6,2,  -999.0,9,-999.000,9,-999.0000,9, -999.00,9,-999.000,  -999.0,9,  -999.0,   106.3,-999.0000,-999.000,    11.7187,-999.000
   06MT18_1,       A01E,     615,          1,         20,        K15,2,19910919,       1859,    52.3267,   -16.9883,       3931,   204.7,  10.7542,  35.4628,2,  35.4650,2,   246.5,2,    4.98,2,   11.72,2,    0.01,2,    0.78,2,   3.245,2,   1.594,2,  2124.2,2,  -999.0,9,   2.124,2,   1.7568,2,   -0.56,2,-999.000,    58.0,2,     5.0,   207.5,   0.0070,   0.180,    10.7292,   0.041
   06MT18_1,       A01E,     615,          1,         18,        K10,2,19910919,       1859,    52.3267,   -16.9883,       3931,   603.5,   8.0868,  35.1166,2,  35.1190,2,   230.9,2,    9.38,2,   16.60,2,    0.00,2,    1.11,2,   2.694,2,   1.305,2,  2148.4,2,  -999.0,9,   1.861,2,   1.7782,2,    3.02,2,   8.112,  -999.0,9,  -999.0,   608.7,   0.0071,   0.170,     8.0236,   0.040
   06MT18_1,       A01E,     615,          1,         17,        B34,2,19910919,       1859,    52.3267,   -16.9883,       3931,   744.6,   7.8591,  35.2481,2,  35.2300,2,   210.2,2,   10.94,2,   18.26,2,    0.00,2,    1.20,2,   1.847,2,   0.848,2,  2166.3,2,  -999.0,9,   1.605,2,   1.7990,2,    6.79,2,-999.000,    -1.0,2,     5.0,   750.2,   0.0072,   0.170,     7.7816,   0.039
   06MT18_1,       A01E,     615,          1,         16,        B53,2,19910919,       1859,    52.3267,   -16.9883,       3931,   992.2,   5.3744,  35.0196,2,  35.0160,2,   237.9,2,   11.53,2,   18.46,2,    0.00,2,    1.24,2,   2.074,2,   0.968,2,  2163.2,2,  -999.0,9,   1.667,2,-999.0000,5,   -9.00,5,   5.366,  -999.0,9,  -999.0,   998.1,-999.0000,-999.000,     5.2882,   0.038
   06MT18_1,       A01E,     615,          1,         15,        B39,2,19910919,       1859,    52.3267,   -16.9883,       3931,  1202.2,   4.4702,  34.9630,2,  34.9650,2,   255.1,2,   11.43,2,   18.07,2,    0.00,2,    1.22,2,   1.862,2,   0.868,2,  2158.8,2,  -999.0,9,-999.000,9,-999.0000,9, -999.00,9,-999.000,  -999.0,9,  -999.0,  1208.1,-999.0000,-999.000,     4.3722,-999.000
   06MT18_1,       A01E,     615,          1,         14,        B42,2,19910919,       1859,    52.3267,   -16.9883,       3931,  1408.5,   3.9486,  34.9192,2,  34.9200,2,   268.1,2,   11.43,2,   17.78,2,    0.00,2,    1.19,2,   1.903,2,   0.899,2,  2153.1,2,  -999.0,9,-999.000,9,-999.0000,9, -999.00,9,   3.954,  -999.0,9,  -999.0,  1414.0,-999.0000,-999.000,     3.8373,-999.000
   06MT18_1,       A01E,     615,          1,         12,        B50,2,19910919,       1859,    52.3267,   -16.9883,       3931,  1809.6,   3.5490,  34.8971,2,  34.9010,2,   278.4,2,   11.33,2,   17.19,2,    0.00,2,    1.17,2,   1.691,2,   0.793,2,  2149.8,2,  -999.0,9,   1.505,2,   1.8010,2,    8.21,2,-999.000,  -999.0,9,  -999.0,  1813.8,   0.0072,   0.180,     3.4062,   0.035
   06MT18_1,       A01E,     615,          1,         11,        B44,2,19910919,       1859,    52.3267,   -16.9883,       3931,  2017.8,   3.5050,  34.9131,2,  34.9150,2,   276.2,2,   12.21,2,   17.29,2,    0.00,2,    1.17,2,   1.275,2,   0.631,2,  2149.9,2,  -999.0,9,   1.331,2,-999.0000,5,   -9.00,5,-999.000,   -26.0,2,     5.0,  2021.0,-999.0000,-999.000,     3.3433,   0.027
   06MT18_1,       A01E,     615,          1,         10,        K19,2,19910919,       1859,    52.3267,   -16.9883,       3931,  2189.3,   3.4900,  34.9340,2,  34.9350,2,   271.4,2,   13.77,2,   17.29,2,    0.00,2,    1.18,2,   0.935,2,   0.434,2,  2152.5,2,  -999.0,9,-999.000,9,-999.0000,9, -999.00,9,   3.492,  -999.0,9,  -999.0,  2191.6,-999.0000,-999.000,     3.3120,-999.000
   06MT18_1,       A01E,     615,          1,          9,        B45,2,19910919,       1859,    52.3267,   -16.9883,       3931,  2395.8,   3.3262,  34.9446,2,  34.9460,2,   268.6,2,   16.41,2,   17.49,2,    0.00,2,    1.20,2,-999.000,9,-999.000,9,  2156.2,2,  -999.0,9,-999.000,9,-999.0000,9, -999.00,9,-999.000,  -999.0,9,  -999.0,  2397.0,-999.0000,-999.000,     3.1307,-999.000
   06MT18_1,       A01E,     615,          1,          8,         K7,2,19910919,       1859,    52.3267,   -16.9883,       3931,  2599.0,   3.1293,  34.9487,2,  34.9510,2,   263.7,2,   20.91,2,   18.07,2,    0.00,2,    1.24,2,   0.613,2,   0.267,3,  2162.5,2,  -999.0,9,   0.705,2,   1.8552,3,    5.68,2,   3.131,  -999.0,9,  -999.0,  2599.1,   0.0074,   0.160,     2.9171,   0.020
   06MT18_1,       A01E,     615,          1,          7,        B52,2,19910919,       1859,    52.3267,   -16.9883,       3931,  2801.7,   2.9654,  34.9504,2,  34.9500,2,   259.5,2,   24.72,2,   18.66,2,    0.00,2,    1.28,2,-999.000,9,-999.000,9,  2168.6,2,  -999.0,9,-999.000,9,-999.0000,9, -999.00,9,-999.000,  -999.0,9,  -999.0,  2800.7,-999.0000,-999.000,     2.7359,-999.000
   06MT18_1,       A01E,     615,          1,          6,        B51,2,19910919,       1859,    52.3267,   -16.9883,       3931,  2999.5,   2.8146,  34.9439,2,  34.9450,2,   254.7,2,   29.70,2,   19.44,2,    0.00,2,    1.35,2,   0.306,2,   0.128,3,  2175.7,2,  -999.0,9,   0.475,2,   1.8106,2,    4.20,2,   2.815,  -999.0,9,  -999.0,  2997.4,   0.0072,   0.170,     2.5679,   0.020
   06MT18_1,       A01E,     615,          1,          5,        B49,2,19910919,       1859,    52.3267,   -16.9883,       3931,  3283.1,   2.6467,  34.9281,2,  34.9300,2,   247.5,2,   37.32,2,   20.81,2,    0.00,2,    1.44,2,   0.124,2,   0.059,3,  2186.4,2,  -999.0,9,-999.000,9,-999.0000,9, -999.00,9,-999.000,  -999.0,9,  -999.0,  3279.7,-999.0000,-999.000,     2.3740,-999.000
   06MT18_1,       A01E,     615,          1,          4,        B43,2,19910919,       1859,    52.3267,   -16.9883,       3931,  3594.5,   2.5168,  34.9118,2,  34.9140,2,   242.4,2,   43.37,2,   21.88,2,    0.00,2,    1.50,2,   0.038,2,   0.015,3,  2196.5,2,  -999.0,9,-999.000,5,   1.8414,2,    2.64,2,   2.519,  -116.0,2,     4.0,  3589.9,   0.0074,   0.220,     2.2136,-999.000
   06MT18_1,       A01E,     615,          1,          3,        K30,2,19910919,       1859,    52.3267,   -16.9883,       3931,  3803.9,   2.4798,  34.9047,2,  34.9070,2,   241.1,2,   45.13,2,   22.08,2,    0.00,2,    1.53,2,   0.029,2,   0.009,3,  2198.1,2,  -999.0,9,-999.000,9,-999.0000,9, -999.00,9,-999.000,  -999.0,9,  -999.0,  3798.8,-999.0000,-999.000,     2.1544,-999.000
   06MT18_1,       A01E,     615,          1,          2,        B46,2,19910919,       1859,    52.3267,   -16.9883,       3931,  3907.5,   2.4788,  34.9029,2,  34.9030,2,   240.6,2,   45.62,2,   22.27,2,    0.00,2,    1.53,2,   0.036,2,   0.019,3,  2200.1,2,  -999.0,9,   0.021,2,   1.8304,2,    2.41,2,-999.000,  -999.0,9,  -999.0,  3902.2,   0.0073,   0.270,     2.1417,   0.001
   06MT18_1,       A01E,     615,          1,          1,        K31,2,19910919,       1859,    52.3267,   -16.9883,       3931,  3984.5,   2.4808,  34.9021,2,  34.9050,2,   240.9,2,   46.01,2,   22.37,2,    0.00,2,    1.54,2,   0.046,2,   0.000,3,  2201.2,2,  -999.0,9,   0.019,2,   1.8353,2,    2.44,2,-999.000,  -121.0,2,     5.0,  3979.2,   0.0073,   0.150,     2.1348,   0.001
   06MT18_1,       A01E,     616,          1,         24,        B41,2,19910920,       0119,    52.3250,   -16.2017,       3465,    32.5,  15.6004,  35.2979,2,  35.3050,2,   243.3,2,    0.88,2,    0.20,2,    0.05,2,    0.16,2,   2.877,2,   1.468,2,  -999.0,9,  -999.0,9,-999.000,9,-999.0000,9, -999.00,9,-999.000,  -999.0,9,  -999.0,    33.7,-999.0000,-999.000,    15.5954,-999.000
   06MT18_1,       A01E,     616,          1,         23,        K23,2,19910920,       0119,    52.3250,   -16.2017,       3465,    62.8,  12.6682,  35.3021,2,  35.3050,2,   230.7,2,    1.86,2,    6.45,2,    1.14,2,    0.60,2,-999.000,9,-999.000,9,  -999.0,9,  -999.0,9,-999.000,9,-999.0000,9, -999.00,9,-999.000,  -999.0,9,  -999.0,    64.3,-999.0000,-999.000,    12.6597,-999.000
   06MT18_1,       A01E,     616,          1,         22,        B38,2,19910920,       0119,    52.3250,   -16.2017,       3465,   102.7,   9.9330,  35.2818,2,  35.2840,2,   250.6,2,    5.18,2,   12.21,2,    0.01,2,    0.84,2,   3.594,2,   1.748,2,  -999.0,9,  -999.0,9,-999.000,9,-999.0000,9, -999.00,9,-999.000,  -999.0,9,  -999.0,   104.6,-999.0000,-999.000,     9.9211,-999.000
   06MT18_1,       A01E,     616,          1,         21,         K2,2,19910920,       0119,    52.3250,   -16.2017,       3465,   202.9,   9.1148,  35.2193,2,  35.2230,2,   256.8,2,    6.35,2,   13.19,2,    0.00,2,    0.89,2,   3.490,2,   1.702,2,  -999.0,9,  -999.0,9,-999.000,9,-999.0000,9, -999.00,9,-999.000,  -999.0,9,  -999.0,   205.7,-999.0000,-999.000,     9.0925,-999.000
   06MT18_1,       A01E,     616,          1,         20,        K15,2,19910920,       0119,    52.3250,   -16.2017,       3465,   303.5,   8.8381,  35.2141,2,  35.2170,2,   252.3,2,    7.33,2,   13.97,2,    0.00,2,    0.94,2,   3.358,2,   1.649,2,  -999.0,9,  -999.0,9,-999.000,9,-999.0000,9, -999.00,9,-999.000,  -999.0,9,  -999.0,   307.1,-999.0000,-999.000,     8.8052,-999.000
   06MT18_1,       A01E,     616,          1,         19,        B33,2,19910920,       0119,    52.3250,   -16.2017,       3465,   404.0,   8.1777,  35.1437,2,  35.1460,2,   236.0,2,    9.09,2,   16.02,2,    0.00,2,    1.07,2,   2.833,2,   1.395,2,  -999.0,9,  -999.0,9,-999.000,9,-999.0000,9, -999.00,9,-999.000,  -999.0,9,  -999.0,   408.2,-999.0000,-999.000,     8.1356,-999.000
   06MT18_1,       A01E,     616,          1,         18,        K10,2,19910920,       0119,    52.3250,   -16.2017,       3465,   502.0,   7.6153,  35.1216,2,  35.1250,2,   221.8,2,   10.65,2,   17.88,2,    0.00,2,    1.17,2,   2.304,2,   1.114,2,  -999.0,9,  -999.0,9,-999.000,9,-999.0000,9, -999.00,9,   7.627,  -999.0,9,  -999.0,   506.7,-999.0000,-999.000,     7.5648,-999.000
   06MT18_1,       A01E,     616,          1,         17,        B34,2,19910920,       0119,    52.3250,   -16.2017,       3465,   604.9,   6.9290,  35.0933,2,  35.0950,2,   220.9,2,   11.23,2,   18.27,2,    0.00,2,    1.22,2,   2.147,2,   0.999,2,  -999.0,9,  -999.0,9,-999.000,9,-999.0000,9, -999.00,9,-999.000,  -999.0,9,  -999.0,   610.1,-999.0000,-999.000,     6.8709,-999.000
   06MT18_1,       A01E,     616,          1,         15,        B39,2,19910920,       0119,    52.3250,   -16.2017,       3465,   900.4,   5.4673,  35.0493,2,  35.0500,2,   235.0,2,   12.02,2,   18.46,2,    0.00,2,    1.23,2,-999.000,9,-999.000,9,  -999.0,9,  -999.0,9,-999.000,9,-999.0000,9, -999.00,9,-999.000,  -999.0,9,  -999.0,   906.3,-999.0000,-999.000,     5.3889,-999.000
   06MT18_1,       A01E,     616,          1,         14,        B42,2,19910920,       0119,    52.3250,   -16.2017,       3465,  1107.8,   4.5731,  34.9754,2,  34.9770,2,   252.4,2,   11.92,2,   18.07,2,    0.00,2,    1.21,2,   1.806,2,   0.860,2,  -999.0,9,  -999.0,9,-999.000,9,-999.0000,9, -999.00,9,   4.577,  -999.0,9,  -999.0,  1113.7,-999.0000,-999.000,     4.4827,-999.000
   06MT18_1,       A01E,     616,          1,         13,         K9,2,19910920,       0119,    52.3250,   -16.2017,       3465,  1311.0,   3.9167,  34.9235,2,  34.9240,2,   268.6,2,   11.72,2,   17.59,2,    0.00,2,    1.18,2,   1.809,2,   0.839,2,  -999.0,9,  -999.0,9,-999.000,9,-999.0000,9, -999.00,9,-999.000,  -999.0,9,  -999.0,  1316.7,-999.0000,-999.000,     3.8144,-999.000
   06MT18_1,       A01E,     616,          1,         12,        B50,2,19910920,       0119,    52.3250,   -16.2017,       3465,  1508.6,   3.6509,  34.9096,2,  34.9100,2,   274.5,2,   11.92,2,   17.29,2,    0.00,2,    1.17,2,-999.000,9,-999.000,9,  -999.0,9,  -999.0,9,-999.000,9,-999.0000,9, -999.00,9,   3.651,  -999.0,9,  -999.0,  1513.8,-999.0000,-999.000,     3.5340,-999.000
   06MT18_1,       A01E,     616,          1,         11,        B44,2,19910920,       0119,    52.3250,   -16.2017,       3465,  1715.9,   3.5030,  34.9164,2,  34.9180,2,   274.8,2,   12.70,2,   17.20,2,    0.00,2,    1.16,2,   1.254,2,   0.587,2,  -999.0,9,  -999.0,9,-999.000,9,-999.0000,9, -999.00,9,-999.000,  -999.0,9,  -999.0,  1720.4,-999.0000,-999.000,     3.3693,-999.000
   06MT18_1,       A01E,     616,          1,         10,        K19,2,19910920,       0119,    52.3250,   -16.2017,       3465,  1917.3,   3.4191,  34.9357,2,  34.9370,2,   271.0,2,   14.46,2,   17.29,2,    0.00,2,    1.17,2,-999.000,9,-999.000,9,  -999.0,9,  -999.0,9,-999.000,9,-999.0000,9, -999.00,9,   3.421,  -999.0,9,  -999.0,  1921.0,-999.0000,-999.000,     3.2680,-999.000
   06MT18_1,       A01E,     616,          1,          9,        B45,2,19910920,       0119,    52.3250,   -16.2017,       3465,  2120.0,   3.2992,  34.9449,2,  34.9470,2,   268.7,2,   16.02,2,   17.39,2,    0.00,2,    1.18,2,   0.697,2,   0.335,2,  -999.0,9,  -999.0,9,-999.000,9,-999.0000,9, -999.00,9,-999.000,  -999.0,9,  -999.0,  2122.7,-999.0000,-999.000,     3.1309,-999.000
   06MT18_1,       A01E,     616,          1,          8,         K7,2,19910920,       0119,    52.3250,   -16.2017,       3465,  2120.0,   3.2992,  34.9449,2,  34.9510,4,   265.9,3,   18.95,4,   17.68,4,    0.00,2,    1.21,3,-999.000,9,-999.000,9,  -999.0,9,  -999.0,9,-999.000,9,-999.0000,9, -999.00,9,-999.000,  -999.0,9,  -999.0,  2122.7,-999.0000,-999.000,     3.1308,-999.000
   06MT18_1,       A01E,     616,          1,          7,        B52,2,19910920,       0119,    52.3250,   -16.2017,       3465,  2518.8,   2.9974,  34.9500,2,  34.9510,2,   261.1,2,   23.06,2,   18.86,2,    0.00,2,    1.25,2,   0.459,2,   0.215,2,  -999.0,9,  -999.0,9,-999.000,9,-999.0000,9, -999.00,9,-999.000,  -999.0,9,  -999.0,  2519.3,-999.0000,-999.000,     2.7956,-999.000
   06MT18_1,       A01E,     616,          1,          6,        B51,2,19910920,       0119,    52.3250,   -16.2017,       3465,  2720.7,   2.8116,  34.9432,2,  34.9520,4,   253.3,2,   30.68,2,   19.64,2,    0.00,2,    1.35,2,-999.000,9,-999.000,9,  -999.0,9,  -999.0,9,-999.000,9,-999.0000,9, -999.00,9,   2.813,  -999.0,9,  -999.0,  2720.1,-999.0000,-999.000,     2.5933,-999.000
   06MT18_1,       A01E,     616,          1,          5,        B49,2,19910920,       0119,    52.3250,   -16.2017,       3465,  2928.8,   2.6577,  34.9321,2,  34.9330,2,   247.5,2,   36.74,2,   20.71,2,    0.00,2,    1.42,2,   0.101,2,   0.047,2,  -999.0,9,  -999.0,9,-999.000,9,-999.0000,9, -999.00,9,-999.000,  -999.0,9,  -999.0,  2927.1,-999.0000,-999.000,     2.4216,-999.000
   06MT18_1,       A01E,     616,          1,          4,        B43,2,19910920,       0119,    52.3250,   -16.2017,       3465,  3125.5,   2.5598,  34.9207,2,  34.9220,2,   244.4,2,   40.74,2,   21.49,2,    0.00,2,    1.48,2,   0.060,2,   0.033,2,  -999.0,9,  -999.0,9,-999.000,9,-999.0000,9, -999.00,9,   2.562,  -999.0,9,  -999.0,  3122.8,-999.0000,-999.000,     2.3057,-999.000
   06MT18_1,       A01E,     616,          1,          3,        K30,2,19910920,       0119,    52.3250,   -16.2017,       3465,  3384.2,   2.4388,  34.9053,2,  34.9070,2,   240.4,2,   44.94,2,   22.28,2,    0.00,2,    1.52,2,   0.045,2,   0.022,2,  -999.0,9,  -999.0,9,-999.000,9,-999.0000,9, -999.00,9,-999.000,  -999.0,9,  -999.0,  3380.3,-999.0000,-999.000,     2.1604,-999.000
   06MT18_1,       A01E,     616,          1,          2,        B46,2,19910920,       0119,    52.3250,   -16.2017,       3465,  3436.9,   2.4249,  34.9031,2,  34.9050,2,   239.7,2,   45.82,2,   22.47,2,    0.00,2,    1.53,2,   0.038,2,   0.021,2,  -999.0,9,  -999.0,9,-999.000,9,-999.0000,9, -999.00,9,-999.000,  -999.0,9,  -999.0,  3432.8,-999.0000,-999.000,     2.1412,-999.000
   06MT18_1,       A01E,     616,          1,          1,        K31,2,19910920,       0119,    52.3250,   -16.2017,       3465,  3493.0,   2.4289,  34.9032,2,  34.9050,2,   239.7,2,   45.82,2,   22.37,2,    0.00,2,    1.53,2,   0.057,2,   0.021,2,  -999.0,9,  -999.0,9,-999.000,9,-999.0000,9, -999.00,9,-999.000,  -999.0,9,  -999.0,  3488.7,-999.0000,-999.000,     2.1390,-999.000