BOTTLE,20020919WHPSIOSA
EXPOCODE,SECT_ID,STNNBR,CASTNO,SAMPNO,BTLNBR,BTLNBR_FLAG_W,DATE,TIME,LATITUDE,LONGITUDE,DEPTH,CTDPRS,CTDTMP,CTDSAL,CTDSAL_FLAG_W,SALNTY,SALNTY_FLAG_W,OXYGEN,OXYGEN_FLAG_W,SILCAT,SILCAT_FLAG_W,NITRAT,NITRAT_FLAG_W,NITRIT,NITRIT_FLAG_W,PHSPHT,PHSPHT_FLAG_W,CFC-11,CFC-11_FLAG_W,CFC-12,CFC-12_FLAG_W,TCARBN,TCARBN_FLAG_W,ALKALI,ALKALI_FLAG_W,TRITUM,TRITUM_FLAG_W,HELIUM,HELIUM_FLAG_W,DELHE3,DELHE3_FLAG_W,REVTMP,DELC14,DELC14_FLAG_W,C14ERR,CTDRAW,HELIER,DELHER,THETA,TRITER
,,,,,,,,,,,METERS,DBAR,ITS-90,PSS-78,,PSS-78,,UMOL/KG,,UMOL/KG,,UMOL/KG,,UMOL/KG,,UMOL/KG,,PMOL/KG,,PMOL/KG,,UMOL/KG,,UMOL/KG,,TU,,NMOL/KG,,PERCNT,,ITS-90,/MILLE,,/MILLE,DBAR,NMOL/KG,PERCNT,DEG,TU
   06MT18_1,       A01E,     603,          1,         24,        B41,2,19910916,       1236,    52.8583,   -22.3767,       4005,    34.5,  12.8061,  35.3617,2,  35.3700,2,   242.0,2,    1.66,2,    5.76,2,    0.46,2,    0.54,2,   3.225,2,   1.626,2,  2096.5,2,  -999.0,9,   2.155,2,   1.7336,2,   -1.50,2,-999.000,  -999.0,9,  -999.0,    35.8,   0.0069,   0.140,    12.8014,   0.031
   06MT18_1,       A01E,     603,          1,         23,        K23,2,19910916,       1236,    52.8583,   -22.3767,       4005,    64.6,  10.9290,  35.4655,2,  35.4690,2,   243.0,2,    4.30,2,   11.72,2,    0.02,2,    0.78,2,   3.254,2,   1.614,2,  2127.2,2,  -999.0,9,-999.000,9,-999.0000,9, -999.00,9,-999.000,  -999.0,9,  -999.0,    66.2,-999.0000,-999.000,    10.9211,-999.000
   06MT18_1,       A01E,     603,          1,         21,        B35,2,19910916,       1236,    52.8583,   -22.3767,       4005,   204.9,  10.0998,  35.3803,2,  35.3820,2,   257.8,2,    5.18,2,   11.72,2,    0.01,2,    0.80,2,   3.360,2,   1.662,2,  2124.5,2,  -999.0,9,   2.111,2,   1.7623,2,   -0.84,2,-999.000,  -999.0,9,  -999.0,   207.7,   0.0070,   0.210,    10.0757,   0.029
   06MT18_1,       A01E,     603,          1,         20,        B48,4,19910916,       1236,    52.8583,   -22.3767,       4005,   304.0,-999.0000,-999.0000,9,  35.4350,2,   257.8,4,    4.69,2,   11.43,2,    0.01,2,    0.76,2,   3.323,2,   1.641,2,  2124.4,2,  -999.0,9,   1.949,2,   1.7575,2,   -0.61,2,-999.000,  -999.0,9,  -999.0,   307.6,   0.0070,   0.130,     -999.0,   0.282
   06MT18_1,       A01E,     603,          1,         19,        K18,2,19910916,       1236,    52.8583,   -22.3767,       4005,   304.0,  10.2577,  35.4334,2,  35.4350,2,   258.9,2,    4.69,2,   11.43,2,    0.01,2,    0.76,2,   3.478,3,   1.658,2,  -999.0,9,  -999.0,9,-999.000,9,-999.0000,9, -999.00,9,-999.000,    52.0,2,     5.0,   307.6,-999.0000,-999.000,    10.2215,-999.000
   06MT18_1,       A01E,     603,          1,         18,        B40,2,19910916,       1236,    52.8583,   -22.3767,       4005,   505.4,   9.2377,  35.2802,2,  35.2820,2,   251.3,2,    6.74,2,   13.77,2,    0.01,2,    0.92,2,-999.000,9,-999.000,9,  2134.7,2,  -999.0,9,-999.000,9,-999.0000,9, -999.00,9,   9.245,  -999.0,9,  -999.0,   510.1,-999.0000,-999.000,     9.1807,-999.000
   06MT18_1,       A01E,     603,          1,         17,        K17,2,19910916,       1236,    52.8583,   -22.3767,       4005,   708.5,   8.0299,  35.1670,2,  35.1620,2,   232.3,2,    9.18,2,   16.80,2,    0.00,2,    1.12,2,   2.569,2,   1.238,2,  2153.8,2,  -999.0,9,   1.812,2,   1.7765,2,    3.82,2,-999.000,  -999.0,9,  -999.0,   714.0,   0.0071,   0.170,     7.9555,   0.048
   06MT18_1,       A01E,     603,          1,         16,        B53,2,19910916,       1236,    52.8583,   -22.3767,       4005,   907.4,   6.5553,  35.1114,2,  35.1100,2,   222.0,2,   11.43,2,   18.76,2,    0.00,2,    1.25,2,-999.000,9,-999.000,9,  2168.3,2,  -999.0,9,-999.000,9,-999.0000,9, -999.00,9,   6.560,  -999.0,9,  -999.0,   913.3,-999.0000,-999.000,     6.4688,-999.000
   06MT18_1,       A01E,     603,          1,         15,        B39,2,19910916,       1236,    52.8583,   -22.3767,       4005,  1208.7,   4.5981,  34.9711,2,  34.9690,2,   252.1,2,   11.33,2,   18.37,2,    0.00,2,    1.23,2,   1.964,2,   0.916,2,  2163.5,2,  -999.0,9,-999.000,5,   1.7960,2,   -9.00,2,-999.000,  -999.0,9,  -999.0,  1214.6,   0.0072,-999.000,     4.4983,-999.000
   06MT18_1,       A01E,     603,          1,         14,        B42,2,19910916,       1236,    52.8583,   -22.3767,       4005,  1513.4,   3.8217,  34.9092,2,  34.9080,2,   272.5,2,   11.04,2,   17.69,2,    0.00,2,    1.19,2,-999.000,9,-999.000,9,  2154.6,2,  -999.0,9,-999.000,9,-999.0000,9, -999.00,9,   3.823,  -999.0,9,  -999.0,  1518.6,-999.0000,-999.000,     3.7025,-999.000
   06MT18_1,       A01E,     603,          1,         13,         K9,2,19910916,       1236,    52.8583,   -22.3767,       4005,  1814.2,   3.5330,  34.8928,2,  34.8920,2,   281.5,2,   11.04,2,   17.29,2,    0.00,2,    1.17,2,   1.910,2,   0.888,2,  2152.0,2,  -999.0,9,   1.675,2,   1.7941,2,    7.77,2,-999.000,  -999.0,9,  -999.0,  1818.3,   0.0072,   0.170,     3.3900,   0.041
   06MT18_1,       A01E,     603,          1,         12,        B50,2,19910916,       1236,    52.8583,   -22.3767,       4005,  2120.3,   3.5070,  34.9203,2,  34.9200,2,   275.6,2,   12.31,2,   17.29,2,    0.00,2,    1.17,2,   1.133,2,   0.534,2,  2151.9,2,  -999.0,9,   1.238,2,   1.8080,2,    8.37,2,   3.509,  -999.0,9,  -999.0,  2123.0,   0.0072,   0.180,     3.3355,   0.022
   06MT18_1,       A01E,     603,          1,         11,        B44,2,19910916,       1236,    52.8583,   -22.3767,       4005,  2423.6,   3.3971,  34.9376,2,  34.9360,2,   273.7,2,   13.58,2,   17.29,2,    0.00,2,    1.18,2,   0.853,2,   0.414,2,  2157.5,2,  -999.0,9,   1.035,2,-999.0000,5,   -9.00,5,-999.000,   -37.0,2,     6.0,  2424.7,-999.0000,-999.000,     3.1976,   0.023
   06MT18_1,       A01E,     603,          1,         10,        K19,2,19910916,       1236,    52.8583,   -22.3767,       4005,  2727.5,   3.2232,  34.9467,2,  34.9470,2,   272.0,2,   15.05,2,   17.20,2,    0.00,2,    1.18,2,-999.000,9,-999.000,9,  2157.9,2,  -999.0,9,-999.000,9,-999.0000,9, -999.00,9,   3.224,  -999.0,9,  -999.0,  2726.9,-999.0000,-999.000,     2.9961,-999.000
   06MT18_1,       A01E,     603,          1,          9,        B45,2,19910916,       1236,    52.8583,   -22.3767,       4005,  3028.6,   2.9894,  34.9516,2,  34.9530,2,   266.7,2,   20.32,2,   17.98,2,    0.00,2,    1.22,2,   0.703,2,   0.345,2,  2170.7,2,  -999.0,9,   0.808,2,   1.8039,2,    6.08,2,-999.000,   -54.0,2,     7.0,  3026.4,   0.0072,   0.190,     2.7358,   0.022
   06MT18_1,       A01E,     603,          1,          8,        K22,2,19910916,       1236,    52.8583,   -22.3767,       4005,  3226.8,   2.8765,  34.9482,2,  34.9500,2,   262.4,2,   24.23,2,   18.47,2,    0.00,2,    1.26,2,   0.607,2,   0.295,2,  2172.1,2,  -999.0,9,   0.710,2,-999.0000,5,   -9.00,5,   2.880,  -999.0,9,  -999.0,  3223.6,-999.0000,-999.000,     2.6044,   0.005
   06MT18_1,       A01E,     603,          1,          7,        B52,2,19910916,       1236,    52.8583,   -22.3767,       4005,  3425.8,   2.8026,  34.9440,2,  34.9460,2,   259.6,2,   27.26,2,   18.95,2,    0.00,2,    1.30,2,   0.576,2,   0.274,2,  2176.9,2,  -999.0,9,-999.000,9,-999.0000,9, -999.00,9,-999.000,  -999.0,9,  -999.0,  3421.8,-999.0000,-999.000,     2.5107,-999.000
   06MT18_1,       A01E,     603,          1,          6,        B51,2,19910916,       1236,    52.8583,   -22.3767,       4005,  3632.1,   2.7426,  34.9363,2,  34.9390,2,   255.6,2,   30.97,2,   19.54,2,    0.00,2,    1.35,2,   0.479,2,   0.239,2,  2180.8,2,  -999.0,9,   0.535,2,   1.8241,2,    4.79,2,   2.750,   -78.0,2,     5.0,  3627.4,   0.0073,   0.210,     2.4294,   0.005
   06MT18_1,       A01E,     603,          1,          5,        B49,2,19910916,       1236,    52.8583,   -22.3767,       4005,  3740.3,   2.6937,  34.9288,2,  34.9310,2,   251.9,2,   34.88,2,   20.42,2,    0.00,2,    1.41,2,-999.000,9,-999.000,9,  2191.1,2,  -999.0,9,-999.000,9,-999.0000,9, -999.00,9,-999.000,  -999.0,9,  -999.0,  3735.3,-999.0000,-999.000,     2.3696,-999.000
   06MT18_1,       A01E,     603,          1,          4,        B43,2,19910916,       1236,    52.8583,   -22.3767,       4005,  3850.3,   2.6277,  34.9208,2,  34.9220,2,   246.2,2,   39.47,2,   21.30,2,    0.00,2,    1.47,2,   0.185,2,   0.089,2,  2194.9,2,  -999.0,9,   0.222,2,   1.8357,2,    3.35,2,   2.632,  -122.0,3,     5.0,  3845.1,   0.0073,   0.140,     2.2930,   0.002
   06MT18_1,       A01E,     603,          1,          3,        K30,2,19910916,       1236,    52.8583,   -22.3767,       4005,  3957.4,   2.5598,  34.9104,2,  34.9140,2,   241.8,2,   43.58,2,   22.08,2,    0.00,2,    1.51,2,   0.082,2,   0.038,2,  2201.2,2,  -999.0,9,   0.095,2,   1.8407,2,    2.85,2,-999.000,  -999.0,9,  -999.0,  3952.1,   0.0074,   0.230,     2.2147,   0.002
   06MT18_1,       A01E,     603,          1,          2,        B46,2,19910916,       1236,    52.8583,   -22.3767,       4005,  4010.1,   2.5508,  34.9100,2,  34.9120,2,   241.3,2,   44.46,2,   22.28,2,    0.00,2,    1.53,2,   0.076,2,   0.028,2,  2201.8,2,  -999.0,9,   0.091,2,   1.8350,2,    2.60,2,   2.558,  -122.0,2,     6.0,  4004.7,   0.0073,   0.190,     2.1999,   0.003
   06MT18_1,       A01E,     603,          1,          1,        K31,2,19910916,       1236,    52.8583,   -22.3767,       4005,  4062.8,   2.5358,  34.9064,2,  34.9080,2,   240.7,2,   45.14,2,   22.38,2,    0.00,2,    1.54,2,   0.064,2,   0.021,2,  2202.4,2,  -999.0,9,   0.049,2,   1.8409,2,    2.72,2,-999.000,  -999.0,9,  -999.0,  4057.4,   0.0074,   0.230,     2.1793,   0.001
   06MT18_1,       A01E,     604,          1,         24,        B41,2,19910916,       1846,    52.6550,   -21.6133,       3990,    29.6,  12.9490,  34.7976,2,  34.7990,2,   261.8,2,    0.39,2,    0.88,2,    0.09,2,    0.20,2,   3.201,2,   1.663,2,  -999.0,9,  -999.0,9,-999.000,9,-999.0000,9, -999.00,9,-999.000,  -999.0,9,  -999.0,    30.8,-999.0000,-999.000,    12.9450,-999.000
   06MT18_1,       A01E,     604,          1,         23,        K23,2,19910916,       1846,    52.6550,   -21.6133,       3990,    60.0,  10.2477,  35.0662,2,  35.0710,2,   230.8,2,    5.47,2,   11.92,2,    0.03,2,    0.83,2,   3.071,2,   1.555,2,  -999.0,9,  -999.0,9,-999.000,9,-999.0000,9, -999.00,9,-999.000,  -999.0,9,  -999.0,    61.5,-999.0000,-999.000,    10.2407,-999.000
   06MT18_1,       A01E,     604,          1,         22,         K3,4,19910916,       1846,    52.6550,   -21.6133,       3990,   101.5,-999.0000,-999.0000,9,  35.1830,3,   224.6,4,    7.03,3,   14.55,2,    0.02,2,    0.99,2,-999.000,9,-999.000,9,  -999.0,9,  -999.0,9,-999.000,9,-999.0000,9, -999.00,9,-999.000,  -999.0,9,  -999.0,   103.4,-999.0000,-999.000,     -999.0,-999.000
   06MT18_1,       A01E,     604,          1,         21,        B35,2,19910916,       1846,    52.6550,   -21.6133,       3990,   101.5,   9.7122,  35.1776,2,  35.1810,2,   225.7,2,    7.23,2,   14.55,2,    0.02,2,    0.99,2,   2.784,2,   1.421,2,  -999.0,9,  -999.0,9,-999.000,9,-999.0000,9, -999.00,9,-999.000,  -999.0,9,  -999.0,   103.4,-999.0000,-999.000,     9.7007,-999.000
   06MT18_1,       A01E,     604,          1,         20,        B48,2,19910916,       1846,    52.6550,   -21.6133,       3990,   202.8,   9.3386,  35.2134,2,  35.2150,2,   239.8,2,    7.23,2,   14.45,2,    0.01,2,    0.98,2,   2.919,2,   1.507,2,  -999.0,9,  -999.0,9,-999.000,9,-999.0000,9, -999.00,9,-999.000,  -999.0,9,  -999.0,   205.6,-999.0000,-999.000,     9.3160,-999.000
   06MT18_1,       A01E,     604,          1,         19,        K18,2,19910916,       1846,    52.6550,   -21.6133,       3990,   397.0,   7.4804,  34.9863,2,  34.9860,2,   242.5,2,    9.08,2,   16.51,2,    0.01,2,    1.11,2,-999.000,9,-999.000,9,  -999.0,9,  -999.0,9,-999.000,9,-999.0000,9, -999.00,9,-999.000,  -999.0,9,  -999.0,   401.2,-999.0000,-999.000,     7.4412,-999.000
   06MT18_1,       A01E,     604,          1,         18,        B40,2,19910916,       1846,    52.6550,   -21.6133,       3990,   598.4,   6.3335,  34.9695,2,  34.9700,2,   237.6,2,   10.55,2,   17.87,2,    0.01,2,    1.20,2,   2.672,2,   1.315,2,  -999.0,9,  -999.0,9,-999.000,9,-999.0000,9, -999.00,9,   6.341,  -999.0,9,  -999.0,   603.5,-999.0000,-999.000,     6.2788,-999.000
   06MT18_1,       A01E,     604,          1,         17,        K17,2,19910916,       1846,    52.6550,   -21.6133,       3990,   791.4,   5.0227,  34.9466,2,  34.9450,2,   243.4,2,   11.53,2,   18.46,2,    0.01,2,    1.25,2,-999.000,9,-999.000,9,  -999.0,9,  -999.0,9,-999.000,9,-999.0000,9, -999.00,9,-999.000,  -999.0,9,  -999.0,   797.1,-999.0000,-999.000,     4.9573,-999.000
   06MT18_1,       A01E,     604,          1,         16,        B53,2,19910916,       1846,    52.6550,   -21.6133,       3990,   983.3,   4.3733,  34.9410,2,  34.9390,2,   257.2,2,   11.23,2,   18.07,2,    0.01,2,    1.21,2,   2.147,2,   1.034,2,  -999.0,9,  -999.0,9,-999.000,9,-999.0000,9, -999.00,9,   4.374,  -999.0,9,  -999.0,   989.2,-999.0000,-999.000,     4.2955,-999.000
   06MT18_1,       A01E,     604,          1,         15,        B39,2,19910916,       1846,    52.6550,   -21.6133,       3990,  1193.2,   3.9097,  34.9097,2,  34.9080,2,   269.8,2,   10.94,2,   17.68,2,    0.01,2,    1.19,2,   2.179,2,   1.049,2,  -999.0,9,  -999.0,9,-999.000,9,-999.0000,9, -999.00,9,-999.000,  -999.0,9,  -999.0,  1199.1,-999.0000,-999.000,     3.8177,-999.000
   06MT18_1,       A01E,     604,          1,         14,        B42,2,19910916,       1846,    52.6550,   -21.6133,       3990,  1399.5,   3.7098,  34.9027,2,  34.9000,2,   274.8,2,   11.04,2,   17.39,2,    0.01,2,    1.18,2,   1.943,2,   0.943,2,  -999.0,9,  -999.0,9,-999.000,9,-999.0000,9, -999.00,9,   3.710,  -999.0,9,  -999.0,  1405.0,-999.0000,-999.000,     3.6019,-999.000
   06MT18_1,       A01E,     604,          1,         13,         K9,2,19910916,       1846,    52.6550,   -21.6133,       3990,  1588.1,   3.5909,  34.8993,2,  34.8960,2,   278.2,2,   11.04,2,   17.19,2,    0.01,2,    1.17,2,   1.780,2,   0.854,2,  -999.0,9,  -999.0,9,-999.000,9,-999.0000,9, -999.00,9,-999.000,  -999.0,9,  -999.0,  1593.1,-999.0000,-999.000,     3.4677,-999.000
   06MT18_1,       A01E,     604,          1,         12,        B50,2,19910916,       1846,    52.6550,   -21.6133,       3990,  1792.1,   3.4471,  34.8909,2,  34.8860,2,   281.8,2,   11.04,2,   17.00,2,    0.00,2,    1.16,2,-999.000,9,-999.000,9,  -999.0,9,  -999.0,9,-999.000,9,-999.0000,9, -999.00,9,-999.000,  -999.0,9,  -999.0,  1796.3,-999.0000,-999.000,     3.3073,-999.000
   06MT18_1,       A01E,     604,          1,         11,        B44,2,19910916,       1846,    52.6550,   -21.6133,       3990,  1994.2,   3.4341,  34.9056,2,  34.9020,2,   279.6,2,   11.62,2,   17.00,2,    0.00,2,    1.16,2,   1.549,2,   0.748,2,  -999.0,9,  -999.0,9,-999.000,9,-999.0000,9, -999.00,9,-999.000,  -999.0,9,  -999.0,  1997.5,-999.0000,-999.000,     3.2757,-999.000
   06MT18_1,       A01E,     604,          1,         10,        K19,2,19910916,       1846,    52.6550,   -21.6133,       3990,  2189.0,   3.4211,  34.9227,2,  34.9230,2,   275.9,2,   12.31,2,   17.00,2,    0.00,2,    1.16,2,-999.000,9,-999.000,9,  -999.0,9,  -999.0,9,-999.000,9,-999.0000,9, -999.00,9,   3.421,  -999.0,9,  -999.0,  2191.3,-999.0000,-999.000,     3.2443,-999.000
   06MT18_1,       A01E,     604,          1,          9,        B45,2,19910916,       1846,    52.6550,   -21.6133,       3990,  2395.2,   3.3351,  34.9402,2,  34.9390,2,   272.9,2,   13.67,2,   17.09,2,    0.00,2,    1.16,2,   0.899,2,   0.419,2,  -999.0,9,  -999.0,9,-999.000,9,-999.0000,9, -999.00,9,-999.000,  -999.0,9,  -999.0,  2396.4,-999.0000,-999.000,     3.1395,-999.000
   06MT18_1,       A01E,     604,          1,          7,        B52,2,19910916,       1846,    52.6550,   -21.6133,       3990,  2597.3,   3.1993,  34.9460,2,  34.9470,2,   271.9,2,   15.14,2,   17.09,2,    0.00,2,    1.17,2,   0.830,2,   0.389,2,  -999.0,9,  -999.0,9,-999.000,9,-999.0000,9, -999.00,9,-999.000,  -999.0,9,  -999.0,  2597.4,-999.0000,-999.000,     2.9859,-999.000
   06MT18_1,       A01E,     604,          1,          8,        K22,2,19910916,       1846,    52.6550,   -21.6133,       3990,  2598.8,   3.2003,  34.9467,2,  34.9470,2,   271.8,2,   14.94,2,   17.09,2,    0.00,2,    1.17,2,-999.000,9,-999.000,9,  -999.0,9,  -999.0,9,-999.000,9,-999.0000,9, -999.00,9,-999.000,  -999.0,9,  -999.0,  2598.9,-999.0000,-999.000,     2.9868,-999.000
   06MT18_1,       A01E,     604,          1,          6,        B51,2,19910916,       1846,    52.6550,   -21.6133,       3990,  3089.2,   2.9105,  34.9506,2,  34.9510,2,   264.0,2,   22.47,2,   17.97,2,    0.00,2,    1.24,2,   0.693,2,   0.320,2,  -999.0,9,  -999.0,9,-999.000,9,-999.0000,9, -999.00,9,   2.920,  -999.0,9,  -999.0,  3086.7,-999.0000,-999.000,     2.6522,-999.000
   06MT18_1,       A01E,     604,          1,          5,        B49,2,19910916,       1846,    52.6550,   -21.6133,       3990,  3394.7,   2.7826,  34.9440,2,  34.9440,2,   258.7,2,   27.64,2,   18.85,2,    0.00,2,    1.30,2,   0.594,2,   0.273,2,  -999.0,9,  -999.0,9,-999.000,9,-999.0000,9, -999.00,9,-999.000,  -999.0,9,  -999.0,  3390.8,-999.0000,-999.000,     2.4945,-999.000
   06MT18_1,       A01E,     604,          1,          4,        B43,2,19910916,       1846,    52.6550,   -21.6133,       3990,  3696.9,   2.6617,  34.9260,2,  34.9270,2,   249.6,2,   36.63,2,   20.61,2,    0.00,2,    1.43,2,   0.595,2,   0.273,2,  -999.0,9,  -999.0,9,-999.000,9,-999.0000,9, -999.00,9,   2.665,  -999.0,9,  -999.0,  3692.0,-999.0000,-999.000,     2.3434,-999.000
   06MT18_1,       A01E,     604,          1,          3,        K30,2,19910916,       1846,    52.6550,   -21.6133,       3990,  3895.5,   2.5528,  34.9126,2,  34.9130,2,   242.5,2,   42.98,2,   21.78,2,    0.00,2,    1.51,2,   0.228,2,   0.126,2,  -999.0,9,  -999.0,9,-999.000,9,-999.0000,9, -999.00,9,-999.000,  -999.0,9,  -999.0,  3890.3,-999.0000,-999.000,     2.2150,-999.000
   06MT18_1,       A01E,     604,          1,          2,        B46,2,19910916,       1846,    52.6550,   -21.6133,       3990,  3998.0,   2.5258,  34.9078,2,  34.9080,2,   240.6,2,   45.03,2,   22.27,2,    0.00,2,    1.53,2,   0.042,2,   0.023,2,  -999.0,9,  -999.0,9,-999.000,9,-999.0000,9, -999.00,9,   2.533,  -999.0,9,  -999.0,  3992.7,-999.0000,-999.000,     2.1770,-999.000
   06MT18_1,       A01E,     604,          1,          1,        K31,2,19910916,       1846,    52.6550,   -21.6133,       3990,  4048.7,   2.5248,  34.9059,2,  34.9080,2,   241.9,2,   45.13,2,   22.27,2,    0.00,2,    1.54,2,   0.045,2,   0.019,2,  -999.0,9,  -999.0,9,-999.000,9,-999.0000,9, -999.00,9,-999.000,  -999.0,9,  -999.0,  4043.3,-999.0000,-999.000,     2.1702,-999.000